BOTTLE,20130510GEMDJMAYT
EXPOCODE,SECT_ID,STNNBR,CASTNO,SAMPNO,BTLNBR,BTLNBR_FLAG_W,DATE,TIME,LATITUDE,LONGITUDE,DEPTH,CTDPRS,CTDTMP,CTDSAL,CTDSAL_FLAG_W,CTDOXY,CTDOXY_FLAG_W,SALNTY,SALNTY_FLAG_W,OXYGEN,OXYGEN_FLAG_W,SILCAT,SILCAT_FLAG_W,NITRAT,NITRAT_FLAG_W,NO2+NO3,NO2+NO3_FLAG_W,NITRIT,NITRIT_FLAG_W,PHSPHT,PHSPHT_FLAG_W,CFC-11,CFC-11_FLAG_W,CFC-12,CFC-12_FLAG_W,DELC13,DELC13_FLAG_W,TCARBN,TCARBN_FLAG_W,ALKALI,ALKALI_FLAG_W,PH,PH_FLAG_W,PH_TMP,PH_SCALE,PH_NBS,PH_NBS_FLAG_W,C13ERR,TOTALP,TOTALP_FLAG_W,AMMONI,AMMONI_FLAG_W,CHLORA,CHLORA_FLAG_W,PPHYTN,PPHYTN_FLAG_W,REVPRS,REVTMP,DEPTH_,DEPTH_FLAG,CTDDEP,THETA,SIGTHT,DOC,DOC_FLAG_W
,,,,,,,GMT,GMT,,,METER,DBAR,ITS-90,PSS-78,,UMOL/KG,,PSS-78,,UMOL/KG,,UMOL/KG,,UMOL/KG,,UMOL/KG,,UMOL/KG,,UMOL/KG,,PMOL/KG,,PMOL/KG,,/MILLE,,UMOL/KG,,UMOL/KG,,25_DEG_C,,DEG_C,,,,/MILLE,UMOL/KG,,UMOL/KG,,UG/L,,UG/L,,DBAR,ITS-90,METERS,,METERS,DEG_C,,UMOL/L,
       RF97-09,  165E,RF-0478,  1,     -9,      -9,5,19970924,1205, 25.0187, 164.9660, 5945,      0.0,  28.3650,  34.9254,2,   -999.0,9,-999.0000,9,    195.4,2,     1.09,2,  -999.00,9,     0.11,2,     0.01,2,     0.05,2, -999.000,9, -999.000,9,  -999.00,9,   -999.0,9,   -999.0,9,-999.0000,9,   -999.0,  9,     8.25,2,   -999.0,  -999.00,9,  -999.00,9,     0.04,2,     0.01,2,   -999.0,-999.0000, -999,9,    0,  28.3650,  22.2188,   -999.0,9
       RF97-09,  165E,RF-0478,  1,     24,02-12830,2,19970924,1203, 25.0187, 164.9660, 5945,      9.6,  28.3720,  34.9790,2,   -999.0,9,  34.9819,2,    195.4,2,     1.12,2,  -999.00,9,     0.09,2,     0.00,2,     0.04,2, -999.000,9, -999.000,9,  -999.00,9,   -999.0,9,   -999.0,9,-999.0000,9,   -999.0,  9,     8.25,2,   -999.0,  -999.00,9,  -999.00,9,     0.04,2,     0.02,2,   -999.0,-999.0000, -999,9,   10,  28.3698,  22.2575,   -999.0,9
       RF97-09,  165E,RF-0478,  1,     23,02-13591,2,19970924,1201, 25.0187, 164.9660, 5945,     25.0,  28.3696,  34.9775,2,   -999.0,9,-999.0000,9,    198.4,2,     0.89,2,  -999.00,9,     0.07,2,     0.00,2,     0.03,2, -999.000,9, -999.000,9,  -999.00,9,   -999.0,9,   -999.0,9,-999.0000,9,   -999.0,  9,     8.25,2,   -999.0,  -999.00,9,  -999.00,9,     0.03,2,     0.03,2,   -999.0,-999.0000, -999,9,   25,  28.3636,  22.2584,   -999.0,9
       RF97-09,  165E,RF-0478,  1,     22,02-12828,2,19970924,1200, 25.0187, 164.9660, 5945,     50.0,  26.9123,  35.1078,2,   -999.0,9,-999.0000,9,    212.6,2,     1.29,2,  -999.00,9,     0.06,2,     0.01,2,     0.03,2, -999.000,9, -999.000,9,  -999.00,9,   -999.0,9,   -999.0,9,-999.0000,9,   -999.0,  9,     8.24,2,   -999.0,  -999.00,9,  -999.00,9,     0.07,2,     0.03,2,   -999.0,-999.0000, -999,9,   50,  26.9009,  22.8306,   -999.0,9
       RF97-09,  165E,RF-0478,  1,     21,02-12827,2,19970924,1159, 25.0187, 164.9660, 5945,     75.8,  23.6727,  35.1297,2,   -999.0,9,-999.0000,9,    219.6,2,     1.57,2,  -999.00,9,     0.02,2,     0.00,2,     0.03,2, -999.000,9, -999.000,9,  -999.00,9,   -999.0,9,   -999.0,9,-999.0000,9,   -999.0,  9,     8.21,2,   -999.0,  -999.00,9,  -999.00,9,     0.09,2,     0.07,2,   -999.0,-999.0000, -999,9,   75,  23.6569,  23.8408,   -999.0,9
       RF97-09,  165E,RF-0478,  1,     20,02-12826,2,19970924,1157, 25.0187, 164.9660, 5945,    100.3,  21.9127,  35.1626,2,   -999.0,9,  35.1595,2,    218.6,2,     1.85,2,  -999.00,9,     0.05,2,     0.01,2,     0.04,2, -999.000,9, -999.000,9,  -999.00,9,   -999.0,9,   -999.0,9,-999.0000,9,   -999.0,  9,     8.18,2,   -999.0,  -999.00,9,  -999.00,9,     0.14,2,     0.13,2,   -999.0,-999.0000, -999,9,  100,  21.8929,  24.3714,   -999.0,9
       RF97-09,  165E,RF-0478,  1,     19,02-12825,2,19970924,1156, 25.0187, 164.9660, 5945,    124.4,  20.4171,  35.1046,2,   -999.0,9,-999.0000,9,    192.0,2,     2.04,2,  -999.00,9,     1.16,2,     0.05,2,     0.16,2, -999.000,9, -999.000,9,  -999.00,9,   -999.0,9,   -999.0,9,-999.0000,9,   -999.0,  9,     8.13,2,   -999.0,  -999.00,9,  -999.00,9,     0.24,2,     0.28,2,   -999.0,-999.0000, -999,9,  124,  20.3938,  24.7370,   -999.0,9
       RF97-09,  165E,RF-0478,  1,     18,02-12824,2,19970924,1155, 25.0187, 164.9660, 5945,    150.3,  18.6620,  34.9552,2,   -999.0,9,-999.0000,9,    215.1,2,     2.33,2,  -999.00,9,     0.39,2,     0.15,2,     0.11,2, -999.000,9, -999.000,9,  -999.00,9,   -999.0,9,   -999.0,9,-999.0000,9,   -999.0,  9,     8.13,2,   -999.0,  -999.00,9,  -999.00,9,     0.09,2,     0.22,2,   -999.0,-999.0000, -999,9,  149,  18.6356,  25.0794,   -999.0,9
       RF97-09,  165E,RF-0478,  1,     17,02-12814,2,19970924,1153, 25.0187, 164.9660, 5945,    200.8,  17.3281,  34.8275,2,   -999.0,9,  34.8223,2,    207.1,2,     4.06,2,  -999.00,9,     4.03,2,     0.02,2,     0.27,2, -999.000,9, -999.000,9,  -999.00,9,   -999.0,9,   -999.0,9,-999.0000,9,   -999.0,  9,     8.10,2,   -999.0,  -999.00,9,  -999.00,9,     0.04,2,     0.14,2,   -999.0,-999.0000, -999,9,  199,  17.2945,  25.3115,   -999.0,9
       RF97-09,  165E,RF-0478,  1,     16,02-12832,2,19970924,1151, 25.0187, 164.9660, 5945,    250.8,  16.5574,  34.7747,2,   -999.0,9,-999.0000,9,    212.0,2,     4.61,2,  -999.00,9,     4.87,2,     0.01,2,     0.32,2, -999.000,9, -999.000,9,  -999.00,9,   -999.0,9,   -999.0,9,-999.0000,9,   -999.0,  9,     8.09,2,   -999.0,  -999.00,9,  -999.00,9,  -999.00,9,  -999.00,9,   -999.0,-999.0000, -999,9,  249,  16.5168,  25.4550,   -999.0,9
       RF97-09,  165E,RF-0478,  1,     15,02-12833,2,19970924,1149, 25.0187, 164.9660, 5945,    303.4,  15.8378,  34.7145,2,   -999.0,9,-999.0000,9,    211.1,2,     6.63,2,  -999.00,9,     5.89,2,     0.01,2,     0.40,2, -999.000,9, -999.000,9,  -999.00,9,   -999.0,9,   -999.0,9,-999.0000,9,   -999.0,  9,     8.07,2,   -999.0,  -999.00,9,  -999.00,9,  -999.00,9,  -999.00,9,   -999.0,-999.0000, -999,9,  301,  15.7900,  25.5758,   -999.0,9
       RF97-09,  165E,RF-0478,  1,     14,02-13578,2,19970924,1146, 25.0187, 164.9660, 5945,    402.4,  13.3384,  34.4679,2,   -999.0,9,-999.0000,9,    195.2,2,    11.37,2,  -999.00,9,    11.17,2,     0.01,2,     0.77,2, -999.000,9, -999.000,9,  -999.00,9,   -999.0,9,   -999.0,9,-999.0000,9,   -999.0,  9,     7.98,2,   -999.0,  -999.00,9,  -999.00,9,  -999.00,9,  -999.00,9,   -999.0,-999.0000, -999,9,  399,  13.2820,  25.9238,   -999.0,9
       RF97-09,  165E,RF-0478,  1,     13,02-13590,2,19970924,1141, 25.0187, 164.9660, 5945,    606.0,   7.9524,  34.1128,2,   -999.0,9,  34.1053,2,    139.9,2,    41.38,2,  -999.00,9,    26.77,2,     0.00,2,     1.88,2, -999.000,9, -999.000,9,  -999.00,9,   -999.0,9,   -999.0,9,-999.0000,9,   -999.0,  9,     7.75,2,   -999.0,  -999.00,9,  -999.00,9,  -999.00,9,  -999.00,9,   -999.0,-999.0000, -999,9,  601,   7.8905,  26.5932,   -999.0,9
       RF97-09,  165E,RF-0478,  1,     12,02-12821,2,19970924,1136, 25.0187, 164.9660, 5945,    807.4,   4.9762,  34.1364,2,   -999.0,9,-999.0000,9,     70.2,2,    84.89,2,  -999.00,9,    38.37,2,     0.00,2,     2.75,2, -999.000,9, -999.000,9,  -999.00,9,   -999.0,9,   -999.0,9,-999.0000,9,   -999.0,  9,     7.58,2,   -999.0,  -999.00,9,  -999.00,9,  -999.00,9,  -999.00,9,   -999.0,-999.0000, -999,9,  801,   4.9107,  27.0008,   -999.0,9
       RF97-09,  165E,RF-0478,  1,     11,02-12811,2,19970924,1132, 25.0187, 164.9660, 5945,   1010.5,   4.0383,  34.3431,2,   -999.0,9,  34.3372,2,     41.6,2,   110.18,2,  -999.00,9,    42.35,2,     0.00,2,     3.05,2, -999.000,9, -999.000,9,  -999.00,9,   -999.0,9,   -999.0,9,-999.0000,9,   -999.0,  9,     7.54,2,   -999.0,  -999.00,9,  -999.00,9,  -999.00,9,  -999.00,9,   -999.0,-999.0000, -999,9, 1002,   3.9617,  27.2675,   -999.0,9
       RF97-09,  165E,RF-0478,  1,     10,02-10155,4,19970924,1122, 25.0187, 164.9660, 5945,   1514.4,   2.8108,  34.5457,2,   -999.0,9,-999.0000,9,   -999.0,9,  -999.00,9,  -999.00,9,  -999.00,9,  -999.00,9,  -999.00,9, -999.000,9, -999.000,9,  -999.00,9,   -999.0,9,   -999.0,9,-999.0000,9,   -999.0,  9,  -999.00,9,   -999.0,  -999.00,9,  -999.00,9,  -999.00,9,  -999.00,9,   -999.0,-999.0000, -999,9, 1499,   2.7040,  27.5490,   -999.0,9
       RF97-09,  165E,RF-0478,  1,      9,02-12810,2,19970924,1114, 25.0187, 164.9660, 5945,   2022.6,   2.0787,  34.6098,2,   -999.0,9,  34.6137,2,     90.4,2,   149.01,2,  -999.00,9,    40.67,2,     0.00,2,     2.84,2, -999.000,9, -999.000,9,  -999.00,9,   -999.0,9,   -999.0,9,-999.0000,9,   -999.0,  9,     7.63,2,   -999.0,  -999.00,9,  -999.00,9,  -999.00,9,  -999.00,9,   -999.0,-999.0000, -999,9, 2000,   1.9392,  27.6639,   -999.0,9
       RF97-09,  165E,RF-0478,  1,      8,02-12829,2,19970924,1105, 25.0187, 164.9660, 5945,   2529.7,   1.7557,  34.6483,2,   -999.0,9,  34.6459,2,    111.8,2,   151.41,2,  -999.00,9,    39.34,2,     0.00,2,     2.74,2, -999.000,9, -999.000,9,  -999.00,9,   -999.0,9,   -999.0,9,-999.0000,9,   -999.0,  9,     7.66,2,   -999.0,  -999.00,9,  -999.00,9,  -999.00,9,  -999.00,9,   -999.0,-999.0000, -999,9, 2498,   1.5774,  27.7222,   -999.0,9
       RF97-09,  165E,RF-0478,  1,      7,02-13589,2,19970924,1057, 25.0187, 164.9660, 5945,   3041.2,   1.6003,  34.6680,2,   -999.0,9,  34.6570,4,    123.7,2,   150.96,2,  -999.00,9,    38.65,2,     0.00,2,     2.68,2, -999.000,9, -999.000,9,  -999.00,9,   -999.0,9,   -999.0,9,-999.0000,9,   -999.0,  9,     7.68,2,   -999.0,  -999.00,9,  -999.00,9,  -999.00,9,  -999.00,9,   -999.0,-999.0000, -999,9, 3000,   1.3774,  27.7526,   -999.0,9
       RF97-09,  165E,RF-0478,  1,      6,02-12818,2,19970924,1049, 25.0187, 164.9660, 5945,   3552.9,   1.5228,  34.6798,2,   -999.0,9,  34.6743,2,    141.1,2,   147.87,2,  -999.00,9,    37.53,2,     0.00,2,     2.59,2, -999.000,9, -999.000,9,  -999.00,9,   -999.0,9,   -999.0,9,-999.0000,9,   -999.0,  9,     7.70,2,   -999.0,  -999.00,9,  -999.00,9,  -999.00,9,  -999.00,9,   -999.0,-999.0000, -999,9, 3501,   1.2507,  27.7710,   -999.0,9
       RF97-09,  165E,RF-0478,  1,      5,02-12809,2,19970924,1040, 25.0187, 164.9660, 5945,   4064.3,   1.4909,  34.6864,2,   -999.0,9,  34.6814,2,    148.8,2,   144.84,2,  -999.00,9,    36.86,2,     0.00,2,     2.53,2, -999.000,9, -999.000,9,  -999.00,9,   -999.0,9,   -999.0,9,-999.0000,9,   -999.0,  9,     7.71,2,   -999.0,  -999.00,9,  -999.00,9,  -999.00,9,  -999.00,9,   -999.0,-999.0000, -999,9, 4000,   1.1652,  27.7822,   -999.0,9
       RF97-09,  165E,RF-0478,  1,      4,02-12817,2,19970924,1032, 25.0187, 164.9660, 5945,   4577.1,   1.4754,  34.6920,2,   -999.0,9,  34.6880,2,    158.5,2,   139.89,2,  -999.00,9,    36.16,2,     0.00,2,     2.48,2, -999.000,9, -999.000,9,  -999.00,9,   -999.0,9,   -999.0,9,-999.0000,9,   -999.0,  9,     7.73,2,   -999.0,  -999.00,9,  -999.00,9,  -999.00,9,  -999.00,9,   -999.0,-999.0000, -999,9, 4499,   1.0922,  27.7917,   -999.0,9
       RF97-09,  165E,RF-0478,  1,      3,02-12808,2,19970924,1024, 25.0187, 164.9660, 5945,   5091.2,   1.4718,  34.6972,2,   -999.0,9,  34.6932,2,    167.6,2,   134.91,2,  -999.00,9,    35.56,2,     0.01,2,     2.44,2, -999.000,9, -999.000,9,  -999.00,9,   -999.0,9,   -999.0,9,-999.0000,9,   -999.0,  9,     7.74,2,   -999.0,  -999.00,9,  -999.00,9,  -999.00,9,  -999.00,9,   -999.0,-999.0000, -999,9, 4999,   1.0274,  27.8002,   -999.0,9
       RF97-09,  165E,RF-0478,  1,      2,02-13588,2,19970924,1016, 25.0187, 164.9660, 5945,   5606.5,   1.4918,  34.7000,2,   -999.0,9,  34.7024,4,    173.9,2,   131.23,2,  -999.00,9,    34.98,2,     0.00,2,     2.40,2, -999.000,9, -999.000,9,  -999.00,9,   -999.0,9,   -999.0,9,-999.0000,9,   -999.0,  9,     7.74,2,   -999.0,  -999.00,9,  -999.00,9,  -999.00,9,  -999.00,9,   -999.0,-999.0000, -999,9, 5499,   0.9818,  27.8055,   -999.0,9
       RF97-09,  165E,RF-0478,  1,      1,02-12807,2,19970924,1009, 25.0187, 164.9660, 5945,   5958.4,   1.5293,  34.7005,2,   -999.0,9,  34.6969,2,    178.7,2,   130.15,2,  -999.00,9,    34.90,2,     0.01,2,     2.39,2, -999.000,9, -999.000,9,  -999.00,9,   -999.0,9,   -999.0,9,-999.0000,9,   -999.0,  9,     7.74,2,   -999.0,  -999.00,9,  -999.00,9,  -999.00,9,  -999.00,9,   5981.0,-999.0000, -999,9, 5839,   0.9718,  27.8065,   -999.0,9