BOTTLE,20130510GEMDJMAYT
EXPOCODE,SECT_ID,STNNBR,CASTNO,SAMPNO,BTLNBR,BTLNBR_FLAG_W,DATE,TIME,LATITUDE,LONGITUDE,DEPTH,CTDPRS,CTDTMP,CTDSAL,CTDSAL_FLAG_W,CTDOXY,CTDOXY_FLAG_W,SALNTY,SALNTY_FLAG_W,OXYGEN,OXYGEN_FLAG_W,SILCAT,SILCAT_FLAG_W,NITRAT,NITRAT_FLAG_W,NO2+NO3,NO2+NO3_FLAG_W,NITRIT,NITRIT_FLAG_W,PHSPHT,PHSPHT_FLAG_W,CFC-11,CFC-11_FLAG_W,CFC-12,CFC-12_FLAG_W,DELC13,DELC13_FLAG_W,TCARBN,TCARBN_FLAG_W,ALKALI,ALKALI_FLAG_W,PH,PH_FLAG_W,PH_TMP,PH_SCALE,PH_NBS,PH_NBS_FLAG_W,C13ERR,TOTALP,TOTALP_FLAG_W,AMMONI,AMMONI_FLAG_W,CHLORA,CHLORA_FLAG_W,PPHYTN,PPHYTN_FLAG_W,REVPRS,REVTMP,DEPTH_,DEPTH_FLAG,CTDDEP,THETA,SIGTHT,DOC,DOC_FLAG_W
,,,,,,,GMT,GMT,,,METER,DBAR,ITS-90,PSS-78,,UMOL/KG,,PSS-78,,UMOL/KG,,UMOL/KG,,UMOL/KG,,UMOL/KG,,UMOL/KG,,UMOL/KG,,PMOL/KG,,PMOL/KG,,/MILLE,,UMOL/KG,,UMOL/KG,,25_DEG_C,,DEG_C,,,,/MILLE,UMOL/KG,,UMOL/KG,,UG/L,,UG/L,,DBAR,ITS-90,METERS,,METERS,DEG_C,,UMOL/L,
       RF97-09,  165E,RF-0458,  1,     -9,      -9,5,19970917,2105, 45.0078, 165.0123, 5949,      0.0,  12.0616,  32.9134,2,   -999.0,9,-999.0000,9,    275.0,2,    18.98,2,  -999.00,9,     8.67,2,     0.12,2,     0.85,2, -999.000,9, -999.000,9,  -999.00,9,   -999.0,9,   -999.0,9,-999.0000,9,   -999.0,  9,     8.05,2,   -999.0,  -999.00,9,  -999.00,9,     1.33,2,     0.12,2,   -999.0,-999.0000, -999,9,    0,  12.0616,  24.9573,   -999.0,9
       RF97-09,  165E,RF-0458,  1,     23,02-13591,2,19970917,2103, 45.0078, 165.0123, 5949,      9.5,  12.0626,  32.9181,2,   -999.0,9,-999.0000,9,    274.3,2,    18.67,2,  -999.00,9,     8.58,2,     0.12,2,     0.84,2, -999.000,9, -999.000,9,  -999.00,9,   -999.0,9,   -999.0,9,-999.0000,9,   -999.0,  9,     8.05,2,   -999.0,  -999.00,9,  -999.00,9,     1.13,2,     0.12,2,   -999.0,-999.0000, -999,9,    9,  12.0614,  24.9610,   -999.0,9
       RF97-09,  165E,RF-0458,  1,     22,02-12828,2,19970917,2102, 45.0078, 165.0123, 5949,     25.5,  11.9641,  32.9027,2,   -999.0,9,  34.8802,4,    274.4,2,    18.88,2,  -999.00,9,     8.75,2,     0.12,2,     0.85,2, -999.000,9, -999.000,9,  -999.00,9,   -999.0,9,   -999.0,9,-999.0000,9,   -999.0,  9,     8.05,2,   -999.0,  -999.00,9,  -999.00,9,     1.40,2,     0.16,2,   -999.0,-999.0000, -999,9,   25,  11.9609,  24.9679,   -999.0,9
       RF97-09,  165E,RF-0458,  1,     21,02-12827,2,19970917,2100, 45.0078, 165.0123, 5949,     50.9,   5.9334,  33.2633,2,   -999.0,9,  33.2713,2,    299.8,2,    22.53,2,  -999.00,9,    15.05,2,     0.78,2,     1.35,2, -999.000,9, -999.000,9,  -999.00,9,   -999.0,9,   -999.0,9,-999.0000,9,   -999.0,  9,     7.92,2,   -999.0,  -999.00,9,  -999.00,9,     0.23,2,     0.13,2,   -999.0,-999.0000, -999,9,   50,   5.9293,  26.1892,   -999.0,9
       RF97-09,  165E,RF-0458,  1,     20,02-12826,2,19970917,2059, 45.0078, 165.0123, 5949,     73.5,   5.1668,  33.2779,2,   -999.0,9,-999.0000,9,    294.7,2,    23.47,2,  -999.00,9,    16.88,2,     0.02,2,     1.41,2, -999.000,9, -999.000,9,  -999.00,9,   -999.0,9,   -999.0,9,-999.0000,9,   -999.0,  9,     7.91,2,   -999.0,  -999.00,9,  -999.00,9,     0.12,2,     0.08,2,   -999.0,-999.0000, -999,9,   73,   5.1612,  26.2918,   -999.0,9
       RF97-09,  165E,RF-0458,  1,     19,02-12825,4,19970917,2057, 45.0078, 165.0123, 5949,     99.4,   5.0649,  33.3734,2,   -999.0,9,  34.8971,4,   -999.0,4,  -999.00,4,  -999.00,9,  -999.00,4,  -999.00,4,  -999.00,4, -999.000,9, -999.000,9,  -999.00,9,   -999.0,9,   -999.0,9,-999.0000,9,   -999.0,  9,     8.05,4,   -999.0,  -999.00,9,  -999.00,9,     1.18,4,     0.24,4,   -999.0,-999.0000, -999,9,   99,   5.0574,  26.3793,   -999.0,9
       RF97-09,  165E,RF-0458,  1,     18,02-12824,2,19970917,2056, 45.0078, 165.0123, 5949,    125.7,   5.4754,  33.5433,2,   -999.0,9,-999.0000,9,    284.2,2,    24.75,2,  -999.00,9,    17.03,2,     0.01,2,     1.35,2, -999.000,9, -999.000,9,  -999.00,9,   -999.0,9,   -999.0,9,-999.0000,9,   -999.0,  9,     7.91,2,   -999.0,  -999.00,9,  -999.00,9,     0.02,2,     0.03,2,   -999.0,-999.0000, -999,9,  125,   5.4655,  26.4665,   -999.0,9
       RF97-09,  165E,RF-0458,  1,     17,02-12814,2,19970917,2055, 45.0078, 165.0123, 5949,    149.5,   4.8772,  33.5189,2,   -999.0,9,-999.0000,9,    285.9,2,    28.47,2,  -999.00,9,    18.59,2,     0.01,2,     1.47,2, -999.000,9, -999.000,9,  -999.00,9,   -999.0,9,   -999.0,9,-999.0000,9,   -999.0,  9,     7.89,2,   -999.0,  -999.00,9,  -999.00,9,     0.02,2,     0.03,2,   -999.0,-999.0000, -999,9,  148,   4.8661,  26.5161,   -999.0,9
       RF97-09,  165E,RF-0458,  1,     15,02-12833,9,19970917,2052, 45.0078, 165.0123, 5949,    200.5,   4.4923,  33.6440,2,   -999.0,9,-999.0000,9,   -999.0,9,  -999.00,9,  -999.00,9,  -999.00,9,  -999.00,9,  -999.00,9, -999.000,9, -999.000,9,  -999.00,9,   -999.0,9,   -999.0,9,-999.0000,9,   -999.0,  9,  -999.00,9,   -999.0,  -999.00,9,  -999.00,9,  -999.00,9,  -999.00,9,   -999.0,-999.0000, -999,9,  199,   4.4778,  26.6577,   -999.0,9
       RF97-09,  165E,RF-0458,  1,     16,02-12832,2,19970917,2053, 45.0078, 165.0123, 5949,    201.1,   4.4849,  33.6449,2,   -999.0,9,  33.6428,2,    202.3,2,    49.95,2,  -999.00,9,    27.60,2,     0.01,2,     2.06,2, -999.000,9, -999.000,9,  -999.00,9,   -999.0,9,   -999.0,9,-999.0000,9,   -999.0,  9,     7.75,2,   -999.0,  -999.00,9,  -999.00,9,     0.01,2,     0.03,2,   -999.0,-999.0000, -999,9,  199,   4.4704,  26.6593,   -999.0,9
       RF97-09,  165E,RF-0458,  1,     14,02-13578,2,19970917,2050, 45.0078, 165.0123, 5949,    249.7,   4.1711,  33.7376,2,   -999.0,9,-999.0000,9,    155.3,2,    64.62,2,  -999.00,9,    32.44,2,     0.01,2,     2.40,2, -999.000,9, -999.000,9,  -999.00,9,   -999.0,9,   -999.0,9,-999.0000,9,   -999.0,  9,     7.66,2,   -999.0,  -999.00,9,  -999.00,9,  -999.00,9,  -999.00,9,   -999.0,-999.0000, -999,9,  248,   4.1536,  26.7662,   -999.0,9
       RF97-09,  165E,RF-0458,  1,     12,02-12821,9,19970917,2048, 45.0078, 165.0123, 5949,    301.8,   3.8899,  33.7982,2,   -999.0,9,-999.0000,9,   -999.0,9,  -999.00,9,  -999.00,9,  -999.00,9,  -999.00,9,  -999.00,9, -999.000,9, -999.000,9,  -999.00,9,   -999.0,9,   -999.0,9,-999.0000,9,   -999.0,  9,  -999.00,9,   -999.0,  -999.00,9,  -999.00,9,  -999.00,9,  -999.00,9,   -999.0,-999.0000, -999,9,  299,   3.8693,  26.8434,   -999.0,9
       RF97-09,  165E,RF-0458,  1,     13,02-13590,2,19970917,2048, 45.0078, 165.0123, 5949,    302.5,   3.8940,  33.7976,2,   -999.0,9,-999.0000,9,    126.2,2,    75.01,2,  -999.00,9,    35.64,2,     0.00,2,     2.62,2, -999.000,9, -999.000,9,  -999.00,9,   -999.0,9,   -999.0,9,-999.0000,9,   -999.0,  9,     7.61,2,   -999.0,  -999.00,9,  -999.00,9,  -999.00,9,  -999.00,9,   -999.0,-999.0000, -999,9,  300,   3.8734,  26.8424,   -999.0,9
       RF97-09,  165E,RF-0458,  1,     11,02-12811,2,19970917,2045, 45.0078, 165.0123, 5949,    400.5,   3.7562,  33.9588,2,   -999.0,9,  33.9560,2,     75.3,2,    93.30,2,  -999.00,9,    40.26,2,     0.00,2,     2.92,2, -999.000,9, -999.000,9,  -999.00,9,   -999.0,9,   -999.0,9,-999.0000,9,   -999.0,  9,  -999.00,9,   -999.0,  -999.00,9,  -999.00,9,  -999.00,9,  -999.00,9,   -999.0,-999.0000, -999,9,  397,   3.7289,  26.9851,   -999.0,9
       RF97-09,  165E,RF-0458,  1,     10,02-10155,4,19970917,2042, 45.0078, 165.0123, 5949,    501.9,   3.7159,  34.0816,2,   -999.0,9,-999.0000,9,   -999.0,4,  -999.00,4,  -999.00,9,  -999.00,4,  -999.00,4,  -999.00,4, -999.000,9, -999.000,9,  -999.00,9,   -999.0,9,   -999.0,9,-999.0000,9,   -999.0,  9,  -999.00,9,   -999.0,  -999.00,9,  -999.00,9,  -999.00,9,  -999.00,9,   -999.0,-999.0000, -999,9,  497,   3.6813,  27.0876,   -999.0,9
       RF97-09,  165E,RF-0458,  1,      9,02-12810,4,19970917,2040, 45.0078, 165.0123, 5949,    603.0,   3.5603,  34.1693,2,   -999.0,9,  34.8849,4,   -999.0,4,  -999.00,4,  -999.00,9,  -999.00,4,  -999.00,4,  -999.00,4, -999.000,9, -999.000,9,  -999.00,9,   -999.0,9,   -999.0,9,-999.0000,9,   -999.0,  9,  -999.00,9,   -999.0,  -999.00,9,  -999.00,9,  -999.00,9,  -999.00,9,   -999.0,-999.0000, -999,9,  597,   3.5189,  27.1734,   -999.0,9
       RF97-09,  165E,RF-0458,  1,      8,02-12829,2,19970917,2037, 45.0078, 165.0123, 5949,    702.9,   3.3701,  34.2310,2,   -999.0,9,-999.0000,9,     36.3,2,   124.26,2,  -999.00,9,    43.13,2,     0.01,2,     3.11,2, -999.000,9, -999.000,9,  -999.00,9,   -999.0,9,   -999.0,9,-999.0000,9,   -999.0,  9,  -999.00,9,   -999.0,  -999.00,9,  -999.00,9,  -999.00,9,  -999.00,9,   -999.0,-999.0000, -999,9,  696,   3.3223,  27.2413,   -999.0,9
       RF97-09,  165E,RF-0458,  1,      7,02-13589,2,19970917,2034, 45.0078, 165.0123, 5949,    806.4,   3.1783,  34.2878,2,   -999.0,9,  34.2919,2,     33.6,2,   131.63,2,  -999.00,9,    43.26,2,     0.01,2,     3.12,2, -999.000,9, -999.000,9,  -999.00,9,   -999.0,9,   -999.0,9,-999.0000,9,   -999.0,  9,  -999.00,9,   -999.0,  -999.00,9,  -999.00,9,  -999.00,9,  -999.00,9,   -999.0,-999.0000, -999,9,  798,   3.1239,  27.3052,   -999.0,9
       RF97-09,  165E,RF-0458,  1,      6,02-12818,2,19970917,2031, 45.0078, 165.0123, 5949,    904.5,   2.9897,  34.3356,2,   -999.0,9,-999.0000,9,     32.0,2,   138.21,2,  -999.00,9,    43.44,2,     0.00,2,     3.14,2, -999.000,9, -999.000,9,  -999.00,9,   -999.0,9,   -999.0,9,-999.0000,9,   -999.0,  9,  -999.00,9,   -999.0,  -999.00,9,  -999.00,9,  -999.00,9,  -999.00,9,   -999.0,-999.0000, -999,9,  895,   2.9293,  27.3611,   -999.0,9
       RF97-09,  165E,RF-0458,  1,      5,02-12809,2,19970917,2029, 45.0078, 165.0123, 5949,   1006.3,   2.8417,  34.3877,2,   -999.0,9,  34.3724,4,     34.2,2,   143.08,2,  -999.00,9,    43.46,2,     0.01,2,     3.13,2, -999.000,9, -999.000,9,  -999.00,9,   -999.0,9,   -999.0,9,-999.0000,9,   -999.0,  9,  -999.00,9,   -999.0,  -999.00,9,  -999.00,9,  -999.00,9,  -999.00,9,   -999.0,-999.0000, -999,9,  996,   2.7748,  27.4165,   -999.0,9
       RF97-09,  165E,RF-0458,  1,      4,02-12817,2,19970917,2023, 45.0078, 165.0123, 5949,   1261.1,   2.5119,  34.4610,2,   -999.0,9,  34.4609,2,     38.5,2,   151.79,2,  -999.00,9,    43.26,2,     0.00,2,     3.10,2, -999.000,9, -999.000,9,  -999.00,9,   -999.0,9,   -999.0,9,-999.0000,9,   -999.0,  9,  -999.00,9,   -999.0,  -999.00,9,  -999.00,9,  -999.00,9,  -999.00,9,   -999.0,-999.0000, -999,9, 1247,   2.4286,  27.5049,   -999.0,9
       RF97-09,  165E,RF-0458,  1,      3,02-12808,2,19970917,2018, 45.0078, 165.0123, 5949,   1511.5,   2.2876,  34.5141,2,   -999.0,9,  34.5108,2,     45.9,2,   158.03,2,  -999.00,9,    43.11,2,     0.01,2,     3.09,2, -999.000,9, -999.000,9,  -999.00,9,   -999.0,9,   -999.0,9,-999.0000,9,   -999.0,  9,  -999.00,9,   -999.0,  -999.00,9,  -999.00,9,  -999.00,9,  -999.00,9,   -999.0,-999.0000, -999,9, 1494,   2.1873,  27.5674,   -999.0,9
       RF97-09,  165E,RF-0458,  1,      2,02-13588,2,19970917,2012, 45.0078, 165.0123, 5949,   1767.2,   2.1192,  34.5547,2,   -999.0,9,  34.5533,2,     56.6,2,   160.52,2,  -999.00,9,    42.53,2,     0.01,2,     3.04,2, -999.000,9, -999.000,9,  -999.00,9,   -999.0,9,   -999.0,9,-999.0000,9,   -999.0,  9,  -999.00,9,   -999.0,  -999.00,9,  -999.00,9,  -999.00,9,  -999.00,9,   -999.0,-999.0000, -999,9, 1745,   2.0005,  27.6149,   -999.0,9
       RF97-09,  165E,RF-0458,  1,      1,02-12807,2,19970917,2007, 45.0078, 165.0123, 5949,   2029.1,   1.9574,  34.5913,2,   -999.0,9,  34.5883,2,     71.4,2,   161.33,2,  -999.00,9,    41.72,2,     0.01,2,     2.98,2, -999.000,9, -999.000,9,  -999.00,9,   -999.0,9,   -999.0,9,-999.0000,9,   -999.0,  9,  -999.00,9,   -999.0,  -999.00,9,  -999.00,9,  -999.00,9,  -999.00,9,   2011.0,-999.0000, -999,9, 2003,   1.8193,  27.6583,   -999.0,9