BOTTLE,20130510GEMDJMAYT
EXPOCODE,SECT_ID,STNNBR,CASTNO,SAMPNO,BTLNBR,BTLNBR_FLAG_W,DATE,TIME,LATITUDE,LONGITUDE,DEPTH,CTDPRS,CTDTMP,CTDSAL,CTDSAL_FLAG_W,CTDOXY,CTDOXY_FLAG_W,SALNTY,SALNTY_FLAG_W,OXYGEN,OXYGEN_FLAG_W,SILCAT,SILCAT_FLAG_W,NITRAT,NITRAT_FLAG_W,NO2+NO3,NO2+NO3_FLAG_W,NITRIT,NITRIT_FLAG_W,PHSPHT,PHSPHT_FLAG_W,CFC-11,CFC-11_FLAG_W,CFC-12,CFC-12_FLAG_W,DELC13,DELC13_FLAG_W,TCARBN,TCARBN_FLAG_W,ALKALI,ALKALI_FLAG_W,PH,PH_FLAG_W,PH_TMP,PH_SCALE,PH_NBS,PH_NBS_FLAG_W,C13ERR,TOTALP,TOTALP_FLAG_W,AMMONI,AMMONI_FLAG_W,CHLORA,CHLORA_FLAG_W,PPHYTN,PPHYTN_FLAG_W,REVPRS,REVTMP,DEPTH_,DEPTH_FLAG,CTDDEP,THETA,SIGTHT,DOC,DOC_FLAG_W
,,,,,,,GMT,GMT,,,METER,DBAR,ITS-90,PSS-78,,UMOL/KG,,PSS-78,,UMOL/KG,,UMOL/KG,,UMOL/KG,,UMOL/KG,,UMOL/KG,,UMOL/KG,,PMOL/KG,,PMOL/KG,,/MILLE,,UMOL/KG,,UMOL/KG,,25_DEG_C,,DEG_C,,,,/MILLE,UMOL/KG,,UMOL/KG,,UG/L,,UG/L,,DBAR,ITS-90,METERS,,METERS,DEG_C,,UMOL/L,
       RF97-09,  165E,RF-0498,  1,     -9,      -9,5,19971013,1202,  0.1722, 165.0205, 4395,      0.0,  28.5107,  34.3993,2,   -999.0,9,-999.0000,9,    201.4,2,     1.55,2,  -999.00,9,     0.05,2,     0.00,2,     0.08,2, -999.000,9, -999.000,9,  -999.00,9,   -999.0,9,   -999.0,9,-999.0000,9,   -999.0,  9,     8.24,2,   -999.0,  -999.00,9,  -999.00,9,     0.15,2,     0.02,2,   -999.0,-999.0000, -999,9,    0,  28.5107,  21.7754,   -999.0,9
       RF97-09,  165E,RF-0498,  1,     23,02-13591,2,19971013,1200,  0.1722, 165.0205, 4395,      6.5,  28.5052,  34.3989,2,   -999.0,9,  34.3944,2,    195.0,2,     1.59,2,  -999.00,9,  -999.00,9,     0.00,2,     0.07,2, -999.000,9, -999.000,9,  -999.00,9,   -999.0,9,   -999.0,9,-999.0000,9,   -999.0,  9,     8.25,2,   -999.0,  -999.00,9,  -999.00,9,     0.14,2,     0.04,2,   -999.0,-999.0000, -999,9,    6,  28.5037,  21.7775,   -999.0,9
       RF97-09,  165E,RF-0498,  1,     22,02-12828,2,19971013,1159,  0.1722, 165.0205, 4395,     21.8,  28.2825,  34.3594,2,   -999.0,9,-999.0000,9,    197.7,2,     1.44,2,  -999.00,9,     0.06,2,     0.00,2,     0.06,2, -999.000,9, -999.000,9,  -999.00,9,   -999.0,9,   -999.0,9,-999.0000,9,   -999.0,  9,     8.26,2,   -999.0,  -999.00,9,  -999.00,9,     0.17,2,     0.03,2,   -999.0,-999.0000, -999,9,   22,  28.2773,  21.8222,   -999.0,9
       RF97-09,  165E,RF-0498,  1,     21,02-12827,2,19971013,1157,  0.1722, 165.0205, 4395,     48.5,  28.2836,  34.3917,2,   -999.0,9,  34.3838,4,    194.5,2,     1.54,2,  -999.00,9,     0.07,2,     0.00,2,     0.06,2, -999.000,9, -999.000,9,  -999.00,9,   -999.0,9,   -999.0,9,-999.0000,9,   -999.0,  9,     8.26,2,   -999.0,  -999.00,9,  -999.00,9,     0.28,2,     0.03,2,   -999.0,-999.0000, -999,9,   48,  28.2721,  21.8483,   -999.0,9
       RF97-09,  165E,RF-0498,  1,     20,02-12826,2,19971013,1156,  0.1722, 165.0205, 4395,     72.5,  28.2177,  34.3988,2,   -999.0,9,-999.0000,9,    194.2,2,     1.39,2,  -999.00,9,     0.03,2,     0.00,2,     0.07,2, -999.000,9, -999.000,9,  -999.00,9,   -999.0,9,   -999.0,9,-999.0000,9,   -999.0,  9,     8.26,2,   -999.0,  -999.00,9,  -999.00,9,     0.40,2,     0.12,2,   -999.0,-999.0000, -999,9,   72,  28.2006,  21.8770,   -999.0,9
       RF97-09,  165E,RF-0498,  1,     19,02-12825,2,19971013,1154,  0.1722, 165.0205, 4395,     98.4,  24.6112,  35.1168,2,   -999.0,9,  35.0946,4,    140.9,2,     3.62,2,  -999.00,9,     7.91,2,     0.28,2,     0.60,2, -999.000,9, -999.000,9,  -999.00,9,   -999.0,9,   -999.0,9,-999.0000,9,   -999.0,  9,     8.12,2,   -999.0,  -999.00,9,  -999.00,9,     0.28,2,     0.32,2,   -999.0,-999.0000, -999,9,   98,  24.5900,  23.5535,   -999.0,9
       RF97-09,  165E,RF-0498,  1,     18,02-12824,2,19971013,1153,  0.1722, 165.0205, 4395,    122.8,  22.3018,  35.4581,2,   -999.0,9,-999.0000,9,    133.4,2,     4.10,2,  -999.00,9,     9.60,2,     0.03,2,     0.72,2, -999.000,9, -999.000,9,  -999.00,9,   -999.0,9,   -999.0,9,-999.0000,9,   -999.0,  9,     8.08,2,   -999.0,  -999.00,9,  -999.00,9,     0.08,2,     0.14,2,   -999.0,-999.0000, -999,9,  122,  22.2772,  24.4878,   -999.0,9
       RF97-09,  165E,RF-0498,  1,     17,02-12814,2,19971013,1152,  0.1722, 165.0205, 4395,    146.3,  19.3852,  35.3365,2,   -999.0,9,-999.0000,9,    134.8,2,     6.55,2,  -999.00,9,    11.83,2,     0.02,2,     0.87,2, -999.000,9, -999.000,9,  -999.00,9,   -999.0,9,   -999.0,9,-999.0000,9,   -999.0,  9,     8.04,2,   -999.0,  -999.00,9,  -999.00,9,     0.06,2,     0.06,2,   -999.0,-999.0000, -999,9,  145,  19.3587,  25.1862,   -999.0,9
       RF97-09,  165E,RF-0498,  1,     15,02-12833,9,19971013,1149,  0.1722, 165.0205, 4395,    198.8,  15.4576,  35.2198,2,   -999.0,9,-999.0000,9,   -999.0,9,  -999.00,9,  -999.00,9,  -999.00,9,  -999.00,9,  -999.00,9, -999.000,9, -999.000,9,  -999.00,9,   -999.0,9,   -999.0,9,-999.0000,9,   -999.0,  9,  -999.00,9,   -999.0,  -999.00,9,  -999.00,9,  -999.00,9,  -999.00,9,   -999.0,-999.0000, -999,9,  198,  15.4268,  26.0467,   -999.0,9
       RF97-09,  165E,RF-0498,  1,     16,02-12832,2,19971013,1150,  0.1722, 165.0205, 4395,    199.3,  15.3486,  35.1986,2,   -999.0,9,  35.2084,4,    136.6,2,     8.83,2,  -999.00,9,    16.18,2,     0.01,2,     1.15,2, -999.000,9, -999.000,9,  -999.00,9,   -999.0,9,   -999.0,9,-999.0000,9,   -999.0,  9,     7.96,2,   -999.0,  -999.00,9,  -999.00,9,     0.01,2,     0.01,2,   -999.0,-999.0000, -999,9,  198,  15.3179,  26.0547,   -999.0,9
       RF97-09,  165E,RF-0498,  1,     14,02-13578,2,19971013,1147,  0.1722, 165.0205, 4395,    248.7,  13.1775,  34.9617,2,   -999.0,9,-999.0000,9,    134.4,2,    13.28,2,  -999.00,9,    18.80,2,     0.01,2,     1.31,2, -999.000,9, -999.000,9,  -999.00,9,   -999.0,9,   -999.0,9,-999.0000,9,   -999.0,  9,     7.91,2,   -999.0,  -999.00,9,  -999.00,9,  -999.00,9,  -999.00,9,   -999.0,-999.0000, -999,9,  247,  13.1430,  26.3344,   -999.0,9
       RF97-09,  165E,RF-0498,  1,     13,02-13590,2,19971013,1145,  0.1722, 165.0205, 4395,    299.6,  11.4689,  34.8283,2,   -999.0,9,-999.0000,9,     94.0,2,    21.57,2,  -999.00,9,    26.66,2,     0.01,2,     1.82,2, -999.000,9, -999.000,9,  -999.00,9,   -999.0,9,   -999.0,9,-999.0000,9,   -999.0,  9,     7.81,2,   -999.0,  -999.00,9,  -999.00,9,  -999.00,9,  -999.00,9,   -999.0,-999.0000, -999,9,  298,  11.4308,  26.5629,   -999.0,9
       RF97-09,  165E,RF-0498,  1,     12,02-12821,2,19971013,1141,  0.1722, 165.0205, 4395,    399.9,   9.3149,  34.6880,2,   -999.0,9,  34.6863,2,     70.7,2,    30.54,2,  -999.00,9,    33.17,2,     0.00,2,     2.26,2, -999.000,9, -999.000,9,  -999.00,9,   -999.0,9,   -999.0,9,-999.0000,9,   -999.0,  9,  -999.00,9,   -999.0,  -999.00,9,  -999.00,9,  -999.00,9,  -999.00,9,   -999.0,-999.0000, -999,9,  397,   9.2702,  26.8301,   -999.0,9
       RF97-09,  165E,RF-0498,  1,     10,02-10155,9,19971013,1137,  0.1722, 165.0205, 4395,    500.8,   7.8353,  34.6019,2,   -999.0,9,-999.0000,9,   -999.0,9,  -999.00,9,  -999.00,9,  -999.00,9,  -999.00,9,  -999.00,9, -999.000,9, -999.000,9,  -999.00,9,   -999.0,9,   -999.0,9,-999.0000,9,   -999.0,  9,  -999.00,9,   -999.0,  -999.00,9,  -999.00,9,  -999.00,9,  -999.00,9,   -999.0,-999.0000, -999,9,  497,   7.7845,  26.9931,   -999.0,9
       RF97-09,  165E,RF-0498,  1,     11,02-12811,2,19971013,1137,  0.1722, 165.0205, 4395,    506.7,   7.5505,  34.5906,2,   -999.0,9,-999.0000,9,     75.3,2,    41.25,2,  -999.00,9,    36.10,2,     0.00,2,     2.50,2, -999.000,9, -999.000,9,  -999.00,9,   -999.0,9,   -999.0,9,-999.0000,9,   -999.0,  9,  -999.00,9,   -999.0,  -999.00,9,  -999.00,9,  -999.00,9,  -999.00,9,   -999.0,-999.0000, -999,9,  503,   7.5002,  27.0256,   -999.0,9
       RF97-09,  165E,RF-0498,  1,      9,02-12810,2,19971013,1133,  0.1722, 165.0205, 4395,    601.2,   6.8715,  34.5615,2,   -999.0,9,  34.5130,4,     86.5,2,    46.21,2,  -999.00,9,    36.03,2,     0.00,2,     2.51,2, -999.000,9, -999.000,9,  -999.00,9,   -999.0,9,   -999.0,9,-999.0000,9,   -999.0,  9,  -999.00,9,   -999.0,  -999.00,9,  -999.00,9,  -999.00,9,  -999.00,9,   -999.0,-999.0000, -999,9,  597,   6.8145,  27.0988,   -999.0,9
       RF97-09,  165E,RF-0498,  1,      8,02-12829,2,19971013,1129,  0.1722, 165.0205, 4395,    702.1,   6.1995,  34.5485,2,   -999.0,9,-999.0000,9,     86.0,2,    53.92,2,  -999.00,9,    37.49,2,     0.00,2,     2.63,2, -999.000,9, -999.000,9,  -999.00,9,   -999.0,9,   -999.0,9,-999.0000,9,   -999.0,  9,  -999.00,9,   -999.0,  -999.00,9,  -999.00,9,  -999.00,9,  -999.00,9,   -999.0,-999.0000, -999,9,  697,   6.1361,  27.1785,   -999.0,9
       RF97-09,  165E,RF-0498,  1,      7,02-13589,2,19971013,1125,  0.1722, 165.0205, 4395,    803.9,   5.7591,  34.5467,2,   -999.0,9,  34.5454,2,     83.5,2,    61.04,2,  -999.00,9,    38.38,2,     0.00,2,     2.71,2, -999.000,9, -999.000,9,  -999.00,9,   -999.0,9,   -999.0,9,-999.0000,9,   -999.0,  9,  -999.00,9,   -999.0,  -999.00,9,  -999.00,9,  -999.00,9,  -999.00,9,   -999.0,-999.0000, -999,9,  798,   5.6886,  27.2335,   -999.0,9
       RF97-09,  165E,RF-0498,  1,      6,02-12818,2,19971013,1122,  0.1722, 165.0205, 4395,    904.4,   4.9382,  34.5412,2,   -999.0,9,-999.0000,9,     97.9,2,    71.78,2,  -999.00,9,    38.02,2,     0.00,2,     2.68,2, -999.000,9, -999.000,9,  -999.00,9,   -999.0,9,   -999.0,9,-999.0000,9,   -999.0,  9,  -999.00,9,   -999.0,  -999.00,9,  -999.00,9,  -999.00,9,  -999.00,9,   -999.0,-999.0000, -999,9,  897,   4.8639,  27.3272,   -999.0,9
       RF97-09,  165E,RF-0498,  1,      5,02-12809,2,19971013,1119,  0.1722, 165.0205, 4395,   1004.7,   4.6697,  34.5503,2,   -999.0,9,-999.0000,9,     92.6,2,    79.43,2,  -999.00,9,    38.70,2,     0.00,2,     2.74,2, -999.000,9, -999.000,9,  -999.00,9,   -999.0,9,   -999.0,9,-999.0000,9,   -999.0,  9,  -999.00,9,   -999.0,  -999.00,9,  -999.00,9,  -999.00,9,  -999.00,9,   -999.0,-999.0000, -999,9,  997,   4.5884,  27.3653,   -999.0,9
       RF97-09,  165E,RF-0498,  1,      4,02-12817,2,19971013,1109,  0.1722, 165.0205, 4395,   1259.4,   3.7510,  34.5761,2,   -999.0,9,  34.5745,2,    100.4,2,    99.23,2,  -999.00,9,    38.96,2,     0.00,2,     2.76,2, -999.000,9, -999.000,9,  -999.00,9,   -999.0,9,   -999.0,9,-999.0000,9,   -999.0,  9,  -999.00,9,   -999.0,  -999.00,9,  -999.00,9,  -999.00,9,  -999.00,9,   -999.0,-999.0000, -999,9, 1249,   3.6555,  27.4840,   -999.0,9
       RF97-09,  165E,RF-0498,  1,      3,02-12808,2,19971013,1104,  0.1722, 165.0205, 4395,   1512.2,   3.1844,  34.5973,2,   -999.0,9,  34.6192,4,     97.5,2,   112.39,2,  -999.00,9,    39.28,2,     0.00,2,     2.79,2, -999.000,9, -999.000,9,  -999.00,9,   -999.0,9,   -999.0,9,-999.0000,9,   -999.0,  9,  -999.00,9,   -999.0,  -999.00,9,  -999.00,9,  -999.00,9,  -999.00,9,   -999.0,-999.0000, -999,9, 1498,   3.0734,  27.5569,   -999.0,9
       RF97-09,  165E,RF-0498,  1,      2,02-13588,2,19971013,1059,  0.1722, 165.0205, 4395,   1768.3,   2.6300,  34.6213,2,   -999.0,9,  34.5879,4,    107.2,2,   124.12,2,  -999.00,9,    38.80,2,     0.00,2,     2.74,2, -999.000,9, -999.000,9,  -999.00,9,   -999.0,9,   -999.0,9,-999.0000,9,   -999.0,  9,  -999.00,9,   -999.0,  -999.00,9,  -999.00,9,  -999.00,9,  -999.00,9,   -999.0,-999.0000, -999,9, 1751,   2.5041,  27.6268,   -999.0,9
       RF97-09,  165E,RF-0498,  1,      1,02-12807,2,19971013,1054,  0.1722, 165.0205, 4395,   2026.7,   2.2182,  34.6411,2,   -999.0,9,  34.6398,2,    113.7,2,   132.33,2,  -999.00,9,    38.34,2,     0.00,2,     2.70,2, -999.000,9, -999.000,9,  -999.00,9,   -999.0,9,   -999.0,9,-999.0000,9,   -999.0,  9,  -999.00,9,   -999.0,  -999.00,9,  -999.00,9,  -999.00,9,  -999.00,9,   2007.0,-999.0000, -999,9, 2006,   2.0762,  27.6780,   -999.0,9