BOTTLE,20130510GEMDJMAYT
EXPOCODE,SECT_ID,STNNBR,CASTNO,SAMPNO,BTLNBR,BTLNBR_FLAG_W,DATE,TIME,LATITUDE,LONGITUDE,DEPTH,CTDPRS,CTDTMP,CTDSAL,CTDSAL_FLAG_W,CTDOXY,CTDOXY_FLAG_W,SALNTY,SALNTY_FLAG_W,OXYGEN,OXYGEN_FLAG_W,SILCAT,SILCAT_FLAG_W,NITRAT,NITRAT_FLAG_W,NO2+NO3,NO2+NO3_FLAG_W,NITRIT,NITRIT_FLAG_W,PHSPHT,PHSPHT_FLAG_W,CFC-11,CFC-11_FLAG_W,CFC-12,CFC-12_FLAG_W,DELC13,DELC13_FLAG_W,TCARBN,TCARBN_FLAG_W,ALKALI,ALKALI_FLAG_W,PH,PH_FLAG_W,PH_TMP,PH_SCALE,PH_NBS,PH_NBS_FLAG_W,C13ERR,TOTALP,TOTALP_FLAG_W,AMMONI,AMMONI_FLAG_W,CHLORA,CHLORA_FLAG_W,PPHYTN,PPHYTN_FLAG_W,REVPRS,REVTMP,DEPTH_,DEPTH_FLAG,CTDDEP,THETA,SIGTHT,DOC,DOC_FLAG_W
,,,,,,,GMT,GMT,,,METER,DBAR,ITS-90,PSS-78,,UMOL/KG,,PSS-78,,UMOL/KG,,UMOL/KG,,UMOL/KG,,UMOL/KG,,UMOL/KG,,UMOL/KG,,PMOL/KG,,PMOL/KG,,/MILLE,,UMOL/KG,,UMOL/KG,,25_DEG_C,,DEG_C,,,,/MILLE,UMOL/KG,,UMOL/KG,,UG/L,,UG/L,,DBAR,ITS-90,METERS,,METERS,DEG_C,,UMOL/L,
       RF97-09,  165E,RF-0463,  1,     -9,      -9,5,19970919,0531, 40.0093, 164.9992, 5464,      0.0,  19.2510,  34.1446,2,   -999.0,9,-999.0000,9,    243.5,2,     2.41,2,  -999.00,9,     0.06,2,     0.00,2,     0.09,2, -999.000,9, -999.000,9,  -999.00,9,   -999.0,9,   -999.0,9,-999.0000,9,   -999.0,  9,     8.19,2,   -999.0,  -999.00,9,  -999.00,9,     0.15,2,     0.03,2,   -999.0,-999.0000, -999,9,    0,  19.2510,  24.3035,   -999.0,9
       RF97-09,  165E,RF-0463,  1,     23,02-13591,2,19970919,0528, 40.0093, 164.9992, 5464,     10.2,  19.1691,  34.1386,2,   -999.0,9,-999.0000,9,    232.9,2,     2.57,2,  -999.00,9,     0.03,2,     0.00,2,     0.07,2, -999.000,9, -999.000,9,  -999.00,9,   -999.0,9,   -999.0,9,-999.0000,9,   -999.0,  9,     8.20,2,   -999.0,  -999.00,9,  -999.00,9,     0.18,2,     0.03,2,   -999.0,-999.0000, -999,9,   10,  19.1673,  24.3203,   -999.0,9
       RF97-09,  165E,RF-0463,  1,     22,02-12828,2,19970919,0527, 40.0093, 164.9992, 5464,     25.4,  18.2914,  34.1757,2,   -999.0,9,-999.0000,9,   -999.0,4,     2.85,2,  -999.00,9,     0.02,2,     0.00,2,     0.08,2, -999.000,9, -999.000,9,  -999.00,9,   -999.0,9,   -999.0,9,-999.0000,9,   -999.0,  9,     8.19,2,   -999.0,  -999.00,9,  -999.00,9,     0.25,2,     0.06,2,   -999.0,-999.0000, -999,9,   25,  18.2871,  24.5700,   -999.0,9
       RF97-09,  165E,RF-0463,  1,     21,02-12827,2,19970919,0526, 40.0093, 164.9992, 5464,     49.0,  14.4632,  34.4976,2,   -999.0,9,  34.5002,2,    227.1,2,     8.27,2,  -999.00,9,     6.98,2,     0.41,2,     0.51,2, -999.000,9, -999.000,9,  -999.00,9,   -999.0,9,   -999.0,9,-999.0000,9,   -999.0,  9,     8.09,2,   -999.0,  -999.00,9,  -999.00,9,     0.69,2,     0.48,2,   -999.0,-999.0000, -999,9,   49,  14.4560,  25.7023,   -999.0,9
       RF97-09,  165E,RF-0463,  1,     20,02-12826,2,19970919,0524, 40.0093, 164.9992, 5464,     74.3,  13.4707,  34.5236,2,   -999.0,9,-999.0000,9,    215.3,2,    12.31,2,  -999.00,9,    10.02,2,     0.02,2,     0.69,2, -999.000,9, -999.000,9,  -999.00,9,   -999.0,9,   -999.0,9,-999.0000,9,   -999.0,  9,     8.06,2,   -999.0,  -999.00,9,  -999.00,9,     0.27,2,     0.09,2,   -999.0,-999.0000, -999,9,   74,  13.4604,  25.9306,   -999.0,9
       RF97-09,  165E,RF-0463,  1,     19,02-12825,2,19970919,0522, 40.0093, 164.9992, 5464,    102.0,  12.3949,  34.4396,2,   -999.0,9,  34.4457,2,    212.5,2,    15.87,2,  -999.00,9,    12.00,2,     0.02,2,     0.84,2, -999.000,9, -999.000,9,  -999.00,9,   -999.0,9,   -999.0,9,-999.0000,9,   -999.0,  9,     8.03,2,   -999.0,  -999.00,9,  -999.00,9,     0.07,2,     0.04,2,   -999.0,-999.0000, -999,9,  101,  12.3814,  26.0805,   -999.0,9
       RF97-09,  165E,RF-0463,  1,     18,02-12824,2,19970919,0521, 40.0093, 164.9992, 5464,    125.7,  11.6634,  34.3800,2,   -999.0,9,-999.0000,9,    218.8,2,    16.94,2,  -999.00,9,    12.45,2,     0.02,2,     0.88,2, -999.000,9, -999.000,9,  -999.00,9,   -999.0,9,   -999.0,9,-999.0000,9,   -999.0,  9,     8.01,2,   -999.0,  -999.00,9,  -999.00,9,     0.03,2,     0.03,2,   -999.0,-999.0000, -999,9,  125,  11.6474,  26.1739,   -999.0,9
       RF97-09,  165E,RF-0463,  1,     17,02-12814,2,19970919,0520, 40.0093, 164.9992, 5464,    150.2,  11.1090,  34.3475,2,   -999.0,9,-999.0000,9,    222.8,2,    17.78,2,  -999.00,9,    12.94,2,     0.03,2,     0.92,2, -999.000,9, -999.000,9,  -999.00,9,   -999.0,9,   -999.0,9,-999.0000,9,   -999.0,  9,     8.01,2,   -999.0,  -999.00,9,  -999.00,9,     0.01,2,     0.02,2,   -999.0,-999.0000, -999,9,  149,  11.0905,  26.2511,   -999.0,9
       RF97-09,  165E,RF-0463,  1,     15,02-12833,9,19970919,0517, 40.0093, 164.9992, 5464,    202.6,  10.3904,  34.3034,2,   -999.0,9,-999.0000,9,   -999.0,9,  -999.00,9,  -999.00,9,  -999.00,9,  -999.00,9,  -999.00,9, -999.000,9, -999.000,9,  -999.00,9,   -999.0,9,   -999.0,9,-999.0000,9,   -999.0,  9,  -999.00,9,   -999.0,  -999.00,9,  -999.00,9,  -999.00,9,  -999.00,9,   -999.0,-999.0000, -999,9,  201,  10.3665,  26.3451,   -999.0,9
       RF97-09,  165E,RF-0463,  1,     16,02-12832,2,19970919,0518, 40.0093, 164.9992, 5464,    204.1,  10.3871,  34.3045,2,   -999.0,9,  34.3883,4,    248.8,2,    16.11,2,  -999.00,9,    11.71,2,     0.01,2,     0.85,2, -999.000,9, -999.000,9,  -999.00,9,   -999.0,9,   -999.0,9,-999.0000,9,   -999.0,  9,     8.02,2,   -999.0,  -999.00,9,  -999.00,9,     0.01,2,     0.02,2,   -999.0,-999.0000, -999,9,  202,  10.3631,  26.3465,   -999.0,9
       RF97-09,  165E,RF-0463,  1,     14,02-13578,2,19970919,0516, 40.0093, 164.9992, 5464,    250.4,   9.8553,  34.2293,2,   -999.0,9,-999.0000,9,    245.7,2,    17.80,2,  -999.00,9,    12.85,2,     0.02,2,     0.94,2, -999.000,9, -999.000,9,  -999.00,9,   -999.0,9,   -999.0,9,-999.0000,9,   -999.0,  9,     8.00,2,   -999.0,  -999.00,9,  -999.00,9,  -999.00,9,  -999.00,9,   -999.0,-999.0000, -999,9,  248,   9.8268,  26.3794,   -999.0,9
       RF97-09,  165E,RF-0463,  1,     12,02-12821,9,19970919,0513, 40.0093, 164.9992, 5464,    302.5,   9.2925,  34.1579,2,   -999.0,9,-999.0000,9,   -999.0,9,  -999.00,9,  -999.00,9,  -999.00,9,  -999.00,9,  -999.00,9, -999.000,9, -999.000,9,  -999.00,9,   -999.0,9,   -999.0,9,-999.0000,9,   -999.0,  9,  -999.00,9,   -999.0,  -999.00,9,  -999.00,9,  -999.00,9,  -999.00,9,   -999.0,-999.0000, -999,9,  300,   9.2592,  26.4171,   -999.0,9
       RF97-09,  165E,RF-0463,  1,     13,02-13590,2,19970919,0513, 40.0093, 164.9992, 5464,    304.0,   9.2754,  34.1554,2,   -999.0,9,-999.0000,9,    246.6,2,    19.65,2,  -999.00,9,    13.87,2,     0.02,2,     1.00,2, -999.000,9, -999.000,9,  -999.00,9,   -999.0,9,   -999.0,9,-999.0000,9,   -999.0,  9,     7.98,2,   -999.0,  -999.00,9,  -999.00,9,  -999.00,9,  -999.00,9,   -999.0,-999.0000, -999,9,  301,   9.2419,  26.4180,   -999.0,9
       RF97-09,  165E,RF-0463,  1,     11,02-12811,2,19970919,0510, 40.0093, 164.9992, 5464,    402.8,   7.0616,  33.9740,2,   -999.0,9,  33.9780,2,    183.2,2,    41.75,2,  -999.00,9,    23.98,2,     0.01,2,     1.74,2, -999.000,9, -999.000,9,  -999.00,9,   -999.0,9,   -999.0,9,-999.0000,9,   -999.0,  9,  -999.00,9,   -999.0,  -999.00,9,  -999.00,9,  -999.00,9,  -999.00,9,   -999.0,-999.0000, -999,9,  399,   7.0237,  26.6073,   -999.0,9
       RF97-09,  165E,RF-0463,  1,     10,02-10155,2,19970919,0508, 40.0093, 164.9992, 5464,    502.9,   5.4662,  33.9728,2,   -999.0,9,-999.0000,9,    133.7,2,    64.48,2,  -999.00,9,    31.41,2,     0.00,2,     2.29,2, -999.000,9, -999.000,9,  -999.00,9,   -999.0,9,   -999.0,9,-999.0000,9,   -999.0,  9,  -999.00,9,   -999.0,  -999.00,9,  -999.00,9,  -999.00,9,  -999.00,9,   -999.0,-999.0000, -999,9,  498,   5.4248,  26.8113,   -999.0,9
       RF97-09,  165E,RF-0463,  1,      9,02-12810,2,19970919,0505, 40.0093, 164.9992, 5464,    604.8,   4.6336,  34.0098,2,   -999.0,9,  34.0098,2,     98.1,2,    81.14,2,  -999.00,9,    35.83,2,     0.00,2,     2.62,2, -999.000,9, -999.000,9,  -999.00,9,   -999.0,9,   -999.0,9,-999.0000,9,   -999.0,  9,  -999.00,9,   -999.0,  -999.00,9,  -999.00,9,  -999.00,9,  -999.00,9,   -999.0,-999.0000, -999,9,  599,   4.5871,  26.9363,   -999.0,9
       RF97-09,  165E,RF-0463,  1,      8,02-12829,2,19970919,0502, 40.0093, 164.9992, 5464,    704.3,   4.1693,  34.1272,2,   -999.0,9,-999.0000,9,     66.5,2,    98.76,2,  -999.00,9,    39.31,2,     0.00,2,     2.85,2, -999.000,9, -999.000,9,  -999.00,9,   -999.0,9,   -999.0,9,-999.0000,9,   -999.0,  9,  -999.00,9,   -999.0,  -999.00,9,  -999.00,9,  -999.00,9,  -999.00,9,   -999.0,-999.0000, -999,9,  698,   4.1171,  27.0798,   -999.0,9
       RF97-09,  165E,RF-0463,  1,      7,02-13589,2,19970919,0500, 40.0093, 164.9992, 5464,    805.4,   3.8904,  34.1995,2,   -999.0,9,  34.1978,2,     52.0,2,   109.46,2,  -999.00,9,    40.75,2,     0.00,2,     2.97,2, -999.000,9, -999.000,9,  -999.00,9,   -999.0,9,   -999.0,9,-999.0000,9,   -999.0,  9,  -999.00,9,   -999.0,  -999.00,9,  -999.00,9,  -999.00,9,  -999.00,9,   -999.0,-999.0000, -999,9,  798,   3.8317,  27.1665,   -999.0,9
       RF97-09,  165E,RF-0463,  1,      6,02-12818,2,19970919,0457, 40.0093, 164.9992, 5464,    907.0,   3.5811,  34.2714,2,   -999.0,9,-999.0000,9,     43.9,2,   119.86,2,  -999.00,9,    41.64,2,     0.00,2,     3.03,2, -999.000,9, -999.000,9,  -999.00,9,   -999.0,9,   -999.0,9,-999.0000,9,   -999.0,  9,  -999.00,9,   -999.0,  -999.00,9,  -999.00,9,  -999.00,9,  -999.00,9,   -999.0,-999.0000, -999,9,  898,   3.5164,  27.2549,   -999.0,9
       RF97-09,  165E,RF-0463,  1,      5,02-12809,2,19970919,0454, 40.0093, 164.9992, 5464,   1006.4,   3.3021,  34.3256,2,   -999.0,9,  34.3251,2,     38.6,2,   128.69,2,  -999.00,9,    42.28,2,     0.00,2,     3.07,2, -999.000,9, -999.000,9,  -999.00,9,   -999.0,9,   -999.0,9,-999.0000,9,   -999.0,  9,  -999.00,9,   -999.0,  -999.00,9,  -999.00,9,  -999.00,9,  -999.00,9,   -999.0,-999.0000, -999,9,  996,   3.2316,  27.3253,   -999.0,9
       RF97-09,  165E,RF-0463,  1,      4,02-12817,2,19970919,0448, 40.0093, 164.9992, 5464,   1263.2,   2.7619,  34.4226,2,   -999.0,9,  34.4223,2,     36.6,2,   144.83,2,  -999.00,9,    43.05,2,     0.01,2,     3.12,2, -999.000,9, -999.000,9,  -999.00,9,   -999.0,9,   -999.0,9,-999.0000,9,   -999.0,  9,  -999.00,9,   -999.0,  -999.00,9,  -999.00,9,  -999.00,9,  -999.00,9,   -999.0,-999.0000, -999,9, 1250,   2.6760,  27.4530,   -999.0,9
       RF97-09,  165E,RF-0463,  1,      3,02-12808,2,19970919,0443, 40.0093, 164.9992, 5464,   1515.1,   2.4245,  34.4925,2,   -999.0,9,  34.4907,2,     43.0,2,   153.67,2,  -999.00,9,    42.89,2,     0.01,2,     3.10,2, -999.000,9, -999.000,9,  -999.00,9,   -999.0,9,   -999.0,9,-999.0000,9,   -999.0,  9,  -999.00,9,   -999.0,  -999.00,9,  -999.00,9,  -999.00,9,  -999.00,9,   -999.0,-999.0000, -999,9, 1498,   2.3223,  27.5390,   -999.0,9
       RF97-09,  165E,RF-0463,  1,      2,02-13588,2,19970919,0438, 40.0093, 164.9992, 5464,   1767.2,   2.1766,  34.5408,2,   -999.0,9,  34.5385,2,     51.1,2,   160.28,2,  -999.00,9,    42.54,2,     0.01,2,     3.05,2, -999.000,9, -999.000,9,  -999.00,9,   -999.0,9,   -999.0,9,-999.0000,9,   -999.0,  9,  -999.00,9,   -999.0,  -999.00,9,  -999.00,9,  -999.00,9,  -999.00,9,   -999.0,-999.0000, -999,9, 1746,   2.0572,  27.5992,   -999.0,9
       RF97-09,  165E,RF-0463,  1,      1,02-12807,2,19970919,0433, 40.0093, 164.9992, 5464,   2023.4,   1.9776,  34.5839,2,   -999.0,9,  34.5842,2,     67.3,2,   162.18,2,  -999.00,9,    41.56,2,     0.01,2,     2.98,2, -999.000,9, -999.000,9,  -999.00,9,   -999.0,9,   -999.0,9,-999.0000,9,   -999.0,  9,  -999.00,9,   -999.0,  -999.00,9,  -999.00,9,  -999.00,9,  -999.00,9,   2009.0,-999.0000, -999,9, 1998,   1.8397,  27.6508,   -999.0,9