BOTTLE,20130510GEMDJMAYT
EXPOCODE,SECT_ID,STNNBR,CASTNO,SAMPNO,BTLNBR,BTLNBR_FLAG_W,DATE,TIME,LATITUDE,LONGITUDE,DEPTH,CTDPRS,CTDTMP,CTDSAL,CTDSAL_FLAG_W,CTDOXY,CTDOXY_FLAG_W,SALNTY,SALNTY_FLAG_W,OXYGEN,OXYGEN_FLAG_W,SILCAT,SILCAT_FLAG_W,NITRAT,NITRAT_FLAG_W,NO2+NO3,NO2+NO3_FLAG_W,NITRIT,NITRIT_FLAG_W,PHSPHT,PHSPHT_FLAG_W,CFC-11,CFC-11_FLAG_W,CFC-12,CFC-12_FLAG_W,DELC13,DELC13_FLAG_W,TCARBN,TCARBN_FLAG_W,ALKALI,ALKALI_FLAG_W,PH,PH_FLAG_W,PH_TMP,PH_SCALE,PH_NBS,PH_NBS_FLAG_W,C13ERR,TOTALP,TOTALP_FLAG_W,AMMONI,AMMONI_FLAG_W,CHLORA,CHLORA_FLAG_W,PPHYTN,PPHYTN_FLAG_W,REVPRS,REVTMP,DEPTH_,DEPTH_FLAG,CTDDEP,THETA,SIGTHT,DOC,DOC_FLAG_W
,,,,,,,GMT,GMT,,,METER,DBAR,ITS-90,PSS-78,,UMOL/KG,,PSS-78,,UMOL/KG,,UMOL/KG,,UMOL/KG,,UMOL/KG,,UMOL/KG,,UMOL/KG,,PMOL/KG,,PMOL/KG,,/MILLE,,UMOL/KG,,UMOL/KG,,25_DEG_C,,DEG_C,,,,/MILLE,UMOL/KG,,UMOL/KG,,UG/L,,UG/L,,DBAR,ITS-90,METERS,,METERS,DEG_C,,UMOL/L,
       RF97-09,  142E,RF-0507,  1,     -9,      -9,5,19971101,1745, 32.4562, 141.7118, 7139,      0.0,  24.3444,  34.4283,2,   -999.0,9,-999.0000,9,    218.6,2,     2.04,2,  -999.00,9,     0.12,2,     0.03,2,     0.08,2, -999.000,9, -999.000,9,  -999.00,9,   -999.0,9,   -999.0,9,-999.0000,9,   -999.0,  9,  -999.00,9,   -999.0,  -999.00,9,  -999.00,9,     0.31,2,     0.10,2,   -999.0,-999.0000, -999,9,    0,  24.3444,  23.1064,   -999.0,9
       RF97-09,  142E,RF-0507,  1,     23,02-13591,2,19971101,1743, 32.4562, 141.7118, 7139,      9.5,  24.3527,  34.4281,2,   -999.0,9,  34.4318,2,    206.6,2,     2.01,2,  -999.00,9,     0.04,2,     0.03,2,     0.01,2, -999.000,9, -999.000,9,  -999.00,9,   -999.0,9,   -999.0,9,-999.0000,9,   -999.0,  9,  -999.00,9,   -999.0,  -999.00,9,  -999.00,9,     0.35,2,     0.07,2,   -999.0,-999.0000, -999,9,    9,  24.3507,  23.1044,   -999.0,9
       RF97-09,  142E,RF-0507,  1,     22,02-12828,2,19971101,1742, 32.4562, 141.7118, 7139,     24.4,  24.3577,  34.4276,2,   -999.0,9,-999.0000,9,    208.5,2,     1.76,2,  -999.00,9,     0.04,2,     0.03,2,     0.01,2, -999.000,9, -999.000,9,  -999.00,9,   -999.0,9,   -999.0,9,-999.0000,9,   -999.0,  9,  -999.00,9,   -999.0,  -999.00,9,  -999.00,9,     0.35,2,     0.08,2,   -999.0,-999.0000, -999,9,   24,  24.3525,  23.1034,   -999.0,9
       RF97-09,  142E,RF-0507,  1,     21,02-12827,2,19971101,1740, 32.4562, 141.7118, 7139,     51.0,  24.3419,  34.4256,2,   -999.0,9,  34.4288,2,    206.0,2,     2.00,2,  -999.00,9,     0.01,2,     0.03,2,     0.00,2, -999.000,9, -999.000,9,  -999.00,9,   -999.0,9,   -999.0,9,-999.0000,9,   -999.0,  9,  -999.00,9,   -999.0,  -999.00,9,  -999.00,9,     0.36,2,     0.10,2,   -999.0,-999.0000, -999,9,   51,  24.3311,  23.1083,   -999.0,9
       RF97-09,  142E,RF-0507,  1,     20,02-12826,2,19971101,1739, 32.4562, 141.7118, 7139,     73.6,  24.3462,  34.4290,2,   -999.0,9,-999.0000,9,    195.8,2,     2.01,2,  -999.00,9,     0.02,2,     0.02,2,     0.00,2, -999.000,9, -999.000,9,  -999.00,9,   -999.0,9,   -999.0,9,-999.0000,9,   -999.0,  9,  -999.00,9,   -999.0,  -999.00,9,  -999.00,9,     0.36,2,     0.12,2,   -999.0,-999.0000, -999,9,   73,  24.3306,  23.1111,   -999.0,9
       RF97-09,  142E,RF-0507,  1,     19,02-12825,2,19971101,1737, 32.4562, 141.7118, 7139,     99.7,  24.3505,  34.4354,2,   -999.0,9,  34.4214,4,    198.8,2,     1.77,2,  -999.00,9,     0.00,2,     0.02,2,     0.00,2, -999.000,9, -999.000,9,  -999.00,9,   -999.0,9,   -999.0,9,-999.0000,9,   -999.0,  9,  -999.00,9,   -999.0,  -999.00,9,  -999.00,9,     0.35,2,     0.12,2,   -999.0,-999.0000, -999,9,   99,  24.3294,  23.1163,   -999.0,9
       RF97-09,  142E,RF-0507,  1,     18,02-12824,3,19971101,1736, 32.4562, 141.7118, 7139,    124.4,  23.2011,  34.6892,2,   -999.0,9,-999.0000,9,    203.7,2,     1.92,2,  -999.00,9,     1.15,2,     0.11,2,     0.06,2, -999.000,9, -999.000,9,  -999.00,9,   -999.0,9,   -999.0,9,-999.0000,9,   -999.0,  9,  -999.00,9,   -999.0,  -999.00,9,  -999.00,9,     0.07,2,     0.10,2,   -999.0,-999.0000, -999,9,  124,  23.1755,  23.6473,   -999.0,9
       RF97-09,  142E,RF-0507,  1,     17,02-12814,2,19971101,1734, 32.4562, 141.7118, 7139,    148.9,  22.1305,  34.8166,2,   -999.0,9,-999.0000,9,    205.9,2,     2.81,2,  -999.00,9,     1.72,2,     0.04,2,     0.09,2, -999.000,9, -999.000,9,  -999.00,9,   -999.0,9,   -999.0,9,-999.0000,9,   -999.0,  9,  -999.00,9,   -999.0,  -999.00,9,  -999.00,9,     0.04,2,     0.07,2,   -999.0,-999.0000, -999,9,  148,  22.1010,  24.0501,   -999.0,9
       RF97-09,  142E,RF-0507,  1,     15,02-12833,9,19971101,1732, 32.4562, 141.7118, 7139,    199.0,  20.1120,  34.8408,2,   -999.0,9,-999.0000,9,   -999.0,9,  -999.00,9,  -999.00,9,  -999.00,9,  -999.00,9,  -999.00,9, -999.000,9, -999.000,9,  -999.00,9,   -999.0,9,   -999.0,9,-999.0000,9,   -999.0,  9,  -999.00,9,   -999.0,  -999.00,9,  -999.00,9,  -999.00,9,  -999.00,9,   -999.0,-999.0000, -999,9,  198,  20.0751,  24.6205,   -999.0,9
       RF97-09,  142E,RF-0507,  1,     16,02-12832,2,19971101,1732, 32.4562, 141.7118, 7139,    199.3,  20.1823,  34.8274,2,   -999.0,9,  34.8237,2,    192.3,2,     3.64,2,  -999.00,9,     3.20,2,     0.02,2,     0.19,2, -999.000,9, -999.000,9,  -999.00,9,   -999.0,9,   -999.0,9,-999.0000,9,   -999.0,  9,  -999.00,9,   -999.0,  -999.00,9,  -999.00,9,     0.01,2,     0.03,2,   -999.0,-999.0000, -999,9,  198,  20.1453,  24.5918,   -999.0,9
       RF97-09,  142E,RF-0507,  1,     14,02-13578,2,19971101,1730, 32.4562, 141.7118, 7139,    249.9,  18.4155,  34.8423,2,   -999.0,9,-999.0000,9,    193.0,2,     3.79,2,  -999.00,9,     3.15,2,     0.02,2,     0.19,2, -999.000,9, -999.000,9,  -999.00,9,   -999.0,9,   -999.0,9,-999.0000,9,   -999.0,  9,  -999.00,9,   -999.0,  -999.00,9,  -999.00,9,  -999.00,9,  -999.00,9,   -999.0,-999.0000, -999,9,  248,  18.3719,  25.0590,   -999.0,9
       RF97-09,  142E,RF-0507,  1,     13,02-13590,2,19971101,1728, 32.4562, 141.7118, 7139,    299.2,  17.5233,  34.8309,2,   -999.0,9,-999.0000,9,    195.2,2,     4.65,2,  -999.00,9,     5.18,2,     0.01,2,     0.29,2, -999.000,9, -999.000,9,  -999.00,9,   -999.0,9,   -999.0,9,-999.0000,9,   -999.0,  9,  -999.00,9,   -999.0,  -999.00,9,  -999.00,9,  -999.00,9,  -999.00,9,   -999.0,-999.0000, -999,9,  297,  17.4728,  25.2712,   -999.0,9
       RF97-09,  142E,RF-0507,  1,     12,02-12821,2,19971101,1725, 32.4562, 141.7118, 7139,    399.8,  15.3930,  34.6558,2,   -999.0,9,  34.6723,4,    187.1,2,     9.47,2,  -999.00,9,     9.15,2,     0.01,2,     0.55,2, -999.000,9, -999.000,9,  -999.00,9,   -999.0,9,   -999.0,9,-999.0000,9,   -999.0,  9,  -999.00,9,   -999.0,  -999.00,9,  -999.00,9,  -999.00,9,  -999.00,9,   -999.0,-999.0000, -999,9,  397,  15.3312,  25.6335,   -999.0,9
       RF97-09,  142E,RF-0507,  1,     11,02-12811,2,19971101,1722, 32.4562, 141.7118, 7139,    500.8,  12.0543,  34.4307,2,   -999.0,9,-999.0000,9,    167.3,2,    23.54,2,  -999.00,9,    16.48,2,     0.01,2,     1.05,2, -999.000,9, -999.000,9,  -999.00,9,   -999.0,9,   -999.0,9,-999.0000,9,   -999.0,  9,  -999.00,9,   -999.0,  -999.00,9,  -999.00,9,  -999.00,9,  -999.00,9,   -999.0,-999.0000, -999,9,  497,  11.9884,  26.1492,   -999.0,9
       RF97-09,  142E,RF-0507,  1,     10,02-10155,9,19971101,1722, 32.4562, 141.7118, 7139,    501.1,  12.0097,  34.4271,2,   -999.0,9,-999.0000,9,   -999.0,9,  -999.00,9,  -999.00,9,  -999.00,9,  -999.00,9,  -999.00,9, -999.000,9, -999.000,9,  -999.00,9,   -999.0,9,   -999.0,9,-999.0000,9,   -999.0,  9,  -999.00,9,   -999.0,  -999.00,9,  -999.00,9,  -999.00,9,  -999.00,9,   -999.0,-999.0000, -999,9,  497,  11.9438,  26.1548,   -999.0,9
       RF97-09,  142E,RF-0507,  1,      9,02-12810,4,19971101,1719, 32.4562, 141.7118, 7139,    600.6,   9.7478,  34.3173,2,   -999.0,9,-999.0000,9,   -999.0,9,  -999.00,9,  -999.00,9,  -999.00,9,  -999.00,9,  -999.00,9, -999.000,9, -999.000,9,  -999.00,9,   -999.0,9,   -999.0,9,-999.0000,9,   -999.0,  9,  -999.00,9,   -999.0,  -999.00,9,  -999.00,9,  -999.00,9,  -999.00,9,   -999.0,-999.0000, -999,9,  596,   9.6784,  26.4729,   -999.0,9
       RF97-09,  142E,RF-0507,  1,      8,02-12829,2,19971101,1716, 32.4562, 141.7118, 7139,    704.5,   6.9627,  34.1472,2,   -999.0,9,-999.0000,9,    136.4,2,    56.61,2,  -999.00,9,    28.05,2,     0.00,2,     1.93,2, -999.000,9, -999.000,9,  -999.00,9,   -999.0,9,   -999.0,9,-999.0000,9,   -999.0,  9,  -999.00,9,   -999.0,  -999.00,9,  -999.00,9,  -999.00,9,  -999.00,9,   -999.0,-999.0000, -999,9,  698,   6.8954,  26.7613,   -999.0,9
       RF97-09,  142E,RF-0507,  1,      7,02-13589,2,19971101,1714, 32.4562, 141.7118, 7139,    802.9,   5.4928,  34.2506,2,   -999.0,9,  34.2496,2,     90.9,2,    84.76,2,  -999.00,9,    34.25,2,     0.00,2,     2.41,2, -999.000,9, -999.000,9,  -999.00,9,   -999.0,9,   -999.0,9,-999.0000,9,   -999.0,  9,  -999.00,9,   -999.0,  -999.00,9,  -999.00,9,  -999.00,9,  -999.00,9,   -999.0,-999.0000, -999,9,  796,   5.4243,  27.0313,   -999.0,9
       RF97-09,  142E,RF-0507,  1,      6,02-12818,2,19971101,1711, 32.4562, 141.7118, 7139,    905.6,   4.2794,  34.2565,2,   -999.0,9,-999.0000,9,     64.4,2,   105.13,2,  -999.00,9,    38.43,2,     0.00,2,     2.76,2, -999.000,9, -999.000,9,  -999.00,9,   -999.0,9,   -999.0,9,-999.0000,9,   -999.0,  9,  -999.00,9,   -999.0,  -999.00,9,  -999.00,9,  -999.00,9,  -999.00,9,   -999.0,-999.0000, -999,9,  897,   4.2100,  27.1728,   -999.0,9
       RF97-09,  142E,RF-0507,  1,      5,02-12809,4,19971101,1709, 32.4562, 141.7118, 7139,   1004.5,   3.9251,  34.3601,2,   -999.0,9,  34.3600,2,   -999.0,9,  -999.00,9,  -999.00,9,  -999.00,9,  -999.00,9,  -999.00,9, -999.000,9, -999.000,9,  -999.00,9,   -999.0,9,   -999.0,9,-999.0000,9,   -999.0,  9,  -999.00,9,   -999.0,  -999.00,9,  -999.00,9,  -999.00,9,  -999.00,9,   -999.0,-999.0000, -999,9,  995,   3.8499,  27.2925,   -999.0,9
       RF97-09,  142E,RF-0507,  1,      4,02-12817,3,19971101,1704, 32.4562, 141.7118, 7139,   1260.0,   2.9798,  34.4251,2,   -999.0,9,  34.4331,2,   -999.0,9,   135.81,4,  -999.00,9,    41.24,4,     0.00,4,     2.97,4, -999.000,9, -999.000,9,  -999.00,9,   -999.0,9,   -999.0,9,-999.0000,9,   -999.0,  9,  -999.00,9,   -999.0,  -999.00,9,  -999.00,9,  -999.00,9,  -999.00,9,   -999.0,-999.0000, -999,9, 1247,   2.8921,  27.4359,   -999.0,9
       RF97-09,  142E,RF-0507,  1,      3,02-12808,2,19971101,1659, 32.4562, 141.7118, 7139,   1514.3,   2.4957,  34.4986,2,   -999.0,9,  34.4986,2,     49.0,2,   148.75,2,  -999.00,9,    41.72,2,     0.01,2,     3.00,2, -999.000,9, -999.000,9,  -999.00,9,   -999.0,9,   -999.0,9,-999.0000,9,   -999.0,  9,  -999.00,9,   -999.0,  -999.00,9,  -999.00,9,  -999.00,9,  -999.00,9,   -999.0,-999.0000, -999,9, 1498,   2.3927,  27.5380,   -999.0,9
       RF97-09,  142E,RF-0507,  1,      2,02-13588,2,19971101,1654, 32.4562, 141.7118, 7139,   1768.0,   2.1930,  34.5489,2,   -999.0,9,  34.5499,2,     61.6,2,   154.55,2,  -999.00,9,    41.11,2,     0.01,2,     2.94,2, -999.000,9, -999.000,9,  -999.00,9,   -999.0,9,   -999.0,9,-999.0000,9,   -999.0,  9,  -999.00,9,   -999.0,  -999.00,9,  -999.00,9,  -999.00,9,  -999.00,9,   -999.0,-999.0000, -999,9, 1748,   2.0732,  27.6044,   -999.0,9
       RF97-09,  142E,RF-0507,  1,      1,02-12807,2,19971101,1649, 32.4562, 141.7118, 7139,   2030.6,   1.9826,  34.5902,2,   -999.0,9,  34.5932,2,     81.4,2,   154.61,2,  -999.00,9,    39.95,2,     0.01,2,     2.85,2, -999.000,9, -999.000,9,  -999.00,9,   -999.0,9,   -999.0,9,-999.0000,9,   -999.0,  9,  -999.00,9,   -999.0,  -999.00,9,  -999.00,9,  -999.00,9,  -999.00,9,   2012.0,-999.0000, -999,9, 2007,   1.8440,  27.6555,   -999.0,9