BOTTLE,20130510GEMDJMAYT
EXPOCODE,SECT_ID,STNNBR,CASTNO,SAMPNO,BTLNBR,BTLNBR_FLAG_W,DATE,TIME,LATITUDE,LONGITUDE,DEPTH,CTDPRS,CTDTMP,CTDSAL,CTDSAL_FLAG_W,CTDOXY,CTDOXY_FLAG_W,SALNTY,SALNTY_FLAG_W,OXYGEN,OXYGEN_FLAG_W,SILCAT,SILCAT_FLAG_W,NITRAT,NITRAT_FLAG_W,NO2+NO3,NO2+NO3_FLAG_W,NITRIT,NITRIT_FLAG_W,PHSPHT,PHSPHT_FLAG_W,CFC-11,CFC-11_FLAG_W,CFC-12,CFC-12_FLAG_W,DELC13,DELC13_FLAG_W,TCARBN,TCARBN_FLAG_W,ALKALI,ALKALI_FLAG_W,PH,PH_FLAG_W,PH_TMP,PH_SCALE,PH_NBS,PH_NBS_FLAG_W,C13ERR,TOTALP,TOTALP_FLAG_W,AMMONI,AMMONI_FLAG_W,CHLORA,CHLORA_FLAG_W,PPHYTN,PPHYTN_FLAG_W,REVPRS,REVTMP,DEPTH_,DEPTH_FLAG,CTDDEP,THETA,SIGTHT,DOC,DOC_FLAG_W
,,,,,,,GMT,GMT,,,METER,DBAR,ITS-90,PSS-78,,UMOL/KG,,PSS-78,,UMOL/KG,,UMOL/KG,,UMOL/KG,,UMOL/KG,,UMOL/KG,,UMOL/KG,,PMOL/KG,,PMOL/KG,,/MILLE,,UMOL/KG,,UMOL/KG,,25_DEG_C,,DEG_C,,,,/MILLE,UMOL/KG,,UMOL/KG,,UG/L,,UG/L,,DBAR,ITS-90,METERS,,METERS,DEG_C,,UMOL/L,
       RF97-09, EQPAC,RF-0506,  1,     -9,      -9,5,19971019,0534,  0.0093, 149.9810, 5242,      0.0,  29.2065,  34.6350,2,   -999.0,9,-999.0000,9,    197.3,2,     1.45,2,  -999.00,9,     0.08,2,     0.00,2,     0.08,2, -999.000,9, -999.000,9,  -999.00,9,   -999.0,9,   -999.0,9,-999.0000,9,   -999.0,  9,     8.22,2,   -999.0,  -999.00,9,  -999.00,9,     0.08,2,     0.02,2,   -999.0,-999.0000, -999,9,    0,  29.2065,  21.7210,   -999.0,9
       RF97-09, EQPAC,RF-0506,  1,     24,02-12830,2,19971019,0532,  0.0093, 149.9810, 5242,      9.4,  29.1709,  34.6347,2,   -999.0,9,  34.6322,2,    196.2,2,     1.53,2,  -999.00,9,     0.10,2,     0.00,2,     0.08,2, -999.000,9, -999.000,9,  -999.00,9,   -999.0,9,   -999.0,9,-999.0000,9,   -999.0,  9,     8.24,2,   -999.0,  -999.00,9,  -999.00,9,     0.08,2,     0.02,2,   -999.0,-999.0000, -999,9,    9,  29.1686,  21.7334,   -999.0,9
       RF97-09, EQPAC,RF-0506,  1,     23,02-13591,2,19971019,0531,  0.0093, 149.9810, 5242,     24.5,  28.7750,  34.6155,2,   -999.0,9,-999.0000,9,    201.9,2,     1.45,2,  -999.00,9,     0.00,2,     0.00,2,     0.08,2, -999.000,9, -999.000,9,  -999.00,9,   -999.0,9,   -999.0,9,-999.0000,9,   -999.0,  9,     8.24,2,   -999.0,  -999.00,9,  -999.00,9,     0.12,2,     0.04,2,   -999.0,-999.0000, -999,9,   24,  28.7691,  21.8523,   -999.0,9
       RF97-09, EQPAC,RF-0506,  1,     22,02-12828,2,19971019,0529,  0.0093, 149.9810, 5242,     50.1,  28.3207,  34.7566,2,   -999.0,9,  34.7638,4,    197.8,2,     1.20,2,  -999.00,9,     0.04,2,     0.00,2,     0.11,2, -999.000,9, -999.000,9,  -999.00,9,   -999.0,9,   -999.0,9,-999.0000,9,   -999.0,  9,     8.24,2,   -999.0,  -999.00,9,  -999.00,9,     0.19,2,     0.06,2,   -999.0,-999.0000, -999,9,   50,  28.3088,  22.1104,   -999.0,9
       RF97-09, EQPAC,RF-0506,  1,     21,02-12827,2,19971019,0528,  0.0093, 149.9810, 5242,     73.7,  27.6977,  34.8593,2,   -999.0,9,-999.0000,9,    193.2,2,     1.34,2,  -999.00,9,     0.32,2,     0.04,2,     0.16,2, -999.000,9, -999.000,9,  -999.00,9,   -999.0,9,   -999.0,9,-999.0000,9,   -999.0,  9,     8.22,2,   -999.0,  -999.00,9,  -999.00,9,     0.47,2,     0.32,2,   -999.0,-999.0000, -999,9,   73,  27.6805,  22.3928,   -999.0,9
       RF97-09, EQPAC,RF-0506,  1,     20,02-12826,2,19971019,0527,  0.0093, 149.9810, 5242,     98.9,  23.5977,  35.2486,2,   -999.0,9,  35.2420,2,    135.1,2,     3.85,2,  -999.00,9,     8.98,2,     0.06,2,     0.65,2, -999.000,9, -999.000,9,  -999.00,9,   -999.0,9,   -999.0,9,-999.0000,9,   -999.0,  9,     8.09,2,   -999.0,  -999.00,9,  -999.00,9,     0.18,2,     0.22,2,   -999.0,-999.0000, -999,9,   98,  23.5771,  23.9543,   -999.0,9
       RF97-09, EQPAC,RF-0506,  1,     19,02-12825,2,19971019,0525,  0.0093, 149.9810, 5242,    123.4,  21.9703,  35.3462,2,   -999.0,9,-999.0000,9,    131.1,2,     4.69,2,  -999.00,9,    10.27,2,     0.03,2,     0.75,2, -999.000,9, -999.000,9,  -999.00,9,   -999.0,9,   -999.0,9,-999.0000,9,   -999.0,  9,     8.07,2,   -999.0,  -999.00,9,  -999.00,9,     0.06,2,     0.11,2,   -999.0,-999.0000, -999,9,  123,  21.9459,  24.4961,   -999.0,9
       RF97-09, EQPAC,RF-0506,  1,     18,02-12824,3,19971019,0524,  0.0093, 149.9810, 5242,    150.6,  19.4577,  35.3078,2,   -999.0,9,-999.0000,9,    135.7,2,     6.42,2,  -999.00,9,    11.73,2,     0.02,2,     0.85,2, -999.000,9, -999.000,9,  -999.00,9,   -999.0,9,   -999.0,9,-999.0000,9,   -999.0,  9,     8.04,4,   -999.0,  -999.00,9,  -999.00,9,     0.02,2,     0.04,2,   -999.0,-999.0000, -999,9,  150,  19.4303,  25.1457,   -999.0,9
       RF97-09, EQPAC,RF-0506,  1,     17,02-12814,2,19971019,0522,  0.0093, 149.9810, 5242,    199.9,  14.3291,  35.0153,2,   -999.0,9,  35.0191,2,    137.4,2,    13.65,2,  -999.00,9,    17.49,2,     0.01,2,     1.22,2, -999.000,9, -999.000,9,  -999.00,9,   -999.0,9,   -999.0,9,-999.0000,9,   -999.0,  9,     7.94,2,   -999.0,  -999.00,9,  -999.00,9,     0.00,2,     0.02,2,   -999.0,-999.0000, -999,9,  199,  14.2997,  26.1355,   -999.0,9
       RF97-09, EQPAC,RF-0506,  1,     16,02-12832,2,19971019,0520,  0.0093, 149.9810, 5242,    249.3,  12.4797,  34.9253,2,   -999.0,9,-999.0000,9,    139.2,2,    15.53,2,  -999.00,9,    20.27,2,     0.01,2,     1.38,2, -999.000,9, -999.000,9,  -999.00,9,   -999.0,9,   -999.0,9,-999.0000,9,   -999.0,  9,     7.91,2,   -999.0,  -999.00,9,  -999.00,9,     0.00,4,     0.02,4,   -999.0,-999.0000, -999,9,  248,  12.4462,  26.4448,   -999.0,9
       RF97-09, EQPAC,RF-0506,  1,     15,02-12833,2,19971019,0519,  0.0093, 149.9810, 5242,    299.7,  11.7286,  34.8772,2,   -999.0,9,-999.0000,9,    129.2,2,    17.58,2,  -999.00,9,    22.56,2,     0.01,2,     1.54,2, -999.000,9, -999.000,9,  -999.00,9,   -999.0,9,   -999.0,9,-999.0000,9,   -999.0,  9,     7.87,2,   -999.0,  -999.00,9,  -999.00,9,     0.00,4,     0.02,4,   -999.0,-999.0000, -999,9,  298,  11.6899,  26.5525,   -999.0,9
       RF97-09, EQPAC,RF-0506,  1,     13,02-13590,2,19971019,0516,  0.0093, 149.9810, 5242,    400.1,   8.8180,  34.6452,2,   -999.0,9,-999.0000,9,    107.0,2,    29.22,2,  -999.00,9,    30.21,2,     0.00,2,     2.05,2, -999.000,9, -999.000,9,  -999.00,9,   -999.0,9,   -999.0,9,-999.0000,9,   -999.0,  9,  -999.00,9,   -999.0,  -999.00,9,  -999.00,9,  -999.00,9,  -999.00,9,   -999.0,-999.0000, -999,9,  397,   8.7748,  26.8761,   -999.0,9
       RF97-09, EQPAC,RF-0506,  1,     14,02-13578,2,19971019,0516,  0.0093, 149.9810, 5242,    400.6,   8.8229,  34.6459,2,   -999.0,9,  34.6434,2,    107.0,2,    29.26,2,  -999.00,9,    30.18,2,     0.00,2,     2.05,2, -999.000,9, -999.000,9,  -999.00,9,   -999.0,9,   -999.0,9,-999.0000,9,   -999.0,  9,  -999.00,9,   -999.0,  -999.00,9,  -999.00,9,  -999.00,9,  -999.00,9,   -999.0,-999.0000, -999,9,  398,   8.7796,  26.8759,   -999.0,9
       RF97-09, EQPAC,RF-0506,  1,     11,02-12811,2,19971019,0513,  0.0093, 149.9810, 5242,    499.9,   7.4600,  34.5790,2,   -999.0,9,-999.0000,9,    120.9,2,    34.86,2,  -999.00,9,    31.79,2,     0.01,2,     2.18,2, -999.000,9, -999.000,9,  -999.00,9,   -999.0,9,   -999.0,9,-999.0000,9,   -999.0,  9,  -999.00,9,   -999.0,  -999.00,9,  -999.00,9,  -999.00,9,  -999.00,9,   -999.0,-999.0000, -999,9,  497,   7.4108,  27.0294,   -999.0,9
       RF97-09, EQPAC,RF-0506,  1,     12,02-12821,2,19971019,0513,  0.0093, 149.9810, 5242,    501.4,   7.4242,  34.5690,2,   -999.0,9,-999.0000,9,    117.6,2,    34.89,2,  -999.00,9,    31.91,2,     0.01,2,     2.18,2, -999.000,9, -999.000,9,  -999.00,9,   -999.0,9,   -999.0,9,-999.0000,9,   -999.0,  9,  -999.00,9,   -999.0,  -999.00,9,  -999.00,9,  -999.00,9,  -999.00,9,   -999.0,-999.0000, -999,9,  498,   7.3749,  27.0266,   -999.0,9
       RF97-09, EQPAC,RF-0506,  1,      9,02-12810,2,19971019,0508,  0.0093, 149.9810, 5242,    600.8,   7.0724,  34.5662,2,   -999.0,9,-999.0000,9,     93.9,2,    42.77,2,  -999.00,9,    35.10,2,     0.00,2,     2.43,2, -999.000,9, -999.000,9,  -999.00,9,   -999.0,9,   -999.0,9,-999.0000,9,   -999.0,  9,  -999.00,9,   -999.0,  -999.00,9,  -999.00,9,  -999.00,9,  -999.00,9,   -999.0,-999.0000, -999,9,  597,   7.0146,  27.0750,   -999.0,9
       RF97-09, EQPAC,RF-0506,  1,     10,02-10155,2,19971019,0509,  0.0093, 149.9810, 5242,    601.9,   7.0644,  34.5661,2,   -999.0,9,  34.5635,2,     94.0,2,    42.74,2,  -999.00,9,    35.08,2,     0.00,2,     2.42,2, -999.000,9, -999.000,9,  -999.00,9,   -999.0,9,   -999.0,9,-999.0000,9,   -999.0,  9,  -999.00,9,   -999.0,  -999.00,9,  -999.00,9,  -999.00,9,  -999.00,9,   -999.0,-999.0000, -999,9,  598,   7.0065,  27.0760,   -999.0,9
       RF97-09, EQPAC,RF-0506,  1,      8,02-12829,2,19971019,0506,  0.0093, 149.9810, 5242,    702.0,   6.0612,  34.5447,2,   -999.0,9,-999.0000,9,     90.4,2,    54.85,2,  -999.00,9,    37.29,2,     0.00,2,     2.61,2, -999.000,9, -999.000,9,  -999.00,9,   -999.0,9,   -999.0,9,-999.0000,9,   -999.0,  9,  -999.00,9,   -999.0,  -999.00,9,  -999.00,9,  -999.00,9,  -999.00,9,   -999.0,-999.0000, -999,9,  697,   5.9985,  27.1931,   -999.0,9
       RF97-09, EQPAC,RF-0506,  1,      7,02-13589,4,19971019,0503,  0.0093, 149.9810, 5242,    803.4,   5.2949,  34.5357,2,   -999.0,9,-999.0000,9,   -999.0,4,  -999.00,4,  -999.00,9,  -999.00,4,  -999.00,4,  -999.00,4, -999.000,9, -999.000,9,  -999.00,9,   -999.0,9,   -999.0,9,-999.0000,9,   -999.0,  9,  -999.00,9,   -999.0,  -999.00,9,  -999.00,9,  -999.00,9,  -999.00,9,   -999.0,-999.0000, -999,9,  797,   5.2273,  27.2805,   -999.0,9
       RF97-09, EQPAC,RF-0506,  1,      6,02-12818,2,19971019,0500,  0.0093, 149.9810, 5242,    904.0,   4.9033,  34.5390,2,   -999.0,9,  34.5395,2,    107.3,2,    71.53,2,  -999.00,9,    36.96,2,     0.00,2,     2.59,2, -999.000,9, -999.000,9,  -999.00,9,   -999.0,9,   -999.0,9,-999.0000,9,   -999.0,  9,  -999.00,9,   -999.0,  -999.00,9,  -999.00,9,  -999.00,9,  -999.00,9,   -999.0,-999.0000, -999,9,  897,   4.8292,  27.3294,   -999.0,9
       RF97-09, EQPAC,RF-0506,  1,      5,02-12809,2,19971019,0457,  0.0093, 149.9810, 5242,   1006.7,   4.5964,  34.5508,2,   -999.0,9,  34.5486,2,     94.1,2,    80.10,2,  -999.00,9,    38.24,2,     0.00,2,     2.72,2, -999.000,9, -999.000,9,  -999.00,9,   -999.0,9,   -999.0,9,-999.0000,9,   -999.0,  9,  -999.00,9,   -999.0,  -999.00,9,  -999.00,9,  -999.00,9,  -999.00,9,   -999.0,-999.0000, -999,9,  999,   4.5155,  27.3737,   -999.0,9
       RF97-09, EQPAC,RF-0506,  1,      4,02-12817,2,19971019,0451,  0.0093, 149.9810, 5242,   1260.7,   3.6036,  34.5805,2,   -999.0,9,  34.5781,2,     98.3,2,   103.22,2,  -999.00,9,    38.65,2,     0.00,2,     2.73,2, -999.000,9, -999.000,9,  -999.00,9,   -999.0,9,   -999.0,9,-999.0000,9,   -999.0,  9,  -999.00,9,   -999.0,  -999.00,9,  -999.00,9,  -999.00,9,  -999.00,9,   -999.0,-999.0000, -999,9, 1250,   3.5095,  27.5019,   -999.0,9
       RF97-09, EQPAC,RF-0506,  1,      3,02-12808,2,19971019,0446,  0.0093, 149.9810, 5242,   1514.2,   3.0082,  34.6025,2,   -999.0,9,  34.6003,2,    105.3,2,   114.82,2,  -999.00,9,    38.74,2,     0.00,2,     2.73,2, -999.000,9, -999.000,9,  -999.00,9,   -999.0,9,   -999.0,9,-999.0000,9,   -999.0,  9,  -999.00,9,   -999.0,  -999.00,9,  -999.00,9,  -999.00,9,  -999.00,9,   -999.0,-999.0000, -999,9, 1500,   2.8990,  27.5769,   -999.0,9
       RF97-09, EQPAC,RF-0506,  1,      2,02-13588,2,19971019,0441,  0.0093, 149.9810, 5242,   1768.9,   2.5900,  34.6220,2,   -999.0,9,  34.6190,2,    108.2,2,   124.72,2,  -999.00,9,    38.57,2,     0.00,2,     2.73,2, -999.000,9, -999.000,9,  -999.00,9,   -999.0,9,   -999.0,9,-999.0000,9,   -999.0,  9,  -999.00,9,   -999.0,  -999.00,9,  -999.00,9,  -999.00,9,  -999.00,9,   -999.0,-999.0000, -999,9, 1752,   2.4646,  27.6307,   -999.0,9
       RF97-09, EQPAC,RF-0506,  1,      1,02-12807,2,19971019,0436,  0.0093, 149.9810, 5242,   2026.3,   2.3378,  34.6337,2,   -999.0,9,  34.6312,2,    118.1,2,   128.31,2,  -999.00,9,    38.11,2,     0.00,2,     2.68,2, -999.000,9, -999.000,9,  -999.00,9,   -999.0,9,   -999.0,9,-999.0000,9,   -999.0,  9,  -999.00,9,   -999.0,  -999.00,9,  -999.00,9,  -999.00,9,  -999.00,9,   2010.0,-999.0000, -999,9, 2005,   2.1940,  27.6626,   -999.0,9