BOTTLE,20130510GEMDJMAYT
EXPOCODE,SECT_ID,STNNBR,CASTNO,SAMPNO,BTLNBR,BTLNBR_FLAG_W,DATE,TIME,LATITUDE,LONGITUDE,DEPTH,CTDPRS,CTDTMP,CTDSAL,CTDSAL_FLAG_W,CTDOXY,CTDOXY_FLAG_W,SALNTY,SALNTY_FLAG_W,OXYGEN,OXYGEN_FLAG_W,SILCAT,SILCAT_FLAG_W,NITRAT,NITRAT_FLAG_W,NO2+NO3,NO2+NO3_FLAG_W,NITRIT,NITRIT_FLAG_W,PHSPHT,PHSPHT_FLAG_W,CFC-11,CFC-11_FLAG_W,CFC-12,CFC-12_FLAG_W,DELC13,DELC13_FLAG_W,TCARBN,TCARBN_FLAG_W,ALKALI,ALKALI_FLAG_W,PH,PH_FLAG_W,PH_TMP,PH_SCALE,PH_NBS,PH_NBS_FLAG_W,C13ERR,TOTALP,TOTALP_FLAG_W,AMMONI,AMMONI_FLAG_W,CHLORA,CHLORA_FLAG_W,PPHYTN,PPHYTN_FLAG_W,REVPRS,REVTMP,DEPTH_,DEPTH_FLAG,CTDDEP,THETA,SIGTHT,DOC,DOC_FLAG_W
,,,,,,,GMT,GMT,,,METER,DBAR,ITS-90,PSS-78,,UMOL/KG,,PSS-78,,UMOL/KG,,UMOL/KG,,UMOL/KG,,UMOL/KG,,UMOL/KG,,UMOL/KG,,PMOL/KG,,PMOL/KG,,/MILLE,,UMOL/KG,,UMOL/KG,,25_DEG_C,,DEG_C,,,,/MILLE,UMOL/KG,,UMOL/KG,,UG/L,,UG/L,,DBAR,ITS-90,METERS,,METERS,DEG_C,,UMOL/L,
       RF97-09,  165E,RF-0488,  1,     -9,      -9,5,19971010,0329,  9.9950, 163.9875, 4979,      0.0,  28.9272,  34.0084,2,   -999.0,9,-999.0000,9,    244.7,3,     1.37,2,  -999.00,9,     0.06,2,     0.00,2,     0.12,2, -999.000,9, -999.000,9,  -999.00,9,   -999.0,9,   -999.0,9,-999.0000,9,   -999.0,  9,     8.25,2,   -999.0,  -999.00,9,  -999.00,9,     0.07,2,     0.01,2,   -999.0,-999.0000, -999,9,    0,  28.9272,  21.3440,   -999.0,9
       RF97-09,  165E,RF-0488,  1,     22,02-12828,2,19971010,0327,  9.9950, 163.9875, 4979,      9.7,  28.7200,  34.0033,2,   -999.0,9,  33.9976,2,    195.5,2,     1.31,2,  -999.00,9,     0.03,2,     0.00,2,     0.11,2, -999.000,9, -999.000,9,  -999.00,9,   -999.0,9,   -999.0,9,-999.0000,9,   -999.0,  9,     8.25,2,   -999.0,  -999.00,9,  -999.00,9,     0.08,2,     0.00,2,   -999.0,-999.0000, -999,9,   10,  28.7176,  21.4097,   -999.0,9
       RF97-09,  165E,RF-0488,  1,     21,02-12827,2,19971010,0326,  9.9950, 163.9875, 4979,     24.5,  28.2260,  34.1086,2,   -999.0,9,-999.0000,9,    200.4,2,     1.34,2,  -999.00,9,     0.04,2,     0.00,2,     0.12,2, -999.000,9, -999.000,9,  -999.00,9,   -999.0,9,   -999.0,9,-999.0000,9,   -999.0,  9,     8.25,2,   -999.0,  -999.00,9,  -999.00,9,     0.09,2,     0.01,2,   -999.0,-999.0000, -999,9,   24,  28.2202,  21.6525,   -999.0,9
       RF97-09,  165E,RF-0488,  1,     20,02-12826,2,19971010,0324,  9.9950, 163.9875, 4979,     49.9,  22.0075,  34.7801,2,   -999.0,9,  34.7782,2,    195.1,2,     2.16,2,  -999.00,9,     0.27,2,     0.02,2,     0.26,2, -999.000,9, -999.000,9,  -999.00,9,   -999.0,9,   -999.0,9,-999.0000,9,   -999.0,  9,     8.14,2,   -999.0,  -999.00,9,  -999.00,9,     0.46,2,     0.21,2,   -999.0,-999.0000, -999,9,   50,  21.9977,  24.0514,   -999.0,9
       RF97-09,  165E,RF-0488,  1,     19,02-12825,2,19971010,0323,  9.9950, 163.9875, 4979,     74.8,  19.9398,  34.8053,2,   -999.0,9,-999.0000,9,    169.2,2,     4.92,2,  -999.00,9,     4.66,2,     0.17,2,     0.49,2, -999.000,9, -999.000,9,  -999.00,9,   -999.0,9,   -999.0,9,-999.0000,9,   -999.0,  9,     8.07,2,   -999.0,  -999.00,9,  -999.00,9,     0.41,2,     0.34,2,   -999.0,-999.0000, -999,9,   74,  19.9260,  24.6327,   -999.0,9
       RF97-09,  165E,RF-0488,  1,     18,02-12824,2,19971010,0321,  9.9950, 163.9875, 4979,    100.2,  15.0463,  34.6009,2,   -999.0,9,-999.0000,4,    124.9,2,    13.66,2,  -999.00,9,    16.27,2,     0.04,2,     1.18,2, -999.000,9, -999.000,9,  -999.00,9,   -999.0,9,   -999.0,9,-999.0000,9,   -999.0,  9,     7.92,2,   -999.0,  -999.00,9,  -999.00,9,     0.19,2,     0.19,2,   -999.0,-999.0000, -999,9,  100,  15.0312,  25.6574,   -999.0,9
       RF97-09,  165E,RF-0488,  1,     17,02-12814,2,19971010,0320,  9.9950, 163.9875, 4979,    124.7,  12.9146,  34.5258,2,   -999.0,9,-999.0000,9,    101.5,2,    20.60,2,  -999.00,9,    22.20,2,     0.01,2,     1.59,2, -999.000,9, -999.000,9,  -999.00,9,   -999.0,9,   -999.0,9,-999.0000,9,   -999.0,  9,     7.83,2,   -999.0,  -999.00,9,  -999.00,9,     0.08,2,     0.07,2,   -999.0,-999.0000, -999,9,  124,  12.8976,  26.0459,   -999.0,9
       RF97-09,  165E,RF-0488,  1,     16,02-12832,2,19971010,0319,  9.9950, 163.9875, 4979,    149.7,  11.5511,  34.5354,2,   -999.0,9,-999.0000,9,     80.8,2,    26.53,2,  -999.00,9,    27.13,2,     0.01,2,     1.93,2, -999.000,9, -999.000,9,  -999.00,9,   -999.0,9,   -999.0,9,-999.0000,9,   -999.0,  9,     7.76,2,   -999.0,  -999.00,9,  -999.00,9,     0.02,2,     0.03,2,   -999.0,-999.0000, -999,9,  149,  11.5321,  26.3162,   -999.0,9
       RF97-09,  165E,RF-0488,  1,     14,02-13578,9,19971010,0316,  9.9950, 163.9875, 4979,    199.0,  10.5733,  34.5683,2,   -999.0,9,-999.0000,9,   -999.0,9,  -999.00,9,  -999.00,9,  -999.00,9,  -999.00,9,  -999.00,9, -999.000,9, -999.000,9,  -999.00,9,   -999.0,9,   -999.0,9,-999.0000,9,   -999.0,  9,  -999.00,9,   -999.0,  -999.00,9,  -999.00,9,  -999.00,9,  -999.00,9,   -999.0,-999.0000, -999,9,  198,  10.5495,  26.5196,   -999.0,9
       RF97-09,  165E,RF-0488,  1,     15,02-12833,2,19971010,0316,  9.9950, 163.9875, 4979,    199.3,  10.5043,  34.5714,2,   -999.0,9,  34.5716,2,     58.7,2,    32.03,2,  -999.00,9,    31.47,2,     0.01,2,     2.24,2, -999.000,9, -999.000,9,  -999.00,9,   -999.0,9,   -999.0,9,-999.0000,9,   -999.0,  9,     7.69,2,   -999.0,  -999.00,9,  -999.00,9,     0.01,2,     0.02,2,   -999.0,-999.0000, -999,9,  198,  10.4806,  26.5342,   -999.0,9
       RF97-09,  165E,RF-0488,  1,     13,02-13590,2,19971010,0314,  9.9950, 163.9875, 4979,    249.4,   9.7242,  34.6126,2,   -999.0,9,-999.0000,9,     48.9,2,    34.71,2,  -999.00,9,    34.10,2,     0.01,2,     2.42,2, -999.000,9, -999.000,9,  -999.00,9,   -999.0,9,   -999.0,9,-999.0000,9,   -999.0,  9,     7.67,2,   -999.0,  -999.00,9,  -999.00,9,  -999.00,9,  -999.00,9,   -999.0,-999.0000, -999,9,  248,   9.6958,  26.7008,   -999.0,9
       RF97-09,  165E,RF-0488,  1,     12,02-12821,2,19971010,0312,  9.9950, 163.9875, 4979,    300.0,   9.2904,  34.6217,2,   -999.0,9,-999.0000,9,     48.8,2,    36.44,2,  -999.00,9,    35.14,2,     0.01,2,     2.48,2, -999.000,9, -999.000,9,  -999.00,9,   -999.0,9,   -999.0,9,-999.0000,9,   -999.0,  9,     7.65,2,   -999.0,  -999.00,9,  -999.00,9,  -999.00,9,  -999.00,9,   -999.0,-999.0000, -999,9,  298,   9.2571,  26.7804,   -999.0,9
       RF97-09,  165E,RF-0488,  1,     11,02-12811,2,19971010,0309,  9.9950, 163.9875, 4979,    399.9,   8.4976,  34.5880,2,   -999.0,9,  34.5912,2,     50.0,2,    41.68,2,  -999.00,9,    36.43,2,     0.01,2,     2.58,2, -999.000,9, -999.000,9,  -999.00,9,   -999.0,9,   -999.0,9,-999.0000,9,   -999.0,  9,  -999.00,9,   -999.0,  -999.00,9,  -999.00,9,  -999.00,9,  -999.00,9,   -999.0,-999.0000, -999,9,  397,   8.4553,  26.8811,   -999.0,9
       RF97-09,  165E,RF-0488,  1,      9,02-12810,9,19971010,0306,  9.9950, 163.9875, 4979,    499.6,   7.9842,  34.5832,2,   -999.0,9,-999.0000,9,   -999.0,9,  -999.00,9,  -999.00,9,  -999.00,9,  -999.00,9,  -999.00,9, -999.000,9, -999.000,9,  -999.00,9,   -999.0,9,   -999.0,9,-999.0000,9,   -999.0,  9,  -999.00,9,   -999.0,  -999.00,9,  -999.00,9,  -999.00,9,  -999.00,9,   -999.0,-999.0000, -999,9,  496,   7.9330,  26.9565,   -999.0,9
       RF97-09,  165E,RF-0488,  1,     10,02-10155,2,19971010,0307,  9.9950, 163.9875, 4979,    500.4,   7.9727,  34.5853,2,   -999.0,9,-999.0000,9,     50.2,2,    44.77,2,  -999.00,9,    37.37,2,     0.01,2,     2.68,2, -999.000,9, -999.000,9,  -999.00,9,   -999.0,9,   -999.0,9,-999.0000,9,   -999.0,  9,  -999.00,9,   -999.0,  -999.00,9,  -999.00,9,  -999.00,9,  -999.00,9,   -999.0,-999.0000, -999,9,  497,   7.9215,  26.9599,   -999.0,9
       RF97-09,  165E,RF-0488,  1,      8,02-12829,2,19971010,0303,  9.9950, 163.9875, 4979,    601.3,   7.1973,  34.5419,2,   -999.0,9,  34.5464,2,     51.4,2,    53.68,2,  -999.00,9,    38.04,2,     0.00,2,     2.75,2, -999.000,9, -999.000,9,  -999.00,9,   -999.0,9,   -999.0,9,-999.0000,9,   -999.0,  9,  -999.00,9,   -999.0,  -999.00,9,  -999.00,9,  -999.00,9,  -999.00,9,   -999.0,-999.0000, -999,9,  597,   7.1388,  27.0386,   -999.0,9
       RF97-09,  165E,RF-0488,  1,      7,02-13589,2,19971010,0301,  9.9950, 163.9875, 4979,    702.3,   6.4175,  34.5317,2,   -999.0,9,-999.0000,9,     47.6,2,    63.84,2,  -999.00,9,    40.20,2,     0.00,2,     2.90,2, -999.000,9, -999.000,9,  -999.00,9,   -999.0,9,   -999.0,9,-999.0000,9,   -999.0,  9,  -999.00,9,   -999.0,  -999.00,9,  -999.00,9,  -999.00,9,  -999.00,9,   -999.0,-999.0000, -999,9,  697,   6.3529,  27.1370,   -999.0,9
       RF97-09,  165E,RF-0488,  1,      6,02-12818,2,19971010,0258,  9.9950, 163.9875, 4979,    803.0,   5.6753,  34.5302,2,   -999.0,9,  34.5344,2,     56.8,2,    73.68,2,  -999.00,9,    40.80,2,     0.01,2,     2.97,2, -999.000,9, -999.000,9,  -999.00,9,   -999.0,9,   -999.0,9,-999.0000,9,   -999.0,  9,  -999.00,9,   -999.0,  -999.00,9,  -999.00,9,  -999.00,9,  -999.00,9,   -999.0,-999.0000, -999,9,  797,   5.6054,  27.2307,   -999.0,9
       RF97-09,  165E,RF-0488,  1,      4,02-12817,2,19971010,0253,  9.9950, 163.9875, 4979,   1005.0,   4.6957,  34.5471,2,   -999.0,9,  34.5582,4,     75.2,2,    89.07,2,  -999.00,9,    40.28,2,     0.01,2,     2.88,2, -999.000,9, -999.000,9,  -999.00,9,   -999.0,9,   -999.0,9,-999.0000,9,   -999.0,  9,  -999.00,9,   -999.0,  -999.00,9,  -999.00,9,  -999.00,9,  -999.00,9,   -999.0,-999.0000, -999,9,  997,   4.6142,  27.3599,   -999.0,9
       RF97-09,  165E,RF-0488,  1,      5,02-12809,2,19971010,0254,  9.9950, 163.9875, 4979,   1005.6,   4.6927,  34.5423,2,   -999.0,9,-999.0000,9,   -999.0,9,  -999.00,9,  -999.00,9,  -999.00,9,  -999.00,9,  -999.00,9, -999.000,9, -999.000,9,  -999.00,9,   -999.0,9,   -999.0,9,-999.0000,9,   -999.0,  9,  -999.00,9,   -999.0,  -999.00,9,  -999.00,9,  -999.00,9,  -999.00,9,   -999.0,-999.0000, -999,9,  998,   4.6112,  27.3565,   -999.0,9
       RF97-09,  165E,RF-0488,  1,      3,02-12808,2,19971010,0248,  9.9950, 163.9875, 4979,   1259.0,   3.5888,  34.5735,2,   -999.0,9,  34.5834,4,     81.7,2,   111.13,2,  -999.00,9,    40.71,2,     0.01,2,     2.92,2, -999.000,9, -999.000,9,  -999.00,9,   -999.0,9,   -999.0,9,-999.0000,9,   -999.0,  9,  -999.00,9,   -999.0,  -999.00,9,  -999.00,9,  -999.00,9,  -999.00,9,   -999.0,-999.0000, -999,9, 1248,   3.4949,  27.4977,   -999.0,9
       RF97-09,  165E,RF-0488,  1,      2,02-13588,2,19971010,0243,  9.9950, 163.9875, 4979,   1513.2,   2.8712,  34.6023,2,   -999.0,9,  34.6072,2,     92.3,2,   125.87,2,  -999.00,9,    40.41,2,     0.01,2,     2.88,2, -999.000,9, -999.000,9,  -999.00,9,   -999.0,9,   -999.0,9,-999.0000,9,   -999.0,  9,  -999.00,9,   -999.0,  -999.00,9,  -999.00,9,  -999.00,9,  -999.00,9,   -999.0,-999.0000, -999,9, 1499,   2.7637,  27.5890,   -999.0,9
       RF97-09,  165E,RF-0488,  1,      1,02-12807,2,19971010,0239,  9.9950, 163.9875, 4979,   1766.7,   2.5088,  34.6195,2,   -999.0,9,  34.6196,2,     98.8,2,   133.47,2,  -999.00,9,    40.19,2,     0.01,2,     2.85,2, -999.000,9, -999.000,9,  -999.00,9,   -999.0,9,   -999.0,9,-999.0000,9,   -999.0,  9,  -999.00,9,   -999.0,  -999.00,9,  -999.00,9,  -999.00,9,  -999.00,9,   1753.0,-999.0000, -999,9, 1749,   2.3847,  27.6355,   -999.0,9
       RF97-09,  165E,RF-0488,  1,     24,02-12830,2,19971010,0233,  9.9950, 163.9875, 4979,   2022.2,   2.2434,  34.6336,2,   -999.0,9,  34.6320,2,    103.9,2,   139.08,2,  -999.00,9,    39.92,2,     0.01,2,     2.83,2, -999.000,9, -999.000,9,  -999.00,9,   -999.0,9,   -999.0,9,-999.0000,9,   -999.0,  9,  -999.00,9,   -999.0,  -999.00,9,  -999.00,9,  -999.00,9,  -999.00,9,   -999.0,-999.0000, -999,9, 2001,   2.1014,  27.6700,   -999.0,9