BOTTLE,20130510GEMDJMAYT
EXPOCODE,SECT_ID,STNNBR,CASTNO,SAMPNO,BTLNBR,BTLNBR_FLAG_W,DATE,TIME,LATITUDE,LONGITUDE,DEPTH,CTDPRS,CTDTMP,CTDSAL,CTDSAL_FLAG_W,CTDOXY,CTDOXY_FLAG_W,SALNTY,SALNTY_FLAG_W,OXYGEN,OXYGEN_FLAG_W,SILCAT,SILCAT_FLAG_W,NITRAT,NITRAT_FLAG_W,NO2+NO3,NO2+NO3_FLAG_W,NITRIT,NITRIT_FLAG_W,PHSPHT,PHSPHT_FLAG_W,CFC-11,CFC-11_FLAG_W,CFC-12,CFC-12_FLAG_W,DELC13,DELC13_FLAG_W,TCARBN,TCARBN_FLAG_W,ALKALI,ALKALI_FLAG_W,PH,PH_FLAG_W,PH_TMP,PH_SCALE,PH_NBS,PH_NBS_FLAG_W,C13ERR,TOTALP,TOTALP_FLAG_W,AMMONI,AMMONI_FLAG_W,CHLORA,CHLORA_FLAG_W,PPHYTN,PPHYTN_FLAG_W,REVPRS,REVTMP,DEPTH_,DEPTH_FLAG,CTDDEP,THETA,SIGTHT,DOC,DOC_FLAG_W
,,,,,,,GMT,GMT,,,METER,DBAR,ITS-90,PSS-78,,UMOL/KG,,PSS-78,,UMOL/KG,,UMOL/KG,,UMOL/KG,,UMOL/KG,,UMOL/KG,,UMOL/KG,,PMOL/KG,,PMOL/KG,,/MILLE,,UMOL/KG,,UMOL/KG,,25_DEG_C,,DEG_C,,,,/MILLE,UMOL/KG,,UMOL/KG,,UG/L,,UG/L,,DBAR,ITS-90,METERS,,METERS,DEG_C,,UMOL/L,
       RF97-09,  165E,RF-0493,  1,     -9,      -9,5,19971011,1042,  5.1687, 165.0118, 4800,      0.0,  28.1707,  33.8061,2,   -999.0,9,-999.0000,9,    198.2,2,     1.75,2,  -999.00,9,     0.03,2,     0.00,2,     0.09,2, -999.000,9, -999.000,9,  -999.00,9,   -999.0,9,   -999.0,9,-999.0000,9,   -999.0,  9,     8.25,2,   -999.0,  -999.00,9,  -999.00,9,     0.08,2,     0.03,2,   -999.0,-999.0000, -999,9,    0,  28.1707,  21.4415,   -999.0,9
       RF97-09,  165E,RF-0493,  1,     23,02-13591,2,19971011,1040,  5.1687, 165.0118, 4800,      9.0,  28.1913,  33.8220,2,   -999.0,9,  33.8398,4,    196.1,2,     1.89,2,  -999.00,9,     0.04,2,     0.00,2,     0.09,2, -999.000,9, -999.000,9,  -999.00,9,   -999.0,9,   -999.0,9,-999.0000,9,   -999.0,  9,     8.25,2,   -999.0,  -999.00,9,  -999.00,9,     0.10,2,     0.03,2,   -999.0,-999.0000, -999,9,    9,  28.1892,  21.4474,   -999.0,9
       RF97-09,  165E,RF-0493,  1,     22,02-12828,2,19971011,1039,  5.1687, 165.0118, 4800,     24.1,  28.0562,  33.8401,2,   -999.0,9,-999.0000,9,    199.3,2,     1.68,2,  -999.00,9,     0.00,2,     0.00,2,     0.08,2, -999.000,9, -999.000,9,  -999.00,9,   -999.0,9,   -999.0,9,-999.0000,9,   -999.0,  9,     8.25,2,   -999.0,  -999.00,9,  -999.00,9,     0.18,2,     0.02,2,   -999.0,-999.0000, -999,9,   24,  28.0506,  21.5062,   -999.0,9
       RF97-09,  165E,RF-0493,  1,     21,02-12827,2,19971011,1038,  5.1687, 165.0118, 4800,     49.0,  22.6840,  34.7870,2,   -999.0,9,  34.7815,2,    165.5,2,     4.37,2,  -999.00,9,     3.43,2,     0.23,2,     0.34,2, -999.000,9, -999.000,9,  -999.00,9,   -999.0,9,   -999.0,9,-999.0000,9,   -999.0,  9,     8.12,2,   -999.0,  -999.00,9,  -999.00,9,     0.52,2,     0.28,2,   -999.0,-999.0000, -999,9,   49,  22.6741,  23.8655,   -999.0,9
       RF97-09,  165E,RF-0493,  1,     20,02-12826,2,19971011,1037,  5.1687, 165.0118, 4800,     74.0,  19.6064,  34.7759,2,   -999.0,9,-999.0000,9,    148.2,2,     7.88,2,  -999.00,9,     8.69,2,     0.31,2,     0.66,2, -999.000,9, -999.000,9,  -999.00,9,   -999.0,9,   -999.0,9,-999.0000,9,   -999.0,  9,     8.04,2,   -999.0,  -999.00,9,  -999.00,9,     0.24,2,     0.30,2,   -999.0,-999.0000, -999,9,   74,  19.5930,  24.6973,   -999.0,9
       RF97-09,  165E,RF-0493,  1,     19,02-12825,2,19971011,1035,  5.1687, 165.0118, 4800,     99.4,  17.6820,  34.7258,2,   -999.0,9,  34.7298,2,    133.1,2,    11.73,2,  -999.00,9,    13.19,2,     0.04,2,     0.92,2, -999.000,9, -999.000,9,  -999.00,9,   -999.0,9,   -999.0,9,-999.0000,9,   -999.0,  9,     7.98,2,   -999.0,  -999.00,9,  -999.00,9,     0.11,2,     0.20,2,   -999.0,-999.0000, -999,9,   99,  17.6652,  25.1439,   -999.0,9
       RF97-09,  165E,RF-0493,  1,     18,02-12824,2,19971011,1034,  5.1687, 165.0118, 4800,    123.6,  15.2395,  34.6356,2,   -999.0,9,-999.0000,9,    117.5,2,    17.02,2,  -999.00,9,    18.04,2,     0.01,2,     1.26,2, -999.000,9, -999.000,9,  -999.00,9,   -999.0,9,   -999.0,9,-999.0000,9,   -999.0,  9,     7.90,2,   -999.0,  -999.00,9,  -999.00,9,     0.04,2,     0.07,2,   -999.0,-999.0000, -999,9,  123,  15.2207,  25.6424,   -999.0,9
       RF97-09,  165E,RF-0493,  1,     17,02-12814,2,19971011,1033,  5.1687, 165.0118, 4800,    149.3,  12.5465,  34.5791,2,   -999.0,9,-999.0000,9,     93.7,2,    24.05,2,  -999.00,9,    24.40,2,     0.01,2,     1.70,2, -999.000,9, -999.000,9,  -999.00,9,   -999.0,9,   -999.0,9,-999.0000,9,   -999.0,  9,     7.80,2,   -999.0,  -999.00,9,  -999.00,9,     0.01,2,     0.03,2,   -999.0,-999.0000, -999,9,  148,  12.5265,  26.1605,   -999.0,9
       RF97-09,  165E,RF-0493,  1,     16,02-12832,2,19971011,1031,  5.1687, 165.0118, 4800,    199.0,  10.1935,  34.5950,2,   -999.0,9,  34.5958,2,     57.4,2,    33.37,2,  -999.00,9,    32.16,2,     0.00,2,     2.25,2, -999.000,9, -999.000,9,  -999.00,9,   -999.0,9,   -999.0,9,-999.0000,9,   -999.0,  9,     7.69,2,   -999.0,  -999.00,9,  -999.00,9,     0.00,2,     0.03,2,   -999.0,-999.0000, -999,9,  198,  10.1702,  26.6065,   -999.0,9
       RF97-09,  165E,RF-0493,  1,     15,02-12833,9,19971011,1030,  5.1687, 165.0118, 4800,    199.3,  10.1730,  34.5907,2,   -999.0,9,-999.0000,9,   -999.0,9,  -999.00,9,  -999.00,9,  -999.00,9,  -999.00,9,  -999.00,9, -999.000,9, -999.000,9,  -999.00,9,   -999.0,9,   -999.0,9,-999.0000,9,   -999.0,  9,  -999.00,9,   -999.0,  -999.00,9,  -999.00,9,  -999.00,9,  -999.00,9,   -999.0,-999.0000, -999,9,  198,  10.1498,  26.6067,   -999.0,9
       RF97-09,  165E,RF-0493,  1,     14,02-13578,2,19971011,1029,  5.1687, 165.0118, 4800,    249.5,   9.3846,  34.6147,2,   -999.0,9,-999.0000,9,     59.4,2,    36.01,2,  -999.00,9,    33.64,2,     0.00,2,     2.34,2, -999.000,9, -999.000,9,  -999.00,9,   -999.0,9,   -999.0,9,-999.0000,9,   -999.0,  9,     7.67,2,   -999.0,  -999.00,9,  -999.00,9,  -999.00,9,  -999.00,9,   -999.0,-999.0000, -999,9,  248,   9.3569,  26.7586,   -999.0,9
       RF97-09,  165E,RF-0493,  1,     13,02-13590,2,19971011,1027,  5.1687, 165.0118, 4800,    299.2,   8.9586,  34.6150,2,   -999.0,9,-999.0000,9,     62.8,2,    37.46,2,  -999.00,9,    34.28,2,     0.01,2,     2.38,2, -999.000,9, -999.000,9,  -999.00,9,   -999.0,9,   -999.0,9,-999.0000,9,   -999.0,  9,     7.67,2,   -999.0,  -999.00,9,  -999.00,9,  -999.00,9,  -999.00,9,   -999.0,-999.0000, -999,9,  297,   8.9262,  26.8284,   -999.0,9
       RF97-09,  165E,RF-0493,  1,     12,02-12821,2,19971011,1024,  5.1687, 165.0118, 4800,    399.5,   8.1804,  34.6006,2,   -999.0,9,  34.5991,2,     71.8,2,    39.66,2,  -999.00,9,    35.09,2,     0.01,2,     2.43,2, -999.000,9, -999.000,9,  -999.00,9,   -999.0,9,   -999.0,9,-999.0000,9,   -999.0,  9,  -999.00,9,   -999.0,  -999.00,9,  -999.00,9,  -999.00,9,  -999.00,9,   -999.0,-999.0000, -999,9,  397,   8.1392,  26.9392,   -999.0,9
       RF97-09,  165E,RF-0493,  1,     10,02-10155,9,19971011,1021,  5.1687, 165.0118, 4800,    500.2,   7.4798,  34.5728,2,   -999.0,9,-999.0000,9,   -999.0,9,  -999.00,9,  -999.00,9,  -999.00,9,  -999.00,9,  -999.00,9, -999.000,9, -999.000,9,  -999.00,9,   -999.0,9,   -999.0,9,-999.0000,9,   -999.0,  9,  -999.00,9,   -999.0,  -999.00,9,  -999.00,9,  -999.00,9,  -999.00,9,   -999.0,-999.0000, -999,9,  497,   7.4304,  27.0217,   -999.0,9
       RF97-09,  165E,RF-0493,  1,     11,02-12811,2,19971011,1022,  5.1687, 165.0118, 4800,    501.2,   7.4759,  34.5740,2,   -999.0,9,-999.0000,9,     75.0,2,    44.38,2,  -999.00,9,    36.13,2,     0.00,2,     2.52,2, -999.000,9, -999.000,9,  -999.00,9,   -999.0,9,   -999.0,9,-999.0000,9,   -999.0,  9,  -999.00,9,   -999.0,  -999.00,9,  -999.00,9,  -999.00,9,  -999.00,9,   -999.0,-999.0000, -999,9,  498,   7.4264,  27.0232,   -999.0,9
       RF97-09,  165E,RF-0493,  1,      9,02-12810,2,19971011,1019,  5.1687, 165.0118, 4800,    601.2,   6.7613,  34.5521,2,   -999.0,9,  34.5389,4,     56.7,2,    55.96,2,  -999.00,9,    38.81,2,     0.00,2,     2.76,2, -999.000,9, -999.000,9,  -999.00,9,   -999.0,9,   -999.0,9,-999.0000,9,   -999.0,  9,  -999.00,9,   -999.0,  -999.00,9,  -999.00,9,  -999.00,9,  -999.00,9,   -999.0,-999.0000, -999,9,  597,   6.7048,  27.1063,   -999.0,9
       RF97-09,  165E,RF-0493,  1,      8,02-12829,2,19971011,1016,  5.1687, 165.0118, 4800,    702.7,   6.1102,  34.5409,2,   -999.0,9,-999.0000,9,     68.6,2,    63.24,2,  -999.00,9,    38.98,2,     0.00,2,     2.76,2, -999.000,9, -999.000,9,  -999.00,9,   -999.0,9,   -999.0,9,-999.0000,9,   -999.0,  9,  -999.00,9,   -999.0,  -999.00,9,  -999.00,9,  -999.00,9,  -999.00,9,   -999.0,-999.0000, -999,9,  698,   6.0472,  27.1839,   -999.0,9
       RF97-09,  165E,RF-0493,  1,      7,02-13589,2,19971011,1013,  5.1687, 165.0118, 4800,    802.2,   5.6168,  34.5403,2,   -999.0,9,  34.5436,2,     69.9,2,    70.74,2,  -999.00,9,    39.65,2,     0.00,2,     2.80,2, -999.000,9, -999.000,9,  -999.00,9,   -999.0,9,   -999.0,9,-999.0000,9,   -999.0,  9,  -999.00,9,   -999.0,  -999.00,9,  -999.00,9,  -999.00,9,  -999.00,9,   -999.0,-999.0000, -999,9,  796,   5.5473,  27.2458,   -999.0,9
       RF97-09,  165E,RF-0493,  1,      6,02-12818,2,19971011,1011,  5.1687, 165.0118, 4800,    904.2,   4.7447,  34.5516,2,   -999.0,9,-999.0000,9,     80.2,2,    83.66,2,  -999.00,9,    39.90,2,     0.01,2,     2.82,2, -999.000,9, -999.000,9,  -999.00,9,   -999.0,9,   -999.0,9,-999.0000,9,   -999.0,  9,  -999.00,9,   -999.0,  -999.00,9,  -999.00,9,  -999.00,9,  -999.00,9,   -999.0,-999.0000, -999,9,  897,   4.6717,  27.3571,   -999.0,9
       RF97-09,  165E,RF-0493,  1,      5,02-12809,2,19971011,1008,  5.1687, 165.0118, 4800,   1005.9,   4.4276,  34.5562,2,   -999.0,9,  34.5493,4,     85.7,2,    90.78,2,  -999.00,9,    39.50,2,     0.00,2,     2.78,2, -999.000,9, -999.000,9,  -999.00,9,   -999.0,9,   -999.0,9,-999.0000,9,   -999.0,  9,  -999.00,9,   -999.0,  -999.00,9,  -999.00,9,  -999.00,9,  -999.00,9,   -999.0,-999.0000, -999,9,  998,   4.3480,  27.3963,   -999.0,9
       RF97-09,  165E,RF-0493,  1,      4,02-12817,2,19971011,1004,  5.1687, 165.0118, 4800,   1259.2,   3.7125,  34.5787,2,   -999.0,9,  34.5987,4,     83.8,2,   105.38,2,  -999.00,9,    40.58,2,     0.01,2,     2.89,2, -999.000,9, -999.000,9,  -999.00,9,   -999.0,9,   -999.0,9,-999.0000,9,   -999.0,  9,  -999.00,9,   -999.0,  -999.00,9,  -999.00,9,  -999.00,9,  -999.00,9,   -999.0,-999.0000, -999,9, 1248,   3.6174,  27.4898,   -999.0,9
       RF97-09,  165E,RF-0493,  1,      3,02-12808,2,19971011,0956,  5.1687, 165.0118, 4800,   1513.9,   3.1076,  34.5977,2,   -999.0,9,  34.5757,4,     94.0,2,   117.52,2,  -999.00,9,    40.09,2,     0.00,2,     2.84,2, -999.000,9, -999.000,9,  -999.00,9,   -999.0,9,   -999.0,9,-999.0000,9,   -999.0,  9,  -999.00,9,   -999.0,  -999.00,9,  -999.00,9,  -999.00,9,  -999.00,9,   -999.0,-999.0000, -999,9, 1500,   2.9973,  27.5642,   -999.0,9
       RF97-09,  165E,RF-0493,  1,      2,02-13588,2,19971011,0951,  5.1687, 165.0118, 4800,   1769.1,   2.6856,  34.6163,2,   -999.0,9,  34.6141,2,     97.0,2,   127.19,2,  -999.00,9,    40.04,2,     0.00,2,     2.82,2, -999.000,9, -999.000,9,  -999.00,9,   -999.0,9,   -999.0,9,-999.0000,9,   -999.0,  9,  -999.00,9,   -999.0,  -999.00,9,  -999.00,9,  -999.00,9,  -999.00,9,   -999.0,-999.0000, -999,9, 1752,   2.5589,  27.6181,   -999.0,9
       RF97-09,  165E,RF-0493,  1,      1,02-12807,2,19971011,0946,  5.1687, 165.0118, 4800,   2032.4,   2.2123,  34.6398,2,   -999.0,9,  34.6424,2,    106.0,2,   137.14,2,  -999.00,9,    39.60,2,     0.00,2,     2.78,2, -999.000,9, -999.000,9,  -999.00,9,   -999.0,9,   -999.0,9,-999.0000,9,   -999.0,  9,  -999.00,9,   -999.0,  -999.00,9,  -999.00,9,  -999.00,9,  -999.00,9,   2011.0,-999.0000, -999,9, 2011,   2.0698,  27.6775,   -999.0,9