BOTTLE,20130510GEMDJMAYT
EXPOCODE,SECT_ID,STNNBR,CASTNO,SAMPNO,BTLNBR,BTLNBR_FLAG_W,DATE,TIME,LATITUDE,LONGITUDE,DEPTH,CTDPRS,CTDTMP,CTDSAL,CTDSAL_FLAG_W,CTDOXY,CTDOXY_FLAG_W,SALNTY,SALNTY_FLAG_W,OXYGEN,OXYGEN_FLAG_W,SILCAT,SILCAT_FLAG_W,NITRAT,NITRAT_FLAG_W,NO2+NO3,NO2+NO3_FLAG_W,NITRIT,NITRIT_FLAG_W,PHSPHT,PHSPHT_FLAG_W,CFC-11,CFC-11_FLAG_W,CFC-12,CFC-12_FLAG_W,DELC13,DELC13_FLAG_W,TCARBN,TCARBN_FLAG_W,ALKALI,ALKALI_FLAG_W,PH,PH_FLAG_W,PH_TMP,PH_SCALE,PH_NBS,PH_NBS_FLAG_W,C13ERR,TOTALP,TOTALP_FLAG_W,AMMONI,AMMONI_FLAG_W,CHLORA,CHLORA_FLAG_W,PPHYTN,PPHYTN_FLAG_W,REVPRS,REVTMP,DEPTH_,DEPTH_FLAG,CTDDEP,THETA,SIGTHT,DOC,DOC_FLAG_W
,,,,,,,GMT,GMT,,,METER,DBAR,ITS-90,PSS-78,,UMOL/KG,,PSS-78,,UMOL/KG,,UMOL/KG,,UMOL/KG,,UMOL/KG,,UMOL/KG,,UMOL/KG,,PMOL/KG,,PMOL/KG,,/MILLE,,UMOL/KG,,UMOL/KG,,25_DEG_C,,DEG_C,,,,/MILLE,UMOL/KG,,UMOL/KG,,UG/L,,UG/L,,DBAR,ITS-90,METERS,,METERS,DEG_C,,UMOL/L,
       RF97-09, EQPAC,RF-0501,  1,     -9,      -9,5,19971015,0406, -0.0042, 162.5103, 4408,      0.0,  29.4624,  34.3169,2,   -999.0,9,-999.0000,9,    205.2,2,     1.46,2,  -999.00,9,     0.07,2,     0.00,2,     0.06,2, -999.000,9, -999.000,9,  -999.00,9,   -999.0,9,   -999.0,9,-999.0000,9,   -999.0,  9,     8.26,2,   -999.0,  -999.00,9,  -999.00,9,     0.07,2,     0.03,2,   -999.0,-999.0000, -999,9,    0,  29.4624,  21.3963,   -999.0,9
       RF97-09, EQPAC,RF-0501,  1,     23,02-13591,2,19971015,0404, -0.0042, 162.5103, 4408,      9.6,  28.6901,  34.3078,2,   -999.0,9,  34.3306,4,    196.8,2,     1.16,2,  -999.00,9,     0.04,2,     0.00,2,     0.06,2, -999.000,9, -999.000,9,  -999.00,9,   -999.0,9,   -999.0,9,-999.0000,9,   -999.0,  9,     8.29,2,   -999.0,  -999.00,9,  -999.00,9,     0.08,2,     0.04,2,   -999.0,-999.0000, -999,9,   10,  28.6878,  21.6482,   -999.0,9
       RF97-09, EQPAC,RF-0501,  1,     22,02-12828,2,19971015,0403, -0.0042, 162.5103, 4408,     24.2,  28.6095,  34.3742,2,   -999.0,9,-999.0000,9,    199.6,2,     1.18,2,  -999.00,9,     0.05,2,     0.00,2,     0.07,2, -999.000,9, -999.000,9,  -999.00,9,   -999.0,9,   -999.0,9,-999.0000,9,   -999.0,  9,     8.29,2,   -999.0,  -999.00,9,  -999.00,9,     0.09,2,     0.04,2,   -999.0,-999.0000, -999,9,   24,  28.6037,  21.7259,   -999.0,9
       RF97-09, EQPAC,RF-0501,  1,     21,02-12827,2,19971015,0402, -0.0042, 162.5103, 4408,     48.9,  28.4370,  34.4623,2,   -999.0,9,  34.4646,2,    198.8,2,     1.16,2,  -999.00,9,  -999.00,4,     0.00,2,     0.08,2, -999.000,9, -999.000,9,  -999.00,9,   -999.0,9,   -999.0,9,-999.0000,9,   -999.0,  9,     8.32,2,   -999.0,  -999.00,9,  -999.00,9,     0.19,2,     0.07,2,   -999.0,-999.0000, -999,9,   49,  28.4254,  21.8509,   -999.0,9
       RF97-09, EQPAC,RF-0501,  1,     20,02-12826,2,19971015,0400, -0.0042, 162.5103, 4408,     74.0,  28.0568,  34.5921,2,   -999.0,9,-999.0000,9,    179.9,2,     1.83,2,  -999.00,9,     2.33,2,     0.08,2,     0.24,2, -999.000,9, -999.000,9,  -999.00,9,   -999.0,9,   -999.0,9,-999.0000,9,   -999.0,  9,     8.23,2,   -999.0,  -999.00,9,  -999.00,9,     0.54,2,     0.23,2,   -999.0,-999.0000, -999,9,   74,  28.0393,  22.0751,   -999.0,9
       RF97-09, EQPAC,RF-0501,  1,     19,02-12825,2,19971015,0359, -0.0042, 162.5103, 4408,     99.6,  22.6816,  35.2803,2,   -999.0,9,  35.2789,2,    137.7,2,     4.03,2,  -999.00,9,     9.03,2,     0.05,2,     0.68,2, -999.000,9, -999.000,9,  -999.00,9,   -999.0,9,   -999.0,9,-999.0000,9,   -999.0,  9,     8.07,2,   -999.0,  -999.00,9,  -999.00,9,     0.21,2,     0.24,2,   -999.0,-999.0000, -999,9,   99,  22.6615,  24.2435,   -999.0,9
       RF97-09, EQPAC,RF-0501,  1,     18,02-12824,2,19971015,0358, -0.0042, 162.5103, 4408,    124.4,  21.3485,  35.2168,2,   -999.0,9,-999.0000,9,    138.1,2,     5.24,2,  -999.00,9,     9.80,2,     0.04,2,     0.72,2, -999.000,9, -999.000,9,  -999.00,9,   -999.0,9,   -999.0,9,-999.0000,9,   -999.0,  9,     8.05,2,   -999.0,  -999.00,9,  -999.00,9,     0.11,2,     0.17,2,   -999.0,-999.0000, -999,9,  124,  21.3244,  24.5702,   -999.0,9
       RF97-09, EQPAC,RF-0501,  1,     17,02-12814,2,19971015,0356, -0.0042, 162.5103, 4408,    148.6,  18.9052,  35.4365,2,   -999.0,9,-999.0000,9,    131.1,2,     5.71,2,  -999.00,9,    12.56,2,     0.02,2,     0.94,2, -999.000,9, -999.000,9,  -999.00,9,   -999.0,9,   -999.0,9,-999.0000,9,   -999.0,  9,     8.00,2,   -999.0,  -999.00,9,  -999.00,9,     0.03,2,     0.03,2,   -999.0,-999.0000, -999,9,  148,  18.8788,  25.3858,   -999.0,9
       RF97-09, EQPAC,RF-0501,  1,     15,02-12833,9,19971015,0349, -0.0042, 162.5103, 4408,    198.4,  15.2631,  35.1653,2,   -999.0,9,-999.0000,9,   -999.0,9,  -999.00,9,  -999.00,9,  -999.00,9,  -999.00,9,  -999.00,9, -999.000,9, -999.000,9,  -999.00,9,   -999.0,9,   -999.0,9,-999.0000,9,   -999.0,  9,  -999.00,9,   -999.0,  -999.00,9,  -999.00,9,  -999.00,9,  -999.00,9,   -999.0,-999.0000, -999,9,  197,  15.2326,  26.0480,   -999.0,9
       RF97-09, EQPAC,RF-0501,  1,     16,02-12832,2,19971015,0349, -0.0042, 162.5103, 4408,    199.4,  15.2489,  35.1606,2,   -999.0,9,  35.1611,2,    138.2,2,     9.66,2,  -999.00,9,    16.02,2,     0.01,2,     1.15,2, -999.000,9, -999.000,9,  -999.00,9,   -999.0,9,   -999.0,9,-999.0000,9,   -999.0,  9,     7.95,2,   -999.0,  -999.00,9,  -999.00,9,     0.00,2,     0.02,2,   -999.0,-999.0000, -999,9,  198,  15.2183,  26.0475,   -999.0,9
       RF97-09, EQPAC,RF-0501,  1,     14,02-13578,2,19971015,0347, -0.0042, 162.5103, 4408,    250.4,  13.8017,  35.0406,2,   -999.0,9,-999.0000,9,    137.4,2,    12.56,2,  -999.00,9,    18.37,2,     0.01,2,     1.30,2, -999.000,9, -999.000,9,  -999.00,9,   -999.0,9,   -999.0,9,-999.0000,9,   -999.0,  9,     7.91,2,   -999.0,  -999.00,9,  -999.00,9,  -999.00,9,  -999.00,9,   -999.0,-999.0000, -999,9,  249,  13.7658,  26.2676,   -999.0,9
       RF97-09, EQPAC,RF-0501,  1,     13,02-13590,2,19971015,0344, -0.0042, 162.5103, 4408,    300.1,  12.2443,  34.8890,2,   -999.0,9,-999.0000,9,    116.7,2,    18.45,2,  -999.00,9,    22.98,2,     0.01,2,     1.59,2, -999.000,9, -999.000,9,  -999.00,9,   -999.0,9,   -999.0,9,-999.0000,9,   -999.0,  9,     7.84,2,   -999.0,  -999.00,9,  -999.00,9,  -999.00,9,  -999.00,9,   -999.0,-999.0000, -999,9,  298,  12.2045,  26.4636,   -999.0,9
       RF97-09, EQPAC,RF-0501,  1,     12,02-12821,2,19971015,0341, -0.0042, 162.5103, 4408,    400.2,   9.3797,  34.6886,2,   -999.0,9,  34.6906,2,     68.0,2,    30.62,2,  -999.00,9,    32.92,2,     0.00,2,     2.26,2, -999.000,9, -999.000,9,  -999.00,9,   -999.0,9,   -999.0,9,-999.0000,9,   -999.0,  9,  -999.00,9,   -999.0,  -999.00,9,  -999.00,9,  -999.00,9,  -999.00,9,   -999.0,-999.0000, -999,9,  398,   9.3348,  26.8200,   -999.0,9
       RF97-09, EQPAC,RF-0501,  1,     10,02-10155,9,19971015,0338, -0.0042, 162.5103, 4408,    499.9,   7.9136,  34.6024,2,   -999.0,9,-999.0000,9,   -999.0,9,  -999.00,9,  -999.00,9,  -999.00,9,  -999.00,9,  -999.00,9, -999.000,9, -999.000,9,  -999.00,9,   -999.0,9,   -999.0,9,-999.0000,9,   -999.0,  9,  -999.00,9,   -999.0,  -999.00,9,  -999.00,9,  -999.00,9,  -999.00,9,   -999.0,-999.0000, -999,9,  497,   7.8626,  26.9820,   -999.0,9
       RF97-09, EQPAC,RF-0501,  1,     11,02-12811,2,19971015,0338, -0.0042, 162.5103, 4408,    502.4,   7.8916,  34.6015,2,   -999.0,9,-999.0000,9,     95.8,2,    35.60,2,  -999.00,9,    33.24,2,     0.00,2,     2.29,2, -999.000,9, -999.000,9,  -999.00,9,   -999.0,9,   -999.0,9,-999.0000,9,   -999.0,  9,  -999.00,9,   -999.0,  -999.00,9,  -999.00,9,  -999.00,9,  -999.00,9,   -999.0,-999.0000, -999,9,  499,   7.8404,  26.9846,   -999.0,9
       RF97-09, EQPAC,RF-0501,  1,      9,02-12810,4,19971015,0335, -0.0042, 162.5103, 4408,    601.2,   7.1635,  34.5731,2,   -999.0,9,  34.6198,4,   -999.0,4,  -999.00,4,  -999.00,9,  -999.00,4,  -999.00,4,  -999.00,4, -999.000,9, -999.000,9,  -999.00,9,   -999.0,9,   -999.0,9,-999.0000,9,   -999.0,  9,  -999.00,9,   -999.0,  -999.00,9,  -999.00,9,  -999.00,9,  -999.00,9,   -999.0,-999.0000, -999,9,  597,   7.1052,  27.0678,   -999.0,9
       RF97-09, EQPAC,RF-0501,  1,      8,02-12829,2,19971015,0331, -0.0042, 162.5103, 4408,    702.5,   6.2024,  34.5500,2,   -999.0,9,-999.0000,9,     85.7,2,    54.24,2,  -999.00,9,    37.30,2,     0.00,2,     2.64,2, -999.000,9, -999.000,9,  -999.00,9,   -999.0,9,   -999.0,9,-999.0000,9,   -999.0,  9,  -999.00,9,   -999.0,  -999.00,9,  -999.00,9,  -999.00,9,  -999.00,9,   -999.0,-999.0000, -999,9,  697,   6.1389,  27.1793,   -999.0,9
       RF97-09, EQPAC,RF-0501,  1,      7,02-13589,2,19971015,0323, -0.0042, 162.5103, 4408,    803.9,   5.5497,  34.5422,2,   -999.0,9,  34.5497,4,     92.1,2,    63.57,2,  -999.00,9,    37.45,2,     0.00,2,     2.65,2, -999.000,9, -999.000,9,  -999.00,9,   -999.0,9,   -999.0,9,-999.0000,9,   -999.0,  9,  -999.00,9,   -999.0,  -999.00,9,  -999.00,9,  -999.00,9,  -999.00,9,   -999.0,-999.0000, -999,9,  798,   5.4804,  27.2555,   -999.0,9
       RF97-09, EQPAC,RF-0501,  1,      6,02-12818,2,19971015,0320, -0.0042, 162.5103, 4408,    905.2,   4.9401,  34.5434,2,   -999.0,9,-999.0000,9,     95.4,2,    73.43,2,  -999.00,9,    37.72,2,     0.00,2,     2.68,2, -999.000,9, -999.000,9,  -999.00,9,   -999.0,9,   -999.0,9,-999.0000,9,   -999.0,  9,  -999.00,9,   -999.0,  -999.00,9,  -999.00,9,  -999.00,9,  -999.00,9,   -999.0,-999.0000, -999,9,  898,   4.8657,  27.3287,   -999.0,9
       RF97-09, EQPAC,RF-0501,  1,      5,02-12809,2,19971015,0317, -0.0042, 162.5103, 4408,   1005.5,   4.7288,  34.5491,2,   -999.0,9,  34.5490,2,     92.0,2,    78.48,2,  -999.00,9,    38.19,2,     0.00,2,     2.72,2, -999.000,9, -999.000,9,  -999.00,9,   -999.0,9,   -999.0,9,-999.0000,9,   -999.0,  9,  -999.00,9,   -999.0,  -999.00,9,  -999.00,9,  -999.00,9,  -999.00,9,   -999.0,-999.0000, -999,9,  998,   4.6470,  27.3578,   -999.0,9
       RF97-09, EQPAC,RF-0501,  1,      4,02-12817,2,19971015,0310, -0.0042, 162.5103, 4408,   1259.6,   3.7269,  34.5752,2,   -999.0,9,  34.5763,2,     98.0,2,    99.14,2,  -999.00,9,    38.52,2,     0.00,2,     2.75,2, -999.000,9, -999.000,9,  -999.00,9,   -999.0,9,   -999.0,9,-999.0000,9,   -999.0,  9,  -999.00,9,   -999.0,  -999.00,9,  -999.00,9,  -999.00,9,  -999.00,9,   -999.0,-999.0000, -999,9, 1249,   3.6316,  27.4857,   -999.0,9
       RF97-09, EQPAC,RF-0501,  1,      3,02-12808,2,19971015,0257, -0.0042, 162.5103, 4408,   1514.5,   3.0966,  34.5994,2,   -999.0,9,  34.6025,2,    102.5,2,   112.73,2,  -999.00,9,    38.59,2,     0.00,2,     2.74,2, -999.000,9, -999.000,9,  -999.00,9,   -999.0,9,   -999.0,9,-999.0000,9,   -999.0,  9,  -999.00,9,   -999.0,  -999.00,9,  -999.00,9,  -999.00,9,  -999.00,9,   -999.0,-999.0000, -999,9, 1501,   2.9864,  27.5665,   -999.0,9
       RF97-09, EQPAC,RF-0501,  1,      2,02-13588,2,19971015,0252, -0.0042, 162.5103, 4408,   1767.8,   2.6308,  34.6206,2,   -999.0,9,  34.6247,2,    104.7,2,   125.01,2,  -999.00,9,    38.67,2,     0.00,2,     2.74,2, -999.000,9, -999.000,9,  -999.00,9,   -999.0,9,   -999.0,9,-999.0000,9,   -999.0,  9,  -999.00,9,   -999.0,  -999.00,9,  -999.00,9,  -999.00,9,  -999.00,9,   -999.0,-999.0000, -999,9, 1751,   2.5049,  27.6261,   -999.0,9
       RF97-09, EQPAC,RF-0501,  1,      1,02-12807,2,19971015,0244, -0.0042, 162.5103, 4408,   2025.5,   2.2495,  34.6387,2,   -999.0,9,  34.6361,2,    115.5,2,   130.88,2,  -999.00,9,    38.04,2,     0.00,2,     2.68,2, -999.000,9, -999.000,9,  -999.00,9,   -999.0,9,   -999.0,9,-999.0000,9,   -999.0,  9,  -999.00,9,   -999.0,  -999.00,9,  -999.00,9,  -999.00,9,  -999.00,9,   2010.0,-999.0000, -999,9, 2005,   2.1071,  27.6737,   -999.0,9