BOTTLE,20130510GEMDJMAYT
EXPOCODE,SECT_ID,STNNBR,CASTNO,SAMPNO,BTLNBR,BTLNBR_FLAG_W,DATE,TIME,LATITUDE,LONGITUDE,DEPTH,CTDPRS,CTDTMP,CTDSAL,CTDSAL_FLAG_W,CTDOXY,CTDOXY_FLAG_W,SALNTY,SALNTY_FLAG_W,OXYGEN,OXYGEN_FLAG_W,SILCAT,SILCAT_FLAG_W,NITRAT,NITRAT_FLAG_W,NO2+NO3,NO2+NO3_FLAG_W,NITRIT,NITRIT_FLAG_W,PHSPHT,PHSPHT_FLAG_W,CFC-11,CFC-11_FLAG_W,CFC-12,CFC-12_FLAG_W,DELC13,DELC13_FLAG_W,TCARBN,TCARBN_FLAG_W,ALKALI,ALKALI_FLAG_W,PH,PH_FLAG_W,PH_TMP,PH_SCALE,PH_NBS,PH_NBS_FLAG_W,C13ERR,TOTALP,TOTALP_FLAG_W,AMMONI,AMMONI_FLAG_W,CHLORA,CHLORA_FLAG_W,PPHYTN,PPHYTN_FLAG_W,REVPRS,REVTMP,DEPTH_,DEPTH_FLAG,CTDDEP,THETA,SIGTHT,DOC,DOC_FLAG_W
,,,,,,,GMT,GMT,,,METER,DBAR,ITS-90,PSS-78,,UMOL/KG,,PSS-78,,UMOL/KG,,UMOL/KG,,UMOL/KG,,UMOL/KG,,UMOL/KG,,UMOL/KG,,PMOL/KG,,PMOL/KG,,/MILLE,,UMOL/KG,,UMOL/KG,,25_DEG_C,,DEG_C,,,,/MILLE,UMOL/KG,,UMOL/KG,,UG/L,,UG/L,,DBAR,ITS-90,METERS,,METERS,DEG_C,,UMOL/L,
       RF97-09,  165E,RF-0473,  1,     -9,      -9,5,19970921,2214, 30.0177, 164.9910, 5786,      0.0,  26.3948,  35.0587,2,   -999.0,9,-999.0000,9,    203.3,2,     1.57,2,  -999.00,9,     0.12,2,     0.00,2,     0.04,2, -999.000,9, -999.000,9,  -999.00,9,   -999.0,9,   -999.0,9,-999.0000,9,   -999.0,  9,     8.23,2,   -999.0,  -999.00,9,  -999.00,9,     0.08,2,     0.02,2,   -999.0,-999.0000, -999,9,    0,  26.3948,  22.9539,   -999.0,9
       RF97-09,  165E,RF-0473,  1,     23,02-13591,2,19970921,2207, 30.0177, 164.9910, 5786,     11.1,  26.3985,  35.0578,2,   -999.0,9,  35.0743,4,    202.6,2,     1.42,2,  -999.00,9,     0.06,2,     0.00,2,     0.03,2, -999.000,9, -999.000,9,  -999.00,9,   -999.0,9,   -999.0,9,-999.0000,9,   -999.0,  9,     8.23,2,   -999.0,  -999.00,9,  -999.00,9,     0.08,2,     0.01,2,   -999.0,-999.0000, -999,9,   11,  26.3960,  22.9529,   -999.0,9
       RF97-09,  165E,RF-0473,  1,     22,02-12828,2,19970921,2206, 30.0177, 164.9910, 5786,     26.0,  26.3939,  35.0558,2,   -999.0,9,-999.0000,9,    205.1,2,     1.37,2,  -999.00,9,     0.03,2,     0.00,2,     0.02,2, -999.000,9, -999.000,9,  -999.00,9,   -999.0,9,   -999.0,9,-999.0000,9,   -999.0,  9,     8.23,2,   -999.0,  -999.00,9,  -999.00,9,     0.09,2,     0.01,2,   -999.0,-999.0000, -999,9,   26,  26.3880,  22.9539,   -999.0,9
       RF97-09,  165E,RF-0473,  1,     21,02-12827,2,19970921,2204, 30.0177, 164.9910, 5786,     49.4,  20.9738,  34.8639,2,   -999.0,9,  34.8662,2,    236.5,2,     1.59,2,  -999.00,9,  -999.00,9,     0.00,2,     0.04,2, -999.000,9, -999.000,9,  -999.00,9,   -999.0,9,   -999.0,9,-999.0000,9,   -999.0,  9,     8.20,2,   -999.0,  -999.00,9,  -999.00,9,     0.15,2,     0.04,2,   -999.0,-999.0000, -999,9,   49,  20.9644,  24.4000,   -999.0,9
       RF97-09,  165E,RF-0473,  1,     20,02-12826,2,19970921,2203, 30.0177, 164.9910, 5786,     77.3,  18.7484,  34.8425,2,   -999.0,9,-999.0000,9,    229.1,2,     2.35,2,  -999.00,9,     0.08,2,     0.00,2,     0.08,2, -999.000,9, -999.000,9,  -999.00,9,   -999.0,9,   -999.0,9,-999.0000,9,   -999.0,  9,     8.17,2,   -999.0,  -999.00,9,  -999.00,9,     0.21,2,     0.17,2,   -999.0,-999.0000, -999,9,   77,  18.7348,  24.9681,   -999.0,9
       RF97-09,  165E,RF-0473,  1,     19,02-12825,2,19970921,2201, 30.0177, 164.9910, 5786,    101.1,  17.7812,  34.8318,2,   -999.0,9,  34.8385,2,    213.7,2,     2.90,2,  -999.00,9,     2.14,2,     0.11,2,     0.20,2, -999.000,9, -999.000,9,  -999.00,9,   -999.0,9,   -999.0,9,-999.0000,9,   -999.0,  9,     8.13,2,   -999.0,  -999.00,9,  -999.00,9,     0.21,2,     0.25,2,   -999.0,-999.0000, -999,9,  100,  17.7641,  25.2011,   -999.0,9
       RF97-09,  165E,RF-0473,  1,     18,02-12824,2,19970921,2200, 30.0177, 164.9910, 5786,    124.5,  17.2295,  34.8131,2,   -999.0,9,-999.0000,9,    206.6,2,     3.50,2,  -999.00,9,     3.92,2,     0.04,2,     0.28,2, -999.000,9, -999.000,9,  -999.00,9,   -999.0,9,   -999.0,9,-999.0000,9,   -999.0,  9,     8.12,2,   -999.0,  -999.00,9,  -999.00,9,     0.11,2,     0.21,2,   -999.0,-999.0000, -999,9,  124,  17.2089,  25.3210,   -999.0,9
       RF97-09,  165E,RF-0473,  1,     17,02-12814,2,19970921,2158, 30.0177, 164.9910, 5786,    148.7,  16.8710,  34.7945,2,   -999.0,9,-999.0000,9,    208.7,2,     4.25,2,  -999.00,9,     4.52,2,     0.02,2,     0.31,2, -999.000,9, -999.000,9,  -999.00,9,   -999.0,9,   -999.0,9,-999.0000,9,   -999.0,  9,     8.11,2,   -999.0,  -999.00,9,  -999.00,9,     0.05,2,     0.05,2,   -999.0,-999.0000, -999,9,  148,  16.8466,  25.3928,   -999.0,9
       RF97-09,  165E,RF-0473,  1,     15,02-12833,9,19970921,2156, 30.0177, 164.9910, 5786,    202.2,  16.1936,  34.7345,2,   -999.0,9,-999.0000,9,   -999.0,9,  -999.00,9,  -999.00,9,  -999.00,9,  -999.00,9,  -999.00,9, -999.000,9, -999.000,9,  -999.00,9,   -999.0,9,   -999.0,9,-999.0000,9,   -999.0,  9,  -999.00,9,   -999.0,  -999.00,9,  -999.00,9,  -999.00,9,  -999.00,9,   -999.0,-999.0000, -999,9,  201,  16.1614,  25.5064,   -999.0,9
       RF97-09,  165E,RF-0473,  1,     16,02-12832,2,19970921,2156, 30.0177, 164.9910, 5786,    203.1,  16.1798,  34.7338,2,   -999.0,9,  34.7459,4,    210.4,2,     5.47,2,  -999.00,9,     5.43,2,     0.01,2,     0.37,2, -999.000,9, -999.000,9,  -999.00,9,   -999.0,9,   -999.0,9,-999.0000,9,   -999.0,  9,     8.10,2,   -999.0,  -999.00,9,  -999.00,9,     0.01,2,     0.02,2,   -999.0,-999.0000, -999,9,  202,  16.1475,  25.5091,   -999.0,9
       RF97-09,  165E,RF-0473,  1,     14,02-13578,2,19970921,2154, 30.0177, 164.9910, 5786,    250.5,  15.6957,  34.6940,2,   -999.0,9,-999.0000,9,    215.0,2,     6.12,2,  -999.00,9,     5.78,2,     0.01,2,     0.39,2, -999.000,9, -999.000,9,  -999.00,9,   -999.0,9,   -999.0,9,-999.0000,9,   -999.0,  9,     8.09,2,   -999.0,  -999.00,9,  -999.00,9,  -999.00,9,  -999.00,9,   -999.0,-999.0000, -999,9,  249,  15.6566,  25.5901,   -999.0,9
       RF97-09,  165E,RF-0473,  1,     13,02-13590,2,19970921,2152, 30.0177, 164.9910, 5786,    302.5,  14.9480,  34.6298,2,   -999.0,9,-999.0000,9,    211.6,2,     8.16,2,  -999.00,9,     7.45,2,     0.00,2,     0.51,2, -999.000,9, -999.000,9,  -999.00,9,   -999.0,9,   -999.0,9,-999.0000,9,   -999.0,  9,     8.07,2,   -999.0,  -999.00,9,  -999.00,9,  -999.00,9,  -999.00,9,   -999.0,-999.0000, -999,9,  300,  14.9023,  25.7078,   -999.0,9
       RF97-09,  165E,RF-0473,  1,     12,02-12821,2,19970921,2149, 30.0177, 164.9910, 5786,    401.1,  13.0223,  34.4872,2,   -999.0,9,  34.4986,4,    193.9,2,    16.02,2,  -999.00,9,    12.34,2,     0.00,2,     0.85,2, -999.000,9, -999.000,9,  -999.00,9,   -999.0,9,   -999.0,9,-999.0000,9,   -999.0,  9,  -999.00,9,   -999.0,  -999.00,9,  -999.00,9,  -999.00,9,  -999.00,9,   -999.0,-999.0000, -999,9,  398,  12.9669,  26.0022,   -999.0,9
       RF97-09,  165E,RF-0473,  1,     10,02-10155,9,19970921,2146, 30.0177, 164.9910, 5786,    504.1,  10.3865,  34.2692,2,   -999.0,9,-999.0000,9,   -999.0,9,  -999.00,9,  -999.00,9,  -999.00,9,  -999.00,9,  -999.00,9, -999.000,9, -999.000,9,  -999.00,9,   -999.0,9,   -999.0,9,-999.0000,9,   -999.0,  9,  -999.00,9,   -999.0,  -999.00,9,  -999.00,9,  -999.00,9,  -999.00,9,   -999.0,-999.0000, -999,9,  500,  10.3262,  26.3253,   -999.0,9
       RF97-09,  165E,RF-0473,  1,     11,02-12811,2,19970921,2146, 30.0177, 164.9910, 5786,    506.2,  10.3476,  34.2626,2,   -999.0,9,-999.0000,9,    192.7,2,    24.26,2,  -999.00,9,    16.88,2,     0.00,2,     1.19,2, -999.000,9, -999.000,9,  -999.00,9,   -999.0,9,   -999.0,9,-999.0000,9,   -999.0,  9,  -999.00,9,   -999.0,  -999.00,9,  -999.00,9,  -999.00,9,  -999.00,9,   -999.0,-999.0000, -999,9,  502,  10.2872,  26.3270,   -999.0,9
       RF97-09,  165E,RF-0473,  1,      9,02-12810,2,19970921,2143, 30.0177, 164.9910, 5786,    601.8,   7.4038,  34.0554,2,   -999.0,9,  34.0922,4,    166.0,2,    41.69,2,  -999.00,9,    23.51,2,     0.00,2,     1.69,2, -999.000,9, -999.000,9,  -999.00,9,   -999.0,9,   -999.0,9,-999.0000,9,   -999.0,  9,  -999.00,9,   -999.0,  -999.00,9,  -999.00,9,  -999.00,9,  -999.00,9,   -999.0,-999.0000, -999,9,  597,   7.3449,  26.6267,   -999.0,9
       RF97-09,  165E,RF-0473,  1,      8,02-12829,2,19970921,2141, 30.0177, 164.9910, 5786,    702.7,   5.3784,  34.0267,2,   -999.0,9,  34.1079,2,    117.2,2,    70.77,2,  -999.00,9,    32.73,2,     0.00,2,     2.37,2, -999.000,9, -999.000,9,  -999.00,9,   -999.0,9,   -999.0,9,-999.0000,9,   -999.0,  9,  -999.00,9,   -999.0,  -999.00,9,  -999.00,9,  -999.00,9,  -999.00,9,   -999.0,-999.0000, -999,9,  697,   5.3199,  26.8665,   -999.0,9
       RF97-09,  165E,RF-0473,  1,      7,02-13589,2,19970921,2138, 30.0177, 164.9910, 5786,    805.2,   4.5711,  34.1075,2,   -999.0,9,-999.0000,9,     80.3,2,    90.11,2,  -999.00,9,    37.14,2,     0.00,2,     2.70,2, -999.000,9, -999.000,9,  -999.00,9,   -999.0,9,   -999.0,9,-999.0000,9,   -999.0,  9,  -999.00,9,   -999.0,  -999.00,9,  -999.00,9,  -999.00,9,  -999.00,9,   -999.0,-999.0000, -999,9,  798,   4.5084,  27.0225,   -999.0,9
       RF97-09,  165E,RF-0473,  1,      6,02-12818,2,19970921,2135, 30.0177, 164.9910, 5786,    907.7,   4.0257,  34.2139,2,   -999.0,9,-999.0000,9,     54.2,2,   107.62,2,  -999.00,9,    39.91,2,     0.00,2,     2.88,2, -999.000,9, -999.000,9,  -999.00,9,   -999.0,9,   -999.0,9,-999.0000,9,   -999.0,  9,  -999.00,9,   -999.0,  -999.00,9,  -999.00,9,  -999.00,9,  -999.00,9,   -999.0,-999.0000, -999,9,  900,   3.9579,  27.1651,   -999.0,9
       RF97-09,  165E,RF-0473,  1,      5,02-12809,2,19970921,2132, 30.0177, 164.9910, 5786,   1007.6,   3.6639,  34.2847,2,   -999.0,9,  34.3148,4,     43.9,2,   119.00,2,  -999.00,9,    41.16,2,     0.00,2,     2.98,2, -999.000,9, -999.000,9,  -999.00,9,   -999.0,9,   -999.0,9,-999.0000,9,   -999.0,  9,  -999.00,9,   -999.0,  -999.00,9,  -999.00,9,  -999.00,9,  -999.00,9,   -999.0,-999.0000, -999,9,  998,   3.5906,  27.2583,   -999.0,9
       RF97-09,  165E,RF-0473,  1,      4,02-12817,2,19970921,2126, 30.0177, 164.9910, 5786,   1262.0,   2.9008,  34.4277,2,   -999.0,9,-999.0000,9,     40.6,2,   140.37,2,  -999.00,9,    42.43,2,     0.00,2,     3.05,2, -999.000,9, -999.000,9,  -999.00,9,   -999.0,9,   -999.0,9,-999.0000,9,   -999.0,  9,  -999.00,9,   -999.0,  -999.00,9,  -999.00,9,  -999.00,9,  -999.00,9,   -999.0,-999.0000, -999,9, 1250,   2.8137,  27.4450,   -999.0,9
       RF97-09,  165E,RF-0473,  1,      3,02-12808,2,19970921,2121, 30.0177, 164.9910, 5786,   1515.3,   2.4515,  34.5088,2,   -999.0,9,  34.5100,2,     44.1,2,   150.74,2,  -999.00,9,    42.09,2,     0.00,2,     3.02,2, -999.000,9, -999.000,9,  -999.00,9,   -999.0,9,   -999.0,9,-999.0000,9,   -999.0,  9,  -999.00,9,   -999.0,  -999.00,9,  -999.00,9,  -999.00,9,  -999.00,9,   -999.0,-999.0000, -999,9, 1500,   2.3489,  27.5498,   -999.0,9
       RF97-09,  165E,RF-0473,  1,      2,02-13588,4,19970921,2116, 30.0177, 164.9910, 5786,   1768.6,   2.1261,  34.5661,2,   -999.0,9,-999.0000,9,   -999.0,9,  -999.00,9,  -999.00,9,  -999.00,9,  -999.00,9,  -999.00,9, -999.000,9, -999.000,9,  -999.00,9,   -999.0,9,   -999.0,9,-999.0000,9,   -999.0,  9,  -999.00,9,   -999.0,  -999.00,9,  -999.00,9,  -999.00,9,  -999.00,9,   -999.0,-999.0000, -999,9, 1749,   2.0071,  27.6235,   -999.0,9
       RF97-09,  165E,RF-0473,  1,      1,02-12807,2,19970921,2110, 30.0177, 164.9910, 5786,   2026.8,   1.9036,  34.6052,2,   -999.0,9,-999.0000,9,     80.5,2,   158.00,2,  -999.00,9,    40.21,2,     0.00,2,     2.84,2, -999.000,9, -999.000,9,  -999.00,9,   -999.0,9,   -999.0,9,-999.0000,9,   -999.0,  9,  -999.00,9,   -999.0,  -999.00,9,  -999.00,9,  -999.00,9,  -999.00,9,   2014.0,-999.0000, -999,9, 2003,   1.7665,  27.6735,   -999.0,9