BOTTLE,20130510GEMDJMAYT
EXPOCODE,SECT_ID,STNNBR,CASTNO,SAMPNO,BTLNBR,BTLNBR_FLAG_W,DATE,TIME,LATITUDE,LONGITUDE,DEPTH,CTDPRS,CTDTMP,CTDSAL,CTDSAL_FLAG_W,CTDOXY,CTDOXY_FLAG_W,SALNTY,SALNTY_FLAG_W,OXYGEN,OXYGEN_FLAG_W,SILCAT,SILCAT_FLAG_W,NITRAT,NITRAT_FLAG_W,NO2+NO3,NO2+NO3_FLAG_W,NITRIT,NITRIT_FLAG_W,PHSPHT,PHSPHT_FLAG_W,CFC-11,CFC-11_FLAG_W,CFC-12,CFC-12_FLAG_W,DELC13,DELC13_FLAG_W,TCARBN,TCARBN_FLAG_W,ALKALI,ALKALI_FLAG_W,PH,PH_FLAG_W,PH_TMP,PH_SCALE,PH_NBS,PH_NBS_FLAG_W,C13ERR,TOTALP,TOTALP_FLAG_W,AMMONI,AMMONI_FLAG_W,CHLORA,CHLORA_FLAG_W,PPHYTN,PPHYTN_FLAG_W,REVPRS,REVTMP,DEPTH_,DEPTH_FLAG,CTDDEP,THETA,SIGTHT,DOC,DOC_FLAG_W
,,,,,,,GMT,GMT,,,METER,DBAR,ITS-90,PSS-78,,UMOL/KG,,PSS-78,,UMOL/KG,,UMOL/KG,,UMOL/KG,,UMOL/KG,,UMOL/KG,,UMOL/KG,,PMOL/KG,,PMOL/KG,,/MILLE,,UMOL/KG,,UMOL/KG,,25_DEG_C,,DEG_C,,,,/MILLE,UMOL/KG,,UMOL/KG,,UG/L,,UG/L,,DBAR,ITS-90,METERS,,METERS,DEG_C,,UMOL/L,
       RF97-09,  165E,RF-0483,  1,     -9,      -9,5,19971008,1745, 14.9857, 164.9802, 5193,      0.0,  28.7613,  34.3920,2,   -999.0,9,-999.0000,9,    193.4,2,     1.65,2,  -999.00,9,     0.11,2,     0.01,2,     0.13,2, -999.000,9, -999.000,9,  -999.00,9,   -999.0,9,   -999.0,9,-999.0000,9,   -999.0,  9,     8.25,2,   -999.0,  -999.00,9,  -999.00,9,     0.04,2,     0.01,2,   -999.0,-999.0000, -999,9,    0,  28.7613,  21.6871,   -999.0,9
       RF97-09,  165E,RF-0483,  1,     23,02-13591,2,19971008,1742, 14.9857, 164.9802, 5193,      9.9,  28.7691,  34.3921,2,   -999.0,9,  34.3974,4,    195.5,2,     1.48,2,  -999.00,9,     0.05,2,     0.00,2,     0.09,2, -999.000,9, -999.000,9,  -999.00,9,   -999.0,9,   -999.0,9,-999.0000,9,   -999.0,  9,     8.25,2,   -999.0,  -999.00,9,  -999.00,9,     0.05,2,     0.01,2,   -999.0,-999.0000, -999,9,   10,  28.7667,  21.6854,   -999.0,9
       RF97-09,  165E,RF-0483,  1,     22,02-12828,2,19971008,1742, 14.9857, 164.9802, 5193,     24.1,  28.7755,  34.3923,2,   -999.0,9,-999.0000,9,    196.9,2,     1.60,2,  -999.00,9,     0.00,2,     0.00,2,     0.08,2, -999.000,9, -999.000,9,  -999.00,9,   -999.0,9,   -999.0,9,-999.0000,9,   -999.0,  9,     8.25,2,   -999.0,  -999.00,9,  -999.00,9,     0.05,2,     0.01,2,   -999.0,-999.0000, -999,9,   24,  28.7697,  21.6845,   -999.0,9
       RF97-09,  165E,RF-0483,  1,     21,02-12827,2,19971008,1740, 14.9857, 164.9802, 5193,     50.8,  28.7488,  34.3974,2,   -999.0,9,  34.4090,4,    195.6,2,     1.44,2,  -999.00,9,     0.06,2,     0.00,2,     0.09,2, -999.000,9, -999.000,9,  -999.00,9,   -999.0,9,   -999.0,9,-999.0000,9,   -999.0,  9,     8.26,2,   -999.0,  -999.00,9,  -999.00,9,     0.05,2,     0.01,2,   -999.0,-999.0000, -999,9,   50,  28.7366,  21.6993,   -999.0,9
       RF97-09,  165E,RF-0483,  1,     20,02-12826,3,19971008,1739, 14.9857, 164.9802, 5193,     74.3,  26.9284,  34.8100,2,   -999.0,9,-999.0000,9,   -999.0,4,  -999.00,4,  -999.00,9,  -999.00,4,  -999.00,4,  -999.00,4, -999.000,9, -999.000,9,  -999.00,9,   -999.0,9,   -999.0,9,-999.0000,9,   -999.0,  9,  -999.00,9,   -999.0,  -999.00,9,  -999.00,9,  -999.00,4,  -999.00,4,   -999.0,-999.0000, -999,9,   74,  26.9115,  22.6029,   -999.0,9
       RF97-09,  165E,RF-0483,  1,     19,02-12825,2,19971008,1738, 14.9857, 164.9802, 5193,     98.7,  24.6865,  34.9896,2,   -999.0,9,  34.9464,4,    203.0,2,     1.92,2,  -999.00,9,     0.06,2,     0.00,2,     0.07,2, -999.000,9, -999.000,9,  -999.00,9,   -999.0,9,   -999.0,9,-999.0000,9,   -999.0,  9,     8.21,2,   -999.0,  -999.00,9,  -999.00,9,     0.13,2,     0.07,2,   -999.0,-999.0000, -999,9,   98,  24.6653,  23.4347,   -999.0,9
       RF97-09,  165E,RF-0483,  1,     18,02-12824,2,19971008,1736, 14.9857, 164.9802, 5193,    124.9,  23.5523,  35.0207,2,   -999.0,9,-999.0000,9,    194.5,2,     1.91,2,  -999.00,9,     0.04,2,     0.01,2,     0.11,2, -999.000,9, -999.000,9,  -999.00,9,   -999.0,9,   -999.0,9,-999.0000,9,   -999.0,  9,     8.19,2,   -999.0,  -999.00,9,  -999.00,9,     0.14,2,     0.15,2,   -999.0,-999.0000, -999,9,  124,  23.5263,  23.7964,   -999.0,9
       RF97-09,  165E,RF-0483,  1,     17,02-12814,2,19971008,1735, 14.9857, 164.9802, 5193,    147.8,  21.3536,  35.0605,2,   -999.0,9,-999.0000,9,    186.1,2,     2.45,2,  -999.00,9,     1.18,2,     0.07,2,     0.20,2, -999.000,9, -999.000,9,  -999.00,9,   -999.0,9,   -999.0,9,-999.0000,9,   -999.0,  9,     8.14,2,   -999.0,  -999.00,9,  -999.00,9,     0.13,2,     0.32,2,   -999.0,-999.0000, -999,9,  147,  21.3250,  24.4512,   -999.0,9
       RF97-09,  165E,RF-0483,  1,     15,02-12833,9,19971008,1732, 14.9857, 164.9802, 5193,    198.0,  17.6213,  34.8469,2,   -999.0,9,-999.0000,9,   -999.0,9,  -999.00,9,  -999.00,9,  -999.00,9,  -999.00,9,  -999.00,9, -999.000,9, -999.000,9,  -999.00,9,   -999.0,9,   -999.0,9,-999.0000,9,   -999.0,  9,  -999.00,9,   -999.0,  -999.00,9,  -999.00,9,  -999.00,9,  -999.00,9,   -999.0,-999.0000, -999,9,  197,  17.5879,  25.2556,   -999.0,9
       RF97-09,  165E,RF-0483,  1,     16,02-12832,2,19971008,1732, 14.9857, 164.9802, 5193,    199.8,  17.5222,  34.8412,2,   -999.0,9,  34.8379,2,    189.3,2,     4.46,2,  -999.00,9,     5.09,2,     0.01,2,     0.37,2, -999.000,9, -999.000,9,  -999.00,9,   -999.0,9,   -999.0,9,-999.0000,9,   -999.0,  9,     8.08,2,   -999.0,  -999.00,9,  -999.00,9,     0.02,2,     0.02,2,   -999.0,-999.0000, -999,9,  199,  17.4886,  25.2752,   -999.0,9
       RF97-09,  165E,RF-0483,  1,     14,02-13578,2,19971008,1730, 14.9857, 164.9802, 5193,    248.3,  14.2864,  34.5288,2,   -999.0,9,-999.0000,9,    178.8,2,    10.01,2,  -999.00,9,    11.16,2,     0.01,2,     0.78,2, -999.000,9, -999.000,9,  -999.00,9,   -999.0,9,   -999.0,9,-999.0000,9,   -999.0,  9,     7.99,2,   -999.0,  -999.00,9,  -999.00,9,  -999.00,9,  -999.00,9,   -999.0,-999.0000, -999,9,  247,  14.2501,  25.7702,   -999.0,9
       RF97-09,  165E,RF-0483,  1,     13,02-13590,2,19971008,1729, 14.9857, 164.9802, 5193,    302.1,  10.9540,  34.3128,2,   -999.0,9,-999.0000,9,    124.4,2,    23.07,2,  -999.00,9,    22.40,2,     0.00,2,     1.64,2, -999.000,9, -999.000,9,  -999.00,9,   -999.0,9,   -999.0,9,-999.0000,9,   -999.0,  9,     7.81,2,   -999.0,  -999.00,9,  -999.00,9,  -999.00,9,  -999.00,9,   -999.0,-999.0000, -999,9,  300,  10.9169,  26.2553,   -999.0,9
       RF97-09,  165E,RF-0483,  1,     12,02-12821,2,19971008,1727, 14.9857, 164.9802, 5193,    400.0,   9.2528,  34.4909,2,   -999.0,9,  34.4953,2,     31.4,3,    40.04,2,  -999.00,9,    34.29,2,     0.01,2,     2.60,2, -999.000,9, -999.000,9,  -999.00,9,   -999.0,9,   -999.0,9,-999.0000,9,   -999.0,  9,  -999.00,9,   -999.0,  -999.00,9,  -999.00,9,  -999.00,9,  -999.00,9,   -999.0,-999.0000, -999,9,  397,   9.2084,  26.6859,   -999.0,9
       RF97-09,  165E,RF-0483,  1,     11,02-12811,2,19971008,1724, 14.9857, 164.9802, 5193,    500.8,   7.5050,  34.4371,2,   -999.0,9,-999.0000,9,     36.6,2,    54.56,2,  -999.00,9,    37.49,2,     0.00,2,     2.77,2, -999.000,9, -999.000,9,  -999.00,9,   -999.0,9,   -999.0,9,-999.0000,9,   -999.0,  9,  -999.00,9,   -999.0,  -999.00,9,  -999.00,9,  -999.00,9,  -999.00,9,   -999.0,-999.0000, -999,9,  497,   7.4556,  26.9113,   -999.0,9
       RF97-09,  165E,RF-0483,  1,     10,02-10155,9,19971008,1724, 14.9857, 164.9802, 5193,    501.2,   7.5014,  34.4375,2,   -999.0,9,-999.0000,9,   -999.0,9,  -999.00,9,  -999.00,9,  -999.00,9,  -999.00,9,  -999.00,9, -999.000,9, -999.000,9,  -999.00,9,   -999.0,9,   -999.0,9,-999.0000,9,   -999.0,  9,  -999.00,9,   -999.0,  -999.00,9,  -999.00,9,  -999.00,9,  -999.00,9,   -999.0,-999.0000, -999,9,  498,   7.4520,  26.9121,   -999.0,9
       RF97-09,  165E,RF-0483,  1,      9,02-12810,3,19971008,1721, 14.9857, 164.9802, 5193,    600.8,   6.3974,  34.4521,2,   -999.0,9,-999.0000,9,   -999.0,4,  -999.00,4,  -999.00,9,  -999.00,4,  -999.00,4,  -999.00,4, -999.000,9, -999.000,9,  -999.00,9,   -999.0,9,   -999.0,9,-999.0000,9,   -999.0,  9,  -999.00,9,   -999.0,  -999.00,9,  -999.00,9,  -999.00,9,  -999.00,9,   -999.0,-999.0000, -999,9,  596,   6.3427,  27.0756,   -999.0,9
       RF97-09,  165E,RF-0483,  1,      8,02-12829,2,19971008,1719, 14.9857, 164.9802, 5193,    701.8,   5.7462,  34.4819,2,   -999.0,9,-999.0000,9,     43.4,2,    76.72,2,  -999.00,9,    41.00,2,     0.00,2,     3.00,2, -999.000,9, -999.000,9,  -999.00,9,   -999.0,9,   -999.0,9,-999.0000,9,   -999.0,  9,  -999.00,9,   -999.0,  -999.00,9,  -999.00,9,  -999.00,9,  -999.00,9,   -999.0,-999.0000, -999,9,  697,   5.6853,  27.1826,   -999.0,9
       RF97-09,  165E,RF-0483,  1,      7,02-13589,2,19971008,1714, 14.9857, 164.9802, 5193,    803.4,   5.2171,  34.5059,2,   -999.0,9,  34.5075,2,     45.3,2,    84.37,2,  -999.00,9,    41.74,2,     0.00,2,     3.03,2, -999.000,9, -999.000,9,  -999.00,9,   -999.0,9,   -999.0,9,-999.0000,9,   -999.0,  9,  -999.00,9,   -999.0,  -999.00,9,  -999.00,9,  -999.00,9,  -999.00,9,   -999.0,-999.0000, -999,9,  797,   5.1499,  27.2661,   -999.0,9
       RF97-09,  165E,RF-0483,  1,      6,02-12818,3,19971008,1712, 14.9857, 164.9802, 5193,    904.4,   4.7647,  34.5164,2,   -999.0,9,-999.0000,9,   -999.0,4,    91.91,2,  -999.00,9,    41.71,2,     0.00,2,     3.02,2, -999.000,9, -999.000,9,  -999.00,9,   -999.0,9,   -999.0,9,-999.0000,9,   -999.0,  9,  -999.00,9,   -999.0,  -999.00,9,  -999.00,9,  -999.00,9,  -999.00,9,   -999.0,-999.0000, -999,9,  897,   4.6916,  27.3269,   -999.0,9
       RF97-09,  165E,RF-0483,  1,      5,02-12809,2,19971008,1710, 14.9857, 164.9802, 5193,   1006.7,   4.3679,  34.5304,2,   -999.0,9,  34.5313,2,     58.7,2,    99.22,2,  -999.00,9,    41.78,2,     0.00,2,     3.02,2, -999.000,9, -999.000,9,  -999.00,9,   -999.0,9,   -999.0,9,-999.0000,9,   -999.0,  9,  -999.00,9,   -999.0,  -999.00,9,  -999.00,9,  -999.00,9,  -999.00,9,   -999.0,-999.0000, -999,9,  998,   4.2888,  27.3822,   -999.0,9
       RF97-09,  165E,RF-0483,  1,      4,02-12817,2,19971008,1705, 14.9857, 164.9802, 5193,   1261.1,   3.5590,  34.5589,2,   -999.0,9,  34.5625,2,     70.0,2,   114.94,2,  -999.00,9,    41.47,2,     0.00,2,     2.97,2, -999.000,9, -999.000,9,  -999.00,9,   -999.0,9,   -999.0,9,-999.0000,9,   -999.0,  9,  -999.00,9,   -999.0,  -999.00,9,  -999.00,9,  -999.00,9,  -999.00,9,   -999.0,-999.0000, -999,9, 1250,   3.4653,  27.4891,   -999.0,9
       RF97-09,  165E,RF-0483,  1,      3,02-12808,2,19971008,1700, 14.9857, 164.9802, 5193,   1514.7,   2.9834,  34.5817,2,   -999.0,9,  34.5820,2,     79.6,2,   126.80,2,  -999.00,9,    41.16,2,     0.00,2,     2.94,2, -999.000,9, -999.000,9,  -999.00,9,   -999.0,9,   -999.0,9,-999.0000,9,   -999.0,  9,  -999.00,9,   -999.0,  -999.00,9,  -999.00,9,  -999.00,9,  -999.00,9,   -999.0,-999.0000, -999,9, 1500,   2.8745,  27.5626,   -999.0,9
       RF97-09,  165E,RF-0483,  1,      2,02-13588,2,19971008,1656, 14.9857, 164.9802, 5193,   1762.9,   2.4819,  34.6062,2,   -999.0,9,  34.6068,2,     92.0,2,   136.42,2,  -999.00,9,    40.56,2,     0.00,2,     2.87,2, -999.000,9, -999.000,9,  -999.00,9,   -999.0,9,   -999.0,9,-999.0000,9,   -999.0,  9,  -999.00,9,   -999.0,  -999.00,9,  -999.00,9,  -999.00,9,  -999.00,9,   -999.0,-999.0000, -999,9, 1745,   2.3585,  27.6270,   -999.0,9
       RF97-09,  165E,RF-0483,  1,      1,02-12807,2,19971008,1644, 14.9857, 164.9802, 5193,   2028.9,   2.1335,  34.6301,2,   -999.0,9,  34.6310,2,    102.4,2,   142.74,2,  -999.00,9,    39.93,2,     0.00,2,     2.81,2, -999.000,9, -999.000,9,  -999.00,9,   -999.0,9,   -999.0,9,-999.0000,9,   -999.0,  9,  -999.00,9,   -999.0,  -999.00,9,  -999.00,9,  -999.00,9,  -999.00,9,   2009.0,-999.0000, -999,9, 2007,   1.9926,  27.6759,   -999.0,9