BOTTLE,20130510GEMDJMAYT
EXPOCODE,SECT_ID,STNNBR,CASTNO,SAMPNO,BTLNBR,BTLNBR_FLAG_W,DATE,TIME,LATITUDE,LONGITUDE,DEPTH,CTDPRS,CTDTMP,CTDSAL,CTDSAL_FLAG_W,CTDOXY,CTDOXY_FLAG_W,SALNTY,SALNTY_FLAG_W,OXYGEN,OXYGEN_FLAG_W,SILCAT,SILCAT_FLAG_W,NITRAT,NITRAT_FLAG_W,NO2+NO3,NO2+NO3_FLAG_W,NITRIT,NITRIT_FLAG_W,PHSPHT,PHSPHT_FLAG_W,CFC-11,CFC-11_FLAG_W,CFC-12,CFC-12_FLAG_W,DELC13,DELC13_FLAG_W,TCARBN,TCARBN_FLAG_W,ALKALI,ALKALI_FLAG_W,PH,PH_FLAG_W,PH_TMP,PH_SCALE,PH_NBS,PH_NBS_FLAG_W,C13ERR,TOTALP,TOTALP_FLAG_W,AMMONI,AMMONI_FLAG_W,CHLORA,CHLORA_FLAG_W,PPHYTN,PPHYTN_FLAG_W,REVPRS,REVTMP,DEPTH_,DEPTH_FLAG,CTDDEP,THETA,SIGTHT,DOC,DOC_FLAG_W
,,,,,,,GMT,GMT,,,METER,DBAR,ITS-90,PSS-78,,UMOL/KG,,PSS-78,,UMOL/KG,,UMOL/KG,,UMOL/KG,,UMOL/KG,,UMOL/KG,,UMOL/KG,,PMOL/KG,,PMOL/KG,,/MILLE,,UMOL/KG,,UMOL/KG,,25_DEG_C,,DEG_C,,,,/MILLE,UMOL/KG,,UMOL/KG,,UG/L,,UG/L,,DBAR,ITS-90,METERS,,METERS,DEG_C,,UMOL/L,
       RF97-09,  165E,RF-0468,  1,     -9,      -9,5,19970920,1439, 35.0017, 164.9848, 5876,      0.0,  24.4806,  34.4054,2,   -999.0,9,-999.0000,9,    210.6,2,     1.40,2,  -999.00,9,     0.12,2,     0.00,2,     0.05,2, -999.000,9, -999.000,9,  -999.00,9,   -999.0,9,   -999.0,9,-999.0000,9,   -999.0,  9,     8.21,2,   -999.0,  -999.00,9,  -999.00,9,     0.09,2,     0.02,2,   -999.0,-999.0000, -999,9,    0,  24.4806,  23.0484,   -999.0,9
       RF97-09,  165E,RF-0468,  1,     23,02-13591,2,19970920,1437, 35.0017, 164.9848, 5876,      8.5,  24.4788,  34.3918,2,   -999.0,9,-999.0000,9,    209.6,2,     1.42,2,  -999.00,9,  -999.00,9,     0.00,2,     0.04,2, -999.000,9, -999.000,9,  -999.00,9,   -999.0,9,   -999.0,9,-999.0000,9,   -999.0,  9,     8.20,2,   -999.0,  -999.00,9,  -999.00,9,     0.10,2,     0.02,2,   -999.0,-999.0000, -999,9,    8,  24.4770,  23.0392,   -999.0,9
       RF97-09,  165E,RF-0468,  1,     22,02-12828,2,19970920,1436, 35.0017, 164.9848, 5876,     23.4,  24.1446,  34.3919,2,   -999.0,9,  34.4164,4,    214.3,2,     1.32,2,  -999.00,9,     0.03,2,     0.00,2,     0.03,2, -999.000,9, -999.000,9,  -999.00,9,   -999.0,9,   -999.0,9,-999.0000,9,   -999.0,  9,     8.19,2,   -999.0,  -999.00,9,  -999.00,9,     0.11,2,     0.02,2,   -999.0,-999.0000, -999,9,   23,  24.1396,  23.1397,   -999.0,9
       RF97-09,  165E,RF-0468,  1,     21,02-12827,2,19970920,1434, 35.0017, 164.9848, 5876,     49.1,  17.4365,  34.5207,2,   -999.0,9,  34.5407,4,    257.1,2,     3.36,2,  -999.00,9,     0.02,2,     0.00,2,     0.09,2, -999.000,9, -999.000,9,  -999.00,9,   -999.0,9,   -999.0,9,-999.0000,9,   -999.0,  9,     8.16,2,   -999.0,  -999.00,9,  -999.00,9,     0.27,2,     0.12,2,   -999.0,-999.0000, -999,9,   49,  17.4283,  25.0440,   -999.0,9
       RF97-09,  165E,RF-0468,  1,     20,02-12826,2,19970920,1433, 35.0017, 164.9848, 5876,     72.2,  15.3664,  34.5942,2,   -999.0,9,-999.0000,9,    221.3,2,     7.82,2,  -999.00,9,     5.96,2,     0.43,2,     0.42,2, -999.000,9, -999.000,9,  -999.00,9,   -999.0,9,   -999.0,9,-999.0000,9,   -999.0,  9,     8.07,2,   -999.0,  -999.00,9,  -999.00,9,     0.39,2,     0.33,2,   -999.0,-999.0000, -999,9,   72,  15.3553,  25.5806,   -999.0,9
       RF97-09,  165E,RF-0468,  1,     19,02-12825,2,19970920,1432, 35.0017, 164.9848, 5876,     99.1,  14.6842,  34.5924,2,   -999.0,9,  34.5995,2,    193.1,2,    12.18,2,  -999.00,9,    10.07,2,     0.04,2,     0.67,2, -999.000,9, -999.000,9,  -999.00,9,   -999.0,9,   -999.0,9,-999.0000,9,   -999.0,  9,     8.02,2,   -999.0,  -999.00,9,  -999.00,9,     0.11,2,     0.06,2,   -999.0,-999.0000, -999,9,   98,  14.6695,  25.7296,   -999.0,9
       RF97-09,  165E,RF-0468,  1,     18,02-12824,2,19970920,1430, 35.0017, 164.9848, 5876,    121.2,  13.5531,  34.5225,2,   -999.0,9,-999.0000,9,    217.9,2,    11.37,2,  -999.00,9,     9.49,2,     0.02,2,     0.64,2, -999.000,9, -999.000,9,  -999.00,9,   -999.0,9,   -999.0,9,-999.0000,9,   -999.0,  9,     8.02,2,   -999.0,  -999.00,9,  -999.00,9,     0.12,2,     0.11,2,   -999.0,-999.0000, -999,9,  120,  13.5361,  25.9143,   -999.0,9
       RF97-09,  165E,RF-0468,  1,     17,02-12814,2,19970920,1429, 35.0017, 164.9848, 5876,    149.1,  13.2233,  34.5167,2,   -999.0,9,-999.0000,9,    195.0,2,    16.39,2,  -999.00,9,    12.30,2,     0.01,2,     0.84,2, -999.000,9, -999.000,9,  -999.00,9,   -999.0,9,   -999.0,9,-999.0000,9,   -999.0,  9,     7.99,2,   -999.0,  -999.00,9,  -999.00,9,     0.01,2,     0.03,2,   -999.0,-999.0000, -999,9,  148,  13.2027,  25.9777,   -999.0,9
       RF97-09,  165E,RF-0468,  1,     15,02-12833,9,19970920,1427, 35.0017, 164.9848, 5876,    198.8,  11.7848,  34.3906,2,   -999.0,9,  34.3954,2,   -999.0,9,  -999.00,9,  -999.00,9,  -999.00,9,  -999.00,9,  -999.00,9, -999.000,9, -999.000,9,  -999.00,9,   -999.0,9,   -999.0,9,-999.0000,9,   -999.0,  9,  -999.00,9,   -999.0,  -999.00,9,  -999.00,9,  -999.00,9,  -999.00,9,   -999.0,-999.0000, -999,9,  197,  11.7593,  26.1612,   -999.0,9
       RF97-09,  165E,RF-0468,  1,     16,02-12832,2,19970920,1427, 35.0017, 164.9848, 5876,    200.1,  11.7521,  34.3834,2,   -999.0,9,  34.4764,4,    190.5,2,    21.41,2,  -999.00,9,    14.95,2,     0.00,2,     1.03,2, -999.000,9, -999.000,9,  -999.00,9,   -999.0,9,   -999.0,9,-999.0000,9,   -999.0,  9,     7.93,2,   -999.0,  -999.00,9,  -999.00,9,     0.01,2,     0.03,2,   -999.0,-999.0000, -999,9,  199,  11.7265,  26.1618,   -999.0,9
       RF97-09,  165E,RF-0468,  1,     14,02-13578,2,19970920,1425, 35.0017, 164.9848, 5876,    248.5,  10.3610,  34.2776,2,   -999.0,9,-999.0000,9,    191.1,2,    26.87,2,  -999.00,9,    17.40,2,     0.00,2,     1.22,2, -999.000,9, -999.000,9,  -999.00,9,   -999.0,9,   -999.0,9,-999.0000,9,   -999.0,  9,     7.89,2,   -999.0,  -999.00,9,  -999.00,9,  -999.00,9,  -999.00,9,   -999.0,-999.0000, -999,9,  247,  10.3317,  26.3310,   -999.0,9
       RF97-09,  165E,RF-0468,  1,     13,02-13590,2,19970920,1423, 35.0017, 164.9848, 5876,    300.5,   8.4204,  34.0629,2,   -999.0,9,-999.0000,9,    204.0,2,    31.80,2,  -999.00,9,    19.18,2,     0.00,2,     1.37,2, -999.000,9, -999.000,9,  -999.00,9,   -999.0,9,   -999.0,9,-999.0000,9,   -999.0,  9,     7.85,2,   -999.0,  -999.00,9,  -999.00,9,  -999.00,9,  -999.00,9,   -999.0,-999.0000, -999,9,  298,   8.3893,  26.4794,   -999.0,9
       RF97-09,  165E,RF-0468,  1,     12,02-12821,2,19970920,1421, 35.0017, 164.9848, 5876,    399.4,   6.2553,  33.9024,2,   -999.0,9,  33.9086,2,    181.4,2,    47.99,2,  -999.00,9,    25.63,2,     0.00,2,     1.86,2, -999.000,9, -999.000,9,  -999.00,9,   -999.0,9,   -999.0,9,-999.0000,9,   -999.0,  9,  -999.00,9,   -999.0,  -999.00,9,  -999.00,9,  -999.00,9,  -999.00,9,   -999.0,-999.0000, -999,9,  396,   6.2203,  26.6574,   -999.0,9
       RF97-09,  165E,RF-0468,  1,     10,02-10155,9,19970920,1418, 35.0017, 164.9848, 5876,    497.8,   5.4639,  34.0249,2,   -999.0,9,-999.0000,9,   -999.0,9,  -999.00,9,  -999.00,9,  -999.00,9,  -999.00,9,  -999.00,9, -999.000,9, -999.000,9,  -999.00,9,   -999.0,9,   -999.0,9,-999.0000,9,   -999.0,  9,  -999.00,9,   -999.0,  -999.00,9,  -999.00,9,  -999.00,9,  -999.00,9,   -999.0,-999.0000, -999,9,  494,   5.4228,  26.8528,   -999.0,9
       RF97-09,  165E,RF-0468,  1,     11,02-12811,2,19970920,1418, 35.0017, 164.9848, 5876,    500.6,   5.4611,  34.0176,2,   -999.0,9,-999.0000,9,    121.9,2,    70.04,2,  -999.00,9,    32.96,2,     0.00,2,     2.38,2, -999.000,9, -999.000,9,  -999.00,9,   -999.0,9,   -999.0,9,-999.0000,9,   -999.0,  9,  -999.00,9,   -999.0,  -999.00,9,  -999.00,9,  -999.00,9,  -999.00,9,   -999.0,-999.0000, -999,9,  496,   5.4199,  26.8474,   -999.0,9
       RF97-09,  165E,RF-0468,  1,      9,02-12810,2,19970920,1416, 35.0017, 164.9848, 5876,    602.5,   4.7228,  34.1053,2,   -999.0,9,  34.1464,4,     83.6,2,    88.41,2,  -999.00,9,    37.43,2,     0.00,2,     2.68,2, -999.000,9, -999.000,9,  -999.00,9,   -999.0,9,   -999.0,9,-999.0000,9,   -999.0,  9,  -999.00,9,   -999.0,  -999.00,9,  -999.00,9,  -999.00,9,  -999.00,9,   -999.0,-999.0000, -999,9,  597,   4.6761,  27.0024,   -999.0,9
       RF97-09,  165E,RF-0468,  1,      8,02-12829,2,19970920,1413, 35.0017, 164.9848, 5876,    701.7,   4.2291,  34.1900,2,   -999.0,9,-999.0000,9,     62.3,2,   103.35,2,  -999.00,9,    40.08,2,     0.00,2,     2.88,2, -999.000,9, -999.000,9,  -999.00,9,   -999.0,9,   -999.0,9,-999.0000,9,   -999.0,  9,  -999.00,9,   -999.0,  -999.00,9,  -999.00,9,  -999.00,9,  -999.00,9,   -999.0,-999.0000, -999,9,  695,   4.1767,  27.1234,   -999.0,9
       RF97-09,  165E,RF-0468,  1,      7,02-13589,2,19970920,1411, 35.0017, 164.9848, 5876,    801.7,   3.7947,  34.2518,2,   -999.0,9,  34.2534,2,     49.6,2,   115.08,2,  -999.00,9,    41.65,2,     0.00,2,     2.99,2, -999.000,9, -999.000,9,  -999.00,9,   -999.0,9,   -999.0,9,-999.0000,9,   -999.0,  9,  -999.00,9,   -999.0,  -999.00,9,  -999.00,9,  -999.00,9,  -999.00,9,   -999.0,-999.0000, -999,9,  794,   3.7368,  27.2176,   -999.0,9
       RF97-09,  165E,RF-0468,  1,      6,02-12818,2,19970920,1408, 35.0017, 164.9848, 5876,    904.6,   3.5396,  34.3071,2,   -999.0,9,-999.0000,9,     42.6,2,  -999.00,9,  -999.00,9,  -999.00,9,  -999.00,9,  -999.00,9, -999.000,9, -999.000,9,  -999.00,9,   -999.0,9,   -999.0,9,-999.0000,9,   -999.0,  9,  -999.00,9,   -999.0,  -999.00,9,  -999.00,9,  -999.00,9,  -999.00,9,   -999.0,-999.0000, -999,9,  896,   3.4753,  27.2874,   -999.0,9
       RF97-09,  165E,RF-0468,  1,      5,02-12809,2,19970920,1406, 35.0017, 164.9848, 5876,   1006.4,   3.2617,  34.3550,2,   -999.0,9,  34.3559,2,     35.5,2,   131.47,2,  -999.00,9,    43.30,2,     0.00,2,     3.10,2, -999.000,9, -999.000,9,  -999.00,9,   -999.0,9,   -999.0,9,-999.0000,9,   -999.0,  9,  -999.00,9,   -999.0,  -999.00,9,  -999.00,9,  -999.00,9,  -999.00,9,   -999.0,-999.0000, -999,9,  997,   3.1915,  27.3525,   -999.0,9
       RF97-09,  165E,RF-0468,  1,      4,02-12817,2,19970920,1401, 35.0017, 164.9848, 5876,   1257.0,   2.7222,  34.4530,2,   -999.0,9,  34.4764,4,     37.2,2,   146.51,2,  -999.00,9,    43.59,2,     0.00,2,     3.10,2, -999.000,9, -999.000,9,  -999.00,9,   -999.0,9,   -999.0,9,-999.0000,9,   -999.0,  9,  -999.00,9,   -999.0,  -999.00,9,  -999.00,9,  -999.00,9,  -999.00,9,   -999.0,-999.0000, -999,9, 1244,   2.6372,  27.4807,   -999.0,9
       RF97-09,  165E,RF-0468,  1,      3,02-12808,2,19970920,1357, 35.0017, 164.9848, 5876,   1512.0,   2.3796,  34.5168,2,   -999.0,9,  34.5169,2,   -999.0,9,   155.13,2,  -999.00,9,    43.35,2,     0.00,2,     3.08,2, -999.000,9, -999.000,9,  -999.00,9,   -999.0,9,   -999.0,9,-999.0000,9,   -999.0,  9,  -999.00,9,   -999.0,  -999.00,9,  -999.00,9,  -999.00,9,  -999.00,9,   -999.0,-999.0000, -999,9, 1496,   2.2781,  27.5621,   -999.0,9
       RF97-09,  165E,RF-0468,  1,      2,02-13588,2,19970920,1352, 35.0017, 164.9848, 5876,   1765.2,   2.1247,  34.5626,2,   -999.0,9,  34.5645,2,     58.0,2,   160.09,2,  -999.00,9,    42.74,2,     0.00,2,     3.03,2, -999.000,9, -999.000,9,  -999.00,9,   -999.0,9,   -999.0,9,-999.0000,9,   -999.0,  9,  -999.00,9,   -999.0,  -999.00,9,  -999.00,9,  -999.00,9,  -999.00,9,   -999.0,-999.0000, -999,9, 1745,   2.0060,  27.6208,   -999.0,9
       RF97-09,  165E,RF-0468,  1,      1,02-12807,2,19970920,1348, 35.0017, 164.9848, 5876,   2028.7,   1.9083,  34.5991,2,   -999.0,9,  34.5991,2,     75.3,2,   161.42,2,  -999.00,9,    41.51,2,     0.00,2,     2.92,2, -999.000,9, -999.000,9,  -999.00,9,   -999.0,9,   -999.0,9,-999.0000,9,   -999.0,  9,  -999.00,9,   -999.0,  -999.00,9,  -999.00,9,  -999.00,9,  -999.00,9,   2013.0,-999.0000, -999,9, 2004,   1.7710,  27.6682,   -999.0,9