BOTTLE,20130510GEMDJMAYT
EXPOCODE,SECT_ID,STNNBR,CASTNO,SAMPNO,BTLNBR,BTLNBR_FLAG_W,DATE,TIME,LATITUDE,LONGITUDE,DEPTH,CTDPRS,CTDTMP,CTDSAL,CTDSAL_FLAG_W,CTDOXY,CTDOXY_FLAG_W,SALNTY,SALNTY_FLAG_W,OXYGEN,OXYGEN_FLAG_W,SILCAT,SILCAT_FLAG_W,NITRAT,NITRAT_FLAG_W,NO2+NO3,NO2+NO3_FLAG_W,NITRIT,NITRIT_FLAG_W,PHSPHT,PHSPHT_FLAG_W,CFC-11,CFC-11_FLAG_W,CFC-12,CFC-12_FLAG_W,DELC13,DELC13_FLAG_W,TCARBN,TCARBN_FLAG_W,ALKALI,ALKALI_FLAG_W,PH,PH_FLAG_W,PH_TMP,PH_SCALE,PH_NBS,PH_NBS_FLAG_W,C13ERR,TOTALP,TOTALP_FLAG_W,AMMONI,AMMONI_FLAG_W,CHLORA,CHLORA_FLAG_W,PPHYTN,PPHYTN_FLAG_W,REVPRS,REVTMP,DEPTH_,DEPTH_FLAG,CTDDEP,THETA,SIGTHT,DOC,DOC_FLAG_W
,,,,,,,GMT,GMT,,,METER,DBAR,ITS-90,PSS-78,,UMOL/KG,,PSS-78,,UMOL/KG,,UMOL/KG,,UMOL/KG,,UMOL/KG,,UMOL/KG,,UMOL/KG,,PMOL/KG,,PMOL/KG,,/MILLE,,UMOL/KG,,UMOL/KG,,25_DEG_C,,DEG_C,,,,/MILLE,UMOL/KG,,UMOL/KG,,UG/L,,UG/L,,DBAR,ITS-90,METERS,,METERS,DEG_C,,UMOL/L,
     RF98-06-1,  NONE,RF-0611,  1,     -9,      -9,5,19980614,1624, 46.2955, 158.9972, 5186,      0.0,   4.1771,  32.9924,2,   -999.0,9,-999.0000,9,    339.6,2,  -999.00,9,  -999.00,9,  -999.00,9,  -999.00,9,  -999.00,9, -999.000,9, -999.000,9,  -999.00,9,   -999.0,9,   -999.0,9,-999.0000,9,   -999.0,  9,  -999.00,9,   -999.0,  -999.00,9,  -999.00,9,  -999.00,9,  -999.00,9,   -999.0,-999.0000, -999,9,    0,   4.1771,  26.1715,   -999.0,9
     RF98-06-1,  NONE,RF-0611,  1,     21,02-12827,2,19980614,1622, 46.2955, 158.9972, 5186,     11.0,   4.1756,  32.9898,2,   -999.0,9,-999.0000,9,    337.3,2,  -999.00,9,  -999.00,9,  -999.00,9,  -999.00,9,  -999.00,9, -999.000,9, -999.000,9,  -999.00,9,   -999.0,9,   -999.0,9,-999.0000,9,   -999.0,  9,  -999.00,9,   -999.0,  -999.00,9,  -999.00,9,  -999.00,9,  -999.00,9,   -999.0,-999.0000, -999,9,   11,   4.1749,  26.1697,   -999.0,9
     RF98-06-1,  NONE,RF-0611,  1,     20,02-12826,2,19980614,1621, 46.2955, 158.9972, 5186,     24.8,   4.0878,  32.9880,2,   -999.0,9,-999.0000,9,    342.1,2,  -999.00,9,  -999.00,9,  -999.00,9,  -999.00,9,  -999.00,9, -999.000,9, -999.000,9,  -999.00,9,   -999.0,9,   -999.0,9,-999.0000,9,   -999.0,  9,  -999.00,9,   -999.0,  -999.00,9,  -999.00,9,  -999.00,9,  -999.00,9,   -999.0,-999.0000, -999,9,   25,   4.0862,  26.1772,   -999.0,9
     RF98-06-1,  NONE,RF-0611,  1,     19,02-12825,2,19980614,1620, 46.2955, 158.9972, 5186,     50.8,   3.2660,  32.9612,2,   -999.0,9,-999.0000,9,    326.6,2,  -999.00,9,  -999.00,9,  -999.00,9,  -999.00,9,  -999.00,9, -999.000,9, -999.000,9,  -999.00,9,   -999.0,9,   -999.0,9,-999.0000,9,   -999.0,  9,  -999.00,9,   -999.0,  -999.00,9,  -999.00,9,  -999.00,9,  -999.00,9,   -999.0,-999.0000, -999,9,   50,   3.2630,  26.2344,   -999.0,9
     RF98-06-1,  NONE,RF-0611,  1,     18,02-12824,2,19980614,1618, 46.2955, 158.9972, 5186,     75.1,   2.8489,  32.9896,2,   -999.0,9,-999.0000,9,    334.7,2,  -999.00,9,  -999.00,9,  -999.00,9,  -999.00,9,  -999.00,9, -999.000,9, -999.000,9,  -999.00,9,   -999.0,9,   -999.0,9,-999.0000,9,   -999.0,  9,  -999.00,9,   -999.0,  -999.00,9,  -999.00,9,  -999.00,9,  -999.00,9,   -999.0,-999.0000, -999,9,   75,   2.8446,  26.2938,   -999.0,9
     RF98-06-1,  NONE,RF-0611,  1,     17,02-12814,2,19980614,1617, 46.2955, 158.9972, 5186,    100.8,   2.1646,  33.0610,2,   -999.0,9,  33.0391,2,    330.2,2,  -999.00,9,  -999.00,9,  -999.00,9,  -999.00,9,  -999.00,9, -999.000,9, -999.000,9,  -999.00,9,   -999.0,9,   -999.0,9,-999.0000,9,   -999.0,  9,  -999.00,9,   -999.0,  -999.00,9,  -999.00,9,  -999.00,9,  -999.00,9,   -999.0,-999.0000, -999,9,  100,   2.1594,  26.4063,   -999.0,9
     RF98-06-1,  NONE,RF-0611,  1,     16,02-12832,2,19980614,1616, 46.2955, 158.9972, 5186,    125.9,   2.3463,  33.2478,2,   -999.0,9,-999.0000,9,    239.2,2,  -999.00,9,  -999.00,9,  -999.00,9,  -999.00,9,  -999.00,9, -999.000,9, -999.000,9,  -999.00,9,   -999.0,9,   -999.0,9,-999.0000,9,   -999.0,  9,  -999.00,9,   -999.0,  -999.00,9,  -999.00,9,  -999.00,9,  -999.00,9,   -999.0,-999.0000, -999,9,  125,   2.3396,  26.5417,   -999.0,9
     RF98-06-1,  NONE,RF-0611,  1,     15,02-12833,2,19980614,1614, 46.2955, 158.9972, 5186,    151.3,   3.1354,  33.6913,2,   -999.0,9,-999.0000,9,     83.5,2,  -999.00,9,  -999.00,9,  -999.00,9,  -999.00,9,  -999.00,9, -999.000,9, -999.000,9,  -999.00,9,   -999.0,9,   -999.0,9,-999.0000,9,   -999.0,  9,  -999.00,9,   -999.0,  -999.00,9,  -999.00,9,  -999.00,9,  -999.00,9,   -999.0,-999.0000, -999,9,  150,   3.1262,  26.8290,   -999.0,9
     RF98-06-1,  NONE,RF-0611,  1,     14,02-13578,2,19980614,1613, 46.2955, 158.9972, 5186,    201.7,   3.5194,  33.9497,2,   -999.0,9,  33.9600,2,     20.6,2,  -999.00,9,  -999.00,9,  -999.00,9,  -999.00,9,  -999.00,9, -999.000,9, -999.000,9,  -999.00,9,   -999.0,9,   -999.0,9,-999.0000,9,   -999.0,  9,  -999.00,9,   -999.0,  -999.00,9,  -999.00,9,  -999.00,9,  -999.00,9,   -999.0,-999.0000, -999,9,  200,   3.5063,  26.9996,   -999.0,9
     RF98-06-1,  NONE,RF-0611,  1,     13,02-13590,2,19980614,1611, 46.2955, 158.9972, 5186,    251.7,   3.5152,  34.0204,2,   -999.0,9,-999.0000,9,     16.2,2,  -999.00,9,  -999.00,9,  -999.00,9,  -999.00,9,  -999.00,9, -999.000,9, -999.000,9,  -999.00,9,   -999.0,9,   -999.0,9,-999.0000,9,   -999.0,  9,  -999.00,9,   -999.0,  -999.00,9,  -999.00,9,  -999.00,9,  -999.00,9,   -999.0,-999.0000, -999,9,  249,   3.4988,  27.0567,   -999.0,9
     RF98-06-1,  NONE,RF-0611,  1,     12,02-12821,2,19980614,1609, 46.2955, 158.9972, 5186,    302.0,   3.4808,  34.0801,2,   -999.0,9,  34.0784,2,     15.3,2,  -999.00,9,  -999.00,9,  -999.00,9,  -999.00,9,  -999.00,9, -999.000,9, -999.000,9,  -999.00,9,   -999.0,9,   -999.0,9,-999.0000,9,   -999.0,  9,  -999.00,9,   -999.0,  -999.00,9,  -999.00,9,  -999.00,9,  -999.00,9,   -999.0,-999.0000, -999,9,  299,   3.4610,  27.1078,   -999.0,9
     RF98-06-1,  NONE,RF-0611,  1,     11,02-12811,2,19980614,1607, 46.2955, 158.9972, 5186,    402.5,   3.3638,  34.1696,2,   -999.0,9,-999.0000,9,     20.8,4,  -999.00,9,  -999.00,9,  -999.00,9,  -999.00,9,  -999.00,9, -999.000,9, -999.000,9,  -999.00,9,   -999.0,9,   -999.0,9,-999.0000,9,   -999.0,  9,  -999.00,9,   -999.0,  -999.00,9,  -999.00,9,  -999.00,9,  -999.00,9,   -999.0,-999.0000, -999,9,  399,   3.3375,  27.1909,   -999.0,9
     RF98-06-1,  NONE,RF-0611,  1,     10,02-12820,2,19980614,1604, 46.2955, 158.9972, 5186,    503.0,   3.2058,  34.2421,2,   -999.0,9,  34.2459,2,     15.7,2,  -999.00,9,  -999.00,9,  -999.00,9,  -999.00,9,  -999.00,9, -999.000,9, -999.000,9,  -999.00,9,   -999.0,9,   -999.0,9,-999.0000,9,   -999.0,  9,  -999.00,9,   -999.0,  -999.00,9,  -999.00,9,  -999.00,9,  -999.00,9,   -999.0,-999.0000, -999,9,  498,   3.1730,  27.2642,   -999.0,9
     RF98-06-1,  NONE,RF-0611,  1,      9,02-10155,2,19980614,1602, 46.2955, 158.9972, 5186,    604.1,   3.0325,  34.3007,2,   -999.0,9,  34.3001,2,     16.5,2,  -999.00,9,  -999.00,9,  -999.00,9,  -999.00,9,  -999.00,9, -999.000,9, -999.000,9,  -999.00,9,   -999.0,9,   -999.0,9,-999.0000,9,   -999.0,  9,  -999.00,9,   -999.0,  -999.00,9,  -999.00,9,  -999.00,9,  -999.00,9,   -999.0,-999.0000, -999,9,  598,   2.9934,  27.3274,   -999.0,9
     RF98-06-1,  NONE,RF-0611,  1,      8,02-13579,2,19980614,1559, 46.2955, 158.9972, 5186,    704.7,   2.8686,  34.3497,2,   -999.0,9,  34.3516,2,     18.1,2,  -999.00,9,  -999.00,9,  -999.00,9,  -999.00,9,  -999.00,9, -999.000,9, -999.000,9,  -999.00,9,   -999.0,9,   -999.0,9,-999.0000,9,   -999.0,  9,  -999.00,9,   -999.0,  -999.00,9,  -999.00,9,  -999.00,9,  -999.00,9,   -999.0,-999.0000, -999,9,  698,   2.8233,  27.3818,   -999.0,9
     RF98-06-1,  NONE,RF-0611,  1,      7,02-12815,2,19980614,1557, 46.2955, 158.9972, 5186,    806.3,   2.7170,  34.3934,2,   -999.0,9,  34.3938,2,     20.1,2,  -999.00,9,  -999.00,9,  -999.00,9,  -999.00,9,  -999.00,9, -999.000,9, -999.000,9,  -999.00,9,   -999.0,9,   -999.0,9,-999.0000,9,   -999.0,  9,  -999.00,9,   -999.0,  -999.00,9,  -999.00,9,  -999.00,9,  -999.00,9,   -999.0,-999.0000, -999,9,  798,   2.6655,  27.4306,   -999.0,9
     RF98-06-1,  NONE,RF-0611,  1,      6,02-12818,2,19980614,1555, 46.2955, 158.9972, 5186,    907.3,   2.5670,  34.4311,2,   -999.0,9,-999.0000,9,     22.8,2,  -999.00,9,  -999.00,9,  -999.00,9,  -999.00,9,  -999.00,9, -999.000,9, -999.000,9,  -999.00,9,   -999.0,9,   -999.0,9,-999.0000,9,   -999.0,  9,  -999.00,9,   -999.0,  -999.00,9,  -999.00,9,  -999.00,9,  -999.00,9,   -999.0,-999.0000, -999,9,  898,   2.5093,  27.4742,   -999.0,9
     RF98-06-1,  NONE,RF-0611,  1,      5,02-12809,2,19980614,1552, 46.2955, 158.9972, 5186,   1007.1,   2.4285,  34.4638,2,   -999.0,9,  34.4618,2,     26.9,2,  -999.00,9,  -999.00,9,  -999.00,9,  -999.00,9,  -999.00,9, -999.000,9, -999.000,9,  -999.00,9,   -999.0,9,   -999.0,9,-999.0000,9,   -999.0,  9,  -999.00,9,   -999.0,  -999.00,9,  -999.00,9,  -999.00,9,  -999.00,9,   -999.0,-999.0000, -999,9,  996,   2.3647,  27.5125,   -999.0,9
     RF98-06-1,  NONE,RF-0611,  1,      4,02-12817,2,19980614,1548, 46.2955, 158.9972, 5186,   1261.2,   2.1611,  34.5250,2,   -999.0,9,  34.5252,2,     40.5,2,  -999.00,9,  -999.00,9,  -999.00,9,  -999.00,9,  -999.00,9, -999.000,9, -999.000,9,  -999.00,9,   -999.0,9,   -999.0,9,-999.0000,9,   -999.0,  9,  -999.00,9,   -999.0,  -999.00,9,  -999.00,9,  -999.00,9,  -999.00,9,   -999.0,-999.0000, -999,9, 1247,   2.0811,  27.5847,   -999.0,9
     RF98-06-1,  NONE,RF-0611,  1,      3,02-12808,2,19980614,1543, 46.2955, 158.9972, 5186,   1513.6,   1.9760,  34.5682,2,   -999.0,9,  34.5716,2,     57.2,2,  -999.00,9,  -999.00,9,  -999.00,9,  -999.00,9,  -999.00,9, -999.000,9, -999.000,9,  -999.00,9,   -999.0,9,   -999.0,9,-999.0000,9,   -999.0,  9,  -999.00,9,   -999.0,  -999.00,9,  -999.00,9,  -999.00,9,  -999.00,9,   -999.0,-999.0000, -999,9, 1496,   1.8790,  27.6352,   -999.0,9
     RF98-06-1,  NONE,RF-0611,  1,      2,02-13588,2,19980614,1539, 46.2955, 158.9972, 5186,   1766.5,   1.8283,  34.6007,2,   -999.0,9,  34.5769,2,     77.3,2,  -999.00,9,  -999.00,9,  -999.00,9,  -999.00,9,  -999.00,9, -999.000,9, -999.000,9,  -999.00,9,   -999.0,9,   -999.0,9,-999.0000,9,   -999.0,  9,  -999.00,9,   -999.0,  -999.00,9,  -999.00,9,  -999.00,9,  -999.00,9,   -999.0,-999.0000, -999,9, 1745,   1.7134,  27.6739,   -999.0,9
     RF98-06-1,  NONE,RF-0611,  1,      1,02-12807,2,19980614,1534, 46.2955, 158.9972, 5186,   2038.4,   1.7179,  34.6242,2,   -999.0,9,  34.6296,2,     90.3,2,  -999.00,9,  -999.00,9,  -999.00,9,  -999.00,9,  -999.00,9, -999.000,9, -999.000,9,  -999.00,9,   -999.0,9,   -999.0,9,-999.0000,9,   -999.0,  9,  -999.00,9,   -999.0,  -999.00,9,  -999.00,9,  -999.00,9,  -999.00,9,   2023.0,-999.0000, -999,9, 2012,   1.5827,  27.7025,   -999.0,9