BOTTLE,20130510GEMDJMAYT
EXPOCODE,SECT_ID,STNNBR,CASTNO,SAMPNO,BTLNBR,BTLNBR_FLAG_W,DATE,TIME,LATITUDE,LONGITUDE,DEPTH,CTDPRS,CTDTMP,CTDSAL,CTDSAL_FLAG_W,CTDOXY,CTDOXY_FLAG_W,SALNTY,SALNTY_FLAG_W,OXYGEN,OXYGEN_FLAG_W,SILCAT,SILCAT_FLAG_W,NITRAT,NITRAT_FLAG_W,NO2+NO3,NO2+NO3_FLAG_W,NITRIT,NITRIT_FLAG_W,PHSPHT,PHSPHT_FLAG_W,CFC-11,CFC-11_FLAG_W,CFC-12,CFC-12_FLAG_W,DELC13,DELC13_FLAG_W,TCARBN,TCARBN_FLAG_W,ALKALI,ALKALI_FLAG_W,PH,PH_FLAG_W,PH_TMP,PH_SCALE,PH_NBS,PH_NBS_FLAG_W,C13ERR,TOTALP,TOTALP_FLAG_W,AMMONI,AMMONI_FLAG_W,CHLORA,CHLORA_FLAG_W,PPHYTN,PPHYTN_FLAG_W,REVPRS,REVTMP,DEPTH_,DEPTH_FLAG,CTDDEP,THETA,SIGTHT,DOC,DOC_FLAG_W
,,,,,,,GMT,GMT,,,METER,DBAR,ITS-90,PSS-78,,UMOL/KG,,PSS-78,,UMOL/KG,,UMOL/KG,,UMOL/KG,,UMOL/KG,,UMOL/KG,,UMOL/KG,,PMOL/KG,,PMOL/KG,,/MILLE,,UMOL/KG,,UMOL/KG,,25_DEG_C,,DEG_C,,,,/MILLE,UMOL/KG,,UMOL/KG,,UG/L,,UG/L,,DBAR,ITS-90,METERS,,METERS,DEG_C,,UMOL/L,
     RF98-06-1,  165E,RF-0617,  1,     -9,      -9,5,19980616,0252, 50.0037, 165.0240, 5518,      0.0,   4.5801,  32.9156,2,   -999.0,9,-999.0000,9,    330.1,2,    30.61,2,  -999.00,9,    19.00,2,     0.21,2,     1.59,2, -999.000,9, -999.000,9,  -999.00,9,   -999.0,9,   -999.0,9,-999.0000,9,   -999.0,  9,     7.89,2,   -999.0,  -999.00,9,  -999.00,9,     0.92,2,     0.11,2,   -999.0,-999.0000, -999,9,    0,   4.5801,  26.0686,   -999.0,9
     RF98-06-1,  165E,RF-0617,  1,     24,02-12830,2,19980616,0250, 50.0037, 165.0240, 5518,     10.7,   4.5706,  32.9150,2,   -999.0,9,-999.0000,9,    330.9,2,    30.49,2,  -999.00,9,    19.01,2,     0.21,2,     1.59,2, -999.000,9, -999.000,9,  -999.00,9,   -999.0,9,   -999.0,9,-999.0000,9,   -999.0,  9,     7.89,2,   -999.0,  -999.00,9,  -999.00,9,     0.84,2,     0.12,2,   -999.0,-999.0000, -999,9,   11,   4.5698,  26.0693,   -999.0,9
     RF98-06-1,  165E,RF-0617,  1,     23,02-12829,2,19980616,0248, 50.0037, 165.0240, 5518,     26.8,   4.5618,  32.9159,2,   -999.0,9,-999.0000,9,    335.2,2,    30.56,2,  -999.00,9,    18.95,2,     0.21,2,     1.59,2, -999.000,9, -999.000,9,  -999.00,9,   -999.0,9,   -999.0,9,-999.0000,9,   -999.0,  9,     7.90,2,   -999.0,  -999.00,9,  -999.00,9,     0.94,2,     0.09,2,   -999.0,-999.0000, -999,9,   27,   4.5599,  26.0710,   -999.0,9
     RF98-06-1,  165E,RF-0617,  1,     22,02-12828,2,19980616,0247, 50.0037, 165.0240, 5518,     49.8,   3.4346,  32.8882,2,   -999.0,9,-999.0000,9,    326.9,2,    30.69,2,  -999.00,9,    20.15,2,     0.27,2,     1.70,2, -999.000,9, -999.000,9,  -999.00,9,   -999.0,9,   -999.0,9,-999.0000,9,   -999.0,  9,     7.85,2,   -999.0,  -999.00,9,  -999.00,9,     0.52,2,     0.25,2,   -999.0,-999.0000, -999,9,   49,   3.4315,  26.1609,   -999.0,9
     RF98-06-1,  165E,RF-0617,  1,     21,02-12827,2,19980616,0246, 50.0037, 165.0240, 5518,     74.4,   2.8977,  32.9761,2,   -999.0,9,-999.0000,9,    323.9,2,    36.10,2,  -999.00,9,    22.55,2,     0.32,2,     1.84,2, -999.000,9, -999.000,9,  -999.00,9,   -999.0,9,   -999.0,9,-999.0000,9,   -999.0,  9,     7.83,2,   -999.0,  -999.00,9,  -999.00,9,     0.31,2,     0.16,2,   -999.0,-999.0000, -999,9,   74,   2.8935,  26.2788,   -999.0,9
     RF98-06-1,  165E,RF-0617,  1,     20,02-12826,2,19980616,0245, 50.0037, 165.0240, 5518,     84.3,   2.6622,  33.0228,2,   -999.0,9,-999.0000,9,    320.6,2,    38.51,2,  -999.00,9,    23.44,2,     0.32,2,     1.90,2, -999.000,9, -999.000,9,  -999.00,9,   -999.0,9,   -999.0,9,-999.0000,9,   -999.0,  9,     7.82,2,   -999.0,  -999.00,9,  -999.00,9,     0.22,2,     0.14,2,   -999.0,-999.0000, -999,9,   84,   2.6575,  26.3360,   -999.0,9
     RF98-06-1,  165E,RF-0617,  1,     19,02-12825,2,19980616,0243, 50.0037, 165.0240, 5518,     99.6,   2.8807,  33.2835,2,   -999.0,9,  33.2648,2,    221.7,2,    56.18,2,  -999.00,9,    31.10,2,     0.07,2,     2.34,2, -999.000,9, -999.000,9,  -999.00,9,   -999.0,9,   -999.0,9,-999.0000,9,   -999.0,  9,     7.67,2,   -999.0,  -999.00,9,  -999.00,9,     0.07,2,     0.08,2,   -999.0,-999.0000, -999,9,   99,   2.8750,  26.5258,   -999.0,9
     RF98-06-1,  165E,RF-0617,  1,     18,02-12824,2,19980616,0241, 50.0037, 165.0240, 5518,    126.7,   3.2823,  33.6739,2,   -999.0,9,-999.0000,9,     94.6,2,    81.16,2,  -999.00,9,    40.45,2,     0.02,2,     2.97,2, -999.000,9, -999.000,9,  -999.00,9,   -999.0,9,   -999.0,9,-999.0000,9,   -999.0,  9,     7.49,2,   -999.0,  -999.00,9,  -999.00,9,     0.04,2,     0.07,2,   -999.0,-999.0000, -999,9,  126,   3.2745,  26.8016,   -999.0,9
     RF98-06-1,  165E,RF-0617,  1,     17,02-12814,2,19980616,0241, 50.0037, 165.0240, 5518,    124.0,   3.2557,  33.6471,2,   -999.0,9,-999.0000,9,    102.0,2,    78.78,2,  -999.00,9,    39.80,2,     0.02,2,     2.93,2, -999.000,9, -999.000,9,  -999.00,9,   -999.0,9,   -999.0,9,-999.0000,9,   -999.0,  9,  -999.00,9,   -999.0,  -999.00,9,  -999.00,9,  -999.00,9,  -999.00,9,   -999.0,-999.0000, -999,9,  123,   3.2481,  26.7827,   -999.0,9
     RF98-06-1,  165E,RF-0617,  1,     16,02-12832,2,19980616,0239, 50.0037, 165.0240, 5518,    148.2,   3.4050,  33.8015,2,   -999.0,9,-999.0000,9,     59.4,2,    88.90,2,  -999.00,9,    42.60,2,     0.03,2,     3.13,2, -999.000,9, -999.000,9,  -999.00,9,   -999.0,9,   -999.0,9,-999.0000,9,   -999.0,  9,     7.43,2,   -999.0,  -999.00,9,  -999.00,9,     0.02,2,     0.05,2,   -999.0,-999.0000, -999,9,  147,   3.3956,  26.8920,   -999.0,9
     RF98-06-1,  165E,RF-0617,  1,     15,02-12833,2,19980616,0238, 50.0037, 165.0240, 5518,    201.4,   3.4618,  33.8945,2,   -999.0,9,  33.8984,2,     35.5,2,    96.86,2,  -999.00,9,    44.12,2,     0.02,2,     3.24,2, -999.000,9, -999.000,9,  -999.00,9,   -999.0,9,   -999.0,9,-999.0000,9,   -999.0,  9,     7.43,4,   -999.0,  -999.00,9,  -999.00,9,     0.01,2,     0.05,2,   -999.0,-999.0000, -999,9,  200,   3.4489,  26.9611,   -999.0,9
     RF98-06-1,  165E,RF-0617,  1,     14,02-13578,2,19980616,0236, 50.0037, 165.0240, 5518,    249.9,   3.4664,  33.9890,2,   -999.0,9,-999.0000,9,     21.1,2,   105.39,2,  -999.00,9,    44.76,2,     0.01,2,     3.30,2, -999.000,9, -999.000,9,  -999.00,9,   -999.0,9,   -999.0,9,-999.0000,9,   -999.0,  9,     7.39,2,   -999.0,  -999.00,9,  -999.00,9,  -999.00,9,  -999.00,9,   -999.0,-999.0000, -999,9,  248,   3.4502,  27.0362,   -999.0,9
     RF98-06-1,  165E,RF-0617,  1,     13,02-13590,2,19980616,0234, 50.0037, 165.0240, 5518,    301.0,   3.4508,  34.0515,2,   -999.0,9,  34.0498,2,     20.8,2,   109.77,2,  -999.00,9,    44.51,2,     0.02,2,     3.27,2, -999.000,9, -999.000,9,  -999.00,9,   -999.0,9,   -999.0,9,-999.0000,9,   -999.0,  9,     7.40,2,   -999.0,  -999.00,9,  -999.00,9,  -999.00,9,  -999.00,9,   -999.0,-999.0000, -999,9,  298,   3.4312,  27.0879,   -999.0,9
     RF98-06-1,  165E,RF-0617,  1,     12,02-12821,2,19980616,0231, 50.0037, 165.0240, 5518,    402.2,   3.3834,  34.1526,2,   -999.0,9,-999.0000,9,     20.2,2,   118.66,2,  -999.00,9,    43.79,2,     0.01,2,     3.20,2, -999.000,9, -999.000,9,  -999.00,9,   -999.0,9,   -999.0,9,-999.0000,9,   -999.0,  9,  -999.00,9,   -999.0,  -999.00,9,  -999.00,9,  -999.00,9,  -999.00,9,   -999.0,-999.0000, -999,9,  398,   3.3570,  27.1755,   -999.0,9
     RF98-06-1,  165E,RF-0617,  1,     11,02-12811,2,19980616,0229, 50.0037, 165.0240, 5518,    504.0,   3.2536,  34.2202,2,   -999.0,9,  34.2184,2,     19.8,2,   125.83,2,  -999.00,9,    43.66,2,     0.01,2,     3.19,2, -999.000,9, -999.000,9,  -999.00,9,   -999.0,9,   -999.0,9,-999.0000,9,   -999.0,  9,  -999.00,9,   -999.0,  -999.00,9,  -999.00,9,  -999.00,9,  -999.00,9,   -999.0,-999.0000, -999,9,  499,   3.2206,  27.2423,   -999.0,9
     RF98-06-1,  165E,RF-0617,  1,     10,02-12820,2,19980616,0226, 50.0037, 165.0240, 5518,    603.5,   3.1156,  34.2776,2,   -999.0,9,  34.2809,2,     21.5,2,   131.33,2,  -999.00,9,    43.48,2,     0.01,2,     3.18,2, -999.000,9, -999.000,9,  -999.00,9,   -999.0,9,   -999.0,9,-999.0000,9,   -999.0,  9,  -999.00,9,   -999.0,  -999.00,9,  -999.00,9,  -999.00,9,  -999.00,9,   -999.0,-999.0000, -999,9,  597,   3.0762,  27.3014,   -999.0,9
     RF98-06-1,  165E,RF-0617,  1,      9,02-10155,2,19980616,0224, 50.0037, 165.0240, 5518,    704.5,   2.9827,  34.3192,2,   -999.0,9,  34.3109,2,     19.7,2,   136.26,2,  -999.00,9,    43.65,2,     0.01,2,     3.19,2, -999.000,9, -999.000,9,  -999.00,9,   -999.0,9,   -999.0,9,-999.0000,9,   -999.0,  9,  -999.00,9,   -999.0,  -999.00,9,  -999.00,9,  -999.00,9,  -999.00,9,   -999.0,-999.0000, -999,9,  697,   2.9368,  27.3474,   -999.0,9
     RF98-06-1,  165E,RF-0617,  1,      8,02-13579,2,19980616,0221, 50.0037, 165.0240, 5518,    807.5,   2.8278,  34.3639,2,   -999.0,9,  34.3626,2,     21.8,2,   143.05,2,  -999.00,9,    43.64,2,     0.01,2,     3.17,2, -999.000,9, -999.000,9,  -999.00,9,   -999.0,9,   -999.0,9,-999.0000,9,   -999.0,  9,  -999.00,9,   -999.0,  -999.00,9,  -999.00,9,  -999.00,9,  -999.00,9,   -999.0,-999.0000, -999,9,  799,   2.7755,  27.3974,   -999.0,9
     RF98-06-1,  165E,RF-0617,  1,      7,02-12815,2,19980616,0218, 50.0037, 165.0240, 5518,    908.7,   2.6992,  34.3987,2,   -999.0,9,-999.0000,9,     26.4,2,   147.42,2,  -999.00,9,    43.50,2,     0.01,2,     3.17,2, -999.000,9, -999.000,9,  -999.00,9,   -999.0,9,   -999.0,9,-999.0000,9,   -999.0,  9,  -999.00,9,   -999.0,  -999.00,9,  -999.00,9,  -999.00,9,  -999.00,9,   -999.0,-999.0000, -999,9,  899,   2.6404,  27.4370,   -999.0,9
     RF98-06-1,  165E,RF-0617,  1,      6,02-12818,2,19980616,0216, 50.0037, 165.0240, 5518,   1009.5,   2.5535,  34.4363,2,   -999.0,9,  34.4339,2,     25.7,2,   151.13,2,  -999.00,9,    43.34,2,     0.01,2,     3.15,2, -999.000,9, -999.000,9,  -999.00,9,   -999.0,9,   -999.0,9,-999.0000,9,   -999.0,  9,  -999.00,9,   -999.0,  -999.00,9,  -999.00,9,  -999.00,9,  -999.00,9,   -999.0,-999.0000, -999,9,  998,   2.4885,  27.4801,   -999.0,9
     RF98-06-1,  165E,RF-0617,  1,      5,02-12809,2,19980616,0211, 50.0037, 165.0240, 5518,   1259.2,   2.2896,  34.4985,2,   -999.0,9,  34.4703,2,     34.1,2,   158.42,2,  -999.00,9,    42.82,2,     0.01,2,     3.09,2, -999.000,9, -999.000,9,  -999.00,9,   -999.0,9,   -999.0,9,-999.0000,9,   -999.0,  9,  -999.00,9,   -999.0,  -999.00,9,  -999.00,9,  -999.00,9,  -999.00,9,   -999.0,-999.0000, -999,9, 1245,   2.2085,  27.5532,   -999.0,9
     RF98-06-1,  165E,RF-0617,  1,      4,02-12817,2,19980616,0206, 50.0037, 165.0240, 5518,   1514.2,   2.0764,  34.5486,2,   -999.0,9,  34.5464,2,     52.4,2,   162.47,2,  -999.00,9,    42.24,2,     0.01,2,     3.04,2, -999.000,9, -999.000,9,  -999.00,9,   -999.0,9,   -999.0,9,-999.0000,9,   -999.0,  9,  -999.00,9,   -999.0,  -999.00,9,  -999.00,9,  -999.00,9,  -999.00,9,   -999.0,-999.0000, -999,9, 1496,   1.9782,  27.6117,   -999.0,9
     RF98-06-1,  165E,RF-0617,  1,      3,02-12808,2,19980616,0202, 50.0037, 165.0240, 5518,   1767.3,   1.9178,  34.5838,2,   -999.0,9,  34.5846,2,     62.6,2,   164.87,2,  -999.00,9,    41.28,2,     0.01,2,     2.96,2, -999.000,9, -999.000,9,  -999.00,9,   -999.0,9,   -999.0,9,-999.0000,9,   -999.0,  9,  -999.00,9,   -999.0,  -999.00,9,  -999.00,9,  -999.00,9,  -999.00,9,   -999.0,-999.0000, -999,9, 1745,   1.8017,  27.6536,   -999.0,9
     RF98-06-1,  165E,RF-0617,  1,      2,02-13588,2,19980616,0157, 50.0037, 165.0240, 5518,   2031.1,   1.7880,  34.6029,2,   -999.0,9,  34.6111,2,     79.3,2,   164.70,2,  -999.00,9,    40.38,2,     0.01,2,     2.88,2, -999.000,9, -999.000,9,  -999.00,9,   -999.0,9,   -999.0,9,-999.0000,9,   -999.0,  9,  -999.00,9,   -999.0,  -999.00,9,  -999.00,9,  -999.00,9,  -999.00,9,   -999.0,-999.0000, -999,9, 2004,   1.6523,  27.6803,   -999.0,9
     RF98-06-1,  165E,RF-0617,  1,      1,02-12807,2,19980616,0156, 50.0037, 165.0240, 5518,   2033.4,   1.7836,  34.6123,2,   -999.0,9,  34.6180,2,     81.3,2,   164.92,2,  -999.00,9,    40.40,2,     0.01,2,     2.88,2, -999.000,9, -999.000,9,  -999.00,9,   -999.0,9,   -999.0,9,-999.0000,9,   -999.0,  9,  -999.00,9,   -999.0,  -999.00,9,  -999.00,9,  -999.00,9,  -999.00,9,   2017.0,-999.0000, -999,9, 2006,   1.6478,  27.6882,   -999.0,9