BOTTLE,20130510GEMDJMAYT
EXPOCODE,SECT_ID,STNNBR,CASTNO,SAMPNO,BTLNBR,BTLNBR_FLAG_W,DATE,TIME,LATITUDE,LONGITUDE,DEPTH,CTDPRS,CTDTMP,CTDSAL,CTDSAL_FLAG_W,CTDOXY,CTDOXY_FLAG_W,SALNTY,SALNTY_FLAG_W,OXYGEN,OXYGEN_FLAG_W,SILCAT,SILCAT_FLAG_W,NITRAT,NITRAT_FLAG_W,NO2+NO3,NO2+NO3_FLAG_W,NITRIT,NITRIT_FLAG_W,PHSPHT,PHSPHT_FLAG_W,CFC-11,CFC-11_FLAG_W,CFC-12,CFC-12_FLAG_W,DELC13,DELC13_FLAG_W,TCARBN,TCARBN_FLAG_W,ALKALI,ALKALI_FLAG_W,PH,PH_FLAG_W,PH_TMP,PH_SCALE,PH_NBS,PH_NBS_FLAG_W,C13ERR,TOTALP,TOTALP_FLAG_W,AMMONI,AMMONI_FLAG_W,CHLORA,CHLORA_FLAG_W,PPHYTN,PPHYTN_FLAG_W,REVPRS,REVTMP,DEPTH_,DEPTH_FLAG,CTDDEP,THETA,SIGTHT,DOC,DOC_FLAG_W
,,,,,,,GMT,GMT,,,METER,DBAR,ITS-90,PSS-78,,UMOL/KG,,PSS-78,,UMOL/KG,,UMOL/KG,,UMOL/KG,,UMOL/KG,,UMOL/KG,,UMOL/KG,,PMOL/KG,,PMOL/KG,,/MILLE,,UMOL/KG,,UMOL/KG,,25_DEG_C,,DEG_C,,,,/MILLE,UMOL/KG,,UMOL/KG,,UG/L,,UG/L,,DBAR,ITS-90,METERS,,METERS,DEG_C,,UMOL/L,
     RF98-06-1,  165E,RF-0637,  1,     -9,      -9,5,19980621,1316, 30.0265, 164.9992, 5654,      0.0,  24.7367,  34.8186,2,   -999.0,9,-999.0000,9,    216.0,2,     2.21,2,  -999.00,9,     0.05,2,     0.00,2,     0.01,2, -999.000,9, -999.000,9,  -999.00,9,   -999.0,9,   -999.0,9,-999.0000,9,   -999.0,  9,     8.19,2,   -999.0,  -999.00,9,  -999.00,9,     0.09,2,     0.03,2,   -999.0,-999.0000, -999,9,    0,  24.7367,  23.2839,   -999.0,9
     RF98-06-1,  165E,RF-0637,  1,     23,02-12829,2,19980621,1314, 30.0265, 164.9992, 5654,     11.2,  24.7354,  34.8154,2,   -999.0,9,-999.0000,9,    216.8,2,     1.94,2,  -999.00,9,     0.06,2,     0.00,2,     0.00,2, -999.000,9, -999.000,9,  -999.00,9,   -999.0,9,   -999.0,9,-999.0000,9,   -999.0,  9,  -999.00,9,   -999.0,  -999.00,9,  -999.00,9,     0.08,2,     0.02,2,   -999.0,-999.0000, -999,9,   11,  24.7330,  23.2826,   -999.0,9
     RF98-06-1,  165E,RF-0637,  1,     22,02-12828,2,19980621,1314, 30.0265, 164.9992, 5654,     11.0,  24.7341,  34.8182,2,   -999.0,9,-999.0000,9,    220.4,2,     1.93,2,  -999.00,9,     0.06,2,     0.00,2,     0.01,2, -999.000,9, -999.000,9,  -999.00,9,   -999.0,9,   -999.0,9,-999.0000,9,   -999.0,  9,     8.19,2,   -999.0,  -999.00,9,  -999.00,9,  -999.00,9,  -999.00,9,   -999.0,-999.0000, -999,9,   11,  24.7317,  23.2850,   -999.0,9
     RF98-06-1,  165E,RF-0637,  1,     21,02-12827,2,19980621,1312, 30.0265, 164.9992, 5654,     26.3,  22.9231,  34.9276,2,   -999.0,9,-999.0000,9,    233.5,2,     1.91,2,  -999.00,9,     0.06,2,     0.00,2,     0.01,2, -999.000,9, -999.000,9,  -999.00,9,   -999.0,9,   -999.0,9,-999.0000,9,   -999.0,  9,     8.19,2,   -999.0,  -999.00,9,  -999.00,9,     0.09,2,     0.02,2,   -999.0,-999.0000, -999,9,   26,  22.9177,  23.9024,   -999.0,9
     RF98-06-1,  165E,RF-0637,  1,     20,02-12826,2,19980621,1310, 30.0265, 164.9992, 5654,     50.6,  19.1866,  34.8043,2,   -999.0,9,-999.0000,9,    246.6,2,     1.95,2,  -999.00,9,     0.04,2,     0.00,2,     0.02,2, -999.000,9, -999.000,9,  -999.00,9,   -999.0,9,   -999.0,9,-999.0000,9,   -999.0,  9,     8.19,2,   -999.0,  -999.00,9,  -999.00,9,     0.13,2,     0.07,2,   -999.0,-999.0000, -999,9,   50,  19.1775,  24.8262,   -999.0,9
     RF98-06-1,  165E,RF-0637,  1,     19,02-12825,2,19980621,1309, 30.0265, 164.9992, 5654,     76.6,  17.9492,  34.7932,2,   -999.0,9,-999.0000,9,    233.0,2,     2.51,2,  -999.00,9,     0.98,2,     0.16,2,     0.09,2, -999.000,9, -999.000,9,  -999.00,9,   -999.0,9,   -999.0,9,-999.0000,9,   -999.0,  9,     8.16,2,   -999.0,  -999.00,9,  -999.00,9,     0.50,2,     0.55,2,   -999.0,-999.0000, -999,9,   76,  17.9362,  25.1294,   -999.0,9
     RF98-06-1,  165E,RF-0637,  1,     18,02-12824,2,19980621,1308, 30.0265, 164.9992, 5654,    101.8,  17.6484,  34.7792,2,   -999.0,9,  34.7804,2,    221.9,2,     3.18,2,  -999.00,9,     2.93,2,     0.03,2,     0.20,2, -999.000,9, -999.000,9,  -999.00,9,   -999.0,9,   -999.0,9,-999.0000,9,   -999.0,  9,     8.14,2,   -999.0,  -999.00,9,  -999.00,9,     0.20,2,     0.17,2,   -999.0,-999.0000, -999,9,  101,  17.6312,  25.1932,   -999.0,9
     RF98-06-1,  165E,RF-0637,  1,     17,02-12814,2,19980621,1307, 30.0265, 164.9992, 5654,    126.1,  17.4360,  34.7715,2,   -999.0,9,-999.0000,9,    225.1,2,     3.42,2,  -999.00,9,     3.09,2,     0.02,2,     0.21,2, -999.000,9, -999.000,9,  -999.00,9,   -999.0,9,   -999.0,9,-999.0000,9,   -999.0,  9,     8.14,2,   -999.0,  -999.00,9,  -999.00,9,     0.06,2,     0.05,2,   -999.0,-999.0000, -999,9,  125,  17.4149,  25.2396,   -999.0,9
     RF98-06-1,  165E,RF-0637,  1,     16,02-12832,2,19980621,1305, 30.0265, 164.9992, 5654,    151.3,  17.3015,  34.7706,2,   -999.0,9,-999.0000,9,    225.4,2,     3.65,2,  -999.00,9,     3.34,2,     0.01,2,     0.22,2, -999.000,9, -999.000,9,  -999.00,9,   -999.0,9,   -999.0,9,-999.0000,9,   -999.0,  9,     8.13,2,   -999.0,  -999.00,9,  -999.00,9,     0.01,2,     0.03,2,   -999.0,-999.0000, -999,9,  150,  17.2763,  25.2722,   -999.0,9
     RF98-06-1,  165E,RF-0637,  1,     15,02-12833,2,19980621,1304, 30.0265, 164.9992, 5654,    202.2,  16.7355,  34.7512,2,   -999.0,9,  34.7499,2,    200.6,2,     6.06,2,  -999.00,9,     5.91,2,     0.01,2,     0.37,2, -999.000,9, -999.000,9,  -999.00,9,   -999.0,9,   -999.0,9,-999.0000,9,   -999.0,  9,     8.10,2,   -999.0,  -999.00,9,  -999.00,9,     0.01,2,     0.02,2,   -999.0,-999.0000, -999,9,  201,  16.7026,  25.3935,   -999.0,9
     RF98-06-1,  165E,RF-0637,  1,     14,02-13578,4,19980621,1302, 30.0265, 164.9992, 5654,    252.7,  15.7683,  34.6889,2,   -999.0,9,-999.0000,9,   -999.0,4,  -999.00,4,  -999.00,9,  -999.00,4,  -999.00,4,  -999.00,4, -999.000,9, -999.000,9,  -999.00,9,   -999.0,9,   -999.0,9,-999.0000,9,   -999.0,  9,  -999.00,4,   -999.0,  -999.00,9,  -999.00,9,  -999.00,9,  -999.00,9,   -999.0,-999.0000, -999,9,  251,  15.7287,  25.5699,   -999.0,9
     RF98-06-1,  165E,RF-0637,  1,     13,02-13590,2,19980621,1300, 30.0265, 164.9992, 5654,    303.1,  14.5849,  34.5980,2,   -999.0,9,  34.5948,2,    203.9,2,    11.18,2,  -999.00,9,     9.44,2,     0.01,2,     0.61,2, -999.000,9, -999.000,9,  -999.00,9,   -999.0,9,   -999.0,9,-999.0000,9,   -999.0,  9,     8.04,2,   -999.0,  -999.00,9,  -999.00,9,  -999.00,9,  -999.00,9,   -999.0,-999.0000, -999,9,  301,  14.5399,  25.7618,   -999.0,9
     RF98-06-1,  165E,RF-0637,  1,     12,02-12821,2,19980621,1257, 30.0265, 164.9992, 5654,    403.4,  12.0603,  34.4232,2,   -999.0,9,-999.0000,9,    179.7,4,    18.32,2,  -999.00,9,    13.46,2,     0.00,2,     0.90,2, -999.000,9, -999.000,9,  -999.00,9,   -999.0,9,   -999.0,9,-999.0000,9,   -999.0,  9,  -999.00,9,   -999.0,  -999.00,9,  -999.00,9,  -999.00,9,  -999.00,9,   -999.0,-999.0000, -999,9,  400,  12.0074,  26.1397,   -999.0,9
     RF98-06-1,  165E,RF-0637,  1,     11,02-12811,2,19980621,1255, 30.0265, 164.9992, 5654,    504.7,   9.4024,  34.1865,2,   -999.0,9,  34.1868,2,    210.2,2,    28.73,2,  -999.00,9,    19.50,2,     0.00,2,     1.33,2, -999.000,9, -999.000,9,  -999.00,9,   -999.0,9,   -999.0,9,-999.0000,9,   -999.0,  9,  -999.00,9,   -999.0,  -999.00,9,  -999.00,9,  -999.00,9,  -999.00,9,   -999.0,-999.0000, -999,9,  501,   9.3457,  26.4254,   -999.0,9
     RF98-06-1,  165E,RF-0637,  1,     10,02-12820,4,19980621,1252, 30.0265, 164.9992, 5654,    604.2,   6.6884,  34.0419,2,   -999.0,9,-999.0000,9,   -999.0,4,  -999.00,4,  -999.00,9,  -999.00,4,  -999.00,4,  -999.00,4, -999.000,9, -999.000,9,  -999.00,9,   -999.0,9,   -999.0,9,-999.0000,9,   -999.0,  9,  -999.00,9,   -999.0,  -999.00,9,  -999.00,9,  -999.00,9,  -999.00,9,   -999.0,-999.0000, -999,9,  599,   6.6325,  26.7137,   -999.0,9
     RF98-06-1,  165E,RF-0637,  1,      9,02-10155,2,19980621,1239, 30.0265, 164.9992, 5654,    704.9,   5.3196,  34.0447,2,   -999.0,9,  34.0502,2,    108.5,2,    72.28,2,  -999.00,9,    33.85,2,     0.00,2,     2.43,2, -999.000,9, -999.000,9,  -999.00,9,   -999.0,9,   -999.0,9,-999.0000,9,   -999.0,  9,  -999.00,9,   -999.0,  -999.00,9,  -999.00,9,  -999.00,9,  -999.00,9,   -999.0,-999.0000, -999,9,  699,   5.2611,  26.8877,   -999.0,9
     RF98-06-1,  165E,RF-0637,  1,      8,02-13579,2,19980621,1236, 30.0265, 164.9992, 5654,    806.2,   4.5584,  34.1172,2,   -999.0,9,  34.1257,2,     73.1,2,    90.84,2,  -999.00,9,    37.85,2,     0.00,2,     2.76,2, -999.000,9, -999.000,9,  -999.00,9,   -999.0,9,   -999.0,9,-999.0000,9,   -999.0,  9,  -999.00,9,   -999.0,  -999.00,9,  -999.00,9,  -999.00,9,  -999.00,9,   -999.0,-999.0000, -999,9,  799,   4.4956,  27.0316,   -999.0,9
     RF98-06-1,  165E,RF-0637,  1,      7,02-12815,2,19980621,1234, 30.0265, 164.9992, 5654,    908.4,   3.9851,  34.2232,2,   -999.0,9,-999.0000,9,     55.0,2,   107.16,2,  -999.00,9,    40.11,2,     0.00,2,     2.95,2, -999.000,9, -999.000,9,  -999.00,9,   -999.0,9,   -999.0,9,-999.0000,9,   -999.0,  9,  -999.00,9,   -999.0,  -999.00,9,  -999.00,9,  -999.00,9,  -999.00,9,   -999.0,-999.0000, -999,9,  900,   3.9175,  27.1766,   -999.0,9
     RF98-06-1,  165E,RF-0637,  1,      6,02-12818,2,19980621,1232, 30.0265, 164.9992, 5654,   1008.9,   3.6167,  34.2927,2,   -999.0,9,  34.2928,2,     42.6,2,   118.06,2,  -999.00,9,    41.29,2,     0.00,2,     3.05,2, -999.000,9, -999.000,9,  -999.00,9,   -999.0,9,   -999.0,9,-999.0000,9,   -999.0,  9,  -999.00,9,   -999.0,  -999.00,9,  -999.00,9,  -999.00,9,  -999.00,9,   -999.0,-999.0000, -999,9, 1000,   3.5436,  27.2693,   -999.0,9
     RF98-06-1,  165E,RF-0637,  1,      5,02-12809,2,19980621,1227, 30.0265, 164.9992, 5654,   1262.9,   2.8717,  34.4273,2,   -999.0,9,  34.4455,2,     35.7,2,   139.10,2,  -999.00,9,    42.43,2,     0.00,2,     3.13,2, -999.000,9, -999.000,9,  -999.00,9,   -999.0,9,   -999.0,9,-999.0000,9,   -999.0,  9,  -999.00,9,   -999.0,  -999.00,9,  -999.00,9,  -999.00,9,  -999.00,9,   -999.0,-999.0000, -999,9, 1251,   2.7848,  27.4473,   -999.0,9
     RF98-06-1,  165E,RF-0637,  1,      4,02-12817,2,19980621,1222, 30.0265, 164.9992, 5654,   1514.4,   2.4059,  34.5146,2,   -999.0,9,  34.5165,2,     46.6,2,   150.64,2,  -999.00,9,    42.30,2,     0.01,2,     3.09,2, -999.000,9, -999.000,9,  -999.00,9,   -999.0,9,   -999.0,9,-999.0000,9,   -999.0,  9,  -999.00,9,   -999.0,  -999.00,9,  -999.00,9,  -999.00,9,  -999.00,9,   -999.0,-999.0000, -999,9, 1499,   2.3039,  27.5582,   -999.0,9
     RF98-06-1,  165E,RF-0637,  1,      3,02-12808,2,19980621,1218, 30.0265, 164.9992, 5654,   1767.7,   2.1017,  34.5673,2,   -999.0,9,  34.5686,2,     65.0,2,   154.98,2,  -999.00,9,    41.21,2,     0.00,2,     3.02,2, -999.000,9, -999.000,9,  -999.00,9,   -999.0,9,   -999.0,9,-999.0000,9,   -999.0,  9,  -999.00,9,   -999.0,  -999.00,9,  -999.00,9,  -999.00,9,  -999.00,9,   -999.0,-999.0000, -999,9, 1748,   1.9832,  27.6263,   -999.0,9
     RF98-06-1,  165E,RF-0637,  1,      2,02-13588,2,19980621,1213, 30.0265, 164.9992, 5654,   2035.1,   1.8913,  34.5965,2,   -999.0,9,  34.6082,2,     90.6,2,   153.57,2,  -999.00,9,    39.86,2,     0.00,2,     2.89,2, -999.000,9, -999.000,9,  -999.00,9,   -999.0,9,   -999.0,9,-999.0000,9,   -999.0,  9,  -999.00,9,   -999.0,  -999.00,9,  -999.00,9,  -999.00,9,  -999.00,9,   -999.0,-999.0000, -999,9, 2011,   1.7537,  27.6675,   -999.0,9
     RF98-06-1,  165E,RF-0637,  1,      1,02-12807,2,19980621,1213, 30.0265, 164.9992, 5654,   2034.5,   1.8891,  34.6046,2,   -999.0,9,  34.6107,2,     88.5,2,   153.58,2,  -999.00,9,    39.86,2,     0.00,2,     2.90,2, -999.000,9, -999.000,9,  -999.00,9,   -999.0,9,   -999.0,9,-999.0000,9,   -999.0,  9,  -999.00,9,   -999.0,  -999.00,9,  -999.00,9,  -999.00,9,  -999.00,9,   2018.0,-999.0000, -999,9, 2011,   1.7516,  27.6741,   -999.0,9