BOTTLE,20130510GEMDJMAYT
EXPOCODE,SECT_ID,STNNBR,CASTNO,SAMPNO,BTLNBR,BTLNBR_FLAG_W,DATE,TIME,LATITUDE,LONGITUDE,DEPTH,CTDPRS,CTDTMP,CTDSAL,CTDSAL_FLAG_W,CTDOXY,CTDOXY_FLAG_W,SALNTY,SALNTY_FLAG_W,OXYGEN,OXYGEN_FLAG_W,SILCAT,SILCAT_FLAG_W,NITRAT,NITRAT_FLAG_W,NO2+NO3,NO2+NO3_FLAG_W,NITRIT,NITRIT_FLAG_W,PHSPHT,PHSPHT_FLAG_W,CFC-11,CFC-11_FLAG_W,CFC-12,CFC-12_FLAG_W,DELC13,DELC13_FLAG_W,TCARBN,TCARBN_FLAG_W,ALKALI,ALKALI_FLAG_W,PH,PH_FLAG_W,PH_TMP,PH_SCALE,PH_NBS,PH_NBS_FLAG_W,C13ERR,TOTALP,TOTALP_FLAG_W,AMMONI,AMMONI_FLAG_W,CHLORA,CHLORA_FLAG_W,PPHYTN,PPHYTN_FLAG_W,REVPRS,REVTMP,DEPTH_,DEPTH_FLAG,CTDDEP,THETA,SIGTHT,DOC,DOC_FLAG_W
,,,,,,,GMT,GMT,,,METER,DBAR,ITS-90,PSS-78,,UMOL/KG,,PSS-78,,UMOL/KG,,UMOL/KG,,UMOL/KG,,UMOL/KG,,UMOL/KG,,UMOL/KG,,PMOL/KG,,PMOL/KG,,/MILLE,,UMOL/KG,,UMOL/KG,,25_DEG_C,,DEG_C,,,,/MILLE,UMOL/KG,,UMOL/KG,,UG/L,,UG/L,,DBAR,ITS-90,METERS,,METERS,DEG_C,,UMOL/L,
     RF98-06-1,  165E,RF-0627,  1,     -9,      -9,5,19980618,2124, 40.0195, 165.0257, 5472,      0.0,  14.1029,  34.1727,2,   -999.0,9,-999.0000,9,    266.9,2,     9.58,2,  -999.00,9,     4.82,2,     0.11,2,     0.42,2, -999.000,9, -999.000,9,  -999.00,9,   -999.0,9,   -999.0,9,-999.0000,9,   -999.0,  9,     8.08,2,   -999.0,  -999.00,9,  -999.00,9,     0.41,2,     0.15,2,   -999.0,-999.0000, -999,9,    0,  14.1029,  25.5262,   -999.0,9
     RF98-06-1,  165E,RF-0627,  1,     23,02-12829,2,19980618,2122, 40.0195, 165.0257, 5472,      8.1,  14.1045,  34.1732,2,   -999.0,9,-999.0000,9,    266.4,2,    10.00,2,  -999.00,9,     4.67,2,     0.10,2,     0.40,2, -999.000,9, -999.000,9,  -999.00,9,   -999.0,9,   -999.0,9,-999.0000,9,   -999.0,  9,     8.08,2,   -999.0,  -999.00,9,  -999.00,9,     0.41,2,     0.16,2,   -999.0,-999.0000, -999,9,    8,  14.1034,  25.5265,   -999.0,9
     RF98-06-1,  165E,RF-0627,  1,     22,02-12828,2,19980618,2121, 40.0195, 165.0257, 5472,     25.5,  14.0408,  34.1306,2,   -999.0,9,-999.0000,9,    270.0,2,    10.39,2,  -999.00,9,     4.66,2,     0.11,2,     0.42,2, -999.000,9, -999.000,9,  -999.00,9,   -999.0,9,   -999.0,9,-999.0000,9,   -999.0,  9,     8.08,2,   -999.0,  -999.00,9,  -999.00,9,     0.41,2,     0.15,2,   -999.0,-999.0000, -999,9,   25,  14.0372,  25.5075,   -999.0,9
     RF98-06-1,  165E,RF-0627,  1,     21,02-12827,2,19980618,2119, 40.0195, 165.0257, 5472,     51.5,  11.4545,  34.0575,2,   -999.0,9,-999.0000,9,    277.2,2,    16.15,2,  -999.00,9,     8.29,2,     0.16,2,     0.70,2, -999.000,9, -999.000,9,  -999.00,9,   -999.0,9,   -999.0,9,-999.0000,9,   -999.0,  9,     8.02,2,   -999.0,  -999.00,9,  -999.00,9,     0.28,2,     0.28,2,   -999.0,-999.0000, -999,9,   51,  11.4481,  25.9601,   -999.0,9
     RF98-06-1,  165E,RF-0627,  1,     20,02-12826,2,19980618,2119, 40.0195, 165.0257, 5472,     50.8,  11.4668,  34.0590,2,   -999.0,9,-999.0000,9,    276.6,2,    15.86,2,  -999.00,9,     8.30,2,     0.16,2,     0.69,2, -999.000,9, -999.000,9,  -999.00,9,   -999.0,9,   -999.0,9,-999.0000,9,   -999.0,  9,  -999.00,9,   -999.0,  -999.00,9,  -999.00,9,  -999.00,9,  -999.00,9,   -999.0,-999.0000, -999,9,   50,  11.4604,  25.9590,   -999.0,9
     RF98-06-1,  165E,RF-0627,  1,     19,02-12825,2,19980618,2117, 40.0195, 165.0257, 5472,     75.1,  10.7476,  34.1008,2,   -999.0,9,-999.0000,9,    270.0,2,    16.19,2,  -999.00,9,     9.85,2,     0.39,2,     0.76,2, -999.000,9, -999.000,9,  -999.00,9,   -999.0,9,   -999.0,9,-999.0000,9,   -999.0,  9,     8.00,2,   -999.0,  -999.00,9,  -999.00,9,     0.19,2,     0.17,2,   -999.0,-999.0000, -999,9,   74,  10.7386,  26.1218,   -999.0,9
     RF98-06-1,  165E,RF-0627,  1,     18,02-12824,2,19980618,2116, 40.0195, 165.0257, 5472,    102.0,  10.4889,  34.2317,2,   -999.0,9,  34.2351,2,    252.7,2,    16.88,2,  -999.00,9,    11.49,2,     0.03,2,     0.84,2, -999.000,9, -999.000,9,  -999.00,9,   -999.0,9,   -999.0,9,-999.0000,9,   -999.0,  9,     7.98,2,   -999.0,  -999.00,9,  -999.00,9,     0.06,2,     0.06,2,   -999.0,-999.0000, -999,9,  101,  10.4769,  26.2699,   -999.0,9
     RF98-06-1,  165E,RF-0627,  1,     17,02-12814,2,19980618,2115, 40.0195, 165.0257, 5472,    126.3,  10.2471,  34.2446,2,   -999.0,9,-999.0000,9,    245.5,2,    18.63,2,  -999.00,9,    12.76,2,     0.02,2,     0.90,2, -999.000,9, -999.000,9,  -999.00,9,   -999.0,9,   -999.0,9,-999.0000,9,   -999.0,  9,     7.96,2,   -999.0,  -999.00,9,  -999.00,9,     0.02,2,     0.06,2,   -999.0,-999.0000, -999,9,  125,  10.2324,  26.3223,   -999.0,9
     RF98-06-1,  165E,RF-0627,  1,     16,02-12832,2,19980618,2113, 40.0195, 165.0257, 5472,    151.9,   9.5263,  34.1741,2,   -999.0,9,-999.0000,9,    251.4,2,    19.84,2,  -999.00,9,    13.45,2,     0.02,2,     0.96,2, -999.000,9, -999.000,9,  -999.00,9,   -999.0,9,   -999.0,9,-999.0000,9,   -999.0,  9,     7.95,2,   -999.0,  -999.00,9,  -999.00,9,     0.01,2,     0.05,2,   -999.0,-999.0000, -999,9,  151,   9.5094,  26.3890,   -999.0,9
     RF98-06-1,  165E,RF-0627,  1,     15,02-12833,2,19980618,2111, 40.0195, 165.0257, 5472,    202.9,   8.4933,  34.0690,2,   -999.0,9,  34.0678,2,    224.3,2,    26.52,2,  -999.00,9,    17.07,2,     0.01,2,     1.22,2, -999.000,9, -999.000,9,  -999.00,9,   -999.0,9,   -999.0,9,-999.0000,9,   -999.0,  9,     7.90,2,   -999.0,  -999.00,9,  -999.00,9,     0.00,2,     0.05,2,   -999.0,-999.0000, -999,9,  201,   8.4723,  26.4715,   -999.0,9
     RF98-06-1,  165E,RF-0627,  1,     14,02-13578,2,19980618,2109, 40.0195, 165.0257, 5472,    253.5,   7.4109,  33.9624,2,   -999.0,9,-999.0000,9,    224.4,2,    31.22,2,  -999.00,9,    19.36,2,     0.01,2,     1.39,2, -999.000,9, -999.000,9,  -999.00,9,   -999.0,9,   -999.0,9,-999.0000,9,   -999.0,  9,     7.86,2,   -999.0,  -999.00,9,  -999.00,9,  -999.00,9,  -999.00,9,   -999.0,-999.0000, -999,9,  251,   7.3867,  26.5476,   -999.0,9
     RF98-06-1,  165E,RF-0627,  1,     13,02-13590,2,19980618,2107, 40.0195, 165.0257, 5472,    301.9,   6.5131,  33.9120,2,   -999.0,9,  33.9184,2,    194.4,2,    42.15,2,  -999.00,9,    23.83,2,     0.01,2,     1.72,2, -999.000,9, -999.000,9,  -999.00,9,   -999.0,9,   -999.0,9,-999.0000,9,   -999.0,  9,     7.79,2,   -999.0,  -999.00,9,  -999.00,9,  -999.00,9,  -999.00,9,   -999.0,-999.0000, -999,9,  299,   6.4862,  26.6305,   -999.0,9
     RF98-06-1,  165E,RF-0627,  1,     12,02-12821,2,19980618,2104, 40.0195, 165.0257, 5472,    403.7,   5.6363,  33.9967,2,   -999.0,9,-999.0000,9,    136.0,2,    62.93,2,  -999.00,9,    30.97,2,     0.01,2,     2.23,2, -999.000,9, -999.000,9,  -999.00,9,   -999.0,9,   -999.0,9,-999.0000,9,   -999.0,  9,  -999.00,9,   -999.0,  -999.00,9,  -999.00,9,  -999.00,9,  -999.00,9,   -999.0,-999.0000, -999,9,  400,   5.6028,  26.8089,   -999.0,9
     RF98-06-1,  165E,RF-0627,  1,     11,02-12811,2,19980618,2101, 40.0195, 165.0257, 5472,    506.3,   4.7284,  34.0384,2,   -999.0,9,  34.0361,2,     97.8,2,    80.05,2,  -999.00,9,    35.72,2,     0.01,2,     2.57,2, -999.000,9, -999.000,9,  -999.00,9,   -999.0,9,   -999.0,9,-999.0000,9,   -999.0,  9,  -999.00,9,   -999.0,  -999.00,9,  -999.00,9,  -999.00,9,  -999.00,9,   -999.0,-999.0000, -999,9,  502,   4.6895,  26.9478,   -999.0,9
     RF98-06-1,  165E,RF-0627,  1,     10,02-12820,2,19980618,2057, 40.0195, 165.0257, 5472,    604.9,   4.3214,  34.1020,2,   -999.0,9,  34.1095,2,     75.1,2,    92.41,2,  -999.00,9,    38.60,2,     0.00,2,     2.76,2, -999.000,9, -999.000,9,  -999.00,9,   -999.0,9,   -999.0,9,-999.0000,9,   -999.0,  9,  -999.00,9,   -999.0,  -999.00,9,  -999.00,9,  -999.00,9,  -999.00,9,   -999.0,-999.0000, -999,9,  599,   4.2764,  27.0430,   -999.0,9
     RF98-06-1,  165E,RF-0627,  1,      9,02-10155,7,19980618,2054, 40.0195, 165.0257, 5472,    706.4,   3.9937,  34.2065,2,   -999.0,9,  34.0743,4,   -999.0,4,    34.10,4,  -999.00,9,    18.14,4,     0.07,4,     1.32,4, -999.000,9, -999.000,9,  -999.00,9,   -999.0,9,   -999.0,9,-999.0000,9,   -999.0,  9,  -999.00,9,   -999.0,  -999.00,9,  -999.00,9,  -999.00,9,  -999.00,9,   -999.0,-999.0000, -999,9,  700,   3.9422,  27.1608,   -999.0,9
     RF98-06-1,  165E,RF-0627,  1,      8,02-13579,2,19980618,2050, 40.0195, 165.0257, 5472,    808.6,   3.6173,  34.2548,2,   -999.0,9,  34.2559,2,     45.8,2,   116.45,2,  -999.00,9,    41.17,2,     0.00,2,     2.98,2, -999.000,9, -999.000,9,  -999.00,9,   -999.0,9,   -999.0,9,-999.0000,9,   -999.0,  9,  -999.00,9,   -999.0,  -999.00,9,  -999.00,9,  -999.00,9,  -999.00,9,   -999.0,-999.0000, -999,9,  801,   3.5600,  27.2375,   -999.0,9
     RF98-06-1,  165E,RF-0627,  1,      7,02-12815,7,19980618,2048, 40.0195, 165.0257, 5472,    907.8,   3.3556,  34.3189,2,   -999.0,9,-999.0000,9,     44.5,4,   124.33,4,  -999.00,9,    42.61,4,     0.01,4,     3.00,4, -999.000,9, -999.000,9,  -999.00,9,   -999.0,9,   -999.0,9,-999.0000,9,   -999.0,  9,  -999.00,9,   -999.0,  -999.00,9,  -999.00,9,  -999.00,9,  -999.00,9,   -999.0,-999.0000, -999,9,  899,   3.2924,  27.3142,   -999.0,9
     RF98-06-1,  165E,RF-0627,  1,      6,02-12818,2,19980618,2044, 40.0195, 165.0257, 5472,   1011.3,   3.0855,  34.3621,2,   -999.0,9,  34.3626,2,     41.3,2,   132.38,2,  -999.00,9,    42.13,2,     0.00,2,     3.04,2, -999.000,9, -999.000,9,  -999.00,9,   -999.0,9,   -999.0,9,-999.0000,9,   -999.0,  9,  -999.00,9,   -999.0,  -999.00,9,  -999.00,9,  -999.00,9,  -999.00,9,   -999.0,-999.0000, -999,9, 1001,   3.0163,  27.3743,   -999.0,9
     RF98-06-1,  165E,RF-0627,  1,      5,02-12809,2,19980618,2039, 40.0195, 165.0257, 5472,   1262.5,   2.6195,  34.4461,2,   -999.0,9,  34.4455,2,     38.2,2,   146.04,2,  -999.00,9,    42.51,2,     0.00,2,     3.07,2, -999.000,9, -999.000,9,  -999.00,9,   -999.0,9,   -999.0,9,-999.0000,9,   -999.0,  9,  -999.00,9,   -999.0,  -999.00,9,  -999.00,9,  -999.00,9,  -999.00,9,   -999.0,-999.0000, -999,9, 1249,   2.5350,  27.4840,   -999.0,9
     RF98-06-1,  165E,RF-0627,  1,      4,02-12817,2,19980618,2034, 40.0195, 165.0257, 5472,   1512.2,   2.3486,  34.4966,2,   -999.0,9,  34.5039,2,     43.6,2,   152.63,2,  -999.00,9,    43.27,4,     0.00,2,     3.04,2, -999.000,9, -999.000,9,  -999.00,9,   -999.0,9,   -999.0,9,-999.0000,9,   -999.0,  9,  -999.00,9,   -999.0,  -999.00,9,  -999.00,9,  -999.00,9,  -999.00,9,   -999.0,-999.0000, -999,9, 1495,   2.2475,  27.5484,   -999.0,9
     RF98-06-1,  165E,RF-0627,  1,      3,02-12808,2,19980618,2034, 40.0195, 165.0257, 5472,   1514.3,   2.3413,  34.5045,2,   -999.0,9,  34.5104,2,     43.6,2,   154.22,2,  -999.00,9,    42.24,2,     0.00,2,     3.04,2, -999.000,9, -999.000,9,  -999.00,9,   -999.0,9,   -999.0,9,-999.0000,9,   -999.0,  9,  -999.00,9,   -999.0,  -999.00,9,  -999.00,9,  -999.00,9,  -999.00,9,   -999.0,-999.0000, -999,9, 1497,   2.2401,  27.5554,   -999.0,9
     RF98-06-1,  165E,RF-0627,  1,      2,02-13588,2,19980618,2029, 40.0195, 165.0257, 5472,   1764.8,   2.1272,  34.5496,2,   -999.0,9,  34.5486,2,     54.8,2,   157.23,2,  -999.00,9,    41.67,2,     0.00,2,     2.98,2, -999.000,9, -999.000,9,  -999.00,9,   -999.0,9,   -999.0,9,-999.0000,9,   -999.0,  9,  -999.00,9,   -999.0,  -999.00,9,  -999.00,9,  -999.00,9,  -999.00,9,   -999.0,-999.0000, -999,9, 1744,   2.0086,  27.6102,   -999.0,9
     RF98-06-1,  165E,RF-0627,  1,      1,02-12807,2,19980618,2025, 40.0195, 165.0257, 5472,   2025.5,   1.9562,  34.5857,2,   -999.0,9,  34.5773,2,     68.5,2,   159.50,2,  -999.00,9,    40.73,2,  -999.00,4,     2.91,2, -999.000,9, -999.000,9,  -999.00,9,   -999.0,9,   -999.0,9,-999.0000,9,   -999.0,  9,  -999.00,9,   -999.0,  -999.00,9,  -999.00,9,  -999.00,9,  -999.00,9,   2006.0,-999.0000, -999,9, 2000,   1.8185,  27.6539,   -999.0,9