BOTTLE,20130510GEMDJMAYT
EXPOCODE,SECT_ID,STNNBR,CASTNO,SAMPNO,BTLNBR,BTLNBR_FLAG_W,DATE,TIME,LATITUDE,LONGITUDE,DEPTH,CTDPRS,CTDTMP,CTDSAL,CTDSAL_FLAG_W,CTDOXY,CTDOXY_FLAG_W,SALNTY,SALNTY_FLAG_W,OXYGEN,OXYGEN_FLAG_W,SILCAT,SILCAT_FLAG_W,NITRAT,NITRAT_FLAG_W,NO2+NO3,NO2+NO3_FLAG_W,NITRIT,NITRIT_FLAG_W,PHSPHT,PHSPHT_FLAG_W,CFC-11,CFC-11_FLAG_W,CFC-12,CFC-12_FLAG_W,DELC13,DELC13_FLAG_W,TCARBN,TCARBN_FLAG_W,ALKALI,ALKALI_FLAG_W,PH,PH_FLAG_W,PH_TMP,PH_SCALE,PH_NBS,PH_NBS_FLAG_W,C13ERR,TOTALP,TOTALP_FLAG_W,AMMONI,AMMONI_FLAG_W,CHLORA,CHLORA_FLAG_W,PPHYTN,PPHYTN_FLAG_W,REVPRS,REVTMP,DEPTH_,DEPTH_FLAG,CTDDEP,THETA,SIGTHT,DOC,DOC_FLAG_W
,,,,,,,GMT,GMT,,,METER,DBAR,ITS-90,PSS-78,,UMOL/KG,,PSS-78,,UMOL/KG,,UMOL/KG,,UMOL/KG,,UMOL/KG,,UMOL/KG,,UMOL/KG,,PMOL/KG,,PMOL/KG,,/MILLE,,UMOL/KG,,UMOL/KG,,25_DEG_C,,DEG_C,,,,/MILLE,UMOL/KG,,UMOL/KG,,UG/L,,UG/L,,DBAR,ITS-90,METERS,,METERS,DEG_C,,UMOL/L,
     RF98-06-1,  165E,RF-0622,  1,     -9,      -9,5,19980617,1236, 44.9997, 164.9960, 5959,      0.0,   5.9249,  33.0845,2,   -999.0,9,-999.0000,9,    320.5,2,    26.41,2,  -999.00,9,    14.96,2,     0.22,2,     1.33,2, -999.000,9, -999.000,9,  -999.00,9,   -999.0,9,   -999.0,9,-999.0000,9,   -999.0,  9,     7.93,2,   -999.0,  -999.00,9,  -999.00,9,     0.39,2,     0.04,2,   -999.0,-999.0000, -999,9,    0,   5.9249,  26.0484,   -999.0,9
     RF98-06-1,  165E,RF-0622,  1,     21,02-12827,2,19980617,1233, 44.9997, 164.9960, 5959,     10.6,   5.9226,  33.0832,2,   -999.0,9,-999.0000,9,    320.8,2,    26.53,2,  -999.00,9,    14.98,2,     0.22,2,     1.32,2, -999.000,9, -999.000,9,  -999.00,9,   -999.0,9,   -999.0,9,-999.0000,9,   -999.0,  9,     7.94,2,   -999.0,  -999.00,9,  -999.00,9,     0.38,2,     0.05,2,   -999.0,-999.0000, -999,9,   11,   5.9217,  26.0478,   -999.0,9
     RF98-06-1,  165E,RF-0622,  1,     20,02-12826,2,19980617,1232, 44.9997, 164.9960, 5959,     24.6,   5.9126,  33.0832,2,   -999.0,9,-999.0000,9,    326.0,2,    26.51,2,  -999.00,9,    14.91,2,     0.22,2,     1.32,2, -999.000,9, -999.000,9,  -999.00,9,   -999.0,9,   -999.0,9,-999.0000,9,   -999.0,  9,     7.94,2,   -999.0,  -999.00,9,  -999.00,9,     0.41,2,     0.02,2,   -999.0,-999.0000, -999,9,   24,   5.9107,  26.0492,   -999.0,9
     RF98-06-1,  165E,RF-0622,  1,     19,02-12825,2,19980617,1231, 44.9997, 164.9960, 5959,     50.1,   5.3680,  33.1170,2,   -999.0,9,-999.0000,9,    323.4,2,    25.41,2,  -999.00,9,    14.74,2,     0.26,2,     1.28,2, -999.000,9, -999.000,9,  -999.00,9,   -999.0,9,   -999.0,9,-999.0000,9,   -999.0,  9,     7.93,2,   -999.0,  -999.00,9,  -999.00,9,     0.62,2,     0.17,2,   -999.0,-999.0000, -999,9,   50,   5.3641,  26.1410,   -999.0,9
     RF98-06-1,  165E,RF-0622,  1,     18,02-12824,2,19980617,1229, 44.9997, 164.9960, 5959,     75.3,   4.6625,  33.1695,2,   -999.0,9,-999.0000,9,    316.7,2,    25.63,2,  -999.00,9,    16.41,2,     0.40,2,     1.34,2, -999.000,9, -999.000,9,  -999.00,9,   -999.0,9,   -999.0,9,-999.0000,9,   -999.0,  9,     7.90,2,   -999.0,  -999.00,9,  -999.00,9,     0.28,2,     0.17,2,   -999.0,-999.0000, -999,9,   75,   4.6571,  26.2618,   -999.0,9
     RF98-06-1,  165E,RF-0622,  1,     17,02-12814,2,19980617,1228, 44.9997, 164.9960, 5959,    101.9,   3.7079,  33.1829,2,   -999.0,9,  33.1835,2,    317.3,2,    28.00,2,  -999.00,9,    18.38,2,     0.02,2,     1.45,2, -999.000,9, -999.000,9,  -999.00,9,   -999.0,9,   -999.0,9,-999.0000,9,   -999.0,  9,     7.88,2,   -999.0,  -999.00,9,  -999.00,9,     0.07,2,     0.09,2,   -999.0,-999.0000, -999,9,  101,   3.7013,  26.3701,   -999.0,9
     RF98-06-1,  165E,RF-0622,  1,     16,02-12832,2,19980617,1227, 44.9997, 164.9960, 5959,    127.3,   3.8429,  33.3311,2,   -999.0,9,-999.0000,9,    307.1,2,    29.62,2,  -999.00,9,    19.06,2,     0.01,2,     1.49,2, -999.000,9, -999.000,9,  -999.00,9,   -999.0,9,   -999.0,9,-999.0000,9,   -999.0,  9,     7.87,2,   -999.0,  -999.00,9,  -999.00,9,     0.04,2,     0.06,2,   -999.0,-999.0000, -999,9,  126,   3.8345,  26.4751,   -999.0,9
     RF98-06-1,  165E,RF-0622,  1,     15,02-12833,2,19980617,1225, 44.9997, 164.9960, 5959,    151.6,   4.6150,  33.4541,2,   -999.0,9,-999.0000,9,    287.4,2,    30.71,2,  -999.00,9,    19.44,2,     0.01,2,     1.47,2, -999.000,9, -999.000,9,  -999.00,9,   -999.0,9,   -999.0,9,-999.0000,9,   -999.0,  9,     7.86,2,   -999.0,  -999.00,9,  -999.00,9,     0.01,2,     0.07,2,   -999.0,-999.0000, -999,9,  150,   4.6040,  26.4935,   -999.0,9
     RF98-06-1,  165E,RF-0622,  1,     14,02-13578,2,19980617,1224, 44.9997, 164.9960, 5959,    201.3,   4.3151,  33.6451,2,   -999.0,9,  33.6356,2,    209.4,2,    49.24,2,  -999.00,9,    26.72,2,     0.01,2,     1.97,2, -999.000,9, -999.000,9,  -999.00,9,   -999.0,9,   -999.0,9,-999.0000,9,   -999.0,  9,     7.73,2,   -999.0,  -999.00,9,  -999.00,9,     0.01,2,     0.06,2,   -999.0,-999.0000, -999,9,  200,   4.3009,  26.6773,   -999.0,9
     RF98-06-1,  165E,RF-0622,  1,     13,02-13590,2,19980617,1222, 44.9997, 164.9960, 5959,    251.5,   4.0627,  33.6955,2,   -999.0,9,-999.0000,9,    165.5,2,    60.57,2,  -999.00,9,    30.84,2,     0.00,2,     2.26,2, -999.000,9, -999.000,9,  -999.00,9,   -999.0,9,   -999.0,9,-999.0000,9,   -999.0,  9,     7.66,2,   -999.0,  -999.00,9,  -999.00,9,  -999.00,9,  -999.00,9,   -999.0,-999.0000, -999,9,  249,   4.0454,  26.7439,   -999.0,9
     RF98-06-1,  165E,RF-0622,  1,     12,02-12821,2,19980617,1220, 44.9997, 164.9960, 5959,    302.3,   3.8300,  33.7671,2,   -999.0,9,  33.7733,2,    132.4,2,    71.83,2,  -999.00,9,    34.59,2,     0.00,2,     2.52,2, -999.000,9, -999.000,9,  -999.00,9,   -999.0,9,   -999.0,9,-999.0000,9,   -999.0,  9,     7.59,2,   -999.0,  -999.00,9,  -999.00,9,  -999.00,9,  -999.00,9,   -999.0,-999.0000, -999,9,  300,   3.8096,  26.8245,   -999.0,9
     RF98-06-1,  165E,RF-0622,  1,     11,02-12811,2,19980617,1218, 44.9997, 164.9960, 5959,    404.1,   3.7191,  33.9193,2,   -999.0,9,-999.0000,9,     86.7,2,    88.08,2,  -999.00,9,    38.56,2,     0.00,2,     2.80,2, -999.000,9, -999.000,9,  -999.00,9,   -999.0,9,   -999.0,9,-999.0000,9,   -999.0,  9,  -999.00,9,   -999.0,  -999.00,9,  -999.00,9,  -999.00,9,  -999.00,9,   -999.0,-999.0000, -999,9,  400,   3.6917,  26.9573,   -999.0,9
     RF98-06-1,  165E,RF-0622,  1,     10,02-12820,2,19980617,1216, 44.9997, 164.9960, 5959,    503.2,   3.6570,  34.0356,2,   -999.0,9,  34.0412,2,     58.5,2,   100.67,2,  -999.00,9,    40.78,2,     0.00,2,     2.98,2, -999.000,9, -999.000,9,  -999.00,9,   -999.0,9,   -999.0,9,-999.0000,9,   -999.0,  9,  -999.00,9,   -999.0,  -999.00,9,  -999.00,9,  -999.00,9,  -999.00,9,   -999.0,-999.0000, -999,9,  499,   3.6226,  27.0567,   -999.0,9
     RF98-06-1,  165E,RF-0622,  1,      9,02-10155,2,19980617,1213, 44.9997, 164.9960, 5959,    605.5,   3.6201,  34.1434,2,   -999.0,9,  34.1418,2,     43.5,2,   110.39,2,  -999.00,9,    41.63,2,     0.00,2,     3.02,2, -999.000,9, -999.000,9,  -999.00,9,   -999.0,9,   -999.0,9,-999.0000,9,   -999.0,  9,  -999.00,9,   -999.0,  -999.00,9,  -999.00,9,  -999.00,9,  -999.00,9,   -999.0,-999.0000, -999,9,  600,   3.5783,  27.1469,   -999.0,9
     RF98-06-1,  165E,RF-0622,  1,      8,02-13579,2,19980617,1211, 44.9997, 164.9960, 5959,    704.9,   3.4543,  34.2243,2,   -999.0,9,  34.2247,2,     38.6,2,   119.27,2,  -999.00,9,    42.01,2,     0.00,2,     3.05,2, -999.000,9, -999.000,9,  -999.00,9,   -999.0,9,   -999.0,9,-999.0000,9,   -999.0,  9,  -999.00,9,   -999.0,  -999.00,9,  -999.00,9,  -999.00,9,  -999.00,9,   -999.0,-999.0000, -999,9,  698,   3.4059,  27.2280,   -999.0,9
     RF98-06-1,  165E,RF-0622,  1,      7,02-12815,2,19980617,1208, 44.9997, 164.9960, 5959,    806.9,   3.2584,  34.2905,2,   -999.0,9,  34.2881,2,     37.1,2,   126.71,2,  -999.00,9,    42.27,2,     0.00,2,     3.07,2, -999.000,9, -999.000,9,  -999.00,9,   -999.0,9,   -999.0,9,-999.0000,9,   -999.0,  9,  -999.00,9,   -999.0,  -999.00,9,  -999.00,9,  -999.00,9,  -999.00,9,   -999.0,-999.0000, -999,9,  799,   3.2034,  27.3000,   -999.0,9
     RF98-06-1,  165E,RF-0622,  1,      6,02-12818,2,19980617,1206, 44.9997, 164.9960, 5959,    907.3,   3.0842,  34.3385,2,   -999.0,9,-999.0000,9,     35.4,2,   132.57,2,  -999.00,9,    42.32,2,     0.00,2,     3.09,2, -999.000,9, -999.000,9,  -999.00,9,   -999.0,9,   -999.0,9,-999.0000,9,   -999.0,  9,  -999.00,9,   -999.0,  -999.00,9,  -999.00,9,  -999.00,9,  -999.00,9,   -999.0,-999.0000, -999,9,  898,   3.0230,  27.3550,   -999.0,9
     RF98-06-1,  165E,RF-0622,  1,      5,02-12809,2,19980617,1203, 44.9997, 164.9960, 5959,   1008.1,   2.9195,  34.3777,2,   -999.0,9,  34.3793,2,     36.6,2,   138.13,2,  -999.00,9,    42.52,2,     0.00,2,     3.08,2, -999.000,9, -999.000,9,  -999.00,9,   -999.0,9,   -999.0,9,-999.0000,9,   -999.0,  9,  -999.00,9,   -999.0,  -999.00,9,  -999.00,9,  -999.00,9,  -999.00,9,   -999.0,-999.0000, -999,9,  998,   2.8519,  27.4017,   -999.0,9
     RF98-06-1,  165E,RF-0622,  1,      4,02-12817,2,19980617,1158, 44.9997, 164.9960, 5959,   1260.0,   2.5335,  34.4473,2,   -999.0,9,  34.4445,2,     35.9,2,   150.40,2,  -999.00,9,    42.74,2,     0.00,2,     3.09,2, -999.000,9, -999.000,9,  -999.00,9,   -999.0,9,   -999.0,9,-999.0000,9,   -999.0,  9,  -999.00,9,   -999.0,  -999.00,9,  -999.00,9,  -999.00,9,  -999.00,9,   -999.0,-999.0000, -999,9, 1246,   2.4501,  27.4922,   -999.0,9
     RF98-06-1,  165E,RF-0622,  1,      3,02-12808,2,19980617,1153, 44.9997, 164.9960, 5959,   1514.5,   2.2804,  34.5061,2,   -999.0,9,  34.5063,2,     43.5,2,   156.68,2,  -999.00,9,    42.32,2,     0.00,2,     3.06,2, -999.000,9, -999.000,9,  -999.00,9,   -999.0,9,   -999.0,9,-999.0000,9,   -999.0,  9,  -999.00,9,   -999.0,  -999.00,9,  -999.00,9,  -999.00,9,  -999.00,9,   -999.0,-999.0000, -999,9, 1497,   2.1800,  27.5616,   -999.0,9
     RF98-06-1,  165E,RF-0622,  1,      2,02-13588,2,19980617,1149, 44.9997, 164.9960, 5959,   1769.4,   2.1125,  34.5534,2,   -999.0,9,  34.5533,2,     57.2,2,   158.44,2,  -999.00,9,    41.70,2,     0.00,2,     2.99,2, -999.000,9, -999.000,9,  -999.00,9,   -999.0,9,   -999.0,9,-999.0000,9,   -999.0,  9,  -999.00,9,   -999.0,  -999.00,9,  -999.00,9,  -999.00,9,  -999.00,9,   -999.0,-999.0000, -999,9, 1748,   1.9937,  27.6144,   -999.0,9
     RF98-06-1,  165E,RF-0622,  1,      1,02-12807,2,19980617,1144, 44.9997, 164.9960, 5959,   2035.4,   1.9437,  34.5905,2,   -999.0,9,  34.5887,2,     72.1,2,   159.66,2,  -999.00,9,    40.94,2,     0.00,2,     2.92,2, -999.000,9, -999.000,9,  -999.00,9,   -999.0,9,   -999.0,9,-999.0000,9,   -999.0,  9,  -999.00,9,   -999.0,  -999.00,9,  -999.00,9,  -999.00,9,  -999.00,9,   2022.0,-999.0000, -999,9, 2009,   1.8053,  27.6587,   -999.0,9