BOTTLE,20130510GEMDJMAYT
EXPOCODE,SECT_ID,STNNBR,CASTNO,SAMPNO,BTLNBR,BTLNBR_FLAG_W,DATE,TIME,LATITUDE,LONGITUDE,DEPTH,CTDPRS,CTDTMP,CTDSAL,CTDSAL_FLAG_W,CTDOXY,CTDOXY_FLAG_W,SALNTY,SALNTY_FLAG_W,OXYGEN,OXYGEN_FLAG_W,SILCAT,SILCAT_FLAG_W,NITRAT,NITRAT_FLAG_W,NO2+NO3,NO2+NO3_FLAG_W,NITRIT,NITRIT_FLAG_W,PHSPHT,PHSPHT_FLAG_W,CFC-11,CFC-11_FLAG_W,CFC-12,CFC-12_FLAG_W,DELC13,DELC13_FLAG_W,TCARBN,TCARBN_FLAG_W,ALKALI,ALKALI_FLAG_W,PH,PH_FLAG_W,PH_TMP,PH_SCALE,PH_NBS,PH_NBS_FLAG_W,C13ERR,TOTALP,TOTALP_FLAG_W,AMMONI,AMMONI_FLAG_W,CHLORA,CHLORA_FLAG_W,PPHYTN,PPHYTN_FLAG_W,REVPRS,REVTMP,DEPTH_,DEPTH_FLAG,CTDDEP,THETA,SIGTHT,DOC,DOC_FLAG_W
,,,,,,,GMT,GMT,,,METER,DBAR,ITS-90,PSS-78,,UMOL/KG,,PSS-78,,UMOL/KG,,UMOL/KG,,UMOL/KG,,UMOL/KG,,UMOL/KG,,UMOL/KG,,PMOL/KG,,PMOL/KG,,/MILLE,,UMOL/KG,,UMOL/KG,,25_DEG_C,,DEG_C,,,,/MILLE,UMOL/KG,,UMOL/KG,,UG/L,,UG/L,,DBAR,ITS-90,METERS,,METERS,DEG_C,,UMOL/L,
     RF98-06-1,  165E,RF-0632,  1,     -9,      -9,5,19980620,0552, 35.0082, 165.0165, 5872,      0.0,  22.4758,  34.8928,2,   -999.0,9,-999.0000,9,    235.3,2,     2.31,2,  -999.00,9,     0.00,2,     0.01,2,     0.00,2, -999.000,9, -999.000,9,  -999.00,9,   -999.0,9,   -999.0,9,-999.0000,9,   -999.0,  9,     8.19,2,   -999.0,  -999.00,9,  -999.00,9,     0.15,2,     0.02,2,   -999.0,-999.0000, -999,9,    0,  22.4758,  24.0022,   -999.0,9
     RF98-06-1,  165E,RF-0632,  1,     23,02-12829,2,19980620,0550, 35.0082, 165.0165, 5872,     10.0,  22.4718,  34.8923,2,   -999.0,9,-999.0000,9,    223.4,2,     1.99,2,  -999.00,9,     0.05,2,     0.00,2,  -999.00,4, -999.000,9, -999.000,9,  -999.00,9,   -999.0,9,   -999.0,9,-999.0000,9,   -999.0,  9,     8.19,2,   -999.0,  -999.00,9,  -999.00,9,     0.13,2,     0.03,2,   -999.0,-999.0000, -999,9,   10,  22.4698,  24.0035,   -999.0,9
     RF98-06-1,  165E,RF-0632,  1,     22,02-12828,2,19980620,0549, 35.0082, 165.0165, 5872,     24.9,  21.4693,  34.8721,2,   -999.0,9,-999.0000,9,    232.6,2,     2.24,2,  -999.00,9,     0.04,2,     0.01,2,     0.00,2, -999.000,9, -999.000,9,  -999.00,9,   -999.0,9,   -999.0,9,-999.0000,9,   -999.0,  9,     8.19,2,   -999.0,  -999.00,9,  -999.00,9,     0.16,2,     0.04,2,   -999.0,-999.0000, -999,9,   25,  21.4645,  24.2694,   -999.0,9
     RF98-06-1,  165E,RF-0632,  1,     21,02-12827,2,19980620,0548, 35.0082, 165.0165, 5872,     50.2,  18.4576,  34.7994,2,   -999.0,9,-999.0000,9,    249.3,2,     2.24,2,  -999.00,9,     0.02,2,     0.00,2,     0.01,2, -999.000,9, -999.000,9,  -999.00,9,   -999.0,9,   -999.0,9,-999.0000,9,   -999.0,  9,     8.18,2,   -999.0,  -999.00,9,  -999.00,9,     0.29,2,     0.11,2,   -999.0,-999.0000, -999,9,   50,  18.4488,  25.0070,   -999.0,9
     RF98-06-1,  165E,RF-0632,  1,     20,02-12826,2,19980620,0546, 35.0082, 165.0165, 5872,     77.0,  17.7043,  34.7856,2,   -999.0,9,-999.0000,9,    227.1,2,     3.12,2,  -999.00,9,     2.17,2,     0.13,2,     0.14,2, -999.000,9, -999.000,9,  -999.00,9,   -999.0,9,   -999.0,9,-999.0000,9,   -999.0,  9,  -999.00,9,   -999.0,  -999.00,9,  -999.00,9,  -999.00,9,  -999.00,9,   -999.0,-999.0000, -999,9,   76,  17.6913,  25.1834,   -999.0,9
     RF98-06-1,  165E,RF-0632,  1,     19,02-12825,2,19980620,0546, 35.0082, 165.0165, 5872,     75.5,  17.7452,  34.7851,2,   -999.0,9,-999.0000,9,    226.9,2,     3.31,2,  -999.00,9,     2.11,2,     0.14,2,     0.14,2, -999.000,9, -999.000,9,  -999.00,9,   -999.0,9,   -999.0,9,-999.0000,9,   -999.0,  9,     8.14,2,   -999.0,  -999.00,9,  -999.00,9,     0.53,2,     0.48,2,   -999.0,-999.0000, -999,9,   75,  17.7324,  25.1730,   -999.0,9
     RF98-06-1,  165E,RF-0632,  1,     18,02-12824,3,19980620,0545, 35.0082, 165.0165, 5872,    101.6,  17.3730,  34.7766,2,   -999.0,9,  34.7760,2,    216.1,2,     4.02,2,  -999.00,9,     3.81,2,     0.03,2,     0.22,2, -999.000,9, -999.000,9,  -999.00,9,   -999.0,9,   -999.0,9,-999.0000,9,   -999.0,  9,     8.12,2,   -999.0,  -999.00,9,  -999.00,9,     0.11,2,     0.08,2,   -999.0,-999.0000, -999,9,  101,  17.3561,  25.2577,   -999.0,9
     RF98-06-1,  165E,RF-0632,  1,     17,02-12814,2,19980620,0544, 35.0082, 165.0165, 5872,    124.5,  17.1986,  34.7739,2,   -999.0,9,-999.0000,9,    221.9,2,     4.21,2,  -999.00,9,     3.66,2,     0.02,2,     0.22,2, -999.000,9, -999.000,9,  -999.00,9,   -999.0,9,   -999.0,9,-999.0000,9,   -999.0,  9,     8.13,2,   -999.0,  -999.00,9,  -999.00,9,     0.04,2,     0.05,2,   -999.0,-999.0000, -999,9,  124,  17.1779,  25.2983,   -999.0,9
     RF98-06-1,  165E,RF-0632,  1,     16,02-12832,2,19980620,0542, 35.0082, 165.0165, 5872,    151.6,  16.8542,  34.7682,2,   -999.0,9,-999.0000,9,    217.5,2,     4.77,2,  -999.00,9,     4.49,2,     0.02,2,     0.27,2, -999.000,9, -999.000,9,  -999.00,9,   -999.0,9,   -999.0,9,-999.0000,9,   -999.0,  9,     8.11,2,   -999.0,  -999.00,9,  -999.00,9,     0.03,2,     0.04,2,   -999.0,-999.0000, -999,9,  150,  16.8294,  25.3767,   -999.0,9
     RF98-06-1,  165E,RF-0632,  1,     15,02-12833,2,19980620,0541, 35.0082, 165.0165, 5872,    202.1,  16.1722,  34.7217,2,   -999.0,9,  34.7894,4,    205.9,2,     6.60,2,  -999.00,9,     6.04,2,     0.02,2,     0.37,2, -999.000,9, -999.000,9,  -999.00,9,   -999.0,9,   -999.0,9,-999.0000,9,   -999.0,  9,     8.08,2,   -999.0,  -999.00,9,  -999.00,9,     0.01,2,     0.02,2,   -999.0,-999.0000, -999,9,  200,  16.1400,  25.5014,   -999.0,9
     RF98-06-1,  165E,RF-0632,  1,     14,02-13578,2,19980620,0539, 35.0082, 165.0165, 5872,    253.0,  15.0045,  34.6428,2,   -999.0,9,-999.0000,9,    206.2,2,     8.97,2,  -999.00,9,     8.35,2,     0.01,2,     0.52,2, -999.000,9, -999.000,9,  -999.00,9,   -999.0,9,   -999.0,9,-999.0000,9,   -999.0,  9,     8.05,2,   -999.0,  -999.00,9,  -999.00,9,  -999.00,9,  -999.00,9,   -999.0,-999.0000, -999,9,  251,  14.9662,  25.7039,   -999.0,9
     RF98-06-1,  165E,RF-0632,  1,     13,02-13590,7,19980620,0537, 35.0082, 165.0165, 5872,    302.3,  14.3090,  34.5910,2,   -999.0,9,  34.7245,4,    227.3,4,     3.28,4,  -999.00,9,     2.06,4,     0.14,4,     0.14,4, -999.000,9, -999.000,9,  -999.00,9,   -999.0,9,   -999.0,9,-999.0000,9,   -999.0,  9,     8.14,4,   -999.0,  -999.00,9,  -999.00,9,  -999.00,9,  -999.00,9,   -999.0,-999.0000, -999,9,  300,  14.2646,  25.8151,   -999.0,9
     RF98-06-1,  165E,RF-0632,  1,     12,02-12821,2,19980620,0535, 35.0082, 165.0165, 5872,    406.3,  12.2386,  34.4244,2,   -999.0,9,-999.0000,9,    203.7,2,    15.89,2,  -999.00,9,    13.12,2,     0.01,2,     0.85,2, -999.000,9, -999.000,9,  -999.00,9,   -999.0,9,   -999.0,9,-999.0000,9,   -999.0,  9,  -999.00,9,   -999.0,  -999.00,9,  -999.00,9,  -999.00,9,  -999.00,9,   -999.0,-999.0000, -999,9,  403,  12.1847,  26.1067,   -999.0,9
     RF98-06-1,  165E,RF-0632,  1,     11,02-12811,2,19980620,0532, 35.0082, 165.0165, 5872,    505.8,  10.0392,  34.2388,2,   -999.0,9,  34.4159,4,    190.1,2,    25.58,2,  -999.00,9,    17.89,2,     0.01,2,     1.22,2, -999.000,9, -999.000,9,  -999.00,9,   -999.0,9,   -999.0,9,-999.0000,9,   -999.0,  9,  -999.00,9,   -999.0,  -999.00,9,  -999.00,9,  -999.00,9,  -999.00,9,   -999.0,-999.0000, -999,9,  502,   9.9800,  26.3609,   -999.0,9
     RF98-06-1,  165E,RF-0632,  1,     10,02-12820,2,19980620,0529, 35.0082, 165.0165, 5872,    604.7,   7.7297,  34.0758,2,   -999.0,9,  34.2384,4,    163.8,2,    42.25,2,  -999.00,9,    25.05,2,     0.00,2,     1.74,2, -999.000,9, -999.000,9,  -999.00,9,   -999.0,9,   -999.0,9,-999.0000,9,   -999.0,  9,  -999.00,9,   -999.0,  -999.00,9,  -999.00,9,  -999.00,9,  -999.00,9,   -999.0,-999.0000, -999,9,  599,   7.6689,  26.5965,   -999.0,9
     RF98-06-1,  165E,RF-0632,  1,      9,02-10155,2,19980620,0527, 35.0082, 165.0165, 5872,    706.2,   5.8342,  34.0243,2,   -999.0,9,  34.0822,4,    133.9,2,    63.15,2,  -999.00,9,    30.74,2,     0.00,2,     2.20,2, -999.000,9, -999.000,9,  -999.00,9,   -999.0,9,   -999.0,9,-999.0000,9,   -999.0,  9,  -999.00,9,   -999.0,  -999.00,9,  -999.00,9,  -999.00,9,  -999.00,9,   -999.0,-999.0000, -999,9,  700,   5.7729,  26.8099,   -999.0,9
     RF98-06-1,  165E,RF-0632,  1,      8,02-13579,2,19980620,0524, 35.0082, 165.0165, 5872,    805.6,   4.7912,  34.0761,2,   -999.0,9,  34.0237,4,     93.2,2,    82.48,2,  -999.00,9,    35.80,2,     0.00,2,     2.58,2, -999.000,9, -999.000,9,  -999.00,9,   -999.0,9,   -999.0,9,-999.0000,9,   -999.0,  9,  -999.00,9,   -999.0,  -999.00,9,  -999.00,9,  -999.00,9,  -999.00,9,   -999.0,-999.0000, -999,9,  798,   4.7271,  26.9736,   -999.0,9
     RF98-06-1,  165E,RF-0632,  1,      7,02-12815,2,19980620,0522, 35.0082, 165.0165, 5872,    906.2,   4.1990,  34.1815,2,   -999.0,9,-999.0000,9,     66.1,2,   100.40,2,  -999.00,9,    39.14,2,     0.00,2,     2.84,2, -999.000,9, -999.000,9,  -999.00,9,   -999.0,9,   -999.0,9,-999.0000,9,   -999.0,  9,  -999.00,9,   -999.0,  -999.00,9,  -999.00,9,  -999.00,9,  -999.00,9,   -999.0,-999.0000, -999,9,  898,   4.1301,  27.1216,   -999.0,9
     RF98-06-1,  165E,RF-0632,  1,      6,02-12818,2,19980620,0520, 35.0082, 165.0165, 5872,   1009.8,   3.8542,  34.2491,2,   -999.0,9,  34.2496,2,     46.7,2,   110.74,2,  -999.00,9,    40.60,2,     0.00,2,     2.94,2, -999.000,9, -999.000,9,  -999.00,9,   -999.0,9,   -999.0,9,-999.0000,9,   -999.0,  9,  -999.00,9,   -999.0,  -999.00,9,  -999.00,9,  -999.00,9,  -999.00,9,   -999.0,-999.0000, -999,9, 1000,   3.7793,  27.2112,   -999.0,9
     RF98-06-1,  165E,RF-0632,  1,      5,02-12809,2,19980620,0515, 35.0082, 165.0165, 5872,   1261.0,   3.0432,  34.3940,2,   -999.0,9,  34.3946,2,     38.6,2,   133.75,2,  -999.00,9,    41.87,2,     0.01,2,     3.04,2, -999.000,9, -999.000,9,  -999.00,9,   -999.0,9,   -999.0,9,-999.0000,9,   -999.0,  9,  -999.00,9,   -999.0,  -999.00,9,  -999.00,9,  -999.00,9,  -999.00,9,   -999.0,-999.0000, -999,9, 1248,   2.9548,  27.4054,   -999.0,9
     RF98-06-1,  165E,RF-0632,  1,      4,02-12817,2,19980620,0510, 35.0082, 165.0165, 5872,   1516.5,   2.6039,  34.4646,2,   -999.0,9,  34.4740,2,     39.8,2,   146.68,2,  -999.00,9,    42.45,2,     0.01,2,     3.08,2, -999.000,9, -999.000,9,  -999.00,9,   -999.0,9,   -999.0,9,-999.0000,9,   -999.0,  9,  -999.00,9,   -999.0,  -999.00,9,  -999.00,9,  -999.00,9,  -999.00,9,   -999.0,-999.0000, -999,9, 1500,   2.4996,  27.5018,   -999.0,9
     RF98-06-1,  165E,RF-0632,  1,      3,02-12808,2,19980620,0510, 35.0082, 165.0165, 5872,   1515.0,   2.6001,  34.4721,2,   -999.0,9,  34.4752,2,     39.4,2,   146.62,2,  -999.00,9,    42.42,2,     0.00,2,     3.08,2, -999.000,9, -999.000,9,  -999.00,9,   -999.0,9,   -999.0,9,-999.0000,9,   -999.0,  9,  -999.00,9,   -999.0,  -999.00,9,  -999.00,9,  -999.00,9,  -999.00,9,   -999.0,-999.0000, -999,9, 1499,   2.4959,  27.5081,   -999.0,9
     RF98-06-1,  165E,RF-0632,  1,      2,02-13588,2,19980620,0506, 35.0082, 165.0165, 5872,   1765.7,   2.2649,  34.5291,2,   -999.0,9,  34.5324,2,     48.9,2,   154.85,2,  -999.00,9,    42.03,2,     0.00,2,     3.03,2, -999.000,9, -999.000,9,  -999.00,9,   -999.0,9,   -999.0,9,-999.0000,9,   -999.0,  9,  -999.00,9,   -999.0,  -999.00,9,  -999.00,9,  -999.00,9,  -999.00,9,   -999.0,-999.0000, -999,9, 1746,   2.1444,  27.5829,   -999.0,9
     RF98-06-1,  165E,RF-0632,  1,      1,02-12807,2,19980620,0501, 35.0082, 165.0165, 5872,   2035.8,   2.0084,  34.5767,2,   -999.0,9,  34.5796,2,     65.9,2,   158.16,2,  -999.00,9,    41.00,2,     0.00,2,     2.93,2, -999.000,9, -999.000,9,  -999.00,9,   -999.0,9,   -999.0,9,-999.0000,9,   -999.0,  9,  -999.00,9,   -999.0,  -999.00,9,  -999.00,9,  -999.00,9,  -999.00,9,   2017.0,-999.0000, -999,9, 2011,   1.8690,  27.6428,   -999.0,9