BOTTLE,20130510GEMDJMAYT
EXPOCODE,SECT_ID,STNNBR,CASTNO,SAMPNO,BTLNBR,BTLNBR_FLAG_W,DATE,TIME,LATITUDE,LONGITUDE,DEPTH,CTDPRS,CTDTMP,CTDSAL,CTDSAL_FLAG_W,CTDOXY,CTDOXY_FLAG_W,SALNTY,SALNTY_FLAG_W,OXYGEN,OXYGEN_FLAG_W,SILCAT,SILCAT_FLAG_W,NITRAT,NITRAT_FLAG_W,NO2+NO3,NO2+NO3_FLAG_W,NITRIT,NITRIT_FLAG_W,PHSPHT,PHSPHT_FLAG_W,CFC-11,CFC-11_FLAG_W,CFC-12,CFC-12_FLAG_W,DELC13,DELC13_FLAG_W,TCARBN,TCARBN_FLAG_W,ALKALI,ALKALI_FLAG_W,PH,PH_FLAG_W,PH_TMP,PH_SCALE,PH_NBS,PH_NBS_FLAG_W,C13ERR,TOTALP,TOTALP_FLAG_W,AMMONI,AMMONI_FLAG_W,CHLORA,CHLORA_FLAG_W,PPHYTN,PPHYTN_FLAG_W,REVPRS,REVTMP,DEPTH_,DEPTH_FLAG,CTDDEP,THETA,SIGTHT,DOC,DOC_FLAG_W
,,,,,,,GMT,GMT,,,METER,DBAR,ITS-90,PSS-78,,UMOL/KG,,PSS-78,,UMOL/KG,,UMOL/KG,,UMOL/KG,,UMOL/KG,,UMOL/KG,,UMOL/KG,,PMOL/KG,,PMOL/KG,,/MILLE,,UMOL/KG,,UMOL/KG,,25_DEG_C,,DEG_C,,,,/MILLE,UMOL/KG,,UMOL/KG,,UG/L,,UG/L,,DBAR,ITS-90,METERS,,METERS,DEG_C,,UMOL/L,
     RF98-06-2,  137E,RF-0675,  1,     -9,      -9,5,19980716,0748, 32.0052, 137.0065, 4226,      0.0,  26.7900,  34.1805,2,   -999.0,9,-999.0000,9,    205.7,2,  -999.00,9,  -999.00,9,  -999.00,9,  -999.00,9,  -999.00,9, -999.000,9, -999.000,9,  -999.00,9,   -999.0,9,   -999.0,9,-999.0000,9,   -999.0,  9,  -999.00,9,   -999.0,  -999.00,9,  -999.00,9,  -999.00,9,  -999.00,9,   -999.0,-999.0000, -999,9,    0,  26.7900,  22.1673,   -999.0,9
     RF98-06-2,  137E,RF-0675,  1,     21,02-12827,2,19980716,0745, 32.0052, 137.0065, 4226,      9.7,  26.7950,  34.1834,2,   -999.0,9,-999.0000,9,    206.0,2,  -999.00,9,  -999.00,9,  -999.00,9,  -999.00,9,  -999.00,9, -999.000,9, -999.000,9,  -999.00,9,   -999.0,9,   -999.0,9,-999.0000,9,   -999.0,  9,  -999.00,9,   -999.0,  -999.00,9,  -999.00,9,  -999.00,9,  -999.00,9,   -999.0,-999.0000, -999,9,   10,  26.7928,  22.1687,   -999.0,9
     RF98-06-2,  137E,RF-0675,  1,     20,02-12826,2,19980716,0744, 32.0052, 137.0065, 4226,     26.6,  24.3296,  34.2728,2,   -999.0,9,-999.0000,9,    223.4,2,  -999.00,9,  -999.00,9,  -999.00,9,  -999.00,9,  -999.00,9, -999.000,9, -999.000,9,  -999.00,9,   -999.0,9,   -999.0,9,-999.0000,9,   -999.0,  9,  -999.00,9,   -999.0,  -999.00,9,  -999.00,9,  -999.00,9,  -999.00,9,   -999.0,-999.0000, -999,9,   26,  24.3239,  22.9949,   -999.0,9
     RF98-06-2,  137E,RF-0675,  1,     19,02-12825,2,19980716,0743, 32.0052, 137.0065, 4226,     51.4,  22.6368,  34.6988,2,   -999.0,9,-999.0000,9,    225.1,2,  -999.00,9,  -999.00,9,  -999.00,9,  -999.00,9,  -999.00,9, -999.000,9, -999.000,9,  -999.00,9,   -999.0,9,   -999.0,9,-999.0000,9,   -999.0,  9,  -999.00,9,   -999.0,  -999.00,9,  -999.00,9,  -999.00,9,  -999.00,9,   -999.0,-999.0000, -999,9,   51,  22.6265,  23.8121,   -999.0,9
     RF98-06-2,  137E,RF-0675,  1,     18,02-12824,2,19980716,0742, 32.0052, 137.0065, 4226,     76.5,  20.8992,  34.7827,2,   -999.0,9,-999.0000,9,    215.5,2,  -999.00,9,  -999.00,9,  -999.00,9,  -999.00,9,  -999.00,9, -999.000,9, -999.000,9,  -999.00,9,   -999.0,9,   -999.0,9,-999.0000,9,   -999.0,  9,  -999.00,9,   -999.0,  -999.00,9,  -999.00,9,  -999.00,9,  -999.00,9,   -999.0,-999.0000, -999,9,   76,  20.8847,  24.3597,   -999.0,9
     RF98-06-2,  137E,RF-0675,  1,     17,02-12814,2,19980716,0740, 32.0052, 137.0065, 4226,    102.8,  20.1043,  34.8214,2,   -999.0,9,-999.0000,9,    211.5,2,  -999.00,9,  -999.00,9,  -999.00,9,  -999.00,9,  -999.00,9, -999.000,9, -999.000,9,  -999.00,9,   -999.0,9,   -999.0,9,-999.0000,9,   -999.0,  9,  -999.00,9,   -999.0,  -999.00,9,  -999.00,9,  -999.00,9,  -999.00,9,   -999.0,-999.0000, -999,9,  102,  20.0852,  24.6030,   -999.0,9
     RF98-06-2,  137E,RF-0675,  1,     16,02-12832,2,19980716,0739, 32.0052, 137.0065, 4226,    126.2,  19.6766,  34.8177,2,   -999.0,9,-999.0000,9,    212.0,2,  -999.00,9,  -999.00,9,  -999.00,9,  -999.00,9,  -999.00,9, -999.000,9, -999.000,9,  -999.00,9,   -999.0,9,   -999.0,9,-999.0000,9,   -999.0,  9,  -999.00,9,   -999.0,  -999.00,9,  -999.00,9,  -999.00,9,  -999.00,9,   -999.0,-999.0000, -999,9,  125,  19.6536,  24.7134,   -999.0,9
     RF98-06-2,  137E,RF-0675,  1,     15,02-12833,2,19980716,0738, 32.0052, 137.0065, 4226,    152.8,  19.3005,  34.8151,2,   -999.0,9,-999.0000,9,    215.7,2,  -999.00,9,  -999.00,9,  -999.00,9,  -999.00,9,  -999.00,9, -999.000,9, -999.000,9,  -999.00,9,   -999.0,9,   -999.0,9,-999.0000,9,   -999.0,  9,  -999.00,9,   -999.0,  -999.00,9,  -999.00,9,  -999.00,9,  -999.00,9,   -999.0,-999.0000, -999,9,  152,  19.2730,  24.8100,   -999.0,9
     RF98-06-2,  137E,RF-0675,  1,     14,02-13578,2,19980716,0736, 32.0052, 137.0065, 4226,    202.5,  19.0407,  34.8135,2,   -999.0,9,-999.0000,9,    217.1,2,  -999.00,9,  -999.00,9,  -999.00,9,  -999.00,9,  -999.00,9, -999.000,9, -999.000,9,  -999.00,9,   -999.0,9,   -999.0,9,-999.0000,9,   -999.0,  9,  -999.00,9,   -999.0,  -999.00,9,  -999.00,9,  -999.00,9,  -999.00,9,   -999.0,-999.0000, -999,9,  201,  19.0046,  24.8775,   -999.0,9
     RF98-06-2,  137E,RF-0675,  1,     13,02-13590,2,19980716,0734, 32.0052, 137.0065, 4226,    252.0,  18.6774,  34.8329,2,   -999.0,9,-999.0000,9,    198.8,2,  -999.00,9,  -999.00,9,  -999.00,9,  -999.00,9,  -999.00,9, -999.000,9, -999.000,9,  -999.00,9,   -999.0,9,   -999.0,9,-999.0000,9,   -999.0,  9,  -999.00,9,   -999.0,  -999.00,9,  -999.00,9,  -999.00,9,  -999.00,9,   -999.0,-999.0000, -999,9,  250,  18.6330,  24.9864,   -999.0,9
     RF98-06-2,  137E,RF-0675,  1,     12,02-12821,2,19980716,0732, 32.0052, 137.0065, 4226,    303.4,  17.8747,  34.8387,2,   -999.0,9,-999.0000,9,    199.8,2,  -999.00,9,  -999.00,9,  -999.00,9,  -999.00,9,  -999.00,9, -999.000,9, -999.000,9,  -999.00,9,   -999.0,9,   -999.0,9,-999.0000,9,   -999.0,  9,  -999.00,9,   -999.0,  -999.00,9,  -999.00,9,  -999.00,9,  -999.00,9,   -999.0,-999.0000, -999,9,  301,  17.8228,  25.1920,   -999.0,9
     RF98-06-2,  137E,RF-0675,  1,     11,02-12811,2,19980716,0730, 32.0052, 137.0065, 4226,    404.5,  16.1773,  34.7333,2,   -999.0,9,-999.0000,9,    194.5,2,  -999.00,9,  -999.00,9,  -999.00,9,  -999.00,9,  -999.00,9, -999.000,9, -999.000,9,  -999.00,9,   -999.0,9,   -999.0,9,-999.0000,9,   -999.0,  9,  -999.00,9,   -999.0,  -999.00,9,  -999.00,9,  -999.00,9,  -999.00,9,   -999.0,-999.0000, -999,9,  401,  16.1125,  25.5167,   -999.0,9
     RF98-06-2,  137E,RF-0675,  1,     10,02-12820,2,19980716,0727, 32.0052, 137.0065, 4226,    502.4,  14.0075,  34.5563,2,   -999.0,9,-999.0000,9,    183.3,2,  -999.00,9,  -999.00,9,  -999.00,9,  -999.00,9,  -999.00,9, -999.000,9, -999.000,9,  -999.00,9,   -999.0,9,   -999.0,9,-999.0000,9,   -999.0,  9,  -999.00,9,   -999.0,  -999.00,9,  -999.00,9,  -999.00,9,  -999.00,9,   -999.0,-999.0000, -999,9,  498,  13.9344,  25.8579,   -999.0,9
     RF98-06-2,  137E,RF-0675,  1,      9,02-10155,2,19980716,0725, 32.0052, 137.0065, 4226,    605.0,  11.1207,  34.3599,2,   -999.0,9,-999.0000,9,    161.3,2,  -999.00,9,  -999.00,9,  -999.00,9,  -999.00,9,  -999.00,9, -999.000,9, -999.000,9,  -999.00,9,   -999.0,9,   -999.0,9,-999.0000,9,   -999.0,  9,  -999.00,9,   -999.0,  -999.00,9,  -999.00,9,  -999.00,9,  -999.00,9,   -999.0,-999.0000, -999,9,  600,  11.0448,  26.2690,   -999.0,9
     RF98-06-2,  137E,RF-0675,  1,      8,02-13579,2,19980716,0722, 32.0052, 137.0065, 4226,    706.1,   8.3316,  34.2274,2,   -999.0,9,-999.0000,9,    137.0,2,  -999.00,9,  -999.00,9,  -999.00,9,  -999.00,9,  -999.00,9, -999.000,9, -999.000,9,  -999.00,9,   -999.0,9,   -999.0,9,-999.0000,9,   -999.0,  9,  -999.00,9,   -999.0,  -999.00,9,  -999.00,9,  -999.00,9,  -999.00,9,   -999.0,-999.0000, -999,9,  700,   8.2569,  26.6285,   -999.0,9
     RF98-06-2,  137E,RF-0675,  1,      7,02-12815,2,19980716,0720, 32.0052, 137.0065, 4226,    805.7,   6.5502,  34.2132,2,   -999.0,9,-999.0000,9,    106.6,2,  -999.00,9,  -999.00,9,  -999.00,9,  -999.00,9,  -999.00,9, -999.000,9, -999.000,9,  -999.00,9,   -999.0,9,   -999.0,9,-999.0000,9,   -999.0,  9,  -999.00,9,   -999.0,  -999.00,9,  -999.00,9,  -999.00,9,  -999.00,9,   -999.0,-999.0000, -999,9,  799,   6.4751,  26.8696,   -999.0,9
     RF98-06-2,  137E,RF-0675,  1,      6,02-12818,2,19980716,0717, 32.0052, 137.0065, 4226,    906.7,   5.2807,  34.2727,2,   -999.0,9,-999.0000,9,     83.3,2,  -999.00,9,  -999.00,9,  -999.00,9,  -999.00,9,  -999.00,9, -999.000,9, -999.000,9,  -999.00,9,   -999.0,9,   -999.0,9,-999.0000,9,   -999.0,  9,  -999.00,9,   -999.0,  -999.00,9,  -999.00,9,  -999.00,9,  -999.00,9,   -999.0,-999.0000, -999,9,  898,   5.2042,  27.0749,   -999.0,9
     RF98-06-2,  137E,RF-0675,  1,      5,02-12809,2,19980716,0715, 32.0052, 137.0065, 4226,   1006.3,   4.3562,  34.3256,2,   -999.0,9,-999.0000,9,     68.5,2,  -999.00,9,  -999.00,9,  -999.00,9,  -999.00,9,  -999.00,9, -999.000,9, -999.000,9,  -999.00,9,   -999.0,9,   -999.0,9,-999.0000,9,   -999.0,  9,  -999.00,9,   -999.0,  -999.00,9,  -999.00,9,  -999.00,9,  -999.00,9,   -999.0,-999.0000, -999,9,  997,   4.2775,  27.2206,   -999.0,9
     RF98-06-2,  137E,RF-0675,  1,      4,02-12817,2,19980716,0711, 32.0052, 137.0065, 4226,   1260.5,   3.3018,  34.4475,2,   -999.0,9,-999.0000,9,     68.6,2,  -999.00,9,  -999.00,9,  -999.00,9,  -999.00,9,  -999.00,9, -999.000,9, -999.000,9,  -999.00,9,   -999.0,9,   -999.0,9,-999.0000,9,   -999.0,  9,  -999.00,9,   -999.0,  -999.00,9,  -999.00,9,  -999.00,9,  -999.00,9,   -999.0,-999.0000, -999,9, 1248,   3.2108,  27.4245,   -999.0,9
     RF98-06-2,  137E,RF-0675,  1,      3,02-12808,2,19980716,0706, 32.0052, 137.0065, 4226,   1513.9,   2.6969,  34.5056,2,   -999.0,9,-999.0000,9,     78.0,2,  -999.00,9,  -999.00,9,  -999.00,9,  -999.00,9,  -999.00,9, -999.000,9, -999.000,9,  -999.00,9,   -999.0,9,   -999.0,9,-999.0000,9,   -999.0,  9,  -999.00,9,   -999.0,  -999.00,9,  -999.00,9,  -999.00,9,  -999.00,9,   -999.0,-999.0000, -999,9, 1498,   2.5916,  27.5267,   -999.0,9
     RF98-06-2,  137E,RF-0675,  1,      2,02-13588,2,19980716,0702, 32.0052, 137.0065, 4226,   1768.1,   2.3595,  34.5484,2,   -999.0,9,-999.0000,9,     89.8,2,  -999.00,9,  -999.00,9,  -999.00,9,  -999.00,9,  -999.00,9, -999.000,9, -999.000,9,  -999.00,9,   -999.0,9,   -999.0,9,-999.0000,9,   -999.0,  9,  -999.00,9,   -999.0,  -999.00,9,  -999.00,9,  -999.00,9,  -999.00,9,   -999.0,-999.0000, -999,9, 1748,   2.2374,  27.5907,   -999.0,9
     RF98-06-2,  137E,RF-0675,  1,      1,02-12807,2,19980716,0656, 32.0052, 137.0065, 4226,   2035.2,   2.1086,  34.5822,2,   -999.0,9,-999.0000,9,    103.7,2,  -999.00,9,  -999.00,9,  -999.00,9,  -999.00,9,  -999.00,9, -999.000,9, -999.000,9,  -999.00,9,   -999.0,9,   -999.0,9,-999.0000,9,   -999.0,  9,  -999.00,9,   -999.0,  -999.00,9,  -999.00,9,  -999.00,9,  -999.00,9,   2021.0,-999.0000, -999,9, 2011,   1.9677,  27.6394,   -999.0,9
     RF98-06-2,  137E,RF-0676,  1,     -9,      -9,5,19980718,0351, 33.9943, 136.9863,  996,      0.0,  24.9448,  33.9667,2,   -999.0,9,-999.0000,9,    217.4,2,     0.87,2,  -999.00,9,     0.03,2,     0.00,2,     0.05,2, -999.000,9, -999.000,9,  -999.00,9,   -999.0,9,   -999.0,9,-999.0000,9,   -999.0,  9,  -999.00,9,   -999.0,  -999.00,9,  -999.00,9,     0.35,2,     0.03,2,   -999.0,-999.0000, -999,9,    0,  24.9448,  22.5772,   -999.0,9
     RF98-06-2,  137E,RF-0676,  1,     18,02-12824,2,19980718,0348, 33.9943, 136.9863,  996,     10.9,  24.7094,  34.0388,2,   -999.0,9,-999.0000,9,    218.7,2,     0.97,2,  -999.00,9,     0.02,2,     0.00,2,     0.03,2, -999.000,9, -999.000,9,  -999.00,9,   -999.0,9,   -999.0,9,-999.0000,9,   -999.0,  9,  -999.00,9,   -999.0,  -999.00,9,  -999.00,9,     0.33,2,     0.04,2,   -999.0,-999.0000, -999,9,   11,  24.7071,  22.7034,   -999.0,9
     RF98-06-2,  137E,RF-0676,  1,     17,02-12814,2,19980718,0347, 33.9943, 136.9863,  996,     25.5,  23.6224,  34.4191,2,   -999.0,9,-999.0000,9,    222.2,2,     0.15,2,  -999.00,9,     0.11,2,     0.01,2,     0.05,2, -999.000,9, -999.000,9,  -999.00,9,   -999.0,9,   -999.0,9,-999.0000,9,   -999.0,  9,  -999.00,9,   -999.0,  -999.00,9,  -999.00,9,     0.83,2,     0.19,2,   -999.0,-999.0000, -999,9,   25,  23.6171,  23.3142,   -999.0,9
     RF98-06-2,  137E,RF-0676,  1,     16,02-12832,2,19980718,0345, 33.9943, 136.9863,  996,     50.5,  19.7697,  34.6069,2,   -999.0,9,-999.0000,9,    191.5,2,     6.40,2,  -999.00,9,     4.77,2,     0.20,2,     0.33,2, -999.000,9, -999.000,9,  -999.00,9,   -999.0,9,   -999.0,9,-999.0000,9,   -999.0,  9,  -999.00,9,   -999.0,  -999.00,9,  -999.00,9,     0.63,2,     0.32,2,   -999.0,-999.0000, -999,9,   50,  19.7605,  24.5247,   -999.0,9
     RF98-06-2,  137E,RF-0676,  1,     15,02-12833,2,19980718,0344, 33.9943, 136.9863,  996,     76.1,  17.9939,  34.6582,2,   -999.0,9,-999.0000,9,    185.6,2,     8.85,2,  -999.00,9,     6.68,2,     0.09,2,     0.46,2, -999.000,9, -999.000,9,  -999.00,9,   -999.0,9,   -999.0,9,-999.0000,9,   -999.0,  9,  -999.00,9,   -999.0,  -999.00,9,  -999.00,9,     0.29,2,     0.20,2,   -999.0,-999.0000, -999,9,   76,  17.9809,  25.0150,   -999.0,9
     RF98-06-2,  137E,RF-0676,  1,     14,02-13578,2,19980718,0343, 33.9943, 136.9863,  996,    100.9,  16.4064,  34.6238,2,   -999.0,9,  34.6377,4,    180.0,2,    12.14,2,  -999.00,9,     9.12,2,     0.02,2,     0.61,2, -999.000,9, -999.000,9,  -999.00,9,   -999.0,9,   -999.0,9,-999.0000,9,   -999.0,  9,  -999.00,9,   -999.0,  -999.00,9,  -999.00,9,     0.07,2,     0.08,2,   -999.0,-999.0000, -999,9,  100,  16.3902,  25.3685,   -999.0,9
     RF98-06-2,  137E,RF-0676,  1,     13,02-13590,2,19980718,0342, 33.9943, 136.9863,  996,    126.0,  16.2013,  34.6111,2,   -999.0,9,-999.0000,9,    176.4,2,    12.52,2,  -999.00,9,     9.60,2,     0.03,2,     0.65,2, -999.000,9, -999.000,9,  -999.00,9,   -999.0,9,   -999.0,9,-999.0000,9,   -999.0,  9,  -999.00,9,   -999.0,  -999.00,9,  -999.00,9,     0.07,2,     0.08,2,   -999.0,-999.0000, -999,9,  125,  16.1813,  25.4069,   -999.0,9
     RF98-06-2,  137E,RF-0676,  1,     12,02-12821,2,19980718,0341, 33.9943, 136.9863,  996,    149.5,  13.8358,  34.5282,2,   -999.0,9,-999.0000,9,    168.7,2,    20.17,2,  -999.00,9,    13.78,2,     0.01,2,     0.94,2, -999.000,9, -999.000,9,  -999.00,9,   -999.0,9,   -999.0,9,-999.0000,9,   -999.0,  9,  -999.00,9,   -999.0,  -999.00,9,  -999.00,9,     0.02,2,     0.07,2,   -999.0,-999.0000, -999,9,  148,  13.8145,  25.8612,   -999.0,9
     RF98-06-2,  137E,RF-0676,  1,     11,02-12811,2,19980718,0339, 33.9943, 136.9863,  996,    201.7,  11.3588,  34.4041,2,   -999.0,9,  34.4133,2,    155.2,2,    30.62,2,  -999.00,9,    18.96,2,     0.01,2,     1.32,2, -999.000,9, -999.000,9,  -999.00,9,   -999.0,9,   -999.0,9,-999.0000,9,   -999.0,  9,  -999.00,9,   -999.0,  -999.00,9,  -999.00,9,     0.01,2,     0.04,2,   -999.0,-999.0000, -999,9,  200,  11.3336,  26.2508,   -999.0,9
     RF98-06-2,  137E,RF-0676,  1,     10,02-12820,2,19980718,0337, 33.9943, 136.9863,  996,    251.4,  10.0062,  34.3406,2,   -999.0,9,-999.0000,9,    141.7,2,    38.44,2,  -999.00,9,    22.22,2,     0.01,2,     1.55,2, -999.000,9, -999.000,9,  -999.00,9,   -999.0,9,   -999.0,9,-999.0000,9,   -999.0,  9,  -999.00,9,   -999.0,  -999.00,9,  -999.00,9,  -999.00,9,  -999.00,9,   -999.0,-999.0000, -999,9,  249,   9.9772,  26.4409,   -999.0,9
     RF98-06-2,  137E,RF-0676,  1,      9,02-10155,2,19980718,0336, 33.9943, 136.9863,  996,    301.2,   8.5387,  34.2650,2,   -999.0,9,  34.2767,4,    133.5,2,    49.69,2,  -999.00,9,    25.73,2,     0.01,2,     1.81,2, -999.000,9, -999.000,9,  -999.00,9,   -999.0,9,   -999.0,9,-999.0000,9,   -999.0,  9,  -999.00,9,   -999.0,  -999.00,9,  -999.00,9,  -999.00,9,  -999.00,9,   -999.0,-999.0000, -999,9,  299,   8.5072,  26.6198,   -999.0,9
     RF98-06-2,  137E,RF-0676,  1,      8,02-13579,2,19980718,0334, 33.9943, 136.9863,  996,    402.9,   7.0889,  34.2285,2,   -999.0,9,-999.0000,9,    114.2,2,    63.84,2,  -999.00,9,    29.97,2,     0.00,2,     2.14,2, -999.000,9, -999.000,9,  -999.00,9,   -999.0,9,   -999.0,9,-999.0000,9,   -999.0,  9,  -999.00,9,   -999.0,  -999.00,9,  -999.00,9,  -999.00,9,  -999.00,9,   -999.0,-999.0000, -999,9,  400,   7.0508,  26.8040,   -999.0,9
     RF98-06-2,  137E,RF-0676,  1,      7,02-12815,2,19980718,0331, 33.9943, 136.9863,  996,    503.0,   5.9039,  34.2430,2,   -999.0,9,  34.2563,4,     95.0,2,    78.71,2,  -999.00,9,    33.54,2,     0.00,2,     2.41,2, -999.000,9, -999.000,9,  -999.00,9,   -999.0,9,   -999.0,9,-999.0000,9,   -999.0,  9,  -999.00,9,   -999.0,  -999.00,9,  -999.00,9,  -999.00,9,  -999.00,9,   -999.0,-999.0000, -999,9,  499,   5.8605,  26.9720,   -999.0,9
     RF98-06-2,  137E,RF-0676,  1,      6,02-12818,2,19980718,0329, 33.9943, 136.9863,  996,    604.6,   5.1114,  34.2804,2,   -999.0,9,  34.2930,2,     79.8,2,    91.21,2,  -999.00,9,    35.98,2,     0.00,2,     2.59,2, -999.000,9, -999.000,9,  -999.00,9,   -999.0,9,   -999.0,9,-999.0000,9,   -999.0,  9,  -999.00,9,   -999.0,  -999.00,9,  -999.00,9,  -999.00,9,  -999.00,9,   -999.0,-999.0000, -999,9,  599,   5.0625,  27.0975,   -999.0,9
     RF98-06-2,  137E,RF-0676,  1,      5,02-12809,2,19980718,0327, 33.9943, 136.9863,  996,    706.4,   4.3486,  34.3156,2,   -999.0,9,  34.3347,4,     70.8,2,   103.86,2,  -999.00,9,    38.11,2,     0.00,2,     2.76,2, -999.000,9, -999.000,9,  -999.00,9,   -999.0,9,   -999.0,9,-999.0000,9,   -999.0,  9,  -999.00,9,   -999.0,  -999.00,9,  -999.00,9,  -999.00,9,  -999.00,9,   -999.0,-999.0000, -999,9,  700,   4.2951,  27.2108,   -999.0,9
     RF98-06-2,  137E,RF-0676,  1,      4,02-12817,2,19980718,0324, 33.9943, 136.9863,  996,    807.1,   3.9019,  34.3581,2,   -999.0,9,  34.3758,4,     67.2,2,   112.67,2,  -999.00,9,    39.02,2,     0.00,2,     2.81,2, -999.000,9, -999.000,9,  -999.00,9,   -999.0,9,   -999.0,9,-999.0000,9,   -999.0,  9,  -999.00,9,   -999.0,  -999.00,9,  -999.00,9,  -999.00,9,  -999.00,9,   -999.0,-999.0000, -999,9,  800,   3.8428,  27.2916,   -999.0,9
     RF98-06-2,  137E,RF-0676,  1,      3,02-12808,2,19980718,0322, 33.9943, 136.9863,  996,    921.7,   3.6436,  34.3749,2,   -999.0,9,  34.3995,4,     66.3,2,   117.88,2,  -999.00,9,    39.36,2,     0.00,2,     2.84,2, -999.000,9, -999.000,9,  -999.00,9,   -999.0,9,   -999.0,9,-999.0000,9,   -999.0,  9,  -999.00,9,   -999.0,  -999.00,9,  -999.00,9,  -999.00,9,  -999.00,9,   -999.0,-999.0000, -999,9,  913,   3.5772,  27.3315,   -999.0,9
     RF98-06-2,  137E,RF-0676,  1,      2,02-13588,2,19980718,0321, 33.9943, 136.9863,  996,    920.1,   3.6481,  34.3717,2,   -999.0,9,  34.4007,4,   -999.0,9,  -999.00,9,  -999.00,9,  -999.00,9,  -999.00,9,  -999.00,9, -999.000,9, -999.000,9,  -999.00,9,   -999.0,9,   -999.0,9,-999.0000,9,   -999.0,  9,  -999.00,9,   -999.0,  -999.00,9,  -999.00,9,  -999.00,9,  -999.00,9,   -999.0,-999.0000, -999,9,  911,   3.5817,  27.3285,   -999.0,9
     RF98-06-2,  137E,RF-0676,  1,      1,02-12807,2,19980718,0320, 33.9943, 136.9863,  996,    919.5,   3.6316,  34.3804,2,   -999.0,9,  34.4017,4,   -999.0,9,  -999.00,9,  -999.00,9,  -999.00,9,  -999.00,9,  -999.00,9, -999.000,9, -999.000,9,  -999.00,9,   -999.0,9,   -999.0,9,-999.0000,9,   -999.0,  9,  -999.00,9,   -999.0,  -999.00,9,  -999.00,9,  -999.00,9,  -999.00,9,    912.0,-999.0000, -999,9,  911,   3.5654,  27.3370,   -999.0,9