BOTTLE,20130510GEMDJMAYT
EXPOCODE,SECT_ID,STNNBR,CASTNO,SAMPNO,BTLNBR,BTLNBR_FLAG_W,DATE,TIME,LATITUDE,LONGITUDE,DEPTH,CTDPRS,CTDTMP,CTDSAL,CTDSAL_FLAG_W,CTDOXY,CTDOXY_FLAG_W,SALNTY,SALNTY_FLAG_W,OXYGEN,OXYGEN_FLAG_W,SILCAT,SILCAT_FLAG_W,NITRAT,NITRAT_FLAG_W,NO2+NO3,NO2+NO3_FLAG_W,NITRIT,NITRIT_FLAG_W,PHSPHT,PHSPHT_FLAG_W,CFC-11,CFC-11_FLAG_W,CFC-12,CFC-12_FLAG_W,DELC13,DELC13_FLAG_W,TCARBN,TCARBN_FLAG_W,ALKALI,ALKALI_FLAG_W,PH,PH_FLAG_W,PH_TMP,PH_SCALE,PH_NBS,PH_NBS_FLAG_W,C13ERR,TOTALP,TOTALP_FLAG_W,AMMONI,AMMONI_FLAG_W,CHLORA,CHLORA_FLAG_W,PPHYTN,PPHYTN_FLAG_W,REVPRS,REVTMP,DEPTH_,DEPTH_FLAG,CTDDEP,THETA,SIGTHT,DOC,DOC_FLAG_W
,,,,,,,GMT,GMT,,,METER,DBAR,ITS-90,PSS-78,,UMOL/KG,,PSS-78,,UMOL/KG,,UMOL/KG,,UMOL/KG,,UMOL/KG,,UMOL/KG,,UMOL/KG,,PMOL/KG,,PMOL/KG,,/MILLE,,UMOL/KG,,UMOL/KG,,25_DEG_C,,DEG_C,,,,/MILLE,UMOL/KG,,UMOL/KG,,UG/L,,UG/L,,DBAR,ITS-90,METERS,,METERS,DEG_C,,UMOL/L,
     RF98-06-2,  137E,RF-0663,  1,     -9,      -9,5,19980713,0153, 20.0085, 137.0082, 4710,      0.0,  29.7351,  34.5392,2,   -999.0,9,-999.0000,9,    196.6,2,     1.63,2,  -999.00,9,     0.00,2,  -999.00,4,     0.05,2, -999.000,9, -999.000,9,  -999.00,9,   -999.0,9,   -999.0,9,-999.0000,9,   -999.0,  9,  -999.00,9,   -999.0,  -999.00,9,  -999.00,9,     0.13,2,     0.03,2,   -999.0,-999.0000, -999,9,    0,  29.7351,  21.4708,   -999.0,9
     RF98-06-2,  137E,RF-0663,  1,     24,02-12830,2,19980713,0150, 20.0085, 137.0082, 4710,     10.0,  29.7458,  34.5632,2,   -999.0,9,-999.0000,9,    196.1,2,     1.96,2,  -999.00,9,  -999.00,4,  -999.00,4,     0.03,2, -999.000,9, -999.000,9,  -999.00,9,   -999.0,9,   -999.0,9,-999.0000,9,   -999.0,  9,  -999.00,9,   -999.0,  -999.00,9,  -999.00,9,     0.13,2,     0.02,2,   -999.0,-999.0000, -999,9,   10,  29.7433,  21.4860,   -999.0,9
     RF98-06-2,  137E,RF-0663,  1,     23,02-12829,2,19980713,0149, 20.0085, 137.0082, 4710,     24.9,  29.7481,  34.5993,2,   -999.0,9,-999.0000,9,    198.5,2,     1.45,2,  -999.00,9,     0.01,2,  -999.00,4,     0.03,2, -999.000,9, -999.000,9,  -999.00,9,   -999.0,9,   -999.0,9,-999.0000,9,   -999.0,  9,  -999.00,9,   -999.0,  -999.00,9,  -999.00,9,     0.12,2,     0.03,2,   -999.0,-999.0000, -999,9,   25,  29.7420,  21.5136,   -999.0,9
     RF98-06-2,  137E,RF-0663,  1,     22,02-12828,2,19980713,0148, 20.0085, 137.0082, 4710,     50.0,  27.1586,  34.7428,2,   -999.0,9,-999.0000,9,    213.9,2,     1.27,2,  -999.00,9,     0.05,2,  -999.00,4,     0.02,2, -999.000,9, -999.000,9,  -999.00,9,   -999.0,9,   -999.0,9,-999.0000,9,   -999.0,  9,  -999.00,9,   -999.0,  -999.00,9,  -999.00,9,     0.13,2,     0.03,2,   -999.0,-999.0000, -999,9,   50,  27.1471,  22.4770,   -999.0,9
     RF98-06-2,  137E,RF-0663,  1,     21,02-12827,2,19980713,0146, 20.0085, 137.0082, 4710,     75.8,  25.3637,  34.7310,2,   -999.0,9,-999.0000,9,    214.6,2,     2.01,2,  -999.00,9,     0.06,2,  -999.00,4,     0.03,2, -999.000,9, -999.000,9,  -999.00,9,   -999.0,9,   -999.0,9,-999.0000,9,   -999.0,  9,  -999.00,9,   -999.0,  -999.00,9,  -999.00,9,     0.18,2,     0.05,2,   -999.0,-999.0000, -999,9,   75,  25.3471,  23.0321,   -999.0,9
     RF98-06-2,  137E,RF-0663,  1,     20,02-12826,2,19980713,0145, 20.0085, 137.0082, 4710,    101.7,  23.8739,  34.8202,2,   -999.0,9,  34.8322,4,    211.7,2,     1.79,2,  -999.00,9,     0.05,2,  -999.00,4,     0.03,2, -999.000,9, -999.000,9,  -999.00,9,   -999.0,9,   -999.0,9,-999.0000,9,   -999.0,  9,  -999.00,9,   -999.0,  -999.00,9,  -999.00,9,     0.28,2,     0.16,2,   -999.0,-999.0000, -999,9,  101,  23.8526,  23.5488,   -999.0,9
     RF98-06-2,  137E,RF-0663,  1,     19,02-12825,2,19980713,0144, 20.0085, 137.0082, 4710,    126.4,  22.3020,  34.8999,2,   -999.0,9,-999.0000,9,    195.7,2,     1.98,2,  -999.00,9,     0.69,2,  -999.00,4,     0.08,2, -999.000,9, -999.000,9,  -999.00,9,   -999.0,9,   -999.0,9,-999.0000,9,   -999.0,  9,  -999.00,9,   -999.0,  -999.00,9,  -999.00,9,     0.18,2,     0.33,2,   -999.0,-999.0000, -999,9,  126,  22.2768,  24.0639,   -999.0,9
     RF98-06-2,  137E,RF-0663,  1,     18,02-12824,3,19980713,0142, 20.0085, 137.0082, 4710,    151.0,  20.8848,  34.9276,2,   -999.0,9,-999.0000,9,    197.7,2,     2.16,2,  -999.00,9,     1.29,2,  -999.00,4,     0.12,2, -999.000,9, -999.000,9,  -999.00,9,   -999.0,9,   -999.0,9,-999.0000,9,   -999.0,  9,  -999.00,9,   -999.0,  -999.00,9,  -999.00,9,     0.08,2,     0.16,2,   -999.0,-999.0000, -999,9,  150,  20.8560,  24.4779,   -999.0,9
     RF98-06-2,  137E,RF-0663,  1,     17,02-12814,2,19980713,0141, 20.0085, 137.0082, 4710,    200.9,  18.4874,  34.8826,2,   -999.0,9,  34.8798,2,    199.7,2,     3.58,2,  -999.00,9,     3.71,2,  -999.00,4,     0.26,2, -999.000,9, -999.000,9,  -999.00,9,   -999.0,9,   -999.0,9,-999.0000,9,   -999.0,  9,  -999.00,9,   -999.0,  -999.00,9,  -999.00,9,     0.01,2,     0.02,2,   -999.0,-999.0000, -999,9,  200,  18.4523,  25.0698,   -999.0,9
     RF98-06-2,  137E,RF-0663,  1,     16,02-12832,2,19980713,0139, 20.0085, 137.0082, 4710,    252.7,  17.5193,  34.8379,2,   -999.0,9,-999.0000,9,    196.7,2,     4.20,2,  -999.00,9,     4.83,2,  -999.00,4,     0.30,2, -999.000,9, -999.000,9,  -999.00,9,   -999.0,9,   -999.0,9,-999.0000,9,   -999.0,  9,  -999.00,9,   -999.0,  -999.00,9,  -999.00,9,  -999.00,9,  -999.00,9,   -999.0,-999.0000, -999,9,  251,  17.4767,  25.2756,   -999.0,9
     RF98-06-2,  137E,RF-0663,  1,     15,02-12833,2,19980713,0137, 20.0085, 137.0082, 4710,    302.7,  16.5844,  34.7745,2,   -999.0,9,  34.7701,2,    199.2,2,     5.11,2,  -999.00,9,     6.45,2,  -999.00,4,     0.41,2, -999.000,9, -999.000,9,  -999.00,9,   -999.0,9,   -999.0,9,-999.0000,9,   -999.0,  9,  -999.00,9,   -999.0,  -999.00,9,  -999.00,9,  -999.00,9,  -999.00,9,   -999.0,-999.0000, -999,9,  301,  16.5352,  25.4506,   -999.0,9
     RF98-06-2,  137E,RF-0663,  1,     14,02-13578,2,19980713,0134, 20.0085, 137.0082, 4710,    401.9,  14.4601,  34.5852,2,   -999.0,9,-999.0000,9,    191.8,2,    10.55,2,  -999.00,9,    10.49,2,  -999.00,4,     0.67,2, -999.000,9, -999.000,9,  -999.00,9,   -999.0,9,   -999.0,9,-999.0000,9,   -999.0,  9,  -999.00,9,   -999.0,  -999.00,9,  -999.00,9,  -999.00,9,  -999.00,9,   -999.0,-999.0000, -999,9,  399,  14.4005,  25.7818,   -999.0,9
     RF98-06-2,  137E,RF-0663,  1,     13,02-13590,2,19980713,0132, 20.0085, 137.0082, 4710,    502.6,  10.6817,  34.3102,2,   -999.0,9,  34.3025,2,    174.5,2,    24.90,2,  -999.00,9,    18.66,2,  -999.00,4,     1.26,2, -999.000,9, -999.000,9,  -999.00,9,   -999.0,9,   -999.0,9,-999.0000,9,   -999.0,  9,  -999.00,9,   -999.0,  -999.00,9,  -999.00,9,  -999.00,9,  -999.00,9,   -999.0,-999.0000, -999,9,  499,  10.6205,  26.3059,   -999.0,9
     RF98-06-2,  137E,RF-0663,  1,     12,02-12821,2,19980713,0128, 20.0085, 137.0082, 4710,    705.4,   5.5536,  34.1662,2,   -999.0,9,  34.1660,2,     95.7,2,    76.20,2,  -999.00,9,    35.30,2,  -999.00,4,     2.49,2, -999.000,9, -999.000,9,  -999.00,9,   -999.0,9,   -999.0,9,-999.0000,9,   -999.0,  9,  -999.00,9,   -999.0,  -999.00,9,  -999.00,9,  -999.00,9,  -999.00,9,   -999.0,-999.0000, -999,9,  700,   5.4938,  26.9562,   -999.0,9
     RF98-06-2,  137E,RF-0663,  1,     11,02-12811,2,19980713,0125, 20.0085, 137.0082, 4710,    907.7,   4.2916,  34.4116,2,   -999.0,9,  34.4151,2,     64.1,2,   101.29,2,  -999.00,9,    39.84,2,  -999.00,4,     2.84,2, -999.000,9, -999.000,9,  -999.00,9,   -999.0,9,   -999.0,9,-999.0000,9,   -999.0,  9,  -999.00,9,   -999.0,  -999.00,9,  -999.00,9,  -999.00,9,  -999.00,9,   -999.0,-999.0000, -999,9,  900,   4.2216,  27.2948,   -999.0,9
     RF98-06-2,  137E,RF-0663,  1,      9,02-10155,2,19980713,0122, 20.0085, 137.0082, 4710,   1008.6,   3.9422,  34.4587,2,   -999.0,9,-999.0000,9,     69.9,2,   108.52,2,  -999.00,9,    39.70,2,  -999.00,4,     2.83,2, -999.000,9, -999.000,9,  -999.00,9,   -999.0,9,   -999.0,9,-999.0000,9,   -999.0,  9,  -999.00,9,   -999.0,  -999.00,9,  -999.00,9,  -999.00,9,  -999.00,9,   -999.0,-999.0000, -999,9, 1000,   3.8664,  27.3693,   -999.0,9
     RF98-06-2,  137E,RF-0663,  1,     10,02-12820,4,19980713,0122, 20.0085, 137.0082, 4710,   1009.4,   3.9419,  34.4551,2,   -999.0,9,  34.4326,4,   -999.0,4,  -999.00,9,  -999.00,9,  -999.00,9,  -999.00,9,  -999.00,9, -999.000,9, -999.000,9,  -999.00,9,   -999.0,9,   -999.0,9,-999.0000,9,   -999.0,  9,  -999.00,9,   -999.0,  -999.00,9,  -999.00,9,  -999.00,9,  -999.00,9,   -999.0,-999.0000, -999,9, 1001,   3.8660,  27.3664,   -999.0,9
     RF98-06-2,  137E,RF-0663,  1,      8,02-13579,2,19980713,0117, 20.0085, 137.0082, 4710,   1261.2,   3.1092,  34.5231,2,   -999.0,9,  34.5322,2,     82.5,2,   124.01,2,  -999.00,9,    39.53,2,  -999.00,4,     2.80,2, -999.000,9, -999.000,9,  -999.00,9,   -999.0,9,   -999.0,9,-999.0000,9,   -999.0,  9,  -999.00,9,   -999.0,  -999.00,9,  -999.00,9,  -999.00,9,  -999.00,9,   -999.0,-999.0000, -999,9, 1250,   3.0199,  27.5026,   -999.0,9
     RF98-06-2,  137E,RF-0663,  1,      7,02-12815,2,19980713,0113, 20.0085, 137.0082, 4710,   1514.7,   2.5679,  34.5738,2,   -999.0,9,  34.5790,2,     99.3,2,   131.85,2,  -999.00,9,    38.85,2,  -999.00,4,     2.74,2, -999.000,9, -999.000,9,  -999.00,9,   -999.0,9,   -999.0,9,-999.0000,9,   -999.0,  9,  -999.00,9,   -999.0,  -999.00,9,  -999.00,9,  -999.00,9,  -999.00,9,   -999.0,-999.0000, -999,9, 1500,   2.4639,  27.5922,   -999.0,9
     RF98-06-2,  137E,RF-0663,  1,      6,02-12818,2,19980713,0105, 20.0085, 137.0082, 4710,   2022.7,   2.0307,  34.6228,2,   -999.0,9,  34.6272,2,    125.3,2,   137.82,2,  -999.00,9,    38.30,2,  -999.00,4,     2.68,2, -999.000,9, -999.000,9,  -999.00,9,   -999.0,9,   -999.0,9,-999.0000,9,   -999.0,  9,  -999.00,9,   -999.0,  -999.00,9,  -999.00,9,  -999.00,9,  -999.00,9,   -999.0,-999.0000, -999,9, 2001,   1.8919,  27.6779,   -999.0,9
     RF98-06-2,  137E,RF-0663,  1,      5,02-12809,2,19980713,0057, 20.0085, 137.0082, 4710,   2530.5,   1.7756,  34.6471,2,   -999.0,9,  34.6520,2,    129.9,2,   139.39,2,  -999.00,9,    37.57,2,  -999.00,4,     2.63,2, -999.000,9, -999.000,9,  -999.00,9,   -999.0,9,   -999.0,9,-999.0000,9,   -999.0,  9,  -999.00,9,   -999.0,  -999.00,9,  -999.00,9,  -999.00,9,  -999.00,9,   -999.0,-999.0000, -999,9, 2500,   1.5967,  27.7198,   -999.0,9
     RF98-06-2,  137E,RF-0663,  1,      4,02-12817,2,19980713,0049, 20.0085, 137.0082, 4710,   3040.9,   1.6339,  34.6626,2,   -999.0,9,  34.6650,2,    141.6,2,   138.70,2,  -999.00,9,    36.91,2,  -999.00,4,     2.56,2, -999.000,9, -999.000,9,  -999.00,9,   -999.0,9,   -999.0,9,-999.0000,9,   -999.0,  9,  -999.00,9,   -999.0,  -999.00,9,  -999.00,9,  -999.00,9,  -999.00,9,   -999.0,-999.0000, -999,9, 3001,   1.4103,  27.7459,   -999.0,9
     RF98-06-2,  137E,RF-0663,  1,      3,02-12808,2,19980713,0040, 20.0085, 137.0082, 4710,   3552.6,   1.5417,  34.6758,2,   -999.0,9,  34.6768,2,    151.9,2,   136.87,2,  -999.00,9,    36.19,2,  -999.00,4,     2.51,2, -999.000,9, -999.000,9,  -999.00,9,   -999.0,9,   -999.0,9,-999.0000,9,   -999.0,  9,  -999.00,9,   -999.0,  -999.00,9,  -999.00,9,  -999.00,9,  -999.00,9,   -999.0,-999.0000, -999,9, 3502,   1.2692,  27.7665,   -999.0,9
     RF98-06-2,  137E,RF-0663,  1,      2,02-13588,2,19980713,0032, 20.0085, 137.0082, 4710,   4064.5,   1.5049,  34.6833,2,   -999.0,9,  34.6843,2,    158.4,2,   135.32,2,  -999.00,9,    35.70,2,  -999.00,4,     2.47,2, -999.000,9, -999.000,9,  -999.00,9,   -999.0,9,   -999.0,9,-999.0000,9,   -999.0,  9,  -999.00,9,   -999.0,  -999.00,9,  -999.00,9,  -999.00,9,  -999.00,9,   -999.0,-999.0000, -999,9, 4001,   1.1788,  27.7787,   -999.0,9
     RF98-06-2,  137E,RF-0663,  1,      1,02-12807,2,19980713,0024, 20.0085, 137.0082, 4710,   4583.9,   1.5469,  34.6838,2,   -999.0,9,  34.6847,2,    164.0,2,   134.59,2,  -999.00,9,    35.53,2,  -999.00,4,     2.46,2, -999.000,9, -999.000,9,  -999.00,9,   -999.0,9,   -999.0,9,-999.0000,9,   -999.0,  9,  -999.00,9,   -999.0,  -999.00,9,  -999.00,9,  -999.00,9,  -999.00,9,   4583.0,-999.0000, -999,9, 4507,   1.1608,  27.7804,   -999.0,9