BOTTLE,20130510GEMDJMAYT
EXPOCODE,SECT_ID,STNNBR,CASTNO,SAMPNO,BTLNBR,BTLNBR_FLAG_W,DATE,TIME,LATITUDE,LONGITUDE,DEPTH,CTDPRS,CTDTMP,CTDSAL,CTDSAL_FLAG_W,CTDOXY,CTDOXY_FLAG_W,SALNTY,SALNTY_FLAG_W,OXYGEN,OXYGEN_FLAG_W,SILCAT,SILCAT_FLAG_W,NITRAT,NITRAT_FLAG_W,NO2+NO3,NO2+NO3_FLAG_W,NITRIT,NITRIT_FLAG_W,PHSPHT,PHSPHT_FLAG_W,CFC-11,CFC-11_FLAG_W,CFC-12,CFC-12_FLAG_W,DELC13,DELC13_FLAG_W,TCARBN,TCARBN_FLAG_W,ALKALI,ALKALI_FLAG_W,PH,PH_FLAG_W,PH_TMP,PH_SCALE,PH_NBS,PH_NBS_FLAG_W,C13ERR,TOTALP,TOTALP_FLAG_W,AMMONI,AMMONI_FLAG_W,CHLORA,CHLORA_FLAG_W,PPHYTN,PPHYTN_FLAG_W,REVPRS,REVTMP,DEPTH_,DEPTH_FLAG,CTDDEP,THETA,SIGTHT,DOC,DOC_FLAG_W
,,,,,,,GMT,GMT,,,METER,DBAR,ITS-90,PSS-78,,UMOL/KG,,PSS-78,,UMOL/KG,,UMOL/KG,,UMOL/KG,,UMOL/KG,,UMOL/KG,,UMOL/KG,,PMOL/KG,,PMOL/KG,,/MILLE,,UMOL/KG,,UMOL/KG,,25_DEG_C,,DEG_C,,,,/MILLE,UMOL/KG,,UMOL/KG,,UG/L,,UG/L,,DBAR,ITS-90,METERS,,METERS,DEG_C,,UMOL/L,
     RF98-06-2,  137E,RF-0653,  1,     -9,      -9,5,19980710,0929, 10.0332, 136.9662, 5146,      0.0,  29.8656,  34.3980,2,   -999.0,9,-999.0000,9,    195.5,2,     2.20,2,  -999.00,9,     0.10,2,     0.00,2,     0.06,2, -999.000,9, -999.000,9,  -999.00,9,   -999.0,9,   -999.0,9,-999.0000,9,   -999.0,  9,  -999.00,9,   -999.0,  -999.00,9,  -999.00,9,     0.07,2,     0.00,2,   -999.0,-999.0000, -999,9,    0,  29.8656,  21.3207,   -999.0,9
     RF98-06-2,  137E,RF-0653,  1,     24,02-12830,2,19980710,0926, 10.0332, 136.9662, 5146,     10.7,  29.7076,  34.3889,2,   -999.0,9,-999.0000,9,    195.8,2,     2.23,2,  -999.00,9,     0.00,2,     0.00,2,     0.06,2, -999.000,9, -999.000,9,  -999.00,9,   -999.0,9,   -999.0,9,-999.0000,9,   -999.0,  9,  -999.00,9,   -999.0,  -999.00,9,  -999.00,9,     0.07,2,     0.01,2,   -999.0,-999.0000, -999,9,   11,  29.7050,  21.3684,   -999.0,9
     RF98-06-2,  137E,RF-0653,  1,     23,02-12829,2,19980710,0925, 10.0332, 136.9662, 5146,     26.1,  29.4796,  34.6252,2,   -999.0,9,-999.0000,9,    199.3,2,     2.01,2,  -999.00,9,     0.05,2,     0.00,2,     0.05,2, -999.000,9, -999.000,9,  -999.00,9,   -999.0,9,   -999.0,9,-999.0000,9,   -999.0,  9,  -999.00,9,   -999.0,  -999.00,9,  -999.00,9,     0.07,2,     0.02,2,   -999.0,-999.0000, -999,9,   26,  29.4732,  21.6239,   -999.0,9
     RF98-06-2,  137E,RF-0653,  1,     22,02-12828,2,19980710,0924, 10.0332, 136.9662, 5146,     51.0,  29.3721,  34.6569,2,   -999.0,9,-999.0000,9,    197.1,2,     1.44,2,  -999.00,9,     0.07,2,     0.00,2,     0.04,2, -999.000,9, -999.000,9,  -999.00,9,   -999.0,9,   -999.0,9,-999.0000,9,   -999.0,  9,  -999.00,9,   -999.0,  -999.00,9,  -999.00,9,     0.09,2,     0.02,2,   -999.0,-999.0000, -999,9,   51,  29.3597,  21.6859,   -999.0,9
     RF98-06-2,  137E,RF-0653,  1,     21,02-12827,2,19980710,0923, 10.0332, 136.9662, 5146,     76.3,  27.6954,  34.7075,2,   -999.0,9,  34.7109,2,    199.1,2,     1.67,2,  -999.00,9,     0.05,2,     0.00,2,     0.08,2, -999.000,9, -999.000,9,  -999.00,9,   -999.0,9,   -999.0,9,-999.0000,9,   -999.0,  9,  -999.00,9,   -999.0,  -999.00,9,  -999.00,9,     0.28,2,     0.21,2,   -999.0,-999.0000, -999,9,   76,  27.6776,  22.2796,   -999.0,9
     RF98-06-2,  137E,RF-0653,  1,     20,02-12826,2,19980710,0922, 10.0332, 136.9662, 5146,    102.4,  22.8503,  34.7274,2,   -999.0,9,-999.0000,9,    181.1,2,     3.70,2,  -999.00,9,     2.84,2,     0.47,2,     0.29,2, -999.000,9, -999.000,9,  -999.00,9,   -999.0,9,   -999.0,9,-999.0000,9,   -999.0,  9,  -999.00,9,   -999.0,  -999.00,9,  -999.00,9,     0.29,2,     0.41,2,   -999.0,-999.0000, -999,9,  102,  22.8295,  23.7759,   -999.0,9
     RF98-06-2,  137E,RF-0653,  1,     19,02-12825,2,19980710,0920, 10.0332, 136.9662, 5146,    126.0,  20.5727,  34.7687,2,   -999.0,9,-999.0000,9,    171.0,2,     5.49,2,  -999.00,9,     5.00,2,     0.29,2,     0.43,2, -999.000,9, -999.000,9,  -999.00,9,   -999.0,9,   -999.0,9,-999.0000,9,   -999.0,  9,  -999.00,9,   -999.0,  -999.00,9,  -999.00,9,     0.16,2,     0.25,2,   -999.0,-999.0000, -999,9,  125,  20.5490,  24.4395,   -999.0,9
     RF98-06-2,  137E,RF-0653,  1,     18,02-12824,2,19980710,0919, 10.0332, 136.9662, 5146,    152.3,  18.8707,  34.7968,2,   -999.0,9,-999.0000,9,    169.7,2,     6.32,2,  -999.00,9,     6.61,2,     0.07,2,     0.51,2, -999.000,9, -999.000,9,  -999.00,9,   -999.0,9,   -999.0,9,-999.0000,9,   -999.0,  9,  -999.00,9,   -999.0,  -999.00,9,  -999.00,9,     0.10,2,     0.20,2,   -999.0,-999.0000, -999,9,  151,  18.8437,  24.9056,   -999.0,9
     RF98-06-2,  137E,RF-0653,  1,     17,02-12814,2,19980710,0917, 10.0332, 136.9662, 5146,    203.1,  14.2957,  34.5696,2,   -999.0,9,  34.5804,4,    145.3,2,    15.08,2,  -999.00,9,    15.28,2,     0.01,2,     1.05,2, -999.000,9, -999.000,9,  -999.00,9,   -999.0,9,   -999.0,9,-999.0000,9,   -999.0,  9,  -999.00,9,   -999.0,  -999.00,9,  -999.00,9,     0.05,2,     0.06,2,   -999.0,-999.0000, -999,9,  202,  14.2660,  25.7983,   -999.0,9
     RF98-06-2,  137E,RF-0653,  1,     16,02-12832,2,19980710,0916, 10.0332, 136.9662, 5146,    252.6,  11.0977,  34.4815,2,   -999.0,9,-999.0000,9,     98.6,2,    27.99,2,  -999.00,9,    25.26,2,     0.00,2,     1.77,2, -999.000,9, -999.000,9,  -999.00,9,   -999.0,9,   -999.0,9,-999.0000,9,   -999.0,  9,  -999.00,9,   -999.0,  -999.00,9,  -999.00,9,  -999.00,9,  -999.00,9,   -999.0,-999.0000, -999,9,  251,  11.0665,  26.3597,   -999.0,9
     RF98-06-2,  137E,RF-0653,  1,     15,02-12833,2,19980710,0914, 10.0332, 136.9662, 5146,    304.7,   9.3990,  34.4617,2,   -999.0,9,  34.4618,2,     82.1,2,    37.64,2,  -999.00,9,    30.27,2,     0.00,2,     2.12,2, -999.000,9, -999.000,9,  -999.00,9,   -999.0,9,   -999.0,9,-999.0000,9,   -999.0,  9,  -999.00,9,   -999.0,  -999.00,9,  -999.00,9,  -999.00,9,  -999.00,9,   -999.0,-999.0000, -999,9,  303,   9.3651,  26.6376,   -999.0,9
     RF98-06-2,  137E,RF-0653,  1,     14,02-13578,2,19980710,0911, 10.0332, 136.9662, 5146,    404.0,   8.0143,  34.4945,2,   -999.0,9,-999.0000,9,     76.2,2,    45.75,2,  -999.00,9,    33.91,2,     0.00,2,     2.36,2, -999.000,9, -999.000,9,  -999.00,9,   -999.0,9,   -999.0,9,-999.0000,9,   -999.0,  9,  -999.00,9,   -999.0,  -999.00,9,  -999.00,9,  -999.00,9,  -999.00,9,   -999.0,-999.0000, -999,9,  401,   7.9731,  26.8808,   -999.0,9
     RF98-06-2,  137E,RF-0653,  1,     13,02-13590,2,19980710,0908, 10.0332, 136.9662, 5146,    505.9,   7.3035,  34.5138,2,   -999.0,9,  34.5165,2,     77.9,2,    51.00,2,  -999.00,9,    35.18,2,     0.00,2,     2.44,2, -999.000,9, -999.000,9,  -999.00,9,   -999.0,9,   -999.0,9,-999.0000,9,   -999.0,  9,  -999.00,9,   -999.0,  -999.00,9,  -999.00,9,  -999.00,9,  -999.00,9,   -999.0,-999.0000, -999,9,  502,   7.2542,  27.0003,   -999.0,9
     RF98-06-2,  137E,RF-0653,  1,     12,02-12821,2,19980710,0906, 10.0332, 136.9662, 5146,    606.6,   6.6541,  34.5130,2,   -999.0,9,  34.5138,2,     80.9,2,    56.41,2,  -999.00,9,    35.99,2,     0.00,2,     2.52,2, -999.000,9, -999.000,9,  -999.00,9,   -999.0,9,   -999.0,9,-999.0000,9,   -999.0,  9,  -999.00,9,   -999.0,  -999.00,9,  -999.00,9,  -999.00,9,  -999.00,9,   -999.0,-999.0000, -999,9,  602,   6.5977,  27.0899,   -999.0,9
     RF98-06-2,  137E,RF-0653,  1,     11,02-12811,2,19980710,0902, 10.0332, 136.9662, 5146,    809.0,   5.6665,  34.5231,2,   -999.0,9,  34.5413,4,     81.3,2,    70.61,2,  -999.00,9,    37.82,2,     0.00,2,     2.67,2, -999.000,9, -999.000,9,  -999.00,9,   -999.0,9,   -999.0,9,-999.0000,9,   -999.0,  9,  -999.00,9,   -999.0,  -999.00,9,  -999.00,9,  -999.00,9,  -999.00,9,   -999.0,-999.0000, -999,9,  803,   5.5961,  27.2262,   -999.0,9
     RF98-06-2,  137E,RF-0653,  1,     10,02-12820,2,19980710,0857, 10.0332, 136.9662, 5146,   1012.4,   4.7059,  34.5385,2,   -999.0,9,  34.5421,2,     83.3,2,    87.71,2,  -999.00,9,    38.78,2,     0.00,2,     2.74,2, -999.000,9, -999.000,9,  -999.00,9,   -999.0,9,   -999.0,9,-999.0000,9,   -999.0,  9,  -999.00,9,   -999.0,  -999.00,9,  -999.00,9,  -999.00,9,  -999.00,9,   -999.0,-999.0000, -999,9, 1004,   4.6236,  27.3521,   -999.0,9
     RF98-06-2,  137E,RF-0653,  1,      9,02-10155,2,19980710,0857, 10.0332, 136.9662, 5146,   1010.1,   4.7197,  34.5412,2,   -999.0,9,-999.0000,9,     83.3,2,    86.87,2,  -999.00,9,    38.81,2,     0.00,2,     2.75,2, -999.000,9, -999.000,9,  -999.00,9,   -999.0,9,   -999.0,9,-999.0000,9,   -999.0,  9,  -999.00,9,   -999.0,  -999.00,9,  -999.00,9,  -999.00,9,  -999.00,9,   -999.0,-999.0000, -999,9, 1002,   4.6376,  27.3526,   -999.0,9
     RF98-06-2,  137E,RF-0653,  1,      8,02-13579,2,19980710,0852, 10.0332, 136.9662, 5146,   1262.6,   3.7575,  34.5660,2,   -999.0,9,  34.5669,2,     93.0,2,   105.17,2,  -999.00,9,    38.94,2,     0.00,2,     2.75,2, -999.000,9, -999.000,9,  -999.00,9,   -999.0,9,   -999.0,9,-999.0000,9,   -999.0,  9,  -999.00,9,   -999.0,  -999.00,9,  -999.00,9,  -999.00,9,  -999.00,9,   -999.0,-999.0000, -999,9, 1252,   3.6617,  27.4753,   -999.0,9
     RF98-06-2,  137E,RF-0653,  1,      7,02-12815,2,19980710,0847, 10.0332, 136.9662, 5146,   1516.6,   2.9481,  34.5959,2,   -999.0,9,  34.5975,2,    100.8,2,   120.68,2,  -999.00,9,    39.08,2,     0.00,2,     2.74,2, -999.000,9, -999.000,9,  -999.00,9,   -999.0,9,   -999.0,9,-999.0000,9,   -999.0,  9,  -999.00,9,   -999.0,  -999.00,9,  -999.00,9,  -999.00,9,  -999.00,9,   -999.0,-999.0000, -999,9, 1503,   2.8394,  27.5771,   -999.0,9
     RF98-06-2,  137E,RF-0653,  1,      6,02-12818,2,19980710,0839, 10.0332, 136.9662, 5146,   2023.3,   2.2864,  34.6278,2,   -999.0,9,  34.6286,2,    114.2,2,   132.73,2,  -999.00,9,    38.58,2,     0.00,2,     2.70,2, -999.000,9, -999.000,9,  -999.00,9,   -999.0,9,   -999.0,9,-999.0000,9,   -999.0,  9,  -999.00,9,   -999.0,  -999.00,9,  -999.00,9,  -999.00,9,  -999.00,9,   -999.0,-999.0000, -999,9, 2002,   2.1436,  27.6620,   -999.0,9
     RF98-06-2,  137E,RF-0653,  1,      5,02-12809,2,19980710,0830, 10.0332, 136.9662, 5146,   2532.9,   1.8759,  34.6509,2,   -999.0,9,  34.6562,2,    126.4,2,   140.00,2,  -999.00,9,    38.03,2,     0.00,2,     2.64,2, -999.000,9, -999.000,9,  -999.00,9,   -999.0,9,   -999.0,9,-999.0000,9,   -999.0,  9,  -999.00,9,   -999.0,  -999.00,9,  -999.00,9,  -999.00,9,  -999.00,9,   -999.0,-999.0000, -999,9, 2503,   1.6950,  27.7156,   -999.0,9
     RF98-06-2,  137E,RF-0653,  1,      4,02-12817,2,19980710,0822, 10.0332, 136.9662, 5146,   3042.5,   1.6280,  34.6681,2,   -999.0,9,  34.6764,2,    142.4,2,   139.22,2,  -999.00,9,    36.97,2,     0.00,2,     2.55,2, -999.000,9, -999.000,9,  -999.00,9,   -999.0,9,   -999.0,9,-999.0000,9,   -999.0,  9,  -999.00,9,   -999.0,  -999.00,9,  -999.00,9,  -999.00,9,  -999.00,9,   -999.0,-999.0000, -999,9, 3004,   1.4044,  27.7507,   -999.0,9
     RF98-06-2,  137E,RF-0653,  1,      3,02-12808,2,19980710,0814, 10.0332, 136.9662, 5146,   3552.1,   1.5535,  34.6767,2,   -999.0,9,  34.6810,2,    151.3,2,   137.42,2,  -999.00,9,    36.37,2,     0.00,2,     2.51,2, -999.000,9, -999.000,9,  -999.00,9,   -999.0,9,   -999.0,9,-999.0000,9,   -999.0,  9,  -999.00,9,   -999.0,  -999.00,9,  -999.00,9,  -999.00,9,  -999.00,9,   -999.0,-999.0000, -999,9, 3503,   1.2807,  27.7664,   -999.0,9
     RF98-06-2,  137E,RF-0653,  1,      2,02-13588,2,19980710,0807, 10.0332, 136.9662, 5146,   4063.7,   1.5383,  34.6825,2,   -999.0,9,  34.6816,2,    157.1,2,   135.97,2,  -999.00,9,    35.99,2,     0.00,2,     2.48,2, -999.000,9, -999.000,9,  -999.00,9,   -999.0,9,   -999.0,9,-999.0000,9,   -999.0,  9,  -999.00,9,   -999.0,  -999.00,9,  -999.00,9,  -999.00,9,  -999.00,9,   -999.0,-999.0000, -999,9, 4002,   1.2114,  27.7759,   -999.0,9
     RF98-06-2,  137E,RF-0653,  1,      1,02-12807,2,19980710,0754, 10.0332, 136.9662, 5146,   4994.2,   1.5776,  34.6883,2,   -999.0,9,  34.6867,2,    166.5,2,   133.96,2,  -999.00,9,    35.47,2,     0.00,2,     2.44,2, -999.000,9, -999.000,9,  -999.00,9,   -999.0,9,   -999.0,9,-999.0000,9,   -999.0,  9,  -999.00,9,   -999.0,  -999.00,9,  -999.00,9,  -999.00,9,  -999.00,9,   4999.0,-999.0000, -999,9, 4909,   1.1414,  27.7854,   -999.0,9