BOTTLE,20130510GEMDJMAYT
EXPOCODE,SECT_ID,STNNBR,CASTNO,SAMPNO,BTLNBR,BTLNBR_FLAG_W,DATE,TIME,LATITUDE,LONGITUDE,DEPTH,CTDPRS,CTDTMP,CTDSAL,CTDSAL_FLAG_W,CTDOXY,CTDOXY_FLAG_W,SALNTY,SALNTY_FLAG_W,OXYGEN,OXYGEN_FLAG_W,SILCAT,SILCAT_FLAG_W,NITRAT,NITRAT_FLAG_W,NO2+NO3,NO2+NO3_FLAG_W,NITRIT,NITRIT_FLAG_W,PHSPHT,PHSPHT_FLAG_W,CFC-11,CFC-11_FLAG_W,CFC-12,CFC-12_FLAG_W,DELC13,DELC13_FLAG_W,TCARBN,TCARBN_FLAG_W,ALKALI,ALKALI_FLAG_W,PH,PH_FLAG_W,PH_TMP,PH_SCALE,PH_NBS,PH_NBS_FLAG_W,C13ERR,TOTALP,TOTALP_FLAG_W,AMMONI,AMMONI_FLAG_W,CHLORA,CHLORA_FLAG_W,PPHYTN,PPHYTN_FLAG_W,REVPRS,REVTMP,DEPTH_,DEPTH_FLAG,CTDDEP,THETA,SIGTHT,DOC,DOC_FLAG_W
,,,,,,,GMT,GMT,,,METER,DBAR,ITS-90,PSS-78,,UMOL/KG,,PSS-78,,UMOL/KG,,UMOL/KG,,UMOL/KG,,UMOL/KG,,UMOL/KG,,UMOL/KG,,PMOL/KG,,PMOL/KG,,/MILLE,,UMOL/KG,,UMOL/KG,,25_DEG_C,,DEG_C,,,,/MILLE,UMOL/KG,,UMOL/KG,,UG/L,,UG/L,,DBAR,ITS-90,METERS,,METERS,DEG_C,,UMOL/L,
     RF98-06-2,  142E,RF-0643,  1,     -9,      -9,5,19980706,0929, -0.0017, 141.9912, 3393,      0.0,  29.4830,  34.6249,2,   -999.0,9,-999.0000,9,    197.8,2,     1.65,2,  -999.00,9,     0.04,2,     0.00,2,     0.16,2, -999.000,9, -999.000,9,  -999.00,9,   -999.0,9,   -999.0,9,-999.0000,9,   -999.0,  9,     8.26,2,   -999.0,  -999.00,9,  -999.00,9,     0.11,2,     0.04,2,   -999.0,-999.0000, -999,9,    0,  29.4830,  21.6204,   -999.0,9
     RF98-06-2,  142E,RF-0643,  1,     21,02-12827,2,19980706,0926, -0.0017, 141.9912, 3393,      9.6,  29.4955,  34.6317,2,   -999.0,9,-999.0000,9,    197.0,2,     1.14,2,  -999.00,9,     0.03,2,     0.00,2,     0.16,2, -999.000,9, -999.000,9,  -999.00,9,   -999.0,9,   -999.0,9,-999.0000,9,   -999.0,  9,     8.26,2,   -999.0,  -999.00,9,  -999.00,9,     0.10,2,     0.05,2,   -999.0,-999.0000, -999,9,   10,  29.4932,  21.6221,   -999.0,9
     RF98-06-2,  142E,RF-0643,  1,     20,02-12826,2,19980706,0925, -0.0017, 141.9912, 3393,     24.8,  29.5152,  34.6450,2,   -999.0,9,-999.0000,9,    200.4,2,     1.35,2,  -999.00,9,     0.00,2,     0.00,2,     0.14,2, -999.000,9, -999.000,9,  -999.00,9,   -999.0,9,   -999.0,9,-999.0000,9,   -999.0,  9,     8.26,2,   -999.0,  -999.00,9,  -999.00,9,     0.11,2,     0.04,2,   -999.0,-999.0000, -999,9,   25,  29.5091,  21.6267,   -999.0,9
     RF98-06-2,  142E,RF-0643,  1,     19,02-12825,2,19980706,0924, -0.0017, 141.9912, 3393,     49.9,  29.5233,  34.6698,2,   -999.0,9,-999.0000,9,    197.1,2,     1.26,2,  -999.00,9,     0.03,2,     0.00,2,     0.14,2, -999.000,9, -999.000,9,  -999.00,9,   -999.0,9,   -999.0,9,-999.0000,9,   -999.0,  9,     8.26,2,   -999.0,  -999.00,9,  -999.00,9,     0.16,2,     0.07,2,   -999.0,-999.0000, -999,9,   50,  29.5111,  21.6446,   -999.0,9
     RF98-06-2,  142E,RF-0643,  1,     18,02-12824,2,19980706,0922, -0.0017, 141.9912, 3393,     77.1,  28.9179,  34.7969,2,   -999.0,9,  34.7873,2,    194.1,2,     0.48,2,  -999.00,9,     0.14,2,     0.01,2,     0.15,2, -999.000,9, -999.000,9,  -999.00,9,   -999.0,9,   -999.0,9,-999.0000,9,   -999.0,  9,     8.24,2,   -999.0,  -999.00,9,  -999.00,9,     0.35,2,     0.26,2,   -999.0,-999.0000, -999,9,   77,  28.8993,  21.9452,   -999.0,9
     RF98-06-2,  142E,RF-0643,  1,     17,02-12814,2,19980706,0921, -0.0017, 141.9912, 3393,    101.0,  26.6930,  35.1267,2,   -999.0,9,-999.0000,9,    169.2,2,     1.46,2,  -999.00,9,     3.42,2,     0.08,2,     0.30,2, -999.000,9, -999.000,9,  -999.00,9,   -999.0,9,   -999.0,9,-999.0000,9,   -999.0,  9,     8.19,2,   -999.0,  -999.00,9,  -999.00,9,     0.24,2,     0.41,2,   -999.0,-999.0000, -999,9,  100,  26.6700,  22.9182,   -999.0,9
     RF98-06-2,  142E,RF-0643,  1,     16,02-12832,2,19980706,0920, -0.0017, 141.9912, 3393,    126.4,  22.2937,  35.4484,2,   -999.0,9,-999.0000,9,    160.1,2,     3.29,2,  -999.00,9,     7.76,2,     0.03,2,     0.61,2, -999.000,9, -999.000,9,  -999.00,9,   -999.0,9,   -999.0,9,-999.0000,9,   -999.0,  9,     8.11,2,   -999.0,  -999.00,9,  -999.00,9,     0.04,2,     0.10,2,   -999.0,-999.0000, -999,9,  126,  22.2684,  24.4829,   -999.0,9
     RF98-06-2,  142E,RF-0643,  1,     15,02-12833,2,19980706,0918, -0.0017, 141.9912, 3393,    150.8,  18.6986,  35.4496,2,   -999.0,9,-999.0000,9,    145.5,2,     4.27,2,  -999.00,9,    10.94,2,     0.01,2,     0.81,2, -999.000,9, -999.000,9,  -999.00,9,   -999.0,9,   -999.0,9,-999.0000,9,   -999.0,  9,     8.04,2,   -999.0,  -999.00,9,  -999.00,9,     0.01,2,     0.03,2,   -999.0,-999.0000, -999,9,  150,  18.6720,  25.4484,   -999.0,9
     RF98-06-2,  142E,RF-0643,  1,     14,02-13578,2,19980706,0917, -0.0017, 141.9912, 3393,    201.3,  16.1155,  35.2399,2,   -999.0,9,  35.2329,2,    147.7,2,     8.59,2,  -999.00,9,    14.18,2,     0.01,2,     1.00,2, -999.000,9, -999.000,9,  -999.00,9,   -999.0,9,   -999.0,9,-999.0000,9,   -999.0,  9,     7.99,2,   -999.0,  -999.00,9,  -999.00,9,     0.00,2,     0.02,2,   -999.0,-999.0000, -999,9,  200,  16.0834,  25.9131,   -999.0,9
     RF98-06-2,  142E,RF-0643,  1,     13,02-13590,2,19980706,0915, -0.0017, 141.9912, 3393,    250.9,  11.2905,  34.5564,2,   -999.0,9,-999.0000,9,    120.9,2,    30.78,2,  -999.00,9,    23.55,2,     0.01,2,     1.63,2, -999.000,9, -999.000,9,  -999.00,9,   -999.0,9,   -999.0,9,-999.0000,9,   -999.0,  9,     7.85,2,   -999.0,  -999.00,9,  -999.00,9,  -999.00,9,  -999.00,9,   -999.0,-999.0000, -999,9,  249,  11.2591,  26.3830,   -999.0,9
     RF98-06-2,  142E,RF-0643,  1,     12,02-12821,2,19980706,0913, -0.0017, 141.9912, 3393,    301.3,  11.4831,  34.8447,2,   -999.0,9,  34.8387,2,    121.6,2,    19.10,2,  -999.00,9,    23.87,2,     0.00,2,     1.64,2, -999.000,9, -999.000,9,  -999.00,9,   -999.0,9,   -999.0,9,-999.0000,9,   -999.0,  9,     7.85,2,   -999.0,  -999.00,9,  -999.00,9,  -999.00,9,  -999.00,9,   -999.0,-999.0000, -999,9,  299,  11.4448,  26.5730,   -999.0,9
     RF98-06-2,  142E,RF-0643,  1,     11,02-12811,2,19980706,0911, -0.0017, 141.9912, 3393,    401.7,  10.4338,  34.7624,2,   -999.0,9,-999.0000,9,     95.0,2,    24.47,2,  -999.00,9,    28.39,2,     0.00,2,     1.94,2, -999.000,9, -999.000,9,  -999.00,9,   -999.0,9,   -999.0,9,-999.0000,9,   -999.0,  9,  -999.00,9,   -999.0,  -999.00,9,  -999.00,9,  -999.00,9,  -999.00,9,   -999.0,-999.0000, -999,9,  399,  10.3856,  26.6998,   -999.0,9
     RF98-06-2,  142E,RF-0643,  1,     10,02-12820,2,19980706,0909, -0.0017, 141.9912, 3393,    502.7,   8.3873,  34.6208,2,   -999.0,9,  34.6129,2,    113.5,2,    32.02,2,  -999.00,9,    30.37,2,     0.00,2,     2.07,2, -999.000,9, -999.000,9,  -999.00,9,   -999.0,9,   -999.0,9,-999.0000,9,   -999.0,  9,  -999.00,9,   -999.0,  -999.00,9,  -999.00,9,  -999.00,9,  -999.00,9,   -999.0,-999.0000, -999,9,  499,   8.3342,  26.9255,   -999.0,9
     RF98-06-2,  142E,RF-0643,  1,      9,02-10155,2,19980706,0906, -0.0017, 141.9912, 3393,    604.6,   7.0224,  34.5628,2,   -999.0,9,  34.5594,2,    105.3,2,    40.78,2,  -999.00,9,    33.88,2,     0.00,2,     2.36,2, -999.000,9, -999.000,9,  -999.00,9,   -999.0,9,   -999.0,9,-999.0000,9,   -999.0,  9,  -999.00,9,   -999.0,  -999.00,9,  -999.00,9,  -999.00,9,  -999.00,9,   -999.0,-999.0000, -999,9,  600,   6.9644,  27.0793,   -999.0,9
     RF98-06-2,  142E,RF-0643,  1,      8,02-13579,2,19980706,0903, -0.0017, 141.9912, 3393,    704.3,   6.1702,  34.5427,2,   -999.0,9,  34.5413,2,    106.5,2,    51.06,2,  -999.00,9,    35.37,2,     0.00,2,     2.48,2, -999.000,9, -999.000,9,  -999.00,9,   -999.0,9,   -999.0,9,-999.0000,9,   -999.0,  9,  -999.00,9,   -999.0,  -999.00,9,  -999.00,9,  -999.00,9,  -999.00,9,   -999.0,-999.0000, -999,9,  699,   6.1067,  27.1777,   -999.0,9
     RF98-06-2,  142E,RF-0643,  1,      7,02-12815,2,19980706,0901, -0.0017, 141.9912, 3393,    804.7,   5.5548,  34.5382,2,   -999.0,9,  34.5379,2,    115.1,2,    58.75,2,  -999.00,9,    35.80,2,     0.00,2,     2.51,2, -999.000,9, -999.000,9,  -999.00,9,   -999.0,9,   -999.0,9,-999.0000,9,   -999.0,  9,  -999.00,9,   -999.0,  -999.00,9,  -999.00,9,  -999.00,9,  -999.00,9,   -999.0,-999.0000, -999,9,  799,   5.4854,  27.2517,   -999.0,9
     RF98-06-2,  142E,RF-0643,  1,      6,02-12818,2,19980706,0858, -0.0017, 141.9912, 3393,    906.5,   4.8962,  34.5429,2,   -999.0,9,-999.0000,9,    106.5,2,    72.60,2,  -999.00,9,    36.80,2,     0.00,2,     2.60,2, -999.000,9, -999.000,9,  -999.00,9,   -999.0,9,   -999.0,9,-999.0000,9,   -999.0,  9,  -999.00,9,   -999.0,  -999.00,9,  -999.00,9,  -999.00,9,  -999.00,9,   -999.0,-999.0000, -999,9,  900,   4.8219,  27.3332,   -999.0,9
     RF98-06-2,  142E,RF-0643,  1,      5,02-12809,2,19980706,0856, -0.0017, 141.9912, 3393,   1005.9,   4.4103,  34.5541,2,   -999.0,9,  34.5525,2,     99.6,2,    82.10,2,  -999.00,9,    38.09,2,     0.00,2,     2.71,2, -999.000,9, -999.000,9,  -999.00,9,   -999.0,9,   -999.0,9,-999.0000,9,   -999.0,  9,  -999.00,9,   -999.0,  -999.00,9,  -999.00,9,  -999.00,9,  -999.00,9,   -999.0,-999.0000, -999,9,  998,   4.3309,  27.3964,   -999.0,9
     RF98-06-2,  142E,RF-0643,  1,      4,02-12817,2,19980706,0850, -0.0017, 141.9912, 3393,   1261.9,   3.5621,  34.5826,2,   -999.0,9,  34.5844,2,    102.0,2,   103.04,2,  -999.00,9,    38.30,2,     0.00,2,     2.72,2, -999.000,9, -999.000,9,  -999.00,9,   -999.0,9,   -999.0,9,-999.0000,9,   -999.0,  9,  -999.00,9,   -999.0,  -999.00,9,  -999.00,9,  -999.00,9,  -999.00,9,   -999.0,-999.0000, -999,9, 1251,   3.4683,  27.5077,   -999.0,9
     RF98-06-2,  142E,RF-0643,  1,      3,02-12808,2,19980706,0845, -0.0017, 141.9912, 3393,   1513.1,   2.8862,  34.6051,2,   -999.0,9,  34.6093,2,    108.9,2,   115.59,2,  -999.00,9,    38.23,2,     0.00,2,     2.71,2, -999.000,9, -999.000,9,  -999.00,9,   -999.0,9,   -999.0,9,-999.0000,9,   -999.0,  9,  -999.00,9,   -999.0,  -999.00,9,  -999.00,9,  -999.00,9,  -999.00,9,   -999.0,-999.0000, -999,9, 1499,   2.7785,  27.5899,   -999.0,9
     RF98-06-2,  142E,RF-0643,  1,      2,02-13588,2,19980706,0841, -0.0017, 141.9912, 3393,   1767.6,   2.4834,  34.6233,2,   -999.0,9,  34.6029,4,    114.4,2,   124.08,2,  -999.00,9,    38.10,2,     0.00,2,     2.69,2, -999.000,9, -999.000,9,  -999.00,9,   -999.0,9,   -999.0,9,-999.0000,9,   -999.0,  9,  -999.00,9,   -999.0,  -999.00,9,  -999.00,9,  -999.00,9,  -999.00,9,   -999.0,-999.0000, -999,9, 1750,   2.3595,  27.6406,   -999.0,9
     RF98-06-2,  142E,RF-0643,  1,      1,02-12807,2,19980706,0834, -0.0017, 141.9912, 3393,   2035.3,   2.1770,  34.6354,2,   -999.0,9,  34.6448,4,    119.8,2,   130.37,2,  -999.00,9,    37.78,2,     0.00,2,     2.64,2, -999.000,9, -999.000,9,  -999.00,9,   -999.0,9,   -999.0,9,-999.0000,9,   -999.0,  9,  -999.00,9,   -999.0,  -999.00,9,  -999.00,9,  -999.00,9,  -999.00,9,   2021.0,-999.0000, -999,9, 2014,   2.0349,  27.6768,   -999.0,9