BOTTLE,20130510GEMDJMAYT
EXPOCODE,SECT_ID,STNNBR,CASTNO,SAMPNO,BTLNBR,BTLNBR_FLAG_W,DATE,TIME,LATITUDE,LONGITUDE,DEPTH,CTDPRS,CTDTMP,CTDSAL,CTDSAL_FLAG_W,CTDOXY,CTDOXY_FLAG_W,SALNTY,SALNTY_FLAG_W,OXYGEN,OXYGEN_FLAG_W,SILCAT,SILCAT_FLAG_W,NITRAT,NITRAT_FLAG_W,NO2+NO3,NO2+NO3_FLAG_W,NITRIT,NITRIT_FLAG_W,PHSPHT,PHSPHT_FLAG_W,CFC-11,CFC-11_FLAG_W,CFC-12,CFC-12_FLAG_W,DELC13,DELC13_FLAG_W,TCARBN,TCARBN_FLAG_W,ALKALI,ALKALI_FLAG_W,PH,PH_FLAG_W,PH_TMP,PH_SCALE,PH_NBS,PH_NBS_FLAG_W,C13ERR,TOTALP,TOTALP_FLAG_W,AMMONI,AMMONI_FLAG_W,CHLORA,CHLORA_FLAG_W,PPHYTN,PPHYTN_FLAG_W,REVPRS,REVTMP,DEPTH_,DEPTH_FLAG,CTDDEP,THETA,SIGTHT,DOC,DOC_FLAG_W
,,,,,,,GMT,GMT,,,METER,DBAR,ITS-90,PSS-78,,UMOL/KG,,PSS-78,,UMOL/KG,,UMOL/KG,,UMOL/KG,,UMOL/KG,,UMOL/KG,,UMOL/KG,,PMOL/KG,,PMOL/KG,,/MILLE,,UMOL/KG,,UMOL/KG,,25_DEG_C,,DEG_C,,,,/MILLE,UMOL/KG,,UMOL/KG,,UG/L,,UG/L,,DBAR,ITS-90,METERS,,METERS,DEG_C,,UMOL/L,
     RF98-06-2,  137E,RF-0673,  1,     -9,      -9,5,19980715,1901, 30.0195, 136.9590, 4355,      0.0,  27.3082,  34.2755,2,   -999.0,9,-999.0000,9,    204.7,2,     1.65,2,  -999.00,9,     0.12,2,     0.00,2,     0.03,2, -999.000,9, -999.000,9,  -999.00,9,   -999.0,9,   -999.0,9,-999.0000,9,   -999.0,  9,  -999.00,9,   -999.0,  -999.00,9,  -999.00,9,     0.08,2,     0.03,2,   -999.0,-999.0000, -999,9,    0,  27.3082,  22.0736,   -999.0,9
     RF98-06-2,  137E,RF-0673,  1,     23,02-12829,2,19980715,1859, 30.0195, 136.9590, 4355,     12.0,  27.3198,  34.2855,2,   -999.0,9,-999.0000,9,    204.5,2,     1.52,2,  -999.00,9,     0.04,2,     0.00,2,     0.02,2, -999.000,9, -999.000,9,  -999.00,9,   -999.0,9,   -999.0,9,-999.0000,9,   -999.0,  9,  -999.00,9,   -999.0,  -999.00,9,  -999.00,9,     0.09,2,     0.02,2,   -999.0,-999.0000, -999,9,   12,  27.3170,  22.0784,   -999.0,9
     RF98-06-2,  137E,RF-0673,  1,     22,02-12828,2,19980715,1858, 30.0195, 136.9590, 4355,     25.0,  26.2940,  34.3273,2,   -999.0,9,-999.0000,9,    216.4,2,     1.40,2,  -999.00,9,     0.05,2,     0.00,2,     0.01,2, -999.000,9, -999.000,9,  -999.00,9,   -999.0,9,   -999.0,9,-999.0000,9,   -999.0,  9,  -999.00,9,   -999.0,  -999.00,9,  -999.00,9,     0.10,2,     0.01,2,   -999.0,-999.0000, -999,9,   25,  26.2884,  22.4359,   -999.0,9
     RF98-06-2,  137E,RF-0673,  1,     21,02-12827,2,19980715,1856, 30.0195, 136.9590, 4355,     52.6,  23.4743,  34.5585,2,   -999.0,9,-999.0000,9,    221.5,2,     1.17,2,  -999.00,9,     0.05,2,     0.00,2,     0.02,2, -999.000,9, -999.000,9,  -999.00,9,   -999.0,9,   -999.0,9,-999.0000,9,   -999.0,  9,  -999.00,9,   -999.0,  -999.00,9,  -999.00,9,     0.16,2,     0.04,2,   -999.0,-999.0000, -999,9,   52,  23.4634,  23.4647,   -999.0,9
     RF98-06-2,  137E,RF-0673,  1,     20,02-12826,2,19980715,1855, 30.0195, 136.9590, 4355,     77.0,  22.5353,  34.7264,2,   -999.0,9,-999.0000,9,    220.0,2,     1.63,2,  -999.00,9,     0.00,2,     0.00,2,     0.02,2, -999.000,9, -999.000,9,  -999.00,9,   -999.0,9,   -999.0,9,-999.0000,9,   -999.0,  9,  -999.00,9,   -999.0,  -999.00,9,  -999.00,9,     0.21,2,     0.08,2,   -999.0,-999.0000, -999,9,   76,  22.5199,  23.8634,   -999.0,9
     RF98-06-2,  137E,RF-0673,  1,     19,02-12825,2,19980715,1853, 30.0195, 136.9590, 4355,    102.6,  21.6210,  34.7300,2,   -999.0,9,  34.7644,4,    217.7,2,     1.82,2,  -999.00,9,     0.03,2,     0.00,2,     0.03,2, -999.000,9, -999.000,9,  -999.00,9,   -999.0,9,   -999.0,9,-999.0000,9,   -999.0,  9,  -999.00,9,   -999.0,  -999.00,9,  -999.00,9,     0.31,2,     0.25,2,   -999.0,-999.0000, -999,9,  102,  21.6010,  24.1236,   -999.0,9
     RF98-06-2,  137E,RF-0673,  1,     18,02-12824,2,19980715,1852, 30.0195, 136.9590, 4355,    127.2,  20.4730,  34.7973,2,   -999.0,9,-999.0000,9,    207.8,2,     2.88,2,  -999.00,9,     1.37,2,     0.08,2,     0.10,2, -999.000,9, -999.000,9,  -999.00,9,   -999.0,9,   -999.0,9,-999.0000,9,   -999.0,  9,  -999.00,9,   -999.0,  -999.00,9,  -999.00,9,     0.24,2,     0.38,2,   -999.0,-999.0000, -999,9,  126,  20.4491,  24.4880,   -999.0,9
     RF98-06-2,  137E,RF-0673,  1,     17,02-12814,2,19980715,1851, 30.0195, 136.9590, 4355,    151.6,  19.5819,  34.8098,2,   -999.0,9,-999.0000,9,    214.2,2,     2.60,2,  -999.00,9,     1.57,2,     0.03,2,     0.12,2, -999.000,9, -999.000,9,  -999.00,9,   -999.0,9,   -999.0,9,-999.0000,9,   -999.0,  9,  -999.00,9,   -999.0,  -999.00,9,  -999.00,9,     0.09,2,     0.09,2,   -999.0,-999.0000, -999,9,  150,  19.5543,  24.7332,   -999.0,9
     RF98-06-2,  137E,RF-0673,  1,     16,02-12832,2,19980715,1849, 30.0195, 136.9590, 4355,    202.6,  18.7671,  34.8018,2,   -999.0,9,  34.8042,2,    216.5,2,     3.03,2,  -999.00,9,     1.86,2,     0.01,2,     0.15,2, -999.000,9, -999.000,9,  -999.00,9,   -999.0,9,   -999.0,9,-999.0000,9,   -999.0,  9,  -999.00,9,   -999.0,  -999.00,9,  -999.00,9,     0.03,2,     0.05,2,   -999.0,-999.0000, -999,9,  201,  18.7314,  24.9378,   -999.0,9
     RF98-06-2,  137E,RF-0673,  1,     15,02-12833,2,19980715,1847, 30.0195, 136.9590, 4355,    252.3,  18.2982,  34.7811,2,   -999.0,9,-999.0000,9,    209.4,2,     2.99,2,  -999.00,9,     2.81,2,     0.01,2,     0.20,2, -999.000,9, -999.000,9,  -999.00,9,   -999.0,9,   -999.0,9,-999.0000,9,   -999.0,  9,  -999.00,9,   -999.0,  -999.00,9,  -999.00,9,  -999.00,9,  -999.00,9,   -999.0,-999.0000, -999,9,  250,  18.2543,  25.0415,   -999.0,9
     RF98-06-2,  137E,RF-0673,  1,     14,02-13578,2,19980715,1846, 30.0195, 136.9590, 4355,    303.3,  17.9017,  34.8072,2,   -999.0,9,  34.8046,2,    204.7,2,     4.05,2,  -999.00,9,     4.20,2,     0.00,2,     0.27,2, -999.000,9, -999.000,9,  -999.00,9,   -999.0,9,   -999.0,9,-999.0000,9,   -999.0,  9,  -999.00,9,   -999.0,  -999.00,9,  -999.00,9,  -999.00,9,  -999.00,9,   -999.0,-999.0000, -999,9,  301,  17.8498,  25.1613,   -999.0,9
     RF98-06-2,  137E,RF-0673,  1,     13,02-13590,2,19980715,1843, 30.0195, 136.9590, 4355,    403.0,  16.4579,  34.7414,2,   -999.0,9,-999.0000,9,    191.5,2,     7.66,2,  -999.00,9,     7.49,2,     0.01,2,     0.48,2, -999.000,9, -999.000,9,  -999.00,9,   -999.0,9,   -999.0,9,-999.0000,9,   -999.0,  9,  -999.00,9,   -999.0,  -999.00,9,  -999.00,9,  -999.00,9,  -999.00,9,   -999.0,-999.0000, -999,9,  400,  16.3927,  25.4583,   -999.0,9
     RF98-06-2,  137E,RF-0673,  1,     12,02-12821,2,19980715,1840, 30.0195, 136.9590, 4355,    505.7,  14.1754,  34.5784,2,   -999.0,9,  34.5726,2,    182.2,2,    14.80,2,  -999.00,9,    12.07,2,     0.01,2,     0.79,2, -999.000,9, -999.000,9,  -999.00,9,   -999.0,9,   -999.0,9,-999.0000,9,   -999.0,  9,  -999.00,9,   -999.0,  -999.00,9,  -999.00,9,  -999.00,9,  -999.00,9,   -999.0,-999.0000, -999,9,  502,  14.1012,  25.8400,   -999.0,9
     RF98-06-2,  137E,RF-0673,  1,     11,02-12811,2,19980715,1836, 30.0195, 136.9590, 4355,    707.5,   8.2882,  34.1554,2,   -999.0,9,  34.1432,2,    157.8,2,    42.61,2,  -999.00,9,    24.30,2,     0.01,2,     1.69,2, -999.000,9, -999.000,9,  -999.00,9,   -999.0,9,   -999.0,9,-999.0000,9,   -999.0,  9,  -999.00,9,   -999.0,  -999.00,9,  -999.00,9,  -999.00,9,  -999.00,9,   -999.0,-999.0000, -999,9,  701,   8.2137,  26.5786,   -999.0,9
     RF98-06-2,  137E,RF-0673,  1,     10,02-12820,2,19980715,1831, 30.0195, 136.9590, 4355,    908.8,   5.3105,  34.1946,2,   -999.0,9,  34.1976,2,     89.1,2,    83.52,2,  -999.00,9,    35.87,2,     0.02,2,     2.53,2, -999.000,9, -999.000,9,  -999.00,9,   -999.0,9,   -999.0,9,-999.0000,9,   -999.0,  9,  -999.00,9,   -999.0,  -999.00,9,  -999.00,9,  -999.00,9,  -999.00,9,   -999.0,-999.0000, -999,9,  901,   5.2337,  27.0096,   -999.0,9
     RF98-06-2,  137E,RF-0673,  1,      9,02-10155,2,19980715,1828, 30.0195, 136.9590, 4355,   1008.2,   4.4339,  34.2537,2,   -999.0,9,  34.2561,2,     70.2,2,    99.58,2,  -999.00,9,    38.64,2,     0.02,2,     2.74,2, -999.000,9, -999.000,9,  -999.00,9,   -999.0,9,   -999.0,9,-999.0000,9,   -999.0,  9,  -999.00,9,   -999.0,  -999.00,9,  -999.00,9,  -999.00,9,  -999.00,9,   -999.0,-999.0000, -999,9,  999,   4.3546,  27.1553,   -999.0,9
     RF98-06-2,  137E,RF-0673,  1,      8,02-13579,2,19980715,1823, 30.0195, 136.9590, 4355,   1262.8,   3.3343,  34.4113,2,   -999.0,9,  34.4145,2,     60.7,2,   124.14,2,  -999.00,9,    40.83,2,     0.02,2,     2.90,2, -999.000,9, -999.000,9,  -999.00,9,   -999.0,9,   -999.0,9,-999.0000,9,   -999.0,  9,  -999.00,9,   -999.0,  -999.00,9,  -999.00,9,  -999.00,9,  -999.00,9,   -999.0,-999.0000, -999,9, 1250,   3.2429,  27.3926,   -999.0,9
     RF98-06-2,  137E,RF-0673,  1,      7,02-12815,2,19980715,1817, 30.0195, 136.9590, 4355,   1515.8,   2.6747,  34.5005,2,   -999.0,9,  34.5025,2,     73.4,2,   135.76,2,  -999.00,9,    40.51,2,     0.01,2,     2.88,2, -999.000,9, -999.000,9,  -999.00,9,   -999.0,9,   -999.0,9,-999.0000,9,   -999.0,  9,  -999.00,9,   -999.0,  -999.00,9,  -999.00,9,  -999.00,9,  -999.00,9,   -999.0,-999.0000, -999,9, 1500,   2.5695,  27.5245,   -999.0,9
     RF98-06-2,  137E,RF-0673,  1,      6,02-12818,2,19980715,1806, 30.0195, 136.9590, 4355,   2024.0,   2.0094,  34.5984,2,   -999.0,9,  34.5987,2,    105.8,2,   140.46,2,  -999.00,9,    38.77,2,     0.01,2,     2.72,2, -999.000,9, -999.000,9,  -999.00,9,   -999.0,9,   -999.0,9,-999.0000,9,   -999.0,  9,  -999.00,9,   -999.0,  -999.00,9,  -999.00,9,  -999.00,9,  -999.00,9,   -999.0,-999.0000, -999,9, 2001,   1.8709,  27.6601,   -999.0,9
     RF98-06-2,  137E,RF-0673,  1,      5,02-12809,2,19980715,1757, 30.0195, 136.9590, 4355,   2533.1,   1.7180,  34.6429,2,   -999.0,9,  34.6428,2,    129.6,2,   139.05,2,  -999.00,9,    37.46,2,     0.00,2,     2.62,2, -999.000,9, -999.000,9,  -999.00,9,   -999.0,9,   -999.0,9,-999.0000,9,   -999.0,  9,  -999.00,9,   -999.0,  -999.00,9,  -999.00,9,  -999.00,9,  -999.00,9,   -999.0,-999.0000, -999,9, 2501,   1.5401,  27.7207,   -999.0,9
     RF98-06-2,  137E,RF-0673,  1,      4,02-12817,2,19980715,1748, 30.0195, 136.9590, 4355,   3040.4,   1.5717,  34.6662,2,   -999.0,9,  34.6623,2,    145.2,2,   138.14,2,  -999.00,9,    36.72,2,     0.00,2,     2.56,2, -999.000,9, -999.000,9,  -999.00,9,   -999.0,9,   -999.0,9,-999.0000,9,   -999.0,  9,  -999.00,9,   -999.0,  -999.00,9,  -999.00,9,  -999.00,9,  -999.00,9,   -999.0,-999.0000, -999,9, 2998,   1.3495,  27.7531,   -999.0,9
     RF98-06-2,  137E,RF-0673,  1,      3,02-12808,2,19980715,1740, 30.0195, 136.9590, 4355,   3552.9,   1.5260,  34.6771,2,   -999.0,9,  34.6755,2,    151.6,2,   137.03,2,  -999.00,9,    36.28,2,     0.01,2,     2.52,2, -999.000,9, -999.000,9,  -999.00,9,   -999.0,9,   -999.0,9,-999.0000,9,   -999.0,  9,  -999.00,9,   -999.0,  -999.00,9,  -999.00,9,  -999.00,9,  -999.00,9,   -999.0,-999.0000, -999,9, 3499,   1.2538,  27.7686,   -999.0,9
     RF98-06-2,  137E,RF-0673,  1,      2,02-13588,2,19980715,1733, 30.0195, 136.9590, 4355,   4064.0,   1.5435,  34.6804,2,   -999.0,9,  34.6764,2,    155.1,2,   136.80,2,  -999.00,9,    35.94,2,     0.01,2,     2.50,2, -999.000,9, -999.000,9,  -999.00,9,   -999.0,9,   -999.0,9,-999.0000,9,   -999.0,  9,  -999.00,9,   -999.0,  -999.00,9,  -999.00,9,  -999.00,9,  -999.00,9,   -999.0,-999.0000, -999,9, 3998,   1.2164,  27.7739,   -999.0,9
     RF98-06-2,  137E,RF-0673,  1,      1,02-12807,2,19980715,1730, 30.0195, 136.9590, 4355,   4187.2,   1.5520,  34.6812,2,   -999.0,9,  34.6723,4,    155.0,2,   136.84,2,  -999.00,9,    35.83,2,     0.00,2,     2.49,2, -999.000,9, -999.000,9,  -999.00,9,   -999.0,9,   -999.0,9,-999.0000,9,   -999.0,  9,  -999.00,9,   -999.0,  -999.00,9,  -999.00,9,  -999.00,9,  -999.00,9,   4178.0,-999.0000, -999,9, 4118,   1.2110,  27.7749,   -999.0,9