BOTTLE,20130510GEMDJMAYT
EXPOCODE,SECT_ID,STNNBR,CASTNO,SAMPNO,BTLNBR,BTLNBR_FLAG_W,DATE,TIME,LATITUDE,LONGITUDE,DEPTH,CTDPRS,CTDTMP,CTDSAL,CTDSAL_FLAG_W,CTDOXY,CTDOXY_FLAG_W,SALNTY,SALNTY_FLAG_W,OXYGEN,OXYGEN_FLAG_W,SILCAT,SILCAT_FLAG_W,NITRAT,NITRAT_FLAG_W,NO2+NO3,NO2+NO3_FLAG_W,NITRIT,NITRIT_FLAG_W,PHSPHT,PHSPHT_FLAG_W,CFC-11,CFC-11_FLAG_W,CFC-12,CFC-12_FLAG_W,DELC13,DELC13_FLAG_W,TCARBN,TCARBN_FLAG_W,ALKALI,ALKALI_FLAG_W,PH,PH_FLAG_W,PH_TMP,PH_SCALE,PH_NBS,PH_NBS_FLAG_W,C13ERR,TOTALP,TOTALP_FLAG_W,AMMONI,AMMONI_FLAG_W,CHLORA,CHLORA_FLAG_W,PPHYTN,PPHYTN_FLAG_W,REVPRS,REVTMP,DEPTH_,DEPTH_FLAG,CTDDEP,THETA,SIGTHT,DOC,DOC_FLAG_W
,,,,,,,GMT,GMT,,,METER,DBAR,ITS-90,PSS-78,,UMOL/KG,,PSS-78,,UMOL/KG,,UMOL/KG,,UMOL/KG,,UMOL/KG,,UMOL/KG,,UMOL/KG,,PMOL/KG,,PMOL/KG,,/MILLE,,UMOL/KG,,UMOL/KG,,25_DEG_C,,DEG_C,,,,/MILLE,UMOL/KG,,UMOL/KG,,UG/L,,UG/L,,DBAR,ITS-90,METERS,,METERS,DEG_C,,UMOL/L,
     RF98-06-2,  137E,RF-0648,  1,     -9,      -9,5,19980709,0057,  4.9957, 137.0017, 5084,      0.0,  30.1122,  34.4136,2,   -999.0,9,-999.0000,9,    195.0,2,     1.18,2,  -999.00,9,     0.06,2,     0.00,2,     0.14,2, -999.000,9, -999.000,9,  -999.00,9,   -999.0,9,   -999.0,9,-999.0000,9,   -999.0,  9,  -999.00,9,   -999.0,  -999.00,9,  -999.00,9,     0.07,2,     0.01,2,   -999.0,-999.0000, -999,9,    0,  30.1122,  21.2483,   -999.0,9
     RF98-06-2,  137E,RF-0648,  1,     23,02-12829,2,19980709,0054,  4.9957, 137.0017, 5084,      9.1,  29.8299,  34.4197,2,   -999.0,9,-999.0000,9,    195.8,2,     1.50,2,  -999.00,9,     0.00,2,     0.00,2,     0.11,2, -999.000,9, -999.000,9,  -999.00,9,   -999.0,9,   -999.0,9,-999.0000,9,   -999.0,  9,  -999.00,9,   -999.0,  -999.00,9,  -999.00,9,     0.06,2,     0.01,2,   -999.0,-999.0000, -999,9,    9,  29.8277,  21.3498,   -999.0,9
     RF98-06-2,  137E,RF-0648,  1,     22,02-12828,2,19980709,0053,  4.9957, 137.0017, 5084,     25.5,  29.7537,  34.4223,2,   -999.0,9,-999.0000,9,    198.3,2,     1.12,2,  -999.00,9,     0.05,2,     0.00,2,     0.11,2, -999.000,9, -999.000,9,  -999.00,9,   -999.0,9,   -999.0,9,-999.0000,9,   -999.0,  9,  -999.00,9,   -999.0,  -999.00,9,  -999.00,9,     0.06,2,     0.02,2,   -999.0,-999.0000, -999,9,   25,  29.7474,  21.3790,   -999.0,9
     RF98-06-2,  137E,RF-0648,  1,     21,02-12827,2,19980709,0052,  4.9957, 137.0017, 5084,     50.1,  29.6036,  34.4943,2,   -999.0,9,-999.0000,9,    196.7,2,     1.17,2,  -999.00,9,     0.07,2,     0.00,2,     0.10,2, -999.000,9, -999.000,9,  -999.00,9,   -999.0,9,   -999.0,9,-999.0000,9,   -999.0,  9,  -999.00,9,   -999.0,  -999.00,9,  -999.00,9,     0.06,2,     0.02,2,   -999.0,-999.0000, -999,9,   50,  29.5913,  21.4858,   -999.0,9
     RF98-06-2,  137E,RF-0648,  1,     20,02-12826,2,19980709,0050,  4.9957, 137.0017, 5084,     78.8,  29.0439,  34.9925,2,   -999.0,9,  34.9671,4,    201.4,2,     1.02,2,  -999.00,9,     0.10,2,     0.00,2,     0.10,2, -999.000,9, -999.000,9,  -999.00,9,   -999.0,9,   -999.0,9,-999.0000,9,   -999.0,  9,  -999.00,9,   -999.0,  -999.00,9,  -999.00,9,     0.10,2,     0.05,2,   -999.0,-999.0000, -999,9,   78,  29.0248,  22.0502,   -999.0,9
     RF98-06-2,  137E,RF-0648,  1,     19,02-12825,2,19980709,0049,  4.9957, 137.0017, 5084,    100.7,  28.4771,  34.9652,2,   -999.0,9,-999.0000,9,    195.8,2,     1.20,2,  -999.00,9,     0.08,2,     0.00,2,     0.12,2, -999.000,9, -999.000,9,  -999.00,9,   -999.0,9,   -999.0,9,-999.0000,9,   -999.0,  9,  -999.00,9,   -999.0,  -999.00,9,  -999.00,9,     0.18,2,     0.14,2,   -999.0,-999.0000, -999,9,  100,  28.4531,  22.2196,   -999.0,9
     RF98-06-2,  137E,RF-0648,  1,     18,02-12824,2,19980709,0047,  4.9957, 137.0017, 5084,    124.7,  26.3992,  34.7994,2,   -999.0,9,-999.0000,9,    178.4,2,     2.73,2,  -999.00,9,     2.20,2,     0.31,2,     0.23,2, -999.000,9, -999.000,9,  -999.00,9,   -999.0,9,   -999.0,9,-999.0000,9,   -999.0,  9,  -999.00,9,   -999.0,  -999.00,9,  -999.00,9,     0.22,2,     0.38,2,   -999.0,-999.0000, -999,9,  124,  26.3711,  22.7659,   -999.0,9
     RF98-06-2,  137E,RF-0648,  1,     17,02-12814,2,19980709,0046,  4.9957, 137.0017, 5084,    150.7,  20.6587,  34.6936,2,   -999.0,9,-999.0000,9,    158.9,2,     6.83,2,  -999.00,9,     8.01,2,     0.02,2,     0.58,2, -999.000,9, -999.000,9,  -999.00,9,   -999.0,9,   -999.0,9,-999.0000,9,   -999.0,  9,  -999.00,9,   -999.0,  -999.00,9,  -999.00,9,     0.05,2,     0.09,2,   -999.0,-999.0000, -999,9,  150,  20.6302,  24.3605,   -999.0,9
     RF98-06-2,  137E,RF-0648,  1,     16,02-12832,2,19980709,0044,  4.9957, 137.0017, 5084,    201.3,  13.6696,  34.6162,2,   -999.0,9,  34.5800,4,    117.2,2,    20.95,2,  -999.00,9,    20.81,2,     0.00,2,     1.42,2, -999.000,9, -999.000,9,  -999.00,9,   -999.0,9,   -999.0,9,-999.0000,9,   -999.0,  9,  -999.00,9,   -999.0,  -999.00,9,  -999.00,9,     0.01,2,     0.04,2,   -999.0,-999.0000, -999,9,  200,  13.6411,  25.9652,   -999.0,9
     RF98-06-2,  137E,RF-0648,  1,     15,02-12833,2,19980709,0043,  4.9957, 137.0017, 5084,    252.2,  10.0196,  34.5491,2,   -999.0,9,-999.0000,9,     78.9,2,    33.28,2,  -999.00,9,    30.08,2,     0.00,2,     2.09,2, -999.000,9, -999.000,9,  -999.00,9,   -999.0,9,   -999.0,9,-999.0000,9,   -999.0,  9,  -999.00,9,   -999.0,  -999.00,9,  -999.00,9,  -999.00,9,  -999.00,9,   -999.0,-999.0000, -999,9,  251,   9.9904,  26.6015,   -999.0,9
     RF98-06-2,  137E,RF-0648,  1,     14,02-13578,4,19980709,0041,  4.9957, 137.0017, 5084,    301.8,   9.0276,  34.6041,2,   -999.0,9,-999.0000,9,   -999.0,4,  -999.00,4,  -999.00,9,  -999.00,4,  -999.00,4,  -999.00,4, -999.000,9, -999.000,9,  -999.00,9,   -999.0,9,   -999.0,9,-999.0000,9,   -999.0,  9,  -999.00,9,   -999.0,  -999.00,9,  -999.00,9,  -999.00,9,  -999.00,9,   -999.0,-999.0000, -999,9,  300,   8.9947,  26.8089,   -999.0,9
     RF98-06-2,  137E,RF-0648,  1,     13,02-13590,2,19980709,0039,  4.9957, 137.0017, 5084,    401.8,   7.9299,  34.5797,2,   -999.0,9,  34.5787,2,     72.8,2,    42.30,2,  -999.00,9,    34.90,2,     0.00,2,     2.43,2, -999.000,9, -999.000,9,  -999.00,9,   -999.0,9,   -999.0,9,-999.0000,9,   -999.0,  9,  -999.00,9,   -999.0,  -999.00,9,  -999.00,9,  -999.00,9,  -999.00,9,   -999.0,-999.0000, -999,9,  399,   7.8892,  26.9602,   -999.0,9
     RF98-06-2,  137E,RF-0648,  1,     12,02-12821,2,19980709,0037,  4.9957, 137.0017, 5084,    502.8,   7.0953,  34.5509,2,   -999.0,9,  34.5497,2,     76.7,2,    49.80,2,  -999.00,9,    36.19,2,     0.00,2,     2.54,2, -999.000,9, -999.000,9,  -999.00,9,   -999.0,9,   -999.0,9,-999.0000,9,   -999.0,  9,  -999.00,9,   -999.0,  -999.00,9,  -999.00,9,  -999.00,9,  -999.00,9,   -999.0,-999.0000, -999,9,  499,   7.0471,  27.0585,   -999.0,9
     RF98-06-2,  137E,RF-0648,  1,     11,02-12811,2,19980709,0034,  4.9957, 137.0017, 5084,    603.9,   6.2336,  34.5372,2,   -999.0,9,  34.5338,2,     86.1,2,    58.90,2,  -999.00,9,    36.73,2,     0.00,2,     2.59,2, -999.000,9, -999.000,9,  -999.00,9,   -999.0,9,   -999.0,9,-999.0000,9,   -999.0,  9,  -999.00,9,   -999.0,  -999.00,9,  -999.00,9,  -999.00,9,  -999.00,9,   -999.0,-999.0000, -999,9,  600,   6.1793,  27.1640,   -999.0,9
     RF98-06-2,  137E,RF-0648,  1,     10,02-12820,4,19980709,0030,  4.9957, 137.0017, 5084,    805.7,   5.2578,  34.5339,2,   -999.0,9,-999.0000,9,   -999.0,4,  -999.00,4,  -999.00,9,  -999.00,4,  -999.00,4,  -999.00,4, -999.000,9, -999.000,9,  -999.00,9,   -999.0,9,   -999.0,9,-999.0000,9,   -999.0,  9,  -999.00,9,   -999.0,  -999.00,9,  -999.00,9,  -999.00,9,  -999.00,9,   -999.0,-999.0000, -999,9,  800,   5.1902,  27.2835,   -999.0,9
     RF98-06-2,  137E,RF-0648,  1,      9,02-10155,2,19980709,0027,  4.9957, 137.0017, 5084,   1007.5,   4.5193,  34.5579,2,   -999.0,9,  34.5549,2,     94.5,2,    86.28,2,  -999.00,9,    38.46,2,     0.00,2,     2.74,2, -999.000,9, -999.000,9,  -999.00,9,   -999.0,9,   -999.0,9,-999.0000,9,   -999.0,  9,  -999.00,9,   -999.0,  -999.00,9,  -999.00,9,  -999.00,9,  -999.00,9,   -999.0,-999.0000, -999,9, 1000,   4.4389,  27.3878,   -999.0,9
     RF98-06-2,  137E,RF-0648,  1,      8,02-13579,2,19980709,0022,  4.9957, 137.0017, 5084,   1260.8,   3.7517,  34.5744,2,   -999.0,9,  34.5726,2,     95.8,2,   103.57,2,  -999.00,9,    38.78,2,     0.00,2,     2.75,2, -999.000,9, -999.000,9,  -999.00,9,   -999.0,9,   -999.0,9,-999.0000,9,   -999.0,  9,  -999.00,9,   -999.0,  -999.00,9,  -999.00,9,  -999.00,9,  -999.00,9,   -999.0,-999.0000, -999,9, 1250,   3.6561,  27.4826,   -999.0,9
     RF98-06-2,  137E,RF-0648,  1,      7,02-12815,2,19980709,0018,  4.9957, 137.0017, 5084,   1513.2,   2.9962,  34.6016,2,   -999.0,9,  34.5952,2,    102.5,2,   117.94,2,  -999.00,9,    38.91,2,     0.00,2,     2.76,2, -999.000,9, -999.000,9,  -999.00,9,   -999.0,9,   -999.0,9,-999.0000,9,   -999.0,  9,  -999.00,9,   -999.0,  -999.00,9,  -999.00,9,  -999.00,9,  -999.00,9,   -999.0,-999.0000, -999,9, 1499,   2.8873,  27.5773,   -999.0,9
     RF98-06-2,  137E,RF-0648,  1,      6,02-12818,2,19980709,0009,  4.9957, 137.0017, 5084,   2022.3,   2.1855,  34.6432,2,   -999.0,9,  34.6369,2,    116.3,2,   133.24,2,  -999.00,9,    38.51,2,     0.00,2,     2.71,2, -999.000,9, -999.000,9,  -999.00,9,   -999.0,9,   -999.0,9,-999.0000,9,   -999.0,  9,  -999.00,9,   -999.0,  -999.00,9,  -999.00,9,  -999.00,9,  -999.00,9,   -999.0,-999.0000, -999,9, 2001,   2.0443,  27.6823,   -999.0,9
     RF98-06-2,  137E,RF-0648,  1,      5,02-12809,2,19980709,0001,  4.9957, 137.0017, 5084,   2530.8,   1.7647,  34.6635,2,   -999.0,9,  34.6627,2,    133.6,2,   138.46,2,  -999.00,9,    37.48,2,     0.00,2,     2.61,2, -999.000,9, -999.000,9,  -999.00,9,   -999.0,9,   -999.0,9,-999.0000,9,   -999.0,  9,  -999.00,9,   -999.0,  -999.00,9,  -999.00,9,  -999.00,9,  -999.00,9,   -999.0,-999.0000, -999,9, 2502,   1.5860,  27.7338,   -999.0,9
     RF98-06-2,  137E,RF-0648,  1,      4,02-12817,2,19980708,2353,  4.9957, 137.0017, 5084,   3041.2,   1.5855,  34.6760,2,   -999.0,9,  34.6733,2,    145.2,2,   138.34,2,  -999.00,9,    36.72,2,     0.00,2,     2.55,2, -999.000,9, -999.000,9,  -999.00,9,   -999.0,9,   -999.0,9,-999.0000,9,   -999.0,  9,  -999.00,9,   -999.0,  -999.00,9,  -999.00,9,  -999.00,9,  -999.00,9,   -999.0,-999.0000, -999,9, 3003,   1.3629,  27.7601,   -999.0,9
     RF98-06-2,  137E,RF-0648,  1,      3,02-12808,2,19980708,2344,  4.9957, 137.0017, 5084,   3552.7,   1.5396,  34.6828,2,   -999.0,9,  34.6816,2,    151.1,2,   138.09,2,  -999.00,9,    36.28,2,     0.00,2,     2.52,2, -999.000,9, -999.000,9,  -999.00,9,   -999.0,9,   -999.0,9,-999.0000,9,   -999.0,  9,  -999.00,9,   -999.0,  -999.00,9,  -999.00,9,  -999.00,9,  -999.00,9,   -999.0,-999.0000, -999,9, 3504,   1.2670,  27.7722,   -999.0,9
     RF98-06-2,  137E,RF-0648,  1,      2,02-13588,2,19980708,2336,  4.9957, 137.0017, 5084,   4064.4,   1.5139,  34.6892,2,   -999.0,9,  34.6869,2,    157.5,2,   137.12,2,  -999.00,9,    35.89,2,     0.00,2,     2.48,2, -999.000,9, -999.000,9,  -999.00,9,   -999.0,9,   -999.0,9,-999.0000,9,   -999.0,  9,  -999.00,9,   -999.0,  -999.00,9,  -999.00,9,  -999.00,9,  -999.00,9,   -999.0,-999.0000, -999,9, 4004,   1.1875,  27.7829,   -999.0,9
     RF98-06-2,  137E,RF-0648,  1,      1,02-12807,2,19980708,2323,  4.9957, 137.0017, 5084,   4894.2,   1.5469,  34.6938,2,   -999.0,9,  34.6902,2,    163.5,2,   134.75,2,  -999.00,9,    35.44,2,     0.00,2,     2.45,2, -999.000,9, -999.000,9,  -999.00,9,   -999.0,9,   -999.0,9,-999.0000,9,   -999.0,  9,  -999.00,9,   -999.0,  -999.00,9,  -999.00,9,  -999.00,9,  -999.00,9,   4898.0,-999.0000, -999,9, 4812,   1.1239,  27.7909,   -999.0,9