BOTTLE,20130607MIRCJHATS
EXPOCODE,SECT_ID,STNNBR,CASTNO,SAMPNO,BTLNBR,BTLNBR_FLAG_W,DATE,TIME,LATITUDE,LONGITUDE,DEPTH,CTDPRS,CTDTMP,CTDSAL,CTDSAL_FLAG_W,CTDOXY,CTDOXY_FLAG_W,SALNTY,SALNTY_FLAG_W,OXYGEN,OXYGEN_FLAG_W,SILCAT,SILCAT_FLAG_W,NITRAT,NITRAT_FLAG_W,NO2+NO3,NO2+NO3_FLAG_W,NITRIT,NITRIT_FLAG_W,PHSPHT,PHSPHT_FLAG_W,CFC-11,CFC-11_FLAG_W,CFC-12,CFC-12_FLAG_W,DELC13,DELC13_FLAG_W,TCARBN,TCARBN_FLAG_W,ALKALI,ALKALI_FLAG_W,PH,PH_FLAG_W,PH_TMP,PH_SCALE,PH_NBS,PH_NBS_FLAG_W,C13ERR,TOTALP,TOTALP_FLAG_W,AMMONI,AMMONI_FLAG_W,CHLORA,CHLORA_FLAG_W,PPHYTN,PPHYTN_FLAG_W,REVPRS,REVTMP,DEPTH_,DEPTH_FLAG,CTDDEP,THETA,SIGTHT,DOC,DOC_FLAG_W
,,,,,,,GMT,GMT,,,METER,DBAR,ITS-90,PSS-78,,UMOL/KG,,PSS-78,,UMOL/KG,,UMOL/KG,,UMOL/KG,,UMOL/KG,,UMOL/KG,,UMOL/KG,,PMOL/KG,,PMOL/KG,,/MILLE,,UMOL/KG,,UMOL/KG,,25_DEG_C,,DEG_C,,,,/MILLE,UMOL/KG,,UMOL/KG,,UG/L,,UG/L,,DBAR,ITS-90,METERS,,METERS,DEG_C,,UMOL/L,
       RF98-09,  165E,RF-0705,  1,     -9,      -9,5,19980930,1512, 15.9950, 164.9972, 5367,      0.0,  29.1732,  34.9461,2,   -999.0,9,-999.0000,9,    198.5,2,     1.29,2,  -999.00,9,     0.16,2,     0.01,2,     0.07,2, -999.000,9, -999.000,9,  -999.00,9,   -999.0,9,   -999.0,9,-999.0000,9,   -999.0,  9,     8.25,2,   -999.0,  -999.00,9,  -999.00,9,  -999.00,9,  -999.00,9,   -999.0,-999.0000, -999,9,    0,  29.1732,  21.9656,   -999.0,9
       RF98-09,  165E,RF-0705,  1,     21,02-12827,2,19980930,1510, 15.9950, 164.9972, 5367,     11.5,  29.0966,  34.9408,2,   -999.0,9,-999.0000,9,    197.8,2,     1.23,2,  -999.00,9,     0.11,2,     0.00,2,     0.07,2, -999.000,9, -999.000,9,  -999.00,9,   -999.0,9,   -999.0,9,-999.0000,9,   -999.0,  9,     8.25,2,   -999.0,  -999.00,9,  -999.00,9,  -999.00,9,  -999.00,9,   -999.0,-999.0000, -999,9,   11,  29.0938,  21.9882,   -999.0,9
       RF98-09,  165E,RF-0705,  1,     20,02-12826,2,19980930,1509, 15.9950, 164.9972, 5367,     25.0,  28.9902,  34.9395,2,   -999.0,9,-999.0000,9,    201.6,2,     1.45,2,  -999.00,9,     0.09,2,     0.00,2,     0.06,2, -999.000,9, -999.000,9,  -999.00,9,   -999.0,9,   -999.0,9,-999.0000,9,   -999.0,  9,     8.25,2,   -999.0,  -999.00,9,  -999.00,9,  -999.00,9,  -999.00,9,   -999.0,-999.0000, -999,9,   25,  28.9842,  22.0239,   -999.0,9
       RF98-09,  165E,RF-0705,  1,     19,02-12825,2,19980930,1507, 15.9950, 164.9972, 5367,     50.0,  28.9116,  34.9466,2,   -999.0,9,  34.9486,2,    199.1,2,     1.23,2,  -999.00,9,     0.07,2,     0.00,2,     0.06,2, -999.000,9, -999.000,9,  -999.00,9,   -999.0,9,   -999.0,9,-999.0000,9,   -999.0,  9,     8.25,2,   -999.0,  -999.00,9,  -999.00,9,  -999.00,9,  -999.00,9,   -999.0,-999.0000, -999,9,   50,  28.8996,  22.0575,   -999.0,9
       RF98-09,  165E,RF-0705,  1,     18,02-12824,2,19980930,1506, 15.9950, 164.9972, 5367,     74.9,  28.4601,  34.9203,2,   -999.0,9,-999.0000,9,    206.5,2,     1.25,2,  -999.00,9,     0.10,2,     0.00,2,     0.05,2, -999.000,9, -999.000,9,  -999.00,9,   -999.0,9,   -999.0,9,-999.0000,9,   -999.0,  9,     8.25,2,   -999.0,  -999.00,9,  -999.00,9,  -999.00,9,  -999.00,9,   -999.0,-999.0000, -999,9,   74,  28.4422,  22.1895,   -999.0,9
       RF98-09,  165E,RF-0705,  1,     17,02-12814,2,19980930,1504, 15.9950, 164.9972, 5367,    100.0,  26.6086,  34.9409,2,   -999.0,9,  34.9635,2,    213.3,2,     1.21,2,  -999.00,9,     0.09,2,     0.00,2,     0.04,2, -999.000,9, -999.000,9,  -999.00,9,   -999.0,9,   -999.0,9,-999.0000,9,   -999.0,  9,     8.25,2,   -999.0,  -999.00,9,  -999.00,9,  -999.00,9,  -999.00,9,   -999.0,-999.0000, -999,9,   99,  26.5859,  22.8048,   -999.0,9
       RF98-09,  165E,RF-0705,  1,     16,02-12832,2,19980930,1503, 15.9950, 164.9972, 5367,    125.2,  24.4300,  35.0322,2,   -999.0,9,-999.0000,9,    202.9,2,     1.43,2,  -999.00,9,     0.14,2,     0.03,2,     0.06,2, -999.000,9, -999.000,9,  -999.00,9,   -999.0,9,   -999.0,9,-999.0000,9,   -999.0,  9,     8.21,2,   -999.0,  -999.00,9,  -999.00,9,  -999.00,9,  -999.00,9,   -999.0,-999.0000, -999,9,  124,  24.4033,  23.5456,   -999.0,9
       RF98-09,  165E,RF-0705,  1,     15,02-12833,2,19980930,1501, 15.9950, 164.9972, 5367,    150.0,  23.1032,  35.0486,2,   -999.0,9,  35.0907,4,    198.3,2,     1.39,2,  -999.00,9,     0.35,2,     0.18,2,     0.09,2, -999.000,9, -999.000,9,  -999.00,9,   -999.0,9,   -999.0,9,-999.0000,9,   -999.0,  9,     8.19,2,   -999.0,  -999.00,9,  -999.00,9,  -999.00,9,  -999.00,9,   -999.0,-999.0000, -999,9,  149,  23.0725,  23.9495,   -999.0,9
       RF98-09,  165E,RF-0705,  1,     14,02-13578,2,19980930,1459, 15.9950, 164.9972, 5367,    200.1,  19.3325,  34.9424,2,   -999.0,9,  34.9259,4,    181.5,2,     3.20,2,  -999.00,9,     3.39,2,     0.01,2,     0.31,2, -999.000,9, -999.000,9,  -999.00,9,   -999.0,9,   -999.0,9,-999.0000,9,   -999.0,  9,     8.08,2,   -999.0,  -999.00,9,  -999.00,9,  -999.00,9,  -999.00,9,   -999.0,-999.0000, -999,9,  199,  19.2963,  24.9012,   -999.0,9
       RF98-09,  165E,RF-0705,  1,     13,02-13590,2,19980930,1457, 15.9950, 164.9972, 5367,    251.1,  16.0257,  34.6472,2,   -999.0,9,-999.0000,9,    183.1,2,     6.64,2,  -999.00,9,     7.57,2,     0.01,2,     0.54,2, -999.000,9, -999.000,9,  -999.00,9,   -999.0,9,   -999.0,9,-999.0000,9,   -999.0,  9,     8.03,2,   -999.0,  -999.00,9,  -999.00,9,  -999.00,9,  -999.00,9,   -999.0,-999.0000, -999,9,  249,  15.9859,  25.4794,   -999.0,9
       RF98-09,  165E,RF-0705,  1,     12,02-12821,2,19980930,1455, 15.9950, 164.9972, 5367,    302.0,  13.1203,  34.4152,2,   -999.0,9,  34.4068,2,    171.6,2,    13.06,2,  -999.00,9,    13.93,2,     0.00,2,     0.97,2, -999.000,9, -999.000,9,  -999.00,9,   -999.0,9,   -999.0,9,-999.0000,9,   -999.0,  9,     7.92,2,   -999.0,  -999.00,9,  -999.00,9,  -999.00,9,  -999.00,9,   -999.0,-999.0000, -999,9,  300,  13.0786,  25.9240,   -999.0,9
       RF98-09,  165E,RF-0705,  1,     11,02-12811,2,19980930,1453, 15.9950, 164.9972, 5367,    402.6,   8.8517,  34.2115,2,   -999.0,9,  34.2023,2,    120.6,2,    36.28,2,  -999.00,9,    26.73,2,     0.00,2,     1.90,2, -999.000,9, -999.000,9,  -999.00,9,   -999.0,9,   -999.0,9,-999.0000,9,   -999.0,  9,  -999.00,9,   -999.0,  -999.00,9,  -999.00,9,  -999.00,9,  -999.00,9,   -999.0,-999.0000, -999,9,  400,   8.8083,  26.5310,   -999.0,9
       RF98-09,  165E,RF-0705,  1,     10,02-12820,2,19980930,1451, 15.9950, 164.9972, 5367,    503.3,   6.9068,  34.2222,2,   -999.0,9,  34.2278,2,     76.8,2,    57.81,2,  -999.00,9,    34.31,2,     0.00,2,     2.45,2, -999.000,9, -999.000,9,  -999.00,9,   -999.0,9,   -999.0,9,-999.0000,9,   -999.0,  9,  -999.00,9,   -999.0,  -999.00,9,  -999.00,9,  -999.00,9,  -999.00,9,   -999.0,-999.0000, -999,9,  500,   6.8596,  26.8253,   -999.0,9
       RF98-09,  165E,RF-0705,  1,      9,02-12810,2,19980930,1448, 15.9950, 164.9972, 5367,    604.3,   6.0534,  34.3554,2,   -999.0,9,  34.3585,2,     58.5,2,    70.81,2,  -999.00,9,    37.54,2,     0.00,2,     2.70,2, -999.000,9, -999.000,9,  -999.00,9,   -999.0,9,   -999.0,9,-999.0000,9,   -999.0,  9,  -999.00,9,   -999.0,  -999.00,9,  -999.00,9,  -999.00,9,  -999.00,9,   -999.0,-999.0000, -999,9,  600,   6.0000,  27.0433,   -999.0,9
       RF98-09,  165E,RF-0705,  1,      8,02-13579,2,19980930,1446, 15.9950, 164.9972, 5367,    705.4,   5.5171,  34.4440,2,   -999.0,9,  34.4414,2,     63.0,2,    78.42,2,  -999.00,9,    38.57,2,     0.00,2,     2.76,2, -999.000,9, -999.000,9,  -999.00,9,   -999.0,9,   -999.0,9,-999.0000,9,   -999.0,  9,  -999.00,9,   -999.0,  -999.00,9,  -999.00,9,  -999.00,9,  -999.00,9,   -999.0,-999.0000, -999,9,  700,   5.4571,  27.1805,   -999.0,9
       RF98-09,  165E,RF-0705,  1,      7,02-12815,2,19980930,1430, 15.9950, 164.9972, 5367,    806.2,   5.0798,  34.4778,2,   -999.0,9,  34.4791,2,     68.6,2,    85.42,2,  -999.00,9,    38.96,2,     0.00,2,     2.78,2, -999.000,9, -999.000,9,  -999.00,9,   -999.0,9,   -999.0,9,-999.0000,9,   -999.0,  9,  -999.00,9,   -999.0,  -999.00,9,  -999.00,9,  -999.00,9,  -999.00,9,   -999.0,-999.0000, -999,9,  800,   5.0133,  27.2597,   -999.0,9
       RF98-09,  165E,RF-0705,  1,      6,02-12818,2,19980930,1428, 15.9950, 164.9972, 5367,    907.7,   4.6180,  34.5018,2,   -999.0,9,-999.0000,9,     71.0,2,    93.29,2,  -999.00,9,    39.37,2,     0.00,2,     2.81,2, -999.000,9, -999.000,9,  -999.00,9,   -999.0,9,   -999.0,9,-999.0000,9,   -999.0,  9,  -999.00,9,   -999.0,  -999.00,9,  -999.00,9,  -999.00,9,  -999.00,9,   -999.0,-999.0000, -999,9,  900,   4.5457,  27.3316,   -999.0,9
       RF98-09,  165E,RF-0705,  1,      5,02-12809,2,19980930,1425, 15.9950, 164.9972, 5367,   1008.6,   4.2913,  34.5212,2,   -999.0,9,  34.5617,2,     74.8,2,    99.17,2,  -999.00,9,    39.59,2,     0.00,2,     2.83,2, -999.000,9, -999.000,9,  -999.00,9,   -999.0,9,   -999.0,9,-999.0000,9,   -999.0,  9,  -999.00,9,   -999.0,  -999.00,9,  -999.00,9,  -999.00,9,  -999.00,9,   -999.0,-999.0000, -999,9, 1000,   4.2127,  27.3830,   -999.0,9
       RF98-09,  165E,RF-0705,  1,      4,02-12817,2,19980930,1421, 15.9950, 164.9972, 5367,   1261.4,   3.4787,  34.5617,2,   -999.0,9,  34.5216,4,     76.6,2,   114.29,2,  -999.00,9,    40.32,2,     0.00,2,     2.89,2, -999.000,9, -999.000,9,  -999.00,9,   -999.0,9,   -999.0,9,-999.0000,9,   -999.0,  9,  -999.00,9,   -999.0,  -999.00,9,  -999.00,9,  -999.00,9,  -999.00,9,   -999.0,-999.0000, -999,9, 1250,   3.3857,  27.4989,   -999.0,9
       RF98-09,  165E,RF-0705,  1,      3,02-12808,2,19980930,1416, 15.9950, 164.9972, 5367,   1514.9,   2.8406,  34.5864,2,   -999.0,9,  34.5893,2,     88.3,2,   127.25,2,  -999.00,9,    40.03,2,     0.00,2,     2.85,2, -999.000,9, -999.000,9,  -999.00,9,   -999.0,9,   -999.0,9,-999.0000,9,   -999.0,  9,  -999.00,9,   -999.0,  -999.00,9,  -999.00,9,  -999.00,9,  -999.00,9,   -999.0,-999.0000, -999,9, 1500,   2.7334,  27.5789,   -999.0,9
       RF98-09,  165E,RF-0705,  1,      2,02-13591,2,19980930,1412, 15.9950, 164.9972, 5367,   1768.4,   2.4139,  34.6057,2,   -999.0,9,  34.9622,4,     95.9,2,   135.71,2,  -999.00,9,    39.68,2,     0.00,2,     2.81,2, -999.000,9, -999.000,9,  -999.00,9,   -999.0,9,   -999.0,9,-999.0000,9,   -999.0,  9,  -999.00,9,   -999.0,  -999.00,9,  -999.00,9,  -999.00,9,  -999.00,9,   -999.0,-999.0000, -999,9, 1751,   2.2910,  27.6322,   -999.0,9
       RF98-09,  165E,RF-0705,  1,      1,02-12807,2,19980930,1407, 15.9950, 164.9972, 5367,   2035.3,   2.1012,  34.6278,2,   -999.0,9,  34.6298,2,    107.6,2,   140.64,2,  -999.00,9,    39.10,2,     0.00,2,     2.77,2, -999.000,9, -999.000,9,  -999.00,9,   -999.0,9,   -999.0,9,-999.0000,9,   -999.0,  9,  -999.00,9,   -999.0,  -999.00,9,  -999.00,9,  -999.00,9,  -999.00,9,   2021.0,-999.0000, -999,9, 2013,   1.9603,  27.6766,   -999.0,9