BOTTLE,20130607MIRCJHATS
EXPOCODE,SECT_ID,STNNBR,CASTNO,SAMPNO,BTLNBR,BTLNBR_FLAG_W,DATE,TIME,LATITUDE,LONGITUDE,DEPTH,CTDPRS,CTDTMP,CTDSAL,CTDSAL_FLAG_W,CTDOXY,CTDOXY_FLAG_W,SALNTY,SALNTY_FLAG_W,OXYGEN,OXYGEN_FLAG_W,SILCAT,SILCAT_FLAG_W,NITRAT,NITRAT_FLAG_W,NO2+NO3,NO2+NO3_FLAG_W,NITRIT,NITRIT_FLAG_W,PHSPHT,PHSPHT_FLAG_W,CFC-11,CFC-11_FLAG_W,CFC-12,CFC-12_FLAG_W,DELC13,DELC13_FLAG_W,TCARBN,TCARBN_FLAG_W,ALKALI,ALKALI_FLAG_W,PH,PH_FLAG_W,PH_TMP,PH_SCALE,PH_NBS,PH_NBS_FLAG_W,C13ERR,TOTALP,TOTALP_FLAG_W,AMMONI,AMMONI_FLAG_W,CHLORA,CHLORA_FLAG_W,PPHYTN,PPHYTN_FLAG_W,REVPRS,REVTMP,DEPTH_,DEPTH_FLAG,CTDDEP,THETA,SIGTHT,DOC,DOC_FLAG_W
,,,,,,,GMT,GMT,,,METER,DBAR,ITS-90,PSS-78,,UMOL/KG,,PSS-78,,UMOL/KG,,UMOL/KG,,UMOL/KG,,UMOL/KG,,UMOL/KG,,UMOL/KG,,PMOL/KG,,PMOL/KG,,/MILLE,,UMOL/KG,,UMOL/KG,,25_DEG_C,,DEG_C,,,,/MILLE,UMOL/KG,,UMOL/KG,,UG/L,,UG/L,,DBAR,ITS-90,METERS,,METERS,DEG_C,,UMOL/L,
       RF98-09,  NONE,RF-0734,  1,     18,02-12824,2,19981106,0720, 27.0342, 143.2092, 7495,   2022.3,   1.9299,  34.6057,2,   -999.0,9,  34.6007,4,   -999.0,9,  -999.00,9,  -999.00,9,  -999.00,9,  -999.00,9,  -999.00,9, -999.000,9, -999.000,9,  -999.00,9,   -999.0,9,   -999.0,9,-999.0000,9,   -999.0,  9,  -999.00,9,   -999.0,  -999.00,9,  -999.00,9,  -999.00,9,  -999.00,9,   -999.0,-999.0000, -999,9, 1999,   1.7928,  27.6719,   -999.0,9
       RF98-09,  NONE,RF-0734,  1,     19,02-12825,2,19981106,0720, 27.0342, 143.2092, 7495,   2023.7,   1.9322,  34.6003,2,   -999.0,9,  34.6011,2,   -999.0,9,  -999.00,9,  -999.00,9,  -999.00,9,  -999.00,9,  -999.00,9, -999.000,9, -999.000,9,  -999.00,9,   -999.0,9,   -999.0,9,-999.0000,9,   -999.0,  9,  -999.00,9,   -999.0,  -999.00,9,  -999.00,9,  -999.00,9,  -999.00,9,   -999.0,-999.0000, -999,9, 2001,   1.7949,  27.6674,   -999.0,9
       RF98-09,  NONE,RF-0734,  1,     20,02-12826,2,19981106,0721, 27.0342, 143.2092, 7495,   2024.0,   1.9346,  34.5960,2,   -999.0,9,  34.6011,2,   -999.0,9,  -999.00,9,  -999.00,9,  -999.00,9,  -999.00,9,  -999.00,9, -999.000,9, -999.000,9,  -999.00,9,   -999.0,9,   -999.0,9,-999.0000,9,   -999.0,  9,  -999.00,9,   -999.0,  -999.00,9,  -999.00,9,  -999.00,9,  -999.00,9,   -999.0,-999.0000, -999,9, 2001,   1.7973,  27.6638,   -999.0,9
       RF98-09,  NONE,RF-0734,  1,     21,02-12827,2,19981106,0721, 27.0342, 143.2092, 7495,   2024.1,   1.9326,  34.6001,2,   -999.0,9,  34.6001,2,   -999.0,9,  -999.00,9,  -999.00,9,  -999.00,9,  -999.00,9,  -999.00,9, -999.000,9, -999.000,9,  -999.00,9,   -999.0,9,   -999.0,9,-999.0000,9,   -999.0,  9,  -999.00,9,   -999.0,  -999.00,9,  -999.00,9,  -999.00,9,  -999.00,9,   -999.0,-999.0000, -999,9, 2001,   1.7953,  27.6672,   -999.0,9
       RF98-09,  NONE,RF-0734,  1,     22,02-12828,2,19981106,0722, 27.0342, 143.2092, 7495,   2024.3,   1.9330,  34.5988,2,   -999.0,9,  34.6007,2,   -999.0,9,  -999.00,9,  -999.00,9,  -999.00,9,  -999.00,9,  -999.00,9, -999.000,9, -999.000,9,  -999.00,9,   -999.0,9,   -999.0,9,-999.0000,9,   -999.0,  9,  -999.00,9,   -999.0,  -999.00,9,  -999.00,9,  -999.00,9,  -999.00,9,   -999.0,-999.0000, -999,9, 2001,   1.7957,  27.6662,   -999.0,9
       RF98-09,  NONE,RF-0734,  1,     23,02-12829,2,19981106,0722, 27.0342, 143.2092, 7495,   2024.7,   1.9327,  34.5997,2,   -999.0,9,  34.6007,2,   -999.0,9,  -999.00,9,  -999.00,9,  -999.00,9,  -999.00,9,  -999.00,9, -999.000,9, -999.000,9,  -999.00,9,   -999.0,9,   -999.0,9,-999.0000,9,   -999.0,  9,  -999.00,9,   -999.0,  -999.00,9,  -999.00,9,  -999.00,9,  -999.00,9,   -999.0,-999.0000, -999,9, 2002,   1.7953,  27.6669,   -999.0,9
       RF98-09,  NONE,RF-0734,  1,     24,02-12830,2,19981106,0723, 27.0342, 143.2092, 7495,   2025.4,   1.9323,  34.5986,2,   -999.0,9,  34.6011,2,   -999.0,9,  -999.00,9,  -999.00,9,  -999.00,9,  -999.00,9,  -999.00,9, -999.000,9, -999.000,9,  -999.00,9,   -999.0,9,   -999.0,9,-999.0000,9,   -999.0,  9,  -999.00,9,   -999.0,  -999.00,9,  -999.00,9,  -999.00,9,  -999.00,9,   -999.0,-999.0000, -999,9, 2002,   1.7948,  27.6660,   -999.0,9
       RF98-09,  NONE,RF-0734,  1,     10,02-12820,2,19981106,0552, 27.0342, 143.2092, 7495,   4067.0,   1.4715,  34.6871,2,   -999.0,9,  34.6814,4,   -999.0,9,  -999.00,9,  -999.00,9,  -999.00,9,  -999.00,9,  -999.00,9, -999.000,9, -999.000,9,  -999.00,9,   -999.0,9,   -999.0,9,-999.0000,9,   -999.0,  9,  -999.00,9,   -999.0,  -999.00,9,  -999.00,9,  -999.00,9,  -999.00,9,   -999.0,-999.0000, -999,9, 4002,   1.1461,  27.7840,   -999.0,9
       RF98-09,  NONE,RF-0734,  1,     11,02-12811,2,19981106,0552, 27.0342, 143.2092, 7495,   4069.3,   1.4748,  34.6794,2,   -999.0,9,  34.6808,2,   -999.0,9,  -999.00,9,  -999.00,9,  -999.00,9,  -999.00,9,  -999.00,9, -999.000,9, -999.000,9,  -999.00,9,   -999.0,9,   -999.0,9,-999.0000,9,   -999.0,  9,  -999.00,9,   -999.0,  -999.00,9,  -999.00,9,  -999.00,9,  -999.00,9,   -999.0,-999.0000, -999,9, 4004,   1.1491,  27.7776,   -999.0,9
       RF98-09,  NONE,RF-0734,  1,     12,02-12821,2,19981106,0553, 27.0342, 143.2092, 7495,   4072.8,   1.4734,  34.6796,2,   -999.0,9,  34.6812,2,   -999.0,9,  -999.00,9,  -999.00,9,  -999.00,9,  -999.00,9,  -999.00,9, -999.000,9, -999.000,9,  -999.00,9,   -999.0,9,   -999.0,9,-999.0000,9,   -999.0,  9,  -999.00,9,   -999.0,  -999.00,9,  -999.00,9,  -999.00,9,  -999.00,9,   -999.0,-999.0000, -999,9, 4008,   1.1473,  27.7780,   -999.0,9
       RF98-09,  NONE,RF-0734,  1,     13,02-13590,2,19981106,0553, 27.0342, 143.2092, 7495,   4073.9,   1.4746,  34.6808,2,   -999.0,9,  34.6802,2,   -999.0,9,  -999.00,9,  -999.00,9,  -999.00,9,  -999.00,9,  -999.00,9, -999.000,9, -999.000,9,  -999.00,9,   -999.0,9,   -999.0,9,-999.0000,9,   -999.0,  9,  -999.00,9,   -999.0,  -999.00,9,  -999.00,9,  -999.00,9,  -999.00,9,   -999.0,-999.0000, -999,9, 4009,   1.1484,  27.7789,   -999.0,9
       RF98-09,  NONE,RF-0734,  1,     14,02-13578,2,19981106,0554, 27.0342, 143.2092, 7495,   4077.2,   1.4764,  34.6771,2,   -999.0,9,  34.6810,2,   -999.0,9,  -999.00,9,  -999.00,9,  -999.00,9,  -999.00,9,  -999.00,9, -999.000,9, -999.000,9,  -999.00,9,   -999.0,9,   -999.0,9,-999.0000,9,   -999.0,  9,  -999.00,9,   -999.0,  -999.00,9,  -999.00,9,  -999.00,9,  -999.00,9,   -999.0,-999.0000, -999,9, 4012,   1.1498,  27.7758,   -999.0,9
       RF98-09,  NONE,RF-0734,  1,     15,02-12833,2,19981106,0554, 27.0342, 143.2092, 7495,   4079.1,   1.4761,  34.6789,2,   -999.0,9,  34.6806,2,   -999.0,9,  -999.00,9,  -999.00,9,  -999.00,9,  -999.00,9,  -999.00,9, -999.000,9, -999.000,9,  -999.00,9,   -999.0,9,   -999.0,9,-999.0000,9,   -999.0,  9,  -999.00,9,   -999.0,  -999.00,9,  -999.00,9,  -999.00,9,  -999.00,9,   -999.0,-999.0000, -999,9, 4014,   1.1493,  27.7772,   -999.0,9
       RF98-09,  NONE,RF-0734,  1,     16,02-12832,2,19981106,0555, 27.0342, 143.2092, 7495,   4080.5,   1.4763,  34.6799,2,   -999.0,9,  34.6808,2,   -999.0,9,  -999.00,9,  -999.00,9,  -999.00,9,  -999.00,9,  -999.00,9, -999.000,9, -999.000,9,  -999.00,9,   -999.0,9,   -999.0,9,-999.0000,9,   -999.0,  9,  -999.00,9,   -999.0,  -999.00,9,  -999.00,9,  -999.00,9,  -999.00,9,   -999.0,-999.0000, -999,9, 4015,   1.1493,  27.7780,   -999.0,9
       RF98-09,  NONE,RF-0734,  1,     17,02-12814,2,19981106,0555, 27.0342, 143.2092, 7495,   4081.9,   1.4763,  34.6819,2,   -999.0,9,  34.6806,2,   -999.0,9,  -999.00,9,  -999.00,9,  -999.00,9,  -999.00,9,  -999.00,9, -999.000,9, -999.000,9,  -999.00,9,   -999.0,9,   -999.0,9,-999.0000,9,   -999.0,  9,  -999.00,9,   -999.0,  -999.00,9,  -999.00,9,  -999.00,9,  -999.00,9,   -999.0,-999.0000, -999,9, 4016,   1.1491,  27.7797,   -999.0,9
       RF98-09,  NONE,RF-0734,  1,      9,02-12810,2,19981106,0418, 27.0342, 143.2092, 7495,   5919.7,   1.6058,  34.6914,2,   -999.0,9,  34.6904,2,   -999.0,9,  -999.00,9,  -999.00,9,  -999.00,9,  -999.00,9,  -999.00,9, -999.000,9, -999.000,9,  -999.00,9,   -999.0,9,   -999.0,9,-999.0000,9,   -999.0,  9,  -999.00,9,   -999.0,  -999.00,9,  -999.00,9,  -999.00,9,  -999.00,9,   -999.0,-999.0000, -999,9, 5801,   1.0505,  27.7940,   -999.0,9
       RF98-09,  NONE,RF-0734,  1,      7,02-12815,2,19981106,0417, 27.0342, 143.2092, 7495,   5920.1,   1.6052,  34.6935,2,   -999.0,9,  34.6900,2,   -999.0,9,  -999.00,9,  -999.00,9,  -999.00,9,  -999.00,9,  -999.00,9, -999.000,9, -999.000,9,  -999.00,9,   -999.0,9,   -999.0,9,-999.0000,9,   -999.0,  9,  -999.00,9,   -999.0,  -999.00,9,  -999.00,9,  -999.00,9,  -999.00,9,   -999.0,-999.0000, -999,9, 5801,   1.0499,  27.7957,   -999.0,9
       RF98-09,  NONE,RF-0734,  1,      8,02-13579,2,19981106,0418, 27.0342, 143.2092, 7495,   5920.2,   1.6044,  34.6947,2,   -999.0,9,  34.6904,2,   -999.0,9,  -999.00,9,  -999.00,9,  -999.00,9,  -999.00,9,  -999.00,9, -999.000,9, -999.000,9,  -999.00,9,   -999.0,9,   -999.0,9,-999.0000,9,   -999.0,  9,  -999.00,9,   -999.0,  -999.00,9,  -999.00,9,  -999.00,9,  -999.00,9,   -999.0,-999.0000, -999,9, 5801,   1.0491,  27.7967,   -999.0,9
       RF98-09,  NONE,RF-0734,  1,      6,02-12818,2,19981106,0417, 27.0342, 143.2092, 7495,   5921.0,   1.6052,  34.6922,2,   -999.0,9,  34.6886,2,   -999.0,9,  -999.00,9,  -999.00,9,  -999.00,9,  -999.00,9,  -999.00,9, -999.000,9, -999.000,9,  -999.00,9,   -999.0,9,   -999.0,9,-999.0000,9,   -999.0,  9,  -999.00,9,   -999.0,  -999.00,9,  -999.00,9,  -999.00,9,  -999.00,9,   -999.0,-999.0000, -999,9, 5802,   1.0498,  27.7947,   -999.0,9
       RF98-09,  NONE,RF-0734,  1,      4,02-12817,2,19981106,0416, 27.0342, 143.2092, 7495,   5921.1,   1.6067,  34.6876,2,   -999.0,9,  34.6906,2,   -999.0,9,  -999.00,9,  -999.00,9,  -999.00,9,  -999.00,9,  -999.00,9, -999.000,9, -999.000,9,  -999.00,9,   -999.0,9,   -999.0,9,-999.0000,9,   -999.0,  9,  -999.00,9,   -999.0,  -999.00,9,  -999.00,9,  -999.00,9,  -999.00,9,   -999.0,-999.0000, -999,9, 5802,   1.0513,  27.7909,   -999.0,9
       RF98-09,  NONE,RF-0734,  1,      5,02-12809,2,19981106,0416, 27.0342, 143.2092, 7495,   5921.1,   1.6053,  34.6916,2,   -999.0,9,  34.6906,2,   -999.0,9,  -999.00,9,  -999.00,9,  -999.00,9,  -999.00,9,  -999.00,9, -999.000,9, -999.000,9,  -999.00,9,   -999.0,9,   -999.0,9,-999.0000,9,   -999.0,  9,  -999.00,9,   -999.0,  -999.00,9,  -999.00,9,  -999.00,9,  -999.00,9,   -999.0,-999.0000, -999,9, 5802,   1.0499,  27.7942,   -999.0,9
       RF98-09,  NONE,RF-0734,  1,      3,02-12808,2,19981106,0415, 27.0342, 143.2092, 7495,   5921.7,   1.6046,  34.6930,2,   -999.0,9,  34.6904,2,   -999.0,9,  -999.00,9,  -999.00,9,  -999.00,9,  -999.00,9,  -999.00,9, -999.000,9, -999.000,9,  -999.00,9,   -999.0,9,   -999.0,9,-999.0000,9,   -999.0,  9,  -999.00,9,   -999.0,  -999.00,9,  -999.00,9,  -999.00,9,  -999.00,9,   -999.0,-999.0000, -999,9, 5803,   1.0491,  27.7953,   -999.0,9
       RF98-09,  NONE,RF-0734,  1,      2,02-13591,2,19981106,0415, 27.0342, 143.2092, 7495,   5922.8,   1.6044,  34.6927,2,   -999.0,9,  34.6922,2,   -999.0,9,  -999.00,9,  -999.00,9,  -999.00,9,  -999.00,9,  -999.00,9, -999.000,9, -999.000,9,  -999.00,9,   -999.0,9,   -999.0,9,-999.0000,9,   -999.0,  9,  -999.00,9,   -999.0,  -999.00,9,  -999.00,9,  -999.00,9,  -999.00,9,   -999.0,-999.0000, -999,9, 5804,   1.0487,  27.7951,   -999.0,9
       RF98-09,  NONE,RF-0734,  1,      1,02-12807,2,19981106,0414, 27.0342, 143.2092, 7495,   5923.4,   1.6029,  34.6977,2,   -999.0,9,  34.6908,4,   -999.0,9,  -999.00,9,  -999.00,9,  -999.00,9,  -999.00,9,  -999.00,9, -999.000,9, -999.000,9,  -999.00,9,   -999.0,9,   -999.0,9,-999.0000,9,   -999.0,  9,  -999.00,9,   -999.0,  -999.00,9,  -999.00,9,  -999.00,9,  -999.00,9,   5948.0,-999.0000, -999,9, 5805,   1.0472,  27.7993,   -999.0,9