BOTTLE,20130607MIRCJHATS
EXPOCODE,SECT_ID,STNNBR,CASTNO,SAMPNO,BTLNBR,BTLNBR_FLAG_W,DATE,TIME,LATITUDE,LONGITUDE,DEPTH,CTDPRS,CTDTMP,CTDSAL,CTDSAL_FLAG_W,CTDOXY,CTDOXY_FLAG_W,SALNTY,SALNTY_FLAG_W,OXYGEN,OXYGEN_FLAG_W,SILCAT,SILCAT_FLAG_W,NITRAT,NITRAT_FLAG_W,NO2+NO3,NO2+NO3_FLAG_W,NITRIT,NITRIT_FLAG_W,PHSPHT,PHSPHT_FLAG_W,CFC-11,CFC-11_FLAG_W,CFC-12,CFC-12_FLAG_W,DELC13,DELC13_FLAG_W,TCARBN,TCARBN_FLAG_W,ALKALI,ALKALI_FLAG_W,PH,PH_FLAG_W,PH_TMP,PH_SCALE,PH_NBS,PH_NBS_FLAG_W,C13ERR,TOTALP,TOTALP_FLAG_W,AMMONI,AMMONI_FLAG_W,CHLORA,CHLORA_FLAG_W,PPHYTN,PPHYTN_FLAG_W,REVPRS,REVTMP,DEPTH_,DEPTH_FLAG,CTDDEP,THETA,SIGTHT,DOC,DOC_FLAG_W
,,,,,,,GMT,GMT,,,METER,DBAR,ITS-90,PSS-78,,UMOL/KG,,PSS-78,,UMOL/KG,,UMOL/KG,,UMOL/KG,,UMOL/KG,,UMOL/KG,,UMOL/KG,,PMOL/KG,,PMOL/KG,,/MILLE,,UMOL/KG,,UMOL/KG,,25_DEG_C,,DEG_C,,,,/MILLE,UMOL/KG,,UMOL/KG,,UG/L,,UG/L,,DBAR,ITS-90,METERS,,METERS,DEG_C,,UMOL/L,
       RF98-09,  165E,RF-0724,  1,     -9,      -9,5,19981017,0712, -2.9963, 165.0017, 4124,      0.0,  29.8900,  34.7620,2,   -999.0,9,-999.0000,9,    198.3,2,     1.81,2,  -999.00,9,     0.28,2,     0.01,2,     0.19,2, -999.000,9, -999.000,9,  -999.00,9,   -999.0,9,   -999.0,9,-999.0000,9,   -999.0,  9,     8.25,2,   -999.0,  -999.00,9,  -999.00,9,     0.11,2,     0.09,2,   -999.0,-999.0000, -999,9,    0,  29.8900,  21.5853,   -999.0,9
       RF98-09,  165E,RF-0724,  1,     21,02-12827,2,19981017,0710, -2.9963, 165.0017, 4124,     11.3,  29.3200,  34.7416,2,   -999.0,9,-999.0000,9,    198.1,2,     1.03,2,  -999.00,9,     0.23,2,     0.02,2,     0.18,2, -999.000,9, -999.000,9,  -999.00,9,   -999.0,9,   -999.0,9,-999.0000,9,   -999.0,  9,     8.25,2,   -999.0,  -999.00,9,  -999.00,9,     0.06,2,     0.06,2,   -999.0,-999.0000, -999,9,   11,  29.3173,  21.7637,   -999.0,9
       RF98-09,  165E,RF-0724,  1,     20,02-12826,2,19981017,0709, -2.9963, 165.0017, 4124,     26.1,  29.2938,  34.7518,2,   -999.0,9,-999.0000,9,    201.6,2,     1.31,2,  -999.00,9,     0.23,2,     0.00,2,     0.18,2, -999.000,9, -999.000,9,  -999.00,9,   -999.0,9,   -999.0,9,-999.0000,9,   -999.0,  9,     8.25,2,   -999.0,  -999.00,9,  -999.00,9,     0.07,2,     0.08,2,   -999.0,-999.0000, -999,9,   26,  29.2875,  21.7814,   -999.0,9
       RF98-09,  165E,RF-0724,  1,     19,02-12825,2,19981017,0708, -2.9963, 165.0017, 4124,     51.2,  29.1508,  34.8445,2,   -999.0,9,  34.8711,4,    199.7,2,     1.15,2,  -999.00,9,     0.18,2,     0.01,2,     0.19,2, -999.000,9, -999.000,9,  -999.00,9,   -999.0,9,   -999.0,9,-999.0000,9,   -999.0,  9,     8.24,2,   -999.0,  -999.00,9,  -999.00,9,     0.14,2,     0.13,2,   -999.0,-999.0000, -999,9,   51,  29.1384,  21.9010,   -999.0,9
       RF98-09,  165E,RF-0724,  1,     18,02-12824,2,19981017,0706, -2.9963, 165.0017, 4124,     76.0,  28.3440,  35.1306,2,   -999.0,9,-999.0000,9,    196.7,2,     1.28,2,  -999.00,9,     0.38,2,     0.06,2,     0.22,2, -999.000,9, -999.000,9,  -999.00,9,   -999.0,9,   -999.0,9,-999.0000,9,   -999.0,  9,     8.22,2,   -999.0,  -999.00,9,  -999.00,9,     0.31,2,     0.34,2,   -999.0,-999.0000, -999,9,   76,  28.3260,  22.3859,   -999.0,9
       RF98-09,  165E,RF-0724,  1,     17,02-12814,2,19981017,0705, -2.9963, 165.0017, 4124,    101.0,  28.0374,  35.1627,2,   -999.0,9,  35.1816,4,    197.0,2,     1.36,2,  -999.00,9,     0.54,2,     0.10,2,     0.23,2, -999.000,9, -999.000,9,  -999.00,9,   -999.0,9,   -999.0,9,-999.0000,9,   -999.0,  9,     8.21,2,   -999.0,  -999.00,9,  -999.00,9,     0.24,2,     0.22,2,   -999.0,-999.0000, -999,9,  100,  28.0135,  22.5126,   -999.0,9
       RF98-09,  165E,RF-0724,  1,     16,02-12832,2,19981017,0704, -2.9963, 165.0017, 4124,    126.4,  23.3928,  35.5548,2,   -999.0,9,-999.0000,9,    113.7,2,     3.23,2,  -999.00,9,    12.35,2,     0.05,2,     0.95,2, -999.000,9, -999.000,9,  -999.00,9,   -999.0,9,   -999.0,9,-999.0000,9,   -999.0,  9,     8.03,2,   -999.0,  -999.00,9,  -999.00,9,     0.07,2,     0.22,2,   -999.0,-999.0000, -999,9,  126,  23.3666,  24.2479,   -999.0,9
       RF98-09,  165E,RF-0724,  1,     15,02-12833,2,19981017,0702, -2.9963, 165.0017, 4124,    151.6,  20.1633,  35.7569,2,   -999.0,9,  35.6919,4,    109.2,2,     4.91,2,  -999.00,9,    14.48,2,     0.03,2,     1.12,2, -999.000,9, -999.000,9,  -999.00,9,   -999.0,9,   -999.0,9,-999.0000,9,   -999.0,  9,     7.97,2,   -999.0,  -999.00,9,  -999.00,9,     0.03,2,     0.09,2,   -999.0,-999.0000, -999,9,  151,  20.1350,  25.3034,   -999.0,9
       RF98-09,  165E,RF-0724,  1,     14,02-13578,2,19981017,0701, -2.9963, 165.0017, 4124,    201.3,  14.8046,  35.2006,2,   -999.0,9,  35.1788,4,    105.1,2,    11.02,2,  -999.00,9,    20.45,2,     0.02,2,     1.49,2, -999.000,9, -999.000,9,  -999.00,9,   -999.0,9,   -999.0,9,-999.0000,9,   -999.0,  9,     7.86,2,   -999.0,  -999.00,9,  -999.00,9,     0.00,2,     0.03,2,   -999.0,-999.0000, -999,9,  200,  14.7743,  26.1761,   -999.0,9
       RF98-09,  165E,RF-0724,  1,     13,02-13590,2,19981017,0659, -2.9963, 165.0017, 4124,    252.8,  11.6747,  34.8794,2,   -999.0,9,  34.9076,4,    122.0,2,    15.47,2,  -999.00,9,    23.67,2,     0.01,2,     1.65,2, -999.000,9, -999.000,9,  -999.00,9,   -999.0,9,   -999.0,9,-999.0000,9,   -999.0,  9,     7.82,2,   -999.0,  -999.00,9,  -999.00,9,  -999.00,9,  -999.00,9,   -999.0,-999.0000, -999,9,  251,  11.6422,  26.5632,   -999.0,9
       RF98-09,  165E,RF-0724,  1,     12,02-12821,2,19981017,0657, -2.9963, 165.0017, 4124,    303.1,  10.2212,  34.7660,2,   -999.0,9,  34.7745,2,    106.2,2,    21.22,2,  -999.00,9,    28.38,2,     0.01,2,     1.94,2, -999.000,9, -999.000,9,  -999.00,9,   -999.0,9,   -999.0,9,-999.0000,9,   -999.0,  9,     7.75,2,   -999.0,  -999.00,9,  -999.00,9,  -999.00,9,  -999.00,9,   -999.0,-999.0000, -999,9,  301,  10.1855,  26.7373,   -999.0,9
       RF98-09,  165E,RF-0724,  1,     11,02-12811,2,19981017,0655, -2.9963, 165.0017, 4124,    403.5,   9.0172,  34.6737,2,   -999.0,9,  34.6701,2,    115.3,2,    24.51,2,  -999.00,9,    30.12,2,     0.00,2,     2.04,2, -999.000,9, -999.000,9,  -999.00,9,   -999.0,9,   -999.0,9,-999.0000,9,   -999.0,  9,  -999.00,9,   -999.0,  -999.00,9,  -999.00,9,  -999.00,9,  -999.00,9,   -999.0,-999.0000, -999,9,  401,   8.9730,  26.8670,   -999.0,9
       RF98-09,  165E,RF-0724,  1,     10,02-12820,2,19981017,0653, -2.9963, 165.0017, 4124,    503.5,   7.8505,  34.5950,2,   -999.0,9,  34.6007,2,    102.8,2,    32.56,2,  -999.00,9,    34.05,2,     0.00,2,     2.29,2, -999.000,9, -999.000,9,  -999.00,9,   -999.0,9,   -999.0,9,-999.0000,9,   -999.0,  9,  -999.00,9,   -999.0,  -999.00,9,  -999.00,9,  -999.00,9,  -999.00,9,   -999.0,-999.0000, -999,9,  500,   7.7994,  26.9855,   -999.0,9
       RF98-09,  165E,RF-0724,  1,      9,02-12810,2,19981017,0650, -2.9963, 165.0017, 4124,    604.4,   6.7172,  34.5615,2,   -999.0,9,  34.5613,2,     86.7,2,    43.46,2,  -999.00,9,    37.48,2,     0.00,2,     2.56,2, -999.000,9, -999.000,9,  -999.00,9,   -999.0,9,   -999.0,9,-999.0000,9,   -999.0,  9,  -999.00,9,   -999.0,  -999.00,9,  -999.00,9,  -999.00,9,  -999.00,9,   -999.0,-999.0000, -999,9,  600,   6.6606,  27.1196,   -999.0,9
       RF98-09,  165E,RF-0724,  1,      8,02-13579,2,19981017,0648, -2.9963, 165.0017, 4124,    704.6,   5.8805,  34.5433,2,   -999.0,9,  34.5482,2,     83.2,2,    55.35,2,  -999.00,9,    39.47,2,     0.00,2,     2.73,2, -999.000,9, -999.000,9,  -999.00,9,   -999.0,9,   -999.0,9,-999.0000,9,   -999.0,  9,  -999.00,9,   -999.0,  -999.00,9,  -999.00,9,  -999.00,9,  -999.00,9,   -999.0,-999.0000, -999,9,  700,   5.8185,  27.2147,   -999.0,9
       RF98-09,  165E,RF-0724,  1,      7,02-12815,2,19981017,0645, -2.9963, 165.0017, 4124,    805.6,   5.4199,  34.5382,2,   -999.0,9,  34.5374,2,     93.8,2,    61.06,2,  -999.00,9,    39.19,2,     0.00,4,     2.71,2, -999.000,9, -999.000,9,  -999.00,9,   -999.0,9,   -999.0,9,-999.0000,9,   -999.0,  9,  -999.00,9,   -999.0,  -999.00,9,  -999.00,9,  -999.00,9,  -999.00,9,   -999.0,-999.0000, -999,9,  800,   5.3513,  27.2678,   -999.0,9
       RF98-09,  165E,RF-0724,  1,      6,02-12818,2,19981017,0643, -2.9963, 165.0017, 4124,    907.3,   4.8681,  34.5410,2,   -999.0,9,  34.5415,2,     94.8,2,    70.91,2,  -999.00,9,    39.46,2,     0.00,2,     2.74,2, -999.000,9, -999.000,9,  -999.00,9,   -999.0,9,   -999.0,9,-999.0000,9,   -999.0,  9,  -999.00,9,   -999.0,  -999.00,9,  -999.00,9,  -999.00,9,  -999.00,9,   -999.0,-999.0000, -999,9,  900,   4.7940,  27.3350,   -999.0,9
       RF98-09,  165E,RF-0724,  1,      5,02-12809,2,19981017,0641, -2.9963, 165.0017, 4124,   1008.4,   4.4400,  34.5484,2,   -999.0,9,  34.5482,2,     99.7,2,    78.67,2,  -999.00,9,    39.66,2,     0.00,4,     2.75,2, -999.000,9, -999.000,9,  -999.00,9,   -999.0,9,   -999.0,9,-999.0000,9,   -999.0,  9,  -999.00,9,   -999.0,  -999.00,9,  -999.00,9,  -999.00,9,  -999.00,9,   -999.0,-999.0000, -999,9, 1000,   4.3602,  27.3888,   -999.0,9
       RF98-09,  165E,RF-0724,  1,      4,02-12817,2,19981017,0636, -2.9963, 165.0017, 4124,   1261.8,   3.7330,  34.5663,2,   -999.0,9,  34.5688,2,    103.5,2,    94.22,2,  -999.00,9,    39.50,2,     0.00,4,     2.76,2, -999.000,9, -999.000,9,  -999.00,9,   -999.0,9,   -999.0,9,-999.0000,9,   -999.0,  9,  -999.00,9,   -999.0,  -999.00,9,  -999.00,9,  -999.00,9,  -999.00,9,   -999.0,-999.0000, -999,9, 1251,   3.6375,  27.4780,   -999.0,9
       RF98-09,  165E,RF-0724,  1,      3,02-12808,2,19981017,0632, -2.9963, 165.0017, 4124,   1514.9,   3.0757,  34.5958,2,   -999.0,9,  34.5942,2,    112.7,2,   107.89,2,  -999.00,9,    39.09,2,     0.00,4,     2.72,2, -999.000,9, -999.000,9,  -999.00,9,   -999.0,9,   -999.0,9,-999.0000,9,   -999.0,  9,  -999.00,9,   -999.0,  -999.00,9,  -999.00,9,  -999.00,9,  -999.00,9,   -999.0,-999.0000, -999,9, 1501,   2.9657,  27.5655,   -999.0,9
       RF98-09,  165E,RF-0724,  1,      2,02-13591,2,19981017,0627, -2.9963, 165.0017, 4124,   1767.7,   2.6093,  34.6153,2,   -999.0,9,  34.5781,4,    118.5,2,   117.81,2,  -999.00,9,    38.75,2,     0.00,4,     2.69,2, -999.000,9, -999.000,9,  -999.00,9,   -999.0,9,   -999.0,9,-999.0000,9,   -999.0,  9,  -999.00,9,   -999.0,  -999.00,9,  -999.00,9,  -999.00,9,  -999.00,9,   -999.0,-999.0000, -999,9, 1751,   2.4837,  27.6237,   -999.0,9
       RF98-09,  165E,RF-0724,  1,      1,02-12807,2,19981017,0623, -2.9963, 165.0017, 4124,   2034.8,   2.2246,  34.6348,2,   -999.0,9,  34.6385,2,   -999.0,9,   128.06,2,  -999.00,9,    38.62,2,     0.00,4,     2.68,2, -999.000,9, -999.000,9,  -999.00,9,   -999.0,9,   -999.0,9,-999.0000,9,   -999.0,  9,  -999.00,9,   -999.0,  -999.00,9,  -999.00,9,  -999.00,9,  -999.00,9,   2020.0,-999.0000, -999,9, 2014,   2.0817,  27.6726,   -999.0,9