BOTTLE,20130607MIRCJHATS
EXPOCODE,SECT_ID,STNNBR,CASTNO,SAMPNO,BTLNBR,BTLNBR_FLAG_W,DATE,TIME,LATITUDE,LONGITUDE,DEPTH,CTDPRS,CTDTMP,CTDSAL,CTDSAL_FLAG_W,CTDOXY,CTDOXY_FLAG_W,SALNTY,SALNTY_FLAG_W,OXYGEN,OXYGEN_FLAG_W,SILCAT,SILCAT_FLAG_W,NITRAT,NITRAT_FLAG_W,NO2+NO3,NO2+NO3_FLAG_W,NITRIT,NITRIT_FLAG_W,PHSPHT,PHSPHT_FLAG_W,CFC-11,CFC-11_FLAG_W,CFC-12,CFC-12_FLAG_W,DELC13,DELC13_FLAG_W,TCARBN,TCARBN_FLAG_W,ALKALI,ALKALI_FLAG_W,PH,PH_FLAG_W,PH_TMP,PH_SCALE,PH_NBS,PH_NBS_FLAG_W,C13ERR,TOTALP,TOTALP_FLAG_W,AMMONI,AMMONI_FLAG_W,CHLORA,CHLORA_FLAG_W,PPHYTN,PPHYTN_FLAG_W,REVPRS,REVTMP,DEPTH_,DEPTH_FLAG,CTDDEP,THETA,SIGTHT,DOC,DOC_FLAG_W
,,,,,,,GMT,GMT,,,METER,DBAR,ITS-90,PSS-78,,UMOL/KG,,PSS-78,,UMOL/KG,,UMOL/KG,,UMOL/KG,,UMOL/KG,,UMOL/KG,,UMOL/KG,,PMOL/KG,,PMOL/KG,,/MILLE,,UMOL/KG,,UMOL/KG,,25_DEG_C,,DEG_C,,,,/MILLE,UMOL/KG,,UMOL/KG,,UG/L,,UG/L,,DBAR,ITS-90,METERS,,METERS,DEG_C,,UMOL/L,
       RF98-09,  165E,RF-0716,  1,     -9,      -9,5,19981015,0113,  5.1625, 164.9975, 4795,      0.0,  29.7857,  34.6447,2,   -999.0,9,-999.0000,9,    198.6,2,     1.53,2,  -999.00,9,     0.09,2,     0.00,2,     0.17,2, -999.000,9, -999.000,9,  -999.00,9,   -999.0,9,   -999.0,9,-999.0000,9,   -999.0,  9,     8.27,2,   -999.0,  -999.00,9,  -999.00,9,     0.09,2,     0.06,2,   -999.0,-999.0000, -999,9,    0,  29.7857,  21.5328,   -999.0,9
       RF98-09,  165E,RF-0716,  1,     21,02-12827,2,19981015,0111,  5.1625, 164.9975, 4795,      9.9,  29.6362,  34.6380,2,   -999.0,9,-999.0000,9,    198.3,2,     1.72,2,  -999.00,9,     0.05,2,     0.00,2,     0.16,2, -999.000,9, -999.000,9,  -999.00,9,   -999.0,9,   -999.0,9,-999.0000,9,   -999.0,  9,     8.27,2,   -999.0,  -999.00,9,  -999.00,9,     0.10,2,     0.08,2,   -999.0,-999.0000, -999,9,   10,  29.6338,  21.5793,   -999.0,9
       RF98-09,  165E,RF-0716,  1,     20,02-12826,2,19981015,0110,  5.1625, 164.9975, 4795,     24.1,  29.4870,  34.6464,2,   -999.0,9,-999.0000,9,    200.9,2,     1.46,2,  -999.00,9,     0.04,2,     0.00,2,     0.16,2, -999.000,9, -999.000,9,  -999.00,9,   -999.0,9,   -999.0,9,-999.0000,9,   -999.0,  9,     8.27,2,   -999.0,  -999.00,9,  -999.00,9,     0.10,2,     0.08,2,   -999.0,-999.0000, -999,9,   24,  29.4811,  21.6371,   -999.0,9
       RF98-09,  165E,RF-0716,  1,     19,02-12825,2,19981015,0108,  5.1625, 164.9975, 4795,     49.6,  29.5426,  34.7770,2,   -999.0,9,  34.7709,2,    200.5,2,     1.71,2,  -999.00,9,     0.00,2,     0.00,2,     0.17,2, -999.000,9, -999.000,9,  -999.00,9,   -999.0,9,   -999.0,9,-999.0000,9,   -999.0,  9,     8.27,2,   -999.0,  -999.00,9,  -999.00,9,     0.16,2,     0.15,2,   -999.0,-999.0000, -999,9,   49,  29.5305,  21.7185,   -999.0,9
       RF98-09,  165E,RF-0716,  1,     18,02-12824,2,19981015,0107,  5.1625, 164.9975, 4795,     75.6,  29.2103,  34.8799,2,   -999.0,9,-999.0000,9,    196.2,2,     1.81,2,  -999.00,9,     0.07,2,     0.07,2,     0.19,2, -999.000,9, -999.000,9,  -999.00,9,   -999.0,9,   -999.0,9,-999.0000,9,   -999.0,  9,     8.26,2,   -999.0,  -999.00,9,  -999.00,9,     0.24,2,     0.31,2,   -999.0,-999.0000, -999,9,   75,  29.1919,  21.9096,   -999.0,9
       RF98-09,  165E,RF-0716,  1,     17,02-12814,2,19981015,0106,  5.1625, 164.9975, 4795,     99.5,  28.7398,  34.8961,2,   -999.0,9,  34.8828,4,    190.4,2,     1.39,2,  -999.00,9,     0.68,2,     0.38,2,     0.23,2, -999.000,9, -999.000,9,  -999.00,9,   -999.0,9,   -999.0,9,-999.0000,9,   -999.0,  9,     8.24,2,   -999.0,  -999.00,9,  -999.00,9,     0.18,2,     0.30,2,   -999.0,-999.0000, -999,9,   99,  28.7159,  22.0807,   -999.0,9
       RF98-09,  165E,RF-0716,  1,     16,02-12832,2,19981015,0105,  5.1625, 164.9975, 4795,    123.9,  27.6562,  34.8330,2,   -999.0,9,-999.0000,9,    169.2,2,     2.42,2,  -999.00,9,     3.68,2,     0.99,2,     0.36,2, -999.000,9, -999.000,9,  -999.00,9,   -999.0,9,   -999.0,9,-999.0000,9,   -999.0,  9,     8.19,2,   -999.0,  -999.00,9,  -999.00,9,     0.11,2,     0.28,2,   -999.0,-999.0000, -999,9,  123,  27.6273,  22.3903,   -999.0,9
       RF98-09,  165E,RF-0716,  1,     15,02-12833,2,19981015,0104,  5.1625, 164.9975, 4795,    150.5,  20.2351,  34.9125,2,   -999.0,9,  34.7648,4,    160.7,2,     5.20,2,  -999.00,9,     6.42,2,     0.05,2,     0.54,2, -999.000,9, -999.000,9,  -999.00,9,   -999.0,9,   -999.0,9,-999.0000,9,   -999.0,  9,     8.07,2,   -999.0,  -999.00,9,  -999.00,9,     0.06,2,     0.20,2,   -999.0,-999.0000, -999,9,  150,  20.2071,  24.6402,   -999.0,9
       RF98-09,  165E,RF-0716,  1,     14,02-13578,2,19981015,0102,  5.1625, 164.9975, 4795,    200.8,  11.9267,  34.5541,2,   -999.0,9,  34.5434,4,     99.2,2,    24.59,2,  -999.00,9,    24.28,2,     0.01,2,     1.70,2, -999.000,9, -999.000,9,  -999.00,9,   -999.0,9,   -999.0,9,-999.0000,9,   -999.0,  9,     7.80,2,   -999.0,  -999.00,9,  -999.00,9,     0.01,2,     0.03,2,   -999.0,-999.0000, -999,9,  200,  11.9008,  26.2616,   -999.0,9
       RF98-09,  165E,RF-0716,  1,     13,02-13590,2,19981015,0100,  5.1625, 164.9975, 4795,    251.9,  10.1874,  34.6158,2,   -999.0,9,  34.6104,2,     68.9,2,    31.45,2,  -999.00,9,    30.44,2,     0.00,2,     2.12,2, -999.000,9, -999.000,9,  -999.00,9,   -999.0,9,   -999.0,9,-999.0000,9,   -999.0,  9,     7.70,2,   -999.0,  -999.00,9,  -999.00,9,  -999.00,9,  -999.00,9,   -999.0,-999.0000, -999,9,  250,  10.1579,  26.6249,   -999.0,9
       RF98-09,  165E,RF-0716,  1,     12,02-12821,2,19981015,0059,  5.1625, 164.9975, 4795,    302.0,   9.6543,  34.6314,2,   -999.0,9,  34.6389,2,     71.3,2,    32.35,2,  -999.00,9,    31.78,2,     0.00,2,     2.19,2, -999.000,9, -999.000,9,  -999.00,9,   -999.0,9,   -999.0,9,-999.0000,9,   -999.0,  9,     7.69,2,   -999.0,  -999.00,9,  -999.00,9,  -999.00,9,  -999.00,9,   -999.0,-999.0000, -999,9,  300,   9.6200,  26.7282,   -999.0,9
       RF98-09,  165E,RF-0716,  1,     11,02-12811,2,19981015,0057,  5.1625, 164.9975, 4795,    402.7,   8.6719,  34.6242,2,   -999.0,9,  34.6021,4,     72.1,2,    35.50,2,  -999.00,9,    33.73,2,     0.00,2,     2.32,2, -999.000,9, -999.000,9,  -999.00,9,   -999.0,9,   -999.0,9,-999.0000,9,   -999.0,  9,  -999.00,9,   -999.0,  -999.00,9,  -999.00,9,  -999.00,9,  -999.00,9,   -999.0,-999.0000, -999,9,  400,   8.6288,  26.8826,   -999.0,9
       RF98-09,  165E,RF-0716,  1,     10,02-12820,2,19981015,0055,  5.1625, 164.9975, 4795,    504.1,   7.9951,  34.5927,2,   -999.0,9,  34.5983,2,     65.0,2,    39.67,2,  -999.00,9,    35.74,2,     0.00,2,     2.47,2, -999.000,9, -999.000,9,  -999.00,9,   -999.0,9,   -999.0,9,-999.0000,9,   -999.0,  9,  -999.00,9,   -999.0,  -999.00,9,  -999.00,9,  -999.00,9,  -999.00,9,   -999.0,-999.0000, -999,9,  501,   7.9434,  26.9624,   -999.0,9
       RF98-09,  165E,RF-0716,  1,      9,02-12810,2,19981015,0052,  5.1625, 164.9975, 4795,    602.8,   7.1693,  34.5737,2,   -999.0,9,  34.5712,2,     50.7,2,    48.63,2,  -999.00,9,    38.35,2,     0.00,2,     2.71,2, -999.000,9, -999.000,9,  -999.00,9,   -999.0,9,   -999.0,9,-999.0000,9,   -999.0,  9,  -999.00,9,   -999.0,  -999.00,9,  -999.00,9,  -999.00,9,  -999.00,9,   -999.0,-999.0000, -999,9,  599,   7.1108,  27.0676,   -999.0,9
       RF98-09,  165E,RF-0716,  1,      8,02-13579,2,19981015,0050,  5.1625, 164.9975, 4795,    706.1,   6.3822,  34.5508,2,   -999.0,9,  34.5527,2,     55.4,2,    57.51,2,  -999.00,9,    39.75,2,     0.00,2,     2.82,2, -999.000,9, -999.000,9,  -999.00,9,   -999.0,9,   -999.0,9,-999.0000,9,   -999.0,  9,  -999.00,9,   -999.0,  -999.00,9,  -999.00,9,  -999.00,9,  -999.00,9,   -999.0,-999.0000, -999,9,  701,   6.3174,  27.1568,   -999.0,9
       RF98-09,  165E,RF-0716,  1,      7,02-12815,2,19981015,0048,  5.1625, 164.9975, 4795,    805.2,   5.7839,  34.5489,2,   -999.0,9,  34.5429,2,     61.9,2,    65.86,2,  -999.00,9,    39.84,2,     0.00,2,     2.82,2, -999.000,9, -999.000,9,  -999.00,9,   -999.0,9,   -999.0,9,-999.0000,9,   -999.0,  9,  -999.00,9,   -999.0,  -999.00,9,  -999.00,9,  -999.00,9,  -999.00,9,   -999.0,-999.0000, -999,9,  799,   5.7131,  27.2322,   -999.0,9
       RF98-09,  165E,RF-0716,  1,      6,02-12818,2,19981015,0046,  5.1625, 164.9975, 4795,    906.1,   5.2891,  34.5446,2,   -999.0,9,-999.0000,9,     75.2,2,    71.56,2,  -999.00,9,    39.74,2,     0.00,2,     2.79,2, -999.000,9, -999.000,9,  -999.00,9,   -999.0,9,   -999.0,9,-999.0000,9,   -999.0,  9,  -999.00,9,   -999.0,  -999.00,9,  -999.00,9,  -999.00,9,  -999.00,9,   -999.0,-999.0000, -999,9,  899,   5.2122,  27.2894,   -999.0,9
       RF98-09,  165E,RF-0716,  1,      5,02-12809,2,19981015,0043,  5.1625, 164.9975, 4795,   1007.8,   4.8174,  34.5503,2,   -999.0,9,  34.5509,2,     70.9,2,    82.15,2,  -999.00,9,    40.48,2,     0.00,2,     2.87,2, -999.000,9, -999.000,9,  -999.00,9,   -999.0,9,   -999.0,9,-999.0000,9,   -999.0,  9,  -999.00,9,   -999.0,  -999.00,9,  -999.00,9,  -999.00,9,  -999.00,9,   -999.0,-999.0000, -999,9, 1000,   4.7347,  27.3490,   -999.0,9
       RF98-09,  165E,RF-0716,  1,      4,02-12817,2,19981015,0039,  5.1625, 164.9975, 4795,   1258.3,   3.7507,  34.5766,2,   -999.0,9,  34.5779,2,     82.8,2,   102.63,2,  -999.00,9,    40.30,2,     0.00,2,     2.87,2, -999.000,9, -999.000,9,  -999.00,9,   -999.0,9,   -999.0,9,-999.0000,9,   -999.0,  9,  -999.00,9,   -999.0,  -999.00,9,  -999.00,9,  -999.00,9,  -999.00,9,   -999.0,-999.0000, -999,9, 1248,   3.6553,  27.4844,   -999.0,9
       RF98-09,  165E,RF-0716,  1,      3,02-12808,2,19981015,0035,  5.1625, 164.9975, 4795,   1513.6,   3.1951,  34.5918,2,   -999.0,9,  34.5934,2,     85.3,2,   116.19,2,  -999.00,9,    40.44,2,     0.00,2,     2.86,2, -999.000,9, -999.000,9,  -999.00,9,   -999.0,9,   -999.0,9,-999.0000,9,   -999.0,  9,  -999.00,9,   -999.0,  -999.00,9,  -999.00,9,  -999.00,9,  -999.00,9,   -999.0,-999.0000, -999,9, 1500,   3.0839,  27.5515,   -999.0,9
       RF98-09,  165E,RF-0716,  1,      2,02-13591,2,19981015,0031,  5.1625, 164.9975, 4795,   1768.0,   2.5503,  34.6129,2,   -999.0,9,  34.6231,2,    100.2,2,   128.30,2,  -999.00,9,    39.54,2,     0.00,2,     2.79,2, -999.000,9, -999.000,9,  -999.00,9,   -999.0,9,   -999.0,9,-999.0000,9,   -999.0,  9,  -999.00,9,   -999.0,  -999.00,9,  -999.00,9,  -999.00,9,  -999.00,9,   -999.0,-999.0000, -999,9, 1751,   2.4255,  27.6267,   -999.0,9
       RF98-09,  165E,RF-0716,  1,      1,02-12807,2,19981015,0026,  5.1625, 164.9975, 4795,   2035.7,   2.1761,  34.6368,2,   -999.0,9,  34.6416,2,    108.4,2,   136.86,2,  -999.00,9,    39.20,2,     0.00,2,     2.74,2, -999.000,9, -999.000,9,  -999.00,9,   -999.0,9,   -999.0,9,-999.0000,9,   -999.0,  9,  -999.00,9,   -999.0,  -999.00,9,  -999.00,9,  -999.00,9,  -999.00,9,   2021.0,-999.0000, -999,9, 2015,   2.0339,  27.6780,   -999.0,9