BOTTLE,20130607MIRCJHATS
EXPOCODE,SECT_ID,STNNBR,CASTNO,SAMPNO,BTLNBR,BTLNBR_FLAG_W,DATE,TIME,LATITUDE,LONGITUDE,DEPTH,CTDPRS,CTDTMP,CTDSAL,CTDSAL_FLAG_W,CTDOXY,CTDOXY_FLAG_W,SALNTY,SALNTY_FLAG_W,OXYGEN,OXYGEN_FLAG_W,SILCAT,SILCAT_FLAG_W,NITRAT,NITRAT_FLAG_W,NO2+NO3,NO2+NO3_FLAG_W,NITRIT,NITRIT_FLAG_W,PHSPHT,PHSPHT_FLAG_W,CFC-11,CFC-11_FLAG_W,CFC-12,CFC-12_FLAG_W,DELC13,DELC13_FLAG_W,TCARBN,TCARBN_FLAG_W,ALKALI,ALKALI_FLAG_W,PH,PH_FLAG_W,PH_TMP,PH_SCALE,PH_NBS,PH_NBS_FLAG_W,C13ERR,TOTALP,TOTALP_FLAG_W,AMMONI,AMMONI_FLAG_W,CHLORA,CHLORA_FLAG_W,PPHYTN,PPHYTN_FLAG_W,REVPRS,REVTMP,DEPTH_,DEPTH_FLAG,CTDDEP,THETA,SIGTHT,DOC,DOC_FLAG_W
,,,,,,,GMT,GMT,,,METER,DBAR,ITS-90,PSS-78,,UMOL/KG,,PSS-78,,UMOL/KG,,UMOL/KG,,UMOL/KG,,UMOL/KG,,UMOL/KG,,UMOL/KG,,PMOL/KG,,PMOL/KG,,/MILLE,,UMOL/KG,,UMOL/KG,,25_DEG_C,,DEG_C,,,,/MILLE,UMOL/KG,,UMOL/KG,,UG/L,,UG/L,,DBAR,ITS-90,METERS,,METERS,DEG_C,,UMOL/L,
       RF98-09,  142E,RF-0740,  1,     -9,      -9,5,19981109,1003, 33.6095, 141.4555, 5642,      0.0,  24.8359,  34.2366,2,   -999.0,9,-999.0000,9,    211.3,2,     1.69,2,  -999.00,9,     0.24,2,     0.01,2,     0.07,2, -999.000,9, -999.000,9,  -999.00,9,   -999.0,9,   -999.0,9,-999.0000,9,   -999.0,  9,     8.24,2,   -999.0,  -999.00,9,  -999.00,9,     0.22,2,     0.21,2,   -999.0,-999.0000, -999,9,    0,  24.8359,  22.8140,   -999.0,9
       RF98-09,  142E,RF-0740,  1,     24,02-12830,2,19981109,1001, 33.6095, 141.4555, 5642,     12.4,  24.8409,  34.2395,2,   -999.0,9,-999.0000,9,    210.4,2,     1.77,2,  -999.00,9,     0.00,2,     0.01,2,     0.03,2, -999.000,9, -999.000,9,  -999.00,9,   -999.0,9,   -999.0,9,-999.0000,9,   -999.0,  9,     8.24,2,   -999.0,  -999.00,9,  -999.00,9,  -999.00,9,  -999.00,9,   -999.0,-999.0000, -999,9,   12,  24.8383,  22.8155,   -999.0,9
       RF98-09,  142E,RF-0740,  1,     23,02-12829,2,19981109,0959, 33.6095, 141.4555, 5642,     27.6,  24.8436,  34.2415,2,   -999.0,9,-999.0000,9,    213.1,2,     1.70,2,  -999.00,9,     0.03,2,     0.01,2,     0.02,2, -999.000,9, -999.000,9,  -999.00,9,   -999.0,9,   -999.0,9,-999.0000,9,   -999.0,  9,     8.25,2,   -999.0,  -999.00,9,  -999.00,9,     0.22,2,     0.20,2,   -999.0,-999.0000, -999,9,   27,  24.8376,  22.8172,   -999.0,9
       RF98-09,  142E,RF-0740,  1,     22,02-12828,2,19981109,0958, 33.6095, 141.4555, 5642,     51.5,  24.8616,  34.2487,2,   -999.0,9,-999.0000,9,    210.1,2,     1.67,2,  -999.00,9,     0.03,2,     0.01,2,     0.02,2, -999.000,9, -999.000,9,  -999.00,9,   -999.0,9,   -999.0,9,-999.0000,9,   -999.0,  9,     8.25,2,   -999.0,  -999.00,9,  -999.00,9,     0.22,2,     0.19,2,   -999.0,-999.0000, -999,9,   51,  24.8505,  22.8188,   -999.0,9
       RF98-09,  142E,RF-0740,  1,     21,02-12827,2,19981109,0957, 33.6095, 141.4555, 5642,     76.1,  24.8751,  34.2559,2,   -999.0,9,-999.0000,9,    210.1,2,     1.74,2,  -999.00,9,     0.03,2,     0.01,2,     0.01,2, -999.000,9, -999.000,9,  -999.00,9,   -999.0,9,   -999.0,9,-999.0000,9,   -999.0,  9,     8.24,2,   -999.0,  -999.00,9,  -999.00,9,     0.23,2,     0.22,2,   -999.0,-999.0000, -999,9,   76,  24.8587,  22.8218,   -999.0,9
       RF98-09,  142E,RF-0740,  1,     20,02-12826,2,19981109,0955, 33.6095, 141.4555, 5642,     99.3,  24.5182,  34.3452,2,   -999.0,9,-999.0000,9,    210.0,2,     1.83,2,  -999.00,9,     0.09,2,     0.06,2,     0.03,2, -999.000,9, -999.000,9,  -999.00,9,   -999.0,9,   -999.0,9,-999.0000,9,   -999.0,  9,     8.22,2,   -999.0,  -999.00,9,  -999.00,9,     0.21,2,     0.22,2,   -999.0,-999.0000, -999,9,   99,  24.4970,  22.9980,   -999.0,9
       RF98-09,  142E,RF-0740,  1,     19,02-12825,2,19981109,0954, 33.6095, 141.4555, 5642,    127.0,  17.4949,  34.5353,2,   -999.0,9,-999.0000,9,    195.4,2,     7.55,2,  -999.00,9,     6.21,2,     0.03,2,     0.43,2, -999.000,9, -999.000,9,  -999.00,9,   -999.0,9,   -999.0,9,-999.0000,9,   -999.0,  9,     8.09,2,   -999.0,  -999.00,9,  -999.00,9,     0.16,2,     0.17,2,   -999.0,-999.0000, -999,9,  126,  17.4736,  25.0443,   -999.0,9
       RF98-09,  142E,RF-0740,  1,     18,02-12824,2,19981109,0953, 33.6095, 141.4555, 5642,    152.4,  16.4517,  34.5952,2,   -999.0,9,-999.0000,9,    188.7,2,    10.19,2,  -999.00,9,     8.62,2,     0.02,2,     0.58,2, -999.000,9, -999.000,9,  -999.00,9,   -999.0,9,   -999.0,9,-999.0000,9,   -999.0,  9,     8.07,4,   -999.0,  -999.00,9,  -999.00,9,     0.04,2,     0.16,2,   -999.0,-999.0000, -999,9,  151,  16.4272,  25.3379,   -999.0,9
       RF98-09,  142E,RF-0740,  1,     17,02-12814,2,19981109,0951, 33.6095, 141.4555, 5642,    202.1,  13.9106,  34.5191,2,   -999.0,9,-999.0000,9,    179.4,2,    17.71,2,  -999.00,9,    13.19,2,     0.01,2,     0.91,2, -999.000,9, -999.000,9,  -999.00,9,   -999.0,9,   -999.0,9,-999.0000,9,   -999.0,  9,     8.00,2,   -999.0,  -999.00,9,  -999.00,9,     0.03,2,     0.07,2,   -999.0,-999.0000, -999,9,  201,  13.8817,  25.8402,   -999.0,9
       RF98-09,  142E,RF-0740,  1,     16,02-12832,2,19981109,0949, 33.6095, 141.4555, 5642,    252.0,  12.2608,  34.4355,2,   -999.0,9,-999.0000,9,    167.4,2,    23.65,2,  -999.00,9,    16.49,2,     0.01,2,     1.14,2, -999.000,9, -999.000,9,  -999.00,9,   -999.0,9,   -999.0,9,-999.0000,9,   -999.0,  9,     7.95,2,   -999.0,  -999.00,9,  -999.00,9,     0.01,2,     0.03,2,   -999.0,-999.0000, -999,9,  250,  12.2275,  26.1071,   -999.0,9
       RF98-09,  142E,RF-0740,  1,     15,02-12833,2,19981109,0947, 33.6095, 141.4555, 5642,    303.2,  10.6991,  34.3063,2,   -999.0,9,-999.0000,9,    173.9,2,    29.20,2,  -999.00,9,    18.54,2,     0.01,2,     1.31,2, -999.000,9, -999.000,9,  -999.00,9,   -999.0,9,   -999.0,9,-999.0000,9,   -999.0,  9,     7.92,2,   -999.0,  -999.00,9,  -999.00,9,  -999.00,9,  -999.00,9,   -999.0,-999.0000, -999,9,  301,  10.6625,  26.2955,   -999.0,9
       RF98-09,  142E,RF-0740,  1,     14,02-13578,2,19981109,0945, 33.6095, 141.4555, 5642,    405.3,   8.0155,  34.1556,2,   -999.0,9,-999.0000,9,    157.4,2,    45.57,2,  -999.00,9,    24.77,2,     0.00,2,     1.75,2, -999.000,9, -999.000,9,  -999.00,9,   -999.0,9,   -999.0,9,-999.0000,9,   -999.0,  9,     7.82,2,   -999.0,  -999.00,9,  -999.00,9,  -999.00,9,  -999.00,9,   -999.0,-999.0000, -999,9,  402,   7.9744,  26.6145,   -999.0,9
       RF98-09,  142E,RF-0740,  1,     13,02-13590,2,19981109,0942, 33.6095, 141.4555, 5642,    504.6,   6.6029,  34.1635,2,   -999.0,9,-999.0000,9,    122.3,2,    64.04,2,  -999.00,9,    30.50,2,     0.00,2,     2.19,2, -999.000,9, -999.000,9,  -999.00,9,   -999.0,9,   -999.0,9,-999.0000,9,   -999.0,  9,     7.73,2,   -999.0,  -999.00,9,  -999.00,9,  -999.00,9,  -999.00,9,   -999.0,-999.0000, -999,9,  500,   6.5568,  26.8196,   -999.0,9
       RF98-09,  142E,RF-0740,  1,     12,02-12821,2,19981109,0939, 33.6095, 141.4555, 5642,    605.7,   5.3740,  34.2113,2,   -999.0,9,-999.0000,9,     88.8,2,    84.18,2,  -999.00,9,    35.25,2,     0.00,2,     2.55,2, -999.000,9, -999.000,9,  -999.00,9,   -999.0,9,   -999.0,9,-999.0000,9,   -999.0,  9,     7.66,2,   -999.0,  -999.00,9,  -999.00,9,  -999.00,9,  -999.00,9,   -999.0,-999.0000, -999,9,  600,   5.3238,  27.0122,   -999.0,9
       RF98-09,  142E,RF-0740,  1,     11,02-12811,4,19981109,0936, 33.6095, 141.4555, 5642,    706.6,   4.4796,  34.2256,2,   -999.0,9,-999.0000,9,   -999.0,9,    32.28,4,  -999.00,9,    17.95,4,     0.01,4,     1.27,4, -999.000,9, -999.000,9,  -999.00,9,   -999.0,9,   -999.0,9,-999.0000,9,   -999.0,  9,     7.94,4,   -999.0,  -999.00,9,  -999.00,9,  -999.00,9,  -999.00,9,   -999.0,-999.0000, -999,9,  700,   4.4254,  27.1253,   -999.0,9
       RF98-09,  142E,RF-0740,  1,     10,02-12820,4,19981109,0934, 33.6095, 141.4555, 5642,    805.9,   3.9996,  34.2771,2,   -999.0,9,-999.0000,9,   -999.0,9,  -999.00,9,  -999.00,9,  -999.00,9,  -999.00,9,  -999.00,9, -999.000,9, -999.000,9,  -999.00,9,   -999.0,9,   -999.0,9,-999.0000,9,   -999.0,  9,  -999.00,9,   -999.0,  -999.00,9,  -999.00,9,  -999.00,9,  -999.00,9,   -999.0,-999.0000, -999,9,  799,   3.9401,  27.2173,   -999.0,9
       RF98-09,  142E,RF-0740,  1,      9,02-12810,2,19981109,0931, 33.6095, 141.4555, 5642,    908.6,   3.6857,  34.3411,2,   -999.0,9,-999.0000,9,     55.7,2,   117.99,2,  -999.00,9,    40.27,2,     0.00,2,     2.93,2, -999.000,9, -999.000,9,  -999.00,9,   -999.0,9,   -999.0,9,-999.0000,9,   -999.0,  9,     7.60,4,   -999.0,  -999.00,9,  -999.00,9,  -999.00,9,  -999.00,9,   -999.0,-999.0000, -999,9,  900,   3.6200,  27.3004,   -999.0,9
       RF98-09,  142E,RF-0740,  1,      7,02-12815,2,19981109,0928, 33.6095, 141.4555, 5642,   1010.0,   3.3102,  34.3882,2,   -999.0,9,-999.0000,9,   -999.0,9,  -999.00,9,  -999.00,9,  -999.00,9,  -999.00,9,  -999.00,9, -999.000,9, -999.000,9,  -999.00,9,   -999.0,9,   -999.0,9,-999.0000,9,   -999.0,  9,  -999.00,9,   -999.0,  -999.00,9,  -999.00,9,  -999.00,9,  -999.00,9,   -999.0,-999.0000, -999,9, 1000,   3.2393,  27.3745,   -999.0,9
       RF98-09,  142E,RF-0740,  1,      8,02-13579,2,19981109,0928, 33.6095, 141.4555, 5642,   1013.8,   3.3116,  34.3825,2,   -999.0,9,  34.3813,2,     52.8,2,   127.18,2,  -999.00,9,    40.89,2,     0.00,2,     2.97,2, -999.000,9, -999.000,9,  -999.00,9,   -999.0,9,   -999.0,9,-999.0000,9,   -999.0,  9,     7.56,2,   -999.0,  -999.00,9,  -999.00,9,  -999.00,9,  -999.00,9,   -999.0,-999.0000, -999,9, 1004,   3.2404,  27.3699,   -999.0,9
       RF98-09,  142E,RF-0740,  1,      6,02-12818,2,19981109,0922, 33.6095, 141.4555, 5642,   1262.7,   2.6834,  34.4678,2,   -999.0,9,  34.4622,2,     47.7,2,   143.33,2,  -999.00,9,    41.95,2,     0.00,2,     3.05,2, -999.000,9, -999.000,9,  -999.00,9,   -999.0,9,   -999.0,9,-999.0000,9,   -999.0,  9,     7.55,2,   -999.0,  -999.00,9,  -999.00,9,  -999.00,9,  -999.00,9,   -999.0,-999.0000, -999,9, 1250,   2.5982,  27.4959,   -999.0,9
       RF98-09,  142E,RF-0740,  1,      5,02-12809,2,19981109,0915, 33.6095, 141.4555, 5642,   1515.5,   2.3282,  34.5299,2,   -999.0,9,  34.5254,2,     53.3,2,   152.01,2,  -999.00,9,    41.97,2,     0.00,2,     3.03,2, -999.000,9, -999.000,9,  -999.00,9,   -999.0,9,   -999.0,9,-999.0000,9,   -999.0,  9,     7.59,4,   -999.0,  -999.00,9,  -999.00,9,  -999.00,9,  -999.00,9,   -999.0,-999.0000, -999,9, 1499,   2.2270,  27.5768,   -999.0,9
       RF98-09,  142E,RF-0740,  1,      4,02-12817,2,19981109,0910, 33.6095, 141.4555, 5642,   1770.5,   2.0634,  34.5774,2,   -999.0,9,  34.5720,2,     69.1,2,   155.40,2,  -999.00,9,    41.22,2,     0.00,2,     2.95,2, -999.000,9, -999.000,9,  -999.00,9,   -999.0,9,   -999.0,9,-999.0000,9,   -999.0,  9,     7.62,2,   -999.0,  -999.00,9,  -999.00,9,  -999.00,9,  -999.00,9,   -999.0,-999.0000, -999,9, 1751,   1.9451,  27.6375,   -999.0,9
       RF98-09,  142E,RF-0740,  1,      3,02-12808,2,19981109,0904, 33.6095, 141.4555, 5642,   2022.6,   1.8890,  34.6098,2,   -999.0,9,  34.6040,2,     87.5,2,   154.56,2,  -999.00,9,    40.10,2,     0.00,2,     2.86,2, -999.000,9, -999.000,9,  -999.00,9,   -999.0,9,   -999.0,9,-999.0000,9,   -999.0,  9,     7.64,2,   -999.0,  -999.00,9,  -999.00,9,  -999.00,9,  -999.00,9,   -999.0,-999.0000, -999,9, 1999,   1.7525,  27.6783,   -999.0,9
       RF98-09,  142E,RF-0740,  1,      2,02-13591,2,19981109,0859, 33.6095, 141.4555, 5642,   2278.0,   1.7549,  34.6320,2,   -999.0,9,  34.6263,2,    102.6,2,   153.74,2,  -999.00,9,    39.33,2,     0.00,2,     2.79,2, -999.000,9, -999.000,9,  -999.00,9,   -999.0,9,   -999.0,9,-999.0000,9,   -999.0,  9,     7.67,2,   -999.0,  -999.00,9,  -999.00,9,  -999.00,9,  -999.00,9,   -999.0,-999.0000, -999,9, 2250,   1.5988,  27.7076,   -999.0,9
       RF98-09,  142E,RF-0740,  1,      1,02-12807,2,19981109,0852, 33.6095, 141.4555, 5642,   2530.0,   1.6401,  34.6501,2,   -999.0,9,  34.6457,2,    117.5,2,   152.17,2,  -999.00,9,    38.45,2,     0.01,2,     2.72,2, -999.000,9, -999.000,9,  -999.00,9,   -999.0,9,   -999.0,9,-999.0000,9,   -999.0,  9,     7.69,2,   -999.0,  -999.00,9,  -999.00,9,  -999.00,9,  -999.00,9,   2515.0,-999.0000, -999,9, 2497,   1.4639,  27.7320,   -999.0,9