BOTTLE,20130607MIRCJHATS
EXPOCODE,SECT_ID,STNNBR,CASTNO,SAMPNO,BTLNBR,BTLNBR_FLAG_W,DATE,TIME,LATITUDE,LONGITUDE,DEPTH,CTDPRS,CTDTMP,CTDSAL,CTDSAL_FLAG_W,CTDOXY,CTDOXY_FLAG_W,SALNTY,SALNTY_FLAG_W,OXYGEN,OXYGEN_FLAG_W,SILCAT,SILCAT_FLAG_W,NITRAT,NITRAT_FLAG_W,NO2+NO3,NO2+NO3_FLAG_W,NITRIT,NITRIT_FLAG_W,PHSPHT,PHSPHT_FLAG_W,CFC-11,CFC-11_FLAG_W,CFC-12,CFC-12_FLAG_W,DELC13,DELC13_FLAG_W,TCARBN,TCARBN_FLAG_W,ALKALI,ALKALI_FLAG_W,PH,PH_FLAG_W,PH_TMP,PH_SCALE,PH_NBS,PH_NBS_FLAG_W,C13ERR,TOTALP,TOTALP_FLAG_W,AMMONI,AMMONI_FLAG_W,CHLORA,CHLORA_FLAG_W,PPHYTN,PPHYTN_FLAG_W,REVPRS,REVTMP,DEPTH_,DEPTH_FLAG,CTDDEP,THETA,SIGTHT,DOC,DOC_FLAG_W
,,,,,,,GMT,GMT,,,METER,DBAR,ITS-90,PSS-78,,UMOL/KG,,PSS-78,,UMOL/KG,,UMOL/KG,,UMOL/KG,,UMOL/KG,,UMOL/KG,,UMOL/KG,,PMOL/KG,,PMOL/KG,,/MILLE,,UMOL/KG,,UMOL/KG,,25_DEG_C,,DEG_C,,,,/MILLE,UMOL/KG,,UMOL/KG,,UG/L,,UG/L,,DBAR,ITS-90,METERS,,METERS,DEG_C,,UMOL/L,
       RF98-09,  165E,RF-0681,  1,     -9,      -9,5,19980923,1918, 40.0182, 165.0432, 5470,      0.0,  23.0753,  34.1169,2,   -999.0,9,-999.0000,9,    221.4,2,     1.79,2,  -999.00,9,     0.06,2,     0.00,2,     0.03,2, -999.000,9, -999.000,9,  -999.00,9,   -999.0,9,   -999.0,9,-999.0000,9,   -999.0,  9,     8.21,2,   -999.0,  -999.00,9,  -999.00,9,     0.09,2,     0.05,2,   -999.0,-999.0000, -999,9,    0,  23.0753,  23.2423,   -999.0,9
       RF98-09,  165E,RF-0681,  1,     22,02-12828,3,19980923,1916, 40.0182, 165.0432, 5470,      9.7,  23.0716,  34.1208,2,   -999.0,9,-999.0000,9,    221.1,2,     1.83,2,  -999.00,9,     0.03,2,     0.00,2,     0.04,2, -999.000,9, -999.000,9,  -999.00,9,   -999.0,9,   -999.0,9,-999.0000,9,   -999.0,  9,     8.21,2,   -999.0,  -999.00,9,  -999.00,9,  -999.00,9,  -999.00,9,   -999.0,-999.0000, -999,9,   10,  23.0696,  23.2469,   -999.0,9
       RF98-09,  165E,RF-0681,  1,     21,02-12827,2,19980923,1915, 40.0182, 165.0432, 5470,     25.4,  23.0583,  34.1180,2,   -999.0,9,-999.0000,9,    223.9,2,     1.89,2,  -999.00,9,     0.04,2,     0.00,2,     0.03,2, -999.000,9, -999.000,9,  -999.00,9,   -999.0,9,   -999.0,9,-999.0000,9,   -999.0,  9,     8.21,2,   -999.0,  -999.00,9,  -999.00,9,     0.09,2,     0.04,2,   -999.0,-999.0000, -999,9,   25,  23.0531,  23.2495,   -999.0,9
       RF98-09,  165E,RF-0681,  1,     20,02-12826,2,19980923,1913, 40.0182, 165.0432, 5470,     49.7,  16.7498,  34.3394,2,   -999.0,9,  34.3300,2,    305.0,3,     4.81,2,  -999.00,9,     0.00,2,     0.00,2,     0.09,2, -999.000,9, -999.000,9,  -999.00,9,   -999.0,9,   -999.0,9,-999.0000,9,   -999.0,  9,     8.19,2,   -999.0,  -999.00,9,  -999.00,9,     0.09,2,     0.06,2,   -999.0,-999.0000, -999,9,   49,  16.7417,  25.0681,   -999.0,9
       RF98-09,  165E,RF-0681,  1,     19,02-12825,2,19980923,1911, 40.0182, 165.0432, 5470,     74.5,  12.8108,  34.2705,2,   -999.0,9,-999.0000,9,    266.0,2,    11.26,2,  -999.00,9,     7.28,2,     0.28,2,     0.58,2, -999.000,9, -999.000,9,  -999.00,9,   -999.0,9,   -999.0,9,-999.0000,9,   -999.0,  9,     8.07,2,   -999.0,  -999.00,9,  -999.00,9,     0.33,2,     0.29,2,   -999.0,-999.0000, -999,9,   74,  12.8008,  25.8673,   -999.0,9
       RF98-09,  165E,RF-0681,  1,     18,02-12824,2,19980923,1909, 40.0182, 165.0432, 5470,    100.4,  11.3064,  34.2792,2,   -999.0,9,  34.2840,2,    248.8,2,    14.53,2,  -999.00,9,    11.65,2,     0.03,2,     0.77,2, -999.000,9, -999.000,9,  -999.00,9,   -999.0,9,   -999.0,9,-999.0000,9,   -999.0,  9,     8.01,2,   -999.0,  -999.00,9,  -999.00,9,     0.38,2,     0.52,2,   -999.0,-999.0000, -999,9,  100,  11.2939,  26.1609,   -999.0,9
       RF98-09,  165E,RF-0681,  1,     17,02-12814,2,19980923,1908, 40.0182, 165.0432, 5470,    124.9,  10.6983,  34.2632,2,   -999.0,9,-999.0000,9,    242.2,2,    16.48,2,  -999.00,9,    12.84,2,     0.02,2,     0.86,2, -999.000,9, -999.000,9,  -999.00,9,   -999.0,9,   -999.0,9,-999.0000,9,   -999.0,  9,     7.99,2,   -999.0,  -999.00,9,  -999.00,9,     0.14,2,     0.19,2,   -999.0,-999.0000, -999,9,  124,  10.6833,  26.2582,   -999.0,9
       RF98-09,  165E,RF-0681,  1,     16,02-12832,2,19980923,1906, 40.0182, 165.0432, 5470,    150.5,  10.4026,  34.2628,2,   -999.0,9,  34.2589,2,    234.8,2,    19.05,2,  -999.00,9,    14.06,2,     0.02,2,     0.94,2, -999.000,9, -999.000,9,  -999.00,9,   -999.0,9,   -999.0,9,-999.0000,9,   -999.0,  9,     7.98,2,   -999.0,  -999.00,9,  -999.00,9,     0.05,2,     0.06,2,   -999.0,-999.0000, -999,9,  149,  10.3849,  26.3102,   -999.0,9
       RF98-09,  165E,RF-0681,  1,     15,02-12833,2,19980923,1903, 40.0182, 165.0432, 5470,    200.7,   9.2314,  34.1284,2,   -999.0,9,  34.1336,2,    238.9,2,    22.13,2,  -999.00,9,    15.51,2,     0.01,2,     1.05,2, -999.000,9, -999.000,9,  -999.00,9,   -999.0,9,   -999.0,9,-999.0000,9,   -999.0,  9,     7.96,2,   -999.0,  -999.00,9,  -999.00,9,     0.01,2,     0.03,2,   -999.0,-999.0000, -999,9,  199,   9.2094,  26.4020,   -999.0,9
       RF98-09,  165E,RF-0681,  1,     14,02-13578,2,19980923,1859, 40.0182, 165.0432, 5470,    251.3,   8.3359,  34.0353,2,   -999.0,9,-999.0000,9,    240.2,2,    24.07,2,  -999.00,9,    16.49,2,     0.01,2,     1.13,2, -999.000,9, -999.000,9,  -999.00,9,   -999.0,9,   -999.0,9,-999.0000,9,   -999.0,  9,     7.94,2,   -999.0,  -999.00,9,  -999.00,9,     0.01,2,     0.02,2,   -999.0,-999.0000, -999,9,  249,   8.3101,  26.4698,   -999.0,9
       RF98-09,  165E,RF-0681,  1,     13,02-13590,2,19980923,1857, 40.0182, 165.0432, 5470,    301.6,   7.8079,  34.0106,2,   -999.0,9,  34.0133,2,    217.4,2,    31.70,2,  -999.00,9,    20.17,2,     0.01,2,     1.39,2, -999.000,9, -999.000,9,  -999.00,9,   -999.0,9,   -999.0,9,-999.0000,9,   -999.0,  9,     7.89,4,   -999.0,  -999.00,9,  -999.00,9,  -999.00,9,  -999.00,9,   -999.0,-999.0000, -999,9,  299,   7.7780,  26.5294,   -999.0,9
       RF98-09,  165E,RF-0681,  1,     12,02-12821,2,19980923,1853, 40.0182, 165.0432, 5470,    403.2,   5.8975,  33.9443,2,   -999.0,9,  33.9470,2,    157.1,2,    55.17,2,  -999.00,9,    29.01,2,     0.01,2,     2.05,2, -999.000,9, -999.000,9,  -999.00,9,   -999.0,9,   -999.0,9,-999.0000,9,   -999.0,  9,  -999.00,9,   -999.0,  -999.00,9,  -999.00,9,  -999.00,9,  -999.00,9,   -999.0,-999.0000, -999,9,  400,   5.8632,  26.7355,   -999.0,9
       RF98-09,  165E,RF-0681,  1,     11,02-12811,2,19980923,1849, 40.0182, 165.0432, 5470,    504.5,   4.9051,  33.9800,2,   -999.0,9,  33.9864,2,    115.8,2,    73.62,2,  -999.00,9,    34.44,2,     0.01,2,     2.44,2, -999.000,9, -999.000,9,  -999.00,9,   -999.0,9,   -999.0,9,-999.0000,9,   -999.0,  9,  -999.00,9,   -999.0,  -999.00,9,  -999.00,9,  -999.00,9,  -999.00,9,   -999.0,-999.0000, -999,9,  500,   4.8657,  26.8818,   -999.0,9
       RF98-09,  165E,RF-0681,  1,     10,02-12820,4,19980923,1845, 40.0182, 165.0432, 5470,    603.8,   4.5986,  34.0826,2,   -999.0,9,-999.0000,9,    113.6,4,    73.95,4,  -999.00,9,    34.49,4,     0.01,4,     2.45,4, -999.000,9, -999.000,9,  -999.00,9,   -999.0,9,   -999.0,9,-999.0000,9,   -999.0,  9,  -999.00,9,   -999.0,  -999.00,9,  -999.00,9,  -999.00,9,  -999.00,9,   -999.0,-999.0000, -999,9,  598,   4.5524,  26.9979,   -999.0,9
       RF98-09,  165E,RF-0681,  1,      9,02-12810,2,19980923,1841, 40.0182, 165.0432, 5470,    703.3,   4.0820,  34.1432,2,   -999.0,9,  34.1481,2,     62.4,2,   101.00,2,  -999.00,9,    39.75,2,     0.01,2,     2.85,2, -999.000,9, -999.000,9,  -999.00,9,   -999.0,9,   -999.0,9,-999.0000,9,   -999.0,  9,  -999.00,9,   -999.0,  -999.00,9,  -999.00,9,  -999.00,9,  -999.00,9,   -999.0,-999.0000, -999,9,  697,   4.0304,  27.1015,   -999.0,9
       RF98-09,  165E,RF-0681,  1,      8,02-13579,2,19980923,1838, 40.0182, 165.0432, 5470,    806.5,   3.8192,  34.2345,2,   -999.0,9,-999.0000,9,     49.3,2,   111.77,2,  -999.00,9,    40.91,2,     0.01,2,     2.94,2, -999.000,9, -999.000,9,  -999.00,9,   -999.0,9,   -999.0,9,-999.0000,9,   -999.0,  9,  -999.00,9,   -999.0,  -999.00,9,  -999.00,9,  -999.00,9,  -999.00,9,   -999.0,-999.0000, -999,9,  799,   3.7609,  27.2014,   -999.0,9
       RF98-09,  165E,RF-0681,  1,      7,02-12815,2,19980923,1834, 40.0182, 165.0432, 5470,    907.2,   3.5601,  34.2844,2,   -999.0,9,-999.0000,9,     41.1,2,   120.24,2,  -999.00,9,    41.69,2,     0.01,2,     3.03,2, -999.000,9, -999.000,9,  -999.00,9,   -999.0,9,   -999.0,9,-999.0000,9,   -999.0,  9,  -999.00,9,   -999.0,  -999.00,9,  -999.00,9,  -999.00,9,  -999.00,9,   -999.0,-999.0000, -999,9,  898,   3.4955,  27.2674,   -999.0,9
       RF98-09,  165E,RF-0681,  1,      5,02-12809,2,19980923,1830, 40.0182, 165.0432, 5470,   1006.7,   3.2819,  34.3318,2,   -999.0,9,-999.0000,9,   -999.0,9,  -999.00,9,  -999.00,9,  -999.00,9,  -999.00,9,  -999.00,9, -999.000,9, -999.000,9,  -999.00,9,   -999.0,9,   -999.0,9,-999.0000,9,   -999.0,  9,  -999.00,9,   -999.0,  -999.00,9,  -999.00,9,  -999.00,9,  -999.00,9,   -999.0,-999.0000, -999,9,  997,   3.2116,  27.3321,   -999.0,9
       RF98-09,  165E,RF-0681,  1,      6,02-12818,2,19980923,1830, 40.0182, 165.0432, 5470,   1010.0,   3.2809,  34.3243,2,   -999.0,9,  34.3369,4,     40.2,2,   127.99,2,  -999.00,9,    42.11,2,     0.01,2,     3.06,2, -999.000,9, -999.000,9,  -999.00,9,   -999.0,9,   -999.0,9,-999.0000,9,   -999.0,  9,  -999.00,9,   -999.0,  -999.00,9,  -999.00,9,  -999.00,9,  -999.00,9,   -999.0,-999.0000, -999,9, 1000,   3.2103,  27.3263,   -999.0,9
       RF98-09,  165E,RF-0681,  1,      4,02-12817,2,19980923,1750, 40.0182, 165.0432, 5470,   1259.6,   2.7830,  34.4240,2,   -999.0,9,  34.4359,2,     37.9,2,   142.49,2,  -999.00,9,    42.58,2,     0.01,2,     3.10,2, -999.000,9, -999.000,9,  -999.00,9,   -999.0,9,   -999.0,9,-999.0000,9,   -999.0,  9,  -999.00,9,   -999.0,  -999.00,9,  -999.00,9,  -999.00,9,  -999.00,9,   -999.0,-999.0000, -999,9, 1246,   2.6972,  27.4523,   -999.0,9
       RF98-09,  165E,RF-0681,  1,      3,02-12808,2,19980923,1745, 40.0182, 165.0432, 5470,   1511.7,   2.3900,  34.4942,2,   -999.0,9,  34.5029,2,     48.5,2,   153.00,2,  -999.00,9,    42.47,2,     0.01,2,     3.09,2, -999.000,9, -999.000,9,  -999.00,9,   -999.0,9,   -999.0,9,-999.0000,9,   -999.0,  9,  -999.00,9,   -999.0,  -999.00,9,  -999.00,9,  -999.00,9,  -999.00,9,   -999.0,-999.0000, -999,9, 1495,   2.2885,  27.5432,   -999.0,9
       RF98-09,  165E,RF-0681,  1,      2,02-13588,2,19980923,1741, 40.0182, 165.0432, 5470,   1764.2,   2.1454,  34.5434,2,   -999.0,9,  34.5486,2,     54.7,2,   158.43,2,  -999.00,9,    42.00,2,     0.01,2,     3.04,2, -999.000,9, -999.000,9,  -999.00,9,   -999.0,9,   -999.0,9,-999.0000,9,   -999.0,  9,  -999.00,9,   -999.0,  -999.00,9,  -999.00,9,  -999.00,9,  -999.00,9,   -999.0,-999.0000, -999,9, 1743,   2.0266,  27.6037,   -999.0,9
       RF98-09,  165E,RF-0681,  1,      1,02-12807,2,19980923,1737, 40.0182, 165.0432, 5470,   2043.3,   1.9447,  34.5832,2,   -999.0,9,-999.0000,9,     70.5,2,   161.01,2,  -999.00,9,    41.15,2,     0.01,2,     2.97,2, -999.000,9, -999.000,9,  -999.00,9,   -999.0,9,   -999.0,9,-999.0000,9,   -999.0,  9,  -999.00,9,   -999.0,  -999.00,9,  -999.00,9,  -999.00,9,  -999.00,9,   2023.0,-999.0000, -999,9, 2018,   1.8056,  27.6528,   -999.0,9
       RF98-09,  165E,RF-0682,  1,     -9,      -9,5,19980924,0225, 39.0213, 165.0135, 5374,      0.0,  23.7337,  34.1414,2,   -999.0,9,-999.0000,9,    218.9,2,     2.57,2,  -999.00,9,     0.03,2,     0.00,2,     0.07,2, -999.000,9, -999.000,9,  -999.00,9,   -999.0,9,   -999.0,9,-999.0000,9,   -999.0,  9,     8.21,2,   -999.0,  -999.00,9,  -999.00,9,  -999.00,9,  -999.00,9,   -999.0,-999.0000, -999,9,    0,  23.7337,  23.0698,   -999.0,9
       RF98-09,  165E,RF-0682,  1,     21,02-12827,2,19980924,0225, 39.0213, 165.0135, 5374,      7.5,  23.7362,  34.1616,2,   -999.0,9,-999.0000,9,    218.9,2,     1.95,2,  -999.00,9,     0.01,2,     0.00,2,     0.06,2, -999.000,9, -999.000,9,  -999.00,9,   -999.0,9,   -999.0,9,-999.0000,9,   -999.0,  9,     8.21,2,   -999.0,  -999.00,9,  -999.00,9,  -999.00,9,  -999.00,9,   -999.0,-999.0000, -999,9,    7,  23.7346,  23.0848,   -999.0,9
       RF98-09,  165E,RF-0682,  1,     20,02-12826,2,19980924,0224, 39.0213, 165.0135, 5374,     23.8,  23.7356,  34.1594,2,   -999.0,9,-999.0000,9,    222.9,2,     2.06,2,  -999.00,9,     0.02,2,     0.00,2,     0.05,2, -999.000,9, -999.000,9,  -999.00,9,   -999.0,9,   -999.0,9,-999.0000,9,   -999.0,  9,     8.23,2,   -999.0,  -999.00,9,  -999.00,9,  -999.00,9,  -999.00,9,   -999.0,-999.0000, -999,9,   24,  23.7307,  23.0843,   -999.0,9
       RF98-09,  165E,RF-0682,  1,     19,02-12825,2,19980924,0223, 39.0213, 165.0135, 5374,     49.4,  15.9986,  34.3382,2,   -999.0,9,-999.0000,9,    304.9,3,     4.19,2,  -999.00,9,     0.20,2,     0.01,2,     0.13,2, -999.000,9, -999.000,9,  -999.00,9,   -999.0,9,   -999.0,9,-999.0000,9,   -999.0,  9,     8.20,2,   -999.0,  -999.00,9,  -999.00,9,  -999.00,9,  -999.00,9,   -999.0,-999.0000, -999,9,   49,  15.9908,  25.2407,   -999.0,9
       RF98-09,  165E,RF-0682,  1,     18,02-12824,2,19980924,0222, 39.0213, 165.0135, 5374,     74.7,  13.1714,  34.3525,2,   -999.0,9,-999.0000,9,    249.6,2,    10.19,2,  -999.00,9,     8.13,2,     0.44,2,     0.59,2, -999.000,9, -999.000,9,  -999.00,9,   -999.0,9,   -999.0,9,-999.0000,9,   -999.0,  9,     8.07,2,   -999.0,  -999.00,9,  -999.00,9,  -999.00,9,  -999.00,9,   -999.0,-999.0000, -999,9,   74,  13.1611,  25.8589,   -999.0,9
       RF98-09,  165E,RF-0682,  2,     21,02-12827,2,19980924,0501, 38.9925, 165.0718, 5435,     99.4,  13.1461,  34.4848,2,   -999.0,9,  34.4736,4,   -999.0,9,  -999.00,9,  -999.00,9,  -999.00,9,  -999.00,9,  -999.00,9, -999.000,9, -999.000,9,  -999.00,9,   -999.0,9,   -999.0,9,-999.0000,9,   -999.0,  9,  -999.00,9,   -999.0,  -999.00,9,  -999.00,9,  -999.00,9,  -999.00,9,   -999.0,-999.0000, -999,9,   99,  13.1325,  25.9672,   -999.0,9
       RF98-09,  165E,RF-0682,  1,     17,02-12814,2,19980924,0220, 39.0213, 165.0135, 5374,    100.4,  12.2140,  34.3699,2,   -999.0,9,-999.0000,9,    235.2,2,    13.22,2,  -999.00,9,    11.22,2,     0.02,2,     0.74,2, -999.000,9, -999.000,9,  -999.00,9,   -999.0,9,   -999.0,9,-999.0000,9,   -999.0,  9,     8.04,2,   -999.0,  -999.00,9,  -999.00,9,  -999.00,9,  -999.00,9,   -999.0,-999.0000, -999,9,  100,  12.2009,  26.0613,   -999.0,9
       RF98-09,  165E,RF-0682,  2,     22,02-12828,2,19980924,0501, 38.9925, 165.0718, 5435,    101.0,  13.1296,  34.4703,2,   -999.0,9,-999.0000,9,   -999.0,9,  -999.00,9,  -999.00,9,  -999.00,9,  -999.00,9,  -999.00,9, -999.000,9, -999.000,9,  -999.00,9,   -999.0,9,   -999.0,9,-999.0000,9,   -999.0,  9,  -999.00,9,   -999.0,  -999.00,9,  -999.00,9,  -999.00,9,  -999.00,9,   -999.0,-999.0000, -999,9,  100,  13.1157,  25.9593,   -999.0,9
       RF98-09,  165E,RF-0682,  2,     23,02-12829,2,19980924,0502, 38.9925, 165.0718, 5435,    102.1,  13.1372,  34.4706,2,   -999.0,9,-999.0000,9,   -999.0,9,  -999.00,9,  -999.00,9,  -999.00,9,  -999.00,9,  -999.00,9, -999.000,9, -999.000,9,  -999.00,9,   -999.0,9,   -999.0,9,-999.0000,9,   -999.0,  9,  -999.00,9,   -999.0,  -999.00,9,  -999.00,9,  -999.00,9,  -999.00,9,   -999.0,-999.0000, -999,9,  101,  13.1232,  25.9580,   -999.0,9
       RF98-09,  165E,RF-0682,  1,     16,02-12832,2,19980924,0219, 39.0213, 165.0135, 5374,    123.0,  11.6252,  34.3406,2,   -999.0,9,-999.0000,9,    234.6,2,    14.69,2,  -999.00,9,    11.85,2,     0.02,2,     0.81,2, -999.000,9, -999.000,9,  -999.00,9,   -999.0,9,   -999.0,9,-999.0000,9,   -999.0,  9,     8.03,2,   -999.0,  -999.00,9,  -999.00,9,  -999.00,9,  -999.00,9,   -999.0,-999.0000, -999,9,  122,  11.6096,  26.1503,   -999.0,9
       RF98-09,  165E,RF-0682,  1,     15,02-12833,2,19980924,0218, 39.0213, 165.0135, 5374,    150.6,  11.1510,  34.3141,2,   -999.0,9,-999.0000,9,    241.1,2,    15.43,2,  -999.00,9,    12.18,2,     0.01,2,     0.83,2, -999.000,9, -999.000,9,  -999.00,9,   -999.0,9,   -999.0,9,-999.0000,9,   -999.0,  9,     8.02,2,   -999.0,  -999.00,9,  -999.00,9,  -999.00,9,  -999.00,9,   -999.0,-999.0000, -999,9,  149,  11.1324,  26.2174,   -999.0,9
       RF98-09,  165E,RF-0682,  1,     14,02-13578,2,19980924,0216, 39.0213, 165.0135, 5374,    201.3,  10.2202,  34.2355,2,   -999.0,9,-999.0000,9,    248.1,2,    17.43,2,  -999.00,9,    13.01,2,     0.01,2,     0.90,2, -999.000,9, -999.000,9,  -999.00,9,   -999.0,9,   -999.0,9,-999.0000,9,   -999.0,  9,     8.00,2,   -999.0,  -999.00,9,  -999.00,9,  -999.00,9,  -999.00,9,   -999.0,-999.0000, -999,9,  200,  10.1967,  26.3214,   -999.0,9
       RF98-09,  165E,RF-0682,  2,     18,02-12824,2,19980924,0456, 38.9925, 165.0718, 5435,    202.0,  10.4253,  34.2670,2,   -999.0,9,  34.2650,4,   -999.0,9,  -999.00,9,  -999.00,9,  -999.00,9,  -999.00,9,  -999.00,9, -999.000,9, -999.000,9,  -999.00,9,   -999.0,9,   -999.0,9,-999.0000,9,   -999.0,  9,  -999.00,9,   -999.0,  -999.00,9,  -999.00,9,  -999.00,9,  -999.00,9,   -999.0,-999.0000, -999,9,  200,  10.4015,  26.3106,   -999.0,9
       RF98-09,  165E,RF-0682,  2,     20,02-12826,2,19980924,0457, 38.9925, 165.0718, 5435,    203.8,  10.3164,  34.2533,2,   -999.0,9,-999.0000,9,   -999.0,9,  -999.00,9,  -999.00,9,  -999.00,9,  -999.00,9,  -999.00,9, -999.000,9, -999.000,9,  -999.00,9,   -999.0,9,   -999.0,9,-999.0000,9,   -999.0,  9,  -999.00,9,   -999.0,  -999.00,9,  -999.00,9,  -999.00,9,  -999.00,9,   -999.0,-999.0000, -999,9,  202,  10.2924,  26.3188,   -999.0,9
       RF98-09,  165E,RF-0682,  2,     19,02-12825,2,19980924,0457, 38.9925, 165.0718, 5435,    205.3,  10.3202,  34.2527,2,   -999.0,9,-999.0000,9,   -999.0,9,  -999.00,9,  -999.00,9,  -999.00,9,  -999.00,9,  -999.00,9, -999.000,9, -999.000,9,  -999.00,9,   -999.0,9,   -999.0,9,-999.0000,9,   -999.0,  9,  -999.00,9,   -999.0,  -999.00,9,  -999.00,9,  -999.00,9,  -999.00,9,   -999.0,-999.0000, -999,9,  204,  10.2961,  26.3176,   -999.0,9
       RF98-09,  165E,RF-0682,  1,     13,02-13590,2,19980924,0214, 39.0213, 165.0135, 5374,    250.7,   9.6058,  34.1753,2,   -999.0,9,-999.0000,9,    250.5,2,    17.60,2,  -999.00,9,    13.15,2,     0.01,2,     0.92,2, -999.000,9, -999.000,9,  -999.00,9,   -999.0,9,   -999.0,9,-999.0000,9,   -999.0,  9,     8.00,2,   -999.0,  -999.00,9,  -999.00,9,  -999.00,9,  -999.00,9,   -999.0,-999.0000, -999,9,  249,   9.5776,  26.3787,   -999.0,9
       RF98-09,  165E,RF-0682,  1,     12,02-12821,2,19980924,0212, 39.0213, 165.0135, 5374,    301.5,   9.0003,  34.1056,2,   -999.0,9,-999.0000,9,    250.9,2,    20.70,2,  -999.00,9,    14.74,2,     0.00,2,     1.02,2, -999.000,9, -999.000,9,  -999.00,9,   -999.0,9,   -999.0,9,-999.0000,9,   -999.0,  9,     7.98,4,   -999.0,  -999.00,9,  -999.00,9,  -999.00,9,  -999.00,9,   -999.0,-999.0000, -999,9,  299,   8.9677,  26.4228,   -999.0,9
       RF98-09,  165E,RF-0682,  1,     11,02-12811,2,19980924,0159, 39.0213, 165.0135, 5374,    403.5,   7.4404,  34.0223,2,   -999.0,9,-999.0000,9,    187.0,2,    39.60,2,  -999.00,9,    23.61,2,     0.00,2,     1.64,2, -999.000,9, -999.000,9,  -999.00,9,   -999.0,9,   -999.0,9,-999.0000,9,   -999.0,  9,  -999.00,9,   -999.0,  -999.00,9,  -999.00,9,  -999.00,9,  -999.00,9,   -999.0,-999.0000, -999,9,  400,   7.4014,  26.5927,   -999.0,9
       RF98-09,  165E,RF-0682,  1,     10,02-12820,2,19980924,0156, 39.0213, 165.0135, 5374,    502.9,   5.6201,  33.9847,2,   -999.0,9,-999.0000,9,    137.4,2,    62.36,2,  -999.00,9,    31.32,2,     0.00,2,     2.23,2, -999.000,9, -999.000,9,  -999.00,9,   -999.0,9,   -999.0,9,-999.0000,9,   -999.0,  9,  -999.00,9,   -999.0,  -999.00,9,  -999.00,9,  -999.00,9,  -999.00,9,   -999.0,-999.0000, -999,9,  498,   5.5780,  26.8024,   -999.0,9