BOTTLE,20130607MIRCJHATS
EXPOCODE,SECT_ID,STNNBR,CASTNO,SAMPNO,BTLNBR,BTLNBR_FLAG_W,DATE,TIME,LATITUDE,LONGITUDE,DEPTH,CTDPRS,CTDTMP,CTDSAL,CTDSAL_FLAG_W,CTDOXY,CTDOXY_FLAG_W,SALNTY,SALNTY_FLAG_W,OXYGEN,OXYGEN_FLAG_W,SILCAT,SILCAT_FLAG_W,NITRAT,NITRAT_FLAG_W,NO2+NO3,NO2+NO3_FLAG_W,NITRIT,NITRIT_FLAG_W,PHSPHT,PHSPHT_FLAG_W,CFC-11,CFC-11_FLAG_W,CFC-12,CFC-12_FLAG_W,DELC13,DELC13_FLAG_W,TCARBN,TCARBN_FLAG_W,ALKALI,ALKALI_FLAG_W,PH,PH_FLAG_W,PH_TMP,PH_SCALE,PH_NBS,PH_NBS_FLAG_W,C13ERR,TOTALP,TOTALP_FLAG_W,AMMONI,AMMONI_FLAG_W,CHLORA,CHLORA_FLAG_W,PPHYTN,PPHYTN_FLAG_W,REVPRS,REVTMP,DEPTH_,DEPTH_FLAG,CTDDEP,THETA,SIGTHT,DOC,DOC_FLAG_W
,,,,,,,GMT,GMT,,,METER,DBAR,ITS-90,PSS-78,,UMOL/KG,,PSS-78,,UMOL/KG,,UMOL/KG,,UMOL/KG,,UMOL/KG,,UMOL/KG,,UMOL/KG,,PMOL/KG,,PMOL/KG,,/MILLE,,UMOL/KG,,UMOL/KG,,25_DEG_C,,DEG_C,,,,/MILLE,UMOL/KG,,UMOL/KG,,UG/L,,UG/L,,DBAR,ITS-90,METERS,,METERS,DEG_C,,UMOL/L,
       RF98-09,  NONE,RF-0745,  1,     -9,      -9,5,19981110,0023, 34.9492, 140.2280, 2092,      0.0,  21.8220,  34.3840,2,   -999.0,9,-999.0000,9,    212.6,2,     6.24,2,  -999.00,9,     3.01,2,     0.15,2,     0.25,2, -999.000,9, -999.000,9,  -999.00,9,   -999.0,9,   -999.0,9,-999.0000,9,   -999.0,  9,     8.17,2,   -999.0,  -999.00,9,  -999.00,9,     0.60,2,     0.50,2,   -999.0,-999.0000, -999,9,    0,  21.8220,  23.7994,   -999.0,9
       RF98-09,  NONE,RF-0745,  1,     21,02-12827,2,19981110,0020, 34.9492, 140.2280, 2092,     10.8,  21.8109,  34.3891,2,   -999.0,9,-999.0000,9,    210.2,2,     6.19,2,  -999.00,9,     2.93,2,     0.15,2,     0.24,2, -999.000,9, -999.000,9,  -999.00,9,   -999.0,9,   -999.0,9,-999.0000,9,   -999.0,  9,     8.18,2,   -999.0,  -999.00,9,  -999.00,9,     0.58,2,     0.56,2,   -999.0,-999.0000, -999,9,   11,  21.8088,  23.8070,   -999.0,9
       RF98-09,  NONE,RF-0745,  1,     20,02-12826,2,19981110,0019, 34.9492, 140.2280, 2092,     26.0,  21.8220,  34.3899,2,   -999.0,9,-999.0000,9,    214.0,2,     6.13,2,  -999.00,9,     2.92,2,     0.15,2,     0.24,2, -999.000,9, -999.000,9,  -999.00,9,   -999.0,9,   -999.0,9,-999.0000,9,   -999.0,  9,     8.18,2,   -999.0,  -999.00,9,  -999.00,9,     0.59,2,     0.50,2,   -999.0,-999.0000, -999,9,   26,  21.8169,  23.8053,   -999.0,9
       RF98-09,  NONE,RF-0745,  1,     19,02-12825,2,19981110,0018, 34.9492, 140.2280, 2092,     50.5,  20.3180,  34.3858,2,   -999.0,9,-999.0000,9,    190.7,2,     9.28,2,  -999.00,9,     5.95,2,     0.22,2,     0.42,2, -999.000,9, -999.000,9,  -999.00,9,   -999.0,9,   -999.0,9,-999.0000,9,   -999.0,  9,     8.12,2,   -999.0,  -999.00,9,  -999.00,9,     0.19,2,     0.25,2,   -999.0,-999.0000, -999,9,   50,  20.3086,  24.2118,   -999.0,9
       RF98-09,  NONE,RF-0745,  1,     18,02-12824,2,19981110,0016, 34.9492, 140.2280, 2092,     74.7,  17.2972,  34.6178,2,   -999.0,9,-999.0000,9,    180.6,2,    12.52,2,  -999.00,9,     9.21,2,     0.06,2,     0.63,2, -999.000,9, -999.000,9,  -999.00,9,   -999.0,9,   -999.0,9,-999.0000,9,   -999.0,  9,     8.06,2,   -999.0,  -999.00,9,  -999.00,9,     0.04,2,     0.09,2,   -999.0,-999.0000, -999,9,   74,  17.2848,  25.1530,   -999.0,9
       RF98-09,  NONE,RF-0745,  1,     17,02-12814,2,19981110,0014, 34.9492, 140.2280, 2092,    100.3,  16.6634,  34.6487,2,   -999.0,9,-999.0000,9,    177.0,2,    13.28,2,  -999.00,9,    10.00,2,     0.03,2,     0.69,2, -999.000,9, -999.000,9,  -999.00,9,   -999.0,9,   -999.0,9,-999.0000,9,   -999.0,  9,     8.04,2,   -999.0,  -999.00,9,  -999.00,9,     0.03,2,     0.07,2,   -999.0,-999.0000, -999,9,  100,  16.6471,  25.3278,   -999.0,9
       RF98-09,  NONE,RF-0745,  1,     16,02-12832,2,19981110,0013, 34.9492, 140.2280, 2092,    125.5,  14.9027,  34.6015,2,   -999.0,9,-999.0000,9,    170.8,2,    18.05,2,  -999.00,9,    12.76,2,     0.02,2,     0.88,2, -999.000,9, -999.000,9,  -999.00,9,   -999.0,9,   -999.0,9,-999.0000,9,   -999.0,  9,     7.99,2,   -999.0,  -999.00,9,  -999.00,9,     0.01,2,     0.04,2,   -999.0,-999.0000, -999,9,  125,  14.8839,  25.6900,   -999.0,9
       RF98-09,  NONE,RF-0745,  1,     15,02-12833,2,19981110,0011, 34.9492, 140.2280, 2092,    150.5,  14.0171,  34.5174,2,   -999.0,9,-999.0000,9,    161.9,2,    23.40,2,  -999.00,9,    15.25,2,     0.02,2,     1.05,2, -999.000,9, -999.000,9,  -999.00,9,   -999.0,9,   -999.0,9,-999.0000,9,   -999.0,  9,     7.96,2,   -999.0,  -999.00,9,  -999.00,9,     0.01,2,     0.07,2,   -999.0,-999.0000, -999,9,  149,  13.9955,  25.8150,   -999.0,9
       RF98-09,  NONE,RF-0745,  1,     14,02-13578,2,19981110,0010, 34.9492, 140.2280, 2092,    200.9,  11.2929,  34.4185,2,   -999.0,9,-999.0000,9,    148.6,2,    35.74,2,  -999.00,9,    20.56,2,     0.01,2,     1.44,2, -999.000,9, -999.000,9,  -999.00,9,   -999.0,9,   -999.0,9,-999.0000,9,   -999.0,  9,     7.87,2,   -999.0,  -999.00,9,  -999.00,9,     0.01,2,     0.04,2,   -999.0,-999.0000, -999,9,  199,  11.2678,  26.2740,   -999.0,9
       RF98-09,  NONE,RF-0745,  1,     13,02-13590,2,19981110,0008, 34.9492, 140.2280, 2092,    250.6,  10.0829,  34.3643,2,   -999.0,9,-999.0000,9,    139.7,2,    41.55,2,  -999.00,9,    22.94,2,     0.02,2,     1.62,2, -999.000,9, -999.000,9,  -999.00,9,   -999.0,9,   -999.0,9,-999.0000,9,   -999.0,  9,     7.83,2,   -999.0,  -999.00,9,  -999.00,9,  -999.00,9,  -999.00,9,   -999.0,-999.0000, -999,9,  249,  10.0538,  26.4463,   -999.0,9
       RF98-09,  NONE,RF-0745,  1,     12,02-12821,2,19981110,0006, 34.9492, 140.2280, 2092,    301.1,   9.2820,  34.3389,2,   -999.0,9,-999.0000,9,    137.9,2,    46.18,2,  -999.00,9,    24.63,2,     0.00,2,     1.73,2, -999.000,9, -999.000,9,  -999.00,9,   -999.0,9,   -999.0,9,-999.0000,9,   -999.0,  9,     7.81,2,   -999.0,  -999.00,9,  -999.00,9,  -999.00,9,  -999.00,9,   -999.0,-999.0000, -999,9,  299,   9.2488,  26.5605,   -999.0,9
       RF98-09,  NONE,RF-0745,  1,     11,02-12811,2,19981110,0003, 34.9492, 140.2280, 2092,    402.2,   6.7072,  34.2463,2,   -999.0,9,-999.0000,9,    111.1,2,    69.44,2,  -999.00,9,    31.37,2,     0.01,2,     2.27,2, -999.000,9, -999.000,9,  -999.00,9,   -999.0,9,   -999.0,9,-999.0000,9,   -999.0,  9,     7.69,2,   -999.0,  -999.00,9,  -999.00,9,  -999.00,9,  -999.00,9,   -999.0,-999.0000, -999,9,  399,   6.6703,  26.8698,   -999.0,9
       RF98-09,  NONE,RF-0745,  1,     10,02-12820,2,19981110,0001, 34.9492, 140.2280, 2092,    502.5,   5.3014,  34.2485,2,   -999.0,9,-999.0000,9,     86.4,2,    88.53,2,  -999.00,9,    35.71,2,     0.01,2,     2.60,2, -999.000,9, -999.000,9,  -999.00,9,   -999.0,9,   -999.0,9,-999.0000,9,   -999.0,  9,     7.63,2,   -999.0,  -999.00,9,  -999.00,9,  -999.00,9,  -999.00,9,   -999.0,-999.0000, -999,9,  498,   5.2603,  27.0492,   -999.0,9
       RF98-09,  NONE,RF-0745,  1,      9,02-12810,2,19981109,2358, 34.9492, 140.2280, 2092,    603.9,   4.8109,  34.2766,2,   -999.0,9,-999.0000,9,     75.7,2,    96.60,2,  -999.00,9,    37.13,2,     0.00,2,     2.70,2, -999.000,9, -999.000,9,  -999.00,9,   -999.0,9,   -999.0,9,-999.0000,9,   -999.0,  9,     7.60,2,   -999.0,  -999.00,9,  -999.00,9,  -999.00,9,  -999.00,9,   -999.0,-999.0000, -999,9,  599,   4.7634,  27.1286,   -999.0,9
       RF98-09,  NONE,RF-0745,  1,      8,02-13579,2,19981109,2356, 34.9492, 140.2280, 2092,    703.4,   4.2448,  34.3107,2,   -999.0,9,-999.0000,9,     68.3,2,   107.41,2,  -999.00,9,    38.71,2,     0.00,2,     2.82,2, -999.000,9, -999.000,9,  -999.00,9,   -999.0,9,   -999.0,9,-999.0000,9,   -999.0,  9,     7.58,2,   -999.0,  -999.00,9,  -999.00,9,  -999.00,9,  -999.00,9,   -999.0,-999.0000, -999,9,  697,   4.1920,  27.2178,   -999.0,9
       RF98-09,  NONE,RF-0745,  1,      7,02-12815,2,19981109,2352, 34.9492, 140.2280, 2092,    804.9,   3.8136,  34.3422,2,   -999.0,9,  34.3369,2,     60.0,2,   115.72,2,  -999.00,9,    39.76,2,     0.00,2,     2.90,2, -999.000,9, -999.000,9,  -999.00,9,   -999.0,9,   -999.0,9,-999.0000,9,   -999.0,  9,     7.56,2,   -999.0,  -999.00,9,  -999.00,9,  -999.00,9,  -999.00,9,   -999.0,-999.0000, -999,9,  798,   3.7553,  27.2877,   -999.0,9
       RF98-09,  NONE,RF-0745,  1,      6,02-12818,2,19981109,2338, 34.9492, 140.2280, 2092,    906.2,   3.3923,  34.3611,2,   -999.0,9,  34.3569,2,     51.1,2,   125.46,2,  -999.00,9,    40.90,2,     0.00,2,     2.99,2, -999.000,9, -999.000,9,  -999.00,9,   -999.0,9,   -999.0,9,-999.0000,9,   -999.0,  9,     7.54,2,   -999.0,  -999.00,9,  -999.00,9,  -999.00,9,  -999.00,9,   -999.0,-999.0000, -999,9,  898,   3.3289,  27.3445,   -999.0,9
       RF98-09,  NONE,RF-0745,  1,      5,02-12809,2,19981109,2336, 34.9492, 140.2280, 2092,   1007.2,   3.1640,  34.3878,2,   -999.0,9,  34.3844,2,     49.0,2,   131.37,2,  -999.00,9,    41.31,2,     0.00,2,     3.02,2, -999.000,9, -999.000,9,  -999.00,9,   -999.0,9,   -999.0,9,-999.0000,9,   -999.0,  9,     7.54,2,   -999.0,  -999.00,9,  -999.00,9,  -999.00,9,  -999.00,9,   -999.0,-999.0000, -999,9,  998,   3.0944,  27.3877,   -999.0,9
       RF98-09,  NONE,RF-0745,  1,      4,02-12817,2,19981109,2331, 34.9492, 140.2280, 2092,   1259.1,   2.7505,  34.4448,2,   -999.0,9,  34.4449,2,     47.1,2,   142.22,2,  -999.00,9,    41.77,2,     0.00,2,     3.05,2, -999.000,9, -999.000,9,  -999.00,9,   -999.0,9,   -999.0,9,-999.0000,9,   -999.0,  9,     7.54,2,   -999.0,  -999.00,9,  -999.00,9,  -999.00,9,  -999.00,9,   -999.0,-999.0000, -999,9, 1246,   2.6651,  27.4717,   -999.0,9
       RF98-09,  NONE,RF-0745,  1,      3,02-12808,2,19981109,2324, 34.9492, 140.2280, 2092,   1513.1,   2.4324,  34.5056,2,   -999.0,9,  34.5027,2,     56.6,2,   148.97,2,  -999.00,9,    41.60,2,     0.00,2,     3.02,2, -999.000,9, -999.000,9,  -999.00,9,   -999.0,9,   -999.0,9,-999.0000,9,   -999.0,  9,     7.56,2,   -999.0,  -999.00,9,  -999.00,9,  -999.00,9,  -999.00,9,   -999.0,-999.0000, -999,9, 1497,   2.3302,  27.5488,   -999.0,9
       RF98-09,  NONE,RF-0745,  1,      2,02-13591,2,19981109,2320, 34.9492, 140.2280, 2092,   1766.7,   2.2165,  34.5449,2,   -999.0,9,  34.5429,2,     65.9,2,   152.59,2,  -999.00,9,    41.18,2,     0.00,2,     2.98,2, -999.000,9, -999.000,9,  -999.00,9,   -999.0,9,   -999.0,9,-999.0000,9,   -999.0,  9,     7.58,2,   -999.0,  -999.00,9,  -999.00,9,  -999.00,9,  -999.00,9,   -999.0,-999.0000, -999,9, 1747,   2.0965,  27.5993,   -999.0,9
       RF98-09,  NONE,RF-0745,  1,      1,02-12807,2,19981109,2314, 34.9492, 140.2280, 2092,   2045.2,   1.9308,  34.5956,2,   -999.0,9,  34.5936,2,     86.1,2,   153.89,2,  -999.00,9,    40.13,2,     0.00,2,     2.87,2, -999.000,9, -999.000,9,  -999.00,9,   -999.0,9,   -999.0,9,-999.0000,9,   -999.0,  9,     7.61,2,   -999.0,  -999.00,9,  -999.00,9,  -999.00,9,  -999.00,9,   2032.0,-999.0000, -999,9, 2021,   1.7918,  27.6639,   -999.0,9