BOTTLE,20130607MIRCJHATS
EXPOCODE,SECT_ID,STNNBR,CASTNO,SAMPNO,BTLNBR,BTLNBR_FLAG_W,DATE,TIME,LATITUDE,LONGITUDE,DEPTH,CTDPRS,CTDTMP,CTDSAL,CTDSAL_FLAG_W,CTDOXY,CTDOXY_FLAG_W,SALNTY,SALNTY_FLAG_W,OXYGEN,OXYGEN_FLAG_W,SILCAT,SILCAT_FLAG_W,NITRAT,NITRAT_FLAG_W,NO2+NO3,NO2+NO3_FLAG_W,NITRIT,NITRIT_FLAG_W,PHSPHT,PHSPHT_FLAG_W,CFC-11,CFC-11_FLAG_W,CFC-12,CFC-12_FLAG_W,DELC13,DELC13_FLAG_W,TCARBN,TCARBN_FLAG_W,ALKALI,ALKALI_FLAG_W,PH,PH_FLAG_W,PH_TMP,PH_SCALE,PH_NBS,PH_NBS_FLAG_W,C13ERR,TOTALP,TOTALP_FLAG_W,AMMONI,AMMONI_FLAG_W,CHLORA,CHLORA_FLAG_W,PPHYTN,PPHYTN_FLAG_W,REVPRS,REVTMP,DEPTH_,DEPTH_FLAG,CTDDEP,THETA,SIGTHT,DOC,DOC_FLAG_W
,,,,,,,GMT,GMT,,,METER,DBAR,ITS-90,PSS-78,,UMOL/KG,,PSS-78,,UMOL/KG,,UMOL/KG,,UMOL/KG,,UMOL/KG,,UMOL/KG,,UMOL/KG,,PMOL/KG,,PMOL/KG,,/MILLE,,UMOL/KG,,UMOL/KG,,25_DEG_C,,DEG_C,,,,/MILLE,UMOL/KG,,UMOL/KG,,UG/L,,UG/L,,DBAR,ITS-90,METERS,,METERS,DEG_C,,UMOL/L,
       RF98-09,  165E,RF-0711,  1,     -9,      -9,5,19981013,1620,  9.9942, 163.9890, 4975,      0.0,  29.0061,  34.3788,2,   -999.0,9,-999.0000,9,    198.9,2,     1.24,2,  -999.00,9,     0.04,2,     0.00,2,     0.11,2, -999.000,9, -999.000,9,  -999.00,9,   -999.0,9,   -999.0,9,-999.0000,9,   -999.0,  9,     8.28,2,   -999.0,  -999.00,9,  -999.00,9,     0.04,2,     0.03,2,   -999.0,-999.0000, -999,9,    0,  29.0061,  21.5957,   -999.0,9
       RF98-09,  165E,RF-0711,  1,     22,02-12828,2,19981013,1618,  9.9942, 163.9890, 4975,     10.5,  29.0170,  34.3858,2,   -999.0,9,-999.0000,9,    198.1,2,     1.61,2,  -999.00,9,     0.08,2,     0.00,2,     0.10,2, -999.000,9, -999.000,9,  -999.00,9,   -999.0,9,   -999.0,9,-999.0000,9,   -999.0,  9,     8.27,2,   -999.0,  -999.00,9,  -999.00,9,     0.04,2,     0.03,2,   -999.0,-999.0000, -999,9,   10,  29.0145,  21.5981,   -999.0,9
       RF98-09,  165E,RF-0711,  1,     21,02-12827,2,19981013,1617,  9.9942, 163.9890, 4975,     25.6,  28.9915,  34.4114,2,   -999.0,9,-999.0000,9,    200.6,2,     1.41,2,  -999.00,9,     0.04,2,     0.00,2,     0.10,2, -999.000,9, -999.000,9,  -999.00,9,   -999.0,9,   -999.0,9,-999.0000,9,   -999.0,  9,     8.27,2,   -999.0,  -999.00,9,  -999.00,9,     0.04,2,     0.03,2,   -999.0,-999.0000, -999,9,   26,  28.9853,  21.6271,   -999.0,9
       RF98-09,  165E,RF-0711,  1,     20,02-12826,2,19981013,1616,  9.9942, 163.9890, 4975,     50.4,  28.9352,  34.5040,2,   -999.0,9,  34.4660,4,    198.7,2,     1.29,2,  -999.00,9,     0.00,2,     0.00,2,     0.10,2, -999.000,9, -999.000,9,  -999.00,9,   -999.0,9,   -999.0,9,-999.0000,9,   -999.0,  9,     8.28,2,   -999.0,  -999.00,9,  -999.00,9,     0.04,2,     0.04,2,   -999.0,-999.0000, -999,9,   50,  28.9231,  21.7173,   -999.0,9
       RF98-09,  165E,RF-0711,  1,     19,02-12825,2,19981013,1614,  9.9942, 163.9890, 4975,     75.1,  27.6172,  34.8155,2,   -999.0,9,-999.0000,9,    205.5,2,     1.01,2,  -999.00,9,     0.00,4,     0.00,2,     0.09,2, -999.000,9, -999.000,9,  -999.00,9,   -999.0,9,   -999.0,9,-999.0000,9,   -999.0,  9,     8.26,2,   -999.0,  -999.00,9,  -999.00,9,     0.07,2,     0.06,2,   -999.0,-999.0000, -999,9,   75,  27.5997,  22.3861,   -999.0,9
       RF98-09,  165E,RF-0711,  1,     18,02-12824,2,19981013,1613,  9.9942, 163.9890, 4975,    100.8,  23.5255,  34.7676,2,   -999.0,9,  34.7569,4,    199.0,2,     2.20,2,  -999.00,9,     0.43,2,     0.03,2,     0.20,2, -999.000,9, -999.000,9,  -999.00,9,   -999.0,9,   -999.0,9,-999.0000,9,   -999.0,  9,     8.19,2,   -999.0,  -999.00,9,  -999.00,9,     0.23,2,     0.29,2,   -999.0,-999.0000, -999,9,  100,  23.5046,  23.6110,   -999.0,9
       RF98-09,  165E,RF-0711,  1,     17,02-12814,2,19981013,1612,  9.9942, 163.9890, 4975,    126.7,  19.2109,  34.7461,2,   -999.0,9,-999.0000,9,    167.7,2,     5.94,2,  -999.00,9,     6.03,2,     0.26,2,     0.55,2, -999.000,9, -999.000,9,  -999.00,9,   -999.0,9,   -999.0,9,-999.0000,9,   -999.0,  9,     8.07,4,   -999.0,  -999.00,9,  -999.00,9,     0.16,2,     0.30,2,   -999.0,-999.0000, -999,9,  126,  19.1881,  24.7790,   -999.0,9
       RF98-09,  165E,RF-0711,  1,     16,02-12832,2,19981013,1610,  9.9942, 163.9890, 4975,    150.4,  14.1981,  34.5441,2,   -999.0,9,-999.0000,9,    142.9,2,    12.64,2,  -999.00,9,    14.92,2,     0.01,2,     1.08,2, -999.000,9, -999.000,9,  -999.00,9,   -999.0,9,   -999.0,9,-999.0000,9,   -999.0,  9,     7.93,2,   -999.0,  -999.00,9,  -999.00,9,     0.05,2,     0.11,2,   -999.0,-999.0000, -999,9,  149,  14.1763,  25.7977,   -999.0,9
       RF98-09,  165E,RF-0711,  1,     15,02-12833,2,19981013,1609,  9.9942, 163.9890, 4975,    201.9,  10.8111,  34.5207,2,   -999.0,9,  34.5112,2,     65.5,2,    28.81,2,  -999.00,9,    29.27,2,     0.00,2,     2.09,2, -999.000,9, -999.000,9,  -999.00,9,   -999.0,9,   -999.0,9,-999.0000,9,   -999.0,  9,     7.69,2,   -999.0,  -999.00,9,  -999.00,9,     0.00,2,     0.02,2,   -999.0,-999.0000, -999,9,  201,  10.7866,  26.4405,   -999.0,9
       RF98-09,  165E,RF-0711,  1,     14,02-13578,3,19981013,1607,  9.9942, 163.9890, 4975,    251.7,  10.2393,  34.6166,2,   -999.0,9,  34.6095,2,     37.8,2,    32.81,2,  -999.00,9,    33.37,2,     0.00,2,     2.37,2, -999.000,9, -999.000,9,  -999.00,9,   -999.0,9,   -999.0,9,-999.0000,9,   -999.0,  9,     7.62,2,   -999.0,  -999.00,9,  -999.00,9,  -999.00,9,  -999.00,9,   -999.0,-999.0000, -999,9,  250,  10.2097,  26.6166,   -999.0,9
       RF98-09,  165E,RF-0711,  1,     13,02-13590,2,19981013,1605,  9.9942, 163.9890, 4975,    300.8,   9.8727,  34.6344,2,   -999.0,9,  34.4996,4,     34.3,2,    33.82,2,  -999.00,9,    34.61,2,     0.00,2,     2.44,2, -999.000,9, -999.000,9,  -999.00,9,   -999.0,9,   -999.0,9,-999.0000,9,   -999.0,  9,     7.61,2,   -999.0,  -999.00,9,  -999.00,9,  -999.00,9,  -999.00,9,   -999.0,-999.0000, -999,9,  299,   9.8381,  26.6940,   -999.0,9
       RF98-09,  165E,RF-0711,  1,     12,02-12821,2,19981013,1603,  9.9942, 163.9890, 4975,    402.5,   8.8172,  34.6124,2,   -999.0,9,  34.6229,2,     40.7,2,    39.39,2,  -999.00,9,    35.98,2,     0.00,2,     2.55,2, -999.000,9, -999.000,9,  -999.00,9,   -999.0,9,   -999.0,9,-999.0000,9,   -999.0,  9,  -999.00,9,   -999.0,  -999.00,9,  -999.00,9,  -999.00,9,  -999.00,9,   -999.0,-999.0000, -999,9,  400,   8.7737,  26.8506,   -999.0,9
       RF98-09,  165E,RF-0711,  1,     11,02-12811,2,19981013,1600,  9.9942, 163.9890, 4975,    503.3,   7.9596,  34.5637,2,   -999.0,9,  34.5743,4,     50.2,2,    45.55,2,  -999.00,9,    37.04,2,     0.00,2,     2.65,2, -999.000,9, -999.000,9,  -999.00,9,   -999.0,9,   -999.0,9,-999.0000,9,   -999.0,  9,  -999.00,9,   -999.0,  -999.00,9,  -999.00,9,  -999.00,9,  -999.00,9,   -999.0,-999.0000, -999,9,  500,   7.9081,  26.9448,   -999.0,9
       RF98-09,  165E,RF-0711,  1,     10,02-12820,2,19981013,1558,  9.9942, 163.9890, 4975,    604.2,   7.2425,  34.5381,2,   -999.0,9,  34.5452,2,     48.1,2,    53.57,2,  -999.00,9,    38.14,2,     0.00,2,     2.74,2, -999.000,9, -999.000,9,  -999.00,9,   -999.0,9,   -999.0,9,-999.0000,9,   -999.0,  9,  -999.00,9,   -999.0,  -999.00,9,  -999.00,9,  -999.00,9,  -999.00,9,   -999.0,-999.0000, -999,9,  600,   7.1836,  27.0293,   -999.0,9
       RF98-09,  165E,RF-0711,  1,      9,02-12810,2,19981013,1556,  9.9942, 163.9890, 4975,    705.0,   6.3680,  34.5357,2,   -999.0,9,  34.5374,2,     48.4,2,    62.96,2,  -999.00,9,    39.81,2,     0.00,2,     2.85,2, -999.000,9, -999.000,9,  -999.00,9,   -999.0,9,   -999.0,9,-999.0000,9,   -999.0,  9,  -999.00,9,   -999.0,  -999.00,9,  -999.00,9,  -999.00,9,  -999.00,9,   -999.0,-999.0000, -999,9,  700,   6.3034,  27.1467,   -999.0,9
       RF98-09,  165E,RF-0711,  1,      8,02-13579,4,19981013,1553,  9.9942, 163.9890, 4975,    805.3,   5.8393,  34.5209,2,   -999.0,9,  34.5197,2,     64.2,4,    70.28,4,  -999.00,9,    39.15,4,     0.00,4,     2.79,4, -999.000,9, -999.000,9,  -999.00,9,   -999.0,9,   -999.0,9,-999.0000,9,   -999.0,  9,  -999.00,9,   -999.0,  -999.00,9,  -999.00,9,  -999.00,9,  -999.00,9,   -999.0,-999.0000, -999,9,  799,   5.7682,  27.2033,   -999.0,9
       RF98-09,  165E,RF-0711,  1,      7,02-12815,2,19981013,1551,  9.9942, 163.9890, 4975,    905.8,   5.1901,  34.5348,2,   -999.0,9,  34.5322,2,     60.9,2,    80.61,2,  -999.00,9,    40.43,2,     0.00,2,     2.90,2, -999.000,9, -999.000,9,  -999.00,9,   -999.0,9,   -999.0,9,-999.0000,9,   -999.0,  9,  -999.00,9,   -999.0,  -999.00,9,  -999.00,9,  -999.00,9,  -999.00,9,   -999.0,-999.0000, -999,9,  899,   5.1139,  27.2932,   -999.0,9
       RF98-09,  165E,RF-0711,  1,      5,02-12809,2,19981013,1548,  9.9942, 163.9890, 4975,   1007.2,   4.7010,  34.5500,2,   -999.0,9,-999.0000,9,   -999.0,9,  -999.00,9,  -999.00,9,  -999.00,9,  -999.00,9,  -999.00,9, -999.000,9, -999.000,9,  -999.00,9,   -999.0,9,   -999.0,9,-999.0000,9,   -999.0,  9,  -999.00,9,   -999.0,  -999.00,9,  -999.00,9,  -999.00,9,  -999.00,9,   -999.0,-999.0000, -999,9,  999,   4.6193,  27.3616,   -999.0,9
       RF98-09,  165E,RF-0711,  1,      6,02-12818,2,19981013,1548,  9.9942, 163.9890, 4975,   1008.4,   4.7087,  34.5435,2,   -999.0,9,  34.5470,2,     66.9,2,    88.56,2,  -999.00,9,    40.74,2,     0.00,2,     2.92,2, -999.000,9, -999.000,9,  -999.00,9,   -999.0,9,   -999.0,9,-999.0000,9,   -999.0,  9,  -999.00,9,   -999.0,  -999.00,9,  -999.00,9,  -999.00,9,  -999.00,9,   -999.0,-999.0000, -999,9, 1000,   4.6268,  27.3557,   -999.0,9
       RF98-09,  165E,RF-0711,  1,      4,02-12817,2,19981013,1543,  9.9942, 163.9890, 4975,   1260.3,   3.6249,  34.5744,2,   -999.0,9,  34.5728,2,     76.6,2,   109.66,2,  -999.00,9,    40.79,2,     0.00,2,     2.92,2, -999.000,9, -999.000,9,  -999.00,9,   -999.0,9,   -999.0,9,-999.0000,9,   -999.0,  9,  -999.00,9,   -999.0,  -999.00,9,  -999.00,9,  -999.00,9,  -999.00,9,   -999.0,-999.0000, -999,9, 1249,   3.5306,  27.4950,   -999.0,9
       RF98-09,  165E,RF-0711,  1,      3,02-12808,2,19981013,1538,  9.9942, 163.9890, 4975,   1513.4,   2.8902,  34.5991,2,   -999.0,9,  34.5985,2,     89.0,2,   124.80,2,  -999.00,9,    40.26,2,     0.00,2,     2.88,2, -999.000,9, -999.000,9,  -999.00,9,   -999.0,9,   -999.0,9,-999.0000,9,   -999.0,  9,  -999.00,9,   -999.0,  -999.00,9,  -999.00,9,  -999.00,9,  -999.00,9,   -999.0,-999.0000, -999,9, 1499,   2.7824,  27.5847,   -999.0,9
       RF98-09,  165E,RF-0711,  1,      2,02-13591,2,19981013,1534,  9.9942, 163.9890, 4975,   1768.7,   2.4802,  34.6172,2,   -999.0,9,  34.5968,4,     97.5,2,   133.30,2,  -999.00,9,    39.85,2,     0.00,2,     2.84,2, -999.000,9, -999.000,9,  -999.00,9,   -999.0,9,   -999.0,9,-999.0000,9,   -999.0,  9,  -999.00,9,   -999.0,  -999.00,9,  -999.00,9,  -999.00,9,  -999.00,9,   -999.0,-999.0000, -999,9, 1751,   2.3563,  27.6360,   -999.0,9
       RF98-09,  165E,RF-0711,  1,      1,02-12807,2,19981013,1529,  9.9942, 163.9890, 4975,   2036.1,   2.1835,  34.6326,2,   -999.0,9,  34.6166,4,    106.3,2,   139.02,2,  -999.00,9,    39.41,2,     0.00,2,     2.79,2, -999.000,9, -999.000,9,  -999.00,9,   -999.0,9,   -999.0,9,-999.0000,9,   -999.0,  9,  -999.00,9,   -999.0,  -999.00,9,  -999.00,9,  -999.00,9,  -999.00,9,   2021.0,-999.0000, -999,9, 2015,   2.0412,  27.6741,   -999.0,9