BOTTLE,20130607MIRCJHATS
EXPOCODE,SECT_ID,STNNBR,CASTNO,SAMPNO,BTLNBR,BTLNBR_FLAG_W,DATE,TIME,LATITUDE,LONGITUDE,DEPTH,CTDPRS,CTDTMP,CTDSAL,CTDSAL_FLAG_W,CTDOXY,CTDOXY_FLAG_W,SALNTY,SALNTY_FLAG_W,OXYGEN,OXYGEN_FLAG_W,SILCAT,SILCAT_FLAG_W,NITRAT,NITRAT_FLAG_W,NO2+NO3,NO2+NO3_FLAG_W,NITRIT,NITRIT_FLAG_W,PHSPHT,PHSPHT_FLAG_W,CFC-11,CFC-11_FLAG_W,CFC-12,CFC-12_FLAG_W,DELC13,DELC13_FLAG_W,TCARBN,TCARBN_FLAG_W,ALKALI,ALKALI_FLAG_W,PH,PH_FLAG_W,PH_TMP,PH_SCALE,PH_NBS,PH_NBS_FLAG_W,C13ERR,TOTALP,TOTALP_FLAG_W,AMMONI,AMMONI_FLAG_W,CHLORA,CHLORA_FLAG_W,PPHYTN,PPHYTN_FLAG_W,REVPRS,REVTMP,DEPTH_,DEPTH_FLAG,CTDDEP,THETA,SIGTHT,DOC,DOC_FLAG_W
,,,,,,,GMT,GMT,,,METER,DBAR,ITS-90,PSS-78,,UMOL/KG,,PSS-78,,UMOL/KG,,UMOL/KG,,UMOL/KG,,UMOL/KG,,UMOL/KG,,UMOL/KG,,PMOL/KG,,PMOL/KG,,/MILLE,,UMOL/KG,,UMOL/KG,,25_DEG_C,,DEG_C,,,,/MILLE,UMOL/KG,,UMOL/KG,,UG/L,,UG/L,,DBAR,ITS-90,METERS,,METERS,DEG_C,,UMOL/L,
       RF98-09,  165E,RF-0706,  1,     -9,      -9,5,19981012,0630, 14.9918, 164.9653, 5187,      0.0,  28.8384,  34.9075,2,   -999.0,9,-999.0000,9,    198.5,2,     1.18,2,  -999.00,9,     0.28,2,     0.00,2,     0.08,2, -999.000,9, -999.000,9,  -999.00,9,   -999.0,9,   -999.0,9,-999.0000,9,   -999.0,  9,     8.27,2,   -999.0,  -999.00,9,  -999.00,9,     0.05,2,     0.02,2,   -999.0,-999.0000, -999,9,    0,  28.8384,  22.0485,   -999.0,9
       RF98-09,  165E,RF-0706,  1,     21,02-12827,2,19981012,0627, 14.9918, 164.9653, 5187,      9.6,  28.8382,  34.9123,2,   -999.0,9,-999.0000,9,    199.6,2,     1.77,2,  -999.00,9,     0.22,2,     0.01,2,     0.08,2, -999.000,9, -999.000,9,  -999.00,9,   -999.0,9,   -999.0,9,-999.0000,9,   -999.0,  9,     8.27,2,   -999.0,  -999.00,9,  -999.00,9,     0.05,2,     0.02,2,   -999.0,-999.0000, -999,9,   10,  28.8359,  22.0530,   -999.0,9
       RF98-09,  165E,RF-0706,  1,     20,02-12826,2,19981012,0626, 14.9918, 164.9653, 5187,     28.0,  28.8340,  34.9168,2,   -999.0,9,-999.0000,9,    201.5,2,     1.33,2,  -999.00,9,     0.24,2,     0.00,2,     0.07,2, -999.000,9, -999.000,9,  -999.00,9,   -999.0,9,   -999.0,9,-999.0000,9,   -999.0,  9,     8.28,2,   -999.0,  -999.00,9,  -999.00,9,     0.05,2,     0.03,2,   -999.0,-999.0000, -999,9,   28,  28.8272,  22.0592,   -999.0,9
       RF98-09,  165E,RF-0706,  1,     19,02-12825,2,19981012,0625, 14.9918, 164.9653, 5187,     49.5,  28.7833,  34.9225,2,   -999.0,9,-999.0000,9,    198.9,2,     1.22,2,  -999.00,9,     0.26,2,     0.00,2,     0.07,2, -999.000,9, -999.000,9,  -999.00,9,   -999.0,9,   -999.0,9,-999.0000,9,   -999.0,  9,     8.28,4,   -999.0,  -999.00,9,  -999.00,9,     0.06,2,     0.04,2,   -999.0,-999.0000, -999,9,   49,  28.7714,  22.0821,   -999.0,9
       RF98-09,  165E,RF-0706,  1,     18,02-12824,2,19981012,0623, 14.9918, 164.9653, 5187,     75.4,  28.7224,  34.9277,2,   -999.0,9,-999.0000,9,    201.0,2,     1.12,2,  -999.00,9,     0.23,2,     0.00,2,     0.07,2, -999.000,9, -999.000,9,  -999.00,9,   -999.0,9,   -999.0,9,-999.0000,9,   -999.0,  9,     8.28,2,   -999.0,  -999.00,9,  -999.00,9,     0.07,2,     0.05,2,   -999.0,-999.0000, -999,9,   75,  28.7043,  22.1083,   -999.0,9
       RF98-09,  165E,RF-0706,  1,     17,02-12814,3,19981012,0622, 14.9918, 164.9653, 5187,     99.9,  27.1459,  34.8979,2,   -999.0,9,  34.9001,2,    213.0,2,     1.57,2,  -999.00,9,     0.22,2,     0.00,2,     0.05,2, -999.000,9, -999.000,9,  -999.00,9,   -999.0,9,   -999.0,9,-999.0000,9,   -999.0,  9,     8.28,2,   -999.0,  -999.00,9,  -999.00,9,     0.11,2,     0.08,2,   -999.0,-999.0000, -999,9,   99,  27.1229,  22.6015,   -999.0,9
       RF98-09,  165E,RF-0706,  1,     16,02-12832,2,19981012,0621, 14.9918, 164.9653, 5187,    125.7,  26.1530,  34.9606,2,   -999.0,9,-999.0000,9,    207.5,2,     1.30,2,  -999.00,9,     0.19,2,     0.00,2,     0.05,2, -999.000,9, -999.000,9,  -999.00,9,   -999.0,9,   -999.0,9,-999.0000,9,   -999.0,  9,     8.26,2,   -999.0,  -999.00,9,  -999.00,9,     0.17,2,     0.14,2,   -999.0,-999.0000, -999,9,  125,  26.1248,  22.9646,   -999.0,9
       RF98-09,  165E,RF-0706,  1,     15,02-12833,2,19981012,0619, 14.9918, 164.9653, 5187,    151.3,  23.9886,  35.0156,2,   -999.0,9,  35.0373,4,    196.6,2,     1.39,2,  -999.00,9,     0.36,2,     0.15,2,     0.10,2, -999.000,9, -999.000,9,  -999.00,9,   -999.0,9,   -999.0,9,-999.0000,9,   -999.0,  9,     8.21,2,   -999.0,  -999.00,9,  -999.00,9,     0.19,2,     0.41,2,   -999.0,-999.0000, -999,9,  150,  23.9567,  23.6660,   -999.0,9
       RF98-09,  165E,RF-0706,  1,     14,02-13578,2,19981012,0614, 14.9918, 164.9653, 5187,    201.0,  20.2002,  34.9709,2,   -999.0,9,  34.9592,4,    181.5,2,     2.78,2,  -999.00,9,     3.20,2,     0.02,2,     0.29,2, -999.000,9, -999.000,9,  -999.00,9,   -999.0,9,   -999.0,9,-999.0000,9,   -999.0,  9,     8.13,4,   -999.0,  -999.00,9,  -999.00,9,     0.04,2,     0.07,2,   -999.0,-999.0000, -999,9,  200,  20.1628,  24.6966,   -999.0,9
       RF98-09,  165E,RF-0706,  1,     13,02-13590,2,19981012,0612, 14.9918, 164.9653, 5187,    252.3,  15.8816,  34.6400,2,   -999.0,9,  34.6341,2,    168.0,2,     7.45,2,  -999.00,9,     9.38,2,     0.01,2,     0.68,2, -999.000,9, -999.000,9,  -999.00,9,   -999.0,9,   -999.0,9,-999.0000,9,   -999.0,  9,     8.02,2,   -999.0,  -999.00,9,  -999.00,9,  -999.00,9,  -999.00,9,   -999.0,-999.0000, -999,9,  251,  15.8420,  25.5066,   -999.0,9
       RF98-09,  165E,RF-0706,  1,     12,02-12821,2,19981012,0610, 14.9918, 164.9653, 5187,    302.2,  12.9212,  34.3810,2,   -999.0,9,  34.4015,4,    175.8,4,    13.21,2,  -999.00,9,    13.91,2,     0.01,2,     0.97,2, -999.000,9, -999.000,9,  -999.00,9,   -999.0,9,   -999.0,9,-999.0000,9,   -999.0,  9,     7.95,2,   -999.0,  -999.00,9,  -999.00,9,  -999.00,9,  -999.00,9,   -999.0,-999.0000, -999,9,  300,  12.8799,  25.9372,   -999.0,9
       RF98-09,  165E,RF-0706,  1,     11,02-12811,2,19981012,0608, 14.9918, 164.9653, 5187,    402.7,   8.8284,  34.2501,2,   -999.0,9,  34.2449,2,    108.6,2,    36.90,2,  -999.00,9,    27.82,2,     0.00,2,     2.00,2, -999.000,9, -999.000,9,  -999.00,9,   -999.0,9,   -999.0,9,-999.0000,9,   -999.0,  9,  -999.00,9,   -999.0,  -999.00,9,  -999.00,9,  -999.00,9,  -999.00,9,   -999.0,-999.0000, -999,9,  400,   8.7851,  26.5649,   -999.0,9
       RF98-09,  165E,RF-0706,  1,     10,02-12820,2,19981012,0605, 14.9918, 164.9653, 5187,    503.6,   7.1235,  34.3101,2,   -999.0,9,  34.3143,2,     64.8,2,    55.87,2,  -999.00,9,    34.95,2,     0.00,2,     2.51,2, -999.000,9, -999.000,9,  -999.00,9,   -999.0,9,   -999.0,9,-999.0000,9,   -999.0,  9,  -999.00,9,   -999.0,  -999.00,9,  -999.00,9,  -999.00,9,  -999.00,9,   -999.0,-999.0000, -999,9,  500,   7.0754,  26.8648,   -999.0,9
       RF98-09,  165E,RF-0706,  1,      9,02-12810,2,19981012,0603, 14.9918, 164.9653, 5187,    605.4,   6.3198,  34.4598,2,   -999.0,9,  34.4569,2,     49.4,2,    66.51,2,  -999.00,9,    38.59,2,     0.00,2,     2.77,2, -999.000,9, -999.000,9,  -999.00,9,   -999.0,9,   -999.0,9,-999.0000,9,   -999.0,  9,  -999.00,9,   -999.0,  -999.00,9,  -999.00,9,  -999.00,9,  -999.00,9,   -999.0,-999.0000, -999,9,  601,   6.2650,  27.0917,   -999.0,9
       RF98-09,  165E,RF-0706,  1,      8,02-13579,2,19981012,0600, 14.9918, 164.9653, 5187,    704.4,   5.7340,  34.4807,2,   -999.0,9,  34.4778,2,     57.5,2,    74.15,2,  -999.00,9,    39.23,2,     0.00,2,     2.80,2, -999.000,9, -999.000,9,  -999.00,9,   -999.0,9,   -999.0,9,-999.0000,9,   -999.0,  9,  -999.00,9,   -999.0,  -999.00,9,  -999.00,9,  -999.00,9,  -999.00,9,   -999.0,-999.0000, -999,9,  699,   5.6729,  27.1832,   -999.0,9
       RF98-09,  165E,RF-0706,  1,      7,02-12815,2,19981012,0557, 14.9918, 164.9653, 5187,    806.7,   5.1919,  34.5000,2,   -999.0,9,-999.0000,9,     58.6,2,    82.61,2,  -999.00,9,    40.08,2,     0.00,2,     2.85,2, -999.000,9, -999.000,9,  -999.00,9,   -999.0,9,   -999.0,9,-999.0000,9,   -999.0,  9,  -999.00,9,   -999.0,  -999.00,9,  -999.00,9,  -999.00,9,  -999.00,9,   -999.0,-999.0000, -999,9,  800,   5.1247,  27.2644,   -999.0,9
       RF98-09,  165E,RF-0706,  1,      6,02-12818,4,19981012,0555, 14.9918, 164.9653, 5187,    908.2,   4.8264,  34.5189,2,   -999.0,9,  34.4965,4,   -999.0,4,  -999.00,4,  -999.00,9,  -999.00,4,  -999.00,4,  -999.00,4, -999.000,9, -999.000,9,  -999.00,9,   -999.0,9,   -999.0,9,-999.0000,9,   -999.0,  9,  -999.00,9,   -999.0,  -999.00,9,  -999.00,9,  -999.00,9,  -999.00,9,   -999.0,-999.0000, -999,9,  901,   4.7525,  27.3221,   -999.0,9
       RF98-09,  165E,RF-0706,  1,      5,02-12809,2,19981012,0552, 14.9918, 164.9653, 5187,   1007.4,   4.4257,  34.5341,2,   -999.0,9,  34.5320,2,     60.8,2,    95.98,2,  -999.00,9,    41.30,2,     0.00,2,     2.97,2, -999.000,9, -999.000,9,  -999.00,9,   -999.0,9,   -999.0,9,-999.0000,9,   -999.0,  9,  -999.00,9,   -999.0,  -999.00,9,  -999.00,9,  -999.00,9,  -999.00,9,   -999.0,-999.0000, -999,9,  999,   4.3461,  27.3789,   -999.0,9
       RF98-09,  165E,RF-0706,  1,      4,02-12817,2,19981012,0548, 14.9918, 164.9653, 5187,   1258.8,   3.5310,  34.5646,2,   -999.0,9,  34.5645,2,     71.9,2,   113.29,2,  -999.00,9,    41.15,2,     0.00,2,     2.92,2, -999.000,9, -999.000,9,  -999.00,9,   -999.0,9,   -999.0,9,-999.0000,9,   -999.0,  9,  -999.00,9,   -999.0,  -999.00,9,  -999.00,9,  -999.00,9,  -999.00,9,   -999.0,-999.0000, -999,9, 1248,   3.4377,  27.4963,   -999.0,9
       RF98-09,  165E,RF-0706,  1,      3,02-12808,2,19981012,0543, 14.9918, 164.9653, 5187,   1513.5,   2.8193,  34.5901,2,   -999.0,9,  34.5887,2,     87.5,2,   127.08,2,  -999.00,9,    40.46,2,     0.00,2,     2.85,2, -999.000,9, -999.000,9,  -999.00,9,   -999.0,9,   -999.0,9,-999.0000,9,   -999.0,  9,  -999.00,9,   -999.0,  -999.00,9,  -999.00,9,  -999.00,9,  -999.00,9,   -999.0,-999.0000, -999,9, 1499,   2.7124,  27.5837,   -999.0,9
       RF98-09,  165E,RF-0706,  1,      2,02-13591,2,19981012,0539, 14.9918, 164.9653, 5187,   1767.6,   2.4201,  34.6112,2,   -999.0,9,  34.6152,2,     98.2,2,   134.17,2,  -999.00,9,    39.98,2,     0.00,2,     2.79,2, -999.000,9, -999.000,9,  -999.00,9,   -999.0,9,   -999.0,9,-999.0000,9,   -999.0,  9,  -999.00,9,   -999.0,  -999.00,9,  -999.00,9,  -999.00,9,  -999.00,9,   -999.0,-999.0000, -999,9, 1750,   2.2971,  27.6361,   -999.0,9
       RF98-09,  165E,RF-0706,  1,      1,02-12807,2,19981012,0534, 14.9918, 164.9653, 5187,   2027.2,   2.1400,  34.6285,2,   -999.0,9,-999.0000,9,    107.9,2,   139.09,2,  -999.00,9,    39.44,2,     0.00,2,     2.75,2, -999.000,9, -999.000,9,  -999.00,9,   -999.0,9,   -999.0,9,-999.0000,9,   -999.0,  9,  -999.00,9,   -999.0,  -999.00,9,  -999.00,9,  -999.00,9,  -999.00,9,   2010.0,-999.0000, -999,9, 2006,   1.9991,  27.6741,   -999.0,9