BOTTLE,20130607MIRCJHATS
EXPOCODE,SECT_ID,STNNBR,CASTNO,SAMPNO,BTLNBR,BTLNBR_FLAG_W,DATE,TIME,LATITUDE,LONGITUDE,DEPTH,CTDPRS,CTDTMP,CTDSAL,CTDSAL_FLAG_W,CTDOXY,CTDOXY_FLAG_W,SALNTY,SALNTY_FLAG_W,OXYGEN,OXYGEN_FLAG_W,SILCAT,SILCAT_FLAG_W,NITRAT,NITRAT_FLAG_W,NO2+NO3,NO2+NO3_FLAG_W,NITRIT,NITRIT_FLAG_W,PHSPHT,PHSPHT_FLAG_W,CFC-11,CFC-11_FLAG_W,CFC-12,CFC-12_FLAG_W,DELC13,DELC13_FLAG_W,TCARBN,TCARBN_FLAG_W,ALKALI,ALKALI_FLAG_W,PH,PH_FLAG_W,PH_TMP,PH_SCALE,PH_NBS,PH_NBS_FLAG_W,C13ERR,TOTALP,TOTALP_FLAG_W,AMMONI,AMMONI_FLAG_W,CHLORA,CHLORA_FLAG_W,PPHYTN,PPHYTN_FLAG_W,REVPRS,REVTMP,DEPTH_,DEPTH_FLAG,CTDDEP,THETA,SIGTHT,DOC,DOC_FLAG_W
,,,,,,,GMT,GMT,,,METER,DBAR,ITS-90,PSS-78,,UMOL/KG,,PSS-78,,UMOL/KG,,UMOL/KG,,UMOL/KG,,UMOL/KG,,UMOL/KG,,UMOL/KG,,PMOL/KG,,PMOL/KG,,/MILLE,,UMOL/KG,,UMOL/KG,,25_DEG_C,,DEG_C,,,,/MILLE,UMOL/KG,,UMOL/KG,,UG/L,,UG/L,,DBAR,ITS-90,METERS,,METERS,DEG_C,,UMOL/L,
       RF98-09,  NONE,RF-0735,  1,     23,02-12829,2,19981108,0011, 29.8933, 143.0412, 6780,     24.3,  26.2409,  34.5243,2,   -999.0,9,  34.5234,4,   -999.0,9,  -999.00,9,  -999.00,9,  -999.00,9,  -999.00,9,  -999.00,9, -999.000,9, -999.000,9,  -999.00,9,   -999.0,9,   -999.0,9,-999.0000,9,   -999.0,  9,  -999.00,9,   -999.0,  -999.00,9,  -999.00,9,  -999.00,9,  -999.00,9,   -999.0,-999.0000, -999,9,   24,  26.2355,  22.6010,   -999.0,9
       RF98-09,  NONE,RF-0735,  1,     24,02-12830,2,19981108,0011, 29.8933, 143.0412, 6780,     24.4,  26.2457,  34.5177,2,   -999.0,9,  34.5232,4,   -999.0,9,  -999.00,9,  -999.00,9,  -999.00,9,  -999.00,9,  -999.00,9, -999.000,9, -999.000,9,  -999.00,9,   -999.0,9,   -999.0,9,-999.0000,9,   -999.0,  9,  -999.00,9,   -999.0,  -999.00,9,  -999.00,9,  -999.00,9,  -999.00,9,   -999.0,-999.0000, -999,9,   24,  26.2402,  22.5945,   -999.0,9
       RF98-09,  NONE,RF-0735,  1,     21,02-12827,2,19981108,0008, 29.8933, 143.0412, 6780,     96.8,  19.9669,  34.8368,2,   -999.0,9,  34.8131,4,   -999.0,9,  -999.00,9,  -999.00,9,  -999.00,9,  -999.00,9,  -999.00,9, -999.000,9, -999.000,9,  -999.00,9,   -999.0,9,   -999.0,9,-999.0000,9,   -999.0,  9,  -999.00,9,   -999.0,  -999.00,9,  -999.00,9,  -999.00,9,  -999.00,9,   -999.0,-999.0000, -999,9,   96,  19.9491,  24.6507,   -999.0,9
       RF98-09,  NONE,RF-0735,  1,     22,02-12828,2,19981108,0008, 29.8933, 143.0412, 6780,     98.0,  20.1094,  34.7906,2,   -999.0,9,  34.8132,4,   -999.0,9,  -999.00,9,  -999.00,9,  -999.00,9,  -999.00,9,  -999.00,9, -999.000,9, -999.000,9,  -999.00,9,   -999.0,9,   -999.0,9,-999.0000,9,   -999.0,  9,  -999.00,9,   -999.0,  -999.00,9,  -999.00,9,  -999.00,9,  -999.00,9,   -999.0,-999.0000, -999,9,   97,  20.0912,  24.5780,   -999.0,9
       RF98-09,  NONE,RF-0735,  1,     19,02-12825,2,19981108,0006, 29.8933, 143.0412, 6780,    150.3,  18.4739,  34.8340,2,   -999.0,9,  34.8166,4,   -999.0,9,  -999.00,9,  -999.00,9,  -999.00,9,  -999.00,9,  -999.00,9, -999.000,9, -999.000,9,  -999.00,9,   -999.0,9,   -999.0,9,-999.0000,9,   -999.0,  9,  -999.00,9,   -999.0,  -999.00,9,  -999.00,9,  -999.00,9,  -999.00,9,   -999.0,-999.0000, -999,9,  149,  18.4477,  25.0338,   -999.0,9
       RF98-09,  NONE,RF-0735,  1,     20,02-12826,2,19981108,0006, 29.8933, 143.0412, 6780,    150.7,  18.4900,  34.8184,2,   -999.0,9,  34.8170,4,   -999.0,9,  -999.00,9,  -999.00,9,  -999.00,9,  -999.00,9,  -999.00,9, -999.000,9, -999.000,9,  -999.00,9,   -999.0,9,   -999.0,9,-999.0000,9,   -999.0,  9,  -999.00,9,   -999.0,  -999.00,9,  -999.00,9,  -999.00,9,  -999.00,9,   -999.0,-999.0000, -999,9,  150,  18.4637,  25.0178,   -999.0,9
       RF98-09,  NONE,RF-0735,  1,     18,02-12824,2,19981108,0004, 29.8933, 143.0412, 6780,    198.2,  17.8917,  34.8093,2,   -999.0,9,  34.8054,4,   -999.0,9,  -999.00,9,  -999.00,9,  -999.00,9,  -999.00,9,  -999.00,9, -999.000,9, -999.000,9,  -999.00,9,   -999.0,9,   -999.0,9,-999.0000,9,   -999.0,  9,  -999.00,9,   -999.0,  -999.00,9,  -999.00,9,  -999.00,9,  -999.00,9,   -999.0,-999.0000, -999,9,  197,  17.8579,  25.1609,   -999.0,9
       RF98-09,  NONE,RF-0735,  1,     17,02-12814,2,19981108,0003, 29.8933, 143.0412, 6780,    199.2,  17.8884,  34.8132,2,   -999.0,9,  34.8050,4,   -999.0,9,  -999.00,9,  -999.00,9,  -999.00,9,  -999.00,9,  -999.00,9, -999.000,9, -999.000,9,  -999.00,9,   -999.0,9,   -999.0,9,-999.0000,9,   -999.0,  9,  -999.00,9,   -999.0,  -999.00,9,  -999.00,9,  -999.00,9,  -999.00,9,   -999.0,-999.0000, -999,9,  198,  17.8544,  25.1648,   -999.0,9
       RF98-09,  NONE,RF-0735,  1,     15,02-12833,2,19981108,0000, 29.8933, 143.0412, 6780,    299.9,  16.5161,  34.7542,2,   -999.0,9,  34.7420,4,   -999.0,9,  -999.00,9,  -999.00,9,  -999.00,9,  -999.00,9,  -999.00,9, -999.000,9, -999.000,9,  -999.00,9,   -999.0,9,   -999.0,9,-999.0000,9,   -999.0,  9,  -999.00,9,   -999.0,  -999.00,9,  -999.00,9,  -999.00,9,  -999.00,9,   -999.0,-999.0000, -999,9,  298,  16.4676,  25.4507,   -999.0,9
       RF98-09,  NONE,RF-0735,  1,     16,02-12832,2,19981108,0001, 29.8933, 143.0412, 6780,    300.5,  16.5258,  34.7478,2,   -999.0,9,  34.7426,4,   -999.0,9,  -999.00,9,  -999.00,9,  -999.00,9,  -999.00,9,  -999.00,9, -999.000,9, -999.000,9,  -999.00,9,   -999.0,9,   -999.0,9,-999.0000,9,   -999.0,  9,  -999.00,9,   -999.0,  -999.00,9,  -999.00,9,  -999.00,9,  -999.00,9,   -999.0,-999.0000, -999,9,  298,  16.4771,  25.4436,   -999.0,9
       RF98-09,  NONE,RF-0735,  1,     13,02-13590,2,19981107,2357, 29.8933, 143.0412, 6780,    403.1,  14.1219,  34.5800,2,   -999.0,9,  34.5680,4,   -999.0,9,  -999.00,9,  -999.00,9,  -999.00,9,  -999.00,9,  -999.00,9, -999.000,9, -999.000,9,  -999.00,9,   -999.0,9,   -999.0,9,-999.0000,9,   -999.0,  9,  -999.00,9,   -999.0,  -999.00,9,  -999.00,9,  -999.00,9,  -999.00,9,   -999.0,-999.0000, -999,9,  400,  14.0631,  25.8492,   -999.0,9
       RF98-09,  NONE,RF-0735,  1,     14,02-13578,2,19981107,2358, 29.8933, 143.0412, 6780,    403.6,  14.1184,  34.5689,2,   -999.0,9,  34.5651,4,   -999.0,9,  -999.00,9,  -999.00,9,  -999.00,9,  -999.00,9,  -999.00,9, -999.000,9, -999.000,9,  -999.00,9,   -999.0,9,   -999.0,9,-999.0000,9,   -999.0,  9,  -999.00,9,   -999.0,  -999.00,9,  -999.00,9,  -999.00,9,  -999.00,9,   -999.0,-999.0000, -999,9,  400,  14.0595,  25.8414,   -999.0,9
       RF98-09,  NONE,RF-0735,  1,     11,02-12811,2,19981107,2354, 29.8933, 143.0412, 6780,    502.8,  11.5024,  34.3841,2,   -999.0,9,  34.3722,4,   -999.0,9,  -999.00,9,  -999.00,9,  -999.00,9,  -999.00,9,  -999.00,9, -999.000,9, -999.000,9,  -999.00,9,   -999.0,9,   -999.0,9,-999.0000,9,   -999.0,  9,  -999.00,9,   -999.0,  -999.00,9,  -999.00,9,  -999.00,9,  -999.00,9,   -999.0,-999.0000, -999,9,  499,  11.4382,  26.2160,   -999.0,9
       RF98-09,  NONE,RF-0735,  1,     12,02-12821,2,19981107,2355, 29.8933, 143.0412, 6780,    505.7,  11.4179,  34.3824,2,   -999.0,9,  34.3608,4,   -999.0,9,  -999.00,9,  -999.00,9,  -999.00,9,  -999.00,9,  -999.00,9, -999.000,9, -999.000,9,  -999.00,9,   -999.0,9,   -999.0,9,-999.0000,9,   -999.0,  9,  -999.00,9,   -999.0,  -999.00,9,  -999.00,9,  -999.00,9,  -999.00,9,   -999.0,-999.0000, -999,9,  502,  11.3536,  26.2302,   -999.0,9
       RF98-09,  NONE,RF-0735,  1,      9,02-12810,2,19981107,2348, 29.8933, 143.0412, 6780,    731.3,   5.9772,  34.1006,2,   -999.0,9,  34.0961,4,   -999.0,9,  -999.00,9,  -999.00,9,  -999.00,9,  -999.00,9,  -999.00,9, -999.000,9, -999.000,9,  -999.00,9,   -999.0,9,   -999.0,9,-999.0000,9,   -999.0,  9,  -999.00,9,   -999.0,  -999.00,9,  -999.00,9,  -999.00,9,  -999.00,9,   -999.0,-999.0000, -999,9,  725,   5.9127,  26.8529,   -999.0,9
       RF98-09,  NONE,RF-0735,  1,     10,02-12820,2,19981107,2349, 29.8933, 143.0412, 6780,    734.6,   5.9043,  34.0944,2,   -999.0,9,  34.0955,4,   -999.0,9,  -999.00,9,  -999.00,9,  -999.00,9,  -999.00,9,  -999.00,9, -999.000,9, -999.000,9,  -999.00,9,   -999.0,9,   -999.0,9,-999.0000,9,   -999.0,  9,  -999.00,9,   -999.0,  -999.00,9,  -999.00,9,  -999.00,9,  -999.00,9,   -999.0,-999.0000, -999,9,  728,   5.8399,  26.8570,   -999.0,9
       RF98-09,  NONE,RF-0735,  1,      7,02-12815,2,19981107,2342, 29.8933, 143.0412, 6780,   1006.5,   3.7767,  34.2973,2,   -999.0,9,  34.2934,2,   -999.0,9,  -999.00,9,  -999.00,9,  -999.00,9,  -999.00,9,  -999.00,9, -999.000,9, -999.000,9,  -999.00,9,   -999.0,9,   -999.0,9,-999.0000,9,   -999.0,  9,  -999.00,9,   -999.0,  -999.00,9,  -999.00,9,  -999.00,9,  -999.00,9,   -999.0,-999.0000, -999,9,  997,   3.7026,  27.2573,   -999.0,9
       RF98-09,  NONE,RF-0735,  1,      8,02-13579,2,19981107,2342, 29.8933, 143.0412, 6780,   1008.7,   3.7789,  34.2875,2,   -999.0,9,  34.2942,2,   -999.0,9,  -999.00,9,  -999.00,9,  -999.00,9,  -999.00,9,  -999.00,9, -999.000,9, -999.000,9,  -999.00,9,   -999.0,9,   -999.0,9,-999.0000,9,   -999.0,  9,  -999.00,9,   -999.0,  -999.00,9,  -999.00,9,  -999.00,9,  -999.00,9,   -999.0,-999.0000, -999,9,  999,   3.7046,  27.2492,   -999.0,9
       RF98-09,  NONE,RF-0735,  1,      6,02-12818,2,19981107,2322, 29.8933, 143.0412, 6780,   2030.4,   1.9808,  34.5854,2,   -999.0,9,  34.5932,2,   -999.0,9,  -999.00,9,  -999.00,9,  -999.00,9,  -999.00,9,  -999.00,9, -999.000,9, -999.000,9,  -999.00,9,   -999.0,9,   -999.0,9,-999.0000,9,   -999.0,  9,  -999.00,9,   -999.0,  -999.00,9,  -999.00,9,  -999.00,9,  -999.00,9,   -999.0,-999.0000, -999,9, 2007,   1.8423,  27.6518,   -999.0,9
       RF98-09,  NONE,RF-0735,  1,      5,02-12809,2,19981107,2321, 29.8933, 143.0412, 6780,   2030.7,   1.9804,  34.5852,2,   -999.0,9,  34.5938,2,   -999.0,9,  -999.00,9,  -999.00,9,  -999.00,9,  -999.00,9,  -999.00,9, -999.000,9, -999.000,9,  -999.00,9,   -999.0,9,   -999.0,9,-999.0000,9,   -999.0,  9,  -999.00,9,   -999.0,  -999.00,9,  -999.00,9,  -999.00,9,  -999.00,9,   -999.0,-999.0000, -999,9, 2007,   1.8418,  27.6517,   -999.0,9
       RF98-09,  NONE,RF-0735,  1,      4,02-12817,2,19981107,2320, 29.8933, 143.0412, 6780,   2033.4,   1.9794,  34.5849,2,   -999.0,9,  34.5952,2,   -999.0,9,  -999.00,9,  -999.00,9,  -999.00,9,  -999.00,9,  -999.00,9, -999.000,9, -999.000,9,  -999.00,9,   -999.0,9,   -999.0,9,-999.0000,9,   -999.0,  9,  -999.00,9,   -999.0,  -999.00,9,  -999.00,9,  -999.00,9,  -999.00,9,   -999.0,-999.0000, -999,9, 2010,   1.8406,  27.6515,   -999.0,9
       RF98-09,  NONE,RF-0735,  1,      3,02-12808,2,19981107,2320, 29.8933, 143.0412, 6780,   2035.3,   1.9785,  34.5859,2,   -999.0,9,  34.5946,2,   -999.0,9,  -999.00,9,  -999.00,9,  -999.00,9,  -999.00,9,  -999.00,9, -999.000,9, -999.000,9,  -999.00,9,   -999.0,9,   -999.0,9,-999.0000,9,   -999.0,  9,  -999.00,9,   -999.0,  -999.00,9,  -999.00,9,  -999.00,9,  -999.00,9,   -999.0,-999.0000, -999,9, 2012,   1.8396,  27.6524,   -999.0,9
       RF98-09,  NONE,RF-0735,  1,      2,02-13591,2,19981107,2319, 29.8933, 143.0412, 6780,   2039.4,   1.9779,  34.5862,2,   -999.0,9,  34.5960,2,   -999.0,9,  -999.00,9,  -999.00,9,  -999.00,9,  -999.00,9,  -999.00,9, -999.000,9, -999.000,9,  -999.00,9,   -999.0,9,   -999.0,9,-999.0000,9,   -999.0,  9,  -999.00,9,   -999.0,  -999.00,9,  -999.00,9,  -999.00,9,  -999.00,9,   -999.0,-999.0000, -999,9, 2016,   1.8386,  27.6528,   -999.0,9
       RF98-09,  NONE,RF-0735,  1,      1,02-12807,2,19981107,2319, 29.8933, 143.0412, 6780,   2042.9,   1.9709,  34.5959,2,   -999.0,9,  34.5962,2,   -999.0,9,  -999.00,9,  -999.00,9,  -999.00,9,  -999.00,9,  -999.00,9, -999.000,9, -999.000,9,  -999.00,9,   -999.0,9,   -999.0,9,-999.0000,9,   -999.0,  9,  -999.00,9,   -999.0,  -999.00,9,  -999.00,9,  -999.00,9,  -999.00,9,   2023.0,-999.0000, -999,9, 2019,   1.8314,  27.6610,   -999.0,9