BOTTLE,20130607MIRCJHATS
EXPOCODE,SECT_ID,STNNBR,CASTNO,SAMPNO,BTLNBR,BTLNBR_FLAG_W,DATE,TIME,LATITUDE,LONGITUDE,DEPTH,CTDPRS,CTDTMP,CTDSAL,CTDSAL_FLAG_W,CTDOXY,CTDOXY_FLAG_W,SALNTY,SALNTY_FLAG_W,OXYGEN,OXYGEN_FLAG_W,SILCAT,SILCAT_FLAG_W,NITRAT,NITRAT_FLAG_W,NO2+NO3,NO2+NO3_FLAG_W,NITRIT,NITRIT_FLAG_W,PHSPHT,PHSPHT_FLAG_W,CFC-11,CFC-11_FLAG_W,CFC-12,CFC-12_FLAG_W,DELC13,DELC13_FLAG_W,TCARBN,TCARBN_FLAG_W,ALKALI,ALKALI_FLAG_W,PH,PH_FLAG_W,PH_TMP,PH_SCALE,PH_NBS,PH_NBS_FLAG_W,C13ERR,TOTALP,TOTALP_FLAG_W,AMMONI,AMMONI_FLAG_W,CHLORA,CHLORA_FLAG_W,PPHYTN,PPHYTN_FLAG_W,REVPRS,REVTMP,DEPTH_,DEPTH_FLAG,CTDDEP,THETA,SIGTHT,DOC,DOC_FLAG_W
,,,,,,,GMT,GMT,,,METER,DBAR,ITS-90,PSS-78,,UMOL/KG,,PSS-78,,UMOL/KG,,UMOL/KG,,UMOL/KG,,UMOL/KG,,UMOL/KG,,UMOL/KG,,PMOL/KG,,PMOL/KG,,/MILLE,,UMOL/KG,,UMOL/KG,,25_DEG_C,,DEG_C,,,,/MILLE,UMOL/KG,,UMOL/KG,,UG/L,,UG/L,,DBAR,ITS-90,METERS,,METERS,DEG_C,,UMOL/L,
       RF98-09,  165E,RF-0722,  1,     24,02-12830,2,19981016,1907, -1.0063, 164.9635, 4426,    160.6,  19.1535,  35.5955,2,   -999.0,9,-999.0000,9,   -999.0,9,  -999.00,9,  -999.00,9,  -999.00,9,  -999.00,9,  -999.00,9, -999.000,9, -999.000,9,  -999.00,9,   -999.0,9,   -999.0,9,-999.0000,9,   -999.0,  9,  -999.00,9,   -999.0,  -999.00,9,  -999.00,9,  -999.00,9,  -999.00,9,   -999.0,-999.0000, -999,9,  160,  19.1246,  25.4445,   -999.0,9
       RF98-09,  165E,RF-0722,  1,     23,02-12829,2,19981016,1906, -1.0063, 164.9635, 4426,    162.2,  18.9279,  35.5807,2,   -999.0,9,-999.0000,9,   -999.0,9,  -999.00,9,  -999.00,9,  -999.00,9,  -999.00,9,  -999.00,9, -999.000,9, -999.000,9,  -999.00,9,   -999.0,9,   -999.0,9,-999.0000,9,   -999.0,  9,  -999.00,9,   -999.0,  -999.00,9,  -999.00,9,  -999.00,9,  -999.00,9,   -999.0,-999.0000, -999,9,  161,  18.8990,  25.4909,   -999.0,9
       RF98-09,  165E,RF-0722,  1,     21,02-12827,2,19981016,1902, -1.0063, 164.9635, 4426,    299.7,  11.8931,  34.8650,2,   -999.0,9,-999.0000,9,   -999.0,9,  -999.00,9,  -999.00,9,  -999.00,9,  -999.00,9,  -999.00,9, -999.000,9, -999.000,9,  -999.00,9,   -999.0,9,   -999.0,9,-999.0000,9,   -999.0,  9,  -999.00,9,   -999.0,  -999.00,9,  -999.00,9,  -999.00,9,  -999.00,9,   -999.0,-999.0000, -999,9,  298,  11.8541,  26.5120,   -999.0,9
       RF98-09,  165E,RF-0722,  1,     22,02-12828,2,19981016,1902, -1.0063, 164.9635, 4426,    304.2,  11.7213,  34.8392,2,   -999.0,9,-999.0000,9,   -999.0,9,  -999.00,9,  -999.00,9,  -999.00,9,  -999.00,9,  -999.00,9, -999.000,9, -999.000,9,  -999.00,9,   -999.0,9,   -999.0,9,-999.0000,9,   -999.0,  9,  -999.00,9,   -999.0,  -999.00,9,  -999.00,9,  -999.00,9,  -999.00,9,   -999.0,-999.0000, -999,9,  302,  11.6821,  26.5245,   -999.0,9
       RF98-09,  165E,RF-0722,  1,     16,02-12832,2,19981016,1844, -1.0063, 164.9635, 4426,   1010.8,   4.4149,  34.5555,2,   -999.0,9,  34.5482,4,   -999.0,9,  -999.00,9,  -999.00,9,  -999.00,9,  -999.00,9,  -999.00,9, -999.000,9, -999.000,9,  -999.00,9,   -999.0,9,   -999.0,9,-999.0000,9,   -999.0,  9,  -999.00,9,   -999.0,  -999.00,9,  -999.00,9,  -999.00,9,  -999.00,9,   -999.0,-999.0000, -999,9, 1003,   4.3350,  27.3971,   -999.0,9
       RF98-09,  165E,RF-0722,  1,     17,02-12814,2,19981016,1844, -1.0063, 164.9635, 4426,   1014.8,   4.4127,  34.5487,2,   -999.0,9,  34.5492,2,   -999.0,9,  -999.00,9,  -999.00,9,  -999.00,9,  -999.00,9,  -999.00,9, -999.000,9, -999.000,9,  -999.00,9,   -999.0,9,   -999.0,9,-999.0000,9,   -999.0,  9,  -999.00,9,   -999.0,  -999.00,9,  -999.00,9,  -999.00,9,  -999.00,9,   -999.0,-999.0000, -999,9, 1007,   4.3325,  27.3920,   -999.0,9
       RF98-09,  165E,RF-0722,  1,     18,02-12824,2,19981016,1845, -1.0063, 164.9635, 4426,   1018.4,   4.4071,  34.5473,2,   -999.0,9,  34.5490,2,   -999.0,9,  -999.00,9,  -999.00,9,  -999.00,9,  -999.00,9,  -999.00,9, -999.000,9, -999.000,9,  -999.00,9,   -999.0,9,   -999.0,9,-999.0000,9,   -999.0,  9,  -999.00,9,   -999.0,  -999.00,9,  -999.00,9,  -999.00,9,  -999.00,9,   -999.0,-999.0000, -999,9, 1010,   4.3267,  27.3915,   -999.0,9
       RF98-09,  165E,RF-0722,  1,     19,02-12825,2,19981016,1845, -1.0063, 164.9635, 4426,   1021.0,   4.3811,  34.5510,2,   -999.0,9,  34.5490,2,   -999.0,9,  -999.00,9,  -999.00,9,  -999.00,9,  -999.00,9,  -999.00,9, -999.000,9, -999.000,9,  -999.00,9,   -999.0,9,   -999.0,9,-999.0000,9,   -999.0,  9,  -999.00,9,   -999.0,  -999.00,9,  -999.00,9,  -999.00,9,  -999.00,9,   -999.0,-999.0000, -999,9, 1013,   4.3006,  27.3972,   -999.0,9
       RF98-09,  165E,RF-0722,  1,     20,02-12826,2,19981016,1846, -1.0063, 164.9635, 4426,   1023.8,   4.3726,  34.5482,2,   -999.0,9,  34.5501,2,   -999.0,9,  -999.00,9,  -999.00,9,  -999.00,9,  -999.00,9,  -999.00,9, -999.000,9, -999.000,9,  -999.00,9,   -999.0,9,   -999.0,9,-999.0000,9,   -999.0,  9,  -999.00,9,   -999.0,  -999.00,9,  -999.00,9,  -999.00,9,  -999.00,9,   -999.0,-999.0000, -999,9, 1016,   4.2919,  27.3960,   -999.0,9
       RF98-09,  165E,RF-0722,  1,      9,02-12810,2,19981016,1813, -1.0063, 164.9635, 4426,   2532.8,   1.8982,  34.6622,2,   -999.0,9,  34.6548,4,   -999.0,9,  -999.00,9,  -999.00,9,  -999.00,9,  -999.00,9,  -999.00,9, -999.000,9, -999.000,9,  -999.00,9,   -999.0,9,   -999.0,9,-999.0000,9,   -999.0,  9,  -999.00,9,   -999.0,  -999.00,9,  -999.00,9,  -999.00,9,  -999.00,9,   -999.0,-999.0000, -999,9, 2504,   1.7168,  27.7230,   -999.0,9
       RF98-09,  165E,RF-0722,  1,     10,02-12820,2,19981016,1814, -1.0063, 164.9635, 4426,   2535.5,   1.8995,  34.6547,2,   -999.0,9,  34.6554,2,   -999.0,9,  -999.00,9,  -999.00,9,  -999.00,9,  -999.00,9,  -999.00,9, -999.000,9, -999.000,9,  -999.00,9,   -999.0,9,   -999.0,9,-999.0000,9,   -999.0,  9,  -999.00,9,   -999.0,  -999.00,9,  -999.00,9,  -999.00,9,  -999.00,9,   -999.0,-999.0000, -999,9, 2506,   1.7179,  27.7169,   -999.0,9
       RF98-09,  165E,RF-0722,  1,     11,02-12811,2,19981016,1814, -1.0063, 164.9635, 4426,   2536.3,   1.8982,  34.6576,2,   -999.0,9,  34.6554,2,   -999.0,9,  -999.00,9,  -999.00,9,  -999.00,9,  -999.00,9,  -999.00,9, -999.000,9, -999.000,9,  -999.00,9,   -999.0,9,   -999.0,9,-999.0000,9,   -999.0,  9,  -999.00,9,   -999.0,  -999.00,9,  -999.00,9,  -999.00,9,  -999.00,9,   -999.0,-999.0000, -999,9, 2507,   1.7165,  27.7193,   -999.0,9
       RF98-09,  165E,RF-0722,  1,     12,02-12821,2,19981016,1815, -1.0063, 164.9635, 4426,   2538.3,   1.8975,  34.6552,2,   -999.0,9,  34.6546,2,   -999.0,9,  -999.00,9,  -999.00,9,  -999.00,9,  -999.00,9,  -999.00,9, -999.000,9, -999.000,9,  -999.00,9,   -999.0,9,   -999.0,9,-999.0000,9,   -999.0,  9,  -999.00,9,   -999.0,  -999.00,9,  -999.00,9,  -999.00,9,  -999.00,9,   -999.0,-999.0000, -999,9, 2509,   1.7156,  27.7175,   -999.0,9
       RF98-09,  165E,RF-0722,  1,     13,02-13590,2,19981016,1815, -1.0063, 164.9635, 4426,   2539.5,   1.8951,  34.6553,2,   -999.0,9,  34.6552,2,   -999.0,9,  -999.00,9,  -999.00,9,  -999.00,9,  -999.00,9,  -999.00,9, -999.000,9, -999.000,9,  -999.00,9,   -999.0,9,   -999.0,9,-999.0000,9,   -999.0,  9,  -999.00,9,   -999.0,  -999.00,9,  -999.00,9,  -999.00,9,  -999.00,9,   -999.0,-999.0000, -999,9, 2510,   1.7132,  27.7177,   -999.0,9
       RF98-09,  165E,RF-0722,  1,     14,02-13578,2,19981016,1816, -1.0063, 164.9635, 4426,   2540.4,   1.8943,  34.6581,2,   -999.0,9,  34.6550,2,   -999.0,9,  -999.00,9,  -999.00,9,  -999.00,9,  -999.00,9,  -999.00,9, -999.000,9, -999.000,9,  -999.00,9,   -999.0,9,   -999.0,9,-999.0000,9,   -999.0,  9,  -999.00,9,   -999.0,  -999.00,9,  -999.00,9,  -999.00,9,  -999.00,9,   -999.0,-999.0000, -999,9, 2511,   1.7123,  27.7201,   -999.0,9
       RF98-09,  165E,RF-0722,  1,     15,02-12833,2,19981016,1816, -1.0063, 164.9635, 4426,   2541.1,   1.8959,  34.6531,2,   -999.0,9,  34.6556,2,   -999.0,9,  -999.00,9,  -999.00,9,  -999.00,9,  -999.00,9,  -999.00,9, -999.000,9, -999.000,9,  -999.00,9,   -999.0,9,   -999.0,9,-999.0000,9,   -999.0,  9,  -999.00,9,   -999.0,  -999.00,9,  -999.00,9,  -999.00,9,  -999.00,9,   -999.0,-999.0000, -999,9, 2512,   1.7139,  27.7159,   -999.0,9
       RF98-09,  165E,RF-0722,  1,      4,02-12817,2,19981016,1732, -1.0063, 164.9635, 4426,   4469.5,   1.3415,  34.7017,2,   -999.0,9,  34.6981,2,   -999.0,9,  -999.00,9,  -999.00,9,  -999.00,9,  -999.00,9,  -999.00,9, -999.000,9, -999.000,9,  -999.00,9,   -999.0,9,   -999.0,9,-999.0000,9,   -999.0,  9,  -999.00,9,   -999.0,  -999.00,9,  -999.00,9,  -999.00,9,  -999.00,9,   -999.0,-999.0000, -999,9, 4399,   0.9748,  27.8074,   -999.0,9
       RF98-09,  165E,RF-0722,  1,      3,02-12808,2,19981016,1731, -1.0063, 164.9635, 4426,   4472.7,   1.3440,  34.6966,2,   -999.0,9,  34.6979,2,   -999.0,9,  -999.00,9,  -999.00,9,  -999.00,9,  -999.00,9,  -999.00,9, -999.000,9, -999.000,9,  -999.00,9,   -999.0,9,   -999.0,9,-999.0000,9,   -999.0,  9,  -999.00,9,   -999.0,  -999.00,9,  -999.00,9,  -999.00,9,  -999.00,9,   -999.0,-999.0000, -999,9, 4402,   0.9769,  27.8031,   -999.0,9
       RF98-09,  165E,RF-0722,  1,      8,02-13579,2,19981016,1735, -1.0063, 164.9635, 4426,   4473.6,   1.3428,  34.7002,2,   -999.0,9,  34.6979,2,   -999.0,9,  -999.00,9,  -999.00,9,  -999.00,9,  -999.00,9,  -999.00,9, -999.000,9, -999.000,9,  -999.00,9,   -999.0,9,   -999.0,9,-999.0000,9,   -999.0,  9,  -999.00,9,   -999.0,  -999.00,9,  -999.00,9,  -999.00,9,  -999.00,9,   -999.0,-999.0000, -999,9, 4403,   0.9757,  27.8060,   -999.0,9
       RF98-09,  165E,RF-0722,  1,      2,02-13591,2,19981016,1731, -1.0063, 164.9635, 4426,   4475.7,   1.3430,  34.6976,2,   -999.0,9,  34.6975,2,   -999.0,9,  -999.00,9,  -999.00,9,  -999.00,9,  -999.00,9,  -999.00,9, -999.000,9, -999.000,9,  -999.00,9,   -999.0,9,   -999.0,9,-999.0000,9,   -999.0,  9,  -999.00,9,   -999.0,  -999.00,9,  -999.00,9,  -999.00,9,  -999.00,9,   -999.0,-999.0000, -999,9, 4405,   0.9756,  27.8040,   -999.0,9
       RF98-09,  165E,RF-0722,  1,      7,02-12815,2,19981016,1735, -1.0063, 164.9635, 4426,   4476.1,   1.3426,  34.7005,2,   -999.0,9,  34.6989,2,   -999.0,9,  -999.00,9,  -999.00,9,  -999.00,9,  -999.00,9,  -999.00,9, -999.000,9, -999.000,9,  -999.00,9,   -999.0,9,   -999.0,9,-999.0000,9,   -999.0,  9,  -999.00,9,   -999.0,  -999.00,9,  -999.00,9,  -999.00,9,  -999.00,9,   -999.0,-999.0000, -999,9, 4405,   0.9752,  27.8063,   -999.0,9
       RF98-09,  165E,RF-0722,  1,      1,02-12807,2,19981016,1730, -1.0063, 164.9635, 4426,   4477.5,   1.3405,  34.7056,2,   -999.0,9,  34.6983,4,   -999.0,9,  -999.00,9,  -999.00,9,  -999.00,9,  -999.00,9,  -999.00,9, -999.000,9, -999.000,9,  -999.00,9,   -999.0,9,   -999.0,9,-999.0000,9,   -999.0,  9,  -999.00,9,   -999.0,  -999.00,9,  -999.00,9,  -999.00,9,  -999.00,9,   -999.0,-999.0000, -999,9, 4407,   0.9730,  27.8106,   -999.0,9
       RF98-09,  165E,RF-0722,  1,      6,02-12818,2,19981016,1734, -1.0063, 164.9635, 4426,   4478.7,   1.3430,  34.7006,2,   -999.0,9,  34.6967,2,   -999.0,9,  -999.00,9,  -999.00,9,  -999.00,9,  -999.00,9,  -999.00,9, -999.000,9, -999.000,9,  -999.00,9,   -999.0,9,   -999.0,9,-999.0000,9,   -999.0,  9,  -999.00,9,   -999.0,  -999.00,9,  -999.00,9,  -999.00,9,  -999.00,9,   -999.0,-999.0000, -999,9, 4408,   0.9752,  27.8064,   -999.0,9
       RF98-09,  165E,RF-0722,  1,      5,02-12809,2,19981016,1734, -1.0063, 164.9635, 4426,   4480.5,   1.3414,  34.7053,2,   -999.0,9,  34.6977,4,   -999.0,9,  -999.00,9,  -999.00,9,  -999.00,9,  -999.00,9,  -999.00,9, -999.000,9, -999.000,9,  -999.00,9,   -999.0,9,   -999.0,9,-999.0000,9,   -999.0,  9,  -999.00,9,   -999.0,  -999.00,9,  -999.00,9,  -999.00,9,  -999.00,9,   -999.0,-999.0000, -999,9, 4410,   0.9735,  27.8103,   -999.0,9