BOTTLE,20130607MIRCJHATS
EXPOCODE,SECT_ID,STNNBR,CASTNO,SAMPNO,BTLNBR,BTLNBR_FLAG_W,DATE,TIME,LATITUDE,LONGITUDE,DEPTH,CTDPRS,CTDTMP,CTDSAL,CTDSAL_FLAG_W,CTDOXY,CTDOXY_FLAG_W,SALNTY,SALNTY_FLAG_W,OXYGEN,OXYGEN_FLAG_W,SILCAT,SILCAT_FLAG_W,NITRAT,NITRAT_FLAG_W,NO2+NO3,NO2+NO3_FLAG_W,NITRIT,NITRIT_FLAG_W,PHSPHT,PHSPHT_FLAG_W,CFC-11,CFC-11_FLAG_W,CFC-12,CFC-12_FLAG_W,DELC13,DELC13_FLAG_W,TCARBN,TCARBN_FLAG_W,ALKALI,ALKALI_FLAG_W,PH,PH_FLAG_W,PH_TMP,PH_SCALE,PH_NBS,PH_NBS_FLAG_W,C13ERR,TOTALP,TOTALP_FLAG_W,AMMONI,AMMONI_FLAG_W,CHLORA,CHLORA_FLAG_W,PPHYTN,PPHYTN_FLAG_W,REVPRS,REVTMP,DEPTH_,DEPTH_FLAG,CTDDEP,THETA,SIGTHT,DOC,DOC_FLAG_W
,,,,,,,GMT,GMT,,,METER,DBAR,ITS-90,PSS-78,,UMOL/KG,,PSS-78,,UMOL/KG,,UMOL/KG,,UMOL/KG,,UMOL/KG,,UMOL/KG,,UMOL/KG,,PMOL/KG,,PMOL/KG,,/MILLE,,UMOL/KG,,UMOL/KG,,25_DEG_C,,DEG_C,,,,/MILLE,UMOL/KG,,UMOL/KG,,UG/L,,UG/L,,DBAR,ITS-90,METERS,,METERS,DEG_C,,UMOL/L,
       RF98-09,  142E,RF-0738,  1,     23,02-12829,2,19981108,2234, 33.0485, 141.3883, 4236,     50.2,  25.4931,  34.4672,2,   -999.0,9,  34.4668,4,   -999.0,9,  -999.00,9,  -999.00,9,  -999.00,9,  -999.00,9,  -999.00,9, -999.000,9, -999.000,9,  -999.00,9,   -999.0,9,   -999.0,9,-999.0000,9,   -999.0,  9,  -999.00,9,   -999.0,  -999.00,9,  -999.00,9,  -999.00,9,  -999.00,9,   -999.0,-999.0000, -999,9,   50,  25.4820,  22.7915,   -999.0,9
       RF98-09,  142E,RF-0738,  1,     24,02-12830,2,19981108,2235, 33.0485, 141.3883, 4236,     51.3,  25.4787,  34.4629,2,   -999.0,9,  34.4646,4,   -999.0,9,  -999.00,9,  -999.00,9,  -999.00,9,  -999.00,9,  -999.00,9, -999.000,9, -999.000,9,  -999.00,9,   -999.0,9,   -999.0,9,-999.0000,9,   -999.0,  9,  -999.00,9,   -999.0,  -999.00,9,  -999.00,9,  -999.00,9,  -999.00,9,   -999.0,-999.0000, -999,9,   51,  25.4675,  22.7927,   -999.0,9
       RF98-09,  142E,RF-0738,  1,     21,02-12827,2,19981108,2232, 33.0485, 141.3883, 4236,    100.3,  23.1788,  34.7341,2,   -999.0,9,  34.7217,4,   -999.0,9,  -999.00,9,  -999.00,9,  -999.00,9,  -999.00,9,  -999.00,9, -999.000,9, -999.000,9,  -999.00,9,   -999.0,9,   -999.0,9,-999.0000,9,   -999.0,  9,  -999.00,9,   -999.0,  -999.00,9,  -999.00,9,  -999.00,9,  -999.00,9,   -999.0,-999.0000, -999,9,  100,  23.1582,  23.6863,   -999.0,9
       RF98-09,  142E,RF-0738,  1,     22,02-12828,2,19981108,2233, 33.0485, 141.3883, 4236,    101.5,  23.2312,  34.7252,2,   -999.0,9,  34.7215,4,   -999.0,9,  -999.00,9,  -999.00,9,  -999.00,9,  -999.00,9,  -999.00,9, -999.000,9, -999.000,9,  -999.00,9,   -999.0,9,   -999.0,9,-999.0000,9,   -999.0,  9,  -999.00,9,   -999.0,  -999.00,9,  -999.00,9,  -999.00,9,  -999.00,9,   -999.0,-999.0000, -999,9,  101,  23.2104,  23.6645,   -999.0,9
       RF98-09,  142E,RF-0738,  1,     19,02-12825,2,19981108,2230, 33.0485, 141.3883, 4236,    150.4,  20.2425,  34.7726,2,   -999.0,9,  34.7687,4,   -999.0,9,  -999.00,9,  -999.00,9,  -999.00,9,  -999.00,9,  -999.00,9, -999.000,9, -999.000,9,  -999.00,9,   -999.0,9,   -999.0,9,-999.0000,9,   -999.0,  9,  -999.00,9,   -999.0,  -999.00,9,  -999.00,9,  -999.00,9,  -999.00,9,   -999.0,-999.0000, -999,9,  149,  20.2145,  24.5316,   -999.0,9
       RF98-09,  142E,RF-0738,  1,     20,02-12826,2,19981108,2230, 33.0485, 141.3883, 4236,    152.8,  20.1989,  34.7747,2,   -999.0,9,  34.7684,4,   -999.0,9,  -999.00,9,  -999.00,9,  -999.00,9,  -999.00,9,  -999.00,9, -999.000,9, -999.000,9,  -999.00,9,   -999.0,9,   -999.0,9,-999.0000,9,   -999.0,  9,  -999.00,9,   -999.0,  -999.00,9,  -999.00,9,  -999.00,9,  -999.00,9,   -999.0,-999.0000, -999,9,  152,  20.1705,  24.5448,   -999.0,9
       RF98-09,  142E,RF-0738,  1,     18,02-12824,2,19981108,2228, 33.0485, 141.3883, 4236,    200.3,  16.2054,  34.6857,2,   -999.0,9,  34.6849,4,   -999.0,9,  -999.00,9,  -999.00,9,  -999.00,9,  -999.00,9,  -999.00,9, -999.000,9, -999.000,9,  -999.00,9,   -999.0,9,   -999.0,9,-999.0000,9,   -999.0,  9,  -999.00,9,   -999.0,  -999.00,9,  -999.00,9,  -999.00,9,  -999.00,9,   -999.0,-999.0000, -999,9,  199,  16.1735,  25.4661,   -999.0,9
       RF98-09,  142E,RF-0738,  1,     17,02-12814,2,19981108,2228, 33.0485, 141.3883, 4236,    200.8,  16.1926,  34.6899,2,   -999.0,9,  34.6853,4,   -999.0,9,  -999.00,9,  -999.00,9,  -999.00,9,  -999.00,9,  -999.00,9, -999.000,9, -999.000,9,  -999.00,9,   -999.0,9,   -999.0,9,-999.0000,9,   -999.0,  9,  -999.00,9,   -999.0,  -999.00,9,  -999.00,9,  -999.00,9,  -999.00,9,   -999.0,-999.0000, -999,9,  199,  16.1607,  25.4722,   -999.0,9
       RF98-09,  142E,RF-0738,  1,     15,02-12833,2,19981108,2223, 33.0485, 141.3883, 4236,    302.7,  13.5139,  34.5268,2,   -999.0,9,  34.5236,4,   -999.0,9,  -999.00,9,  -999.00,9,  -999.00,9,  -999.00,9,  -999.00,9, -999.000,9, -999.000,9,  -999.00,9,   -999.0,9,   -999.0,9,-999.0000,9,   -999.0,  9,  -999.00,9,   -999.0,  -999.00,9,  -999.00,9,  -999.00,9,  -999.00,9,   -999.0,-999.0000, -999,9,  300,  13.4712,  25.9309,   -999.0,9
       RF98-09,  142E,RF-0738,  1,     16,02-12832,2,19981108,2224, 33.0485, 141.3883, 4236,    303.3,  13.5078,  34.5187,2,   -999.0,9,  34.5200,4,   -999.0,9,  -999.00,9,  -999.00,9,  -999.00,9,  -999.00,9,  -999.00,9, -999.000,9, -999.000,9,  -999.00,9,   -999.0,9,   -999.0,9,-999.0000,9,   -999.0,  9,  -999.00,9,   -999.0,  -999.00,9,  -999.00,9,  -999.00,9,  -999.00,9,   -999.0,-999.0000, -999,9,  301,  13.4650,  25.9259,   -999.0,9
       RF98-09,  142E,RF-0738,  1,     13,02-13590,2,19981108,2220, 33.0485, 141.3883, 4236,    402.7,  11.1052,  34.3845,2,   -999.0,9,  34.3773,4,   -999.0,9,  -999.00,9,  -999.00,9,  -999.00,9,  -999.00,9,  -999.00,9, -999.000,9, -999.000,9,  -999.00,9,   -999.0,9,   -999.0,9,-999.0000,9,   -999.0,  9,  -999.00,9,   -999.0,  -999.00,9,  -999.00,9,  -999.00,9,  -999.00,9,   -999.0,-999.0000, -999,9,  400,  11.0551,  26.2863,   -999.0,9
       RF98-09,  142E,RF-0738,  1,     14,02-13578,2,19981108,2221, 33.0485, 141.3883, 4236,    406.3,  11.0269,  34.3734,2,   -999.0,9,  34.3712,4,   -999.0,9,  -999.00,9,  -999.00,9,  -999.00,9,  -999.00,9,  -999.00,9, -999.000,9, -999.000,9,  -999.00,9,   -999.0,9,   -999.0,9,-999.0000,9,   -999.0,  9,  -999.00,9,   -999.0,  -999.00,9,  -999.00,9,  -999.00,9,  -999.00,9,   -999.0,-999.0000, -999,9,  403,  10.9766,  26.2918,   -999.0,9
       RF98-09,  142E,RF-0738,  1,     11,02-12811,2,19981108,2216, 33.0485, 141.3883, 4236,    497.2,   8.5169,  34.2554,2,   -999.0,9,  34.2437,4,   -999.0,9,  -999.00,9,  -999.00,9,  -999.00,9,  -999.00,9,  -999.00,9, -999.000,9, -999.000,9,  -999.00,9,   -999.0,9,   -999.0,9,-999.0000,9,   -999.0,  9,  -999.00,9,   -999.0,  -999.00,9,  -999.00,9,  -999.00,9,  -999.00,9,   -999.0,-999.0000, -999,9,  493,   8.4643,  26.6189,   -999.0,9
       RF98-09,  142E,RF-0738,  1,     12,02-12821,2,19981108,2216, 33.0485, 141.3883, 4236,    499.5,   8.4271,  34.2491,2,   -999.0,9,  34.2430,4,   -999.0,9,  -999.00,9,  -999.00,9,  -999.00,9,  -999.00,9,  -999.00,9, -999.000,9, -999.000,9,  -999.00,9,   -999.0,9,   -999.0,9,-999.0000,9,   -999.0,  9,  -999.00,9,   -999.0,  -999.00,9,  -999.00,9,  -999.00,9,  -999.00,9,   -999.0,-999.0000, -999,9,  495,   8.3746,  26.6276,   -999.0,9
       RF98-09,  142E,RF-0738,  1,      9,02-12810,2,19981108,2206, 33.0485, 141.3883, 4236,    706.5,   5.1045,  34.1623,2,   -999.0,9,  34.1538,4,   -999.0,9,  -999.00,9,  -999.00,9,  -999.00,9,  -999.00,9,  -999.00,9, -999.000,9, -999.000,9,  -999.00,9,   -999.0,9,   -999.0,9,-999.0000,9,   -999.0,  9,  -999.00,9,   -999.0,  -999.00,9,  -999.00,9,  -999.00,9,  -999.00,9,   -999.0,-999.0000, -999,9,  700,   5.0470,  27.0057,   -999.0,9
       RF98-09,  142E,RF-0738,  1,     10,02-12820,2,19981108,2206, 33.0485, 141.3883, 4236,    713.6,   5.0176,  34.1566,2,   -999.0,9,  34.6013,4,   -999.0,9,  -999.00,9,  -999.00,9,  -999.00,9,  -999.00,9,  -999.00,9, -999.000,9, -999.000,9,  -999.00,9,   -999.0,9,   -999.0,9,-999.0000,9,   -999.0,  9,  -999.00,9,   -999.0,  -999.00,9,  -999.00,9,  -999.00,9,  -999.00,9,   -999.0,-999.0000, -999,9,  707,   4.9600,  27.0112,   -999.0,9
       RF98-09,  142E,RF-0738,  1,      7,02-12815,2,19981108,2155, 33.0485, 141.3883, 4236,   1009.2,   3.3854,  34.3523,2,   -999.0,9,  34.3484,2,   -999.0,9,  -999.00,9,  -999.00,9,  -999.00,9,  -999.00,9,  -999.00,9, -999.000,9, -999.000,9,  -999.00,9,   -999.0,9,   -999.0,9,-999.0000,9,   -999.0,  9,  -999.00,9,   -999.0,  -999.00,9,  -999.00,9,  -999.00,9,  -999.00,9,   -999.0,-999.0000, -999,9, 1000,   3.3140,  27.3389,   -999.0,9
       RF98-09,  142E,RF-0738,  1,      8,02-13579,2,19981108,2155, 33.0485, 141.3883, 4236,   1010.3,   3.3882,  34.3457,2,   -999.0,9,  34.3479,2,   -999.0,9,  -999.00,9,  -999.00,9,  -999.00,9,  -999.00,9,  -999.00,9, -999.000,9, -999.000,9,  -999.00,9,   -999.0,9,   -999.0,9,-999.0000,9,   -999.0,  9,  -999.00,9,   -999.0,  -999.00,9,  -999.00,9,  -999.00,9,  -999.00,9,   -999.0,-999.0000, -999,9, 1001,   3.3167,  27.3333,   -999.0,9
       RF98-09,  142E,RF-0738,  1,      6,02-12818,2,19981108,2128, 33.0485, 141.3883, 4236,   2021.1,   1.9187,  34.5929,2,   -999.0,9,  34.5975,2,   -999.0,9,  -999.00,9,  -999.00,9,  -999.00,9,  -999.00,9,  -999.00,9, -999.000,9, -999.000,9,  -999.00,9,   -999.0,9,   -999.0,9,-999.0000,9,   -999.0,  9,  -999.00,9,   -999.0,  -999.00,9,  -999.00,9,  -999.00,9,  -999.00,9,   -999.0,-999.0000, -999,9, 1997,   1.7818,  27.6624,   -999.0,9
       RF98-09,  142E,RF-0738,  1,      5,02-12809,2,19981108,2127, 33.0485, 141.3883, 4236,   2024.4,   1.9174,  34.5956,2,   -999.0,9,  34.5979,2,   -999.0,9,  -999.00,9,  -999.00,9,  -999.00,9,  -999.00,9,  -999.00,9, -999.000,9, -999.000,9,  -999.00,9,   -999.0,9,   -999.0,9,-999.0000,9,   -999.0,  9,  -999.00,9,   -999.0,  -999.00,9,  -999.00,9,  -999.00,9,  -999.00,9,   -999.0,-999.0000, -999,9, 2000,   1.7803,  27.6648,   -999.0,9
       RF98-09,  142E,RF-0738,  1,      4,02-12817,2,19981108,2127, 33.0485, 141.3883, 4236,   2026.4,   1.9168,  34.5954,2,   -999.0,9,  34.5989,2,   -999.0,9,  -999.00,9,  -999.00,9,  -999.00,9,  -999.00,9,  -999.00,9, -999.000,9, -999.000,9,  -999.00,9,   -999.0,9,   -999.0,9,-999.0000,9,   -999.0,  9,  -999.00,9,   -999.0,  -999.00,9,  -999.00,9,  -999.00,9,  -999.00,9,   -999.0,-999.0000, -999,9, 2002,   1.7796,  27.6647,   -999.0,9
       RF98-09,  142E,RF-0738,  1,      3,02-12808,2,19981108,2127, 33.0485, 141.3883, 4236,   2027.7,   1.9180,  34.5918,2,   -999.0,9,  34.5983,2,   -999.0,9,  -999.00,9,  -999.00,9,  -999.00,9,  -999.00,9,  -999.00,9, -999.000,9, -999.000,9,  -999.00,9,   -999.0,9,   -999.0,9,-999.0000,9,   -999.0,  9,  -999.00,9,   -999.0,  -999.00,9,  -999.00,9,  -999.00,9,  -999.00,9,   -999.0,-999.0000, -999,9, 2004,   1.7807,  27.6617,   -999.0,9
       RF98-09,  142E,RF-0738,  1,      2,02-13591,2,19981108,2126, 33.0485, 141.3883, 4236,   2031.0,   1.9186,  34.5921,2,   -999.0,9,  34.5999,2,   -999.0,9,  -999.00,9,  -999.00,9,  -999.00,9,  -999.00,9,  -999.00,9, -999.000,9, -999.000,9,  -999.00,9,   -999.0,9,   -999.0,9,-999.0000,9,   -999.0,  9,  -999.00,9,   -999.0,  -999.00,9,  -999.00,9,  -999.00,9,  -999.00,9,   -999.0,-999.0000, -999,9, 2007,   1.7810,  27.6619,   -999.0,9
       RF98-09,  142E,RF-0738,  1,      1,02-12807,2,19981108,2125, 33.0485, 141.3883, 4236,   2032.5,   1.9144,  34.6011,2,   -999.0,9,  34.5995,4,   -999.0,9,  -999.00,9,  -999.00,9,  -999.00,9,  -999.00,9,  -999.00,9, -999.000,9, -999.000,9,  -999.00,9,   -999.0,9,   -999.0,9,-999.0000,9,   -999.0,  9,  -999.00,9,   -999.0,  -999.00,9,  -999.00,9,  -999.00,9,  -999.00,9,   2017.0,-999.0000, -999,9, 2008,   1.7766,  27.6695,   -999.0,9