BOTTLE,20130607MIRCJHATS
EXPOCODE,SECT_ID,STNNBR,CASTNO,SAMPNO,BTLNBR,BTLNBR_FLAG_W,DATE,TIME,LATITUDE,LONGITUDE,DEPTH,CTDPRS,CTDTMP,CTDSAL,CTDSAL_FLAG_W,CTDOXY,CTDOXY_FLAG_W,SALNTY,SALNTY_FLAG_W,OXYGEN,OXYGEN_FLAG_W,SILCAT,SILCAT_FLAG_W,NITRAT,NITRAT_FLAG_W,NO2+NO3,NO2+NO3_FLAG_W,NITRIT,NITRIT_FLAG_W,PHSPHT,PHSPHT_FLAG_W,CFC-11,CFC-11_FLAG_W,CFC-12,CFC-12_FLAG_W,DELC13,DELC13_FLAG_W,TCARBN,TCARBN_FLAG_W,ALKALI,ALKALI_FLAG_W,PH,PH_FLAG_W,PH_TMP,PH_SCALE,PH_NBS,PH_NBS_FLAG_W,C13ERR,TOTALP,TOTALP_FLAG_W,AMMONI,AMMONI_FLAG_W,CHLORA,CHLORA_FLAG_W,PPHYTN,PPHYTN_FLAG_W,REVPRS,REVTMP,DEPTH_,DEPTH_FLAG,CTDDEP,THETA,SIGTHT,DOC,DOC_FLAG_W
,,,,,,,GMT,GMT,,,METER,DBAR,ITS-90,PSS-78,,UMOL/KG,,PSS-78,,UMOL/KG,,UMOL/KG,,UMOL/KG,,UMOL/KG,,UMOL/KG,,UMOL/KG,,PMOL/KG,,PMOL/KG,,/MILLE,,UMOL/KG,,UMOL/KG,,25_DEG_C,,DEG_C,,,,/MILLE,UMOL/KG,,UMOL/KG,,UG/L,,UG/L,,DBAR,ITS-90,METERS,,METERS,DEG_C,,UMOL/L,
       RF98-09, EQPAC,RF-0732,  1,     -9,      -9,5,19981022,1319, -0.0013, 148.9813, 5531,      0.0,  29.3779,  34.9225,2,   -999.0,9,-999.0000,9,    197.8,2,     1.20,2,  -999.00,9,     0.05,2,     0.00,2,     0.19,2, -999.000,9, -999.000,9,  -999.00,9,   -999.0,9,   -999.0,9,-999.0000,9,   -999.0,  9,     8.27,2,   -999.0,  -999.00,9,  -999.00,9,  -999.00,9,  -999.00,9,   -999.0,-999.0000, -999,9,    0,  29.3779,  21.8791,   -999.0,9
       RF98-09, EQPAC,RF-0732,  1,     17,02-12814,2,19981022,1315, -0.0013, 148.9813, 5531,     10.5,  29.3039,  34.9280,2,   -999.0,9,-999.0000,9,    198.1,2,     1.62,2,  -999.00,9,     0.00,2,     0.00,2,     0.18,2, -999.000,9, -999.000,9,  -999.00,9,   -999.0,9,   -999.0,9,-999.0000,9,   -999.0,  9,     8.27,2,   -999.0,  -999.00,9,  -999.00,9,  -999.00,9,  -999.00,9,   -999.0,-999.0000, -999,9,   10,  29.3014,  21.9090,   -999.0,9
       RF98-09, EQPAC,RF-0732,  1,     20,02-12826,2,19981022,1316, -0.0013, 148.9813, 5531,     10.6,  29.3649,  34.9219,2,   -999.0,9,-999.0000,9,   -999.0,9,  -999.00,9,  -999.00,9,  -999.00,9,  -999.00,9,  -999.00,9, -999.000,9, -999.000,9,  -999.00,9,   -999.0,9,   -999.0,9,-999.0000,9,   -999.0,  9,  -999.00,9,   -999.0,  -999.00,9,  -999.00,9,  -999.00,9,  -999.00,9,   -999.0,-999.0000, -999,9,   11,  29.3623,  21.8838,   -999.0,9
       RF98-09, EQPAC,RF-0732,  1,     18,02-12824,2,19981022,1315, -0.0013, 148.9813, 5531,     10.6,  29.3682,  34.9263,2,   -999.0,9,-999.0000,9,   -999.0,9,  -999.00,9,  -999.00,9,  -999.00,9,  -999.00,9,  -999.00,9, -999.000,9, -999.000,9,  -999.00,9,   -999.0,9,   -999.0,9,-999.0000,9,   -999.0,  9,  -999.00,9,   -999.0,  -999.00,9,  -999.00,9,  -999.00,9,  -999.00,9,   -999.0,-999.0000, -999,9,   11,  29.3656,  21.8861,   -999.0,9
       RF98-09, EQPAC,RF-0732,  1,     19,02-12825,2,19981022,1316, -0.0013, 148.9813, 5531,     10.7,  29.3656,  34.9245,2,   -999.0,9,-999.0000,9,   -999.0,9,  -999.00,9,  -999.00,9,  -999.00,9,  -999.00,9,  -999.00,9, -999.000,9, -999.000,9,  -999.00,9,   -999.0,9,   -999.0,9,-999.0000,9,   -999.0,  9,  -999.00,9,   -999.0,  -999.00,9,  -999.00,9,  -999.00,9,  -999.00,9,   -999.0,-999.0000, -999,9,   11,  29.3630,  21.8856,   -999.0,9
       RF98-09, EQPAC,RF-0732,  1,     16,02-12832,2,19981022,1314, -0.0013, 148.9813, 5531,     25.6,  29.0939,  34.9009,2,   -999.0,9,-999.0000,9,    201.6,2,     1.80,2,  -999.00,9,     0.00,2,     0.00,2,     0.17,2, -999.000,9, -999.000,9,  -999.00,9,   -999.0,9,   -999.0,9,-999.0000,9,   -999.0,  9,     8.27,2,   -999.0,  -999.00,9,  -999.00,9,  -999.00,9,  -999.00,9,   -999.0,-999.0000, -999,9,   26,  29.0877,  21.9604,   -999.0,9
       RF98-09, EQPAC,RF-0732,  1,     15,02-12833,2,19981022,1313, -0.0013, 148.9813, 5531,     51.4,  28.8419,  34.8920,2,   -999.0,9,-999.0000,9,    198.6,2,     1.20,2,  -999.00,9,     0.00,2,     0.00,2,     0.17,2, -999.000,9, -999.000,9,  -999.00,9,   -999.0,9,   -999.0,9,-999.0000,9,   -999.0,  9,     8.27,2,   -999.0,  -999.00,9,  -999.00,9,  -999.00,9,  -999.00,9,   -999.0,-999.0000, -999,9,   51,  28.8296,  22.0398,   -999.0,9
       RF98-09, EQPAC,RF-0732,  1,     14,02-13578,2,19981022,1311, -0.0013, 148.9813, 5531,     76.8,  28.7232,  34.9046,2,   -999.0,9,-999.0000,9,    198.7,2,     1.86,2,  -999.00,9,     0.00,2,     0.00,2,     0.17,2, -999.000,9, -999.000,9,  -999.00,9,   -999.0,9,   -999.0,9,-999.0000,9,   -999.0,  9,     8.27,2,   -999.0,  -999.00,9,  -999.00,9,  -999.00,9,  -999.00,9,   -999.0,-999.0000, -999,9,   76,  28.7047,  22.0908,   -999.0,9
       RF98-09, EQPAC,RF-0732,  1,     13,02-13590,2,19981022,1310, -0.0013, 148.9813, 5531,    102.5,  26.7656,  34.9461,2,   -999.0,9,  34.9624,4,    174.0,2,     3.03,2,  -999.00,9,     2.37,2,     0.12,2,     0.29,2, -999.000,9, -999.000,9,  -999.00,9,   -999.0,9,   -999.0,9,-999.0000,9,   -999.0,  9,     8.22,2,   -999.0,  -999.00,9,  -999.00,9,  -999.00,9,  -999.00,9,   -999.0,-999.0000, -999,9,  102,  26.7423,  22.7592,   -999.0,9
       RF98-09, EQPAC,RF-0732,  1,     12,02-12821,2,19981022,1308, -0.0013, 148.9813, 5531,    127.1,  23.6054,  35.2169,2,   -999.0,9,-999.0000,9,    155.1,2,     3.07,2,  -999.00,9,     5.84,2,     0.05,2,     0.51,2, -999.000,9, -999.000,9,  -999.00,9,   -999.0,9,   -999.0,9,-999.0000,9,   -999.0,  9,     8.16,2,   -999.0,  -999.00,9,  -999.00,9,  -999.00,9,  -999.00,9,   -999.0,-999.0000, -999,9,  126,  23.5789,  23.9298,   -999.0,9
       RF98-09, EQPAC,RF-0732,  1,     11,02-12811,2,19981022,1307, -0.0013, 148.9813, 5531,    152.8,  20.8221,  35.3379,2,   -999.0,9,-999.0000,9,    151.7,2,     5.08,2,  -999.00,9,     8.52,2,     0.03,2,     0.68,2, -999.000,9, -999.000,9,  -999.00,9,   -999.0,9,   -999.0,9,-999.0000,9,   -999.0,  9,     8.11,2,   -999.0,  -999.00,9,  -999.00,9,  -999.00,9,  -999.00,9,   -999.0,-999.0000, -999,9,  152,  20.7930,  24.8074,   -999.0,9
       RF98-09, EQPAC,RF-0732,  1,     10,02-12820,2,19981022,1305, -0.0013, 148.9813, 5531,    202.4,  17.5536,  35.2538,2,   -999.0,9,  35.2710,4,    148.4,2,     7.76,2,  -999.00,9,    12.07,2,     0.01,2,     0.92,2, -999.000,9, -999.000,9,  -999.00,9,   -999.0,9,   -999.0,9,-999.0000,9,   -999.0,  9,     8.04,2,   -999.0,  -999.00,9,  -999.00,9,  -999.00,9,  -999.00,9,   -999.0,-999.0000, -999,9,  201,  17.5194,  25.5842,   -999.0,9
       RF98-09, EQPAC,RF-0732,  1,      9,02-12810,2,19981022,1304, -0.0013, 148.9813, 5531,    251.6,  12.6616,  34.7177,2,   -999.0,9,  34.7089,2,    129.7,2,    22.90,2,  -999.00,9,    20.59,2,     0.00,2,     1.47,2, -999.000,9, -999.000,9,  -999.00,9,   -999.0,9,   -999.0,9,-999.0000,9,   -999.0,  9,     7.91,2,   -999.0,  -999.00,9,  -999.00,9,  -999.00,9,  -999.00,9,   -999.0,-999.0000, -999,9,  250,  12.6276,  26.2482,   -999.0,9
       RF98-09, EQPAC,RF-0732,  1,      8,02-13579,2,19981022,1302, -0.0013, 148.9813, 5531,    303.5,  10.9969,  34.6869,2,   -999.0,9,  34.6880,2,    119.4,2,    27.68,2,  -999.00,9,    24.72,2,     0.00,2,     1.75,2, -999.000,9, -999.000,9,  -999.00,9,   -999.0,9,   -999.0,9,-999.0000,9,   -999.0,  9,     7.85,2,   -999.0,  -999.00,9,  -999.00,9,  -999.00,9,  -999.00,9,   -999.0,-999.0000, -999,9,  302,  10.9595,  26.5390,   -999.0,9
       RF98-09, EQPAC,RF-0732,  1,      7,02-12815,2,19981022,1259, -0.0013, 148.9813, 5531,    403.9,   9.7781,  34.6953,2,   -999.0,9,  34.7020,2,     95.6,2,    27.47,2,  -999.00,9,    29.46,2,     0.00,2,     2.06,2, -999.000,9, -999.000,9,  -999.00,9,   -999.0,9,   -999.0,9,-999.0000,9,   -999.0,  9,  -999.00,9,   -999.0,  -999.00,9,  -999.00,9,  -999.00,9,  -999.00,9,   -999.0,-999.0000, -999,9,  401,   9.7316,  26.7594,   -999.0,9
       RF98-09, EQPAC,RF-0732,  1,      6,02-12818,2,19981022,1257, -0.0013, 148.9813, 5531,    505.7,   8.3062,  34.6136,2,   -999.0,9,  34.6164,2,    127.9,2,    29.34,2,  -999.00,9,    29.34,2,     0.00,2,     2.04,2, -999.000,9, -999.000,9,  -999.00,9,   -999.0,9,   -999.0,9,-999.0000,9,   -999.0,  9,  -999.00,9,   -999.0,  -999.00,9,  -999.00,9,  -999.00,9,  -999.00,9,   -999.0,-999.0000, -999,9,  502,   8.2531,  26.9322,   -999.0,9
       RF98-09, EQPAC,RF-0732,  1,      5,02-12809,2,19981022,1254, -0.0013, 148.9813, 5531,    605.6,   7.0528,  34.5517,2,   -999.0,9,  34.5590,2,    106.0,2,    41.57,2,  -999.00,9,    33.62,2,     0.00,2,     2.37,2, -999.000,9, -999.000,9,  -999.00,9,   -999.0,9,   -999.0,9,-999.0000,9,   -999.0,  9,  -999.00,9,   -999.0,  -999.00,9,  -999.00,9,  -999.00,9,  -999.00,9,   -999.0,-999.0000, -999,9,  601,   6.9945,  27.0664,   -999.0,9
       RF98-09, EQPAC,RF-0732,  1,      4,02-12817,2,19981022,1251, -0.0013, 148.9813, 5531,    706.4,   6.2290,  34.5319,2,   -999.0,9,  34.5450,4,    108.8,2,    50.62,2,  -999.00,9,    35.14,2,     0.00,2,     2.49,2, -999.000,9, -999.000,9,  -999.00,9,   -999.0,9,   -999.0,9,-999.0000,9,   -999.0,  9,  -999.00,9,   -999.0,  -999.00,9,  -999.00,9,  -999.00,9,  -999.00,9,   -999.0,-999.0000, -999,9,  701,   6.1650,  27.1616,   -999.0,9
       RF98-09, EQPAC,RF-0732,  1,      3,02-12808,2,19981022,1249, -0.0013, 148.9813, 5531,    807.2,   5.5233,  34.5201,2,   -999.0,9,  34.5293,2,    118.6,2,    57.43,2,  -999.00,9,    35.30,2,     0.00,2,     2.49,2, -999.000,9, -999.000,9,  -999.00,9,   -999.0,9,   -999.0,9,-999.0000,9,   -999.0,  9,  -999.00,9,   -999.0,  -999.00,9,  -999.00,9,  -999.00,9,  -999.00,9,   -999.0,-999.0000, -999,9,  801,   5.4539,  27.2411,   -999.0,9
       RF98-09, EQPAC,RF-0732,  1,      2,02-13591,2,19981022,1247, -0.0013, 148.9813, 5531,    908.3,   4.7101,  34.5182,2,   -999.0,9,  34.5366,4,    120.2,2,    69.74,2,  -999.00,9,    36.29,2,     0.00,2,     2.56,2, -999.000,9, -999.000,9,  -999.00,9,   -999.0,9,   -999.0,9,-999.0000,9,   -999.0,  9,  -999.00,9,   -999.0,  -999.00,9,  -999.00,9,  -999.00,9,  -999.00,9,   -999.0,-999.0000, -999,9,  901,   4.6370,  27.3344,   -999.0,9
       RF98-09, EQPAC,RF-0732,  1,      1,02-12807,2,19981022,1244, -0.0013, 148.9813, 5531,   1017.9,   4.3295,  34.5412,2,   -999.0,9,  34.5537,4,    104.0,2,    83.75,2,  -999.00,9,    38.05,2,     0.00,2,     2.74,2, -999.000,9, -999.000,9,  -999.00,9,   -999.0,9,   -999.0,9,-999.0000,9,   -999.0,  9,  -999.00,9,   -999.0,  -999.00,9,  -999.00,9,  -999.00,9,  -999.00,9,   1008.0,-999.0000, -999,9, 1010,   4.2497,  27.3949,   -999.0,9