BOTTLE,20130607MIRCJHATS
EXPOCODE,SECT_ID,STNNBR,CASTNO,SAMPNO,BTLNBR,BTLNBR_FLAG_W,DATE,TIME,LATITUDE,LONGITUDE,DEPTH,CTDPRS,CTDTMP,CTDSAL,CTDSAL_FLAG_W,CTDOXY,CTDOXY_FLAG_W,SALNTY,SALNTY_FLAG_W,OXYGEN,OXYGEN_FLAG_W,SILCAT,SILCAT_FLAG_W,NITRAT,NITRAT_FLAG_W,NO2+NO3,NO2+NO3_FLAG_W,NITRIT,NITRIT_FLAG_W,PHSPHT,PHSPHT_FLAG_W,CFC-11,CFC-11_FLAG_W,CFC-12,CFC-12_FLAG_W,DELC13,DELC13_FLAG_W,TCARBN,TCARBN_FLAG_W,ALKALI,ALKALI_FLAG_W,PH,PH_FLAG_W,PH_TMP,PH_SCALE,PH_NBS,PH_NBS_FLAG_W,C13ERR,TOTALP,TOTALP_FLAG_W,AMMONI,AMMONI_FLAG_W,CHLORA,CHLORA_FLAG_W,PPHYTN,PPHYTN_FLAG_W,REVPRS,REVTMP,DEPTH_,DEPTH_FLAG,CTDDEP,THETA,SIGTHT,DOC,DOC_FLAG_W
,,,,,,,GMT,GMT,,,METER,DBAR,ITS-90,PSS-78,,UMOL/KG,,PSS-78,,UMOL/KG,,UMOL/KG,,UMOL/KG,,UMOL/KG,,UMOL/KG,,UMOL/KG,,PMOL/KG,,PMOL/KG,,/MILLE,,UMOL/KG,,UMOL/KG,,25_DEG_C,,DEG_C,,,,/MILLE,UMOL/KG,,UMOL/KG,,UG/L,,UG/L,,DBAR,ITS-90,METERS,,METERS,DEG_C,,UMOL/L,
       RF98-09,  165E,RF-0682,  2,     13,02-13590,2,19980924,0447, 38.9925, 165.0718, 5435,    503.6,   5.7552,  33.9827,2,   -999.0,9,  33.9835,2,   -999.0,9,  -999.00,9,  -999.00,9,  -999.00,9,  -999.00,9,  -999.00,9, -999.000,9, -999.000,9,  -999.00,9,   -999.0,9,   -999.0,9,-999.0000,9,   -999.0,  9,  -999.00,9,   -999.0,  -999.00,9,  -999.00,9,  -999.00,9,  -999.00,9,   -999.0,-999.0000, -999,9,  499,   5.7126,  26.7844,   -999.0,9
       RF98-09,  165E,RF-0682,  2,     14,02-13578,2,19980924,0447, 38.9925, 165.0718, 5435,    505.9,   5.7311,  33.9758,2,   -999.0,9,-999.0000,9,   -999.0,9,  -999.00,9,  -999.00,9,  -999.00,9,  -999.00,9,  -999.00,9, -999.000,9, -999.000,9,  -999.00,9,   -999.0,9,   -999.0,9,-999.0000,9,   -999.0,  9,  -999.00,9,   -999.0,  -999.00,9,  -999.00,9,  -999.00,9,  -999.00,9,   -999.0,-999.0000, -999,9,  501,   5.6884,  26.7819,   -999.0,9
       RF98-09,  165E,RF-0682,  2,     15,02-12833,2,19980924,0448, 38.9925, 165.0718, 5435,    509.2,   5.7067,  33.9777,2,   -999.0,9,-999.0000,9,   -999.0,9,  -999.00,9,  -999.00,9,  -999.00,9,  -999.00,9,  -999.00,9, -999.000,9, -999.000,9,  -999.00,9,   -999.0,9,   -999.0,9,-999.0000,9,   -999.0,  9,  -999.00,9,   -999.0,  -999.00,9,  -999.00,9,  -999.00,9,  -999.00,9,   -999.0,-999.0000, -999,9,  505,   5.6638,  26.7864,   -999.0,9
       RF98-09,  165E,RF-0682,  2,     17,02-12814,2,19980924,0449, 38.9925, 165.0718, 5435,    509.7,   5.6930,  33.9806,2,   -999.0,9,-999.0000,9,   -999.0,9,  -999.00,9,  -999.00,9,  -999.00,9,  -999.00,9,  -999.00,9, -999.000,9, -999.000,9,  -999.00,9,   -999.0,9,   -999.0,9,-999.0000,9,   -999.0,  9,  -999.00,9,   -999.0,  -999.00,9,  -999.00,9,  -999.00,9,  -999.00,9,   -999.0,-999.0000, -999,9,  505,   5.6500,  26.7904,   -999.0,9
       RF98-09,  165E,RF-0682,  2,     16,02-12832,2,19980924,0448, 38.9925, 165.0718, 5435,    510.6,   5.6916,  33.9805,2,   -999.0,9,-999.0000,9,   -999.0,9,  -999.00,9,  -999.00,9,  -999.00,9,  -999.00,9,  -999.00,9, -999.000,9, -999.000,9,  -999.00,9,   -999.0,9,   -999.0,9,-999.0000,9,   -999.0,  9,  -999.00,9,   -999.0,  -999.00,9,  -999.00,9,  -999.00,9,  -999.00,9,   -999.0,-999.0000, -999,9,  506,   5.6486,  26.7905,   -999.0,9
       RF98-09,  165E,RF-0682,  1,      9,02-12810,2,19980924,0153, 39.0213, 165.0135, 5374,    606.6,   4.6859,  34.0193,2,   -999.0,9,-999.0000,9,     98.4,2,    80.26,2,  -999.00,9,    36.01,2,     0.00,2,     2.58,2, -999.000,9, -999.000,9,  -999.00,9,   -999.0,9,   -999.0,9,-999.0000,9,   -999.0,  9,  -999.00,9,   -999.0,  -999.00,9,  -999.00,9,  -999.00,9,  -999.00,9,   -999.0,-999.0000, -999,9,  601,   4.6391,  26.9382,   -999.0,9
       RF98-09,  165E,RF-0682,  1,      8,02-13579,2,19980924,0150, 39.0213, 165.0135, 5374,    707.2,   4.2035,  34.1099,2,   -999.0,9,-999.0000,9,     70.5,2,    95.87,2,  -999.00,9,    39.00,2,     0.00,2,     2.81,2, -999.000,9, -999.000,9,  -999.00,9,   -999.0,9,   -999.0,9,-999.0000,9,   -999.0,  9,  -999.00,9,   -999.0,  -999.00,9,  -999.00,9,  -999.00,9,  -999.00,9,   -999.0,-999.0000, -999,9,  701,   4.1509,  27.0625,   -999.0,9
       RF98-09,  165E,RF-0682,  1,      7,02-12815,2,19980924,0146, 39.0213, 165.0135, 5374,    808.1,   3.9309,  34.2253,2,   -999.0,9,-999.0000,9,     53.4,2,   108.51,2,  -999.00,9,    40.42,2,     0.00,2,     2.93,2, -999.000,9, -999.000,9,  -999.00,9,   -999.0,9,   -999.0,9,-999.0000,9,   -999.0,  9,  -999.00,9,   -999.0,  -999.00,9,  -999.00,9,  -999.00,9,  -999.00,9,   -999.0,-999.0000, -999,9,  800,   3.8717,  27.1830,   -999.0,9
       RF98-09,  165E,RF-0682,  1,      6,02-12818,2,19980924,0143, 39.0213, 165.0135, 5374,    908.9,   3.5806,  34.2770,2,   -999.0,9,-999.0000,9,     43.2,2,   118.78,2,  -999.00,9,    41.49,2,     0.00,2,     3.03,2, -999.000,9, -999.000,9,  -999.00,9,   -999.0,9,   -999.0,9,-999.0000,9,   -999.0,  9,  -999.00,9,   -999.0,  -999.00,9,  -999.00,9,  -999.00,9,  -999.00,9,   -999.0,-999.0000, -999,9,  900,   3.5158,  27.2594,   -999.0,9
       RF98-09,  165E,RF-0682,  2,      8,02-13579,2,19980924,0434, 38.9925, 165.0718, 5435,   1008.2,   3.3556,  34.3207,2,   -999.0,9,  34.3217,2,   -999.0,9,  -999.00,9,  -999.00,9,  -999.00,9,  -999.00,9,  -999.00,9, -999.000,9, -999.000,9,  -999.00,9,   -999.0,9,   -999.0,9,-999.0000,9,   -999.0,  9,  -999.00,9,   -999.0,  -999.00,9,  -999.00,9,  -999.00,9,  -999.00,9,   -999.0,-999.0000, -999,9,  998,   3.2846,  27.3164,   -999.0,9
       RF98-09,  165E,RF-0682,  1,      5,02-12809,2,19980924,0140, 39.0213, 165.0135, 5374,   1009.1,   3.2958,  34.3306,2,   -999.0,9,-999.0000,9,     38.6,2,   127.41,2,  -999.00,9,    42.03,2,     0.00,2,     3.08,2, -999.000,9, -999.000,9,  -999.00,9,   -999.0,9,   -999.0,9,-999.0000,9,   -999.0,  9,  -999.00,9,   -999.0,  -999.00,9,  -999.00,9,  -999.00,9,  -999.00,9,   -999.0,-999.0000, -999,9,  999,   3.2252,  27.3299,   -999.0,9
       RF98-09,  165E,RF-0682,  2,      9,02-12810,2,19980924,0435, 38.9925, 165.0718, 5435,   1011.8,   3.3533,  34.3156,2,   -999.0,9,-999.0000,9,   -999.0,9,  -999.00,9,  -999.00,9,  -999.00,9,  -999.00,9,  -999.00,9, -999.000,9, -999.000,9,  -999.00,9,   -999.0,9,   -999.0,9,-999.0000,9,   -999.0,  9,  -999.00,9,   -999.0,  -999.00,9,  -999.00,9,  -999.00,9,  -999.00,9,   -999.0,-999.0000, -999,9, 1002,   3.2820,  27.3126,   -999.0,9
       RF98-09,  165E,RF-0682,  2,     10,02-12820,2,19980924,0435, 38.9925, 165.0718, 5435,   1014.2,   3.3492,  34.3132,2,   -999.0,9,-999.0000,9,   -999.0,9,  -999.00,9,  -999.00,9,  -999.00,9,  -999.00,9,  -999.00,9, -999.000,9, -999.000,9,  -999.00,9,   -999.0,9,   -999.0,9,-999.0000,9,   -999.0,  9,  -999.00,9,   -999.0,  -999.00,9,  -999.00,9,  -999.00,9,  -999.00,9,   -999.0,-999.0000, -999,9, 1004,   3.2778,  27.3111,   -999.0,9
       RF98-09,  165E,RF-0682,  2,     11,02-12811,2,19980924,0436, 38.9925, 165.0718, 5435,   1015.6,   3.3464,  34.3166,2,   -999.0,9,-999.0000,9,   -999.0,9,  -999.00,9,  -999.00,9,  -999.00,9,  -999.00,9,  -999.00,9, -999.000,9, -999.000,9,  -999.00,9,   -999.0,9,   -999.0,9,-999.0000,9,   -999.0,  9,  -999.00,9,   -999.0,  -999.00,9,  -999.00,9,  -999.00,9,  -999.00,9,   -999.0,-999.0000, -999,9, 1005,   3.2749,  27.3141,   -999.0,9
       RF98-09,  165E,RF-0682,  2,     12,02-12821,2,19980924,0436, 38.9925, 165.0718, 5435,   1017.7,   3.3406,  34.3156,2,   -999.0,9,-999.0000,9,   -999.0,9,  -999.00,9,  -999.00,9,  -999.00,9,  -999.00,9,  -999.00,9, -999.000,9, -999.000,9,  -999.00,9,   -999.0,9,   -999.0,9,-999.0000,9,   -999.0,  9,  -999.00,9,   -999.0,  -999.00,9,  -999.00,9,  -999.00,9,  -999.00,9,   -999.0,-999.0000, -999,9, 1008,   3.2690,  27.3139,   -999.0,9
       RF98-09,  165E,RF-0682,  1,      4,02-12817,2,19980924,0134, 39.0213, 165.0135, 5374,   1261.1,   2.8034,  34.4281,2,   -999.0,9,-999.0000,9,     34.8,2,   141.87,2,  -999.00,9,    42.73,2,     0.00,2,     3.12,2, -999.000,9, -999.000,9,  -999.00,9,   -999.0,9,   -999.0,9,-999.0000,9,   -999.0,  9,  -999.00,9,   -999.0,  -999.00,9,  -999.00,9,  -999.00,9,  -999.00,9,   -999.0,-999.0000, -999,9, 1248,   2.7172,  27.4538,   -999.0,9
       RF98-09,  165E,RF-0682,  1,      3,02-12808,4,19980924,0129, 39.0213, 165.0135, 5374,   1515.0,   2.4131,  34.4947,2,   -999.0,9,-999.0000,9,    243.4,4,    16.44,4,  -999.00,9,    10.04,4,     0.06,4,     0.75,4, -999.000,9, -999.000,9,  -999.00,9,   -999.0,9,   -999.0,9,-999.0000,9,   -999.0,  9,  -999.00,9,   -999.0,  -999.00,9,  -999.00,9,  -999.00,9,  -999.00,9,   -999.0,-999.0000, -999,9, 1498,   2.3111,  27.5417,   -999.0,9
       RF98-09,  165E,RF-0682,  1,      2,02-13591,2,19980924,0124, 39.0213, 165.0135, 5374,   1769.9,   2.1734,  34.5423,2,   -999.0,9,-999.0000,9,     53.0,2,   157.00,2,  -999.00,9,    42.06,2,     0.00,2,     3.06,2, -999.000,9, -999.000,9,  -999.00,9,   -999.0,9,   -999.0,9,-999.0000,9,   -999.0,  9,  -999.00,9,   -999.0,  -999.00,9,  -999.00,9,  -999.00,9,  -999.00,9,   -999.0,-999.0000, -999,9, 1749,   2.0538,  27.6007,   -999.0,9
       RF98-09,  165E,RF-0682,  1,      1,02-12807,2,19980924,0118, 39.0213, 165.0135, 5374,   2031.4,   1.9845,  34.5795,2,   -999.0,9,-999.0000,9,     67.0,2,   159.59,2,  -999.00,9,    41.24,2,     0.00,2,     2.98,2, -999.000,9, -999.000,9,  -999.00,9,   -999.0,9,   -999.0,9,-999.0000,9,   -999.0,  9,  -999.00,9,   -999.0,  -999.00,9,  -999.00,9,  -999.00,9,  -999.00,9,   2017.0,-999.0000, -999,9, 2006,   1.8459,  27.6468,   -999.0,9
       RF98-09,  165E,RF-0682,  2,      7,02-12815,2,19980924,0416, 38.9925, 165.0718, 5435,   2036.7,   2.0002,  34.5685,2,   -999.0,9,-999.0000,9,   -999.0,9,  -999.00,9,  -999.00,9,  -999.00,9,  -999.00,9,  -999.00,9, -999.000,9, -999.000,9,  -999.00,9,   -999.0,9,   -999.0,9,-999.0000,9,   -999.0,  9,  -999.00,9,   -999.0,  -999.00,9,  -999.00,9,  -999.00,9,  -999.00,9,   -999.0,-999.0000, -999,9, 2012,   1.8609,  27.6369,   -999.0,9
       RF98-09,  165E,RF-0682,  2,      6,02-12818,2,19980924,0415, 38.9925, 165.0718, 5435,   2037.0,   2.0000,  34.5689,2,   -999.0,9,-999.0000,9,   -999.0,9,  -999.00,9,  -999.00,9,  -999.00,9,  -999.00,9,  -999.00,9, -999.000,9, -999.000,9,  -999.00,9,   -999.0,9,   -999.0,9,-999.0000,9,   -999.0,  9,  -999.00,9,   -999.0,  -999.00,9,  -999.00,9,  -999.00,9,  -999.00,9,   -999.0,-999.0000, -999,9, 2012,   1.8607,  27.6371,   -999.0,9
       RF98-09,  165E,RF-0682,  2,      5,02-12809,2,19980924,0415, 38.9925, 165.0718, 5435,   2038.8,   1.9999,  34.5685,2,   -999.0,9,-999.0000,9,   -999.0,9,  -999.00,9,  -999.00,9,  -999.00,9,  -999.00,9,  -999.00,9, -999.000,9, -999.000,9,  -999.00,9,   -999.0,9,   -999.0,9,-999.0000,9,   -999.0,  9,  -999.00,9,   -999.0,  -999.00,9,  -999.00,9,  -999.00,9,  -999.00,9,   -999.0,-999.0000, -999,9, 2014,   1.8604,  27.6368,   -999.0,9
       RF98-09,  165E,RF-0682,  2,      4,02-12817,2,19980924,0414, 38.9925, 165.0718, 5435,   2042.7,   1.9988,  34.5688,2,   -999.0,9,-999.0000,9,   -999.0,9,  -999.00,9,  -999.00,9,  -999.00,9,  -999.00,9,  -999.00,9, -999.000,9, -999.000,9,  -999.00,9,   -999.0,9,   -999.0,9,-999.0000,9,   -999.0,  9,  -999.00,9,   -999.0,  -999.00,9,  -999.00,9,  -999.00,9,  -999.00,9,   -999.0,-999.0000, -999,9, 2017,   1.8590,  27.6372,   -999.0,9
       RF98-09,  165E,RF-0682,  2,      3,02-12808,2,19980924,0413, 38.9925, 165.0718, 5435,   2045.4,   1.9975,  34.5686,2,   -999.0,9,-999.0000,9,   -999.0,9,  -999.00,9,  -999.00,9,  -999.00,9,  -999.00,9,  -999.00,9, -999.000,9, -999.000,9,  -999.00,9,   -999.0,9,   -999.0,9,-999.0000,9,   -999.0,  9,  -999.00,9,   -999.0,  -999.00,9,  -999.00,9,  -999.00,9,  -999.00,9,   -999.0,-999.0000, -999,9, 2020,   1.8575,  27.6372,   -999.0,9
       RF98-09,  165E,RF-0682,  2,      2,02-13591,2,19980924,0413, 38.9925, 165.0718, 5435,   2046.8,   1.9971,  34.5684,2,   -999.0,9,-999.0000,9,   -999.0,9,  -999.00,9,  -999.00,9,  -999.00,9,  -999.00,9,  -999.00,9, -999.000,9, -999.000,9,  -999.00,9,   -999.0,9,   -999.0,9,-999.0000,9,   -999.0,  9,  -999.00,9,   -999.0,  -999.00,9,  -999.00,9,  -999.00,9,  -999.00,9,   -999.0,-999.0000, -999,9, 2021,   1.8569,  27.6371,   -999.0,9
       RF98-09,  165E,RF-0682,  2,      1,02-12807,2,19980924,0412, 38.9925, 165.0718, 5435,   2048.8,   1.9942,  34.5772,2,   -999.0,9,  34.5804,2,   -999.0,9,  -999.00,9,  -999.00,9,  -999.00,9,  -999.00,9,  -999.00,9, -999.000,9, -999.000,9,  -999.00,9,   -999.0,9,   -999.0,9,-999.0000,9,   -999.0,  9,  -999.00,9,   -999.0,  -999.00,9,  -999.00,9,  -999.00,9,  -999.00,9,   2033.0,-999.0000, -999,9, 2023,   1.8540,  27.6443,   -999.0,9