BOTTLE,20130607MIRCJHATS
EXPOCODE,SECT_ID,STNNBR,CASTNO,SAMPNO,BTLNBR,BTLNBR_FLAG_W,DATE,TIME,LATITUDE,LONGITUDE,DEPTH,CTDPRS,CTDTMP,CTDSAL,CTDSAL_FLAG_W,CTDOXY,CTDOXY_FLAG_W,SALNTY,SALNTY_FLAG_W,OXYGEN,OXYGEN_FLAG_W,SILCAT,SILCAT_FLAG_W,NITRAT,NITRAT_FLAG_W,NO2+NO3,NO2+NO3_FLAG_W,NITRIT,NITRIT_FLAG_W,PHSPHT,PHSPHT_FLAG_W,CFC-11,CFC-11_FLAG_W,CFC-12,CFC-12_FLAG_W,DELC13,DELC13_FLAG_W,TCARBN,TCARBN_FLAG_W,ALKALI,ALKALI_FLAG_W,PH,PH_FLAG_W,PH_TMP,PH_SCALE,PH_NBS,PH_NBS_FLAG_W,C13ERR,TOTALP,TOTALP_FLAG_W,AMMONI,AMMONI_FLAG_W,CHLORA,CHLORA_FLAG_W,PPHYTN,PPHYTN_FLAG_W,REVPRS,REVTMP,DEPTH_,DEPTH_FLAG,CTDDEP,THETA,SIGTHT,DOC,DOC_FLAG_W
,,,,,,,GMT,GMT,,,METER,DBAR,ITS-90,PSS-78,,UMOL/KG,,PSS-78,,UMOL/KG,,UMOL/KG,,UMOL/KG,,UMOL/KG,,UMOL/KG,,UMOL/KG,,PMOL/KG,,PMOL/KG,,/MILLE,,UMOL/KG,,UMOL/KG,,25_DEG_C,,DEG_C,,,,/MILLE,UMOL/KG,,UMOL/KG,,UG/L,,UG/L,,DBAR,ITS-90,METERS,,METERS,DEG_C,,UMOL/L,
       RF98-09, EQPAC,RF-0725,  1,     -9,      -9,5,19981019,2017, -0.0008, 162.9877, 4445,      0.0,  27.8551,  35.1251,2,   -999.0,9,-999.0000,9,    198.7,2,     1.29,2,  -999.00,9,     0.82,2,     0.09,2,     0.26,2, -999.000,9, -999.000,9,  -999.00,9,   -999.0,9,   -999.0,9,-999.0000,9,   -999.0,  9,     8.26,2,   -999.0,  -999.00,9,  -999.00,9,  -999.00,9,  -999.00,9,   -999.0,-999.0000, -999,9,    0,  27.8551,  22.5360,   -999.0,9
       RF98-09, EQPAC,RF-0725,  1,     21,02-12827,2,19981019,2014, -0.0008, 162.9877, 4445,     11.6,  27.8590,  35.1251,2,   -999.0,9,-999.0000,9,   -999.0,9,  -999.00,9,  -999.00,9,  -999.00,9,  -999.00,9,  -999.00,9, -999.000,9, -999.000,9,  -999.00,9,   -999.0,9,   -999.0,9,-999.0000,9,   -999.0,  9,  -999.00,9,   -999.0,  -999.00,9,  -999.00,9,  -999.00,9,  -999.00,9,   -999.0,-999.0000, -999,9,   12,  27.8563,  22.5356,   -999.0,9
       RF98-09, EQPAC,RF-0725,  1,     19,02-12825,2,19981019,2013, -0.0008, 162.9877, 4445,     11.6,  27.8559,  35.1266,2,   -999.0,9,-999.0000,9,   -999.0,9,  -999.00,9,  -999.00,9,  -999.00,9,  -999.00,9,  -999.00,9, -999.000,9, -999.000,9,  -999.00,9,   -999.0,9,   -999.0,9,-999.0000,9,   -999.0,  9,  -999.00,9,   -999.0,  -999.00,9,  -999.00,9,  -999.00,9,  -999.00,9,   -999.0,-999.0000, -999,9,   12,  27.8531,  22.5378,   -999.0,9
       RF98-09, EQPAC,RF-0725,  1,     17,02-12814,2,19981019,2012, -0.0008, 162.9877, 4445,     11.7,  27.8546,  35.1313,2,   -999.0,9,-999.0000,9,    197.4,2,     1.45,2,  -999.00,9,     0.81,2,     0.09,2,     0.26,2, -999.000,9, -999.000,9,  -999.00,9,   -999.0,9,   -999.0,9,-999.0000,9,   -999.0,  9,     8.26,2,   -999.0,  -999.00,9,  -999.00,9,  -999.00,9,  -999.00,9,   -999.0,-999.0000, -999,9,   12,  27.8519,  22.5418,   -999.0,9
       RF98-09, EQPAC,RF-0725,  1,     18,02-12824,2,19981019,2013, -0.0008, 162.9877, 4445,     11.7,  27.8534,  35.1263,2,   -999.0,9,-999.0000,9,   -999.0,9,  -999.00,9,  -999.00,9,  -999.00,9,  -999.00,9,  -999.00,9, -999.000,9, -999.000,9,  -999.00,9,   -999.0,9,   -999.0,9,-999.0000,9,   -999.0,  9,  -999.00,9,   -999.0,  -999.00,9,  -999.00,9,  -999.00,9,  -999.00,9,   -999.0,-999.0000, -999,9,   12,  27.8506,  22.5384,   -999.0,9
       RF98-09, EQPAC,RF-0725,  1,     20,02-12826,2,19981019,2014, -0.0008, 162.9877, 4445,     11.8,  27.8576,  35.1263,2,   -999.0,9,-999.0000,9,   -999.0,9,  -999.00,9,  -999.00,9,  -999.00,9,  -999.00,9,  -999.00,9, -999.000,9, -999.000,9,  -999.00,9,   -999.0,9,   -999.0,9,-999.0000,9,   -999.0,  9,  -999.00,9,   -999.0,  -999.00,9,  -999.00,9,  -999.00,9,  -999.00,9,   -999.0,-999.0000, -999,9,   12,  27.8549,  22.5370,   -999.0,9
       RF98-09, EQPAC,RF-0725,  1,     16,02-12832,2,19981019,2011, -0.0008, 162.9877, 4445,     25.2,  27.8457,  35.1333,2,   -999.0,9,-999.0000,9,    201.3,2,     1.46,2,  -999.00,9,     0.76,2,     0.10,2,     0.26,2, -999.000,9, -999.000,9,  -999.00,9,   -999.0,9,   -999.0,9,-999.0000,9,   -999.0,  9,     8.26,2,   -999.0,  -999.00,9,  -999.00,9,  -999.00,9,  -999.00,9,   -999.0,-999.0000, -999,9,   25,  27.8398,  22.5472,   -999.0,9
       RF98-09, EQPAC,RF-0725,  1,     15,02-12833,2,19981019,2009, -0.0008, 162.9877, 4445,     50.2,  27.6441,  35.1344,2,   -999.0,9,-999.0000,9,    197.7,2,     1.36,2,  -999.00,9,     0.83,2,     0.11,2,     0.26,2, -999.000,9, -999.000,9,  -999.00,9,   -999.0,9,   -999.0,9,-999.0000,9,   -999.0,  9,     8.26,2,   -999.0,  -999.00,9,  -999.00,9,  -999.00,9,  -999.00,9,   -999.0,-999.0000, -999,9,   50,  27.6324,  22.6154,   -999.0,9
       RF98-09, EQPAC,RF-0725,  1,     14,02-13578,2,19981019,2008, -0.0008, 162.9877, 4445,     76.0,  27.4658,  35.1278,2,   -999.0,9,-999.0000,9,    193.6,2,     1.31,2,  -999.00,9,     0.97,2,     0.17,2,     0.27,2, -999.000,9, -999.000,9,  -999.00,9,   -999.0,9,   -999.0,9,-999.0000,9,   -999.0,  9,     8.25,2,   -999.0,  -999.00,9,  -999.00,9,  -999.00,9,  -999.00,9,   -999.0,-999.0000, -999,9,   76,  27.4481,  22.6701,   -999.0,9
       RF98-09, EQPAC,RF-0725,  1,     13,02-13590,2,19981019,2006, -0.0008, 162.9877, 4445,    104.3,  25.8146,  35.1766,2,   -999.0,9,  35.1851,4,    170.2,2,     2.44,2,  -999.00,9,     4.17,2,     0.22,2,     0.45,2, -999.000,9, -999.000,9,  -999.00,9,   -999.0,9,   -999.0,9,-999.0000,9,   -999.0,  9,     8.21,2,   -999.0,  -999.00,9,  -999.00,9,  -999.00,9,  -999.00,9,   -999.0,-999.0000, -999,9,  104,  25.7915,  23.2315,   -999.0,9
       RF98-09, EQPAC,RF-0725,  1,     12,02-12821,2,19981019,2004, -0.0008, 162.9877, 4445,    127.1,  22.5451,  35.0790,2,   -999.0,9,-999.0000,9,    151.1,2,     4.71,2,  -999.00,9,     7.45,2,     0.05,2,     0.62,2, -999.000,9, -999.000,9,  -999.00,9,   -999.0,9,   -999.0,9,-999.0000,9,   -999.0,  9,     8.14,2,   -999.0,  -999.00,9,  -999.00,9,  -999.00,9,  -999.00,9,   -999.0,-999.0000, -999,9,  126,  22.5195,  24.1311,   -999.0,9
       RF98-09, EQPAC,RF-0725,  1,     11,02-12811,2,19981019,2003, -0.0008, 162.9877, 4445,    150.4,  21.1772,  35.4626,2,   -999.0,9,-999.0000,9,    150.4,2,     3.74,2,  -999.00,9,     8.29,2,     0.03,2,     0.69,2, -999.000,9, -999.000,9,  -999.00,9,   -999.0,9,   -999.0,9,-999.0000,9,   -999.0,  9,     8.13,2,   -999.0,  -999.00,9,  -999.00,9,  -999.00,9,  -999.00,9,   -999.0,-999.0000, -999,9,  149,  21.1482,  24.8056,   -999.0,9
       RF98-09, EQPAC,RF-0725,  1,     10,02-12820,2,19981019,2001, -0.0008, 162.9877, 4445,    199.7,  15.1805,  34.9294,2,   -999.0,9,  34.9379,2,    143.2,2,    14.50,2,  -999.00,9,    15.77,2,     0.01,2,     1.14,2, -999.000,9, -999.000,9,  -999.00,9,   -999.0,9,   -999.0,9,-999.0000,9,   -999.0,  9,     8.00,2,   -999.0,  -999.00,9,  -999.00,9,  -999.00,9,  -999.00,9,   -999.0,-999.0000, -999,9,  198,  15.1500,  25.8845,   -999.0,9
       RF98-09, EQPAC,RF-0725,  1,      9,02-12810,2,19981019,1959, -0.0008, 162.9877, 4445,    248.9,  13.0086,  34.8123,2,   -999.0,9,  34.8136,2,    132.5,2,    19.81,2,  -999.00,9,    20.12,2,     0.01,2,     1.42,2, -999.000,9, -999.000,9,  -999.00,9,   -999.0,9,   -999.0,9,-999.0000,9,   -999.0,  9,     7.93,2,   -999.0,  -999.00,9,  -999.00,9,  -999.00,9,  -999.00,9,   -999.0,-999.0000, -999,9,  247,  12.9744,  26.2526,   -999.0,9
       RF98-09, EQPAC,RF-0725,  1,      8,02-13579,2,19981019,1958, -0.0008, 162.9877, 4445,    301.5,  12.7531,  34.9043,2,   -999.0,9,  34.9119,2,    130.7,2,    17.14,2,  -999.00,9,    20.90,2,     0.01,2,     1.48,2, -999.000,9, -999.000,9,  -999.00,9,   -999.0,9,   -999.0,9,-999.0000,9,   -999.0,  9,     7.92,2,   -999.0,  -999.00,9,  -999.00,9,  -999.00,9,  -999.00,9,   -999.0,-999.0000, -999,9,  300,  12.7120,  26.3762,   -999.0,9
       RF98-09, EQPAC,RF-0725,  1,      7,02-12815,2,19981019,1955, -0.0008, 162.9877, 4445,    402.8,   9.6939,  34.7024,2,   -999.0,9,  34.7050,2,     80.1,2,    28.68,2,  -999.00,9,    31.60,2,     0.01,2,     2.19,2, -999.000,9, -999.000,9,  -999.00,9,   -999.0,9,   -999.0,9,-999.0000,9,   -999.0,  9,  -999.00,9,   -999.0,  -999.00,9,  -999.00,9,  -999.00,9,  -999.00,9,   -999.0,-999.0000, -999,9,  400,   9.6477,  26.7791,   -999.0,9
       RF98-09, EQPAC,RF-0725,  1,      6,02-12818,2,19981019,1952, -0.0008, 162.9877, 4445,    503.7,   8.3626,  34.6229,2,   -999.0,9,  34.6249,2,    101.8,2,    32.02,2,  -999.00,9,    32.21,2,     0.01,2,     2.23,2, -999.000,9, -999.000,9,  -999.00,9,   -999.0,9,   -999.0,9,-999.0000,9,   -999.0,  9,  -999.00,9,   -999.0,  -999.00,9,  -999.00,9,  -999.00,9,  -999.00,9,   -999.0,-999.0000, -999,9,  500,   8.3096,  26.9309,   -999.0,9
       RF98-09, EQPAC,RF-0725,  1,      5,02-12809,2,19981019,1949, -0.0008, 162.9877, 4445,    603.7,   7.1499,  34.5638,2,   -999.0,9,  34.5674,2,    104.2,2,    39.94,2,  -999.00,9,    34.04,2,     0.01,2,     2.39,2, -999.000,9, -999.000,9,  -999.00,9,   -999.0,9,   -999.0,9,-999.0000,9,   -999.0,  9,  -999.00,9,   -999.0,  -999.00,9,  -999.00,9,  -999.00,9,  -999.00,9,   -999.0,-999.0000, -999,9,  599,   7.0914,  27.0625,   -999.0,9
       RF98-09, EQPAC,RF-0725,  1,      4,02-12817,2,19981019,1947, -0.0008, 162.9877, 4445,    704.4,   6.2468,  34.5381,2,   -999.0,9,  34.5429,2,    100.3,2,    50.37,2,  -999.00,9,    36.24,2,     0.00,2,     2.56,2, -999.000,9, -999.000,9,  -999.00,9,   -999.0,9,   -999.0,9,-999.0000,9,   -999.0,  9,  -999.00,9,   -999.0,  -999.00,9,  -999.00,9,  -999.00,9,  -999.00,9,   -999.0,-999.0000, -999,9,  699,   6.1829,  27.1643,   -999.0,9
       RF98-09, EQPAC,RF-0725,  1,      3,02-12808,2,19981019,1944, -0.0008, 162.9877, 4445,    806.3,   5.6624,  34.5262,2,   -999.0,9,  34.5372,2,    106.8,2,    56.99,2,  -999.00,9,    36.46,2,     0.00,2,     2.57,2, -999.000,9, -999.000,9,  -999.00,9,   -999.0,9,   -999.0,9,-999.0000,9,   -999.0,  9,  -999.00,9,   -999.0,  -999.00,9,  -999.00,9,  -999.00,9,  -999.00,9,   -999.0,-999.0000, -999,9,  800,   5.5922,  27.2291,   -999.0,9
       RF98-09, EQPAC,RF-0725,  1,      2,02-13591,2,19981019,1941, -0.0008, 162.9877, 4445,    906.7,   5.0884,  34.5262,2,   -999.0,9,  34.5352,2,    110.9,2,    66.40,2,  -999.00,9,    36.79,2,     0.00,2,     2.60,2, -999.000,9, -999.000,9,  -999.00,9,   -999.0,9,   -999.0,9,-999.0000,9,   -999.0,  9,  -999.00,9,   -999.0,  -999.00,9,  -999.00,9,  -999.00,9,  -999.00,9,   -999.0,-999.0000, -999,9,  900,   5.0128,  27.2981,   -999.0,9
       RF98-09, EQPAC,RF-0725,  1,      1,02-12807,2,19981019,1938, -0.0008, 162.9877, 4445,   1032.0,   4.5382,  34.5401,2,   -999.0,9,  34.5511,2,     98.3,2,    80.32,2,  -999.00,9,    38.57,2,     0.00,2,     2.75,2, -999.000,9, -999.000,9,  -999.00,9,   -999.0,9,   -999.0,9,-999.0000,9,   -999.0,  9,  -999.00,9,   -999.0,  -999.00,9,  -999.00,9,  -999.00,9,  -999.00,9,   1022.0,-999.0000, -999,9, 1024,   4.4556,  27.3718,   -999.0,9