BOTTLE,20130607MIRCJHATS
EXPOCODE,SECT_ID,STNNBR,CASTNO,SAMPNO,BTLNBR,BTLNBR_FLAG_W,DATE,TIME,LATITUDE,LONGITUDE,DEPTH,CTDPRS,CTDTMP,CTDSAL,CTDSAL_FLAG_W,CTDOXY,CTDOXY_FLAG_W,SALNTY,SALNTY_FLAG_W,OXYGEN,OXYGEN_FLAG_W,SILCAT,SILCAT_FLAG_W,NITRAT,NITRAT_FLAG_W,NO2+NO3,NO2+NO3_FLAG_W,NITRIT,NITRIT_FLAG_W,PHSPHT,PHSPHT_FLAG_W,CFC-11,CFC-11_FLAG_W,CFC-12,CFC-12_FLAG_W,DELC13,DELC13_FLAG_W,TCARBN,TCARBN_FLAG_W,ALKALI,ALKALI_FLAG_W,PH,PH_FLAG_W,PH_TMP,PH_SCALE,PH_NBS,PH_NBS_FLAG_W,C13ERR,TOTALP,TOTALP_FLAG_W,AMMONI,AMMONI_FLAG_W,CHLORA,CHLORA_FLAG_W,PPHYTN,PPHYTN_FLAG_W,REVPRS,REVTMP,DEPTH_,DEPTH_FLAG,CTDDEP,THETA,SIGTHT,DOC,DOC_FLAG_W
,,,,,,,GMT,GMT,,,METER,DBAR,ITS-90,PSS-78,,UMOL/KG,,PSS-78,,UMOL/KG,,UMOL/KG,,UMOL/KG,,UMOL/KG,,UMOL/KG,,UMOL/KG,,PMOL/KG,,PMOL/KG,,/MILLE,,UMOL/KG,,UMOL/KG,,25_DEG_C,,DEG_C,,,,/MILLE,UMOL/KG,,UMOL/KG,,UG/L,,UG/L,,DBAR,ITS-90,METERS,,METERS,DEG_C,,UMOL/L,
       RF98-09,  165E,RF-0686,  1,     -9,      -9,5,19980925,0700, 34.9717, 164.9955, 5884,      0.0,  26.7182,  34.2481,2,   -999.0,9,-999.0000,9,    209.0,2,     1.94,2,  -999.00,9,     0.06,2,     0.00,2,     0.06,2, -999.000,9, -999.000,9,  -999.00,9,   -999.0,9,   -999.0,9,-999.0000,9,   -999.0,  9,     8.21,2,   -999.0,  -999.00,9,  -999.00,9,     0.14,2,     0.06,2,   -999.0,-999.0000, -999,9,    0,  26.7182,  22.2410,   -999.0,9
       RF98-09,  165E,RF-0686,  1,     21,02-12827,2,19980925,0657, 34.9717, 164.9955, 5884,     12.2,  26.7290,  34.2526,2,   -999.0,9,-999.0000,9,    207.9,2,     1.76,2,  -999.00,9,     0.08,2,     0.00,2,     0.05,2, -999.000,9, -999.000,9,  -999.00,9,   -999.0,9,   -999.0,9,-999.0000,9,   -999.0,  9,     8.21,2,   -999.0,  -999.00,9,  -999.00,9,     0.14,2,     0.06,2,   -999.0,-999.0000, -999,9,   12,  26.7262,  22.2418,   -999.0,9
       RF98-09,  165E,RF-0686,  1,     20,02-12826,2,19980925,0656, 34.9717, 164.9955, 5884,     24.0,  26.7396,  34.2555,2,   -999.0,9,-999.0000,9,    211.4,2,     1.58,2,  -999.00,9,     0.10,2,     0.00,2,     0.04,2, -999.000,9, -999.000,9,  -999.00,9,   -999.0,9,   -999.0,9,-999.0000,9,   -999.0,  9,     8.21,2,   -999.0,  -999.00,9,  -999.00,9,     0.13,2,     0.06,2,   -999.0,-999.0000, -999,9,   24,  26.7341,  22.2415,   -999.0,9
       RF98-09,  165E,RF-0686,  1,     19,02-12825,2,19980925,0654, 34.9717, 164.9955, 5884,     49.3,  25.2488,  34.4165,2,   -999.0,9,  34.4467,4,    220.1,2,     2.03,2,  -999.00,9,     0.12,2,     0.00,2,     0.05,2, -999.000,9, -999.000,9,  -999.00,9,   -999.0,9,   -999.0,9,-999.0000,9,   -999.0,  9,     8.20,2,   -999.0,  -999.00,9,  -999.00,9,     0.28,2,     0.14,2,   -999.0,-999.0000, -999,9,   49,  25.2381,  22.8279,   -999.0,9
       RF98-09,  165E,RF-0686,  1,     18,02-12824,2,19980925,0652, 34.9717, 164.9955, 5884,     72.7,  21.9194,  34.7403,2,   -999.0,9,-999.0000,9,    212.7,2,     2.70,2,  -999.00,9,     0.10,2,     0.02,2,     0.08,2, -999.000,9, -999.000,9,  -999.00,9,   -999.0,9,   -999.0,9,-999.0000,9,   -999.0,  9,     8.15,2,   -999.0,  -999.00,9,  -999.00,9,     0.34,2,     0.33,2,   -999.0,-999.0000, -999,9,   72,  21.9051,  24.0470,   -999.0,9
       RF98-09,  165E,RF-0686,  1,     17,02-12814,2,19980925,0650, 34.9717, 164.9955, 5884,     99.3,  19.5371,  34.7827,2,   -999.0,9,  34.7684,4,    193.7,2,     4.84,2,  -999.00,9,     4.33,2,     0.05,2,     0.30,2, -999.000,9, -999.000,9,  -999.00,9,   -999.0,9,   -999.0,9,-999.0000,9,   -999.0,  9,     8.10,2,   -999.0,  -999.00,9,  -999.00,9,     0.19,2,     0.31,2,   -999.0,-999.0000, -999,9,   99,  19.5191,  24.7216,   -999.0,9
       RF98-09,  165E,RF-0686,  1,     16,02-12832,2,19980925,0649, 34.9717, 164.9955, 5884,    124.1,  18.5680,  34.8197,2,   -999.0,9,-999.0000,9,    197.6,2,     4.39,2,  -999.00,9,     4.40,2,     0.02,2,     0.30,2, -999.000,9, -999.000,9,  -999.00,9,   -999.0,9,   -999.0,9,-999.0000,9,   -999.0,  9,     8.09,2,   -999.0,  -999.00,9,  -999.00,9,     0.07,2,     0.10,2,   -999.0,-999.0000, -999,9,  123,  18.5463,  24.9981,   -999.0,9
       RF98-09,  165E,RF-0686,  1,     15,02-12833,2,19980925,0647, 34.9717, 164.9955, 5884,    150.0,  17.6372,  34.7892,2,   -999.0,9,  34.7829,2,    193.6,2,     5.92,2,  -999.00,9,     6.12,2,     0.02,2,     0.40,2, -999.000,9, -999.000,9,  -999.00,9,   -999.0,9,   -999.0,9,-999.0000,9,   -999.0,  9,     8.07,2,   -999.0,  -999.00,9,  -999.00,9,     0.01,2,     0.03,2,   -999.0,-999.0000, -999,9,  149,  17.6119,  25.2055,   -999.0,9
       RF98-09,  165E,RF-0686,  1,     14,02-13578,2,19980925,0645, 34.9717, 164.9955, 5884,    198.7,  16.2890,  34.7180,2,   -999.0,9,  34.7081,2,    190.5,2,     8.25,2,  -999.00,9,     8.38,2,     0.01,2,     0.55,2, -999.000,9, -999.000,9,  -999.00,9,   -999.0,9,   -999.0,9,-999.0000,9,   -999.0,  9,     8.03,2,   -999.0,  -999.00,9,  -999.00,9,     0.01,2,     0.02,2,   -999.0,-999.0000, -999,9,  197,  16.2573,  25.4716,   -999.0,9
       RF98-09,  165E,RF-0686,  1,     13,02-13590,2,19980925,0643, 34.9717, 164.9955, 5884,    250.8,  14.7207,  34.6157,2,   -999.0,9,-999.0000,9,    182.0,2,    13.11,2,  -999.00,9,    11.32,2,     0.01,2,     0.73,2, -999.000,9, -999.000,9,  -999.00,9,   -999.0,9,   -999.0,9,-999.0000,9,   -999.0,  9,     7.99,2,   -999.0,  -999.00,9,  -999.00,9,  -999.00,9,  -999.00,9,   -999.0,-999.0000, -999,9,  249,  14.6832,  25.7446,   -999.0,9
       RF98-09,  165E,RF-0686,  1,     12,02-12821,2,19980925,0641, 34.9717, 164.9955, 5884,    298.9,  13.3714,  34.5264,2,   -999.0,9,  34.5047,4,    184.9,2,    17.12,2,  -999.00,9,    13.65,2,     0.01,2,     0.90,2, -999.000,9, -999.000,9,  -999.00,9,   -999.0,9,   -999.0,9,-999.0000,9,   -999.0,  9,     7.95,2,   -999.0,  -999.00,9,  -999.00,9,  -999.00,9,  -999.00,9,   -999.0,-999.0000, -999,9,  296,  13.3295,  25.9595,   -999.0,9
       RF98-09,  165E,RF-0686,  1,     11,02-12811,2,19980925,0638, 34.9717, 164.9955, 5884,    400.1,  10.1420,  34.2534,2,   -999.0,9,  34.2483,2,    222.0,2,    22.32,2,  -999.00,9,    15.66,2,     0.01,2,     1.07,2, -999.000,9, -999.000,9,  -999.00,9,   -999.0,9,   -999.0,9,-999.0000,9,   -999.0,  9,  -999.00,9,   -999.0,  -999.00,9,  -999.00,9,  -999.00,9,  -999.00,9,   -999.0,-999.0000, -999,9,  397,  10.0951,  26.3528,   -999.0,9
       RF98-09,  165E,RF-0686,  1,     10,02-12820,2,19980925,0635, 34.9717, 164.9955, 5884,    503.0,   7.4567,  34.0600,2,   -999.0,9,  34.0624,2,    166.3,2,    43.89,2,  -999.00,9,    25.54,2,     0.01,2,     1.78,2, -999.000,9, -999.000,9,  -999.00,9,   -999.0,9,   -999.0,9,-999.0000,9,   -999.0,  9,  -999.00,9,   -999.0,  -999.00,9,  -999.00,9,  -999.00,9,  -999.00,9,   -999.0,-999.0000, -999,9,  499,   7.4076,  26.6215,   -999.0,9
       RF98-09,  165E,RF-0686,  1,      9,02-12810,2,19980925,0631, 34.9717, 164.9955, 5884,    603.9,   5.6706,  34.0195,2,   -999.0,9,  34.0286,2,    126.4,2,    64.83,2,  -999.00,9,    32.05,2,     0.01,2,     2.28,2, -999.000,9, -999.000,9,  -999.00,9,   -999.0,9,   -999.0,9,-999.0000,9,   -999.0,  9,  -999.00,9,   -999.0,  -999.00,9,  -999.00,9,  -999.00,9,  -999.00,9,   -999.0,-999.0000, -999,9,  599,   5.6194,  26.8249,   -999.0,9
       RF98-09,  165E,RF-0686,  1,      8,02-13579,2,19980925,0628, 34.9717, 164.9955, 5884,    705.0,   4.6242,  34.0576,2,   -999.0,9,  34.0563,2,     93.0,2,    83.68,2,  -999.00,9,    36.65,2,     0.00,2,     2.62,2, -999.000,9, -999.000,9,  -999.00,9,   -999.0,9,   -999.0,9,-999.0000,9,   -999.0,  9,  -999.00,9,   -999.0,  -999.00,9,  -999.00,9,  -999.00,9,  -999.00,9,   -999.0,-999.0000, -999,9,  699,   4.5695,  26.9762,   -999.0,9
       RF98-09,  165E,RF-0686,  1,      7,02-12815,2,19980925,0624, 34.9717, 164.9955, 5884,    804.6,   4.1898,  34.1532,2,   -999.0,9,  34.1495,2,     63.9,2,    99.44,2,  -999.00,9,    39.48,2,     0.00,2,     2.83,2, -999.000,9, -999.000,9,  -999.00,9,   -999.0,9,   -999.0,9,-999.0000,9,   -999.0,  9,  -999.00,9,   -999.0,  -999.00,9,  -999.00,9,  -999.00,9,  -999.00,9,   -999.0,-999.0000, -999,9,  797,   4.1294,  27.0992,   -999.0,9
       RF98-09,  165E,RF-0686,  1,      6,02-12818,2,19980925,0620, 34.9717, 164.9955, 5884,    905.1,   3.8428,  34.2482,2,   -999.0,9,-999.0000,9,     50.3,2,   111.15,2,  -999.00,9,    40.71,2,     0.00,2,     2.93,2, -999.000,9, -999.000,9,  -999.00,9,   -999.0,9,   -999.0,9,-999.0000,9,   -999.0,  9,  -999.00,9,   -999.0,  -999.00,9,  -999.00,9,  -999.00,9,  -999.00,9,   -999.0,-999.0000, -999,9,  897,   3.7765,  27.2108,   -999.0,9
       RF98-09,  165E,RF-0686,  1,      5,02-12809,2,19980925,0616, 34.9717, 164.9955, 5884,   1008.2,   3.4626,  34.2987,2,   -999.0,9,  34.2439,4,     41.9,2,   121.84,2,  -999.00,9,    41.78,2,     0.00,2,     3.02,2, -999.000,9, -999.000,9,  -999.00,9,   -999.0,9,   -999.0,9,-999.0000,9,   -999.0,  9,  -999.00,9,   -999.0,  -999.00,9,  -999.00,9,  -999.00,9,  -999.00,9,   -999.0,-999.0000, -999,9,  998,   3.3908,  27.2888,   -999.0,9
       RF98-09,  165E,RF-0686,  1,      4,02-12817,2,19980925,0609, 34.9717, 164.9955, 5884,   1259.5,   2.8503,  34.4239,2,   -999.0,9,  34.4153,2,     37.7,2,   139.18,2,  -999.00,9,    42.45,2,     0.00,2,     3.07,2, -999.000,9, -999.000,9,  -999.00,9,   -999.0,9,   -999.0,9,-999.0000,9,   -999.0,  9,  -999.00,9,   -999.0,  -999.00,9,  -999.00,9,  -999.00,9,  -999.00,9,   -999.0,-999.0000, -999,9, 1247,   2.7639,  27.4464,   -999.0,9
       RF98-09,  165E,RF-0686,  1,      3,02-12808,2,19980925,0604, 34.9717, 164.9955, 5884,   1509.9,   2.3985,  34.5021,2,   -999.0,9,  34.4911,2,     42.2,2,   151.77,2,  -999.00,9,    42.61,2,     0.00,2,     3.08,2, -999.000,9, -999.000,9,  -999.00,9,   -999.0,9,   -999.0,9,-999.0000,9,   -999.0,  9,  -999.00,9,   -999.0,  -999.00,9,  -999.00,9,  -999.00,9,  -999.00,9,   -999.0,-999.0000, -999,9, 1494,   2.2970,  27.5488,   -999.0,9
       RF98-09,  165E,RF-0686,  1,      2,02-13588,2,19980925,0559, 34.9717, 164.9955, 5884,   1764.3,   2.1420,  34.5490,2,   -999.0,9,  34.5419,2,     57.9,2,   154.08,2,  -999.00,9,    41.40,2,     0.01,2,     2.98,2, -999.000,9, -999.000,9,  -999.00,9,   -999.0,9,   -999.0,9,-999.0000,9,   -999.0,  9,  -999.00,9,   -999.0,  -999.00,9,  -999.00,9,  -999.00,9,  -999.00,9,   -999.0,-999.0000, -999,9, 1744,   2.0232,  27.6085,   -999.0,9
       RF98-09,  165E,RF-0686,  1,      1,02-12807,2,19980925,0553, 34.9717, 164.9955, 5884,   2049.7,   1.9248,  34.5981,2,   -999.0,9,  34.5737,4,     78.2,2,   157.36,2,  -999.00,9,    40.81,2,     0.00,2,     2.92,2, -999.000,9, -999.000,9,  -999.00,9,   -999.0,9,   -999.0,9,-999.0000,9,   -999.0,  9,  -999.00,9,   -999.0,  -999.00,9,  -999.00,9,  -999.00,9,  -999.00,9,   2003.0,-999.0000, -999,9, 2025,   1.7855,  27.6663,   -999.0,9