BOTTLE,20130607MIRCJHATS
EXPOCODE,SECT_ID,STNNBR,CASTNO,SAMPNO,BTLNBR,BTLNBR_FLAG_W,DATE,TIME,LATITUDE,LONGITUDE,DEPTH,CTDPRS,CTDTMP,CTDSAL,CTDSAL_FLAG_W,CTDOXY,CTDOXY_FLAG_W,SALNTY,SALNTY_FLAG_W,OXYGEN,OXYGEN_FLAG_W,SILCAT,SILCAT_FLAG_W,NITRAT,NITRAT_FLAG_W,NO2+NO3,NO2+NO3_FLAG_W,NITRIT,NITRIT_FLAG_W,PHSPHT,PHSPHT_FLAG_W,CFC-11,CFC-11_FLAG_W,CFC-12,CFC-12_FLAG_W,DELC13,DELC13_FLAG_W,TCARBN,TCARBN_FLAG_W,ALKALI,ALKALI_FLAG_W,PH,PH_FLAG_W,PH_TMP,PH_SCALE,PH_NBS,PH_NBS_FLAG_W,C13ERR,TOTALP,TOTALP_FLAG_W,AMMONI,AMMONI_FLAG_W,CHLORA,CHLORA_FLAG_W,PPHYTN,PPHYTN_FLAG_W,REVPRS,REVTMP,DEPTH_,DEPTH_FLAG,CTDDEP,THETA,SIGTHT,DOC,DOC_FLAG_W
,,,,,,,GMT,GMT,,,METER,DBAR,ITS-90,PSS-78,,UMOL/KG,,PSS-78,,UMOL/KG,,UMOL/KG,,UMOL/KG,,UMOL/KG,,UMOL/KG,,UMOL/KG,,PMOL/KG,,PMOL/KG,,/MILLE,,UMOL/KG,,UMOL/KG,,25_DEG_C,,DEG_C,,,,/MILLE,UMOL/KG,,UMOL/KG,,UG/L,,UG/L,,DBAR,ITS-90,METERS,,METERS,DEG_C,,UMOL/L,
       RF98-09,  165E,RF-0721,  1,     -9,      -9,5,19981016,1022,  0.1590, 164.9752, 4394,      0.0,  28.0733,  35.1687,2,   -999.0,9,-999.0000,9,    200.6,2,     1.46,2,  -999.00,9,     0.23,2,     0.03,2,     0.22,2, -999.000,9, -999.000,9,  -999.00,9,   -999.0,9,   -999.0,9,-999.0000,9,   -999.0,  9,     8.21,2,   -999.0,  -999.00,9,  -999.00,9,     0.19,2,     0.13,2,   -999.0,-999.0000, -999,9,    0,  28.0733,  22.4975,   -999.0,9
       RF98-09,  165E,RF-0721,  1,     22,02-12828,2,19981016,1019,  0.1590, 164.9752, 4394,     11.8,  27.9062,  35.1674,2,   -999.0,9,-999.0000,9,    200.1,2,     1.45,2,  -999.00,9,     0.31,2,     0.04,2,     0.20,2, -999.000,9, -999.000,9,  -999.00,9,   -999.0,9,   -999.0,9,-999.0000,9,   -999.0,  9,     8.21,2,   -999.0,  -999.00,9,  -999.00,9,     0.22,2,     0.20,2,   -999.0,-999.0000, -999,9,   12,  27.9034,  22.5521,   -999.0,9
       RF98-09,  165E,RF-0721,  1,     21,02-12827,2,19981016,1018,  0.1590, 164.9752, 4394,     25.1,  27.6962,  35.1647,2,   -999.0,9,-999.0000,9,    200.7,2,     1.42,2,  -999.00,9,     0.52,2,     0.08,2,     0.22,2, -999.000,9, -999.000,9,  -999.00,9,   -999.0,9,   -999.0,9,-999.0000,9,   -999.0,  9,     8.21,2,   -999.0,  -999.00,9,  -999.00,9,     0.30,2,     0.26,2,   -999.0,-999.0000, -999,9,   25,  27.6903,  22.6194,   -999.0,9
       RF98-09,  165E,RF-0721,  1,     20,02-12826,2,19981016,1017,  0.1590, 164.9752, 4394,     51.0,  27.3205,  35.1516,2,   -999.0,9,  35.1556,2,    193.1,2,     1.38,2,  -999.00,9,     1.09,2,     0.18,2,     0.23,2, -999.000,9, -999.000,9,  -999.00,9,   -999.0,9,   -999.0,9,-999.0000,9,   -999.0,  9,     8.19,2,   -999.0,  -999.00,9,  -999.00,9,     0.37,2,     0.41,2,   -999.0,-999.0000, -999,9,   51,  27.3087,  22.7330,   -999.0,9
       RF98-09,  165E,RF-0721,  1,     19,02-12825,2,19981016,1015,  0.1590, 164.9752, 4394,     81.5,  26.6435,  35.1424,2,   -999.0,9,-999.0000,9,    176.2,2,     1.63,2,  -999.00,9,     2.72,2,     0.53,2,     0.31,2, -999.000,9, -999.000,9,  -999.00,9,   -999.0,9,   -999.0,9,-999.0000,9,   -999.0,  9,     8.17,2,   -999.0,  -999.00,9,  -999.00,9,     0.07,2,     0.22,2,   -999.0,-999.0000, -999,9,   81,  26.6250,  22.9443,   -999.0,9
       RF98-09,  165E,RF-0721,  1,     18,02-12824,2,19981016,1012,  0.1590, 164.9752, 4394,    104.9,  23.6820,  35.4465,2,   -999.0,9,  35.4085,4,    152.8,2,     2.94,2,  -999.00,9,     6.51,2,     0.07,2,     0.53,2, -999.000,9, -999.000,9,  -999.00,9,   -999.0,9,   -999.0,9,-999.0000,9,   -999.0,  9,     8.10,2,   -999.0,  -999.00,9,  -999.00,9,     0.07,2,     0.20,2,   -999.0,-999.0000, -999,9,  104,  23.6601,  24.0799,   -999.0,9
       RF98-09,  165E,RF-0721,  1,     17,02-12814,2,19981016,1011,  0.1590, 164.9752, 4394,    126.1,  20.6056,  35.3576,2,   -999.0,9,-999.0000,9,    147.5,2,     4.95,2,  -999.00,9,     9.28,2,     0.02,2,     0.67,2, -999.000,9, -999.000,9,  -999.00,9,   -999.0,9,   -999.0,9,-999.0000,9,   -999.0,  9,     8.05,2,   -999.0,  -999.00,9,  -999.00,9,     0.04,2,     0.08,2,   -999.0,-999.0000, -999,9,  125,  20.5818,  24.8795,   -999.0,9
       RF98-09,  165E,RF-0721,  1,     16,02-12832,2,19981016,1009,  0.1590, 164.9752, 4394,    149.8,  19.1163,  35.3086,2,   -999.0,9,  35.3199,4,    145.1,2,     6.62,2,  -999.00,9,    11.09,2,     0.02,2,     0.79,2, -999.000,9, -999.000,9,  -999.00,9,   -999.0,9,   -999.0,9,-999.0000,9,   -999.0,  9,     8.01,2,   -999.0,  -999.00,9,  -999.00,9,     0.02,2,     0.04,2,   -999.0,-999.0000, -999,9,  149,  19.0894,  25.2342,   -999.0,9
       RF98-09,  165E,RF-0721,  1,     15,02-12833,2,19981016,1007,  0.1590, 164.9752, 4394,    200.3,  13.9913,  34.9076,2,   -999.0,9,  34.9180,4,    140.5,2,    16.30,2,  -999.00,9,    17.97,2,     0.01,2,     1.24,2, -999.000,9, -999.000,9,  -999.00,9,   -999.0,9,   -999.0,9,-999.0000,9,   -999.0,  9,     7.90,4,   -999.0,  -999.00,9,  -999.00,9,     0.00,2,     0.02,2,   -999.0,-999.0000, -999,9,  199,  13.9624,  26.1236,   -999.0,9
       RF98-09,  165E,RF-0721,  1,     14,02-13578,2,19981016,1005,  0.1590, 164.9752, 4394,    251.2,  13.1604,  34.9208,2,   -999.0,9,  34.9186,2,    134.4,2,    16.70,2,  -999.00,9,    19.55,2,     0.01,2,     1.33,2, -999.000,9, -999.000,9,  -999.00,9,   -999.0,9,   -999.0,9,-999.0000,9,   -999.0,  9,     7.87,2,   -999.0,  -999.00,9,  -999.00,9,  -999.00,9,  -999.00,9,   -999.0,-999.0000, -999,9,  250,  13.1255,  26.3063,   -999.0,9
       RF98-09,  165E,RF-0721,  1,     13,02-13590,2,19981016,1003,  0.1590, 164.9752, 4394,    302.4,  12.1521,  34.8820,2,   -999.0,9,  34.8739,2,    107.3,2,    18.97,2,  -999.00,9,    24.40,2,     0.01,2,     1.65,2, -999.000,9, -999.000,9,  -999.00,9,   -999.0,9,   -999.0,9,-999.0000,9,   -999.0,  9,     7.79,2,   -999.0,  -999.00,9,  -999.00,9,  -999.00,9,  -999.00,9,   -999.0,-999.0000, -999,9,  301,  12.1122,  26.4760,   -999.0,9
       RF98-09,  165E,RF-0721,  1,     12,02-12821,2,19981016,1000,  0.1590, 164.9752, 4394,    403.8,   9.5541,  34.7000,2,   -999.0,9,  34.6961,2,     78.1,2,    29.41,2,  -999.00,9,    31.95,2,     0.00,2,     2.15,2, -999.000,9, -999.000,9,  -999.00,9,   -999.0,9,   -999.0,9,-999.0000,9,   -999.0,  9,  -999.00,9,   -999.0,  -999.00,9,  -999.00,9,  -999.00,9,  -999.00,9,   -999.0,-999.0000, -999,9,  401,   9.5082,  26.8004,   -999.0,9
       RF98-09,  165E,RF-0721,  1,     11,02-12811,2,19981016,0957,  0.1590, 164.9752, 4394,    505.5,   8.5686,  34.6387,2,   -999.0,9,  34.6328,2,     99.6,2,    31.70,2,  -999.00,9,    31.87,2,     0.00,2,     2.15,2, -999.000,9, -999.000,9,  -999.00,9,   -999.0,9,   -999.0,9,-999.0000,9,   -999.0,  9,  -999.00,9,   -999.0,  -999.00,9,  -999.00,9,  -999.00,9,  -999.00,9,   -999.0,-999.0000, -999,9,  502,   8.5145,  26.9118,   -999.0,9
       RF98-09,  165E,RF-0721,  1,     10,02-12820,2,19981016,0953,  0.1590, 164.9752, 4394,    606.1,   7.1939,  34.5680,2,   -999.0,9,  34.5678,2,    102.9,2,    39.89,2,  -999.00,9,    34.20,2,     0.00,2,     2.33,2, -999.000,9, -999.000,9,  -999.00,9,   -999.0,9,   -999.0,9,-999.0000,9,   -999.0,  9,  -999.00,9,   -999.0,  -999.00,9,  -999.00,9,  -999.00,9,  -999.00,9,   -999.0,-999.0000, -999,9,  602,   7.1349,  27.0597,   -999.0,9
       RF98-09,  165E,RF-0721,  1,      9,02-12810,2,19981016,0950,  0.1590, 164.9752, 4394,    705.9,   6.5943,  34.5540,2,   -999.0,9,-999.0000,9,    101.5,2,    45.96,2,  -999.00,9,    35.60,2,     0.00,2,     2.44,2, -999.000,9, -999.000,9,  -999.00,9,   -999.0,9,   -999.0,9,-999.0000,9,   -999.0,  9,  -999.00,9,   -999.0,  -999.00,9,  -999.00,9,  -999.00,9,  -999.00,9,   -999.0,-999.0000, -999,9,  701,   6.5284,  27.1314,   -999.0,9
       RF98-09,  165E,RF-0721,  1,      8,02-13579,2,19981016,0947,  0.1590, 164.9752, 4394,    807.0,   5.8116,  34.5398,2,   -999.0,9,  34.5106,4,    102.1,2,    55.60,2,  -999.00,9,    36.70,2,     0.00,2,     2.55,2, -999.000,9, -999.000,9,  -999.00,9,   -999.0,9,   -999.0,9,-999.0000,9,   -999.0,  9,  -999.00,9,   -999.0,  -999.00,9,  -999.00,9,  -999.00,9,  -999.00,9,   -999.0,-999.0000, -999,9,  801,   5.7405,  27.2216,   -999.0,9
       RF98-09,  165E,RF-0721,  1,      7,02-12815,2,19981016,0944,  0.1590, 164.9752, 4394,    907.5,   5.1489,  34.5395,2,   -999.0,9,  34.5387,2,    103.6,2,    66.76,2,  -999.00,9,    37.39,2,     0.00,2,     2.60,2, -999.000,9, -999.000,9,  -999.00,9,   -999.0,9,   -999.0,9,-999.0000,9,   -999.0,  9,  -999.00,9,   -999.0,  -999.00,9,  -999.00,9,  -999.00,9,  -999.00,9,   -999.0,-999.0000, -999,9,  901,   5.0728,  27.3017,   -999.0,9
       RF98-09,  165E,RF-0721,  1,      5,02-12809,2,19981016,0941,  0.1590, 164.9752, 4394,   1009.2,   4.5425,  34.5535,2,   -999.0,9,-999.0000,9,   -999.0,9,  -999.00,9,  -999.00,9,  -999.00,9,  -999.00,9,  -999.00,9, -999.000,9, -999.000,9,  -999.00,9,   -999.0,9,   -999.0,9,-999.0000,9,   -999.0,  9,  -999.00,9,   -999.0,  -999.00,9,  -999.00,9,  -999.00,9,  -999.00,9,   -999.0,-999.0000, -999,9, 1001,   4.4618,  27.3818,   -999.0,9
       RF98-09,  165E,RF-0721,  1,      6,02-12818,2,19981016,0941,  0.1590, 164.9752, 4394,   1011.9,   4.5407,  34.5449,2,   -999.0,9,  34.5515,2,     96.9,2,    80.37,2,  -999.00,9,    38.71,2,     0.00,2,     2.72,2, -999.000,9, -999.000,9,  -999.00,9,   -999.0,9,   -999.0,9,-999.0000,9,   -999.0,  9,  -999.00,9,   -999.0,  -999.00,9,  -999.00,9,  -999.00,9,  -999.00,9,   -999.0,-999.0000, -999,9, 1004,   4.4598,  27.3752,   -999.0,9
       RF98-09,  165E,RF-0721,  1,      4,02-12817,2,19981016,0936,  0.1590, 164.9752, 4394,   1260.1,   3.6667,  34.5757,2,   -999.0,9,  34.5842,2,    104.3,2,    97.30,2,  -999.00,9,    38.57,2,     0.00,2,     2.71,2, -999.000,9, -999.000,9,  -999.00,9,   -999.0,9,   -999.0,9,-999.0000,9,   -999.0,  9,  -999.00,9,   -999.0,  -999.00,9,  -999.00,9,  -999.00,9,  -999.00,9,   -999.0,-999.0000, -999,9, 1249,   3.5719,  27.4920,   -999.0,9
       RF98-09,  165E,RF-0721,  1,      3,02-12808,2,19981016,0931,  0.1590, 164.9752, 4394,   1513.5,   2.9666,  34.6020,2,   -999.0,9,  34.6070,2,    108.0,2,   112.96,2,  -999.00,9,    38.88,2,     0.00,2,     2.73,2, -999.000,9, -999.000,9,  -999.00,9,   -999.0,9,   -999.0,9,-999.0000,9,   -999.0,  9,  -999.00,9,   -999.0,  -999.00,9,  -999.00,9,  -999.00,9,  -999.00,9,   -999.0,-999.0000, -999,9, 1500,   2.8580,  27.5803,   -999.0,9
       RF98-09,  165E,RF-0721,  1,      2,02-13591,2,19981016,0927,  0.1590, 164.9752, 4394,   1765.5,   2.5524,  34.6215,2,   -999.0,9,  34.6806,4,    112.6,2,   122.35,2,  -999.00,9,    38.66,2,     0.00,2,     2.71,2, -999.000,9, -999.000,9,  -999.00,9,   -999.0,9,   -999.0,9,-999.0000,9,   -999.0,  9,  -999.00,9,   -999.0,  -999.00,9,  -999.00,9,  -999.00,9,  -999.00,9,   -999.0,-999.0000, -999,9, 1748,   2.4277,  27.6334,   -999.0,9
       RF98-09,  165E,RF-0721,  1,      1,02-12807,2,19981016,0922,  0.1590, 164.9752, 4394,   2040.5,   2.1382,  34.6419,2,   -999.0,9,  34.6442,2,    119.8,2,   131.62,2,  -999.00,9,    38.36,2,     0.00,2,     2.69,2, -999.000,9, -999.000,9,  -999.00,9,   -999.0,9,   -999.0,9,-999.0000,9,   -999.0,  9,  -999.00,9,   -999.0,  -999.00,9,  -999.00,9,  -999.00,9,  -999.00,9,   2033.0,-999.0000, -999,9, 2019,   1.9962,  27.6851,   -999.0,9