BOTTLE,20130607MIRCJHATS
EXPOCODE,SECT_ID,STNNBR,CASTNO,SAMPNO,BTLNBR,BTLNBR_FLAG_W,DATE,TIME,LATITUDE,LONGITUDE,DEPTH,CTDPRS,CTDTMP,CTDSAL,CTDSAL_FLAG_W,CTDOXY,CTDOXY_FLAG_W,SALNTY,SALNTY_FLAG_W,OXYGEN,OXYGEN_FLAG_W,SILCAT,SILCAT_FLAG_W,NITRAT,NITRAT_FLAG_W,NO2+NO3,NO2+NO3_FLAG_W,NITRIT,NITRIT_FLAG_W,PHSPHT,PHSPHT_FLAG_W,CFC-11,CFC-11_FLAG_W,CFC-12,CFC-12_FLAG_W,DELC13,DELC13_FLAG_W,TCARBN,TCARBN_FLAG_W,ALKALI,ALKALI_FLAG_W,PH,PH_FLAG_W,PH_TMP,PH_SCALE,PH_NBS,PH_NBS_FLAG_W,C13ERR,TOTALP,TOTALP_FLAG_W,AMMONI,AMMONI_FLAG_W,CHLORA,CHLORA_FLAG_W,PPHYTN,PPHYTN_FLAG_W,REVPRS,REVTMP,DEPTH_,DEPTH_FLAG,CTDDEP,THETA,SIGTHT,DOC,DOC_FLAG_W
,,,,,,,GMT,GMT,,,METER,DBAR,ITS-90,PSS-78,,UMOL/KG,,PSS-78,,UMOL/KG,,UMOL/KG,,UMOL/KG,,UMOL/KG,,UMOL/KG,,UMOL/KG,,PMOL/KG,,PMOL/KG,,/MILLE,,UMOL/KG,,UMOL/KG,,25_DEG_C,,DEG_C,,,,/MILLE,UMOL/KG,,UMOL/KG,,UG/L,,UG/L,,DBAR,ITS-90,METERS,,METERS,DEG_C,,UMOL/L,
       RF98-09,  165E,RF-0707,  1,     23,02-12829,2,19981012,1415, 14.0032, 164.9812, 5341,    302.4,  13.6886,  34.4953,2,   -999.0,9,-999.0000,9,   -999.0,9,  -999.00,9,  -999.00,9,  -999.00,9,  -999.00,9,  -999.00,9, -999.000,9, -999.000,9,  -999.00,9,   -999.0,9,   -999.0,9,-999.0000,9,   -999.0,  9,  -999.00,9,   -999.0,  -999.00,9,  -999.00,9,  -999.00,9,  -999.00,9,   -999.0,-999.0000, -999,9,  300,  13.6456,  25.8707,   -999.0,9
       RF98-09,  165E,RF-0707,  1,     24,02-12830,2,19981012,1415, 14.0032, 164.9812, 5341,    304.3,  13.5396,  34.4981,2,   -999.0,9,-999.0000,9,   -999.0,9,  -999.00,9,  -999.00,9,  -999.00,9,  -999.00,9,  -999.00,9, -999.000,9, -999.000,9,  -999.00,9,   -999.0,9,   -999.0,9,-999.0000,9,   -999.0,  9,  -999.00,9,   -999.0,  -999.00,9,  -999.00,9,  -999.00,9,  -999.00,9,   -999.0,-999.0000, -999,9,  302,  13.4966,  25.9035,   -999.0,9
       RF98-09,  165E,RF-0707,  1,     16,02-12832,2,19981012,1400, 14.0032, 164.9812, 5341,   1006.6,   4.3376,  34.5398,2,   -999.0,9,  34.5330,4,   -999.0,9,  -999.00,9,  -999.00,9,  -999.00,9,  -999.00,9,  -999.00,9, -999.000,9, -999.000,9,  -999.00,9,   -999.0,9,   -999.0,9,-999.0000,9,   -999.0,  9,  -999.00,9,   -999.0,  -999.00,9,  -999.00,9,  -999.00,9,  -999.00,9,   -999.0,-999.0000, -999,9,  998,   4.2588,  27.3929,   -999.0,9
       RF98-09,  165E,RF-0707,  1,     19,02-12825,2,19981012,1402, 14.0032, 164.9812, 5341,   1008.3,   4.3413,  34.5324,2,   -999.0,9,  34.5259,2,   -999.0,9,  -999.00,9,  -999.00,9,  -999.00,9,  -999.00,9,  -999.00,9, -999.000,9, -999.000,9,  -999.00,9,   -999.0,9,   -999.0,9,-999.0000,9,   -999.0,  9,  -999.00,9,   -999.0,  -999.00,9,  -999.00,9,  -999.00,9,  -999.00,9,   -999.0,-999.0000, -999,9, 1000,   4.2622,  27.3866,   -999.0,9
       RF98-09,  165E,RF-0707,  1,     22,02-12828,2,19981012,1403, 14.0032, 164.9812, 5341,   1009.1,   4.3446,  34.5333,2,   -999.0,9,  34.5352,2,   -999.0,9,  -999.00,9,  -999.00,9,  -999.00,9,  -999.00,9,  -999.00,9, -999.000,9, -999.000,9,  -999.00,9,   -999.0,9,   -999.0,9,-999.0000,9,   -999.0,  9,  -999.00,9,   -999.0,  -999.00,9,  -999.00,9,  -999.00,9,  -999.00,9,   -999.0,-999.0000, -999,9, 1001,   4.2655,  27.3870,   -999.0,9
       RF98-09,  165E,RF-0707,  1,     17,02-12814,2,19981012,1401, 14.0032, 164.9812, 5341,   1009.8,   4.3372,  34.5367,2,   -999.0,9,  34.5346,2,   -999.0,9,  -999.00,9,  -999.00,9,  -999.00,9,  -999.00,9,  -999.00,9, -999.000,9, -999.000,9,  -999.00,9,   -999.0,9,   -999.0,9,-999.0000,9,   -999.0,  9,  -999.00,9,   -999.0,  -999.00,9,  -999.00,9,  -999.00,9,  -999.00,9,   -999.0,-999.0000, -999,9, 1002,   4.2581,  27.3904,   -999.0,9
       RF98-09,  165E,RF-0707,  1,     20,02-12826,2,19981012,1402, 14.0032, 164.9812, 5341,   1009.9,   4.3431,  34.5335,2,   -999.0,9,  34.5324,2,   -999.0,9,  -999.00,9,  -999.00,9,  -999.00,9,  -999.00,9,  -999.00,9, -999.000,9, -999.000,9,  -999.00,9,   -999.0,9,   -999.0,9,-999.0000,9,   -999.0,  9,  -999.00,9,   -999.0,  -999.00,9,  -999.00,9,  -999.00,9,  -999.00,9,   -999.0,-999.0000, -999,9, 1002,   4.2639,  27.3873,   -999.0,9
       RF98-09,  165E,RF-0707,  1,     18,02-12824,2,19981012,1401, 14.0032, 164.9812, 5341,   1010.2,   4.3391,  34.5337,2,   -999.0,9,  34.5318,2,   -999.0,9,  -999.00,9,  -999.00,9,  -999.00,9,  -999.00,9,  -999.00,9, -999.000,9, -999.000,9,  -999.00,9,   -999.0,9,   -999.0,9,-999.0000,9,   -999.0,  9,  -999.00,9,   -999.0,  -999.00,9,  -999.00,9,  -999.00,9,  -999.00,9,   -999.0,-999.0000, -999,9, 1002,   4.2599,  27.3878,   -999.0,9
       RF98-09,  165E,RF-0707,  1,     21,02-12827,2,19981012,1403, 14.0032, 164.9812, 5341,   1011.0,   4.3423,  34.5336,2,   -999.0,9,  34.5374,2,   -999.0,9,  -999.00,9,  -999.00,9,  -999.00,9,  -999.00,9,  -999.00,9, -999.000,9, -999.000,9,  -999.00,9,   -999.0,9,   -999.0,9,-999.0000,9,   -999.0,  9,  -999.00,9,   -999.0,  -999.00,9,  -999.00,9,  -999.00,9,  -999.00,9,   -999.0,-999.0000, -999,9, 1003,   4.2630,  27.3875,   -999.0,9
       RF98-09,  165E,RF-0707,  1,     10,02-12820,2,19981012,1328, 14.0032, 164.9812, 5341,   3040.8,   1.6675,  34.6684,2,   -999.0,9,  34.6672,2,   -999.0,9,  -999.00,9,  -999.00,9,  -999.00,9,  -999.00,9,  -999.00,9, -999.000,9, -999.000,9,  -999.00,9,   -999.0,9,   -999.0,9,-999.0000,9,   -999.0,  9,  -999.00,9,   -999.0,  -999.00,9,  -999.00,9,  -999.00,9,  -999.00,9,   -999.0,-999.0000, -999,9, 3001,   1.4432,  27.7482,   -999.0,9
       RF98-09,  165E,RF-0707,  1,      9,02-12810,2,19981012,1327, 14.0032, 164.9812, 5341,   3041.1,   1.6658,  34.6742,2,   -999.0,9,  34.6666,4,   -999.0,9,  -999.00,9,  -999.00,9,  -999.00,9,  -999.00,9,  -999.00,9, -999.000,9, -999.000,9,  -999.00,9,   -999.0,9,   -999.0,9,-999.0000,9,   -999.0,  9,  -999.00,9,   -999.0,  -999.00,9,  -999.00,9,  -999.00,9,  -999.00,9,   -999.0,-999.0000, -999,9, 3002,   1.4414,  27.7530,   -999.0,9
       RF98-09,  165E,RF-0707,  1,     12,02-12821,2,19981012,1329, 14.0032, 164.9812, 5341,   3041.9,   1.6683,  34.6669,2,   -999.0,9,  34.6591,2,   -999.0,9,  -999.00,9,  -999.00,9,  -999.00,9,  -999.00,9,  -999.00,9, -999.000,9, -999.000,9,  -999.00,9,   -999.0,9,   -999.0,9,-999.0000,9,   -999.0,  9,  -999.00,9,   -999.0,  -999.00,9,  -999.00,9,  -999.00,9,  -999.00,9,   -999.0,-999.0000, -999,9, 3003,   1.4438,  27.7469,   -999.0,9
       RF98-09,  165E,RF-0707,  1,     13,02-13590,2,19981012,1329, 14.0032, 164.9812, 5341,   3042.7,   1.6674,  34.6698,2,   -999.0,9,  34.6666,2,   -999.0,9,  -999.00,9,  -999.00,9,  -999.00,9,  -999.00,9,  -999.00,9, -999.000,9, -999.000,9,  -999.00,9,   -999.0,9,   -999.0,9,-999.0000,9,   -999.0,  9,  -999.00,9,   -999.0,  -999.00,9,  -999.00,9,  -999.00,9,  -999.00,9,   -999.0,-999.0000, -999,9, 3003,   1.4428,  27.7493,   -999.0,9
       RF98-09,  165E,RF-0707,  1,     11,02-12811,2,19981012,1328, 14.0032, 164.9812, 5341,   3043.2,   1.6684,  34.6669,2,   -999.0,9,  34.6662,2,   -999.0,9,  -999.00,9,  -999.00,9,  -999.00,9,  -999.00,9,  -999.00,9, -999.000,9, -999.000,9,  -999.00,9,   -999.0,9,   -999.0,9,-999.0000,9,   -999.0,  9,  -999.00,9,   -999.0,  -999.00,9,  -999.00,9,  -999.00,9,  -999.00,9,   -999.0,-999.0000, -999,9, 3004,   1.4438,  27.7469,   -999.0,9
       RF98-09,  165E,RF-0707,  1,     15,02-12833,2,19981012,1330, 14.0032, 164.9812, 5341,   3043.4,   1.6671,  34.6695,2,   -999.0,9,  34.6668,2,   -999.0,9,  -999.00,9,  -999.00,9,  -999.00,9,  -999.00,9,  -999.00,9, -999.000,9, -999.000,9,  -999.00,9,   -999.0,9,   -999.0,9,-999.0000,9,   -999.0,  9,  -999.00,9,   -999.0,  -999.00,9,  -999.00,9,  -999.00,9,  -999.00,9,   -999.0,-999.0000, -999,9, 3004,   1.4424,  27.7491,   -999.0,9
       RF98-09,  165E,RF-0707,  1,     14,02-13578,2,19981012,1329, 14.0032, 164.9812, 5341,   3043.8,   1.6672,  34.6699,2,   -999.0,9,  34.6672,2,   -999.0,9,  -999.00,9,  -999.00,9,  -999.00,9,  -999.00,9,  -999.00,9, -999.000,9, -999.000,9,  -999.00,9,   -999.0,9,   -999.0,9,-999.0000,9,   -999.0,  9,  -999.00,9,   -999.0,  -999.00,9,  -999.00,9,  -999.00,9,  -999.00,9,   -999.0,-999.0000, -999,9, 3004,   1.4425,  27.7494,   -999.0,9
       RF98-09,  165E,RF-0707,  1,      8,02-13579,2,19981012,1253, 14.0032, 164.9812, 5341,   5422.6,   1.3962,  34.7043,2,   -999.0,9,  34.6288,4,   -999.0,9,  -999.00,9,  -999.00,9,  -999.00,9,  -999.00,9,  -999.00,9, -999.000,9, -999.000,9,  -999.00,9,   -999.0,9,   -999.0,9,-999.0000,9,   -999.0,  9,  -999.00,9,   -999.0,  -999.00,9,  -999.00,9,  -999.00,9,  -999.00,9,   -999.0,-999.0000, -999,9, 5324,   0.9131,  27.8135,   -999.0,9
       RF98-09,  165E,RF-0707,  1,      5,02-12809,2,19981012,1251, 14.0032, 164.9812, 5341,   5423.1,   1.3975,  34.7012,2,   -999.0,9,  34.7018,2,   -999.0,9,  -999.00,9,  -999.00,9,  -999.00,9,  -999.00,9,  -999.00,9, -999.000,9, -999.000,9,  -999.00,9,   -999.0,9,   -999.0,9,-999.0000,9,   -999.0,  9,  -999.00,9,   -999.0,  -999.00,9,  -999.00,9,  -999.00,9,  -999.00,9,   -999.0,-999.0000, -999,9, 5324,   0.9143,  27.8109,   -999.0,9
       RF98-09,  165E,RF-0707,  1,      1,02-12807,2,19981012,1249, 14.0032, 164.9812, 5341,   5423.2,   1.3940,  34.7090,2,   -999.0,9,  34.6993,4,   -999.0,9,  -999.00,9,  -999.00,9,  -999.00,9,  -999.00,9,  -999.00,9, -999.000,9, -999.000,9,  -999.00,9,   -999.0,9,   -999.0,9,-999.0000,9,   -999.0,  9,  -999.00,9,   -999.0,  -999.00,9,  -999.00,9,  -999.00,9,  -999.00,9,   5437.0,-999.0000, -999,9, 5324,   0.9109,  27.8174,   -999.0,9
       RF98-09,  165E,RF-0707,  1,      4,02-12817,2,19981012,1251, 14.0032, 164.9812, 5341,   5423.2,   1.3973,  34.7008,2,   -999.0,9,  34.7010,2,   -999.0,9,  -999.00,9,  -999.00,9,  -999.00,9,  -999.00,9,  -999.00,9, -999.000,9, -999.000,9,  -999.00,9,   -999.0,9,   -999.0,9,-999.0000,9,   -999.0,  9,  -999.00,9,   -999.0,  -999.00,9,  -999.00,9,  -999.00,9,  -999.00,9,   -999.0,-999.0000, -999,9, 5324,   0.9141,  27.8106,   -999.0,9
       RF98-09,  165E,RF-0707,  1,      6,02-12818,2,19981012,1252, 14.0032, 164.9812, 5341,   5423.3,   1.3973,  34.7012,2,   -999.0,9,  34.6999,2,   -999.0,9,  -999.00,9,  -999.00,9,  -999.00,9,  -999.00,9,  -999.00,9, -999.000,9, -999.000,9,  -999.00,9,   -999.0,9,   -999.0,9,-999.0000,9,   -999.0,  9,  -999.00,9,   -999.0,  -999.00,9,  -999.00,9,  -999.00,9,  -999.00,9,   -999.0,-999.0000, -999,9, 5325,   0.9141,  27.8109,   -999.0,9
       RF98-09,  165E,RF-0707,  1,      2,02-13591,2,19981012,1250, 14.0032, 164.9812, 5341,   5423.4,   1.3969,  34.7004,2,   -999.0,9,  34.7006,2,   -999.0,9,  -999.00,9,  -999.00,9,  -999.00,9,  -999.00,9,  -999.00,9, -999.000,9, -999.000,9,  -999.00,9,   -999.0,9,   -999.0,9,-999.0000,9,   -999.0,  9,  -999.00,9,   -999.0,  -999.00,9,  -999.00,9,  -999.00,9,  -999.00,9,   -999.0,-999.0000, -999,9, 5325,   0.9137,  27.8103,   -999.0,9
       RF98-09,  165E,RF-0707,  1,      7,02-12815,2,19981012,1252, 14.0032, 164.9812, 5341,   5423.5,   1.3972,  34.7010,2,   -999.0,9,  34.7006,2,   -999.0,9,  -999.00,9,  -999.00,9,  -999.00,9,  -999.00,9,  -999.00,9, -999.000,9, -999.000,9,  -999.00,9,   -999.0,9,   -999.0,9,-999.0000,9,   -999.0,  9,  -999.00,9,   -999.0,  -999.00,9,  -999.00,9,  -999.00,9,  -999.00,9,   -999.0,-999.0000, -999,9, 5325,   0.9140,  27.8108,   -999.0,9
       RF98-09,  165E,RF-0707,  1,      3,02-12808,2,19981012,1250, 14.0032, 164.9812, 5341,   5423.9,   1.3973,  34.7004,2,   -999.0,9,  34.7006,2,   -999.0,9,  -999.00,9,  -999.00,9,  -999.00,9,  -999.00,9,  -999.00,9, -999.000,9, -999.000,9,  -999.00,9,   -999.0,9,   -999.0,9,-999.0000,9,   -999.0,  9,  -999.00,9,   -999.0,  -999.00,9,  -999.00,9,  -999.00,9,  -999.00,9,   -999.0,-999.0000, -999,9, 5325,   0.9141,  27.8103,   -999.0,9