BOTTLE,20130607MIRCJHATS
EXPOCODE,SECT_ID,STNNBR,CASTNO,SAMPNO,BTLNBR,BTLNBR_FLAG_W,DATE,TIME,LATITUDE,LONGITUDE,DEPTH,CTDPRS,CTDTMP,CTDSAL,CTDSAL_FLAG_W,CTDOXY,CTDOXY_FLAG_W,SALNTY,SALNTY_FLAG_W,OXYGEN,OXYGEN_FLAG_W,SILCAT,SILCAT_FLAG_W,NITRAT,NITRAT_FLAG_W,NO2+NO3,NO2+NO3_FLAG_W,NITRIT,NITRIT_FLAG_W,PHSPHT,PHSPHT_FLAG_W,CFC-11,CFC-11_FLAG_W,CFC-12,CFC-12_FLAG_W,DELC13,DELC13_FLAG_W,TCARBN,TCARBN_FLAG_W,ALKALI,ALKALI_FLAG_W,PH,PH_FLAG_W,PH_TMP,PH_SCALE,PH_NBS,PH_NBS_FLAG_W,C13ERR,TOTALP,TOTALP_FLAG_W,AMMONI,AMMONI_FLAG_W,CHLORA,CHLORA_FLAG_W,PPHYTN,PPHYTN_FLAG_W,REVPRS,REVTMP,DEPTH_,DEPTH_FLAG,CTDDEP,THETA,SIGTHT,DOC,DOC_FLAG_W
,,,,,,,GMT,GMT,,,METER,DBAR,ITS-90,PSS-78,,UMOL/KG,,PSS-78,,UMOL/KG,,UMOL/KG,,UMOL/KG,,UMOL/KG,,UMOL/KG,,UMOL/KG,,PMOL/KG,,PMOL/KG,,/MILLE,,UMOL/KG,,UMOL/KG,,25_DEG_C,,DEG_C,,,,/MILLE,UMOL/KG,,UMOL/KG,,UG/L,,UG/L,,DBAR,ITS-90,METERS,,METERS,DEG_C,,UMOL/L,
       RF98-09,  165E,RF-0696,  1,     -9,      -9,5,19980928,0231, 24.9830, 164.9920, 5924,      0.0,  28.1982,  35.0645,2,   -999.0,9,-999.0000,9,    201.1,2,     1.01,2,  -999.00,9,     0.01,2,     0.00,2,     0.02,2, -999.000,9, -999.000,9,  -999.00,9,   -999.0,9,   -999.0,9,-999.0000,9,   -999.0,  9,     8.26,2,   -999.0,  -999.00,9,  -999.00,9,     0.06,2,     0.02,2,   -999.0,-999.0000, -999,9,    0,  28.1982,  22.3782,   -999.0,9
       RF98-09,  165E,RF-0696,  1,     21,02-12827,2,19980928,0229, 24.9830, 164.9920, 5924,     11.2,  28.2062,  35.0713,2,   -999.0,9,-999.0000,9,    200.3,2,     1.13,2,  -999.00,9,     0.00,2,     0.00,2,     0.01,2, -999.000,9, -999.000,9,  -999.00,9,   -999.0,9,   -999.0,9,-999.0000,9,   -999.0,  9,     8.26,4,   -999.0,  -999.00,9,  -999.00,9,     0.06,2,     0.02,2,   -999.0,-999.0000, -999,9,   11,  28.2035,  22.3815,   -999.0,9
       RF98-09,  165E,RF-0696,  1,     20,02-12826,2,19980928,0228, 24.9830, 164.9920, 5924,     24.6,  28.2043,  35.0747,2,   -999.0,9,-999.0000,9,    203.9,2,     1.20,2,  -999.00,9,     0.02,2,     0.00,2,     0.00,2, -999.000,9, -999.000,9,  -999.00,9,   -999.0,9,   -999.0,9,-999.0000,9,   -999.0,  9,     8.26,2,   -999.0,  -999.00,9,  -999.00,9,     0.06,2,     0.03,2,   -999.0,-999.0000, -999,9,   24,  28.1984,  22.3858,   -999.0,9
       RF98-09,  165E,RF-0696,  1,     19,02-12825,2,19980928,0226, 24.9830, 164.9920, 5924,     51.9,  27.4966,  35.1500,2,   -999.0,9,  35.1630,4,    207.7,2,     1.07,2,  -999.00,9,     0.00,2,     0.00,2,     0.00,2, -999.000,9, -999.000,9,  -999.00,9,   -999.0,9,   -999.0,9,-999.0000,9,   -999.0,  9,     8.25,4,   -999.0,  -999.00,9,  -999.00,9,     0.08,2,     0.04,2,   -999.0,-999.0000, -999,9,   52,  27.4845,  22.6751,   -999.0,9
       RF98-09,  165E,RF-0696,  1,     18,02-12824,2,19980928,0225, 24.9830, 164.9920, 5924,     76.4,  21.8690,  35.0381,2,   -999.0,9,-999.0000,9,    230.0,2,     2.29,2,  -999.00,9,     0.00,2,     0.00,2,     0.02,2, -999.000,9, -999.000,9,  -999.00,9,   -999.0,9,   -999.0,9,-999.0000,9,   -999.0,  9,     8.20,2,   -999.0,  -999.00,9,  -999.00,9,     0.14,2,     0.07,2,   -999.0,-999.0000, -999,9,   76,  21.8540,  24.2876,   -999.0,9
       RF98-09,  165E,RF-0696,  1,     17,02-12814,2,19980928,0224, 24.9830, 164.9920, 5924,    100.8,  19.8858,  34.9613,2,   -999.0,9,  34.9444,4,    217.9,2,     2.36,2,  -999.00,9,     0.01,2,     0.02,2,     0.05,2, -999.000,9, -999.000,9,  -999.00,9,   -999.0,9,   -999.0,9,-999.0000,9,   -999.0,  9,     8.16,4,   -999.0,  -999.00,9,  -999.00,9,     0.24,2,     0.36,2,   -999.0,-999.0000, -999,9,  100,  19.8672,  24.7671,   -999.0,9
       RF98-09,  165E,RF-0696,  1,     16,02-12832,2,19980928,0222, 24.9830, 164.9920, 5924,    126.1,  18.7784,  34.8957,2,   -999.0,9,-999.0000,9,    213.8,2,     2.46,2,  -999.00,9,     1.22,2,     0.13,2,     0.12,2, -999.000,9, -999.000,9,  -999.00,9,   -999.0,9,   -999.0,9,-999.0000,9,   -999.0,  9,     8.14,2,   -999.0,  -999.00,9,  -999.00,9,     0.19,2,     0.30,2,   -999.0,-999.0000, -999,9,  125,  18.7561,  25.0034,   -999.0,9
       RF98-09,  165E,RF-0696,  1,     15,02-12833,2,19980928,0221, 24.9830, 164.9920, 5924,    151.7,  17.9364,  34.8611,2,   -999.0,9,  34.8530,2,    208.4,2,     3.15,2,  -999.00,9,     3.30,2,     0.01,2,     0.22,2, -999.000,9, -999.000,9,  -999.00,9,   -999.0,9,   -999.0,9,-999.0000,9,   -999.0,  9,     8.11,2,   -999.0,  -999.00,9,  -999.00,9,     0.06,2,     0.12,2,   -999.0,-999.0000, -999,9,  151,  17.9104,  25.1877,   -999.0,9
       RF98-09,  165E,RF-0696,  1,     14,02-13578,2,19980928,0220, 24.9830, 164.9920, 5924,    200.6,  16.8572,  34.7945,2,   -999.0,9,  34.7884,2,    206.9,2,     4.47,2,  -999.00,9,     5.19,2,     0.01,2,     0.32,2, -999.000,9, -999.000,9,  -999.00,9,   -999.0,9,   -999.0,9,-999.0000,9,   -999.0,  9,     8.09,2,   -999.0,  -999.00,9,  -999.00,9,     0.01,2,     0.01,2,   -999.0,-999.0000, -999,9,  199,  16.8244,  25.3981,   -999.0,9
       RF98-09,  165E,RF-0696,  1,     13,02-13590,2,19980928,0218, 24.9830, 164.9920, 5924,    249.5,  16.0119,  34.7222,2,   -999.0,9,-999.0000,9,    204.2,2,     5.95,2,  -999.00,9,     6.55,2,     0.01,2,     0.39,2, -999.000,9, -999.000,9,  -999.00,9,   -999.0,9,   -999.0,9,-999.0000,9,   -999.0,  9,     8.08,2,   -999.0,  -999.00,9,  -999.00,9,  -999.00,9,  -999.00,9,   -999.0,-999.0000, -999,9,  248,  15.9724,  25.5402,   -999.0,9
       RF98-09,  165E,RF-0696,  1,     12,02-12821,2,19980928,0216, 24.9830, 164.9920, 5924,    300.6,  14.9930,  34.6362,2,   -999.0,9,  34.6298,2,    207.3,2,     8.13,2,  -999.00,9,     8.22,2,     0.00,2,     0.51,2, -999.000,9, -999.000,9,  -999.00,9,   -999.0,9,   -999.0,9,-999.0000,9,   -999.0,  9,     8.05,4,   -999.0,  -999.00,9,  -999.00,9,  -999.00,9,  -999.00,9,   -999.0,-999.0000, -999,9,  298,  14.9475,  25.7029,   -999.0,9
       RF98-09,  165E,RF-0696,  1,     11,02-12811,2,19980928,0213, 24.9830, 164.9920, 5924,    402.7,  12.9563,  34.4689,2,   -999.0,9,  34.4579,2,    204.4,2,    13.30,2,  -999.00,9,    12.10,2,     0.00,2,     0.77,2, -999.000,9, -999.000,9,  -999.00,9,   -999.0,9,   -999.0,9,-999.0000,9,   -999.0,  9,  -999.00,9,   -999.0,  -999.00,9,  -999.00,9,  -999.00,9,  -999.00,9,   -999.0,-999.0000, -999,9,  400,  12.9009,  26.0012,   -999.0,9
       RF98-09,  165E,RF-0696,  1,     10,02-12820,2,19980928,0211, 24.9830, 164.9920, 5924,    503.1,   9.9964,  34.2310,2,   -999.0,9,  34.2241,2,    186.3,2,    25.19,2,  -999.00,9,    19.01,2,     0.00,2,     1.25,2, -999.000,9, -999.000,9,  -999.00,9,   -999.0,9,   -999.0,9,-999.0000,9,   -999.0,  9,  -999.00,9,   -999.0,  -999.00,9,  -999.00,9,  -999.00,9,  -999.00,9,   -999.0,-999.0000, -999,9,  499,   9.9377,  26.3620,   -999.0,9
       RF98-09,  165E,RF-0696,  1,      9,02-12810,2,19980928,0208, 24.9830, 164.9920, 5924,    604.2,   7.6790,  34.0906,2,   -999.0,9,  34.0859,2,    152.8,2,    42.46,2,  -999.00,9,    26.11,2,     0.00,2,     1.78,2, -999.000,9, -999.000,9,  -999.00,9,   -999.0,9,   -999.0,9,-999.0000,9,   -999.0,  9,  -999.00,9,   -999.0,  -999.00,9,  -999.00,9,  -999.00,9,  -999.00,9,   -999.0,-999.0000, -999,9,  599,   7.6185,  26.6154,   -999.0,9
       RF98-09,  165E,RF-0696,  1,      8,02-13579,2,19980928,0205, 24.9830, 164.9920, 5924,    704.4,   5.8133,  34.0577,2,   -999.0,9,  34.0504,2,    117.3,2,    65.05,2,  -999.00,9,    32.94,2,     0.00,2,     2.32,2, -999.000,9, -999.000,9,  -999.00,9,   -999.0,9,   -999.0,9,-999.0000,9,   -999.0,  9,  -999.00,9,   -999.0,  -999.00,9,  -999.00,9,  -999.00,9,  -999.00,9,   -999.0,-999.0000, -999,9,  699,   5.7522,  26.8389,   -999.0,9
       RF98-09,  165E,RF-0696,  1,      7,02-12815,2,19980928,0202, 24.9830, 164.9920, 5924,    805.8,   4.6181,  34.1476,2,   -999.0,9,  34.1456,2,     69.9,2,    90.31,2,  -999.00,9,    38.54,2,     0.00,2,     2.76,2, -999.000,9, -999.000,9,  -999.00,9,   -999.0,9,   -999.0,9,-999.0000,9,   -999.0,  9,  -999.00,9,   -999.0,  -999.00,9,  -999.00,9,  -999.00,9,  -999.00,9,   -999.0,-999.0000, -999,9,  799,   4.5550,  27.0493,   -999.0,9
       RF98-09,  165E,RF-0696,  1,      6,02-12818,2,19980928,0159, 24.9830, 164.9920, 5924,    908.1,   4.2581,  34.2938,2,   -999.0,9,-999.0000,9,     45.4,2,   102.56,2,  -999.00,9,    41.02,2,     0.00,2,     2.96,2, -999.000,9, -999.000,9,  -999.00,9,   -999.0,9,   -999.0,9,-999.0000,9,   -999.0,  9,  -999.00,9,   -999.0,  -999.00,9,  -999.00,9,  -999.00,9,  -999.00,9,   -999.0,-999.0000, -999,9,  900,   4.1885,  27.2047,   -999.0,9
       RF98-09,  165E,RF-0696,  1,      5,02-12809,2,19980928,0156, 24.9830, 164.9920, 5924,   1008.8,   3.8162,  34.3890,2,   -999.0,9,  34.3661,4,     45.4,2,   113.40,2,  -999.00,9,    41.54,2,     0.00,2,     3.00,2, -999.000,9, -999.000,9,  -999.00,9,   -999.0,9,   -999.0,9,-999.0000,9,   -999.0,  9,  -999.00,9,   -999.0,  -999.00,9,  -999.00,9,  -999.00,9,  -999.00,9,   -999.0,-999.0000, -999,9, 1000,   3.7414,  27.3264,   -999.0,9
       RF98-09,  165E,RF-0696,  1,      4,02-12817,2,19980928,0151, 24.9830, 164.9920, 5924,   1258.0,   3.0605,  34.4876,2,   -999.0,9,  34.4860,2,     56.9,2,   130.06,2,  -999.00,9,    41.39,2,     0.00,2,     2.99,2, -999.000,9, -999.000,9,  -999.00,9,   -999.0,9,   -999.0,9,-999.0000,9,   -999.0,  9,  -999.00,9,   -999.0,  -999.00,9,  -999.00,9,  -999.00,9,  -999.00,9,   -999.0,-999.0000, -999,9, 1246,   2.9720,  27.4786,   -999.0,9
       RF98-09,  165E,RF-0696,  1,      3,02-12808,2,19980928,0147, 24.9830, 164.9920, 5924,   1512.4,   2.5996,  34.5491,2,   -999.0,9,  34.5474,2,     73.6,2,   137.53,2,  -999.00,9,    40.74,2,     0.00,2,     2.93,2, -999.000,9, -999.000,9,  -999.00,9,   -999.0,9,   -999.0,9,-999.0000,9,   -999.0,  9,  -999.00,9,   -999.0,  -999.00,9,  -999.00,9,  -999.00,9,  -999.00,9,   -999.0,-999.0000, -999,9, 1497,   2.4954,  27.5697,   -999.0,9
       RF98-09,  165E,RF-0696,  1,      2,02-13591,2,19980928,0142, 24.9830, 164.9920, 5924,   1765.6,   2.2166,  34.5909,2,   -999.0,9,  34.5910,2,     89.6,2,   142.89,2,  -999.00,9,    39.96,2,     0.00,2,     2.85,2, -999.000,9, -999.000,9,  -999.00,9,   -999.0,9,   -999.0,9,-999.0000,9,   -999.0,  9,  -999.00,9,   -999.0,  -999.00,9,  -999.00,9,  -999.00,9,  -999.00,9,   -999.0,-999.0000, -999,9, 1747,   2.0965,  27.6362,   -999.0,9
       RF98-09,  165E,RF-0696,  1,      1,02-12807,2,19980928,0137, 24.9830, 164.9920, 5924,   2032.1,   1.9524,  34.6185,2,   -999.0,9,  34.6188,2,    100.7,2,   146.98,2,  -999.00,9,    39.39,2,     0.00,2,     2.79,2, -999.000,9, -999.000,9,  -999.00,9,   -999.0,9,   -999.0,9,-999.0000,9,   -999.0,  9,  -999.00,9,   -999.0,  -999.00,9,  -999.00,9,  -999.00,9,  -999.00,9,   2016.0,-999.0000, -999,9, 2009,   1.8141,  27.6805,   -999.0,9