BOTTLE,20130607MIRCJHATS
EXPOCODE,SECT_ID,STNNBR,CASTNO,SAMPNO,BTLNBR,BTLNBR_FLAG_W,DATE,TIME,LATITUDE,LONGITUDE,DEPTH,CTDPRS,CTDTMP,CTDSAL,CTDSAL_FLAG_W,CTDOXY,CTDOXY_FLAG_W,SALNTY,SALNTY_FLAG_W,OXYGEN,OXYGEN_FLAG_W,SILCAT,SILCAT_FLAG_W,NITRAT,NITRAT_FLAG_W,NO2+NO3,NO2+NO3_FLAG_W,NITRIT,NITRIT_FLAG_W,PHSPHT,PHSPHT_FLAG_W,CFC-11,CFC-11_FLAG_W,CFC-12,CFC-12_FLAG_W,DELC13,DELC13_FLAG_W,TCARBN,TCARBN_FLAG_W,ALKALI,ALKALI_FLAG_W,PH,PH_FLAG_W,PH_TMP,PH_SCALE,PH_NBS,PH_NBS_FLAG_W,C13ERR,TOTALP,TOTALP_FLAG_W,AMMONI,AMMONI_FLAG_W,CHLORA,CHLORA_FLAG_W,PPHYTN,PPHYTN_FLAG_W,REVPRS,REVTMP,DEPTH_,DEPTH_FLAG,CTDDEP,THETA,SIGTHT,DOC,DOC_FLAG_W
,,,,,,,GMT,GMT,,,METER,DBAR,ITS-90,PSS-78,,UMOL/KG,,PSS-78,,UMOL/KG,,UMOL/KG,,UMOL/KG,,UMOL/KG,,UMOL/KG,,UMOL/KG,,PMOL/KG,,PMOL/KG,,/MILLE,,UMOL/KG,,UMOL/KG,,25_DEG_C,,DEG_C,,,,/MILLE,UMOL/KG,,UMOL/KG,,UG/L,,UG/L,,DBAR,ITS-90,METERS,,METERS,DEG_C,,UMOL/L,
       RF98-09,  165E,RF-0680,  1,     13,02-13590,2,19980921,1930, 48.9878, 165.0188, 5596,    301.8,   3.4360,  34.0613,2,   -999.0,9,-999.0000,9,     20.7,2,   111.63,2,  -999.00,9,    46.03,2,     0.01,2,     3.23,2, -999.000,9, -999.000,9,  -999.00,9,   -999.0,9,   -999.0,9,-999.0000,9,   -999.0,  9,     7.40,2,   -999.0,  -999.00,9,  -999.00,9,  -999.00,9,  -999.00,9,   -999.0,-999.0000, -999,9,  299,   3.4164,  27.0972,   -999.0,9
       RF98-09,  165E,RF-0680,  1,     12,02-12821,2,19980921,1927, 48.9878, 165.0188, 5596,    403.3,   3.3551,  34.1667,2,   -999.0,9,-999.0000,9,     18.3,2,   120.25,2,  -999.00,9,    45.59,2,     0.00,2,     3.18,2, -999.000,9, -999.000,9,  -999.00,9,   -999.0,9,   -999.0,9,-999.0000,9,   -999.0,  9,  -999.00,9,   -999.0,  -999.00,9,  -999.00,9,  -999.00,9,  -999.00,9,   -999.0,-999.0000, -999,9,  399,   3.3288,  27.1894,   -999.0,9
       RF98-09,  165E,RF-0680,  2,     13,02-13590,2,19980921,2203, 48.9543, 165.0313, 5382,    503.3,   3.2230,  34.2306,2,   -999.0,9,  34.2329,2,   -999.0,9,  -999.00,9,  -999.00,9,  -999.00,9,  -999.00,9,  -999.00,9, -999.000,9, -999.000,9,  -999.00,9,   -999.0,9,   -999.0,9,-999.0000,9,   -999.0,  9,  -999.00,9,   -999.0,  -999.00,9,  -999.00,9,  -999.00,9,  -999.00,9,   -999.0,-999.0000, -999,9,  498,   3.1901,  27.2535,   -999.0,9
       RF98-09,  165E,RF-0680,  1,     11,02-12811,2,19980921,1925, 48.9878, 165.0188, 5596,    504.0,   3.2304,  34.2301,2,   -999.0,9,-999.0000,9,     18.4,2,   126.56,2,  -999.00,9,    44.92,2,     0.00,2,     3.17,2, -999.000,9, -999.000,9,  -999.00,9,   -999.0,9,   -999.0,9,-999.0000,9,   -999.0,  9,  -999.00,9,   -999.0,  -999.00,9,  -999.00,9,  -999.00,9,  -999.00,9,   -999.0,-999.0000, -999,9,  499,   3.1974,  27.2524,   -999.0,9
       RF98-09,  165E,RF-0680,  2,     15,02-12833,2,19980921,2204, 48.9543, 165.0313, 5382,    504.1,   3.2262,  34.2250,2,   -999.0,9,-999.0000,9,   -999.0,9,  -999.00,9,  -999.00,9,  -999.00,9,  -999.00,9,  -999.00,9, -999.000,9, -999.000,9,  -999.00,9,   -999.0,9,   -999.0,9,-999.0000,9,   -999.0,  9,  -999.00,9,   -999.0,  -999.00,9,  -999.00,9,  -999.00,9,  -999.00,9,   -999.0,-999.0000, -999,9,  499,   3.1933,  27.2486,   -999.0,9
       RF98-09,  165E,RF-0680,  2,     14,02-13578,2,19980921,2203, 48.9543, 165.0313, 5382,    504.7,   3.2287,  34.2234,2,   -999.0,9,-999.0000,9,   -999.0,9,  -999.00,9,  -999.00,9,  -999.00,9,  -999.00,9,  -999.00,9, -999.000,9, -999.000,9,  -999.00,9,   -999.0,9,   -999.0,9,-999.0000,9,   -999.0,  9,  -999.00,9,   -999.0,  -999.00,9,  -999.00,9,  -999.00,9,  -999.00,9,   -999.0,-999.0000, -999,9,  500,   3.1957,  27.2471,   -999.0,9
       RF98-09,  165E,RF-0680,  2,     16,02-12832,2,19980921,2204, 48.9543, 165.0313, 5382,    504.8,   3.2262,  34.2233,2,   -999.0,9,-999.0000,9,   -999.0,9,  -999.00,9,  -999.00,9,  -999.00,9,  -999.00,9,  -999.00,9, -999.000,9, -999.000,9,  -999.00,9,   -999.0,9,   -999.0,9,-999.0000,9,   -999.0,  9,  -999.00,9,   -999.0,  -999.00,9,  -999.00,9,  -999.00,9,  -999.00,9,   -999.0,-999.0000, -999,9,  500,   3.1933,  27.2473,   -999.0,9
       RF98-09,  165E,RF-0680,  2,     17,02-12814,2,19980921,2205, 48.9543, 165.0313, 5382,    504.8,   3.2254,  34.2256,2,   -999.0,9,-999.0000,9,   -999.0,9,  -999.00,9,  -999.00,9,  -999.00,9,  -999.00,9,  -999.00,9, -999.000,9, -999.000,9,  -999.00,9,   -999.0,9,   -999.0,9,-999.0000,9,   -999.0,  9,  -999.00,9,   -999.0,  -999.00,9,  -999.00,9,  -999.00,9,  -999.00,9,   -999.0,-999.0000, -999,9,  500,   3.1924,  27.2492,   -999.0,9
       RF98-09,  165E,RF-0680,  1,     10,02-12820,2,19980921,1922, 48.9878, 165.0188, 5596,    604.3,   3.0756,  34.2868,2,   -999.0,9,-999.0000,9,     17.8,2,   133.25,2,  -999.00,9,    45.00,2,     0.00,2,     3.17,2, -999.000,9, -999.000,9,  -999.00,9,   -999.0,9,   -999.0,9,-999.0000,9,   -999.0,  9,  -999.00,9,   -999.0,  -999.00,9,  -999.00,9,  -999.00,9,  -999.00,9,   -999.0,-999.0000, -999,9,  598,   3.0363,  27.3125,   -999.0,9
       RF98-09,  165E,RF-0680,  1,      9,02-12810,2,19980921,1919, 48.9878, 165.0188, 5596,    705.5,   2.9263,  34.3323,2,   -999.0,9,-999.0000,9,     20.8,2,   138.38,2,  -999.00,9,    44.63,2,     0.00,2,     3.17,2, -999.000,9, -999.000,9,  -999.00,9,   -999.0,9,   -999.0,9,-999.0000,9,   -999.0,  9,  -999.00,9,   -999.0,  -999.00,9,  -999.00,9,  -999.00,9,  -999.00,9,   -999.0,-999.0000, -999,9,  698,   2.8806,  27.3628,   -999.0,9
       RF98-09,  165E,RF-0680,  1,      8,02-13579,2,19980921,1916, 48.9878, 165.0188, 5596,    807.1,   2.7889,  34.3706,2,   -999.0,9,-999.0000,9,     20.9,2,   143.84,2,  -999.00,9,    44.95,2,     0.01,2,     3.16,2, -999.000,9, -999.000,9,  -999.00,9,   -999.0,9,   -999.0,9,-999.0000,9,   -999.0,  9,  -999.00,9,   -999.0,  -999.00,9,  -999.00,9,  -999.00,9,  -999.00,9,   -999.0,-999.0000, -999,9,  799,   2.7368,  27.4062,   -999.0,9
       RF98-09,  165E,RF-0680,  1,      7,02-12815,2,19980921,1913, 48.9878, 165.0188, 5596,    908.3,   2.6453,  34.4082,2,   -999.0,9,-999.0000,9,     25.7,2,   147.71,2,  -999.00,9,    44.72,2,     0.00,2,     3.14,2, -999.000,9, -999.000,9,  -999.00,9,   -999.0,9,   -999.0,9,-999.0000,9,   -999.0,  9,  -999.00,9,   -999.0,  -999.00,9,  -999.00,9,  -999.00,9,  -999.00,9,   -999.0,-999.0000, -999,9,  899,   2.5870,  27.4492,   -999.0,9
       RF98-09,  165E,RF-0680,  2,      8,02-13579,2,19980921,2150, 48.9543, 165.0313, 5382,   1008.8,   2.4902,  34.4441,2,   -999.0,9,  34.4459,2,   -999.0,9,  -999.00,9,  -999.00,9,  -999.00,9,  -999.00,9,  -999.00,9, -999.000,9, -999.000,9,  -999.00,9,   -999.0,9,   -999.0,9,-999.0000,9,   -999.0,  9,  -999.00,9,   -999.0,  -999.00,9,  -999.00,9,  -999.00,9,  -999.00,9,   -999.0,-999.0000, -999,9,  998,   2.4258,  27.4917,   -999.0,9
       RF98-09,  165E,RF-0680,  1,      6,02-12818,2,19980921,1909, 48.9878, 165.0188, 5596,   1009.5,   2.5216,  34.4379,2,   -999.0,9,-999.0000,9,     27.7,2,   151.91,2,  -999.00,9,    44.56,2,     0.01,2,     3.13,2, -999.000,9, -999.000,9,  -999.00,9,   -999.0,9,   -999.0,9,-999.0000,9,   -999.0,  9,  -999.00,9,   -999.0,  -999.00,9,  -999.00,9,  -999.00,9,  -999.00,9,   -999.0,-999.0000, -999,9,  999,   2.4569,  27.4840,   -999.0,9
       RF98-09,  165E,RF-0680,  2,     10,02-12820,2,19980921,2151, 48.9543, 165.0313, 5382,   1009.6,   2.4951,  34.4380,2,   -999.0,9,-999.0000,9,   -999.0,9,  -999.00,9,  -999.00,9,  -999.00,9,  -999.00,9,  -999.00,9, -999.000,9, -999.000,9,  -999.00,9,   -999.0,9,   -999.0,9,-999.0000,9,   -999.0,  9,  -999.00,9,   -999.0,  -999.00,9,  -999.00,9,  -999.00,9,  -999.00,9,   -999.0,-999.0000, -999,9,  999,   2.4306,  27.4863,   -999.0,9
       RF98-09,  165E,RF-0680,  2,      9,02-12810,2,19980921,2150, 48.9543, 165.0313, 5382,   1009.6,   2.4943,  34.4386,2,   -999.0,9,-999.0000,9,   -999.0,9,  -999.00,9,  -999.00,9,  -999.00,9,  -999.00,9,  -999.00,9, -999.000,9, -999.000,9,  -999.00,9,   -999.0,9,   -999.0,9,-999.0000,9,   -999.0,  9,  -999.00,9,   -999.0,  -999.00,9,  -999.00,9,  -999.00,9,  -999.00,9,   -999.0,-999.0000, -999,9,  999,   2.4298,  27.4869,   -999.0,9
       RF98-09,  165E,RF-0680,  2,     11,02-12811,2,19980921,2151, 48.9543, 165.0313, 5382,   1010.2,   2.4944,  34.4386,2,   -999.0,9,-999.0000,9,   -999.0,9,  -999.00,9,  -999.00,9,  -999.00,9,  -999.00,9,  -999.00,9, -999.000,9, -999.000,9,  -999.00,9,   -999.0,9,   -999.0,9,-999.0000,9,   -999.0,  9,  -999.00,9,   -999.0,  -999.00,9,  -999.00,9,  -999.00,9,  -999.00,9,   -999.0,-999.0000, -999,9,  999,   2.4298,  27.4869,   -999.0,9
       RF98-09,  165E,RF-0680,  2,     12,02-12821,2,19980921,2152, 48.9543, 165.0313, 5382,   1010.6,   2.4944,  34.4395,2,   -999.0,9,-999.0000,9,   -999.0,9,  -999.00,9,  -999.00,9,  -999.00,9,  -999.00,9,  -999.00,9, -999.000,9, -999.000,9,  -999.00,9,   -999.0,9,   -999.0,9,-999.0000,9,   -999.0,  9,  -999.00,9,   -999.0,  -999.00,9,  -999.00,9,  -999.00,9,  -999.00,9,   -999.0,-999.0000, -999,9, 1000,   2.4298,  27.4876,   -999.0,9
       RF98-09,  165E,RF-0680,  1,      5,02-12809,2,19980921,1901, 48.9878, 165.0188, 5596,   1263.2,   2.2420,  34.5040,2,   -999.0,9,-999.0000,9,     38.1,2,   159.34,2,  -999.00,9,    43.86,2,     0.01,2,     3.10,2, -999.000,9, -999.000,9,  -999.00,9,   -999.0,9,   -999.0,9,-999.0000,9,   -999.0,  9,  -999.00,9,   -999.0,  -999.00,9,  -999.00,9,  -999.00,9,  -999.00,9,   -999.0,-999.0000, -999,9, 1249,   2.1611,  27.5614,   -999.0,9
       RF98-09,  165E,RF-0680,  1,      4,02-12817,2,19980921,1855, 48.9878, 165.0188, 5596,   1513.1,   2.0384,  34.5542,2,   -999.0,9,-999.0000,9,     52.5,2,   162.43,2,  -999.00,9,    42.92,2,     0.00,2,     3.03,2, -999.000,9, -999.000,9,  -999.00,9,   -999.0,9,   -999.0,9,-999.0000,9,   -999.0,  9,  -999.00,9,   -999.0,  -999.00,9,  -999.00,9,  -999.00,9,  -999.00,9,   -999.0,-999.0000, -999,9, 1495,   1.9407,  27.6192,   -999.0,9
       RF98-09,  165E,RF-0680,  1,      3,02-12808,2,19980921,1844, 48.9878, 165.0188, 5596,   1765.7,   1.8936,  34.5874,2,   -999.0,9,-999.0000,9,   -999.0,9,  -999.00,9,  -999.00,9,  -999.00,9,  -999.00,9,  -999.00,9, -999.000,9, -999.000,9,  -999.00,9,   -999.0,9,   -999.0,9,-999.0000,9,   -999.0,  9,  -999.00,9,   -999.0,  -999.00,9,  -999.00,9,  -999.00,9,  -999.00,9,   -999.0,-999.0000, -999,9, 1743,   1.7779,  27.6583,   -999.0,9
       RF98-09,  165E,RF-0680,  2,      1,02-12807,2,19980921,2128, 48.9543, 165.0313, 5382,   2028.5,   1.7823,  34.6083,2,   -999.0,9,  34.6139,2,   -999.0,9,  -999.00,9,  -999.00,9,  -999.00,9,  -999.00,9,  -999.00,9, -999.000,9, -999.000,9,  -999.00,9,   -999.0,9,   -999.0,9,-999.0000,9,   -999.0,  9,  -999.00,9,   -999.0,  -999.00,9,  -999.00,9,  -999.00,9,  -999.00,9,   2015.0,-999.0000, -999,9, 2002,   1.6469,  27.6850,   -999.0,9
       RF98-09,  165E,RF-0680,  2,      2,02-13591,2,19980921,2129, 48.9543, 165.0313, 5382,   2028.8,   1.7849,  34.6032,2,   -999.0,9,-999.0000,9,   -999.0,9,  -999.00,9,  -999.00,9,  -999.00,9,  -999.00,9,  -999.00,9, -999.000,9, -999.000,9,  -999.00,9,   -999.0,9,   -999.0,9,-999.0000,9,   -999.0,  9,  -999.00,9,   -999.0,  -999.00,9,  -999.00,9,  -999.00,9,  -999.00,9,   -999.0,-999.0000, -999,9, 2002,   1.6494,  27.6807,   -999.0,9
       RF98-09,  165E,RF-0680,  2,      3,02-12808,2,19980921,2129, 48.9543, 165.0313, 5382,   2029.1,   1.7860,  34.6006,2,   -999.0,9,-999.0000,9,   -999.0,9,  -999.00,9,  -999.00,9,  -999.00,9,  -999.00,9,  -999.00,9, -999.000,9, -999.000,9,  -999.00,9,   -999.0,9,   -999.0,9,-999.0000,9,   -999.0,  9,  -999.00,9,   -999.0,  -999.00,9,  -999.00,9,  -999.00,9,  -999.00,9,   -999.0,-999.0000, -999,9, 2002,   1.6505,  27.6786,   -999.0,9
       RF98-09,  165E,RF-0680,  2,      4,02-12817,2,19980921,2130, 48.9543, 165.0313, 5382,   2029.1,   1.7850,  34.6054,2,   -999.0,9,-999.0000,9,   -999.0,9,  -999.00,9,  -999.00,9,  -999.00,9,  -999.00,9,  -999.00,9, -999.000,9, -999.000,9,  -999.00,9,   -999.0,9,   -999.0,9,-999.0000,9,   -999.0,  9,  -999.00,9,   -999.0,  -999.00,9,  -999.00,9,  -999.00,9,  -999.00,9,   -999.0,-999.0000, -999,9, 2002,   1.6495,  27.6825,   -999.0,9
       RF98-09,  165E,RF-0680,  2,      7,02-12815,2,19980921,2131, 48.9543, 165.0313, 5382,   2029.6,   1.7850,  34.6063,2,   -999.0,9,-999.0000,9,   -999.0,9,  -999.00,9,  -999.00,9,  -999.00,9,  -999.00,9,  -999.00,9, -999.000,9, -999.000,9,  -999.00,9,   -999.0,9,   -999.0,9,-999.0000,9,   -999.0,  9,  -999.00,9,   -999.0,  -999.00,9,  -999.00,9,  -999.00,9,  -999.00,9,   -999.0,-999.0000, -999,9, 2003,   1.6494,  27.6832,   -999.0,9
       RF98-09,  165E,RF-0680,  2,      5,02-12809,2,19980921,2130, 48.9543, 165.0313, 5382,   2029.7,   1.7849,  34.6055,2,   -999.0,9,-999.0000,9,   -999.0,9,  -999.00,9,  -999.00,9,  -999.00,9,  -999.00,9,  -999.00,9, -999.000,9, -999.000,9,  -999.00,9,   -999.0,9,   -999.0,9,-999.0000,9,   -999.0,  9,  -999.00,9,   -999.0,  -999.00,9,  -999.00,9,  -999.00,9,  -999.00,9,   -999.0,-999.0000, -999,9, 2003,   1.6493,  27.6826,   -999.0,9
       RF98-09,  165E,RF-0680,  2,      6,02-12818,2,19980921,2130, 48.9543, 165.0313, 5382,   2029.7,   1.7859,  34.6030,2,   -999.0,9,-999.0000,9,   -999.0,9,  -999.00,9,  -999.00,9,  -999.00,9,  -999.00,9,  -999.00,9, -999.000,9, -999.000,9,  -999.00,9,   -999.0,9,   -999.0,9,-999.0000,9,   -999.0,  9,  -999.00,9,   -999.0,  -999.00,9,  -999.00,9,  -999.00,9,  -999.00,9,   -999.0,-999.0000, -999,9, 2003,   1.6504,  27.6804,   -999.0,9
       RF98-09,  165E,RF-0680,  1,      2,02-13591,4,19980921,1831, 48.9878, 165.0188, 5596,   2056.4,   1.7572,  34.6163,2,   -999.0,9,-999.0000,9,     86.1,2,   162.27,2,  -999.00,9,    40.80,2,     0.01,2,     2.88,2, -999.000,9, -999.000,9,  -999.00,9,   -999.0,9,   -999.0,9,-999.0000,9,   -999.0,  9,  -999.00,9,   -999.0,  -999.00,9,  -999.00,9,  -999.00,9,  -999.00,9,   -999.0,-999.0000, -999,9, 2029,   1.6198,  27.6934,   -999.0,9