BOTTLE,20130607MIRCJHATS
EXPOCODE,SECT_ID,STNNBR,CASTNO,SAMPNO,BTLNBR,BTLNBR_FLAG_W,DATE,TIME,LATITUDE,LONGITUDE,DEPTH,CTDPRS,CTDTMP,CTDSAL,CTDSAL_FLAG_W,CTDOXY,CTDOXY_FLAG_W,SALNTY,SALNTY_FLAG_W,OXYGEN,OXYGEN_FLAG_W,SILCAT,SILCAT_FLAG_W,NITRAT,NITRAT_FLAG_W,NO2+NO3,NO2+NO3_FLAG_W,NITRIT,NITRIT_FLAG_W,PHSPHT,PHSPHT_FLAG_W,CFC-11,CFC-11_FLAG_W,CFC-12,CFC-12_FLAG_W,DELC13,DELC13_FLAG_W,TCARBN,TCARBN_FLAG_W,ALKALI,ALKALI_FLAG_W,PH,PH_FLAG_W,PH_TMP,PH_SCALE,PH_NBS,PH_NBS_FLAG_W,C13ERR,TOTALP,TOTALP_FLAG_W,AMMONI,AMMONI_FLAG_W,CHLORA,CHLORA_FLAG_W,PPHYTN,PPHYTN_FLAG_W,REVPRS,REVTMP,DEPTH_,DEPTH_FLAG,CTDDEP,THETA,SIGTHT,DOC,DOC_FLAG_W
,,,,,,,GMT,GMT,,,METER,DBAR,ITS-90,PSS-78,,UMOL/KG,,PSS-78,,UMOL/KG,,UMOL/KG,,UMOL/KG,,UMOL/KG,,UMOL/KG,,UMOL/KG,,PMOL/KG,,PMOL/KG,,/MILLE,,UMOL/KG,,UMOL/KG,,25_DEG_C,,DEG_C,,,,/MILLE,UMOL/KG,,UMOL/KG,,UG/L,,UG/L,,DBAR,ITS-90,METERS,,METERS,DEG_C,,UMOL/L,
       RF98-09,  165E,RF-0688,  1,     14,02-13578,2,19980925,1914, 32.9880, 164.9818, 6204,    253.2,  12.4394,  34.4417,2,   -999.0,9,-999.0000,9,    214.2,2,    14.52,2,  -999.00,9,    11.77,2,     0.00,2,     0.75,2, -999.000,9, -999.000,9,  -999.00,9,   -999.0,9,   -999.0,9,-999.0000,9,   -999.0,  9,     8.02,2,   -999.0,  -999.00,9,  -999.00,9,  -999.00,9,  -999.00,9,   -999.0,-999.0000, -999,9,  251,  12.4057,  26.0774,   -999.0,9
       RF98-09,  165E,RF-0688,  1,     13,02-13590,2,19980925,1912, 32.9880, 164.9818, 6204,    304.7,  11.3814,  34.3589,2,   -999.0,9,-999.0000,9,    216.6,2,    18.23,2,  -999.00,9,    13.78,2,     0.00,2,     0.91,2, -999.000,9, -999.000,9,  -999.00,9,   -999.0,9,   -999.0,9,-999.0000,9,   -999.0,  9,     7.99,2,   -999.0,  -999.00,9,  -999.00,9,  -999.00,9,  -999.00,9,   -999.0,-999.0000, -999,9,  302,  11.3431,  26.2138,   -999.0,9
       RF98-09,  165E,RF-0688,  1,     12,02-12821,2,19980925,1909, 32.9880, 164.9818, 6204,    404.0,   9.3804,  34.1848,2,   -999.0,9,-999.0000,9,    206.4,2,    26.57,2,  -999.00,9,    18.23,2,     0.00,2,     1.23,2, -999.000,9, -999.000,9,  -999.00,9,   -999.0,9,   -999.0,9,-999.0000,9,   -999.0,  9,  -999.00,9,   -999.0,  -999.00,9,  -999.00,9,  -999.00,9,  -999.00,9,   -999.0,-999.0000, -999,9,  401,   9.3353,  26.4258,   -999.0,9
       RF98-09,  165E,RF-0688,  1,     11,02-12811,2,19980925,1907, 32.9880, 164.9818, 6204,    505.6,   7.3607,  34.0421,2,   -999.0,9,-999.0000,9,    170.7,2,    43.22,2,  -999.00,9,    25.23,2,     0.00,2,     1.73,2, -999.000,9, -999.000,9,  -999.00,9,   -999.0,9,   -999.0,9,-999.0000,9,   -999.0,  9,  -999.00,9,   -999.0,  -999.00,9,  -999.00,9,  -999.00,9,  -999.00,9,   -999.0,-999.0000, -999,9,  501,   7.3117,  26.6209,   -999.0,9
       RF98-09,  165E,RF-0688,  1,     10,02-12820,2,19980925,1904, 32.9880, 164.9818, 6204,    607.0,   5.9103,  34.0109,2,   -999.0,9,-999.0000,9,    135.6,2,    59.72,2,  -999.00,9,    30.42,2,     0.00,2,     2.15,2, -999.000,9, -999.000,9,  -999.00,9,   -999.0,9,   -999.0,9,-999.0000,9,   -999.0,  9,  -999.00,9,   -999.0,  -999.00,9,  -999.00,9,  -999.00,9,  -999.00,9,   -999.0,-999.0000, -999,9,  602,   5.8577,  26.7888,   -999.0,9
       RF98-09,  165E,RF-0688,  1,      9,02-12810,2,19980925,1902, 32.9880, 164.9818, 6204,    708.0,   4.7751,  34.0851,2,   -999.0,9,-999.0000,9,     91.6,2,    83.04,2,  -999.00,9,    36.41,2,     0.00,2,     2.60,2, -999.000,9, -999.000,9,  -999.00,9,   -999.0,9,   -999.0,9,-999.0000,9,   -999.0,  9,  -999.00,9,   -999.0,  -999.00,9,  -999.00,9,  -999.00,9,  -999.00,9,   -999.0,-999.0000, -999,9,  702,   4.7193,  26.9815,   -999.0,9
       RF98-09,  165E,RF-0688,  1,      8,02-13579,2,19980925,1859, 32.9880, 164.9818, 6204,    805.5,   4.2488,  34.1629,2,   -999.0,9,-999.0000,9,     66.3,2,    97.82,2,  -999.00,9,    38.91,2,     0.00,4,     2.78,2, -999.000,9, -999.000,9,  -999.00,9,   -999.0,9,   -999.0,9,-999.0000,9,   -999.0,  9,  -999.00,9,   -999.0,  -999.00,9,  -999.00,9,  -999.00,9,  -999.00,9,   -999.0,-999.0000, -999,9,  798,   4.1879,  27.1007,   -999.0,9
       RF98-09,  165E,RF-0688,  1,      7,02-12815,2,19980925,1856, 32.9880, 164.9818, 6204,    909.5,   3.8503,  34.2459,2,   -999.0,9,-999.0000,9,     49.3,2,   110.58,2,  -999.00,9,    40.58,2,     0.00,2,     2.91,2, -999.000,9, -999.000,9,  -999.00,9,   -999.0,9,   -999.0,9,-999.0000,9,   -999.0,  9,  -999.00,9,   -999.0,  -999.00,9,  -999.00,9,  -999.00,9,  -999.00,9,   -999.0,-999.0000, -999,9,  901,   3.7836,  27.2082,   -999.0,9
       RF98-09,  165E,RF-0688,  1,      6,02-12818,2,19980925,1854, 32.9880, 164.9818, 6204,   1009.6,   3.4566,  34.3182,2,   -999.0,9,-999.0000,9,     41.4,2,   122.20,2,  -999.00,9,    41.65,2,     0.00,2,     3.01,2, -999.000,9, -999.000,9,  -999.00,9,   -999.0,9,   -999.0,9,-999.0000,9,   -999.0,  9,  -999.00,9,   -999.0,  -999.00,9,  -999.00,9,  -999.00,9,  -999.00,9,   -999.0,-999.0000, -999,9, 1000,   3.3847,  27.3050,   -999.0,9
       RF98-09,  165E,RF-0688,  1,      5,02-12809,2,19980925,1849, 32.9880, 164.9818, 6204,   1260.5,   2.7806,  34.4402,2,   -999.0,9,-999.0000,9,     38.2,2,   141.31,2,  -999.00,9,    42.45,2,     0.00,2,     3.07,2, -999.000,9, -999.000,9,  -999.00,9,   -999.0,9,   -999.0,9,-999.0000,9,   -999.0,  9,  -999.00,9,   -999.0,  -999.00,9,  -999.00,9,  -999.00,9,  -999.00,9,   -999.0,-999.0000, -999,9, 1248,   2.6947,  27.4654,   -999.0,9
       RF98-09,  165E,RF-0688,  1,      3,02-12808,2,19980925,1843, 32.9880, 164.9818, 6204,   1513.5,   2.4706,  34.5127,2,   -999.0,9,-999.0000,9,     44.6,2,   148.66,2,  -999.00,9,    42.40,2,     0.00,2,     3.05,2, -999.000,9, -999.000,9,  -999.00,9,   -999.0,9,   -999.0,9,-999.0000,9,   -999.0,  9,  -999.00,9,   -999.0,  -999.00,9,  -999.00,9,  -999.00,9,  -999.00,9,   -999.0,-999.0000, -999,9, 1497,   2.3679,  27.5514,   -999.0,9
       RF98-09,  165E,RF-0688,  1,      4,02-12817,2,19980925,1844, 32.9880, 164.9818, 6204,   1516.1,   2.4747,  34.5057,2,   -999.0,9,-999.0000,9,     45.3,2,   148.57,2,  -999.00,9,    42.33,2,     0.00,2,     3.05,2, -999.000,9, -999.000,9,  -999.00,9,   -999.0,9,   -999.0,9,-999.0000,9,   -999.0,  9,  -999.00,9,   -999.0,  -999.00,9,  -999.00,9,  -999.00,9,  -999.00,9,   -999.0,-999.0000, -999,9, 1500,   2.3718,  27.5455,   -999.0,9
       RF98-09,  165E,RF-0688,  1,      2,02-13591,2,19980925,1838, 32.9880, 164.9818, 6204,   1767.3,   2.1366,  34.5641,2,   -999.0,9,-999.0000,9,     59.9,2,   155.33,2,  -999.00,9,    41.61,2,     0.00,2,     2.99,2, -999.000,9, -999.000,9,  -999.00,9,   -999.0,9,   -999.0,9,-999.0000,9,   -999.0,  9,  -999.00,9,   -999.0,  -999.00,9,  -999.00,9,  -999.00,9,  -999.00,9,   -999.0,-999.0000, -999,9, 1747,   2.0177,  27.6210,   -999.0,9
       RF98-09,  165E,RF-0688,  2,     16,02-12832,2,19980925,2350, 32.9510, 164.8773, 6216,   2022.7,   1.9655,  34.5964,2,   -999.0,9,-999.0000,9,   -999.0,9,  -999.00,9,  -999.00,9,  -999.00,9,  -999.00,9,  -999.00,9, -999.000,9, -999.000,9,  -999.00,9,   -999.0,9,   -999.0,9,-999.0000,9,   -999.0,  9,  -999.00,9,   -999.0,  -999.00,9,  -999.00,9,  -999.00,9,  -999.00,9,   -999.0,-999.0000, -999,9, 1999,   1.8278,  27.6617,   -999.0,9
       RF98-09,  165E,RF-0688,  2,     17,02-12814,2,19980925,2351, 32.9510, 164.8773, 6216,   2028.6,   1.9587,  34.5902,2,   -999.0,9,  34.5277,4,   -999.0,9,  -999.00,9,  -999.00,9,  -999.00,9,  -999.00,9,  -999.00,9, -999.000,9, -999.000,9,  -999.00,9,   -999.0,9,   -999.0,9,-999.0000,9,   -999.0,  9,  -999.00,9,   -999.0,  -999.00,9,  -999.00,9,  -999.00,9,  -999.00,9,   -999.0,-999.0000, -999,9, 2005,   1.8206,  27.6573,   -999.0,9
       RF98-09,  165E,RF-0688,  2,     18,02-12824,2,19980925,2351, 32.9510, 164.8773, 6216,   2034.7,   1.9569,  34.5913,2,   -999.0,9,-999.0000,9,   -999.0,9,  -999.00,9,  -999.00,9,  -999.00,9,  -999.00,9,  -999.00,9, -999.000,9, -999.000,9,  -999.00,9,   -999.0,9,   -999.0,9,-999.0000,9,   -999.0,  9,  -999.00,9,   -999.0,  -999.00,9,  -999.00,9,  -999.00,9,  -999.00,9,   -999.0,-999.0000, -999,9, 2011,   1.8183,  27.6584,   -999.0,9
       RF98-09,  165E,RF-0688,  2,     19,02-12825,2,19980925,2352, 32.9510, 164.8773, 6216,   2038.4,   1.9531,  34.5942,2,   -999.0,9,-999.0000,9,   -999.0,9,  -999.00,9,  -999.00,9,  -999.00,9,  -999.00,9,  -999.00,9, -999.000,9, -999.000,9,  -999.00,9,   -999.0,9,   -999.0,9,-999.0000,9,   -999.0,  9,  -999.00,9,   -999.0,  -999.00,9,  -999.00,9,  -999.00,9,  -999.00,9,   -999.0,-999.0000, -999,9, 2014,   1.8143,  27.6610,   -999.0,9
       RF98-09,  165E,RF-0688,  2,     20,02-12826,2,19980925,2352, 32.9510, 164.8773, 6216,   2042.3,   1.9507,  34.5947,2,   -999.0,9,-999.0000,9,   -999.0,9,  -999.00,9,  -999.00,9,  -999.00,9,  -999.00,9,  -999.00,9, -999.000,9, -999.000,9,  -999.00,9,   -999.0,9,   -999.0,9,-999.0000,9,   -999.0,  9,  -999.00,9,   -999.0,  -999.00,9,  -999.00,9,  -999.00,9,  -999.00,9,   -999.0,-999.0000, -999,9, 2018,   1.8116,  27.6616,   -999.0,9
       RF98-09,  165E,RF-0688,  2,     21,02-12827,2,19980925,2353, 32.9510, 164.8773, 6216,   2046.0,   1.9487,  34.5962,2,   -999.0,9,-999.0000,9,   -999.0,9,  -999.00,9,  -999.00,9,  -999.00,9,  -999.00,9,  -999.00,9, -999.000,9, -999.000,9,  -999.00,9,   -999.0,9,   -999.0,9,-999.0000,9,   -999.0,  9,  -999.00,9,   -999.0,  -999.00,9,  -999.00,9,  -999.00,9,  -999.00,9,   -999.0,-999.0000, -999,9, 2022,   1.8093,  27.6630,   -999.0,9
       RF98-09,  165E,RF-0688,  2,     22,02-12828,2,19980925,2353, 32.9510, 164.8773, 6216,   2051.0,   1.9497,  34.5917,2,   -999.0,9,-999.0000,9,   -999.0,9,  -999.00,9,  -999.00,9,  -999.00,9,  -999.00,9,  -999.00,9, -999.000,9, -999.000,9,  -999.00,9,   -999.0,9,   -999.0,9,-999.0000,9,   -999.0,  9,  -999.00,9,   -999.0,  -999.00,9,  -999.00,9,  -999.00,9,  -999.00,9,   -999.0,-999.0000, -999,9, 2027,   1.8099,  27.6594,   -999.0,9
       RF98-09,  165E,RF-0688,  1,      1,02-12807,2,19980925,1833, 32.9880, 164.9818, 6204,   2054.8,   1.8841,  34.6028,2,   -999.0,9,-999.0000,9,     80.4,2,   157.64,2,  -999.00,9,    40.57,2,     0.00,2,     2.89,2, -999.000,9, -999.000,9,  -999.00,9,   -999.0,9,   -999.0,9,-999.0000,9,   -999.0,  9,  -999.00,9,   -999.0,  -999.00,9,  -999.00,9,  -999.00,9,  -999.00,9,   2040.0,-999.0000, -999,9, 2030,   1.7449,  27.6732,   -999.0,9
       RF98-09,  165E,RF-0688,  2,     15,02-12833,2,19980925,2232, 32.9510, 164.8773, 6216,   3543.7,   1.5187,  34.6765,2,   -999.0,9,  34.6707,2,   -999.0,9,  -999.00,9,  -999.00,9,  -999.00,9,  -999.00,9,  -999.00,9, -999.000,9, -999.000,9,  -999.00,9,   -999.0,9,   -999.0,9,-999.0000,9,   -999.0,  9,  -999.00,9,   -999.0,  -999.00,9,  -999.00,9,  -999.00,9,  -999.00,9,   -999.0,-999.0000, -999,9, 3489,   1.2476,  27.7685,   -999.0,9
       RF98-09,  165E,RF-0688,  2,     14,02-13578,2,19980925,2231, 32.9510, 164.8773, 6216,   3546.1,   1.5209,  34.6728,2,   -999.0,9,-999.0000,9,   -999.0,9,  -999.00,9,  -999.00,9,  -999.00,9,  -999.00,9,  -999.00,9, -999.000,9, -999.000,9,  -999.00,9,   -999.0,9,   -999.0,9,-999.0000,9,   -999.0,  9,  -999.00,9,   -999.0,  -999.00,9,  -999.00,9,  -999.00,9,  -999.00,9,   -999.0,-999.0000, -999,9, 3492,   1.2495,  27.7655,   -999.0,9
       RF98-09,  165E,RF-0688,  2,     13,02-13590,2,19980925,2231, 32.9510, 164.8773, 6216,   3549.4,   1.5216,  34.6704,2,   -999.0,9,-999.0000,9,   -999.0,9,  -999.00,9,  -999.00,9,  -999.00,9,  -999.00,9,  -999.00,9, -999.000,9, -999.000,9,  -999.00,9,   -999.0,9,   -999.0,9,-999.0000,9,   -999.0,  9,  -999.00,9,   -999.0,  -999.00,9,  -999.00,9,  -999.00,9,  -999.00,9,   -999.0,-999.0000, -999,9, 3495,   1.2499,  27.7635,   -999.0,9
       RF98-09,  165E,RF-0688,  2,     12,02-12821,2,19980925,2231, 32.9510, 164.8773, 6216,   3549.8,   1.5196,  34.6744,2,   -999.0,9,  34.6735,2,   -999.0,9,  -999.00,9,  -999.00,9,  -999.00,9,  -999.00,9,  -999.00,9, -999.000,9, -999.000,9,  -999.00,9,   -999.0,9,   -999.0,9,-999.0000,9,   -999.0,  9,  -999.00,9,   -999.0,  -999.00,9,  -999.00,9,  -999.00,9,  -999.00,9,   -999.0,-999.0000, -999,9, 3495,   1.2479,  27.7668,   -999.0,9
       RF98-09,  165E,RF-0688,  2,      9,02-12810,2,19980925,2229, 32.9510, 164.8773, 6216,   3551.4,   1.5179,  34.6791,2,   -999.0,9,  34.6729,2,   -999.0,9,  -999.00,9,  -999.00,9,  -999.00,9,  -999.00,9,  -999.00,9, -999.000,9, -999.000,9,  -999.00,9,   -999.0,9,   -999.0,9,-999.0000,9,   -999.0,  9,  -999.00,9,   -999.0,  -999.00,9,  -999.00,9,  -999.00,9,  -999.00,9,   -999.0,-999.0000, -999,9, 3497,   1.2461,  27.7707,   -999.0,9
       RF98-09,  165E,RF-0688,  2,     11,02-12811,2,19980925,2230, 32.9510, 164.8773, 6216,   3551.6,   1.5203,  34.6737,2,   -999.0,9,-999.0000,9,   -999.0,9,  -999.00,9,  -999.00,9,  -999.00,9,  -999.00,9,  -999.00,9, -999.000,9, -999.000,9,  -999.00,9,   -999.0,9,   -999.0,9,-999.0000,9,   -999.0,  9,  -999.00,9,   -999.0,  -999.00,9,  -999.00,9,  -999.00,9,  -999.00,9,   -999.0,-999.0000, -999,9, 3497,   1.2484,  27.7663,   -999.0,9
       RF98-09,  165E,RF-0688,  2,     10,02-12820,2,19980925,2230, 32.9510, 164.8773, 6216,   3552.4,   1.5208,  34.6732,2,   -999.0,9,-999.0000,9,   -999.0,9,  -999.00,9,  -999.00,9,  -999.00,9,  -999.00,9,  -999.00,9, -999.000,9, -999.000,9,  -999.00,9,   -999.0,9,   -999.0,9,-999.0000,9,   -999.0,  9,  -999.00,9,   -999.0,  -999.00,9,  -999.00,9,  -999.00,9,  -999.00,9,   -999.0,-999.0000, -999,9, 3498,   1.2488,  27.7659,   -999.0,9
       RF98-09,  165E,RF-0688,  2,      8,02-13579,2,19980925,2213, 32.9510, 164.8773, 6216,   4719.1,   1.4952,  34.6896,2,   -999.0,9,  34.6514,4,   -999.0,9,  -999.00,9,  -999.00,9,  -999.00,9,  -999.00,9,  -999.00,9, -999.000,9, -999.000,9,  -999.00,9,   -999.0,9,   -999.0,9,-999.0000,9,   -999.0,  9,  -999.00,9,   -999.0,  -999.00,9,  -999.00,9,  -999.00,9,  -999.00,9,   -999.0,-999.0000, -999,9, 4635,   1.0948,  27.7896,   -999.0,9
       RF98-09,  165E,RF-0688,  2,      7,02-12815,2,19980925,2213, 32.9510, 164.8773, 6216,   4729.2,   1.4946,  34.6912,2,   -999.0,9,  34.6880,2,   -999.0,9,  -999.00,9,  -999.00,9,  -999.00,9,  -999.00,9,  -999.00,9, -999.000,9, -999.000,9,  -999.00,9,   -999.0,9,   -999.0,9,-999.0000,9,   -999.0,  9,  -999.00,9,   -999.0,  -999.00,9,  -999.00,9,  -999.00,9,  -999.00,9,   -999.0,-999.0000, -999,9, 4644,   1.0930,  27.7910,   -999.0,9
       RF98-09,  165E,RF-0688,  2,      6,02-12818,2,19980925,2213, 32.9510, 164.8773, 6216,   4738.3,   1.4951,  34.6902,2,   -999.0,9,  34.6880,2,   -999.0,9,  -999.00,9,  -999.00,9,  -999.00,9,  -999.00,9,  -999.00,9, -999.000,9, -999.000,9,  -999.00,9,   -999.0,9,   -999.0,9,-999.0000,9,   -999.0,  9,  -999.00,9,   -999.0,  -999.00,9,  -999.00,9,  -999.00,9,  -999.00,9,   -999.0,-999.0000, -999,9, 4653,   1.0924,  27.7902,   -999.0,9
       RF98-09,  165E,RF-0688,  2,      5,02-12809,2,19980925,2212, 32.9510, 164.8773, 6216,   4747.1,   1.4971,  34.6895,2,   -999.0,9,  34.6873,2,   -999.0,9,  -999.00,9,  -999.00,9,  -999.00,9,  -999.00,9,  -999.00,9, -999.000,9, -999.000,9,  -999.00,9,   -999.0,9,   -999.0,9,-999.0000,9,   -999.0,  9,  -999.00,9,   -999.0,  -999.00,9,  -999.00,9,  -999.00,9,  -999.00,9,   -999.0,-999.0000, -999,9, 4662,   1.0933,  27.7896,   -999.0,9
       RF98-09,  165E,RF-0688,  2,      4,02-12817,2,19980925,2212, 32.9510, 164.8773, 6216,   4755.2,   1.4963,  34.6890,2,   -999.0,9,  34.6877,2,   -999.0,9,  -999.00,9,  -999.00,9,  -999.00,9,  -999.00,9,  -999.00,9, -999.000,9, -999.000,9,  -999.00,9,   -999.0,9,   -999.0,9,-999.0000,9,   -999.0,  9,  -999.00,9,   -999.0,  -999.00,9,  -999.00,9,  -999.00,9,  -999.00,9,   -999.0,-999.0000, -999,9, 4670,   1.0915,  27.7893,   -999.0,9
       RF98-09,  165E,RF-0688,  2,      3,02-12808,2,19980925,2211, 32.9510, 164.8773, 6216,   4763.0,   1.4968,  34.6898,2,   -999.0,9,  34.6875,2,   -999.0,9,  -999.00,9,  -999.00,9,  -999.00,9,  -999.00,9,  -999.00,9, -999.000,9, -999.000,9,  -999.00,9,   -999.0,9,   -999.0,9,-999.0000,9,   -999.0,  9,  -999.00,9,   -999.0,  -999.00,9,  -999.00,9,  -999.00,9,  -999.00,9,   -999.0,-999.0000, -999,9, 4677,   1.0912,  27.7900,   -999.0,9
       RF98-09,  165E,RF-0688,  2,      2,02-13591,2,19980925,2211, 32.9510, 164.8773, 6216,   4773.0,   1.4966,  34.6892,2,   -999.0,9,  34.6884,2,   -999.0,9,  -999.00,9,  -999.00,9,  -999.00,9,  -999.00,9,  -999.00,9, -999.000,9, -999.000,9,  -999.00,9,   -999.0,9,   -999.0,9,-999.0000,9,   -999.0,  9,  -999.00,9,   -999.0,  -999.00,9,  -999.00,9,  -999.00,9,  -999.00,9,   -999.0,-999.0000, -999,9, 4687,   1.0898,  27.7896,   -999.0,9
       RF98-09,  165E,RF-0688,  2,      1,02-12807,2,19980925,2210, 32.9510, 164.8773, 6216,   4782.0,   1.4948,  34.6940,2,   -999.0,9,  34.6914,2,   -999.0,9,  -999.00,9,  -999.00,9,  -999.00,9,  -999.00,9,  -999.00,9, -999.000,9, -999.000,9,  -999.00,9,   -999.0,9,   -999.0,9,-999.0000,9,   -999.0,  9,  -999.00,9,   -999.0,  -999.00,9,  -999.00,9,  -999.00,9,  -999.00,9,   4766.0,-999.0000, -999,9, 4696,   1.0869,  27.7936,   -999.0,9