BOTTLE,20130607MIRCJHATS
EXPOCODE,SECT_ID,STNNBR,CASTNO,SAMPNO,BTLNBR,BTLNBR_FLAG_W,DATE,TIME,LATITUDE,LONGITUDE,DEPTH,CTDPRS,CTDTMP,CTDSAL,CTDSAL_FLAG_W,CTDOXY,CTDOXY_FLAG_W,SALNTY,SALNTY_FLAG_W,OXYGEN,OXYGEN_FLAG_W,SILCAT,SILCAT_FLAG_W,NITRAT,NITRAT_FLAG_W,NO2+NO3,NO2+NO3_FLAG_W,NITRIT,NITRIT_FLAG_W,PHSPHT,PHSPHT_FLAG_W,CFC-11,CFC-11_FLAG_W,CFC-12,CFC-12_FLAG_W,DELC13,DELC13_FLAG_W,TCARBN,TCARBN_FLAG_W,ALKALI,ALKALI_FLAG_W,PH,PH_FLAG_W,PH_TMP,PH_SCALE,PH_NBS,PH_NBS_FLAG_W,C13ERR,TOTALP,TOTALP_FLAG_W,AMMONI,AMMONI_FLAG_W,CHLORA,CHLORA_FLAG_W,PPHYTN,PPHYTN_FLAG_W,REVPRS,REVTMP,DEPTH_,DEPTH_FLAG,CTDDEP,THETA,SIGTHT,DOC,DOC_FLAG_W
,,,,,,,GMT,GMT,,,METER,DBAR,ITS-90,PSS-78,,UMOL/KG,,PSS-78,,UMOL/KG,,UMOL/KG,,UMOL/KG,,UMOL/KG,,UMOL/KG,,UMOL/KG,,PMOL/KG,,PMOL/KG,,/MILLE,,UMOL/KG,,UMOL/KG,,25_DEG_C,,DEG_C,,,,/MILLE,UMOL/KG,,UMOL/KG,,UG/L,,UG/L,,DBAR,ITS-90,METERS,,METERS,DEG_C,,UMOL/L,
       RF98-09, EQPAC,RF-0728,  1,     -9,      -9,5,19981020,2343, -0.0013, 156.9910, 2120,      0.0,  29.4497,  34.9562,2,   -999.0,9,-999.0000,9,    198.0,2,     1.52,2,  -999.00,9,     0.05,2,     0.00,2,     0.20,2, -999.000,9, -999.000,9,  -999.00,9,   -999.0,9,   -999.0,9,-999.0000,9,   -999.0,  9,     8.21,2,   -999.0,  -999.00,9,  -999.00,9,  -999.00,9,  -999.00,9,   -999.0,-999.0000, -999,9,    0,  29.4497,  21.8802,   -999.0,9
       RF98-09, EQPAC,RF-0728,  1,     20,02-12826,9,19981020,2341, -0.0013, 156.9910, 2120,      9.7,  29.3551,  34.9574,2,   -999.0,9,-999.0000,9,   -999.0,9,  -999.00,9,  -999.00,9,  -999.00,9,  -999.00,9,  -999.00,9, -999.000,9, -999.000,9,  -999.00,9,   -999.0,9,   -999.0,9,-999.0000,9,   -999.0,  9,  -999.00,9,   -999.0,  -999.00,9,  -999.00,9,  -999.00,9,  -999.00,9,   -999.0,-999.0000, -999,9,   10,  29.3527,  21.9138,   -999.0,9
       RF98-09, EQPAC,RF-0728,  1,     19,02-12825,9,19981020,2340, -0.0013, 156.9910, 2120,      9.8,  29.3555,  34.9575,2,   -999.0,9,-999.0000,9,   -999.0,9,  -999.00,9,  -999.00,9,  -999.00,9,  -999.00,9,  -999.00,9, -999.000,9, -999.000,9,  -999.00,9,   -999.0,9,   -999.0,9,-999.0000,9,   -999.0,  9,  -999.00,9,   -999.0,  -999.00,9,  -999.00,9,  -999.00,9,  -999.00,9,   -999.0,-999.0000, -999,9,   10,  29.3531,  21.9137,   -999.0,9
       RF98-09, EQPAC,RF-0728,  1,     17,02-12814,2,19981020,2340, -0.0013, 156.9910, 2120,      9.9,  29.3548,  34.9616,2,   -999.0,9,-999.0000,9,    198.8,2,     1.25,2,  -999.00,9,     0.01,2,     0.01,2,     0.19,2, -999.000,9, -999.000,9,  -999.00,9,   -999.0,9,   -999.0,9,-999.0000,9,   -999.0,  9,     8.21,2,   -999.0,  -999.00,9,  -999.00,9,  -999.00,9,  -999.00,9,   -999.0,-999.0000, -999,9,   10,  29.3523,  21.9171,   -999.0,9
       RF98-09, EQPAC,RF-0728,  1,     18,02-12824,9,19981020,2340, -0.0013, 156.9910, 2120,     10.1,  29.3718,  34.9539,2,   -999.0,9,-999.0000,9,   -999.0,9,  -999.00,9,  -999.00,9,  -999.00,9,  -999.00,9,  -999.00,9, -999.000,9, -999.000,9,  -999.00,9,   -999.0,9,   -999.0,9,-999.0000,9,   -999.0,  9,  -999.00,9,   -999.0,  -999.00,9,  -999.00,9,  -999.00,9,  -999.00,9,   -999.0,-999.0000, -999,9,   10,  29.3693,  21.9056,   -999.0,9
       RF98-09, EQPAC,RF-0728,  1,     16,02-12832,2,19981020,2338, -0.0013, 156.9910, 2120,     25.2,  29.0879,  34.9989,2,   -999.0,9,-999.0000,9,    202.4,2,     1.38,2,  -999.00,9,     0.00,2,     0.00,2,     0.19,2, -999.000,9, -999.000,9,  -999.00,9,   -999.0,9,   -999.0,9,-999.0000,9,   -999.0,  9,     8.21,2,   -999.0,  -999.00,9,  -999.00,9,  -999.00,9,  -999.00,9,   -999.0,-999.0000, -999,9,   25,  29.0818,  22.0359,   -999.0,9
       RF98-09, EQPAC,RF-0728,  1,     15,02-12833,2,19981020,2337, -0.0013, 156.9910, 2120,     49.9,  28.1428,  34.9974,2,   -999.0,9,-999.0000,9,    196.4,2,     1.41,2,  -999.00,9,     0.28,2,     0.10,2,     0.21,2, -999.000,9, -999.000,9,  -999.00,9,   -999.0,9,   -999.0,9,-999.0000,9,   -999.0,  9,     8.20,2,   -999.0,  -999.00,9,  -999.00,9,  -999.00,9,  -999.00,9,   -999.0,-999.0000, -999,9,   50,  28.1310,  22.3498,   -999.0,9
       RF98-09, EQPAC,RF-0728,  1,     14,02-13578,2,19981020,2336, -0.0013, 156.9910, 2120,     77.8,  27.9389,  34.9926,2,   -999.0,9,-999.0000,9,    191.1,2,     1.19,2,  -999.00,9,     0.64,2,     0.17,2,     0.22,2, -999.000,9, -999.000,9,  -999.00,9,   -999.0,9,   -999.0,9,-999.0000,9,   -999.0,  9,     8.19,4,   -999.0,  -999.00,9,  -999.00,9,  -999.00,9,  -999.00,9,   -999.0,-999.0000, -999,9,   77,  27.9205,  22.4150,   -999.0,9
       RF98-09, EQPAC,RF-0728,  1,     13,02-13590,2,19981020,2335, -0.0013, 156.9910, 2120,    102.1,  25.1638,  34.9151,2,   -999.0,9,  34.9230,4,    163.8,2,     3.37,2,  -999.00,9,     4.59,2,     0.13,2,     0.42,2, -999.000,9, -999.000,9,  -999.00,9,   -999.0,9,   -999.0,9,-999.0000,9,   -999.0,  9,     8.12,2,   -999.0,  -999.00,9,  -999.00,9,  -999.00,9,  -999.00,9,   -999.0,-999.0000, -999,9,  102,  25.1416,  23.2340,   -999.0,9
       RF98-09, EQPAC,RF-0728,  1,     12,02-12821,2,19981020,2333, -0.0013, 156.9910, 2120,    126.2,  23.3708,  35.0415,2,   -999.0,9,-999.0000,9,    154.0,2,     3.73,2,  -999.00,9,     6.40,2,     0.07,2,     0.52,2, -999.000,9, -999.000,9,  -999.00,9,   -999.0,9,   -999.0,9,-999.0000,9,   -999.0,  9,     8.09,2,   -999.0,  -999.00,9,  -999.00,9,  -999.00,9,  -999.00,9,   -999.0,-999.0000, -999,9,  125,  23.3448,  23.8652,   -999.0,9
       RF98-09, EQPAC,RF-0728,  1,     11,02-12811,2,19981020,2332, -0.0013, 156.9910, 2120,    151.5,  19.9758,  35.4305,2,   -999.0,9,-999.0000,9,    150.6,2,     4.81,2,  -999.00,9,    10.04,2,     0.03,2,     0.77,2, -999.000,9, -999.000,9,  -999.00,9,   -999.0,9,   -999.0,9,-999.0000,9,   -999.0,  9,     8.04,2,   -999.0,  -999.00,9,  -999.00,9,  -999.00,9,  -999.00,9,   -999.0,-999.0000, -999,9,  151,  19.9478,  25.1040,   -999.0,9
       RF98-09, EQPAC,RF-0728,  1,     10,02-12820,2,19981020,2330, -0.0013, 156.9910, 2120,    199.9,  14.2310,  34.7266,2,   -999.0,9,  34.7432,4,    138.6,2,    18.19,2,  -999.00,9,    17.41,2,     0.01,2,     1.23,2, -999.000,9, -999.000,9,  -999.00,9,   -999.0,9,   -999.0,9,-999.0000,9,   -999.0,  9,     7.90,2,   -999.0,  -999.00,9,  -999.00,9,  -999.00,9,  -999.00,9,   -999.0,-999.0000, -999,9,  199,  14.2019,  25.9332,   -999.0,9
       RF98-09, EQPAC,RF-0728,  1,      9,02-12810,2,19981020,2329, -0.0013, 156.9910, 2120,    252.4,  12.8879,  34.8756,2,   -999.0,9,  34.8782,2,    134.9,2,    17.72,2,  -999.00,9,    20.02,2,     0.01,2,     1.40,2, -999.000,9, -999.000,9,  -999.00,9,   -999.0,9,   -999.0,9,-999.0000,9,   -999.0,  9,     7.87,4,   -999.0,  -999.00,9,  -999.00,9,  -999.00,9,  -999.00,9,   -999.0,-999.0000, -999,9,  251,  12.8534,  26.3259,   -999.0,9
       RF98-09, EQPAC,RF-0728,  1,      8,02-13579,2,19981020,2327, -0.0013, 156.9910, 2120,    301.8,  11.8448,  34.7787,2,   -999.0,9,  34.7798,2,    124.6,2,    21.82,2,  -999.00,9,    23.14,2,     0.01,2,     1.62,2, -999.000,9, -999.000,9,  -999.00,9,   -999.0,9,   -999.0,9,-999.0000,9,   -999.0,  9,     7.81,2,   -999.0,  -999.00,9,  -999.00,9,  -999.00,9,  -999.00,9,   -999.0,-999.0000, -999,9,  300,  11.8056,  26.4541,   -999.0,9
       RF98-09, EQPAC,RF-0728,  1,      7,02-12815,2,19981020,2325, -0.0013, 156.9910, 2120,    403.4,   9.3570,  34.6741,2,   -999.0,9,  34.6760,2,     97.8,2,    28.49,2,  -999.00,9,    30.35,2,     0.00,2,     2.10,2, -999.000,9, -999.000,9,  -999.00,9,   -999.0,9,   -999.0,9,-999.0000,9,   -999.0,  9,  -999.00,9,   -999.0,  -999.00,9,  -999.00,9,  -999.00,9,  -999.00,9,   -999.0,-999.0000, -999,9,  401,   9.3118,  26.8125,   -999.0,9
       RF98-09, EQPAC,RF-0728,  1,      6,02-12818,2,19981020,2322, -0.0013, 156.9910, 2120,    505.2,   8.0918,  34.5984,2,   -999.0,9,  34.6044,2,    121.5,2,    31.16,2,  -999.00,9,    30.58,2,     0.00,2,     2.12,2, -999.000,9, -999.000,9,  -999.00,9,   -999.0,9,   -999.0,9,-999.0000,9,   -999.0,  9,  -999.00,9,   -999.0,  -999.00,9,  -999.00,9,  -999.00,9,  -999.00,9,   -999.0,-999.0000, -999,9,  502,   8.0396,  26.9525,   -999.0,9
       RF98-09, EQPAC,RF-0728,  1,      5,02-12809,2,19981020,2320, -0.0013, 156.9910, 2120,    605.8,   7.0901,  34.5546,2,   -999.0,9,  34.5800,4,    110.2,2,    40.25,2,  -999.00,9,    33.42,2,     0.00,2,     2.35,2, -999.000,9, -999.000,9,  -999.00,9,   -999.0,9,   -999.0,9,-999.0000,9,   -999.0,  9,  -999.00,9,   -999.0,  -999.00,9,  -999.00,9,  -999.00,9,  -999.00,9,   -999.0,-999.0000, -999,9,  602,   7.0317,  27.0635,   -999.0,9
       RF98-09, EQPAC,RF-0728,  1,      4,02-12817,2,19981020,2317, -0.0013, 156.9910, 2120,    705.0,   5.9896,  34.5289,2,   -999.0,9,  34.5377,2,    108.1,2,    53.45,2,  -999.00,9,    35.75,2,     0.00,2,     2.53,2, -999.000,9, -999.000,9,  -999.00,9,   -999.0,9,   -999.0,9,-999.0000,9,   -999.0,  9,  -999.00,9,   -999.0,  -999.00,9,  -999.00,9,  -999.00,9,  -999.00,9,   -999.0,-999.0000, -999,9,  700,   5.9270,  27.1896,   -999.0,9
       RF98-09, EQPAC,RF-0728,  1,      3,02-12808,2,19981020,2315, -0.0013, 156.9910, 2120,    807.3,   5.4190,  34.5257,2,   -999.0,9,  34.5360,2,    110.3,2,    62.99,2,  -999.00,9,    36.14,2,     0.00,2,     2.56,2, -999.000,9, -999.000,9,  -999.00,9,   -999.0,9,   -999.0,9,-999.0000,9,   -999.0,  9,  -999.00,9,   -999.0,  -999.00,9,  -999.00,9,  -999.00,9,  -999.00,9,   -999.0,-999.0000, -999,9,  801,   5.3503,  27.2581,   -999.0,9
       RF98-09, EQPAC,RF-0728,  1,      2,02-13591,2,19981020,2313, -0.0013, 156.9910, 2120,    906.6,   4.8445,  34.5299,2,   -999.0,9,  34.5413,4,    106.8,2,    72.98,2,  -999.00,9,    37.11,2,     0.00,2,     2.64,2, -999.000,9, -999.000,9,  -999.00,9,   -999.0,9,   -999.0,9,-999.0000,9,   -999.0,  9,  -999.00,9,   -999.0,  -999.00,9,  -999.00,9,  -999.00,9,  -999.00,9,   -999.0,-999.0000, -999,9,  900,   4.7706,  27.3287,   -999.0,9
       RF98-09, EQPAC,RF-0728,  1,      1,02-12807,2,19981020,2310, -0.0013, 156.9910, 2120,   1021.9,   4.3944,  34.5407,2,   -999.0,9,  34.5348,2,    100.3,2,    83.62,2,  -999.00,9,    38.33,2,     0.00,2,     2.74,2, -999.000,9, -999.000,9,  -999.00,9,   -999.0,9,   -999.0,9,-999.0000,9,   -999.0,  9,  -999.00,9,   -999.0,  -999.00,9,  -999.00,9,  -999.00,9,  -999.00,9,   1012.0,-999.0000, -999,9, 1014,   4.3137,  27.3877,   -999.0,9
       RF98-09, EQPAC,RF-0729,  1,     -9,      -9,5,19981021,1005, -0.0038, 154.9883, 2525,      0.0,  29.4160,  34.9558,2,   -999.0,9,-999.0000,9,    199.6,2,     2.22,2,  -999.00,9,     0.01,2,     0.00,2,     0.22,2, -999.000,9, -999.000,9,  -999.00,9,   -999.0,9,   -999.0,9,-999.0000,9,   -999.0,  9,     8.77,4,   -999.0,  -999.00,9,  -999.00,9,  -999.00,9,  -999.00,9,   -999.0,-999.0000, -999,9,    0,  29.4160,  21.8912,   -999.0,9
       RF98-09, EQPAC,RF-0729,  1,     20,02-12826,2,19981021,1002, -0.0038, 154.9883, 2525,     11.5,  29.3408,  34.9545,2,   -999.0,9,-999.0000,9,   -999.0,9,  -999.00,9,  -999.00,9,  -999.00,9,  -999.00,9,  -999.00,9, -999.000,9, -999.000,9,  -999.00,9,   -999.0,9,   -999.0,9,-999.0000,9,   -999.0,  9,  -999.00,9,   -999.0,  -999.00,9,  -999.00,9,  -999.00,9,  -999.00,9,   -999.0,-999.0000, -999,9,   11,  29.3380,  21.9166,   -999.0,9
       RF98-09, EQPAC,RF-0729,  1,     18,02-12824,2,19981021,1001, -0.0038, 154.9883, 2525,     11.5,  29.3728,  34.9637,2,   -999.0,9,-999.0000,9,   -999.0,9,  -999.00,9,  -999.00,9,  -999.00,9,  -999.00,9,  -999.00,9, -999.000,9, -999.000,9,  -999.00,9,   -999.0,9,   -999.0,9,-999.0000,9,   -999.0,  9,  -999.00,9,   -999.0,  -999.00,9,  -999.00,9,  -999.00,9,  -999.00,9,   -999.0,-999.0000, -999,9,   11,  29.3699,  21.9127,   -999.0,9
       RF98-09, EQPAC,RF-0729,  1,     17,02-12814,2,19981021,1001, -0.0038, 154.9883, 2525,     11.7,  29.3064,  34.9611,2,   -999.0,9,-999.0000,9,    200.2,2,     1.80,2,  -999.00,9,     0.00,2,     0.00,2,     0.20,2, -999.000,9, -999.000,9,  -999.00,9,   -999.0,9,   -999.0,9,-999.0000,9,   -999.0,  9,     8.80,4,   -999.0,  -999.00,9,  -999.00,9,  -999.00,9,  -999.00,9,   -999.0,-999.0000, -999,9,   12,  29.3036,  21.9331,   -999.0,9
       RF98-09, EQPAC,RF-0729,  1,     19,02-12825,2,19981021,1002, -0.0038, 154.9883, 2525,     11.9,  29.3075,  34.9542,2,   -999.0,9,-999.0000,9,   -999.0,9,  -999.00,9,  -999.00,9,  -999.00,9,  -999.00,9,  -999.00,9, -999.000,9, -999.000,9,  -999.00,9,   -999.0,9,   -999.0,9,-999.0000,9,   -999.0,  9,  -999.00,9,   -999.0,  -999.00,9,  -999.00,9,  -999.00,9,  -999.00,9,   -999.0,-999.0000, -999,9,   12,  29.3046,  21.9275,   -999.0,9
       RF98-09, EQPAC,RF-0729,  1,     21,02-12827,2,19981021,1002, -0.0038, 154.9883, 2525,     12.0,  29.3401,  34.9507,2,   -999.0,9,-999.0000,9,   -999.0,9,  -999.00,9,  -999.00,9,  -999.00,9,  -999.00,9,  -999.00,9, -999.000,9, -999.000,9,  -999.00,9,   -999.0,9,   -999.0,9,-999.0000,9,   -999.0,  9,  -999.00,9,   -999.0,  -999.00,9,  -999.00,9,  -999.00,9,  -999.00,9,   -999.0,-999.0000, -999,9,   12,  29.3371,  21.9139,   -999.0,9
       RF98-09, EQPAC,RF-0729,  1,     16,02-12832,2,19981021,0959, -0.0038, 154.9883, 2525,     25.0,  28.7290,  34.9574,2,   -999.0,9,-999.0000,9,    204.3,2,     1.54,2,  -999.00,9,    -0.04,4,     0.01,2,     0.20,2, -999.000,9, -999.000,9,  -999.00,9,   -999.0,9,   -999.0,9,-999.0000,9,   -999.0,  9,     8.80,4,   -999.0,  -999.00,9,  -999.00,9,  -999.00,9,  -999.00,9,   -999.0,-999.0000, -999,9,   25,  28.7230,  22.1244,   -999.0,9
       RF98-09, EQPAC,RF-0729,  1,     15,02-12833,2,19981021,0958, -0.0038, 154.9883, 2525,     49.8,  28.3790,  34.9793,2,   -999.0,9,-999.0000,9,    199.9,2,     1.88,2,  -999.00,9,     0.02,2,     0.02,2,     0.20,2, -999.000,9, -999.000,9,  -999.00,9,   -999.0,9,   -999.0,9,-999.0000,9,   -999.0,  9,     8.80,4,   -999.0,  -999.00,9,  -999.00,9,  -999.00,9,  -999.00,9,   -999.0,-999.0000, -999,9,   50,  28.3672,  22.2586,   -999.0,9
       RF98-09, EQPAC,RF-0729,  1,     14,02-13578,2,19981021,0956, -0.0038, 154.9883, 2525,     75.2,  28.0940,  34.9455,2,   -999.0,9,-999.0000,9,    193.7,2,     2.08,2,  -999.00,9,     0.42,2,     0.11,2,     0.22,2, -999.000,9, -999.000,9,  -999.00,9,   -999.0,9,   -999.0,9,-999.0000,9,   -999.0,  9,     8.76,4,   -999.0,  -999.00,9,  -999.00,9,  -999.00,9,  -999.00,9,   -999.0,-999.0000, -999,9,   75,  28.0763,  22.3287,   -999.0,9
       RF98-09, EQPAC,RF-0729,  1,     13,02-13590,2,19981021,0955, -0.0038, 154.9883, 2525,    101.6,  26.9869,  34.9235,2,   -999.0,9,-999.0000,9,    177.6,2,     1.99,2,  -999.00,9,     2.24,2,     0.51,2,     0.29,2, -999.000,9, -999.000,9,  -999.00,9,   -999.0,9,   -999.0,9,-999.0000,9,   -999.0,  9,     8.22,2,   -999.0,  -999.00,9,  -999.00,9,  -999.00,9,  -999.00,9,   -999.0,-999.0000, -999,9,  101,  26.9637,  22.6717,   -999.0,9
       RF98-09, EQPAC,RF-0729,  1,     12,02-12821,2,19981021,0953, -0.0038, 154.9883, 2525,    126.7,  25.0965,  35.1390,2,   -999.0,9,-999.0000,9,    159.8,2,     2.32,2,  -999.00,9,     4.64,2,     0.06,2,     0.42,2, -999.000,9, -999.000,9,  -999.00,9,   -999.0,9,   -999.0,9,-999.0000,9,   -999.0,  9,     8.19,2,   -999.0,  -999.00,9,  -999.00,9,  -999.00,9,  -999.00,9,   -999.0,-999.0000, -999,9,  126,  25.0690,  23.4253,   -999.0,9
       RF98-09, EQPAC,RF-0729,  1,     11,02-12811,2,19981021,0951, -0.0038, 154.9883, 2525,    153.1,  21.1355,  35.5181,2,   -999.0,9,-999.0000,9,    150.7,2,     3.42,2,  -999.00,9,     8.24,2,     0.02,2,     0.67,2, -999.000,9, -999.000,9,  -999.00,9,   -999.0,9,   -999.0,9,-999.0000,9,   -999.0,  9,     8.11,2,   -999.0,  -999.00,9,  -999.00,9,  -999.00,9,  -999.00,9,   -999.0,-999.0000, -999,9,  152,  21.1060,  24.8595,   -999.0,9
       RF98-09, EQPAC,RF-0729,  1,     10,02-12820,2,19981021,0949, -0.0038, 154.9883, 2525,    199.4,  16.3455,  35.0442,2,   -999.0,9,-999.0000,9,    145.7,2,    12.28,2,  -999.00,9,    14.29,2,     0.01,2,     1.04,2, -999.000,9, -999.000,9,  -999.00,9,   -999.0,9,   -999.0,9,-999.0000,9,   -999.0,  9,     8.01,2,   -999.0,  -999.00,9,  -999.00,9,  -999.00,9,  -999.00,9,   -999.0,-999.0000, -999,9,  198,  16.3135,  25.7094,   -999.0,9
       RF98-09, EQPAC,RF-0729,  1,      9,02-12810,2,19981021,0947, -0.0038, 154.9883, 2525,    249.9,  12.8606,  34.8963,2,   -999.0,9,-999.0000,9,    137.3,2,    16.72,2,  -999.00,9,    19.78,2,     0.00,2,     1.40,2, -999.000,9, -999.000,9,  -999.00,9,   -999.0,9,   -999.0,9,-999.0000,9,   -999.0,  9,     7.93,2,   -999.0,  -999.00,9,  -999.00,9,  -999.00,9,  -999.00,9,   -999.0,-999.0000, -999,9,  248,  12.8265,  26.3473,   -999.0,9
       RF98-09, EQPAC,RF-0729,  1,      8,02-13579,2,19981021,0946, -0.0038, 154.9883, 2525,    301.8,  11.7437,  34.7978,2,   -999.0,9,-999.0000,9,    132.0,2,    20.73,2,  -999.00,9,    22.46,2,     0.00,2,     1.60,2, -999.000,9, -999.000,9,  -999.00,9,   -999.0,9,   -999.0,9,-999.0000,9,   -999.0,  9,     7.91,2,   -999.0,  -999.00,9,  -999.00,9,  -999.00,9,  -999.00,9,   -999.0,-999.0000, -999,9,  300,  11.7048,  26.4880,   -999.0,9
       RF98-09, EQPAC,RF-0729,  1,      7,02-12815,2,19981021,0943, -0.0038, 154.9883, 2525,    404.5,   9.4987,  34.6868,2,   -999.0,9,-999.0000,9,     92.5,2,    28.44,2,  -999.00,9,    30.72,2,     0.00,2,     2.14,2, -999.000,9, -999.000,9,  -999.00,9,   -999.0,9,   -999.0,9,-999.0000,9,   -999.0,  9,  -999.00,9,   -999.0,  -999.00,9,  -999.00,9,  -999.00,9,  -999.00,9,   -999.0,-999.0000, -999,9,  402,   9.4529,  26.7992,   -999.0,9
       RF98-09, EQPAC,RF-0729,  1,      6,02-12818,2,19981021,0940, -0.0038, 154.9883, 2525,    506.6,   8.3028,  34.6105,2,   -999.0,9,-999.0000,9,    119.6,2,    31.00,2,  -999.00,9,    30.26,2,     0.00,2,     2.12,2, -999.000,9, -999.000,9,  -999.00,9,   -999.0,9,   -999.0,9,-999.0000,9,   -999.0,  9,  -999.00,9,   -999.0,  -999.00,9,  -999.00,9,  -999.00,9,  -999.00,9,   -999.0,-999.0000, -999,9,  503,   8.2496,  26.9303,   -999.0,9
       RF98-09, EQPAC,RF-0729,  1,      5,02-12809,2,19981021,0936, -0.0038, 154.9883, 2525,    606.0,   7.1816,  34.5574,2,   -999.0,9,-999.0000,9,    111.0,2,    39.68,2,  -999.00,9,    33.16,2,     0.00,2,     2.35,2, -999.000,9, -999.000,9,  -999.00,9,   -999.0,9,   -999.0,9,-999.0000,9,   -999.0,  9,  -999.00,9,   -999.0,  -999.00,9,  -999.00,9,  -999.00,9,  -999.00,9,   -999.0,-999.0000, -999,9,  602,   7.1227,  27.0530,   -999.0,9
       RF98-09, EQPAC,RF-0729,  1,      4,02-12817,2,19981021,0934, -0.0038, 154.9883, 2525,    705.4,   6.1757,  34.5342,2,   -999.0,9,-999.0000,9,    106.2,2,    51.71,2,  -999.00,9,    35.70,2,     0.00,2,     2.54,2, -999.000,9, -999.000,9,  -999.00,9,   -999.0,9,   -999.0,9,-999.0000,9,   -999.0,  9,  -999.00,9,   -999.0,  -999.00,9,  -999.00,9,  -999.00,9,  -999.00,9,   -999.0,-999.0000, -999,9,  700,   6.1121,  27.1702,   -999.0,9
       RF98-09, EQPAC,RF-0729,  1,      3,02-12808,2,19981021,0931, -0.0038, 154.9883, 2525,    806.0,   5.5556,  34.5227,2,   -999.0,9,-999.0000,9,    116.6,2,    58.52,2,  -999.00,9,    35.70,2,     0.00,2,     2.54,2, -999.000,9, -999.000,9,  -999.00,9,   -999.0,9,   -999.0,9,-999.0000,9,   -999.0,  9,  -999.00,9,   -999.0,  -999.00,9,  -999.00,9,  -999.00,9,  -999.00,9,   -999.0,-999.0000, -999,9,  800,   5.4861,  27.2393,   -999.0,9
       RF98-09, EQPAC,RF-0729,  1,      2,02-13591,2,19981021,0929, -0.0038, 154.9883, 2525,    905.5,   4.9726,  34.5307,2,   -999.0,9,-999.0000,9,    106.8,2,    73.60,2,  -999.00,9,    36.96,2,     0.00,2,     2.66,2, -999.000,9, -999.000,9,  -999.00,9,   -999.0,9,   -999.0,9,-999.0000,9,   -999.0,  9,  -999.00,9,   -999.0,  -999.00,9,  -999.00,9,  -999.00,9,  -999.00,9,   -999.0,-999.0000, -999,9,  899,   4.8980,  27.3149,   -999.0,9
       RF98-09, EQPAC,RF-0729,  1,      1,02-12807,2,19981021,0926, -0.0038, 154.9883, 2525,   1026.9,   4.5657,  34.5370,2,   -999.0,9,-999.0000,9,    103.8,2,    79.37,2,  -999.00,9,    38.12,2,     0.00,2,     2.75,2, -999.000,9, -999.000,9,  -999.00,9,   -999.0,9,   -999.0,9,-999.0000,9,   -999.0,  9,  -999.00,9,   -999.0,  -999.00,9,  -999.00,9,  -999.00,9,  -999.00,9,   1016.0,-999.0000, -999,9, 1019,   4.4833,  27.3663,   -999.0,9