BOTTLE,20130607MIRCJHATS
EXPOCODE,SECT_ID,STNNBR,CASTNO,SAMPNO,BTLNBR,BTLNBR_FLAG_W,DATE,TIME,LATITUDE,LONGITUDE,DEPTH,CTDPRS,CTDTMP,CTDSAL,CTDSAL_FLAG_W,CTDOXY,CTDOXY_FLAG_W,SALNTY,SALNTY_FLAG_W,OXYGEN,OXYGEN_FLAG_W,SILCAT,SILCAT_FLAG_W,NITRAT,NITRAT_FLAG_W,NO2+NO3,NO2+NO3_FLAG_W,NITRIT,NITRIT_FLAG_W,PHSPHT,PHSPHT_FLAG_W,CFC-11,CFC-11_FLAG_W,CFC-12,CFC-12_FLAG_W,DELC13,DELC13_FLAG_W,TCARBN,TCARBN_FLAG_W,ALKALI,ALKALI_FLAG_W,PH,PH_FLAG_W,PH_TMP,PH_SCALE,PH_NBS,PH_NBS_FLAG_W,C13ERR,TOTALP,TOTALP_FLAG_W,AMMONI,AMMONI_FLAG_W,CHLORA,CHLORA_FLAG_W,PPHYTN,PPHYTN_FLAG_W,REVPRS,REVTMP,DEPTH_,DEPTH_FLAG,CTDDEP,THETA,SIGTHT,DOC,DOC_FLAG_W
,,,,,,,GMT,GMT,,,METER,DBAR,ITS-90,PSS-78,,UMOL/KG,,PSS-78,,UMOL/KG,,UMOL/KG,,UMOL/KG,,UMOL/KG,,UMOL/KG,,UMOL/KG,,PMOL/KG,,PMOL/KG,,/MILLE,,UMOL/KG,,UMOL/KG,,25_DEG_C,,DEG_C,,,,/MILLE,UMOL/KG,,UMOL/KG,,UG/L,,UG/L,,DBAR,ITS-90,METERS,,METERS,DEG_C,,UMOL/L,
       RF98-09,  142E,RF-0736,  1,     -9,      -9,5,19981108,1506, 32.4517, 141.6927, 6857,      0.0,  24.7465,  34.4234,2,   -999.0,9,-999.0000,9,    210.2,2,  -999.00,9,  -999.00,9,  -999.00,9,  -999.00,9,  -999.00,9, -999.000,9, -999.000,9,  -999.00,9,   -999.0,9,   -999.0,9,-999.0000,9,   -999.0,  9,  -999.00,9,   -999.0,  -999.00,9,  -999.00,9,  -999.00,9,  -999.00,9,   -999.0,-999.0000, -999,9,    0,  24.7465,  22.9822,   -999.0,9
       RF98-09,  142E,RF-0736,  1,     21,02-12827,2,19981108,1504, 32.4517, 141.6927, 6857,     10.3,  24.7491,  34.4252,2,   -999.0,9,-999.0000,9,    209.9,2,  -999.00,9,  -999.00,9,  -999.00,9,  -999.00,9,  -999.00,9, -999.000,9, -999.000,9,  -999.00,9,   -999.0,9,   -999.0,9,-999.0000,9,   -999.0,  9,  -999.00,9,   -999.0,  -999.00,9,  -999.00,9,  -999.00,9,  -999.00,9,   -999.0,-999.0000, -999,9,   10,  24.7469,  22.9834,   -999.0,9
       RF98-09,  142E,RF-0736,  1,     20,02-12826,2,19981108,1502, 32.4517, 141.6927, 6857,     25.5,  24.7455,  34.4270,2,   -999.0,9,-999.0000,9,    212.8,2,  -999.00,9,  -999.00,9,  -999.00,9,  -999.00,9,  -999.00,9, -999.000,9, -999.000,9,  -999.00,9,   -999.0,9,   -999.0,9,-999.0000,9,   -999.0,  9,  -999.00,9,   -999.0,  -999.00,9,  -999.00,9,  -999.00,9,  -999.00,9,   -999.0,-999.0000, -999,9,   25,  24.7401,  22.9868,   -999.0,9
       RF98-09,  142E,RF-0736,  1,     19,02-12825,2,19981108,1501, 32.4517, 141.6927, 6857,     50.6,  24.5608,  34.4261,2,   -999.0,9,-999.0000,9,    211.4,2,  -999.00,9,  -999.00,9,  -999.00,9,  -999.00,9,  -999.00,9, -999.000,9, -999.000,9,  -999.00,9,   -999.0,9,   -999.0,9,-999.0000,9,   -999.0,  9,  -999.00,9,   -999.0,  -999.00,9,  -999.00,9,  -999.00,9,  -999.00,9,   -999.0,-999.0000, -999,9,   50,  24.5500,  23.0432,   -999.0,9
       RF98-09,  142E,RF-0736,  1,     18,02-12824,2,19981108,1500, 32.4517, 141.6927, 6857,     75.6,  22.7402,  34.7049,2,   -999.0,9,-999.0000,9,    207.7,2,  -999.00,9,  -999.00,9,  -999.00,9,  -999.00,9,  -999.00,9, -999.000,9, -999.000,9,  -999.00,9,   -999.0,9,   -999.0,9,-999.0000,9,   -999.0,  9,  -999.00,9,   -999.0,  -999.00,9,  -999.00,9,  -999.00,9,  -999.00,9,   -999.0,-999.0000, -999,9,   75,  22.7249,  23.7887,   -999.0,9
       RF98-09,  142E,RF-0736,  1,     17,02-12814,2,19981108,1458, 32.4517, 141.6927, 6857,     99.3,  20.0934,  34.8372,2,   -999.0,9,-999.0000,9,    207.8,2,  -999.00,9,  -999.00,9,  -999.00,9,  -999.00,9,  -999.00,9, -999.000,9, -999.000,9,  -999.00,9,   -999.0,9,   -999.0,9,-999.0000,9,   -999.0,  9,  -999.00,9,   -999.0,  -999.00,9,  -999.00,9,  -999.00,9,  -999.00,9,   -999.0,-999.0000, -999,9,   99,  20.0750,  24.6178,   -999.0,9
       RF98-09,  142E,RF-0736,  1,     16,02-12832,2,19981108,1457, 32.4517, 141.6927, 6857,    123.4,  19.5182,  34.8338,2,   -999.0,9,-999.0000,9,    207.9,2,  -999.00,9,  -999.00,9,  -999.00,9,  -999.00,9,  -999.00,9, -999.000,9, -999.000,9,  -999.00,9,   -999.0,9,   -999.0,9,-999.0000,9,   -999.0,  9,  -999.00,9,   -999.0,  -999.00,9,  -999.00,9,  -999.00,9,  -999.00,9,   -999.0,-999.0000, -999,9,  123,  19.4958,  24.7667,   -999.0,9
       RF98-09,  142E,RF-0736,  1,     15,02-12833,2,19981108,1456, 32.4517, 141.6927, 6857,    150.3,  19.1007,  34.8269,2,   -999.0,9,-999.0000,9,    206.0,2,  -999.00,9,  -999.00,9,  -999.00,9,  -999.00,9,  -999.00,9, -999.000,9, -999.000,9,  -999.00,9,   -999.0,9,   -999.0,9,-999.0000,9,   -999.0,  9,  -999.00,9,   -999.0,  -999.00,9,  -999.00,9,  -999.00,9,  -999.00,9,   -999.0,-999.0000, -999,9,  149,  19.0738,  24.8700,   -999.0,9
       RF98-09,  142E,RF-0736,  1,     14,02-13578,2,19981108,1454, 32.4517, 141.6927, 6857,    202.4,  18.0953,  34.8217,2,   -999.0,9,-999.0000,9,    201.5,2,  -999.00,9,  -999.00,9,  -999.00,9,  -999.00,9,  -999.00,9, -999.000,9, -999.000,9,  -999.00,9,   -999.0,9,   -999.0,9,-999.0000,9,   -999.0,  9,  -999.00,9,   -999.0,  -999.00,9,  -999.00,9,  -999.00,9,  -999.00,9,   -999.0,-999.0000, -999,9,  201,  18.0604,  25.1206,   -999.0,9
       RF98-09,  142E,RF-0736,  1,     13,02-13590,2,19981108,1452, 32.4517, 141.6927, 6857,    251.6,  17.6149,  34.8100,2,   -999.0,9,-999.0000,9,    194.0,2,  -999.00,9,  -999.00,9,  -999.00,9,  -999.00,9,  -999.00,9, -999.000,9, -999.000,9,  -999.00,9,   -999.0,9,   -999.0,9,-999.0000,9,   -999.0,  9,  -999.00,9,   -999.0,  -999.00,9,  -999.00,9,  -999.00,9,  -999.00,9,   -999.0,-999.0000, -999,9,  250,  17.5724,  25.2310,   -999.0,9
       RF98-09,  142E,RF-0736,  1,     12,02-12821,2,19981108,1450, 32.4517, 141.6927, 6857,    300.3,  17.0670,  34.7855,2,   -999.0,9,-999.0000,9,    196.7,2,  -999.00,9,  -999.00,9,  -999.00,9,  -999.00,9,  -999.00,9, -999.000,9, -999.000,9,  -999.00,9,   -999.0,9,   -999.0,9,-999.0000,9,   -999.0,  9,  -999.00,9,   -999.0,  -999.00,9,  -999.00,9,  -999.00,9,  -999.00,9,   -999.0,-999.0000, -999,9,  298,  17.0173,  25.3455,   -999.0,9
       RF98-09,  142E,RF-0736,  1,     11,02-12811,2,19981108,1447, 32.4517, 141.6927, 6857,    401.0,  15.7747,  34.6913,2,   -999.0,9,-999.0000,9,    190.5,2,  -999.00,9,  -999.00,9,  -999.00,9,  -999.00,9,  -999.00,9, -999.000,9, -999.000,9,  -999.00,9,   -999.0,9,   -999.0,9,-999.0000,9,   -999.0,  9,  -999.00,9,   -999.0,  -999.00,9,  -999.00,9,  -999.00,9,  -999.00,9,   -999.0,-999.0000, -999,9,  398,  15.7116,  25.5756,   -999.0,9
       RF98-09,  142E,RF-0736,  1,     10,02-12820,2,19981108,1445, 32.4517, 141.6927, 6857,    502.5,  13.4127,  34.5620,2,   -999.0,9,-999.0000,9,    180.6,2,  -999.00,9,  -999.00,9,  -999.00,9,  -999.00,9,  -999.00,9, -999.000,9, -999.000,9,  -999.00,9,   -999.0,9,   -999.0,9,-999.0000,9,   -999.0,  9,  -999.00,9,   -999.0,  -999.00,9,  -999.00,9,  -999.00,9,  -999.00,9,   -999.0,-999.0000, -999,9,  498,  13.3417,  25.9846,   -999.0,9
       RF98-09,  142E,RF-0736,  1,      9,02-12810,2,19981108,1427, 32.4517, 141.6927, 6857,    603.6,   9.0918,  34.2623,2,   -999.0,9,-999.0000,9,    144.8,2,  -999.00,9,  -999.00,9,  -999.00,9,  -999.00,9,  -999.00,9, -999.000,9, -999.000,9,  -999.00,9,   -999.0,9,   -999.0,9,-999.0000,9,   -999.0,  9,  -999.00,9,   -999.0,  -999.00,9,  -999.00,9,  -999.00,9,  -999.00,9,   -999.0,-999.0000, -999,9,  598,   9.0249,  26.5365,   -999.0,9
       RF98-09,  142E,RF-0736,  1,      8,02-13579,2,19981108,1424, 32.4517, 141.6927, 6857,    704.7,   6.1994,  34.1269,2,   -999.0,9,-999.0000,9,    125.4,2,  -999.00,9,  -999.00,9,  -999.00,9,  -999.00,9,  -999.00,9, -999.000,9, -999.000,9,  -999.00,9,   -999.0,9,   -999.0,9,-999.0000,9,   -999.0,  9,  -999.00,9,   -999.0,  -999.00,9,  -999.00,9,  -999.00,9,  -999.00,9,   -999.0,-999.0000, -999,9,  699,   6.1362,  26.8454,   -999.0,9
       RF98-09,  142E,RF-0736,  1,      7,02-12815,2,19981108,1422, 32.4517, 141.6927, 6857,    805.9,   5.1273,  34.1760,2,   -999.0,9,-999.0000,9,     89.5,2,  -999.00,9,  -999.00,9,  -999.00,9,  -999.00,9,  -999.00,9, -999.000,9, -999.000,9,  -999.00,9,   -999.0,9,   -999.0,9,-999.0000,9,   -999.0,  9,  -999.00,9,   -999.0,  -999.00,9,  -999.00,9,  -999.00,9,  -999.00,9,   -999.0,-999.0000, -999,9,  799,   5.0609,  27.0149,   -999.0,9
       RF98-09,  142E,RF-0736,  1,      6,02-12818,2,19981108,1418, 32.4517, 141.6927, 6857,    907.7,   4.3528,  34.2393,2,   -999.0,9,-999.0000,9,     67.3,2,  -999.00,9,  -999.00,9,  -999.00,9,  -999.00,9,  -999.00,9, -999.000,9, -999.000,9,  -999.00,9,   -999.0,9,   -999.0,9,-999.0000,9,   -999.0,  9,  -999.00,9,   -999.0,  -999.00,9,  -999.00,9,  -999.00,9,  -999.00,9,   -999.0,-999.0000, -999,9,  899,   4.2827,  27.1514,   -999.0,9
       RF98-09,  142E,RF-0736,  1,      5,02-12809,2,19981108,1416, 32.4517, 141.6927, 6857,   1007.4,   3.8110,  34.2913,2,   -999.0,9,  34.2850,2,     55.5,2,  -999.00,9,  -999.00,9,  -999.00,9,  -999.00,9,  -999.00,9, -999.000,9, -999.000,9,  -999.00,9,   -999.0,9,   -999.0,9,-999.0000,9,   -999.0,  9,  -999.00,9,   -999.0,  -999.00,9,  -999.00,9,  -999.00,9,  -999.00,9,   -999.0,-999.0000, -999,9,  998,   3.7366,  27.2491,   -999.0,9
       RF98-09,  142E,RF-0736,  1,      4,02-12817,2,19981108,1409, 32.4517, 141.6927, 6857,   1259.9,   3.0376,  34.4039,2,   -999.0,9,  34.4011,2,     45.6,2,  -999.00,9,  -999.00,9,  -999.00,9,  -999.00,9,  -999.00,9, -999.000,9, -999.000,9,  -999.00,9,   -999.0,9,   -999.0,9,-999.0000,9,   -999.0,  9,  -999.00,9,   -999.0,  -999.00,9,  -999.00,9,  -999.00,9,  -999.00,9,   -999.0,-999.0000, -999,9, 1247,   2.9493,  27.4139,   -999.0,9
       RF98-09,  142E,RF-0736,  1,      3,02-12808,2,19981108,1403, 32.4517, 141.6927, 6857,   1512.0,   2.5369,  34.4918,2,   -999.0,9,  34.4915,2,     49.3,2,  -999.00,9,  -999.00,9,  -999.00,9,  -999.00,9,  -999.00,9, -999.000,9, -999.000,9,  -999.00,9,   -999.0,9,   -999.0,9,-999.0000,9,   -999.0,  9,  -999.00,9,   -999.0,  -999.00,9,  -999.00,9,  -999.00,9,  -999.00,9,   -999.0,-999.0000, -999,9, 1496,   2.4337,  27.5291,   -999.0,9
       RF98-09,  142E,RF-0736,  1,      2,02-13591,2,19981108,1358, 32.4517, 141.6927, 6857,   1768.5,   2.2048,  34.5565,2,   -999.0,9,  34.5547,2,     66.4,2,  -999.00,9,  -999.00,9,  -999.00,9,  -999.00,9,  -999.00,9, -999.000,9, -999.000,9,  -999.00,9,   -999.0,9,   -999.0,9,-999.0000,9,   -999.0,  9,  -999.00,9,   -999.0,  -999.00,9,  -999.00,9,  -999.00,9,  -999.00,9,   -999.0,-999.0000, -999,9, 1749,   2.0848,  27.6096,   -999.0,9
       RF98-09,  142E,RF-0736,  1,      1,02-12807,2,19981108,1352, 32.4517, 141.6927, 6857,   2046.0,   1.9684,  34.5942,2,   -999.0,9,  34.5958,2,     84.5,2,  -999.00,9,  -999.00,9,  -999.00,9,  -999.00,9,  -999.00,9, -999.000,9, -999.000,9,  -999.00,9,   -999.0,9,   -999.0,9,-999.0000,9,   -999.0,  9,  -999.00,9,   -999.0,  -999.00,9,  -999.00,9,  -999.00,9,  -999.00,9,   2029.0,-999.0000, -999,9, 2022,   1.8287,  27.6599,   -999.0,9