BOTTLE,20130607MIRCJHATS
EXPOCODE,SECT_ID,STNNBR,CASTNO,SAMPNO,BTLNBR,BTLNBR_FLAG_W,DATE,TIME,LATITUDE,LONGITUDE,DEPTH,CTDPRS,CTDTMP,CTDSAL,CTDSAL_FLAG_W,CTDOXY,CTDOXY_FLAG_W,SALNTY,SALNTY_FLAG_W,OXYGEN,OXYGEN_FLAG_W,SILCAT,SILCAT_FLAG_W,NITRAT,NITRAT_FLAG_W,NO2+NO3,NO2+NO3_FLAG_W,NITRIT,NITRIT_FLAG_W,PHSPHT,PHSPHT_FLAG_W,CFC-11,CFC-11_FLAG_W,CFC-12,CFC-12_FLAG_W,DELC13,DELC13_FLAG_W,TCARBN,TCARBN_FLAG_W,ALKALI,ALKALI_FLAG_W,PH,PH_FLAG_W,PH_TMP,PH_SCALE,PH_NBS,PH_NBS_FLAG_W,C13ERR,TOTALP,TOTALP_FLAG_W,AMMONI,AMMONI_FLAG_W,CHLORA,CHLORA_FLAG_W,PPHYTN,PPHYTN_FLAG_W,REVPRS,REVTMP,DEPTH_,DEPTH_FLAG,CTDDEP,THETA,SIGTHT,DOC,DOC_FLAG_W
,,,,,,,GMT,GMT,,,METER,DBAR,ITS-90,PSS-78,,UMOL/KG,,PSS-78,,UMOL/KG,,UMOL/KG,,UMOL/KG,,UMOL/KG,,UMOL/KG,,UMOL/KG,,PMOL/KG,,PMOL/KG,,/MILLE,,UMOL/KG,,UMOL/KG,,25_DEG_C,,DEG_C,,,,/MILLE,UMOL/KG,,UMOL/KG,,UG/L,,UG/L,,DBAR,ITS-90,METERS,,METERS,DEG_C,,UMOL/L,
       RF98-09,  165E,RF-0713,  1,     -9,      -9,5,19981013,0706,  7.9795, 164.0120, 5141,      0.0,  29.8406,  34.2399,2,   -999.0,9,-999.0000,9,   -999.0,9,  -999.00,9,  -999.00,9,  -999.00,9,  -999.00,9,  -999.00,9, -999.000,9, -999.000,9,  -999.00,9,   -999.0,9,   -999.0,9,-999.0000,9,   -999.0,  9,  -999.00,9,   -999.0,  -999.00,9,  -999.00,9,  -999.00,9,  -999.00,9,   -999.0,-999.0000, -999,9,    0,  29.8406,  21.2107,   -999.0,9
       RF98-09,  165E,RF-0713,  1,     24,02-12830,2,19981014,0702,  7.9795, 164.0120, 5141,    140.1,  19.0018,  34.7590,2,   -999.0,9,-999.0000,9,   -999.0,9,  -999.00,9,  -999.00,9,  -999.00,9,  -999.00,9,  -999.00,9, -999.000,9, -999.000,9,  -999.00,9,   -999.0,9,   -999.0,9,-999.0000,9,   -999.0,  9,  -999.00,9,   -999.0,  -999.00,9,  -999.00,9,  -999.00,9,  -999.00,9,   -999.0,-999.0000, -999,9,  139,  18.9769,  24.8429,   -999.0,9
       RF98-09,  165E,RF-0713,  1,     23,02-12829,2,19981014,0702,  7.9795, 164.0120, 5141,    140.9,  18.7321,  34.7394,2,   -999.0,9,-999.0000,9,   -999.0,9,  -999.00,9,  -999.00,9,  -999.00,9,  -999.00,9,  -999.00,9, -999.000,9, -999.000,9,  -999.00,9,   -999.0,9,   -999.0,9,-999.0000,9,   -999.0,  9,  -999.00,9,   -999.0,  -999.00,9,  -999.00,9,  -999.00,9,  -999.00,9,   -999.0,-999.0000, -999,9,  140,  18.7073,  24.8962,   -999.0,9
       RF98-09,  165E,RF-0713,  1,     21,02-12827,2,19981014,0656,  7.9795, 164.0120, 5141,    330.9,   9.4297,  34.6371,2,   -999.0,9,-999.0000,9,   -999.0,9,  -999.00,9,  -999.00,9,  -999.00,9,  -999.00,9,  -999.00,9, -999.000,9, -999.000,9,  -999.00,9,   -999.0,9,   -999.0,9,-999.0000,9,   -999.0,  9,  -999.00,9,   -999.0,  -999.00,9,  -999.00,9,  -999.00,9,  -999.00,9,   -999.0,-999.0000, -999,9,  329,   9.3926,  26.7703,   -999.0,9
       RF98-09,  165E,RF-0713,  1,     22,02-12828,2,19981014,0657,  7.9795, 164.0120, 5141,    331.1,   9.4243,  34.6321,2,   -999.0,9,-999.0000,9,   -999.0,9,  -999.00,9,  -999.00,9,  -999.00,9,  -999.00,9,  -999.00,9, -999.000,9, -999.000,9,  -999.00,9,   -999.0,9,   -999.0,9,-999.0000,9,   -999.0,  9,  -999.00,9,   -999.0,  -999.00,9,  -999.00,9,  -999.00,9,  -999.00,9,   -999.0,-999.0000, -999,9,  329,   9.3872,  26.7672,   -999.0,9
       RF98-09,  165E,RF-0713,  1,     16,02-12832,2,19981014,0641,  7.9795, 164.0120, 5141,   1007.9,   4.5501,  34.5617,2,   -999.0,9,  34.5517,4,   -999.0,9,  -999.00,9,  -999.00,9,  -999.00,9,  -999.00,9,  -999.00,9, -999.000,9, -999.000,9,  -999.00,9,   -999.0,9,   -999.0,9,-999.0000,9,   -999.0,  9,  -999.00,9,   -999.0,  -999.00,9,  -999.00,9,  -999.00,9,  -999.00,9,   -999.0,-999.0000, -999,9, 1000,   4.4694,  27.3874,   -999.0,9
       RF98-09,  165E,RF-0713,  1,     17,02-12814,2,19981014,0641,  7.9795, 164.0120, 5141,   1008.9,   4.5575,  34.5543,2,   -999.0,9,  34.5531,2,   -999.0,9,  -999.00,9,  -999.00,9,  -999.00,9,  -999.00,9,  -999.00,9, -999.000,9, -999.000,9,  -999.00,9,   -999.0,9,   -999.0,9,-999.0000,9,   -999.0,  9,  -999.00,9,   -999.0,  -999.00,9,  -999.00,9,  -999.00,9,  -999.00,9,   -999.0,-999.0000, -999,9, 1001,   4.4767,  27.3808,   -999.0,9
       RF98-09,  165E,RF-0713,  1,     19,02-12825,2,19981014,0642,  7.9795, 164.0120, 5141,   1008.9,   4.5563,  34.5524,2,   -999.0,9,  34.5511,2,   -999.0,9,  -999.00,9,  -999.00,9,  -999.00,9,  -999.00,9,  -999.00,9, -999.000,9, -999.000,9,  -999.00,9,   -999.0,9,   -999.0,9,-999.0000,9,   -999.0,  9,  -999.00,9,   -999.0,  -999.00,9,  -999.00,9,  -999.00,9,  -999.00,9,   -999.0,-999.0000, -999,9, 1001,   4.4755,  27.3794,   -999.0,9
       RF98-09,  165E,RF-0713,  1,     18,02-12824,2,19981014,0642,  7.9795, 164.0120, 5141,   1009.7,   4.5573,  34.5515,2,   -999.0,9,  34.5519,2,   -999.0,9,  -999.00,9,  -999.00,9,  -999.00,9,  -999.00,9,  -999.00,9, -999.000,9, -999.000,9,  -999.00,9,   -999.0,9,   -999.0,9,-999.0000,9,   -999.0,  9,  -999.00,9,   -999.0,  -999.00,9,  -999.00,9,  -999.00,9,  -999.00,9,   -999.0,-999.0000, -999,9, 1002,   4.4764,  27.3786,   -999.0,9
       RF98-09,  165E,RF-0713,  1,     20,02-12826,2,19981014,0643,  7.9795, 164.0120, 5141,   1010.4,   4.5368,  34.5565,2,   -999.0,9,  34.5531,2,   -999.0,9,  -999.00,9,  -999.00,9,  -999.00,9,  -999.00,9,  -999.00,9, -999.000,9, -999.000,9,  -999.00,9,   -999.0,9,   -999.0,9,-999.0000,9,   -999.0,  9,  -999.00,9,   -999.0,  -999.00,9,  -999.00,9,  -999.00,9,  -999.00,9,   -999.0,-999.0000, -999,9, 1002,   4.4560,  27.3848,   -999.0,9
       RF98-09,  165E,RF-0713,  1,     10,02-12820,2,19981014,0610,  7.9795, 164.0120, 5141,   3040.1,   1.6520,  34.6720,2,   -999.0,9,  34.6703,2,   -999.0,9,  -999.00,9,  -999.00,9,  -999.00,9,  -999.00,9,  -999.00,9, -999.000,9, -999.000,9,  -999.00,9,   -999.0,9,   -999.0,9,-999.0000,9,   -999.0,  9,  -999.00,9,   -999.0,  -999.00,9,  -999.00,9,  -999.00,9,  -999.00,9,   -999.0,-999.0000, -999,9, 3001,   1.4280,  27.7522,   -999.0,9
       RF98-09,  165E,RF-0713,  1,      9,02-12810,2,19981014,0610,  7.9795, 164.0120, 5141,   3040.7,   1.6476,  34.6764,2,   -999.0,9,  34.6717,2,   -999.0,9,  -999.00,9,  -999.00,9,  -999.00,9,  -999.00,9,  -999.00,9, -999.000,9, -999.000,9,  -999.00,9,   -999.0,9,   -999.0,9,-999.0000,9,   -999.0,  9,  -999.00,9,   -999.0,  -999.00,9,  -999.00,9,  -999.00,9,  -999.00,9,   -999.0,-999.0000, -999,9, 3002,   1.4236,  27.7561,   -999.0,9
       RF98-09,  165E,RF-0713,  1,     13,02-13590,4,19981014,0612,  7.9795, 164.0120, 5141,   3041.4,   1.6534,  34.6732,2,   -999.0,9,-999.0000,9,   -999.0,9,  -999.00,9,  -999.00,9,  -999.00,9,  -999.00,9,  -999.00,9, -999.000,9, -999.000,9,  -999.00,9,   -999.0,9,   -999.0,9,-999.0000,9,   -999.0,  9,  -999.00,9,   -999.0,  -999.00,9,  -999.00,9,  -999.00,9,  -999.00,9,   -999.0,-999.0000, -999,9, 3003,   1.4293,  27.7531,   -999.0,9
       RF98-09,  165E,RF-0713,  1,     11,02-12811,2,19981014,0611,  7.9795, 164.0120, 5141,   3041.5,   1.6541,  34.6696,2,   -999.0,9,  34.6697,2,   -999.0,9,  -999.00,9,  -999.00,9,  -999.00,9,  -999.00,9,  -999.00,9, -999.000,9, -999.000,9,  -999.00,9,   -999.0,9,   -999.0,9,-999.0000,9,   -999.0,  9,  -999.00,9,   -999.0,  -999.00,9,  -999.00,9,  -999.00,9,  -999.00,9,   -999.0,-999.0000, -999,9, 3003,   1.4299,  27.7501,   -999.0,9
       RF98-09,  165E,RF-0713,  1,     12,02-12821,2,19981014,0611,  7.9795, 164.0120, 5141,   3041.9,   1.6542,  34.6699,2,   -999.0,9,  34.6581,4,   -999.0,9,  -999.00,9,  -999.00,9,  -999.00,9,  -999.00,9,  -999.00,9, -999.000,9, -999.000,9,  -999.00,9,   -999.0,9,   -999.0,9,-999.0000,9,   -999.0,  9,  -999.00,9,   -999.0,  -999.00,9,  -999.00,9,  -999.00,9,  -999.00,9,   -999.0,-999.0000, -999,9, 3003,   1.4300,  27.7504,   -999.0,9
       RF98-09,  165E,RF-0713,  1,     14,02-13578,2,19981014,0612,  7.9795, 164.0120, 5141,   3042.0,   1.6534,  34.6718,2,   -999.0,9,  34.6701,2,   -999.0,9,  -999.00,9,  -999.00,9,  -999.00,9,  -999.00,9,  -999.00,9, -999.000,9, -999.000,9,  -999.00,9,   -999.0,9,   -999.0,9,-999.0000,9,   -999.0,  9,  -999.00,9,   -999.0,  -999.00,9,  -999.00,9,  -999.00,9,  -999.00,9,   -999.0,-999.0000, -999,9, 3003,   1.4292,  27.7519,   -999.0,9
       RF98-09,  165E,RF-0713,  1,     15,02-12833,2,19981014,0613,  7.9795, 164.0120, 5141,   3042.2,   1.6526,  34.6728,2,   -999.0,9,  34.6688,2,   -999.0,9,  -999.00,9,  -999.00,9,  -999.00,9,  -999.00,9,  -999.00,9, -999.000,9, -999.000,9,  -999.00,9,   -999.0,9,   -999.0,9,-999.0000,9,   -999.0,  9,  -999.00,9,   -999.0,  -999.00,9,  -999.00,9,  -999.00,9,  -999.00,9,   -999.0,-999.0000, -999,9, 3003,   1.4284,  27.7528,   -999.0,9
       RF98-09,  165E,RF-0713,  1,      1,02-12807,2,19981014,0456,  7.9795, 164.0120, 5141,   5197.3,   1.3920,  34.7082,2,   -999.0,9,  34.7016,4,   -999.0,9,  -999.00,9,  -999.00,9,  -999.00,9,  -999.00,9,  -999.00,9, -999.000,9, -999.000,9,  -999.00,9,   -999.0,9,   -999.0,9,-999.0000,9,   -999.0,  9,  -999.00,9,   -999.0,  -999.00,9,  -999.00,9,  -999.00,9,  -999.00,9,   5207.0,-999.0000, -999,9, 5106,   0.9371,  27.8150,   -999.0,9
       RF98-09,  165E,RF-0713,  1,      2,02-13591,2,19981014,0457,  7.9795, 164.0120, 5141,   5199.1,   1.3947,  34.7014,2,   -999.0,9,  34.7018,2,   -999.0,9,  -999.00,9,  -999.00,9,  -999.00,9,  -999.00,9,  -999.00,9, -999.000,9, -999.000,9,  -999.00,9,   -999.0,9,   -999.0,9,-999.0000,9,   -999.0,  9,  -999.00,9,   -999.0,  -999.00,9,  -999.00,9,  -999.00,9,  -999.00,9,   -999.0,-999.0000, -999,9, 5108,   0.9396,  27.8094,   -999.0,9
       RF98-09,  165E,RF-0713,  1,      3,02-12808,2,19981014,0457,  7.9795, 164.0120, 5141,   5199.3,   1.3956,  34.6998,2,   -999.0,9,  34.7028,2,   -999.0,9,  -999.00,9,  -999.00,9,  -999.00,9,  -999.00,9,  -999.00,9, -999.000,9, -999.000,9,  -999.00,9,   -999.0,9,   -999.0,9,-999.0000,9,   -999.0,  9,  -999.00,9,   -999.0,  -999.00,9,  -999.00,9,  -999.00,9,  -999.00,9,   -999.0,-999.0000, -999,9, 5108,   0.9405,  27.8081,   -999.0,9
       RF98-09,  165E,RF-0713,  1,      7,02-12815,2,19981014,0500,  7.9795, 164.0120, 5141,   5199.5,   1.3961,  34.6989,2,   -999.0,9,  34.7026,2,   -999.0,9,  -999.00,9,  -999.00,9,  -999.00,9,  -999.00,9,  -999.00,9, -999.000,9, -999.000,9,  -999.00,9,   -999.0,9,   -999.0,9,-999.0000,9,   -999.0,  9,  -999.00,9,   -999.0,  -999.00,9,  -999.00,9,  -999.00,9,  -999.00,9,   -999.0,-999.0000, -999,9, 5108,   0.9409,  27.8073,   -999.0,9
       RF98-09,  165E,RF-0713,  1,      6,02-12818,4,19981014,0459,  7.9795, 164.0120, 5141,   5199.9,   1.3961,  34.6993,2,   -999.0,9,-999.0000,9,   -999.0,9,  -999.00,9,  -999.00,9,  -999.00,9,  -999.00,9,  -999.00,9, -999.000,9, -999.000,9,  -999.00,9,   -999.0,9,   -999.0,9,-999.0000,9,   -999.0,  9,  -999.00,9,   -999.0,  -999.00,9,  -999.00,9,  -999.00,9,  -999.00,9,   -999.0,-999.0000, -999,9, 5109,   0.9409,  27.8077,   -999.0,9
       RF98-09,  165E,RF-0713,  1,      4,02-12817,2,19981014,0458,  7.9795, 164.0120, 5141,   5200.2,   1.3960,  34.6994,2,   -999.0,9,  34.7050,2,   -999.0,9,  -999.00,9,  -999.00,9,  -999.00,9,  -999.00,9,  -999.00,9, -999.000,9, -999.000,9,  -999.00,9,   -999.0,9,   -999.0,9,-999.0000,9,   -999.0,  9,  -999.00,9,   -999.0,  -999.00,9,  -999.00,9,  -999.00,9,  -999.00,9,   -999.0,-999.0000, -999,9, 5109,   0.9407,  27.8077,   -999.0,9
       RF98-09,  165E,RF-0713,  1,      5,02-12809,2,19981014,0459,  7.9795, 164.0120, 5141,   5200.5,   1.3952,  34.7009,2,   -999.0,9,  34.7028,2,   -999.0,9,  -999.00,9,  -999.00,9,  -999.00,9,  -999.00,9,  -999.00,9, -999.000,9, -999.000,9,  -999.00,9,   -999.0,9,   -999.0,9,-999.0000,9,   -999.0,  9,  -999.00,9,   -999.0,  -999.00,9,  -999.00,9,  -999.00,9,  -999.00,9,   -999.0,-999.0000, -999,9, 5109,   0.9399,  27.8090,   -999.0,9
       RF98-09,  165E,RF-0713,  1,      8,02-13579,2,19981014,0500,  7.9795, 164.0120, 5141,   5201.1,   1.3963,  34.6999,2,   -999.0,9,  34.5848,4,   -999.0,9,  -999.00,9,  -999.00,9,  -999.00,9,  -999.00,9,  -999.00,9, -999.000,9, -999.000,9,  -999.00,9,   -999.0,9,   -999.0,9,-999.0000,9,   -999.0,  9,  -999.00,9,   -999.0,  -999.00,9,  -999.00,9,  -999.00,9,  -999.00,9,   -999.0,-999.0000, -999,9, 5110,   0.9409,  27.8081,   -999.0,9