BOTTLE,20130510GEMDJMAYT
EXPOCODE,SECT_ID,STNNBR,CASTNO,SAMPNO,BTLNBR,BTLNBR_FLAG_W,DATE,TIME,LATITUDE,LONGITUDE,DEPTH,CTDPRS,CTDTMP,CTDSAL,CTDSAL_FLAG_W,CTDOXY,CTDOXY_FLAG_W,SALNTY,SALNTY_FLAG_W,OXYGEN,OXYGEN_FLAG_W,SILCAT,SILCAT_FLAG_W,NITRAT,NITRAT_FLAG_W,NO2+NO3,NO2+NO3_FLAG_W,NITRIT,NITRIT_FLAG_W,PHSPHT,PHSPHT_FLAG_W,CFC-11,CFC-11_FLAG_W,CFC-12,CFC-12_FLAG_W,DELC13,DELC13_FLAG_W,TCARBN,TCARBN_FLAG_W,ALKALI,ALKALI_FLAG_W,PH,PH_FLAG_W,PH_TMP,PH_SCALE,PH_NBS,PH_NBS_FLAG_W,C13ERR,TOTALP,TOTALP_FLAG_W,AMMONI,AMMONI_FLAG_W,CHLORA,CHLORA_FLAG_W,PPHYTN,PPHYTN_FLAG_W,REVPRS,REVTMP,DEPTH_,DEPTH_FLAG,CTDDEP,THETA,SIGTHT,DOC,DOC_FLAG_W
,,,,,,,GMT,GMT,,,METER,DBAR,ITS-90,PSS-78,,UMOL/KG,,PSS-78,,UMOL/KG,,UMOL/KG,,UMOL/KG,,UMOL/KG,,UMOL/KG,,UMOL/KG,,PMOL/KG,,PMOL/KG,,/MILLE,,UMOL/KG,,UMOL/KG,,25_DEG_C,,DEG_C,,,,/MILLE,UMOL/KG,,UMOL/KG,,UG/L,,UG/L,,DBAR,ITS-90,METERS,,METERS,DEG_C,,UMOL/L,
       RF99-04,  165E,RF-0810,  1,     -9,      -9,5,19990517,2339, 45.0215, 165.0070, 5976,      0.0,   4.9829,  31.1309,2,   -999.0,9,-999.0000,9,    308.9,2,    27.64,2,  -999.00,9,    16.24,2,     0.29,2,     1.39,2, -999.000,9, -999.000,9,  -999.00,9,   -999.0,9,   -999.0,9,-999.0000,9,   -999.0,  9,  -999.00,9,   -999.0,  -999.00,9,  -999.00,9,  -999.00,9,  -999.00,9,   -999.0,-999.0000, -999,9,    0,   4.9829,  24.6109,   -999.0,9
       RF99-04,  165E,RF-0810,  1,     24, 02-9150,2,19990517,2337, 45.0215, 165.0070, 5976,      7.7,   4.9750,  33.2187,2,   -999.0,9,  33.2623,4,    308.9,2,    27.61,2,  -999.00,9,    16.25,2,     0.28,2,     1.38,2, -999.000,9, -999.000,9,  -999.00,9,   -999.0,9,   -999.0,9,-999.0000,9,   -999.0,  9,  -999.00,9,   -999.0,  -999.00,9,  -999.00,9,  -999.00,9,  -999.00,9,   -999.0,-999.0000, -999,9,    8,   4.9745,  26.2660,   -999.0,9
       RF99-04,  165E,RF-0810,  1,     23,02-12829,2,19990517,2336, 45.0215, 165.0070, 5976,     23.4,   4.9767,  33.2483,2,   -999.0,9,  33.2486,2,    309.2,2,    27.25,2,  -999.00,9,    15.97,2,     0.28,2,     1.37,2, -999.000,9, -999.000,9,  -999.00,9,   -999.0,9,   -999.0,9,-999.0000,9,   -999.0,  9,  -999.00,9,   -999.0,  -999.00,9,  -999.00,9,  -999.00,9,  -999.00,9,   -999.0,-999.0000, -999,9,   23,   4.9749,  26.2894,   -999.0,9
       RF99-04,  165E,RF-0810,  1,     22,02-12828,2,19990517,2335, 45.0215, 165.0070, 5976,     49.1,   4.9045,  33.2509,2,   -999.0,9,  33.2582,4,    308.7,2,    27.51,2,  -999.00,9,    16.25,2,     0.29,2,     1.38,2, -999.000,9, -999.000,9,  -999.00,9,   -999.0,9,   -999.0,9,-999.0000,9,   -999.0,  9,  -999.00,9,   -999.0,  -999.00,9,  -999.00,9,  -999.00,9,  -999.00,9,   -999.0,-999.0000, -999,9,   49,   4.9009,  26.2997,   -999.0,9
       RF99-04,  165E,RF-0810,  1,     21,02-12827,2,19990517,2334, 45.0215, 165.0070, 5976,     73.9,   4.4241,  33.3504,2,   -999.0,9,  33.4755,4,    301.5,2,    27.26,2,  -999.00,9,    17.78,2,     0.39,2,     1.43,2, -999.000,9, -999.000,9,  -999.00,9,   -999.0,9,   -999.0,9,-999.0000,9,   -999.0,  9,  -999.00,9,   -999.0,  -999.00,9,  -999.00,9,  -999.00,9,  -999.00,9,   -999.0,-999.0000, -999,9,   73,   4.4190,  26.4309,   -999.0,9
       RF99-04,  165E,RF-0810,  1,     20,02-12826,2,19990517,2333, 45.0215, 165.0070, 5976,    100.6,   4.1802,  33.3444,2,   -999.0,9,  33.3548,4,    302.2,2,    28.54,2,  -999.00,9,    18.62,2,     0.33,2,     1.49,2, -999.000,9, -999.000,9,  -999.00,9,   -999.0,9,   -999.0,9,-999.0000,9,   -999.0,  9,  -999.00,9,   -999.0,  -999.00,9,  -999.00,9,  -999.00,9,  -999.00,9,   -999.0,-999.0000, -999,9,  100,   4.1733,  26.4517,   -999.0,9
       RF99-04,  165E,RF-0810,  1,     19,02-12825,2,19990517,2332, 45.0215, 165.0070, 5976,    126.5,   3.9219,  33.3379,2,   -999.0,9,-999.0000,9,    299.0,2,    30.02,2,  -999.00,9,    19.26,2,     0.19,2,     1.52,2, -999.000,9, -999.000,9,  -999.00,9,   -999.0,9,   -999.0,9,-999.0000,9,   -999.0,  9,  -999.00,9,   -999.0,  -999.00,9,  -999.00,9,  -999.00,9,  -999.00,9,   -999.0,-999.0000, -999,9,  125,   3.9135,  26.4727,   -999.0,9
       RF99-04,  165E,RF-0810,  1,     18,02-12830,2,19990517,2331, 45.0215, 165.0070, 5976,    151.9,   4.0790,  33.3937,2,   -999.0,9,  33.5444,4,    292.6,2,    30.21,2,  -999.00,9,    19.33,2,     0.03,2,     1.53,2, -999.000,9, -999.000,9,  -999.00,9,   -999.0,9,   -999.0,9,-999.0000,9,   -999.0,  9,  -999.00,9,   -999.0,  -999.00,9,  -999.00,9,  -999.00,9,  -999.00,9,   -999.0,-999.0000, -999,9,  151,   4.0687,  26.5015,   -999.0,9
       RF99-04,  165E,RF-0810,  1,     17,02-13591,2,19990517,2330, 45.0215, 165.0070, 5976,    200.4,   4.7911,  33.6733,2,   -999.0,9,  33.6636,4,    196.1,2,    46.58,2,  -999.00,9,    26.49,2,     0.02,2,     1.97,2, -999.000,9, -999.000,9,  -999.00,9,   -999.0,9,   -999.0,9,-999.0000,9,   -999.0,  9,  -999.00,9,   -999.0,  -999.00,9,  -999.00,9,  -999.00,9,  -999.00,9,   -999.0,-999.0000, -999,9,  199,   4.7761,  26.6485,   -999.0,9
       RF99-04,  165E,RF-0810,  1,     16,02-13588,2,19990517,2328, 45.0215, 165.0070, 5976,    252.3,   4.1681,  33.7170,2,   -999.0,9,-999.0000,9,    151.2,2,    60.67,2,  -999.00,9,    31.12,2,     0.01,2,     2.32,2, -999.000,9, -999.000,9,  -999.00,9,   -999.0,9,   -999.0,9,-999.0000,9,   -999.0,  9,  -999.00,9,   -999.0,  -999.00,9,  -999.00,9,  -999.00,9,  -999.00,9,   -999.0,-999.0000, -999,9,  250,   4.1505,  26.7502,   -999.0,9
       RF99-04,  165E,RF-0810,  1,     15,02-10155,2,19990517,2327, 45.0215, 165.0070, 5976,    301.1,   4.1539,  33.8013,2,   -999.0,9,  33.9388,4,    126.2,2,    68.86,2,  -999.00,9,    33.64,2,     0.01,2,     2.48,2, -999.000,9, -999.000,9,  -999.00,9,   -999.0,9,   -999.0,9,-999.0000,9,   -999.0,  9,  -999.00,9,   -999.0,  -999.00,9,  -999.00,9,  -999.00,9,  -999.00,9,   -999.0,-999.0000, -999,9,  298,   4.1328,  26.8190,   -999.0,9
       RF99-04,  165E,RF-0810,  1,     14,02-13579,2,19990517,2324, 45.0215, 165.0070, 5976,    402.1,   3.8883,  33.9193,2,   -999.0,9,  34.0431,4,     83.0,2,    84.97,2,  -999.00,9,    38.27,2,     0.01,2,     2.78,2, -999.000,9, -999.000,9,  -999.00,9,   -999.0,9,   -999.0,9,-999.0000,9,   -999.0,  9,  -999.00,9,   -999.0,  -999.00,9,  -999.00,9,  -999.00,9,  -999.00,9,   -999.0,-999.0000, -999,9,  398,   3.8605,  26.9406,   -999.0,9
       RF99-04,  165E,RF-0810,  1,     13,02-13590,2,19990517,2322, 45.0215, 165.0070, 5976,    503.8,   3.6937,  34.0196,2,   -999.0,9,-999.0000,9,     54.5,2,    98.44,2,  -999.00,9,    40.93,2,     0.01,2,     2.98,2, -999.000,9, -999.000,9,  -999.00,9,   -999.0,9,   -999.0,9,-999.0000,9,   -999.0,  9,  -999.00,9,   -999.0,  -999.00,9,  -999.00,9,  -999.00,9,  -999.00,9,   -999.0,-999.0000, -999,9,  499,   3.6591,  27.0404,   -999.0,9
       RF99-04,  165E,RF-0810,  1,     12,02-12821,2,19990517,2319, 45.0215, 165.0070, 5976,    605.6,   3.5763,  34.1319,2,   -999.0,9,  34.1501,4,     37.9,2,   109.96,2,  -999.00,9,    42.07,2,     0.01,2,     3.04,2, -999.000,9, -999.000,9,  -999.00,9,   -999.0,9,   -999.0,9,-999.0000,9,   -999.0,  9,  -999.00,9,   -999.0,  -999.00,9,  -999.00,9,  -999.00,9,  -999.00,9,   -999.0,-999.0000, -999,9,  600,   3.5347,  27.1420,   -999.0,9
       RF99-04,  165E,RF-0810,  1,     11,02-12811,2,19990517,2314, 45.0215, 165.0070, 5976,    812.4,   3.2007,  34.2745,2,   -999.0,9,  34.2728,2,     31.0,2,   126.52,2,  -999.00,9,    42.82,2,     0.01,2,     3.10,2, -999.000,9, -999.000,9,  -999.00,9,   -999.0,9,   -999.0,9,-999.0000,9,   -999.0,  9,  -999.00,9,   -999.0,  -999.00,9,  -999.00,9,  -999.00,9,  -999.00,9,   -999.0,-999.0000, -999,9,  804,   3.1457,  27.2925,   -999.0,9
       RF99-04,  165E,RF-0810,  1,     10,02-12820,2,19990517,2308, 45.0215, 165.0070, 5976,   1009.8,   2.8701,  34.3596,2,   -999.0,9,  34.3591,2,     27.1,2,   138.92,2,  -999.00,9,    43.30,2,     0.01,2,     3.11,2, -999.000,9, -999.000,9,  -999.00,9,   -999.0,9,   -999.0,9,-999.0000,9,   -999.0,  9,  -999.00,9,   -999.0,  -999.00,9,  -999.00,9,  -999.00,9,  -999.00,9,   -999.0,-999.0000, -999,9,  999,   2.8027,  27.3916,   -999.0,9
       RF99-04,  165E,RF-0810,  1,      9,02-12810,2,19990517,2303, 45.0215, 165.0070, 5976,   1260.6,   2.5429,  34.4450,2,   -999.0,9,-999.0000,9,     31.1,2,   149.41,2,  -999.00,9,    43.22,2,     0.01,2,     3.09,2, -999.000,9, -999.000,9,  -999.00,9,   -999.0,9,   -999.0,9,-999.0000,9,   -999.0,  9,  -999.00,9,   -999.0,  -999.00,9,  -999.00,9,  -999.00,9,  -999.00,9,   -999.0,-999.0000, -999,9, 1247,   2.4594,  27.4896,   -999.0,9
       RF99-04,  165E,RF-0810,  1,      8,02-12819,2,19990517,2258, 45.0215, 165.0070, 5976,   1516.2,   2.2929,  34.5047,2,   -999.0,9,  34.5025,2,     40.5,2,   155.37,2,  -999.00,9,    42.77,2,     0.01,2,     3.06,2, -999.000,9, -999.000,9,  -999.00,9,   -999.0,9,   -999.0,9,-999.0000,9,   -999.0,  9,  -999.00,9,   -999.0,  -999.00,9,  -999.00,9,  -999.00,9,  -999.00,9,   -999.0,-999.0000, -999,9, 1498,   2.1922,  27.5595,   -999.0,9
       RF99-04,  165E,RF-0810,  1,      7,02-12815,2,19990517,2249, 45.0215, 165.0070, 5976,   2024.9,   1.9346,  34.5916,2,   -999.0,9,  34.5910,2,     66.3,2,   160.28,2,  -999.00,9,    41.08,2,     0.01,2,     2.91,2, -999.000,9, -999.000,9,  -999.00,9,   -999.0,9,   -999.0,9,-999.0000,9,   -999.0,  9,  -999.00,9,   -999.0,  -999.00,9,  -999.00,9,  -999.00,9,  -999.00,9,   -999.0,-999.0000, -999,9, 1999,   1.7972,  27.6603,   -999.0,9
       RF99-04,  165E,RF-0810,  1,      6,02-12818,2,19990517,2239, 45.0215, 165.0070, 5976,   2532.8,   1.7031,  34.6354,2,   -999.0,9,-999.0000,9,     88.8,2,   160.91,2,  -999.00,9,    39.74,2,     0.01,2,     2.80,2, -999.000,9, -999.000,9,  -999.00,9,   -999.0,9,   -999.0,9,-999.0000,9,   -999.0,  9,  -999.00,9,   -999.0,  -999.00,9,  -999.00,9,  -999.00,9,  -999.00,9,   -999.0,-999.0000, -999,9, 2497,   1.5255,  27.7157,   -999.0,9
       RF99-04,  165E,RF-0810,  1,      5,02-12809,2,19990517,2230, 45.0215, 165.0070, 5976,   3043.2,   1.5738,  34.6599,2,   -999.0,9,  34.6591,2,    116.2,2,   153.67,2,  -999.00,9,    37.98,2,     0.01,2,     2.66,2, -999.000,9, -999.000,9,  -999.00,9,   -999.0,9,   -999.0,9,-999.0000,9,   -999.0,  9,  -999.00,9,   -999.0,  -999.00,9,  -999.00,9,  -999.00,9,  -999.00,9,   -999.0,-999.0000, -999,9, 2997,   1.3513,  27.7479,   -999.0,9
       RF99-04,  165E,RF-0810,  1,      4,02-12817,2,19990517,2221, 45.0215, 165.0070, 5976,   3552.4,   1.5106,  34.6737,2,   -999.0,9,  34.6729,2,    131.8,2,   149.60,2,  -999.00,9,    37.04,2,     0.01,2,     2.58,2, -999.000,9, -999.000,9,  -999.00,9,   -999.0,9,   -999.0,9,-999.0000,9,   -999.0,  9,  -999.00,9,   -999.0,  -999.00,9,  -999.00,9,  -999.00,9,  -999.00,9,   -999.0,-999.0000, -999,9, 3494,   1.2389,  27.7669,   -999.0,9
       RF99-04,  165E,RF-0810,  1,      3,02-12808,2,19990517,2213, 45.0215, 165.0070, 5976,   4063.2,   1.4863,  34.6815,2,   -999.0,9,  34.6806,2,    140.9,2,   146.75,2,  -999.00,9,    36.35,2,     0.01,2,     2.52,2, -999.000,9, -999.000,9,  -999.00,9,   -999.0,9,   -999.0,9,-999.0000,9,   -999.0,  9,  -999.00,9,   -999.0,  -999.00,9,  -999.00,9,  -999.00,9,  -999.00,9,   -999.0,-999.0000, -999,9, 3992,   1.1609,  27.7786,   -999.0,9
       RF99-04,  165E,RF-0810,  1,      2,02-13589,4,19990517,2158, 45.0215, 165.0070, 5976,   5090.4,   1.5291,  34.6885,2,   -999.0,9,-999.0000,9,   -999.0,4,  -999.00,4,  -999.00,9,  -999.00,4,  -999.00,4,  -999.00,4, -999.000,9, -999.000,9,  -999.00,9,   -999.0,9,   -999.0,9,-999.0000,9,   -999.0,  9,  -999.00,9,   -999.0,  -999.00,9,  -999.00,9,  -999.00,9,  -999.00,9,   -999.0,-999.0000, -999,9, 4990,   1.0828,  27.7895,   -999.0,9
       RF99-04,  165E,RF-0810,  1,      1,02-12807,2,19990517,2145, 45.0215, 165.0070, 5976,   6053.6,   1.6482,  34.6886,2,   -999.0,9,  34.7337,4,   -999.0,9,   146.15,2,  -999.00,9,    35.78,2,     0.01,2,     2.47,2, -999.000,9, -999.000,9,  -999.00,9,   -999.0,9,   -999.0,9,-999.0000,9,   -999.0,  9,  -999.00,9,   -999.0,  -999.00,9,  -999.00,9,  -999.00,9,  -999.00,9,   -999.0,-999.0000, -999,9, 5921,   1.0734,  27.7902,   -999.0,9