BOTTLE,20130510GEMDJMAYT
# 05/09/2013: Change CTDPRS/DEP to 0 at lines of BTLNBR_FLAG_W = 5.
# 05/09/2013: Correct the error of converted time from JST to GMT.
#BOTTLE,20121206MIRCJHATS
# 12/06/2012: Change BTLNBR_FLAG_W: 8 to 5 at lines of BTLNBR = -9.
# 08/20/2008: updated
# 02/19/2009 : pH scale specified in header.
# 02/19/2009 : NO2+NO3 label corrected in header.
# 04/05/2010 : pH scale specified in header, corrected for QF of CTDSAL (5 -> 2), converted time from JST to GMT
EXPOCODE,SECT_ID,STNNBR,CASTNO,SAMPNO,BTLNBR,BTLNBR_FLAG_W,DATE,TIME,LATITUDE,LONGITUDE,DEPTH,CTDPRS,CTDTMP,CTDSAL,CTDSAL_FLAG_W,CTDOXY,CTDOXY_FLAG_W,SALNTY,SALNTY_FLAG_W,OXYGEN,OXYGEN_FLAG_W,SILCAT,SILCAT_FLAG_W,NITRAT,NITRAT_FLAG_W,NO2+NO3,NO2+NO3_FLAG_W,NITRIT,NITRIT_FLAG_W,PHSPHT,PHSPHT_FLAG_W,CFC-11,CFC-11_FLAG_W,CFC-12,CFC-12_FLAG_W,DELC13,DELC13_FLAG_W,TCARBN,TCARBN_FLAG_W,ALKALI,ALKALI_FLAG_W,PH,PH_FLAG_W,PH_TMP,PH_SCALE,PH_NBS,PH_NBS_FLAG_W,C13ERR,TOTALP,TOTALP_FLAG_W,AMMONI,AMMONI_FLAG_W,CHLORA,CHLORA_FLAG_W,PPHYTN,PPHYTN_FLAG_W,REVPRS,REVTMP,DEPTH_,DEPTH_FLAG,CTDDEP,THETA,SIGTHT,DOC,DOC_FLAG_W
,,,,,,,GMT,GMT,,,METER,DBAR,ITS-90,PSS-78,,UMOL/KG,,PSS-78,,UMOL/KG,,UMOL/KG,,UMOL/KG,,UMOL/KG,,UMOL/KG,,UMOL/KG,,PMOL/KG,,PMOL/KG,,/MILLE,,UMOL/KG,,UMOL/KG,,25_DEG_C,,DEG_C,,,,/MILLE,UMOL/KG,,UMOL/KG,,UG/L,,UG/L,,DBAR,ITS-90,METERS,,METERS,DEG_C,,UMOL/L,
       RF99-04,  NONE,RF-0781,  1,     23,02-12829,2,19990423,0831, 34.6707, 138.5637, 1857,   1512.9,   2.7093,  34.5135,2,   -999.0,9,  34.5114,2,     87.0,2,   136.77,2,  -999.00,9,    40.31,2,     0.02,2,     2.81,2, -999.000,9, -999.000,9,  -999.00,9,   -999.0,9,   -999.0,9,-999.0000,9,   -999.0,  9,  -999.00,9,   -999.0,  -999.00,9,  -999.00,9,  -999.00,9,  -999.00,9,   -999.0,-999.0000, -999,9, 1497,   2.6039,  27.5320,   -999.0,9
       RF99-04,  NONE,RF-0781,  1,     21,02-12827,2,19990423,0830, 34.6707, 138.5637, 1857,   1513.0,   2.7109,  34.5127,2,   -999.0,9,-999.0000,9,   -999.0,9,  -999.00,9,  -999.00,9,  -999.00,9,  -999.00,9,  -999.00,9, -999.000,9, -999.000,9,  -999.00,9,   -999.0,9,   -999.0,9,-999.0000,9,   -999.0,  9,  -999.00,9,   -999.0,  -999.00,9,  -999.00,9,  -999.00,9,  -999.00,9,   -999.0,-999.0000, -999,9, 1497,   2.6055,  27.5312,   -999.0,9
       RF99-04,  NONE,RF-0781,  1,     13,02-13590,2,19990423,0826, 34.6707, 138.5637, 1857,   1513.0,   2.7139,  34.5127,2,   -999.0,9,  34.5155,2,     86.4,2,   137.04,2,  -999.00,9,    40.25,2,     0.02,2,     2.82,2, -999.000,9, -999.000,9,  -999.00,9,   -999.0,9,   -999.0,9,-999.0000,9,   -999.0,  9,  -999.00,9,   -999.0,  -999.00,9,  -999.00,9,  -999.00,9,  -999.00,9,   -999.0,-999.0000, -999,9, 1497,   2.6085,  27.5309,   -999.0,9
       RF99-04,  NONE,RF-0781,  1,     17,02-12814,2,19990423,0828, 34.6707, 138.5637, 1857,   1513.1,   2.7110,  34.5130,2,   -999.0,9,-999.0000,9,   -999.0,9,  -999.00,9,  -999.00,9,  -999.00,9,  -999.00,9,  -999.00,9, -999.000,9, -999.000,9,  -999.00,9,   -999.0,9,   -999.0,9,-999.0000,9,   -999.0,  9,  -999.00,9,   -999.0,  -999.00,9,  -999.00,9,  -999.00,9,  -999.00,9,   -999.0,-999.0000, -999,9, 1497,   2.6056,  27.5314,   -999.0,9
       RF99-04,  NONE,RF-0781,  1,     11,02-12811,2,19990423,0825, 34.6707, 138.5637, 1857,   1513.1,   2.7071,  34.5132,2,   -999.0,9,-999.0000,9,   -999.0,9,  -999.00,9,  -999.00,9,  -999.00,9,  -999.00,9,  -999.00,9, -999.000,9, -999.000,9,  -999.00,9,   -999.0,9,   -999.0,9,-999.0000,9,   -999.0,  9,  -999.00,9,   -999.0,  -999.00,9,  -999.00,9,  -999.00,9,  -999.00,9,   -999.0,-999.0000, -999,9, 1497,   2.6017,  27.5319,   -999.0,9
       RF99-04,  NONE,RF-0781,  1,     12,02-12821,2,19990423,0826, 34.6707, 138.5637, 1857,   1513.2,   2.7071,  34.5129,2,   -999.0,9,-999.0000,9,   -999.0,9,  -999.00,9,  -999.00,9,  -999.00,9,  -999.00,9,  -999.00,9, -999.000,9, -999.000,9,  -999.00,9,   -999.0,9,   -999.0,9,-999.0000,9,   -999.0,  9,  -999.00,9,   -999.0,  -999.00,9,  -999.00,9,  -999.00,9,  -999.00,9,   -999.0,-999.0000, -999,9, 1497,   2.6018,  27.5317,   -999.0,9
       RF99-04,  NONE,RF-0781,  1,     22,02-12828,2,19990423,0831, 34.6707, 138.5637, 1857,   1513.2,   2.7089,  34.5126,2,   -999.0,9,-999.0000,9,   -999.0,9,  -999.00,9,  -999.00,9,  -999.00,9,  -999.00,9,  -999.00,9, -999.000,9, -999.000,9,  -999.00,9,   -999.0,9,   -999.0,9,-999.0000,9,   -999.0,  9,  -999.00,9,   -999.0,  -999.00,9,  -999.00,9,  -999.00,9,  -999.00,9,   -999.0,-999.0000, -999,9, 1497,   2.6035,  27.5313,   -999.0,9
       RF99-04,  NONE,RF-0781,  1,     16,02-12832,2,19990423,0828, 34.6707, 138.5637, 1857,   1513.3,   2.7136,  34.5122,2,   -999.0,9,-999.0000,4,     87.7,2,   136.81,2,  -999.00,9,    40.28,2,     0.02,2,     2.82,2, -999.000,9, -999.000,9,  -999.00,9,   -999.0,9,   -999.0,9,-999.0000,9,   -999.0,  9,  -999.00,9,   -999.0,  -999.00,9,  -999.00,9,  -999.00,9,  -999.00,9,   -999.0,-999.0000, -999,9, 1497,   2.6082,  27.5305,   -999.0,9
       RF99-04,  NONE,RF-0781,  1,     14,02-13578,2,19990423,0827, 34.6707, 138.5637, 1857,   1513.3,   2.7145,  34.5124,2,   -999.0,9,-999.0000,9,   -999.0,9,  -999.00,9,  -999.00,9,  -999.00,9,  -999.00,9,  -999.00,9, -999.000,9, -999.000,9,  -999.00,9,   -999.0,9,   -999.0,9,-999.0000,9,   -999.0,  9,  -999.00,9,   -999.0,  -999.00,9,  -999.00,9,  -999.00,9,  -999.00,9,   -999.0,-999.0000, -999,9, 1497,   2.6091,  27.5307,   -999.0,9
       RF99-04,  NONE,RF-0781,  1,     20,02-12826,2,19990423,0830, 34.6707, 138.5637, 1857,   1513.4,   2.7086,  34.5128,2,   -999.0,9,-999.0000,9,   -999.0,9,  -999.00,9,  -999.00,9,  -999.00,9,  -999.00,9,  -999.00,9, -999.000,9, -999.000,9,  -999.00,9,   -999.0,9,   -999.0,9,-999.0000,9,   -999.0,  9,  -999.00,9,   -999.0,  -999.00,9,  -999.00,9,  -999.00,9,  -999.00,9,   -999.0,-999.0000, -999,9, 1497,   2.6032,  27.5314,   -999.0,9
       RF99-04,  NONE,RF-0781,  1,     10,02-12820,2,19990423,0824, 34.6707, 138.5637, 1857,   1513.4,   2.7060,  34.5136,2,   -999.0,9,  34.5151,2,    129.0,2,   137.04,2,  -999.00,9,    40.30,2,     0.02,2,     2.82,2, -999.000,9, -999.000,9,  -999.00,9,   -999.0,9,   -999.0,9,-999.0000,9,   -999.0,  9,  -999.00,9,   -999.0,  -999.00,9,  -999.00,9,  -999.00,9,  -999.00,9,   -999.0,-999.0000, -999,9, 1497,   2.6006,  27.5323,   -999.0,9
       RF99-04,  NONE,RF-0781,  1,     15,02-12833,2,19990423,0827, 34.6707, 138.5637, 1857,   1513.5,   2.7139,  34.5111,2,   -999.0,9,-999.0000,9,   -999.0,9,  -999.00,9,  -999.00,9,  -999.00,9,  -999.00,9,  -999.00,9, -999.000,9, -999.000,9,  -999.00,9,   -999.0,9,   -999.0,9,-999.0000,9,   -999.0,  9,  -999.00,9,   -999.0,  -999.00,9,  -999.00,9,  -999.00,9,  -999.00,9,   -999.0,-999.0000, -999,9, 1497,   2.6084,  27.5297,   -999.0,9
       RF99-04,  NONE,RF-0781,  1,     18,02-12824,2,19990423,0829, 34.6707, 138.5637, 1857,   1513.5,   2.7075,  34.5134,2,   -999.0,9,-999.0000,9,   -999.0,9,  -999.00,9,  -999.00,9,  -999.00,9,  -999.00,9,  -999.00,9, -999.000,9, -999.000,9,  -999.00,9,   -999.0,9,   -999.0,9,-999.0000,9,   -999.0,  9,  -999.00,9,   -999.0,  -999.00,9,  -999.00,9,  -999.00,9,  -999.00,9,   -999.0,-999.0000, -999,9, 1497,   2.6021,  27.5320,   -999.0,9
       RF99-04,  NONE,RF-0781,  1,     19,02-12825,2,19990423,0829, 34.6707, 138.5637, 1857,   1513.6,   2.7082,  34.5127,2,   -999.0,9,-999.0000,4,     87.7,2,   137.02,2,  -999.00,9,    40.17,2,     0.02,2,     2.81,2, -999.000,9, -999.000,9,  -999.00,9,   -999.0,9,   -999.0,9,-999.0000,9,   -999.0,  9,  -999.00,9,   -999.0,  -999.00,9,  -999.00,9,  -999.00,9,  -999.00,9,   -999.0,-999.0000, -999,9, 1497,   2.6028,  27.5314,   -999.0,9
       RF99-04,  NONE,RF-0781,  1,      9,02-12810,2,19990423,0824, 34.6707, 138.5637, 1857,   1513.8,   2.7092,  34.5125,2,   -999.0,9,-999.0000,9,   -999.0,9,  -999.00,9,  -999.00,9,  -999.00,9,  -999.00,9,  -999.00,9, -999.000,9, -999.000,9,  -999.00,9,   -999.0,9,   -999.0,9,-999.0000,9,   -999.0,  9,  -999.00,9,   -999.0,  -999.00,9,  -999.00,9,  -999.00,9,  -999.00,9,   -999.0,-999.0000, -999,9, 1498,   2.6037,  27.5312,   -999.0,9
       RF99-04,  NONE,RF-0781,  1,      8,02-12819,2,19990423,0822, 34.6707, 138.5637, 1857,   1514.3,   2.7099,  34.5120,2,   -999.0,9,-999.0000,9,   -999.0,9,  -999.00,9,  -999.00,9,  -999.00,9,  -999.00,9,  -999.00,9, -999.000,9, -999.000,9,  -999.00,9,   -999.0,9,   -999.0,9,-999.0000,9,   -999.0,  9,  -999.00,9,   -999.0,  -999.00,9,  -999.00,9,  -999.00,9,  -999.00,9,   -999.0,-999.0000, -999,9, 1498,   2.6044,  27.5307,   -999.0,9
       RF99-04,  NONE,RF-0781,  1,      7,02-12815,2,19990423,0822, 34.6707, 138.5637, 1857,   1514.8,   2.7037,  34.5139,2,   -999.0,9,-999.0000,9,   -999.0,9,  -999.00,9,  -999.00,9,  -999.00,9,  -999.00,9,  -999.00,9, -999.000,9, -999.000,9,  -999.00,9,   -999.0,9,   -999.0,9,-999.0000,9,   -999.0,  9,  -999.00,9,   -999.0,  -999.00,9,  -999.00,9,  -999.00,9,  -999.00,9,   -999.0,-999.0000, -999,9, 1498,   2.5983,  27.5328,   -999.0,9
       RF99-04,  NONE,RF-0781,  1,      6,02-12818,2,19990423,0821, 34.6707, 138.5637, 1857,   1515.1,   2.7022,  34.5137,2,   -999.0,9,  34.5167,2,     86.3,2,   137.28,2,  -999.00,9,    39.67,2,     0.03,2,     2.82,2, -999.000,9, -999.000,9,  -999.00,9,   -999.0,9,   -999.0,9,-999.0000,9,   -999.0,  9,  -999.00,9,   -999.0,  -999.00,9,  -999.00,9,  -999.00,9,  -999.00,9,   -999.0,-999.0000, -999,9, 1499,   2.5967,  27.5327,   -999.0,9
       RF99-04,  NONE,RF-0781,  1,      5,02-12809,2,19990423,0814, 34.6707, 138.5637, 1857,   1864.9,   2.2660,  34.5682,2,   -999.0,9,  34.5702,2,    101.7,2,   142.19,2,  -999.00,9,    40.11,2,     0.02,2,     2.78,2, -999.000,9, -999.000,9,  -999.00,9,   -999.0,9,   -999.0,9,-999.0000,9,   -999.0,  9,  -999.00,9,   -999.0,  -999.00,9,  -999.00,9,  -999.00,9,  -999.00,9,   -999.0,-999.0000, -999,9, 1843,   2.1371,  27.6148,   -999.0,9
       RF99-04,  NONE,RF-0781,  1,      4,02-12817,2,19990423,0813, 34.6707, 138.5637, 1857,   1867.8,   2.2605,  34.5672,2,   -999.0,9,-999.0000,9,   -999.0,9,  -999.00,9,  -999.00,9,  -999.00,9,  -999.00,9,  -999.00,9, -999.000,9, -999.000,9,  -999.00,9,   -999.0,9,   -999.0,9,-999.0000,9,   -999.0,  9,  -999.00,9,   -999.0,  -999.00,9,  -999.00,9,  -999.00,9,  -999.00,9,   -999.0,-999.0000, -999,9, 1846,   2.1315,  27.6144,   -999.0,9
       RF99-04,  NONE,RF-0781,  1,      3,02-12808,2,19990423,0812, 34.6707, 138.5637, 1857,   1868.1,   2.2584,  34.5686,2,   -999.0,9,-999.0000,9,   -999.0,9,  -999.00,9,  -999.00,9,  -999.00,9,  -999.00,9,  -999.00,9, -999.000,9, -999.000,9,  -999.00,9,   -999.0,9,   -999.0,9,-999.0000,9,   -999.0,  9,  -999.00,9,   -999.0,  -999.00,9,  -999.00,9,  -999.00,9,  -999.00,9,   -999.0,-999.0000, -999,9, 1846,   2.1294,  27.6157,   -999.0,9
       RF99-04,  NONE,RF-0781,  1,      2,02-13589,2,19990423,0811, 34.6707, 138.5637, 1857,   1869.0,   2.2434,  34.5708,2,   -999.0,9,-999.0000,9,   -999.0,9,  -999.00,9,  -999.00,9,  -999.00,9,  -999.00,9,  -999.00,9, -999.000,9, -999.000,9,  -999.00,9,   -999.0,9,   -999.0,9,-999.0000,9,   -999.0,  9,  -999.00,9,   -999.0,  -999.00,9,  -999.00,9,  -999.00,9,  -999.00,9,   -999.0,-999.0000, -999,9, 1847,   2.1145,  27.6187,   -999.0,9
       RF99-04,  NONE,RF-0781,  1,      1,02-12807,2,19990423,0809, 34.6707, 138.5637, 1857,   1870.3,   2.2281,  34.5729,2,   -999.0,9,  34.5751,2,    102.4,2,   142.48,2,  -999.00,9,    39.93,2,     0.02,2,     2.76,2, -999.000,9, -999.000,9,  -999.00,9,   -999.0,9,   -999.0,9,-999.0000,9,   -999.0,  9,  -999.00,9,   -999.0,  -999.00,9,  -999.00,9,  -999.00,9,  -999.00,9,   1855.0,-999.0000, -999,9, 1849,   2.0993,  27.6216,   -999.0,9