BOTTLE,20130510GEMDJMAYT
EXPOCODE,SECT_ID,STNNBR,CASTNO,SAMPNO,BTLNBR,BTLNBR_FLAG_W,DATE,TIME,LATITUDE,LONGITUDE,DEPTH,CTDPRS,CTDTMP,CTDSAL,CTDSAL_FLAG_W,CTDOXY,CTDOXY_FLAG_W,SALNTY,SALNTY_FLAG_W,OXYGEN,OXYGEN_FLAG_W,SILCAT,SILCAT_FLAG_W,NITRAT,NITRAT_FLAG_W,NO2+NO3,NO2+NO3_FLAG_W,NITRIT,NITRIT_FLAG_W,PHSPHT,PHSPHT_FLAG_W,CFC-11,CFC-11_FLAG_W,CFC-12,CFC-12_FLAG_W,DELC13,DELC13_FLAG_W,TCARBN,TCARBN_FLAG_W,ALKALI,ALKALI_FLAG_W,PH,PH_FLAG_W,PH_TMP,PH_SCALE,PH_NBS,PH_NBS_FLAG_W,C13ERR,TOTALP,TOTALP_FLAG_W,AMMONI,AMMONI_FLAG_W,CHLORA,CHLORA_FLAG_W,PPHYTN,PPHYTN_FLAG_W,REVPRS,REVTMP,DEPTH_,DEPTH_FLAG,CTDDEP,THETA,SIGTHT,DOC,DOC_FLAG_W
,,,,,,,GMT,GMT,,,METER,DBAR,ITS-90,PSS-78,,UMOL/KG,,PSS-78,,UMOL/KG,,UMOL/KG,,UMOL/KG,,UMOL/KG,,UMOL/KG,,UMOL/KG,,PMOL/KG,,PMOL/KG,,/MILLE,,UMOL/KG,,UMOL/KG,,25_DEG_C,,DEG_C,,,,/MILLE,UMOL/KG,,UMOL/KG,,UG/L,,UG/L,,DBAR,ITS-90,METERS,,METERS,DEG_C,,UMOL/L,
       RF99-04,  165E,RF-0804,  1,     -9,      -9,5,19990515,2102, 47.9815, 165.0543, 5838,      0.0,   2.3211,  32.9681,2,   -999.0,9,-999.0000,9,    324.2,2,    45.44,2,  -999.00,9,    25.84,2,     0.22,2,     2.00,2, -999.000,9, -999.000,9,  -999.00,9,   -999.0,9,   -999.0,9,-999.0000,9,   -999.0,  9,  -999.00,9,   -999.0,  -999.00,9,  -999.00,9,  -999.00,9,  -999.00,9,   -999.0,-999.0000, -999,9,    0,   2.3211,  26.3194,   -999.0,9
       RF99-04,  165E,RF-0804,  1,     24, 02-9150,2,19990515,2059, 47.9815, 165.0543, 5838,     10.3,   2.3220,  33.0797,2,   -999.0,9,  33.0772,2,    324.5,2,    45.63,2,  -999.00,9,    26.01,2,     0.22,4,     2.11,2, -999.000,9, -999.000,9,  -999.00,9,   -999.0,9,   -999.0,9,-999.0000,9,   -999.0,  9,  -999.00,9,   -999.0,  -999.00,9,  -999.00,9,  -999.00,9,  -999.00,9,   -999.0,-999.0000, -999,9,   10,   2.3215,  26.4087,   -999.0,9
       RF99-04,  165E,RF-0804,  1,     23,02-12829,2,19990515,2057, 47.9815, 165.0543, 5838,     24.6,   2.3150,  33.0800,2,   -999.0,9,  33.0770,2,    325.2,2,    45.50,2,  -999.00,9,    25.96,2,     0.22,2,     2.00,2, -999.000,9, -999.000,9,  -999.00,9,   -999.0,9,   -999.0,9,-999.0000,9,   -999.0,  9,  -999.00,9,   -999.0,  -999.00,9,  -999.00,9,  -999.00,9,  -999.00,9,   -999.0,-999.0000, -999,9,   24,   2.3137,  26.4095,   -999.0,9
       RF99-04,  165E,RF-0804,  1,     22,02-12828,2,19990515,2056, 47.9815, 165.0543, 5838,     49.9,   2.3240,  33.0788,2,   -999.0,9,  33.0761,2,    324.7,2,    45.31,2,  -999.00,9,    25.92,2,     0.22,2,     1.99,2, -999.000,9, -999.000,9,  -999.00,9,   -999.0,9,   -999.0,9,-999.0000,9,   -999.0,  9,  -999.00,9,   -999.0,  -999.00,9,  -999.00,9,  -999.00,9,  -999.00,9,   -999.0,-999.0000, -999,9,   49,   2.3214,  26.4079,   -999.0,9
       RF99-04,  165E,RF-0804,  1,     21,02-12827,2,19990515,2054, 47.9815, 165.0543, 5838,     75.6,   1.5099,  33.1068,2,   -999.0,9,  33.1034,2,    320.5,2,    46.29,2,  -999.00,9,    26.63,2,     0.25,2,     2.05,2, -999.000,9, -999.000,9,  -999.00,9,   -999.0,9,   -999.0,9,-999.0000,9,   -999.0,  9,  -999.00,9,   -999.0,  -999.00,9,  -999.00,9,  -999.00,9,  -999.00,9,   -999.0,-999.0000, -999,9,   75,   1.5065,  26.4903,   -999.0,9
       RF99-04,  165E,RF-0804,  1,     20,02-12826,2,19990515,2053, 47.9815, 165.0543, 5838,     99.9,   1.4841,  33.1580,2,   -999.0,9,  33.1788,4,    308.4,2,    49.17,2,  -999.00,9,    27.72,2,     0.26,2,     2.12,2, -999.000,9, -999.000,9,  -999.00,9,   -999.0,9,   -999.0,9,-999.0000,9,   -999.0,  9,  -999.00,9,   -999.0,  -999.00,9,  -999.00,9,  -999.00,9,  -999.00,9,   -999.0,-999.0000, -999,9,   99,   1.4795,  26.5332,   -999.0,9
       RF99-04,  165E,RF-0804,  1,     19,02-12825,2,19990515,2051, 47.9815, 165.0543, 5838,    124.7,   1.5452,  33.2128,2,   -999.0,9,-999.0000,9,    282.5,2,    53.32,2,  -999.00,9,    29.73,2,     0.26,2,     2.22,2, -999.000,9, -999.000,9,  -999.00,9,   -999.0,9,   -999.0,9,-999.0000,9,   -999.0,  9,  -999.00,9,   -999.0,  -999.00,9,  -999.00,9,  -999.00,9,  -999.00,9,   -999.0,-999.0000, -999,9,  124,   1.5394,  26.5731,   -999.0,9
       RF99-04,  165E,RF-0804,  1,     18,02-12830,2,19990515,2048, 47.9815, 165.0543, 5838,    153.2,   2.9985,  33.6227,2,   -999.0,9,  33.7312,4,    125.0,2,    75.52,2,  -999.00,9,    38.07,2,     0.01,2,     2.77,2, -999.000,9, -999.000,9,  -999.00,9,   -999.0,9,   -999.0,9,-999.0000,9,   -999.0,  9,  -999.00,9,   -999.0,  -999.00,9,  -999.00,9,  -999.00,9,  -999.00,9,   -999.0,-999.0000, -999,9,  152,   2.9894,  26.7866,   -999.0,9
       RF99-04,  165E,RF-0804,  1,     17,02-13591,2,19990515,2046, 47.9815, 165.0543, 5838,    203.1,   3.5759,  33.9110,2,   -999.0,9,  33.9090,2,     36.0,2,    94.22,2,  -999.00,9,    44.22,2,     0.00,2,     3.12,2, -999.000,9, -999.000,9,  -999.00,9,   -999.0,9,   -999.0,9,-999.0000,9,   -999.0,  9,  -999.00,9,   -999.0,  -999.00,9,  -999.00,9,  -999.00,9,  -999.00,9,   -999.0,-999.0000, -999,9,  201,   3.5627,  26.9633,   -999.0,9
       RF99-04,  165E,RF-0804,  1,     16,02-13588,2,19990515,2044, 47.9815, 165.0543, 5838,    253.9,   3.5748,  33.9816,2,   -999.0,9,-999.0000,9,     27.6,2,   100.30,2,  -999.00,9,    44.19,2,     0.00,2,     3.13,2, -999.000,9, -999.000,9,  -999.00,9,   -999.0,9,   -999.0,9,-999.0000,9,   -999.0,  9,  -999.00,9,   -999.0,  -999.00,9,  -999.00,9,  -999.00,9,  -999.00,9,   -999.0,-999.0000, -999,9,  252,   3.5581,  27.0200,   -999.0,9
       RF99-04,  165E,RF-0804,  1,     15,02-10155,2,19990515,2041, 47.9815, 165.0543, 5838,    302.0,   3.5335,  34.0484,2,   -999.0,9,  34.0449,2,     24.2,2,   106.39,2,  -999.00,9,    44.52,2,     0.00,2,     3.14,2, -999.000,9, -999.000,9,  -999.00,9,   -999.0,9,   -999.0,9,-999.0000,9,   -999.0,  9,  -999.00,9,   -999.0,  -999.00,9,  -999.00,9,  -999.00,9,  -999.00,9,   -999.0,-999.0000, -999,9,  299,   3.5136,  27.0775,   -999.0,9
       RF99-04,  165E,RF-0804,  1,     14,02-13579,2,19990515,2039, 47.9815, 165.0543, 5838,    403.1,   3.4378,  34.1386,2,   -999.0,9,  34.1106,4,     21.9,2,   114.77,2,  -999.00,9,    43.94,2,     0.00,2,     3.12,2, -999.000,9, -999.000,9,  -999.00,9,   -999.0,9,   -999.0,9,-999.0000,9,   -999.0,  9,  -999.00,9,   -999.0,  -999.00,9,  -999.00,9,  -999.00,9,  -999.00,9,   -999.0,-999.0000, -999,9,  399,   3.4112,  27.1593,   -999.0,9
       RF99-04,  165E,RF-0804,  1,     13,02-13590,2,19990515,2035, 47.9815, 165.0543, 5838,    501.4,   3.2550,  34.2121,2,   -999.0,9,-999.0000,9,     18.6,2,   124.33,2,  -999.00,9,    43.88,2,     0.00,2,     3.12,2, -999.000,9, -999.000,9,  -999.00,9,   -999.0,9,   -999.0,9,-999.0000,9,   -999.0,  9,  -999.00,9,   -999.0,  -999.00,9,  -999.00,9,  -999.00,9,  -999.00,9,   -999.0,-999.0000, -999,9,  497,   3.2222,  27.2356,   -999.0,9
       RF99-04,  165E,RF-0804,  1,     12,02-12821,2,19990515,2032, 47.9815, 165.0543, 5838,    607.9,   3.1079,  34.2712,2,   -999.0,9,  34.2679,2,     16.1,2,   130.97,2,  -999.00,9,    44.37,2,     0.00,2,     3.12,2, -999.000,9, -999.000,9,  -999.00,9,   -999.0,9,   -999.0,9,-999.0000,9,   -999.0,  9,  -999.00,9,   -999.0,  -999.00,9,  -999.00,9,  -999.00,9,  -999.00,9,   -999.0,-999.0000, -999,9,  602,   3.0682,  27.2970,   -999.0,9
       RF99-04,  165E,RF-0804,  1,     11,02-12811,2,19990515,2028, 47.9815, 165.0543, 5838,    806.1,   2.8326,  34.3589,2,   -999.0,9,  34.3500,4,     19.7,2,   141.82,2,  -999.00,9,    44.00,2,     0.01,2,     3.19,2, -999.000,9, -999.000,9,  -999.00,9,   -999.0,9,   -999.0,9,-999.0000,9,   -999.0,  9,  -999.00,9,   -999.0,  -999.00,9,  -999.00,9,  -999.00,9,  -999.00,9,   -999.0,-999.0000, -999,9,  798,   2.7804,  27.3930,   -999.0,9
       RF99-04,  165E,RF-0804,  1,     10,02-12820,2,19990515,2023, 47.9815, 165.0543, 5838,   1006.0,   2.5544,  34.4326,2,   -999.0,9,  34.4819,4,     26.2,2,   149.70,2,  -999.00,9,    43.43,2,     0.00,2,     3.08,2, -999.000,9, -999.000,9,  -999.00,9,   -999.0,9,   -999.0,9,-999.0000,9,   -999.0,  9,  -999.00,9,   -999.0,  -999.00,9,  -999.00,9,  -999.00,9,  -999.00,9,   -999.0,-999.0000, -999,9,  995,   2.4897,  27.4771,   -999.0,9
       RF99-04,  165E,RF-0804,  1,      9,02-12810,2,19990515,2018, 47.9815, 165.0543, 5838,   1259.0,   2.3059,  34.4951,2,   -999.0,9,-999.0000,9,     34.6,2,   156.37,2,  -999.00,9,    43.33,2,     0.00,2,     3.03,2, -999.000,9, -999.000,9,  -999.00,9,   -999.0,9,   -999.0,9,-999.0000,9,   -999.0,  9,  -999.00,9,   -999.0,  -999.00,9,  -999.00,9,  -999.00,9,  -999.00,9,   -999.0,-999.0000, -999,9, 1245,   2.2247,  27.5491,   -999.0,9
       RF99-04,  165E,RF-0804,  1,      8,02-12819,2,19990515,2012, 47.9815, 165.0543, 5838,   1513.3,   2.1239,  34.5385,2,   -999.0,9,  34.5405,2,     44.4,2,   161.19,2,  -999.00,9,    42.58,2,     0.00,2,     2.99,2, -999.000,9, -999.000,9,  -999.00,9,   -999.0,9,   -999.0,9,-999.0000,9,   -999.0,  9,  -999.00,9,   -999.0,  -999.00,9,  -999.00,9,  -999.00,9,  -999.00,9,   -999.0,-999.0000, -999,9, 1495,   2.0252,  27.6000,   -999.0,9
       RF99-04,  165E,RF-0804,  1,      7,02-12815,2,19990515,2003, 47.9815, 165.0543, 5838,   2021.1,   1.8160,  34.6086,2,   -999.0,9,  34.5790,4,     74.1,2,   163.88,2,  -999.00,9,    40.41,2,     0.00,2,     2.85,2, -999.000,9, -999.000,9,  -999.00,9,   -999.0,9,   -999.0,9,-999.0000,9,   -999.0,  9,  -999.00,9,   -999.0,  -999.00,9,  -999.00,9,  -999.00,9,  -999.00,9,   -999.0,-999.0000, -999,9, 1995,   1.6807,  27.6827,   -999.0,9
       RF99-04,  165E,RF-0804,  1,      6,02-12818,2,19990515,1954, 47.9815, 165.0543, 5838,   2533.4,   1.6235,  34.6468,2,   -999.0,9,-999.0000,9,    103.0,2,   157.84,2,  -999.00,9,    38.69,2,     0.00,2,     2.70,2, -999.000,9, -999.000,9,  -999.00,9,   -999.0,9,   -999.0,9,-999.0000,9,   -999.0,  9,  -999.00,9,   -999.0,  -999.00,9,  -999.00,9,  -999.00,9,  -999.00,9,   -999.0,-999.0000, -999,9, 2497,   1.4473,  27.7306,   -999.0,9
       RF99-04,  165E,RF-0804,  1,      5,02-12809,2,19990515,1945, 47.9815, 165.0543, 5838,   3039.9,   1.5256,  34.6662,2,   -999.0,9,  34.6774,4,    123.4,2,   152.38,2,  -999.00,9,    37.43,2,     0.00,2,     2.60,2, -999.000,9, -999.000,9,  -999.00,9,   -999.0,9,   -999.0,9,-999.0000,9,   -999.0,  9,  -999.00,9,   -999.0,  -999.00,9,  -999.00,9,  -999.00,9,  -999.00,9,   -999.0,-999.0000, -999,9, 2993,   1.3045,  27.7563,   -999.0,9
       RF99-04,  165E,RF-0804,  1,      4,02-12817,2,19990515,1936, 47.9815, 165.0543, 5838,   3549.6,   1.4826,  34.6767,2,   -999.0,9,-999.0000,9,    135.3,2,   148.09,2,  -999.00,9,    36.67,2,     0.00,2,     2.52,2, -999.000,9, -999.000,9,  -999.00,9,   -999.0,9,   -999.0,9,-999.0000,9,   -999.0,  9,  -999.00,9,   -999.0,  -999.00,9,  -999.00,9,  -999.00,9,  -999.00,9,   -999.0,-999.0000, -999,9, 3491,   1.2119,  27.7712,   -999.0,9
       RF99-04,  165E,RF-0804,  1,      3,02-12808,2,19990515,1928, 47.9815, 165.0543, 5838,   4064.3,   1.4713,  34.6837,2,   -999.0,9,  34.7859,4,    143.4,2,   145.98,2,  -999.00,9,    35.96,2,     0.00,2,     2.47,2, -999.000,9, -999.000,9,  -999.00,9,   -999.0,9,   -999.0,9,-999.0000,9,   -999.0,  9,  -999.00,9,   -999.0,  -999.00,9,  -999.00,9,  -999.00,9,  -999.00,9,   -999.0,-999.0000, -999,9, 3992,   1.1462,  27.7813,   -999.0,9
       RF99-04,  165E,RF-0804,  1,      2,02-13589,2,19990515,1912, 47.9815, 165.0543, 5838,   5093.7,   1.5292,  34.6882,2,   -999.0,9,  34.7319,4,    152.0,2,   145.17,2,  -999.00,9,    35.94,2,     0.00,2,     2.41,2, -999.000,9, -999.000,9,  -999.00,9,   -999.0,9,   -999.0,9,-999.0000,9,   -999.0,  9,  -999.00,9,   -999.0,  -999.00,9,  -999.00,9,  -999.00,9,  -999.00,9,   -999.0,-999.0000, -999,9, 4992,   1.0825,  27.7893,   -999.0,9
       RF99-04,  165E,RF-0804,  1,      1,02-12807,2,19990515,1852, 47.9815, 165.0543, 5838,   5870.9,   1.6261,  34.6881,2,   -999.0,9,  34.6902,2,    156.4,2,   147.05,2,  -999.00,9,    35.44,2,     0.00,2,     2.42,2, -999.000,9, -999.000,9,  -999.00,9,   -999.0,9,   -999.0,9,-999.0000,9,   -999.0,  9,  -999.00,9,   -999.0,  -999.00,9,  -999.00,9,  -999.00,9,  -999.00,9,   5896.0,-999.0000, -999,9, 5743,   1.0766,  27.7896,   -999.0,9