BOTTLE,20130510GEMDJMAYT
EXPOCODE,SECT_ID,STNNBR,CASTNO,SAMPNO,BTLNBR,BTLNBR_FLAG_W,DATE,TIME,LATITUDE,LONGITUDE,DEPTH,CTDPRS,CTDTMP,CTDSAL,CTDSAL_FLAG_W,CTDOXY,CTDOXY_FLAG_W,SALNTY,SALNTY_FLAG_W,OXYGEN,OXYGEN_FLAG_W,SILCAT,SILCAT_FLAG_W,NITRAT,NITRAT_FLAG_W,NO2+NO3,NO2+NO3_FLAG_W,NITRIT,NITRIT_FLAG_W,PHSPHT,PHSPHT_FLAG_W,CFC-11,CFC-11_FLAG_W,CFC-12,CFC-12_FLAG_W,DELC13,DELC13_FLAG_W,TCARBN,TCARBN_FLAG_W,ALKALI,ALKALI_FLAG_W,PH,PH_FLAG_W,PH_TMP,PH_SCALE,PH_NBS,PH_NBS_FLAG_W,C13ERR,TOTALP,TOTALP_FLAG_W,AMMONI,AMMONI_FLAG_W,CHLORA,CHLORA_FLAG_W,PPHYTN,PPHYTN_FLAG_W,REVPRS,REVTMP,DEPTH_,DEPTH_FLAG,CTDDEP,THETA,SIGTHT,DOC,DOC_FLAG_W
,,,,,,,GMT,GMT,,,METER,DBAR,ITS-90,PSS-78,,UMOL/KG,,PSS-78,,UMOL/KG,,UMOL/KG,,UMOL/KG,,UMOL/KG,,UMOL/KG,,UMOL/KG,,PMOL/KG,,PMOL/KG,,/MILLE,,UMOL/KG,,UMOL/KG,,25_DEG_C,,DEG_C,,,,/MILLE,UMOL/KG,,UMOL/KG,,UG/L,,UG/L,,DBAR,ITS-90,METERS,,METERS,DEG_C,,UMOL/L,
       RF99-04,  NONE,RF-0793,  1,     -9,      -9,5,19990430,0041, 35.9862, 152.0265, 5798,      0.0,  17.9724,  34.7667,2,   -999.0,9,-999.0000,9,    238.3,2,     2.05,2,  -999.00,9,     0.20,2,     0.05,2,     0.11,2, -999.000,9, -999.000,9,  -999.00,9,   -999.0,9,   -999.0,9,-999.0000,9,   -999.0,  9,  -999.00,9,   -999.0,  -999.00,9,  -999.00,9,  -999.00,9,  -999.00,9,   -999.0,-999.0000, -999,9,    0,  17.9724,  25.1002,   -999.0,9
       RF99-04,  NONE,RF-0793,  1,     21,02-12827,2,19990430,0039, 35.9862, 152.0265, 5798,     10.0,  17.9755,  34.7659,2,   -999.0,9,  34.7697,2,    237.9,2,     2.02,2,  -999.00,9,     0.23,2,     0.05,2,     0.10,2, -999.000,9, -999.000,9,  -999.00,9,   -999.0,9,   -999.0,9,-999.0000,9,   -999.0,  9,  -999.00,9,   -999.0,  -999.00,9,  -999.00,9,  -999.00,9,  -999.00,9,   -999.0,-999.0000, -999,9,   10,  17.9738,  25.0992,   -999.0,9
       RF99-04,  NONE,RF-0793,  1,     20,02-12826,2,19990430,0037, 35.9862, 152.0265, 5798,     25.5,  17.9628,  34.7630,2,   -999.0,9,-999.0000,9,    237.5,2,     2.19,2,  -999.00,9,     0.27,2,     0.06,2,     0.11,2, -999.000,9, -999.000,9,  -999.00,9,   -999.0,9,   -999.0,9,-999.0000,9,   -999.0,  9,  -999.00,9,   -999.0,  -999.00,9,  -999.00,9,  -999.00,9,  -999.00,9,   -999.0,-999.0000, -999,9,   25,  17.9584,  25.1008,   -999.0,9
       RF99-04,  NONE,RF-0793,  1,     19,02-12825,2,19990430,0035, 35.9862, 152.0265, 5798,     49.0,  17.3772,  34.7453,2,   -999.0,9,  34.7493,2,    232.0,2,     2.97,2,  -999.00,9,     1.73,2,     0.28,2,     0.22,2, -999.000,9, -999.000,9,  -999.00,9,   -999.0,9,   -999.0,9,-999.0000,9,   -999.0,  9,  -999.00,9,   -999.0,  -999.00,9,  -999.00,9,  -999.00,9,  -999.00,9,   -999.0,-999.0000, -999,9,   49,  17.3690,  25.2306,   -999.0,9
       RF99-04,  NONE,RF-0793,  1,     18,02-12824,2,19990430,0034, 35.9862, 152.0265, 5798,     77.2,  16.6130,  34.7062,2,   -999.0,9,-999.0000,9,    223.6,2,     5.48,2,  -999.00,9,     4.17,2,     0.41,2,     0.34,2, -999.000,9, -999.000,9,  -999.00,9,   -999.0,9,   -999.0,9,-999.0000,9,   -999.0,  9,  -999.00,9,   -999.0,  -999.00,9,  -999.00,9,  -999.00,9,  -999.00,9,   -999.0,-999.0000, -999,9,   77,  16.6006,  25.3828,   -999.0,9
       RF99-04,  NONE,RF-0793,  1,     17,02-12814,2,19990430,0032, 35.9862, 152.0265, 5798,    101.8,  15.9421,  34.6727,2,   -999.0,9,  34.7010,4,    226.6,2,     6.49,2,  -999.00,9,     5.10,2,     0.59,2,     0.39,2, -999.000,9, -999.000,9,  -999.00,9,   -999.0,9,   -999.0,9,-999.0000,9,   -999.0,  9,  -999.00,9,   -999.0,  -999.00,9,  -999.00,9,  -999.00,9,  -999.00,9,   -999.0,-999.0000, -999,9,  101,  15.9261,  25.5127,   -999.0,9
       RF99-04,  NONE,RF-0793,  1,     16,02-12832,2,19990430,0031, 35.9862, 152.0265, 5798,    124.9,  15.4804,  34.6436,2,   -999.0,9,-999.0000,9,    219.7,2,     8.12,2,  -999.00,9,     6.36,2,     0.13,2,     0.47,2, -999.000,9, -999.000,9,  -999.00,9,   -999.0,9,   -999.0,9,-999.0000,9,   -999.0,  9,  -999.00,9,   -999.0,  -999.00,9,  -999.00,9,  -999.00,9,  -999.00,9,   -999.0,-999.0000, -999,9,  124,  15.4612,  25.5951,   -999.0,9
       RF99-04,  NONE,RF-0793,  1,     15,02-12833,2,19990430,0029, 35.9862, 152.0265, 5798,    151.5,  14.9545,  34.6028,2,   -999.0,9,  34.7601,4,    227.7,2,     8.40,2,  -999.00,9,     6.76,2,     0.06,2,     0.49,2, -999.000,9, -999.000,9,  -999.00,9,   -999.0,9,   -999.0,9,-999.0000,9,   -999.0,  9,  -999.00,9,   -999.0,  -999.00,9,  -999.00,9,  -999.00,9,  -999.00,9,   -999.0,-999.0000, -999,9,  150,  14.9317,  25.6806,   -999.0,9
       RF99-04,  NONE,RF-0793,  1,     14,02-13578,2,19990430,0026, 35.9862, 152.0265, 5798,    203.7,  14.1475,  34.5520,2,   -999.0,9,  34.5484,2,    214.8,2,    11.67,2,  -999.00,9,     9.10,2,     0.04,2,     0.65,2, -999.000,9, -999.000,9,  -999.00,9,   -999.0,9,   -999.0,9,-999.0000,9,   -999.0,  9,  -999.00,9,   -999.0,  -999.00,9,  -999.00,9,  -999.00,9,  -999.00,9,   -999.0,-999.0000, -999,9,  202,  14.1180,  25.8161,   -999.0,9
       RF99-04,  NONE,RF-0793,  1,     13,02-13590,2,19990430,0024, 35.9862, 152.0265, 5798,    254.3,  12.7626,  34.4529,2,   -999.0,9,  34.4477,2,    179.9,2,    19.47,2,  -999.00,9,    14.04,2,     0.03,2,     0.98,2, -999.000,9, -999.000,9,  -999.00,9,   -999.0,9,   -999.0,9,-999.0000,9,   -999.0,  9,  -999.00,9,   -999.0,  -999.00,9,  -999.00,9,  -999.00,9,  -999.00,9,   -999.0,-999.0000, -999,9,  252,  12.7282,  26.0230,   -999.0,9
       RF99-04,  NONE,RF-0793,  1,     12,02-12821,2,19990430,0022, 35.9862, 152.0265, 5798,    305.4,  11.1745,  34.2996,2,   -999.0,9,  34.3013,2,    247.4,2,    14.20,2,  -999.00,9,     9.84,2,     0.33,2,     0.78,2, -999.000,9, -999.000,9,  -999.00,9,   -999.0,9,   -999.0,9,-999.0000,9,   -999.0,  9,  -999.00,9,   -999.0,  -999.00,9,  -999.00,9,  -999.00,9,  -999.00,9,   -999.0,-999.0000, -999,9,  303,  11.1365,  26.2054,   -999.0,9
       RF99-04,  NONE,RF-0793,  1,     11,02-12811,2,19990430,0019, 35.9862, 152.0265, 5798,    401.9,   8.5242,  34.1537,2,   -999.0,9,  34.0996,4,    163.5,2,    40.85,2,  -999.00,9,    23.39,2,     0.04,2,     1.69,2, -999.000,9, -999.000,9,  -999.00,9,   -999.0,9,   -999.0,9,-999.0000,9,   -999.0,  9,  -999.00,9,   -999.0,  -999.00,9,  -999.00,9,  -999.00,9,  -999.00,9,   -999.0,-999.0000, -999,9,  399,   8.4819,  26.5364,   -999.0,9
       RF99-04,  NONE,RF-0793,  1,     10,02-12820,2,19990430,0015, 35.9862, 152.0265, 5798,    504.4,   5.9838,  33.9562,2,   -999.0,9,  33.9507,2,    154.3,2,    57.15,2,  -999.00,9,    29.27,2,     0.02,2,     2.09,2, -999.000,9, -999.000,9,  -999.00,9,   -999.0,9,   -999.0,9,-999.0000,9,   -999.0,  9,  -999.00,9,   -999.0,  -999.00,9,  -999.00,9,  -999.00,9,  -999.00,9,   -999.0,-999.0000, -999,9,  500,   5.9402,  26.7353,   -999.0,9
       RF99-04,  NONE,RF-0793,  1,      9,02-12810,2,19990430,0012, 35.9862, 152.0265, 5798,    608.2,   5.5468,  34.1312,2,   -999.0,9,  34.1299,2,     98.6,2,    77.73,2,  -999.00,9,    34.36,2,     0.00,2,     2.46,2, -999.000,9, -999.000,9,  -999.00,9,   -999.0,9,   -999.0,9,-999.0000,9,   -999.0,  9,  -999.00,9,   -999.0,  -999.00,9,  -999.00,9,  -999.00,9,  -999.00,9,   -999.0,-999.0000, -999,9,  603,   5.4957,  26.9282,   -999.0,9
       RF99-04,  NONE,RF-0793,  1,      8,02-12819,2,19990430,0008, 35.9862, 152.0265, 5798,    708.6,   4.6825,  34.1832,2,   -999.0,9,-999.0000,9,     74.9,2,    94.39,2,  -999.00,9,    38.76,2,     0.00,2,     2.73,2, -999.000,9, -999.000,9,  -999.00,9,   -999.0,9,   -999.0,9,-999.0000,9,   -999.0,  9,  -999.00,9,   -999.0,  -999.00,9,  -999.00,9,  -999.00,9,  -999.00,9,   -999.0,-999.0000, -999,9,  702,   4.6270,  27.0696,   -999.0,9
       RF99-04,  NONE,RF-0793,  1,      7,02-12815,2,19990430,0005, 35.9862, 152.0265, 5798,    807.6,   4.2027,  34.2525,2,   -999.0,9,  34.2483,2,     60.0,2,   106.52,2,  -999.00,9,    40.65,2,     0.00,2,     2.84,2, -999.000,9, -999.000,9,  -999.00,9,   -999.0,9,   -999.0,9,-999.0000,9,   -999.0,  9,  -999.00,9,   -999.0,  -999.00,9,  -999.00,9,  -999.00,9,  -999.00,9,   -999.0,-999.0000, -999,9,  800,   4.1418,  27.1768,   -999.0,9
       RF99-04,  NONE,RF-0793,  1,      6,02-12818,2,19990430,0001, 35.9862, 152.0265, 5798,    914.3,   3.7144,  34.3106,2,   -999.0,9,-999.0000,9,     49.7,2,   118.84,2,  -999.00,9,    41.74,2,     0.00,2,     2.95,2, -999.000,9, -999.000,9,  -999.00,9,   -999.0,9,   -999.0,9,-999.0000,9,   -999.0,  9,  -999.00,9,   -999.0,  -999.00,9,  -999.00,9,  -999.00,9,  -999.00,9,   -999.0,-999.0000, -999,9,  906,   3.6481,  27.2732,   -999.0,9
       RF99-04,  NONE,RF-0793,  1,      5,02-12809,2,19990429,2357, 35.9862, 152.0265, 5798,   1010.7,   3.3980,  34.3592,2,   -999.0,9,  34.3555,2,     46.2,2,   127.77,2,  -999.00,9,    42.31,2,     0.00,2,     2.98,2, -999.000,9, -999.000,9,  -999.00,9,   -999.0,9,   -999.0,9,-999.0000,9,   -999.0,  9,  -999.00,9,   -999.0,  -999.00,9,  -999.00,9,  -999.00,9,  -999.00,9,   -999.0,-999.0000, -999,9, 1001,   3.3264,  27.3431,   -999.0,9
       RF99-04,  NONE,RF-0793,  1,      4,02-12817,2,19990429,2351, 35.9862, 152.0265, 5798,   1263.9,   2.8098,  34.4398,2,   -999.0,9,  34.4294,2,     38.6,2,   144.18,2,  -999.00,9,    43.46,2,     0.00,2,     3.07,2, -999.000,9, -999.000,9,  -999.00,9,   -999.0,9,   -999.0,9,-999.0000,9,   -999.0,  9,  -999.00,9,   -999.0,  -999.00,9,  -999.00,9,  -999.00,9,  -999.00,9,   -999.0,-999.0000, -999,9, 1251,   2.7234,  27.4627,   -999.0,9
       RF99-04,  NONE,RF-0793,  1,      3,02-12808,2,19990429,2344, 35.9862, 152.0265, 5798,   1518.2,   2.4465,  34.5122,2,   -999.0,9,  34.5075,2,     46.1,2,   153.32,2,  -999.00,9,    43.32,2,     0.00,2,     3.03,2, -999.000,9, -999.000,9,  -999.00,9,   -999.0,9,   -999.0,9,-999.0000,9,   -999.0,  9,  -999.00,9,   -999.0,  -999.00,9,  -999.00,9,  -999.00,9,  -999.00,9,   -999.0,-999.0000, -999,9, 1502,   2.3438,  27.5530,   -999.0,9
       RF99-04,  NONE,RF-0793,  1,      2,02-13589,2,19990429,2338, 35.9862, 152.0265, 5798,   1767.9,   2.1477,  34.5661,2,   -999.0,9,  34.5592,2,     59.4,2,   159.20,2,  -999.00,9,    42.10,2,     0.00,2,     2.97,2, -999.000,9, -999.000,9,  -999.00,9,   -999.0,9,   -999.0,9,-999.0000,9,   -999.0,  9,  -999.00,9,   -999.0,  -999.00,9,  -999.00,9,  -999.00,9,  -999.00,9,   -999.0,-999.0000, -999,9, 1748,   2.0285,  27.6218,   -999.0,9
       RF99-04,  NONE,RF-0793,  1,      1,02-12807,2,19990429,2333, 35.9862, 152.0265, 5798,   2022.5,   1.9540,  34.5996,2,   -999.0,9,  34.5952,2,     73.2,2,   161.36,2,  -999.00,9,    41.32,2,     0.00,2,     2.89,2, -999.000,9, -999.000,9,  -999.00,9,   -999.0,9,   -999.0,9,-999.0000,9,   -999.0,  9,  -999.00,9,   -999.0,  -999.00,9,  -999.00,9,  -999.00,9,  -999.00,9,   2006.0,-999.0000, -999,9, 1998,   1.8165,  27.6652,   -999.0,9