BOTTLE,20130510GEMDJMAYT
EXPOCODE,SECT_ID,STNNBR,CASTNO,SAMPNO,BTLNBR,BTLNBR_FLAG_W,DATE,TIME,LATITUDE,LONGITUDE,DEPTH,CTDPRS,CTDTMP,CTDSAL,CTDSAL_FLAG_W,CTDOXY,CTDOXY_FLAG_W,SALNTY,SALNTY_FLAG_W,OXYGEN,OXYGEN_FLAG_W,SILCAT,SILCAT_FLAG_W,NITRAT,NITRAT_FLAG_W,NO2+NO3,NO2+NO3_FLAG_W,NITRIT,NITRIT_FLAG_W,PHSPHT,PHSPHT_FLAG_W,CFC-11,CFC-11_FLAG_W,CFC-12,CFC-12_FLAG_W,DELC13,DELC13_FLAG_W,TCARBN,TCARBN_FLAG_W,ALKALI,ALKALI_FLAG_W,PH,PH_FLAG_W,PH_TMP,PH_SCALE,PH_NBS,PH_NBS_FLAG_W,C13ERR,TOTALP,TOTALP_FLAG_W,AMMONI,AMMONI_FLAG_W,CHLORA,CHLORA_FLAG_W,PPHYTN,PPHYTN_FLAG_W,REVPRS,REVTMP,DEPTH_,DEPTH_FLAG,CTDDEP,THETA,SIGTHT,DOC,DOC_FLAG_W
,,,,,,,GMT,GMT,,,METER,DBAR,ITS-90,PSS-78,,UMOL/KG,,PSS-78,,UMOL/KG,,UMOL/KG,,UMOL/KG,,UMOL/KG,,UMOL/KG,,UMOL/KG,,PMOL/KG,,PMOL/KG,,/MILLE,,UMOL/KG,,UMOL/KG,,25_DEG_C,,DEG_C,,,,/MILLE,UMOL/KG,,UMOL/KG,,UG/L,,UG/L,,DBAR,ITS-90,METERS,,METERS,DEG_C,,UMOL/L,
       RF99-04,  165E,RF-0801,  2,     -9,      -9,5,19990514,2319, 49.9028, 164.9108, 5489,      0.0,   2.4443,  33.0949,2,   -999.0,9,-999.0000,9,   -999.0,9,    49.93,2,  -999.00,9,    27.36,2,     0.23,2,     2.10,2, -999.000,9, -999.000,9,  -999.00,9,   -999.0,9,   -999.0,9,-999.0000,9,   -999.0,  9,  -999.00,9,   -999.0,  -999.00,9,  -999.00,9,  -999.00,9,  -999.00,9,   -999.0,-999.0000, -999,9,    0,   2.4443,  26.4111,   -999.0,9
       RF99-04,  165E,RF-0801,  2,     23,02-12829,2,19990514,2317, 49.9028, 164.9108, 5489,      5.1,   2.4374,  33.0961,2,   -999.0,9,-999.0000,9,    323.2,2,    49.84,2,  -999.00,9,    27.20,2,     0.23,2,     2.10,2, -999.000,9, -999.000,9,  -999.00,9,   -999.0,9,   -999.0,9,-999.0000,9,   -999.0,  9,  -999.00,9,   -999.0,  -999.00,9,  -999.00,9,  -999.00,9,  -999.00,9,   -999.0,-999.0000, -999,9,    5,   2.4371,  26.4126,   -999.0,9
       RF99-04,  165E,RF-0801,  2,     22,02-12828,2,19990514,2316, 49.9028, 164.9108, 5489,      9.8,   2.4341,  33.0965,2,   -999.0,9,  33.0944,2,    324.1,2,    49.94,2,  -999.00,9,    27.29,2,     0.23,2,     2.09,2, -999.000,9, -999.000,9,  -999.00,9,   -999.0,9,   -999.0,9,-999.0000,9,   -999.0,  9,  -999.00,9,   -999.0,  -999.00,9,  -999.00,9,  -999.00,9,  -999.00,9,   -999.0,-999.0000, -999,9,   10,   2.4336,  26.4132,   -999.0,9
       RF99-04,  165E,RF-0801,  2,     21,02-12827,2,19990514,2315, 49.9028, 164.9108, 5489,     14.8,   2.4170,  33.0955,2,   -999.0,9,-999.0000,9,    323.7,2,    49.96,2,  -999.00,9,    27.31,2,     0.23,2,     2.10,2, -999.000,9, -999.000,9,  -999.00,9,   -999.0,9,   -999.0,9,-999.0000,9,   -999.0,  9,  -999.00,9,   -999.0,  -999.00,9,  -999.00,9,  -999.00,9,  -999.00,9,   -999.0,-999.0000, -999,9,   15,   2.4163,  26.4138,   -999.0,9
       RF99-04,  165E,RF-0801,  2,     20,02-12826,2,19990514,2315, 49.9028, 164.9108, 5489,     18.3,   2.3999,  33.0952,2,   -999.0,9,-999.0000,9,    322.8,2,    49.95,2,  -999.00,9,    27.16,2,     0.23,2,     2.10,2, -999.000,9, -999.000,9,  -999.00,9,   -999.0,9,   -999.0,9,-999.0000,9,   -999.0,  9,  -999.00,9,   -999.0,  -999.00,9,  -999.00,9,  -999.00,9,  -999.00,9,   -999.0,-999.0000, -999,9,   18,   2.3989,  26.4149,   -999.0,9
       RF99-04,  165E,RF-0801,  2,     19,02-12825,2,19990514,2314, 49.9028, 164.9108, 5489,     26.5,   2.3999,  33.0956,2,   -999.0,9,  33.1040,4,    323.7,2,    49.70,2,  -999.00,9,    27.27,2,     0.23,2,     2.09,2, -999.000,9, -999.000,9,  -999.00,9,   -999.0,9,   -999.0,9,-999.0000,9,   -999.0,  9,  -999.00,9,   -999.0,  -999.00,9,  -999.00,9,  -999.00,9,  -999.00,9,   -999.0,-999.0000, -999,9,   26,   2.3985,  26.4153,   -999.0,9
       RF99-04,  165E,RF-0801,  2,     18,02-12830,2,19990514,2313, 49.9028, 164.9108, 5489,     30.3,   2.3920,  33.0965,2,   -999.0,9,-999.0000,9,    320.0,2,    49.87,2,  -999.00,9,    27.19,2,     0.23,2,     2.10,2, -999.000,9, -999.000,9,  -999.00,9,   -999.0,9,   -999.0,9,-999.0000,9,   -999.0,  9,  -999.00,9,   -999.0,  -999.00,9,  -999.00,9,  -999.00,9,  -999.00,9,   -999.0,-999.0000, -999,9,   30,   2.3904,  26.4167,   -999.0,9
       RF99-04,  165E,RF-0801,  2,     17,02-13591,2,19990514,2312, 49.9028, 164.9108, 5489,     42.0,   2.3862,  33.0957,2,   -999.0,9,-999.0000,9,    323.6,2,    49.89,2,  -999.00,9,    27.22,2,     0.23,2,     2.10,2, -999.000,9, -999.000,9,  -999.00,9,   -999.0,9,   -999.0,9,-999.0000,9,   -999.0,  9,  -999.00,9,   -999.0,  -999.00,9,  -999.00,9,  -999.00,9,  -999.00,9,   -999.0,-999.0000, -999,9,   42,   2.3840,  26.4165,   -999.0,9
       RF99-04,  165E,RF-0801,  2,     16,02-13588,2,19990514,2311, 49.9028, 164.9108, 5489,     49.1,   2.1805,  33.0863,2,   -999.0,9,  33.0956,4,    322.9,2,    50.23,2,  -999.00,9,    27.43,2,     0.22,2,     2.11,2, -999.000,9, -999.000,9,  -999.00,9,   -999.0,9,   -999.0,9,-999.0000,9,   -999.0,  9,  -999.00,9,   -999.0,  -999.00,9,  -999.00,9,  -999.00,9,  -999.00,9,   -999.0,-999.0000, -999,9,   49,   2.1780,  26.4251,   -999.0,9
       RF99-04,  165E,RF-0801,  2,     15,02-10155,2,19990514,2311, 49.9028, 164.9108, 5489,     61.4,   1.7687,  33.0961,2,   -999.0,9,-999.0000,9,    312.4,2,    50.45,2,  -999.00,9,    27.72,2,     0.23,2,     2.14,2, -999.000,9, -999.000,9,  -999.00,9,   -999.0,9,   -999.0,9,-999.0000,9,   -999.0,  9,  -999.00,9,   -999.0,  -999.00,9,  -999.00,9,  -999.00,9,  -999.00,9,   -999.0,-999.0000, -999,9,   61,   1.7658,  26.4636,   -999.0,9
       RF99-04,  165E,RF-0801,  2,     14,02-13579,2,19990514,2310, 49.9028, 164.9108, 5489,     71.0,   1.7457,  33.1024,2,   -999.0,9,-999.0000,9,    319.0,2,    50.70,2,  -999.00,9,    27.77,2,     0.23,2,     2.14,2, -999.000,9, -999.000,9,  -999.00,9,   -999.0,9,   -999.0,9,-999.0000,9,   -999.0,  9,  -999.00,9,   -999.0,  -999.00,9,  -999.00,9,  -999.00,9,  -999.00,9,   -999.0,-999.0000, -999,9,   70,   1.7424,  26.4703,   -999.0,9
       RF99-04,  165E,RF-0801,  2,     13,02-13590,2,19990514,2309, 49.9028, 164.9108, 5489,     73.5,   1.7369,  33.1089,2,   -999.0,9,  33.1042,2,    319.0,2,    51.00,2,  -999.00,9,    27.98,2,     0.23,2,     2.15,2, -999.000,9, -999.000,9,  -999.00,9,   -999.0,9,   -999.0,9,-999.0000,9,   -999.0,  9,  -999.00,9,   -999.0,  -999.00,9,  -999.00,9,  -999.00,9,  -999.00,9,   -999.0,-999.0000, -999,9,   73,   1.7334,  26.4761,   -999.0,9
       RF99-04,  165E,RF-0801,  2,     12,02-12821,2,19990514,2308, 49.9028, 164.9108, 5489,     80.7,   1.7099,  33.1099,2,   -999.0,9,-999.0000,9,    316.6,2,    50.77,2,  -999.00,9,    27.85,2,     0.22,2,     2.14,2, -999.000,9, -999.000,9,  -999.00,9,   -999.0,9,   -999.0,9,-999.0000,9,   -999.0,  9,  -999.00,9,   -999.0,  -999.00,9,  -999.00,9,  -999.00,9,  -999.00,9,   -999.0,-999.0000, -999,9,   80,   1.7061,  26.4789,   -999.0,9
       RF99-04,  165E,RF-0801,  2,     11,02-12811,2,19990514,2307, 49.9028, 164.9108, 5489,     89.7,   1.6113,  33.1240,2,   -999.0,9,-999.0000,9,    303.1,2,    51.96,2,  -999.00,9,    28.48,2,     0.23,2,     2.20,2, -999.000,9, -999.000,9,  -999.00,9,   -999.0,9,   -999.0,9,-999.0000,9,   -999.0,  9,  -999.00,9,   -999.0,  -999.00,9,  -999.00,9,  -999.00,9,  -999.00,9,   -999.0,-999.0000, -999,9,   89,   1.6071,  26.4971,   -999.0,9
       RF99-04,  165E,RF-0801,  2,     10,02-12820,2,19990514,2307, 49.9028, 164.9108, 5489,    100.3,   1.5293,  33.1506,2,   -999.0,9,  33.1870,4,    311.6,2,    53.27,2,  -999.00,9,    28.89,2,     0.26,2,     2.20,2, -999.000,9, -999.000,9,  -999.00,9,   -999.0,9,   -999.0,9,-999.0000,9,   -999.0,  9,  -999.00,9,   -999.0,  -999.00,9,  -999.00,9,  -999.00,9,  -999.00,9,   -999.0,-999.0000, -999,9,   99,   1.5246,  26.5242,   -999.0,9
       RF99-04,  165E,RF-0801,  2,      9,02-12810,2,19990514,2306, 49.9028, 164.9108, 5489,    104.7,   1.5334,  33.1685,2,   -999.0,9,-999.0000,9,    307.8,2,    53.61,2,  -999.00,9,    28.96,2,     0.26,2,     2.21,2, -999.000,9, -999.000,9,  -999.00,9,   -999.0,9,   -999.0,9,-999.0000,9,   -999.0,  9,  -999.00,9,   -999.0,  -999.00,9,  -999.00,9,  -999.00,9,  -999.00,9,   -999.0,-999.0000, -999,9,  104,   1.5286,  26.5383,   -999.0,9
       RF99-04,  165E,RF-0801,  2,      8,02-12819,2,19990514,2305, 49.9028, 164.9108, 5489,    109.0,   1.5384,  33.1763,2,   -999.0,9,-999.0000,9,    300.2,2,    54.73,2,  -999.00,9,    29.10,2,     0.27,2,     2.24,2, -999.000,9, -999.000,9,  -999.00,9,   -999.0,9,   -999.0,9,-999.0000,9,   -999.0,  9,  -999.00,9,   -999.0,  -999.00,9,  -999.00,9,  -999.00,9,  -999.00,9,   -999.0,-999.0000, -999,9,  108,   1.5333,  26.5442,   -999.0,9
       RF99-04,  165E,RF-0801,  2,      7,02-12815,2,19990514,2304, 49.9028, 164.9108, 5489,    113.4,   1.6256,  33.1971,2,   -999.0,9,-999.0000,9,    278.3,2,    58.46,2,  -999.00,9,    31.05,2,     0.26,2,     2.33,2, -999.000,9, -999.000,9,  -999.00,9,   -999.0,9,   -999.0,9,-999.0000,9,   -999.0,  9,  -999.00,9,   -999.0,  -999.00,9,  -999.00,9,  -999.00,9,  -999.00,9,   -999.0,-999.0000, -999,9,  112,   1.6203,  26.5549,   -999.0,9
       RF99-04,  165E,RF-0801,  2,      6,02-12818,2,19990514,2304, 49.9028, 164.9108, 5489,    119.5,   2.1372,  33.3931,2,   -999.0,9,-999.0000,9,    192.4,2,    70.06,2,  -999.00,9,    35.63,2,     0.18,2,     2.64,2, -999.000,9, -999.000,9,  -999.00,9,   -999.0,9,   -999.0,9,-999.0000,9,   -999.0,  9,  -999.00,9,   -999.0,  -999.00,9,  -999.00,9,  -999.00,9,  -999.00,9,   -999.0,-999.0000, -999,9,  118,   2.1310,  26.6743,   -999.0,9
       RF99-04,  165E,RF-0801,  2,      5,02-12809,2,19990514,2303, 49.9028, 164.9108, 5489,    126.8,   2.9193,  33.6853,2,   -999.0,9,-999.0000,9,     94.6,2,    85.49,2,  -999.00,9,    41.16,2,     0.03,2,     3.01,2, -999.000,9, -999.000,9,  -999.00,9,   -999.0,9,   -999.0,9,-999.0000,9,   -999.0,  9,  -999.00,9,   -999.0,  -999.00,9,  -999.00,9,  -999.00,9,  -999.00,9,   -999.0,-999.0000, -999,9,  126,   2.9118,  26.8435,   -999.0,9
       RF99-04,  165E,RF-0801,  2,      4,02-12817,2,19990514,2302, 49.9028, 164.9108, 5489,    135.5,   3.4486,  33.9045,2,   -999.0,9,-999.0000,9,     21.6,2,    98.25,2,  -999.00,9,    46.04,2,     0.01,2,     3.31,2, -999.000,9, -999.000,9,  -999.00,9,   -999.0,9,   -999.0,9,-999.0000,9,   -999.0,  9,  -999.00,9,   -999.0,  -999.00,9,  -999.00,9,  -999.00,9,  -999.00,9,   -999.0,-999.0000, -999,9,  134,   3.4399,  26.9699,   -999.0,9
       RF99-04,  165E,RF-0801,  2,      3,02-12808,2,19990514,2301, 49.9028, 164.9108, 5489,    150.1,   3.4719,  33.9347,2,   -999.0,9,  34.0574,4,     18.2,2,   101.28,2,  -999.00,9,    45.91,2,     0.01,2,     3.30,2, -999.000,9, -999.000,9,  -999.00,9,   -999.0,9,   -999.0,9,-999.0000,9,   -999.0,  9,  -999.00,9,   -999.0,  -999.00,9,  -999.00,9,  -999.00,9,  -999.00,9,   -999.0,-999.0000, -999,9,  149,   3.4623,  26.9918,   -999.0,9
       RF99-04,  165E,RF-0801,  2,      2,02-13589,2,19990514,2300, 49.9028, 164.9108, 5489,    176.5,   3.4866,  33.9814,2,   -999.0,9,-999.0000,9,     13.6,2,   104.89,2,  -999.00,9,    45.65,2,     0.01,2,     3.32,2, -999.000,9, -999.000,9,  -999.00,9,   -999.0,9,   -999.0,9,-999.0000,9,   -999.0,  9,  -999.00,9,   -999.0,  -999.00,9,  -999.00,9,  -999.00,9,  -999.00,9,   -999.0,-999.0000, -999,9,  175,   3.4753,  27.0279,   -999.0,9
       RF99-04,  165E,RF-0801,  2,      1,02-12807,2,19990514,2259, 49.9028, 164.9108, 5489,    205.7,   3.4850,  34.0135,2,   -999.0,9,  34.0123,2,     12.1,2,   107.37,2,  -999.00,9,    45.92,2,     0.01,2,     3.30,2, -999.000,9, -999.000,9,  -999.00,9,   -999.0,9,   -999.0,9,-999.0000,9,   -999.0,  9,  -999.00,9,   -999.0,  -999.00,9,  -999.00,9,  -999.00,9,  -999.00,9,    210.0,-999.0000, -999,9,  204,   3.4717,  27.0537,   -999.0,9
       RF99-04,  165E,RF-0801,  1,     16,02-13588,2,19990514,1925, 49.9692, 164.9110, 5513,    250.1,   3.4612,  34.0636,2,   -999.0,9,-999.0000,9,     13.0,2,   111.99,2,  -999.00,9,    45.35,2,     0.01,2,     3.25,2, -999.000,9, -999.000,9,  -999.00,9,   -999.0,9,   -999.0,9,-999.0000,9,   -999.0,  9,  -999.00,9,   -999.0,  -999.00,9,  -999.00,9,  -999.00,9,  -999.00,9,   -999.0,-999.0000, -999,9,  248,   3.4450,  27.0962,   -999.0,9
       RF99-04,  165E,RF-0801,  1,     15,02-10155,2,19990514,1923, 49.9692, 164.9110, 5513,    302.4,   3.4178,  34.1110,2,   -999.0,9,  34.1108,2,     14.5,2,   116.44,2,  -999.00,9,    44.32,2,     0.01,2,     3.22,2, -999.000,9, -999.000,9,  -999.00,9,   -999.0,9,   -999.0,9,-999.0000,9,   -999.0,  9,  -999.00,9,   -999.0,  -999.00,9,  -999.00,9,  -999.00,9,  -999.00,9,   -999.0,-999.0000, -999,9,  300,   3.3982,  27.1385,   -999.0,9
       RF99-04,  165E,RF-0801,  1,     14,02-13579,2,19990514,1920, 49.9692, 164.9110, 5513,    403.2,   3.2905,  34.1932,2,   -999.0,9,  34.2987,4,     17.3,2,   123.81,2,  -999.00,9,    44.29,2,     0.01,2,     3.17,2, -999.000,9, -999.000,9,  -999.00,9,   -999.0,9,   -999.0,9,-999.0000,9,   -999.0,  9,  -999.00,9,   -999.0,  -999.00,9,  -999.00,9,  -999.00,9,  -999.00,9,   -999.0,-999.0000, -999,9,  399,   3.2643,  27.2167,   -999.0,9
       RF99-04,  165E,RF-0801,  1,     13,02-13590,2,19990514,1917, 49.9692, 164.9110, 5513,    503.7,   3.1685,  34.2533,2,   -999.0,9,-999.0000,9,     15.1,2,   130.41,2,  -999.00,9,    44.23,2,     0.01,2,     3.18,2, -999.000,9, -999.000,9,  -999.00,9,   -999.0,9,   -999.0,9,-999.0000,9,   -999.0,  9,  -999.00,9,   -999.0,  -999.00,9,  -999.00,9,  -999.00,9,  -999.00,9,   -999.0,-999.0000, -999,9,  499,   3.1358,  27.2766,   -999.0,9
       RF99-04,  165E,RF-0801,  1,     12,02-12821,2,19990514,1914, 49.9692, 164.9110, 5513,    603.8,   3.0263,  34.3021,2,   -999.0,9,  34.3076,4,     16.4,2,   136.13,2,  -999.00,9,    44.07,2,     0.01,2,     3.17,2, -999.000,9, -999.000,9,  -999.00,9,   -999.0,9,   -999.0,9,-999.0000,9,   -999.0,  9,  -999.00,9,   -999.0,  -999.00,9,  -999.00,9,  -999.00,9,  -999.00,9,   -999.0,-999.0000, -999,9,  598,   2.9872,  27.3291,   -999.0,9
       RF99-04,  165E,RF-0801,  1,     11,02-12811,2,19990514,1910, 49.9692, 164.9110, 5513,    806.8,   2.7089,  34.3945,2,   -999.0,9,  34.3938,2,     18.2,2,   147.22,2,  -999.00,9,    43.76,2,     0.00,2,     3.15,2, -999.000,9, -999.000,9,  -999.00,9,   -999.0,9,   -999.0,9,-999.0000,9,   -999.0,  9,  -999.00,9,   -999.0,  -999.00,9,  -999.00,9,  -999.00,9,  -999.00,9,   -999.0,-999.0000, -999,9,  798,   2.6573,  27.4322,   -999.0,9
       RF99-04,  165E,RF-0801,  1,     10,02-12820,2,19990514,1906, 49.9692, 164.9110, 5513,   1010.7,   2.4535,  34.4573,2,   -999.0,9,  34.4579,2,     24.8,2,   154.71,2,  -999.00,9,    43.80,2,     0.01,2,     3.12,2, -999.000,9, -999.000,9,  -999.00,9,   -999.0,9,   -999.0,9,-999.0000,9,   -999.0,  9,  -999.00,9,   -999.0,  -999.00,9,  -999.00,9,  -999.00,9,  -999.00,9,   -999.0,-999.0000, -999,9, 1000,   2.3892,  27.5053,   -999.0,9
       RF99-04,  165E,RF-0801,  1,      9,02-12810,2,19990514,1900, 49.9692, 164.9110, 5513,   1263.5,   2.1885,  34.5198,2,   -999.0,9,-999.0000,9,     38.5,2,   161.01,2,  -999.00,9,    42.84,2,     0.01,2,     3.06,2, -999.000,9, -999.000,9,  -999.00,9,   -999.0,9,   -999.0,9,-999.0000,9,   -999.0,  9,  -999.00,9,   -999.0,  -999.00,9,  -999.00,9,  -999.00,9,  -999.00,9,   -999.0,-999.0000, -999,9, 1249,   2.1081,  27.5784,   -999.0,9
       RF99-04,  165E,RF-0801,  1,      8,02-12819,2,19990514,1855, 49.9692, 164.9110, 5513,   1516.3,   2.0137,  34.5622,2,   -999.0,9,  34.6802,4,     51.9,2,   164.16,2,  -999.00,9,    41.90,2,     0.00,2,     2.99,2, -999.000,9, -999.000,9,  -999.00,9,   -999.0,9,   -999.0,9,-999.0000,9,   -999.0,  9,  -999.00,9,   -999.0,  -999.00,9,  -999.00,9,  -999.00,9,  -999.00,9,   -999.0,-999.0000, -999,9, 1498,   1.9160,  27.6275,   -999.0,9
       RF99-04,  165E,RF-0801,  1,      7,02-12815,2,19990514,1847, 49.9692, 164.9110, 5513,   2026.1,   1.7489,  34.6173,2,   -999.0,9,  34.8440,4,     78.2,2,   165.92,2,  -999.00,9,    40.23,2,     0.01,2,     2.88,2, -999.000,9, -999.000,9,  -999.00,9,   -999.0,9,   -999.0,9,-999.0000,9,   -999.0,  9,  -999.00,9,   -999.0,  -999.00,9,  -999.00,9,  -999.00,9,  -999.00,9,   -999.0,-999.0000, -999,9, 1999,   1.6142,  27.6946,   -999.0,9
       RF99-04,  165E,RF-0801,  1,      6,02-12818,2,19990514,1839, 49.9692, 164.9110, 5513,   2533.4,   1.5933,  34.6498,2,   -999.0,9,-999.0000,9,    105.4,2,   159.78,2,  -999.00,9,    38.10,2,     0.00,2,     2.72,2, -999.000,9, -999.000,9,  -999.00,9,   -999.0,9,   -999.0,9,-999.0000,9,   -999.0,  9,  -999.00,9,   -999.0,  -999.00,9,  -999.00,9,  -999.00,9,  -999.00,9,   -999.0,-999.0000, -999,9, 2497,   1.4177,  27.7351,   -999.0,9
       RF99-04,  165E,RF-0801,  1,      5,02-12809,2,19990514,1830, 49.9692, 164.9110, 5513,   3043.2,   1.5096,  34.6673,2,   -999.0,9,  34.6682,2,    124.6,2,   153.46,2,  -999.00,9,    37.39,2,     0.00,2,     2.62,2, -999.000,9, -999.000,9,  -999.00,9,   -999.0,9,   -999.0,9,-999.0000,9,   -999.0,  9,  -999.00,9,   -999.0,  -999.00,9,  -999.00,9,  -999.00,9,  -999.00,9,   -999.0,-999.0000, -999,9, 2995,   1.2885,  27.7583,   -999.0,9
       RF99-04,  165E,RF-0801,  1,      4,02-12817,2,19990514,1822, 49.9692, 164.9110, 5513,   3551.2,   1.4668,  34.6770,2,   -999.0,9,-999.0000,9,    133.7,2,   150.81,2,  -999.00,9,    36.30,2,     0.01,2,     2.57,2, -999.000,9, -999.000,9,  -999.00,9,   -999.0,9,   -999.0,9,-999.0000,9,   -999.0,  9,  -999.00,9,   -999.0,  -999.00,9,  -999.00,9,  -999.00,9,  -999.00,9,   -999.0,-999.0000, -999,9, 3492,   1.1963,  27.7725,   -999.0,9
       RF99-04,  165E,RF-0801,  1,      3,02-12808,2,19990514,1813, 49.9692, 164.9110, 5513,   4066.1,   1.4605,  34.6836,2,   -999.0,9,  34.6924,4,    144.3,2,   148.24,2,  -999.00,9,    36.22,2,     0.01,2,     2.52,2, -999.000,9, -999.000,9,  -999.00,9,   -999.0,9,   -999.0,9,-999.0000,9,   -999.0,  9,  -999.00,9,   -999.0,  -999.00,9,  -999.00,9,  -999.00,9,  -999.00,9,   -999.0,-999.0000, -999,9, 3993,   1.1355,  27.7820,   -999.0,9
       RF99-04,  165E,RF-0801,  1,      2,02-13589,4,19990514,1757, 49.9692, 164.9110, 5513,   5093.1,   1.5243,  34.6882,2,   -999.0,9,-999.0000,9,   -999.0,9,  -999.00,9,  -999.00,9,  -999.00,9,  -999.00,9,  -999.00,9, -999.000,9, -999.000,9,  -999.00,9,   -999.0,9,   -999.0,9,-999.0000,9,   -999.0,  9,  -999.00,9,   -999.0,  -999.00,9,  -999.00,9,  -999.00,9,  -999.00,9,   -999.0,-999.0000, -999,9, 4990,   1.0779,  27.7896,   -999.0,9
       RF99-04,  165E,RF-0801,  1,      1,02-12807,3,19990514,1749, 49.9692, 164.9110, 5513,   5559.9,   1.5776,  34.6884,2,   -999.0,9,  34.6505,4,   -999.0,9,   150.93,2,  -999.00,9,    36.94,2,     0.01,2,     2.58,2, -999.000,9, -999.000,9,  -999.00,9,   -999.0,9,   -999.0,9,-999.0000,9,   -999.0,  9,  -999.00,9,   -999.0,  -999.00,9,  -999.00,9,  -999.00,9,  -999.00,9,   -999.0,-999.0000, -999,9, 5442,   1.0705,  27.7903,   -999.0,9