BOTTLE,20130510GEMDJMAYT
EXPOCODE,SECT_ID,STNNBR,CASTNO,SAMPNO,BTLNBR,BTLNBR_FLAG_W,DATE,TIME,LATITUDE,LONGITUDE,DEPTH,CTDPRS,CTDTMP,CTDSAL,CTDSAL_FLAG_W,CTDOXY,CTDOXY_FLAG_W,SALNTY,SALNTY_FLAG_W,OXYGEN,OXYGEN_FLAG_W,SILCAT,SILCAT_FLAG_W,NITRAT,NITRAT_FLAG_W,NO2+NO3,NO2+NO3_FLAG_W,NITRIT,NITRIT_FLAG_W,PHSPHT,PHSPHT_FLAG_W,CFC-11,CFC-11_FLAG_W,CFC-12,CFC-12_FLAG_W,DELC13,DELC13_FLAG_W,TCARBN,TCARBN_FLAG_W,ALKALI,ALKALI_FLAG_W,PH,PH_FLAG_W,PH_TMP,PH_SCALE,PH_NBS,PH_NBS_FLAG_W,C13ERR,TOTALP,TOTALP_FLAG_W,AMMONI,AMMONI_FLAG_W,CHLORA,CHLORA_FLAG_W,PPHYTN,PPHYTN_FLAG_W,REVPRS,REVTMP,DEPTH_,DEPTH_FLAG,CTDDEP,THETA,SIGTHT,DOC,DOC_FLAG_W
,,,,,,,GMT,GMT,,,METER,DBAR,ITS-90,PSS-78,,UMOL/KG,,PSS-78,,UMOL/KG,,UMOL/KG,,UMOL/KG,,UMOL/KG,,UMOL/KG,,UMOL/KG,,PMOL/KG,,PMOL/KG,,/MILLE,,UMOL/KG,,UMOL/KG,,25_DEG_C,,DEG_C,,,,/MILLE,UMOL/KG,,UMOL/KG,,UG/L,,UG/L,,DBAR,ITS-90,METERS,,METERS,DEG_C,,UMOL/L,
       RF99-04,  NONE,RF-0794,  1,     -9,      -9,5,19990430,0914, 37.0085, 152.0038, 5863,      0.0,  17.3330,  34.4685,2,   -999.0,9,-999.0000,9,   -999.0,4,  -999.00,9,  -999.00,9,  -999.00,9,  -999.00,9,  -999.00,9, -999.000,9, -999.000,9,  -999.00,9,   -999.0,9,   -999.0,9,-999.0000,9,   -999.0,  9,  -999.00,9,   -999.0,  -999.00,9,  -999.00,9,  -999.00,9,  -999.00,9,   -999.0,-999.0000, -999,9,    0,  17.3330,  25.0269,   -999.0,9
       RF99-04,  NONE,RF-0794,  1,     21,02-12827,2,19990430,0911, 37.0085, 152.0038, 5863,     12.4,  17.3471,  34.7594,2,   -999.0,9,-999.0000,9,   -999.0,4,  -999.00,9,  -999.00,9,  -999.00,9,  -999.00,9,  -999.00,9, -999.000,9, -999.000,9,  -999.00,9,   -999.0,9,   -999.0,9,-999.0000,9,   -999.0,  9,  -999.00,9,   -999.0,  -999.00,9,  -999.00,9,  -999.00,9,  -999.00,9,   -999.0,-999.0000, -999,9,   12,  17.3450,  25.2471,   -999.0,9
       RF99-04,  NONE,RF-0794,  1,     20,02-12826,2,19990430,0910, 37.0085, 152.0038, 5863,     26.3,  17.3447,  34.7583,2,   -999.0,9,-999.0000,9,    236.4,2,  -999.00,9,  -999.00,9,  -999.00,9,  -999.00,9,  -999.00,9, -999.000,9, -999.000,9,  -999.00,9,   -999.0,9,   -999.0,9,-999.0000,9,   -999.0,  9,  -999.00,9,   -999.0,  -999.00,9,  -999.00,9,  -999.00,9,  -999.00,9,   -999.0,-999.0000, -999,9,   26,  17.3403,  25.2474,   -999.0,9
       RF99-04,  NONE,RF-0794,  1,     19,02-12825,2,19990430,0908, 37.0085, 152.0038, 5863,     51.9,  17.3529,  34.7587,2,   -999.0,9,-999.0000,9,    236.9,2,  -999.00,9,  -999.00,9,  -999.00,9,  -999.00,9,  -999.00,9, -999.000,9, -999.000,9,  -999.00,9,   -999.0,9,   -999.0,9,-999.0000,9,   -999.0,  9,  -999.00,9,   -999.0,  -999.00,9,  -999.00,9,  -999.00,9,  -999.00,9,   -999.0,-999.0000, -999,9,   52,  17.3443,  25.2467,   -999.0,9
       RF99-04,  NONE,RF-0794,  1,     18,02-12824,2,19990430,0906, 37.0085, 152.0038, 5863,     75.9,  17.0711,  34.7337,2,   -999.0,9,-999.0000,9,    141.7,4,  -999.00,9,  -999.00,9,  -999.00,9,  -999.00,9,  -999.00,9, -999.000,9, -999.000,9,  -999.00,9,   -999.0,9,   -999.0,9,-999.0000,9,   -999.0,  9,  -999.00,9,   -999.0,  -999.00,9,  -999.00,9,  -999.00,9,  -999.00,9,   -999.0,-999.0000, -999,9,   75,  17.0586,  25.2959,   -999.0,9
       RF99-04,  NONE,RF-0794,  1,     17,02-12814,2,19990430,0905, 37.0085, 152.0038, 5863,    101.2,  16.7691,  34.7251,2,   -999.0,9,-999.0000,9,    234.0,2,  -999.00,9,  -999.00,9,  -999.00,9,  -999.00,9,  -999.00,9, -999.000,9, -999.000,9,  -999.00,9,   -999.0,9,   -999.0,9,-999.0000,9,   -999.0,  9,  -999.00,9,   -999.0,  -999.00,9,  -999.00,9,  -999.00,9,  -999.00,9,   -999.0,-999.0000, -999,9,  100,  16.7527,  25.3617,   -999.0,9
       RF99-04,  NONE,RF-0794,  1,     16,02-12832,2,19990430,0903, 37.0085, 152.0038, 5863,    125.1,  16.6187,  34.7172,2,   -999.0,9,-999.0000,9,    230.8,2,  -999.00,9,  -999.00,9,  -999.00,9,  -999.00,9,  -999.00,9, -999.000,9, -999.000,9,  -999.00,9,   -999.0,9,   -999.0,9,-999.0000,9,   -999.0,  9,  -999.00,9,   -999.0,  -999.00,9,  -999.00,9,  -999.00,9,  -999.00,9,   -999.0,-999.0000, -999,9,  124,  16.5985,  25.3918,   -999.0,9
       RF99-04,  NONE,RF-0794,  1,     15,02-12833,2,19990430,0902, 37.0085, 152.0038, 5863,    151.8,  16.4644,  34.7067,2,   -999.0,9,-999.0000,9,    226.4,2,  -999.00,9,  -999.00,9,  -999.00,9,  -999.00,9,  -999.00,9, -999.000,9, -999.000,9,  -999.00,9,   -999.0,9,   -999.0,9,-999.0000,9,   -999.0,  9,  -999.00,9,   -999.0,  -999.00,9,  -999.00,9,  -999.00,9,  -999.00,9,   -999.0,-999.0000, -999,9,  151,  16.4400,  25.4206,   -999.0,9
       RF99-04,  NONE,RF-0794,  1,     14,02-13578,2,19990430,0900, 37.0085, 152.0038, 5863,    203.1,  15.2301,  34.6332,2,   -999.0,9,-999.0000,9,    194.0,2,  -999.00,9,  -999.00,9,  -999.00,9,  -999.00,9,  -999.00,9, -999.000,9, -999.000,9,  -999.00,9,   -999.0,9,   -999.0,9,-999.0000,9,   -999.0,  9,  -999.00,9,   -999.0,  -999.00,9,  -999.00,9,  -999.00,9,  -999.00,9,   -999.0,-999.0000, -999,9,  201,  15.1991,  25.6454,   -999.0,9
       RF99-04,  NONE,RF-0794,  1,     13,02-13590,2,19990430,0859, 37.0085, 152.0038, 5863,    252.1,  14.2897,  34.5583,2,   -999.0,9,-999.0000,9,    205.8,2,  -999.00,9,  -999.00,9,  -999.00,9,  -999.00,9,  -999.00,9, -999.000,9, -999.000,9,  -999.00,9,   -999.0,9,   -999.0,9,-999.0000,9,   -999.0,  9,  -999.00,9,   -999.0,  -999.00,9,  -999.00,9,  -999.00,9,  -999.00,9,   -999.0,-999.0000, -999,9,  250,  14.2528,  25.7924,   -999.0,9
       RF99-04,  NONE,RF-0794,  1,     12,02-12821,2,19990430,0857, 37.0085, 152.0038, 5863,    301.9,  13.2985,  34.5069,2,   -999.0,9,-999.0000,9,    179.7,2,  -999.00,9,  -999.00,9,  -999.00,9,  -999.00,9,  -999.00,9, -999.000,9, -999.000,9,  -999.00,9,   -999.0,9,   -999.0,9,-999.0000,9,   -999.0,  9,  -999.00,9,   -999.0,  -999.00,9,  -999.00,9,  -999.00,9,  -999.00,9,   -999.0,-999.0000, -999,9,  299,  13.2564,  25.9592,   -999.0,9
       RF99-04,  NONE,RF-0794,  1,     11,02-12811,2,19990430,0854, 37.0085, 152.0038, 5863,    402.5,   8.7093,  33.9979,2,   -999.0,9,-999.0000,9,    235.3,2,  -999.00,9,  -999.00,9,  -999.00,9,  -999.00,9,  -999.00,9, -999.000,9, -999.000,9,  -999.00,9,   -999.0,9,   -999.0,9,-999.0000,9,   -999.0,  9,  -999.00,9,   -999.0,  -999.00,9,  -999.00,9,  -999.00,9,  -999.00,9,   -999.0,-999.0000, -999,9,  399,   8.6665,  26.3857,   -999.0,9
       RF99-04,  NONE,RF-0794,  1,     10,02-12820,2,19990430,0852, 37.0085, 152.0038, 5863,    502.2,   6.9233,  34.0252,2,   -999.0,9,-999.0000,9,    163.8,2,  -999.00,9,  -999.00,9,  -999.00,9,  -999.00,9,  -999.00,9, -999.000,9, -999.000,9,  -999.00,9,   -999.0,9,   -999.0,9,-999.0000,9,   -999.0,  9,  -999.00,9,   -999.0,  -999.00,9,  -999.00,9,  -999.00,9,  -999.00,9,   -999.0,-999.0000, -999,9,  498,   6.8763,  26.6677,   -999.0,9
       RF99-04,  NONE,RF-0794,  1,      9,02-12810,2,19990430,0850, 37.0085, 152.0038, 5863,    605.5,   5.5495,  34.0867,2,   -999.0,9,-999.0000,9,    106.0,2,  -999.00,9,  -999.00,9,  -999.00,9,  -999.00,9,  -999.00,9, -999.000,9, -999.000,9,  -999.00,9,   -999.0,9,   -999.0,9,-999.0000,9,   -999.0,  9,  -999.00,9,   -999.0,  -999.00,9,  -999.00,9,  -999.00,9,  -999.00,9,   -999.0,-999.0000, -999,9,  600,   5.4986,  26.8927,   -999.0,9
       RF99-04,  NONE,RF-0794,  1,      8,02-12819,2,19990430,0847, 37.0085, 152.0038, 5863,    706.0,   5.1238,  34.2265,2,   -999.0,9,-999.0000,9,     81.7,2,  -999.00,9,  -999.00,9,  -999.00,9,  -999.00,9,  -999.00,9, -999.000,9, -999.000,9,  -999.00,9,   -999.0,9,   -999.0,9,-999.0000,9,   -999.0,  9,  -999.00,9,   -999.0,  -999.00,9,  -999.00,9,  -999.00,9,  -999.00,9,   -999.0,-999.0000, -999,9,  700,   5.0661,  27.0544,   -999.0,9
       RF99-04,  NONE,RF-0794,  1,      7,02-12815,2,19990430,0845, 37.0085, 152.0038, 5863,    805.6,   4.4057,  34.2410,2,   -999.0,9,-999.0000,9,     64.0,2,  -999.00,9,  -999.00,9,  -999.00,9,  -999.00,9,  -999.00,9, -999.000,9, -999.000,9,  -999.00,9,   -999.0,9,   -999.0,9,-999.0000,9,   -999.0,  9,  -999.00,9,   -999.0,  -999.00,9,  -999.00,9,  -999.00,9,  -999.00,9,   -999.0,-999.0000, -999,9,  798,   4.3438,  27.1463,   -999.0,9
       RF99-04,  NONE,RF-0794,  1,      6,02-12818,2,19990430,0843, 37.0085, 152.0038, 5863,    909.1,   3.7816,  34.2819,2,   -999.0,9,-999.0000,9,     48.4,2,  -999.00,9,  -999.00,9,  -999.00,9,  -999.00,9,  -999.00,9, -999.000,9, -999.000,9,  -999.00,9,   -999.0,9,   -999.0,9,-999.0000,9,   -999.0,  9,  -999.00,9,   -999.0,  -999.00,9,  -999.00,9,  -999.00,9,  -999.00,9,   -999.0,-999.0000, -999,9,  900,   3.7153,  27.2437,   -999.0,9
       RF99-04,  NONE,RF-0794,  1,      5,02-12809,2,19990430,0840, 37.0085, 152.0038, 5863,   1007.7,   3.4718,  34.3407,2,   -999.0,9,-999.0000,9,     45.2,2,  -999.00,9,  -999.00,9,  -999.00,9,  -999.00,9,  -999.00,9, -999.000,9, -999.000,9,  -999.00,9,   -999.0,9,   -999.0,9,-999.0000,9,   -999.0,  9,  -999.00,9,   -999.0,  -999.00,9,  -999.00,9,  -999.00,9,  -999.00,9,   -999.0,-999.0000, -999,9,  998,   3.3999,  27.3214,   -999.0,9
       RF99-04,  NONE,RF-0794,  1,      4,02-12817,2,19990430,0836, 37.0085, 152.0038, 5863,   1261.7,   2.8680,  34.4358,2,   -999.0,9,-999.0000,9,     39.2,2,  -999.00,9,  -999.00,9,  -999.00,9,  -999.00,9,  -999.00,9, -999.000,9, -999.000,9,  -999.00,9,   -999.0,9,   -999.0,9,-999.0000,9,   -999.0,  9,  -999.00,9,   -999.0,  -999.00,9,  -999.00,9,  -999.00,9,  -999.00,9,   -999.0,-999.0000, -999,9, 1249,   2.7812,  27.4543,   -999.0,9
       RF99-04,  NONE,RF-0794,  1,      3,02-12808,2,19990430,0831, 37.0085, 152.0038, 5863,   1516.7,   2.4467,  34.5074,2,   -999.0,9,-999.0000,9,     45.1,2,  -999.00,9,  -999.00,9,  -999.00,9,  -999.00,9,  -999.00,9, -999.000,9, -999.000,9,  -999.00,9,   -999.0,9,   -999.0,9,-999.0000,9,   -999.0,  9,  -999.00,9,   -999.0,  -999.00,9,  -999.00,9,  -999.00,9,  -999.00,9,   -999.0,-999.0000, -999,9, 1500,   2.3441,  27.5491,   -999.0,9
       RF99-04,  NONE,RF-0794,  1,      2,02-13589,2,19990430,0827, 37.0085, 152.0038, 5863,   1766.5,   2.2118,  34.5552,2,   -999.0,9,-999.0000,9,   -999.0,9,  -999.00,9,  -999.00,9,  -999.00,9,  -999.00,9,  -999.00,9, -999.000,9, -999.000,9,  -999.00,9,   -999.0,9,   -999.0,9,-999.0000,9,   -999.0,  9,  -999.00,9,   -999.0,  -999.00,9,  -999.00,9,  -999.00,9,  -999.00,9,   -999.0,-999.0000, -999,9, 1746,   2.0919,  27.6080,   -999.0,9
       RF99-04,  NONE,RF-0794,  1,      1,02-12807,2,19990430,0822, 37.0085, 152.0038, 5863,   2037.6,   1.9908,  34.5945,2,   -999.0,9,-999.0000,9,   -999.0,9,  -999.00,9,  -999.00,9,  -999.00,9,  -999.00,9,  -999.00,9, -999.000,9, -999.000,9,  -999.00,9,   -999.0,9,   -999.0,9,-999.0000,9,   -999.0,  9,  -999.00,9,   -999.0,  -999.00,9,  -999.00,9,  -999.00,9,  -999.00,9,   2022.0,-999.0000, -999,9, 2013,   1.8515,  27.6584,   -999.0,9
       RF99-04,  NONE,RF-0795,  1,     -9,      -9,5,19990430,1829, 37.9988, 151.9963, 5819,      0.0,  16.7014,  34.7562,2,   -999.0,9,-999.0000,9,   -999.0,9,  -999.00,9,  -999.00,9,  -999.00,9,  -999.00,9,  -999.00,9, -999.000,9, -999.000,9,  -999.00,9,   -999.0,9,   -999.0,9,-999.0000,9,   -999.0,  9,  -999.00,9,   -999.0,  -999.00,9,  -999.00,9,  -999.00,9,  -999.00,9,   -999.0,-999.0000, -999,9,    0,  16.7014,  25.3976,   -999.0,9
       RF99-04,  NONE,RF-0795,  1,     19,02-12825,2,19990430,1820, 37.9988, 151.9963, 5819,     55.3,  16.1937,  34.7268,2,   -999.0,9,  34.7477,4,   -999.0,9,  -999.00,9,  -999.00,9,  -999.00,9,  -999.00,9,  -999.00,9, -999.000,9, -999.000,9,  -999.00,9,   -999.0,9,   -999.0,9,-999.0000,9,   -999.0,  9,  -999.00,9,   -999.0,  -999.00,9,  -999.00,9,  -999.00,9,  -999.00,9,   -999.0,-999.0000, -999,9,   55,  16.1849,  25.4951,   -999.0,9
       RF99-04,  NONE,RF-0795,  1,     18,02-12824,2,19990430,1808, 37.9988, 151.9963, 5819,     75.7,  16.1764,  34.7261,2,   -999.0,9,  34.7648,4,   -999.0,9,  -999.00,9,  -999.00,9,  -999.00,9,  -999.00,9,  -999.00,9, -999.000,9, -999.000,9,  -999.00,9,   -999.0,9,   -999.0,9,-999.0000,9,   -999.0,  9,  -999.00,9,   -999.0,  -999.00,9,  -999.00,9,  -999.00,9,  -999.00,9,   -999.0,-999.0000, -999,9,   75,  16.1644,  25.4992,   -999.0,9
       RF99-04,  NONE,RF-0795,  1,     17,02-12814,2,19990430,1807, 37.9988, 151.9963, 5819,    101.4,  16.1636,  34.7236,2,   -999.0,9,  34.7268,2,   -999.0,9,  -999.00,9,  -999.00,9,  -999.00,9,  -999.00,9,  -999.00,9, -999.000,9, -999.000,9,  -999.00,9,   -999.0,9,   -999.0,9,-999.0000,9,   -999.0,  9,  -999.00,9,   -999.0,  -999.00,9,  -999.00,9,  -999.00,9,  -999.00,9,   -999.0,-999.0000, -999,9,  101,  16.1475,  25.5012,   -999.0,9
       RF99-04,  NONE,RF-0795,  1,     16,02-12832,2,19990430,1806, 37.9988, 151.9963, 5819,    126.5,  16.1387,  34.7220,2,   -999.0,9,-999.0000,9,   -999.0,9,  -999.00,9,  -999.00,9,  -999.00,9,  -999.00,9,  -999.00,9, -999.000,9, -999.000,9,  -999.00,9,   -999.0,9,   -999.0,9,-999.0000,9,   -999.0,  9,  -999.00,9,   -999.0,  -999.00,9,  -999.00,9,  -999.00,9,  -999.00,9,   -999.0,-999.0000, -999,9,  126,  16.1187,  25.5066,   -999.0,9
       RF99-04,  NONE,RF-0795,  1,     15,02-12833,2,19990430,1804, 37.9988, 151.9963, 5819,    151.5,  16.0914,  34.7168,2,   -999.0,9,  34.7174,2,   -999.0,9,  -999.00,9,  -999.00,9,  -999.00,9,  -999.00,9,  -999.00,9, -999.000,9, -999.000,9,  -999.00,9,   -999.0,9,   -999.0,9,-999.0000,9,   -999.0,  9,  -999.00,9,   -999.0,  -999.00,9,  -999.00,9,  -999.00,9,  -999.00,9,   -999.0,-999.0000, -999,9,  150,  16.0674,  25.5143,   -999.0,9
       RF99-04,  NONE,RF-0795,  1,     14,02-13578,2,19990430,1803, 37.9988, 151.9963, 5819,    201.7,  15.3751,  34.6452,2,   -999.0,9,  34.6481,2,   -999.0,9,  -999.00,9,  -999.00,9,  -999.00,9,  -999.00,9,  -999.00,9, -999.000,9, -999.000,9,  -999.00,9,   -999.0,9,   -999.0,9,-999.0000,9,   -999.0,  9,  -999.00,9,   -999.0,  -999.00,9,  -999.00,9,  -999.00,9,  -999.00,9,   -999.0,-999.0000, -999,9,  200,  15.3441,  25.6225,   -999.0,9
       RF99-04,  NONE,RF-0795,  1,     13,02-13590,2,19990430,1801, 37.9988, 151.9963, 5819,    251.4,  14.8511,  34.6130,2,   -999.0,9,  34.6391,4,   -999.0,9,  -999.00,9,  -999.00,9,  -999.00,9,  -999.00,9,  -999.00,9, -999.000,9, -999.000,9,  -999.00,9,   -999.0,9,   -999.0,9,-999.0000,9,   -999.0,  9,  -999.00,9,   -999.0,  -999.00,9,  -999.00,9,  -999.00,9,  -999.00,9,   -999.0,-999.0000, -999,9,  249,  14.8133,  25.7143,   -999.0,9
       RF99-04,  NONE,RF-0795,  1,     12,02-12821,2,19990430,1759, 37.9988, 151.9963, 5819,    303.1,  13.4510,  34.4875,2,   -999.0,9,  34.4860,2,   -999.0,9,  -999.00,9,  -999.00,9,  -999.00,9,  -999.00,9,  -999.00,9, -999.000,9, -999.000,9,  -999.00,9,   -999.0,9,   -999.0,9,-999.0000,9,   -999.0,  9,  -999.00,9,   -999.0,  -999.00,9,  -999.00,9,  -999.00,9,  -999.00,9,   -999.0,-999.0000, -999,9,  301,  13.4084,  25.9134,   -999.0,9
       RF99-04,  NONE,RF-0795,  1,     11,02-12811,2,19990430,1757, 37.9988, 151.9963, 5819,    401.9,   9.4041,  34.1424,2,   -999.0,9,  34.1418,2,   -999.0,9,  -999.00,9,  -999.00,9,  -999.00,9,  -999.00,9,  -999.00,9, -999.000,9, -999.000,9,  -999.00,9,   -999.0,9,   -999.0,9,-999.0000,9,   -999.0,  9,  -999.00,9,   -999.0,  -999.00,9,  -999.00,9,  -999.00,9,  -999.00,9,   -999.0,-999.0000, -999,9,  399,   9.3592,  26.3888,   -999.0,9
       RF99-04,  NONE,RF-0795,  1,     10,02-12820,2,19990430,1755, 37.9988, 151.9963, 5819,    502.5,   6.7601,  33.9896,2,   -999.0,9,  33.9817,2,   -999.0,9,  -999.00,9,  -999.00,9,  -999.00,9,  -999.00,9,  -999.00,9, -999.000,9, -999.000,9,  -999.00,9,   -999.0,9,   -999.0,9,-999.0000,9,   -999.0,  9,  -999.00,9,   -999.0,  -999.00,9,  -999.00,9,  -999.00,9,  -999.00,9,   -999.0,-999.0000, -999,9,  498,   6.7137,  26.6616,   -999.0,9
       RF99-04,  NONE,RF-0795,  1,      9,02-12810,2,19990430,1753, 37.9988, 151.9963, 5819,    604.2,   5.4065,  33.9935,2,   -999.0,9,  33.9919,2,   -999.0,9,  -999.00,9,  -999.00,9,  -999.00,9,  -999.00,9,  -999.00,9, -999.000,9, -999.000,9,  -999.00,9,   -999.0,9,   -999.0,9,-999.0000,9,   -999.0,  9,  -999.00,9,   -999.0,  -999.00,9,  -999.00,9,  -999.00,9,  -999.00,9,   -999.0,-999.0000, -999,9,  599,   5.3565,  26.8358,   -999.0,9
       RF99-04,  NONE,RF-0795,  1,      8,02-12819,2,19990430,1750, 37.9988, 151.9963, 5819,    703.8,   4.5388,  34.1174,2,   -999.0,9,-999.0000,9,   -999.0,9,  -999.00,9,  -999.00,9,  -999.00,9,  -999.00,9,  -999.00,9, -999.000,9, -999.000,9,  -999.00,9,   -999.0,9,   -999.0,9,-999.0000,9,   -999.0,  9,  -999.00,9,   -999.0,  -999.00,9,  -999.00,9,  -999.00,9,  -999.00,9,   -999.0,-999.0000, -999,9,  697,   4.4846,  27.0329,   -999.0,9
       RF99-04,  NONE,RF-0795,  1,      7,02-12815,2,19990430,1748, 37.9988, 151.9963, 5819,    806.5,   3.9449,  34.1299,2,   -999.0,9,  34.1307,2,   -999.0,9,  -999.00,9,  -999.00,9,  -999.00,9,  -999.00,9,  -999.00,9, -999.000,9, -999.000,9,  -999.00,9,   -999.0,9,   -999.0,9,-999.0000,9,   -999.0,  9,  -999.00,9,   -999.0,  -999.00,9,  -999.00,9,  -999.00,9,  -999.00,9,   -999.0,-999.0000, -999,9,  799,   3.8859,  27.1057,   -999.0,9
       RF99-04,  NONE,RF-0795,  1,      6,02-12818,2,19990430,1746, 37.9988, 151.9963, 5819,    905.9,   3.8414,  34.2393,2,   -999.0,9,-999.0000,9,   -999.0,9,  -999.00,9,  -999.00,9,  -999.00,9,  -999.00,9,  -999.00,9, -999.000,9, -999.000,9,  -999.00,9,   -999.0,9,   -999.0,9,-999.0000,9,   -999.0,  9,  -999.00,9,   -999.0,  -999.00,9,  -999.00,9,  -999.00,9,  -999.00,9,   -999.0,-999.0000, -999,9,  897,   3.7750,  27.2039,   -999.0,9
       RF99-04,  NONE,RF-0795,  1,      5,02-12809,2,19990430,1744, 37.9988, 151.9963, 5819,   1008.4,   3.4758,  34.2957,2,   -999.0,9,  34.2634,4,   -999.0,9,  -999.00,9,  -999.00,9,  -999.00,9,  -999.00,9,  -999.00,9, -999.000,9, -999.000,9,  -999.00,9,   -999.0,9,   -999.0,9,-999.0000,9,   -999.0,  9,  -999.00,9,   -999.0,  -999.00,9,  -999.00,9,  -999.00,9,  -999.00,9,   -999.0,-999.0000, -999,9,  998,   3.4038,  27.2851,   -999.0,9
       RF99-04,  NONE,RF-0795,  1,      4,02-12817,2,19990430,1740, 37.9988, 151.9963, 5819,   1262.8,   2.9189,  34.4235,2,   -999.0,9,  34.4017,4,   -999.0,9,  -999.00,9,  -999.00,9,  -999.00,9,  -999.00,9,  -999.00,9, -999.000,9, -999.000,9,  -999.00,9,   -999.0,9,   -999.0,9,-999.0000,9,   -999.0,  9,  -999.00,9,   -999.0,  -999.00,9,  -999.00,9,  -999.00,9,  -999.00,9,   -999.0,-999.0000, -999,9, 1250,   2.8316,  27.4401,   -999.0,9
       RF99-04,  NONE,RF-0795,  1,      3,02-12808,2,19990430,1735, 37.9988, 151.9963, 5819,   1513.7,   2.5142,  34.4914,2,   -999.0,9,  34.4852,2,   -999.0,9,  -999.00,9,  -999.00,9,  -999.00,9,  -999.00,9,  -999.00,9, -999.000,9, -999.000,9,  -999.00,9,   -999.0,9,   -999.0,9,-999.0000,9,   -999.0,  9,  -999.00,9,   -999.0,  -999.00,9,  -999.00,9,  -999.00,9,  -999.00,9,   -999.0,-999.0000, -999,9, 1497,   2.4111,  27.5308,   -999.0,9
       RF99-04,  NONE,RF-0795,  1,      2,02-13589,2,19990430,1730, 37.9988, 151.9963, 5819,   1770.0,   2.2409,  34.5429,2,   -999.0,9,  34.5372,2,   -999.0,9,  -999.00,9,  -999.00,9,  -999.00,9,  -999.00,9,  -999.00,9, -999.000,9, -999.000,9,  -999.00,9,   -999.0,9,   -999.0,9,-999.0000,9,   -999.0,  9,  -999.00,9,   -999.0,  -999.00,9,  -999.00,9,  -999.00,9,  -999.00,9,   -999.0,-999.0000, -999,9, 1749,   2.1203,  27.5959,   -999.0,9
       RF99-04,  NONE,RF-0795,  1,      1,02-12807,2,19990430,1726, 37.9988, 151.9963, 5819,   2030.3,   2.0481,  34.5839,2,   -999.0,9,  34.5771,2,   -999.0,9,  -999.00,9,  -999.00,9,  -999.00,9,  -999.00,9,  -999.00,9, -999.000,9, -999.000,9,  -999.00,9,   -999.0,9,   -999.0,9,-999.0000,9,   -999.0,  9,  -999.00,9,   -999.0,  -999.00,9,  -999.00,9,  -999.00,9,  -999.00,9,   2016.0,-999.0000, -999,9, 2005,   1.9085,  27.6455,   -999.0,9