BOTTLE,20130510GEMDJMAYT
EXPOCODE,SECT_ID,STNNBR,CASTNO,SAMPNO,BTLNBR,BTLNBR_FLAG_W,DATE,TIME,LATITUDE,LONGITUDE,DEPTH,CTDPRS,CTDTMP,CTDSAL,CTDSAL_FLAG_W,CTDOXY,CTDOXY_FLAG_W,SALNTY,SALNTY_FLAG_W,OXYGEN,OXYGEN_FLAG_W,SILCAT,SILCAT_FLAG_W,NITRAT,NITRAT_FLAG_W,NO2+NO3,NO2+NO3_FLAG_W,NITRIT,NITRIT_FLAG_W,PHSPHT,PHSPHT_FLAG_W,CFC-11,CFC-11_FLAG_W,CFC-12,CFC-12_FLAG_W,DELC13,DELC13_FLAG_W,TCARBN,TCARBN_FLAG_W,ALKALI,ALKALI_FLAG_W,PH,PH_FLAG_W,PH_TMP,PH_SCALE,PH_NBS,PH_NBS_FLAG_W,C13ERR,TOTALP,TOTALP_FLAG_W,AMMONI,AMMONI_FLAG_W,CHLORA,CHLORA_FLAG_W,PPHYTN,PPHYTN_FLAG_W,REVPRS,REVTMP,DEPTH_,DEPTH_FLAG,CTDDEP,THETA,SIGTHT,DOC,DOC_FLAG_W
,,,,,,,GMT,GMT,,,METER,DBAR,ITS-90,PSS-78,,UMOL/KG,,PSS-78,,UMOL/KG,,UMOL/KG,,UMOL/KG,,UMOL/KG,,UMOL/KG,,UMOL/KG,,PMOL/KG,,PMOL/KG,,/MILLE,,UMOL/KG,,UMOL/KG,,25_DEG_C,,DEG_C,,,,/MILLE,UMOL/KG,,UMOL/KG,,UG/L,,UG/L,,DBAR,ITS-90,METERS,,METERS,DEG_C,,UMOL/L,
       RF99-04,  NONE,RF-0798,  1,     -9,      -9,5,19990503,1027, 40.8140, 149.8867, 5348,      0.0,   7.0524,  33.6023,2,   -999.0,9,-999.0000,9,    329.9,4,    16.11,2,  -999.00,9,    12.52,2,     0.30,2,     0.95,2, -999.000,9, -999.000,9,  -999.00,9,   -999.0,9,   -999.0,9,-999.0000,9,   -999.0,  9,  -999.00,9,   -999.0,  -999.00,9,  -999.00,9,  -999.00,9,  -999.00,9,   -999.0,-999.0000, -999,9,    0,   7.0524,  26.3106,   -999.0,9
       RF99-04,  NONE,RF-0798,  1,     21,02-12827,2,19990503,1024, 40.8140, 149.8867, 5348,     11.9,   6.7762,  33.5680,2,   -999.0,9,  33.5710,2,    174.8,4,    14.60,2,  -999.00,9,    12.17,2,     0.29,2,     0.90,2, -999.000,9, -999.000,9,  -999.00,9,   -999.0,9,   -999.0,9,-999.0000,9,   -999.0,  9,  -999.00,9,   -999.0,  -999.00,9,  -999.00,9,  -999.00,9,  -999.00,9,   -999.0,-999.0000, -999,9,   12,   6.7752,  26.3210,   -999.0,9
       RF99-04,  NONE,RF-0798,  1,     20,02-12826,2,19990503,1023, 40.8140, 149.8867, 5348,     25.5,   6.5266,  33.5518,2,   -999.0,9,-999.0000,9,    323.1,2,    16.03,2,  -999.00,9,    13.27,2,     0.29,2,     0.97,2, -999.000,9, -999.000,9,  -999.00,9,   -999.0,9,   -999.0,9,-999.0000,9,   -999.0,  9,  -999.00,9,   -999.0,  -999.00,9,  -999.00,9,  -999.00,9,  -999.00,9,   -999.0,-999.0000, -999,9,   25,   6.5244,  26.3414,   -999.0,9
       RF99-04,  NONE,RF-0798,  1,     19,02-12825,2,19990503,1022, 40.8140, 149.8867, 5348,     50.8,   5.9909,  33.5388,2,   -999.0,9,  33.5471,2,    307.3,2,    21.69,2,  -999.00,9,    15.38,2,     0.31,2,     1.22,2, -999.000,9, -999.000,9,  -999.00,9,   -999.0,9,   -999.0,9,-999.0000,9,   -999.0,  9,  -999.00,9,   -999.0,  -999.00,9,  -999.00,9,  -999.00,9,  -999.00,9,   -999.0,-999.0000, -999,9,   50,   5.9867,  26.3997,   -999.0,9
       RF99-04,  NONE,RF-0798,  1,     18,02-12824,2,19990503,1020, 40.8140, 149.8867, 5348,     76.9,   5.2570,  33.5298,2,   -999.0,9,-999.0000,9,    295.3,2,    26.98,2,  -999.00,9,    17.65,2,     0.31,2,     1.38,2, -999.000,9, -999.000,9,  -999.00,9,   -999.0,9,   -999.0,9,-999.0000,9,   -999.0,  9,  -999.00,9,   -999.0,  -999.00,9,  -999.00,9,  -999.00,9,  -999.00,9,   -999.0,-999.0000, -999,9,   76,   5.2511,  26.4810,   -999.0,9
       RF99-04,  NONE,RF-0798,  1,     17,02-12814,2,19990503,1019, 40.8140, 149.8867, 5348,    100.7,   5.0354,  33.5801,2,   -999.0,9,  33.5718,2,    273.9,2,    31.62,2,  -999.00,9,    19.83,2,     0.11,2,     1.51,2, -999.000,9, -999.000,9,  -999.00,9,   -999.0,9,   -999.0,9,-999.0000,9,   -999.0,  9,  -999.00,9,   -999.0,  -999.00,9,  -999.00,9,  -999.00,9,  -999.00,9,   -999.0,-999.0000, -999,9,  100,   5.0278,  26.5464,   -999.0,9
       RF99-04,  NONE,RF-0798,  1,     16,02-12832,2,19990503,1018, 40.8140, 149.8867, 5348,    125.4,   4.5403,  33.5607,2,   -999.0,9,-999.0000,9,    269.5,2,    34.60,2,  -999.00,9,    20.71,2,     0.05,2,     1.59,2, -999.000,9, -999.000,9,  -999.00,9,   -999.0,9,   -999.0,9,-999.0000,9,   -999.0,  9,  -999.00,9,   -999.0,  -999.00,9,  -999.00,9,  -999.00,9,  -999.00,9,   -999.0,-999.0000, -999,9,  124,   4.5313,  26.5859,   -999.0,9
       RF99-04,  NONE,RF-0798,  1,     15,02-12833,2,19990503,1017, 40.8140, 149.8867, 5348,    151.8,   4.1903,  33.5178,2,   -999.0,9,  33.5113,2,    260.0,2,    38.68,2,  -999.00,9,    22.21,2,     0.03,2,     1.70,2, -999.000,9, -999.000,9,  -999.00,9,   -999.0,9,   -999.0,9,-999.0000,9,   -999.0,  9,  -999.00,9,   -999.0,  -999.00,9,  -999.00,9,  -999.00,9,  -999.00,9,   -999.0,-999.0000, -999,9,  151,   4.1798,  26.5888,   -999.0,9
       RF99-04,  NONE,RF-0798,  1,     14,02-13578,2,19990503,1015, 40.8140, 149.8867, 5348,    202.7,   4.8531,  33.7187,2,   -999.0,9,  33.6965,4,    188.4,2,    52.62,2,  -999.00,9,    28.06,2,     0.02,2,     2.07,2, -999.000,9, -999.000,9,  -999.00,9,   -999.0,9,   -999.0,9,-999.0000,9,   -999.0,  9,  -999.00,9,   -999.0,  -999.00,9,  -999.00,9,  -999.00,9,  -999.00,9,   -999.0,-999.0000, -999,9,  201,   4.8379,  26.6776,   -999.0,9
       RF99-04,  NONE,RF-0798,  1,     13,02-13590,2,19990503,1013, 40.8140, 149.8867, 5348,    252.5,   3.3456,  33.6521,2,   -999.0,9,  33.6571,2,    148.2,2,    68.89,2,  -999.00,9,    33.54,2,     0.01,2,     2.46,2, -999.000,9, -999.000,9,  -999.00,9,   -999.0,9,   -999.0,9,-999.0000,9,   -999.0,  9,  -999.00,9,   -999.0,  -999.00,9,  -999.00,9,  -999.00,9,  -999.00,9,   -999.0,-999.0000, -999,9,  250,   3.3296,  26.7791,   -999.0,9
       RF99-04,  NONE,RF-0798,  1,     12,02-12821,2,19990503,1012, 40.8140, 149.8867, 5348,    301.3,   3.5445,  33.7810,2,   -999.0,9,  33.7612,4,    118.7,2,    78.75,2,  -999.00,9,    36.70,2,     0.01,2,     2.66,2, -999.000,9, -999.000,9,  -999.00,9,   -999.0,9,   -999.0,9,-999.0000,9,   -999.0,  9,  -999.00,9,   -999.0,  -999.00,9,  -999.00,9,  -999.00,9,  -999.00,9,   -999.0,-999.0000, -999,9,  299,   3.5248,  26.8634,   -999.0,9
       RF99-04,  NONE,RF-0798,  1,     11,02-12811,2,19990503,1009, 40.8140, 149.8867, 5348,    403.2,   3.6622,  33.9771,2,   -999.0,9,  34.0045,4,     70.6,2,    94.86,2,  -999.00,9,    40.40,2,     0.01,2,     2.88,2, -999.000,9, -999.000,9,  -999.00,9,   -999.0,9,   -999.0,9,-999.0000,9,   -999.0,  9,  -999.00,9,   -999.0,  -999.00,9,  -999.00,9,  -999.00,9,  -999.00,9,   -999.0,-999.0000, -999,9,  400,   3.6350,  27.0089,   -999.0,9
       RF99-04,  NONE,RF-0798,  1,     10,02-12820,2,19990503,1007, 40.8140, 149.8867, 5348,    504.1,   3.8950,  34.1508,2,   -999.0,9,  34.1438,2,     51.7,2,   105.87,2,  -999.00,9,    41.11,2,     0.01,2,     2.95,2, -999.000,9, -999.000,9,  -999.00,9,   -999.0,9,   -999.0,9,-999.0000,9,   -999.0,  9,  -999.00,9,   -999.0,  -999.00,9,  -999.00,9,  -999.00,9,  -999.00,9,   -999.0,-999.0000, -999,9,  500,   3.8595,  27.1249,   -999.0,9
       RF99-04,  NONE,RF-0798,  1,      9,02-12810,2,19990503,1004, 40.8140, 149.8867, 5348,    603.5,   3.1588,  34.1517,2,   -999.0,9,  34.1632,2,     32.3,2,   122.22,2,  -999.00,9,    43.76,2,     0.00,2,     3.11,2, -999.000,9, -999.000,9,  -999.00,9,   -999.0,9,   -999.0,9,-999.0000,9,   -999.0,  9,  -999.00,9,   -999.0,  -999.00,9,  -999.00,9,  -999.00,9,  -999.00,9,   -999.0,-999.0000, -999,9,  598,   3.1193,  27.1970,   -999.0,9
       RF99-04,  NONE,RF-0798,  1,      8,02-12819,2,19990503,1002, 40.8140, 149.8867, 5348,    706.8,   3.2226,  34.2544,2,   -999.0,9,-999.0000,9,     30.7,2,   127.38,2,  -999.00,9,    43.14,2,     0.00,2,     3.08,2, -999.000,9, -999.000,9,  -999.00,9,   -999.0,9,   -999.0,9,-999.0000,9,   -999.0,  9,  -999.00,9,   -999.0,  -999.00,9,  -999.00,9,  -999.00,9,  -999.00,9,   -999.0,-999.0000, -999,9,  700,   3.1753,  27.2738,   -999.0,9
       RF99-04,  NONE,RF-0798,  1,      7,02-12815,2,19990503,0959, 40.8140, 149.8867, 5348,    807.0,   3.0470,  34.3176,2,   -999.0,9,  34.3115,2,     29.0,2,   135.04,2,  -999.00,9,    43.91,2,     0.00,2,     3.09,2, -999.000,9, -999.000,9,  -999.00,9,   -999.0,9,   -999.0,9,-999.0000,9,   -999.0,  9,  -999.00,9,   -999.0,  -999.00,9,  -999.00,9,  -999.00,9,  -999.00,9,   -999.0,-999.0000, -999,9,  799,   2.9934,  27.3409,   -999.0,9
       RF99-04,  NONE,RF-0798,  1,      6,02-12818,2,19990503,0957, 40.8140, 149.8867, 5348,    907.4,   2.9431,  34.3822,2,   -999.0,9,-999.0000,9,   -999.0,4,  -999.00,4,  -999.00,9,  -999.00,4,  -999.00,4,  -999.00,4, -999.000,9, -999.000,9,  -999.00,9,   -999.0,9,   -999.0,9,-999.0000,9,   -999.0,  9,  -999.00,9,   -999.0,  -999.00,9,  -999.00,9,  -999.00,9,  -999.00,9,   -999.0,-999.0000, -999,9,  898,   2.8827,  27.4025,   -999.0,9
       RF99-04,  NONE,RF-0798,  1,      5,02-12809,2,19990503,0955, 40.8140, 149.8867, 5348,   1009.2,   2.7855,  34.4257,2,   -999.0,9,  34.4202,2,     37.8,4,   143.38,2,  -999.00,9,    43.40,2,     0.00,2,     3.05,2, -999.000,9, -999.000,9,  -999.00,9,   -999.0,9,   -999.0,9,-999.0000,9,   -999.0,  9,  -999.00,9,   -999.0,  -999.00,9,  -999.00,9,  -999.00,9,  -999.00,9,   -999.0,-999.0000, -999,9,  999,   2.7188,  27.4517,   -999.0,9
       RF99-04,  NONE,RF-0798,  1,      4,02-12817,2,19990503,0950, 40.8140, 149.8867, 5348,   1261.2,   2.4922,  34.4939,2,   -999.0,9,  34.3720,4,     35.3,2,   138.05,4,  -999.00,9,    43.43,2,     0.00,2,     3.07,2, -999.000,9, -999.000,9,  -999.00,9,   -999.0,9,   -999.0,9,-999.0000,9,   -999.0,  9,  -999.00,9,   -999.0,  -999.00,9,  -999.00,9,  -999.00,9,  -999.00,9,   -999.0,-999.0000, -999,9, 1248,   2.4090,  27.5329,   -999.0,9
       RF99-04,  NONE,RF-0798,  1,      3,02-12808,2,19990503,0945, 40.8140, 149.8867, 5348,   1514.2,   2.2004,  34.5339,2,   -999.0,9,  34.5309,2,     50.3,2,   158.48,2,  -999.00,9,    43.01,2,     0.00,2,     3.00,2, -999.000,9, -999.000,9,  -999.00,9,   -999.0,9,   -999.0,9,-999.0000,9,   -999.0,  9,  -999.00,9,   -999.0,  -999.00,9,  -999.00,9,  -999.00,9,  -999.00,9,   -999.0,-999.0000, -999,9, 1497,   2.1008,  27.5902,   -999.0,9
       RF99-04,  NONE,RF-0798,  1,      2,02-13589,2,19990503,0941, 40.8140, 149.8867, 5348,   1766.9,   2.0362,  34.5827,2,   -999.0,9,  34.5733,2,     64.3,2,   159.01,2,  -999.00,9,    41.99,2,     0.00,2,     2.94,2, -999.000,9, -999.000,9,  -999.00,9,   -999.0,9,   -999.0,9,-999.0000,9,   -999.0,  9,  -999.00,9,   -999.0,  -999.00,9,  -999.00,9,  -999.00,9,  -999.00,9,   -999.0,-999.0000, -999,9, 1746,   1.9186,  27.6437,   -999.0,9
       RF99-04,  NONE,RF-0798,  1,      1,02-12807,2,19990503,0936, 40.8140, 149.8867, 5348,   2029.3,   1.8800,  34.6121,2,   -999.0,9,  34.6048,2,   -999.0,9,   159.51,2,  -999.00,9,    41.25,2,     0.00,2,     2.85,2, -999.000,9, -999.000,9,  -999.00,9,   -999.0,9,   -999.0,9,-999.0000,9,   -999.0,  9,  -999.00,9,   -999.0,  -999.00,9,  -999.00,9,  -999.00,9,  -999.00,9,   2016.0,-999.0000, -999,9, 2004,   1.7430,  27.6808,   -999.0,9