BOTTLE,20130510GEMDJMAYT
EXPOCODE,SECT_ID,STNNBR,CASTNO,SAMPNO,BTLNBR,BTLNBR_FLAG_W,DATE,TIME,LATITUDE,LONGITUDE,DEPTH,CTDPRS,CTDTMP,CTDSAL,CTDSAL_FLAG_W,CTDOXY,CTDOXY_FLAG_W,SALNTY,SALNTY_FLAG_W,OXYGEN,OXYGEN_FLAG_W,SILCAT,SILCAT_FLAG_W,NITRAT,NITRAT_FLAG_W,NO2+NO3,NO2+NO3_FLAG_W,NITRIT,NITRIT_FLAG_W,PHSPHT,PHSPHT_FLAG_W,CFC-11,CFC-11_FLAG_W,CFC-12,CFC-12_FLAG_W,DELC13,DELC13_FLAG_W,TCARBN,TCARBN_FLAG_W,ALKALI,ALKALI_FLAG_W,PH,PH_FLAG_W,PH_TMP,PH_SCALE,PH_NBS,PH_NBS_FLAG_W,C13ERR,TOTALP,TOTALP_FLAG_W,AMMONI,AMMONI_FLAG_W,CHLORA,CHLORA_FLAG_W,PPHYTN,PPHYTN_FLAG_W,REVPRS,REVTMP,DEPTH_,DEPTH_FLAG,CTDDEP,THETA,SIGTHT,DOC,DOC_FLAG_W
,,,,,,,GMT,GMT,,,METER,DBAR,ITS-90,PSS-78,,UMOL/KG,,PSS-78,,UMOL/KG,,UMOL/KG,,UMOL/KG,,UMOL/KG,,UMOL/KG,,UMOL/KG,,PMOL/KG,,PMOL/KG,,/MILLE,,UMOL/KG,,UMOL/KG,,25_DEG_C,,DEG_C,,,,/MILLE,UMOL/KG,,UMOL/KG,,UG/L,,UG/L,,DBAR,ITS-90,METERS,,METERS,DEG_C,,UMOL/L,
       RF99-04,  NONE,RF-0792,  1,     -9,      -9,5,19990429,1716, 34.9895, 152.0088, 6090,      0.0,  18.3131,  34.7710,2,   -999.0,9,-999.0000,9,    242.6,2,  -999.00,9,  -999.00,9,  -999.00,9,  -999.00,9,  -999.00,9, -999.000,9, -999.000,9,  -999.00,9,   -999.0,9,   -999.0,9,-999.0000,9,   -999.0,  9,  -999.00,9,   -999.0,  -999.00,9,  -999.00,9,  -999.00,9,  -999.00,9,   -999.0,-999.0000, -999,9,    0,  18.3131,  25.0191,   -999.0,9
       RF99-04,  NONE,RF-0792,  1,     21,02-12827,2,19990429,1714, 34.9895, 152.0088, 6090,     10.8,  18.3091,  34.7710,2,   -999.0,9,  34.7823,2,    239.5,2,  -999.00,9,  -999.00,9,  -999.00,9,  -999.00,9,  -999.00,9, -999.000,9, -999.000,9,  -999.00,9,   -999.0,9,   -999.0,9,-999.0000,9,   -999.0,  9,  -999.00,9,   -999.0,  -999.00,9,  -999.00,9,  -999.00,9,  -999.00,9,   -999.0,-999.0000, -999,9,   11,  18.3072,  25.0206,   -999.0,9
       RF99-04,  NONE,RF-0792,  1,     20,02-12826,2,19990429,1713, 34.9895, 152.0088, 6090,     25.4,  18.0216,  34.7735,2,   -999.0,9,-999.0000,9,    238.3,2,  -999.00,9,  -999.00,9,  -999.00,9,  -999.00,9,  -999.00,9, -999.000,9, -999.000,9,  -999.00,9,   -999.0,9,   -999.0,9,-999.0000,9,   -999.0,  9,  -999.00,9,   -999.0,  -999.00,9,  -999.00,9,  -999.00,9,  -999.00,9,   -999.0,-999.0000, -999,9,   25,  18.0173,  25.0943,   -999.0,9
       RF99-04,  NONE,RF-0792,  1,     19,02-12825,2,19990429,1712, 34.9895, 152.0088, 6090,     50.8,  17.8524,  34.7780,2,   -999.0,9,  34.7833,2,    230.4,2,  -999.00,9,  -999.00,9,  -999.00,9,  -999.00,9,  -999.00,9, -999.000,9, -999.000,9,  -999.00,9,   -999.0,9,   -999.0,9,-999.0000,9,   -999.0,  9,  -999.00,9,   -999.0,  -999.00,9,  -999.00,9,  -999.00,9,  -999.00,9,   -999.0,-999.0000, -999,9,   50,  17.8437,  25.1404,   -999.0,9
       RF99-04,  NONE,RF-0792,  1,     18,02-12824,2,19990429,1711, 34.9895, 152.0088, 6090,     75.9,  17.8167,  34.7786,2,   -999.0,9,-999.0000,9,    232.2,2,  -999.00,9,  -999.00,9,  -999.00,9,  -999.00,9,  -999.00,9, -999.000,9, -999.000,9,  -999.00,9,   -999.0,9,   -999.0,9,-999.0000,9,   -999.0,  9,  -999.00,9,   -999.0,  -999.00,9,  -999.00,9,  -999.00,9,  -999.00,9,   -999.0,-999.0000, -999,9,   75,  17.8038,  25.1506,   -999.0,9
       RF99-04,  NONE,RF-0792,  1,     17,02-12814,2,19990429,1710, 34.9895, 152.0088, 6090,    101.6,  17.8068,  34.7804,2,   -999.0,9,  34.7859,2,    231.7,2,  -999.00,9,  -999.00,9,  -999.00,9,  -999.00,9,  -999.00,9, -999.000,9, -999.000,9,  -999.00,9,   -999.0,9,   -999.0,9,-999.0000,9,   -999.0,  9,  -999.00,9,   -999.0,  -999.00,9,  -999.00,9,  -999.00,9,  -999.00,9,   -999.0,-999.0000, -999,9,  101,  17.7896,  25.1555,   -999.0,9
       RF99-04,  NONE,RF-0792,  1,     16,02-12832,2,19990429,1708, 34.9895, 152.0088, 6090,    125.8,  17.8025,  34.7824,2,   -999.0,9,-999.0000,9,    229.5,2,  -999.00,9,  -999.00,9,  -999.00,9,  -999.00,9,  -999.00,9, -999.000,9, -999.000,9,  -999.00,9,   -999.0,9,   -999.0,9,-999.0000,9,   -999.0,  9,  -999.00,9,   -999.0,  -999.00,9,  -999.00,9,  -999.00,9,  -999.00,9,   -999.0,-999.0000, -999,9,  125,  17.7811,  25.1591,   -999.0,9
       RF99-04,  NONE,RF-0792,  1,     15,02-12833,2,19990429,1707, 34.9895, 152.0088, 6090,    151.8,  17.7921,  34.7812,2,   -999.0,9,  34.7855,2,    230.7,2,  -999.00,9,  -999.00,9,  -999.00,9,  -999.00,9,  -999.00,9, -999.000,9, -999.000,9,  -999.00,9,   -999.0,9,   -999.0,9,-999.0000,9,   -999.0,  9,  -999.00,9,   -999.0,  -999.00,9,  -999.00,9,  -999.00,9,  -999.00,9,   -999.0,-999.0000, -999,9,  151,  17.7663,  25.1618,   -999.0,9
       RF99-04,  NONE,RF-0792,  1,     14,02-13578,2,19990429,1706, 34.9895, 152.0088, 6090,    201.9,  17.3276,  34.7497,2,   -999.0,9,  34.7565,2,    219.2,2,  -999.00,9,  -999.00,9,  -999.00,9,  -999.00,9,  -999.00,9, -999.000,9, -999.000,9,  -999.00,9,   -999.0,9,   -999.0,9,-999.0000,9,   -999.0,  9,  -999.00,9,   -999.0,  -999.00,9,  -999.00,9,  -999.00,9,  -999.00,9,   -999.0,-999.0000, -999,9,  200,  17.2939,  25.2520,   -999.0,9
       RF99-04,  NONE,RF-0792,  1,     13,02-13590,2,19990429,1704, 34.9895, 152.0088, 6090,    252.6,  16.3542,  34.6960,2,   -999.0,9,  34.7044,2,    201.8,2,  -999.00,9,  -999.00,9,  -999.00,9,  -999.00,9,  -999.00,9, -999.000,9, -999.000,9,  -999.00,9,   -999.0,9,   -999.0,9,-999.0000,9,   -999.0,  9,  -999.00,9,   -999.0,  -999.00,9,  -999.00,9,  -999.00,9,  -999.00,9,   -999.0,-999.0000, -999,9,  251,  16.3136,  25.4417,   -999.0,9
       RF99-04,  NONE,RF-0792,  1,     12,02-12821,2,19990429,1703, 34.9895, 152.0088, 6090,    300.9,  15.3190,  34.6367,2,   -999.0,9,  34.6412,2,    205.5,2,  -999.00,9,  -999.00,9,  -999.00,9,  -999.00,9,  -999.00,9, -999.000,9, -999.000,9,  -999.00,9,   -999.0,9,   -999.0,9,-999.0000,9,   -999.0,  9,  -999.00,9,   -999.0,  -999.00,9,  -999.00,9,  -999.00,9,  -999.00,9,   -999.0,-999.0000, -999,9,  299,  15.2727,  25.6317,   -999.0,9
       RF99-04,  NONE,RF-0792,  1,     11,02-12811,2,19990429,1700, 34.9895, 152.0088, 6090,    402.5,  13.0899,  34.4858,2,   -999.0,9,  34.4754,4,    191.7,2,  -999.00,9,  -999.00,9,  -999.00,9,  -999.00,9,  -999.00,9, -999.000,9, -999.000,9,  -999.00,9,   -999.0,9,   -999.0,9,-999.0000,9,   -999.0,  9,  -999.00,9,   -999.0,  -999.00,9,  -999.00,9,  -999.00,9,  -999.00,9,   -999.0,-999.0000, -999,9,  399,  13.0341,  25.9877,   -999.0,9
       RF99-04,  NONE,RF-0792,  1,     10,02-12820,2,19990429,1658, 34.9895, 152.0088, 6090,    504.0,  10.2605,  34.2829,2,   -999.0,9,  34.2724,4,    167.8,2,  -999.00,9,  -999.00,9,  -999.00,9,  -999.00,9,  -999.00,9, -999.000,9, -999.000,9,  -999.00,9,   -999.0,9,   -999.0,9,-999.0000,9,   -999.0,  9,  -999.00,9,   -999.0,  -999.00,9,  -999.00,9,  -999.00,9,  -999.00,9,   -999.0,-999.0000, -999,9,  500,  10.2007,  26.3577,   -999.0,9
       RF99-04,  NONE,RF-0792,  1,      9,02-12810,2,19990429,1656, 34.9895, 152.0088, 6090,    605.0,   7.8060,  34.1499,2,   -999.0,9,  34.1409,2,    143.3,2,  -999.00,9,  -999.00,9,  -999.00,9,  -999.00,9,  -999.00,9, -999.000,9, -999.000,9,  -999.00,9,   -999.0,9,   -999.0,9,-999.0000,9,   -999.0,  9,  -999.00,9,   -999.0,  -999.00,9,  -999.00,9,  -999.00,9,  -999.00,9,   -999.0,-999.0000, -999,9,  600,   7.7448,  26.6437,   -999.0,9
       RF99-04,  NONE,RF-0792,  1,      8,02-12819,2,19990429,1653, 34.9895, 152.0088, 6090,    705.9,   5.7411,  34.1016,2,   -999.0,9,-999.0000,9,    111.4,2,  -999.00,9,  -999.00,9,  -999.00,9,  -999.00,9,  -999.00,9, -999.000,9, -999.000,9,  -999.00,9,   -999.0,9,   -999.0,9,-999.0000,9,   -999.0,  9,  -999.00,9,   -999.0,  -999.00,9,  -999.00,9,  -999.00,9,  -999.00,9,   -999.0,-999.0000, -999,9,  700,   5.6803,  26.8824,   -999.0,9
       RF99-04,  NONE,RF-0792,  1,      7,02-12815,2,19990429,1651, 34.9895, 152.0088, 6090,    808.0,   4.7046,  34.1674,2,   -999.0,9,  34.1646,2,     74.6,2,  -999.00,9,  -999.00,9,  -999.00,9,  -999.00,9,  -999.00,9, -999.000,9, -999.000,9,  -999.00,9,   -999.0,9,   -999.0,9,-999.0000,9,   -999.0,  9,  -999.00,9,   -999.0,  -999.00,9,  -999.00,9,  -999.00,9,  -999.00,9,   -999.0,-999.0000, -999,9,  801,   4.6406,  27.0556,   -999.0,9
       RF99-04,  NONE,RF-0792,  1,      6,02-12818,2,19990429,1648, 34.9895, 152.0088, 6090,    908.8,   4.1780,  34.2437,2,   -999.0,9,-999.0000,9,     58.9,2,  -999.00,9,  -999.00,9,  -999.00,9,  -999.00,9,  -999.00,9, -999.000,9, -999.000,9,  -999.00,9,   -999.0,9,   -999.0,9,-999.0000,9,   -999.0,  9,  -999.00,9,   -999.0,  -999.00,9,  -999.00,9,  -999.00,9,  -999.00,9,   -999.0,-999.0000, -999,9,  900,   4.1090,  27.1732,   -999.0,9
       RF99-04,  NONE,RF-0792,  1,      5,02-12809,2,19990429,1646, 34.9895, 152.0088, 6090,   1008.2,   3.8334,  34.3080,2,   -999.0,9,  34.3064,2,     54.5,2,  -999.00,9,  -999.00,9,  -999.00,9,  -999.00,9,  -999.00,9, -999.000,9, -999.000,9,  -999.00,9,   -999.0,9,   -999.0,9,-999.0000,9,   -999.0,  9,  -999.00,9,   -999.0,  -999.00,9,  -999.00,9,  -999.00,9,  -999.00,9,   -999.0,-999.0000, -999,9,  999,   3.7587,  27.2602,   -999.0,9
       RF99-04,  NONE,RF-0792,  1,      4,02-12817,2,19990429,1642, 34.9895, 152.0088, 6090,   1261.2,   3.0239,  34.4143,2,   -999.0,9,  34.3968,4,     52.2,2,  -999.00,9,  -999.00,9,  -999.00,9,  -999.00,9,  -999.00,9, -999.000,9, -999.000,9,  -999.00,9,   -999.0,9,   -999.0,9,-999.0000,9,   -999.0,  9,  -999.00,9,   -999.0,  -999.00,9,  -999.00,9,  -999.00,9,  -999.00,9,   -999.0,-999.0000, -999,9, 1248,   2.9356,  27.4233,   -999.0,9
       RF99-04,  NONE,RF-0792,  1,      3,02-12808,2,19990429,1637, 34.9895, 152.0088, 6090,   1514.6,   2.5825,  34.4873,2,   -999.0,9,  34.4833,2,     42.9,2,  -999.00,9,  -999.00,9,  -999.00,9,  -999.00,9,  -999.00,9, -999.000,9, -999.000,9,  -999.00,9,   -999.0,9,   -999.0,9,-999.0000,9,   -999.0,  9,  -999.00,9,   -999.0,  -999.00,9,  -999.00,9,  -999.00,9,  -999.00,9,   -999.0,-999.0000, -999,9, 1498,   2.4786,  27.5218,   -999.0,9
       RF99-04,  NONE,RF-0792,  1,      2,02-13589,2,19990429,1633, 34.9895, 152.0088, 6090,   1768.1,   2.2690,  34.5448,2,   -999.0,9,  34.5397,2,     54.3,2,  -999.00,9,  -999.00,9,  -999.00,9,  -999.00,9,  -999.00,9, -999.000,9, -999.000,9,  -999.00,9,   -999.0,9,   -999.0,9,-999.0000,9,   -999.0,  9,  -999.00,9,   -999.0,  -999.00,9,  -999.00,9,  -999.00,9,  -999.00,9,   -999.0,-999.0000, -999,9, 1748,   2.1482,  27.5951,   -999.0,9
       RF99-04,  NONE,RF-0792,  1,      1,02-12807,2,19990429,1628, 34.9895, 152.0088, 6090,   2028.0,   2.0331,  34.5900,2,   -999.0,9,  34.5855,2,     71.2,2,  -999.00,9,  -999.00,9,  -999.00,9,  -999.00,9,  -999.00,9, -999.000,9, -999.000,9,  -999.00,9,   -999.0,9,   -999.0,9,-999.0000,9,   -999.0,  9,  -999.00,9,   -999.0,  -999.00,9,  -999.00,9,  -999.00,9,  -999.00,9,   2013.0,-999.0000, -999,9, 2004,   1.8940,  27.6515,   -999.0,9