BOTTLE,20130510GEMDJMAYT
EXPOCODE,SECT_ID,STNNBR,CASTNO,SAMPNO,BTLNBR,BTLNBR_FLAG_W,DATE,TIME,LATITUDE,LONGITUDE,DEPTH,CTDPRS,CTDTMP,CTDSAL,CTDSAL_FLAG_W,CTDOXY,CTDOXY_FLAG_W,SALNTY,SALNTY_FLAG_W,OXYGEN,OXYGEN_FLAG_W,SILCAT,SILCAT_FLAG_W,NITRAT,NITRAT_FLAG_W,NO2+NO3,NO2+NO3_FLAG_W,NITRIT,NITRIT_FLAG_W,PHSPHT,PHSPHT_FLAG_W,CFC-11,CFC-11_FLAG_W,CFC-12,CFC-12_FLAG_W,DELC13,DELC13_FLAG_W,TCARBN,TCARBN_FLAG_W,ALKALI,ALKALI_FLAG_W,PH,PH_FLAG_W,PH_TMP,PH_SCALE,PH_NBS,PH_NBS_FLAG_W,C13ERR,TOTALP,TOTALP_FLAG_W,AMMONI,AMMONI_FLAG_W,CHLORA,CHLORA_FLAG_W,PPHYTN,PPHYTN_FLAG_W,REVPRS,REVTMP,DEPTH_,DEPTH_FLAG,CTDDEP,THETA,SIGTHT,DOC,DOC_FLAG_W
,,,,,,,GMT,GMT,,,METER,DBAR,ITS-90,PSS-78,,UMOL/KG,,PSS-78,,UMOL/KG,,UMOL/KG,,UMOL/KG,,UMOL/KG,,UMOL/KG,,UMOL/KG,,PMOL/KG,,PMOL/KG,,/MILLE,,UMOL/KG,,UMOL/KG,,25_DEG_C,,DEG_C,,,,/MILLE,UMOL/KG,,UMOL/KG,,UG/L,,UG/L,,DBAR,ITS-90,METERS,,METERS,DEG_C,,UMOL/L,
       RF99-04,  NONE,RF-0799,  1,     -9,      -9,5,19990512,1834, 43.6730, 155.0155, 5354,      0.0,   6.5903,  33.4141,2,   -999.0,9,-999.0000,9,    303.8,2,    30.35,2,  -999.00,9,    17.23,2,     0.24,2,     1.40,2, -999.000,9, -999.000,9,  -999.00,9,   -999.0,9,   -999.0,9,-999.0000,9,   -999.0,  9,  -999.00,9,   -999.0,  -999.00,9,  -999.00,9,  -999.00,9,  -999.00,9,   -999.0,-999.0000, -999,9,    0,   6.5903,  26.2242,   -999.0,9
       RF99-04,  NONE,RF-0799,  1,     21,02-12827,2,19990512,1831, 43.6730, 155.0155, 5354,     10.8,   6.5908,  33.4164,2,   -999.0,9,  33.4179,2,    305.6,2,    30.32,2,  -999.00,9,    17.13,2,     0.24,2,     1.39,2, -999.000,9, -999.000,9,  -999.00,9,   -999.0,9,   -999.0,9,-999.0000,9,   -999.0,  9,  -999.00,9,   -999.0,  -999.00,9,  -999.00,9,  -999.00,9,  -999.00,9,   -999.0,-999.0000, -999,9,   11,   6.5899,  26.2261,   -999.0,9
       RF99-04,  NONE,RF-0799,  1,     20,02-12826,2,19990512,1830, 43.6730, 155.0155, 5354,     26.5,   6.4056,  33.4069,2,   -999.0,9,  33.4058,2,    306.8,2,    31.10,2,  -999.00,9,    17.48,2,     0.24,2,     1.42,2, -999.000,9, -999.000,9,  -999.00,9,   -999.0,9,   -999.0,9,-999.0000,9,   -999.0,  9,  -999.00,9,   -999.0,  -999.00,9,  -999.00,9,  -999.00,9,  -999.00,9,   -999.0,-999.0000, -999,9,   26,   6.4033,  26.2428,   -999.0,9
       RF99-04,  NONE,RF-0799,  1,     19,02-12825,2,19990512,1828, 43.6730, 155.0155, 5354,     50.0,   5.4141,  33.4715,2,   -999.0,9,  33.4729,2,    303.4,2,    32.45,2,  -999.00,9,    18.94,2,     0.29,2,     1.50,2, -999.000,9, -999.000,9,  -999.00,9,   -999.0,9,   -999.0,9,-999.0000,9,   -999.0,  9,  -999.00,9,   -999.0,  -999.00,9,  -999.00,9,  -999.00,9,  -999.00,9,   -999.0,-999.0000, -999,9,   50,   5.4103,  26.4163,   -999.0,9
       RF99-04,  NONE,RF-0799,  1,     18,02-12824,2,19990512,1827, 43.6730, 155.0155, 5354,     75.7,   3.6598,  33.3639,2,   -999.0,9,  33.3728,4,    296.4,2,    37.34,2,  -999.00,9,    22.10,2,     0.48,2,     1.71,2, -999.000,9, -999.000,9,  -999.00,9,   -999.0,9,   -999.0,9,-999.0000,9,   -999.0,  9,  -999.00,9,   -999.0,  -999.00,9,  -999.00,9,  -999.00,9,  -999.00,9,   -999.0,-999.0000, -999,9,   75,   3.6549,  26.5187,   -999.0,9
       RF99-04,  NONE,RF-0799,  1,     17,02-12814,2,19990512,1826, 43.6730, 155.0155, 5354,    100.9,   3.3622,  33.3822,2,   -999.0,9,  33.3792,2,    288.6,2,    38.89,2,  -999.00,9,    22.75,2,     0.19,2,     1.75,2, -999.000,9, -999.000,9,  -999.00,9,   -999.0,9,   -999.0,9,-999.0000,9,   -999.0,  9,  -999.00,9,   -999.0,  -999.00,9,  -999.00,9,  -999.00,9,  -999.00,9,   -999.0,-999.0000, -999,9,  100,   3.3560,  26.5615,   -999.0,9
       RF99-04,  NONE,RF-0799,  1,     16,02-12832,2,19990512,1824, 43.6730, 155.0155, 5354,    125.8,   2.4060,  33.3393,2,   -999.0,9,  33.3436,2,    250.0,2,    49.78,2,  -999.00,9,    27.07,2,     0.02,2,     2.07,2, -999.000,9, -999.000,9,  -999.00,9,   -999.0,9,   -999.0,9,-999.0000,9,   -999.0,  9,  -999.00,9,   -999.0,  -999.00,9,  -999.00,9,  -999.00,9,  -999.00,9,   -999.0,-999.0000, -999,9,  125,   2.3992,  26.6101,   -999.0,9
       RF99-04,  NONE,RF-0799,  1,     15,02-12833,2,19990512,1823, 43.6730, 155.0155, 5354,    151.7,   3.3380,  33.5528,2,   -999.0,9,  33.5653,4,    190.0,2,    58.26,2,  -999.00,9,    29.98,2,     0.02,2,     2.26,2, -999.000,9, -999.000,9,  -999.00,9,   -999.0,9,   -999.0,9,-999.0000,9,   -999.0,  9,  -999.00,9,   -999.0,  -999.00,9,  -999.00,9,  -999.00,9,  -999.00,9,   -999.0,-999.0000, -999,9,  150,   3.3286,  26.7000,   -999.0,9
       RF99-04,  NONE,RF-0799,  1,     14,02-13578,2,19990512,1821, 43.6730, 155.0155, 5354,    201.4,   3.9783,  33.7773,2,   -999.0,9,  33.7659,4,    134.3,2,    69.58,2,  -999.00,9,    33.59,2,     0.02,2,     2.48,2, -999.000,9, -999.000,9,  -999.00,9,   -999.0,9,   -999.0,9,-999.0000,9,   -999.0,  9,  -999.00,9,   -999.0,  -999.00,9,  -999.00,9,  -999.00,9,  -999.00,9,   -999.0,-999.0000, -999,9,  200,   3.9646,  26.8171,   -999.0,9
       RF99-04,  NONE,RF-0799,  1,     13,02-13590,3,19990512,1818, 43.6730, 155.0155, 5354,    252.0,   3.5399,  33.7984,2,   -999.0,9,-999.0000,9,    104.5,2,    79.55,2,  -999.00,9,    36.66,2,     0.01,2,     2.69,2, -999.000,9, -999.000,9,  -999.00,9,   -999.0,9,   -999.0,9,-999.0000,9,   -999.0,  9,  -999.00,9,   -999.0,  -999.00,9,  -999.00,9,  -999.00,9,  -999.00,9,   -999.0,-999.0000, -999,9,  250,   3.5235,  26.8773,   -999.0,9
       RF99-04,  NONE,RF-0799,  1,     12,02-12821,2,19990512,1816, 43.6730, 155.0155, 5354,    302.1,   3.0206,  33.8300,2,   -999.0,9,  33.8419,4,     68.2,2,    94.87,2,  -999.00,9,    41.06,2,     0.01,2,     2.99,2, -999.000,9, -999.000,9,  -999.00,9,   -999.0,9,   -999.0,9,-999.0000,9,   -999.0,  9,  -999.00,9,   -999.0,  -999.00,9,  -999.00,9,  -999.00,9,  -999.00,9,   -999.0,-999.0000, -999,9,  299,   3.0021,  26.9509,   -999.0,9
       RF99-04,  NONE,RF-0799,  1,     11,02-12811,2,19990512,1814, 43.6730, 155.0155, 5354,    402.4,   3.3979,  34.0321,2,   -999.0,9,  34.0359,2,     43.5,2,   106.63,2,  -999.00,9,    42.22,2,     0.01,2,     3.06,2, -999.000,9, -999.000,9,  -999.00,9,   -999.0,9,   -999.0,9,-999.0000,9,   -999.0,  9,  -999.00,9,   -999.0,  -999.00,9,  -999.00,9,  -999.00,9,  -999.00,9,   -999.0,-999.0000, -999,9,  399,   3.3715,  27.0781,   -999.0,9
       RF99-04,  NONE,RF-0799,  1,     10,02-12820,2,19990512,1811, 43.6730, 155.0155, 5354,    504.2,   3.4688,  34.1379,2,   -999.0,9,  34.1426,2,     37.3,2,   113.74,2,  -999.00,9,    42.41,2,     0.01,2,     3.07,2, -999.000,9, -999.000,9,  -999.00,9,   -999.0,9,   -999.0,9,-999.0000,9,   -999.0,  9,  -999.00,9,   -999.0,  -999.00,9,  -999.00,9,  -999.00,9,  -999.00,9,   -999.0,-999.0000, -999,9,  500,   3.4349,  27.1564,   -999.0,9
       RF99-04,  NONE,RF-0799,  1,      9,02-12810,2,19990512,1808, 43.6730, 155.0155, 5354,    604.1,   3.3270,  34.2158,2,   -999.0,9,  34.1738,4,     32.0,2,   122.07,2,  -999.00,9,    42.89,2,     0.01,2,     3.08,2, -999.000,9, -999.000,9,  -999.00,9,   -999.0,9,   -999.0,9,-999.0000,9,   -999.0,  9,  -999.00,9,   -999.0,  -999.00,9,  -999.00,9,  -999.00,9,  -999.00,9,   -999.0,-999.0000, -999,9,  598,   3.2866,  27.2326,   -999.0,9
       RF99-04,  NONE,RF-0799,  1,      8,02-12819,2,19990512,1805, 43.6730, 155.0155, 5354,    706.0,   3.3095,  34.2859,2,   -999.0,9,-999.0000,9,     34.5,2,   125.18,2,  -999.00,9,    42.60,2,     0.01,2,     3.07,2, -999.000,9, -999.000,9,  -999.00,9,   -999.0,9,   -999.0,9,-999.0000,9,   -999.0,  9,  -999.00,9,   -999.0,  -999.00,9,  -999.00,9,  -999.00,9,  -999.00,9,   -999.0,-999.0000, -999,9,  699,   3.2617,  27.2909,   -999.0,9
       RF99-04,  NONE,RF-0799,  1,      7,02-12815,2,19990512,1803, 43.6730, 155.0155, 5354,    807.6,   3.0637,  34.3333,2,   -999.0,9,  34.3392,4,     33.5,2,   131.86,2,  -999.00,9,    42.66,2,     0.00,2,     3.07,2, -999.000,9, -999.000,9,  -999.00,9,   -999.0,9,   -999.0,9,-999.0000,9,   -999.0,  9,  -999.00,9,   -999.0,  -999.00,9,  -999.00,9,  -999.00,9,  -999.00,9,   -999.0,-999.0000, -999,9,  800,   3.0099,  27.3519,   -999.0,9
       RF99-04,  NONE,RF-0799,  1,      6,02-12818,2,19990512,1800, 43.6730, 155.0155, 5354,    908.4,   2.9969,  34.3891,2,   -999.0,9,-999.0000,9,     38.9,2,   133.94,2,  -999.00,9,    42.40,2,     0.01,2,     3.05,2, -999.000,9, -999.000,9,  -999.00,9,   -999.0,9,   -999.0,9,-999.0000,9,   -999.0,  9,  -999.00,9,   -999.0,  -999.00,9,  -999.00,9,  -999.00,9,  -999.00,9,   -999.0,-999.0000, -999,9,  899,   2.9361,  27.4032,   -999.0,9
       RF99-04,  NONE,RF-0799,  1,      5,02-12809,2,19990512,1757, 43.6730, 155.0155, 5354,   1008.8,   2.7121,  34.4064,2,   -999.0,9,  34.4115,2,     33.0,2,   143.21,2,  -999.00,9,    43.07,2,     0.01,2,     3.10,2, -999.000,9, -999.000,9,  -999.00,9,   -999.0,9,   -999.0,9,-999.0000,9,   -999.0,  9,  -999.00,9,   -999.0,  -999.00,9,  -999.00,9,  -999.00,9,  -999.00,9,   -999.0,-999.0000, -999,9,  998,   2.6460,  27.4427,   -999.0,9
       RF99-04,  NONE,RF-0799,  1,      4,02-12817,2,19990512,1752, 43.6730, 155.0155, 5354,   1262.2,   2.3814,  34.4778,2,   -999.0,9,  34.4790,2,     38.4,2,   153.28,2,  -999.00,9,    42.91,2,     0.01,2,     3.07,2, -999.000,9, -999.000,9,  -999.00,9,   -999.0,9,   -999.0,9,-999.0000,9,   -999.0,  9,  -999.00,9,   -999.0,  -999.00,9,  -999.00,9,  -999.00,9,  -999.00,9,   -999.0,-999.0000, -999,9, 1248,   2.2993,  27.5291,   -999.0,9
       RF99-04,  NONE,RF-0799,  1,      3,02-12808,2,19990512,1746, 43.6730, 155.0155, 5354,   1514.8,   2.2120,  34.5317,2,   -999.0,9,  34.5291,2,     49.4,2,   155.23,2,  -999.00,9,    42.27,2,     0.01,2,     3.02,2, -999.000,9, -999.000,9,  -999.00,9,   -999.0,9,   -999.0,9,-999.0000,9,   -999.0,  9,  -999.00,9,   -999.0,  -999.00,9,  -999.00,9,  -999.00,9,  -999.00,9,   -999.0,-999.0000, -999,9, 1497,   2.1123,  27.5876,   -999.0,9
       RF99-04,  NONE,RF-0799,  1,      2,02-13589,2,19990512,1742, 43.6730, 155.0155, 5354,   1768.9,   2.0293,  34.5731,2,   -999.0,9,  34.5503,4,     60.7,2,   158.44,2,  -999.00,9,    41.59,2,     0.01,2,     2.95,2, -999.000,9, -999.000,9,  -999.00,9,   -999.0,9,   -999.0,9,-999.0000,9,   -999.0,  9,  -999.00,9,   -999.0,  -999.00,9,  -999.00,9,  -999.00,9,  -999.00,9,   -999.0,-999.0000, -999,9, 1747,   1.9116,  27.6366,   -999.0,9
       RF99-04,  NONE,RF-0799,  1,      1,02-12807,2,19990512,1736, 43.6730, 155.0155, 5354,   2038.7,   1.8682,  34.6052,2,   -999.0,9,  34.6089,2,     76.9,2,   157.74,2,  -999.00,9,    40.57,2,     0.01,2,     2.88,2, -999.000,9, -999.000,9,  -999.00,9,   -999.0,9,   -999.0,9,-999.0000,9,   -999.0,  9,  -999.00,9,   -999.0,  -999.00,9,  -999.00,9,  -999.00,9,  -999.00,9,   2023.0,-999.0000, -999,9, 2013,   1.7306,  27.6762,   -999.0,9