BOTTLE,20130510GEMDJMAYT
EXPOCODE,SECT_ID,STNNBR,CASTNO,SAMPNO,BTLNBR,BTLNBR_FLAG_W,DATE,TIME,LATITUDE,LONGITUDE,DEPTH,CTDPRS,CTDTMP,CTDSAL,CTDSAL_FLAG_W,CTDOXY,CTDOXY_FLAG_W,SALNTY,SALNTY_FLAG_W,OXYGEN,OXYGEN_FLAG_W,SILCAT,SILCAT_FLAG_W,NITRAT,NITRAT_FLAG_W,NO2+NO3,NO2+NO3_FLAG_W,NITRIT,NITRIT_FLAG_W,PHSPHT,PHSPHT_FLAG_W,CFC-11,CFC-11_FLAG_W,CFC-12,CFC-12_FLAG_W,DELC13,DELC13_FLAG_W,TCARBN,TCARBN_FLAG_W,ALKALI,ALKALI_FLAG_W,PH,PH_FLAG_W,PH_TMP,PH_SCALE,PH_NBS,PH_NBS_FLAG_W,C13ERR,TOTALP,TOTALP_FLAG_W,AMMONI,AMMONI_FLAG_W,CHLORA,CHLORA_FLAG_W,PPHYTN,PPHYTN_FLAG_W,REVPRS,REVTMP,DEPTH_,DEPTH_FLAG,CTDDEP,THETA,SIGTHT,DOC,DOC_FLAG_W
,,,,,,,GMT,GMT,,,METER,DBAR,ITS-90,PSS-78,,UMOL/KG,,PSS-78,,UMOL/KG,,UMOL/KG,,UMOL/KG,,UMOL/KG,,UMOL/KG,,UMOL/KG,,PMOL/KG,,PMOL/KG,,/MILLE,,UMOL/KG,,UMOL/KG,,25_DEG_C,,DEG_C,,,,/MILLE,UMOL/KG,,UMOL/KG,,UG/L,,UG/L,,DBAR,ITS-90,METERS,,METERS,DEG_C,,UMOL/L,
       RF99-04,  165E,RF-0812,  1,     -9,      -9,5,19990518,1952, 43.9787, 165.0543, 5739,      0.0,   5.5422,  33.2677,2,   -999.0,9,-999.0000,9,    303.8,2,    20.53,2,  -999.00,9,    13.57,2,     0.25,2,     1.19,2, -999.000,9, -999.000,9,  -999.00,9,   -999.0,9,   -999.0,9,-999.0000,9,   -999.0,  9,  -999.00,9,   -999.0,  -999.00,9,  -999.00,9,  -999.00,9,  -999.00,9,   -999.0,-999.0000, -999,9,    0,   5.5422,  26.2394,   -999.0,9
       RF99-04,  165E,RF-0812,  1,     24, 02-9150,2,19990518,1950, 43.9787, 165.0543, 5739,      9.5,   5.5438,  33.2676,2,   -999.0,9,  33.3483,4,    301.9,2,    20.54,2,  -999.00,9,    13.61,2,     0.25,2,     1.19,2, -999.000,9, -999.000,9,  -999.00,9,   -999.0,9,   -999.0,9,-999.0000,9,   -999.0,  9,  -999.00,9,   -999.0,  -999.00,9,  -999.00,9,  -999.00,9,  -999.00,9,   -999.0,-999.0000, -999,9,    9,   5.5431,  26.2392,   -999.0,9
       RF99-04,  165E,RF-0812,  1,     23,02-12829,2,19990518,1948, 43.9787, 165.0543, 5739,     25.2,   5.5449,  33.2663,2,   -999.0,9,  33.3237,4,    302.2,2,    20.60,2,  -999.00,9,    13.53,2,     0.25,2,     1.18,2, -999.000,9, -999.000,9,  -999.00,9,   -999.0,9,   -999.0,9,-999.0000,9,   -999.0,  9,  -999.00,9,   -999.0,  -999.00,9,  -999.00,9,  -999.00,9,  -999.00,9,   -999.0,-999.0000, -999,9,   25,   5.5429,  26.2382,   -999.0,9
       RF99-04,  165E,RF-0812,  1,     22,02-12828,2,19990518,1947, 43.9787, 165.0543, 5739,     51.7,   5.5442,  33.2674,2,   -999.0,9,  33.2678,2,    302.1,2,    20.54,2,  -999.00,9,    13.62,2,     0.25,2,     1.18,2, -999.000,9, -999.000,9,  -999.00,9,   -999.0,9,   -999.0,9,-999.0000,9,   -999.0,  9,  -999.00,9,   -999.0,  -999.00,9,  -999.00,9,  -999.00,9,  -999.00,9,   -999.0,-999.0000, -999,9,   51,   5.5401,  26.2394,   -999.0,9
       RF99-04,  165E,RF-0812,  1,     21,02-12827,2,19990518,1945, 43.9787, 165.0543, 5739,     74.7,   4.8306,  33.3261,2,   -999.0,9,  33.3246,2,    298.7,2,    21.19,2,  -999.00,9,    15.63,2,     0.42,2,     1.27,2, -999.000,9, -999.000,9,  -999.00,9,   -999.0,9,   -999.0,9,-999.0000,9,   -999.0,  9,  -999.00,9,   -999.0,  -999.00,9,  -999.00,9,  -999.00,9,  -999.00,9,   -999.0,-999.0000, -999,9,   74,   4.8252,  26.3677,   -999.0,9
       RF99-04,  165E,RF-0812,  1,     20,02-12826,2,19990518,1944, 43.9787, 165.0543, 5739,     99.9,   4.6896,  33.3552,2,   -999.0,9,  33.3538,2,    295.3,2,    21.61,2,  -999.00,9,    16.19,2,     0.01,2,     1.29,2, -999.000,9, -999.000,9,  -999.00,9,   -999.0,9,   -999.0,9,-999.0000,9,   -999.0,  9,  -999.00,9,   -999.0,  -999.00,9,  -999.00,9,  -999.00,9,  -999.00,9,   -999.0,-999.0000, -999,9,   99,   4.6824,  26.4064,   -999.0,9
       RF99-04,  165E,RF-0812,  1,     19,02-12825,2,19990518,1942, 43.9787, 165.0543, 5739,    125.6,   4.4666,  33.3474,2,   -999.0,9,-999.0000,9,    292.5,2,    22.97,2,  -999.00,9,    16.76,2,     0.00,2,     1.32,2, -999.000,9, -999.000,9,  -999.00,9,   -999.0,9,   -999.0,9,-999.0000,9,   -999.0,  9,  -999.00,9,   -999.0,  -999.00,9,  -999.00,9,  -999.00,9,  -999.00,9,   -999.0,-999.0000, -999,9,  125,   4.4577,  26.4244,   -999.0,9
       RF99-04,  165E,RF-0812,  1,     18,02-12830,2,19990518,1941, 43.9787, 165.0543, 5739,    151.9,   4.5874,  33.3979,2,   -999.0,9,  33.3992,2,    294.5,2,    24.37,2,  -999.00,9,    17.11,2,     0.01,2,     1.33,2, -999.000,9, -999.000,9,  -999.00,9,   -999.0,9,   -999.0,9,-999.0000,9,   -999.0,  9,  -999.00,9,   -999.0,  -999.00,9,  -999.00,9,  -999.00,9,  -999.00,9,   -999.0,-999.0000, -999,9,  151,   4.5765,  26.4518,   -999.0,9
       RF99-04,  165E,RF-0812,  1,     17,02-13591,2,19990518,1939, 43.9787, 165.0543, 5739,    202.8,   4.8086,  33.4853,2,   -999.0,9,  33.4898,2,    278.1,2,    26.50,2,  -999.00,9,    18.04,2,     0.00,2,     1.38,2, -999.000,9, -999.000,9,  -999.00,9,   -999.0,9,   -999.0,9,-999.0000,9,   -999.0,  9,  -999.00,9,   -999.0,  -999.00,9,  -999.00,9,  -999.00,9,  -999.00,9,   -999.0,-999.0000, -999,9,  201,   4.7935,  26.4975,   -999.0,9
       RF99-04,  165E,RF-0812,  1,     16,02-13588,2,19990518,1937, 43.9787, 165.0543, 5739,    250.7,   5.1528,  33.6980,2,   -999.0,9,-999.0000,9,    200.5,2,    42.16,2,  -999.00,9,    24.76,2,     0.00,2,     1.82,2, -999.000,9, -999.000,9,  -999.00,9,   -999.0,9,   -999.0,9,-999.0000,9,   -999.0,  9,  -999.00,9,   -999.0,  -999.00,9,  -999.00,9,  -999.00,9,  -999.00,9,   -999.0,-999.0000, -999,9,  249,   5.1333,  26.6278,   -999.0,9
       RF99-04,  165E,RF-0812,  1,     15,02-10155,2,19990518,1935, 43.9787, 165.0543, 5739,    303.1,   4.6538,  33.7576,2,   -999.0,9,  33.7578,2,    158.6,2,    56.32,2,  -999.00,9,    29.92,2,     0.00,2,     2.19,2, -999.000,9, -999.000,9,  -999.00,9,   -999.0,9,   -999.0,9,-999.0000,9,   -999.0,  9,  -999.00,9,   -999.0,  -999.00,9,  -999.00,9,  -999.00,9,  -999.00,9,   -999.0,-999.0000, -999,9,  300,   4.6313,  26.7313,   -999.0,9
       RF99-04,  165E,RF-0812,  1,     14,02-13579,2,19990518,1932, 43.9787, 165.0543, 5739,    403.2,   4.3027,  33.8587,2,   -999.0,9,  33.8572,2,    116.2,2,    71.07,2,  -999.00,9,    34.51,2,     0.00,2,     2.51,2, -999.000,9, -999.000,9,  -999.00,9,   -999.0,9,   -999.0,9,-999.0000,9,   -999.0,  9,  -999.00,9,   -999.0,  -999.00,9,  -999.00,9,  -999.00,9,  -999.00,9,   -999.0,-999.0000, -999,9,  400,   4.2735,  26.8500,   -999.0,9
       RF99-04,  165E,RF-0812,  1,     13,02-13590,2,19990518,1929, 43.9787, 165.0543, 5739,    505.7,   4.0876,  34.0004,2,   -999.0,9,-999.0000,9,     76.5,2,    87.94,2,  -999.00,9,    38.38,2,     0.00,2,     2.78,2, -999.000,9, -999.000,9,  -999.00,9,   -999.0,9,   -999.0,9,-999.0000,9,   -999.0,  9,  -999.00,9,   -999.0,  -999.00,9,  -999.00,9,  -999.00,9,  -999.00,9,   -999.0,-999.0000, -999,9,  501,   4.0513,  26.9857,   -999.0,9
       RF99-04,  165E,RF-0812,  1,     12,02-12821,2,19990518,1926, 43.9787, 165.0543, 5739,    610.3,   3.7414,  34.1108,2,   -999.0,9,  34.1069,2,     46.6,2,   103.63,2,  -999.00,9,    41.10,2,     0.00,2,     2.96,2, -999.000,9, -999.000,9,  -999.00,9,   -999.0,9,   -999.0,9,-999.0000,9,   -999.0,  9,  -999.00,9,   -999.0,  -999.00,9,  -999.00,9,  -999.00,9,  -999.00,9,   -999.0,-999.0000, -999,9,  604,   3.6987,  27.1091,   -999.0,9
       RF99-04,  165E,RF-0812,  1,     11,02-12811,2,19990518,1921, 43.9787, 165.0543, 5739,    808.4,   3.3961,  34.2637,2,   -999.0,9,  34.2640,2,     35.3,2,   121.20,2,  -999.00,9,    41.99,2,     0.00,2,     3.04,2, -999.000,9, -999.000,9,  -999.00,9,   -999.0,9,   -999.0,9,-999.0000,9,   -999.0,  9,  -999.00,9,   -999.0,  -999.00,9,  -999.00,9,  -999.00,9,  -999.00,9,   -999.0,-999.0000, -999,9,  800,   3.3402,  27.2658,   -999.0,9
       RF99-04,  165E,RF-0812,  1,     10,02-12820,2,19990518,1915, 43.9787, 165.0543, 5739,   1008.2,   2.9603,  34.3540,2,   -999.0,9,  34.3528,2,     30.7,2,   136.02,2,  -999.00,9,    42.88,2,     0.00,2,     3.09,2, -999.000,9, -999.000,9,  -999.00,9,   -999.0,9,   -999.0,9,-999.0000,9,   -999.0,  9,  -999.00,9,   -999.0,  -999.00,9,  -999.00,9,  -999.00,9,  -999.00,9,   -999.0,-999.0000, -999,9,  998,   2.8923,  27.3791,   -999.0,9
       RF99-04,  165E,RF-0812,  1,      9,02-12810,2,19990518,1908, 43.9787, 165.0543, 5739,   1261.2,   2.6104,  34.4459,2,   -999.0,9,-999.0000,9,     38.2,2,   146.06,2,  -999.00,9,    42.90,2,     0.00,2,     3.09,2, -999.000,9, -999.000,9,  -999.00,9,   -999.0,9,   -999.0,9,-999.0000,9,   -999.0,  9,  -999.00,9,   -999.0,  -999.00,9,  -999.00,9,  -999.00,9,  -999.00,9,   -999.0,-999.0000, -999,9, 1247,   2.5262,  27.4846,   -999.0,9
       RF99-04,  165E,RF-0812,  1,      8,02-12819,2,19990518,1901, 43.9787, 165.0543, 5739,   1515.7,   2.3106,  34.4995,2,   -999.0,9,  34.5010,2,     41.1,2,   154.74,2,  -999.00,9,    42.44,2,     0.00,2,     3.05,2, -999.000,9, -999.000,9,  -999.00,9,   -999.0,9,   -999.0,9,-999.0000,9,   -999.0,  9,  -999.00,9,   -999.0,  -999.00,9,  -999.00,9,  -999.00,9,  -999.00,9,   -999.0,-999.0000, -999,9, 1498,   2.2097,  27.5538,   -999.0,9
       RF99-04,  165E,RF-0812,  1,      7,02-12815,2,19990518,1850, 43.9787, 165.0543, 5739,   2023.1,   1.9724,  34.5839,2,   -999.0,9,  34.5838,2,     65.2,2,   159.49,2,  -999.00,9,    41.19,2,     0.00,2,     2.94,2, -999.000,9, -999.000,9,  -999.00,9,   -999.0,9,   -999.0,9,-999.0000,9,   -999.0,  9,  -999.00,9,   -999.0,  -999.00,9,  -999.00,9,  -999.00,9,  -999.00,9,   -999.0,-999.0000, -999,9, 1997,   1.8346,  27.6512,   -999.0,9
       RF99-04,  165E,RF-0812,  1,      6,02-12818,2,19990518,1842, 43.9787, 165.0543, 5739,   2533.0,   1.7270,  34.6329,2,   -999.0,9,-999.0000,9,     92.0,2,   156.69,2,  -999.00,9,    39.35,2,     0.00,2,     2.79,2, -999.000,9, -999.000,9,  -999.00,9,   -999.0,9,   -999.0,9,-999.0000,9,   -999.0,  9,  -999.00,9,   -999.0,  -999.00,9,  -999.00,9,  -999.00,9,  -999.00,9,   -999.0,-999.0000, -999,9, 2498,   1.5489,  27.7120,   -999.0,9
       RF99-04,  165E,RF-0812,  1,      5,02-12809,2,19990518,1835, 43.9787, 165.0543, 5739,   3041.8,   1.5905,  34.6581,2,   -999.0,9,  34.6572,2,    116.5,2,   152.55,2,  -999.00,9,    37.93,2,     0.00,2,     2.67,2, -999.000,9, -999.000,9,  -999.00,9,   -999.0,9,   -999.0,9,-999.0000,9,   -999.0,  9,  -999.00,9,   -999.0,  -999.00,9,  -999.00,9,  -999.00,9,  -999.00,9,   -999.0,-999.0000, -999,9, 2996,   1.3678,  27.7453,   -999.0,9
       RF99-04,  165E,RF-0812,  1,      4,02-12817,2,19990518,1828, 43.9787, 165.0543, 5739,   3552.5,   1.5186,  34.6714,2,   -999.0,9,-999.0000,9,    130.8,2,   149.59,2,  -999.00,9,    36.95,2,     0.00,2,     2.59,2, -999.000,9, -999.000,9,  -999.00,9,   -999.0,9,   -999.0,9,-999.0000,9,   -999.0,  9,  -999.00,9,   -999.0,  -999.00,9,  -999.00,9,  -999.00,9,  -999.00,9,   -999.0,-999.0000, -999,9, 3495,   1.2466,  27.7645,   -999.0,9
       RF99-04,  165E,RF-0812,  1,      3,02-12808,2,19990518,1820, 43.9787, 165.0543, 5739,   4063.9,   1.4911,  34.6798,2,   -999.0,9,  34.6806,2,    141.5,2,   146.34,2,  -999.00,9,    36.30,2,     0.00,2,     2.53,2, -999.000,9, -999.000,9,  -999.00,9,   -999.0,9,   -999.0,9,-999.0000,9,   -999.0,  9,  -999.00,9,   -999.0,  -999.00,9,  -999.00,9,  -999.00,9,  -999.00,9,   -999.0,-999.0000, -999,9, 3993,   1.1655,  27.7769,   -999.0,9
       RF99-04,  165E,RF-0812,  1,      2,02-13589,2,19990518,1807, 43.9787, 165.0543, 5739,   5090.3,   1.5278,  34.6874,2,   -999.0,9,  34.7863,4,    152.2,2,   144.98,2,  -999.00,9,    35.70,2,     0.00,2,     2.47,2, -999.000,9, -999.000,9,  -999.00,9,   -999.0,9,   -999.0,9,-999.0000,9,   -999.0,  9,  -999.00,9,   -999.0,  -999.00,9,  -999.00,9,  -999.00,9,  -999.00,9,   -999.0,-999.0000, -999,9, 4990,   1.0816,  27.7887,   -999.0,9
       RF99-04,  165E,RF-0812,  1,      1,02-12807,2,19990518,1756, 43.9787, 165.0543, 5739,   5810.0,   1.6108,  34.6888,2,   -999.0,9,  34.6949,4,    156.9,2,   146.30,2,  -999.00,9,    35.64,2,     0.00,2,     2.47,2, -999.000,9, -999.000,9,  -999.00,9,   -999.0,9,   -999.0,9,-999.0000,9,   -999.0,  9,  -999.00,9,   -999.0,  -999.00,9,  -999.00,9,  -999.00,9,  -999.00,9,   -999.0,-999.0000, -999,9, 5687,   1.0699,  27.7906,   -999.0,9