BOTTLE,20130510GEMDJMAYT
EXPOCODE,SECT_ID,STNNBR,CASTNO,SAMPNO,BTLNBR,BTLNBR_FLAG_W,DATE,TIME,LATITUDE,LONGITUDE,DEPTH,CTDPRS,CTDTMP,CTDSAL,CTDSAL_FLAG_W,CTDOXY,CTDOXY_FLAG_W,SALNTY,SALNTY_FLAG_W,OXYGEN,OXYGEN_FLAG_W,SILCAT,SILCAT_FLAG_W,NITRAT,NITRAT_FLAG_W,NO2+NO3,NO2+NO3_FLAG_W,NITRIT,NITRIT_FLAG_W,PHSPHT,PHSPHT_FLAG_W,CFC-11,CFC-11_FLAG_W,CFC-12,CFC-12_FLAG_W,DELC13,DELC13_FLAG_W,TCARBN,TCARBN_FLAG_W,ALKALI,ALKALI_FLAG_W,PH,PH_FLAG_W,PH_TMP,PH_SCALE,PH_NBS,PH_NBS_FLAG_W,C13ERR,TOTALP,TOTALP_FLAG_W,AMMONI,AMMONI_FLAG_W,CHLORA,CHLORA_FLAG_W,PPHYTN,PPHYTN_FLAG_W,REVPRS,REVTMP,DEPTH_,DEPTH_FLAG,CTDDEP,THETA,SIGTHT,DOC,DOC_FLAG_W
,,,,,,,GMT,GMT,,,METER,DBAR,ITS-90,PSS-78,,UMOL/KG,,PSS-78,,UMOL/KG,,UMOL/KG,,UMOL/KG,,UMOL/KG,,UMOL/KG,,UMOL/KG,,PMOL/KG,,PMOL/KG,,/MILLE,,UMOL/KG,,UMOL/KG,,25_DEG_C,,DEG_C,,,,/MILLE,UMOL/KG,,UMOL/KG,,UG/L,,UG/L,,DBAR,ITS-90,METERS,,METERS,DEG_C,,UMOL/L,
       RF99-04,  142E,RF-0787,  1,     -9,      -9,5,19990426,0032, 33.5412, 141.5063, 6091,      0.0,  21.4895,  34.6769,2,   -999.0,9,-999.0000,9,    221.0,2,     1.62,2,  -999.00,9,     0.21,2,     0.03,2,     0.09,2, -999.000,9, -999.000,9,  -999.00,9,   -999.0,9,   -999.0,9,-999.0000,9,   -999.0,  9,  -999.00,9,   -999.0,  -999.00,9,  -999.00,9,  -999.00,9,  -999.00,9,   -999.0,-999.0000, -999,9,    0,  21.4895,  24.1141,   -999.0,9
       RF99-04,  142E,RF-0787,  1,     24,02-12830,4,19990426,0029, 33.5412, 141.5063, 6091,     10.5,  21.4593,  34.6814,2,   -999.0,9,-999.0000,9,   -999.0,9,  -999.00,9,  -999.00,9,  -999.00,9,  -999.00,9,  -999.00,9, -999.000,9, -999.000,9,  -999.00,9,   -999.0,9,   -999.0,9,-999.0000,9,   -999.0,  9,  -999.00,9,   -999.0,  -999.00,9,  -999.00,9,  -999.00,9,  -999.00,9,   -999.0,-999.0000, -999,9,   10,  21.4573,  24.1264,   -999.0,9
       RF99-04,  142E,RF-0787,  1,     23,02-12829,4,19990426,0028, 33.5412, 141.5063, 6091,     25.0,  21.4283,  34.6837,2,   -999.0,9,-999.0000,9,   -999.0,9,  -999.00,9,  -999.00,9,  -999.00,9,  -999.00,9,  -999.00,9, -999.000,9, -999.000,9,  -999.00,9,   -999.0,9,   -999.0,9,-999.0000,9,   -999.0,  9,  -999.00,9,   -999.0,  -999.00,9,  -999.00,9,  -999.00,9,  -999.00,9,   -999.0,-999.0000, -999,9,   25,  21.4235,  24.1374,   -999.0,9
       RF99-04,  142E,RF-0787,  1,     22,02-12828,4,19990426,0025, 33.5412, 141.5063, 6091,     51.0,  21.3541,  34.6913,2,   -999.0,9,-999.0000,9,   -999.0,9,  -999.00,9,  -999.00,9,  -999.00,9,  -999.00,9,  -999.00,9, -999.000,9, -999.000,9,  -999.00,9,   -999.0,9,   -999.0,9,-999.0000,9,   -999.0,  9,  -999.00,9,   -999.0,  -999.00,9,  -999.00,9,  -999.00,9,  -999.00,9,   -999.0,-999.0000, -999,9,   51,  21.3442,  24.1650,   -999.0,9
       RF99-04,  142E,RF-0787,  1,     21,02-12827,4,19990426,0023, 33.5412, 141.5063, 6091,     76.6,  21.0555,  34.6971,2,   -999.0,9,-999.0000,9,   -999.0,9,  -999.00,9,  -999.00,9,  -999.00,9,  -999.00,9,  -999.00,9, -999.000,9, -999.000,9,  -999.00,9,   -999.0,9,   -999.0,9,-999.0000,9,   -999.0,  9,  -999.00,9,   -999.0,  -999.00,9,  -999.00,9,  -999.00,9,  -999.00,9,   -999.0,-999.0000, -999,9,   76,  21.0409,  24.2522,   -999.0,9
       RF99-04,  142E,RF-0787,  1,     20,02-12826,4,19990426,0021, 33.5412, 141.5063, 6091,    102.7,  20.3631,  34.7076,2,   -999.0,9,-999.0000,9,   -999.0,9,  -999.00,9,  -999.00,9,  -999.00,9,  -999.00,9,  -999.00,9, -999.000,9, -999.000,9,  -999.00,9,   -999.0,9,   -999.0,9,-999.0000,9,   -999.0,  9,  -999.00,9,   -999.0,  -999.00,9,  -999.00,9,  -999.00,9,  -999.00,9,   -999.0,-999.0000, -999,9,  102,  20.3439,  24.4477,   -999.0,9
       RF99-04,  142E,RF-0787,  1,     19,02-12825,4,19990426,0019, 33.5412, 141.5063, 6091,    128.3,  19.8078,  34.6969,2,   -999.0,9,-999.0000,9,   -999.0,9,  -999.00,9,  -999.00,9,  -999.00,9,  -999.00,9,  -999.00,9, -999.000,9, -999.000,9,  -999.00,9,   -999.0,9,   -999.0,9,-999.0000,9,   -999.0,  9,  -999.00,9,   -999.0,  -999.00,9,  -999.00,9,  -999.00,9,  -999.00,9,   -999.0,-999.0000, -999,9,  127,  19.7843,  24.5871,   -999.0,9
       RF99-04,  142E,RF-0787,  1,     18,02-12824,2,19990426,0017, 33.5412, 141.5063, 6091,    153.8,  19.3680,  34.7912,2,   -999.0,9,  34.6176,4,    217.4,2,     1.70,2,  -999.00,9,     0.36,2,     0.06,2,     0.08,2, -999.000,9, -999.000,9,  -999.00,9,   -999.0,9,   -999.0,9,-999.0000,9,   -999.0,  9,  -999.00,9,   -999.0,  -999.00,9,  -999.00,9,  -999.00,9,  -999.00,9,   -999.0,-999.0000, -999,9,  153,  19.3403,  24.7743,   -999.0,9
       RF99-04,  142E,RF-0787,  1,     17,02-12814,4,19990426,0012, 33.5412, 141.5063, 6091,    202.9,  18.3241,  34.7514,2,   -999.0,9,-999.0000,9,   -999.0,9,  -999.00,9,  -999.00,9,  -999.00,9,  -999.00,9,  -999.00,9, -999.000,9, -999.000,9,  -999.00,9,   -999.0,9,   -999.0,9,-999.0000,9,   -999.0,  9,  -999.00,9,   -999.0,  -999.00,9,  -999.00,9,  -999.00,9,  -999.00,9,   -999.0,-999.0000, -999,9,  201,  18.2889,  25.0102,   -999.0,9
       RF99-04,  142E,RF-0787,  1,     16,02-12832,4,19990426,0007, 33.5412, 141.5063, 6091,    252.9,  16.5349,  34.6188,2,   -999.0,9,-999.0000,9,   -999.0,9,  -999.00,9,  -999.00,9,  -999.00,9,  -999.00,9,  -999.00,9, -999.000,9, -999.000,9,  -999.00,9,   -999.0,9,   -999.0,9,-999.0000,9,   -999.0,  9,  -999.00,9,   -999.0,  -999.00,9,  -999.00,9,  -999.00,9,  -999.00,9,   -999.0,-999.0000, -999,9,  251,  16.4940,  25.3405,   -999.0,9
       RF99-04,  142E,RF-0787,  1,     15,02-12833,4,19990426,0004, 33.5412, 141.5063, 6091,    302.6,  15.2223,  34.5956,2,   -999.0,9,-999.0000,9,   -999.0,9,  -999.00,9,  -999.00,9,  -999.00,9,  -999.00,9,  -999.00,9, -999.000,9, -999.000,9,  -999.00,9,   -999.0,9,   -999.0,9,-999.0000,9,   -999.0,  9,  -999.00,9,   -999.0,  -999.00,9,  -999.00,9,  -999.00,9,  -999.00,9,   -999.0,-999.0000, -999,9,  300,  15.1760,  25.6214,   -999.0,9
       RF99-04,  142E,RF-0787,  1,     14,02-13578,2,19990426,0000, 33.5412, 141.5063, 6091,    402.5,  13.1772,  34.5090,2,   -999.0,9,  34.6015,4,    188.9,2,    54.03,2,  -999.00,9,    23.40,2,     0.03,2,     1.61,2, -999.000,9, -999.000,9,  -999.00,9,   -999.0,9,   -999.0,9,-999.0000,9,   -999.0,  9,  -999.00,9,   -999.0,  -999.00,9,  -999.00,9,  -999.00,9,  -999.00,9,   -999.0,-999.0000, -999,9,  399,  13.1212,  25.9881,   -999.0,9
       RF99-04,  142E,RF-0787,  1,     13,02-13590,2,19990425,2356, 33.5412, 141.5063, 6091,    504.9,   8.9325,  34.2711,2,   -999.0,9,  34.5132,4,    169.5,2,    24.45,2,  -999.00,9,    15.44,2,     0.01,2,     1.04,2, -999.000,9, -999.000,9,  -999.00,9,   -999.0,9,   -999.0,9,-999.0000,9,   -999.0,  9,  -999.00,9,   -999.0,  -999.00,9,  -999.00,9,  -999.00,9,  -999.00,9,   -999.0,-999.0000, -999,9,  501,   8.8775,  26.5668,   -999.0,9
       RF99-04,  142E,RF-0787,  1,     12,02-12821,2,19990425,2346, 33.5412, 141.5063, 6091,    505.7,   8.8717,  34.2600,2,   -999.0,9,  34.2712,2,    138.8,2,    46.44,2,  -999.00,9,    24.96,2,     0.00,2,     1.72,2, -999.000,9, -999.000,9,  -999.00,9,   -999.0,9,   -999.0,9,-999.0000,9,   -999.0,  9,  -999.00,9,   -999.0,  -999.00,9,  -999.00,9,  -999.00,9,  -999.00,9,   -999.0,-999.0000, -999,9,  502,   8.8168,  26.5677,   -999.0,9
       RF99-04,  142E,RF-0787,  1,     11,02-12811,2,19990425,2344, 33.5412, 141.5063, 6091,    604.5,   6.7767,  34.2906,2,   -999.0,9,  34.2909,2,    100.8,2,    75.86,2,  -999.00,9,    32.97,2,     0.00,2,     2.27,2, -999.000,9, -999.000,9,  -999.00,9,   -999.0,9,   -999.0,9,-999.0000,9,   -999.0,  9,  -999.00,9,   -999.0,  -999.00,9,  -999.00,9,  -999.00,9,  -999.00,9,   -999.0,-999.0000, -999,9,  599,   6.7201,  26.8981,   -999.0,9
       RF99-04,  142E,RF-0787,  1,     10,02-12820,2,19990425,2341, 33.5412, 141.5063, 6091,    704.6,   5.5357,  34.2826,2,   -999.0,9,  34.2913,2,     83.8,2,    89.86,2,  -999.00,9,    35.56,2,     0.00,2,     2.49,2, -999.000,9, -999.000,9,  -999.00,9,   -999.0,9,   -999.0,9,-999.0000,9,   -999.0,  9,  -999.00,9,   -999.0,  -999.00,9,  -999.00,9,  -999.00,9,  -999.00,9,   -999.0,-999.0000, -999,9,  698,   5.4759,  27.0505,   -999.0,9
       RF99-04,  142E,RF-0787,  1,      9,02-12810,4,19990425,2334, 33.5412, 141.5063, 6091,    812.3,   4.6488,  34.3371,2,   -999.0,9,-999.0000,4,   -999.0,9,  -999.00,9,  -999.00,9,  -999.00,9,  -999.00,9,  -999.00,9, -999.000,9, -999.000,9,  -999.00,9,   -999.0,9,   -999.0,9,-999.0000,9,   -999.0,  9,  -999.00,9,   -999.0,  -999.00,9,  -999.00,9,  -999.00,9,  -999.00,9,   -999.0,-999.0000, -999,9,  805,   4.5846,  27.1964,   -999.0,9
       RF99-04,  142E,RF-0787,  1,      7,02-12815,4,19990425,2329, 33.5412, 141.5063, 6091,    913.0,   3.9823,  34.3506,2,   -999.0,9,-999.0000,4,   -999.0,9,  -999.00,9,  -999.00,9,  -999.00,9,  -999.00,9,  -999.00,9, -999.000,9, -999.000,9,  -999.00,9,   -999.0,9,   -999.0,9,-999.0000,9,   -999.0,  9,  -999.00,9,   -999.0,  -999.00,9,  -999.00,9,  -999.00,9,  -999.00,9,   -999.0,-999.0000, -999,9,  905,   3.9142,  27.2784,   -999.0,9
       RF99-04,  142E,RF-0787,  1,      8,02-12819,2,19990425,2330, 33.5412, 141.5063, 6091,    913.0,   3.9823,  34.3506,2,   -999.0,9,  34.3516,2,     63.8,2,   116.87,2,  -999.00,9,    40.58,2,     0.00,2,     2.82,2, -999.000,9, -999.000,9,  -999.00,9,   -999.0,9,   -999.0,9,-999.0000,9,   -999.0,  9,  -999.00,9,   -999.0,  -999.00,9,  -999.00,9,  -999.00,9,  -999.00,9,   -999.0,-999.0000, -999,9,  905,   3.9142,  27.2784,   -999.0,9
       RF99-04,  142E,RF-0787,  1,      5,02-12809,2,19990425,2326, 33.5412, 141.5063, 6091,   1008.0,   3.5618,  34.3732,2,   -999.0,9,-999.0000,9,   -999.0,9,  -999.00,9,  -999.00,9,  -999.00,9,  -999.00,9,  -999.00,9, -999.000,9, -999.000,9,  -999.00,9,   -999.0,9,   -999.0,9,-999.0000,9,   -999.0,  9,  -999.00,9,   -999.0,  -999.00,9,  -999.00,9,  -999.00,9,  -999.00,9,   -999.0,-999.0000, -999,9,  998,   3.4891,  27.3387,   -999.0,9
       RF99-04,  142E,RF-0787,  1,      6,02-12818,2,19990425,2326, 33.5412, 141.5063, 6091,   1009.1,   3.5621,  34.3743,2,   -999.0,9,  34.2919,4,    127.0,2,    57.36,2,  -999.00,9,    27.84,2,     0.00,2,     1.89,2, -999.000,9, -999.000,9,  -999.00,9,   -999.0,9,   -999.0,9,-999.0000,9,   -999.0,  9,  -999.00,9,   -999.0,  -999.00,9,  -999.00,9,  -999.00,9,  -999.00,9,   -999.0,-999.0000, -999,9, 1000,   3.4893,  27.3396,   -999.0,9
       RF99-04,  142E,RF-0787,  1,      4,02-12817,2,19990425,2320, 33.5412, 141.5063, 6091,   1261.7,   2.9937,  34.4378,2,   -999.0,9,  34.4939,4,     50.1,2,   137.50,2,  -999.00,9,    42.15,2,     0.00,2,     2.92,2, -999.000,9, -999.000,9,  -999.00,9,   -999.0,9,   -999.0,9,-999.0000,9,   -999.0,  9,  -999.00,9,   -999.0,  -999.00,9,  -999.00,9,  -999.00,9,  -999.00,9,   -999.0,-999.0000, -999,9, 1249,   2.9057,  27.4449,   -999.0,9
       RF99-04,  142E,RF-0787,  1,      3,02-12808,2,19990425,2315, 33.5412, 141.5063, 6091,   1515.9,   2.4844,  34.5148,2,   -999.0,9,  34.5128,2,     55.6,2,   149.64,2,  -999.00,9,    41.84,2,     0.00,2,     2.94,2, -999.000,9, -999.000,9,  -999.00,9,   -999.0,9,   -999.0,9,-999.0000,9,   -999.0,  9,  -999.00,9,   -999.0,  -999.00,9,  -999.00,9,  -999.00,9,  -999.00,9,   -999.0,-999.0000, -999,9, 1500,   2.3814,  27.5519,   -999.0,9
       RF99-04,  142E,RF-0787,  1,      2,02-13589,2,19990425,2309, 33.5412, 141.5063, 6091,   1771.4,   2.1981,  34.5565,2,   -999.0,9,  34.5893,4,     62.4,2,   158.62,2,  -999.00,9,    42.79,2,  -999.00,4,     2.96,2, -999.000,9, -999.000,9,  -999.00,9,   -999.0,9,   -999.0,9,-999.0000,9,   -999.0,  9,  -999.00,9,   -999.0,  -999.00,9,  -999.00,9,  -999.00,9,  -999.00,9,   -999.0,-999.0000, -999,9, 1751,   2.0780,  27.6102,   -999.0,9
       RF99-04,  142E,RF-0787,  1,      1,02-12807,2,19990425,2303, 33.5412, 141.5063, 6091,   2026.3,   2.0156,  34.5906,2,   -999.0,9,  34.5533,4,     75.7,2,   159.73,2,  -999.00,9,    42.04,2,  -999.00,4,     2.87,2, -999.000,9, -999.000,9,  -999.00,9,   -999.0,9,   -999.0,9,-999.0000,9,   -999.0,  9,  -999.00,9,   -999.0,  -999.00,9,  -999.00,9,  -999.00,9,  -999.00,9,   2009.0,-999.0000, -999,9, 2002,   1.8769,  27.6533,   -999.0,9