BOTTLE,20130510GEMDJMAYT
EXPOCODE,SECT_ID,STNNBR,CASTNO,SAMPNO,BTLNBR,BTLNBR_FLAG_W,DATE,TIME,LATITUDE,LONGITUDE,DEPTH,CTDPRS,CTDTMP,CTDSAL,CTDSAL_FLAG_W,CTDOXY,CTDOXY_FLAG_W,SALNTY,SALNTY_FLAG_W,OXYGEN,OXYGEN_FLAG_W,SILCAT,SILCAT_FLAG_W,NITRAT,NITRAT_FLAG_W,NO2+NO3,NO2+NO3_FLAG_W,NITRIT,NITRIT_FLAG_W,PHSPHT,PHSPHT_FLAG_W,CFC-11,CFC-11_FLAG_W,CFC-12,CFC-12_FLAG_W,DELC13,DELC13_FLAG_W,TCARBN,TCARBN_FLAG_W,ALKALI,ALKALI_FLAG_W,PH,PH_FLAG_W,PH_TMP,PH_SCALE,PH_NBS,PH_NBS_FLAG_W,C13ERR,TOTALP,TOTALP_FLAG_W,AMMONI,AMMONI_FLAG_W,CHLORA,CHLORA_FLAG_W,PPHYTN,PPHYTN_FLAG_W,REVPRS,REVTMP,DEPTH_,DEPTH_FLAG,CTDDEP,THETA,SIGTHT,DOC,DOC_FLAG_W
,,,,,,,GMT,GMT,,,METER,DBAR,ITS-90,PSS-78,,UMOL/KG,,PSS-78,,UMOL/KG,,UMOL/KG,,UMOL/KG,,UMOL/KG,,UMOL/KG,,UMOL/KG,,PMOL/KG,,PMOL/KG,,/MILLE,,UMOL/KG,,UMOL/KG,,25_DEG_C,,DEG_C,,,,/MILLE,UMOL/KG,,UMOL/KG,,UG/L,,UG/L,,DBAR,ITS-90,METERS,,METERS,DEG_C,,UMOL/L,
       RF99-04,  NONE,RF-0782,  1,     -9,      -9,5,19990425,0228, 34.9312, 140.2140, 1597,      0.0,  16.5313,  34.4763,2,   -999.0,9,-999.0000,9,    530.7,4,     4.17,2,  -999.00,9,     3.06,2,     0.20,2,     0.28,2, -999.000,9, -999.000,9,  -999.00,9,   -999.0,9,   -999.0,9,-999.0000,9,   -999.0,  9,     8.24,2,   -999.0,  -999.00,9,  -999.00,9,     0.48,2,     0.39,2,   -999.0,-999.0000, -999,9,    0,  16.5313,  25.2224,   -999.0,9
       RF99-04,  NONE,RF-0782,  1,     20,02-12826,2,19990425,0225, 34.9312, 140.2140, 1597,     10.8,  16.4210,  34.4775,2,   -999.0,9,-999.0000,9,    247.1,2,     4.27,2,  -999.00,9,     3.38,2,     0.22,2,     0.29,2, -999.000,9, -999.000,9,  -999.00,9,   -999.0,9,   -999.0,9,-999.0000,9,   -999.0,  9,     8.24,2,   -999.0,  -999.00,9,  -999.00,9,     0.56,2,     0.42,2,   -999.0,-999.0000, -999,9,   11,  16.4193,  25.2493,   -999.0,9
       RF99-04,  NONE,RF-0782,  1,     19,02-12825,2,19990425,0223, 34.9312, 140.2140, 1597,     26.6,  15.6826,  34.6055,2,   -999.0,9,-999.0000,9,    232.0,2,     6.65,2,  -999.00,9,     6.32,2,     0.59,2,     0.44,2, -999.000,9, -999.000,9,  -999.00,9,   -999.0,9,   -999.0,9,-999.0000,9,   -999.0,  9,     8.24,2,   -999.0,  -999.00,9,  -999.00,9,  -999.00,4,  -999.00,4,   -999.0,-999.0000, -999,9,   26,  15.6784,  25.5171,   -999.0,9
       RF99-04,  NONE,RF-0782,  1,     18,02-12824,2,19990425,0222, 34.9312, 140.2140, 1597,     50.2,  15.2042,  34.6001,2,   -999.0,9,-999.0000,9,    216.6,2,     9.99,2,  -999.00,9,     8.58,2,     0.14,2,     0.57,2, -999.000,9, -999.000,9,  -999.00,9,   -999.0,9,   -999.0,9,-999.0000,9,   -999.0,  9,     8.23,2,   -999.0,  -999.00,9,  -999.00,9,     0.14,2,     0.14,2,   -999.0,-999.0000, -999,9,   50,  15.1966,  25.6203,   -999.0,9
       RF99-04,  NONE,RF-0782,  1,     17,02-12814,2,19990425,0220, 34.9312, 140.2140, 1597,     76.4,  14.4793,  34.5830,2,   -999.0,9,-999.0000,9,    198.6,2,    15.16,2,  -999.00,9,    11.49,2,     0.08,2,     0.75,2, -999.000,9, -999.000,9,  -999.00,9,   -999.0,9,   -999.0,9,-999.0000,9,   -999.0,  9,     8.22,2,   -999.0,  -999.00,9,  -999.00,9,     0.06,2,     0.11,2,   -999.0,-999.0000, -999,9,   76,  14.4681,  25.7656,   -999.0,9
       RF99-04,  NONE,RF-0782,  1,     16,02-12832,2,19990425,0218, 34.9312, 140.2140, 1597,    101.2,  13.7520,  34.5412,2,   -999.0,9,  34.5486,2,    183.1,2,    19.63,2,  -999.00,9,    14.07,2,     0.02,2,     0.93,2, -999.000,9, -999.000,9,  -999.00,9,   -999.0,9,   -999.0,9,-999.0000,9,   -999.0,  9,     8.16,2,   -999.0,  -999.00,9,  -999.00,9,     0.05,2,     0.11,2,   -999.0,-999.0000, -999,9,  100,  13.7376,  25.8872,   -999.0,9
       RF99-04,  NONE,RF-0782,  1,     15,02-12833,2,19990425,0216, 34.9312, 140.2140, 1597,    126.4,  13.1745,  34.5106,2,   -999.0,9,-999.0000,9,    171.8,2,    23.14,2,  -999.00,9,    16.03,2,     0.02,2,     1.05,2, -999.000,9, -999.000,9,  -999.00,9,   -999.0,9,   -999.0,9,-999.0000,9,   -999.0,  9,     8.15,2,   -999.0,  -999.00,9,  -999.00,9,     0.04,2,     0.09,2,   -999.0,-999.0000, -999,9,  125,  13.1571,  25.9822,   -999.0,9
       RF99-04,  NONE,RF-0782,  1,     14,02-13578,2,19990425,0214, 34.9312, 140.2140, 1597,    150.8,  12.3985,  34.4645,2,   -999.0,9,-999.0000,9,    163.8,2,    27.35,2,  -999.00,9,    18.13,2,     0.01,2,     1.19,2, -999.000,9, -999.000,9,  -999.00,9,   -999.0,9,   -999.0,9,-999.0000,9,   -999.0,  9,     8.13,2,   -999.0,  -999.00,9,  -999.00,9,     0.03,2,     0.09,2,   -999.0,-999.0000, -999,9,  150,  12.3785,  26.1004,   -999.0,9
       RF99-04,  NONE,RF-0782,  1,     13,02-13590,2,19990425,0210, 34.9312, 140.2140, 1597,    202.0,  10.8175,  34.3802,2,   -999.0,9,  34.3854,2,    150.3,2,    36.12,2,  -999.00,9,    21.88,2,     0.01,2,     1.46,2, -999.000,9, -999.000,9,  -999.00,9,   -999.0,9,   -999.0,9,-999.0000,9,   -999.0,  9,     8.11,2,   -999.0,  -999.00,9,  -999.00,9,     0.02,2,     0.07,2,   -999.0,-999.0000, -999,9,  200,  10.7930,  26.3299,   -999.0,9
       RF99-04,  NONE,RF-0782,  1,     12,02-12821,2,19990425,0208, 34.9312, 140.2140, 1597,    251.5,   9.7821,  34.3252,2,   -999.0,9,-999.0000,9,    139.1,2,    43.04,2,  -999.00,9,    24.50,2,     0.00,2,     1.64,2, -999.000,9, -999.000,9,  -999.00,9,   -999.0,9,   -999.0,9,-999.0000,9,   -999.0,  9,     8.09,4,   -999.0,  -999.00,9,  -999.00,9,  -999.00,9,  -999.00,9,   -999.0,-999.0000, -999,9,  250,   9.7534,  26.4666,   -999.0,9
       RF99-04,  NONE,RF-0782,  1,     11,02-12811,2,19990425,0206, 34.9312, 140.2140, 1597,    302.9,   8.1439,  34.2057,2,   -999.0,9,  34.2049,2,    143.1,2,    49.86,2,  -999.00,9,    27.06,2,     0.01,2,     1.83,2, -999.000,9, -999.000,9,  -999.00,9,   -999.0,9,   -999.0,9,-999.0000,9,   -999.0,  9,     8.06,2,   -999.0,  -999.00,9,  -999.00,9,  -999.00,9,  -999.00,9,   -999.0,-999.0000, -999,9,  301,   8.1130,  26.6331,   -999.0,9
       RF99-04,  NONE,RF-0782,  1,     10,02-12820,2,19990425,0204, 34.9312, 140.2140, 1597,    402.4,   7.1169,  34.2156,2,   -999.0,9,  34.2145,2,    119.0,2,    63.78,2,  -999.00,9,    31.17,2,     0.01,2,     2.12,2, -999.000,9, -999.000,9,  -999.00,9,   -999.0,9,   -999.0,9,-999.0000,9,   -999.0,  9,     7.98,2,   -999.0,  -999.00,9,  -999.00,9,  -999.00,9,  -999.00,9,   -999.0,-999.0000, -999,9,  399,   7.0787,  26.7900,   -999.0,9
       RF99-04,  NONE,RF-0782,  1,      9,02-12810,2,19990425,0201, 34.9312, 140.2140, 1597,    505.0,   6.1901,  34.2202,2,   -999.0,9,  34.2214,2,    101.9,2,    76.68,2,  -999.00,9,    34.09,2,     0.00,2,     2.34,2, -999.000,9, -999.000,9,  -999.00,9,   -999.0,9,   -999.0,9,-999.0000,9,   -999.0,  9,     7.82,2,   -999.0,  -999.00,9,  -999.00,9,  -999.00,9,  -999.00,9,   -999.0,-999.0000, -999,9,  501,   6.1455,  26.9180,   -999.0,9
       RF99-04,  NONE,RF-0782,  1,      8,02-12819,2,19990425,0157, 34.9312, 140.2140, 1597,    604.8,   4.7736,  34.2443,2,   -999.0,9,  34.2447,2,     73.4,2,    98.32,2,  -999.00,9,    38.86,2,     0.00,4,     2.68,2, -999.000,9, -999.000,9,  -999.00,9,   -999.0,9,   -999.0,9,-999.0000,9,   -999.0,  9,     7.70,2,   -999.0,  -999.00,9,  -999.00,9,  -999.00,9,  -999.00,9,   -999.0,-999.0000, -999,9,  600,   4.7262,  27.1071,   -999.0,9
       RF99-04,  NONE,RF-0782,  1,      7,02-12815,2,19990425,0154, 34.9312, 140.2140, 1597,    705.7,   4.1841,  34.2807,2,   -999.0,9,-999.0000,9,     63.0,2,   109.94,2,  -999.00,9,    40.56,2,     0.00,4,     2.81,2, -999.000,9, -999.000,9,  -999.00,9,   -999.0,9,   -999.0,9,-999.0000,9,   -999.0,  9,     7.61,2,   -999.0,  -999.00,9,  -999.00,9,  -999.00,9,  -999.00,9,   -999.0,-999.0000, -999,9,  699,   4.1315,  27.2003,   -999.0,9
       RF99-04,  NONE,RF-0782,  1,      6,02-12818,2,19990425,0152, 34.9312, 140.2140, 1597,    807.2,   3.7058,  34.3335,2,   -999.0,9,  34.3196,2,     56.9,2,   117.60,2,  -999.00,9,    41.33,2,     0.00,2,     2.87,2, -999.000,9, -999.000,9,  -999.00,9,   -999.0,9,   -999.0,9,-999.0000,9,   -999.0,  9,     7.59,2,   -999.0,  -999.00,9,  -999.00,9,  -999.00,9,  -999.00,9,   -999.0,-999.0000, -999,9,  800,   3.6479,  27.2915,   -999.0,9
       RF99-04,  NONE,RF-0782,  1,      5,02-12809,2,19990425,0149, 34.9312, 140.2140, 1597,    907.5,   3.4259,  34.3638,2,   -999.0,9,-999.0000,9,     51.6,2,   127.61,2,  -999.00,9,    42.33,2,     0.00,4,     2.94,2, -999.000,9, -999.000,9,  -999.00,9,   -999.0,9,   -999.0,9,-999.0000,9,   -999.0,  9,     7.62,2,   -999.0,  -999.00,9,  -999.00,9,  -999.00,9,  -999.00,9,   -999.0,-999.0000, -999,9,  899,   3.3621,  27.3434,   -999.0,9
       RF99-04,  NONE,RF-0782,  1,      4,02-12817,2,19990425,0146, 34.9312, 140.2140, 1597,   1009.4,   3.0719,  34.4103,2,   -999.0,9,  34.4121,2,     49.6,2,   136.85,2,  -999.00,9,    42.92,2,     0.00,2,     2.99,2, -999.000,9, -999.000,9,  -999.00,9,   -999.0,9,   -999.0,9,-999.0000,9,   -999.0,  9,     7.61,4,   -999.0,  -999.00,9,  -999.00,9,  -999.00,9,  -999.00,9,   -999.0,-999.0000, -999,9, 1000,   3.0029,  27.4141,   -999.0,9
       RF99-04,  NONE,RF-0782,  1,      3,02-12808,2,19990425,0140, 34.9312, 140.2140, 1597,   1263.0,   2.5757,  34.4850,2,   -999.0,9,  34.4868,2,     50.5,2,   148.92,2,  -999.00,9,    43.25,2,     0.00,4,     3.00,2, -999.000,9, -999.000,9,  -999.00,9,   -999.0,9,   -999.0,9,-999.0000,9,   -999.0,  9,     7.63,2,   -999.0,  -999.00,9,  -999.00,9,  -999.00,9,  -999.00,9,   -999.0,-999.0000, -999,9, 1250,   2.4916,  27.5188,   -999.0,9
       RF99-04,  NONE,RF-0782,  1,      1,02-12807,2,19990425,0134, 34.9312, 140.2140, 1597,   1516.0,   2.2371,  34.5437,2,   -999.0,9,  34.5436,2,     63.2,2,   155.11,2,  -999.00,9,    42.64,2,     0.00,4,     2.95,2, -999.000,9, -999.000,9,  -999.00,9,   -999.0,9,   -999.0,9,-999.0000,9,   -999.0,  9,     7.67,2,   -999.0,  -999.00,9,  -999.00,9,  -999.00,9,  -999.00,9,   1504.0,-999.0000, -999,9, 1500,   2.1370,  27.5952,   -999.0,9
       RF99-04,  NONE,RF-0782,  1,      2,02-13589,2,19990425,0135, 34.9312, 140.2140, 1597,   1516.1,   2.2349,  34.5430,2,   -999.0,9,  34.5411,2,     62.9,2,   155.04,2,  -999.00,9,    42.67,2,     0.00,4,     2.95,2, -999.000,9, -999.000,9,  -999.00,9,   -999.0,9,   -999.0,9,-999.0000,9,   -999.0,  9,     7.67,2,   -999.0,  -999.00,9,  -999.00,9,  -999.00,9,  -999.00,9,   -999.0,-999.0000, -999,9, 1500,   2.1347,  27.5948,   -999.0,9
       RF99-04,  NONE,RF-0785,  1,     -9,      -9,5,19990425,1556, 34.1702, 140.9250, 4166,      0.0,  17.6287,  34.6265,2,   -999.0,9,-999.0000,9,    238.5,2,     3.05,2,  -999.00,9,     2.54,2,     0.21,2,     0.26,2, -999.000,9, -999.000,9,  -999.00,9,   -999.0,9,   -999.0,9,-999.0000,9,   -999.0,  9,     8.24,2,   -999.0,  -999.00,9,  -999.00,9,     0.50,2,     0.20,2,   -999.0,-999.0000, -999,9,    0,  17.6287,  25.0767,   -999.0,9
       RF99-04,  NONE,RF-0785,  1,     21,02-12827,2,19990425,1554, 34.1702, 140.9250, 4166,      9.4,  17.6279,  34.6232,2,   -999.0,9,-999.0000,9,    237.1,2,     3.12,2,  -999.00,9,     2.20,2,     0.21,2,     0.24,2, -999.000,9, -999.000,9,  -999.00,9,   -999.0,9,   -999.0,9,-999.0000,9,   -999.0,  9,     8.25,2,   -999.0,  -999.00,9,  -999.00,9,     0.54,2,     0.29,2,   -999.0,-999.0000, -999,9,    9,  17.6263,  25.0748,   -999.0,9
       RF99-04,  NONE,RF-0785,  1,     20,02-12826,2,19990425,1553, 34.1702, 140.9250, 4166,     25.0,  17.5072,  34.6285,2,   -999.0,9,-999.0000,9,    235.9,2,     3.17,2,  -999.00,9,     2.26,2,     0.21,2,     0.25,2, -999.000,9, -999.000,9,  -999.00,9,   -999.0,9,   -999.0,9,-999.0000,9,   -999.0,  9,     8.25,2,   -999.0,  -999.00,9,  -999.00,9,     0.57,2,     0.37,2,   -999.0,-999.0000, -999,9,   25,  17.5031,  25.1087,   -999.0,9
       RF99-04,  NONE,RF-0785,  1,     19,02-12825,2,19990425,1551, 34.1702, 140.9250, 4166,     49.2,  17.2268,  34.6374,2,   -999.0,9,-999.0000,9,    227.4,2,     4.09,2,  -999.00,9,     3.46,2,     0.38,2,     0.30,2, -999.000,9, -999.000,9,  -999.00,9,   -999.0,9,   -999.0,9,-999.0000,9,   -999.0,  9,     8.25,2,   -999.0,  -999.00,9,  -999.00,9,     0.45,2,     0.31,2,   -999.0,-999.0000, -999,9,   49,  17.2187,  25.1839,   -999.0,9
       RF99-04,  NONE,RF-0785,  1,     18,02-12824,2,19990425,1550, 34.1702, 140.9250, 4166,     74.8,  16.8356,  34.6444,2,   -999.0,9,-999.0000,9,    220.5,2,     5.58,2,  -999.00,9,     5.03,2,     0.46,2,     0.37,2, -999.000,9, -999.000,9,  -999.00,9,   -999.0,9,   -999.0,9,-999.0000,9,   -999.0,  9,     8.25,4,   -999.0,  -999.00,9,  -999.00,9,     0.39,2,     0.26,2,   -999.0,-999.0000, -999,9,   74,  16.8234,  25.2831,   -999.0,9
       RF99-04,  NONE,RF-0785,  1,     17,02-12814,2,19990425,1548, 34.1702, 140.9250, 4166,    100.0,  15.8633,  34.6283,2,   -999.0,9,-999.0000,9,    210.7,2,     9.01,2,  -999.00,9,     7.76,2,     0.17,2,     0.55,2, -999.000,9, -999.000,9,  -999.00,9,   -999.0,9,   -999.0,9,-999.0000,9,   -999.0,  9,     8.25,2,   -999.0,  -999.00,9,  -999.00,9,     0.13,2,     0.17,2,   -999.0,-999.0000, -999,9,   99,  15.8476,  25.4964,   -999.0,9
       RF99-04,  NONE,RF-0785,  1,     16,02-12832,2,19990425,1547, 34.1702, 140.9250, 4166,    124.9,  15.5338,  34.6253,2,   -999.0,9,-999.0000,9,    201.1,2,    10.64,2,  -999.00,9,     8.90,2,     0.09,2,     0.61,2, -999.000,9, -999.000,9,  -999.00,9,   -999.0,9,   -999.0,9,-999.0000,9,   -999.0,  9,     7.92,2,   -999.0,  -999.00,9,  -999.00,9,     0.07,2,     0.14,2,   -999.0,-999.0000, -999,9,  124,  15.5145,  25.5691,   -999.0,9
       RF99-04,  NONE,RF-0785,  1,     15,02-12833,2,19990425,1546, 34.1702, 140.9250, 4166,    149.8,  15.0614,  34.6053,2,   -999.0,9,-999.0000,9,    196.8,2,    12.28,2,  -999.00,9,    10.13,2,     0.05,2,     0.69,2, -999.000,9, -999.000,9,  -999.00,9,   -999.0,9,   -999.0,9,-999.0000,9,   -999.0,  9,     8.16,2,   -999.0,  -999.00,9,  -999.00,9,     0.04,2,     0.11,2,   -999.0,-999.0000, -999,9,  149,  15.0387,  25.6591,   -999.0,9
       RF99-04,  NONE,RF-0785,  1,     14,02-13578,2,19990425,1544, 34.1702, 140.9250, 4166,    201.2,  13.3972,  34.5190,2,   -999.0,9,-999.0000,9,    174.2,2,    21.29,2,  -999.00,9,    14.85,2,     0.02,2,     1.00,2, -999.000,9, -999.000,9,  -999.00,9,   -999.0,9,   -999.0,9,-999.0000,9,   -999.0,  9,     8.06,2,   -999.0,  -999.00,9,  -999.00,9,     0.02,2,     0.09,2,   -999.0,-999.0000, -999,9,  200,  13.3691,  25.9457,   -999.0,9
       RF99-04,  NONE,RF-0785,  1,     13,02-13590,2,19990425,1542, 34.1702, 140.9250, 4166,    250.8,  11.9900,  34.4474,2,   -999.0,9,-999.0000,9,    155.7,2,    30.10,2,  -999.00,9,    18.92,2,     0.02,2,     1.29,2, -999.000,9, -999.000,9,  -999.00,9,   -999.0,9,   -999.0,9,-999.0000,9,   -999.0,  9,     7.98,2,   -999.0,  -999.00,9,  -999.00,9,  -999.00,9,  -999.00,9,   -999.0,-999.0000, -999,9,  249,  11.9574,  26.1680,   -999.0,9
       RF99-04,  NONE,RF-0785,  1,     12,02-12821,2,19990425,1540, 34.1702, 140.9250, 4166,    301.4,  10.2419,  34.3925,2,   -999.0,9,-999.0000,9,    138.4,2,    42.04,2,  -999.00,9,    23.48,2,     0.01,2,     1.60,2, -999.000,9, -999.000,9,  -999.00,9,   -999.0,9,   -999.0,9,-999.0000,9,   -999.0,  9,     7.89,2,   -999.0,  -999.00,9,  -999.00,9,  -999.00,9,  -999.00,9,   -999.0,-999.0000, -999,9,  299,  10.2065,  26.4422,   -999.0,9
       RF99-04,  NONE,RF-0785,  1,     11,02-12811,2,19990425,1537, 34.1702, 140.9250, 4166,    402.9,   8.1382,  34.2918,2,   -999.0,9,-999.0000,9,    122.9,2,    57.92,2,  -999.00,9,    28.84,2,     0.01,2,     1.98,2, -999.000,9, -999.000,9,  -999.00,9,   -999.0,9,   -999.0,9,-999.0000,9,   -999.0,  9,     7.73,2,   -999.0,  -999.00,9,  -999.00,9,  -999.00,9,  -999.00,9,   -999.0,-999.0000, -999,9,  400,   8.0969,  26.7032,   -999.0,9
       RF99-04,  NONE,RF-0785,  1,     10,02-12820,2,19990425,1534, 34.1702, 140.9250, 4166,    501.8,   6.5283,  34.2818,2,   -999.0,9,-999.0000,9,     99.1,2,    74.84,2,  -999.00,9,    33.29,2,     0.01,2,     2.30,2, -999.000,9, -999.000,9,  -999.00,9,   -999.0,9,   -999.0,9,-999.0000,9,   -999.0,  9,     7.64,2,   -999.0,  -999.00,9,  -999.00,9,  -999.00,9,  -999.00,9,   -999.0,-999.0000, -999,9,  498,   6.4826,  26.9228,   -999.0,9
       RF99-04,  NONE,RF-0785,  1,      9,02-12810,2,19990425,1531, 34.1702, 140.9250, 4166,    603.4,   5.2132,  34.2879,2,   -999.0,9,-999.0000,9,     79.5,2,    92.57,2,  -999.00,9,    36.93,2,     0.01,2,     2.57,2, -999.000,9, -999.000,9,  -999.00,9,   -999.0,9,   -999.0,9,-999.0000,9,   -999.0,  9,     7.62,2,   -999.0,  -999.00,9,  -999.00,9,  -999.00,9,  -999.00,9,   -999.0,-999.0000, -999,9,  598,   5.1639,  27.0917,   -999.0,9
       RF99-04,  NONE,RF-0785,  1,      8,02-12819,2,19990425,1528, 34.1702, 140.9250, 4166,    704.1,   4.2880,  34.3203,2,   -999.0,9,-999.0000,9,     66.9,2,   108.52,2,  -999.00,9,    39.63,2,     0.01,2,     2.76,2, -999.000,9, -999.000,9,  -999.00,9,   -999.0,9,   -999.0,9,-999.0000,9,   -999.0,  9,     7.62,2,   -999.0,  -999.00,9,  -999.00,9,  -999.00,9,  -999.00,9,   -999.0,-999.0000, -999,9,  698,   4.2349,  27.2209,   -999.0,9
       RF99-04,  NONE,RF-0785,  1,      7,02-12815,2,19990425,1525, 34.1702, 140.9250, 4166,    804.7,   3.6346,  34.3451,2,   -999.0,9,-999.0000,9,     56.7,2,   121.38,2,  -999.00,9,    41.49,2,     0.01,2,     2.89,2, -999.000,9, -999.000,9,  -999.00,9,   -999.0,9,   -999.0,9,-999.0000,9,   -999.0,  9,     7.65,2,   -999.0,  -999.00,9,  -999.00,9,  -999.00,9,  -999.00,9,   -999.0,-999.0000, -999,9,  797,   3.5774,  27.3077,   -999.0,9
       RF99-04,  NONE,RF-0785,  1,      6,02-12818,4,19990425,1522, 34.1702, 140.9250, 4166,    905.6,   3.4198,  34.3980,2,   -999.0,9,-999.0000,9,   -999.0,4,  -999.00,4,  -999.00,9,  -999.00,4,  -999.00,4,  -999.00,4, -999.000,9, -999.000,9,  -999.00,9,   -999.0,9,   -999.0,9,-999.0000,9,   -999.0,  9,  -999.00,4,   -999.0,  -999.00,9,  -999.00,9,  -999.00,9,  -999.00,9,   -999.0,-999.0000, -999,9,  897,   3.3561,  27.3713,   -999.0,9
       RF99-04,  NONE,RF-0785,  1,      5,02-12809,2,19990425,1519, 34.1702, 140.9250, 4166,   1006.2,   3.1820,  34.4154,2,   -999.0,9,-999.0000,9,     58.4,2,   132.18,2,  -999.00,9,    42.03,2,     0.01,2,     2.93,2, -999.000,9, -999.000,9,  -999.00,9,   -999.0,9,   -999.0,9,-999.0000,9,   -999.0,  9,     7.64,2,   -999.0,  -999.00,9,  -999.00,9,  -999.00,9,  -999.00,9,   -999.0,-999.0000, -999,9,  997,   3.1124,  27.4081,   -999.0,9
       RF99-04,  NONE,RF-0785,  1,      4,02-12817,2,19990425,1514, 34.1702, 140.9250, 4166,   1261.0,   2.5457,  34.4987,2,   -999.0,9,-999.0000,9,     51.3,2,   148.65,2,  -999.00,9,    42.87,2,     0.01,2,     2.99,2, -999.000,9, -999.000,9,  -999.00,9,   -999.0,9,   -999.0,9,-999.0000,9,   -999.0,  9,     7.65,2,   -999.0,  -999.00,9,  -999.00,9,  -999.00,9,  -999.00,9,   -999.0,-999.0000, -999,9, 1248,   2.4620,  27.5323,   -999.0,9
       RF99-04,  NONE,RF-0785,  1,      3,02-12808,2,19990425,1508, 34.1702, 140.9250, 4166,   1516.3,   2.2860,  34.5414,2,   -999.0,9,-999.0000,9,     59.6,2,   153.96,2,  -999.00,9,    42.58,2,     0.01,2,     2.95,2, -999.000,9, -999.000,9,  -999.00,9,   -999.0,9,   -999.0,9,-999.0000,9,   -999.0,  9,     7.65,2,   -999.0,  -999.00,9,  -999.00,9,  -999.00,9,  -999.00,9,   -999.0,-999.0000, -999,9, 1500,   2.1852,  27.5894,   -999.0,9
       RF99-04,  NONE,RF-0785,  1,      2,02-13589,2,19990425,1503, 34.1702, 140.9250, 4166,   1770.2,   2.0606,  34.5789,2,   -999.0,9,-999.0000,9,     72.9,2,   157.26,2,  -999.00,9,    41.85,2,     0.01,2,     2.90,2, -999.000,9, -999.000,9,  -999.00,9,   -999.0,9,   -999.0,9,-999.0000,9,   -999.0,  9,     7.67,2,   -999.0,  -999.00,9,  -999.00,9,  -999.00,9,  -999.00,9,   -999.0,-999.0000, -999,9, 1750,   1.9424,  27.6388,   -999.0,9
       RF99-04,  NONE,RF-0785,  1,      1,02-12807,2,19990425,1457, 34.1702, 140.9250, 4166,   2030.2,   1.8811,  34.6105,2,   -999.0,9,-999.0000,9,   -999.0,9,   157.75,2,  -999.00,9,    41.11,2,     0.01,2,     2.82,2, -999.000,9, -999.000,9,  -999.00,9,   -999.0,9,   -999.0,9,-999.0000,9,   -999.0,  9,     7.67,2,   -999.0,  -999.00,9,  -999.00,9,  -999.00,9,  -999.00,9,   2013.0,-999.0000, -999,9, 2006,   1.7440,  27.6795,   -999.0,9