BOTTLE,20130510GEMDJMAYT
EXPOCODE,SECT_ID,STNNBR,CASTNO,SAMPNO,BTLNBR,BTLNBR_FLAG_W,DATE,TIME,LATITUDE,LONGITUDE,DEPTH,CTDPRS,CTDTMP,CTDSAL,CTDSAL_FLAG_W,CTDOXY,CTDOXY_FLAG_W,SALNTY,SALNTY_FLAG_W,OXYGEN,OXYGEN_FLAG_W,SILCAT,SILCAT_FLAG_W,NITRAT,NITRAT_FLAG_W,NO2+NO3,NO2+NO3_FLAG_W,NITRIT,NITRIT_FLAG_W,PHSPHT,PHSPHT_FLAG_W,CFC-11,CFC-11_FLAG_W,CFC-12,CFC-12_FLAG_W,DELC13,DELC13_FLAG_W,TCARBN,TCARBN_FLAG_W,ALKALI,ALKALI_FLAG_W,PH,PH_FLAG_W,PH_TMP,PH_SCALE,PH_NBS,PH_NBS_FLAG_W,C13ERR,TOTALP,TOTALP_FLAG_W,AMMONI,AMMONI_FLAG_W,CHLORA,CHLORA_FLAG_W,PPHYTN,PPHYTN_FLAG_W,REVPRS,REVTMP,DEPTH_,DEPTH_FLAG,CTDDEP,THETA,SIGTHT,DOC,DOC_FLAG_W
,,,,,,,GMT,GMT,,,METER,DBAR,ITS-90,PSS-78,,UMOL/KG,,PSS-78,,UMOL/KG,,UMOL/KG,,UMOL/KG,,UMOL/KG,,UMOL/KG,,UMOL/KG,,PMOL/KG,,PMOL/KG,,/MILLE,,UMOL/KG,,UMOL/KG,,25_DEG_C,,DEG_C,,,,/MILLE,UMOL/KG,,UMOL/KG,,UG/L,,UG/L,,DBAR,ITS-90,METERS,,METERS,DEG_C,,UMOL/L,
       RF99-04,  165E,RF-0803,  1,     -9,      -9,5,19990515,1116, 48.9790, 165.0540, 5504,      0.0,   2.5715,  33.0762,2,   -999.0,9,-999.0000,9,    324.1,2,    47.67,2,  -999.00,9,    25.56,2,     0.23,2,     1.98,2, -999.000,9, -999.000,9,  -999.00,9,   -999.0,9,   -999.0,9,-999.0000,9,   -999.0,  9,  -999.00,9,   -999.0,  -999.00,9,  -999.00,9,  -999.00,9,  -999.00,9,   -999.0,-999.0000, -999,9,    0,   2.5715,  26.3858,   -999.0,9
       RF99-04,  165E,RF-0803,  1,     24, 02-9150,2,19990515,1114, 48.9790, 165.0540, 5504,     11.4,   2.5728,  33.0756,2,   -999.0,9,  33.0772,2,    325.3,2,    47.72,2,  -999.00,9,    25.63,2,     0.23,2,     1.98,2, -999.000,9, -999.000,9,  -999.00,9,   -999.0,9,   -999.0,9,-999.0000,9,   -999.0,  9,  -999.00,9,   -999.0,  -999.00,9,  -999.00,9,  -999.00,9,  -999.00,9,   -999.0,-999.0000, -999,9,   11,   2.5722,  26.3852,   -999.0,9
       RF99-04,  165E,RF-0803,  1,     23,02-12829,2,19990515,1113, 48.9790, 165.0540, 5504,     27.8,   2.5694,  33.0761,2,   -999.0,9,  33.0755,2,    322.8,2,    47.55,2,  -999.00,9,    25.47,2,     0.23,2,     1.98,2, -999.000,9, -999.000,9,  -999.00,9,   -999.0,9,   -999.0,9,-999.0000,9,   -999.0,  9,  -999.00,9,   -999.0,  -999.00,9,  -999.00,9,  -999.00,9,  -999.00,9,   -999.0,-999.0000, -999,9,   28,   2.5679,  26.3860,   -999.0,9
       RF99-04,  165E,RF-0803,  1,     22,02-12828,2,19990515,1112, 48.9790, 165.0540, 5504,     48.9,   1.9607,  33.1213,2,   -999.0,9,  33.2353,4,    324.7,2,    49.90,2,  -999.00,9,    26.93,2,     0.23,2,     2.08,2, -999.000,9, -999.000,9,  -999.00,9,   -999.0,9,   -999.0,9,-999.0000,9,   -999.0,  9,  -999.00,9,   -999.0,  -999.00,9,  -999.00,9,  -999.00,9,  -999.00,9,   -999.0,-999.0000, -999,9,   49,   1.9583,  26.4697,   -999.0,9
       RF99-04,  165E,RF-0803,  1,     21,02-12827,2,19990515,1111, 48.9790, 165.0540, 5504,     77.5,   1.4969,  33.1796,2,   -999.0,9,  33.1735,2,    305.5,2,    52.87,2,  -999.00,9,    28.42,2,     0.27,2,     2.15,2, -999.000,9, -999.000,9,  -999.00,9,   -999.0,9,   -999.0,9,-999.0000,9,   -999.0,  9,  -999.00,9,   -999.0,  -999.00,9,  -999.00,9,  -999.00,9,  -999.00,9,   -999.0,-999.0000, -999,9,   77,   1.4933,  26.5496,   -999.0,9
       RF99-04,  165E,RF-0803,  1,     20,02-12826,2,19990515,1110, 48.9790, 165.0540, 5504,    101.9,   1.8847,  33.3107,2,   -999.0,9,  33.3702,4,    219.4,2,    64.56,2,  -999.00,9,    32.91,2,     0.13,2,     2.44,2, -999.000,9, -999.000,9,  -999.00,9,   -999.0,9,   -999.0,9,-999.0000,9,   -999.0,  9,  -999.00,9,   -999.0,  -999.00,9,  -999.00,9,  -999.00,9,  -999.00,9,   -999.0,-999.0000, -999,9,  101,   1.8796,  26.6273,   -999.0,9
       RF99-04,  165E,RF-0803,  1,     19,02-12825,2,19990515,1109, 48.9790, 165.0540, 5504,    127.0,   3.0486,  33.6964,2,   -999.0,9,-999.0000,9,     95.8,2,    84.10,2,  -999.00,9,    40.06,2,     0.01,2,     2.91,2, -999.000,9, -999.000,9,  -999.00,9,   -999.0,9,   -999.0,9,-999.0000,9,   -999.0,  9,  -999.00,9,   -999.0,  -999.00,9,  -999.00,9,  -999.00,9,  -999.00,9,   -999.0,-999.0000, -999,9,  126,   3.0410,  26.8408,   -999.0,9
       RF99-04,  165E,RF-0803,  1,     18,02-12830,2,19990515,1108, 48.9790, 165.0540, 5504,    151.8,   3.3171,  33.8273,2,   -999.0,9,  33.9146,4,     50.0,2,    94.69,2,  -999.00,9,    43.09,2,     0.01,2,     3.12,2, -999.000,9, -999.000,9,  -999.00,9,   -999.0,9,   -999.0,9,-999.0000,9,   -999.0,  9,  -999.00,9,   -999.0,  -999.00,9,  -999.00,9,  -999.00,9,  -999.00,9,   -999.0,-999.0000, -999,9,  150,   3.3076,  26.9208,   -999.0,9
       RF99-04,  165E,RF-0803,  1,     17,02-13591,2,19990515,1106, 48.9790, 165.0540, 5504,    204.4,   3.3945,  33.9437,2,   -999.0,9,  33.9507,4,     29.1,2,   103.28,2,  -999.00,9,    43.92,2,     0.01,2,     3.17,2, -999.000,9, -999.000,9,  -999.00,9,   -999.0,9,   -999.0,9,-999.0000,9,   -999.0,  9,  -999.00,9,   -999.0,  -999.00,9,  -999.00,9,  -999.00,9,  -999.00,9,   -999.0,-999.0000, -999,9,  203,   3.3814,  27.0067,   -999.0,9
       RF99-04,  165E,RF-0803,  1,     16,02-13588,2,19990515,1104, 48.9790, 165.0540, 5504,    254.2,   3.4048,  34.0149,2,   -999.0,9,-999.0000,9,     22.7,2,   109.36,2,  -999.00,9,    44.80,2,     0.01,2,     3.20,2, -999.000,9, -999.000,9,  -999.00,9,   -999.0,9,   -999.0,9,-999.0000,9,   -999.0,  9,  -999.00,9,   -999.0,  -999.00,9,  -999.00,9,  -999.00,9,  -999.00,9,   -999.0,-999.0000, -999,9,  252,   3.3885,  27.0628,   -999.0,9
       RF99-04,  165E,RF-0803,  1,     15,02-10155,2,19990515,1102, 48.9790, 165.0540, 5504,    303.2,   3.4117,  34.0681,2,   -999.0,9,  34.1338,4,     19.8,2,   111.51,2,  -999.00,9,    44.74,2,     0.00,2,     3.22,2, -999.000,9, -999.000,9,  -999.00,9,   -999.0,9,   -999.0,9,-999.0000,9,   -999.0,  9,  -999.00,9,   -999.0,  -999.00,9,  -999.00,9,  -999.00,9,  -999.00,9,   -999.0,-999.0000, -999,9,  300,   3.3921,  27.1048,   -999.0,9
       RF99-04,  165E,RF-0803,  1,     14,02-13579,3,19990515,1100, 48.9790, 165.0540, 5504,    404.4,   3.3475,  34.1595,2,   -999.0,9,  34.1664,4,     19.9,2,   119.58,2,  -999.00,9,    44.32,2,     0.01,2,     3.17,2, -999.000,9, -999.000,9,  -999.00,9,   -999.0,9,   -999.0,9,-999.0000,9,   -999.0,  9,  -999.00,9,   -999.0,  -999.00,9,  -999.00,9,  -999.00,9,  -999.00,9,   -999.0,-999.0000, -999,9,  401,   3.3211,  27.1844,   -999.0,9
       RF99-04,  165E,RF-0803,  1,     13,02-13590,2,19990515,1057, 48.9790, 165.0540, 5504,    507.2,   3.2231,  34.2360,2,   -999.0,9,-999.0000,9,     19.4,2,   127.03,2,  -999.00,9,    44.01,2,     0.01,2,     3.15,2, -999.000,9, -999.000,9,  -999.00,9,   -999.0,9,   -999.0,9,-999.0000,9,   -999.0,  9,  -999.00,9,   -999.0,  -999.00,9,  -999.00,9,  -999.00,9,  -999.00,9,   -999.0,-999.0000, -999,9,  502,   3.1900,  27.2578,   -999.0,9
       RF99-04,  165E,RF-0803,  1,     12,02-12821,2,19990515,1054, 48.9790, 165.0540, 5504,    607.5,   3.0514,  34.2956,2,   -999.0,9,  34.2927,2,     18.8,2,   133.82,2,  -999.00,9,    43.58,2,     0.01,2,     3.15,2, -999.000,9, -999.000,9,  -999.00,9,   -999.0,9,   -999.0,9,-999.0000,9,   -999.0,  9,  -999.00,9,   -999.0,  -999.00,9,  -999.00,9,  -999.00,9,  -999.00,9,   -999.0,-999.0000, -999,9,  602,   3.0120,  27.3217,   -999.0,9
       RF99-04,  165E,RF-0803,  1,     11,02-12811,2,19990515,1050, 48.9790, 165.0540, 5504,    809.0,   2.7586,  34.3826,2,   -999.0,9,  34.3842,2,     42.7,4,   145.01,2,  -999.00,9,    44.07,2,     0.00,2,     3.16,2, -999.000,9, -999.000,9,  -999.00,9,   -999.0,9,   -999.0,9,-999.0000,9,   -999.0,  9,  -999.00,9,   -999.0,  -999.00,9,  -999.00,9,  -999.00,9,  -999.00,9,   -999.0,-999.0000, -999,9,  801,   2.7066,  27.4184,   -999.0,9
       RF99-04,  165E,RF-0803,  1,     10,02-12820,2,19990515,1045, 48.9790, 165.0540, 5504,   1011.8,   2.5107,  34.4452,2,   -999.0,9,  34.4461,2,     23.4,2,   152.81,2,  -999.00,9,    43.84,2,     0.00,2,     3.11,2, -999.000,9, -999.000,9,  -999.00,9,   -999.0,9,   -999.0,9,-999.0000,9,   -999.0,  9,  -999.00,9,   -999.0,  -999.00,9,  -999.00,9,  -999.00,9,  -999.00,9,   -999.0,-999.0000, -999,9, 1001,   2.4459,  27.4909,   -999.0,9
       RF99-04,  165E,RF-0803,  1,      9,02-12810,3,19990515,1039, 48.9790, 165.0540, 5504,   1265.3,   2.2337,  34.5114,2,   -999.0,9,-999.0000,9,     36.2,2,   159.22,2,  -999.00,9,    42.46,2,     0.00,2,     3.07,2, -999.000,9, -999.000,9,  -999.00,9,   -999.0,9,   -999.0,9,-999.0000,9,   -999.0,  9,  -999.00,9,   -999.0,  -999.00,9,  -999.00,9,  -999.00,9,  -999.00,9,   -999.0,-999.0000, -999,9, 1251,   2.1527,  27.5680,   -999.0,9
       RF99-04,  165E,RF-0803,  1,      8,02-12819,2,19990515,1034, 48.9790, 165.0540, 5504,   1517.1,   2.0502,  34.5550,2,   -999.0,9,  34.7323,4,     49.3,2,   163.68,2,  -999.00,9,    42.44,2,     0.01,2,     3.01,2, -999.000,9, -999.000,9,  -999.00,9,   -999.0,9,   -999.0,9,-999.0000,9,   -999.0,  9,  -999.00,9,   -999.0,  -999.00,9,  -999.00,9,  -999.00,9,  -999.00,9,   -999.0,-999.0000, -999,9, 1499,   1.9521,  27.6189,   -999.0,9
       RF99-04,  165E,RF-0803,  1,      7,02-12815,2,19990515,1025, 48.9790, 165.0540, 5504,   2024.7,   1.7780,  34.6158,2,   -999.0,9,  34.6131,2,     78.2,2,   163.87,2,  -999.00,9,    39.94,2,     0.01,2,     2.85,2, -999.000,9, -999.000,9,  -999.00,9,   -999.0,9,   -999.0,9,-999.0000,9,   -999.0,  9,  -999.00,9,   -999.0,  -999.00,9,  -999.00,9,  -999.00,9,  -999.00,9,   -999.0,-999.0000, -999,9, 1998,   1.6430,  27.6913,   -999.0,9
       RF99-04,  165E,RF-0803,  1,      6,02-12818,2,19990515,1017, 48.9790, 165.0540, 5504,   2532.3,   1.6173,  34.6476,2,   -999.0,9,-999.0000,9,    104.4,2,   157.39,2,  -999.00,9,    38.60,2,     0.00,2,     2.73,2, -999.000,9, -999.000,9,  -999.00,9,   -999.0,9,   -999.0,9,-999.0000,9,   -999.0,  9,  -999.00,9,   -999.0,  -999.00,9,  -999.00,9,  -999.00,9,  -999.00,9,   -999.0,-999.0000, -999,9, 2496,   1.4413,  27.7316,   -999.0,9
       RF99-04,  165E,RF-0803,  1,      5,02-12809,2,19990515,1009, 48.9790, 165.0540, 5504,   3042.2,   1.5145,  34.6676,2,   -999.0,9,  34.6680,2,    124.0,2,   151.91,2,  -999.00,9,    37.47,2,     0.00,2,     2.60,2, -999.000,9, -999.000,9,  -999.00,9,   -999.0,9,   -999.0,9,-999.0000,9,   -999.0,  9,  -999.00,9,   -999.0,  -999.00,9,  -999.00,9,  -999.00,9,  -999.00,9,   -999.0,-999.0000, -999,9, 2995,   1.2934,  27.7582,   -999.0,9
       RF99-04,  165E,RF-0803,  1,      4,02-12817,2,19990515,1000, 48.9790, 165.0540, 5504,   3553.3,   1.4681,  34.6782,2,   -999.0,9,-999.0000,9,    136.1,2,   149.25,2,  -999.00,9,    36.34,2,     0.00,2,     2.55,2, -999.000,9, -999.000,9,  -999.00,9,   -999.0,9,   -999.0,9,-999.0000,9,   -999.0,  9,  -999.00,9,   -999.0,  -999.00,9,  -999.00,9,  -999.00,9,  -999.00,9,   -999.0,-999.0000, -999,9, 3494,   1.1973,  27.7734,   -999.0,9
       RF99-04,  165E,RF-0803,  1,      3,02-12808,2,19990515,0952, 48.9790, 165.0540, 5504,   4064.5,   1.4653,  34.6831,2,   -999.0,9,  34.6774,4,    144.0,2,   146.92,2,  -999.00,9,    36.28,2,     0.00,2,     2.51,2, -999.000,9, -999.000,9,  -999.00,9,   -999.0,9,   -999.0,9,-999.0000,9,   -999.0,  9,  -999.00,9,   -999.0,  -999.00,9,  -999.00,9,  -999.00,9,  -999.00,9,   -999.0,-999.0000, -999,9, 3992,   1.1403,  27.7812,   -999.0,9
       RF99-04,  165E,RF-0803,  1,      2,02-13589,4,19990515,0936, 48.9790, 165.0540, 5504,   5091.7,   1.5236,  34.6892,2,   -999.0,9,-999.0000,9,   -999.0,9,  -999.00,9,  -999.00,9,  -999.00,9,  -999.00,9,  -999.00,9, -999.000,9, -999.000,9,  -999.00,9,   -999.0,9,   -999.0,9,-999.0000,9,   -999.0,  9,  -999.00,9,   -999.0,  -999.00,9,  -999.00,9,  -999.00,9,  -999.00,9,   -999.0,-999.0000, -999,9, 4989,   1.0774,  27.7904,   -999.0,9
       RF99-04,  165E,RF-0803,  1,      1,02-12807,2,19990515,0929, 48.9790, 165.0540, 5504,   5504.5,   1.5752,  34.6890,2,   -999.0,9,  34.8548,4,   -999.0,9,   147.05,2,  -999.00,9,    35.69,2,     0.00,2,     2.44,2, -999.000,9, -999.000,9,  -999.00,9,   -999.0,9,   -999.0,9,-999.0000,9,   -999.0,  9,  -999.00,9,   -999.0,  -999.00,9,  -999.00,9,  -999.00,9,  -999.00,9,   5520.0,-999.0000, -999,9, 5389,   1.0753,  27.7904,   -999.0,9