BOTTLE,20130510GEMDJMAYT
EXPOCODE,SECT_ID,STNNBR,CASTNO,SAMPNO,BTLNBR,BTLNBR_FLAG_W,DATE,TIME,LATITUDE,LONGITUDE,DEPTH,CTDPRS,CTDTMP,CTDSAL,CTDSAL_FLAG_W,CTDOXY,CTDOXY_FLAG_W,SALNTY,SALNTY_FLAG_W,OXYGEN,OXYGEN_FLAG_W,SILCAT,SILCAT_FLAG_W,NITRAT,NITRAT_FLAG_W,NO2+NO3,NO2+NO3_FLAG_W,NITRIT,NITRIT_FLAG_W,PHSPHT,PHSPHT_FLAG_W,CFC-11,CFC-11_FLAG_W,CFC-12,CFC-12_FLAG_W,DELC13,DELC13_FLAG_W,TCARBN,TCARBN_FLAG_W,ALKALI,ALKALI_FLAG_W,PH,PH_FLAG_W,PH_TMP,PH_SCALE,PH_NBS,PH_NBS_FLAG_W,C13ERR,TOTALP,TOTALP_FLAG_W,AMMONI,AMMONI_FLAG_W,CHLORA,CHLORA_FLAG_W,PPHYTN,PPHYTN_FLAG_W,REVPRS,REVTMP,DEPTH_,DEPTH_FLAG,CTDDEP,THETA,SIGTHT,DOC,DOC_FLAG_W
,,,,,,,GMT,GMT,,,METER,DBAR,ITS-90,PSS-78,,UMOL/KG,,PSS-78,,UMOL/KG,,UMOL/KG,,UMOL/KG,,UMOL/KG,,UMOL/KG,,UMOL/KG,,PMOL/KG,,PMOL/KG,,/MILLE,,UMOL/KG,,UMOL/KG,,25_DEG_C,,DEG_C,,,,/MILLE,UMOL/KG,,UMOL/KG,,UG/L,,UG/L,,DBAR,ITS-90,METERS,,METERS,DEG_C,,UMOL/L,
       RF99-04,  142E,RF-0788,  1,     -9,      -9,5,19990426,0957, 32.0130, 141.9898, 7727,      0.0,  19.6178,  34.7844,2,   -999.0,9,-999.0000,9,   -999.0,4,     0.29,2,  -999.00,9,     0.07,2,     0.01,2,     0.08,2, -999.000,9, -999.000,9,  -999.00,9,   -999.0,9,   -999.0,9,-999.0000,9,   -999.0,  9,  -999.00,9,   -999.0,  -999.00,9,  -999.00,9,  -999.00,9,  -999.00,9,   -999.0,-999.0000, -999,9,    0,  19.6178,  24.6973,   -999.0,9
       RF99-04,  142E,RF-0788,  1,     -9,      -9,4,19990426,0953, 32.0130, 141.9898, 7727,     11.4,  19.5088,  34.7833,2,   -999.0,9,-999.0000,9,   -999.0,9,  -999.00,9,  -999.00,9,  -999.00,9,  -999.00,9,  -999.00,9, -999.000,9, -999.000,9,  -999.00,9,   -999.0,9,   -999.0,9,-999.0000,9,   -999.0,  9,  -999.00,9,   -999.0,  -999.00,9,  -999.00,9,  -999.00,9,  -999.00,9,   -999.0,-999.0000, -999,9,   11,  19.5067,  24.7253,   -999.0,9
       RF99-04,  142E,RF-0788,  1,     21,02-12827,2,19990426,0947, 32.0130, 141.9898, 7727,     26.7,  19.4763,  34.7854,2,   -999.0,9,  34.7904,2,    232.6,2,     0.23,2,  -999.00,9,     0.07,2,     0.01,2,     0.07,2, -999.000,9, -999.000,9,  -999.00,9,   -999.0,9,   -999.0,9,-999.0000,9,   -999.0,  9,  -999.00,9,   -999.0,  -999.00,9,  -999.00,9,  -999.00,9,  -999.00,9,   -999.0,-999.0000, -999,9,   27,  19.4715,  24.7361,   -999.0,9
       RF99-04,  142E,RF-0788,  1,     19,02-12825,2,19990426,0945, 32.0130, 141.9898, 7727,     53.4,  19.3596,  34.7936,2,   -999.0,9,  34.8010,2,    227.5,2,     0.52,2,  -999.00,9,     0.40,2,     0.12,2,     0.10,2, -999.000,9, -999.000,9,  -999.00,9,   -999.0,9,   -999.0,9,-999.0000,9,   -999.0,  9,  -999.00,9,   -999.0,  -999.00,9,  -999.00,9,  -999.00,9,  -999.00,9,   -999.0,-999.0000, -999,9,   53,  19.3500,  24.7737,   -999.0,9
       RF99-04,  142E,RF-0788,  1,     18,02-12824,2,19990426,0943, 32.0130, 141.9898, 7727,     76.2,  19.2271,  34.7954,2,   -999.0,9,-999.0000,9,    227.4,2,     0.64,2,  -999.00,9,     0.58,2,     0.23,2,     0.10,2, -999.000,9, -999.000,9,  -999.00,9,   -999.0,9,   -999.0,9,-999.0000,9,   -999.0,  9,  -999.00,9,   -999.0,  -999.00,9,  -999.00,9,  -999.00,9,  -999.00,9,   -999.0,-999.0000, -999,9,   76,  19.2135,  24.8102,   -999.0,9
       RF99-04,  142E,RF-0788,  1,     17,02-12814,2,19990426,0942, 32.0130, 141.9898, 7727,    103.4,  19.0429,  34.7989,2,   -999.0,9,  34.8069,2,    225.1,2,     1.05,2,  -999.00,9,     1.01,2,     0.46,2,     0.13,2, -999.000,9, -999.000,9,  -999.00,9,   -999.0,9,   -999.0,9,-999.0000,9,   -999.0,  9,  -999.00,9,   -999.0,  -999.00,9,  -999.00,9,  -999.00,9,  -999.00,9,   -999.0,-999.0000, -999,9,  103,  19.0245,  24.8612,   -999.0,9
       RF99-04,  142E,RF-0788,  1,     16,02-12832,2,19990426,0940, 32.0130, 141.9898, 7727,    127.2,  18.9822,  34.7965,2,   -999.0,9,-999.0000,9,    222.3,2,     1.21,2,  -999.00,9,     1.23,2,     0.32,2,     0.14,2, -999.000,9, -999.000,9,  -999.00,9,   -999.0,9,   -999.0,9,-999.0000,9,   -999.0,  9,  -999.00,9,   -999.0,  -999.00,9,  -999.00,9,  -999.00,9,  -999.00,9,   -999.0,-999.0000, -999,9,  126,  18.9596,  24.8759,   -999.0,9
       RF99-04,  142E,RF-0788,  1,     15,02-12833,2,19990426,0938, 32.0130, 141.9898, 7727,    153.1,  18.9608,  34.7960,2,   -999.0,9,  34.8028,2,    224.9,2,     1.44,2,  -999.00,9,     1.34,2,     0.07,2,     0.15,2, -999.000,9, -999.000,9,  -999.00,9,   -999.0,9,   -999.0,9,-999.0000,9,   -999.0,  9,  -999.00,9,   -999.0,  -999.00,9,  -999.00,9,  -999.00,9,  -999.00,9,   -999.0,-999.0000, -999,9,  152,  18.9336,  24.8821,   -999.0,9
       RF99-04,  142E,RF-0788,  1,     14,02-13578,2,19990426,0935, 32.0130, 141.9898, 7727,    202.3,  18.6072,  34.7927,2,   -999.0,9,  34.7991,2,    210.3,2,     2.20,2,  -999.00,9,     2.90,2,     0.04,2,     0.22,2, -999.000,9, -999.000,9,  -999.00,9,   -999.0,9,   -999.0,9,-999.0000,9,   -999.0,  9,  -999.00,9,   -999.0,  -999.00,9,  -999.00,9,  -999.00,9,  -999.00,9,   -999.0,-999.0000, -999,9,  201,  18.5717,  24.9711,   -999.0,9
       RF99-04,  142E,RF-0788,  1,     13,02-13590,2,19990426,0933, 32.0130, 141.9898, 7727,    254.6,  18.0326,  34.8007,2,   -999.0,9,  34.8012,2,    196.8,2,     3.30,2,  -999.00,9,     4.34,2,     0.02,2,     0.30,2, -999.000,9, -999.000,9,  -999.00,9,   -999.0,9,   -999.0,9,-999.0000,9,   -999.0,  9,  -999.00,9,   -999.0,  -999.00,9,  -999.00,9,  -999.00,9,  -999.00,9,   -999.0,-999.0000, -999,9,  253,  17.9888,  25.1222,   -999.0,9
       RF99-04,  142E,RF-0788,  1,     12,02-12821,2,19990426,0931, 32.0130, 141.9898, 7727,    304.1,  17.4648,  34.7862,2,   -999.0,9,  34.7926,2,    205.3,2,     3.33,2,  -999.00,9,     4.62,2,     0.03,2,     0.32,2, -999.000,9, -999.000,9,  -999.00,9,   -999.0,9,   -999.0,9,-999.0000,9,   -999.0,  9,  -999.00,9,   -999.0,  -999.00,9,  -999.00,9,  -999.00,9,  -999.00,9,   -999.0,-999.0000, -999,9,  302,  17.4136,  25.2512,   -999.0,9
       RF99-04,  142E,RF-0788,  1,     11,02-12811,2,19990426,0928, 32.0130, 141.9898, 7727,    402.7,  16.1058,  34.7117,2,   -999.0,9,-999.0000,4,    193.0,2,     6.97,2,  -999.00,9,     8.01,2,     0.02,2,     0.53,2, -999.000,9, -999.000,9,  -999.00,9,   -999.0,9,   -999.0,9,-999.0000,9,   -999.0,  9,  -999.00,9,   -999.0,  -999.00,9,  -999.00,9,  -999.00,9,  -999.00,9,   -999.0,-999.0000, -999,9,  400,  16.0415,  25.5164,   -999.0,9
       RF99-04,  142E,RF-0788,  1,     10,02-12820,2,19990426,0925, 32.0130, 141.9898, 7727,    503.9,  13.9757,  34.5638,2,   -999.0,9,  34.5549,4,    189.0,2,    12.09,2,  -999.00,9,    11.44,2,     0.01,2,     0.77,2, -999.000,9, -999.000,9,  -999.00,9,   -999.0,9,   -999.0,9,-999.0000,9,   -999.0,  9,  -999.00,9,   -999.0,  -999.00,9,  -999.00,9,  -999.00,9,  -999.00,9,   -999.0,-999.0000, -999,9,  500,  13.9025,  25.8704,   -999.0,9
       RF99-04,  142E,RF-0788,  1,      9,02-12810,2,19990426,0922, 32.0130, 141.9898, 7727,    604.0,  11.0177,  34.3438,2,   -999.0,9,  34.3412,2,    169.8,2,    25.52,2,  -999.00,9,    18.64,2,     0.01,2,     1.26,2, -999.000,9, -999.000,9,  -999.00,9,   -999.0,9,   -999.0,9,-999.0000,9,   -999.0,  9,  -999.00,9,   -999.0,  -999.00,9,  -999.00,9,  -999.00,9,  -999.00,9,   -999.0,-999.0000, -999,9,  599,  10.9423,  26.2749,   -999.0,9
       RF99-04,  142E,RF-0788,  1,      8,02-12819,2,19990426,0919, 32.0130, 141.9898, 7727,    708.2,   8.2928,  34.1636,2,   -999.0,9,-999.0000,9,    151.5,2,    44.92,2,  -999.00,9,    25.63,2,     0.01,2,     1.76,2, -999.000,9, -999.000,9,  -999.00,9,   -999.0,9,   -999.0,9,-999.0000,9,   -999.0,  9,  -999.00,9,   -999.0,  -999.00,9,  -999.00,9,  -999.00,9,  -999.00,9,   -999.0,-999.0000, -999,9,  702,   8.2181,  26.5843,   -999.0,9
       RF99-04,  142E,RF-0788,  1,      7,02-12815,2,19990426,0916, 32.0130, 141.9898, 7727,    810.4,   6.3620,  34.1468,2,   -999.0,9,  34.1485,2,    116.2,2,    66.63,2,  -999.00,9,    32.22,2,     0.00,2,     2.67,2, -999.000,9, -999.000,9,  -999.00,9,   -999.0,9,   -999.0,9,-999.0000,9,   -999.0,  9,  -999.00,9,   -999.0,  -999.00,9,  -999.00,9,  -999.00,9,  -999.00,9,   -999.0,-999.0000, -999,9,  803,   6.2877,  26.8417,   -999.0,9
       RF99-04,  142E,RF-0788,  1,      6,02-12818,2,19990426,0913, 32.0130, 141.9898, 7727,    907.8,   5.3549,  34.1922,2,   -999.0,9,-999.0000,9,    178.9,4,    20.02,4,  -999.00,9,    12.77,4,     0.01,4,     0.86,4, -999.000,9, -999.000,9,  -999.00,9,   -999.0,9,   -999.0,9,-999.0000,9,   -999.0,  9,  -999.00,9,   -999.0,  -999.00,9,  -999.00,9,  -999.00,9,  -999.00,9,   -999.0,-999.0000, -999,9,  900,   5.2779,  27.0025,   -999.0,9
       RF99-04,  142E,RF-0788,  1,      5,02-12809,2,19990426,0909, 32.0130, 141.9898, 7727,   1009.3,   4.5297,  34.3002,2,   -999.0,9,  34.3481,4,     69.7,2,   103.11,2,  -999.00,9,    39.37,2,     0.00,2,     2.76,2, -999.000,9, -999.000,9,  -999.00,9,   -999.0,9,   -999.0,9,-999.0000,9,   -999.0,  9,  -999.00,9,   -999.0,  -999.00,9,  -999.00,9,  -999.00,9,  -999.00,9,   -999.0,-999.0000, -999,9, 1000,   4.4495,  27.1819,   -999.0,9
       RF99-04,  142E,RF-0788,  1,      4,02-12817,2,19990426,0904, 32.0130, 141.9898, 7727,   1263.2,   3.2340,  34.3884,2,   -999.0,9,  34.3866,2,     42.5,2,   131.53,2,  -999.00,9,    43.12,2,     0.00,2,     3.00,2, -999.000,9, -999.000,9,  -999.00,9,   -999.0,9,   -999.0,9,-999.0000,9,   -999.0,  9,  -999.00,9,   -999.0,  -999.00,9,  -999.00,9,  -999.00,9,  -999.00,9,   -999.0,-999.0000, -999,9, 1251,   3.1436,  27.3836,   -999.0,9
       RF99-04,  142E,RF-0788,  1,      3,02-12808,2,19990426,0858, 32.0130, 141.9898, 7727,   1515.8,   2.6740,  34.4800,2,   -999.0,9,  34.4760,2,     46.8,2,   146.95,2,  -999.00,9,    43.49,2,     0.00,2,     3.02,2, -999.000,9, -999.000,9,  -999.00,9,   -999.0,9,   -999.0,9,-999.0000,9,   -999.0,  9,  -999.00,9,   -999.0,  -999.00,9,  -999.00,9,  -999.00,9,  -999.00,9,   -999.0,-999.0000, -999,9, 1500,   2.5688,  27.5082,   -999.0,9
       RF99-04,  142E,RF-0788,  1,      2,02-13589,2,19990426,0853, 32.0130, 141.9898, 7727,   1768.3,   2.3169,  34.5460,2,   -999.0,9,  34.5427,2,     58.5,2,   153.23,2,  -999.00,9,    42.98,2,     0.00,2,     2.96,2, -999.000,9, -999.000,9,  -999.00,9,   -999.0,9,   -999.0,9,-999.0000,9,   -999.0,  9,  -999.00,9,   -999.0,  -999.00,9,  -999.00,9,  -999.00,9,  -999.00,9,   -999.0,-999.0000, -999,9, 1749,   2.1955,  27.5922,   -999.0,9
       RF99-04,  142E,RF-0788,  1,      1,02-12807,2,19990426,0847, 32.0130, 141.9898, 7727,   2036.3,   2.0430,  34.5913,2,   -999.0,9,  34.5889,2,   -999.0,9,   155.57,2,  -999.00,9,    41.95,2,     0.00,2,     2.88,2, -999.000,9, -999.000,9,  -999.00,9,   -999.0,9,   -999.0,9,-999.0000,9,   -999.0,  9,  -999.00,9,   -999.0,  -999.00,9,  -999.00,9,  -999.00,9,  -999.00,9,   2021.0,-999.0000, -999,9, 2012,   1.9030,  27.6519,   -999.0,9