BOTTLE,20130510GEMDJMAYT
EXPOCODE,SECT_ID,STNNBR,CASTNO,SAMPNO,BTLNBR,BTLNBR_FLAG_W,DATE,TIME,LATITUDE,LONGITUDE,DEPTH,CTDPRS,CTDTMP,CTDSAL,CTDSAL_FLAG_W,CTDOXY,CTDOXY_FLAG_W,SALNTY,SALNTY_FLAG_W,OXYGEN,OXYGEN_FLAG_W,SILCAT,SILCAT_FLAG_W,NITRAT,NITRAT_FLAG_W,NO2+NO3,NO2+NO3_FLAG_W,NITRIT,NITRIT_FLAG_W,PHSPHT,PHSPHT_FLAG_W,CFC-11,CFC-11_FLAG_W,CFC-12,CFC-12_FLAG_W,DELC13,DELC13_FLAG_W,TCARBN,TCARBN_FLAG_W,ALKALI,ALKALI_FLAG_W,PH,PH_FLAG_W,PH_TMP,PH_SCALE,PH_NBS,PH_NBS_FLAG_W,C13ERR,TOTALP,TOTALP_FLAG_W,AMMONI,AMMONI_FLAG_W,CHLORA,CHLORA_FLAG_W,PPHYTN,PPHYTN_FLAG_W,REVPRS,REVTMP,DEPTH_,DEPTH_FLAG,CTDDEP,THETA,SIGTHT,DOC,DOC_FLAG_W
,,,,,,,GMT,GMT,,,METER,DBAR,ITS-90,PSS-78,,UMOL/KG,,PSS-78,,UMOL/KG,,UMOL/KG,,UMOL/KG,,UMOL/KG,,UMOL/KG,,UMOL/KG,,PMOL/KG,,PMOL/KG,,/MILLE,,UMOL/KG,,UMOL/KG,,25_DEG_C,,DEG_C,,,,/MILLE,UMOL/KG,,UMOL/KG,,UG/L,,UG/L,,DBAR,ITS-90,METERS,,METERS,DEG_C,,UMOL/L,
       RF99-04,  165E,RF-0808,  1,     -9,      -9,5,19990517,1058, 46.0042, 165.0333, 5800,      0.0,   3.7768,  33.0836,2,   -999.0,9,-999.0000,9,    317.7,2,    31.23,2,  -999.00,9,    19.06,2,     0.31,2,     1.58,2, -999.000,9, -999.000,9,  -999.00,9,   -999.0,9,   -999.0,9,-999.0000,9,   -999.0,  9,  -999.00,9,   -999.0,  -999.00,9,  -999.00,9,  -999.00,9,  -999.00,9,   -999.0,-999.0000, -999,9,    0,   3.7768,  26.2838,   -999.0,9
       RF99-04,  165E,RF-0808,  1,     24, 02-9150,2,19990517,1056, 46.0042, 165.0333, 5800,      7.8,   3.7792,  33.0847,2,   -999.0,9,  33.1100,4,    317.3,2,    31.55,2,  -999.00,9,    19.17,2,     0.32,2,     1.59,2, -999.000,9, -999.000,9,  -999.00,9,   -999.0,9,   -999.0,9,-999.0000,9,   -999.0,  9,  -999.00,9,   -999.0,  -999.00,9,  -999.00,9,  -999.00,9,  -999.00,9,   -999.0,-999.0000, -999,9,    8,   3.7787,  26.2845,   -999.0,9
       RF99-04,  165E,RF-0808,  1,     23,02-12829,2,19990517,1055, 46.0042, 165.0333, 5800,     24.6,   3.7718,  33.0839,2,   -999.0,9,  33.0841,2,    317.9,2,    31.47,2,  -999.00,9,    19.14,2,     0.32,2,     1.59,2, -999.000,9, -999.000,9,  -999.00,9,   -999.0,9,   -999.0,9,-999.0000,9,   -999.0,  9,  -999.00,9,   -999.0,  -999.00,9,  -999.00,9,  -999.00,9,  -999.00,9,   -999.0,-999.0000, -999,9,   24,   3.7702,  26.2847,   -999.0,9
       RF99-04,  165E,RF-0808,  1,     22,02-12828,2,19990517,1053, 46.0042, 165.0333, 5800,     49.3,   3.7606,  33.0803,2,   -999.0,9,  33.0878,4,    317.4,2,    31.47,2,  -999.00,9,    19.21,2,     0.32,2,     1.59,2, -999.000,9, -999.000,9,  -999.00,9,   -999.0,9,   -999.0,9,-999.0000,9,   -999.0,  9,  -999.00,9,   -999.0,  -999.00,9,  -999.00,9,  -999.00,9,  -999.00,9,   -999.0,-999.0000, -999,9,   49,   3.7575,  26.2831,   -999.0,9
       RF99-04,  165E,RF-0808,  1,     21,02-12827,2,19990517,1052, 46.0042, 165.0333, 5800,     74.2,   2.9073,  33.1266,2,   -999.0,9,  33.1245,2,    314.0,2,    31.73,2,  -999.00,9,    20.47,2,     0.51,2,     1.66,2, -999.000,9, -999.000,9,  -999.00,9,   -999.0,9,   -999.0,9,-999.0000,9,   -999.0,  9,  -999.00,9,   -999.0,  -999.00,9,  -999.00,9,  -999.00,9,  -999.00,9,   -999.0,-999.0000, -999,9,   74,   2.9030,  26.3982,   -999.0,9
       RF99-04,  165E,RF-0808,  1,     20,02-12826,2,19990517,1050, 46.0042, 165.0333, 5800,     99.7,   3.0948,  33.1570,2,   -999.0,9,  33.1579,2,    311.4,2,    30.55,2,  -999.00,9,    19.99,2,     0.50,2,     1.60,2, -999.000,9, -999.000,9,  -999.00,9,   -999.0,9,   -999.0,9,-999.0000,9,   -999.0,  9,  -999.00,9,   -999.0,  -999.00,9,  -999.00,9,  -999.00,9,  -999.00,9,   -999.0,-999.0000, -999,9,   99,   3.0889,  26.4062,   -999.0,9
       RF99-04,  165E,RF-0808,  1,     19,02-12825,2,19990517,1049, 46.0042, 165.0333, 5800,    127.1,   3.0585,  33.2066,2,   -999.0,9,-999.0000,9,    286.5,2,    32.80,2,  -999.00,9,    21.20,2,     0.01,2,     1.67,2, -999.000,9, -999.000,9,  -999.00,9,   -999.0,9,   -999.0,9,-999.0000,9,   -999.0,  9,  -999.00,9,   -999.0,  -999.00,9,  -999.00,9,  -999.00,9,  -999.00,9,   -999.0,-999.0000, -999,9,  126,   3.0510,  26.4491,   -999.0,9
       RF99-04,  165E,RF-0808,  1,     18,02-12830,2,19990517,1047, 46.0042, 165.0333, 5800,    150.3,   4.1548,  33.5596,2,   -999.0,9,  33.5583,2,    209.1,2,    45.47,2,  -999.00,9,    26.32,2,     0.01,2,     1.98,2, -999.000,9, -999.000,9,  -999.00,9,   -999.0,9,   -999.0,9,-999.0000,9,   -999.0,  9,  -999.00,9,   -999.0,  -999.00,9,  -999.00,9,  -999.00,9,  -999.00,9,   -999.0,-999.0000, -999,9,  149,   4.1445,  26.6257,   -999.0,9
       RF99-04,  165E,RF-0808,  1,     17,02-13591,2,19990517,1045, 46.0042, 165.0333, 5800,    202.2,   3.9937,  33.6742,2,   -999.0,9,  33.6712,2,    164.9,2,    58.10,2,  -999.00,9,    30.70,2,     0.01,2,     2.27,2, -999.000,9, -999.000,9,  -999.00,9,   -999.0,9,   -999.0,9,-999.0000,9,   -999.0,  9,  -999.00,9,   -999.0,  -999.00,9,  -999.00,9,  -999.00,9,  -999.00,9,   -999.0,-999.0000, -999,9,  200,   3.9799,  26.7336,   -999.0,9
       RF99-04,  165E,RF-0808,  1,     16,02-13588,2,19990517,1044, 46.0042, 165.0333, 5800,    250.2,   4.1387,  33.7864,2,   -999.0,9,-999.0000,9,    130.8,2,    66.59,2,  -999.00,9,    33.29,2,     0.00,2,     2.43,2, -999.000,9, -999.000,9,  -999.00,9,   -999.0,9,   -999.0,9,-999.0000,9,   -999.0,  9,  -999.00,9,   -999.0,  -999.00,9,  -999.00,9,  -999.00,9,  -999.00,9,   -999.0,-999.0000, -999,9,  248,   4.1212,  26.8084,   -999.0,9
       RF99-04,  165E,RF-0808,  1,     15,02-10155,2,19990517,1042, 46.0042, 165.0333, 5800,    300.8,   4.0809,  33.8449,2,   -999.0,9,  33.8660,4,    107.7,2,    74.87,2,  -999.00,9,    35.77,2,     0.00,2,     2.61,2, -999.000,9, -999.000,9,  -999.00,9,   -999.0,9,   -999.0,9,-999.0000,9,   -999.0,  9,  -999.00,9,   -999.0,  -999.00,9,  -999.00,9,  -999.00,9,  -999.00,9,   -999.0,-999.0000, -999,9,  298,   4.0599,  26.8612,   -999.0,9
       RF99-04,  165E,RF-0808,  1,     14,02-13579,2,19990517,1039, 46.0042, 165.0333, 5800,    402.3,   3.9599,  34.0058,2,   -999.0,9,  34.0043,2,     68.8,2,    90.52,2,  -999.00,9,    39.33,2,     0.00,2,     2.85,2, -999.000,9, -999.000,9,  -999.00,9,   -999.0,9,   -999.0,9,-999.0000,9,   -999.0,  9,  -999.00,9,   -999.0,  -999.00,9,  -999.00,9,  -999.00,9,  -999.00,9,   -999.0,-999.0000, -999,9,  399,   3.9317,  27.0022,   -999.0,9
       RF99-04,  165E,RF-0808,  1,     13,02-13590,2,19990517,1036, 46.0042, 165.0333, 5800,    504.0,   3.7248,  34.0998,2,   -999.0,9,-999.0000,9,     47.8,2,   103.38,2,  -999.00,9,    41.33,2,     0.00,2,     2.98,2, -999.000,9, -999.000,9,  -999.00,9,   -999.0,9,   -999.0,9,-999.0000,9,   -999.0,  9,  -999.00,9,   -999.0,  -999.00,9,  -999.00,9,  -999.00,9,  -999.00,9,   -999.0,-999.0000, -999,9,  499,   3.6900,  27.1013,   -999.0,9
       RF99-04,  165E,RF-0808,  1,     12,02-12821,2,19990517,1033, 46.0042, 165.0333, 5800,    603.3,   3.4676,  34.1832,2,   -999.0,9,  34.1815,2,     34.2,2,   115.32,2,  -999.00,9,    42.72,2,     0.01,2,     3.06,2, -999.000,9, -999.000,9,  -999.00,9,   -999.0,9,   -999.0,9,-999.0000,9,   -999.0,  9,  -999.00,9,   -999.0,  -999.00,9,  -999.00,9,  -999.00,9,  -999.00,9,   -999.0,-999.0000, -999,9,  597,   3.4266,  27.1933,   -999.0,9
       RF99-04,  165E,RF-0808,  1,     11,02-12811,2,19990517,1029, 46.0042, 165.0333, 5800,    807.2,   3.1560,  34.2999,2,   -999.0,9,  34.3025,2,     32.3,2,   127.94,2,  -999.00,9,    42.83,2,     0.00,2,     3.07,2, -999.000,9, -999.000,9,  -999.00,9,   -999.0,9,   -999.0,9,-999.0000,9,   -999.0,  9,  -999.00,9,   -999.0,  -999.00,9,  -999.00,9,  -999.00,9,  -999.00,9,   -999.0,-999.0000, -999,9,  799,   3.1017,  27.3169,   -999.0,9
       RF99-04,  165E,RF-0808,  1,     10,02-12820,2,19990517,1024, 46.0042, 165.0333, 5800,   1008.0,   2.8011,  34.3822,2,   -999.0,9,  34.3872,2,     29.3,2,   140.17,2,  -999.00,9,    43.32,2,     0.00,2,     3.09,2, -999.000,9, -999.000,9,  -999.00,9,   -999.0,9,   -999.0,9,-999.0000,9,   -999.0,  9,  -999.00,9,   -999.0,  -999.00,9,  -999.00,9,  -999.00,9,  -999.00,9,   -999.0,-999.0000, -999,9,  997,   2.7344,  27.4157,   -999.0,9
       RF99-04,  165E,RF-0808,  1,      9,02-12810,2,19990517,1018, 46.0042, 165.0333, 5800,   1262.6,   2.4663,  34.4606,2,   -999.0,9,-999.0000,9,     33.3,2,   151.30,2,  -999.00,9,    43.23,2,     0.00,2,     3.08,2, -999.000,9, -999.000,9,  -999.00,9,   -999.0,9,   -999.0,9,-999.0000,9,   -999.0,  9,  -999.00,9,   -999.0,  -999.00,9,  -999.00,9,  -999.00,9,  -999.00,9,   -999.0,-999.0000, -999,9, 1248,   2.3833,  27.5084,   -999.0,9
       RF99-04,  165E,RF-0808,  1,      8,02-12819,2,19990517,1012, 46.0042, 165.0333, 5800,   1516.1,   2.2202,  34.5210,2,   -999.0,9,  34.5932,4,     44.1,2,   156.70,2,  -999.00,9,    42.79,2,     0.01,2,     3.03,2, -999.000,9, -999.000,9,  -999.00,9,   -999.0,9,   -999.0,9,-999.0000,9,   -999.0,  9,  -999.00,9,   -999.0,  -999.00,9,  -999.00,9,  -999.00,9,  -999.00,9,   -999.0,-999.0000, -999,9, 1498,   2.1202,  27.5783,   -999.0,9
       RF99-04,  165E,RF-0808,  1,      7,02-12815,2,19990517,1003, 46.0042, 165.0333, 5800,   2020.8,   1.8999,  34.5940,2,   -999.0,9,  34.5930,2,     65.5,2,   162.51,2,  -999.00,9,    41.21,2,     0.00,2,     2.90,2, -999.000,9, -999.000,9,  -999.00,9,   -999.0,9,   -999.0,9,-999.0000,9,   -999.0,  9,  -999.00,9,   -999.0,  -999.00,9,  -999.00,9,  -999.00,9,  -999.00,9,   -999.0,-999.0000, -999,9, 1995,   1.7634,  27.6647,   -999.0,9
       RF99-04,  165E,RF-0808,  1,      6,02-12818,4,19990517,0953, 46.0042, 165.0333, 5800,   2530.5,   1.6761,  34.6395,2,   -999.0,9,-999.0000,9,   -999.0,9,  -999.00,4,  -999.00,9,  -999.00,4,  -999.00,4,  -999.00,4, -999.000,9, -999.000,9,  -999.00,9,   -999.0,9,   -999.0,9,-999.0000,9,   -999.0,  9,  -999.00,9,   -999.0,  -999.00,9,  -999.00,9,  -999.00,9,  -999.00,9,   -999.0,-999.0000, -999,9, 2495,   1.4992,  27.7209,   -999.0,9
       RF99-04,  165E,RF-0808,  1,      5,02-12809,2,19990517,0943, 46.0042, 165.0333, 5800,   3040.8,   1.5540,  34.6623,2,   -999.0,9,  34.7115,4,    118.7,2,   152.88,2,  -999.00,9,    38.06,2,     0.01,2,     2.66,2, -999.000,9, -999.000,9,  -999.00,9,   -999.0,9,   -999.0,9,-999.0000,9,   -999.0,  9,  -999.00,9,   -999.0,  -999.00,9,  -999.00,9,  -999.00,9,  -999.00,9,   -999.0,-999.0000, -999,9, 2994,   1.3321,  27.7512,   -999.0,9
       RF99-04,  165E,RF-0808,  1,      4,02-12817,2,19990517,0933, 46.0042, 165.0333, 5800,   3552.5,   1.4911,  34.6759,2,   -999.0,9,-999.0000,9,    133.7,2,   147.88,2,  -999.00,9,    37.05,2,     0.00,2,     2.56,2, -999.000,9, -999.000,9,  -999.00,9,   -999.0,9,   -999.0,9,-999.0000,9,   -999.0,  9,  -999.00,9,   -999.0,  -999.00,9,  -999.00,9,  -999.00,9,  -999.00,9,   -999.0,-999.0000, -999,9, 3494,   1.2199,  27.7700,   -999.0,9
       RF99-04,  165E,RF-0808,  1,      3,02-12808,2,19990517,0923, 46.0042, 165.0333, 5800,   4064.0,   1.4739,  34.6821,2,   -999.0,9,  34.6847,2,    143.1,2,   145.46,2,  -999.00,9,    36.45,2,     0.00,2,     2.51,2, -999.000,9, -999.000,9,  -999.00,9,   -999.0,9,   -999.0,9,-999.0000,9,   -999.0,  9,  -999.00,9,   -999.0,  -999.00,9,  -999.00,9,  -999.00,9,  -999.00,9,   -999.0,-999.0000, -999,9, 3992,   1.1488,  27.7798,   -999.0,9
       RF99-04,  165E,RF-0808,  1,      2,02-13589,2,19990517,0905, 46.0042, 165.0333, 5800,   5091.8,   1.5277,  34.6877,2,   -999.0,9,  34.6924,2,    151.7,2,   144.39,2,  -999.00,9,    35.89,2,     0.00,2,     2.47,2, -999.000,9, -999.000,9,  -999.00,9,   -999.0,9,   -999.0,9,-999.0000,9,   -999.0,  9,  -999.00,9,   -999.0,  -999.00,9,  -999.00,9,  -999.00,9,  -999.00,9,   -999.0,-999.0000, -999,9, 4991,   1.0813,  27.7890,   -999.0,9
       RF99-04,  165E,RF-0808,  1,      1,02-12807,2,19990517,0851, 46.0042, 165.0333, 5800,   5878.4,   1.6241,  34.6885,2,   -999.0,9,  34.8227,4,    156.4,2,   144.91,2,  -999.00,9,    35.67,2,     0.00,2,     2.46,2, -999.000,9, -999.000,9,  -999.00,9,   -999.0,9,   -999.0,9,-999.0000,9,   -999.0,  9,  -999.00,9,   -999.0,  -999.00,9,  -999.00,9,  -999.00,9,  -999.00,9,   -999.0,-999.0000, -999,9, 5752,   1.0736,  27.7901,   -999.0,9