BOTTLE,20130510GEMDJMAYT
EXPOCODE,SECT_ID,STNNBR,CASTNO,SAMPNO,BTLNBR,BTLNBR_FLAG_W,DATE,TIME,LATITUDE,LONGITUDE,DEPTH,CTDPRS,CTDTMP,CTDSAL,CTDSAL_FLAG_W,CTDOXY,CTDOXY_FLAG_W,SALNTY,SALNTY_FLAG_W,OXYGEN,OXYGEN_FLAG_W,SILCAT,SILCAT_FLAG_W,NITRAT,NITRAT_FLAG_W,NO2+NO3,NO2+NO3_FLAG_W,NITRIT,NITRIT_FLAG_W,PHSPHT,PHSPHT_FLAG_W,CFC-11,CFC-11_FLAG_W,CFC-12,CFC-12_FLAG_W,DELC13,DELC13_FLAG_W,TCARBN,TCARBN_FLAG_W,ALKALI,ALKALI_FLAG_W,PH,PH_FLAG_W,PH_TMP,PH_SCALE,PH_NBS,PH_NBS_FLAG_W,C13ERR,TOTALP,TOTALP_FLAG_W,AMMONI,AMMONI_FLAG_W,CHLORA,CHLORA_FLAG_W,PPHYTN,PPHYTN_FLAG_W,REVPRS,REVTMP,DEPTH_,DEPTH_FLAG,CTDDEP,THETA,SIGTHT,DOC,DOC_FLAG_W
,,,,,,,GMT,GMT,,,METER,DBAR,ITS-90,PSS-78,,UMOL/KG,,PSS-78,,UMOL/KG,,UMOL/KG,,UMOL/KG,,UMOL/KG,,UMOL/KG,,UMOL/KG,,PMOL/KG,,PMOL/KG,,/MILLE,,UMOL/KG,,UMOL/KG,,25_DEG_C,,DEG_C,,,,/MILLE,UMOL/KG,,UMOL/KG,,UG/L,,UG/L,,DBAR,ITS-90,METERS,,METERS,DEG_C,,UMOL/L,
       RF99-04,  NONE,RF-0800,  1,     -9,      -9,5,19990513,1650, 46.8315, 159.9962, 5208,      0.0,   2.5581,  32.8977,2,   -999.0,9,-999.0000,9,    332.1,2,    42.39,2,  -999.00,9,    24.07,2,     0.22,2,     1.93,2, -999.000,9, -999.000,9,  -999.00,9,   -999.0,9,   -999.0,9,-999.0000,9,   -999.0,  9,  -999.00,9,   -999.0,  -999.00,9,  -999.00,9,  -999.00,9,  -999.00,9,   -999.0,-999.0000, -999,9,    0,   2.5581,  26.2442,   -999.0,9
       RF99-04,  NONE,RF-0800,  1,     21,02-12827,2,19990513,1645, 46.8315, 159.9962, 5208,     13.5,   2.5565,  32.9541,2,   -999.0,9,  32.9564,2,    328.4,2,    42.16,2,  -999.00,9,    24.10,2,     0.22,2,     1.92,2, -999.000,9, -999.000,9,  -999.00,9,   -999.0,9,   -999.0,9,-999.0000,9,   -999.0,  9,  -999.00,9,   -999.0,  -999.00,9,  -999.00,9,  -999.00,9,  -999.00,9,   -999.0,-999.0000, -999,9,   13,   2.5558,  26.2895,   -999.0,9
       RF99-04,  NONE,RF-0800,  1,     20,02-12826,2,19990513,1644, 46.8315, 159.9962, 5208,     25.6,   2.3915,  32.9967,2,   -999.0,9,  32.9716,4,    328.0,2,    42.80,2,  -999.00,9,    24.28,2,     0.21,2,     1.92,2, -999.000,9, -999.000,9,  -999.00,9,   -999.0,9,   -999.0,9,-999.0000,9,   -999.0,  9,  -999.00,9,   -999.0,  -999.00,9,  -999.00,9,  -999.00,9,  -999.00,9,   -999.0,-999.0000, -999,9,   25,   2.3902,  26.3369,   -999.0,9
       RF99-04,  NONE,RF-0800,  1,     19,02-12825,2,19990513,1642, 46.8315, 159.9962, 5208,     50.2,   1.4501,  33.1036,2,   -999.0,9,  33.0893,4,    323.6,2,    46.58,2,  -999.00,9,    26.20,2,     0.22,2,     2.06,2, -999.000,9, -999.000,9,  -999.00,9,   -999.0,9,   -999.0,9,-999.0000,9,   -999.0,  9,  -999.00,9,   -999.0,  -999.00,9,  -999.00,9,  -999.00,9,  -999.00,9,   -999.0,-999.0000, -999,9,   50,   1.4478,  26.4917,   -999.0,9
       RF99-04,  NONE,RF-0800,  1,     18,02-12824,3,19990513,1641, 46.8315, 159.9962, 5208,     76.3,   1.0859,  33.1246,2,   -999.0,9,  33.1239,2,    318.5,4,    48.63,4,  -999.00,9,    27.30,4,     0.23,4,     2.12,4, -999.000,9, -999.000,9,  -999.00,9,   -999.0,9,   -999.0,9,-999.0000,9,   -999.0,  9,  -999.00,9,   -999.0,  -999.00,9,  -999.00,9,  -999.00,9,  -999.00,9,   -999.0,-999.0000, -999,9,   76,   1.0826,  26.5323,   -999.0,9
       RF99-04,  NONE,RF-0800,  1,     17,02-12814,4,19990513,1639, 46.8315, 159.9962, 5208,    101.8,   1.1312,  33.1800,2,   -999.0,9,-999.0000,9,   -999.0,9,  -999.00,9,  -999.00,9,  -999.00,9,  -999.00,9,  -999.00,9, -999.000,9, -999.000,9,  -999.00,9,   -999.0,9,   -999.0,9,-999.0000,9,   -999.0,  9,  -999.00,9,   -999.0,  -999.00,9,  -999.00,9,  -999.00,9,  -999.00,9,   -999.0,-999.0000, -999,9,  101,   1.1269,  26.5741,   -999.0,9
       RF99-04,  NONE,RF-0800,  1,     16,02-12832,4,19990513,1638, 46.8315, 159.9962, 5208,    126.7,   2.6515,  33.5898,2,   -999.0,9,-999.0000,9,   -999.0,9,  -999.00,9,  -999.00,9,  -999.00,9,  -999.00,9,  -999.00,9, -999.000,9, -999.000,9,  -999.00,9,   -999.0,9,   -999.0,9,-999.0000,9,   -999.0,  9,  -999.00,9,   -999.0,  -999.00,9,  -999.00,9,  -999.00,9,  -999.00,9,   -999.0,-999.0000, -999,9,  126,   2.6443,  26.7902,   -999.0,9
       RF99-04,  NONE,RF-0800,  1,     15,02-12833,4,19990513,1637, 46.8315, 159.9962, 5208,    151.5,   3.4791,  33.8959,2,   -999.0,9,-999.0000,9,   -999.0,9,  -999.00,9,  -999.00,9,  -999.00,9,  -999.00,9,  -999.00,9, -999.000,9, -999.000,9,  -999.00,9,   -999.0,9,   -999.0,9,-999.0000,9,   -999.0,  9,  -999.00,9,   -999.0,  -999.00,9,  -999.00,9,  -999.00,9,  -999.00,9,   -999.0,-999.0000, -999,9,  150,   3.4694,  26.9602,   -999.0,9
       RF99-04,  NONE,RF-0800,  1,     14,02-13578,4,19990513,1635, 46.8315, 159.9962, 5208,    200.5,   3.4951,  33.9836,2,   -999.0,9,  33.9017,4,     15.4,4,   103.77,4,  -999.00,9,    45.50,4,     0.00,4,     3.27,4, -999.000,9, -999.000,9,  -999.00,9,   -999.0,9,   -999.0,9,-999.0000,9,   -999.0,  9,  -999.00,9,   -999.0,  -999.00,9,  -999.00,9,  -999.00,9,  -999.00,9,   -999.0,-999.0000, -999,9,  199,   3.4821,  27.0289,   -999.0,9
       RF99-04,  NONE,RF-0800,  1,     13,02-13590,2,19990513,1633, 46.8315, 159.9962, 5208,    252.5,   3.4748,  34.0358,2,   -999.0,9,-999.0000,9,     14.7,2,   108.93,2,  -999.00,9,    45.09,2,     0.00,2,     3.25,2, -999.000,9, -999.000,9,  -999.00,9,   -999.0,9,   -999.0,9,-999.0000,9,   -999.0,  9,  -999.00,9,   -999.0,  -999.00,9,  -999.00,9,  -999.00,9,  -999.00,9,   -999.0,-999.0000, -999,9,  250,   3.4584,  27.0728,   -999.0,9
       RF99-04,  NONE,RF-0800,  1,     12,02-12821,2,19990513,1631, 46.8315, 159.9962, 5208,    302.5,   3.4285,  34.0937,2,   -999.0,9,  34.0947,2,     15.1,2,   113.75,2,  -999.00,9,    44.76,2,     0.00,2,     3.22,2, -999.000,9, -999.000,9,  -999.00,9,   -999.0,9,   -999.0,9,-999.0000,9,   -999.0,  9,  -999.00,9,   -999.0,  -999.00,9,  -999.00,9,  -999.00,9,  -999.00,9,   -999.0,-999.0000, -999,9,  300,   3.4088,  27.1237,   -999.0,9
       RF99-04,  NONE,RF-0800,  1,     11,02-12811,4,19990513,1629, 46.8315, 159.9962, 5208,    402.1,   3.3118,  34.1756,2,   -999.0,9,  33.5168,4,     19.9,4,    79.51,4,  -999.00,9,    35.84,4,     0.11,4,     2.66,4, -999.000,9, -999.000,9,  -999.00,9,   -999.0,9,   -999.0,9,-999.0000,9,   -999.0,  9,  -999.00,9,   -999.0,  -999.00,9,  -999.00,9,  -999.00,9,  -999.00,9,   -999.0,-999.0000, -999,9,  398,   3.2856,  27.2006,   -999.0,9
       RF99-04,  NONE,RF-0800,  1,     10,02-12820,2,19990513,1626, 46.8315, 159.9962, 5208,    502.9,   3.1589,  34.2482,2,   -999.0,9,  34.2422,4,     15.8,2,   129.79,2,  -999.00,9,    44.09,2,     0.00,2,     3.18,2, -999.000,9, -999.000,9,  -999.00,9,   -999.0,9,   -999.0,9,-999.0000,9,   -999.0,  9,  -999.00,9,   -999.0,  -999.00,9,  -999.00,9,  -999.00,9,  -999.00,9,   -999.0,-999.0000, -999,9,  498,   3.1263,  27.2734,   -999.0,9
       RF99-04,  NONE,RF-0800,  1,      9,02-12810,2,19990513,1623, 46.8315, 159.9962, 5208,    604.4,   2.9990,  34.3032,2,   -999.0,9,  34.3011,2,     15.3,2,   136.21,2,  -999.00,9,    44.37,2,     0.00,2,     3.17,2, -999.000,9, -999.000,9,  -999.00,9,   -999.0,9,   -999.0,9,-999.0000,9,   -999.0,  9,  -999.00,9,   -999.0,  -999.00,9,  -999.00,9,  -999.00,9,  -999.00,9,   -999.0,-999.0000, -999,9,  599,   2.9601,  27.3324,   -999.0,9
       RF99-04,  NONE,RF-0800,  1,      8,02-12819,2,19990513,1621, 46.8315, 159.9962, 5208,    705.3,   2.8664,  34.3514,2,   -999.0,9,-999.0000,9,     22.7,4,   141.56,2,  -999.00,9,    44.32,2,     0.00,2,     3.15,2, -999.000,9, -999.000,9,  -999.00,9,   -999.0,9,   -999.0,9,-999.0000,9,   -999.0,  9,  -999.00,9,   -999.0,  -999.00,9,  -999.00,9,  -999.00,9,  -999.00,9,   -999.0,-999.0000, -999,9,  698,   2.8211,  27.3834,   -999.0,9
       RF99-04,  NONE,RF-0800,  1,      7,02-12815,2,19990513,1618, 46.8315, 159.9962, 5208,    805.8,   2.7180,  34.3913,2,   -999.0,9,  34.3915,2,     19.2,2,   146.41,2,  -999.00,9,    43.92,2,     0.00,2,     3.16,2, -999.000,9, -999.000,9,  -999.00,9,   -999.0,9,   -999.0,9,-999.0000,9,   -999.0,  9,  -999.00,9,   -999.0,  -999.00,9,  -999.00,9,  -999.00,9,  -999.00,9,   -999.0,-999.0000, -999,9,  798,   2.6665,  27.4289,   -999.0,9
       RF99-04,  NONE,RF-0800,  1,      6,02-12818,2,19990513,1616, 46.8315, 159.9962, 5208,    906.4,   2.5691,  34.4286,2,   -999.0,9,-999.0000,9,     21.4,2,   151.22,2,  -999.00,9,    43.76,2,     0.00,2,     3.14,2, -999.000,9, -999.000,9,  -999.00,9,   -999.0,9,   -999.0,9,-999.0000,9,   -999.0,  9,  -999.00,9,   -999.0,  -999.00,9,  -999.00,9,  -999.00,9,  -999.00,9,   -999.0,-999.0000, -999,9,  897,   2.5115,  27.4720,   -999.0,9
       RF99-04,  NONE,RF-0800,  1,      5,02-12809,2,19990513,1613, 46.8315, 159.9962, 5208,   1008.7,   2.4532,  34.4571,2,   -999.0,9,  34.5336,4,     25.6,2,   154.67,2,  -999.00,9,    43.60,2,     0.00,2,     3.11,2, -999.000,9, -999.000,9,  -999.00,9,   -999.0,9,   -999.0,9,-999.0000,9,   -999.0,  9,  -999.00,9,   -999.0,  -999.00,9,  -999.00,9,  -999.00,9,  -999.00,9,   -999.0,-999.0000, -999,9,  998,   2.3890,  27.5051,   -999.0,9
       RF99-04,  NONE,RF-0800,  1,      4,02-12817,2,19990513,1608, 46.8315, 159.9962, 5208,   1262.2,   2.1921,  34.5193,2,   -999.0,9,  34.5602,4,     38.3,2,   161.51,2,  -999.00,9,    43.04,2,     0.00,2,     3.07,2, -999.000,9, -999.000,9,  -999.00,9,   -999.0,9,   -999.0,9,-999.0000,9,   -999.0,  9,  -999.00,9,   -999.0,  -999.00,9,  -999.00,9,  -999.00,9,  -999.00,9,   -999.0,-999.0000, -999,9, 1248,   2.1117,  27.5777,   -999.0,9
       RF99-04,  NONE,RF-0800,  1,      3,02-12808,2,19990513,1603, 46.8315, 159.9962, 5208,   1514.2,   2.0028,  34.5639,2,   -999.0,9,  34.5617,2,   -999.0,9,   165.51,2,  -999.00,9,    42.41,2,     0.00,2,     3.00,2, -999.000,9, -999.000,9,  -999.00,9,   -999.0,9,   -999.0,9,-999.0000,9,   -999.0,  9,  -999.00,9,   -999.0,  -999.00,9,  -999.00,9,  -999.00,9,  -999.00,9,   -999.0,-999.0000, -999,9, 1496,   1.9054,  27.6297,   -999.0,9
       RF99-04,  NONE,RF-0800,  1,      2,02-13589,2,19990513,1559, 46.8315, 159.9962, 5208,   1768.6,   1.8615,  34.5970,2,   -999.0,9,  34.5950,2,   -999.0,9,   164.34,2,  -999.00,9,    40.93,2,     0.00,2,     2.92,2, -999.000,9, -999.000,9,  -999.00,9,   -999.0,9,   -999.0,9,-999.0000,9,   -999.0,  9,  -999.00,9,   -999.0,  -999.00,9,  -999.00,9,  -999.00,9,  -999.00,9,   -999.0,-999.0000, -999,9, 1747,   1.7460,  27.6685,   -999.0,9
       RF99-04,  NONE,RF-0800,  1,      1,02-12807,2,19990513,1554, 46.8315, 159.9962, 5208,   2029.8,   1.7557,  34.6231,2,   -999.0,9,  34.6211,2,   -999.0,9,   160.60,2,  -999.00,9,    39.97,2,     0.00,2,     2.82,2, -999.000,9, -999.000,9,  -999.00,9,   -999.0,9,   -999.0,9,-999.0000,9,   -999.0,  9,  -999.00,9,   -999.0,  -999.00,9,  -999.00,9,  -999.00,9,  -999.00,9,   2014.0,-999.0000, -999,9, 2003,   1.6205,  27.6989,   -999.0,9