BOTTLE,20130510GEMDJMAYT
EXPOCODE,SECT_ID,STNNBR,CASTNO,SAMPNO,BTLNBR,BTLNBR_FLAG_W,DATE,TIME,LATITUDE,LONGITUDE,DEPTH,CTDPRS,CTDTMP,CTDSAL,CTDSAL_FLAG_W,CTDOXY,CTDOXY_FLAG_W,SALNTY,SALNTY_FLAG_W,OXYGEN,OXYGEN_FLAG_W,SILCAT,SILCAT_FLAG_W,NITRAT,NITRAT_FLAG_W,NO2+NO3,NO2+NO3_FLAG_W,NITRIT,NITRIT_FLAG_W,PHSPHT,PHSPHT_FLAG_W,CFC-11,CFC-11_FLAG_W,CFC-12,CFC-12_FLAG_W,DELC13,DELC13_FLAG_W,TCARBN,TCARBN_FLAG_W,ALKALI,ALKALI_FLAG_W,PH,PH_FLAG_W,PH_TMP,PH_SCALE,PH_NBS,PH_NBS_FLAG_W,C13ERR,TOTALP,TOTALP_FLAG_W,AMMONI,AMMONI_FLAG_W,CHLORA,CHLORA_FLAG_W,PPHYTN,PPHYTN_FLAG_W,REVPRS,REVTMP,DEPTH_,DEPTH_FLAG,CTDDEP,THETA,SIGTHT,DOC,DOC_FLAG_W
,,,,,,,GMT,GMT,,,METER,DBAR,ITS-90,PSS-78,,UMOL/KG,,PSS-78,,UMOL/KG,,UMOL/KG,,UMOL/KG,,UMOL/KG,,UMOL/KG,,UMOL/KG,,PMOL/KG,,PMOL/KG,,/MILLE,,UMOL/KG,,UMOL/KG,,25_DEG_C,,DEG_C,,,,/MILLE,UMOL/KG,,UMOL/KG,,UG/L,,UG/L,,DBAR,ITS-90,METERS,,METERS,DEG_C,,UMOL/L,
       RF99-09,  142E,RF-0954,  1,     -9,      -9,5,19991104,1726, 33.4637, 141.5017, 5651,      0.0,  23.7038,  34.5495,2,   -999.0,9,-999.0000,9,    215.9,2,     1.52,2,  -999.00,9,     0.00,2,     0.00,2,     0.04,2, -999.000,9, -999.000,9,  -999.00,9,   -999.0,9,   -999.0,9,-999.0000,9,   -999.0,  9,  -999.00,9,   -999.0,  -999.00,9,  -999.00,9,     0.31,2,     0.15,2,   -999.0,-999.0000, -999,9,    0,  23.7038,  23.3875,   -999.0,9
       RF99-09,  142E,RF-0954,  1,     23,02-12829,2,19991104,1724, 33.4637, 141.5017, 5651,      9.7,  23.6928,  34.5483,2,   -999.0,9,-999.0000,9,    212.1,2,     1.66,2,  -999.00,9,     0.01,2,     0.00,2,     0.02,2, -999.000,9, -999.000,9,  -999.00,9,   -999.0,9,   -999.0,9,-999.0000,9,   -999.0,  9,  -999.00,9,   -999.0,  -999.00,9,  -999.00,9,     0.29,2,     0.13,2,   -999.0,-999.0000, -999,9,   10,  23.6908,  23.3905,   -999.0,9
       RF99-09,  142E,RF-0954,  1,     22,02-12828,2,19991104,1723, 33.4637, 141.5017, 5651,     27.2,  23.7086,  34.5534,2,   -999.0,9,-999.0000,9,    212.1,2,     1.59,2,  -999.00,9,     0.00,2,     0.00,2,     0.03,2, -999.000,9, -999.000,9,  -999.00,9,   -999.0,9,   -999.0,9,-999.0000,9,   -999.0,  9,  -999.00,9,   -999.0,  -999.00,9,  -999.00,9,     0.29,2,     0.14,2,   -999.0,-999.0000, -999,9,   27,  23.7030,  23.3907,   -999.0,9
       RF99-09,  142E,RF-0954,  1,     21,02-12827,2,19991104,1722, 33.4637, 141.5017, 5651,     51.0,  23.7122,  34.5548,2,   -999.0,9,-999.0000,9,    212.4,2,     1.58,2,  -999.00,9,     0.00,2,     0.00,2,     0.02,2, -999.000,9, -999.000,9,  -999.00,9,   -999.0,9,   -999.0,9,-999.0000,9,   -999.0,  9,  -999.00,9,   -999.0,  -999.00,9,  -999.00,9,     0.26,2,     0.17,2,   -999.0,-999.0000, -999,9,   51,  23.7016,  23.3922,   -999.0,9
       RF99-09,  142E,RF-0954,  1,     20,02-12826,2,19991104,1720, 33.4637, 141.5017, 5651,     76.7,  23.7131,  34.5548,2,   -999.0,9,-999.0000,9,    211.6,2,     1.69,2,  -999.00,9,     0.22,2,     0.03,2,     0.04,2, -999.000,9, -999.000,9,  -999.00,9,   -999.0,9,   -999.0,9,-999.0000,9,   -999.0,  9,  -999.00,9,   -999.0,  -999.00,9,  -999.00,9,     0.28,2,     0.18,2,   -999.0,-999.0000, -999,9,   76,  23.6972,  23.3935,   -999.0,9
       RF99-09,  142E,RF-0954,  1,     19,02-12825,2,19991104,1719, 33.4637, 141.5017, 5651,    102.7,  21.0910,  34.8196,2,   -999.0,9,  34.8298,2,    205.2,2,     2.07,2,  -999.00,9,     1.16,2,     0.07,2,     0.11,2, -999.000,9, -999.000,9,  -999.00,9,   -999.0,9,   -999.0,9,-999.0000,9,   -999.0,  9,  -999.00,9,   -999.0,  -999.00,9,  -999.00,9,     0.10,2,     0.17,2,   -999.0,-999.0000, -999,9,  102,  21.0714,  24.3372,   -999.0,9
       RF99-09,  142E,RF-0954,  1,     18,02-12830,2,19991104,1718, 33.4637, 141.5017, 5651,    124.7,  20.1144,  34.7652,2,   -999.0,9,-999.0000,9,    192.5,2,     4.24,2,  -999.00,9,     3.65,2,     0.03,2,     0.26,2, -999.000,9, -999.000,9,  -999.00,9,   -999.0,9,   -999.0,9,-999.0000,9,   -999.0,  9,  -999.00,9,   -999.0,  -999.00,9,  -999.00,9,     0.04,2,     0.07,2,   -999.0,-999.0000, -999,9,  124,  20.0913,  24.5586,   -999.0,9
       RF99-09,  142E,RF-0954,  1,     17,02-13591,2,19991104,1717, 33.4637, 141.5017, 5651,    154.2,  19.3952,  34.8121,2,   -999.0,9,-999.0000,9,    199.0,2,     3.21,2,  -999.00,9,     3.18,2,     0.01,2,     0.23,2, -999.000,9, -999.000,9,  -999.00,9,   -999.0,9,   -999.0,9,-999.0000,9,   -999.0,  9,  -999.00,9,   -999.0,  -999.00,9,  -999.00,9,     0.01,2,     0.03,2,   -999.0,-999.0000, -999,9,  153,  19.3673,  24.7833,   -999.0,9
       RF99-09,  142E,RF-0954,  1,     16,02-13588,2,19991104,1715, 33.4637, 141.5017, 5651,    202.8,  18.4878,  34.7918,2,   -999.0,9,  34.7097,4,    195.6,2,     4.15,2,  -999.00,9,     4.58,2,     0.00,2,     0.31,2, -999.000,9, -999.000,9,  -999.00,9,   -999.0,9,   -999.0,9,-999.0000,9,   -999.0,  9,  -999.00,9,   -999.0,  -999.00,9,  -999.00,9,     0.01,2,     0.01,2,   -999.0,-999.0000, -999,9,  201,  18.4523,  25.0004,   -999.0,9
       RF99-09,  142E,RF-0954,  1,     15,02-10155,2,19991104,1714, 33.4637, 141.5017, 5651,    252.8,  17.8939,  34.7812,2,   -999.0,9,-999.0000,9,    192.2,2,     5.37,2,  -999.00,9,     5.72,2,     0.00,2,     0.38,2, -999.000,9, -999.000,9,  -999.00,9,   -999.0,9,   -999.0,9,-999.0000,9,   -999.0,  9,  -999.00,9,   -999.0,  -999.00,9,  -999.00,9,  -999.00,9,  -999.00,9,   -999.0,-999.0000, -999,9,  251,  17.8507,  25.1411,   -999.0,9
       RF99-09,  142E,RF-0954,  1,     14,02-13579,2,19991104,1712, 33.4637, 141.5017, 5651,    304.1,  16.8282,  34.7380,2,   -999.0,9,  34.7469,2,    190.5,2,     6.93,2,  -999.00,9,     7.24,2,     0.00,2,     0.49,2, -999.000,9, -999.000,9,  -999.00,9,   -999.0,9,   -999.0,9,-999.0000,9,   -999.0,  9,  -999.00,9,   -999.0,  -999.00,9,  -999.00,9,  -999.00,9,  -999.00,9,   -999.0,-999.0000, -999,9,  302,  16.7783,  25.3656,   -999.0,9
       RF99-09,  142E,RF-0954,  1,     13,02-13590,2,19991104,1709, 33.4637, 141.5017, 5651,    404.3,  13.9037,  34.5369,2,   -999.0,9,  34.5484,2,    175.4,2,    17.25,2,  -999.00,9,    13.45,2,     0.00,2,     0.91,2, -999.000,9, -999.000,9,  -999.00,9,   -999.0,9,   -999.0,9,-999.0000,9,   -999.0,  9,  -999.00,9,   -999.0,  -999.00,9,  -999.00,9,  -999.00,9,  -999.00,9,   -999.0,-999.0000, -999,9,  401,  13.8453,  25.8615,   -999.0,9
       RF99-09,  142E,RF-0954,  1,     12,02-12821,2,19991104,1707, 33.4637, 141.5017, 5651,    504.9,  10.6894,  34.3460,2,   -999.0,9,  34.3453,2,    158.2,2,    32.32,2,  -999.00,9,    20.32,2,     0.00,2,     1.39,2, -999.000,9, -999.000,9,  -999.00,9,   -999.0,9,   -999.0,9,-999.0000,9,   -999.0,  9,  -999.00,9,   -999.0,  -999.00,9,  -999.00,9,  -999.00,9,  -999.00,9,   -999.0,-999.0000, -999,9,  501,  10.6278,  26.3326,   -999.0,9
       RF99-09,  142E,RF-0954,  1,     11,02-12811,2,19991104,1704, 33.4637, 141.5017, 5651,    606.7,   7.9741,  34.1798,2,   -999.0,9,  34.1750,2,    146.8,2,    48.52,2,  -999.00,9,    26.07,2,     0.00,2,     1.83,2, -999.000,9, -999.000,9,  -999.00,9,   -999.0,9,   -999.0,9,-999.0000,9,   -999.0,  9,  -999.00,9,   -999.0,  -999.00,9,  -999.00,9,  -999.00,9,  -999.00,9,   -999.0,-999.0000, -999,9,  602,   7.9119,  26.6427,   -999.0,9
       RF99-09,  142E,RF-0954,  1,     10,02-12820,2,19991104,1701, 33.4637, 141.5017, 5651,    708.9,   6.0941,  34.1580,2,   -999.0,9,  34.1573,2,    109.7,2,    70.30,2,  -999.00,9,    32.58,2,     0.00,2,     2.31,2, -999.000,9, -999.000,9,  -999.00,9,   -999.0,9,   -999.0,9,-999.0000,9,   -999.0,  9,  -999.00,9,   -999.0,  -999.00,9,  -999.00,9,  -999.00,9,  -999.00,9,   -999.0,-999.0000, -999,9,  703,   6.0310,  26.8834,   -999.0,9
       RF99-09,  142E,RF-0954,  1,      9,02-12810,2,19991104,1657, 33.4637, 141.5017, 5651,    809.1,   5.2419,  34.2330,2,   -999.0,9,  34.2357,2,     83.2,2,    87.09,2,  -999.00,9,    36.19,2,     0.00,2,     2.57,2, -999.000,9, -999.000,9,  -999.00,9,   -999.0,9,   -999.0,9,-999.0000,9,   -999.0,  9,  -999.00,9,   -999.0,  -999.00,9,  -999.00,9,  -999.00,9,  -999.00,9,   -999.0,-999.0000, -999,9,  802,   5.1744,  27.0469,   -999.0,9
       RF99-09,  142E,RF-0954,  1,      8,02-12819,2,19991104,1654, 33.4637, 141.5017, 5651,    911.3,   4.3678,  34.2686,2,   -999.0,9,  34.2740,2,     64.9,2,   102.63,2,  -999.00,9,    38.87,2,     0.00,2,     2.76,2, -999.000,9, -999.000,9,  -999.00,9,   -999.0,9,   -999.0,9,-999.0000,9,   -999.0,  9,  -999.00,9,   -999.0,  -999.00,9,  -999.00,9,  -999.00,9,  -999.00,9,   -999.0,-999.0000, -999,9,  903,   4.2973,  27.1732,   -999.0,9
       RF99-09,  142E,RF-0954,  1,      7,02-12815,2,19991104,1651, 33.4637, 141.5017, 5651,   1011.5,   3.7091,  34.3372,2,   -999.0,9,  34.3341,2,     53.4,2,   116.62,2,  -999.00,9,    40.57,2,     0.00,2,     2.90,2, -999.000,9, -999.000,9,  -999.00,9,   -999.0,9,   -999.0,9,-999.0000,9,   -999.0,  9,  -999.00,9,   -999.0,  -999.00,9,  -999.00,9,  -999.00,9,  -999.00,9,   -999.0,-999.0000, -999,9, 1002,   3.6351,  27.2958,   -999.0,9
       RF99-09,  142E,RF-0954,  1,      6,02-12818,2,19991104,1645, 33.4637, 141.5017, 5651,   1264.8,   2.8918,  34.4379,2,   -999.0,9,  34.4302,2,     45.4,2,   136.84,2,  -999.00,9,    42.03,2,     0.00,2,     2.99,2, -999.000,9, -999.000,9,  -999.00,9,   -999.0,9,   -999.0,9,-999.0000,9,   -999.0,  9,  -999.00,9,   -999.0,  -999.00,9,  -999.00,9,  -999.00,9,  -999.00,9,   -999.0,-999.0000, -999,9, 1252,   2.8045,  27.4540,   -999.0,9
       RF99-09,  142E,RF-0954,  1,      5,02-12809,2,19991104,1637, 33.4637, 141.5017, 5651,   1517.8,   2.4894,  34.5039,2,   -999.0,9,  34.4986,2,     49.0,2,   146.82,2,  -999.00,9,    42.30,2,     0.00,2,     2.99,2, -999.000,9, -999.000,9,  -999.00,9,   -999.0,9,   -999.0,9,-999.0000,9,   -999.0,  9,  -999.00,9,   -999.0,  -999.00,9,  -999.00,9,  -999.00,9,  -999.00,9,   -999.0,-999.0000, -999,9, 1502,   2.3862,  27.5428,   -999.0,9
       RF99-09,  142E,RF-0954,  1,      4,02-12817,2,19991104,1632, 33.4637, 141.5017, 5651,   1769.4,   2.1896,  34.5610,2,   -999.0,9,  34.5554,2,     64.6,2,   151.07,2,  -999.00,9,    41.52,2,     0.00,2,     2.91,2, -999.000,9, -999.000,9,  -999.00,9,   -999.0,9,   -999.0,9,-999.0000,9,   -999.0,  9,  -999.00,9,   -999.0,  -999.00,9,  -999.00,9,  -999.00,9,  -999.00,9,   -999.0,-999.0000, -999,9, 1749,   2.0698,  27.6144,   -999.0,9
       RF99-09,  142E,RF-0954,  1,      3,02-12808,2,19991104,1627, 33.4637, 141.5017, 5651,   2018.7,   1.9952,  34.5958,2,   -999.0,9,  34.5893,2,     78.6,2,   152.67,2,  -999.00,9,    40.78,2,     0.00,2,     2.86,2, -999.000,9, -999.000,9,  -999.00,9,   -999.0,9,   -999.0,9,-999.0000,9,   -999.0,  9,  -999.00,9,   -999.0,  -999.00,9,  -999.00,9,  -999.00,9,  -999.00,9,   -999.0,-999.0000, -999,9, 1995,   1.8574,  27.6590,   -999.0,9
       RF99-09,  142E,RF-0954,  1,      2,02-13589,2,19991104,1623, 33.4637, 141.5017, 5651,   2275.6,   1.8020,  34.6280,2,   -999.0,9,  34.6304,2,     98.4,2,   151.53,2,  -999.00,9,    39.54,2,     0.00,2,     2.76,2, -999.000,9, -999.000,9,  -999.00,9,   -999.0,9,   -999.0,9,-999.0000,9,   -999.0,  9,  -999.00,9,   -999.0,  -999.00,9,  -999.00,9,  -999.00,9,  -999.00,9,   -999.0,-999.0000, -999,9, 2247,   1.6453,  27.7010,   -999.0,9
       RF99-09,  142E,RF-0954,  1,      1,02-12807,2,19991104,1619, 33.4637, 141.5017, 5651,   2541.3,   1.6837,  34.6434,2,   -999.0,9,  34.6418,2,    112.1,2,   150.69,2,  -999.00,9,    38.84,2,     0.00,2,     2.70,2, -999.000,9, -999.000,9,  -999.00,9,   -999.0,9,   -999.0,9,-999.0000,9,   -999.0,  9,  -999.00,9,   -999.0,  -999.00,9,  -999.00,9,  -999.00,9,  -999.00,9,   -999.0,-999.0000, -999,9, 2508,   1.5056,  27.7236,   -999.0,9