BOTTLE,20130510GEMDJMAYT
EXPOCODE,SECT_ID,STNNBR,CASTNO,SAMPNO,BTLNBR,BTLNBR_FLAG_W,DATE,TIME,LATITUDE,LONGITUDE,DEPTH,CTDPRS,CTDTMP,CTDSAL,CTDSAL_FLAG_W,CTDOXY,CTDOXY_FLAG_W,SALNTY,SALNTY_FLAG_W,OXYGEN,OXYGEN_FLAG_W,SILCAT,SILCAT_FLAG_W,NITRAT,NITRAT_FLAG_W,NO2+NO3,NO2+NO3_FLAG_W,NITRIT,NITRIT_FLAG_W,PHSPHT,PHSPHT_FLAG_W,CFC-11,CFC-11_FLAG_W,CFC-12,CFC-12_FLAG_W,DELC13,DELC13_FLAG_W,TCARBN,TCARBN_FLAG_W,ALKALI,ALKALI_FLAG_W,PH,PH_FLAG_W,PH_TMP,PH_SCALE,PH_NBS,PH_NBS_FLAG_W,C13ERR,TOTALP,TOTALP_FLAG_W,AMMONI,AMMONI_FLAG_W,CHLORA,CHLORA_FLAG_W,PPHYTN,PPHYTN_FLAG_W,REVPRS,REVTMP,DEPTH_,DEPTH_FLAG,CTDDEP,THETA,SIGTHT,DOC,DOC_FLAG_W
,,,,,,,GMT,GMT,,,METER,DBAR,ITS-90,PSS-78,,UMOL/KG,,PSS-78,,UMOL/KG,,UMOL/KG,,UMOL/KG,,UMOL/KG,,UMOL/KG,,UMOL/KG,,PMOL/KG,,PMOL/KG,,/MILLE,,UMOL/KG,,UMOL/KG,,25_DEG_C,,DEG_C,,,,/MILLE,UMOL/KG,,UMOL/KG,,UG/L,,UG/L,,DBAR,ITS-90,METERS,,METERS,DEG_C,,UMOL/L,
       RF99-09,  165E,RF-0933,  1,     -9,      -9,5,19991012,2359,  0.1663, 164.9958, 4390,      0.0,  28.3939,  35.2067,2,   -999.0,9,-999.0000,9,    202.4,2,     1.92,2,  -999.00,9,     1.06,2,     0.11,2,     0.25,2, -999.000,9, -999.000,9,  -999.00,9,   -999.0,9,   -999.0,9,-999.0000,9,   -999.0,  9,  -999.00,9,   -999.0,  -999.00,9,  -999.00,9,     0.22,2,     0.05,2,   -999.0,-999.0000, -999,9,    0,  28.3939,  22.4207,   -999.0,9
       RF99-09,  165E,RF-0933,  1,     22,02-12828,2,19991012,2357,  0.1663, 164.9958, 4390,     10.7,  28.2403,  35.2005,2,   -999.0,9,-999.0000,9,    202.3,2,     1.72,2,  -999.00,9,     1.05,2,     0.12,2,     0.23,2, -999.000,9, -999.000,9,  -999.00,9,   -999.0,9,   -999.0,9,-999.0000,9,   -999.0,  9,  -999.00,9,   -999.0,  -999.00,9,  -999.00,9,     0.25,2,     0.10,2,   -999.0,-999.0000, -999,9,   11,  28.2378,  22.4674,   -999.0,9
       RF99-09,  165E,RF-0933,  1,     21,02-12827,2,19991012,2356,  0.1663, 164.9958, 4390,     25.4,  28.0495,  35.1880,2,   -999.0,9,-999.0000,9,    201.4,2,     1.85,2,  -999.00,9,     1.26,2,     0.19,2,     0.25,2, -999.000,9, -999.000,9,  -999.00,9,   -999.0,9,   -999.0,9,-999.0000,9,   -999.0,  9,  -999.00,9,   -999.0,  -999.00,9,  -999.00,9,     0.34,2,     0.20,2,   -999.0,-999.0000, -999,9,   25,  28.0435,  22.5218,   -999.0,9
       RF99-09,  165E,RF-0933,  1,     20,02-12826,2,19991012,2355,  0.1663, 164.9958, 4390,     50.3,  27.8994,  35.1738,2,   -999.0,9,-999.0000,9,    195.5,2,     1.72,2,  -999.00,9,     1.97,2,     0.41,2,     0.29,2, -999.000,9, -999.000,9,  -999.00,9,   -999.0,9,   -999.0,9,-999.0000,9,   -999.0,  9,  -999.00,9,   -999.0,  -999.00,9,  -999.00,9,     0.44,2,     0.34,2,   -999.0,-999.0000, -999,9,   50,  27.8876,  22.5621,   -999.0,9
       RF99-09,  165E,RF-0933,  1,     19,02-12825,2,19991012,2353,  0.1663, 164.9958, 4390,     75.2,  27.7595,  35.1826,2,   -999.0,9,-999.0000,9,    183.3,2,     2.12,2,  -999.00,9,     2.45,2,     0.51,2,     0.36,2, -999.000,9, -999.000,9,  -999.00,9,   -999.0,9,   -999.0,9,-999.0000,9,   -999.0,  9,  -999.00,9,   -999.0,  -999.00,9,  -999.00,9,     0.44,2,     0.47,2,   -999.0,-999.0000, -999,9,   75,  27.7419,  22.6161,   -999.0,9
       RF99-09,  165E,RF-0933,  1,     18,02-12830,2,19991012,2352,  0.1663, 164.9958, 4390,    102.1,  27.1022,  35.2377,2,   -999.0,9,  35.2493,4,    167.5,2,     2.39,2,  -999.00,9,     5.49,2,     0.09,2,     0.49,2, -999.000,9, -999.000,9,  -999.00,9,   -999.0,9,   -999.0,9,-999.0000,9,   -999.0,  9,  -999.00,9,   -999.0,  -999.00,9,  -999.00,9,     0.13,2,     0.27,2,   -999.0,-999.0000, -999,9,  102,  27.0787,  22.8717,   -999.0,9
       RF99-09,  165E,RF-0933,  1,     17,02-13591,2,19991012,2350,  0.1663, 164.9958, 4390,    129.6,  23.5951,  35.1823,2,   -999.0,9,-999.0000,9,    147.9,2,     4.20,2,  -999.00,9,     7.76,2,     0.04,2,     0.62,2, -999.000,9, -999.000,9,  -999.00,9,   -999.0,9,   -999.0,9,-999.0000,9,   -999.0,  9,  -999.00,9,   -999.0,  -999.00,9,  -999.00,9,     0.07,2,     0.17,2,   -999.0,-999.0000, -999,9,  129,  23.5681,  23.9067,   -999.0,9
       RF99-09,  165E,RF-0933,  1,     16,02-13588,2,19991012,2349,  0.1663, 164.9958, 4390,    153.8,  20.8850,  35.1837,2,   -999.0,9,-999.0000,9,    145.0,2,     6.13,2,  -999.00,9,     9.93,2,     0.02,2,     0.74,2, -999.000,9, -999.000,9,  -999.00,9,   -999.0,9,   -999.0,9,-999.0000,9,   -999.0,  9,  -999.00,9,   -999.0,  -999.00,9,  -999.00,9,     0.03,2,     0.05,2,   -999.0,-999.0000, -999,9,  153,  20.8557,  24.6730,   -999.0,9
       RF99-09,  165E,RF-0933,  1,     15,02-10155,2,19991012,2347,  0.1663, 164.9958, 4390,    177.7,  18.8314,  35.4397,2,   -999.0,9,-999.0000,9,    143.9,2,     4.84,2,  -999.00,9,    11.40,2,     0.01,2,     0.85,2, -999.000,9, -999.000,9,  -999.00,9,   -999.0,9,   -999.0,9,-999.0000,9,   -999.0,  9,  -999.00,9,   -999.0,  -999.00,9,  -999.00,9,  -999.00,9,  -999.00,9,   -999.0,-999.0000, -999,9,  177,  18.7998,  25.4083,   -999.0,9
       RF99-09,  165E,RF-0933,  1,     14,02-13579,2,19991012,2346,  0.1663, 164.9958, 4390,    202.6,  16.7858,  35.1548,2,   -999.0,9,  35.2173,4,    145.2,2,     8.50,2,  -999.00,9,    13.60,2,     0.01,2,     0.98,2, -999.000,9, -999.000,9,  -999.00,9,   -999.0,9,   -999.0,9,-999.0000,9,   -999.0,  9,  -999.00,9,   -999.0,  -999.00,9,  -999.00,9,     0.00,2,     0.02,2,    203.0,-999.0000, -999,9,  201,  16.7526,  25.6917,   -999.0,9
       RF99-09,  165E,RF-0933,  1,     13,02-13590,2,19991012,2344,  0.1663, 164.9958, 4390,    252.2,  13.2106,  34.9470,2,   -999.0,9,-999.0000,9,    137.0,2,    15.75,2,  -999.00,9,    19.64,2,     0.00,2,     1.38,2, -999.000,9, -999.000,9,  -999.00,9,   -999.0,9,   -999.0,9,-999.0000,9,   -999.0,  9,  -999.00,9,   -999.0,  -999.00,9,  -999.00,9,  -999.00,9,  -999.00,9,   -999.0,-999.0000, -999,9,  251,  13.1755,  26.3164,   -999.0,9
       RF99-09,  165E,RF-0933,  1,     12,02-12821,2,19991012,2342,  0.1663, 164.9958, 4390,    300.7,  12.0491,  34.8796,2,   -999.0,9,  34.8826,2,    128.1,2,    17.63,2,  -999.00,9,    22.30,2,     0.00,2,     1.55,2, -999.000,9, -999.000,9,  -999.00,9,   -999.0,9,   -999.0,9,-999.0000,9,   -999.0,  9,  -999.00,9,   -999.0,  -999.00,9,  -999.00,9,  -999.00,9,  -999.00,9,   -999.0,-999.0000, -999,9,  299,  12.0096,  26.4938,   -999.0,9
       RF99-09,  165E,RF-0933,  1,     11,02-12811,2,19991012,2340,  0.1663, 164.9958, 4390,    403.2,   9.5766,  34.6830,2,   -999.0,9,  34.6849,2,     97.9,2,    27.51,2,  -999.00,9,    29.72,2,     0.00,2,     2.05,2, -999.000,9, -999.000,9,  -999.00,9,   -999.0,9,   -999.0,9,-999.0000,9,   -999.0,  9,  -999.00,9,   -999.0,  -999.00,9,  -999.00,9,  -999.00,9,  -999.00,9,   -999.0,-999.0000, -999,9,  401,   9.5308,  26.7834,   -999.0,9
       RF99-09,  165E,RF-0933,  1,     10,02-12820,2,19991012,2338,  0.1663, 164.9958, 4390,    503.3,   7.7012,  34.5829,2,   -999.0,9,  34.5850,2,    121.8,2,    32.66,2,  -999.00,9,    31.02,2,     0.00,2,     2.15,2, -999.000,9, -999.000,9,  -999.00,9,   -999.0,9,   -999.0,9,-999.0000,9,   -999.0,  9,  -999.00,9,   -999.0,  -999.00,9,  -999.00,9,  -999.00,9,  -999.00,9,   -999.0,-999.0000, -999,9,  500,   7.6507,  26.9978,   -999.0,9
       RF99-09,  165E,RF-0933,  1,      9,02-12810,2,19991012,2336,  0.1663, 164.9958, 4390,    604.3,   6.9191,  34.5578,2,   -999.0,9,  34.5118,4,    106.1,2,    41.50,2,  -999.00,9,    34.18,2,     0.00,2,     2.40,2, -999.000,9, -999.000,9,  -999.00,9,   -999.0,9,   -999.0,9,-999.0000,9,   -999.0,  9,  -999.00,9,   -999.0,  -999.00,9,  -999.00,9,  -999.00,9,  -999.00,9,   -999.0,-999.0000, -999,9,  600,   6.8616,  27.0895,   -999.0,9
       RF99-09,  165E,RF-0933,  1,      8,02-12819,2,19991012,2333,  0.1663, 164.9958, 4390,    704.6,   5.9504,  34.5458,2,   -999.0,9,  34.4984,4,     82.8,2,    56.78,2,  -999.00,9,    37.92,2,     0.00,2,     2.69,2, -999.000,9, -999.000,9,  -999.00,9,   -999.0,9,   -999.0,9,-999.0000,9,   -999.0,  9,  -999.00,9,   -999.0,  -999.00,9,  -999.00,9,  -999.00,9,  -999.00,9,   -999.0,-999.0000, -999,9,  700,   5.8880,  27.2080,   -999.0,9
       RF99-09,  165E,RF-0933,  1,      7,02-12815,2,19991012,2331,  0.1663, 164.9958, 4390,    807.1,   5.5185,  34.5383,2,   -999.0,9,  34.5218,4,     96.0,2,    61.76,2,  -999.00,9,    37.24,2,     0.00,2,     2.65,2, -999.000,9, -999.000,9,  -999.00,9,   -999.0,9,   -999.0,9,-999.0000,9,   -999.0,  9,  -999.00,9,   -999.0,  -999.00,9,  -999.00,9,  -999.00,9,  -999.00,9,   -999.0,-999.0000, -999,9,  801,   5.4491,  27.2561,   -999.0,9
       RF99-09,  165E,RF-0933,  1,      6,02-12818,2,19991012,2328,  0.1663, 164.9958, 4390,    908.8,   5.0038,  34.5486,2,   -999.0,9,-999.0000,9,     86.4,2,    71.91,2,  -999.00,9,    38.72,2,     0.00,2,     2.76,2, -999.000,9, -999.000,9,  -999.00,9,   -999.0,9,   -999.0,9,-999.0000,9,   -999.0,  9,  -999.00,9,   -999.0,  -999.00,9,  -999.00,9,  -999.00,9,  -999.00,9,   -999.0,-999.0000, -999,9,  902,   4.9286,  27.3256,   -999.0,9
       RF99-09,  165E,RF-0933,  1,      5,02-12809,2,19991012,2326,  0.1663, 164.9958, 4390,   1009.4,   4.5041,  34.5564,2,   -999.0,9,  34.5834,4,     88.5,2,    81.98,2,  -999.00,9,    38.98,2,     0.00,2,     2.80,2, -999.000,9, -999.000,9,  -999.00,9,   -999.0,9,   -999.0,9,-999.0000,9,   -999.0,  9,  -999.00,9,   -999.0,  -999.00,9,  -999.00,9,  -999.00,9,  -999.00,9,   -999.0,-999.0000, -999,9, 1001,   4.4237,  27.3883,   -999.0,9
       RF99-09,  165E,RF-0933,  1,      4,02-12817,2,19991012,2321,  0.1663, 164.9958, 4390,   1262.2,   3.7243,  34.5741,2,   -999.0,9,  34.5598,4,     98.7,2,    96.81,2,  -999.00,9,    38.73,2,     0.00,2,     2.77,2, -999.000,9, -999.000,9,  -999.00,9,   -999.0,9,   -999.0,9,-999.0000,9,   -999.0,  9,  -999.00,9,   -999.0,  -999.00,9,  -999.00,9,  -999.00,9,  -999.00,9,   -999.0,-999.0000, -999,9, 1252,   3.6288,  27.4851,   -999.0,9
       RF99-09,  165E,RF-0933,  1,      3,02-12808,2,19991012,2316,  0.1663, 164.9958, 4390,   1515.8,   3.0891,  34.6008,2,   -999.0,9,  34.5985,2,     99.3,2,   111.23,2,  -999.00,9,    39.18,2,     0.00,2,     2.81,2, -999.000,9, -999.000,9,  -999.00,9,   -999.0,9,   -999.0,9,-999.0000,9,   -999.0,  9,  -999.00,9,   -999.0,  -999.00,9,  -999.00,9,  -999.00,9,  -999.00,9,   -999.0,-999.0000, -999,9, 1502,   2.9789,  27.5684,   -999.0,9
       RF99-09,  165E,RF-0933,  1,      2,02-13589,2,19991012,2311,  0.1663, 164.9958, 4390,   1768.0,   2.5919,  34.6227,2,   -999.0,9,  34.5869,4,    107.7,2,   122.14,2,  -999.00,9,    38.76,2,     0.00,2,     2.74,2, -999.000,9, -999.000,9,  -999.00,9,   -999.0,9,   -999.0,9,-999.0000,9,   -999.0,  9,  -999.00,9,   -999.0,  -999.00,9,  -999.00,9,  -999.00,9,  -999.00,9,   -999.0,-999.0000, -999,9, 1751,   2.4665,  27.6311,   -999.0,9
       RF99-09,  165E,RF-0933,  1,      1,02-12807,2,19991012,2306,  0.1663, 164.9958, 4390,   2034.2,   2.2308,  34.6418,2,   -999.0,9,  34.6391,2,    115.5,2,   129.03,2,  -999.00,9,    38.40,2,     0.00,2,     2.71,2, -999.000,9, -999.000,9,  -999.00,9,   -999.0,9,   -999.0,9,-999.0000,9,   -999.0,  9,  -999.00,9,   -999.0,  -999.00,9,  -999.00,9,  -999.00,9,  -999.00,9,   2029.7,-999.0000, -999,9, 2013,   2.0879,  27.6777,   -999.0,9