BOTTLE,20130510GEMDJMAYT
EXPOCODE,SECT_ID,STNNBR,CASTNO,SAMPNO,BTLNBR,BTLNBR_FLAG_W,DATE,TIME,LATITUDE,LONGITUDE,DEPTH,CTDPRS,CTDTMP,CTDSAL,CTDSAL_FLAG_W,CTDOXY,CTDOXY_FLAG_W,SALNTY,SALNTY_FLAG_W,OXYGEN,OXYGEN_FLAG_W,SILCAT,SILCAT_FLAG_W,NITRAT,NITRAT_FLAG_W,NO2+NO3,NO2+NO3_FLAG_W,NITRIT,NITRIT_FLAG_W,PHSPHT,PHSPHT_FLAG_W,CFC-11,CFC-11_FLAG_W,CFC-12,CFC-12_FLAG_W,DELC13,DELC13_FLAG_W,TCARBN,TCARBN_FLAG_W,ALKALI,ALKALI_FLAG_W,PH,PH_FLAG_W,PH_TMP,PH_SCALE,PH_NBS,PH_NBS_FLAG_W,C13ERR,TOTALP,TOTALP_FLAG_W,AMMONI,AMMONI_FLAG_W,CHLORA,CHLORA_FLAG_W,PPHYTN,PPHYTN_FLAG_W,REVPRS,REVTMP,DEPTH_,DEPTH_FLAG,CTDDEP,THETA,SIGTHT,DOC,DOC_FLAG_W
,,,,,,,GMT,GMT,,,METER,DBAR,ITS-90,PSS-78,,UMOL/KG,,PSS-78,,UMOL/KG,,UMOL/KG,,UMOL/KG,,UMOL/KG,,UMOL/KG,,UMOL/KG,,PMOL/KG,,PMOL/KG,,/MILLE,,UMOL/KG,,UMOL/KG,,25_DEG_C,,DEG_C,,,,/MILLE,UMOL/KG,,UMOL/KG,,UG/L,,UG/L,,DBAR,ITS-90,METERS,,METERS,DEG_C,,UMOL/L,
       RF99-09, EQPAC,RF-0948,  1,     -9,      -9,5,19991020,0959, -0.0137, 149.0015, 5708,      0.0,  29.9365,  34.0259,2,   -999.0,9,-999.0000,9,    196.9,2,     1.49,2,  -999.00,9,     0.00,2,     0.00,2,     0.06,2, -999.000,9, -999.000,9,  -999.00,9,   -999.0,9,   -999.0,9,-999.0000,9,   -999.0,  9,  -999.00,9,   -999.0,  -999.00,9,  -999.00,9,     0.07,2,     0.02,2,   -999.0,-999.0000, -999,9,    0,  29.9365,  21.0177,   -999.0,9
       RF99-09, EQPAC,RF-0948,  1,     23,02-12829,2,19991020,0956, -0.0137, 149.0015, 5708,     11.4,  29.6928,  34.2917,2,   -999.0,9,-999.0000,9,    197.0,2,     1.56,2,  -999.00,9,     0.00,2,     0.00,2,     0.10,2, -999.000,9, -999.000,9,  -999.00,9,   -999.0,9,   -999.0,9,-999.0000,9,   -999.0,  9,  -999.00,9,   -999.0,  -999.00,9,  -999.00,9,     0.09,2,     0.03,2,   -999.0,-999.0000, -999,9,   11,  29.6900,  21.3005,   -999.0,9
       RF99-09, EQPAC,RF-0948,  1,     22,02-12828,2,19991020,0955, -0.0137, 149.0015, 5708,     26.5,  29.5687,  34.7822,2,   -999.0,9,-999.0000,9,    196.3,2,     1.49,2,  -999.00,9,     0.00,2,     0.00,2,     0.16,2, -999.000,9, -999.000,9,  -999.00,9,   -999.0,9,   -999.0,9,-999.0000,9,   -999.0,  9,  -999.00,9,   -999.0,  -999.00,9,  -999.00,9,     0.13,2,     0.05,2,   -999.0,-999.0000, -999,9,   26,  29.5622,  21.7117,   -999.0,9
       RF99-09, EQPAC,RF-0948,  1,     21,02-12827,2,19991020,0953, -0.0137, 149.0015, 5708,     41.6,  29.2935,  34.9312,2,   -999.0,9,-999.0000,9,    199.9,2,     1.49,2,  -999.00,9,     0.00,2,     0.00,2,     0.18,2, -999.000,9, -999.000,9,  -999.00,9,   -999.0,9,   -999.0,9,-999.0000,9,   -999.0,  9,  -999.00,9,   -999.0,  -999.00,9,  -999.00,9,  -999.00,9,  -999.00,9,   -999.0,-999.0000, -999,9,   41,  29.2834,  21.9175,   -999.0,9
       RF99-09, EQPAC,RF-0948,  1,     20,02-12826,2,19991020,0951, -0.0137, 149.0015, 5708,     51.5,  29.2874,  35.0588,2,   -999.0,9,-999.0000,9,    199.6,2,     1.43,2,  -999.00,9,     0.00,2,     0.00,2,     0.19,2, -999.000,9, -999.000,9,  -999.00,9,   -999.0,9,   -999.0,9,-999.0000,9,   -999.0,  9,  -999.00,9,   -999.0,  -999.00,9,  -999.00,9,     0.20,2,     0.12,2,   -999.0,-999.0000, -999,9,   51,  29.2749,  22.0161,   -999.0,9
       RF99-09, EQPAC,RF-0948,  1,     19,02-12825,2,19991020,0950, -0.0137, 149.0015, 5708,     61.7,  29.3090,  35.0982,2,   -999.0,9,-999.0000,9,    199.8,2,     1.49,2,  -999.00,9,     0.00,2,     0.00,2,     0.19,2, -999.000,9, -999.000,9,  -999.00,9,   -999.0,9,   -999.0,9,-999.0000,9,   -999.0,  9,  -999.00,9,   -999.0,  -999.00,9,  -999.00,9,  -999.00,9,  -999.00,9,   -999.0,-999.0000, -999,9,   61,  29.2940,  22.0392,   -999.0,9
       RF99-09, EQPAC,RF-0948,  1,     18,02-12830,2,19991020,0948, -0.0137, 149.0015, 5708,     77.5,  28.6325,  35.1356,2,   -999.0,9,-999.0000,9,    193.5,2,     1.74,2,  -999.00,9,     1.05,2,     0.16,2,     0.26,2, -999.000,9, -999.000,9,  -999.00,9,   -999.0,9,   -999.0,9,-999.0000,9,   -999.0,  9,  -999.00,9,   -999.0,  -999.00,9,  -999.00,9,     0.38,2,     0.25,2,   -999.0,-999.0000, -999,9,   77,  28.6139,  22.2945,   -999.0,9
       RF99-09, EQPAC,RF-0948,  1,     17,02-13591,2,19991020,0947, -0.0137, 149.0015, 5708,     93.5,  27.1984,  35.2679,2,   -999.0,9,-999.0000,9,    174.0,2,     2.06,2,  -999.00,9,     3.96,2,     0.44,2,     0.43,2, -999.000,9, -999.000,9,  -999.00,9,   -999.0,9,   -999.0,9,-999.0000,9,   -999.0,  9,  -999.00,9,   -999.0,  -999.00,9,  -999.00,9,  -999.00,9,  -999.00,9,   -999.0,-999.0000, -999,9,   93,  27.1769,  22.8629,   -999.0,9
       RF99-09, EQPAC,RF-0948,  1,     16,02-13588,2,19991020,0945, -0.0137, 149.0015, 5708,    103.9,  27.0241,  35.2686,2,   -999.0,9,  35.2177,4,    170.2,2,     2.12,2,  -999.00,9,     4.48,2,     0.39,2,     0.46,2, -999.000,9, -999.000,9,  -999.00,9,   -999.0,9,   -999.0,9,-999.0000,9,   -999.0,  9,  -999.00,9,   -999.0,  -999.00,9,  -999.00,9,     0.29,2,     0.34,2,   -999.0,-999.0000, -999,9,  103,  27.0002,  22.9200,   -999.0,9
       RF99-09, EQPAC,RF-0948,  1,     15,02-10155,2,19991020,0944, -0.0137, 149.0015, 5708,    112.1,  26.3839,  35.3328,2,   -999.0,9,-999.0000,9,    161.9,2,     2.25,2,  -999.00,9,     5.54,2,     0.21,2,     0.51,2, -999.000,9, -999.000,9,  -999.00,9,   -999.0,9,   -999.0,9,-999.0000,9,   -999.0,  9,  -999.00,9,   -999.0,  -999.00,9,  -999.00,9,  -999.00,9,  -999.00,9,   -999.0,-999.0000, -999,9,  111,  26.3586,  23.1720,   -999.0,9
       RF99-09, EQPAC,RF-0948,  1,     14,02-13579,2,19991020,0943, -0.0137, 149.0015, 5708,    126.5,  24.1812,  35.3049,2,   -999.0,9,-999.0000,9,    145.5,2,     3.73,2,  -999.00,9,     7.59,2,     0.03,2,     0.63,2, -999.000,9, -999.000,9,  -999.00,9,   -999.0,9,   -999.0,9,-999.0000,9,   -999.0,  9,  -999.00,9,   -999.0,  -999.00,9,  -999.00,9,     0.08,2,     0.27,2,    122.4,-999.0000, -999,9,  126,  24.1544,  23.8263,   -999.0,9
       RF99-09, EQPAC,RF-0948,  1,     13,02-13590,2,19991020,0941, -0.0137, 149.0015, 5708,    152.1,  21.1803,  35.2332,2,   -999.0,9,-999.0000,9,    144.0,2,     5.87,2,  -999.00,9,     9.58,2,     0.02,2,     0.74,2, -999.000,9, -999.000,9,  -999.00,9,   -999.0,9,   -999.0,9,-999.0000,9,   -999.0,  9,  -999.00,9,   -999.0,  -999.00,9,  -999.00,9,     0.06,2,     0.16,2,   -999.0,-999.0000, -999,9,  151,  21.1510,  24.6303,   -999.0,9
       RF99-09, EQPAC,RF-0948,  1,     12,02-12821,2,19991020,0940, -0.0137, 149.0015, 5708,    176.8,  19.6430,  35.3378,2,   -999.0,9,-999.0000,9,    143.3,2,     5.65,2,  -999.00,9,    10.37,2,     0.01,2,     0.78,2, -999.000,9, -999.000,9,  -999.00,9,   -999.0,9,   -999.0,9,-999.0000,9,   -999.0,  9,  -999.00,9,   -999.0,  -999.00,9,  -999.00,9,  -999.00,9,  -999.00,9,   -999.0,-999.0000, -999,9,  176,  19.6107,  25.1217,   -999.0,9
       RF99-09, EQPAC,RF-0948,  1,     11,02-12811,2,19991020,0938, -0.0137, 149.0015, 5708,    204.4,  18.7823,  35.4483,2,   -999.0,9,  35.4346,4,    143.3,2,     5.00,2,  -999.00,9,    11.06,2,     0.01,2,     0.85,2, -999.000,9, -999.000,9,  -999.00,9,   -999.0,9,   -999.0,9,-999.0000,9,   -999.0,  9,  -999.00,9,   -999.0,  -999.00,9,  -999.00,9,     0.01,2,     0.02,2,   -999.0,-999.0000, -999,9,  203,  18.7460,  25.4286,   -999.0,9
       RF99-09, EQPAC,RF-0948,  1,     10,02-12820,2,19991020,0936, -0.0137, 149.0015, 5708,    253.9,  14.7787,  35.1377,2,   -999.0,9,-999.0000,9,    147.8,2,     9.81,2,  -999.00,9,    15.95,2,     0.00,2,     1.14,2, -999.000,9, -999.000,9,  -999.00,9,   -999.0,9,   -999.0,9,-999.0000,9,   -999.0,  9,  -999.00,9,   -999.0,  -999.00,9,  -999.00,9,  -999.00,9,  -999.00,9,   -999.0,-999.0000, -999,9,  252,  14.7405,  26.1350,   -999.0,9
       RF99-09, EQPAC,RF-0948,  1,      9,02-12810,2,19991020,0934, -0.0137, 149.0015, 5708,    304.0,  12.4731,  34.9046,2,   -999.0,9,-999.0000,9,    145.4,2,    11.99,2,  -999.00,9,    17.34,2,     0.00,2,     1.24,2, -999.000,9, -999.000,9,  -999.00,9,   -999.0,9,   -999.0,9,-999.0000,9,   -999.0,  9,  -999.00,9,   -999.0,  -999.00,9,  -999.00,9,  -999.00,9,  -999.00,9,   -999.0,-999.0000, -999,9,  302,  12.4322,  26.4315,   -999.0,9
       RF99-09, EQPAC,RF-0948,  1,      8,02-12819,2,19991020,0931, -0.0137, 149.0015, 5708,    354.3,  10.5529,  34.7634,2,   -999.0,9,  34.7638,2,    124.2,2,    22.07,2,  -999.00,9,    25.43,2,     0.00,2,     1.74,2, -999.000,9, -999.000,9,  -999.00,9,   -999.0,9,   -999.0,9,-999.0000,9,   -999.0,  9,  -999.00,9,   -999.0,  -999.00,9,  -999.00,9,  -999.00,9,  -999.00,9,   -999.0,-999.0000, -999,9,  352,  10.5102,  26.6787,   -999.0,9
       RF99-09, EQPAC,RF-0948,  1,      7,02-12815,2,19991020,0929, -0.0137, 149.0015, 5708,    403.5,   9.3879,  34.6887,2,   -999.0,9,  34.6812,4,    119.0,2,    25.49,2,  -999.00,9,    28.47,2,     0.00,2,     1.93,2, -999.000,9, -999.000,9,  -999.00,9,   -999.0,9,   -999.0,9,-999.0000,9,   -999.0,  9,  -999.00,9,   -999.0,  -999.00,9,  -999.00,9,  -999.00,9,  -999.00,9,   -999.0,-999.0000, -999,9,  401,   9.3425,  26.8188,   -999.0,9
       RF99-09, EQPAC,RF-0948,  1,      6,02-12818,2,19991020,0927, -0.0137, 149.0015, 5708,    454.2,   8.8660,  34.6519,2,   -999.0,9,-999.0000,9,    120.2,2,    26.78,2,  -999.00,9,    28.95,2,     0.00,2,     1.97,2, -999.000,9, -999.000,9,  -999.00,9,   -999.0,9,   -999.0,9,-999.0000,9,   -999.0,  9,  -999.00,9,   -999.0,  -999.00,9,  -999.00,9,  -999.00,9,  -999.00,9,   -999.0,-999.0000, -999,9,  451,   8.8166,  26.8747,   -999.0,9
       RF99-09, EQPAC,RF-0948,  1,      5,02-12809,2,19991020,0925, -0.0137, 149.0015, 5708,    505.5,   7.9521,  34.5915,2,   -999.0,9,  34.6251,4,    119.2,2,    33.36,2,  -999.00,9,    30.88,2,     0.00,2,     2.10,2, -999.000,9, -999.000,9,  -999.00,9,   -999.0,9,   -999.0,9,-999.0000,9,   -999.0,  9,  -999.00,9,   -999.0,  -999.00,9,  -999.00,9,  -999.00,9,  -999.00,9,   -999.0,-999.0000, -999,9,  502,   7.9005,  26.9678,   -999.0,9
       RF99-09, EQPAC,RF-0948,  1,      4,02-12817,2,19991020,0922, -0.0137, 149.0015, 5708,    602.2,   6.7352,  34.5416,2,   -999.0,9,  34.5411,2,    131.9,2,    39.48,2,  -999.00,9,    32.18,2,     0.00,2,     2.20,2, -999.000,9, -999.000,9,  -999.00,9,   -999.0,9,   -999.0,9,-999.0000,9,   -999.0,  9,  -999.00,9,   -999.0,  -999.00,9,  -999.00,9,  -999.00,9,  -999.00,9,   -999.0,-999.0000, -999,9,  598,   6.6788,  27.1015,   -999.0,9
       RF99-09, EQPAC,RF-0948,  1,      3,02-12808,2,19991020,0919, -0.0137, 149.0015, 5708,    704.4,   6.1419,  34.5290,2,   -999.0,9,  34.5523,4,    124.9,2,    47.18,2,  -999.00,9,    33.80,2,     0.00,2,     2.35,2, -999.000,9, -999.000,9,  -999.00,9,   -999.0,9,   -999.0,9,-999.0000,9,   -999.0,  9,  -999.00,9,   -999.0,  -999.00,9,  -999.00,9,  -999.00,9,  -999.00,9,   -999.0,-999.0000, -999,9,  699,   6.0785,  27.1705,   -999.0,9
       RF99-09, EQPAC,RF-0948,  1,      2,02-13589,2,19991020,0916, -0.0137, 149.0015, 5708,    806.4,   5.3579,  34.5382,2,   -999.0,9,  34.5663,4,     95.2,2,    65.11,2,  -999.00,9,    37.74,2,     0.00,2,     2.65,2, -999.000,9, -999.000,9,  -999.00,9,   -999.0,9,   -999.0,9,-999.0000,9,   -999.0,  9,  -999.00,9,   -999.0,  -999.00,9,  -999.00,9,  -999.00,9,  -999.00,9,   -999.0,-999.0000, -999,9,  800,   5.2896,  27.2752,   -999.0,9
       RF99-09, EQPAC,RF-0948,  1,      1,02-12807,2,19991020,0911, -0.0137, 149.0015, 5708,   1017.2,   4.7251,  34.5513,2,   -999.0,9,  34.5529,2,     91.0,2,    78.43,2,  -999.00,9,    38.64,2,     0.00,2,     2.74,2, -999.000,9, -999.000,9,  -999.00,9,   -999.0,9,   -999.0,9,-999.0000,9,   -999.0,  9,  -999.00,9,   -999.0,  -999.00,9,  -999.00,9,  -999.00,9,  -999.00,9,   1015.5,-999.0000, -999,9, 1009,   4.6423,  27.3601,   -999.0,9