BOTTLE,20130510GEMDJMAYT
EXPOCODE,SECT_ID,STNNBR,CASTNO,SAMPNO,BTLNBR,BTLNBR_FLAG_W,DATE,TIME,LATITUDE,LONGITUDE,DEPTH,CTDPRS,CTDTMP,CTDSAL,CTDSAL_FLAG_W,CTDOXY,CTDOXY_FLAG_W,SALNTY,SALNTY_FLAG_W,OXYGEN,OXYGEN_FLAG_W,SILCAT,SILCAT_FLAG_W,NITRAT,NITRAT_FLAG_W,NO2+NO3,NO2+NO3_FLAG_W,NITRIT,NITRIT_FLAG_W,PHSPHT,PHSPHT_FLAG_W,CFC-11,CFC-11_FLAG_W,CFC-12,CFC-12_FLAG_W,DELC13,DELC13_FLAG_W,TCARBN,TCARBN_FLAG_W,ALKALI,ALKALI_FLAG_W,PH,PH_FLAG_W,PH_TMP,PH_SCALE,PH_NBS,PH_NBS_FLAG_W,C13ERR,TOTALP,TOTALP_FLAG_W,AMMONI,AMMONI_FLAG_W,CHLORA,CHLORA_FLAG_W,PPHYTN,PPHYTN_FLAG_W,REVPRS,REVTMP,DEPTH_,DEPTH_FLAG,CTDDEP,THETA,SIGTHT,DOC,DOC_FLAG_W
,,,,,,,GMT,GMT,,,METER,DBAR,ITS-90,PSS-78,,UMOL/KG,,PSS-78,,UMOL/KG,,UMOL/KG,,UMOL/KG,,UMOL/KG,,UMOL/KG,,UMOL/KG,,PMOL/KG,,PMOL/KG,,/MILLE,,UMOL/KG,,UMOL/KG,,25_DEG_C,,DEG_C,,,,/MILLE,UMOL/KG,,UMOL/KG,,UG/L,,UG/L,,DBAR,ITS-90,METERS,,METERS,DEG_C,,UMOL/L,
       RF99-09,  165E,RF-0903,  1,     -9,      -9,5,19990924,1152, 29.9958, 164.9957, 5853,      0.0,  28.0025,  34.4812,2,   -999.0,9,-999.0000,9,    203.0,2,     1.56,2,  -999.00,9,     0.08,2,     0.00,2,     0.01,2, -999.000,9, -999.000,9,  -999.00,9,   -999.0,9,   -999.0,9,-999.0000,9,   -999.0,  9,  -999.00,9,   -999.0,  -999.00,9,  -999.00,9,     0.05,2,     0.02,2,   -999.0,-999.0000, -999,9,    0,  28.0025,  22.0037,   -999.0,9
       RF99-09,  165E,RF-0903,  1,     21,02-12827,2,19990924,1150, 29.9958, 164.9957, 5853,      9.1,  28.0094,  34.5657,2,   -999.0,9,-999.0000,9,    202.0,2,     1.68,2,  -999.00,9,     0.00,2,     0.00,2,     0.00,2, -999.000,9, -999.000,9,  -999.00,9,   -999.0,9,   -999.0,9,-999.0000,9,   -999.0,  9,  -999.00,9,   -999.0,  -999.00,9,  -999.00,9,     0.05,2,     0.02,2,   -999.0,-999.0000, -999,9,    9,  28.0073,  22.0657,   -999.0,9
       RF99-09,  165E,RF-0903,  1,     20,02-12826,2,19990924,1149, 29.9958, 164.9957, 5853,     25.9,  27.6564,  34.7560,2,   -999.0,9,-999.0000,9,    206.3,2,     1.66,2,  -999.00,9,     0.00,2,     0.00,2,     0.00,2, -999.000,9, -999.000,9,  -999.00,9,   -999.0,9,   -999.0,9,-999.0000,9,   -999.0,  9,  -999.00,9,   -999.0,  -999.00,9,  -999.00,9,     0.05,2,     0.01,2,   -999.0,-999.0000, -999,9,   26,  27.6503,  22.3249,   -999.0,9
       RF99-09,  165E,RF-0903,  1,     19,02-12825,2,19990924,1148, 29.9958, 164.9957, 5853,     48.7,  22.0414,  34.8195,2,   -999.0,9,-999.0000,9,    242.7,2,     2.07,2,  -999.00,9,     0.00,2,     0.00,2,     0.00,2, -999.000,9, -999.000,9,  -999.00,9,   -999.0,9,   -999.0,9,-999.0000,9,   -999.0,  9,  -999.00,9,   -999.0,  -999.00,9,  -999.00,9,     0.10,2,     0.05,2,   -999.0,-999.0000, -999,9,   48,  22.0318,  24.0718,   -999.0,9
       RF99-09,  165E,RF-0903,  1,     18,02-12830,2,19990924,1146, 29.9958, 164.9957, 5853,     74.3,  20.0113,  34.7726,2,   -999.0,9,-999.0000,9,    233.9,2,     2.24,2,  -999.00,9,     0.00,2,     0.00,2,     0.01,2, -999.000,9, -999.000,9,  -999.00,9,   -999.0,9,   -999.0,9,-999.0000,9,   -999.0,  9,  -999.00,9,   -999.0,  -999.00,9,  -999.00,9,     0.20,2,     0.10,2,   -999.0,-999.0000, -999,9,   74,  19.9976,  24.5889,   -999.0,9
       RF99-09,  165E,RF-0903,  1,     17,02-13591,2,19990924,1145, 29.9958, 164.9957, 5853,     98.4,  18.9430,  34.7660,2,   -999.0,9,  34.7666,2,    222.8,2,     2.38,2,  -999.00,9,     0.07,2,     0.02,2,     0.04,2, -999.000,9, -999.000,9,  -999.00,9,   -999.0,9,   -999.0,9,-999.0000,9,   -999.0,  9,  -999.00,9,   -999.0,  -999.00,9,  -999.00,9,     0.37,2,     0.53,2,   -999.0,-999.0000, -999,9,   98,  18.9255,  24.8613,   -999.0,9
       RF99-09,  165E,RF-0903,  1,     16,02-13588,2,19990924,1144, 29.9958, 164.9957, 5853,    123.6,  18.3800,  34.7656,2,   -999.0,9,-999.0000,9,    212.2,2,     3.04,2,  -999.00,9,     2.42,2,     0.03,2,     0.15,2, -999.000,9, -999.000,9,  -999.00,9,   -999.0,9,   -999.0,9,-999.0000,9,   -999.0,  9,  -999.00,9,   -999.0,  -999.00,9,  -999.00,9,     0.13,2,     0.33,2,   -999.0,-999.0000, -999,9,  123,  18.3585,  25.0037,   -999.0,9
       RF99-09,  165E,RF-0903,  1,     15,02-10155,2,19990924,1142, 29.9958, 164.9957, 5853,    147.5,  18.1144,  34.7660,2,   -999.0,9,-999.0000,9,    212.7,2,     3.19,2,  -999.00,9,     3.03,2,     0.01,2,     0.18,2, -999.000,9, -999.000,9,  -999.00,9,   -999.0,9,   -999.0,9,-999.0000,9,   -999.0,  9,  -999.00,9,   -999.0,  -999.00,9,  -999.00,9,     0.07,2,     0.12,2,   -999.0,-999.0000, -999,9,  146,  18.0891,  25.0708,   -999.0,9
       RF99-09,  165E,RF-0903,  1,     14,02-13579,2,19990924,1141, 29.9958, 164.9957, 5853,    197.3,  17.5007,  34.7738,2,   -999.0,9,  34.8178,4,    204.0,2,     4.29,2,  -999.00,9,     4.58,2,     0.00,2,     0.27,2, -999.000,9, -999.000,9,  -999.00,9,   -999.0,9,   -999.0,9,-999.0000,9,   -999.0,  9,  -999.00,9,   -999.0,  -999.00,9,  -999.00,9,     0.01,2,     0.01,2,    195.1,-999.0000, -999,9,  196,  17.4675,  25.2287,   -999.0,9
       RF99-09,  165E,RF-0903,  1,     13,02-13590,2,19990924,1138, 29.9958, 164.9957, 5853,    249.9,  16.6315,  34.7492,2,   -999.0,9,-999.0000,9,    202.9,2,     5.40,2,  -999.00,9,     5.89,2,     0.00,2,     0.35,2, -999.000,9, -999.000,9,  -999.00,9,   -999.0,9,   -999.0,9,-999.0000,9,   -999.0,  9,  -999.00,9,   -999.0,  -999.00,9,  -999.00,9,  -999.00,9,  -999.00,9,   -999.0,-999.0000, -999,9,  248,  16.5909,  25.4181,   -999.0,9
       RF99-09,  165E,RF-0903,  1,     12,02-12821,2,19990924,1137, 29.9958, 164.9957, 5853,    299.0,  15.8145,  34.6820,2,   -999.0,9,  34.7227,4,    206.5,2,     6.44,2,  -999.00,9,     6.86,2,     0.00,2,     0.41,2, -999.000,9, -999.000,9,  -999.00,9,   -999.0,9,   -999.0,9,-999.0000,9,   -999.0,  9,  -999.00,9,   -999.0,  -999.00,9,  -999.00,9,  -999.00,9,  -999.00,9,   -999.0,-999.0000, -999,9,  297,  15.7676,  25.5558,   -999.0,9
       RF99-09,  165E,RF-0903,  1,     11,02-12811,2,19990924,1134, 29.9958, 164.9957, 5853,    399.3,  13.7858,  34.5216,2,   -999.0,9,  34.5710,4,    200.7,2,    11.33,2,  -999.00,9,    10.17,2,     0.00,2,     0.64,2, -999.000,9, -999.000,9,  -999.00,9,   -999.0,9,   -999.0,9,-999.0000,9,   -999.0,  9,  -999.00,9,   -999.0,  -999.00,9,  -999.00,9,  -999.00,9,  -999.00,9,   -999.0,-999.0000, -999,9,  396,  13.7286,  25.8739,   -999.0,9
       RF99-09,  165E,RF-0903,  1,     10,02-12820,2,19990924,1132, 29.9958, 164.9957, 5853,    503.1,  11.2907,  34.3290,2,   -999.0,9,  34.3612,4,    198.1,2,    19.61,2,  -999.00,9,    15.53,2,     0.00,2,     1.00,2, -999.000,9, -999.000,9,  -999.00,9,   -999.0,9,   -999.0,9,-999.0000,9,   -999.0,  9,  -999.00,9,   -999.0,  -999.00,9,  -999.00,9,  -999.00,9,  -999.00,9,   -999.0,-999.0000, -999,9,  499,  11.2272,  26.2118,   -999.0,9
       RF99-09,  165E,RF-0903,  1,      9,02-12810,2,19990924,1129, 29.9958, 164.9957, 5853,    604.0,   8.6341,  34.1268,2,   -999.0,9,  34.1289,2,    178.4,2,    34.36,2,  -999.00,9,    22.12,2,     0.00,2,     1.49,2, -999.000,9, -999.000,9,  -999.00,9,   -999.0,9,   -999.0,9,-999.0000,9,   -999.0,  9,  -999.00,9,   -999.0,  -999.00,9,  -999.00,9,  -999.00,9,  -999.00,9,   -999.0,-999.0000, -999,9,  599,   8.5693,  26.5018,   -999.0,9
       RF99-09,  165E,RF-0903,  1,      8,02-12819,2,19990924,1126, 29.9958, 164.9957, 5853,    703.9,   6.3993,  34.0496,2,   -999.0,9,  34.0425,4,    134.6,2,    56.26,2,  -999.00,9,    30.14,2,     0.00,2,     2.08,2, -999.000,9, -999.000,9,  -999.00,9,   -999.0,9,   -999.0,9,-999.0000,9,   -999.0,  9,  -999.00,9,   -999.0,  -999.00,9,  -999.00,9,  -999.00,9,  -999.00,9,   -999.0,-999.0000, -999,9,  698,   6.3352,  26.7588,   -999.0,9
       RF99-09,  165E,RF-0903,  1,      7,02-12815,2,19990924,1124, 29.9958, 164.9957, 5853,    803.6,   5.1436,  34.0810,2,   -999.0,9,  34.0828,2,     92.6,2,    76.94,2,  -999.00,9,    35.95,2,     0.00,2,     2.51,2, -999.000,9, -999.000,9,  -999.00,9,   -999.0,9,   -999.0,9,-999.0000,9,   -999.0,  9,  -999.00,9,   -999.0,  -999.00,9,  -999.00,9,  -999.00,9,  -999.00,9,   -999.0,-999.0000, -999,9,  797,   5.0775,  26.9377,   -999.0,9
       RF99-09,  165E,RF-0903,  1,      6,02-12818,2,19990924,1121, 29.9958, 164.9957, 5853,    905.9,   4.4849,  34.1831,2,   -999.0,9,-999.0000,9,     59.2,2,    94.18,2,  -999.00,9,    39.59,2,     0.00,2,     2.78,2, -999.000,9, -999.000,9,  -999.00,9,   -999.0,9,   -999.0,9,-999.0000,9,   -999.0,  9,  -999.00,9,   -999.0,  -999.00,9,  -999.00,9,  -999.00,9,  -999.00,9,   -999.0,-999.0000, -999,9,  898,   4.4140,  27.0927,   -999.0,9
       RF99-09,  165E,RF-0903,  1,      5,02-12809,2,19990924,1118, 29.9958, 164.9957, 5853,   1008.5,   3.8629,  34.2592,2,   -999.0,9,  34.2543,2,     43.9,2,   110.60,2,  -999.00,9,    41.36,2,     0.00,2,     2.91,2, -999.000,9, -999.000,9,  -999.00,9,   -999.0,9,   -999.0,9,-999.0000,9,   -999.0,  9,  -999.00,9,   -999.0,  -999.00,9,  -999.00,9,  -999.00,9,  -999.00,9,   -999.0,-999.0000, -999,9,  999,   3.7880,  27.2184,   -999.0,9
       RF99-09,  165E,RF-0903,  1,      4,02-12817,2,19990924,1113, 29.9958, 164.9957, 5853,   1261.9,   3.0605,  34.4048,2,   -999.0,9,  34.3498,4,     32.8,2,   133.37,2,  -999.00,9,    42.88,2,     0.00,2,     3.02,2, -999.000,9, -999.000,9,  -999.00,9,   -999.0,9,   -999.0,9,-999.0000,9,   -999.0,  9,  -999.00,9,   -999.0,  -999.00,9,  -999.00,9,  -999.00,9,  -999.00,9,   -999.0,-999.0000, -999,9, 1250,   2.9718,  27.4125,   -999.0,9
       RF99-09,  165E,RF-0903,  1,      3,02-12808,2,19990924,1109, 29.9958, 164.9957, 5853,   1512.4,   2.5236,  34.4907,2,   -999.0,9,  34.5053,4,     38.4,2,   147.58,2,  -999.00,9,    43.02,2,     0.00,2,     3.02,2, -999.000,9, -999.000,9,  -999.00,9,   -999.0,9,   -999.0,9,-999.0000,9,   -999.0,  9,  -999.00,9,   -999.0,  -999.00,9,  -999.00,9,  -999.00,9,  -999.00,9,   -999.0,-999.0000, -999,9, 1497,   2.4204,  27.5294,   -999.0,9
       RF99-09,  165E,RF-0903,  1,      2,02-13589,2,19990924,1104, 29.9958, 164.9957, 5853,   1766.6,   2.1998,  34.5563,2,   -999.0,9,  34.5515,2,     53.4,2,   153.63,2,  -999.00,9,    42.38,2,     0.00,2,     2.94,2, -999.000,9, -999.000,9,  -999.00,9,   -999.0,9,   -999.0,9,-999.0000,9,   -999.0,  9,  -999.00,9,   -999.0,  -999.00,9,  -999.00,9,  -999.00,9,  -999.00,9,   -999.0,-999.0000, -999,9, 1747,   2.0800,  27.6098,   -999.0,9
       RF99-09,  165E,RF-0903,  1,      1,02-12807,2,19990924,1100, 29.9958, 164.9957, 5853,   2031.6,   1.9414,  34.6030,2,   -999.0,9,  34.5995,2,     73.8,2,   155.92,2,  -999.00,9,    41.07,2,     0.00,2,     2.85,2, -999.000,9, -999.000,9,  -999.00,9,   -999.0,9,   -999.0,9,-999.0000,9,   -999.0,  9,  -999.00,9,   -999.0,  -999.00,9,  -999.00,9,  -999.00,9,  -999.00,9,   2026.3,-999.0000, -999,9, 2008,   1.8033,  27.6689,   -999.0,9