BOTTLE,20130510GEMDJMAYT
EXPOCODE,SECT_ID,STNNBR,CASTNO,SAMPNO,BTLNBR,BTLNBR_FLAG_W,DATE,TIME,LATITUDE,LONGITUDE,DEPTH,CTDPRS,CTDTMP,CTDSAL,CTDSAL_FLAG_W,CTDOXY,CTDOXY_FLAG_W,SALNTY,SALNTY_FLAG_W,OXYGEN,OXYGEN_FLAG_W,SILCAT,SILCAT_FLAG_W,NITRAT,NITRAT_FLAG_W,NO2+NO3,NO2+NO3_FLAG_W,NITRIT,NITRIT_FLAG_W,PHSPHT,PHSPHT_FLAG_W,CFC-11,CFC-11_FLAG_W,CFC-12,CFC-12_FLAG_W,DELC13,DELC13_FLAG_W,TCARBN,TCARBN_FLAG_W,ALKALI,ALKALI_FLAG_W,PH,PH_FLAG_W,PH_TMP,PH_SCALE,PH_NBS,PH_NBS_FLAG_W,C13ERR,TOTALP,TOTALP_FLAG_W,AMMONI,AMMONI_FLAG_W,CHLORA,CHLORA_FLAG_W,PPHYTN,PPHYTN_FLAG_W,REVPRS,REVTMP,DEPTH_,DEPTH_FLAG,CTDDEP,THETA,SIGTHT,DOC,DOC_FLAG_W
,,,,,,,GMT,GMT,,,METER,DBAR,ITS-90,PSS-78,,UMOL/KG,,PSS-78,,UMOL/KG,,UMOL/KG,,UMOL/KG,,UMOL/KG,,UMOL/KG,,UMOL/KG,,PMOL/KG,,PMOL/KG,,/MILLE,,UMOL/KG,,UMOL/KG,,25_DEG_C,,DEG_C,,,,/MILLE,UMOL/KG,,UMOL/KG,,UG/L,,UG/L,,DBAR,ITS-90,METERS,,METERS,DEG_C,,UMOL/L,
       RF99-09,  165E,RF-0908,  1,     -9,      -9,5,19990925,1938, 24.9823, 164.9942, 5917,      0.0,  28.5436,  35.1556,2,   -999.0,9,-999.0000,9,    199.5,2,     0.10,2,  -999.00,9,     0.00,2,     0.00,2,     0.01,2, -999.000,9, -999.000,9,  -999.00,9,   -999.0,9,   -999.0,9,-999.0000,9,   -999.0,  9,  -999.00,9,   -999.0,  -999.00,9,  -999.00,9,     0.04,2,     0.03,2,   -999.0,-999.0000, -999,9,    0,  28.5436,  22.3328,   -999.0,9
       RF99-09,  165E,RF-0908,  1,     21,02-12827,2,19990925,1936, 24.9823, 164.9942, 5917,     10.6,  28.5482,  35.1549,2,   -999.0,9,-999.0000,9,    200.8,2,     0.07,2,  -999.00,9,     0.00,2,     0.00,2,     0.00,2, -999.000,9, -999.000,9,  -999.00,9,   -999.0,9,   -999.0,9,-999.0000,9,   -999.0,  9,  -999.00,9,   -999.0,  -999.00,9,  -999.00,9,     0.04,2,     0.02,2,   -999.0,-999.0000, -999,9,   11,  28.5457,  22.3316,   -999.0,9
       RF99-09,  165E,RF-0908,  1,     20,02-12826,2,19990925,1934, 24.9823, 164.9942, 5917,     27.3,  28.5488,  35.1550,2,   -999.0,9,-999.0000,9,    199.6,2,    -0.14,4,  -999.00,9,     0.00,2,     0.00,2,     0.00,2, -999.000,9, -999.000,9,  -999.00,9,   -999.0,9,   -999.0,9,-999.0000,9,   -999.0,  9,  -999.00,9,   -999.0,  -999.00,9,  -999.00,9,     0.04,2,     0.03,2,   -999.0,-999.0000, -999,9,   27,  28.5422,  22.3328,   -999.0,9
       RF99-09,  165E,RF-0908,  1,     19,02-12825,2,19990925,1933, 24.9823, 164.9942, 5917,     50.9,  26.7003,  35.1786,2,   -999.0,9,-999.0000,9,    221.8,2,     0.11,2,  -999.00,9,     0.00,2,     0.00,2,     0.00,2, -999.000,9, -999.000,9,  -999.00,9,   -999.0,9,   -999.0,9,-999.0000,9,   -999.0,  9,  -999.00,9,   -999.0,  -999.00,9,  -999.00,9,     0.07,2,     0.05,2,   -999.0,-999.0000, -999,9,   51,  26.6887,  22.9514,   -999.0,9
       RF99-09,  165E,RF-0908,  1,     18,02-12830,2,19990925,1932, 24.9823, 164.9942, 5917,     76.4,  23.5643,  34.9444,2,   -999.0,9,-999.0000,9,    229.6,2,     0.57,2,  -999.00,9,     0.00,2,     0.00,2,     0.00,2, -999.000,9, -999.000,9,  -999.00,9,   -999.0,9,   -999.0,9,-999.0000,9,   -999.0,  9,  -999.00,9,   -999.0,  -999.00,9,  -999.00,9,     0.08,2,     0.09,2,   -999.0,-999.0000, -999,9,   76,  23.5484,  23.7322,   -999.0,9
       RF99-09,  165E,RF-0908,  1,     17,02-13591,2,19990925,1930, 24.9823, 164.9942, 5917,     99.8,  21.8869,  34.9815,2,   -999.0,9,  34.9933,4,    213.3,2,     0.72,2,  -999.00,9,     0.00,2,     0.00,2,     0.00,2, -999.000,9, -999.000,9,  -999.00,9,   -999.0,9,   -999.0,9,-999.0000,9,   -999.0,  9,  -999.00,9,   -999.0,  -999.00,9,  -999.00,9,     0.14,2,     0.11,2,   -999.0,-999.0000, -999,9,   99,  21.8673,  24.2409,   -999.0,9
       RF99-09,  165E,RF-0908,  1,     16,02-13588,2,19990925,1929, 24.9823, 164.9942, 5917,    126.5,  20.1014,  34.9101,2,   -999.0,9,-999.0000,9,    203.8,2,     1.17,2,  -999.00,9,     0.20,2,     0.08,2,     0.06,2, -999.000,9, -999.000,9,  -999.00,9,   -999.0,9,   -999.0,9,-999.0000,9,   -999.0,  9,  -999.00,9,   -999.0,  -999.00,9,  -999.00,9,     0.19,2,     0.43,2,   -999.0,-999.0000, -999,9,  126,  20.0780,  24.6726,   -999.0,9
       RF99-09,  165E,RF-0908,  1,     15,02-10155,2,19990925,1927, 24.9823, 164.9942, 5917,    151.9,  18.5550,  34.7291,2,   -999.0,9,-999.0000,9,    220.9,2,     1.80,2,  -999.00,9,     0.36,2,     0.09,2,     0.06,2, -999.000,9, -999.000,9,  -999.00,9,   -999.0,9,   -999.0,9,-999.0000,9,   -999.0,  9,  -999.00,9,   -999.0,  -999.00,9,  -999.00,9,     0.08,2,     0.21,2,   -999.0,-999.0000, -999,9,  151,  18.5284,  24.9333,   -999.0,9
       RF99-09,  165E,RF-0908,  1,     14,02-13579,2,19990925,1926, 24.9823, 164.9942, 5917,    201.5,  17.4321,  34.7249,2,   -999.0,9,  34.7593,4,    209.8,2,     3.08,2,  -999.00,9,     4.07,2,     0.00,2,     0.24,2, -999.000,9, -999.000,9,  -999.00,9,   -999.0,9,   -999.0,9,-999.0000,9,   -999.0,  9,  -999.00,9,   -999.0,  -999.00,9,  -999.00,9,     0.03,2,     0.04,2,    199.9,-999.0000, -999,9,  200,  17.3984,  25.2078,   -999.0,9
       RF99-09,  165E,RF-0908,  1,     13,02-13590,2,19990925,1924, 24.9823, 164.9942, 5917,    252.7,  16.5599,  34.7176,2,   -999.0,9,-999.0000,9,    205.0,2,     4.60,2,  -999.00,9,     5.98,2,     0.00,2,     0.37,2, -999.000,9, -999.000,9,  -999.00,9,   -999.0,9,   -999.0,9,-999.0000,9,   -999.0,  9,  -999.00,9,   -999.0,  -999.00,9,  -999.00,9,  -999.00,9,  -999.00,9,   -999.0,-999.0000, -999,9,  251,  16.5189,  25.4106,   -999.0,9
       RF99-09,  165E,RF-0908,  1,     12,02-12821,2,19990925,1922, 24.9823, 164.9942, 5917,    302.5,  15.6176,  34.6662,2,   -999.0,9,  34.6662,2,    202.4,2,     6.41,2,  -999.00,9,     7.53,2,     0.00,2,     0.47,2, -999.000,9, -999.000,9,  -999.00,9,   -999.0,9,   -999.0,9,-999.0000,9,   -999.0,  9,  -999.00,9,   -999.0,  -999.00,9,  -999.00,9,  -999.00,9,  -999.00,9,   -999.0,-999.0000, -999,9,  300,  15.5704,  25.5881,   -999.0,9
       RF99-09,  165E,RF-0908,  1,     11,02-12811,2,19990925,1920, 24.9823, 164.9942, 5917,    405.3,  13.2311,  34.4756,2,   -999.0,9,  34.4811,2,    204.6,2,    11.20,2,  -999.00,9,    11.15,2,     0.00,2,     0.72,2, -999.000,9, -999.000,9,  -999.00,9,   -999.0,9,   -999.0,9,-999.0000,9,   -999.0,  9,  -999.00,9,   -999.0,  -999.00,9,  -999.00,9,  -999.00,9,  -999.00,9,   -999.0,-999.0000, -999,9,  402,  13.1745,  25.9515,   -999.0,9
       RF99-09,  165E,RF-0908,  1,     10,02-12820,2,19990925,1917, 24.9823, 164.9942, 5917,    504.2,  10.3910,  34.2314,2,   -999.0,9,  34.2382,4,    185.0,2,    21.81,2,  -999.00,9,    18.09,2,     0.00,2,     1.21,2, -999.000,9, -999.000,9,  -999.00,9,   -999.0,9,   -999.0,9,-999.0000,9,   -999.0,  9,  -999.00,9,   -999.0,  -999.00,9,  -999.00,9,  -999.00,9,  -999.00,9,   -999.0,-999.0000, -999,9,  500,  10.3307,  26.2951,   -999.0,9
       RF99-09,  165E,RF-0908,  1,      9,02-12810,2,19990925,1915, 24.9823, 164.9942, 5917,    604.2,   8.1693,  34.1129,2,   -999.0,9,  34.1228,4,    150.2,2,    38.19,2,  -999.00,9,    25.48,2,     0.00,2,     1.77,2, -999.000,9, -999.000,9,  -999.00,9,   -999.0,9,   -999.0,9,-999.0000,9,   -999.0,  9,  -999.00,9,   -999.0,  -999.00,9,  -999.00,9,  -999.00,9,  -999.00,9,   -999.0,-999.0000, -999,9,  599,   8.1066,  26.5613,   -999.0,9
       RF99-09,  165E,RF-0908,  1,      8,02-12819,2,19990925,1912, 24.9823, 164.9942, 5917,    706.3,   6.1822,  34.0960,2,   -999.0,9,  34.0987,2,     99.7,2,    62.53,2,  -999.00,9,    33.35,2,     0.00,2,     2.38,2, -999.000,9, -999.000,9,  -999.00,9,   -999.0,9,   -999.0,9,-999.0000,9,   -999.0,  9,  -999.00,9,   -999.0,  -999.00,9,  -999.00,9,  -999.00,9,  -999.00,9,   -999.0,-999.0000, -999,9,  701,   6.1189,  26.8232,   -999.0,9
       RF99-09,  165E,RF-0908,  1,      7,02-12815,2,19990925,1910, 24.9823, 164.9942, 5917,    807.9,   4.9931,  34.1975,2,   -999.0,9,  34.1992,2,     56.2,2,    85.54,2,  -999.00,9,    38.79,2,     0.00,2,     2.79,2, -999.000,9, -999.000,9,  -999.00,9,   -999.0,9,   -999.0,9,-999.0000,9,   -999.0,  9,  -999.00,9,   -999.0,  -999.00,9,  -999.00,9,  -999.00,9,  -999.00,9,   -999.0,-999.0000, -999,9,  801,   4.9274,  27.0473,   -999.0,9
       RF99-09,  165E,RF-0908,  1,      6,02-12818,2,19990925,1907, 24.9823, 164.9942, 5917,    910.1,   4.3667,  34.2710,2,   -999.0,9,-999.0000,9,     44.4,2,    98.94,2,  -999.00,9,    40.54,2,     0.00,2,     2.92,2, -999.000,9, -999.000,9,  -999.00,9,   -999.0,9,   -999.0,9,-999.0000,9,   -999.0,  9,  -999.00,9,   -999.0,  -999.00,9,  -999.00,9,  -999.00,9,  -999.00,9,   -999.0,-999.0000, -999,9,  902,   4.2962,  27.1752,   -999.0,9
       RF99-09,  165E,RF-0908,  1,      5,02-12809,2,19990925,1904, 24.9823, 164.9942, 5917,   1010.7,   3.9361,  34.3570,2,   -999.0,9,  34.3596,2,     49.1,2,   109.08,2,  -999.00,9,    41.39,2,     0.00,2,     2.96,2, -999.000,9, -999.000,9,  -999.00,9,   -999.0,9,   -999.0,9,-999.0000,9,   -999.0,  9,  -999.00,9,   -999.0,  -999.00,9,  -999.00,9,  -999.00,9,  -999.00,9,   -999.0,-999.0000, -999,9, 1002,   3.8603,  27.2889,   -999.0,9
       RF99-09,  165E,RF-0908,  1,      4,02-12817,2,19990925,1900, 24.9823, 164.9942, 5917,   1261.0,   3.2911,  34.4808,2,   -999.0,9,  34.4807,2,     55.6,2,   121.32,2,  -999.00,9,    41.08,2,     0.00,2,     2.89,2, -999.000,9, -999.000,9,  -999.00,9,   -999.0,9,   -999.0,9,-999.0000,9,   -999.0,  9,  -999.00,9,   -999.0,  -999.00,9,  -999.00,9,  -999.00,9,  -999.00,9,   -999.0,-999.0000, -999,9, 1249,   3.2002,  27.4521,   -999.0,9
       RF99-09,  165E,RF-0908,  1,      3,02-12808,2,19990925,1855, 24.9823, 164.9942, 5917,   1515.3,   2.7325,  34.5409,2,   -999.0,9,  34.5482,4,     69.6,2,   133.78,2,  -999.00,9,    40.59,2,     0.00,2,     2.88,2, -999.000,9, -999.000,9,  -999.00,9,   -999.0,9,   -999.0,9,-999.0000,9,   -999.0,  9,  -999.00,9,   -999.0,  -999.00,9,  -999.00,9,  -999.00,9,  -999.00,9,   -999.0,-999.0000, -999,9, 1500,   2.6266,  27.5519,   -999.0,9
       RF99-09,  165E,RF-0908,  1,      2,02-13589,2,19990925,1849, 24.9823, 164.9942, 5917,   1768.8,   2.2935,  34.5848,2,   -999.0,9,  34.6054,4,     84.5,2,   141.13,2,  -999.00,9,    40.00,2,     0.00,2,     2.81,2, -999.000,9, -999.000,9,  -999.00,9,   -999.0,9,   -999.0,9,-999.0000,9,   -999.0,  9,  -999.00,9,   -999.0,  -999.00,9,  -999.00,9,  -999.00,9,  -999.00,9,   -999.0,-999.0000, -999,9, 1750,   2.1722,  27.6252,   -999.0,9
       RF99-09,  165E,RF-0908,  1,      1,02-12807,2,19990925,1844, 24.9823, 164.9942, 5917,   2034.1,   2.0340,  34.6127,2,   -999.0,9,  34.6076,2,     96.3,2,   144.07,2,  -999.00,9,    39.41,2,     0.00,2,     2.74,2, -999.000,9, -999.000,9,  -999.00,9,   -999.0,9,   -999.0,9,-999.0000,9,   -999.0,  9,  -999.00,9,   -999.0,  -999.00,9,  -999.00,9,  -999.00,9,  -999.00,9,   2027.8,-999.0000, -999,9, 2011,   1.8942,  27.6697,   -999.0,9