BOTTLE,20130510GEMDJMAYT
# 05/09/2013: Correct the TIME at RF-0924.
# 05/09/2013: Change CTDPRS/DEP to 0 at lines of BTLNBR_FLAG_W = 5.
# 05/09/2013: Correct the error of converted time from JST to GMT.
#BOTTLE,20121206MIRCJHATS
# 12/06/2012: Change BTLNBR_FLAG_W: 8 to 5 at lines of BTLNBR = -9.
# 10/06/2006: updated
# 08/20/2008: SECT_ID was revised for the stations RF-0923,924,925
# 02/19/2009 : pH scale specified in header.
# 02/19/2009 : NO2+NO3 label corrected in header.
# 04/05/2010 : pH scale specified in header, corrected for QF of CTDSAL (5 -> 2), converted time from JST to GMT
EXPOCODE,SECT_ID,STNNBR,CASTNO,SAMPNO,BTLNBR,BTLNBR_FLAG_W,DATE,TIME,LATITUDE,LONGITUDE,DEPTH,CTDPRS,CTDTMP,CTDSAL,CTDSAL_FLAG_W,CTDOXY,CTDOXY_FLAG_W,SALNTY,SALNTY_FLAG_W,OXYGEN,OXYGEN_FLAG_W,SILCAT,SILCAT_FLAG_W,NITRAT,NITRAT_FLAG_W,NO2+NO3,NO2+NO3_FLAG_W,NITRIT,NITRIT_FLAG_W,PHSPHT,PHSPHT_FLAG_W,CFC-11,CFC-11_FLAG_W,CFC-12,CFC-12_FLAG_W,DELC13,DELC13_FLAG_W,TCARBN,TCARBN_FLAG_W,ALKALI,ALKALI_FLAG_W,PH,PH_FLAG_W,PH_TMP,PH_SCALE,PH_NBS,PH_NBS_FLAG_W,C13ERR,TOTALP,TOTALP_FLAG_W,AMMONI,AMMONI_FLAG_W,CHLORA,CHLORA_FLAG_W,PPHYTN,PPHYTN_FLAG_W,REVPRS,REVTMP,DEPTH_,DEPTH_FLAG,CTDDEP,THETA,SIGTHT,DOC,DOC_FLAG_W
,,,,,,,GMT,GMT,,,METER,DBAR,ITS-90,PSS-78,,UMOL/KG,,PSS-78,,UMOL/KG,,UMOL/KG,,UMOL/KG,,UMOL/KG,,UMOL/KG,,UMOL/KG,,PMOL/KG,,PMOL/KG,,/MILLE,,UMOL/KG,,UMOL/KG,,25_DEG_C,,DEG_C,,,,/MILLE,UMOL/KG,,UMOL/KG,,UG/L,,UG/L,,DBAR,ITS-90,METERS,,METERS,DEG_C,,UMOL/L,
       RF99-09,  165E,RF-0895,  1,     -9,      -9,5,19990921,2234, 39.9905, 164.9797, 5457,      0.0,  22.2842,  34.3052,2,   -999.0,9,-999.0000,9,    236.3,4,     1.98,2,  -999.00,9,     0.00,2,     0.00,2,     0.04,2, -999.000,9, -999.000,9,  -999.00,9,   -999.0,9,   -999.0,9,-999.0000,9,   -999.0,  9,  -999.00,9,   -999.0,  -999.00,9,  -999.00,9,     0.18,2,     0.06,2,   -999.0,-999.0000, -999,9,    0,  22.2842,  23.6103,   -999.0,9
       RF99-09,  165E,RF-0895,  1,     23,02-12829,2,19990921,2232, 39.9905, 164.9797, 5457,     12.6,  22.2980,  34.3083,2,   -999.0,9,-999.0000,9,    221.6,2,     2.28,2,  -999.00,9,     0.02,2,     0.00,2,     0.03,2, -999.000,9, -999.000,9,  -999.00,9,   -999.0,9,   -999.0,9,-999.0000,9,   -999.0,  9,  -999.00,9,   -999.0,  -999.00,9,  -999.00,9,     0.18,2,     0.08,2,   -999.0,-999.0000, -999,9,   13,  22.2955,  23.6095,   -999.0,9
       RF99-09,  165E,RF-0895,  1,     22,02-12828,2,19990921,2230, 39.9905, 164.9797, 5457,     26.0,  22.2974,  34.3003,2,   -999.0,9,-999.0000,9,    221.6,2,     2.17,2,  -999.00,9,     0.02,2,     0.00,2,     0.03,2, -999.000,9, -999.000,9,  -999.00,9,   -999.0,9,   -999.0,9,-999.0000,9,   -999.0,  9,  -999.00,9,   -999.0,  -999.00,9,  -999.00,9,     0.16,2,     0.07,2,   -999.0,-999.0000, -999,9,   26,  22.2922,  23.6044,   -999.0,9
       RF99-09,  165E,RF-0895,  1,     21,02-12827,2,19990921,2229, 39.9905, 164.9797, 5457,     50.9,  16.5000,  34.4435,2,   -999.0,9,-999.0000,9,    265.1,2,     3.13,2,  -999.00,9,     0.04,2,     0.00,2,     0.09,2, -999.000,9, -999.000,9,  -999.00,9,   -999.0,9,   -999.0,9,-999.0000,9,   -999.0,  9,  -999.00,9,   -999.0,  -999.00,9,  -999.00,9,     0.28,2,     0.23,2,   -999.0,-999.0000, -999,9,   50,  16.4919,  25.2063,   -999.0,9
       RF99-09,  165E,RF-0895,  1,     20,02-12826,2,19990921,2228, 39.9905, 164.9797, 5457,     75.7,  15.0899,  34.5064,2,   -999.0,9,-999.0000,9,    225.0,2,     7.42,2,  -999.00,9,     6.41,2,     0.32,2,     0.45,2, -999.000,9, -999.000,9,  -999.00,9,   -999.0,9,   -999.0,9,-999.0000,9,   -999.0,  9,  -999.00,9,   -999.0,  -999.00,9,  -999.00,9,     0.27,2,     0.37,2,   -999.0,-999.0000, -999,9,   75,  15.0785,  25.5742,   -999.0,9
       RF99-09,  165E,RF-0895,  1,     19,02-12825,2,19990921,2227, 39.9905, 164.9797, 5457,    101.8,  14.3631,  34.5295,2,   -999.0,9,  34.5218,4,    214.2,2,    10.47,2,  -999.00,9,     9.17,2,     0.01,2,     0.60,2, -999.000,9, -999.000,9,  -999.00,9,   -999.0,9,   -999.0,9,-999.0000,9,   -999.0,  9,  -999.00,9,   -999.0,  -999.00,9,  -999.00,9,     0.13,2,     0.06,2,   -999.0,-999.0000, -999,9,  101,  14.3482,  25.7499,   -999.0,9
       RF99-09,  165E,RF-0895,  1,     18,02-12830,2,19990921,2225, 39.9905, 164.9797, 5457,    125.7,  13.5016,  34.4317,2,   -999.0,9,-999.0000,9,    222.0,2,    11.15,2,  -999.00,9,     9.40,2,     0.00,2,     0.62,2, -999.000,9, -999.000,9,  -999.00,9,   -999.0,9,   -999.0,9,-999.0000,9,   -999.0,  9,  -999.00,9,   -999.0,  -999.00,9,  -999.00,9,     0.01,2,     0.03,2,   -999.0,-999.0000, -999,9,  125,  13.4840,  25.8547,   -999.0,9
       RF99-09,  165E,RF-0895,  1,     17,02-13591,2,19990921,2224, 39.9905, 164.9797, 5457,    151.6,  12.9004,  34.3963,2,   -999.0,9,-999.0000,9,    223.3,2,    12.39,2,  -999.00,9,    10.16,2,     0.01,2,     0.68,2, -999.000,9, -999.000,9,  -999.00,9,   -999.0,9,   -999.0,9,-999.0000,9,   -999.0,  9,  -999.00,9,   -999.0,  -999.00,9,  -999.00,9,     0.01,2,     0.01,2,   -999.0,-999.0000, -999,9,  150,  12.8798,  25.9491,   -999.0,9
       RF99-09,  165E,RF-0895,  1,     16,02-13588,2,19990921,2222, 39.9905, 164.9797, 5457,    201.0,  11.4445,  34.2283,2,   -999.0,9,  34.2278,2,    243.2,2,    12.71,2,  -999.00,9,    10.50,2,     0.00,2,     0.71,2, -999.000,9, -999.000,9,  -999.00,9,   -999.0,9,   -999.0,9,-999.0000,9,   -999.0,  9,  -999.00,9,   -999.0,  -999.00,9,  -999.00,9,     0.01,2,     0.01,2,   -999.0,-999.0000, -999,9,  199,  11.4193,  26.0982,   -999.0,9
       RF99-09,  165E,RF-0895,  1,     14,02-13579,2,19990921,2220, 39.9905, 164.9797, 5457,    252.7,  10.7740,  34.2426,2,   -999.0,9,-999.0000,9,    219.5,2,    18.85,2,  -999.00,9,    14.29,2,     0.00,2,     0.97,2, -999.000,9, -999.000,9,  -999.00,9,   -999.0,9,   -999.0,9,-999.0000,9,   -999.0,  9,  -999.00,9,   -999.0,  -999.00,9,  -999.00,9,  -999.00,9,  -999.00,9,    252.6,-999.0000, -999,9,  251,  10.7435,  26.2315,   -999.0,9
       RF99-09,  165E,RF-0895,  1,     15,02-10155,2,19990921,2220, 39.9905, 164.9797, 5457,    255.3,  10.7402,  34.2404,2,   -999.0,9,-999.0000,9,    218.5,2,    18.93,2,  -999.00,9,    14.41,2,     0.00,2,     0.97,2, -999.000,9, -999.000,9,  -999.00,9,   -999.0,9,   -999.0,9,-999.0000,9,   -999.0,  9,  -999.00,9,   -999.0,  -999.00,9,  -999.00,9,  -999.00,9,  -999.00,9,   -999.0,-999.0000, -999,9,  253,  10.7094,  26.2358,   -999.0,9
       RF99-09,  165E,RF-0895,  1,     13,02-13590,2,19990921,2218, 39.9905, 164.9797, 5457,    303.2,   9.6879,  34.1510,2,   -999.0,9,  34.3152,4,    214.4,2,    23.80,2,  -999.00,9,    16.97,2,     0.00,2,     1.17,2, -999.000,9, -999.000,9,  -999.00,9,   -999.0,9,   -999.0,9,-999.0000,9,   -999.0,  9,  -999.00,9,   -999.0,  -999.00,9,  -999.00,9,  -999.00,9,  -999.00,9,   -999.0,-999.0000, -999,9,  301,   9.6536,  26.3471,   -999.0,9
       RF99-09,  165E,RF-0895,  1,     12,02-12821,2,19990921,2215, 39.9905, 164.9797, 5457,    402.5,   7.0777,  33.9447,2,   -999.0,9,  33.9445,2,    196.9,2,    37.52,2,  -999.00,9,    23.01,2,     0.00,2,     1.63,2, -999.000,9, -999.000,9,  -999.00,9,   -999.0,9,   -999.0,9,-999.0000,9,   -999.0,  9,  -999.00,9,   -999.0,  -999.00,9,  -999.00,9,  -999.00,9,  -999.00,9,   -999.0,-999.0000, -999,9,  399,   7.0399,  26.5820,   -999.0,9
       RF99-09,  165E,RF-0895,  1,     11,02-12811,2,19990921,2212, 39.9905, 164.9797, 5457,    505.2,   5.6408,  33.9183,2,   -999.0,9,  33.9186,2,    150.2,2,    56.91,2,  -999.00,9,    30.03,2,     0.00,2,     2.12,2, -999.000,9, -999.000,9,  -999.00,9,   -999.0,9,   -999.0,9,-999.0000,9,   -999.0,  9,  -999.00,9,   -999.0,  -999.00,9,  -999.00,9,  -999.00,9,  -999.00,9,   -999.0,-999.0000, -999,9,  501,   5.5985,  26.7473,   -999.0,9
       RF99-09,  165E,RF-0895,  1,     10,02-12820,2,19990921,2210, 39.9905, 164.9797, 5457,    605.5,   5.0261,  34.0579,2,   -999.0,9,  34.0574,2,     99.4,2,    77.42,2,  -999.00,9,    35.54,2,     0.00,2,     2.52,2, -999.000,9, -999.000,9,  -999.00,9,   -999.0,9,   -999.0,9,-999.0000,9,   -999.0,  9,  -999.00,9,   -999.0,  -999.00,9,  -999.00,9,  -999.00,9,  -999.00,9,   -999.0,-999.0000, -999,9,  600,   4.9777,  26.9309,   -999.0,9
       RF99-09,  165E,RF-0895,  1,      8,02-12819,2,19990921,2206, 39.9905, 164.9797, 5457,    707.2,   4.3615,  34.1307,2,   -999.0,9,  34.1283,2,     69.2,2,    94.33,2,  -999.00,9,    39.04,2,     0.00,2,     2.77,2, -999.000,9, -999.000,9,  -999.00,9,   -999.0,9,   -999.0,9,-999.0000,9,   -999.0,  9,  -999.00,9,   -999.0,  -999.00,9,  -999.00,9,  -999.00,9,  -999.00,9,   -999.0,-999.0000, -999,9,  701,   4.3080,  27.0624,   -999.0,9
       RF99-09,  165E,RF-0895,  1,      9,02-12810,2,19990921,2207, 39.9905, 164.9797, 5457,    710.9,   4.3546,  34.1309,2,   -999.0,9,  34.1736,4,     68.4,2,    94.41,2,  -999.00,9,    39.08,2,     0.00,2,     2.77,2, -999.000,9, -999.000,9,  -999.00,9,   -999.0,9,   -999.0,9,-999.0000,9,   -999.0,  9,  -999.00,9,   -999.0,  -999.00,9,  -999.00,9,  -999.00,9,  -999.00,9,   -999.0,-999.0000, -999,9,  704,   4.3008,  27.0634,   -999.0,9
       RF99-09,  165E,RF-0895,  1,      7,02-12815,2,19990921,2204, 39.9905, 164.9797, 5457,    809.0,   3.9212,  34.2047,2,   -999.0,9,  34.2021,2,     51.1,2,   107.57,2,  -999.00,9,    41.04,2,     0.00,2,     2.90,2, -999.000,9, -999.000,9,  -999.00,9,   -999.0,9,   -999.0,9,-999.0000,9,   -999.0,  9,  -999.00,9,   -999.0,  -999.00,9,  -999.00,9,  -999.00,9,  -999.00,9,   -999.0,-999.0000, -999,9,  801,   3.8621,  27.1675,   -999.0,9
       RF99-09,  165E,RF-0895,  1,      6,02-12818,2,19990921,2201, 39.9905, 164.9797, 5457,    909.3,   3.5533,  34.2677,2,   -999.0,9,-999.0000,9,     40.1,2,   118.93,2,  -999.00,9,    42.14,2,     0.00,2,     2.98,2, -999.000,9, -999.000,9,  -999.00,9,   -999.0,9,   -999.0,9,-999.0000,9,   -999.0,  9,  -999.00,9,   -999.0,  -999.00,9,  -999.00,9,  -999.00,9,  -999.00,9,   -999.0,-999.0000, -999,9,  900,   3.4886,  27.2547,   -999.0,9
       RF99-09,  165E,RF-0895,  1,      5,02-12809,2,19990921,2158, 39.9905, 164.9797, 5457,   1008.8,   3.3728,  34.3261,2,   -999.0,9,  34.3233,2,     39.0,2,   124.66,2,  -999.00,9,    42.54,2,     0.00,2,     3.01,2, -999.000,9, -999.000,9,  -999.00,9,   -999.0,9,   -999.0,9,-999.0000,9,   -999.0,  9,  -999.00,9,   -999.0,  -999.00,9,  -999.00,9,  -999.00,9,  -999.00,9,   -999.0,-999.0000, -999,9,  999,   3.3016,  27.3192,   -999.0,9
       RF99-09,  165E,RF-0895,  1,      4,02-12817,2,19990921,2153, 39.9905, 164.9797, 5457,   1260.8,   2.8017,  34.4315,2,   -999.0,9,  34.4497,4,     34.1,2,   140.98,2,  -999.00,9,    43.24,2,     0.00,2,     3.06,2, -999.000,9, -999.000,9,  -999.00,9,   -999.0,9,   -999.0,9,-999.0000,9,   -999.0,  9,  -999.00,9,   -999.0,  -999.00,9,  -999.00,9,  -999.00,9,  -999.00,9,   -999.0,-999.0000, -999,9, 1247,   2.7156,  27.4567,   -999.0,9
       RF99-09,  165E,RF-0895,  1,      3,02-12808,2,19990921,2148, 39.9905, 164.9797, 5457,   1514.9,   2.4061,  34.4947,2,   -999.0,9,  34.5828,4,     39.7,2,   151.60,2,  -999.00,9,    43.17,2,     0.00,2,     3.04,2, -999.000,9, -999.000,9,  -999.00,9,   -999.0,9,   -999.0,9,-999.0000,9,   -999.0,  9,  -999.00,9,   -999.0,  -999.00,9,  -999.00,9,  -999.00,9,  -999.00,9,   -999.0,-999.0000, -999,9, 1498,   2.3041,  27.5423,   -999.0,9
       RF99-09,  165E,RF-0895,  1,      2,02-13589,2,19990921,2143, 39.9905, 164.9797, 5457,   1768.7,   2.1807,  34.5409,2,   -999.0,9,  34.5421,2,     49.7,2,   156.46,2,  -999.00,9,    42.65,2,     0.00,2,     2.99,2, -999.000,9, -999.000,9,  -999.00,9,   -999.0,9,   -999.0,9,-999.0000,9,   -999.0,  9,  -999.00,9,   -999.0,  -999.00,9,  -999.00,9,  -999.00,9,  -999.00,9,   -999.0,-999.0000, -999,9, 1748,   2.0610,  27.5990,   -999.0,9
       RF99-09,  165E,RF-0895,  1,      1,02-12807,2,19990921,2138, 39.9905, 164.9797, 5457,   2034.5,   2.0081,  34.5797,2,   -999.0,9,  34.5853,4,     63.1,2,   158.44,2,  -999.00,9,    41.91,2,     0.00,2,     2.93,2, -999.000,9, -999.000,9,  -999.00,9,   -999.0,9,   -999.0,9,-999.0000,9,   -999.0,  9,  -999.00,9,   -999.0,  -999.00,9,  -999.00,9,  -999.00,9,  -999.00,9,   2027.0,-999.0000, -999,9, 2009,   1.8689,  27.6452,   -999.0,9