BOTTLE,20130510GEMDJMAYT
EXPOCODE,SECT_ID,STNNBR,CASTNO,SAMPNO,BTLNBR,BTLNBR_FLAG_W,DATE,TIME,LATITUDE,LONGITUDE,DEPTH,CTDPRS,CTDTMP,CTDSAL,CTDSAL_FLAG_W,CTDOXY,CTDOXY_FLAG_W,SALNTY,SALNTY_FLAG_W,OXYGEN,OXYGEN_FLAG_W,SILCAT,SILCAT_FLAG_W,NITRAT,NITRAT_FLAG_W,NO2+NO3,NO2+NO3_FLAG_W,NITRIT,NITRIT_FLAG_W,PHSPHT,PHSPHT_FLAG_W,CFC-11,CFC-11_FLAG_W,CFC-12,CFC-12_FLAG_W,DELC13,DELC13_FLAG_W,TCARBN,TCARBN_FLAG_W,ALKALI,ALKALI_FLAG_W,PH,PH_FLAG_W,PH_TMP,PH_SCALE,PH_NBS,PH_NBS_FLAG_W,C13ERR,TOTALP,TOTALP_FLAG_W,AMMONI,AMMONI_FLAG_W,CHLORA,CHLORA_FLAG_W,PPHYTN,PPHYTN_FLAG_W,REVPRS,REVTMP,DEPTH_,DEPTH_FLAG,CTDDEP,THETA,SIGTHT,DOC,DOC_FLAG_W
,,,,,,,GMT,GMT,,,METER,DBAR,ITS-90,PSS-78,,UMOL/KG,,PSS-78,,UMOL/KG,,UMOL/KG,,UMOL/KG,,UMOL/KG,,UMOL/KG,,UMOL/KG,,PMOL/KG,,PMOL/KG,,/MILLE,,UMOL/KG,,UMOL/KG,,25_DEG_C,,DEG_C,,,,/MILLE,UMOL/KG,,UMOL/KG,,UG/L,,UG/L,,DBAR,ITS-90,METERS,,METERS,DEG_C,,UMOL/L,
       RF99-09,  165E,RF-0923,  1,     -9,      -9,5,19990929,1435,  9.9870, 163.9932, 4979,      0.0,  28.8551,  34.7977,2,   -999.0,9,-999.0000,9,    197.9,2,     1.01,2,  -999.00,9,     0.00,2,     0.00,2,     0.13,2, -999.000,9, -999.000,9,  -999.00,9,   -999.0,9,   -999.0,9,-999.0000,9,   -999.0,  9,  -999.00,9,   -999.0,  -999.00,9,  -999.00,9,     0.03,2,     0.01,2,   -999.0,-999.0000, -999,9,    0,  28.8551,  21.9605,   -999.0,9
       RF99-09,  165E,RF-0923,  1,     22,02-12828,2,19990929,1433,  9.9870, 163.9932, 4979,     10.5,  28.8147,  34.7991,2,   -999.0,9,-999.0000,9,    198.0,2,     0.86,2,  -999.00,9,     0.00,2,     0.00,2,     0.10,2, -999.000,9, -999.000,9,  -999.00,9,   -999.0,9,   -999.0,9,-999.0000,9,   -999.0,  9,  -999.00,9,   -999.0,  -999.00,9,  -999.00,9,     0.04,2,     0.00,2,   -999.0,-999.0000, -999,9,   10,  28.8121,  21.9759,   -999.0,9
       RF99-09,  165E,RF-0923,  1,     21,02-12827,2,19990929,1429,  9.9870, 163.9932, 4979,     24.0,  28.4661,  34.7832,2,   -999.0,9,-999.0000,9,    200.9,2,     0.91,2,  -999.00,9,     0.00,2,     0.00,2,     0.10,2, -999.000,9, -999.000,9,  -999.00,9,   -999.0,9,   -999.0,9,-999.0000,9,   -999.0,  9,  -999.00,9,   -999.0,  -999.00,9,  -999.00,9,     0.04,2,     0.01,2,   -999.0,-999.0000, -999,9,   24,  28.4604,  22.0804,   -999.0,9
       RF99-09,  165E,RF-0923,  1,     20,02-12826,2,19990929,1425,  9.9870, 163.9932, 4979,     51.0,  27.3919,  34.9142,2,   -999.0,9,-999.0000,9,    207.4,2,     1.14,2,  -999.00,9,     0.00,2,     0.00,2,     0.07,2, -999.000,9, -999.000,9,  -999.00,9,   -999.0,9,   -999.0,9,-999.0000,9,   -999.0,  9,  -999.00,9,   -999.0,  -999.00,9,  -999.00,9,     0.07,2,     0.02,2,   -999.0,-999.0000, -999,9,   51,  27.3801,  22.5312,   -999.0,9
       RF99-09,  165E,RF-0923,  1,     19,02-12825,2,19990929,1424,  9.9870, 163.9932, 4979,     75.5,  26.3690,  34.9061,2,   -999.0,9,-999.0000,9,    209.4,2,     1.17,2,  -999.00,9,     0.00,2,     0.00,2,     0.05,2, -999.000,9, -999.000,9,  -999.00,9,   -999.0,9,   -999.0,9,-999.0000,9,   -999.0,  9,  -999.00,9,   -999.0,  -999.00,9,  -999.00,9,     0.09,2,     0.05,2,   -999.0,-999.0000, -999,9,   75,  26.3520,  22.8523,   -999.0,9
       RF99-09,  165E,RF-0923,  1,     18,02-12830,2,19990929,1423,  9.9870, 163.9932, 4979,    101.0,  25.7000,  34.9679,2,   -999.0,9,  34.9852,4,    203.1,2,     1.07,2,  -999.00,9,     0.00,2,     0.00,2,     0.07,2, -999.000,9, -999.000,9,  -999.00,9,   -999.0,9,   -999.0,9,-999.0000,9,   -999.0,  9,  -999.00,9,   -999.0,  -999.00,9,  -999.00,9,     0.14,2,     0.12,2,   -999.0,-999.0000, -999,9,  100,  25.6777,  23.1092,   -999.0,9
       RF99-09,  165E,RF-0923,  1,     17,02-13591,2,19990929,1422,  9.9870, 163.9932, 4979,    126.6,  22.7333,  34.9996,2,   -999.0,9,-999.0000,9,    183.9,2,     2.17,2,  -999.00,9,     1.77,2,     0.16,2,     0.23,2, -999.000,9, -999.000,9,  -999.00,9,   -999.0,9,   -999.0,9,-999.0000,9,   -999.0,  9,  -999.00,9,   -999.0,  -999.00,9,  -999.00,9,     0.20,2,     0.35,2,   -999.0,-999.0000, -999,9,  126,  22.7076,  24.0172,   -999.0,9
       RF99-09,  165E,RF-0923,  1,     16,02-13588,2,19990929,1420,  9.9870, 163.9932, 4979,    152.2,  17.6919,  34.7220,2,   -999.0,9,-999.0000,9,    155.8,2,     6.81,2,  -999.00,9,     8.94,2,     0.02,2,     0.68,2, -999.000,9, -999.000,9,  -999.00,9,   -999.0,9,   -999.0,9,-999.0000,9,   -999.0,  9,  -999.00,9,   -999.0,  -999.00,9,  -999.00,9,     0.09,2,     0.22,2,   -999.0,-999.0000, -999,9,  151,  17.6662,  25.1408,   -999.0,9
       RF99-09,  165E,RF-0923,  1,     15,02-10155,2,19990929,1419,  9.9870, 163.9932, 4979,    202.2,  11.8594,  34.5265,2,   -999.0,9,  34.5635,4,     75.0,2,    24.36,2,  -999.00,9,    26.65,2,     0.00,2,     1.91,2, -999.000,9, -999.000,9,  -999.00,9,   -999.0,9,   -999.0,9,-999.0000,9,   -999.0,  9,  -999.00,9,   -999.0,  -999.00,9,  -999.00,9,     0.01,2,     0.03,2,   -999.0,-999.0000, -999,9,  201,  11.8334,  26.2529,   -999.0,9
       RF99-09,  165E,RF-0923,  1,     14,02-13579,2,19990929,1417,  9.9870, 163.9932, 4979,    253.3,  10.7769,  34.5789,2,   -999.0,9,-999.0000,9,     46.8,2,    29.73,2,  -999.00,9,    31.51,2,     0.00,2,     2.24,2, -999.000,9, -999.000,9,  -999.00,9,   -999.0,9,   -999.0,9,-999.0000,9,   -999.0,  9,  -999.00,9,   -999.0,  -999.00,9,  -999.00,9,  -999.00,9,  -999.00,9,    254.2,-999.0000, -999,9,  252,  10.7461,  26.4931,   -999.0,9
       RF99-09,  165E,RF-0923,  1,     13,02-13590,2,19990929,1415,  9.9870, 163.9932, 4979,    303.5,  10.0536,  34.6373,2,   -999.0,9,  34.6422,4,     32.7,2,    33.01,2,  -999.00,9,    34.27,2,     0.00,2,     2.42,2, -999.000,9, -999.000,9,  -999.00,9,   -999.0,9,   -999.0,9,-999.0000,9,   -999.0,  9,  -999.00,9,   -999.0,  -999.00,9,  -999.00,9,  -999.00,9,  -999.00,9,   -999.0,-999.0000, -999,9,  302,  10.0182,  26.6656,   -999.0,9
       RF99-09,  165E,RF-0923,  1,     12,02-12821,2,19990929,1412,  9.9870, 163.9932, 4979,    405.6,   8.8319,  34.6143,2,   -999.0,9,  34.6164,2,     31.3,2,    39.77,2,  -999.00,9,    36.36,2,     0.00,2,     2.59,2, -999.000,9, -999.000,9,  -999.00,9,   -999.0,9,   -999.0,9,-999.0000,9,   -999.0,  9,  -999.00,9,   -999.0,  -999.00,9,  -999.00,9,  -999.00,9,  -999.00,9,   -999.0,-999.0000, -999,9,  403,   8.7880,  26.8498,   -999.0,9
       RF99-09,  165E,RF-0923,  1,     11,02-12811,2,19990929,1410,  9.9870, 163.9932, 4979,    505.4,   7.8105,  34.5623,2,   -999.0,9,  34.5633,2,     39.7,2,    48.15,2,  -999.00,9,    37.46,2,     0.00,2,     2.70,2, -999.000,9, -999.000,9,  -999.00,9,   -999.0,9,   -999.0,9,-999.0000,9,   -999.0,  9,  -999.00,9,   -999.0,  -999.00,9,  -999.00,9,  -999.00,9,  -999.00,9,   -999.0,-999.0000, -999,9,  502,   7.7594,  26.9657,   -999.0,9
       RF99-09,  165E,RF-0923,  1,     10,02-12820,2,19990929,1407,  9.9870, 163.9932, 4979,    605.0,   7.0277,  34.5342,2,   -999.0,9,  34.5440,4,     46.6,2,    55.67,2,  -999.00,9,    38.34,2,     0.00,2,     2.75,2, -999.000,9, -999.000,9,  -999.00,9,   -999.0,9,   -999.0,9,-999.0000,9,   -999.0,  9,  -999.00,9,   -999.0,  -999.00,9,  -999.00,9,  -999.00,9,  -999.00,9,   -999.0,-999.0000, -999,9,  601,   6.9697,  27.0560,   -999.0,9
       RF99-09,  165E,RF-0923,  1,      9,02-12810,2,19990929,1405,  9.9870, 163.9932, 4979,    706.2,   6.0924,  34.5280,2,   -999.0,9,  34.5507,4,     47.0,2,    66.82,2,  -999.00,9,    40.01,2,     0.00,2,     2.87,2, -999.000,9, -999.000,9,  -999.00,9,   -999.0,9,   -999.0,9,-999.0000,9,   -999.0,  9,  -999.00,9,   -999.0,  -999.00,9,  -999.00,9,  -999.00,9,  -999.00,9,   -999.0,-999.0000, -999,9,  701,   6.0292,  27.1760,   -999.0,9
       RF99-09,  165E,RF-0923,  1,      8,02-12819,2,19990929,1402,  9.9870, 163.9932, 4979,    807.0,   5.4109,  34.5328,2,   -999.0,9,  34.5521,4,     59.5,2,    76.05,2,  -999.00,9,    40.37,2,     0.00,2,     2.87,2, -999.000,9, -999.000,9,  -999.00,9,   -999.0,9,   -999.0,9,-999.0000,9,   -999.0,  9,  -999.00,9,   -999.0,  -999.00,9,  -999.00,9,  -999.00,9,  -999.00,9,   -999.0,-999.0000, -999,9,  801,   5.3423,  27.2646,   -999.0,9
       RF99-09,  165E,RF-0923,  1,      7,02-12815,2,19990929,1400,  9.9870, 163.9932, 4979,    908.0,   4.9326,  34.5435,2,   -999.0,9,-999.0000,9,     54.9,2,    83.73,2,  -999.00,9,    41.32,2,     0.00,2,     2.95,2, -999.000,9, -999.000,9,  -999.00,9,   -999.0,9,   -999.0,9,-999.0000,9,   -999.0,  9,  -999.00,9,   -999.0,  -999.00,9,  -999.00,9,  -999.00,9,  -999.00,9,   -999.0,-999.0000, -999,9,  901,   4.8579,  27.3296,   -999.0,9
       RF99-09,  165E,RF-0923,  1,      5,02-12809,2,19990929,1357,  9.9870, 163.9932, 4979,   1008.1,   4.4110,  34.5564,2,   -999.0,9,  34.5562,2,     64.3,2,    93.19,2,  -999.00,9,    41.12,2,     0.00,2,     2.94,2, -999.000,9, -999.000,9,  -999.00,9,   -999.0,9,   -999.0,9,-999.0000,9,   -999.0,  9,  -999.00,9,   -999.0,  -999.00,9,  -999.00,9,  -999.00,9,  -999.00,9,   -999.0,-999.0000, -999,9, 1000,   4.3314,  27.3982,   -999.0,9
       RF99-09,  165E,RF-0923,  1,      6,02-12818,2,19990929,1358,  9.9870, 163.9932, 4979,   1010.0,   4.4036,  34.5543,2,   -999.0,9,-999.0000,9,   -999.0,9,  -999.00,9,  -999.00,9,  -999.00,9,  -999.00,9,  -999.00,9, -999.000,9, -999.000,9,  -999.00,9,   -999.0,9,   -999.0,9,-999.0000,9,   -999.0,  9,  -999.00,9,   -999.0,  -999.00,9,  -999.00,9,  -999.00,9,  -999.00,9,   -999.0,-999.0000, -999,9, 1002,   4.3239,  27.3974,   -999.0,9
       RF99-09,  165E,RF-0923,  1,      4,02-12817,2,19990929,1353,  9.9870, 163.9932, 4979,   1262.0,   3.5695,  34.5775,2,   -999.0,9,  34.5781,2,     79.3,2,   109.35,2,  -999.00,9,    40.48,2,     0.00,2,     2.87,2, -999.000,9, -999.000,9,  -999.00,9,   -999.0,9,   -999.0,9,-999.0000,9,   -999.0,  9,  -999.00,9,   -999.0,  -999.00,9,  -999.00,9,  -999.00,9,  -999.00,9,   -999.0,-999.0000, -999,9, 1251,   3.4756,  27.5029,   -999.0,9
       RF99-09,  165E,RF-0923,  1,      3,02-12808,2,19990929,1348,  9.9870, 163.9932, 4979,   1514.8,   2.8449,  34.5990,2,   -999.0,9,  34.6042,4,     88.2,2,   124.76,2,  -999.00,9,    40.00,2,     0.00,2,     2.81,2, -999.000,9, -999.000,9,  -999.00,9,   -999.0,9,   -999.0,9,-999.0000,9,   -999.0,  9,  -999.00,9,   -999.0,  -999.00,9,  -999.00,9,  -999.00,9,  -999.00,9,   -999.0,-999.0000, -999,9, 1501,   2.7376,  27.5886,   -999.0,9
       RF99-09,  165E,RF-0923,  1,      2,02-13589,2,19990929,1343,  9.9870, 163.9932, 4979,   1769.2,   2.4220,  34.6220,2,   -999.0,9,  34.6198,2,     99.3,2,   133.24,2,  -999.00,9,    39.58,2,     0.00,2,     2.76,2, -999.000,9, -999.000,9,  -999.00,9,   -999.0,9,   -999.0,9,-999.0000,9,   -999.0,  9,  -999.00,9,   -999.0,  -999.00,9,  -999.00,9,  -999.00,9,  -999.00,9,   -999.0,-999.0000, -999,9, 1752,   2.2989,  27.6446,   -999.0,9
       RF99-09,  165E,RF-0923,  1,      1,02-12807,2,19990929,1339,  9.9870, 163.9932, 4979,   2032.3,   2.1242,  34.6406,2,   -999.0,9,  34.6383,2,    107.1,2,   138.55,2,  -999.00,9,    39.14,2,     0.00,2,     2.72,2, -999.000,9, -999.000,9,  -999.00,9,   -999.0,9,   -999.0,9,-999.0000,9,   -999.0,  9,  -999.00,9,   -999.0,  -999.00,9,  -999.00,9,  -999.00,9,  -999.00,9,   2027.5,-999.0000, -999,9, 2011,   1.9831,  27.6851,   -999.0,9