BOTTLE,20130510GEMDJMAYT
EXPOCODE,SECT_ID,STNNBR,CASTNO,SAMPNO,BTLNBR,BTLNBR_FLAG_W,DATE,TIME,LATITUDE,LONGITUDE,DEPTH,CTDPRS,CTDTMP,CTDSAL,CTDSAL_FLAG_W,CTDOXY,CTDOXY_FLAG_W,SALNTY,SALNTY_FLAG_W,OXYGEN,OXYGEN_FLAG_W,SILCAT,SILCAT_FLAG_W,NITRAT,NITRAT_FLAG_W,NO2+NO3,NO2+NO3_FLAG_W,NITRIT,NITRIT_FLAG_W,PHSPHT,PHSPHT_FLAG_W,CFC-11,CFC-11_FLAG_W,CFC-12,CFC-12_FLAG_W,DELC13,DELC13_FLAG_W,TCARBN,TCARBN_FLAG_W,ALKALI,ALKALI_FLAG_W,PH,PH_FLAG_W,PH_TMP,PH_SCALE,PH_NBS,PH_NBS_FLAG_W,C13ERR,TOTALP,TOTALP_FLAG_W,AMMONI,AMMONI_FLAG_W,CHLORA,CHLORA_FLAG_W,PPHYTN,PPHYTN_FLAG_W,REVPRS,REVTMP,DEPTH_,DEPTH_FLAG,CTDDEP,THETA,SIGTHT,DOC,DOC_FLAG_W
,,,,,,,GMT,GMT,,,METER,DBAR,ITS-90,PSS-78,,UMOL/KG,,PSS-78,,UMOL/KG,,UMOL/KG,,UMOL/KG,,UMOL/KG,,UMOL/KG,,UMOL/KG,,PMOL/KG,,PMOL/KG,,/MILLE,,UMOL/KG,,UMOL/KG,,25_DEG_C,,DEG_C,,,,/MILLE,UMOL/KG,,UMOL/KG,,UG/L,,UG/L,,DBAR,ITS-90,METERS,,METERS,DEG_C,,UMOL/L,
       RF99-09,  165E,RF-0900,  1,     -9,      -9,5,19990923,0622, 34.9795, 164.9960, 5870,      0.0,  25.3291,  33.9712,2,   -999.0,9,-999.0000,9,    211.6,2,     3.94,2,  -999.00,9,     0.07,2,     0.00,2,     0.03,2, -999.000,9, -999.000,9,  -999.00,9,   -999.0,9,   -999.0,9,-999.0000,9,   -999.0,  9,  -999.00,9,   -999.0,  -999.00,9,  -999.00,9,     0.10,2,     0.03,2,   -999.0,-999.0000, -999,9,    0,  25.3291,  22.4639,   -999.0,9
       RF99-09,  165E,RF-0900,  1,     21,02-12827,2,19990923,0619, 34.9795, 164.9960, 5870,     10.0,  25.3285,  33.9779,2,   -999.0,9,-999.0000,9,    211.2,2,     3.78,2,  -999.00,9,     0.00,2,     0.00,2,     0.03,2, -999.000,9, -999.000,9,  -999.00,9,   -999.0,9,   -999.0,9,-999.0000,9,   -999.0,  9,  -999.00,9,   -999.0,  -999.00,9,  -999.00,9,     0.09,2,     0.04,2,   -999.0,-999.0000, -999,9,   10,  25.3263,  22.4698,   -999.0,9
       RF99-09,  165E,RF-0900,  1,     20,02-12826,2,19990923,0618, 34.9795, 164.9960, 5870,     26.5,  25.2966,  33.9865,2,   -999.0,9,-999.0000,9,    212.3,2,     4.01,2,  -999.00,9,     0.00,2,     0.00,2,     0.05,2, -999.000,9, -999.000,9,  -999.00,9,   -999.0,9,   -999.0,9,-999.0000,9,   -999.0,  9,  -999.00,9,   -999.0,  -999.00,9,  -999.00,9,     0.10,2,     0.03,2,   -999.0,-999.0000, -999,9,   26,  25.2909,  22.4871,   -999.0,9
       RF99-09,  165E,RF-0900,  1,     19,02-12825,2,19990923,0616, 34.9795, 164.9960, 5870,     51.0,  15.3564,  34.3143,2,   -999.0,9,-999.0000,9,    313.7,3,     7.28,2,  -999.00,9,     0.06,2,     0.00,2,     0.08,2, -999.000,9, -999.000,9,  -999.00,9,   -999.0,9,   -999.0,9,-999.0000,9,   -999.0,  9,  -999.00,9,   -999.0,  -999.00,9,  -999.00,9,     0.40,2,     0.21,2,   -999.0,-999.0000, -999,9,   51,  15.3486,  25.3665,   -999.0,9
       RF99-09,  165E,RF-0900,  1,     18,02-12830,2,19990923,0615, 34.9795, 164.9960, 5870,     75.8,  12.9009,  34.3605,2,   -999.0,9,-999.0000,9,    229.7,2,    11.60,2,  -999.00,9,     9.20,2,     0.09,2,     0.61,2, -999.000,9, -999.000,9,  -999.00,9,   -999.0,9,   -999.0,9,-999.0000,9,   -999.0,  9,  -999.00,9,   -999.0,  -999.00,9,  -999.00,9,     0.38,2,     0.32,2,   -999.0,-999.0000, -999,9,   75,  12.8906,  25.9192,   -999.0,9
       RF99-09,  165E,RF-0900,  1,     17,02-13591,2,19990923,0614, 34.9795, 164.9960, 5870,    101.9,  12.3810,  34.3236,2,   -999.0,9,  34.3437,4,    222.2,2,    13.59,2,  -999.00,9,    10.97,2,     0.01,2,     0.72,2, -999.000,9, -999.000,9,  -999.00,9,   -999.0,9,   -999.0,9,-999.0000,9,   -999.0,  9,  -999.00,9,   -999.0,  -999.00,9,  -999.00,9,     0.11,2,     0.08,2,   -999.0,-999.0000, -999,9,  101,  12.3676,  25.9932,   -999.0,9
       RF99-09,  165E,RF-0900,  1,     16,02-13588,2,19990923,0612, 34.9795, 164.9960, 5870,    125.3,  11.8425,  34.3153,2,   -999.0,9,-999.0000,9,    216.4,2,    16.70,2,  -999.00,9,    12.86,2,     0.01,2,     0.85,2, -999.000,9, -999.000,9,  -999.00,9,   -999.0,9,   -999.0,9,-999.0000,9,   -999.0,  9,  -999.00,9,   -999.0,  -999.00,9,  -999.00,9,     0.03,2,     0.01,2,   -999.0,-999.0000, -999,9,  124,  11.8264,  26.0901,   -999.0,9
       RF99-09,  165E,RF-0900,  1,     15,02-10155,2,19990923,0611, 34.9795, 164.9960, 5870,    151.8,  11.3172,  34.2724,2,   -999.0,9,-999.0000,9,    215.7,2,    18.22,2,  -999.00,9,    13.78,2,     0.00,2,     0.93,2, -999.000,9, -999.000,9,  -999.00,9,   -999.0,9,   -999.0,9,-999.0000,9,   -999.0,  9,  -999.00,9,   -999.0,  -999.00,9,  -999.00,9,     0.01,2,     0.02,2,   -999.0,-999.0000, -999,9,  151,  11.2983,  26.1548,   -999.0,9
       RF99-09,  165E,RF-0900,  1,     14,02-13579,2,19990923,0609, 34.9795, 164.9960, 5870,    201.6,  10.1662,  34.1931,2,   -999.0,9,  34.2106,4,    213.4,2,    21.58,2,  -999.00,9,    16.08,2,     0.00,2,     1.08,2, -999.000,9, -999.000,9,  -999.00,9,   -999.0,9,   -999.0,9,-999.0000,9,   -999.0,  9,  -999.00,9,   -999.0,  -999.00,9,  -999.00,9,     0.01,2,     0.01,2,    187.6,-999.0000, -999,9,  200,  10.1428,  26.2975,   -999.0,9
       RF99-09,  165E,RF-0900,  1,     13,02-13590,2,19990923,0608, 34.9795, 164.9960, 5870,    251.9,   9.1963,  34.1294,2,   -999.0,9,-999.0000,9,    205.4,2,    27.55,2,  -999.00,9,    18.79,2,     0.00,2,     1.28,2, -999.000,9, -999.000,9,  -999.00,9,   -999.0,9,   -999.0,9,-999.0000,9,   -999.0,  9,  -999.00,9,   -999.0,  -999.00,9,  -999.00,9,  -999.00,9,  -999.00,9,   -999.0,-999.0000, -999,9,  250,   9.1688,  26.4094,   -999.0,9
       RF99-09,  165E,RF-0900,  1,     12,02-12821,2,19990923,0606, 34.9795, 164.9960, 5870,    304.2,   7.9354,  34.0460,2,   -999.0,9,  34.0410,4,    189.1,2,    35.91,2,  -999.00,9,    22.52,2,     0.00,2,     1.54,2, -999.000,9, -999.000,9,  -999.00,9,   -999.0,9,   -999.0,9,-999.0000,9,   -999.0,  9,  -999.00,9,   -999.0,  -999.00,9,  -999.00,9,  -999.00,9,  -999.00,9,   -999.0,-999.0000, -999,9,  302,   7.9050,  26.5386,   -999.0,9
       RF99-09,  165E,RF-0900,  1,     11,02-12811,2,19990923,0603, 34.9795, 164.9960, 5870,    403.3,   6.1256,  34.0027,2,   -999.0,9,  34.0547,4,    170.7,2,    43.90,2,  -999.00,9,    25.22,2,     0.00,2,     1.72,2, -999.000,9, -999.000,9,  -999.00,9,   -999.0,9,   -999.0,9,-999.0000,9,   -999.0,  9,  -999.00,9,   -999.0,  -999.00,9,  -999.00,9,  -999.00,9,  -999.00,9,   -999.0,-999.0000, -999,9,  400,   6.0906,  26.7531,   -999.0,9
       RF99-09,  165E,RF-0900,  1,     10,02-12820,2,19990923,0600, 34.9795, 164.9960, 5870,    503.4,   5.0166,  34.0609,2,   -999.0,9,  34.0582,2,     99.7,2,    77.29,2,  -999.00,9,    36.04,2,     0.00,2,     2.50,2, -999.000,9, -999.000,9,  -999.00,9,   -999.0,9,   -999.0,9,-999.0000,9,   -999.0,  9,  -999.00,9,   -999.0,  -999.00,9,  -999.00,9,  -999.00,9,  -999.00,9,   -999.0,-999.0000, -999,9,  499,   4.9767,  26.9334,   -999.0,9
       RF99-09,  165E,RF-0900,  1,      9,02-12810,2,19990923,0557, 34.9795, 164.9960, 5870,    607.6,   4.4229,  34.1422,2,   -999.0,9,  34.1375,2,     71.4,2,    92.84,2,  -999.00,9,    39.22,2,     0.00,2,     2.74,2, -999.000,9, -999.000,9,  -999.00,9,   -999.0,9,   -999.0,9,-999.0000,9,   -999.0,  9,  -999.00,9,   -999.0,  -999.00,9,  -999.00,9,  -999.00,9,  -999.00,9,   -999.0,-999.0000, -999,9,  602,   4.3771,  27.0642,   -999.0,9
       RF99-09,  165E,RF-0900,  1,      8,02-12819,2,19990923,0555, 34.9795, 164.9960, 5870,    704.1,   3.9373,  34.2104,2,   -999.0,9,  34.2066,2,     52.0,2,   106.23,2,  -999.00,9,    41.43,2,     0.00,2,     2.88,2, -999.000,9, -999.000,9,  -999.00,9,   -999.0,9,   -999.0,9,-999.0000,9,   -999.0,  9,  -999.00,9,   -999.0,  -999.00,9,  -999.00,9,  -999.00,9,  -999.00,9,   -999.0,-999.0000, -999,9,  698,   3.8863,  27.1696,   -999.0,9
       RF99-09,  165E,RF-0900,  1,      7,02-12815,2,19990923,0552, 34.9795, 164.9960, 5870,    806.7,   3.6160,  34.2783,2,   -999.0,9,  34.2734,2,     42.5,2,   116.57,2,  -999.00,9,    42.41,2,     0.00,2,     2.95,2, -999.000,9, -999.000,9,  -999.00,9,   -999.0,9,   -999.0,9,-999.0000,9,   -999.0,  9,  -999.00,9,   -999.0,  -999.00,9,  -999.00,9,  -999.00,9,  -999.00,9,   -999.0,-999.0000, -999,9,  799,   3.5589,  27.2563,   -999.0,9
       RF99-09,  165E,RF-0900,  1,      6,02-12818,2,19990923,0549, 34.9795, 164.9960, 5870,    907.9,   3.3027,  34.3417,2,   -999.0,9,-999.0000,9,     37.3,2,   125.64,2,  -999.00,9,    42.93,2,     0.00,2,     3.00,2, -999.000,9, -999.000,9,  -999.00,9,   -999.0,9,   -999.0,9,-999.0000,9,   -999.0,  9,  -999.00,9,   -999.0,  -999.00,9,  -999.00,9,  -999.00,9,  -999.00,9,   -999.0,-999.0000, -999,9,  899,   3.2398,  27.3374,   -999.0,9
       RF99-09,  165E,RF-0900,  1,      5,02-12809,2,19990923,0545, 34.9795, 164.9960, 5870,   1009.4,   3.0812,  34.3875,2,   -999.0,9,  34.3820,2,     37.9,2,   131.88,2,  -999.00,9,    43.15,2,     0.00,2,     3.01,2, -999.000,9, -999.000,9,  -999.00,9,   -999.0,9,   -999.0,9,-999.0000,9,   -999.0,  9,  -999.00,9,   -999.0,  -999.00,9,  -999.00,9,  -999.00,9,  -999.00,9,   -999.0,-999.0000, -999,9, 1000,   3.0122,  27.3950,   -999.0,9
       RF99-09,  165E,RF-0900,  1,      4,02-12817,2,19990923,0540, 34.9795, 164.9960, 5870,   1263.5,   2.5970,  34.4712,2,   -999.0,9,  34.4725,2,     38.1,2,   145.74,2,  -999.00,9,    43.54,2,     0.00,2,     3.02,2, -999.000,9, -999.000,9,  -999.00,9,   -999.0,9,   -999.0,9,-999.0000,9,   -999.0,  9,  -999.00,9,   -999.0,  -999.00,9,  -999.00,9,  -999.00,9,  -999.00,9,   -999.0,-999.0000, -999,9, 1251,   2.5126,  27.5059,   -999.0,9
       RF99-09,  165E,RF-0900,  1,      3,02-12808,2,19990923,0535, 34.9795, 164.9960, 5870,   1516.3,   2.2513,  34.5359,2,   -999.0,9,  34.4845,4,     48.6,2,   153.15,2,  -999.00,9,    43.08,2,     0.00,2,     2.98,2, -999.000,9, -999.000,9,  -999.00,9,   -999.0,9,   -999.0,9,-999.0000,9,   -999.0,  9,  -999.00,9,   -999.0,  -999.00,9,  -999.00,9,  -999.00,9,  -999.00,9,   -999.0,-999.0000, -999,9, 1500,   2.1509,  27.5878,   -999.0,9
       RF99-09,  165E,RF-0900,  1,      2,02-13589,2,19990923,0530, 34.9795, 164.9960, 5870,   1770.2,   2.0458,  34.5810,2,   -999.0,9,  34.5598,4,     63.7,2,   155.57,2,  -999.00,9,    42.26,2,     0.00,2,     2.90,2, -999.000,9, -999.000,9,  -999.00,9,   -999.0,9,   -999.0,9,-999.0000,9,   -999.0,  9,  -999.00,9,   -999.0,  -999.00,9,  -999.00,9,  -999.00,9,  -999.00,9,   -999.0,-999.0000, -999,9, 1750,   1.9277,  27.6417,   -999.0,9
       RF99-09,  165E,RF-0900,  1,      1,02-12807,2,19990923,0525, 34.9795, 164.9960, 5870,   2033.8,   1.8513,  34.6136,2,   -999.0,9,  34.6052,4,     81.0,2,   156.89,2,  -999.00,9,    41.13,2,     0.00,2,     2.81,2, -999.000,9, -999.000,9,  -999.00,9,   -999.0,9,   -999.0,9,-999.0000,9,   -999.0,  9,  -999.00,9,   -999.0,  -999.00,9,  -999.00,9,  -999.00,9,  -999.00,9,   2029.2,-999.0000, -999,9, 2009,   1.7143,  27.6842,   -999.0,9