BOTTLE,20130510GEMDJMAYT
EXPOCODE,SECT_ID,STNNBR,CASTNO,SAMPNO,BTLNBR,BTLNBR_FLAG_W,DATE,TIME,LATITUDE,LONGITUDE,DEPTH,CTDPRS,CTDTMP,CTDSAL,CTDSAL_FLAG_W,CTDOXY,CTDOXY_FLAG_W,SALNTY,SALNTY_FLAG_W,OXYGEN,OXYGEN_FLAG_W,SILCAT,SILCAT_FLAG_W,NITRAT,NITRAT_FLAG_W,NO2+NO3,NO2+NO3_FLAG_W,NITRIT,NITRIT_FLAG_W,PHSPHT,PHSPHT_FLAG_W,CFC-11,CFC-11_FLAG_W,CFC-12,CFC-12_FLAG_W,DELC13,DELC13_FLAG_W,TCARBN,TCARBN_FLAG_W,ALKALI,ALKALI_FLAG_W,PH,PH_FLAG_W,PH_TMP,PH_SCALE,PH_NBS,PH_NBS_FLAG_W,C13ERR,TOTALP,TOTALP_FLAG_W,AMMONI,AMMONI_FLAG_W,CHLORA,CHLORA_FLAG_W,PPHYTN,PPHYTN_FLAG_W,REVPRS,REVTMP,DEPTH_,DEPTH_FLAG,CTDDEP,THETA,SIGTHT,DOC,DOC_FLAG_W
,,,,,,,GMT,GMT,,,METER,DBAR,ITS-90,PSS-78,,UMOL/KG,,PSS-78,,UMOL/KG,,UMOL/KG,,UMOL/KG,,UMOL/KG,,UMOL/KG,,UMOL/KG,,PMOL/KG,,PMOL/KG,,/MILLE,,UMOL/KG,,UMOL/KG,,25_DEG_C,,DEG_C,,,,/MILLE,UMOL/KG,,UMOL/KG,,UG/L,,UG/L,,DBAR,ITS-90,METERS,,METERS,DEG_C,,UMOL/L,
       RF99-09,  NONE,RF-0959,  1,     -9,      -9,5,19991105,1304, 34.9328, 140.2512, 2147,      0.0,  23.8769,  34.3263,2,   -999.0,9,-999.0000,9,    211.8,2,     2.21,2,  -999.00,9,     0.49,2,     0.05,2,     0.07,2, -999.000,9, -999.000,9,  -999.00,9,   -999.0,9,   -999.0,9,-999.0000,9,   -999.0,  9,  -999.00,9,   -999.0,  -999.00,9,  -999.00,9,     0.48,2,     0.20,2,   -999.0,-999.0000, -999,9,    0,  23.8769,  23.1677,   -999.0,9
       RF99-09,  NONE,RF-0959,  1,     22,02-12828,2,19991105,1302, 34.9328, 140.2512, 2147,     10.9,  23.8808,  34.3206,2,   -999.0,9,-999.0000,9,    210.4,2,     2.20,2,  -999.00,9,     0.48,2,     0.05,2,     0.06,2, -999.000,9, -999.000,9,  -999.00,9,   -999.0,9,   -999.0,9,-999.0000,9,   -999.0,  9,  -999.00,9,   -999.0,  -999.00,9,  -999.00,9,     0.37,2,     0.21,2,   -999.0,-999.0000, -999,9,   11,  23.8785,  23.1629,   -999.0,9
       RF99-09,  NONE,RF-0959,  1,     21,02-12827,2,19991105,1300, 34.9328, 140.2512, 2147,     26.0,  23.8549,  34.3222,2,   -999.0,9,-999.0000,9,    209.3,2,     2.36,2,  -999.00,9,     0.59,2,     0.07,2,     0.06,2, -999.000,9, -999.000,9,  -999.00,9,   -999.0,9,   -999.0,9,-999.0000,9,   -999.0,  9,  -999.00,9,   -999.0,  -999.00,9,  -999.00,9,     0.52,2,     0.20,2,   -999.0,-999.0000, -999,9,   26,  23.8495,  23.1727,   -999.0,9
       RF99-09,  NONE,RF-0959,  1,     20,02-12826,2,19991105,1259, 34.9328, 140.2512, 2147,     50.3,  23.2154,  34.3431,2,   -999.0,9,-999.0000,9,    198.0,2,     3.88,2,  -999.00,9,     2.12,2,     0.18,2,     0.16,2, -999.000,9, -999.000,9,  -999.00,9,   -999.0,9,   -999.0,9,-999.0000,9,   -999.0,  9,  -999.00,9,   -999.0,  -999.00,9,  -999.00,9,     0.24,2,     0.16,2,   -999.0,-999.0000, -999,9,   50,  23.2051,  23.3764,   -999.0,9
       RF99-09,  NONE,RF-0959,  1,     19,02-12825,2,19991105,1258, 34.9328, 140.2512, 2147,     77.1,  20.9504,  34.5471,2,   -999.0,9,-999.0000,9,    187.5,2,     6.51,2,  -999.00,9,     5.09,2,     0.08,2,     0.35,2, -999.000,9, -999.000,9,  -999.00,9,   -999.0,9,   -999.0,9,-999.0000,9,   -999.0,  9,  -999.00,9,   -999.0,  -999.00,9,  -999.00,9,     0.08,2,     0.09,2,   -999.0,-999.0000, -999,9,   77,  20.9357,  24.1666,   -999.0,9
       RF99-09,  NONE,RF-0959,  1,     18,02-12830,2,19991105,1256, 34.9328, 140.2512, 2147,    101.1,  19.1696,  34.5903,2,   -999.0,9,  34.6001,2,    180.0,2,     9.20,2,  -999.00,9,     7.30,2,     0.05,2,     0.51,2, -999.000,9, -999.000,9,  -999.00,9,   -999.0,9,   -999.0,9,-999.0000,9,   -999.0,  9,  -999.00,9,   -999.0,  -999.00,9,  -999.00,9,     0.05,2,     0.06,2,   -999.0,-999.0000, -999,9,  100,  19.1515,  24.6694,   -999.0,9
       RF99-09,  NONE,RF-0959,  1,     17,02-13591,2,19991105,1254, 34.9328, 140.2512, 2147,    126.5,  16.5119,  34.6049,2,   -999.0,9,-999.0000,9,    176.0,2,    14.03,2,  -999.00,9,    10.60,2,     0.02,2,     0.71,2, -999.000,9, -999.000,9,  -999.00,9,   -999.0,9,   -999.0,9,-999.0000,9,   -999.0,  9,  -999.00,9,   -999.0,  -999.00,9,  -999.00,9,     0.02,2,     0.05,2,   -999.0,-999.0000, -999,9,  126,  16.4915,  25.3304,   -999.0,9
       RF99-09,  NONE,RF-0959,  1,     16,02-13588,2,19991105,1253, 34.9328, 140.2512, 2147,    151.4,  13.9484,  34.5450,2,   -999.0,9,-999.0000,9,    168.1,2,    20.59,2,  -999.00,9,    14.35,2,     0.00,2,     0.98,2, -999.000,9, -999.000,9,  -999.00,9,   -999.0,9,   -999.0,9,-999.0000,9,   -999.0,  9,  -999.00,9,   -999.0,  -999.00,9,  -999.00,9,     0.01,2,     0.02,2,   -999.0,-999.0000, -999,9,  150,  13.9266,  25.8508,   -999.0,9
       RF99-09,  NONE,RF-0959,  1,     15,02-10155,2,19991105,1251, 34.9328, 140.2512, 2147,    202.0,  12.3673,  34.4640,2,   -999.0,9,  34.4658,2,    157.8,2,    28.72,2,  -999.00,9,    18.09,2,     0.00,2,     1.24,2, -999.000,9, -999.000,9,  -999.00,9,   -999.0,9,   -999.0,9,-999.0000,9,   -999.0,  9,  -999.00,9,   -999.0,  -999.00,9,  -999.00,9,     0.01,2,     0.02,2,   -999.0,-999.0000, -999,9,  200,  12.3406,  26.1074,   -999.0,9
       RF99-09,  NONE,RF-0959,  1,     14,02-13579,2,19991105,1249, 34.9328, 140.2512, 2147,    251.8,  10.3098,  34.3668,2,   -999.0,9,-999.0000,9,    144.6,2,    40.10,2,  -999.00,9,    22.51,2,     0.00,2,     1.57,2, -999.000,9, -999.000,9,  -999.00,9,   -999.0,9,   -999.0,9,-999.0000,9,   -999.0,  9,  -999.00,9,   -999.0,  -999.00,9,  -999.00,9,  -999.00,9,  -999.00,9,   -999.0,-999.0000, -999,9,  250,  10.2802,  26.4094,   -999.0,9
       RF99-09,  NONE,RF-0959,  1,     13,02-13590,2,19991105,1247, 34.9328, 140.2512, 2147,    302.8,   8.6144,  34.3167,2,   -999.0,9,  34.3182,2,    127.3,2,    53.53,2,  -999.00,9,    27.02,2,     0.00,2,     1.89,2, -999.000,9, -999.000,9,  -999.00,9,   -999.0,9,   -999.0,9,-999.0000,9,   -999.0,  9,  -999.00,9,   -999.0,  -999.00,9,  -999.00,9,  -999.00,9,  -999.00,9,   -999.0,-999.0000, -999,9,  300,   8.5824,  26.6487,   -999.0,9
       RF99-09,  NONE,RF-0959,  1,     12,02-12821,2,19991105,1244, 34.9328, 140.2512, 2147,    403.9,   6.8660,  34.2772,2,   -999.0,9,  34.2775,2,    105.5,2,    69.03,2,  -999.00,9,    31.57,2,     0.00,2,     2.22,2, -999.000,9, -999.000,9,  -999.00,9,   -999.0,9,   -999.0,9,-999.0000,9,   -999.0,  9,  -999.00,9,   -999.0,  -999.00,9,  -999.00,9,  -999.00,9,  -999.00,9,   -999.0,-999.0000, -999,9,  401,   6.8284,  26.8728,   -999.0,9
       RF99-09,  NONE,RF-0959,  1,     11,02-12811,2,19991105,1242, 34.9328, 140.2512, 2147,    505.3,   5.8786,  34.2930,2,   -999.0,9,  34.2934,2,     90.6,2,    82.11,2,  -999.00,9,    34.47,2,     0.00,2,     2.43,2, -999.000,9, -999.000,9,  -999.00,9,   -999.0,9,   -999.0,9,-999.0000,9,   -999.0,  9,  -999.00,9,   -999.0,  -999.00,9,  -999.00,9,  -999.00,9,  -999.00,9,   -999.0,-999.0000, -999,9,  501,   5.8351,  27.0147,   -999.0,9
       RF99-09,  NONE,RF-0959,  1,     10,02-12820,2,19991105,1239, 34.9328, 140.2512, 2147,    605.3,   5.0370,  34.3019,2,   -999.0,9,  34.3031,2,     77.6,2,    93.44,2,  -999.00,9,    36.83,2,     0.00,2,     2.61,2, -999.000,9, -999.000,9,  -999.00,9,   -999.0,9,   -999.0,9,-999.0000,9,   -999.0,  9,  -999.00,9,   -999.0,  -999.00,9,  -999.00,9,  -999.00,9,  -999.00,9,   -999.0,-999.0000, -999,9,  600,   4.9883,  27.1231,   -999.0,9
       RF99-09,  NONE,RF-0959,  1,      9,02-12810,2,19991105,1236, 34.9328, 140.2512, 2147,    705.4,   4.2045,  34.3457,2,   -999.0,9,  34.3467,2,     67.9,2,   106.84,2,  -999.00,9,    38.75,2,     0.00,2,     2.75,2, -999.000,9, -999.000,9,  -999.00,9,   -999.0,9,   -999.0,9,-999.0000,9,   -999.0,  9,  -999.00,9,   -999.0,  -999.00,9,  -999.00,9,  -999.00,9,  -999.00,9,   -999.0,-999.0000, -999,9,  699,   4.1517,  27.2498,   -999.0,9
       RF99-09,  NONE,RF-0959,  1,      8,02-12819,2,19991105,1234, 34.9328, 140.2512, 2147,    807.7,   3.8435,  34.3757,2,   -999.0,9,  34.3762,2,     63.9,2,   113.56,2,  -999.00,9,    39.55,2,     0.00,2,     2.81,2, -999.000,9, -999.000,9,  -999.00,9,   -999.0,9,   -999.0,9,-999.0000,9,   -999.0,  9,  -999.00,9,   -999.0,  -999.00,9,  -999.00,9,  -999.00,9,  -999.00,9,   -999.0,-999.0000, -999,9,  800,   3.7847,  27.3115,   -999.0,9
       RF99-09,  NONE,RF-0959,  1,      7,02-12815,2,19991105,1231, 34.9328, 140.2512, 2147,    911.2,   3.5271,  34.3975,2,   -999.0,9,  34.3966,2,     61.5,2,   120.14,2,  -999.00,9,    40.02,2,     0.00,2,     2.86,2, -999.000,9, -999.000,9,  -999.00,9,   -999.0,9,   -999.0,9,-999.0000,9,   -999.0,  9,  -999.00,9,   -999.0,  -999.00,9,  -999.00,9,  -999.00,9,  -999.00,9,   -999.0,-999.0000, -999,9,  903,   3.4623,  27.3607,   -999.0,9
       RF99-09,  NONE,RF-0959,  1,      6,02-12818,2,19991105,1228, 34.9328, 140.2512, 2147,   1010.1,   3.3772,  34.4071,2,   -999.0,9,  34.4084,2,     59.0,2,   123.40,2,  -999.00,9,    40.47,2,     0.00,2,     2.88,2, -999.000,9, -999.000,9,  -999.00,9,   -999.0,9,   -999.0,9,-999.0000,9,   -999.0,  9,  -999.00,9,   -999.0,  -999.00,9,  -999.00,9,  -999.00,9,  -999.00,9,   -999.0,-999.0000, -999,9, 1000,   3.3057,  27.3834,   -999.0,9
       RF99-09,  NONE,RF-0959,  1,      5,02-12809,2,19991105,1222, 34.9328, 140.2512, 2147,   1265.3,   2.7083,  34.4774,2,   -999.0,9,  34.4766,2,     55.3,2,   139.32,2,  -999.00,9,    41.42,2,     0.00,2,     2.94,2, -999.000,9, -999.000,9,  -999.00,9,   -999.0,9,   -999.0,9,-999.0000,9,   -999.0,  9,  -999.00,9,   -999.0,  -999.00,9,  -999.00,9,  -999.00,9,  -999.00,9,   -999.0,-999.0000, -999,9, 1252,   2.6227,  27.5015,   -999.0,9
       RF99-09,  NONE,RF-0959,  1,      4,02-12817,2,19991105,1216, 34.9328, 140.2512, 2147,   1515.9,   2.3486,  34.5284,2,   -999.0,9,  34.5275,2,     60.2,2,   147.23,2,  -999.00,9,    41.49,2,     0.00,2,     2.93,2, -999.000,9, -999.000,9,  -999.00,9,   -999.0,9,   -999.0,9,-999.0000,9,   -999.0,  9,  -999.00,9,   -999.0,  -999.00,9,  -999.00,9,  -999.00,9,  -999.00,9,   -999.0,-999.0000, -999,9, 1500,   2.2471,  27.5740,   -999.0,9
       RF99-09,  NONE,RF-0959,  1,      3,02-12808,2,19991105,1211, 34.9328, 140.2512, 2147,   1768.4,   2.0967,  34.5717,2,   -999.0,9,  34.5710,2,     74.5,2,   150.38,2,  -999.00,9,    40.82,2,     0.00,2,     2.87,2, -999.000,9, -999.000,9,  -999.00,9,   -999.0,9,   -999.0,9,-999.0000,9,   -999.0,  9,  -999.00,9,   -999.0,  -999.00,9,  -999.00,9,  -999.00,9,  -999.00,9,   -999.0,-999.0000, -999,9, 1748,   1.9781,  27.6303,   -999.0,9
       RF99-09,  NONE,RF-0959,  1,      2,02-13589,2,19991105,1200, 34.9328, 140.2512, 2147,   2022.5,   1.8219,  34.6146,2,   -999.0,9,  34.6141,2,     96.3,2,   151.17,2,  -999.00,9,    39.68,2,     0.00,2,     2.77,2, -999.000,9, -999.000,9,  -999.00,9,   -999.0,9,   -999.0,9,-999.0000,9,   -999.0,  9,  -999.00,9,   -999.0,  -999.00,9,  -999.00,9,  -999.00,9,  -999.00,9,   -999.0,-999.0000, -999,9, 1998,   1.6864,  27.6871,   -999.0,9
       RF99-09,  NONE,RF-0959,  1,      1,02-12807,2,19991105,1158, 34.9328, 140.2512, 2147,   2118.4,   1.7656,  34.6253,2,   -999.0,9,  34.6227,2,    101.0,2,   150.91,2,  -999.00,9,    39.29,2,     0.00,2,     2.74,2, -999.000,9, -999.000,9,  -999.00,9,   -999.0,9,   -999.0,9,-999.0000,9,   -999.0,  9,  -999.00,9,   -999.0,  -999.00,9,  -999.00,9,  -999.00,9,  -999.00,9,   -999.0,-999.0000, -999,9, 2093,   1.6229,  27.7005,   -999.0,9