BOTTLE,20130510GEMDJMAYT
EXPOCODE,SECT_ID,STNNBR,CASTNO,SAMPNO,BTLNBR,BTLNBR_FLAG_W,DATE,TIME,LATITUDE,LONGITUDE,DEPTH,CTDPRS,CTDTMP,CTDSAL,CTDSAL_FLAG_W,CTDOXY,CTDOXY_FLAG_W,SALNTY,SALNTY_FLAG_W,OXYGEN,OXYGEN_FLAG_W,SILCAT,SILCAT_FLAG_W,NITRAT,NITRAT_FLAG_W,NO2+NO3,NO2+NO3_FLAG_W,NITRIT,NITRIT_FLAG_W,PHSPHT,PHSPHT_FLAG_W,CFC-11,CFC-11_FLAG_W,CFC-12,CFC-12_FLAG_W,DELC13,DELC13_FLAG_W,TCARBN,TCARBN_FLAG_W,ALKALI,ALKALI_FLAG_W,PH,PH_FLAG_W,PH_TMP,PH_SCALE,PH_NBS,PH_NBS_FLAG_W,C13ERR,TOTALP,TOTALP_FLAG_W,AMMONI,AMMONI_FLAG_W,CHLORA,CHLORA_FLAG_W,PPHYTN,PPHYTN_FLAG_W,REVPRS,REVTMP,DEPTH_,DEPTH_FLAG,CTDDEP,THETA,SIGTHT,DOC,DOC_FLAG_W
,,,,,,,GMT,GMT,,,METER,DBAR,ITS-90,PSS-78,,UMOL/KG,,PSS-78,,UMOL/KG,,UMOL/KG,,UMOL/KG,,UMOL/KG,,UMOL/KG,,UMOL/KG,,PMOL/KG,,PMOL/KG,,/MILLE,,UMOL/KG,,UMOL/KG,,25_DEG_C,,DEG_C,,,,/MILLE,UMOL/KG,,UMOL/KG,,UG/L,,UG/L,,DBAR,ITS-90,METERS,,METERS,DEG_C,,UMOL/L,
       RF99-09,  165E,RF-0930,  1,     -9,      -9,5,19991012,0554,  3.0015, 164.9772, 4203,      0.0,  29.7993,  34.0611,2,   -999.0,9,-999.0000,9,    196.8,2,     1.54,2,  -999.00,9,     0.00,2,     0.00,2,     0.06,2, -999.000,9, -999.000,9,  -999.00,9,   -999.0,9,   -999.0,9,-999.0000,9,   -999.0,  9,  -999.00,9,   -999.0,  -999.00,9,  -999.00,9,  -999.00,9,  -999.00,9,   -999.0,-999.0000, -999,9,    0,  29.7993,  21.0907,   -999.0,9
       RF99-09,  165E,RF-0930,  1,     21,02-12827,2,19991012,0551,  3.0015, 164.9772, 4203,     10.4,  29.4599,  34.0726,2,   -999.0,9,-999.0000,9,    197.0,2,     1.44,2,  -999.00,9,     0.00,2,     0.00,2,     0.05,2, -999.000,9, -999.000,9,  -999.00,9,   -999.0,9,   -999.0,9,-999.0000,9,   -999.0,  9,  -999.00,9,   -999.0,  -999.00,9,  -999.00,9,  -999.00,9,  -999.00,9,   -999.0,-999.0000, -999,9,   10,  29.4574,  21.2148,   -999.0,9
       RF99-09,  165E,RF-0930,  1,     20,02-12826,2,19991012,0550,  3.0015, 164.9772, 4203,     25.4,  29.4451,  34.2779,2,   -999.0,9,-999.0000,9,    197.0,2,     1.51,2,  -999.00,9,     0.00,2,     0.00,2,     0.07,2, -999.000,9, -999.000,9,  -999.00,9,   -999.0,9,   -999.0,9,-999.0000,9,   -999.0,  9,  -999.00,9,   -999.0,  -999.00,9,  -999.00,9,  -999.00,9,  -999.00,9,   -999.0,-999.0000, -999,9,   25,  29.4389,  21.3750,   -999.0,9
       RF99-09,  165E,RF-0930,  1,     19,02-12825,2,19991012,0549,  3.0015, 164.9772, 4203,     51.5,  29.2654,  34.6794,2,   -999.0,9,-999.0000,9,    197.1,2,     1.44,2,  -999.00,9,     0.01,2,     0.00,2,     0.10,2, -999.000,9, -999.000,9,  -999.00,9,   -999.0,9,   -999.0,9,-999.0000,9,   -999.0,  9,  -999.00,9,   -999.0,  -999.00,9,  -999.00,9,  -999.00,9,  -999.00,9,   -999.0,-999.0000, -999,9,   51,  29.2528,  21.7387,   -999.0,9
       RF99-09,  165E,RF-0930,  1,     18,02-12830,2,19991012,0547,  3.0015, 164.9772, 4203,     76.1,  29.2450,  34.7305,2,   -999.0,9,-999.0000,9,    195.1,2,     1.63,2,  -999.00,9,     0.01,2,     0.00,2,     0.12,2, -999.000,9, -999.000,9,  -999.00,9,   -999.0,9,   -999.0,9,-999.0000,9,   -999.0,  9,  -999.00,9,   -999.0,  -999.00,9,  -999.00,9,  -999.00,9,  -999.00,9,   -999.0,-999.0000, -999,9,   76,  29.2265,  21.7859,   -999.0,9
       RF99-09,  165E,RF-0930,  1,     17,02-13591,2,19991012,0546,  3.0015, 164.9772, 4203,    102.0,  27.9998,  34.7521,2,   -999.0,9,  34.7804,4,    181.2,2,     2.28,2,  -999.00,9,     1.00,2,     0.20,2,     0.21,2, -999.000,9, -999.000,9,  -999.00,9,   -999.0,9,   -999.0,9,-999.0000,9,   -999.0,  9,  -999.00,9,   -999.0,  -999.00,9,  -999.00,9,  -999.00,9,  -999.00,9,   -999.0,-999.0000, -999,9,  101,  27.9758,  22.2161,   -999.0,9
       RF99-09,  165E,RF-0930,  1,     16,02-13588,2,19991012,0544,  3.0015, 164.9772, 4203,    126.5,  26.0859,  34.7398,2,   -999.0,9,-999.0000,9,    161.8,2,     3.53,2,  -999.00,9,     3.72,2,     0.15,2,     0.34,2, -999.000,9, -999.000,9,  -999.00,9,   -999.0,9,   -999.0,9,-999.0000,9,   -999.0,  9,  -999.00,9,   -999.0,  -999.00,9,  -999.00,9,  -999.00,9,  -999.00,9,   -999.0,-999.0000, -999,9,  126,  26.0576,  22.8191,   -999.0,9
       RF99-09,  165E,RF-0930,  1,     15,02-10155,2,19991012,0542,  3.0015, 164.9772, 4203,    152.5,  21.2527,  34.7512,2,   -999.0,9,-999.0000,9,    143.9,2,     7.51,2,  -999.00,9,     9.09,2,     0.02,2,     0.66,2, -999.000,9, -999.000,9,  -999.00,9,   -999.0,9,   -999.0,9,-999.0000,9,   -999.0,  9,  -999.00,9,   -999.0,  -999.00,9,  -999.00,9,  -999.00,9,  -999.00,9,   -999.0,-999.0000, -999,9,  152,  21.2233,  24.2437,   -999.0,9
       RF99-09,  165E,RF-0930,  1,     14,02-13579,2,19991012,0540,  3.0015, 164.9772, 4203,    202.3,  12.0361,  34.5614,2,   -999.0,9,  34.6054,4,    110.3,2,    25.31,2,  -999.00,9,    23.72,2,     0.00,2,     1.63,2, -999.000,9, -999.000,9,  -999.00,9,   -999.0,9,   -999.0,9,-999.0000,9,   -999.0,  9,  -999.00,9,   -999.0,  -999.00,9,  -999.00,9,  -999.00,9,  -999.00,9,    162.9,-999.0000, -999,9,  201,  12.0097,  26.2466,   -999.0,9
       RF99-09,  165E,RF-0930,  1,     13,02-13590,2,19991012,0538,  3.0015, 164.9772, 4203,    252.4,  10.3128,  34.7326,2,   -999.0,9,-999.0000,9,    109.9,2,    24.59,2,  -999.00,9,    27.16,2,     0.00,2,     1.84,2, -999.000,9, -999.000,9,  -999.00,9,   -999.0,9,   -999.0,9,-999.0000,9,   -999.0,  9,  -999.00,9,   -999.0,  -999.00,9,  -999.00,9,  -999.00,9,  -999.00,9,   -999.0,-999.0000, -999,9,  251,  10.2829,  26.6944,   -999.0,9
       RF99-09,  165E,RF-0930,  1,     12,02-12821,2,19991012,0536,  3.0015, 164.9772, 4203,    303.5,   9.8419,  34.7057,2,   -999.0,9,  34.7077,2,    106.7,2,    25.79,2,  -999.00,9,    28.32,2,     0.00,2,     1.91,2, -999.000,9, -999.000,9,  -999.00,9,   -999.0,9,   -999.0,9,-999.0000,9,   -999.0,  9,  -999.00,9,   -999.0,  -999.00,9,  -999.00,9,  -999.00,9,  -999.00,9,   -999.0,-999.0000, -999,9,  302,   9.8070,  26.7549,   -999.0,9
       RF99-09,  165E,RF-0930,  1,     11,02-12811,2,19991012,0533,  3.0015, 164.9772, 4203,    403.4,   9.0046,  34.6412,2,   -999.0,9,  34.6428,2,    106.1,2,    30.44,2,  -999.00,9,    30.00,2,     0.00,2,     2.03,2, -999.000,9, -999.000,9,  -999.00,9,   -999.0,9,   -999.0,9,-999.0000,9,   -999.0,  9,  -999.00,9,   -999.0,  -999.00,9,  -999.00,9,  -999.00,9,  -999.00,9,   -999.0,-999.0000, -999,9,  401,   8.9605,  26.8435,   -999.0,9
       RF99-09,  165E,RF-0930,  1,     10,02-12820,2,19991012,0530,  3.0015, 164.9772, 4203,    503.9,   8.1285,  34.5967,2,   -999.0,9,  34.5968,2,    110.6,2,    34.36,2,  -999.00,9,    31.41,2,     0.00,2,     2.13,2, -999.000,9, -999.000,9,  -999.00,9,   -999.0,9,   -999.0,9,-999.0000,9,   -999.0,  9,  -999.00,9,   -999.0,  -999.00,9,  -999.00,9,  -999.00,9,  -999.00,9,   -999.0,-999.0000, -999,9,  501,   8.0763,  26.9457,   -999.0,9
       RF99-09,  165E,RF-0930,  1,      9,02-12810,2,19991012,0527,  3.0015, 164.9772, 4203,    605.0,   7.0925,  34.5617,2,   -999.0,9,  34.6025,4,     70.2,2,    47.46,2,  -999.00,9,    36.71,2,     0.00,2,     2.56,2, -999.000,9, -999.000,9,  -999.00,9,   -999.0,9,   -999.0,9,-999.0000,9,   -999.0,  9,  -999.00,9,   -999.0,  -999.00,9,  -999.00,9,  -999.00,9,  -999.00,9,   -999.0,-999.0000, -999,9,  601,   7.0341,  27.0688,   -999.0,9
       RF99-09,  165E,RF-0930,  1,      8,02-12819,2,19991012,0524,  3.0015, 164.9772, 4203,    705.5,   6.2106,  34.5447,2,   -999.0,9,  34.5734,4,     77.8,2,    55.86,2,  -999.00,9,    37.74,2,     0.00,2,     2.65,2, -999.000,9, -999.000,9,  -999.00,9,   -999.0,9,   -999.0,9,-999.0000,9,   -999.0,  9,  -999.00,9,   -999.0,  -999.00,9,  -999.00,9,  -999.00,9,  -999.00,9,   -999.0,-999.0000, -999,9,  700,   6.1468,  27.1741,   -999.0,9
       RF99-09,  165E,RF-0930,  1,      7,02-12815,2,19991012,0520,  3.0015, 164.9772, 4203,    807.2,   5.5050,  34.5389,2,   -999.0,9,  34.5503,4,     89.7,2,    65.22,2,  -999.00,9,    37.69,2,     0.00,2,     2.63,2, -999.000,9, -999.000,9,  -999.00,9,   -999.0,9,   -999.0,9,-999.0000,9,   -999.0,  9,  -999.00,9,   -999.0,  -999.00,9,  -999.00,9,  -999.00,9,  -999.00,9,   -999.0,-999.0000, -999,9,  801,   5.4357,  27.2582,   -999.0,9
       RF99-09,  165E,RF-0930,  1,      6,02-12818,2,19991012,0517,  3.0015, 164.9772, 4203,    908.0,   4.9998,  34.5449,2,   -999.0,9,-999.0000,9,     91.4,2,    74.66,2,  -999.00,9,    38.41,2,     0.00,2,     2.69,2, -999.000,9, -999.000,9,  -999.00,9,   -999.0,9,   -999.0,9,-999.0000,9,   -999.0,  9,  -999.00,9,   -999.0,  -999.00,9,  -999.00,9,  -999.00,9,  -999.00,9,   -999.0,-999.0000, -999,9,  901,   4.9247,  27.3231,   -999.0,9
       RF99-09,  165E,RF-0930,  1,      5,02-12809,2,19991012,0514,  3.0015, 164.9772, 4203,   1009.1,   4.5556,  34.5545,2,   -999.0,9,  34.5547,2,     89.6,2,    83.52,2,  -999.00,9,    38.69,2,     0.00,2,     2.72,2, -999.000,9, -999.000,9,  -999.00,9,   -999.0,9,   -999.0,9,-999.0000,9,   -999.0,  9,  -999.00,9,   -999.0,  -999.00,9,  -999.00,9,  -999.00,9,  -999.00,9,   -999.0,-999.0000, -999,9, 1001,   4.4748,  27.3812,   -999.0,9
       RF99-09,  165E,RF-0930,  1,      4,02-12817,2,19991012,0508,  3.0015, 164.9772, 4203,   1262.6,   3.8004,  34.5750,2,   -999.0,9,  34.5755,2,     95.3,2,    99.10,2,  -999.00,9,    38.77,2,     0.00,2,     2.73,2, -999.000,9, -999.000,9,  -999.00,9,   -999.0,9,   -999.0,9,-999.0000,9,   -999.0,  9,  -999.00,9,   -999.0,  -999.00,9,  -999.00,9,  -999.00,9,  -999.00,9,   -999.0,-999.0000, -999,9, 1252,   3.7042,  27.4783,   -999.0,9
       RF99-09,  165E,RF-0930,  1,      3,02-12808,2,19991012,0502,  3.0015, 164.9772, 4203,   1516.1,   3.1474,  34.5968,2,   -999.0,9,  34.5985,2,     96.3,2,   113.37,2,  -999.00,9,    39.23,2,     0.00,2,     2.75,2, -999.000,9, -999.000,9,  -999.00,9,   -999.0,9,   -999.0,9,-999.0000,9,   -999.0,  9,  -999.00,9,   -999.0,  -999.00,9,  -999.00,9,  -999.00,9,  -999.00,9,   -999.0,-999.0000, -999,9, 1502,   3.0364,  27.5599,   -999.0,9
       RF99-09,  165E,RF-0930,  1,      2,02-13589,2,19991012,0456,  3.0015, 164.9772, 4203,   1771.0,   2.6340,  34.6196,2,   -999.0,9,  34.6184,2,    104.5,2,   123.40,2,  -999.00,9,    38.93,2,     0.00,2,     2.71,2, -999.000,9, -999.000,9,  -999.00,9,   -999.0,9,   -999.0,9,-999.0000,9,   -999.0,  9,  -999.00,9,   -999.0,  -999.00,9,  -999.00,9,  -999.00,9,  -999.00,9,   -999.0,-999.0000, -999,9, 1754,   2.5079,  27.6251,   -999.0,9
       RF99-09,  165E,RF-0930,  1,      1,02-12807,2,19991012,0451,  3.0015, 164.9772, 4203,   2034.8,   2.2606,  34.6386,2,   -999.0,9,  34.6373,2,    113.5,2,   130.63,2,  -999.00,9,    38.61,2,     0.00,2,     2.67,2, -999.000,9, -999.000,9,  -999.00,9,   -999.0,9,   -999.0,9,-999.0000,9,   -999.0,  9,  -999.00,9,   -999.0,  -999.00,9,  -999.00,9,  -999.00,9,  -999.00,9,   2029.7,-999.0000, -999,9, 2014,   2.1172,  27.6728,   -999.0,9