BOTTLE,20130510GEMDJMAYT
EXPOCODE,SECT_ID,STNNBR,CASTNO,SAMPNO,BTLNBR,BTLNBR_FLAG_W,DATE,TIME,LATITUDE,LONGITUDE,DEPTH,CTDPRS,CTDTMP,CTDSAL,CTDSAL_FLAG_W,CTDOXY,CTDOXY_FLAG_W,SALNTY,SALNTY_FLAG_W,OXYGEN,OXYGEN_FLAG_W,SILCAT,SILCAT_FLAG_W,NITRAT,NITRAT_FLAG_W,NO2+NO3,NO2+NO3_FLAG_W,NITRIT,NITRIT_FLAG_W,PHSPHT,PHSPHT_FLAG_W,CFC-11,CFC-11_FLAG_W,CFC-12,CFC-12_FLAG_W,DELC13,DELC13_FLAG_W,TCARBN,TCARBN_FLAG_W,ALKALI,ALKALI_FLAG_W,PH,PH_FLAG_W,PH_TMP,PH_SCALE,PH_NBS,PH_NBS_FLAG_W,C13ERR,TOTALP,TOTALP_FLAG_W,AMMONI,AMMONI_FLAG_W,CHLORA,CHLORA_FLAG_W,PPHYTN,PPHYTN_FLAG_W,REVPRS,REVTMP,DEPTH_,DEPTH_FLAG,CTDDEP,THETA,SIGTHT,DOC,DOC_FLAG_W
,,,,,,,GMT,GMT,,,METER,DBAR,ITS-90,PSS-78,,UMOL/KG,,PSS-78,,UMOL/KG,,UMOL/KG,,UMOL/KG,,UMOL/KG,,UMOL/KG,,UMOL/KG,,PMOL/KG,,PMOL/KG,,/MILLE,,UMOL/KG,,UMOL/KG,,25_DEG_C,,DEG_C,,,,/MILLE,UMOL/KG,,UMOL/KG,,UG/L,,UG/L,,DBAR,ITS-90,METERS,,METERS,DEG_C,,UMOL/L,
       RF99-09,  165E,RF-0926,  1,     -9,      -9,5,19990930,1117,  7.0122, 164.5097, 5091,      0.0,  28.9511,  33.3408,2,   -999.0,9,-999.0000,9,    209.1,4,     0.62,2,  -999.00,9,     0.03,2,     0.00,2,     0.08,2, -999.000,9, -999.000,9,  -999.00,9,   -999.0,9,   -999.0,9,-999.0000,9,   -999.0,  9,  -999.00,9,   -999.0,  -999.00,9,  -999.00,9,  -999.00,9,  -999.00,9,   -999.0,-999.0000, -999,9,    0,  28.9511,  20.8351,   -999.0,9
       RF99-09,  165E,RF-0926,  1,     21,02-12827,2,19990930,1115,  7.0122, 164.5097, 5091,     11.0,  29.4501,  33.7581,2,   -999.0,9,-999.0000,9,    198.8,2,     0.64,2,  -999.00,9,     0.00,2,     0.00,2,     0.09,2, -999.000,9, -999.000,9,  -999.00,9,   -999.0,9,   -999.0,9,-999.0000,9,   -999.0,  9,  -999.00,9,   -999.0,  -999.00,9,  -999.00,9,  -999.00,9,  -999.00,9,   -999.0,-999.0000, -999,9,   11,  29.4474,  20.9823,   -999.0,9
       RF99-09,  165E,RF-0926,  1,     20,02-12826,2,19990930,1114,  7.0122, 164.5097, 5091,     25.4,  29.4476,  34.1768,2,   -999.0,9,-999.0000,9,    198.7,2,     0.76,2,  -999.00,9,     0.00,2,     0.00,2,     0.13,2, -999.000,9, -999.000,9,  -999.00,9,   -999.0,9,   -999.0,9,-999.0000,9,   -999.0,  9,  -999.00,9,   -999.0,  -999.00,9,  -999.00,9,  -999.00,9,  -999.00,9,   -999.0,-999.0000, -999,9,   25,  29.4414,  21.2983,   -999.0,9
       RF99-09,  165E,RF-0926,  1,     19,02-12825,2,19990930,1113,  7.0122, 164.5097, 5091,     50.7,  29.1879,  34.5130,2,   -999.0,9,-999.0000,9,    199.7,2,     0.89,2,  -999.00,9,     0.00,2,     0.00,2,     0.13,2, -999.000,9, -999.000,9,  -999.00,9,   -999.0,9,   -999.0,9,-999.0000,9,   -999.0,  9,  -999.00,9,   -999.0,  -999.00,9,  -999.00,9,  -999.00,9,  -999.00,9,   -999.0,-999.0000, -999,9,   50,  29.1756,  21.6397,   -999.0,9
       RF99-09,  165E,RF-0926,  1,     18,02-12830,2,19990930,1112,  7.0122, 164.5097, 5091,     75.9,  28.5549,  34.7314,2,   -999.0,9,-999.0000,9,    202.3,2,     1.10,2,  -999.00,9,     0.00,2,     0.00,2,     0.11,2, -999.000,9, -999.000,9,  -999.00,9,   -999.0,9,   -999.0,9,-999.0000,9,   -999.0,  9,  -999.00,9,   -999.0,  -999.00,9,  -999.00,9,  -999.00,9,  -999.00,9,   -999.0,-999.0000, -999,9,   75,  28.5368,  22.0164,   -999.0,9
       RF99-09,  165E,RF-0926,  1,     17,02-13591,2,19990930,1111,  7.0122, 164.5097, 5091,    101.3,  26.8813,  34.8913,2,   -999.0,9,  34.8962,2,    181.7,2,     2.36,2,  -999.00,9,     2.10,2,     0.30,2,     0.28,2, -999.000,9, -999.000,9,  -999.00,9,   -999.0,9,   -999.0,9,-999.0000,9,   -999.0,  9,  -999.00,9,   -999.0,  -999.00,9,  -999.00,9,  -999.00,9,  -999.00,9,   -999.0,-999.0000, -999,9,  101,  26.8581,  22.6811,   -999.0,9
       RF99-09,  165E,RF-0926,  1,     16,02-13588,2,19990930,1110,  7.0122, 164.5097, 5091,    126.2,  21.4809,  34.8359,2,   -999.0,9,-999.0000,9,    156.9,2,     4.96,2,  -999.00,9,     7.26,2,     0.21,2,     0.55,2, -999.000,9, -999.000,9,  -999.00,9,   -999.0,9,   -999.0,9,-999.0000,9,   -999.0,  9,  -999.00,9,   -999.0,  -999.00,9,  -999.00,9,  -999.00,9,  -999.00,9,   -999.0,-999.0000, -999,9,  125,  21.4564,  24.2441,   -999.0,9
       RF99-09,  165E,RF-0926,  1,     15,02-10155,2,19990930,1109,  7.0122, 164.5097, 5091,    151.6,  15.3371,  34.5894,2,   -999.0,9,-999.0000,9,    122.1,2,    13.37,2,  -999.00,9,    16.83,2,     0.01,2,     1.18,2, -999.000,9, -999.000,9,  -999.00,9,   -999.0,9,   -999.0,9,-999.0000,9,   -999.0,  9,  -999.00,9,   -999.0,  -999.00,9,  -999.00,9,  -999.00,9,  -999.00,9,   -999.0,-999.0000, -999,9,  151,  15.3139,  25.5861,   -999.0,9
       RF99-09,  165E,RF-0926,  1,     14,02-13579,2,19990930,1107,  7.0122, 164.5097, 5091,    202.6,  10.8318,  34.6186,2,   -999.0,9,  34.6227,2,     33.7,2,    29.71,2,  -999.00,9,    32.72,2,     0.00,2,     2.26,2, -999.000,9, -999.000,9,  -999.00,9,   -999.0,9,   -999.0,9,-999.0000,9,   -999.0,  9,  -999.00,9,   -999.0,  -999.00,9,  -999.00,9,  -999.00,9,  -999.00,9,    164.2,-999.0000, -999,9,  201,  10.8072,  26.5131,   -999.0,9
       RF99-09,  165E,RF-0926,  1,     13,02-13590,2,19990930,1106,  7.0122, 164.5097, 5091,    252.1,  10.2174,  34.6571,2,   -999.0,9,-999.0000,9,     26.4,2,    32.10,2,  -999.00,9,    34.55,2,     0.00,2,     2.39,2, -999.000,9, -999.000,9,  -999.00,9,   -999.0,9,   -999.0,9,-999.0000,9,   -999.0,  9,  -999.00,9,   -999.0,  -999.00,9,  -999.00,9,  -999.00,9,  -999.00,9,   -999.0,-999.0000, -999,9,  251,  10.1877,  26.6520,   -999.0,9
       RF99-09,  165E,RF-0926,  1,     12,02-12821,2,19990930,1104,  7.0122, 164.5097, 5091,    303.2,   9.8226,  34.6549,2,   -999.0,9,  34.6634,4,     28.6,2,    33.64,2,  -999.00,9,    35.07,2,     0.00,2,     2.42,2, -999.000,9, -999.000,9,  -999.00,9,   -999.0,9,   -999.0,9,-999.0000,9,   -999.0,  9,  -999.00,9,   -999.0,  -999.00,9,  -999.00,9,  -999.00,9,  -999.00,9,   -999.0,-999.0000, -999,9,  301,   9.7878,  26.7184,   -999.0,9
       RF99-09,  165E,RF-0926,  1,     11,02-12811,2,19990930,1102,  7.0122, 164.5097, 5091,    405.2,   8.9840,  34.6171,2,   -999.0,9,  34.6208,2,     65.8,4,    35.59,2,  -999.00,9,    33.66,2,     0.00,2,     2.31,2, -999.000,9, -999.000,9,  -999.00,9,   -999.0,9,   -999.0,9,-999.0000,9,   -999.0,  9,  -999.00,9,   -999.0,  -999.00,9,  -999.00,9,  -999.00,9,  -999.00,9,   -999.0,-999.0000, -999,9,  403,   8.9397,  26.8279,   -999.0,9
       RF99-09,  165E,RF-0926,  1,     10,02-12820,2,19990930,1059,  7.0122, 164.5097, 5091,    504.2,   8.1958,  34.5947,2,   -999.0,9,  34.5968,2,     58.6,2,    40.06,2,  -999.00,9,    35.58,2,     0.00,2,     2.45,2, -999.000,9, -999.000,9,  -999.00,9,   -999.0,9,   -999.0,9,-999.0000,9,   -999.0,  9,  -999.00,9,   -999.0,  -999.00,9,  -999.00,9,  -999.00,9,  -999.00,9,   -999.0,-999.0000, -999,9,  501,   8.1433,  26.9340,   -999.0,9
       RF99-09,  165E,RF-0926,  1,      9,02-12810,2,19990930,1057,  7.0122, 164.5097, 5091,    606.4,   7.1886,  34.5535,2,   -999.0,9,  34.5578,2,     40.7,2,    52.18,2,  -999.00,9,    38.48,2,     0.00,2,     2.75,2, -999.000,9, -999.000,9,  -999.00,9,   -999.0,9,   -999.0,9,-999.0000,9,   -999.0,  9,  -999.00,9,   -999.0,  -999.00,9,  -999.00,9,  -999.00,9,  -999.00,9,   -999.0,-999.0000, -999,9,  602,   7.1297,  27.0490,   -999.0,9
       RF99-09,  165E,RF-0926,  1,      8,02-12819,2,19990930,1054,  7.0122, 164.5097, 5091,    706.2,   6.3209,  34.5375,2,   -999.0,9,  34.5405,2,     43.5,2,    63.10,2,  -999.00,9,    40.07,2,     0.00,2,     2.85,2, -999.000,9, -999.000,9,  -999.00,9,   -999.0,9,   -999.0,9,-999.0000,9,   -999.0,  9,  -999.00,9,   -999.0,  -999.00,9,  -999.00,9,  -999.00,9,  -999.00,9,   -999.0,-999.0000, -999,9,  701,   6.2565,  27.1542,   -999.0,9
       RF99-09,  165E,RF-0926,  1,      7,02-12815,2,19990930,1052,  7.0122, 164.5097, 5091,    807.5,   5.6025,  34.5382,2,   -999.0,9,  34.5458,4,     55.2,2,    71.10,2,  -999.00,9,    40.17,2,     0.00,2,     2.83,2, -999.000,9, -999.000,9,  -999.00,9,   -999.0,9,   -999.0,9,-999.0000,9,   -999.0,  9,  -999.00,9,   -999.0,  -999.00,9,  -999.00,9,  -999.00,9,  -999.00,9,   -999.0,-999.0000, -999,9,  801,   5.5326,  27.2460,   -999.0,9
       RF99-09,  165E,RF-0926,  1,      6,02-12818,2,19990930,1050,  7.0122, 164.5097, 5091,    908.1,   4.9645,  34.5412,2,   -999.0,9,-999.0000,9,     60.4,2,    82.28,2,  -999.00,9,    40.69,2,     0.00,2,     2.88,2, -999.000,9, -999.000,9,  -999.00,9,   -999.0,9,   -999.0,9,-999.0000,9,   -999.0,  9,  -999.00,9,   -999.0,  -999.00,9,  -999.00,9,  -999.00,9,  -999.00,9,   -999.0,-999.0000, -999,9,  901,   4.8897,  27.3242,   -999.0,9
       RF99-09,  165E,RF-0926,  1,      5,02-12809,2,19990930,1047,  7.0122, 164.5097, 5091,   1009.6,   4.3605,  34.5573,2,   -999.0,9,  34.5574,2,     64.9,2,    93.54,2,  -999.00,9,    40.87,2,     0.00,2,     2.90,2, -999.000,9, -999.000,9,  -999.00,9,   -999.0,9,   -999.0,9,-999.0000,9,   -999.0,  9,  -999.00,9,   -999.0,  -999.00,9,  -999.00,9,  -999.00,9,  -999.00,9,   -999.0,-999.0000, -999,9, 1002,   4.2812,  27.4044,   -999.0,9
       RF99-09,  165E,RF-0926,  1,      4,02-12817,2,19990930,1042,  7.0122, 164.5097, 5091,   1261.4,   3.4915,  34.5808,2,   -999.0,9,  34.5936,4,     83.4,2,   109.18,2,  -999.00,9,    39.96,2,     0.00,2,     2.81,2, -999.000,9, -999.000,9,  -999.00,9,   -999.0,9,   -999.0,9,-999.0000,9,   -999.0,  9,  -999.00,9,   -999.0,  -999.00,9,  -999.00,9,  -999.00,9,  -999.00,9,   -999.0,-999.0000, -999,9, 1251,   3.3983,  27.5130,   -999.0,9
       RF99-09,  165E,RF-0926,  1,      3,02-12808,2,19990930,1038,  7.0122, 164.5097, 5091,   1514.5,   2.9175,  34.6031,2,   -999.0,9,  34.6335,4,     91.1,2,   121.68,2,  -999.00,9,    39.82,2,     0.00,2,     2.76,2, -999.000,9, -999.000,9,  -999.00,9,   -999.0,9,   -999.0,9,-999.0000,9,   -999.0,  9,  -999.00,9,   -999.0,  -999.00,9,  -999.00,9,  -999.00,9,  -999.00,9,   -999.0,-999.0000, -999,9, 1501,   2.8094,  27.5855,   -999.0,9
       RF99-09,  165E,RF-0926,  1,      2,02-13589,2,19990930,1034,  7.0122, 164.5097, 5091,   1768.1,   2.4611,  34.6261,2,   -999.0,9,  34.6251,2,    101.3,2,   129.68,2,  -999.00,9,    39.33,2,     0.00,2,     2.71,2, -999.000,9, -999.000,9,  -999.00,9,   -999.0,9,   -999.0,9,-999.0000,9,   -999.0,  9,  -999.00,9,   -999.0,  -999.00,9,  -999.00,9,  -999.00,9,  -999.00,9,   -999.0,-999.0000, -999,9, 1751,   2.3374,  27.6447,   -999.0,9
       RF99-09,  165E,RF-0926,  1,      1,02-12807,2,19990930,1029,  7.0122, 164.5097, 5091,   2033.9,   2.1566,  34.6419,2,   -999.0,9,  34.6404,2,    107.4,2,   136.52,2,  -999.00,9,    38.95,2,     0.00,2,     2.69,2, -999.000,9, -999.000,9,  -999.00,9,   -999.0,9,   -999.0,9,-999.0000,9,   -999.0,  9,  -999.00,9,   -999.0,  -999.00,9,  -999.00,9,  -999.00,9,  -999.00,9,   2028.2,-999.0000, -999,9, 2013,   2.0149,  27.6836,   -999.0,9