BOTTLE,20130510GEMDJMAYT
EXPOCODE,SECT_ID,STNNBR,CASTNO,SAMPNO,BTLNBR,BTLNBR_FLAG_W,DATE,TIME,LATITUDE,LONGITUDE,DEPTH,CTDPRS,CTDTMP,CTDSAL,CTDSAL_FLAG_W,CTDOXY,CTDOXY_FLAG_W,SALNTY,SALNTY_FLAG_W,OXYGEN,OXYGEN_FLAG_W,SILCAT,SILCAT_FLAG_W,NITRAT,NITRAT_FLAG_W,NO2+NO3,NO2+NO3_FLAG_W,NITRIT,NITRIT_FLAG_W,PHSPHT,PHSPHT_FLAG_W,CFC-11,CFC-11_FLAG_W,CFC-12,CFC-12_FLAG_W,DELC13,DELC13_FLAG_W,TCARBN,TCARBN_FLAG_W,ALKALI,ALKALI_FLAG_W,PH,PH_FLAG_W,PH_TMP,PH_SCALE,PH_NBS,PH_NBS_FLAG_W,C13ERR,TOTALP,TOTALP_FLAG_W,AMMONI,AMMONI_FLAG_W,CHLORA,CHLORA_FLAG_W,PPHYTN,PPHYTN_FLAG_W,REVPRS,REVTMP,DEPTH_,DEPTH_FLAG,CTDDEP,THETA,SIGTHT,DOC,DOC_FLAG_W
,,,,,,,GMT,GMT,,,METER,DBAR,ITS-90,PSS-78,,UMOL/KG,,PSS-78,,UMOL/KG,,UMOL/KG,,UMOL/KG,,UMOL/KG,,UMOL/KG,,UMOL/KG,,PMOL/KG,,PMOL/KG,,/MILLE,,UMOL/KG,,UMOL/KG,,25_DEG_C,,DEG_C,,,,/MILLE,UMOL/KG,,UMOL/KG,,UG/L,,UG/L,,DBAR,ITS-90,METERS,,METERS,DEG_C,,UMOL/L,
       RF99-09,  165E,RF-0927,  1,     -9,      -9,5,19991011,0951,  5.9995, 164.9932, 4986,      0.0,  29.4299,  33.5379,2,   -999.0,9,-999.0000,9,    198.1,2,     1.37,2,  -999.00,9,     0.00,2,     0.00,2,     0.02,2, -999.000,9, -999.000,9,  -999.00,9,   -999.0,9,   -999.0,9,-999.0000,9,   -999.0,  9,  -999.00,9,   -999.0,  -999.00,9,  -999.00,9,  -999.00,9,  -999.00,9,   -999.0,-999.0000, -999,9,    0,  29.4299,  20.8231,   -999.0,9
       RF99-09,  165E,RF-0927,  1,     21,02-12827,2,19991011,0948,  5.9995, 164.9932, 4986,      9.8,  29.4342,  33.5397,2,   -999.0,9,-999.0000,9,    198.3,2,     1.32,2,  -999.00,9,     0.00,2,     0.00,2,     0.02,2, -999.000,9, -999.000,9,  -999.00,9,   -999.0,9,   -999.0,9,-999.0000,9,   -999.0,  9,  -999.00,9,   -999.0,  -999.00,9,  -999.00,9,  -999.00,9,  -999.00,9,   -999.0,-999.0000, -999,9,   10,  29.4318,  20.8238,   -999.0,9
       RF99-09,  165E,RF-0927,  1,     20,02-12826,2,19991011,0947,  5.9995, 164.9932, 4986,     25.2,  29.4963,  33.6707,2,   -999.0,9,-999.0000,9,    199.3,2,     1.40,2,  -999.00,9,     0.00,2,     0.00,2,     0.02,2, -999.000,9, -999.000,9,  -999.00,9,   -999.0,9,   -999.0,9,-999.0000,9,   -999.0,  9,  -999.00,9,   -999.0,  -999.00,9,  -999.00,9,  -999.00,9,  -999.00,9,   -999.0,-999.0000, -999,9,   25,  29.4901,  20.9024,   -999.0,9
       RF99-09,  165E,RF-0927,  1,     19,02-12825,2,19991011,0946,  5.9995, 164.9932, 4986,     50.1,  29.5411,  33.8572,2,   -999.0,9,-999.0000,9,    201.6,2,     1.36,2,  -999.00,9,     0.00,2,     0.00,2,     0.02,2, -999.000,9, -999.000,9,  -999.00,9,   -999.0,9,   -999.0,9,-999.0000,9,   -999.0,  9,  -999.00,9,   -999.0,  -999.00,9,  -999.00,9,  -999.00,9,  -999.00,9,   -999.0,-999.0000, -999,9,   50,  29.5288,  21.0292,   -999.0,9
       RF99-09,  165E,RF-0927,  1,     18,02-12830,2,19991011,0944,  5.9995, 164.9932, 4986,     75.5,  29.4613,  34.3991,2,   -999.0,9,-999.0000,9,    202.2,2,     1.40,2,  -999.00,9,     0.00,2,     0.00,2,     0.08,2, -999.000,9, -999.000,9,  -999.00,9,   -999.0,9,   -999.0,9,-999.0000,9,   -999.0,  9,  -999.00,9,   -999.0,  -999.00,9,  -999.00,9,  -999.00,9,  -999.00,9,   -999.0,-999.0000, -999,9,   75,  29.4428,  21.4645,   -999.0,9
       RF99-09,  165E,RF-0927,  1,     17,02-13591,2,19991011,0943,  5.9995, 164.9932, 4986,    100.0,  28.6508,  34.6152,2,   -999.0,9,  34.6701,4,    194.3,2,     1.67,2,  -999.00,9,     0.00,2,     0.00,2,     0.13,2, -999.000,9, -999.000,9,  -999.00,9,   -999.0,9,   -999.0,9,-999.0000,9,   -999.0,  9,  -999.00,9,   -999.0,  -999.00,9,  -999.00,9,  -999.00,9,  -999.00,9,   -999.0,-999.0000, -999,9,   99,  28.6269,  21.8992,   -999.0,9
       RF99-09,  165E,RF-0927,  1,     16,02-13588,2,19991011,0941,  5.9995, 164.9932, 4986,    125.8,  26.3274,  34.7497,2,   -999.0,9,-999.0000,9,    166.2,2,     3.32,2,  -999.00,9,     3.03,2,     0.39,2,     0.33,2, -999.000,9, -999.000,9,  -999.00,9,   -999.0,9,   -999.0,9,-999.0000,9,   -999.0,  9,  -999.00,9,   -999.0,  -999.00,9,  -999.00,9,  -999.00,9,  -999.00,9,   -999.0,-999.0000, -999,9,  125,  26.2991,  22.7510,   -999.0,9
       RF99-09,  165E,RF-0927,  1,     15,02-10155,2,19991011,0939,  5.9995, 164.9932, 4986,    152.0,  22.2165,  34.7876,2,   -999.0,9,-999.0000,9,    145.1,2,     5.17,2,  -999.00,9,     8.02,2,     0.21,2,     0.59,2, -999.000,9, -999.000,9,  -999.00,9,   -999.0,9,   -999.0,9,-999.0000,9,   -999.0,  9,  -999.00,9,   -999.0,  -999.00,9,  -999.00,9,  -999.00,9,  -999.00,9,   -999.0,-999.0000, -999,9,  151,  22.1862,  24.0042,   -999.0,9
       RF99-09,  165E,RF-0927,  1,     14,02-13579,2,19991011,0937,  5.9995, 164.9932, 4986,    201.7,  12.8546,  34.5388,2,   -999.0,9,  34.5535,4,    105.4,2,    21.98,2,  -999.00,9,    22.57,2,     0.00,2,     1.57,2, -999.000,9, -999.000,9,  -999.00,9,   -999.0,9,   -999.0,9,-999.0000,9,   -999.0,  9,  -999.00,9,   -999.0,  -999.00,9,  -999.00,9,  -999.00,9,  -999.00,9,    202.2,-999.0000, -999,9,  200,  12.8272,  26.0700,   -999.0,9
       RF99-09,  165E,RF-0927,  1,     13,02-13590,2,19991011,0935,  5.9995, 164.9932, 4986,    252.1,  10.8489,  34.6178,2,   -999.0,9,-999.0000,9,     35.8,2,    30.30,2,  -999.00,9,    32.74,2,     0.00,2,     2.32,2, -999.000,9, -999.000,9,  -999.00,9,   -999.0,9,   -999.0,9,-999.0000,9,   -999.0,  9,  -999.00,9,   -999.0,  -999.00,9,  -999.00,9,  -999.00,9,  -999.00,9,   -999.0,-999.0000, -999,9,  251,  10.8181,  26.5105,   -999.0,9
       RF99-09,  165E,RF-0927,  1,     12,02-12821,3,19991011,0934,  5.9995, 164.9932, 4986,    300.8,   9.6823,  34.5955,2,   -999.0,9,-999.0000,9,   -999.0,9,  -999.00,9,  -999.00,9,  -999.00,9,  -999.00,9,  -999.00,9, -999.000,9, -999.000,9,  -999.00,9,   -999.0,9,   -999.0,9,-999.0000,9,   -999.0,  9,  -999.00,9,   -999.0,  -999.00,9,  -999.00,9,  -999.00,9,  -999.00,9,   -999.0,-999.0000, -999,9,  299,   9.6481,  26.6954,   -999.0,9
       RF99-09,  165E,RF-0927,  1,     11,02-12811,2,19991011,0931,  5.9995, 164.9932, 4986,    403.3,   8.9351,  34.6264,2,   -999.0,9,  34.6320,4,     63.4,2,    35.22,2,  -999.00,9,    33.70,2,     0.00,2,     2.34,2, -999.000,9, -999.000,9,  -999.00,9,   -999.0,9,   -999.0,9,-999.0000,9,   -999.0,  9,  -999.00,9,   -999.0,  -999.00,9,  -999.00,9,  -999.00,9,  -999.00,9,   -999.0,-999.0000, -999,9,  401,   8.8911,  26.8430,   -999.0,9
       RF99-09,  165E,RF-0927,  1,     10,02-12820,2,19991011,0927,  5.9995, 164.9932, 4986,    504.1,   8.0317,  34.5846,2,   -999.0,9,  34.5869,2,     45.4,2,    44.16,2,  -999.00,9,    36.58,2,     0.00,2,     2.62,2, -999.000,9, -999.000,9,  -999.00,9,   -999.0,9,   -999.0,9,-999.0000,9,   -999.0,  9,  -999.00,9,   -999.0,  -999.00,9,  -999.00,9,  -999.00,9,  -999.00,9,   -999.0,-999.0000, -999,9,  501,   7.9799,  26.9506,   -999.0,9
       RF99-09,  165E,RF-0927,  1,      9,02-12810,2,19991011,0924,  5.9995, 164.9932, 4986,    604.2,   7.3742,  34.5616,2,   -999.0,9,  34.5635,2,     60.5,2,    48.01,2,  -999.00,9,    36.71,2,     0.00,2,     2.59,2, -999.000,9, -999.000,9,  -999.00,9,   -999.0,9,   -999.0,9,-999.0000,9,   -999.0,  9,  -999.00,9,   -999.0,  -999.00,9,  -999.00,9,  -999.00,9,  -999.00,9,   -999.0,-999.0000, -999,9,  600,   7.3146,  27.0294,   -999.0,9
       RF99-09,  165E,RF-0927,  1,      8,02-12819,2,19991011,0922,  5.9995, 164.9932, 4986,    705.0,   6.4340,  34.5446,2,   -999.0,9,  34.5466,2,     60.2,2,    58.73,2,  -999.00,9,    38.69,2,     0.00,2,     2.76,2, -999.000,9, -999.000,9,  -999.00,9,   -999.0,9,   -999.0,9,-999.0000,9,   -999.0,  9,  -999.00,9,   -999.0,  -999.00,9,  -999.00,9,  -999.00,9,  -999.00,9,   -999.0,-999.0000, -999,9,  700,   6.3691,  27.1451,   -999.0,9
       RF99-09,  165E,RF-0927,  1,      7,02-12815,2,19991011,0919,  5.9995, 164.9932, 4986,    806.8,   5.6820,  34.5395,2,   -999.0,9,  34.4965,4,     62.1,2,    69.57,2,  -999.00,9,    39.63,2,     0.00,2,     2.84,2, -999.000,9, -999.000,9,  -999.00,9,   -999.0,9,   -999.0,9,-999.0000,9,   -999.0,  9,  -999.00,9,   -999.0,  -999.00,9,  -999.00,9,  -999.00,9,  -999.00,9,   -999.0,-999.0000, -999,9,  801,   5.6117,  27.2373,   -999.0,9
       RF99-09,  165E,RF-0927,  1,      6,02-12818,2,19991011,0917,  5.9995, 164.9932, 4986,    907.0,   5.0990,  34.5433,2,   -999.0,9,-999.0000,9,     67.3,2,    78.18,2,  -999.00,9,    39.87,2,     0.00,2,     2.84,2, -999.000,9, -999.000,9,  -999.00,9,   -999.0,9,   -999.0,9,-999.0000,9,   -999.0,  9,  -999.00,9,   -999.0,  -999.00,9,  -999.00,9,  -999.00,9,  -999.00,9,   -999.0,-999.0000, -999,9,  900,   5.0233,  27.3105,   -999.0,9
       RF99-09,  165E,RF-0927,  1,      5,02-12809,2,19991011,0914,  5.9995, 164.9932, 4986,   1008.2,   4.6418,  34.5577,2,   -999.0,9,  34.5521,2,     73.0,2,    86.60,2,  -999.00,9,    39.79,2,     0.00,2,     2.83,2, -999.000,9, -999.000,9,  -999.00,9,   -999.0,9,   -999.0,9,-999.0000,9,   -999.0,  9,  -999.00,9,   -999.0,  -999.00,9,  -999.00,9,  -999.00,9,  -999.00,9,   -999.0,-999.0000, -999,9, 1000,   4.5604,  27.3743,   -999.0,9
       RF99-09,  165E,RF-0927,  1,      4,02-12817,2,19991011,0910,  5.9995, 164.9932, 4986,   1259.4,   3.6505,  34.5832,2,   -999.0,9,  34.5822,2,     79.9,2,   106.37,2,  -999.00,9,    40.18,2,     0.00,2,     2.86,2, -999.000,9, -999.000,9,  -999.00,9,   -999.0,9,   -999.0,9,-999.0000,9,   -999.0,  9,  -999.00,9,   -999.0,  -999.00,9,  -999.00,9,  -999.00,9,  -999.00,9,   -999.0,-999.0000, -999,9, 1249,   3.5560,  27.4995,   -999.0,9
       RF99-09,  165E,RF-0927,  1,      3,02-12808,2,19991011,0905,  5.9995, 164.9932, 4986,   1513.8,   2.9278,  34.6084,2,   -999.0,9,  34.5975,4,     94.6,2,   120.15,2,  -999.00,9,    39.57,2,     0.00,2,     2.81,2, -999.000,9, -999.000,9,  -999.00,9,   -999.0,9,   -999.0,9,-999.0000,9,   -999.0,  9,  -999.00,9,   -999.0,  -999.00,9,  -999.00,9,  -999.00,9,  -999.00,9,   -999.0,-999.0000, -999,9, 1500,   2.8195,  27.5888,   -999.0,9
       RF99-09,  165E,RF-0927,  1,      2,02-13589,2,19991011,0859,  5.9995, 164.9932, 4986,   1768.5,   2.4310,  34.6260,2,   -999.0,9,  34.6267,2,    104.8,2,   131.27,2,  -999.00,9,    39.22,2,     0.00,2,     2.74,2, -999.000,9, -999.000,9,  -999.00,9,   -999.0,9,   -999.0,9,-999.0000,9,   -999.0,  9,  -999.00,9,   -999.0,  -999.00,9,  -999.00,9,  -999.00,9,  -999.00,9,   -999.0,-999.0000, -999,9, 1751,   2.3078,  27.6470,   -999.0,9
       RF99-09,  165E,RF-0927,  1,      1,02-12807,2,19991011,0854,  5.9995, 164.9932, 4986,   2036.9,   2.1244,  34.6499,2,   -999.0,9,  34.6479,2,    112.0,2,   137.15,2,  -999.00,9,    38.77,2,     0.00,2,     2.71,2, -999.000,9, -999.000,9,  -999.00,9,   -999.0,9,   -999.0,9,-999.0000,9,   -999.0,  9,  -999.00,9,   -999.0,  -999.00,9,  -999.00,9,  -999.00,9,  -999.00,9,   2032.4,-999.0000, -999,9, 2016,   1.9828,  27.6926,   -999.0,9