BOTTLE,20130510GEMDJMAYT
EXPOCODE,SECT_ID,STNNBR,CASTNO,SAMPNO,BTLNBR,BTLNBR_FLAG_W,DATE,TIME,LATITUDE,LONGITUDE,DEPTH,CTDPRS,CTDTMP,CTDSAL,CTDSAL_FLAG_W,CTDOXY,CTDOXY_FLAG_W,SALNTY,SALNTY_FLAG_W,OXYGEN,OXYGEN_FLAG_W,SILCAT,SILCAT_FLAG_W,NITRAT,NITRAT_FLAG_W,NO2+NO3,NO2+NO3_FLAG_W,NITRIT,NITRIT_FLAG_W,PHSPHT,PHSPHT_FLAG_W,CFC-11,CFC-11_FLAG_W,CFC-12,CFC-12_FLAG_W,DELC13,DELC13_FLAG_W,TCARBN,TCARBN_FLAG_W,ALKALI,ALKALI_FLAG_W,PH,PH_FLAG_W,PH_TMP,PH_SCALE,PH_NBS,PH_NBS_FLAG_W,C13ERR,TOTALP,TOTALP_FLAG_W,AMMONI,AMMONI_FLAG_W,CHLORA,CHLORA_FLAG_W,PPHYTN,PPHYTN_FLAG_W,REVPRS,REVTMP,DEPTH_,DEPTH_FLAG,CTDDEP,THETA,SIGTHT,DOC,DOC_FLAG_W
,,,,,,,GMT,GMT,,,METER,DBAR,ITS-90,PSS-78,,UMOL/KG,,PSS-78,,UMOL/KG,,UMOL/KG,,UMOL/KG,,UMOL/KG,,UMOL/KG,,UMOL/KG,,PMOL/KG,,PMOL/KG,,/MILLE,,UMOL/KG,,UMOL/KG,,25_DEG_C,,DEG_C,,,,/MILLE,UMOL/KG,,UMOL/KG,,UG/L,,UG/L,,DBAR,ITS-90,METERS,,METERS,DEG_C,,UMOL/L,
       RF99-09,  165E,RF-0913,  1,     -9,      -9,5,19990927,0128, 19.9835, 164.9882, 5339,      0.0,  28.9170,  35.0622,2,   -999.0,9,-999.0000,9,   -999.0,4,     1.44,2,  -999.00,9,     0.05,2,     0.00,2,     0.02,2, -999.000,9, -999.000,9,  -999.00,9,   -999.0,9,   -999.0,9,-999.0000,9,   -999.0,  9,  -999.00,9,   -999.0,  -999.00,9,  -999.00,9,     0.07,2,     0.02,2,   -999.0,-999.0000, -999,9,    0,  28.9170,  22.1385,   -999.0,9
       RF99-09,  165E,RF-0913,  1,     22,02-12828,3,19990927,0126, 19.9835, 164.9882, 5339,     11.2,  28.8832,  35.0600,2,   -999.0,9,-999.0000,9,    197.1,2,     1.38,2,  -999.00,9,     0.01,2,     0.00,2,     0.04,2, -999.000,9, -999.000,9,  -999.00,9,   -999.0,9,   -999.0,9,-999.0000,9,   -999.0,  9,  -999.00,9,   -999.0,  -999.00,9,  -999.00,9,     0.07,2,     0.02,2,   -999.0,-999.0000, -999,9,   11,  28.8805,  22.1490,   -999.0,9
       RF99-09,  165E,RF-0913,  1,     21,02-12827,2,19990927,0124, 19.9835, 164.9882, 5339,     26.7,  28.8132,  35.0582,2,   -999.0,9,-999.0000,9,    198.2,2,     1.10,2,  -999.00,9,     0.00,2,     0.00,2,     0.19,4, -999.000,9, -999.000,9,  -999.00,9,   -999.0,9,   -999.0,9,-999.0000,9,   -999.0,  9,  -999.00,9,   -999.0,  -999.00,9,  -999.00,9,     0.08,2,     0.02,2,   -999.0,-999.0000, -999,9,   27,  28.8068,  22.1722,   -999.0,9
       RF99-09,  165E,RF-0913,  1,     20,02-12826,2,19990927,0123, 19.9835, 164.9882, 5339,     52.3,  28.8072,  35.0579,2,   -999.0,9,-999.0000,9,    198.8,2,     1.42,2,  -999.00,9,     0.00,2,     0.00,2,     0.10,4, -999.000,9, -999.000,9,  -999.00,9,   -999.0,9,   -999.0,9,-999.0000,9,   -999.0,  9,  -999.00,9,   -999.0,  -999.00,9,  -999.00,9,     0.09,2,     0.03,2,   -999.0,-999.0000, -999,9,   52,  28.7946,  22.1761,   -999.0,9
       RF99-09,  165E,RF-0913,  1,     19,02-12825,2,19990927,0121, 19.9835, 164.9882, 5339,     75.9,  28.6043,  35.0720,2,   -999.0,9,-999.0000,9,    201.3,2,     1.25,2,  -999.00,9,     0.00,2,     0.00,2,     0.08,4, -999.000,9, -999.000,9,  -999.00,9,   -999.0,9,   -999.0,9,-999.0000,9,   -999.0,  9,  -999.00,9,   -999.0,  -999.00,9,  -999.00,9,     0.12,2,     0.04,2,   -999.0,-999.0000, -999,9,   75,  28.5862,  22.2558,   -999.0,9
       RF99-09,  165E,RF-0913,  1,     18,02-12830,2,19990927,0120, 19.9835, 164.9882, 5339,    100.1,  27.2019,  35.0980,2,   -999.0,9,  35.0623,4,    208.1,2,     1.24,2,  -999.00,9,     0.00,2,     0.00,2,     0.00,2, -999.000,9, -999.000,9,  -999.00,9,   -999.0,9,   -999.0,9,-999.0000,9,   -999.0,  9,  -999.00,9,   -999.0,  -999.00,9,  -999.00,9,     0.19,2,     0.09,2,   -999.0,-999.0000, -999,9,  100,  27.1788,  22.7343,   -999.0,9
       RF99-09,  165E,RF-0913,  1,     17,02-13591,2,19990927,0118, 19.9835, 164.9882, 5339,    126.8,  25.3464,  35.0846,2,   -999.0,9,-999.0000,9,    198.3,2,     1.49,2,  -999.00,9,     0.04,2,     0.06,2,     0.03,2, -999.000,9, -999.000,9,  -999.00,9,   -999.0,9,   -999.0,9,-999.0000,9,   -999.0,  9,  -999.00,9,   -999.0,  -999.00,9,  -999.00,9,     0.18,2,     0.41,2,   -999.0,-999.0000, -999,9,  126,  25.3186,  23.3079,   -999.0,9
       RF99-09,  165E,RF-0913,  1,     16,02-13588,2,19990927,0117, 19.9835, 164.9882, 5339,    152.2,  23.6972,  35.0696,2,   -999.0,9,-999.0000,9,    192.1,2,     1.67,2,  -999.00,9,     0.29,2,     0.21,2,     0.06,2, -999.000,9, -999.000,9,  -999.00,9,   -999.0,9,   -999.0,9,-999.0000,9,   -999.0,  9,  -999.00,9,   -999.0,  -999.00,9,  -999.00,9,     0.11,2,     0.25,2,   -999.0,-999.0000, -999,9,  151,  23.6654,  23.7927,   -999.0,9
       RF99-09,  165E,RF-0913,  1,     15,02-10155,2,19990927,0115, 19.9835, 164.9882, 5339,    201.6,  20.7188,  34.9522,2,   -999.0,9,  34.9724,4,    192.2,2,     2.47,2,  -999.00,9,     1.43,2,     0.00,2,     0.13,2, -999.000,9, -999.000,9,  -999.00,9,   -999.0,9,   -999.0,9,-999.0000,9,   -999.0,  9,  -999.00,9,   -999.0,  -999.00,9,  -999.00,9,     0.03,2,     0.06,2,   -999.0,-999.0000, -999,9,  200,  20.6806,  24.5440,   -999.0,9
       RF99-09,  165E,RF-0913,  1,     14,02-13579,2,19990927,0113, 19.9835, 164.9882, 5339,    251.3,  17.1088,  34.7832,2,   -999.0,9,-999.0000,9,    199.4,2,     4.54,2,  -999.00,9,     4.93,2,     0.00,2,     0.33,2, -999.000,9, -999.000,9,  -999.00,9,   -999.0,9,   -999.0,9,-999.0000,9,   -999.0,  9,  -999.00,9,   -999.0,  -999.00,9,  -999.00,9,  -999.00,9,  -999.00,9,    246.4,-999.0000, -999,9,  250,  17.0671,  25.3319,   -999.0,9
       RF99-09,  165E,RF-0913,  1,     13,02-13590,2,19990927,0111, 19.9835, 164.9882, 5339,    302.7,  15.5394,  34.6549,2,   -999.0,9,  34.6613,2,    202.7,2,     6.65,2,  -999.00,9,     6.84,2,     0.00,2,     0.46,2, -999.000,9, -999.000,9,  -999.00,9,   -999.0,9,   -999.0,9,-999.0000,9,   -999.0,  9,  -999.00,9,   -999.0,  -999.00,9,  -999.00,9,  -999.00,9,  -999.00,9,   -999.0,-999.0000, -999,9,  301,  15.4924,  25.5968,   -999.0,9
       RF99-09,  165E,RF-0913,  1,     12,02-12821,2,19990927,0109, 19.9835, 164.9882, 5339,    403.8,  12.3093,  34.3794,2,   -999.0,9,  34.3824,2,    193.0,2,    14.71,2,  -999.00,9,    13.31,2,     0.00,2,     0.93,2, -999.000,9, -999.000,9,  -999.00,9,   -999.0,9,   -999.0,9,-999.0000,9,   -999.0,  9,  -999.00,9,   -999.0,  -999.00,9,  -999.00,9,  -999.00,9,  -999.00,9,   -999.0,-999.0000, -999,9,  401,  12.2556,  26.0581,   -999.0,9
       RF99-09,  165E,RF-0913,  1,     11,02-12811,2,19990927,0106, 19.9835, 164.9882, 5339,    504.2,   9.2636,  34.1793,2,   -999.0,9,  34.1844,4,    149.9,2,    30.48,2,  -999.00,9,    22.77,2,     0.00,2,     1.63,2, -999.000,9, -999.000,9,  -999.00,9,   -999.0,9,   -999.0,9,-999.0000,9,   -999.0,  9,  -999.00,9,   -999.0,  -999.00,9,  -999.00,9,  -999.00,9,  -999.00,9,   -999.0,-999.0000, -999,9,  500,   9.2075,  26.4422,   -999.0,9
       RF99-09,  165E,RF-0913,  1,     10,02-12820,2,19990927,0104, 19.9835, 164.9882, 5339,    605.7,   6.7654,  34.1172,2,   -999.0,9,  34.0877,4,    101.2,2,    56.15,2,  -999.00,9,    31.92,2,     0.00,2,     2.30,2, -999.000,9, -999.000,9,  -999.00,9,   -999.0,9,   -999.0,9,-999.0000,9,   -999.0,  9,  -999.00,9,   -999.0,  -999.00,9,  -999.00,9,  -999.00,9,  -999.00,9,   -999.0,-999.0000, -999,9,  601,   6.7089,  26.7629,   -999.0,9
       RF99-09,  165E,RF-0913,  1,      9,02-12810,2,19990927,0101, 19.9835, 164.9882, 5339,    707.2,   5.4716,  34.2133,2,   -999.0,9,  34.2113,2,     58.1,2,    78.02,2,  -999.00,9,    37.93,2,     0.00,2,     2.77,2, -999.000,9, -999.000,9,  -999.00,9,   -999.0,9,   -999.0,9,-999.0000,9,   -999.0,  9,  -999.00,9,   -999.0,  -999.00,9,  -999.00,9,  -999.00,9,  -999.00,9,   -999.0,-999.0000, -999,9,  702,   5.4119,  27.0033,   -999.0,9
       RF99-09,  165E,RF-0913,  1,      8,02-12819,2,19990927,0058, 19.9835, 164.9882, 5339,    806.8,   4.8309,  34.3144,2,   -999.0,9,  34.3164,2,     47.6,2,    91.20,2,  -999.00,9,    40.05,2,     0.00,2,     2.91,2, -999.000,9, -999.000,9,  -999.00,9,   -999.0,9,   -999.0,9,-999.0000,9,   -999.0,  9,  -999.00,9,   -999.0,  -999.00,9,  -999.00,9,  -999.00,9,  -999.00,9,   -999.0,-999.0000, -999,9,  800,   4.7661,  27.1583,   -999.0,9
       RF99-09,  165E,RF-0913,  1,      7,02-12815,2,19990927,0056, 19.9835, 164.9882, 5339,    908.5,   4.3270,  34.4074,2,   -999.0,9,-999.0000,9,     51.5,2,   101.67,2,  -999.00,9,    40.53,2,     0.00,2,     2.93,2, -999.000,9, -999.000,9,  -999.00,9,   -999.0,9,   -999.0,9,-999.0000,9,   -999.0,  9,  -999.00,9,   -999.0,  -999.00,9,  -999.00,9,  -999.00,9,  -999.00,9,   -999.0,-999.0000, -999,9,  901,   4.2568,  27.2878,   -999.0,9
       RF99-09,  165E,RF-0913,  1,      6,02-12818,2,19990927,0054, 19.9835, 164.9882, 5339,   1010.3,   3.9136,  34.4665,2,   -999.0,9,-999.0000,9,   -999.0,9,  -999.00,9,  -999.00,9,  -999.00,9,  -999.00,9,  -999.00,9, -999.000,9, -999.000,9,  -999.00,9,   -999.0,9,   -999.0,9,-999.0000,9,   -999.0,  9,  -999.00,9,   -999.0,  -999.00,9,  -999.00,9,  -999.00,9,  -999.00,9,   -999.0,-999.0000, -999,9, 1002,   3.8378,  27.3784,   -999.0,9
       RF99-09,  165E,RF-0913,  1,      5,02-12809,2,19990927,0053, 19.9835, 164.9882, 5339,   1010.6,   3.9149,  34.4664,2,   -999.0,9,  34.4672,2,     59.8,2,   109.42,2,  -999.00,9,    40.52,2,     0.00,2,     2.92,2, -999.000,9, -999.000,9,  -999.00,9,   -999.0,9,   -999.0,9,-999.0000,9,   -999.0,  9,  -999.00,9,   -999.0,  -999.00,9,  -999.00,9,  -999.00,9,  -999.00,9,   -999.0,-999.0000, -999,9, 1002,   3.8391,  27.3782,   -999.0,9
       RF99-09,  165E,RF-0913,  1,      4,02-12817,2,19990927,0049, 19.9835, 164.9882, 5339,   1262.2,   3.2319,  34.5384,2,   -999.0,9,  34.5375,2,     74.9,2,   121.87,2,  -999.00,9,    40.03,2,     0.00,2,     2.88,2, -999.000,9, -999.000,9,  -999.00,9,   -999.0,9,   -999.0,9,-999.0000,9,   -999.0,  9,  -999.00,9,   -999.0,  -999.00,9,  -999.00,9,  -999.00,9,  -999.00,9,   -999.0,-999.0000, -999,9, 1251,   3.1413,  27.5035,   -999.0,9
       RF99-09,  165E,RF-0913,  1,      3,02-12808,2,19990927,0044, 19.9835, 164.9882, 5339,   1514.0,   2.6813,  34.5743,2,   -999.0,9,  34.5730,2,     85.0,2,   131.97,2,  -999.00,9,    39.81,2,     0.00,2,     2.84,2, -999.000,9, -999.000,9,  -999.00,9,   -999.0,9,   -999.0,9,-999.0000,9,   -999.0,  9,  -999.00,9,   -999.0,  -999.00,9,  -999.00,9,  -999.00,9,  -999.00,9,   -999.0,-999.0000, -999,9, 1499,   2.5760,  27.5830,   -999.0,9
       RF99-09,  165E,RF-0913,  1,      2,02-13589,2,19990927,0040, 19.9835, 164.9882, 5339,   1767.1,   2.2451,  34.6027,2,   -999.0,9,  34.6042,2,     96.3,2,   140.04,2,  -999.00,9,    39.37,2,     0.00,2,     2.80,2, -999.000,9, -999.000,9,  -999.00,9,   -999.0,9,   -999.0,9,-999.0000,9,   -999.0,  9,  -999.00,9,   -999.0,  -999.00,9,  -999.00,9,  -999.00,9,  -999.00,9,   -999.0,-999.0000, -999,9, 1749,   2.1246,  27.6434,   -999.0,9
       RF99-09,  165E,RF-0913,  1,      1,02-12807,2,19990927,0035, 19.9835, 164.9882, 5339,   2035.4,   2.0079,  34.6255,2,   -999.0,9,  34.6237,2,    105.7,2,   143.48,2,  -999.00,9,    38.92,2,     0.00,2,     2.74,2, -999.000,9, -999.000,9,  -999.00,9,   -999.0,9,   -999.0,9,-999.0000,9,   -999.0,  9,  -999.00,9,   -999.0,  -999.00,9,  -999.00,9,  -999.00,9,  -999.00,9,   2030.4,-999.0000, -999,9, 2013,   1.8684,  27.6819,   -999.0,9