BOTTLE,20130510GEMDJMAYT
EXPOCODE,SECT_ID,STNNBR,CASTNO,SAMPNO,BTLNBR,BTLNBR_FLAG_W,DATE,TIME,LATITUDE,LONGITUDE,DEPTH,CTDPRS,CTDTMP,CTDSAL,CTDSAL_FLAG_W,CTDOXY,CTDOXY_FLAG_W,SALNTY,SALNTY_FLAG_W,OXYGEN,OXYGEN_FLAG_W,SILCAT,SILCAT_FLAG_W,NITRAT,NITRAT_FLAG_W,NO2+NO3,NO2+NO3_FLAG_W,NITRIT,NITRIT_FLAG_W,PHSPHT,PHSPHT_FLAG_W,CFC-11,CFC-11_FLAG_W,CFC-12,CFC-12_FLAG_W,DELC13,DELC13_FLAG_W,TCARBN,TCARBN_FLAG_W,ALKALI,ALKALI_FLAG_W,PH,PH_FLAG_W,PH_TMP,PH_SCALE,PH_NBS,PH_NBS_FLAG_W,C13ERR,TOTALP,TOTALP_FLAG_W,AMMONI,AMMONI_FLAG_W,CHLORA,CHLORA_FLAG_W,PPHYTN,PPHYTN_FLAG_W,REVPRS,REVTMP,DEPTH_,DEPTH_FLAG,CTDDEP,THETA,SIGTHT,DOC,DOC_FLAG_W
,,,,,,,GMT,GMT,,,METER,DBAR,ITS-90,PSS-78,,UMOL/KG,,PSS-78,,UMOL/KG,,UMOL/KG,,UMOL/KG,,UMOL/KG,,UMOL/KG,,UMOL/KG,,PMOL/KG,,PMOL/KG,,/MILLE,,UMOL/KG,,UMOL/KG,,25_DEG_C,,DEG_C,,,,/MILLE,UMOL/KG,,UMOL/KG,,UG/L,,UG/L,,DBAR,ITS-90,METERS,,METERS,DEG_C,,UMOL/L,
       RF99-09,  165E,RF-0918,  1,     -9,      -9,5,19990928,0754, 14.9915, 164.9903, 5207,      0.0,  28.9897,  34.9032,2,   -999.0,9,-999.0000,9,    200.2,2,     1.15,2,  -999.00,9,     0.03,2,     0.00,2,     0.08,2, -999.000,9, -999.000,9,  -999.00,9,   -999.0,9,   -999.0,9,-999.0000,9,   -999.0,  9,  -999.00,9,   -999.0,  -999.00,9,  -999.00,9,     0.03,2,     0.01,2,   -999.0,-999.0000, -999,9,    0,  28.9897,  21.9948,   -999.0,9
       RF99-09,  165E,RF-0918,  1,     21,02-12827,2,19990928,0752, 14.9915, 164.9903, 5207,     11.5,  28.9872,  34.9074,2,   -999.0,9,-999.0000,9,    201.2,2,     1.30,2,  -999.00,9,     0.00,2,     0.00,2,     0.08,2, -999.000,9, -999.000,9,  -999.00,9,   -999.0,9,   -999.0,9,-999.0000,9,   -999.0,  9,  -999.00,9,   -999.0,  -999.00,9,  -999.00,9,     0.04,2,     0.00,2,   -999.0,-999.0000, -999,9,   11,  28.9845,  21.9998,   -999.0,9
       RF99-09,  165E,RF-0918,  1,     20,02-12826,2,19990928,0750, 14.9915, 164.9903, 5207,     25.7,  28.8298,  34.9021,2,   -999.0,9,-999.0000,9,    199.7,2,     0.99,2,  -999.00,9,     0.00,2,     0.00,2,     0.07,2, -999.000,9, -999.000,9,  -999.00,9,   -999.0,9,   -999.0,9,-999.0000,9,   -999.0,  9,  -999.00,9,   -999.0,  -999.00,9,  -999.00,9,     0.05,2,     0.01,2,   -999.0,-999.0000, -999,9,   26,  28.8236,  22.0494,   -999.0,9
       RF99-09,  165E,RF-0918,  1,     19,02-12825,2,19990928,0749, 14.9915, 164.9903, 5207,     51.0,  28.7964,  34.8989,2,   -999.0,9,-999.0000,9,    199.1,2,     1.09,2,  -999.00,9,     0.00,2,     0.00,2,     0.07,2, -999.000,9, -999.000,9,  -999.00,9,   -999.0,9,   -999.0,9,-999.0000,9,   -999.0,  9,  -999.00,9,   -999.0,  -999.00,9,  -999.00,9,     0.04,2,     0.01,2,   -999.0,-999.0000, -999,9,   51,  28.7841,  22.0602,   -999.0,9
       RF99-09,  165E,RF-0918,  1,     18,02-12830,2,19990928,0747, 14.9915, 164.9903, 5207,     77.3,  28.7461,  34.9000,2,   -999.0,9,-999.0000,9,    198.4,2,     1.04,2,  -999.00,9,     0.00,2,     0.00,2,     0.07,2, -999.000,9, -999.000,9,  -999.00,9,   -999.0,9,   -999.0,9,-999.0000,9,   -999.0,  9,  -999.00,9,   -999.0,  -999.00,9,  -999.00,9,     0.06,2,     0.02,2,   -999.0,-999.0000, -999,9,   77,  28.7276,  22.0798,   -999.0,9
       RF99-09,  165E,RF-0918,  1,     17,02-13591,2,19990928,0746, 14.9915, 164.9903, 5207,    102.0,  27.4109,  34.8993,2,   -999.0,9,  34.9269,4,    238.9,4,     1.05,2,  -999.00,9,     0.00,2,     0.00,2,     0.06,2, -999.000,9, -999.000,9,  -999.00,9,   -999.0,9,   -999.0,9,-999.0000,9,   -999.0,  9,  -999.00,9,   -999.0,  -999.00,9,  -999.00,9,     0.10,2,     0.05,2,   -999.0,-999.0000, -999,9,  101,  27.3872,  22.5177,   -999.0,9
       RF99-09,  165E,RF-0918,  1,     16,02-13588,2,19990928,0744, 14.9915, 164.9903, 5207,    127.1,  26.3251,  35.0366,2,   -999.0,9,-999.0000,9,    208.5,2,     1.03,2,  -999.00,9,     0.00,2,     0.00,2,     0.06,2, -999.000,9, -999.000,9,  -999.00,9,   -999.0,9,   -999.0,9,-999.0000,9,   -999.0,  9,  -999.00,9,   -999.0,  -999.00,9,  -999.00,9,     0.20,2,     0.17,2,   -999.0,-999.0000, -999,9,  126,  26.2965,  22.9681,   -999.0,9
       RF99-09,  165E,RF-0918,  1,     15,02-10155,2,19990928,0743, 14.9915, 164.9903, 5207,    152.5,  24.7723,  35.0745,2,   -999.0,9,-999.0000,9,    198.6,2,     1.31,2,  -999.00,9,     0.15,2,     0.15,2,     0.10,2, -999.000,9, -999.000,9,  -999.00,9,   -999.0,9,   -999.0,9,-999.0000,9,   -999.0,  9,  -999.00,9,   -999.0,  -999.00,9,  -999.00,9,     0.16,2,     0.34,2,   -999.0,-999.0000, -999,9,  152,  24.7394,  23.4765,   -999.0,9
       RF99-09,  165E,RF-0918,  1,     14,02-13579,2,19990928,0741, 14.9915, 164.9903, 5207,    204.2,  20.7153,  34.9454,2,   -999.0,9,  34.9488,2,    173.7,2,     2.89,2,  -999.00,9,     3.34,2,     0.01,2,     0.35,2, -999.000,9, -999.000,9,  -999.00,9,   -999.0,9,   -999.0,9,-999.0000,9,   -999.0,  9,  -999.00,9,   -999.0,  -999.00,9,  -999.00,9,     0.03,2,     0.05,2,    203.8,-999.0000, -999,9,  203,  20.6766,  24.5398,   -999.0,9
       RF99-09,  165E,RF-0918,  1,     13,02-13590,2,19990928,0739, 14.9915, 164.9903, 5207,    253.5,  16.3624,  34.6373,2,   -999.0,9,-999.0000,9,    160.5,2,     7.83,2,  -999.00,9,    10.18,2,     0.00,2,     0.77,2, -999.000,9, -999.000,9,  -999.00,9,   -999.0,9,   -999.0,9,-999.0000,9,   -999.0,  9,  -999.00,9,   -999.0,  -999.00,9,  -999.00,9,  -999.00,9,  -999.00,9,   -999.0,-999.0000, -999,9,  252,  16.3217,  25.3947,   -999.0,9
       RF99-09,  165E,RF-0918,  1,     12,02-12821,2,19990928,0737, 14.9915, 164.9903, 5207,    303.4,  12.4745,  34.3710,2,   -999.0,9,  34.3783,4,    162.2,2,    16.05,2,  -999.00,9,    16.66,2,     0.00,2,     1.19,2, -999.000,9, -999.000,9,  -999.00,9,   -999.0,9,   -999.0,9,-999.0000,9,   -999.0,  9,  -999.00,9,   -999.0,  -999.00,9,  -999.00,9,  -999.00,9,  -999.00,9,   -999.0,-999.0000, -999,9,  301,  12.4340,  26.0171,   -999.0,9
       RF99-09,  165E,RF-0918,  1,     11,02-12811,2,19990928,0734, 14.9915, 164.9903, 5207,    405.5,   8.8279,  34.1987,2,   -999.0,9,  34.2080,4,    122.8,2,    35.40,2,  -999.00,9,    26.73,2,     0.00,2,     1.94,2, -999.000,9, -999.000,9,  -999.00,9,   -999.0,9,   -999.0,9,-999.0000,9,   -999.0,  9,  -999.00,9,   -999.0,  -999.00,9,  -999.00,9,  -999.00,9,  -999.00,9,   -999.0,-999.0000, -999,9,  403,   8.7843,  26.5247,   -999.0,9
       RF99-09,  165E,RF-0918,  1,     10,02-12820,2,19990928,0731, 14.9915, 164.9903, 5207,    505.4,   6.8432,  34.2360,2,   -999.0,9,  34.2379,2,     68.4,2,    58.30,2,  -999.00,9,    35.14,2,     0.00,2,     2.57,2, -999.000,9, -999.000,9,  -999.00,9,   -999.0,9,   -999.0,9,-999.0000,9,   -999.0,  9,  -999.00,9,   -999.0,  -999.00,9,  -999.00,9,  -999.00,9,  -999.00,9,   -999.0,-999.0000, -999,9,  502,   6.7960,  26.8447,   -999.0,9
       RF99-09,  165E,RF-0918,  1,      9,02-12810,2,19990928,0729, 14.9915, 164.9903, 5207,    606.6,   5.9502,  34.3579,2,   -999.0,9,  34.3593,2,     49.6,2,    72.02,2,  -999.00,9,    38.58,2,     0.00,2,     2.82,2, -999.000,9, -999.000,9,  -999.00,9,   -999.0,9,   -999.0,9,-999.0000,9,   -999.0,  9,  -999.00,9,   -999.0,  -999.00,9,  -999.00,9,  -999.00,9,  -999.00,9,   -999.0,-999.0000, -999,9,  602,   5.8972,  27.0582,   -999.0,9
       RF99-09,  165E,RF-0918,  1,      8,02-12819,2,19990928,0726, 14.9915, 164.9903, 5207,    706.0,   5.4951,  34.4391,2,   -999.0,9,  34.4388,2,     54.9,2,    78.40,2,  -999.00,9,    39.14,2,     0.00,2,     2.84,2, -999.000,9, -999.000,9,  -999.00,9,   -999.0,9,   -999.0,9,-999.0000,9,   -999.0,  9,  -999.00,9,   -999.0,  -999.00,9,  -999.00,9,  -999.00,9,  -999.00,9,   -999.0,-999.0000, -999,9,  701,   5.4351,  27.1792,   -999.0,9
       RF99-09,  165E,RF-0918,  1,      7,02-12815,2,19990928,0724, 14.9915, 164.9903, 5207,    807.4,   5.0195,  34.4822,2,   -999.0,9,  34.4833,2,     60.4,2,    85.70,2,  -999.00,9,    39.40,2,     0.00,2,     2.85,2, -999.000,9, -999.000,9,  -999.00,9,   -999.0,9,   -999.0,9,-999.0000,9,   -999.0,  9,  -999.00,9,   -999.0,  -999.00,9,  -999.00,9,  -999.00,9,  -999.00,9,   -999.0,-999.0000, -999,9,  801,   4.9533,  27.2701,   -999.0,9
       RF99-09,  165E,RF-0918,  1,      6,02-12818,2,19990928,0721, 14.9915, 164.9903, 5207,    908.2,   4.4861,  34.5185,2,   -999.0,9,-999.0000,9,     68.0,2,    94.15,2,  -999.00,9,    39.73,2,     0.00,2,     2.85,2, -999.000,9, -999.000,9,  -999.00,9,   -999.0,9,   -999.0,9,-999.0000,9,   -999.0,  9,  -999.00,9,   -999.0,  -999.00,9,  -999.00,9,  -999.00,9,  -999.00,9,   -999.0,-999.0000, -999,9,  901,   4.4146,  27.3591,   -999.0,9
       RF99-09,  165E,RF-0918,  1,      5,02-12809,2,19990928,0718, 14.9915, 164.9903, 5207,   1009.1,   4.0713,  34.5393,2,   -999.0,9,  34.5419,2,     70.7,2,   102.02,2,  -999.00,9,    40.00,2,     0.00,2,     2.87,2, -999.000,9, -999.000,9,  -999.00,9,   -999.0,9,   -999.0,9,-999.0000,9,   -999.0,  9,  -999.00,9,   -999.0,  -999.00,9,  -999.00,9,  -999.00,9,  -999.00,9,   -999.0,-999.0000, -999,9, 1001,   3.9942,  27.4203,   -999.0,9
       RF99-09,  165E,RF-0918,  1,      4,02-12817,2,19990928,0713, 14.9915, 164.9903, 5207,   1263.1,   3.2961,  34.5672,2,   -999.0,9,  34.4937,4,     81.9,2,   116.78,2,  -999.00,9,    39.91,2,     0.00,2,     2.85,2, -999.000,9, -999.000,9,  -999.00,9,   -999.0,9,   -999.0,9,-999.0000,9,   -999.0,  9,  -999.00,9,   -999.0,  -999.00,9,  -999.00,9,  -999.00,9,  -999.00,9,   -999.0,-999.0000, -999,9, 1252,   3.2048,  27.5206,   -999.0,9
       RF99-09,  165E,RF-0918,  1,      3,02-12808,2,19990928,0708, 14.9915, 164.9903, 5207,   1515.1,   2.7783,  34.5930,2,   -999.0,9,  34.5997,4,     90.2,2,   126.40,2,  -999.00,9,    39.81,2,     0.00,2,     2.84,2, -999.000,9, -999.000,9,  -999.00,9,   -999.0,9,   -999.0,9,-999.0000,9,   -999.0,  9,  -999.00,9,   -999.0,  -999.00,9,  -999.00,9,  -999.00,9,  -999.00,9,   -999.0,-999.0000, -999,9, 1501,   2.6717,  27.5896,   -999.0,9
       RF99-09,  165E,RF-0918,  1,      2,02-13589,2,19990928,0703, 14.9915, 164.9903, 5207,   1769.7,   2.3672,  34.6186,2,   -999.0,9,  34.6158,2,     99.3,2,   134.06,2,  -999.00,9,    39.41,2,     0.00,2,     2.79,2, -999.000,9, -999.000,9,  -999.00,9,   -999.0,9,   -999.0,9,-999.0000,9,   -999.0,  9,  -999.00,9,   -999.0,  -999.00,9,  -999.00,9,  -999.00,9,  -999.00,9,   -999.0,-999.0000, -999,9, 1752,   2.2447,  27.6463,   -999.0,9
       RF99-09,  165E,RF-0918,  1,      1,02-12807,2,19990928,0658, 14.9915, 164.9903, 5207,   2035.2,   2.0961,  34.6436,2,   -999.0,9,  34.6420,2,    108.9,2,   138.36,2,  -999.00,9,    38.99,2,     0.00,2,     2.72,2, -999.000,9, -999.000,9,  -999.00,9,   -999.0,9,   -999.0,9,-999.0000,9,   -999.0,  9,  -999.00,9,   -999.0,  -999.00,9,  -999.00,9,  -999.00,9,  -999.00,9,   2030.2,-999.0000, -999,9, 2014,   1.9551,  27.6897,   -999.0,9