BOTTLE,20130510GEMDJMAYT
EXPOCODE,SECT_ID,STNNBR,CASTNO,SAMPNO,BTLNBR,BTLNBR_FLAG_W,DATE,TIME,LATITUDE,LONGITUDE,DEPTH,CTDPRS,CTDTMP,CTDSAL,CTDSAL_FLAG_W,CTDOXY,CTDOXY_FLAG_W,SALNTY,SALNTY_FLAG_W,OXYGEN,OXYGEN_FLAG_W,SILCAT,SILCAT_FLAG_W,NITRAT,NITRAT_FLAG_W,NO2+NO3,NO2+NO3_FLAG_W,NITRIT,NITRIT_FLAG_W,PHSPHT,PHSPHT_FLAG_W,CFC-11,CFC-11_FLAG_W,CFC-12,CFC-12_FLAG_W,DELC13,DELC13_FLAG_W,TCARBN,TCARBN_FLAG_W,ALKALI,ALKALI_FLAG_W,PH,PH_FLAG_W,PH_TMP,PH_SCALE,PH_NBS,PH_NBS_FLAG_W,C13ERR,TOTALP,TOTALP_FLAG_W,AMMONI,AMMONI_FLAG_W,CHLORA,CHLORA_FLAG_W,PPHYTN,PPHYTN_FLAG_W,REVPRS,REVTMP,DEPTH_,DEPTH_FLAG,CTDDEP,THETA,SIGTHT,DOC,DOC_FLAG_W
,,,,,,,GMT,GMT,,,METER,DBAR,ITS-90,PSS-78,,UMOL/KG,,PSS-78,,UMOL/KG,,UMOL/KG,,UMOL/KG,,UMOL/KG,,UMOL/KG,,UMOL/KG,,PMOL/KG,,PMOL/KG,,/MILLE,,UMOL/KG,,UMOL/KG,,25_DEG_C,,DEG_C,,,,/MILLE,UMOL/KG,,UMOL/KG,,UG/L,,UG/L,,DBAR,ITS-90,METERS,,METERS,DEG_C,,UMOL/L,
       RF99-09,  165E,RF-0936,  1,     -9,      -9,5,19991014,0252, -3.0065, 164.9875, 4106,      0.0,  29.3784,  35.3773,2,   -999.0,9,-999.0000,9,    202.2,2,     1.89,2,  -999.00,9,     0.64,2,     0.02,2,     0.16,2, -999.000,9, -999.000,9,  -999.00,9,   -999.0,9,   -999.0,9,-999.0000,9,   -999.0,  9,  -999.00,9,   -999.0,  -999.00,9,  -999.00,9,     0.14,2,     0.02,2,   -999.0,-999.0000, -999,9,    0,  29.3784,  22.2202,   -999.0,9
       RF99-09,  165E,RF-0936,  1,     21,02-12827,2,19991014,0249, -3.0065, 164.9875, 4106,     11.7,  29.2063,  35.3743,2,   -999.0,9,-999.0000,9,    202.9,2,     1.75,2,  -999.00,9,     0.56,2,     0.02,2,     0.15,2, -999.000,9, -999.000,9,  -999.00,9,   -999.0,9,   -999.0,9,-999.0000,9,   -999.0,  9,  -999.00,9,   -999.0,  -999.00,9,  -999.00,9,     0.18,2,     0.05,2,   -999.0,-999.0000, -999,9,   12,  29.2034,  22.2769,   -999.0,9
       RF99-09,  165E,RF-0936,  1,     20,02-12826,2,19991014,0248, -3.0065, 164.9875, 4106,     26.6,  28.9066,  35.3824,2,   -999.0,9,-999.0000,9,    203.9,2,     1.67,2,  -999.00,9,     0.56,2,     0.02,2,     0.15,2, -999.000,9, -999.000,9,  -999.00,9,   -999.0,9,   -999.0,9,-999.0000,9,   -999.0,  9,  -999.00,9,   -999.0,  -999.00,9,  -999.00,9,     0.25,2,     0.09,2,   -999.0,-999.0000, -999,9,   26,  28.9001,  22.3846,   -999.0,9
       RF99-09,  165E,RF-0936,  1,     19,02-12825,2,19991014,0247, -3.0065, 164.9875, 4106,     52.0,  28.7674,  35.3874,2,   -999.0,9,-999.0000,9,    203.4,2,     1.65,2,  -999.00,9,     0.83,2,     0.05,2,     0.17,2, -999.000,9, -999.000,9,  -999.00,9,   -999.0,9,   -999.0,9,-999.0000,9,   -999.0,  9,  -999.00,9,   -999.0,  -999.00,9,  -999.00,9,     0.33,2,     0.19,2,   -999.0,-999.0000, -999,9,   52,  28.7548,  22.4368,   -999.0,9
       RF99-09,  165E,RF-0936,  1,     18,02-12830,2,19991014,0246, -3.0065, 164.9875, 4106,     76.4,  28.0392,  35.2969,2,   -999.0,9,-999.0000,9,    196.2,2,     1.68,2,  -999.00,9,     1.75,2,     0.20,2,     0.23,2, -999.000,9, -999.000,9,  -999.00,9,   -999.0,9,   -999.0,9,-999.0000,9,   -999.0,  9,  -999.00,9,   -999.0,  -999.00,9,  -999.00,9,     0.30,2,     0.29,2,   -999.0,-999.0000, -999,9,   76,  28.0211,  22.6110,   -999.0,9
       RF99-09,  165E,RF-0936,  1,     17,02-13591,2,19991014,0245, -3.0065, 164.9875, 4106,    101.6,  27.8723,  35.3538,2,   -999.0,9,  35.3396,4,    191.3,2,     1.85,2,  -999.00,9,     2.68,2,     0.63,2,     0.30,2, -999.000,9, -999.000,9,  -999.00,9,   -999.0,9,   -999.0,9,-999.0000,9,   -999.0,  9,  -999.00,9,   -999.0,  -999.00,9,  -999.00,9,     0.24,2,     0.23,2,   -999.0,-999.0000, -999,9,  101,  27.8484,  22.7103,   -999.0,9
       RF99-09,  165E,RF-0936,  1,     16,02-13588,2,19991014,0244, -3.0065, 164.9875, 4106,    126.7,  27.7401,  35.4571,2,   -999.0,9,-999.0000,9,    189.0,2,     1.83,2,  -999.00,9,     3.40,2,     0.88,2,     0.32,2, -999.000,9, -999.000,9,  -999.00,9,   -999.0,9,   -999.0,9,-999.0000,9,   -999.0,  9,  -999.00,9,   -999.0,  -999.00,9,  -999.00,9,     0.10,2,     0.09,2,   -999.0,-999.0000, -999,9,  126,  27.7104,  22.8330,   -999.0,9
       RF99-09,  165E,RF-0936,  1,     15,02-10155,2,19991014,0242, -3.0065, 164.9875, 4106,    152.1,  25.8709,  35.5523,2,   -999.0,9,-999.0000,9,    150.8,2,     2.03,2,  -999.00,9,     8.50,2,     0.07,2,     0.64,2, -999.000,9, -999.000,9,  -999.00,9,   -999.0,9,   -999.0,9,-999.0000,9,   -999.0,  9,  -999.00,9,   -999.0,  -999.00,9,  -999.00,9,     0.05,2,     0.08,2,   -999.0,-999.0000, -999,9,  151,  25.8370,  23.5009,   -999.0,9
       RF99-09,  165E,RF-0936,  1,     14,02-13579,2,19991014,0241, -3.0065, 164.9875, 4106,    202.6,  17.5763,  35.4270,2,   -999.0,9,  35.3983,4,     99.2,2,     8.51,2,  -999.00,9,    18.58,2,     0.01,2,     1.29,2, -999.000,9, -999.000,9,  -999.00,9,   -999.0,9,   -999.0,9,-999.0000,9,   -999.0,  9,  -999.00,9,   -999.0,  -999.00,9,  -999.00,9,     0.01,2,     0.01,2,    202.4,-999.0000, -999,9,  201,  17.5420,  25.7115,   -999.0,9
       RF99-09,  165E,RF-0936,  1,     13,02-13590,2,19991014,0239, -3.0065, 164.9875, 4106,    252.2,  11.7757,  34.8898,2,   -999.0,9,-999.0000,9,    129.1,2,    17.22,2,  -999.00,9,    22.88,2,     0.00,2,     1.49,2, -999.000,9, -999.000,9,  -999.00,9,   -999.0,9,   -999.0,9,-999.0000,9,   -999.0,  9,  -999.00,9,   -999.0,  -999.00,9,  -999.00,9,  -999.00,9,  -999.00,9,   -999.0,-999.0000, -999,9,  251,  11.7432,  26.5523,   -999.0,9
       RF99-09,  165E,RF-0936,  1,     12,02-12821,2,19991014,0238, -3.0065, 164.9875, 4106,    303.6,  10.4175,  34.7538,2,   -999.0,9,  34.7546,2,    111.4,2,    22.86,2,  -999.00,9,    27.07,2,     0.00,2,     1.76,2, -999.000,9, -999.000,9,  -999.00,9,   -999.0,9,   -999.0,9,-999.0000,9,   -999.0,  9,  -999.00,9,   -999.0,  -999.00,9,  -999.00,9,  -999.00,9,  -999.00,9,   -999.0,-999.0000, -999,9,  302,  10.3813,  26.6939,   -999.0,9
       RF99-09,  165E,RF-0936,  1,     11,02-12811,2,19991014,0236, -3.0065, 164.9875, 4106,    404.0,   9.7532,  34.7179,2,   -999.0,9,  34.7207,2,    109.1,2,    23.67,2,  -999.00,9,    28.45,2,     0.00,2,     1.85,2, -999.000,9, -999.000,9,  -999.00,9,   -999.0,9,   -999.0,9,-999.0000,9,   -999.0,  9,  -999.00,9,   -999.0,  -999.00,9,  -999.00,9,  -999.00,9,  -999.00,9,   -999.0,-999.0000, -999,9,  401,   9.7067,  26.7813,   -999.0,9
       RF99-09,  165E,RF-0936,  1,     10,02-12820,2,19991014,0234, -3.0065, 164.9875, 4106,    504.5,   8.0011,  34.6039,2,   -999.0,9,  34.6011,2,    122.1,2,    29.40,2,  -999.00,9,    30.99,2,     0.00,2,     2.02,2, -999.000,9, -999.000,9,  -999.00,9,   -999.0,9,   -999.0,9,-999.0000,9,   -999.0,  9,  -999.00,9,   -999.0,  -999.00,9,  -999.00,9,  -999.00,9,  -999.00,9,   -999.0,-999.0000, -999,9,  501,   7.9493,  26.9703,   -999.0,9
       RF99-09,  165E,RF-0936,  1,      9,02-12810,2,19991014,0231, -3.0065, 164.9875, 4106,    605.6,   6.7453,  34.5437,2,   -999.0,9,  34.5324,4,    121.3,2,    39.34,2,  -999.00,9,    33.41,2,     0.00,2,     2.21,2, -999.000,9, -999.000,9,  -999.00,9,   -999.0,9,   -999.0,9,-999.0000,9,   -999.0,  9,  -999.00,9,   -999.0,  -999.00,9,  -999.00,9,  -999.00,9,  -999.00,9,   -999.0,-999.0000, -999,9,  601,   6.6885,  27.1019,   -999.0,9
       RF99-09,  165E,RF-0936,  1,      8,02-12819,2,19991014,0229, -3.0065, 164.9875, 4106,    706.9,   6.1109,  34.5284,2,   -999.0,9,  34.5200,4,    121.3,2,    47.04,2,  -999.00,9,    34.35,2,     0.00,2,     2.30,2, -999.000,9, -999.000,9,  -999.00,9,   -999.0,9,   -999.0,9,-999.0000,9,   -999.0,  9,  -999.00,9,   -999.0,  -999.00,9,  -999.00,9,  -999.00,9,  -999.00,9,   -999.0,-999.0000, -999,9,  702,   6.0475,  27.1739,   -999.0,9
       RF99-09,  165E,RF-0936,  1,      7,02-12815,2,19991014,0227, -3.0065, 164.9875, 4106,    807.8,   5.6184,  34.5276,2,   -999.0,9,  34.5039,4,    114.5,2,    55.08,2,  -999.00,9,    35.66,2,     0.00,2,     2.40,2, -999.000,9, -999.000,9,  -999.00,9,   -999.0,9,   -999.0,9,-999.0000,9,   -999.0,  9,  -999.00,9,   -999.0,  -999.00,9,  -999.00,9,  -999.00,9,  -999.00,9,   -999.0,-999.0000, -999,9,  802,   5.5484,  27.2356,   -999.0,9
       RF99-09,  165E,RF-0936,  1,      6,02-12818,2,19991014,0225, -3.0065, 164.9875, 4106,    908.5,   5.1421,  34.5329,2,   -999.0,9,-999.0000,9,    107.7,2,    64.57,2,  -999.00,9,    37.16,2,     0.00,2,     2.53,2, -999.000,9, -999.000,9,  -999.00,9,   -999.0,9,   -999.0,9,-999.0000,9,   -999.0,  9,  -999.00,9,   -999.0,  -999.00,9,  -999.00,9,  -999.00,9,  -999.00,9,   -999.0,-999.0000, -999,9,  902,   5.0659,  27.2973,   -999.0,9
       RF99-09,  165E,RF-0936,  1,      5,02-12809,2,19991014,0222, -3.0065, 164.9875, 4106,   1010.2,   4.6668,  34.5412,2,   -999.0,9,  34.5434,2,    100.5,2,    75.18,2,  -999.00,9,    38.10,2,     0.00,2,     2.61,2, -999.000,9, -999.000,9,  -999.00,9,   -999.0,9,   -999.0,9,-999.0000,9,   -999.0,  9,  -999.00,9,   -999.0,  -999.00,9,  -999.00,9,  -999.00,9,  -999.00,9,   -999.0,-999.0000, -999,9, 1002,   4.5851,  27.3584,   -999.0,9
       RF99-09,  165E,RF-0936,  1,      4,02-12817,2,19991014,0217, -3.0065, 164.9875, 4106,   1263.2,   3.8823,  34.5671,2,   -999.0,9,  34.5692,2,     99.6,2,    93.97,2,  -999.00,9,    38.84,2,     0.00,2,     2.68,2, -999.000,9, -999.000,9,  -999.00,9,   -999.0,9,   -999.0,9,-999.0000,9,   -999.0,  9,  -999.00,9,   -999.0,  -999.00,9,  -999.00,9,  -999.00,9,  -999.00,9,   -999.0,-999.0000, -999,9, 1252,   3.7852,  27.4638,   -999.0,9
       RF99-09,  165E,RF-0936,  1,      3,02-12808,2,19991014,0212, -3.0065, 164.9875, 4106,   1517.1,   3.2269,  34.5900,2,   -999.0,9,  34.6333,4,    110.1,2,   105.76,2,  -999.00,9,    38.40,2,     0.00,2,     2.63,2, -999.000,9, -999.000,9,  -999.00,9,   -999.0,9,   -999.0,9,-999.0000,9,   -999.0,  9,  -999.00,9,   -999.0,  -999.00,9,  -999.00,9,  -999.00,9,  -999.00,9,   -999.0,-999.0000, -999,9, 1503,   3.1150,  27.5472,   -999.0,9
       RF99-09,  165E,RF-0936,  1,      2,02-13589,2,19991014,0208, -3.0065, 164.9875, 4106,   1770.3,   2.6589,  34.6149,2,   -999.0,9,  34.6211,4,    119.5,2,   116.74,2,  -999.00,9,    37.93,2,     0.00,2,     2.58,2, -999.000,9, -999.000,9,  -999.00,9,   -999.0,9,   -999.0,9,-999.0000,9,   -999.0,  9,  -999.00,9,   -999.0,  -999.00,9,  -999.00,9,  -999.00,9,  -999.00,9,   -999.0,-999.0000, -999,9, 1753,   2.5324,  27.6192,   -999.0,9
       RF99-09,  165E,RF-0936,  1,      1,02-12807,2,19991014,0203, -3.0065, 164.9875, 4106,   2035.3,   2.2805,  34.6393,2,   -999.0,9,  34.6363,2,    120.9,2,   127.23,2,  -999.00,9,    38.10,2,     0.00,2,     2.60,2, -999.000,9, -999.000,9,  -999.00,9,   -999.0,9,   -999.0,9,-999.0000,9,   -999.0,  9,  -999.00,9,   -999.0,  -999.00,9,  -999.00,9,  -999.00,9,  -999.00,9,   2030.5,-999.0000, -999,9, 2014,   2.1367,  27.6718,   -999.0,9