BOTTLE,20130510GEMDJMAYT
EXPOCODE,SECT_ID,STNNBR,CASTNO,SAMPNO,BTLNBR,BTLNBR_FLAG_W,DATE,TIME,LATITUDE,LONGITUDE,DEPTH,CTDPRS,CTDTMP,CTDSAL,CTDSAL_FLAG_W,CTDOXY,CTDOXY_FLAG_W,SALNTY,SALNTY_FLAG_W,OXYGEN,OXYGEN_FLAG_W,SILCAT,SILCAT_FLAG_W,NITRAT,NITRAT_FLAG_W,NO2+NO3,NO2+NO3_FLAG_W,NITRIT,NITRIT_FLAG_W,PHSPHT,PHSPHT_FLAG_W,CFC-11,CFC-11_FLAG_W,CFC-12,CFC-12_FLAG_W,DELC13,DELC13_FLAG_W,TCARBN,TCARBN_FLAG_W,ALKALI,ALKALI_FLAG_W,PH,PH_FLAG_W,PH_TMP,PH_SCALE,PH_NBS,PH_NBS_FLAG_W,C13ERR,TOTALP,TOTALP_FLAG_W,AMMONI,AMMONI_FLAG_W,CHLORA,CHLORA_FLAG_W,PPHYTN,PPHYTN_FLAG_W,REVPRS,REVTMP,DEPTH_,DEPTH_FLAG,CTDDEP,THETA,SIGTHT,DOC,DOC_FLAG_W
,,,,,,,GMT,GMT,,,METER,DBAR,ITS-90,PSS-78,,UMOL/KG,,PSS-78,,UMOL/KG,,UMOL/KG,,UMOL/KG,,UMOL/KG,,UMOL/KG,,UMOL/KG,,PMOL/KG,,PMOL/KG,,/MILLE,,UMOL/KG,,UMOL/KG,,25_DEG_C,,DEG_C,,,,/MILLE,UMOL/KG,,UMOL/KG,,UG/L,,UG/L,,DBAR,ITS-90,METERS,,METERS,DEG_C,,UMOL/L,
       RF99-09,  NONE,RF-0940,  1,     23,02-12829,2,19991017,0210, -2.9530, 162.3232, 3563,    102.8,  27.8537,  35.2720,2,   -999.0,9,  35.2074,4,   -999.0,9,  -999.00,9,  -999.00,9,  -999.00,9,  -999.00,9,  -999.00,9, -999.000,9, -999.000,9,  -999.00,9,   -999.0,9,   -999.0,9,-999.0000,9,   -999.0,  9,  -999.00,9,   -999.0,  -999.00,9,  -999.00,9,  -999.00,9,  -999.00,9,   -999.0,-999.0000, -999,9,  102,  27.8296,  22.6549,   -999.0,9
       RF99-09,  NONE,RF-0940,  1,     24,02-10154,2,19991017,0210, -2.9530, 162.3232, 3563,    103.3,  27.8575,  35.2696,2,   -999.0,9,  35.2343,4,   -999.0,9,  -999.00,9,  -999.00,9,  -999.00,9,  -999.00,9,  -999.00,9, -999.000,9, -999.000,9,  -999.00,9,   -999.0,9,   -999.0,9,-999.0000,9,   -999.0,  9,  -999.00,9,   -999.0,  -999.00,9,  -999.00,9,  -999.00,9,  -999.00,9,   -999.0,-999.0000, -999,9,  103,  27.8332,  22.6519,   -999.0,9
       RF99-09,  NONE,RF-0940,  1,     21,02-12827,2,19991017,0207, -2.9530, 162.3232, 3563,    204.8,  19.1269,  35.5492,2,   -999.0,9,  35.5551,2,   -999.0,9,  -999.00,9,  -999.00,9,  -999.00,9,  -999.00,9,  -999.00,9, -999.000,9, -999.000,9,  -999.00,9,   -999.0,9,   -999.0,9,-999.0000,9,   -999.0,  9,  -999.00,9,   -999.0,  -999.00,9,  -999.00,9,  -999.00,9,  -999.00,9,   -999.0,-999.0000, -999,9,  204,  19.0900,  25.4180,   -999.0,9
       RF99-09,  NONE,RF-0940,  1,     22,02-12828,2,19991017,0207, -2.9530, 162.3232, 3563,    211.7,  18.3136,  35.4874,2,   -999.0,9,  35.5381,4,   -999.0,9,  -999.00,9,  -999.00,9,  -999.00,9,  -999.00,9,  -999.00,9, -999.000,9, -999.000,9,  -999.00,9,   -999.0,9,   -999.0,9,-999.0000,9,   -999.0,  9,  -999.00,9,   -999.0,  -999.00,9,  -999.00,9,  -999.00,9,  -999.00,9,   -999.0,-999.0000, -999,9,  210,  18.2767,  25.5766,   -999.0,9
       RF99-09,  NONE,RF-0940,  1,     19,02-12825,2,19991017,0203, -2.9530, 162.3232, 3563,    306.1,  10.7794,  34.8238,2,   -999.0,9,  34.8194,4,   -999.0,9,  -999.00,9,  -999.00,9,  -999.00,9,  -999.00,9,  -999.00,9, -999.000,9, -999.000,9,  -999.00,9,   -999.0,9,   -999.0,9,-999.0000,9,   -999.0,  9,  -999.00,9,   -999.0,  -999.00,9,  -999.00,9,  -999.00,9,  -999.00,9,   -999.0,-999.0000, -999,9,  304,  10.7421,  26.6847,   -999.0,9
       RF99-09,  NONE,RF-0940,  1,     20,02-12826,2,19991017,0203, -2.9530, 162.3232, 3563,    311.1,  10.6422,  34.7946,2,   -999.0,9,  34.8247,4,   -999.0,9,  -999.00,9,  -999.00,9,  -999.00,9,  -999.00,9,  -999.00,9, -999.000,9, -999.000,9,  -999.00,9,   -999.0,9,   -999.0,9,-999.0000,9,   -999.0,  9,  -999.00,9,   -999.0,  -999.00,9,  -999.00,9,  -999.00,9,  -999.00,9,   -999.0,-999.0000, -999,9,  309,  10.6045,  26.6864,   -999.0,9
       RF99-09,  NONE,RF-0940,  1,     17,02-13591,2,19991017,0159, -2.9530, 162.3232, 3563,    408.8,   9.1247,  34.6856,2,   -999.0,9,  34.6930,4,   -999.0,9,  -999.00,9,  -999.00,9,  -999.00,9,  -999.00,9,  -999.00,9, -999.000,9, -999.000,9,  -999.00,9,   -999.0,9,   -999.0,9,-999.0000,9,   -999.0,  9,  -999.00,9,   -999.0,  -999.00,9,  -999.00,9,  -999.00,9,  -999.00,9,   -999.0,-999.0000, -999,9,  406,   9.0795,  26.8592,   -999.0,9
       RF99-09,  NONE,RF-0940,  1,     18,02-12830,2,19991017,0159, -2.9530, 162.3232, 3563,    412.6,   9.1010,  34.6844,2,   -999.0,9,  34.6892,2,   -999.0,9,  -999.00,9,  -999.00,9,  -999.00,9,  -999.00,9,  -999.00,9, -999.000,9, -999.000,9,  -999.00,9,   -999.0,9,   -999.0,9,-999.0000,9,   -999.0,  9,  -999.00,9,   -999.0,  -999.00,9,  -999.00,9,  -999.00,9,  -999.00,9,   -999.0,-999.0000, -999,9,  410,   9.0555,  26.8621,   -999.0,9
       RF99-09,  NONE,RF-0940,  1,     15,02-10155,2,19991017,0152, -2.9530, 162.3232, 3563,    607.3,   6.7071,  34.5478,2,   -999.0,9,  34.4628,4,   -999.0,9,  -999.00,9,  -999.00,9,  -999.00,9,  -999.00,9,  -999.00,9, -999.000,9, -999.000,9,  -999.00,9,   -999.0,9,   -999.0,9,-999.0000,9,   -999.0,  9,  -999.00,9,   -999.0,  -999.00,9,  -999.00,9,  -999.00,9,  -999.00,9,   -999.0,-999.0000, -999,9,  603,   6.6502,  27.1103,   -999.0,9
       RF99-09,  NONE,RF-0940,  1,     16,02-13588,2,19991017,0152, -2.9530, 162.3232, 3563,    613.9,   6.6603,  34.5472,2,   -999.0,9,  34.5505,2,   -999.0,9,  -999.00,9,  -999.00,9,  -999.00,9,  -999.00,9,  -999.00,9, -999.000,9, -999.000,9,  -999.00,9,   -999.0,9,   -999.0,9,-999.0000,9,   -999.0,  9,  -999.00,9,   -999.0,  -999.00,9,  -999.00,9,  -999.00,9,  -999.00,9,   -999.0,-999.0000, -999,9,  610,   6.6031,  27.1162,   -999.0,9
       RF99-09,  NONE,RF-0940,  1,     13,02-13590,2,19991017,0144, -2.9530, 162.3232, 3563,    808.7,   5.6591,  34.5323,2,   -999.0,9,  34.5295,2,   -999.0,9,  -999.00,9,  -999.00,9,  -999.00,9,  -999.00,9,  -999.00,9, -999.000,9, -999.000,9,  -999.00,9,   -999.0,9,   -999.0,9,-999.0000,9,   -999.0,  9,  -999.00,9,   -999.0,  -999.00,9,  -999.00,9,  -999.00,9,  -999.00,9,   -999.0,-999.0000, -999,9,  803,   5.5888,  27.2344,   -999.0,9
       RF99-09,  NONE,RF-0940,  1,     14,02-13579,2,19991017,0145, -2.9530, 162.3232, 3563,    814.7,   5.6465,  34.5322,2,   -999.0,9,  34.5330,2,   -999.0,9,  -999.00,9,  -999.00,9,  -999.00,9,  -999.00,9,  -999.00,9, -999.000,9, -999.000,9,  -999.00,9,   -999.0,9,   -999.0,9,-999.0000,9,   -999.0,  9,  -999.00,9,   -999.0,  -999.00,9,  -999.00,9,  -999.00,9,  -999.00,9,    286.0,-999.0000, -999,9,  809,   5.5757,  27.2359,   -999.0,9
       RF99-09,  NONE,RF-0940,  1,     11,02-12811,2,19991017,0139, -2.9530, 162.3232, 3563,   1010.0,   4.8004,  34.5409,2,   -999.0,9,  34.5383,2,   -999.0,9,  -999.00,9,  -999.00,9,  -999.00,9,  -999.00,9,  -999.00,9, -999.000,9, -999.000,9,  -999.00,9,   -999.0,9,   -999.0,9,-999.0000,9,   -999.0,  9,  -999.00,9,   -999.0,  -999.00,9,  -999.00,9,  -999.00,9,  -999.00,9,   -999.0,-999.0000, -999,9, 1002,   4.7176,  27.3434,   -999.0,9
       RF99-09,  NONE,RF-0940,  1,     12,02-12821,2,19991017,0139, -2.9530, 162.3232, 3563,   1014.6,   4.7905,  34.5415,2,   -999.0,9,  34.5383,2,   -999.0,9,  -999.00,9,  -999.00,9,  -999.00,9,  -999.00,9,  -999.00,9, -999.000,9, -999.000,9,  -999.00,9,   -999.0,9,   -999.0,9,-999.0000,9,   -999.0,  9,  -999.00,9,   -999.0,  -999.00,9,  -999.00,9,  -999.00,9,  -999.00,9,   -999.0,-999.0000, -999,9, 1007,   4.7075,  27.3450,   -999.0,9
       RF99-09,  NONE,RF-0940,  1,     10,02-12820,2,19991017,0129, -2.9530, 162.3232, 3563,   1513.3,   3.2410,  34.5895,2,   -999.0,9,  34.5029,4,   -999.0,9,  -999.00,9,  -999.00,9,  -999.00,9,  -999.00,9,  -999.00,9, -999.000,9, -999.000,9,  -999.00,9,   -999.0,9,   -999.0,9,-999.0000,9,   -999.0,  9,  -999.00,9,   -999.0,  -999.00,9,  -999.00,9,  -999.00,9,  -999.00,9,   -999.0,-999.0000, -999,9, 1500,   3.1292,  27.5455,   -999.0,9
       RF99-09,  NONE,RF-0940,  1,      9,02-12810,2,19991017,0129, -2.9530, 162.3232, 3563,   1513.7,   3.2385,  34.5888,2,   -999.0,9,  34.5501,4,   -999.0,9,  -999.00,9,  -999.00,9,  -999.00,9,  -999.00,9,  -999.00,9, -999.000,9, -999.000,9,  -999.00,9,   -999.0,9,   -999.0,9,-999.0000,9,   -999.0,  9,  -999.00,9,   -999.0,  -999.00,9,  -999.00,9,  -999.00,9,  -999.00,9,   -999.0,-999.0000, -999,9, 1500,   3.1268,  27.5451,   -999.0,9
       RF99-09,  NONE,RF-0940,  1,      8,02-12819,2,19991017,0121, -2.9530, 162.3232, 3563,   2020.3,   2.2249,  34.6431,2,   -999.0,9,  34.6383,2,   -999.0,9,  -999.00,9,  -999.00,9,  -999.00,9,  -999.00,9,  -999.00,9, -999.000,9, -999.000,9,  -999.00,9,   -999.0,9,   -999.0,9,-999.0000,9,   -999.0,  9,  -999.00,9,   -999.0,  -999.00,9,  -999.00,9,  -999.00,9,  -999.00,9,   -999.0,-999.0000, -999,9, 1999,   2.0832,  27.6791,   -999.0,9
       RF99-09,  NONE,RF-0940,  1,      7,02-12815,2,19991017,0121, -2.9530, 162.3232, 3563,   2022.1,   2.2208,  34.6424,2,   -999.0,9,  34.6387,2,   -999.0,9,  -999.00,9,  -999.00,9,  -999.00,9,  -999.00,9,  -999.00,9, -999.000,9, -999.000,9,  -999.00,9,   -999.0,9,   -999.0,9,-999.0000,9,   -999.0,  9,  -999.00,9,   -999.0,  -999.00,9,  -999.00,9,  -999.00,9,  -999.00,9,   -999.0,-999.0000, -999,9, 2001,   2.0791,  27.6789,   -999.0,9
       RF99-09,  NONE,RF-0940,  1,      6,02-12818,2,19991017,0113, -2.9530, 162.3232, 3563,   2531.3,   1.8823,  34.6630,2,   -999.0,9,  34.6627,2,   -999.0,9,  -999.00,9,  -999.00,9,  -999.00,9,  -999.00,9,  -999.00,9, -999.000,9, -999.000,9,  -999.00,9,   -999.0,9,   -999.0,9,-999.0000,9,   -999.0,  9,  -999.00,9,   -999.0,  -999.00,9,  -999.00,9,  -999.00,9,  -999.00,9,   -999.0,-999.0000, -999,9, 2502,   1.7014,  27.7248,   -999.0,9
       RF99-09,  NONE,RF-0940,  1,      5,02-12809,2,19991017,0112, -2.9530, 162.3232, 3563,   2531.5,   1.8824,  34.6619,2,   -999.0,9,  34.6583,2,   -999.0,9,  -999.00,9,  -999.00,9,  -999.00,9,  -999.00,9,  -999.00,9, -999.000,9, -999.000,9,  -999.00,9,   -999.0,9,   -999.0,9,-999.0000,9,   -999.0,  9,  -999.00,9,   -999.0,  -999.00,9,  -999.00,9,  -999.00,9,  -999.00,9,   -999.0,-999.0000, -999,9, 2502,   1.7014,  27.7239,   -999.0,9
       RF99-09,  NONE,RF-0940,  1,      4,02-12817,2,19991017,0105, -2.9530, 162.3232, 3563,   3037.8,   1.6666,  34.6747,2,   -999.0,9,  34.6705,2,   -999.0,9,  -999.00,9,  -999.00,9,  -999.00,9,  -999.00,9,  -999.00,9, -999.000,9, -999.000,9,  -999.00,9,   -999.0,9,   -999.0,9,-999.0000,9,   -999.0,  9,  -999.00,9,   -999.0,  -999.00,9,  -999.00,9,  -999.00,9,  -999.00,9,   -999.0,-999.0000, -999,9, 2999,   1.4425,  27.7533,   -999.0,9
       RF99-09,  NONE,RF-0940,  1,      3,02-12808,2,19991017,0104, -2.9530, 162.3232, 3563,   3040.1,   1.6661,  34.6761,2,   -999.0,9,  34.6705,2,   -999.0,9,  -999.00,9,  -999.00,9,  -999.00,9,  -999.00,9,  -999.00,9, -999.000,9, -999.000,9,  -999.00,9,   -999.0,9,   -999.0,9,-999.0000,9,   -999.0,  9,  -999.00,9,   -999.0,  -999.00,9,  -999.00,9,  -999.00,9,  -999.00,9,   -999.0,-999.0000, -999,9, 3002,   1.4418,  27.7545,   -999.0,9
       RF99-09,  NONE,RF-0940,  1,      2,02-13589,2,19991017,0057, -2.9530, 162.3232, 3563,   3552.1,   1.4832,  34.6893,2,   -999.0,9,  34.6837,2,   -999.0,9,  -999.00,9,  -999.00,9,  -999.00,9,  -999.00,9,  -999.00,9, -999.000,9, -999.000,9,  -999.00,9,   -999.0,9,   -999.0,9,-999.0000,9,   -999.0,  9,  -999.00,9,   -999.0,  -999.00,9,  -999.00,9,  -999.00,9,  -999.00,9,   -999.0,-999.0000, -999,9, 3503,   1.2121,  27.7813,   -999.0,9
       RF99-09,  NONE,RF-0940,  1,      1,02-12807,2,19991017,0057, -2.9530, 162.3232, 3563,   3557.7,   1.4827,  34.6897,2,   -999.0,9,  34.6837,2,   -999.0,9,  -999.00,9,  -999.00,9,  -999.00,9,  -999.00,9,  -999.00,9, -999.000,9, -999.000,9,  -999.00,9,   -999.0,9,   -999.0,9,-999.0000,9,   -999.0,  9,  -999.00,9,   -999.0,  -999.00,9,  -999.00,9,  -999.00,9,  -999.00,9,   3546.8,-999.0000, -999,9, 3509,   1.2110,  27.7817,   -999.0,9