BOTTLE,20130510GEMDJMAYT
EXPOCODE,SECT_ID,STNNBR,CASTNO,SAMPNO,BTLNBR,BTLNBR_FLAG_W,DATE,TIME,LATITUDE,LONGITUDE,DEPTH,CTDPRS,CTDTMP,CTDSAL,CTDSAL_FLAG_W,CTDOXY,CTDOXY_FLAG_W,SALNTY,SALNTY_FLAG_W,OXYGEN,OXYGEN_FLAG_W,SILCAT,SILCAT_FLAG_W,NITRAT,NITRAT_FLAG_W,NO2+NO3,NO2+NO3_FLAG_W,NITRIT,NITRIT_FLAG_W,PHSPHT,PHSPHT_FLAG_W,CFC-11,CFC-11_FLAG_W,CFC-12,CFC-12_FLAG_W,DELC13,DELC13_FLAG_W,TCARBN,TCARBN_FLAG_W,ALKALI,ALKALI_FLAG_W,PH,PH_FLAG_W,PH_TMP,PH_SCALE,PH_NBS,PH_NBS_FLAG_W,C13ERR,TOTALP,TOTALP_FLAG_W,AMMONI,AMMONI_FLAG_W,CHLORA,CHLORA_FLAG_W,PPHYTN,PPHYTN_FLAG_W,REVPRS,REVTMP,DEPTH_,DEPTH_FLAG,CTDDEP,THETA,SIGTHT,DOC,DOC_FLAG_W
,,,,,,,GMT,GMT,,,METER,DBAR,ITS-90,PSS-78,,UMOL/KG,,PSS-78,,UMOL/KG,,UMOL/KG,,UMOL/KG,,UMOL/KG,,UMOL/KG,,UMOL/KG,,PMOL/KG,,PMOL/KG,,/MILLE,,UMOL/KG,,UMOL/KG,,25_DEG_C,,DEG_C,,,,/MILLE,UMOL/KG,,UMOL/KG,,UG/L,,UG/L,,DBAR,ITS-90,METERS,,METERS,DEG_C,,UMOL/L,
       RF00-04,  165E,RF-1061,  1,     -9,      -9,5,20000513,1305, 32.9892, 164.9925, 6198,      0.0,  18.5973,  34.6341,2,   -999.0,9,-999.0000,9,    261.3,4,     2.40,2,  -999.00,9,     0.00,2,     0.00,2,     0.02,2, -999.000,9, -999.000,9,  -999.00,9,   -999.0,9,   -999.0,9,-999.0000,9,   -999.0,  9,  -999.00,9,   -999.0,  -999.00,9,  -999.00,9,  -999.00,9,  -999.00,9,   -999.0,-999.0000, -999,9,    0,  18.5973,  24.8433,   -999.0,9
       RF00-04,  165E,RF-1061,  1,     24,02-10154,2,20000513,1303, 32.9892, 164.9925, 6198,     11.8,  18.5961,  34.6340,2,   -999.0,9,-999.0000,9,    235.4,2,     2.31,2,  -999.00,9,     0.00,2,     0.00,2,     0.01,2, -999.000,9, -999.000,9,  -999.00,9,   -999.0,9,   -999.0,9,-999.0000,9,   -999.0,  9,  -999.00,9,   -999.0,  -999.00,9,  -999.00,9,  -999.00,9,  -999.00,9,   -999.0,-999.0000, -999,9,   12,  18.5940,  24.8441,   -999.0,9
       RF00-04,  165E,RF-1061,  1,     23,02-12829,2,20000513,1302, 32.9892, 164.9925, 6198,     28.7,  18.6032,  34.6338,2,   -999.0,9,-999.0000,9,    239.8,2,     2.32,2,  -999.00,9,     0.00,2,     0.00,2,     0.01,2, -999.000,9, -999.000,9,  -999.00,9,   -999.0,9,   -999.0,9,-999.0000,9,   -999.0,  9,  -999.00,9,   -999.0,  -999.00,9,  -999.00,9,  -999.00,9,  -999.00,9,   -999.0,-999.0000, -999,9,   28,  18.5982,  24.8429,   -999.0,9
       RF00-04,  165E,RF-1061,  1,     22,02-12828,2,20000513,1301, 32.9892, 164.9925, 6198,     48.9,  17.9862,  34.7111,2,   -999.0,9,-999.0000,9,    240.9,2,     2.40,2,  -999.00,9,     0.00,2,     0.01,2,     0.02,2, -999.000,9, -999.000,9,  -999.00,9,   -999.0,9,   -999.0,9,-999.0000,9,   -999.0,  9,  -999.00,9,   -999.0,  -999.00,9,  -999.00,9,  -999.00,9,  -999.00,9,   -999.0,-999.0000, -999,9,   49,  17.9779,  25.0563,   -999.0,9
       RF00-04,  165E,RF-1061,  1,     21,02-12827,2,20000513,1259, 32.9892, 164.9925, 6198,     73.8,  17.5874,  34.7140,2,   -999.0,9,-999.0000,9,    227.6,2,     3.23,2,  -999.00,9,     2.09,2,     0.15,2,     0.12,2, -999.000,9, -999.000,9,  -999.00,9,   -999.0,9,   -999.0,9,-999.0000,9,   -999.0,  9,  -999.00,9,   -999.0,  -999.00,9,  -999.00,9,  -999.00,9,  -999.00,9,   -999.0,-999.0000, -999,9,   73,  17.5749,  25.1568,   -999.0,9
       RF00-04,  165E,RF-1061,  1,     20,02-12826,2,20000513,1258, 32.9892, 164.9925, 6198,    100.4,  17.3620,  34.7150,2,   -999.0,9,  34.7188,2,    318.5,4,     3.51,2,  -999.00,9,     2.70,2,     0.13,2,     0.15,2, -999.000,9, -999.000,9,  -999.00,9,   -999.0,9,   -999.0,9,-999.0000,9,   -999.0,  9,  -999.00,9,   -999.0,  -999.00,9,  -999.00,9,  -999.00,9,  -999.00,9,   -999.0,-999.0000, -999,9,  100,  17.3453,  25.2130,   -999.0,9
       RF00-04,  165E,RF-1061,  1,     19,02-12825,2,20000513,1256, 32.9892, 164.9925, 6198,    126.0,  17.1979,  34.7141,2,   -999.0,9,-999.0000,9,    223.9,2,     3.79,2,  -999.00,9,     3.18,2,     0.03,2,     0.16,2, -999.000,9, -999.000,9,  -999.00,9,   -999.0,9,   -999.0,9,-999.0000,9,   -999.0,  9,  -999.00,9,   -999.0,  -999.00,9,  -999.00,9,  -999.00,9,  -999.00,9,   -999.0,-999.0000, -999,9,  125,  17.1770,  25.2526,   -999.0,9
       RF00-04,  165E,RF-1061,  1,     18,02-12830,2,20000513,1255, 32.9892, 164.9925, 6198,    144.5,  17.0905,  34.7158,2,   -999.0,9,-999.0000,9,   -999.0,9,     4.01,2,  -999.00,9,     3.57,2,     0.01,2,     0.19,2, -999.000,9, -999.000,9,  -999.00,9,   -999.0,9,   -999.0,9,-999.0000,9,   -999.0,  9,  -999.00,9,   -999.0,  -999.00,9,  -999.00,9,  -999.00,9,  -999.00,9,   -999.0,-999.0000, -999,9,  143,  17.0666,  25.2803,   -999.0,9
       RF00-04,  165E,RF-1061,  1,     17,02-13591,2,20000513,1253, 32.9892, 164.9925, 6198,    203.5,  16.6979,  34.7121,2,   -999.0,9,-999.0000,9,    218.5,2,     4.80,2,  -999.00,9,     4.57,2,     0.01,2,     0.24,2, -999.000,9, -999.000,9,  -999.00,9,   -999.0,9,   -999.0,9,-999.0000,9,   -999.0,  9,  -999.00,9,   -999.0,  -999.00,9,  -999.00,9,  -999.00,9,  -999.00,9,   -999.0,-999.0000, -999,9,  202,  16.6648,  25.3723,   -999.0,9
       RF00-04,  165E,RF-1061,  1,     16,02-13588,2,20000513,1251, 32.9892, 164.9925, 6198,    252.3,  16.2829,  34.6905,2,   -999.0,9,-999.0000,9,    219.3,2,     6.53,2,  -999.00,9,     6.62,2,     0.00,2,     0.35,2, -999.000,9, -999.000,9,  -999.00,9,   -999.0,9,   -999.0,9,-999.0000,9,   -999.0,  9,  -999.00,9,   -999.0,  -999.00,9,  -999.00,9,  -999.00,9,  -999.00,9,   -999.0,-999.0000, -999,9,  250,  16.2425,  25.4539,   -999.0,9
       RF00-04,  165E,RF-1061,  1,     15,02-10155,2,20000513,1249, 32.9892, 164.9925, 6198,    301.7,  15.8017,  34.6591,2,   -999.0,9,  34.6668,2,    208.1,2,     7.29,2,  -999.00,9,     7.05,2,     0.00,2,     0.38,2, -999.000,9, -999.000,9,  -999.00,9,   -999.0,9,   -999.0,9,-999.0000,9,   -999.0,  9,  -999.00,9,   -999.0,  -999.00,9,  -999.00,9,  -999.00,9,  -999.00,9,   -999.0,-999.0000, -999,9,  299,  15.7544,  25.5412,   -999.0,9
       RF00-04,  165E,RF-1061,  1,     14,02-13579,2,20000513,1247, 32.9892, 164.9925, 6198,    402.5,  14.3359,  34.5571,2,   -999.0,9,-999.0000,9,    193.2,2,    12.18,2,  -999.00,9,    10.85,2,     0.00,2,     0.63,2, -999.000,9, -999.000,9,  -999.00,9,   -999.0,9,   -999.0,9,-999.0000,9,   -999.0,  9,  -999.00,9,   -999.0,  -999.00,9,  -999.00,9,  -999.00,9,  -999.00,9,   -999.0,-999.0000, -999,9,  399,  14.2766,  25.7865,   -999.0,9
       RF00-04,  165E,RF-1061,  1,     13,02-13590,2,20000513,1244, 32.9892, 164.9925, 6198,    502.1,  11.7581,  34.3677,2,   -999.0,9,  34.3726,2,    188.4,2,    20.46,2,  -999.00,9,    15.71,2,     0.00,2,     0.96,2, -999.000,9, -999.000,9,  -999.00,9,   -999.0,9,   -999.0,9,-999.0000,9,   -999.0,  9,  -999.00,9,   -999.0,  -999.00,9,  -999.00,9,  -999.00,9,  -999.00,9,   -999.0,-999.0000, -999,9,  498,  11.6931,  26.1558,   -999.0,9
       RF00-04,  165E,RF-1061,  1,     12,02-12821,2,20000513,1241, 32.9892, 164.9925, 6198,    605.5,   9.0283,  34.1282,2,   -999.0,9,-999.0000,9,    179.5,2,    33.09,2,  -999.00,9,    21.07,2,     0.00,2,     1.37,2, -999.000,9, -999.000,9,  -999.00,9,   -999.0,9,   -999.0,9,-999.0000,9,   -999.0,  9,  -999.00,9,   -999.0,  -999.00,9,  -999.00,9,  -999.00,9,  -999.00,9,   -999.0,-999.0000, -999,9,  600,   8.9616,  26.4415,   -999.0,9
       RF00-04,  165E,RF-1061,  1,     11,02-12811,2,20000513,1237, 32.9892, 164.9925, 6198,    806.5,   5.3614,  34.0757,2,   -999.0,9,  34.0763,2,    112.1,2,    74.84,2,  -999.00,9,    34.41,2,     0.00,2,     2.36,2, -999.000,9, -999.000,9,  -999.00,9,   -999.0,9,   -999.0,9,-999.0000,9,   -999.0,  9,  -999.00,9,   -999.0,  -999.00,9,  -999.00,9,  -999.00,9,  -999.00,9,   -999.0,-999.0000, -999,9,  799,   5.2937,  26.9083,   -999.0,9
       RF00-04,  165E,RF-1061,  1,     10,02-12820,2,20000513,1232, 32.9892, 164.9925, 6198,   1010.4,   4.0161,  34.2406,2,   -999.0,9,  34.2443,2,    103.0,3,   108.06,2,  -999.00,9,    40.50,2,     0.00,2,     2.81,2, -999.000,9, -999.000,9,  -999.00,9,   -999.0,9,   -999.0,9,-999.0000,9,   -999.0,  9,  -999.00,9,   -999.0,  -999.00,9,  -999.00,9,  -999.00,9,  -999.00,9,   -999.0,-999.0000, -999,9, 1001,   3.9399,  27.1882,   -999.0,9
       RF00-04,  165E,RF-1061,  1,      9,02-12810,2,20000513,1227, 32.9892, 164.9925, 6198,   1262.0,   3.1858,  34.3732,2,   -999.0,9,-999.0000,9,     40.3,2,   128.78,2,  -999.00,9,    42.22,2,     0.00,2,     2.94,2, -999.000,9, -999.000,9,  -999.00,9,   -999.0,9,   -999.0,9,-999.0000,9,   -999.0,  9,  -999.00,9,   -999.0,  -999.00,9,  -999.00,9,  -999.00,9,  -999.00,9,   -999.0,-999.0000, -999,9, 1249,   3.0960,  27.3759,   -999.0,9
       RF00-04,  165E,RF-1061,  1,      8,02-12819,2,20000513,1222, 32.9892, 164.9925, 6198,   1517.1,   2.6588,  34.4688,2,   -999.0,9,  34.4695,2,     36.0,2,   142.71,2,  -999.00,9,    43.22,2,     0.00,2,     2.99,2, -999.000,9, -999.000,9,  -999.00,9,   -999.0,9,   -999.0,9,-999.0000,9,   -999.0,  9,  -999.00,9,   -999.0,  -999.00,9,  -999.00,9,  -999.00,9,  -999.00,9,   -999.0,-999.0000, -999,9, 1501,   2.5538,  27.5006,   -999.0,9
       RF00-04,  165E,RF-1061,  1,      7,02-12815,2,20000513,1213, 32.9892, 164.9925, 6198,   2022.3,   2.0549,  34.5807,2,   -999.0,9,  34.5761,2,     61.5,2,   153.50,2,  -999.00,9,    41.83,2,     0.00,2,     2.88,2, -999.000,9, -999.000,9,  -999.00,9,   -999.0,9,   -999.0,9,-999.0000,9,   -999.0,  9,  -999.00,9,   -999.0,  -999.00,9,  -999.00,9,  -999.00,9,  -999.00,9,   -999.0,-999.0000, -999,9, 1998,   1.9159,  27.6424,   -999.0,9
       RF00-04,  165E,RF-1061,  1,      6,02-12818,2,20000513,1155, 32.9892, 164.9925, 6198,   3040.1,   1.5927,  34.6558,2,   -999.0,9,  34.6573,2,    144.0,4,   147.93,2,  -999.00,9,    38.36,2,     0.00,2,     2.59,2, -999.000,9, -999.000,9,  -999.00,9,   -999.0,9,   -999.0,9,-999.0000,9,   -999.0,  9,  -999.00,9,   -999.0,  -999.00,9,  -999.00,9,  -999.00,9,  -999.00,9,   -999.0,-999.0000, -999,9, 2997,   1.3701,  27.7433,   -999.0,9
       RF00-04,  165E,RF-1061,  1,      5,02-12809,2,20000513,1146, 32.9892, 164.9925, 6198,   3551.5,   1.5220,  34.6697,2,   -999.0,9,-999.0000,9,    139.1,2,   144.90,2,  -999.00,9,    37.46,2,     0.00,2,     2.52,2, -999.000,9, -999.000,9,  -999.00,9,   -999.0,9,   -999.0,9,-999.0000,9,   -999.0,  9,  -999.00,9,   -999.0,  -999.00,9,  -999.00,9,  -999.00,9,  -999.00,9,   -999.0,-999.0000, -999,9, 3497,   1.2501,  27.7629,   -999.0,9
       RF00-04,  165E,RF-1061,  1,      4,02-12817,2,20000513,1136, 32.9892, 164.9925, 6198,   4066.0,   1.4955,  34.6823,2,   -999.0,9,  34.6800,2,    146.6,2,   142.71,2,  -999.00,9,    36.87,2,     0.00,2,     2.46,2, -999.000,9, -999.000,9,  -999.00,9,   -999.0,9,   -999.0,9,-999.0000,9,   -999.0,  9,  -999.00,9,   -999.0,  -999.00,9,  -999.00,9,  -999.00,9,  -999.00,9,   -999.0,-999.0000, -999,9, 3999,   1.1696,  27.7786,   -999.0,9
       RF00-04,  165E,RF-1061,  1,      3,02-12808,2,20000513,1119, 32.9892, 164.9925, 6198,   5093.3,   1.5075,  34.6867,2,   -999.0,9,  34.6914,2,    162.2,2,   135.94,2,  -999.00,9,    35.89,2,     0.00,2,     2.37,2, -999.000,9, -999.000,9,  -999.00,9,   -999.0,9,   -999.0,9,-999.0000,9,   -999.0,  9,  -999.00,9,   -999.0,  -999.00,9,  -999.00,9,  -999.00,9,  -999.00,9,   -999.0,-999.0000, -999,9, 4998,   1.0616,  27.7895,   -999.0,9
       RF00-04,  165E,RF-1061,  1,      2,02-13589,4,20000513,1119, 32.9892, 164.9925, 6198,   5093.6,   1.5077,  34.6858,2,   -999.0,9,-999.0000,9,   -999.0,4,  -999.00,4,  -999.00,9,  -999.00,4,  -999.00,4,  -999.00,4, -999.000,9, -999.000,9,  -999.00,9,   -999.0,9,   -999.0,9,-999.0000,9,   -999.0,  9,  -999.00,9,   -999.0,  -999.00,9,  -999.00,9,  -999.00,9,  -999.00,9,   -999.0,-999.0000, -999,9, 4998,   1.0618,  27.7888,   -999.0,9
       RF00-04,  165E,RF-1061,  1,      1,02-12807,2,20000513,1100, 32.9892, 164.9925, 6198,   6131.2,   1.5766,  34.6907,2,   -999.0,9,  34.6947,2,    193.6,2,   129.26,2,  -999.00,9,    35.18,2,     0.00,2,     2.32,2, -999.000,9, -999.000,9,  -999.00,9,   -999.0,9,   -999.0,9,-999.0000,9,   -999.0,  9,  -999.00,9,   -999.0,  -999.00,9,  -999.00,9,  -999.00,9,  -999.00,9,   -999.0,-999.0000, -999,9, 6003,   0.9941,  27.7972,   -999.0,9