BOTTLE,20130510GEMDJMAYT
EXPOCODE,SECT_ID,STNNBR,CASTNO,SAMPNO,BTLNBR,BTLNBR_FLAG_W,DATE,TIME,LATITUDE,LONGITUDE,DEPTH,CTDPRS,CTDTMP,CTDSAL,CTDSAL_FLAG_W,CTDOXY,CTDOXY_FLAG_W,SALNTY,SALNTY_FLAG_W,OXYGEN,OXYGEN_FLAG_W,SILCAT,SILCAT_FLAG_W,NITRAT,NITRAT_FLAG_W,NO2+NO3,NO2+NO3_FLAG_W,NITRIT,NITRIT_FLAG_W,PHSPHT,PHSPHT_FLAG_W,CFC-11,CFC-11_FLAG_W,CFC-12,CFC-12_FLAG_W,DELC13,DELC13_FLAG_W,TCARBN,TCARBN_FLAG_W,ALKALI,ALKALI_FLAG_W,PH,PH_FLAG_W,PH_TMP,PH_SCALE,PH_NBS,PH_NBS_FLAG_W,C13ERR,TOTALP,TOTALP_FLAG_W,AMMONI,AMMONI_FLAG_W,CHLORA,CHLORA_FLAG_W,PPHYTN,PPHYTN_FLAG_W,REVPRS,REVTMP,DEPTH_,DEPTH_FLAG,CTDDEP,THETA,SIGTHT,DOC,DOC_FLAG_W
,,,,,,,GMT,GMT,,,METER,DBAR,ITS-90,PSS-78,,UMOL/KG,,PSS-78,,UMOL/KG,,UMOL/KG,,UMOL/KG,,UMOL/KG,,UMOL/KG,,UMOL/KG,,PMOL/KG,,PMOL/KG,,/MILLE,,UMOL/KG,,UMOL/KG,,25_DEG_C,,DEG_C,,,,/MILLE,UMOL/KG,,UMOL/KG,,UG/L,,UG/L,,DBAR,ITS-90,METERS,,METERS,DEG_C,,UMOL/L,
       RF00-04,  165E,RF-1053,  1,     -9,      -9,5,20000510,1823, 40.9837, 165.0138, 5290,      0.0,   8.9804,  33.9056,2,   -999.0,9,-999.0000,9,    295.8,2,    16.79,2,  -999.00,9,     9.89,2,     0.18,2,     0.81,2, -999.000,9, -999.000,9,  -999.00,9,   -999.0,9,   -999.0,9,-999.0000,9,   -999.0,  9,  -999.00,9,   -999.0,  -999.00,9,  -999.00,9,  -999.00,9,  -999.00,9,   -999.0,-999.0000, -999,9,    0,   8.9804,  26.2643,   -999.0,9
       RF00-04,  165E,RF-1053,  1,     24,02-10154,2,20000510,1821, 40.9837, 165.0138, 5290,     10.1,   8.9986,  33.9060,2,   -999.0,9,-999.0000,9,    294.2,2,    16.77,2,  -999.00,9,     9.83,2,     0.18,2,     0.79,2, -999.000,9, -999.000,9,  -999.00,9,   -999.0,9,   -999.0,9,-999.0000,9,   -999.0,  9,  -999.00,9,   -999.0,  -999.00,9,  -999.00,9,  -999.00,9,  -999.00,9,   -999.0,-999.0000, -999,9,   10,   8.9975,  26.2619,   -999.0,9
       RF00-04,  165E,RF-1053,  1,     23,02-12829,2,20000510,1819, 40.9837, 165.0138, 5290,     25.0,   8.9724,  33.9043,2,   -999.0,9,-999.0000,9,    294.2,2,    16.70,2,  -999.00,9,     9.89,2,     0.18,2,     0.80,2, -999.000,9, -999.000,9,  -999.00,9,   -999.0,9,   -999.0,9,-999.0000,9,   -999.0,  9,  -999.00,9,   -999.0,  -999.00,9,  -999.00,9,  -999.00,9,  -999.00,9,   -999.0,-999.0000, -999,9,   25,   8.9697,  26.2649,   -999.0,9
       RF00-04,  165E,RF-1053,  1,     22,02-12828,2,20000510,1818, 40.9837, 165.0138, 5290,     49.9,   8.1796,  33.8107,2,   -999.0,9,-999.0000,9,    299.8,2,    17.76,2,  -999.00,9,    10.87,2,     0.20,2,     0.88,2, -999.000,9, -999.000,9,  -999.00,9,   -999.0,9,   -999.0,9,-999.0000,9,   -999.0,  9,  -999.00,9,   -999.0,  -999.00,9,  -999.00,9,  -999.00,9,  -999.00,9,   -999.0,-999.0000, -999,9,   50,   8.1746,  26.3139,   -999.0,9
       RF00-04,  165E,RF-1053,  1,     21,02-12827,2,20000510,1817, 40.9837, 165.0138, 5290,     75.1,   6.5254,  33.6075,2,   -999.0,9,-999.0000,9,    302.9,2,    19.43,2,  -999.00,9,    12.89,2,     0.30,2,     1.02,2, -999.000,9, -999.000,9,  -999.00,9,   -999.0,9,   -999.0,9,-999.0000,9,   -999.0,  9,  -999.00,9,   -999.0,  -999.00,9,  -999.00,9,  -999.00,9,  -999.00,9,   -999.0,-999.0000, -999,9,   75,   6.5188,  26.3861,   -999.0,9
       RF00-04,  165E,RF-1053,  1,     20,02-12826,2,20000510,1815, 40.9837, 165.0138, 5290,    100.3,   7.3146,  33.7628,2,   -999.0,9,  33.8449,4,    283.4,2,    19.96,2,  -999.00,9,    13.37,2,     0.23,2,     0.99,2, -999.000,9, -999.000,9,  -999.00,9,   -999.0,9,   -999.0,9,-999.0000,9,   -999.0,  9,  -999.00,9,   -999.0,  -999.00,9,  -999.00,9,  -999.00,9,  -999.00,9,   -999.0,-999.0000, -999,9,  100,   7.3053,  26.4020,   -999.0,9
       RF00-04,  165E,RF-1053,  1,     19,02-12825,2,20000510,1814, 40.9837, 165.0138, 5290,    125.6,   6.8263,  33.7421,2,   -999.0,9,-999.0000,9,    286.6,2,    20.51,2,  -999.00,9,    14.15,2,     0.24,2,     1.04,2, -999.000,9, -999.000,9,  -999.00,9,   -999.0,9,   -999.0,9,-999.0000,9,   -999.0,  9,  -999.00,9,   -999.0,  -999.00,9,  -999.00,9,  -999.00,9,  -999.00,9,   -999.0,-999.0000, -999,9,  125,   6.8150,  26.4529,   -999.0,9
       RF00-04,  165E,RF-1053,  1,     18,02-12830,2,20000510,1813, 40.9837, 165.0138, 5290,    150.3,   7.3729,  33.8647,2,   -999.0,9,-999.0000,9,    277.2,2,    20.79,2,  -999.00,9,    14.27,2,     0.08,2,     1.03,2, -999.000,9, -999.000,9,  -999.00,9,   -999.0,9,   -999.0,9,-999.0000,9,   -999.0,  9,  -999.00,9,   -999.0,  -999.00,9,  -999.00,9,  -999.00,9,  -999.00,9,   -999.0,-999.0000, -999,9,  149,   7.3588,  26.4747,   -999.0,9
       RF00-04,  165E,RF-1053,  1,     17,02-13591,2,20000510,1811, 40.9837, 165.0138, 5290,    200.4,   6.0869,  33.7135,2,   -999.0,9,-999.0000,9,    271.6,2,    25.24,2,  -999.00,9,    16.84,2,     0.01,2,     1.23,2, -999.000,9, -999.000,9,  -999.00,9,   -999.0,9,   -999.0,9,-999.0000,9,   -999.0,  9,  -999.00,9,   -999.0,  -999.00,9,  -999.00,9,  -999.00,9,  -999.00,9,   -999.0,-999.0000, -999,9,  199,   6.0700,  26.5273,   -999.0,9
       RF00-04,  165E,RF-1053,  1,     16,02-13588,2,20000510,1809, 40.9837, 165.0138, 5290,    251.3,   5.1436,  33.6855,2,   -999.0,9,-999.0000,9,    211.6,2,    42.45,2,  -999.00,9,    24.88,2,     0.00,2,     1.78,2, -999.000,9, -999.000,9,  -999.00,9,   -999.0,9,   -999.0,9,-999.0000,9,   -999.0,  9,  -999.00,9,   -999.0,  -999.00,9,  -999.00,9,  -999.00,9,  -999.00,9,   -999.0,-999.0000, -999,9,  249,   5.1241,  26.6190,   -999.0,9
       RF00-04,  165E,RF-1053,  1,     15,02-10155,2,20000510,1807, 40.9837, 165.0138, 5290,    302.2,   4.8318,  33.7882,2,   -999.0,9,  33.7861,2,    161.4,2,    57.01,2,  -999.00,9,    30.50,2,     0.00,2,     2.15,2, -999.000,9, -999.000,9,  -999.00,9,   -999.0,9,   -999.0,9,-999.0000,9,   -999.0,  9,  -999.00,9,   -999.0,  -999.00,9,  -999.00,9,  -999.00,9,  -999.00,9,   -999.0,-999.0000, -999,9,  300,   4.8089,  26.7360,   -999.0,9
       RF00-04,  165E,RF-1053,  1,     14,02-13579,2,20000510,1805, 40.9837, 165.0138, 5290,    401.5,   4.6873,  33.9512,2,   -999.0,9,-999.0000,9,    105.7,2,    73.24,2,  -999.00,9,    35.38,2,     0.00,2,     2.47,2, -999.000,9, -999.000,9,  -999.00,9,   -999.0,9,   -999.0,9,-999.0000,9,   -999.0,  9,  -999.00,9,   -999.0,  -999.00,9,  -999.00,9,  -999.00,9,  -999.00,9,   -999.0,-999.0000, -999,9,  398,   4.6570,  26.8821,   -999.0,9
       RF00-04,  165E,RF-1053,  1,     13,02-13590,2,20000510,1803, 40.9837, 165.0138, 5290,    503.9,   4.3545,  34.0716,2,   -999.0,9,  34.0706,2,     73.4,2,    87.73,2,  -999.00,9,    38.63,2,     0.00,2,     2.70,2, -999.000,9, -999.000,9,  -999.00,9,   -999.0,9,   -999.0,9,-999.0000,9,   -999.0,  9,  -999.00,9,   -999.0,  -999.00,9,  -999.00,9,  -999.00,9,  -999.00,9,   -999.0,-999.0000, -999,9,  499,   4.3172,  27.0145,   -999.0,9
       RF00-04,  165E,RF-1053,  1,     12,02-12821,2,20000510,1800, 40.9837, 165.0138, 5290,    603.6,   3.7615,  34.1293,2,   -999.0,9,-999.0000,9,     47.3,2,   103.74,2,  -999.00,9,    41.73,2,     0.00,2,     2.92,2, -999.000,9, -999.000,9,  -999.00,9,   -999.0,9,   -999.0,9,-999.0000,9,   -999.0,  9,  -999.00,9,   -999.0,  -999.00,9,  -999.00,9,  -999.00,9,  -999.00,9,   -999.0,-999.0000, -999,9,  598,   3.7191,  27.1219,   -999.0,9
       RF00-04,  165E,RF-1053,  1,     11,02-12811,2,20000510,1755, 40.9837, 165.0138, 5290,    807.2,   3.2734,  34.2723,2,   -999.0,9,  34.2624,4,     31.3,2,   122.03,2,  -999.00,9,    43.17,2,     0.00,2,     3.01,2, -999.000,9, -999.000,9,  -999.00,9,   -999.0,9,   -999.0,9,-999.0000,9,   -999.0,  9,  -999.00,9,   -999.0,  -999.00,9,  -999.00,9,  -999.00,9,  -999.00,9,   -999.0,-999.0000, -999,9,  799,   3.2184,  27.2841,   -999.0,9
       RF00-04,  165E,RF-1053,  1,     10,02-12820,2,20000510,1751, 40.9837, 165.0138, 5290,   1008.9,   2.8993,  34.3754,2,   -999.0,9,  34.3742,2,     30.6,2,   133.61,2,  -999.00,9,    43.32,2,     0.00,2,     3.03,2, -999.000,9, -999.000,9,  -999.00,9,   -999.0,9,   -999.0,9,-999.0000,9,   -999.0,  9,  -999.00,9,   -999.0,  -999.00,9,  -999.00,9,  -999.00,9,  -999.00,9,   -999.0,-999.0000, -999,9,  999,   2.8317,  27.4016,   -999.0,9
       RF00-04,  165E,RF-1053,  1,      9,02-12810,2,20000510,1747, 40.9837, 165.0138, 5290,   1261.0,   2.5557,  34.4532,2,   -999.0,9,-999.0000,9,     34.1,2,   143.16,2,  -999.00,9,    43.44,2,     0.00,2,     3.02,2, -999.000,9, -999.000,9,  -999.00,9,   -999.0,9,   -999.0,9,-999.0000,9,   -999.0,  9,  -999.00,9,   -999.0,  -999.00,9,  -999.00,9,  -999.00,9,  -999.00,9,   -999.0,-999.0000, -999,9, 1247,   2.4720,  27.4950,   -999.0,9
       RF00-04,  165E,RF-1053,  1,      8,02-12819,2,20000510,1742, 40.9837, 165.0138, 5290,   1514.2,   2.2885,  34.5118,2,   -999.0,9,  34.5110,2,     42.8,2,   149.41,2,  -999.00,9,    43.15,2,     0.00,2,     2.98,2, -999.000,9, -999.000,9,  -999.00,9,   -999.0,9,   -999.0,9,-999.0000,9,   -999.0,  9,  -999.00,9,   -999.0,  -999.00,9,  -999.00,9,  -999.00,9,  -999.00,9,   -999.0,-999.0000, -999,9, 1497,   2.1879,  27.5655,   -999.0,9
       RF00-04,  165E,RF-1053,  1,      7,02-12815,2,20000510,1734, 40.9837, 165.0138, 5290,   2021.7,   1.9441,  34.5894,2,   -999.0,9,  34.5867,2,     67.0,2,   153.98,2,  -999.00,9,    41.78,2,     0.00,2,     2.86,2, -999.000,9, -999.000,9,  -999.00,9,   -999.0,9,   -999.0,9,-999.0000,9,   -999.0,  9,  -999.00,9,   -999.0,  -999.00,9,  -999.00,9,  -999.00,9,  -999.00,9,   -999.0,-999.0000, -999,9, 1996,   1.8069,  27.6577,   -999.0,9
       RF00-04,  165E,RF-1053,  1,      6,02-12818,2,20000510,1726, 40.9837, 165.0138, 5290,   2530.2,   1.6909,  34.6386,2,   -999.0,9,-999.0000,9,    100.2,2,   151.69,2,  -999.00,9,    39.94,2,     0.00,2,     2.71,2, -999.000,9, -999.000,9,  -999.00,9,   -999.0,9,   -999.0,9,-999.0000,9,   -999.0,  9,  -999.00,9,   -999.0,  -999.00,9,  -999.00,9,  -999.00,9,  -999.00,9,   -999.0,-999.0000, -999,9, 2496,   1.5137,  27.7192,   -999.0,9
       RF00-04,  165E,RF-1053,  1,      5,02-12809,2,20000510,1718, 40.9837, 165.0138, 5290,   3040.6,   1.5459,  34.6644,2,   -999.0,9,  34.6619,2,    124.6,2,   147.22,2,  -999.00,9,    38.37,2,     0.00,2,     2.59,2, -999.000,9, -999.000,9,  -999.00,9,   -999.0,9,   -999.0,9,-999.0000,9,   -999.0,  9,  -999.00,9,   -999.0,  -999.00,9,  -999.00,9,  -999.00,9,  -999.00,9,   -999.0,-999.0000, -999,9, 2995,   1.3242,  27.7535,   -999.0,9
       RF00-04,  165E,RF-1053,  1,      4,02-12817,2,20000510,1710, 40.9837, 165.0138, 5290,   3552.4,   1.4804,  34.6792,2,   -999.0,9,  34.6776,2,    140.1,2,   143.77,2,  -999.00,9,    37.38,2,     0.00,2,     2.50,2, -999.000,9, -999.000,9,  -999.00,9,   -999.0,9,   -999.0,9,-999.0000,9,   -999.0,  9,  -999.00,9,   -999.0,  -999.00,9,  -999.00,9,  -999.00,9,  -999.00,9,   -999.0,-999.0000, -999,9, 3496,   1.2094,  27.7734,   -999.0,9
       RF00-04,  165E,RF-1053,  1,      2,02-13589,2,20000510,1701, 40.9837, 165.0138, 5290,   4064.2,   1.4659,  34.6850,2,   -999.0,9,-999.0000,9,   -999.0,9,  -999.00,9,  -999.00,9,  -999.00,9,  -999.00,9,  -999.00,9, -999.000,9, -999.000,9,  -999.00,9,   -999.0,9,   -999.0,9,-999.0000,9,   -999.0,  9,  -999.00,9,   -999.0,  -999.00,9,  -999.00,9,  -999.00,9,  -999.00,9,   -999.0,-999.0000, -999,9, 3994,   1.1410,  27.7827,   -999.0,9
       RF00-04,  165E,RF-1053,  1,      3,02-12808,2,20000510,1701, 40.9837, 165.0138, 5290,   4065.9,   1.4657,  34.6848,2,   -999.0,9,  34.6829,2,    149.0,2,   141.26,2,  -999.00,9,    36.71,2,     0.00,2,     2.45,2, -999.000,9, -999.000,9,  -999.00,9,   -999.0,9,   -999.0,9,-999.0000,9,   -999.0,  9,  -999.00,9,   -999.0,  -999.00,9,  -999.00,9,  -999.00,9,  -999.00,9,   -999.0,-999.0000, -999,9, 3996,   1.1406,  27.7826,   -999.0,9
       RF00-04,  165E,RF-1053,  1,      1,02-12807,2,20000510,1644, 40.9837, 165.0138, 5290,   5180.1,   1.5353,  34.6914,2,   -999.0,9,  34.6934,2,    157.1,2,   141.17,2,  -999.00,9,    36.15,2,     0.00,2,     2.41,2, -999.000,9, -999.000,9,  -999.00,9,   -999.0,9,   -999.0,9,-999.0000,9,   -999.0,  9,  -999.00,9,   -999.0,  -999.00,9,  -999.00,9,  -999.00,9,  -999.00,9,   -999.0,-999.0000, -999,9, 5079,   1.0777,  27.7922,   -999.0,9