BOTTLE,20130510GEMDJMAYT
EXPOCODE,SECT_ID,STNNBR,CASTNO,SAMPNO,BTLNBR,BTLNBR_FLAG_W,DATE,TIME,LATITUDE,LONGITUDE,DEPTH,CTDPRS,CTDTMP,CTDSAL,CTDSAL_FLAG_W,CTDOXY,CTDOXY_FLAG_W,SALNTY,SALNTY_FLAG_W,OXYGEN,OXYGEN_FLAG_W,SILCAT,SILCAT_FLAG_W,NITRAT,NITRAT_FLAG_W,NO2+NO3,NO2+NO3_FLAG_W,NITRIT,NITRIT_FLAG_W,PHSPHT,PHSPHT_FLAG_W,CFC-11,CFC-11_FLAG_W,CFC-12,CFC-12_FLAG_W,DELC13,DELC13_FLAG_W,TCARBN,TCARBN_FLAG_W,ALKALI,ALKALI_FLAG_W,PH,PH_FLAG_W,PH_TMP,PH_SCALE,PH_NBS,PH_NBS_FLAG_W,C13ERR,TOTALP,TOTALP_FLAG_W,AMMONI,AMMONI_FLAG_W,CHLORA,CHLORA_FLAG_W,PPHYTN,PPHYTN_FLAG_W,REVPRS,REVTMP,DEPTH_,DEPTH_FLAG,CTDDEP,THETA,SIGTHT,DOC,DOC_FLAG_W
,,,,,,,GMT,GMT,,,METER,DBAR,ITS-90,PSS-78,,UMOL/KG,,PSS-78,,UMOL/KG,,UMOL/KG,,UMOL/KG,,UMOL/KG,,UMOL/KG,,UMOL/KG,,PMOL/KG,,PMOL/KG,,/MILLE,,UMOL/KG,,UMOL/KG,,25_DEG_C,,DEG_C,,,,/MILLE,UMOL/KG,,UMOL/KG,,UG/L,,UG/L,,DBAR,ITS-90,METERS,,METERS,DEG_C,,UMOL/L,
       RF00-04,  165E,RF-1051,  1,     -9,      -9,5,20000509,0315, 42.9780, 165.0160, 5384,      0.0,   5.9170,  33.3843,2,   -999.0,9,-999.0000,9,   1039.8,4,    20.88,2,  -999.00,9,    14.66,2,     0.24,2,     1.13,2, -999.000,9, -999.000,9,  -999.00,9,   -999.0,9,   -999.0,9,-999.0000,9,   -999.0,  9,  -999.00,9,   -999.0,  -999.00,9,  -999.00,9,  -999.00,9,  -999.00,9,   -999.0,-999.0000, -999,9,    0,   5.9170,  26.2863,   -999.0,9
       RF00-04,  165E,RF-1051,  1,     23,02-12829,2,20000510,0313, 42.9780, 165.0160, 5384,     10.5,   5.9093,  33.3837,2,   -999.0,9,-999.0000,9,    317.9,2,    19.56,2,  -999.00,9,    14.70,2,     0.22,2,     1.13,2, -999.000,9, -999.000,9,  -999.00,9,   -999.0,9,   -999.0,9,-999.0000,9,   -999.0,  9,  -999.00,9,   -999.0,  -999.00,9,  -999.00,9,  -999.00,9,  -999.00,9,   -999.0,-999.0000, -999,9,   10,   5.9085,  26.2869,   -999.0,9
       RF00-04,  165E,RF-1051,  1,     22,02-12828,2,20000510,0312, 42.9780, 165.0160, 5384,     25.4,   5.5502,  33.4215,2,   -999.0,9,-999.0000,9,    319.4,2,    21.15,2,  -999.00,9,    14.71,2,     0.25,2,     1.13,2, -999.000,9, -999.000,9,  -999.00,9,   -999.0,9,   -999.0,9,-999.0000,9,   -999.0,  9,  -999.00,9,   -999.0,  -999.00,9,  -999.00,9,  -999.00,9,  -999.00,9,   -999.0,-999.0000, -999,9,   25,   5.5482,  26.3603,   -999.0,9
       RF00-04,  165E,RF-1051,  1,     21,02-12827,2,20000510,0311, 42.9780, 165.0160, 5384,     49.8,   4.9460,  33.4082,2,   -999.0,9,-999.0000,9,    309.4,2,    21.18,2,  -999.00,9,    16.23,2,     0.34,2,     1.22,2, -999.000,9, -999.000,9,  -999.00,9,   -999.0,9,   -999.0,9,-999.0000,9,   -999.0,  9,  -999.00,9,   -999.0,  -999.00,9,  -999.00,9,  -999.00,9,  -999.00,9,   -999.0,-999.0000, -999,9,   49,   4.9423,  26.4198,   -999.0,9
       RF00-04,  165E,RF-1051,  1,     20,02-12826,2,20000510,0309, 42.9780, 165.0160, 5384,     76.6,   4.8749,  33.4328,2,   -999.0,9,-999.0000,9,    308.5,2,    22.08,2,  -999.00,9,    16.44,2,     0.39,2,     1.22,2, -999.000,9, -999.000,9,  -999.00,9,   -999.0,9,   -999.0,9,-999.0000,9,   -999.0,  9,  -999.00,9,   -999.0,  -999.00,9,  -999.00,9,  -999.00,9,  -999.00,9,   -999.0,-999.0000, -999,9,   76,   4.8693,  26.4475,   -999.0,9
       RF00-04,  165E,RF-1051,  1,     19,02-12825,2,20000510,0308, 42.9780, 165.0160, 5384,    101.0,   4.7446,  33.4470,2,   -999.0,9,  33.4436,2,    306.4,2,    22.62,2,  -999.00,9,    16.93,2,     0.43,2,     1.25,2, -999.000,9, -999.000,9,  -999.00,9,   -999.0,9,   -999.0,9,-999.0000,9,   -999.0,  9,  -999.00,9,   -999.0,  -999.00,9,  -999.00,9,  -999.00,9,  -999.00,9,   -999.0,-999.0000, -999,9,  100,   4.7373,  26.4733,   -999.0,9
       RF00-04,  165E,RF-1051,  1,     18,02-12830,2,20000510,0307, 42.9780, 165.0160, 5384,    125.8,   4.6432,  33.4607,2,   -999.0,9,-999.0000,9,    306.5,2,    23.04,2,  -999.00,9,    17.01,2,     0.45,2,     1.25,2, -999.000,9, -999.000,9,  -999.00,9,   -999.0,9,   -999.0,9,-999.0000,9,   -999.0,  9,  -999.00,9,   -999.0,  -999.00,9,  -999.00,9,  -999.00,9,  -999.00,9,   -999.0,-999.0000, -999,9,  125,   4.6341,  26.4954,   -999.0,9
       RF00-04,  165E,RF-1051,  1,     17,02-13591,3,20000510,0305, 42.9780, 165.0160, 5384,    150.7,   4.6039,  33.4638,2,   -999.0,9,-999.0000,9,    303.4,2,    23.52,2,  -999.00,9,    17.22,2,     0.38,2,     1.25,2, -999.000,9, -999.000,9,  -999.00,9,   -999.0,9,   -999.0,9,-999.0000,9,   -999.0,  9,  -999.00,9,   -999.0,  -999.00,9,  -999.00,9,  -999.00,9,  -999.00,9,   -999.0,-999.0000, -999,9,  149,   4.5931,  26.5023,   -999.0,9
       RF00-04,  165E,RF-1051,  1,     16,02-13588,2,20000510,0303, 42.9780, 165.0160, 5384,    201.9,   4.8943,  33.5967,2,   -999.0,9,-999.0000,9,    241.2,2,    37.05,2,  -999.00,9,    23.00,2,     0.01,2,     1.63,2, -999.000,9, -999.000,9,  -999.00,9,   -999.0,9,   -999.0,9,-999.0000,9,   -999.0,  9,  -999.00,9,   -999.0,  -999.00,9,  -999.00,9,  -999.00,9,  -999.00,9,   -999.0,-999.0000, -999,9,  200,   4.8792,  26.5763,   -999.0,9
       RF00-04,  165E,RF-1051,  1,     15,02-10155,2,20000510,0301, 42.9780, 165.0160, 5384,    252.4,   4.6396,  33.7278,2,   -999.0,9,-999.0000,9,    176.2,2,    53.68,2,  -999.00,9,    29.51,2,     0.00,2,     2.05,2, -999.000,9, -999.000,9,  -999.00,9,   -999.0,9,   -999.0,9,-999.0000,9,   -999.0,  9,  -999.00,9,   -999.0,  -999.00,9,  -999.00,9,  -999.00,9,  -999.00,9,   -999.0,-999.0000, -999,9,  250,   4.6210,  26.7088,   -999.0,9
       RF00-04,  165E,RF-1051,  1,     14,02-13579,2,20000510,0259, 42.9780, 165.0160, 5384,    303.1,   4.4693,  33.8067,2,   -999.0,9,  33.8049,2,    138.9,2,    64.31,2,  -999.00,9,    33.01,2,     0.00,2,     2.29,2, -999.000,9, -999.000,9,  -999.00,9,   -999.0,9,   -999.0,9,-999.0000,9,   -999.0,  9,  -999.00,9,   -999.0,  -999.00,9,  -999.00,9,  -999.00,9,  -999.00,9,   -999.0,-999.0000, -999,9,  301,   4.4472,  26.7902,   -999.0,9
       RF00-04,  165E,RF-1051,  1,     13,02-13590,2,20000510,0257, 42.9780, 165.0160, 5384,    403.3,   4.1208,  33.9309,2,   -999.0,9,-999.0000,9,    106.8,2,    81.80,2,  -999.00,9,    38.27,2,     0.00,2,     2.64,2, -999.000,9, -999.000,9,  -999.00,9,   -999.0,9,   -999.0,9,-999.0000,9,   -999.0,  9,  -999.00,9,   -999.0,  -999.00,9,  -999.00,9,  -999.00,9,  -999.00,9,   -999.0,-999.0000, -999,9,  400,   4.0921,  26.9262,   -999.0,9
       RF00-04,  165E,RF-1051,  1,     12,02-12821,2,20000510,0254, 42.9780, 165.0160, 5384,    503.4,   3.9104,  34.0357,2,   -999.0,9,  34.0359,2,     59.7,2,    94.86,2,  -999.00,9,    40.91,2,     0.00,2,     2.83,2, -999.000,9, -999.000,9,  -999.00,9,   -999.0,9,   -999.0,9,-999.0000,9,   -999.0,  9,  -999.00,9,   -999.0,  -999.00,9,  -999.00,9,  -999.00,9,  -999.00,9,   -999.0,-999.0000, -999,9,  499,   3.8750,  27.0318,   -999.0,9
       RF00-04,  165E,RF-1051,  1,     11,02-12811,2,20000510,0252, 42.9780, 165.0160, 5384,    605.2,   3.7238,  34.1626,2,   -999.0,9,-999.0000,9,     41.9,2,   107.34,2,  -999.00,9,    42.20,2,     0.00,2,     2.91,2, -999.000,9, -999.000,9,  -999.00,9,   -999.0,9,   -999.0,9,-999.0000,9,   -999.0,  9,  -999.00,9,   -999.0,  -999.00,9,  -999.00,9,  -999.00,9,  -999.00,9,   -999.0,-999.0000, -999,9,  600,   3.6815,  27.1521,   -999.0,9
       RF00-04,  165E,RF-1051,  1,     10,02-12820,2,20000510,0246, 42.9780, 165.0160, 5384,    807.4,   3.3155,  34.2977,2,   -999.0,9,  34.2962,2,     32.7,2,   123.07,2,  -999.00,9,    43.04,2,     0.00,2,     2.98,2, -999.000,9, -999.000,9,  -999.00,9,   -999.0,9,   -999.0,9,-999.0000,9,   -999.0,  9,  -999.00,9,   -999.0,  -999.00,9,  -999.00,9,  -999.00,9,  -999.00,9,   -999.0,-999.0000, -999,9,  799,   3.2602,  27.3004,   -999.0,9
       RF00-04,  165E,RF-1051,  1,      9,02-12810,2,20000510,0241, 42.9780, 165.0160, 5384,   1009.5,   2.9421,  34.3786,2,   -999.0,9,  34.3736,2,     30.3,2,   134.40,2,  -999.00,9,    43.51,2,     0.00,2,     3.02,2, -999.000,9, -999.000,9,  -999.00,9,   -999.0,9,   -999.0,9,-999.0000,9,   -999.0,  9,  -999.00,9,   -999.0,  -999.00,9,  -999.00,9,  -999.00,9,  -999.00,9,   -999.0,-999.0000, -999,9,  999,   2.8741,  27.4004,   -999.0,9
       RF00-04,  165E,RF-1051,  1,      8,02-12819,2,20000510,0236, 42.9780, 165.0160, 5384,   1261.4,   2.5319,  34.4534,2,   -999.0,9,-999.0000,9,     32.7,2,   145.82,2,  -999.00,9,    43.59,2,     0.00,2,     3.01,2, -999.000,9, -999.000,9,  -999.00,9,   -999.0,9,   -999.0,9,-999.0000,9,   -999.0,  9,  -999.00,9,   -999.0,  -999.00,9,  -999.00,9,  -999.00,9,  -999.00,9,   -999.0,-999.0000, -999,9, 1248,   2.4484,  27.4972,   -999.0,9
       RF00-04,  165E,RF-1051,  1,      7,02-12815,2,20000510,0231, 42.9780, 165.0160, 5384,   1516.3,   2.2841,  34.5121,2,   -999.0,9,  34.5081,2,     40.1,2,   151.50,2,  -999.00,9,    43.27,2,     0.00,2,     2.98,2, -999.000,9, -999.000,9,  -999.00,9,   -999.0,9,   -999.0,9,-999.0000,9,   -999.0,  9,  -999.00,9,   -999.0,  -999.00,9,  -999.00,9,  -999.00,9,  -999.00,9,   -999.0,-999.0000, -999,9, 1499,   2.1835,  27.5661,   -999.0,9
       RF00-04,  165E,RF-1051,  1,      6,02-12818,2,20000510,0221, 42.9780, 165.0160, 5384,   2023.6,   1.9274,  34.5924,2,   -999.0,9,  34.5899,2,     66.6,2,   155.65,2,  -999.00,9,    41.88,2,     0.00,2,     2.86,2, -999.000,9, -999.000,9,  -999.00,9,   -999.0,9,   -999.0,9,-999.0000,9,   -999.0,  9,  -999.00,9,   -999.0,  -999.00,9,  -999.00,9,  -999.00,9,  -999.00,9,   -999.0,-999.0000, -999,9, 1998,   1.7902,  27.6614,   -999.0,9
       RF00-04,  165E,RF-1051,  1,      5,02-12809,2,20000510,0205, 42.9780, 165.0160, 5384,   3041.6,   1.5633,  34.6634,2,   -999.0,9,  34.6607,2,    142.1,4,   148.66,2,  -999.00,9,    38.72,2,     0.00,2,     2.59,2, -999.000,9, -999.000,9,  -999.00,9,   -999.0,9,   -999.0,9,-999.0000,9,   -999.0,  9,  -999.00,9,   -999.0,  -999.00,9,  -999.00,9,  -999.00,9,  -999.00,9,   -999.0,-999.0000, -999,9, 2996,   1.3412,  27.7514,   -999.0,9
       RF00-04,  165E,RF-1051,  1,      4,02-12817,2,20000510,0157, 42.9780, 165.0160, 5384,   3552.6,   1.4930,  34.6760,2,   -999.0,9,  34.6747,2,    138.0,2,   144.75,2,  -999.00,9,    37.66,2,     0.00,2,     2.49,2, -999.000,9, -999.000,9,  -999.00,9,   -999.0,9,   -999.0,9,-999.0000,9,   -999.0,  9,  -999.00,9,   -999.0,  -999.00,9,  -999.00,9,  -999.00,9,  -999.00,9,   -999.0,-999.0000, -999,9, 3495,   1.2217,  27.7700,   -999.0,9
       RF00-04,  165E,RF-1051,  1,      3,02-12808,2,20000510,0148, 42.9780, 165.0160, 5384,   4066.7,   1.4701,  34.6846,2,   -999.0,9,  34.6823,2,    148.8,2,   142.47,2,  -999.00,9,    37.03,2,     0.00,2,     2.45,2, -999.000,9, -999.000,9,  -999.00,9,   -999.0,9,   -999.0,9,-999.0000,9,   -999.0,  9,  -999.00,9,   -999.0,  -999.00,9,  -999.00,9,  -999.00,9,  -999.00,9,   -999.0,-999.0000, -999,9, 3996,   1.1448,  27.7821,   -999.0,9
       RF00-04,  165E,RF-1051,  1,      2,02-13589,4,20000510,0131, 42.9780, 165.0160, 5384,   5092.4,   1.5258,  34.6899,2,   -999.0,9,-999.0000,9,   -999.0,9,  -999.00,9,  -999.00,9,  -999.00,9,  -999.00,9,  -999.00,9, -999.000,9, -999.000,9,  -999.00,9,   -999.0,9,   -999.0,9,-999.0000,9,   -999.0,  9,  -999.00,9,   -999.0,  -999.00,9,  -999.00,9,  -999.00,9,  -999.00,9,   -999.0,-999.0000, -999,9, 4993,   1.0794,  27.7909,   -999.0,9
       RF00-04,  165E,RF-1051,  1,      1,02-12807,2,20000510,0127, 42.9780, 165.0160, 5384,   5299.5,   1.5481,  34.6896,2,   -999.0,9,  34.6916,2,    157.7,2,   141.50,2,  -999.00,9,    36.44,2,     0.00,2,     2.38,2, -999.000,9, -999.000,9,  -999.00,9,   -999.0,9,   -999.0,9,-999.0000,9,   -999.0,  9,  -999.00,9,   -999.0,  -999.00,9,  -999.00,9,  -999.00,9,  -999.00,9,   -999.0,-999.0000, -999,9, 5193,   1.0752,  27.7909,   -999.0,9