BOTTLE,20130510GEMDJMAYT
EXPOCODE,SECT_ID,STNNBR,CASTNO,SAMPNO,BTLNBR,BTLNBR_FLAG_W,DATE,TIME,LATITUDE,LONGITUDE,DEPTH,CTDPRS,CTDTMP,CTDSAL,CTDSAL_FLAG_W,CTDOXY,CTDOXY_FLAG_W,SALNTY,SALNTY_FLAG_W,OXYGEN,OXYGEN_FLAG_W,SILCAT,SILCAT_FLAG_W,NITRAT,NITRAT_FLAG_W,NO2+NO3,NO2+NO3_FLAG_W,NITRIT,NITRIT_FLAG_W,PHSPHT,PHSPHT_FLAG_W,CFC-11,CFC-11_FLAG_W,CFC-12,CFC-12_FLAG_W,DELC13,DELC13_FLAG_W,TCARBN,TCARBN_FLAG_W,ALKALI,ALKALI_FLAG_W,PH,PH_FLAG_W,PH_TMP,PH_SCALE,PH_NBS,PH_NBS_FLAG_W,C13ERR,TOTALP,TOTALP_FLAG_W,AMMONI,AMMONI_FLAG_W,CHLORA,CHLORA_FLAG_W,PPHYTN,PPHYTN_FLAG_W,REVPRS,REVTMP,DEPTH_,DEPTH_FLAG,CTDDEP,THETA,SIGTHT,DOC,DOC_FLAG_W
,,,,,,,GMT,GMT,,,METER,DBAR,ITS-90,PSS-78,,UMOL/KG,,PSS-78,,UMOL/KG,,UMOL/KG,,UMOL/KG,,UMOL/KG,,UMOL/KG,,UMOL/KG,,PMOL/KG,,PMOL/KG,,/MILLE,,UMOL/KG,,UMOL/KG,,25_DEG_C,,DEG_C,,,,/MILLE,UMOL/KG,,UMOL/KG,,UG/L,,UG/L,,DBAR,ITS-90,METERS,,METERS,DEG_C,,UMOL/L,
       RF00-04,  NONE,RF-1010,  1,     -9,      -9,5,20000424,2353, 35.9725, 144.0147, 5733,      0.0,  17.7289,  34.6699,2,   -999.0,9,-999.0000,9,    245.8,2,     4.42,2,  -999.00,9,     1.74,2,     0.12,2,     0.20,2, -999.000,9, -999.000,9,  -999.00,9,   -999.0,9,   -999.0,9,-999.0000,9,   -999.0,  9,  -999.00,9,   -999.0,  -999.00,9,  -999.00,9,     2.81,2,     0.47,2,   -999.0,-999.0000, -999,9,    0,  17.7289,  25.0856,   -999.0,9
       RF00-04,  NONE,RF-1010,  1,     21,02-12827,2,20000424,2351, 35.9725, 144.0147, 5733,      9.7,  17.7279,  34.6722,2,   -999.0,9,-999.0000,9,    239.4,2,     4.41,2,  -999.00,9,     1.64,2,     0.12,2,     0.16,2, -999.000,9, -999.000,9,  -999.00,9,   -999.0,9,   -999.0,9,-999.0000,9,   -999.0,  9,  -999.00,9,   -999.0,  -999.00,9,  -999.00,9,     2.27,2,     0.74,2,   -999.0,-999.0000, -999,9,   10,  17.7262,  25.0880,   -999.0,9
       RF00-04,  NONE,RF-1010,  1,     20,02-12826,2,20000424,2350, 35.9725, 144.0147, 5733,     20.2,  17.7289,  34.6728,2,   -999.0,9,-999.0000,9,    239.8,2,     4.40,2,  -999.00,9,     1.69,2,     0.13,2,     0.17,2, -999.000,9, -999.000,9,  -999.00,9,   -999.0,9,   -999.0,9,-999.0000,9,   -999.0,  9,  -999.00,9,   -999.0,  -999.00,9,  -999.00,9,     2.26,2,     0.67,2,   -999.0,-999.0000, -999,9,   20,  17.7255,  25.0886,   -999.0,9
       RF00-04,  NONE,RF-1010,  1,     19,02-12825,2,20000424,2349, 35.9725, 144.0147, 5733,     30.8,  17.7159,  34.6723,2,   -999.0,9,-999.0000,9,    238.7,2,     4.43,2,  -999.00,9,     1.78,2,     0.13,2,     0.15,2, -999.000,9, -999.000,9,  -999.00,9,   -999.0,9,   -999.0,9,-999.0000,9,   -999.0,  9,  -999.00,9,   -999.0,  -999.00,9,  -999.00,9,     2.18,2,     0.59,2,   -999.0,-999.0000, -999,9,   31,  17.7107,  25.0919,   -999.0,9
       RF00-04,  NONE,RF-1010,  1,     18,02-12830,2,20000424,2348, 35.9725, 144.0147, 5733,     51.2,  17.6265,  34.6744,2,   -999.0,9,-999.0000,9,    233.8,2,     4.85,2,  -999.00,9,     2.28,2,     0.17,2,     0.19,2, -999.000,9, -999.000,9,  -999.00,9,   -999.0,9,   -999.0,9,-999.0000,9,   -999.0,  9,  -999.00,9,   -999.0,  -999.00,9,  -999.00,9,     1.49,2,     0.46,2,   -999.0,-999.0000, -999,9,   51,  17.6179,  25.1161,   -999.0,9
       RF00-04,  NONE,RF-1010,  1,     17,02-13591,2,20000424,2346, 35.9725, 144.0147, 5733,     75.8,  17.4911,  34.6769,2,   -999.0,9,-999.0000,9,    232.7,2,     5.04,2,  -999.00,9,     2.53,2,     0.19,2,     0.22,2, -999.000,9, -999.000,9,  -999.00,9,   -999.0,9,   -999.0,9,-999.0000,9,   -999.0,  9,  -999.00,9,   -999.0,  -999.00,9,  -999.00,9,     1.18,2,     0.45,2,   -999.0,-999.0000, -999,9,   75,  17.4785,  25.1517,   -999.0,9
       RF00-04,  NONE,RF-1010,  1,     16,02-13588,2,20000424,2345, 35.9725, 144.0147, 5733,    101.3,  16.6187,  34.6705,2,   -999.0,9,  34.6873,4,    214.2,2,     7.64,2,  -999.00,9,     5.32,2,     0.27,2,     0.38,2, -999.000,9, -999.000,9,  -999.00,9,   -999.0,9,   -999.0,9,-999.0000,9,   -999.0,  9,  -999.00,9,   -999.0,  -999.00,9,  -999.00,9,     0.35,2,     0.23,2,   -999.0,-999.0000, -999,9,  101,  16.6023,  25.3550,   -999.0,9
       RF00-04,  NONE,RF-1010,  1,     15,02-10155,2,20000424,2344, 35.9725, 144.0147, 5733,    126.5,  15.8781,  34.6764,2,   -999.0,9,-999.0000,9,    216.1,2,     9.01,2,  -999.00,9,     6.42,2,     0.49,2,     0.43,2, -999.000,9, -999.000,9,  -999.00,9,   -999.0,9,   -999.0,9,-999.0000,9,   -999.0,  9,  -999.00,9,   -999.0,  -999.00,9,  -999.00,9,     0.21,2,     0.19,2,   -999.0,-999.0000, -999,9,  126,  15.8583,  25.5310,   -999.0,9
       RF00-04,  NONE,RF-1010,  1,     14,02-13579,2,20000424,2342, 35.9725, 144.0147, 5733,    151.3,  15.5083,  34.6520,2,   -999.0,9,-999.0000,9,    211.4,2,    10.39,2,  -999.00,9,     7.40,2,     0.32,2,     0.51,2, -999.000,9, -999.000,9,  -999.00,9,   -999.0,9,   -999.0,9,-999.0000,9,   -999.0,  9,  -999.00,9,   -999.0,  -999.00,9,  -999.00,9,     0.15,2,     0.17,2,   -999.0,-999.0000, -999,9,  150,  15.4849,  25.5963,   -999.0,9
       RF00-04,  NONE,RF-1010,  1,     13,02-13590,2,20000424,2340, 35.9725, 144.0147, 5733,    202.2,  15.0209,  34.6289,2,   -999.0,9,  34.6463,4,    194.6,2,    11.60,2,  -999.00,9,     9.44,2,     0.09,2,     0.63,2, -999.000,9, -999.000,9,  -999.00,9,   -999.0,9,   -999.0,9,-999.0000,9,   -999.0,  9,  -999.00,9,   -999.0,  -999.00,9,  -999.00,9,     0.04,2,     0.08,2,   -999.0,-999.0000, -999,9,  201,  14.9904,  25.6879,   -999.0,9
       RF00-04,  NONE,RF-1010,  1,     12,02-12821,2,20000424,2339, 35.9725, 144.0147, 5733,    252.3,  13.9660,  34.5531,2,   -999.0,9,-999.0000,9,    193.3,2,    15.15,2,  -999.00,9,    11.37,2,     0.02,2,     0.76,2, -999.000,9, -999.000,9,  -999.00,9,   -999.0,9,   -999.0,9,-999.0000,9,   -999.0,  9,  -999.00,9,   -999.0,  -999.00,9,  -999.00,9,     0.02,2,     0.06,2,   -999.0,-999.0000, -999,9,  250,  13.9296,  25.8564,   -999.0,9
       RF00-04,  NONE,RF-1010,  1,     11,02-12811,2,20000424,2337, 35.9725, 144.0147, 5733,    302.5,  12.2974,  34.4283,2,   -999.0,9,  34.4357,2,    167.9,2,    22.80,2,  -999.00,9,    16.32,2,     0.01,2,     1.11,2, -999.000,9, -999.000,9,  -999.00,9,   -999.0,9,   -999.0,9,-999.0000,9,   -999.0,  9,  -999.00,9,   -999.0,  -999.00,9,  -999.00,9,     0.01,2,     0.04,2,   -999.0,-999.0000, -999,9,  300,  12.2573,  26.0957,   -999.0,9
       RF00-04,  NONE,RF-1010,  1,     10,02-12820,2,20000424,2334, 35.9725, 144.0147, 5733,    403.9,   7.7281,  33.8789,2,   -999.0,9,  33.9674,4,    247.8,2,    21.92,2,  -999.00,9,    13.60,2,     0.02,2,     0.98,2, -999.000,9, -999.000,9,  -999.00,9,   -999.0,9,   -999.0,9,-999.0000,9,   -999.0,  9,  -999.00,9,   -999.0,  -999.00,9,  -999.00,9,  -999.00,9,  -999.00,9,   -999.0,-999.0000, -999,9,  401,   7.6881,  26.4389,   -999.0,9
       RF00-04,  NONE,RF-1010,  1,      9,02-12810,2,20000424,2331, 35.9725, 144.0147, 5733,    505.4,   4.5248,  33.6304,2,   -999.0,9,  33.7478,4,    216.8,2,    48.91,2,  -999.00,9,    24.76,2,     0.00,2,     1.84,2, -999.000,9, -999.000,9,  -999.00,9,   -999.0,9,   -999.0,9,-999.0000,9,   -999.0,  9,  -999.00,9,   -999.0,  -999.00,9,  -999.00,9,  -999.00,9,  -999.00,9,   -999.0,-999.0000, -999,9,  501,   4.4871,  26.6460,   -999.0,9
       RF00-04,  NONE,RF-1010,  1,      8,02-12819,2,20000424,2329, 35.9725, 144.0147, 5733,    607.3,   6.2179,  34.1673,2,   -999.0,9,  34.1699,2,    108.5,2,    70.16,2,  -999.00,9,    32.03,2,     0.00,2,     2.30,2, -999.000,9, -999.000,9,  -999.00,9,   -999.0,9,   -999.0,9,-999.0000,9,   -999.0,  9,  -999.00,9,   -999.0,  -999.00,9,  -999.00,9,  -999.00,9,  -999.00,9,   -999.0,-999.0000, -999,9,  602,   6.1637,  26.8738,   -999.0,9
       RF00-04,  NONE,RF-1010,  1,      7,02-12815,2,20000424,2326, 35.9725, 144.0147, 5733,    708.0,   4.3675,  34.0303,2,   -999.0,9,  34.0545,4,     85.2,2,    87.92,2,  -999.00,9,    36.76,2,     0.00,2,     2.68,2, -999.000,9, -999.000,9,  -999.00,9,   -999.0,9,   -999.0,9,-999.0000,9,   -999.0,  9,  -999.00,9,   -999.0,  -999.00,9,  -999.00,9,  -999.00,9,  -999.00,9,   -999.0,-999.0000, -999,9,  702,   4.3140,  26.9820,   -999.0,9
       RF00-04,  NONE,RF-1010,  1,      6,02-12818,2,20000424,2323, 35.9725, 144.0147, 5733,    808.1,   4.0181,  34.1342,2,   -999.0,9,  34.1391,2,     59.0,2,   102.43,2,  -999.00,9,    39.30,2,     0.00,2,     2.87,2, -999.000,9, -999.000,9,  -999.00,9,   -999.0,9,   -999.0,9,-999.0000,9,   -999.0,  9,  -999.00,9,   -999.0,  -999.00,9,  -999.00,9,  -999.00,9,  -999.00,9,   -999.0,-999.0000, -999,9,  801,   3.9586,  27.1017,   -999.0,9
       RF00-04,  NONE,RF-1010,  1,      5,02-12809,2,20000424,2320, 35.9725, 144.0147, 5733,    908.0,   3.7322,  34.2353,2,   -999.0,9,-999.0000,9,     46.1,2,   114.29,2,  -999.00,9,    40.47,2,     0.00,2,     2.95,2, -999.000,9, -999.000,9,  -999.00,9,   -999.0,9,   -999.0,9,-999.0000,9,   -999.0,  9,  -999.00,9,   -999.0,  -999.00,9,  -999.00,9,  -999.00,9,  -999.00,9,   -999.0,-999.0000, -999,9,  899,   3.6665,  27.2114,   -999.0,9
       RF00-04,  NONE,RF-1010,  1,      4,02-12817,2,20000424,2317, 35.9725, 144.0147, 5733,   1011.3,   3.4914,  34.3001,2,   -999.0,9,  34.2989,2,     43.5,2,   122.20,2,  -999.00,9,    40.92,2,     0.00,2,     2.98,2, -999.000,9, -999.000,9,  -999.00,9,   -999.0,9,   -999.0,9,-999.0000,9,   -999.0,  9,  -999.00,9,   -999.0,  -999.00,9,  -999.00,9,  -999.00,9,  -999.00,9,   -999.0,-999.0000, -999,9, 1001,   3.4191,  27.2872,   -999.0,9
       RF00-04,  NONE,RF-1010,  1,      3,02-12808,2,20000424,2312, 35.9725, 144.0147, 5733,   1214.5,   3.0429,  34.3902,2,   -999.0,9,  34.3962,2,     40.1,2,   134.48,2,  -999.00,9,    41.42,2,     0.00,2,     3.02,2, -999.000,9, -999.000,9,  -999.00,9,   -999.0,9,   -999.0,9,-999.0000,9,   -999.0,  9,  -999.00,9,   -999.0,  -999.00,9,  -999.00,9,  -999.00,9,  -999.00,9,   -999.0,-999.0000, -999,9, 1202,   2.9583,  27.4021,   -999.0,9
       RF00-04,  NONE,RF-1010,  1,      2,02-13589,2,20000424,2307, 35.9725, 144.0147, 5733,   1514.2,   2.5297,  34.4855,2,   -999.0,9,  34.4886,2,     43.2,2,   147.15,2,  -999.00,9,    41.81,2,     0.00,2,     3.02,2, -999.000,9, -999.000,9,  -999.00,9,   -999.0,9,   -999.0,9,-999.0000,9,   -999.0,  9,  -999.00,9,   -999.0,  -999.00,9,  -999.00,9,  -999.00,9,  -999.00,9,   -999.0,-999.0000, -999,9, 1498,   2.4264,  27.5247,   -999.0,9
       RF00-04,  NONE,RF-1010,  1,      1,02-12807,2,20000424,2258, 35.9725, 144.0147, 5733,   2027.2,   2.0056,  34.5876,2,   -999.0,9,  34.6184,4,     72.3,2,   153.88,2,  -999.00,9,    40.25,2,     0.00,2,     2.88,2, -999.000,9, -999.000,9,  -999.00,9,   -999.0,9,   -999.0,9,-999.0000,9,   -999.0,  9,  -999.00,9,   -999.0,  -999.00,9,  -999.00,9,  -999.00,9,  -999.00,9,   2020.1,-999.0000, -999,9, 2003,   1.8670,  27.6517,   -999.0,9