BOTTLE,20130510GEMDJMAYT
EXPOCODE,SECT_ID,STNNBR,CASTNO,SAMPNO,BTLNBR,BTLNBR_FLAG_W,DATE,TIME,LATITUDE,LONGITUDE,DEPTH,CTDPRS,CTDTMP,CTDSAL,CTDSAL_FLAG_W,CTDOXY,CTDOXY_FLAG_W,SALNTY,SALNTY_FLAG_W,OXYGEN,OXYGEN_FLAG_W,SILCAT,SILCAT_FLAG_W,NITRAT,NITRAT_FLAG_W,NO2+NO3,NO2+NO3_FLAG_W,NITRIT,NITRIT_FLAG_W,PHSPHT,PHSPHT_FLAG_W,CFC-11,CFC-11_FLAG_W,CFC-12,CFC-12_FLAG_W,DELC13,DELC13_FLAG_W,TCARBN,TCARBN_FLAG_W,ALKALI,ALKALI_FLAG_W,PH,PH_FLAG_W,PH_TMP,PH_SCALE,PH_NBS,PH_NBS_FLAG_W,C13ERR,TOTALP,TOTALP_FLAG_W,AMMONI,AMMONI_FLAG_W,CHLORA,CHLORA_FLAG_W,PPHYTN,PPHYTN_FLAG_W,REVPRS,REVTMP,DEPTH_,DEPTH_FLAG,CTDDEP,THETA,SIGTHT,DOC,DOC_FLAG_W
,,,,,,,GMT,GMT,,,METER,DBAR,ITS-90,PSS-78,,UMOL/KG,,PSS-78,,UMOL/KG,,UMOL/KG,,UMOL/KG,,UMOL/KG,,UMOL/KG,,UMOL/KG,,PMOL/KG,,PMOL/KG,,/MILLE,,UMOL/KG,,UMOL/KG,,25_DEG_C,,DEG_C,,,,/MILLE,UMOL/KG,,UMOL/KG,,UG/L,,UG/L,,DBAR,ITS-90,METERS,,METERS,DEG_C,,UMOL/L,
       RF00-04,  NONE,RF-1028,  1,     -9,      -9,5,20000428,1819, 41.9808, 144.0043, 1174,      0.0,   7.2262,  33.7356,2,   -999.0,9,-999.0000,9,    309.2,4,    16.44,2,  -999.00,9,    10.74,2,     0.23,2,     0.90,2, -999.000,9, -999.000,9,  -999.00,9,   -999.0,9,   -999.0,9,-999.0000,9,   -999.0,  9,  -999.00,9,   -999.0,  -999.00,9,  -999.00,9,     1.53,2,     0.61,2,   -999.0,-999.0000, -999,9,    0,   7.2262,  26.3916,   -999.0,9
       RF00-04,  NONE,RF-1028,  1,     18,02-12830,2,20000428,1816, 41.9808, 144.0043, 1174,      9.2,   7.2296,  33.7369,2,   -999.0,9,-999.0000,9,    301.0,2,    16.47,2,  -999.00,9,    10.75,2,     0.23,2,     0.90,2, -999.000,9, -999.000,9,  -999.00,9,   -999.0,9,   -999.0,9,-999.0000,9,   -999.0,  9,  -999.00,9,   -999.0,  -999.00,9,  -999.00,9,     1.45,2,     0.73,2,   -999.0,-999.0000, -999,9,    9,   7.2287,  26.3923,   -999.0,9
       RF00-04,  NONE,RF-1028,  1,     17,02-13591,2,20000428,1815, 41.9808, 144.0043, 1174,     20.5,   7.2431,  33.7377,2,   -999.0,9,-999.0000,9,    301.2,2,    16.52,2,  -999.00,9,    10.78,2,     0.22,2,     0.91,2, -999.000,9, -999.000,9,  -999.00,9,   -999.0,9,   -999.0,9,-999.0000,9,   -999.0,  9,  -999.00,9,   -999.0,  -999.00,9,  -999.00,9,     1.54,2,     0.71,2,   -999.0,-999.0000, -999,9,   20,   7.2412,  26.3912,   -999.0,9
       RF00-04,  NONE,RF-1028,  1,     16,02-13588,2,20000428,1814, 41.9808, 144.0043, 1174,     30.6,   7.2474,  33.7374,2,   -999.0,9,-999.0000,9,    300.9,2,    16.56,2,  -999.00,9,    10.81,2,     0.22,2,     0.89,2, -999.000,9, -999.000,9,  -999.00,9,   -999.0,9,   -999.0,9,-999.0000,9,   -999.0,  9,  -999.00,9,   -999.0,  -999.00,9,  -999.00,9,     1.48,2,     0.66,2,   -999.0,-999.0000, -999,9,   30,   7.2445,  26.3905,   -999.0,9
       RF00-04,  NONE,RF-1028,  1,     15,02-10155,2,20000428,1813, 41.9808, 144.0043, 1174,     51.3,   7.2504,  33.7415,2,   -999.0,9,-999.0000,9,    300.9,2,    16.54,2,  -999.00,9,    10.86,2,     0.22,2,     0.89,2, -999.000,9, -999.000,9,  -999.00,9,   -999.0,9,   -999.0,9,-999.0000,9,   -999.0,  9,  -999.00,9,   -999.0,  -999.00,9,  -999.00,9,     1.55,2,     0.89,2,   -999.0,-999.0000, -999,9,   51,   7.2456,  26.3936,   -999.0,9
       RF00-04,  NONE,RF-1028,  1,     14,02-13579,2,20000428,1812, 41.9808, 144.0043, 1174,     77.0,   7.2568,  33.7424,2,   -999.0,9,-999.0000,9,    300.2,2,    16.72,2,  -999.00,9,    10.95,2,     0.22,2,     0.89,2, -999.000,9, -999.000,9,  -999.00,9,   -999.0,9,   -999.0,9,-999.0000,9,   -999.0,  9,  -999.00,9,   -999.0,  -999.00,9,  -999.00,9,     1.58,2,     0.78,2,   -999.0,-999.0000, -999,9,   76,   7.2497,  26.3937,   -999.0,9
       RF00-04,  NONE,RF-1028,  1,     13,02-13590,2,20000428,1810, 41.9808, 144.0043, 1174,    101.9,   5.8580,  33.6379,2,   -999.0,9,  33.6442,2,    298.5,2,    22.98,2,  -999.00,9,    13.56,2,     0.24,2,     1.09,2, -999.000,9, -999.000,9,  -999.00,9,   -999.0,9,   -999.0,9,-999.0000,9,   -999.0,  9,  -999.00,9,   -999.0,  -999.00,9,  -999.00,9,     0.24,2,     0.34,2,   -999.0,-999.0000, -999,9,  101,   5.8497,  26.4950,   -999.0,9
       RF00-04,  NONE,RF-1028,  1,     12,02-12821,2,20000428,1809, 41.9808, 144.0043, 1174,    125.2,   5.2814,  33.6002,2,   -999.0,9,-999.0000,9,    289.6,2,    28.97,2,  -999.00,9,    16.67,2,     0.26,2,     1.27,2, -999.000,9, -999.000,9,  -999.00,9,   -999.0,9,   -999.0,9,-999.0000,9,   -999.0,  9,  -999.00,9,   -999.0,  -999.00,9,  -999.00,9,     0.13,2,     0.27,2,   -999.0,-999.0000, -999,9,  124,   5.2717,  26.5343,   -999.0,9
       RF00-04,  NONE,RF-1028,  1,     11,02-12811,2,20000428,1808, 41.9808, 144.0043, 1174,    151.9,   4.7721,  33.5689,2,   -999.0,9,-999.0000,9,    277.8,2,    34.06,2,  -999.00,9,    19.00,2,     0.17,2,     1.41,2, -999.000,9, -999.000,9,  -999.00,9,   -999.0,9,   -999.0,9,-999.0000,9,   -999.0,  9,  -999.00,9,   -999.0,  -999.00,9,  -999.00,9,     0.11,2,     0.23,2,   -999.0,-999.0000, -999,9,  151,   4.7609,  26.5674,   -999.0,9
       RF00-04,  NONE,RF-1028,  1,     10,02-12820,2,20000428,1806, 41.9808, 144.0043, 1174,    201.1,   4.1658,  33.5628,2,   -999.0,9,  33.5653,2,    247.8,2,    42.23,2,  -999.00,9,    22.69,2,     0.01,2,     1.67,2, -999.000,9, -999.000,9,  -999.00,9,   -999.0,9,   -999.0,9,-999.0000,9,   -999.0,  9,  -999.00,9,   -999.0,  -999.00,9,  -999.00,9,     0.06,2,     0.21,2,   -999.0,-999.0000, -999,9,  199,   4.1519,  26.6275,   -999.0,9
       RF00-04,  NONE,RF-1028,  1,      9,02-12810,2,20000428,1805, 41.9808, 144.0043, 1174,    251.7,   4.0477,  33.6677,2,   -999.0,9,-999.0000,9,    188.2,2,    57.49,2,  -999.00,9,    28.62,2,     0.00,2,     2.08,2, -999.000,9, -999.000,9,  -999.00,9,   -999.0,9,   -999.0,9,-999.0000,9,   -999.0,  9,  -999.00,9,   -999.0,  -999.00,9,  -999.00,9,     0.04,2,     0.18,2,    250.4,-999.0000, -999,9,  250,   4.0304,  26.7233,   -999.0,9
       RF00-04,  NONE,RF-1028,  1,      8,02-12819,2,20000428,1803, 41.9808, 144.0043, 1174,    303.0,   3.9465,  33.7566,2,   -999.0,9,  33.7921,4,    152.7,2,    65.37,2,  -999.00,9,    31.28,2,     0.00,2,     2.25,2, -999.000,9, -999.000,9,  -999.00,9,   -999.0,9,   -999.0,9,-999.0000,9,   -999.0,  9,  -999.00,9,   -999.0,  -999.00,9,  -999.00,9,     0.04,2,     0.22,2,   -999.0,-999.0000, -999,9,  300,   3.9257,  26.8046,   -999.0,9
       RF00-04,  NONE,RF-1028,  1,      7,02-12815,2,20000428,1800, 41.9808, 144.0043, 1174,    404.0,   3.8341,  33.9189,2,   -999.0,9,  33.9127,2,     92.5,2,    86.20,2,  -999.00,9,    37.40,2,     0.00,2,     2.66,2, -999.000,9, -999.000,9,  -999.00,9,   -999.0,9,   -999.0,9,-999.0000,9,   -999.0,  9,  -999.00,9,   -999.0,  -999.00,9,  -999.00,9,  -999.00,9,  -999.00,9,   -999.0,-999.0000, -999,9,  400,   3.8063,  26.9457,   -999.0,9
       RF00-04,  NONE,RF-1028,  1,      6,02-12818,2,20000428,1758, 41.9808, 144.0043, 1174,    503.5,   3.8392,  34.0690,2,   -999.0,9,  34.0641,2,     60.7,2,    99.19,2,  -999.00,9,    40.01,2,     0.00,2,     2.83,2, -999.000,9, -999.000,9,  -999.00,9,   -999.0,9,   -999.0,9,-999.0000,9,   -999.0,  9,  -999.00,9,   -999.0,  -999.00,9,  -999.00,9,  -999.00,9,  -999.00,9,   -999.0,-999.0000, -999,9,  499,   3.8040,  27.0654,   -999.0,9
       RF00-04,  NONE,RF-1028,  1,      5,02-12809,2,20000428,1756, 41.9808, 144.0043, 1174,    605.2,   3.5496,  34.1181,2,   -999.0,9,  34.1148,2,     45.6,2,   109.20,2,  -999.00,9,    41.55,2,     0.00,2,     2.93,2, -999.000,9, -999.000,9,  -999.00,9,   -999.0,9,   -999.0,9,-999.0000,9,   -999.0,  9,  -999.00,9,   -999.0,  -999.00,9,  -999.00,9,  -999.00,9,  -999.00,9,   -999.0,-999.0000, -999,9,  600,   3.5081,  27.1336,   -999.0,9
       RF00-04,  NONE,RF-1028,  1,      4,02-12817,2,20000428,1753, 41.9808, 144.0043, 1174,    703.9,   3.6705,  34.2355,2,   -999.0,9,  34.2333,2,     43.0,2,   114.72,2,  -999.00,9,    41.37,2,     0.00,2,     2.92,2, -999.000,9, -999.000,9,  -999.00,9,   -999.0,9,   -999.0,9,-999.0000,9,   -999.0,  9,  -999.00,9,   -999.0,  -999.00,9,  -999.00,9,  -999.00,9,  -999.00,9,   -999.0,-999.0000, -999,9,  697,   3.6210,  27.2161,   -999.0,9
       RF00-04,  NONE,RF-1028,  1,      3,02-12808,2,20000428,1750, 41.9808, 144.0043, 1174,    805.1,   3.2467,  34.2774,2,   -999.0,9,  34.2748,2,     33.5,2,   125.06,2,  -999.00,9,    42.36,2,     0.00,2,     2.99,2, -999.000,9, -999.000,9,  -999.00,9,   -999.0,9,   -999.0,9,-999.0000,9,   -999.0,  9,  -999.00,9,   -999.0,  -999.00,9,  -999.00,9,  -999.00,9,  -999.00,9,   -999.0,-999.0000, -999,9,  797,   3.1920,  27.2906,   -999.0,9
       RF00-04,  NONE,RF-1028,  1,      2,02-13589,2,20000428,1748, 41.9808, 144.0043, 1174,    907.0,   2.9714,  34.3132,2,   -999.0,9,  34.3076,2,     30.6,2,   133.10,2,  -999.00,9,    42.87,2,     0.00,2,     3.04,2, -999.000,9, -999.000,9,  -999.00,9,   -999.0,9,   -999.0,9,-999.0000,9,   -999.0,  9,  -999.00,9,   -999.0,  -999.00,9,  -999.00,9,  -999.00,9,  -999.00,9,   -999.0,-999.0000, -999,9,  898,   2.9109,  27.3448,   -999.0,9
       RF00-04,  NONE,RF-1028,  1,      1,02-12807,2,20000428,1745, 41.9808, 144.0043, 1174,   1022.4,   2.8986,  34.3713,2,   -999.0,9,  34.3644,2,     33.1,2,   136.99,2,  -999.00,9,    42.52,2,     0.00,2,     3.01,2, -999.000,9, -999.000,9,  -999.00,9,   -999.0,9,   -999.0,9,-999.0000,9,   -999.0,  9,  -999.00,9,   -999.0,  -999.00,9,  -999.00,9,  -999.00,9,  -999.00,9,   1019.5,-999.0000, -999,9, 1012,   2.8300,  27.3985,   -999.0,9
       RF00-04,  NONE,RF-1030,  1,     -9,      -9,5,20000428,2255, 42.5007, 144.0002,  478,      0.0,   3.0320,  32.9215,2,   -999.0,9,-999.0000,9,    361.2,2,     7.15,2,  -999.00,9,     6.41,2,     0.17,2,     0.75,2, -999.000,9, -999.000,9,  -999.00,9,   -999.0,9,   -999.0,9,-999.0000,9,   -999.0,  9,  -999.00,9,   -999.0,  -999.00,9,  -999.00,9,     8.38,2,     1.43,2,   -999.0,-999.0000, -999,9,    0,   3.0320,  26.2233,   -999.0,9
       RF00-04,  NONE,RF-1030,  1,     18,02-12830,2,20000428,2253, 42.5007, 144.0002,  478,      9.9,   3.0625,  32.9261,2,   -999.0,9,-999.0000,9,    359.7,2,     6.35,2,  -999.00,9,     6.27,2,     0.17,2,     0.74,2, -999.000,9, -999.000,9,  -999.00,9,   -999.0,9,   -999.0,9,-999.0000,9,   -999.0,  9,  -999.00,9,   -999.0,  -999.00,9,  -999.00,9,     7.97,2,     2.71,2,   -999.0,-999.0000, -999,9,   10,   3.0620,  26.2243,   -999.0,9
       RF00-04,  NONE,RF-1030,  1,     17,02-13591,2,20000428,2253, 42.5007, 144.0002,  478,     10.3,   3.0615,  32.9257,2,   -999.0,9,-999.0000,9,   -999.0,9,  -999.00,9,  -999.00,9,  -999.00,9,  -999.00,9,  -999.00,9, -999.000,9, -999.000,9,  -999.00,9,   -999.0,9,   -999.0,9,-999.0000,9,   -999.0,  9,  -999.00,9,   -999.0,  -999.00,9,  -999.00,9,  -999.00,9,  -999.00,9,   -999.0,-999.0000, -999,9,   10,   3.0609,  26.2241,   -999.0,9
       RF00-04,  NONE,RF-1030,  1,     15,02-10155,2,20000428,2251, 42.5007, 144.0002,  478,     25.5,   3.0425,  32.9258,2,   -999.0,9,-999.0000,9,   -999.0,9,  -999.00,9,  -999.00,9,  -999.00,9,  -999.00,9,  -999.00,9, -999.000,9, -999.000,9,  -999.00,9,   -999.0,9,   -999.0,9,-999.0000,9,   -999.0,  9,  -999.00,9,   -999.0,  -999.00,9,  -999.00,9,  -999.00,9,  -999.00,9,   -999.0,-999.0000, -999,9,   25,   3.0411,  26.2259,   -999.0,9
       RF00-04,  NONE,RF-1030,  1,     16,02-13588,2,20000428,2251, 42.5007, 144.0002,  478,     25.5,   3.0878,  32.9271,2,   -999.0,9,-999.0000,9,    358.0,2,     6.35,2,  -999.00,9,     6.43,2,     0.18,2,     0.75,2, -999.000,9, -999.000,9,  -999.00,9,   -999.0,9,   -999.0,9,-999.0000,9,   -999.0,  9,  -999.00,9,   -999.0,  -999.00,9,  -999.00,9,     9.11,2,     2.48,2,   -999.0,-999.0000, -999,9,   25,   3.0863,  26.2230,   -999.0,9
       RF00-04,  NONE,RF-1030,  1,     14,02-13579,2,20000428,2250, 42.5007, 144.0002,  478,     50.8,   3.3939,  32.9841,2,   -999.0,9,-999.0000,9,    352.7,2,     7.15,2,  -999.00,9,     6.95,2,     0.18,2,     0.78,2, -999.000,9, -999.000,9,  -999.00,9,   -999.0,9,   -999.0,9,-999.0000,9,   -999.0,  9,  -999.00,9,   -999.0,  -999.00,9,  -999.00,9,     7.15,2,     2.52,2,   -999.0,-999.0000, -999,9,   50,   3.3908,  26.2410,   -999.0,9
       RF00-04,  NONE,RF-1030,  1,     13,02-13590,2,20000428,2249, 42.5007, 144.0002,  478,     50.9,   3.3899,  32.9838,2,   -999.0,9,-999.0000,9,   -999.0,9,  -999.00,9,  -999.00,9,  -999.00,9,  -999.00,9,  -999.00,9, -999.000,9, -999.000,9,  -999.00,9,   -999.0,9,   -999.0,9,-999.0000,9,   -999.0,  9,  -999.00,9,   -999.0,  -999.00,9,  -999.00,9,  -999.00,9,  -999.00,9,   -999.0,-999.0000, -999,9,   51,   3.3868,  26.2412,   -999.0,9
       RF00-04,  NONE,RF-1030,  1,     12,02-12821,2,20000428,2248, 42.5007, 144.0002,  478,     76.1,   3.2724,  33.0982,2,   -999.0,9,-999.0000,9,    338.0,2,    13.53,2,  -999.00,9,    10.02,2,     0.19,2,     1.03,2, -999.000,9, -999.000,9,  -999.00,9,   -999.0,9,   -999.0,9,-999.0000,9,   -999.0,  9,  -999.00,9,   -999.0,  -999.00,9,  -999.00,9,     2.11,2,     1.25,2,   -999.0,-999.0000, -999,9,   75,   3.2678,  26.3432,   -999.0,9
       RF00-04,  NONE,RF-1030,  1,     11,02-12811,2,20000428,2247, 42.5007, 144.0002,  478,     76.6,   3.3219,  33.1049,2,   -999.0,9,-999.0000,9,   -999.0,9,  -999.00,9,  -999.00,9,  -999.00,9,  -999.00,9,  -999.00,9, -999.000,9, -999.000,9,  -999.00,9,   -999.0,9,   -999.0,9,-999.0000,9,   -999.0,  9,  -999.00,9,   -999.0,  -999.00,9,  -999.00,9,  -999.00,9,  -999.00,9,   -999.0,-999.0000, -999,9,   76,   3.3173,  26.3441,   -999.0,9
       RF00-04,  NONE,RF-1030,  1,     10,02-12820,2,20000428,2246, 42.5007, 144.0002,  478,    101.3,   3.5084,  33.2919,2,   -999.0,9,-999.0000,9,    312.3,2,    26.03,2,  -999.00,9,    14.77,2,     0.21,2,     1.27,2, -999.000,9, -999.000,9,  -999.00,9,   -999.0,9,   -999.0,9,-999.0000,9,   -999.0,  9,  -999.00,9,   -999.0,  -999.00,9,  -999.00,9,     0.49,2,     0.67,2,   -999.0,-999.0000, -999,9,  101,   3.5020,  26.4759,   -999.0,9
       RF00-04,  NONE,RF-1030,  1,      9,02-12810,2,20000428,2245, 42.5007, 144.0002,  478,    101.7,   3.5404,  33.3042,2,   -999.0,9,-999.0000,9,   -999.0,9,  -999.00,9,  -999.00,9,  -999.00,9,  -999.00,9,  -999.00,9, -999.000,9, -999.000,9,  -999.00,9,   -999.0,9,   -999.0,9,-999.0000,9,   -999.0,  9,  -999.00,9,   -999.0,  -999.00,9,  -999.00,9,  -999.00,9,  -999.00,9,     99.5,-999.0000, -999,9,  101,   3.5340,  26.4827,   -999.0,9
       RF00-04,  NONE,RF-1030,  1,      7,02-12815,2,20000428,2243, 42.5007, 144.0002,  478,    151.8,   4.8755,  33.4973,2,   -999.0,9,-999.0000,9,   -999.0,9,  -999.00,9,  -999.00,9,  -999.00,9,  -999.00,9,  -999.00,9, -999.000,9, -999.000,9,  -999.00,9,   -999.0,9,   -999.0,9,-999.0000,9,   -999.0,  9,  -999.00,9,   -999.0,  -999.00,9,  -999.00,9,  -999.00,9,  -999.00,9,   -999.0,-999.0000, -999,9,  151,   4.8642,  26.4992,   -999.0,9
       RF00-04,  NONE,RF-1030,  1,      8,02-12819,2,20000428,2243, 42.5007, 144.0002,  478,    151.9,   4.7967,  33.5090,2,   -999.0,9,-999.0000,9,    300.7,2,    26.52,2,  -999.00,9,    15.37,2,     0.23,2,     1.23,2, -999.000,9, -999.000,9,  -999.00,9,   -999.0,9,   -999.0,9,-999.0000,9,   -999.0,  9,  -999.00,9,   -999.0,  -999.00,9,  -999.00,9,     0.21,2,     0.49,2,   -999.0,-999.0000, -999,9,  151,   4.7855,  26.5172,   -999.0,9
       RF00-04,  NONE,RF-1030,  1,      6,02-12818,2,20000428,2241, 42.5007, 144.0002,  478,    202.2,   4.6116,  33.5187,2,   -999.0,9,-999.0000,9,    296.3,2,    29.20,2,  -999.00,9,    16.94,2,     0.22,2,     1.31,2, -999.000,9, -999.000,9,  -999.00,9,   -999.0,9,   -999.0,9,-999.0000,9,   -999.0,  9,  -999.00,9,   -999.0,  -999.00,9,  -999.00,9,     0.11,2,     0.27,2,   -999.0,-999.0000, -999,9,  200,   4.5969,  26.5455,   -999.0,9
       RF00-04,  NONE,RF-1030,  1,      5,02-12809,2,20000428,2240, 42.5007, 144.0002,  478,    202.6,   4.6168,  33.5179,2,   -999.0,9,-999.0000,9,   -999.0,9,  -999.00,9,  -999.00,9,  -999.00,9,  -999.00,9,  -999.00,9, -999.000,9, -999.000,9,  -999.00,9,   -999.0,9,   -999.0,9,-999.0000,9,   -999.0,  9,  -999.00,9,   -999.0,  -999.00,9,  -999.00,9,  -999.00,9,  -999.00,9,   -999.0,-999.0000, -999,9,  201,   4.6020,  26.5443,   -999.0,9
       RF00-04,  NONE,RF-1030,  1,      3,02-12808,2,20000428,2237, 42.5007, 144.0002,  478,    303.0,   2.9493,  33.4801,2,   -999.0,9,-999.0000,9,   -999.0,9,  -999.00,9,  -999.00,9,  -999.00,9,  -999.00,9,  -999.00,9, -999.000,9, -999.000,9,  -999.00,9,   -999.0,9,   -999.0,9,-999.0000,9,   -999.0,  9,  -999.00,9,   -999.0,  -999.00,9,  -999.00,9,  -999.00,9,  -999.00,9,   -999.0,-999.0000, -999,9,  300,   2.9311,  26.6779,   -999.0,9
       RF00-04,  NONE,RF-1030,  1,      4,02-12817,2,20000428,2237, 42.5007, 144.0002,  478,    303.2,   2.9518,  33.4783,2,   -999.0,9,-999.0000,9,    222.9,2,    56.12,2,  -999.00,9,    27.50,2,     0.03,2,     2.06,2, -999.000,9, -999.000,9,  -999.00,9,   -999.0,9,   -999.0,9,-999.0000,9,   -999.0,  9,  -999.00,9,   -999.0,  -999.00,9,  -999.00,9,     0.06,2,     0.28,2,   -999.0,-999.0000, -999,9,  301,   2.9335,  26.6763,   -999.0,9
       RF00-04,  NONE,RF-1030,  1,      1,02-12807,2,20000428,2233, 42.5007, 144.0002,  478,    407.4,   2.7993,  33.5970,2,   -999.0,9,-999.0000,9,   -999.0,9,  -999.00,9,  -999.00,9,  -999.00,9,  -999.00,9,  -999.00,9, -999.000,9, -999.000,9,  -999.00,9,   -999.0,9,   -999.0,9,-999.0000,9,   -999.0,  9,  -999.00,9,   -999.0,  -999.00,9,  -999.00,9,  -999.00,9,  -999.00,9,    405.2,-999.0000, -999,9,  404,   2.7748,  26.7849,   -999.0,9
       RF00-04,  NONE,RF-1030,  1,      2,02-13589,2,20000428,2234, 42.5007, 144.0002,  478,    407.7,   2.8021,  33.5986,2,   -999.0,9,-999.0000,9,    166.8,2,    71.99,2,  -999.00,9,    33.12,2,     0.00,2,     2.43,2, -999.000,9, -999.000,9,  -999.00,9,   -999.0,9,   -999.0,9,-999.0000,9,   -999.0,  9,  -999.00,9,   -999.0,  -999.00,9,  -999.00,9,  -999.00,9,  -999.00,9,   -999.0,-999.0000, -999,9,  404,   2.7776,  26.7859,   -999.0,9