BOTTLE,20130510GEMDJMAYT
EXPOCODE,SECT_ID,STNNBR,CASTNO,SAMPNO,BTLNBR,BTLNBR_FLAG_W,DATE,TIME,LATITUDE,LONGITUDE,DEPTH,CTDPRS,CTDTMP,CTDSAL,CTDSAL_FLAG_W,CTDOXY,CTDOXY_FLAG_W,SALNTY,SALNTY_FLAG_W,OXYGEN,OXYGEN_FLAG_W,SILCAT,SILCAT_FLAG_W,NITRAT,NITRAT_FLAG_W,NO2+NO3,NO2+NO3_FLAG_W,NITRIT,NITRIT_FLAG_W,PHSPHT,PHSPHT_FLAG_W,CFC-11,CFC-11_FLAG_W,CFC-12,CFC-12_FLAG_W,DELC13,DELC13_FLAG_W,TCARBN,TCARBN_FLAG_W,ALKALI,ALKALI_FLAG_W,PH,PH_FLAG_W,PH_TMP,PH_SCALE,PH_NBS,PH_NBS_FLAG_W,C13ERR,TOTALP,TOTALP_FLAG_W,AMMONI,AMMONI_FLAG_W,CHLORA,CHLORA_FLAG_W,PPHYTN,PPHYTN_FLAG_W,REVPRS,REVTMP,DEPTH_,DEPTH_FLAG,CTDDEP,THETA,SIGTHT,DOC,DOC_FLAG_W
,,,,,,,GMT,GMT,,,METER,DBAR,ITS-90,PSS-78,,UMOL/KG,,PSS-78,,UMOL/KG,,UMOL/KG,,UMOL/KG,,UMOL/KG,,UMOL/KG,,UMOL/KG,,PMOL/KG,,PMOL/KG,,/MILLE,,UMOL/KG,,UMOL/KG,,25_DEG_C,,DEG_C,,,,/MILLE,UMOL/KG,,UMOL/KG,,UG/L,,UG/L,,DBAR,ITS-90,METERS,,METERS,DEG_C,,UMOL/L,
       RF00-04,  NONE,RF-1004,  1,     -9,      -9,5,20000424,0502, 33.9883, 143.9823, 5448,      0.0,  17.5265,  34.7224,2,   -999.0,9,-999.0000,9,    251.7,2,  -999.00,4,  -999.00,9,     1.50,2,     0.10,2,     0.16,2, -999.000,9, -999.000,9,  -999.00,9,   -999.0,9,   -999.0,9,-999.0000,9,   -999.0,  9,  -999.00,9,   -999.0,  -999.00,9,  -999.00,9,     2.46,2,     0.62,2,   -999.0,-999.0000, -999,9,    0,  17.5265,  25.1750,   -999.0,9
       RF00-04,  NONE,RF-1004,  1,     21,02-12827,2,20000424,0459, 33.9883, 143.9823, 5448,     10.3,  17.3575,  34.7100,2,   -999.0,9,-999.0000,9,    250.8,2,  -999.00,4,  -999.00,9,     1.64,2,     0.11,2,     0.16,2, -999.000,9, -999.000,9,  -999.00,9,   -999.0,9,   -999.0,9,-999.0000,9,   -999.0,  9,  -999.00,9,   -999.0,  -999.00,9,  -999.00,9,     2.44,2,     0.68,2,   -999.0,-999.0000, -999,9,   10,  17.3558,  25.2066,   -999.0,9
       RF00-04,  NONE,RF-1004,  1,     20,02-12826,2,20000424,0458, 33.9883, 143.9823, 5448,     20.0,  17.0088,  34.7190,2,   -999.0,9,-999.0000,9,    249.0,2,  -999.00,4,  -999.00,9,     1.80,2,     0.12,2,     0.18,2, -999.000,9, -999.000,9,  -999.00,9,   -999.0,9,   -999.0,9,-999.0000,9,   -999.0,  9,  -999.00,9,   -999.0,  -999.00,9,  -999.00,9,     2.71,2,     1.03,2,   -999.0,-999.0000, -999,9,   20,  17.0055,  25.2973,   -999.0,9
       RF00-04,  NONE,RF-1004,  1,     19,02-12825,2,20000424,0457, 33.9883, 143.9823, 5448,     30.8,  16.8530,  34.7098,2,   -999.0,9,-999.0000,9,    246.4,2,  -999.00,4,  -999.00,9,     2.03,2,     0.13,2,     0.17,2, -999.000,9, -999.000,9,  -999.00,9,   -999.0,9,   -999.0,9,-999.0000,9,   -999.0,  9,  -999.00,9,   -999.0,  -999.00,9,  -999.00,9,     2.41,2,     0.79,2,   -999.0,-999.0000, -999,9,   31,  16.8479,  25.3275,   -999.0,9
       RF00-04,  NONE,RF-1004,  1,     18,02-12830,2,20000424,0456, 33.9883, 143.9823, 5448,     50.0,  16.1004,  34.6966,2,   -999.0,9,-999.0000,9,    242.0,2,  -999.00,4,  -999.00,9,     2.91,2,     0.25,2,     0.22,2, -999.000,9, -999.000,9,  -999.00,9,   -999.0,9,   -999.0,9,-999.0000,9,   -999.0,  9,  -999.00,9,   -999.0,  -999.00,9,  -999.00,9,     0.72,2,     0.43,2,   -999.0,-999.0000, -999,9,   50,  16.0925,  25.4931,   -999.0,9
       RF00-04,  NONE,RF-1004,  1,     17,02-13591,2,20000424,0455, 33.9883, 143.9823, 5448,     75.9,  15.5866,  34.6404,2,   -999.0,9,-999.0000,9,    243.7,2,  -999.00,4,  -999.00,9,     3.43,2,     0.27,2,     0.26,2, -999.000,9, -999.000,9,  -999.00,9,   -999.0,9,   -999.0,9,-999.0000,9,   -999.0,  9,  -999.00,9,   -999.0,  -999.00,9,  -999.00,9,     0.29,2,     0.27,2,   -999.0,-999.0000, -999,9,   75,  15.5749,  25.5672,   -999.0,9
       RF00-04,  NONE,RF-1004,  1,     16,02-13588,2,20000424,0454, 33.9883, 143.9823, 5448,    101.1,  15.2809,  34.6445,2,   -999.0,9,  34.6550,2,    234.7,2,  -999.00,4,  -999.00,9,     5.25,2,     0.48,2,     0.36,2, -999.000,9, -999.000,9,  -999.00,9,   -999.0,9,   -999.0,9,-999.0000,9,   -999.0,  9,  -999.00,9,   -999.0,  -999.00,9,  -999.00,9,     0.16,2,     0.14,2,   -999.0,-999.0000, -999,9,  100,  15.2655,  25.6393,   -999.0,9
       RF00-04,  NONE,RF-1004,  1,     15,02-10155,2,20000424,0452, 33.9883, 143.9823, 5448,    126.1,  14.9169,  34.6300,2,   -999.0,9,-999.0000,9,    231.4,2,  -999.00,4,  -999.00,9,     6.25,2,     0.13,2,     0.41,2, -999.000,9, -999.000,9,  -999.00,9,   -999.0,9,   -999.0,9,-999.0000,9,   -999.0,  9,  -999.00,9,   -999.0,  -999.00,9,  -999.00,9,     0.11,2,     0.13,2,   -999.0,-999.0000, -999,9,  125,  14.8979,  25.7090,   -999.0,9
       RF00-04,  NONE,RF-1004,  1,     14,02-13579,2,20000424,0451, 33.9883, 143.9823, 5448,    152.0,  14.6539,  34.6087,2,   -999.0,9,-999.0000,9,    229.7,2,  -999.00,4,  -999.00,9,     6.72,2,     0.03,2,     0.44,2, -999.000,9, -999.000,9,  -999.00,9,   -999.0,9,   -999.0,9,-999.0000,9,   -999.0,  9,  -999.00,9,   -999.0,  -999.00,9,  -999.00,9,     0.06,2,     0.10,2,   -999.0,-999.0000, -999,9,  151,  14.6314,  25.7503,   -999.0,9
       RF00-04,  NONE,RF-1004,  1,     13,02-13590,2,20000424,0449, 33.9883, 143.9823, 5448,    201.4,  13.6616,  34.4101,2,   -999.0,9,  34.5674,4,    199.3,2,  -999.00,4,  -999.00,9,    11.26,2,     0.02,2,     0.75,2, -999.000,9, -999.000,9,  -999.00,9,   -999.0,9,   -999.0,9,-999.0000,9,   -999.0,  9,  -999.00,9,   -999.0,  -999.00,9,  -999.00,9,     0.02,2,     0.09,2,   -999.0,-999.0000, -999,9,  200,  13.6331,  25.8074,   -999.0,9
       RF00-04,  NONE,RF-1004,  1,     12,02-12821,2,20000424,0447, 33.9883, 143.9823, 5448,    251.9,  12.0839,  34.3957,2,   -999.0,9,-999.0000,9,    179.3,2,  -999.00,4,  -999.00,9,    15.36,2,     0.05,2,     1.04,2, -999.000,9, -999.000,9,  -999.00,9,   -999.0,9,   -999.0,9,-999.0000,9,   -999.0,  9,  -999.00,9,   -999.0,  -999.00,9,  -999.00,9,     0.02,2,     0.07,2,   -999.0,-999.0000, -999,9,  250,  12.0510,  26.1100,   -999.0,9
       RF00-04,  NONE,RF-1004,  1,     11,02-12811,2,20000424,0446, 33.9883, 143.9823, 5448,    301.0,  10.4829,  34.3134,2,   -999.0,9,  34.3363,4,    161.4,2,  -999.00,4,  -999.00,9,    20.05,2,     0.04,2,     1.38,2, -999.000,9, -999.000,9,  -999.00,9,   -999.0,9,   -999.0,9,-999.0000,9,   -999.0,  9,  -999.00,9,   -999.0,  -999.00,9,  -999.00,9,     0.02,2,     0.08,2,   -999.0,-999.0000, -999,9,  299,  10.4471,  26.3388,   -999.0,9
       RF00-04,  NONE,RF-1004,  1,     10,02-12820,2,20000424,0443, 33.9883, 143.9823, 5448,    402.7,   8.1251,  34.1205,2,   -999.0,9,  34.1418,4,    168.9,2,  -999.00,4,  -999.00,9,    23.10,2,     0.03,2,     1.66,2, -999.000,9, -999.000,9,  -999.00,9,   -999.0,9,   -999.0,9,-999.0000,9,   -999.0,  9,  -999.00,9,   -999.0,  -999.00,9,  -999.00,9,  -999.00,9,  -999.00,9,   -999.0,-999.0000, -999,9,  399,   8.0839,  26.5706,   -999.0,9
       RF00-04,  NONE,RF-1004,  1,      9,02-12810,2,20000424,0440, 33.9883, 143.9823, 5448,    502.5,   6.4825,  34.1639,2,   -999.0,9,  34.1546,4,    119.7,2,  -999.00,4,  -999.00,9,    30.37,2,     0.00,2,     2.18,2, -999.000,9, -999.000,9,  -999.00,9,   -999.0,9,   -999.0,9,-999.0000,9,   -999.0,  9,  -999.00,9,   -999.0,  -999.00,9,  -999.00,9,  -999.00,9,  -999.00,9,   -999.0,-999.0000, -999,9,  498,   6.4370,  26.8358,   -999.0,9
       RF00-04,  NONE,RF-1004,  1,      8,02-12819,2,20000424,0438, 33.9883, 143.9823, 5448,    604.9,   5.2368,  34.1703,2,   -999.0,9,  34.1954,4,     87.1,2,  -999.00,4,  -999.00,9,    35.02,2,     0.00,2,     2.52,2, -999.000,9, -999.000,9,  -999.00,9,   -999.0,9,   -999.0,9,-999.0000,9,   -999.0,  9,  -999.00,9,   -999.0,  -999.00,9,  -999.00,9,  -999.00,9,  -999.00,9,   -999.0,-999.0000, -999,9,  600,   5.1873,  26.9958,   -999.0,9
       RF00-04,  NONE,RF-1004,  1,      7,02-12815,2,20000424,0435, 33.9883, 143.9823, 5448,    705.2,   4.8558,  34.2960,2,   -999.0,9,  34.3594,4,     75.1,2,  -999.00,4,  -999.00,9,    36.59,2,     0.00,2,     2.63,2, -999.000,9, -999.000,9,  -999.00,9,   -999.0,9,   -999.0,9,-999.0000,9,   -999.0,  9,  -999.00,9,   -999.0,  -999.00,9,  -999.00,9,  -999.00,9,  -999.00,9,   -999.0,-999.0000, -999,9,  699,   4.7996,  27.1399,   -999.0,9
       RF00-04,  NONE,RF-1004,  1,      6,02-12818,2,20000424,0433, 33.9883, 143.9823, 5448,    806.9,   3.9309,  34.2679,2,   -999.0,9,  34.2818,4,     52.8,2,  -999.00,4,  -999.00,9,    39.73,2,     0.00,2,     2.88,2, -999.000,9, -999.000,9,  -999.00,9,   -999.0,9,   -999.0,9,-999.0000,9,   -999.0,  9,  -999.00,9,   -999.0,  -999.00,9,  -999.00,9,  -999.00,9,  -999.00,9,   -999.0,-999.0000, -999,9,  800,   3.8718,  27.2169,   -999.0,9
       RF00-04,  NONE,RF-1004,  1,      5,02-12809,2,20000424,0430, 33.9883, 143.9823, 5448,    906.8,   3.5887,  34.3232,2,   -999.0,9,-999.0000,9,     47.6,2,  -999.00,4,  -999.00,9,    40.28,2,     0.00,2,     2.93,2, -999.000,9, -999.000,9,  -999.00,9,   -999.0,9,   -999.0,9,-999.0000,9,   -999.0,  9,  -999.00,9,   -999.0,  -999.00,9,  -999.00,9,  -999.00,9,  -999.00,9,   -999.0,-999.0000, -999,9,  898,   3.5239,  27.2955,   -999.0,9
       RF00-04,  NONE,RF-1004,  1,      4,02-12817,2,20000424,0427, 33.9883, 143.9823, 5448,   1009.3,   3.2678,  34.3776,2,   -999.0,9,  34.3834,2,     48.7,2,  -999.00,4,  -999.00,9,    40.75,2,     0.00,2,     2.95,2, -999.000,9, -999.000,9,  -999.00,9,   -999.0,9,   -999.0,9,-999.0000,9,   -999.0,  9,  -999.00,9,   -999.0,  -999.00,9,  -999.00,9,  -999.00,9,  -999.00,9,   -999.0,-999.0000, -999,9, 1000,   3.1973,  27.3700,   -999.0,9
       RF00-04,  NONE,RF-1004,  1,      3,02-12808,2,20000424,0423, 33.9883, 143.9823, 5448,   1211.8,   2.8354,  34.4450,2,   -999.0,9,  34.5903,4,     53.6,2,  -999.00,4,  -999.00,9,    41.39,2,     0.00,2,     3.00,2, -999.000,9, -999.000,9,  -999.00,9,   -999.0,9,   -999.0,9,-999.0000,9,   -999.0,  9,  -999.00,9,   -999.0,  -999.00,9,  -999.00,9,  -999.00,9,  -999.00,9,   -999.0,-999.0000, -999,9, 1200,   2.7527,  27.4642,   -999.0,9
       RF00-04,  NONE,RF-1004,  1,      2,02-13589,2,20000424,0416, 33.9883, 143.9823, 5448,   1515.9,   2.3490,  34.5238,2,   -999.0,9,  34.7038,4,     55.9,2,  -999.00,4,  -999.00,9,    41.01,2,     0.00,2,     3.01,2, -999.000,9, -999.000,9,  -999.00,9,   -999.0,9,   -999.0,9,-999.0000,9,   -999.0,  9,  -999.00,9,   -999.0,  -999.00,9,  -999.00,9,  -999.00,9,  -999.00,9,   -999.0,-999.0000, -999,9, 1500,   2.2475,  27.5702,   -999.0,9
       RF00-04,  NONE,RF-1004,  1,      1,02-12807,2,20000424,0406, 33.9883, 143.9823, 5448,   2037.8,   1.8725,  34.6083,2,   -999.0,9,  34.6072,2,     82.3,2,  -999.00,4,  -999.00,9,    39.82,2,     0.00,2,     2.83,2, -999.000,9, -999.000,9,  -999.00,9,   -999.0,9,   -999.0,9,-999.0000,9,   -999.0,  9,  -999.00,9,   -999.0,  -999.00,9,  -999.00,9,  -999.00,9,  -999.00,9,   2031.2,-999.0000, -999,9, 2013,   1.7349,  27.6784,   -999.0,9