BOTTLE,20130510GEMDJMAYT
EXPOCODE,SECT_ID,STNNBR,CASTNO,SAMPNO,BTLNBR,BTLNBR_FLAG_W,DATE,TIME,LATITUDE,LONGITUDE,DEPTH,CTDPRS,CTDTMP,CTDSAL,CTDSAL_FLAG_W,CTDOXY,CTDOXY_FLAG_W,SALNTY,SALNTY_FLAG_W,OXYGEN,OXYGEN_FLAG_W,SILCAT,SILCAT_FLAG_W,NITRAT,NITRAT_FLAG_W,NO2+NO3,NO2+NO3_FLAG_W,NITRIT,NITRIT_FLAG_W,PHSPHT,PHSPHT_FLAG_W,CFC-11,CFC-11_FLAG_W,CFC-12,CFC-12_FLAG_W,DELC13,DELC13_FLAG_W,TCARBN,TCARBN_FLAG_W,ALKALI,ALKALI_FLAG_W,PH,PH_FLAG_W,PH_TMP,PH_SCALE,PH_NBS,PH_NBS_FLAG_W,C13ERR,TOTALP,TOTALP_FLAG_W,AMMONI,AMMONI_FLAG_W,CHLORA,CHLORA_FLAG_W,PPHYTN,PPHYTN_FLAG_W,REVPRS,REVTMP,DEPTH_,DEPTH_FLAG,CTDDEP,THETA,SIGTHT,DOC,DOC_FLAG_W
,,,,,,,GMT,GMT,,,METER,DBAR,ITS-90,PSS-78,,UMOL/KG,,PSS-78,,UMOL/KG,,UMOL/KG,,UMOL/KG,,UMOL/KG,,UMOL/KG,,UMOL/KG,,PMOL/KG,,PMOL/KG,,/MILLE,,UMOL/KG,,UMOL/KG,,25_DEG_C,,DEG_C,,,,/MILLE,UMOL/KG,,UMOL/KG,,UG/L,,UG/L,,DBAR,ITS-90,METERS,,METERS,DEG_C,,UMOL/L,
       RF00-04,  142E,RF-0998,  1,     -9,      -9,5,20000422,1547, 33.5177, 141.5050, 5990,      0.0,  18.8971,  34.7775,2,   -999.0,9,-999.0000,9,    232.4,2,     2.60,2,  -999.00,9,     0.52,2,     0.08,2,     0.08,2, -999.000,9, -999.000,9,  -999.00,9,   -999.0,9,   -999.0,9,-999.0000,9,   -999.0,  9,  -999.00,9,   -999.0,  -999.00,9,  -999.00,9,     0.45,2,     0.23,2,   -999.0,-999.0000, -999,9,    0,  18.8971,  24.8773,   -999.0,9
       RF00-04,  142E,RF-0998,  1,     22,02-12828,2,20000422,1545, 33.5177, 141.5050, 5990,      8.7,  18.9041,  34.7773,2,   -999.0,9,-999.0000,9,    228.2,2,     2.52,2,  -999.00,9,     0.18,2,     0.07,2,     0.06,2, -999.000,9, -999.000,9,  -999.00,9,   -999.0,9,   -999.0,9,-999.0000,9,   -999.0,  9,  -999.00,9,   -999.0,  -999.00,9,  -999.00,9,     0.44,2,     0.25,2,   -999.0,-999.0000, -999,9,    9,  18.9026,  24.8757,   -999.0,9
       RF00-04,  142E,RF-0998,  1,     21,02-12827,2,20000422,1544, 33.5177, 141.5050, 5990,     25.0,  18.8907,  34.7713,2,   -999.0,9,-999.0000,9,    229.4,2,     2.43,2,  -999.00,9,     0.22,2,     0.07,2,     0.06,2, -999.000,9, -999.000,9,  -999.00,9,   -999.0,9,   -999.0,9,-999.0000,9,   -999.0,  9,  -999.00,9,   -999.0,  -999.00,9,  -999.00,9,     0.49,2,     0.24,2,   -999.0,-999.0000, -999,9,   25,  18.8863,  24.8753,   -999.0,9
       RF00-04,  142E,RF-0998,  1,     20,02-12826,2,20000422,1542, 33.5177, 141.5050, 5990,     50.4,  18.7768,  34.7713,2,   -999.0,9,-999.0000,9,    232.4,2,     2.34,2,  -999.00,9,     0.13,2,     0.09,2,     0.05,2, -999.000,9, -999.000,9,  -999.00,9,   -999.0,9,   -999.0,9,-999.0000,9,   -999.0,  9,  -999.00,9,   -999.0,  -999.00,9,  -999.00,9,     0.51,2,     0.29,2,   -999.0,-999.0000, -999,9,   50,  18.7680,  24.9053,   -999.0,9
       RF00-04,  142E,RF-0998,  1,     19,02-12825,2,20000422,1540, 33.5177, 141.5050, 5990,     75.0,  18.7489,  34.7686,2,   -999.0,9,-999.0000,9,    233.9,2,     2.40,2,  -999.00,9,     0.14,2,     0.09,2,     0.05,2, -999.000,9, -999.000,9,  -999.00,9,   -999.0,9,   -999.0,9,-999.0000,9,   -999.0,  9,  -999.00,9,   -999.0,  -999.00,9,  -999.00,9,     0.48,2,     0.24,2,   -999.0,-999.0000, -999,9,   74,  18.7357,  24.9113,   -999.0,9
       RF00-04,  142E,RF-0998,  1,     18,02-12830,2,20000422,1539, 33.5177, 141.5050, 5990,     99.4,  18.7372,  34.7661,2,   -999.0,9,  34.7782,4,    231.7,2,     2.22,2,  -999.00,9,     0.23,2,     0.09,2,     0.05,2, -999.000,9, -999.000,9,  -999.00,9,   -999.0,9,   -999.0,9,-999.0000,9,   -999.0,  9,  -999.00,9,   -999.0,  -999.00,9,  -999.00,9,     0.43,2,     0.24,2,   -999.0,-999.0000, -999,9,   99,  18.7197,  24.9135,   -999.0,9
       RF00-04,  142E,RF-0998,  1,     17,02-13591,2,20000422,1538, 33.5177, 141.5050, 5990,    125.7,  18.6061,  34.7967,2,   -999.0,9,-999.0000,9,    225.1,2,     2.57,2,  -999.00,9,     1.19,2,     0.16,2,     0.10,2, -999.000,9, -999.000,9,  -999.00,9,   -999.0,9,   -999.0,9,-999.0000,9,   -999.0,  9,  -999.00,9,   -999.0,  -999.00,9,  -999.00,9,     0.09,2,     0.11,2,   -999.0,-999.0000, -999,9,  125,  18.5840,  24.9710,   -999.0,9
       RF00-04,  142E,RF-0998,  1,     16,02-13588,2,20000422,1536, 33.5177, 141.5050, 5990,    151.3,  18.4566,  34.7889,2,   -999.0,9,-999.0000,9,    222.9,2,     2.79,2,  -999.00,9,     1.61,2,     0.08,2,     0.12,2, -999.000,9, -999.000,9,  -999.00,9,   -999.0,9,   -999.0,9,-999.0000,9,   -999.0,  9,  -999.00,9,   -999.0,  -999.00,9,  -999.00,9,     0.05,2,     0.07,2,   -999.0,-999.0000, -999,9,  150,  18.4302,  25.0036,   -999.0,9
       RF00-04,  142E,RF-0998,  1,     15,02-10155,2,20000422,1534, 33.5177, 141.5050, 5990,    202.1,  17.9922,  34.7874,2,   -999.0,9,  34.7890,2,    220.5,2,     3.47,2,  -999.00,9,     2.58,2,     0.04,2,     0.18,2, -999.000,9, -999.000,9,  -999.00,9,   -999.0,9,   -999.0,9,-999.0000,9,   -999.0,  9,  -999.00,9,   -999.0,  -999.00,9,  -999.00,9,     0.02,2,     0.07,2,   -999.0,-999.0000, -999,9,  201,  17.9575,  25.1197,   -999.0,9
       RF00-04,  142E,RF-0998,  1,     14,02-13579,2,20000422,1532, 33.5177, 141.5050, 5990,    251.2,  17.7014,  34.7874,2,   -999.0,9,-999.0000,9,    224.0,2,     3.64,2,  -999.00,9,     2.61,2,     0.05,2,     0.19,2, -999.000,9, -999.000,9,  -999.00,9,   -999.0,9,   -999.0,9,-999.0000,9,   -999.0,  9,  -999.00,9,   -999.0,  -999.00,9,  -999.00,9,  -999.00,9,  -999.00,9,   -999.0,-999.0000, -999,9,  249,  17.6588,  25.1927,   -999.0,9
       RF00-04,  142E,RF-0998,  1,     13,02-13590,2,20000422,1529, 33.5177, 141.5050, 5990,    302.4,  17.5243,  34.7769,2,   -999.0,9,  34.7815,2,    213.5,2,     4.48,2,  -999.00,9,     3.80,2,     0.01,2,     0.25,2, -999.000,9, -999.000,9,  -999.00,9,   -999.0,9,   -999.0,9,-999.0000,9,   -999.0,  9,  -999.00,9,   -999.0,  -999.00,9,  -999.00,9,  -999.00,9,  -999.00,9,   -999.0,-999.0000, -999,9,  300,  17.4733,  25.2296,   -999.0,9
       RF00-04,  142E,RF-0998,  1,     12,02-12821,2,20000422,1526, 33.5177, 141.5050, 5990,    403.0,  16.5105,  34.7249,2,   -999.0,9,  34.7376,4,    194.9,2,     7.39,2,  -999.00,9,     7.04,2,     0.00,2,     0.46,2, -999.000,9, -999.000,9,  -999.00,9,   -999.0,9,   -999.0,9,-999.0000,9,   -999.0,  9,  -999.00,9,   -999.0,  -999.00,9,  -999.00,9,  -999.00,9,  -999.00,9,   -999.0,-999.0000, -999,9,  400,  16.4451,  25.4335,   -999.0,9
       RF00-04,  142E,RF-0998,  1,     11,02-12811,2,20000422,1523, 33.5177, 141.5050, 5990,    505.7,  13.5919,  34.5180,2,   -999.0,9,  34.5757,4,    183.6,2,    17.09,2,  -999.00,9,    13.06,2,     0.00,2,     0.89,2, -999.000,9, -999.000,9,  -999.00,9,   -999.0,9,   -999.0,9,-999.0000,9,   -999.0,  9,  -999.00,9,   -999.0,  -999.00,9,  -999.00,9,  -999.00,9,  -999.00,9,   -999.0,-999.0000, -999,9,  501,  13.5198,  25.9141,   -999.0,9
       RF00-04,  142E,RF-0998,  1,     10,02-12820,2,20000422,1520, 33.5177, 141.5050, 5990,    605.0,  10.7321,  34.3223,2,   -999.0,9,  34.3172,2,    166.1,2,    30.68,2,  -999.00,9,    19.01,2,     0.00,2,     1.33,2, -999.000,9, -999.000,9,  -999.00,9,   -999.0,9,   -999.0,9,-999.0000,9,   -999.0,  9,  -999.00,9,   -999.0,  -999.00,9,  -999.00,9,  -999.00,9,  -999.00,9,   -999.0,-999.0000, -999,9,  600,  10.6578,  26.3087,   -999.0,9
       RF00-04,  142E,RF-0998,  1,      9,02-12810,2,20000422,1517, 33.5177, 141.5050, 5990,    706.1,   7.8131,  34.0953,2,   -999.0,9,  34.1310,4,    166.1,4,    42.66,2,  -999.00,9,    23.02,2,     0.00,2,     1.65,2, -999.000,9, -999.000,9,  -999.00,9,   -999.0,9,   -999.0,9,-999.0000,9,   -999.0,  9,  -999.00,9,   -999.0,  -999.00,9,  -999.00,9,  -999.00,9,  -999.00,9,   -999.0,-999.0000, -999,9,  700,   7.7413,  26.6013,   -999.0,9
       RF00-04,  142E,RF-0998,  1,      8,02-12819,2,20000422,1514, 33.5177, 141.5050, 5990,    806.0,   5.9561,  34.0789,2,   -999.0,9,  34.0753,2,    122.1,2,    67.52,2,  -999.00,9,    31.06,2,     0.00,2,     2.27,2, -999.000,9, -999.000,9,  -999.00,9,   -999.0,9,   -999.0,9,-999.0000,9,   -999.0,  9,  -999.00,9,   -999.0,  -999.00,9,  -999.00,9,  -999.00,9,  -999.00,9,   -999.0,-999.0000, -999,9,  799,   5.8847,  26.8392,   -999.0,9
       RF00-04,  142E,RF-0998,  1,      7,02-12815,2,20000422,1511, 33.5177, 141.5050, 5990,    907.0,   5.1135,  34.1870,2,   -999.0,9,-999.0000,9,     83.7,2,    88.12,2,  -999.00,9,    35.55,2,     0.00,2,     2.59,2, -999.000,9, -999.000,9,  -999.00,9,   -999.0,9,   -999.0,9,-999.0000,9,   -999.0,  9,  -999.00,9,   -999.0,  -999.00,9,  -999.00,9,  -999.00,9,  -999.00,9,   -999.0,-999.0000, -999,9,  899,   5.0382,  27.0263,   -999.0,9
       RF00-04,  142E,RF-0998,  1,      5,02-12809,2,20000422,1508, 33.5177, 141.5050, 5990,   1008.5,   4.3118,  34.2288,2,   -999.0,9,  34.2457,4,     61.4,2,   103.52,2,  -999.00,9,    38.68,2,     0.00,2,     2.82,2, -999.000,9, -999.000,9,  -999.00,9,   -999.0,9,   -999.0,9,-999.0000,9,   -999.0,  9,  -999.00,9,   -999.0,  -999.00,9,  -999.00,9,  -999.00,9,  -999.00,9,   -999.0,-999.0000, -999,9,  999,   4.2335,  27.1483,   -999.0,9
       RF00-04,  142E,RF-0998,  1,      6,02-12818,2,20000422,1508, 33.5177, 141.5050, 5990,   1010.5,   4.2967,  34.2302,2,   -999.0,9,-999.0000,9,   -999.0,9,  -999.00,9,  -999.00,9,  -999.00,9,  -999.00,9,  -999.00,9, -999.000,9, -999.000,9,  -999.00,9,   -999.0,9,   -999.0,9,-999.0000,9,   -999.0,  9,  -999.00,9,   -999.0,  -999.00,9,  -999.00,9,  -999.00,9,  -999.00,9,   -999.0,-999.0000, -999,9, 1001,   4.2183,  27.1511,   -999.0,9
       RF00-04,  142E,RF-0998,  1,      4,02-12817,2,20000422,1502, 33.5177, 141.5050, 5990,   1262.3,   3.2793,  34.3791,2,   -999.0,9,  34.3756,2,     42.8,2,   129.35,2,  -999.00,9,    40.74,2,     0.00,2,     3.01,2, -999.000,9, -999.000,9,  -999.00,9,   -999.0,9,   -999.0,9,-999.0000,9,   -999.0,  9,  -999.00,9,   -999.0,  -999.00,9,  -999.00,9,  -999.00,9,  -999.00,9,   -999.0,-999.0000, -999,9, 1250,   3.1886,  27.3721,   -999.0,9
       RF00-04,  142E,RF-0998,  1,      3,02-12808,2,20000422,1456, 33.5177, 141.5050, 5990,   1516.0,   2.7291,  34.4660,2,   -999.0,9,  34.4632,2,     41.5,2,   143.67,2,  -999.00,9,    41.75,2,     0.00,2,     3.05,2, -999.000,9, -999.000,9,  -999.00,9,   -999.0,9,   -999.0,9,-999.0000,9,   -999.0,  9,  -999.00,9,   -999.0,  -999.00,9,  -999.00,9,  -999.00,9,  -999.00,9,   -999.0,-999.0000, -999,9, 1500,   2.6234,  27.4923,   -999.0,9
       RF00-04,  142E,RF-0998,  1,      2,02-13589,2,20000422,1451, 33.5177, 141.5050, 5990,   1766.2,   2.3597,  34.5378,2,   -999.0,9,  34.5263,4,     58.5,2,   149.03,2,  -999.00,9,    40.66,2,     0.00,2,     2.97,2, -999.000,9, -999.000,9,  -999.00,9,   -999.0,9,   -999.0,9,-999.0000,9,   -999.0,  9,  -999.00,9,   -999.0,  -999.00,9,  -999.00,9,  -999.00,9,  -999.00,9,   -999.0,-999.0000, -999,9, 1746,   2.2378,  27.5822,   -999.0,9
       RF00-04,  142E,RF-0998,  1,      1,02-12807,2,20000422,1446, 33.5177, 141.5050, 5990,   2029.8,   2.0744,  34.5815,2,   -999.0,9,  34.5792,2,     71.2,2,   153.15,2,  -999.00,9,    40.38,2,     0.00,2,     2.89,2, -999.000,9, -999.000,9,  -999.00,9,   -999.0,9,   -999.0,9,-999.0000,9,   -999.0,  9,  -999.00,9,   -999.0,  -999.00,9,  -999.00,9,  -999.00,9,  -999.00,9,   2022.2,-999.0000, -999,9, 2006,   1.9345,  27.6415,   -999.0,9
       RF00-04,  142E,RF-1003,  1,     17,02-13591,2,20000423,1011, 32.0152, 142.0000, 7943,   1010.0,   4.0289,  34.2570,2,   -999.0,9,-999.0000,9,   -999.0,9,  -999.00,9,  -999.00,9,  -999.00,9,  -999.00,9,  -999.00,9, -999.000,9, -999.000,9,  -999.00,9,   -999.0,9,   -999.0,9,-999.0000,9,   -999.0,  9,  -999.00,9,   -999.0,  -999.00,9,  -999.00,9,  -999.00,9,  -999.00,9,   -999.0,-999.0000, -999,9, 1000,   3.9526,  27.1999,   -999.0,9
       RF00-04,  142E,RF-1003,  1,     18,02-12830,2,20000423,1012, 32.0152, 142.0000, 7943,   1010.7,   4.0244,  34.2535,2,   -999.0,9,-999.0000,9,   -999.0,9,  -999.00,9,  -999.00,9,  -999.00,9,  -999.00,9,  -999.00,9, -999.000,9, -999.000,9,  -999.00,9,   -999.0,9,   -999.0,9,-999.0000,9,   -999.0,  9,  -999.00,9,   -999.0,  -999.00,9,  -999.00,9,  -999.00,9,  -999.00,9,   -999.0,-999.0000, -999,9, 1001,   3.9481,  27.1977,   -999.0,9
       RF00-04,  142E,RF-1003,  1,     19,02-12825,2,20000423,1012, 32.0152, 142.0000, 7943,   1011.2,   4.0205,  34.2555,2,   -999.0,9,  34.2575,2,   -999.0,9,  -999.00,9,  -999.00,9,  -999.00,9,  -999.00,9,  -999.00,9, -999.000,9, -999.000,9,  -999.00,9,   -999.0,9,   -999.0,9,-999.0000,9,   -999.0,  9,  -999.00,9,   -999.0,  -999.00,9,  -999.00,9,  -999.00,9,  -999.00,9,   -999.0,-999.0000, -999,9, 1002,   3.9442,  27.1996,   -999.0,9
       RF00-04,  142E,RF-1003,  1,     20,02-12826,2,20000423,1013, 32.0152, 142.0000, 7943,   1013.1,   4.0126,  34.2568,2,   -999.0,9,  34.2653,2,   -999.0,9,  -999.00,9,  -999.00,9,  -999.00,9,  -999.00,9,  -999.00,9, -999.000,9, -999.000,9,  -999.00,9,   -999.0,9,   -999.0,9,-999.0000,9,   -999.0,  9,  -999.00,9,   -999.0,  -999.00,9,  -999.00,9,  -999.00,9,  -999.00,9,   -999.0,-999.0000, -999,9, 1004,   3.9362,  27.2015,   -999.0,9
       RF00-04,  142E,RF-1003,  1,     13,02-13590,2,20000423,1002, 32.0152, 142.0000, 7943,   1265.2,   3.1736,  34.3965,2,   -999.0,9,-999.0000,9,   -999.0,9,  -999.00,9,  -999.00,9,  -999.00,9,  -999.00,9,  -999.00,9, -999.000,9, -999.000,9,  -999.00,9,   -999.0,9,   -999.0,9,-999.0000,9,   -999.0,  9,  -999.00,9,   -999.0,  -999.00,9,  -999.00,9,  -999.00,9,  -999.00,9,   -999.0,-999.0000, -999,9, 1253,   3.0837,  27.3957,   -999.0,9
       RF00-04,  142E,RF-1003,  1,     14,02-13579,2,20000423,1003, 32.0152, 142.0000, 7943,   1265.6,   3.1744,  34.3970,2,   -999.0,9,-999.0000,9,   -999.0,9,  -999.00,9,  -999.00,9,  -999.00,9,  -999.00,9,  -999.00,9, -999.000,9, -999.000,9,  -999.00,9,   -999.0,9,   -999.0,9,-999.0000,9,   -999.0,  9,  -999.00,9,   -999.0,  -999.00,9,  -999.00,9,  -999.00,9,  -999.00,9,   -999.0,-999.0000, -999,9, 1253,   3.0844,  27.3960,   -999.0,9
       RF00-04,  142E,RF-1003,  1,     16,02-13588,2,20000423,1003, 32.0152, 142.0000, 7943,   1266.5,   3.1726,  34.3971,2,   -999.0,9,  34.5450,4,   -999.0,9,  -999.00,9,  -999.00,9,  -999.00,9,  -999.00,9,  -999.00,9, -999.000,9, -999.000,9,  -999.00,9,   -999.0,9,   -999.0,9,-999.0000,9,   -999.0,  9,  -999.00,9,   -999.0,  -999.00,9,  -999.00,9,  -999.00,9,  -999.00,9,   -999.0,-999.0000, -999,9, 1254,   3.0825,  27.3962,   -999.0,9
       RF00-04,  142E,RF-1003,  1,     15,02-10155,2,20000423,1003, 32.0152, 142.0000, 7943,   1266.6,   3.1727,  34.3990,2,   -999.0,9,  34.4451,4,   -999.0,9,  -999.00,9,  -999.00,9,  -999.00,9,  -999.00,9,  -999.00,9, -999.000,9, -999.000,9,  -999.00,9,   -999.0,9,   -999.0,9,-999.0000,9,   -999.0,  9,  -999.00,9,   -999.0,  -999.00,9,  -999.00,9,  -999.00,9,  -999.00,9,   -999.0,-999.0000, -999,9, 1254,   3.0826,  27.3977,   -999.0,9
       RF00-04,  142E,RF-1003,  1,      9,02-12810,2,20000423,0955, 32.0152, 142.0000, 7943,   1515.0,   2.6303,  34.4784,2,   -999.0,9,-999.0000,9,   -999.0,9,  -999.00,9,  -999.00,9,  -999.00,9,  -999.00,9,  -999.00,9, -999.000,9, -999.000,9,  -999.00,9,   -999.0,9,   -999.0,9,-999.0000,9,   -999.0,  9,  -999.00,9,   -999.0,  -999.00,9,  -999.00,9,  -999.00,9,  -999.00,9,   -999.0,-999.0000, -999,9, 1499,   2.5257,  27.5106,   -999.0,9
       RF00-04,  142E,RF-1003,  1,     10,02-12820,2,20000423,0955, 32.0152, 142.0000, 7943,   1516.0,   2.6333,  34.4781,2,   -999.0,9,-999.0000,9,   -999.0,9,  -999.00,9,  -999.00,9,  -999.00,9,  -999.00,9,  -999.00,9, -999.000,9, -999.000,9,  -999.00,9,   -999.0,9,   -999.0,9,-999.0000,9,   -999.0,  9,  -999.00,9,   -999.0,  -999.00,9,  -999.00,9,  -999.00,9,  -999.00,9,   -999.0,-999.0000, -999,9, 1500,   2.5286,  27.5101,   -999.0,9
       RF00-04,  142E,RF-1003,  1,     11,02-12811,2,20000423,0955, 32.0152, 142.0000, 7943,   1516.7,   2.6324,  34.4784,2,   -999.0,9,  34.5521,4,   -999.0,9,  -999.00,9,  -999.00,9,  -999.00,9,  -999.00,9,  -999.00,9, -999.000,9, -999.000,9,  -999.00,9,   -999.0,9,   -999.0,9,-999.0000,9,   -999.0,  9,  -999.00,9,   -999.0,  -999.00,9,  -999.00,9,  -999.00,9,  -999.00,9,   -999.0,-999.0000, -999,9, 1501,   2.5277,  27.5104,   -999.0,9
       RF00-04,  142E,RF-1003,  1,     12,02-12821,2,20000423,0956, 32.0152, 142.0000, 7943,   1517.6,   2.6299,  34.4788,2,   -999.0,9,  34.4788,2,   -999.0,9,  -999.00,9,  -999.00,9,  -999.00,9,  -999.00,9,  -999.00,9, -999.000,9, -999.000,9,  -999.00,9,   -999.0,9,   -999.0,9,-999.0000,9,   -999.0,  9,  -999.00,9,   -999.0,  -999.00,9,  -999.00,9,  -999.00,9,  -999.00,9,   -999.0,-999.0000, -999,9, 1502,   2.5251,  27.5110,   -999.0,9
       RF00-04,  142E,RF-1003,  1,      5,02-12809,2,20000423,0948, 32.0152, 142.0000, 7943,   1768.9,   2.2901,  34.5367,2,   -999.0,9,-999.0000,9,   -999.0,9,  -999.00,9,  -999.00,9,  -999.00,9,  -999.00,9,  -999.00,9, -999.000,9, -999.000,9,  -999.00,9,   -999.0,9,   -999.0,9,-999.0000,9,   -999.0,  9,  -999.00,9,   -999.0,  -999.00,9,  -999.00,9,  -999.00,9,  -999.00,9,   -999.0,-999.0000, -999,9, 1749,   2.1690,  27.5870,   -999.0,9
       RF00-04,  142E,RF-1003,  1,      6,02-12818,2,20000423,0948, 32.0152, 142.0000, 7943,   1769.6,   2.2885,  34.5377,2,   -999.0,9,-999.0000,9,   -999.0,9,  -999.00,9,  -999.00,9,  -999.00,9,  -999.00,9,  -999.00,9, -999.000,9, -999.000,9,  -999.00,9,   -999.0,9,   -999.0,9,-999.0000,9,   -999.0,  9,  -999.00,9,   -999.0,  -999.00,9,  -999.00,9,  -999.00,9,  -999.00,9,   -999.0,-999.0000, -999,9, 1750,   2.1673,  27.5879,   -999.0,9
       RF00-04,  142E,RF-1003,  1,      7,02-12815,2,20000423,0949, 32.0152, 142.0000, 7943,   1770.3,   2.2879,  34.5380,2,   -999.0,9,  34.5704,4,   -999.0,9,  -999.00,9,  -999.00,9,  -999.00,9,  -999.00,9,  -999.00,9, -999.000,9, -999.000,9,  -999.00,9,   -999.0,9,   -999.0,9,-999.0000,9,   -999.0,  9,  -999.00,9,   -999.0,  -999.00,9,  -999.00,9,  -999.00,9,  -999.00,9,   -999.0,-999.0000, -999,9, 1751,   2.1667,  27.5882,   -999.0,9
       RF00-04,  142E,RF-1003,  1,      8,02-12819,2,20000423,0949, 32.0152, 142.0000, 7943,   1770.6,   2.2885,  34.5370,2,   -999.0,9,  34.5411,2,   -999.0,9,  -999.00,9,  -999.00,9,  -999.00,9,  -999.00,9,  -999.00,9, -999.000,9, -999.000,9,  -999.00,9,   -999.0,9,   -999.0,9,-999.0000,9,   -999.0,  9,  -999.00,9,   -999.0,  -999.00,9,  -999.00,9,  -999.00,9,  -999.00,9,   -999.0,-999.0000, -999,9, 1751,   2.1673,  27.5874,   -999.0,9
       RF00-04,  142E,RF-1003,  1,      4,02-12817,2,20000423,0943, 32.0152, 142.0000, 7943,   2030.7,   2.0581,  34.5814,2,   -999.0,9,  34.5678,4,   -999.0,9,  -999.00,9,  -999.00,9,  -999.00,9,  -999.00,9,  -999.00,9, -999.000,9, -999.000,9,  -999.00,9,   -999.0,9,   -999.0,9,-999.0000,9,   -999.0,  9,  -999.00,9,   -999.0,  -999.00,9,  -999.00,9,  -999.00,9,  -999.00,9,   -999.0,-999.0000, -999,9, 2007,   1.9184,  27.6427,   -999.0,9
       RF00-04,  142E,RF-1003,  1,      1,02-12807,2,20000423,0941, 32.0152, 142.0000, 7943,   2031.0,   2.0544,  34.5808,2,   -999.0,9,-999.0000,9,   -999.0,9,  -999.00,9,  -999.00,9,  -999.00,9,  -999.00,9,  -999.00,9, -999.000,9, -999.000,9,  -999.00,9,   -999.0,9,   -999.0,9,-999.0000,9,   -999.0,  9,  -999.00,9,   -999.0,  -999.00,9,  -999.00,9,  -999.00,9,  -999.00,9,   2026.0,-999.0000, -999,9, 2007,   1.9147,  27.6425,   -999.0,9
       RF00-04,  142E,RF-1003,  1,      2,02-13589,2,20000423,0942, 32.0152, 142.0000, 7943,   2031.5,   2.0545,  34.5807,2,   -999.0,9,-999.0000,9,   -999.0,9,  -999.00,9,  -999.00,9,  -999.00,9,  -999.00,9,  -999.00,9, -999.000,9, -999.000,9,  -999.00,9,   -999.0,9,   -999.0,9,-999.0000,9,   -999.0,  9,  -999.00,9,   -999.0,  -999.00,9,  -999.00,9,  -999.00,9,  -999.00,9,   -999.0,-999.0000, -999,9, 2008,   1.9148,  27.6424,   -999.0,9
       RF00-04,  142E,RF-1003,  1,      3,02-12808,2,20000423,0942, 32.0152, 142.0000, 7943,   2031.6,   2.0559,  34.5821,2,   -999.0,9,  34.5814,2,   -999.0,9,  -999.00,9,  -999.00,9,  -999.00,9,  -999.00,9,  -999.00,9, -999.000,9, -999.000,9,  -999.00,9,   -999.0,9,   -999.0,9,-999.0000,9,   -999.0,  9,  -999.00,9,   -999.0,  -999.00,9,  -999.00,9,  -999.00,9,  -999.00,9,   -999.0,-999.0000, -999,9, 2008,   1.9162,  27.6434,   -999.0,9