BOTTLE,20130510GEMDJMAYT
EXPOCODE,SECT_ID,STNNBR,CASTNO,SAMPNO,BTLNBR,BTLNBR_FLAG_W,DATE,TIME,LATITUDE,LONGITUDE,DEPTH,CTDPRS,CTDTMP,CTDSAL,CTDSAL_FLAG_W,CTDOXY,CTDOXY_FLAG_W,SALNTY,SALNTY_FLAG_W,OXYGEN,OXYGEN_FLAG_W,SILCAT,SILCAT_FLAG_W,NITRAT,NITRAT_FLAG_W,NO2+NO3,NO2+NO3_FLAG_W,NITRIT,NITRIT_FLAG_W,PHSPHT,PHSPHT_FLAG_W,CFC-11,CFC-11_FLAG_W,CFC-12,CFC-12_FLAG_W,DELC13,DELC13_FLAG_W,TCARBN,TCARBN_FLAG_W,ALKALI,ALKALI_FLAG_W,PH,PH_FLAG_W,PH_TMP,PH_SCALE,PH_NBS,PH_NBS_FLAG_W,C13ERR,TOTALP,TOTALP_FLAG_W,AMMONI,AMMONI_FLAG_W,CHLORA,CHLORA_FLAG_W,PPHYTN,PPHYTN_FLAG_W,REVPRS,REVTMP,DEPTH_,DEPTH_FLAG,CTDDEP,THETA,SIGTHT,DOC,DOC_FLAG_W
,,,,,,,GMT,GMT,,,METER,DBAR,ITS-90,PSS-78,,UMOL/KG,,PSS-78,,UMOL/KG,,UMOL/KG,,UMOL/KG,,UMOL/KG,,UMOL/KG,,UMOL/KG,,PMOL/KG,,PMOL/KG,,/MILLE,,UMOL/KG,,UMOL/KG,,25_DEG_C,,DEG_C,,,,/MILLE,UMOL/KG,,UMOL/KG,,UG/L,,UG/L,,DBAR,ITS-90,METERS,,METERS,DEG_C,,UMOL/L,
       RF00-04,  165E,RF-1063,  1,     -9,      -9,5,20000514,0618, 31.0038, 164.9375, 6014,      0.0,  19.4824,  34.5593,2,   -999.0,9,-999.0000,9,    234.4,2,     2.46,2,  -999.00,9,     0.00,2,     0.00,2,     0.03,2, -999.000,9, -999.000,9,  -999.00,9,   -999.0,9,   -999.0,9,-999.0000,9,   -999.0,  9,  -999.00,9,   -999.0,  -999.00,9,  -999.00,9,  -999.00,9,  -999.00,9,   -999.0,-999.0000, -999,9,    0,  19.4824,  24.5606,   -999.0,9
       RF00-04,  165E,RF-1063,  1,     24,02-10154,2,20000514,0615, 31.0038, 164.9375, 6014,     10.2,  19.4831,  34.5613,2,   -999.0,9,-999.0000,9,    232.1,2,     2.35,2,  -999.00,9,     0.00,2,     0.00,2,     0.02,2, -999.000,9, -999.000,9,  -999.00,9,   -999.0,9,   -999.0,9,-999.0000,9,   -999.0,  9,  -999.00,9,   -999.0,  -999.00,9,  -999.00,9,  -999.00,9,  -999.00,9,   -999.0,-999.0000, -999,9,   10,  19.4813,  24.5624,   -999.0,9
       RF00-04,  165E,RF-1063,  1,     23,02-12829,2,20000514,0614, 31.0038, 164.9375, 6014,     23.5,  19.4841,  34.5602,2,   -999.0,9,-999.0000,9,    233.1,2,     2.31,2,  -999.00,9,     0.00,2,     0.00,2,     0.01,2, -999.000,9, -999.000,9,  -999.00,9,   -999.0,9,   -999.0,9,-999.0000,9,   -999.0,  9,  -999.00,9,   -999.0,  -999.00,9,  -999.00,9,  -999.00,9,  -999.00,9,   -999.0,-999.0000, -999,9,   23,  19.4799,  24.5620,   -999.0,9
       RF00-04,  165E,RF-1063,  1,     22,02-12828,2,20000514,0613, 31.0038, 164.9375, 6014,     48.9,  18.5998,  34.6955,2,   -999.0,9,-999.0000,9,    243.1,2,     2.35,2,  -999.00,9,     0.00,2,     0.00,2,     0.01,2, -999.000,9, -999.000,9,  -999.00,9,   -999.0,9,   -999.0,9,-999.0000,9,   -999.0,  9,  -999.00,9,   -999.0,  -999.00,9,  -999.00,9,  -999.00,9,  -999.00,9,   -999.0,-999.0000, -999,9,   49,  18.5913,  24.8918,   -999.0,9
       RF00-04,  165E,RF-1063,  1,     21,02-12827,2,20000514,0612, 31.0038, 164.9375, 6014,     73.9,  17.8293,  34.6858,2,   -999.0,9,-999.0000,9,    237.5,2,     2.69,2,  -999.00,9,     0.51,2,     0.20,2,     0.06,2, -999.000,9, -999.000,9,  -999.00,9,   -999.0,9,   -999.0,9,-999.0000,9,   -999.0,  9,  -999.00,9,   -999.0,  -999.00,9,  -999.00,9,  -999.00,9,  -999.00,9,   -999.0,-999.0000, -999,9,   73,  17.8168,  25.0763,   -999.0,9
       RF00-04,  165E,RF-1063,  1,     20,02-12826,2,20000514,0610, 31.0038, 164.9375, 6014,    101.7,  17.5867,  34.6979,2,   -999.0,9,  34.7028,2,    226.1,2,     3.21,2,  -999.00,9,     2.24,2,     0.15,2,     0.13,2, -999.000,9, -999.000,9,  -999.00,9,   -999.0,9,   -999.0,9,-999.0000,9,   -999.0,  9,  -999.00,9,   -999.0,  -999.00,9,  -999.00,9,  -999.00,9,  -999.00,9,   -999.0,-999.0000, -999,9,  101,  17.5696,  25.1458,   -999.0,9
       RF00-04,  165E,RF-1063,  1,     19,02-12825,2,20000514,0609, 31.0038, 164.9375, 6014,    127.6,  17.4514,  34.7227,2,   -999.0,9,-999.0000,9,    210.7,2,     4.07,2,  -999.00,9,     4.06,2,     0.02,2,     0.23,2, -999.000,9, -999.000,9,  -999.00,9,   -999.0,9,   -999.0,9,-999.0000,9,   -999.0,  9,  -999.00,9,   -999.0,  -999.00,9,  -999.00,9,  -999.00,9,  -999.00,9,   -999.0,-999.0000, -999,9,  127,  17.4300,  25.1985,   -999.0,9
       RF00-04,  165E,RF-1063,  1,     18,02-12830,2,20000514,0608, 31.0038, 164.9375, 6014,    151.5,  17.2789,  34.7163,2,   -999.0,9,-999.0000,9,    207.3,2,     4.52,2,  -999.00,9,     4.63,2,     0.01,2,     0.26,2, -999.000,9, -999.000,9,  -999.00,9,   -999.0,9,   -999.0,9,-999.0000,9,   -999.0,  9,  -999.00,9,   -999.0,  -999.00,9,  -999.00,9,  -999.00,9,  -999.00,9,   -999.0,-999.0000, -999,9,  150,  17.2536,  25.2360,   -999.0,9
       RF00-04,  165E,RF-1063,  1,     17,02-13591,2,20000514,0606, 31.0038, 164.9375, 6014,    202.4,  16.7325,  34.6818,2,   -999.0,9,-999.0000,9,    207.9,2,     5.40,2,  -999.00,9,     5.48,2,     0.01,2,     0.31,2, -999.000,9, -999.000,9,  -999.00,9,   -999.0,9,   -999.0,9,-999.0000,9,   -999.0,  9,  -999.00,9,   -999.0,  -999.00,9,  -999.00,9,  -999.00,9,  -999.00,9,   -999.0,-999.0000, -999,9,  201,  16.6996,  25.3409,   -999.0,9
       RF00-04,  165E,RF-1063,  1,     16,02-13588,2,20000514,0604, 31.0038, 164.9375, 6014,    254.0,  16.0484,  34.6494,2,   -999.0,9,-999.0000,9,    204.6,2,     7.05,2,  -999.00,9,     6.88,2,     0.00,2,     0.40,2, -999.000,9, -999.000,9,  -999.00,9,   -999.0,9,   -999.0,9,-999.0000,9,   -999.0,  9,  -999.00,9,   -999.0,  -999.00,9,  -999.00,9,  -999.00,9,  -999.00,9,   -999.0,-999.0000, -999,9,  252,  16.0082,  25.4761,   -999.0,9
       RF00-04,  165E,RF-1063,  1,     15,02-10155,2,20000514,0602, 31.0038, 164.9375, 6014,    304.6,  15.3074,  34.6089,2,   -999.0,9,  34.6178,2,    200.9,2,     8.82,2,  -999.00,9,     8.34,2,     0.00,2,     0.50,2, -999.000,9, -999.000,9,  -999.00,9,   -999.0,9,   -999.0,9,-999.0000,9,   -999.0,  9,  -999.00,9,   -999.0,  -999.00,9,  -999.00,9,  -999.00,9,  -999.00,9,   -999.0,-999.0000, -999,9,  302,  15.2606,  25.6130,   -999.0,9
       RF00-04,  165E,RF-1063,  1,     14,02-13579,2,20000514,0559, 31.0038, 164.9375, 6014,    404.7,  13.3689,  34.4818,2,   -999.0,9,-999.0000,9,    197.1,2,    13.97,2,  -999.00,9,    11.92,2,     0.00,2,     0.72,2, -999.000,9, -999.000,9,  -999.00,9,   -999.0,9,   -999.0,9,-999.0000,9,   -999.0,  9,  -999.00,9,   -999.0,  -999.00,9,  -999.00,9,  -999.00,9,  -999.00,9,   -999.0,-999.0000, -999,9,  402,  13.3120,  25.9285,   -999.0,9
       RF00-04,  165E,RF-1063,  1,     13,02-13590,2,20000514,0556, 31.0038, 164.9375, 6014,    506.4,  11.0675,  34.3066,2,   -999.0,9,  34.3150,4,    197.6,2,    21.05,2,  -999.00,9,    15.88,2,     0.00,2,     1.01,2, -999.000,9, -999.000,9,  -999.00,9,   -999.0,9,   -999.0,9,-999.0000,9,   -999.0,  9,  -999.00,9,   -999.0,  -999.00,9,  -999.00,9,  -999.00,9,  -999.00,9,   -999.0,-999.0000, -999,9,  502,  11.0044,  26.2347,   -999.0,9
       RF00-04,  165E,RF-1063,  1,     12,02-12821,2,20000514,0553, 31.0038, 164.9375, 6014,    609.3,   8.6719,  34.1189,2,   -999.0,9,-999.0000,9,    178.4,2,    34.54,2,  -999.00,9,    21.92,2,     0.00,2,     1.45,2, -999.000,9, -999.000,9,  -999.00,9,   -999.0,9,   -999.0,9,-999.0000,9,   -999.0,  9,  -999.00,9,   -999.0,  -999.00,9,  -999.00,9,  -999.00,9,  -999.00,9,   -999.0,-999.0000, -999,9,  604,   8.6064,  26.4899,   -999.0,9
       RF00-04,  165E,RF-1063,  1,     11,02-12811,2,20000514,0547, 31.0038, 164.9375, 6014,    810.5,   5.1864,  34.0491,2,   -999.0,9,  34.0492,2,    102.1,2,    75.80,2,  -999.00,9,    34.90,2,     0.00,2,     2.43,2, -999.000,9, -999.000,9,  -999.00,9,   -999.0,9,   -999.0,9,-999.0000,9,   -999.0,  9,  -999.00,9,   -999.0,  -999.00,9,  -999.00,9,  -999.00,9,  -999.00,9,   -999.0,-999.0000, -999,9,  803,   5.1194,  26.9077,   -999.0,9
       RF00-04,  165E,RF-1063,  1,     10,02-12820,2,20000514,0542, 31.0038, 164.9375, 6014,   1013.1,   3.8578,  34.2426,2,   -999.0,9,  34.2428,2,     44.4,2,   111.27,2,  -999.00,9,    41.19,2,     0.00,2,     2.88,2, -999.000,9, -999.000,9,  -999.00,9,   -999.0,9,   -999.0,9,-999.0000,9,   -999.0,  9,  -999.00,9,   -999.0,  -999.00,9,  -999.00,9,  -999.00,9,  -999.00,9,   -999.0,-999.0000, -999,9, 1004,   3.7826,  27.2057,   -999.0,9
       RF00-04,  165E,RF-1063,  1,      9,02-12810,2,20000514,0536, 31.0038, 164.9375, 6014,   1262.9,   3.0696,  34.3892,2,   -999.0,9,-999.0000,9,     35.7,2,   133.24,2,  -999.00,9,    42.94,2,     0.00,2,     3.00,2, -999.000,9, -999.000,9,  -999.00,9,   -999.0,9,   -999.0,9,-999.0000,9,   -999.0,  9,  -999.00,9,   -999.0,  -999.00,9,  -999.00,9,  -999.00,9,  -999.00,9,   -999.0,-999.0000, -999,9, 1250,   2.9808,  27.3992,   -999.0,9
       RF00-04,  165E,RF-1063,  1,      8,02-12819,2,20000514,0528, 31.0038, 164.9375, 6014,   1521.4,   2.5933,  34.4880,2,   -999.0,9,  34.4845,2,     34.6,2,   145.35,2,  -999.00,9,    43.13,2,     0.00,2,     3.00,2, -999.000,9, -999.000,9,  -999.00,9,   -999.0,9,   -999.0,9,-999.0000,9,   -999.0,  9,  -999.00,9,   -999.0,  -999.00,9,  -999.00,9,  -999.00,9,  -999.00,9,   -999.0,-999.0000, -999,9, 1505,   2.4886,  27.5214,   -999.0,9
       RF00-04,  165E,RF-1063,  1,      7,02-12815,2,20000514,0518, 31.0038, 164.9375, 6014,   2026.3,   2.0145,  34.5913,2,   -999.0,9,  34.5912,2,     69.9,2,   153.19,2,  -999.00,9,    41.31,2,     0.00,2,     2.83,2, -999.000,9, -999.000,9,  -999.00,9,   -999.0,9,   -999.0,9,-999.0000,9,   -999.0,  9,  -999.00,9,   -999.0,  -999.00,9,  -999.00,9,  -999.00,9,  -999.00,9,   -999.0,-999.0000, -999,9, 2003,   1.8758,  27.6539,   -999.0,9
       RF00-04,  165E,RF-1063,  1,      6,02-12818,2,20000514,0459, 31.0038, 164.9375, 6014,   3044.4,   1.5628,  34.6647,2,   -999.0,9,  34.6627,2,    126.5,2,   147.60,2,  -999.00,9,    37.96,2,     0.00,2,     2.56,2, -999.000,9, -999.000,9,  -999.00,9,   -999.0,9,   -999.0,9,-999.0000,9,   -999.0,  9,  -999.00,9,   -999.0,  -999.00,9,  -999.00,9,  -999.00,9,  -999.00,9,   -999.0,-999.0000, -999,9, 3002,   1.3404,  27.7526,   -999.0,9
       RF00-04,  165E,RF-1063,  1,      5,02-12809,2,20000514,0451, 31.0038, 164.9375, 6014,   3552.2,   1.5057,  34.6758,2,   -999.0,9,-999.0000,9,    139.3,2,   144.94,2,  -999.00,9,    37.26,2,     0.00,2,     2.49,2, -999.000,9, -999.000,9,  -999.00,9,   -999.0,9,   -999.0,9,-999.0000,9,   -999.0,  9,  -999.00,9,   -999.0,  -999.00,9,  -999.00,9,  -999.00,9,  -999.00,9,   -999.0,-999.0000, -999,9, 3498,   1.2341,  27.7689,   -999.0,9
       RF00-04,  165E,RF-1063,  1,      4,02-12817,2,20000514,0442, 31.0038, 164.9375, 6014,   4061.7,   1.4794,  34.6831,2,   -999.0,9,  34.6821,2,    149.3,2,   142.40,2,  -999.00,9,    36.60,2,     0.00,2,     2.45,2, -999.000,9, -999.000,9,  -999.00,9,   -999.0,9,   -999.0,9,-999.0000,9,   -999.0,  9,  -999.00,9,   -999.0,  -999.00,9,  -999.00,9,  -999.00,9,  -999.00,9,   -999.0,-999.0000, -999,9, 3996,   1.1543,  27.7803,   -999.0,9
       RF00-04,  165E,RF-1063,  1,      3,02-12808,2,20000514,0428, 31.0038, 164.9375, 6014,   5086.1,   1.4933,  34.6928,2,   -999.0,9,  34.6924,2,    166.4,2,   134.58,2,  -999.00,9,    35.61,2,     0.00,2,     2.36,2, -999.000,9, -999.000,9,  -999.00,9,   -999.0,9,   -999.0,9,-999.0000,9,   -999.0,  9,  -999.00,9,   -999.0,  -999.00,9,  -999.00,9,  -999.00,9,  -999.00,9,   -999.0,-999.0000, -999,9, 4992,   1.0488,  27.7953,   -999.0,9
       RF00-04,  165E,RF-1063,  1,      2,02-13589,2,20000514,0427, 31.0038, 164.9375, 6014,   5090.3,   1.4936,  34.6926,2,   -999.0,9,-999.0000,9,   -999.0,9,  -999.00,9,  -999.00,9,  -999.00,9,  -999.00,9,  -999.00,9, -999.000,9, -999.000,9,  -999.00,9,   -999.0,9,   -999.0,9,-999.0000,9,   -999.0,  9,  -999.00,9,   -999.0,  -999.00,9,  -999.00,9,  -999.00,9,  -999.00,9,   -999.0,-999.0000, -999,9, 4996,   1.0485,  27.7951,   -999.0,9
       RF00-04,  165E,RF-1063,  1,      1,02-12807,2,20000514,0423, 31.0038, 164.9375, 6014,   5339.0,   1.5050,  34.6935,2,   -999.0,9,  34.6947,2,    194.9,4,   131.90,2,  -999.00,9,    35.40,2,     0.00,2,     2.33,2, -999.000,9, -999.000,9,  -999.00,9,   -999.0,9,   -999.0,9,-999.0000,9,   -999.0,  9,  -999.00,9,   -999.0,  -999.00,9,  -999.00,9,  -999.00,9,  -999.00,9,   -999.0,-999.0000, -999,9, 5237,   1.0286,  27.7971,   -999.0,9
       RF00-04,  165E,RF-1064,  1,     -9,      -9,5,20000514,1711, 29.9953, 164.9540, 5859,      0.0,  20.5823,  34.7054,2,   -999.0,9,-999.0000,9,    226.8,2,     2.18,2,  -999.00,9,     0.00,2,     0.00,2,     0.01,2, -999.000,9, -999.000,9,  -999.00,9,   -999.0,9,   -999.0,9,-999.0000,9,   -999.0,  9,  -999.00,9,   -999.0,  -999.00,9,  -999.00,9,  -999.00,9,  -999.00,9,   -999.0,-999.0000, -999,9,    0,  20.5823,  24.3823,   -999.0,9
       RF00-04,  165E,RF-1064,  1,     13,02-13590,2,20000514,1653, 29.9953, 164.9540, 5859,    508.7,  11.0771,  34.2970,2,   -999.0,9,-999.0000,9,    198.4,2,    19.66,2,  -999.00,9,    15.63,2,     0.00,2,     0.99,2, -999.000,9, -999.000,9,  -999.00,9,   -999.0,9,   -999.0,9,-999.0000,9,   -999.0,  9,  -999.00,9,   -999.0,  -999.00,9,  -999.00,9,  -999.00,9,  -999.00,9,   -999.0,-999.0000, -999,9,  505,  11.0137,  26.2256,   -999.0,9
       RF00-04,  165E,RF-1064,  1,     12,02-12821,2,20000514,1649, 29.9953, 164.9540, 5859,    605.3,   8.3705,  34.0906,2,   -999.0,9,-999.0000,9,    178.9,2,    36.46,2,  -999.00,9,    22.40,2,     0.00,2,     1.49,2, -999.000,9, -999.000,9,  -999.00,9,   -999.0,9,   -999.0,9,-999.0000,9,   -999.0,  9,  -999.00,9,   -999.0,  -999.00,9,  -999.00,9,  -999.00,9,  -999.00,9,   -999.0,-999.0000, -999,9,  600,   8.3068,  26.5136,   -999.0,9
       RF00-04,  165E,RF-1064,  1,     11,02-12811,2,20000514,1642, 29.9953, 164.9540, 5859,    806.0,   5.0340,  34.0658,2,   -999.0,9,-999.0000,9,     92.0,2,    81.79,2,  -999.00,9,    36.04,2,     0.00,2,     2.50,2, -999.000,9, -999.000,9,  -999.00,9,   -999.0,9,   -999.0,9,-999.0000,9,   -999.0,  9,  -999.00,9,   -999.0,  -999.00,9,  -999.00,9,  -999.00,9,  -999.00,9,   -999.0,-999.0000, -999,9,  799,   4.9683,  26.9382,   -999.0,9
       RF00-04,  165E,RF-1064,  1,     10,02-12820,2,20000514,1635, 29.9953, 164.9540, 5859,   1009.8,   3.8835,  34.2439,2,   -999.0,9,-999.0000,9,     44.1,2,   113.74,2,  -999.00,9,    41.30,2,     0.00,2,     2.89,2, -999.000,9, -999.000,9,  -999.00,9,   -999.0,9,   -999.0,9,-999.0000,9,   -999.0,  9,  -999.00,9,   -999.0,  -999.00,9,  -999.00,9,  -999.00,9,  -999.00,9,   -999.0,-999.0000, -999,9, 1001,   3.8083,  27.2042,   -999.0,9
       RF00-04,  165E,RF-1064,  1,      9,02-12810,2,20000514,1627, 29.9953, 164.9540, 5859,   1262.4,   3.0346,  34.4093,2,   -999.0,9,-999.0000,9,     31.6,2,   137.10,2,  -999.00,9,    43.01,2,     0.00,2,     3.01,2, -999.000,9, -999.000,9,  -999.00,9,   -999.0,9,   -999.0,9,-999.0000,9,   -999.0,  9,  -999.00,9,   -999.0,  -999.00,9,  -999.00,9,  -999.00,9,  -999.00,9,   -999.0,-999.0000, -999,9, 1250,   2.9462,  27.4184,   -999.0,9
       RF00-04,  165E,RF-1064,  1,      8,02-12819,2,20000514,1620, 29.9953, 164.9540, 5859,   1511.6,   2.5305,  34.5013,2,   -999.0,9,-999.0000,9,     47.0,2,   148.99,2,  -999.00,9,    42.90,2,     0.00,2,     2.98,2, -999.000,9, -999.000,9,  -999.00,9,   -999.0,9,   -999.0,9,-999.0000,9,   -999.0,  9,  -999.00,9,   -999.0,  -999.00,9,  -999.00,9,  -999.00,9,  -999.00,9,   -999.0,-999.0000, -999,9, 1496,   2.4274,  27.5373,   -999.0,9
       RF00-04,  165E,RF-1064,  1,      7,02-12815,2,20000514,1608, 29.9953, 164.9540, 5859,   2023.9,   1.9298,  34.5991,2,   -999.0,9,-999.0000,9,     77.0,2,   156.60,2,  -999.00,9,    40.98,2,     0.00,2,     2.79,2, -999.000,9, -999.000,9,  -999.00,9,   -999.0,9,   -999.0,9,-999.0000,9,   -999.0,  9,  -999.00,9,   -999.0,  -999.00,9,  -999.00,9,  -999.00,9,  -999.00,9,   -999.0,-999.0000, -999,9, 2000,   1.7925,  27.6666,   -999.0,9
       RF00-04,  165E,RF-1064,  1,      6,02-12818,2,20000514,1547, 29.9953, 164.9540, 5859,   3035.1,   1.5407,  34.6620,2,   -999.0,9,-999.0000,9,    129.6,2,   149.62,2,  -999.00,9,    37.89,2,     0.00,2,     2.54,2, -999.000,9, -999.000,9,  -999.00,9,   -999.0,9,   -999.0,9,-999.0000,9,   -999.0,  9,  -999.00,9,   -999.0,  -999.00,9,  -999.00,9,  -999.00,9,  -999.00,9,   -999.0,-999.0000, -999,9, 2993,   1.3198,  27.7519,   -999.0,9
       RF00-04,  165E,RF-1064,  1,      5,02-12809,2,20000514,1537, 29.9953, 164.9540, 5859,   3551.8,   1.4786,  34.6735,2,   -999.0,9,-999.0000,9,    142.7,2,   146.23,2,  -999.00,9,    37.00,2,     0.00,2,     2.47,2, -999.000,9, -999.000,9,  -999.00,9,   -999.0,9,   -999.0,9,-999.0000,9,   -999.0,  9,  -999.00,9,   -999.0,  -999.00,9,  -999.00,9,  -999.00,9,  -999.00,9,   -999.0,-999.0000, -999,9, 3498,   1.2078,  27.7689,   -999.0,9
       RF00-04,  165E,RF-1064,  1,      4,02-12817,2,20000514,1527, 29.9953, 164.9540, 5859,   4062.9,   1.4631,  34.6802,2,   -999.0,9,-999.0000,9,    151.5,2,   143.20,2,  -999.00,9,    36.56,2,     0.00,2,     2.42,2, -999.000,9, -999.000,9,  -999.00,9,   -999.0,9,   -999.0,9,-999.0000,9,   -999.0,  9,  -999.00,9,   -999.0,  -999.00,9,  -999.00,9,  -999.00,9,  -999.00,9,   -999.0,-999.0000, -999,9, 3997,   1.1384,  27.7790,   -999.0,9
       RF00-04,  165E,RF-1064,  1,      3,02-12808,2,20000514,1509, 29.9953, 164.9540, 5859,   5086.9,   1.4836,  34.6888,2,   -999.0,9,-999.0000,9,    166.4,2,   134.86,2,  -999.00,9,    35.52,2,     0.00,2,     2.34,2, -999.000,9, -999.000,9,  -999.00,9,   -999.0,9,   -999.0,9,-999.0000,9,   -999.0,  9,  -999.00,9,   -999.0,  -999.00,9,  -999.00,9,  -999.00,9,  -999.00,9,   -999.0,-999.0000, -999,9, 4993,   1.0393,  27.7927,   -999.0,9
       RF00-04,  165E,RF-1064,  1,      2,02-13589,4,20000514,1509, 29.9953, 164.9540, 5859,   5089.6,   1.4842,  34.6883,2,   -999.0,9,-999.0000,9,   -999.0,9,  -999.00,4,  -999.00,9,  -999.00,4,  -999.00,4,  -999.00,4, -999.000,9, -999.000,9,  -999.00,9,   -999.0,9,   -999.0,9,-999.0000,9,   -999.0,  9,  -999.00,9,   -999.0,  -999.00,9,  -999.00,9,  -999.00,9,  -999.00,9,   -999.0,-999.0000, -999,9, 4996,   1.0396,  27.7923,   -999.0,9
       RF00-04,  165E,RF-1064,  1,      1,02-12807,2,20000514,1459, 29.9953, 164.9540, 5859,   5610.4,   1.5182,  34.6897,2,   -999.0,9,-999.0000,9,    171.5,2,   131.82,2,  -999.00,9,    35.07,2,     0.00,2,     2.31,2, -999.000,9, -999.000,9,  -999.00,9,   -999.0,9,   -999.0,9,-999.0000,9,   -999.0,  9,  -999.00,9,   -999.0,  -999.00,9,  -999.00,9,  -999.00,9,  -999.00,9,   -999.0,-999.0000, -999,9, 5500,   1.0068,  27.7956,   -999.0,9