BOTTLE,20130510GEMDJMAYT
EXPOCODE,SECT_ID,STNNBR,CASTNO,SAMPNO,BTLNBR,BTLNBR_FLAG_W,DATE,TIME,LATITUDE,LONGITUDE,DEPTH,CTDPRS,CTDTMP,CTDSAL,CTDSAL_FLAG_W,CTDOXY,CTDOXY_FLAG_W,SALNTY,SALNTY_FLAG_W,OXYGEN,OXYGEN_FLAG_W,SILCAT,SILCAT_FLAG_W,NITRAT,NITRAT_FLAG_W,NO2+NO3,NO2+NO3_FLAG_W,NITRIT,NITRIT_FLAG_W,PHSPHT,PHSPHT_FLAG_W,CFC-11,CFC-11_FLAG_W,CFC-12,CFC-12_FLAG_W,DELC13,DELC13_FLAG_W,TCARBN,TCARBN_FLAG_W,ALKALI,ALKALI_FLAG_W,PH,PH_FLAG_W,PH_TMP,PH_SCALE,PH_NBS,PH_NBS_FLAG_W,C13ERR,TOTALP,TOTALP_FLAG_W,AMMONI,AMMONI_FLAG_W,CHLORA,CHLORA_FLAG_W,PPHYTN,PPHYTN_FLAG_W,REVPRS,REVTMP,DEPTH_,DEPTH_FLAG,CTDDEP,THETA,SIGTHT,DOC,DOC_FLAG_W
,,,,,,,GMT,GMT,,,METER,DBAR,ITS-90,PSS-78,,UMOL/KG,,PSS-78,,UMOL/KG,,UMOL/KG,,UMOL/KG,,UMOL/KG,,UMOL/KG,,UMOL/KG,,PMOL/KG,,PMOL/KG,,/MILLE,,UMOL/KG,,UMOL/KG,,25_DEG_C,,DEG_C,,,,/MILLE,UMOL/KG,,UMOL/KG,,UG/L,,UG/L,,DBAR,ITS-90,METERS,,METERS,DEG_C,,UMOL/L,
       RF00-04,  165E,RF-1049,  1,     -9,      -9,5,20000509,1143, 44.9960, 165.0130, 5914,      0.0,   5.1418,  33.4887,2,   -999.0,9,-999.0000,9,    341.1,4,    24.69,2,  -999.00,9,    15.75,2,     0.32,2,     1.23,2, -999.000,9, -999.000,9,  -999.00,9,   -999.0,9,   -999.0,9,-999.0000,9,   -999.0,  9,  -999.00,9,   -999.0,  -999.00,9,  -999.00,9,  -999.00,9,  -999.00,9,   -999.0,-999.0000, -999,9,    0,   5.1418,  26.4610,   -999.0,9
       RF00-04,  165E,RF-1049,  1,     21,02-12827,2,20000509,1141, 44.9960, 165.0130, 5914,     11.5,   5.1335,  33.4888,2,   -999.0,9,-999.0000,9,    315.5,2,    24.16,2,  -999.00,9,    15.57,2,     0.34,2,     1.22,2, -999.000,9, -999.000,9,  -999.00,9,   -999.0,9,   -999.0,9,-999.0000,9,   -999.0,  9,  -999.00,9,   -999.0,  -999.00,9,  -999.00,9,  -999.00,9,  -999.00,9,   -999.0,-999.0000, -999,9,   11,   5.1326,  26.4621,   -999.0,9
       RF00-04,  165E,RF-1049,  1,     20,02-12826,2,20000509,1140, 44.9960, 165.0130, 5914,     25.9,   5.1226,  33.4872,2,   -999.0,9,-999.0000,9,    315.3,2,    24.25,2,  -999.00,9,    15.67,2,     0.34,2,     1.21,2, -999.000,9, -999.000,9,  -999.00,9,   -999.0,9,   -999.0,9,-999.0000,9,   -999.0,  9,  -999.00,9,   -999.0,  -999.00,9,  -999.00,9,  -999.00,9,  -999.00,9,   -999.0,-999.0000, -999,9,   26,   5.1207,  26.4622,   -999.0,9
       RF00-04,  165E,RF-1049,  1,     19,02-12825,2,20000509,1139, 44.9960, 165.0130, 5914,     50.6,   5.1320,  33.4893,2,   -999.0,9,-999.0000,9,    314.7,2,    24.09,2,  -999.00,9,    15.70,2,     0.34,2,     1.21,2, -999.000,9, -999.000,9,  -999.00,9,   -999.0,9,   -999.0,9,-999.0000,9,   -999.0,  9,  -999.00,9,   -999.0,  -999.00,9,  -999.00,9,  -999.00,9,  -999.00,9,   -999.0,-999.0000, -999,9,   50,   5.1282,  26.4631,   -999.0,9
       RF00-04,  165E,RF-1049,  1,     18,02-12830,2,20000509,1137, 44.9960, 165.0130, 5914,     75.6,   5.1021,  33.4940,2,   -999.0,9,-999.0000,9,    311.7,2,    24.22,2,  -999.00,9,    15.99,2,     0.37,2,     1.22,2, -999.000,9, -999.000,9,  -999.00,9,   -999.0,9,   -999.0,9,-999.0000,9,   -999.0,  9,  -999.00,9,   -999.0,  -999.00,9,  -999.00,9,  -999.00,9,  -999.00,9,   -999.0,-999.0000, -999,9,   75,   5.0963,  26.4704,   -999.0,9
       RF00-04,  165E,RF-1049,  1,     17,02-13591,2,20000509,1136, 44.9960, 165.0130, 5914,    101.4,   5.1466,  33.5376,2,   -999.0,9,  33.5516,4,    301.3,2,    24.24,2,  -999.00,9,    16.47,2,     0.42,2,     1.23,2, -999.000,9, -999.000,9,  -999.00,9,   -999.0,9,   -999.0,9,-999.0000,9,   -999.0,  9,  -999.00,9,   -999.0,  -999.00,9,  -999.00,9,  -999.00,9,  -999.00,9,   -999.0,-999.0000, -999,9,  101,   5.1389,  26.5001,   -999.0,9
       RF00-04,  165E,RF-1049,  1,     16,02-13588,2,20000509,1135, 44.9960, 165.0130, 5914,    125.5,   5.1231,  33.5746,2,   -999.0,9,-999.0000,9,    329.2,4,    25.07,2,  -999.00,9,    16.96,2,     0.26,2,     1.25,2, -999.000,9, -999.000,9,  -999.00,9,   -999.0,9,   -999.0,9,-999.0000,9,   -999.0,  9,  -999.00,9,   -999.0,  -999.00,9,  -999.00,9,  -999.00,9,  -999.00,9,   -999.0,-999.0000, -999,9,  124,   5.1135,  26.5323,   -999.0,9
       RF00-04,  165E,RF-1049,  1,     15,02-10155,2,20000509,1134, 44.9960, 165.0130, 5914,    151.7,   4.9216,  33.5614,2,   -999.0,9,-999.0000,9,    300.8,2,    26.00,2,  -999.00,9,    17.50,2,     0.21,2,     1.29,2, -999.000,9, -999.000,9,  -999.00,9,   -999.0,9,   -999.0,9,-999.0000,9,   -999.0,  9,  -999.00,9,   -999.0,  -999.00,9,  -999.00,9,  -999.00,9,  -999.00,9,   -999.0,-999.0000, -999,9,  150,   4.9103,  26.5449,   -999.0,9
       RF00-04,  165E,RF-1049,  1,     14,02-13579,2,20000509,1132, 44.9960, 165.0130, 5914,    202.1,   4.6001,  33.5494,2,   -999.0,9,-999.0000,9,    295.1,2,    28.26,2,  -999.00,9,    18.63,2,     0.06,2,     1.35,2, -999.000,9, -999.000,9,  -999.00,9,   -999.0,9,   -999.0,9,-999.0000,9,   -999.0,  9,  -999.00,9,   -999.0,  -999.00,9,  -999.00,9,  -999.00,9,  -999.00,9,   -999.0,-999.0000, -999,9,  200,   4.5854,  26.5711,   -999.0,9
       RF00-04,  165E,RF-1049,  1,     13,02-13590,2,20000509,1130, 44.9960, 165.0130, 5914,    251.7,   4.9964,  33.7225,2,   -999.0,9,-999.0000,9,    188.9,2,    48.35,2,  -999.00,9,    27.32,2,     0.00,2,     1.92,2, -999.000,9, -999.000,9,  -999.00,9,   -999.0,9,   -999.0,9,-999.0000,9,   -999.0,  9,  -999.00,9,   -999.0,  -999.00,9,  -999.00,9,  -999.00,9,  -999.00,9,   -999.0,-999.0000, -999,9,  249,   4.9772,  26.6650,   -999.0,9
       RF00-04,  165E,RF-1049,  1,     12,02-12821,2,20000509,1128, 44.9960, 165.0130, 5914,    302.6,   4.6163,  33.7963,2,   -999.0,9,  33.7976,2,    148.9,2,    61.00,2,  -999.00,9,    31.94,2,     0.00,2,     2.22,2, -999.000,9, -999.000,9,  -999.00,9,   -999.0,9,   -999.0,9,-999.0000,9,   -999.0,  9,  -999.00,9,   -999.0,  -999.00,9,  -999.00,9,  -999.00,9,  -999.00,9,   -999.0,-999.0000, -999,9,  300,   4.5939,  26.7661,   -999.0,9
       RF00-04,  165E,RF-1049,  1,     11,02-12811,2,20000509,1126, 44.9960, 165.0130, 5914,    403.1,   4.1330,  33.9125,2,   -999.0,9,-999.0000,9,     93.2,2,    80.37,2,  -999.00,9,    37.89,2,     0.00,2,     2.63,2, -999.000,9, -999.000,9,  -999.00,9,   -999.0,9,   -999.0,9,-999.0000,9,   -999.0,  9,  -999.00,9,   -999.0,  -999.00,9,  -999.00,9,  -999.00,9,  -999.00,9,   -999.0,-999.0000, -999,9,  399,   4.1043,  26.9103,   -999.0,9
       RF00-04,  165E,RF-1049,  1,     10,02-12820,2,20000509,1123, 44.9960, 165.0130, 5914,    504.4,   3.8740,  34.0325,2,   -999.0,9,  34.2767,4,     58.3,2,    95.67,2,  -999.00,9,    41.08,2,     0.00,2,     2.84,2, -999.000,9, -999.000,9,  -999.00,9,   -999.0,9,   -999.0,9,-999.0000,9,   -999.0,  9,  -999.00,9,   -999.0,  -999.00,9,  -999.00,9,  -999.00,9,  -999.00,9,   -999.0,-999.0000, -999,9,  500,   3.8386,  27.0329,   -999.0,9
       RF00-04,  165E,RF-1049,  1,      9,02-12810,2,20000509,1121, 44.9960, 165.0130, 5914,    605.0,   3.7142,  34.1269,2,   -999.0,9,-999.0000,9,     42.7,2,   105.79,2,  -999.00,9,    42.30,2,     0.00,2,     2.95,2, -999.000,9, -999.000,9,  -999.00,9,   -999.0,9,   -999.0,9,-999.0000,9,   -999.0,  9,  -999.00,9,   -999.0,  -999.00,9,  -999.00,9,  -999.00,9,  -999.00,9,   -999.0,-999.0000, -999,9,  599,   3.6720,  27.1246,   -999.0,9
       RF00-04,  165E,RF-1049,  1,      8,02-12819,2,20000509,1118, 44.9960, 165.0130, 5914,    705.6,   3.4821,  34.2124,2,   -999.0,9,-999.0000,9,     32.8,2,   115.80,2,  -999.00,9,    43.06,2,     0.00,2,     2.99,2, -999.000,9, -999.000,9,  -999.00,9,   -999.0,9,   -999.0,9,-999.0000,9,   -999.0,  9,  -999.00,9,   -999.0,  -999.00,9,  -999.00,9,  -999.00,9,  -999.00,9,   -999.0,-999.0000, -999,9,  699,   3.4335,  27.2159,   -999.0,9
       RF00-04,  165E,RF-1049,  1,      7,02-12815,2,20000509,1115, 44.9960, 165.0130, 5914,    806.5,   3.2819,  34.2747,2,   -999.0,9,  34.0365,4,     30.3,2,   123.24,2,  -999.00,9,    43.50,2,     0.00,2,     3.01,2, -999.000,9, -999.000,9,  -999.00,9,   -999.0,9,   -999.0,9,-999.0000,9,   -999.0,  9,  -999.00,9,   -999.0,  -999.00,9,  -999.00,9,  -999.00,9,  -999.00,9,   -999.0,-999.0000, -999,9,  798,   3.2269,  27.2852,   -999.0,9
       RF00-04,  165E,RF-1049,  1,      6,02-12818,2,20000509,1112, 44.9960, 165.0130, 5914,    906.9,   3.1190,  34.3223,2,   -999.0,9,-999.0000,9,     29.5,2,   128.60,2,  -999.00,9,    43.56,2,     0.00,2,     3.02,2, -999.000,9, -999.000,9,  -999.00,9,   -999.0,9,   -999.0,9,-999.0000,9,   -999.0,  9,  -999.00,9,   -999.0,  -999.00,9,  -999.00,9,  -999.00,9,  -999.00,9,   -999.0,-999.0000, -999,9,  898,   3.0576,  27.3388,   -999.0,9
       RF00-04,  165E,RF-1049,  1,      5,02-12809,2,20000509,1110, 44.9960, 165.0130, 5914,   1009.0,   2.9518,  34.3634,2,   -999.0,9,  34.3594,2,     30.0,2,   133.67,2,  -999.00,9,    43.56,2,     0.00,2,     3.02,2, -999.000,9, -999.000,9,  -999.00,9,   -999.0,9,   -999.0,9,-999.0000,9,   -999.0,  9,  -999.00,9,   -999.0,  -999.00,9,  -999.00,9,  -999.00,9,  -999.00,9,   -999.0,-999.0000, -999,9,  998,   2.8838,  27.3874,   -999.0,9
       RF00-04,  165E,RF-1049,  1,      4,02-12817,2,20000509,1104, 44.9960, 165.0130, 5914,   1261.8,   2.6055,  34.4399,2,   -999.0,9,  34.4445,2,     31.1,2,   142.87,2,  -999.00,9,    43.62,2,     0.00,2,     3.02,2, -999.000,9, -999.000,9,  -999.00,9,   -999.0,9,   -999.0,9,-999.0000,9,   -999.0,  9,  -999.00,9,   -999.0,  -999.00,9,  -999.00,9,  -999.00,9,  -999.00,9,   -999.0,-999.0000, -999,9, 1248,   2.5213,  27.4802,   -999.0,9
       RF00-04,  165E,RF-1049,  1,      3,02-12808,2,20000509,1059, 44.9960, 165.0130, 5914,   1515.8,   2.3526,  34.4985,2,   -999.0,9,  34.5084,4,     40.1,2,   149.40,2,  -999.00,9,    43.34,2,     0.00,2,     2.98,2, -999.000,9, -999.000,9,  -999.00,9,   -999.0,9,   -999.0,9,-999.0000,9,   -999.0,  9,  -999.00,9,   -999.0,  -999.00,9,  -999.00,9,  -999.00,9,  -999.00,9,   -999.0,-999.0000, -999,9, 1498,   2.2512,  27.5497,   -999.0,9
       RF00-04,  165E,RF-1049,  1,      2,02-13589,2,20000509,1054, 44.9960, 165.0130, 5914,   1769.1,   2.1570,  34.5444,2,   -999.0,9,  34.5411,2,     51.3,2,   153.62,2,  -999.00,9,    42.73,2,     0.00,2,     2.93,2, -999.000,9, -999.000,9,  -999.00,9,   -999.0,9,   -999.0,9,-999.0000,9,   -999.0,  9,  -999.00,9,   -999.0,  -999.00,9,  -999.00,9,  -999.00,9,  -999.00,9,   -999.0,-999.0000, -999,9, 1747,   2.0376,  27.6037,   -999.0,9
       RF00-04,  165E,RF-1049,  1,      1,02-12807,2,20000509,1048, 44.9960, 165.0130, 5914,   2038.3,   1.9828,  34.5825,2,   -999.0,9,  34.5818,2,     64.7,2,   154.72,2,  -999.00,9,    41.97,2,     0.00,2,     2.86,2, -999.000,9, -999.000,9,  -999.00,9,   -999.0,9,   -999.0,9,-999.0000,9,   -999.0,  9,  -999.00,9,   -999.0,  -999.00,9,  -999.00,9,  -999.00,9,  -999.00,9,   -999.0,-999.0000, -999,9, 2012,   1.8436,  27.6493,   -999.0,9