BOTTLE,20130510GEMDJMAYT
EXPOCODE,SECT_ID,STNNBR,CASTNO,SAMPNO,BTLNBR,BTLNBR_FLAG_W,DATE,TIME,LATITUDE,LONGITUDE,DEPTH,CTDPRS,CTDTMP,CTDSAL,CTDSAL_FLAG_W,CTDOXY,CTDOXY_FLAG_W,SALNTY,SALNTY_FLAG_W,OXYGEN,OXYGEN_FLAG_W,SILCAT,SILCAT_FLAG_W,NITRAT,NITRAT_FLAG_W,NO2+NO3,NO2+NO3_FLAG_W,NITRIT,NITRIT_FLAG_W,PHSPHT,PHSPHT_FLAG_W,CFC-11,CFC-11_FLAG_W,CFC-12,CFC-12_FLAG_W,DELC13,DELC13_FLAG_W,TCARBN,TCARBN_FLAG_W,ALKALI,ALKALI_FLAG_W,PH,PH_FLAG_W,PH_TMP,PH_SCALE,PH_NBS,PH_NBS_FLAG_W,C13ERR,TOTALP,TOTALP_FLAG_W,AMMONI,AMMONI_FLAG_W,CHLORA,CHLORA_FLAG_W,PPHYTN,PPHYTN_FLAG_W,REVPRS,REVTMP,DEPTH_,DEPTH_FLAG,CTDDEP,THETA,SIGTHT,DOC,DOC_FLAG_W
,,,,,,,GMT,GMT,,,METER,DBAR,ITS-90,PSS-78,,UMOL/KG,,PSS-78,,UMOL/KG,,UMOL/KG,,UMOL/KG,,UMOL/KG,,UMOL/KG,,UMOL/KG,,PMOL/KG,,PMOL/KG,,/MILLE,,UMOL/KG,,UMOL/KG,,25_DEG_C,,DEG_C,,,,/MILLE,UMOL/KG,,UMOL/KG,,UG/L,,UG/L,,DBAR,ITS-90,METERS,,METERS,DEG_C,,UMOL/L,
       RF00-04,  165E,RF-1059,  1,     -9,      -9,5,20000512,1943, 34.9987, 164.9622, 5933,      0.0,  15.2585,  34.3784,2,   -999.0,9,-999.0000,9,    371.4,4,     6.92,2,  -999.00,9,     1.37,2,     0.05,2,     0.20,2, -999.000,9, -999.000,9,  -999.00,9,   -999.0,9,   -999.0,9,-999.0000,9,   -999.0,  9,  -999.00,9,   -999.0,  -999.00,9,  -999.00,9,  -999.00,9,  -999.00,9,   -999.0,-999.0000, -999,9,    0,  15.2585,  25.4359,   -999.0,9
       RF00-04,  165E,RF-1059,  1,     24,02-10154,2,20000512,1941, 34.9987, 164.9622, 5933,     10.1,  15.2569,  34.3874,2,   -999.0,9,-999.0000,9,    257.5,2,     6.82,2,  -999.00,9,     1.36,2,     0.05,2,     0.19,2, -999.000,9, -999.000,9,  -999.00,9,   -999.0,9,   -999.0,9,-999.0000,9,   -999.0,  9,  -999.00,9,   -999.0,  -999.00,9,  -999.00,9,  -999.00,9,  -999.00,9,   -999.0,-999.0000, -999,9,   10,  15.2554,  25.4435,   -999.0,9
       RF00-04,  165E,RF-1059,  1,     23,02-12829,2,20000512,1939, 34.9987, 164.9622, 5933,     27.8,  15.2506,  34.3862,2,   -999.0,9,-999.0000,9,    257.4,2,     7.05,2,  -999.00,9,     2.18,2,     0.11,2,     0.21,2, -999.000,9, -999.000,9,  -999.00,9,   -999.0,9,   -999.0,9,-999.0000,9,   -999.0,  9,  -999.00,9,   -999.0,  -999.00,9,  -999.00,9,  -999.00,9,  -999.00,9,   -999.0,-999.0000, -999,9,   28,  15.2463,  25.4445,   -999.0,9
       RF00-04,  165E,RF-1059,  1,     22,02-12828,2,20000512,1938, 34.9987, 164.9622, 5933,     52.0,  13.7244,  34.4729,2,   -999.0,9,-999.0000,9,    249.8,2,     8.89,2,  -999.00,9,     6.25,2,     0.38,2,     0.45,2, -999.000,9, -999.000,9,  -999.00,9,   -999.0,9,   -999.0,9,-999.0000,9,   -999.0,  9,  -999.00,9,   -999.0,  -999.00,9,  -999.00,9,  -999.00,9,  -999.00,9,   -999.0,-999.0000, -999,9,   52,  13.7171,  25.8386,   -999.0,9
       RF00-04,  165E,RF-1059,  1,     21,02-12827,2,20000512,1937, 34.9987, 164.9622, 5933,     76.6,  13.1671,  34.4288,2,   -999.0,9,-999.0000,9,    243.1,2,     9.72,2,  -999.00,9,     7.79,2,     0.02,2,     0.54,2, -999.000,9, -999.000,9,  -999.00,9,   -999.0,9,   -999.0,9,-999.0000,9,   -999.0,  9,  -999.00,9,   -999.0,  -999.00,9,  -999.00,9,  -999.00,9,  -999.00,9,   -999.0,-999.0000, -999,9,   76,  13.1566,  25.9189,   -999.0,9
       RF00-04,  165E,RF-1059,  1,     20,02-12826,2,20000512,1935, 34.9987, 164.9622, 5933,    101.6,  12.7555,  34.4059,2,   -999.0,9,  34.4068,2,    240.0,2,    10.83,2,  -999.00,9,     8.66,2,     0.01,2,     0.58,2, -999.000,9, -999.000,9,  -999.00,9,   -999.0,9,   -999.0,9,-999.0000,9,   -999.0,  9,  -999.00,9,   -999.0,  -999.00,9,  -999.00,9,  -999.00,9,  -999.00,9,   -999.0,-999.0000, -999,9,  101,  12.7419,  25.9839,   -999.0,9
       RF00-04,  165E,RF-1059,  1,     19,02-12825,2,20000512,1934, 34.9987, 164.9622, 5933,    126.5,  12.2809,  34.3773,2,   -999.0,9,-999.0000,9,    233.5,2,    12.79,2,  -999.00,9,    10.20,2,     0.00,2,     0.67,2, -999.000,9, -999.000,9,  -999.00,9,   -999.0,9,   -999.0,9,-999.0000,9,   -999.0,  9,  -999.00,9,   -999.0,  -999.00,9,  -999.00,9,  -999.00,9,  -999.00,9,   -999.0,-999.0000, -999,9,  126,  12.2643,  26.0548,   -999.0,9
       RF00-04,  165E,RF-1059,  1,     18,02-12830,2,20000512,1933, 34.9987, 164.9622, 5933,    152.9,  11.7391,  34.3337,2,   -999.0,9,-999.0000,9,    225.4,2,    15.17,2,  -999.00,9,    11.92,2,     0.00,2,     0.78,2, -999.000,9, -999.000,9,  -999.00,9,   -999.0,9,   -999.0,9,-999.0000,9,   -999.0,  9,  -999.00,9,   -999.0,  -999.00,9,  -999.00,9,  -999.00,9,  -999.00,9,   -999.0,-999.0000, -999,9,  152,  11.7196,  26.1245,   -999.0,9
       RF00-04,  165E,RF-1059,  1,     17,02-13591,2,20000512,1931, 34.9987, 164.9622, 5933,    202.0,  10.7513,  34.2478,2,   -999.0,9,-999.0000,9,    270.9,4,    17.81,2,  -999.00,9,    13.55,2,     0.00,2,     0.91,2, -999.000,9, -999.000,9,  -999.00,9,   -999.0,9,   -999.0,9,-999.0000,9,   -999.0,  9,  -999.00,9,   -999.0,  -999.00,9,  -999.00,9,  -999.00,9,  -999.00,9,   -999.0,-999.0000, -999,9,  200,  10.7269,  26.2385,   -999.0,9
       RF00-04,  165E,RF-1059,  1,     16,02-13588,2,20000512,1929, 34.9987, 164.9622, 5933,    249.6,   9.7495,  34.1609,2,   -999.0,9,-999.0000,9,    227.4,2,    20.76,2,  -999.00,9,    15.27,2,     0.00,2,     1.03,2, -999.000,9, -999.000,9,  -999.00,9,   -999.0,9,   -999.0,9,-999.0000,9,   -999.0,  9,  -999.00,9,   -999.0,  -999.00,9,  -999.00,9,  -999.00,9,  -999.00,9,   -999.0,-999.0000, -999,9,  248,   9.7212,  26.3436,   -999.0,9
       RF00-04,  165E,RF-1059,  1,     15,02-10155,2,20000512,1928, 34.9987, 164.9622, 5933,    302.3,   8.6999,  34.0569,2,   -999.0,9,  34.0472,4,    226.0,2,    24.39,2,  -999.00,9,    17.15,2,     0.00,2,     1.18,2, -999.000,9, -999.000,9,  -999.00,9,   -999.0,9,   -999.0,9,-999.0000,9,   -999.0,  9,  -999.00,9,   -999.0,  -999.00,9,  -999.00,9,  -999.00,9,  -999.00,9,   -999.0,-999.0000, -999,9,  300,   8.6680,  26.4318,   -999.0,9
       RF00-04,  165E,RF-1059,  1,     14,02-13579,2,20000512,1925, 34.9987, 164.9622, 5933,    402.9,   6.7006,  33.9493,2,   -999.0,9,-999.0000,9,    183.5,2,    42.94,2,  -999.00,9,    25.33,2,     0.00,2,     1.77,2, -999.000,9, -999.000,9,  -999.00,9,   -999.0,9,   -999.0,9,-999.0000,9,   -999.0,  9,  -999.00,9,   -999.0,  -999.00,9,  -999.00,9,  -999.00,9,  -999.00,9,   -999.0,-999.0000, -999,9,  400,   6.6639,  26.6365,   -999.0,9
       RF00-04,  165E,RF-1059,  1,     13,02-13590,2,20000512,1922, 34.9987, 164.9622, 5933,    504.0,   5.5178,  33.9996,2,   -999.0,9,  34.0002,2,    122.6,2,    64.49,2,  -999.00,9,    32.61,2,     0.00,2,     2.30,2, -999.000,9, -999.000,9,  -999.00,9,   -999.0,9,   -999.0,9,-999.0000,9,   -999.0,  9,  -999.00,9,   -999.0,  -999.00,9,  -999.00,9,  -999.00,9,  -999.00,9,   -999.0,-999.0000, -999,9,  500,   5.4760,  26.8264,   -999.0,9
       RF00-04,  165E,RF-1059,  1,     12,02-12821,2,20000512,1920, 34.9987, 164.9622, 5933,    604.2,   4.4960,  34.0690,2,   -999.0,9,-999.0000,9,     78.5,2,    85.58,2,  -999.00,9,    37.75,2,     0.00,2,     2.68,2, -999.000,9, -999.000,9,  -999.00,9,   -999.0,9,   -999.0,9,-999.0000,9,   -999.0,  9,  -999.00,9,   -999.0,  -999.00,9,  -999.00,9,  -999.00,9,  -999.00,9,   -999.0,-999.0000, -999,9,  599,   4.4502,  26.9983,   -999.0,9
       RF00-04,  165E,RF-1059,  1,     11,02-12811,2,20000512,1915, 34.9987, 164.9622, 5933,    807.2,   3.7251,  34.2273,2,   -999.0,9,  34.2253,2,     43.3,2,   109.55,2,  -999.00,9,    41.32,2,     0.00,2,     2.93,2, -999.000,9, -999.000,9,  -999.00,9,   -999.0,9,   -999.0,9,-999.0000,9,   -999.0,  9,  -999.00,9,   -999.0,  -999.00,9,  -999.00,9,  -999.00,9,  -999.00,9,   -999.0,-999.0000, -999,9,  800,   3.6673,  27.2050,   -999.0,9
       RF00-04,  165E,RF-1059,  1,     10,02-12820,2,20000512,1911, 34.9987, 164.9622, 5933,   1008.1,   3.2055,  34.3477,2,   -999.0,9,  34.3437,2,     34.3,2,   125.59,2,  -999.00,9,    42.41,2,     0.00,2,     3.00,2, -999.000,9, -999.000,9,  -999.00,9,   -999.0,9,   -999.0,9,-999.0000,9,   -999.0,  9,  -999.00,9,   -999.0,  -999.00,9,  -999.00,9,  -999.00,9,  -999.00,9,   -999.0,-999.0000, -999,9,  998,   3.1357,  27.3519,   -999.0,9
       RF00-04,  165E,RF-1059,  1,      9,02-12810,2,20000512,1906, 34.9987, 164.9622, 5933,   1265.0,   2.7064,  34.4501,2,   -999.0,9,-999.0000,9,     33.0,2,   139.01,2,  -999.00,9,    42.94,2,     0.00,2,     3.04,2, -999.000,9, -999.000,9,  -999.00,9,   -999.0,9,   -999.0,9,-999.0000,9,   -999.0,  9,  -999.00,9,   -999.0,  -999.00,9,  -999.00,9,  -999.00,9,  -999.00,9,   -999.0,-999.0000, -999,9, 1252,   2.6209,  27.4798,   -999.0,9
       RF00-04,  165E,RF-1059,  1,      8,02-12819,2,20000512,1900, 34.9987, 164.9622, 5933,   1517.0,   2.3501,  34.5151,2,   -999.0,9,  34.5039,4,     40.4,2,   147.64,2,  -999.00,9,    42.60,2,     0.00,2,     3.01,2, -999.000,9, -999.000,9,  -999.00,9,   -999.0,9,   -999.0,9,-999.0000,9,   -999.0,  9,  -999.00,9,   -999.0,  -999.00,9,  -999.00,9,  -999.00,9,  -999.00,9,   -999.0,-999.0000, -999,9, 1501,   2.2486,  27.5632,   -999.0,9
       RF00-04,  165E,RF-1059,  1,      7,02-12815,2,20000512,1851, 34.9987, 164.9622, 5933,   2024.0,   1.9271,  34.5925,2,   -999.0,9,  34.5958,2,     70.9,2,   152.54,2,  -999.00,9,    41.16,2,     0.00,2,     2.86,2, -999.000,9, -999.000,9,  -999.00,9,   -999.0,9,   -999.0,9,-999.0000,9,   -999.0,  9,  -999.00,9,   -999.0,  -999.00,9,  -999.00,9,  -999.00,9,  -999.00,9,   -999.0,-999.0000, -999,9, 2000,   1.7899,  27.6615,   -999.0,9
       RF00-04,  165E,RF-1059,  1,      6,02-12818,2,20000512,1832, 34.9987, 164.9622, 5933,   3045.5,   1.5361,  34.6652,2,   -999.0,9,  34.6613,2,    125.7,2,   146.72,2,  -999.00,9,    38.00,2,     0.00,2,     2.59,2, -999.000,9, -999.000,9,  -999.00,9,   -999.0,9,   -999.0,9,-999.0000,9,   -999.0,  9,  -999.00,9,   -999.0,  -999.00,9,  -999.00,9,  -999.00,9,  -999.00,9,   -999.0,-999.0000, -999,9, 3002,   1.3143,  27.7548,   -999.0,9
       RF00-04,  165E,RF-1059,  1,      5,02-12809,2,20000512,1823, 34.9987, 164.9622, 5933,   3554.1,   1.4750,  34.6734,2,   -999.0,9,-999.0000,9,    141.1,2,   142.94,2,  -999.00,9,    37.12,2,     0.00,2,     2.51,2, -999.000,9, -999.000,9,  -999.00,9,   -999.0,9,   -999.0,9,-999.0000,9,   -999.0,  9,  -999.00,9,   -999.0,  -999.00,9,  -999.00,9,  -999.00,9,  -999.00,9,   -999.0,-999.0000, -999,9, 3499,   1.2040,  27.7690,   -999.0,9
       RF00-04,  165E,RF-1059,  1,      4,02-12817,2,20000512,1815, 34.9987, 164.9622, 5933,   4066.8,   1.4589,  34.6797,2,   -999.0,9,  34.6863,2,    149.6,2,   140.36,2,  -999.00,9,    36.51,2,     0.00,2,     2.45,2, -999.000,9, -999.000,9,  -999.00,9,   -999.0,9,   -999.0,9,-999.0000,9,   -999.0,  9,  -999.00,9,   -999.0,  -999.00,9,  -999.00,9,  -999.00,9,  -999.00,9,   -999.0,-999.0000, -999,9, 3999,   1.1339,  27.7789,   -999.0,9
       RF00-04,  165E,RF-1059,  1,      2,02-13589,4,20000512,1758, 34.9987, 164.9622, 5933,   5092.4,   1.4886,  34.6883,2,   -999.0,9,-999.0000,9,   -999.0,4,  -999.00,4,  -999.00,9,  -999.00,4,  -999.00,4,  -999.00,4, -999.000,9, -999.000,9,  -999.00,9,   -999.0,9,   -999.0,9,-999.0000,9,   -999.0,  9,  -999.00,9,   -999.0,  -999.00,9,  -999.00,9,  -999.00,9,  -999.00,9,   -999.0,-999.0000, -999,9, 4996,   1.0435,  27.7920,   -999.0,9
       RF00-04,  165E,RF-1059,  1,      3,02-12808,2,20000512,1759, 34.9987, 164.9622, 5933,   5093.2,   1.4888,  34.6880,2,   -999.0,9,  34.6768,4,    164.4,2,   131.65,2,  -999.00,9,    35.50,2,     0.00,2,     2.38,2, -999.000,9, -999.000,9,  -999.00,9,   -999.0,9,   -999.0,9,-999.0000,9,   -999.0,  9,  -999.00,9,   -999.0,  -999.00,9,  -999.00,9,  -999.00,9,  -999.00,9,   -999.0,-999.0000, -999,9, 4997,   1.0436,  27.7917,   -999.0,9
       RF00-04,  165E,RF-1059,  1,      1,02-12807,2,20000512,1746, 34.9987, 164.9622, 5933,   5828.0,   1.5402,  34.6902,2,   -999.0,9,  34.6941,2,    171.9,2,   126.98,2,  -999.00,9,    34.93,2,     0.00,2,     2.34,2, -999.000,9, -999.000,9,  -999.00,9,   -999.0,9,   -999.0,9,-999.0000,9,   -999.0,  9,  -999.00,9,   -999.0,  -999.00,9,  -999.00,9,  -999.00,9,  -999.00,9,   -999.0,-999.0000, -999,9, 5709,   0.9996,  27.7964,   -999.0,9