BOTTLE,20130510GEMDJMAYT
EXPOCODE,SECT_ID,STNNBR,CASTNO,SAMPNO,BTLNBR,BTLNBR_FLAG_W,DATE,TIME,LATITUDE,LONGITUDE,DEPTH,CTDPRS,CTDTMP,CTDSAL,CTDSAL_FLAG_W,CTDOXY,CTDOXY_FLAG_W,SALNTY,SALNTY_FLAG_W,OXYGEN,OXYGEN_FLAG_W,SILCAT,SILCAT_FLAG_W,NITRAT,NITRAT_FLAG_W,NO2+NO3,NO2+NO3_FLAG_W,NITRIT,NITRIT_FLAG_W,PHSPHT,PHSPHT_FLAG_W,CFC-11,CFC-11_FLAG_W,CFC-12,CFC-12_FLAG_W,DELC13,DELC13_FLAG_W,TCARBN,TCARBN_FLAG_W,ALKALI,ALKALI_FLAG_W,PH,PH_FLAG_W,PH_TMP,PH_SCALE,PH_NBS,PH_NBS_FLAG_W,C13ERR,TOTALP,TOTALP_FLAG_W,AMMONI,AMMONI_FLAG_W,CHLORA,CHLORA_FLAG_W,PPHYTN,PPHYTN_FLAG_W,REVPRS,REVTMP,DEPTH_,DEPTH_FLAG,CTDDEP,THETA,SIGTHT,DOC,DOC_FLAG_W
,,,,,,,GMT,GMT,,,METER,DBAR,ITS-90,PSS-78,,UMOL/KG,,PSS-78,,UMOL/KG,,UMOL/KG,,UMOL/KG,,UMOL/KG,,UMOL/KG,,UMOL/KG,,PMOL/KG,,PMOL/KG,,/MILLE,,UMOL/KG,,UMOL/KG,,25_DEG_C,,DEG_C,,,,/MILLE,UMOL/KG,,UMOL/KG,,UG/L,,UG/L,,DBAR,ITS-90,METERS,,METERS,DEG_C,,UMOL/L,
       RF00-04,  165E,RF-1057,  1,     -9,      -9,5,20000512,0218, 37.0017, 165.0182, 4738,      0.0,  15.1844,  34.6484,2,   -999.0,9,-999.0000,9,    253.7,2,     5.99,2,  -999.00,9,     2.47,2,     0.08,2,     0.23,2, -999.000,9, -999.000,9,  -999.00,9,   -999.0,9,   -999.0,9,-999.0000,9,   -999.0,  9,  -999.00,9,   -999.0,  -999.00,9,  -999.00,9,  -999.00,9,  -999.00,9,   -999.0,-999.0000, -999,9,    0,  15.1844,  25.6603,   -999.0,9
       RF00-04,  165E,RF-1057,  1,     24,02-10154,2,20000512,0216, 37.0017, 165.0182, 4738,      9.8,  15.1804,  34.6507,2,   -999.0,9,-999.0000,9,    258.9,2,     6.26,2,  -999.00,9,     2.39,2,     0.07,2,     0.18,2, -999.000,9, -999.000,9,  -999.00,9,   -999.0,9,   -999.0,9,-999.0000,9,   -999.0,  9,  -999.00,9,   -999.0,  -999.00,9,  -999.00,9,  -999.00,9,  -999.00,9,   -999.0,-999.0000, -999,9,   10,  15.1789,  25.6632,   -999.0,9
       RF00-04,  165E,RF-1057,  1,     23,02-12829,2,20000512,0215, 37.0017, 165.0182, 4738,     25.2,  15.1659,  34.6502,2,   -999.0,9,-999.0000,9,    258.0,2,     6.30,2,  -999.00,9,     2.44,2,     0.08,2,     0.17,2, -999.000,9, -999.000,9,  -999.00,9,   -999.0,9,   -999.0,9,-999.0000,9,   -999.0,  9,  -999.00,9,   -999.0,  -999.00,9,  -999.00,9,  -999.00,9,  -999.00,9,   -999.0,-999.0000, -999,9,   25,  15.1621,  25.6666,   -999.0,9
       RF00-04,  165E,RF-1057,  1,     22,02-12828,2,20000512,0214, 37.0017, 165.0182, 4738,     50.9,  14.1639,  34.5338,2,   -999.0,9,-999.0000,9,    245.1,2,     8.31,2,  -999.00,9,     6.17,2,     0.58,2,     0.38,2, -999.000,9, -999.000,9,  -999.00,9,   -999.0,9,   -999.0,9,-999.0000,9,   -999.0,  9,  -999.00,9,   -999.0,  -999.00,9,  -999.00,9,  -999.00,9,  -999.00,9,   -999.0,-999.0000, -999,9,   50,  14.1566,  25.7939,   -999.0,9
       RF00-04,  165E,RF-1057,  1,     21,02-12827,2,20000512,0212, 37.0017, 165.0182, 4738,     74.7,  13.8034,  34.5199,2,   -999.0,9,-999.0000,9,    247.4,2,     8.15,2,  -999.00,9,     6.35,2,     0.31,2,     0.39,2, -999.000,9, -999.000,9,  -999.00,9,   -999.0,9,   -999.0,9,-999.0000,9,   -999.0,  9,  -999.00,9,   -999.0,  -999.00,9,  -999.00,9,  -999.00,9,  -999.00,9,   -999.0,-999.0000, -999,9,   74,  13.7928,  25.8593,   -999.0,9
       RF00-04,  165E,RF-1057,  1,     20,02-12826,2,20000512,0211, 37.0017, 165.0182, 4738,    101.1,  13.6504,  34.5170,2,   -999.0,9,  34.5204,2,    248.3,2,     8.32,2,  -999.00,9,     6.58,2,     0.07,2,     0.41,2, -999.000,9, -999.000,9,  -999.00,9,   -999.0,9,   -999.0,9,-999.0000,9,   -999.0,  9,  -999.00,9,   -999.0,  -999.00,9,  -999.00,9,  -999.00,9,  -999.00,9,   -999.0,-999.0000, -999,9,  100,  13.6361,  25.8894,   -999.0,9
       RF00-04,  165E,RF-1057,  1,     19,02-12825,2,20000512,0210, 37.0017, 165.0182, 4738,    125.9,  13.4500,  34.4930,2,   -999.0,9,-999.0000,9,    245.4,2,     8.68,2,  -999.00,9,     7.11,2,     0.01,2,     0.43,2, -999.000,9, -999.000,9,  -999.00,9,   -999.0,9,   -999.0,9,-999.0000,9,   -999.0,  9,  -999.00,9,   -999.0,  -999.00,9,  -999.00,9,  -999.00,9,  -999.00,9,   -999.0,-999.0000, -999,9,  125,  13.4324,  25.9127,   -999.0,9
       RF00-04,  165E,RF-1057,  1,     18,02-12830,2,20000512,0208, 37.0017, 165.0182, 4738,    152.2,  13.2526,  34.4721,2,   -999.0,9,-999.0000,9,    301.2,4,     9.28,2,  -999.00,9,     7.54,2,     0.01,2,     0.46,2, -999.000,9, -999.000,9,  -999.00,9,   -999.0,9,   -999.0,9,-999.0000,9,   -999.0,  9,  -999.00,9,   -999.0,  -999.00,9,  -999.00,9,  -999.00,9,  -999.00,9,   -999.0,-999.0000, -999,9,  151,  13.2315,  25.9374,   -999.0,9
       RF00-04,  165E,RF-1057,  1,     17,02-13591,2,20000512,0206, 37.0017, 165.0182, 4738,    199.4,  12.4831,  34.4117,2,   -999.0,9,-999.0000,9,    234.3,2,    12.27,2,  -999.00,9,     9.73,2,     0.01,2,     0.60,2, -999.000,9, -999.000,9,  -999.00,9,   -999.0,9,   -999.0,9,-999.0000,9,   -999.0,  9,  -999.00,9,   -999.0,  -999.00,9,  -999.00,9,  -999.00,9,  -999.00,9,   -999.0,-999.0000, -999,9,  198,  12.4565,  26.0443,   -999.0,9
       RF00-04,  165E,RF-1057,  1,     16,02-13588,2,20000512,0205, 37.0017, 165.0182, 4738,    250.0,  11.4765,  34.3456,2,   -999.0,9,-999.0000,9,    222.5,2,    16.90,2,  -999.00,9,    12.63,2,     0.00,2,     0.79,2, -999.000,9, -999.000,9,  -999.00,9,   -999.0,9,   -999.0,9,-999.0000,9,   -999.0,  9,  -999.00,9,   -999.0,  -999.00,9,  -999.00,9,  -999.00,9,  -999.00,9,   -999.0,-999.0000, -999,9,  248,  11.4450,  26.1847,   -999.0,9
       RF00-04,  165E,RF-1057,  1,     15,02-10155,2,20000512,0203, 37.0017, 165.0182, 4738,    301.5,  10.1044,  34.2114,2,   -999.0,9,  34.2119,2,    209.9,2,    23.15,2,  -999.00,9,    16.25,2,     0.00,2,     1.05,2, -999.000,9, -999.000,9,  -999.00,9,   -999.0,9,   -999.0,9,-999.0000,9,   -999.0,  9,  -999.00,9,   -999.0,  -999.00,9,  -999.00,9,  -999.00,9,  -999.00,9,   -999.0,-999.0000, -999,9,  299,  10.0694,  26.3243,   -999.0,9
       RF00-04,  165E,RF-1057,  1,     14,02-13579,2,20000512,0200, 37.0017, 165.0182, 4738,    402.0,   7.3955,  33.9989,2,   -999.0,9,-999.0000,9,    209.8,4,    38.96,2,  -999.00,9,    23.60,2,     0.00,2,     1.60,2, -999.000,9, -999.000,9,  -999.00,9,   -999.0,9,   -999.0,9,-999.0000,9,   -999.0,  9,  -999.00,9,   -999.0,  -999.00,9,  -999.00,9,  -999.00,9,  -999.00,9,   -999.0,-999.0000, -999,9,  399,   7.3567,  26.5806,   -999.0,9
       RF00-04,  165E,RF-1057,  1,     13,02-13590,2,20000512,0157, 37.0017, 165.0182, 4738,    503.7,   5.7366,  33.9936,2,   -999.0,9,  33.9956,2,    132.9,2,    61.13,2,  -999.00,9,    31.25,2,     0.00,2,     2.16,2, -999.000,9, -999.000,9,  -999.00,9,   -999.0,9,   -999.0,9,-999.0000,9,   -999.0,  9,  -999.00,9,   -999.0,  -999.00,9,  -999.00,9,  -999.00,9,  -999.00,9,   -999.0,-999.0000, -999,9,  499,   5.6940,  26.7954,   -999.0,9
       RF00-04,  165E,RF-1057,  1,     12,02-12821,2,20000512,0155, 37.0017, 165.0182, 4738,    603.2,   4.3395,  34.0096,2,   -999.0,9,-999.0000,9,     83.4,2,    84.04,2,  -999.00,9,    37.95,2,     0.00,2,     2.65,2, -999.000,9, -999.000,9,  -999.00,9,   -999.0,9,   -999.0,9,-999.0000,9,   -999.0,  9,  -999.00,9,   -999.0,  -999.00,9,  -999.00,9,  -999.00,9,  -999.00,9,   -999.0,-999.0000, -999,9,  598,   4.2945,  26.9676,   -999.0,9
       RF00-04,  165E,RF-1057,  1,     11,02-12811,2,20000512,0150, 37.0017, 165.0182, 4738,    803.2,   3.8049,  34.2213,2,   -999.0,9,  34.2192,2,     45.3,2,   108.50,2,  -999.00,9,    41.46,2,     0.00,2,     2.90,2, -999.000,9, -999.000,9,  -999.00,9,   -999.0,9,   -999.0,9,-999.0000,9,   -999.0,  9,  -999.00,9,   -999.0,  -999.00,9,  -999.00,9,  -999.00,9,  -999.00,9,   -999.0,-999.0000, -999,9,  796,   3.7469,  27.1923,   -999.0,9
       RF00-04,  165E,RF-1057,  1,     10,02-12820,2,20000512,0146, 37.0017, 165.0182, 4738,   1008.4,   3.3154,  34.3428,2,   -999.0,9,  34.3404,2,     35.4,2,   124.07,2,  -999.00,9,    42.64,2,     0.00,2,     2.99,2, -999.000,9, -999.000,9,  -999.00,9,   -999.0,9,   -999.0,9,-999.0000,9,   -999.0,  9,  -999.00,9,   -999.0,  -999.00,9,  -999.00,9,  -999.00,9,  -999.00,9,   -999.0,-999.0000, -999,9,  999,   3.2447,  27.3378,   -999.0,9
       RF00-04,  165E,RF-1057,  1,      9,02-12810,2,20000512,0141, 37.0017, 165.0182, 4738,   1262.0,   2.7821,  34.4410,2,   -999.0,9,-999.0000,9,     32.7,2,   138.22,2,  -999.00,9,    43.08,2,     0.00,2,     3.02,2, -999.000,9, -999.000,9,  -999.00,9,   -999.0,9,   -999.0,9,-999.0000,9,   -999.0,  9,  -999.00,9,   -999.0,  -999.00,9,  -999.00,9,  -999.00,9,  -999.00,9,   -999.0,-999.0000, -999,9, 1249,   2.6961,  27.4660,   -999.0,9
       RF00-04,  165E,RF-1057,  1,      8,02-12819,2,20000512,0136, 37.0017, 165.0182, 4738,   1514.9,   2.4194,  34.5050,2,   -999.0,9,  34.5010,2,     39.8,2,   147.07,2,  -999.00,9,    43.16,2,     0.00,2,     3.01,2, -999.000,9, -999.000,9,  -999.00,9,   -999.0,9,   -999.0,9,-999.0000,9,   -999.0,  9,  -999.00,9,   -999.0,  -999.00,9,  -999.00,9,  -999.00,9,  -999.00,9,   -999.0,-999.0000, -999,9, 1498,   2.3173,  27.5495,   -999.0,9
       RF00-04,  165E,RF-1057,  1,      7,02-12815,2,20000512,0127, 37.0017, 165.0182, 4738,   2022.9,   1.9530,  34.5884,2,   -999.0,9,  34.5901,2,     68.2,2,   153.99,2,  -999.00,9,    41.76,2,     0.00,2,     2.87,2, -999.000,9, -999.000,9,  -999.00,9,   -999.0,9,   -999.0,9,-999.0000,9,   -999.0,  9,  -999.00,9,   -999.0,  -999.00,9,  -999.00,9,  -999.00,9,  -999.00,9,   -999.0,-999.0000, -999,9, 1998,   1.8155,  27.6563,   -999.0,9
       RF00-04,  165E,RF-1057,  1,      6,02-12818,2,20000512,0117, 37.0017, 165.0182, 4738,   2531.8,   1.6840,  34.6351,2,   -999.0,9,  34.6371,2,     99.6,2,   152.83,2,  -999.00,9,    39.57,2,     0.00,2,     2.71,2, -999.000,9, -999.000,9,  -999.00,9,   -999.0,9,   -999.0,9,-999.0000,9,   -999.0,  9,  -999.00,9,   -999.0,  -999.00,9,  -999.00,9,  -999.00,9,  -999.00,9,   -999.0,-999.0000, -999,9, 2498,   1.5069,  27.7168,   -999.0,9
       RF00-04,  165E,RF-1057,  1,      5,02-12809,2,20000512,0107, 37.0017, 165.0182, 4738,   3042.3,   1.5319,  34.6613,2,   -999.0,9,-999.0000,9,    125.7,2,   148.07,2,  -999.00,9,    38.24,2,     0.00,2,     2.58,2, -999.000,9, -999.000,9,  -999.00,9,   -999.0,9,   -999.0,9,-999.0000,9,   -999.0,  9,  -999.00,9,   -999.0,  -999.00,9,  -999.00,9,  -999.00,9,  -999.00,9,   -999.0,-999.0000, -999,9, 2998,   1.3104,  27.7520,   -999.0,9
       RF00-04,  165E,RF-1057,  1,      4,02-12817,2,20000512,0058, 37.0017, 165.0182, 4738,   3554.6,   1.4671,  34.6755,2,   -999.0,9,  34.6766,2,    142.8,2,   144.16,2,  -999.00,9,    37.27,2,     0.00,2,     2.50,2, -999.000,9, -999.000,9,  -999.00,9,   -999.0,9,   -999.0,9,-999.0000,9,   -999.0,  9,  -999.00,9,   -999.0,  -999.00,9,  -999.00,9,  -999.00,9,  -999.00,9,   -999.0,-999.0000, -999,9, 3499,   1.1962,  27.7713,   -999.0,9
       RF00-04,  165E,RF-1057,  1,      2,02-13589,2,20000512,0048, 37.0017, 165.0182, 4738,   4065.5,   1.4519,  34.6820,2,   -999.0,9,-999.0000,9,    150.9,2,   142.43,2,  -999.00,9,    36.78,2,     0.00,2,     2.44,2, -999.000,9, -999.000,9,  -999.00,9,   -999.0,9,   -999.0,9,-999.0000,9,   -999.0,  9,  -999.00,9,   -999.0,  -999.00,9,  -999.00,9,  -999.00,9,  -999.00,9,   -999.0,-999.0000, -999,9, 3997,   1.1273,  27.7813,   -999.0,9
       RF00-04,  165E,RF-1057,  1,      3,02-12808,2,20000512,0048, 37.0017, 165.0182, 4738,   4066.3,   1.4519,  34.6820,2,   -999.0,9,  34.6851,2,    165.0,4,   142.30,2,  -999.00,9,    36.73,2,     0.00,2,     2.45,2, -999.000,9, -999.000,9,  -999.00,9,   -999.0,9,   -999.0,9,-999.0000,9,   -999.0,  9,  -999.00,9,   -999.0,  -999.00,9,  -999.00,9,  -999.00,9,  -999.00,9,   -999.0,-999.0000, -999,9, 3998,   1.1271,  27.7813,   -999.0,9
       RF00-04,  165E,RF-1057,  1,      1,02-12807,2,20000512,0039, 37.0017, 165.0182, 4738,   4580.8,   1.4723,  34.6883,2,   -999.0,9,  34.6882,2,    155.9,2,   141.56,2,  -999.00,9,    36.46,2,     0.00,2,     2.43,2, -999.000,9, -999.000,9,  -999.00,9,   -999.0,9,   -999.0,9,-999.0000,9,   -999.0,  9,  -999.00,9,   -999.0,  -999.00,9,  -999.00,9,  -999.00,9,  -999.00,9,   -999.0,-999.0000, -999,9, 4499,   1.0889,  27.7889,   -999.0,9