BOTTLE,20130510GEMDJMAYT
EXPOCODE,SECT_ID,STNNBR,CASTNO,SAMPNO,BTLNBR,BTLNBR_FLAG_W,DATE,TIME,LATITUDE,LONGITUDE,DEPTH,CTDPRS,CTDTMP,CTDSAL,CTDSAL_FLAG_W,CTDOXY,CTDOXY_FLAG_W,SALNTY,SALNTY_FLAG_W,OXYGEN,OXYGEN_FLAG_W,SILCAT,SILCAT_FLAG_W,NITRAT,NITRAT_FLAG_W,NO2+NO3,NO2+NO3_FLAG_W,NITRIT,NITRIT_FLAG_W,PHSPHT,PHSPHT_FLAG_W,CFC-11,CFC-11_FLAG_W,CFC-12,CFC-12_FLAG_W,DELC13,DELC13_FLAG_W,TCARBN,TCARBN_FLAG_W,ALKALI,ALKALI_FLAG_W,PH,PH_FLAG_W,PH_TMP,PH_SCALE,PH_NBS,PH_NBS_FLAG_W,C13ERR,TOTALP,TOTALP_FLAG_W,AMMONI,AMMONI_FLAG_W,CHLORA,CHLORA_FLAG_W,PPHYTN,PPHYTN_FLAG_W,REVPRS,REVTMP,DEPTH_,DEPTH_FLAG,CTDDEP,THETA,SIGTHT,DOC,DOC_FLAG_W
,,,,,,,GMT,GMT,,,METER,DBAR,ITS-90,PSS-78,,UMOL/KG,,PSS-78,,UMOL/KG,,UMOL/KG,,UMOL/KG,,UMOL/KG,,UMOL/KG,,UMOL/KG,,PMOL/KG,,PMOL/KG,,/MILLE,,UMOL/KG,,UMOL/KG,,25_DEG_C,,DEG_C,,,,/MILLE,UMOL/KG,,UMOL/KG,,UG/L,,UG/L,,DBAR,ITS-90,METERS,,METERS,DEG_C,,UMOL/L,
       RF00-04,  NONE,RF-1022,  1,     22,02-12828,2,20000426,1633, 39.9883, 143.9735, 4263,      2.4,  13.9945,  34.5455,2,   -999.0,9,-999.0000,9,    250.3,2,     8.10,2,  -999.00,9,     5.16,2,     0.18,2,     0.39,2, -999.000,9, -999.000,9,  -999.00,9,   -999.0,9,   -999.0,9,-999.0000,9,   -999.0,  9,  -999.00,9,   -999.0,  -999.00,9,  -999.00,9,     1.03,2,     0.33,2,   -999.0,-999.0000, -999,9,    2,  13.9942,  25.8370,   -999.0,9
       RF00-04,  NONE,RF-1022,  1,     21,02-12827,2,20000426,1630, 39.9883, 143.9735, 4263,     10.7,  13.9899,  34.5444,2,   -999.0,9,-999.0000,9,    257.3,2,     8.13,2,  -999.00,9,     5.25,2,     0.19,2,     0.39,2, -999.000,9, -999.000,9,  -999.00,9,   -999.0,9,   -999.0,9,-999.0000,9,   -999.0,  9,  -999.00,9,   -999.0,  -999.00,9,  -999.00,9,     1.20,2,     0.41,2,   -999.0,-999.0000, -999,9,   11,  13.9884,  25.8374,   -999.0,9
       RF00-04,  NONE,RF-1022,  1,     20,02-12826,2,20000426,1629, 39.9883, 143.9735, 4263,     21.9,  13.9878,  34.5459,2,   -999.0,9,-999.0000,9,    249.7,2,     8.18,2,  -999.00,9,     5.22,2,     0.19,2,     0.37,2, -999.000,9, -999.000,9,  -999.00,9,   -999.0,9,   -999.0,9,-999.0000,9,   -999.0,  9,  -999.00,9,   -999.0,  -999.00,9,  -999.00,9,     1.11,2,     0.43,2,   -999.0,-999.0000, -999,9,   22,  13.9847,  25.8394,   -999.0,9
       RF00-04,  NONE,RF-1022,  1,     19,02-12825,2,20000426,1628, 39.9883, 143.9735, 4263,     31.4,  13.9822,  34.5442,2,   -999.0,9,-999.0000,9,    246.7,2,     8.55,2,  -999.00,9,     5.50,2,     0.19,2,     0.38,2, -999.000,9, -999.000,9,  -999.00,9,   -999.0,9,   -999.0,9,-999.0000,9,   -999.0,  9,  -999.00,9,   -999.0,  -999.00,9,  -999.00,9,     1.09,2,     0.63,2,   -999.0,-999.0000, -999,9,   31,  13.9777,  25.8395,   -999.0,9
       RF00-04,  NONE,RF-1022,  1,     18,02-12830,2,20000426,1626, 39.9883, 143.9735, 4263,     52.1,  12.3461,  34.4134,2,   -999.0,9,-999.0000,9,    220.7,2,    15.99,2,  -999.00,9,    10.76,2,     0.26,2,     0.71,2, -999.000,9, -999.000,9,  -999.00,9,   -999.0,9,   -999.0,9,-999.0000,9,   -999.0,  9,  -999.00,9,   -999.0,  -999.00,9,  -999.00,9,     0.41,2,     0.30,2,   -999.0,-999.0000, -999,9,   52,  12.3392,  26.0684,   -999.0,9
       RF00-04,  NONE,RF-1022,  1,     17,02-13591,2,20000426,1625, 39.9883, 143.9735, 4263,     77.8,  11.7121,  34.4262,2,   -999.0,9,-999.0000,9,    253.5,2,    13.98,2,  -999.00,9,     9.28,2,     0.36,2,     0.62,2, -999.000,9, -999.000,9,  -999.00,9,   -999.0,9,   -999.0,9,-999.0000,9,   -999.0,  9,  -999.00,9,   -999.0,  -999.00,9,  -999.00,9,     0.49,2,     0.32,2,   -999.0,-999.0000, -999,9,   77,  11.7022,  26.1996,   -999.0,9
       RF00-04,  NONE,RF-1022,  1,     16,02-13588,2,20000426,1624, 39.9883, 143.9735, 4263,    102.1,  11.4330,  34.4026,2,   -999.0,9,  34.4056,2,    252.9,2,    14.81,2,  -999.00,9,     9.78,2,     0.36,2,     0.66,2, -999.000,9, -999.000,9,  -999.00,9,   -999.0,9,   -999.0,9,-999.0000,9,   -999.0,  9,  -999.00,9,   -999.0,  -999.00,9,  -999.00,9,     0.48,2,     0.33,2,   -999.0,-999.0000, -999,9,  101,  11.4203,  26.2336,   -999.0,9
       RF00-04,  NONE,RF-1022,  1,     15,02-10155,2,20000426,1622, 39.9883, 143.9735, 4263,    127.1,  10.5136,  34.2549,2,   -999.0,9,-999.0000,9,    251.9,2,    16.74,2,  -999.00,9,    11.10,2,     0.32,2,     0.77,2, -999.000,9, -999.000,9,  -999.00,9,   -999.0,9,   -999.0,9,-999.0000,9,   -999.0,  9,  -999.00,9,   -999.0,  -999.00,9,  -999.00,9,     0.30,2,     0.24,2,   -999.0,-999.0000, -999,9,  126,  10.4986,  26.2842,   -999.0,9
       RF00-04,  NONE,RF-1022,  1,     14,02-13579,2,20000426,1621, 39.9883, 143.9735, 4263,    152.5,   9.0689,  34.1056,2,   -999.0,9,-999.0000,9,    251.5,2,    21.23,2,  -999.00,9,    13.57,2,     0.18,2,     0.95,2, -999.000,9, -999.000,9,  -999.00,9,   -999.0,9,   -999.0,9,-999.0000,9,   -999.0,  9,  -999.00,9,   -999.0,  -999.00,9,  -999.00,9,     0.14,2,     0.17,2,   -999.0,-999.0000, -999,9,  151,   9.0525,  26.4094,   -999.0,9
       RF00-04,  NONE,RF-1022,  1,     13,02-13590,2,20000426,1619, 39.9883, 143.9735, 4263,    203.2,   6.1948,  33.7003,2,   -999.0,9,  33.7100,2,    271.5,2,    24.17,2,  -999.00,9,    15.07,2,     0.15,2,     1.08,2, -999.000,9, -999.000,9,  -999.00,9,   -999.0,9,   -999.0,9,-999.0000,9,   -999.0,  9,  -999.00,9,   -999.0,  -999.00,9,  -999.00,9,     0.07,2,     0.21,2,   -999.0,-999.0000, -999,9,  202,   6.1774,  26.5033,   -999.0,9
       RF00-04,  NONE,RF-1022,  1,     12,02-12821,2,20000426,1617, 39.9883, 143.9735, 4263,    254.1,   5.4504,  33.6315,2,   -999.0,9,-999.0000,9,    276.8,2,    29.45,2,  -999.00,9,    17.11,2,     0.03,2,     1.25,2, -999.000,9, -999.000,9,  -999.00,9,   -999.0,9,   -999.0,9,-999.0000,9,   -999.0,  9,  -999.00,9,   -999.0,  -999.00,9,  -999.00,9,     0.05,2,     0.19,2,   -999.0,-999.0000, -999,9,  252,   5.4301,  26.5405,   -999.0,9
       RF00-04,  NONE,RF-1022,  1,     11,02-12811,2,20000426,1615, 39.9883, 143.9735, 4263,    304.0,   4.3436,  33.5565,2,   -999.0,9,  33.5543,2,    255.7,2,    40.69,2,  -999.00,9,    21.86,2,     0.01,2,     1.60,2, -999.000,9, -999.000,9,  -999.00,9,   -999.0,9,   -999.0,9,-999.0000,9,   -999.0,  9,  -999.00,9,   -999.0,  -999.00,9,  -999.00,9,     0.05,2,     0.15,2,   -999.0,-999.0000, -999,9,  301,   4.3219,  26.6048,   -999.0,9
       RF00-04,  NONE,RF-1022,  1,     10,02-12820,2,20000426,1611, 39.9883, 143.9735, 4263,    405.1,   4.6436,  33.8645,2,   -999.0,9,  33.8762,4,    141.1,2,    67.21,2,  -999.00,9,    31.42,2,     0.00,2,     2.28,2, -999.000,9, -999.000,9,  -999.00,9,   -999.0,9,   -999.0,9,-999.0000,9,   -999.0,  9,  -999.00,9,   -999.0,  -999.00,9,  -999.00,9,  -999.00,9,  -999.00,9,   -999.0,-999.0000, -999,9,  402,   4.6132,  26.8181,   -999.0,9
       RF00-04,  NONE,RF-1022,  1,      9,02-12810,3,20000426,1607, 39.9883, 143.9735, 4263,    506.2,   5.0207,  34.1066,2,   -999.0,9,  34.0971,2,     94.6,2,    81.26,2,  -999.00,9,    34.83,2,     0.00,2,     2.50,2, -999.000,9, -999.000,9,  -999.00,9,   -999.0,9,   -999.0,9,-999.0000,9,   -999.0,  9,  -999.00,9,   -999.0,  -999.00,9,  -999.00,9,  -999.00,9,  -999.00,9,   -999.0,-999.0000, -999,9,  502,   4.9806,  26.9692,   -999.0,9
       RF00-04,  NONE,RF-1022,  1,      8,02-12819,2,20000426,1603, 39.9883, 143.9735, 4263,    607.1,   4.6774,  34.2256,2,   -999.0,9,  34.2255,2,     71.2,2,    94.79,2,  -999.00,9,    37.35,2,     0.00,2,     2.66,2, -999.000,9, -999.000,9,  -999.00,9,   -999.0,9,   -999.0,9,-999.0000,9,   -999.0,  9,  -999.00,9,   -999.0,  -999.00,9,  -999.00,9,  -999.00,9,  -999.00,9,   -999.0,-999.0000, -999,9,  602,   4.6303,  27.1029,   -999.0,9
       RF00-04,  NONE,RF-1022,  1,      7,02-12815,2,20000426,1600, 39.9883, 143.9735, 4263,    708.0,   4.0484,  34.2863,2,   -999.0,9,  34.2852,2,     57.3,2,   108.34,2,  -999.00,9,    39.33,2,     0.00,2,     2.82,2, -999.000,9, -999.000,9,  -999.00,9,   -999.0,9,   -999.0,9,-999.0000,9,   -999.0,  9,  -999.00,9,   -999.0,  -999.00,9,  -999.00,9,  -999.00,9,  -999.00,9,   -999.0,-999.0000, -999,9,  701,   3.9964,  27.2188,   -999.0,9
       RF00-04,  NONE,RF-1022,  1,      6,02-12818,2,20000426,1557, 39.9883, 143.9735, 4263,    808.3,   3.6701,  34.3205,2,   -999.0,9,  34.2777,4,     49.5,2,   116.85,2,  -999.00,9,    40.29,2,     0.00,2,     2.88,2, -999.000,9, -999.000,9,  -999.00,9,   -999.0,9,   -999.0,9,-999.0000,9,   -999.0,  9,  -999.00,9,   -999.0,  -999.00,9,  -999.00,9,  -999.00,9,  -999.00,9,   -999.0,-999.0000, -999,9,  801,   3.6125,  27.2846,   -999.0,9
       RF00-04,  NONE,RF-1022,  1,      5,02-12809,2,20000426,1554, 39.9883, 143.9735, 4263,    909.5,   3.3326,  34.3702,2,   -999.0,9,-999.0000,9,     47.2,2,   124.93,2,  -999.00,9,    40.83,2,     0.00,2,     2.93,2, -999.000,9, -999.000,9,  -999.00,9,   -999.0,9,   -999.0,9,-999.0000,9,   -999.0,  9,  -999.00,9,   -999.0,  -999.00,9,  -999.00,9,  -999.00,9,  -999.00,9,   -999.0,-999.0000, -999,9,  901,   3.2694,  27.3574,   -999.0,9
       RF00-04,  NONE,RF-1022,  1,      4,02-12817,2,20000426,1551, 39.9883, 143.9735, 4263,   1011.0,   3.0877,  34.4007,2,   -999.0,9,  34.4009,2,     43.4,2,   131.10,2,  -999.00,9,    41.31,2,     0.00,2,     2.97,2, -999.000,9, -999.000,9,  -999.00,9,   -999.0,9,   -999.0,9,-999.0000,9,   -999.0,  9,  -999.00,9,   -999.0,  -999.00,9,  -999.00,9,  -999.00,9,  -999.00,9,   -999.0,-999.0000, -999,9, 1001,   3.0185,  27.4050,   -999.0,9
       RF00-04,  NONE,RF-1022,  1,      3,02-12808,2,20000426,1546, 39.9883, 143.9735, 4263,   1212.3,   2.6690,  34.4627,2,   -999.0,9,  34.4652,2,     45.1,2,   142.45,2,  -999.00,9,    41.84,2,     0.00,2,     3.00,2, -999.000,9, -999.000,9,  -999.00,9,   -999.0,9,   -999.0,9,-999.0000,9,   -999.0,  9,  -999.00,9,   -999.0,  -999.00,9,  -999.00,9,  -999.00,9,  -999.00,9,   -999.0,-999.0000, -999,9, 1200,   2.5879,  27.4927,   -999.0,9
       RF00-04,  NONE,RF-1022,  1,      2,02-13589,2,20000426,1540, 39.9883, 143.9735, 4263,   1515.7,   2.2877,  34.5243,2,   -999.0,9,  34.5230,2,     49.6,2,   151.08,2,  -999.00,9,    41.72,2,     0.00,2,     2.97,2, -999.000,9, -999.000,9,  -999.00,9,   -999.0,9,   -999.0,9,-999.0000,9,   -999.0,  9,  -999.00,9,   -999.0,  -999.00,9,  -999.00,9,  -999.00,9,  -999.00,9,   -999.0,-999.0000, -999,9, 1499,   2.1870,  27.5756,   -999.0,9
       RF00-04,  NONE,RF-1022,  1,      1,02-12807,2,20000426,1532, 39.9883, 143.9735, 4263,   2032.9,   1.9398,  34.6002,2,   -999.0,9,  34.5808,4,     81.6,2,   151.58,2,  -999.00,9,    40.07,2,     0.00,2,     2.81,2, -999.000,9, -999.000,9,  -999.00,9,   -999.0,9,   -999.0,9,-999.0000,9,   -999.0,  9,  -999.00,9,   -999.0,  -999.00,9,  -999.00,9,  -999.00,9,  -999.00,9,   2026.9,-999.0000, -999,9, 2008,   1.8017,  27.6668,   -999.0,9