BOTTLE,20130510GEMDJMAYT
EXPOCODE,SECT_ID,STNNBR,CASTNO,SAMPNO,BTLNBR,BTLNBR_FLAG_W,DATE,TIME,LATITUDE,LONGITUDE,DEPTH,CTDPRS,CTDTMP,CTDSAL,CTDSAL_FLAG_W,CTDOXY,CTDOXY_FLAG_W,SALNTY,SALNTY_FLAG_W,OXYGEN,OXYGEN_FLAG_W,SILCAT,SILCAT_FLAG_W,NITRAT,NITRAT_FLAG_W,NO2+NO3,NO2+NO3_FLAG_W,NITRIT,NITRIT_FLAG_W,PHSPHT,PHSPHT_FLAG_W,CFC-11,CFC-11_FLAG_W,CFC-12,CFC-12_FLAG_W,DELC13,DELC13_FLAG_W,TCARBN,TCARBN_FLAG_W,ALKALI,ALKALI_FLAG_W,PH,PH_FLAG_W,PH_TMP,PH_SCALE,PH_NBS,PH_NBS_FLAG_W,C13ERR,TOTALP,TOTALP_FLAG_W,AMMONI,AMMONI_FLAG_W,CHLORA,CHLORA_FLAG_W,PPHYTN,PPHYTN_FLAG_W,REVPRS,REVTMP,DEPTH_,DEPTH_FLAG,CTDDEP,THETA,SIGTHT,DOC,DOC_FLAG_W
,,,,,,,GMT,GMT,,,METER,DBAR,ITS-90,PSS-78,,UMOL/KG,,PSS-78,,UMOL/KG,,UMOL/KG,,UMOL/KG,,UMOL/KG,,UMOL/KG,,UMOL/KG,,PMOL/KG,,PMOL/KG,,/MILLE,,UMOL/KG,,UMOL/KG,,25_DEG_C,,DEG_C,,,,/MILLE,UMOL/KG,,UMOL/KG,,UG/L,,UG/L,,DBAR,ITS-90,METERS,,METERS,DEG_C,,UMOL/L,
       RF00-04,  165E,RF-1046,  2,     -9,      -9,5,20000508,1726, 47.9652, 165.0422, 5816,      0.0,   2.2682,  32.9920,2,   -999.0,9,-999.0000,9,   -999.0,9,  -999.00,9,  -999.00,9,  -999.00,9,  -999.00,9,  -999.00,9, -999.000,9, -999.000,9,  -999.00,9,   -999.0,9,   -999.0,9,-999.0000,9,   -999.0,  9,  -999.00,9,   -999.0,  -999.00,9,  -999.00,9,  -999.00,9,  -999.00,9,   -999.0,-999.0000, -999,9,    0,   2.2682,  26.3427,   -999.0,9
       RF00-04,  165E,RF-1046,  2,     23,02-12829,2,20000508,1723, 47.9652, 165.0422, 5816,      9.2,   2.2705,  32.9925,2,   -999.0,9,-999.0000,9,    340.8,2,    37.67,2,  -999.00,9,    22.40,2,     0.17,2,     1.74,2, -999.000,9, -999.000,9,  -999.00,9,   -999.0,9,   -999.0,9,-999.0000,9,   -999.0,  9,  -999.00,9,   -999.0,  -999.00,9,  -999.00,9,  -999.00,9,  -999.00,9,   -999.0,-999.0000, -999,9,    9,   2.2700,  26.3429,   -999.0,9
       RF00-04,  165E,RF-1046,  2,     22,02-12828,2,20000508,1722, 47.9652, 165.0422, 5816,     20.5,   2.2773,  32.9934,2,   -999.0,9,-999.0000,9,    389.3,2,    37.52,2,  -999.00,9,    22.47,2,     0.17,2,     1.73,2, -999.000,9, -999.000,9,  -999.00,9,   -999.0,9,   -999.0,9,-999.0000,9,   -999.0,  9,  -999.00,9,   -999.0,  -999.00,9,  -999.00,9,  -999.00,9,  -999.00,9,   -999.0,-999.0000, -999,9,   20,   2.2762,  26.3432,   -999.0,9
       RF00-04,  165E,RF-1046,  2,     21,02-12827,2,20000508,1721, 47.9652, 165.0422, 5816,     29.9,   2.2752,  32.9904,2,   -999.0,9,-999.0000,9,    393.7,2,    37.45,2,  -999.00,9,    22.48,2,     0.17,2,     1.73,2, -999.000,9, -999.000,9,  -999.00,9,   -999.0,9,   -999.0,9,-999.0000,9,   -999.0,  9,  -999.00,9,   -999.0,  -999.00,9,  -999.00,9,  -999.00,9,  -999.00,9,   -999.0,-999.0000, -999,9,   30,   2.2736,  26.3410,   -999.0,9
       RF00-04,  165E,RF-1046,  2,     20,02-12826,2,20000508,1720, 47.9652, 165.0422, 5816,     40.7,   2.2851,  32.9933,2,   -999.0,9,-999.0000,9,    339.9,2,    37.29,2,  -999.00,9,    22.25,2,     0.17,2,     1.72,2, -999.000,9, -999.000,9,  -999.00,9,   -999.0,9,   -999.0,9,-999.0000,9,   -999.0,  9,  -999.00,9,   -999.0,  -999.00,9,  -999.00,9,  -999.00,9,  -999.00,9,   -999.0,-999.0000, -999,9,   40,   2.2830,  26.3425,   -999.0,9
       RF00-04,  165E,RF-1046,  2,     19,02-12825,2,20000508,1718, 47.9652, 165.0422, 5816,     50.2,   1.9444,  32.9980,2,   -999.0,9,-999.0000,9,    336.8,2,    37.76,2,  -999.00,9,    22.83,2,     0.18,2,     1.75,2, -999.000,9, -999.000,9,  -999.00,9,   -999.0,9,   -999.0,9,-999.0000,9,   -999.0,  9,  -999.00,9,   -999.0,  -999.00,9,  -999.00,9,  -999.00,9,  -999.00,9,   -999.0,-999.0000, -999,9,   50,   1.9420,  26.3722,   -999.0,9
       RF00-04,  165E,RF-1046,  2,     18,02-12830,2,20000508,1717, 47.9652, 165.0422, 5816,     60.5,   1.7304,  32.9946,2,   -999.0,9,-999.0000,9,    335.1,2,    38.49,2,  -999.00,9,    23.30,2,     0.18,2,     1.79,2, -999.000,9, -999.000,9,  -999.00,9,   -999.0,9,   -999.0,9,-999.0000,9,   -999.0,  9,  -999.00,9,   -999.0,  -999.00,9,  -999.00,9,  -999.00,9,  -999.00,9,   -999.0,-999.0000, -999,9,   60,   1.7275,  26.3849,   -999.0,9
       RF00-04,  165E,RF-1046,  2,     17,02-13591,2,20000508,1716, 47.9652, 165.0422, 5816,     65.0,   1.6759,  33.0023,2,   -999.0,9,-999.0000,9,    334.0,2,    38.75,2,  -999.00,9,    23.50,2,     0.18,2,     1.79,2, -999.000,9, -999.000,9,  -999.00,9,   -999.0,9,   -999.0,9,-999.0000,9,   -999.0,  9,  -999.00,9,   -999.0,  -999.00,9,  -999.00,9,  -999.00,9,  -999.00,9,   -999.0,-999.0000, -999,9,   64,   1.6728,  26.3949,   -999.0,9
       RF00-04,  165E,RF-1046,  2,     16,02-13588,2,20000508,1715, 47.9652, 165.0422, 5816,     70.5,   1.6774,  33.0179,2,   -999.0,9,-999.0000,9,    332.6,2,    39.15,2,  -999.00,9,    23.59,2,     0.19,2,     1.79,2, -999.000,9, -999.000,9,  -999.00,9,   -999.0,9,   -999.0,9,-999.0000,9,   -999.0,  9,  -999.00,9,   -999.0,  -999.00,9,  -999.00,9,  -999.00,9,  -999.00,9,   -999.0,-999.0000, -999,9,   70,   1.6741,  26.4074,   -999.0,9
       RF00-04,  165E,RF-1046,  2,     15,02-10155,3,20000508,1714, 47.9652, 165.0422, 5816,     75.4,   1.6431,  33.0251,2,   -999.0,9,-999.0000,9,    332.6,2,    39.23,2,  -999.00,9,    23.52,2,     0.20,2,     1.79,2, -999.000,9, -999.000,9,  -999.00,9,   -999.0,9,   -999.0,9,-999.0000,9,   -999.0,  9,  -999.00,9,   -999.0,  -999.00,9,  -999.00,9,  -999.00,9,  -999.00,9,   -999.0,-999.0000, -999,9,   75,   1.6396,  26.4156,   -999.0,9
       RF00-04,  165E,RF-1046,  2,     14,02-13579,2,20000508,1713, 47.9652, 165.0422, 5816,     82.3,   1.6073,  33.0299,2,   -999.0,9,-999.0000,9,    440.3,4,    39.34,2,  -999.00,9,    23.55,2,     0.20,2,     1.79,2, -999.000,9, -999.000,9,  -999.00,9,   -999.0,9,   -999.0,9,-999.0000,9,   -999.0,  9,  -999.00,9,   -999.0,  -999.00,9,  -999.00,9,  -999.00,9,  -999.00,9,   -999.0,-999.0000, -999,9,   82,   1.6034,  26.4220,   -999.0,9
       RF00-04,  165E,RF-1046,  2,     13,02-13590,2,20000508,1712, 47.9652, 165.0422, 5816,     85.6,   1.5678,  33.0367,2,   -999.0,9,-999.0000,9,    334.7,2,    39.66,2,  -999.00,9,    23.95,2,     0.19,2,     1.80,2, -999.000,9, -999.000,9,  -999.00,9,   -999.0,9,   -999.0,9,-999.0000,9,   -999.0,  9,  -999.00,9,   -999.0,  -999.00,9,  -999.00,9,  -999.00,9,  -999.00,9,   -999.0,-999.0000, -999,9,   85,   1.5638,  26.4301,   -999.0,9
       RF00-04,  165E,RF-1046,  2,     12,02-12821,2,20000508,1711, 47.9652, 165.0422, 5816,     90.7,   1.4952,  33.0343,2,   -999.0,9,-999.0000,9,    330.8,2,    40.14,2,  -999.00,9,    24.27,2,     0.19,2,     1.82,2, -999.000,9, -999.000,9,  -999.00,9,   -999.0,9,   -999.0,9,-999.0000,9,   -999.0,  9,  -999.00,9,   -999.0,  -999.00,9,  -999.00,9,  -999.00,9,  -999.00,9,   -999.0,-999.0000, -999,9,   90,   1.4910,  26.4332,   -999.0,9
       RF00-04,  165E,RF-1046,  2,     11,02-12811,2,20000508,1710, 47.9652, 165.0422, 5816,     95.1,   1.3172,  33.0306,2,   -999.0,9,-999.0000,9,    335.0,2,    41.48,2,  -999.00,9,    25.24,2,     0.18,2,     1.88,2, -999.000,9, -999.000,9,  -999.00,9,   -999.0,9,   -999.0,9,-999.0000,9,   -999.0,  9,  -999.00,9,   -999.0,  -999.00,9,  -999.00,9,  -999.00,9,  -999.00,9,   -999.0,-999.0000, -999,9,   94,   1.3130,  26.4420,   -999.0,9
       RF00-04,  165E,RF-1046,  2,     10,02-12820,2,20000508,1709, 47.9652, 165.0422, 5816,    100.6,   1.3024,  33.0598,2,   -999.0,9,-999.0000,9,    324.6,2,    42.80,2,  -999.00,9,    25.79,2,     0.18,2,     1.90,2, -999.000,9, -999.000,9,  -999.00,9,   -999.0,9,   -999.0,9,-999.0000,9,   -999.0,  9,  -999.00,9,   -999.0,  -999.00,9,  -999.00,9,  -999.00,9,  -999.00,9,   -999.0,-999.0000, -999,9,  100,   1.2980,  26.4665,   -999.0,9
       RF00-04,  165E,RF-1046,  2,      9,02-12810,2,20000508,1707, 47.9652, 165.0422, 5816,    105.5,   1.5873,  33.1153,2,   -999.0,9,-999.0000,9,    287.9,2,    46.61,2,  -999.00,9,    27.07,2,     0.15,2,     1.96,2, -999.000,9, -999.000,9,  -999.00,9,   -999.0,9,   -999.0,9,-999.0000,9,   -999.0,  9,  -999.00,9,   -999.0,  -999.00,9,  -999.00,9,  -999.00,9,  -999.00,9,   -999.0,-999.0000, -999,9,  105,   1.5824,  26.4919,   -999.0,9
       RF00-04,  165E,RF-1046,  2,      8,02-12819,2,20000508,1705, 47.9652, 165.0422, 5816,    109.7,   2.5789,  33.3690,2,   -999.0,9,-999.0000,9,    240.2,2,    51.56,2,  -999.00,9,    28.63,2,     0.01,2,     2.04,2, -999.000,9, -999.000,9,  -999.00,9,   -999.0,9,   -999.0,9,-999.0000,9,   -999.0,  9,  -999.00,9,   -999.0,  -999.00,9,  -999.00,9,  -999.00,9,  -999.00,9,   -999.0,-999.0000, -999,9,  109,   2.5728,  26.6197,   -999.0,9
       RF00-04,  165E,RF-1046,  2,      7,02-12815,2,20000508,1704, 47.9652, 165.0422, 5816,    116.0,   2.7308,  33.4585,2,   -999.0,9,-999.0000,9,    192.6,2,    61.81,2,  -999.00,9,    32.38,2,     0.00,2,     2.26,2, -999.000,9, -999.000,9,  -999.00,9,   -999.0,9,   -999.0,9,-999.0000,9,   -999.0,  9,  -999.00,9,   -999.0,  -999.00,9,  -999.00,9,  -999.00,9,  -999.00,9,   -999.0,-999.0000, -999,9,  115,   2.7242,  26.6785,   -999.0,9
       RF00-04,  165E,RF-1046,  2,      6,02-12818,2,20000508,1703, 47.9652, 165.0422, 5816,    121.2,   2.6563,  33.4908,2,   -999.0,9,-999.0000,9,    183.5,2,    64.31,2,  -999.00,9,    32.98,2,     0.00,2,     2.35,2, -999.000,9, -999.000,9,  -999.00,9,   -999.0,9,   -999.0,9,-999.0000,9,   -999.0,  9,  -999.00,9,   -999.0,  -999.00,9,  -999.00,9,  -999.00,9,  -999.00,9,   -999.0,-999.0000, -999,9,  120,   2.6495,  26.7107,   -999.0,9
       RF00-04,  165E,RF-1046,  2,      5,02-12809,2,20000508,1702, 47.9652, 165.0422, 5816,    125.6,   2.6466,  33.4939,2,   -999.0,9,-999.0000,9,     81.4,4,    65.43,2,  -999.00,9,    33.69,2,     0.00,2,     2.38,2, -999.000,9, -999.000,9,  -999.00,9,   -999.0,9,   -999.0,9,-999.0000,9,   -999.0,  9,  -999.00,9,   -999.0,  -999.00,9,  -999.00,9,  -999.00,9,  -999.00,9,   -999.0,-999.0000, -999,9,  124,   2.6396,  26.7140,   -999.0,9
       RF00-04,  165E,RF-1046,  2,      4,02-12817,2,20000508,1701, 47.9652, 165.0422, 5816,    130.6,   2.6923,  33.5288,2,   -999.0,9,-999.0000,9,    157.1,2,    70.47,2,  -999.00,9,    35.78,2,     0.00,2,     2.49,2, -999.000,9, -999.000,9,  -999.00,9,   -999.0,9,   -999.0,9,-999.0000,9,   -999.0,  9,  -999.00,9,   -999.0,  -999.00,9,  -999.00,9,  -999.00,9,  -999.00,9,   -999.0,-999.0000, -999,9,  129,   2.6849,  26.7380,   -999.0,9
       RF00-04,  165E,RF-1046,  2,      3,02-12808,2,20000508,1700, 47.9652, 165.0422, 5816,    140.2,   2.7648,  33.5878,2,   -999.0,9,-999.0000,9,    140.5,2,    74.20,2,  -999.00,9,    36.58,2,     0.00,2,     2.57,2, -999.000,9, -999.000,9,  -999.00,9,   -999.0,9,   -999.0,9,-999.0000,9,   -999.0,  9,  -999.00,9,   -999.0,  -999.00,9,  -999.00,9,  -999.00,9,  -999.00,9,   -999.0,-999.0000, -999,9,  139,   2.7568,  26.7791,   -999.0,9
       RF00-04,  165E,RF-1046,  2,      2,02-13589,2,20000508,1658, 47.9652, 165.0422, 5816,    151.8,   2.8934,  33.6524,2,   -999.0,9,-999.0000,9,    128.0,2,    77.61,2,  -999.00,9,    37.52,2,     0.00,2,     2.61,2, -999.000,9, -999.000,9,  -999.00,9,   -999.0,9,   -999.0,9,-999.0000,9,   -999.0,  9,  -999.00,9,   -999.0,  -999.00,9,  -999.00,9,  -999.00,9,  -999.00,9,   -999.0,-999.0000, -999,9,  150,   2.8845,  26.8196,   -999.0,9
       RF00-04,  165E,RF-1046,  2,      1,02-12807,2,20000508,1657, 47.9652, 165.0422, 5816,    162.4,   2.9949,  33.6918,2,   -999.0,9,-999.0000,9,     97.7,2,    83.05,2,  -999.00,9,    40.64,2,     0.00,2,     2.79,2, -999.000,9, -999.000,9,  -999.00,9,   -999.0,9,   -999.0,9,-999.0000,9,   -999.0,  9,  -999.00,9,   -999.0,  -999.00,9,  -999.00,9,  -999.00,9,  -999.00,9,   -999.0,-999.0000, -999,9,  161,   2.9852,  26.8421,   -999.0,9
       RF00-04,  165E,RF-1046,  1,     18,02-12830,2,20000508,1539, 47.9907, 165.0103, 5827,    174.8,   3.0566,  33.7262,2,   -999.0,9,-999.0000,9,     85.6,2,    85.69,2,  -999.00,9,    41.41,2,     0.00,2,     2.85,2, -999.000,9, -999.000,9,  -999.00,9,   -999.0,9,   -999.0,9,-999.0000,9,   -999.0,  9,  -999.00,9,   -999.0,  -999.00,9,  -999.00,9,  -999.00,9,  -999.00,9,   -999.0,-999.0000, -999,9,  173,   3.0461,  26.8641,   -999.0,9
       RF00-04,  165E,RF-1046,  1,     17,02-13591,2,20000508,1537, 47.9907, 165.0103, 5827,    202.1,   3.1856,  33.8144,2,   -999.0,9,-999.0000,9,     63.8,2,    90.85,2,  -999.00,9,    42.37,2,     0.00,2,     2.95,2, -999.000,9, -999.000,9,  -999.00,9,   -999.0,9,   -999.0,9,-999.0000,9,   -999.0,  9,  -999.00,9,   -999.0,  -999.00,9,  -999.00,9,  -999.00,9,  -999.00,9,   -999.0,-999.0000, -999,9,  200,   3.1731,  26.9230,   -999.0,9
       RF00-04,  165E,RF-1046,  1,     16,02-13588,2,20000508,1535, 47.9907, 165.0103, 5827,    252.2,   3.3845,  33.9487,2,   -999.0,9,-999.0000,9,     51.3,2,   100.34,2,  -999.00,9,    44.28,2,     0.00,2,     3.06,2, -999.000,9, -999.000,9,  -999.00,9,   -999.0,9,   -999.0,9,-999.0000,9,   -999.0,  9,  -999.00,9,   -999.0,  -999.00,9,  -999.00,9,  -999.00,9,  -999.00,9,   -999.0,-999.0000, -999,9,  250,   3.3683,  27.0119,   -999.0,9
       RF00-04,  165E,RF-1046,  1,     15,02-10155,2,20000508,1533, 47.9907, 165.0103, 5827,    302.4,   3.4251,  34.0257,2,   -999.0,9,  34.0182,2,     42.0,2,   104.95,2,  -999.00,9,    44.03,2,     0.00,2,     3.04,2, -999.000,9, -999.000,9,  -999.00,9,   -999.0,9,   -999.0,9,-999.0000,9,   -999.0,  9,  -999.00,9,   -999.0,  -999.00,9,  -999.00,9,  -999.00,9,  -999.00,9,   -999.0,-999.0000, -999,9,  300,   3.4055,  27.0697,   -999.0,9
       RF00-04,  165E,RF-1046,  1,     14,02-13579,2,20000508,1531, 47.9907, 165.0103, 5827,    402.4,   3.2618,  34.1136,2,   -999.0,9,-999.0000,9,     26.7,2,   115.01,2,  -999.00,9,    44.51,2,     0.00,2,     3.09,2, -999.000,9, -999.000,9,  -999.00,9,   -999.0,9,   -999.0,9,-999.0000,9,   -999.0,  9,  -999.00,9,   -999.0,  -999.00,9,  -999.00,9,  -999.00,9,  -999.00,9,   -999.0,-999.0000, -999,9,  399,   3.2358,  27.1559,   -999.0,9
       RF00-04,  165E,RF-1046,  1,     13,02-13590,2,20000508,1528, 47.9907, 165.0103, 5827,    503.7,   3.1818,  34.1995,2,   -999.0,9,  34.1265,4,     24.0,2,   122.40,2,  -999.00,9,    44.35,2,     0.00,2,     3.07,2, -999.000,9, -999.000,9,  -999.00,9,   -999.0,9,   -999.0,9,-999.0000,9,   -999.0,  9,  -999.00,9,   -999.0,  -999.00,9,  -999.00,9,  -999.00,9,  -999.00,9,   -999.0,-999.0000, -999,9,  499,   3.1491,  27.2325,   -999.0,9
       RF00-04,  165E,RF-1046,  1,     12,02-12821,2,20000508,1526, 47.9907, 165.0103, 5827,    603.6,   3.0834,  34.2716,2,   -999.0,9,-999.0000,9,     15.3,2,   129.84,2,  -999.00,9,    44.63,2,     0.00,2,     3.10,2, -999.000,9, -999.000,9,  -999.00,9,   -999.0,9,   -999.0,9,-999.0000,9,   -999.0,  9,  -999.00,9,   -999.0,  -999.00,9,  -999.00,9,  -999.00,9,  -999.00,9,   -999.0,-999.0000, -999,9,  598,   3.0442,  27.2996,   -999.0,9
       RF00-04,  165E,RF-1046,  1,     11,02-12811,2,20000508,1523, 47.9907, 165.0103, 5827,    706.5,   2.9389,  34.3164,2,   -999.0,9,-999.0000,9,     21.1,2,   133.95,2,  -999.00,9,    44.43,2,     0.00,2,     3.09,2, -999.000,9, -999.000,9,  -999.00,9,   -999.0,9,   -999.0,9,-999.0000,9,   -999.0,  9,  -999.00,9,   -999.0,  -999.00,9,  -999.00,9,  -999.00,9,  -999.00,9,   -999.0,-999.0000, -999,9,  699,   2.8931,  27.3490,   -999.0,9
       RF00-04,  165E,RF-1046,  1,     10,02-12820,2,20000508,1520, 47.9907, 165.0103, 5827,    807.0,   2.8221,  34.3608,2,   -999.0,9,  34.3545,2,     20.2,2,   138.45,2,  -999.00,9,    44.36,2,     0.00,2,     3.08,2, -999.000,9, -999.000,9,  -999.00,9,   -999.0,9,   -999.0,9,-999.0000,9,   -999.0,  9,  -999.00,9,   -999.0,  -999.00,9,  -999.00,9,  -999.00,9,  -999.00,9,   -999.0,-999.0000, -999,9,  799,   2.7699,  27.3954,   -999.0,9
       RF00-04,  165E,RF-1046,  1,      9,02-12810,2,20000508,1517, 47.9907, 165.0103, 5827,    908.1,   2.6936,  34.3971,2,   -999.0,9,-999.0000,9,     20.1,2,   143.11,2,  -999.00,9,    44.47,2,     0.00,2,     3.07,2, -999.000,9, -999.000,9,  -999.00,9,   -999.0,9,   -999.0,9,-999.0000,9,   -999.0,  9,  -999.00,9,   -999.0,  -999.00,9,  -999.00,9,  -999.00,9,  -999.00,9,   -999.0,-999.0000, -999,9,  898,   2.6350,  27.4362,   -999.0,9
       RF00-04,  165E,RF-1046,  1,      8,02-12819,2,20000508,1515, 47.9907, 165.0103, 5827,   1008.3,   2.5645,  34.4313,2,   -999.0,9,  34.4162,4,     21.7,2,   146.60,2,  -999.00,9,    44.39,2,     0.00,2,     3.07,2, -999.000,9, -999.000,9,  -999.00,9,   -999.0,9,   -999.0,9,-999.0000,9,   -999.0,  9,  -999.00,9,   -999.0,  -999.00,9,  -999.00,9,  -999.00,9,  -999.00,9,   -999.0,-999.0000, -999,9,  997,   2.4995,  27.4752,   -999.0,9
       RF00-04,  165E,RF-1046,  1,      7,02-12815,2,20000508,1509, 47.9907, 165.0103, 5827,   1261.9,   2.3049,  34.4994,2,   -999.0,9,  34.4953,2,     41.4,2,   151.47,2,  -999.00,9,    43.40,2,     0.00,2,     3.00,2, -999.000,9, -999.000,9,  -999.00,9,   -999.0,9,   -999.0,9,-999.0000,9,   -999.0,  9,  -999.00,9,   -999.0,  -999.00,9,  -999.00,9,  -999.00,9,  -999.00,9,   -999.0,-999.0000, -999,9, 1248,   2.2235,  27.5527,   -999.0,9
       RF00-04,  165E,RF-1046,  1,      6,02-12818,2,20000508,1505, 47.9907, 165.0103, 5827,   1513.6,   2.1121,  34.5483,2,   -999.0,9,  34.5429,2,     50.2,2,   155.61,2,  -999.00,9,    42.83,2,     0.00,2,     2.94,2, -999.000,9, -999.000,9,  -999.00,9,   -999.0,9,   -999.0,9,-999.0000,9,   -999.0,  9,  -999.00,9,   -999.0,  -999.00,9,  -999.00,9,  -999.00,9,  -999.00,9,   -999.0,-999.0000, -999,9, 1495,   2.0135,  27.6087,   -999.0,9
       RF00-04,  165E,RF-1046,  1,      5,02-12809,2,20000508,1500, 47.9907, 165.0103, 5827,   1768.5,   1.9499,  34.5844,2,   -999.0,9,  34.5790,2,     61.6,2,   156.61,2,  -999.00,9,    42.14,2,     0.00,2,     2.88,2, -999.000,9, -999.000,9,  -999.00,9,   -999.0,9,   -999.0,9,-999.0000,9,   -999.0,  9,  -999.00,9,   -999.0,  -999.00,9,  -999.00,9,  -999.00,9,  -999.00,9,   -999.0,-999.0000, -999,9, 1746,   1.8333,  27.6517,   -999.0,9
       RF00-04,  165E,RF-1046,  1,      3,02-12808,2,20000508,1454, 47.9907, 165.0103, 5827,   2031.4,   1.7981,  34.6147,2,   -999.0,9,-999.0000,9,   -999.0,9,  -999.00,9,  -999.00,9,  -999.00,9,  -999.00,9,  -999.00,9, -999.000,9, -999.000,9,  -999.00,9,   -999.0,9,   -999.0,9,-999.0000,9,   -999.0,  9,  -999.00,9,   -999.0,  -999.00,9,  -999.00,9,  -999.00,9,  -999.00,9,   -999.0,-999.0000, -999,9, 2005,   1.6622,  27.6890,   -999.0,9
       RF00-04,  165E,RF-1046,  1,      2,02-13589,2,20000508,1453, 47.9907, 165.0103, 5827,   2032.2,   1.7975,  34.6153,2,   -999.0,9,-999.0000,9,   -999.0,9,  -999.00,9,  -999.00,9,  -999.00,9,  -999.00,9,  -999.00,9, -999.000,9, -999.000,9,  -999.00,9,   -999.0,9,   -999.0,9,-999.0000,9,   -999.0,  9,  -999.00,9,   -999.0,  -999.00,9,  -999.00,9,  -999.00,9,  -999.00,9,   -999.0,-999.0000, -999,9, 2005,   1.6616,  27.6895,   -999.0,9
       RF00-04,  165E,RF-1046,  1,      4,02-12817,2,20000508,1454, 47.9907, 165.0103, 5827,   2032.5,   1.7979,  34.6153,2,   -999.0,9,  34.6129,2,     78.9,2,   157.99,2,  -999.00,9,    40.87,2,     0.00,2,     2.80,2, -999.000,9, -999.000,9,  -999.00,9,   -999.0,9,   -999.0,9,-999.0000,9,   -999.0,  9,  -999.00,9,   -999.0,  -999.00,9,  -999.00,9,  -999.00,9,  -999.00,9,   -999.0,-999.0000, -999,9, 2006,   1.6619,  27.6895,   -999.0,9
       RF00-04,  165E,RF-1046,  1,      1,02-12807,2,20000508,1453, 47.9907, 165.0103, 5827,   2033.8,   1.7968,  34.6150,2,   -999.0,9,-999.0000,9,   -999.0,9,  -999.00,9,  -999.00,9,  -999.00,9,  -999.00,9,  -999.00,9, -999.000,9, -999.000,9,  -999.00,9,   -999.0,9,   -999.0,9,-999.0000,9,   -999.0,  9,  -999.00,9,   -999.0,  -999.00,9,  -999.00,9,  -999.00,9,  -999.00,9,   -999.0,-999.0000, -999,9, 2007,   1.6607,  27.6894,   -999.0,9