BOTTLE,20130510GEMDJMAYT
EXPOCODE,SECT_ID,STNNBR,CASTNO,SAMPNO,BTLNBR,BTLNBR_FLAG_W,DATE,TIME,LATITUDE,LONGITUDE,DEPTH,CTDPRS,CTDTMP,CTDSAL,CTDSAL_FLAG_W,CTDOXY,CTDOXY_FLAG_W,SALNTY,SALNTY_FLAG_W,OXYGEN,OXYGEN_FLAG_W,SILCAT,SILCAT_FLAG_W,NITRAT,NITRAT_FLAG_W,NO2+NO3,NO2+NO3_FLAG_W,NITRIT,NITRIT_FLAG_W,PHSPHT,PHSPHT_FLAG_W,CFC-11,CFC-11_FLAG_W,CFC-12,CFC-12_FLAG_W,DELC13,DELC13_FLAG_W,TCARBN,TCARBN_FLAG_W,ALKALI,ALKALI_FLAG_W,PH,PH_FLAG_W,PH_TMP,PH_SCALE,PH_NBS,PH_NBS_FLAG_W,C13ERR,TOTALP,TOTALP_FLAG_W,AMMONI,AMMONI_FLAG_W,CHLORA,CHLORA_FLAG_W,PPHYTN,PPHYTN_FLAG_W,REVPRS,REVTMP,DEPTH_,DEPTH_FLAG,CTDDEP,THETA,SIGTHT,DOC,DOC_FLAG_W
,,,,,,,GMT,GMT,,,METER,DBAR,ITS-90,PSS-78,,UMOL/KG,,PSS-78,,UMOL/KG,,UMOL/KG,,UMOL/KG,,UMOL/KG,,UMOL/KG,,UMOL/KG,,PMOL/KG,,PMOL/KG,,/MILLE,,UMOL/KG,,UMOL/KG,,25_DEG_C,,DEG_C,,,,/MILLE,UMOL/KG,,UMOL/KG,,UG/L,,UG/L,,DBAR,ITS-90,METERS,,METERS,DEG_C,,UMOL/L,
       RF00-04,  NONE,RF-1016,  1,     -9,      -9,5,20000425,2116, 38.0255, 144.0033, 7448,      0.0,  11.9713,  34.1706,2,   -999.0,9,-999.0000,9,    310.7,2,     4.72,2,  -999.00,9,     3.01,2,     0.12,2,     0.22,2, -999.000,9, -999.000,9,  -999.00,9,   -999.0,9,   -999.0,9,-999.0000,9,   -999.0,  9,  -999.00,9,   -999.0,  -999.00,9,  -999.00,9,     6.63,2,     1.32,2,   -999.0,-999.0000, -999,9,    0,  11.9713,  25.9503,   -999.0,9
       RF00-04,  NONE,RF-1016,  1,     21,02-12827,2,20000425,2113, 38.0255, 144.0033, 7448,     11.6,  11.9306,  34.1552,2,   -999.0,9,-999.0000,9,    291.5,2,     5.94,2,  -999.00,9,     3.82,2,     0.13,2,     0.29,2, -999.000,9, -999.000,9,  -999.00,9,   -999.0,9,   -999.0,9,-999.0000,9,   -999.0,  9,  -999.00,9,   -999.0,  -999.00,9,  -999.00,9,     5.94,2,     1.49,2,   -999.0,-999.0000, -999,9,   11,  11.9291,  25.9464,   -999.0,9
       RF00-04,  NONE,RF-1016,  1,     20,02-12826,2,20000425,2112, 38.0255, 144.0033, 7448,     19.9,  10.6686,  34.0244,2,   -999.0,9,-999.0000,9,    272.1,2,    11.57,2,  -999.00,9,     7.38,2,     0.19,2,     0.58,2, -999.000,9, -999.000,9,  -999.00,9,   -999.0,9,   -999.0,9,-999.0000,9,   -999.0,  9,  -999.00,9,   -999.0,  -999.00,9,  -999.00,9,     1.60,2,     1.00,2,   -999.0,-999.0000, -999,9,   20,  10.6662,  26.0751,   -999.0,9
       RF00-04,  NONE,RF-1016,  1,     19,02-12825,2,20000425,2111, 38.0255, 144.0033, 7448,     31.0,   8.6964,  33.8521,2,   -999.0,9,-999.0000,9,    278.6,2,    12.73,2,  -999.00,9,     8.16,2,     0.22,2,     0.69,2, -999.000,9, -999.000,9,  -999.00,9,   -999.0,9,   -999.0,9,-999.0000,9,   -999.0,  9,  -999.00,9,   -999.0,  -999.00,9,  -999.00,9,     0.79,2,     0.62,2,   -999.0,-999.0000, -999,9,   31,   8.6932,  26.2673,   -999.0,9
       RF00-04,  NONE,RF-1016,  1,     18,02-12830,2,20000425,2110, 38.0255, 144.0033, 7448,     50.8,   7.7668,  33.8126,2,   -999.0,9,-999.0000,9,    264.3,2,    16.68,2,  -999.00,9,    10.70,2,     0.22,2,     0.86,2, -999.000,9, -999.000,9,  -999.00,9,   -999.0,9,   -999.0,9,-999.0000,9,   -999.0,  9,  -999.00,9,   -999.0,  -999.00,9,  -999.00,9,     0.44,2,     0.33,2,   -999.0,-999.0000, -999,9,   50,   7.7619,  26.3762,   -999.0,9
       RF00-04,  NONE,RF-1016,  1,     17,02-13591,2,20000425,2108, 38.0255, 144.0033, 7448,     76.1,   8.5639,  34.0196,2,   -999.0,9,-999.0000,9,    215.8,2,    25.76,2,  -999.00,9,    15.94,2,     0.19,2,     1.12,2, -999.000,9, -999.000,9,  -999.00,9,   -999.0,9,   -999.0,9,-999.0000,9,   -999.0,  9,  -999.00,9,   -999.0,  -999.00,9,  -999.00,9,     0.07,2,     0.16,2,   -999.0,-999.0000, -999,9,   76,   8.5561,  26.4198,   -999.0,9
       RF00-04,  NONE,RF-1016,  1,     16,02-13588,2,20000425,2107, 38.0255, 144.0033, 7448,    101.4,   6.1138,  33.5997,2,   -999.0,9,  33.6650,4,    272.1,2,    24.33,2,  -999.00,9,    14.94,2,     0.23,2,     1.11,2, -999.000,9, -999.000,9,  -999.00,9,   -999.0,9,   -999.0,9,-999.0000,9,   -999.0,  9,  -999.00,9,   -999.0,  -999.00,9,  -999.00,9,     0.10,2,     0.16,2,   -999.0,-999.0000, -999,9,  101,   6.1053,  26.4330,   -999.0,9
       RF00-04,  NONE,RF-1016,  1,     15,02-10155,2,20000425,2105, 38.0255, 144.0033, 7448,    125.6,   4.3273,  33.4914,2,   -999.0,9,-999.0000,9,    282.4,2,    32.08,2,  -999.00,9,    18.39,2,     0.21,2,     1.37,2, -999.000,9, -999.000,9,  -999.00,9,   -999.0,9,   -999.0,9,-999.0000,9,   -999.0,  9,  -999.00,9,   -999.0,  -999.00,9,  -999.00,9,     0.08,2,     0.18,2,   -999.0,-999.0000, -999,9,  125,   4.3185,  26.5534,   -999.0,9
       RF00-04,  NONE,RF-1016,  1,     14,02-13579,2,20000425,2104, 38.0255, 144.0033, 7448,    151.5,   3.8947,  33.4819,2,   -999.0,9,-999.0000,9,    284.0,2,    35.40,2,  -999.00,9,    19.74,2,     0.08,2,     1.46,2, -999.000,9, -999.000,9,  -999.00,9,   -999.0,9,   -999.0,9,-999.0000,9,   -999.0,  9,  -999.00,9,   -999.0,  -999.00,9,  -999.00,9,     0.06,2,     0.18,2,   -999.0,-999.0000, -999,9,  150,   3.8846,  26.5901,   -999.0,9
       RF00-04,  NONE,RF-1016,  1,     13,02-13590,2,20000425,2102, 38.0255, 144.0033, 7448,    201.3,   2.7878,  33.3683,2,   -999.0,9,  33.4129,4,    245.7,2,    50.92,2,  -999.00,9,    25.90,2,     0.02,2,     1.93,2, -999.000,9, -999.000,9,  -999.00,9,   -999.0,9,   -999.0,9,-999.0000,9,   -999.0,  9,  -999.00,9,   -999.0,  -999.00,9,  -999.00,9,     0.08,2,     0.23,2,   -999.0,-999.0000, -999,9,  200,   2.7762,  26.6021,   -999.0,9
       RF00-04,  NONE,RF-1016,  1,     12,02-12821,2,20000425,2100, 38.0255, 144.0033, 7448,    251.4,   3.0838,  33.5358,2,   -999.0,9,-999.0000,9,    194.2,2,    62.13,2,  -999.00,9,    29.83,2,     0.01,2,     2.19,2, -999.000,9, -999.000,9,  -999.00,9,   -999.0,9,   -999.0,9,-999.0000,9,   -999.0,  9,  -999.00,9,   -999.0,  -999.00,9,  -999.00,9,     0.05,2,     0.17,2,   -999.0,-999.0000, -999,9,  249,   3.0685,  26.7102,   -999.0,9
       RF00-04,  NONE,RF-1016,  1,     11,02-12811,2,20000425,2058, 38.0255, 144.0033, 7448,    302.1,   3.1506,  33.6626,2,   -999.0,9,  33.6636,2,    153.0,2,    72.99,2,  -999.00,9,    33.27,2,     0.01,2,     2.42,2, -999.000,9, -999.000,9,  -999.00,9,   -999.0,9,   -999.0,9,-999.0000,9,   -999.0,  9,  -999.00,9,   -999.0,  -999.00,9,  -999.00,9,     0.04,2,     0.19,2,   -999.0,-999.0000, -999,9,  300,   3.1319,  26.8057,   -999.0,9
       RF00-04,  NONE,RF-1016,  1,     10,02-12820,2,20000425,2056, 38.0255, 144.0033, 7448,    403.9,   3.4498,  33.8979,2,   -999.0,9,  33.9046,2,     84.4,2,    91.68,2,  -999.00,9,    38.38,2,     0.00,2,     2.76,2, -999.000,9, -999.000,9,  -999.00,9,   -999.0,9,   -999.0,9,-999.0000,9,   -999.0,  9,  -999.00,9,   -999.0,  -999.00,9,  -999.00,9,  -999.00,9,  -999.00,9,   -999.0,-999.0000, -999,9,  401,   3.4233,  26.9662,   -999.0,9
       RF00-04,  NONE,RF-1016,  1,      9,02-12810,2,20000425,2053, 38.0255, 144.0033, 7448,    503.4,   4.0263,  34.1282,2,   -999.0,9,  34.1106,4,     58.0,2,   101.63,2,  -999.00,9,    39.70,2,     0.00,2,     2.84,2, -999.000,9, -999.000,9,  -999.00,9,   -999.0,9,   -999.0,9,-999.0000,9,   -999.0,  9,  -999.00,9,   -999.0,  -999.00,9,  -999.00,9,  -999.00,9,  -999.00,9,    503.4,-999.0000, -999,9,  499,   3.9903,  27.0936,   -999.0,9
       RF00-04,  NONE,RF-1016,  1,      8,02-12819,2,20000425,2051, 38.0255, 144.0033, 7448,    604.8,   3.5437,  34.1897,2,   -999.0,9,  34.1719,4,     40.0,2,   114.05,2,  -999.00,9,    41.39,2,     0.00,2,     2.95,2, -999.000,9, -999.000,9,  -999.00,9,   -999.0,9,   -999.0,9,-999.0000,9,   -999.0,  9,  -999.00,9,   -999.0,  -999.00,9,  -999.00,9,  -999.00,9,  -999.00,9,   -999.0,-999.0000, -999,9,  599,   3.5022,  27.1912,   -999.0,9
       RF00-04,  NONE,RF-1016,  1,      7,02-12815,2,20000425,2048, 38.0255, 144.0033, 7448,    706.5,   3.4387,  34.3118,2,   -999.0,9,  34.3213,2,     41.0,2,   121.72,2,  -999.00,9,    41.24,2,     0.00,2,     2.94,2, -999.000,9, -999.000,9,  -999.00,9,   -999.0,9,   -999.0,9,-999.0000,9,   -999.0,  9,  -999.00,9,   -999.0,  -999.00,9,  -999.00,9,  -999.00,9,  -999.00,9,   -999.0,-999.0000, -999,9,  700,   3.3902,  27.2993,   -999.0,9
       RF00-04,  NONE,RF-1016,  1,      6,02-12818,2,20000425,2046, 38.0255, 144.0033, 7448,    806.9,   3.2005,  34.3595,2,   -999.0,9,  34.3530,2,     39.5,2,   128.13,2,  -999.00,9,    41.42,2,     0.00,2,     2.97,2, -999.000,9, -999.000,9,  -999.00,9,   -999.0,9,   -999.0,9,-999.0000,9,   -999.0,  9,  -999.00,9,   -999.0,  -999.00,9,  -999.00,9,  -999.00,9,  -999.00,9,   -999.0,-999.0000, -999,9,  799,   3.1459,  27.3604,   -999.0,9
       RF00-04,  NONE,RF-1016,  1,      5,02-12809,2,20000425,2043, 38.0255, 144.0033, 7448,    908.2,   2.9739,  34.4082,2,   -999.0,9,-999.0000,9,     44.8,4,   134.39,2,  -999.00,9,    41.77,2,     0.00,2,     2.96,2, -999.000,9, -999.000,9,  -999.00,9,   -999.0,9,   -999.0,9,-999.0000,9,   -999.0,  9,  -999.00,9,   -999.0,  -999.00,9,  -999.00,9,  -999.00,9,  -999.00,9,   -999.0,-999.0000, -999,9,  899,   2.9132,  27.4205,   -999.0,9
       RF00-04,  NONE,RF-1016,  1,      4,02-12817,2,20000425,2041, 38.0255, 144.0033, 7448,   1009.2,   2.7726,  34.4405,2,   -999.0,9,  34.4359,2,     39.8,2,   139.44,2,  -999.00,9,    41.96,2,     0.00,2,     2.99,2, -999.000,9, -999.000,9,  -999.00,9,   -999.0,9,   -999.0,9,-999.0000,9,   -999.0,  9,  -999.00,9,   -999.0,  -999.00,9,  -999.00,9,  -999.00,9,  -999.00,9,   -999.0,-999.0000, -999,9,  999,   2.7060,  27.4647,   -999.0,9
       RF00-04,  NONE,RF-1016,  1,      3,02-12808,2,20000425,2036, 38.0255, 144.0033, 7448,   1211.8,   2.4711,  34.4964,2,   -999.0,9,  34.5136,4,     56.2,2,   146.69,2,  -999.00,9,    42.02,2,     0.00,2,     2.97,2, -999.000,9, -999.000,9,  -999.00,9,   -999.0,9,   -999.0,9,-999.0000,9,   -999.0,  9,  -999.00,9,   -999.0,  -999.00,9,  -999.00,9,  -999.00,9,  -999.00,9,   -999.0,-999.0000, -999,9, 1199,   2.3919,  27.5363,   -999.0,9
       RF00-04,  NONE,RF-1016,  1,      2,02-13589,2,20000425,2030, 38.0255, 144.0033, 7448,   1516.1,   2.1917,  34.5522,2,   -999.0,9,  34.5779,4,     55.3,2,   152.32,2,  -999.00,9,    41.48,2,     0.00,2,     2.91,2, -999.000,9, -999.000,9,  -999.00,9,   -999.0,9,   -999.0,9,-999.0000,9,   -999.0,  9,  -999.00,9,   -999.0,  -999.00,9,  -999.00,9,  -999.00,9,  -999.00,9,   -999.0,-999.0000, -999,9, 1499,   2.0920,  27.6055,   -999.0,9
       RF00-04,  NONE,RF-1016,  1,      1,02-12807,2,20000425,2021, 38.0255, 144.0033, 7448,   2031.6,   1.8809,  34.6088,2,   -999.0,9,  34.6066,2,     83.7,2,   152.45,2,  -999.00,9,    40.04,2,     0.00,2,     2.78,2, -999.000,9, -999.000,9,  -999.00,9,   -999.0,9,   -999.0,9,-999.0000,9,   -999.0,  9,  -999.00,9,   -999.0,  -999.00,9,  -999.00,9,  -999.00,9,  -999.00,9,   2026.8,-999.0000, -999,9, 2007,   1.7437,  27.6781,   -999.0,9