BOTTLE,20130510GEMDJMAYT
EXPOCODE,SECT_ID,STNNBR,CASTNO,SAMPNO,BTLNBR,BTLNBR_FLAG_W,DATE,TIME,LATITUDE,LONGITUDE,DEPTH,CTDPRS,CTDTMP,CTDSAL,CTDSAL_FLAG_W,CTDOXY,CTDOXY_FLAG_W,SALNTY,SALNTY_FLAG_W,OXYGEN,OXYGEN_FLAG_W,SILCAT,SILCAT_FLAG_W,NITRAT,NITRAT_FLAG_W,NO2+NO3,NO2+NO3_FLAG_W,NITRIT,NITRIT_FLAG_W,PHSPHT,PHSPHT_FLAG_W,CFC-11,CFC-11_FLAG_W,CFC-12,CFC-12_FLAG_W,DELC13,DELC13_FLAG_W,TCARBN,TCARBN_FLAG_W,ALKALI,ALKALI_FLAG_W,PH,PH_FLAG_W,PH_TMP,PH_SCALE,PH_NBS,PH_NBS_FLAG_W,C13ERR,TOTALP,TOTALP_FLAG_W,AMMONI,AMMONI_FLAG_W,CHLORA,CHLORA_FLAG_W,PPHYTN,PPHYTN_FLAG_W,REVPRS,REVTMP,DEPTH_,DEPTH_FLAG,CTDDEP,THETA,SIGTHT,DOC,DOC_FLAG_W
,,,,,,,GMT,GMT,,,METER,DBAR,ITS-90,PSS-78,,UMOL/KG,,PSS-78,,UMOL/KG,,UMOL/KG,,UMOL/KG,,UMOL/KG,,UMOL/KG,,UMOL/KG,,PMOL/KG,,PMOL/KG,,/MILLE,,UMOL/KG,,UMOL/KG,,25_DEG_C,,DEG_C,,,,/MILLE,UMOL/KG,,UMOL/KG,,UG/L,,UG/L,,DBAR,ITS-90,METERS,,METERS,DEG_C,,UMOL/L,
       RF00-04,  165E,RF-1055,  1,     -9,      -9,5,20000511,1037, 38.9863, 164.9873, 5309,      0.0,  12.7715,  34.4155,2,   -999.0,9,-999.0000,9,    297.3,4,    11.39,2,  -999.00,9,     6.29,2,     0.12,2,     0.46,2, -999.000,9, -999.000,9,  -999.00,9,   -999.0,9,   -999.0,9,-999.0000,9,   -999.0,  9,  -999.00,9,   -999.0,  -999.00,9,  -999.00,9,  -999.00,9,  -999.00,9,   -999.0,-999.0000, -999,9,    0,  12.7715,  25.9855,   -999.0,9
       RF00-04,  165E,RF-1055,  1,     24,02-10154,2,20000511,1035, 38.9863, 164.9873, 5309,     10.6,  12.7691,  34.4121,2,   -999.0,9,-999.0000,9,    267.0,2,    11.60,2,  -999.00,9,     6.48,2,     0.13,2,     0.46,2, -999.000,9, -999.000,9,  -999.00,9,   -999.0,9,   -999.0,9,-999.0000,9,   -999.0,  9,  -999.00,9,   -999.0,  -999.00,9,  -999.00,9,  -999.00,9,  -999.00,9,   -999.0,-999.0000, -999,9,   11,  12.7677,  25.9836,   -999.0,9
       RF00-04,  165E,RF-1055,  1,     23,02-12829,2,20000511,1033, 38.9863, 164.9873, 5309,     26.0,  11.9971,  34.3536,2,   -999.0,9,-999.0000,9,    268.8,2,    12.46,2,  -999.00,9,     7.30,2,     0.16,2,     0.53,2, -999.000,9, -999.000,9,  -999.00,9,   -999.0,9,   -999.0,9,-999.0000,9,   -999.0,  9,  -999.00,9,   -999.0,  -999.00,9,  -999.00,9,  -999.00,9,  -999.00,9,   -999.0,-999.0000, -999,9,   26,  11.9938,  26.0882,   -999.0,9
       RF00-04,  165E,RF-1055,  1,     22,02-12828,2,20000511,1032, 38.9863, 164.9873, 5309,     50.6,  11.6242,  34.3483,2,   -999.0,9,-999.0000,9,    308.1,3,    13.26,2,  -999.00,9,     8.53,2,     0.20,2,     0.58,2, -999.000,9, -999.000,9,  -999.00,9,   -999.0,9,   -999.0,9,-999.0000,9,   -999.0,  9,  -999.00,9,   -999.0,  -999.00,9,  -999.00,9,  -999.00,9,  -999.00,9,   -999.0,-999.0000, -999,9,   50,  11.6179,  26.1548,   -999.0,9
       RF00-04,  165E,RF-1055,  1,     21,02-12827,2,20000511,1031, 38.9863, 164.9873, 5309,     76.7,  11.1090,  34.2943,2,   -999.0,9,-999.0000,9,    249.3,3,    15.33,2,  -999.00,9,    11.12,2,     0.12,2,     0.73,2, -999.000,9, -999.000,9,  -999.00,9,   -999.0,9,   -999.0,9,-999.0000,9,   -999.0,  9,  -999.00,9,   -999.0,  -999.00,9,  -999.00,9,  -999.00,9,  -999.00,9,   -999.0,-999.0000, -999,9,   76,  11.0996,  26.2080,   -999.0,9
       RF00-04,  165E,RF-1055,  1,     20,02-12826,2,20000511,1029, 38.9863, 164.9873, 5309,    101.6,  10.6022,  34.2471,2,   -999.0,9,  34.2540,2,    253.2,2,    15.57,2,  -999.00,9,    11.41,2,     0.03,2,     0.75,2, -999.000,9, -999.000,9,  -999.00,9,   -999.0,9,   -999.0,9,-999.0000,9,   -999.0,  9,  -999.00,9,   -999.0,  -999.00,9,  -999.00,9,  -999.00,9,  -999.00,9,   -999.0,-999.0000, -999,9,  101,  10.5901,  26.2621,   -999.0,9
       RF00-04,  165E,RF-1055,  1,     19,02-12825,2,20000511,1028, 38.9863, 164.9873, 5309,    126.4,  10.0104,  34.1756,2,   -999.0,9,-999.0000,9,    261.1,2,    16.05,2,  -999.00,9,    11.78,2,     0.02,2,     0.79,2, -999.000,9, -999.000,9,  -999.00,9,   -999.0,9,   -999.0,9,-999.0000,9,   -999.0,  9,  -999.00,9,   -999.0,  -999.00,9,  -999.00,9,  -999.00,9,  -999.00,9,   -999.0,-999.0000, -999,9,  125,   9.9960,  26.3089,   -999.0,9
       RF00-04,  165E,RF-1055,  1,     18,02-12830,2,20000511,1027, 38.9863, 164.9873, 5309,    150.8,   9.2671,  34.0058,2,   -999.0,9,-999.0000,9,    265.2,2,    16.71,2,  -999.00,9,    12.20,2,     0.09,2,     0.84,2, -999.000,9, -999.000,9,  -999.00,9,   -999.0,9,   -999.0,9,-999.0000,9,   -999.0,  9,  -999.00,9,   -999.0,  -999.00,9,  -999.00,9,  -999.00,9,  -999.00,9,   -999.0,-999.0000, -999,9,  150,   9.2506,  26.2995,   -999.0,9
       RF00-04,  165E,RF-1055,  1,     17,02-13591,2,20000511,1025, 38.9863, 164.9873, 5309,    201.8,   8.2738,  33.9404,2,   -999.0,9,-999.0000,9,    263.9,2,    20.21,2,  -999.00,9,    14.40,2,     0.06,2,     0.99,2, -999.000,9, -999.000,9,  -999.00,9,   -999.0,9,   -999.0,9,-999.0000,9,   -999.0,  9,  -999.00,9,   -999.0,  -999.00,9,  -999.00,9,  -999.00,9,  -999.00,9,   -999.0,-999.0000, -999,9,  200,   8.2532,  26.4038,   -999.0,9
       RF00-04,  165E,RF-1055,  1,     16,02-13588,2,20000511,1024, 38.9863, 164.9873, 5309,    251.7,   7.3639,  33.8535,2,   -999.0,9,-999.0000,9,    244.5,2,    25.46,2,  -999.00,9,    17.47,2,     0.00,2,     1.21,2, -999.000,9, -999.000,9,  -999.00,9,   -999.0,9,   -999.0,9,-999.0000,9,   -999.0,  9,  -999.00,9,   -999.0,  -999.00,9,  -999.00,9,  -999.00,9,  -999.00,9,   -999.0,-999.0000, -999,9,  250,   7.3400,  26.4685,   -999.0,9
       RF00-04,  165E,RF-1055,  1,     15,02-10155,2,20000511,1022, 38.9863, 164.9873, 5309,    302.4,   6.8725,  33.9037,2,   -999.0,9,  33.9094,2,    198.1,2,    37.48,2,  -999.00,9,    23.10,2,     0.00,2,     1.60,2, -999.000,9, -999.000,9,  -999.00,9,   -999.0,9,   -999.0,9,-999.0000,9,   -999.0,  9,  -999.00,9,   -999.0,  -999.00,9,  -999.00,9,  -999.00,9,  -999.00,9,   -999.0,-999.0000, -999,9,  300,   6.8448,  26.5763,   -999.0,9
       RF00-04,  165E,RF-1055,  1,     14,02-13579,2,20000511,1019, 38.9863, 164.9873, 5309,    403.4,   5.7858,  33.9678,2,   -999.0,9,-999.0000,9,    139.5,2,    58.09,2,  -999.00,9,    30.42,2,     0.00,2,     2.11,2, -999.000,9, -999.000,9,  -999.00,9,   -999.0,9,   -999.0,9,-999.0000,9,   -999.0,  9,  -999.00,9,   -999.0,  -999.00,9,  -999.00,9,  -999.00,9,  -999.00,9,   -999.0,-999.0000, -999,9,  400,   5.7518,  26.7678,   -999.0,9
       RF00-04,  165E,RF-1055,  1,     13,02-13590,2,20000511,1017, 38.9863, 164.9873, 5309,    504.0,   5.1653,  34.0370,2,   -999.0,9,  34.0429,2,    135.7,4,    74.02,2,  -999.00,9,    34.96,2,     0.00,2,     2.42,2, -999.000,9, -999.000,9,  -999.00,9,   -999.0,9,   -999.0,9,-999.0000,9,   -999.0,  9,  -999.00,9,   -999.0,  -999.00,9,  -999.00,9,  -999.00,9,  -999.00,9,   -999.0,-999.0000, -999,9,  500,   5.1249,  26.8974,   -999.0,9
       RF00-04,  165E,RF-1055,  1,     12,02-12821,2,20000511,1014, 38.9863, 164.9873, 5309,    605.6,   4.5183,  34.1065,2,   -999.0,9,-999.0000,9,     74.7,2,    88.08,2,  -999.00,9,    38.00,2,     0.00,2,     2.66,2, -999.000,9, -999.000,9,  -999.00,9,   -999.0,9,   -999.0,9,-999.0000,9,   -999.0,  9,  -999.00,9,   -999.0,  -999.00,9,  -999.00,9,  -999.00,9,  -999.00,9,   -999.0,-999.0000, -999,9,  600,   4.4722,  27.0256,   -999.0,9
       RF00-04,  165E,RF-1055,  1,     11,02-12811,2,20000511,1010, 38.9863, 164.9873, 5309,    806.4,   3.6892,  34.2742,2,   -999.0,9,  34.2728,2,     42.0,2,   112.82,2,  -999.00,9,    41.60,2,     0.00,2,     2.92,2, -999.000,9, -999.000,9,  -999.00,9,   -999.0,9,   -999.0,9,-999.0000,9,   -999.0,  9,  -999.00,9,   -999.0,  -999.00,9,  -999.00,9,  -999.00,9,  -999.00,9,   -999.0,-999.0000, -999,9,  799,   3.6316,  27.2459,   -999.0,9
       RF00-04,  165E,RF-1055,  1,     10,02-12820,2,20000511,1006, 38.9863, 164.9873, 5309,   1009.6,   3.1755,  34.3616,2,   -999.0,9,  34.3571,2,     32.3,2,   126.99,2,  -999.00,9,    42.69,2,     0.00,2,     2.99,2, -999.000,9, -999.000,9,  -999.00,9,   -999.0,9,   -999.0,9,-999.0000,9,   -999.0,  9,  -999.00,9,   -999.0,  -999.00,9,  -999.00,9,  -999.00,9,  -999.00,9,   -999.0,-999.0000, -999,9, 1000,   3.1057,  27.3658,   -999.0,9
       RF00-04,  165E,RF-1055,  1,      9,02-12810,2,20000511,1001, 38.9863, 164.9873, 5309,   1263.7,   2.7103,  34.4387,2,   -999.0,9,-999.0000,9,     33.5,2,   139.38,2,  -999.00,9,    42.90,2,     0.00,2,     3.01,2, -999.000,9, -999.000,9,  -999.00,9,   -999.0,9,   -999.0,9,-999.0000,9,   -999.0,  9,  -999.00,9,   -999.0,  -999.00,9,  -999.00,9,  -999.00,9,  -999.00,9,   -999.0,-999.0000, -999,9, 1250,   2.6249,  27.4704,   -999.0,9
       RF00-04,  165E,RF-1055,  1,      8,02-12819,2,20000511,0956, 38.9863, 164.9873, 5309,   1516.3,   2.3472,  34.5106,2,   -999.0,9,  34.5077,2,     41.2,2,   148.28,2,  -999.00,9,    42.56,2,     0.00,2,     2.98,2, -999.000,9, -999.000,9,  -999.00,9,   -999.0,9,   -999.0,9,-999.0000,9,   -999.0,  9,  -999.00,9,   -999.0,  -999.00,9,  -999.00,9,  -999.00,9,  -999.00,9,   -999.0,-999.0000, -999,9, 1499,   2.2458,  27.5598,   -999.0,9
       RF00-04,  165E,RF-1055,  1,      7,02-12815,2,20000511,0947, 38.9863, 164.9873, 5309,   2022.5,   1.9675,  34.5858,2,   -999.0,9,  34.5830,2,     63.4,2,   154.92,2,  -999.00,9,    41.71,2,     0.00,2,     2.86,2, -999.000,9, -999.000,9,  -999.00,9,   -999.0,9,   -999.0,9,-999.0000,9,   -999.0,  9,  -999.00,9,   -999.0,  -999.00,9,  -999.00,9,  -999.00,9,  -999.00,9,   -999.0,-999.0000, -999,9, 1998,   1.8299,  27.6531,   -999.0,9
       RF00-04,  165E,RF-1055,  1,      6,02-12818,2,20000511,0931, 38.9863, 164.9873, 5309,   3040.5,   1.5411,  34.6644,2,   -999.0,9,  34.6625,2,    124.3,2,   147.85,2,  -999.00,9,    38.03,2,     0.00,2,     2.59,2, -999.000,9, -999.000,9,  -999.00,9,   -999.0,9,   -999.0,9,-999.0000,9,   -999.0,  9,  -999.00,9,   -999.0,  -999.00,9,  -999.00,9,  -999.00,9,  -999.00,9,   -999.0,-999.0000, -999,9, 2996,   1.3195,  27.7538,   -999.0,9
       RF00-04,  165E,RF-1055,  1,      5,02-12809,2,20000511,0922, 38.9863, 164.9873, 5309,   3554.5,   1.4835,  34.6772,2,   -999.0,9,-999.0000,9,    154.2,3,   144.57,2,  -999.00,9,    37.27,2,     0.00,2,     2.49,2, -999.000,9, -999.000,9,  -999.00,9,   -999.0,9,   -999.0,9,-999.0000,9,   -999.0,  9,  -999.00,9,   -999.0,  -999.00,9,  -999.00,9,  -999.00,9,  -999.00,9,   -999.0,-999.0000, -999,9, 3498,   1.2123,  27.7716,   -999.0,9
       RF00-04,  165E,RF-1055,  1,      4,02-12817,2,20000511,0913, 38.9863, 164.9873, 5309,   4066.7,   1.4637,  34.6854,2,   -999.0,9,  34.6835,2,    186.5,4,   142.47,2,  -999.00,9,    36.73,2,     0.00,2,     2.44,2, -999.000,9, -999.000,9,  -999.00,9,   -999.0,9,   -999.0,9,-999.0000,9,   -999.0,  9,  -999.00,9,   -999.0,  -999.00,9,  -999.00,9,  -999.00,9,  -999.00,9,   -999.0,-999.0000, -999,9, 3998,   1.1386,  27.7832,   -999.0,9
       RF00-04,  165E,RF-1055,  1,      2,02-13589,2,20000511,0856, 38.9863, 164.9873, 5309,   5093.1,   1.5264,  34.6904,2,   -999.0,9,-999.0000,9,   -999.0,9,  -999.00,9,  -999.00,9,  -999.00,9,  -999.00,9,  -999.00,9, -999.000,9, -999.000,9,  -999.00,9,   -999.0,9,   -999.0,9,-999.0000,9,   -999.0,  9,  -999.00,9,   -999.0,  -999.00,9,  -999.00,9,  -999.00,9,  -999.00,9,   -999.0,-999.0000, -999,9, 4995,   1.0799,  27.7912,   -999.0,9
       RF00-04,  165E,RF-1055,  1,      3,02-12808,2,20000511,0857, 38.9863, 164.9873, 5309,   5093.5,   1.5260,  34.6908,2,   -999.0,9,  34.6896,2,    156.9,2,   142.27,2,  -999.00,9,    36.21,2,     0.00,2,     2.41,2, -999.000,9, -999.000,9,  -999.00,9,   -999.0,9,   -999.0,9,-999.0000,9,   -999.0,  9,  -999.00,9,   -999.0,  -999.00,9,  -999.00,9,  -999.00,9,  -999.00,9,   -999.0,-999.0000, -999,9, 4995,   1.0795,  27.7916,   -999.0,9
       RF00-04,  165E,RF-1055,  1,      1,02-12807,2,20000511,0852, 38.9863, 164.9873, 5309,   5304.2,   1.5521,  34.6908,2,   -999.0,9,  34.6900,2,    156.5,2,   142.53,2,  -999.00,9,    36.21,2,     0.00,2,     2.39,2, -999.000,9, -999.000,9,  -999.00,9,   -999.0,9,   -999.0,9,-999.0000,9,   -999.0,  9,  -999.00,9,   -999.0,  -999.00,9,  -999.00,9,  -999.00,9,  -999.00,9,   -999.0,-999.0000, -999,9, 5200,   1.0785,  27.7916,   -999.0,9