BOTTLE,20141201MRIJMADS
EXPOCODE,SECT_ID,STNNBR,CASTNO,SAMPNO,BTLNBR,BTLNBR_FLAG_W,DATE,TIME,LATITUDE,LONGITUDE,DEPTH,CTDPRS,CTDTMP,CTDSAL,CTDSAL_FLAG_W,CTDOXY,CTDOXY_FLAG_W,SALNTY,SALNTY_FLAG_W,OXYGEN,OXYGEN_FLAG_W,SILCAT,SILCAT_FLAG_W,NITRAT,NITRAT_FLAG_W,NO2+NO3,NO2+NO3_FLAG_W,NITRIT,NITRIT_FLAG_W,PHSPHT,PHSPHT_FLAG_W,CFC-11,CFC-11_FLAG_W,CFC-12,CFC-12_FLAG_W,DELC13,DELC13_FLAG_W,TCARBN,TCARBN_FLAG_W,ALKALI,ALKALI_FLAG_W,PH,PH_FLAG_W,PH_TMP,PH_SCALE,PH_NBS,PH_NBS_FLAG_W,C13ERR,TOTALP,TOTALP_FLAG_W,AMMONI,AMMONI_FLAG_W,CHLORA,CHLORA_FLAG_W,PPHYTN,PPHYTN_FLAG_W,REVPRS,REVTMP,DEPTH_,DEPTH_FLAG,CTDDEP,THETA,SIGTHT,DOC,DOC_FLAG_W
,,,,,,,GMT,GMT,,,METER,DBAR,ITS-90,PSS-78,,UMOL/KG,,PSS-78,,UMOL/KG,,UMOL/KG,,UMOL/KG,,UMOL/KG,,UMOL/KG,,UMOL/KG,,PMOL/KG,,PMOL/KG,,/MILLE,,UMOL/KG,,UMOL/KG,,25_DEG_C,,DEG_C,,,,/MILLE,UMOL/KG,,UMOL/KG,,UG/L,,UG/L,,DBAR,ITS-90,METERS,,METERS,DEG_C,,UMOL/L,
       RF00-06,  137E,RF-1131,  1,     -9,      -9,5,20000714,1837, 25.0100, 137.0030, 5021,      0.0,  27.6673,  34.7337,2,   -999.0,9,-999.0000,9,    202.1,2,     1.23,2,  -999.00,9,     0.00,2,     0.00,2,     0.02,2,    1.843,2,    0.973,2,  -999.00,9,   1945.3,3,   -999.0,9,-999.0000,9,   -999.0,  9,     8.23,2,   -999.0,  -999.00,9,  -999.00,9,     0.06,2,     0.01,2,   -999.0,-999.0000, -999,9,    0,  27.6673,  22.3026,   -999.0,9
       RF00-06,  137E,RF-1131,  1,     24,02-10154,2,20000714,1834, 25.0100, 137.0030, 5021,     10.8,  27.6549,  34.7321,2,   -999.0,9,-999.0000,9,    202.8,2,     1.25,2,  -999.00,9,     0.00,2,     0.00,2,     0.00,2,    1.829,2,    0.961,2,  -999.00,9,   1942.1,3,   -999.0,9,-999.0000,9,   -999.0,  9,  -999.00,9,   -999.0,  -999.00,9,  -999.00,9,     0.06,2,     0.01,2,   -999.0,-999.0000, -999,9,   11,  27.6524,  22.3063,   -999.0,9
       RF00-06,  137E,RF-1131,  1,     23,02-12829,2,20000714,1833, 25.0100, 137.0030, 5021,     26.1,  27.0882,  34.7238,2,   -999.0,9,-999.0000,9,    204.9,2,     1.16,2,  -999.00,9,     0.00,2,     0.00,2,     0.00,2,    1.890,2,    0.982,2,  -999.00,9,   1938.8,3,   -999.0,9,-999.0000,9,   -999.0,  9,     8.24,2,   -999.0,  -999.00,9,  -999.00,9,     0.06,2,     0.01,2,   -999.0,-999.0000, -999,9,   26,  27.0822,  22.4835,   -999.0,9
       RF00-06,  137E,RF-1131,  1,     22,02-12828,2,20000714,1832, 25.0100, 137.0030, 5021,     52.2,  26.5830,  34.7219,2,   -999.0,9,-999.0000,9,    208.0,2,     1.19,2,  -999.00,9,     0.00,2,     0.00,2,     0.00,2,    1.958,2,    0.988,2,  -999.00,9,   1940.8,3,   -999.0,9,-999.0000,9,   -999.0,  9,     8.23,2,   -999.0,  -999.00,9,  -999.00,9,     0.10,2,     0.03,2,   -999.0,-999.0000, -999,9,   52,  26.5712,  22.6444,   -999.0,9
       RF00-06,  137E,RF-1131,  1,     21,02-12827,2,20000714,1830, 25.0100, 137.0030, 5021,     76.3,  25.0262,  34.7812,2,   -999.0,9,-999.0000,9,    211.9,2,     1.26,2,  -999.00,9,     0.00,2,     0.00,2,     0.00,2,    2.077,2,    1.053,2,  -999.00,9,   1954.5,3,   -999.0,9,-999.0000,9,   -999.0,  9,     8.22,2,   -999.0,  -999.00,9,  -999.00,9,     0.15,2,     0.06,2,   -999.0,-999.0000, -999,9,   76,  25.0097,  23.1729,   -999.0,9
       RF00-06,  137E,RF-1131,  1,     20,02-12826,2,20000714,1829, 25.0100, 137.0030, 5021,    102.1,  23.1721,  34.8762,2,   -999.0,9,  34.8853,2,    203.2,2,     1.37,2,  -999.00,9,     0.00,2,     0.00,2,     0.00,2,    2.182,2,    1.101,2,  -999.00,9,   1980.1,3,   -999.0,9,-999.0000,9,   -999.0,  9,     8.19,2,   -999.0,  -999.00,9,  -999.00,9,     0.27,2,     0.28,2,   -999.0,-999.0000, -999,9,  101,  23.1511,  23.7961,   -999.0,9
       RF00-06,  137E,RF-1131,  1,     19,02-12825,2,20000714,1828, 25.0100, 137.0030, 5021,    126.5,  21.8885,  34.8849,2,   -999.0,9,-999.0000,9,    198.6,2,     1.66,2,  -999.00,9,     0.89,2,     0.11,2,     0.05,2,    2.289,2,    1.158,2,  -999.00,9,   1994.0,3,   -999.0,9,-999.0000,9,   -999.0,  9,  -999.00,9,   -999.0,  -999.00,9,  -999.00,9,     0.17,2,     0.29,2,   -999.0,-999.0000, -999,9,  126,  21.8636,  24.1685,   -999.0,9
       RF00-06,  137E,RF-1131,  1,     18,02-12830,2,20000714,1826, 25.0100, 137.0030, 5021,    152.3,  21.1624,  34.8447,2,   -999.0,9,-999.0000,9,    205.0,2,     1.70,2,  -999.00,9,     0.60,2,     0.11,2,     0.04,2,    2.208,2,    1.232,2,  -999.00,9,   1994.3,3,   -999.0,9,-999.0000,9,   -999.0,  9,     8.16,2,   -999.0,  -999.00,9,  -999.00,9,     0.12,2,     0.19,2,   -999.0,-999.0000, -999,9,  151,  21.1331,  24.3395,   -999.0,9
       RF00-06,  137E,RF-1131,  1,     17,02-12815,2,20000714,1824, 25.0100, 137.0030, 5021,    202.9,  19.4434,  34.8006,2,   -999.0,9,  34.8310,4,    198.1,2,     2.62,2,  -999.00,9,     2.75,2,     0.01,2,     0.14,2,    2.387,2,    1.307,2,  -999.00,9,   2014.6,3,   -999.0,9,-999.0000,9,   -999.0,  9,     8.13,2,   -999.0,  -999.00,9,  -999.00,9,     0.05,2,     0.08,2,   -999.0,-999.0000, -999,9,  201,  19.4067,  24.7644,   -999.0,9
       RF00-06,  137E,RF-1131,  1,     16,02-12818,2,20000714,1822, 25.0100, 137.0030, 5021,    252.2,  18.3537,  34.8027,2,   -999.0,9,-999.0000,9,    193.5,2,     3.50,2,  -999.00,9,     4.44,2,     0.00,2,     0.24,2,    2.459,2,    1.326,2,  -999.00,9,   2030.4,3,   -999.0,9,-999.0000,9,   -999.0,  9,  -999.00,9,   -999.0,  -999.00,9,  -999.00,9,  -999.00,9,  -999.00,9,   -999.0,-999.0000, -999,9,  250,  18.3098,  25.0442,   -999.0,9
       RF00-06,  137E,RF-1131,  1,     15,02-12809,2,20000714,1820, 25.0100, 137.0030, 5021,    302.5,  17.0264,  34.7655,2,   -999.0,9,  34.7695,2,    192.4,2,     5.12,2,  -999.00,9,     6.27,2,     0.00,2,     0.35,2,    2.559,2,    1.348,2,  -999.00,9,   2043.7,3,   -999.0,9,-999.0000,9,   -999.0,  9,     8.07,2,   -999.0,  -999.00,9,  -999.00,9,  -999.00,9,  -999.00,9,   -999.0,-999.0000, -999,9,  300,  16.9763,  25.3399,   -999.0,9
       RF00-06,  137E,RF-1131,  1,     14,02-12817,2,20000714,1818, 25.0100, 137.0030, 5021,    403.6,  14.7438,  34.5852,2,   -999.0,9,-999.0000,9,    188.5,2,     9.79,2,  -999.00,9,    10.23,2,     0.00,2,     0.62,2,    2.804,2,    1.329,2,  -999.00,9,   2071.7,3,   -999.0,9,-999.0000,9,   -999.0,  9,  -999.00,9,   -999.0,  -999.00,9,  -999.00,9,  -999.00,9,  -999.00,9,   -999.0,-999.0000, -999,9,  401,  14.6832,  25.7211,   -999.0,9
       RF00-06,  137E,RF-1131,  1,     13,02-12808,2,20000714,1815, 25.0100, 137.0030, 5021,    504.7,  12.0590,  34.3711,2,   -999.0,9,  34.3858,4,    179.5,2,    19.89,2,  -999.00,9,    15.93,2,     0.00,2,     1.02,2,    2.319,2,    1.237,2,  -999.00,9,   2110.0,3,   -999.0,9,-999.0000,9,   -999.0,  9,     7.92,2,   -999.0,  -999.00,9,  -999.00,9,  -999.00,9,  -999.00,9,   -999.0,-999.0000, -999,9,  501,  11.9925,  26.1020,   -999.0,9
       RF00-06,  137E,RF-1131,  1,     12,02-12821,2,20000714,1813, 25.0100, 137.0030, 5021,    606.2,   9.4451,  34.2289,2,   -999.0,9,  34.2284,2,    160.6,2,    33.55,2,  -999.00,9,    21.89,2,     0.00,2,     1.47,2,    2.134,2,    1.027,2,  -999.00,9,   2154.2,2,   -999.0,9,-999.0000,9,   -999.0,  9,  -999.00,9,   -999.0,  -999.00,9,  -999.00,9,  -999.00,9,  -999.00,9,   -999.0,-999.0000, -999,9,  601,   9.3764,  26.4536,   -999.0,9
       RF00-06,  137E,RF-1131,  1,     11,02-12811,2,20000714,1809, 25.0100, 137.0030, 5021,    808.2,   5.5220,  34.1683,2,   -999.0,9,  34.1746,2,     89.3,2,    75.79,2,  -999.00,9,    34.86,2,     0.00,2,     2.46,2,    0.792,2,    0.461,2,  -999.00,9,   1981.3,4,   -999.0,9,-999.0000,9,   -999.0,  9,     7.62,2,   -999.0,  -999.00,9,  -999.00,9,  -999.00,9,  -999.00,9,   -999.0,-999.0000, -999,9,  801,   5.4530,  26.9628,   -999.0,9
       RF00-06,  137E,RF-1131,  1,     10,02-12820,2,20000714,1805, 25.0100, 137.0030, 5021,   1009.1,   4.0960,  34.3089,2,   -999.0,9,  34.3150,2,     58.9,2,   102.50,2,  -999.00,9,    39.29,2,     0.00,2,     2.79,2,    0.088,2,    0.087,2,  -999.00,9,   2322.8,2,   -999.0,9,-999.0000,9,   -999.0,  9,     7.59,2,   -999.0,  -999.00,9,  -999.00,9,  -999.00,9,  -999.00,9,   -999.0,-999.0000, -999,9, 1000,   4.0192,  27.2344,   -999.0,9
       RF00-06,  137E,RF-1131,  1,      9,02-12810,2,20000714,1800, 25.0100, 137.0030, 5021,   1262.6,   3.0953,  34.4492,2,   -999.0,9,  34.4398,2,     62.7,2,   121.36,2,  -999.00,9,    40.18,2,     0.00,2,     2.86,2,    0.048,2,    0.056,2,  -999.00,9,   2351.5,3,   -999.0,9,-999.0000,9,   -999.0,  9,  -999.00,9,   -999.0,  -999.00,9,  -999.00,9,  -999.00,9,  -999.00,9,   -999.0,-999.0000, -999,9, 1251,   3.0061,  27.4448,   -999.0,9
       RF00-06,  137E,RF-1131,  1,      8,02-12819,2,20000714,1755, 25.0100, 137.0030, 5021,   1516.1,   2.5741,  34.5278,2,   -999.0,9,  34.5317,2,     80.3,2,   128.20,2,  -999.00,9,    39.50,2,     0.00,2,     2.79,2,    0.006,2,    0.011,2,  -999.00,9,   2352.5,3,   -999.0,9,-999.0000,9,   -999.0,  9,     7.61,2,   -999.0,  -999.00,9,  -999.00,9,  -999.00,9,  -999.00,9,   -999.0,-999.0000, -999,9, 1501,   2.4700,  27.5549,   -999.0,9
       RF00-06,  137E,RF-1131,  1,      7,02-13591,2,20000714,1750, 25.0100, 137.0030, 5021,   1770.1,   2.2547,  34.5826,2,   -999.0,9,  34.5816,2,     99.3,2,   129.82,2,  -999.00,9,    38.54,2,     0.00,2,     2.70,2,    0.000,2,    0.007,2,  -999.00,9,   2347.8,3,   -999.0,9,-999.0000,9,   -999.0,  9,  -999.00,9,   -999.0,  -999.00,9,  -999.00,9,  -999.00,9,  -999.00,9,   -999.0,-999.0000, -999,9, 1751,   2.1338,  27.6266,   -999.0,9
       RF00-06,  137E,RF-1131,  1,      6,02-13588,2,20000714,1745, 25.0100, 137.0030, 5021,   2023.4,   2.0394,  34.6130,2,   -999.0,9,  34.6125,2,    112.3,2,   130.61,2,  -999.00,9,    37.94,2,     0.00,2,     2.65,2,    0.000,2,    0.002,2,  -999.00,9,   2340.1,3,   -999.0,9,-999.0000,9,   -999.0,  9,     7.66,2,   -999.0,  -999.00,9,  -999.00,9,  -999.00,9,  -999.00,9,   -999.0,-999.0000, -999,9, 2001,   1.9005,  27.6694,   -999.0,9
       RF00-06,  137E,RF-1131,  1,      5,02-10155,2,20000714,1736, 25.0100, 137.0030, 5021,   2532.7,   1.7739,  34.6453,2,   -999.0,9,  34.6455,2,    128.7,2,   131.51,2,  -999.00,9,    37.11,2,     0.00,2,     2.56,2,    0.000,2,    0.000,2,  -999.00,9,   2334.2,3,   -999.0,9,-999.0000,9,   -999.0,  9,  -999.00,9,   -999.0,  -999.00,9,  -999.00,9,  -999.00,9,  -999.00,9,   -999.0,-999.0000, -999,9, 2501,   1.5949,  27.7185,   -999.0,9
       RF00-06,  137E,RF-1131,  1,      4,02-13579,2,20000714,1728, 25.0100, 137.0030, 5021,   3042.1,   1.6514,  34.6632,2,   -999.0,9,  34.6611,2,    139.4,2,   131.11,2,  -999.00,9,    36.43,2,     0.00,2,     2.51,2,    0.000,2,    0.000,2,  -999.00,9,   2330.6,2,   -999.0,9,-999.0000,9,   -999.0,  9,  -999.00,9,   -999.0,  -999.00,9,  -999.00,9,  -999.00,9,  -999.00,9,   -999.0,-999.0000, -999,9, 3001,   1.4273,  27.7451,   -999.0,9
       RF00-06,  137E,RF-1131,  1,      3,02-13590,2,20000714,1711, 25.0100, 137.0030, 5021,   4064.3,   1.5316,  34.6844,2,   -999.0,9,  34.7058,4,    155.8,2,   129.15,2,  -999.00,9,    35.52,2,     0.00,2,     2.44,2,    0.000,2,    0.000,2,  -999.00,9,   2303.3,3,   -999.0,9,-999.0000,9,   -999.0,  9,  -999.00,9,   -999.0,  -999.00,9,  -999.00,9,  -999.00,9,  -999.00,9,   -999.0,-999.0000, -999,9, 4000,   1.2048,  27.7779,   -999.0,9
       RF00-06,  137E,RF-1131,  1,      2,02-13589,2,20000714,1701, 25.0100, 137.0030, 5021,   4579.6,   1.5764,  34.6845,2,   -999.0,9,  34.6851,2,    156.8,2,   129.09,2,  -999.00,9,    35.53,2,     0.00,2,     2.42,2,    0.000,2,    0.000,2,  -999.00,9,   -999.0,9,   -999.0,9,-999.0000,9,   -999.0,  9,  -999.00,9,   -999.0,  -999.00,9,  -999.00,9,  -999.00,9,  -999.00,9,   -999.0,-999.0000, -999,9, 4502,   1.1898,  27.7789,   -999.0,9
       RF00-06,  137E,RF-1131,  1,      1,02-12807,2,20000714,1651, 25.0100, 137.0030, 5021,   5001.6,   1.6223,  34.6853,2,   -999.0,9,  34.6853,2,    157.5,2,   129.09,2,  -999.00,9,    35.46,2,     0.00,2,     2.43,2,    0.000,2,    0.000,2,  -999.00,9,   2322.6,2,   -999.0,9,-999.0000,9,   -999.0,  9,  -999.00,9,   -999.0,  -999.00,9,  -999.00,9,  -999.00,9,  -999.00,9,   -999.0,-999.0000, -999,9, 4912,   1.1837,  27.7800,   -999.0,9