BOTTLE,20141201MRIJMADS
EXPOCODE,SECT_ID,STNNBR,CASTNO,SAMPNO,BTLNBR,BTLNBR_FLAG_W,DATE,TIME,LATITUDE,LONGITUDE,DEPTH,CTDPRS,CTDTMP,CTDSAL,CTDSAL_FLAG_W,CTDOXY,CTDOXY_FLAG_W,SALNTY,SALNTY_FLAG_W,OXYGEN,OXYGEN_FLAG_W,SILCAT,SILCAT_FLAG_W,NITRAT,NITRAT_FLAG_W,NO2+NO3,NO2+NO3_FLAG_W,NITRIT,NITRIT_FLAG_W,PHSPHT,PHSPHT_FLAG_W,CFC-11,CFC-11_FLAG_W,CFC-12,CFC-12_FLAG_W,DELC13,DELC13_FLAG_W,TCARBN,TCARBN_FLAG_W,ALKALI,ALKALI_FLAG_W,PH,PH_FLAG_W,PH_TMP,PH_SCALE,PH_NBS,PH_NBS_FLAG_W,C13ERR,TOTALP,TOTALP_FLAG_W,AMMONI,AMMONI_FLAG_W,CHLORA,CHLORA_FLAG_W,PPHYTN,PPHYTN_FLAG_W,REVPRS,REVTMP,DEPTH_,DEPTH_FLAG,CTDDEP,THETA,SIGTHT,DOC,DOC_FLAG_W
,,,,,,,GMT,GMT,,,METER,DBAR,ITS-90,PSS-78,,UMOL/KG,,PSS-78,,UMOL/KG,,UMOL/KG,,UMOL/KG,,UMOL/KG,,UMOL/KG,,UMOL/KG,,PMOL/KG,,PMOL/KG,,/MILLE,,UMOL/KG,,UMOL/KG,,25_DEG_C,,DEG_C,,,,/MILLE,UMOL/KG,,UMOL/KG,,UG/L,,UG/L,,DBAR,ITS-90,METERS,,METERS,DEG_C,,UMOL/L,
       RF00-06,  137E,RF-1111,  1,     -9,      -9,5,20000709,0136,  4.9862, 137.0058, 5296,      0.0,  29.3190,  33.9519,2,   -999.0,9,-999.0000,9,    199.0,2,     1.53,2,  -999.00,9,     0.00,2,     0.00,2,     0.07,2,    1.737,2,    0.908,2,  -999.00,9,   1895.2,2,   -999.0,9,-999.0000,9,   -999.0,  9,     8.26,2,   -999.0,  -999.00,9,  -999.00,9,     0.19,2,     0.05,2,   -999.0,-999.0000, -999,9,    0,  29.3190,  21.1707,   -999.0,9
       RF00-06,  137E,RF-1111,  1,     24,02-10154,2,20000709,0134,  4.9862, 137.0058, 5296,     10.8,  29.3856,  33.9931,2,   -999.0,9,-999.0000,9,    197.2,2,     1.54,2,  -999.00,9,     0.00,2,     0.00,2,     0.04,2,    1.684,2,    0.884,2,  -999.00,9,   1894.4,2,   -999.0,9,-999.0000,9,   -999.0,  9,  -999.00,9,   -999.0,  -999.00,9,  -999.00,9,     0.18,2,     0.06,2,   -999.0,-999.0000, -999,9,   11,  29.3830,  21.1801,   -999.0,9
       RF00-06,  137E,RF-1111,  1,     23,02-12829,2,20000709,0132,  4.9862, 137.0058, 5296,     26.3,  29.6867,  34.3850,2,   -999.0,9,-999.0000,9,    195.5,2,     1.38,2,  -999.00,9,     0.00,2,     0.00,2,     0.05,2,    1.701,2,    0.895,2,  -999.00,9,   1916.3,2,   -999.0,9,-999.0000,9,   -999.0,  9,     8.26,2,   -999.0,  -999.00,9,  -999.00,9,     0.20,2,     0.06,2,   -999.0,-999.0000, -999,9,   26,  29.6802,  21.3738,   -999.0,9
       RF00-06,  137E,RF-1111,  1,     22,02-12828,2,20000709,0131,  4.9862, 137.0058, 5296,     51.3,  29.6469,  34.4981,2,   -999.0,9,-999.0000,9,    194.6,2,     1.34,2,  -999.00,9,     0.00,2,     0.00,2,     0.07,2,    1.730,2,    0.900,2,  -999.00,9,   1919.9,2,   -999.0,9,-999.0000,9,   -999.0,  9,     8.26,2,   -999.0,  -999.00,9,  -999.00,9,     0.23,2,     0.08,2,   -999.0,-999.0000, -999,9,   51,  29.6344,  21.4741,   -999.0,9
       RF00-06,  137E,RF-1111,  1,     21,02-12827,2,20000709,0129,  4.9862, 137.0058, 5296,     76.7,  29.8300,  34.7635,2,   -999.0,9,-999.0000,9,    196.1,2,     1.33,2,  -999.00,9,     0.00,2,     0.00,2,     0.09,2,    1.830,2,    0.942,2,  -999.00,9,   1936.9,2,   -999.0,9,-999.0000,9,   -999.0,  9,     8.25,2,   -999.0,  -999.00,9,  -999.00,9,     0.29,2,     0.11,2,   -999.0,-999.0000, -999,9,   76,  29.8111,  21.6132,   -999.0,9
       RF00-06,  137E,RF-1111,  1,     20,02-12826,2,20000709,0128,  4.9862, 137.0058, 5296,    101.6,  28.9641,  35.1675,2,   -999.0,9,  35.1772,2,    187.9,2,     1.77,2,  -999.00,9,     1.80,2,     0.38,2,     0.25,2,    1.974,2,    1.005,2,  -999.00,9,   1985.9,2,   -999.0,9,-999.0000,9,   -999.0,  9,     8.20,2,   -999.0,  -999.00,9,  -999.00,9,     0.26,2,     0.33,2,   -999.0,-999.0000, -999,9,  101,  28.9395,  22.2101,   -999.0,9
       RF00-06,  137E,RF-1111,  1,     19,02-12825,2,20000709,0126,  4.9862, 137.0058, 5296,    125.9,  27.8570,  35.3699,2,   -999.0,9,-999.0000,9,    171.1,2,     2.17,2,  -999.00,9,     4.72,2,     0.08,2,     0.43,2,    1.978,2,    1.100,2,  -999.00,9,   2019.3,2,   -999.0,9,-999.0000,9,   -999.0,  9,  -999.00,9,   -999.0,  -999.00,9,  -999.00,9,     0.13,2,     0.22,2,   -999.0,-999.0000, -999,9,  125,  27.8274,  22.7292,   -999.0,9
       RF00-06,  137E,RF-1111,  1,     18,02-12830,2,20000709,0125,  4.9862, 137.0058, 5296,    152.2,  23.4909,  35.0418,2,   -999.0,9,-999.0000,9,    153.3,2,     4.83,2,  -999.00,9,     6.85,2,     0.02,2,     0.53,2,    1.902,2,    0.942,2,  -999.00,9,   2045.4,2,   -999.0,9,-999.0000,9,   -999.0,  9,     8.09,2,   -999.0,  -999.00,9,  -999.00,9,     0.03,2,     0.06,2,   -999.0,-999.0000, -999,9,  151,  23.4593,  23.8320,   -999.0,9
       RF00-06,  137E,RF-1111,  1,     17,02-12815,2,20000709,0123,  4.9862, 137.0058, 5296,    201.8,  16.1653,  34.6668,2,   -999.0,9,  34.6625,2,    136.2,2,    13.73,2,  -999.00,9,    14.56,2,     0.00,2,     1.00,2,    1.815,2,    0.891,2,  -999.00,9,   2103.9,2,   -999.0,9,-999.0000,9,   -999.0,  9,     7.94,2,   -999.0,  -999.00,9,  -999.00,9,     0.00,2,     0.02,2,   -999.0,-999.0000, -999,9,  201,  16.1332,  25.4608,   -999.0,9
       RF00-06,  137E,RF-1111,  1,     16,02-12818,2,20000709,0121,  4.9862, 137.0058, 5296,    251.3,  11.2113,  34.5661,2,   -999.0,9,-999.0000,9,     70.6,2,    28.37,2,  -999.00,9,    28.20,2,     0.00,2,     1.98,2,    0.948,2,    0.521,2,  -999.00,9,   2200.1,2,   -999.0,9,-999.0000,9,   -999.0,  9,  -999.00,9,   -999.0,  -999.00,9,  -999.00,9,  -999.00,9,  -999.00,9,   -999.0,-999.0000, -999,9,  250,  11.1800,  26.4049,   -999.0,9
       RF00-06,  137E,RF-1111,  1,     15,02-12809,2,20000709,0117,  4.9862, 137.0058, 5296,    302.2,   9.7991,  34.6026,2,   -999.0,9,  34.6225,4,     51.5,2,    33.62,2,  -999.00,9,    32.49,2,     0.00,2,     2.29,2,    0.323,2,    0.226,2,  -999.00,9,   2246.7,2,   -999.0,9,-999.0000,9,   -999.0,  9,     7.67,2,   -999.0,  -999.00,9,  -999.00,9,  -999.00,9,  -999.00,9,   -999.0,-999.0000, -999,9,  300,   9.7644,  26.6815,   -999.0,9
       RF00-06,  137E,RF-1111,  1,     14,02-12817,2,20000709,0114,  4.9862, 137.0058, 5296,    403.4,   8.7171,  34.6027,2,   -999.0,9,-999.0000,9,     59.8,2,    37.99,2,  -999.00,9,    33.84,2,     0.00,2,     2.39,2,    0.234,2,    0.181,2,  -999.00,9,   2243.3,2,   -999.0,9,-999.0000,9,   -999.0,  9,  -999.00,9,   -999.0,  -999.00,9,  -999.00,9,  -999.00,9,  -999.00,9,   -999.0,-999.0000, -999,9,  401,   8.6738,  26.8587,   -999.0,9
       RF00-06,  137E,RF-1111,  1,     13,02-12808,2,20000709,0111,  4.9862, 137.0058, 5296,    503.9,   7.6106,  34.5687,2,   -999.0,9,  34.5769,2,     81.8,2,    43.04,2,  -999.00,9,    34.13,2,     0.00,2,     2.41,2,    0.179,2,    0.141,2,  -999.00,9,   2257.9,2,   -999.0,9,-999.0000,9,   -999.0,  9,     7.68,2,   -999.0,  -999.00,9,  -999.00,9,  -999.00,9,  -999.00,9,   -999.0,-999.0000, -999,9,  501,   7.5604,  26.9997,   -999.0,9
       RF00-06,  137E,RF-1111,  1,     12,02-12821,2,20000709,0107,  4.9862, 137.0058, 5296,    604.8,   6.6586,  34.5366,2,   -999.0,9,  34.5364,2,     88.3,2,    51.66,2,  -999.00,9,    35.13,2,     0.00,2,     2.49,2,    0.098,2,    0.110,2,  -999.00,9,   2252.0,2,   -999.0,9,-999.0000,9,   -999.0,  9,  -999.00,9,   -999.0,  -999.00,9,  -999.00,9,  -999.00,9,  -999.00,9,   -999.0,-999.0000, -999,9,  601,   6.6023,  27.1079,   -999.0,9
       RF00-06,  137E,RF-1111,  1,     11,02-12811,2,20000709,0101,  4.9862, 137.0058, 5296,    806.4,   5.3606,  34.5329,2,   -999.0,9,  34.5330,2,     94.6,2,    68.83,2,  -999.00,9,    36.53,2,     0.00,2,     2.62,2,    0.059,2,    0.080,2,  -999.00,9,   2273.1,2,   -999.0,9,-999.0000,9,   -999.0,  9,     7.68,4,   -999.0,  -999.00,9,  -999.00,9,  -999.00,9,  -999.00,9,   -999.0,-999.0000, -999,9,  800,   5.2923,  27.2706,   -999.0,9
       RF00-06,  137E,RF-1111,  1,     10,02-12820,2,20000709,0056,  4.9862, 137.0058, 5296,   1010.1,   4.3522,  34.5571,2,   -999.0,9,  34.5568,2,     95.1,2,    86.06,2,  -999.00,9,    37.82,2,     0.00,2,     2.71,2,    0.008,2,    0.030,2,  -999.00,9,   2295.2,2,   -999.0,9,-999.0000,9,   -999.0,  9,    11.87,4,   -999.0,  -999.00,9,  -999.00,9,  -999.00,9,  -999.00,9,   -999.0,-999.0000, -999,9, 1002,   4.2729,  27.4051,   -999.0,9
       RF00-06,  137E,RF-1111,  1,      9,02-12810,2,20000709,0047,  4.9862, 137.0058, 5296,   1262.2,   3.5201,  34.5818,2,   -999.0,9,  34.5818,2,     96.3,2,   102.97,2,  -999.00,9,    38.36,2,     0.00,2,     2.74,2,    0.002,2,    0.020,2,  -999.00,9,   2314.4,2,   -999.0,9,-999.0000,9,   -999.0,  9,  -999.00,9,   -999.0,  -999.00,9,  -999.00,9,  -999.00,9,  -999.00,9,   -999.0,-999.0000, -999,9, 1251,   3.4266,  27.5110,   -999.0,9
       RF00-06,  137E,RF-1111,  1,      8,02-12819,2,20000709,0042,  4.9862, 137.0058, 5296,   1516.2,   2.9036,  34.6052,2,   -999.0,9,  34.6054,2,     99.3,2,   115.66,2,  -999.00,9,    38.53,2,     0.00,2,     2.76,2,    0.000,2,    0.005,2,  -999.00,9,   2329.8,2,   -999.0,9,-999.0000,9,   -999.0,  9,     7.64,2,   -999.0,  -999.00,9,  -999.00,9,  -999.00,9,  -999.00,9,   -999.0,-999.0000, -999,9, 1502,   2.7955,  27.5884,   -999.0,9
       RF00-06,  137E,RF-1111,  1,      7,02-13591,2,20000709,0037,  4.9862, 137.0058, 5296,   1768.3,   2.4799,  34.6241,2,   -999.0,9,  34.6180,2,    109.6,2,   121.73,2,  -999.00,9,    38.14,2,     0.00,2,     2.71,2,    0.000,2,    0.000,2,  -999.00,9,   2331.8,2,   -999.0,9,-999.0000,9,   -999.0,  9,  -999.00,9,   -999.0,  -999.00,9,  -999.00,9,  -999.00,9,  -999.00,9,   -999.0,-999.0000, -999,9, 1751,   2.3560,  27.6415,   -999.0,9
       RF00-06,  137E,RF-1111,  1,      6,02-13588,2,20000709,0020,  4.9862, 137.0058, 5296,   2022.5,   2.1707,  34.6399,2,   -999.0,9,  34.6400,2,    113.9,2,   128.28,2,  -999.00,9,    38.11,2,     0.00,2,     2.69,2,    0.000,2,    0.000,2,  -999.00,9,   2338.3,2,   -999.0,9,-999.0000,9,   -999.0,  9,     7.66,2,   -999.0,  -999.00,9,  -999.00,9,  -999.00,9,  -999.00,9,   -999.0,-999.0000, -999,9, 2002,   2.0298,  27.6808,   -999.0,9
       RF00-06,  137E,RF-1111,  1,      5,02-10155,2,20000709,0011,  4.9862, 137.0058, 5296,   2531.6,   1.7423,  34.6633,2,   -999.0,9,  34.6621,2,    133.6,2,   131.73,2,  -999.00,9,    36.99,2,     0.00,2,     2.59,2,    0.000,2,    0.000,2,  -999.00,9,   2331.8,2,   -999.0,9,-999.0000,9,   -999.0,  9,  -999.00,9,   -999.0,  -999.00,9,  -999.00,9,  -999.00,9,  -999.00,9,   -999.0,-999.0000, -999,9, 2503,   1.5640,  27.7353,   -999.0,9
       RF00-06,  137E,RF-1111,  1,      4,02-13579,2,20000709,0002,  4.9862, 137.0058, 5296,   3041.8,   1.5869,  34.6744,2,   -999.0,9,  34.6733,2,    143.8,2,   132.14,2,  -999.00,9,    36.29,2,     0.00,2,     2.52,2,    0.000,2,    0.000,2,  -999.00,9,   2325.8,2,   -999.0,9,-999.0000,9,   -999.0,  9,  -999.00,9,   -999.0,  -999.00,9,  -999.00,9,  -999.00,9,  -999.00,9,   -999.0,-999.0000, -999,9, 3003,   1.3642,  27.7586,   -999.0,9
       RF00-06,  137E,RF-1111,  1,      3,02-13590,2,20000708,2345,  4.9862, 137.0058, 5296,   4065.4,   1.5018,  34.6818,2,   -999.0,9,  34.6855,2,    156.6,2,   130.56,2,  -999.00,9,    35.55,2,     0.00,2,     2.46,2,    0.000,2,    0.000,2,  -999.00,9,   2319.6,2,   -999.0,9,-999.0000,9,   -999.0,  9,  -999.00,9,   -999.0,  -999.00,9,  -999.00,9,  -999.00,9,  -999.00,9,   -999.0,-999.0000, -999,9, 4005,   1.1757,  27.7778,   -999.0,9
       RF00-06,  137E,RF-1111,  1,      2,02-13589,2,20000708,2335,  4.9862, 137.0058, 5296,   4578.4,   1.5085,  34.6848,2,   -999.0,9,  34.6871,2,    162.0,2,   128.79,2,  -999.00,9,    35.25,2,     0.00,2,     2.43,2,    0.000,2,    0.000,2,  -999.00,9,   -999.0,5,   -999.0,9,-999.0000,9,   -999.0,  9,  -999.00,9,   -999.0,  -999.00,9,  -999.00,9,  -999.00,9,  -999.00,9,   -999.0,-999.0000, -999,9, 4505,   1.1242,  27.7837,   -999.0,9
       RF00-06,  137E,RF-1111,  1,      1,02-12807,2,20000708,2324,  4.9862, 137.0058, 5296,   5199.0,   1.5800,  34.6890,2,   -999.0,9,  34.6902,2,    163.0,2,   128.43,2,  -999.00,9,    35.16,2,     0.00,2,     2.42,2,    0.000,2,    0.000,2,  -999.00,9,   2314.0,2,   -999.0,9,-999.0000,9,   -999.0,  9,  -999.00,9,   -999.0,  -999.00,9,  -999.00,9,  -999.00,9,  -999.00,9,   -999.0,-999.0000, -999,9, 5108,   1.1185,  27.7875,   -999.0,9