BOTTLE,20141201MRIJMADS
EXPOCODE,SECT_ID,STNNBR,CASTNO,SAMPNO,BTLNBR,BTLNBR_FLAG_W,DATE,TIME,LATITUDE,LONGITUDE,DEPTH,CTDPRS,CTDTMP,CTDSAL,CTDSAL_FLAG_W,CTDOXY,CTDOXY_FLAG_W,SALNTY,SALNTY_FLAG_W,OXYGEN,OXYGEN_FLAG_W,SILCAT,SILCAT_FLAG_W,NITRAT,NITRAT_FLAG_W,NO2+NO3,NO2+NO3_FLAG_W,NITRIT,NITRIT_FLAG_W,PHSPHT,PHSPHT_FLAG_W,CFC-11,CFC-11_FLAG_W,CFC-12,CFC-12_FLAG_W,DELC13,DELC13_FLAG_W,TCARBN,TCARBN_FLAG_W,ALKALI,ALKALI_FLAG_W,PH,PH_FLAG_W,PH_TMP,PH_SCALE,PH_NBS,PH_NBS_FLAG_W,C13ERR,TOTALP,TOTALP_FLAG_W,AMMONI,AMMONI_FLAG_W,CHLORA,CHLORA_FLAG_W,PPHYTN,PPHYTN_FLAG_W,REVPRS,REVTMP,DEPTH_,DEPTH_FLAG,CTDDEP,THETA,SIGTHT,DOC,DOC_FLAG_W
,,,,,,,GMT,GMT,,,METER,DBAR,ITS-90,PSS-78,,UMOL/KG,,PSS-78,,UMOL/KG,,UMOL/KG,,UMOL/KG,,UMOL/KG,,UMOL/KG,,UMOL/KG,,PMOL/KG,,PMOL/KG,,/MILLE,,UMOL/KG,,UMOL/KG,,25_DEG_C,,DEG_C,,,,/MILLE,UMOL/KG,,UMOL/KG,,UG/L,,UG/L,,DBAR,ITS-90,METERS,,METERS,DEG_C,,UMOL/L,
       RF00-06,  137E,RF-1126,  1,     -9,      -9,5,20000713,1013, 20.0068, 136.9998, 4746,      0.0,  29.2859,  34.6580,2,   -999.0,9,-999.0000,9,    198.4,2,     1.15,2,  -999.00,9,     0.00,2,     0.00,2,     0.00,2,    1.737,2,    0.902,2,  -999.00,9,   1950.1,2,   -999.0,9,-999.0000,9,   -999.0,  9,     8.27,2,   -999.0,  -999.00,9,  -999.00,9,     0.05,2,     0.01,2,   -999.0,-999.0000, -999,9,    0,  29.2859,  21.7116,   -999.0,9
       RF00-06,  137E,RF-1126,  1,     24,02-10154,2,20000713,1011, 20.0068, 136.9998, 4746,     10.6,  29.2921,  34.6571,2,   -999.0,9,-999.0000,9,    197.1,2,     1.20,2,  -999.00,9,     0.00,2,     0.00,2,     0.00,2,    1.728,2,    0.924,2,  -999.00,9,   1922.0,2,   -999.0,9,-999.0000,9,   -999.0,  9,  -999.00,9,   -999.0,  -999.00,9,  -999.00,9,     0.05,2,     0.02,2,   -999.0,-999.0000, -999,9,   11,  29.2895,  21.7097,   -999.0,9
       RF00-06,  137E,RF-1126,  1,     23,02-12829,2,20000713,1009, 20.0068, 136.9998, 4746,     25.1,  29.2724,  34.6535,2,   -999.0,9,-999.0000,9,    196.2,2,     1.11,2,  -999.00,9,     0.00,2,     0.00,2,     0.00,2,    1.734,2,    0.940,2,  -999.00,9,   1919.5,2,   -999.0,9,-999.0000,9,   -999.0,  9,     8.27,2,   -999.0,  -999.00,9,  -999.00,9,     0.05,2,     0.02,2,   -999.0,-999.0000, -999,9,   25,  29.2663,  21.7147,   -999.0,9
       RF00-06,  137E,RF-1126,  1,     22,02-12828,2,20000713,1008, 20.0068, 136.9998, 4746,     50.8,  28.7791,  34.7965,2,   -999.0,9,-999.0000,9,    204.8,2,     1.11,2,  -999.00,9,     0.00,2,     0.00,2,     0.00,2,    1.814,2,    0.975,2,  -999.00,9,   1932.9,2,   -999.0,9,-999.0000,9,   -999.0,  9,     8.26,2,   -999.0,  -999.00,9,  -999.00,9,     0.11,2,     0.03,2,   -999.0,-999.0000, -999,9,   50,  28.7669,  21.9890,   -999.0,9
       RF00-06,  137E,RF-1126,  1,     21,02-12827,2,20000713,1007, 20.0068, 136.9998, 4746,     74.8,  26.9779,  35.0056,2,   -999.0,9,-999.0000,9,    206.8,2,     1.13,2,  -999.00,9,     0.00,2,     0.00,2,     0.00,2,    1.930,2,    0.994,2,  -999.00,9,   1949.6,3,   -999.0,9,-999.0000,9,   -999.0,  9,     8.24,2,   -999.0,  -999.00,9,  -999.00,9,     0.18,2,     0.07,2,   -999.0,-999.0000, -999,9,   74,  26.9608,  22.7345,   -999.0,9
       RF00-06,  137E,RF-1126,  1,     20,02-12826,2,20000713,1006, 20.0068, 136.9998, 4746,    100.6,  25.8782,  34.9852,2,   -999.0,9,  34.9760,4,    197.8,2,     1.17,2,  -999.00,9,     0.00,2,     0.00,2,     0.00,2,    2.045,2,    1.061,2,  -999.00,9,   1964.4,3,   -999.0,9,-999.0000,9,   -999.0,  9,     8.22,2,   -999.0,  -999.00,9,  -999.00,9,     0.27,2,     0.32,2,   -999.0,-999.0000, -999,9,  100,  25.8559,  23.0670,   -999.0,9
       RF00-06,  137E,RF-1126,  1,     19,02-12825,2,20000713,1005, 20.0068, 136.9998, 4746,    125.2,  24.7406,  34.9913,2,   -999.0,9,-999.0000,9,    190.0,2,     1.32,2,  -999.00,9,     0.20,2,     0.09,2,     0.02,2,    2.113,2,    1.102,2,  -999.00,9,   1981.7,3,   -999.0,9,-999.0000,9,   -999.0,  9,  -999.00,9,   -999.0,  -999.00,9,  -999.00,9,     0.25,2,     0.39,2,   -999.0,-999.0000, -999,9,  124,  24.7137,  23.4214,   -999.0,9
       RF00-06,  137E,RF-1126,  1,     18,02-12830,2,20000713,1003, 20.0068, 136.9998, 4746,    149.8,  22.6124,  34.9415,2,   -999.0,9,-999.0000,9,    184.4,2,     1.70,2,  -999.00,9,     1.11,2,     0.02,2,     0.08,2,    2.297,2,    1.156,2,  -999.00,9,   2006.9,3,   -999.0,9,-999.0000,9,   -999.0,  9,     8.15,2,   -999.0,  -999.00,9,  -999.00,9,     0.10,2,     0.16,2,   -999.0,-999.0000, -999,9,  149,  22.5822,  24.0089,   -999.0,9
       RF00-06,  137E,RF-1126,  1,     17,02-12815,2,20000713,1001, 20.0068, 136.9998, 4746,    200.2,  18.9928,  34.8277,2,   -999.0,9,  34.8262,2,    198.9,2,     2.81,2,  -999.00,9,     3.06,2,     0.00,2,     0.15,2,    2.495,2,    1.303,2,  -999.00,9,   2012.5,3,   -999.0,9,-999.0000,9,   -999.0,  9,     8.12,2,   -999.0,  -999.00,9,  -999.00,9,     0.02,2,     0.03,2,   -999.0,-999.0000, -999,9,  199,  18.9572,  24.9004,   -999.0,9
       RF00-06,  137E,RF-1126,  1,     16,02-12818,2,20000713,0959, 20.0068, 136.9998, 4746,    251.5,  17.6624,  34.7942,2,   -999.0,9,-999.0000,9,    193.2,2,     4.29,2,  -999.00,9,     5.35,2,     0.00,2,     0.29,2,    2.598,2,    1.327,2,  -999.00,9,   2034.7,2,   -999.0,9,-999.0000,9,   -999.0,  9,  -999.00,9,   -999.0,  -999.00,9,  -999.00,9,  -999.00,9,  -999.00,9,   -999.0,-999.0000, -999,9,  250,  17.6198,  25.2074,   -999.0,9
       RF00-06,  137E,RF-1126,  1,     15,02-12809,2,20000713,0956, 20.0068, 136.9998, 4746,    301.9,  16.2177,  34.7099,2,   -999.0,9,  34.7125,2,    191.0,2,     6.76,2,  -999.00,9,     7.72,2,     0.00,2,     0.44,2,    2.678,2,    1.329,2,  -999.00,9,   2051.4,2,   -999.0,9,-999.0000,9,   -999.0,  9,     8.05,2,   -999.0,  -999.00,9,  -999.00,9,  -999.00,9,  -999.00,9,   -999.0,-999.0000, -999,9,  300,  16.1694,  25.4856,   -999.0,9
       RF00-06,  137E,RF-1126,  1,     14,02-12817,2,20000713,0954, 20.0068, 136.9998, 4746,    403.0,  12.9009,  34.4467,2,   -999.0,9,-999.0000,9,    178.8,2,    14.94,2,  -999.00,9,    14.04,2,     0.00,2,     0.89,2,    2.600,2,    1.221,2,  -999.00,9,   2096.2,2,   -999.0,9,-999.0000,9,   -999.0,  9,  -999.00,9,   -999.0,  -999.00,9,  -999.00,9,  -999.00,9,  -999.00,9,   -999.0,-999.0000, -999,9,  400,  12.8456,  25.9950,   -999.0,9
       RF00-06,  137E,RF-1126,  1,     13,02-12808,2,20000713,0952, 20.0068, 136.9998, 4746,    502.1,   9.4656,  34.2161,2,   -999.0,9,  34.2227,2,    148.9,2,    31.77,2,  -999.00,9,    22.91,2,     0.00,2,     1.57,2,    1.943,2,    0.882,2,  -999.00,9,   2159.7,2,   -999.0,9,-999.0000,9,   -999.0,  9,     7.80,2,   -999.0,  -999.00,9,  -999.00,9,  -999.00,9,  -999.00,9,   -999.0,-999.0000, -999,9,  498,   9.4089,  26.4383,   -999.0,9
       RF00-06,  137E,RF-1126,  1,     12,02-12821,2,20000713,0948, 20.0068, 136.9998, 4746,    604.7,   7.1364,  34.1745,2,   -999.0,9,  34.1740,2,    101.8,2,    52.94,2,  -999.00,9,    31.20,2,     0.00,2,     2.21,2,    0.927,2,    0.603,2,  -999.00,9,   2222.6,2,   -999.0,9,-999.0000,9,   -999.0,  9,  -999.00,9,   -999.0,  -999.00,9,  -999.00,9,  -999.00,9,  -999.00,9,   -999.0,-999.0000, -999,9,  600,   7.0782,  26.7577,   -999.0,9
       RF00-06,  137E,RF-1126,  1,     11,02-12811,2,20000713,0943, 20.0068, 136.9998, 4746,    805.7,   4.9779,  34.3160,2,   -999.0,9,  34.3211,2,     59.9,2,    85.52,2,  -999.00,9,    38.35,2,     0.00,2,     2.76,2,    0.714,2,    0.420,2,  -999.00,9,   2303.3,2,   -999.0,9,-999.0000,9,   -999.0,  9,     7.58,2,   -999.0,  -999.00,9,  -999.00,9,  -999.00,9,  -999.00,9,   -999.0,-999.0000, -999,9,  799,   4.9122,  27.1430,   -999.0,9
       RF00-06,  137E,RF-1126,  1,      9,02-12810,2,20000713,0938, 20.0068, 136.9998, 4746,   1008.1,   3.9058,  34.4662,2,   -999.0,9,-999.0000,9,   -999.0,9,  -999.00,9,  -999.00,9,  -999.00,9,  -999.00,9,  -999.00,9,    0.137,2,    0.121,2,  -999.00,9,   -999.0,9,   -999.0,9,-999.0000,9,   -999.0,  9,  -999.00,9,   -999.0,  -999.00,9,  -999.00,9,  -999.00,9,  -999.00,9,   -999.0,-999.0000, -999,9, 1000,   3.8303,  27.3789,   -999.0,9
       RF00-06,  137E,RF-1126,  1,     10,02-12820,2,20000713,0939, 20.0068, 136.9998, 4746,   1009.1,   3.8921,  34.4638,2,   -999.0,9,  34.4607,2,     67.6,2,   104.98,2,  -999.00,9,    39.12,2,     0.00,2,     2.80,2,    0.068,2,    0.082,2,  -999.00,9,   2328.9,2,   -999.0,9,-999.0000,9,   -999.0,  9,     7.60,2,   -999.0,  -999.00,9,  -999.00,9,  -999.00,9,  -999.00,9,   -999.0,-999.0000, -999,9, 1001,   3.8166,  27.3784,   -999.0,9
       RF00-06,  137E,RF-1126,  1,      8,02-12819,3,20000713,0933, 20.0068, 136.9998, 4746,   1261.1,   3.1666,  34.5272,2,   -999.0,9,  34.5204,2,     80.7,2,   117.42,2,  -999.00,9,    38.99,2,     0.00,2,     2.78,2,    0.010,2,    0.015,2,  -999.00,9,   2331.4,3,   -999.0,9,-999.0000,9,   -999.0,  9,  -999.00,9,   -999.0,  -999.00,9,  -999.00,9,  -999.00,9,  -999.00,9,   -999.0,-999.0000, -999,9, 1250,   3.0768,  27.5006,   -999.0,9
       RF00-06,  137E,RF-1126,  1,      7,02-13591,2,20000713,0927, 20.0068, 136.9998, 4746,   1514.7,   2.6724,  34.5722,2,   -999.0,9,  34.5726,2,     94.9,2,   124.09,2,  -999.00,9,    38.50,2,     0.00,2,     2.73,2,    0.011,2,    0.013,2,  -999.00,9,   2337.2,3,   -999.0,9,-999.0000,9,   -999.0,  9,     7.64,2,   -999.0,  -999.00,9,  -999.00,9,  -999.00,9,  -999.00,9,   -999.0,-999.0000, -999,9, 1500,   2.5671,  27.5821,   -999.0,9
       RF00-06,  137E,RF-1126,  1,      6,02-13588,2,20000713,0922, 20.0068, 136.9998, 4746,   1767.9,   2.2975,  34.6062,2,   -999.0,9,  34.6050,2,    106.8,2,   127.80,2,  -999.00,9,    38.01,2,     0.00,2,     2.68,2,    0.007,2,    0.007,2,  -999.00,9,   2336.2,3,   -999.0,9,-999.0000,9,   -999.0,  9,  -999.00,9,   -999.0,  -999.00,9,  -999.00,9,  -999.00,9,  -999.00,9,   -999.0,-999.0000, -999,9, 1750,   2.1762,  27.6420,   -999.0,9
       RF00-06,  137E,RF-1126,  1,      5,02-10155,2,20000713,0912, 20.0068, 136.9998, 4746,   2022.2,   2.0706,  34.6265,2,   -999.0,9,  34.6178,2,    113.3,2,   130.67,2,  -999.00,9,    37.93,2,     0.00,2,     2.66,2,    0.001,2,    0.003,2,  -999.00,9,   2334.9,3,   -999.0,9,-999.0000,9,   -999.0,  9,     7.66,2,   -999.0,  -999.00,9,  -999.00,9,  -999.00,9,  -999.00,9,   -999.0,-999.0000, -999,9, 2000,   1.9312,  27.6779,   -999.0,9
       RF00-06,  137E,RF-1126,  1,      4,02-13579,2,20000713,0900, 20.0068, 136.9998, 4746,   2530.9,   1.7865,  34.6502,2,   -999.0,9,  34.6495,2,    128.0,2,   132.10,2,  -999.00,9,    37.23,2,     0.00,2,     2.59,2,    0.000,2,    0.001,2,  -999.00,9,   2330.9,3,   -999.0,9,-999.0000,9,   -999.0,  9,  -999.00,9,   -999.0,  -999.00,9,  -999.00,9,  -999.00,9,  -999.00,9,   -999.0,-999.0000, -999,9, 2500,   1.6074,  27.7216,   -999.0,9
       RF00-06,  137E,RF-1126,  1,      3,02-13590,2,20000713,0849, 20.0068, 136.9998, 4746,   3040.7,   1.6568,  34.6623,2,   -999.0,9,  34.6646,2,    138.4,2,   132.12,2,  -999.00,9,    36.61,2,     0.00,2,     2.52,2,    0.000,2,    0.001,2,  -999.00,9,   2319.1,3,   -999.0,9,-999.0000,9,   -999.0,  9,  -999.00,9,   -999.0,  -999.00,9,  -999.00,9,  -999.00,9,  -999.00,9,   -999.0,-999.0000, -999,9, 3000,   1.4327,  27.7440,   -999.0,9
       RF00-06,  137E,RF-1126,  1,      2,02-13589,2,20000713,0829, 20.0068, 136.9998, 4746,   4064.0,   1.5246,  34.6847,2,   -999.0,9,  34.6904,2,    156.6,2,   129.30,2,  -999.00,9,    35.58,2,     0.00,2,     2.43,2,    0.000,2,    0.000,2,  -999.00,9,   2314.4,3,   -999.0,9,-999.0000,9,   -999.0,  9,  -999.00,9,   -999.0,  -999.00,9,  -999.00,9,  -999.00,9,  -999.00,9,   -999.0,-999.0000, -999,9, 4001,   1.1980,  27.7786,   -999.0,9
       RF00-06,  137E,RF-1126,  1,      1,02-12807,2,20000713,0815, 20.0068, 136.9998, 4746,   4690.7,   1.5628,  34.6877,2,   -999.0,9,  34.6861,2,    159.6,2,   128.52,2,  -999.00,9,    35.32,2,     0.00,2,     2.40,2,    0.000,2,    0.000,2,  -999.00,9,   2312.8,3,   -999.0,9,-999.0000,9,   -999.0,  9,  -999.00,9,   -999.0,  -999.00,9,  -999.00,9,  -999.00,9,  -999.00,9,   -999.0,-999.0000, -999,9, 4611,   1.1635,  27.7833,   -999.0,9