BOTTLE,20141201MRIJMADS
EXPOCODE,SECT_ID,STNNBR,CASTNO,SAMPNO,BTLNBR,BTLNBR_FLAG_W,DATE,TIME,LATITUDE,LONGITUDE,DEPTH,CTDPRS,CTDTMP,CTDSAL,CTDSAL_FLAG_W,CTDOXY,CTDOXY_FLAG_W,SALNTY,SALNTY_FLAG_W,OXYGEN,OXYGEN_FLAG_W,SILCAT,SILCAT_FLAG_W,NITRAT,NITRAT_FLAG_W,NO2+NO3,NO2+NO3_FLAG_W,NITRIT,NITRIT_FLAG_W,PHSPHT,PHSPHT_FLAG_W,CFC-11,CFC-11_FLAG_W,CFC-12,CFC-12_FLAG_W,DELC13,DELC13_FLAG_W,TCARBN,TCARBN_FLAG_W,ALKALI,ALKALI_FLAG_W,PH,PH_FLAG_W,PH_TMP,PH_SCALE,PH_NBS,PH_NBS_FLAG_W,C13ERR,TOTALP,TOTALP_FLAG_W,AMMONI,AMMONI_FLAG_W,CHLORA,CHLORA_FLAG_W,PPHYTN,PPHYTN_FLAG_W,REVPRS,REVTMP,DEPTH_,DEPTH_FLAG,CTDDEP,THETA,SIGTHT,DOC,DOC_FLAG_W
,,,,,,,GMT,GMT,,,METER,DBAR,ITS-90,PSS-78,,UMOL/KG,,PSS-78,,UMOL/KG,,UMOL/KG,,UMOL/KG,,UMOL/KG,,UMOL/KG,,UMOL/KG,,PMOL/KG,,PMOL/KG,,/MILLE,,UMOL/KG,,UMOL/KG,,25_DEG_C,,DEG_C,,,,/MILLE,UMOL/KG,,UMOL/KG,,UG/L,,UG/L,,DBAR,ITS-90,METERS,,METERS,DEG_C,,UMOL/L,
       RF00-06,  137E,RF-1136,  1,     -9,      -9,5,20000716,0658, 30.0037, 136.9897, 4528,      0.0,  27.0030,  34.1268,2,   -999.0,9,-999.0000,9,    206.8,2,     1.39,2,  -999.00,9,     0.00,2,     0.00,2,     0.00,2,    1.907,2,    1.030,2,  -999.00,9,   1918.2,2,   -999.0,9,-999.0000,9,   -999.0,  9,     8.22,2,   -999.0,  -999.00,9,  -999.00,9,     0.11,2,     0.02,2,   -999.0,-999.0000, -999,9,    0,  27.0030,  22.0593,   -999.0,9
       RF00-06,  137E,RF-1136,  1,     24,02-10154,2,20000716,0656, 30.0037, 136.9897, 4528,     10.2,  26.2107,  34.1631,2,   -999.0,9,-999.0000,9,    211.3,2,     1.41,2,  -999.00,9,     0.00,2,     0.00,2,     0.00,2,    1.999,2,    1.043,2,  -999.00,9,   1929.4,2,   -999.0,9,-999.0000,9,   -999.0,  9,  -999.00,9,   -999.0,  -999.00,9,  -999.00,9,     0.11,2,     0.01,2,   -999.0,-999.0000, -999,9,   10,  26.2084,  22.3372,   -999.0,9
       RF00-06,  137E,RF-1136,  1,     23,02-12829,2,20000716,0655, 30.0037, 136.9897, 4528,     24.7,  24.6383,  34.5353,2,   -999.0,9,-999.0000,9,    215.6,2,     1.43,2,  -999.00,9,     0.00,2,     0.00,2,     0.00,2,    2.087,2,    1.069,2,  -999.00,9,   1945.9,2,   -999.0,9,-999.0000,9,   -999.0,  9,     8.21,2,   -999.0,  -999.00,9,  -999.00,9,     0.10,2,     0.06,2,   -999.0,-999.0000, -999,9,   25,  24.6330,  23.1009,   -999.0,9
       RF00-06,  137E,RF-1136,  1,     22,02-12828,2,20000716,0654, 30.0037, 136.9897, 4528,     50.7,  23.9928,  34.5651,2,   -999.0,9,-999.0000,9,    216.2,2,     1.45,2,  -999.00,9,     0.00,2,     0.00,2,     0.00,2,    2.128,2,    1.089,2,  -999.00,9,   1952.1,2,   -999.0,9,-999.0000,9,   -999.0,  9,     8.21,2,   -999.0,  -999.00,9,  -999.00,9,     0.16,2,     0.05,2,   -999.0,-999.0000, -999,9,   50,  23.9821,  23.3175,   -999.0,9
       RF00-06,  137E,RF-1136,  1,     21,02-12827,2,20000716,0652, 30.0037, 136.9897, 4528,     75.4,  22.8528,  34.6535,2,   -999.0,9,-999.0000,9,    217.5,2,     1.52,2,  -999.00,9,     0.00,2,     0.00,2,     0.00,2,    2.204,2,    1.130,2,  -999.00,9,   1962.1,2,   -999.0,9,-999.0000,9,   -999.0,  9,     8.20,2,   -999.0,  -999.00,9,  -999.00,9,     0.18,2,     0.25,2,   -999.0,-999.0000, -999,9,   75,  22.8375,  23.7175,   -999.0,9
       RF00-06,  137E,RF-1136,  1,     20,02-12826,2,20000716,0651, 30.0037, 136.9897, 4528,    100.2,  20.6378,  34.7738,2,   -999.0,9,  34.7701,4,    210.6,2,     1.98,2,  -999.00,9,     1.14,2,     0.09,2,     0.07,2,    2.368,2,    1.189,2,  -999.00,9,   1985.8,2,   -999.0,9,-999.0000,9,   -999.0,  9,     8.17,2,   -999.0,  -999.00,9,  -999.00,9,     0.34,2,     0.35,2,   -999.0,-999.0000, -999,9,   99,  20.6189,  24.4246,   -999.0,9
       RF00-06,  137E,RF-1136,  1,     19,02-12825,2,20000716,0649, 30.0037, 136.9897, 4528,    126.4,  19.8590,  34.7697,2,   -999.0,9,-999.0000,9,    210.8,2,     2.28,2,  -999.00,9,     1.64,2,     0.03,2,     0.09,2,    2.421,2,    1.229,2,  -999.00,9,   1993.1,2,   -999.0,9,-999.0000,9,   -999.0,  9,  -999.00,9,   -999.0,  -999.00,9,  -999.00,9,     0.11,2,     0.10,2,   -999.0,-999.0000, -999,9,  126,  19.8358,  24.6292,   -999.0,9
       RF00-06,  137E,RF-1136,  1,     18,02-12830,2,20000716,0648, 30.0037, 136.9897, 4528,    152.7,  19.4535,  34.7818,2,   -999.0,9,-999.0000,9,    213.2,2,     2.12,2,  -999.00,9,     1.57,2,     0.02,2,     0.08,2,    2.474,2,    1.262,2,  -999.00,9,   1995.4,2,   -999.0,9,-999.0000,9,   -999.0,  9,     8.16,2,   -999.0,  -999.00,9,  -999.00,9,     0.06,2,     0.06,2,   -999.0,-999.0000, -999,9,  152,  19.4258,  24.7451,   -999.0,9
       RF00-06,  137E,RF-1136,  1,     17,02-12815,2,20000716,0646, 30.0037, 136.9897, 4528,    201.7,  18.9932,  34.7937,2,   -999.0,9,  34.8050,2,    210.6,2,     2.46,2,  -999.00,9,     2.17,2,     0.01,2,     0.11,2,    2.483,2,    1.250,2,  -999.00,9,   2004.0,2,   -999.0,9,-999.0000,9,   -999.0,  9,     8.15,2,   -999.0,  -999.00,9,  -999.00,9,     0.01,2,     0.02,2,   -999.0,-999.0000, -999,9,  200,  18.9573,  24.8744,   -999.0,9
       RF00-06,  137E,RF-1136,  1,     16,02-12818,2,20000716,0644, 30.0037, 136.9897, 4528,    251.5,  18.5783,  34.7861,2,   -999.0,9,-999.0000,9,    209.4,2,     2.93,2,  -999.00,9,     2.84,2,     0.01,2,     0.14,2,    2.530,2,    1.258,2,  -999.00,9,   2007.3,2,   -999.0,9,-999.0000,9,   -999.0,  9,  -999.00,9,   -999.0,  -999.00,9,  -999.00,9,  -999.00,9,  -999.00,9,   -999.0,-999.0000, -999,9,  250,  18.5341,  24.9755,   -999.0,9
       RF00-06,  137E,RF-1136,  1,     15,02-12809,2,20000716,0642, 30.0037, 136.9897, 4528,    302.8,  18.0878,  34.7692,2,   -999.0,9,  34.7804,2,    206.8,2,     3.72,2,  -999.00,9,     3.80,2,     0.01,2,     0.20,2,    2.545,2,    1.268,2,  -999.00,9,   2017.0,2,   -999.0,9,-999.0000,9,   -999.0,  9,     8.12,2,   -999.0,  -999.00,9,  -999.00,9,  -999.00,9,  -999.00,9,   -999.0,-999.0000, -999,9,  301,  18.0356,  25.0865,   -999.0,9
       RF00-06,  137E,RF-1136,  1,     14,02-12817,2,20000716,0639, 30.0037, 136.9897, 4528,    403.5,  16.5702,  34.7275,2,   -999.0,9,-999.0000,9,    191.1,2,     6.71,2,  -999.00,9,     7.40,2,     0.00,2,     0.42,2,    2.604,2,    1.242,2,  -999.00,9,   2049.3,2,   -999.0,9,-999.0000,9,   -999.0,  9,  -999.00,9,   -999.0,  -999.00,9,  -999.00,9,  -999.00,9,  -999.00,9,   -999.0,-999.0000, -999,9,  400,  16.5046,  25.4216,   -999.0,9
       RF00-06,  137E,RF-1136,  1,     13,02-12808,2,20000716,0636, 30.0037, 136.9897, 4528,    503.7,  14.0693,  34.5367,2,   -999.0,9,  34.5596,4,    175.0,2,    15.41,2,  -999.00,9,    12.82,2,     0.00,2,     0.79,2,    3.028,2,    1.106,2,  -999.00,9,   2087.3,3,   -999.0,9,-999.0000,9,   -999.0,  9,     7.97,2,   -999.0,  -999.00,9,  -999.00,9,  -999.00,9,  -999.00,9,   -999.0,-999.0000, -999,9,  500,  13.9958,  25.8299,   -999.0,9
       RF00-06,  137E,RF-1136,  1,     12,02-12821,2,20000716,0633, 30.0037, 136.9897, 4528,    604.5,  10.9438,  34.3739,2,   -999.0,9,  34.3734,2,    151.5,2,    31.21,2,  -999.00,9,    20.20,2,     0.00,2,     1.34,2,    1.838,2,    0.878,2,  -999.00,9,   2145.4,2,   -999.0,9,-999.0000,9,   -999.0,  9,  -999.00,9,   -999.0,  -999.00,9,  -999.00,9,  -999.00,9,  -999.00,9,   -999.0,-999.0000, -999,9,  600,  10.8686,  26.3115,   -999.0,9
       RF00-06,  137E,RF-1136,  1,     11,02-12811,2,20000716,0628, 30.0037, 136.9897, 4528,    806.3,   6.4193,  34.2159,2,   -999.0,9,  34.2096,2,    102.4,2,    68.78,2,  -999.00,9,    32.21,2,     0.00,2,     2.25,2,    0.959,2,    0.551,2,  -999.00,9,   2249.2,2,   -999.0,9,-999.0000,9,   -999.0,  9,     7.66,2,   -999.0,  -999.00,9,  -999.00,9,  -999.00,9,  -999.00,9,   -999.0,-999.0000, -999,9,  799,   6.3449,  26.8888,   -999.0,9
       RF00-06,  137E,RF-1136,  1,     10,02-12820,2,20000716,0624, 30.0037, 136.9897, 4528,   1009.1,   4.4075,  34.3086,2,   -999.0,9,  34.3190,2,     68.0,2,    98.88,2,  -999.00,9,    37.82,2,     0.00,2,     2.68,2,    0.295,2,    0.213,2,  -999.00,9,   2313.2,2,   -999.0,9,-999.0000,9,   -999.0,  9,     7.59,2,   -999.0,  -999.00,9,  -999.00,9,  -999.00,9,  -999.00,9,   -999.0,-999.0000, -999,9, 1000,   4.3283,  27.2016,   -999.0,9
       RF00-06,  137E,RF-1136,  1,      9,02-12810,2,20000716,0619, 30.0037, 136.9897, 4528,   1261.5,   3.3823,  34.4262,2,   -999.0,9,  34.4306,2,     64.0,2,   117.35,2,  -999.00,9,    39.38,2,     0.00,2,     2.79,2,    0.106,2,    0.117,2,  -999.00,9,   2329.3,3,   -999.0,9,-999.0000,9,   -999.0,  9,  -999.00,9,   -999.0,  -999.00,9,  -999.00,9,  -999.00,9,  -999.00,9,   -999.0,-999.0000, -999,9, 1249,   3.2905,  27.4000,   -999.0,9
       RF00-06,  137E,RF-1136,  1,      8,02-12819,2,20000716,0614, 30.0037, 136.9897, 4528,   1515.1,   2.8131,  34.4913,2,   -999.0,9,  34.4917,2,     72.6,2,   126.38,2,  -999.00,9,    39.55,2,     0.00,2,     2.80,2,    0.086,2,    0.087,2,  -999.00,9,   2351.9,2,   -999.0,9,-999.0000,9,   -999.0,  9,     7.59,2,   -999.0,  -999.00,9,  -999.00,9,  -999.00,9,  -999.00,9,   -999.0,-999.0000, -999,9, 1499,   2.7064,  27.5053,   -999.0,9
       RF00-06,  137E,RF-1136,  1,      7,02-13591,2,20000716,0609, 30.0037, 136.9897, 4528,   1768.2,   2.3702,  34.5485,2,   -999.0,9,  34.5513,2,     86.9,2,   131.55,2,  -999.00,9,    39.09,2,     0.00,2,     2.76,2,    0.030,2,    0.041,2,  -999.00,9,   2351.0,2,   -999.0,9,-999.0000,9,   -999.0,  9,  -999.00,9,   -999.0,  -999.00,9,  -999.00,9,  -999.00,9,  -999.00,9,   -999.0,-999.0000, -999,9, 1749,   2.2480,  27.5900,   -999.0,9
       RF00-06,  137E,RF-1136,  1,      6,02-13588,2,20000716,0604, 30.0037, 136.9897, 4528,   2021.9,   2.0432,  34.5944,2,   -999.0,9,  34.6072,4,    105.9,2,   133.10,2,  -999.00,9,    38.19,2,     0.00,2,     2.69,2,    0.009,2,    0.011,2,  -999.00,9,   2348.5,2,   -999.0,9,-999.0000,9,   -999.0,  9,     7.64,2,   -999.0,  -999.00,9,  -999.00,9,  -999.00,9,  -999.00,9,   -999.0,-999.0000, -999,9, 1999,   1.9044,  27.6542,   -999.0,9
       RF00-06,  137E,RF-1136,  1,      5,02-10155,2,20000716,0554, 30.0037, 136.9897, 4528,   2531.0,   1.7635,  34.6362,2,   -999.0,9,  34.6475,2,    126.2,2,   132.58,2,  -999.00,9,    37.10,2,     0.00,2,     2.60,2,    0.005,2,    0.007,2,  -999.00,9,   2337.7,2,   -999.0,9,-999.0000,9,   -999.0,  9,  -999.00,9,   -999.0,  -999.00,9,  -999.00,9,  -999.00,9,  -999.00,9,   -999.0,-999.0000, -999,9, 2499,   1.5849,  27.7120,   -999.0,9
       RF00-06,  137E,RF-1136,  1,      4,02-13579,2,20000716,0544, 30.0037, 136.9897, 4528,   3041.9,   1.6000,  34.6619,2,   -999.0,9,  34.6642,2,    141.9,2,   131.34,2,  -999.00,9,    36.22,2,     0.00,2,     2.52,2,    0.001,2,    0.002,2,  -999.00,9,   2338.6,3,   -999.0,9,-999.0000,9,   -999.0,  9,  -999.00,9,   -999.0,  -999.00,9,  -999.00,9,  -999.00,9,  -999.00,9,   -999.0,-999.0000, -999,9, 3000,   1.3771,  27.7477,   -999.0,9
       RF00-06,  137E,RF-1136,  1,      3,02-13590,2,20000716,0534, 30.0037, 136.9897, 4528,   3553.8,   1.5305,  34.6743,2,   -999.0,9,  34.6780,2,    150.7,2,   130.40,2,  -999.00,9,    35.72,2,     0.00,2,     2.46,2,    0.000,2,    0.001,2,  -999.00,9,   -999.0,9,   -999.0,9,-999.0000,9,   -999.0,  9,  -999.00,9,   -999.0,  -999.00,9,  -999.00,9,  -999.00,9,  -999.00,9,   -999.0,-999.0000, -999,9, 3500,   1.2581,  27.7661,   -999.0,9
       RF00-06,  137E,RF-1136,  1,      2,02-13589,2,20000716,0522, 30.0037, 136.9897, 4528,   4065.2,   1.5540,  34.6769,2,   -999.0,9,  34.6808,2,    153.8,2,   130.13,2,  -999.00,9,    35.61,2,     0.00,2,     2.45,2,    0.000,2,    0.000,2,  -999.00,9,   2324.8,2,   -999.0,9,-999.0000,9,   -999.0,  9,  -999.00,9,   -999.0,  -999.00,9,  -999.00,9,  -999.00,9,  -999.00,9,   -999.0,-999.0000, -999,9, 3999,   1.2265,  27.7703,   -999.0,9
       RF00-06,  137E,RF-1136,  1,      1,02-12807,2,20000716,0514, 30.0037, 136.9897, 4528,   4488.0,   1.5864,  34.6790,2,   -999.0,9,  34.6819,2,    154.8,2,   129.90,2,  -999.00,9,    35.51,2,     0.00,2,     2.43,2,    0.000,2,    0.000,2,  -999.00,9,   2322.3,2,   -999.0,9,-999.0000,9,   -999.0,  9,  -999.00,9,   -999.0,  -999.00,9,  -999.00,9,  -999.00,9,  -999.00,9,   -999.0,-999.0000, -999,9, 4411,   1.2102,  27.7732,   -999.0,9