BOTTLE,20141201MRIJMADS
EXPOCODE,SECT_ID,STNNBR,CASTNO,SAMPNO,BTLNBR,BTLNBR_FLAG_W,DATE,TIME,LATITUDE,LONGITUDE,DEPTH,CTDPRS,CTDTMP,CTDSAL,CTDSAL_FLAG_W,CTDOXY,CTDOXY_FLAG_W,SALNTY,SALNTY_FLAG_W,OXYGEN,OXYGEN_FLAG_W,SILCAT,SILCAT_FLAG_W,NITRAT,NITRAT_FLAG_W,NO2+NO3,NO2+NO3_FLAG_W,NITRIT,NITRIT_FLAG_W,PHSPHT,PHSPHT_FLAG_W,CFC-11,CFC-11_FLAG_W,CFC-12,CFC-12_FLAG_W,DELC13,DELC13_FLAG_W,TCARBN,TCARBN_FLAG_W,ALKALI,ALKALI_FLAG_W,PH,PH_FLAG_W,PH_TMP,PH_SCALE,PH_NBS,PH_NBS_FLAG_W,C13ERR,TOTALP,TOTALP_FLAG_W,AMMONI,AMMONI_FLAG_W,CHLORA,CHLORA_FLAG_W,PPHYTN,PPHYTN_FLAG_W,REVPRS,REVTMP,DEPTH_,DEPTH_FLAG,CTDDEP,THETA,SIGTHT,DOC,DOC_FLAG_W
,,,,,,,GMT,GMT,,,METER,DBAR,ITS-90,PSS-78,,UMOL/KG,,PSS-78,,UMOL/KG,,UMOL/KG,,UMOL/KG,,UMOL/KG,,UMOL/KG,,UMOL/KG,,PMOL/KG,,PMOL/KG,,/MILLE,,UMOL/KG,,UMOL/KG,,25_DEG_C,,DEG_C,,,,/MILLE,UMOL/KG,,UMOL/KG,,UG/L,,UG/L,,DBAR,ITS-90,METERS,,METERS,DEG_C,,UMOL/L,
       RF00-06,  142E,RF-1085,  1,     22,02-12828,2,20000624,1555, 26.3710, 141.4852, 3462,    101.2,  20.3046,  34.8380,2,   -999.0,9,  34.8477,2,   -999.0,9,  -999.00,9,  -999.00,9,  -999.00,9,  -999.00,9,  -999.00,9, -999.000,9, -999.000,9,  -999.00,9,   -999.0,9,   -999.0,9,-999.0000,9,   -999.0,  9,  -999.00,9,   -999.0,  -999.00,9,  -999.00,9,  -999.00,9,  -999.00,9,   -999.0,-999.0000, -999,9,  101,  20.2857,  24.5626,   -999.0,9
       RF00-06,  142E,RF-1085,  1,     20,02-12826,2,20000624,1552, 26.3710, 141.4852, 3462,    201.5,  17.7909,  34.7836,2,   -999.0,9,  34.7908,2,   -999.0,9,  -999.00,9,  -999.00,9,  -999.00,9,  -999.00,9,  -999.00,9, -999.000,9, -999.000,9,  -999.00,9,   -999.0,9,   -999.0,9,-999.0000,9,   -999.0,  9,  -999.00,9,   -999.0,  -999.00,9,  -999.00,9,  -999.00,9,  -999.00,9,   -999.0,-999.0000, -999,9,  200,  17.7566,  25.1660,   -999.0,9
       RF00-06,  142E,RF-1085,  1,     18,02-12830,2,20000624,1548, 26.3710, 141.4852, 3462,    302.4,  16.0529,  34.6948,2,   -999.0,9,  34.7044,2,   -999.0,9,  -999.00,9,  -999.00,9,  -999.00,9,  -999.00,9,  -999.00,9, -999.000,9, -999.000,9,  -999.00,9,   -999.0,9,   -999.0,9,-999.0000,9,   -999.0,  9,  -999.00,9,   -999.0,  -999.00,9,  -999.00,9,  -999.00,9,  -999.00,9,   -999.0,-999.0000, -999,9,  300,  16.0049,  25.5117,   -999.0,9
       RF00-06,  142E,RF-1085,  1,     16,02-13588,2,20000624,1545, 26.3710, 141.4852, 3462,    404.3,  13.6864,  34.5152,2,   -999.0,9,  34.5212,2,   -999.0,9,  -999.00,9,  -999.00,9,  -999.00,9,  -999.00,9,  -999.00,9, -999.000,9, -999.000,9,  -999.00,9,   -999.0,9,   -999.0,9,-999.0000,9,   -999.0,  9,  -999.00,9,   -999.0,  -999.00,9,  -999.00,9,  -999.00,9,  -999.00,9,   -999.0,-999.0000, -999,9,  401,  13.6287,  25.8896,   -999.0,9
       RF00-06,  142E,RF-1085,  1,     14,02-13579,2,20000624,1542, 26.3710, 141.4852, 3462,    505.2,  11.5709,  34.3667,2,   -999.0,9,  34.3716,2,   -999.0,9,  -999.00,9,  -999.00,9,  -999.00,9,  -999.00,9,  -999.00,9, -999.000,9, -999.000,9,  -999.00,9,   -999.0,9,   -999.0,9,-999.0000,9,   -999.0,  9,  -999.00,9,   -999.0,  -999.00,9,  -999.00,9,  -999.00,9,  -999.00,9,   -999.0,-999.0000, -999,9,  501,  11.5061,  26.1899,   -999.0,9
       RF00-06,  142E,RF-1085,  1,     12,02-12821,2,20000624,1539, 26.3710, 141.4852, 3462,    606.4,   8.6436,  34.1882,2,   -999.0,9,  34.1899,2,   -999.0,9,  -999.00,9,  -999.00,9,  -999.00,9,  -999.00,9,  -999.00,9, -999.000,9, -999.000,9,  -999.00,9,   -999.0,9,   -999.0,9,-999.0000,9,   -999.0,  9,  -999.00,9,   -999.0,  -999.00,9,  -999.00,9,  -999.00,9,  -999.00,9,   -999.0,-999.0000, -999,9,  602,   8.5784,  26.5486,   -999.0,9
       RF00-06,  142E,RF-1085,  1,     10,02-12820,2,20000624,1536, 26.3710, 141.4852, 3462,    708.5,   6.5962,  34.1456,2,   -999.0,9,  34.1487,2,   -999.0,9,  -999.00,9,  -999.00,9,  -999.00,9,  -999.00,9,  -999.00,9, -999.000,9, -999.000,9,  -999.00,9,   -999.0,9,   -999.0,9,-999.0000,9,   -999.0,  9,  -999.00,9,   -999.0,  -999.00,9,  -999.00,9,  -999.00,9,  -999.00,9,   -999.0,-999.0000, -999,9,  703,   6.5305,  26.8090,   -999.0,9
       RF00-06,  142E,RF-1085,  1,      8,02-12819,2,20000624,1533, 26.3710, 141.4852, 3462,    808.4,   5.3183,  34.1570,2,   -999.0,9,  34.1568,2,   -999.0,9,  -999.00,9,  -999.00,9,  -999.00,9,  -999.00,9,  -999.00,9, -999.000,9, -999.000,9,  -999.00,9,   -999.0,9,   -999.0,9,-999.0000,9,   -999.0,  9,  -999.00,9,   -999.0,  -999.00,9,  -999.00,9,  -999.00,9,  -999.00,9,   -999.0,-999.0000, -999,9,  802,   5.2506,  26.9778,   -999.0,9
       RF00-06,  142E,RF-1085,  1,      6,02-12818,2,20000624,1528, 26.3710, 141.4852, 3462,   1009.9,   3.8960,  34.3010,2,   -999.0,9,  34.3044,2,   -999.0,9,  -999.00,9,  -999.00,9,  -999.00,9,  -999.00,9,  -999.00,9, -999.000,9, -999.000,9,  -999.00,9,   -999.0,9,   -999.0,9,-999.0000,9,   -999.0,  9,  -999.00,9,   -999.0,  -999.00,9,  -999.00,9,  -999.00,9,  -999.00,9,   -999.0,-999.0000, -999,9, 1001,   3.8207,  27.2484,   -999.0,9
       RF00-06,  142E,RF-1085,  1,      4,02-12817,2,20000624,1523, 26.3710, 141.4852, 3462,   1261.9,   3.0136,  34.4404,2,   -999.0,9,  34.4390,2,   -999.0,9,  -999.00,9,  -999.00,9,  -999.00,9,  -999.00,9,  -999.00,9, -999.000,9, -999.000,9,  -999.00,9,   -999.0,9,   -999.0,9,-999.0000,9,   -999.0,  9,  -999.00,9,   -999.0,  -999.00,9,  -999.00,9,  -999.00,9,  -999.00,9,   -999.0,-999.0000, -999,9, 1250,   2.9254,  27.4451,   -999.0,9
       RF00-06,  142E,RF-1085,  1,      2,02-13589,2,20000624,1517, 26.3710, 141.4852, 3462,   1524.5,   2.5011,  34.5152,2,   -999.0,9,  34.5157,2,   -999.0,9,  -999.00,9,  -999.00,9,  -999.00,9,  -999.00,9,  -999.00,9, -999.000,9, -999.000,9,  -999.00,9,   -999.0,9,   -999.0,9,-999.0000,9,   -999.0,  9,  -999.00,9,   -999.0,  -999.00,9,  -999.00,9,  -999.00,9,  -999.00,9,   -999.0,-999.0000, -999,9, 1509,   2.3973,  27.5509,   -999.0,9
       RF00-06,  NONE,RF-1093,  1,     22,02-12828,2,20000626,2219, 22.3833, 139.6927, 4448,    101.4,  22.3127,  34.9247,2,   -999.0,9,  34.9364,4,   -999.0,9,  -999.00,9,  -999.00,9,  -999.00,9,  -999.00,9,  -999.00,9, -999.000,9, -999.000,9,  -999.00,9,   -999.0,9,   -999.0,9,-999.0000,9,   -999.0,  9,  -999.00,9,   -999.0,  -999.00,9,  -999.00,9,  -999.00,9,  -999.00,9,   -999.0,-999.0000, -999,9,  101,  22.2924,  24.0783,   -999.0,9
       RF00-06,  NONE,RF-1093,  1,     20,02-12826,2,20000626,2215, 22.3833, 139.6927, 4448,    202.3,  18.6242,  34.8086,2,   -999.0,9,  34.8174,2,   -999.0,9,  -999.00,9,  -999.00,9,  -999.00,9,  -999.00,9,  -999.00,9, -999.000,9, -999.000,9,  -999.00,9,   -999.0,9,   -999.0,9,-999.0000,9,   -999.0,  9,  -999.00,9,   -999.0,  -999.00,9,  -999.00,9,  -999.00,9,  -999.00,9,   -999.0,-999.0000, -999,9,  201,  18.5887,  24.9790,   -999.0,9
       RF00-06,  NONE,RF-1093,  1,     18,02-12830,2,20000626,2212, 22.3833, 139.6927, 4448,    302.1,  16.0520,  34.6965,2,   -999.0,9,  34.7008,2,   -999.0,9,  -999.00,9,  -999.00,9,  -999.00,9,  -999.00,9,  -999.00,9, -999.000,9, -999.000,9,  -999.00,9,   -999.0,9,   -999.0,9,-999.0000,9,   -999.0,  9,  -999.00,9,   -999.0,  -999.00,9,  -999.00,9,  -999.00,9,  -999.00,9,   -999.0,-999.0000, -999,9,  300,  16.0041,  25.5132,   -999.0,9
       RF00-06,  NONE,RF-1093,  1,     16,02-13588,2,20000626,2209, 22.3833, 139.6927, 4448,    402.7,  13.0139,  34.4523,2,   -999.0,9,  34.4571,2,   -999.0,9,  -999.00,9,  -999.00,9,  -999.00,9,  -999.00,9,  -999.00,9, -999.000,9, -999.000,9,  -999.00,9,   -999.0,9,   -999.0,9,-999.0000,9,   -999.0,  9,  -999.00,9,   -999.0,  -999.00,9,  -999.00,9,  -999.00,9,  -999.00,9,   -999.0,-999.0000, -999,9,  400,  12.9584,  25.9769,   -999.0,9
       RF00-06,  NONE,RF-1093,  1,     14,02-13579,2,20000626,2206, 22.3833, 139.6927, 4448,    504.3,   9.9184,  34.2420,2,   -999.0,9,  34.2457,2,   -999.0,9,  -999.00,9,  -999.00,9,  -999.00,9,  -999.00,9,  -999.00,9, -999.000,9, -999.000,9,  -999.00,9,   -999.0,9,   -999.0,9,-999.0000,9,   -999.0,  9,  -999.00,9,   -999.0,  -999.00,9,  -999.00,9,  -999.00,9,  -999.00,9,   -999.0,-999.0000, -999,9,  500,   9.8599,  26.3837,   -999.0,9
       RF00-06,  NONE,RF-1093,  1,     12,02-12821,2,20000626,2203, 22.3833, 139.6927, 4448,    605.9,   7.5059,  34.1417,2,   -999.0,9,  34.1436,2,   -999.0,9,  -999.00,9,  -999.00,9,  -999.00,9,  -999.00,9,  -999.00,9, -999.000,9, -999.000,9,  -999.00,9,   -999.0,9,   -999.0,9,-999.0000,9,   -999.0,  9,  -999.00,9,   -999.0,  -999.00,9,  -999.00,9,  -999.00,9,  -999.00,9,   -999.0,-999.0000, -999,9,  601,   7.4459,  26.6802,   -999.0,9
       RF00-06,  NONE,RF-1093,  1,     10,02-12820,2,20000626,2200, 22.3833, 139.6927, 4448,    706.0,   5.9401,  34.1644,2,   -999.0,9,  34.1662,2,   -999.0,9,  -999.00,9,  -999.00,9,  -999.00,9,  -999.00,9,  -999.00,9, -999.000,9, -999.000,9,  -999.00,9,   -999.0,9,   -999.0,9,-999.0000,9,   -999.0,  9,  -999.00,9,   -999.0,  -999.00,9,  -999.00,9,  -999.00,9,  -999.00,9,   -999.0,-999.0000, -999,9,  700,   5.8781,  26.9077,   -999.0,9
       RF00-06,  NONE,RF-1093,  1,      8,02-12819,2,20000626,2156, 22.3833, 139.6927, 4448,    807.2,   4.6594,  34.2430,2,   -999.0,9,  34.1968,4,   -999.0,9,  -999.00,9,  -999.00,9,  -999.00,9,  -999.00,9,  -999.00,9, -999.000,9, -999.000,9,  -999.00,9,   -999.0,9,   -999.0,9,-999.0000,9,   -999.0,  9,  -999.00,9,   -999.0,  -999.00,9,  -999.00,9,  -999.00,9,  -999.00,9,   -999.0,-999.0000, -999,9,  801,   4.5957,  27.1206,   -999.0,9
       RF00-06,  NONE,RF-1093,  1,      6,02-12818,2,20000626,2152, 22.3833, 139.6927, 4448,   1010.0,   3.6061,  34.3682,2,   -999.0,9,  34.3671,2,   -999.0,9,  -999.00,9,  -999.00,9,  -999.00,9,  -999.00,9,  -999.00,9, -999.000,9, -999.000,9,  -999.00,9,   -999.0,9,   -999.0,9,-999.0000,9,   -999.0,  9,  -999.00,9,   -999.0,  -999.00,9,  -999.00,9,  -999.00,9,  -999.00,9,   -999.0,-999.0000, -999,9, 1001,   3.5329,  27.3305,   -999.0,9
       RF00-06,  NONE,RF-1093,  1,      4,02-12817,2,20000626,2146, 22.3833, 139.6927, 4448,   1262.6,   2.9328,  34.4963,2,   -999.0,9,  34.4345,4,   -999.0,9,  -999.00,9,  -999.00,9,  -999.00,9,  -999.00,9,  -999.00,9, -999.000,9, -999.000,9,  -999.00,9,   -999.0,9,   -999.0,9,-999.0000,9,   -999.0,  9,  -999.00,9,   -999.0,  -999.00,9,  -999.00,9,  -999.00,9,  -999.00,9,   -999.0,-999.0000, -999,9, 1251,   2.8452,  27.4970,   -999.0,9
       RF00-06,  NONE,RF-1093,  1,      2,02-13589,2,20000626,2140, 22.3833, 139.6927, 4448,   1531.7,   2.5295,  34.5604,2,   -999.0,9,  34.5582,2,   -999.0,9,  -999.00,9,  -999.00,9,  -999.00,9,  -999.00,9,  -999.00,9, -999.000,9, -999.000,9,  -999.00,9,   -999.0,9,   -999.0,9,-999.0000,9,   -999.0,  9,  -999.00,9,   -999.0,  -999.00,9,  -999.00,9,  -999.00,9,  -999.00,9,   -999.0,-999.0000, -999,9, 1517,   2.4246,  27.5848,   -999.0,9
       RF00-06,  137E,RF-1101,  1,     22,02-12828,2,20000628,0428, 18.3877, 137.9853, 4668,    101.3,  25.7922,  34.9370,2,   -999.0,9,  34.9283,4,   -999.0,9,  -999.00,9,  -999.00,9,  -999.00,9,  -999.00,9,  -999.00,9, -999.000,9, -999.000,9,  -999.00,9,   -999.0,9,   -999.0,9,-999.0000,9,   -999.0,  9,  -999.00,9,   -999.0,  -999.00,9,  -999.00,9,  -999.00,9,  -999.00,9,   -999.0,-999.0000, -999,9,  101,  25.7698,  23.0573,   -999.0,9
       RF00-06,  137E,RF-1101,  1,     20,02-12826,2,20000628,0425, 18.3877, 137.9853, 4668,    203.0,  21.0046,  34.8377,2,   -999.0,9,  34.8408,2,   -999.0,9,  -999.00,9,  -999.00,9,  -999.00,9,  -999.00,9,  -999.00,9, -999.000,9, -999.000,9,  -999.00,9,   -999.0,9,   -999.0,9,-999.0000,9,   -999.0,  9,  -999.00,9,   -999.0,  -999.00,9,  -999.00,9,  -999.00,9,  -999.00,9,   -999.0,-999.0000, -999,9,  202,  20.9658,  24.3796,   -999.0,9
       RF00-06,  137E,RF-1101,  1,     18,02-12830,2,20000628,0422, 18.3877, 137.9853, 4668,    302.8,  17.6485,  34.7876,2,   -999.0,9,  34.7934,2,   -999.0,9,  -999.00,9,  -999.00,9,  -999.00,9,  -999.00,9,  -999.00,9, -999.000,9, -999.000,9,  -999.00,9,   -999.0,9,   -999.0,9,-999.0000,9,   -999.0,  9,  -999.00,9,   -999.0,  -999.00,9,  -999.00,9,  -999.00,9,  -999.00,9,   -999.0,-999.0000, -999,9,  301,  17.5971,  25.2079,   -999.0,9
       RF00-06,  137E,RF-1101,  1,     16,02-13588,2,20000628,0418, 18.3877, 137.9853, 4668,    404.8,  14.0212,  34.5187,2,   -999.0,9,  34.5328,4,   -999.0,9,  -999.00,9,  -999.00,9,  -999.00,9,  -999.00,9,  -999.00,9, -999.000,9, -999.000,9,  -999.00,9,   -999.0,9,   -999.0,9,-999.0000,9,   -999.0,  9,  -999.00,9,   -999.0,  -999.00,9,  -999.00,9,  -999.00,9,  -999.00,9,   -999.0,-999.0000, -999,9,  402,  13.9624,  25.8230,   -999.0,9
       RF00-06,  137E,RF-1101,  1,     14,02-13579,2,20000628,0415, 18.3877, 137.9853, 4668,    505.7,  10.7530,  34.2884,2,   -999.0,9,  34.2925,2,   -999.0,9,  -999.00,9,  -999.00,9,  -999.00,9,  -999.00,9,  -999.00,9, -999.000,9, -999.000,9,  -999.00,9,   -999.0,9,   -999.0,9,-999.0000,9,   -999.0,  9,  -999.00,9,   -999.0,  -999.00,9,  -999.00,9,  -999.00,9,  -999.00,9,   -999.0,-999.0000, -999,9,  502,  10.6911,  26.2764,   -999.0,9
       RF00-06,  137E,RF-1101,  1,     12,02-12821,2,20000628,0412, 18.3877, 137.9853, 4668,    607.7,   8.1297,  34.2141,2,   -999.0,9,  34.2190,2,   -999.0,9,  -999.00,9,  -999.00,9,  -999.00,9,  -999.00,9,  -999.00,9, -999.000,9, -999.000,9,  -999.00,9,   -999.0,9,   -999.0,9,-999.0000,9,   -999.0,  9,  -999.00,9,   -999.0,  -999.00,9,  -999.00,9,  -999.00,9,  -999.00,9,   -999.0,-999.0000, -999,9,  603,   8.0667,  26.6467,   -999.0,9
       RF00-06,  137E,RF-1101,  1,     10,02-12820,2,20000628,0409, 18.3877, 137.9853, 4668,    707.9,   6.3574,  34.2399,2,   -999.0,9,  34.2384,2,   -999.0,9,  -999.00,9,  -999.00,9,  -999.00,9,  -999.00,9,  -999.00,9, -999.000,9, -999.000,9,  -999.00,9,   -999.0,9,   -999.0,9,-999.0000,9,   -999.0,  9,  -999.00,9,   -999.0,  -999.00,9,  -999.00,9,  -999.00,9,  -999.00,9,   -999.0,-999.0000, -999,9,  702,   6.2929,  26.9145,   -999.0,9
       RF00-06,  137E,RF-1101,  1,      8,02-12819,2,20000628,0405, 18.3877, 137.9853, 4668,    809.0,   5.4899,  34.3577,2,   -999.0,9,  34.3575,2,   -999.0,9,  -999.00,9,  -999.00,9,  -999.00,9,  -999.00,9,  -999.00,9, -999.000,9, -999.000,9,  -999.00,9,   -999.0,9,   -999.0,9,-999.0000,9,   -999.0,  9,  -999.00,9,   -999.0,  -999.00,9,  -999.00,9,  -999.00,9,  -999.00,9,   -999.0,-999.0000, -999,9,  803,   5.4208,  27.1165,   -999.0,9
       RF00-06,  137E,RF-1101,  1,      6,02-12818,2,20000628,0401, 18.3877, 137.9853, 4668,   1011.1,   4.3591,  34.4739,2,   -999.0,9,  34.4815,2,   -999.0,9,  -999.00,9,  -999.00,9,  -999.00,9,  -999.00,9,  -999.00,9, -999.000,9, -999.000,9,  -999.00,9,   -999.0,9,   -999.0,9,-999.0000,9,   -999.0,  9,  -999.00,9,   -999.0,  -999.00,9,  -999.00,9,  -999.00,9,  -999.00,9,   -999.0,-999.0000, -999,9, 1003,   4.2798,  27.3382,   -999.0,9
       RF00-06,  137E,RF-1101,  1,      4,02-12817,2,20000628,0356, 18.3877, 137.9853, 4668,   1263.0,   3.3113,  34.5349,2,   -999.0,9,  34.5315,2,   -999.0,9,  -999.00,9,  -999.00,9,  -999.00,9,  -999.00,9,  -999.00,9, -999.000,9, -999.000,9,  -999.00,9,   -999.0,9,   -999.0,9,-999.0000,9,   -999.0,  9,  -999.00,9,   -999.0,  -999.00,9,  -999.00,9,  -999.00,9,  -999.00,9,   -999.0,-999.0000, -999,9, 1252,   3.2199,  27.4934,   -999.0,9
       RF00-06,  137E,RF-1101,  1,      2,02-13589,2,20000628,0351, 18.3877, 137.9853, 4668,   1525.2,   2.7393,  34.5761,2,   -999.0,9,  34.5731,2,   -999.0,9,  -999.00,9,  -999.00,9,  -999.00,9,  -999.00,9,  -999.00,9, -999.000,9, -999.000,9,  -999.00,9,   -999.0,9,   -999.0,9,-999.0000,9,   -999.0,  9,  -999.00,9,   -999.0,  -999.00,9,  -999.00,9,  -999.00,9,  -999.00,9,   -999.0,-999.0000, -999,9, 1511,   2.6324,  27.5795,   -999.0,9