BOTTLE,20141201MRIJMADS
EXPOCODE,SECT_ID,STNNBR,CASTNO,SAMPNO,BTLNBR,BTLNBR_FLAG_W,DATE,TIME,LATITUDE,LONGITUDE,DEPTH,CTDPRS,CTDTMP,CTDSAL,CTDSAL_FLAG_W,CTDOXY,CTDOXY_FLAG_W,SALNTY,SALNTY_FLAG_W,OXYGEN,OXYGEN_FLAG_W,SILCAT,SILCAT_FLAG_W,NITRAT,NITRAT_FLAG_W,NO2+NO3,NO2+NO3_FLAG_W,NITRIT,NITRIT_FLAG_W,PHSPHT,PHSPHT_FLAG_W,CFC-11,CFC-11_FLAG_W,CFC-12,CFC-12_FLAG_W,DELC13,DELC13_FLAG_W,TCARBN,TCARBN_FLAG_W,ALKALI,ALKALI_FLAG_W,PH,PH_FLAG_W,PH_TMP,PH_SCALE,PH_NBS,PH_NBS_FLAG_W,C13ERR,TOTALP,TOTALP_FLAG_W,AMMONI,AMMONI_FLAG_W,CHLORA,CHLORA_FLAG_W,PPHYTN,PPHYTN_FLAG_W,REVPRS,REVTMP,DEPTH_,DEPTH_FLAG,CTDDEP,THETA,SIGTHT,DOC,DOC_FLAG_W
,,,,,,,GMT,GMT,,,METER,DBAR,ITS-90,PSS-78,,UMOL/KG,,PSS-78,,UMOL/KG,,UMOL/KG,,UMOL/KG,,UMOL/KG,,UMOL/KG,,UMOL/KG,,PMOL/KG,,PMOL/KG,,/MILLE,,UMOL/KG,,UMOL/KG,,25_DEG_C,,DEG_C,,,,/MILLE,UMOL/KG,,UMOL/KG,,UG/L,,UG/L,,DBAR,ITS-90,METERS,,METERS,DEG_C,,UMOL/L,
       RF00-06,  137E,RF-1116,  1,     -9,      -9,5,20000710,1445, 10.0035, 136.9607, 5151,      0.0,  29.3286,  33.7575,2,   -999.0,9,-999.0000,9,    199.0,2,     1.44,2,  -999.00,9,     0.00,2,     0.00,2,     0.03,2,    1.740,2,    0.915,2,  -999.00,9,   -999.0,5,   -999.0,9,-999.0000,9,   -999.0,  9,     8.27,2,   -999.0,  -999.00,9,  -999.00,9,     0.10,2,     0.01,2,   -999.0,-999.0000, -999,9,    0,  29.3286,  21.0217,   -999.0,9
       RF00-06,  137E,RF-1116,  1,     24,02-10154,2,20000710,1443, 10.0035, 136.9607, 5151,      9.6,  29.3261,  33.9643,2,   -999.0,9,-999.0000,9,    196.9,2,     1.41,2,  -999.00,9,     0.00,2,     0.00,2,     0.01,2,    1.762,2,    0.920,2,  -999.00,9,   1885.7,6,   -999.0,9,-999.0000,9,   -999.0,  9,  -999.00,9,   -999.0,  -999.00,9,  -999.00,9,     0.09,2,     0.02,2,   -999.0,-999.0000, -999,9,   10,  29.3238,  21.1784,   -999.0,9
       RF00-06,  137E,RF-1116,  1,     23,02-12829,2,20000710,1441, 10.0035, 136.9607, 5151,     25.4,  29.3526,  33.9721,2,   -999.0,9,-999.0000,9,    195.8,2,     1.33,2,  -999.00,9,     0.00,2,     0.00,2,     0.01,2,    1.811,2,    0.941,2,  -999.00,9,   1884.0,2,   -999.0,9,-999.0000,9,   -999.0,  9,     8.27,2,   -999.0,  -999.00,9,  -999.00,9,     0.09,2,     0.02,2,   -999.0,-999.0000, -999,9,   25,  29.3465,  21.1766,   -999.0,9
       RF00-06,  137E,RF-1116,  1,     22,02-12828,2,20000710,1440, 10.0035, 136.9607, 5151,     50.1,  29.3727,  33.9885,2,   -999.0,9,-999.0000,9,    195.5,2,     1.30,2,  -999.00,9,     0.00,2,     0.00,2,     0.01,2,    1.872,2,    0.961,2,  -999.00,9,   1892.4,2,   -999.0,9,-999.0000,9,   -999.0,  9,     8.26,2,   -999.0,  -999.00,9,  -999.00,9,     0.09,2,     0.01,2,   -999.0,-999.0000, -999,9,   50,  29.3605,  21.1842,   -999.0,9
       RF00-06,  137E,RF-1116,  1,     21,02-12827,2,20000710,1438, 10.0035, 136.9607, 5151,     75.6,  28.9449,  34.4379,2,   -999.0,9,-999.0000,9,    200.4,2,     1.18,2,  -999.00,9,     0.00,2,     0.00,2,     0.03,2,    1.879,2,    0.981,2,  -999.00,9,   1916.0,2,   -999.0,9,-999.0000,9,   -999.0,  9,     8.25,2,   -999.0,  -999.00,9,  -999.00,9,     0.12,2,     0.04,2,   -999.0,-999.0000, -999,9,   75,  28.9266,  21.6665,   -999.0,9
       RF00-06,  137E,RF-1116,  1,     20,02-12826,2,20000710,1437, 10.0035, 136.9607, 5151,    101.2,  27.6466,  34.8612,2,   -999.0,9,  34.8513,4,    197.1,2,     1.32,2,  -999.00,9,     0.00,2,     0.00,2,     0.06,2,    1.894,2,    1.013,2,  -999.00,9,   1956.3,2,   -999.0,9,-999.0000,9,   -999.0,  9,     8.23,2,   -999.0,  -999.00,9,  -999.00,9,     0.29,2,     0.22,2,   -999.0,-999.0000, -999,9,  101,  27.6229,  22.4129,   -999.0,9
       RF00-06,  137E,RF-1116,  1,     19,02-12825,2,20000710,1435, 10.0035, 136.9607, 5151,    125.1,  26.0126,  34.9354,2,   -999.0,9,-999.0000,9,    188.8,2,     1.64,2,  -999.00,9,     0.43,2,     0.08,2,     0.12,2,    1.938,2,    1.035,2,  -999.00,9,   1990.8,2,   -999.0,9,-999.0000,9,   -999.0,  9,  -999.00,9,   -999.0,  -999.00,9,  -999.00,9,     0.26,2,     0.38,2,   -999.0,-999.0000, -999,9,  124,  25.9847,  22.9893,   -999.0,9
       RF00-06,  137E,RF-1116,  1,     18,02-12830,2,20000710,1434, 10.0035, 136.9607, 5151,    151.4,  22.8437,  34.9335,2,   -999.0,9,-999.0000,9,    169.4,2,     3.12,2,  -999.00,9,     3.07,2,     0.06,2,     0.28,2,    2.013,2,    1.045,2,  -999.00,9,   2026.3,2,   -999.0,9,-999.0000,9,   -999.0,  9,     8.11,2,   -999.0,  -999.00,9,  -999.00,9,     0.10,2,     0.21,2,   -999.0,-999.0000, -999,9,  150,  22.8129,  23.9369,   -999.0,9
       RF00-06,  137E,RF-1116,  1,     17,02-12815,2,20000710,1432, 10.0035, 136.9607, 5151,    200.8,  18.2405,  34.7938,2,   -999.0,9,  34.7940,2,    163.5,2,     6.06,2,  -999.00,9,     7.42,2,     0.00,2,     0.53,2,    2.167,2,    1.051,2,  -999.00,9,   2063.9,2,   -999.0,9,-999.0000,9,   -999.0,  9,     8.02,2,   -999.0,  -999.00,9,  -999.00,9,     0.02,2,     0.07,2,   -999.0,-999.0000, -999,9,  200,  18.2057,  25.0633,   -999.0,9
       RF00-06,  137E,RF-1116,  1,     16,02-12818,2,20000710,1430, 10.0035, 136.9607, 5151,    250.8,  12.6659,  34.4917,2,   -999.0,9,-999.0000,9,    127.6,2,    19.55,2,  -999.00,9,    19.48,2,     0.00,2,     1.35,2,    1.652,2,    1.013,2,  -999.00,9,   2139.5,2,   -999.0,9,-999.0000,9,   -999.0,  9,  -999.00,9,   -999.0,  -999.00,9,  -999.00,9,  -999.00,9,  -999.00,9,   -999.0,-999.0000, -999,9,  249,  12.6321,  26.0720,   -999.0,9
       RF00-06,  137E,RF-1116,  1,     15,02-12809,2,20000710,1425, 10.0035, 136.9607, 5151,    306.0,  10.7411,  34.5265,2,   -999.0,9,  34.5383,2,     79.4,2,    29.60,2,  -999.00,9,    27.95,2,     0.00,2,     1.96,2,    0.682,2,    0.452,2,  -999.00,9,   2197.9,2,   -999.0,9,-999.0000,9,   -999.0,  9,     7.73,2,   -999.0,  -999.00,9,  -999.00,9,  -999.00,9,  -999.00,9,   -999.0,-999.0000, -999,9,  304,  10.7039,  26.4598,   -999.0,9
       RF00-06,  137E,RF-1116,  1,     14,02-12817,2,20000710,1422, 10.0035, 136.9607, 5151,    404.0,   8.3772,  34.4656,2,   -999.0,9,-999.0000,9,     67.0,2,    43.35,2,  -999.00,9,    33.01,2,     0.00,2,     2.36,2,    0.280,2,    0.215,2,  -999.00,9,   2252.2,4,   -999.0,9,-999.0000,9,   -999.0,  9,  -999.00,9,   -999.0,  -999.00,9,  -999.00,9,  -999.00,9,  -999.00,9,   -999.0,-999.0000, -999,9,  401,   8.3350,  26.8036,   -999.0,9
       RF00-06,  137E,RF-1116,  1,     13,02-12808,2,20000710,1418, 10.0035, 136.9607, 5151,    504.0,   7.1595,  34.4816,2,   -999.0,9,  34.4864,2,     73.6,2,    51.85,2,  -999.00,9,    34.80,2,     0.00,2,     2.46,2,    0.172,2,    0.148,2,  -999.00,9,   2249.7,2,   -999.0,9,-999.0000,9,   -999.0,  9,     7.65,4,   -999.0,  -999.00,9,  -999.00,9,  -999.00,9,  -999.00,9,   -999.0,-999.0000, -999,9,  501,   7.1111,  26.9950,   -999.0,9
       RF00-06,  137E,RF-1116,  1,     12,02-12821,2,20000710,1415, 10.0035, 136.9607, 5151,    606.5,   6.5235,  34.5014,2,   -999.0,9,  34.5033,2,     76.8,2,    57.65,2,  -999.00,9,    35.90,2,     0.00,2,     2.56,2,    0.117,2,    0.106,2,  -999.00,9,   2265.0,2,   -999.0,9,-999.0000,9,   -999.0,  9,  -999.00,9,   -999.0,  -999.00,9,  -999.00,9,  -999.00,9,  -999.00,9,   -999.0,-999.0000, -999,9,  602,   6.4677,  27.0980,   -999.0,9
       RF00-06,  137E,RF-1116,  1,     11,02-12811,2,20000710,1407, 10.0035, 136.9607, 5151,    807.5,   5.4649,  34.5252,2,   -999.0,9,  34.5318,2,     80.9,2,    71.22,2,  -999.00,9,    37.34,2,     0.00,2,     2.68,2,    0.031,2,    0.060,2,  -999.00,9,   2280.3,2,   -999.0,9,-999.0000,9,   -999.0,  9,     7.64,2,   -999.0,  -999.00,9,  -999.00,9,  -999.00,9,  -999.00,9,   -999.0,-999.0000, -999,9,  801,   5.3958,  27.2522,   -999.0,9
       RF00-06,  137E,RF-1116,  1,      9,02-12810,2,20000710,1357, 10.0035, 136.9607, 5151,   1007.7,   4.6175,  34.5431,2,   -999.0,9,-999.0000,9,   -999.0,9,  -999.00,9,  -999.00,9,  -999.00,9,  -999.00,9,  -999.00,9,    0.024,2,    0.049,2,  -999.00,9,   -999.0,9,   -999.0,9,-999.0000,9,   -999.0,  9,  -999.00,9,   -999.0,  -999.00,9,  -999.00,9,  -999.00,9,  -999.00,9,   -999.0,-999.0000, -999,9, 1000,   4.5364,  27.3654,   -999.0,9
       RF00-06,  137E,RF-1116,  1,     10,02-12820,2,20000710,1357, 10.0035, 136.9607, 5151,   1010.6,   4.5776,  34.5436,2,   -999.0,9,  34.5429,2,     82.9,2,    86.70,2,  -999.00,9,    38.18,2,     0.00,2,     2.73,2,    0.020,2,    0.044,2,  -999.00,9,   2302.2,2,   -999.0,9,-999.0000,9,   -999.0,  9,     7.65,2,   -999.0,  -999.00,9,  -999.00,9,  -999.00,9,  -999.00,9,   -999.0,-999.0000, -999,9, 1002,   4.4965,  27.3702,   -999.0,9
       RF00-06,  137E,RF-1116,  1,      8,02-12819,2,20000710,1342, 10.0035, 136.9607, 5151,   1262.6,   3.5388,  34.5718,2,   -999.0,9,  34.5702,2,     89.4,2,   106.38,2,  -999.00,9,    38.45,2,     0.00,2,     2.76,2,    0.006,2,    0.021,2,  -999.00,9,   2329.2,2,   -999.0,9,-999.0000,9,   -999.0,  9,  -999.00,9,   -999.0,  -999.00,9,  -999.00,9,  -999.00,9,  -999.00,9,   -999.0,-999.0000, -999,9, 1252,   3.4451,  27.5013,   -999.0,9
       RF00-06,  137E,RF-1116,  1,      7,02-13591,2,20000710,1330, 10.0035, 136.9607, 5151,   1516.1,   2.8245,  34.6028,2,   -999.0,9,  34.6013,2,    100.6,2,   117.71,2,  -999.00,9,    38.34,2,     0.00,2,     2.73,2,    0.002,2,    0.008,2,  -999.00,9,   2330.9,2,   -999.0,9,-999.0000,9,   -999.0,  9,     7.66,2,   -999.0,  -999.00,9,  -999.00,9,  -999.00,9,  -999.00,9,   -999.0,-999.0000, -999,9, 1502,   2.7173,  27.5934,   -999.0,9
       RF00-06,  137E,RF-1116,  1,      6,02-13588,2,20000710,1310, 10.0035, 136.9607, 5151,   1768.9,   2.4439,  34.6189,2,   -999.0,9,  34.6208,2,    108.2,2,   123.99,2,  -999.00,9,    38.17,2,     0.00,2,     2.70,2,    0.001,2,    0.003,2,  -999.00,9,   2334.8,2,   -999.0,9,-999.0000,9,   -999.0,  9,  -999.00,9,   -999.0,  -999.00,9,  -999.00,9,  -999.00,9,  -999.00,9,   -999.0,-999.0000, -999,9, 1752,   2.3205,  27.6403,   -999.0,9
       RF00-06,  137E,RF-1116,  1,      5,02-10155,2,20000710,1301, 10.0035, 136.9607, 5151,   2022.7,   2.1811,  34.6315,2,   -999.0,9,  34.6339,2,    115.7,2,   127.85,2,  -999.00,9,    37.82,2,     0.00,2,     2.66,2,    0.001,2,    0.001,2,  -999.00,9,   2336.2,2,   -999.0,9,-999.0000,9,   -999.0,  9,     7.67,2,   -999.0,  -999.00,9,  -999.00,9,  -999.00,9,  -999.00,9,   -999.0,-999.0000, -999,9, 2002,   2.0400,  27.6733,   -999.0,9
       RF00-06,  137E,RF-1116,  1,      4,02-13579,2,20000710,1243, 10.0035, 136.9607, 5151,   2534.6,   1.7852,  34.6542,2,   -999.0,9,  34.6562,2,    129.6,2,   132.93,2,  -999.00,9,    37.21,2,     0.00,2,     2.59,2,    0.000,2,    0.000,2,  -999.00,9,   2339.5,2,   -999.0,9,-999.0000,9,   -999.0,  9,  -999.00,9,   -999.0,  -999.00,9,  -999.00,9,  -999.00,9,  -999.00,9,   -999.0,-999.0000, -999,9, 2505,   1.6058,  27.7249,   -999.0,9
       RF00-06,  137E,RF-1116,  1,      3,02-13590,2,20000710,1228, 10.0035, 136.9607, 5151,   3040.7,   1.5951,  34.6684,2,   -999.0,9,  34.6684,2,    142.4,2,   132.75,2,  -999.00,9,    36.45,2,     0.00,2,     2.52,2,    0.000,2,    0.000,2,  -999.00,9,   2329.9,2,   -999.0,9,-999.0000,9,   -999.0,  9,  -999.00,9,   -999.0,  -999.00,9,  -999.00,9,  -999.00,9,  -999.00,9,   -999.0,-999.0000, -999,9, 3002,   1.3723,  27.7533,   -999.0,9
       RF00-06,  137E,RF-1116,  1,      2,02-13589,2,20000710,1150, 10.0035, 136.9607, 5151,   4050.2,   1.5273,  34.6797,2,   -999.0,9,  34.6825,2,    156.6,2,   129.78,2,  -999.00,9,    35.49,2,     0.00,2,     2.45,2,    0.000,2,    0.000,2,  -999.00,9,   2318.1,2,   -999.0,9,-999.0000,9,   -999.0,  9,  -999.00,9,   -999.0,  -999.00,9,  -999.00,9,  -999.00,9,  -999.00,9,   -999.0,-999.0000, -999,9, 3989,   1.2022,  27.7743,   -999.0,9
       RF00-06,  137E,RF-1116,  1,      1,02-12807,2,20000710,1133, 10.0035, 136.9607, 5151,   4673.7,   1.5495,  34.6831,2,   -999.0,9,  34.6806,2,    160.9,2,   128.33,2,  -999.00,9,    35.23,2,     0.00,2,     2.42,2,    0.000,2,    0.000,2,  -999.00,9,   2329.1,2,   -999.0,9,-999.0000,9,   -999.0,  9,  -999.00,9,   -999.0,  -999.00,9,  -999.00,9,  -999.00,9,  -999.00,9,   -999.0,-999.0000, -999,9, 4597,   1.1527,  27.7804,   -999.0,9