BOTTLE,20141201MRIJMADS
EXPOCODE,SECT_ID,STNNBR,CASTNO,SAMPNO,BTLNBR,BTLNBR_FLAG_W,DATE,TIME,LATITUDE,LONGITUDE,DEPTH,CTDPRS,CTDTMP,CTDSAL,CTDSAL_FLAG_W,CTDOXY,CTDOXY_FLAG_W,SALNTY,SALNTY_FLAG_W,OXYGEN,OXYGEN_FLAG_W,SILCAT,SILCAT_FLAG_W,NITRAT,NITRAT_FLAG_W,NO2+NO3,NO2+NO3_FLAG_W,NITRIT,NITRIT_FLAG_W,PHSPHT,PHSPHT_FLAG_W,CFC-11,CFC-11_FLAG_W,CFC-12,CFC-12_FLAG_W,DELC13,DELC13_FLAG_W,TCARBN,TCARBN_FLAG_W,ALKALI,ALKALI_FLAG_W,PH,PH_FLAG_W,PH_TMP,PH_SCALE,PH_NBS,PH_NBS_FLAG_W,C13ERR,TOTALP,TOTALP_FLAG_W,AMMONI,AMMONI_FLAG_W,CHLORA,CHLORA_FLAG_W,PPHYTN,PPHYTN_FLAG_W,REVPRS,REVTMP,DEPTH_,DEPTH_FLAG,CTDDEP,THETA,SIGTHT,DOC,DOC_FLAG_W
,,,,,,,GMT,GMT,,,METER,DBAR,ITS-90,PSS-78,,UMOL/KG,,PSS-78,,UMOL/KG,,UMOL/KG,,UMOL/KG,,UMOL/KG,,UMOL/KG,,UMOL/KG,,PMOL/KG,,PMOL/KG,,/MILLE,,UMOL/KG,,UMOL/KG,,25_DEG_C,,DEG_C,,,,/MILLE,UMOL/KG,,UMOL/KG,,UG/L,,UG/L,,DBAR,ITS-90,METERS,,METERS,DEG_C,,UMOL/L,
       RF00-06,  137E,RF-1121,  1,     -9,      -9,5,20000712,0030, 14.9955, 136.9968, 5161,      0.0,  29.3611,  34.1780,2,   -999.0,9,-999.0000,9,    195.6,2,     1.28,2,  -999.00,9,     0.00,2,     0.00,2,     0.04,2,    1.729,2,    0.915,2,  -999.00,9,   1899.6,2,   -999.0,9,-999.0000,9,   -999.0,  9,     8.25,2,   -999.0,  -999.00,9,  -999.00,9,     0.06,2,     0.01,2,   -999.0,-999.0000, -999,9,    0,  29.3611,  21.3262,   -999.0,9
       RF00-06,  137E,RF-1121,  1,     24,02-10154,2,20000712,0028, 14.9955, 136.9968, 5161,      9.6,  29.3609,  34.1787,2,   -999.0,9,-999.0000,9,    195.7,2,     1.26,2,  -999.00,9,     0.00,2,     0.00,2,     0.03,2,    1.728,2,    0.914,2,  -999.00,9,   1922.4,2,   -999.0,9,-999.0000,9,   -999.0,  9,  -999.00,9,   -999.0,  -999.00,9,  -999.00,9,     0.07,2,     0.01,2,   -999.0,-999.0000, -999,9,   10,  29.3585,  21.3276,   -999.0,9
       RF00-06,  137E,RF-1121,  1,     23,02-12829,2,20000712,0027, 14.9955, 136.9968, 5161,     25.1,  29.3341,  34.1783,2,   -999.0,9,-999.0000,9,    195.4,2,     1.20,2,  -999.00,9,     0.00,2,     0.00,2,     0.03,2,    1.715,2,    0.917,2,  -999.00,9,   1904.7,2,   -999.0,9,-999.0000,9,   -999.0,  9,     8.25,2,   -999.0,  -999.00,9,  -999.00,9,     0.07,2,     0.01,2,   -999.0,-999.0000, -999,9,   25,  29.3279,  21.3375,   -999.0,9
       RF00-06,  137E,RF-1121,  1,     22,02-12828,2,20000712,0025, 14.9955, 136.9968, 5161,     50.8,  29.3876,  34.3738,2,   -999.0,9,-999.0000,9,    200.7,2,     1.33,2,  -999.00,9,     0.00,2,     0.00,2,     0.02,2,    1.769,2,    0.925,2,  -999.00,9,   1915.3,2,   -999.0,9,-999.0000,9,   -999.0,  9,     8.25,2,   -999.0,  -999.00,9,  -999.00,9,     0.10,2,     0.04,2,   -999.0,-999.0000, -999,9,   51,  29.3753,  21.4683,   -999.0,9
       RF00-06,  137E,RF-1121,  1,     21,02-12827,2,20000712,0024, 14.9955, 136.9968, 5161,     76.3,  28.4505,  34.8243,2,   -999.0,9,-999.0000,9,    208.1,2,     1.13,2,  -999.00,9,     0.00,2,     0.00,2,     0.04,2,    1.898,2,    0.928,2,  -999.00,9,   1936.5,2,   -999.0,9,-999.0000,9,   -999.0,  9,     8.25,2,   -999.0,  -999.00,9,  -999.00,9,     0.18,2,     0.06,2,   -999.0,-999.0000, -999,9,   76,  28.4323,  22.1206,   -999.0,9
       RF00-06,  137E,RF-1121,  1,     20,02-12826,2,20000712,0023, 14.9955, 136.9968, 5161,    100.9,  27.7153,  34.9674,2,   -999.0,9,  34.9903,4,    200.1,2,     1.09,2,  -999.00,9,     0.00,2,     0.00,2,     0.04,2,    1.853,2,    0.931,2,  -999.00,9,   1953.3,2,   -999.0,9,-999.0000,9,   -999.0,  9,     8.23,2,   -999.0,  -999.00,9,  -999.00,9,     0.31,2,     0.20,2,   -999.0,-999.0000, -999,9,  100,  27.6917,  22.4705,   -999.0,9
       RF00-06,  137E,RF-1121,  1,     19,02-12825,2,20000712,0021, 14.9955, 136.9968, 5161,    126.1,  26.7656,  35.0305,2,   -999.0,9,-999.0000,9,    192.1,2,     1.15,2,  -999.00,9,     0.04,2,     0.11,2,     0.06,2,    2.107,2,    1.013,2,  -999.00,9,   1980.1,2,   -999.0,9,-999.0000,9,   -999.0,  9,  -999.00,9,   -999.0,  -999.00,9,  -999.00,9,     0.20,2,     0.29,2,   -999.0,-999.0000, -999,9,  125,  26.7369,  22.8245,   -999.0,9
       RF00-06,  137E,RF-1121,  1,     18,02-12830,2,20000712,0020, 14.9955, 136.9968, 5161,    151.2,  24.7705,  35.0158,2,   -999.0,9,-999.0000,9,    182.9,2,     1.43,2,  -999.00,9,     0.63,2,     0.04,2,     0.10,2,    2.173,2,    1.123,2,  -999.00,9,   1995.1,2,   -999.0,9,-999.0000,9,   -999.0,  9,     8.17,2,   -999.0,  -999.00,9,  -999.00,9,     0.06,2,     0.12,2,   -999.0,-999.0000, -999,9,  150,  24.7379,  23.4326,   -999.0,9
       RF00-06,  137E,RF-1121,  1,     17,02-12815,2,20000712,0018, 14.9955, 136.9968, 5161,    202.5,  21.1069,  34.9880,2,   -999.0,9,  34.9746,4,    175.8,2,     2.46,2,  -999.00,9,     2.69,2,     0.01,2,     0.24,2,    2.196,2,    1.150,2,  -999.00,9,   2040.8,2,   -999.0,9,-999.0000,9,   -999.0,  9,     8.10,2,   -999.0,  -999.00,9,  -999.00,9,     0.03,2,     0.06,2,   -999.0,-999.0000, -999,9,  201,  21.0679,  24.4663,   -999.0,9
       RF00-06,  137E,RF-1121,  1,     16,02-12818,2,20000712,0016, 14.9955, 136.9968, 5161,    251.1,  17.6334,  34.8051,2,   -999.0,9,-999.0000,9,    183.7,2,     4.95,2,  -999.00,9,     6.05,2,     0.00,2,     0.42,2,    2.690,2,    1.237,2,  -999.00,9,   2058.9,2,   -999.0,9,-999.0000,9,   -999.0,  9,  -999.00,9,   -999.0,  -999.00,9,  -999.00,9,  -999.00,9,  -999.00,9,   -999.0,-999.0000, -999,9,  249,  17.5909,  25.2228,   -999.0,9
       RF00-06,  137E,RF-1121,  1,     15,02-12809,2,20000712,0014, 14.9955, 136.9968, 5161,    302.6,  14.3429,  34.5264,2,   -999.0,9,  34.5336,2,    166.4,2,    12.02,2,  -999.00,9,    12.91,2,     0.00,2,     0.89,2,    2.562,2,    1.201,2,  -999.00,9,   2096.0,2,   -999.0,9,-999.0000,9,   -999.0,  9,     7.95,2,   -999.0,  -999.00,9,  -999.00,9,  -999.00,9,  -999.00,9,   -999.0,-999.0000, -999,9,  301,  14.2985,  25.7581,   -999.0,9
       RF00-06,  137E,RF-1121,  1,     14,02-12817,2,20000712,0011, 14.9955, 136.9968, 5161,    403.2,   9.8105,  34.2757,2,   -999.0,9,-999.0000,9,    118.7,2,    32.03,2,  -999.00,9,    25.20,2,     0.00,2,     1.79,2,    1.533,2,    0.790,2,  -999.00,9,   2179.2,2,   -999.0,9,-999.0000,9,   -999.0,  9,  -999.00,9,   -999.0,  -999.00,9,  -999.00,9,  -999.00,9,  -999.00,9,   -999.0,-999.0000, -999,9,  400,   9.7642,  26.4261,   -999.0,9
       RF00-06,  137E,RF-1121,  1,     13,02-12808,2,20000712,0008, 14.9955, 136.9968, 5161,    503.3,   7.7489,  34.3383,2,   -999.0,9,  34.3314,2,     73.4,2,    50.14,2,  -999.00,9,    32.96,2,     0.00,2,     2.39,2,    0.498,2,    0.323,2,  -999.00,9,   2254.9,3,   -999.0,9,-999.0000,9,   -999.0,  9,     7.68,4,   -999.0,  -999.00,9,  -999.00,9,  -999.00,9,  -999.00,9,   -999.0,-999.0000, -999,9,  500,   7.6984,  26.7985,   -999.0,9
       RF00-06,  137E,RF-1121,  1,     12,02-12821,2,20000712,0003, 14.9955, 136.9968, 5161,    605.5,   6.7317,  34.4047,2,   -999.0,9,  34.4037,2,     63.6,2,    60.34,2,  -999.00,9,    35.72,2,     0.00,2,     2.59,2,    0.188,2,    0.143,2,  -999.00,9,   2270.6,2,   -999.0,9,-999.0000,9,   -999.0,  9,  -999.00,9,   -999.0,  -999.00,9,  -999.00,9,  -999.00,9,  -999.00,9,   -999.0,-999.0000, -999,9,  601,   6.6751,  26.9941,   -999.0,9
       RF00-06,  137E,RF-1121,  1,     11,02-12811,2,20000711,2359, 14.9955, 136.9968, 5161,    806.0,   5.3676,  34.4904,2,   -999.0,9,  34.4856,2,     71.4,2,    77.10,2,  -999.00,9,    37.61,2,     0.00,2,     2.73,2,    0.041,2,    0.074,2,  -999.00,9,   2294.8,2,   -999.0,9,-999.0000,9,   -999.0,  9,     7.62,2,   -999.0,  -999.00,9,  -999.00,9,  -999.00,9,  -999.00,9,   -999.0,-999.0000, -999,9,  800,   5.2994,  27.2361,   -999.0,9
       RF00-06,  137E,RF-1121,  1,     10,02-12820,2,20000711,2352, 14.9955, 136.9968, 5161,   1008.4,   4.4577,  34.5290,2,   -999.0,9,  34.5263,2,     79.5,2,    91.46,2,  -999.00,9,    38.28,2,     0.00,2,     2.76,2,    0.018,2,    0.041,2,  -999.00,9,   2307.0,2,   -999.0,9,-999.0000,9,   -999.0,  9,     7.64,2,   -999.0,  -999.00,9,  -999.00,9,  -999.00,9,  -999.00,9,   -999.0,-999.0000, -999,9, 1000,   4.3778,  27.3714,   -999.0,9
       RF00-06,  137E,RF-1121,  1,      9,02-12810,2,20000711,2345, 14.9955, 136.9968, 5161,   1261.9,   3.4475,  34.5577,2,   -999.0,9,  34.5560,2,     90.5,2,   110.21,2,  -999.00,9,    38.23,2,     0.00,2,     2.74,2,    0.009,2,    0.009,2,  -999.00,9,   2319.3,3,   -999.0,9,-999.0000,9,   -999.0,  9,  -999.00,9,   -999.0,  -999.00,9,  -999.00,9,  -999.00,9,  -999.00,9,   -999.0,-999.0000, -999,9, 1251,   3.3548,  27.4988,   -999.0,9
       RF00-06,  137E,RF-1121,  1,      8,02-12819,2,20000711,2338, 14.9955, 136.9968, 5161,   1515.3,   2.8308,  34.5863,2,   -999.0,9,  34.5834,2,     97.3,2,   120.79,2,  -999.00,9,    38.25,2,     0.00,2,     2.73,2,    0.004,2,    0.008,2,  -999.00,9,   2324.4,3,   -999.0,9,-999.0000,9,   -999.0,  9,     7.65,2,   -999.0,  -999.00,9,  -999.00,9,  -999.00,9,  -999.00,9,   -999.0,-999.0000, -999,9, 1501,   2.7236,  27.5797,   -999.0,9
       RF00-06,  137E,RF-1121,  1,      7,02-13591,2,20000711,2332, 14.9955, 136.9968, 5161,   1768.4,   2.4579,  34.6060,2,   -999.0,9,  34.6050,2,    103.4,2,   126.07,2,  -999.00,9,    38.19,2,     0.00,2,     2.71,2,    0.003,2,    0.007,2,  -999.00,9,   2329.8,3,   -999.0,9,-999.0000,9,   -999.0,  9,  -999.00,9,   -999.0,  -999.00,9,  -999.00,9,  -999.00,9,  -999.00,9,   -999.0,-999.0000, -999,9, 1751,   2.3344,  27.6288,   -999.0,9
       RF00-06,  137E,RF-1121,  1,      6,02-13588,2,20000711,2324, 14.9955, 136.9968, 5161,   2022.6,   2.1239,  34.6272,2,   -999.0,9,  34.6261,2,    112.3,2,   130.99,2,  -999.00,9,    37.93,2,     0.00,2,     2.69,2,    0.002,2,    0.005,2,  -999.00,9,   2339.5,3,   -999.0,9,-999.0000,9,   -999.0,  9,     7.67,2,   -999.0,  -999.00,9,  -999.00,9,  -999.00,9,  -999.00,9,   -999.0,-999.0000, -999,9, 2001,   1.9837,  27.6743,   -999.0,9
       RF00-06,  137E,RF-1121,  1,      5,02-10155,2,20000711,2306, 14.9955, 136.9968, 5161,   2531.6,   1.8101,  34.6544,2,   -999.0,9,  34.6507,2,    126.2,2,   133.84,2,  -999.00,9,    37.22,2,     0.00,2,     2.60,2,    0.001,2,    0.004,2,  -999.00,9,   2345.5,3,   -999.0,9,-999.0000,9,   -999.0,  9,  -999.00,9,   -999.0,  -999.00,9,  -999.00,9,  -999.00,9,  -999.00,9,   -999.0,-999.0000, -999,9, 2502,   1.6305,  27.7232,   -999.0,9
       RF00-06,  137E,RF-1121,  1,      4,02-13579,3,20000711,2251, 14.9955, 136.9968, 5161,   3042.0,   1.6446,  34.6690,2,   -999.0,9,  34.6680,2,    138.0,2,   133.87,2,  -999.00,9,    36.58,2,     0.00,2,     2.55,2,    0.001,2,    0.002,2,  -999.00,9,   2333.1,3,   -999.0,9,-999.0000,9,   -999.0,  9,  -999.00,9,   -999.0,  -999.00,9,  -999.00,9,  -999.00,9,  -999.00,9,   -999.0,-999.0000, -999,9, 3003,   1.4207,  27.7503,   -999.0,9
       RF00-06,  137E,RF-1121,  1,      3,02-13590,2,20000711,2227, 14.9955, 136.9968, 5161,   4064.8,   1.5294,  34.6840,2,   -999.0,9,  34.6833,2,    155.5,2,   130.39,2,  -999.00,9,    35.57,2,     0.00,2,     2.45,2,    0.000,2,    0.001,2,  -999.00,9,   2319.0,3,   -999.0,9,-999.0000,9,   -999.0,  9,  -999.00,9,   -999.0,  -999.00,9,  -999.00,9,  -999.00,9,  -999.00,9,   -999.0,-999.0000, -999,9, 4003,   1.2025,  27.7777,   -999.0,9
       RF00-06,  137E,RF-1121,  1,      2,02-13589,2,20000711,2213, 14.9955, 136.9968, 5161,   4578.3,   1.5249,  34.6887,2,   -999.0,9,  34.6871,2,    161.0,2,   128.72,2,  -999.00,9,    35.19,2,     0.00,2,     2.42,2,    0.000,2,    0.000,2,  -999.00,9,   -999.0,9,   -999.0,9,-999.0000,9,   -999.0,  9,  -999.00,9,   -999.0,  -999.00,9,  -999.00,9,  -999.00,9,  -999.00,9,   -999.0,-999.0000, -999,9, 4503,   1.1400,  27.7858,   -999.0,9
       RF00-06,  137E,RF-1121,  1,      1,02-12807,2,20000711,2202, 14.9955, 136.9968, 5161,   5109.3,   1.5816,  34.6891,2,   -999.0,9,  34.6896,2,    161.5,2,   128.41,2,  -999.00,9,    35.15,2,     0.00,2,     2.42,2,    0.000,2,    0.000,2,  -999.00,9,   2310.8,3,   -999.0,9,-999.0000,9,   -999.0,  9,  -999.00,9,   -999.0,  -999.00,9,  -999.00,9,  -999.00,9,  -999.00,9,   -999.0,-999.0000, -999,9, 5019,   1.1312,  27.7867,   -999.0,9