BOTTLE,20141201MRIJMADS
EXPOCODE,SECT_ID,STNNBR,CASTNO,SAMPNO,BTLNBR,BTLNBR_FLAG_W,DATE,TIME,LATITUDE,LONGITUDE,DEPTH,CTDPRS,CTDTMP,CTDSAL,CTDSAL_FLAG_W,CTDOXY,CTDOXY_FLAG_W,SALNTY,SALNTY_FLAG_W,OXYGEN,OXYGEN_FLAG_W,SILCAT,SILCAT_FLAG_W,NITRAT,NITRAT_FLAG_W,NO2+NO3,NO2+NO3_FLAG_W,NITRIT,NITRIT_FLAG_W,PHSPHT,PHSPHT_FLAG_W,CFC-11,CFC-11_FLAG_W,CFC-12,CFC-12_FLAG_W,DELC13,DELC13_FLAG_W,TCARBN,TCARBN_FLAG_W,ALKALI,ALKALI_FLAG_W,PH,PH_FLAG_W,PH_TMP,PH_SCALE,PH_NBS,PH_NBS_FLAG_W,C13ERR,TOTALP,TOTALP_FLAG_W,AMMONI,AMMONI_FLAG_W,CHLORA,CHLORA_FLAG_W,PPHYTN,PPHYTN_FLAG_W,REVPRS,REVTMP,DEPTH_,DEPTH_FLAG,CTDDEP,THETA,SIGTHT,DOC,DOC_FLAG_W
,,,,,,,GMT,GMT,,,METER,DBAR,ITS-90,PSS-78,,UMOL/KG,,PSS-78,,UMOL/KG,,UMOL/KG,,UMOL/KG,,UMOL/KG,,UMOL/KG,,UMOL/KG,,PMOL/KG,,PMOL/KG,,/MILLE,,UMOL/KG,,UMOL/KG,,25_DEG_C,,DEG_C,,,,/MILLE,UMOL/KG,,UMOL/KG,,UG/L,,UG/L,,DBAR,ITS-90,METERS,,METERS,DEG_C,,UMOL/L,
       RF00-06,  137E,RF-1140,  1,     -9,      -9,5,20000717,0801, 33.3408, 136.9960, 2579,      0.0,  26.4544,  33.9551,2,   -999.0,9,-999.0000,9,    210.7,2,     1.74,2,  -999.00,9,     0.00,2,     0.00,2,     0.01,2,    0.007,4,    0.002,4,  -999.00,9,   -999.0,9,   -999.0,9,-999.0000,9,   -999.0,  9,  -999.00,9,   -999.0,  -999.00,9,  -999.00,9,  -999.00,9,  -999.00,9,   -999.0,-999.0000, -999,9,    0,  26.4544,  22.1034,   -999.0,9
       RF00-06,  137E,RF-1140,  1,     21,02-12827,2,20000717,0759, 33.3408, 136.9960, 2579,     10.5,  26.4476,  33.9491,2,   -999.0,9,-999.0000,9,    209.4,2,     1.70,2,  -999.00,9,     0.00,2,     0.00,2,     0.00,2,    0.007,4,    0.002,4,  -999.00,9,   -999.0,9,   -999.0,9,-999.0000,9,   -999.0,  9,  -999.00,9,   -999.0,  -999.00,9,  -999.00,9,  -999.00,9,  -999.00,9,   -999.0,-999.0000, -999,9,   10,  26.4453,  22.1017,   -999.0,9
       RF00-06,  137E,RF-1140,  1,     20,02-12826,2,20000717,0758, 33.3408, 136.9960, 2579,     25.0,  24.1352,  33.8666,2,   -999.0,9,-999.0000,9,    225.1,2,     2.20,2,  -999.00,9,     0.00,2,     0.00,2,     0.00,2,    0.007,4,    0.002,4,  -999.00,9,   -999.0,9,   -999.0,9,-999.0000,9,   -999.0,  9,  -999.00,9,   -999.0,  -999.00,9,  -999.00,9,  -999.00,9,  -999.00,9,   -999.0,-999.0000, -999,9,   25,  24.1299,  22.7452,   -999.0,9
       RF00-06,  137E,RF-1140,  1,     19,02-12825,2,20000717,0757, 33.3408, 136.9960, 2579,     49.6,  18.8332,  34.5309,2,   -999.0,9,-999.0000,9,    197.6,2,     6.00,2,  -999.00,9,     4.65,2,     0.36,2,     0.30,2,    0.009,4,    0.003,4,  -999.00,9,   -999.0,9,   -999.0,9,-999.0000,9,   -999.0,  9,  -999.00,9,   -999.0,  -999.00,9,  -999.00,9,  -999.00,9,  -999.00,9,   -999.0,-999.0000, -999,9,   49,  18.8245,  24.7072,   -999.0,9
       RF00-06,  137E,RF-1140,  1,     18,02-12830,2,20000717,0756, 33.3408, 136.9960, 2579,     74.8,  17.1434,  34.5715,2,   -999.0,9,-999.0000,9,    188.8,2,     9.77,2,  -999.00,9,     7.81,2,     0.11,2,     0.50,2,    0.010,4,    0.003,4,  -999.00,9,   -999.0,9,   -999.0,9,-999.0000,9,   -999.0,  9,  -999.00,9,   -999.0,  -999.00,9,  -999.00,9,  -999.00,9,  -999.00,9,   -999.0,-999.0000, -999,9,   74,  17.1311,  25.1542,   -999.0,9
       RF00-06,  137E,RF-1140,  1,     17,02-12815,2,20000717,0755, 33.3408, 136.9960, 2579,    100.6,  15.5784,  34.5936,2,   -999.0,9,-999.0000,9,    179.6,2,    13.58,2,  -999.00,9,    10.46,2,     0.01,2,     0.67,2,    0.011,4,    0.003,4,  -999.00,9,   -999.0,9,   -999.0,9,-999.0000,9,   -999.0,  9,  -999.00,9,   -999.0,  -999.00,9,  -999.00,9,  -999.00,9,  -999.00,9,   -999.0,-999.0000, -999,9,  100,  15.5629,  25.5339,   -999.0,9
       RF00-06,  137E,RF-1140,  1,     16,02-12818,2,20000717,0753, 33.3408, 136.9960, 2579,    125.4,  14.1875,  34.5674,2,   -999.0,9,-999.0000,9,    167.9,2,    18.63,2,  -999.00,9,    13.51,2,     0.00,2,     0.89,2,    0.012,4,    0.003,4,  -999.00,9,   -999.0,9,   -999.0,9,-999.0000,9,   -999.0,  9,  -999.00,9,   -999.0,  -999.00,9,  -999.00,9,  -999.00,9,  -999.00,9,   -999.0,-999.0000, -999,9,  124,  14.1693,  25.8172,   -999.0,9
       RF00-06,  137E,RF-1140,  1,     15,02-12809,2,20000717,0752, 33.3408, 136.9960, 2579,    150.9,  13.6767,  34.5303,2,   -999.0,9,-999.0000,9,    161.9,2,    22.10,2,  -999.00,9,    15.33,2,     0.00,2,     1.01,2,    0.012,4,    0.003,4,  -999.00,9,   -999.0,9,   -999.0,9,-999.0000,9,   -999.0,  9,  -999.00,9,   -999.0,  -999.00,9,  -999.00,9,  -999.00,9,  -999.00,9,   -999.0,-999.0000, -999,9,  150,  13.6554,  25.8958,   -999.0,9
       RF00-06,  137E,RF-1140,  1,     14,02-12817,2,20000717,0750, 33.3408, 136.9960, 2579,    201.5,  11.4795,  34.4223,2,   -999.0,9,-999.0000,9,    147.1,2,    31.94,2,  -999.00,9,    19.87,2,     0.00,2,     1.35,2,    0.014,4,    0.004,4,  -999.00,9,   -999.0,9,   -999.0,9,-999.0000,9,   -999.0,  9,  -999.00,9,   -999.0,  -999.00,9,  -999.00,9,  -999.00,9,  -999.00,9,   -999.0,-999.0000, -999,9,  200,  11.4541,  26.2427,   -999.0,9
       RF00-06,  137E,RF-1140,  1,     13,02-12808,2,20000717,0748, 33.3408, 136.9960, 2579,    251.4,  10.2693,  34.3777,2,   -999.0,9,-999.0000,9,    136.1,2,    39.65,2,  -999.00,9,    22.89,2,     0.00,2,     1.57,2,    0.014,4,    0.004,4,  -999.00,9,   -999.0,9,   -999.0,9,-999.0000,9,   -999.0,  9,  -999.00,9,   -999.0,  -999.00,9,  -999.00,9,  -999.00,9,  -999.00,9,   -999.0,-999.0000, -999,9,  249,  10.2398,  26.4250,   -999.0,9
       RF00-06,  137E,RF-1140,  1,     12,02-12821,2,20000717,0747, 33.3408, 136.9960, 2579,    301.7,   8.9319,  34.2951,2,   -999.0,9,-999.0000,9,    129.9,2,    46.60,2,  -999.00,9,    25.76,2,     0.00,2,     1.79,2,    0.016,4,    0.004,4,  -999.00,9,   -999.0,9,   -999.0,9,-999.0000,9,   -999.0,  9,  -999.00,9,   -999.0,  -999.00,9,  -999.00,9,  -999.00,9,  -999.00,9,   -999.0,-999.0000, -999,9,  299,   8.8994,  26.5821,   -999.0,9
       RF00-06,  137E,RF-1140,  1,     11,02-12811,2,20000717,0744, 33.3408, 136.9960, 2579,    402.9,   7.0196,  34.2530,2,   -999.0,9,-999.0000,9,    107.2,2,    63.78,2,  -999.00,9,    30.78,2,     0.00,2,     2.17,2,    0.017,4,    0.004,4,  -999.00,9,   -999.0,9,   -999.0,9,-999.0000,9,   -999.0,  9,  -999.00,9,   -999.0,  -999.00,9,  -999.00,9,  -999.00,9,  -999.00,9,   -999.0,-999.0000, -999,9,  400,   6.9817,  26.8328,   -999.0,9
       RF00-06,  137E,RF-1140,  1,     10,02-12820,2,20000717,0741, 33.3408, 136.9960, 2579,    503.6,   5.6884,  34.2767,2,   -999.0,9,-999.0000,9,     87.2,2,    80.71,2,  -999.00,9,    34.50,2,     0.00,2,     2.46,2,    0.019,4,    0.005,4,  -999.00,9,   -999.0,9,   -999.0,9,-999.0000,9,   -999.0,  9,  -999.00,9,   -999.0,  -999.00,9,  -999.00,9,  -999.00,9,  -999.00,9,   -999.0,-999.0000, -999,9,  499,   5.6457,  27.0252,   -999.0,9
       RF00-06,  137E,RF-1140,  1,      9,02-12810,2,20000717,0739, 33.3408, 136.9960, 2579,    604.5,   4.7011,  34.3157,2,   -999.0,9,-999.0000,9,     72.6,2,    94.62,2,  -999.00,9,    37.09,2,     0.00,2,     2.66,2,    0.020,4,    0.005,4,  -999.00,9,   -999.0,9,   -999.0,9,-999.0000,9,   -999.0,  9,  -999.00,9,   -999.0,  -999.00,9,  -999.00,9,  -999.00,9,  -999.00,9,   -999.0,-999.0000, -999,9,  599,   4.6541,  27.1718,   -999.0,9
       RF00-06,  137E,RF-1140,  1,      8,02-12819,2,20000717,0736, 33.3408, 136.9960, 2579,    705.0,   4.1177,  34.3587,2,   -999.0,9,-999.0000,9,     66.9,2,   104.53,2,  -999.00,9,    38.33,2,     0.00,2,     2.75,2,    0.021,4,    0.005,4,  -999.00,9,   -999.0,9,   -999.0,9,-999.0000,9,   -999.0,  9,  -999.00,9,   -999.0,  -999.00,9,  -999.00,9,  -999.00,9,  -999.00,9,   -999.0,-999.0000, -999,9,  699,   4.0654,  27.2692,   -999.0,9
       RF00-06,  137E,RF-1140,  1,      7,02-13591,2,20000717,0732, 33.3408, 136.9960, 2579,    806.1,   3.6914,  34.3983,2,   -999.0,9,-999.0000,9,     64.2,2,   112.09,2,  -999.00,9,    39.10,2,     0.00,2,     2.80,2,    0.021,4,    0.005,4,  -999.00,9,   -999.0,9,   -999.0,9,-999.0000,9,   -999.0,  9,  -999.00,9,   -999.0,  -999.00,9,  -999.00,9,  -999.00,9,  -999.00,9,   -999.0,-999.0000, -999,9,  799,   3.6337,  27.3445,   -999.0,9
       RF00-06,  137E,RF-1140,  1,      6,02-13588,2,20000717,0730, 33.3408, 136.9960, 2579,    907.3,   3.3281,  34.4287,2,   -999.0,9,-999.0000,9,     64.0,2,   118.39,2,  -999.00,9,    39.49,2,     0.00,2,     2.83,2,    0.022,4,    0.005,4,  -999.00,9,   -999.0,9,   -999.0,9,-999.0000,9,   -999.0,  9,  -999.00,9,   -999.0,  -999.00,9,  -999.00,9,  -999.00,9,  -999.00,9,   -999.0,-999.0000, -999,9,  899,   3.2650,  27.4045,   -999.0,9
       RF00-06,  137E,RF-1140,  1,      5,02-10155,2,20000717,0728, 33.3408, 136.9960, 2579,   1008.3,   3.1230,  34.4511,2,   -999.0,9,-999.0000,9,     66.0,2,   121.41,2,  -999.00,9,    39.62,2,     0.00,2,     2.83,2,    0.022,4,    0.005,4,  -999.00,9,   -999.0,9,   -999.0,9,-999.0000,9,   -999.0,  9,  -999.00,9,   -999.0,  -999.00,9,  -999.00,9,  -999.00,9,  -999.00,9,   -999.0,-999.0000, -999,9,  999,   3.0536,  27.4420,   -999.0,9
       RF00-06,  137E,RF-1140,  1,      4,02-13579,2,20000717,0723, 33.3408, 136.9960, 2579,   1260.6,   2.6374,  34.5122,2,   -999.0,9,-999.0000,9,     77.3,2,   128.08,2,  -999.00,9,    39.44,2,     0.00,2,     2.80,2,    0.022,4,    0.006,4,  -999.00,9,   -999.0,9,   -999.0,9,-999.0000,9,   -999.0,  9,  -999.00,9,   -999.0,  -999.00,9,  -999.00,9,  -999.00,9,  -999.00,9,   -999.0,-999.0000, -999,9, 1248,   2.5527,  27.5354,   -999.0,9
       RF00-06,  137E,RF-1140,  1,      3,02-13590,2,20000717,0714, 33.3408, 136.9960, 2579,   1514.9,   2.3351,  34.5524,2,   -999.0,9,-999.0000,9,     88.4,2,   131.13,2,  -999.00,9,    38.99,2,     0.00,2,     2.75,2,    0.023,4,    0.006,4,  -999.00,9,   -999.0,9,   -999.0,9,-999.0000,9,   -999.0,  9,  -999.00,9,   -999.0,  -999.00,9,  -999.00,9,  -999.00,9,  -999.00,9,   -999.0,-999.0000, -999,9, 1499,   2.2338,  27.5943,   -999.0,9
       RF00-06,  137E,RF-1140,  1,      2,02-13589,2,20000717,0709, 33.3408, 136.9960, 2579,   1768.1,   2.0897,  34.5879,2,   -999.0,9,-999.0000,9,    100.9,2,   132.72,2,  -999.00,9,    38.37,2,     0.00,2,     2.71,2,    0.023,4,    0.006,4,  -999.00,9,   -999.0,9,   -999.0,9,-999.0000,9,   -999.0,  9,  -999.00,9,   -999.0,  -999.00,9,  -999.00,9,  -999.00,9,  -999.00,9,   -999.0,-999.0000, -999,9, 1748,   1.9712,  27.6438,   -999.0,9
       RF00-06,  137E,RF-1140,  1,      1,02-12807,2,20000717,0703, 33.3408, 136.9960, 2579,   2033.6,   1.9372,  34.6115,2,   -999.0,9,-999.0000,9,    113.0,2,   132.74,2,  -999.00,9,    37.83,2,     0.00,2,     2.66,2,    0.023,4,    0.006,4,  -999.00,9,   -999.0,9,   -999.0,9,-999.0000,9,   -999.0,  9,  -999.00,9,   -999.0,  -999.00,9,  -999.00,9,  -999.00,9,  -999.00,9,   -999.0,-999.0000, -999,9, 2009,   1.7990,  27.6761,   -999.0,9
       RF00-06,  137E,RF-1141,  1,     -9,      -9,5,20000717,1237, 34.0065, 137.0000, 1099,      0.0,  25.1597,  33.4777,2,   -999.0,9,-999.0000,9,    216.6,2,     1.68,2,  -999.00,9,     0.05,2,     0.00,2,     0.01,2,    2.073,2,    1.110,2,  -999.00,9,   1906.6,6,   -999.0,9,-999.0000,9,   -999.0,  9,  -999.00,9,   -999.0,  -999.00,9,  -999.00,9,  -999.00,9,  -999.00,9,   -999.0,-999.0000, -999,9,    0,  25.1597,  22.1429,   -999.0,9
       RF00-06,  137E,RF-1141,  1,     17,02-12815,2,20000717,1234, 34.0065, 137.0000, 1099,     10.4,  24.6456,  33.4943,2,   -999.0,9,-999.0000,9,    222.3,2,     2.02,2,  -999.00,9,     0.01,2,     0.00,2,     0.02,2,    2.157,2,    1.136,2,  -999.00,9,   1776.3,4,   -999.0,9,-999.0000,9,   -999.0,  9,  -999.00,9,   -999.0,  -999.00,9,  -999.00,9,     0.27,2,     0.07,2,   -999.0,-999.0000, -999,9,   10,  24.6434,  22.3110,   -999.0,9
       RF00-06,  137E,RF-1141,  1,     16,02-12818,2,20000717,1232, 34.0065, 137.0000, 1099,     25.2,  20.7574,  34.3013,2,   -999.0,9,-999.0000,9,    217.6,2,     3.74,2,  -999.00,9,     0.82,2,     0.17,2,     0.10,2,    2.355,2,    1.214,2,  -999.00,9,   1977.9,3,   -999.0,9,-999.0000,9,   -999.0,  9,  -999.00,9,   -999.0,  -999.00,9,  -999.00,9,     1.20,2,     0.46,2,   -999.0,-999.0000, -999,9,   25,  20.7527,  24.0288,   -999.0,9
       RF00-06,  137E,RF-1141,  1,     15,02-12809,2,20000717,1231, 34.0065, 137.0000, 1099,     50.5,  18.6756,  34.5349,2,   -999.0,9,-999.0000,9,    192.3,2,     6.90,2,  -999.00,9,     5.52,2,     0.16,2,     0.34,2,    2.377,2,    1.219,2,  -999.00,9,   2021.2,3,   -999.0,9,-999.0000,9,   -999.0,  9,  -999.00,9,   -999.0,  -999.00,9,  -999.00,9,     0.41,2,     0.24,2,   -999.0,-999.0000, -999,9,   50,  18.6668,  24.7500,   -999.0,9
       RF00-06,  137E,RF-1141,  1,     14,02-12817,2,20000717,1230, 34.0065, 137.0000, 1099,     75.5,  16.9916,  34.6125,2,   -999.0,9,-999.0000,9,    189.6,2,    10.06,2,  -999.00,9,     7.83,2,     0.03,2,     0.51,2,    2.435,2,    1.228,2,  -999.00,9,   2039.9,3,   -999.0,9,-999.0000,9,   -999.0,  9,  -999.00,9,   -999.0,  -999.00,9,  -999.00,9,     0.10,2,     0.08,2,   -999.0,-999.0000, -999,9,   75,  16.9792,  25.2218,   -999.0,9
       RF00-06,  137E,RF-1141,  1,     13,02-12808,2,20000717,1228, 34.0065, 137.0000, 1099,    101.2,  15.7751,  34.6074,2,   -999.0,9,  34.6158,2,    183.8,2,    12.76,2,  -999.00,9,     9.89,2,     0.02,2,     0.63,2,    2.397,2,    1.185,2,  -999.00,9,   2060.5,3,   -999.0,9,-999.0000,9,   -999.0,  9,  -999.00,9,   -999.0,  -999.00,9,  -999.00,9,     0.05,2,     0.05,2,   -999.0,-999.0000, -999,9,  100,  15.7594,  25.5002,   -999.0,9
       RF00-06,  137E,RF-1141,  1,     12,02-12821,2,20000717,1227, 34.0065, 137.0000, 1099,    126.0,  14.8261,  34.5745,2,   -999.0,9,-999.0000,9,    177.9,2,    15.73,2,  -999.00,9,    11.84,2,     0.01,2,     0.76,2,    2.328,2,    1.130,2,  -999.00,9,   2073.7,3,   -999.0,9,-999.0000,9,   -999.0,  9,  -999.00,9,   -999.0,  -999.00,9,  -999.00,9,     0.02,2,     0.04,2,   -999.0,-999.0000, -999,9,  125,  14.8072,  25.6860,   -999.0,9
       RF00-06,  137E,RF-1141,  1,     11,02-12811,2,20000717,1225, 34.0065, 137.0000, 1099,    152.0,  14.1941,  34.5468,2,   -999.0,9,-999.0000,9,    172.8,2,    18.10,2,  -999.00,9,    13.21,2,     0.01,2,     0.87,2,    2.263,2,    1.103,2,  -999.00,9,   2088.0,3,   -999.0,9,-999.0000,9,   -999.0,  9,  -999.00,9,   -999.0,  -999.00,9,  -999.00,9,     0.02,2,     0.03,2,   -999.0,-999.0000, -999,9,  151,  14.1720,  25.8006,   -999.0,9
       RF00-06,  137E,RF-1141,  1,     10,02-12820,2,20000717,1223, 34.0065, 137.0000, 1099,    201.7,  11.6740,  34.4272,2,   -999.0,9,  34.4227,2,    151.6,2,    30.81,2,  -999.00,9,    19.46,2,     0.00,2,     1.32,2,    1.789,2,    0.898,2,  -999.00,9,   2139.1,3,   -999.0,9,-999.0000,9,   -999.0,  9,  -999.00,9,   -999.0,  -999.00,9,  -999.00,9,     0.01,2,     0.03,2,   -999.0,-999.0000, -999,9,  200,  11.6483,  26.2105,   -999.0,9
       RF00-06,  137E,RF-1141,  1,      9,02-12810,2,20000717,1221, 34.0065, 137.0000, 1099,    252.1,  10.0339,  34.3552,2,   -999.0,9,-999.0000,9,    140.3,2,    39.71,2,  -999.00,9,    22.99,2,     0.00,2,     1.57,2,    1.463,2,    0.769,2,  -999.00,9,   2162.1,3,   -999.0,9,-999.0000,9,   -999.0,  9,  -999.00,9,   -999.0,  -999.00,9,  -999.00,9,  -999.00,9,  -999.00,9,   -999.0,-999.0000, -999,9,  250,  10.0047,  26.4477,   -999.0,9
       RF00-06,  137E,RF-1141,  1,      8,02-12819,2,20000717,1219, 34.0065, 137.0000, 1099,    302.5,   8.4940,  34.2932,2,   -999.0,9,  34.2983,2,    124.1,2,    51.28,2,  -999.00,9,    26.92,2,     0.00,2,     1.88,2,    1.291,2,    0.682,2,  -999.00,9,   2195.4,3,   -999.0,9,-999.0000,9,   -999.0,  9,  -999.00,9,   -999.0,  -999.00,9,  -999.00,9,  -999.00,9,  -999.00,9,   -999.0,-999.0000, -999,9,  300,   8.4624,  26.6488,   -999.0,9
       RF00-06,  137E,RF-1141,  1,      7,02-13591,2,20000717,1217, 34.0065, 137.0000, 1099,    402.7,   7.3041,  34.2685,2,   -999.0,9,-999.0000,9,    110.9,2,    61.44,2,  -999.00,9,    30.02,2,     0.00,2,     2.11,2,    1.035,2,    0.564,2,  -999.00,9,   2225.0,3,   -999.0,9,-999.0000,9,   -999.0,  9,  -999.00,9,   -999.0,  -999.00,9,  -999.00,9,  -999.00,9,  -999.00,9,   -999.0,-999.0000, -999,9,  399,   7.2653,  26.8056,   -999.0,9
       RF00-06,  137E,RF-1141,  1,      6,02-13588,2,20000717,1214, 34.0065, 137.0000, 1099,    505.0,   6.3038,  34.2648,2,   -999.0,9,  34.2679,2,     96.8,2,    72.54,2,  -999.00,9,    32.84,2,     0.00,2,     2.32,2,    0.781,2,    0.465,2,  -999.00,9,   2250.0,3,   -999.0,9,-999.0000,9,   -999.0,  9,  -999.00,9,   -999.0,  -999.00,9,  -999.00,9,  -999.00,9,  -999.00,9,   -999.0,-999.0000, -999,9,  501,   6.2587,  26.9386,   -999.0,9
       RF00-06,  137E,RF-1141,  1,      5,02-10155,2,20000717,1211, 34.0065, 137.0000, 1099,    605.4,   5.3216,  34.2847,2,   -999.0,9,  34.2848,2,     82.6,2,    85.13,2,  -999.00,9,    35.43,2,     0.00,2,     2.53,2,    0.527,2,    0.336,2,  -999.00,9,   2279.0,3,   -999.0,9,-999.0000,9,   -999.0,  9,  -999.00,9,   -999.0,  -999.00,9,  -999.00,9,  -999.00,9,  -999.00,9,   -999.0,-999.0000, -999,9,  600,   5.2716,  27.0765,   -999.0,9
       RF00-06,  137E,RF-1141,  1,      4,02-13579,2,20000717,1208, 34.0065, 137.0000, 1099,    705.8,   4.6615,  34.3144,2,   -999.0,9,-999.0000,9,     73.3,2,    85.27,4,  -999.00,9,    35.44,4,     0.00,4,     2.53,4,    0.367,2,    0.265,2,  -999.00,9,   2354.0,4,   -999.0,9,-999.0000,9,   -999.0,  9,  -999.00,9,   -999.0,  -999.00,9,  -999.00,9,  -999.00,9,  -999.00,9,   -999.0,-999.0000, -999,9,  700,   4.6063,  27.1760,   -999.0,9
       RF00-06,  137E,RF-1141,  1,      3,02-13590,2,20000717,1205, 34.0065, 137.0000, 1099,    807.6,   4.0043,  34.3601,2,   -999.0,9,  34.3614,2,     65.1,2,   106.52,2,  -999.00,9,    38.66,2,     0.00,2,     2.77,2,    0.222,2,    0.187,2,  -999.00,9,   2324.7,3,   -999.0,9,-999.0000,9,   -999.0,  9,  -999.00,9,   -999.0,  -999.00,9,  -999.00,9,  -999.00,9,  -999.00,9,   -999.0,-999.0000, -999,9,  800,   3.9445,  27.2829,   -999.0,9
       RF00-06,  137E,RF-1141,  1,      2,02-13589,2,20000717,1203, 34.0065, 137.0000, 1099,    908.3,   3.5637,  34.4044,2,   -999.0,9,-999.0000,9,     63.7,2,   114.05,2,  -999.00,9,    39.43,2,     0.00,2,     2.82,2,    0.133,2,    0.120,2,  -999.00,9,   2330.7,3,   -999.0,9,-999.0000,9,   -999.0,  9,  -999.00,9,   -999.0,  -999.00,9,  -999.00,9,  -999.00,9,  -999.00,9,   -999.0,-999.0000, -999,9,  900,   3.4988,  27.3626,   -999.0,9
       RF00-06,  137E,RF-1141,  1,      1,02-12807,2,20000717,1159, 34.0065, 137.0000, 1099,   1022.6,   3.1989,  34.4445,2,   -999.0,9,  34.4457,2,     66.0,2,   120.06,2,  -999.00,9,    39.71,2,     0.00,2,     2.83,2,    0.084,2,    0.101,2,  -999.00,9,   2341.4,3,   -999.0,9,-999.0000,9,   -999.0,  9,  -999.00,9,   -999.0,  -999.00,9,  -999.00,9,  -999.00,9,  -999.00,9,   -999.0,-999.0000, -999,9, 1013,   3.1278,  27.4299,   -999.0,9