BOTTLE,20141201MRIJMADS
EXPOCODE,SECT_ID,STNNBR,CASTNO,SAMPNO,BTLNBR,BTLNBR_FLAG_W,DATE,TIME,LATITUDE,LONGITUDE,DEPTH,CTDPRS,CTDTMP,CTDSAL,CTDSAL_FLAG_W,CTDOXY,CTDOXY_FLAG_W,SALNTY,SALNTY_FLAG_W,OXYGEN,OXYGEN_FLAG_W,SILCAT,SILCAT_FLAG_W,NITRAT,NITRAT_FLAG_W,NO2+NO3,NO2+NO3_FLAG_W,NITRIT,NITRIT_FLAG_W,PHSPHT,PHSPHT_FLAG_W,CFC-11,CFC-11_FLAG_W,CFC-12,CFC-12_FLAG_W,DELC13,DELC13_FLAG_W,TCARBN,TCARBN_FLAG_W,ALKALI,ALKALI_FLAG_W,PH,PH_FLAG_W,PH_TMP,PH_SCALE,PH_NBS,PH_NBS_FLAG_W,C13ERR,TOTALP,TOTALP_FLAG_W,AMMONI,AMMONI_FLAG_W,CHLORA,CHLORA_FLAG_W,PPHYTN,PPHYTN_FLAG_W,REVPRS,REVTMP,DEPTH_,DEPTH_FLAG,CTDDEP,THETA,SIGTHT,DOC,DOC_FLAG_W
,,,,,,,GMT,GMT,,,METER,DBAR,ITS-90,PSS-78,,UMOL/KG,,PSS-78,,UMOL/KG,,UMOL/KG,,UMOL/KG,,UMOL/KG,,UMOL/KG,,UMOL/KG,,PMOL/KG,,PMOL/KG,,/MILLE,,UMOL/KG,,UMOL/KG,,25_DEG_C,,DEG_C,,,,/MILLE,UMOL/KG,,UMOL/KG,,UG/L,,UG/L,,DBAR,ITS-90,METERS,,METERS,DEG_C,,UMOL/L,
       RF00-06,  137E,RF-1108,  1,     22,02-12828,2,20000629,0658, 14.8952, 136.5935, 5134,    101.4,  27.9994,  34.9170,2,   -999.0,9,  34.9342,4,   -999.0,9,  -999.00,9,  -999.00,9,  -999.00,9,  -999.00,9,  -999.00,9, -999.000,9, -999.000,9,  -999.00,9,   -999.0,9,   -999.0,9,-999.0000,9,   -999.0,  9,  -999.00,9,   -999.0,  -999.00,9,  -999.00,9,  -999.00,9,  -999.00,9,   -999.0,-999.0000, -999,9,  101,  27.9755,  22.3402,   -999.0,9
       RF00-06,  137E,RF-1108,  1,     20,02-12826,2,20000629,0655, 14.8952, 136.5935, 5134,    201.5,  23.1303,  35.0216,2,   -999.0,9,  35.0311,2,   -999.0,9,  -999.00,9,  -999.00,9,  -999.00,9,  -999.00,9,  -999.00,9, -999.000,9, -999.000,9,  -999.00,9,   -999.0,9,   -999.0,9,-999.0000,9,   -999.0,  9,  -999.00,9,   -999.0,  -999.00,9,  -999.00,9,  -999.00,9,  -999.00,9,   -999.0,-999.0000, -999,9,  200,  23.0889,  23.9243,   -999.0,9
       RF00-06,  137E,RF-1108,  1,     18,02-12830,2,20000629,0653, 14.8952, 136.5935, 5134,    301.7,  13.6627,  34.4878,2,   -999.0,9,  34.4970,2,   -999.0,9,  -999.00,9,  -999.00,9,  -999.00,9,  -999.00,9,  -999.00,9, -999.000,9, -999.000,9,  -999.00,9,   -999.0,9,   -999.0,9,-999.0000,9,   -999.0,  9,  -999.00,9,   -999.0,  -999.00,9,  -999.00,9,  -999.00,9,  -999.00,9,   -999.0,-999.0000, -999,9,  300,  13.6198,  25.8702,   -999.0,9
       RF00-06,  137E,RF-1108,  1,     16,02-13588,2,20000629,0650, 14.8952, 136.5935, 5134,    403.2,  10.4153,  34.3266,2,   -999.0,9,  34.3196,4,   -999.0,9,  -999.00,9,  -999.00,9,  -999.00,9,  -999.00,9,  -999.00,9, -999.000,9, -999.000,9,  -999.00,9,   -999.0,9,   -999.0,9,-999.0000,9,   -999.0,  9,  -999.00,9,   -999.0,  -999.00,9,  -999.00,9,  -999.00,9,  -999.00,9,   -999.0,-999.0000, -999,9,  400,  10.3672,  26.3630,   -999.0,9
       RF00-06,  137E,RF-1108,  1,     14,02-13579,2,20000629,0647, 14.8952, 136.5935, 5134,    504.9,   8.0377,  34.3516,2,   -999.0,9,  34.3465,2,   -999.0,9,  -999.00,9,  -999.00,9,  -999.00,9,  -999.00,9,  -999.00,9, -999.000,9, -999.000,9,  -999.00,9,   -999.0,9,   -999.0,9,-999.0000,9,   -999.0,  9,  -999.00,9,   -999.0,  -999.00,9,  -999.00,9,  -999.00,9,  -999.00,9,   -999.0,-999.0000, -999,9,  501,   7.9859,  26.7666,   -999.0,9
       RF00-06,  137E,RF-1108,  1,     12,02-12821,2,20000629,0644, 14.8952, 136.5935, 5134,    605.4,   6.9302,  34.4067,2,   -999.0,9,  34.4102,2,   -999.0,9,  -999.00,9,  -999.00,9,  -999.00,9,  -999.00,9,  -999.00,9, -999.000,9, -999.000,9,  -999.00,9,   -999.0,9,   -999.0,9,-999.0000,9,   -999.0,  9,  -999.00,9,   -999.0,  -999.00,9,  -999.00,9,  -999.00,9,  -999.00,9,   -999.0,-999.0000, -999,9,  601,   6.8727,  26.9689,   -999.0,9
       RF00-06,  137E,RF-1108,  1,     10,02-12820,2,20000629,0641, 14.8952, 136.5935, 5134,    707.0,   5.8657,  34.4554,2,   -999.0,9,  34.4587,2,   -999.0,9,  -999.00,9,  -999.00,9,  -999.00,9,  -999.00,9,  -999.00,9, -999.000,9, -999.000,9,  -999.00,9,   -999.0,9,   -999.0,9,-999.0000,9,   -999.0,  9,  -999.00,9,   -999.0,  -999.00,9,  -999.00,9,  -999.00,9,  -999.00,9,   -999.0,-999.0000, -999,9,  702,   5.8037,  27.1470,   -999.0,9
       RF00-06,  137E,RF-1108,  1,      8,02-12819,2,20000629,0637, 14.8952, 136.5935, 5134,    808.2,   5.2776,  34.4902,2,   -999.0,9,  34.4906,2,   -999.0,9,  -999.00,9,  -999.00,9,  -999.00,9,  -999.00,9,  -999.00,9, -999.000,9, -999.000,9,  -999.00,9,   -999.0,9,   -999.0,9,-999.0000,9,   -999.0,  9,  -999.00,9,   -999.0,  -999.00,9,  -999.00,9,  -999.00,9,  -999.00,9,   -999.0,-999.0000, -999,9,  802,   5.2097,  27.2466,   -999.0,9
       RF00-06,  137E,RF-1108,  1,      6,02-12818,2,20000629,0632, 14.8952, 136.5935, 5134,   1009.6,   4.3240,  34.5286,2,   -999.0,9,  34.5283,2,   -999.0,9,  -999.00,9,  -999.00,9,  -999.00,9,  -999.00,9,  -999.00,9, -999.000,9, -999.000,9,  -999.00,9,   -999.0,9,   -999.0,9,-999.0000,9,   -999.0,  9,  -999.00,9,   -999.0,  -999.00,9,  -999.00,9,  -999.00,9,  -999.00,9,   -999.0,-999.0000, -999,9, 1001,   4.2450,  27.3854,   -999.0,9
       RF00-06,  137E,RF-1108,  1,      4,02-12817,2,20000629,0626, 14.8952, 136.5935, 5134,   1261.5,   3.3598,  34.5568,2,   -999.0,9,  34.5560,2,   -999.0,9,  -999.00,9,  -999.00,9,  -999.00,9,  -999.00,9,  -999.00,9, -999.000,9, -999.000,9,  -999.00,9,   -999.0,9,   -999.0,9,-999.0000,9,   -999.0,  9,  -999.00,9,   -999.0,  -999.00,9,  -999.00,9,  -999.00,9,  -999.00,9,   -999.0,-999.0000, -999,9, 1250,   3.2680,  27.5063,   -999.0,9
       RF00-06,  137E,RF-1108,  1,      2,02-13589,2,20000629,0620, 14.8952, 136.5935, 5134,   1527.1,   2.7119,  34.5924,2,   -999.0,9,  34.5909,2,   -999.0,9,  -999.00,9,  -999.00,9,  -999.00,9,  -999.00,9,  -999.00,9, -999.000,9, -999.000,9,  -999.00,9,   -999.0,9,   -999.0,9,-999.0000,9,   -999.0,  9,  -999.00,9,   -999.0,  -999.00,9,  -999.00,9,  -999.00,9,  -999.00,9,   -999.0,-999.0000, -999,9, 1513,   2.6052,  27.5950,   -999.0,9
       RF00-06,  137E,RF-1109,  1,     -9,      -9,5,20000708,0916,  2.9867, 137.0152, 4515,      0.0,  29.8381,  34.3883,2,   -999.0,9,-999.0000,9,    197.3,2,     1.42,2,  -999.00,9,     0.00,2,     0.00,2,     0.07,2, -999.000,9, -999.000,9,  -999.00,9,   1910.8,6,   -999.0,9,-999.0000,9,   -999.0,  9,  -999.00,9,   -999.0,  -999.00,9,  -999.00,9,     0.08,2,     0.02,2,   -999.0,-999.0000, -999,9,    0,  29.8381,  21.3228,   -999.0,9
       RF00-06,  137E,RF-1109,  1,     21,02-12827,2,20000708,0914,  2.9867, 137.0152, 4515,     10.4,  29.8447,  34.3888,2,   -999.0,9,-999.0000,9,    196.6,2,     1.41,2,  -999.00,9,     0.00,2,     0.00,2,     0.05,2, -999.000,9, -999.000,9,  -999.00,9,   1910.5,2,   -999.0,9,-999.0000,9,   -999.0,  9,  -999.00,9,   -999.0,  -999.00,9,  -999.00,9,     0.10,2,     0.02,2,   -999.0,-999.0000, -999,9,   10,  29.8421,  21.3218,   -999.0,9
       RF00-06,  137E,RF-1109,  1,     20,02-12826,2,20000708,0913,  2.9867, 137.0152, 4515,     25.7,  29.8511,  34.3884,2,   -999.0,9,-999.0000,9,    195.4,2,     1.40,2,  -999.00,9,     0.00,2,     0.00,2,     0.06,2, -999.000,9, -999.000,9,  -999.00,9,   1910.0,2,   -999.0,9,-999.0000,9,   -999.0,  9,  -999.00,9,   -999.0,  -999.00,9,  -999.00,9,     0.10,2,     0.03,2,   -999.0,-999.0000, -999,9,   26,  29.8448,  21.3206,   -999.0,9
       RF00-06,  137E,RF-1109,  1,     19,02-12825,3,20000708,0912,  2.9867, 137.0152, 4515,     51.4,  29.9125,  34.6712,2,   -999.0,9,-999.0000,9,    195.1,2,     1.46,2,  -999.00,9,     0.00,2,     0.00,2,     0.10,2, -999.000,9, -999.000,9,  -999.00,9,   1938.4,2,   -999.0,9,-999.0000,9,   -999.0,  9,  -999.00,9,   -999.0,  -999.00,9,  -999.00,9,     0.15,2,     0.05,2,   -999.0,-999.0000, -999,9,   51,  29.8998,  21.5138,   -999.0,9
       RF00-06,  137E,RF-1109,  1,     18,02-12830,2,20000708,0911,  2.9867, 137.0152, 4515,     75.4,  29.2091,  35.1469,2,   -999.0,9,-999.0000,9,    186.5,2,     1.74,2,  -999.00,9,     0.57,2,     0.23,2,     0.23,2, -999.000,9, -999.000,9,  -999.00,9,   1985.8,2,   -999.0,9,-999.0000,9,   -999.0,  9,  -999.00,9,   -999.0,  -999.00,9,  -999.00,9,     0.44,2,     0.46,2,   -999.0,-999.0000, -999,9,   75,  29.1908,  22.1104,   -999.0,9
       RF00-06,  137E,RF-1109,  1,     17,02-12815,2,20000708,0909,  2.9867, 137.0152, 4515,    101.1,  28.6890,  35.2201,2,   -999.0,9,  35.2366,4,    176.0,2,     1.97,2,  -999.00,9,     2.30,2,     0.34,2,     0.29,2, -999.000,9, -999.000,9,  -999.00,9,   2001.9,6,   -999.0,9,-999.0000,9,   -999.0,  9,  -999.00,9,   -999.0,  -999.00,9,  -999.00,9,     0.33,2,     0.40,2,   -999.0,-999.0000, -999,9,  101,  28.6648,  22.3411,   -999.0,9
       RF00-06,  137E,RF-1109,  1,     16,02-12818,2,20000708,0908,  2.9867, 137.0152, 4515,    126.6,  28.2845,  35.2631,2,   -999.0,9,-999.0000,9,    171.7,2,     2.18,2,  -999.00,9,     3.60,2,     0.05,2,     0.37,2, -999.000,9, -999.000,9,  -999.00,9,   2010.0,2,   -999.0,9,-999.0000,9,   -999.0,  9,  -999.00,9,   -999.0,  -999.00,9,  -999.00,9,     0.15,2,     0.27,2,   -999.0,-999.0000, -999,9,  126,  28.2544,  22.5091,   -999.0,9
       RF00-06,  137E,RF-1109,  1,     15,02-12809,2,20000708,0907,  2.9867, 137.0152, 4515,    150.6,  27.1211,  35.3452,2,   -999.0,9,-999.0000,9,    158.1,2,     2.64,2,  -999.00,9,     5.82,2,     0.03,2,     0.48,2, -999.000,9, -999.000,9,  -999.00,9,   2033.5,2,   -999.0,9,-999.0000,9,   -999.0,  9,  -999.00,9,   -999.0,  -999.00,9,  -999.00,9,     0.04,2,     0.08,2,   -999.0,-999.0000, -999,9,  150,  27.0864,  22.9501,   -999.0,9
       RF00-06,  137E,RF-1109,  1,     14,02-12817,2,20000708,0906,  2.9867, 137.0152, 4515,    201.4,  17.1453,  34.8636,2,   -999.0,9,  34.8962,4,    141.7,2,    12.62,2,  -999.00,9,    13.41,2,     0.00,2,     0.91,2, -999.000,9, -999.000,9,  -999.00,9,   2099.7,2,   -999.0,9,-999.0000,9,   -999.0,  9,  -999.00,9,   -999.0,  -999.00,9,  -999.00,9,     0.00,2,     0.03,2,   -999.0,-999.0000, -999,9,  200,  17.1119,  25.3829,   -999.0,9
       RF00-06,  137E,RF-1109,  1,     13,02-12808,2,20000708,0904,  2.9867, 137.0152, 4515,    252.5,  15.5040,  35.2229,2,   -999.0,9,-999.0000,9,    150.1,2,     9.33,2,  -999.00,9,    14.85,2,     0.00,2,     1.01,2, -999.000,9, -999.000,9,  -999.00,9,   2124.0,2,   -999.0,9,-999.0000,9,   -999.0,  9,  -999.00,9,   -999.0,  -999.00,9,  -999.00,9,  -999.00,9,  -999.00,9,   -999.0,-999.0000, -999,9,  251,  15.4647,  26.0406,   -999.0,9
       RF00-06,  137E,RF-1109,  1,     12,02-12821,2,20000708,0903,  2.9867, 137.0152, 4515,    304.3,  11.4150,  34.5400,2,   -999.0,9,  34.5291,4,    118.5,2,    26.59,2,  -999.00,9,    22.90,2,     0.00,2,     1.57,2, -999.000,9, -999.000,9,  -999.00,9,   2163.5,2,   -999.0,9,-999.0000,9,   -999.0,  9,  -999.00,9,   -999.0,  -999.00,9,  -999.00,9,  -999.00,9,  -999.00,9,   -999.0,-999.0000, -999,9,  302,  11.3766,  26.3486,   -999.0,9
       RF00-06,  137E,RF-1109,  1,     11,02-12811,2,20000708,0900,  2.9867, 137.0152, 4515,    404.7,   8.4317,  34.6168,2,   -999.0,9,-999.0000,9,    114.6,2,    31.47,2,  -999.00,9,    29.86,2,     0.00,2,     2.02,2, -999.000,9, -999.000,9,  -999.00,9,   2202.3,2,   -999.0,9,-999.0000,9,   -999.0,  9,  -999.00,9,   -999.0,  -999.00,9,  -999.00,9,  -999.00,9,  -999.00,9,   -999.0,-999.0000, -999,9,  402,   8.3891,  26.9139,   -999.0,9
       RF00-06,  137E,RF-1109,  1,     10,02-12820,2,20000708,0858,  2.9867, 137.0152, 4515,    504.9,   7.5896,  34.5688,2,   -999.0,9,  34.5706,2,    114.0,2,    37.34,2,  -999.00,9,    31.36,2,     0.00,2,     2.14,2, -999.000,9, -999.000,9,  -999.00,9,   2214.0,2,   -999.0,9,-999.0000,9,   -999.0,  9,  -999.00,9,   -999.0,  -999.00,9,  -999.00,9,  -999.00,9,  -999.00,9,   -999.0,-999.0000, -999,9,  501,   7.5394,  27.0028,   -999.0,9
       RF00-06,  137E,RF-1109,  1,      9,02-12810,2,20000708,0854,  2.9867, 137.0152, 4515,    605.6,   6.7673,  34.5437,2,   -999.0,9,  34.5417,2,    111.7,2,    45.22,2,  -999.00,9,    33.17,2,     0.00,2,     2.29,2, -999.000,9, -999.000,9,  -999.00,9,   2238.8,2,   -999.0,9,-999.0000,9,   -999.0,  9,  -999.00,9,   -999.0,  -999.00,9,  -999.00,9,  -999.00,9,  -999.00,9,   -999.0,-999.0000, -999,9,  601,   6.7104,  27.0989,   -999.0,9
       RF00-06,  137E,RF-1109,  1,      8,02-12819,2,20000708,0852,  2.9867, 137.0152, 4515,    706.6,   6.0844,  34.5406,2,   -999.0,9,-999.0000,9,     85.9,2,    58.13,2,  -999.00,9,    36.75,2,     0.00,2,     2.58,2, -999.000,9, -999.000,9,  -999.00,9,   2262.6,2,   -999.0,9,-999.0000,9,   -999.0,  9,  -999.00,9,   -999.0,  -999.00,9,  -999.00,9,  -999.00,9,  -999.00,9,   -999.0,-999.0000, -999,9,  702,   6.0212,  27.1869,   -999.0,9
       RF00-06,  137E,RF-1109,  1,      7,02-13591,2,20000708,0849,  2.9867, 137.0152, 4515,    806.8,   5.3902,  34.5405,2,   -999.0,9,  34.5389,2,     85.8,2,    68.90,2,  -999.00,9,    37.51,2,     0.00,2,     2.66,2, -999.000,9, -999.000,9,  -999.00,9,   2277.0,2,   -999.0,9,-999.0000,9,   -999.0,  9,  -999.00,9,   -999.0,  -999.00,9,  -999.00,9,  -999.00,9,  -999.00,9,   -999.0,-999.0000, -999,9,  801,   5.3217,  27.2732,   -999.0,9
       RF00-06,  137E,RF-1109,  1,      6,02-13588,2,20000708,0847,  2.9867, 137.0152, 4515,    909.0,   4.8126,  34.5497,2,   -999.0,9,-999.0000,9,     89.2,2,    78.34,2,  -999.00,9,    37.92,2,     0.00,2,     2.70,2, -999.000,9, -999.000,9,  -999.00,9,   2288.3,2,   -999.0,9,-999.0000,9,   -999.0,  9,  -999.00,9,   -999.0,  -999.00,9,  -999.00,9,  -999.00,9,  -999.00,9,   -999.0,-999.0000, -999,9,  902,   4.7387,  27.3481,   -999.0,9
       RF00-06,  137E,RF-1109,  1,      5,02-10155,2,20000708,0844,  2.9867, 137.0152, 4515,   1012.2,   4.3619,  34.5605,2,   -999.0,9,  34.5578,2,     90.0,2,    86.97,2,  -999.00,9,    38.33,2,     0.00,2,     2.72,2, -999.000,9, -999.000,9,  -999.00,9,   2297.7,2,   -999.0,9,-999.0000,9,   -999.0,  9,  -999.00,9,   -999.0,  -999.00,9,  -999.00,9,  -999.00,9,  -999.00,9,   -999.0,-999.0000, -999,9, 1004,   4.2823,  27.4068,   -999.0,9
       RF00-06,  137E,RF-1109,  1,      4,02-13579,2,20000708,0839,  2.9867, 137.0152, 4515,   1262.7,   3.4379,  34.5870,2,   -999.0,9,  34.5942,2,     98.4,2,   104.34,2,  -999.00,9,    38.33,2,     0.00,2,     2.72,2, -999.000,9, -999.000,9,  -999.00,9,   2314.7,2,   -999.0,9,-999.0000,9,   -999.0,  9,  -999.00,9,   -999.0,  -999.00,9,  -999.00,9,  -999.00,9,  -999.00,9,   -999.0,-999.0000, -999,9, 1252,   3.3452,  27.5231,   -999.0,9
       RF00-06,  137E,RF-1109,  1,      3,02-13590,2,20000708,0835,  2.9867, 137.0152, 4515,   1514.8,   2.8333,  34.6100,2,   -999.0,9,  34.6058,2,    104.5,2,   115.97,2,  -999.00,9,    38.53,2,     0.00,2,     2.72,2, -999.000,9, -999.000,9,  -999.00,9,   2328.1,2,   -999.0,9,-999.0000,9,   -999.0,  9,  -999.00,9,   -999.0,  -999.00,9,  -999.00,9,  -999.00,9,  -999.00,9,   -999.0,-999.0000, -999,9, 1501,   2.7261,  27.5984,   -999.0,9
       RF00-06,  137E,RF-1109,  1,      2,02-13589,2,20000708,0831,  2.9867, 137.0152, 4515,   1769.5,   2.4856,  34.6271,2,   -999.0,9,  34.6231,2,    111.9,2,   121.41,2,  -999.00,9,    38.16,2,     0.00,2,     2.68,2, -999.000,9, -999.000,9,  -999.00,9,   2326.7,2,   -999.0,9,-999.0000,9,   -999.0,  9,  -999.00,9,   -999.0,  -999.00,9,  -999.00,9,  -999.00,9,  -999.00,9,   -999.0,-999.0000, -999,9, 1752,   2.3616,  27.6434,   -999.0,9
       RF00-06,  137E,RF-1109,  1,      1,02-12807,2,20000708,0827,  2.9867, 137.0152, 4515,   2033.1,   2.1914,  34.6386,2,   -999.0,9,  34.6398,2,    116.5,2,   127.22,2,  -999.00,9,    38.01,2,     0.00,2,     2.65,2, -999.000,9, -999.000,9,  -999.00,9,   2331.9,2,   -999.0,9,-999.0000,9,   -999.0,  9,  -999.00,9,   -999.0,  -999.00,9,  -999.00,9,  -999.00,9,  -999.00,9,   -999.0,-999.0000, -999,9, 2012,   2.0492,  27.6782,   -999.0,9