BOTTLE,20141201MRIJMADS
EXPOCODE,SECT_ID,STNNBR,CASTNO,SAMPNO,BTLNBR,BTLNBR_FLAG_W,DATE,TIME,LATITUDE,LONGITUDE,DEPTH,CTDPRS,CTDTMP,CTDSAL,CTDSAL_FLAG_W,CTDOXY,CTDOXY_FLAG_W,SALNTY,SALNTY_FLAG_W,OXYGEN,OXYGEN_FLAG_W,SILCAT,SILCAT_FLAG_W,NITRAT,NITRAT_FLAG_W,NO2+NO3,NO2+NO3_FLAG_W,NITRIT,NITRIT_FLAG_W,PHSPHT,PHSPHT_FLAG_W,CFC-11,CFC-11_FLAG_W,CFC-12,CFC-12_FLAG_W,DELC13,DELC13_FLAG_W,TCARBN,TCARBN_FLAG_W,ALKALI,ALKALI_FLAG_W,PH,PH_FLAG_W,PH_TMP,PH_SCALE,PH_NBS,PH_NBS_FLAG_W,C13ERR,TOTALP,TOTALP_FLAG_W,AMMONI,AMMONI_FLAG_W,CHLORA,CHLORA_FLAG_W,PPHYTN,PPHYTN_FLAG_W,REVPRS,REVTMP,DEPTH_,DEPTH_FLAG,CTDDEP,THETA,SIGTHT,DOC,DOC_FLAG_W
,,,,,,,GMT,GMT,,,METER,DBAR,ITS-90,PSS-78,,UMOL/KG,,PSS-78,,UMOL/KG,,UMOL/KG,,UMOL/KG,,UMOL/KG,,UMOL/KG,,UMOL/KG,,PMOL/KG,,PMOL/KG,,/MILLE,,UMOL/KG,,UMOL/KG,,25_DEG_C,,DEG_C,,,,/MILLE,UMOL/KG,,UMOL/KG,,UG/L,,UG/L,,DBAR,ITS-90,METERS,,METERS,DEG_C,,UMOL/L,
       RF00-06,  142E,RF-1070,  1,     -9,      -9,5,20000622,0242, 33.5013, 141.5133, 5805,      0.0,  24.4451,  34.3924,2,   -999.0,9,-999.0000,9,    212.4,2,     1.81,2,  -999.00,9,     0.14,2,     0.00,2,     0.05,2, -999.000,9, -999.000,9,  -999.00,9,   -999.0,9,   -999.0,9,-999.0000,9,   -999.0,  9,     8.22,2,   -999.0,  -999.00,9,  -999.00,9,     0.14,2,     0.03,2,   -999.0,-999.0000, -999,9,    0,  24.4451,  23.0492,   -999.0,9
       RF00-06,  142E,RF-1070,  1,     22,02-12828,2,20000622,0238, 33.5013, 141.5133, 5805,     10.2,  24.4059,  34.3879,2,   -999.0,9,-999.0000,9,    212.8,2,     1.57,2,  -999.00,9,     0.03,2,     0.00,2,     0.02,2, -999.000,9, -999.000,9,  -999.00,9,   -999.0,9,   -999.0,9,-999.0000,9,   -999.0,  9,     8.22,2,   -999.0,  -999.00,9,  -999.00,9,     0.17,2,     0.03,2,   -999.0,-999.0000, -999,9,   10,  24.4037,  23.0581,   -999.0,9
       RF00-06,  142E,RF-1070,  1,     21,02-12827,2,20000622,0237, 33.5013, 141.5133, 5805,     24.4,  23.1625,  34.5974,2,   -999.0,9,-999.0000,9,    217.7,2,     1.54,2,  -999.00,9,     0.03,2,     0.00,2,     0.02,2, -999.000,9, -999.000,9,  -999.00,9,   -999.0,9,   -999.0,9,-999.0000,9,   -999.0,  9,     8.21,2,   -999.0,  -999.00,9,  -999.00,9,     0.18,2,     0.05,2,   -999.0,-999.0000, -999,9,   24,  23.1575,  23.5829,   -999.0,9
       RF00-06,  142E,RF-1070,  1,     20,02-12826,2,20000622,0235, 33.5013, 141.5133, 5805,     49.8,  21.3113,  34.7400,2,   -999.0,9,-999.0000,9,    201.9,2,     2.54,2,  -999.00,9,     1.77,2,     0.07,2,     0.12,2, -999.000,9, -999.000,9,  -999.00,9,   -999.0,9,   -999.0,9,-999.0000,9,   -999.0,  9,     8.16,2,   -999.0,  -999.00,9,  -999.00,9,     0.36,2,     0.19,2,   -999.0,-999.0000, -999,9,   49,  21.3017,  24.2137,   -999.0,9
       RF00-06,  142E,RF-1070,  1,     19,02-12825,2,20000622,0233, 33.5013, 141.5133, 5805,     75.1,  20.3714,  34.7705,2,   -999.0,9,-999.0000,9,    204.2,2,     2.78,2,  -999.00,9,     2.07,2,     0.06,2,     0.13,2, -999.000,9, -999.000,9,  -999.00,9,   -999.0,9,   -999.0,9,-999.0000,9,   -999.0,  9,     8.15,2,   -999.0,  -999.00,9,  -999.00,9,     0.13,2,     0.08,2,   -999.0,-999.0000, -999,9,   75,  20.3573,  24.4920,   -999.0,9
       RF00-06,  142E,RF-1070,  1,     18,02-12830,2,20000622,0232, 33.5013, 141.5133, 5805,    100.6,  19.7859,  34.7457,2,   -999.0,9,  34.7723,4,    199.5,2,     3.35,2,  -999.00,9,     2.89,2,     0.02,2,     0.18,2, -999.000,9, -999.000,9,  -999.00,9,   -999.0,9,   -999.0,9,-999.0000,9,   -999.0,  9,     8.14,2,   -999.0,  -999.00,9,  -999.00,9,     0.04,2,     0.04,2,   -999.0,-999.0000, -999,9,  100,  19.7675,  24.6287,   -999.0,9
       RF00-06,  142E,RF-1070,  1,     17,02-13591,2,20000622,0231, 33.5013, 141.5133, 5805,    125.9,  19.5398,  34.7878,2,   -999.0,9,-999.0000,9,    203.6,2,     2.97,2,  -999.00,9,     2.52,2,     0.02,2,     0.15,2, -999.000,9, -999.000,9,  -999.00,9,   -999.0,9,   -999.0,9,-999.0000,9,   -999.0,  9,     8.14,2,   -999.0,  -999.00,9,  -999.00,9,     0.03,2,     0.04,2,   -999.0,-999.0000, -999,9,  125,  19.5169,  24.7261,   -999.0,9
       RF00-06,  142E,RF-1070,  1,     16,02-13588,2,20000622,0229, 33.5013, 141.5133, 5805,    151.2,  19.2977,  34.7918,2,   -999.0,9,-999.0000,9,    208.3,2,     2.73,2,  -999.00,9,     2.22,2,     0.02,2,     0.13,2, -999.000,9, -999.000,9,  -999.00,9,   -999.0,9,   -999.0,9,-999.0000,9,   -999.0,  9,     8.15,2,   -999.0,  -999.00,9,  -999.00,9,     0.04,2,     0.03,2,   -999.0,-999.0000, -999,9,  150,  19.2705,  24.7928,   -999.0,9
       RF00-06,  142E,RF-1070,  1,     15,02-10155,2,20000622,0227, 33.5013, 141.5133, 5805,    201.7,  18.9266,  34.8054,2,   -999.0,9,  34.8123,2,    212.9,2,     2.69,2,  -999.00,9,     1.96,2,     0.01,2,     0.11,2, -999.000,9, -999.000,9,  -999.00,9,   -999.0,9,   -999.0,9,-999.0000,9,   -999.0,  9,     8.15,2,   -999.0,  -999.00,9,  -999.00,9,     0.02,2,     0.03,2,   -999.0,-999.0000, -999,9,  200,  18.8908,  24.9002,   -999.0,9
       RF00-06,  142E,RF-1070,  1,     14,02-13579,2,20000622,0225, 33.5013, 141.5133, 5805,    251.2,  17.9745,  34.7779,2,   -999.0,9,-999.0000,9,    195.8,2,     4.65,2,  -999.00,9,     4.95,2,     0.00,2,     0.27,2, -999.000,9, -999.000,9,  -999.00,9,   -999.0,9,   -999.0,9,-999.0000,9,   -999.0,  9,     8.11,2,   -999.0,  -999.00,9,  -999.00,9,  -999.00,9,  -999.00,9,   -999.0,-999.0000, -999,9,  249,  17.9314,  25.1188,   -999.0,9
       RF00-06,  142E,RF-1070,  1,     13,02-13590,2,20000622,0223, 33.5013, 141.5133, 5805,    302.7,  17.5240,  34.7624,2,   -999.0,9,  34.7750,4,    192.5,2,     5.56,2,  -999.00,9,     6.01,2,     0.00,2,     0.33,2, -999.000,9, -999.000,9,  -999.00,9,   -999.0,9,   -999.0,9,-999.0000,9,   -999.0,  9,     8.12,2,   -999.0,  -999.00,9,  -999.00,9,  -999.00,9,  -999.00,9,   -999.0,-999.0000, -999,9,  300,  17.4729,  25.2186,   -999.0,9
       RF00-06,  142E,RF-1070,  1,     12,02-12821,2,20000622,0221, 33.5013, 141.5133, 5805,    402.5,  16.0585,  34.6913,2,   -999.0,9,  34.6930,2,    191.5,2,     9.14,2,  -999.00,9,     8.81,2,     0.00,2,     0.52,2, -999.000,9, -999.000,9,  -999.00,9,   -999.0,9,   -999.0,9,-999.0000,9,   -999.0,  9,  -999.00,9,   -999.0,  -999.00,9,  -999.00,9,  -999.00,9,  -999.00,9,   -999.0,-999.0000, -999,9,  399,  15.9945,  25.5114,   -999.0,9
       RF00-06,  142E,RF-1070,  1,     11,02-12811,2,20000622,0219, 33.5013, 141.5133, 5805,    502.2,  11.9731,  34.4310,2,   -999.0,9,  34.4257,2,    164.2,2,    25.72,2,  -999.00,9,    17.36,2,     0.00,2,     1.11,2, -999.000,9, -999.000,9,  -999.00,9,   -999.0,9,   -999.0,9,-999.0000,9,   -999.0,  9,  -999.00,9,   -999.0,  -999.00,9,  -999.00,9,  -999.00,9,  -999.00,9,   -999.0,-999.0000, -999,9,  498,  11.9072,  26.1648,   -999.0,9
       RF00-06,  142E,RF-1070,  1,     10,02-12820,2,20000622,0217, 33.5013, 141.5133, 5805,    604.6,   8.6908,  34.2713,2,   -999.0,9,  34.2646,2,    132.1,2,    48.00,2,  -999.00,9,    25.80,2,     0.00,2,     1.73,2, -999.000,9, -999.000,9,  -999.00,9,   -999.0,9,   -999.0,9,-999.0000,9,   -999.0,  9,  -999.00,9,   -999.0,  -999.00,9,  -999.00,9,  -999.00,9,  -999.00,9,   -999.0,-999.0000, -999,9,  599,   8.6256,  26.6064,   -999.0,9
       RF00-06,  142E,RF-1070,  1,      9,02-12810,2,20000622,0214, 33.5013, 141.5133, 5805,    706.5,   6.8709,  34.2083,2,   -999.0,9,  34.2080,2,    112.8,2,    64.75,2,  -999.00,9,    30.49,2,     0.00,2,     2.11,2, -999.000,9, -999.000,9,  -999.00,9,   -999.0,9,   -999.0,9,-999.0000,9,   -999.0,  9,  -999.00,9,   -999.0,  -999.00,9,  -999.00,9,  -999.00,9,  -999.00,9,   -999.0,-999.0000, -999,9,  700,   6.8038,  26.8219,   -999.0,9
       RF00-06,  142E,RF-1070,  1,      8,02-12819,2,20000622,0212, 33.5013, 141.5133, 5805,    806.9,   5.5500,  34.2817,2,   -999.0,9,  34.2765,2,     84.8,2,    85.58,2,  -999.00,9,    34.85,2,     0.00,2,     2.45,2, -999.000,9, -999.000,9,  -999.00,9,   -999.0,9,   -999.0,9,-999.0000,9,   -999.0,  9,  -999.00,9,   -999.0,  -999.00,9,  -999.00,9,  -999.00,9,  -999.00,9,   -999.0,-999.0000, -999,9,  800,   5.4808,  27.0492,   -999.0,9
       RF00-06,  142E,RF-1070,  1,      7,02-12815,2,20000622,0210, 33.5013, 141.5133, 5805,    907.8,   4.7560,  34.3294,2,   -999.0,9,-999.0000,9,     74.3,2,    98.42,2,  -999.00,9,    36.89,2,     0.00,2,     2.63,2, -999.000,9, -999.000,9,  -999.00,9,   -999.0,9,   -999.0,9,-999.0000,9,   -999.0,  9,  -999.00,9,   -999.0,  -999.00,9,  -999.00,9,  -999.00,9,  -999.00,9,   -999.0,-999.0000, -999,9,  899,   4.6829,  27.1794,   -999.0,9
       RF00-06,  142E,RF-1070,  1,      5,02-12809,2,20000622,0207, 33.5013, 141.5133, 5805,   1008.5,   4.1058,  34.3746,2,   -999.0,9,  34.3683,2,     67.2,2,   109.36,2,  -999.00,9,    38.36,2,     0.00,2,     2.75,2, -999.000,9, -999.000,9,  -999.00,9,   -999.0,9,   -999.0,9,-999.0000,9,   -999.0,  9,  -999.00,9,   -999.0,  -999.00,9,  -999.00,9,  -999.00,9,  -999.00,9,   -999.0,-999.0000, -999,9,  999,   4.0288,  27.2857,   -999.0,9
       RF00-06,  142E,RF-1070,  1,      6,02-12818,2,20000622,0207, 33.5013, 141.5133, 5805,   1009.5,   4.1255,  34.3697,2,   -999.0,9,-999.0000,9,   -999.0,9,  -999.00,9,  -999.00,9,  -999.00,9,  -999.00,9,  -999.00,9, -999.000,9, -999.000,9,  -999.00,9,   -999.0,9,   -999.0,9,-999.0000,9,   -999.0,  9,  -999.00,9,   -999.0,  -999.00,9,  -999.00,9,  -999.00,9,  -999.00,9,   -999.0,-999.0000, -999,9, 1000,   4.0483,  27.2797,   -999.0,9
       RF00-06,  142E,RF-1070,  1,      4,02-12817,2,20000622,0203, 33.5013, 141.5133, 5805,   1261.6,   3.1018,  34.4481,2,   -999.0,9,  34.4432,2,     58.5,2,   129.19,2,  -999.00,9,    40.16,2,     0.00,2,     2.89,2, -999.000,9, -999.000,9,  -999.00,9,   -999.0,9,   -999.0,9,-999.0000,9,   -999.0,  9,  -999.00,9,   -999.0,  -999.00,9,  -999.00,9,  -999.00,9,  -999.00,9,   -999.0,-999.0000, -999,9, 1249,   3.0127,  27.4434,   -999.0,9
       RF00-06,  142E,RF-1070,  1,      3,02-12808,2,20000622,0159, 33.5013, 141.5133, 5805,   1514.9,   2.5426,  34.5047,2,   -999.0,9,  34.5045,2,     56.5,2,   142.17,2,  -999.00,9,    40.85,2,     0.00,2,     2.93,2, -999.000,9, -999.000,9,  -999.00,9,   -999.0,9,   -999.0,9,-999.0000,9,   -999.0,  9,  -999.00,9,   -999.0,  -999.00,9,  -999.00,9,  -999.00,9,  -999.00,9,   -999.0,-999.0000, -999,9, 1499,   2.4390,  27.5390,   -999.0,9
       RF00-06,  142E,RF-1070,  1,      2,02-13589,2,20000622,0154, 33.5013, 141.5133, 5805,   1769.9,   2.2026,  34.5556,2,   -999.0,9,  34.5554,2,     64.8,2,   148.54,2,  -999.00,9,    40.69,2,     0.00,2,     2.90,2, -999.000,9, -999.000,9,  -999.00,9,   -999.0,9,   -999.0,9,-999.0000,9,   -999.0,  9,  -999.00,9,   -999.0,  -999.00,9,  -999.00,9,  -999.00,9,  -999.00,9,   -999.0,-999.0000, -999,9, 1750,   2.0825,  27.6091,   -999.0,9
       RF00-06,  142E,RF-1070,  1,      1,02-12807,2,20000622,0150, 33.5013, 141.5133, 5805,   2035.5,   1.9549,  34.5985,2,   -999.0,9,  34.5969,2,     83.0,2,   150.31,2,  -999.00,9,    39.66,2,     0.00,2,     2.81,2, -999.000,9, -999.000,9,  -999.00,9,   -999.0,9,   -999.0,9,-999.0000,9,   -999.0,  9,  -999.00,9,   -999.0,  -999.00,9,  -999.00,9,  -999.00,9,  -999.00,9,   -999.0,-999.0000, -999,9, 2011,   1.8162,  27.6643,   -999.0,9
       RF00-06,  142E,RF-1077,  1,     24,02-10154,2,20000623,0643, 30.3923, 142.7965, 7041,    102.1,  18.3559,  34.7633,2,   -999.0,9,  34.7697,2,   -999.0,9,  -999.00,9,  -999.00,9,  -999.00,9,  -999.00,9,  -999.00,9, -999.000,9, -999.000,9,  -999.00,9,   -999.0,9,   -999.0,9,-999.0000,9,   -999.0,  9,  -999.00,9,   -999.0,  -999.00,9,  -999.00,9,  -999.00,9,  -999.00,9,   -999.0,-999.0000, -999,9,  101,  18.3381,  25.0070,   -999.0,9
       RF00-06,  142E,RF-1077,  1,     22,02-12828,2,20000623,0640, 30.3923, 142.7965, 7041,    202.5,  17.1721,  34.7527,2,   -999.0,9,  34.7603,2,   -999.0,9,  -999.00,9,  -999.00,9,  -999.00,9,  -999.00,9,  -999.00,9, -999.000,9, -999.000,9,  -999.00,9,   -999.0,9,   -999.0,9,-999.0000,9,   -999.0,  9,  -999.00,9,   -999.0,  -999.00,9,  -999.00,9,  -999.00,9,  -999.00,9,   -999.0,-999.0000, -999,9,  201,  17.1385,  25.2914,   -999.0,9
       RF00-06,  142E,RF-1077,  1,     20,02-12826,2,20000623,0637, 30.3923, 142.7965, 7041,    302.6,  16.2612,  34.7083,2,   -999.0,9,  34.7136,2,   -999.0,9,  -999.00,9,  -999.00,9,  -999.00,9,  -999.00,9,  -999.00,9, -999.000,9, -999.000,9,  -999.00,9,   -999.0,9,   -999.0,9,-999.0000,9,   -999.0,  9,  -999.00,9,   -999.0,  -999.00,9,  -999.00,9,  -999.00,9,  -999.00,9,   -999.0,-999.0000, -999,9,  300,  16.2127,  25.4744,   -999.0,9
       RF00-06,  142E,RF-1077,  1,     18,02-12830,2,20000623,0634, 30.3923, 142.7965, 7041,    403.0,  14.3037,  34.5657,2,   -999.0,9,  34.5704,2,   -999.0,9,  -999.00,9,  -999.00,9,  -999.00,9,  -999.00,9,  -999.00,9, -999.000,9, -999.000,9,  -999.00,9,   -999.0,9,   -999.0,9,-999.0000,9,   -999.0,  9,  -999.00,9,   -999.0,  -999.00,9,  -999.00,9,  -999.00,9,  -999.00,9,   -999.0,-999.0000, -999,9,  400,  14.2444,  25.7999,   -999.0,9
       RF00-06,  142E,RF-1077,  1,     16,02-13588,2,20000623,0631, 30.3923, 142.7965, 7041,    503.7,  11.4888,  34.3544,2,   -999.0,9,  34.3534,2,   -999.0,9,  -999.00,9,  -999.00,9,  -999.00,9,  -999.00,9,  -999.00,9, -999.000,9, -999.000,9,  -999.00,9,   -999.0,9,   -999.0,9,-999.0000,9,   -999.0,  9,  -999.00,9,   -999.0,  -999.00,9,  -999.00,9,  -999.00,9,  -999.00,9,   -999.0,-999.0000, -999,9,  500,  11.4245,  26.1954,   -999.0,9
       RF00-06,  142E,RF-1077,  1,     14,02-13579,2,20000623,0628, 30.3923, 142.7965, 7041,    605.0,   8.1312,  34.1451,2,   -999.0,9,  34.1444,2,   -999.0,9,  -999.00,9,  -999.00,9,  -999.00,9,  -999.00,9,  -999.00,9, -999.000,9, -999.000,9,  -999.00,9,   -999.0,9,   -999.0,9,-999.0000,9,   -999.0,  9,  -999.00,9,   -999.0,  -999.00,9,  -999.00,9,  -999.00,9,  -999.00,9,   -999.0,-999.0000, -999,9,  600,   8.0685,  26.5922,   -999.0,9
       RF00-06,  142E,RF-1077,  1,     12,02-12821,2,20000623,0625, 30.3923, 142.7965, 7041,    705.5,   6.4520,  34.1364,2,   -999.0,9,  34.1385,2,   -999.0,9,  -999.00,9,  -999.00,9,  -999.00,9,  -999.00,9,  -999.00,9, -999.000,9, -999.000,9,  -999.00,9,   -999.0,9,   -999.0,9,-999.0000,9,   -999.0,  9,  -999.00,9,   -999.0,  -999.00,9,  -999.00,9,  -999.00,9,  -999.00,9,   -999.0,-999.0000, -999,9,  699,   6.3873,  26.8205,   -999.0,9
       RF00-06,  142E,RF-1077,  1,     10,02-12820,2,20000623,0621, 30.3923, 142.7965, 7041,    805.4,   5.1185,  34.1824,2,   -999.0,9,  34.1803,2,   -999.0,9,  -999.00,9,  -999.00,9,  -999.00,9,  -999.00,9,  -999.00,9, -999.000,9, -999.000,9,  -999.00,9,   -999.0,9,   -999.0,9,-999.0000,9,   -999.0,  9,  -999.00,9,   -999.0,  -999.00,9,  -999.00,9,  -999.00,9,  -999.00,9,   -999.0,-999.0000, -999,9,  798,   5.0522,  27.0210,   -999.0,9
       RF00-06,  142E,RF-1077,  1,      8,02-12819,2,20000623,0616, 30.3923, 142.7965, 7041,   1009.3,   3.7925,  34.2979,2,   -999.0,9,  34.2290,4,   -999.0,9,  -999.00,9,  -999.00,9,  -999.00,9,  -999.00,9,  -999.00,9, -999.000,9, -999.000,9,  -999.00,9,   -999.0,9,   -999.0,9,-999.0000,9,   -999.0,  9,  -999.00,9,   -999.0,  -999.00,9,  -999.00,9,  -999.00,9,  -999.00,9,   -999.0,-999.0000, -999,9, 1000,   3.7180,  27.2562,   -999.0,9
       RF00-06,  142E,RF-1077,  1,      6,02-12818,2,20000623,0611, 30.3923, 142.7965, 7041,   1262.4,   2.9721,  34.4184,2,   -999.0,9,  34.3903,4,   -999.0,9,  -999.00,9,  -999.00,9,  -999.00,9,  -999.00,9,  -999.00,9, -999.000,9, -999.000,9,  -999.00,9,   -999.0,9,   -999.0,9,-999.0000,9,   -999.0,  9,  -999.00,9,   -999.0,  -999.00,9,  -999.00,9,  -999.00,9,  -999.00,9,   -999.0,-999.0000, -999,9, 1250,   2.8843,  27.4313,   -999.0,9
       RF00-06,  142E,RF-1077,  1,      4,02-12817,2,20000623,0605, 30.3923, 142.7965, 7041,   1530.6,   2.4979,  34.5087,2,   -999.0,9,  34.5049,2,   -999.0,9,  -999.00,9,  -999.00,9,  -999.00,9,  -999.00,9,  -999.00,9, -999.000,9, -999.000,9,  -999.00,9,   -999.0,9,   -999.0,9,-999.0000,9,   -999.0,  9,  -999.00,9,   -999.0,  -999.00,9,  -999.00,9,  -999.00,9,  -999.00,9,   -999.0,-999.0000, -999,9, 1515,   2.3936,  27.5460,   -999.0,9