BOTTLE,20130510GEMDJMAYT
EXPOCODE,SECT_ID,STNNBR,CASTNO,SAMPNO,BTLNBR,BTLNBR_FLAG_W,DATE,TIME,LATITUDE,LONGITUDE,DEPTH,CTDPRS,CTDTMP,CTDSAL,CTDSAL_FLAG_W,CTDOXY,CTDOXY_FLAG_W,SALNTY,SALNTY_FLAG_W,OXYGEN,OXYGEN_FLAG_W,SILCAT,SILCAT_FLAG_W,NITRAT,NITRAT_FLAG_W,NO2+NO3,NO2+NO3_FLAG_W,NITRIT,NITRIT_FLAG_W,PHSPHT,PHSPHT_FLAG_W,CFC-11,CFC-11_FLAG_W,CFC-12,CFC-12_FLAG_W,DELC13,DELC13_FLAG_W,TCARBN,TCARBN_FLAG_W,ALKALI,ALKALI_FLAG_W,PH,PH_FLAG_W,PH_TMP,PH_SCALE,PH_NBS,PH_NBS_FLAG_W,C13ERR,TOTALP,TOTALP_FLAG_W,AMMONI,AMMONI_FLAG_W,CHLORA,CHLORA_FLAG_W,PPHYTN,PPHYTN_FLAG_W,REVPRS,REVTMP,DEPTH_,DEPTH_FLAG,CTDDEP,THETA,SIGTHT,DOC,DOC_FLAG_W
,,,,,,,GMT,GMT,,,METER,DBAR,ITS-90,PSS-78,,UMOL/KG,,PSS-78,,UMOL/KG,,UMOL/KG,,UMOL/KG,,UMOL/KG,,UMOL/KG,,UMOL/KG,,PMOL/KG,,PMOL/KG,,/MILLE,,UMOL/KG,,UMOL/KG,,25_DEG_C,,DEG_C,,,,/MILLE,UMOL/KG,,UMOL/KG,,UG/L,,UG/L,,DBAR,ITS-90,METERS,,METERS,DEG_C,,UMOL/L,
     RF00-09-1,  165E,RF-1158,  1,     -9,      -9,5,20000929,2354, 27.9823, 165.0087, 5637,      0.0,  25.9019,  34.8629,2,   -999.0,9,-999.0000,9,    206.7,2,     1.17,2,  -999.00,9,     0.09,2,     0.00,2,     0.02,2, -999.000,9, -999.000,9,  -999.00,9,   -999.0,9,   -999.0,9,-999.0000,9,   -999.0,  9,  -999.00,9,   -999.0,  -999.00,9,  -999.00,9,     0.08,2,     0.02,2,   -999.0,-999.0000, -999,9,    0,  25.9019,  22.9604,   -999.0,9
     RF00-09-1,  165E,RF-1158,  1,     21, 02-9150,2,20000929,2352, 27.9823, 165.0087, 5637,     11.6,  25.8973,  34.8630,2,   -999.0,9,-999.0000,9,    208.2,2,     1.18,2,  -999.00,9,     0.08,2,     0.00,2,     0.01,2, -999.000,9, -999.000,9,  -999.00,9,   -999.0,9,   -999.0,9,-999.0000,9,   -999.0,  9,  -999.00,9,   -999.0,  -999.00,9,  -999.00,9,     0.08,2,     0.02,2,   -999.0,-999.0000, -999,9,   12,  25.8947,  22.9627,   -999.0,9
     RF00-09-1,  165E,RF-1158,  1,     20,02-12826,2,20000929,2351, 27.9823, 165.0087, 5637,     25.0,  25.8601,  34.8636,2,   -999.0,9,-999.0000,9,    206.7,2,     1.11,2,  -999.00,9,     0.07,2,     0.00,2,     0.01,2, -999.000,9, -999.000,9,  -999.00,9,   -999.0,9,   -999.0,9,-999.0000,9,   -999.0,  9,  -999.00,9,   -999.0,  -999.00,9,  -999.00,9,     0.08,2,     0.02,2,   -999.0,-999.0000, -999,9,   25,  25.8545,  22.9756,   -999.0,9
     RF00-09-1,  165E,RF-1158,  1,     19,02-12825,2,20000929,2349, 27.9823, 165.0087, 5637,     50.4,  25.7981,  34.8937,2,   -999.0,9,-999.0000,9,    208.6,2,     1.09,2,  -999.00,9,     0.04,2,     0.00,2,     0.01,2, -999.000,9, -999.000,9,  -999.00,9,   -999.0,9,   -999.0,9,-999.0000,9,   -999.0,  9,  -999.00,9,   -999.0,  -999.00,9,  -999.00,9,     0.09,2,     0.02,2,   -999.0,-999.0000, -999,9,   50,  25.7870,  23.0193,   -999.0,9
     RF00-09-1,  165E,RF-1158,  1,     18,02-12830,2,20000929,2348, 27.9823, 165.0087, 5637,     75.2,  19.7302,  34.8525,2,   -999.0,9,-999.0000,9,    216.6,2,     1.77,2,  -999.00,9,     0.02,2,     0.00,2,     0.04,2, -999.000,9, -999.000,9,  -999.00,9,   -999.0,9,   -999.0,9,-999.0000,9,   -999.0,  9,  -999.00,9,   -999.0,  -999.00,9,  -999.00,9,     0.16,2,     0.11,2,   -999.0,-999.0000, -999,9,   75,  19.7165,  24.7236,   -999.0,9
     RF00-09-1,  165E,RF-1158,  1,     17,02-12815,2,20000929,2346, 27.9823, 165.0087, 5637,     99.6,  18.4534,  34.7322,2,   -999.0,9,  34.7439,2,    224.8,2,     2.00,2,  -999.00,9,     0.33,2,     0.08,2,     0.07,2, -999.000,9, -999.000,9,  -999.00,9,   -999.0,9,   -999.0,9,-999.0000,9,   -999.0,  9,  -999.00,9,   -999.0,  -999.00,9,  -999.00,9,     0.31,2,     0.43,2,   -999.0,-999.0000, -999,9,   99,  18.4361,  24.9588,   -999.0,9
     RF00-09-1,  165E,RF-1158,  1,     16,02-12818,2,20000929,2345, 27.9823, 165.0087, 5637,    125.7,  17.8005,  34.7106,2,   -999.0,9,-999.0000,9,    223.3,2,     2.37,2,  -999.00,9,     0.83,2,     0.24,2,     0.10,2, -999.000,9, -999.000,9,  -999.00,9,   -999.0,9,   -999.0,9,-999.0000,9,   -999.0,  9,  -999.00,9,   -999.0,  -999.00,9,  -999.00,9,     0.17,2,     0.32,2,   -999.0,-999.0000, -999,9,  125,  17.7792,  25.1045,   -999.0,9
     RF00-09-1,  165E,RF-1158,  1,     15,02-12809,2,20000929,2343, 27.9823, 165.0087, 5637,    150.6,  17.3007,  34.7095,2,   -999.0,9,-999.0000,9,    216.2,2,     3.37,2,  -999.00,9,     3.72,2,     0.02,2,     0.22,2, -999.000,9, -999.000,9,  -999.00,9,   -999.0,9,   -999.0,9,-999.0000,9,   -999.0,  9,  -999.00,9,   -999.0,  -999.00,9,  -999.00,9,     0.06,2,     0.11,2,   -999.0,-999.0000, -999,9,  150,  17.2756,  25.2255,   -999.0,9
     RF00-09-1,  165E,RF-1158,  1,     14,02-12817,2,20000929,2342, 27.9823, 165.0087, 5637,    200.7,  16.8228,  34.7020,2,   -999.0,9,  34.7140,2,    216.6,2,     4.17,2,  -999.00,9,     4.48,2,     0.01,2,     0.27,2, -999.000,9, -999.000,9,  -999.00,9,   -999.0,9,   -999.0,9,-999.0000,9,   -999.0,  9,  -999.00,9,   -999.0,  -999.00,9,  -999.00,9,     0.00,2,     0.01,2,   -999.0,-999.0000, -999,9,  199,  16.7900,  25.3351,   -999.0,9
     RF00-09-1,  165E,RF-1158,  1,     13,02-12808,2,20000929,2338, 27.9823, 165.0087, 5637,    252.0,  16.2078,  34.6853,2,   -999.0,9,-999.0000,9,    213.7,2,     5.46,2,  -999.00,9,     5.63,2,     0.01,2,     0.34,2, -999.000,9, -999.000,9,  -999.00,9,   -999.0,9,   -999.0,9,-999.0000,9,   -999.0,  9,  -999.00,9,   -999.0,  -999.00,9,  -999.00,9,  -999.00,9,  -999.00,9,   -999.0,-999.0000, -999,9,  250,  16.1676,  25.4671,   -999.0,9
     RF00-09-1,  165E,RF-1158,  1,     12,02-12821,2,20000929,2334, 27.9823, 165.0087, 5637,    302.4,  15.3080,  34.6241,2,   -999.0,9,  34.6564,4,    206.8,2,     7.94,2,  -999.00,9,     7.73,2,     0.00,2,     0.49,2, -999.000,9, -999.000,9,  -999.00,9,   -999.0,9,   -999.0,9,-999.0000,9,   -999.0,  9,  -999.00,9,   -999.0,  -999.00,9,  -999.00,9,  -999.00,9,  -999.00,9,   -999.0,-999.0000, -999,9,  300,  15.2616,  25.6245,   -999.0,9
     RF00-09-1,  165E,RF-1158,  1,     11,02-12811,2,20000929,2329, 27.9823, 165.0087, 5637,    401.7,  12.9835,  34.4437,2,   -999.0,9,  34.4459,2,    197.6,2,    12.45,2,  -999.00,9,    11.92,2,     0.00,2,     0.78,2, -999.000,9, -999.000,9,  -999.00,9,   -999.0,9,   -999.0,9,-999.0000,9,   -999.0,  9,  -999.00,9,   -999.0,  -999.00,9,  -999.00,9,  -999.00,9,  -999.00,9,   -999.0,-999.0000, -999,9,  399,  12.9282,  25.9762,   -999.0,9
     RF00-09-1,  165E,RF-1158,  1,     10,02-12820,2,20000929,2321, 27.9823, 165.0087, 5637,    503.1,  10.2870,  34.2357,2,   -999.0,9,  34.2426,2,    196.8,2,    23.61,2,  -999.00,9,    17.05,2,     0.00,2,     1.14,2, -999.000,9, -999.000,9,  -999.00,9,   -999.0,9,   -999.0,9,-999.0000,9,   -999.0,  9,  -999.00,9,   -999.0,  -999.00,9,  -999.00,9,  -999.00,9,  -999.00,9,   -999.0,-999.0000, -999,9,  499,  10.2273,  26.3163,   -999.0,9
     RF00-09-1,  165E,RF-1158,  1,      9,02-12810,2,20000929,2314, 27.9823, 165.0087, 5637,    605.9,   7.4915,  34.0549,2,   -999.0,9,  34.0580,2,    165.1,2,    41.94,2,  -999.00,9,    24.82,2,     0.00,2,     1.72,2, -999.000,9, -999.000,9,  -999.00,9,   -999.0,9,   -999.0,9,-999.0000,9,   -999.0,  9,  -999.00,9,   -999.0,  -999.00,9,  -999.00,9,  -999.00,9,  -999.00,9,   -999.0,-999.0000, -999,9,  601,   7.4317,  26.6140,   -999.0,9
     RF00-09-1,  165E,RF-1158,  1,      8,02-12819,2,20000929,2309, 27.9823, 165.0087, 5637,    704.4,   5.8630,  34.0368,2,   -999.0,9,  34.0380,2,    120.4,2,    62.08,2,  -999.00,9,    31.68,2,     0.00,2,     2.24,2, -999.000,9, -999.000,9,  -999.00,9,   -999.0,9,   -999.0,9,-999.0000,9,   -999.0,  9,  -999.00,9,   -999.0,  -999.00,9,  -999.00,9,  -999.00,9,  -999.00,9,   -999.0,-999.0000, -999,9,  699,   5.8017,  26.8162,   -999.0,9
     RF00-09-1,  165E,RF-1158,  1,      7,02-13591,2,20000929,2250, 27.9823, 165.0087, 5637,    806.9,   4.7111,  34.1021,2,   -999.0,9,  34.1032,2,     78.2,2,    83.34,2,  -999.00,9,    36.95,2,     0.00,2,     2.64,2, -999.000,9, -999.000,9,  -999.00,9,   -999.0,9,   -999.0,9,-999.0000,9,   -999.0,  9,  -999.00,9,   -999.0,  -999.00,9,  -999.00,9,  -999.00,9,  -999.00,9,   -999.0,-999.0000, -999,9,  800,   4.6473,  27.0030,   -999.0,9
     RF00-09-1,  165E,RF-1158,  1,      6,02-13588,2,20000929,2243, 27.9823, 165.0087, 5637,    905.8,   4.0411,  34.2125,2,   -999.0,9,-999.0000,9,     48.7,2,   101.40,2,  -999.00,9,    39.96,2,     0.00,2,     2.88,2, -999.000,9, -999.000,9,  -999.00,9,   -999.0,9,   -999.0,9,-999.0000,9,   -999.0,  9,  -999.00,9,   -999.0,  -999.00,9,  -999.00,9,  -999.00,9,  -999.00,9,   -999.0,-999.0000, -999,9,  898,   3.9734,  27.1624,   -999.0,9
     RF00-09-1,  165E,RF-1158,  1,      5,02-10155,2,20000929,2239, 27.9823, 165.0087, 5637,   1009.2,   3.6252,  34.2919,2,   -999.0,9,  34.2987,2,     36.9,2,   112.89,2,  -999.00,9,    41.25,2,     0.00,2,     2.97,2, -999.000,9, -999.000,9,  -999.00,9,   -999.0,9,   -999.0,9,-999.0000,9,   -999.0,  9,  -999.00,9,   -999.0,  -999.00,9,  -999.00,9,  -999.00,9,  -999.00,9,   -999.0,-999.0000, -999,9, 1000,   3.5520,  27.2678,   -999.0,9
     RF00-09-1,  165E,RF-1158,  1,      4,02-13579,2,20000929,2230, 27.9823, 165.0087, 5637,   1261.7,   2.9644,  34.4346,2,   -999.0,9,  34.4347,2,     32.9,2,   130.01,2,  -999.00,9,    42.31,2,     0.00,2,     3.04,2, -999.000,9, -999.000,9,  -999.00,9,   -999.0,9,   -999.0,9,-999.0000,9,   -999.0,  9,  -999.00,9,   -999.0,  -999.00,9,  -999.00,9,  -999.00,9,  -999.00,9,   -999.0,-999.0000, -999,9, 1249,   2.8766,  27.4449,   -999.0,9
     RF00-09-1,  165E,RF-1158,  1,      3,02-13590,2,20000929,2221, 27.9823, 165.0087, 5637,   1514.4,   2.4316,  34.5185,2,   -999.0,9,  34.5179,2,     44.1,2,   141.44,2,  -999.00,9,    41.96,2,     0.00,2,     2.99,2, -999.000,9, -999.000,9,  -999.00,9,   -999.0,9,   -999.0,9,-999.0000,9,   -999.0,  9,  -999.00,9,   -999.0,  -999.00,9,  -999.00,9,  -999.00,9,  -999.00,9,   -999.0,-999.0000, -999,9, 1499,   2.3294,  27.5593,   -999.0,9
     RF00-09-1,  165E,RF-1158,  1,      2,02-13589,2,20000929,2214, 27.9823, 165.0087, 5637,   1766.4,   2.1005,  34.5686,2,   -999.0,9,  34.5796,2,     60.8,2,   146.66,2,  -999.00,9,    41.08,2,     0.00,2,     2.91,2, -999.000,9, -999.000,9,  -999.00,9,   -999.0,9,   -999.0,9,-999.0000,9,   -999.0,  9,  -999.00,9,   -999.0,  -999.00,9,  -999.00,9,  -999.00,9,  -999.00,9,   -999.0,-999.0000, -999,9, 1747,   1.9820,  27.6275,   -999.0,9
     RF00-09-1,  165E,RF-1158,  1,      1,02-12807,2,20000929,2207, 27.9823, 165.0087, 5637,   2029.5,   1.8711,  34.6085,2,   -999.0,9,  34.6162,2,     83.8,2,   146.52,2,  -999.00,9,    39.81,2,     0.00,2,     2.79,2, -999.000,9, -999.000,9,  -999.00,9,   -999.0,9,   -999.0,9,-999.0000,9,   -999.0,  9,  -999.00,9,   -999.0,  -999.00,9,  -999.00,9,  -999.00,9,  -999.00,9,   -999.0,-999.0000, -999,9, 2006,   1.7342,  27.6786,   -999.0,9