BOTTLE,20130510GEMDJMAYT
EXPOCODE,SECT_ID,STNNBR,CASTNO,SAMPNO,BTLNBR,BTLNBR_FLAG_W,DATE,TIME,LATITUDE,LONGITUDE,DEPTH,CTDPRS,CTDTMP,CTDSAL,CTDSAL_FLAG_W,CTDOXY,CTDOXY_FLAG_W,SALNTY,SALNTY_FLAG_W,OXYGEN,OXYGEN_FLAG_W,SILCAT,SILCAT_FLAG_W,NITRAT,NITRAT_FLAG_W,NO2+NO3,NO2+NO3_FLAG_W,NITRIT,NITRIT_FLAG_W,PHSPHT,PHSPHT_FLAG_W,CFC-11,CFC-11_FLAG_W,CFC-12,CFC-12_FLAG_W,DELC13,DELC13_FLAG_W,TCARBN,TCARBN_FLAG_W,ALKALI,ALKALI_FLAG_W,PH,PH_FLAG_W,PH_TMP,PH_SCALE,PH_NBS,PH_NBS_FLAG_W,C13ERR,TOTALP,TOTALP_FLAG_W,AMMONI,AMMONI_FLAG_W,CHLORA,CHLORA_FLAG_W,PPHYTN,PPHYTN_FLAG_W,REVPRS,REVTMP,DEPTH_,DEPTH_FLAG,CTDDEP,THETA,SIGTHT,DOC,DOC_FLAG_W
,,,,,,,GMT,GMT,,,METER,DBAR,ITS-90,PSS-78,,UMOL/KG,,PSS-78,,UMOL/KG,,UMOL/KG,,UMOL/KG,,UMOL/KG,,UMOL/KG,,UMOL/KG,,PMOL/KG,,PMOL/KG,,/MILLE,,UMOL/KG,,UMOL/KG,,25_DEG_C,,DEG_C,,,,/MILLE,UMOL/KG,,UMOL/KG,,UG/L,,UG/L,,DBAR,ITS-90,METERS,,METERS,DEG_C,,UMOL/L,
     RF00-09-1,  165E,RF-1163,  1,     -9,      -9,5,20001001,0939, 22.9982, 165.0015, 5805,      0.0,  27.1315,  35.1504,2,   -999.0,9,-999.0000,9,    201.3,2,     1.45,2,  -999.00,9,     0.01,2,     0.00,2,     0.03,2, -999.000,9, -999.000,9,  -999.00,9,   -999.0,9,   -999.0,9,-999.0000,9,   -999.0,  9,  -999.00,9,   -999.0,  -999.00,9,  -999.00,9,     0.04,2,     0.01,2,   -999.0,-999.0000, -999,9,    0,  27.1315,  22.7890,   -999.0,9
     RF00-09-1,  165E,RF-1163,  1,     21, 02-9150,2,20001001,0936, 22.9982, 165.0015, 5805,     11.2,  27.0876,  35.1658,2,   -999.0,9,-999.0000,9,    203.6,2,     1.41,2,  -999.00,9,     0.00,2,     0.00,2,     0.00,2, -999.000,9, -999.000,9,  -999.00,9,   -999.0,9,   -999.0,9,-999.0000,9,   -999.0,  9,  -999.00,9,   -999.0,  -999.00,9,  -999.00,9,     0.04,2,     0.01,2,   -999.0,-999.0000, -999,9,   11,  27.0850,  22.8154,   -999.0,9
     RF00-09-1,  165E,RF-1163,  1,     20,02-12826,2,20001001,0935, 22.9982, 165.0015, 5805,     26.9,  26.4330,  35.1871,2,   -999.0,9,-999.0000,9,    203.6,2,     1.40,2,  -999.00,9,     0.00,2,     0.00,2,     0.00,2, -999.000,9, -999.000,9,  -999.00,9,   -999.0,9,   -999.0,9,-999.0000,9,   -999.0,  9,  -999.00,9,   -999.0,  -999.00,9,  -999.00,9,     0.05,2,     0.01,2,   -999.0,-999.0000, -999,9,   27,  26.4269,  23.0406,   -999.0,9
     RF00-09-1,  165E,RF-1163,  1,     19,02-12825,2,20001001,0933, 22.9982, 165.0015, 5805,     51.4,  24.7757,  35.1355,2,   -999.0,9,-999.0000,9,    213.6,2,     1.66,2,  -999.00,9,     0.00,2,     0.00,2,     0.00,2, -999.000,9, -999.000,9,  -999.00,9,   -999.0,9,   -999.0,9,-999.0000,9,   -999.0,  9,  -999.00,9,   -999.0,  -999.00,9,  -999.00,9,     0.09,2,     0.02,2,   -999.0,-999.0000, -999,9,   51,  24.7646,  23.5150,   -999.0,9
     RF00-09-1,  165E,RF-1163,  1,     18,02-12830,2,20001001,0931, 22.9982, 165.0015, 5805,     76.6,  21.7164,  35.0539,2,   -999.0,9,-999.0000,9,    203.0,2,     1.99,2,  -999.00,9,     0.00,2,     0.01,2,     0.03,2, -999.000,9, -999.000,9,  -999.00,9,   -999.0,9,   -999.0,9,-999.0000,9,   -999.0,  9,  -999.00,9,   -999.0,  -999.00,9,  -999.00,9,     0.33,2,     0.33,2,   -999.0,-999.0000, -999,9,   76,  21.7014,  24.3421,   -999.0,9
     RF00-09-1,  165E,RF-1163,  1,     17,02-12815,2,20001001,0930, 22.9982, 165.0015, 5805,    100.9,  20.2304,  34.9645,2,   -999.0,9,  34.9482,4,    196.8,2,     2.44,2,  -999.00,9,     1.11,2,     0.01,2,     0.10,2, -999.000,9, -999.000,9,  -999.00,9,   -999.0,9,   -999.0,9,-999.0000,9,   -999.0,  9,  -999.00,9,   -999.0,  -999.00,9,  -999.00,9,     0.23,2,     0.30,2,   -999.0,-999.0000, -999,9,  100,  20.2116,  24.6787,   -999.0,9
     RF00-09-1,  165E,RF-1163,  1,     16,02-12818,2,20001001,0928, 22.9982, 165.0015, 5805,    127.4,  18.6195,  34.8229,2,   -999.0,9,-999.0000,9,    195.4,2,     3.29,2,  -999.00,9,     2.87,2,     0.01,2,     0.20,2, -999.000,9, -999.000,9,  -999.00,9,   -999.0,9,   -999.0,9,-999.0000,9,   -999.0,  9,  -999.00,9,   -999.0,  -999.00,9,  -999.00,9,     0.06,2,     0.08,2,   -999.0,-999.0000, -999,9,  127,  18.5972,  24.9878,   -999.0,9
     RF00-09-1,  165E,RF-1163,  1,     15,02-12809,2,20001001,0927, 22.9982, 165.0015, 5805,    151.5,  17.5427,  34.7835,2,   -999.0,9,-999.0000,9,    193.6,2,     4.32,2,  -999.00,9,     4.78,2,     0.00,2,     0.30,2, -999.000,9, -999.000,9,  -999.00,9,   -999.0,9,   -999.0,9,-999.0000,9,   -999.0,  9,  -999.00,9,   -999.0,  -999.00,9,  -999.00,9,     0.02,2,     0.03,2,   -999.0,-999.0000, -999,9,  150,  17.5172,  25.2241,   -999.0,9
     RF00-09-1,  165E,RF-1163,  1,     14,02-12817,2,20001001,0925, 22.9982, 165.0015, 5805,    202.5,  16.2399,  34.7029,2,   -999.0,9,  34.7073,2,    197.2,2,     6.12,2,  -999.00,9,     6.69,2,     0.00,2,     0.41,2, -999.000,9, -999.000,9,  -999.00,9,   -999.0,9,   -999.0,9,-999.0000,9,   -999.0,  9,  -999.00,9,   -999.0,  -999.00,9,  -999.00,9,     0.00,2,     0.01,2,   -999.0,-999.0000, -999,9,  201,  16.2076,  25.4714,   -999.0,9
     RF00-09-1,  165E,RF-1163,  1,     13,02-12808,2,20001001,0923, 22.9982, 165.0015, 5805,    251.0,  14.9532,  34.6210,2,   -999.0,9,-999.0000,9,    200.0,2,     8.12,2,  -999.00,9,     8.37,2,     0.00,2,     0.53,2, -999.000,9, -999.000,9,  -999.00,9,   -999.0,9,   -999.0,9,-999.0000,9,   -999.0,  9,  -999.00,9,   -999.0,  -999.00,9,  -999.00,9,  -999.00,9,  -999.00,9,   -999.0,-999.0000, -999,9,  249,  14.9153,  25.6982,   -999.0,9
     RF00-09-1,  165E,RF-1163,  1,     12,02-12821,2,20001001,0922, 22.9982, 165.0015, 5805,    301.8,  13.4532,  34.4753,2,   -999.0,9,  34.5674,4,    199.8,2,    10.75,2,  -999.00,9,    10.48,2,     0.00,2,     0.66,2, -999.000,9, -999.000,9,  -999.00,9,   -999.0,9,   -999.0,9,-999.0000,9,   -999.0,  9,  -999.00,9,   -999.0,  -999.00,9,  -999.00,9,  -999.00,9,  -999.00,9,   -999.0,-999.0000, -999,9,  300,  13.4108,  25.9034,   -999.0,9
     RF00-09-1,  165E,RF-1163,  1,     11,02-12811,2,20001001,0913, 22.9982, 165.0015, 5805,    403.8,  10.9843,  34.2854,2,   -999.0,9,  34.3038,4,    185.3,2,    19.30,2,  -999.00,9,    16.39,2,     0.00,2,     1.09,2, -999.000,9, -999.000,9,  -999.00,9,   -999.0,9,   -999.0,9,-999.0000,9,   -999.0,  9,  -999.00,9,   -999.0,  -999.00,9,  -999.00,9,  -999.00,9,  -999.00,9,   -999.0,-999.0000, -999,9,  401,  10.9345,  26.2308,   -999.0,9
     RF00-09-1,  165E,RF-1163,  1,     10,02-12820,2,20001001,0910, 22.9982, 165.0015, 5805,    504.1,   8.5639,  34.1496,2,   -999.0,9,  34.1517,2,    145.6,2,    35.50,2,  -999.00,9,    24.61,2,     0.00,2,     1.69,2, -999.000,9, -999.000,9,  -999.00,9,   -999.0,9,   -999.0,9,-999.0000,9,   -999.0,  9,  -999.00,9,   -999.0,  -999.00,9,  -999.00,9,  -999.00,9,  -999.00,9,   -999.0,-999.0000, -999,9,  500,   8.5104,  26.5288,   -999.0,9
     RF00-09-1,  165E,RF-1163,  1,      9,02-12810,2,20001001,0907, 22.9982, 165.0015, 5805,    604.5,   6.5083,  34.1410,2,   -999.0,9,  34.1456,2,     86.8,2,    59.29,2,  -999.00,9,    33.26,2,     0.00,2,     2.37,2, -999.000,9, -999.000,9,  -999.00,9,   -999.0,9,   -999.0,9,-999.0000,9,   -999.0,  9,  -999.00,9,   -999.0,  -999.00,9,  -999.00,9,  -999.00,9,  -999.00,9,   -999.0,-999.0000, -999,9,  600,   6.4530,  26.8155,   -999.0,9
     RF00-09-1,  165E,RF-1163,  1,      8,02-12819,2,20001001,0901, 22.9982, 165.0015, 5805,    705.6,   5.1631,  34.1717,2,   -999.0,9,  34.1776,2,     62.9,2,    80.36,2,  -999.00,9,    37.53,2,     0.00,2,     2.69,2, -999.000,9, -999.000,9,  -999.00,9,   -999.0,9,   -999.0,9,-999.0000,9,   -999.0,  9,  -999.00,9,   -999.0,  -999.00,9,  -999.00,9,  -999.00,9,  -999.00,9,   -999.0,-999.0000, -999,9,  700,   5.1053,  27.0064,   -999.0,9
     RF00-09-1,  165E,RF-1163,  1,      7,02-13591,2,20001001,0859, 22.9982, 165.0015, 5805,    807.4,   4.4517,  34.2900,2,   -999.0,9,  34.2881,2,     43.9,2,    95.73,2,  -999.00,9,    40.14,2,     0.00,2,     2.88,2, -999.000,9, -999.000,9,  -999.00,9,   -999.0,9,   -999.0,9,-999.0000,9,   -999.0,  9,  -999.00,9,   -999.0,  -999.00,9,  -999.00,9,  -999.00,9,  -999.00,9,   -999.0,-999.0000, -999,9,  801,   4.3892,  27.1803,   -999.0,9
     RF00-09-1,  165E,RF-1163,  1,      6,02-13588,2,20001001,0856, 22.9982, 165.0015, 5805,    908.3,   4.1406,  34.3824,2,   -999.0,9,-999.0000,9,     43.1,2,   102.31,2,  -999.00,9,    40.70,2,     0.00,2,     2.93,2, -999.000,9, -999.000,9,  -999.00,9,   -999.0,9,   -999.0,9,-999.0000,9,   -999.0,  9,  -999.00,9,   -999.0,  -999.00,9,  -999.00,9,  -999.00,9,  -999.00,9,   -999.0,-999.0000, -999,9,  901,   4.0717,  27.2874,   -999.0,9
     RF00-09-1,  165E,RF-1163,  1,      5,02-10155,2,20001001,0849, 22.9982, 165.0015, 5805,   1008.6,   3.8259,  34.4470,2,   -999.0,9,  34.4434,2,     49.8,2,   108.18,2,  -999.00,9,    40.68,2,     0.00,2,     2.91,2, -999.000,9, -999.000,9,  -999.00,9,   -999.0,9,   -999.0,9,-999.0000,9,   -999.0,  9,  -999.00,9,   -999.0,  -999.00,9,  -999.00,9,  -999.00,9,  -999.00,9,   -999.0,-999.0000, -999,9, 1000,   3.7510,  27.3716,   -999.0,9
     RF00-09-1,  165E,RF-1163,  1,      4,02-13579,2,20001001,0841, 22.9982, 165.0015, 5805,   1261.9,   3.1440,  34.5235,2,   -999.0,9,  34.5606,4,     65.8,2,   120.25,2,  -999.00,9,    40.14,2,     0.00,2,     2.84,2, -999.000,9, -999.000,9,  -999.00,9,   -999.0,9,   -999.0,9,-999.0000,9,   -999.0,  9,  -999.00,9,   -999.0,  -999.00,9,  -999.00,9,  -999.00,9,  -999.00,9,   -999.0,-999.0000, -999,9, 1250,   3.0543,  27.4997,   -999.0,9
     RF00-09-1,  165E,RF-1163,  1,      3,02-13590,2,20001001,0836, 22.9982, 165.0015, 5805,   1515.0,   2.5958,  34.5581,2,   -999.0,9,  34.5600,2,     76.8,2,   129.71,2,  -999.00,9,    39.81,2,     0.00,2,     2.81,2, -999.000,9, -999.000,9,  -999.00,9,   -999.0,9,   -999.0,9,-999.0000,9,   -999.0,  9,  -999.00,9,   -999.0,  -999.00,9,  -999.00,9,  -999.00,9,  -999.00,9,   -999.0,-999.0000, -999,9, 1500,   2.4914,  27.5773,   -999.0,9
     RF00-09-1,  165E,RF-1163,  1,      2,02-13589,2,20001001,0829, 22.9982, 165.0015, 5805,   1770.3,   2.2142,  34.5954,2,   -999.0,9,  34.6819,4,     89.8,2,   134.96,2,  -999.00,9,    39.31,2,     0.00,2,     2.75,2, -999.000,9, -999.000,9,  -999.00,9,   -999.0,9,   -999.0,9,-999.0000,9,   -999.0,  9,  -999.00,9,   -999.0,  -999.00,9,  -999.00,9,  -999.00,9,  -999.00,9,   -999.0,-999.0000, -999,9, 1752,   2.0938,  27.6401,   -999.0,9
     RF00-09-1,  165E,RF-1163,  1,      1,02-12807,2,20001001,0823, 22.9982, 165.0015, 5805,   2037.2,   1.9497,  34.6211,2,   -999.0,9,  34.6294,2,    102.3,2,   137.89,2,  -999.00,9,    38.63,2,     0.00,2,     2.71,2, -999.000,9, -999.000,9,  -999.00,9,   -999.0,9,   -999.0,9,-999.0000,9,   -999.0,  9,  -999.00,9,   -999.0,  -999.00,9,  -999.00,9,  -999.00,9,  -999.00,9,   -999.0,-999.0000, -999,9, 2015,   1.8110,  27.6828,   -999.0,9