BOTTLE,20130510GEMDJMAYT
EXPOCODE,SECT_ID,STNNBR,CASTNO,SAMPNO,BTLNBR,BTLNBR_FLAG_W,DATE,TIME,LATITUDE,LONGITUDE,DEPTH,CTDPRS,CTDTMP,CTDSAL,CTDSAL_FLAG_W,CTDOXY,CTDOXY_FLAG_W,SALNTY,SALNTY_FLAG_W,OXYGEN,OXYGEN_FLAG_W,SILCAT,SILCAT_FLAG_W,NITRAT,NITRAT_FLAG_W,NO2+NO3,NO2+NO3_FLAG_W,NITRIT,NITRIT_FLAG_W,PHSPHT,PHSPHT_FLAG_W,CFC-11,CFC-11_FLAG_W,CFC-12,CFC-12_FLAG_W,DELC13,DELC13_FLAG_W,TCARBN,TCARBN_FLAG_W,ALKALI,ALKALI_FLAG_W,PH,PH_FLAG_W,PH_TMP,PH_SCALE,PH_NBS,PH_NBS_FLAG_W,C13ERR,TOTALP,TOTALP_FLAG_W,AMMONI,AMMONI_FLAG_W,CHLORA,CHLORA_FLAG_W,PPHYTN,PPHYTN_FLAG_W,REVPRS,REVTMP,DEPTH_,DEPTH_FLAG,CTDDEP,THETA,SIGTHT,DOC,DOC_FLAG_W
,,,,,,,GMT,GMT,,,METER,DBAR,ITS-90,PSS-78,,UMOL/KG,,PSS-78,,UMOL/KG,,UMOL/KG,,UMOL/KG,,UMOL/KG,,UMOL/KG,,UMOL/KG,,PMOL/KG,,PMOL/KG,,/MILLE,,UMOL/KG,,UMOL/KG,,25_DEG_C,,DEG_C,,,,/MILLE,UMOL/KG,,UMOL/KG,,UG/L,,UG/L,,DBAR,ITS-90,METERS,,METERS,DEG_C,,UMOL/L,
     RF00-09-1,  165E,RF-1168,  1,     -9,      -9,5,20001002,1708, 17.9937, 164.9960, 5440,      0.0,  29.5366,  35.0249,2,   -999.0,9,-999.0000,9,    194.5,2,     0.99,2,  -999.00,9,     0.00,2,     0.00,2,     0.00,2, -999.000,9, -999.000,9,  -999.00,9,   -999.0,9,   -999.0,9,-999.0000,9,   -999.0,  9,  -999.00,9,   -999.0,  -999.00,9,  -999.00,9,     0.05,2,     0.01,2,   -999.0,-999.0000, -999,9,    0,  29.5366,  21.9023,   -999.0,9
     RF00-09-1,  165E,RF-1168,  1,     21, 02-9150,2,20001002,1705, 17.9937, 164.9960, 5440,     10.1,  29.5464,  35.0356,2,   -999.0,9,-999.0000,9,    194.1,2,     0.92,2,  -999.00,9,     0.00,2,     0.00,2,     0.00,2, -999.000,9, -999.000,9,  -999.00,9,   -999.0,9,   -999.0,9,-999.0000,9,   -999.0,  9,  -999.00,9,   -999.0,  -999.00,9,  -999.00,9,     0.06,2,     0.01,2,   -999.0,-999.0000, -999,9,   10,  29.5440,  21.9079,   -999.0,9
     RF00-09-1,  165E,RF-1168,  1,     20,02-12826,2,20001002,1704, 17.9937, 164.9960, 5440,     25.2,  29.5516,  35.0401,2,   -999.0,9,-999.0000,9,    193.3,2,     0.89,2,  -999.00,9,     0.00,2,     0.00,2,     0.00,2, -999.000,9, -999.000,9,  -999.00,9,   -999.0,9,   -999.0,9,-999.0000,9,   -999.0,  9,  -999.00,9,   -999.0,  -999.00,9,  -999.00,9,     0.06,2,     0.01,2,   -999.0,-999.0000, -999,9,   25,  29.5454,  21.9108,   -999.0,9
     RF00-09-1,  165E,RF-1168,  1,     19,02-12825,2,20001002,1703, 17.9937, 164.9960, 5440,     50.6,  29.4649,  35.0308,2,   -999.0,9,-999.0000,9,    196.0,2,     0.87,2,  -999.00,9,     0.00,2,     0.00,2,     0.00,2, -999.000,9, -999.000,9,  -999.00,9,   -999.0,9,   -999.0,9,-999.0000,9,   -999.0,  9,  -999.00,9,   -999.0,  -999.00,9,  -999.00,9,     0.06,2,     0.01,2,   -999.0,-999.0000, -999,9,   50,  29.4525,  21.9352,   -999.0,9
     RF00-09-1,  165E,RF-1168,  1,     18,02-12830,2,20001002,1702, 17.9937, 164.9960, 5440,     76.8,  27.8433,  35.0815,2,   -999.0,9,-999.0000,9,    209.2,2,     0.89,2,  -999.00,9,     0.00,2,     0.00,2,     0.00,2, -999.000,9, -999.000,9,  -999.00,9,   -999.0,9,   -999.0,9,-999.0000,9,   -999.0,  9,  -999.00,9,   -999.0,  -999.00,9,  -999.00,9,     0.08,2,     0.01,2,   -999.0,-999.0000, -999,9,   76,  27.8253,  22.5130,   -999.0,9
     RF00-09-1,  165E,RF-1168,  1,     17,02-12815,2,20001002,1700, 17.9937, 164.9960, 5440,    101.5,  26.3423,  35.1640,2,   -999.0,9,  35.1735,2,    202.5,2,     0.97,2,  -999.00,9,     0.00,2,     0.00,2,     0.00,2, -999.000,9, -999.000,9,  -999.00,9,   -999.0,9,   -999.0,9,-999.0000,9,   -999.0,  9,  -999.00,9,   -999.0,  -999.00,9,  -999.00,9,     0.19,2,     0.08,2,   -999.0,-999.0000, -999,9,  101,  26.3194,  23.0570,   -999.0,9
     RF00-09-1,  165E,RF-1168,  1,     16,02-12818,2,20001002,1659, 17.9937, 164.9960, 5440,    126.0,  24.7959,  35.1810,2,   -999.0,9,-999.0000,9,    190.8,2,     1.15,2,  -999.00,9,     0.00,2,     0.05,2,     0.01,2, -999.000,9, -999.000,9,  -999.00,9,   -999.0,9,   -999.0,9,-999.0000,9,   -999.0,  9,  -999.00,9,   -999.0,  -999.00,9,  -999.00,9,     0.27,2,     0.34,2,   -999.0,-999.0000, -999,9,  125,  24.7687,  23.5482,   -999.0,9
     RF00-09-1,  165E,RF-1168,  1,     15,02-12809,2,20001002,1657, 17.9937, 164.9960, 5440,    150.5,  23.2117,  35.1356,2,   -999.0,9,-999.0000,9,    195.0,2,     1.46,2,  -999.00,9,     0.37,2,     0.15,2,     0.02,2, -999.000,9, -999.000,9,  -999.00,9,   -999.0,9,   -999.0,9,-999.0000,9,   -999.0,  9,  -999.00,9,   -999.0,  -999.00,9,  -999.00,9,     0.12,2,     0.26,2,   -999.0,-999.0000, -999,9,  150,  23.1807,  23.9842,   -999.0,9
     RF00-09-1,  165E,RF-1168,  1,     14,02-12817,2,20001002,1656, 17.9937, 164.9960, 5440,    201.6,  18.9379,  34.8803,2,   -999.0,9,  34.8841,2,    186.3,2,     3.01,2,  -999.00,9,     3.44,2,     0.00,2,     0.22,2, -999.000,9, -999.000,9,  -999.00,9,   -999.0,9,   -999.0,9,-999.0000,9,   -999.0,  9,  -999.00,9,   -999.0,  -999.00,9,  -999.00,9,     0.01,2,     0.02,2,   -999.0,-999.0000, -999,9,  200,  18.9020,  24.9546,   -999.0,9
     RF00-09-1,  165E,RF-1168,  1,     13,02-12808,2,20001002,1654, 17.9937, 164.9960, 5440,    251.3,  16.6572,  34.7403,2,   -999.0,9,-999.0000,9,    194.4,2,     4.97,2,  -999.00,9,     6.08,2,     0.00,2,     0.35,2, -999.000,9, -999.000,9,  -999.00,9,   -999.0,9,   -999.0,9,-999.0000,9,   -999.0,  9,  -999.00,9,   -999.0,  -999.00,9,  -999.00,9,  -999.00,9,  -999.00,9,   -999.0,-999.0000, -999,9,  250,  16.6163,  25.4053,   -999.0,9
     RF00-09-1,  165E,RF-1168,  1,     12,02-12821,2,20001002,1652, 17.9937, 164.9960, 5440,    302.3,  14.6348,  34.5789,2,   -999.0,9,  34.5777,2,    199.1,2,     8.18,2,  -999.00,9,     8.86,2,     0.00,2,     0.54,2, -999.000,9, -999.000,9,  -999.00,9,   -999.0,9,   -999.0,9,-999.0000,9,   -999.0,  9,  -999.00,9,   -999.0,  -999.00,9,  -999.00,9,  -999.00,9,  -999.00,9,   -999.0,-999.0000, -999,9,  300,  14.5898,  25.7363,   -999.0,9
     RF00-09-1,  165E,RF-1168,  1,     11,02-12811,2,20001002,1644, 17.9937, 164.9960, 5440,    402.5,  10.7049,  34.2659,2,   -999.0,9,  34.2687,2,    177.0,2,    20.88,2,  -999.00,9,    17.85,2,     0.00,2,     1.18,2, -999.000,9, -999.000,9,  -999.00,9,   -999.0,9,   -999.0,9,-999.0000,9,   -999.0,  9,  -999.00,9,   -999.0,  -999.00,9,  -999.00,9,  -999.00,9,  -999.00,9,   -999.0,-999.0000, -999,9,  400,  10.6561,  26.2651,   -999.0,9
     RF00-09-1,  165E,RF-1168,  1,     10,02-12820,2,20001002,1641, 17.9937, 164.9960, 5440,    503.6,   7.6244,  34.1137,2,   -999.0,9,  34.1153,2,    127.8,2,    44.15,2,  -999.00,9,    27.89,2,     0.00,2,     1.92,2, -999.000,9, -999.000,9,  -999.00,9,   -999.0,9,   -999.0,9,-999.0000,9,   -999.0,  9,  -999.00,9,   -999.0,  -999.00,9,  -999.00,9,  -999.00,9,  -999.00,9,   -999.0,-999.0000, -999,9,  500,   7.5745,  26.6399,   -999.0,9
     RF00-09-1,  165E,RF-1168,  1,      9,02-12810,2,20001002,1639, 17.9937, 164.9960, 5440,    605.4,   6.0082,  34.2008,2,   -999.0,9,  34.2027,2,     65.2,2,    67.61,2,  -999.00,9,    36.00,2,     0.00,2,     2.57,2, -999.000,9, -999.000,9,  -999.00,9,   -999.0,9,   -999.0,9,-999.0000,9,   -999.0,  9,  -999.00,9,   -999.0,  -999.00,9,  -999.00,9,  -999.00,9,  -999.00,9,   -999.0,-999.0000, -999,9,  601,   5.9551,  26.9268,   -999.0,9
     RF00-09-1,  165E,RF-1168,  1,      8,02-12819,2,20001002,1633, 17.9937, 164.9960, 5440,    705.0,   5.1614,  34.3254,2,   -999.0,9,  34.3264,2,     47.4,2,    82.60,2,  -999.00,9,    39.06,2,     0.00,2,     2.81,2, -999.000,9, -999.000,9,  -999.00,9,   -999.0,9,   -999.0,9,-999.0000,9,   -999.0,  9,  -999.00,9,   -999.0,  -999.00,9,  -999.00,9,  -999.00,9,  -999.00,9,   -999.0,-999.0000, -999,9,  700,   5.1035,  27.1285,   -999.0,9
     RF00-09-1,  165E,RF-1168,  1,      7,02-13591,2,20001002,1630, 17.9937, 164.9960, 5440,    805.8,   4.7300,  34.4180,2,   -999.0,9,  34.4155,2,     52.0,2,    89.87,2,  -999.00,9,    39.52,2,     0.00,2,     2.83,2, -999.000,9, -999.000,9,  -999.00,9,   -999.0,9,   -999.0,9,-999.0000,9,   -999.0,  9,  -999.00,9,   -999.0,  -999.00,9,  -999.00,9,  -999.00,9,  -999.00,9,   -999.0,-999.0000, -999,9,  799,   4.6658,  27.2517,   -999.0,9
     RF00-09-1,  165E,RF-1168,  1,      6,02-13588,2,20001002,1627, 17.9937, 164.9960, 5440,    907.3,   4.3600,  34.4672,2,   -999.0,9,-999.0000,9,     59.0,2,    95.70,2,  -999.00,9,    39.50,2,     0.00,2,     2.81,2, -999.000,9, -999.000,9,  -999.00,9,   -999.0,9,   -999.0,9,-999.0000,9,   -999.0,  9,  -999.00,9,   -999.0,  -999.00,9,  -999.00,9,  -999.00,9,  -999.00,9,   -999.0,-999.0000, -999,9,  900,   4.2895,  27.3318,   -999.0,9
     RF00-09-1,  165E,RF-1168,  1,      5,02-10155,2,20001002,1621, 17.9937, 164.9960, 5440,   1009.0,   3.9971,  34.5039,2,   -999.0,9,  34.5043,2,     67.2,2,   101.90,2,  -999.00,9,    39.27,2,     0.00,2,     2.79,2, -999.000,9, -999.000,9,  -999.00,9,   -999.0,9,   -999.0,9,-999.0000,9,   -999.0,  9,  -999.00,9,   -999.0,  -999.00,9,  -999.00,9,  -999.00,9,  -999.00,9,   -999.0,-999.0000, -999,9, 1001,   3.9207,  27.3997,   -999.0,9
     RF00-09-1,  165E,RF-1168,  1,      4,02-13579,2,20001002,1613, 17.9937, 164.9960, 5440,   1261.0,   3.1821,  34.5556,2,   -999.0,9,  34.5617,2,     80.4,2,   115.39,2,  -999.00,9,    39.19,2,     0.00,2,     2.77,2, -999.000,9, -999.000,9,  -999.00,9,   -999.0,9,   -999.0,9,-999.0000,9,   -999.0,  9,  -999.00,9,   -999.0,  -999.00,9,  -999.00,9,  -999.00,9,  -999.00,9,   -999.0,-999.0000, -999,9, 1250,   3.0920,  27.5219,   -999.0,9
     RF00-09-1,  165E,RF-1168,  1,      3,02-13590,2,20001002,1605, 17.9937, 164.9960, 5440,   1515.6,   2.6833,  34.5849,2,   -999.0,9,  34.5863,2,     85.9,2,   124.21,2,  -999.00,9,    39.33,2,     0.00,2,     2.76,2, -999.000,9, -999.000,9,  -999.00,9,   -999.0,9,   -999.0,9,-999.0000,9,   -999.0,  9,  -999.00,9,   -999.0,  -999.00,9,  -999.00,9,  -999.00,9,  -999.00,9,   -999.0,-999.0000, -999,9, 1501,   2.5778,  27.5913,   -999.0,9
     RF00-09-1,  165E,RF-1168,  1,      2,02-13589,2,20001002,1601, 17.9937, 164.9960, 5440,   1768.6,   2.2915,  34.6050,2,   -999.0,9,  34.6082,2,     95.9,2,   130.68,2,  -999.00,9,    38.90,2,     0.00,2,     2.72,2, -999.000,9, -999.000,9,  -999.00,9,   -999.0,9,   -999.0,9,-999.0000,9,   -999.0,  9,  -999.00,9,   -999.0,  -999.00,9,  -999.00,9,  -999.00,9,  -999.00,9,   -999.0,-999.0000, -999,9, 1751,   2.1702,  27.6415,   -999.0,9
     RF00-09-1,  165E,RF-1168,  1,      1,02-12807,2,20001002,1556, 17.9937, 164.9960, 5440,   2035.0,   1.9999,  34.6245,2,   -999.0,9,  34.6263,2,    104.7,2,   135.19,2,  -999.00,9,    38.59,2,     0.00,2,     2.69,2, -999.000,9, -999.000,9,  -999.00,9,   -999.0,9,   -999.0,9,-999.0000,9,   -999.0,  9,  -999.00,9,   -999.0,  -999.00,9,  -999.00,9,  -999.00,9,  -999.00,9,   -999.0,-999.0000, -999,9, 2013,   1.8606,  27.6817,   -999.0,9