BOTTLE,20130510GEMDJMAYT
EXPOCODE,SECT_ID,STNNBR,CASTNO,SAMPNO,BTLNBR,BTLNBR_FLAG_W,DATE,TIME,LATITUDE,LONGITUDE,DEPTH,CTDPRS,CTDTMP,CTDSAL,CTDSAL_FLAG_W,CTDOXY,CTDOXY_FLAG_W,SALNTY,SALNTY_FLAG_W,OXYGEN,OXYGEN_FLAG_W,SILCAT,SILCAT_FLAG_W,NITRAT,NITRAT_FLAG_W,NO2+NO3,NO2+NO3_FLAG_W,NITRIT,NITRIT_FLAG_W,PHSPHT,PHSPHT_FLAG_W,CFC-11,CFC-11_FLAG_W,CFC-12,CFC-12_FLAG_W,DELC13,DELC13_FLAG_W,TCARBN,TCARBN_FLAG_W,ALKALI,ALKALI_FLAG_W,PH,PH_FLAG_W,PH_TMP,PH_SCALE,PH_NBS,PH_NBS_FLAG_W,C13ERR,TOTALP,TOTALP_FLAG_W,AMMONI,AMMONI_FLAG_W,CHLORA,CHLORA_FLAG_W,PPHYTN,PPHYTN_FLAG_W,REVPRS,REVTMP,DEPTH_,DEPTH_FLAG,CTDDEP,THETA,SIGTHT,DOC,DOC_FLAG_W
,,,,,,,GMT,GMT,,,METER,DBAR,ITS-90,PSS-78,,UMOL/KG,,PSS-78,,UMOL/KG,,UMOL/KG,,UMOL/KG,,UMOL/KG,,UMOL/KG,,UMOL/KG,,PMOL/KG,,PMOL/KG,,/MILLE,,UMOL/KG,,UMOL/KG,,25_DEG_C,,DEG_C,,,,/MILLE,UMOL/KG,,UMOL/KG,,UG/L,,UG/L,,DBAR,ITS-90,METERS,,METERS,DEG_C,,UMOL/L,
     RF00-09-1,  142E,RF-1147,  1,     -9,      -9,5,20000922,0428, 33.5147, 141.5292, 6232,      0.0,  26.9887,  33.7212,2,   -999.0,9,-999.0000,9,    204.5,2,     2.43,2,  -999.00,9,     0.23,2,     0.01,2,     0.02,2, -999.000,9, -999.000,9,  -999.00,9,   -999.0,9,   -999.0,9,-999.0000,9,   -999.0,  9,  -999.00,9,   -999.0,  -999.00,9,  -999.00,9,     0.24,2,     0.07,2,   -999.0,-999.0000, -999,9,    0,  26.9887,  21.7585,   -999.0,9
     RF00-09-1,  142E,RF-1147,  1,     21, 02-9150,2,20000922,0426, 33.5147, 141.5292, 6232,     10.2,  26.9824,  33.7201,2,   -999.0,9,-999.0000,9,    204.1,2,     1.99,2,  -999.00,9,     0.00,2,     0.00,2,     0.00,2, -999.000,9, -999.000,9,  -999.00,9,   -999.0,9,   -999.0,9,-999.0000,9,   -999.0,  9,  -999.00,9,   -999.0,  -999.00,9,  -999.00,9,     0.31,2,     0.09,2,   -999.0,-999.0000, -999,9,   10,  26.9801,  21.7604,   -999.0,9
     RF00-09-1,  142E,RF-1147,  1,     20,02-12826,3,20000922,0424, 33.5147, 141.5292, 6232,     25.1,  26.8686,  33.8395,2,   -999.0,9,-999.0000,9,    204.3,2,     1.99,2,  -999.00,9,     0.00,2,     0.00,2,     0.00,2, -999.000,9, -999.000,9,  -999.00,9,   -999.0,9,   -999.0,9,-999.0000,9,   -999.0,  9,  -999.00,9,   -999.0,  -999.00,9,  -999.00,9,     0.35,2,     0.15,2,   -999.0,-999.0000, -999,9,   25,  26.8629,  21.8875,   -999.0,9
     RF00-09-1,  142E,RF-1147,  1,     19,02-12825,2,20000922,0423, 33.5147, 141.5292, 6232,     50.5,  24.3327,  34.1771,2,   -999.0,9,-999.0000,9,    204.4,2,     2.84,2,  -999.00,9,     0.65,2,     0.32,2,     0.08,2, -999.000,9, -999.000,9,  -999.00,9,   -999.0,9,   -999.0,9,-999.0000,9,   -999.0,  9,  -999.00,9,   -999.0,  -999.00,9,  -999.00,9,     0.66,2,     0.51,2,   -999.0,-999.0000, -999,9,   50,  24.3220,  22.9231,   -999.0,9
     RF00-09-1,  142E,RF-1147,  1,     18,02-12830,2,20000922,0422, 33.5147, 141.5292, 6232,     74.7,  21.6501,  34.5077,2,   -999.0,9,-999.0000,9,    190.9,2,     4.37,2,  -999.00,9,     2.78,2,     0.25,2,     0.22,2, -999.000,9, -999.000,9,  -999.00,9,   -999.0,9,   -999.0,9,-999.0000,9,   -999.0,  9,  -999.00,9,   -999.0,  -999.00,9,  -999.00,9,     0.25,2,     0.41,2,   -999.0,-999.0000, -999,9,   74,  21.6355,  23.9451,   -999.0,9
     RF00-09-1,  142E,RF-1147,  1,     17,02-12815,2,20000922,0420, 33.5147, 141.5292, 6232,    100.4,  18.1546,  34.6500,2,   -999.0,9,  34.7384,4,    201.5,2,     6.04,2,  -999.00,9,     4.49,2,     0.15,2,     0.32,2, -999.000,9, -999.000,9,  -999.00,9,   -999.0,9,   -999.0,9,-999.0000,9,   -999.0,  9,  -999.00,9,   -999.0,  -999.00,9,  -999.00,9,     0.20,2,     0.36,2,   -999.0,-999.0000, -999,9,  100,  18.1374,  24.9701,   -999.0,9
     RF00-09-1,  142E,RF-1147,  1,     16,02-12818,2,20000922,0419, 33.5147, 141.5292, 6232,    122.5,  16.4920,  34.6780,2,   -999.0,9,-999.0000,9,    197.9,2,     7.83,2,  -999.00,9,     6.66,2,     0.03,2,     0.46,2, -999.000,9, -999.000,9,  -999.00,9,   -999.0,9,   -999.0,9,-999.0000,9,   -999.0,  9,  -999.00,9,   -999.0,  -999.00,9,  -999.00,9,     0.16,2,     0.21,2,   -999.0,-999.0000, -999,9,  122,  16.4723,  25.3911,   -999.0,9
     RF00-09-1,  142E,RF-1147,  1,     15,02-12809,2,20000922,0417, 33.5147, 141.5292, 6232,    150.6,  15.3611,  34.6309,2,   -999.0,9,-999.0000,9,    192.5,2,    10.38,2,  -999.00,9,     9.18,2,     0.00,2,     0.59,2, -999.000,9, -999.000,9,  -999.00,9,   -999.0,9,   -999.0,9,-999.0000,9,   -999.0,  9,  -999.00,9,   -999.0,  -999.00,9,  -999.00,9,     0.07,2,     0.08,2,   -999.0,-999.0000, -999,9,  150,  15.3380,  25.6127,   -999.0,9
     RF00-09-1,  142E,RF-1147,  1,     14,02-12817,2,20000922,0416, 33.5147, 141.5292, 6232,    200.7,  13.6133,  34.5164,2,   -999.0,9,  34.5246,2,    182.6,2,    16.30,2,  -999.00,9,    12.86,2,     0.00,2,     0.86,2, -999.000,9, -999.000,9,  -999.00,9,   -999.0,9,   -999.0,9,-999.0000,9,   -999.0,  9,  -999.00,9,   -999.0,  -999.00,9,  -999.00,9,     0.01,2,     0.02,2,   -999.0,-999.0000, -999,9,  199,  13.5849,  25.8996,   -999.0,9
     RF00-09-1,  142E,RF-1147,  1,     13,02-12808,2,20000922,0414, 33.5147, 141.5292, 6232,    252.3,  12.1338,  34.4239,2,   -999.0,9,-999.0000,9,    170.4,2,    22.85,2,  -999.00,9,    16.26,2,     0.00,2,     1.09,2, -999.000,9, -999.000,9,  -999.00,9,   -999.0,9,   -999.0,9,-999.0000,9,   -999.0,  9,  -999.00,9,   -999.0,  -999.00,9,  -999.00,9,  -999.00,9,  -999.00,9,   -999.0,-999.0000, -999,9,  250,  12.1008,  26.1224,   -999.0,9
     RF00-09-1,  142E,RF-1147,  1,     12,02-12821,2,20000922,0412, 33.5147, 141.5292, 6232,    304.7,  10.2169,  34.2784,2,   -999.0,9,  34.2793,2,    166.8,2,    30.42,2,  -999.00,9,    19.55,2,     0.00,2,     1.34,2, -999.000,9, -999.000,9,  -999.00,9,   -999.0,9,   -999.0,9,-999.0000,9,   -999.0,  9,  -999.00,9,   -999.0,  -999.00,9,  -999.00,9,  -999.00,9,  -999.00,9,   -999.0,-999.0000, -999,9,  302,  10.1812,  26.3575,   -999.0,9
     RF00-09-1,  142E,RF-1147,  1,     11,02-12811,2,20000922,0409, 33.5147, 141.5292, 6232,    403.9,   7.2912,  34.0473,2,   -999.0,9,  34.0627,4,    161.7,2,    45.81,2,  -999.00,9,    25.22,2,     0.00,2,     1.78,2, -999.000,9, -999.000,9,  -999.00,9,   -999.0,9,   -999.0,9,-999.0000,9,   -999.0,  9,  -999.00,9,   -999.0,  -999.00,9,  -999.00,9,  -999.00,9,  -999.00,9,   -999.0,-999.0000, -999,9,  401,   7.2525,  26.6333,   -999.0,9
     RF00-09-1,  142E,RF-1147,  1,     10,02-12820,2,20000922,0406, 33.5147, 141.5292, 6232,    504.0,   5.4410,  34.0521,2,   -999.0,9,  34.0824,4,    115.0,2,    69.42,2,  -999.00,9,    32.56,2,     0.00,2,     2.33,2, -999.000,9, -999.000,9,  -999.00,9,   -999.0,9,   -999.0,9,-999.0000,9,   -999.0,  9,  -999.00,9,   -999.0,  -999.00,9,  -999.00,9,  -999.00,9,  -999.00,9,   -999.0,-999.0000, -999,9,  500,   5.3995,  26.8771,   -999.0,9
     RF00-09-1,  142E,RF-1147,  1,      9,02-12810,2,20000922,0404, 33.5147, 141.5292, 6232,    605.6,   4.8284,  34.1439,2,   -999.0,9,  34.1452,2,     80.6,2,    85.19,2,  -999.00,9,    36.39,2,     0.00,2,     2.60,2, -999.000,9, -999.000,9,  -999.00,9,   -999.0,9,   -999.0,9,-999.0000,9,   -999.0,  9,  -999.00,9,   -999.0,  -999.00,9,  -999.00,9,  -999.00,9,  -999.00,9,   -999.0,-999.0000, -999,9,  600,   4.7808,  27.0214,   -999.0,9
     RF00-09-1,  142E,RF-1147,  1,      8,02-12819,2,20000922,0401, 33.5147, 141.5292, 6232,    706.3,   4.2632,  34.2373,2,   -999.0,9,  34.2386,2,     59.4,2,    99.69,2,  -999.00,9,    38.85,2,     0.00,2,     2.78,2, -999.000,9, -999.000,9,  -999.00,9,   -999.0,9,   -999.0,9,-999.0000,9,   -999.0,  9,  -999.00,9,   -999.0,  -999.00,9,  -999.00,9,  -999.00,9,  -999.00,9,   -999.0,-999.0000, -999,9,  700,   4.2102,  27.1576,   -999.0,9
     RF00-09-1,  142E,RF-1147,  1,      7,02-13591,2,20000922,0358, 33.5147, 141.5292, 6232,    806.7,   3.9196,  34.3123,2,   -999.0,9,  34.3162,2,     54.6,2,   108.53,2,  -999.00,9,    39.67,2,     0.00,2,     2.84,2, -999.000,9, -999.000,9,  -999.00,9,   -999.0,9,   -999.0,9,-999.0000,9,   -999.0,  9,  -999.00,9,   -999.0,  -999.00,9,  -999.00,9,  -999.00,9,  -999.00,9,   -999.0,-999.0000, -999,9,  799,   3.8605,  27.2534,   -999.0,9
     RF00-09-1,  142E,RF-1147,  1,      6,02-13588,2,20000922,0352, 33.5147, 141.5292, 6232,    910.4,   3.4532,  34.3535,2,   -999.0,9,-999.0000,9,     46.7,2,   118.67,2,  -999.00,9,    40.73,2,     0.00,2,     2.91,2, -999.000,9, -999.000,9,  -999.00,9,   -999.0,9,   -999.0,9,-999.0000,9,   -999.0,  9,  -999.00,9,   -999.0,  -999.00,9,  -999.00,9,  -999.00,9,  -999.00,9,   -999.0,-999.0000, -999,9,  902,   3.3891,  27.3327,   -999.0,9
     RF00-09-1,  142E,RF-1147,  1,      5,02-10155,2,20000922,0349, 33.5147, 141.5292, 6232,   1009.0,   3.0874,  34.4032,2,   -999.0,9,  34.4070,2,     43.9,2,   126.81,2,  -999.00,9,    41.27,2,     0.00,2,     2.96,2, -999.000,9, -999.000,9,  -999.00,9,   -999.0,9,   -999.0,9,-999.0000,9,   -999.0,  9,  -999.00,9,   -999.0,  -999.00,9,  -999.00,9,  -999.00,9,  -999.00,9,   -999.0,-999.0000, -999,9,  999,   3.0183,  27.4070,   -999.0,9
     RF00-09-1,  142E,RF-1147,  1,      4,02-13579,2,20000922,0341, 33.5147, 141.5292, 6232,   1262.5,   2.6554,  34.4776,2,   -999.0,9,  34.5000,4,     48.7,2,   136.28,2,  -999.00,9,    41.44,2,     0.00,2,     2.96,2, -999.000,9, -999.000,9,  -999.00,9,   -999.0,9,   -999.0,9,-999.0000,9,   -999.0,  9,  -999.00,9,   -999.0,  -999.00,9,  -999.00,9,  -999.00,9,  -999.00,9,   -999.0,-999.0000, -999,9, 1250,   2.5705,  27.5061,   -999.0,9
     RF00-09-1,  142E,RF-1147,  1,      3,02-13590,2,20000922,0332, 33.5147, 141.5292, 6232,   1513.9,   2.3014,  34.5308,2,   -999.0,9,  34.5293,2,     52.6,2,   144.54,2,  -999.00,9,    41.56,2,     0.00,2,     2.94,2, -999.000,9, -999.000,9,  -999.00,9,   -999.0,9,   -999.0,9,-999.0000,9,   -999.0,  9,  -999.00,9,   -999.0,  -999.00,9,  -999.00,9,  -999.00,9,  -999.00,9,   -999.0,-999.0000, -999,9, 1498,   2.2007,  27.5796,   -999.0,9
     RF00-09-1,  142E,RF-1147,  1,      2,02-13589,2,20000922,0325, 33.5147, 141.5292, 6232,   1769.4,   2.0369,  34.5770,2,   -999.0,9,  34.5790,2,     66.3,2,   148.25,2,  -999.00,9,    40.86,2,     0.00,2,     2.89,2, -999.000,9, -999.000,9,  -999.00,9,   -999.0,9,   -999.0,9,-999.0000,9,   -999.0,  9,  -999.00,9,   -999.0,  -999.00,9,  -999.00,9,  -999.00,9,  -999.00,9,   -999.0,-999.0000, -999,9, 1749,   1.9191,  27.6391,   -999.0,9
     RF00-09-1,  142E,RF-1147,  1,      1,02-12807,2,20000922,0319, 33.5147, 141.5292, 6232,   2023.4,   1.8470,  34.6128,2,   -999.0,9,  34.6668,4,     85.8,2,   147.06,2,  -999.00,9,    39.81,2,     0.00,2,     2.77,2, -999.000,9, -999.000,9,  -999.00,9,   -999.0,9,   -999.0,9,-999.0000,9,   -999.0,  9,  -999.00,9,   -999.0,  -999.00,9,  -999.00,9,  -999.00,9,  -999.00,9,   -999.0,-999.0000, -999,9, 1999,   1.7110,  27.6838,   -999.0,9
     RF00-09-1,  142E,RF-1152,  1,     21, 02-9150,2,20000923,0203, 31.3928, 142.2800, 8582,    102.8,  23.1664,  34.7313,2,   -999.0,9,  34.7455,4,   -999.0,9,  -999.00,9,  -999.00,9,  -999.00,9,  -999.00,9,  -999.00,9, -999.000,9, -999.000,9,  -999.00,9,   -999.0,9,   -999.0,9,-999.0000,9,   -999.0,  9,  -999.00,9,   -999.0,  -999.00,9,  -999.00,9,  -999.00,9,  -999.00,9,   -999.0,-999.0000, -999,9,  102,  23.1454,  23.6879,   -999.0,9
     RF00-09-1,  142E,RF-1152,  1,     19,02-12825,2,20000923,0201, 31.3928, 142.2800, 8582,    200.0,  19.4660,  34.7988,2,   -999.0,9,  34.8119,4,   -999.0,9,  -999.00,9,  -999.00,9,  -999.00,9,  -999.00,9,  -999.00,9, -999.000,9, -999.000,9,  -999.00,9,   -999.0,9,   -999.0,9,-999.0000,9,   -999.0,  9,  -999.00,9,   -999.0,  -999.00,9,  -999.00,9,  -999.00,9,  -999.00,9,   -999.0,-999.0000, -999,9,  199,  19.4298,  24.7571,   -999.0,9
     RF00-09-1,  142E,RF-1152,  1,     17,02-12815,2,20000923,0156, 31.3928, 142.2800, 8582,    303.9,  18.1612,  34.7766,2,   -999.0,9,  34.7924,4,   -999.0,9,  -999.00,9,  -999.00,9,  -999.00,9,  -999.00,9,  -999.00,9, -999.000,9, -999.000,9,  -999.00,9,   -999.0,9,   -999.0,9,-999.0000,9,   -999.0,  9,  -999.00,9,   -999.0,  -999.00,9,  -999.00,9,  -999.00,9,  -999.00,9,   -999.0,-999.0000, -999,9,  302,  18.1086,  25.0741,   -999.0,9
     RF00-09-1,  142E,RF-1152,  1,     15,02-12809,2,20000923,0152, 31.3928, 142.2800, 8582,    402.7,  16.7105,  34.7259,2,   -999.0,9,  34.7380,2,   -999.0,9,  -999.00,9,  -999.00,9,  -999.00,9,  -999.00,9,  -999.00,9, -999.000,9, -999.000,9,  -999.00,9,   -999.0,9,   -999.0,9,-999.0000,9,   -999.0,  9,  -999.00,9,   -999.0,  -999.00,9,  -999.00,9,  -999.00,9,  -999.00,9,   -999.0,-999.0000, -999,9,  400,  16.6446,  25.3877,   -999.0,9
     RF00-09-1,  142E,RF-1152,  1,     13,02-12808,2,20000923,0149, 31.3928, 142.2800, 8582,    505.0,  14.5853,  34.5831,2,   -999.0,9,  34.5964,4,   -999.0,9,  -999.00,9,  -999.00,9,  -999.00,9,  -999.00,9,  -999.00,9, -999.000,9, -999.000,9,  -999.00,9,   -999.0,9,   -999.0,9,-999.0000,9,   -999.0,  9,  -999.00,9,   -999.0,  -999.00,9,  -999.00,9,  -999.00,9,  -999.00,9,   -999.0,-999.0000, -999,9,  501,  14.5098,  25.7568,   -999.0,9
     RF00-09-1,  142E,RF-1152,  1,     11,02-12811,2,20000923,0146, 31.3928, 142.2800, 8582,    605.8,  11.7059,  34.4072,2,   -999.0,9,  34.4178,2,   -999.0,9,  -999.00,9,  -999.00,9,  -999.00,9,  -999.00,9,  -999.00,9, -999.000,9, -999.000,9,  -999.00,9,   -999.0,9,   -999.0,9,-999.0000,9,   -999.0,  9,  -999.00,9,   -999.0,  -999.00,9,  -999.00,9,  -999.00,9,  -999.00,9,   -999.0,-999.0000, -999,9,  601,  11.6273,  26.1989,   -999.0,9
     RF00-09-1,  142E,RF-1152,  1,      9,02-12810,2,20000923,0141, 31.3928, 142.2800, 8582,    707.8,   8.5356,  34.2219,2,   -999.0,9,  34.2329,2,   -999.0,9,  -999.00,9,  -999.00,9,  -999.00,9,  -999.00,9,  -999.00,9, -999.000,9, -999.000,9,  -999.00,9,   -999.0,9,   -999.0,9,-999.0000,9,   -999.0,  9,  -999.00,9,   -999.0,  -999.00,9,  -999.00,9,  -999.00,9,  -999.00,9,   -999.0,-999.0000, -999,9,  702,   8.4596,  26.5933,   -999.0,9
     RF00-09-1,  142E,RF-1152,  1,      7,02-13591,2,20000923,0137, 31.3928, 142.2800, 8582,    806.4,   6.4079,  34.1190,2,   -999.0,9,  34.1273,2,   -999.0,9,  -999.00,9,  -999.00,9,  -999.00,9,  -999.00,9,  -999.00,9, -999.000,9, -999.000,9,  -999.00,9,   -999.0,9,   -999.0,9,-999.0000,9,   -999.0,  9,  -999.00,9,   -999.0,  -999.00,9,  -999.00,9,  -999.00,9,  -999.00,9,   -999.0,-999.0000, -999,9,  799,   6.3337,  26.8138,   -999.0,9
     RF00-09-1,  142E,RF-1152,  1,      5,02-10155,2,20000923,0127, 31.3928, 142.2800, 8582,   1010.3,   4.2930,  34.2444,2,   -999.0,9,  34.2779,4,   -999.0,9,  -999.00,9,  -999.00,9,  -999.00,9,  -999.00,9,  -999.00,9, -999.000,9, -999.000,9,  -999.00,9,   -999.0,9,   -999.0,9,-999.0000,9,   -999.0,  9,  -999.00,9,   -999.0,  -999.00,9,  -999.00,9,  -999.00,9,  -999.00,9,   -999.0,-999.0000, -999,9, 1001,   4.2147,  27.1627,   -999.0,9
     RF00-09-1,  142E,RF-1152,  1,      6,02-13588,2,20000923,0127, 31.3928, 142.2800, 8582,   1012.7,   4.2798,  34.2469,2,   -999.0,9,  34.2618,4,   -999.0,9,  -999.00,9,  -999.00,9,  -999.00,9,  -999.00,9,  -999.00,9, -999.000,9, -999.000,9,  -999.00,9,   -999.0,9,   -999.0,9,-999.0000,9,   -999.0,  9,  -999.00,9,   -999.0,  -999.00,9,  -999.00,9,  -999.00,9,  -999.00,9,   -999.0,-999.0000, -999,9, 1003,   4.2013,  27.1661,   -999.0,9
     RF00-09-1,  142E,RF-1152,  1,      3,02-13590,2,20000923,0120, 31.3928, 142.2800, 8582,   1262.7,   3.2890,  34.3821,2,   -999.0,9,  34.3870,2,   -999.0,9,  -999.00,9,  -999.00,9,  -999.00,9,  -999.00,9,  -999.00,9, -999.000,9, -999.000,9,  -999.00,9,   -999.0,9,   -999.0,9,-999.0000,9,   -999.0,  9,  -999.00,9,   -999.0,  -999.00,9,  -999.00,9,  -999.00,9,  -999.00,9,   -999.0,-999.0000, -999,9, 1250,   3.1981,  27.3735,   -999.0,9
     RF00-09-1,  142E,RF-1152,  1,      4,02-13579,2,20000923,0120, 31.3928, 142.2800, 8582,   1262.7,   3.2858,  34.3819,2,   -999.0,9,  34.4174,4,   -999.0,9,  -999.00,9,  -999.00,9,  -999.00,9,  -999.00,9,  -999.00,9, -999.000,9, -999.000,9,  -999.00,9,   -999.0,9,   -999.0,9,-999.0000,9,   -999.0,  9,  -999.00,9,   -999.0,  -999.00,9,  -999.00,9,  -999.00,9,  -999.00,9,   -999.0,-999.0000, -999,9, 1250,   3.1950,  27.3737,   -999.0,9
     RF00-09-1,  142E,RF-1152,  1,      1,02-12807,2,20000923,0113, 31.3928, 142.2800, 8582,   1523.1,   2.6518,  34.4764,2,   -999.0,9,  34.5138,4,   -999.0,9,  -999.00,9,  -999.00,9,  -999.00,9,  -999.00,9,  -999.00,9, -999.000,9, -999.000,9,  -999.00,9,   -999.0,9,   -999.0,9,-999.0000,9,   -999.0,  9,  -999.00,9,   -999.0,  -999.00,9,  -999.00,9,  -999.00,9,  -999.00,9,   -999.0,-999.0000, -999,9, 1507,   2.5463,  27.5073,   -999.0,9
     RF00-09-1,  142E,RF-1152,  1,      2,02-13589,2,20000923,0114, 31.3928, 142.2800, 8582,   1523.1,   2.6523,  34.4765,2,   -999.0,9,  34.4815,2,   -999.0,9,  -999.00,9,  -999.00,9,  -999.00,9,  -999.00,9,  -999.00,9, -999.000,9, -999.000,9,  -999.00,9,   -999.0,9,   -999.0,9,-999.0000,9,   -999.0,  9,  -999.00,9,   -999.0,  -999.00,9,  -999.00,9,  -999.00,9,  -999.00,9,   -999.0,-999.0000, -999,9, 1507,   2.5469,  27.5073,   -999.0,9