BOTTLE,20130510GEMDJMAYT
EXPOCODE,SECT_ID,STNNBR,CASTNO,SAMPNO,BTLNBR,BTLNBR_FLAG_W,DATE,TIME,LATITUDE,LONGITUDE,DEPTH,CTDPRS,CTDTMP,CTDSAL,CTDSAL_FLAG_W,CTDOXY,CTDOXY_FLAG_W,SALNTY,SALNTY_FLAG_W,OXYGEN,OXYGEN_FLAG_W,SILCAT,SILCAT_FLAG_W,NITRAT,NITRAT_FLAG_W,NO2+NO3,NO2+NO3_FLAG_W,NITRIT,NITRIT_FLAG_W,PHSPHT,PHSPHT_FLAG_W,CFC-11,CFC-11_FLAG_W,CFC-12,CFC-12_FLAG_W,DELC13,DELC13_FLAG_W,TCARBN,TCARBN_FLAG_W,ALKALI,ALKALI_FLAG_W,PH,PH_FLAG_W,PH_TMP,PH_SCALE,PH_NBS,PH_NBS_FLAG_W,C13ERR,TOTALP,TOTALP_FLAG_W,AMMONI,AMMONI_FLAG_W,CHLORA,CHLORA_FLAG_W,PPHYTN,PPHYTN_FLAG_W,REVPRS,REVTMP,DEPTH_,DEPTH_FLAG,CTDDEP,THETA,SIGTHT,DOC,DOC_FLAG_W
,,,,,,,GMT,GMT,,,METER,DBAR,ITS-90,PSS-78,,UMOL/KG,,PSS-78,,UMOL/KG,,UMOL/KG,,UMOL/KG,,UMOL/KG,,UMOL/KG,,UMOL/KG,,PMOL/KG,,PMOL/KG,,/MILLE,,UMOL/KG,,UMOL/KG,,25_DEG_C,,DEG_C,,,,/MILLE,UMOL/KG,,UMOL/KG,,UG/L,,UG/L,,DBAR,ITS-90,METERS,,METERS,DEG_C,,UMOL/L,
     RF00-09-1,  165E,RF-1174,  1,     -9,      -9,5,20001004,0801, 12.0038, 164.4798, 4691,      0.0,  29.2216,  34.6559,2,   -999.0,9,-999.0000,9,    194.1,2,     1.17,2,  -999.00,9,     0.00,2,     0.00,2,     0.07,2, -999.000,9, -999.000,9,  -999.00,9,   -999.0,9,   -999.0,9,-999.0000,9,   -999.0,  9,  -999.00,9,   -999.0,  -999.00,9,  -999.00,9,     0.04,2,     0.01,2,   -999.0,-999.0000, -999,9,    0,  29.2216,  21.7316,   -999.0,9
     RF00-09-1,  165E,RF-1174,  1,     21, 02-9150,2,20001004,0759, 12.0038, 164.4798, 4691,     11.1,  29.2241,  34.6634,2,   -999.0,9,-999.0000,9,    194.8,2,     1.15,2,  -999.00,9,     0.00,2,     0.00,2,     0.06,2, -999.000,9, -999.000,9,  -999.00,9,   -999.0,9,   -999.0,9,-999.0000,9,   -999.0,  9,  -999.00,9,   -999.0,  -999.00,9,  -999.00,9,     0.05,2,     0.01,2,   -999.0,-999.0000, -999,9,   11,  29.2214,  21.7372,   -999.0,9
     RF00-09-1,  165E,RF-1174,  1,     20,02-12826,2,20001004,0757, 12.0038, 164.4798, 4691,     25.7,  29.2154,  34.6699,2,   -999.0,9,-999.0000,9,    194.5,2,     1.08,2,  -999.00,9,     0.00,2,     0.00,2,     0.06,2, -999.000,9, -999.000,9,  -999.00,9,   -999.0,9,   -999.0,9,-999.0000,9,   -999.0,  9,  -999.00,9,   -999.0,  -999.00,9,  -999.00,9,     0.05,2,     0.02,2,   -999.0,-999.0000, -999,9,   26,  29.2092,  21.7463,   -999.0,9
     RF00-09-1,  165E,RF-1174,  1,     19,02-12825,2,20001004,0756, 12.0038, 164.4798, 4691,     50.4,  28.7357,  34.7034,2,   -999.0,9,-999.0000,9,    198.1,2,     1.12,2,  -999.00,9,     0.00,2,     0.00,2,     0.07,2, -999.000,9, -999.000,9,  -999.00,9,   -999.0,9,   -999.0,9,-999.0000,9,   -999.0,  9,  -999.00,9,   -999.0,  -999.00,9,  -999.00,9,     0.07,2,     0.02,2,   -999.0,-999.0000, -999,9,   50,  28.7236,  21.9334,   -999.0,9
     RF00-09-1,  165E,RF-1174,  1,     18,02-12830,2,20001004,0754, 12.0038, 164.4798, 4691,     75.8,  27.8608,  34.7916,2,   -999.0,9,-999.0000,9,    204.5,2,     1.07,2,  -999.00,9,     0.00,2,     0.00,2,     0.05,2, -999.000,9, -999.000,9,  -999.00,9,   -999.0,9,   -999.0,9,-999.0000,9,   -999.0,  9,  -999.00,9,   -999.0,  -999.00,9,  -999.00,9,     0.08,2,     0.03,2,   -999.0,-999.0000, -999,9,   75,  27.8430,  22.2891,   -999.0,9
     RF00-09-1,  165E,RF-1174,  1,     17,02-12815,2,20001004,0753, 12.0038, 164.4798, 4691,    100.7,  26.5717,  34.9204,2,   -999.0,9,  34.9295,2,    208.0,2,     0.96,2,  -999.00,9,     0.00,2,     0.00,2,     0.03,2, -999.000,9, -999.000,9,  -999.00,9,   -999.0,9,   -999.0,9,-999.0000,9,   -999.0,  9,  -999.00,9,   -999.0,  -999.00,9,  -999.00,9,     0.16,2,     0.09,2,   -999.0,-999.0000, -999,9,  100,  26.5488,  22.8011,   -999.0,9
     RF00-09-1,  165E,RF-1174,  1,     16,02-12818,2,20001004,0751, 12.0038, 164.4798, 4691,    125.7,  25.1164,  35.1027,2,   -999.0,9,-999.0000,9,    202.3,2,     1.07,2,  -999.00,9,     0.00,2,     0.00,2,     0.03,2, -999.000,9, -999.000,9,  -999.00,9,   -999.0,9,   -999.0,9,-999.0000,9,   -999.0,  9,  -999.00,9,   -999.0,  -999.00,9,  -999.00,9,     0.23,2,     0.20,2,   -999.0,-999.0000, -999,9,  125,  25.0890,  23.3918,   -999.0,9
     RF00-09-1,  165E,RF-1174,  1,     15,02-12809,2,20001004,0750, 12.0038, 164.4798, 4691,    152.4,  20.9775,  35.0407,2,   -999.0,9,-999.0000,9,    179.0,2,     2.53,2,  -999.00,9,     2.61,2,     0.07,2,     0.24,2, -999.000,9, -999.000,9,  -999.00,9,   -999.0,9,   -999.0,9,-999.0000,9,   -999.0,  9,  -999.00,9,   -999.0,  -999.00,9,  -999.00,9,     0.18,2,     0.34,2,   -999.0,-999.0000, -999,9,  151,  20.9484,  24.5389,   -999.0,9
     RF00-09-1,  165E,RF-1174,  1,     14,02-12817,2,20001004,0748, 12.0038, 164.4798, 4691,    202.3,  14.4198,  34.5182,2,   -999.0,9,  34.5132,4,    160.8,2,    10.29,2,  -999.00,9,    12.21,2,     0.00,2,     0.83,2, -999.000,9, -999.000,9,  -999.00,9,   -999.0,9,   -999.0,9,-999.0000,9,   -999.0,  9,  -999.00,9,   -999.0,  -999.00,9,  -999.00,9,     0.02,2,     0.03,2,   -999.0,-999.0000, -999,9,  201,  14.3901,  25.7322,   -999.0,9
     RF00-09-1,  165E,RF-1174,  1,     13,02-12808,2,20001004,0745, 12.0038, 164.4798, 4691,    251.8,  11.2546,  34.3829,2,   -999.0,9,-999.0000,9,    105.7,2,    22.93,2,  -999.00,9,    23.33,2,     0.00,2,     1.65,2, -999.000,9, -999.000,9,  -999.00,9,   -999.0,9,   -999.0,9,-999.0000,9,   -999.0,  9,  -999.00,9,   -999.0,  -999.00,9,  -999.00,9,  -999.00,9,  -999.00,9,   -999.0,-999.0000, -999,9,  250,  11.2233,  26.2544,   -999.0,9
     RF00-09-1,  165E,RF-1174,  1,     12,02-12821,2,20001004,0742, 12.0038, 164.4798, 4691,    301.7,  10.2024,  34.4634,2,   -999.0,9,  34.4648,2,     66.3,2,    30.93,2,  -999.00,9,    29.37,2,     0.00,2,     2.08,2, -999.000,9, -999.000,9,  -999.00,9,   -999.0,9,   -999.0,9,-999.0000,9,   -999.0,  9,  -999.00,9,   -999.0,  -999.00,9,  -999.00,9,  -999.00,9,  -999.00,9,   -999.0,-999.0000, -999,9,  300,  10.1670,  26.5043,   -999.0,9
     RF00-09-1,  165E,RF-1174,  1,     11,02-12811,2,20001004,0734, 12.0038, 164.4798, 4691,    404.3,   8.4682,  34.5119,2,   -999.0,9,  34.5086,2,     44.2,2,    42.57,2,  -999.00,9,    34.46,2,     0.00,2,     2.46,2, -999.000,9, -999.000,9,  -999.00,9,   -999.0,9,   -999.0,9,-999.0000,9,   -999.0,  9,  -999.00,9,   -999.0,  -999.00,9,  -999.00,9,  -999.00,9,  -999.00,9,   -999.0,-999.0000, -999,9,  402,   8.4256,  26.8260,   -999.0,9
     RF00-09-1,  165E,RF-1174,  1,     10,02-12820,2,20001004,0730, 12.0038, 164.4798, 4691,    504.2,   7.4106,  34.5235,2,   -999.0,9,  34.5295,2,     46.6,2,    51.09,2,  -999.00,9,    36.39,2,     0.00,2,     2.61,2, -999.000,9, -999.000,9,  -999.00,9,   -999.0,9,   -999.0,9,-999.0000,9,   -999.0,  9,  -999.00,9,   -999.0,  -999.00,9,  -999.00,9,  -999.00,9,  -999.00,9,   -999.0,-999.0000, -999,9,  501,   7.3611,  26.9928,   -999.0,9
     RF00-09-1,  165E,RF-1174,  1,      9,02-12810,2,20001004,0727, 12.0038, 164.4798, 4691,    605.1,   6.5996,  34.5094,2,   -999.0,9,  34.5051,2,     53.5,2,    59.22,2,  -999.00,9,    37.31,2,     0.00,2,     2.68,2, -999.000,9, -999.000,9,  -999.00,9,   -999.0,9,   -999.0,9,-999.0000,9,   -999.0,  9,  -999.00,9,   -999.0,  -999.00,9,  -999.00,9,  -999.00,9,  -999.00,9,   -999.0,-999.0000, -999,9,  601,   6.5436,  27.0943,   -999.0,9
     RF00-09-1,  165E,RF-1174,  1,      8,02-12819,2,20001004,0722, 12.0038, 164.4798, 4691,    705.6,   5.9867,  34.5180,2,   -999.0,9,  34.5140,2,     56.3,2,    66.56,2,  -999.00,9,    38.32,2,     0.00,2,     2.75,2, -999.000,9, -999.000,9,  -999.00,9,   -999.0,9,   -999.0,9,-999.0000,9,   -999.0,  9,  -999.00,9,   -999.0,  -999.00,9,  -999.00,9,  -999.00,9,  -999.00,9,   -999.0,-999.0000, -999,9,  700,   5.9241,  27.1814,   -999.0,9
     RF00-09-1,  165E,RF-1174,  1,      7,02-13591,2,20001004,0719, 12.0038, 164.4798, 4691,    804.7,   5.2242,  34.5243,2,   -999.0,9,  34.4972,4,     70.6,2,    76.43,2,  -999.00,9,    38.23,2,     0.00,2,     2.72,2, -999.000,9, -999.000,9,  -999.00,9,   -999.0,9,   -999.0,9,-999.0000,9,   -999.0,  9,  -999.00,9,   -999.0,  -999.00,9,  -999.00,9,  -999.00,9,  -999.00,9,   -999.0,-999.0000, -999,9,  799,   5.1569,  27.2799,   -999.0,9
     RF00-09-1,  165E,RF-1174,  1,      6,02-13588,2,20001004,0713, 12.0038, 164.4798, 4691,    909.5,   4.8688,  34.5338,2,   -999.0,9,-999.0000,9,     69.6,2,    82.54,2,  -999.00,9,    38.81,2,     0.00,2,     2.76,2, -999.000,9, -999.000,9,  -999.00,9,   -999.0,9,   -999.0,9,-999.0000,9,   -999.0,  9,  -999.00,9,   -999.0,  -999.00,9,  -999.00,9,  -999.00,9,  -999.00,9,   -999.0,-999.0000, -999,9,  902,   4.7945,  27.3292,   -999.0,9
     RF00-09-1,  165E,RF-1174,  1,      5,02-10155,2,20001004,0710, 12.0038, 164.4798, 4691,   1010.0,   4.3482,  34.5542,2,   -999.0,9,  34.5492,2,     59.1,2,    92.59,2,  -999.00,9,    40.42,2,     0.00,2,     2.90,2, -999.000,9, -999.000,9,  -999.00,9,   -999.0,9,   -999.0,9,-999.0000,9,   -999.0,  9,  -999.00,9,   -999.0,  -999.00,9,  -999.00,9,  -999.00,9,  -999.00,9,   -999.0,-999.0000, -999,9, 1002,   4.2689,  27.4032,   -999.0,9
     RF00-09-1,  165E,RF-1174,  1,      4,02-13579,2,20001004,0702, 12.0038, 164.4798, 4691,   1261.6,   3.5931,  34.5778,2,   -999.0,9,  34.5739,2,     69.3,2,   106.30,2,  -999.00,9,    40.22,2,     0.00,2,     2.87,2, -999.000,9, -999.000,9,  -999.00,9,   -999.0,9,   -999.0,9,-999.0000,9,   -999.0,  9,  -999.00,9,   -999.0,  -999.00,9,  -999.00,9,  -999.00,9,  -999.00,9,   -999.0,-999.0000, -999,9, 1251,   3.4989,  27.5008,   -999.0,9
     RF00-09-1,  165E,RF-1174,  1,      3,02-13590,2,20001004,0653, 12.0038, 164.4798, 4691,   1515.4,   2.8743,  34.6036,2,   -999.0,9,  34.6060,2,     83.7,2,   119.52,2,  -999.00,9,    39.62,2,     0.00,2,     2.81,2, -999.000,9, -999.000,9,  -999.00,9,   -999.0,9,   -999.0,9,-999.0000,9,   -999.0,  9,  -999.00,9,   -999.0,  -999.00,9,  -999.00,9,  -999.00,9,  -999.00,9,   -999.0,-999.0000, -999,9, 1501,   2.7666,  27.5897,   -999.0,9
     RF00-09-1,  165E,RF-1174,  1,      2,02-13589,2,20001004,0647, 12.0038, 164.4798, 4691,   1767.8,   2.4495,  34.6231,2,   -999.0,9,  34.6198,2,     94.2,2,   126.98,2,  -999.00,9,    39.20,2,     0.00,2,     2.76,2, -999.000,9, -999.000,9,  -999.00,9,   -999.0,9,   -999.0,9,-999.0000,9,   -999.0,  9,  -999.00,9,   -999.0,  -999.00,9,  -999.00,9,  -999.00,9,  -999.00,9,   -999.0,-999.0000, -999,9, 1750,   2.3261,  27.6432,   -999.0,9
     RF00-09-1,  165E,RF-1174,  1,      1,02-12807,2,20001004,0641, 12.0038, 164.4798, 4691,   2035.3,   2.0709,  34.6418,2,   -999.0,9,  34.6361,2,    105.9,2,   132.96,2,  -999.00,9,    38.48,2,     0.00,2,     2.70,2, -999.000,9, -999.000,9,  -999.00,9,   -999.0,9,   -999.0,9,-999.0000,9,   -999.0,  9,  -999.00,9,   -999.0,  -999.00,9,  -999.00,9,  -999.00,9,  -999.00,9,   -999.0,-999.0000, -999,9, 2014,   1.9304,  27.6902,   -999.0,9