BOTTLE,20130510GEMDJMAYT
EXPOCODE,SECT_ID,STNNBR,CASTNO,SAMPNO,BTLNBR,BTLNBR_FLAG_W,DATE,TIME,LATITUDE,LONGITUDE,DEPTH,CTDPRS,CTDTMP,CTDSAL,CTDSAL_FLAG_W,CTDOXY,CTDOXY_FLAG_W,SALNTY,SALNTY_FLAG_W,OXYGEN,OXYGEN_FLAG_W,SILCAT,SILCAT_FLAG_W,NITRAT,NITRAT_FLAG_W,NO2+NO3,NO2+NO3_FLAG_W,NITRIT,NITRIT_FLAG_W,PHSPHT,PHSPHT_FLAG_W,CFC-11,CFC-11_FLAG_W,CFC-12,CFC-12_FLAG_W,DELC13,DELC13_FLAG_W,TCARBN,TCARBN_FLAG_W,ALKALI,ALKALI_FLAG_W,PH,PH_FLAG_W,PH_TMP,PH_SCALE,PH_NBS,PH_NBS_FLAG_W,C13ERR,TOTALP,TOTALP_FLAG_W,AMMONI,AMMONI_FLAG_W,CHLORA,CHLORA_FLAG_W,PPHYTN,PPHYTN_FLAG_W,REVPRS,REVTMP,DEPTH_,DEPTH_FLAG,CTDDEP,THETA,SIGTHT,DOC,DOC_FLAG_W
,,,,,,,GMT,GMT,,,METER,DBAR,ITS-90,PSS-78,,UMOL/KG,,PSS-78,,UMOL/KG,,UMOL/KG,,UMOL/KG,,UMOL/KG,,UMOL/KG,,UMOL/KG,,PMOL/KG,,PMOL/KG,,/MILLE,,UMOL/KG,,UMOL/KG,,25_DEG_C,,DEG_C,,,,/MILLE,UMOL/KG,,UMOL/KG,,UG/L,,UG/L,,DBAR,ITS-90,METERS,,METERS,DEG_C,,UMOL/L,
     RF00-09-1,  165E,RF-1179,  1,     -9,      -9,5,20001005,2004,  7.0023, 164.4922, 5088,      0.0,  29.0840,  33.9890,2,   -999.0,9,-999.0000,9,    195.0,2,     1.26,2,  -999.00,9,     0.00,2,     0.00,2,     0.06,2, -999.000,9, -999.000,9,  -999.00,9,   -999.0,9,   -999.0,9,-999.0000,9,   -999.0,  9,  -999.00,9,   -999.0,  -999.00,9,  -999.00,9,     0.07,2,     0.01,2,   -999.0,-999.0000, -999,9,    0,  29.0840,  21.2772,   -999.0,9
     RF00-09-1,  165E,RF-1179,  1,     21, 02-9150,2,20001005,2002,  7.0023, 164.4922, 5088,     11.6,  29.0866,  33.9943,2,   -999.0,9,-999.0000,9,    195.1,2,     1.23,2,  -999.00,9,     0.00,2,     0.00,2,     0.05,2, -999.000,9, -999.000,9,  -999.00,9,   -999.0,9,   -999.0,9,-999.0000,9,   -999.0,  9,  -999.00,9,   -999.0,  -999.00,9,  -999.00,9,     0.07,2,     0.01,2,   -999.0,-999.0000, -999,9,   12,  29.0838,  21.2812,   -999.0,9
     RF00-09-1,  165E,RF-1179,  1,     20,02-12826,2,20001005,2001,  7.0023, 164.4922, 5088,     25.8,  29.0951,  34.0057,2,   -999.0,9,-999.0000,9,    194.9,2,     1.21,2,  -999.00,9,     0.00,2,     0.00,2,     0.08,2, -999.000,9, -999.000,9,  -999.00,9,   -999.0,9,   -999.0,9,-999.0000,9,   -999.0,  9,  -999.00,9,   -999.0,  -999.00,9,  -999.00,9,     0.06,2,     0.02,2,   -999.0,-999.0000, -999,9,   26,  29.0889,  21.2881,   -999.0,9
     RF00-09-1,  165E,RF-1179,  1,     19,02-12825,2,20001005,1959,  7.0023, 164.4922, 5088,     51.4,  29.0659,  34.0606,2,   -999.0,9,-999.0000,9,    196.1,2,     1.13,2,  -999.00,9,     0.00,2,     0.00,2,     0.04,2, -999.000,9, -999.000,9,  -999.00,9,   -999.0,9,   -999.0,9,-999.0000,9,   -999.0,  9,  -999.00,9,   -999.0,  -999.00,9,  -999.00,9,     0.07,2,     0.03,2,   -999.0,-999.0000, -999,9,   51,  29.0535,  21.3411,   -999.0,9
     RF00-09-1,  165E,RF-1179,  1,     18,02-12830,2,20001005,1958,  7.0023, 164.4922, 5088,     75.9,  28.4091,  34.5910,2,   -999.0,9,-999.0000,9,    202.5,2,     1.17,2,  -999.00,9,     0.00,2,     0.00,2,     0.06,2, -999.000,9, -999.000,9,  -999.00,9,   -999.0,9,   -999.0,9,-999.0000,9,   -999.0,  9,  -999.00,9,   -999.0,  -999.00,9,  -999.00,9,     0.11,2,     0.05,2,   -999.0,-999.0000, -999,9,   75,  28.3910,  21.9589,   -999.0,9
     RF00-09-1,  165E,RF-1179,  1,     17,02-12815,2,20001005,1956,  7.0023, 164.4922, 5088,    100.9,  26.5652,  34.9696,2,   -999.0,9,  34.9251,4,    203.7,2,     1.10,2,  -999.00,9,     0.00,2,     0.00,2,     0.07,2, -999.000,9, -999.000,9,  -999.00,9,   -999.0,9,   -999.0,9,-999.0000,9,   -999.0,  9,  -999.00,9,   -999.0,  -999.00,9,  -999.00,9,     0.24,2,     0.13,2,   -999.0,-999.0000, -999,9,  100,  26.5423,  22.8402,   -999.0,9
     RF00-09-1,  165E,RF-1179,  1,     16,02-12818,2,20001005,1955,  7.0023, 164.4922, 5088,    125.1,  21.8611,  35.2845,2,   -999.0,9,-999.0000,9,    164.5,2,     3.64,2,  -999.00,9,     4.83,2,     0.23,2,     0.40,2, -999.000,9, -999.000,9,  -999.00,9,   -999.0,9,   -999.0,9,-999.0000,9,   -999.0,  9,  -999.00,9,   -999.0,  -999.00,9,  -999.00,9,     0.20,2,     0.31,2,   -999.0,-999.0000, -999,9,  124,  21.8365,  24.4798,   -999.0,9
     RF00-09-1,  165E,RF-1179,  1,     15,02-12809,2,20001005,1954,  7.0023, 164.4922, 5088,    151.0,  19.1133,  34.8211,2,   -999.0,9,-999.0000,9,    146.7,2,     7.21,2,  -999.00,9,     9.89,2,     0.04,2,     0.71,2, -999.000,9, -999.000,9,  -999.00,9,   -999.0,9,   -999.0,9,-999.0000,9,   -999.0,  9,  -999.00,9,   -999.0,  -999.00,9,  -999.00,9,     0.09,2,     0.28,2,   -999.0,-999.0000, -999,9,  150,  19.0863,  24.8624,   -999.0,9
     RF00-09-1,  165E,RF-1179,  1,     14,02-12817,2,20001005,1952,  7.0023, 164.4922, 5088,    201.9,  12.7564,  34.5829,2,   -999.0,9,  34.5181,4,     95.8,2,    20.39,2,  -999.00,9,    22.72,2,     0.00,2,     1.60,2, -999.000,9, -999.000,9,  -999.00,9,   -999.0,9,   -999.0,9,-999.0000,9,   -999.0,  9,  -999.00,9,   -999.0,  -999.00,9,  -999.00,9,     0.03,2,     0.04,2,   -999.0,-999.0000, -999,9,  201,  12.7291,  26.1236,   -999.0,9
     RF00-09-1,  165E,RF-1179,  1,     13,02-12808,2,20001005,1950,  7.0023, 164.4922, 5088,    251.8,  10.6186,  34.6301,2,   -999.0,9,-999.0000,9,     42.9,2,    30.31,2,  -999.00,9,    31.52,2,     0.00,2,     2.25,2, -999.000,9, -999.000,9,  -999.00,9,   -999.0,9,   -999.0,9,-999.0000,9,   -999.0,  9,  -999.00,9,   -999.0,  -999.00,9,  -999.00,9,  -999.00,9,  -999.00,9,   -999.0,-999.0000, -999,9,  250,  10.5883,  26.5610,   -999.0,9
     RF00-09-1,  165E,RF-1179,  1,     12,02-12821,2,20001005,1948,  7.0023, 164.4922, 5088,    302.4,   9.8093,  34.6429,2,   -999.0,9,  34.6377,2,     39.7,2,    32.94,2,  -999.00,9,    33.39,2,     0.00,2,     2.35,2, -999.000,9, -999.000,9,  -999.00,9,   -999.0,9,   -999.0,9,-999.0000,9,   -999.0,  9,  -999.00,9,   -999.0,  -999.00,9,  -999.00,9,  -999.00,9,  -999.00,9,   -999.0,-999.0000, -999,9,  300,   9.7746,  26.7113,   -999.0,9
     RF00-09-1,  165E,RF-1179,  1,     11,02-12811,2,20001005,1943,  7.0023, 164.4922, 5088,    402.0,   9.0653,  34.6266,2,   -999.0,9,  34.6204,2,     40.4,4,    36.61,2,  -999.00,9,    34.70,2,     0.00,2,     2.45,2, -999.000,9, -999.000,9,  -999.00,9,   -999.0,9,   -999.0,9,-999.0000,9,   -999.0,  9,  -999.00,9,   -999.0,  -999.00,9,  -999.00,9,  -999.00,9,  -999.00,9,   -999.0,-999.0000, -999,9,  399,   9.0211,  26.8223,   -999.0,9
     RF00-09-1,  165E,RF-1179,  1,     10,02-12820,2,20001005,1941,  7.0023, 164.4922, 5088,    503.7,   8.2519,  34.6017,2,   -999.0,9,  34.5580,4,     44.9,2,    41.70,2,  -999.00,9,    35.72,2,     0.00,2,     2.54,2, -999.000,9, -999.000,9,  -999.00,9,   -999.0,9,   -999.0,9,-999.0000,9,   -999.0,  9,  -999.00,9,   -999.0,  -999.00,9,  -999.00,9,  -999.00,9,  -999.00,9,   -999.0,-999.0000, -999,9,  500,   8.1993,  26.9310,   -999.0,9
     RF00-09-1,  165E,RF-1179,  1,      9,02-12810,2,20001005,1938,  7.0023, 164.4922, 5088,    605.6,   7.2142,  34.5640,2,   -999.0,9,  34.5517,4,     43.3,2,    51.34,2,  -999.00,9,    37.52,2,     0.00,2,     2.71,2, -999.000,9, -999.000,9,  -999.00,9,   -999.0,9,   -999.0,9,-999.0000,9,   -999.0,  9,  -999.00,9,   -999.0,  -999.00,9,  -999.00,9,  -999.00,9,  -999.00,9,   -999.0,-999.0000, -999,9,  601,   7.1552,  27.0537,   -999.0,9
     RF00-09-1,  165E,RF-1179,  1,      8,02-12819,2,20001005,1931,  7.0023, 164.4922, 5088,    704.7,   6.1812,  34.5414,2,   -999.0,9,  34.5364,2,     47.7,2,    63.28,2,  -999.00,9,    39.21,2,     0.00,2,     2.81,2, -999.000,9, -999.000,9,  -999.00,9,   -999.0,9,   -999.0,9,-999.0000,9,   -999.0,  9,  -999.00,9,   -999.0,  -999.00,9,  -999.00,9,  -999.00,9,  -999.00,9,   -999.0,-999.0000, -999,9,  700,   6.1176,  27.1752,   -999.0,9
     RF00-09-1,  165E,RF-1179,  1,      7,02-13591,2,20001005,1929,  7.0023, 164.4922, 5088,    805.7,   5.3024,  34.5440,2,   -999.0,9,  34.5409,2,     53.1,2,    75.00,2,  -999.00,9,    40.14,2,     0.00,2,     2.87,2, -999.000,9, -999.000,9,  -999.00,9,   -999.0,9,   -999.0,9,-999.0000,9,   -999.0,  9,  -999.00,9,   -999.0,  -999.00,9,  -999.00,9,  -999.00,9,  -999.00,9,   -999.0,-999.0000, -999,9,  800,   5.2345,  27.2863,   -999.0,9
     RF00-09-1,  165E,RF-1179,  1,      6,02-13588,2,20001005,1924,  7.0023, 164.4922, 5088,    907.2,   4.7366,  34.5552,2,   -999.0,9,-999.0000,9,     60.1,2,    83.73,2,  -999.00,9,    40.24,2,     0.00,2,     2.89,2, -999.000,9, -999.000,9,  -999.00,9,   -999.0,9,   -999.0,9,-999.0000,9,   -999.0,  9,  -999.00,9,   -999.0,  -999.00,9,  -999.00,9,  -999.00,9,  -999.00,9,   -999.0,-999.0000, -999,9,  900,   4.6633,  27.3609,   -999.0,9
     RF00-09-1,  165E,RF-1179,  1,      5,02-10155,2,20001005,1915,  7.0023, 164.4922, 5088,   1007.6,   4.2734,  34.5648,2,   -999.0,9,  34.5531,2,     68.9,2,    91.29,2,  -999.00,9,    39.95,2,     0.00,2,     2.86,2, -999.000,9, -999.000,9,  -999.00,9,   -999.0,9,   -999.0,9,-999.0000,9,   -999.0,  9,  -999.00,9,   -999.0,  -999.00,9,  -999.00,9,  -999.00,9,  -999.00,9,   -999.0,-999.0000, -999,9, 1000,   4.1949,  27.4195,   -999.0,9
     RF00-09-1,  165E,RF-1179,  1,      4,02-13579,2,20001005,1906,  7.0023, 164.4922, 5088,   1262.5,   3.4366,  34.5882,2,   -999.0,9,  34.5830,2,     85.8,2,   105.57,2,  -999.00,9,    39.18,2,     0.00,2,     2.78,2, -999.000,9, -999.000,9,  -999.00,9,   -999.0,9,   -999.0,9,-999.0000,9,   -999.0,  9,  -999.00,9,   -999.0,  -999.00,9,  -999.00,9,  -999.00,9,  -999.00,9,   -999.0,-999.0000, -999,9, 1252,   3.3438,  27.5241,   -999.0,9
     RF00-09-1,  165E,RF-1179,  1,      3,02-13590,2,20001005,1858,  7.0023, 164.4922, 5088,   1516.0,   2.8327,  34.6086,2,   -999.0,9,  34.6048,2,     92.2,2,   117.92,2,  -999.00,9,    39.09,2,     0.00,2,     2.76,2, -999.000,9, -999.000,9,  -999.00,9,   -999.0,9,   -999.0,9,-999.0000,9,   -999.0,  9,  -999.00,9,   -999.0,  -999.00,9,  -999.00,9,  -999.00,9,  -999.00,9,   -999.0,-999.0000, -999,9, 1502,   2.7254,  27.5974,   -999.0,9
     RF00-09-1,  165E,RF-1179,  1,      2,02-13589,2,20001005,1852,  7.0023, 164.4922, 5088,   1766.9,   2.4321,  34.6267,2,   -999.0,9,  34.6237,2,    100.2,2,   124.86,2,  -999.00,9,    38.85,2,     0.00,2,     2.73,2, -999.000,9, -999.000,9,  -999.00,9,   -999.0,9,   -999.0,9,-999.0000,9,   -999.0,  9,  -999.00,9,   -999.0,  -999.00,9,  -999.00,9,  -999.00,9,  -999.00,9,   -999.0,-999.0000, -999,9, 1750,   2.3090,  27.6475,   -999.0,9
     RF00-09-1,  165E,RF-1179,  1,      1,02-12807,2,20001005,1847,  7.0023, 164.4922, 5088,   2034.6,   2.1600,  34.6415,2,   -999.0,9,  34.6398,2,    106.5,2,   130.22,2,  -999.00,9,    38.66,2,     0.00,2,     2.70,2, -999.000,9, -999.000,9,  -999.00,9,   -999.0,9,   -999.0,9,-999.0000,9,   -999.0,  9,  -999.00,9,   -999.0,  -999.00,9,  -999.00,9,  -999.00,9,  -999.00,9,   -999.0,-999.0000, -999,9, 2013,   2.0182,  27.6830,   -999.0,9