BOTTLE,20130510GEMDJMAYT
EXPOCODE,SECT_ID,STNNBR,CASTNO,SAMPNO,BTLNBR,BTLNBR_FLAG_W,DATE,TIME,LATITUDE,LONGITUDE,DEPTH,CTDPRS,CTDTMP,CTDSAL,CTDSAL_FLAG_W,CTDOXY,CTDOXY_FLAG_W,SALNTY,SALNTY_FLAG_W,OXYGEN,OXYGEN_FLAG_W,SILCAT,SILCAT_FLAG_W,NITRAT,NITRAT_FLAG_W,NO2+NO3,NO2+NO3_FLAG_W,NITRIT,NITRIT_FLAG_W,PHSPHT,PHSPHT_FLAG_W,CFC-11,CFC-11_FLAG_W,CFC-12,CFC-12_FLAG_W,DELC13,DELC13_FLAG_W,TCARBN,TCARBN_FLAG_W,ALKALI,ALKALI_FLAG_W,PH,PH_FLAG_W,PH_TMP,PH_SCALE,PH_NBS,PH_NBS_FLAG_W,C13ERR,TOTALP,TOTALP_FLAG_W,AMMONI,AMMONI_FLAG_W,CHLORA,CHLORA_FLAG_W,PPHYTN,PPHYTN_FLAG_W,REVPRS,REVTMP,DEPTH_,DEPTH_FLAG,CTDDEP,THETA,SIGTHT,DOC,DOC_FLAG_W
,,,,,,,GMT,GMT,,,METER,DBAR,ITS-90,PSS-78,,UMOL/KG,,PSS-78,,UMOL/KG,,UMOL/KG,,UMOL/KG,,UMOL/KG,,UMOL/KG,,UMOL/KG,,PMOL/KG,,PMOL/KG,,/MILLE,,UMOL/KG,,UMOL/KG,,25_DEG_C,,DEG_C,,,,/MILLE,UMOL/KG,,UMOL/KG,,UG/L,,UG/L,,DBAR,ITS-90,METERS,,METERS,DEG_C,,UMOL/L,
     RF00-09-1, EQPAC,RF-1203,  1,     -9,      -9,5,20001024,2219, -0.0058, 144.9898, 3728,      0.0,  30.0371,  34.6246,2,   -999.0,9,-999.0000,9,    194.7,2,     1.41,2,  -999.00,9,     0.00,2,     0.00,2,     0.12,2, -999.000,9, -999.000,9,  -999.00,9,   -999.0,9,   -999.0,9,-999.0000,9,   -999.0,  9,  -999.00,9,   -999.0,  -999.00,9,  -999.00,9,     0.09,2,     0.03,2,   -999.0,-999.0000, -999,9,    0,  30.0371,  21.4321,   -999.0,9
     RF00-09-1, EQPAC,RF-1203,  1,     17,02-12815,2,20001024,2217, -0.0058, 144.9898, 3728,     11.2,  30.0606,  34.6525,2,   -999.0,9,-999.0000,9,    194.1,2,     1.41,2,  -999.00,9,     0.00,2,     0.00,2,     0.10,2, -999.000,9, -999.000,9,  -999.00,9,   -999.0,9,   -999.0,9,-999.0000,9,   -999.0,  9,  -999.00,9,   -999.0,  -999.00,9,  -999.00,9,     0.09,2,     0.03,2,   -999.0,-999.0000, -999,9,   11,  30.0578,  21.4460,   -999.0,9
     RF00-09-1, EQPAC,RF-1203,  1,     16,02-12818,2,20001024,2216, -0.0058, 144.9898, 3728,     25.8,  30.0372,  34.6836,2,   -999.0,9,-999.0000,9,    194.8,2,     1.40,2,  -999.00,9,     0.00,2,     0.00,2,     0.10,2, -999.000,9, -999.000,9,  -999.00,9,   -999.0,9,   -999.0,9,-999.0000,9,   -999.0,  9,  -999.00,9,   -999.0,  -999.00,9,  -999.00,9,     0.11,2,     0.05,2,   -999.0,-999.0000, -999,9,   26,  30.0308,  21.4785,   -999.0,9
     RF00-09-1, EQPAC,RF-1203,  1,     15,02-12809,2,20001024,2214, -0.0058, 144.9898, 3728,     51.0,  29.8431,  34.7511,2,   -999.0,9,-999.0000,9,    197.2,2,     1.41,2,  -999.00,9,     0.00,2,     0.00,2,     0.12,2, -999.000,9, -999.000,9,  -999.00,9,   -999.0,9,   -999.0,9,-999.0000,9,   -999.0,  9,  -999.00,9,   -999.0,  -999.00,9,  -999.00,9,     0.27,2,     0.16,2,   -999.0,-999.0000, -999,9,   51,  29.8305,  21.5973,   -999.0,9
     RF00-09-1, EQPAC,RF-1203,  1,     14,02-12817,2,20001024,2213, -0.0058, 144.9898, 3728,     76.4,  28.5916,  35.3890,2,   -999.0,9,-999.0000,9,    173.0,2,     2.02,2,  -999.00,9,     4.14,2,     0.68,2,     0.40,2, -999.000,9, -999.000,9,  -999.00,9,   -999.0,9,   -999.0,9,-999.0000,9,   -999.0,  9,  -999.00,9,   -999.0,  -999.00,9,  -999.00,9,     0.38,2,     0.57,2,   -999.0,-999.0000, -999,9,   76,  28.5733,  22.4983,   -999.0,9
     RF00-09-1, EQPAC,RF-1203,  1,     13,02-12808,2,20001024,2212, -0.0058, 144.9898, 3728,    100.8,  27.4822,  35.2224,2,   -999.0,9,  35.2392,2,    158.9,2,     2.39,2,  -999.00,9,     4.98,2,     0.05,2,     0.43,2, -999.000,9, -999.000,9,  -999.00,9,   -999.0,9,   -999.0,9,-999.0000,9,   -999.0,  9,  -999.00,9,   -999.0,  -999.00,9,  -999.00,9,     0.20,2,     0.41,2,   -999.0,-999.0000, -999,9,  100,  27.4587,  22.7379,   -999.0,9
     RF00-09-1, EQPAC,RF-1203,  1,     12,02-12821,2,20001024,2211, -0.0058, 144.9898, 3728,    126.2,  27.0522,  35.4096,2,   -999.0,9,-999.0000,9,    152.7,2,     2.55,2,  -999.00,9,     6.85,2,     0.03,2,     0.53,2, -999.000,9, -999.000,9,  -999.00,9,   -999.0,9,   -999.0,9,-999.0000,9,   -999.0,  9,  -999.00,9,   -999.0,  -999.00,9,  -999.00,9,     0.14,2,     0.29,2,   -999.0,-999.0000, -999,9,  125,  27.0232,  23.0189,   -999.0,9
     RF00-09-1, EQPAC,RF-1203,  1,     11,02-12811,2,20001024,2209, -0.0058, 144.9898, 3728,    152.7,  20.7624,  35.4725,2,   -999.0,9,-999.0000,9,    139.6,2,     4.21,2,  -999.00,9,    10.18,2,     0.00,2,     0.72,2, -999.000,9, -999.000,9,  -999.00,9,   -999.0,9,   -999.0,9,-999.0000,9,   -999.0,  9,  -999.00,9,   -999.0,  -999.00,9,  -999.00,9,     0.02,2,     0.04,2,   -999.0,-999.0000, -999,9,  152,  20.7334,  24.9261,   -999.0,9
     RF00-09-1, EQPAC,RF-1203,  1,     10,02-12820,2,20001024,2207, -0.0058, 144.9898, 3728,    201.2,  18.1377,  35.4095,2,   -999.0,9,  35.4127,2,    141.8,2,     5.28,2,  -999.00,9,    12.13,2,     0.00,2,     0.85,2, -999.000,9, -999.000,9,  -999.00,9,   -999.0,9,   -999.0,9,-999.0000,9,   -999.0,  9,  -999.00,9,   -999.0,  -999.00,9,  -999.00,9,     0.00,2,     0.02,2,   -999.0,-999.0000, -999,9,  200,  18.1028,  25.5603,   -999.0,9
     RF00-09-1, EQPAC,RF-1203,  1,      9,02-12810,2,20001024,2206, -0.0058, 144.9898, 3728,    252.5,  13.0375,  34.9860,2,   -999.0,9,-999.0000,9,    144.7,2,    13.08,2,  -999.00,9,    18.58,2,     0.00,2,     1.25,2, -999.000,9, -999.000,9,  -999.00,9,   -999.0,9,   -999.0,9,-999.0000,9,   -999.0,  9,  -999.00,9,   -999.0,  -999.00,9,  -999.00,9,  -999.00,9,  -999.00,9,   -999.0,-999.0000, -999,9,  251,  13.0027,  26.3815,   -999.0,9
     RF00-09-1, EQPAC,RF-1203,  1,      8,02-12819,2,20001024,2202, -0.0058, 144.9898, 3728,    302.2,  11.2337,  34.7938,2,   -999.0,9,  34.8188,2,    137.7,2,    18.96,2,  -999.00,9,    22.31,2,     0.00,2,     1.51,2, -999.000,9, -999.000,9,  -999.00,9,   -999.0,9,   -999.0,9,-999.0000,9,   -999.0,  9,  -999.00,9,   -999.0,  -999.00,9,  -999.00,9,  -999.00,9,  -999.00,9,   -999.0,-999.0000, -999,9,  300,  11.1958,  26.5793,   -999.0,9
     RF00-09-1, EQPAC,RF-1203,  1,      7,02-13591,2,20001024,2159, -0.0058, 144.9898, 3728,    403.8,  10.0649,  34.7373,2,   -999.0,9,  34.7363,2,    115.6,2,    22.66,2,  -999.00,9,    26.80,2,     0.00,2,     1.79,2, -999.000,9, -999.000,9,  -999.00,9,   -999.0,9,   -999.0,9,-999.0000,9,   -999.0,  9,  -999.00,9,   -999.0,  -999.00,9,  -999.00,9,  -999.00,9,  -999.00,9,   -999.0,-999.0000, -999,9,  401,  10.0175,  26.7438,   -999.0,9
     RF00-09-1, EQPAC,RF-1203,  1,      6,02-13588,2,20001024,2156, -0.0058, 144.9898, 3728,    504.0,   7.8212,  34.5897,2,   -999.0,9,  34.5910,2,    129.1,2,    30.17,2,  -999.00,9,    29.66,2,     0.00,2,     2.00,2, -999.000,9, -999.000,9,  -999.00,9,   -999.0,9,   -999.0,9,-999.0000,9,   -999.0,  9,  -999.00,9,   -999.0,  -999.00,9,  -999.00,9,  -999.00,9,  -999.00,9,   -999.0,-999.0000, -999,9,  501,   7.7702,  26.9857,   -999.0,9
     RF00-09-1, EQPAC,RF-1203,  1,      5,02-10155,2,20001024,2152, -0.0058, 144.9898, 3728,    604.6,   6.8264,  34.5382,2,   -999.0,9,  34.5667,4,    139.5,2,    35.00,2,  -999.00,9,    30.58,2,     0.00,2,     2.06,2, -999.000,9, -999.000,9,  -999.00,9,   -999.0,9,   -999.0,9,-999.0000,9,   -999.0,  9,  -999.00,9,   -999.0,  -999.00,9,  -999.00,9,  -999.00,9,  -999.00,9,   -999.0,-999.0000, -999,9,  600,   6.7693,  27.0866,   -999.0,9
     RF00-09-1, EQPAC,RF-1203,  1,      4,02-13579,2,20001024,2150, -0.0058, 144.9898, 3728,    705.1,   6.1292,  34.5351,2,   -999.0,9,  34.5830,4,    109.7,2,    47.72,2,  -999.00,9,    34.67,2,     0.00,2,     2.38,2, -999.000,9, -999.000,9,  -999.00,9,   -999.0,9,   -999.0,9,-999.0000,9,   -999.0,  9,  -999.00,9,   -999.0,  -999.00,9,  -999.00,9,  -999.00,9,  -999.00,9,   -999.0,-999.0000, -999,9,  700,   6.0658,  27.1769,   -999.0,9
     RF00-09-1, EQPAC,RF-1203,  1,      3,02-13590,2,20001024,2146, -0.0058, 144.9898, 3728,    805.9,   5.5621,  34.5363,2,   -999.0,9,  34.5393,2,     94.8,2,    58.68,2,  -999.00,9,    36.83,2,     0.00,2,     2.55,2, -999.000,9, -999.000,9,  -999.00,9,   -999.0,9,   -999.0,9,-999.0000,9,   -999.0,  9,  -999.00,9,   -999.0,  -999.00,9,  -999.00,9,  -999.00,9,  -999.00,9,   -999.0,-999.0000, -999,9,  800,   5.4926,  27.2493,   -999.0,9
     RF00-09-1, EQPAC,RF-1203,  1,      2,02-13589,2,20001024,2143, -0.0058, 144.9898, 3728,    907.5,   5.0553,  34.5330,2,   -999.0,9,-999.0000,9,     96.9,2,    67.60,2,  -999.00,9,    37.04,2,     0.00,2,     2.57,2, -999.000,9, -999.000,9,  -999.00,9,   -999.0,9,   -999.0,9,-999.0000,9,   -999.0,  9,  -999.00,9,   -999.0,  -999.00,9,  -999.00,9,  -999.00,9,  -999.00,9,   -999.0,-999.0000, -999,9,  901,   4.9799,  27.3074,   -999.0,9
     RF00-09-1, EQPAC,RF-1203,  1,      1,02-12807,2,20001024,2141, -0.0058, 144.9898, 3728,   1019.3,   4.6721,  34.5346,2,   -999.0,9,  34.5427,2,    102.1,2,    71.59,2,  -999.00,9,    37.21,2,     0.00,2,     2.58,2, -999.000,9, -999.000,9,  -999.00,9,   -999.0,9,   -999.0,9,-999.0000,9,   -999.0,  9,  -999.00,9,   -999.0,  -999.00,9,  -999.00,9,  -999.00,9,  -999.00,9,   -999.0,-999.0000, -999,9, 1011,   4.5896,  27.3527,   -999.0,9
     RF00-09-1,  NONE,RF-1210,  1,     17,02-12815,2,20001026,0357,  2.9947, 144.0115, 4396,    100.4,  28.9133,  34.7221,2,   -999.0,9,  34.8044,4,   -999.0,9,  -999.00,9,  -999.00,9,  -999.00,9,  -999.00,9,  -999.00,9, -999.000,9, -999.000,9,  -999.00,9,   -999.0,9,   -999.0,9,-999.0000,9,   -999.0,  9,  -999.00,9,   -999.0,  -999.00,9,  -999.00,9,  -999.00,9,  -999.00,9,   -999.0,-999.0000, -999,9,  100,  28.8891,  21.8924,   -999.0,9
     RF00-09-1,  NONE,RF-1210,  1,     15,02-12809,2,20001026,0354,  2.9947, 144.0115, 4396,    201.7,  14.2614,  34.5452,2,   -999.0,9,  34.5926,4,   -999.0,9,  -999.00,9,  -999.00,9,  -999.00,9,  -999.00,9,  -999.00,9, -999.000,9, -999.000,9,  -999.00,9,   -999.0,9,   -999.0,9,-999.0000,9,   -999.0,  9,  -999.00,9,   -999.0,  -999.00,9,  -999.00,9,  -999.00,9,  -999.00,9,   -999.0,-999.0000, -999,9,  200,  14.2320,  25.7867,   -999.0,9
     RF00-09-1,  NONE,RF-1210,  1,     13,02-12808,2,20001026,0348,  2.9947, 144.0115, 4396,    304.5,   9.1453,  34.6578,2,   -999.0,9,  34.6556,2,   -999.0,9,  -999.00,9,  -999.00,9,  -999.00,9,  -999.00,9,  -999.00,9, -999.000,9, -999.000,9,  -999.00,9,   -999.0,9,   -999.0,9,-999.0000,9,   -999.0,  9,  -999.00,9,   -999.0,  -999.00,9,  -999.00,9,  -999.00,9,  -999.00,9,   -999.0,-999.0000, -999,9,  303,   9.1119,  26.8322,   -999.0,9
     RF00-09-1,  NONE,RF-1210,  1,     11,02-12811,2,20001026,0344,  2.9947, 144.0115, 4396,    403.1,   8.5256,  34.6243,2,   -999.0,9,  34.6235,2,   -999.0,9,  -999.00,9,  -999.00,9,  -999.00,9,  -999.00,9,  -999.00,9, -999.000,9, -999.000,9,  -999.00,9,   -999.0,9,   -999.0,9,-999.0000,9,   -999.0,  9,  -999.00,9,   -999.0,  -999.00,9,  -999.00,9,  -999.00,9,  -999.00,9,   -999.0,-999.0000, -999,9,  401,   8.4829,  26.9054,   -999.0,9
     RF00-09-1,  NONE,RF-1210,  1,      9,02-12810,2,20001026,0338,  2.9947, 144.0115, 4396,    503.7,   7.8802,  34.5896,2,   -999.0,9,  34.5871,2,   -999.0,9,  -999.00,9,  -999.00,9,  -999.00,9,  -999.00,9,  -999.00,9, -999.000,9, -999.000,9,  -999.00,9,   -999.0,9,   -999.0,9,-999.0000,9,   -999.0,  9,  -999.00,9,   -999.0,  -999.00,9,  -999.00,9,  -999.00,9,  -999.00,9,   -999.0,-999.0000, -999,9,  500,   7.8290,  26.9769,   -999.0,9
     RF00-09-1,  NONE,RF-1210,  1,      7,02-13591,2,20001026,0335,  2.9947, 144.0115, 4396,    605.8,   7.0799,  34.5557,2,   -999.0,9,  34.5623,2,   -999.0,9,  -999.00,9,  -999.00,9,  -999.00,9,  -999.00,9,  -999.00,9, -999.000,9, -999.000,9,  -999.00,9,   -999.0,9,   -999.0,9,-999.0000,9,   -999.0,  9,  -999.00,9,   -999.0,  -999.00,9,  -999.00,9,  -999.00,9,  -999.00,9,   -999.0,-999.0000, -999,9,  602,   7.0215,  27.0658,   -999.0,9
     RF00-09-1,  NONE,RF-1210,  1,      5,02-10155,2,20001026,0331,  2.9947, 144.0115, 4396,    705.3,   6.0797,  34.5375,2,   -999.0,9,  34.5462,2,   -999.0,9,  -999.00,9,  -999.00,9,  -999.00,9,  -999.00,9,  -999.00,9, -999.000,9, -999.000,9,  -999.00,9,   -999.0,9,   -999.0,9,-999.0000,9,   -999.0,  9,  -999.00,9,   -999.0,  -999.00,9,  -999.00,9,  -999.00,9,  -999.00,9,   -999.0,-999.0000, -999,9,  700,   6.0166,  27.1851,   -999.0,9
     RF00-09-1,  NONE,RF-1210,  1,      3,02-13590,2,20001026,0328,  2.9947, 144.0115, 4396,    806.7,   5.4334,  34.5382,2,   -999.0,9,  34.5395,2,   -999.0,9,  -999.00,9,  -999.00,9,  -999.00,9,  -999.00,9,  -999.00,9, -999.000,9, -999.000,9,  -999.00,9,   -999.0,9,   -999.0,9,-999.0000,9,   -999.0,  9,  -999.00,9,   -999.0,  -999.00,9,  -999.00,9,  -999.00,9,  -999.00,9,   -999.0,-999.0000, -999,9,  801,   5.3646,  27.2662,   -999.0,9
     RF00-09-1,  NONE,RF-1210,  1,      1,02-12807,2,20001026,0321,  2.9947, 144.0115, 4396,   1019.4,   4.4206,  34.5488,2,   -999.0,9,  34.5509,2,   -999.0,9,  -999.00,9,  -999.00,9,  -999.00,9,  -999.00,9,  -999.00,9, -999.000,9, -999.000,9,  -999.00,9,   -999.0,9,   -999.0,9,-999.0000,9,   -999.0,  9,  -999.00,9,   -999.0,  -999.00,9,  -999.00,9,  -999.00,9,  -999.00,9,   -999.0,-999.0000, -999,9, 1011,   4.3400,  27.3912,   -999.0,9
     RF00-09-1,  NONE,RF-1217,  1,     17,02-12815,2,20001027,2355,  9.9948, 143.9945, 4607,    101.0,  25.3270,  35.0195,2,   -999.0,9,  35.0442,2,   -999.0,9,  -999.00,9,  -999.00,9,  -999.00,9,  -999.00,9,  -999.00,9, -999.000,9, -999.000,9,  -999.00,9,   -999.0,9,   -999.0,9,-999.0000,9,   -999.0,  9,  -999.00,9,   -999.0,  -999.00,9,  -999.00,9,  -999.00,9,  -999.00,9,   -999.0,-999.0000, -999,9,  100,  25.3049,  23.2629,   -999.0,9
     RF00-09-1,  NONE,RF-1217,  1,     15,02-12809,2,20001027,2352,  9.9948, 143.9945, 4607,    202.6,  14.7007,  34.5586,2,   -999.0,9,  34.5383,4,   -999.0,9,  -999.00,9,  -999.00,9,  -999.00,9,  -999.00,9,  -999.00,9, -999.000,9, -999.000,9,  -999.00,9,   -999.0,9,   -999.0,9,-999.0000,9,   -999.0,  9,  -999.00,9,   -999.0,  -999.00,9,  -999.00,9,  -999.00,9,  -999.00,9,   -999.0,-999.0000, -999,9,  201,  14.6705,  25.7032,   -999.0,9
     RF00-09-1,  NONE,RF-1217,  1,     13,02-12808,2,20001027,2348,  9.9948, 143.9945, 4607,    303.4,   9.5787,  34.4398,2,   -999.0,9,  34.4396,2,   -999.0,9,  -999.00,9,  -999.00,9,  -999.00,9,  -999.00,9,  -999.00,9, -999.000,9, -999.000,9,  -999.00,9,   -999.0,9,   -999.0,9,-999.0000,9,   -999.0,  9,  -999.00,9,   -999.0,  -999.00,9,  -999.00,9,  -999.00,9,  -999.00,9,   -999.0,-999.0000, -999,9,  301,   9.5445,  26.5910,   -999.0,9
     RF00-09-1,  NONE,RF-1217,  1,     11,02-12811,2,20001027,2345,  9.9948, 143.9945, 4607,    402.9,   8.0165,  34.5392,2,   -999.0,9,  34.5366,2,   -999.0,9,  -999.00,9,  -999.00,9,  -999.00,9,  -999.00,9,  -999.00,9, -999.000,9, -999.000,9,  -999.00,9,   -999.0,9,   -999.0,9,-999.0000,9,   -999.0,  9,  -999.00,9,   -999.0,  -999.00,9,  -999.00,9,  -999.00,9,  -999.00,9,   -999.0,-999.0000, -999,9,  400,   7.9754,  26.9156,   -999.0,9
     RF00-09-1,  NONE,RF-1217,  1,      9,02-12810,2,20001027,2342,  9.9948, 143.9945, 4607,    503.5,   7.1507,  34.5126,2,   -999.0,9,  34.5086,2,   -999.0,9,  -999.00,9,  -999.00,9,  -999.00,9,  -999.00,9,  -999.00,9, -999.000,9, -999.000,9,  -999.00,9,   -999.0,9,   -999.0,9,-999.0000,9,   -999.0,  9,  -999.00,9,   -999.0,  -999.00,9,  -999.00,9,  -999.00,9,  -999.00,9,   -999.0,-999.0000, -999,9,  500,   7.1022,  27.0207,   -999.0,9
     RF00-09-1,  NONE,RF-1217,  1,      7,02-13591,2,20001027,2336,  9.9948, 143.9945, 4607,    605.2,   6.5369,  34.5163,2,   -999.0,9,  34.5138,2,   -999.0,9,  -999.00,9,  -999.00,9,  -999.00,9,  -999.00,9,  -999.00,9, -999.000,9, -999.000,9,  -999.00,9,   -999.0,9,   -999.0,9,-999.0000,9,   -999.0,  9,  -999.00,9,   -999.0,  -999.00,9,  -999.00,9,  -999.00,9,  -999.00,9,   -999.0,-999.0000, -999,9,  601,   6.4811,  27.1080,   -999.0,9
     RF00-09-1,  NONE,RF-1217,  1,      5,02-10155,2,20001027,2333,  9.9948, 143.9945, 4607,    706.5,   5.9280,  34.5194,2,   -999.0,9,  34.5210,2,   -999.0,9,  -999.00,9,  -999.00,9,  -999.00,9,  -999.00,9,  -999.00,9, -999.000,9, -999.000,9,  -999.00,9,   -999.0,9,   -999.0,9,-999.0000,9,   -999.0,  9,  -999.00,9,   -999.0,  -999.00,9,  -999.00,9,  -999.00,9,  -999.00,9,   -999.0,-999.0000, -999,9,  701,   5.8656,  27.1899,   -999.0,9
     RF00-09-1,  NONE,RF-1217,  1,      3,02-13590,2,20001027,2329,  9.9948, 143.9945, 4607,    807.0,   5.4129,  34.5221,2,   -999.0,9,  34.5236,2,   -999.0,9,  -999.00,9,  -999.00,9,  -999.00,9,  -999.00,9,  -999.00,9, -999.000,9, -999.000,9,  -999.00,9,   -999.0,9,   -999.0,9,-999.0000,9,   -999.0,  9,  -999.00,9,   -999.0,  -999.00,9,  -999.00,9,  -999.00,9,  -999.00,9,   -999.0,-999.0000, -999,9,  801,   5.3443,  27.2559,   -999.0,9
     RF00-09-1,  NONE,RF-1217,  1,      1,02-12807,2,20001027,2324,  9.9948, 143.9945, 4607,   1019.6,   4.3517,  34.5437,2,   -999.0,9,  34.5482,2,   -999.0,9,  -999.00,9,  -999.00,9,  -999.00,9,  -999.00,9,  -999.00,9, -999.000,9, -999.000,9,  -999.00,9,   -999.0,9,   -999.0,9,-999.0000,9,   -999.0,  9,  -999.00,9,   -999.0,  -999.00,9,  -999.00,9,  -999.00,9,  -999.00,9,   -999.0,-999.0000, -999,9, 1011,   4.2716,  27.3945,   -999.0,9