BOTTLE,20130510GEMDJMAYT
EXPOCODE,SECT_ID,STNNBR,CASTNO,SAMPNO,BTLNBR,BTLNBR_FLAG_W,DATE,TIME,LATITUDE,LONGITUDE,DEPTH,CTDPRS,CTDTMP,CTDSAL,CTDSAL_FLAG_W,CTDOXY,CTDOXY_FLAG_W,SALNTY,SALNTY_FLAG_W,OXYGEN,OXYGEN_FLAG_W,SILCAT,SILCAT_FLAG_W,NITRAT,NITRAT_FLAG_W,NO2+NO3,NO2+NO3_FLAG_W,NITRIT,NITRIT_FLAG_W,PHSPHT,PHSPHT_FLAG_W,CFC-11,CFC-11_FLAG_W,CFC-12,CFC-12_FLAG_W,DELC13,DELC13_FLAG_W,TCARBN,TCARBN_FLAG_W,ALKALI,ALKALI_FLAG_W,PH,PH_FLAG_W,PH_TMP,PH_SCALE,PH_NBS,PH_NBS_FLAG_W,C13ERR,TOTALP,TOTALP_FLAG_W,AMMONI,AMMONI_FLAG_W,CHLORA,CHLORA_FLAG_W,PPHYTN,PPHYTN_FLAG_W,REVPRS,REVTMP,DEPTH_,DEPTH_FLAG,CTDDEP,THETA,SIGTHT,DOC,DOC_FLAG_W
,,,,,,,GMT,GMT,,,METER,DBAR,ITS-90,PSS-78,,UMOL/KG,,PSS-78,,UMOL/KG,,UMOL/KG,,UMOL/KG,,UMOL/KG,,UMOL/KG,,UMOL/KG,,PMOL/KG,,PMOL/KG,,/MILLE,,UMOL/KG,,UMOL/KG,,25_DEG_C,,DEG_C,,,,/MILLE,UMOL/KG,,UMOL/KG,,UG/L,,UG/L,,DBAR,ITS-90,METERS,,METERS,DEG_C,,UMOL/L,
     RF00-09-1,  165E,RF-1189,  1,     -9,      -9,5,20001017,0228, -3.0012, 164.9852, 4105,      0.0,  29.9806,  35.2899,2,   -999.0,9,-999.0000,9,    195.1,2,     1.16,2,  -999.00,9,     0.01,2,     0.00,2,     0.20,2, -999.000,9, -999.000,9,  -999.00,9,   -999.0,9,   -999.0,9,-999.0000,9,   -999.0,  9,  -999.00,9,   -999.0,  -999.00,9,  -999.00,9,     0.13,2,     0.04,2,   -999.0,-999.0000, -999,9,    0,  29.9806,  21.9502,   -999.0,9
     RF00-09-1,  165E,RF-1189,  1,     21, 02-9150,2,20001017,0226, -3.0012, 164.9852, 4105,     11.2,  29.8807,  35.2912,2,   -999.0,9,-999.0000,9,    195.3,2,     1.07,2,  -999.00,9,     0.00,2,     0.00,2,     0.20,2, -999.000,9, -999.000,9,  -999.00,9,   -999.0,9,   -999.0,9,-999.0000,9,   -999.0,  9,  -999.00,9,   -999.0,  -999.00,9,  -999.00,9,     0.13,2,     0.04,2,   -999.0,-999.0000, -999,9,   11,  29.8779,  21.9862,   -999.0,9
     RF00-09-1,  165E,RF-1189,  1,     20,02-12826,2,20001017,0224, -3.0012, 164.9852, 4105,     26.6,  29.7313,  35.2889,2,   -999.0,9,-999.0000,9,    195.5,2,     1.09,2,  -999.00,9,     0.00,2,     0.00,2,     0.18,2, -999.000,9, -999.000,9,  -999.00,9,   -999.0,9,   -999.0,9,-999.0000,9,   -999.0,  9,  -999.00,9,   -999.0,  -999.00,9,  -999.00,9,     0.14,2,     0.05,2,   -999.0,-999.0000, -999,9,   26,  29.7248,  22.0366,   -999.0,9
     RF00-09-1,  165E,RF-1189,  1,     19,02-12825,2,20001017,0223, -3.0012, 164.9852, 4105,     50.6,  29.7013,  35.3019,2,   -999.0,9,-999.0000,9,    195.7,2,     1.08,2,  -999.00,9,     0.00,2,     0.00,2,     0.18,2, -999.000,9, -999.000,9,  -999.00,9,   -999.0,9,   -999.0,9,-999.0000,9,   -999.0,  9,  -999.00,9,   -999.0,  -999.00,9,  -999.00,9,     0.22,2,     0.07,2,   -999.0,-999.0000, -999,9,   50,  29.6889,  22.0586,   -999.0,9
     RF00-09-1,  165E,RF-1189,  1,     18,02-12830,2,20001017,0222, -3.0012, 164.9852, 4105,     76.9,  29.1064,  35.3520,2,   -999.0,9,-999.0000,9,    190.6,2,     1.07,2,  -999.00,9,     0.00,2,     0.00,2,     0.20,2, -999.000,9, -999.000,9,  -999.00,9,   -999.0,9,   -999.0,9,-999.0000,9,   -999.0,  9,  -999.00,9,   -999.0,  -999.00,9,  -999.00,9,     0.22,2,     0.07,2,   -999.0,-999.0000, -999,9,   76,  29.0877,  22.2990,   -999.0,9
     RF00-09-1,  165E,RF-1189,  1,     17,02-12815,2,20001017,0220, -3.0012, 164.9852, 4105,    103.5,  28.8275,  35.3761,2,   -999.0,9,  35.3947,2,    186.7,2,     1.46,2,  -999.00,9,     2.22,2,     0.68,2,     0.35,2, -999.000,9, -999.000,9,  -999.00,9,   -999.0,9,   -999.0,9,-999.0000,9,   -999.0,  9,  -999.00,9,   -999.0,  -999.00,9,  -999.00,9,     0.28,2,     0.30,2,   -999.0,-999.0000, -999,9,  103,  28.8026,  22.4124,   -999.0,9
     RF00-09-1,  165E,RF-1189,  1,     16,02-12818,2,20001017,0217, -3.0012, 164.9852, 4105,    127.8,  27.2871,  35.5357,2,   -999.0,9,-999.0000,9,    167.5,2,     2.12,2,  -999.00,9,     7.26,2,     0.12,2,     0.63,2, -999.000,9, -999.000,9,  -999.00,9,   -999.0,9,   -999.0,9,-999.0000,9,   -999.0,  9,  -999.00,9,   -999.0,  -999.00,9,  -999.00,9,     0.11,2,     0.22,2,   -999.0,-999.0000, -999,9,  127,  27.2575,  23.0387,   -999.0,9
     RF00-09-1,  165E,RF-1189,  1,     15,02-12809,2,20001017,0215, -3.0012, 164.9852, 4105,    152.4,  26.0234,  35.5941,2,   -999.0,9,-999.0000,9,    149.1,2,     2.26,2,  -999.00,9,     8.73,2,     0.03,2,     0.70,2, -999.000,9, -999.000,9,  -999.00,9,   -999.0,9,   -999.0,9,-999.0000,9,   -999.0,  9,  -999.00,9,   -999.0,  -999.00,9,  -999.00,9,     0.05,2,     0.09,2,   -999.0,-999.0000, -999,9,  152,  25.9892,  23.4850,   -999.0,9
     RF00-09-1,  165E,RF-1189,  1,     14,02-12817,2,20001017,0213, -3.0012, 164.9852, 4105,    202.8,  14.9667,  35.2087,2,   -999.0,9,  35.2037,2,    100.4,3,    10.78,2,  -999.00,9,    20.46,2,     0.00,2,     1.49,2, -999.000,9, -999.000,9,  -999.00,9,   -999.0,9,   -999.0,9,-999.0000,9,   -999.0,  9,  -999.00,9,   -999.0,  -999.00,9,  -999.00,9,     0.01,2,     0.02,2,   -999.0,-999.0000, -999,9,  202,  14.9360,  26.1470,   -999.0,9
     RF00-09-1,  165E,RF-1189,  1,     13,02-12808,2,20001017,0211, -3.0012, 164.9852, 4105,    253.2,  11.4814,  34.8506,2,   -999.0,9,-999.0000,9,    121.4,2,    18.26,2,  -999.00,9,    23.52,2,     0.00,2,     1.62,2, -999.000,9, -999.000,9,  -999.00,9,   -999.0,9,   -999.0,9,-999.0000,9,   -999.0,  9,  -999.00,9,   -999.0,  -999.00,9,  -999.00,9,  -999.00,9,  -999.00,9,   -999.0,-999.0000, -999,9,  252,  11.4493,  26.5768,   -999.0,9
     RF00-09-1,  165E,RF-1189,  1,     12,02-12821,2,20001017,0209, -3.0012, 164.9852, 4105,    303.2,  10.7843,  34.7863,2,   -999.0,9,  34.7827,2,    106.1,2,    21.98,2,  -999.00,9,    26.28,2,     0.00,2,     1.81,2, -999.000,9, -999.000,9,  -999.00,9,   -999.0,9,   -999.0,9,-999.0000,9,   -999.0,  9,  -999.00,9,   -999.0,  -999.00,9,  -999.00,9,  -999.00,9,  -999.00,9,   -999.0,-999.0000, -999,9,  301,  10.7473,  26.6546,   -999.0,9
     RF00-09-1,  165E,RF-1189,  1,     11,02-12811,2,20001017,0202, -3.0012, 164.9852, 4105,    404.5,   9.4071,  34.7021,2,   -999.0,9,  34.7020,2,     98.8,2,    25.07,2,  -999.00,9,    29.61,2,     0.00,2,     2.02,2, -999.000,9, -999.000,9,  -999.00,9,   -999.0,9,   -999.0,9,-999.0000,9,   -999.0,  9,  -999.00,9,   -999.0,  -999.00,9,  -999.00,9,  -999.00,9,  -999.00,9,   -999.0,-999.0000, -999,9,  402,   9.3616,  26.8262,   -999.0,9
     RF00-09-1,  165E,RF-1189,  1,     10,02-12820,2,20001017,0159, -3.0012, 164.9852, 4105,    505.1,   8.3010,  34.6306,2,   -999.0,9,  34.6282,2,    130.3,2,    25.04,2,  -999.00,9,    28.89,2,     0.00,2,     1.97,2, -999.000,9, -999.000,9,  -999.00,9,   -999.0,9,   -999.0,9,-999.0000,9,   -999.0,  9,  -999.00,9,   -999.0,  -999.00,9,  -999.00,9,  -999.00,9,  -999.00,9,   -999.0,-999.0000, -999,9,  502,   8.2481,  26.9463,   -999.0,9
     RF00-09-1,  165E,RF-1189,  1,      9,02-12810,2,20001017,0155, -3.0012, 164.9852, 4105,    606.0,   7.0167,  34.5622,2,   -999.0,9,  34.5623,2,    121.6,2,    33.92,2,  -999.00,9,    32.22,2,     0.00,2,     2.21,2, -999.000,9, -999.000,9,  -999.00,9,   -999.0,9,   -999.0,9,-999.0000,9,   -999.0,  9,  -999.00,9,   -999.0,  -999.00,9,  -999.00,9,  -999.00,9,  -999.00,9,   -999.0,-999.0000, -999,9,  602,   6.9586,  27.0796,   -999.0,9
     RF00-09-1,  165E,RF-1189,  1,      8,02-12819,2,20001017,0151, -3.0012, 164.9852, 4105,    704.7,   6.1952,  34.5483,2,   -999.0,9,  34.5769,4,     98.6,2,    46.25,2,  -999.00,9,    36.00,2,     0.00,2,     2.50,2, -999.000,9, -999.000,9,  -999.00,9,   -999.0,9,   -999.0,9,-999.0000,9,   -999.0,  9,  -999.00,9,   -999.0,  -999.00,9,  -999.00,9,  -999.00,9,  -999.00,9,   -999.0,-999.0000, -999,9,  700,   6.1316,  27.1789,   -999.0,9
     RF00-09-1,  165E,RF-1189,  1,      7,02-13591,2,20001017,0149, -3.0012, 164.9852, 4105,    808.1,   5.3799,  34.5346,2,   -999.0,9,  34.5285,2,    109.3,2,    55.72,2,  -999.00,9,    36.11,2,     0.00,2,     2.52,2, -999.000,9, -999.000,9,  -999.00,9,   -999.0,9,   -999.0,9,-999.0000,9,   -999.0,  9,  -999.00,9,   -999.0,  -999.00,9,  -999.00,9,  -999.00,9,  -999.00,9,   -999.0,-999.0000, -999,9,  802,   5.3113,  27.2697,   -999.0,9
     RF00-09-1,  165E,RF-1189,  1,      6,02-13588,2,20001017,0142, -3.0012, 164.9852, 4105,    909.2,   4.9152,  34.5375,2,   -999.0,9,-999.0000,9,    110.6,2,    63.60,2,  -999.00,9,    36.46,2,     0.00,2,     2.55,2, -999.000,9, -999.000,9,  -999.00,9,   -999.0,9,   -999.0,9,-999.0000,9,   -999.0,  9,  -999.00,9,   -999.0,  -999.00,9,  -999.00,9,  -999.00,9,  -999.00,9,   -999.0,-999.0000, -999,9,  902,   4.8406,  27.3269,   -999.0,9
     RF00-09-1,  165E,RF-1189,  1,      5,02-10155,2,20001017,0139, -3.0012, 164.9852, 4105,   1010.1,   4.4753,  34.5543,2,   -999.0,9,  34.5470,2,     98.7,2,    74.92,2,  -999.00,9,    37.98,2,     0.00,2,     2.68,2, -999.000,9, -999.000,9,  -999.00,9,   -999.0,9,   -999.0,9,-999.0000,9,   -999.0,  9,  -999.00,9,   -999.0,  -999.00,9,  -999.00,9,  -999.00,9,  -999.00,9,   -999.0,-999.0000, -999,9, 1002,   4.3951,  27.3897,   -999.0,9
     RF00-09-1,  165E,RF-1189,  1,      4,02-13579,2,20001017,0130, -3.0012, 164.9852, 4105,   1263.9,   3.8309,  34.5694,2,   -999.0,9,  34.5635,2,    107.4,2,    86.15,2,  -999.00,9,    37.57,2,     0.00,2,     2.64,2, -999.000,9, -999.000,9,  -999.00,9,   -999.0,9,   -999.0,9,-999.0000,9,   -999.0,  9,  -999.00,9,   -999.0,  -999.00,9,  -999.00,9,  -999.00,9,  -999.00,9,   -999.0,-999.0000, -999,9, 1253,   3.7343,  27.4708,   -999.0,9
     RF00-09-1,  165E,RF-1189,  1,      3,02-13590,2,20001017,0120, -3.0012, 164.9852, 4105,   1515.4,   3.2236,  34.5935,2,   -999.0,9,  34.6290,4,    108.4,2,    99.57,2,  -999.00,9,    37.92,2,     0.00,2,     2.67,2, -999.000,9, -999.000,9,  -999.00,9,   -999.0,9,   -999.0,9,-999.0000,9,   -999.0,  9,  -999.00,9,   -999.0,  -999.00,9,  -999.00,9,  -999.00,9,  -999.00,9,   -999.0,-999.0000, -999,9, 1502,   3.1118,  27.5503,   -999.0,9
     RF00-09-1,  165E,RF-1189,  1,      2,02-13589,2,20001017,0112, -3.0012, 164.9852, 4105,   1770.1,   2.5848,  34.6226,2,   -999.0,9,  34.6164,2,    115.7,2,   112.63,2,  -999.00,9,    37.71,2,     0.00,2,     2.64,2, -999.000,9, -999.000,9,  -999.00,9,   -999.0,9,   -999.0,9,-999.0000,9,   -999.0,  9,  -999.00,9,   -999.0,  -999.00,9,  -999.00,9,  -999.00,9,  -999.00,9,   -999.0,-999.0000, -999,9, 1753,   2.4593,  27.6316,   -999.0,9
     RF00-09-1,  165E,RF-1189,  1,      1,02-12807,2,20001017,0104, -3.0012, 164.9852, 4105,   2033.8,   2.2339,  34.6394,2,   -999.0,9,  34.6389,2,    120.1,2,   119.95,2,  -999.00,9,    37.64,2,     0.00,2,     2.62,2, -999.000,9, -999.000,9,  -999.00,9,   -999.0,9,   -999.0,9,-999.0000,9,   -999.0,  9,  -999.00,9,   -999.0,  -999.00,9,  -999.00,9,  -999.00,9,  -999.00,9,   -999.0,-999.0000, -999,9, 2013,   2.0910,  27.6755,   -999.0,9
     RF00-09-1, EQPAC,RF-1194,  1,     -9,      -9,5,20001020,1916, -0.0030, 162.9863, 4446,      0.0,  28.9507,  35.2639,2,   -999.0,9,-999.0000,9,    195.1,2,     1.48,2,  -999.00,9,     1.43,2,     0.16,2,     0.26,2, -999.000,9, -999.000,9,  -999.00,9,   -999.0,9,   -999.0,9,-999.0000,9,   -999.0,  9,  -999.00,9,   -999.0,  -999.00,9,  -999.00,9,     0.29,2,     0.14,2,   -999.0,-999.0000, -999,9,    0,  28.9507,  22.2787,   -999.0,9
     RF00-09-1, EQPAC,RF-1194,  1,     17,02-12815,2,20001020,1911, -0.0030, 162.9863, 4446,     10.6,  28.9589,  35.2895,2,   -999.0,9,-999.0000,9,    193.0,2,     1.49,2,  -999.00,9,     1.39,2,     0.16,2,     0.23,2, -999.000,9, -999.000,9,  -999.00,9,   -999.0,9,   -999.0,9,-999.0000,9,   -999.0,  9,  -999.00,9,   -999.0,  -999.00,9,  -999.00,9,     0.32,2,     0.15,2,   -999.0,-999.0000, -999,9,   11,  28.9564,  22.2961,   -999.0,9
     RF00-09-1, EQPAC,RF-1194,  1,     16,02-12818,2,20001020,1909, -0.0030, 162.9863, 4446,     25.8,  28.9036,  35.2882,2,   -999.0,9,-999.0000,9,    191.8,2,     1.49,2,  -999.00,9,     1.42,2,     0.18,2,     0.23,2, -999.000,9, -999.000,9,  -999.00,9,   -999.0,9,   -999.0,9,-999.0000,9,   -999.0,  9,  -999.00,9,   -999.0,  -999.00,9,  -999.00,9,     0.32,2,     0.16,2,   -999.0,-999.0000, -999,9,   26,  28.8973,  22.3148,   -999.0,9
     RF00-09-1, EQPAC,RF-1194,  1,     15,02-12809,2,20001020,1907, -0.0030, 162.9863, 4446,     49.8,  28.8535,  35.3058,2,   -999.0,9,-999.0000,9,    187.4,2,     1.63,2,  -999.00,9,     2.03,2,     0.42,2,     0.27,2, -999.000,9, -999.000,9,  -999.00,9,   -999.0,9,   -999.0,9,-999.0000,9,   -999.0,  9,  -999.00,9,   -999.0,  -999.00,9,  -999.00,9,     0.36,2,     0.27,2,   -999.0,-999.0000, -999,9,   50,  28.8415,  22.3466,   -999.0,9
     RF00-09-1, EQPAC,RF-1194,  1,     14,02-12817,2,20001020,1906, -0.0030, 162.9863, 4446,     75.6,  28.3757,  35.3758,2,   -999.0,9,-999.0000,9,    172.4,2,     2.20,2,  -999.00,9,     4.95,2,     1.39,2,     0.42,2, -999.000,9, -999.000,9,  -999.00,9,   -999.0,9,   -999.0,9,-999.0000,9,   -999.0,  9,  -999.00,9,   -999.0,  -999.00,9,  -999.00,9,     0.27,2,     0.42,2,   -999.0,-999.0000, -999,9,   75,  28.3577,  22.5597,   -999.0,9
     RF00-09-1, EQPAC,RF-1194,  1,     13,02-12808,2,20001020,1904, -0.0030, 162.9863, 4446,    102.5,  27.1321,  35.4074,2,   -999.0,9,  35.4295,2,    161.1,2,     2.66,2,  -999.00,9,     6.71,2,     0.24,2,     0.52,2, -999.000,9, -999.000,9,  -999.00,9,   -999.0,9,   -999.0,9,-999.0000,9,   -999.0,  9,  -999.00,9,   -999.0,  -999.00,9,  -999.00,9,     0.13,2,     0.22,2,   -999.0,-999.0000, -999,9,  102,  27.1084,  22.9900,   -999.0,9
     RF00-09-1, EQPAC,RF-1194,  1,     12,02-12821,2,20001020,1902, -0.0030, 162.9863, 4446,    128.6,  25.2004,  35.3018,2,   -999.0,9,-999.0000,9,    146.8,2,     3.73,2,  -999.00,9,     7.88,2,     0.02,2,     0.59,2, -999.000,9, -999.000,9,  -999.00,9,   -999.0,9,   -999.0,9,-999.0000,9,   -999.0,  9,  -999.00,9,   -999.0,  -999.00,9,  -999.00,9,     0.08,2,     0.14,2,   -999.0,-999.0000, -999,9,  128,  25.1724,  23.5167,   -999.0,9
     RF00-09-1, EQPAC,RF-1194,  1,     11,02-12811,2,20001020,1900, -0.0030, 162.9863, 4446,    152.7,  22.1294,  35.3414,2,   -999.0,9,-999.0000,9,    139.1,2,     4.75,2,  -999.00,9,     9.68,2,     0.02,2,     0.68,2, -999.000,9, -999.000,9,  -999.00,9,   -999.0,9,   -999.0,9,-999.0000,9,   -999.0,  9,  -999.00,9,   -999.0,  -999.00,9,  -999.00,9,     0.05,2,     0.06,2,   -999.0,-999.0000, -999,9,  152,  22.0990,  24.4494,   -999.0,9
     RF00-09-1, EQPAC,RF-1194,  1,     10,02-12820,2,20001020,1856, -0.0030, 162.9863, 4446,    202.4,  15.6020,  35.0759,2,   -999.0,9,  35.0597,4,    141.4,2,    11.47,2,  -999.00,9,    15.46,2,     0.00,2,     1.03,2, -999.000,9, -999.000,9,  -999.00,9,   -999.0,9,   -999.0,9,-999.0000,9,   -999.0,  9,  -999.00,9,   -999.0,  -999.00,9,  -999.00,9,     0.00,2,     0.03,2,   -999.0,-999.0000, -999,9,  201,  15.5705,  25.9035,   -999.0,9
     RF00-09-1, EQPAC,RF-1194,  1,      9,02-12810,2,20001020,1852, -0.0030, 162.9863, 4446,    251.9,  13.2011,  34.9825,2,   -999.0,9,-999.0000,9,    142.5,2,    13.75,2,  -999.00,9,    18.70,2,     0.00,2,     1.26,2, -999.000,9, -999.000,9,  -999.00,9,   -999.0,9,   -999.0,9,-999.0000,9,   -999.0,  9,  -999.00,9,   -999.0,  -999.00,9,  -999.00,9,  -999.00,9,  -999.00,9,   -999.0,-999.0000, -999,9,  250,  13.1660,  26.3458,   -999.0,9
     RF00-09-1, EQPAC,RF-1194,  1,      8,02-12819,2,20001020,1849, -0.0030, 162.9863, 4446,    302.1,  11.7133,  34.8734,2,   -999.0,9,  34.8725,2,    131.0,2,    17.48,2,  -999.00,9,    22.30,2,     0.00,2,     1.49,2, -999.000,9, -999.000,9,  -999.00,9,   -999.0,9,   -999.0,9,-999.0000,9,   -999.0,  9,  -999.00,9,   -999.0,  -999.00,9,  -999.00,9,  -999.00,9,  -999.00,9,   -999.0,-999.0000, -999,9,  300,  11.6744,  26.5525,   -999.0,9
     RF00-09-1, EQPAC,RF-1194,  1,      7,02-13591,2,20001020,1846, -0.0030, 162.9863, 4446,    402.6,   9.0496,  34.6685,2,   -999.0,9,  34.6804,2,     79.8,2,    30.20,2,  -999.00,9,    32.21,2,     0.00,2,     2.16,2, -999.000,9, -999.000,9,  -999.00,9,   -999.0,9,   -999.0,9,-999.0000,9,   -999.0,  9,  -999.00,9,   -999.0,  -999.00,9,  -999.00,9,  -999.00,9,  -999.00,9,   -999.0,-999.0000, -999,9,  400,   9.0054,  26.8577,   -999.0,9
     RF00-09-1, EQPAC,RF-1194,  1,      6,02-13588,2,20001020,1843, -0.0030, 162.9863, 4446,    503.5,   8.3554,  34.6235,2,   -999.0,9,  34.6239,2,     71.2,2,    35.32,2,  -999.00,9,    34.74,2,     0.00,2,     2.34,2, -999.000,9, -999.000,9,  -999.00,9,   -999.0,9,   -999.0,9,-999.0000,9,   -999.0,  9,  -999.00,9,   -999.0,  -999.00,9,  -999.00,9,  -999.00,9,  -999.00,9,   -999.0,-999.0000, -999,9,  500,   8.3024,  26.9324,   -999.0,9
     RF00-09-1, EQPAC,RF-1194,  1,      5,02-10155,2,20001020,1838, -0.0030, 162.9863, 4446,    605.0,   6.8242,  34.5676,2,   -999.0,9,  34.5775,2,     79.3,2,    45.42,2,  -999.00,9,    36.48,2,     0.00,2,     2.50,2, -999.000,9, -999.000,9,  -999.00,9,   -999.0,9,   -999.0,9,-999.0000,9,   -999.0,  9,  -999.00,9,   -999.0,  -999.00,9,  -999.00,9,  -999.00,9,  -999.00,9,   -999.0,-999.0000, -999,9,  601,   6.7671,  27.1101,   -999.0,9
     RF00-09-1, EQPAC,RF-1194,  1,      4,02-13579,2,20001020,1835, -0.0030, 162.9863, 4446,    706.5,   6.1866,  34.5493,2,   -999.0,9,  34.5531,2,     86.4,2,    51.00,2,  -999.00,9,    36.95,2,     0.00,2,     2.56,2, -999.000,9, -999.000,9,  -999.00,9,   -999.0,9,   -999.0,9,-999.0000,9,   -999.0,  9,  -999.00,9,   -999.0,  -999.00,9,  -999.00,9,  -999.00,9,  -999.00,9,   -999.0,-999.0000, -999,9,  701,   6.1228,  27.1808,   -999.0,9
     RF00-09-1, EQPAC,RF-1194,  1,      3,02-13590,2,20001020,1828, -0.0030, 162.9863, 4446,    808.0,   5.6326,  34.5420,2,   -999.0,9,  34.5649,2,     85.9,2,    59.52,2,  -999.00,9,    37.75,2,     0.00,2,     2.61,2, -999.000,9, -999.000,9,  -999.00,9,   -999.0,9,   -999.0,9,-999.0000,9,   -999.0,  9,  -999.00,9,   -999.0,  -999.00,9,  -999.00,9,  -999.00,9,  -999.00,9,   -999.0,-999.0000, -999,9,  802,   5.5625,  27.2453,   -999.0,9
     RF00-09-1, EQPAC,RF-1194,  1,      2,02-13589,2,20001020,1825, -0.0030, 162.9863, 4446,    908.3,   5.2091,  34.5373,2,   -999.0,9,-999.0000,9,     94.9,2,    65.99,2,  -999.00,9,    37.28,2,     0.00,2,     2.58,2, -999.000,9, -999.000,9,  -999.00,9,   -999.0,9,   -999.0,9,-999.0000,9,   -999.0,  9,  -999.00,9,   -999.0,  -999.00,9,  -999.00,9,  -999.00,9,  -999.00,9,   -999.0,-999.0000, -999,9,  901,   5.1326,  27.2930,   -999.0,9
     RF00-09-1, EQPAC,RF-1194,  1,      1,02-12807,2,20001020,1822, -0.0030, 162.9863, 4446,   1023.9,   4.6362,  34.5434,2,   -999.0,9,  34.6023,4,     96.5,2,    76.35,2,  -999.00,9,    37.71,2,     0.00,2,     2.61,2, -999.000,9, -999.000,9,  -999.00,9,   -999.0,9,   -999.0,9,-999.0000,9,   -999.0,  9,  -999.00,9,   -999.0,  -999.00,9,  -999.00,9,  -999.00,9,  -999.00,9,   -999.0,-999.0000, -999,9, 1016,   4.5535,  27.3637,   -999.0,9