BOTTLE,20130510GEMDJMAYT
EXPOCODE,SECT_ID,STNNBR,CASTNO,SAMPNO,BTLNBR,BTLNBR_FLAG_W,DATE,TIME,LATITUDE,LONGITUDE,DEPTH,CTDPRS,CTDTMP,CTDSAL,CTDSAL_FLAG_W,CTDOXY,CTDOXY_FLAG_W,SALNTY,SALNTY_FLAG_W,OXYGEN,OXYGEN_FLAG_W,SILCAT,SILCAT_FLAG_W,NITRAT,NITRAT_FLAG_W,NO2+NO3,NO2+NO3_FLAG_W,NITRIT,NITRIT_FLAG_W,PHSPHT,PHSPHT_FLAG_W,CFC-11,CFC-11_FLAG_W,CFC-12,CFC-12_FLAG_W,DELC13,DELC13_FLAG_W,TCARBN,TCARBN_FLAG_W,ALKALI,ALKALI_FLAG_W,PH,PH_FLAG_W,PH_TMP,PH_SCALE,PH_NBS,PH_NBS_FLAG_W,C13ERR,TOTALP,TOTALP_FLAG_W,AMMONI,AMMONI_FLAG_W,CHLORA,CHLORA_FLAG_W,PPHYTN,PPHYTN_FLAG_W,REVPRS,REVTMP,DEPTH_,DEPTH_FLAG,CTDDEP,THETA,SIGTHT,DOC,DOC_FLAG_W
,,,,,,,GMT,GMT,,,METER,DBAR,ITS-90,PSS-78,,UMOL/KG,,PSS-78,,UMOL/KG,,UMOL/KG,,UMOL/KG,,UMOL/KG,,UMOL/KG,,UMOL/KG,,PMOL/KG,,PMOL/KG,,/MILLE,,UMOL/KG,,UMOL/KG,,25_DEG_C,,DEG_C,,,,/MILLE,UMOL/KG,,UMOL/KG,,UG/L,,UG/L,,DBAR,ITS-90,METERS,,METERS,DEG_C,,UMOL/L,
     RF00-09-2,  137E,RF-1235,  1,     -9,      -9,5,20001112,0040, 19.9860, 136.9825, 4742,      0.0,  28.6813,  34.2460,2,   -999.0,9,-999.0000,9,    196.6,2,     1.18,2,  -999.00,9,     0.00,2,     0.00,2,     0.00,2, -999.000,9, -999.000,9,  -999.00,9,   -999.0,9,   -999.0,9,-999.0000,9,   -999.0,  9,  -999.00,9,   -999.0,  -999.00,9,  -999.00,9,     0.06,2,     0.01,2,   -999.0,-999.0000, -999,9,    0,  28.6813,  21.6039,   -999.0,9
     RF00-09-2,  137E,RF-1235,  1,     21, 02-9150,2,20001112,0038, 19.9860, 136.9825, 4742,     10.1,  28.6694,  34.3812,2,   -999.0,9,-999.0000,9,    197.5,2,     1.22,2,  -999.00,9,     0.00,2,     0.00,2,     0.00,2, -999.000,9, -999.000,9,  -999.00,9,   -999.0,9,   -999.0,9,-999.0000,9,   -999.0,  9,  -999.00,9,   -999.0,  -999.00,9,  -999.00,9,     0.06,2,     0.02,2,   -999.0,-999.0000, -999,9,   10,  28.6670,  21.7102,   -999.0,9
     RF00-09-2,  137E,RF-1235,  1,     20,02-12826,2,20001112,0036, 19.9860, 136.9825, 4742,     26.3,  28.6640,  34.3840,2,   -999.0,9,-999.0000,9,    197.5,2,     1.22,2,  -999.00,9,     0.00,2,     0.00,2,     0.00,2, -999.000,9, -999.000,9,  -999.00,9,   -999.0,9,   -999.0,9,-999.0000,9,   -999.0,  9,  -999.00,9,   -999.0,  -999.00,9,  -999.00,9,     0.06,2,     0.01,2,   -999.0,-999.0000, -999,9,   26,  28.6577,  21.7153,   -999.0,9
     RF00-09-2,  137E,RF-1235,  1,     19,02-12825,2,20001112,0035, 19.9860, 136.9825, 4742,     49.8,  28.0887,  34.5749,2,   -999.0,9,-999.0000,9,    206.5,2,     1.28,2,  -999.00,9,     0.00,2,     0.00,2,     0.00,2, -999.000,9, -999.000,9,  -999.00,9,   -999.0,9,   -999.0,9,-999.0000,9,   -999.0,  9,  -999.00,9,   -999.0,  -999.00,9,  -999.00,9,     0.11,2,     0.03,2,   -999.0,-999.0000, -999,9,   49,  28.0770,  22.0499,   -999.0,9
     RF00-09-2,  137E,RF-1235,  1,     18,02-12830,2,20001112,0034, 19.9860, 136.9825, 4742,     75.2,  26.2332,  34.8411,2,   -999.0,9,-999.0000,9,    210.3,2,     1.30,2,  -999.00,9,     0.00,2,     0.00,2,     0.00,2, -999.000,9, -999.000,9,  -999.00,9,   -999.0,9,   -999.0,9,-999.0000,9,   -999.0,  9,  -999.00,9,   -999.0,  -999.00,9,  -999.00,9,     0.19,2,     0.04,2,   -999.0,-999.0000, -999,9,   75,  26.2163,  22.8459,   -999.0,9
     RF00-09-2,  137E,RF-1235,  1,     17,02-12815,2,20001112,0033, 19.9860, 136.9825, 4742,    101.3,  23.8975,  34.9227,2,   -999.0,9,  34.9324,2,    199.6,2,     1.48,2,  -999.00,9,     0.00,2,     0.00,2,     0.00,2, -999.000,9, -999.000,9,  -999.00,9,   -999.0,9,   -999.0,9,-999.0000,9,   -999.0,  9,  -999.00,9,   -999.0,  -999.00,9,  -999.00,9,     0.24,2,     0.24,2,   -999.0,-999.0000, -999,9,  101,  23.8762,  23.6194,   -999.0,9
     RF00-09-2,  137E,RF-1235,  1,     16,02-12818,2,20001112,0031, 19.9860, 136.9825, 4742,    124.8,  22.4847,  34.7994,2,   -999.0,9,-999.0000,9,    200.4,2,     1.66,2,  -999.00,9,     0.03,2,     0.11,2,     0.00,2, -999.000,9, -999.000,9,  -999.00,9,   -999.0,9,   -999.0,9,-999.0000,9,   -999.0,  9,  -999.00,9,   -999.0,  -999.00,9,  -999.00,9,     0.29,2,     0.27,2,   -999.0,-999.0000, -999,9,  124,  22.4596,  23.9359,   -999.0,9
     RF00-09-2,  137E,RF-1235,  1,     15,02-12809,2,20001112,0030, 19.9860, 136.9825, 4742,    150.7,  21.1345,  34.8399,2,   -999.0,9,-999.0000,9,    193.8,2,     2.06,2,  -999.00,9,     1.38,2,     0.01,2,     0.06,2, -999.000,9, -999.000,9,  -999.00,9,   -999.0,9,   -999.0,9,-999.0000,9,   -999.0,  9,  -999.00,9,   -999.0,  -999.00,9,  -999.00,9,     0.10,2,     0.14,2,   -999.0,-999.0000, -999,9,  150,  21.1056,  24.3433,   -999.0,9
     RF00-09-2,  137E,RF-1235,  1,     14,02-12817,2,20001112,0028, 19.9860, 136.9825, 4742,    201.0,  19.1027,  34.8210,2,   -999.0,9,  34.8442,2,    195.5,2,     2.91,2,  -999.00,9,     3.28,2,     0.00,2,     0.17,2, -999.000,9, -999.000,9,  -999.00,9,   -999.0,9,   -999.0,9,-999.0000,9,   -999.0,  9,  -999.00,9,   -999.0,  -999.00,9,  -999.00,9,     0.01,2,     0.02,2,   -999.0,-999.0000, -999,9,  200,  19.0667,  24.8673,   -999.0,9
     RF00-09-2,  137E,RF-1235,  1,     13,02-12808,2,20001112,0026, 19.9860, 136.9825, 4742,    251.7,  17.4405,  34.7898,2,   -999.0,9,-999.0000,9,    190.9,2,     4.70,2,  -999.00,9,     5.77,2,     0.00,2,     0.31,2, -999.000,9, -999.000,9,  -999.00,9,   -999.0,9,   -999.0,9,-999.0000,9,   -999.0,  9,  -999.00,9,   -999.0,  -999.00,9,  -999.00,9,  -999.00,9,  -999.00,9,   -999.0,-999.0000, -999,9,  250,  17.3982,  25.2576,   -999.0,9
     RF00-09-2,  137E,RF-1235,  1,     12,02-12821,2,20001112,0024, 19.9860, 136.9825, 4742,    302.5,  15.7996,  34.6838,2,   -999.0,9,  34.7373,4,    189.5,2,     7.31,2,  -999.00,9,     8.26,2,     0.00,2,     0.48,2, -999.000,9, -999.000,9,  -999.00,9,   -999.0,9,   -999.0,9,-999.0000,9,   -999.0,  9,  -999.00,9,   -999.0,  -999.00,9,  -999.00,9,  -999.00,9,  -999.00,9,   -999.0,-999.0000, -999,9,  300,  15.7521,  25.5607,   -999.0,9
     RF00-09-2,  137E,RF-1235,  1,     11,02-12811,2,20001112,0021, 19.9860, 136.9825, 4742,    403.1,  12.6880,  34.4452,2,   -999.0,9,  34.4379,2,    178.0,2,    16.03,2,  -999.00,9,    14.47,2,     0.00,2,     0.92,2, -999.000,9, -999.000,9,  -999.00,9,   -999.0,9,   -999.0,9,-999.0000,9,   -999.0,  9,  -999.00,9,   -999.0,  -999.00,9,  -999.00,9,  -999.00,9,  -999.00,9,   -999.0,-999.0000, -999,9,  400,  12.6333,  26.0358,   -999.0,9
     RF00-09-2,  137E,RF-1235,  1,     10,02-12820,2,20001112,0017, 19.9860, 136.9825, 4742,    506.7,   9.4853,  34.2331,2,   -999.0,9,  34.2339,2,    145.2,2,    30.81,2,  -999.00,9,    23.00,2,     0.00,2,     1.56,2, -999.000,9, -999.000,9,  -999.00,9,   -999.0,9,   -999.0,9,-999.0000,9,   -999.0,  9,  -999.00,9,   -999.0,  -999.00,9,  -999.00,9,  -999.00,9,  -999.00,9,   -999.0,-999.0000, -999,9,  503,   9.4280,  26.4484,   -999.0,9
     RF00-09-2,  137E,RF-1235,  1,      9,02-12810,2,20001112,0014, 19.9860, 136.9825, 4742,    604.8,   7.1126,  34.1691,2,   -999.0,9,  34.1846,2,    106.4,2,    52.37,2,  -999.00,9,    30.66,2,     0.00,2,     2.16,2, -999.000,9, -999.000,9,  -999.00,9,   -999.0,9,   -999.0,9,-999.0000,9,   -999.0,  9,  -999.00,9,   -999.0,  -999.00,9,  -999.00,9,  -999.00,9,  -999.00,9,   -999.0,-999.0000, -999,9,  600,   7.0546,  26.7567,   -999.0,9
     RF00-09-2,  137E,RF-1235,  1,      8,02-12819,2,20001112,0010, 19.9860, 136.9825, 4742,    706.5,   5.7291,  34.2366,2,   -999.0,9,  34.2396,2,     71.6,2,    71.87,2,  -999.00,9,    36.02,2,     0.00,2,     2.56,2, -999.000,9, -999.000,9,  -999.00,9,   -999.0,9,   -999.0,9,-999.0000,9,   -999.0,  9,  -999.00,9,   -999.0,  -999.00,9,  -999.00,9,  -999.00,9,  -999.00,9,   -999.0,-999.0000, -999,9,  701,   5.6681,  26.9907,   -999.0,9
     RF00-09-2,  137E,RF-1235,  1,      7,02-13591,2,20001112,0006, 19.9860, 136.9825, 4742,    805.6,   4.9001,  34.3174,2,   -999.0,9,  34.3178,2,     59.2,2,    85.93,2,  -999.00,9,    38.45,2,     0.00,2,     2.74,2, -999.000,9, -999.000,9,  -999.00,9,   -999.0,9,   -999.0,9,-999.0000,9,   -999.0,  9,  -999.00,9,   -999.0,  -999.00,9,  -999.00,9,  -999.00,9,  -999.00,9,   -999.0,-999.0000, -999,9,  799,   4.8349,  27.1529,   -999.0,9
     RF00-09-2,  137E,RF-1235,  1,      6,02-13588,2,20001112,0004, 19.9860, 136.9825, 4742,    906.8,   4.2795,  34.4163,2,   -999.0,9,-999.0000,9,     60.9,2,    97.16,2,  -999.00,9,    39.33,2,     0.00,2,     2.78,2, -999.000,9, -999.000,9,  -999.00,9,   -999.0,9,   -999.0,9,-999.0000,9,   -999.0,  9,  -999.00,9,   -999.0,  -999.00,9,  -999.00,9,  -999.00,9,  -999.00,9,   -999.0,-999.0000, -999,9,  899,   4.2097,  27.2999,   -999.0,9
     RF00-09-2,  137E,RF-1235,  1,      5,02-10155,2,20001112,0000, 19.9860, 136.9825, 4742,   1007.9,   3.9055,  34.4591,2,   -999.0,9,  34.4558,2,     65.1,2,   103.71,2,  -999.00,9,    39.41,2,     0.00,2,     2.78,2, -999.000,9, -999.000,9,  -999.00,9,   -999.0,9,   -999.0,9,-999.0000,9,   -999.0,  9,  -999.00,9,   -999.0,  -999.00,9,  -999.00,9,  -999.00,9,  -999.00,9,   -999.0,-999.0000, -999,9,  999,   3.8300,  27.3733,   -999.0,9
     RF00-09-2,  137E,RF-1235,  1,      4,02-13579,2,20001111,2353, 19.9860, 136.9825, 4742,   1259.9,   3.0885,  34.5256,2,   -999.0,9,  34.5222,2,     79.6,2,   118.12,2,  -999.00,9,    39.14,2,     0.00,2,     2.75,2, -999.000,9, -999.000,9,  -999.00,9,   -999.0,9,   -999.0,9,-999.0000,9,   -999.0,  9,  -999.00,9,   -999.0,  -999.00,9,  -999.00,9,  -999.00,9,  -999.00,9,   -999.0,-999.0000, -999,9, 1248,   2.9995,  27.5065,   -999.0,9
     RF00-09-2,  137E,RF-1235,  1,      3,02-13590,2,20001111,2346, 19.9860, 136.9825, 4742,   1513.3,   2.5584,  34.5777,2,   -999.0,9,  34.6455,4,     96.5,2,   124.59,2,  -999.00,9,    38.46,2,     0.00,2,     2.68,2, -999.000,9, -999.000,9,  -999.00,9,   -999.0,9,   -999.0,9,-999.0000,9,   -999.0,  9,  -999.00,9,   -999.0,  -999.00,9,  -999.00,9,  -999.00,9,  -999.00,9,   -999.0,-999.0000, -999,9, 1499,   2.4546,  27.5961,   -999.0,9
     RF00-09-2,  137E,RF-1235,  1,      2,02-13589,2,20001111,2341, 19.9860, 136.9825, 4742,   1766.9,   2.2544,  34.6086,2,   -999.0,9,  34.6048,2,    107.2,2,   127.31,2,  -999.00,9,    38.20,2,     0.00,2,     2.64,2, -999.000,9, -999.000,9,  -999.00,9,   -999.0,9,   -999.0,9,-999.0000,9,   -999.0,  9,  -999.00,9,   -999.0,  -999.00,9,  -999.00,9,  -999.00,9,  -999.00,9,   -999.0,-999.0000, -999,9, 1749,   2.1337,  27.6474,   -999.0,9
     RF00-09-2,  137E,RF-1235,  1,      1,02-12807,2,20001111,2336, 19.9860, 136.9825, 4742,   2031.3,   2.0116,  34.6275,2,   -999.0,9,  34.6282,2,    114.1,2,   129.92,2,  -999.00,9,    37.98,2,     0.00,2,     2.62,2, -999.000,9, -999.000,9,  -999.00,9,   -999.0,9,   -999.0,9,-999.0000,9,   -999.0,  9,  -999.00,9,   -999.0,  -999.00,9,  -999.00,9,  -999.00,9,  -999.00,9,   -999.0,-999.0000, -999,9, 2009,   1.8724,  27.6832,   -999.0,9