BOTTLE,20130510GEMDJMAYT
EXPOCODE,SECT_ID,STNNBR,CASTNO,SAMPNO,BTLNBR,BTLNBR_FLAG_W,DATE,TIME,LATITUDE,LONGITUDE,DEPTH,CTDPRS,CTDTMP,CTDSAL,CTDSAL_FLAG_W,CTDOXY,CTDOXY_FLAG_W,SALNTY,SALNTY_FLAG_W,OXYGEN,OXYGEN_FLAG_W,SILCAT,SILCAT_FLAG_W,NITRAT,NITRAT_FLAG_W,NO2+NO3,NO2+NO3_FLAG_W,NITRIT,NITRIT_FLAG_W,PHSPHT,PHSPHT_FLAG_W,CFC-11,CFC-11_FLAG_W,CFC-12,CFC-12_FLAG_W,DELC13,DELC13_FLAG_W,TCARBN,TCARBN_FLAG_W,ALKALI,ALKALI_FLAG_W,PH,PH_FLAG_W,PH_TMP,PH_SCALE,PH_NBS,PH_NBS_FLAG_W,C13ERR,TOTALP,TOTALP_FLAG_W,AMMONI,AMMONI_FLAG_W,CHLORA,CHLORA_FLAG_W,PPHYTN,PPHYTN_FLAG_W,REVPRS,REVTMP,DEPTH_,DEPTH_FLAG,CTDDEP,THETA,SIGTHT,DOC,DOC_FLAG_W
,,,,,,,GMT,GMT,,,METER,DBAR,ITS-90,PSS-78,,UMOL/KG,,PSS-78,,UMOL/KG,,UMOL/KG,,UMOL/KG,,UMOL/KG,,UMOL/KG,,UMOL/KG,,PMOL/KG,,PMOL/KG,,/MILLE,,UMOL/KG,,UMOL/KG,,25_DEG_C,,DEG_C,,,,/MILLE,UMOL/KG,,UMOL/KG,,UG/L,,UG/L,,DBAR,ITS-90,METERS,,METERS,DEG_C,,UMOL/L,
     RF00-09-2,  137E,RF-1245,  1,     -9,      -9,5,20001114,1815, 30.0068, 136.9803, 4527,      0.0,  26.4980,  34.4967,2,   -999.0,9,-999.0000,9,    206.1,2,     0.39,2,  -999.00,9,     0.09,2,     0.00,2,     0.00,2, -999.000,9, -999.000,9,  -999.00,9,   -999.0,9,   -999.0,9,-999.0000,9,   -999.0,  9,  -999.00,9,   -999.0,  -999.00,9,  -999.00,9,     0.11,2,     0.04,2,   -999.0,-999.0000, -999,9,    0,  26.4980,  22.4978,   -999.0,9
     RF00-09-2,  137E,RF-1245,  1,     21, 02-9150,2,20001114,1813, 30.0068, 136.9803, 4527,     10.7,  26.5027,  34.5014,2,   -999.0,9,-999.0000,9,    203.6,2,     0.34,2,  -999.00,9,     0.05,2,     0.00,2,     0.00,2, -999.000,9, -999.000,9,  -999.00,9,   -999.0,9,   -999.0,9,-999.0000,9,   -999.0,  9,  -999.00,9,   -999.0,  -999.00,9,  -999.00,9,     0.10,2,     0.02,2,   -999.0,-999.0000, -999,9,   11,  26.5003,  22.5006,   -999.0,9
     RF00-09-2,  137E,RF-1245,  1,     20,02-12826,2,20001114,1812, 30.0068, 136.9803, 4527,     25.2,  26.5069,  34.5034,2,   -999.0,9,-999.0000,9,    204.2,2,     0.21,2,  -999.00,9,     0.06,2,     0.00,2,     0.00,2, -999.000,9, -999.000,9,  -999.00,9,   -999.0,9,   -999.0,9,-999.0000,9,   -999.0,  9,  -999.00,9,   -999.0,  -999.00,9,  -999.00,9,     0.10,2,     0.03,2,   -999.0,-999.0000, -999,9,   25,  26.5012,  22.5018,   -999.0,9
     RF00-09-2,  137E,RF-1245,  1,     19,02-12825,2,20001114,1810, 30.0068, 136.9803, 4527,     51.0,  26.2028,  34.5081,2,   -999.0,9,-999.0000,9,    204.7,2,     0.13,2,  -999.00,9,     0.04,2,     0.00,2,     0.00,2, -999.000,9, -999.000,9,  -999.00,9,   -999.0,9,   -999.0,9,-999.0000,9,   -999.0,  9,  -999.00,9,   -999.0,  -999.00,9,  -999.00,9,     0.12,2,     0.03,2,   -999.0,-999.0000, -999,9,   51,  26.1913,  22.6026,   -999.0,9
     RF00-09-2,  137E,RF-1245,  1,     18,02-12830,2,20001114,1809, 30.0068, 136.9803, 4527,     75.2,  23.8860,  34.6708,2,   -999.0,9,-999.0000,9,    220.7,2,     0.20,2,  -999.00,9,     0.02,2,     0.00,2,     0.00,2, -999.000,9, -999.000,9,  -999.00,9,   -999.0,9,   -999.0,9,-999.0000,9,   -999.0,  9,  -999.00,9,   -999.0,  -999.00,9,  -999.00,9,     0.29,2,     0.19,2,   -999.0,-999.0000, -999,9,   75,  23.8702,  23.4305,   -999.0,9
     RF00-09-2,  137E,RF-1245,  1,     17,02-12815,2,20001114,1808, 30.0068, 136.9803, 4527,    100.1,  21.6971,  34.7860,2,   -999.0,9,  34.7969,2,    214.5,2,     0.28,2,  -999.00,9,     0.06,2,     0.04,2,     0.00,2, -999.000,9, -999.000,9,  -999.00,9,   -999.0,9,   -999.0,9,-999.0000,9,   -999.0,  9,  -999.00,9,   -999.0,  -999.00,9,  -999.00,9,     0.20,2,     0.29,2,   -999.0,-999.0000, -999,9,   99,  21.6776,  24.1450,   -999.0,9
     RF00-09-2,  137E,RF-1245,  1,     16,02-12818,2,20001114,1806, 30.0068, 136.9803, 4527,    125.4,  20.4923,  34.8056,2,   -999.0,9,-999.0000,9,    205.2,2,     0.54,2,  -999.00,9,     0.88,2,     0.05,2,     0.05,2, -999.000,9, -999.000,9,  -999.00,9,   -999.0,9,   -999.0,9,-999.0000,9,   -999.0,  9,  -999.00,9,   -999.0,  -999.00,9,  -999.00,9,     0.09,2,     0.20,2,   -999.0,-999.0000, -999,9,  124,  20.4687,  24.4891,   -999.0,9
     RF00-09-2,  137E,RF-1245,  1,     15,02-12809,2,20001114,1805, 30.0068, 136.9803, 4527,    150.9,  19.9156,  34.8070,2,   -999.0,9,-999.0000,9,    201.6,2,     0.65,2,  -999.00,9,     1.75,2,     0.02,2,     0.11,2, -999.000,9, -999.000,9,  -999.00,9,   -999.0,9,   -999.0,9,-999.0000,9,   -999.0,  9,  -999.00,9,   -999.0,  -999.00,9,  -999.00,9,     0.05,2,     0.14,2,   -999.0,-999.0000, -999,9,  150,  19.8878,  24.6440,   -999.0,9
     RF00-09-2,  137E,RF-1245,  1,     14,02-12817,2,20001114,1803, 30.0068, 136.9803, 4527,    201.4,  18.9890,  34.8029,2,   -999.0,9,  34.8131,2,    203.5,2,     0.95,2,  -999.00,9,     2.72,2,     0.00,2,     0.16,2, -999.000,9, -999.000,9,  -999.00,9,   -999.0,9,   -999.0,9,-999.0000,9,   -999.0,  9,  -999.00,9,   -999.0,  -999.00,9,  -999.00,9,     0.00,2,     0.02,2,   -999.0,-999.0000, -999,9,  200,  18.9531,  24.8824,   -999.0,9
     RF00-09-2,  137E,RF-1245,  1,     13,02-12808,2,20001114,1802, 30.0068, 136.9803, 4527,    251.9,  18.3680,  34.8096,2,   -999.0,9,-999.0000,9,    195.8,2,     1.53,2,  -999.00,9,     4.01,2,     0.00,2,     0.23,2, -999.000,9, -999.000,9,  -999.00,9,   -999.0,9,   -999.0,9,-999.0000,9,   -999.0,  9,  -999.00,9,   -999.0,  -999.00,9,  -999.00,9,  -999.00,9,  -999.00,9,   -999.0,-999.0000, -999,9,  250,  18.3241,  25.0459,   -999.0,9
     RF00-09-2,  137E,RF-1245,  1,     12,02-12821,2,20001114,1800, 30.0068, 136.9803, 4527,    303.7,  17.5513,  34.7749,2,   -999.0,9,  34.7825,2,    194.4,2,     2.70,2,  -999.00,9,     5.41,2,     0.00,2,     0.30,2, -999.000,9, -999.000,9,  -999.00,9,   -999.0,9,   -999.0,9,-999.0000,9,   -999.0,  9,  -999.00,9,   -999.0,  -999.00,9,  -999.00,9,  -999.00,9,  -999.00,9,   -999.0,-999.0000, -999,9,  301,  17.4999,  25.2217,   -999.0,9
     RF00-09-2,  137E,RF-1245,  1,     11,02-12811,2,20001114,1757, 30.0068, 136.9803, 4527,    402.5,  15.8535,  34.6913,2,   -999.0,9,  34.6879,2,    189.1,2,     5.68,2,  -999.00,9,     8.50,2,     0.00,2,     0.52,2, -999.000,9, -999.000,9,  -999.00,9,   -999.0,9,   -999.0,9,-999.0000,9,   -999.0,  9,  -999.00,9,   -999.0,  -999.00,9,  -999.00,9,  -999.00,9,  -999.00,9,   -999.0,-999.0000, -999,9,  399,  15.7900,  25.5579,   -999.0,9
     RF00-09-2,  137E,RF-1245,  1,     10,02-12820,2,20001114,1755, 30.0068, 136.9803, 4527,    504.3,  13.7972,  34.5365,2,   -999.0,9,  34.5360,2,    178.9,2,    12.38,2,  -999.00,9,    12.98,2,     0.00,2,     0.82,2, -999.000,9, -999.000,9,  -999.00,9,   -999.0,9,   -999.0,9,-999.0000,9,   -999.0,  9,  -999.00,9,   -999.0,  -999.00,9,  -999.00,9,  -999.00,9,  -999.00,9,   -999.0,-999.0000, -999,9,  500,  13.7246,  25.8863,   -999.0,9
     RF00-09-2,  137E,RF-1245,  1,      9,02-12810,2,20001114,1750, 30.0068, 136.9803, 4527,    605.0,  11.0827,  34.3659,2,   -999.0,9,  34.3567,2,    161.6,2,    24.64,2,  -999.00,9,    19.20,2,     0.00,2,     1.29,2, -999.000,9, -999.000,9,  -999.00,9,   -999.0,9,   -999.0,9,-999.0000,9,   -999.0,  9,  -999.00,9,   -999.0,  -999.00,9,  -999.00,9,  -999.00,9,  -999.00,9,   -999.0,-999.0000, -999,9,  600,  11.0069,  26.2805,   -999.0,9
     RF00-09-2,  137E,RF-1245,  1,      8,02-12819,2,20001114,1748, 30.0068, 136.9803, 4527,    706.7,   8.6727,  34.2622,2,   -999.0,9,  34.2626,2,    134.4,2,    42.87,2,  -999.00,9,    25.88,2,     0.00,2,     1.79,2, -999.000,9, -999.000,9,  -999.00,9,   -999.0,9,   -999.0,9,-999.0000,9,   -999.0,  9,  -999.00,9,   -999.0,  -999.00,9,  -999.00,9,  -999.00,9,  -999.00,9,   -999.0,-999.0000, -999,9,  701,   8.5961,  26.6039,   -999.0,9
     RF00-09-2,  137E,RF-1245,  1,      7,02-13591,2,20001114,1743, 30.0068, 136.9803, 4527,    806.3,   6.6462,  34.2372,2,   -999.0,9,  34.2314,2,    104.3,2,    63.34,2,  -999.00,9,    31.99,2,     0.00,2,     2.25,2, -999.000,9, -999.000,9,  -999.00,9,   -999.0,9,   -999.0,9,-999.0000,9,   -999.0,  9,  -999.00,9,   -999.0,  -999.00,9,  -999.00,9,  -999.00,9,  -999.00,9,   -999.0,-999.0000, -999,9,  799,   6.5704,  26.8759,   -999.0,9
     RF00-09-2,  137E,RF-1245,  1,      6,02-13588,2,20001114,1740, 30.0068, 136.9803, 4527,    907.5,   5.2811,  34.2672,2,   -999.0,9,-999.0000,9,     81.4,2,    81.47,2,  -999.00,9,    36.13,2,     0.00,2,     2.56,2, -999.000,9, -999.000,9,  -999.00,9,   -999.0,9,   -999.0,9,-999.0000,9,   -999.0,  9,  -999.00,9,   -999.0,  -999.00,9,  -999.00,9,  -999.00,9,  -999.00,9,   -999.0,-999.0000, -999,9,  899,   5.2045,  27.0705,   -999.0,9
     RF00-09-2,  137E,RF-1245,  1,      5,02-10155,2,20001114,1736, 30.0068, 136.9803, 4527,   1013.4,   4.3385,  34.3442,2,   -999.0,9,  34.3433,2,     68.3,2,    97.26,2,  -999.00,9,    38.34,2,     0.00,2,     2.75,2, -999.000,9, -999.000,9,  -999.00,9,   -999.0,9,   -999.0,9,-999.0000,9,   -999.0,  9,  -999.00,9,   -999.0,  -999.00,9,  -999.00,9,  -999.00,9,  -999.00,9,   -999.0,-999.0000, -999,9, 1004,   4.2593,  27.2373,   -999.0,9
     RF00-09-2,  137E,RF-1245,  1,      4,02-13579,2,20001114,1728, 30.0068, 136.9803, 4527,   1260.0,   3.2877,  34.4490,2,   -999.0,9,  34.4449,2,     66.1,2,   115.43,2,  -999.00,9,    40.18,2,     0.00,2,     2.83,2, -999.000,9, -999.000,9,  -999.00,9,   -999.0,9,   -999.0,9,-999.0000,9,   -999.0,  9,  -999.00,9,   -999.0,  -999.00,9,  -999.00,9,  -999.00,9,  -999.00,9,   -999.0,-999.0000, -999,9, 1248,   3.1969,  27.4270,   -999.0,9
     RF00-09-2,  137E,RF-1245,  1,      3,02-13590,2,20001114,1723, 30.0068, 136.9803, 4527,   1515.7,   2.6120,  34.5172,2,   -999.0,9,  34.5138,2,     76.0,2,   126.06,2,  -999.00,9,    40.14,2,     0.00,2,     2.83,2, -999.000,9, -999.000,9,  -999.00,9,   -999.0,9,   -999.0,9,-999.0000,9,   -999.0,  9,  -999.00,9,   -999.0,  -999.00,9,  -999.00,9,  -999.00,9,  -999.00,9,   -999.0,-999.0000, -999,9, 1500,   2.5075,  27.5432,   -999.0,9
     RF00-09-2,  137E,RF-1245,  1,      2,02-13589,2,20001114,1718, 30.0068, 136.9803, 4527,   1675.7,   2.3551,  34.5508,2,   -999.0,9,  34.5474,2,     84.9,2,   128.79,2,  -999.00,9,    40.02,2,     0.00,2,     2.80,2, -999.000,9, -999.000,9,  -999.00,9,   -999.0,9,   -999.0,9,-999.0000,9,   -999.0,  9,  -999.00,9,   -999.0,  -999.00,9,  -999.00,9,  -999.00,9,  -999.00,9,   -999.0,-999.0000, -999,9, 1658,   2.2407,  27.5924,   -999.0,9
     RF00-09-2,  137E,RF-1245,  1,      1,02-12807,2,20001114,1718, 30.0068, 136.9803, 4527,   1677.5,   2.3557,  34.5504,2,   -999.0,9,  34.5503,2,     84.4,2,   128.61,2,  -999.00,9,    40.17,2,     0.00,2,     2.80,2, -999.000,9, -999.000,9,  -999.00,9,   -999.0,9,   -999.0,9,-999.0000,9,   -999.0,  9,  -999.00,9,   -999.0,  -999.00,9,  -999.00,9,  -999.00,9,  -999.00,9,   -999.0,-999.0000, -999,9, 1659,   2.2412,  27.5921,   -999.0,9
     RF00-09-2,  137E,RF-1247,  1,     -9,      -9,5,20001115,0617, 31.9952, 136.9963, 4241,      0.0,  25.1499,  33.7024,2,   -999.0,9,-999.0000,9,    208.1,2,     1.50,2,  -999.00,9,     0.00,2,     0.00,2,     0.00,2, -999.000,9, -999.000,9,  -999.00,9,   -999.0,9,   -999.0,9,-999.0000,9,   -999.0,  9,  -999.00,9,   -999.0,  -999.00,9,  -999.00,9,     0.16,2,     0.06,2,   -999.0,-999.0000, -999,9,    0,  25.1499,  22.3155,   -999.0,9
     RF00-09-2,  137E,RF-1247,  1,     20,02-12826,2,20001115,0615, 31.9952, 136.9963, 4241,     11.0,  25.1580,  34.4959,2,   -999.0,9,-999.0000,9,    207.7,2,     1.48,2,  -999.00,9,     0.00,2,     0.00,2,     0.00,2, -999.000,9, -999.000,9,  -999.00,9,   -999.0,9,   -999.0,9,-999.0000,9,   -999.0,  9,  -999.00,9,   -999.0,  -999.00,9,  -999.00,9,     0.17,2,     0.05,2,   -999.0,-999.0000, -999,9,   11,  25.1556,  22.9130,   -999.0,9
     RF00-09-2,  137E,RF-1247,  1,     19,02-12825,2,20001115,0614, 31.9952, 136.9963, 4241,     26.1,  25.1444,  34.5149,2,   -999.0,9,-999.0000,9,    207.5,2,     1.50,2,  -999.00,9,     0.00,2,     0.00,2,     0.00,2, -999.000,9, -999.000,9,  -999.00,9,   -999.0,9,   -999.0,9,-999.0000,9,   -999.0,  9,  -999.00,9,   -999.0,  -999.00,9,  -999.00,9,     0.16,2,     0.06,2,   -999.0,-999.0000, -999,9,   26,  25.1388,  22.9325,   -999.0,9
     RF00-09-2,  137E,RF-1247,  1,     18,02-12830,2,20001115,0613, 31.9952, 136.9963, 4241,     51.1,  25.1266,  34.5214,2,   -999.0,9,-999.0000,9,    207.7,2,     1.53,2,  -999.00,9,     0.00,2,     0.00,2,     0.00,2, -999.000,9, -999.000,9,  -999.00,9,   -999.0,9,   -999.0,9,-999.0000,9,   -999.0,  9,  -999.00,9,   -999.0,  -999.00,9,  -999.00,9,     0.17,2,     0.06,2,   -999.0,-999.0000, -999,9,   51,  25.1155,  22.9445,   -999.0,9
     RF00-09-2,  137E,RF-1247,  1,     17,02-12815,2,20001115,0611, 31.9952, 136.9963, 4241,     75.4,  23.1177,  34.7375,2,   -999.0,9,-999.0000,9,    214.5,2,     1.66,2,  -999.00,9,     0.00,2,     0.01,2,     0.00,2, -999.000,9, -999.000,9,  -999.00,9,   -999.0,9,   -999.0,9,-999.0000,9,   -999.0,  9,  -999.00,9,   -999.0,  -999.00,9,  -999.00,9,     0.31,2,     0.38,2,   -999.0,-999.0000, -999,9,   75,  23.1023,  23.7050,   -999.0,9
     RF00-09-2,  137E,RF-1247,  1,     16,02-12818,2,20001115,0610, 31.9952, 136.9963, 4241,    100.1,  21.6147,  34.7728,2,   -999.0,9,-999.0000,9,    207.4,2,     1.86,2,  -999.00,9,     0.39,2,     0.08,2,     0.01,2, -999.000,9, -999.000,9,  -999.00,9,   -999.0,9,   -999.0,9,-999.0000,9,   -999.0,  9,  -999.00,9,   -999.0,  -999.00,9,  -999.00,9,     0.18,2,     0.32,2,   -999.0,-999.0000, -999,9,   99,  21.5952,  24.1578,   -999.0,9
     RF00-09-2,  137E,RF-1247,  1,     15,02-12809,2,20001115,0609, 31.9952, 136.9963, 4241,    125.8,  20.2337,  34.7729,2,   -999.0,9,-999.0000,9,    205.8,2,     2.14,2,  -999.00,9,     1.43,2,     0.02,2,     0.06,2, -999.000,9, -999.000,9,  -999.00,9,   -999.0,9,   -999.0,9,-999.0000,9,   -999.0,  9,  -999.00,9,   -999.0,  -999.00,9,  -999.00,9,     0.07,2,     0.15,2,   -999.0,-999.0000, -999,9,  125,  20.2103,  24.5329,   -999.0,9
     RF00-09-2,  137E,RF-1247,  1,     14,02-12817,2,20001115,0608, 31.9952, 136.9963, 4241,    151.2,  19.7317,  34.7935,2,   -999.0,9,-999.0000,9,    201.6,2,     2.50,2,  -999.00,9,     2.17,2,     0.01,2,     0.10,2, -999.000,9, -999.000,9,  -999.00,9,   -999.0,9,   -999.0,9,-999.0000,9,   -999.0,  9,  -999.00,9,   -999.0,  -999.00,9,  -999.00,9,     0.02,2,     0.04,2,   -999.0,-999.0000, -999,9,  150,  19.7041,  24.6818,   -999.0,9
     RF00-09-2,  137E,RF-1247,  1,     13,02-12808,2,20001115,0606, 31.9952, 136.9963, 4241,    201.7,  19.0792,  34.8011,2,   -999.0,9,-999.0000,9,    203.2,2,     2.65,2,  -999.00,9,     2.66,2,     0.00,2,     0.12,2, -999.000,9, -999.000,9,  -999.00,9,   -999.0,9,   -999.0,9,-999.0000,9,   -999.0,  9,  -999.00,9,   -999.0,  -999.00,9,  -999.00,9,     0.00,2,     0.02,2,   -999.0,-999.0000, -999,9,  200,  19.0432,  24.8581,   -999.0,9
     RF00-09-2,  137E,RF-1247,  1,     12,02-12821,2,20001115,0603, 31.9952, 136.9963, 4241,    251.5,  18.6505,  34.8065,2,   -999.0,9,-999.0000,9,    198.1,2,     3.18,2,  -999.00,9,     3.67,2,     0.00,2,     0.20,2, -999.000,9, -999.000,9,  -999.00,9,   -999.0,9,   -999.0,9,-999.0000,9,   -999.0,  9,  -999.00,9,   -999.0,  -999.00,9,  -999.00,9,  -999.00,9,  -999.00,9,   -999.0,-999.0000, -999,9,  250,  18.6062,  24.9730,   -999.0,9
     RF00-09-2,  137E,RF-1247,  1,     11,02-12811,2,20001115,0601, 31.9952, 136.9963, 4241,    301.9,  17.9150,  34.7830,2,   -999.0,9,-999.0000,9,    196.0,2,     4.20,2,  -999.00,9,     4.93,2,     0.00,2,     0.27,2, -999.000,9, -999.000,9,  -999.00,9,   -999.0,9,   -999.0,9,-999.0000,9,   -999.0,  9,  -999.00,9,   -999.0,  -999.00,9,  -999.00,9,  -999.00,9,  -999.00,9,   -999.0,-999.0000, -999,9,  300,  17.8633,  25.1394,   -999.0,9
     RF00-09-2,  137E,RF-1247,  1,     10,02-12820,2,20001115,0559, 31.9952, 136.9963, 4241,    403.3,  16.1328,  34.7012,2,   -999.0,9,-999.0000,9,    195.6,4,     7.38,2,  -999.00,9,     7.92,2,     0.00,2,     0.47,2, -999.000,9, -999.000,9,  -999.00,9,   -999.0,9,   -999.0,9,-999.0000,9,   -999.0,  9,  -999.00,9,   -999.0,  -999.00,9,  -999.00,9,  -999.00,9,  -999.00,9,   -999.0,-999.0000, -999,9,  400,  16.0683,  25.5021,   -999.0,9
     RF00-09-2,  137E,RF-1247,  1,      9,02-12810,2,20001115,0556, 31.9952, 136.9963, 4241,    502.9,  13.5420,  34.5279,2,   -999.0,9,-999.0000,9,    182.9,2,    14.28,2,  -999.00,9,    12.66,2,     0.00,2,     0.80,2, -999.000,9, -999.000,9,  -999.00,9,   -999.0,9,   -999.0,9,-999.0000,9,   -999.0,  9,  -999.00,9,   -999.0,  -999.00,9,  -999.00,9,  -999.00,9,  -999.00,9,   -999.0,-999.0000, -999,9,  499,  13.4705,  25.9319,   -999.0,9
     RF00-09-2,  137E,RF-1247,  1,      8,02-12819,2,20001115,0553, 31.9952, 136.9963, 4241,    604.5,  10.6766,  34.3547,2,   -999.0,9,-999.0000,9,    163.5,2,    26.94,2,  -999.00,9,    19.36,2,     0.00,2,     1.29,2, -999.000,9, -999.000,9,  -999.00,9,   -999.0,9,   -999.0,9,-999.0000,9,   -999.0,  9,  -999.00,9,   -999.0,  -999.00,9,  -999.00,9,  -999.00,9,  -999.00,9,   -999.0,-999.0000, -999,9,  599,  10.6027,  26.3438,   -999.0,9
     RF00-09-2,  137E,RF-1247,  1,      7,02-13591,2,20001115,0550, 31.9952, 136.9963, 4241,    705.0,   8.1536,  34.2130,2,   -999.0,9,-999.0000,9,    138.4,2,    44.98,2,  -999.00,9,    26.01,2,     0.00,2,     1.78,2, -999.000,9, -999.000,9,  -999.00,9,   -999.0,9,   -999.0,9,-999.0000,9,   -999.0,  9,  -999.00,9,   -999.0,  -999.00,9,  -999.00,9,  -999.00,9,  -999.00,9,   -999.0,-999.0000, -999,9,  699,   8.0799,  26.6438,   -999.0,9
     RF00-09-2,  137E,RF-1247,  1,      6,02-13588,2,20001115,0545, 31.9952, 136.9963, 4241,    806.3,   6.5108,  34.1947,2,   -999.0,9,-999.0000,9,    106.6,2,    63.67,2,  -999.00,9,    31.65,2,     0.00,2,     2.21,2, -999.000,9, -999.000,9,  -999.00,9,   -999.0,9,   -999.0,9,-999.0000,9,   -999.0,  9,  -999.00,9,   -999.0,  -999.00,9,  -999.00,9,  -999.00,9,  -999.00,9,   -999.0,-999.0000, -999,9,  799,   6.4359,  26.8602,   -999.0,9
     RF00-09-2,  137E,RF-1247,  1,      5,02-10155,2,20001115,0542, 31.9952, 136.9963, 4241,    907.8,   5.5181,  34.2303,2,   -999.0,9,-999.0000,9,     87.0,2,    79.05,2,  -999.00,9,    34.61,2,     0.00,2,     2.45,2, -999.000,9, -999.000,9,  -999.00,9,   -999.0,9,   -999.0,9,-999.0000,9,   -999.0,  9,  -999.00,9,   -999.0,  -999.00,9,  -999.00,9,  -999.00,9,  -999.00,9,   -999.0,-999.0000, -999,9,  900,   5.4399,  27.0134,   -999.0,9
     RF00-09-2,  137E,RF-1247,  1,      4,02-13579,2,20001115,0539, 31.9952, 136.9963, 4241,   1008.9,   4.6801,  34.3200,2,   -999.0,9,-999.0000,9,     71.6,2,    93.33,2,  -999.00,9,    37.40,2,     0.00,2,     2.63,2, -999.000,9, -999.000,9,  -999.00,9,   -999.0,9,   -999.0,9,-999.0000,9,   -999.0,  9,  -999.00,9,   -999.0,  -999.00,9,  -999.00,9,  -999.00,9,  -999.00,9,   -999.0,-999.0000, -999,9,  999,   4.5988,  27.1813,   -999.0,9
     RF00-09-2,  137E,RF-1247,  1,      3,02-13590,2,20001115,0533, 31.9952, 136.9963, 4241,   1260.2,   3.4162,  34.4138,2,   -999.0,9,-999.0000,9,     62.7,2,   116.17,2,  -999.00,9,    39.74,2,     0.00,2,     2.79,2, -999.000,9, -999.000,9,  -999.00,9,   -999.0,9,   -999.0,9,-999.0000,9,   -999.0,  9,  -999.00,9,   -999.0,  -999.00,9,  -999.00,9,  -999.00,9,  -999.00,9,   -999.0,-999.0000, -999,9, 1248,   3.3242,  27.3869,   -999.0,9
     RF00-09-2,  137E,RF-1247,  1,      2,02-13589,2,20001115,0528, 31.9952, 136.9963, 4241,   1515.5,   2.8145,  34.4905,2,   -999.0,9,-999.0000,9,     70.9,2,   125.56,2,  -999.00,9,    39.70,2,     0.00,2,     2.78,2, -999.000,9, -999.000,9,  -999.00,9,   -999.0,9,   -999.0,9,-999.0000,9,   -999.0,  9,  -999.00,9,   -999.0,  -999.00,9,  -999.00,9,  -999.00,9,  -999.00,9,   -999.0,-999.0000, -999,9, 1499,   2.7077,  27.5045,   -999.0,9
     RF00-09-2,  137E,RF-1247,  1,      1,02-12807,2,20001115,0521, 31.9952, 136.9963, 4241,   1813.5,   2.3729,  34.5458,2,   -999.0,9,-999.0000,9,     84.4,2,   130.96,2,  -999.00,9,    39.49,2,     0.00,2,     2.76,2, -999.000,9, -999.000,9,  -999.00,9,   -999.0,9,   -999.0,9,-999.0000,9,   -999.0,  9,  -999.00,9,   -999.0,  -999.00,9,  -999.00,9,  -999.00,9,  -999.00,9,   -999.0,-999.0000, -999,9, 1793,   2.2469,  27.5879,   -999.0,9