BOTTLE,20130510GEMDJMAYT
EXPOCODE,SECT_ID,STNNBR,CASTNO,SAMPNO,BTLNBR,BTLNBR_FLAG_W,DATE,TIME,LATITUDE,LONGITUDE,DEPTH,CTDPRS,CTDTMP,CTDSAL,CTDSAL_FLAG_W,CTDOXY,CTDOXY_FLAG_W,SALNTY,SALNTY_FLAG_W,OXYGEN,OXYGEN_FLAG_W,SILCAT,SILCAT_FLAG_W,NITRAT,NITRAT_FLAG_W,NO2+NO3,NO2+NO3_FLAG_W,NITRIT,NITRIT_FLAG_W,PHSPHT,PHSPHT_FLAG_W,CFC-11,CFC-11_FLAG_W,CFC-12,CFC-12_FLAG_W,DELC13,DELC13_FLAG_W,TCARBN,TCARBN_FLAG_W,ALKALI,ALKALI_FLAG_W,PH,PH_FLAG_W,PH_TMP,PH_SCALE,PH_NBS,PH_NBS_FLAG_W,C13ERR,TOTALP,TOTALP_FLAG_W,AMMONI,AMMONI_FLAG_W,CHLORA,CHLORA_FLAG_W,PPHYTN,PPHYTN_FLAG_W,REVPRS,REVTMP,DEPTH_,DEPTH_FLAG,CTDDEP,THETA,SIGTHT,DOC,DOC_FLAG_W
,,,,,,,GMT,GMT,,,METER,DBAR,ITS-90,PSS-78,,UMOL/KG,,PSS-78,,UMOL/KG,,UMOL/KG,,UMOL/KG,,UMOL/KG,,UMOL/KG,,UMOL/KG,,PMOL/KG,,PMOL/KG,,/MILLE,,UMOL/KG,,UMOL/KG,,25_DEG_C,,DEG_C,,,,/MILLE,UMOL/KG,,UMOL/KG,,UG/L,,UG/L,,DBAR,ITS-90,METERS,,METERS,DEG_C,,UMOL/L,
     RF00-09-2,  137E,RF-1225,  1,     -9,      -9,5,20001109,0932, 10.0015, 136.9865, 4794,      0.0,  29.3997,  33.8721,2,   -999.0,9,-999.0000,9,    196.6,2,     1.19,2,  -999.00,9,     0.01,2,     0.01,2,     0.06,2, -999.000,9, -999.000,9,  -999.00,9,   -999.0,9,   -999.0,9,-999.0000,9,   -999.0,  9,  -999.00,9,   -999.0,  -999.00,9,  -999.00,9,     0.05,2,     0.01,2,   -999.0,-999.0000, -999,9,    0,  29.3997,  21.0838,   -999.0,9
     RF00-09-2,  137E,RF-1225,  1,     21, 02-9150,2,20001109,0929, 10.0015, 136.9865, 4794,     12.6,  29.4058,  33.8780,2,   -999.0,9,-999.0000,9,    196.3,2,     1.22,2,  -999.00,9,     0.00,2,     0.00,2,     0.01,2, -999.000,9, -999.000,9,  -999.00,9,   -999.0,9,   -999.0,9,-999.0000,9,   -999.0,  9,  -999.00,9,   -999.0,  -999.00,9,  -999.00,9,     0.05,2,     0.01,2,   -999.0,-999.0000, -999,9,   12,  29.4027,  21.0872,   -999.0,9
     RF00-09-2,  137E,RF-1225,  1,     20,02-12826,2,20001109,0928, 10.0015, 136.9865, 4794,     25.7,  29.4023,  33.8973,2,   -999.0,9,-999.0000,9,    195.4,2,     1.18,2,  -999.00,9,     0.00,2,     0.00,2,     0.00,2, -999.000,9, -999.000,9,  -999.00,9,   -999.0,9,   -999.0,9,-999.0000,9,   -999.0,  9,  -999.00,9,   -999.0,  -999.00,9,  -999.00,9,     0.05,2,     0.01,2,   -999.0,-999.0000, -999,9,   26,  29.3961,  21.1039,   -999.0,9
     RF00-09-2,  137E,RF-1225,  1,     19,02-12825,2,20001109,0927, 10.0015, 136.9865, 4794,     51.0,  29.3164,  34.0330,2,   -999.0,9,-999.0000,9,    198.7,2,     1.16,2,  -999.00,9,     0.00,2,     0.00,2,     0.01,2, -999.000,9, -999.000,9,  -999.00,9,   -999.0,9,   -999.0,9,-999.0000,9,   -999.0,  9,  -999.00,9,   -999.0,  -999.00,9,  -999.00,9,     0.08,2,     0.02,2,   -999.0,-999.0000, -999,9,   51,  29.3040,  21.2366,   -999.0,9
     RF00-09-2,  137E,RF-1225,  1,     18,02-12830,2,20001109,0926, 10.0015, 136.9865, 4794,     77.7,  28.7892,  34.4720,2,   -999.0,9,-999.0000,9,    202.8,2,     1.16,2,  -999.00,9,     0.00,2,     0.00,2,     0.03,2, -999.000,9, -999.000,9,  -999.00,9,   -999.0,9,   -999.0,9,-999.0000,9,   -999.0,  9,  -999.00,9,   -999.0,  -999.00,9,  -999.00,9,     0.11,2,     0.04,2,   -999.0,-999.0000, -999,9,   77,  28.7705,  21.7441,   -999.0,9
     RF00-09-2,  137E,RF-1225,  1,     17,02-12815,2,20001109,0924, 10.0015, 136.9865, 4794,    102.4,  27.2034,  34.8836,2,   -999.0,9,  34.8942,2,    201.2,2,     1.13,2,  -999.00,9,     0.00,2,     0.00,2,     0.05,2, -999.000,9, -999.000,9,  -999.00,9,   -999.0,9,   -999.0,9,-999.0000,9,   -999.0,  9,  -999.00,9,   -999.0,  -999.00,9,  -999.00,9,     0.22,2,     0.15,2,   -999.0,-999.0000, -999,9,  102,  27.1798,  22.5726,   -999.0,9
     RF00-09-2,  137E,RF-1225,  1,     16,02-12818,2,20001109,0923, 10.0015, 136.9865, 4794,    127.9,  25.7281,  34.9798,2,   -999.0,9,-999.0000,9,    189.4,2,     1.43,2,  -999.00,9,     0.23,2,     0.05,2,     0.10,2, -999.000,9, -999.000,9,  -999.00,9,   -999.0,9,   -999.0,9,-999.0000,9,   -999.0,  9,  -999.00,9,   -999.0,  -999.00,9,  -999.00,9,     0.24,2,     0.37,2,   -999.0,-999.0000, -999,9,  127,  25.6998,  23.1113,   -999.0,9
     RF00-09-2,  137E,RF-1225,  1,     15,02-12809,2,20001109,0922, 10.0015, 136.9865, 4794,    153.1,  20.9153,  34.9223,2,   -999.0,9,-999.0000,9,    170.4,2,     3.18,2,  -999.00,9,     4.00,2,     0.03,2,     0.32,2, -999.000,9, -999.000,9,  -999.00,9,   -999.0,9,   -999.0,9,-999.0000,9,   -999.0,  9,  -999.00,9,   -999.0,  -999.00,9,  -999.00,9,     0.10,2,     0.25,2,   -999.0,-999.0000, -999,9,  152,  20.8861,  24.4657,   -999.0,9
     RF00-09-2,  137E,RF-1225,  1,     14,02-12817,2,20001109,0920, 10.0015, 136.9865, 4794,    202.5,  15.4756,  34.6357,2,   -999.0,9,  34.6404,2,    177.8,3,     7.98,2,  -999.00,9,     9.64,2,     0.00,2,     0.62,2, -999.000,9, -999.000,9,  -999.00,9,   -999.0,9,   -999.0,9,-999.0000,9,   -999.0,  9,  -999.00,9,   -999.0,  -999.00,9,  -999.00,9,     0.01,2,     0.02,2,   -999.0,-999.0000, -999,9,  201,  15.4444,  25.5928,   -999.0,9
     RF00-09-2,  137E,RF-1225,  1,     13,02-12808,2,20001109,0917, 10.0015, 136.9865, 4794,    253.4,  11.9987,  34.3917,2,   -999.0,9,-999.0000,9,    153.6,3,    17.85,2,  -999.00,9,    17.80,2,     0.00,2,     1.22,2, -999.000,9, -999.000,9,  -999.00,9,   -999.0,9,   -999.0,9,-999.0000,9,   -999.0,  9,  -999.00,9,   -999.0,  -999.00,9,  -999.00,9,  -999.00,9,  -999.00,9,   -999.0,-999.0000, -999,9,  252,  11.9658,  26.1231,   -999.0,9
     RF00-09-2,  137E,RF-1225,  1,     12,02-12821,2,20001109,0915, 10.0015, 136.9865, 4794,    303.9,   9.7934,  34.3775,2,   -999.0,9,  34.3805,2,     93.0,2,    31.74,2,  -999.00,9,    27.73,2,     0.00,2,     1.96,2, -999.000,9, -999.000,9,  -999.00,9,   -999.0,9,   -999.0,9,-999.0000,9,   -999.0,  9,  -999.00,9,   -999.0,  -999.00,9,  -999.00,9,  -999.00,9,  -999.00,9,   -999.0,-999.0000, -999,9,  302,   9.7587,  26.5065,   -999.0,9
     RF00-09-2,  137E,RF-1225,  1,     11,02-12811,2,20001109,0913, 10.0015, 136.9865, 4794,    403.8,   7.8675,  34.4738,2,   -999.0,9,  34.4729,2,     62.2,2,    46.48,2,  -999.00,9,    34.51,2,     0.00,2,     2.44,2, -999.000,9, -999.000,9,  -999.00,9,   -999.0,9,   -999.0,9,-999.0000,9,   -999.0,  9,  -999.00,9,   -999.0,  -999.00,9,  -999.00,9,  -999.00,9,  -999.00,9,   -999.0,-999.0000, -999,9,  401,   7.8268,  26.8862,   -999.0,9
     RF00-09-2,  137E,RF-1225,  1,     10,02-12820,2,20001109,0910, 10.0015, 136.9865, 4794,    505.1,   6.9961,  34.4959,2,   -999.0,9,  34.4949,2,     67.1,2,    53.06,2,  -999.00,9,    35.90,2,     0.00,2,     2.53,2, -999.000,9, -999.000,9,  -999.00,9,   -999.0,9,   -999.0,9,-999.0000,9,   -999.0,  9,  -999.00,9,   -999.0,  -999.00,9,  -999.00,9,  -999.00,9,  -999.00,9,   -999.0,-999.0000, -999,9,  502,   6.9481,  27.0288,   -999.0,9
     RF00-09-2,  137E,RF-1225,  1,      9,02-12810,2,20001109,0907, 10.0015, 136.9865, 4794,    605.5,   6.3256,  34.5087,2,   -999.0,9,  34.5423,4,     69.4,2,    59.78,2,  -999.00,9,    36.86,2,     0.00,2,     2.60,2, -999.000,9, -999.000,9,  -999.00,9,   -999.0,9,   -999.0,9,-999.0000,9,   -999.0,  9,  -999.00,9,   -999.0,  -999.00,9,  -999.00,9,  -999.00,9,  -999.00,9,   -999.0,-999.0000, -999,9,  601,   6.2707,  27.1296,   -999.0,9
     RF00-09-2,  137E,RF-1225,  1,      8,02-12819,2,20001109,0904, 10.0015, 136.9865, 4794,    706.3,   5.6466,  34.5235,2,   -999.0,9,  34.5757,4,     72.0,2,    68.64,2,  -999.00,9,    37.85,2,     0.00,2,     2.69,2, -999.000,9, -999.000,9,  -999.00,9,   -999.0,9,   -999.0,9,-999.0000,9,   -999.0,  9,  -999.00,9,   -999.0,  -999.00,9,  -999.00,9,  -999.00,9,  -999.00,9,   -999.0,-999.0000, -999,9,  701,   5.5858,  27.2278,   -999.0,9
     RF00-09-2,  137E,RF-1225,  1,      7,02-13591,2,20001109,0858, 10.0015, 136.9865, 4794,    807.1,   5.1371,  34.5351,2,   -999.0,9,  34.5320,2,     72.8,2,    76.31,2,  -999.00,9,    38.46,2,     0.00,2,     2.72,2, -999.000,9, -999.000,9,  -999.00,9,   -999.0,9,   -999.0,9,-999.0000,9,   -999.0,  9,  -999.00,9,   -999.0,  -999.00,9,  -999.00,9,  -999.00,9,  -999.00,9,   -999.0,-999.0000, -999,9,  801,   5.0701,  27.2985,   -999.0,9
     RF00-09-2,  137E,RF-1225,  1,      6,02-13588,2,20001109,0856, 10.0015, 136.9865, 4794,    908.1,   4.6944,  34.5444,2,   -999.0,9,-999.0000,9,     71.8,2,    84.13,2,  -999.00,9,    39.34,2,     0.00,2,     2.77,2, -999.000,9, -999.000,9,  -999.00,9,   -999.0,9,   -999.0,9,-999.0000,9,   -999.0,  9,  -999.00,9,   -999.0,  -999.00,9,  -999.00,9,  -999.00,9,  -999.00,9,   -999.0,-999.0000, -999,9,  901,   4.6214,  27.3570,   -999.0,9
     RF00-09-2,  137E,RF-1225,  1,      5,02-10155,2,20001109,0852, 10.0015, 136.9865, 4794,   1008.1,   4.1765,  34.5569,2,   -999.0,9,  34.5529,2,     77.3,2,    93.15,2,  -999.00,9,    39.23,2,     0.00,2,     2.77,2, -999.000,9, -999.000,9,  -999.00,9,   -999.0,9,   -999.0,9,-999.0000,9,   -999.0,  9,  -999.00,9,   -999.0,  -999.00,9,  -999.00,9,  -999.00,9,  -999.00,9,   -999.0,-999.0000, -999,9, 1000,   4.0987,  27.4234,   -999.0,9
     RF00-09-2,  137E,RF-1225,  1,      4,02-13579,2,20001109,0845, 10.0015, 136.9865, 4794,   1262.2,   3.2086,  34.5832,2,   -999.0,9,  34.5796,2,     90.0,2,   111.02,2,  -999.00,9,    39.04,2,     0.00,2,     2.72,2, -999.000,9, -999.000,9,  -999.00,9,   -999.0,9,   -999.0,9,-999.0000,9,   -999.0,  9,  -999.00,9,   -999.0,  -999.00,9,  -999.00,9,  -999.00,9,  -999.00,9,   -999.0,-999.0000, -999,9, 1251,   3.1181,  27.5415,   -999.0,9
     RF00-09-2,  137E,RF-1225,  1,      3,02-13590,2,20001109,0840, 10.0015, 136.9865, 4794,   1515.7,   2.6654,  34.6112,2,   -999.0,9,  34.6363,4,    101.1,2,   119.37,2,  -999.00,9,    38.80,2,     0.00,2,     2.70,2, -999.000,9, -999.000,9,  -999.00,9,   -999.0,9,   -999.0,9,-999.0000,9,   -999.0,  9,  -999.00,9,   -999.0,  -999.00,9,  -999.00,9,  -999.00,9,  -999.00,9,   -999.0,-999.0000, -999,9, 1502,   2.5600,  27.6139,   -999.0,9
     RF00-09-2,  137E,RF-1225,  1,      2,02-13589,2,20001109,0832, 10.0015, 136.9865, 4794,   1770.3,   2.2680,  34.6292,2,   -999.0,9,  34.6265,2,    110.9,2,   124.72,2,  -999.00,9,    38.42,2,     0.00,2,     2.67,2, -999.000,9, -999.000,9,  -999.00,9,   -999.0,9,   -999.0,9,-999.0000,9,   -999.0,  9,  -999.00,9,   -999.0,  -999.00,9,  -999.00,9,  -999.00,9,  -999.00,9,   -999.0,-999.0000, -999,9, 1753,   2.1468,  27.6628,   -999.0,9
     RF00-09-2,  137E,RF-1225,  1,      1,02-12807,2,20001109,0826, 10.0015, 136.9865, 4794,   2036.1,   1.9729,  34.6444,2,   -999.0,9,  34.6446,2,    120.6,2,   128.52,2,  -999.00,9,    37.85,2,     0.00,2,     2.61,2, -999.000,9, -999.000,9,  -999.00,9,   -999.0,9,   -999.0,9,-999.0000,9,   -999.0,  9,  -999.00,9,   -999.0,  -999.00,9,  -999.00,9,  -999.00,9,  -999.00,9,   -999.0,-999.0000, -999,9, 2015,   1.8338,  27.6997,   -999.0,9