BOTTLE,20130510GEMDJMAYT
EXPOCODE,SECT_ID,STNNBR,CASTNO,SAMPNO,BTLNBR,BTLNBR_FLAG_W,DATE,TIME,LATITUDE,LONGITUDE,DEPTH,CTDPRS,CTDTMP,CTDSAL,CTDSAL_FLAG_W,CTDOXY,CTDOXY_FLAG_W,SALNTY,SALNTY_FLAG_W,OXYGEN,OXYGEN_FLAG_W,SILCAT,SILCAT_FLAG_W,NITRAT,NITRAT_FLAG_W,NO2+NO3,NO2+NO3_FLAG_W,NITRIT,NITRIT_FLAG_W,PHSPHT,PHSPHT_FLAG_W,CFC-11,CFC-11_FLAG_W,CFC-12,CFC-12_FLAG_W,DELC13,DELC13_FLAG_W,TCARBN,TCARBN_FLAG_W,ALKALI,ALKALI_FLAG_W,PH,PH_FLAG_W,PH_TMP,PH_SCALE,PH_NBS,PH_NBS_FLAG_W,C13ERR,TOTALP,TOTALP_FLAG_W,AMMONI,AMMONI_FLAG_W,CHLORA,CHLORA_FLAG_W,PPHYTN,PPHYTN_FLAG_W,REVPRS,REVTMP,DEPTH_,DEPTH_FLAG,CTDDEP,THETA,SIGTHT,DOC,DOC_FLAG_W
,,,,,,,GMT,GMT,,,METER,DBAR,ITS-90,PSS-78,,UMOL/KG,,PSS-78,,UMOL/KG,,UMOL/KG,,UMOL/KG,,UMOL/KG,,UMOL/KG,,UMOL/KG,,PMOL/KG,,PMOL/KG,,/MILLE,,UMOL/KG,,UMOL/KG,,25_DEG_C,,DEG_C,,,,/MILLE,UMOL/KG,,UMOL/KG,,UG/L,,UG/L,,DBAR,ITS-90,METERS,,METERS,DEG_C,,UMOL/L,
     RF00-09-2,  137E,RF-1240,  1,     -9,      -9,5,20001113,0959, 24.9953, 136.9918, 5087,      0.0,  27.9197,  34.6039,2,   -999.0,9,-999.0000,9,    200.2,2,     1.36,2,  -999.00,9,     0.01,2,     0.00,2,     0.00,2, -999.000,9, -999.000,9,  -999.00,9,   -999.0,9,   -999.0,9,-999.0000,9,   -999.0,  9,  -999.00,9,   -999.0,  -999.00,9,  -999.00,9,     0.07,2,     0.02,2,   -999.0,-999.0000, -999,9,    0,  27.9197,  22.1230,   -999.0,9
     RF00-09-2,  137E,RF-1240,  1,     21, 02-9150,2,20001113,0957, 24.9953, 136.9918, 5087,     11.1,  27.9243,  34.6091,2,   -999.0,9,-999.0000,9,    200.3,2,     1.33,2,  -999.00,9,     0.00,2,     0.00,2,     0.00,2, -999.000,9, -999.000,9,  -999.00,9,   -999.0,9,   -999.0,9,-999.0000,9,   -999.0,  9,  -999.00,9,   -999.0,  -999.00,9,  -999.00,9,     0.06,2,     0.01,2,   -999.0,-999.0000, -999,9,   11,  27.9217,  22.1263,   -999.0,9
     RF00-09-2,  137E,RF-1240,  1,     20,02-12826,2,20001113,0955, 24.9953, 136.9918, 5087,     26.2,  27.9297,  34.6124,2,   -999.0,9,-999.0000,9,    201.6,2,     1.36,2,  -999.00,9,     0.00,2,     0.00,2,     0.00,2, -999.000,9, -999.000,9,  -999.00,9,   -999.0,9,   -999.0,9,-999.0000,9,   -999.0,  9,  -999.00,9,   -999.0,  -999.00,9,  -999.00,9,     0.06,2,     0.01,2,   -999.0,-999.0000, -999,9,   26,  27.9235,  22.1281,   -999.0,9
     RF00-09-2,  137E,RF-1240,  1,     19,02-12825,2,20001113,0954, 24.9953, 136.9918, 5087,     50.7,  27.9295,  34.6149,2,   -999.0,9,-999.0000,9,    200.6,2,     1.36,2,  -999.00,9,     0.00,2,     0.00,2,     0.00,2, -999.000,9, -999.000,9,  -999.00,9,   -999.0,9,   -999.0,9,-999.0000,9,   -999.0,  9,  -999.00,9,   -999.0,  -999.00,9,  -999.00,9,     0.07,2,     0.01,2,   -999.0,-999.0000, -999,9,   50,  27.9176,  22.1319,   -999.0,9
     RF00-09-2,  137E,RF-1240,  1,     18,02-12830,2,20001113,0953, 24.9953, 136.9918, 5087,     76.1,  24.4809,  34.7549,2,   -999.0,9,-999.0000,9,    216.6,2,     1.54,2,  -999.00,9,     0.00,2,     0.00,2,     0.00,2, -999.000,9, -999.000,9,  -999.00,9,   -999.0,9,   -999.0,9,-999.0000,9,   -999.0,  9,  -999.00,9,   -999.0,  -999.00,9,  -999.00,9,     0.24,2,     0.09,2,   -999.0,-999.0000, -999,9,   76,  24.4647,  23.3175,   -999.0,9
     RF00-09-2,  137E,RF-1240,  1,     17,02-12815,2,20001113,0951, 24.9953, 136.9918, 5087,    100.2,  22.9246,  34.8246,2,   -999.0,9,  34.8446,2,    210.9,2,     1.63,2,  -999.00,9,     0.00,2,     0.00,2,     0.00,2, -999.000,9, -999.000,9,  -999.00,9,   -999.0,9,   -999.0,9,-999.0000,9,   -999.0,  9,  -999.00,9,   -999.0,  -999.00,9,  -999.00,9,     0.24,2,     0.23,2,   -999.0,-999.0000, -999,9,  100,  22.9042,  23.8282,   -999.0,9
     RF00-09-2,  137E,RF-1240,  1,     16,02-12818,2,20001113,0950, 24.9953, 136.9918, 5087,    126.0,  20.9495,  34.7829,2,   -999.0,9,-999.0000,9,    203.0,2,     2.25,2,  -999.00,9,     1.23,2,     0.05,2,     0.07,2, -999.000,9, -999.000,9,  -999.00,9,   -999.0,9,   -999.0,9,-999.0000,9,   -999.0,  9,  -999.00,9,   -999.0,  -999.00,9,  -999.00,9,     0.16,2,     0.35,2,   -999.0,-999.0000, -999,9,  125,  20.9255,  24.3488,   -999.0,9
     RF00-09-2,  137E,RF-1240,  1,     15,02-12809,2,20001113,0949, 24.9953, 136.9918, 5087,    151.5,  19.6585,  34.7992,2,   -999.0,9,-999.0000,9,    202.2,2,     2.47,2,  -999.00,9,     2.15,2,     0.01,2,     0.11,2, -999.000,9, -999.000,9,  -999.00,9,   -999.0,9,   -999.0,9,-999.0000,9,   -999.0,  9,  -999.00,9,   -999.0,  -999.00,9,  -999.00,9,     0.04,2,     0.09,2,   -999.0,-999.0000, -999,9,  150,  19.6309,  24.7052,   -999.0,9
     RF00-09-2,  137E,RF-1240,  1,     14,02-12817,2,20001113,0947, 24.9953, 136.9918, 5087,    201.8,  18.7085,  34.7939,2,   -999.0,9,  34.8168,2,    203.5,2,     2.90,2,  -999.00,9,     3.01,2,     0.00,2,     0.17,2, -999.000,9, -999.000,9,  -999.00,9,   -999.0,9,   -999.0,9,-999.0000,9,   -999.0,  9,  -999.00,9,   -999.0,  -999.00,9,  -999.00,9,     0.00,2,     0.03,2,   -999.0,-999.0000, -999,9,  200,  18.6730,  24.9465,   -999.0,9
     RF00-09-2,  137E,RF-1240,  1,     13,02-12808,2,20001113,0945, 24.9953, 136.9918, 5087,    251.4,  18.0106,  34.7821,2,   -999.0,9,-999.0000,9,    203.3,2,     3.55,2,  -999.00,9,     3.96,2,     0.00,2,     0.21,2, -999.000,9, -999.000,9,  -999.00,9,   -999.0,9,   -999.0,9,-999.0000,9,   -999.0,  9,  -999.00,9,   -999.0,  -999.00,9,  -999.00,9,  -999.00,9,  -999.00,9,   -999.0,-999.0000, -999,9,  250,  17.9674,  25.1132,   -999.0,9
     RF00-09-2,  137E,RF-1240,  1,     12,02-12821,2,20001113,0943, 24.9953, 136.9918, 5087,    302.4,  17.1624,  34.7585,2,   -999.0,9,  34.7636,2,    205.0,2,     4.54,2,  -999.00,9,     4.99,2,     0.00,2,     0.27,2, -999.000,9, -999.000,9,  -999.00,9,   -999.0,9,   -999.0,9,-999.0000,9,   -999.0,  9,  -999.00,9,   -999.0,  -999.00,9,  -999.00,9,  -999.00,9,  -999.00,9,   -999.0,-999.0000, -999,9,  300,  17.1121,  25.3022,   -999.0,9
     RF00-09-2,  137E,RF-1240,  1,     11,02-12811,2,20001113,0941, 24.9953, 136.9918, 5087,    402.6,  15.5201,  34.6646,2,   -999.0,9,  34.6599,2,    193.3,2,     8.25,2,  -999.00,9,     8.64,2,     0.00,2,     0.52,2, -999.000,9, -999.000,9,  -999.00,9,   -999.0,9,   -999.0,9,-999.0000,9,   -999.0,  9,  -999.00,9,   -999.0,  -999.00,9,  -999.00,9,  -999.00,9,  -999.00,9,   -999.0,-999.0000, -999,9,  400,  15.4575,  25.6121,   -999.0,9
     RF00-09-2,  137E,RF-1240,  1,     10,02-12820,2,20001113,0938, 24.9953, 136.9918, 5087,    503.9,  12.2420,  34.4132,2,   -999.0,9,  34.4102,2,    182.2,2,    17.71,2,  -999.00,9,    14.99,2,     0.00,2,     0.96,2, -999.000,9, -999.000,9,  -999.00,9,   -999.0,9,   -999.0,9,-999.0000,9,   -999.0,  9,  -999.00,9,   -999.0,  -999.00,9,  -999.00,9,  -999.00,9,  -999.00,9,   -999.0,-999.0000, -999,9,  500,  12.1749,  26.0999,   -999.0,9
     RF00-09-2,  137E,RF-1240,  1,      9,02-12810,2,20001113,0935, 24.9953, 136.9918, 5087,    605.8,   8.8342,  34.1842,2,   -999.0,9,  34.1825,2,    159.6,2,    36.34,2,  -999.00,9,    22.94,2,     0.00,2,     1.55,2, -999.000,9, -999.000,9,  -999.00,9,   -999.0,9,   -999.0,9,-999.0000,9,   -999.0,  9,  -999.00,9,   -999.0,  -999.00,9,  -999.00,9,  -999.00,9,  -999.00,9,   -999.0,-999.0000, -999,9,  601,   8.7683,  26.5159,   -999.0,9
     RF00-09-2,  137E,RF-1240,  1,      8,02-12819,2,20001113,0930, 24.9953, 136.9918, 5087,    708.2,   7.0971,  34.1369,2,   -999.0,9,  34.1381,2,    132.1,2,    53.33,2,  -999.00,9,    28.50,2,     0.00,2,     1.98,2, -999.000,9, -999.000,9,  -999.00,9,   -999.0,9,   -999.0,9,-999.0000,9,   -999.0,  9,  -999.00,9,   -999.0,  -999.00,9,  -999.00,9,  -999.00,9,  -999.00,9,   -999.0,-999.0000, -999,9,  702,   7.0287,  26.7349,   -999.0,9
     RF00-09-2,  137E,RF-1240,  1,      7,02-13591,2,20001113,0928, 24.9953, 136.9918, 5087,    806.7,   5.5411,  34.1672,2,   -999.0,9,  34.1842,2,     90.9,2,    74.76,2,  -999.00,9,    34.57,2,     0.00,2,     2.42,2, -999.000,9, -999.000,9,  -999.00,9,   -999.0,9,   -999.0,9,-999.0000,9,   -999.0,  9,  -999.00,9,   -999.0,  -999.00,9,  -999.00,9,  -999.00,9,  -999.00,9,   -999.0,-999.0000, -999,9,  800,   5.4721,  26.9596,   -999.0,9
     RF00-09-2,  137E,RF-1240,  1,      6,02-13588,2,20001113,0925, 24.9953, 136.9918, 5087,    908.6,   4.6724,  34.2262,2,   -999.0,9,-999.0000,9,     70.7,2,    89.80,2,  -999.00,9,    37.59,2,     0.00,2,     2.65,2, -999.000,9, -999.000,9,  -999.00,9,   -999.0,9,   -999.0,9,-999.0000,9,   -999.0,  9,  -999.00,9,   -999.0,  -999.00,9,  -999.00,9,  -999.00,9,  -999.00,9,   -999.0,-999.0000, -999,9,  901,   4.6000,  27.1067,   -999.0,9
     RF00-09-2,  137E,RF-1240,  1,      5,02-10155,2,20001113,0919, 24.9953, 136.9918, 5087,   1009.1,   4.0641,  34.3097,2,   -999.0,9,  34.3056,2,     58.8,2,   102.43,2,  -999.00,9,    39.33,2,     0.00,2,     2.78,2, -999.000,9, -999.000,9,  -999.00,9,   -999.0,9,   -999.0,9,-999.0000,9,   -999.0,  9,  -999.00,9,   -999.0,  -999.00,9,  -999.00,9,  -999.00,9,  -999.00,9,   -999.0,-999.0000, -999,9, 1000,   3.9875,  27.2383,   -999.0,9
     RF00-09-2,  137E,RF-1240,  1,      4,02-13579,2,20001113,0912, 24.9953, 136.9918, 5087,   1262.5,   2.9951,  34.4476,2,   -999.0,9,  34.4292,2,     56.6,2,   124.01,2,  -999.00,9,    40.77,2,     0.00,2,     2.87,2, -999.000,9, -999.000,9,  -999.00,9,   -999.0,9,   -999.0,9,-999.0000,9,   -999.0,  9,  -999.00,9,   -999.0,  -999.00,9,  -999.00,9,  -999.00,9,  -999.00,9,   -999.0,-999.0000, -999,9, 1251,   2.9069,  27.4526,   -999.0,9
     RF00-09-2,  137E,RF-1240,  1,      3,02-13590,2,20001113,0906, 24.9953, 136.9918, 5087,   1513.9,   2.4719,  34.5334,2,   -999.0,9,  34.5311,2,     77.5,2,   130.14,2,  -999.00,9,    39.91,2,     0.00,2,     2.79,2, -999.000,9, -999.000,9,  -999.00,9,   -999.0,9,   -999.0,9,-999.0000,9,   -999.0,  9,  -999.00,9,   -999.0,  -999.00,9,  -999.00,9,  -999.00,9,  -999.00,9,   -999.0,-999.0000, -999,9, 1499,   2.3691,  27.5678,   -999.0,9
     RF00-09-2,  137E,RF-1240,  1,      2,02-13589,2,20001113,0900, 24.9953, 136.9918, 5087,   1766.8,   2.1718,  34.5832,2,   -999.0,9,  34.5816,2,     97.7,2,   130.82,2,  -999.00,9,    38.84,2,     0.00,2,     2.70,2, -999.000,9, -999.000,9,  -999.00,9,   -999.0,9,   -999.0,9,-999.0000,9,   -999.0,  9,  -999.00,9,   -999.0,  -999.00,9,  -999.00,9,  -999.00,9,  -999.00,9,   -999.0,-999.0000, -999,9, 1748,   2.0523,  27.6336,   -999.0,9
     RF00-09-2,  137E,RF-1240,  1,      1,02-12807,2,20001113,0853, 24.9953, 136.9918, 5087,   2033.6,   1.9735,  34.6131,2,   -999.0,9,  34.6127,2,    111.6,2,   131.08,2,  -999.00,9,    38.06,2,     0.00,2,     2.63,2, -999.000,9, -999.000,9,  -999.00,9,   -999.0,9,   -999.0,9,-999.0000,9,   -999.0,  9,  -999.00,9,   -999.0,  -999.00,9,  -999.00,9,  -999.00,9,  -999.00,9,   -999.0,-999.0000, -999,9, 2011,   1.8348,  27.6746,   -999.0,9