BOTTLE,20121206MIRCJHATS
EXPOCODE,SECT_ID,STNNBR,CASTNO,SAMPNO,BTLNBR,BTLNBR_FLAG_W,DATE,TIME,LATITUDE,LONGITUDE,DEPTH,CTDPRS,CTDTMP,CTDSAL,CTDSAL_FLAG_W,CTDOXY,CTDOXY_FLAG_W,SALNTY,SALNTY_FLAG_W,OXYGEN,OXYGEN_FLAG_W,SILCAT,SILCAT_FLAG_W,NITRAT,NITRAT_FLAG_W,NO2+NO3,NO2+NO3_FLAG_W,NITRIT,NITRIT_FLAG_W,PHSPHT,PHSPHT_FLAG_W,CFC-11,CFC-11_FLAG_W,CFC-12,CFC-12_FLAG_W,DELC13,DELC13_FLAG_W,TCARBN,TCARBN_FLAG_W,ALKALI,ALKALI_FLAG_W,PH,PH_FLAG_W,PH_TMP,PH_SCALE,PH_NBS,PH_NBS_FLAG_W,C13ERR,TOTALP,TOTALP_FLAG_W,AMMONI,AMMONI_FLAG_W,CHLORA,CHLORA_FLAG_W,PPHYTN,PPHYTN_FLAG_W,REVPRS,REVTMP,DEPTH,DEPTH_FLAG,CTDDEP,THETA,SIGTHT,DOC,DOC_FLAG_W
,,,,,,,GMT,GMT,,,METERS,DBAR,ITS-90,PSS-78,,UMOL/KG,,PSS-78,,UMOL/KG,,UMOL/KG,,UMOL/KG,,UMOL/KG,,UMOL/KG, ,UMOL/KG,,PMOL/KG,,PMOL/KG,,/MILLE,,UMOL/KG,,UMOL/KG,,25_DEG_C,,DEG_C,,,,/MILLE,UMOL/KG,,UMOL/KG,,UG/L,,UG/L,,DBAR,ITS-90,METERS,,METERS,DEG_C,,UMOL/L
RF01-04,165E,RF-1353,1,-9,-9,5,20010519,1124,35.0117,165.01,5885,0,16.2703,34.4516,2,-999,9,-999,9,250.7,2,6.65,2,-999,9,2.52,2,0.08,2,0.21,2,-999,9,-999,9,-999,9,-999,9,-999,9,-999,9,   -999.0,  9,-999,9,-999,-999,9,-999,9,-999,9,-999,9,-999,-999,-999,9,0,16.2703,25.2638,-999,9
RF01-04,165E,RF-1353,1,21,02-9150,2,20010519,1121,35.0117,165.01,5885,6.5,16.2683,34.4543,2,-999,9,-999,9,251.8,2,6.44,2,-999,9,2.41,2,0.08,2,0.2,2,-999,9,-999,9,-999,9,-999,9,-999,9,-999,9,   -999.0,  9,-999,9,-999,-999,9,-999,9,-999,9,-999,9,-999,-999,-999,9,6,16.2673,25.2666,-999,9
RF01-04,165E,RF-1353,1,20,02-12826,2,20010519,1120,35.0117,165.01,5885,20.9,15.4275,34.4105,2,-999,9,-999,9,260.4,2,7.48,2,-999,9,3.35,2,0.11,2,0.27,2,-999,9,-999,9,-999,9,-999,9,-999,9,-999,9,   -999.0,  9,-999,9,-999,-999,9,-999,9,-999,9,-999,9,-999,-999,-999,9,21,15.4243,25.4238,-999,9
RF01-04,165E,RF-1353,1,19,02-12825,2,20010519,1117,35.0117,165.01,5885,47.3,13.7197,34.3949,2,-999,9,-999,9,252.2,2,9.94,2,-999,9,6.06,2,0.31,2,0.44,2,-999,9,-999,9,-999,9,-999,9,-999,9,-999,9,   -999.0,  9,-999,9,-999,-999,9,-999,9,-999,9,-999,9,-999,-999,-999,9,47,13.713,25.7791,-999,9
RF01-04,165E,RF-1353,1,18,02-12830,2,20010519,1115,35.0117,165.01,5885,69.5,13.1764,34.3874,2,-999,9,-999,9,251,2,10.66,2,-999,9,7.22,2,0.44,2,0.48,2,-999,9,-999,9,-999,9,-999,9,-999,9,-999,9,   -999.0,  9,-999,9,-999,-999,9,-999,9,-999,9,-999,9,-999,-999,-999,9,69,13.1669,25.8848,-999,9
RF01-04,165E,RF-1353,1,17,02-12815,2,20010519,1113,35.0117,165.01,5885,96.6,12.8711,34.4378,2,-999,9,34.4497,2,225.4,3,13.61,2,-999,9,10.41,2,0.01,2,0.66,2,-999,9,-999,9,-999,9,-999,9,-999,9,-999,9,   -999.0,  9,-999,9,-999,-999,9,-999,9,-999,9,-999,9,-999,-999,-999,9,96,12.858,25.9856,-999,9
RF01-04,165E,RF-1353,1,16,02-12818,2,20010519,1111,35.0117,165.01,5885,121.4,12.2263,34.3949,2,-999,9,-999,9,237.5,2,13.56,2,-999,9,10.09,2,0,2,0.65,2,-999,9,-999,9,-999,9,-999,9,-999,9,-999,9,   -999.0,  9,-999,9,-999,-999,9,-999,9,-999,9,-999,9,-999,-999,-999,9,120,12.2105,26.0789,-999,9
RF01-04,165E,RF-1353,1,15,02-12809,2,20010519,1109,35.0117,165.01,5885,145.5,11.8197,34.3775,2,-999,9,-999,9,246.3,2,13.32,2,-999,9,10.04,2,0,2,0.63,2,-999,9,-999,9,-999,9,-999,9,-999,9,-999,9,   -999.0,  9,-999,9,-999,-999,9,-999,9,-999,9,-999,9,-999,-999,-999,9,144,11.8011,26.1432,-999,9
RF01-04,165E,RF-1353,1,14,02-12817,2,20010519,1106,35.0117,165.01,5885,196,10.6615,34.2849,2,-999,9,34.2842,2,212,2,21.76,2,-999,9,15.2,2,0,2,1,2,-999,9,-999,9,-999,9,-999,9,-999,9,-999,9,   -999.0,  9,-999,9,-999,-999,9,-999,9,-999,9,-999,9,-999,-999,-999,9,195,10.638,26.2831,-999,9
RF01-04,165E,RF-1353,1,13,02-15822,2,20010519,1104,35.0117,165.01,5885,247.2,9.2919,34.1586,2,-999,9,-999,9,202.3,2,27.8,2,-999,9,18.33,2,0,2,1.25,2,-999,9,-999,9,-999,9,-999,9,-999,9,-999,9,   -999.0,  9,-999,9,-999,-999,9,-999,9,-999,9,-999,9,-999,-999,-999,9,245,9.2647,26.4168,-999,9
RF01-04,165E,RF-1353,1,12,02-12821,2,20010519,1101,35.0117,165.01,5885,297.9,7.833,34.0233,2,-999,9,34.0251,2,190.8,2,35.34,2,-999,9,21.67,2,0,2,1.49,2,-999,9,-999,9,-999,9,-999,9,-999,9,-999,9,   -999.0,  9,-999,9,-999,-999,9,-999,9,-999,9,-999,9,-999,-999,-999,9,296,7.8035,26.5357,-999,9
RF01-04,165E,RF-1353,1,11,02-15823,2,20010519,1057,35.0117,165.01,5885,396.8,6.2762,34.0135,2,-999,9,34.0192,2,143.9,2,54.72,2,-999,9,29.13,2,0,2,2.04,2,-999,9,-999,9,-999,9,-999,9,-999,9,-999,9,   -999.0,  9,-999,9,-999,-999,9,-999,9,-999,9,-999,9,-999,-999,-999,9,394,6.2413,26.7424,-999,9
RF01-04,165E,RF-1353,1,10,02-12820,2,20010519,1054,35.0117,165.01,5885,499.1,5.264,34.0463,2,-999,9,34.0508,2,105.6,2,71.26,2,-999,9,34.18,2,0,2,2.42,2,-999,9,-999,9,-999,9,-999,9,-999,9,-999,9,   -999.0,  9,-999,9,-999,-999,9,-999,9,-999,9,-999,9,-999,-999,-999,9,495,5.2236,26.8933,-999,9
RF01-04,165E,RF-1353,1,9,02-12810,2,20010519,1051,35.0117,165.01,5885,599.1,4.5849,34.1268,2,-999,9,34.133,2,73.5,2,87.53,2,-999,9,37.92,2,0,2,2.7,2,-999,9,-999,9,-999,9,-999,9,-999,9,-999,9,   -999.0,  9,-999,9,-999,-999,9,-999,9,-999,9,-999,9,-999,-999,-999,9,594,4.539,27.0345,-999,9
RF01-04,165E,RF-1353,1,8,02-12819,2,20010519,1048,35.0117,165.01,5885,700.3,4.1943,34.2233,2,-999,9,34.2284,2,57.5,2,99.45,2,-999,9,39.61,2,0,2,2.85,2,-999,9,-999,9,-999,9,-999,9,-999,9,-999,9,   -999.0,  9,-999,9,-999,-999,9,-999,9,-999,9,-999,9,-999,-999,-999,9,694,4.1421,27.1536,-999,9
RF01-04,165E,RF-1353,1,7,02-15821,2,20010519,1045,35.0117,165.01,5885,801.6,3.8084,34.2777,2,-999,9,34.2822,2,48.4,2,109.01,2,-999,9,40.71,2,0,2,2.9,2,-999,9,-999,9,-999,9,-999,9,-999,9,-999,9,   -999.0,  9,-999,9,-999,-999,9,-999,9,-999,9,-999,9,-999,-999,-999,9,794,3.7505,27.2369,-999,9
RF01-04,165E,RF-1353,1,6,02-13588,2,20010519,1043,35.0117,165.01,5885,903.4,3.4001,34.3352,2,-999,9,-999,9,41.5,2,118.57,2,-999,9,41.69,2,0,2,2.98,2,-999,9,-999,9,-999,9,-999,9,-999,9,-999,9,   -999.0,  9,-999,9,-999,-999,9,-999,9,-999,9,-999,9,-999,-999,-999,9,895,3.3369,27.323,-999,9
RF01-04,165E,RF-1353,1,5,02-10155,2,20010519,1040,35.0117,165.01,5885,1005.2,3.1754,34.3708,2,-999,9,34.3701,2,37.1,2,124.44,2,-999,9,42.28,2,0,2,3.02,2,-999,9,-999,9,-999,9,-999,9,-999,9,-999,9,   -999.0,  9,-999,9,-999,-999,9,-999,9,-999,9,-999,9,-999,-999,-999,9,996,3.106,27.3731,-999,9
RF01-04,165E,RF-1353,1,4,02-13579,2,20010519,1035,35.0117,165.01,5885,1258.4,2.6508,34.4523,2,-999,9,34.456,2,33.2,2,138.19,2,-999,9,43.06,2,0,2,3.07,2,-999,9,-999,9,-999,9,-999,9,-999,9,-999,9,   -999.0,  9,-999,9,-999,-999,9,-999,9,-999,9,-999,9,-999,-999,-999,9,1246,2.5663,27.4863,-999,9
RF01-04,165E,RF-1353,1,3,02-13590,2,20010519,1030,35.0117,165.01,5885,1511.8,2.339,34.5156,2,-999,9,34.5212,2,45.2,2,144.12,2,-999,9,42.54,2,0,2,3.02,2,-999,9,-999,9,-999,9,-999,9,-999,9,-999,9,   -999.0,  9,-999,9,-999,-999,9,-999,9,-999,9,-999,9,-999,-999,-999,9,1495,2.238,27.5645,-999,9
RF01-04,165E,RF-1353,1,2,02-13589,2,20010519,1023,35.0117,165.01,5885,1763,2.0695,34.5706,2,-999,9,34.568,2,58.6,2,148.82,2,-999,9,41.97,2,0,2,2.95,2,-999,9,-999,9,-999,9,-999,9,-999,9,-999,9,   -999.0,  9,-999,9,-999,-999,9,-999,9,-999,9,-999,9,-999,-999,-999,9,1743,1.9518,27.6315,-999,9
RF01-04,165E,RF-1353,1,1,02-12807,2,20010519,1017,35.0117,165.01,5885,2048,1.8535,34.6076,2,-999,9,34.6054,2,78.7,2,149.8,2,-999,9,40.84,2,0,2,2.85,2,-999,9,-999,9,-999,9,-999,9,-999,9,-999,9,   -999.0,  9,-999,9,-999,-999,9,-999,9,-999,9,-999,9,-999,-999,-999,9,2023,1.7154,27.6793,-999,9