BOTTLE,20121206MIRCJHATS
EXPOCODE,SECT_ID,STNNBR,CASTNO,SAMPNO,BTLNBR,BTLNBR_FLAG_W,DATE,TIME,LATITUDE,LONGITUDE,DEPTH,CTDPRS,CTDTMP,CTDSAL,CTDSAL_FLAG_W,CTDOXY,CTDOXY_FLAG_W,SALNTY,SALNTY_FLAG_W,OXYGEN,OXYGEN_FLAG_W,SILCAT,SILCAT_FLAG_W,NITRAT,NITRAT_FLAG_W,NO2+NO3,NO2+NO3_FLAG_W,NITRIT,NITRIT_FLAG_W,PHSPHT,PHSPHT_FLAG_W,CFC-11,CFC-11_FLAG_W,CFC-12,CFC-12_FLAG_W,DELC13,DELC13_FLAG_W,TCARBN,TCARBN_FLAG_W,ALKALI,ALKALI_FLAG_W,PH,PH_FLAG_W,PH_TMP,PH_SCALE,PH_NBS,PH_NBS_FLAG_W,C13ERR,TOTALP,TOTALP_FLAG_W,AMMONI,AMMONI_FLAG_W,CHLORA,CHLORA_FLAG_W,PPHYTN,PPHYTN_FLAG_W,REVPRS,REVTMP,DEPTH,DEPTH_FLAG,CTDDEP,THETA,SIGTHT,DOC,DOC_FLAG_W
,,,,,,,GMT,GMT,,,METERS,DBAR,ITS-90,PSS-78,,UMOL/KG,,PSS-78,,UMOL/KG,,UMOL/KG,,UMOL/KG,,UMOL/KG,,UMOL/KG, ,UMOL/KG,,PMOL/KG,,PMOL/KG,,/MILLE,,UMOL/KG,,UMOL/KG,,25_DEG_C,,DEG_C,,,,/MILLE,UMOL/KG,,UMOL/KG,,UG/L,,UG/L,,DBAR,ITS-90,METERS,,METERS,DEG_C,,UMOL/L
RF01-04,165E,RF-1348,1,-9,-9,5,20010517,1308,40.009,164.841,5355,0,13.1369,34.4098,2,-999,9,-999,9,266.1,2,11.89,2,-999,9,6.23,2,0.14,2,0.47,2,-999,9,-999,9,-999,9,-999,9,-999,9,-999,9,   -999.0,  9,-999,9,-999,-999,9,-999,9,-999,9,-999,9,-999,-999,-999,9,0,13.1369,25.9082,-999,9
RF01-04,165E,RF-1348,1,21,02-9150,2,20010517,1306,40.009,164.841,5355,7.4,13.0945,34.3847,2,-999,9,-999,9,266.9,2,12.13,2,-999,9,6.29,2,0.14,2,0.47,2,-999,9,-999,9,-999,9,-999,9,-999,9,-999,9,   -999.0,  9,-999,9,-999,-999,9,-999,9,-999,9,-999,9,-999,-999,-999,9,7,13.0935,25.8974,-999,9
RF01-04,165E,RF-1348,1,20,02-12826,2,20010517,1305,40.009,164.841,5355,22.4,11.8617,34.315,2,-999,9,-999,9,272.4,2,14.43,2,-999,9,7.97,2,0.15,2,0.58,2,-999,9,-999,9,-999,9,-999,9,-999,9,-999,9,   -999.0,  9,-999,9,-999,-999,9,-999,9,-999,9,-999,9,-999,-999,-999,9,22,11.8588,26.0837,-999,9
RF01-04,165E,RF-1348,1,19,02-12825,2,20010517,1303,40.009,164.841,5355,47,11.3389,34.2507,2,-999,9,-999,9,268,2,15.32,2,-999,9,8.93,2,0.17,2,0.65,2,-999,9,-999,9,-999,9,-999,9,-999,9,-999,9,   -999.0,  9,-999,9,-999,-999,9,-999,9,-999,9,-999,9,-999,-999,-999,9,47,11.3331,26.1315,-999,9
RF01-04,165E,RF-1348,1,18,02-12830,3,20010517,1302,40.009,164.841,5355,72.1,10.784,34.2202,2,-999,9,-999,9,266,4,16.34,4,-999,9,9.85,4,0.19,4,0.73,4,-999,9,-999,9,-999,9,-999,9,-999,9,-999,9,   -999.0,  9,-999,9,-999,-999,9,-999,9,-999,9,-999,9,-999,-999,-999,9,72,10.7753,26.2084,-999,9
RF01-04,165E,RF-1348,1,17,02-12815,2,20010517,1300,40.009,164.841,5355,97.7,10.2003,34.2058,2,-999,9,34.2135,2,253.6,2,18.26,2,-999,9,12.24,2,0.12,2,0.84,2,-999,9,-999,9,-999,9,-999,9,-999,9,-999,9,   -999.0,  9,-999,9,-999,-999,9,-999,9,-999,9,-999,9,-999,-999,-999,9,97,10.189,26.2995,-999,9
RF01-04,165E,RF-1348,1,16,02-12818,2,20010517,1259,40.009,164.841,5355,123.3,9.6597,34.1701,2,-999,9,-999,9,258.2,2,18.96,2,-999,9,12.95,2,0.01,2,0.88,2,-999,9,-999,9,-999,9,-999,9,-999,9,-999,9,   -999.0,  9,-999,9,-999,-999,9,-999,9,-999,9,-999,9,-999,-999,-999,9,122,9.6459,26.3633,-999,9
RF01-04,165E,RF-1348,1,15,02-12809,2,20010517,1257,40.009,164.841,5355,147.5,9.2598,34.1362,2,-999,9,-999,9,270.8,2,18.36,2,-999,9,12.6,2,0.01,2,0.86,2,-999,9,-999,9,-999,9,-999,9,-999,9,-999,9,   -999.0,  9,-999,9,-999,-999,9,-999,9,-999,9,-999,9,-999,-999,-999,9,146,9.2437,26.4026,-999,9
RF01-04,165E,RF-1348,1,14,02-12817,2,20010517,1256,40.009,164.841,5355,198.7,8.9308,34.1089,2,-999,9,34.1195,2,273.3,2,18.93,2,-999,9,13.03,2,0,2,0.91,2,-999,9,-999,9,-999,9,-999,9,-999,9,-999,9,   -999.0,  9,-999,9,-999,-999,9,-999,9,-999,9,-999,9,-999,-999,-999,9,197,8.9096,26.4347,-999,9
RF01-04,165E,RF-1348,1,13,02-15822,2,20010517,1254,40.009,164.841,5355,248.5,8.553,34.076,2,-999,9,-999,9,250.8,2,23.24,2,-999,9,15.63,2,0,2,1.06,2,-999,9,-999,9,-999,9,-999,9,-999,9,-999,9,   -999.0,  9,-999,9,-999,-999,9,-999,9,-999,9,-999,9,-999,-999,-999,9,246,8.5271,26.4685,-999,9
RF01-04,165E,RF-1348,1,12,02-12821,2,20010517,1252,40.009,164.841,5355,298.7,7.7088,33.9697,2,-999,9,33.98,2,268.5,2,23.26,2,-999,9,15.61,2,0,2,1.08,2,-999,9,-999,9,-999,9,-999,9,-999,9,-999,9,   -999.0,  9,-999,9,-999,-999,9,-999,9,-999,9,-999,9,-999,-999,-999,9,296,7.6794,26.5116,-999,9
RF01-04,165E,RF-1348,1,11,02-15823,2,20010517,1249,40.009,164.841,5355,399,6.4294,33.8865,2,-999,9,33.8897,2,215,2,37.31,2,-999,9,22.45,2,0,2,1.57,2,-999,9,-999,9,-999,9,-999,9,-999,9,-999,9,   -999.0,  9,-999,9,-999,-999,9,-999,9,-999,9,-999,9,-999,-999,-999,9,396,6.3939,26.6225,-999,9
RF01-04,165E,RF-1348,1,10,02-12820,2,20010517,1245,40.009,164.841,5355,500.9,5.4039,33.928,2,-999,9,33.9333,2,139.4,2,59.98,2,-999,9,31.02,2,0,2,2.19,2,-999,9,-999,9,-999,9,-999,9,-999,9,-999,9,   -999.0,  9,-999,9,-999,-999,9,-999,9,-999,9,-999,9,-999,-999,-999,9,496,5.3629,26.7833,-999,9
RF01-04,165E,RF-1348,1,9,02-12810,2,20010517,1242,40.009,164.841,5355,601.5,4.7055,34.0307,2,-999,9,34.0388,2,89.5,2,79.66,2,-999,9,36.56,2,0,2,2.6,2,-999,9,-999,9,-999,9,-999,9,-999,9,-999,9,   -999.0,  9,-999,9,-999,-999,9,-999,9,-999,9,-999,9,-999,-999,-999,9,596,4.659,26.9451,-999,9
RF01-04,165E,RF-1348,1,8,02-12819,2,20010517,1239,40.009,164.841,5355,703.1,4.2362,34.1228,2,-999,9,34.1269,2,62.2,2,93.78,2,-999,9,39.49,2,0,2,2.81,2,-999,9,-999,9,-999,9,-999,9,-999,9,-999,9,   -999.0,  9,-999,9,-999,-999,9,-999,9,-999,9,-999,9,-999,-999,-999,9,697,4.1837,27.0693,-999,9
RF01-04,165E,RF-1348,1,7,02-15821,2,20010517,1236,40.009,164.841,5355,802.6,3.8173,34.2195,2,-999,9,34.2225,2,45.1,2,107.22,2,-999,9,41.17,2,0,2,2.94,2,-999,9,-999,9,-999,9,-999,9,-999,9,-999,9,   -999.0,  9,-999,9,-999,-999,9,-999,9,-999,9,-999,9,-999,-999,-999,9,795,3.7593,27.1897,-999,9
RF01-04,165E,RF-1348,1,6,02-13588,2,20010517,1232,40.009,164.841,5355,904.7,3.5119,34.2755,2,-999,9,-999,9,38.5,2,116,2,-999,9,42.04,2,0,2,3.01,2,-999,9,-999,9,-999,9,-999,9,-999,9,-999,9,   -999.0,  9,-999,9,-999,-999,9,-999,9,-999,9,-999,9,-999,-999,-999,9,896,3.4478,27.2649,-999,9
RF01-04,165E,RF-1348,1,5,02-10155,2,20010517,1229,40.009,164.841,5355,1005.9,3.2377,34.3299,2,-999,9,34.3317,2,33.8,2,123.56,2,-999,9,42.56,2,0,2,3.05,2,-999,9,-999,9,-999,9,-999,9,-999,9,-999,9,   -999.0,  9,-999,9,-999,-999,9,-999,9,-999,9,-999,9,-999,-999,-999,9,996,3.1678,27.3347,-999,9
RF01-04,165E,RF-1348,1,4,02-13579,2,20010517,1223,40.009,164.841,5355,1258.3,2.7916,34.4152,2,-999,9,34.4202,2,31.8,2,135.69,2,-999,9,43.19,2,0,2,3.08,2,-999,9,-999,9,-999,9,-999,9,-999,9,-999,9,   -999.0,  9,-999,9,-999,-999,9,-999,9,-999,9,-999,9,-999,-999,-999,9,1245,2.7058,27.4445,-999,9
RF01-04,165E,RF-1348,1,3,02-13590,2,20010517,1216,40.009,164.841,5355,1512,2.426,34.4857,2,-999,9,34.4884,2,38.5,2,144.73,2,-999,9,42.86,2,0,2,3.06,2,-999,9,-999,9,-999,9,-999,9,-999,9,-999,9,   -999.0,  9,-999,9,-999,-999,9,-999,9,-999,9,-999,9,-999,-999,-999,9,1495,2.324,27.5334,-999,9
RF01-04,165E,RF-1348,1,2,02-13589,2,20010517,1208,40.009,164.841,5355,1765.2,2.1932,34.5324,2,-999,9,34.5348,2,47.2,2,149.59,2,-999,9,42.64,2,0,2,3.02,2,-999,9,-999,9,-999,9,-999,9,-999,9,-999,9,   -999.0,  9,-999,9,-999,-999,9,-999,9,-999,9,-999,9,-999,-999,-999,9,1744,2.0737,27.5912,-999,9
RF01-04,165E,RF-1348,1,1,02-12807,2,20010517,1202,40.009,164.841,5355,2031.3,1.9826,34.5804,2,-999,9,34.5777,2,62.3,2,152.51,2,-999,9,41.83,2,0,2,2.94,2,-999,9,-999,9,-999,9,-999,9,-999,9,-999,9,   -999.0,  9,-999,9,-999,-999,9,-999,9,-999,9,-999,9,-999,-999,-999,9,2006,1.844,27.6476,-999,9
RF01-04,165E,RF-1349,1,-9,-9,5,20010517,1939,38.9945,164.9893,5304,0,14.5408,34.4978,2,-999,9,-999,9,257.7,2,8.65,2,-999,9,4.53,2,0.13,2,0.31,2,-999,9,-999,9,-999,9,-999,9,-999,9,-999,9,   -999.0,  9,-999,9,-999,-999,9,-999,9,-999,9,-999,9,-999,-999,-999,9,0,14.5408,25.6843,-999,9
RF01-04,165E,RF-1349,1,21,02-9150,2,20010517,1936,38.9945,164.9893,5304,6.7,14.5314,34.4969,2,-999,9,-999,9,259.1,2,8.53,2,-999,9,4.41,2,0.14,2,0.28,2,-999,9,-999,9,-999,9,-999,9,-999,9,-999,9,   -999.0,  9,-999,9,-999,-999,9,-999,9,-999,9,-999,9,-999,-999,-999,9,7,14.5304,25.6858,-999,9
RF01-04,165E,RF-1349,1,20,02-12826,2,20010517,1935,38.9945,164.9893,5304,22.8,14.1937,34.4931,2,-999,9,-999,9,254.5,2,8.88,2,-999,9,5.18,2,0.19,2,0.28,2,-999,9,-999,9,-999,9,-999,9,-999,9,-999,9,   -999.0,  9,-999,9,-999,-999,9,-999,9,-999,9,-999,9,-999,-999,-999,9,23,14.1904,25.7553,-999,9
RF01-04,165E,RF-1349,1,19,02-12825,2,20010517,1933,38.9945,164.9893,5304,47.3,13.094,34.4289,2,-999,9,-999,9,236.9,2,12.27,2,-999,9,8.93,2,0.24,2,0.52,2,-999,9,-999,9,-999,9,-999,9,-999,9,-999,9,   -999.0,  9,-999,9,-999,-999,9,-999,9,-999,9,-999,9,-999,-999,-999,9,47,13.0876,25.9329,-999,9
RF01-04,165E,RF-1349,1,18,02-12830,2,20010517,1932,38.9945,164.9893,5304,73.1,12.5256,34.3839,2,-999,9,-999,9,231.4,2,13.65,2,-999,9,10.32,2,0.06,2,0.6,2,-999,9,-999,9,-999,9,-999,9,-999,9,-999,9,   -999.0,  9,-999,9,-999,-999,9,-999,9,-999,9,-999,9,-999,-999,-999,9,73,12.516,26.0111,-999,9
RF01-04,165E,RF-1349,1,17,02-12815,2,20010517,1931,38.9945,164.9893,5304,97.7,11.9119,34.3646,2,-999,9,-999,9,228.1,2,15.92,2,-999,9,11.7,2,0.04,2,0.7,2,-999,9,-999,9,-999,9,-999,9,-999,9,-999,9,   -999.0,  9,-999,9,-999,-999,9,-999,9,-999,9,-999,9,-999,-999,-999,9,97,11.8994,26.1146,-999,9
RF01-04,165E,RF-1349,1,16,02-12818,2,20010517,1929,38.9945,164.9893,5304,122.5,10.8658,34.2717,2,-999,9,-999,9,240.3,2,18.32,2,-999,9,12.61,2,0.15,2,0.78,2,-999,9,-999,9,-999,9,-999,9,-999,9,-999,9,   -999.0,  9,-999,9,-999,-999,9,-999,9,-999,9,-999,9,-999,-999,-999,9,122,10.851,26.2351,-999,9
RF01-04,165E,RF-1349,1,15,02-12809,2,20010517,1927,38.9945,164.9893,5304,147.6,10.3406,34.2521,2,-999,9,-999,9,221.9,2,21.32,2,-999,9,15.03,2,0,2,0.94,2,-999,9,-999,9,-999,9,-999,9,-999,9,-999,9,   -999.0,  9,-999,9,-999,-999,9,-999,9,-999,9,-999,9,-999,-999,-999,9,146,10.3233,26.3125,-999,9
RF01-04,165E,RF-1349,1,14,02-12817,2,20010517,1925,38.9945,164.9893,5304,197.9,9.282,34.1692,2,-999,9,-999,9,237.7,2,22.93,2,-999,9,15.68,2,0,2,0.99,2,-999,9,-999,9,-999,9,-999,9,-999,9,-999,9,   -999.0,  9,-999,9,-999,-999,9,-999,9,-999,9,-999,9,-999,-999,-999,9,196,9.2603,26.4258,-999,9
RF01-04,165E,RF-1349,1,13,02-15822,2,20010517,1924,38.9945,164.9893,5304,247.6,8.1536,34.0424,2,-999,9,-999,9,243.1,2,25.77,2,-999,9,17.13,2,0,2,1.11,2,-999,9,-999,9,-999,9,-999,9,-999,9,-999,9,   -999.0,  9,-999,9,-999,-999,9,-999,9,-999,9,-999,9,-999,-999,-999,9,246,8.1286,26.5026,-999,9
RF01-04,165E,RF-1349,1,12,02-12821,2,20010517,1922,38.9945,164.9893,5304,297.9,7.3385,33.967,2,-999,9,-999,9,251.3,2,27.76,2,-999,9,18.06,2,0,2,1.19,2,-999,9,-999,9,-999,9,-999,9,-999,9,-999,9,   -999.0,  9,-999,9,-999,-999,9,-999,9,-999,9,-999,9,-999,-999,-999,9,295,7.3101,26.562,-999,9
RF01-04,165E,RF-1349,1,11,02-15823,2,20010517,1919,38.9945,164.9893,5304,399.1,6.2104,33.9577,2,-999,9,-999,9,169.6,2,49.32,2,-999,9,27.2,2,0,2,1.85,2,-999,9,-999,9,-999,9,-999,9,-999,9,-999,9,   -999.0,  9,-999,9,-999,-999,9,-999,9,-999,9,-999,9,-999,-999,-999,9,396,6.1755,26.7068,-999,9
RF01-04,165E,RF-1349,1,10,02-12820,2,20010517,1917,38.9945,164.9893,5304,500.6,5.3481,34.0061,2,-999,9,-999,9,119.5,2,66.83,2,-999,9,33.02,2,0,2,2.29,2,-999,9,-999,9,-999,9,-999,9,-999,9,-999,9,   -999.0,  9,-999,9,-999,-999,9,-999,9,-999,9,-999,9,-999,-999,-999,9,496,5.3073,26.8516,-999,9
RF01-04,165E,RF-1349,1,9,02-12810,2,20010517,1914,38.9945,164.9893,5304,600.7,4.4933,34.0838,2,-999,9,-999,9,75.9,2,86.08,2,-999,9,38.16,2,0,2,2.69,2,-999,9,-999,9,-999,9,-999,9,-999,9,-999,9,   -999.0,  9,-999,9,-999,-999,9,-999,9,-999,9,-999,9,-999,-999,-999,9,595,4.4478,27.0103,-999,9
RF01-04,165E,RF-1349,1,8,02-12819,2,20010517,1911,38.9945,164.9893,5304,701.6,4.0535,34.1871,2,-999,9,-999,9,52.9,2,100.24,2,-999,9,40.45,2,0,2,2.85,2,-999,9,-999,9,-999,9,-999,9,-999,9,-999,9,   -999.0,  9,-999,9,-999,-999,9,-999,9,-999,9,-999,9,-999,-999,-999,9,695,4.0021,27.1393,-999,9
RF01-04,165E,RF-1349,1,7,02-15821,2,20010517,1909,38.9945,164.9893,5304,802.6,3.6486,34.2445,2,-999,9,-999,9,40,2,111.35,2,-999,9,41.82,2,0,2,2.96,2,-999,9,-999,9,-999,9,-999,9,-999,9,-999,9,   -999.0,  9,-999,9,-999,-999,9,-999,9,-999,9,-999,9,-999,-999,-999,9,795,3.5916,27.2261,-999,9
RF01-04,165E,RF-1349,1,6,02-13588,2,20010517,1906,38.9945,164.9893,5304,905,3.3883,34.3,2,-999,9,-999,9,35.2,2,118.81,2,-999,9,42.43,2,0,2,3.02,2,-999,9,-999,9,-999,9,-999,9,-999,9,-999,9,   -999.0,  9,-999,9,-999,-999,9,-999,9,-999,9,-999,9,-999,-999,-999,9,896,3.3251,27.2961,-999,9
RF01-04,165E,RF-1349,1,5,02-10155,2,20010517,1903,38.9945,164.9893,5304,1005,3.1665,34.3455,2,-999,9,-999,9,-999,4,125.63,2,-999,9,42.77,2,0,2,3.05,2,-999,9,-999,9,-999,9,-999,9,-999,9,-999,9,   -999.0,  9,-999,9,-999,-999,9,-999,9,-999,9,-999,9,-999,-999,-999,9,995,3.0972,27.3537,-999,9
RF01-04,165E,RF-1349,1,4,02-13579,2,20010517,1858,38.9945,164.9893,5304,1258,2.6946,34.4389,2,-999,9,-999,9,32.9,2,137.65,2,-999,9,43.15,2,0,2,3.06,2,-999,9,-999,9,-999,9,-999,9,-999,9,-999,9,   -999.0,  9,-999,9,-999,-999,9,-999,9,-999,9,-999,9,-999,-999,-999,9,1245,2.6098,27.4718,-999,9
RF01-04,165E,RF-1349,1,3,02-13590,2,20010517,1853,38.9945,164.9893,5304,1512.5,2.3528,34.4968,2,-999,9,-999,9,38.8,2,146.03,2,-999,9,43.07,2,0,2,3.02,2,-999,9,-999,9,-999,9,-999,9,-999,9,-999,9,   -999.0,  9,-999,9,-999,-999,9,-999,9,-999,9,-999,9,-999,-999,-999,9,1496,2.2517,27.5483,-999,9
RF01-04,165E,RF-1349,1,2,02-13589,2,20010517,1848,38.9945,164.9893,5304,1765.9,2.1181,34.5467,2,-999,9,-999,9,51.7,2,150.05,2,-999,9,42.45,2,0,2,2.96,2,-999,9,-999,9,-999,9,-999,9,-999,9,-999,9,   -999.0,  9,-999,9,-999,-999,9,-999,9,-999,9,-999,9,-999,-999,-999,9,1745,1.9995,27.6085,-999,9
RF01-04,165E,RF-1349,1,1,02-12807,2,20010517,1843,38.9945,164.9893,5304,2032.9,1.9178,34.5927,2,-999,9,-999,9,67.4,2,152.01,2,-999,9,41.51,2,0,2,2.89,2,-999,9,-999,9,-999,9,-999,9,-999,9,-999,9,   -999.0,  9,-999,9,-999,-999,9,-999,9,-999,9,-999,9,-999,-999,-999,9,2008,1.78,27.6625,-999,9
RF01-04,165E,RF-1350,1,-9,-9,5,20010518,0214,38.004,164.9938,5458,0,14.9306,34.4636,2,-999,9,-999,9,261.2,2,7.95,2,-999,9,3.32,2,0.09,2,0.22,2,-999,9,-999,9,-999,9,-999,9,-999,9,-999,9,   -999.0,  9,-999,9,-999,-999,9,-999,9,-999,9,-999,9,-999,-999,-999,9,0,14.9306,25.5735,-999,9
RF01-04,165E,RF-1350,1,21,02-9150,2,20010518,0212,38.004,164.9938,5458,7.4,14.9014,34.4634,2,-999,9,-999,9,261.5,2,8.08,2,-999,9,3.5,2,0.09,2,0.23,2,-999,9,-999,9,-999,9,-999,9,-999,9,-999,9,   -999.0,  9,-999,9,-999,-999,9,-999,9,-999,9,-999,9,-999,-999,-999,9,7,14.9003,25.58,-999,9
RF01-04,165E,RF-1350,1,20,02-12826,2,20010518,0210,38.004,164.9938,5458,22.8,13.6592,34.4436,2,-999,9,-999,9,256.4,2,10.12,2,-999,9,6.15,2,0.12,2,0.39,2,-999,9,-999,9,-999,9,-999,9,-999,9,-999,9,   -999.0,  9,-999,9,-999,-999,9,-999,9,-999,9,-999,9,-999,-999,-999,9,23,13.656,25.8286,-999,9
RF01-04,165E,RF-1350,1,19,02-12825,2,20010518,0209,38.004,164.9938,5458,47.2,13.3421,34.438,2,-999,9,-999,9,248.7,2,10.69,2,-999,9,7.24,2,0.16,2,0.46,2,-999,9,-999,9,-999,9,-999,9,-999,9,-999,9,   -999.0,  9,-999,9,-999,-999,9,-999,9,-999,9,-999,9,-999,-999,-999,9,47,13.3355,25.8899,-999,9
RF01-04,165E,RF-1350,1,18,02-12830,2,20010518,0208,38.004,164.9938,5458,72.8,12.8853,34.4147,2,-999,9,-999,9,244.7,2,11.74,2,-999,9,8.46,2,0.24,2,0.52,2,-999,9,-999,9,-999,9,-999,9,-999,9,-999,9,   -999.0,  9,-999,9,-999,-999,9,-999,9,-999,9,-999,9,-999,-999,-999,9,72,12.8754,25.9643,-999,9
RF01-04,165E,RF-1350,1,17,02-12815,2,20010518,0206,38.004,164.9938,5458,98.2,12.4127,34.3767,2,-999,9,-999,9,243.3,2,13.4,2,-999,9,9.55,2,0.19,2,0.6,2,-999,9,-999,9,-999,9,-999,9,-999,9,-999,9,   -999.0,  9,-999,9,-999,-999,9,-999,9,-999,9,-999,9,-999,-999,-999,9,97,12.3997,26.0282,-999,9
RF01-04,165E,RF-1350,1,16,02-12818,2,20010518,0205,38.004,164.9938,5458,123.6,11.7829,34.3597,2,-999,9,-999,9,208.8,2,17.65,2,-999,9,13.5,2,0,2,0.86,2,-999,9,-999,9,-999,9,-999,9,-999,9,-999,9,   -999.0,  9,-999,9,-999,-999,9,-999,9,-999,9,-999,9,-999,-999,-999,9,123,11.7671,26.1357,-999,9
RF01-04,165E,RF-1350,1,15,02-12809,2,20010518,0204,38.004,164.9938,5458,148.7,11.0842,34.3015,2,-999,9,-999,9,206.5,2,20.63,2,-999,9,15.05,2,0,2,0.96,2,-999,9,-999,9,-999,9,-999,9,-999,9,-999,9,   -999.0,  9,-999,9,-999,-999,9,-999,9,-999,9,-999,9,-999,-999,-999,9,147,11.066,26.2197,-999,9
RF01-04,165E,RF-1350,1,14,02-12817,2,20010518,0202,38.004,164.9938,5458,199.8,10.0029,34.2273,2,-999,9,-999,9,220.3,2,22.67,2,-999,9,15.71,2,0,2,1.03,2,-999,9,-999,9,-999,9,-999,9,-999,9,-999,9,   -999.0,  9,-999,9,-999,-999,9,-999,9,-999,9,-999,9,-999,-999,-999,9,198,9.98,26.352,-999,9
RF01-04,165E,RF-1350,1,13,02-15822,2,20010518,0200,38.004,164.9938,5458,250.5,8.705,34.1117,2,-999,9,-999,9,225.7,2,26.8,2,-999,9,17.65,2,0,2,1.18,2,-999,9,-999,9,-999,9,-999,9,-999,9,-999,9,   -999.0,  9,-999,9,-999,-999,9,-999,9,-999,9,-999,9,-999,-999,-999,9,248,8.6786,26.4731,-999,9
RF01-04,165E,RF-1350,1,12,02-12821,2,20010518,0158,38.004,164.9938,5458,300.1,7.5085,33.9955,2,-999,9,-999,9,241.6,2,28.89,2,-999,9,18.5,2,0,2,1.27,2,-999,9,-999,9,-999,9,-999,9,-999,9,-999,9,   -999.0,  9,-999,9,-999,-999,9,-999,9,-999,9,-999,9,-999,-999,-999,9,298,7.4795,26.5605,-999,9
RF01-04,165E,RF-1350,1,11,02-15823,2,20010518,0155,38.004,164.9938,5458,402.2,6.218,33.9302,2,-999,9,-999,9,187,2,44.95,2,-999,9,25.52,2,0,2,1.78,2,-999,9,-999,9,-999,9,-999,9,-999,9,-999,9,   -999.0,  9,-999,9,-999,-999,9,-999,9,-999,9,-999,9,-999,-999,-999,9,399,6.1829,26.6842,-999,9
RF01-04,165E,RF-1350,1,10,02-12820,2,20010518,0152,38.004,164.9938,5458,501.7,5.555,34.0486,2,-999,9,-999,9,116.1,2,66.96,2,-999,9,32.75,2,0,2,2.32,2,-999,9,-999,9,-999,9,-999,9,-999,9,-999,9,   -999.0,  9,-999,9,-999,-999,9,-999,9,-999,9,-999,9,-999,-999,-999,9,497,5.5133,26.8608,-999,9
RF01-04,165E,RF-1350,1,9,02-12810,2,20010518,0149,38.004,164.9938,5458,602.2,4.7158,34.0997,2,-999,9,-999,9,81.1,2,83.37,2,-999,9,37.21,2,0,2,2.64,2,-999,9,-999,9,-999,9,-999,9,-999,9,-999,9,   -999.0,  9,-999,9,-999,-999,9,-999,9,-999,9,-999,9,-999,-999,-999,9,597,4.6691,26.9987,-999,9
RF01-04,165E,RF-1350,1,8,02-12819,2,20010518,0146,38.004,164.9938,5458,703.1,4.0597,34.1715,2,-999,9,-999,9,53.4,2,99.38,2,-999,9,40.18,2,0,2,2.87,2,-999,9,-999,9,-999,9,-999,9,-999,9,-999,9,   -999.0,  9,-999,9,-999,-999,9,-999,9,-999,9,-999,9,-999,-999,-999,9,697,4.0081,27.1262,-999,9
RF01-04,165E,RF-1350,1,7,02-15821,2,20010518,0143,38.004,164.9938,5458,803.6,3.7009,34.2433,2,-999,9,-999,9,41.7,2,109.79,2,-999,9,41.3,2,0,2,2.96,2,-999,9,-999,9,-999,9,-999,9,-999,9,-999,9,   -999.0,  9,-999,9,-999,-999,9,-999,9,-999,9,-999,9,-999,-999,-999,9,796,3.6435,27.2201,-999,9
RF01-04,165E,RF-1350,1,6,02-13588,2,20010518,0138,38.004,164.9938,5458,904.2,3.4324,34.3003,2,-999,9,-999,9,37.7,2,117.41,2,-999,9,41.85,2,0,2,3.01,2,-999,9,-999,9,-999,9,-999,9,-999,9,-999,9,   -999.0,  9,-999,9,-999,-999,9,-999,9,-999,9,-999,9,-999,-999,-999,9,895,3.369,27.2922,-999,9
RF01-04,165E,RF-1350,1,5,02-10155,3,20010518,0135,38.004,164.9938,5458,1004.8,3.2041,34.3445,2,-999,9,-999,9,38.4,4,123.13,4,-999,9,42.03,4,0,4,3.01,4,-999,9,-999,9,-999,9,-999,9,-999,9,-999,9,   -999.0,  9,-999,9,-999,-999,9,-999,9,-999,9,-999,9,-999,-999,-999,9,995,3.1345,27.3494,-999,9
RF01-04,165E,RF-1350,1,4,02-13579,2,20010518,0130,38.004,164.9938,5458,1258.7,2.7086,34.4361,2,-999,9,-999,9,33.5,2,136.91,2,-999,9,43,2,0,2,3.06,2,-999,9,-999,9,-999,9,-999,9,-999,9,-999,9,   -999.0,  9,-999,9,-999,-999,9,-999,9,-999,9,-999,9,-999,-999,-999,9,1246,2.6235,27.4684,-999,9
RF01-04,165E,RF-1350,1,3,02-13590,2,20010518,0124,38.004,164.9938,5458,1510.9,2.3448,34.4981,2,-999,9,-999,9,39.1,2,145.98,2,-999,9,42.9,2,0,2,3.05,2,-999,9,-999,9,-999,9,-999,9,-999,9,-999,9,   -999.0,  9,-999,9,-999,-999,9,-999,9,-999,9,-999,9,-999,-999,-999,9,1494,2.2439,27.55,-999,9
RF01-04,165E,RF-1350,1,2,02-13589,2,20010518,0119,38.004,164.9938,5458,1766.1,2.1176,34.5446,2,-999,9,-999,9,51.4,2,150.27,2,-999,9,42.42,2,0,2,2.99,2,-999,9,-999,9,-999,9,-999,9,-999,9,-999,9,   -999.0,  9,-999,9,-999,-999,9,-999,9,-999,9,-999,9,-999,-999,-999,9,1746,1.999,27.6069,-999,9
RF01-04,165E,RF-1350,1,1,02-12807,2,20010518,0113,38.004,164.9938,5458,2030,1.912,34.5928,2,-999,9,-999,9,68.1,2,151.88,2,-999,9,41.42,2,0,2,2.89,2,-999,9,-999,9,-999,9,-999,9,-999,9,-999,9,   -999.0,  9,-999,9,-999,-999,9,-999,9,-999,9,-999,9,-999,-999,-999,9,2005,1.7746,27.6629,-999,9