BOTTLE,20121206MIRCJHATS
EXPOCODE,SECT_ID,STNNBR,CASTNO,SAMPNO,BTLNBR,BTLNBR_FLAG_W,DATE,TIME,LATITUDE,LONGITUDE,DEPTH,CTDPRS,CTDTMP,CTDSAL,CTDSAL_FLAG_W,CTDOXY,CTDOXY_FLAG_W,SALNTY,SALNTY_FLAG_W,OXYGEN,OXYGEN_FLAG_W,SILCAT,SILCAT_FLAG_W,NITRAT,NITRAT_FLAG_W,NO2+NO3,NO2+NO3_FLAG_W,NITRIT,NITRIT_FLAG_W,PHSPHT,PHSPHT_FLAG_W,CFC-11,CFC-11_FLAG_W,CFC-12,CFC-12_FLAG_W,DELC13,DELC13_FLAG_W,TCARBN,TCARBN_FLAG_W,ALKALI,ALKALI_FLAG_W,PH,PH_FLAG_W,PH_TMP,PH_SCALE,PH_NBS,PH_NBS_FLAG_W,C13ERR,TOTALP,TOTALP_FLAG_W,AMMONI,AMMONI_FLAG_W,CHLORA,CHLORA_FLAG_W,PPHYTN,PPHYTN_FLAG_W,REVPRS,REVTMP,DEPTH,DEPTH_FLAG,CTDDEP,THETA,SIGTHT,DOC,DOC_FLAG_W
,,,,,,,GMT,GMT,,,METERS,DBAR,ITS-90,PSS-78,,UMOL/KG,,PSS-78,,UMOL/KG,,UMOL/KG,,UMOL/KG,,UMOL/KG,,UMOL/KG, ,UMOL/KG,,PMOL/KG,,PMOL/KG,,/MILLE,,UMOL/KG,,UMOL/KG,,25_DEG_C,,DEG_C,,,,/MILLE,UMOL/KG,,UMOL/KG,,UG/L,,UG/L,,DBAR,ITS-90,METERS,,METERS,DEG_C,,UMOL/L
RF01-04,165E,RF-1343,1,-9,-9,5,20010516,0417,45.0038,165.0163,5910,0,4.1182,33.3762,2,-999,9,-999,9,327.4,2,28.09,2,-999,9,18.8,2,0.25,2,1.47,2,-999,9,-999,9,-999,9,-999,9,-999,9,-999,9,   -999.0,  9,-999,9,-999,-999,9,-999,9,-999,9,-999,9,-999,-999,-999,9,0,4.1182,26.4826,-999,9
RF01-04,165E,RF-1343,1,23,02-12829,2,20010516,0414,45.0038,165.0163,5910,6.7,4.1181,33.3783,2,-999,9,-999,9,327.8,2,28.09,2,-999,9,18.75,2,0.24,2,1.47,2,-999,9,-999,9,-999,9,-999,9,-999,9,-999,9,   -999.0,  9,-999,9,-999,-999,9,-999,9,-999,9,-999,9,-999,-999,-999,9,7,4.1176,26.4843,-999,9
RF01-04,165E,RF-1343,1,22,02-12828,2,20010516,0413,45.0038,165.0163,5910,21.1,4.0817,33.3823,2,-999,9,-999,9,327.5,2,28,2,-999,9,18.74,2,0.24,2,1.47,2,-999,9,-999,9,-999,9,-999,9,-999,9,-999,9,   -999.0,  9,-999,9,-999,-999,9,-999,9,-999,9,-999,9,-999,-999,-999,9,21,4.0803,26.4912,-999,9
RF01-04,165E,RF-1343,1,21,02-9150,2,20010516,0412,45.0038,165.0163,5910,47.1,4.3895,33.5007,2,-999,9,-999,9,319.4,2,26.69,2,-999,9,18.24,2,0.24,2,1.4,2,-999,9,-999,9,-999,9,-999,9,-999,9,-999,9,   -999.0,  9,-999,9,-999,-999,9,-999,9,-999,9,-999,9,-999,-999,-999,9,47,4.3863,26.5537,-999,9
RF01-04,165E,RF-1343,1,20,02-12826,2,20010516,0410,45.0038,165.0163,5910,71.9,4.6893,33.5621,2,-999,9,-999,9,316.5,2,26.01,2,-999,9,17.78,2,0.24,2,1.35,2,-999,9,-999,9,-999,9,-999,9,-999,9,-999,9,   -999.0,  9,-999,9,-999,-999,9,-999,9,-999,9,-999,9,-999,-999,-999,9,71,4.6841,26.5705,-999,9
RF01-04,165E,RF-1343,1,19,02-12825,2,20010516,0409,45.0038,165.0163,5910,97.4,4.6602,33.5461,2,-999,9,33.5471,2,314.9,2,26.94,2,-999,9,18.31,2,0.25,2,1.38,2,-999,9,-999,9,-999,9,-999,9,-999,9,-999,9,   -999.0,  9,-999,9,-999,-999,9,-999,9,-999,9,-999,9,-999,-999,-999,9,97,4.6531,26.5611,-999,9
RF01-04,165E,RF-1343,1,18,02-12830,2,20010516,0407,45.0038,165.0163,5910,121.4,4.2993,33.5692,2,-999,9,-999,9,307.7,2,29.38,2,-999,9,19.54,2,0.3,2,1.47,2,-999,9,-999,9,-999,9,-999,9,-999,9,-999,9,   -999.0,  9,-999,9,-999,-999,9,-999,9,-999,9,-999,9,-999,-999,-999,9,120,4.2908,26.6181,-999,9
RF01-04,165E,RF-1343,1,17,02-12815,2,20010516,0406,45.0038,165.0163,5910,147.7,4.594,33.6305,2,-999,9,-999,9,307.1,2,29.83,2,-999,9,19.47,2,0.39,2,1.43,2,-999,9,-999,9,-999,9,-999,9,-999,9,-999,9,   -999.0,  9,-999,9,-999,-999,9,-999,9,-999,9,-999,9,-999,-999,-999,9,146,4.5833,26.6356,-999,9
RF01-04,165E,RF-1343,1,16,02-12818,2,20010516,0404,45.0038,165.0163,5910,196.9,4.5371,33.6376,2,-999,9,33.6385,2,299.7,2,31.23,2,-999,9,20.06,2,0.1,2,1.46,2,-999,9,-999,9,-999,9,-999,9,-999,9,-999,9,   -999.0,  9,-999,9,-999,-999,9,-999,9,-999,9,-999,9,-999,-999,-999,9,195,4.5228,26.6478,-999,9
RF01-04,165E,RF-1343,1,15,02-12809,2,20010516,0402,45.0038,165.0163,5910,247.4,4.3019,33.6764,2,-999,9,-999,9,227.3,2,45.7,2,-999,9,25.76,2,0,2,1.87,2,-999,9,-999,9,-999,9,-999,9,-999,9,-999,9,   -999.0,  9,-999,9,-999,-999,9,-999,9,-999,9,-999,9,-999,-999,-999,9,245,4.2844,26.704,-999,9
RF01-04,165E,RF-1343,1,14,02-12817,2,20010516,0400,45.0038,165.0163,5910,298.8,4.1865,33.7888,2,-999,9,33.7857,2,144.5,2,64.22,2,-999,9,32.54,2,0,2,2.37,2,-999,9,-999,9,-999,9,-999,9,-999,9,-999,9,   -999.0,  9,-999,9,-999,-999,9,-999,9,-999,9,-999,9,-999,-999,-999,9,296,4.1654,26.8057,-999,9
RF01-04,165E,RF-1343,1,13,02-15822,2,20010516,0357,45.0038,165.0163,5910,400.4,4.4106,33.9869,2,-999,9,33.9825,2,90.8,2,78.93,2,-999,9,36.91,2,0,2,2.64,2,-999,9,-999,9,-999,9,-999,9,-999,9,-999,9,   -999.0,  9,-999,9,-999,-999,9,-999,9,-999,9,-999,9,-999,-999,-999,9,397,4.3812,26.9404,-999,9
RF01-04,165E,RF-1343,1,12,02-12821,2,20010516,0355,45.0038,165.0163,5910,500.1,4.0417,34.0774,2,-999,9,34.0775,2,60.3,2,92.55,2,-999,9,39.95,2,0,2,2.88,2,-999,9,-999,9,-999,9,-999,9,-999,9,-999,9,   -999.0,  9,-999,9,-999,-999,9,-999,9,-999,9,-999,9,-999,-999,-999,9,495,4.0059,27.0516,-999,9
RF01-04,165E,RF-1343,1,11,02-15823,2,20010516,0353,45.0038,165.0163,5910,601.5,3.864,34.1646,2,-999,9,34.1683,2,48,2,102.35,2,-999,9,40.78,2,0,2,2.93,2,-999,9,-999,9,-999,9,-999,9,-999,9,-999,9,   -999.0,  9,-999,9,-999,-999,9,-999,9,-999,9,-999,9,-999,-999,-999,9,596,3.8213,27.1398,-999,9
RF01-04,165E,RF-1343,1,10,02-12820,2,20010516,0349,45.0038,165.0163,5910,702.8,3.5358,34.2323,2,-999,9,34.2292,2,37,2,112.1,2,-999,9,41.86,2,0,2,3.02,2,-999,9,-999,9,-999,9,-999,9,-999,9,-999,9,   -999.0,  9,-999,9,-999,-999,9,-999,9,-999,9,-999,9,-999,-999,-999,9,696,3.4871,27.2266,-999,9
RF01-04,165E,RF-1343,1,9,02-12810,2,20010516,0347,45.0038,165.0163,5910,802.4,3.2697,34.2708,2,-999,9,34.271,2,30.2,2,119.71,2,-999,9,42.49,2,0,2,3.08,2,-999,9,-999,9,-999,9,-999,9,-999,9,-999,9,   -999.0,  9,-999,9,-999,-999,9,-999,9,-999,9,-999,9,-999,-999,-999,9,794,3.2151,27.2831,-999,9
RF01-04,165E,RF-1343,1,8,02-12819,2,20010516,0342,45.0038,165.0163,5910,904.8,2.9953,34.3124,2,-999,9,-999,9,25.3,2,128.09,2,-999,9,42.98,2,0,2,3.1,2,-999,9,-999,9,-999,9,-999,9,-999,9,-999,9,   -999.0,  9,-999,9,-999,-999,9,-999,9,-999,9,-999,9,-999,-999,-999,9,896,2.9348,27.3421,-999,9
RF01-04,165E,RF-1343,1,7,02-15821,2,20010516,0339,45.0038,165.0163,5910,1004.9,2.9004,34.3689,2,-999,9,34.3716,2,29.8,2,130.92,2,-999,9,42.9,2,0,2,3.09,2,-999,9,-999,9,-999,9,-999,9,-999,9,-999,9,   -999.0,  9,-999,9,-999,-999,9,-999,9,-999,9,-999,9,-999,-999,-999,9,994,2.8332,27.3963,-999,9
RF01-04,165E,RF-1343,1,6,02-13588,2,20010516,0334,45.0038,165.0163,5910,1258.4,2.5384,34.4455,2,-999,9,34.4477,2,32.6,2,141.26,2,-999,9,42.69,2,0,2,3.07,2,-999,9,-999,9,-999,9,-999,9,-999,9,-999,9,   -999.0,  9,-999,9,-999,-999,9,-999,9,-999,9,-999,9,-999,-999,-999,9,1244,2.4551,27.4903,-999,9
RF01-04,165E,RF-1343,1,5,02-10155,2,20010516,0329,45.0038,165.0163,5910,1512,2.2701,34.503,2,-999,9,34.5063,2,41.2,2,147.52,2,-999,9,42.5,2,0,2,3.03,2,-999,9,-999,9,-999,9,-999,9,-999,9,-999,9,   -999.0,  9,-999,9,-999,-999,9,-999,9,-999,9,-999,9,-999,-999,-999,9,1494,2.17,27.5599,-999,9
RF01-04,165E,RF-1343,1,4,02-13579,2,20010516,0324,45.0038,165.0163,5910,1765.6,2.1036,34.5535,2,-999,9,34.5517,2,54.4,2,149.17,2,-999,9,41.87,2,0,2,2.96,2,-999,9,-999,9,-999,9,-999,9,-999,9,-999,9,   -999.0,  9,-999,9,-999,-999,9,-999,9,-999,9,-999,9,-999,-999,-999,9,1744,1.9852,27.6151,-999,9
RF01-04,165E,RF-1343,1,3,02-13590,2,20010516,0318,45.0038,165.0163,5910,2029.3,1.9338,34.5896,2,-999,9,34.5863,2,-999,9,-999,9,-999,9,-999,9,-999,9,-999,9,-999,9,-999,9,-999,9,-999,9,-999,9,-999,9,   -999.0,  9,-999,9,-999,-999,9,-999,9,-999,9,-999,9,-999,-999,-999,9,2003,1.7961,27.6587,-999,9
RF01-04,165E,RF-1343,1,2,02-13589,2,20010516,0318,45.0038,165.0163,5910,2029.4,1.9343,34.5887,2,-999,9,34.5867,2,-999,9,-999,9,-999,9,-999,9,-999,9,-999,9,-999,9,-999,9,-999,9,-999,9,-999,9,-999,9,   -999.0,  9,-999,9,-999,-999,9,-999,9,-999,9,-999,9,-999,-999,-999,9,2003,1.7965,27.658,-999,9
RF01-04,165E,RF-1343,1,1,02-12807,2,20010516,0318,45.0038,165.0163,5910,2030.1,1.9343,34.5897,2,-999,9,34.5865,2,66.6,2,152.05,2,-999,9,41.37,2,0,2,2.89,2,-999,9,-999,9,-999,9,-999,9,-999,9,-999,9,   -999.0,  9,-999,9,-999,-999,9,-999,9,-999,9,-999,9,-999,-999,-999,9,2004,1.7965,27.6588,-999,9
RF01-04,165E,RF-1344,1,-9,-9,5,20010516,1116,43.9985,165.0143,5726,0,4.9335,33.5078,2,-999,9,-999,9,324.7,2,25.96,2,-999,9,17.08,2,0.22,2,1.31,2,-999,9,-999,9,-999,9,-999,9,-999,9,-999,9,   -999.0,  9,-999,9,-999,-999,9,-999,9,-999,9,-999,9,-999,-999,-999,9,0,4.9335,26.4998,-999,9
RF01-04,165E,RF-1344,1,21,02-9150,2,20010516,1114,43.9985,165.0143,5726,7.6,4.9285,33.5131,2,-999,9,-999,9,324,2,25.72,2,-999,9,17.05,2,0.22,2,1.32,2,-999,9,-999,9,-999,9,-999,9,-999,9,-999,9,   -999.0,  9,-999,9,-999,-999,9,-999,9,-999,9,-999,9,-999,-999,-999,9,8,4.928,26.5046,-999,9
RF01-04,165E,RF-1344,1,20,02-12826,2,20010516,1113,43.9985,165.0143,5726,22.6,4.9304,33.5155,2,-999,9,-999,9,323.7,2,25.72,2,-999,9,17.05,2,0.22,2,1.32,2,-999,9,-999,9,-999,9,-999,9,-999,9,-999,9,   -999.0,  9,-999,9,-999,-999,9,-999,9,-999,9,-999,9,-999,-999,-999,9,22,4.9287,26.5064,-999,9
RF01-04,165E,RF-1344,1,19,02-12825,2,20010516,1111,43.9985,165.0143,5726,48,4.7741,33.5182,2,-999,9,-999,9,321.7,2,25.84,2,-999,9,17.22,2,0.23,2,1.32,2,-999,9,-999,9,-999,9,-999,9,-999,9,-999,9,   -999.0,  9,-999,9,-999,-999,9,-999,9,-999,9,-999,9,-999,-999,-999,9,48,4.7706,26.5261,-999,9
RF01-04,165E,RF-1344,1,18,02-12830,2,20010516,1109,43.9985,165.0143,5726,72.8,4.4295,33.5041,2,-999,9,-999,9,317.9,2,26.31,2,-999,9,18.02,2,0.25,2,1.37,2,-999,9,-999,9,-999,9,-999,9,-999,9,-999,9,   -999.0,  9,-999,9,-999,-999,9,-999,9,-999,9,-999,9,-999,-999,-999,9,72,4.4244,26.5524,-999,9
RF01-04,165E,RF-1344,1,17,02-12815,2,20010516,1108,43.9985,165.0143,5726,98.3,4.8126,33.5692,2,-999,9,33.5538,2,314.1,2,25.77,2,-999,9,17.5,2,0.26,2,1.32,2,-999,9,-999,9,-999,9,-999,9,-999,9,-999,9,   -999.0,  9,-999,9,-999,-999,9,-999,9,-999,9,-999,9,-999,-999,-999,9,97,4.8053,26.5627,-999,9
RF01-04,165E,RF-1344,1,16,02-12818,2,20010516,1106,43.9985,165.0143,5726,123.2,4.6196,33.5551,2,-999,9,-999,9,312.8,2,26.46,2,-999,9,18.16,2,0.24,2,1.35,2,-999,9,-999,9,-999,9,-999,9,-999,9,-999,9,   -999.0,  9,-999,9,-999,-999,9,-999,9,-999,9,-999,9,-999,-999,-999,9,122,4.6107,26.5728,-999,9
RF01-04,165E,RF-1344,1,15,02-12809,2,20010516,1104,43.9985,165.0143,5726,149.4,4.5919,33.5975,2,-999,9,-999,9,303.6,2,26.96,2,-999,9,18.57,2,0.01,2,1.36,2,-999,9,-999,9,-999,9,-999,9,-999,9,-999,9,   -999.0,  9,-999,9,-999,-999,9,-999,9,-999,9,-999,9,-999,-999,-999,9,148,4.5811,26.6097,-999,9
RF01-04,165E,RF-1344,1,14,02-12817,2,20010516,1102,43.9985,165.0143,5726,199.8,4.8292,33.6683,2,-999,9,33.5998,4,296.4,2,26.96,2,-999,9,18.27,2,0,2,1.32,2,-999,9,-999,9,-999,9,-999,9,-999,9,-999,9,   -999.0,  9,-999,9,-999,-999,9,-999,9,-999,9,-999,9,-999,-999,-999,9,198,4.8143,26.6403,-999,9
RF01-04,165E,RF-1344,1,13,02-15822,2,20010516,1059,43.9985,165.0143,5726,249.5,4.8273,33.6824,2,-999,9,-999,9,295.3,2,28.23,2,-999,9,18.79,2,0,2,1.36,2,-999,9,-999,9,-999,9,-999,9,-999,9,-999,9,   -999.0,  9,-999,9,-999,-999,9,-999,9,-999,9,-999,9,-999,-999,-999,9,247,4.8086,26.6521,-999,9
RF01-04,165E,RF-1344,1,12,02-12821,2,20010516,1057,43.9985,165.0143,5726,299.5,4.7438,33.723,2,-999,9,33.7243,2,227.1,2,41.38,2,-999,9,24.22,2,0,2,1.73,2,-999,9,-999,9,-999,9,-999,9,-999,9,-999,9,   -999.0,  9,-999,9,-999,-999,9,-999,9,-999,9,-999,9,-999,-999,-999,9,297,4.7214,26.694,-999,9
RF01-04,165E,RF-1344,1,11,02-15823,2,20010516,1054,43.9985,165.0143,5726,400.4,4.5031,33.9514,2,-999,9,33.9513,2,101,2,74.55,2,-999,9,35.83,2,0,2,2.58,2,-999,9,-999,9,-999,9,-999,9,-999,9,-999,9,   -999.0,  9,-999,9,-999,-999,9,-999,9,-999,9,-999,9,-999,-999,-999,9,397,4.4734,26.9023,-999,9
RF01-04,165E,RF-1344,1,10,02-12820,2,20010516,1049,43.9985,165.0143,5726,500.7,4.2111,34.0455,2,-999,9,34.0447,2,-999,4,87.13,2,-999,9,38.75,2,0,2,2.78,2,-999,9,-999,9,-999,9,-999,9,-999,9,-999,9,   -999.0,  9,-999,9,-999,-999,9,-999,9,-999,9,-999,9,-999,-999,-999,9,496,4.1746,27.0088,-999,9
RF01-04,165E,RF-1344,1,9,02-12810,2,20010516,1046,43.9985,165.0143,5726,602.6,3.9016,34.1391,2,-999,9,34.1391,2,48.2,2,99.68,2,-999,9,40.75,2,0,2,2.93,2,-999,9,-999,9,-999,9,-999,9,-999,9,-999,9,   -999.0,  9,-999,9,-999,-999,9,-999,9,-999,9,-999,9,-999,-999,-999,9,597,3.8586,27.1157,-999,9
RF01-04,165E,RF-1344,1,8,02-12819,2,20010516,1043,43.9985,165.0143,5726,703.6,3.5637,34.2164,2,-999,9,34.2157,2,36.5,2,110.7,2,-999,9,41.83,2,0,2,3.02,2,-999,9,-999,9,-999,9,-999,9,-999,9,-999,9,   -999.0,  9,-999,9,-999,-999,9,-999,9,-999,9,-999,9,-999,-999,-999,9,697,3.5148,27.2112,-999,9
RF01-04,165E,RF-1344,1,7,02-15821,2,20010516,1040,43.9985,165.0143,5726,804.8,3.3212,34.2791,2,-999,9,34.2789,2,31.8,2,118.68,2,-999,9,42.41,2,0,2,3.04,2,-999,9,-999,9,-999,9,-999,9,-999,9,-999,9,   -999.0,  9,-999,9,-999,-999,9,-999,9,-999,9,-999,9,-999,-999,-999,9,797,3.2661,27.285,-999,9
RF01-04,165E,RF-1344,1,6,02-13588,2,20010516,1037,43.9985,165.0143,5726,905.5,3.1731,34.3362,2,-999,9,-999,9,32.3,2,123.51,2,-999,9,42.35,2,0,2,3.05,2,-999,9,-999,9,-999,9,-999,9,-999,9,-999,9,   -999.0,  9,-999,9,-999,-999,9,-999,9,-999,9,-999,9,-999,-999,-999,9,896,3.1113,27.345,-999,9
RF01-04,165E,RF-1344,1,5,02-10155,2,20010516,1035,43.9985,165.0143,5726,1005.4,2.977,34.3738,2,-999,9,34.3712,2,31.2,2,128.91,2,-999,9,42.64,2,0,2,3.1,2,-999,9,-999,9,-999,9,-999,9,-999,9,-999,9,   -999.0,  9,-999,9,-999,-999,9,-999,9,-999,9,-999,9,-999,-999,-999,9,995,2.9091,27.3934,-999,9
RF01-04,165E,RF-1344,1,4,02-13579,2,20010516,1029,43.9985,165.0143,5726,1259.7,2.5552,34.4496,2,-999,9,34.4483,2,33.5,2,140.26,2,-999,9,42.92,2,0,2,3.07,2,-999,9,-999,9,-999,9,-999,9,-999,9,-999,9,   -999.0,  9,-999,9,-999,-999,9,-999,9,-999,9,-999,9,-999,-999,-999,9,1246,2.4716,27.4922,-999,9
RF01-04,165E,RF-1344,1,3,02-13590,2,20010516,1024,43.9985,165.0143,5726,1510.8,2.3168,34.506,2,-999,9,34.5053,2,41.3,2,145.69,2,-999,9,42.56,2,0,2,3.01,2,-999,9,-999,9,-999,9,-999,9,-999,9,-999,9,   -999.0,  9,-999,9,-999,-999,9,-999,9,-999,9,-999,9,-999,-999,-999,9,1493,2.2162,27.5586,-999,9
RF01-04,165E,RF-1344,1,2,02-13589,2,20010516,1019,43.9985,165.0143,5726,1767.4,2.1288,34.5526,2,-999,9,34.5492,2,52.7,2,148.26,2,-999,9,42.05,2,0,2,2.97,2,-999,9,-999,9,-999,9,-999,9,-999,9,-999,9,   -999.0,  9,-999,9,-999,-999,9,-999,9,-999,9,-999,9,-999,-999,-999,9,1746,2.01,27.6124,-999,9
RF01-04,165E,RF-1344,1,1,02-12807,2,20010516,1013,43.9985,165.0143,5726,2032.2,1.9533,34.5892,2,-999,9,34.5857,2,67.4,2,150.33,2,-999,9,41.26,2,0,2,2.88,2,-999,9,-999,9,-999,9,-999,9,-999,9,-999,9,   -999.0,  9,-999,9,-999,-999,9,-999,9,-999,9,-999,9,-999,-999,-999,9,2006,1.815,27.657,-999,9