BOTTLE,20130510GEMDJMAYT
EXPOCODE,SECT_ID,STNNBR,CASTNO,SAMPNO,BTLNBR,BTLNBR_FLAG_W,DATE,TIME,LATITUDE,LONGITUDE,DEPTH,CTDPRS,CTDTMP,CTDSAL,CTDSAL_FLAG_W,CTDOXY,CTDOXY_FLAG_W,SALNTY,SALNTY_FLAG_W,OXYGEN,OXYGEN_FLAG_W,SILCAT,SILCAT_FLAG_W,NITRAT,NITRAT_FLAG_W,NO2+NO3,NO2+NO3_FLAG_W,NITRIT,NITRIT_FLAG_W,PHSPHT,PHSPHT_FLAG_W,CFC-11,CFC-11_FLAG_W,CFC-12,CFC-12_FLAG_W,DELC13,DELC13_FLAG_W,TCARBN,TCARBN_FLAG_W,ALKALI,ALKALI_FLAG_W,PH,PH_FLAG_W,PH_TMP,PH_SCALE,PH_NBS,PH_NBS_FLAG_W,C13ERR,TOTALP,TOTALP_FLAG_W,AMMONI,AMMONI_FLAG_W,CHLORA,CHLORA_FLAG_W,PPHYTN,PPHYTN_FLAG_W,REVPRS,REVTMP,DEPTH_,DEPTH_FLAG,CTDDEP,THETA,SIGTHT,DOC,DOC_FLAG_W
,,,,,,,GMT,GMT,,,METER,DBAR,ITS-90,PSS-78,,UMOL/KG,,PSS-78,,UMOL/KG,,UMOL/KG,,UMOL/KG,,UMOL/KG,,UMOL/KG,,UMOL/KG,,PMOL/KG,,PMOL/KG,,/MILLE,,UMOL/KG,,UMOL/KG,,25_DEG_C,,DEG_C,,,,/MILLE,UMOL/KG,,UMOL/KG,,UG/L,,UG/L,,DBAR,ITS-90,METERS,,METERS,DEG_C,,UMOL/L,
       RF01-06,  NONE,RF-1379,  1,     -9,      -9,5,20010625,1324, 34.9983, 152.0198, 6093,      0.0,  23.0700,  34.4852,2,   -999.0,9,-999.0000,9,    216.0,2,  -999.00,9,  -999.00,9,  -999.00,9,  -999.00,9,  -999.00,9, -999.000,9, -999.000,9,  -999.00,9,   -999.0,9,   -999.0,9,-999.0000,9,   -999.0,  9,  -999.00,9,   -999.0,  -999.00,9,  -999.00,9,  -999.00,9,  -999.00,9,   -999.0,-999.0000, -999,9,    0,  23.0700,  23.5230,   -999.0,9
       RF01-06,  NONE,RF-1379,  1,     21, 02-9150,2,20010625,1322, 34.9983, 152.0198, 6093,      7.1,  23.0619,  34.4785,2,   -999.0,9,-999.0000,9,    218.2,2,  -999.00,9,  -999.00,9,  -999.00,9,  -999.00,9,  -999.00,9, -999.000,9, -999.000,9,  -999.00,9,   -999.0,9,   -999.0,9,-999.0000,9,   -999.0,  9,  -999.00,9,   -999.0,  -999.00,9,  -999.00,9,  -999.00,9,  -999.00,9,   -999.0,-999.0000, -999,9,    7,  23.0605,  23.5207,   -999.0,9
       RF01-06,  NONE,RF-1379,  1,     20,02-12826,2,20010625,1321, 34.9983, 152.0198, 6093,     21.6,  22.8431,  34.5144,2,   -999.0,9,-999.0000,9,    220.0,2,  -999.00,9,  -999.00,9,  -999.00,9,  -999.00,9,  -999.00,9, -999.000,9, -999.000,9,  -999.00,9,   -999.0,9,   -999.0,9,-999.0000,9,   -999.0,  9,  -999.00,9,   -999.0,  -999.00,9,  -999.00,9,  -999.00,9,  -999.00,9,   -999.0,-999.0000, -999,9,   21,  22.8387,  23.6116,   -999.0,9
       RF01-06,  NONE,RF-1379,  1,     19,02-12825,2,20010625,1320, 34.9983, 152.0198, 6093,     47.2,  20.2684,  34.6886,2,   -999.0,9,-999.0000,9,    223.1,2,  -999.00,9,  -999.00,9,  -999.00,9,  -999.00,9,  -999.00,9, -999.000,9, -999.000,9,  -999.00,9,   -999.0,9,   -999.0,9,-999.0000,9,   -999.0,  9,  -999.00,9,   -999.0,  -999.00,9,  -999.00,9,  -999.00,9,  -999.00,9,   -999.0,-999.0000, -999,9,   47,  20.2596,  24.4556,   -999.0,9
       RF01-06,  NONE,RF-1379,  1,     18,02-12830,2,20010625,1319, 34.9983, 152.0198, 6093,     71.8,  19.3624,  34.7192,2,   -999.0,9,-999.0000,9,    224.0,2,  -999.00,9,  -999.00,9,  -999.00,9,  -999.00,9,  -999.00,9, -999.000,9, -999.000,9,  -999.00,9,   -999.0,9,   -999.0,9,-999.0000,9,   -999.0,  9,  -999.00,9,   -999.0,  -999.00,9,  -999.00,9,  -999.00,9,  -999.00,9,   -999.0,-999.0000, -999,9,   71,  19.3495,  24.7170,   -999.0,9
       RF01-06,  NONE,RF-1379,  1,     17,02-12815,2,20010625,1317, 34.9983, 152.0198, 6093,     97.1,  18.6536,  34.7368,2,   -999.0,9,  34.7544,4,    213.3,2,  -999.00,9,  -999.00,9,  -999.00,9,  -999.00,9,  -999.00,9, -999.000,9, -999.000,9,  -999.00,9,   -999.0,9,   -999.0,9,-999.0000,9,   -999.0,  9,  -999.00,9,   -999.0,  -999.00,9,  -999.00,9,  -999.00,9,  -999.00,9,   -999.0,-999.0000, -999,9,   96,  18.6366,  24.9120,   -999.0,9
       RF01-06,  NONE,RF-1379,  1,     16,02-12818,2,20010625,1316, 34.9983, 152.0198, 6093,    121.8,  18.1698,  34.7397,2,   -999.0,9,-999.0000,9,    210.2,2,  -999.00,9,  -999.00,9,  -999.00,9,  -999.00,9,  -999.00,9, -999.000,9, -999.000,9,  -999.00,9,   -999.0,9,   -999.0,9,-999.0000,9,   -999.0,  9,  -999.00,9,   -999.0,  -999.00,9,  -999.00,9,  -999.00,9,  -999.00,9,   -999.0,-999.0000, -999,9,  121,  18.1488,  25.0360,   -999.0,9
       RF01-06,  NONE,RF-1379,  1,     15,02-12809,2,20010625,1315, 34.9983, 152.0198, 6093,    147.4,  17.7139,  34.7400,2,   -999.0,9,-999.0000,9,    214.4,2,  -999.00,9,  -999.00,9,  -999.00,9,  -999.00,9,  -999.00,9, -999.000,9, -999.000,9,  -999.00,9,   -999.0,9,   -999.0,9,-999.0000,9,   -999.0,  9,  -999.00,9,   -999.0,  -999.00,9,  -999.00,9,  -999.00,9,  -999.00,9,   -999.0,-999.0000, -999,9,  146,  17.6889,  25.1490,   -999.0,9
       RF01-06,  NONE,RF-1379,  1,     14,02-12817,2,20010625,1313, 34.9983, 152.0198, 6093,    197.4,  17.2196,  34.7185,2,   -999.0,9,  34.7313,2,    222.7,2,  -999.00,9,  -999.00,9,  -999.00,9,  -999.00,9,  -999.00,9, -999.000,9, -999.000,9,  -999.00,9,   -999.0,9,   -999.0,9,-999.0000,9,   -999.0,  9,  -999.00,9,   -999.0,  -999.00,9,  -999.00,9,  -999.00,9,  -999.00,9,   -999.0,-999.0000, -999,9,  196,  17.1868,  25.2537,   -999.0,9
       RF01-06,  NONE,RF-1379,  1,     13,02-15822,2,20010625,1312, 34.9983, 152.0198, 6093,    248.5,  16.7474,  34.7067,2,   -999.0,9,-999.0000,9,    204.2,2,  -999.00,9,  -999.00,9,  -999.00,9,  -999.00,9,  -999.00,9, -999.000,9, -999.000,9,  -999.00,9,   -999.0,9,   -999.0,9,-999.0000,9,   -999.0,  9,  -999.00,9,   -999.0,  -999.00,9,  -999.00,9,  -999.00,9,  -999.00,9,   -999.0,-999.0000, -999,9,  247,  16.7069,  25.3583,   -999.0,9
       RF01-06,  NONE,RF-1379,  1,     12,02-12821,2,20010625,1310, 34.9983, 152.0198, 6093,    297.9,  15.4438,  34.6219,2,   -999.0,9,  34.6493,4,    188.4,2,  -999.00,9,  -999.00,9,  -999.00,9,  -999.00,9,  -999.00,9, -999.000,9, -999.000,9,  -999.00,9,   -999.0,9,   -999.0,9,-999.0000,9,   -999.0,  9,  -999.00,9,   -999.0,  -999.00,9,  -999.00,9,  -999.00,9,  -999.00,9,   -999.0,-999.0000, -999,9,  296,  15.3978,  25.5925,   -999.0,9
       RF01-06,  NONE,RF-1379,  1,     11,02-15823,2,20010625,1308, 34.9983, 152.0198, 6093,    398.6,  12.4236,  34.4439,2,   -999.0,9,  34.4550,2,    223.6,2,  -999.00,9,  -999.00,9,  -999.00,9,  -999.00,9,  -999.00,9, -999.000,9, -999.000,9,  -999.00,9,   -999.0,9,   -999.0,9,-999.0000,9,   -999.0,  9,  -999.00,9,   -999.0,  -999.00,9,  -999.00,9,  -999.00,9,  -999.00,9,   -999.0,-999.0000, -999,9,  395,  12.3703,  26.0860,   -999.0,9
       RF01-06,  NONE,RF-1379,  1,     10,02-12820,2,20010625,1306, 34.9983, 152.0198, 6093,    499.6,  10.4634,  34.2959,2,   -999.0,9,  34.3027,2,    182.1,2,  -999.00,9,  -999.00,9,  -999.00,9,  -999.00,9,  -999.00,9, -999.000,9, -999.000,9,  -999.00,9,   -999.0,9,   -999.0,9,-999.0000,9,   -999.0,  9,  -999.00,9,   -999.0,  -999.00,9,  -999.00,9,  -999.00,9,  -999.00,9,   -999.0,-999.0000, -999,9,  495,  10.4033,  26.3328,   -999.0,9
       RF01-06,  NONE,RF-1379,  1,      9,02-12810,2,20010625,1303, 34.9983, 152.0198, 6093,    600.4,   6.8607,  33.9378,2,   -999.0,9,  33.9405,2,    192.3,2,  -999.00,9,  -999.00,9,  -999.00,9,  -999.00,9,  -999.00,9, -999.000,9, -999.000,9,  -999.00,9,   -999.0,9,   -999.0,9,-999.0000,9,   -999.0,  9,  -999.00,9,   -999.0,  -999.00,9,  -999.00,9,  -999.00,9,  -999.00,9,   -999.0,-999.0000, -999,9,  595,   6.8044,  26.6086,   -999.0,9
       RF01-06,  NONE,RF-1379,  1,      8,02-12819,2,20010625,1301, 34.9983, 152.0198, 6093,    702.5,   5.6316,  34.0142,2,   -999.0,9,  34.0151,2,    129.7,2,  -999.00,9,  -999.00,9,  -999.00,9,  -999.00,9,  -999.00,9, -999.000,9, -999.000,9,  -999.00,9,   -999.0,9,   -999.0,9,-999.0000,9,   -999.0,  9,  -999.00,9,   -999.0,  -999.00,9,  -999.00,9,  -999.00,9,  -999.00,9,   -999.0,-999.0000, -999,9,  696,   5.5718,  26.8265,   -999.0,9
       RF01-06,  NONE,RF-1379,  1,      7,02-15821,2,20010625,1258, 34.9983, 152.0198, 6093,    803.2,   4.9098,  34.1372,2,   -999.0,9,  34.1204,4,     84.6,2,  -999.00,9,  -999.00,9,  -999.00,9,  -999.00,9,  -999.00,9, -999.000,9, -999.000,9,  -999.00,9,   -999.0,9,   -999.0,9,-999.0000,9,   -999.0,  9,  -999.00,9,   -999.0,  -999.00,9,  -999.00,9,  -999.00,9,  -999.00,9,   -999.0,-999.0000, -999,9,  796,   4.8450,  27.0088,   -999.0,9
       RF01-06,  NONE,RF-1379,  1,      6,02-13588,2,20010625,1256, 34.9983, 152.0198, 6093,    905.6,   4.2405,  34.1881,2,   -999.0,9,-999.0000,9,     59.8,2,  -999.00,9,  -999.00,9,  -999.00,9,  -999.00,9,  -999.00,9, -999.000,9, -999.000,9,  -999.00,9,   -999.0,9,   -999.0,9,-999.0000,9,   -999.0,  9,  -999.00,9,   -999.0,  -999.00,9,  -999.00,9,  -999.00,9,  -999.00,9,   -999.0,-999.0000, -999,9,  897,   4.1714,  27.1225,   -999.0,9
       RF01-06,  NONE,RF-1379,  1,      5,02-10155,2,20010625,1253, 34.9983, 152.0198, 6093,   1005.5,   3.7477,  34.2845,2,   -999.0,9,  34.2883,2,     47.4,2,  -999.00,9,  -999.00,9,  -999.00,9,  -999.00,9,  -999.00,9, -999.000,9, -999.000,9,  -999.00,9,   -999.0,9,   -999.0,9,-999.0000,9,   -999.0,  9,  -999.00,9,   -999.0,  -999.00,9,  -999.00,9,  -999.00,9,  -999.00,9,   -999.0,-999.0000, -999,9,  996,   3.6739,  27.2499,   -999.0,9
       RF01-06,  NONE,RF-1379,  1,      4,02-13579,2,20010625,1249, 34.9983, 152.0198, 6093,   1258.7,   3.0528,  34.4031,2,   -999.0,9,  34.4050,2,     41.1,2,  -999.00,9,  -999.00,9,  -999.00,9,  -999.00,9,  -999.00,9, -999.000,9, -999.000,9,  -999.00,9,   -999.0,9,   -999.0,9,-999.0000,9,   -999.0,  9,  -999.00,9,   -999.0,  -999.00,9,  -999.00,9,  -999.00,9,  -999.00,9,   -999.0,-999.0000, -999,9, 1246,   2.9645,  27.4118,   -999.0,9
       RF01-06,  NONE,RF-1379,  1,      3,02-13590,2,20010625,1244, 34.9983, 152.0198, 6093,   1512.2,   2.5601,  34.4800,2,   -999.0,9,  34.4803,2,     41.4,2,  -999.00,9,  -999.00,9,  -999.00,9,  -999.00,9,  -999.00,9, -999.000,9, -999.000,9,  -999.00,9,   -999.0,9,   -999.0,9,-999.0000,9,   -999.0,  9,  -999.00,9,   -999.0,  -999.00,9,  -999.00,9,  -999.00,9,  -999.00,9,   -999.0,-999.0000, -999,9, 1496,   2.4566,  27.5178,   -999.0,9
       RF01-06,  NONE,RF-1379,  1,      2,02-13589,2,20010625,1239, 34.9983, 152.0198, 6093,   1763.9,   2.2611,  34.5405,2,   -999.0,9,  34.5403,2,     54.7,2,  -999.00,9,  -999.00,9,  -999.00,9,  -999.00,9,  -999.00,9, -999.000,9, -999.000,9,  -999.00,9,   -999.0,9,   -999.0,9,-999.0000,9,   -999.0,  9,  -999.00,9,   -999.0,  -999.00,9,  -999.00,9,  -999.00,9,  -999.00,9,   -999.0,-999.0000, -999,9, 1744,   2.1408,  27.5923,   -999.0,9
       RF01-06,  NONE,RF-1379,  1,      1,02-12807,2,20010625,1234, 34.9983, 152.0198, 6093,   2027.1,   2.0003,  34.5926,2,   -999.0,9,  34.5871,2,     72.4,2,  -999.00,9,  -999.00,9,  -999.00,9,  -999.00,9,  -999.00,9, -999.000,9, -999.000,9,  -999.00,9,   -999.0,9,   -999.0,9,-999.0000,9,   -999.0,  9,  -999.00,9,   -999.0,  -999.00,9,  -999.00,9,  -999.00,9,  -999.00,9,   -999.0,-999.0000, -999,9, 2003,   1.8617,  27.6561,   -999.0,9