BOTTLE,20130510GEMDJMAYT
EXPOCODE,SECT_ID,STNNBR,CASTNO,SAMPNO,BTLNBR,BTLNBR_FLAG_W,DATE,TIME,LATITUDE,LONGITUDE,DEPTH,CTDPRS,CTDTMP,CTDSAL,CTDSAL_FLAG_W,CTDOXY,CTDOXY_FLAG_W,SALNTY,SALNTY_FLAG_W,OXYGEN,OXYGEN_FLAG_W,SILCAT,SILCAT_FLAG_W,NITRAT,NITRAT_FLAG_W,NO2+NO3,NO2+NO3_FLAG_W,NITRIT,NITRIT_FLAG_W,PHSPHT,PHSPHT_FLAG_W,CFC-11,CFC-11_FLAG_W,CFC-12,CFC-12_FLAG_W,DELC13,DELC13_FLAG_W,TCARBN,TCARBN_FLAG_W,ALKALI,ALKALI_FLAG_W,PH,PH_FLAG_W,PH_TMP,PH_SCALE,PH_NBS,PH_NBS_FLAG_W,C13ERR,TOTALP,TOTALP_FLAG_W,AMMONI,AMMONI_FLAG_W,CHLORA,CHLORA_FLAG_W,PPHYTN,PPHYTN_FLAG_W,REVPRS,REVTMP,DEPTH_,DEPTH_FLAG,CTDDEP,THETA,SIGTHT,DOC,DOC_FLAG_W
,,,,,,,GMT,GMT,,,METER,DBAR,ITS-90,PSS-78,,UMOL/KG,,PSS-78,,UMOL/KG,,UMOL/KG,,UMOL/KG,,UMOL/KG,,UMOL/KG,,UMOL/KG,,PMOL/KG,,PMOL/KG,,/MILLE,,UMOL/KG,,UMOL/KG,,25_DEG_C,,DEG_C,,,,/MILLE,UMOL/KG,,UMOL/KG,,UG/L,,UG/L,,DBAR,ITS-90,METERS,,METERS,DEG_C,,UMOL/L,
       RF01-06,  NONE,RF-1389,  1,     -9,      -9,5,20010627,0707, 40.0082, 152.0065, 5342,      0.0,  18.2424,  34.3664,2,   -999.0,9,-999.0000,9,    242.2,2,  -999.00,9,  -999.00,9,  -999.00,9,  -999.00,9,  -999.00,9, -999.000,9, -999.000,9,  -999.00,9,   -999.0,9,   -999.0,9,-999.0000,9,   -999.0,  9,  -999.00,9,   -999.0,  -999.00,9,  -999.00,9,  -999.00,9,  -999.00,9,   -999.0,-999.0000, -999,9,    0,  18.2424,  24.7270,   -999.0,9
       RF01-06,  NONE,RF-1389,  1,     21, 02-9150,2,20010627,0705, 40.0082, 152.0065, 5342,      7.0,  18.2378,  34.3636,2,   -999.0,9,-999.0000,9,    244.7,2,  -999.00,9,  -999.00,9,  -999.00,9,  -999.00,9,  -999.00,9, -999.000,9, -999.000,9,  -999.00,9,   -999.0,9,   -999.0,9,-999.0000,9,   -999.0,  9,  -999.00,9,   -999.0,  -999.00,9,  -999.00,9,  -999.00,9,  -999.00,9,   -999.0,-999.0000, -999,9,    7,  18.2366,  24.7263,   -999.0,9
       RF01-06,  NONE,RF-1389,  1,     20,02-12826,2,20010627,0704, 40.0082, 152.0065, 5342,     22.0,  16.8339,  34.3779,2,   -999.0,9,-999.0000,9,    254.7,2,  -999.00,9,  -999.00,9,  -999.00,9,  -999.00,9,  -999.00,9, -999.000,9, -999.000,9,  -999.00,9,   -999.0,9,   -999.0,9,-999.0000,9,   -999.0,  9,  -999.00,9,   -999.0,  -999.00,9,  -999.00,9,  -999.00,9,  -999.00,9,   -999.0,-999.0000, -999,9,   22,  16.8303,  25.0769,   -999.0,9
       RF01-06,  NONE,RF-1389,  1,     19,02-12825,2,20010627,0703, 40.0082, 152.0065, 5342,     47.4,  14.4410,  34.4552,2,   -999.0,9,-999.0000,9,    240.0,2,  -999.00,9,  -999.00,9,  -999.00,9,  -999.00,9,  -999.00,9, -999.000,9, -999.000,9,  -999.00,9,   -999.0,9,   -999.0,9,-999.0000,9,   -999.0,  9,  -999.00,9,   -999.0,  -999.00,9,  -999.00,9,  -999.00,9,  -999.00,9,   -999.0,-999.0000, -999,9,   47,  14.4340,  25.6742,   -999.0,9
       RF01-06,  NONE,RF-1389,  1,     18,02-12830,2,20010627,0702, 40.0082, 152.0065, 5342,     72.6,  12.5986,  34.3984,2,   -999.0,9,-999.0000,9,    235.6,2,  -999.00,9,  -999.00,9,  -999.00,9,  -999.00,9,  -999.00,9, -999.000,9, -999.000,9,  -999.00,9,   -999.0,9,   -999.0,9,-999.0000,9,   -999.0,  9,  -999.00,9,   -999.0,  -999.00,9,  -999.00,9,  -999.00,9,  -999.00,9,   -999.0,-999.0000, -999,9,   72,  12.5889,  26.0081,   -999.0,9
       RF01-06,  NONE,RF-1389,  1,     17,02-12815,2,20010627,0701, 40.0082, 152.0065, 5342,     98.2,  12.0440,  34.3938,2,   -999.0,9,  34.4031,2,    228.3,2,  -999.00,9,  -999.00,9,  -999.00,9,  -999.00,9,  -999.00,9, -999.000,9, -999.000,9,  -999.00,9,   -999.0,9,   -999.0,9,-999.0000,9,   -999.0,  9,  -999.00,9,   -999.0,  -999.00,9,  -999.00,9,  -999.00,9,  -999.00,9,   -999.0,-999.0000, -999,9,   97,  12.0313,  26.1123,   -999.0,9
       RF01-06,  NONE,RF-1389,  1,     16,02-12818,2,20010627,0700, 40.0082, 152.0065, 5342,    122.7,  11.6358,  34.3697,2,   -999.0,9,-999.0000,9,    232.2,2,  -999.00,9,  -999.00,9,  -999.00,9,  -999.00,9,  -999.00,9, -999.000,9, -999.000,9,  -999.00,9,   -999.0,9,   -999.0,9,-999.0000,9,   -999.0,  9,  -999.00,9,   -999.0,  -999.00,9,  -999.00,9,  -999.00,9,  -999.00,9,   -999.0,-999.0000, -999,9,  122,  11.6203,  26.1710,   -999.0,9
       RF01-06,  NONE,RF-1389,  1,     15,02-12809,2,20010627,0658, 40.0082, 152.0065, 5342,    146.9,  10.8352,  34.2714,2,   -999.0,9,-999.0000,9,    227.2,2,  -999.00,9,  -999.00,9,  -999.00,9,  -999.00,9,  -999.00,9, -999.000,9, -999.000,9,  -999.00,9,   -999.0,9,   -999.0,9,-999.0000,9,   -999.0,  9,  -999.00,9,   -999.0,  -999.00,9,  -999.00,9,  -999.00,9,  -999.00,9,   -999.0,-999.0000, -999,9,  146,  10.8175,  26.2408,   -999.0,9
       RF01-06,  NONE,RF-1389,  1,     14,02-12817,2,20010627,0657, 40.0082, 152.0065, 5342,    198.3,   8.8737,  34.0599,2,   -999.0,9,  34.2771,4,    227.6,2,  -999.00,9,  -999.00,9,  -999.00,9,  -999.00,9,  -999.00,9, -999.000,9, -999.000,9,  -999.00,9,   -999.0,9,   -999.0,9,-999.0000,9,   -999.0,  9,  -999.00,9,   -999.0,  -999.00,9,  -999.00,9,  -999.00,9,  -999.00,9,   -999.0,-999.0000, -999,9,  197,   8.8526,  26.4053,   -999.0,9
       RF01-06,  NONE,RF-1389,  1,     13,02-15822,2,20010627,0655, 40.0082, 152.0065, 5342,    248.6,   7.2392,  33.9014,2,   -999.0,9,-999.0000,9,    234.4,2,  -999.00,9,  -999.00,9,  -999.00,9,  -999.00,9,  -999.00,9, -999.000,9, -999.000,9,  -999.00,9,   -999.0,9,   -999.0,9,-999.0000,9,   -999.0,  9,  -999.00,9,   -999.0,  -999.00,9,  -999.00,9,  -999.00,9,  -999.00,9,   -999.0,-999.0000, -999,9,  247,   7.2157,  26.5236,   -999.0,9
       RF01-06,  NONE,RF-1389,  1,     12,02-12821,2,20010627,0654, 40.0082, 152.0065, 5342,    298.5,   6.0120,  33.8121,2,   -999.0,9,  33.8147,2,    212.3,2,  -999.00,9,  -999.00,9,  -999.00,9,  -999.00,9,  -999.00,9, -999.000,9, -999.000,9,  -999.00,9,   -999.0,9,   -999.0,9,-999.0000,9,   -999.0,  9,  -999.00,9,   -999.0,  -999.00,9,  -999.00,9,  -999.00,9,  -999.00,9,   -999.0,-999.0000, -999,9,  296,   5.9866,  26.6156,   -999.0,9
       RF01-06,  NONE,RF-1389,  1,     11,02-15823,2,20010627,0652, 40.0082, 152.0065, 5342,    399.9,   5.3085,  33.9174,2,   -999.0,9,  33.9227,2,    144.2,2,  -999.00,9,  -999.00,9,  -999.00,9,  -999.00,9,  -999.00,9, -999.000,9, -999.000,9,  -999.00,9,   -999.0,9,   -999.0,9,-999.0000,9,   -999.0,  9,  -999.00,9,   -999.0,  -999.00,9,  -999.00,9,  -999.00,9,  -999.00,9,   -999.0,-999.0000, -999,9,  396,   5.2764,  26.7850,   -999.0,9
       RF01-06,  NONE,RF-1389,  1,     10,02-12820,2,20010627,0650, 40.0082, 152.0065, 5342,    499.9,   4.7360,  34.0541,2,   -999.0,9,  34.0516,2,     91.9,2,  -999.00,9,  -999.00,9,  -999.00,9,  -999.00,9,  -999.00,9, -999.000,9, -999.000,9,  -999.00,9,   -999.0,9,   -999.0,9,-999.0000,9,   -999.0,  9,  -999.00,9,   -999.0,  -999.00,9,  -999.00,9,  -999.00,9,  -999.00,9,   -999.0,-999.0000, -999,9,  496,   4.6976,  26.9593,   -999.0,9
       RF01-06,  NONE,RF-1389,  1,      9,02-12810,2,20010627,0647, 40.0082, 152.0065, 5342,    600.7,   4.1085,  34.1156,2,   -999.0,9,  34.1140,2,     61.4,2,  -999.00,9,  -999.00,9,  -999.00,9,  -999.00,9,  -999.00,9, -999.000,9, -999.000,9,  -999.00,9,   -999.0,9,   -999.0,9,-999.0000,9,   -999.0,  9,  -999.00,9,   -999.0,  -999.00,9,  -999.00,9,  -999.00,9,  -999.00,9,   -999.0,-999.0000, -999,9,  595,   4.0648,  27.0759,   -999.0,9
       RF01-06,  NONE,RF-1389,  1,      8,02-12819,2,20010627,0644, 40.0082, 152.0065, 5342,    701.7,   3.5330,  34.1675,2,   -999.0,9,  34.1672,2,     39.6,2,  -999.00,9,  -999.00,9,  -999.00,9,  -999.00,9,  -999.00,9, -999.000,9, -999.000,9,  -999.00,9,   -999.0,9,   -999.0,9,-999.0000,9,   -999.0,  9,  -999.00,9,   -999.0,  -999.00,9,  -999.00,9,  -999.00,9,  -999.00,9,   -999.0,-999.0000, -999,9,  695,   3.4845,  27.1752,   -999.0,9
       RF01-06,  NONE,RF-1389,  1,      7,02-15821,2,20010627,0642, 40.0082, 152.0065, 5342,    802.9,   3.6018,  34.2875,2,   -999.0,9,  34.2848,2,     43.4,2,  -999.00,9,  -999.00,9,  -999.00,9,  -999.00,9,  -999.00,9, -999.000,9, -999.000,9,  -999.00,9,   -999.0,9,   -999.0,9,-999.0000,9,   -999.0,  9,  -999.00,9,   -999.0,  -999.00,9,  -999.00,9,  -999.00,9,  -999.00,9,   -999.0,-999.0000, -999,9,  795,   3.5450,  27.2650,   -999.0,9
       RF01-06,  NONE,RF-1389,  1,      6,02-13588,2,20010627,0639, 40.0082, 152.0065, 5342,    904.3,   3.1446,  34.3053,2,   -999.0,9,-999.0000,9,     32.9,2,  -999.00,9,  -999.00,9,  -999.00,9,  -999.00,9,  -999.00,9, -999.000,9, -999.000,9,  -999.00,9,   -999.0,9,   -999.0,9,-999.0000,9,   -999.0,  9,  -999.00,9,   -999.0,  -999.00,9,  -999.00,9,  -999.00,9,  -999.00,9,   -999.0,-999.0000, -999,9,  895,   3.0831,  27.3229,   -999.0,9
       RF01-06,  NONE,RF-1389,  1,      5,02-10155,2,20010627,0636, 40.0082, 152.0065, 5342,   1006.1,   3.0305,  34.3652,2,   -999.0,9,  34.3681,2,     35.0,2,  -999.00,9,  -999.00,9,  -999.00,9,  -999.00,9,  -999.00,9, -999.000,9, -999.000,9,  -999.00,9,   -999.0,9,   -999.0,9,-999.0000,9,   -999.0,  9,  -999.00,9,   -999.0,  -999.00,9,  -999.00,9,  -999.00,9,  -999.00,9,   -999.0,-999.0000, -999,9,  996,   2.9621,  27.3818,   -999.0,9
       RF01-06,  NONE,RF-1389,  1,      4,02-13579,2,20010627,0631, 40.0082, 152.0065, 5342,   1259.1,   2.6264,  34.4520,2,   -999.0,9,  34.4554,2,     38.8,2,  -999.00,9,  -999.00,9,  -999.00,9,  -999.00,9,  -999.00,9, -999.000,9, -999.000,9,  -999.00,9,   -999.0,9,   -999.0,9,-999.0000,9,   -999.0,  9,  -999.00,9,   -999.0,  -999.00,9,  -999.00,9,  -999.00,9,  -999.00,9,   -999.0,-999.0000, -999,9, 1246,   2.5421,  27.4881,   -999.0,9
       RF01-06,  NONE,RF-1389,  1,      3,02-13590,2,20010627,0626, 40.0082, 152.0065, 5342,   1511.8,   2.3034,  34.5173,2,   -999.0,9,  34.5169,2,     47.7,2,  -999.00,9,  -999.00,9,  -999.00,9,  -999.00,9,  -999.00,9, -999.000,9, -999.000,9,  -999.00,9,   -999.0,9,   -999.0,9,-999.0000,9,   -999.0,  9,  -999.00,9,   -999.0,  -999.00,9,  -999.00,9,  -999.00,9,  -999.00,9,   -999.0,-999.0000, -999,9, 1495,   2.2028,  27.5687,   -999.0,9
       RF01-06,  NONE,RF-1389,  1,      2,02-13589,2,20010627,0621, 40.0082, 152.0065, 5342,   1765.7,   2.0687,  34.5660,2,   -999.0,9,  34.5663,2,     61.2,2,  -999.00,9,  -999.00,9,  -999.00,9,  -999.00,9,  -999.00,9, -999.000,9, -999.000,9,  -999.00,9,   -999.0,9,   -999.0,9,-999.0000,9,   -999.0,  9,  -999.00,9,   -999.0,  -999.00,9,  -999.00,9,  -999.00,9,  -999.00,9,   -999.0,-999.0000, -999,9, 1745,   1.9507,  27.6278,   -999.0,9
       RF01-06,  NONE,RF-1389,  1,      1,02-12807,2,20010627,0616, 40.0082, 152.0065, 5342,   2030.2,   1.9084,  34.6026,2,   -999.0,9,  34.5962,4,     76.2,2,  -999.00,9,  -999.00,9,  -999.00,9,  -999.00,9,  -999.00,9, -999.000,9, -999.000,9,  -999.00,9,   -999.0,9,   -999.0,9,-999.0000,9,   -999.0,  9,  -999.00,9,   -999.0,  -999.00,9,  -999.00,9,  -999.00,9,  -999.00,9,   -999.0,-999.0000, -999,9, 2005,   1.7709,  27.6711,   -999.0,9