BOTTLE,20130510GEMDJMAYT
EXPOCODE,SECT_ID,STNNBR,CASTNO,SAMPNO,BTLNBR,BTLNBR_FLAG_W,DATE,TIME,LATITUDE,LONGITUDE,DEPTH,CTDPRS,CTDTMP,CTDSAL,CTDSAL_FLAG_W,CTDOXY,CTDOXY_FLAG_W,SALNTY,SALNTY_FLAG_W,OXYGEN,OXYGEN_FLAG_W,SILCAT,SILCAT_FLAG_W,NITRAT,NITRAT_FLAG_W,NO2+NO3,NO2+NO3_FLAG_W,NITRIT,NITRIT_FLAG_W,PHSPHT,PHSPHT_FLAG_W,CFC-11,CFC-11_FLAG_W,CFC-12,CFC-12_FLAG_W,DELC13,DELC13_FLAG_W,TCARBN,TCARBN_FLAG_W,ALKALI,ALKALI_FLAG_W,PH,PH_FLAG_W,PH_TMP,PH_SCALE,PH_NBS,PH_NBS_FLAG_W,C13ERR,TOTALP,TOTALP_FLAG_W,AMMONI,AMMONI_FLAG_W,CHLORA,CHLORA_FLAG_W,PPHYTN,PPHYTN_FLAG_W,REVPRS,REVTMP,DEPTH_,DEPTH_FLAG,CTDDEP,THETA,SIGTHT,DOC,DOC_FLAG_W
,,,,,,,GMT,GMT,,,METER,DBAR,ITS-90,PSS-78,,UMOL/KG,,PSS-78,,UMOL/KG,,UMOL/KG,,UMOL/KG,,UMOL/KG,,UMOL/KG,,UMOL/KG,,PMOL/KG,,PMOL/KG,,/MILLE,,UMOL/KG,,UMOL/KG,,25_DEG_C,,DEG_C,,,,/MILLE,UMOL/KG,,UMOL/KG,,UG/L,,UG/L,,DBAR,ITS-90,METERS,,METERS,DEG_C,,UMOL/L,
       RF01-06,  142E,RF-1363,  1,     -9,      -9,5,20010622,0158, 32.0095, 142.0278, 8562,      0.0,  24.2900,  34.1809,2,   -999.0,9,-999.0000,9,    212.5,2,  -999.00,9,  -999.00,9,  -999.00,9,  -999.00,9,  -999.00,9, -999.000,9, -999.000,9,  -999.00,9,   -999.0,9,   -999.0,9,-999.0000,9,   -999.0,  9,  -999.00,9,   -999.0,  -999.00,9,  -999.00,9,  -999.00,9,  -999.00,9,   -999.0,-999.0000, -999,9,    0,  24.2900,  22.9355,   -999.0,9
       RF01-06,  142E,RF-1363,  1,     21, 02-9150,2,20010622,0155, 32.0095, 142.0278, 8562,      6.4,  24.2807,  34.1863,2,   -999.0,9,-999.0000,9,    214.0,2,  -999.00,9,  -999.00,9,  -999.00,9,  -999.00,9,  -999.00,9, -999.000,9, -999.000,9,  -999.00,9,   -999.0,9,   -999.0,9,-999.0000,9,   -999.0,  9,  -999.00,9,   -999.0,  -999.00,9,  -999.00,9,  -999.00,9,  -999.00,9,   -999.0,-999.0000, -999,9,    6,  24.2793,  22.9427,   -999.0,9
       RF01-06,  142E,RF-1363,  1,     20,02-12826,2,20010622,0154, 32.0095, 142.0278, 8562,     21.4,  24.1415,  34.3229,2,   -999.0,9,-999.0000,9,    214.9,2,  -999.00,9,  -999.00,9,  -999.00,9,  -999.00,9,  -999.00,9, -999.000,9, -999.000,9,  -999.00,9,   -999.0,9,   -999.0,9,-999.0000,9,   -999.0,  9,  -999.00,9,   -999.0,  -999.00,9,  -999.00,9,  -999.00,9,  -999.00,9,   -999.0,-999.0000, -999,9,   21,  24.1370,  23.0883,   -999.0,9
       RF01-06,  142E,RF-1363,  1,     19,02-12825,2,20010622,0153, 32.0095, 142.0278, 8562,     46.2,  21.2838,  34.6304,2,   -999.0,9,-999.0000,9,    227.8,2,  -999.00,9,  -999.00,9,  -999.00,9,  -999.00,9,  -999.00,9, -999.000,9, -999.000,9,  -999.00,9,   -999.0,9,   -999.0,9,-999.0000,9,   -999.0,  9,  -999.00,9,   -999.0,  -999.00,9,  -999.00,9,  -999.00,9,  -999.00,9,   -999.0,-999.0000, -999,9,   46,  21.2749,  24.1376,   -999.0,9
       RF01-06,  142E,RF-1363,  1,     18,02-12830,2,20010622,0151, 32.0095, 142.0278, 8562,     70.8,  19.9817,  34.6310,2,   -999.0,9,-999.0000,9,    224.9,2,  -999.00,9,  -999.00,9,  -999.00,9,  -999.00,9,  -999.00,9, -999.000,9, -999.000,9,  -999.00,9,   -999.0,9,   -999.0,9,-999.0000,9,   -999.0,  9,  -999.00,9,   -999.0,  -999.00,9,  -999.00,9,  -999.00,9,  -999.00,9,   -999.0,-999.0000, -999,9,   70,  19.9686,  24.4885,   -999.0,9
       RF01-06,  142E,RF-1363,  1,     17,02-12815,2,20010622,0149, 32.0095, 142.0278, 8562,     97.0,  19.0883,  34.6619,2,   -999.0,9,  34.6774,2,    222.6,2,  -999.00,9,  -999.00,9,  -999.00,9,  -999.00,9,  -999.00,9, -999.000,9, -999.000,9,  -999.00,9,   -999.0,9,   -999.0,9,-999.0000,9,   -999.0,  9,  -999.00,9,   -999.0,  -999.00,9,  -999.00,9,  -999.00,9,  -999.00,9,   -999.0,-999.0000, -999,9,   96,  19.0710,  24.7447,   -999.0,9
       RF01-06,  142E,RF-1363,  1,     16,02-12818,2,20010622,0148, 32.0095, 142.0278, 8562,    122.9,  18.7303,  34.7503,2,   -999.0,9,-999.0000,9,    210.6,2,  -999.00,9,  -999.00,9,  -999.00,9,  -999.00,9,  -999.00,9, -999.000,9, -999.000,9,  -999.00,9,   -999.0,9,   -999.0,9,-999.0000,9,   -999.0,  9,  -999.00,9,   -999.0,  -999.00,9,  -999.00,9,  -999.00,9,  -999.00,9,   -999.0,-999.0000, -999,9,  122,  18.7086,  24.9042,   -999.0,9
       RF01-06,  142E,RF-1363,  1,     15,02-12809,2,20010622,0146, 32.0095, 142.0278, 8562,    148.7,  18.5112,  34.7569,2,   -999.0,9,-999.0000,9,    207.6,2,  -999.00,9,  -999.00,9,  -999.00,9,  -999.00,9,  -999.00,9, -999.000,9, -999.000,9,  -999.00,9,   -999.0,9,   -999.0,9,-999.0000,9,   -999.0,  9,  -999.00,9,   -999.0,  -999.00,9,  -999.00,9,  -999.00,9,  -999.00,9,   -999.0,-999.0000, -999,9,  148,  18.4852,  24.9654,   -999.0,9
       RF01-06,  142E,RF-1363,  1,     14,02-12817,2,20010622,0144, 32.0095, 142.0278, 8562,    199.3,  17.9399,  34.7454,2,   -999.0,9,  34.7607,2,    211.1,2,  -999.00,9,  -999.00,9,  -999.00,9,  -999.00,9,  -999.00,9, -999.000,9, -999.000,9,  -999.00,9,   -999.0,9,   -999.0,9,-999.0000,9,   -999.0,  9,  -999.00,9,   -999.0,  -999.00,9,  -999.00,9,  -999.00,9,  -999.00,9,   -999.0,-999.0000, -999,9,  198,  17.9058,  25.1002,   -999.0,9
       RF01-06,  142E,RF-1363,  1,     13,02-15822,2,20010622,0142, 32.0095, 142.0278, 8562,    249.6,  17.4374,  34.7281,2,   -999.0,9,-999.0000,9,    211.4,2,  -999.00,9,  -999.00,9,  -999.00,9,  -999.00,9,  -999.00,9, -999.000,9, -999.000,9,  -999.00,9,   -999.0,9,   -999.0,9,-999.0000,9,   -999.0,  9,  -999.00,9,   -999.0,  -999.00,9,  -999.00,9,  -999.00,9,  -999.00,9,   -999.0,-999.0000, -999,9,  248,  17.3955,  25.2110,   -999.0,9
       RF01-06,  142E,RF-1363,  1,     12,02-12821,2,20010622,0139, 32.0095, 142.0278, 8562,    299.7,  17.0879,  34.7212,2,   -999.0,9,  34.7361,2,    209.4,2,  -999.00,9,  -999.00,9,  -999.00,9,  -999.00,9,  -999.00,9, -999.000,9, -999.000,9,  -999.00,9,   -999.0,9,   -999.0,9,-999.0000,9,   -999.0,  9,  -999.00,9,   -999.0,  -999.00,9,  -999.00,9,  -999.00,9,  -999.00,9,   -999.0,-999.0000, -999,9,  297,  17.0382,  25.2912,   -999.0,9
       RF01-06,  142E,RF-1363,  1,     11,02-15823,3,20010622,0136, 32.0095, 142.0278, 8562,    398.8,  15.6617,  34.6383,2,   -999.0,9,  34.6483,2,    184.9,2,  -999.00,9,  -999.00,9,  -999.00,9,  -999.00,9,  -999.00,9, -999.000,9, -999.000,9,  -999.00,9,   -999.0,9,   -999.0,9,-999.0000,9,   -999.0,  9,  -999.00,9,   -999.0,  -999.00,9,  -999.00,9,  -999.00,9,  -999.00,9,   -999.0,-999.0000, -999,9,  396,  15.5993,  25.5601,   -999.0,9
       RF01-06,  142E,RF-1363,  1,     10,02-12820,2,20010622,0130, 32.0095, 142.0278, 8562,    500.3,  13.4959,  34.4990,2,   -999.0,9,  34.5102,2,    174.9,2,  -999.00,9,  -999.00,9,  -999.00,9,  -999.00,9,  -999.00,9, -999.000,9, -999.000,9,  -999.00,9,   -999.0,9,   -999.0,9,-999.0000,9,   -999.0,  9,  -999.00,9,   -999.0,  -999.00,9,  -999.00,9,  -999.00,9,  -999.00,9,   -999.0,-999.0000, -999,9,  496,  13.4249,  25.9188,   -999.0,9
       RF01-06,  142E,RF-1363,  1,      9,02-12810,2,20010622,0127, 32.0095, 142.0278, 8562,    603.8,  10.4290,  34.2952,2,   -999.0,9,  34.3200,4,    159.6,2,  -999.00,9,  -999.00,9,  -999.00,9,  -999.00,9,  -999.00,9, -999.000,9, -999.000,9,  -999.00,9,   -999.0,9,   -999.0,9,-999.0000,9,   -999.0,  9,  -999.00,9,   -999.0,  -999.00,9,  -999.00,9,  -999.00,9,  -999.00,9,   -999.0,-999.0000, -999,9,  599,  10.3562,  26.3404,   -999.0,9
       RF01-06,  142E,RF-1363,  1,      8,02-12819,2,20010622,0124, 32.0095, 142.0278, 8562,    702.8,   7.4035,  34.1093,2,   -999.0,9,  34.1044,2,    146.6,2,  -999.00,9,  -999.00,9,  -999.00,9,  -999.00,9,  -999.00,9, -999.000,9, -999.000,9,  -999.00,9,   -999.0,9,   -999.0,9,-999.0000,9,   -999.0,  9,  -999.00,9,   -999.0,  -999.00,9,  -999.00,9,  -999.00,9,  -999.00,9,   -999.0,-999.0000, -999,9,  697,   7.3341,  26.6707,   -999.0,9
       RF01-06,  142E,RF-1363,  1,      7,02-15821,2,20010622,0121, 32.0095, 142.0278, 8562,    802.7,   5.9693,  34.1603,2,   -999.0,9,  34.1642,2,    104.2,2,  -999.00,9,  -999.00,9,  -999.00,9,  -999.00,9,  -999.00,9, -999.000,9, -999.000,9,  -999.00,9,   -999.0,9,   -999.0,9,-999.0000,9,   -999.0,  9,  -999.00,9,   -999.0,  -999.00,9,  -999.00,9,  -999.00,9,  -999.00,9,   -999.0,-999.0000, -999,9,  796,   5.8981,  26.9019,   -999.0,9
       RF01-06,  142E,RF-1363,  1,      6,02-13588,2,20010622,0118, 32.0095, 142.0278, 8562,    907.0,   4.7755,  34.2011,2,   -999.0,9,-999.0000,9,     74.6,2,  -999.00,9,  -999.00,9,  -999.00,9,  -999.00,9,  -999.00,9, -999.000,9, -999.000,9,  -999.00,9,   -999.0,9,   -999.0,9,-999.0000,9,   -999.0,  9,  -999.00,9,   -999.0,  -999.00,9,  -999.00,9,  -999.00,9,  -999.00,9,   -999.0,-999.0000, -999,9,  899,   4.7025,  27.0755,   -999.0,9
       RF01-06,  142E,RF-1363,  1,      5,02-10155,2,20010622,0116, 32.0095, 142.0278, 8562,   1005.3,   4.2529,  34.2637,2,   -999.0,9,  34.2669,2,     60.3,2,  -999.00,9,  -999.00,9,  -999.00,9,  -999.00,9,  -999.00,9, -999.000,9, -999.000,9,  -999.00,9,   -999.0,9,   -999.0,9,-999.0000,9,   -999.0,  9,  -999.00,9,   -999.0,  -999.00,9,  -999.00,9,  -999.00,9,  -999.00,9,   -999.0,-999.0000, -999,9,  996,   4.1753,  27.1822,   -999.0,9
       RF01-06,  142E,RF-1363,  1,      4,02-13579,2,20010622,0110, 32.0095, 142.0278, 8562,   1259.1,   3.4091,  34.3874,2,   -999.0,9,  34.3903,2,     52.7,2,  -999.00,9,  -999.00,9,  -999.00,9,  -999.00,9,  -999.00,9, -999.000,9, -999.000,9,  -999.00,9,   -999.0,9,   -999.0,9,-999.0000,9,   -999.0,  9,  -999.00,9,   -999.0,  -999.00,9,  -999.00,9,  -999.00,9,  -999.00,9,   -999.0,-999.0000, -999,9, 1247,   3.3174,  27.3665,   -999.0,9
       RF01-06,  142E,RF-1363,  1,      3,02-13590,2,20010622,0104, 32.0095, 142.0278, 8562,   1512.2,   2.7915,  34.4633,2,   -999.0,9,  34.4646,2,     50.7,2,  -999.00,9,  -999.00,9,  -999.00,9,  -999.00,9,  -999.00,9, -999.000,9, -999.000,9,  -999.00,9,   -999.0,9,   -999.0,9,-999.0000,9,   -999.0,  9,  -999.00,9,   -999.0,  -999.00,9,  -999.00,9,  -999.00,9,  -999.00,9,   -999.0,-999.0000, -999,9, 1496,   2.6854,  27.4847,   -999.0,9
       RF01-06,  142E,RF-1363,  1,      2,02-13589,2,20010622,0058, 32.0095, 142.0278, 8562,   1765.9,   2.3587,  34.5241,2,   -999.0,9,  34.5250,2,     54.1,2,  -999.00,9,  -999.00,9,  -999.00,9,  -999.00,9,  -999.00,9, -999.000,9, -999.000,9,  -999.00,9,   -999.0,9,   -999.0,9,-999.0000,9,   -999.0,  9,  -999.00,9,   -999.0,  -999.00,9,  -999.00,9,  -999.00,9,  -999.00,9,   -999.0,-999.0000, -999,9, 1746,   2.2369,  27.5713,   -999.0,9
       RF01-06,  142E,RF-1363,  1,      1,02-12807,2,20010622,0052, 32.0095, 142.0278, 8562,   2024.6,   2.0818,  34.5750,2,   -999.0,9,  34.5757,2,     69.8,2,  -999.00,9,  -999.00,9,  -999.00,9,  -999.00,9,  -999.00,9, -999.000,9, -999.000,9,  -999.00,9,   -999.0,9,   -999.0,9,-999.0000,9,   -999.0,  9,  -999.00,9,   -999.0,  -999.00,9,  -999.00,9,  -999.00,9,  -999.00,9,   -999.0,-999.0000, -999,9, 2001,   1.9422,  27.6357,   -999.0,9