BOTTLE,20130510GEMDJMAYT
# 05/09/2013: Change CTDPRS/DEP to 0 at lines of BTLNBR_FLAG_W = 5.
# 05/09/2013: Correct the error of converted time from JST to GMT.
#BOTTLE,20121206MIRCJHATS
# 12/06/2012: Change BTLNBR_FLAG_W: 8 to 5 at lines of BTLNBR = -9.
# 09/30/2006: Reported
# 04/26/2007: data of CFCs are reported by PI (T.Tokieda).
# 02/19/2009 : pH scale specified in header.
# 02/19/2009 : NO2+NO3 label corrected in header.
# 04/05/2010 : pH scale specified in header, corrected for QF of CTDSAL (5 -> 2), converted time from JST to GMT
EXPOCODE,SECT_ID,STNNBR,CASTNO,SAMPNO,BTLNBR,BTLNBR_FLAG_W,DATE,TIME,LATITUDE,LONGITUDE,DEPTH,CTDPRS,CTDTMP,CTDSAL,CTDSAL_FLAG_W,CTDOXY,CTDOXY_FLAG_W,SALNTY,SALNTY_FLAG_W,OXYGEN,OXYGEN_FLAG_W,SILCAT,SILCAT_FLAG_W,NITRAT,NITRAT_FLAG_W,NO2+NO3,NO2+NO3_FLAG_W,NITRIT,NITRIT_FLAG_W,PHSPHT,PHSPHT_FLAG_W,CFC-11,CFC-11_FLAG_W,CFC-12,CFC-12_FLAG_W,DELC13,DELC13_FLAG_W,TCARBN,TCARBN_FLAG_W,ALKALI,ALKALI_FLAG_W,PH,PH_FLAG_W,PH_TMP,PH_SCALE,PH_NBS,PH_NBS_FLAG_W,C13ERR,TOTALP,TOTALP_FLAG_W,AMMONI,AMMONI_FLAG_W,CHLORA,CHLORA_FLAG_W,PPHYTN,PPHYTN_FLAG_W,REVPRS,REVTMP,DEPTH_,DEPTH_FLAG,CTDDEP,THETA,SIGTHT,DOC,DOC_FLAG_W
,,,,,,,GMT,GMT,,,METER,DBAR,ITS-90,PSS-78,,UMOL/KG,,PSS-78,,UMOL/KG,,UMOL/KG,,UMOL/KG,,UMOL/KG,,UMOL/KG,,UMOL/KG,,PMOL/KG,,PMOL/KG,,/MILLE,,UMOL/KG,,UMOL/KG,,25_DEG_C,,DEG_C,,,,/MILLE,UMOL/KG,,UMOL/KG,,UG/L,,UG/L,,DBAR,ITS-90,METERS,,METERS,DEG_C,,UMOL/L,
       RF01-06,  NONE,RF-1354,  1,     -9,      -9,5,20010620,1059, 34.9445, 140.2660, 1475,      0.0,  18.5218,  34.2765,2,   -999.0,9,-999.0000,9,    219.4,2,     7.58,2,  -999.00,9,     4.53,2,     0.26,2,     0.29,2, -999.000,9, -999.000,9,  -999.00,9,   -999.0,9,   -999.0,9,-999.0000,9,   -999.0,  9,  -999.00,9,   -999.0,  -999.00,9,  -999.00,9,     1.49,2,     0.38,2,   -999.0,-999.0000, -999,9,    0,  18.5218,  24.5888,   -999.0,9
       RF01-06,  NONE,RF-1354,  1,     20,02-12826,2,20010620,1057, 34.9445, 140.2660, 1475,      5.6,  18.5131,  34.2824,2,   -999.0,9,-999.0000,9,    219.0,2,     7.58,2,  -999.00,9,     4.74,2,     0.24,2,     0.33,2, -999.000,9, -999.000,9,  -999.00,9,   -999.0,9,   -999.0,9,-999.0000,9,   -999.0,  9,  -999.00,9,   -999.0,  -999.00,9,  -999.00,9,     1.54,2,     0.34,2,   -999.0,-999.0000, -999,9,    6,  18.5121,  24.5957,   -999.0,9
       RF01-06,  NONE,RF-1354,  1,     19,02-12825,2,20010620,1056, 34.9445, 140.2660, 1475,     19.6,  18.1272,  34.4707,2,   -999.0,9,-999.0000,9,    210.8,2,     6.62,2,  -999.00,9,     4.45,2,     0.18,2,     0.31,2, -999.000,9, -999.000,9,  -999.00,9,   -999.0,9,   -999.0,9,-999.0000,9,   -999.0,  9,  -999.00,9,   -999.0,  -999.00,9,  -999.00,9,     2.03,2,     0.54,2,   -999.0,-999.0000, -999,9,   19,  18.1238,  24.8362,   -999.0,9
       RF01-06,  NONE,RF-1354,  1,     18,02-12830,2,20010620,1054, 34.9445, 140.2660, 1475,     47.4,  15.1722,  34.5535,2,   -999.0,9,-999.0000,9,    178.3,2,    15.55,2,  -999.00,9,    11.82,2,     0.02,2,     0.76,2, -999.000,9, -999.000,9,  -999.00,9,   -999.0,9,   -999.0,9,-999.0000,9,   -999.0,  9,  -999.00,9,   -999.0,  -999.00,9,  -999.00,9,     0.08,2,     0.10,2,   -999.0,-999.0000, -999,9,   47,  15.1650,  25.5914,   -999.0,9
       RF01-06,  NONE,RF-1354,  1,     17,02-12815,2,20010620,1052, 34.9445, 140.2660, 1475,     71.3,  14.1321,  34.5015,2,   -999.0,9,-999.0000,9,    169.8,2,    20.88,2,  -999.00,9,    14.19,2,     0.02,2,     0.95,2, -999.000,9, -999.000,9,  -999.00,9,   -999.0,9,   -999.0,9,-999.0000,9,   -999.0,  9,  -999.00,9,   -999.0,  -999.00,9,  -999.00,9,     0.09,2,     0.07,2,   -999.0,-999.0000, -999,9,   71,  14.1218,  25.7763,   -999.0,9
       RF01-06,  NONE,RF-1354,  1,     16,02-12818,2,20010620,1051, 34.9445, 140.2660, 1475,     98.0,  13.0062,  34.4790,2,   -999.0,9,  34.4795,2,    161.0,2,    24.71,2,  -999.00,9,    16.61,2,     0.01,2,     1.10,2, -999.000,9, -999.000,9,  -999.00,9,   -999.0,9,   -999.0,9,-999.0000,9,   -999.0,  9,  -999.00,9,   -999.0,  -999.00,9,  -999.00,9,     0.04,2,     0.06,2,   -999.0,-999.0000, -999,9,   97,  12.9929,  25.9907,   -999.0,9
       RF01-06,  NONE,RF-1354,  1,     15,02-12809,2,20010620,1049, 34.9445, 140.2660, 1475,    123.0,  11.7314,  34.4334,2,   -999.0,9,-999.0000,9,    150.7,2,    30.53,2,  -999.00,9,    19.54,2,     0.00,2,     1.33,2, -999.000,9, -999.000,9,  -999.00,9,   -999.0,9,   -999.0,9,-999.0000,9,   -999.0,  9,  -999.00,9,   -999.0,  -999.00,9,  -999.00,9,     0.01,2,     0.05,2,   -999.0,-999.0000, -999,9,  122,  11.7158,  26.2026,   -999.0,9
       RF01-06,  NONE,RF-1354,  1,     14,02-12817,2,20010620,1048, 34.9445, 140.2660, 1475,    147.5,  11.0915,  34.4113,2,   -999.0,9,-999.0000,9,    145.2,2,    33.83,2,  -999.00,9,    21.07,2,     0.00,2,     1.42,2, -999.000,9, -999.000,9,  -999.00,9,   -999.0,9,   -999.0,9,-999.0000,9,   -999.0,  9,  -999.00,9,   -999.0,  -999.00,9,  -999.00,9,     0.01,2,     0.03,2,   -999.0,-999.0000, -999,9,  146,  11.0734,  26.3038,   -999.0,9
       RF01-06,  NONE,RF-1354,  1,     13,02-15822,2,20010620,1045, 34.9445, 140.2660, 1475,    199.2,   9.8484,  34.3615,2,   -999.0,9,  34.3618,2,    134.5,2,    41.98,2,  -999.00,9,    24.11,2,     0.00,2,     1.66,2, -999.000,9, -999.000,9,  -999.00,9,   -999.0,9,   -999.0,9,-999.0000,9,   -999.0,  9,  -999.00,9,   -999.0,  -999.00,9,  -999.00,9,     0.00,2,     0.04,2,   -999.0,-999.0000, -999,9,  198,   9.8257,  26.4828,   -999.0,9
       RF01-06,  NONE,RF-1354,  1,     12,02-12821,2,20010620,1043, 34.9445, 140.2660, 1475,    249.8,   9.3410,  34.3433,2,   -999.0,9,-999.0000,9,    129.8,2,    45.50,2,  -999.00,9,    25.24,2,     0.00,2,     1.74,2, -999.000,9, -999.000,9,  -999.00,9,   -999.0,9,   -999.0,9,-999.0000,9,   -999.0,  9,  -999.00,9,   -999.0,  -999.00,9,  -999.00,9,  -999.00,9,  -999.00,9,   -999.0,-999.0000, -999,9,  248,   9.3133,  26.5533,   -999.0,9
       RF01-06,  NONE,RF-1354,  1,     11,02-15823,2,20010620,1041, 34.9445, 140.2660, 1475,    299.2,   8.3971,  34.2979,2,   -999.0,9,  34.2954,2,    123.1,2,    51.51,2,  -999.00,9,    27.49,2,     0.00,2,     1.91,2, -999.000,9, -999.000,9,  -999.00,9,   -999.0,9,   -999.0,9,-999.0000,9,   -999.0,  9,  -999.00,9,   -999.0,  -999.00,9,  -999.00,9,  -999.00,9,  -999.00,9,   -999.0,-999.0000, -999,9,  297,   8.3661,  26.6672,   -999.0,9
       RF01-06,  NONE,RF-1354,  1,     10,02-12820,2,20010620,1038, 34.9445, 140.2660, 1475,    402.4,   7.8293,  34.2820,2,   -999.0,9,  34.2830,2,    116.2,2,    56.62,2,  -999.00,9,    29.07,2,     0.00,2,     2.02,2, -999.000,9, -999.000,9,  -999.00,9,   -999.0,9,   -999.0,9,-999.0000,9,   -999.0,  9,  -999.00,9,   -999.0,  -999.00,9,  -999.00,9,  -999.00,9,  -999.00,9,   -999.0,-999.0000, -999,9,  399,   7.7890,  26.7411,   -999.0,9
       RF01-06,  NONE,RF-1354,  1,      9,02-12810,2,20010620,1035, 34.9445, 140.2660, 1475,    503.9,   6.3393,  34.2338,2,   -999.0,9,  34.2318,2,    100.5,2,    70.27,2,  -999.00,9,    32.91,2,     0.00,2,     2.33,2, -999.000,9, -999.000,9,  -999.00,9,   -999.0,9,   -999.0,9,-999.0000,9,   -999.0,  9,  -999.00,9,   -999.0,  -999.00,9,  -999.00,9,  -999.00,9,  -999.00,9,   -999.0,-999.0000, -999,9,  500,   6.2942,  26.9096,   -999.0,9
       RF01-06,  NONE,RF-1354,  1,      8,02-12819,2,20010620,1031, 34.9445, 140.2660, 1475,    603.4,   4.5269,  34.2922,2,   -999.0,9,  34.2881,2,     69.3,2,    96.39,2,  -999.00,9,    38.17,2,     0.00,2,     2.74,2, -999.000,9, -999.000,9,  -999.00,9,   -999.0,9,   -999.0,9,-999.0000,9,   -999.0,  9,  -999.00,9,   -999.0,  -999.00,9,  -999.00,9,  -999.00,9,  -999.00,9,   -999.0,-999.0000, -999,9,  598,   4.4808,  27.1722,   -999.0,9
       RF01-06,  NONE,RF-1354,  1,      7,02-15821,2,20010620,1027, 34.9445, 140.2660, 1475,    702.3,   3.7050,  34.3415,2,   -999.0,9,  34.3359,2,     51.4,2,   111.55,2,  -999.00,9,    40.67,2,     0.00,2,     2.92,2, -999.000,9, -999.000,9,  -999.00,9,   -999.0,9,   -999.0,9,-999.0000,9,   -999.0,  9,  -999.00,9,   -999.0,  -999.00,9,  -999.00,9,  -999.00,9,  -999.00,9,   -999.0,-999.0000, -999,9,  696,   3.6553,  27.2972,   -999.0,9
       RF01-06,  NONE,RF-1354,  1,      6,02-13588,2,20010620,1024, 34.9445, 140.2660, 1475,    804.5,   3.4734,  34.3813,2,   -999.0,9,  34.3746,2,     52.1,2,   116.73,2,  -999.00,9,    40.88,2,     0.00,2,     2.94,2, -999.000,9, -999.000,9,  -999.00,9,   -999.0,9,   -999.0,9,-999.0000,9,   -999.0,  9,  -999.00,9,   -999.0,  -999.00,9,  -999.00,9,  -999.00,9,  -999.00,9,   -999.0,-999.0000, -999,9,  797,   3.4172,  27.3521,   -999.0,9
       RF01-06,  NONE,RF-1354,  1,      5,02-10155,2,20010620,1018, 34.9445, 140.2660, 1475,    904.9,   3.2933,  34.4011,2,   -999.0,9,-999.0000,9,     52.3,2,   121.25,2,  -999.00,9,    40.99,2,     0.00,2,     2.94,2, -999.000,9, -999.000,9,  -999.00,9,   -999.0,9,   -999.0,9,-999.0000,9,   -999.0,  9,  -999.00,9,   -999.0,  -999.00,9,  -999.00,9,  -999.00,9,  -999.00,9,   -999.0,-999.0000, -999,9,  896,   3.2307,  27.3856,   -999.0,9
       RF01-06,  NONE,RF-1354,  1,      4,02-13579,2,20010620,1014, 34.9445, 140.2660, 1475,   1007.3,   3.0702,  34.4277,2,   -999.0,9,  34.4221,2,     50.9,2,   126.37,2,  -999.00,9,    41.30,2,     0.00,2,     2.96,2, -999.000,9, -999.000,9,  -999.00,9,   -999.0,9,   -999.0,9,-999.0000,9,   -999.0,  9,  -999.00,9,   -999.0,  -999.00,9,  -999.00,9,  -999.00,9,  -999.00,9,   -999.0,-999.0000, -999,9,  998,   3.0013,  27.4281,   -999.0,9
       RF01-06,  NONE,RF-1354,  1,      3,02-13590,2,20010620,1008, 34.9445, 140.2660, 1475,   1255.4,   2.5531,  34.4961,2,   -999.0,9,  34.4890,2,     51.8,2,   137.77,2,  -999.00,9,    41.53,2,     0.00,2,     3.00,2, -999.000,9, -999.000,9,  -999.00,9,   -999.0,9,   -999.0,9,-999.0000,9,   -999.0,  9,  -999.00,9,   -999.0,  -999.00,9,  -999.00,9,  -999.00,9,  -999.00,9,   -999.0,-999.0000, -999,9, 1243,   2.4698,  27.5296,   -999.0,9
       RF01-06,  NONE,RF-1354,  1,      2,02-13589,2,20010620,1002, 34.9445, 140.2660, 1475,   1459.5,   2.4000,  34.5188,2,   -999.0,9,  34.5136,2,     53.4,2,   141.39,2,  -999.00,9,    41.84,2,     0.00,2,     3.01,2, -999.000,9, -999.000,9,  -999.00,9,   -999.0,9,   -999.0,9,-999.0000,9,   -999.0,  9,  -999.00,9,   -999.0,  -999.00,9,  -999.00,9,  -999.00,9,  -999.00,9,   -999.0,-999.0000, -999,9, 1444,   2.3024,  27.5617,   -999.0,9
       RF01-06,  NONE,RF-1354,  1,      1,02-12807,2,20010620,1001, 34.9445, 140.2660, 1475,   1460.7,   2.3975,  34.5175,2,   -999.0,9,  34.5134,2,     53.9,2,   141.24,2,  -999.00,9,    41.88,2,     0.00,2,     3.00,2, -999.000,9, -999.000,9,  -999.00,9,   -999.0,9,   -999.0,9,-999.0000,9,   -999.0,  9,  -999.00,9,   -999.0,  -999.00,9,  -999.00,9,  -999.00,9,  -999.00,9,   -999.0,-999.0000, -999,9, 1445,   2.2999,  27.5609,   -999.0,9