BOTTLE,20130510GEMDJMAYT
EXPOCODE,SECT_ID,STNNBR,CASTNO,SAMPNO,BTLNBR,BTLNBR_FLAG_W,DATE,TIME,LATITUDE,LONGITUDE,DEPTH,CTDPRS,CTDTMP,CTDSAL,CTDSAL_FLAG_W,CTDOXY,CTDOXY_FLAG_W,SALNTY,SALNTY_FLAG_W,OXYGEN,OXYGEN_FLAG_W,SILCAT,SILCAT_FLAG_W,NITRAT,NITRAT_FLAG_W,NO2+NO3,NO2+NO3_FLAG_W,NITRIT,NITRIT_FLAG_W,PHSPHT,PHSPHT_FLAG_W,CFC-11,CFC-11_FLAG_W,CFC-12,CFC-12_FLAG_W,DELC13,DELC13_FLAG_W,TCARBN,TCARBN_FLAG_W,ALKALI,ALKALI_FLAG_W,PH,PH_FLAG_W,PH_TMP,PH_SCALE,PH_NBS,PH_NBS_FLAG_W,C13ERR,TOTALP,TOTALP_FLAG_W,AMMONI,AMMONI_FLAG_W,CHLORA,CHLORA_FLAG_W,PPHYTN,PPHYTN_FLAG_W,REVPRS,REVTMP,DEPTH_,DEPTH_FLAG,CTDDEP,THETA,SIGTHT,DOC,DOC_FLAG_W
,,,,,,,GMT,GMT,,,METER,DBAR,ITS-90,PSS-78,,UMOL/KG,,PSS-78,,UMOL/KG,,UMOL/KG,,UMOL/KG,,UMOL/KG,,UMOL/KG,,UMOL/KG,,PMOL/KG,,PMOL/KG,,/MILLE,,UMOL/KG,,UMOL/KG,,25_DEG_C,,DEG_C,,,,/MILLE,UMOL/KG,,UMOL/KG,,UG/L,,UG/L,,DBAR,ITS-90,METERS,,METERS,DEG_C,,UMOL/L,
       RF01-06,  165E,RF-1395,  1,     -9,      -9,5,20010709,2101, 48.0160, 165.0107, 5828,      0.0,   6.0221,  32.9400,2,   -999.0,9,-999.0000,9,    323.6,2,    35.30,2,  -999.00,9,    21.17,2,     0.23,2,     1.64,2,    4.942,2,    2.597,2,  -999.00,9,   -999.0,9,   -999.0,9,-999.0000,9,   -999.0,  9,     7.91,2,   -999.0,  -999.00,9,  -999.00,9,  -999.00,9,  -999.00,9,   -999.0,-999.0000, -999,9,    0,   6.0221,  25.9223,   -999.0,9
       RF01-06,  165E,RF-1395,  1,     21, 02-9150,2,20010709,2059, 48.0160, 165.0107, 5828,      6.4,   6.0177,  32.9506,2,   -999.0,9,-999.0000,9,    323.2,2,    35.18,2,  -999.00,9,    21.08,2,     0.23,2,     1.64,2,    4.943,2,    2.598,2,  -999.00,9,   -999.0,9,   -999.0,9,-999.0000,9,   -999.0,  9,     7.91,2,   -999.0,  -999.00,9,  -999.00,9,  -999.00,9,  -999.00,9,   -999.0,-999.0000, -999,9,    6,   6.0172,  25.9313,   -999.0,9
       RF01-06,  165E,RF-1395,  1,     20,02-12826,2,20010709,2057, 48.0160, 165.0107, 5828,     22.2,   5.5517,  32.9082,2,   -999.0,9,-999.0000,9,    328.1,2,    34.40,2,  -999.00,9,    21.01,2,     0.22,2,     1.65,2,    5.082,2,    2.662,2,  -999.00,9,   -999.0,9,   -999.0,9,-999.0000,9,   -999.0,  9,     7.90,2,   -999.0,  -999.00,9,  -999.00,9,  -999.00,9,  -999.00,9,   -999.0,-999.0000, -999,9,   22,   5.5499,  25.9541,   -999.0,9
       RF01-06,  165E,RF-1395,  1,     19,02-12825,2,20010709,2056, 48.0160, 165.0107, 5828,     48.1,   2.7251,  33.1065,2,   -999.0,9,-999.0000,9,    332.2,2,    44.51,2,  -999.00,9,    25.26,2,     0.36,2,     1.96,2,    6.009,2,    3.086,2,  -999.00,9,   -999.0,9,   -999.0,9,-999.0000,9,   -999.0,  9,     7.83,2,   -999.0,  -999.00,9,  -999.00,9,  -999.00,9,  -999.00,9,   -999.0,-999.0000, -999,9,   48,   2.7225,  26.3975,   -999.0,9
       RF01-06,  165E,RF-1395,  1,     18,02-12830,2,20010709,2055, 48.0160, 165.0107, 5828,     71.4,   1.6351,  33.1952,2,   -999.0,9,-999.0000,9,    330.5,2,    47.66,2,  -999.00,9,    27.73,2,     0.52,2,     2.08,2,    6.425,2,    3.273,2,  -999.00,9,   -999.0,9,   -999.0,9,-999.0000,9,   -999.0,  9,     7.79,2,   -999.0,  -999.00,9,  -999.00,9,  -999.00,9,  -999.00,9,   -999.0,-999.0000, -999,9,   71,   1.6318,  26.5525,   -999.0,9
       RF01-06,  165E,RF-1395,  1,     17,02-12815,2,20010709,2054, 48.0160, 165.0107, 5828,     96.3,   1.4652,  33.2266,2,   -999.0,9,  33.2312,2,    313.7,2,    49.75,2,  -999.00,9,    28.68,2,     0.00,2,     2.14,2,    6.492,2,    3.279,2,  -999.00,9,   -999.0,9,   -999.0,9,-999.0000,9,   -999.0,  9,     7.77,2,   -999.0,  -999.00,9,  -999.00,9,  -999.00,9,  -999.00,9,   -999.0,-999.0000, -999,9,   95,   1.4608,  26.5895,   -999.0,9
       RF01-06,  165E,RF-1395,  1,     16,02-12818,2,20010709,2053, 48.0160, 165.0107, 5828,    122.9,   2.1867,  33.4532,2,   -999.0,9,-999.0000,9,    206.5,2,    64.10,2,  -999.00,9,    34.26,2,     0.00,2,     2.52,2,    6.297,2,    3.077,2,  -999.00,9,   -999.0,9,   -999.0,9,-999.0000,9,   -999.0,  9,     7.64,2,   -999.0,  -999.00,9,  -999.00,9,  -999.00,9,  -999.00,9,   -999.0,-999.0000, -999,9,  122,   2.1803,  26.7186,   -999.0,9
       RF01-06,  165E,RF-1395,  1,     15,02-12809,2,20010709,2051, 48.0160, 165.0107, 5828,    146.4,   3.0389,  33.7104,2,   -999.0,9,-999.0000,9,     92.5,2,    81.44,2,  -999.00,9,    40.51,2,     0.00,2,     2.96,2,    4.465,2,    1.870,2,  -999.00,9,   -999.0,9,   -999.0,9,-999.0000,9,   -999.0,  9,     7.51,2,   -999.0,  -999.00,9,  -999.00,9,  -999.00,9,  -999.00,9,   -999.0,-999.0000, -999,9,  145,   3.0301,  26.8529,   -999.0,9
       RF01-06,  165E,RF-1395,  1,     14,02-12817,2,20010709,2050, 48.0160, 165.0107, 5828,    198.4,   3.5001,  33.9246,2,   -999.0,9,  33.9262,2,     30.5,2,    95.90,2,  -999.00,9,    44.26,2,     0.00,2,     3.20,2,    2.876,2,    1.055,2,  -999.00,9,   -999.0,9,   -999.0,9,-999.0000,9,   -999.0,  9,     7.44,2,   -999.0,  -999.00,9,  -999.00,9,  -999.00,9,  -999.00,9,   -999.0,-999.0000, -999,9,  197,   3.4873,  26.9814,   -999.0,9
       RF01-06,  165E,RF-1395,  1,     13,02-15822,2,20010709,2048, 48.0160, 165.0107, 5828,    249.2,   3.5007,  34.0012,2,   -999.0,9,-999.0000,9,     21.0,2,   101.88,2,  -999.00,9,    44.61,2,     0.00,2,     3.28,2,    2.191,2,    0.808,2,  -999.00,9,   -999.0,9,   -999.0,9,-999.0000,9,   -999.0,  9,     7.44,2,   -999.0,  -999.00,9,  -999.00,9,  -999.00,9,  -999.00,9,   -999.0,-999.0000, -999,9,  247,   3.4844,  27.0427,   -999.0,9
       RF01-06,  165E,RF-1395,  1,     12,02-12821,2,20010709,2046, 48.0160, 165.0107, 5828,    300.3,   3.4626,  34.0541,2,   -999.0,9,  34.0522,2,     19.8,2,   106.23,2,  -999.00,9,    44.27,2,     0.00,2,     3.22,2,    2.195,2,    0.672,2,  -999.00,9,   -999.0,9,   -999.0,9,-999.0000,9,   -999.0,  9,     7.44,2,   -999.0,  -999.00,9,  -999.00,9,  -999.00,9,  -999.00,9,   -999.0,-999.0000, -999,9,  298,   3.4430,  27.0888,   -999.0,9
       RF01-06,  165E,RF-1395,  1,     11,02-15823,2,20010709,2044, 48.0160, 165.0107, 5828,    397.7,   3.3622,  34.1475,2,   -999.0,9,  34.1479,2,     18.2,2,   114.54,2,  -999.00,9,    44.00,2,     0.00,2,     3.19,2,    1.517,2,    0.442,2,  -999.00,9,   -999.0,9,   -999.0,9,-999.0000,9,   -999.0,  9,  -999.00,9,   -999.0,  -999.00,9,  -999.00,9,  -999.00,9,  -999.00,9,   -999.0,-999.0000, -999,9,  394,   3.3362,  27.1734,   -999.0,9
       RF01-06,  165E,RF-1395,  1,     10,02-12820,2,20010709,2042, 48.0160, 165.0107, 5828,    501.0,   3.2751,  34.2278,2,   -999.0,9,  34.2208,2,     22.2,2,   119.71,2,  -999.00,9,    43.41,2,     0.00,2,     3.14,2,    1.386,2,    0.353,2,  -999.00,9,   -999.0,9,   -999.0,9,-999.0000,9,   -999.0,  9,     7.48,2,   -999.0,  -999.00,9,  -999.00,9,  -999.00,9,  -999.00,9,   -999.0,-999.0000, -999,9,  496,   3.2422,  27.2463,   -999.0,9
       RF01-06,  165E,RF-1395,  1,      9,02-12810,2,20010709,2039, 48.0160, 165.0107, 5828,    602.0,   3.0985,  34.2719,2,   -999.0,9,  34.2718,2,     19.4,2,   126.17,2,  -999.00,9,    43.72,2,     0.00,2,     3.15,2,    0.770,2,    0.230,2,  -999.00,9,   -999.0,9,   -999.0,9,-999.0000,9,   -999.0,  9,  -999.00,9,   -999.0,  -999.00,9,  -999.00,9,  -999.00,9,  -999.00,9,   -999.0,-999.0000, -999,9,  596,   3.0593,  27.2985,   -999.0,9
       RF01-06,  165E,RF-1395,  1,      8,02-12819,2,20010709,2036, 48.0160, 165.0107, 5828,    701.6,   2.9560,  34.3238,2,   -999.0,9,  34.3239,2,     22.9,2,   130.87,2,  -999.00,9,    43.53,2,     0.00,2,     3.18,2,    0.565,2,    0.183,2,  -999.00,9,   -999.0,9,   -999.0,9,-999.0000,9,   -999.0,  9,     7.50,2,   -999.0,  -999.00,9,  -999.00,9,  -999.00,9,  -999.00,9,   -999.0,-999.0000, -999,9,  694,   2.9105,  27.3534,   -999.0,9
       RF01-06,  165E,RF-1395,  1,      7,02-15821,2,20010709,2034, 48.0160, 165.0107, 5828,    803.4,   2.8454,  34.3647,2,   -999.0,9,  34.3636,2,     25.3,2,   133.99,2,  -999.00,9,    43.32,2,     0.00,2,     3.14,2,    0.427,2,    0.141,2,  -999.00,9,   -999.0,9,   -999.0,9,-999.0000,9,   -999.0,  9,  -999.00,9,   -999.0,  -999.00,9,  -999.00,9,  -999.00,9,  -999.00,9,   -999.0,-999.0000, -999,9,  795,   2.7933,  27.3965,   -999.0,9
       RF01-06,  165E,RF-1395,  1,      6,02-13588,2,20010709,2032, 48.0160, 165.0107, 5828,    902.3,   2.6889,  34.3966,2,   -999.0,9,-999.0000,9,     20.9,2,   140.41,2,  -999.00,9,    43.75,2,     0.00,2,     3.17,2,    0.322,2,    0.123,2,  -999.00,9,   -999.0,9,   -999.0,9,-999.0000,9,   -999.0,  9,  -999.00,9,   -999.0,  -999.00,9,  -999.00,9,  -999.00,9,  -999.00,9,   -999.0,-999.0000, -999,9,  893,   2.6307,  27.4362,   -999.0,9
       RF01-06,  165E,RF-1395,  1,      5,02-10155,2,20010709,2029, 48.0160, 165.0107, 5828,   1004.1,   2.5656,  34.4321,2,   -999.0,9,  34.4276,2,     23.3,2,   143.50,2,  -999.00,9,    43.70,2,     0.00,2,     3.16,2,    0.190,2,    0.079,2,  -999.00,9,   -999.0,9,   -999.0,9,-999.0000,9,   -999.0,  9,     7.50,2,   -999.0,  -999.00,9,  -999.00,9,  -999.00,9,  -999.00,9,   -999.0,-999.0000, -999,9,  993,   2.5009,  27.4757,   -999.0,9
       RF01-06,  165E,RF-1395,  1,      4,02-13579,2,20010709,2024, 48.0160, 165.0107, 5828,   1258.2,   2.2910,  34.4989,2,   -999.0,9,  34.4941,2,     33.4,2,   150.13,2,  -999.00,9,    43.21,2,     0.00,2,     3.09,2,    0.163,2,    0.068,2,  -999.00,9,   -999.0,9,   -999.0,9,-999.0000,9,   -999.0,  9,  -999.00,9,   -999.0,  -999.00,9,  -999.00,9,  -999.00,9,  -999.00,9,   -999.0,-999.0000, -999,9, 1244,   2.2100,  27.5533,   -999.0,9
       RF01-06,  165E,RF-1395,  1,      3,02-13590,2,20010709,2019, 48.0160, 165.0107, 5828,   1512.5,   2.0907,  34.5456,2,   -999.0,9,  34.5442,2,     48.3,2,   152.67,2,  -999.00,9,    42.41,2,     0.00,2,     3.04,2,    0.054,2,    0.058,2,  -999.00,9,   -999.0,9,   -999.0,9,-999.0000,9,   -999.0,  9,     7.55,2,   -999.0,  -999.00,9,  -999.00,9,  -999.00,9,  -999.00,9,   -999.0,-999.0000, -999,9, 1494,   1.9925,  27.6082,   -999.0,9
       RF01-06,  165E,RF-1395,  1,      2,02-13589,2,20010709,2013, 48.0160, 165.0107, 5828,   1763.1,   1.9431,  34.5833,2,   -999.0,9,  34.5792,2,     61.4,2,   153.79,2,  -999.00,9,    41.69,2,     0.00,2,     2.94,2,    0.017,2,    0.039,2,  -999.00,9,   -999.0,9,   -999.0,9,-999.0000,9,   -999.0,  9,     7.58,2,   -999.0,  -999.00,9,  -999.00,9,  -999.00,9,  -999.00,9,   -999.0,-999.0000, -999,9, 1741,   1.8270,  27.6513,   -999.0,9
       RF01-06,  165E,RF-1395,  1,      1,02-12807,2,20010709,2008, 48.0160, 165.0107, 5828,   2039.1,   1.7926,  34.6160,2,   -999.0,9,  34.6101,2,     77.9,2,   153.93,2,  -999.00,9,    40.65,2,     0.00,2,     2.85,2,    0.000,2,    0.023,2,  -999.00,9,   -999.0,9,   -999.0,9,-999.0000,9,   -999.0,  9,     7.61,2,   -999.0,  -999.00,9,  -999.00,9,  -999.00,9,  -999.00,9,   -999.0,-999.0000, -999,9, 2012,   1.6562,  27.6905,   -999.0,9