BOTTLE,20130510GEMDJMAYT
EXPOCODE,SECT_ID,STNNBR,CASTNO,SAMPNO,BTLNBR,BTLNBR_FLAG_W,DATE,TIME,LATITUDE,LONGITUDE,DEPTH,CTDPRS,CTDTMP,CTDSAL,CTDSAL_FLAG_W,CTDOXY,CTDOXY_FLAG_W,SALNTY,SALNTY_FLAG_W,OXYGEN,OXYGEN_FLAG_W,SILCAT,SILCAT_FLAG_W,NITRAT,NITRAT_FLAG_W,NO2+NO3,NO2+NO3_FLAG_W,NITRIT,NITRIT_FLAG_W,PHSPHT,PHSPHT_FLAG_W,CFC-11,CFC-11_FLAG_W,CFC-12,CFC-12_FLAG_W,DELC13,DELC13_FLAG_W,TCARBN,TCARBN_FLAG_W,ALKALI,ALKALI_FLAG_W,PH,PH_FLAG_W,PH_TMP,PH_SCALE,PH_NBS,PH_NBS_FLAG_W,C13ERR,TOTALP,TOTALP_FLAG_W,AMMONI,AMMONI_FLAG_W,CHLORA,CHLORA_FLAG_W,PPHYTN,PPHYTN_FLAG_W,REVPRS,REVTMP,DEPTH_,DEPTH_FLAG,CTDDEP,THETA,SIGTHT,DOC,DOC_FLAG_W
,,,,,,,GMT,GMT,,,METER,DBAR,ITS-90,PSS-78,,UMOL/KG,,PSS-78,,UMOL/KG,,UMOL/KG,,UMOL/KG,,UMOL/KG,,UMOL/KG,,UMOL/KG,,PMOL/KG,,PMOL/KG,,/MILLE,,UMOL/KG,,UMOL/KG,,25_DEG_C,,DEG_C,,,,/MILLE,UMOL/KG,,UMOL/KG,,UG/L,,UG/L,,DBAR,ITS-90,METERS,,METERS,DEG_C,,UMOL/L,
       RF01-06,  142E,RF-1359,  1,     -9,      -9,5,20010621,0733, 33.5068, 141.5048, 5759,      0.0,  23.8118,  34.3942,2,   -999.0,9,-999.0000,9,    215.0,2,     1.45,2,  -999.00,9,     0.05,2,     0.00,2,     0.02,2, -999.000,9, -999.000,9,  -999.00,9,   -999.0,9,   -999.0,9,-999.0000,9,   -999.0,  9,  -999.00,9,   -999.0,  -999.00,9,  -999.00,9,     0.16,2,     0.03,2,   -999.0,-999.0000, -999,9,    0,  23.8118,  23.2382,   -999.0,9
       RF01-06,  142E,RF-1359,  1,     22,02-12828,2,20010621,0731, 33.5068, 141.5048, 5759,      7.7,  23.8055,  34.4206,2,   -999.0,9,-999.0000,9,    215.2,2,     1.45,2,  -999.00,9,     0.00,2,     0.00,2,     0.00,2, -999.000,9, -999.000,9,  -999.00,9,   -999.0,9,   -999.0,9,-999.0000,9,   -999.0,  9,  -999.00,9,   -999.0,  -999.00,9,  -999.00,9,     0.14,2,     0.04,2,   -999.0,-999.0000, -999,9,    8,  23.8039,  23.2606,   -999.0,9
       RF01-06,  142E,RF-1359,  1,     21, 02-9150,2,20010621,0730, 33.5068, 141.5048, 5759,     22.4,  23.6971,  34.4661,2,   -999.0,9,-999.0000,9,    215.4,2,     1.38,2,  -999.00,9,     0.00,2,     0.00,2,     0.00,2, -999.000,9, -999.000,9,  -999.00,9,   -999.0,9,   -999.0,9,-999.0000,9,   -999.0,  9,  -999.00,9,   -999.0,  -999.00,9,  -999.00,9,     0.19,2,     0.05,2,   -999.0,-999.0000, -999,9,   22,  23.6924,  23.3277,   -999.0,9
       RF01-06,  142E,RF-1359,  1,     20,02-12826,2,20010621,0728, 33.5068, 141.5048, 5759,     48.1,  21.3226,  34.6610,2,   -999.0,9,-999.0000,9,    226.7,2,     1.59,2,  -999.00,9,     0.00,2,     0.00,2,     0.00,2, -999.000,9, -999.000,9,  -999.00,9,   -999.0,9,   -999.0,9,-999.0000,9,   -999.0,  9,  -999.00,9,   -999.0,  -999.00,9,  -999.00,9,     0.23,2,     0.08,2,   -999.0,-999.0000, -999,9,   48,  21.3134,  24.1503,   -999.0,9
       RF01-06,  142E,RF-1359,  1,     19,02-12825,2,20010621,0727, 33.5068, 141.5048, 5759,     71.8,  20.1968,  34.7098,2,   -999.0,9,-999.0000,9,    227.4,2,     1.58,2,  -999.00,9,     0.00,2,     0.00,2,     0.00,2, -999.000,9, -999.000,9,  -999.00,9,   -999.0,9,   -999.0,9,-999.0000,9,   -999.0,  9,  -999.00,9,   -999.0,  -999.00,9,  -999.00,9,     0.31,2,     0.22,2,   -999.0,-999.0000, -999,9,   71,  20.1835,  24.4920,   -999.0,9
       RF01-06,  142E,RF-1359,  1,     18,02-12830,2,20010621,0725, 33.5068, 141.5048, 5759,     98.8,  19.4506,  34.7356,2,   -999.0,9,  34.7579,4,    214.2,2,     1.96,2,  -999.00,9,     1.47,2,     0.10,2,     0.07,2, -999.000,9, -999.000,9,  -999.00,9,   -999.0,9,   -999.0,9,-999.0000,9,   -999.0,  9,  -999.00,9,   -999.0,  -999.00,9,  -999.00,9,     0.21,2,     0.23,2,   -999.0,-999.0000, -999,9,   98,  19.4327,  24.7080,   -999.0,9
       RF01-06,  142E,RF-1359,  1,     17,02-12815,2,20010621,0724, 33.5068, 141.5048, 5759,    124.0,  19.0671,  34.7536,2,   -999.0,9,-999.0000,9,    213.6,2,     2.01,2,  -999.00,9,     1.83,2,     0.02,2,     0.09,2, -999.000,9, -999.000,9,  -999.00,9,   -999.0,9,   -999.0,9,-999.0000,9,   -999.0,  9,  -999.00,9,   -999.0,  -999.00,9,  -999.00,9,     0.08,2,     0.08,2,   -999.0,-999.0000, -999,9,  123,  19.0450,  24.8214,   -999.0,9
       RF01-06,  142E,RF-1359,  1,     16,02-12818,2,20010621,0723, 33.5068, 141.5048, 5759,    148.3,  18.7192,  34.7565,2,   -999.0,9,-999.0000,9,    214.7,2,     2.10,2,  -999.00,9,     2.14,2,     0.01,2,     0.10,2, -999.000,9, -999.000,9,  -999.00,9,   -999.0,9,   -999.0,9,-999.0000,9,   -999.0,  9,  -999.00,9,   -999.0,  -999.00,9,  -999.00,9,     0.03,2,     0.04,2,   -999.0,-999.0000, -999,9,  147,  18.6931,  24.9129,   -999.0,9
       RF01-06,  142E,RF-1359,  1,     15,02-12809,2,20010621,0721, 33.5068, 141.5048, 5759,    197.2,  18.0734,  34.7471,2,   -999.0,9,  34.7640,2,    212.6,2,     2.70,2,  -999.00,9,     3.07,2,     0.00,2,     0.15,2, -999.000,9, -999.000,9,  -999.00,9,   -999.0,9,   -999.0,9,-999.0000,9,   -999.0,  9,  -999.00,9,   -999.0,  -999.00,9,  -999.00,9,     0.01,2,     0.02,2,   -999.0,-999.0000, -999,9,  196,  18.0394,  25.0686,   -999.0,9
       RF01-06,  142E,RF-1359,  1,     14,02-12817,2,20010621,0719, 33.5068, 141.5048, 5759,    247.5,  17.6271,  34.7351,2,   -999.0,9,-999.0000,9,    215.0,2,     3.06,2,  -999.00,9,     3.60,2,     0.00,2,     0.19,2, -999.000,9, -999.000,9,  -999.00,9,   -999.0,9,   -999.0,9,-999.0000,9,   -999.0,  9,  -999.00,9,   -999.0,  -999.00,9,  -999.00,9,  -999.00,9,  -999.00,9,   -999.0,-999.0000, -999,9,  246,  17.5852,  25.1705,   -999.0,9
       RF01-06,  142E,RF-1359,  1,     13,02-15822,2,20010621,0717, 33.5068, 141.5048, 5759,    299.4,  17.2550,  34.7214,2,   -999.0,9,  34.7371,2,    217.2,2,     3.34,2,  -999.00,9,     3.96,2,     0.00,2,     0.20,2, -999.000,9, -999.000,9,  -999.00,9,   -999.0,9,   -999.0,9,-999.0000,9,   -999.0,  9,  -999.00,9,   -999.0,  -999.00,9,  -999.00,9,  -999.00,9,  -999.00,9,   -999.0,-999.0000, -999,9,  297,  17.2051,  25.2516,   -999.0,9
       RF01-06,  142E,RF-1359,  1,     12,02-12821,2,20010621,0715, 33.5068, 141.5048, 5759,    400.1,  16.0165,  34.6678,2,   -999.0,9,  34.6875,4,    193.6,2,     7.18,2,  -999.00,9,     8.14,2,     0.00,2,     0.46,2, -999.000,9, -999.000,9,  -999.00,9,   -999.0,9,   -999.0,9,-999.0000,9,   -999.0,  9,  -999.00,9,   -999.0,  -999.00,9,  -999.00,9,  -999.00,9,  -999.00,9,   -999.0,-999.0000, -999,9,  397,  15.9529,  25.5028,   -999.0,9
       RF01-06,  142E,RF-1359,  1,     11,02-15823,2,20010621,0712, 33.5068, 141.5048, 5759,    500.5,  13.2580,  34.4907,2,   -999.0,9,  34.4919,2,    184.3,2,    15.08,2,  -999.00,9,    13.50,2,     0.00,2,     0.82,2, -999.000,9, -999.000,9,  -999.00,9,   -999.0,9,   -999.0,9,-999.0000,9,   -999.0,  9,  -999.00,9,   -999.0,  -999.00,9,  -999.00,9,  -999.00,9,  -999.00,9,   -999.0,-999.0000, -999,9,  496,  13.1879,  25.9606,   -999.0,9
       RF01-06,  142E,RF-1359,  1,     10,02-12820,2,20010621,0709, 33.5068, 141.5048, 5759,    601.5,  10.2638,  34.2572,2,   -999.0,9,  34.2779,4,    167.4,2,    29.09,2,  -999.00,9,    20.10,2,     0.00,2,     1.31,2, -999.000,9, -999.000,9,  -999.00,9,   -999.0,9,   -999.0,9,-999.0000,9,   -999.0,  9,  -999.00,9,   -999.0,  -999.00,9,  -999.00,9,  -999.00,9,  -999.00,9,   -999.0,-999.0000, -999,9,  596,  10.1921,  26.3391,   -999.0,9
       RF01-06,  142E,RF-1359,  1,      9,02-12810,2,20010621,0707, 33.5068, 141.5048, 5759,    701.4,   7.3211,  34.0736,2,   -999.0,9,  34.0730,2,    157.3,2,    44.95,2,  -999.00,9,    26.12,2,     0.00,2,     1.79,2, -999.000,9, -999.000,9,  -999.00,9,   -999.0,9,   -999.0,9,-999.0000,9,   -999.0,  9,  -999.00,9,   -999.0,  -999.00,9,  -999.00,9,  -999.00,9,  -999.00,9,   -999.0,-999.0000, -999,9,  695,   7.2524,  26.6540,   -999.0,9
       RF01-06,  142E,RF-1359,  1,      8,02-12819,2,20010621,0704, 33.5068, 141.5048, 5759,    803.0,   6.3076,  34.2056,2,   -999.0,9,  34.1988,2,    103.3,2,    68.19,2,  -999.00,9,    32.72,2,     0.00,2,     2.28,2, -999.000,9, -999.000,9,  -999.00,9,   -999.0,9,   -999.0,9,-999.0000,9,   -999.0,  9,  -999.00,9,   -999.0,  -999.00,9,  -999.00,9,  -999.00,9,  -999.00,9,   -999.0,-999.0000, -999,9,  796,   6.2342,  26.8950,   -999.0,9
       RF01-06,  142E,RF-1359,  1,      7,02-15821,2,20010621,0701, 33.5068, 141.5048, 5759,    904.5,   5.1786,  34.2338,2,   -999.0,9,-999.0000,9,     81.5,2,    84.71,2,  -999.00,9,    36.38,2,     0.00,2,     2.57,2, -999.000,9, -999.000,9,  -999.00,9,   -999.0,9,   -999.0,9,-999.0000,9,   -999.0,  9,  -999.00,9,   -999.0,  -999.00,9,  -999.00,9,  -999.00,9,  -999.00,9,   -999.0,-999.0000, -999,9,  896,   5.1030,  27.0559,   -999.0,9
       RF01-06,  142E,RF-1359,  1,      5,02-10155,2,20010621,0658, 33.5068, 141.5048, 5759,   1005.4,   4.7649,  34.3316,2,   -999.0,9,-999.0000,9,   -999.0,9,  -999.00,9,  -999.00,9,  -999.00,9,  -999.00,9,  -999.00,9, -999.000,9, -999.000,9,  -999.00,9,   -999.0,9,   -999.0,9,-999.0000,9,   -999.0,  9,  -999.00,9,   -999.0,  -999.00,9,  -999.00,9,  -999.00,9,  -999.00,9,   -999.0,-999.0000, -999,9,  996,   4.6831,  27.1812,   -999.0,9
       RF01-06,  142E,RF-1359,  1,      6,02-13588,2,20010621,0659, 33.5068, 141.5048, 5759,   1006.5,   4.7574,  34.3324,2,   -999.0,9,  34.3278,2,     73.1,2,    94.51,2,  -999.00,9,    37.54,2,     0.00,2,     2.66,2, -999.000,9, -999.000,9,  -999.00,9,   -999.0,9,   -999.0,9,-999.0000,9,   -999.0,  9,  -999.00,9,   -999.0,  -999.00,9,  -999.00,9,  -999.00,9,  -999.00,9,   -999.0,-999.0000, -999,9,  997,   4.6756,  27.1826,   -999.0,9
       RF01-06,  142E,RF-1359,  1,      4,02-13579,2,20010621,0653, 33.5068, 141.5048, 5759,   1259.5,   3.5085,  34.4178,2,   -999.0,9,  34.4174,2,     63.9,2,   116.91,2,  -999.00,9,    40.02,2,     0.00,2,     2.84,2, -999.000,9, -999.000,9,  -999.00,9,   -999.0,9,   -999.0,9,-999.0000,9,   -999.0,  9,  -999.00,9,   -999.0,  -999.00,9,  -999.00,9,  -999.00,9,  -999.00,9,   -999.0,-999.0000, -999,9, 1247,   3.4157,  27.3814,   -999.0,9
       RF01-06,  142E,RF-1359,  1,      3,02-13590,2,20010621,0648, 33.5068, 141.5048, 5759,   1511.4,   2.6529,  34.4903,2,   -999.0,9,  34.4902,2,     55.8,2,   134.27,2,  -999.00,9,    41.58,2,     0.00,2,     2.95,2, -999.000,9, -999.000,9,  -999.00,9,   -999.0,9,   -999.0,9,-999.0000,9,   -999.0,  9,  -999.00,9,   -999.0,  -999.00,9,  -999.00,9,  -999.00,9,  -999.00,9,   -999.0,-999.0000, -999,9, 1495,   2.5483,  27.5182,   -999.0,9
       RF01-06,  142E,RF-1359,  1,      2,02-13589,2,20010621,0643, 33.5068, 141.5048, 5759,   1766.9,   2.2872,  34.5490,2,   -999.0,9,  34.5433,2,     64.0,2,   141.51,2,  -999.00,9,    41.42,2,     0.00,2,     2.92,2, -999.000,9, -999.000,9,  -999.00,9,   -999.0,9,   -999.0,9,-999.0000,9,   -999.0,  9,  -999.00,9,   -999.0,  -999.00,9,  -999.00,9,  -999.00,9,  -999.00,9,   -999.0,-999.0000, -999,9, 1747,   2.1663,  27.5970,   -999.0,9
       RF01-06,  142E,RF-1359,  1,      1,02-12807,2,20010621,0638, 33.5068, 141.5048, 5759,   2052.8,   1.9798,  34.5925,2,   -999.0,9,  34.5916,2,     80.0,2,   145.10,2,  -999.00,9,    40.66,2,     0.00,2,     2.85,2, -999.000,9, -999.000,9,  -999.00,9,   -999.0,9,   -999.0,9,-999.0000,9,   -999.0,  9,  -999.00,9,   -999.0,  -999.00,9,  -999.00,9,  -999.00,9,  -999.00,9,   -999.0,-999.0000, -999,9, 2028,   1.8394,  27.6577,   -999.0,9