BOTTLE,20130510GEMDJMAYT
EXPOCODE,SECT_ID,STNNBR,CASTNO,SAMPNO,BTLNBR,BTLNBR_FLAG_W,DATE,TIME,LATITUDE,LONGITUDE,DEPTH,CTDPRS,CTDTMP,CTDSAL,CTDSAL_FLAG_W,CTDOXY,CTDOXY_FLAG_W,SALNTY,SALNTY_FLAG_W,OXYGEN,OXYGEN_FLAG_W,SILCAT,SILCAT_FLAG_W,NITRAT,NITRAT_FLAG_W,NO2+NO3,NO2+NO3_FLAG_W,NITRIT,NITRIT_FLAG_W,PHSPHT,PHSPHT_FLAG_W,CFC-11,CFC-11_FLAG_W,CFC-12,CFC-12_FLAG_W,DELC13,DELC13_FLAG_W,TCARBN,TCARBN_FLAG_W,ALKALI,ALKALI_FLAG_W,PH,PH_FLAG_W,PH_TMP,PH_SCALE,PH_NBS,PH_NBS_FLAG_W,C13ERR,TOTALP,TOTALP_FLAG_W,AMMONI,AMMONI_FLAG_W,CHLORA,CHLORA_FLAG_W,PPHYTN,PPHYTN_FLAG_W,REVPRS,REVTMP,DEPTH_,DEPTH_FLAG,CTDDEP,THETA,SIGTHT,DOC,DOC_FLAG_W
,,,,,,,GMT,GMT,,,METER,DBAR,ITS-90,PSS-78,,UMOL/KG,,PSS-78,,UMOL/KG,,UMOL/KG,,UMOL/KG,,UMOL/KG,,UMOL/KG,,UMOL/KG,,PMOL/KG,,PMOL/KG,,/MILLE,,UMOL/KG,,UMOL/KG,,25_DEG_C,,DEG_C,,,,/MILLE,UMOL/KG,,UMOL/KG,,UG/L,,UG/L,,DBAR,ITS-90,METERS,,METERS,DEG_C,,UMOL/L,
       RF01-06,  165E,RF-1408,  1,     -9,      -9,5,20010713,1107, 35.0113, 164.9907, 5899,      0.0,  23.9915,  34.6344,2,   -999.0,9,-999.0000,9,    214.9,2,     1.78,2,  -999.00,9,     0.00,2,     0.00,2,     0.02,2,    2.002,2,    1.170,2,  -999.00,9,   -999.0,9,   -999.0,9,-999.0000,9,   -999.0,  9,  -999.00,9,   -999.0,  -999.00,9,  -999.00,9,  -999.00,9,  -999.00,9,   -999.0,-999.0000, -999,9,    0,  23.9915,  23.3672,   -999.0,9
       RF01-06,  165E,RF-1408,  1,     21, 02-9150,2,20010713,1105, 35.0113, 164.9907, 5899,      7.0,  23.9668,  34.6276,2,   -999.0,9,-999.0000,9,    217.0,2,     1.69,2,  -999.00,9,     0.00,2,     0.00,2,     0.00,2,    2.005,2,    1.171,2,  -999.00,9,   -999.0,9,   -999.0,9,-999.0000,9,   -999.0,  9,  -999.00,9,   -999.0,  -999.00,9,  -999.00,9,  -999.00,9,  -999.00,9,   -999.0,-999.0000, -999,9,    7,  23.9653,  23.3697,   -999.0,9
       RF01-06,  165E,RF-1408,  1,     20,02-12826,2,20010713,1104, 35.0113, 164.9907, 5899,     21.9,  22.6528,  34.5732,2,   -999.0,9,-999.0000,9,    222.6,2,     1.64,2,  -999.00,9,     0.00,2,     0.00,2,     0.00,2,    2.120,2,    1.230,2,  -999.00,9,   -999.0,9,   -999.0,9,-999.0000,9,   -999.0,  9,  -999.00,9,   -999.0,  -999.00,9,  -999.00,9,  -999.00,9,  -999.00,9,   -999.0,-999.0000, -999,9,   22,  22.6484,  23.7106,   -999.0,9
       RF01-06,  165E,RF-1408,  1,     19,02-12825,2,20010713,1103, 35.0113, 164.9907, 5899,     46.8,  19.2850,  34.6699,2,   -999.0,9,-999.0000,9,    229.2,2,     2.72,2,  -999.00,9,     0.22,2,     0.03,2,     0.04,2,    2.455,2,    1.399,2,  -999.00,9,   -999.0,9,   -999.0,9,-999.0000,9,   -999.0,  9,  -999.00,9,   -999.0,  -999.00,9,  -999.00,9,  -999.00,9,  -999.00,9,   -999.0,-999.0000, -999,9,   46,  19.2766,  24.6981,   -999.0,9
       RF01-06,  165E,RF-1408,  1,     18,02-12830,2,20010713,1102, 35.0113, 164.9907, 5899,     72.3,  18.1142,  34.6913,2,   -999.0,9,-999.0000,9,    207.1,2,     4.28,2,  -999.00,9,     3.68,2,     0.14,2,     0.21,2,    2.620,2,    1.467,2,  -999.00,9,   -999.0,9,   -999.0,9,-999.0000,9,   -999.0,  9,  -999.00,9,   -999.0,  -999.00,9,  -999.00,9,  -999.00,9,  -999.00,9,   -999.0,-999.0000, -999,9,   72,  18.1018,  25.0105,   -999.0,9
       RF01-06,  165E,RF-1408,  1,     17,02-12815,2,20010713,1100, 35.0113, 164.9907, 5899,     97.7,  17.3020,  34.6762,2,   -999.0,9,  34.6983,4,    212.9,2,     4.48,2,  -999.00,9,     4.11,2,     0.03,2,     0.23,2,    2.722,2,    1.517,2,  -999.00,9,   -999.0,9,   -999.0,9,-999.0000,9,   -999.0,  9,  -999.00,9,   -999.0,  -999.00,9,  -999.00,9,  -999.00,9,  -999.00,9,   -999.0,-999.0000, -999,9,   97,  17.2857,  25.1976,   -999.0,9
       RF01-06,  165E,RF-1408,  1,     16,02-12818,2,20010713,1059, 35.0113, 164.9907, 5899,    122.6,  17.0660,  34.6796,2,   -999.0,9,-999.0000,9,    223.3,2,     3.84,2,  -999.00,9,     3.35,2,     0.01,2,     0.19,2,    2.738,2,    1.532,2,  -999.00,9,   -999.0,9,   -999.0,9,-999.0000,9,   -999.0,  9,  -999.00,9,   -999.0,  -999.00,9,  -999.00,9,  -999.00,9,  -999.00,9,   -999.0,-999.0000, -999,9,  122,  17.0458,  25.2575,   -999.0,9
       RF01-06,  165E,RF-1408,  1,     15,02-12809,2,20010713,1058, 35.0113, 164.9907, 5899,    147.2,  16.8851,  34.6920,2,   -999.0,9,-999.0000,9,    209.9,2,     5.27,2,  -999.00,9,     4.98,2,     0.01,2,     0.27,2,    2.793,2,    1.544,2,  -999.00,9,   -999.0,9,   -999.0,9,-999.0000,9,   -999.0,  9,  -999.00,9,   -999.0,  -999.00,9,  -999.00,9,  -999.00,9,  -999.00,9,   -999.0,-999.0000, -999,9,  146,  16.8610,  25.3108,   -999.0,9
       RF01-06,  165E,RF-1408,  1,     14,02-12817,2,20010713,1056, 35.0113, 164.9907, 5899,    197.7,  15.9413,  34.6503,2,   -999.0,9,  34.6638,4,    200.0,2,     7.99,2,  -999.00,9,     7.43,2,     0.00,2,     0.43,2,    2.924,2,    1.608,2,  -999.00,9,   -999.0,9,   -999.0,9,-999.0000,9,   -999.0,  9,  -999.00,9,   -999.0,  -999.00,9,  -999.00,9,  -999.00,9,  -999.00,9,   -999.0,-999.0000, -999,9,  196,  15.9102,  25.4991,   -999.0,9
       RF01-06,  165E,RF-1408,  1,     13,02-15822,2,20010713,1055, 35.0113, 164.9907, 5899,    248.6,  14.9069,  34.5876,2,   -999.0,9,-999.0000,9,    201.2,2,    10.52,2,  -999.00,9,     9.02,2,     0.00,2,     0.56,2,    3.107,2,    1.683,2,  -999.00,9,   -999.0,9,   -999.0,9,-999.0000,9,   -999.0,  9,  -999.00,9,   -999.0,  -999.00,9,  -999.00,9,  -999.00,9,  -999.00,9,   -999.0,-999.0000, -999,9,  247,  14.8695,  25.6825,   -999.0,9
       RF01-06,  165E,RF-1408,  1,     12,02-12821,2,20010713,1053, 35.0113, 164.9907, 5899,    297.0,  14.0572,  34.5054,2,   -999.0,9,  34.5259,4,    217.0,2,    10.14,2,  -999.00,9,     8.70,2,     0.00,2,     0.54,2,    3.214,2,    1.748,2,  -999.00,9,   -999.0,9,   -999.0,9,-999.0000,9,   -999.0,  9,  -999.00,9,   -999.0,  -999.00,9,  -999.00,9,  -999.00,9,  -999.00,9,   -999.0,-999.0000, -999,9,  295,  14.0142,  25.8019,   -999.0,9
       RF01-06,  165E,RF-1408,  1,     11,02-15823,2,20010713,1051, 35.0113, 164.9907, 5899,    398.4,  11.9177,  34.3892,2,   -999.0,9,  34.3789,2,    210.2,2,    17.30,2,  -999.00,9,    13.06,2,     0.00,2,     0.82,2,    3.645,2,    1.928,2,  -999.00,9,   -999.0,9,   -999.0,9,-999.0000,9,   -999.0,  9,  -999.00,9,   -999.0,  -999.00,9,  -999.00,9,  -999.00,9,  -999.00,9,   -999.0,-999.0000, -999,9,  395,  11.8659,  26.1401,   -999.0,9
       RF01-06,  165E,RF-1408,  1,     10,02-12820,2,20010713,1048, 35.0113, 164.9907, 5899,    500.7,   9.3366,  34.1517,2,   -999.0,9,  34.1595,4,    205.6,2,    27.37,2,  -999.00,9,    18.08,2,     0.00,2,     1.20,2,    4.211,2,    2.166,2,  -999.00,9,   -999.0,9,   -999.0,9,-999.0000,9,   -999.0,  9,  -999.00,9,   -999.0,  -999.00,9,  -999.00,9,  -999.00,9,  -999.00,9,   -999.0,-999.0000, -999,9,  496,   9.2806,  26.4088,   -999.0,9
       RF01-06,  165E,RF-1408,  1,      9,02-12810,2,20010713,1045, 35.0113, 164.9907, 5899,    601.5,   7.0213,  34.0109,2,   -999.0,9,  34.0170,2,    165.9,2,    45.62,2,  -999.00,9,    25.89,2,     0.00,2,     1.79,2,    4.840,2,    2.422,2,  -999.00,9,   -999.0,9,   -999.0,9,-999.0000,9,   -999.0,  9,  -999.00,9,   -999.0,  -999.00,9,  -999.00,9,  -999.00,9,  -999.00,9,   -999.0,-999.0000, -999,9,  596,   6.9641,  26.6446,   -999.0,9
       RF01-06,  165E,RF-1408,  1,      8,02-12819,2,20010713,1042, 35.0113, 164.9907, 5899,    702.5,   5.5757,  34.0469,2,   -999.0,9,  34.0492,2,    116.8,2,    67.87,2,  -999.00,9,    32.66,2,     0.00,2,     2.33,2,    3.455,2,    2.338,2,  -999.00,9,   -999.0,9,   -999.0,9,-999.0000,9,   -999.0,  9,  -999.00,9,   -999.0,  -999.00,9,  -999.00,9,  -999.00,9,  -999.00,9,   -999.0,-999.0000, -999,9,  696,   5.5161,  26.8591,   -999.0,9
       RF01-06,  165E,RF-1408,  1,      7,02-15821,2,20010713,1040, 35.0113, 164.9907, 5899,    802.7,   4.7542,  34.1042,2,   -999.0,9,  34.1069,2,     82.7,2,    84.26,2,  -999.00,9,    36.89,2,     0.00,2,     2.65,2,    2.353,2,    1.446,2,  -999.00,9,   -999.0,9,   -999.0,9,-999.0000,9,   -999.0,  9,  -999.00,9,   -999.0,  -999.00,9,  -999.00,9,  -999.00,9,  -999.00,9,   -999.0,-999.0000, -999,9,  795,   4.6905,  26.9999,   -999.0,9
       RF01-06,  165E,RF-1408,  1,      6,02-13588,2,20010713,1037, 35.0113, 164.9907, 5899,    903.2,   4.1681,  34.1937,2,   -999.0,9,-999.0000,9,     57.4,2,    99.29,2,  -999.00,9,    39.70,2,     0.00,2,     2.84,2,    1.038,2,    0.780,2,  -999.00,9,   -999.0,9,   -999.0,9,-999.0000,9,   -999.0,  9,  -999.00,9,   -999.0,  -999.00,9,  -999.00,9,  -999.00,9,  -999.00,9,   -999.0,-999.0000, -999,9,  895,   4.0997,  27.1344,   -999.0,9
       RF01-06,  165E,RF-1408,  1,      5,02-10155,2,20010713,1034, 35.0113, 164.9907, 5899,   1005.4,   3.7587,  34.2632,2,   -999.0,9,  34.2638,2,     43.2,2,   110.63,2,  -999.00,9,    40.99,2,     0.00,2,     2.95,2,    0.539,2,    0.434,2,  -999.00,9,   -999.0,9,   -999.0,9,-999.0000,9,   -999.0,  9,  -999.00,9,   -999.0,  -999.00,9,  -999.00,9,  -999.00,9,  -999.00,9,   -999.0,-999.0000, -999,9,  996,   3.6849,  27.2319,   -999.0,9
       RF01-06,  165E,RF-1408,  1,      4,02-13579,2,20010713,1029, 35.0113, 164.9907, 5899,   1257.6,   3.0288,  34.3940,2,   -999.0,9,  34.3952,2,     36.4,2,   129.83,2,  -999.00,9,    42.52,2,     0.00,2,     3.07,2,    0.216,2,    0.182,2,  -999.00,9,   -999.0,9,   -999.0,9,-999.0000,9,   -999.0,  9,  -999.00,9,   -999.0,  -999.00,9,  -999.00,9,  -999.00,9,  -999.00,9,   -999.0,-999.0000, -999,9, 1245,   2.9409,  27.4067,   -999.0,9
       RF01-06,  165E,RF-1408,  1,      3,02-13590,2,20010713,1024, 35.0113, 164.9907, 5899,   1510.6,   2.5686,  34.4773,2,   -999.0,9,  34.4776,2,     36.5,2,   140.99,2,  -999.00,9,    42.90,2,     0.00,2,     3.09,2,    0.000,2,    0.124,2,  -999.00,9,   -999.0,9,   -999.0,9,-999.0000,9,   -999.0,  9,  -999.00,9,   -999.0,  -999.00,9,  -999.00,9,  -999.00,9,  -999.00,9,   -999.0,-999.0000, -999,9, 1494,   2.4651,  27.5149,   -999.0,9
       RF01-06,  165E,RF-1408,  1,      2,02-13589,2,20010713,1019, 35.0113, 164.9907, 5899,   1766.1,   2.2451,  34.5410,2,   -999.0,9,  34.5409,2,     48.9,2,   147.37,2,  -999.00,9,    42.32,2,     0.00,2,     3.01,2,    0.000,2,    0.126,2,  -999.00,9,   -999.0,9,   -999.0,9,-999.0000,9,   -999.0,  9,  -999.00,9,   -999.0,  -999.00,9,  -999.00,9,  -999.00,9,  -999.00,9,   -999.0,-999.0000, -999,9, 1746,   2.1249,  27.5940,   -999.0,9
       RF01-06,  165E,RF-1408,  1,      1,02-12807,2,20010713,1014, 35.0113, 164.9907, 5899,   2030.0,   2.0028,  34.5835,2,   -999.0,9,  34.5816,2,     68.3,2,   150.23,2,  -999.00,9,    41.46,2,     0.00,2,     2.94,2,    0.000,2,    0.082,2,  -999.00,9,   -999.0,9,   -999.0,9,-999.0000,9,   -999.0,  9,  -999.00,9,   -999.0,  -999.00,9,  -999.00,9,  -999.00,9,  -999.00,9,   -999.0,-999.0000, -999,9, 2006,   1.8640,  27.6487,   -999.0,9