BOTTLE,20130510GEMDJMAYT
EXPOCODE,SECT_ID,STNNBR,CASTNO,SAMPNO,BTLNBR,BTLNBR_FLAG_W,DATE,TIME,LATITUDE,LONGITUDE,DEPTH,CTDPRS,CTDTMP,CTDSAL,CTDSAL_FLAG_W,CTDOXY,CTDOXY_FLAG_W,SALNTY,SALNTY_FLAG_W,OXYGEN,OXYGEN_FLAG_W,SILCAT,SILCAT_FLAG_W,NITRAT,NITRAT_FLAG_W,NO2+NO3,NO2+NO3_FLAG_W,NITRIT,NITRIT_FLAG_W,PHSPHT,PHSPHT_FLAG_W,CFC-11,CFC-11_FLAG_W,CFC-12,CFC-12_FLAG_W,DELC13,DELC13_FLAG_W,TCARBN,TCARBN_FLAG_W,ALKALI,ALKALI_FLAG_W,PH,PH_FLAG_W,PH_TMP,PH_SCALE,PH_NBS,PH_NBS_FLAG_W,C13ERR,TOTALP,TOTALP_FLAG_W,AMMONI,AMMONI_FLAG_W,CHLORA,CHLORA_FLAG_W,PPHYTN,PPHYTN_FLAG_W,REVPRS,REVTMP,DEPTH_,DEPTH_FLAG,CTDDEP,THETA,SIGTHT,DOC,DOC_FLAG_W
,,,,,,,GMT,GMT,,,METER,DBAR,ITS-90,PSS-78,,UMOL/KG,,PSS-78,,UMOL/KG,,UMOL/KG,,UMOL/KG,,UMOL/KG,,UMOL/KG,,UMOL/KG,,PMOL/KG,,PMOL/KG,,/MILLE,,UMOL/KG,,UMOL/KG,,25_DEG_C,,DEG_C,,,,/MILLE,UMOL/KG,,UMOL/KG,,UG/L,,UG/L,,DBAR,ITS-90,METERS,,METERS,DEG_C,,UMOL/L,
       RF01-06,  NONE,RF-1385,  1,     -9,      -9,5,20010626,1520, 38.0285, 152.0037, 5822,      0.0,  22.4010,  34.4322,2,   -999.0,9,-999.0000,9,    223.3,2,  -999.00,9,  -999.00,9,  -999.00,9,  -999.00,9,  -999.00,9, -999.000,9, -999.000,9,  -999.00,9,   -999.0,9,   -999.0,9,-999.0000,9,   -999.0,  9,  -999.00,9,   -999.0,  -999.00,9,  -999.00,9,  -999.00,9,  -999.00,9,   -999.0,-999.0000, -999,9,    0,  22.4010,  23.6737,   -999.0,9
       RF01-06,  NONE,RF-1385,  1,     21, 02-9150,2,20010626,1518, 38.0285, 152.0037, 5822,      7.5,  21.5258,  34.4303,2,   -999.0,9,-999.0000,9,    228.3,2,  -999.00,9,  -999.00,9,  -999.00,9,  -999.00,9,  -999.00,9, -999.000,9, -999.000,9,  -999.00,9,   -999.0,9,   -999.0,9,-999.0000,9,   -999.0,  9,  -999.00,9,   -999.0,  -999.00,9,  -999.00,9,  -999.00,9,  -999.00,9,   -999.0,-999.0000, -999,9,    7,  21.5244,  23.9169,   -999.0,9
       RF01-06,  NONE,RF-1385,  1,     20,02-12826,2,20010626,1517, 38.0285, 152.0037, 5822,     22.2,  20.0415,  34.4303,2,   -999.0,9,-999.0000,9,    232.9,2,  -999.00,9,  -999.00,9,  -999.00,9,  -999.00,9,  -999.00,9, -999.000,9, -999.000,9,  -999.00,9,   -999.0,9,   -999.0,9,-999.0000,9,   -999.0,  9,  -999.00,9,   -999.0,  -999.00,9,  -999.00,9,  -999.00,9,  -999.00,9,   -999.0,-999.0000, -999,9,   22,  20.0375,  24.3174,   -999.0,9
       RF01-06,  NONE,RF-1385,  1,     19,02-12825,2,20010626,1516, 38.0285, 152.0037, 5822,     47.4,  18.9172,  34.5509,2,   -999.0,9,-999.0000,9,    201.4,2,  -999.00,9,  -999.00,9,  -999.00,9,  -999.00,9,  -999.00,9, -999.000,9, -999.000,9,  -999.00,9,   -999.0,9,   -999.0,9,-999.0000,9,   -999.0,  9,  -999.00,9,   -999.0,  -999.00,9,  -999.00,9,  -999.00,9,  -999.00,9,   -999.0,-999.0000, -999,9,   47,  18.9088,  24.7011,   -999.0,9
       RF01-06,  NONE,RF-1385,  1,     18,02-12830,2,20010626,1515, 38.0285, 152.0037, 5822,     72.4,  16.2723,  34.4308,2,   -999.0,9,-999.0000,9,    202.7,2,  -999.00,9,  -999.00,9,  -999.00,9,  -999.00,9,  -999.00,9, -999.000,9, -999.000,9,  -999.00,9,   -999.0,9,   -999.0,9,-999.0000,9,   -999.0,  9,  -999.00,9,   -999.0,  -999.00,9,  -999.00,9,  -999.00,9,  -999.00,9,   -999.0,-999.0000, -999,9,   72,  16.2608,  25.2500,   -999.0,9
       RF01-06,  NONE,RF-1385,  1,     17,02-12815,2,20010626,1513, 38.0285, 152.0037, 5822,     98.0,  15.2026,  34.5671,2,   -999.0,9,  34.5918,4,    193.0,2,  -999.00,9,  -999.00,9,  -999.00,9,  -999.00,9,  -999.00,9, -999.000,9, -999.000,9,  -999.00,9,   -999.0,9,   -999.0,9,-999.0000,9,   -999.0,  9,  -999.00,9,   -999.0,  -999.00,9,  -999.00,9,  -999.00,9,  -999.00,9,   -999.0,-999.0000, -999,9,   97,  15.1877,  25.5969,   -999.0,9
       RF01-06,  NONE,RF-1385,  1,     16,02-12818,2,20010626,1512, 38.0285, 152.0037, 5822,    123.3,  14.2445,  34.5378,2,   -999.0,9,-999.0000,9,    177.7,2,  -999.00,9,  -999.00,9,  -999.00,9,  -999.00,9,  -999.00,9, -999.000,9, -999.000,9,  -999.00,9,   -999.0,9,   -999.0,9,-999.0000,9,   -999.0,  9,  -999.00,9,   -999.0,  -999.00,9,  -999.00,9,  -999.00,9,  -999.00,9,   -999.0,-999.0000, -999,9,  122,  14.2266,  25.7822,   -999.0,9
       RF01-06,  NONE,RF-1385,  1,     15,02-12809,2,20010626,1511, 38.0285, 152.0037, 5822,    147.6,  12.6792,  34.3534,2,   -999.0,9,-999.0000,9,    187.5,2,  -999.00,9,  -999.00,9,  -999.00,9,  -999.00,9,  -999.00,9, -999.000,9, -999.000,9,  -999.00,9,   -999.0,9,   -999.0,9,-999.0000,9,   -999.0,  9,  -999.00,9,   -999.0,  -999.00,9,  -999.00,9,  -999.00,9,  -999.00,9,   -999.0,-999.0000, -999,9,  146,  12.6594,  25.9594,   -999.0,9
       RF01-06,  NONE,RF-1385,  1,     14,02-12817,2,20010626,1509, 38.0285, 152.0037, 5822,    198.9,  10.2403,  34.2375,2,   -999.0,9,  34.2514,2,    183.2,2,  -999.00,9,  -999.00,9,  -999.00,9,  -999.00,9,  -999.00,9, -999.000,9, -999.000,9,  -999.00,9,   -999.0,9,   -999.0,9,-999.0000,9,   -999.0,  9,  -999.00,9,   -999.0,  -999.00,9,  -999.00,9,  -999.00,9,  -999.00,9,   -999.0,-999.0000, -999,9,  197,  10.2171,  26.3195,   -999.0,9
       RF01-06,  NONE,RF-1385,  1,     13,02-15822,2,20010626,1507, 38.0285, 152.0037, 5822,    249.5,   7.0091,  33.8048,2,   -999.0,9,-999.0000,9,    257.2,2,  -999.00,9,  -999.00,9,  -999.00,9,  -999.00,9,  -999.00,9, -999.000,9, -999.000,9,  -999.00,9,   -999.0,9,   -999.0,9,-999.0000,9,   -999.0,  9,  -999.00,9,   -999.0,  -999.00,9,  -999.00,9,  -999.00,9,  -999.00,9,   -999.0,-999.0000, -999,9,  248,   6.9861,  26.4792,   -999.0,9
       RF01-06,  NONE,RF-1385,  1,     12,02-12821,2,20010626,1505, 38.0285, 152.0037, 5822,    300.9,   6.1897,  33.7750,2,   -999.0,9,  33.7780,2,    244.2,2,  -999.00,9,  -999.00,9,  -999.00,9,  -999.00,9,  -999.00,9, -999.000,9, -999.000,9,  -999.00,9,   -999.0,9,   -999.0,9,-999.0000,9,   -999.0,  9,  -999.00,9,   -999.0,  -999.00,9,  -999.00,9,  -999.00,9,  -999.00,9,   -999.0,-999.0000, -999,9,  298,   6.1637,  26.5640,   -999.0,9
       RF01-06,  NONE,RF-1385,  1,     11,02-15823,2,20010626,1503, 38.0285, 152.0037, 5822,    401.5,   5.0620,  33.8407,2,   -999.0,9,  33.8441,2,    167.5,2,  -999.00,9,  -999.00,9,  -999.00,9,  -999.00,9,  -999.00,9, -999.000,9, -999.000,9,  -999.00,9,   -999.0,9,   -999.0,9,-999.0000,9,   -999.0,  9,  -999.00,9,   -999.0,  -999.00,9,  -999.00,9,  -999.00,9,  -999.00,9,   -999.0,-999.0000, -999,9,  398,   5.0305,  26.7527,   -999.0,9
       RF01-06,  NONE,RF-1385,  1,     10,02-12820,2,20010626,1500, 38.0285, 152.0037, 5822,    502.9,   4.6290,  34.0202,2,   -999.0,9,  34.0139,2,     99.2,2,  -999.00,9,  -999.00,9,  -999.00,9,  -999.00,9,  -999.00,9, -999.000,9, -999.000,9,  -999.00,9,   -999.0,9,   -999.0,9,-999.0000,9,   -999.0,  9,  -999.00,9,   -999.0,  -999.00,9,  -999.00,9,  -999.00,9,  -999.00,9,   -999.0,-999.0000, -999,9,  499,   4.5908,  26.9442,   -999.0,9
       RF01-06,  NONE,RF-1385,  1,      9,02-12810,2,20010626,1456, 38.0285, 152.0037, 5822,    604.3,   4.3229,  34.1372,2,   -999.0,9,  34.1381,2,     67.2,2,  -999.00,9,  -999.00,9,  -999.00,9,  -999.00,9,  -999.00,9, -999.000,9, -999.000,9,  -999.00,9,   -999.0,9,   -999.0,9,-999.0000,9,   -999.0,  9,  -999.00,9,   -999.0,  -999.00,9,  -999.00,9,  -999.00,9,  -999.00,9,   -999.0,-999.0000, -999,9,  599,   4.2778,  27.0708,   -999.0,9
       RF01-06,  NONE,RF-1385,  1,      8,02-12819,2,20010626,1453, 38.0285, 152.0037, 5822,    705.9,   4.0338,  34.2377,2,   -999.0,9,  34.2394,2,     54.2,2,  -999.00,9,  -999.00,9,  -999.00,9,  -999.00,9,  -999.00,9, -999.000,9, -999.000,9,  -999.00,9,   -999.0,9,   -999.0,9,-999.0000,9,   -999.0,  9,  -999.00,9,   -999.0,  -999.00,9,  -999.00,9,  -999.00,9,  -999.00,9,   -999.0,-999.0000, -999,9,  699,   3.9821,  27.1816,   -999.0,9
       RF01-06,  NONE,RF-1385,  1,      7,02-15821,2,20010626,1449, 38.0285, 152.0037, 5822,    810.8,   3.5601,  34.2955,2,   -999.0,9,  34.2930,2,     42.8,2,  -999.00,9,  -999.00,9,  -999.00,9,  -999.00,9,  -999.00,9, -999.000,9, -999.000,9,  -999.00,9,   -999.0,9,   -999.0,9,-999.0000,9,   -999.0,  9,  -999.00,9,   -999.0,  -999.00,9,  -999.00,9,  -999.00,9,  -999.00,9,   -999.0,-999.0000, -999,9,  803,   3.5030,  27.2755,   -999.0,9
       RF01-06,  NONE,RF-1385,  1,      6,02-13588,2,20010626,1446, 38.0285, 152.0037, 5822,    907.1,   3.3171,  34.3449,2,   -999.0,9,-999.0000,9,     39.3,2,  -999.00,9,  -999.00,9,  -999.00,9,  -999.00,9,  -999.00,9, -999.000,9, -999.000,9,  -999.00,9,   -999.0,9,   -999.0,9,-999.0000,9,   -999.0,  9,  -999.00,9,   -999.0,  -999.00,9,  -999.00,9,  -999.00,9,  -999.00,9,   -999.0,-999.0000, -999,9,  898,   3.2542,  27.3386,   -999.0,9
       RF01-06,  NONE,RF-1385,  1,      5,02-10155,2,20010626,1444, 38.0285, 152.0037, 5822,   1009.5,   3.0734,  34.3876,2,   -999.0,9,  34.3842,2,     38.3,2,  -999.00,9,  -999.00,9,  -999.00,9,  -999.00,9,  -999.00,9, -999.000,9, -999.000,9,  -999.00,9,   -999.0,9,   -999.0,9,-999.0000,9,   -999.0,  9,  -999.00,9,   -999.0,  -999.00,9,  -999.00,9,  -999.00,9,  -999.00,9,   -999.0,-999.0000, -999,9, 1000,   3.0044,  27.3958,   -999.0,9
       RF01-06,  NONE,RF-1385,  1,      4,02-13579,2,20010626,1438, 38.0285, 152.0037, 5822,   1260.3,   2.6374,  34.4667,2,   -999.0,9,  34.4624,2,     41.3,2,  -999.00,9,  -999.00,9,  -999.00,9,  -999.00,9,  -999.00,9, -999.000,9, -999.000,9,  -999.00,9,   -999.0,9,   -999.0,9,-999.0000,9,   -999.0,  9,  -999.00,9,   -999.0,  -999.00,9,  -999.00,9,  -999.00,9,  -999.00,9,   -999.0,-999.0000, -999,9, 1247,   2.5529,  27.4990,   -999.0,9
       RF01-06,  NONE,RF-1385,  1,      3,02-13590,2,20010626,1433, 38.0285, 152.0037, 5822,   1512.9,   2.2818,  34.5302,2,   -999.0,9,  34.5259,2,     49.5,2,  -999.00,9,  -999.00,9,  -999.00,9,  -999.00,9,  -999.00,9, -999.000,9, -999.000,9,  -999.00,9,   -999.0,9,   -999.0,9,-999.0000,9,   -999.0,  9,  -999.00,9,   -999.0,  -999.00,9,  -999.00,9,  -999.00,9,  -999.00,9,   -999.0,-999.0000, -999,9, 1496,   2.1814,  27.5808,   -999.0,9
       RF01-06,  NONE,RF-1385,  1,      2,02-13589,2,20010626,1428, 38.0285, 152.0037, 5822,   1761.8,   2.0629,  34.5732,2,   -999.0,9,  34.5682,2,     62.4,2,  -999.00,9,  -999.00,9,  -999.00,9,  -999.00,9,  -999.00,9, -999.000,9, -999.000,9,  -999.00,9,   -999.0,9,   -999.0,9,-999.0000,9,   -999.0,  9,  -999.00,9,   -999.0,  -999.00,9,  -999.00,9,  -999.00,9,  -999.00,9,   -999.0,-999.0000, -999,9, 1741,   1.9453,  27.6341,   -999.0,9
       RF01-06,  NONE,RF-1385,  1,      1,02-12807,2,20010626,1423, 38.0285, 152.0037, 5822,   2019.5,   1.8937,  34.6003,2,   -999.0,9,  34.5981,2,     77.6,2,  -999.00,9,  -999.00,9,  -999.00,9,  -999.00,9,  -999.00,9, -999.000,9, -999.000,9,  -999.00,9,   -999.0,9,   -999.0,9,-999.0000,9,   -999.0,  9,  -999.00,9,   -999.0,  -999.00,9,  -999.00,9,  -999.00,9,  -999.00,9,   -999.0,-999.0000, -999,9, 1995,   1.7574,  27.6703,   -999.0,9