BOTTLE,20130510GEMDJMAYT
EXPOCODE,SECT_ID,STNNBR,CASTNO,SAMPNO,BTLNBR,BTLNBR_FLAG_W,DATE,TIME,LATITUDE,LONGITUDE,DEPTH,CTDPRS,CTDTMP,CTDSAL,CTDSAL_FLAG_W,CTDOXY,CTDOXY_FLAG_W,SALNTY,SALNTY_FLAG_W,OXYGEN,OXYGEN_FLAG_W,SILCAT,SILCAT_FLAG_W,NITRAT,NITRAT_FLAG_W,NO2+NO3,NO2+NO3_FLAG_W,NITRIT,NITRIT_FLAG_W,PHSPHT,PHSPHT_FLAG_W,CFC-11,CFC-11_FLAG_W,CFC-12,CFC-12_FLAG_W,DELC13,DELC13_FLAG_W,TCARBN,TCARBN_FLAG_W,ALKALI,ALKALI_FLAG_W,PH,PH_FLAG_W,PH_TMP,PH_SCALE,PH_NBS,PH_NBS_FLAG_W,C13ERR,TOTALP,TOTALP_FLAG_W,AMMONI,AMMONI_FLAG_W,CHLORA,CHLORA_FLAG_W,PPHYTN,PPHYTN_FLAG_W,REVPRS,REVTMP,DEPTH_,DEPTH_FLAG,CTDDEP,THETA,SIGTHT,DOC,DOC_FLAG_W
,,,,,,,GMT,GMT,,,METER,DBAR,ITS-90,PSS-78,,UMOL/KG,,PSS-78,,UMOL/KG,,UMOL/KG,,UMOL/KG,,UMOL/KG,,UMOL/KG,,UMOL/KG,,PMOL/KG,,PMOL/KG,,/MILLE,,UMOL/KG,,UMOL/KG,,25_DEG_C,,DEG_C,,,,/MILLE,UMOL/KG,,UMOL/KG,,UG/L,,UG/L,,DBAR,ITS-90,METERS,,METERS,DEG_C,,UMOL/L,
       RF01-06,  NONE,RF-1393,  1,     -9,      -9,5,20010628,0334, 42.0348, 152.0152, 5177,      0.0,  14.5789,  33.9929,2,   -999.0,9,-999.0000,9,    268.1,2,  -999.00,9,  -999.00,9,  -999.00,9,  -999.00,9,  -999.00,9, -999.000,9, -999.000,9,  -999.00,9,   -999.0,9,   -999.0,9,-999.0000,9,   -999.0,  9,  -999.00,9,   -999.0,  -999.00,9,  -999.00,9,  -999.00,9,  -999.00,9,   -999.0,-999.0000, -999,9,    0,  14.5789,  25.2865,   -999.0,9
       RF01-06,  NONE,RF-1393,  1,     21, 02-9150,2,20010628,0332, 42.0348, 152.0152, 5177,      7.4,  14.6080,  33.9962,2,   -999.0,9,-999.0000,9,    267.8,2,  -999.00,9,  -999.00,9,  -999.00,9,  -999.00,9,  -999.00,9, -999.000,9, -999.000,9,  -999.00,9,   -999.0,9,   -999.0,9,-999.0000,9,   -999.0,  9,  -999.00,9,   -999.0,  -999.00,9,  -999.00,9,  -999.00,9,  -999.00,9,   -999.0,-999.0000, -999,9,    7,  14.6070,  25.2830,   -999.0,9
       RF01-06,  NONE,RF-1393,  1,     20,02-12826,2,20010628,0331, 42.0348, 152.0152, 5177,     23.5,  14.3308,  33.9981,2,   -999.0,9,-999.0000,9,    270.2,2,  -999.00,9,  -999.00,9,  -999.00,9,  -999.00,9,  -999.00,9, -999.000,9, -999.000,9,  -999.00,9,   -999.0,9,   -999.0,9,-999.0000,9,   -999.0,  9,  -999.00,9,   -999.0,  -999.00,9,  -999.00,9,  -999.00,9,  -999.00,9,   -999.0,-999.0000, -999,9,   23,  14.3274,  25.3441,   -999.0,9
       RF01-06,  NONE,RF-1393,  1,     19,02-12825,2,20010628,0329, 42.0348, 152.0152, 5177,     48.7,   9.3461,  33.8901,2,   -999.0,9,-999.0000,9,    266.4,2,  -999.00,9,  -999.00,9,  -999.00,9,  -999.00,9,  -999.00,9, -999.000,9, -999.000,9,  -999.00,9,   -999.0,9,   -999.0,9,-999.0000,9,   -999.0,  9,  -999.00,9,   -999.0,  -999.00,9,  -999.00,9,  -999.00,9,  -999.00,9,   -999.0,-999.0000, -999,9,   48,   9.3408,  26.1944,   -999.0,9
       RF01-06,  NONE,RF-1393,  1,     18,02-12830,2,20010628,0328, 42.0348, 152.0152, 5177,     72.9,   6.9297,  33.7088,2,   -999.0,9,-999.0000,9,    260.9,2,  -999.00,9,  -999.00,9,  -999.00,9,  -999.00,9,  -999.00,9, -999.000,9, -999.000,9,  -999.00,9,   -999.0,9,   -999.0,9,-999.0000,9,   -999.0,  9,  -999.00,9,   -999.0,  -999.00,9,  -999.00,9,  -999.00,9,  -999.00,9,   -999.0,-999.0000, -999,9,   72,   6.9231,  26.4121,   -999.0,9
       RF01-06,  NONE,RF-1393,  1,     17,02-12815,2,20010628,0327, 42.0348, 152.0152, 5177,     96.2,   5.1818,  33.5825,2,   -999.0,9,  33.5894,2,    265.4,2,  -999.00,9,  -999.00,9,  -999.00,9,  -999.00,9,  -999.00,9, -999.000,9, -999.000,9,  -999.00,9,   -999.0,9,   -999.0,9,-999.0000,9,   -999.0,  9,  -999.00,9,   -999.0,  -999.00,9,  -999.00,9,  -999.00,9,  -999.00,9,   -999.0,-999.0000, -999,9,   95,   5.1744,  26.5316,   -999.0,9
       RF01-06,  NONE,RF-1393,  1,     16,02-12818,2,20010628,0325, 42.0348, 152.0152, 5177,    122.0,   4.4432,  33.5359,2,   -999.0,9,-999.0000,9,    269.7,2,  -999.00,9,  -999.00,9,  -999.00,9,  -999.00,9,  -999.00,9, -999.000,9, -999.000,9,  -999.00,9,   -999.0,9,   -999.0,9,-999.0000,9,   -999.0,  9,  -999.00,9,   -999.0,  -999.00,9,  -999.00,9,  -999.00,9,  -999.00,9,   -999.0,-999.0000, -999,9,  121,   4.4345,  26.5765,   -999.0,9
       RF01-06,  NONE,RF-1393,  1,     15,02-12809,2,20010628,0324, 42.0348, 152.0152, 5177,    146.5,   2.7058,  33.3596,2,   -999.0,9,-999.0000,9,    286.3,2,  -999.00,9,  -999.00,9,  -999.00,9,  -999.00,9,  -999.00,9, -999.000,9, -999.000,9,  -999.00,9,   -999.0,9,   -999.0,9,-999.0000,9,   -999.0,  9,  -999.00,9,   -999.0,  -999.00,9,  -999.00,9,  -999.00,9,  -999.00,9,   -999.0,-999.0000, -999,9,  145,   2.6975,  26.6018,   -999.0,9
       RF01-06,  NONE,RF-1393,  1,     14,02-12817,2,20010628,0322, 42.0348, 152.0152, 5177,    200.2,   1.3762,  33.3024,2,   -999.0,9,  33.3002,2,    283.4,2,  -999.00,9,  -999.00,9,  -999.00,9,  -999.00,9,  -999.00,9, -999.000,9, -999.000,9,  -999.00,9,   -999.0,9,   -999.0,9,-999.0000,9,   -999.0,  9,  -999.00,9,   -999.0,  -999.00,9,  -999.00,9,  -999.00,9,  -999.00,9,   -999.0,-999.0000, -999,9,  199,   1.3670,  26.6567,   -999.0,9
       RF01-06,  NONE,RF-1393,  1,     13,02-15822,2,20010628,0320, 42.0348, 152.0152, 5177,    250.9,   3.4511,  33.6354,2,   -999.0,9,-999.0000,9,    193.5,2,  -999.00,9,  -999.00,9,  -999.00,9,  -999.00,9,  -999.00,9, -999.000,9, -999.000,9,  -999.00,9,   -999.0,9,   -999.0,9,-999.0000,9,   -999.0,  9,  -999.00,9,   -999.0,  -999.00,9,  -999.00,9,  -999.00,9,  -999.00,9,   -999.0,-999.0000, -999,9,  249,   3.4351,  26.7559,   -999.0,9
       RF01-06,  NONE,RF-1393,  1,     12,02-12821,2,20010628,0317, 42.0348, 152.0152, 5177,    301.6,   4.5742,  33.8661,2,   -999.0,9,  33.8682,2,    138.3,2,  -999.00,9,  -999.00,9,  -999.00,9,  -999.00,9,  -999.00,9, -999.000,9, -999.000,9,  -999.00,9,   -999.0,9,   -999.0,9,-999.0000,9,   -999.0,  9,  -999.00,9,   -999.0,  -999.00,9,  -999.00,9,  -999.00,9,  -999.00,9,   -999.0,-999.0000, -999,9,  299,   4.5520,  26.8261,   -999.0,9
       RF01-06,  NONE,RF-1393,  1,     11,02-15823,2,20010628,0314, 42.0348, 152.0152, 5177,    402.2,   4.1476,  34.0212,2,   -999.0,9,  34.0159,2,     79.9,2,  -999.00,9,  -999.00,9,  -999.00,9,  -999.00,9,  -999.00,9, -999.000,9, -999.000,9,  -999.00,9,   -999.0,9,   -999.0,9,-999.0000,9,   -999.0,  9,  -999.00,9,   -999.0,  -999.00,9,  -999.00,9,  -999.00,9,  -999.00,9,   -999.0,-999.0000, -999,9,  399,   4.1189,  26.9953,   -999.0,9
       RF01-06,  NONE,RF-1393,  1,     10,02-12820,2,20010628,0310, 42.0348, 152.0152, 5177,    501.4,   3.9509,  34.1141,2,   -999.0,9,  34.1307,4,     57.2,2,  -999.00,9,  -999.00,9,  -999.00,9,  -999.00,9,  -999.00,9, -999.000,9, -999.000,9,  -999.00,9,   -999.0,9,   -999.0,9,-999.0000,9,   -999.0,  9,  -999.00,9,   -999.0,  -999.00,9,  -999.00,9,  -999.00,9,  -999.00,9,   -999.0,-999.0000, -999,9,  497,   3.9154,  27.0900,   -999.0,9
       RF01-06,  NONE,RF-1393,  1,      9,02-12810,2,20010628,0306, 42.0348, 152.0152, 5177,    603.1,   3.6457,  34.1968,2,   -999.0,9,  34.1931,2,     44.2,2,  -999.00,9,  -999.00,9,  -999.00,9,  -999.00,9,  -999.00,9, -999.000,9, -999.000,9,  -999.00,9,   -999.0,9,   -999.0,9,-999.0000,9,   -999.0,  9,  -999.00,9,   -999.0,  -999.00,9,  -999.00,9,  -999.00,9,  -999.00,9,   -999.0,-999.0000, -999,9,  597,   3.6039,  27.1870,   -999.0,9
       RF01-06,  NONE,RF-1393,  1,      8,02-12819,2,20010628,0303, 42.0348, 152.0152, 5177,    704.0,   3.1467,  34.2275,2,   -999.0,9,  34.2298,2,     28.8,2,  -999.00,9,  -999.00,9,  -999.00,9,  -999.00,9,  -999.00,9, -999.000,9, -999.000,9,  -999.00,9,   -999.0,9,   -999.0,9,-999.0000,9,   -999.0,  9,  -999.00,9,   -999.0,  -999.00,9,  -999.00,9,  -999.00,9,  -999.00,9,   -999.0,-999.0000, -999,9,  697,   3.1001,  27.2593,   -999.0,9
       RF01-06,  NONE,RF-1393,  1,      7,02-15821,2,20010628,0300, 42.0348, 152.0152, 5177,    803.7,   3.0048,  34.2966,2,   -999.0,9,  34.2917,2,     28.6,2,  -999.00,9,  -999.00,9,  -999.00,9,  -999.00,9,  -999.00,9, -999.000,9, -999.000,9,  -999.00,9,   -999.0,9,   -999.0,9,-999.0000,9,   -999.0,  9,  -999.00,9,   -999.0,  -999.00,9,  -999.00,9,  -999.00,9,  -999.00,9,   -999.0,-999.0000, -999,9,  796,   2.9517,  27.3279,   -999.0,9
       RF01-06,  NONE,RF-1393,  1,      6,02-13588,2,20010628,0257, 42.0348, 152.0152, 5177,    904.6,   2.8780,  34.3410,2,   -999.0,9,-999.0000,9,     31.0,2,  -999.00,9,  -999.00,9,  -999.00,9,  -999.00,9,  -999.00,9, -999.000,9, -999.000,9,  -999.00,9,   -999.0,9,   -999.0,9,-999.0000,9,   -999.0,  9,  -999.00,9,   -999.0,  -999.00,9,  -999.00,9,  -999.00,9,  -999.00,9,   -999.0,-999.0000, -999,9,  896,   2.8184,  27.3753,   -999.0,9
       RF01-06,  NONE,RF-1393,  1,      5,02-10155,2,20010628,0254, 42.0348, 152.0152, 5177,   1004.3,   2.7493,  34.3953,2,   -999.0,9,  34.3929,2,     32.1,2,  -999.00,9,  -999.00,9,  -999.00,9,  -999.00,9,  -999.00,9, -999.000,9, -999.000,9,  -999.00,9,   -999.0,9,   -999.0,9,-999.0000,9,   -999.0,  9,  -999.00,9,   -999.0,  -999.00,9,  -999.00,9,  -999.00,9,  -999.00,9,   -999.0,-999.0000, -999,9,  994,   2.6833,  27.4306,   -999.0,9
       RF01-06,  NONE,RF-1393,  1,      4,02-13579,2,20010628,0248, 42.0348, 152.0152, 5177,   1258.0,   2.4009,  34.4733,2,   -999.0,9,  34.4721,2,     38.5,2,  -999.00,9,  -999.00,9,  -999.00,9,  -999.00,9,  -999.00,9, -999.000,9, -999.000,9,  -999.00,9,   -999.0,9,   -999.0,9,-999.0000,9,   -999.0,  9,  -999.00,9,   -999.0,  -999.00,9,  -999.00,9,  -999.00,9,  -999.00,9,   -999.0,-999.0000, -999,9, 1244,   2.3189,  27.5239,   -999.0,9
       RF01-06,  NONE,RF-1393,  1,      3,02-13590,2,20010628,0243, 42.0348, 152.0152, 5177,   1513.0,   2.2335,  34.5318,2,   -999.0,9,  34.5285,2,     50.1,2,  -999.00,9,  -999.00,9,  -999.00,9,  -999.00,9,  -999.00,9, -999.000,9, -999.000,9,  -999.00,9,   -999.0,9,   -999.0,9,-999.0000,9,   -999.0,  9,  -999.00,9,   -999.0,  -999.00,9,  -999.00,9,  -999.00,9,  -999.00,9,   -999.0,-999.0000, -999,9, 1496,   2.1336,  27.5859,   -999.0,9
       RF01-06,  NONE,RF-1393,  1,      2,02-13589,2,20010628,0238, 42.0348, 152.0152, 5177,   1764.3,   2.0504,  34.5716,2,   -999.0,9,  34.5708,2,     64.0,2,  -999.00,9,  -999.00,9,  -999.00,9,  -999.00,9,  -999.00,9, -999.000,9, -999.000,9,  -999.00,9,   -999.0,9,   -999.0,9,-999.0000,9,   -999.0,  9,  -999.00,9,   -999.0,  -999.00,9,  -999.00,9,  -999.00,9,  -999.00,9,   -999.0,-999.0000, -999,9, 1743,   1.9328,  27.6337,   -999.0,9
       RF01-06,  NONE,RF-1393,  1,      1,02-12807,2,20010628,0233, 42.0348, 152.0152, 5177,   2033.7,   1.8797,  34.6024,2,   -999.0,9,  34.6027,2,     78.8,2,  -999.00,9,  -999.00,9,  -999.00,9,  -999.00,9,  -999.00,9, -999.000,9, -999.000,9,  -999.00,9,   -999.0,9,   -999.0,9,-999.0000,9,   -999.0,  9,  -999.00,9,   -999.0,  -999.00,9,  -999.00,9,  -999.00,9,  -999.00,9,   -999.0,-999.0000, -999,9, 2008,   1.7424,  27.6731,   -999.0,9
       RF01-06,  NONE,RF-1394,  1,     -9,      -9,5,20010708,0802, 44.0095, 155.0220, 5319,      0.0,   8.5366,  32.8975,2,   -999.0,9,-999.0000,9,    306.3,2,    13.85,2,  -999.00,9,    14.29,2,     0.17,2,     1.25,2, -999.000,9, -999.000,9,  -999.00,9,   -999.0,9,   -999.0,9,-999.0000,9,   -999.0,  9,     7.99,2,   -999.0,  -999.00,9,  -999.00,9,  -999.00,9,  -999.00,9,   -999.0,-999.0000, -999,9,    0,   8.5366,  25.5433,   -999.0,9
       RF01-06,  NONE,RF-1394,  1,     17,02-12815,2,20010708,0759, 44.0095, 155.0220, 5319,      8.7,   8.5347,  32.8981,2,   -999.0,9,-999.0000,9,    308.4,2,    13.76,2,  -999.00,9,    14.27,2,     0.17,2,     1.23,2, -999.000,9, -999.000,9,  -999.00,9,   -999.0,9,   -999.0,9,-999.0000,9,   -999.0,  9,     7.99,2,   -999.0,  -999.00,9,  -999.00,9,  -999.00,9,  -999.00,9,   -999.0,-999.0000, -999,9,    9,   8.5338,  25.5441,   -999.0,9
       RF01-06,  NONE,RF-1394,  1,     16,02-12818,2,20010708,0758, 44.0095, 155.0220, 5319,     23.1,   5.0026,  32.9921,2,   -999.0,9,-999.0000,9,    346.9,2,    18.53,2,  -999.00,9,    17.31,2,     0.20,2,     1.44,2, -999.000,9, -999.000,9,  -999.00,9,   -999.0,9,   -999.0,9,-999.0000,9,   -999.0,  9,     7.92,2,   -999.0,  -999.00,9,  -999.00,9,  -999.00,9,  -999.00,9,   -999.0,-999.0000, -999,9,   23,   5.0009,  26.0834,   -999.0,9
       RF01-06,  NONE,RF-1394,  1,     15,02-12809,2,20010708,0757, 44.0095, 155.0220, 5319,     47.8,   2.4616,  33.1136,2,   -999.0,9,-999.0000,9,    332.2,2,    37.89,2,  -999.00,9,    23.21,2,     0.59,2,     1.81,2, -999.000,9, -999.000,9,  -999.00,9,   -999.0,9,   -999.0,9,-999.0000,9,   -999.0,  9,     7.82,2,   -999.0,  -999.00,9,  -999.00,9,  -999.00,9,  -999.00,9,   -999.0,-999.0000, -999,9,   47,   2.4591,  26.4248,   -999.0,9
       RF01-06,  NONE,RF-1394,  1,     14,02-12817,2,20010708,0755, 44.0095, 155.0220, 5319,     73.2,   0.9228,  33.1346,2,   -999.0,9,-999.0000,9,    331.4,2,    43.77,2,  -999.00,9,    25.91,2,     0.18,2,     1.96,2, -999.000,9, -999.000,9,  -999.00,9,   -999.0,9,   -999.0,9,-999.0000,9,   -999.0,  9,     7.79,2,   -999.0,  -999.00,9,  -999.00,9,  -999.00,9,  -999.00,9,   -999.0,-999.0000, -999,9,   73,   0.9198,  26.5504,   -999.0,9
       RF01-06,  NONE,RF-1394,  1,     13,02-15822,2,20010708,0754, 44.0095, 155.0220, 5319,     97.0,   1.0728,  33.2125,2,   -999.0,9,-999.0000,9,    312.3,2,    45.38,2,  -999.00,9,    26.07,2,     0.00,2,     1.95,2, -999.000,9, -999.000,9,  -999.00,9,   -999.0,9,   -999.0,9,-999.0000,9,   -999.0,  9,     7.76,4,   -999.0,  -999.00,9,  -999.00,9,  -999.00,9,  -999.00,9,   -999.0,-999.0000, -999,9,   96,   1.0687,  26.6038,   -999.0,9
       RF01-06,  NONE,RF-1394,  1,     12,02-12821,2,20010708,0753, 44.0095, 155.0220, 5319,    125.5,   1.4082,  33.3159,2,   -999.0,9,-999.0000,9,    268.1,2,    51.99,2,  -999.00,9,    28.45,2,     0.00,2,     2.10,2, -999.000,9, -999.000,9,  -999.00,9,   -999.0,9,   -999.0,9,-999.0000,9,   -999.0,  9,     7.71,2,   -999.0,  -999.00,9,  -999.00,9,  -999.00,9,  -999.00,9,   -999.0,-999.0000, -999,9,  124,   1.4025,  26.6652,   -999.0,9
       RF01-06,  NONE,RF-1394,  1,     11,02-15823,2,20010708,0752, 44.0095, 155.0220, 5319,    148.1,   2.0181,  33.4622,2,   -999.0,9,-999.0000,9,    199.0,2,    64.12,2,  -999.00,9,    32.99,2,     0.00,2,     2.43,2, -999.000,9, -999.000,9,  -999.00,9,   -999.0,9,   -999.0,9,-999.0000,9,   -999.0,  9,     7.63,2,   -999.0,  -999.00,9,  -999.00,9,  -999.00,9,  -999.00,9,   -999.0,-999.0000, -999,9,  147,   2.0105,  26.7389,   -999.0,9
       RF01-06,  NONE,RF-1394,  1,     10,02-12820,2,20010708,0750, 44.0095, 155.0220, 5319,    198.7,   2.8813,  33.7416,2,   -999.0,9,-999.0000,9,     91.1,2,    85.77,2,  -999.00,9,    40.07,2,     0.00,2,     2.90,2, -999.000,9, -999.000,9,  -999.00,9,   -999.0,9,   -999.0,9,-999.0000,9,   -999.0,  9,     7.50,2,   -999.0,  -999.00,9,  -999.00,9,  -999.00,9,  -999.00,9,   -999.0,-999.0000, -999,9,  197,   2.8695,  26.8921,   -999.0,9
       RF01-06,  NONE,RF-1394,  1,      9,02-12810,2,20010708,0748, 44.0095, 155.0220, 5319,    250.2,   3.1345,  33.8743,2,   -999.0,9,-999.0000,9,     57.9,2,    94.83,2,  -999.00,9,    42.04,2,     0.00,2,     3.01,2, -999.000,9, -999.000,9,  -999.00,9,   -999.0,9,   -999.0,9,-999.0000,9,   -999.0,  9,     7.48,2,   -999.0,  -999.00,9,  -999.00,9,  -999.00,9,  -999.00,9,   -999.0,-999.0000, -999,9,  248,   3.1190,  26.9757,   -999.0,9
       RF01-06,  NONE,RF-1394,  1,      8,02-12819,2,20010708,0746, 44.0095, 155.0220, 5319,    300.8,   3.2432,  33.9818,2,   -999.0,9,-999.0000,9,     44.9,2,   102.06,2,  -999.00,9,    42.56,2,     0.00,2,     3.06,2, -999.000,9, -999.000,9,  -999.00,9,   -999.0,9,   -999.0,9,-999.0000,9,   -999.0,  9,     7.49,2,   -999.0,  -999.00,9,  -999.00,9,  -999.00,9,  -999.00,9,   -999.0,-999.0000, -999,9,  298,   3.2241,  27.0518,   -999.0,9
       RF01-06,  NONE,RF-1394,  1,      7,02-15821,2,20010708,0744, 44.0095, 155.0220, 5319,    402.2,   3.2723,  34.1142,2,   -999.0,9,-999.0000,9,     24.1,2,   112.74,2,  -999.00,9,    43.65,2,     0.00,2,     3.13,2, -999.000,9, -999.000,9,  -999.00,9,   -999.0,9,   -999.0,9,-999.0000,9,   -999.0,  9,  -999.00,9,   -999.0,  -999.00,9,  -999.00,9,  -999.00,9,  -999.00,9,   -999.0,-999.0000, -999,9,  399,   3.2462,  27.1553,   -999.0,9
       RF01-06,  NONE,RF-1394,  1,      6,02-13588,2,20010708,0741, 44.0095, 155.0220, 5319,    501.7,   3.1674,  34.2064,2,   -999.0,9,-999.0000,9,     27.2,2,   119.93,2,  -999.00,9,    43.23,2,     0.00,2,     3.07,2, -999.000,9, -999.000,9,  -999.00,9,   -999.0,9,   -999.0,9,-999.0000,9,   -999.0,  9,  -999.00,9,   -999.0,  -999.00,9,  -999.00,9,  -999.00,9,  -999.00,9,   -999.0,-999.0000, -999,9,  497,   3.1349,  27.2392,   -999.0,9
       RF01-06,  NONE,RF-1394,  1,      5,02-10155,2,20010708,0738, 44.0095, 155.0220, 5319,    601.9,   3.0692,  34.2881,2,   -999.0,9,-999.0000,9,     28.8,2,   125.52,2,  -999.00,9,    42.83,2,     0.00,2,     3.07,2, -999.000,9, -999.000,9,  -999.00,9,   -999.0,9,   -999.0,9,-999.0000,9,   -999.0,  9,  -999.00,9,   -999.0,  -999.00,9,  -999.00,9,  -999.00,9,  -999.00,9,   -999.0,-999.0000, -999,9,  596,   3.0301,  27.3141,   -999.0,9
       RF01-06,  NONE,RF-1394,  1,      4,02-13579,2,20010708,0736, 44.0095, 155.0220, 5319,    703.0,   2.9116,  34.3420,2,   -999.0,9,-999.0000,9,     30.3,2,   130.98,2,  -999.00,9,    43.05,2,     0.00,2,     3.08,2, -999.000,9, -999.000,9,  -999.00,9,   -999.0,9,   -999.0,9,-999.0000,9,   -999.0,  9,  -999.00,9,   -999.0,  -999.00,9,  -999.00,9,  -999.00,9,  -999.00,9,   -999.0,-999.0000, -999,9,  696,   2.8662,  27.3718,   -999.0,9
       RF01-06,  NONE,RF-1394,  1,      3,02-13590,2,20010708,0733, 44.0095, 155.0220, 5319,    803.5,   2.7218,  34.3830,2,   -999.0,9,-999.0000,9,     29.5,2,   136.75,2,  -999.00,9,    43.18,2,     0.00,2,     3.09,2, -999.000,9, -999.000,9,  -999.00,9,   -999.0,9,   -999.0,9,-999.0000,9,   -999.0,  9,  -999.00,9,   -999.0,  -999.00,9,  -999.00,9,  -999.00,9,  -999.00,9,   -999.0,-999.0000, -999,9,  796,   2.6704,  27.4219,   -999.0,9
       RF01-06,  NONE,RF-1394,  1,      2,02-13589,2,20010708,0730, 44.0095, 155.0220, 5319,    905.1,   2.5986,  34.4211,2,   -999.0,9,-999.0000,9,     31.3,2,   139.95,2,  -999.00,9,    43.15,2,     0.00,2,     3.08,2, -999.000,9, -999.000,9,  -999.00,9,   -999.0,9,   -999.0,9,-999.0000,9,   -999.0,  9,  -999.00,9,   -999.0,  -999.00,9,  -999.00,9,  -999.00,9,  -999.00,9,   -999.0,-999.0000, -999,9,  896,   2.5408,  27.4635,   -999.0,9
       RF01-06,  NONE,RF-1394,  1,      1,02-12807,2,20010708,0727, 44.0095, 155.0220, 5319,   1022.3,   2.5478,  34.4722,2,   -999.0,9,-999.0000,9,     40.7,2,   139.34,2,  -999.00,9,    42.63,2,     0.00,2,     3.02,2, -999.000,9, -999.000,9,  -999.00,9,   -999.0,9,   -999.0,9,-999.0000,9,   -999.0,  9,  -999.00,9,   -999.0,  -999.00,9,  -999.00,9,  -999.00,9,  -999.00,9,   -999.0,-999.0000, -999,9, 1012,   2.4819,  27.5094,   -999.0,9