BOTTLE,20130510GEMDJMAYT
EXPOCODE,SECT_ID,STNNBR,CASTNO,SAMPNO,BTLNBR,BTLNBR_FLAG_W,DATE,TIME,LATITUDE,LONGITUDE,DEPTH,CTDPRS,CTDTMP,CTDSAL,CTDSAL_FLAG_W,CTDOXY,CTDOXY_FLAG_W,SALNTY,SALNTY_FLAG_W,OXYGEN,OXYGEN_FLAG_W,SILCAT,SILCAT_FLAG_W,NITRAT,NITRAT_FLAG_W,NO2+NO3,NO2+NO3_FLAG_W,NITRIT,NITRIT_FLAG_W,PHSPHT,PHSPHT_FLAG_W,CFC-11,CFC-11_FLAG_W,CFC-12,CFC-12_FLAG_W,DELC13,DELC13_FLAG_W,TCARBN,TCARBN_FLAG_W,ALKALI,ALKALI_FLAG_W,PH,PH_FLAG_W,PH_TMP,PH_SCALE,PH_NBS,PH_NBS_FLAG_W,C13ERR,TOTALP,TOTALP_FLAG_W,AMMONI,AMMONI_FLAG_W,CHLORA,CHLORA_FLAG_W,PPHYTN,PPHYTN_FLAG_W,REVPRS,REVTMP,DEPTH_,DEPTH_FLAG,CTDDEP,THETA,SIGTHT,DOC,DOC_FLAG_W
,,,,,,,GMT,GMT,,,METER,DBAR,ITS-90,PSS-78,,UMOL/KG,,PSS-78,,UMOL/KG,,UMOL/KG,,UMOL/KG,,UMOL/KG,,UMOL/KG,,UMOL/KG,,PMOL/KG,,PMOL/KG,,/MILLE,,UMOL/KG,,UMOL/KG,,25_DEG_C,,DEG_C,,,,/MILLE,UMOL/KG,,UMOL/KG,,UG/L,,UG/L,,DBAR,ITS-90,METERS,,METERS,DEG_C,,UMOL/L,
       RF01-06,  165E,RF-1403,  1,     -9,      -9,5,20010712,0215, 40.0028, 164.8388, 5347,      0.0,  18.1441,  34.1884,2,   -999.0,9,-999.0000,9,    249.8,2,     6.77,2,  -999.00,9,     2.36,2,     0.06,2,     0.23,2,    2.599,2,    1.472,2,  -999.00,9,   -999.0,9,   -999.0,9,-999.0000,9,   -999.0,  9,     8.11,2,   -999.0,  -999.00,9,  -999.00,9,  -999.00,9,  -999.00,9,   -999.0,-999.0000, -999,9,    0,  18.1441,  24.6151,   -999.0,9
       RF01-06,  165E,RF-1403,  1,     21, 02-9150,2,20010712,0213, 40.0028, 164.8388, 5347,      8.3,  17.8959,  34.1578,2,   -999.0,9,-999.0000,9,    254.4,2,     6.78,2,  -999.00,9,     2.47,2,     0.06,2,     0.25,2,    2.630,2,    1.487,2,  -999.00,9,   -999.0,9,   -999.0,9,-999.0000,9,   -999.0,  9,     8.11,2,   -999.0,  -999.00,9,  -999.00,9,  -999.00,9,  -999.00,9,   -999.0,-999.0000, -999,9,    8,  17.8945,  24.6529,   -999.0,9
       RF01-06,  165E,RF-1403,  1,     20,02-12826,2,20010712,0212, 40.0028, 164.8388, 5347,     23.2,  14.3795,  34.2764,2,   -999.0,9,-999.0000,9,    285.4,3,     7.79,2,  -999.00,9,     2.83,2,     0.08,2,     0.26,2,    3.111,2,    1.724,2,  -999.00,9,   -999.0,9,   -999.0,9,-999.0000,9,   -999.0,  9,     8.12,2,   -999.0,  -999.00,9,  -999.00,9,  -999.00,9,  -999.00,9,   -999.0,-999.0000, -999,9,   23,  14.3761,  25.5486,   -999.0,9
       RF01-06,  165E,RF-1403,  1,     19,02-12825,2,20010712,0210, 40.0028, 164.8388, 5347,     48.7,  12.8874,  34.2773,2,   -999.0,9,-999.0000,9,    255.8,2,    12.83,2,  -999.00,9,     7.85,2,     0.43,2,     0.57,2,    3.354,2,    1.836,2,  -999.00,9,   -999.0,9,   -999.0,9,-999.0000,9,   -999.0,  9,     8.05,2,   -999.0,  -999.00,9,  -999.00,9,  -999.00,9,  -999.00,9,   -999.0,-999.0000, -999,9,   48,  12.8808,  25.8567,   -999.0,9
       RF01-06,  165E,RF-1403,  1,     18,02-12830,2,20010712,0209, 40.0028, 164.8388, 5347,     74.3,  11.2932,  34.2646,2,   -999.0,9,-999.0000,9,    244.4,2,    16.37,2,  -999.00,9,    11.81,2,     0.03,2,     0.79,2,    3.707,2,    1.961,2,  -999.00,9,   -999.0,9,   -999.0,9,-999.0000,9,   -999.0,  9,     8.00,4,   -999.0,  -999.00,9,  -999.00,9,  -999.00,9,  -999.00,9,   -999.0,-999.0000, -999,9,   74,  11.2840,  26.1513,   -999.0,9
       RF01-06,  165E,RF-1403,  1,     17,02-12815,2,20010712,0208, 40.0028, 164.8388, 5347,     99.3,  10.6256,  34.2386,2,   -999.0,9,  34.2443,2,    247.1,2,    17.80,2,  -999.00,9,    12.68,2,     0.01,2,     0.87,2,    3.878,2,    2.006,2,  -999.00,9,   -999.0,9,   -999.0,9,-999.0000,9,   -999.0,  9,     7.99,2,   -999.0,  -999.00,9,  -999.00,9,  -999.00,9,  -999.00,9,   -999.0,-999.0000, -999,9,   98,  10.6138,  26.2513,   -999.0,9
       RF01-06,  165E,RF-1403,  1,     16,02-12818,2,20010712,0207, 40.0028, 164.8388, 5347,    123.5,  10.0810,  34.2155,2,   -999.0,9,-999.0000,9,    245.0,2,    19.06,2,  -999.00,9,    13.60,2,     0.01,2,     0.92,2,    4.030,2,    2.041,2,  -999.00,9,   -999.0,9,   -999.0,9,-999.0000,9,   -999.0,  9,     7.97,2,   -999.0,  -999.00,9,  -999.00,9,  -999.00,9,  -999.00,9,   -999.0,-999.0000, -999,9,  123,  10.0668,  26.3280,   -999.0,9
       RF01-06,  165E,RF-1403,  1,     15,02-12809,2,20010712,0206, 40.0028, 164.8388, 5347,    148.8,   9.4347,  34.1556,2,   -999.0,9,-999.0000,9,    257.8,2,    19.34,2,  -999.00,9,    13.71,2,     0.01,2,     0.94,2,    4.140,2,    2.106,2,  -999.00,9,   -999.0,9,   -999.0,9,-999.0000,9,   -999.0,  9,     7.96,2,   -999.0,  -999.00,9,  -999.00,9,  -999.00,9,  -999.00,9,   -999.0,-999.0000, -999,9,  148,   9.4183,  26.3894,   -999.0,9
       RF01-06,  165E,RF-1403,  1,     14,02-12817,2,20010712,0204, 40.0028, 164.8388, 5347,    199.0,   8.9434,  34.1153,2,   -999.0,9,  34.1210,2,    267.5,2,    19.14,2,  -999.00,9,    13.69,2,     0.00,2,     0.93,2,    4.216,2,    2.158,2,  -999.00,9,   -999.0,9,   -999.0,9,-999.0000,9,   -999.0,  9,     7.96,2,   -999.0,  -999.00,9,  -999.00,9,  -999.00,9,  -999.00,9,   -999.0,-999.0000, -999,9,  197,   8.9221,  26.4377,   -999.0,9
       RF01-06,  165E,RF-1403,  1,     13,02-15822,2,20010712,0202, 40.0028, 164.8388, 5347,    249.0,   8.6667,  34.0872,2,   -999.0,9,-999.0000,9,    263.7,2,    20.29,2,  -999.00,9,    14.53,2,     0.00,2,     0.98,2,    4.323,2,    2.181,2,  -999.00,9,   -999.0,9,   -999.0,9,-999.0000,9,   -999.0,  9,     7.95,2,   -999.0,  -999.00,9,  -999.00,9,  -999.00,9,  -999.00,9,   -999.0,-999.0000, -999,9,  247,   8.6405,  26.4598,   -999.0,9
       RF01-06,  165E,RF-1403,  1,     12,02-12821,2,20010712,0200, 40.0028, 164.8388, 5347,    299.6,   8.1036,  34.0250,2,   -999.0,9,  34.0259,2,    260.2,2,    22.84,2,  -999.00,9,    15.72,2,     0.00,2,     1.07,2,    4.504,2,    2.244,2,  -999.00,9,   -999.0,9,   -999.0,9,-999.0000,9,   -999.0,  9,     7.93,2,   -999.0,  -999.00,9,  -999.00,9,  -999.00,9,  -999.00,9,   -999.0,-999.0000, -999,9,  297,   8.0733,  26.4973,   -999.0,9
       RF01-06,  165E,RF-1403,  1,     11,02-15823,2,20010712,0158, 40.0028, 164.8388, 5347,    401.5,   6.5262,  33.8677,2,   -999.0,9,  33.8723,2,    241.1,2,    32.06,2,  -999.00,9,    20.26,2,     0.00,2,     1.41,2,    5.078,2,    2.399,2,  -999.00,9,   -999.0,9,   -999.0,9,-999.0000,9,   -999.0,  9,  -999.00,9,   -999.0,  -999.00,9,  -999.00,9,  -999.00,9,  -999.00,9,   -999.0,-999.0000, -999,9,  398,   6.4902,  26.5951,   -999.0,9
       RF01-06,  165E,RF-1403,  1,     10,02-12820,2,20010712,0156, 40.0028, 164.8388, 5347,    501.3,   5.5082,  33.9250,2,   -999.0,9,  33.9305,2,    144.5,2,    58.43,2,  -999.00,9,    30.61,2,     0.00,2,     2.17,2,    5.024,2,    2.398,2,  -999.00,9,   -999.0,9,   -999.0,9,-999.0000,9,   -999.0,  9,     7.69,2,   -999.0,  -999.00,9,  -999.00,9,  -999.00,9,  -999.00,9,   -999.0,-999.0000, -999,9,  497,   5.4667,  26.7685,   -999.0,9
       RF01-06,  165E,RF-1403,  1,      9,02-12810,2,20010712,0153, 40.0028, 164.8388, 5347,    601.9,   4.8038,  34.0333,2,   -999.0,9,  34.0416,2,     93.3,2,    78.33,2,  -999.00,9,    36.15,2,     0.00,2,     2.59,2,    3.185,2,    1.530,2,  -999.00,9,   -999.0,9,   -999.0,9,-999.0000,9,   -999.0,  9,  -999.00,9,   -999.0,  -999.00,9,  -999.00,9,  -999.00,9,  -999.00,9,   -999.0,-999.0000, -999,9,  596,   4.7567,  26.9363,   -999.0,9
       RF01-06,  165E,RF-1403,  1,      8,02-12819,2,20010712,0151, 40.0028, 164.8388, 5347,    701.5,   4.2753,  34.1378,2,   -999.0,9,  34.1363,2,     64.3,2,    93.07,2,  -999.00,9,    39.25,2,     0.00,2,     2.81,2,    2.093,2,    0.700,2,  -999.00,9,   -999.0,9,   -999.0,9,-999.0000,9,   -999.0,  9,     7.54,4,   -999.0,  -999.00,9,  -999.00,9,  -999.00,9,  -999.00,9,   -999.0,-999.0000, -999,9,  695,   4.2227,  27.0771,   -999.0,9
       RF01-06,  165E,RF-1403,  1,      7,02-15821,2,20010712,0149, 40.0028, 164.8388, 5347,    803.6,   3.8916,  34.1939,2,   -999.0,9,  34.2017,2,     47.7,2,   104.79,2,  -999.00,9,    40.79,2,     0.00,2,     2.92,2,    1.805,2,    0.539,2,  -999.00,9,   -999.0,9,   -999.0,9,-999.0000,9,   -999.0,  9,  -999.00,9,   -999.0,  -999.00,9,  -999.00,9,  -999.00,9,  -999.00,9,   -999.0,-999.0000, -999,9,  796,   3.8331,  27.1619,   -999.0,9
       RF01-06,  165E,RF-1403,  1,      6,02-13588,2,20010712,0146, 40.0028, 164.8388, 5347,    905.4,   3.5480,  34.2714,2,   -999.0,9,-999.0000,9,     38.9,2,   114.92,2,  -999.00,9,    42.01,2,     0.00,2,     3.00,2,    0.837,2,    0.205,2,  -999.00,9,   -999.0,9,   -999.0,9,-999.0000,9,   -999.0,  9,  -999.00,9,   -999.0,  -999.00,9,  -999.00,9,  -999.00,9,  -999.00,9,   -999.0,-999.0000, -999,9,  897,   3.4836,  27.2581,   -999.0,9
       RF01-06,  165E,RF-1403,  1,      5,02-10155,2,20010712,0144, 40.0028, 164.8388, 5347,   1004.8,   3.2917,  34.3285,2,   -999.0,9,  34.3253,2,     35.6,2,   121.76,2,  -999.00,9,    42.20,2,     0.00,2,     3.04,2,    0.486,2,    0.158,2,  -999.00,9,   -999.0,9,   -999.0,9,-999.0000,9,   -999.0,  9,     7.54,2,   -999.0,  -999.00,9,  -999.00,9,  -999.00,9,  -999.00,9,   -999.0,-999.0000, -999,9,  995,   3.2214,  27.3286,   -999.0,9
       RF01-06,  165E,RF-1403,  1,      4,02-13579,2,20010712,0139, 40.0028, 164.8388, 5347,   1258.2,   2.7663,  34.4254,2,   -999.0,9,  34.4265,2,     34.0,2,   136.16,2,  -999.00,9,    42.84,2,     0.00,2,     3.08,2,    0.321,2,    0.142,2,  -999.00,9,   -999.0,9,   -999.0,9,-999.0000,9,   -999.0,  9,  -999.00,9,   -999.0,  -999.00,9,  -999.00,9,  -999.00,9,  -999.00,9,   -999.0,-999.0000, -999,9, 1245,   2.6808,  27.4549,   -999.0,9
       RF01-06,  165E,RF-1403,  1,      3,02-13590,2,20010712,0134, 40.0028, 164.8388, 5347,   1513.7,   2.3936,  34.4958,2,   -999.0,9,  34.4888,2,     38.1,2,   145.64,2,  -999.00,9,    42.72,2,     0.00,2,     3.06,2,    0.162,2,    0.145,2,  -999.00,9,   -999.0,9,   -999.0,9,-999.0000,9,   -999.0,  9,     7.55,2,   -999.0,  -999.00,9,  -999.00,9,  -999.00,9,  -999.00,9,   -999.0,-999.0000, -999,9, 1497,   2.2919,  27.5442,   -999.0,9
       RF01-06,  165E,RF-1403,  1,      2,02-13589,2,20010712,0128, 40.0028, 164.8388, 5347,   1764.8,   2.1557,  34.5465,2,   -999.0,9,  34.5401,2,     49.2,2,   150.18,2,  -999.00,9,    42.19,2,     0.00,2,     3.00,2,    0.000,2,    0.110,2,  -999.00,9,   -999.0,9,   -999.0,9,-999.0000,9,   -999.0,  9,     7.58,4,   -999.0,  -999.00,9,  -999.00,9,  -999.00,9,  -999.00,9,   -999.0,-999.0000, -999,9, 1744,   2.0367,  27.6055,   -999.0,9
       RF01-06,  165E,RF-1403,  1,      1,02-12807,2,20010712,0123, 40.0028, 164.8388, 5347,   2043.5,   1.9610,  34.5881,2,   -999.0,9,  34.5814,2,     65.0,2,   151.88,2,  -999.00,9,    41.62,2,     0.00,2,     2.92,2,    0.000,2,    0.095,2,  -999.00,9,   -999.0,9,   -999.0,9,-999.0000,9,   -999.0,  9,     7.60,2,   -999.0,  -999.00,9,  -999.00,9,  -999.00,9,  -999.00,9,   -999.0,-999.0000, -999,9, 2018,   1.8217,  27.6555,   -999.0,9