BOTTLE,20130510GEMDJMAYT
EXPOCODE,SECT_ID,STNNBR,CASTNO,SAMPNO,BTLNBR,BTLNBR_FLAG_W,DATE,TIME,LATITUDE,LONGITUDE,DEPTH,CTDPRS,CTDTMP,CTDSAL,CTDSAL_FLAG_W,CTDOXY,CTDOXY_FLAG_W,SALNTY,SALNTY_FLAG_W,OXYGEN,OXYGEN_FLAG_W,SILCAT,SILCAT_FLAG_W,NITRAT,NITRAT_FLAG_W,NO2+NO3,NO2+NO3_FLAG_W,NITRIT,NITRIT_FLAG_W,PHSPHT,PHSPHT_FLAG_W,CFC-11,CFC-11_FLAG_W,CFC-12,CFC-12_FLAG_W,DELC13,DELC13_FLAG_W,TCARBN,TCARBN_FLAG_W,ALKALI,ALKALI_FLAG_W,PH,PH_FLAG_W,PH_TMP,PH_SCALE,PH_NBS,PH_NBS_FLAG_W,C13ERR,TOTALP,TOTALP_FLAG_W,AMMONI,AMMONI_FLAG_W,CHLORA,CHLORA_FLAG_W,PPHYTN,PPHYTN_FLAG_W,REVPRS,REVTMP,DEPTH_,DEPTH_FLAG,CTDDEP,THETA,SIGTHT,DOC,DOC_FLAG_W
,,,,,,,GMT,GMT,,,METER,DBAR,ITS-90,PSS-78,,UMOL/KG,,PSS-78,,UMOL/KG,,UMOL/KG,,UMOL/KG,,UMOL/KG,,UMOL/KG,,UMOL/KG,,PMOL/KG,,PMOL/KG,,/MILLE,,UMOL/KG,,UMOL/KG,,25_DEG_C,,DEG_C,,,,/MILLE,UMOL/KG,,UMOL/KG,,UG/L,,UG/L,,DBAR,ITS-90,METERS,,METERS,DEG_C,,UMOL/L,
       RF01-06,  165E,RF-1398,  1,     -9,      -9,5,20010710,1707, 45.0112, 165.0050, 5952,      0.0,   8.9410,  33.0474,2,   -999.0,9,-999.0000,9,    300.3,2,    21.74,2,  -999.00,9,    15.10,2,     0.22,2,     1.20,2,    4.210,2,    2.243,2,  -999.00,9,   -999.0,9,   -999.0,9,-999.0000,9,   -999.0,  9,  -999.00,9,   -999.0,  -999.00,9,  -999.00,9,  -999.00,9,  -999.00,9,   -999.0,-999.0000, -999,9,    0,   8.9410,  25.5986,   -999.0,9
       RF01-06,  165E,RF-1398,  1,     21, 02-9150,2,20010710,1705, 45.0112, 165.0050, 5952,      7.8,   8.7182,  33.1035,2,   -999.0,9,-999.0000,9,    301.8,2,    21.88,2,  -999.00,9,    15.10,2,     0.22,2,     1.22,2,    4.260,2,    2.266,2,  -999.00,9,   -999.0,9,   -999.0,9,-999.0000,9,   -999.0,  9,  -999.00,9,   -999.0,  -999.00,9,  -999.00,9,  -999.00,9,  -999.00,9,   -999.0,-999.0000, -999,9,    8,   8.7174,  25.6771,   -999.0,9
       RF01-06,  165E,RF-1398,  1,     20,02-12826,2,20010710,1703, 45.0112, 165.0050, 5952,     22.9,   7.4295,  33.2956,2,   -999.0,9,-999.0000,9,    309.8,2,    22.68,2,  -999.00,9,    15.34,2,     0.21,2,     1.25,2,    4.569,2,    2.410,2,  -999.00,9,   -999.0,9,   -999.0,9,-999.0000,9,   -999.0,  9,  -999.00,9,   -999.0,  -999.00,9,  -999.00,9,  -999.00,9,  -999.00,9,   -999.0,-999.0000, -999,9,   23,   7.4273,  26.0174,   -999.0,9
       RF01-06,  165E,RF-1398,  1,     19,02-12825,2,20010710,1702, 45.0112, 165.0050, 5952,     48.4,   5.7627,  33.3830,2,   -999.0,9,-999.0000,9,    314.2,2,    23.71,2,  -999.00,9,    16.31,2,     0.30,2,     1.29,2,    5.129,2,    2.601,2,  -999.00,9,   -999.0,9,   -999.0,9,-999.0000,9,   -999.0,  9,  -999.00,9,   -999.0,  -999.00,9,  -999.00,9,  -999.00,9,  -999.00,9,   -999.0,-999.0000, -999,9,   48,   5.7588,  26.3046,   -999.0,9
       RF01-06,  165E,RF-1398,  1,     18,02-12830,2,20010710,1700, 45.0112, 165.0050, 5952,     72.7,   4.4194,  33.4168,2,   -999.0,9,-999.0000,9,    312.1,2,    26.27,2,  -999.00,9,    19.12,2,     0.07,2,     1.41,2,    5.498,2,    2.789,2,  -999.00,9,   -999.0,9,   -999.0,9,-999.0000,9,   -999.0,  9,  -999.00,9,   -999.0,  -999.00,9,  -999.00,9,  -999.00,9,  -999.00,9,   -999.0,-999.0000, -999,9,   72,   4.4143,  26.4841,   -999.0,9
       RF01-06,  165E,RF-1398,  1,     17,02-12815,2,20010710,1659, 45.0112, 165.0050, 5952,     99.7,   4.4053,  33.4959,2,   -999.0,9,  33.4898,2,    308.2,2,    27.27,2,  -999.00,9,    19.42,2,     0.00,2,     1.40,2,    5.499,2,    2.789,2,  -999.00,9,   -999.0,9,   -999.0,9,-999.0000,9,   -999.0,  9,  -999.00,9,   -999.0,  -999.00,9,  -999.00,9,  -999.00,9,  -999.00,9,   -999.0,-999.0000, -999,9,   99,   4.3983,  26.5486,   -999.0,9
       RF01-06,  165E,RF-1398,  1,     16,02-12818,2,20010710,1657, 45.0112, 165.0050, 5952,    124.5,   4.4915,  33.5561,2,   -999.0,9,-999.0000,9,    296.1,2,    28.75,2,  -999.00,9,    19.66,2,     0.00,2,     1.41,2,    5.468,2,    2.765,2,  -999.00,9,   -999.0,9,   -999.0,9,-999.0000,9,   -999.0,  9,  -999.00,9,   -999.0,  -999.00,9,  -999.00,9,  -999.00,9,  -999.00,9,   -999.0,-999.0000, -999,9,  123,   4.4826,  26.5875,   -999.0,9
       RF01-06,  165E,RF-1398,  1,     15,02-12809,2,20010710,1656, 45.0112, 165.0050, 5952,    149.2,   4.1478,  33.5407,2,   -999.0,9,-999.0000,9,    300.6,2,    29.10,2,  -999.00,9,    19.84,2,     0.00,2,     1.43,2,    5.583,2,    2.816,2,  -999.00,9,   -999.0,9,   -999.0,9,-999.0000,9,   -999.0,  9,  -999.00,9,   -999.0,  -999.00,9,  -999.00,9,  -999.00,9,  -999.00,9,   -999.0,-999.0000, -999,9,  148,   4.1375,  26.6113,   -999.0,9
       RF01-06,  165E,RF-1398,  1,     14,02-12817,2,20010710,1654, 45.0112, 165.0050, 5952,    198.8,   4.2722,  33.5842,2,   -999.0,9,  33.5994,4,    291.7,2,    30.54,2,  -999.00,9,    20.15,2,     0.00,2,     1.44,2,    5.509,2,    2.797,2,  -999.00,9,   -999.0,9,   -999.0,9,-999.0000,9,   -999.0,  9,  -999.00,9,   -999.0,  -999.00,9,  -999.00,9,  -999.00,9,  -999.00,9,   -999.0,-999.0000, -999,9,  197,   4.2583,  26.6334,   -999.0,9
       RF01-06,  165E,RF-1398,  1,     13,02-15822,2,20010710,1652, 45.0112, 165.0050, 5952,    249.6,   4.9337,  33.7200,2,   -999.0,9,-999.0000,9,    287.2,2,    32.32,2,  -999.00,9,    20.39,2,     0.00,2,     1.43,2,    5.261,2,    2.708,2,  -999.00,9,   -999.0,9,   -999.0,9,-999.0000,9,   -999.0,  9,  -999.00,9,   -999.0,  -999.00,9,  -999.00,9,  -999.00,9,  -999.00,9,   -999.0,-999.0000, -999,9,  247,   4.9147,  26.6701,   -999.0,9
       RF01-06,  165E,RF-1398,  1,     12,02-12821,2,20010710,1650, 45.0112, 165.0050, 5952,    299.7,   4.8775,  33.7778,2,   -999.0,9,  33.7837,2,    215.2,2,    46.21,2,  -999.00,9,    25.99,2,     0.00,2,     1.82,2,    5.588,2,    2.612,2,  -999.00,9,   -999.0,9,   -999.0,9,-999.0000,9,   -999.0,  9,  -999.00,9,   -999.0,  -999.00,9,  -999.00,9,  -999.00,9,  -999.00,9,   -999.0,-999.0000, -999,9,  297,   4.8548,  26.7227,   -999.0,9
       RF01-06,  165E,RF-1398,  1,     11,02-15823,2,20010710,1648, 45.0112, 165.0050, 5952,    399.8,   4.5487,  33.9516,2,   -999.0,9,  33.9545,2,    104.3,2,    74.42,2,  -999.00,9,    35.74,2,     0.00,2,     2.53,2,    4.248,2,    2.264,2,  -999.00,9,   -999.0,9,   -999.0,9,-999.0000,9,   -999.0,  9,  -999.00,9,   -999.0,  -999.00,9,  -999.00,9,  -999.00,9,  -999.00,9,   -999.0,-999.0000, -999,9,  396,   4.5189,  26.8975,   -999.0,9
       RF01-06,  165E,RF-1398,  1,     10,02-12820,2,20010710,1644, 45.0112, 165.0050, 5952,    501.1,   4.2019,  34.0625,2,   -999.0,9,  34.0643,2,     68.2,2,    89.35,2,  -999.00,9,    39.20,2,     0.00,2,     2.78,2,    3.973,2,    1.578,2,  -999.00,9,   -999.0,9,   -999.0,9,-999.0000,9,   -999.0,  9,  -999.00,9,   -999.0,  -999.00,9,  -999.00,9,  -999.00,9,  -999.00,9,   -999.0,-999.0000, -999,9,  496,   4.1655,  27.0233,   -999.0,9
       RF01-06,  165E,RF-1398,  1,      9,02-12810,2,20010710,1641, 45.0112, 165.0050, 5952,    602.8,   3.8208,  34.1458,2,   -999.0,9,  34.1493,2,     45.7,2,   102.48,2,  -999.00,9,    41.33,2,     0.00,2,     3.00,2,    2.820,2,    1.165,2,  -999.00,9,   -999.0,9,   -999.0,9,-999.0000,9,   -999.0,  9,  -999.00,9,   -999.0,  -999.00,9,  -999.00,9,  -999.00,9,  -999.00,9,   -999.0,-999.0000, -999,9,  597,   3.7782,  27.1291,   -999.0,9
       RF01-06,  165E,RF-1398,  1,      8,02-12819,2,20010710,1638, 45.0112, 165.0050, 5952,    702.3,   3.5690,  34.2187,2,   -999.0,9,  34.2202,2,     36.9,2,   111.51,2,  -999.00,9,    42.06,2,     0.00,2,     3.01,2,    1.839,2,    0.804,2,  -999.00,9,   -999.0,9,   -999.0,9,-999.0000,9,   -999.0,  9,  -999.00,9,   -999.0,  -999.00,9,  -999.00,9,  -999.00,9,  -999.00,9,   -999.0,-999.0000, -999,9,  695,   3.5202,  27.2125,   -999.0,9
       RF01-06,  165E,RF-1398,  1,      7,02-15821,2,20010710,1635, 45.0112, 165.0050, 5952,    804.5,   3.3112,  34.2706,2,   -999.0,9,  34.2724,2,     32.6,2,   119.80,2,  -999.00,9,    42.64,2,     0.00,2,     3.05,2,    1.247,2,    0.444,2,  -999.00,9,   -999.0,9,   -999.0,9,-999.0000,9,   -999.0,  9,  -999.00,9,   -999.0,  -999.00,9,  -999.00,9,  -999.00,9,  -999.00,9,   -999.0,-999.0000, -999,9,  796,   3.2562,  27.2791,   -999.0,9
       RF01-06,  165E,RF-1398,  1,      6,02-13588,2,20010710,1632, 45.0112, 165.0050, 5952,    906.0,   3.1178,  34.3225,2,   -999.0,9,-999.0000,9,     31.1,2,   125.59,2,  -999.00,9,    42.78,2,     0.00,2,     3.05,2,    0.945,2,    0.282,2,  -999.00,9,   -999.0,9,   -999.0,9,-999.0000,9,   -999.0,  9,  -999.00,9,   -999.0,  -999.00,9,  -999.00,9,  -999.00,9,  -999.00,9,   -999.0,-999.0000, -999,9,  897,   3.0564,  27.3391,   -999.0,9
       RF01-06,  165E,RF-1398,  1,      5,02-10155,2,20010710,1629, 45.0112, 165.0050, 5952,   1006.3,   2.9732,  34.3694,2,   -999.0,9,  34.3695,2,     32.0,2,   129.58,2,  -999.00,9,    42.85,2,     0.00,2,     3.07,2,    0.777,2,    0.256,2,  -999.00,9,   -999.0,9,   -999.0,9,-999.0000,9,   -999.0,  9,  -999.00,9,   -999.0,  -999.00,9,  -999.00,9,  -999.00,9,  -999.00,9,   -999.0,-999.0000, -999,9,  996,   2.9053,  27.3902,   -999.0,9
       RF01-06,  165E,RF-1398,  1,      4,02-13579,2,20010710,1623, 45.0112, 165.0050, 5952,   1259.0,   2.5767,  34.4448,2,   -999.0,9,  34.4455,2,     34.0,2,   140.66,2,  -999.00,9,    43.01,2,     0.00,2,     3.04,2,    0.508,2,    0.187,2,  -999.00,9,   -999.0,9,   -999.0,9,-999.0000,9,   -999.0,  9,  -999.00,9,   -999.0,  -999.00,9,  -999.00,9,  -999.00,9,  -999.00,9,   -999.0,-999.0000, -999,9, 1245,   2.4930,  27.4865,   -999.0,9
       RF01-06,  165E,RF-1398,  1,      3,02-13590,2,20010710,1617, 45.0112, 165.0050, 5952,   1511.7,   2.3499,  34.5021,2,   -999.0,9,  34.5031,2,     41.9,2,   145.30,2,  -999.00,9,    42.80,2,     0.00,2,     3.04,2,    0.385,2,    0.145,2,  -999.00,9,   -999.0,9,   -999.0,9,-999.0000,9,   -999.0,  9,  -999.00,9,   -999.0,  -999.00,9,  -999.00,9,  -999.00,9,  -999.00,9,   -999.0,-999.0000, -999,9, 1494,   2.2489,  27.5527,   -999.0,9
       RF01-06,  165E,RF-1398,  1,      2,02-13589,2,20010710,1611, 45.0112, 165.0050, 5952,   1766.1,   2.1404,  34.5447,2,   -999.0,9,  34.5450,2,     51.8,2,   149.61,2,  -999.00,9,    42.23,2,     0.00,2,     2.99,2,    0.228,2,    0.127,2,  -999.00,9,   -999.0,9,   -999.0,9,-999.0000,9,   -999.0,  9,  -999.00,9,   -999.0,  -999.00,9,  -999.00,9,  -999.00,9,  -999.00,9,   -999.0,-999.0000, -999,9, 1744,   2.0215,  27.6052,   -999.0,9
       RF01-06,  165E,RF-1398,  1,      1,02-12807,2,20010710,1605, 45.0112, 165.0050, 5952,   2030.7,   1.9604,  34.5848,2,   -999.0,9,  34.5863,2,     66.4,2,   151.21,2,  -999.00,9,    41.47,2,     0.00,2,     2.89,2,    0.000,2,    0.082,2,  -999.00,9,   -999.0,9,   -999.0,9,-999.0000,9,   -999.0,  9,  -999.00,9,   -999.0,  -999.00,9,  -999.00,9,  -999.00,9,  -999.00,9,   -999.0,-999.0000, -999,9, 2004,   1.8222,  27.6529,   -999.0,9