BOTTLE,20130510GEMDJMAYT
EXPOCODE,SECT_ID,STNNBR,CASTNO,SAMPNO,BTLNBR,BTLNBR_FLAG_W,DATE,TIME,LATITUDE,LONGITUDE,DEPTH,CTDPRS,CTDTMP,CTDSAL,CTDSAL_FLAG_W,CTDOXY,CTDOXY_FLAG_W,SALNTY,SALNTY_FLAG_W,OXYGEN,OXYGEN_FLAG_W,SILCAT,SILCAT_FLAG_W,NITRAT,NITRAT_FLAG_W,NO2+NO3,NO2+NO3_FLAG_W,NITRIT,NITRIT_FLAG_W,PHSPHT,PHSPHT_FLAG_W,CFC-11,CFC-11_FLAG_W,CFC-12,CFC-12_FLAG_W,DELC13,DELC13_FLAG_W,TCARBN,TCARBN_FLAG_W,ALKALI,ALKALI_FLAG_W,PH,PH_FLAG_W,PH_TMP,PH_SCALE,PH_NBS,PH_NBS_FLAG_W,C13ERR,TOTALP,TOTALP_FLAG_W,AMMONI,AMMONI_FLAG_W,CHLORA,CHLORA_FLAG_W,PPHYTN,PPHYTN_FLAG_W,REVPRS,REVTMP,DEPTH_,DEPTH_FLAG,CTDDEP,THETA,SIGTHT,DOC,DOC_FLAG_W
,,,,,,,GMT,GMT,,,METER,DBAR,ITS-90,PSS-78,,UMOL/KG,,PSS-78,,UMOL/KG,,UMOL/KG,,UMOL/KG,,UMOL/KG,,UMOL/KG,,UMOL/KG,,PMOL/KG,,PMOL/KG,,/MILLE,,UMOL/KG,,UMOL/KG,,25_DEG_C,,DEG_C,,,,/MILLE,UMOL/KG,,UMOL/KG,,UG/L,,UG/L,,DBAR,ITS-90,METERS,,METERS,DEG_C,,UMOL/L,
       RF01-06,  NONE,RF-1373,  1,     -9,      -9,5,20010624,1213, 32.0007, 151.9873, 5978,      0.0,  24.4217,  34.7645,2,   -999.0,9,-999.0000,9,    213.0,2,  -999.00,9,  -999.00,9,  -999.00,9,  -999.00,9,  -999.00,9, -999.000,9, -999.000,9,  -999.00,9,   -999.0,9,   -999.0,9,-999.0000,9,   -999.0,  9,  -999.00,9,   -999.0,  -999.00,9,  -999.00,9,  -999.00,9,  -999.00,9,   -999.0,-999.0000, -999,9,    0,  24.4217,  23.3376,   -999.0,9
       RF01-06,  NONE,RF-1373,  1,     21, 02-9150,2,20010624,1210, 32.0007, 151.9873, 5978,      6.2,  24.1205,  34.7610,2,   -999.0,9,-999.0000,9,    215.7,2,  -999.00,9,  -999.00,9,  -999.00,9,  -999.00,9,  -999.00,9, -999.000,9, -999.000,9,  -999.00,9,   -999.0,9,   -999.0,9,-999.0000,9,   -999.0,  9,  -999.00,9,   -999.0,  -999.00,9,  -999.00,9,  -999.00,9,  -999.00,9,   -999.0,-999.0000, -999,9,    6,  24.1192,  23.4251,   -999.0,9
       RF01-06,  NONE,RF-1373,  1,     20,02-12826,2,20010624,1209, 32.0007, 151.9873, 5978,     21.9,  21.1498,  34.6650,2,   -999.0,9,-999.0000,9,    232.1,2,  -999.00,9,  -999.00,9,  -999.00,9,  -999.00,9,  -999.00,9, -999.000,9, -999.000,9,  -999.00,9,   -999.0,9,   -999.0,9,-999.0000,9,   -999.0,  9,  -999.00,9,   -999.0,  -999.00,9,  -999.00,9,  -999.00,9,  -999.00,9,   -999.0,-999.0000, -999,9,   22,  21.1456,  24.1993,   -999.0,9
       RF01-06,  NONE,RF-1373,  1,     19,02-12825,2,20010624,1208, 32.0007, 151.9873, 5978,     46.1,  19.1493,  34.7767,2,   -999.0,9,-999.0000,9,    229.6,2,  -999.00,9,  -999.00,9,  -999.00,9,  -999.00,9,  -999.00,9, -999.000,9, -999.000,9,  -999.00,9,   -999.0,9,   -999.0,9,-999.0000,9,   -999.0,  9,  -999.00,9,   -999.0,  -999.00,9,  -999.00,9,  -999.00,9,  -999.00,9,   -999.0,-999.0000, -999,9,   46,  19.1410,  24.8145,   -999.0,9
       RF01-06,  NONE,RF-1373,  1,     18,02-12830,2,20010624,1207, 32.0007, 151.9873, 5978,     72.0,  18.2439,  34.7431,2,   -999.0,9,-999.0000,9,    222.8,2,  -999.00,9,  -999.00,9,  -999.00,9,  -999.00,9,  -999.00,9, -999.000,9, -999.000,9,  -999.00,9,   -999.0,9,   -999.0,9,-999.0000,9,   -999.0,  9,  -999.00,9,   -999.0,  -999.00,9,  -999.00,9,  -999.00,9,  -999.00,9,   -999.0,-999.0000, -999,9,   71,  18.2314,  25.0181,   -999.0,9
       RF01-06,  NONE,RF-1373,  1,     17,02-12815,2,20010624,1206, 32.0007, 151.9873, 5978,     96.2,  17.8451,  34.7203,2,   -999.0,9,  34.7418,4,    216.9,2,  -999.00,9,  -999.00,9,  -999.00,9,  -999.00,9,  -999.00,9, -999.000,9, -999.000,9,  -999.00,9,   -999.0,9,   -999.0,9,-999.0000,9,   -999.0,  9,  -999.00,9,   -999.0,  -999.00,9,  -999.00,9,  -999.00,9,  -999.00,9,   -999.0,-999.0000, -999,9,   96,  17.8288,  25.0999,   -999.0,9
       RF01-06,  NONE,RF-1373,  1,     16,02-12818,2,20010624,1204, 32.0007, 151.9873, 5978,    122.3,  17.4739,  34.7160,2,   -999.0,9,-999.0000,9,    220.3,2,  -999.00,9,  -999.00,9,  -999.00,9,  -999.00,9,  -999.00,9, -999.000,9, -999.000,9,  -999.00,9,   -999.0,9,   -999.0,9,-999.0000,9,   -999.0,  9,  -999.00,9,   -999.0,  -999.00,9,  -999.00,9,  -999.00,9,  -999.00,9,   -999.0,-999.0000, -999,9,  121,  17.4534,  25.1877,   -999.0,9
       RF01-06,  NONE,RF-1373,  1,     15,02-12809,2,20010624,1203, 32.0007, 151.9873, 5978,    148.9,  17.3718,  34.7199,2,   -999.0,9,-999.0000,9,    221.2,2,  -999.00,9,  -999.00,9,  -999.00,9,  -999.00,9,  -999.00,9, -999.000,9, -999.000,9,  -999.00,9,   -999.0,9,   -999.0,9,-999.0000,9,   -999.0,  9,  -999.00,9,   -999.0,  -999.00,9,  -999.00,9,  -999.00,9,  -999.00,9,   -999.0,-999.0000, -999,9,  148,  17.3470,  25.2163,   -999.0,9
       RF01-06,  NONE,RF-1373,  1,     14,02-12817,2,20010624,1202, 32.0007, 151.9873, 5978,    197.5,  17.1536,  34.7166,2,   -999.0,9,  34.7337,2,    217.2,2,  -999.00,9,  -999.00,9,  -999.00,9,  -999.00,9,  -999.00,9, -999.000,9, -999.000,9,  -999.00,9,   -999.0,9,   -999.0,9,-999.0000,9,   -999.0,  9,  -999.00,9,   -999.0,  -999.00,9,  -999.00,9,  -999.00,9,  -999.00,9,   -999.0,-999.0000, -999,9,  196,  17.1209,  25.2680,   -999.0,9
       RF01-06,  NONE,RF-1373,  1,     13,02-15822,2,20010624,1200, 32.0007, 151.9873, 5978,    247.6,  16.6933,  34.6973,2,   -999.0,9,-999.0000,9,    204.8,2,  -999.00,9,  -999.00,9,  -999.00,9,  -999.00,9,  -999.00,9, -999.000,9, -999.000,9,  -999.00,9,   -999.0,9,   -999.0,9,-999.0000,9,   -999.0,  9,  -999.00,9,   -999.0,  -999.00,9,  -999.00,9,  -999.00,9,  -999.00,9,   -999.0,-999.0000, -999,9,  246,  16.6530,  25.3638,   -999.0,9
       RF01-06,  NONE,RF-1373,  1,     12,02-12821,2,20010624,1159, 32.0007, 151.9873, 5978,    298.1,  15.8688,  34.6300,2,   -999.0,9,  34.6745,4,    193.7,2,  -999.00,9,  -999.00,9,  -999.00,9,  -999.00,9,  -999.00,9, -999.000,9, -999.000,9,  -999.00,9,   -999.0,9,   -999.0,9,-999.0000,9,   -999.0,  9,  -999.00,9,   -999.0,  -999.00,9,  -999.00,9,  -999.00,9,  -999.00,9,   -999.0,-999.0000, -999,9,  296,  15.8219,  25.5035,   -999.0,9
       RF01-06,  NONE,RF-1373,  1,     11,02-15823,2,20010624,1156, 32.0007, 151.9873, 5978,    398.4,  13.9755,  34.5280,2,   -999.0,9,  34.5450,4,    183.5,2,  -999.00,9,  -999.00,9,  -999.00,9,  -999.00,9,  -999.00,9, -999.000,9, -999.000,9,  -999.00,9,   -999.0,9,   -999.0,9,-999.0000,9,   -999.0,  9,  -999.00,9,   -999.0,  -999.00,9,  -999.00,9,  -999.00,9,  -999.00,9,   -999.0,-999.0000, -999,9,  395,  13.9178,  25.8395,   -999.0,9
       RF01-06,  NONE,RF-1373,  1,     10,02-12820,2,20010624,1154, 32.0007, 151.9873, 5978,    499.8,  11.1067,  34.3020,2,   -999.0,9,  34.3369,4,    188.8,2,  -999.00,9,  -999.00,9,  -999.00,9,  -999.00,9,  -999.00,9, -999.000,9, -999.000,9,  -999.00,9,   -999.0,9,   -999.0,9,-999.0000,9,   -999.0,  9,  -999.00,9,   -999.0,  -999.00,9,  -999.00,9,  -999.00,9,  -999.00,9,   -999.0,-999.0000, -999,9,  496,  11.0443,  26.2239,   -999.0,9
       RF01-06,  NONE,RF-1373,  1,      9,02-12810,2,20010624,1152, 32.0007, 151.9873, 5978,    600.4,   8.7968,  34.1371,2,   -999.0,9,  34.1544,4,    170.1,2,  -999.00,9,  -999.00,9,  -999.00,9,  -999.00,9,  -999.00,9, -999.000,9, -999.000,9,  -999.00,9,   -999.0,9,   -999.0,9,-999.0000,9,   -999.0,  9,  -999.00,9,   -999.0,  -999.00,9,  -999.00,9,  -999.00,9,  -999.00,9,   -999.0,-999.0000, -999,9,  595,   8.7317,  26.4847,   -999.0,9
       RF01-06,  NONE,RF-1373,  1,      8,02-12819,2,20010624,1149, 32.0007, 151.9873, 5978,    702.0,   6.4289,  34.0343,2,   -999.0,9,  34.0392,2,    138.9,2,  -999.00,9,  -999.00,9,  -999.00,9,  -999.00,9,  -999.00,9, -999.000,9, -999.000,9,  -999.00,9,   -999.0,9,   -999.0,9,-999.0000,9,   -999.0,  9,  -999.00,9,   -999.0,  -999.00,9,  -999.00,9,  -999.00,9,  -999.00,9,   -999.0,-999.0000, -999,9,  696,   6.3648,  26.7428,   -999.0,9
       RF01-06,  NONE,RF-1373,  1,      7,02-15821,2,20010624,1147, 32.0007, 151.9873, 5978,    803.2,   5.2480,  34.0936,2,   -999.0,9,  34.0932,2,     98.1,2,  -999.00,9,  -999.00,9,  -999.00,9,  -999.00,9,  -999.00,9, -999.000,9, -999.000,9,  -999.00,9,   -999.0,9,   -999.0,9,-999.0000,9,   -999.0,  9,  -999.00,9,   -999.0,  -999.00,9,  -999.00,9,  -999.00,9,  -999.00,9,   -999.0,-999.0000, -999,9,  796,   5.1812,  26.9357,   -999.0,9
       RF01-06,  NONE,RF-1373,  1,      6,02-13588,2,20010624,1145, 32.0007, 151.9873, 5978,    903.8,   4.5252,  34.1559,2,   -999.0,9,-999.0000,9,     69.7,2,  -999.00,9,  -999.00,9,  -999.00,9,  -999.00,9,  -999.00,9, -999.000,9, -999.000,9,  -999.00,9,   -999.0,9,   -999.0,9,-999.0000,9,   -999.0,  9,  -999.00,9,   -999.0,  -999.00,9,  -999.00,9,  -999.00,9,  -999.00,9,   -999.0,-999.0000, -999,9,  896,   4.4544,  27.0668,   -999.0,9
       RF01-06,  NONE,RF-1373,  1,      5,02-10155,2,20010624,1142, 32.0007, 151.9873, 5978,   1004.8,   4.0044,  34.2303,2,   -999.0,9,  34.2339,2,     50.6,2,  -999.00,9,  -999.00,9,  -999.00,9,  -999.00,9,  -999.00,9, -999.000,9, -999.000,9,  -999.00,9,   -999.0,9,   -999.0,9,-999.0000,9,   -999.0,  9,  -999.00,9,   -999.0,  -999.00,9,  -999.00,9,  -999.00,9,  -999.00,9,   -999.0,-999.0000, -999,9,  995,   3.9287,  27.1812,   -999.0,9
       RF01-06,  NONE,RF-1373,  1,      4,02-13579,2,20010624,1137, 32.0007, 151.9873, 5978,   1258.7,   3.0782,  34.3920,2,   -999.0,9,  34.3921,2,     35.2,2,  -999.00,9,  -999.00,9,  -999.00,9,  -999.00,9,  -999.00,9, -999.000,9, -999.000,9,  -999.00,9,   -999.0,9,   -999.0,9,-999.0000,9,   -999.0,  9,  -999.00,9,   -999.0,  -999.00,9,  -999.00,9,  -999.00,9,  -999.00,9,   -999.0,-999.0000, -999,9, 1246,   2.9897,  27.4006,   -999.0,9
       RF01-06,  NONE,RF-1373,  1,      3,02-13590,2,20010624,1132, 32.0007, 151.9873, 5978,   1512.3,   2.5572,  34.4791,2,   -999.0,9,  34.4819,2,     40.5,2,  -999.00,9,  -999.00,9,  -999.00,9,  -999.00,9,  -999.00,9, -999.000,9, -999.000,9,  -999.00,9,   -999.0,9,   -999.0,9,-999.0000,9,   -999.0,  9,  -999.00,9,   -999.0,  -999.00,9,  -999.00,9,  -999.00,9,  -999.00,9,   -999.0,-999.0000, -999,9, 1496,   2.4538,  27.5173,   -999.0,9
       RF01-06,  NONE,RF-1373,  1,      2,02-13589,2,20010624,1127, 32.0007, 151.9873, 5978,   1765.4,   2.2286,  34.5400,2,   -999.0,9,  34.5409,2,     51.1,2,  -999.00,9,  -999.00,9,  -999.00,9,  -999.00,9,  -999.00,9, -999.000,9, -999.000,9,  -999.00,9,   -999.0,9,   -999.0,9,-999.0000,9,   -999.0,  9,  -999.00,9,   -999.0,  -999.00,9,  -999.00,9,  -999.00,9,  -999.00,9,   -999.0,-999.0000, -999,9, 1746,   2.1086,  27.5944,   -999.0,9
       RF01-06,  NONE,RF-1373,  1,      1,02-12807,2,20010624,1122, 32.0007, 151.9873, 5978,   2031.3,   1.9747,  34.5886,2,   -999.0,9,  34.5871,2,     69.5,2,  -999.00,9,  -999.00,9,  -999.00,9,  -999.00,9,  -999.00,9, -999.000,9, -999.000,9,  -999.00,9,   -999.0,9,   -999.0,9,-999.0000,9,   -999.0,  9,  -999.00,9,   -999.0,  -999.00,9,  -999.00,9,  -999.00,9,  -999.00,9,   -999.0,-999.0000, -999,9, 2007,   1.8361,  27.6549,   -999.0,9