BOTTLE,20130510GEMDJMAYT
EXPOCODE,SECT_ID,STNNBR,CASTNO,SAMPNO,BTLNBR,BTLNBR_FLAG_W,DATE,TIME,LATITUDE,LONGITUDE,DEPTH,CTDPRS,CTDTMP,CTDSAL,CTDSAL_FLAG_W,CTDOXY,CTDOXY_FLAG_W,SALNTY,SALNTY_FLAG_W,OXYGEN,OXYGEN_FLAG_W,SILCAT,SILCAT_FLAG_W,NITRAT,NITRAT_FLAG_W,NO2+NO3,NO2+NO3_FLAG_W,NITRIT,NITRIT_FLAG_W,PHSPHT,PHSPHT_FLAG_W,CFC-11,CFC-11_FLAG_W,CFC-12,CFC-12_FLAG_W,DELC13,DELC13_FLAG_W,TCARBN,TCARBN_FLAG_W,ALKALI,ALKALI_FLAG_W,PH,PH_FLAG_W,PH_TMP,PH_SCALE,PH_NBS,PH_NBS_FLAG_W,C13ERR,TOTALP,TOTALP_FLAG_W,AMMONI,AMMONI_FLAG_W,CHLORA,CHLORA_FLAG_W,PPHYTN,PPHYTN_FLAG_W,REVPRS,REVTMP,DEPTH_,DEPTH_FLAG,CTDDEP,THETA,SIGTHT,DOC,DOC_FLAG_W
,,,,,,,GMT,GMT,,,METER,DBAR,ITS-90,PSS-78,,UMOL/KG,,PSS-78,,UMOL/KG,,UMOL/KG,,UMOL/KG,,UMOL/KG,,UMOL/KG,,UMOL/KG,,PMOL/KG,,PMOL/KG,,/MILLE,,UMOL/KG,,UMOL/KG,,25_DEG_C,,DEG_C,,,,/MILLE,UMOL/KG,,UMOL/KG,,UG/L,,UG/L,,DBAR,ITS-90,METERS,,METERS,DEG_C,,UMOL/L,
       RF01-06,  NONE,RF-1368,  1,     -9,      -9,5,20010623,0643, 31.9933, 147.0088, 5916,      0.0,  23.5886,  34.4125,2,   -999.0,9,-999.0000,9,    215.3,2,  -999.00,9,  -999.00,9,  -999.00,9,  -999.00,9,  -999.00,9, -999.000,9, -999.000,9,  -999.00,9,   -999.0,9,   -999.0,9,-999.0000,9,   -999.0,  9,  -999.00,9,   -999.0,  -999.00,9,  -999.00,9,  -999.00,9,  -999.00,9,   -999.0,-999.0000, -999,9,    0,  23.5886,  23.3175,   -999.0,9
       RF01-06,  NONE,RF-1368,  1,     21, 02-9150,2,20010623,0641, 31.9933, 147.0088, 5916,      6.6,  23.5573,  34.4081,2,   -999.0,9,-999.0000,9,    216.5,2,  -999.00,9,  -999.00,9,  -999.00,9,  -999.00,9,  -999.00,9, -999.000,9, -999.000,9,  -999.00,9,   -999.0,9,   -999.0,9,-999.0000,9,   -999.0,  9,  -999.00,9,   -999.0,  -999.00,9,  -999.00,9,  -999.00,9,  -999.00,9,   -999.0,-999.0000, -999,9,    7,  23.5559,  23.3237,   -999.0,9
       RF01-06,  NONE,RF-1368,  1,     20,02-12826,2,20010623,0640, 31.9933, 147.0088, 5916,     22.2,  21.5633,  34.6156,2,   -999.0,9,-999.0000,9,    225.3,2,  -999.00,9,  -999.00,9,  -999.00,9,  -999.00,9,  -999.00,9, -999.000,9, -999.000,9,  -999.00,9,   -999.0,9,   -999.0,9,-999.0000,9,   -999.0,  9,  -999.00,9,   -999.0,  -999.00,9,  -999.00,9,  -999.00,9,  -999.00,9,   -999.0,-999.0000, -999,9,   22,  21.5590,  24.0483,   -999.0,9
       RF01-06,  NONE,RF-1368,  1,     19,02-12825,2,20010623,0638, 31.9933, 147.0088, 5916,     47.5,  20.3683,  34.7063,2,   -999.0,9,-999.0000,9,    221.5,2,  -999.00,9,  -999.00,9,  -999.00,9,  -999.00,9,  -999.00,9, -999.000,9, -999.000,9,  -999.00,9,   -999.0,9,   -999.0,9,-999.0000,9,   -999.0,  9,  -999.00,9,   -999.0,  -999.00,9,  -999.00,9,  -999.00,9,  -999.00,9,   -999.0,-999.0000, -999,9,   47,  20.3594,  24.4425,   -999.0,9
       RF01-06,  NONE,RF-1368,  1,     18,02-12830,2,20010623,0636, 31.9933, 147.0088, 5916,     71.8,  19.7523,  34.7234,2,   -999.0,9,-999.0000,9,    219.8,2,  -999.00,9,  -999.00,9,  -999.00,9,  -999.00,9,  -999.00,9, -999.000,9, -999.000,9,  -999.00,9,   -999.0,9,   -999.0,9,-999.0000,9,   -999.0,  9,  -999.00,9,   -999.0,  -999.00,9,  -999.00,9,  -999.00,9,  -999.00,9,   -999.0,-999.0000, -999,9,   71,  19.7392,  24.6191,   -999.0,9
       RF01-06,  NONE,RF-1368,  1,     17,02-12815,2,20010623,0635, 31.9933, 147.0088, 5916,     97.6,  19.2359,  34.7304,2,   -999.0,9,  34.7489,4,    216.9,2,  -999.00,9,  -999.00,9,  -999.00,9,  -999.00,9,  -999.00,9, -999.000,9, -999.000,9,  -999.00,9,   -999.0,9,   -999.0,9,-999.0000,9,   -999.0,  9,  -999.00,9,   -999.0,  -999.00,9,  -999.00,9,  -999.00,9,  -999.00,9,   -999.0,-999.0000, -999,9,   97,  19.2184,  24.7593,   -999.0,9
       RF01-06,  NONE,RF-1368,  1,     16,02-12818,2,20010623,0633, 31.9933, 147.0088, 5916,    121.7,  18.8856,  34.7567,2,   -999.0,9,-999.0000,9,    207.7,2,  -999.00,9,  -999.00,9,  -999.00,9,  -999.00,9,  -999.00,9, -999.000,9, -999.000,9,  -999.00,9,   -999.0,9,   -999.0,9,-999.0000,9,   -999.0,  9,  -999.00,9,   -999.0,  -999.00,9,  -999.00,9,  -999.00,9,  -999.00,9,   -999.0,-999.0000, -999,9,  121,  18.8641,  24.8698,   -999.0,9
       RF01-06,  NONE,RF-1368,  1,     15,02-12809,2,20010623,0632, 31.9933, 147.0088, 5916,    147.8,  18.6141,  34.7564,2,   -999.0,9,-999.0000,9,    206.5,2,  -999.00,9,  -999.00,9,  -999.00,9,  -999.00,9,  -999.00,9, -999.000,9, -999.000,9,  -999.00,9,   -999.0,9,   -999.0,9,-999.0000,9,   -999.0,  9,  -999.00,9,   -999.0,  -999.00,9,  -999.00,9,  -999.00,9,  -999.00,9,   -999.0,-999.0000, -999,9,  147,  18.5882,  24.9391,   -999.0,9
       RF01-06,  NONE,RF-1368,  1,     14,02-12817,2,20010623,0630, 31.9933, 147.0088, 5916,    197.7,  17.8960,  34.7270,2,   -999.0,9,  34.7441,2,    211.5,2,  -999.00,9,  -999.00,9,  -999.00,9,  -999.00,9,  -999.00,9, -999.000,9, -999.000,9,  -999.00,9,   -999.0,9,   -999.0,9,-999.0000,9,   -999.0,  9,  -999.00,9,   -999.0,  -999.00,9,  -999.00,9,  -999.00,9,  -999.00,9,   -999.0,-999.0000, -999,9,  196,  17.8622,  25.0968,   -999.0,9
       RF01-06,  NONE,RF-1368,  1,     13,02-15822,2,20010623,0629, 31.9933, 147.0088, 5916,    247.7,  17.4904,  34.7296,2,   -999.0,9,-999.0000,9,    213.8,2,  -999.00,9,  -999.00,9,  -999.00,9,  -999.00,9,  -999.00,9, -999.000,9, -999.000,9,  -999.00,9,   -999.0,9,   -999.0,9,-999.0000,9,   -999.0,  9,  -999.00,9,   -999.0,  -999.00,9,  -999.00,9,  -999.00,9,  -999.00,9,   -999.0,-999.0000, -999,9,  246,  17.4487,  25.1993,   -999.0,9
       RF01-06,  NONE,RF-1368,  1,     12,02-12821,2,20010623,0627, 31.9933, 147.0088, 5916,    298.8,  17.2510,  34.7220,2,   -999.0,9,  34.7367,2,    217.7,2,  -999.00,9,  -999.00,9,  -999.00,9,  -999.00,9,  -999.00,9, -999.000,9, -999.000,9,  -999.00,9,   -999.0,9,   -999.0,9,-999.0000,9,   -999.0,  9,  -999.00,9,   -999.0,  -999.00,9,  -999.00,9,  -999.00,9,  -999.00,9,   -999.0,-999.0000, -999,9,  297,  17.2011,  25.2530,   -999.0,9
       RF01-06,  NONE,RF-1368,  1,     11,02-15823,2,20010623,0624, 31.9933, 147.0088, 5916,    399.6,  16.0575,  34.6686,2,   -999.0,9,  34.6821,2,    194.4,2,  -999.00,9,  -999.00,9,  -999.00,9,  -999.00,9,  -999.00,9, -999.000,9, -999.000,9,  -999.00,9,   -999.0,9,   -999.0,9,-999.0000,9,   -999.0,  9,  -999.00,9,   -999.0,  -999.00,9,  -999.00,9,  -999.00,9,  -999.00,9,   -999.0,-999.0000, -999,9,  396,  15.9939,  25.4941,   -999.0,9
       RF01-06,  NONE,RF-1368,  1,     10,02-12820,2,20010623,0621, 31.9933, 147.0088, 5916,    500.1,  13.9181,  34.5365,2,   -999.0,9,  34.5377,2,    188.9,2,  -999.00,9,  -999.00,9,  -999.00,9,  -999.00,9,  -999.00,9, -999.000,9, -999.000,9,  -999.00,9,   -999.0,9,   -999.0,9,-999.0000,9,   -999.0,  9,  -999.00,9,   -999.0,  -999.00,9,  -999.00,9,  -999.00,9,  -999.00,9,   -999.0,-999.0000, -999,9,  496,  13.8457,  25.8611,   -999.0,9
       RF01-06,  NONE,RF-1368,  1,      9,02-12810,2,20010623,0619, 31.9933, 147.0088, 5916,    600.2,  11.4253,  34.3650,2,   -999.0,9,  34.3771,2,    167.4,4,  -999.00,9,  -999.00,9,  -999.00,9,  -999.00,9,  -999.00,9, -999.000,9, -999.000,9,  -999.00,9,   -999.0,9,   -999.0,9,-999.0000,9,   -999.0,  9,  -999.00,9,   -999.0,  -999.00,9,  -999.00,9,  -999.00,9,  -999.00,9,   -999.0,-999.0000, -999,9,  595,  11.3486,  26.2176,   -999.0,9
       RF01-06,  NONE,RF-1368,  1,      8,02-12819,2,20010623,0616, 31.9933, 147.0088, 5916,    701.1,   8.4602,  34.1465,2,   -999.0,9,  34.1485,2,    159.6,2,  -999.00,9,  -999.00,9,  -999.00,9,  -999.00,9,  -999.00,9, -999.000,9, -999.000,9,  -999.00,9,   -999.0,9,   -999.0,9,-999.0000,9,   -999.0,  9,  -999.00,9,   -999.0,  -999.00,9,  -999.00,9,  -999.00,9,  -999.00,9,   -999.0,-999.0000, -999,9,  695,   8.3854,  26.5455,   -999.0,9
       RF01-06,  NONE,RF-1368,  1,      7,02-15821,2,20010623,0614, 31.9933, 147.0088, 5916,    802.1,   6.3806,  34.0778,2,   -999.0,9,  34.0837,2,    127.9,2,  -999.00,9,  -999.00,9,  -999.00,9,  -999.00,9,  -999.00,9, -999.000,9, -999.000,9,  -999.00,9,   -999.0,9,   -999.0,9,-999.0000,9,   -999.0,  9,  -999.00,9,   -999.0,  -999.00,9,  -999.00,9,  -999.00,9,  -999.00,9,   -999.0,-999.0000, -999,9,  795,   6.3070,  26.7847,   -999.0,9
       RF01-06,  NONE,RF-1368,  1,      6,02-13588,2,20010623,0611, 31.9933, 147.0088, 5916,    903.4,   5.1599,  34.1292,2,   -999.0,9,-999.0000,9,     88.8,2,  -999.00,9,  -999.00,9,  -999.00,9,  -999.00,9,  -999.00,9, -999.000,9, -999.000,9,  -999.00,9,   -999.0,9,   -999.0,9,-999.0000,9,   -999.0,  9,  -999.00,9,   -999.0,  -999.00,9,  -999.00,9,  -999.00,9,  -999.00,9,   -999.0,-999.0000, -999,9,  895,   5.0848,  26.9751,   -999.0,9
       RF01-06,  NONE,RF-1368,  1,      5,02-10155,2,20010623,0609, 31.9933, 147.0088, 5916,   1004.5,   4.4432,  34.2072,2,   -999.0,9,  34.2080,2,     63.2,2,  -999.00,9,  -999.00,9,  -999.00,9,  -999.00,9,  -999.00,9, -999.000,9, -999.000,9,  -999.00,9,   -999.0,9,   -999.0,9,-999.0000,9,   -999.0,  9,  -999.00,9,   -999.0,  -999.00,9,  -999.00,9,  -999.00,9,  -999.00,9,   -999.0,-999.0000, -999,9,  995,   4.3642,  27.1172,   -999.0,9
       RF01-06,  NONE,RF-1368,  1,      4,02-13579,2,20010623,0604, 31.9933, 147.0088, 5916,   1257.4,   3.3676,  34.3543,2,   -999.0,9,  34.3579,2,     38.8,2,  -999.00,9,  -999.00,9,  -999.00,9,  -999.00,9,  -999.00,9, -999.000,9, -999.000,9,  -999.00,9,   -999.0,9,   -999.0,9,-999.0000,9,   -999.0,  9,  -999.00,9,   -999.0,  -999.00,9,  -999.00,9,  -999.00,9,  -999.00,9,   -999.0,-999.0000, -999,9, 1245,   3.2765,  27.3440,   -999.0,9
       RF01-06,  NONE,RF-1368,  1,      3,02-13590,2,20010623,0559, 31.9933, 147.0088, 5916,   1509.5,   2.7730,  34.4533,2,   -999.0,9,  34.4536,2,     40.3,2,  -999.00,9,  -999.00,9,  -999.00,9,  -999.00,9,  -999.00,9, -999.000,9, -999.000,9,  -999.00,9,   -999.0,9,   -999.0,9,-999.0000,9,   -999.0,  9,  -999.00,9,   -999.0,  -999.00,9,  -999.00,9,  -999.00,9,  -999.00,9,   -999.0,-999.0000, -999,9, 1494,   2.6673,  27.4783,   -999.0,9
       RF01-06,  NONE,RF-1368,  1,      2,02-13589,2,20010623,0554, 31.9933, 147.0088, 5916,   1764.3,   2.3555,  34.5231,2,   -999.0,9,  34.5220,2,     50.5,2,  -999.00,9,  -999.00,9,  -999.00,9,  -999.00,9,  -999.00,9, -999.000,9, -999.000,9,  -999.00,9,   -999.0,9,   -999.0,9,-999.0000,9,   -999.0,  9,  -999.00,9,   -999.0,  -999.00,9,  -999.00,9,  -999.00,9,  -999.00,9,   -999.0,-999.0000, -999,9, 1745,   2.2339,  27.5708,   -999.0,9
       RF01-06,  NONE,RF-1368,  1,      1,02-12807,2,20010623,0548, 31.9933, 147.0088, 5916,   2050.2,   2.0621,  34.5771,2,   -999.0,9,  34.5765,2,     68.1,2,  -999.00,9,  -999.00,9,  -999.00,9,  -999.00,9,  -999.00,9, -999.000,9, -999.000,9,  -999.00,9,   -999.0,9,   -999.0,9,-999.0000,9,   -999.0,  9,  -999.00,9,   -999.0,  -999.00,9,  -999.00,9,  -999.00,9,  -999.00,9,   -999.0,-999.0000, -999,9, 2026,   1.9206,  27.6391,   -999.0,9