BOTTLE,20130510GEMDJMAYT
EXPOCODE,SECT_ID,STNNBR,CASTNO,SAMPNO,BTLNBR,BTLNBR_FLAG_W,DATE,TIME,LATITUDE,LONGITUDE,DEPTH,CTDPRS,CTDTMP,CTDSAL,CTDSAL_FLAG_W,CTDOXY,CTDOXY_FLAG_W,SALNTY,SALNTY_FLAG_W,OXYGEN,OXYGEN_FLAG_W,SILCAT,SILCAT_FLAG_W,NITRAT,NITRAT_FLAG_W,NO2+NO3,NO2+NO3_FLAG_W,NITRIT,NITRIT_FLAG_W,PHSPHT,PHSPHT_FLAG_W,CFC-11,CFC-11_FLAG_W,CFC-12,CFC-12_FLAG_W,DELC13,DELC13_FLAG_W,TCARBN,TCARBN_FLAG_W,ALKALI,ALKALI_FLAG_W,PH,PH_FLAG_W,PH_TMP,PH_SCALE,PH_NBS,PH_NBS_FLAG_W,C13ERR,TOTALP,TOTALP_FLAG_W,AMMONI,AMMONI_FLAG_W,CHLORA,CHLORA_FLAG_W,PPHYTN,PPHYTN_FLAG_W,REVPRS,REVTMP,DEPTH_,DEPTH_FLAG,CTDDEP,THETA,SIGTHT,DOC,DOC_FLAG_W
,,,,,,,GMT,GMT,,,METER,DBAR,ITS-90,PSS-78,,UMOL/KG,,PSS-78,,UMOL/KG,,UMOL/KG,,UMOL/KG,,UMOL/KG,,UMOL/KG,,UMOL/KG,,PMOL/KG,,PMOL/KG,,/MILLE,,UMOL/KG,,UMOL/KG,,25_DEG_C,,DEG_C,,,,/MILLE,UMOL/KG,,UMOL/KG,,UG/L,,UG/L,,DBAR,ITS-90,METERS,,METERS,DEG_C,,UMOL/L,
       RF01-10, EQPAC,RF-1476,  1,     -9,      -9,5,20011114,0404,  0.9987, 149.1685, 2556,      0.0,  30.3592,  34.0199,2,   -999.0,9,-999.0000,9,   -999.0,9,  -999.00,9,  -999.00,9,  -999.00,9,  -999.00,9,  -999.00,9, -999.000,9, -999.000,9,  -999.00,9,   -999.0,9,   -999.0,9,-999.0000,9,   -999.0,  9,  -999.00,9,   -999.0,  -999.00,9,  -999.00,9,  -999.00,9,  -999.00,9,   -999.0,-999.0000, -999,9,    0,  30.3592,  20.8689,   -999.0,9
       RF01-10, EQPAC,RF-1476,  1,     21, 02-9150,2,20011114,0402,  0.9987, 149.1685, 2556,     12.1,  30.3075,  34.0103,2,   -999.0,9,-999.0000,9,   -999.0,9,  -999.00,9,  -999.00,9,  -999.00,9,  -999.00,9,  -999.00,9, -999.000,9, -999.000,9,  -999.00,9,   -999.0,9,   -999.0,9,-999.0000,9,   -999.0,  9,  -999.00,9,   -999.0,  -999.00,9,  -999.00,9,  -999.00,9,  -999.00,9,   -999.0,-999.0000, -999,9,   12,  30.3045,  20.8805,   -999.0,9
       RF01-10, EQPAC,RF-1476,  1,     20,02-12826,2,20011114,0401,  0.9987, 149.1685, 2556,     27.4,  30.2341,  34.0158,2,   -999.0,9,-999.0000,9,   -999.0,9,  -999.00,9,  -999.00,9,  -999.00,9,  -999.00,9,  -999.00,9, -999.000,9, -999.000,9,  -999.00,9,   -999.0,9,   -999.0,9,-999.0000,9,   -999.0,  9,  -999.00,9,   -999.0,  -999.00,9,  -999.00,9,  -999.00,9,  -999.00,9,   -999.0,-999.0000, -999,9,   27,  30.2273,  20.9110,   -999.0,9
       RF01-10, EQPAC,RF-1476,  1,     19,02-12825,2,20011114,0359,  0.9987, 149.1685, 2556,     51.8,  29.7245,  34.3669,2,   -999.0,9,-999.0000,9,   -999.0,9,  -999.00,9,  -999.00,9,  -999.00,9,  -999.00,9,  -999.00,9, -999.000,9, -999.000,9,  -999.00,9,   -999.0,9,   -999.0,9,-999.0000,9,   -999.0,  9,  -999.00,9,   -999.0,  -999.00,9,  -999.00,9,  -999.00,9,  -999.00,9,   -999.0,-999.0000, -999,9,   51,  29.7118,  21.3496,   -999.0,9
       RF01-10, EQPAC,RF-1476,  1,     18,02-12830,2,20011114,0358,  0.9987, 149.1685, 2556,     78.3,  29.6275,  34.5784,2,   -999.0,9,-999.0000,9,   -999.0,9,  -999.00,9,  -999.00,9,  -999.00,9,  -999.00,9,  -999.00,9, -999.000,9, -999.000,9,  -999.00,9,   -999.0,9,   -999.0,9,-999.0000,9,   -999.0,  9,  -999.00,9,   -999.0,  -999.00,9,  -999.00,9,  -999.00,9,  -999.00,9,   -999.0,-999.0000, -999,9,   78,  29.6082,  21.5432,   -999.0,9
       RF01-10, EQPAC,RF-1476,  1,     17,02-12815,2,20011114,0356,  0.9987, 149.1685, 2556,    102.7,  29.4450,  35.1357,2,   -999.0,9,  35.2057,4,   -999.0,9,  -999.00,9,  -999.00,9,  -999.00,9,  -999.00,9,  -999.00,9, -999.000,9, -999.000,9,  -999.00,9,   -999.0,9,   -999.0,9,-999.0000,9,   -999.0,  9,  -999.00,9,   -999.0,  -999.00,9,  -999.00,9,  -999.00,9,  -999.00,9,   -999.0,-999.0000, -999,9,  102,  29.4198,  22.0250,   -999.0,9
       RF01-10, EQPAC,RF-1476,  1,     16,02-12818,2,20011114,0355,  0.9987, 149.1685, 2556,    126.9,  25.5456,  35.2223,2,   -999.0,9,-999.0000,9,   -999.0,9,  -999.00,9,  -999.00,9,  -999.00,9,  -999.00,9,  -999.00,9, -999.000,9, -999.000,9,  -999.00,9,   -999.0,9,   -999.0,9,-999.0000,9,   -999.0,  9,  -999.00,9,   -999.0,  -999.00,9,  -999.00,9,  -999.00,9,  -999.00,9,   -999.0,-999.0000, -999,9,  126,  25.5176,  23.3507,   -999.0,9
       RF01-10, EQPAC,RF-1476,  1,     15,02-12809,2,20011114,0354,  0.9987, 149.1685, 2556,    152.0,  21.4494,  35.2896,2,   -999.0,9,-999.0000,9,   -999.0,9,  -999.00,9,  -999.00,9,  -999.00,9,  -999.00,9,  -999.00,9, -999.000,9, -999.000,9,  -999.00,9,   -999.0,9,   -999.0,9,-999.0000,9,   -999.0,  9,  -999.00,9,   -999.0,  -999.00,9,  -999.00,9,  -999.00,9,  -999.00,9,   -999.0,-999.0000, -999,9,  151,  21.4199,  24.5993,   -999.0,9
       RF01-10, EQPAC,RF-1476,  1,     14,02-12817,2,20011114,0352,  0.9987, 149.1685, 2556,    202.9,  18.1289,  35.2960,2,   -999.0,9,  35.2072,4,   -999.0,9,  -999.00,9,  -999.00,9,  -999.00,9,  -999.00,9,  -999.00,9, -999.000,9, -999.000,9,  -999.00,9,   -999.0,9,   -999.0,9,-999.0000,9,   -999.0,  9,  -999.00,9,   -999.0,  -999.00,9,  -999.00,9,  -999.00,9,  -999.00,9,   -999.0,-999.0000, -999,9,  202,  18.0938,  25.4756,   -999.0,9
       RF01-10, EQPAC,RF-1476,  1,     13,02-15822,2,20011114,0350,  0.9987, 149.1685, 2556,    252.9,  12.9277,  34.7992,2,   -999.0,9,-999.0000,9,   -999.0,9,  -999.00,9,  -999.00,9,  -999.00,9,  -999.00,9,  -999.00,9, -999.000,9, -999.000,9,  -999.00,9,   -999.0,9,   -999.0,9,-999.0000,9,   -999.0,  9,  -999.00,9,   -999.0,  -999.00,9,  -999.00,9,  -999.00,9,  -999.00,9,   -999.0,-999.0000, -999,9,  251,  12.8931,  26.2587,   -999.0,9
       RF01-10, EQPAC,RF-1476,  1,     12,02-12821,2,20011114,0348,  0.9987, 149.1685, 2556,    303.7,  11.7269,  34.8574,2,   -999.0,9,  34.8585,2,   -999.0,9,  -999.00,9,  -999.00,9,  -999.00,9,  -999.00,9,  -999.00,9, -999.000,9, -999.000,9,  -999.00,9,   -999.0,9,   -999.0,9,-999.0000,9,   -999.0,  9,  -999.00,9,   -999.0,  -999.00,9,  -999.00,9,  -999.00,9,  -999.00,9,   -999.0,-999.0000, -999,9,  302,  11.6878,  26.5375,   -999.0,9
       RF01-10, EQPAC,RF-1476,  1,     11,02-15823,2,20011114,0346,  0.9987, 149.1685, 2556,    404.4,   9.8299,  34.7141,2,   -999.0,9,  34.7130,2,   -999.0,9,  -999.00,9,  -999.00,9,  -999.00,9,  -999.00,9,  -999.00,9, -999.000,9, -999.000,9,  -999.00,9,   -999.0,9,   -999.0,9,-999.0000,9,   -999.0,  9,  -999.00,9,   -999.0,  -999.00,9,  -999.00,9,  -999.00,9,  -999.00,9,   -999.0,-999.0000, -999,9,  402,   9.7832,  26.7655,   -999.0,9
       RF01-10, EQPAC,RF-1476,  1,     10,02-12820,2,20011114,0343,  0.9987, 149.1685, 2556,    504.4,   8.1395,  34.6041,2,   -999.0,9,  34.6097,2,   -999.0,9,  -999.00,9,  -999.00,9,  -999.00,9,  -999.00,9,  -999.00,9, -999.000,9, -999.000,9,  -999.00,9,   -999.0,9,   -999.0,9,-999.0000,9,   -999.0,  9,  -999.00,9,   -999.0,  -999.00,9,  -999.00,9,  -999.00,9,  -999.00,9,   -999.0,-999.0000, -999,9,  501,   8.0873,  26.9498,   -999.0,9
       RF01-10, EQPAC,RF-1476,  1,      9,02-12810,2,20011114,0340,  0.9987, 149.1685, 2556,    606.0,   7.0714,  34.5543,2,   -999.0,9,  34.5598,2,   -999.0,9,  -999.00,9,  -999.00,9,  -999.00,9,  -999.00,9,  -999.00,9, -999.000,9, -999.000,9,  -999.00,9,   -999.0,9,   -999.0,9,-999.0000,9,   -999.0,  9,  -999.00,9,   -999.0,  -999.00,9,  -999.00,9,  -999.00,9,  -999.00,9,   -999.0,-999.0000, -999,9,  602,   7.0131,  27.0659,   -999.0,9
       RF01-10, EQPAC,RF-1476,  1,      8,02-12819,2,20011114,0336,  0.9987, 149.1685, 2556,    706.3,   6.1225,  34.5341,2,   -999.0,9,  34.5356,2,   -999.0,9,  -999.00,9,  -999.00,9,  -999.00,9,  -999.00,9,  -999.00,9, -999.000,9, -999.000,9,  -999.00,9,   -999.0,9,   -999.0,9,-999.0000,9,   -999.0,  9,  -999.00,9,   -999.0,  -999.00,9,  -999.00,9,  -999.00,9,  -999.00,9,   -999.0,-999.0000, -999,9,  701,   6.0591,  27.1769,   -999.0,9
       RF01-10, EQPAC,RF-1476,  1,      7,02-15821,2,20011114,0333,  0.9987, 149.1685, 2556,    807.3,   5.6555,  34.5310,2,   -999.0,9,  34.5375,2,   -999.0,9,  -999.00,9,  -999.00,9,  -999.00,9,  -999.00,9,  -999.00,9, -999.000,9, -999.000,9,  -999.00,9,   -999.0,9,   -999.0,9,-999.0000,9,   -999.0,  9,  -999.00,9,   -999.0,  -999.00,9,  -999.00,9,  -999.00,9,  -999.00,9,   -999.0,-999.0000, -999,9,  801,   5.5853,  27.2337,   -999.0,9
       RF01-10, EQPAC,RF-1476,  1,      6,02-13588,2,20011114,0330,  0.9987, 149.1685, 2556,    908.8,   5.0274,  34.5355,2,   -999.0,9,-999.0000,9,   -999.0,9,  -999.00,9,  -999.00,9,  -999.00,9,  -999.00,9,  -999.00,9, -999.000,9, -999.000,9,  -999.00,9,   -999.0,9,   -999.0,9,-999.0000,9,   -999.0,  9,  -999.00,9,   -999.0,  -999.00,9,  -999.00,9,  -999.00,9,  -999.00,9,   -999.0,-999.0000, -999,9,  902,   4.9520,  27.3125,   -999.0,9
       RF01-10, EQPAC,RF-1476,  1,      5,02-10155,2,20011114,0328,  0.9987, 149.1685, 2556,   1009.2,   4.6218,  34.5468,2,   -999.0,9,  34.5474,2,   -999.0,9,  -999.00,9,  -999.00,9,  -999.00,9,  -999.00,9,  -999.00,9, -999.000,9, -999.000,9,  -999.00,9,   -999.0,9,   -999.0,9,-999.0000,9,   -999.0,  9,  -999.00,9,   -999.0,  -999.00,9,  -999.00,9,  -999.00,9,  -999.00,9,   -999.0,-999.0000, -999,9, 1001,   4.5405,  27.3679,   -999.0,9
       RF01-10, EQPAC,RF-1476,  1,      4,02-13579,2,20011114,0322,  0.9987, 149.1685, 2556,   1262.9,   3.5671,  34.5722,2,   -999.0,9,  34.5798,2,   -999.0,9,  -999.00,9,  -999.00,9,  -999.00,9,  -999.00,9,  -999.00,9, -999.000,9, -999.000,9,  -999.00,9,   -999.0,9,   -999.0,9,-999.0000,9,   -999.0,  9,  -999.00,9,   -999.0,  -999.00,9,  -999.00,9,  -999.00,9,  -999.00,9,   -999.0,-999.0000, -999,9, 1252,   3.4731,  27.4988,   -999.0,9
       RF01-10, EQPAC,RF-1476,  1,      3,02-13590,2,20011114,0316,  0.9987, 149.1685, 2556,   1515.9,   3.1334,  34.5958,2,   -999.0,9,  34.5973,2,   -999.0,9,  -999.00,9,  -999.00,9,  -999.00,9,  -999.00,9,  -999.00,9, -999.000,9, -999.000,9,  -999.00,9,   -999.0,9,   -999.0,9,-999.0000,9,   -999.0,  9,  -999.00,9,   -999.0,  -999.00,9,  -999.00,9,  -999.00,9,  -999.00,9,   -999.0,-999.0000, -999,9, 1502,   3.0226,  27.5604,   -999.0,9
       RF01-10, EQPAC,RF-1476,  1,      2,02-13589,2,20011114,0311,  0.9987, 149.1685, 2556,   1769.1,   2.6515,  34.6112,2,   -999.0,9,  34.6166,2,   -999.0,9,  -999.00,9,  -999.00,9,  -999.00,9,  -999.00,9,  -999.00,9, -999.000,9, -999.000,9,  -999.00,9,   -999.0,9,   -999.0,9,-999.0000,9,   -999.0,  9,  -999.00,9,   -999.0,  -999.00,9,  -999.00,9,  -999.00,9,  -999.00,9,   -999.0,-999.0000, -999,9, 1752,   2.5252,  27.6169,   -999.0,9
       RF01-10, EQPAC,RF-1476,  1,      1,02-12807,2,20011114,0304,  0.9987, 149.1685, 2556,   2045.5,   2.2417,  34.6316,2,   -999.0,9,  34.6355,2,   -999.0,9,  -999.00,9,  -999.00,9,  -999.00,9,  -999.00,9,  -999.00,9, -999.000,9, -999.000,9,  -999.00,9,   -999.0,9,   -999.0,9,-999.0000,9,   -999.0,  9,  -999.00,9,   -999.0,  -999.00,9,  -999.00,9,  -999.00,9,  -999.00,9,   -999.0,-999.0000, -999,9, 2024,   2.0977,  27.6687,   -999.0,9
       RF01-10,  NONE,RF-1478,  1,     -9,      -9,5,20011114,1205,  1.9878, 148.8243, 5543,      0.0,  30.2684,  33.9731,2,   -999.0,9,-999.0000,9,   -999.0,9,  -999.00,9,  -999.00,9,  -999.00,9,  -999.00,9,  -999.00,9, -999.000,9, -999.000,9,  -999.00,9,   -999.0,9,   -999.0,9,-999.0000,9,   -999.0,  9,  -999.00,9,   -999.0,  -999.00,9,  -999.00,9,  -999.00,9,  -999.00,9,   -999.0,-999.0000, -999,9,    0,  30.2684,  20.8649,   -999.0,9
       RF01-10,  NONE,RF-1478,  1,     19,02-12825,2,20011114,1203,  1.9878, 148.8243, 5543,     10.3,  30.2803,  33.9716,2,   -999.0,9,-999.0000,9,   -999.0,9,  -999.00,9,  -999.00,9,  -999.00,9,  -999.00,9,  -999.00,9, -999.000,9, -999.000,9,  -999.00,9,   -999.0,9,   -999.0,9,-999.0000,9,   -999.0,  9,  -999.00,9,   -999.0,  -999.00,9,  -999.00,9,  -999.00,9,  -999.00,9,   -999.0,-999.0000, -999,9,   10,  30.2778,  20.8606,   -999.0,9
       RF01-10,  NONE,RF-1478,  1,     18,02-12830,2,20011114,1201,  1.9878, 148.8243, 5543,     25.3,  30.2824,  33.9704,2,   -999.0,9,-999.0000,9,   -999.0,9,  -999.00,9,  -999.00,9,  -999.00,9,  -999.00,9,  -999.00,9, -999.000,9, -999.000,9,  -999.00,9,   -999.0,9,   -999.0,9,-999.0000,9,   -999.0,  9,  -999.00,9,   -999.0,  -999.00,9,  -999.00,9,  -999.00,9,  -999.00,9,   -999.0,-999.0000, -999,9,   25,  30.2760,  20.8602,   -999.0,9
       RF01-10,  NONE,RF-1478,  1,     17,02-12815,2,20011114,1200,  1.9878, 148.8243, 5543,     50.8,  29.7111,  34.2821,2,   -999.0,9,-999.0000,9,   -999.0,9,  -999.00,9,  -999.00,9,  -999.00,9,  -999.00,9,  -999.00,9, -999.000,9, -999.000,9,  -999.00,9,   -999.0,9,   -999.0,9,-999.0000,9,   -999.0,  9,  -999.00,9,   -999.0,  -999.00,9,  -999.00,9,  -999.00,9,  -999.00,9,   -999.0,-999.0000, -999,9,   51,  29.6986,  21.2904,   -999.0,9
       RF01-10,  NONE,RF-1478,  1,     16,02-12818,2,20011114,1158,  1.9878, 148.8243, 5543,     75.8,  29.0501,  35.0428,2,   -999.0,9,-999.0000,9,   -999.0,9,  -999.00,9,  -999.00,9,  -999.00,9,  -999.00,9,  -999.00,9, -999.000,9, -999.000,9,  -999.00,9,   -999.0,9,   -999.0,9,-999.0000,9,   -999.0,  9,  -999.00,9,   -999.0,  -999.00,9,  -999.00,9,  -999.00,9,  -999.00,9,   -999.0,-999.0000, -999,9,   75,  29.0318,  22.0856,   -999.0,9
       RF01-10,  NONE,RF-1478,  1,     15,02-12809,2,20011114,1156,  1.9878, 148.8243, 5543,    101.4,  28.5751,  35.2315,2,   -999.0,9,-999.0000,9,   -999.0,9,  -999.00,9,  -999.00,9,  -999.00,9,  -999.00,9,  -999.00,9, -999.000,9, -999.000,9,  -999.00,9,   -999.0,9,   -999.0,9,-999.0000,9,   -999.0,  9,  -999.00,9,   -999.0,  -999.00,9,  -999.00,9,  -999.00,9,  -999.00,9,   -999.0,-999.0000, -999,9,  101,  28.5508,  22.3874,   -999.0,9
       RF01-10,  NONE,RF-1478,  1,     14,02-12817,2,20011114,1155,  1.9878, 148.8243, 5543,    125.6,  25.3197,  35.2449,2,   -999.0,9,-999.0000,9,   -999.0,9,  -999.00,9,  -999.00,9,  -999.00,9,  -999.00,9,  -999.00,9, -999.000,9, -999.000,9,  -999.00,9,   -999.0,9,   -999.0,9,-999.0000,9,   -999.0,  9,  -999.00,9,   -999.0,  -999.00,9,  -999.00,9,  -999.00,9,  -999.00,9,   -999.0,-999.0000, -999,9,  125,  25.2922,  23.4371,   -999.0,9
       RF01-10,  NONE,RF-1478,  1,     13,02-15822,2,20011114,1153,  1.9878, 148.8243, 5543,    151.3,  23.5598,  35.2872,2,   -999.0,9,-999.0000,9,   -999.0,9,  -999.00,9,  -999.00,9,  -999.00,9,  -999.00,9,  -999.00,9, -999.000,9, -999.000,9,  -999.00,9,   -999.0,9,   -999.0,9,-999.0000,9,   -999.0,  9,  -999.00,9,   -999.0,  -999.00,9,  -999.00,9,  -999.00,9,  -999.00,9,   -999.0,-999.0000, -999,9,  150,  23.5283,  23.9978,   -999.0,9
       RF01-10,  NONE,RF-1478,  1,     12,02-12821,2,20011114,1151,  1.9878, 148.8243, 5543,    201.7,  16.9357,  34.8934,2,   -999.0,9,-999.0000,9,   -999.0,9,  -999.00,9,  -999.00,9,  -999.00,9,  -999.00,9,  -999.00,9, -999.000,9, -999.000,9,  -999.00,9,   -999.0,9,   -999.0,9,-999.0000,9,   -999.0,  9,  -999.00,9,   -999.0,  -999.00,9,  -999.00,9,  -999.00,9,  -999.00,9,   -999.0,-999.0000, -999,9,  201,  16.9025,  25.4556,   -999.0,9
       RF01-10,  NONE,RF-1478,  1,     11,02-15823,2,20011114,1149,  1.9878, 148.8243, 5543,    251.4,  10.8243,  34.5787,2,   -999.0,9,-999.0000,9,   -999.0,9,  -999.00,9,  -999.00,9,  -999.00,9,  -999.00,9,  -999.00,9, -999.000,9, -999.000,9,  -999.00,9,   -999.0,9,   -999.0,9,-999.0000,9,   -999.0,  9,  -999.00,9,   -999.0,  -999.00,9,  -999.00,9,  -999.00,9,  -999.00,9,   -999.0,-999.0000, -999,9,  250,  10.7937,  26.4845,   -999.0,9
       RF01-10,  NONE,RF-1478,  1,     10,02-12820,2,20011114,1147,  1.9878, 148.8243, 5543,    302.7,   9.7115,  34.6726,2,   -999.0,9,-999.0000,9,   -999.0,9,  -999.00,9,  -999.00,9,  -999.00,9,  -999.00,9,  -999.00,9, -999.000,9, -999.000,9,  -999.00,9,   -999.0,9,   -999.0,9,-999.0000,9,   -999.0,  9,  -999.00,9,   -999.0,  -999.00,9,  -999.00,9,  -999.00,9,  -999.00,9,   -999.0,-999.0000, -999,9,  301,   9.6770,  26.7509,   -999.0,9
       RF01-10,  NONE,RF-1478,  1,      9,02-12810,2,20011114,1144,  1.9878, 148.8243, 5543,    402.0,   9.0012,  34.6493,2,   -999.0,9,-999.0000,9,   -999.0,9,  -999.00,9,  -999.00,9,  -999.00,9,  -999.00,9,  -999.00,9, -999.000,9, -999.000,9,  -999.00,9,   -999.0,9,   -999.0,9,-999.0000,9,   -999.0,  9,  -999.00,9,   -999.0,  -999.00,9,  -999.00,9,  -999.00,9,  -999.00,9,   -999.0,-999.0000, -999,9,  399,   8.9573,  26.8503,   -999.0,9
       RF01-10,  NONE,RF-1478,  1,      8,02-12819,2,20011114,1141,  1.9878, 148.8243, 5543,    503.5,   7.9685,  34.5946,2,   -999.0,9,-999.0000,9,   -999.0,9,  -999.00,9,  -999.00,9,  -999.00,9,  -999.00,9,  -999.00,9, -999.000,9, -999.000,9,  -999.00,9,   -999.0,9,   -999.0,9,-999.0000,9,   -999.0,  9,  -999.00,9,   -999.0,  -999.00,9,  -999.00,9,  -999.00,9,  -999.00,9,   -999.0,-999.0000, -999,9,  500,   7.9170,  26.9678,   -999.0,9
       RF01-10,  NONE,RF-1478,  1,      7,02-15821,2,20011114,1138,  1.9878, 148.8243, 5543,    604.9,   7.4561,  34.5632,2,   -999.0,9,-999.0000,9,   -999.0,9,  -999.00,9,  -999.00,9,  -999.00,9,  -999.00,9,  -999.00,9, -999.000,9, -999.000,9,  -999.00,9,   -999.0,9,   -999.0,9,-999.0000,9,   -999.0,  9,  -999.00,9,   -999.0,  -999.00,9,  -999.00,9,  -999.00,9,  -999.00,9,   -999.0,-999.0000, -999,9,  601,   7.3961,  27.0190,   -999.0,9
       RF01-10,  NONE,RF-1478,  1,      6,02-13588,2,20011114,1136,  1.9878, 148.8243, 5543,    705.0,   6.2165,  34.5330,2,   -999.0,9,-999.0000,9,   -999.0,9,  -999.00,9,  -999.00,9,  -999.00,9,  -999.00,9,  -999.00,9, -999.000,9, -999.000,9,  -999.00,9,   -999.0,9,   -999.0,9,-999.0000,9,   -999.0,  9,  -999.00,9,   -999.0,  -999.00,9,  -999.00,9,  -999.00,9,  -999.00,9,   -999.0,-999.0000, -999,9,  700,   6.1527,  27.1641,   -999.0,9
       RF01-10,  NONE,RF-1478,  1,      5,02-10155,2,20011114,1133,  1.9878, 148.8243, 5543,    805.7,   5.6695,  34.5321,2,   -999.0,9,-999.0000,9,   -999.0,9,  -999.00,9,  -999.00,9,  -999.00,9,  -999.00,9,  -999.00,9, -999.000,9, -999.000,9,  -999.00,9,   -999.0,9,   -999.0,9,-999.0000,9,   -999.0,  9,  -999.00,9,   -999.0,  -999.00,9,  -999.00,9,  -999.00,9,  -999.00,9,   -999.0,-999.0000, -999,9,  800,   5.5994,  27.2329,   -999.0,9
       RF01-10,  NONE,RF-1478,  1,      4,02-13579,2,20011114,1129,  1.9878, 148.8243, 5543,    907.5,   4.8669,  34.5461,2,   -999.0,9,-999.0000,9,   -999.0,9,  -999.00,9,  -999.00,9,  -999.00,9,  -999.00,9,  -999.00,9, -999.000,9, -999.000,9,  -999.00,9,   -999.0,9,   -999.0,9,-999.0000,9,   -999.0,  9,  -999.00,9,   -999.0,  -999.00,9,  -999.00,9,  -999.00,9,  -999.00,9,   -999.0,-999.0000, -999,9,  901,   4.7928,  27.3391,   -999.0,9
       RF01-10,  NONE,RF-1478,  1,      3,02-13590,2,20011114,1126,  1.9878, 148.8243, 5543,   1008.9,   4.4390,  34.5517,2,   -999.0,9,-999.0000,9,   -999.0,9,  -999.00,9,  -999.00,9,  -999.00,9,  -999.00,9,  -999.00,9, -999.000,9, -999.000,9,  -999.00,9,   -999.0,9,   -999.0,9,-999.0000,9,   -999.0,  9,  -999.00,9,   -999.0,  -999.00,9,  -999.00,9,  -999.00,9,  -999.00,9,   -999.0,-999.0000, -999,9, 1001,   4.3591,  27.3915,   -999.0,9
       RF01-10,  NONE,RF-1478,  1,      2,02-13589,2,20011114,1120,  1.9878, 148.8243, 5543,   1261.5,   3.8440,  34.5692,2,   -999.0,9,-999.0000,9,   -999.0,9,  -999.00,9,  -999.00,9,  -999.00,9,  -999.00,9,  -999.00,9, -999.000,9, -999.000,9,  -999.00,9,   -999.0,9,   -999.0,9,-999.0000,9,   -999.0,  9,  -999.00,9,   -999.0,  -999.00,9,  -999.00,9,  -999.00,9,  -999.00,9,   -999.0,-999.0000, -999,9, 1251,   3.7474,  27.4693,   -999.0,9
       RF01-10,  NONE,RF-1478,  1,      1,02-12807,2,20011114,1114,  1.9878, 148.8243, 5543,   1535.2,   3.0164,  34.5978,2,   -999.0,9,-999.0000,9,   -999.0,9,  -999.00,9,  -999.00,9,  -999.00,9,  -999.00,9,  -999.00,9, -999.000,9, -999.000,9,  -999.00,9,   -999.0,9,   -999.0,9,-999.0000,9,   -999.0,  9,  -999.00,9,   -999.0,  -999.00,9,  -999.00,9,  -999.00,9,  -999.00,9,   -999.0,-999.0000, -999,9, 1521,   2.9054,  27.5727,   -999.0,9