BOTTLE,20130510GEMDJMAYT
EXPOCODE,SECT_ID,STNNBR,CASTNO,SAMPNO,BTLNBR,BTLNBR_FLAG_W,DATE,TIME,LATITUDE,LONGITUDE,DEPTH,CTDPRS,CTDTMP,CTDSAL,CTDSAL_FLAG_W,CTDOXY,CTDOXY_FLAG_W,SALNTY,SALNTY_FLAG_W,OXYGEN,OXYGEN_FLAG_W,SILCAT,SILCAT_FLAG_W,NITRAT,NITRAT_FLAG_W,NO2+NO3,NO2+NO3_FLAG_W,NITRIT,NITRIT_FLAG_W,PHSPHT,PHSPHT_FLAG_W,CFC-11,CFC-11_FLAG_W,CFC-12,CFC-12_FLAG_W,DELC13,DELC13_FLAG_W,TCARBN,TCARBN_FLAG_W,ALKALI,ALKALI_FLAG_W,PH,PH_FLAG_W,PH_TMP,PH_SCALE,PH_NBS,PH_NBS_FLAG_W,C13ERR,TOTALP,TOTALP_FLAG_W,AMMONI,AMMONI_FLAG_W,CHLORA,CHLORA_FLAG_W,PPHYTN,PPHYTN_FLAG_W,REVPRS,REVTMP,DEPTH_,DEPTH_FLAG,CTDDEP,THETA,SIGTHT,DOC,DOC_FLAG_W
,,,,,,,GMT,GMT,,,METER,DBAR,ITS-90,PSS-78,,UMOL/KG,,PSS-78,,UMOL/KG,,UMOL/KG,,UMOL/KG,,UMOL/KG,,UMOL/KG,,UMOL/KG,,PMOL/KG,,PMOL/KG,,/MILLE,,UMOL/KG,,UMOL/KG,,25_DEG_C,,DEG_C,,,,/MILLE,UMOL/KG,,UMOL/KG,,UG/L,,UG/L,,DBAR,ITS-90,METERS,,METERS,DEG_C,,UMOL/L,
       RF01-10,  137E,RF-1520,  1,     -9,      -9,5,20011201,2028, 28.9888, 137.8448, 4219,      0.0,  23.5289,  34.6704,2,   -999.0,9,-999.0000,9,   -999.0,9,  -999.00,9,  -999.00,9,  -999.00,9,  -999.00,9,  -999.00,9, -999.000,9, -999.000,9,  -999.00,9,   -999.0,9,   -999.0,9,-999.0000,9,   -999.0,  9,  -999.00,9,   -999.0,  -999.00,9,  -999.00,9,  -999.00,9,  -999.00,9,   -999.0,-999.0000, -999,9,    0,  23.5289,  23.5303,   -999.0,9
       RF01-10,  137E,RF-1520,  1,     19,02-12825,2,20011201,2025, 28.9888, 137.8448, 4219,     11.5,  23.5351,  34.6744,2,   -999.0,9,-999.0000,9,   -999.0,9,  -999.00,9,  -999.00,9,  -999.00,9,  -999.00,9,  -999.00,9, -999.000,9, -999.000,9,  -999.00,9,   -999.0,9,   -999.0,9,-999.0000,9,   -999.0,  9,  -999.00,9,   -999.0,  -999.00,9,  -999.00,9,  -999.00,9,  -999.00,9,   -999.0,-999.0000, -999,9,   11,  23.5327,  23.5322,   -999.0,9
       RF01-10,  137E,RF-1520,  1,     18,02-12830,2,20011201,2024, 28.9888, 137.8448, 4219,     26.5,  23.5385,  34.6736,2,   -999.0,9,-999.0000,9,   -999.0,9,  -999.00,9,  -999.00,9,  -999.00,9,  -999.00,9,  -999.00,9, -999.000,9, -999.000,9,  -999.00,9,   -999.0,9,   -999.0,9,-999.0000,9,   -999.0,  9,  -999.00,9,   -999.0,  -999.00,9,  -999.00,9,  -999.00,9,  -999.00,9,   -999.0,-999.0000, -999,9,   26,  23.5330,  23.5315,   -999.0,9
       RF01-10,  137E,RF-1520,  1,     17,02-12815,2,20011201,2022, 28.9888, 137.8448, 4219,     52.4,  23.5419,  34.6743,2,   -999.0,9,-999.0000,9,   -999.0,9,  -999.00,9,  -999.00,9,  -999.00,9,  -999.00,9,  -999.00,9, -999.000,9, -999.000,9,  -999.00,9,   -999.0,9,   -999.0,9,-999.0000,9,   -999.0,  9,  -999.00,9,   -999.0,  -999.00,9,  -999.00,9,  -999.00,9,  -999.00,9,   -999.0,-999.0000, -999,9,   52,  23.5311,  23.5326,   -999.0,9
       RF01-10,  137E,RF-1520,  1,     16,02-12818,2,20011201,2021, 28.9888, 137.8448, 4219,     77.5,  23.5438,  34.6730,2,   -999.0,9,-999.0000,9,   -999.0,9,  -999.00,9,  -999.00,9,  -999.00,9,  -999.00,9,  -999.00,9, -999.000,9, -999.000,9,  -999.00,9,   -999.0,9,   -999.0,9,-999.0000,9,   -999.0,  9,  -999.00,9,   -999.0,  -999.00,9,  -999.00,9,  -999.00,9,  -999.00,9,   -999.0,-999.0000, -999,9,   77,  23.5278,  23.5326,   -999.0,9
       RF01-10,  137E,RF-1520,  1,     15,02-12809,2,20011201,2020, 28.9888, 137.8448, 4219,    102.2,  22.3373,  34.8025,2,   -999.0,9,  34.8101,2,   -999.0,9,  -999.00,9,  -999.00,9,  -999.00,9,  -999.00,9,  -999.00,9, -999.000,9, -999.000,9,  -999.00,9,   -999.0,9,   -999.0,9,-999.0000,9,   -999.0,  9,  -999.00,9,   -999.0,  -999.00,9,  -999.00,9,  -999.00,9,  -999.00,9,   -999.0,-999.0000, -999,9,  101,  22.3169,  23.9786,   -999.0,9
       RF01-10,  137E,RF-1520,  1,     14,02-12817,2,20011201,2018, 28.9888, 137.8448, 4219,    127.3,  21.1224,  34.8562,2,   -999.0,9,-999.0000,9,   -999.0,9,  -999.00,9,  -999.00,9,  -999.00,9,  -999.00,9,  -999.00,9, -999.000,9, -999.000,9,  -999.00,9,   -999.0,9,   -999.0,9,-999.0000,9,   -999.0,  9,  -999.00,9,   -999.0,  -999.00,9,  -999.00,9,  -999.00,9,  -999.00,9,   -999.0,-999.0000, -999,9,  126,  21.0979,  24.3578,   -999.0,9
       RF01-10,  137E,RF-1520,  1,     13,02-15822,2,20011201,2017, 28.9888, 137.8448, 4219,    152.7,  19.6767,  34.8230,2,   -999.0,9,-999.0000,9,   -999.0,9,  -999.00,9,  -999.00,9,  -999.00,9,  -999.00,9,  -999.00,9, -999.000,9, -999.000,9,  -999.00,9,   -999.0,9,   -999.0,9,-999.0000,9,   -999.0,  9,  -999.00,9,   -999.0,  -999.00,9,  -999.00,9,  -999.00,9,  -999.00,9,   -999.0,-999.0000, -999,9,  152,  19.6488,  24.7187,   -999.0,9
       RF01-10,  137E,RF-1520,  1,     12,02-12821,2,20011201,2015, 28.9888, 137.8448, 4219,    202.6,  18.0358,  34.7848,2,   -999.0,9,  34.7705,4,   -999.0,9,  -999.00,9,  -999.00,9,  -999.00,9,  -999.00,9,  -999.00,9, -999.000,9, -999.000,9,  -999.00,9,   -999.0,9,   -999.0,9,-999.0000,9,   -999.0,  9,  -999.00,9,   -999.0,  -999.00,9,  -999.00,9,  -999.00,9,  -999.00,9,   -999.0,-999.0000, -999,9,  201,  18.0010,  25.1070,   -999.0,9
       RF01-10,  137E,RF-1520,  1,     11,02-15823,2,20011201,2013, 28.9888, 137.8448, 4219,    253.5,  17.1819,  34.7521,2,   -999.0,9,-999.0000,9,   -999.0,9,  -999.00,9,  -999.00,9,  -999.00,9,  -999.00,9,  -999.00,9, -999.000,9, -999.000,9,  -999.00,9,   -999.0,9,   -999.0,9,-999.0000,9,   -999.0,  9,  -999.00,9,   -999.0,  -999.00,9,  -999.00,9,  -999.00,9,  -999.00,9,   -999.0,-999.0000, -999,9,  252,  17.1398,  25.2907,   -999.0,9
       RF01-10,  137E,RF-1520,  1,     10,02-12820,2,20011201,2011, 28.9888, 137.8448, 4219,    303.1,  16.3872,  34.7149,2,   -999.0,9,  34.7062,2,   -999.0,9,  -999.00,9,  -999.00,9,  -999.00,9,  -999.00,9,  -999.00,9, -999.000,9, -999.000,9,  -999.00,9,   -999.0,9,   -999.0,9,-999.0000,9,   -999.0,  9,  -999.00,9,   -999.0,  -999.00,9,  -999.00,9,  -999.00,9,  -999.00,9,   -999.0,-999.0000, -999,9,  301,  16.3384,  25.4504,   -999.0,9
       RF01-10,  137E,RF-1520,  1,      9,02-12810,2,20011201,2008, 28.9888, 137.8448, 4219,    403.6,  14.5424,  34.5943,2,   -999.0,9,  34.5865,2,   -999.0,9,  -999.00,9,  -999.00,9,  -999.00,9,  -999.00,9,  -999.00,9, -999.000,9, -999.000,9,  -999.00,9,   -999.0,9,   -999.0,9,-999.0000,9,   -999.0,  9,  -999.00,9,   -999.0,  -999.00,9,  -999.00,9,  -999.00,9,  -999.00,9,   -999.0,-999.0000, -999,9,  401,  14.4824,  25.7713,   -999.0,9
       RF01-10,  137E,RF-1520,  1,      8,02-12819,2,20011201,2005, 28.9888, 137.8448, 4219,    505.2,  11.5993,  34.3654,2,   -999.0,9,  34.2109,4,   -999.0,9,  -999.00,9,  -999.00,9,  -999.00,9,  -999.00,9,  -999.00,9, -999.000,9, -999.000,9,  -999.00,9,   -999.0,9,   -999.0,9,-999.0000,9,   -999.0,  9,  -999.00,9,   -999.0,  -999.00,9,  -999.00,9,  -999.00,9,  -999.00,9,   -999.0,-999.0000, -999,9,  501,  11.5344,  26.1836,   -999.0,9
       RF01-10,  137E,RF-1520,  1,      7,02-15821,2,20011201,2002, 28.9888, 137.8448, 4219,    604.7,   9.1229,  34.2207,2,   -999.0,9,  34.1489,4,   -999.0,9,  -999.00,9,  -999.00,9,  -999.00,9,  -999.00,9,  -999.00,9, -999.000,9, -999.000,9,  -999.00,9,   -999.0,9,   -999.0,9,-999.0000,9,   -999.0,  9,  -999.00,9,   -999.0,  -999.00,9,  -999.00,9,  -999.00,9,  -999.00,9,   -999.0,-999.0000, -999,9,  600,   9.0558,  26.4990,   -999.0,9
       RF01-10,  137E,RF-1520,  1,      6,02-13588,2,20011201,1959, 28.9888, 137.8448, 4219,    705.9,   7.0014,  34.1591,2,   -999.0,9,  34.1487,2,   -999.0,9,  -999.00,9,  -999.00,9,  -999.00,9,  -999.00,9,  -999.00,9, -999.000,9, -999.000,9,  -999.00,9,   -999.0,9,   -999.0,9,-999.0000,9,   -999.0,  9,  -999.00,9,   -999.0,  -999.00,9,  -999.00,9,  -999.00,9,  -999.00,9,   -999.0,-999.0000, -999,9,  700,   6.9338,  26.7654,   -999.0,9
       RF01-10,  137E,RF-1520,  1,      5,02-10155,2,20011201,1956, 28.9888, 137.8448, 4219,    807.2,   5.6636,  34.1739,2,   -999.0,9,  34.1640,2,   -999.0,9,  -999.00,9,  -999.00,9,  -999.00,9,  -999.00,9,  -999.00,9, -999.000,9, -999.000,9,  -999.00,9,   -999.0,9,   -999.0,9,-999.0000,9,   -999.0,  9,  -999.00,9,   -999.0,  -999.00,9,  -999.00,9,  -999.00,9,  -999.00,9,   -999.0,-999.0000, -999,9,  800,   5.5939,  26.9502,   -999.0,9
       RF01-10,  137E,RF-1520,  1,      4,02-13579,2,20011201,1953, 28.9888, 137.8448, 4219,    908.0,   4.7182,  34.2410,2,   -999.0,9,-999.0000,9,   -999.0,9,  -999.00,9,  -999.00,9,  -999.00,9,  -999.00,9,  -999.00,9, -999.000,9, -999.000,9,  -999.00,9,   -999.0,9,   -999.0,9,-999.0000,9,   -999.0,  9,  -999.00,9,   -999.0,  -999.00,9,  -999.00,9,  -999.00,9,  -999.00,9,   -999.0,-999.0000, -999,9,  900,   4.6455,  27.1134,   -999.0,9
       RF01-10,  137E,RF-1520,  1,      3,02-13590,2,20011201,1951, 28.9888, 137.8448, 4219,   1009.5,   4.1524,  34.2984,2,   -999.0,9,  34.2907,2,   -999.0,9,  -999.00,9,  -999.00,9,  -999.00,9,  -999.00,9,  -999.00,9, -999.000,9, -999.000,9,  -999.00,9,   -999.0,9,   -999.0,9,-999.0000,9,   -999.0,  9,  -999.00,9,   -999.0,  -999.00,9,  -999.00,9,  -999.00,9,  -999.00,9,   -999.0,-999.0000, -999,9, 1000,   4.0751,  27.2203,   -999.0,9
       RF01-10,  137E,RF-1520,  1,      2,02-13589,2,20011201,1944, 28.9888, 137.8448, 4219,   1263.1,   3.1408,  34.4336,2,   -999.0,9,  34.4278,2,   -999.0,9,  -999.00,9,  -999.00,9,  -999.00,9,  -999.00,9,  -999.00,9, -999.000,9, -999.000,9,  -999.00,9,   -999.0,9,   -999.0,9,-999.0000,9,   -999.0,  9,  -999.00,9,   -999.0,  -999.00,9,  -999.00,9,  -999.00,9,  -999.00,9,   -999.0,-999.0000, -999,9, 1251,   3.0512,  27.4282,   -999.0,9
       RF01-10,  137E,RF-1520,  1,      1,02-12807,2,20011201,1938, 28.9888, 137.8448, 4219,   1536.8,   2.5372,  34.5263,2,   -999.0,9,  34.5193,2,   -999.0,9,  -999.00,9,  -999.00,9,  -999.00,9,  -999.00,9,  -999.00,9, -999.000,9, -999.000,9,  -999.00,9,   -999.0,9,   -999.0,9,-999.0000,9,   -999.0,  9,  -999.00,9,   -999.0,  -999.00,9,  -999.00,9,  -999.00,9,  -999.00,9,   -999.0,-999.0000, -999,9, 1521,   2.4318,  27.5569,   -999.0,9
       RF01-10,  137E,RF-1521,  1,     -9,      -9,5,20011202,0249, 29.9952, 137.3273, 4337,      0.0,  22.7826,  34.4155,2,   -999.0,9,-999.0000,9,   -999.0,9,  -999.00,9,  -999.00,9,  -999.00,9,  -999.00,9,  -999.00,9, -999.000,9, -999.000,9,  -999.00,9,   -999.0,9,   -999.0,9,-999.0000,9,   -999.0,  9,  -999.00,9,   -999.0,  -999.00,9,  -999.00,9,  -999.00,9,  -999.00,9,   -999.0,-999.0000, -999,9,    0,  22.7826,  23.5527,   -999.0,9
       RF01-10,  137E,RF-1521,  1,     19,02-12825,2,20011202,0246, 29.9952, 137.3273, 4337,     11.8,  22.7884,  34.6643,2,   -999.0,9,-999.0000,9,   -999.0,9,  -999.00,9,  -999.00,9,  -999.00,9,  -999.00,9,  -999.00,9, -999.000,9, -999.000,9,  -999.00,9,   -999.0,9,   -999.0,9,-999.0000,9,   -999.0,  9,  -999.00,9,   -999.0,  -999.00,9,  -999.00,9,  -999.00,9,  -999.00,9,   -999.0,-999.0000, -999,9,   12,  22.7860,  23.7404,   -999.0,9
       RF01-10,  137E,RF-1521,  1,     18,02-12830,2,20011202,0245, 29.9952, 137.3273, 4337,     26.6,  22.7911,  34.6638,2,   -999.0,9,-999.0000,9,   -999.0,9,  -999.00,9,  -999.00,9,  -999.00,9,  -999.00,9,  -999.00,9, -999.000,9, -999.000,9,  -999.00,9,   -999.0,9,   -999.0,9,-999.0000,9,   -999.0,  9,  -999.00,9,   -999.0,  -999.00,9,  -999.00,9,  -999.00,9,  -999.00,9,   -999.0,-999.0000, -999,9,   26,  22.7857,  23.7402,   -999.0,9
       RF01-10,  137E,RF-1521,  1,     17,02-12815,2,20011202,0244, 29.9952, 137.3273, 4337,     52.1,  22.8004,  34.6649,2,   -999.0,9,-999.0000,9,   -999.0,9,  -999.00,9,  -999.00,9,  -999.00,9,  -999.00,9,  -999.00,9, -999.000,9, -999.000,9,  -999.00,9,   -999.0,9,   -999.0,9,-999.0000,9,   -999.0,  9,  -999.00,9,   -999.0,  -999.00,9,  -999.00,9,  -999.00,9,  -999.00,9,   -999.0,-999.0000, -999,9,   52,  22.7899,  23.7397,   -999.0,9
       RF01-10,  137E,RF-1521,  1,     16,02-12818,2,20011202,0243, 29.9952, 137.3273, 4337,     77.4,  22.7933,  34.6678,2,   -999.0,9,-999.0000,9,   -999.0,9,  -999.00,9,  -999.00,9,  -999.00,9,  -999.00,9,  -999.00,9, -999.000,9, -999.000,9,  -999.00,9,   -999.0,9,   -999.0,9,-999.0000,9,   -999.0,  9,  -999.00,9,   -999.0,  -999.00,9,  -999.00,9,  -999.00,9,  -999.00,9,   -999.0,-999.0000, -999,9,   77,  22.7776,  23.7454,   -999.0,9
       RF01-10,  137E,RF-1521,  1,     15,02-12809,2,20011202,0241, 29.9952, 137.3273, 4337,    101.7,  21.3853,  34.8222,2,   -999.0,9,-999.0000,9,   -999.0,9,  -999.00,9,  -999.00,9,  -999.00,9,  -999.00,9,  -999.00,9, -999.000,9, -999.000,9,  -999.00,9,   -999.0,9,   -999.0,9,-999.0000,9,   -999.0,  9,  -999.00,9,   -999.0,  -999.00,9,  -999.00,9,  -999.00,9,  -999.00,9,   -999.0,-999.0000, -999,9,  101,  21.3657,  24.2586,   -999.0,9
       RF01-10,  137E,RF-1521,  1,     14,02-12817,2,20011202,0240, 29.9952, 137.3273, 4337,    126.7,  20.5115,  34.8299,2,   -999.0,9,-999.0000,9,   -999.0,9,  -999.00,9,  -999.00,9,  -999.00,9,  -999.00,9,  -999.00,9, -999.000,9, -999.000,9,  -999.00,9,   -999.0,9,   -999.0,9,-999.0000,9,   -999.0,  9,  -999.00,9,   -999.0,  -999.00,9,  -999.00,9,  -999.00,9,  -999.00,9,   -999.0,-999.0000, -999,9,  126,  20.4877,  24.5025,   -999.0,9
       RF01-10,  137E,RF-1521,  1,     13,02-15822,2,20011202,0239, 29.9952, 137.3273, 4337,    152.0,  19.8403,  34.8107,2,   -999.0,9,-999.0000,9,   -999.0,9,  -999.00,9,  -999.00,9,  -999.00,9,  -999.00,9,  -999.00,9, -999.000,9, -999.000,9,  -999.00,9,   -999.0,9,   -999.0,9,-999.0000,9,   -999.0,  9,  -999.00,9,   -999.0,  -999.00,9,  -999.00,9,  -999.00,9,  -999.00,9,   -999.0,-999.0000, -999,9,  151,  19.8124,  24.6666,   -999.0,9
       RF01-10,  137E,RF-1521,  1,     12,02-12821,2,20011202,0237, 29.9952, 137.3273, 4337,    203.4,  19.1515,  34.7995,2,   -999.0,9,-999.0000,9,   -999.0,9,  -999.00,9,  -999.00,9,  -999.00,9,  -999.00,9,  -999.00,9, -999.000,9, -999.000,9,  -999.00,9,   -999.0,9,   -999.0,9,-999.0000,9,   -999.0,  9,  -999.00,9,   -999.0,  -999.00,9,  -999.00,9,  -999.00,9,  -999.00,9,   -999.0,-999.0000, -999,9,  202,  19.1151,  24.8385,   -999.0,9
       RF01-10,  137E,RF-1521,  1,     11,02-15823,2,20011202,0236, 29.9952, 137.3273, 4337,    252.8,  18.2946,  34.7899,2,   -999.0,9,-999.0000,9,   -999.0,9,  -999.00,9,  -999.00,9,  -999.00,9,  -999.00,9,  -999.00,9, -999.000,9, -999.000,9,  -999.00,9,   -999.0,9,   -999.0,9,-999.0000,9,   -999.0,  9,  -999.00,9,   -999.0,  -999.00,9,  -999.00,9,  -999.00,9,  -999.00,9,   -999.0,-999.0000, -999,9,  251,  18.2507,  25.0491,   -999.0,9
       RF01-10,  137E,RF-1521,  1,     10,02-12820,2,20011202,0234, 29.9952, 137.3273, 4337,    303.5,  17.5935,  34.7741,2,   -999.0,9,-999.0000,9,   -999.0,9,  -999.00,9,  -999.00,9,  -999.00,9,  -999.00,9,  -999.00,9, -999.000,9, -999.000,9,  -999.00,9,   -999.0,9,   -999.0,9,-999.0000,9,   -999.0,  9,  -999.00,9,   -999.0,  -999.00,9,  -999.00,9,  -999.00,9,  -999.00,9,   -999.0,-999.0000, -999,9,  301,  17.5421,  25.2108,   -999.0,9
       RF01-10,  137E,RF-1521,  1,      9,02-12810,2,20011202,0231, 29.9952, 137.3273, 4337,    404.5,  15.7861,  34.6916,2,   -999.0,9,-999.0000,9,   -999.0,9,  -999.00,9,  -999.00,9,  -999.00,9,  -999.00,9,  -999.00,9, -999.000,9, -999.000,9,  -999.00,9,   -999.0,9,   -999.0,9,-999.0000,9,   -999.0,  9,  -999.00,9,   -999.0,  -999.00,9,  -999.00,9,  -999.00,9,  -999.00,9,   -999.0,-999.0000, -999,9,  401,  15.7224,  25.5734,   -999.0,9
       RF01-10,  137E,RF-1521,  1,      8,02-12819,2,20011202,0229, 29.9952, 137.3273, 4337,    505.5,  13.3784,  34.4980,2,   -999.0,9,-999.0000,9,   -999.0,9,  -999.00,9,  -999.00,9,  -999.00,9,  -999.00,9,  -999.00,9, -999.000,9, -999.000,9,  -999.00,9,   -999.0,9,   -999.0,9,-999.0000,9,   -999.0,  9,  -999.00,9,   -999.0,  -999.00,9,  -999.00,9,  -999.00,9,  -999.00,9,   -999.0,-999.0000, -999,9,  501,  13.3071,  25.9421,   -999.0,9
       RF01-10,  137E,RF-1521,  1,      7,02-15821,2,20011202,0226, 29.9952, 137.3273, 4337,    606.1,  10.6924,  34.3548,2,   -999.0,9,-999.0000,9,   -999.0,9,  -999.00,9,  -999.00,9,  -999.00,9,  -999.00,9,  -999.00,9, -999.000,9, -999.000,9,  -999.00,9,   -999.0,9,   -999.0,9,-999.0000,9,   -999.0,  9,  -999.00,9,   -999.0,  -999.00,9,  -999.00,9,  -999.00,9,  -999.00,9,   -999.0,-999.0000, -999,9,  601,  10.6182,  26.3411,   -999.0,9
       RF01-10,  137E,RF-1521,  1,      6,02-13588,2,20011202,0223, 29.9952, 137.3273, 4337,    706.1,   8.1419,  34.1893,2,   -999.0,9,-999.0000,9,   -999.0,9,  -999.00,9,  -999.00,9,  -999.00,9,  -999.00,9,  -999.00,9, -999.000,9, -999.000,9,  -999.00,9,   -999.0,9,   -999.0,9,-999.0000,9,   -999.0,  9,  -999.00,9,   -999.0,  -999.00,9,  -999.00,9,  -999.00,9,  -999.00,9,   -999.0,-999.0000, -999,9,  700,   8.0682,  26.6270,   -999.0,9
       RF01-10,  137E,RF-1521,  1,      5,02-10155,2,20011202,0221, 29.9952, 137.3273, 4337,    806.8,   6.6251,  34.2110,2,   -999.0,9,-999.0000,9,   -999.0,9,  -999.00,9,  -999.00,9,  -999.00,9,  -999.00,9,  -999.00,9, -999.000,9, -999.000,9,  -999.00,9,   -999.0,9,   -999.0,9,-999.0000,9,   -999.0,  9,  -999.00,9,   -999.0,  -999.00,9,  -999.00,9,  -999.00,9,  -999.00,9,   -999.0,-999.0000, -999,9,  800,   6.5495,  26.8581,   -999.0,9
       RF01-10,  137E,RF-1521,  1,      4,02-13579,2,20011202,0218, 29.9952, 137.3273, 4337,    908.0,   5.1454,  34.2380,2,   -999.0,9,-999.0000,9,   -999.0,9,  -999.00,9,  -999.00,9,  -999.00,9,  -999.00,9,  -999.00,9, -999.000,9, -999.000,9,  -999.00,9,   -999.0,9,   -999.0,9,-999.0000,9,   -999.0,  9,  -999.00,9,   -999.0,  -999.00,9,  -999.00,9,  -999.00,9,  -999.00,9,   -999.0,-999.0000, -999,9,  900,   5.0697,  27.0631,   -999.0,9
       RF01-10,  137E,RF-1521,  1,      3,02-13590,2,20011202,0215, 29.9952, 137.3273, 4337,   1010.0,   4.5885,  34.2992,2,   -999.0,9,-999.0000,9,   -999.0,9,  -999.00,9,  -999.00,9,  -999.00,9,  -999.00,9,  -999.00,9, -999.000,9, -999.000,9,  -999.00,9,   -999.0,9,   -999.0,9,-999.0000,9,   -999.0,  9,  -999.00,9,   -999.0,  -999.00,9,  -999.00,9,  -999.00,9,  -999.00,9,   -999.0,-999.0000, -999,9, 1001,   4.5078,  27.1748,   -999.0,9
       RF01-10,  137E,RF-1521,  1,      2,02-13589,2,20011202,0210, 29.9952, 137.3273, 4337,   1262.8,   3.3696,  34.4398,2,   -999.0,9,-999.0000,9,   -999.0,9,  -999.00,9,  -999.00,9,  -999.00,9,  -999.00,9,  -999.00,9, -999.000,9, -999.000,9,  -999.00,9,   -999.0,9,   -999.0,9,-999.0000,9,   -999.0,  9,  -999.00,9,   -999.0,  -999.00,9,  -999.00,9,  -999.00,9,  -999.00,9,   -999.0,-999.0000, -999,9, 1250,   3.2778,  27.4121,   -999.0,9
       RF01-10,  137E,RF-1521,  1,      1,02-12807,2,20011202,0204, 29.9952, 137.3273, 4337,   1538.1,   2.6253,  34.5243,2,   -999.0,9,-999.0000,9,   -999.0,9,  -999.00,9,  -999.00,9,  -999.00,9,  -999.00,9,  -999.00,9, -999.000,9, -999.000,9,  -999.00,9,   -999.0,9,   -999.0,9,-999.0000,9,   -999.0,  9,  -999.00,9,   -999.0,  -999.00,9,  -999.00,9,  -999.00,9,  -999.00,9,   -999.0,-999.0000, -999,9, 1522,   2.5189,  27.5479,   -999.0,9