BOTTLE,20130510GEMDJMAYT
EXPOCODE,SECT_ID,STNNBR,CASTNO,SAMPNO,BTLNBR,BTLNBR_FLAG_W,DATE,TIME,LATITUDE,LONGITUDE,DEPTH,CTDPRS,CTDTMP,CTDSAL,CTDSAL_FLAG_W,CTDOXY,CTDOXY_FLAG_W,SALNTY,SALNTY_FLAG_W,OXYGEN,OXYGEN_FLAG_W,SILCAT,SILCAT_FLAG_W,NITRAT,NITRAT_FLAG_W,NO2+NO3,NO2+NO3_FLAG_W,NITRIT,NITRIT_FLAG_W,PHSPHT,PHSPHT_FLAG_W,CFC-11,CFC-11_FLAG_W,CFC-12,CFC-12_FLAG_W,DELC13,DELC13_FLAG_W,TCARBN,TCARBN_FLAG_W,ALKALI,ALKALI_FLAG_W,PH,PH_FLAG_W,PH_TMP,PH_SCALE,PH_NBS,PH_NBS_FLAG_W,C13ERR,TOTALP,TOTALP_FLAG_W,AMMONI,AMMONI_FLAG_W,CHLORA,CHLORA_FLAG_W,PPHYTN,PPHYTN_FLAG_W,REVPRS,REVTMP,DEPTH_,DEPTH_FLAG,CTDDEP,THETA,SIGTHT,DOC,DOC_FLAG_W
,,,,,,,GMT,GMT,,,METER,DBAR,ITS-90,PSS-78,,UMOL/KG,,PSS-78,,UMOL/KG,,UMOL/KG,,UMOL/KG,,UMOL/KG,,UMOL/KG,,UMOL/KG,,PMOL/KG,,PMOL/KG,,/MILLE,,UMOL/KG,,UMOL/KG,,25_DEG_C,,DEG_C,,,,/MILLE,UMOL/KG,,UMOL/KG,,UG/L,,UG/L,,DBAR,ITS-90,METERS,,METERS,DEG_C,,UMOL/L,
       RF01-10, EQPAC,RF-1471,  1,     -9,      -9,5,20011111,1507,  0.0025, 154.9985, 2535,      0.0,  30.3478,  34.3902,2,   -999.0,9,-999.0000,9,    196.1,2,     1.64,2,  -999.00,9,     0.00,2,     0.00,2,     0.18,2, -999.000,9, -999.000,9,  -999.00,9,   -999.0,9,   -999.0,9,-999.0000,9,   -999.0,  9,     8.28,2,   -999.0,  -999.00,9,  -999.00,9,     0.07,2,     0.02,2,   -999.0,-999.0000, -999,9,    0,  30.3478,  21.1501,   -999.0,9
       RF01-10, EQPAC,RF-1471,  1,     17,02-12815,2,20011111,1504,  0.0025, 154.9985, 2535,      7.9,  30.3485,  34.3892,2,   -999.0,9,-999.0000,9,    194.6,2,     1.58,2,  -999.00,9,     0.00,2,     0.00,2,     0.08,2, -999.000,9, -999.000,9,  -999.00,9,   -999.0,9,   -999.0,9,-999.0000,9,   -999.0,  9,     8.28,2,   -999.0,  -999.00,9,  -999.00,9,     0.07,2,     0.02,2,   -999.0,-999.0000, -999,9,    8,  30.3466,  21.1498,   -999.0,9
       RF01-10, EQPAC,RF-1471,  1,     16,02-12818,2,20011111,1503,  0.0025, 154.9985, 2535,     22.9,  30.3408,  34.3906,2,   -999.0,9,-999.0000,9,    193.8,2,     1.56,2,  -999.00,9,     0.00,2,     0.00,2,     0.11,2, -999.000,9, -999.000,9,  -999.00,9,   -999.0,9,   -999.0,9,-999.0000,9,   -999.0,  9,     8.27,2,   -999.0,  -999.00,9,  -999.00,9,     0.07,2,     0.03,2,   -999.0,-999.0000, -999,9,   23,  30.3351,  21.1548,   -999.0,9
       RF01-10, EQPAC,RF-1471,  1,     15,02-12809,2,20011111,1501,  0.0025, 154.9985, 2535,     48.0,  30.0746,  34.5978,2,   -999.0,9,-999.0000,9,    195.6,2,     1.53,2,  -999.00,9,     0.00,2,     0.00,2,     0.12,2, -999.000,9, -999.000,9,  -999.00,9,   -999.0,9,   -999.0,9,-999.0000,9,   -999.0,  9,     8.26,2,   -999.0,  -999.00,9,  -999.00,9,     0.11,2,     0.04,2,   -999.0,-999.0000, -999,9,   48,  30.0627,  21.4033,   -999.0,9
       RF01-10, EQPAC,RF-1471,  1,     14,02-12817,2,20011111,1500,  0.0025, 154.9985, 2535,     72.7,  30.0466,  34.7398,2,   -999.0,9,-999.0000,9,    196.6,2,     1.48,2,  -999.00,9,     0.00,2,     0.00,2,     0.12,2, -999.000,9, -999.000,9,  -999.00,9,   -999.0,9,   -999.0,9,-999.0000,9,   -999.0,  9,     8.26,2,   -999.0,  -999.00,9,  -999.00,9,     0.17,2,     0.07,2,   -999.0,-999.0000, -999,9,   72,  30.0286,  21.5213,   -999.0,9
       RF01-10, EQPAC,RF-1471,  1,     13,02-15822,2,20011111,1459,  0.0025, 154.9985, 2535,     98.6,  25.7650,  35.3669,2,   -999.0,9,-999.0000,9,    145.0,2,     3.84,2,  -999.00,9,     7.56,2,     0.03,2,     0.56,2, -999.000,9, -999.000,9,  -999.00,9,   -999.0,9,   -999.0,9,-999.0000,9,   -999.0,  9,     8.11,2,   -999.0,  -999.00,9,  -999.00,9,     0.36,2,     0.50,2,   -999.0,-999.0000, -999,9,   98,  25.7431,  23.3901,   -999.0,9
       RF01-10, EQPAC,RF-1471,  1,     12,02-12821,2,20011111,1457,  0.0025, 154.9985, 2535,    122.8,  23.4877,  35.2860,2,   -999.0,9,-999.0000,9,    137.4,2,     4.37,2,  -999.00,9,     9.08,2,     0.01,2,     0.65,2, -999.000,9, -999.000,9,  -999.00,9,   -999.0,9,   -999.0,9,-999.0000,9,   -999.0,  9,     8.07,2,   -999.0,  -999.00,9,  -999.00,9,     0.12,2,     0.29,2,   -999.0,-999.0000, -999,9,  122,  23.4622,  24.0163,   -999.0,9
       RF01-10, EQPAC,RF-1471,  1,     11,02-15823,2,20011111,1456,  0.0025, 154.9985, 2535,    149.9,  22.0242,  35.1322,2,   -999.0,9,-999.0000,9,    140.0,2,     5.96,2,  -999.00,9,     9.21,2,     0.01,2,     0.64,2, -999.000,9, -999.000,9,  -999.00,9,   -999.0,9,   -999.0,9,-999.0000,9,   -999.0,  9,     8.06,2,   -999.0,  -999.00,9,  -999.00,9,     0.09,2,     0.20,2,   -999.0,-999.0000, -999,9,  149,  21.9945,  24.3199,   -999.0,9
       RF01-10, EQPAC,RF-1471,  1,     10,02-12820,2,20011111,1453,  0.0025, 154.9985, 2535,    199.0,  17.1272,  35.1816,2,   -999.0,9,-999.0000,9,   -999.0,4,     9.02,2,  -999.00,9,    13.57,2,     0.00,2,     0.93,2, -999.000,9, -999.000,9,  -999.00,9,   -999.0,9,   -999.0,9,-999.0000,9,   -999.0,  9,     7.98,2,   -999.0,  -999.00,9,  -999.00,9,     0.01,2,     0.02,2,   -999.0,-999.0000, -999,9,  198,  17.0941,  25.6312,   -999.0,9
       RF01-10, EQPAC,RF-1471,  1,      9,02-12810,2,20011111,1451,  0.0025, 154.9985, 2535,    248.5,  13.3416,  34.7510,2,   -999.0,9,-999.0000,9,    132.0,2,    20.50,2,  -999.00,9,    19.17,2,     0.00,2,     1.30,2, -999.000,9, -999.000,9,  -999.00,9,   -999.0,9,   -999.0,9,-999.0000,9,   -999.0,  9,     7.88,2,   -999.0,  -999.00,9,  -999.00,9,  -999.00,9,  -999.00,9,   -999.0,-999.0000, -999,9,  247,  13.3068,  26.1379,   -999.0,9
       RF01-10, EQPAC,RF-1471,  1,      8,02-12819,2,20011111,1449,  0.0025, 154.9985, 2535,    299.1,  11.9506,  34.8669,2,   -999.0,9,-999.0000,9,    140.3,2,    17.90,2,  -999.00,9,    21.17,2,     0.00,2,     1.42,2, -999.000,9, -999.000,9,  -999.00,9,   -999.0,9,   -999.0,9,-999.0000,9,   -999.0,  9,     7.86,2,   -999.0,  -999.00,9,  -999.00,9,  -999.00,9,  -999.00,9,   -999.0,-999.0000, -999,9,  297,  11.9116,  26.5026,   -999.0,9
       RF01-10, EQPAC,RF-1471,  1,      7,02-15821,2,20011111,1446,  0.0025, 154.9985, 2535,    399.7,   9.6299,  34.7041,2,   -999.0,9,-999.0000,9,     93.6,2,    30.57,2,  -999.00,9,    32.05,2,     0.00,2,     2.15,2, -999.000,9, -999.000,9,  -999.00,9,   -999.0,9,   -999.0,9,-999.0000,9,   -999.0,  9,  -999.00,9,   -999.0,  -999.00,9,  -999.00,9,  -999.00,9,  -999.00,9,   -999.0,-999.0000, -999,9,  397,   9.5843,  26.7910,   -999.0,9
       RF01-10, EQPAC,RF-1471,  1,      6,02-13588,2,20011111,1443,  0.0025, 154.9985, 2535,    500.9,   8.0442,  34.6157,2,   -999.0,9,-999.0000,9,     73.8,2,    39.09,2,  -999.00,9,    34.77,2,     0.00,2,     2.37,2, -999.000,9, -999.000,9,  -999.00,9,   -999.0,9,   -999.0,9,-999.0000,9,   -999.0,  9,     7.66,2,   -999.0,  -999.00,9,  -999.00,9,  -999.00,9,  -999.00,9,   -999.0,-999.0000, -999,9,  498,   7.9927,  26.9731,   -999.0,9
       RF01-10, EQPAC,RF-1471,  1,      5,02-10155,2,20011111,1440,  0.0025, 154.9985, 2535,    601.7,   7.1784,  34.5805,2,   -999.0,9,-999.0000,9,     84.3,2,    44.88,2,  -999.00,9,    35.61,2,     0.00,2,     2.45,2, -999.000,9, -999.000,9,  -999.00,9,   -999.0,9,   -999.0,9,-999.0000,9,   -999.0,  9,  -999.00,9,   -999.0,  -999.00,9,  -999.00,9,  -999.00,9,  -999.00,9,   -999.0,-999.0000, -999,9,  598,   7.1199,  27.0716,   -999.0,9
       RF01-10, EQPAC,RF-1471,  1,      4,02-13579,2,20011111,1437,  0.0025, 154.9985, 2535,    703.2,   6.3380,  34.5511,2,   -999.0,9,-999.0000,9,     92.0,2,    52.78,2,  -999.00,9,    36.27,2,     0.00,2,     2.52,2, -999.000,9, -999.000,9,  -999.00,9,   -999.0,9,   -999.0,9,-999.0000,9,   -999.0,  9,     7.65,2,   -999.0,  -999.00,9,  -999.00,9,  -999.00,9,  -999.00,9,   -999.0,-999.0000, -999,9,  698,   6.2737,  27.1627,   -999.0,9
       RF01-10, EQPAC,RF-1471,  1,      3,02-13590,2,20011111,1434,  0.0025, 154.9985, 2535,    804.2,   5.5462,  34.5431,2,   -999.0,9,-999.0000,9,     93.3,2,    64.30,2,  -999.00,9,    37.21,2,     0.00,2,     2.61,2, -999.000,9, -999.000,9,  -999.00,9,   -999.0,9,   -999.0,9,-999.0000,9,   -999.0,  9,  -999.00,9,   -999.0,  -999.00,9,  -999.00,9,  -999.00,9,  -999.00,9,   -999.0,-999.0000, -999,9,  798,   5.4770,  27.2566,   -999.0,9
       RF01-10, EQPAC,RF-1471,  1,      2,02-13589,2,20011111,1432,  0.0025, 154.9985, 2535,    905.0,   5.1235,  34.5449,2,   -999.0,9,-999.0000,9,     96.7,2,    71.64,2,  -999.00,9,    37.30,2,     0.00,2,     2.63,2, -999.000,9, -999.000,9,  -999.00,9,   -999.0,9,   -999.0,9,-999.0000,9,   -999.0,  9,  -999.00,9,   -999.0,  -999.00,9,  -999.00,9,  -999.00,9,  -999.00,9,   -999.0,-999.0000, -999,9,  898,   5.0478,  27.3089,   -999.0,9
       RF01-10, EQPAC,RF-1471,  1,      1,02-12807,2,20011111,1428,  0.0025, 154.9985, 2535,   1019.8,   4.4867,  34.5648,2,   -999.0,9,-999.0000,9,     93.9,2,    85.44,2,  -999.00,9,    38.30,2,     0.00,2,     2.73,2, -999.000,9, -999.000,9,  -999.00,9,   -999.0,9,   -999.0,9,-999.0000,9,   -999.0,  9,     7.63,2,   -999.0,  -999.00,9,  -999.00,9,  -999.00,9,  -999.00,9,   -999.0,-999.0000, -999,9, 1012,   4.4054,  27.3969,   -999.0,9
       RF01-10, EQPAC,RF-1472,  1,     -9,      -9,5,20011112,0046,  0.0015, 152.9978, 4193,      0.0,  30.2501,  34.1139,2,   -999.0,9,-999.0000,9,    194.7,2,     1.49,2,  -999.00,9,     0.00,2,     0.00,2,     0.08,2, -999.000,9, -999.000,9,  -999.00,9,   -999.0,9,   -999.0,9,-999.0000,9,   -999.0,  9,     8.26,2,   -999.0,  -999.00,9,  -999.00,9,     0.09,2,     0.03,2,   -999.0,-999.0000, -999,9,    0,  30.2501,  20.9766,   -999.0,9
       RF01-10, EQPAC,RF-1472,  1,     17,02-12815,2,20011112,0043,  0.0015, 152.9978, 4193,      7.9,  30.1867,  34.1121,2,   -999.0,9,-999.0000,9,    194.3,2,     1.43,2,  -999.00,9,     0.00,2,     0.00,2,     0.07,2, -999.000,9, -999.000,9,  -999.00,9,   -999.0,9,   -999.0,9,-999.0000,9,   -999.0,  9,     8.26,2,   -999.0,  -999.00,9,  -999.00,9,     0.09,2,     0.02,2,   -999.0,-999.0000, -999,9,    8,  30.1847,  20.9976,   -999.0,9
       RF01-10, EQPAC,RF-1472,  1,     16,02-12818,2,20011112,0042,  0.0015, 152.9978, 4193,     23.0,  30.2071,  34.1688,2,   -999.0,9,-999.0000,9,    193.5,2,     1.39,2,  -999.00,9,     0.00,2,     0.00,2,     0.06,2, -999.000,9, -999.000,9,  -999.00,9,   -999.0,9,   -999.0,9,-999.0000,9,   -999.0,  9,     8.26,2,   -999.0,  -999.00,9,  -999.00,9,     0.11,2,     0.03,2,   -999.0,-999.0000, -999,9,   23,  30.2014,  21.0344,   -999.0,9
       RF01-10, EQPAC,RF-1472,  1,     15,02-12809,2,20011112,0040,  0.0015, 152.9978, 4193,     48.2,  30.2038,  34.5375,2,   -999.0,9,-999.0000,9,    198.3,2,     1.36,2,  -999.00,9,     0.00,2,     0.00,2,     0.09,2, -999.000,9, -999.000,9,  -999.00,9,   -999.0,9,   -999.0,9,-999.0000,9,   -999.0,  9,     8.25,2,   -999.0,  -999.00,9,  -999.00,9,     0.13,2,     0.06,2,   -999.0,-999.0000, -999,9,   48,  30.1918,  21.3140,   -999.0,9
       RF01-10, EQPAC,RF-1472,  1,     14,02-12817,2,20011112,0038,  0.0015, 152.9978, 4193,     73.5,  29.9576,  34.7214,2,   -999.0,9,-999.0000,9,    195.0,2,     1.42,2,  -999.00,9,     0.00,2,     0.00,2,     0.12,2, -999.000,9, -999.000,9,  -999.00,9,   -999.0,9,   -999.0,9,-999.0000,9,   -999.0,  9,     8.23,2,   -999.0,  -999.00,9,  -999.00,9,     0.21,2,     0.10,2,   -999.0,-999.0000, -999,9,   73,  29.9394,  21.5380,   -999.0,9
       RF01-10, EQPAC,RF-1472,  1,     13,02-15822,2,20011112,0036,  0.0015, 152.9978, 4193,     98.6,  26.2408,  35.2972,2,   -999.0,9,  35.2927,2,    147.0,2,     3.62,2,  -999.00,9,     7.66,2,     0.06,2,     0.56,2, -999.000,9, -999.000,9,  -999.00,9,   -999.0,9,   -999.0,9,-999.0000,9,   -999.0,  9,     8.08,2,   -999.0,  -999.00,9,  -999.00,9,     0.39,2,     0.55,2,   -999.0,-999.0000, -999,9,   98,  26.2186,  23.1891,   -999.0,9
       RF01-10, EQPAC,RF-1472,  1,     12,02-12821,2,20011112,0035,  0.0015, 152.9978, 4193,    123.3,  24.2565,  35.3097,2,   -999.0,9,-999.0000,9,    139.0,2,     4.40,2,  -999.00,9,     8.70,2,     0.01,2,     0.61,2, -999.000,9, -999.000,9,  -999.00,9,   -999.0,9,   -999.0,9,-999.0000,9,   -999.0,  9,     8.07,2,   -999.0,  -999.00,9,  -999.00,9,     0.17,2,     0.39,2,   -999.0,-999.0000, -999,9,  123,  24.2303,  23.8073,   -999.0,9
       RF01-10, EQPAC,RF-1472,  1,     11,02-15823,2,20011112,0033,  0.0015, 152.9978, 4193,    149.3,  21.9672,  35.1391,2,   -999.0,9,  35.4407,4,   -999.0,4,     5.80,2,  -999.00,9,     9.69,2,     0.00,2,     0.66,2, -999.000,9, -999.000,9,  -999.00,9,   -999.0,9,   -999.0,9,-999.0000,9,   -999.0,  9,     8.04,2,   -999.0,  -999.00,9,  -999.00,9,     0.05,2,     0.08,2,   -999.0,-999.0000, -999,9,  148,  21.9377,  24.3410,   -999.0,9
       RF01-10, EQPAC,RF-1472,  1,     10,02-12820,2,20011112,0031,  0.0015, 152.9978, 4193,    199.1,  19.2325,  35.4315,2,   -999.0,9,-999.0000,9,    138.6,2,     5.35,2,  -999.00,9,    11.48,2,     0.00,2,     0.81,2, -999.000,9, -999.000,9,  -999.00,9,   -999.0,9,   -999.0,9,-999.0000,9,   -999.0,  9,     7.99,2,   -999.0,  -999.00,9,  -999.00,9,     0.01,2,     0.03,2,   -999.0,-999.0000, -999,9,  198,  19.1965,  25.3006,   -999.0,9
       RF01-10, EQPAC,RF-1472,  1,      9,02-12810,2,20011112,0029,  0.0015, 152.9978, 4193,    249.4,  14.3116,  35.0737,2,   -999.0,9,-999.0000,9,    145.7,2,    11.84,2,  -999.00,9,    17.15,2,     0.00,2,     1.14,2, -999.000,9, -999.000,9,  -999.00,9,   -999.0,9,   -999.0,9,-999.0000,9,   -999.0,  9,     7.90,2,   -999.0,  -999.00,9,  -999.00,9,  -999.00,9,  -999.00,9,   -999.0,-999.0000, -999,9,  248,  14.2749,  26.1858,   -999.0,9
       RF01-10, EQPAC,RF-1472,  1,      8,02-12819,2,20011112,0028,  0.0015, 152.9978, 4193,    299.7,  11.7965,  34.8435,2,   -999.0,9,  34.8469,2,    140.3,2,    19.06,2,  -999.00,9,    21.57,2,     0.00,2,     1.44,2, -999.000,9, -999.000,9,  -999.00,9,   -999.0,9,   -999.0,9,-999.0000,9,   -999.0,  9,     7.83,2,   -999.0,  -999.00,9,  -999.00,9,  -999.00,9,  -999.00,9,   -999.0,-999.0000, -999,9,  298,  11.7578,  26.5135,   -999.0,9
       RF01-10, EQPAC,RF-1472,  1,      7,02-15821,2,20011112,0025,  0.0015, 152.9978, 4193,    400.4,   8.9804,  34.6593,2,   -999.0,9,  34.6556,2,     74.3,2,    34.46,2,  -999.00,9,    33.38,2,     0.00,2,     2.24,2, -999.000,9, -999.000,9,  -999.00,9,   -999.0,9,   -999.0,9,-999.0000,9,   -999.0,  9,  -999.00,9,   -999.0,  -999.00,9,  -999.00,9,  -999.00,9,  -999.00,9,   -999.0,-999.0000, -999,9,  398,   8.9367,  26.8614,   -999.0,9
       RF01-10, EQPAC,RF-1472,  1,      6,02-13588,2,20011112,0022,  0.0015, 152.9978, 4193,    501.1,   7.7032,  34.5975,2,   -999.0,9,  34.5968,2,     76.0,2,    41.32,2,  -999.00,9,    35.27,2,     0.00,2,     2.41,2, -999.000,9, -999.000,9,  -999.00,9,   -999.0,9,   -999.0,9,-999.0000,9,   -999.0,  9,     7.63,2,   -999.0,  -999.00,9,  -999.00,9,  -999.00,9,  -999.00,9,   -999.0,-999.0000, -999,9,  498,   7.6529,  27.0089,   -999.0,9
       RF01-10, EQPAC,RF-1472,  1,      5,02-10155,2,20011112,0020,  0.0015, 152.9978, 4193,    602.5,   6.9727,  34.5691,2,   -999.0,9,  34.5669,2,     87.3,2,    45.79,2,  -999.00,9,    35.58,2,     0.00,2,     2.44,2, -999.000,9, -999.000,9,  -999.00,9,   -999.0,9,   -999.0,9,-999.0000,9,   -999.0,  9,  -999.00,9,   -999.0,  -999.00,9,  -999.00,9,  -999.00,9,  -999.00,9,   -999.0,-999.0000, -999,9,  598,   6.9152,  27.0911,   -999.0,9
       RF01-10, EQPAC,RF-1472,  1,      4,02-13579,2,20011112,0017,  0.0015, 152.9978, 4193,    703.2,   6.0712,  34.5588,2,   -999.0,9,  34.5405,4,     96.8,2,    55.72,2,  -999.00,9,    36.35,2,     0.00,2,     2.51,2, -999.000,9, -999.000,9,  -999.00,9,   -999.0,9,   -999.0,9,-999.0000,9,   -999.0,  9,     7.63,2,   -999.0,  -999.00,9,  -999.00,9,  -999.00,9,  -999.00,9,   -999.0,-999.0000, -999,9,  698,   6.0083,  27.2030,   -999.0,9
       RF01-10, EQPAC,RF-1472,  1,      3,02-13590,2,20011112,0014,  0.0015, 152.9978, 4193,    804.2,   5.4439,  34.5372,2,   -999.0,9,  34.5374,2,     99.6,2,    66.31,2,  -999.00,9,    36.96,2,     0.00,2,     2.59,2, -999.000,9, -999.000,9,  -999.00,9,   -999.0,9,   -999.0,9,-999.0000,9,   -999.0,  9,  -999.00,9,   -999.0,  -999.00,9,  -999.00,9,  -999.00,9,  -999.00,9,   -999.0,-999.0000, -999,9,  798,   5.3753,  27.2641,   -999.0,9
       RF01-10, EQPAC,RF-1472,  1,      2,02-13589,2,20011112,0011,  0.0015, 152.9978, 4193,    906.0,   4.9877,  34.5486,2,   -999.0,9,-999.0000,9,     97.0,2,    74.01,2,  -999.00,9,    37.56,2,     0.00,2,     2.64,2, -999.000,9, -999.000,9,  -999.00,9,   -999.0,9,   -999.0,9,-999.0000,9,   -999.0,  9,  -999.00,9,   -999.0,  -999.00,9,  -999.00,9,  -999.00,9,  -999.00,9,   -999.0,-999.0000, -999,9,  899,   4.9129,  27.3274,   -999.0,9
       RF01-10, EQPAC,RF-1472,  1,      1,02-12807,2,20011112,0008,  0.0015, 152.9978, 4193,   1018.4,   4.3927,  34.5621,2,   -999.0,9,  34.5543,2,   -999.0,4,    86.90,2,  -999.00,9,    38.36,2,     0.00,2,     2.72,2, -999.000,9, -999.000,9,  -999.00,9,   -999.0,9,   -999.0,9,-999.0000,9,   -999.0,  9,     7.61,2,   -999.0,  -999.00,9,  -999.00,9,  -999.00,9,  -999.00,9,   -999.0,-999.0000, -999,9, 1010,   4.3124,  27.4048,   -999.0,9