BOTTLE,20130510GEMDJMAYT
EXPOCODE,SECT_ID,STNNBR,CASTNO,SAMPNO,BTLNBR,BTLNBR_FLAG_W,DATE,TIME,LATITUDE,LONGITUDE,DEPTH,CTDPRS,CTDTMP,CTDSAL,CTDSAL_FLAG_W,CTDOXY,CTDOXY_FLAG_W,SALNTY,SALNTY_FLAG_W,OXYGEN,OXYGEN_FLAG_W,SILCAT,SILCAT_FLAG_W,NITRAT,NITRAT_FLAG_W,NO2+NO3,NO2+NO3_FLAG_W,NITRIT,NITRIT_FLAG_W,PHSPHT,PHSPHT_FLAG_W,CFC-11,CFC-11_FLAG_W,CFC-12,CFC-12_FLAG_W,DELC13,DELC13_FLAG_W,TCARBN,TCARBN_FLAG_W,ALKALI,ALKALI_FLAG_W,PH,PH_FLAG_W,PH_TMP,PH_SCALE,PH_NBS,PH_NBS_FLAG_W,C13ERR,TOTALP,TOTALP_FLAG_W,AMMONI,AMMONI_FLAG_W,CHLORA,CHLORA_FLAG_W,PPHYTN,PPHYTN_FLAG_W,REVPRS,REVTMP,DEPTH_,DEPTH_FLAG,CTDDEP,THETA,SIGTHT,DOC,DOC_FLAG_W
,,,,,,,GMT,GMT,,,METER,DBAR,ITS-90,PSS-78,,UMOL/KG,,PSS-78,,UMOL/KG,,UMOL/KG,,UMOL/KG,,UMOL/KG,,UMOL/KG,,UMOL/KG,,PMOL/KG,,PMOL/KG,,/MILLE,,UMOL/KG,,UMOL/KG,,25_DEG_C,,DEG_C,,,,/MILLE,UMOL/KG,,UMOL/KG,,UG/L,,UG/L,,DBAR,ITS-90,METERS,,METERS,DEG_C,,UMOL/L,
       RF01-10,  165E,RF-1444,  1,     -9,      -9,5,20011023,0318, 16.0005, 164.9890, 5365,      0.0,  28.7712,  34.6932,2,   -999.0,9,-999.0000,9,   -999.0,9,  -999.00,9,  -999.00,9,  -999.00,9,  -999.00,9,  -999.00,9,    1.666,2,    0.990,2,  -999.00,9,   -999.0,9,   -999.0,9,-999.0000,9,   -999.0,  9,  -999.00,9,   -999.0,  -999.00,9,  -999.00,9,  -999.00,9,  -999.00,9,   -999.0,-999.0000, -999,9,    0,  28.7712,  21.9099,   -999.0,9
       RF01-10,  165E,RF-1444,  1,     21, 02-9150,2,20011023,0316, 16.0005, 164.9890, 5365,      7.0,  28.7784,  34.6940,2,   -999.0,9,-999.0000,9,   -999.0,9,  -999.00,9,  -999.00,9,  -999.00,9,  -999.00,9,  -999.00,9,    1.666,2,    0.990,2,  -999.00,9,   -999.0,9,   -999.0,9,-999.0000,9,   -999.0,  9,  -999.00,9,   -999.0,  -999.00,9,  -999.00,9,  -999.00,9,  -999.00,9,   -999.0,-999.0000, -999,9,    7,  28.7767,  21.9088,   -999.0,9
       RF01-10,  165E,RF-1444,  1,     20,02-12826,2,20011023,0315, 16.0005, 164.9890, 5365,     22.6,  28.7840,  34.6933,2,   -999.0,9,-999.0000,9,   -999.0,9,  -999.00,9,  -999.00,9,  -999.00,9,  -999.00,9,  -999.00,9,    1.666,2,    0.990,2,  -999.00,9,   -999.0,9,   -999.0,9,-999.0000,9,   -999.0,  9,  -999.00,9,   -999.0,  -999.00,9,  -999.00,9,  -999.00,9,  -999.00,9,   -999.0,-999.0000, -999,9,   22,  28.7786,  21.9076,   -999.0,9
       RF01-10,  165E,RF-1444,  1,     19,02-12825,2,20011023,0313, 16.0005, 164.9890, 5365,     47.7,  28.7910,  34.6953,2,   -999.0,9,-999.0000,9,   -999.0,9,  -999.00,9,  -999.00,9,  -999.00,9,  -999.00,9,  -999.00,9,    1.667,2,    0.990,2,  -999.00,9,   -999.0,9,   -999.0,9,-999.0000,9,   -999.0,  9,  -999.00,9,   -999.0,  -999.00,9,  -999.00,9,  -999.00,9,  -999.00,9,   -999.0,-999.0000, -999,9,   47,  28.7795,  21.9088,   -999.0,9
       RF01-10,  165E,RF-1444,  1,     18,02-12830,2,20011023,0312, 16.0005, 164.9890, 5365,     71.8,  28.7870,  34.7039,2,   -999.0,9,-999.0000,9,   -999.0,9,  -999.00,9,  -999.00,9,  -999.00,9,  -999.00,9,  -999.00,9,    1.667,2,    0.990,2,  -999.00,9,   -999.0,9,   -999.0,9,-999.0000,9,   -999.0,  9,  -999.00,9,   -999.0,  -999.00,9,  -999.00,9,  -999.00,9,  -999.00,9,   -999.0,-999.0000, -999,9,   71,  28.7697,  21.9185,   -999.0,9
       RF01-10,  165E,RF-1444,  1,     17,02-12815,2,20011023,0310, 16.0005, 164.9890, 5365,     98.2,  27.3660,  35.1448,2,   -999.0,9,  35.1782,4,   -999.0,9,  -999.00,9,  -999.00,9,  -999.00,9,  -999.00,9,  -999.00,9,    1.762,2,    1.034,2,  -999.00,9,   -999.0,9,   -999.0,9,-999.0000,9,   -999.0,  9,  -999.00,9,   -999.0,  -999.00,9,  -999.00,9,  -999.00,9,  -999.00,9,   -999.0,-999.0000, -999,9,   98,  27.3432,  22.7167,   -999.0,9
       RF01-10,  165E,RF-1444,  1,     16,02-12818,2,20011023,0309, 16.0005, 164.9890, 5365,    122.6,  26.0007,  35.1598,2,   -999.0,9,-999.0000,9,   -999.0,9,  -999.00,9,  -999.00,9,  -999.00,9,  -999.00,9,  -999.00,9,    1.859,2,    1.084,2,  -999.00,9,   -999.0,9,   -999.0,9,-999.0000,9,   -999.0,  9,  -999.00,9,   -999.0,  -999.00,9,  -999.00,9,  -999.00,9,  -999.00,9,   -999.0,-999.0000, -999,9,  122,  25.9733,  23.1622,   -999.0,9
       RF01-10,  165E,RF-1444,  1,     15,02-12809,2,20011023,0307, 16.0005, 164.9890, 5365,    148.8,  24.1444,  35.2031,2,   -999.0,9,-999.0000,9,   -999.0,9,  -999.00,9,  -999.00,9,  -999.00,9,  -999.00,9,  -999.00,9,    2.015,2,    1.158,2,  -999.00,9,   -999.0,9,   -999.0,9,-999.0000,9,   -999.0,  9,  -999.00,9,   -999.0,  -999.00,9,  -999.00,9,  -999.00,9,  -999.00,9,   -999.0,-999.0000, -999,9,  148,  24.1129,  23.7616,   -999.0,9
       RF01-10,  165E,RF-1444,  1,     14,02-12817,2,20011023,0305, 16.0005, 164.9890, 5365,    198.6,  20.0284,  34.9507,2,   -999.0,9,  34.9655,2,   -999.0,9,  -999.00,9,  -999.00,9,  -999.00,9,  -999.00,9,  -999.00,9,    2.456,2,    1.347,2,  -999.00,9,   -999.0,9,   -999.0,9,-999.0000,9,   -999.0,  9,  -999.00,9,   -999.0,  -999.00,9,  -999.00,9,  -999.00,9,  -999.00,9,   -999.0,-999.0000, -999,9,  197,  19.9916,  24.7264,   -999.0,9
       RF01-10,  165E,RF-1444,  1,     13,02-15822,2,20011023,0303, 16.0005, 164.9890, 5365,    248.7,  16.2708,  34.6595,2,   -999.0,9,-999.0000,9,   -999.0,9,  -999.00,9,  -999.00,9,  -999.00,9,  -999.00,9,  -999.00,9,    2.917,2,    1.515,2,  -999.00,9,   -999.0,9,   -999.0,9,-999.0000,9,   -999.0,  9,  -999.00,9,   -999.0,  -999.00,9,  -999.00,9,  -999.00,9,  -999.00,9,   -999.0,-999.0000, -999,9,  247,  16.2311,  25.4327,   -999.0,9
       RF01-10,  165E,RF-1444,  1,     12,02-12821,2,20011023,0302, 16.0005, 164.9890, 5365,    299.3,  13.1582,  34.4017,2,   -999.0,9,  34.4070,2,   -999.0,9,  -999.00,9,  -999.00,9,  -999.00,9,  -999.00,9,  -999.00,9,    3.063,2,    1.727,2,  -999.00,9,   -999.0,9,   -999.0,9,-999.0000,9,   -999.0,  9,  -999.00,9,   -999.0,  -999.00,9,  -999.00,9,  -999.00,9,  -999.00,9,   -999.0,-999.0000, -999,9,  297,  13.1168,  25.9059,   -999.0,9
       RF01-10,  165E,RF-1444,  1,     11,02-15823,2,20011023,0259, 16.0005, 164.9890, 5365,    400.1,   9.1364,  34.1737,2,   -999.0,9,  34.1837,2,   -999.0,9,  -999.00,9,  -999.00,9,  -999.00,9,  -999.00,9,  -999.00,9,    2.484,2,    1.365,2,  -999.00,9,   -999.0,9,   -999.0,9,-999.0000,9,   -999.0,  9,  -999.00,9,   -999.0,  -999.00,9,  -999.00,9,  -999.00,9,  -999.00,9,   -999.0,-999.0000, -999,9,  397,   9.0925,  26.4563,   -999.0,9
       RF01-10,  165E,RF-1444,  1,     10,02-12820,2,20011023,0256, 16.0005, 164.9890, 5365,    501.0,   7.1914,  34.2451,2,   -999.0,9,  34.2477,2,   -999.0,9,  -999.00,9,  -999.00,9,  -999.00,9,  -999.00,9,  -999.00,9,    0.868,2,    0.554,2,  -999.00,9,   -999.0,9,   -999.0,9,-999.0000,9,   -999.0,  9,  -999.00,9,   -999.0,  -999.00,9,  -999.00,9,  -999.00,9,  -999.00,9,   -999.0,-999.0000, -999,9,  497,   7.1433,  26.8042,   -999.0,9
       RF01-10,  165E,RF-1444,  1,      9,02-12810,2,20011023,0252, 16.0005, 164.9890, 5365,    601.8,   6.0693,  34.3311,2,   -999.0,9,  34.3321,2,   -999.0,9,  -999.00,9,  -999.00,9,  -999.00,9,  -999.00,9,  -999.00,9,    0.412,2,    0.180,2,  -999.00,9,   -999.0,9,   -999.0,9,-999.0000,9,   -999.0,  9,  -999.00,9,   -999.0,  -999.00,9,  -999.00,9,  -999.00,9,  -999.00,9,   -999.0,-999.0000, -999,9,  597,   6.0161,  27.0221,   -999.0,9
       RF01-10,  165E,RF-1444,  1,      8,02-12819,2,20011023,0250, 16.0005, 164.9890, 5365,    702.8,   5.3415,  34.4248,2,   -999.0,9,  34.5261,2,   -999.0,9,  -999.00,9,  -999.00,9,  -999.00,9,  -999.00,9,  -999.00,9,    0.044,2,    0.032,2,  -999.00,9,   -999.0,9,   -999.0,9,-999.0000,9,   -999.0,  9,  -999.00,9,   -999.0,  -999.00,9,  -999.00,9,  -999.00,9,  -999.00,9,   -999.0,-999.0000, -999,9,  698,   5.2828,  27.1862,   -999.0,9
       RF01-10,  165E,RF-1444,  1,      7,02-15821,2,20011023,0247, 16.0005, 164.9890, 5365,    803.1,   4.9440,  34.4753,2,   -999.0,9,  34.5049,4,   -999.0,9,  -999.00,9,  -999.00,9,  -999.00,9,  -999.00,9,  -999.00,9,    0.014,2,    0.026,2,  -999.00,9,   -999.0,9,   -999.0,9,-999.0000,9,   -999.0,  9,  -999.00,9,   -999.0,  -999.00,9,  -999.00,9,  -999.00,9,  -999.00,9,   -999.0,-999.0000, -999,9,  797,   4.8786,  27.2732,   -999.0,9
       RF01-10,  165E,RF-1444,  1,      6,02-13588,2,20011023,0244, 16.0005, 164.9890, 5365,    905.2,   4.5572,  34.5045,2,   -999.0,9,-999.0000,9,   -999.0,9,  -999.00,9,  -999.00,9,  -999.00,9,  -999.00,9,  -999.00,9,    0.002,2,    0.013,2,  -999.00,9,   -999.0,9,   -999.0,9,-999.0000,9,   -999.0,  9,  -999.00,9,   -999.0,  -999.00,9,  -999.00,9,  -999.00,9,  -999.00,9,   -999.0,-999.0000, -999,9,  898,   4.4854,  27.3403,   -999.0,9
       RF01-10,  165E,RF-1444,  1,      5,02-10155,2,20011023,0241, 16.0005, 164.9890, 5365,   1004.8,   4.1808,  34.5247,2,   -999.0,9,  34.4269,2,   -999.0,9,  -999.00,9,  -999.00,9,  -999.00,9,  -999.00,9,  -999.00,9,    0.002,2,    0.009,2,  -999.00,9,   -999.0,9,   -999.0,9,-999.0000,9,   -999.0,  9,  -999.00,9,   -999.0,  -999.00,9,  -999.00,9,  -999.00,9,  -999.00,9,   -999.0,-999.0000, -999,9,  996,   4.1033,  27.3973,   -999.0,9
       RF01-10,  165E,RF-1444,  1,      4,02-13579,2,20011023,0236, 16.0005, 164.9890, 5365,   1258.7,   3.3342,  34.5605,2,   -999.0,9,  34.5617,2,   -999.0,9,  -999.00,9,  -999.00,9,  -999.00,9,  -999.00,9,  -999.00,9,    0.000,2,    0.000,2,  -999.00,9,   -999.0,9,   -999.0,9,-999.0000,9,   -999.0,  9,  -999.00,9,   -999.0,  -999.00,9,  -999.00,9,  -999.00,9,  -999.00,9,   -999.0,-999.0000, -999,9, 1248,   3.2428,  27.5116,   -999.0,9
       RF01-10,  165E,RF-1444,  1,      3,02-13590,2,20011023,0230, 16.0005, 164.9890, 5365,   1511.6,   2.7375,  34.5869,2,   -999.0,9,  34.5873,2,   -999.0,9,  -999.00,9,  -999.00,9,  -999.00,9,  -999.00,9,  -999.00,9,    0.000,2,    0.000,2,  -999.00,9,   -999.0,9,   -999.0,9,-999.0000,9,   -999.0,  9,  -999.00,9,   -999.0,  -999.00,9,  -999.00,9,  -999.00,9,  -999.00,9,   -999.0,-999.0000, -999,9, 1497,   2.6317,  27.5883,   -999.0,9
       RF01-10,  165E,RF-1444,  1,      2,02-13589,2,20011023,0225, 16.0005, 164.9890, 5365,   1764.0,   2.3219,  34.6112,2,   -999.0,9,  34.6119,2,   -999.0,9,  -999.00,9,  -999.00,9,  -999.00,9,  -999.00,9,  -999.00,9,    0.000,2,    0.000,2,  -999.00,9,   -999.0,9,   -999.0,9,-999.0000,9,   -999.0,  9,  -999.00,9,   -999.0,  -999.00,9,  -999.00,9,  -999.00,9,  -999.00,9,   -999.0,-999.0000, -999,9, 1746,   2.2005,  27.6441,   -999.0,9
       RF01-10,  165E,RF-1444,  1,      1,02-12807,2,20011023,0217, 16.0005, 164.9890, 5365,   2042.3,   2.0306,  34.6329,2,   -999.0,9,  34.6310,2,   -999.0,9,  -999.00,9,  -999.00,9,  -999.00,9,  -999.00,9,  -999.00,9,    0.000,2,    0.000,2,  -999.00,9,   -999.0,9,   -999.0,9,-999.0000,9,   -999.0,  9,  -999.00,9,   -999.0,  -999.00,9,  -999.00,9,  -999.00,9,  -999.00,9,   -999.0,-999.0000, -999,9, 2020,   1.8901,  27.6862,   -999.0,9