BOTTLE,20130510GEMDJMAYT
EXPOCODE,SECT_ID,STNNBR,CASTNO,SAMPNO,BTLNBR,BTLNBR_FLAG_W,DATE,TIME,LATITUDE,LONGITUDE,DEPTH,CTDPRS,CTDTMP,CTDSAL,CTDSAL_FLAG_W,CTDOXY,CTDOXY_FLAG_W,SALNTY,SALNTY_FLAG_W,OXYGEN,OXYGEN_FLAG_W,SILCAT,SILCAT_FLAG_W,NITRAT,NITRAT_FLAG_W,NO2+NO3,NO2+NO3_FLAG_W,NITRIT,NITRIT_FLAG_W,PHSPHT,PHSPHT_FLAG_W,CFC-11,CFC-11_FLAG_W,CFC-12,CFC-12_FLAG_W,DELC13,DELC13_FLAG_W,TCARBN,TCARBN_FLAG_W,ALKALI,ALKALI_FLAG_W,PH,PH_FLAG_W,PH_TMP,PH_SCALE,PH_NBS,PH_NBS_FLAG_W,C13ERR,TOTALP,TOTALP_FLAG_W,AMMONI,AMMONI_FLAG_W,CHLORA,CHLORA_FLAG_W,PPHYTN,PPHYTN_FLAG_W,REVPRS,REVTMP,DEPTH_,DEPTH_FLAG,CTDDEP,THETA,SIGTHT,DOC,DOC_FLAG_W
,,,,,,,GMT,GMT,,,METER,DBAR,ITS-90,PSS-78,,UMOL/KG,,PSS-78,,UMOL/KG,,UMOL/KG,,UMOL/KG,,UMOL/KG,,UMOL/KG,,UMOL/KG,,PMOL/KG,,PMOL/KG,,/MILLE,,UMOL/KG,,UMOL/KG,,25_DEG_C,,DEG_C,,,,/MILLE,UMOL/KG,,UMOL/KG,,UG/L,,UG/L,,DBAR,ITS-90,METERS,,METERS,DEG_C,,UMOL/L,
       RF01-10,  165E,RF-1457,  1,     -9,      -9,5,20011104,0806,  3.0017, 164.9893, 4226,      0.0,  30.5081,  34.6134,2,   -999.0,9,-999.0000,9,   -999.0,9,  -999.00,9,  -999.00,9,  -999.00,9,  -999.00,9,  -999.00,9,    1.597,2,    0.930,2,  -999.00,9,   -999.0,9,   -999.0,9,-999.0000,9,   -999.0,  9,  -999.00,9,   -999.0,  -999.00,9,  -999.00,9,  -999.00,9,  -999.00,9,   -999.0,-999.0000, -999,9,    0,  30.5081,  21.2621,   -999.0,9
       RF01-10,  165E,RF-1457,  1,     21, 02-9150,2,20011104,0804,  3.0017, 164.9893, 4226,      8.0,  30.2095,  34.6095,2,   -999.0,9,-999.0000,9,   -999.0,9,  -999.00,9,  -999.00,9,  -999.00,9,  -999.00,9,  -999.00,9,    1.614,2,    0.935,2,  -999.00,9,   -999.0,9,   -999.0,9,-999.0000,9,   -999.0,  9,  -999.00,9,   -999.0,  -999.00,9,  -999.00,9,  -999.00,9,  -999.00,9,   -999.0,-999.0000, -999,9,    8,  30.2075,  21.3625,   -999.0,9
       RF01-10,  165E,RF-1457,  1,     20,02-12826,2,20011104,0802,  3.0017, 164.9893, 4226,     23.4,  30.2161,  34.6563,2,   -999.0,9,-999.0000,9,   -999.0,9,  -999.00,9,  -999.00,9,  -999.00,9,  -999.00,9,  -999.00,9,    1.614,2,    0.935,2,  -999.00,9,   -999.0,9,   -999.0,9,-999.0000,9,   -999.0,  9,  -999.00,9,   -999.0,  -999.00,9,  -999.00,9,  -999.00,9,  -999.00,9,   -999.0,-999.0000, -999,9,   23,  30.2103,  21.3967,   -999.0,9
       RF01-10,  165E,RF-1457,  1,     19,02-12825,2,20011104,0801,  3.0017, 164.9893, 4226,     48.7,  30.2027,  34.7310,2,   -999.0,9,-999.0000,9,   -999.0,9,  -999.00,9,  -999.00,9,  -999.00,9,  -999.00,9,  -999.00,9,    1.613,2,    0.935,2,  -999.00,9,   -999.0,9,   -999.0,9,-999.0000,9,   -999.0,  9,  -999.00,9,   -999.0,  -999.00,9,  -999.00,9,  -999.00,9,  -999.00,9,   -999.0,-999.0000, -999,9,   48,  30.1905,  21.4594,   -999.0,9
       RF01-10,  165E,RF-1457,  1,     18,02-12830,2,20011104,0800,  3.0017, 164.9893, 4226,     73.9,  30.1796,  34.7669,2,   -999.0,9,-999.0000,9,   -999.0,9,  -999.00,9,  -999.00,9,  -999.00,9,  -999.00,9,  -999.00,9,    1.615,2,    0.935,2,  -999.00,9,   -999.0,9,   -999.0,9,-999.0000,9,   -999.0,  9,  -999.00,9,   -999.0,  -999.00,9,  -999.00,9,  -999.00,9,  -999.00,9,   -999.0,-999.0000, -999,9,   73,  30.1612,  21.4963,   -999.0,9
       RF01-10,  165E,RF-1457,  1,     17,02-12815,2,20011104,0758,  3.0017, 164.9893, 4226,     97.5,  29.6280,  35.1322,2,   -999.0,9,  35.1621,4,   -999.0,9,  -999.00,9,  -999.00,9,  -999.00,9,  -999.00,9,  -999.00,9,    1.642,2,    0.949,2,  -999.00,9,   -999.0,9,   -999.0,9,-999.0000,9,   -999.0,  9,  -999.00,9,   -999.0,  -999.00,9,  -999.00,9,  -999.00,9,  -999.00,9,   -999.0,-999.0000, -999,9,   97,  29.6041,  21.9600,   -999.0,9
       RF01-10,  165E,RF-1457,  1,     16,02-12818,2,20011104,0757,  3.0017, 164.9893, 4226,    124.0,  27.9460,  35.2426,2,   -999.0,9,-999.0000,9,   -999.0,9,  -999.00,9,  -999.00,9,  -999.00,9,  -999.00,9,  -999.00,9,    1.757,2,    1.002,2,  -999.00,9,   -999.0,9,   -999.0,9,-999.0000,9,   -999.0,  9,  -999.00,9,   -999.0,  -999.00,9,  -999.00,9,  -999.00,9,  -999.00,9,   -999.0,-999.0000, -999,9,  123,  27.9168,  22.6043,   -999.0,9
       RF01-10,  165E,RF-1457,  1,     15,02-12809,2,20011104,0756,  3.0017, 164.9893, 4226,    148.6,  26.8866,  35.2813,2,   -999.0,9,-999.0000,9,   -999.0,9,  -999.00,9,  -999.00,9,  -999.00,9,  -999.00,9,  -999.00,9,    1.836,2,    1.017,2,  -999.00,9,   -999.0,9,   -999.0,9,-999.0000,9,   -999.0,  9,  -999.00,9,   -999.0,  -999.00,9,  -999.00,9,  -999.00,9,  -999.00,9,   -999.0,-999.0000, -999,9,  148,  26.8526,  22.9767,   -999.0,9
       RF01-10,  165E,RF-1457,  1,     14,02-12817,2,20011104,0754,  3.0017, 164.9893, 4226,    200.1,  19.8530,  34.8374,2,   -999.0,9,  34.8505,4,   -999.0,9,  -999.00,9,  -999.00,9,  -999.00,9,  -999.00,9,  -999.00,9,    2.465,2,    1.271,2,  -999.00,9,   -999.0,9,   -999.0,9,-999.0000,9,   -999.0,  9,  -999.00,9,   -999.0,  -999.00,9,  -999.00,9,  -999.00,9,  -999.00,9,   -999.0,-999.0000, -999,9,  199,  19.8162,  24.6860,   -999.0,9
       RF01-10,  165E,RF-1457,  1,     13,02-15822,2,20011104,0752,  3.0017, 164.9893, 4226,    249.0,  11.0010,  34.5164,2,   -999.0,9,-999.0000,9,   -999.0,9,  -999.00,9,  -999.00,9,  -999.00,9,  -999.00,9,  -999.00,9,    2.237,2,    0.903,2,  -999.00,9,   -999.0,9,   -999.0,9,-999.0000,9,   -999.0,  9,  -999.00,9,   -999.0,  -999.00,9,  -999.00,9,  -999.00,9,  -999.00,9,   -999.0,-999.0000, -999,9,  247,  10.9704,  26.4043,   -999.0,9
       RF01-10,  165E,RF-1457,  1,     12,02-12821,2,20011104,0750,  3.0017, 164.9893, 4226,    299.9,   9.6671,  34.6028,2,   -999.0,9,  34.6080,2,   -999.0,9,  -999.00,9,  -999.00,9,  -999.00,9,  -999.00,9,  -999.00,9,    1.170,2,    0.649,2,  -999.00,9,   -999.0,9,   -999.0,9,-999.0000,9,   -999.0,  9,  -999.00,9,   -999.0,  -999.00,9,  -999.00,9,  -999.00,9,  -999.00,9,   -999.0,-999.0000, -999,9,  298,   9.6330,  26.7037,   -999.0,9
       RF01-10,  165E,RF-1457,  1,     11,02-15823,2,20011104,0748,  3.0017, 164.9893, 4226,    400.3,   8.5859,  34.6099,2,   -999.0,9,  34.6149,2,   -999.0,9,  -999.00,9,  -999.00,9,  -999.00,9,  -999.00,9,  -999.00,9,    0.558,2,    0.212,2,  -999.00,9,   -999.0,9,   -999.0,9,-999.0000,9,   -999.0,  9,  -999.00,9,   -999.0,  -999.00,9,  -999.00,9,  -999.00,9,  -999.00,9,   -999.0,-999.0000, -999,9,  398,   8.5433,  26.8847,   -999.0,9
       RF01-10,  165E,RF-1457,  1,     10,02-12820,2,20011104,0745,  3.0017, 164.9893, 4226,    500.8,   7.7797,  34.5782,2,   -999.0,9,  34.5814,2,   -999.0,9,  -999.00,9,  -999.00,9,  -999.00,9,  -999.00,9,  -999.00,9,    0.372,2,    0.180,2,  -999.00,9,   -999.0,9,   -999.0,9,-999.0000,9,   -999.0,  9,  -999.00,9,   -999.0,  -999.00,9,  -999.00,9,  -999.00,9,  -999.00,9,   -999.0,-999.0000, -999,9,  497,   7.7291,  26.9826,   -999.0,9
       RF01-10,  165E,RF-1457,  1,      9,02-12810,2,20011104,0742,  3.0017, 164.9893, 4226,    602.4,   6.8629,  34.5467,2,   -999.0,9,  34.5507,2,   -999.0,9,  -999.00,9,  -999.00,9,  -999.00,9,  -999.00,9,  -999.00,9,    0.147,2,    0.149,2,  -999.00,9,   -999.0,9,   -999.0,9,-999.0000,9,   -999.0,  9,  -999.00,9,   -999.0,  -999.00,9,  -999.00,9,  -999.00,9,  -999.00,9,   -999.0,-999.0000, -999,9,  598,   6.8059,  27.0883,   -999.0,9
       RF01-10,  165E,RF-1457,  1,      8,02-12819,2,20011104,0740,  3.0017, 164.9893, 4226,    702.8,   6.0320,  34.5320,2,   -999.0,9,  34.5358,2,   -999.0,9,  -999.00,9,  -999.00,9,  -999.00,9,  -999.00,9,  -999.00,9,    0.043,2,    0.066,2,  -999.00,9,   -999.0,9,   -999.0,9,-999.0000,9,   -999.0,  9,  -999.00,9,   -999.0,  -999.00,9,  -999.00,9,  -999.00,9,  -999.00,9,   -999.0,-999.0000, -999,9,  698,   5.9694,  27.1867,   -999.0,9
       RF01-10,  165E,RF-1457,  1,      7,02-15821,2,20011104,0737,  3.0017, 164.9893, 4226,    804.7,   5.5267,  34.5386,2,   -999.0,9,  34.5407,2,   -999.0,9,  -999.00,9,  -999.00,9,  -999.00,9,  -999.00,9,  -999.00,9,    0.031,2,    0.040,2,  -999.00,9,   -999.0,9,   -999.0,9,-999.0000,9,   -999.0,  9,  -999.00,9,   -999.0,  -999.00,9,  -999.00,9,  -999.00,9,  -999.00,9,   -999.0,-999.0000, -999,9,  799,   5.4575,  27.2554,   -999.0,9
       RF01-10,  165E,RF-1457,  1,      6,02-13588,2,20011104,0734,  3.0017, 164.9893, 4226,    905.0,   5.0175,  34.5389,2,   -999.0,9,-999.0000,9,   -999.0,9,  -999.00,9,  -999.00,9,  -999.00,9,  -999.00,9,  -999.00,9,    0.008,2,    0.026,2,  -999.00,9,   -999.0,9,   -999.0,9,-999.0000,9,   -999.0,  9,  -999.00,9,   -999.0,  -999.00,9,  -999.00,9,  -999.00,9,  -999.00,9,   -999.0,-999.0000, -999,9,  898,   4.9425,  27.3163,   -999.0,9
       RF01-10,  165E,RF-1457,  1,      5,02-10155,2,20011104,0730,  3.0017, 164.9893, 4226,   1004.9,   4.6242,  34.5459,2,   -999.0,9,  34.5509,2,   -999.0,9,  -999.00,9,  -999.00,9,  -999.00,9,  -999.00,9,  -999.00,9,    0.000,2,    0.009,2,  -999.00,9,   -999.0,9,   -999.0,9,-999.0000,9,   -999.0,  9,  -999.00,9,   -999.0,  -999.00,9,  -999.00,9,  -999.00,9,  -999.00,9,   -999.0,-999.0000, -999,9,  997,   4.5432,  27.3669,   -999.0,9
       RF01-10,  165E,RF-1457,  1,      4,02-13579,2,20011104,0725,  3.0017, 164.9893, 4226,   1259.4,   3.8762,  34.5688,2,   -999.0,9,  34.5710,2,   -999.0,9,  -999.00,9,  -999.00,9,  -999.00,9,  -999.00,9,  -999.00,9,    0.000,2,    0.000,2,  -999.00,9,   -999.0,9,   -999.0,9,-999.0000,9,   -999.0,  9,  -999.00,9,   -999.0,  -999.00,9,  -999.00,9,  -999.00,9,  -999.00,9,   -999.0,-999.0000, -999,9, 1249,   3.7795,  27.4657,   -999.0,9
       RF01-10,  165E,RF-1457,  1,      3,02-13590,2,20011104,0720,  3.0017, 164.9893, 4226,   1512.1,   2.9554,  34.6032,2,   -999.0,9,  34.6032,2,   -999.0,9,  -999.00,9,  -999.00,9,  -999.00,9,  -999.00,9,  -999.00,9,    0.000,2,    0.000,2,  -999.00,9,   -999.0,9,   -999.0,9,-999.0000,9,   -999.0,  9,  -999.00,9,   -999.0,  -999.00,9,  -999.00,9,  -999.00,9,  -999.00,9,   -999.0,-999.0000, -999,9, 1498,   2.8470,  27.5822,   -999.0,9
       RF01-10,  165E,RF-1457,  1,      2,02-13589,2,20011104,0714,  3.0017, 164.9893, 4226,   1765.0,   2.5916,  34.6206,2,   -999.0,9,  34.6211,2,   -999.0,9,  -999.00,9,  -999.00,9,  -999.00,9,  -999.00,9,  -999.00,9,    0.000,2,    0.000,2,  -999.00,9,   -999.0,9,   -999.0,9,-999.0000,9,   -999.0,  9,  -999.00,9,   -999.0,  -999.00,9,  -999.00,9,  -999.00,9,  -999.00,9,   -999.0,-999.0000, -999,9, 1748,   2.4665,  27.6294,   -999.0,9
       RF01-10,  165E,RF-1457,  1,      1,02-12807,2,20011104,0709,  3.0017, 164.9893, 4226,   2042.7,   2.2563,  34.6377,2,   -999.0,9,  34.6359,2,   -999.0,9,  -999.00,9,  -999.00,9,  -999.00,9,  -999.00,9,  -999.00,9,    0.000,2,    0.000,2,  -999.00,9,   -999.0,9,   -999.0,9,-999.0000,9,   -999.0,  9,  -999.00,9,   -999.0,  -999.00,9,  -999.00,9,  -999.00,9,  -999.00,9,   -999.0,-999.0000, -999,9, 2022,   2.1122,  27.6724,   -999.0,9