BOTTLE,20130510GEMDJMAYT
EXPOCODE,SECT_ID,STNNBR,CASTNO,SAMPNO,BTLNBR,BTLNBR_FLAG_W,DATE,TIME,LATITUDE,LONGITUDE,DEPTH,CTDPRS,CTDTMP,CTDSAL,CTDSAL_FLAG_W,CTDOXY,CTDOXY_FLAG_W,SALNTY,SALNTY_FLAG_W,OXYGEN,OXYGEN_FLAG_W,SILCAT,SILCAT_FLAG_W,NITRAT,NITRAT_FLAG_W,NO2+NO3,NO2+NO3_FLAG_W,NITRIT,NITRIT_FLAG_W,PHSPHT,PHSPHT_FLAG_W,CFC-11,CFC-11_FLAG_W,CFC-12,CFC-12_FLAG_W,DELC13,DELC13_FLAG_W,TCARBN,TCARBN_FLAG_W,ALKALI,ALKALI_FLAG_W,PH,PH_FLAG_W,PH_TMP,PH_SCALE,PH_NBS,PH_NBS_FLAG_W,C13ERR,TOTALP,TOTALP_FLAG_W,AMMONI,AMMONI_FLAG_W,CHLORA,CHLORA_FLAG_W,PPHYTN,PPHYTN_FLAG_W,REVPRS,REVTMP,DEPTH_,DEPTH_FLAG,CTDDEP,THETA,SIGTHT,DOC,DOC_FLAG_W
,,,,,,,GMT,GMT,,,METER,DBAR,ITS-90,PSS-78,,UMOL/KG,,PSS-78,,UMOL/KG,,UMOL/KG,,UMOL/KG,,UMOL/KG,,UMOL/KG,,UMOL/KG,,PMOL/KG,,PMOL/KG,,/MILLE,,UMOL/KG,,UMOL/KG,,25_DEG_C,,DEG_C,,,,/MILLE,UMOL/KG,,UMOL/KG,,UG/L,,UG/L,,DBAR,ITS-90,METERS,,METERS,DEG_C,,UMOL/L,
       RF01-10,  NONE,RF-1488,  1,     -9,      -9,5,20011116,0530,  7.0062, 147.0178, 3395,      0.0,  30.1435,  33.6503,2,   -999.0,9,-999.0000,9,   -999.0,9,  -999.00,9,  -999.00,9,  -999.00,9,  -999.00,9,  -999.00,9, -999.000,9, -999.000,9,  -999.00,9,   -999.0,9,   -999.0,9,-999.0000,9,   -999.0,  9,  -999.00,9,   -999.0,  -999.00,9,  -999.00,9,  -999.00,9,  -999.00,9,   -999.0,-999.0000, -999,9,    0,  30.1435,  20.6658,   -999.0,9
       RF01-10,  NONE,RF-1488,  1,     19,02-12825,2,20011116,0527,  7.0062, 147.0178, 3395,     13.2,  29.9987,  33.6663,2,   -999.0,9,-999.0000,9,   -999.0,9,  -999.00,9,  -999.00,9,  -999.00,9,  -999.00,9,  -999.00,9, -999.000,9, -999.000,9,  -999.00,9,   -999.0,9,   -999.0,9,-999.0000,9,   -999.0,  9,  -999.00,9,   -999.0,  -999.00,9,  -999.00,9,  -999.00,9,  -999.00,9,   -999.0,-999.0000, -999,9,   13,  29.9955,  20.7282,   -999.0,9
       RF01-10,  NONE,RF-1488,  1,     18,02-12830,2,20011116,0526,  7.0062, 147.0178, 3395,     26.7,  29.9857,  33.6866,2,   -999.0,9,-999.0000,9,   -999.0,9,  -999.00,9,  -999.00,9,  -999.00,9,  -999.00,9,  -999.00,9, -999.000,9, -999.000,9,  -999.00,9,   -999.0,9,   -999.0,9,-999.0000,9,   -999.0,  9,  -999.00,9,   -999.0,  -999.00,9,  -999.00,9,  -999.00,9,  -999.00,9,   -999.0,-999.0000, -999,9,   27,  29.9791,  20.7490,   -999.0,9
       RF01-10,  NONE,RF-1488,  1,     17,02-12815,2,20011116,0525,  7.0062, 147.0178, 3395,     53.4,  29.2038,  34.1030,2,   -999.0,9,-999.0000,9,   -999.0,9,  -999.00,9,  -999.00,9,  -999.00,9,  -999.00,9,  -999.00,9, -999.000,9, -999.000,9,  -999.00,9,   -999.0,9,   -999.0,9,-999.0000,9,   -999.0,  9,  -999.00,9,   -999.0,  -999.00,9,  -999.00,9,  -999.00,9,  -999.00,9,   -999.0,-999.0000, -999,9,   53,  29.1909,  21.3270,   -999.0,9
       RF01-10,  NONE,RF-1488,  1,     16,02-12818,2,20011116,0523,  7.0062, 147.0178, 3395,     76.2,  28.0760,  34.4589,2,   -999.0,9,-999.0000,9,   -999.0,9,  -999.00,9,  -999.00,9,  -999.00,9,  -999.00,9,  -999.00,9, -999.000,9, -999.000,9,  -999.00,9,   -999.0,9,   -999.0,9,-999.0000,9,   -999.0,  9,  -999.00,9,   -999.0,  -999.00,9,  -999.00,9,  -999.00,9,  -999.00,9,   -999.0,-999.0000, -999,9,   76,  28.0580,  21.9688,   -999.0,9
       RF01-10,  NONE,RF-1488,  1,     15,02-12809,2,20011116,0522,  7.0062, 147.0178, 3395,    102.7,  25.4896,  34.8244,2,   -999.0,9,  34.8251,2,   -999.0,9,  -999.00,9,  -999.00,9,  -999.00,9,  -999.00,9,  -999.00,9, -999.000,9, -999.000,9,  -999.00,9,   -999.0,9,   -999.0,9,-999.0000,9,   -999.0,  9,  -999.00,9,   -999.0,  -999.00,9,  -999.00,9,  -999.00,9,  -999.00,9,   -999.0,-999.0000, -999,9,  102,  25.4670,  23.0658,   -999.0,9
       RF01-10,  NONE,RF-1488,  1,     14,02-12817,2,20011116,0521,  7.0062, 147.0178, 3395,    128.5,  21.3673,  34.8124,2,   -999.0,9,-999.0000,9,   -999.0,9,  -999.00,9,  -999.00,9,  -999.00,9,  -999.00,9,  -999.00,9, -999.000,9, -999.000,9,  -999.00,9,   -999.0,9,   -999.0,9,-999.0000,9,   -999.0,  9,  -999.00,9,   -999.0,  -999.00,9,  -999.00,9,  -999.00,9,  -999.00,9,   -999.0,-999.0000, -999,9,  128,  21.3424,  24.2576,   -999.0,9
       RF01-10,  NONE,RF-1488,  1,     13,02-15822,2,20011116,0519,  7.0062, 147.0178, 3395,    153.1,  19.0094,  34.7665,2,   -999.0,9,-999.0000,9,   -999.0,9,  -999.00,9,  -999.00,9,  -999.00,9,  -999.00,9,  -999.00,9, -999.000,9, -999.000,9,  -999.00,9,   -999.0,9,   -999.0,9,-999.0000,9,   -999.0,  9,  -999.00,9,   -999.0,  -999.00,9,  -999.00,9,  -999.00,9,  -999.00,9,   -999.0,-999.0000, -999,9,  152,  18.9821,  24.8473,   -999.0,9
       RF01-10,  NONE,RF-1488,  1,     12,02-12821,2,20011116,0518,  7.0062, 147.0178, 3395,    203.4,  12.5962,  34.5521,2,   -999.0,9,  34.5525,2,   -999.0,9,  -999.00,9,  -999.00,9,  -999.00,9,  -999.00,9,  -999.00,9, -999.000,9, -999.000,9,  -999.00,9,   -999.0,9,   -999.0,9,-999.0000,9,   -999.0,  9,  -999.00,9,   -999.0,  -999.00,9,  -999.00,9,  -999.00,9,  -999.00,9,   -999.0,-999.0000, -999,9,  202,  12.5690,  26.1312,   -999.0,9
       RF01-10,  NONE,RF-1488,  1,     11,02-15823,2,20011116,0516,  7.0062, 147.0178, 3395,    254.8,  10.0866,  34.5883,2,   -999.0,9,-999.0000,9,   -999.0,9,  -999.00,9,  -999.00,9,  -999.00,9,  -999.00,9,  -999.00,9, -999.000,9, -999.000,9,  -999.00,9,   -999.0,9,   -999.0,9,-999.0000,9,   -999.0,  9,  -999.00,9,   -999.0,  -999.00,9,  -999.00,9,  -999.00,9,  -999.00,9,   -999.0,-999.0000, -999,9,  253,  10.0569,  26.6207,   -999.0,9
       RF01-10,  NONE,RF-1488,  1,     10,02-12820,2,20011116,0514,  7.0062, 147.0178, 3395,    304.6,   9.1113,  34.6079,2,   -999.0,9,  34.6034,2,   -999.0,9,  -999.00,9,  -999.00,9,  -999.00,9,  -999.00,9,  -999.00,9, -999.000,9, -999.000,9,  -999.00,9,   -999.0,9,   -999.0,9,-999.0000,9,   -999.0,  9,  -999.00,9,   -999.0,  -999.00,9,  -999.00,9,  -999.00,9,  -999.00,9,   -999.0,-999.0000, -999,9,  303,   9.0779,  26.7986,   -999.0,9
       RF01-10,  NONE,RF-1488,  1,      9,02-12810,2,20011116,0511,  7.0062, 147.0178, 3395,    404.7,   8.3944,  34.5935,2,   -999.0,9,  34.5942,2,   -999.0,9,  -999.00,9,  -999.00,9,  -999.00,9,  -999.00,9,  -999.00,9, -999.000,9, -999.000,9,  -999.00,9,   -999.0,9,   -999.0,9,-999.0000,9,   -999.0,  9,  -999.00,9,   -999.0,  -999.00,9,  -999.00,9,  -999.00,9,  -999.00,9,   -999.0,-999.0000, -999,9,  402,   8.3519,  26.9013,   -999.0,9
       RF01-10,  NONE,RF-1488,  1,      8,02-12819,2,20011116,0509,  7.0062, 147.0178, 3395,    504.8,   7.5323,  34.5657,2,   -999.0,9,  34.5568,2,   -999.0,9,  -999.00,9,  -999.00,9,  -999.00,9,  -999.00,9,  -999.00,9, -999.000,9, -999.000,9,  -999.00,9,   -999.0,9,   -999.0,9,-999.0000,9,   -999.0,  9,  -999.00,9,   -999.0,  -999.00,9,  -999.00,9,  -999.00,9,  -999.00,9,   -999.0,-999.0000, -999,9,  501,   7.4822,  27.0086,   -999.0,9
       RF01-10,  NONE,RF-1488,  1,      7,02-15821,2,20011116,0506,  7.0062, 147.0178, 3395,    605.5,   6.7126,  34.5427,2,   -999.0,9,  34.5413,2,   -999.0,9,  -999.00,9,  -999.00,9,  -999.00,9,  -999.00,9,  -999.00,9, -999.000,9, -999.000,9,  -999.00,9,   -999.0,9,   -999.0,9,-999.0000,9,   -999.0,  9,  -999.00,9,   -999.0,  -999.00,9,  -999.00,9,  -999.00,9,  -999.00,9,   -999.0,-999.0000, -999,9,  601,   6.6559,  27.1055,   -999.0,9
       RF01-10,  NONE,RF-1488,  1,      6,02-13588,2,20011116,0503,  7.0062, 147.0178, 3395,    707.6,   6.1362,  34.5411,2,   -999.0,9,  34.5368,2,   -999.0,9,  -999.00,9,  -999.00,9,  -999.00,9,  -999.00,9,  -999.00,9, -999.000,9, -999.000,9,  -999.00,9,   -999.0,9,   -999.0,9,-999.0000,9,   -999.0,  9,  -999.00,9,   -999.0,  -999.00,9,  -999.00,9,  -999.00,9,  -999.00,9,   -999.0,-999.0000, -999,9,  702,   6.0726,  27.1808,   -999.0,9
       RF01-10,  NONE,RF-1488,  1,      5,02-10155,2,20011116,0501,  7.0062, 147.0178, 3395,    808.9,   5.3869,  34.5382,2,   -999.0,9,  34.5375,2,   -999.0,9,  -999.00,9,  -999.00,9,  -999.00,9,  -999.00,9,  -999.00,9, -999.000,9, -999.000,9,  -999.00,9,   -999.0,9,   -999.0,9,-999.0000,9,   -999.0,  9,  -999.00,9,   -999.0,  -999.00,9,  -999.00,9,  -999.00,9,  -999.00,9,   -999.0,-999.0000, -999,9,  803,   5.3182,  27.2718,   -999.0,9
       RF01-10,  NONE,RF-1488,  1,      4,02-13579,2,20011116,0458,  7.0062, 147.0178, 3395,    909.4,   4.9163,  34.5431,2,   -999.0,9,-999.0000,9,   -999.0,9,  -999.00,9,  -999.00,9,  -999.00,9,  -999.00,9,  -999.00,9, -999.000,9, -999.000,9,  -999.00,9,   -999.0,9,   -999.0,9,-999.0000,9,   -999.0,  9,  -999.00,9,   -999.0,  -999.00,9,  -999.00,9,  -999.00,9,  -999.00,9,   -999.0,-999.0000, -999,9,  902,   4.8417,  27.3312,   -999.0,9
       RF01-10,  NONE,RF-1488,  1,      3,02-13590,2,20011116,0455,  7.0062, 147.0178, 3395,   1010.1,   4.4669,  34.5546,2,   -999.0,9,  34.5539,2,   -999.0,9,  -999.00,9,  -999.00,9,  -999.00,9,  -999.00,9,  -999.00,9, -999.000,9, -999.000,9,  -999.00,9,   -999.0,9,   -999.0,9,-999.0000,9,   -999.0,  9,  -999.00,9,   -999.0,  -999.00,9,  -999.00,9,  -999.00,9,  -999.00,9,   -999.0,-999.0000, -999,9, 1002,   4.3867,  27.3908,   -999.0,9
       RF01-10,  NONE,RF-1488,  1,      2,02-13589,2,20011116,0450,  7.0062, 147.0178, 3395,   1263.5,   3.4887,  34.5834,2,   -999.0,9,  34.5818,2,   -999.0,9,  -999.00,9,  -999.00,9,  -999.00,9,  -999.00,9,  -999.00,9, -999.000,9, -999.000,9,  -999.00,9,   -999.0,9,   -999.0,9,-999.0000,9,   -999.0,  9,  -999.00,9,   -999.0,  -999.00,9,  -999.00,9,  -999.00,9,  -999.00,9,   -999.0,-999.0000, -999,9, 1253,   3.3954,  27.5154,   -999.0,9
       RF01-10,  NONE,RF-1488,  1,      1,02-12807,2,20011116,0444,  7.0062, 147.0178, 3395,   1537.2,   2.8601,  34.6073,2,   -999.0,9,  34.6060,2,   -999.0,9,  -999.00,9,  -999.00,9,  -999.00,9,  -999.00,9,  -999.00,9, -999.000,9, -999.000,9,  -999.00,9,   -999.0,9,   -999.0,9,-999.0000,9,   -999.0,  9,  -999.00,9,   -999.0,  -999.00,9,  -999.00,9,  -999.00,9,  -999.00,9,   -999.0,-999.0000, -999,9, 1523,   2.7506,  27.5941,   -999.0,9
       RF01-10,  NONE,RF-1490,  1,     -9,      -9,5,20011116,1707,  8.4950, 146.4793, 3558,      0.0,  29.8624,  33.8910,2,   -999.0,9,-999.0000,9,   -999.0,9,  -999.00,9,  -999.00,9,  -999.00,9,  -999.00,9,  -999.00,9, -999.000,9, -999.000,9,  -999.00,9,   -999.0,9,   -999.0,9,-999.0000,9,   -999.0,  9,  -999.00,9,   -999.0,  -999.00,9,  -999.00,9,  -999.00,9,  -999.00,9,   -999.0,-999.0000, -999,9,    0,  29.8624,  20.9418,   -999.0,9
       RF01-10,  NONE,RF-1490,  1,     19,02-12825,2,20011116,1704,  8.4950, 146.4793, 3558,     12.7,  29.8658,  33.8918,2,   -999.0,9,-999.0000,9,   -999.0,9,  -999.00,9,  -999.00,9,  -999.00,9,  -999.00,9,  -999.00,9, -999.000,9, -999.000,9,  -999.00,9,   -999.0,9,   -999.0,9,-999.0000,9,   -999.0,  9,  -999.00,9,   -999.0,  -999.00,9,  -999.00,9,  -999.00,9,  -999.00,9,   -999.0,-999.0000, -999,9,   13,  29.8627,  20.9423,   -999.0,9
       RF01-10,  NONE,RF-1490,  1,     18,02-12830,2,20011116,1703,  8.4950, 146.4793, 3558,     28.5,  29.8831,  33.9024,2,   -999.0,9,-999.0000,9,   -999.0,9,  -999.00,9,  -999.00,9,  -999.00,9,  -999.00,9,  -999.00,9, -999.000,9, -999.000,9,  -999.00,9,   -999.0,9,   -999.0,9,-999.0000,9,   -999.0,  9,  -999.00,9,   -999.0,  -999.00,9,  -999.00,9,  -999.00,9,  -999.00,9,   -999.0,-999.0000, -999,9,   28,  29.8761,  20.9457,   -999.0,9
       RF01-10,  NONE,RF-1490,  1,     17,02-12815,2,20011116,1702,  8.4950, 146.4793, 3558,     53.1,  29.7383,  34.0167,2,   -999.0,9,-999.0000,9,   -999.0,9,  -999.00,9,  -999.00,9,  -999.00,9,  -999.00,9,  -999.00,9, -999.000,9, -999.000,9,  -999.00,9,   -999.0,9,   -999.0,9,-999.0000,9,   -999.0,  9,  -999.00,9,   -999.0,  -999.00,9,  -999.00,9,  -999.00,9,  -999.00,9,   -999.0,-999.0000, -999,9,   53,  29.7252,  21.0825,   -999.0,9
       RF01-10,  NONE,RF-1490,  1,     16,02-12818,2,20011116,1700,  8.4950, 146.4793, 3558,     77.6,  27.7509,  34.6458,2,   -999.0,9,-999.0000,9,   -999.0,9,  -999.00,9,  -999.00,9,  -999.00,9,  -999.00,9,  -999.00,9, -999.000,9, -999.000,9,  -999.00,9,   -999.0,9,   -999.0,9,-999.0000,9,   -999.0,  9,  -999.00,9,   -999.0,  -999.00,9,  -999.00,9,  -999.00,9,  -999.00,9,   -999.0,-999.0000, -999,9,   77,  27.7328,  22.2152,   -999.0,9
       RF01-10,  NONE,RF-1490,  1,     15,02-12809,2,20011116,1659,  8.4950, 146.4793, 3558,    102.1,  25.5711,  34.8737,2,   -999.0,9,-999.0000,9,   -999.0,9,  -999.00,9,  -999.00,9,  -999.00,9,  -999.00,9,  -999.00,9, -999.000,9, -999.000,9,  -999.00,9,   -999.0,9,   -999.0,9,-999.0000,9,   -999.0,  9,  -999.00,9,   -999.0,  -999.00,9,  -999.00,9,  -999.00,9,  -999.00,9,   -999.0,-999.0000, -999,9,  102,  25.5486,  23.0779,   -999.0,9
       RF01-10,  NONE,RF-1490,  1,     14,02-12817,2,20011116,1658,  8.4950, 146.4793, 3558,    127.7,  21.8098,  34.7213,2,   -999.0,9,-999.0000,9,   -999.0,9,  -999.00,9,  -999.00,9,  -999.00,9,  -999.00,9,  -999.00,9, -999.000,9, -999.000,9,  -999.00,9,   -999.0,9,   -999.0,9,-999.0000,9,   -999.0,  9,  -999.00,9,   -999.0,  -999.00,9,  -999.00,9,  -999.00,9,  -999.00,9,   -999.0,-999.0000, -999,9,  127,  21.7848,  24.0661,   -999.0,9
       RF01-10,  NONE,RF-1490,  1,     13,02-15822,2,20011116,1656,  8.4950, 146.4793, 3558,    152.6,  17.3993,  34.7225,2,   -999.0,9,-999.0000,9,   -999.0,9,  -999.00,9,  -999.00,9,  -999.00,9,  -999.00,9,  -999.00,9, -999.000,9, -999.000,9,  -999.00,9,   -999.0,9,   -999.0,9,-999.0000,9,   -999.0,  9,  -999.00,9,   -999.0,  -999.00,9,  -999.00,9,  -999.00,9,  -999.00,9,   -999.0,-999.0000, -999,9,  152,  17.3737,  25.2119,   -999.0,9
       RF01-10,  NONE,RF-1490,  1,     12,02-12821,2,20011116,1654,  8.4950, 146.4793, 3558,    203.3,  12.6074,  34.5333,2,   -999.0,9,-999.0000,9,   -999.0,9,  -999.00,9,  -999.00,9,  -999.00,9,  -999.00,9,  -999.00,9, -999.000,9, -999.000,9,  -999.00,9,   -999.0,9,   -999.0,9,-999.0000,9,   -999.0,  9,  -999.00,9,   -999.0,  -999.00,9,  -999.00,9,  -999.00,9,  -999.00,9,   -999.0,-999.0000, -999,9,  202,  12.5801,  26.1145,   -999.0,9
       RF01-10,  NONE,RF-1490,  1,     11,02-15823,2,20011116,1653,  8.4950, 146.4793, 3558,    254.8,  10.5113,  34.5653,2,   -999.0,9,-999.0000,9,   -999.0,9,  -999.00,9,  -999.00,9,  -999.00,9,  -999.00,9,  -999.00,9, -999.000,9, -999.000,9,  -999.00,9,   -999.0,9,   -999.0,9,-999.0000,9,   -999.0,  9,  -999.00,9,   -999.0,  -999.00,9,  -999.00,9,  -999.00,9,  -999.00,9,   -999.0,-999.0000, -999,9,  253,  10.4809,  26.5294,   -999.0,9
       RF01-10,  NONE,RF-1490,  1,     10,02-12820,2,20011116,1651,  8.4950, 146.4793, 3558,    304.3,   9.4197,  34.5870,2,   -999.0,9,-999.0000,9,   -999.0,9,  -999.00,9,  -999.00,9,  -999.00,9,  -999.00,9,  -999.00,9, -999.000,9, -999.000,9,  -999.00,9,   -999.0,9,   -999.0,9,-999.0000,9,   -999.0,  9,  -999.00,9,   -999.0,  -999.00,9,  -999.00,9,  -999.00,9,  -999.00,9,   -999.0,-999.0000, -999,9,  302,   9.3857,  26.7322,   -999.0,9
       RF01-10,  NONE,RF-1490,  1,      9,02-12810,2,20011116,1648,  8.4950, 146.4793, 3558,    404.0,   8.4275,  34.5764,2,   -999.0,9,-999.0000,9,   -999.0,9,  -999.00,9,  -999.00,9,  -999.00,9,  -999.00,9,  -999.00,9, -999.000,9, -999.000,9,  -999.00,9,   -999.0,9,   -999.0,9,-999.0000,9,   -999.0,  9,  -999.00,9,   -999.0,  -999.00,9,  -999.00,9,  -999.00,9,  -999.00,9,   -999.0,-999.0000, -999,9,  401,   8.3850,  26.8828,   -999.0,9
       RF01-10,  NONE,RF-1490,  1,      8,02-12819,2,20011116,1645,  8.4950, 146.4793, 3558,    507.2,   7.7395,  34.5558,2,   -999.0,9,-999.0000,9,   -999.0,9,  -999.00,9,  -999.00,9,  -999.00,9,  -999.00,9,  -999.00,9, -999.000,9, -999.000,9,  -999.00,9,   -999.0,9,   -999.0,9,-999.0000,9,   -999.0,  9,  -999.00,9,   -999.0,  -999.00,9,  -999.00,9,  -999.00,9,  -999.00,9,   -999.0,-999.0000, -999,9,  504,   7.6884,  26.9709,   -999.0,9
       RF01-10,  NONE,RF-1490,  1,      7,02-15821,2,20011116,1642,  8.4950, 146.4793, 3558,    605.6,   6.9762,  34.5379,2,   -999.0,9,-999.0000,9,   -999.0,9,  -999.00,9,  -999.00,9,  -999.00,9,  -999.00,9,  -999.00,9, -999.000,9, -999.000,9,  -999.00,9,   -999.0,9,   -999.0,9,-999.0000,9,   -999.0,  9,  -999.00,9,   -999.0,  -999.00,9,  -999.00,9,  -999.00,9,  -999.00,9,   -999.0,-999.0000, -999,9,  601,   6.9184,  27.0660,   -999.0,9
       RF01-10,  NONE,RF-1490,  1,      6,02-13588,2,20011116,1639,  8.4950, 146.4793, 3558,    707.4,   6.2055,  34.5349,2,   -999.0,9,-999.0000,9,   -999.0,9,  -999.00,9,  -999.00,9,  -999.00,9,  -999.00,9,  -999.00,9, -999.000,9, -999.000,9,  -999.00,9,   -999.0,9,   -999.0,9,-999.0000,9,   -999.0,  9,  -999.00,9,   -999.0,  -999.00,9,  -999.00,9,  -999.00,9,  -999.00,9,   -999.0,-999.0000, -999,9,  702,   6.1415,  27.1671,   -999.0,9
       RF01-10,  NONE,RF-1490,  1,      5,02-10155,2,20011116,1636,  8.4950, 146.4793, 3558,    808.2,   5.6738,  34.5171,2,   -999.0,9,-999.0000,9,   -999.0,9,  -999.00,9,  -999.00,9,  -999.00,9,  -999.00,9,  -999.00,9, -999.000,9, -999.000,9,  -999.00,9,   -999.0,9,   -999.0,9,-999.0000,9,   -999.0,  9,  -999.00,9,   -999.0,  -999.00,9,  -999.00,9,  -999.00,9,  -999.00,9,   -999.0,-999.0000, -999,9,  802,   5.6034,  27.2206,   -999.0,9
       RF01-10,  NONE,RF-1490,  1,      4,02-13579,2,20011116,1633,  8.4950, 146.4793, 3558,    909.4,   5.0154,  34.5562,2,   -999.0,9,-999.0000,9,   -999.0,9,  -999.00,9,  -999.00,9,  -999.00,9,  -999.00,9,  -999.00,9, -999.000,9, -999.000,9,  -999.00,9,   -999.0,9,   -999.0,9,-999.0000,9,   -999.0,  9,  -999.00,9,   -999.0,  -999.00,9,  -999.00,9,  -999.00,9,  -999.00,9,   -999.0,-999.0000, -999,9,  902,   4.9401,  27.3303,   -999.0,9
       RF01-10,  NONE,RF-1490,  1,      3,02-13590,2,20011116,1630,  8.4950, 146.4793, 3558,   1010.7,   4.4848,  34.5578,2,   -999.0,9,-999.0000,9,   -999.0,9,  -999.00,9,  -999.00,9,  -999.00,9,  -999.00,9,  -999.00,9, -999.000,9, -999.000,9,  -999.00,9,   -999.0,9,   -999.0,9,-999.0000,9,   -999.0,  9,  -999.00,9,   -999.0,  -999.00,9,  -999.00,9,  -999.00,9,  -999.00,9,   -999.0,-999.0000, -999,9, 1003,   4.4044,  27.3914,   -999.0,9
       RF01-10,  NONE,RF-1490,  1,      2,02-13589,2,20011116,1624,  8.4950, 146.4793, 3558,   1264.1,   3.5298,  34.5800,2,   -999.0,9,-999.0000,9,   -999.0,9,  -999.00,9,  -999.00,9,  -999.00,9,  -999.00,9,  -999.00,9, -999.000,9, -999.000,9,  -999.00,9,   -999.0,9,   -999.0,9,-999.0000,9,   -999.0,  9,  -999.00,9,   -999.0,  -999.00,9,  -999.00,9,  -999.00,9,  -999.00,9,   -999.0,-999.0000, -999,9, 1253,   3.4361,  27.5087,   -999.0,9
       RF01-10,  NONE,RF-1490,  1,      1,02-12807,2,20011116,1618,  8.4950, 146.4793, 3558,   1537.7,   2.7734,  34.6098,2,   -999.0,9,-999.0000,9,   -999.0,9,  -999.00,9,  -999.00,9,  -999.00,9,  -999.00,9,  -999.00,9, -999.000,9, -999.000,9,  -999.00,9,   -999.0,9,   -999.0,9,-999.0000,9,   -999.0,  9,  -999.00,9,   -999.0,  -999.00,9,  -999.00,9,  -999.00,9,  -999.00,9,   -999.0,-999.0000, -999,9, 1524,   2.6650,  27.6037,   -999.0,9