BOTTLE,20130510GEMDJMAYT
EXPOCODE,SECT_ID,STNNBR,CASTNO,SAMPNO,BTLNBR,BTLNBR_FLAG_W,DATE,TIME,LATITUDE,LONGITUDE,DEPTH,CTDPRS,CTDTMP,CTDSAL,CTDSAL_FLAG_W,CTDOXY,CTDOXY_FLAG_W,SALNTY,SALNTY_FLAG_W,OXYGEN,OXYGEN_FLAG_W,SILCAT,SILCAT_FLAG_W,NITRAT,NITRAT_FLAG_W,NO2+NO3,NO2+NO3_FLAG_W,NITRIT,NITRIT_FLAG_W,PHSPHT,PHSPHT_FLAG_W,CFC-11,CFC-11_FLAG_W,CFC-12,CFC-12_FLAG_W,DELC13,DELC13_FLAG_W,TCARBN,TCARBN_FLAG_W,ALKALI,ALKALI_FLAG_W,PH,PH_FLAG_W,PH_TMP,PH_SCALE,PH_NBS,PH_NBS_FLAG_W,C13ERR,TOTALP,TOTALP_FLAG_W,AMMONI,AMMONI_FLAG_W,CHLORA,CHLORA_FLAG_W,PPHYTN,PPHYTN_FLAG_W,REVPRS,REVTMP,DEPTH_,DEPTH_FLAG,CTDDEP,THETA,SIGTHT,DOC,DOC_FLAG_W
,,,,,,,GMT,GMT,,,METER,DBAR,ITS-90,PSS-78,,UMOL/KG,,PSS-78,,UMOL/KG,,UMOL/KG,,UMOL/KG,,UMOL/KG,,UMOL/KG,,UMOL/KG,,PMOL/KG,,PMOL/KG,,/MILLE,,UMOL/KG,,UMOL/KG,,25_DEG_C,,DEG_C,,,,/MILLE,UMOL/KG,,UMOL/KG,,UG/L,,UG/L,,DBAR,ITS-90,METERS,,METERS,DEG_C,,UMOL/L,
       RF01-10,  165E,RF-1447,  1,     -9,      -9,5,20011023,2351, 13.0183, 164.9853, 5199,      0.0,  28.6278,  34.6239,2,   -999.0,9,-999.0000,9,   -999.0,9,  -999.00,9,  -999.00,9,  -999.00,9,  -999.00,9,  -999.00,9,    1.677,2,    0.996,2,  -999.00,9,   -999.0,9,   -999.0,9,-999.0000,9,   -999.0,  9,  -999.00,9,   -999.0,  -999.00,9,  -999.00,9,  -999.00,9,  -999.00,9,   -999.0,-999.0000, -999,9,    0,  28.6278,  21.9055,   -999.0,9
       RF01-10,  165E,RF-1447,  1,     21, 02-9150,2,20011023,2349, 13.0183, 164.9853, 5199,      3.7,  28.6326,  34.6276,2,   -999.0,9,-999.0000,9,   -999.0,9,  -999.00,9,  -999.00,9,  -999.00,9,  -999.00,9,  -999.00,9,    1.677,2,    0.995,2,  -999.00,9,   -999.0,9,   -999.0,9,-999.0000,9,   -999.0,  9,  -999.00,9,   -999.0,  -999.00,9,  -999.00,9,  -999.00,9,  -999.00,9,   -999.0,-999.0000, -999,9,    4,  28.6317,  21.9069,   -999.0,9
       RF01-10,  165E,RF-1447,  1,     20,02-12826,2,20011023,2348, 13.0183, 164.9853, 5199,     19.2,  28.6569,  34.6499,2,   -999.0,9,-999.0000,9,   -999.0,9,  -999.00,9,  -999.00,9,  -999.00,9,  -999.00,9,  -999.00,9,    1.675,2,    0.995,2,  -999.00,9,   -999.0,9,   -999.0,9,-999.0000,9,   -999.0,  9,  -999.00,9,   -999.0,  -999.00,9,  -999.00,9,  -999.00,9,  -999.00,9,   -999.0,-999.0000, -999,9,   19,  28.6523,  21.9169,   -999.0,9
       RF01-10,  165E,RF-1447,  1,     19,02-12825,2,20011023,2346, 13.0183, 164.9853, 5199,     44.5,  28.7495,  34.7623,2,   -999.0,9,-999.0000,9,   -999.0,9,  -999.00,9,  -999.00,9,  -999.00,9,  -999.00,9,  -999.00,9,    1.667,2,    0.991,2,  -999.00,9,   -999.0,9,   -999.0,9,-999.0000,9,   -999.0,  9,  -999.00,9,   -999.0,  -999.00,9,  -999.00,9,  -999.00,9,  -999.00,9,   -999.0,-999.0000, -999,9,   44,  28.7389,  21.9726,   -999.0,9
       RF01-10,  165E,RF-1447,  1,     18,02-12830,2,20011023,2345, 13.0183, 164.9853, 5199,     69.8,  28.6406,  34.8895,2,   -999.0,9,-999.0000,9,   -999.0,9,  -999.00,9,  -999.00,9,  -999.00,9,  -999.00,9,  -999.00,9,    1.673,2,    0.993,2,  -999.00,9,   -999.0,9,   -999.0,9,-999.0000,9,   -999.0,  9,  -999.00,9,   -999.0,  -999.00,9,  -999.00,9,  -999.00,9,  -999.00,9,   -999.0,-999.0000, -999,9,   69,  28.6239,  22.1062,   -999.0,9
       RF01-10,  165E,RF-1447,  1,     17,02-12815,2,20011023,2343, 13.0183, 164.9853, 5199,     93.7,  26.9653,  34.9637,2,   -999.0,9,  34.9992,4,   -999.0,9,  -999.00,9,  -999.00,9,  -999.00,9,  -999.00,9,  -999.00,9,    1.783,2,    1.050,2,  -999.00,9,   -999.0,9,   -999.0,9,-999.0000,9,   -999.0,  9,  -999.00,9,   -999.0,  -999.00,9,  -999.00,9,  -999.00,9,  -999.00,9,   -999.0,-999.0000, -999,9,   93,  26.9438,  22.7084,   -999.0,9
       RF01-10,  165E,RF-1447,  1,     16,02-12818,2,20011023,2342, 13.0183, 164.9853, 5199,    118.6,  25.8664,  35.0736,2,   -999.0,9,-999.0000,9,   -999.0,9,  -999.00,9,  -999.00,9,  -999.00,9,  -999.00,9,  -999.00,9,    1.870,2,    1.090,2,  -999.00,9,   -999.0,9,   -999.0,9,-999.0000,9,   -999.0,  9,  -999.00,9,   -999.0,  -999.00,9,  -999.00,9,  -999.00,9,  -999.00,9,   -999.0,-999.0000, -999,9,  118,  25.8401,  23.1386,   -999.0,9
       RF01-10,  165E,RF-1447,  1,     15,02-12809,2,20011023,2340, 13.0183, 164.9853, 5199,    146.3,  23.4419,  35.1074,2,   -999.0,9,-999.0000,9,   -999.0,9,  -999.00,9,  -999.00,9,  -999.00,9,  -999.00,9,  -999.00,9,    2.076,2,    1.185,2,  -999.00,9,   -999.0,9,   -999.0,9,-999.0000,9,   -999.0,  9,  -999.00,9,   -999.0,  -999.00,9,  -999.00,9,  -999.00,9,  -999.00,9,   -999.0,-999.0000, -999,9,  145,  23.4116,  23.8956,   -999.0,9
       RF01-10,  165E,RF-1447,  1,     14,02-12817,2,20011023,2337, 13.0183, 164.9853, 5199,    198.5,  18.0466,  34.7880,2,   -999.0,9,  34.5358,4,   -999.0,9,  -999.00,9,  -999.00,9,  -999.00,9,  -999.00,9,  -999.00,9,    2.694,2,    1.455,2,  -999.00,9,   -999.0,9,   -999.0,9,-999.0000,9,   -999.0,  9,  -999.00,9,   -999.0,  -999.00,9,  -999.00,9,  -999.00,9,  -999.00,9,   -999.0,-999.0000, -999,9,  197,  18.0125,  25.1066,   -999.0,9
       RF01-10,  165E,RF-1447,  1,     13,02-15822,2,20011023,2335, 13.0183, 164.9853, 5199,    246.6,  14.7438,  34.5208,2,   -999.0,9,-999.0000,9,   -999.0,9,  -999.00,9,  -999.00,9,  -999.00,9,  -999.00,9,  -999.00,9,    3.191,2,    1.647,2,  -999.00,9,   -999.0,9,   -999.0,9,-999.0000,9,   -999.0,  9,  -999.00,9,   -999.0,  -999.00,9,  -999.00,9,  -999.00,9,  -999.00,9,   -999.0,-999.0000, -999,9,  245,  14.7070,  25.6663,   -999.0,9
       RF01-10,  165E,RF-1447,  1,     12,02-12821,2,20011023,2332, 13.0183, 164.9853, 5199,    296.9,  10.8800,  34.2549,2,   -999.0,9,  34.2653,2,   -999.0,9,  -999.00,9,  -999.00,9,  -999.00,9,  -999.00,9,  -999.00,9,    2.967,2,    1.727,2,  -999.00,9,   -999.0,9,   -999.0,9,-999.0000,9,   -999.0,  9,  -999.00,9,   -999.0,  -999.00,9,  -999.00,9,  -999.00,9,  -999.00,9,   -999.0,-999.0000, -999,9,  295,  10.8438,  26.2232,   -999.0,9
       RF01-10,  165E,RF-1447,  1,     11,02-15823,2,20011023,2329, 13.0183, 164.9853, 5199,    397.5,   8.7038,  34.4789,2,   -999.0,9,  34.4854,2,   -999.0,9,  -999.00,9,  -999.00,9,  -999.00,9,  -999.00,9,  -999.00,9,    0.681,2,    0.301,2,  -999.00,9,   -999.0,9,   -999.0,9,-999.0000,9,   -999.0,  9,  -999.00,9,   -999.0,  -999.00,9,  -999.00,9,  -999.00,9,  -999.00,9,   -999.0,-999.0000, -999,9,  395,   8.6613,  26.7636,   -999.0,9
       RF01-10,  165E,RF-1447,  1,     10,02-12820,2,20011023,2325, 13.0183, 164.9853, 5199,    498.6,   7.0282,  34.4372,2,   -999.0,9,  34.4455,2,   -999.0,9,  -999.00,9,  -999.00,9,  -999.00,9,  -999.00,9,  -999.00,9,    0.389,2,    0.130,2,  -999.00,9,   -999.0,9,   -999.0,9,-999.0000,9,   -999.0,  9,  -999.00,9,   -999.0,  -999.00,9,  -999.00,9,  -999.00,9,  -999.00,9,   -999.0,-999.0000, -999,9,  495,   6.9808,  26.9780,   -999.0,9
       RF01-10,  165E,RF-1447,  1,      9,02-12810,2,20011023,2321, 13.0183, 164.9853, 5199,    603.5,   6.3255,  34.4793,2,   -999.0,9,  34.4801,2,   -999.0,9,  -999.00,9,  -999.00,9,  -999.00,9,  -999.00,9,  -999.00,9,    0.177,2,    0.047,2,  -999.00,9,   -999.0,9,   -999.0,9,-999.0000,9,   -999.0,  9,  -999.00,9,   -999.0,  -999.00,9,  -999.00,9,  -999.00,9,  -999.00,9,   -999.0,-999.0000, -999,9,  599,   6.2708,  27.1064,   -999.0,9
       RF01-10,  165E,RF-1447,  1,      8,02-12819,2,20011023,2317, 13.0183, 164.9853, 5199,    704.5,   5.7524,  34.5046,2,   -999.0,9,  34.5077,2,   -999.0,9,  -999.00,9,  -999.00,9,  -999.00,9,  -999.00,9,  -999.00,9,    0.132,2,    0.032,2,  -999.00,9,   -999.0,9,   -999.0,9,-999.0000,9,   -999.0,  9,  -999.00,9,   -999.0,  -999.00,9,  -999.00,9,  -999.00,9,  -999.00,9,   -999.0,-999.0000, -999,9,  699,   5.6912,  27.1999,   -999.0,9
       RF01-10,  165E,RF-1447,  1,      7,02-15821,2,20011023,2314, 13.0183, 164.9853, 5199,    800.6,   5.2848,  34.5205,2,   -999.0,9,  34.5222,2,   -999.0,9,  -999.00,9,  -999.00,9,  -999.00,9,  -999.00,9,  -999.00,9,    0.107,2,    0.026,2,  -999.00,9,   -999.0,9,   -999.0,9,-999.0000,9,   -999.0,  9,  -999.00,9,   -999.0,  -999.00,9,  -999.00,9,  -999.00,9,  -999.00,9,   -999.0,-999.0000, -999,9,  794,   5.2175,  27.2697,   -999.0,9
       RF01-10,  165E,RF-1447,  1,      6,02-13588,2,20011023,2308, 13.0183, 164.9853, 5199,    902.5,   4.8497,  34.5273,2,   -999.0,9,-999.0000,9,   -999.0,9,  -999.00,9,  -999.00,9,  -999.00,9,  -999.00,9,  -999.00,9,    0.062,2,    0.019,2,  -999.00,9,   -999.0,9,   -999.0,9,-999.0000,9,   -999.0,  9,  -999.00,9,   -999.0,  -999.00,9,  -999.00,9,  -999.00,9,  -999.00,9,   -999.0,-999.0000, -999,9,  895,   4.7762,  27.3261,   -999.0,9
       RF01-10,  165E,RF-1447,  1,      5,02-10155,2,20011023,2305, 13.0183, 164.9853, 5199,   1009.4,   4.3820,  34.5411,2,   -999.0,9,  34.5431,2,   -999.0,9,  -999.00,9,  -999.00,9,  -999.00,9,  -999.00,9,  -999.00,9,    0.000,2,    0.005,2,  -999.00,9,   -999.0,9,   -999.0,9,-999.0000,9,   -999.0,  9,  -999.00,9,   -999.0,  -999.00,9,  -999.00,9,  -999.00,9,  -999.00,9,   -999.0,-999.0000, -999,9, 1001,   4.3025,  27.3892,   -999.0,9
       RF01-10,  165E,RF-1447,  1,      4,02-13579,3,20011023,2259, 13.0183, 164.9853, 5199,   1257.2,   3.4898,  34.5695,2,   -999.0,9,  34.5702,2,   -999.0,9,  -999.00,9,  -999.00,9,  -999.00,9,  -999.00,9,  -999.00,9,    0.000,2,    0.000,2,  -999.00,9,   -999.0,9,   -999.0,9,-999.0000,9,   -999.0,  9,  -999.00,9,   -999.0,  -999.00,9,  -999.00,9,  -999.00,9,  -999.00,9,   -999.0,-999.0000, -999,9, 1246,   3.3970,  27.5041,   -999.0,9
       RF01-10,  165E,RF-1447,  1,      3,02-13590,2,20011023,2239, 13.0183, 164.9853, 5199,   1510.6,   2.8561,  34.5976,2,   -999.0,9,  34.5973,2,   -999.0,9,  -999.00,9,  -999.00,9,  -999.00,9,  -999.00,9,  -999.00,9,    0.000,2,    0.000,2,  -999.00,9,   -999.0,9,   -999.0,9,-999.0000,9,   -999.0,  9,  -999.00,9,   -999.0,  -999.00,9,  -999.00,9,  -999.00,9,  -999.00,9,   -999.0,-999.0000, -999,9, 1496,   2.7490,  27.5864,   -999.0,9
       RF01-10,  165E,RF-1447,  1,      2,02-13589,2,20011023,2234, 13.0183, 164.9853, 5199,   1764.8,   2.4156,  34.6172,2,   -999.0,9,  34.6182,2,   -999.0,9,  -999.00,9,  -999.00,9,  -999.00,9,  -999.00,9,  -999.00,9,    0.000,2,    0.000,2,  -999.00,9,   -999.0,9,   -999.0,9,-999.0000,9,   -999.0,  9,  -999.00,9,   -999.0,  -999.00,9,  -999.00,9,  -999.00,9,  -999.00,9,   -999.0,-999.0000, -999,9, 1747,   2.2929,  27.6413,   -999.0,9
       RF01-10,  165E,RF-1447,  1,      1,02-12807,2,20011023,2229, 13.0183, 164.9853, 5199,   2035.0,   2.1324,  34.6365,2,   -999.0,9,  34.6355,2,   -999.0,9,  -999.00,9,  -999.00,9,  -999.00,9,  -999.00,9,  -999.00,9,    0.000,2,    0.000,2,  -999.00,9,   -999.0,9,   -999.0,9,-999.0000,9,   -999.0,  9,  -999.00,9,   -999.0,  -999.00,9,  -999.00,9,  -999.00,9,  -999.00,9,   -999.0,-999.0000, -999,9, 2014,   1.9909,  27.6811,   -999.0,9