BOTTLE,20130510GEMDJMAYT
EXPOCODE,SECT_ID,STNNBR,CASTNO,SAMPNO,BTLNBR,BTLNBR_FLAG_W,DATE,TIME,LATITUDE,LONGITUDE,DEPTH,CTDPRS,CTDTMP,CTDSAL,CTDSAL_FLAG_W,CTDOXY,CTDOXY_FLAG_W,SALNTY,SALNTY_FLAG_W,OXYGEN,OXYGEN_FLAG_W,SILCAT,SILCAT_FLAG_W,NITRAT,NITRAT_FLAG_W,NO2+NO3,NO2+NO3_FLAG_W,NITRIT,NITRIT_FLAG_W,PHSPHT,PHSPHT_FLAG_W,CFC-11,CFC-11_FLAG_W,CFC-12,CFC-12_FLAG_W,DELC13,DELC13_FLAG_W,TCARBN,TCARBN_FLAG_W,ALKALI,ALKALI_FLAG_W,PH,PH_FLAG_W,PH_TMP,PH_SCALE,PH_NBS,PH_NBS_FLAG_W,C13ERR,TOTALP,TOTALP_FLAG_W,AMMONI,AMMONI_FLAG_W,CHLORA,CHLORA_FLAG_W,PPHYTN,PPHYTN_FLAG_W,REVPRS,REVTMP,DEPTH_,DEPTH_FLAG,CTDDEP,THETA,SIGTHT,DOC,DOC_FLAG_W
,,,,,,,GMT,GMT,,,METER,DBAR,ITS-90,PSS-78,,UMOL/KG,,PSS-78,,UMOL/KG,,UMOL/KG,,UMOL/KG,,UMOL/KG,,UMOL/KG,,UMOL/KG,,PMOL/KG,,PMOL/KG,,/MILLE,,UMOL/KG,,UMOL/KG,,25_DEG_C,,DEG_C,,,,/MILLE,UMOL/KG,,UMOL/KG,,UG/L,,UG/L,,DBAR,ITS-90,METERS,,METERS,DEG_C,,UMOL/L,
       RF01-10,  165E,RF-1429,  1,     -9,      -9,5,20011019,0034, 28.0003, 164.9910, 5529,      0.0,  26.3532,  34.9544,2,   -999.0,9,-999.0000,9,    204.4,2,     1.97,2,  -999.00,9,     0.10,2,     0.00,2,     0.02,2,    1.825,2,    1.072,2,  -999.00,9,   -999.0,9,   -999.0,9,-999.0000,9,   -999.0,  9,     8.22,2,   -999.0,  -999.00,9,  -999.00,9,     0.09,2,     0.02,2,   -999.0,-999.0000, -999,9,    0,  26.3532,  22.8884,   -999.0,9
       RF01-10,  165E,RF-1429,  1,     21, 02-9150,2,20011019,0032, 28.0003, 164.9910, 5529,      7.7,  26.3479,  34.9517,2,   -999.0,9,-999.0000,9,    203.9,2,     1.80,2,  -999.00,9,     0.00,2,     0.00,2,     0.00,2,    1.825,2,    1.072,2,  -999.00,9,   -999.0,9,   -999.0,9,-999.0000,9,   -999.0,  9,     8.22,2,   -999.0,  -999.00,9,  -999.00,9,     0.09,2,     0.02,2,   -999.0,-999.0000, -999,9,    8,  26.3461,  22.8885,   -999.0,9
       RF01-10,  165E,RF-1429,  1,     20,02-12826,2,20011019,0030, 28.0003, 164.9910, 5529,     22.4,  26.3291,  34.9539,2,   -999.0,9,-999.0000,9,    204.0,2,     1.79,2,  -999.00,9,     0.00,2,     0.00,2,     0.00,2,    1.827,2,    1.073,2,  -999.00,9,   -999.0,9,   -999.0,9,-999.0000,9,   -999.0,  9,     8.21,2,   -999.0,  -999.00,9,  -999.00,9,     0.09,2,     0.03,2,   -999.0,-999.0000, -999,9,   22,  26.3241,  22.8971,   -999.0,9
       RF01-10,  165E,RF-1429,  1,     19,02-12825,2,20011019,0029, 28.0003, 164.9910, 5529,     47.5,  21.3210,  34.7520,2,   -999.0,9,-999.0000,9,    233.8,2,     2.35,2,  -999.00,9,     0.00,2,     0.00,2,     0.00,2,    2.254,2,    1.291,2,  -999.00,9,   -999.0,9,   -999.0,9,-999.0000,9,   -999.0,  9,     8.18,2,   -999.0,  -999.00,9,  -999.00,9,     0.21,2,     0.07,2,   -999.0,-999.0000, -999,9,   47,  21.3118,  24.2200,   -999.0,9
       RF01-10,  165E,RF-1429,  1,     18,02-12830,2,20011019,0027, 28.0003, 164.9910, 5529,     72.0,  19.3398,  34.7441,2,   -999.0,9,-999.0000,9,    219.4,2,     2.81,2,  -999.00,9,     0.00,2,     0.00,2,     0.04,2,    2.462,2,    1.396,2,  -999.00,9,   -999.0,9,   -999.0,9,-999.0000,9,   -999.0,  9,     8.15,2,   -999.0,  -999.00,9,  -999.00,9,     0.35,2,     0.50,2,   -999.0,-999.0000, -999,9,   72,  19.3269,  24.7419,   -999.0,9
       RF01-10,  165E,RF-1429,  1,     17,02-12815,2,20011019,0026, 28.0003, 164.9910, 5529,     97.3,  18.3896,  34.7492,2,   -999.0,9,  34.7548,2,    220.3,2,     2.74,2,  -999.00,9,     0.90,2,     0.16,2,     0.08,2,    2.586,2,    1.445,2,  -999.00,9,   -999.0,9,   -999.0,9,-999.0000,9,   -999.0,  9,     8.13,2,   -999.0,  -999.00,9,  -999.00,9,     0.18,2,     0.35,2,   -999.0,-999.0000, -999,9,   97,  18.3727,  24.9876,   -999.0,9
       RF01-10,  165E,RF-1429,  1,     16,02-12818,2,20011019,0025, 28.0003, 164.9910, 5529,    122.1,  17.6732,  34.7182,2,   -999.0,9,-999.0000,9,    216.5,2,     3.24,2,  -999.00,9,     2.26,2,     0.01,2,     0.15,2,    2.675,2,    1.488,2,  -999.00,9,   -999.0,9,   -999.0,9,-999.0000,9,   -999.0,  9,     8.12,2,   -999.0,  -999.00,9,  -999.00,9,     0.06,2,     0.17,2,   -999.0,-999.0000, -999,9,  121,  17.6525,  25.1412,   -999.0,9
       RF01-10,  165E,RF-1429,  1,     15,02-12809,2,20011019,0023, 28.0003, 164.9910, 5529,    148.3,  17.3440,  34.7111,2,   -999.0,9,-999.0000,9,    216.4,2,     3.55,2,  -999.00,9,     3.20,2,     0.00,2,     0.20,2,    2.717,2,    1.509,2,  -999.00,9,   -999.0,9,   -999.0,9,-999.0000,9,   -999.0,  9,     8.11,2,   -999.0,  -999.00,9,  -999.00,9,     0.03,2,     0.10,2,   -999.0,-999.0000, -999,9,  147,  17.3192,  25.2163,   -999.0,9
       RF01-10,  165E,RF-1429,  1,     14,02-12817,2,20011019,0021, 28.0003, 164.9910, 5529,    198.6,  16.9599,  34.6978,2,   -999.0,9,  34.7097,2,    216.8,2,     4.17,2,  -999.00,9,     3.78,2,     0.00,2,     0.22,2,    2.768,2,    1.528,2,  -999.00,9,   -999.0,9,   -999.0,9,-999.0000,9,   -999.0,  9,     8.11,2,   -999.0,  -999.00,9,  -999.00,9,     0.00,2,     0.02,2,   -999.0,-999.0000, -999,9,  197,  16.9273,  25.2995,   -999.0,9
       RF01-10,  165E,RF-1429,  1,     13,02-15822,2,20011019,0020, 28.0003, 164.9910, 5529,    249.0,  16.4446,  34.6610,2,   -999.0,9,-999.0000,9,    218.6,2,     5.01,2,  -999.00,9,     4.48,2,     0.00,2,     0.27,2,    2.855,2,    1.563,2,  -999.00,9,   -999.0,9,   -999.0,9,-999.0000,9,   -999.0,  9,     8.10,2,   -999.0,  -999.00,9,  -999.00,9,  -999.00,9,  -999.00,9,   -999.0,-999.0000, -999,9,  247,  16.4045,  25.3938,   -999.0,9
       RF01-10,  165E,RF-1429,  1,     12,02-12821,2,20011019,0018, 28.0003, 164.9910, 5529,    298.6,  15.7306,  34.6259,2,   -999.0,9,  34.6369,2,    212.4,2,     6.85,2,  -999.00,9,     6.22,2,     0.00,2,     0.38,2,    3.001,2,    1.601,2,  -999.00,9,   -999.0,9,   -999.0,9,-999.0000,9,   -999.0,  9,     8.07,2,   -999.0,  -999.00,9,  -999.00,9,  -999.00,9,  -999.00,9,   -999.0,-999.0000, -999,9,  296,  15.6839,  25.5315,   -999.0,9
       RF01-10,  165E,RF-1429,  1,     11,02-15823,2,20011019,0015, 28.0003, 164.9910, 5529,    400.0,  14.0602,  34.5150,2,   -999.0,9,  34.5273,2,    201.8,2,    11.13,2,  -999.00,9,     9.78,2,     0.00,2,     0.61,2,    3.370,2,    1.699,2,  -999.00,9,   -999.0,9,   -999.0,9,-999.0000,9,   -999.0,  9,  -999.00,9,   -999.0,  -999.00,9,  -999.00,9,  -999.00,9,  -999.00,9,   -999.0,-999.0000, -999,9,  397,  14.0020,  25.8118,   -999.0,9
       RF01-10,  165E,RF-1429,  1,     10,02-12820,2,20011019,0012, 28.0003, 164.9910, 5529,    501.2,  11.5376,  34.3327,2,   -999.0,9,  34.3351,2,    200.6,2,    19.71,2,  -999.00,9,    14.48,2,     0.00,2,     0.94,2,    3.585,2,    1.825,2,  -999.00,9,   -999.0,9,   -999.0,9,-999.0000,9,   -999.0,  9,     7.95,2,   -999.0,  -999.00,9,  -999.00,9,  -999.00,9,  -999.00,9,   -999.0,-999.0000, -999,9,  497,  11.4735,  26.1695,   -999.0,9
       RF01-10,  165E,RF-1429,  1,      9,02-12810,2,20011019,0010, 28.0003, 164.9910, 5529,    602.5,   8.8805,  34.1267,2,   -999.0,9,  34.1307,2,    184.0,2,    33.13,2,  -999.00,9,    20.37,2,     0.00,2,     1.37,2,    3.479,2,    1.531,2,  -999.00,9,   -999.0,9,   -999.0,9,-999.0000,9,   -999.0,  9,  -999.00,9,   -999.0,  -999.00,9,  -999.00,9,  -999.00,9,  -999.00,9,   -999.0,-999.0000, -999,9,  598,   8.8149,  26.4635,   -999.0,9
       RF01-10,  165E,RF-1429,  1,      8,02-12819,2,20011019,0005, 28.0003, 164.9910, 5529,    702.1,   6.7483,  34.0344,2,   -999.0,9,  34.0402,2,    144.4,2,    53.96,2,  -999.00,9,    28.31,2,     0.00,2,     1.95,2,    3.585,2,    1.386,2,  -999.00,9,   -999.0,9,   -999.0,9,-999.0000,9,   -999.0,  9,     7.73,2,   -999.0,  -999.00,9,  -999.00,9,  -999.00,9,  -999.00,9,   -999.0,-999.0000, -999,9,  696,   6.6825,  26.7011,   -999.0,9
       RF01-10,  165E,RF-1429,  1,      7,02-15821,2,20011019,0002, 28.0003, 164.9910, 5529,    803.8,   5.1842,  34.0736,2,   -999.0,9,  34.1668,4,     95.5,2,    78.87,2,  -999.00,9,    34.95,2,     0.00,2,     2.45,2,    1.519,2,    0.505,2,  -999.00,9,   -999.0,9,   -999.0,9,-999.0000,9,   -999.0,  9,  -999.00,9,   -999.0,  -999.00,9,  -999.00,9,  -999.00,9,  -999.00,9,   -999.0,-999.0000, -999,9,  797,   5.1178,  26.9272,   -999.0,9
       RF01-10,  165E,RF-1429,  1,      6,02-13588,2,20011018,2359, 28.0003, 164.9910, 5529,    904.9,   4.3774,  34.1598,2,   -999.0,9,-999.0000,9,     65.0,2,    99.40,2,  -999.00,9,    38.88,2,     0.00,2,     2.75,2,    1.430,2,    0.334,2,  -999.00,9,   -999.0,9,   -999.0,9,-999.0000,9,   -999.0,  9,  -999.00,9,   -999.0,  -999.00,9,  -999.00,9,  -999.00,9,  -999.00,9,   -999.0,-999.0000, -999,9,  897,   4.3075,  27.0857,   -999.0,9
       RF01-10,  165E,RF-1429,  1,      5,02-10155,2,20011018,2357, 28.0003, 164.9910, 5529,   1004.6,   3.8967,  34.2523,2,   -999.0,9,  34.2530,2,     43.5,2,   112.89,2,  -999.00,9,    40.84,2,     0.00,2,     2.90,2,    0.903,2,    0.174,2,  -999.00,9,   -999.0,9,   -999.0,9,-999.0000,9,   -999.0,  9,     7.55,2,   -999.0,  -999.00,9,  -999.00,9,  -999.00,9,  -999.00,9,   -999.0,-999.0000, -999,9,  995,   3.8219,  27.2095,   -999.0,9
       RF01-10,  165E,RF-1429,  1,      4,02-13579,2,20011018,2351, 28.0003, 164.9910, 5529,   1258.8,   3.0434,  34.4192,2,   -999.0,9,  34.4192,2,     33.0,2,   124.73,2,  -999.00,9,    41.82,2,     0.00,2,     2.98,2,    0.156,2,    0.140,2,  -999.00,9,   -999.0,9,   -999.0,9,-999.0000,9,   -999.0,  9,  -999.00,9,   -999.0,  -999.00,9,  -999.00,9,  -999.00,9,  -999.00,9,   -999.0,-999.0000, -999,9, 1247,   2.9551,  27.4255,   -999.0,9
       RF01-10,  165E,RF-1429,  1,      3,02-13590,2,20011018,2346, 28.0003, 164.9910, 5529,   1512.3,   2.5200,  34.5111,2,   -999.0,9,  34.5102,2,     42.3,2,   149.39,2,  -999.00,9,    42.52,2,     0.00,2,     3.02,2,    0.000,2,    0.107,2,  -999.00,9,   -999.0,9,   -999.0,9,-999.0000,9,   -999.0,  9,     7.56,4,   -999.0,  -999.00,9,  -999.00,9,  -999.00,9,  -999.00,9,   -999.0,-999.0000, -999,9, 1497,   2.4169,  27.5460,   -999.0,9
       RF01-10,  165E,RF-1429,  1,      2,02-13589,2,20011018,2341, 28.0003, 164.9910, 5529,   1765.1,   2.1526,  34.5689,2,   -999.0,9,  34.5665,2,     63.4,2,   154.14,2,  -999.00,9,    41.26,2,     0.00,2,     2.91,2,    0.000,2,    0.000,2,  -999.00,9,   -999.0,9,   -999.0,9,-999.0000,9,   -999.0,  9,     7.59,2,   -999.0,  -999.00,9,  -999.00,9,  -999.00,9,  -999.00,9,   -999.0,-999.0000, -999,9, 1746,   2.0335,  27.6236,   -999.0,9
       RF01-10,  165E,RF-1429,  1,      1,02-12807,2,20011018,2334, 28.0003, 164.9910, 5529,   2040.7,   1.9034,  34.6112,2,   -999.0,9,  34.6107,2,     89.0,2,   152.94,2,  -999.00,9,    39.83,2,     0.00,2,     2.79,2,    0.000,2,    0.000,2,  -999.00,9,   -999.0,9,   -999.0,9,-999.0000,9,   -999.0,  9,     7.64,2,   -999.0,  -999.00,9,  -999.00,9,  -999.00,9,  -999.00,9,   -999.0,-999.0000, -999,9, 2017,   1.7651,  27.6784,   -999.0,9