BOTTLE,20130510GEMDJMAYT
EXPOCODE,SECT_ID,STNNBR,CASTNO,SAMPNO,BTLNBR,BTLNBR_FLAG_W,DATE,TIME,LATITUDE,LONGITUDE,DEPTH,CTDPRS,CTDTMP,CTDSAL,CTDSAL_FLAG_W,CTDOXY,CTDOXY_FLAG_W,SALNTY,SALNTY_FLAG_W,OXYGEN,OXYGEN_FLAG_W,SILCAT,SILCAT_FLAG_W,NITRAT,NITRAT_FLAG_W,NO2+NO3,NO2+NO3_FLAG_W,NITRIT,NITRIT_FLAG_W,PHSPHT,PHSPHT_FLAG_W,CFC-11,CFC-11_FLAG_W,CFC-12,CFC-12_FLAG_W,DELC13,DELC13_FLAG_W,TCARBN,TCARBN_FLAG_W,ALKALI,ALKALI_FLAG_W,PH,PH_FLAG_W,PH_TMP,PH_SCALE,PH_NBS,PH_NBS_FLAG_W,C13ERR,TOTALP,TOTALP_FLAG_W,AMMONI,AMMONI_FLAG_W,CHLORA,CHLORA_FLAG_W,PPHYTN,PPHYTN_FLAG_W,REVPRS,REVTMP,DEPTH_,DEPTH_FLAG,CTDDEP,THETA,SIGTHT,DOC,DOC_FLAG_W
,,,,,,,GMT,GMT,,,METER,DBAR,ITS-90,PSS-78,,UMOL/KG,,PSS-78,,UMOL/KG,,UMOL/KG,,UMOL/KG,,UMOL/KG,,UMOL/KG,,UMOL/KG,,PMOL/KG,,PMOL/KG,,/MILLE,,UMOL/KG,,UMOL/KG,,25_DEG_C,,DEG_C,,,,/MILLE,UMOL/KG,,UMOL/KG,,UG/L,,UG/L,,DBAR,ITS-90,METERS,,METERS,DEG_C,,UMOL/L,
       RF01-10,  NONE,RF-1514,  1,     -9,      -9,5,20011130,0139, 25.0027, 139.7842, 4403,      0.0,  25.0923,  34.3712,2,   -999.0,9,-999.0000,9,   -999.0,9,  -999.00,9,  -999.00,9,  -999.00,9,  -999.00,9,  -999.00,9, -999.000,9, -999.000,9,  -999.00,9,   -999.0,9,   -999.0,9,-999.0000,9,   -999.0,  9,  -999.00,9,   -999.0,  -999.00,9,  -999.00,9,  -999.00,9,  -999.00,9,   -999.0,-999.0000, -999,9,    0,  25.0923,  22.8381,   -999.0,9
       RF01-10,  NONE,RF-1514,  1,     19,02-12825,2,20011130,0136, 25.0027, 139.7842, 4403,     12.3,  25.0986,  34.7019,2,   -999.0,9,-999.0000,9,   -999.0,9,  -999.00,9,  -999.00,9,  -999.00,9,  -999.00,9,  -999.00,9, -999.000,9, -999.000,9,  -999.00,9,   -999.0,9,   -999.0,9,-999.0000,9,   -999.0,  9,  -999.00,9,   -999.0,  -999.00,9,  -999.00,9,  -999.00,9,  -999.00,9,   -999.0,-999.0000, -999,9,   12,  25.0959,  23.0868,   -999.0,9
       RF01-10,  NONE,RF-1514,  1,     18,02-12830,2,20011130,0135, 25.0027, 139.7842, 4403,     27.4,  25.0173,  34.6974,2,   -999.0,9,-999.0000,9,   -999.0,9,  -999.00,9,  -999.00,9,  -999.00,9,  -999.00,9,  -999.00,9, -999.000,9, -999.000,9,  -999.00,9,   -999.0,9,   -999.0,9,-999.0000,9,   -999.0,  9,  -999.00,9,   -999.0,  -999.00,9,  -999.00,9,  -999.00,9,  -999.00,9,   -999.0,-999.0000, -999,9,   27,  25.0114,  23.1091,   -999.0,9
       RF01-10,  NONE,RF-1514,  1,     17,02-12815,2,20011130,0134, 25.0027, 139.7842, 4403,     52.4,  24.7271,  34.6837,2,   -999.0,9,-999.0000,9,   -999.0,9,  -999.00,9,  -999.00,9,  -999.00,9,  -999.00,9,  -999.00,9, -999.000,9, -999.000,9,  -999.00,9,   -999.0,9,   -999.0,9,-999.0000,9,   -999.0,  9,  -999.00,9,   -999.0,  -999.00,9,  -999.00,9,  -999.00,9,  -999.00,9,   -999.0,-999.0000, -999,9,   52,  24.7158,  23.1882,   -999.0,9
       RF01-10,  NONE,RF-1514,  1,     16,02-12818,2,20011130,0133, 25.0027, 139.7842, 4403,     76.1,  22.6804,  34.7530,2,   -999.0,9,-999.0000,9,   -999.0,9,  -999.00,9,  -999.00,9,  -999.00,9,  -999.00,9,  -999.00,9, -999.000,9, -999.000,9,  -999.00,9,   -999.0,9,   -999.0,9,-999.0000,9,   -999.0,  9,  -999.00,9,   -999.0,  -999.00,9,  -999.00,9,  -999.00,9,  -999.00,9,   -999.0,-999.0000, -999,9,   76,  22.6650,  23.8423,   -999.0,9
       RF01-10,  NONE,RF-1514,  1,     15,02-12809,2,20011130,0131, 25.0027, 139.7842, 4403,    102.6,  20.6082,  34.8069,2,   -999.0,9,-999.0000,9,   -999.0,9,  -999.00,9,  -999.00,9,  -999.00,9,  -999.00,9,  -999.00,9, -999.000,9, -999.000,9,  -999.00,9,   -999.0,9,   -999.0,9,-999.0000,9,   -999.0,  9,  -999.00,9,   -999.0,  -999.00,9,  -999.00,9,  -999.00,9,  -999.00,9,   -999.0,-999.0000, -999,9,  102,  20.5889,  24.4579,   -999.0,9
       RF01-10,  NONE,RF-1514,  1,     14,02-12817,2,20011130,0130, 25.0027, 139.7842, 4403,    128.6,  19.6444,  34.8057,2,   -999.0,9,-999.0000,9,   -999.0,9,  -999.00,9,  -999.00,9,  -999.00,9,  -999.00,9,  -999.00,9, -999.000,9, -999.000,9,  -999.00,9,   -999.0,9,   -999.0,9,-999.0000,9,   -999.0,  9,  -999.00,9,   -999.0,  -999.00,9,  -999.00,9,  -999.00,9,  -999.00,9,   -999.0,-999.0000, -999,9,  128,  19.6210,  24.7127,   -999.0,9
       RF01-10,  NONE,RF-1514,  1,     13,02-15822,2,20011130,0129, 25.0027, 139.7842, 4403,    153.4,  18.7669,  34.7978,2,   -999.0,9,-999.0000,9,   -999.0,9,  -999.00,9,  -999.00,9,  -999.00,9,  -999.00,9,  -999.00,9, -999.000,9, -999.000,9,  -999.00,9,   -999.0,9,   -999.0,9,-999.0000,9,   -999.0,  9,  -999.00,9,   -999.0,  -999.00,9,  -999.00,9,  -999.00,9,  -999.00,9,   -999.0,-999.0000, -999,9,  152,  18.7398,  24.9326,   -999.0,9
       RF01-10,  NONE,RF-1514,  1,     12,02-12821,2,20011130,0127, 25.0027, 139.7842, 4403,    202.7,  17.9037,  34.7690,2,   -999.0,9,-999.0000,9,   -999.0,9,  -999.00,9,  -999.00,9,  -999.00,9,  -999.00,9,  -999.00,9, -999.000,9, -999.000,9,  -999.00,9,   -999.0,9,   -999.0,9,-999.0000,9,   -999.0,  9,  -999.00,9,   -999.0,  -999.00,9,  -999.00,9,  -999.00,9,  -999.00,9,   -999.0,-999.0000, -999,9,  201,  17.8690,  25.1273,   -999.0,9
       RF01-10,  NONE,RF-1514,  1,     11,02-15823,2,20011130,0125, 25.0027, 139.7842, 4403,    253.9,  16.9311,  34.7321,2,   -999.0,9,-999.0000,9,   -999.0,9,  -999.00,9,  -999.00,9,  -999.00,9,  -999.00,9,  -999.00,9, -999.000,9, -999.000,9,  -999.00,9,   -999.0,9,   -999.0,9,-999.0000,9,   -999.0,  9,  -999.00,9,   -999.0,  -999.00,9,  -999.00,9,  -999.00,9,  -999.00,9,   -999.0,-999.0000, -999,9,  252,  16.8894,  25.3348,   -999.0,9
       RF01-10,  NONE,RF-1514,  1,     10,02-12820,2,20011130,0123, 25.0027, 139.7842, 4403,    302.4,  16.1210,  34.7017,2,   -999.0,9,-999.0000,9,   -999.0,9,  -999.00,9,  -999.00,9,  -999.00,9,  -999.00,9,  -999.00,9, -999.000,9, -999.000,9,  -999.00,9,   -999.0,9,   -999.0,9,-999.0000,9,   -999.0,  9,  -999.00,9,   -999.0,  -999.00,9,  -999.00,9,  -999.00,9,  -999.00,9,   -999.0,-999.0000, -999,9,  300,  16.0729,  25.5015,   -999.0,9
       RF01-10,  NONE,RF-1514,  1,      9,02-12810,2,20011130,0120, 25.0027, 139.7842, 4403,    403.9,  13.8702,  34.5478,2,   -999.0,9,-999.0000,9,   -999.0,9,  -999.00,9,  -999.00,9,  -999.00,9,  -999.00,9,  -999.00,9, -999.000,9, -999.000,9,  -999.00,9,   -999.0,9,   -999.0,9,-999.0000,9,   -999.0,  9,  -999.00,9,   -999.0,  -999.00,9,  -999.00,9,  -999.00,9,  -999.00,9,   -999.0,-999.0000, -999,9,  401,  13.8120,  25.8769,   -999.0,9
       RF01-10,  NONE,RF-1514,  1,      8,02-12819,2,20011130,0118, 25.0027, 139.7842, 4403,    505.3,  11.2183,  34.3377,2,   -999.0,9,-999.0000,9,   -999.0,9,  -999.00,9,  -999.00,9,  -999.00,9,  -999.00,9,  -999.00,9, -999.000,9, -999.000,9,  -999.00,9,   -999.0,9,   -999.0,9,-999.0000,9,   -999.0,  9,  -999.00,9,   -999.0,  -999.00,9,  -999.00,9,  -999.00,9,  -999.00,9,   -999.0,-999.0000, -999,9,  501,  11.1548,  26.2317,   -999.0,9
       RF01-10,  NONE,RF-1514,  1,      7,02-15821,2,20011130,0115, 25.0027, 139.7842, 4403,    605.5,   8.3124,  34.1745,2,   -999.0,9,-999.0000,9,   -999.0,9,  -999.00,9,  -999.00,9,  -999.00,9,  -999.00,9,  -999.00,9, -999.000,9, -999.000,9,  -999.00,9,   -999.0,9,   -999.0,9,-999.0000,9,   -999.0,  9,  -999.00,9,   -999.0,  -999.00,9,  -999.00,9,  -999.00,9,  -999.00,9,   -999.0,-999.0000, -999,9,  601,   8.2489,  26.5882,   -999.0,9
       RF01-10,  NONE,RF-1514,  1,      6,02-13588,2,20011130,0110, 25.0027, 139.7842, 4403,    706.5,   6.4144,  34.1568,2,   -999.0,9,-999.0000,9,   -999.0,9,  -999.00,9,  -999.00,9,  -999.00,9,  -999.00,9,  -999.00,9, -999.000,9, -999.000,9,  -999.00,9,   -999.0,9,   -999.0,9,-999.0000,9,   -999.0,  9,  -999.00,9,   -999.0,  -999.00,9,  -999.00,9,  -999.00,9,  -999.00,9,   -999.0,-999.0000, -999,9,  701,   6.3498,  26.8415,   -999.0,9
       RF01-10,  NONE,RF-1514,  1,      5,02-10155,2,20011130,0107, 25.0027, 139.7842, 4403,    807.8,   4.9419,  34.1980,2,   -999.0,9,-999.0000,9,   -999.0,9,  -999.00,9,  -999.00,9,  -999.00,9,  -999.00,9,  -999.00,9, -999.000,9, -999.000,9,  -999.00,9,   -999.0,9,   -999.0,9,-999.0000,9,   -999.0,  9,  -999.00,9,   -999.0,  -999.00,9,  -999.00,9,  -999.00,9,  -999.00,9,   -999.0,-999.0000, -999,9,  801,   4.8765,  27.0535,   -999.0,9
       RF01-10,  NONE,RF-1514,  1,      4,02-13579,2,20011130,0104, 25.0027, 139.7842, 4403,    908.8,   4.3353,  34.2639,2,   -999.0,9,-999.0000,9,   -999.0,9,  -999.00,9,  -999.00,9,  -999.00,9,  -999.00,9,  -999.00,9, -999.000,9, -999.000,9,  -999.00,9,   -999.0,9,   -999.0,9,-999.0000,9,   -999.0,  9,  -999.00,9,   -999.0,  -999.00,9,  -999.00,9,  -999.00,9,  -999.00,9,   -999.0,-999.0000, -999,9,  901,   4.2652,  27.1729,   -999.0,9
       RF01-10,  NONE,RF-1514,  1,      3,02-13590,2,20011130,0101, 25.0027, 139.7842, 4403,   1009.6,   3.8837,  34.3394,2,   -999.0,9,-999.0000,9,   -999.0,9,  -999.00,9,  -999.00,9,  -999.00,9,  -999.00,9,  -999.00,9, -999.000,9, -999.000,9,  -999.00,9,   -999.0,9,   -999.0,9,-999.0000,9,   -999.0,  9,  -999.00,9,   -999.0,  -999.00,9,  -999.00,9,  -999.00,9,  -999.00,9,   -999.0,-999.0000, -999,9, 1001,   3.8085,  27.2802,   -999.0,9
       RF01-10,  NONE,RF-1514,  1,      2,02-13589,2,20011130,0055, 25.0027, 139.7842, 4403,   1262.5,   3.0723,  34.4536,2,   -999.0,9,-999.0000,9,   -999.0,9,  -999.00,9,  -999.00,9,  -999.00,9,  -999.00,9,  -999.00,9, -999.000,9, -999.000,9,  -999.00,9,   -999.0,9,   -999.0,9,-999.0000,9,   -999.0,  9,  -999.00,9,   -999.0,  -999.00,9,  -999.00,9,  -999.00,9,  -999.00,9,   -999.0,-999.0000, -999,9, 1251,   2.9834,  27.4505,   -999.0,9
       RF01-10,  NONE,RF-1514,  1,      1,02-12807,2,20011130,0049, 25.0027, 139.7842, 4403,   1539.6,   2.4968,  34.5281,2,   -999.0,9,-999.0000,9,   -999.0,9,  -999.00,9,  -999.00,9,  -999.00,9,  -999.00,9,  -999.00,9, -999.000,9, -999.000,9,  -999.00,9,   -999.0,9,   -999.0,9,-999.0000,9,   -999.0,  9,  -999.00,9,   -999.0,  -999.00,9,  -999.00,9,  -999.00,9,  -999.00,9,   -999.0,-999.0000, -999,9, 1524,   2.3917,  27.5617,   -999.0,9
       RF01-10,  NONE,RF-1516,  1,     -9,      -9,5,20011130,0942, 25.9930, 139.3222, 4611,      0.0,  23.9232,  34.5823,2,   -999.0,9,-999.0000,9,   -999.0,9,  -999.00,9,  -999.00,9,  -999.00,9,  -999.00,9,  -999.00,9, -999.000,9, -999.000,9,  -999.00,9,   -999.0,9,   -999.0,9,-999.0000,9,   -999.0,  9,  -999.00,9,   -999.0,  -999.00,9,  -999.00,9,  -999.00,9,  -999.00,9,   -999.0,-999.0000, -999,9,    0,  23.9232,  23.3478,   -999.0,9
       RF01-10,  NONE,RF-1516,  1,     19,02-12825,2,20011130,0940, 25.9930, 139.3222, 4611,     12.4,  23.9531,  34.6024,2,   -999.0,9,-999.0000,9,   -999.0,9,  -999.00,9,  -999.00,9,  -999.00,9,  -999.00,9,  -999.00,9, -999.000,9, -999.000,9,  -999.00,9,   -999.0,9,   -999.0,9,-999.0000,9,   -999.0,  9,  -999.00,9,   -999.0,  -999.00,9,  -999.00,9,  -999.00,9,  -999.00,9,   -999.0,-999.0000, -999,9,   12,  23.9505,  23.3550,   -999.0,9
       RF01-10,  NONE,RF-1516,  1,     18,02-12830,2,20011130,0938, 25.9930, 139.3222, 4611,     26.8,  23.9610,  34.6235,2,   -999.0,9,-999.0000,9,   -999.0,9,  -999.00,9,  -999.00,9,  -999.00,9,  -999.00,9,  -999.00,9, -999.000,9, -999.000,9,  -999.00,9,   -999.0,9,   -999.0,9,-999.0000,9,   -999.0,  9,  -999.00,9,   -999.0,  -999.00,9,  -999.00,9,  -999.00,9,  -999.00,9,   -999.0,-999.0000, -999,9,   27,  23.9554,  23.3695,   -999.0,9
       RF01-10,  NONE,RF-1516,  1,     17,02-12815,2,20011130,0937, 25.9930, 139.3222, 4611,     52.8,  23.9664,  34.6298,2,   -999.0,9,-999.0000,9,   -999.0,9,  -999.00,9,  -999.00,9,  -999.00,9,  -999.00,9,  -999.00,9, -999.000,9, -999.000,9,  -999.00,9,   -999.0,9,   -999.0,9,-999.0000,9,   -999.0,  9,  -999.00,9,   -999.0,  -999.00,9,  -999.00,9,  -999.00,9,  -999.00,9,   -999.0,-999.0000, -999,9,   52,  23.9553,  23.3743,   -999.0,9
       RF01-10,  NONE,RF-1516,  1,     16,02-12818,2,20011130,0936, 25.9930, 139.3222, 4611,     77.6,  22.9148,  34.7103,2,   -999.0,9,-999.0000,9,   -999.0,9,  -999.00,9,  -999.00,9,  -999.00,9,  -999.00,9,  -999.00,9, -999.000,9, -999.000,9,  -999.00,9,   -999.0,9,   -999.0,9,-999.0000,9,   -999.0,  9,  -999.00,9,   -999.0,  -999.00,9,  -999.00,9,  -999.00,9,  -999.00,9,   -999.0,-999.0000, -999,9,   77,  22.8990,  23.7429,   -999.0,9
       RF01-10,  NONE,RF-1516,  1,     15,02-12809,2,20011130,0934, 25.9930, 139.3222, 4611,    102.8,  20.3582,  34.8104,2,   -999.0,9,  34.7997,4,   -999.0,9,  -999.00,9,  -999.00,9,  -999.00,9,  -999.00,9,  -999.00,9, -999.000,9, -999.000,9,  -999.00,9,   -999.0,9,   -999.0,9,-999.0000,9,   -999.0,  9,  -999.00,9,   -999.0,  -999.00,9,  -999.00,9,  -999.00,9,  -999.00,9,   -999.0,-999.0000, -999,9,  102,  20.3390,  24.5274,   -999.0,9
       RF01-10,  NONE,RF-1516,  1,     14,02-12817,2,20011130,0933, 25.9930, 139.3222, 4611,    128.1,  19.3357,  34.7938,2,   -999.0,9,-999.0000,9,   -999.0,9,  -999.00,9,  -999.00,9,  -999.00,9,  -999.00,9,  -999.00,9, -999.000,9, -999.000,9,  -999.00,9,   -999.0,9,   -999.0,9,-999.0000,9,   -999.0,  9,  -999.00,9,   -999.0,  -999.00,9,  -999.00,9,  -999.00,9,  -999.00,9,   -999.0,-999.0000, -999,9,  127,  19.3127,  24.7834,   -999.0,9
       RF01-10,  NONE,RF-1516,  1,     13,02-15822,2,20011130,0931, 25.9930, 139.3222, 4611,    152.8,  18.7457,  34.7628,2,   -999.0,9,-999.0000,9,   -999.0,9,  -999.00,9,  -999.00,9,  -999.00,9,  -999.00,9,  -999.00,9, -999.000,9, -999.000,9,  -999.00,9,   -999.0,9,   -999.0,9,-999.0000,9,   -999.0,  9,  -999.00,9,   -999.0,  -999.00,9,  -999.00,9,  -999.00,9,  -999.00,9,   -999.0,-999.0000, -999,9,  152,  18.7188,  24.9111,   -999.0,9
       RF01-10,  NONE,RF-1516,  1,     12,02-12821,2,20011130,0930, 25.9930, 139.3222, 4611,    203.6,  17.5857,  34.7435,2,   -999.0,9,  34.7434,2,   -999.0,9,  -999.00,9,  -999.00,9,  -999.00,9,  -999.00,9,  -999.00,9, -999.000,9, -999.000,9,  -999.00,9,   -999.0,9,   -999.0,9,-999.0000,9,   -999.0,  9,  -999.00,9,   -999.0,  -999.00,9,  -999.00,9,  -999.00,9,  -999.00,9,   -999.0,-999.0000, -999,9,  202,  17.5513,  25.1851,   -999.0,9
       RF01-10,  NONE,RF-1516,  1,     11,02-15823,2,20011130,0928, 25.9930, 139.3222, 4611,    253.8,  17.0708,  34.7279,2,   -999.0,9,-999.0000,9,   -999.0,9,  -999.00,9,  -999.00,9,  -999.00,9,  -999.00,9,  -999.00,9, -999.000,9, -999.000,9,  -999.00,9,   -999.0,9,   -999.0,9,-999.0000,9,   -999.0,  9,  -999.00,9,   -999.0,  -999.00,9,  -999.00,9,  -999.00,9,  -999.00,9,   -999.0,-999.0000, -999,9,  252,  17.0288,  25.2986,   -999.0,9
       RF01-10,  NONE,RF-1516,  1,     10,02-12820,2,20011130,0926, 25.9930, 139.3222, 4611,    304.1,  16.1460,  34.6926,2,   -999.0,9,  34.6906,2,   -999.0,9,  -999.00,9,  -999.00,9,  -999.00,9,  -999.00,9,  -999.00,9, -999.000,9, -999.000,9,  -999.00,9,   -999.0,9,   -999.0,9,-999.0000,9,   -999.0,  9,  -999.00,9,   -999.0,  -999.00,9,  -999.00,9,  -999.00,9,  -999.00,9,   -999.0,-999.0000, -999,9,  302,  16.0975,  25.4888,   -999.0,9
       RF01-10,  NONE,RF-1516,  1,      9,02-12810,2,20011130,0923, 25.9930, 139.3222, 4611,    404.6,  13.9536,  34.5462,2,   -999.0,9,  34.5438,2,   -999.0,9,  -999.00,9,  -999.00,9,  -999.00,9,  -999.00,9,  -999.00,9, -999.000,9, -999.000,9,  -999.00,9,   -999.0,9,   -999.0,9,-999.0000,9,   -999.0,  9,  -999.00,9,   -999.0,  -999.00,9,  -999.00,9,  -999.00,9,  -999.00,9,   -999.0,-999.0000, -999,9,  402,  13.8951,  25.8583,   -999.0,9
       RF01-10,  NONE,RF-1516,  1,      8,02-12819,2,20011130,0920, 25.9930, 139.3222, 4611,    505.7,  10.4931,  34.2986,2,   -999.0,9,  34.2919,2,   -999.0,9,  -999.00,9,  -999.00,9,  -999.00,9,  -999.00,9,  -999.00,9, -999.000,9, -999.000,9,  -999.00,9,   -999.0,9,   -999.0,9,-999.0000,9,   -999.0,  9,  -999.00,9,   -999.0,  -999.00,9,  -999.00,9,  -999.00,9,  -999.00,9,   -999.0,-999.0000, -999,9,  502,  10.4322,  26.3299,   -999.0,9
       RF01-10,  NONE,RF-1516,  1,      7,02-15821,2,20011130,0917, 25.9930, 139.3222, 4611,    607.0,   8.0228,  34.1364,2,   -999.0,9,  34.1342,2,   -999.0,9,  -999.00,9,  -999.00,9,  -999.00,9,  -999.00,9,  -999.00,9, -999.000,9, -999.000,9,  -999.00,9,   -999.0,9,   -999.0,9,-999.0000,9,   -999.0,  9,  -999.00,9,   -999.0,  -999.00,9,  -999.00,9,  -999.00,9,  -999.00,9,   -999.0,-999.0000, -999,9,  602,   7.9605,  26.6014,   -999.0,9
       RF01-10,  NONE,RF-1516,  1,      6,02-13588,2,20011130,0914, 25.9930, 139.3222, 4611,    706.7,   6.0150,  34.1244,2,   -999.0,9,  34.1159,2,   -999.0,9,  -999.00,9,  -999.00,9,  -999.00,9,  -999.00,9,  -999.00,9, -999.000,9, -999.000,9,  -999.00,9,   -999.0,9,   -999.0,9,-999.0000,9,   -999.0,  9,  -999.00,9,   -999.0,  -999.00,9,  -999.00,9,  -999.00,9,  -999.00,9,   -999.0,-999.0000, -999,9,  701,   5.9526,  26.8667,   -999.0,9
       RF01-10,  NONE,RF-1516,  1,      5,02-10155,2,20011130,0911, 25.9930, 139.3222, 4611,    808.6,   4.9535,  34.2086,2,   -999.0,9,  34.2025,2,   -999.0,9,  -999.00,9,  -999.00,9,  -999.00,9,  -999.00,9,  -999.00,9, -999.000,9, -999.000,9,  -999.00,9,   -999.0,9,   -999.0,9,-999.0000,9,   -999.0,  9,  -999.00,9,   -999.0,  -999.00,9,  -999.00,9,  -999.00,9,  -999.00,9,   -999.0,-999.0000, -999,9,  802,   4.8880,  27.0606,   -999.0,9
       RF01-10,  NONE,RF-1516,  1,      4,02-13579,2,20011130,0908, 25.9930, 139.3222, 4611,    908.4,   4.2869,  34.2739,2,   -999.0,9,-999.0000,9,   -999.0,9,  -999.00,9,  -999.00,9,  -999.00,9,  -999.00,9,  -999.00,9, -999.000,9, -999.000,9,  -999.00,9,   -999.0,9,   -999.0,9,-999.0000,9,   -999.0,  9,  -999.00,9,   -999.0,  -999.00,9,  -999.00,9,  -999.00,9,  -999.00,9,   -999.0,-999.0000, -999,9,  901,   4.2171,  27.1859,   -999.0,9
       RF01-10,  NONE,RF-1516,  1,      3,02-13590,2,20011130,0905, 25.9930, 139.3222, 4611,   1009.9,   3.7353,  34.3424,2,   -999.0,9,  34.3408,2,   -999.0,9,  -999.00,9,  -999.00,9,  -999.00,9,  -999.00,9,  -999.00,9, -999.000,9, -999.000,9,  -999.00,9,   -999.0,9,   -999.0,9,-999.0000,9,   -999.0,  9,  -999.00,9,   -999.0,  -999.00,9,  -999.00,9,  -999.00,9,  -999.00,9,   -999.0,-999.0000, -999,9, 1001,   3.6611,  27.2973,   -999.0,9
       RF01-10,  NONE,RF-1516,  1,      2,02-13589,2,20011130,0900, 25.9930, 139.3222, 4611,   1262.7,   2.9177,  34.4602,2,   -999.0,9,  34.4585,2,   -999.0,9,  -999.00,9,  -999.00,9,  -999.00,9,  -999.00,9,  -999.00,9, -999.000,9, -999.000,9,  -999.00,9,   -999.0,9,   -999.0,9,-999.0000,9,   -999.0,  9,  -999.00,9,   -999.0,  -999.00,9,  -999.00,9,  -999.00,9,  -999.00,9,   -999.0,-999.0000, -999,9, 1251,   2.8302,  27.4695,   -999.0,9
       RF01-10,  NONE,RF-1516,  1,      1,02-12807,2,20011130,0853, 25.9930, 139.3222, 4611,   1539.0,   2.4423,  34.5402,2,   -999.0,9,  34.5379,2,   -999.0,9,  -999.00,9,  -999.00,9,  -999.00,9,  -999.00,9,  -999.00,9, -999.000,9, -999.000,9,  -999.00,9,   -999.0,9,   -999.0,9,-999.0000,9,   -999.0,  9,  -999.00,9,   -999.0,  -999.00,9,  -999.00,9,  -999.00,9,  -999.00,9,   -999.0,-999.0000, -999,9, 1523,   2.3379,  27.5759,   -999.0,9