BOTTLE,20130510GEMDJMAYT
EXPOCODE,SECT_ID,STNNBR,CASTNO,SAMPNO,BTLNBR,BTLNBR_FLAG_W,DATE,TIME,LATITUDE,LONGITUDE,DEPTH,CTDPRS,CTDTMP,CTDSAL,CTDSAL_FLAG_W,CTDOXY,CTDOXY_FLAG_W,SALNTY,SALNTY_FLAG_W,OXYGEN,OXYGEN_FLAG_W,SILCAT,SILCAT_FLAG_W,NITRAT,NITRAT_FLAG_W,NO2+NO3,NO2+NO3_FLAG_W,NITRIT,NITRIT_FLAG_W,PHSPHT,PHSPHT_FLAG_W,CFC-11,CFC-11_FLAG_W,CFC-12,CFC-12_FLAG_W,DELC13,DELC13_FLAG_W,TCARBN,TCARBN_FLAG_W,ALKALI,ALKALI_FLAG_W,PH,PH_FLAG_W,PH_TMP,PH_SCALE,PH_NBS,PH_NBS_FLAG_W,C13ERR,TOTALP,TOTALP_FLAG_W,AMMONI,AMMONI_FLAG_W,CHLORA,CHLORA_FLAG_W,PPHYTN,PPHYTN_FLAG_W,REVPRS,REVTMP,DEPTH_,DEPTH_FLAG,CTDDEP,THETA,SIGTHT,DOC,DOC_FLAG_W
,,,,,,,GMT,GMT,,,METER,DBAR,ITS-90,PSS-78,,UMOL/KG,,PSS-78,,UMOL/KG,,UMOL/KG,,UMOL/KG,,UMOL/KG,,UMOL/KG,,UMOL/KG,,PMOL/KG,,PMOL/KG,,/MILLE,,UMOL/KG,,UMOL/KG,,25_DEG_C,,DEG_C,,,,/MILLE,UMOL/KG,,UMOL/KG,,UG/L,,UG/L,,DBAR,ITS-90,METERS,,METERS,DEG_C,,UMOL/L,
       RF01-10,  142E,RF-1414,  1,     -9,      -9,5,20011012,0343, 33.5317, 141.5285, 6481,      0.0,  26.0381,  34.2239,2,   -999.0,9,-999.0000,9,    206.7,2,     2.01,2,  -999.00,9,     0.01,2,     0.03,2,     0.04,2, -999.000,9, -999.000,9,  -999.00,9,   -999.0,9,   -999.0,9,-999.0000,9,   -999.0,  9,  -999.00,9,   -999.0,  -999.00,9,  -999.00,9,     0.27,2,     0.11,2,   -999.0,-999.0000, -999,9,    0,  26.0381,  22.4361,   -999.0,9
       RF01-10,  142E,RF-1414,  1,     21, 02-9150,2,20011012,0340, 33.5317, 141.5285, 6481,      6.5,  26.0386,  34.2291,2,   -999.0,9,-999.0000,9,    209.1,2,     1.96,2,  -999.00,9,     0.07,2,     0.00,2,     0.01,2, -999.000,9, -999.000,9,  -999.00,9,   -999.0,9,   -999.0,9,-999.0000,9,   -999.0,  9,  -999.00,9,   -999.0,  -999.00,9,  -999.00,9,     0.23,2,     0.09,2,   -999.0,-999.0000, -999,9,    6,  26.0371,  22.4403,   -999.0,9
       RF01-10,  142E,RF-1414,  1,     20,02-12826,2,20011012,0339, 33.5317, 141.5285, 6481,     21.7,  25.9799,  34.2262,2,   -999.0,9,-999.0000,9,    204.7,2,     1.95,2,  -999.00,9,     0.05,2,     0.00,2,     0.01,2, -999.000,9, -999.000,9,  -999.00,9,   -999.0,9,   -999.0,9,-999.0000,9,   -999.0,  9,  -999.00,9,   -999.0,  -999.00,9,  -999.00,9,     0.26,2,     0.09,2,   -999.0,-999.0000, -999,9,   22,  25.9751,  22.4574,   -999.0,9
       RF01-10,  142E,RF-1414,  1,     19,02-12825,2,20011012,0338, 33.5317, 141.5285, 6481,     47.3,  26.0489,  34.2800,2,   -999.0,9,-999.0000,9,    205.8,2,     1.82,2,  -999.00,9,     0.02,2,     0.01,2,     0.01,2, -999.000,9, -999.000,9,  -999.00,9,   -999.0,9,   -999.0,9,-999.0000,9,   -999.0,  9,  -999.00,9,   -999.0,  -999.00,9,  -999.00,9,     0.42,2,     0.21,2,   -999.0,-999.0000, -999,9,   47,  26.0384,  22.4783,   -999.0,9
       RF01-10,  142E,RF-1414,  1,     18,02-12830,2,20011012,0336, 33.5317, 141.5285, 6481,     72.2,  24.8631,  34.5797,2,   -999.0,9,-999.0000,9,    200.4,2,     2.13,2,  -999.00,9,     0.63,2,     0.15,2,     0.08,2, -999.000,9, -999.000,9,  -999.00,9,   -999.0,9,   -999.0,9,-999.0000,9,   -999.0,  9,  -999.00,9,   -999.0,  -999.00,9,  -999.00,9,     0.33,2,     0.38,2,   -999.0,-999.0000, -999,9,   72,  24.8475,  23.0698,   -999.0,9
       RF01-10,  142E,RF-1414,  1,     17,02-12815,2,20011012,0335, 33.5317, 141.5285, 6481,     97.4,  22.0277,  34.7632,2,   -999.0,9,  34.7776,2,    197.3,2,     2.72,2,  -999.00,9,     1.53,2,     0.08,2,     0.13,2, -999.000,9, -999.000,9,  -999.00,9,   -999.0,9,   -999.0,9,-999.0000,9,   -999.0,  9,  -999.00,9,   -999.0,  -999.00,9,  -999.00,9,     0.11,2,     0.21,2,   -999.0,-999.0000, -999,9,   97,  22.0085,  24.0355,   -999.0,9
       RF01-10,  142E,RF-1414,  1,     16,02-12818,2,20011012,0333, 33.5317, 141.5285, 6481,    122.2,  20.7574,  34.7917,2,   -999.0,9,-999.0000,9,    208.4,2,     2.00,2,  -999.00,9,     0.76,2,     0.07,2,     0.07,2, -999.000,9, -999.000,9,  -999.00,9,   -999.0,9,   -999.0,9,-999.0000,9,   -999.0,  9,  -999.00,9,   -999.0,  -999.00,9,  -999.00,9,     0.06,2,     0.16,2,   -999.0,-999.0000, -999,9,  121,  20.7343,  24.4073,   -999.0,9
       RF01-10,  142E,RF-1414,  1,     15,02-12809,2,20011012,0332, 33.5317, 141.5285, 6481,    146.8,  19.5639,  34.8071,2,   -999.0,9,-999.0000,9,    200.1,2,     2.81,2,  -999.00,9,     2.22,2,     0.01,2,     0.18,2, -999.000,9, -999.000,9,  -999.00,9,   -999.0,9,   -999.0,9,-999.0000,9,   -999.0,  9,  -999.00,9,   -999.0,  -999.00,9,  -999.00,9,     0.04,2,     0.11,2,   -999.0,-999.0000, -999,9,  146,  19.5372,  24.7356,   -999.0,9
       RF01-10,  142E,RF-1414,  1,     14,02-12817,2,20011012,0330, 33.5317, 141.5285, 6481,    197.6,  18.1767,  34.7297,2,   -999.0,9,  34.7156,4,    180.2,2,     8.29,2,  -999.00,9,     6.25,2,     0.00,2,     0.47,2, -999.000,9, -999.000,9,  -999.00,9,   -999.0,9,   -999.0,9,-999.0000,9,   -999.0,  9,  -999.00,9,   -999.0,  -999.00,9,  -999.00,9,     0.01,2,     0.03,2,   -999.0,-999.0000, -999,9,  196,  18.1426,  25.0298,   -999.0,9
       RF01-10,  142E,RF-1414,  1,     13,02-15822,2,20011012,0328, 33.5317, 141.5285, 6481,    249.2,  15.6035,  34.6380,2,   -999.0,9,-999.0000,9,    182.7,2,    12.01,2,  -999.00,9,     9.02,2,     0.00,2,     0.65,2, -999.000,9, -999.000,9,  -999.00,9,   -999.0,9,   -999.0,9,-999.0000,9,   -999.0,  9,  -999.00,9,   -999.0,  -999.00,9,  -999.00,9,  -999.00,9,  -999.00,9,   -999.0,-999.0000, -999,9,  247,  15.5647,  25.5676,   -999.0,9
       RF01-10,  142E,RF-1414,  1,     12,02-12821,2,20011012,0325, 33.5317, 141.5285, 6481,    300.2,  14.8388,  34.5925,2,   -999.0,9,  34.6013,2,    178.2,2,    14.36,2,  -999.00,9,    10.39,2,     0.00,2,     0.77,2, -999.000,9, -999.000,9,  -999.00,9,   -999.0,9,   -999.0,9,-999.0000,9,   -999.0,  9,  -999.00,9,   -999.0,  -999.00,9,  -999.00,9,  -999.00,9,  -999.00,9,   -999.0,-999.0000, -999,9,  298,  14.7937,  25.7027,   -999.0,9
       RF01-10,  142E,RF-1414,  1,     11,02-15823,2,20011012,0322, 33.5317, 141.5285, 6481,    401.1,  10.6745,  34.3675,2,   -999.0,9,  34.3720,2,    146.1,2,    37.27,2,  -999.00,9,    20.29,2,     0.00,2,     1.45,2, -999.000,9, -999.000,9,  -999.00,9,   -999.0,9,   -999.0,9,-999.0000,9,   -999.0,  9,  -999.00,9,   -999.0,  -999.00,9,  -999.00,9,  -999.00,9,  -999.00,9,   -999.0,-999.0000, -999,9,  398,  10.6259,  26.3496,   -999.0,9
       RF01-10,  142E,RF-1414,  1,     10,02-12820,2,20011012,0319, 33.5317, 141.5285, 6481,    503.6,   7.2287,  34.2528,2,   -999.0,9,  34.2392,2,    113.7,2,    64.03,2,  -999.00,9,    29.10,2,     0.00,2,     2.08,2, -999.000,9, -999.000,9,  -999.00,9,   -999.0,9,   -999.0,9,-999.0000,9,   -999.0,  9,  -999.00,9,   -999.0,  -999.00,9,  -999.00,9,  -999.00,9,  -999.00,9,   -999.0,-999.0000, -999,9,  499,   7.1802,  26.8052,   -999.0,9
       RF01-10,  142E,RF-1414,  1,      9,02-12810,2,20011012,0315, 33.5317, 141.5285, 6481,    602.4,   5.7716,  34.2704,2,   -999.0,9,  34.2693,2,     88.5,2,    85.52,2,  -999.00,9,    33.96,2,     0.00,2,     2.43,2, -999.000,9, -999.000,9,  -999.00,9,   -999.0,9,   -999.0,9,-999.0000,9,   -999.0,  9,  -999.00,9,   -999.0,  -999.00,9,  -999.00,9,  -999.00,9,  -999.00,9,   -999.0,-999.0000, -999,9,  597,   5.7198,  27.0111,   -999.0,9
       RF01-10,  142E,RF-1414,  1,      8,02-12819,2,20011012,0311, 33.5317, 141.5285, 6481,    702.2,   4.9000,  34.3112,2,   -999.0,9,  34.3103,2,     76.1,2,   100.33,2,  -999.00,9,    36.65,2,     0.00,2,     2.64,2, -999.000,9, -999.000,9,  -999.00,9,   -999.0,9,   -999.0,9,-999.0000,9,   -999.0,  9,  -999.00,9,   -999.0,  -999.00,9,  -999.00,9,  -999.00,9,  -999.00,9,   -999.0,-999.0000, -999,9,  696,   4.8438,  27.1470,   -999.0,9
       RF01-10,  142E,RF-1414,  1,      7,02-15821,2,20011012,0307, 33.5317, 141.5285, 6481,    805.7,   4.1630,  34.3526,2,   -999.0,9,  34.3490,2,     66.2,2,   113.31,2,  -999.00,9,    38.54,2,     0.00,2,     2.77,2, -999.000,9, -999.000,9,  -999.00,9,   -999.0,9,   -999.0,9,-999.0000,9,   -999.0,  9,  -999.00,9,   -999.0,  -999.00,9,  -999.00,9,  -999.00,9,  -999.00,9,   -999.0,-999.0000, -999,9,  798,   4.1024,  27.2606,   -999.0,9
       RF01-10,  142E,RF-1414,  1,      6,02-13588,2,20011012,0302, 33.5317, 141.5285, 6481,    904.1,   3.7813,  34.3804,2,   -999.0,9,-999.0000,9,     61.6,2,   120.23,2,  -999.00,9,    39.47,2,     0.00,2,     2.83,2, -999.000,9, -999.000,9,  -999.00,9,   -999.0,9,   -999.0,9,-999.0000,9,   -999.0,  9,  -999.00,9,   -999.0,  -999.00,9,  -999.00,9,  -999.00,9,  -999.00,9,   -999.0,-999.0000, -999,9,  896,   3.7153,  27.3222,   -999.0,9
       RF01-10,  142E,RF-1414,  1,      5,02-10155,2,20011012,0258, 33.5317, 141.5285, 6481,   1007.4,   3.3091,  34.4203,2,   -999.0,9,  34.4157,2,     58.0,2,   130.17,2,  -999.00,9,    40.38,2,     0.00,2,     2.90,2, -999.000,9, -999.000,9,  -999.00,9,   -999.0,9,   -999.0,9,-999.0000,9,   -999.0,  9,  -999.00,9,   -999.0,  -999.00,9,  -999.00,9,  -999.00,9,  -999.00,9,   -999.0,-999.0000, -999,9,  998,   3.2383,  27.4002,   -999.0,9
       RF01-10,  142E,RF-1414,  1,      4,02-13579,2,20011012,0250, 33.5317, 141.5285, 6481,   1260.7,   2.7922,  34.4752,2,   -999.0,9,  34.4717,2,     56.7,2,   141.31,2,  -999.00,9,    41.23,2,     0.00,2,     2.95,2, -999.000,9, -999.000,9,  -999.00,9,   -999.0,9,   -999.0,9,-999.0000,9,   -999.0,  9,  -999.00,9,   -999.0,  -999.00,9,  -999.00,9,  -999.00,9,  -999.00,9,   -999.0,-999.0000, -999,9, 1248,   2.7062,  27.4924,   -999.0,9
       RF01-10,  142E,RF-1414,  1,      3,02-13590,2,20011012,0244, 33.5317, 141.5285, 6481,   1512.0,   2.3099,  34.5296,2,   -999.0,9,  34.5252,2,     51.7,2,   154.77,2,  -999.00,9,    42.02,2,     0.00,2,     3.00,2, -999.000,9, -999.000,9,  -999.00,9,   -999.0,9,   -999.0,9,-999.0000,9,   -999.0,  9,  -999.00,9,   -999.0,  -999.00,9,  -999.00,9,  -999.00,9,  -999.00,9,   -999.0,-999.0000, -999,9, 1496,   2.2092,  27.5780,   -999.0,9
       RF01-10,  142E,RF-1414,  1,      2,02-13589,2,20011012,0238, 33.5317, 141.5285, 6481,   1764.7,   2.0746,  34.5723,2,   -999.0,9,  34.5731,2,     68.9,2,   156.30,2,  -999.00,9,    41.21,2,     0.00,2,     2.92,2, -999.000,9, -999.000,9,  -999.00,9,   -999.0,9,   -999.0,9,-999.0000,9,   -999.0,  9,  -999.00,9,   -999.0,  -999.00,9,  -999.00,9,  -999.00,9,  -999.00,9,   -999.0,-999.0000, -999,9, 1745,   1.9566,  27.6324,   -999.0,9
       RF01-10,  142E,RF-1414,  1,      1,02-12807,2,20011012,0233, 33.5317, 141.5285, 6481,   2035.2,   1.8635,  34.6092,2,   -999.0,9,  34.6080,2,     88.7,2,   156.33,2,  -999.00,9,    40.11,2,     0.00,2,     2.82,2, -999.000,9, -999.000,9,  -999.00,9,   -999.0,9,   -999.0,9,-999.0000,9,   -999.0,  9,  -999.00,9,   -999.0,  -999.00,9,  -999.00,9,  -999.00,9,  -999.00,9,   -999.0,-999.0000, -999,9, 2011,   1.7262,  27.6798,   -999.0,9
       RF01-10,  142E,RF-1419,  1,     13,02-15822,2,20011013,0246, 31.3795, 142.3017, 8531,     96.4,  21.2937,  34.7661,2,   -999.0,9,  34.7747,2,   -999.0,9,  -999.00,9,  -999.00,9,  -999.00,9,  -999.00,9,  -999.00,9, -999.000,9, -999.000,9,  -999.00,9,   -999.0,9,   -999.0,9,-999.0000,9,   -999.0,  9,  -999.00,9,   -999.0,  -999.00,9,  -999.00,9,  -999.00,9,  -999.00,9,   -999.0,-999.0000, -999,9,   96,  21.2751,  24.2408,   -999.0,9
       RF01-10,  142E,RF-1419,  1,     12,02-12821,2,20011013,0243, 31.3795, 142.3017, 8531,    197.5,  18.4157,  34.7646,2,   -999.0,9,  34.7774,2,   -999.0,9,  -999.00,9,  -999.00,9,  -999.00,9,  -999.00,9,  -999.00,9, -999.000,9, -999.000,9,  -999.00,9,   -999.0,9,   -999.0,9,-999.0000,9,   -999.0,  9,  -999.00,9,   -999.0,  -999.00,9,  -999.00,9,  -999.00,9,  -999.00,9,   -999.0,-999.0000, -999,9,  196,  18.3813,  24.9973,   -999.0,9
       RF01-10,  142E,RF-1419,  1,     11,02-15823,2,20011013,0241, 31.3795, 142.3017, 8531,    297.4,  17.2614,  34.7183,2,   -999.0,9,  34.7329,2,   -999.0,9,  -999.00,9,  -999.00,9,  -999.00,9,  -999.00,9,  -999.00,9, -999.000,9, -999.000,9,  -999.00,9,   -999.0,9,   -999.0,9,-999.0000,9,   -999.0,  9,  -999.00,9,   -999.0,  -999.00,9,  -999.00,9,  -999.00,9,  -999.00,9,   -999.0,-999.0000, -999,9,  295,  17.2118,  25.2476,   -999.0,9
       RF01-10,  142E,RF-1419,  1,     10,02-12820,2,20011013,0238, 31.3795, 142.3017, 8531,    398.6,  15.9022,  34.6642,2,   -999.0,9,  34.6760,2,   -999.0,9,  -999.00,9,  -999.00,9,  -999.00,9,  -999.00,9,  -999.00,9, -999.000,9, -999.000,9,  -999.00,9,   -999.0,9,   -999.0,9,-999.0000,9,   -999.0,  9,  -999.00,9,   -999.0,  -999.00,9,  -999.00,9,  -999.00,9,  -999.00,9,   -999.0,-999.0000, -999,9,  395,  15.8392,  25.5259,   -999.0,9
       RF01-10,  142E,RF-1419,  1,      9,02-12810,2,20011013,0236, 31.3795, 142.3017, 8531,    499.5,  13.1596,  34.4809,2,   -999.0,9,  34.4850,2,   -999.0,9,  -999.00,9,  -999.00,9,  -999.00,9,  -999.00,9,  -999.00,9, -999.000,9, -999.000,9,  -999.00,9,   -999.0,9,   -999.0,9,-999.0000,9,   -999.0,  9,  -999.00,9,   -999.0,  -999.00,9,  -999.00,9,  -999.00,9,  -999.00,9,   -999.0,-999.0000, -999,9,  495,  13.0899,  25.9727,   -999.0,9
       RF01-10,  142E,RF-1419,  1,      8,02-12819,2,20011013,0233, 31.3795, 142.3017, 8531,    601.0,  10.4370,  34.3121,2,   -999.0,9,  34.3131,2,   -999.0,9,  -999.00,9,  -999.00,9,  -999.00,9,  -999.00,9,  -999.00,9, -999.000,9, -999.000,9,  -999.00,9,   -999.0,9,   -999.0,9,-999.0000,9,   -999.0,  9,  -999.00,9,   -999.0,  -999.00,9,  -999.00,9,  -999.00,9,  -999.00,9,   -999.0,-999.0000, -999,9,  596,  10.3645,  26.3522,   -999.0,9
       RF01-10,  142E,RF-1419,  1,      7,02-15821,2,20011013,0231, 31.3795, 142.3017, 8531,    701.4,   8.3009,  34.2244,2,   -999.0,9,  34.2408,2,   -999.0,9,  -999.00,9,  -999.00,9,  -999.00,9,  -999.00,9,  -999.00,9, -999.000,9, -999.000,9,  -999.00,9,   -999.0,9,   -999.0,9,-999.0000,9,   -999.0,  9,  -999.00,9,   -999.0,  -999.00,9,  -999.00,9,  -999.00,9,  -999.00,9,   -999.0,-999.0000, -999,9,  695,   8.2269,  26.6307,   -999.0,9
       RF01-10,  142E,RF-1419,  1,      6,02-13588,2,20011013,0228, 31.3795, 142.3017, 8531,    801.3,   6.2859,  34.1646,2,   -999.0,9,  34.1709,2,   -999.0,9,  -999.00,9,  -999.00,9,  -999.00,9,  -999.00,9,  -999.00,9, -999.000,9, -999.000,9,  -999.00,9,   -999.0,9,   -999.0,9,-999.0000,9,   -999.0,  9,  -999.00,9,   -999.0,  -999.00,9,  -999.00,9,  -999.00,9,  -999.00,9,   -999.0,-999.0000, -999,9,  794,   6.2129,  26.8654,   -999.0,9
       RF01-10,  142E,RF-1419,  1,      5,02-10155,2,20011013,0223, 31.3795, 142.3017, 8531,   1003.8,   4.2792,  34.2367,2,   -999.0,9,  34.2394,2,   -999.0,9,  -999.00,9,  -999.00,9,  -999.00,9,  -999.00,9,  -999.00,9, -999.000,9, -999.000,9,  -999.00,9,   -999.0,9,   -999.0,9,-999.0000,9,   -999.0,  9,  -999.00,9,   -999.0,  -999.00,9,  -999.00,9,  -999.00,9,  -999.00,9,   -999.0,-999.0000, -999,9,  994,   4.2015,  27.1580,   -999.0,9
       RF01-10,  142E,RF-1419,  1,      4,02-13579,2,20011013,0218, 31.3795, 142.3017, 8531,   1258.7,   3.2235,  34.3973,2,   -999.0,9,  34.3964,2,   -999.0,9,  -999.00,9,  -999.00,9,  -999.00,9,  -999.00,9,  -999.00,9, -999.000,9, -999.000,9,  -999.00,9,   -999.0,9,   -999.0,9,-999.0000,9,   -999.0,  9,  -999.00,9,   -999.0,  -999.00,9,  -999.00,9,  -999.00,9,  -999.00,9,   -999.0,-999.0000, -999,9, 1246,   3.1335,  27.3917,   -999.0,9
       RF01-10,  142E,RF-1419,  1,      3,02-13590,2,20011013,0211, 31.3795, 142.3017, 8531,   1510.3,   2.6509,  34.4830,2,   -999.0,9,  34.4797,2,   -999.0,9,  -999.00,9,  -999.00,9,  -999.00,9,  -999.00,9,  -999.00,9, -999.000,9, -999.000,9,  -999.00,9,   -999.0,9,   -999.0,9,-999.0000,9,   -999.0,  9,  -999.00,9,   -999.0,  -999.00,9,  -999.00,9,  -999.00,9,  -999.00,9,   -999.0,-999.0000, -999,9, 1494,   2.5464,  27.5125,   -999.0,9
       RF01-10,  142E,RF-1419,  1,      2,02-13589,2,20011013,0206, 31.3795, 142.3017, 8531,   1765.1,   2.2440,  34.5430,2,   -999.0,9,  34.5421,2,   -999.0,9,  -999.00,9,  -999.00,9,  -999.00,9,  -999.00,9,  -999.00,9, -999.000,9, -999.000,9,  -999.00,9,   -999.0,9,   -999.0,9,-999.0000,9,   -999.0,  9,  -999.00,9,   -999.0,  -999.00,9,  -999.00,9,  -999.00,9,  -999.00,9,   -999.0,-999.0000, -999,9, 1746,   2.1237,  27.5957,   -999.0,9
       RF01-10,  142E,RF-1419,  1,      1,02-12807,2,20011013,0201, 31.3795, 142.3017, 8531,   2040.3,   1.9886,  34.5931,2,   -999.0,9,  34.5867,2,   -999.0,9,  -999.00,9,  -999.00,9,  -999.00,9,  -999.00,9,  -999.00,9, -999.000,9, -999.000,9,  -999.00,9,   -999.0,9,   -999.0,9,-999.0000,9,   -999.0,  9,  -999.00,9,   -999.0,  -999.00,9,  -999.00,9,  -999.00,9,  -999.00,9,   -999.0,-999.0000, -999,9, 2016,   1.8491,  27.6575,   -999.0,9