BOTTLE,20130510GEMDJMAYT
EXPOCODE,SECT_ID,STNNBR,CASTNO,SAMPNO,BTLNBR,BTLNBR_FLAG_W,DATE,TIME,LATITUDE,LONGITUDE,DEPTH,CTDPRS,CTDTMP,CTDSAL,CTDSAL_FLAG_W,CTDOXY,CTDOXY_FLAG_W,SALNTY,SALNTY_FLAG_W,OXYGEN,OXYGEN_FLAG_W,SILCAT,SILCAT_FLAG_W,NITRAT,NITRAT_FLAG_W,NO2+NO3,NO2+NO3_FLAG_W,NITRIT,NITRIT_FLAG_W,PHSPHT,PHSPHT_FLAG_W,CFC-11,CFC-11_FLAG_W,CFC-12,CFC-12_FLAG_W,DELC13,DELC13_FLAG_W,TCARBN,TCARBN_FLAG_W,ALKALI,ALKALI_FLAG_W,PH,PH_FLAG_W,PH_TMP,PH_SCALE,PH_NBS,PH_NBS_FLAG_W,C13ERR,TOTALP,TOTALP_FLAG_W,AMMONI,AMMONI_FLAG_W,CHLORA,CHLORA_FLAG_W,PPHYTN,PPHYTN_FLAG_W,REVPRS,REVTMP,DEPTH_,DEPTH_FLAG,CTDDEP,THETA,SIGTHT,DOC,DOC_FLAG_W
,,,,,,,GMT,GMT,,,METER,DBAR,ITS-90,PSS-78,,UMOL/KG,,PSS-78,,UMOL/KG,,UMOL/KG,,UMOL/KG,,UMOL/KG,,UMOL/KG,,UMOL/KG,,PMOL/KG,,PMOL/KG,,/MILLE,,UMOL/KG,,UMOL/KG,,25_DEG_C,,DEG_C,,,,/MILLE,UMOL/KG,,UMOL/KG,,UG/L,,UG/L,,DBAR,ITS-90,METERS,,METERS,DEG_C,,UMOL/L,
       RF01-10,  NONE,RF-1484,  1,     -9,      -9,5,20011115,1324,  4.9977, 147.7453, 4860,      0.0,  30.1362,  33.8399,2,   -999.0,9,-999.0000,9,   -999.0,9,  -999.00,9,  -999.00,9,  -999.00,9,  -999.00,9,  -999.00,9, -999.000,9, -999.000,9,  -999.00,9,   -999.0,9,   -999.0,9,-999.0000,9,   -999.0,  9,  -999.00,9,   -999.0,  -999.00,9,  -999.00,9,  -999.00,9,  -999.00,9,   -999.0,-999.0000, -999,9,    0,  30.1362,  20.8103,   -999.0,9
       RF01-10,  NONE,RF-1484,  1,     19,02-12825,2,20011115,1320,  4.9977, 147.7453, 4860,     13.4,  30.1403,  33.8379,2,   -999.0,9,-999.0000,9,   -999.0,9,  -999.00,9,  -999.00,9,  -999.00,9,  -999.00,9,  -999.00,9, -999.000,9, -999.000,9,  -999.00,9,   -999.0,9,   -999.0,9,-999.0000,9,   -999.0,  9,  -999.00,9,   -999.0,  -999.00,9,  -999.00,9,  -999.00,9,  -999.00,9,   -999.0,-999.0000, -999,9,   13,  30.1370,  20.8086,   -999.0,9
       RF01-10,  NONE,RF-1484,  1,     18,02-12830,2,20011115,1318,  4.9977, 147.7453, 4860,     27.7,  30.1199,  33.8379,2,   -999.0,9,-999.0000,9,   -999.0,9,  -999.00,9,  -999.00,9,  -999.00,9,  -999.00,9,  -999.00,9, -999.000,9, -999.000,9,  -999.00,9,   -999.0,9,   -999.0,9,-999.0000,9,   -999.0,  9,  -999.00,9,   -999.0,  -999.00,9,  -999.00,9,  -999.00,9,  -999.00,9,   -999.0,-999.0000, -999,9,   28,  30.1130,  20.8167,   -999.0,9
       RF01-10,  NONE,RF-1484,  1,     17,02-12815,2,20011115,1317,  4.9977, 147.7453, 4860,     53.4,  29.9470,  33.8349,2,   -999.0,9,-999.0000,9,   -999.0,9,  -999.00,9,  -999.00,9,  -999.00,9,  -999.00,9,  -999.00,9, -999.000,9, -999.000,9,  -999.00,9,   -999.0,9,   -999.0,9,-999.0000,9,   -999.0,  9,  -999.00,9,   -999.0,  -999.00,9,  -999.00,9,  -999.00,9,  -999.00,9,   -999.0,-999.0000, -999,9,   53,  29.9338,  20.8755,   -999.0,9
       RF01-10,  NONE,RF-1484,  1,     16,02-12818,2,20011115,1315,  4.9977, 147.7453, 4860,     78.1,  28.7884,  34.1954,2,   -999.0,9,-999.0000,9,   -999.0,9,  -999.00,9,  -999.00,9,  -999.00,9,  -999.00,9,  -999.00,9, -999.000,9, -999.000,9,  -999.00,9,   -999.0,9,   -999.0,9,-999.0000,9,   -999.0,  9,  -999.00,9,   -999.0,  -999.00,9,  -999.00,9,  -999.00,9,  -999.00,9,   -999.0,-999.0000, -999,9,   78,  28.7696,  21.5367,   -999.0,9
       RF01-10,  NONE,RF-1484,  1,     15,02-12809,2,20011115,1314,  4.9977, 147.7453, 4860,    104.1,  26.7498,  34.5784,2,   -999.0,9,  34.5781,2,   -999.0,9,  -999.00,9,  -999.00,9,  -999.00,9,  -999.00,9,  -999.00,9, -999.000,9, -999.000,9,  -999.00,9,   -999.0,9,   -999.0,9,-999.0000,9,   -999.0,  9,  -999.00,9,   -999.0,  -999.00,9,  -999.00,9,  -999.00,9,  -999.00,9,   -999.0,-999.0000, -999,9,  103,  26.7261,  22.4873,   -999.0,9
       RF01-10,  NONE,RF-1484,  1,     14,02-12817,2,20011115,1313,  4.9977, 147.7453, 4860,    128.5,  23.6834,  34.7567,2,   -999.0,9,-999.0000,9,   -999.0,9,  -999.00,9,  -999.00,9,  -999.00,9,  -999.00,9,  -999.00,9, -999.000,9, -999.000,9,  -999.00,9,   -999.0,9,   -999.0,9,-999.0000,9,   -999.0,  9,  -999.00,9,   -999.0,  -999.00,9,  -999.00,9,  -999.00,9,  -999.00,9,   -999.0,-999.0000, -999,9,  128,  23.6566,  23.5583,   -999.0,9
       RF01-10,  NONE,RF-1484,  1,     13,02-15822,2,20011115,1311,  4.9977, 147.7453, 4860,    153.5,  19.6072,  34.7742,2,   -999.0,9,-999.0000,9,   -999.0,9,  -999.00,9,  -999.00,9,  -999.00,9,  -999.00,9,  -999.00,9, -999.000,9, -999.000,9,  -999.00,9,   -999.0,9,   -999.0,9,-999.0000,9,   -999.0,  9,  -999.00,9,   -999.0,  -999.00,9,  -999.00,9,  -999.00,9,  -999.00,9,   -999.0,-999.0000, -999,9,  153,  19.5792,  24.6995,   -999.0,9
       RF01-10,  NONE,RF-1484,  1,     12,02-12821,2,20011115,1309,  4.9977, 147.7453, 4860,    204.3,  12.1491,  34.5499,2,   -999.0,9,  34.5584,2,   -999.0,9,  -999.00,9,  -999.00,9,  -999.00,9,  -999.00,9,  -999.00,9, -999.000,9, -999.000,9,  -999.00,9,   -999.0,9,   -999.0,9,-999.0000,9,   -999.0,  9,  -999.00,9,   -999.0,  -999.00,9,  -999.00,9,  -999.00,9,  -999.00,9,   -999.0,-999.0000, -999,9,  203,  12.1224,  26.2161,   -999.0,9
       RF01-10,  NONE,RF-1484,  1,     11,02-15823,2,20011115,1308,  4.9977, 147.7453, 4860,    254.5,   9.6458,  34.5200,2,   -999.0,9,-999.0000,9,   -999.0,9,  -999.00,9,  -999.00,9,  -999.00,9,  -999.00,9,  -999.00,9, -999.000,9, -999.000,9,  -999.00,9,   -999.0,9,   -999.0,9,-999.0000,9,   -999.0,  9,  -999.00,9,   -999.0,  -999.00,9,  -999.00,9,  -999.00,9,  -999.00,9,   -999.0,-999.0000, -999,9,  253,   9.6170,  26.6416,   -999.0,9
       RF01-10,  NONE,RF-1484,  1,     10,02-12820,2,20011115,1306,  4.9977, 147.7453, 4860,    304.0,   9.2156,  34.6105,2,   -999.0,9,  34.6009,2,   -999.0,9,  -999.00,9,  -999.00,9,  -999.00,9,  -999.00,9,  -999.00,9, -999.000,9, -999.000,9,  -999.00,9,   -999.0,9,   -999.0,9,-999.0000,9,   -999.0,  9,  -999.00,9,   -999.0,  -999.00,9,  -999.00,9,  -999.00,9,  -999.00,9,   -999.0,-999.0000, -999,9,  302,   9.1821,  26.7838,   -999.0,9
       RF01-10,  NONE,RF-1484,  1,      9,02-12810,2,20011115,1303,  4.9977, 147.7453, 4860,    404.9,   8.7654,  34.6107,2,   -999.0,9,  34.6091,2,   -999.0,9,  -999.00,9,  -999.00,9,  -999.00,9,  -999.00,9,  -999.00,9, -999.000,9, -999.000,9,  -999.00,9,   -999.0,9,   -999.0,9,-999.0000,9,   -999.0,  9,  -999.00,9,   -999.0,  -999.00,9,  -999.00,9,  -999.00,9,  -999.00,9,   -999.0,-999.0000, -999,9,  402,   8.7218,  26.8574,   -999.0,9
       RF01-10,  NONE,RF-1484,  1,      8,02-12819,2,20011115,1300,  4.9977, 147.7453, 4860,    505.8,   7.6842,  34.5696,2,   -999.0,9,  34.5747,2,   -999.0,9,  -999.00,9,  -999.00,9,  -999.00,9,  -999.00,9,  -999.00,9, -999.000,9, -999.000,9,  -999.00,9,   -999.0,9,   -999.0,9,-999.0000,9,   -999.0,  9,  -999.00,9,   -999.0,  -999.00,9,  -999.00,9,  -999.00,9,  -999.00,9,   -999.0,-999.0000, -999,9,  502,   7.6335,  26.9898,   -999.0,9
       RF01-10,  NONE,RF-1484,  1,      7,02-15821,2,20011115,1257,  4.9977, 147.7453, 4860,    606.4,   6.9096,  34.5409,2,   -999.0,9,  34.5499,2,   -999.0,9,  -999.00,9,  -999.00,9,  -999.00,9,  -999.00,9,  -999.00,9, -999.000,9, -999.000,9,  -999.00,9,   -999.0,9,   -999.0,9,-999.0000,9,   -999.0,  9,  -999.00,9,   -999.0,  -999.00,9,  -999.00,9,  -999.00,9,  -999.00,9,   -999.0,-999.0000, -999,9,  602,   6.8519,  27.0775,   -999.0,9
       RF01-10,  NONE,RF-1484,  1,      6,02-13588,2,20011115,1254,  4.9977, 147.7453, 4860,    707.0,   6.2347,  34.5415,2,   -999.0,9,  34.5405,2,   -999.0,9,  -999.00,9,  -999.00,9,  -999.00,9,  -999.00,9,  -999.00,9, -999.000,9, -999.000,9,  -999.00,9,   -999.0,9,   -999.0,9,-999.0000,9,   -999.0,  9,  -999.00,9,   -999.0,  -999.00,9,  -999.00,9,  -999.00,9,  -999.00,9,   -999.0,-999.0000, -999,9,  702,   6.1706,  27.1685,   -999.0,9
       RF01-10,  NONE,RF-1484,  1,      5,02-10155,2,20011115,1251,  4.9977, 147.7453, 4860,    808.7,   5.6171,  34.5336,2,   -999.0,9,  34.5350,2,   -999.0,9,  -999.00,9,  -999.00,9,  -999.00,9,  -999.00,9,  -999.00,9, -999.000,9, -999.000,9,  -999.00,9,   -999.0,9,   -999.0,9,-999.0000,9,   -999.0,  9,  -999.00,9,   -999.0,  -999.00,9,  -999.00,9,  -999.00,9,  -999.00,9,   -999.0,-999.0000, -999,9,  803,   5.5470,  27.2405,   -999.0,9
       RF01-10,  NONE,RF-1484,  1,      4,02-13579,2,20011115,1248,  4.9977, 147.7453, 4860,    910.7,   5.0859,  34.5422,2,   -999.0,9,-999.0000,9,   -999.0,9,  -999.00,9,  -999.00,9,  -999.00,9,  -999.00,9,  -999.00,9, -999.000,9, -999.000,9,  -999.00,9,   -999.0,9,   -999.0,9,-999.0000,9,   -999.0,  9,  -999.00,9,   -999.0,  -999.00,9,  -999.00,9,  -999.00,9,  -999.00,9,   -999.0,-999.0000, -999,9,  904,   5.0100,  27.3111,   -999.0,9
       RF01-10,  NONE,RF-1484,  1,      3,02-13590,2,20011115,1246,  4.9977, 147.7453, 4860,   1011.3,   4.5099,  34.5528,2,   -999.0,9,  34.5539,2,   -999.0,9,  -999.00,9,  -999.00,9,  -999.00,9,  -999.00,9,  -999.00,9, -999.000,9, -999.000,9,  -999.00,9,   -999.0,9,   -999.0,9,-999.0000,9,   -999.0,  9,  -999.00,9,   -999.0,  -999.00,9,  -999.00,9,  -999.00,9,  -999.00,9,   -999.0,-999.0000, -999,9, 1003,   4.4292,  27.3848,   -999.0,9
       RF01-10,  NONE,RF-1484,  1,      2,02-13589,2,20011115,1240,  4.9977, 147.7453, 4860,   1263.4,   3.6116,  34.5762,2,   -999.0,9,  34.5781,2,   -999.0,9,  -999.00,9,  -999.00,9,  -999.00,9,  -999.00,9,  -999.00,9, -999.000,9, -999.000,9,  -999.00,9,   -999.0,9,   -999.0,9,-999.0000,9,   -999.0,  9,  -999.00,9,   -999.0,  -999.00,9,  -999.00,9,  -999.00,9,  -999.00,9,   -999.0,-999.0000, -999,9, 1253,   3.5171,  27.4977,   -999.0,9
       RF01-10,  NONE,RF-1484,  1,      1,02-12807,2,20011115,1234,  4.9977, 147.7453, 4860,   1539.7,   2.9934,  34.6001,2,   -999.0,9,  34.6005,2,   -999.0,9,  -999.00,9,  -999.00,9,  -999.00,9,  -999.00,9,  -999.00,9, -999.000,9, -999.000,9,  -999.00,9,   -999.0,9,   -999.0,9,-999.0000,9,   -999.0,  9,  -999.00,9,   -999.0,  -999.00,9,  -999.00,9,  -999.00,9,  -999.00,9,   -999.0,-999.0000, -999,9, 1526,   2.8822,  27.5766,   -999.0,9
       RF01-10,  NONE,RF-1486,  1,     -9,      -9,5,20011115,2138,  5.9967, 147.3552, 3640,      0.0,  30.0246,  33.7400,2,   -999.0,9,-999.0000,9,   -999.0,9,  -999.00,9,  -999.00,9,  -999.00,9,  -999.00,9,  -999.00,9, -999.000,9, -999.000,9,  -999.00,9,   -999.0,9,   -999.0,9,-999.0000,9,   -999.0,  9,  -999.00,9,   -999.0,  -999.00,9,  -999.00,9,  -999.00,9,  -999.00,9,   -999.0,-999.0000, -999,9,    0,  30.0246,  20.7735,   -999.0,9
       RF01-10,  NONE,RF-1486,  1,     19,02-12825,2,20011115,2132,  5.9967, 147.3552, 3640,     12.3,  30.0223,  33.7348,2,   -999.0,9,-999.0000,9,   -999.0,9,  -999.00,9,  -999.00,9,  -999.00,9,  -999.00,9,  -999.00,9, -999.000,9, -999.000,9,  -999.00,9,   -999.0,9,   -999.0,9,-999.0000,9,   -999.0,  9,  -999.00,9,   -999.0,  -999.00,9,  -999.00,9,  -999.00,9,  -999.00,9,   -999.0,-999.0000, -999,9,   12,  30.0193,  20.7715,   -999.0,9
       RF01-10,  NONE,RF-1486,  1,     18,02-12830,2,20011115,2131,  5.9967, 147.3552, 3640,     26.7,  30.0278,  33.7389,2,   -999.0,9,-999.0000,9,   -999.0,9,  -999.00,9,  -999.00,9,  -999.00,9,  -999.00,9,  -999.00,9, -999.000,9, -999.000,9,  -999.00,9,   -999.0,9,   -999.0,9,-999.0000,9,   -999.0,  9,  -999.00,9,   -999.0,  -999.00,9,  -999.00,9,  -999.00,9,  -999.00,9,   -999.0,-999.0000, -999,9,   27,  30.0212,  20.7738,   -999.0,9
       RF01-10,  NONE,RF-1486,  1,     17,02-12815,2,20011115,2130,  5.9967, 147.3552, 3640,     52.1,  29.4538,  33.9343,2,   -999.0,9,-999.0000,9,   -999.0,9,  -999.00,9,  -999.00,9,  -999.00,9,  -999.00,9,  -999.00,9, -999.000,9, -999.000,9,  -999.00,9,   -999.0,9,   -999.0,9,-999.0000,9,   -999.0,  9,  -999.00,9,   -999.0,  -999.00,9,  -999.00,9,  -999.00,9,  -999.00,9,   -999.0,-999.0000, -999,9,   52,  29.4411,  21.1166,   -999.0,9
       RF01-10,  NONE,RF-1486,  1,     16,02-12818,2,20011115,2128,  5.9967, 147.3552, 3640,     78.2,  28.4711,  34.2811,2,   -999.0,9,-999.0000,9,   -999.0,9,  -999.00,9,  -999.00,9,  -999.00,9,  -999.00,9,  -999.00,9, -999.000,9, -999.000,9,  -999.00,9,   -999.0,9,   -999.0,9,-999.0000,9,   -999.0,  9,  -999.00,9,   -999.0,  -999.00,9,  -999.00,9,  -999.00,9,  -999.00,9,   -999.0,-999.0000, -999,9,   78,  28.4525,  21.7058,   -999.0,9
       RF01-10,  NONE,RF-1486,  1,     15,02-12809,2,20011115,2127,  5.9967, 147.3552, 3640,    102.0,  25.1692,  34.8283,2,   -999.0,9,-999.0000,9,   -999.0,9,  -999.00,9,  -999.00,9,  -999.00,9,  -999.00,9,  -999.00,9, -999.000,9, -999.000,9,  -999.00,9,   -999.0,9,   -999.0,9,-999.0000,9,   -999.0,  9,  -999.00,9,   -999.0,  -999.00,9,  -999.00,9,  -999.00,9,  -999.00,9,   -999.0,-999.0000, -999,9,  101,  25.1470,  23.1667,   -999.0,9
       RF01-10,  NONE,RF-1486,  1,     14,02-12817,2,20011115,2126,  5.9967, 147.3552, 3640,    127.8,  21.5449,  34.8390,2,   -999.0,9,-999.0000,9,   -999.0,9,  -999.00,9,  -999.00,9,  -999.00,9,  -999.00,9,  -999.00,9, -999.000,9, -999.000,9,  -999.00,9,   -999.0,9,   -999.0,9,-999.0000,9,   -999.0,  9,  -999.00,9,   -999.0,  -999.00,9,  -999.00,9,  -999.00,9,  -999.00,9,   -999.0,-999.0000, -999,9,  127,  21.5200,  24.2289,   -999.0,9
       RF01-10,  NONE,RF-1486,  1,     13,02-15822,2,20011115,2124,  5.9967, 147.3552, 3640,    152.9,  16.3214,  34.6666,2,   -999.0,9,-999.0000,9,   -999.0,9,  -999.00,9,  -999.00,9,  -999.00,9,  -999.00,9,  -999.00,9, -999.000,9, -999.000,9,  -999.00,9,   -999.0,9,   -999.0,9,-999.0000,9,   -999.0,  9,  -999.00,9,   -999.0,  -999.00,9,  -999.00,9,  -999.00,9,  -999.00,9,   -999.0,-999.0000, -999,9,  152,  16.2970,  25.4230,   -999.0,9
       RF01-10,  NONE,RF-1486,  1,     12,02-12821,2,20011115,2123,  5.9967, 147.3552, 3640,    202.4,  11.3787,  34.5657,2,   -999.0,9,-999.0000,9,   -999.0,9,  -999.00,9,  -999.00,9,  -999.00,9,  -999.00,9,  -999.00,9, -999.000,9, -999.000,9,  -999.00,9,   -999.0,9,   -999.0,9,-999.0000,9,   -999.0,  9,  -999.00,9,   -999.0,  -999.00,9,  -999.00,9,  -999.00,9,  -999.00,9,   -999.0,-999.0000, -999,9,  201,  11.3533,  26.3729,   -999.0,9
       RF01-10,  NONE,RF-1486,  1,     11,02-15823,2,20011115,2120,  5.9967, 147.3552, 3640,    253.9,   9.9081,  34.6233,2,   -999.0,9,-999.0000,9,   -999.0,9,  -999.00,9,  -999.00,9,  -999.00,9,  -999.00,9,  -999.00,9, -999.000,9, -999.000,9,  -999.00,9,   -999.0,9,   -999.0,9,-999.0000,9,   -999.0,  9,  -999.00,9,   -999.0,  -999.00,9,  -999.00,9,  -999.00,9,  -999.00,9,   -999.0,-999.0000, -999,9,  252,   9.8789,  26.6784,   -999.0,9
       RF01-10,  NONE,RF-1486,  1,     10,02-12820,2,20011115,2118,  5.9967, 147.3552, 3640,    304.3,   9.4105,  34.6076,2,   -999.0,9,-999.0000,9,   -999.0,9,  -999.00,9,  -999.00,9,  -999.00,9,  -999.00,9,  -999.00,9, -999.000,9, -999.000,9,  -999.00,9,   -999.0,9,   -999.0,9,-999.0000,9,   -999.0,  9,  -999.00,9,   -999.0,  -999.00,9,  -999.00,9,  -999.00,9,  -999.00,9,   -999.0,-999.0000, -999,9,  302,   9.3765,  26.7498,   -999.0,9
       RF01-10,  NONE,RF-1486,  1,      9,02-12810,2,20011115,2115,  5.9967, 147.3552, 3640,    404.5,   8.3120,  34.5903,2,   -999.0,9,-999.0000,9,   -999.0,9,  -999.00,9,  -999.00,9,  -999.00,9,  -999.00,9,  -999.00,9, -999.000,9, -999.000,9,  -999.00,9,   -999.0,9,   -999.0,9,-999.0000,9,   -999.0,  9,  -999.00,9,   -999.0,  -999.00,9,  -999.00,9,  -999.00,9,  -999.00,9,   -999.0,-999.0000, -999,9,  402,   8.2698,  26.9114,   -999.0,9
       RF01-10,  NONE,RF-1486,  1,      8,02-12819,2,20011115,2112,  5.9967, 147.3552, 3640,    506.8,   7.7879,  34.5790,2,   -999.0,9,-999.0000,9,   -999.0,9,  -999.00,9,  -999.00,9,  -999.00,9,  -999.00,9,  -999.00,9, -999.000,9, -999.000,9,  -999.00,9,   -999.0,9,   -999.0,9,-999.0000,9,   -999.0,  9,  -999.00,9,   -999.0,  -999.00,9,  -999.00,9,  -999.00,9,  -999.00,9,   -999.0,-999.0000, -999,9,  503,   7.7367,  26.9821,   -999.0,9
       RF01-10,  NONE,RF-1486,  1,      7,02-15821,2,20011115,2110,  5.9967, 147.3552, 3640,    606.1,   7.2618,  34.5558,2,   -999.0,9,-999.0000,9,   -999.0,9,  -999.00,9,  -999.00,9,  -999.00,9,  -999.00,9,  -999.00,9, -999.000,9, -999.000,9,  -999.00,9,   -999.0,9,   -999.0,9,-999.0000,9,   -999.0,  9,  -999.00,9,   -999.0,  -999.00,9,  -999.00,9,  -999.00,9,  -999.00,9,   -999.0,-999.0000, -999,9,  602,   7.2026,  27.0406,   -999.0,9
       RF01-10,  NONE,RF-1486,  1,      6,02-13588,2,20011115,2107,  5.9967, 147.3552, 3640,    706.8,   6.4522,  34.5370,2,   -999.0,9,-999.0000,9,   -999.0,9,  -999.00,9,  -999.00,9,  -999.00,9,  -999.00,9,  -999.00,9, -999.000,9, -999.000,9,  -999.00,9,   -999.0,9,   -999.0,9,-999.0000,9,   -999.0,  9,  -999.00,9,   -999.0,  -999.00,9,  -999.00,9,  -999.00,9,  -999.00,9,   -999.0,-999.0000, -999,9,  702,   6.3869,  27.1368,   -999.0,9
       RF01-10,  NONE,RF-1486,  1,      5,02-10155,2,20011115,2104,  5.9967, 147.3552, 3640,    807.7,   5.7693,  34.5316,2,   -999.0,9,-999.0000,9,   -999.0,9,  -999.00,9,  -999.00,9,  -999.00,9,  -999.00,9,  -999.00,9, -999.000,9, -999.000,9,  -999.00,9,   -999.0,9,   -999.0,9,-999.0000,9,   -999.0,  9,  -999.00,9,   -999.0,  -999.00,9,  -999.00,9,  -999.00,9,  -999.00,9,   -999.0,-999.0000, -999,9,  802,   5.6983,  27.2204,   -999.0,9
       RF01-10,  NONE,RF-1486,  1,      4,02-13579,2,20011115,2101,  5.9967, 147.3552, 3640,    909.5,   5.2280,  34.5392,2,   -999.0,9,-999.0000,9,   -999.0,9,  -999.00,9,  -999.00,9,  -999.00,9,  -999.00,9,  -999.00,9, -999.000,9, -999.000,9,  -999.00,9,   -999.0,9,   -999.0,9,-999.0000,9,   -999.0,  9,  -999.00,9,   -999.0,  -999.00,9,  -999.00,9,  -999.00,9,  -999.00,9,   -999.0,-999.0000, -999,9,  903,   5.1512,  27.2923,   -999.0,9
       RF01-10,  NONE,RF-1486,  1,      3,02-13590,2,20011115,2058,  5.9967, 147.3552, 3640,   1011.6,   4.6050,  34.5496,2,   -999.0,9,-999.0000,9,   -999.0,9,  -999.00,9,  -999.00,9,  -999.00,9,  -999.00,9,  -999.00,9, -999.000,9, -999.000,9,  -999.00,9,   -999.0,9,   -999.0,9,-999.0000,9,   -999.0,  9,  -999.00,9,   -999.0,  -999.00,9,  -999.00,9,  -999.00,9,  -999.00,9,   -999.0,-999.0000, -999,9, 1004,   4.5236,  27.3719,   -999.0,9
       RF01-10,  NONE,RF-1486,  1,      2,02-13589,2,20011115,2053,  5.9967, 147.3552, 3640,   1263.0,   3.4858,  34.5815,2,   -999.0,9,-999.0000,9,   -999.0,9,  -999.00,9,  -999.00,9,  -999.00,9,  -999.00,9,  -999.00,9, -999.000,9, -999.000,9,  -999.00,9,   -999.0,9,   -999.0,9,-999.0000,9,   -999.0,  9,  -999.00,9,   -999.0,  -999.00,9,  -999.00,9,  -999.00,9,  -999.00,9,   -999.0,-999.0000, -999,9, 1252,   3.3926,  27.5141,   -999.0,9
       RF01-10,  NONE,RF-1486,  1,      1,02-12807,2,20011115,2048,  5.9967, 147.3552, 3640,   1535.6,   2.8374,  34.6075,2,   -999.0,9,-999.0000,9,   -999.0,9,  -999.00,9,  -999.00,9,  -999.00,9,  -999.00,9,  -999.00,9, -999.000,9, -999.000,9,  -999.00,9,   -999.0,9,   -999.0,9,-999.0000,9,   -999.0,  9,  -999.00,9,   -999.0,  -999.00,9,  -999.00,9,  -999.00,9,  -999.00,9,   -999.0,-999.0000, -999,9, 1521,   2.7285,  27.5962,   -999.0,9