BOTTLE,20130510GEMDJMAYT
EXPOCODE,SECT_ID,STNNBR,CASTNO,SAMPNO,BTLNBR,BTLNBR_FLAG_W,DATE,TIME,LATITUDE,LONGITUDE,DEPTH,CTDPRS,CTDTMP,CTDSAL,CTDSAL_FLAG_W,CTDOXY,CTDOXY_FLAG_W,SALNTY,SALNTY_FLAG_W,OXYGEN,OXYGEN_FLAG_W,SILCAT,SILCAT_FLAG_W,NITRAT,NITRAT_FLAG_W,NO2+NO3,NO2+NO3_FLAG_W,NITRIT,NITRIT_FLAG_W,PHSPHT,PHSPHT_FLAG_W,CFC-11,CFC-11_FLAG_W,CFC-12,CFC-12_FLAG_W,DELC13,DELC13_FLAG_W,TCARBN,TCARBN_FLAG_W,ALKALI,ALKALI_FLAG_W,PH,PH_FLAG_W,PH_TMP,PH_SCALE,PH_NBS,PH_NBS_FLAG_W,C13ERR,TOTALP,TOTALP_FLAG_W,AMMONI,AMMONI_FLAG_W,CHLORA,CHLORA_FLAG_W,PPHYTN,PPHYTN_FLAG_W,REVPRS,REVTMP,DEPTH_,DEPTH_FLAG,CTDDEP,THETA,SIGTHT,DOC,DOC_FLAG_W
,,,,,,,GMT,GMT,,,METER,DBAR,ITS-90,PSS-78,,UMOL/KG,,PSS-78,,UMOL/KG,,UMOL/KG,,UMOL/KG,,UMOL/KG,,UMOL/KG,,UMOL/KG,,PMOL/KG,,PMOL/KG,,/MILLE,,UMOL/KG,,UMOL/KG,,25_DEG_C,,DEG_C,,,,/MILLE,UMOL/KG,,UMOL/KG,,UG/L,,UG/L,,DBAR,ITS-90,METERS,,METERS,DEG_C,,UMOL/L,
       RF01-10,  NONE,RF-1480,  1,     -9,      -9,5,20011114,2015,  2.9948, 148.4765, 4379,      0.0,  30.1751,  33.9570,2,   -999.0,9,-999.0000,9,   -999.0,9,  -999.00,9,  -999.00,9,  -999.00,9,  -999.00,9,  -999.00,9, -999.000,9, -999.000,9,  -999.00,9,   -999.0,9,   -999.0,9,-999.0000,9,   -999.0,  9,  -999.00,9,   -999.0,  -999.00,9,  -999.00,9,  -999.00,9,  -999.00,9,   -999.0,-999.0000, -999,9,    0,  30.1751,  20.8848,   -999.0,9
       RF01-10,  NONE,RF-1480,  1,     19,02-12825,2,20011114,2013,  2.9948, 148.4765, 4379,     12.1,  30.1805,  33.9936,2,   -999.0,9,-999.0000,9,   -999.0,9,  -999.00,9,  -999.00,9,  -999.00,9,  -999.00,9,  -999.00,9, -999.000,9, -999.000,9,  -999.00,9,   -999.0,9,   -999.0,9,-999.0000,9,   -999.0,  9,  -999.00,9,   -999.0,  -999.00,9,  -999.00,9,  -999.00,9,  -999.00,9,   -999.0,-999.0000, -999,9,   12,  30.1775,  20.9114,   -999.0,9
       RF01-10,  NONE,RF-1480,  1,     18,02-12830,2,20011114,2012,  2.9948, 148.4765, 4379,     27.5,  29.9600,  34.0356,2,   -999.0,9,-999.0000,9,   -999.0,9,  -999.00,9,  -999.00,9,  -999.00,9,  -999.00,9,  -999.00,9, -999.000,9, -999.000,9,  -999.00,9,   -999.0,9,   -999.0,9,-999.0000,9,   -999.0,  9,  -999.00,9,   -999.0,  -999.00,9,  -999.00,9,  -999.00,9,  -999.00,9,   -999.0,-999.0000, -999,9,   27,  29.9533,  21.0193,   -999.0,9
       RF01-10,  NONE,RF-1480,  1,     17,02-12815,2,20011114,2010,  2.9948, 148.4765, 4379,     52.6,  28.2213,  34.5111,2,   -999.0,9,-999.0000,9,   -999.0,9,  -999.00,9,  -999.00,9,  -999.00,9,  -999.00,9,  -999.00,9, -999.000,9, -999.000,9,  -999.00,9,   -999.0,9,   -999.0,9,-999.0000,9,   -999.0,  9,  -999.00,9,   -999.0,  -999.00,9,  -999.00,9,  -999.00,9,  -999.00,9,   -999.0,-999.0000, -999,9,   52,  28.2089,  21.9587,   -999.0,9
       RF01-10,  NONE,RF-1480,  1,     16,02-12818,2,20011114,2009,  2.9948, 148.4765, 4379,     78.0,  28.3422,  35.2515,2,   -999.0,9,-999.0000,9,   -999.0,9,  -999.00,9,  -999.00,9,  -999.00,9,  -999.00,9,  -999.00,9, -999.000,9, -999.000,9,  -999.00,9,   -999.0,9,   -999.0,9,-999.0000,9,   -999.0,  9,  -999.00,9,   -999.0,  -999.00,9,  -999.00,9,  -999.00,9,  -999.00,9,   -999.0,-999.0000, -999,9,   78,  28.3236,  22.4775,   -999.0,9
       RF01-10,  NONE,RF-1480,  1,     15,02-12809,2,20011114,2008,  2.9948, 148.4765, 4379,    104.3,  27.4680,  35.1434,2,   -999.0,9,  35.1532,2,   -999.0,9,  -999.00,9,  -999.00,9,  -999.00,9,  -999.00,9,  -999.00,9, -999.000,9, -999.000,9,  -999.00,9,   -999.0,9,   -999.0,9,-999.0000,9,   -999.0,  9,  -999.00,9,   -999.0,  -999.00,9,  -999.00,9,  -999.00,9,  -999.00,9,   -999.0,-999.0000, -999,9,  104,  27.4438,  22.6832,   -999.0,9
       RF01-10,  NONE,RF-1480,  1,     14,02-12817,2,20011114,2007,  2.9948, 148.4765, 4379,    128.3,  26.5765,  35.1727,2,   -999.0,9,-999.0000,9,   -999.0,9,  -999.00,9,  -999.00,9,  -999.00,9,  -999.00,9,  -999.00,9, -999.000,9, -999.000,9,  -999.00,9,   -999.0,9,   -999.0,9,-999.0000,9,   -999.0,  9,  -999.00,9,   -999.0,  -999.00,9,  -999.00,9,  -999.00,9,  -999.00,9,   -999.0,-999.0000, -999,9,  128,  26.5473,  22.9917,   -999.0,9
       RF01-10,  NONE,RF-1480,  1,     13,02-15822,2,20011114,2005,  2.9948, 148.4765, 4379,    153.1,  23.9868,  35.2635,2,   -999.0,9,-999.0000,9,   -999.0,9,  -999.00,9,  -999.00,9,  -999.00,9,  -999.00,9,  -999.00,9, -999.000,9, -999.000,9,  -999.00,9,   -999.0,9,   -999.0,9,-999.0000,9,   -999.0,  9,  -999.00,9,   -999.0,  -999.00,9,  -999.00,9,  -999.00,9,  -999.00,9,   -999.0,-999.0000, -999,9,  152,  23.9545,  23.8544,   -999.0,9
       RF01-10,  NONE,RF-1480,  1,     12,02-12821,2,20011114,2003,  2.9948, 148.4765, 4379,    204.3,  20.4254,  34.9912,2,   -999.0,9,  35.0418,4,   -999.0,9,  -999.00,9,  -999.00,9,  -999.00,9,  -999.00,9,  -999.00,9, -999.000,9, -999.000,9,  -999.00,9,   -999.0,9,   -999.0,9,-999.0000,9,   -999.0,  9,  -999.00,9,   -999.0,  -999.00,9,  -999.00,9,  -999.00,9,  -999.00,9,   -999.0,-999.0000, -999,9,  203,  20.3870,  24.6523,   -999.0,9
       RF01-10,  NONE,RF-1480,  1,     11,02-15823,2,20011114,2002,  2.9948, 148.4765, 4379,    254.2,   9.9594,  34.5424,2,   -999.0,9,-999.0000,9,   -999.0,9,  -999.00,9,  -999.00,9,  -999.00,9,  -999.00,9,  -999.00,9, -999.000,9, -999.000,9,  -999.00,9,   -999.0,9,   -999.0,9,-999.0000,9,   -999.0,  9,  -999.00,9,   -999.0,  -999.00,9,  -999.00,9,  -999.00,9,  -999.00,9,   -999.0,-999.0000, -999,9,  253,   9.9301,  26.6065,   -999.0,9
       RF01-10,  NONE,RF-1480,  1,     10,02-12820,2,20011114,2000,  2.9948, 148.4765, 4379,    305.1,   9.7729,  34.6926,2,   -999.0,9,  34.6969,2,   -999.0,9,  -999.00,9,  -999.00,9,  -999.00,9,  -999.00,9,  -999.00,9, -999.000,9, -999.000,9,  -999.00,9,   -999.0,9,   -999.0,9,-999.0000,9,   -999.0,  9,  -999.00,9,   -999.0,  -999.00,9,  -999.00,9,  -999.00,9,  -999.00,9,   -999.0,-999.0000, -999,9,  303,   9.7380,  26.7562,   -999.0,9
       RF01-10,  NONE,RF-1480,  1,      9,02-12810,2,20011114,1957,  2.9948, 148.4765, 4379,    405.6,   8.8620,  34.6419,2,   -999.0,9,  34.6469,2,   -999.0,9,  -999.00,9,  -999.00,9,  -999.00,9,  -999.00,9,  -999.00,9, -999.000,9, -999.000,9,  -999.00,9,   -999.0,9,   -999.0,9,-999.0000,9,   -999.0,  9,  -999.00,9,   -999.0,  -999.00,9,  -999.00,9,  -999.00,9,  -999.00,9,   -999.0,-999.0000, -999,9,  403,   8.8180,  26.8667,   -999.0,9
       RF01-10,  NONE,RF-1480,  1,      8,02-12819,2,20011114,1954,  2.9948, 148.4765, 4379,    505.8,   8.2915,  34.6067,2,   -999.0,9,  34.6099,2,   -999.0,9,  -999.00,9,  -999.00,9,  -999.00,9,  -999.00,9,  -999.00,9, -999.000,9, -999.000,9,  -999.00,9,   -999.0,9,   -999.0,9,-999.0000,9,   -999.0,  9,  -999.00,9,   -999.0,  -999.00,9,  -999.00,9,  -999.00,9,  -999.00,9,   -999.0,-999.0000, -999,9,  502,   8.2385,  26.9290,   -999.0,9
       RF01-10,  NONE,RF-1480,  1,      7,02-15821,2,20011114,1952,  2.9948, 148.4765, 4379,    606.7,   7.5447,  34.5684,2,   -999.0,9,  34.5712,2,   -999.0,9,  -999.00,9,  -999.00,9,  -999.00,9,  -999.00,9,  -999.00,9, -999.000,9, -999.000,9,  -999.00,9,   -999.0,9,   -999.0,9,-999.0000,9,   -999.0,  9,  -999.00,9,   -999.0,  -999.00,9,  -999.00,9,  -999.00,9,  -999.00,9,   -999.0,-999.0000, -999,9,  602,   7.4841,  27.0105,   -999.0,9
       RF01-10,  NONE,RF-1480,  1,      6,02-13588,2,20011114,1949,  2.9948, 148.4765, 4379,    708.0,   6.7239,  34.5389,2,   -999.0,9,  34.5427,2,   -999.0,9,  -999.00,9,  -999.00,9,  -999.00,9,  -999.00,9,  -999.00,9, -999.000,9, -999.000,9,  -999.00,9,   -999.0,9,   -999.0,9,-999.0000,9,   -999.0,  9,  -999.00,9,   -999.0,  -999.00,9,  -999.00,9,  -999.00,9,  -999.00,9,   -999.0,-999.0000, -999,9,  703,   6.6571,  27.1023,   -999.0,9
       RF01-10,  NONE,RF-1480,  1,      5,02-10155,2,20011114,1946,  2.9948, 148.4765, 4379,    808.2,   5.8533,  34.5356,2,   -999.0,9,  34.5372,2,   -999.0,9,  -999.00,9,  -999.00,9,  -999.00,9,  -999.00,9,  -999.00,9, -999.000,9, -999.000,9,  -999.00,9,   -999.0,9,   -999.0,9,-999.0000,9,   -999.0,  9,  -999.00,9,   -999.0,  -999.00,9,  -999.00,9,  -999.00,9,  -999.00,9,   -999.0,-999.0000, -999,9,  802,   5.7818,  27.2132,   -999.0,9
       RF01-10,  NONE,RF-1480,  1,      4,02-13579,2,20011114,1943,  2.9948, 148.4765, 4379,    910.3,   5.0786,  34.5416,2,   -999.0,9,-999.0000,9,   -999.0,9,  -999.00,9,  -999.00,9,  -999.00,9,  -999.00,9,  -999.00,9, -999.000,9, -999.000,9,  -999.00,9,   -999.0,9,   -999.0,9,-999.0000,9,   -999.0,  9,  -999.00,9,   -999.0,  -999.00,9,  -999.00,9,  -999.00,9,  -999.00,9,   -999.0,-999.0000, -999,9,  903,   5.0028,  27.3115,   -999.0,9
       RF01-10,  NONE,RF-1480,  1,      3,02-13590,2,20011114,1940,  2.9948, 148.4765, 4379,   1011.1,   4.6100,  34.5498,2,   -999.0,9,  34.5515,2,   -999.0,9,  -999.00,9,  -999.00,9,  -999.00,9,  -999.00,9,  -999.00,9, -999.000,9, -999.000,9,  -999.00,9,   -999.0,9,   -999.0,9,-999.0000,9,   -999.0,  9,  -999.00,9,   -999.0,  -999.00,9,  -999.00,9,  -999.00,9,  -999.00,9,   -999.0,-999.0000, -999,9, 1003,   4.5286,  27.3715,   -999.0,9
       RF01-10,  NONE,RF-1480,  1,      2,02-13589,2,20011114,1935,  2.9948, 148.4765, 4379,   1262.9,   3.6708,  34.5756,2,   -999.0,9,  34.5749,2,   -999.0,9,  -999.00,9,  -999.00,9,  -999.00,9,  -999.00,9,  -999.00,9, -999.000,9, -999.000,9,  -999.00,9,   -999.0,9,   -999.0,9,-999.0000,9,   -999.0,  9,  -999.00,9,   -999.0,  -999.00,9,  -999.00,9,  -999.00,9,  -999.00,9,   -999.0,-999.0000, -999,9, 1252,   3.5758,  27.4915,   -999.0,9
       RF01-10,  NONE,RF-1480,  1,      1,02-12807,2,20011114,1929,  2.9948, 148.4765, 4379,   1537.3,   3.0454,  34.5965,2,   -999.0,9,  34.5977,2,   -999.0,9,  -999.00,9,  -999.00,9,  -999.00,9,  -999.00,9,  -999.00,9, -999.000,9, -999.000,9,  -999.00,9,   -999.0,9,   -999.0,9,-999.0000,9,   -999.0,  9,  -999.00,9,   -999.0,  -999.00,9,  -999.00,9,  -999.00,9,  -999.00,9,   -999.0,-999.0000, -999,9, 1523,   2.9338,  27.5690,   -999.0,9
       RF01-10,  NONE,RF-1482,  1,     -9,      -9,5,20011115,0501,  3.9962, 148.1280, 3719,      0.0,  30.1717,  33.8911,2,   -999.0,9,-999.0000,9,   -999.0,9,  -999.00,9,  -999.00,9,  -999.00,9,  -999.00,9,  -999.00,9, -999.000,9, -999.000,9,  -999.00,9,   -999.0,9,   -999.0,9,-999.0000,9,   -999.0,  9,  -999.00,9,   -999.0,  -999.00,9,  -999.00,9,  -999.00,9,  -999.00,9,   -999.0,-999.0000, -999,9,    0,  30.1717,  20.8366,   -999.0,9
       RF01-10,  NONE,RF-1482,  1,     19,02-12825,2,20011115,0458,  3.9962, 148.1280, 3719,     12.4,  29.9569,  33.8854,2,   -999.0,9,-999.0000,9,   -999.0,9,  -999.00,9,  -999.00,9,  -999.00,9,  -999.00,9,  -999.00,9, -999.000,9, -999.000,9,  -999.00,9,   -999.0,9,   -999.0,9,-999.0000,9,   -999.0,  9,  -999.00,9,   -999.0,  -999.00,9,  -999.00,9,  -999.00,9,  -999.00,9,   -999.0,-999.0000, -999,9,   12,  29.9538,  20.9065,   -999.0,9
       RF01-10,  NONE,RF-1482,  1,     18,02-12830,2,20011115,0457,  3.9962, 148.1280, 3719,     27.1,  29.9318,  33.9611,2,   -999.0,9,-999.0000,9,   -999.0,9,  -999.00,9,  -999.00,9,  -999.00,9,  -999.00,9,  -999.00,9, -999.000,9, -999.000,9,  -999.00,9,   -999.0,9,   -999.0,9,-999.0000,9,   -999.0,  9,  -999.00,9,   -999.0,  -999.00,9,  -999.00,9,  -999.00,9,  -999.00,9,   -999.0,-999.0000, -999,9,   27,  29.9251,  20.9730,   -999.0,9
       RF01-10,  NONE,RF-1482,  1,     17,02-12815,2,20011115,0456,  3.9962, 148.1280, 3719,     52.6,  28.7851,  34.2762,2,   -999.0,9,-999.0000,9,   -999.0,9,  -999.00,9,  -999.00,9,  -999.00,9,  -999.00,9,  -999.00,9, -999.000,9, -999.000,9,  -999.00,9,   -999.0,9,   -999.0,9,-999.0000,9,   -999.0,  9,  -999.00,9,   -999.0,  -999.00,9,  -999.00,9,  -999.00,9,  -999.00,9,   -999.0,-999.0000, -999,9,   52,  28.7725,  21.5964,   -999.0,9
       RF01-10,  NONE,RF-1482,  1,     16,02-12818,2,20011115,0454,  3.9962, 148.1280, 3719,     77.5,  28.1676,  34.3311,2,   -999.0,9,-999.0000,9,   -999.0,9,  -999.00,9,  -999.00,9,  -999.00,9,  -999.00,9,  -999.00,9, -999.000,9, -999.000,9,  -999.00,9,   -999.0,9,   -999.0,9,-999.0000,9,   -999.0,  9,  -999.00,9,   -999.0,  -999.00,9,  -999.00,9,  -999.00,9,  -999.00,9,   -999.0,-999.0000, -999,9,   77,  28.1493,  21.8429,   -999.0,9
       RF01-10,  NONE,RF-1482,  1,     15,02-12809,2,20011115,0453,  3.9962, 148.1280, 3719,    103.7,  26.6496,  34.8495,2,   -999.0,9,-999.0000,9,   -999.0,9,  -999.00,9,  -999.00,9,  -999.00,9,  -999.00,9,  -999.00,9, -999.000,9, -999.000,9,  -999.00,9,   -999.0,9,   -999.0,9,-999.0000,9,   -999.0,  9,  -999.00,9,   -999.0,  -999.00,9,  -999.00,9,  -999.00,9,  -999.00,9,   -999.0,-999.0000, -999,9,  103,  26.6261,  22.7232,   -999.0,9
       RF01-10,  NONE,RF-1482,  1,     14,02-12817,2,20011115,0452,  3.9962, 148.1280, 3719,    128.2,  26.6535,  35.2942,2,   -999.0,9,-999.0000,9,   -999.0,9,  -999.00,9,  -999.00,9,  -999.00,9,  -999.00,9,  -999.00,9, -999.000,9, -999.000,9,  -999.00,9,   -999.0,9,   -999.0,9,-999.0000,9,   -999.0,  9,  -999.00,9,   -999.0,  -999.00,9,  -999.00,9,  -999.00,9,  -999.00,9,   -999.0,-999.0000, -999,9,  127,  26.6243,  23.0589,   -999.0,9
       RF01-10,  NONE,RF-1482,  1,     13,02-15822,2,20011115,0450,  3.9962, 148.1280, 3719,    152.9,  25.2254,  35.2963,2,   -999.0,9,-999.0000,9,   -999.0,9,  -999.00,9,  -999.00,9,  -999.00,9,  -999.00,9,  -999.00,9, -999.000,9, -999.000,9,  -999.00,9,   -999.0,9,   -999.0,9,-999.0000,9,   -999.0,  9,  -999.00,9,   -999.0,  -999.00,9,  -999.00,9,  -999.00,9,  -999.00,9,   -999.0,-999.0000, -999,9,  152,  25.1920,  23.5066,   -999.0,9
       RF01-10,  NONE,RF-1482,  1,     12,02-12821,2,20011115,0449,  3.9962, 148.1280, 3719,    203.5,  15.0325,  34.6108,2,   -999.0,9,-999.0000,9,   -999.0,9,  -999.00,9,  -999.00,9,  -999.00,9,  -999.00,9,  -999.00,9, -999.000,9, -999.000,9,  -999.00,9,   -999.0,9,   -999.0,9,-999.0000,9,   -999.0,  9,  -999.00,9,   -999.0,  -999.00,9,  -999.00,9,  -999.00,9,  -999.00,9,   -999.0,-999.0000, -999,9,  202,  15.0017,  25.6715,   -999.0,9
       RF01-10,  NONE,RF-1482,  1,     11,02-15823,2,20011115,0447,  3.9962, 148.1280, 3719,    254.0,  11.4179,  34.5576,2,   -999.0,9,-999.0000,9,   -999.0,9,  -999.00,9,  -999.00,9,  -999.00,9,  -999.00,9,  -999.00,9, -999.000,9, -999.000,9,  -999.00,9,   -999.0,9,   -999.0,9,-999.0000,9,   -999.0,  9,  -999.00,9,   -999.0,  -999.00,9,  -999.00,9,  -999.00,9,  -999.00,9,   -999.0,-999.0000, -999,9,  252,  11.3859,  26.3606,   -999.0,9
       RF01-10,  NONE,RF-1482,  1,     10,02-12820,2,20011115,0445,  3.9962, 148.1280, 3719,    305.0,   9.5125,  34.5991,2,   -999.0,9,-999.0000,9,   -999.0,9,  -999.00,9,  -999.00,9,  -999.00,9,  -999.00,9,  -999.00,9, -999.000,9, -999.000,9,  -999.00,9,   -999.0,9,   -999.0,9,-999.0000,9,   -999.0,  9,  -999.00,9,   -999.0,  -999.00,9,  -999.00,9,  -999.00,9,  -999.00,9,   -999.0,-999.0000, -999,9,  303,   9.4782,  26.7265,   -999.0,9
       RF01-10,  NONE,RF-1482,  1,      9,02-12810,2,20011115,0442,  3.9962, 148.1280, 3719,    405.1,   8.3970,  34.5635,2,   -999.0,9,-999.0000,9,   -999.0,9,  -999.00,9,  -999.00,9,  -999.00,9,  -999.00,9,  -999.00,9, -999.000,9, -999.000,9,  -999.00,9,   -999.0,9,   -999.0,9,-999.0000,9,   -999.0,  9,  -999.00,9,   -999.0,  -999.00,9,  -999.00,9,  -999.00,9,  -999.00,9,   -999.0,-999.0000, -999,9,  402,   8.3545,  26.8774,   -999.0,9
       RF01-10,  NONE,RF-1482,  1,      8,02-12819,2,20011115,0438,  3.9962, 148.1280, 3719,    507.5,   7.7291,  34.5782,2,   -999.0,9,-999.0000,9,   -999.0,9,  -999.00,9,  -999.00,9,  -999.00,9,  -999.00,9,  -999.00,9, -999.000,9, -999.000,9,  -999.00,9,   -999.0,9,   -999.0,9,-999.0000,9,   -999.0,  9,  -999.00,9,   -999.0,  -999.00,9,  -999.00,9,  -999.00,9,  -999.00,9,   -999.0,-999.0000, -999,9,  504,   7.6780,  26.9901,   -999.0,9
       RF01-10,  NONE,RF-1482,  1,      7,02-15821,2,20011115,0435,  3.9962, 148.1280, 3719,    608.1,   7.3222,  34.5558,2,   -999.0,9,-999.0000,9,   -999.0,9,  -999.00,9,  -999.00,9,  -999.00,9,  -999.00,9,  -999.00,9, -999.000,9, -999.000,9,  -999.00,9,   -999.0,9,   -999.0,9,-999.0000,9,   -999.0,  9,  -999.00,9,   -999.0,  -999.00,9,  -999.00,9,  -999.00,9,  -999.00,9,   -999.0,-999.0000, -999,9,  604,   7.2625,  27.0321,   -999.0,9
       RF01-10,  NONE,RF-1482,  1,      6,02-13588,2,20011115,0432,  3.9962, 148.1280, 3719,    708.9,   6.3477,  34.5368,2,   -999.0,9,-999.0000,9,   -999.0,9,  -999.00,9,  -999.00,9,  -999.00,9,  -999.00,9,  -999.00,9, -999.000,9, -999.000,9,  -999.00,9,   -999.0,9,   -999.0,9,-999.0000,9,   -999.0,  9,  -999.00,9,   -999.0,  -999.00,9,  -999.00,9,  -999.00,9,  -999.00,9,   -999.0,-999.0000, -999,9,  704,   6.2828,  27.1503,   -999.0,9
       RF01-10,  NONE,RF-1482,  1,      5,02-10155,2,20011115,0428,  3.9962, 148.1280, 3719,    810.1,   5.6968,  34.5363,2,   -999.0,9,-999.0000,9,   -999.0,9,  -999.00,9,  -999.00,9,  -999.00,9,  -999.00,9,  -999.00,9, -999.000,9, -999.000,9,  -999.00,9,   -999.0,9,   -999.0,9,-999.0000,9,   -999.0,  9,  -999.00,9,   -999.0,  -999.00,9,  -999.00,9,  -999.00,9,  -999.00,9,   -999.0,-999.0000, -999,9,  804,   5.6261,  27.2330,   -999.0,9
       RF01-10,  NONE,RF-1482,  1,      4,02-13579,2,20011115,0425,  3.9962, 148.1280, 3719,    910.5,   5.1531,  34.5386,2,   -999.0,9,-999.0000,9,   -999.0,9,  -999.00,9,  -999.00,9,  -999.00,9,  -999.00,9,  -999.00,9, -999.000,9, -999.000,9,  -999.00,9,   -999.0,9,   -999.0,9,-999.0000,9,   -999.0,  9,  -999.00,9,   -999.0,  -999.00,9,  -999.00,9,  -999.00,9,  -999.00,9,   -999.0,-999.0000, -999,9,  903,   5.0767,  27.3005,   -999.0,9
       RF01-10,  NONE,RF-1482,  1,      3,02-13590,2,20011115,0422,  3.9962, 148.1280, 3719,   1011.2,   4.6818,  34.5500,2,   -999.0,9,-999.0000,9,   -999.0,9,  -999.00,9,  -999.00,9,  -999.00,9,  -999.00,9,  -999.00,9, -999.000,9, -999.000,9,  -999.00,9,   -999.0,9,   -999.0,9,-999.0000,9,   -999.0,  9,  -999.00,9,   -999.0,  -999.00,9,  -999.00,9,  -999.00,9,  -999.00,9,   -999.0,-999.0000, -999,9, 1003,   4.5998,  27.3638,   -999.0,9
       RF01-10,  NONE,RF-1482,  1,      2,02-13589,2,20011115,0416,  3.9962, 148.1280, 3719,   1264.2,   3.8641,  34.5705,2,   -999.0,9,-999.0000,9,   -999.0,9,  -999.00,9,  -999.00,9,  -999.00,9,  -999.00,9,  -999.00,9, -999.000,9, -999.000,9,  -999.00,9,   -999.0,9,   -999.0,9,-999.0000,9,   -999.0,  9,  -999.00,9,   -999.0,  -999.00,9,  -999.00,9,  -999.00,9,  -999.00,9,   -999.0,-999.0000, -999,9, 1253,   3.7671,  27.4683,   -999.0,9
       RF01-10,  NONE,RF-1482,  1,      1,02-12807,2,20011115,0410,  3.9962, 148.1280, 3719,   1534.5,   3.2072,  34.5937,2,   -999.0,9,-999.0000,9,   -999.0,9,  -999.00,9,  -999.00,9,  -999.00,9,  -999.00,9,  -999.00,9, -999.000,9, -999.000,9,  -999.00,9,   -999.0,9,   -999.0,9,-999.0000,9,   -999.0,  9,  -999.00,9,   -999.0,  -999.00,9,  -999.00,9,  -999.00,9,  -999.00,9,   -999.0,-999.0000, -999,9, 1520,   3.0940,  27.5521,   -999.0,9