BOTTLE,20130510GEMDJMAYT
EXPOCODE,SECT_ID,STNNBR,CASTNO,SAMPNO,BTLNBR,BTLNBR_FLAG_W,DATE,TIME,LATITUDE,LONGITUDE,DEPTH,CTDPRS,CTDTMP,CTDSAL,CTDSAL_FLAG_W,CTDOXY,CTDOXY_FLAG_W,SALNTY,SALNTY_FLAG_W,OXYGEN,OXYGEN_FLAG_W,SILCAT,SILCAT_FLAG_W,NITRAT,NITRAT_FLAG_W,NO2+NO3,NO2+NO3_FLAG_W,NITRIT,NITRIT_FLAG_W,PHSPHT,PHSPHT_FLAG_W,CFC-11,CFC-11_FLAG_W,CFC-12,CFC-12_FLAG_W,DELC13,DELC13_FLAG_W,TCARBN,TCARBN_FLAG_W,ALKALI,ALKALI_FLAG_W,PH,PH_FLAG_W,PH_TMP,PH_SCALE,PH_NBS,PH_NBS_FLAG_W,C13ERR,TOTALP,TOTALP_FLAG_W,AMMONI,AMMONI_FLAG_W,CHLORA,CHLORA_FLAG_W,PPHYTN,PPHYTN_FLAG_W,REVPRS,REVTMP,DEPTH_,DEPTH_FLAG,CTDDEP,THETA,SIGTHT,DOC,DOC_FLAG_W
,,,,,,,GMT,GMT,,,METER,DBAR,ITS-90,PSS-78,,UMOL/KG,,PSS-78,,UMOL/KG,,UMOL/KG,,UMOL/KG,,UMOL/KG,,UMOL/KG,,UMOL/KG,,PMOL/KG,,PMOL/KG,,/MILLE,,UMOL/KG,,UMOL/KG,,25_DEG_C,,DEG_C,,,,/MILLE,UMOL/KG,,UMOL/KG,,UG/L,,UG/L,,DBAR,ITS-90,METERS,,METERS,DEG_C,,UMOL/L,
       RF01-10,  NONE,RF-1452,  1,     -9,      -9,5,20011025,1042,  8.0023, 163.9992, 5141,      0.0,  29.3844,  34.3438,2,   -999.0,9,-999.0000,9,   -999.0,9,  -999.00,9,  -999.00,9,  -999.00,9,  -999.00,9,  -999.00,9,    1.644,2,    0.974,2,  -999.00,9,   -999.0,9,   -999.0,9,-999.0000,9,   -999.0,  9,  -999.00,9,   -999.0,  -999.00,9,  -999.00,9,  -999.00,9,  -999.00,9,   -999.0,-999.0000, -999,9,    0,  29.3844,  21.4427,   -999.0,9
       RF01-10,  NONE,RF-1452,  1,     21, 02-9150,2,20011025,1040,  8.0023, 163.9992, 5141,      7.4,  29.3925,  34.3433,2,   -999.0,9,-999.0000,9,   -999.0,9,  -999.00,9,  -999.00,9,  -999.00,9,  -999.00,9,  -999.00,9,    1.644,2,    0.974,2,  -999.00,9,   -999.0,9,   -999.0,9,-999.0000,9,   -999.0,  9,  -999.00,9,   -999.0,  -999.00,9,  -999.00,9,  -999.00,9,  -999.00,9,   -999.0,-999.0000, -999,9,    7,  29.3907,  21.4402,   -999.0,9
       RF01-10,  NONE,RF-1452,  1,     20,02-12826,2,20011025,1038,  8.0023, 163.9992, 5141,     22.2,  29.2787,  34.6278,2,   -999.0,9,-999.0000,9,   -999.0,9,  -999.00,9,  -999.00,9,  -999.00,9,  -999.00,9,  -999.00,9,    1.646,2,    0.975,2,  -999.00,9,   -999.0,9,   -999.0,9,-999.0000,9,   -999.0,  9,  -999.00,9,   -999.0,  -999.00,9,  -999.00,9,  -999.00,9,  -999.00,9,   -999.0,-999.0000, -999,9,   22,  29.2733,  21.6931,   -999.0,9
       RF01-10,  NONE,RF-1452,  1,     19,02-12825,2,20011025,1037,  8.0023, 163.9992, 5141,     47.5,  28.3914,  34.7942,2,   -999.0,9,-999.0000,9,   -999.0,9,  -999.00,9,  -999.00,9,  -999.00,9,  -999.00,9,  -999.00,9,    1.699,2,    1.002,2,  -999.00,9,   -999.0,9,   -999.0,9,-999.0000,9,   -999.0,  9,  -999.00,9,   -999.0,  -999.00,9,  -999.00,9,  -999.00,9,  -999.00,9,   -999.0,-999.0000, -999,9,   47,  28.3801,  22.1152,   -999.0,9
       RF01-10,  NONE,RF-1452,  1,     18,02-12830,2,20011025,1035,  8.0023, 163.9992, 5141,     73.0,  25.6582,  34.9006,2,   -999.0,9,-999.0000,9,   -999.0,9,  -999.00,9,  -999.00,9,  -999.00,9,  -999.00,9,  -999.00,9,    1.899,2,    1.100,2,  -999.00,9,   -999.0,9,   -999.0,9,-999.0000,9,   -999.0,  9,  -999.00,9,   -999.0,  -999.00,9,  -999.00,9,  -999.00,9,  -999.00,9,   -999.0,-999.0000, -999,9,   73,  25.6421,  23.0694,   -999.0,9
       RF01-10,  NONE,RF-1452,  1,     17,02-12815,2,20011025,1033,  8.0023, 163.9992, 5141,     98.5,  21.9997,  34.9559,2,   -999.0,9,  34.9377,4,   -999.0,9,  -999.00,9,  -999.00,9,  -999.00,9,  -999.00,9,  -999.00,9,    2.250,2,    1.247,2,  -999.00,9,   -999.0,9,   -999.0,9,-999.0000,9,   -999.0,  9,  -999.00,9,   -999.0,  -999.00,9,  -999.00,9,  -999.00,9,  -999.00,9,   -999.0,-999.0000, -999,9,   98,  21.9803,  24.1898,   -999.0,9
       RF01-10,  NONE,RF-1452,  1,     16,02-12818,2,20011025,1032,  8.0023, 163.9992, 5141,    122.9,  17.3416,  34.9011,2,   -999.0,9,-999.0000,9,   -999.0,9,  -999.00,9,  -999.00,9,  -999.00,9,  -999.00,9,  -999.00,9,    2.588,2,    1.405,2,  -999.00,9,   -999.0,9,   -999.0,9,-999.0000,9,   -999.0,  9,  -999.00,9,   -999.0,  -999.00,9,  -999.00,9,  -999.00,9,  -999.00,9,   -999.0,-999.0000, -999,9,  122,  17.3211,  25.3616,   -999.0,9
       RF01-10,  NONE,RF-1452,  1,     15,02-12809,2,20011025,1030,  8.0023, 163.9992, 5141,    147.2,  14.2175,  34.5374,2,   -999.0,9,-999.0000,9,   -999.0,9,  -999.00,9,  -999.00,9,  -999.00,9,  -999.00,9,  -999.00,9,    2.489,2,    1.538,2,  -999.00,9,   -999.0,9,   -999.0,9,-999.0000,9,   -999.0,  9,  -999.00,9,   -999.0,  -999.00,9,  -999.00,9,  -999.00,9,  -999.00,9,   -999.0,-999.0000, -999,9,  146,  14.1961,  25.7883,   -999.0,9
       RF01-10,  NONE,RF-1452,  1,     14,02-12817,2,20011025,1028,  8.0023, 163.9992, 5141,    197.4,  10.6679,  34.5593,2,   -999.0,9,  34.5657,2,   -999.0,9,  -999.00,9,  -999.00,9,  -999.00,9,  -999.00,9,  -999.00,9,    1.109,2,    0.428,2,  -999.00,9,   -999.0,9,   -999.0,9,-999.0000,9,   -999.0,  9,  -999.00,9,   -999.0,  -999.00,9,  -999.00,9,  -999.00,9,  -999.00,9,   -999.0,-999.0000, -999,9,  196,  10.6442,  26.4959,   -999.0,9
       RF01-10,  NONE,RF-1452,  1,     13,02-15822,2,20011025,1026,  8.0023, 163.9992, 5141,    247.4,   9.9992,  34.6236,2,   -999.0,9,-999.0000,9,   -999.0,9,  -999.00,9,  -999.00,9,  -999.00,9,  -999.00,9,  -999.00,9,    0.633,2,    0.221,2,  -999.00,9,   -999.0,9,   -999.0,9,-999.0000,9,   -999.0,  9,  -999.00,9,   -999.0,  -999.00,9,  -999.00,9,  -999.00,9,  -999.00,9,   -999.0,-999.0000, -999,9,  246,   9.9706,  26.6631,   -999.0,9
       RF01-10,  NONE,RF-1452,  1,     12,02-12821,2,20011025,1024,  8.0023, 163.9992, 5141,    298.5,   9.7007,  34.6288,2,   -999.0,9,  34.6351,2,   -999.0,9,  -999.00,9,  -999.00,9,  -999.00,9,  -999.00,9,  -999.00,9,    0.524,2,    0.181,2,  -999.00,9,   -999.0,9,   -999.0,9,-999.0000,9,   -999.0,  9,  -999.00,9,   -999.0,  -999.00,9,  -999.00,9,  -999.00,9,  -999.00,9,   -999.0,-999.0000, -999,9,  297,   9.6667,  26.7183,   -999.0,9
       RF01-10,  NONE,RF-1452,  1,     11,02-15823,2,20011025,1021,  8.0023, 163.9992, 5141,    398.9,   9.1294,  34.6177,2,   -999.0,9,  34.6237,2,   -999.0,9,  -999.00,9,  -999.00,9,  -999.00,9,  -999.00,9,  -999.00,9,    0.394,2,    0.169,2,  -999.00,9,   -999.0,9,   -999.0,9,-999.0000,9,   -999.0,  9,  -999.00,9,   -999.0,  -999.00,9,  -999.00,9,  -999.00,9,  -999.00,9,   -999.0,-999.0000, -999,9,  396,   9.0854,  26.8050,   -999.0,9
       RF01-10,  NONE,RF-1452,  1,     10,02-12820,2,20011025,1018,  8.0023, 163.9992, 5141,    499.9,   8.2699,  34.5904,2,   -999.0,9,  34.5960,2,   -999.0,9,  -999.00,9,  -999.00,9,  -999.00,9,  -999.00,9,  -999.00,9,    0.310,2,    0.059,2,  -999.00,9,   -999.0,9,   -999.0,9,-999.0000,9,   -999.0,  9,  -999.00,9,   -999.0,  -999.00,9,  -999.00,9,  -999.00,9,  -999.00,9,   -999.0,-999.0000, -999,9,  497,   8.2176,  26.9194,   -999.0,9
       RF01-10,  NONE,RF-1452,  1,      9,02-12810,2,20011025,1015,  8.0023, 163.9992, 5141,    600.0,   7.8022,  34.5741,2,   -999.0,9,  34.5883,2,   -999.0,9,  -999.00,9,  -999.00,9,  -999.00,9,  -999.00,9,  -999.00,9,    0.163,2,    0.060,2,  -999.00,9,   -999.0,9,   -999.0,9,-999.0000,9,   -999.0,  9,  -999.00,9,   -999.0,  -999.00,9,  -999.00,9,  -999.00,9,  -999.00,9,   -999.0,-999.0000, -999,9,  596,   7.7412,  26.9776,   -999.0,9
       RF01-10,  NONE,RF-1452,  1,      8,02-12819,2,20011025,1012,  8.0023, 163.9992, 5141,    701.9,   6.8311,  34.5436,2,   -999.0,9,  34.5458,2,   -999.0,9,  -999.00,9,  -999.00,9,  -999.00,9,  -999.00,9,  -999.00,9,    0.098,2,    0.030,2,  -999.00,9,   -999.0,9,   -999.0,9,-999.0000,9,   -999.0,  9,  -999.00,9,   -999.0,  -999.00,9,  -999.00,9,  -999.00,9,  -999.00,9,   -999.0,-999.0000, -999,9,  697,   6.7643,  27.0915,   -999.0,9
       RF01-10,  NONE,RF-1452,  1,      7,02-15821,2,20011025,1009,  8.0023, 163.9992, 5141,    803.1,   5.8092,  34.5321,2,   -999.0,9,  34.5352,2,   -999.0,9,  -999.00,9,  -999.00,9,  -999.00,9,  -999.00,9,  -999.00,9,    0.043,2,    0.018,2,  -999.00,9,   -999.0,9,   -999.0,9,-999.0000,9,   -999.0,  9,  -999.00,9,   -999.0,  -999.00,9,  -999.00,9,  -999.00,9,  -999.00,9,   -999.0,-999.0000, -999,9,  797,   5.7384,  27.2158,   -999.0,9
       RF01-10,  NONE,RF-1452,  1,      6,02-13588,2,20011025,1006,  8.0023, 163.9992, 5141,    905.1,   5.1487,  34.5382,2,   -999.0,9,-999.0000,9,   -999.0,9,  -999.00,9,  -999.00,9,  -999.00,9,  -999.00,9,  -999.00,9,    0.014,2,    0.009,2,  -999.00,9,   -999.0,9,   -999.0,9,-999.0000,9,   -999.0,  9,  -999.00,9,   -999.0,  -999.00,9,  -999.00,9,  -999.00,9,  -999.00,9,   -999.0,-999.0000, -999,9,  898,   5.0729,  27.3007,   -999.0,9
       RF01-10,  NONE,RF-1452,  1,      5,02-10155,2,20011025,1003,  8.0023, 163.9992, 5141,   1005.6,   4.7104,  34.5471,2,   -999.0,9,  34.5490,2,   -999.0,9,  -999.00,9,  -999.00,9,  -999.00,9,  -999.00,9,  -999.00,9,    0.000,2,    0.007,2,  -999.00,9,   -999.0,9,   -999.0,9,-999.0000,9,   -999.0,  9,  -999.00,9,   -999.0,  -999.00,9,  -999.00,9,  -999.00,9,  -999.00,9,   -999.0,-999.0000, -999,9,  998,   4.6287,  27.3583,   -999.0,9
       RF01-10,  NONE,RF-1452,  1,      4,02-13579,2,20011025,0957,  8.0023, 163.9992, 5141,   1257.7,   3.8108,  34.5726,2,   -999.0,9,  34.5712,2,   -999.0,9,  -999.00,9,  -999.00,9,  -999.00,9,  -999.00,9,  -999.00,9,    0.000,2,    0.003,2,  -999.00,9,   -999.0,9,   -999.0,9,-999.0000,9,   -999.0,  9,  -999.00,9,   -999.0,  -999.00,9,  -999.00,9,  -999.00,9,  -999.00,9,   -999.0,-999.0000, -999,9, 1247,   3.7149,  27.4753,   -999.0,9
       RF01-10,  NONE,RF-1452,  1,      3,02-13590,2,20011025,0951,  8.0023, 163.9992, 5141,   1513.0,   3.0474,  34.5980,2,   -999.0,9,  34.5968,2,   -999.0,9,  -999.00,9,  -999.00,9,  -999.00,9,  -999.00,9,  -999.00,9,    0.000,2,    0.000,2,  -999.00,9,   -999.0,9,   -999.0,9,-999.0000,9,   -999.0,  9,  -999.00,9,   -999.0,  -999.00,9,  -999.00,9,  -999.00,9,  -999.00,9,   -999.0,-999.0000, -999,9, 1499,   2.9379,  27.5699,   -999.0,9
       RF01-10,  NONE,RF-1452,  1,      2,02-13589,2,20011025,0945,  8.0023, 163.9992, 5141,   1767.0,   2.5308,  34.6194,2,   -999.0,9,  34.6182,2,   -999.0,9,  -999.00,9,  -999.00,9,  -999.00,9,  -999.00,9,  -999.00,9,    0.000,2,    0.000,2,  -999.00,9,   -999.0,9,   -999.0,9,-999.0000,9,   -999.0,  9,  -999.00,9,   -999.0,  -999.00,9,  -999.00,9,  -999.00,9,  -999.00,9,   -999.0,-999.0000, -999,9, 1750,   2.4063,  27.6335,   -999.0,9
       RF01-10,  NONE,RF-1452,  1,      1,02-12807,2,20011025,0939,  8.0023, 163.9992, 5141,   2040.7,   2.1619,  34.6396,2,   -999.0,9,  34.6373,2,   -999.0,9,  -999.00,9,  -999.00,9,  -999.00,9,  -999.00,9,  -999.00,9,    0.000,2,    0.000,2,  -999.00,9,   -999.0,9,   -999.0,9,-999.0000,9,   -999.0,  9,  -999.00,9,   -999.0,  -999.00,9,  -999.00,9,  -999.00,9,  -999.00,9,   -999.0,-999.0000, -999,9, 2019,   2.0195,  27.6814,   -999.0,9