BOTTLE,20130510GEMDJMAYT
EXPOCODE,SECT_ID,STNNBR,CASTNO,SAMPNO,BTLNBR,BTLNBR_FLAG_W,DATE,TIME,LATITUDE,LONGITUDE,DEPTH,CTDPRS,CTDTMP,CTDSAL,CTDSAL_FLAG_W,CTDOXY,CTDOXY_FLAG_W,SALNTY,SALNTY_FLAG_W,OXYGEN,OXYGEN_FLAG_W,SILCAT,SILCAT_FLAG_W,NITRAT,NITRAT_FLAG_W,NO2+NO3,NO2+NO3_FLAG_W,NITRIT,NITRIT_FLAG_W,PHSPHT,PHSPHT_FLAG_W,CFC-11,CFC-11_FLAG_W,CFC-12,CFC-12_FLAG_W,DELC13,DELC13_FLAG_W,TCARBN,TCARBN_FLAG_W,ALKALI,ALKALI_FLAG_W,PH,PH_FLAG_W,PH_TMP,PH_SCALE,PH_NBS,PH_NBS_FLAG_W,C13ERR,TOTALP,TOTALP_FLAG_W,AMMONI,AMMONI_FLAG_W,CHLORA,CHLORA_FLAG_W,PPHYTN,PPHYTN_FLAG_W,REVPRS,REVTMP,DEPTH_,DEPTH_FLAG,CTDDEP,THETA,SIGTHT,DOC,DOC_FLAG_W
,,,,,,,GMT,GMT,,,METER,DBAR,ITS-90,PSS-78,,UMOL/KG,,PSS-78,,UMOL/KG,,UMOL/KG,,UMOL/KG,,UMOL/KG,,UMOL/KG,,UMOL/KG,,PMOL/KG,,PMOL/KG,,/MILLE,,UMOL/KG,,UMOL/KG,,25_DEG_C,,DEG_C,,,,/MILLE,UMOL/KG,,UMOL/KG,,UG/L,,UG/L,,DBAR,ITS-90,METERS,,METERS,DEG_C,,UMOL/L,
       RF01-10,  165E,RF-1437,  1,     -9,      -9,5,20011020,1343, 20.5050, 164.9870, 5429,      0.0,  28.6412,  34.7706,2,   -999.0,9,-999.0000,9,   -999.0,9,  -999.00,9,  -999.00,9,  -999.00,9,  -999.00,9,  -999.00,9,    1.683,2,    0.994,2,  -999.00,9,   -999.0,9,   -999.0,9,-999.0000,9,   -999.0,  9,  -999.00,9,   -999.0,  -999.00,9,  -999.00,9,  -999.00,9,  -999.00,9,   -999.0,-999.0000, -999,9,    0,  28.6412,  22.0112,   -999.0,9
       RF01-10,  165E,RF-1437,  1,     24,02-10154,2,20011021,1341, 20.5050, 164.9870, 5429,      4.5,  28.6426,  34.7681,2,   -999.0,9,-999.0000,9,   -999.0,9,  -999.00,9,  -999.00,9,  -999.00,9,  -999.00,9,  -999.00,9,    1.683,2,    0.994,2,  -999.00,9,   -999.0,9,   -999.0,9,-999.0000,9,   -999.0,  9,  -999.00,9,   -999.0,  -999.00,9,  -999.00,9,  -999.00,9,  -999.00,9,   -999.0,-999.0000, -999,9,    5,  28.6415,  22.0092,   -999.0,9
       RF01-10,  165E,RF-1437,  1,     23,02-12829,2,20011021,1339, 20.5050, 164.9870, 5429,     19.3,  28.6510,  34.7694,2,   -999.0,9,-999.0000,9,   -999.0,9,  -999.00,9,  -999.00,9,  -999.00,9,  -999.00,9,  -999.00,9,    1.683,2,    0.994,2,  -999.00,9,   -999.0,9,   -999.0,9,-999.0000,9,   -999.0,  9,  -999.00,9,   -999.0,  -999.00,9,  -999.00,9,  -999.00,9,  -999.00,9,   -999.0,-999.0000, -999,9,   19,  28.6464,  22.0085,   -999.0,9
       RF01-10,  165E,RF-1437,  1,     22,02-12828,2,20011021,1338, 20.5050, 164.9870, 5429,     44.6,  28.6501,  34.7787,2,   -999.0,9,-999.0000,9,   -999.0,9,  -999.00,9,  -999.00,9,  -999.00,9,  -999.00,9,  -999.00,9,    1.683,2,    0.994,2,  -999.00,9,   -999.0,9,   -999.0,9,-999.0000,9,   -999.0,  9,  -999.00,9,   -999.0,  -999.00,9,  -999.00,9,  -999.00,9,  -999.00,9,   -999.0,-999.0000, -999,9,   44,  28.6394,  22.0179,   -999.0,9
       RF01-10,  165E,RF-1437,  1,     21, 02-9150,2,20011021,1337, 20.5050, 164.9870, 5429,     69.4,  27.9055,  35.1740,2,   -999.0,9,-999.0000,9,   -999.0,9,  -999.00,9,  -999.00,9,  -999.00,9,  -999.00,9,  -999.00,9,    1.725,2,    1.015,2,  -999.00,9,   -999.0,9,   -999.0,9,-999.0000,9,   -999.0,  9,  -999.00,9,   -999.0,  -999.00,9,  -999.00,9,  -999.00,9,  -999.00,9,   -999.0,-999.0000, -999,9,   69,  27.8892,  22.5617,   -999.0,9
       RF01-10,  165E,RF-1437,  1,     20,02-12826,2,20011021,1335, 20.5050, 164.9870, 5429,     94.3,  25.4176,  35.2895,2,   -999.0,9,  35.2911,2,   -999.0,9,  -999.00,9,  -999.00,9,  -999.00,9,  -999.00,9,  -999.00,9,    1.900,2,    1.105,2,  -999.00,9,   -999.0,9,   -999.0,9,-999.0000,9,   -999.0,  9,  -999.00,9,   -999.0,  -999.00,9,  -999.00,9,  -999.00,9,  -999.00,9,   -999.0,-999.0000, -999,9,   94,  25.3969,  23.4386,   -999.0,9
       RF01-10,  165E,RF-1437,  1,     19,02-12825,2,20011021,1334, 20.5050, 164.9870, 5429,    120.6,  22.8093,  35.1201,2,   -999.0,9,-999.0000,9,   -999.0,9,  -999.00,9,  -999.00,9,  -999.00,9,  -999.00,9,  -999.00,9,    2.120,2,    1.217,2,  -999.00,9,   -999.0,9,   -999.0,9,-999.0000,9,   -999.0,  9,  -999.00,9,   -999.0,  -999.00,9,  -999.00,9,  -999.00,9,  -999.00,9,   -999.0,-999.0000, -999,9,  120,  22.7848,  24.0866,   -999.0,9
       RF01-10,  165E,RF-1437,  1,     18,02-12830,2,20011021,1333, 20.5050, 164.9870, 5429,    144.9,  20.5227,  34.9474,2,   -999.0,9,-999.0000,9,   -999.0,9,  -999.00,9,  -999.00,9,  -999.00,9,  -999.00,9,  -999.00,9,    2.358,2,    1.330,2,  -999.00,9,   -999.0,9,   -999.0,9,-999.0000,9,   -999.0,  9,  -999.00,9,   -999.0,  -999.00,9,  -999.00,9,  -999.00,9,  -999.00,9,   -999.0,-999.0000, -999,9,  144,  20.4955,  24.5900,   -999.0,9
       RF01-10,  165E,RF-1437,  1,     17,02-12815,2,20011021,1331, 20.5050, 164.9870, 5429,    194.8,  18.2268,  34.8149,2,   -999.0,9,  34.8331,2,   -999.0,9,  -999.00,9,  -999.00,9,  -999.00,9,  -999.00,9,  -999.00,9,    2.645,2,    1.449,2,  -999.00,9,   -999.0,9,   -999.0,9,-999.0000,9,   -999.0,  9,  -999.00,9,   -999.0,  -999.00,9,  -999.00,9,  -999.00,9,  -999.00,9,   -999.0,-999.0000, -999,9,  194,  18.1931,  25.0825,   -999.0,9
       RF01-10,  165E,RF-1437,  1,     16,02-12818,2,20011021,1329, 20.5050, 164.9870, 5429,    244.4,  16.5278,  34.6907,2,   -999.0,9,-999.0000,9,   -999.0,9,  -999.00,9,  -999.00,9,  -999.00,9,  -999.00,9,  -999.00,9,    2.897,2,    1.537,2,  -999.00,9,   -999.0,9,   -999.0,9,-999.0000,9,   -999.0,  9,  -999.00,9,   -999.0,  -999.00,9,  -999.00,9,  -999.00,9,  -999.00,9,   -999.0,-999.0000, -999,9,  243,  16.4883,  25.3971,   -999.0,9
       RF01-10,  165E,RF-1437,  1,     15,02-12809,2,20011021,1328, 20.5050, 164.9870, 5429,    296.8,  14.9226,  34.5543,2,   -999.0,9,  34.5627,2,   -999.0,9,  -999.00,9,  -999.00,9,  -999.00,9,  -999.00,9,  -999.00,9,    3.225,2,    1.635,2,  -999.00,9,   -999.0,9,   -999.0,9,-999.0000,9,   -999.0,  9,  -999.00,9,   -999.0,  -999.00,9,  -999.00,9,  -999.00,9,  -999.00,9,   -999.0,-999.0000, -999,9,  295,  14.8778,  25.6550,   -999.0,9
       RF01-10,  165E,RF-1437,  1,     14,02-12817,2,20011021,1325, 20.5050, 164.9870, 5429,    397.8,  11.7289,  34.3082,2,   -999.0,9,  34.3076,2,   -999.0,9,  -999.00,9,  -999.00,9,  -999.00,9,  -999.00,9,  -999.00,9,    3.445,2,    1.726,2,  -999.00,9,   -999.0,9,   -999.0,9,-999.0000,9,   -999.0,  9,  -999.00,9,   -999.0,  -999.00,9,  -999.00,9,  -999.00,9,  -999.00,9,   -999.0,-999.0000, -999,9,  395,  11.6777,  26.1124,   -999.0,9
       RF01-10,  165E,RF-1437,  1,     13,02-15822,2,20011021,1322, 20.5050, 164.9870, 5429,    499.0,   8.6880,  34.1234,2,   -999.0,9,  34.1352,2,   -999.0,9,  -999.00,9,  -999.00,9,  -999.00,9,  -999.00,9,  -999.00,9,    3.209,2,    1.396,2,  -999.00,9,   -999.0,9,   -999.0,9,-999.0000,9,   -999.0,  9,  -999.00,9,   -999.0,  -999.00,9,  -999.00,9,  -999.00,9,  -999.00,9,   -999.0,-999.0000, -999,9,  495,   8.6346,  26.4891,   -999.0,9
       RF01-10,  165E,RF-1437,  1,     12,02-12821,2,20011021,1320, 20.5050, 164.9870, 5429,    598.3,   6.6248,  34.1183,2,   -999.0,9,  34.1191,2,   -999.0,9,  -999.00,9,  -999.00,9,  -999.00,9,  -999.00,9,  -999.00,9,    1.538,2,    0.758,2,  -999.00,9,   -999.0,9,   -999.0,9,-999.0000,9,   -999.0,  9,  -999.00,9,   -999.0,  -999.00,9,  -999.00,9,  -999.00,9,  -999.00,9,   -999.0,-999.0000, -999,9,  594,   6.5697,  26.7823,   -999.0,9
       RF01-10,  165E,RF-1437,  1,     11,02-15823,2,20011021,1317, 20.5050, 164.9870, 5429,    698.4,   5.5054,  34.2204,2,   -999.0,9,  34.2170,2,   -999.0,9,  -999.00,9,  -999.00,9,  -999.00,9,  -999.00,9,  -999.00,9,    0.578,2,    0.203,2,  -999.00,9,   -999.0,9,   -999.0,9,-999.0000,9,   -999.0,  9,  -999.00,9,   -999.0,  -999.00,9,  -999.00,9,  -999.00,9,  -999.00,9,   -999.0,-999.0000, -999,9,  693,   5.4464,  27.0048,   -999.0,9
       RF01-10,  165E,RF-1437,  1,     10,02-12820,2,20011021,1315, 20.5050, 164.9870, 5429,    800.3,   4.7489,  34.3254,2,   -999.0,9,  34.3272,2,   -999.0,9,  -999.00,9,  -999.00,9,  -999.00,9,  -999.00,9,  -999.00,9,    0.333,2,    0.051,2,  -999.00,9,   -999.0,9,   -999.0,9,-999.0000,9,   -999.0,  9,  -999.00,9,   -999.0,  -999.00,9,  -999.00,9,  -999.00,9,  -999.00,9,   -999.0,-999.0000, -999,9,  794,   4.6851,  27.1761,   -999.0,9
       RF01-10,  165E,RF-1437,  1,      9,02-12810,2,20011021,1311, 20.5050, 164.9870, 5429,   1001.8,   4.0304,  34.4663,2,   -999.0,9,  34.4658,2,   -999.0,9,  -999.00,9,  -999.00,9,  -999.00,9,  -999.00,9,  -999.00,9,    0.065,2,    0.035,2,  -999.00,9,   -999.0,9,   -999.0,9,-999.0000,9,   -999.0,  9,  -999.00,9,   -999.0,  -999.00,9,  -999.00,9,  -999.00,9,  -999.00,9,   -999.0,-999.0000, -999,9,  993,   3.9544,  27.3663,   -999.0,9
       RF01-10,  165E,RF-1437,  1,      8,02-12819,2,20011021,1306, 20.5050, 164.9870, 5429,   1255.6,   3.2646,  34.5312,2,   -999.0,9,  34.5305,2,   -999.0,9,  -999.00,9,  -999.00,9,  -999.00,9,  -999.00,9,  -999.00,9,    0.000,2,    0.036,2,  -999.00,9,   -999.0,9,   -999.0,9,-999.0000,9,   -999.0,  9,  -999.00,9,   -999.0,  -999.00,9,  -999.00,9,  -999.00,9,  -999.00,9,   -999.0,-999.0000, -999,9, 1244,   3.1742,  27.4947,   -999.0,9
       RF01-10,  165E,RF-1437,  1,      7,02-15821,2,20011021,1300, 20.5050, 164.9870, 5429,   1510.1,   2.7388,  34.5741,2,   -999.0,9,  34.5712,2,   -999.0,9,  -999.00,9,  -999.00,9,  -999.00,9,  -999.00,9,  -999.00,9,    0.000,2,    0.000,2,  -999.00,9,   -999.0,9,   -999.0,9,-999.0000,9,   -999.0,  9,  -999.00,9,   -999.0,  -999.00,9,  -999.00,9,  -999.00,9,  -999.00,9,   -999.0,-999.0000, -999,9, 1495,   2.6332,  27.5779,   -999.0,9
       RF01-10,  165E,RF-1437,  1,      6,02-13588,2,20011021,1251, 20.5050, 164.9870, 5429,   2016.1,   2.0352,  34.6238,2,   -999.0,9,  34.6204,2,   -999.0,9,  -999.00,9,  -999.00,9,  -999.00,9,  -999.00,9,  -999.00,9,    0.000,2,    0.000,2,  -999.00,9,   -999.0,9,   -999.0,9,-999.0000,9,   -999.0,  9,  -999.00,9,   -999.0,  -999.00,9,  -999.00,9,  -999.00,9,  -999.00,9,   -999.0,-999.0000, -999,9, 1994,   1.8968,  27.6784,   -999.0,9
       RF01-10,  165E,RF-1437,  1,      5,02-10155,2,20011021,1241, 20.5050, 164.9870, 5429,   2523.6,   1.7161,  34.6547,2,   -999.0,9,  34.6516,2,   -999.0,9,  -999.00,9,  -999.00,9,  -999.00,9,  -999.00,9,  -999.00,9,    0.000,2,    0.000,2,  -999.00,9,   -999.0,9,   -999.0,9,-999.0000,9,   -999.0,  9,  -999.00,9,   -999.0,  -999.00,9,  -999.00,9,  -999.00,9,  -999.00,9,   -999.0,-999.0000, -999,9, 2493,   1.5390,  27.7302,   -999.0,9
       RF01-10,  165E,RF-1437,  1,      4,02-13579,2,20011021,1232, 20.5050, 164.9870, 5429,   3035.5,   1.5695,  34.6702,2,   -999.0,9,  34.6682,2,   -999.0,9,  -999.00,9,  -999.00,9,  -999.00,9,  -999.00,9,  -999.00,9,    0.000,2,    0.000,2,  -999.00,9,   -999.0,9,   -999.0,9,-999.0000,9,   -999.0,  9,  -999.00,9,   -999.0,  -999.00,9,  -999.00,9,  -999.00,9,  -999.00,9,   -999.0,-999.0000, -999,9, 2995,   1.3478,  27.7564,   -999.0,9
       RF01-10,  165E,RF-1437,  1,      3,02-13590,2,20011021,1223, 20.5050, 164.9870, 5429,   3545.2,   1.4935,  34.6804,2,   -999.0,9,  34.6788,2,   -999.0,9,  -999.00,9,  -999.00,9,  -999.00,9,  -999.00,9,  -999.00,9,    0.000,2,    0.000,2,  -999.00,9,   -999.0,9,   -999.0,9,-999.0000,9,   -999.0,  9,  -999.00,9,   -999.0,  -999.00,9,  -999.00,9,  -999.00,9,  -999.00,9,   -999.0,-999.0000, -999,9, 3494,   1.2229,  27.7734,   -999.0,9
       RF01-10,  165E,RF-1437,  1,      2,02-13589,2,20011021,1214, 20.5050, 164.9870, 5429,   4060.1,   1.4393,  34.6878,2,   -999.0,9,  34.6879,2,   -999.0,9,  -999.00,9,  -999.00,9,  -999.00,9,  -999.00,9,  -999.00,9,    0.000,2,    0.000,2,  -999.00,9,   -999.0,9,   -999.0,9,-999.0000,9,   -999.0,  9,  -999.00,9,   -999.0,  -999.00,9,  -999.00,9,  -999.00,9,  -999.00,9,   -999.0,-999.0000, -999,9, 3997,   1.1154,  27.7867,   -999.0,9
       RF01-10,  165E,RF-1437,  1,      1,02-12807,2,20011021,1152, 20.5050, 164.9870, 5429,   5395.7,   1.4343,  34.7002,2,   -999.0,9,  33.0382,4,   -999.0,9,  -999.00,9,  -999.00,9,  -999.00,9,  -999.00,9,  -999.00,9,    0.000,2,    0.000,2,  -999.00,9,   -999.0,9,   -999.0,9,-999.0000,9,   -999.0,  9,  -999.00,9,   -999.0,  -999.00,9,  -999.00,9,  -999.00,9,  -999.00,9,   -999.0,-999.0000, -999,9, 5296,   0.9531,  27.8076,   -999.0,9