BOTTLE,20130510GEMDJMAYT
EXPOCODE,SECT_ID,STNNBR,CASTNO,SAMPNO,BTLNBR,BTLNBR_FLAG_W,DATE,TIME,LATITUDE,LONGITUDE,DEPTH,CTDPRS,CTDTMP,CTDSAL,CTDSAL_FLAG_W,CTDOXY,CTDOXY_FLAG_W,SALNTY,SALNTY_FLAG_W,OXYGEN,OXYGEN_FLAG_W,SILCAT,SILCAT_FLAG_W,NITRAT,NITRAT_FLAG_W,NO2+NO3,NO2+NO3_FLAG_W,NITRIT,NITRIT_FLAG_W,PHSPHT,PHSPHT_FLAG_W,CFC-11,CFC-11_FLAG_W,CFC-12,CFC-12_FLAG_W,DELC13,DELC13_FLAG_W,TCARBN,TCARBN_FLAG_W,ALKALI,ALKALI_FLAG_W,PH,PH_FLAG_W,PH_TMP,PH_SCALE,PH_NBS,PH_NBS_FLAG_W,C13ERR,TOTALP,TOTALP_FLAG_W,AMMONI,AMMONI_FLAG_W,CHLORA,CHLORA_FLAG_W,PPHYTN,PPHYTN_FLAG_W,REVPRS,REVTMP,DEPTH_,DEPTH_FLAG,CTDDEP,THETA,SIGTHT,DOC,DOC_FLAG_W
,,,,,,,GMT,GMT,,,METER,DBAR,ITS-90,PSS-78,,UMOL/KG,,PSS-78,,UMOL/KG,,UMOL/KG,,UMOL/KG,,UMOL/KG,,UMOL/KG,,UMOL/KG,,PMOL/KG,,PMOL/KG,,/MILLE,,UMOL/KG,,UMOL/KG,,25_DEG_C,,DEG_C,,,,/MILLE,UMOL/KG,,UMOL/KG,,UG/L,,UG/L,,DBAR,ITS-90,METERS,,METERS,DEG_C,,UMOL/L,
       RF01-10,  165E,RF-1440,  1,     -9,      -9,5,20011022,0438, 18.9973, 164.9900, 1984,      0.0,  28.9273,  34.8199,2,   -999.0,9,-999.0000,9,   -999.0,9,  -999.00,9,  -999.00,9,  -999.00,9,  -999.00,9,  -999.00,9,    1.664,2,    0.984,2,  -999.00,9,   -999.0,9,   -999.0,9,-999.0000,9,   -999.0,  9,  -999.00,9,   -999.0,  -999.00,9,  -999.00,9,  -999.00,9,  -999.00,9,   -999.0,-999.0000, -999,9,    0,  28.9273,  21.9531,   -999.0,9
       RF01-10,  165E,RF-1440,  1,     20,02-12826,2,20011022,0435, 18.9973, 164.9900, 1984,      7.9,  28.8915,  34.8156,2,   -999.0,9,-999.0000,9,   -999.0,9,  -999.00,9,  -999.00,9,  -999.00,9,  -999.00,9,  -999.00,9,    1.667,2,    0.985,2,  -999.00,9,   -999.0,9,   -999.0,9,-999.0000,9,   -999.0,  9,  -999.00,9,   -999.0,  -999.00,9,  -999.00,9,  -999.00,9,  -999.00,9,   -999.0,-999.0000, -999,9,    8,  28.8896,  21.9625,   -999.0,9
       RF01-10,  165E,RF-1440,  1,     19,02-12825,2,20011022,0434, 18.9973, 164.9900, 1984,     23.1,  28.7697,  34.8113,2,   -999.0,9,-999.0000,9,   -999.0,9,  -999.00,9,  -999.00,9,  -999.00,9,  -999.00,9,  -999.00,9,    1.674,2,    0.989,2,  -999.00,9,   -999.0,9,   -999.0,9,-999.0000,9,   -999.0,  9,  -999.00,9,   -999.0,  -999.00,9,  -999.00,9,  -999.00,9,  -999.00,9,   -999.0,-999.0000, -999,9,   23,  28.7642,  22.0010,   -999.0,9
       RF01-10,  165E,RF-1440,  1,     18,02-12830,2,20011022,0433, 18.9973, 164.9900, 1984,     47.6,  28.7455,  34.8105,2,   -999.0,9,-999.0000,9,   -999.0,9,  -999.00,9,  -999.00,9,  -999.00,9,  -999.00,9,  -999.00,9,    1.676,2,    0.990,2,  -999.00,9,   -999.0,9,   -999.0,9,-999.0000,9,   -999.0,  9,  -999.00,9,   -999.0,  -999.00,9,  -999.00,9,  -999.00,9,  -999.00,9,   -999.0,-999.0000, -999,9,   47,  28.7340,  22.0104,   -999.0,9
       RF01-10,  165E,RF-1440,  1,     17,02-12815,2,20011022,0431, 18.9973, 164.9900, 1984,     74.2,  28.7437,  34.8122,2,   -999.0,9,-999.0000,9,   -999.0,9,  -999.00,9,  -999.00,9,  -999.00,9,  -999.00,9,  -999.00,9,    1.677,2,    0.991,2,  -999.00,9,   -999.0,9,   -999.0,9,-999.0000,9,   -999.0,  9,  -999.00,9,   -999.0,  -999.00,9,  -999.00,9,  -999.00,9,  -999.00,9,   -999.0,-999.0000, -999,9,   74,  28.7259,  22.0143,   -999.0,9
       RF01-10,  165E,RF-1440,  1,     16,02-12818,2,20011022,0430, 18.9973, 164.9900, 1984,     98.1,  26.8754,  35.2258,2,   -999.0,9,  35.2402,2,   -999.0,9,  -999.00,9,  -999.00,9,  -999.00,9,  -999.00,9,  -999.00,9,    1.794,2,    1.051,2,  -999.00,9,   -999.0,9,   -999.0,9,-999.0000,9,   -999.0,  9,  -999.00,9,   -999.0,  -999.00,9,  -999.00,9,  -999.00,9,  -999.00,9,   -999.0,-999.0000, -999,9,   97,  26.8529,  22.9348,   -999.0,9
       RF01-10,  165E,RF-1440,  1,     15,02-12809,2,20011022,0428, 18.9973, 164.9900, 1984,    123.2,  25.5596,  35.2861,2,   -999.0,9,-999.0000,9,   -999.0,9,  -999.00,9,  -999.00,9,  -999.00,9,  -999.00,9,  -999.00,9,    1.900,2,    1.100,2,  -999.00,9,   -999.0,9,   -999.0,9,-999.0000,9,   -999.0,  9,  -999.00,9,   -999.0,  -999.00,9,  -999.00,9,  -999.00,9,  -999.00,9,   -999.0,-999.0000, -999,9,  122,  25.5324,  23.3943,   -999.0,9
       RF01-10,  165E,RF-1440,  1,     14,02-12817,2,20011022,0426, 18.9973, 164.9900, 1984,    148.0,  23.1392,  35.1753,2,   -999.0,9,-999.0000,9,   -999.0,9,  -999.00,9,  -999.00,9,  -999.00,9,  -999.00,9,  -999.00,9,    2.121,2,    1.193,2,  -999.00,9,   -999.0,9,   -999.0,9,-999.0000,9,   -999.0,  9,  -999.00,9,   -999.0,  -999.00,9,  -999.00,9,  -999.00,9,  -999.00,9,   -999.0,-999.0000, -999,9,  147,  23.1088,  24.0351,   -999.0,9
       RF01-10,  165E,RF-1440,  1,     13,02-15822,2,20011022,0424, 18.9973, 164.9900, 1984,    198.9,  19.9578,  34.9502,2,   -999.0,9,  34.9582,2,   -999.0,9,  -999.00,9,  -999.00,9,  -999.00,9,  -999.00,9,  -999.00,9,    2.455,2,    1.345,2,  -999.00,9,   -999.0,9,   -999.0,9,-999.0000,9,   -999.0,  9,  -999.00,9,   -999.0,  -999.00,9,  -999.00,9,  -999.00,9,  -999.00,9,   -999.0,-999.0000, -999,9,  198,  19.9210,  24.7445,   -999.0,9
       RF01-10,  165E,RF-1440,  1,     12,02-12821,2,20011022,0422, 18.9973, 164.9900, 1984,    249.1,  17.4516,  34.7481,2,   -999.0,9,-999.0000,9,   -999.0,9,  -999.00,9,  -999.00,9,  -999.00,9,  -999.00,9,  -999.00,9,    2.770,2,    1.479,2,  -999.00,9,   -999.0,9,   -999.0,9,-999.0000,9,   -999.0,  9,  -999.00,9,   -999.0,  -999.00,9,  -999.00,9,  -999.00,9,  -999.00,9,   -999.0,-999.0000, -999,9,  247,  17.4097,  25.2229,   -999.0,9
       RF01-10,  165E,RF-1440,  1,     11,02-15823,2,20011022,0420, 18.9973, 164.9900, 1984,    299.4,  15.7978,  34.6408,2,   -999.0,9,  34.6450,2,   -999.0,9,  -999.00,9,  -999.00,9,  -999.00,9,  -999.00,9,  -999.00,9,    3.003,2,    1.573,2,  -999.00,9,   -999.0,9,   -999.0,9,-999.0000,9,   -999.0,  9,  -999.00,9,   -999.0,  -999.00,9,  -999.00,9,  -999.00,9,  -999.00,9,   -999.0,-999.0000, -999,9,  297,  15.7509,  25.5279,   -999.0,9
       RF01-10,  165E,RF-1440,  1,     10,02-12820,2,20011022,0417, 18.9973, 164.9900, 1984,    401.2,  11.9215,  34.3328,2,   -999.0,9,  34.3429,2,   -999.0,9,  -999.00,9,  -999.00,9,  -999.00,9,  -999.00,9,  -999.00,9,    3.512,2,    1.748,2,  -999.00,9,   -999.0,9,   -999.0,9,-999.0000,9,   -999.0,  9,  -999.00,9,   -999.0,  -999.00,9,  -999.00,9,  -999.00,9,  -999.00,9,   -999.0,-999.0000, -999,9,  398,  11.8693,  26.0956,   -999.0,9
       RF01-10,  165E,RF-1440,  1,      9,02-12810,2,20011022,0414, 18.9973, 164.9900, 1984,    501.9,   8.8738,  34.1708,2,   -999.0,9,  34.1744,2,   -999.0,9,  -999.00,9,  -999.00,9,  -999.00,9,  -999.00,9,  -999.00,9,    3.175,2,    1.453,2,  -999.00,9,   -999.0,9,   -999.0,9,-999.0000,9,   -999.0,  9,  -999.00,9,   -999.0,  -999.00,9,  -999.00,9,  -999.00,9,  -999.00,9,   -999.0,-999.0000, -999,9,  498,   8.8194,  26.4974,   -999.0,9
       RF01-10,  165E,RF-1440,  1,      8,02-12819,2,20011022,0411, 18.9973, 164.9900, 1984,    602.4,   6.8825,  34.1724,2,   -999.0,9,  34.1780,2,   -999.0,9,  -999.00,9,  -999.00,9,  -999.00,9,  -999.00,9,  -999.00,9,    1.374,2,    1.108,2,  -999.00,9,   -999.0,9,   -999.0,9,-999.0000,9,   -999.0,  9,  -999.00,9,   -999.0,  -999.00,9,  -999.00,9,  -999.00,9,  -999.00,9,   -999.0,-999.0000, -999,9,  598,   6.8257,  26.7906,   -999.0,9
       RF01-10,  165E,RF-1440,  1,      7,02-15821,2,20011022,0408, 18.9973, 164.9900, 1984,    703.0,   5.3848,  34.3034,2,   -999.0,9,  34.3009,2,   -999.0,9,  -999.00,9,  -999.00,9,  -999.00,9,  -999.00,9,  -999.00,9,    0.367,2,    0.161,2,  -999.00,9,   -999.0,9,   -999.0,9,-999.0000,9,   -999.0,  9,  -999.00,9,   -999.0,  -999.00,9,  -999.00,9,  -999.00,9,  -999.00,9,   -999.0,-999.0000, -999,9,  698,   5.3259,  27.0849,   -999.0,9
       RF01-10,  165E,RF-1440,  1,      6,02-13588,2,20011022,0405, 18.9973, 164.9900, 1984,    804.7,   4.8787,  34.3953,2,   -999.0,9,  34.3901,2,   -999.0,9,  -999.00,9,  -999.00,9,  -999.00,9,  -999.00,9,  -999.00,9,    0.165,2,    0.050,2,  -999.00,9,   -999.0,9,   -999.0,9,-999.0000,9,   -999.0,  9,  -999.00,9,   -999.0,  -999.00,9,  -999.00,9,  -999.00,9,  -999.00,9,   -999.0,-999.0000, -999,9,  798,   4.8136,  27.2171,   -999.0,9
       RF01-10,  165E,RF-1440,  1,      5,02-10155,2,20011022,0402, 18.9973, 164.9900, 1984,    904.9,   4.4169,  34.4610,2,   -999.0,9,-999.0000,9,   -999.0,9,  -999.00,9,  -999.00,9,  -999.00,9,  -999.00,9,  -999.00,9,    0.022,2,    0.042,2,  -999.00,9,   -999.0,9,   -999.0,9,-999.0000,9,   -999.0,  9,  -999.00,9,   -999.0,  -999.00,9,  -999.00,9,  -999.00,9,  -999.00,9,   -999.0,-999.0000, -999,9,  897,   4.3463,  27.3208,   -999.0,9
       RF01-10,  165E,RF-1440,  1,      4,02-13579,2,20011022,0359, 18.9973, 164.9900, 1984,   1007.3,   4.0243,  34.5081,2,   -999.0,9,  34.5035,2,   -999.0,9,  -999.00,9,  -999.00,9,  -999.00,9,  -999.00,9,  -999.00,9,    0.006,2,    0.035,2,  -999.00,9,   -999.0,9,   -999.0,9,-999.0000,9,   -999.0,  9,  -999.00,9,   -999.0,  -999.00,9,  -999.00,9,  -999.00,9,  -999.00,9,   -999.0,-999.0000, -999,9,  999,   3.9478,  27.4002,   -999.0,9
       RF01-10,  165E,RF-1440,  1,      3,02-13590,2,20011022,0353, 18.9973, 164.9900, 1984,   1259.5,   3.2845,  34.5543,2,   -999.0,9,  34.5488,2,   -999.0,9,  -999.00,9,  -999.00,9,  -999.00,9,  -999.00,9,  -999.00,9,    0.000,2,    0.014,2,  -999.00,9,   -999.0,9,   -999.0,9,-999.0000,9,   -999.0,  9,  -999.00,9,   -999.0,  -999.00,9,  -999.00,9,  -999.00,9,  -999.00,9,   -999.0,-999.0000, -999,9, 1248,   3.1936,  27.5113,   -999.0,9
       RF01-10,  165E,RF-1440,  1,      2,02-13589,2,20011022,0346, 18.9973, 164.9900, 1984,   1511.8,   2.7286,  34.5789,2,   -999.0,9,  34.5787,2,   -999.0,9,  -999.00,9,  -999.00,9,  -999.00,9,  -999.00,9,  -999.00,9,    0.000,2,    0.000,2,  -999.00,9,   -999.0,9,   -999.0,9,-999.0000,9,   -999.0,  9,  -999.00,9,   -999.0,  -999.00,9,  -999.00,9,  -999.00,9,  -999.00,9,   -999.0,-999.0000, -999,9, 1497,   2.6229,  27.5826,   -999.0,9
       RF01-10,  165E,RF-1440,  1,      1,02-12807,2,20011022,0340, 18.9973, 164.9900, 1984,   1817.1,   2.2601,  34.6137,2,   -999.0,9,  34.6072,2,   -999.0,9,  -999.00,9,  -999.00,9,  -999.00,9,  -999.00,9,  -999.00,9,    0.000,2,    0.000,2,  -999.00,9,   -999.0,9,   -999.0,9,-999.0000,9,   -999.0,  9,  -999.00,9,   -999.0,  -999.00,9,  -999.00,9,  -999.00,9,  -999.00,9,   -999.0,-999.0000, -999,9, 1798,   2.1351,  27.6513,   -999.0,9