BOTTLE,20130510GEMDJMAYT
EXPOCODE,SECT_ID,STNNBR,CASTNO,SAMPNO,BTLNBR,BTLNBR_FLAG_W,DATE,TIME,LATITUDE,LONGITUDE,DEPTH,CTDPRS,CTDTMP,CTDSAL,CTDSAL_FLAG_W,CTDOXY,CTDOXY_FLAG_W,SALNTY,SALNTY_FLAG_W,OXYGEN,OXYGEN_FLAG_W,SILCAT,SILCAT_FLAG_W,NITRAT,NITRAT_FLAG_W,NO2+NO3,NO2+NO3_FLAG_W,NITRIT,NITRIT_FLAG_W,PHSPHT,PHSPHT_FLAG_W,CFC-11,CFC-11_FLAG_W,CFC-12,CFC-12_FLAG_W,DELC13,DELC13_FLAG_W,TCARBN,TCARBN_FLAG_W,ALKALI,ALKALI_FLAG_W,PH,PH_FLAG_W,PH_TMP,PH_SCALE,PH_NBS,PH_NBS_FLAG_W,C13ERR,TOTALP,TOTALP_FLAG_W,AMMONI,AMMONI_FLAG_W,CHLORA,CHLORA_FLAG_W,PPHYTN,PPHYTN_FLAG_W,REVPRS,REVTMP,DEPTH_,DEPTH_FLAG,CTDDEP,THETA,SIGTHT,DOC,DOC_FLAG_W
,,,,,,,GMT,GMT,,,METER,DBAR,ITS-90,PSS-78,,UMOL/KG,,PSS-78,,UMOL/KG,,UMOL/KG,,UMOL/KG,,UMOL/KG,,UMOL/KG,,UMOL/KG,,PMOL/KG,,PMOL/KG,,/MILLE,,UMOL/KG,,UMOL/KG,,25_DEG_C,,DEG_C,,,,/MILLE,UMOL/KG,,UMOL/KG,,UG/L,,UG/L,,DBAR,ITS-90,METERS,,METERS,DEG_C,,UMOL/L,
       RF01-10,  NONE,RF-1510,  1,     -9,      -9,5,20011128,0605, 22.9993, 140.6755, 3886,      0.0,  26.8416,  34.6765,2,   -999.0,9,-999.0000,9,   -999.0,9,  -999.00,9,  -999.00,9,  -999.00,9,  -999.00,9,  -999.00,9, -999.000,9, -999.000,9,  -999.00,9,   -999.0,9,   -999.0,9,-999.0000,9,   -999.0,  9,  -999.00,9,   -999.0,  -999.00,9,  -999.00,9,  -999.00,9,  -999.00,9,   -999.0,-999.0000, -999,9,    0,  26.8416,  22.5245,   -999.0,9
       RF01-10,  NONE,RF-1510,  1,     19,02-12825,2,20011128,0603, 22.9993, 140.6755, 3886,     11.0,  26.8475,  34.6759,2,   -999.0,9,-999.0000,9,   -999.0,9,  -999.00,9,  -999.00,9,  -999.00,9,  -999.00,9,  -999.00,9, -999.000,9, -999.000,9,  -999.00,9,   -999.0,9,   -999.0,9,-999.0000,9,   -999.0,  9,  -999.00,9,   -999.0,  -999.00,9,  -999.00,9,  -999.00,9,  -999.00,9,   -999.0,-999.0000, -999,9,   11,  26.8450,  22.5230,   -999.0,9
       RF01-10,  NONE,RF-1510,  1,     18,02-12830,2,20011128,0602, 22.9993, 140.6755, 3886,     27.8,  26.8492,  34.6770,2,   -999.0,9,-999.0000,9,   -999.0,9,  -999.00,9,  -999.00,9,  -999.00,9,  -999.00,9,  -999.00,9, -999.000,9, -999.000,9,  -999.00,9,   -999.0,9,   -999.0,9,-999.0000,9,   -999.0,  9,  -999.00,9,   -999.0,  -999.00,9,  -999.00,9,  -999.00,9,  -999.00,9,   -999.0,-999.0000, -999,9,   28,  26.8428,  22.5245,   -999.0,9
       RF01-10,  NONE,RF-1510,  1,     17,02-12815,2,20011128,0601, 22.9993, 140.6755, 3886,     51.0,  26.0114,  34.8366,2,   -999.0,9,-999.0000,9,   -999.0,9,  -999.00,9,  -999.00,9,  -999.00,9,  -999.00,9,  -999.00,9, -999.000,9, -999.000,9,  -999.00,9,   -999.0,9,   -999.0,9,-999.0000,9,   -999.0,  9,  -999.00,9,   -999.0,  -999.00,9,  -999.00,9,  -999.00,9,  -999.00,9,   -999.0,-999.0000, -999,9,   51,  26.0001,  22.9100,   -999.0,9
       RF01-10,  NONE,RF-1510,  1,     16,02-12818,2,20011128,0559, 22.9993, 140.6755, 3886,     77.7,  21.9231,  34.8096,2,   -999.0,9,-999.0000,9,   -999.0,9,  -999.00,9,  -999.00,9,  -999.00,9,  -999.00,9,  -999.00,9, -999.000,9, -999.000,9,  -999.00,9,   -999.0,9,   -999.0,9,-999.0000,9,   -999.0,  9,  -999.00,9,   -999.0,  -999.00,9,  -999.00,9,  -999.00,9,  -999.00,9,   -999.0,-999.0000, -999,9,   77,  21.9078,  24.0990,   -999.0,9
       RF01-10,  NONE,RF-1510,  1,     15,02-12809,2,20011128,0558, 22.9993, 140.6755, 3886,    101.9,  20.2238,  34.8392,2,   -999.0,9,  34.8418,2,   -999.0,9,  -999.00,9,  -999.00,9,  -999.00,9,  -999.00,9,  -999.00,9, -999.000,9, -999.000,9,  -999.00,9,   -999.0,9,   -999.0,9,-999.0000,9,   -999.0,  9,  -999.00,9,   -999.0,  -999.00,9,  -999.00,9,  -999.00,9,  -999.00,9,   -999.0,-999.0000, -999,9,  101,  20.2048,  24.5849,   -999.0,9
       RF01-10,  NONE,RF-1510,  1,     14,02-12817,2,20011128,0557, 22.9993, 140.6755, 3886,    127.3,  19.1880,  34.7712,2,   -999.0,9,-999.0000,9,   -999.0,9,  -999.00,9,  -999.00,9,  -999.00,9,  -999.00,9,  -999.00,9, -999.000,9, -999.000,9,  -999.00,9,   -999.0,9,   -999.0,9,-999.0000,9,   -999.0,  9,  -999.00,9,   -999.0,  -999.00,9,  -999.00,9,  -999.00,9,  -999.00,9,   -999.0,-999.0000, -999,9,  126,  19.1652,  24.8041,   -999.0,9
       RF01-10,  NONE,RF-1510,  1,     13,02-15822,2,20011128,0556, 22.9993, 140.6755, 3886,    152.6,  18.8716,  34.7948,2,   -999.0,9,-999.0000,9,   -999.0,9,  -999.00,9,  -999.00,9,  -999.00,9,  -999.00,9,  -999.00,9, -999.000,9, -999.000,9,  -999.00,9,   -999.0,9,   -999.0,9,-999.0000,9,   -999.0,  9,  -999.00,9,   -999.0,  -999.00,9,  -999.00,9,  -999.00,9,  -999.00,9,   -999.0,-999.0000, -999,9,  152,  18.8446,  24.9038,   -999.0,9
       RF01-10,  NONE,RF-1510,  1,     12,02-12821,2,20011128,0554, 22.9993, 140.6755, 3886,    201.5,  17.7525,  34.7627,2,   -999.0,9,  34.7682,2,   -999.0,9,  -999.00,9,  -999.00,9,  -999.00,9,  -999.00,9,  -999.00,9, -999.000,9, -999.000,9,  -999.00,9,   -999.0,9,   -999.0,9,-999.0000,9,   -999.0,  9,  -999.00,9,   -999.0,  -999.00,9,  -999.00,9,  -999.00,9,  -999.00,9,   -999.0,-999.0000, -999,9,  200,  17.7183,  25.1593,   -999.0,9
       RF01-10,  NONE,RF-1510,  1,     11,02-15823,2,20011128,0552, 22.9993, 140.6755, 3886,    253.7,  16.7505,  34.7193,2,   -999.0,9,-999.0000,9,   -999.0,9,  -999.00,9,  -999.00,9,  -999.00,9,  -999.00,9,  -999.00,9, -999.000,9, -999.000,9,  -999.00,9,   -999.0,9,   -999.0,9,-999.0000,9,   -999.0,  9,  -999.00,9,   -999.0,  -999.00,9,  -999.00,9,  -999.00,9,  -999.00,9,   -999.0,-999.0000, -999,9,  252,  16.7091,  25.3675,   -999.0,9
       RF01-10,  NONE,RF-1510,  1,     10,02-12820,2,20011128,0551, 22.9993, 140.6755, 3886,    304.3,  15.5604,  34.6690,2,   -999.0,9,  34.6503,4,   -999.0,9,  -999.00,9,  -999.00,9,  -999.00,9,  -999.00,9,  -999.00,9, -999.000,9, -999.000,9,  -999.00,9,   -999.0,9,   -999.0,9,-999.0000,9,   -999.0,  9,  -999.00,9,   -999.0,  -999.00,9,  -999.00,9,  -999.00,9,  -999.00,9,   -999.0,-999.0000, -999,9,  302,  15.5131,  25.6030,   -999.0,9
       RF01-10,  NONE,RF-1510,  1,      9,02-12810,2,20011128,0548, 22.9993, 140.6755, 3886,    404.6,  13.0572,  34.4675,2,   -999.0,9,  34.4672,2,   -999.0,9,  -999.00,9,  -999.00,9,  -999.00,9,  -999.00,9,  -999.00,9, -999.000,9, -999.000,9,  -999.00,9,   -999.0,9,   -999.0,9,-999.0000,9,   -999.0,  9,  -999.00,9,   -999.0,  -999.00,9,  -999.00,9,  -999.00,9,  -999.00,9,   -999.0,-999.0000, -999,9,  402,  13.0013,  25.9801,   -999.0,9
       RF01-10,  NONE,RF-1510,  1,      8,02-12819,2,20011128,0546, 22.9993, 140.6755, 3886,    505.0,   9.8542,  34.2302,2,   -999.0,9,  34.2322,2,   -999.0,9,  -999.00,9,  -999.00,9,  -999.00,9,  -999.00,9,  -999.00,9, -999.000,9, -999.000,9,  -999.00,9,   -999.0,9,   -999.0,9,-999.0000,9,   -999.0,  9,  -999.00,9,   -999.0,  -999.00,9,  -999.00,9,  -999.00,9,  -999.00,9,   -999.0,-999.0000, -999,9,  501,   9.7958,  26.3853,   -999.0,9
       RF01-10,  NONE,RF-1510,  1,      7,02-15821,2,20011128,0543, 22.9993, 140.6755, 3886,    605.8,   7.5567,  34.1166,2,   -999.0,9,  34.1165,2,   -999.0,9,  -999.00,9,  -999.00,9,  -999.00,9,  -999.00,9,  -999.00,9, -999.000,9, -999.000,9,  -999.00,9,   -999.0,9,   -999.0,9,-999.0000,9,   -999.0,  9,  -999.00,9,   -999.0,  -999.00,9,  -999.00,9,  -999.00,9,  -999.00,9,   -999.0,-999.0000, -999,9,  601,   7.4966,  26.6533,   -999.0,9
       RF01-10,  NONE,RF-1510,  1,      6,02-13588,2,20011128,0540, 22.9993, 140.6755, 3886,    706.2,   6.0687,  34.0988,2,   -999.0,9,  34.1057,2,   -999.0,9,  -999.00,9,  -999.00,9,  -999.00,9,  -999.00,9,  -999.00,9, -999.000,9, -999.000,9,  -999.00,9,   -999.0,9,   -999.0,9,-999.0000,9,   -999.0,  9,  -999.00,9,   -999.0,  -999.00,9,  -999.00,9,  -999.00,9,  -999.00,9,   -999.0,-999.0000, -999,9,  701,   6.0061,  26.8397,   -999.0,9
       RF01-10,  NONE,RF-1510,  1,      5,02-10155,2,20011128,0538, 22.9993, 140.6755, 3886,    807.0,   4.6791,  34.2132,2,   -999.0,9,  34.2139,2,   -999.0,9,  -999.00,9,  -999.00,9,  -999.00,9,  -999.00,9,  -999.00,9, -999.000,9, -999.000,9,  -999.00,9,   -999.0,9,   -999.0,9,-999.0000,9,   -999.0,  9,  -999.00,9,   -999.0,  -999.00,9,  -999.00,9,  -999.00,9,  -999.00,9,   -999.0,-999.0000, -999,9,  800,   4.6154,  27.0947,   -999.0,9
       RF01-10,  NONE,RF-1510,  1,      4,02-13579,2,20011128,0535, 22.9993, 140.6755, 3886,    908.2,   4.2325,  34.2945,2,   -999.0,9,-999.0000,9,   -999.0,9,  -999.00,9,  -999.00,9,  -999.00,9,  -999.00,9,  -999.00,9, -999.000,9, -999.000,9,  -999.00,9,   -999.0,9,   -999.0,9,-999.0000,9,   -999.0,  9,  -999.00,9,   -999.0,  -999.00,9,  -999.00,9,  -999.00,9,  -999.00,9,   -999.0,-999.0000, -999,9,  900,   4.1631,  27.2080,   -999.0,9
       RF01-10,  NONE,RF-1510,  1,      3,02-13590,2,20011128,0533, 22.9993, 140.6755, 3886,   1010.0,   3.5926,  34.3604,2,   -999.0,9,  34.3659,2,   -999.0,9,  -999.00,9,  -999.00,9,  -999.00,9,  -999.00,9,  -999.00,9, -999.000,9, -999.000,9,  -999.00,9,   -999.0,9,   -999.0,9,-999.0000,9,   -999.0,  9,  -999.00,9,   -999.0,  -999.00,9,  -999.00,9,  -999.00,9,  -999.00,9,   -999.0,-999.0000, -999,9, 1001,   3.5196,  27.3256,   -999.0,9
       RF01-10,  NONE,RF-1510,  1,      2,02-13589,2,20011128,0527, 22.9993, 140.6755, 3886,   1262.2,   2.8970,  34.4788,2,   -999.0,9,  34.4829,2,   -999.0,9,  -999.00,9,  -999.00,9,  -999.00,9,  -999.00,9,  -999.00,9, -999.000,9, -999.000,9,  -999.00,9,   -999.0,9,   -999.0,9,-999.0000,9,   -999.0,  9,  -999.00,9,   -999.0,  -999.00,9,  -999.00,9,  -999.00,9,  -999.00,9,   -999.0,-999.0000, -999,9, 1250,   2.8098,  27.4862,   -999.0,9
       RF01-10,  NONE,RF-1510,  1,      1,02-12807,2,20011128,0521, 22.9993, 140.6755, 3886,   1536.7,   2.4739,  34.5428,2,   -999.0,9,  34.5472,2,   -999.0,9,  -999.00,9,  -999.00,9,  -999.00,9,  -999.00,9,  -999.00,9, -999.000,9, -999.000,9,  -999.00,9,   -999.0,9,   -999.0,9,-999.0000,9,   -999.0,  9,  -999.00,9,   -999.0,  -999.00,9,  -999.00,9,  -999.00,9,  -999.00,9,   -999.0,-999.0000, -999,9, 1521,   2.3693,  27.5753,   -999.0,9
       RF01-10,  NONE,RF-1512,  1,     -9,      -9,5,20011128,1556, 23.9710, 140.2432, 3965,      0.0,  25.1300,  34.8531,2,   -999.0,9,-999.0000,9,   -999.0,9,  -999.00,9,  -999.00,9,  -999.00,9,  -999.00,9,  -999.00,9, -999.000,9, -999.000,9,  -999.00,9,   -999.0,9,   -999.0,9,-999.0000,9,   -999.0,  9,  -999.00,9,   -999.0,  -999.00,9,  -999.00,9,  -999.00,9,  -999.00,9,   -999.0,-999.0000, -999,9,    0,  25.1300,  23.1907,   -999.0,9
       RF01-10,  NONE,RF-1512,  1,     19,02-12825,2,20011128,1553, 23.9710, 140.2432, 3965,     11.9,  25.1369,  34.8511,2,   -999.0,9,-999.0000,9,   -999.0,9,  -999.00,9,  -999.00,9,  -999.00,9,  -999.00,9,  -999.00,9, -999.000,9, -999.000,9,  -999.00,9,   -999.0,9,   -999.0,9,-999.0000,9,   -999.0,  9,  -999.00,9,   -999.0,  -999.00,9,  -999.00,9,  -999.00,9,  -999.00,9,   -999.0,-999.0000, -999,9,   12,  25.1344,  23.1878,   -999.0,9
       RF01-10,  NONE,RF-1512,  1,     18,02-12830,2,20011128,1552, 23.9710, 140.2432, 3965,     26.5,  25.0703,  34.8425,2,   -999.0,9,-999.0000,9,   -999.0,9,  -999.00,9,  -999.00,9,  -999.00,9,  -999.00,9,  -999.00,9, -999.000,9, -999.000,9,  -999.00,9,   -999.0,9,   -999.0,9,-999.0000,9,   -999.0,  9,  -999.00,9,   -999.0,  -999.00,9,  -999.00,9,  -999.00,9,  -999.00,9,   -999.0,-999.0000, -999,9,   26,  25.0646,  23.2026,   -999.0,9
       RF01-10,  NONE,RF-1512,  1,     17,02-12815,2,20011128,1551, 23.9710, 140.2432, 3965,     53.6,  24.9003,  34.8172,2,   -999.0,9,-999.0000,9,   -999.0,9,  -999.00,9,  -999.00,9,  -999.00,9,  -999.00,9,  -999.00,9, -999.000,9, -999.000,9,  -999.00,9,   -999.0,9,   -999.0,9,-999.0000,9,   -999.0,  9,  -999.00,9,   -999.0,  -999.00,9,  -999.00,9,  -999.00,9,  -999.00,9,   -999.0,-999.0000, -999,9,   53,  24.8887,  23.2369,   -999.0,9
       RF01-10,  NONE,RF-1512,  1,     16,02-12818,2,20011128,1549, 23.9710, 140.2432, 3965,     77.1,  21.5912,  34.8000,2,   -999.0,9,-999.0000,9,   -999.0,9,  -999.00,9,  -999.00,9,  -999.00,9,  -999.00,9,  -999.00,9, -999.000,9, -999.000,9,  -999.00,9,   -999.0,9,   -999.0,9,-999.0000,9,   -999.0,  9,  -999.00,9,   -999.0,  -999.00,9,  -999.00,9,  -999.00,9,  -999.00,9,   -999.0,-999.0000, -999,9,   77,  21.5762,  24.1837,   -999.0,9
       RF01-10,  NONE,RF-1512,  1,     15,02-12809,2,20011128,1548, 23.9710, 140.2432, 3965,    102.9,  19.5204,  34.7962,2,   -999.0,9,-999.0000,9,   -999.0,9,  -999.00,9,  -999.00,9,  -999.00,9,  -999.00,9,  -999.00,9, -999.000,9, -999.000,9,  -999.00,9,   -999.0,9,   -999.0,9,-999.0000,9,   -999.0,  9,  -999.00,9,   -999.0,  -999.00,9,  -999.00,9,  -999.00,9,  -999.00,9,   -999.0,-999.0000, -999,9,  102,  19.5017,  24.7364,   -999.0,9
       RF01-10,  NONE,RF-1512,  1,     14,02-12817,2,20011128,1546, 23.9710, 140.2432, 3965,    127.3,  18.6064,  34.7737,2,   -999.0,9,-999.0000,9,   -999.0,9,  -999.00,9,  -999.00,9,  -999.00,9,  -999.00,9,  -999.00,9, -999.000,9, -999.000,9,  -999.00,9,   -999.0,9,   -999.0,9,-999.0000,9,   -999.0,  9,  -999.00,9,   -999.0,  -999.00,9,  -999.00,9,  -999.00,9,  -999.00,9,   -999.0,-999.0000, -999,9,  126,  18.5841,  24.9535,   -999.0,9
       RF01-10,  NONE,RF-1512,  1,     13,02-15822,2,20011128,1544, 23.9710, 140.2432, 3965,    152.6,  18.1382,  34.7539,2,   -999.0,9,-999.0000,9,   -999.0,9,  -999.00,9,  -999.00,9,  -999.00,9,  -999.00,9,  -999.00,9, -999.000,9, -999.000,9,  -999.00,9,   -999.0,9,   -999.0,9,-999.0000,9,   -999.0,  9,  -999.00,9,   -999.0,  -999.00,9,  -999.00,9,  -999.00,9,  -999.00,9,   -999.0,-999.0000, -999,9,  152,  18.1119,  25.0560,   -999.0,9
       RF01-10,  NONE,RF-1512,  1,     12,02-12821,2,20011128,1542, 23.9710, 140.2432, 3965,    203.9,  17.6359,  34.7368,2,   -999.0,9,-999.0000,9,   -999.0,9,  -999.00,9,  -999.00,9,  -999.00,9,  -999.00,9,  -999.00,9, -999.000,9, -999.000,9,  -999.00,9,   -999.0,9,   -999.0,9,-999.0000,9,   -999.0,  9,  -999.00,9,   -999.0,  -999.00,9,  -999.00,9,  -999.00,9,  -999.00,9,   -999.0,-999.0000, -999,9,  202,  17.6014,  25.1679,   -999.0,9
       RF01-10,  NONE,RF-1512,  1,     11,02-15823,2,20011128,1539, 23.9710, 140.2432, 3965,    254.5,  17.1565,  34.7279,2,   -999.0,9,-999.0000,9,   -999.0,9,  -999.00,9,  -999.00,9,  -999.00,9,  -999.00,9,  -999.00,9, -999.000,9, -999.000,9,  -999.00,9,   -999.0,9,   -999.0,9,-999.0000,9,   -999.0,  9,  -999.00,9,   -999.0,  -999.00,9,  -999.00,9,  -999.00,9,  -999.00,9,   -999.0,-999.0000, -999,9,  253,  17.1142,  25.2782,   -999.0,9
       RF01-10,  NONE,RF-1512,  1,     10,02-12820,2,20011128,1537, 23.9710, 140.2432, 3965,    304.8,  16.7054,  34.7115,2,   -999.0,9,-999.0000,9,   -999.0,9,  -999.00,9,  -999.00,9,  -999.00,9,  -999.00,9,  -999.00,9, -999.000,9, -999.000,9,  -999.00,9,   -999.0,9,   -999.0,9,-999.0000,9,   -999.0,  9,  -999.00,9,   -999.0,  -999.00,9,  -999.00,9,  -999.00,9,  -999.00,9,   -999.0,-999.0000, -999,9,  303,  16.6557,  25.3740,   -999.0,9
       RF01-10,  NONE,RF-1512,  1,      9,02-12810,2,20011128,1533, 23.9710, 140.2432, 3965,    405.1,  13.8251,  34.5146,2,   -999.0,9,-999.0000,9,   -999.0,9,  -999.00,9,  -999.00,9,  -999.00,9,  -999.00,9,  -999.00,9, -999.000,9, -999.000,9,  -999.00,9,   -999.0,9,   -999.0,9,-999.0000,9,   -999.0,  9,  -999.00,9,   -999.0,  -999.00,9,  -999.00,9,  -999.00,9,  -999.00,9,   -999.0,-999.0000, -999,9,  402,  13.7669,  25.8605,   -999.0,9
       RF01-10,  NONE,RF-1512,  1,      8,02-12819,2,20011128,1529, 23.9710, 140.2432, 3965,    506.5,  10.6874,  34.2934,2,   -999.0,9,-999.0000,9,   -999.0,9,  -999.00,9,  -999.00,9,  -999.00,9,  -999.00,9,  -999.00,9, -999.000,9, -999.000,9,  -999.00,9,   -999.0,9,   -999.0,9,-999.0000,9,   -999.0,  9,  -999.00,9,   -999.0,  -999.00,9,  -999.00,9,  -999.00,9,  -999.00,9,   -999.0,-999.0000, -999,9,  503,  10.6257,  26.2919,   -999.0,9
       RF01-10,  NONE,RF-1512,  1,      7,02-15821,2,20011128,1525, 23.9710, 140.2432, 3965,    605.9,   7.9316,  34.1429,2,   -999.0,9,-999.0000,9,   -999.0,9,  -999.00,9,  -999.00,9,  -999.00,9,  -999.00,9,  -999.00,9, -999.000,9, -999.000,9,  -999.00,9,   -999.0,9,   -999.0,9,-999.0000,9,   -999.0,  9,  -999.00,9,   -999.0,  -999.00,9,  -999.00,9,  -999.00,9,  -999.00,9,   -999.0,-999.0000, -999,9,  601,   7.8698,  26.6199,   -999.0,9
       RF01-10,  NONE,RF-1512,  1,      6,02-13588,2,20011128,1522, 23.9710, 140.2432, 3965,    706.4,   6.4609,  34.1224,2,   -999.0,9,-999.0000,9,   -999.0,9,  -999.00,9,  -999.00,9,  -999.00,9,  -999.00,9,  -999.00,9, -999.000,9, -999.000,9,  -999.00,9,   -999.0,9,   -999.0,9,-999.0000,9,   -999.0,  9,  -999.00,9,   -999.0,  -999.00,9,  -999.00,9,  -999.00,9,  -999.00,9,   -999.0,-999.0000, -999,9,  701,   6.3961,  26.8084,   -999.0,9
       RF01-10,  NONE,RF-1512,  1,      5,02-10155,2,20011128,1518, 23.9710, 140.2432, 3965,    808.8,   5.0495,  34.1873,2,   -999.0,9,-999.0000,9,   -999.0,9,  -999.00,9,  -999.00,9,  -999.00,9,  -999.00,9,  -999.00,9, -999.000,9, -999.000,9,  -999.00,9,   -999.0,9,   -999.0,9,-999.0000,9,   -999.0,  9,  -999.00,9,   -999.0,  -999.00,9,  -999.00,9,  -999.00,9,  -999.00,9,   -999.0,-999.0000, -999,9,  802,   4.9834,  27.0328,   -999.0,9
       RF01-10,  NONE,RF-1512,  1,      4,02-13579,2,20011128,1515, 23.9710, 140.2432, 3965,    910.5,   4.2091,  34.2775,2,   -999.0,9,-999.0000,9,   -999.0,9,  -999.00,9,  -999.00,9,  -999.00,9,  -999.00,9,  -999.00,9, -999.000,9, -999.000,9,  -999.00,9,   -999.0,9,   -999.0,9,-999.0000,9,   -999.0,  9,  -999.00,9,   -999.0,  -999.00,9,  -999.00,9,  -999.00,9,  -999.00,9,   -999.0,-999.0000, -999,9,  903,   4.1397,  27.1969,   -999.0,9
       RF01-10,  NONE,RF-1512,  1,      3,02-13590,2,20011128,1511, 23.9710, 140.2432, 3965,   1009.7,   3.7855,  34.3486,2,   -999.0,9,-999.0000,9,   -999.0,9,  -999.00,9,  -999.00,9,  -999.00,9,  -999.00,9,  -999.00,9, -999.000,9, -999.000,9,  -999.00,9,   -999.0,9,   -999.0,9,-999.0000,9,   -999.0,  9,  -999.00,9,   -999.0,  -999.00,9,  -999.00,9,  -999.00,9,  -999.00,9,   -999.0,-999.0000, -999,9, 1001,   3.7109,  27.2973,   -999.0,9
       RF01-10,  NONE,RF-1512,  1,      2,02-13589,2,20011128,1505, 23.9710, 140.2432, 3965,   1261.4,   3.0832,  34.4554,2,   -999.0,9,-999.0000,9,   -999.0,9,  -999.00,9,  -999.00,9,  -999.00,9,  -999.00,9,  -999.00,9, -999.000,9, -999.000,9,  -999.00,9,   -999.0,9,   -999.0,9,-999.0000,9,   -999.0,  9,  -999.00,9,   -999.0,  -999.00,9,  -999.00,9,  -999.00,9,  -999.00,9,   -999.0,-999.0000, -999,9, 1250,   2.9943,  27.4509,   -999.0,9
       RF01-10,  NONE,RF-1512,  1,      1,02-12807,2,20011128,1500, 23.9710, 140.2432, 3965,   1529.6,   2.5650,  34.5349,2,   -999.0,9,-999.0000,9,   -999.0,9,  -999.00,9,  -999.00,9,  -999.00,9,  -999.00,9,  -999.00,9, -999.000,9, -999.000,9,  -999.00,9,   -999.0,9,   -999.0,9,-999.0000,9,   -999.0,  9,  -999.00,9,   -999.0,  -999.00,9,  -999.00,9,  -999.00,9,  -999.00,9,   -999.0,-999.0000, -999,9, 1514,   2.4599,  27.5614,   -999.0,9