BOTTLE,20130510GEMDJMAYT
EXPOCODE,SECT_ID,STNNBR,CASTNO,SAMPNO,BTLNBR,BTLNBR_FLAG_W,DATE,TIME,LATITUDE,LONGITUDE,DEPTH,CTDPRS,CTDTMP,CTDSAL,CTDSAL_FLAG_W,CTDOXY,CTDOXY_FLAG_W,SALNTY,SALNTY_FLAG_W,OXYGEN,OXYGEN_FLAG_W,SILCAT,SILCAT_FLAG_W,NITRAT,NITRAT_FLAG_W,NO2+NO3,NO2+NO3_FLAG_W,NITRIT,NITRIT_FLAG_W,PHSPHT,PHSPHT_FLAG_W,CFC-11,CFC-11_FLAG_W,CFC-12,CFC-12_FLAG_W,DELC13,DELC13_FLAG_W,TCARBN,TCARBN_FLAG_W,ALKALI,ALKALI_FLAG_W,PH,PH_FLAG_W,PH_TMP,PH_SCALE,PH_NBS,PH_NBS_FLAG_W,C13ERR,TOTALP,TOTALP_FLAG_W,AMMONI,AMMONI_FLAG_W,CHLORA,CHLORA_FLAG_W,PPHYTN,PPHYTN_FLAG_W,REVPRS,REVTMP,DEPTH_,DEPTH_FLAG,CTDDEP,THETA,SIGTHT,DOC,DOC_FLAG_W
,,,,,,,GMT,GMT,,,METER,DBAR,ITS-90,PSS-78,,UMOL/KG,,PSS-78,,UMOL/KG,,UMOL/KG,,UMOL/KG,,UMOL/KG,,UMOL/KG,,UMOL/KG,,PMOL/KG,,PMOL/KG,,/MILLE,,UMOL/KG,,UMOL/KG,,25_DEG_C,,DEG_C,,,,/MILLE,UMOL/KG,,UMOL/KG,,UG/L,,UG/L,,DBAR,ITS-90,METERS,,METERS,DEG_C,,UMOL/L,
       RF01-10,  NONE,RF-1499,  1,     -9,      -9,5,20011125,1526, 15.0027, 144.0095, 4109,      0.0,  29.2004,  34.4903,2,   -999.0,9,-999.0000,9,   -999.0,9,  -999.00,9,  -999.00,9,  -999.00,9,  -999.00,9,  -999.00,9, -999.000,9, -999.000,9,  -999.00,9,   -999.0,9,   -999.0,9,-999.0000,9,   -999.0,  9,  -999.00,9,   -999.0,  -999.00,9,  -999.00,9,  -999.00,9,  -999.00,9,   -999.0,-999.0000, -999,9,    0,  29.2004,  21.6144,   -999.0,9
       RF01-10,  NONE,RF-1499,  1,     19,02-12825,2,20011125,1523, 15.0027, 144.0095, 4109,     13.6,  29.2038,  34.4885,2,   -999.0,9,-999.0000,9,   -999.0,9,  -999.00,9,  -999.00,9,  -999.00,9,  -999.00,9,  -999.00,9, -999.000,9, -999.000,9,  -999.00,9,   -999.0,9,   -999.0,9,-999.0000,9,   -999.0,  9,  -999.00,9,   -999.0,  -999.00,9,  -999.00,9,  -999.00,9,  -999.00,9,   -999.0,-999.0000, -999,9,   14,  29.2005,  21.6131,   -999.0,9
       RF01-10,  NONE,RF-1499,  1,     18,02-12830,2,20011125,1521, 15.0027, 144.0095, 4109,     29.4,  29.1989,  34.4884,2,   -999.0,9,-999.0000,9,   -999.0,9,  -999.00,9,  -999.00,9,  -999.00,9,  -999.00,9,  -999.00,9, -999.000,9, -999.000,9,  -999.00,9,   -999.0,9,   -999.0,9,-999.0000,9,   -999.0,  9,  -999.00,9,   -999.0,  -999.00,9,  -999.00,9,  -999.00,9,  -999.00,9,   -999.0,-999.0000, -999,9,   29,  29.1918,  21.6159,   -999.0,9
       RF01-10,  NONE,RF-1499,  1,     17,02-12815,2,20011125,1520, 15.0027, 144.0095, 4109,     54.1,  29.1581,  34.5270,2,   -999.0,9,-999.0000,9,   -999.0,9,  -999.00,9,  -999.00,9,  -999.00,9,  -999.00,9,  -999.00,9, -999.000,9, -999.000,9,  -999.00,9,   -999.0,9,   -999.0,9,-999.0000,9,   -999.0,  9,  -999.00,9,   -999.0,  -999.00,9,  -999.00,9,  -999.00,9,  -999.00,9,   -999.0,-999.0000, -999,9,   54,  29.1450,  21.6605,   -999.0,9
       RF01-10,  NONE,RF-1499,  1,     16,02-12818,2,20011125,1519, 15.0027, 144.0095, 4109,     79.2,  28.6100,  34.9048,2,   -999.0,9,  35.1082,4,   -999.0,9,  -999.00,9,  -999.00,9,  -999.00,9,  -999.00,9,  -999.00,9, -999.000,9, -999.000,9,  -999.00,9,   -999.0,9,   -999.0,9,-999.0000,9,   -999.0,  9,  -999.00,9,   -999.0,  -999.00,9,  -999.00,9,  -999.00,9,  -999.00,9,   -999.0,-999.0000, -999,9,   79,  28.5910,  22.1287,   -999.0,9
       RF01-10,  NONE,RF-1499,  1,     15,02-12809,2,20011125,1517, 15.0027, 144.0095, 4109,    103.7,  26.6553,  35.0837,2,   -999.0,9,-999.0000,9,   -999.0,9,  -999.00,9,  -999.00,9,  -999.00,9,  -999.00,9,  -999.00,9, -999.000,9, -999.000,9,  -999.00,9,   -999.0,9,   -999.0,9,-999.0000,9,   -999.0,  9,  -999.00,9,   -999.0,  -999.00,9,  -999.00,9,  -999.00,9,  -999.00,9,   -999.0,-999.0000, -999,9,  103,  26.6318,  22.8979,   -999.0,9
       RF01-10,  NONE,RF-1499,  1,     14,02-12817,2,20011125,1516, 15.0027, 144.0095, 4109,    129.2,  24.7807,  35.0751,2,   -999.0,9,-999.0000,9,   -999.0,9,  -999.00,9,  -999.00,9,  -999.00,9,  -999.00,9,  -999.00,9, -999.000,9, -999.000,9,  -999.00,9,   -999.0,9,   -999.0,9,-999.0000,9,   -999.0,  9,  -999.00,9,   -999.0,  -999.00,9,  -999.00,9,  -999.00,9,  -999.00,9,   -999.0,-999.0000, -999,9,  128,  24.7528,  23.4729,   -999.0,9
       RF01-10,  NONE,RF-1499,  1,     13,02-15822,2,20011125,1515, 15.0027, 144.0095, 4109,    153.8,  21.9889,  35.0002,2,   -999.0,9,-999.0000,9,   -999.0,9,  -999.00,9,  -999.00,9,  -999.00,9,  -999.00,9,  -999.00,9, -999.000,9, -999.000,9,  -999.00,9,   -999.0,9,   -999.0,9,-999.0000,9,   -999.0,  9,  -999.00,9,   -999.0,  -999.00,9,  -999.00,9,  -999.00,9,  -999.00,9,   -999.0,-999.0000, -999,9,  153,  21.9585,  24.2296,   -999.0,9
       RF01-10,  NONE,RF-1499,  1,     12,02-12821,2,20011125,1513, 15.0027, 144.0095, 4109,    204.4,  18.8426,  34.8300,2,   -999.0,9,  34.8652,4,   -999.0,9,  -999.00,9,  -999.00,9,  -999.00,9,  -999.00,9,  -999.00,9, -999.000,9, -999.000,9,  -999.00,9,   -999.0,9,   -999.0,9,-999.0000,9,   -999.0,  9,  -999.00,9,   -999.0,  -999.00,9,  -999.00,9,  -999.00,9,  -999.00,9,   -999.0,-999.0000, -999,9,  203,  18.8064,  24.9404,   -999.0,9
       RF01-10,  NONE,RF-1499,  1,     11,02-15823,2,20011125,1511, 15.0027, 144.0095, 4109,    255.3,  16.2181,  34.6077,2,   -999.0,9,-999.0000,9,   -999.0,9,  -999.00,9,  -999.00,9,  -999.00,9,  -999.00,9,  -999.00,9, -999.000,9, -999.000,9,  -999.00,9,   -999.0,9,   -999.0,9,-999.0000,9,   -999.0,  9,  -999.00,9,   -999.0,  -999.00,9,  -999.00,9,  -999.00,9,  -999.00,9,   -999.0,-999.0000, -999,9,  254,  16.1774,  25.4052,   -999.0,9
       RF01-10,  NONE,RF-1499,  1,     10,02-12820,2,20011125,1509, 15.0027, 144.0095, 4109,    305.1,  13.0869,  34.3585,2,   -999.0,9,  34.4341,4,   -999.0,9,  -999.00,9,  -999.00,9,  -999.00,9,  -999.00,9,  -999.00,9, -999.000,9, -999.000,9,  -999.00,9,   -999.0,9,   -999.0,9,-999.0000,9,   -999.0,  9,  -999.00,9,   -999.0,  -999.00,9,  -999.00,9,  -999.00,9,  -999.00,9,   -999.0,-999.0000, -999,9,  303,  13.0448,  25.8869,   -999.0,9
       RF01-10,  NONE,RF-1499,  1,      9,02-12810,2,20011125,1506, 15.0027, 144.0095, 4109,    405.8,   9.6186,  34.2909,2,   -999.0,9,  34.3023,2,   -999.0,9,  -999.00,9,  -999.00,9,  -999.00,9,  -999.00,9,  -999.00,9, -999.000,9, -999.000,9,  -999.00,9,   -999.0,9,   -999.0,9,-999.0000,9,   -999.0,  9,  -999.00,9,   -999.0,  -999.00,9,  -999.00,9,  -999.00,9,  -999.00,9,   -999.0,-999.0000, -999,9,  403,   9.5726,  26.4698,   -999.0,9
       RF01-10,  NONE,RF-1499,  1,      8,02-12819,2,20011125,1503, 15.0027, 144.0095, 4109,    506.7,   7.6468,  34.3502,2,   -999.0,9,  34.3396,2,   -999.0,9,  -999.00,9,  -999.00,9,  -999.00,9,  -999.00,9,  -999.00,9, -999.000,9, -999.000,9,  -999.00,9,   -999.0,9,   -999.0,9,-999.0000,9,   -999.0,  9,  -999.00,9,   -999.0,  -999.00,9,  -999.00,9,  -999.00,9,  -999.00,9,   -999.0,-999.0000, -999,9,  503,   7.5963,  26.8227,   -999.0,9
       RF01-10,  NONE,RF-1499,  1,      7,02-15821,2,20011125,1500, 15.0027, 144.0095, 4109,    607.3,   6.7018,  34.4045,2,   -999.0,9,  34.4107,2,   -999.0,9,  -999.00,9,  -999.00,9,  -999.00,9,  -999.00,9,  -999.00,9, -999.000,9, -999.000,9,  -999.00,9,   -999.0,9,   -999.0,9,-999.0000,9,   -999.0,  9,  -999.00,9,   -999.0,  -999.00,9,  -999.00,9,  -999.00,9,  -999.00,9,   -999.0,-999.0000, -999,9,  603,   6.6452,  26.9979,   -999.0,9
       RF01-10,  NONE,RF-1499,  1,      6,02-13588,2,20011125,1457, 15.0027, 144.0095, 4109,    708.3,   5.8971,  34.4548,2,   -999.0,9,  34.4622,2,   -999.0,9,  -999.00,9,  -999.00,9,  -999.00,9,  -999.00,9,  -999.00,9, -999.000,9, -999.000,9,  -999.00,9,   -999.0,9,   -999.0,9,-999.0000,9,   -999.0,  9,  -999.00,9,   -999.0,  -999.00,9,  -999.00,9,  -999.00,9,  -999.00,9,   -999.0,-999.0000, -999,9,  703,   5.8347,  27.1427,   -999.0,9
       RF01-10,  NONE,RF-1499,  1,      5,02-10155,2,20011125,1455, 15.0027, 144.0095, 4109,    808.5,   5.3342,  34.4784,2,   -999.0,9,  34.4894,2,   -999.0,9,  -999.00,9,  -999.00,9,  -999.00,9,  -999.00,9,  -999.00,9, -999.000,9, -999.000,9,  -999.00,9,   -999.0,9,   -999.0,9,-999.0000,9,   -999.0,  9,  -999.00,9,   -999.0,  -999.00,9,  -999.00,9,  -999.00,9,  -999.00,9,   -999.0,-999.0000, -999,9,  802,   5.2660,  27.2306,   -999.0,9
       RF01-10,  NONE,RF-1499,  1,      4,02-13579,2,20011125,1452, 15.0027, 144.0095, 4109,    909.4,   4.7329,  34.5036,2,   -999.0,9,-999.0000,9,   -999.0,9,  -999.00,9,  -999.00,9,  -999.00,9,  -999.00,9,  -999.00,9, -999.000,9, -999.000,9,  -999.00,9,   -999.0,9,   -999.0,9,-999.0000,9,   -999.0,  9,  -999.00,9,   -999.0,  -999.00,9,  -999.00,9,  -999.00,9,  -999.00,9,   -999.0,-999.0000, -999,9,  902,   4.6595,  27.3204,   -999.0,9
       RF01-10,  NONE,RF-1499,  1,      3,02-13590,2,20011125,1449, 15.0027, 144.0095, 4109,   1011.1,   4.3349,  34.5199,2,   -999.0,9,  34.5303,2,   -999.0,9,  -999.00,9,  -999.00,9,  -999.00,9,  -999.00,9,  -999.00,9, -999.000,9, -999.000,9,  -999.00,9,   -999.0,9,   -999.0,9,-999.0000,9,   -999.0,  9,  -999.00,9,   -999.0,  -999.00,9,  -999.00,9,  -999.00,9,  -999.00,9,   -999.0,-999.0000, -999,9, 1003,   4.2557,  27.3774,   -999.0,9
       RF01-10,  NONE,RF-1499,  1,      2,02-13589,2,20011125,1443, 15.0027, 144.0095, 4109,   1264.0,   3.6599,  34.5457,2,   -999.0,9,  34.5531,2,   -999.0,9,  -999.00,9,  -999.00,9,  -999.00,9,  -999.00,9,  -999.00,9, -999.000,9, -999.000,9,  -999.00,9,   -999.0,9,   -999.0,9,-999.0000,9,   -999.0,  9,  -999.00,9,   -999.0,  -999.00,9,  -999.00,9,  -999.00,9,  -999.00,9,   -999.0,-999.0000, -999,9, 1253,   3.5649,  27.4687,   -999.0,9
       RF01-10,  NONE,RF-1499,  1,      1,02-12807,2,20011125,1437, 15.0027, 144.0095, 4109,   1540.4,   2.9315,  34.5726,2,   -999.0,9,  34.5818,2,   -999.0,9,  -999.00,9,  -999.00,9,  -999.00,9,  -999.00,9,  -999.00,9, -999.000,9, -999.000,9,  -999.00,9,   -999.0,9,   -999.0,9,-999.0000,9,   -999.0,  9,  -999.00,9,   -999.0,  -999.00,9,  -999.00,9,  -999.00,9,  -999.00,9,   -999.0,-999.0000, -999,9, 1526,   2.8211,  27.5601,   -999.0,9
       RF01-10,  NONE,RF-1500,  1,     -9,      -9,5,20011125,2147, 16.0157, 143.6158, 4135,      0.0,  29.1481,  34.5461,2,   -999.0,9,-999.0000,9,   -999.0,9,  -999.00,9,  -999.00,9,  -999.00,9,  -999.00,9,  -999.00,9, -999.000,9, -999.000,9,  -999.00,9,   -999.0,9,   -999.0,9,-999.0000,9,   -999.0,  9,  -999.00,9,   -999.0,  -999.00,9,  -999.00,9,  -999.00,9,  -999.00,9,   -999.0,-999.0000, -999,9,    0,  29.1481,  21.6738,   -999.0,9
       RF01-10,  NONE,RF-1500,  1,     19,02-12825,2,20011125,2144, 16.0157, 143.6158, 4135,     13.1,  29.1511,  34.5453,2,   -999.0,9,-999.0000,9,   -999.0,9,  -999.00,9,  -999.00,9,  -999.00,9,  -999.00,9,  -999.00,9, -999.000,9, -999.000,9,  -999.00,9,   -999.0,9,   -999.0,9,-999.0000,9,   -999.0,  9,  -999.00,9,   -999.0,  -999.00,9,  -999.00,9,  -999.00,9,  -999.00,9,   -999.0,-999.0000, -999,9,   13,  29.1480,  21.6732,   -999.0,9
       RF01-10,  NONE,RF-1500,  1,     18,02-12830,2,20011125,2143, 16.0157, 143.6158, 4135,     28.0,  29.1549,  34.5479,2,   -999.0,9,-999.0000,9,   -999.0,9,  -999.00,9,  -999.00,9,  -999.00,9,  -999.00,9,  -999.00,9, -999.000,9, -999.000,9,  -999.00,9,   -999.0,9,   -999.0,9,-999.0000,9,   -999.0,  9,  -999.00,9,   -999.0,  -999.00,9,  -999.00,9,  -999.00,9,  -999.00,9,   -999.0,-999.0000, -999,9,   28,  29.1481,  21.6751,   -999.0,9
       RF01-10,  NONE,RF-1500,  1,     17,02-12815,2,20011125,2141, 16.0157, 143.6158, 4135,     53.1,  29.1522,  34.5462,2,   -999.0,9,-999.0000,9,   -999.0,9,  -999.00,9,  -999.00,9,  -999.00,9,  -999.00,9,  -999.00,9, -999.000,9, -999.000,9,  -999.00,9,   -999.0,9,   -999.0,9,-999.0000,9,   -999.0,  9,  -999.00,9,   -999.0,  -999.00,9,  -999.00,9,  -999.00,9,  -999.00,9,   -999.0,-999.0000, -999,9,   53,  29.1393,  21.6768,   -999.0,9
       RF01-10,  NONE,RF-1500,  1,     16,02-12818,2,20011125,2140, 16.0157, 143.6158, 4135,     79.3,  29.0920,  34.7433,2,   -999.0,9,-999.0000,9,   -999.0,9,  -999.00,9,  -999.00,9,  -999.00,9,  -999.00,9,  -999.00,9, -999.000,9, -999.000,9,  -999.00,9,   -999.0,9,   -999.0,9,-999.0000,9,   -999.0,  9,  -999.00,9,   -999.0,  -999.00,9,  -999.00,9,  -999.00,9,  -999.00,9,   -999.0,-999.0000, -999,9,   79,  29.0728,  21.8470,   -999.0,9
       RF01-10,  NONE,RF-1500,  1,     15,02-12809,2,20011125,2139, 16.0157, 143.6158, 4135,    103.4,  27.4682,  34.9129,2,   -999.0,9,-999.0000,9,   -999.0,9,  -999.00,9,  -999.00,9,  -999.00,9,  -999.00,9,  -999.00,9, -999.000,9, -999.000,9,  -999.00,9,   -999.0,9,   -999.0,9,-999.0000,9,   -999.0,  9,  -999.00,9,   -999.0,  -999.00,9,  -999.00,9,  -999.00,9,  -999.00,9,   -999.0,-999.0000, -999,9,  103,  27.4442,  22.5096,   -999.0,9
       RF01-10,  NONE,RF-1500,  1,     14,02-12817,2,20011125,2137, 16.0157, 143.6158, 4135,    129.1,  26.0409,  35.0922,2,   -999.0,9,-999.0000,9,   -999.0,9,  -999.00,9,  -999.00,9,  -999.00,9,  -999.00,9,  -999.00,9, -999.000,9, -999.000,9,  -999.00,9,   -999.0,9,   -999.0,9,-999.0000,9,   -999.0,  9,  -999.00,9,   -999.0,  -999.00,9,  -999.00,9,  -999.00,9,  -999.00,9,   -999.0,-999.0000, -999,9,  128,  26.0120,  23.0991,   -999.0,9
       RF01-10,  NONE,RF-1500,  1,     13,02-15822,2,20011125,2136, 16.0157, 143.6158, 4135,    154.4,  24.5137,  35.1020,2,   -999.0,9,-999.0000,9,   -999.0,9,  -999.00,9,  -999.00,9,  -999.00,9,  -999.00,9,  -999.00,9, -999.000,9, -999.000,9,  -999.00,9,   -999.0,9,   -999.0,9,-999.0000,9,   -999.0,  9,  -999.00,9,   -999.0,  -999.00,9,  -999.00,9,  -999.00,9,  -999.00,9,   -999.0,-999.0000, -999,9,  153,  24.4807,  23.5752,   -999.0,9
       RF01-10,  NONE,RF-1500,  1,     12,02-12821,2,20011125,2134, 16.0157, 143.6158, 4135,    204.5,  19.2942,  34.8775,2,   -999.0,9,-999.0000,9,   -999.0,9,  -999.00,9,  -999.00,9,  -999.00,9,  -999.00,9,  -999.00,9, -999.000,9, -999.000,9,  -999.00,9,   -999.0,9,   -999.0,9,-999.0000,9,   -999.0,  9,  -999.00,9,   -999.0,  -999.00,9,  -999.00,9,  -999.00,9,  -999.00,9,   -999.0,-999.0000, -999,9,  203,  19.2573,  24.8617,   -999.0,9
       RF01-10,  NONE,RF-1500,  1,     11,02-15823,2,20011125,2132, 16.0157, 143.6158, 4135,    255.5,  15.3191,  34.5924,2,   -999.0,9,-999.0000,9,   -999.0,9,  -999.00,9,  -999.00,9,  -999.00,9,  -999.00,9,  -999.00,9, -999.000,9, -999.000,9,  -999.00,9,   -999.0,9,   -999.0,9,-999.0000,9,   -999.0,  9,  -999.00,9,   -999.0,  -999.00,9,  -999.00,9,  -999.00,9,  -999.00,9,   -999.0,-999.0000, -999,9,  254,  15.2799,  25.5960,   -999.0,9
       RF01-10,  NONE,RF-1500,  1,     10,02-12820,2,20011125,2130, 16.0157, 143.6158, 4135,    304.5,  13.0702,  34.4461,2,   -999.0,9,-999.0000,9,   -999.0,9,  -999.00,9,  -999.00,9,  -999.00,9,  -999.00,9,  -999.00,9, -999.000,9, -999.000,9,  -999.00,9,   -999.0,9,   -999.0,9,-999.0000,9,   -999.0,  9,  -999.00,9,   -999.0,  -999.00,9,  -999.00,9,  -999.00,9,  -999.00,9,   -999.0,-999.0000, -999,9,  302,  13.0282,  25.9581,   -999.0,9
       RF01-10,  NONE,RF-1500,  1,      9,02-12810,2,20011125,2128, 16.0157, 143.6158, 4135,    404.5,   9.5923,  34.2417,2,   -999.0,9,-999.0000,9,   -999.0,9,  -999.00,9,  -999.00,9,  -999.00,9,  -999.00,9,  -999.00,9, -999.000,9, -999.000,9,  -999.00,9,   -999.0,9,   -999.0,9,-999.0000,9,   -999.0,  9,  -999.00,9,   -999.0,  -999.00,9,  -999.00,9,  -999.00,9,  -999.00,9,   -999.0,-999.0000, -999,9,  402,   9.5465,  26.4357,   -999.0,9
       RF01-10,  NONE,RF-1500,  1,      8,02-12819,2,20011125,2125, 16.0157, 143.6158, 4135,    505.2,   7.4952,  34.2642,2,   -999.0,9,-999.0000,9,   -999.0,9,  -999.00,9,  -999.00,9,  -999.00,9,  -999.00,9,  -999.00,9, -999.000,9, -999.000,9,  -999.00,9,   -999.0,9,   -999.0,9,-999.0000,9,   -999.0,  9,  -999.00,9,   -999.0,  -999.00,9,  -999.00,9,  -999.00,9,  -999.00,9,   -999.0,-999.0000, -999,9,  502,   7.4455,  26.7767,   -999.0,9
       RF01-10,  NONE,RF-1500,  1,      7,02-15821,2,20011125,2122, 16.0157, 143.6158, 4135,    607.8,   6.4657,  34.3692,2,   -999.0,9,-999.0000,9,   -999.0,9,  -999.00,9,  -999.00,9,  -999.00,9,  -999.00,9,  -999.00,9, -999.000,9, -999.000,9,  -999.00,9,   -999.0,9,   -999.0,9,-999.0000,9,   -999.0,  9,  -999.00,9,   -999.0,  -999.00,9,  -999.00,9,  -999.00,9,  -999.00,9,   -999.0,-999.0000, -999,9,  603,   6.4101,  27.0013,   -999.0,9
       RF01-10,  NONE,RF-1500,  1,      6,02-13588,2,20011125,2120, 16.0157, 143.6158, 4135,    708.2,   5.6273,  34.4446,2,   -999.0,9,-999.0000,9,   -999.0,9,  -999.00,9,  -999.00,9,  -999.00,9,  -999.00,9,  -999.00,9, -999.000,9, -999.000,9,  -999.00,9,   -999.0,9,   -999.0,9,-999.0000,9,   -999.0,  9,  -999.00,9,   -999.0,  -999.00,9,  -999.00,9,  -999.00,9,  -999.00,9,   -999.0,-999.0000, -999,9,  703,   5.5665,  27.1677,   -999.0,9
       RF01-10,  NONE,RF-1500,  1,      5,02-10155,2,20011125,2117, 16.0157, 143.6158, 4135,    808.3,   5.0915,  34.4745,2,   -999.0,9,-999.0000,9,   -999.0,9,  -999.00,9,  -999.00,9,  -999.00,9,  -999.00,9,  -999.00,9, -999.000,9, -999.000,9,  -999.00,9,   -999.0,9,   -999.0,9,-999.0000,9,   -999.0,  9,  -999.00,9,   -999.0,  -999.00,9,  -999.00,9,  -999.00,9,  -999.00,9,   -999.0,-999.0000, -999,9,  802,   5.0247,  27.2558,   -999.0,9
       RF01-10,  NONE,RF-1500,  1,      4,02-13579,2,20011125,2114, 16.0157, 143.6158, 4135,    910.8,   4.6987,  34.4962,2,   -999.0,9,-999.0000,9,   -999.0,9,  -999.00,9,  -999.00,9,  -999.00,9,  -999.00,9,  -999.00,9, -999.000,9, -999.000,9,  -999.00,9,   -999.0,9,   -999.0,9,-999.0000,9,   -999.0,  9,  -999.00,9,   -999.0,  -999.00,9,  -999.00,9,  -999.00,9,  -999.00,9,   -999.0,-999.0000, -999,9,  903,   4.6255,  27.3182,   -999.0,9
       RF01-10,  NONE,RF-1500,  1,      3,02-13590,2,20011125,2111, 16.0157, 143.6158, 4135,   1011.7,   4.1696,  34.5232,2,   -999.0,9,-999.0000,9,   -999.0,9,  -999.00,9,  -999.00,9,  -999.00,9,  -999.00,9,  -999.00,9, -999.000,9, -999.000,9,  -999.00,9,   -999.0,9,   -999.0,9,-999.0000,9,   -999.0,  9,  -999.00,9,   -999.0,  -999.00,9,  -999.00,9,  -999.00,9,  -999.00,9,   -999.0,-999.0000, -999,9, 1003,   4.0916,  27.3973,   -999.0,9
       RF01-10,  NONE,RF-1500,  1,      2,02-13589,2,20011125,2106, 16.0157, 143.6158, 4135,   1264.0,   3.4068,  34.5497,2,   -999.0,9,-999.0000,9,   -999.0,9,  -999.00,9,  -999.00,9,  -999.00,9,  -999.00,9,  -999.00,9, -999.000,9, -999.000,9,  -999.00,9,   -999.0,9,   -999.0,9,-999.0000,9,   -999.0,  9,  -999.00,9,   -999.0,  -999.00,9,  -999.00,9,  -999.00,9,  -999.00,9,   -999.0,-999.0000, -999,9, 1253,   3.3143,  27.4962,   -999.0,9
       RF01-10,  NONE,RF-1500,  1,      1,02-12807,2,20011125,2101, 16.0157, 143.6158, 4135,   1539.3,   2.7639,  34.5774,2,   -999.0,9,-999.0000,9,   -999.0,9,  -999.00,9,  -999.00,9,  -999.00,9,  -999.00,9,  -999.00,9, -999.000,9, -999.000,9,  -999.00,9,   -999.0,9,   -999.0,9,-999.0000,9,   -999.0,  9,  -999.00,9,   -999.0,  -999.00,9,  -999.00,9,  -999.00,9,  -999.00,9,   -999.0,-999.0000, -999,9, 1525,   2.6555,  27.5786,   -999.0,9