BOTTLE,20130510GEMDJMAYT
EXPOCODE,SECT_ID,STNNBR,CASTNO,SAMPNO,BTLNBR,BTLNBR_FLAG_W,DATE,TIME,LATITUDE,LONGITUDE,DEPTH,CTDPRS,CTDTMP,CTDSAL,CTDSAL_FLAG_W,CTDOXY,CTDOXY_FLAG_W,SALNTY,SALNTY_FLAG_W,OXYGEN,OXYGEN_FLAG_W,SILCAT,SILCAT_FLAG_W,NITRAT,NITRAT_FLAG_W,NO2+NO3,NO2+NO3_FLAG_W,NITRIT,NITRIT_FLAG_W,PHSPHT,PHSPHT_FLAG_W,CFC-11,CFC-11_FLAG_W,CFC-12,CFC-12_FLAG_W,DELC13,DELC13_FLAG_W,TCARBN,TCARBN_FLAG_W,ALKALI,ALKALI_FLAG_W,PH,PH_FLAG_W,PH_TMP,PH_SCALE,PH_NBS,PH_NBS_FLAG_W,C13ERR,TOTALP,TOTALP_FLAG_W,AMMONI,AMMONI_FLAG_W,CHLORA,CHLORA_FLAG_W,PPHYTN,PPHYTN_FLAG_W,REVPRS,REVTMP,DEPTH_,DEPTH_FLAG,CTDDEP,THETA,SIGTHT,DOC,DOC_FLAG_W
,,,,,,,GMT,GMT,,,METER,DBAR,ITS-90,PSS-78,,UMOL/KG,,PSS-78,,UMOL/KG,,UMOL/KG,,UMOL/KG,,UMOL/KG,,UMOL/KG,,UMOL/KG,,PMOL/KG,,PMOL/KG,,/MILLE,,UMOL/KG,,UMOL/KG,,25_DEG_C,,DEG_C,,,,/MILLE,UMOL/KG,,UMOL/KG,,UG/L,,UG/L,,DBAR,ITS-90,METERS,,METERS,DEG_C,,UMOL/L,
       RF01-10,  137E,RF-1523,  1,     -9,      -9,5,20011202,1108, 31.0058, 136.7917, 4731,      0.0,  22.6453,  34.7287,2,   -999.0,9,-999.0000,9,   -999.0,9,  -999.00,9,  -999.00,9,  -999.00,9,  -999.00,9,  -999.00,9, -999.000,9, -999.000,9,  -999.00,9,   -999.0,9,   -999.0,9,-999.0000,9,   -999.0,  9,  -999.00,9,   -999.0,  -999.00,9,  -999.00,9,  -999.00,9,  -999.00,9,   -999.0,-999.0000, -999,9,    0,  22.6453,  23.8294,   -999.0,9
       RF01-10,  137E,RF-1523,  1,     19,02-12825,2,20011202,1105, 31.0058, 136.7917, 4731,      9.9,  22.6529,  34.7294,2,   -999.0,9,-999.0000,9,   -999.0,9,  -999.00,9,  -999.00,9,  -999.00,9,  -999.00,9,  -999.00,9, -999.000,9, -999.000,9,  -999.00,9,   -999.0,9,   -999.0,9,-999.0000,9,   -999.0,  9,  -999.00,9,   -999.0,  -999.00,9,  -999.00,9,  -999.00,9,  -999.00,9,   -999.0,-999.0000, -999,9,   10,  22.6509,  23.8284,   -999.0,9
       RF01-10,  137E,RF-1523,  1,     18,02-12830,2,20011202,1104, 31.0058, 136.7917, 4731,     25.0,  22.6566,  34.7310,2,   -999.0,9,-999.0000,9,   -999.0,9,  -999.00,9,  -999.00,9,  -999.00,9,  -999.00,9,  -999.00,9, -999.000,9, -999.000,9,  -999.00,9,   -999.0,9,   -999.0,9,-999.0000,9,   -999.0,  9,  -999.00,9,   -999.0,  -999.00,9,  -999.00,9,  -999.00,9,  -999.00,9,   -999.0,-999.0000, -999,9,   25,  22.6516,  23.8294,   -999.0,9
       RF01-10,  137E,RF-1523,  1,     17,02-12815,2,20011202,1103, 31.0058, 136.7917, 4731,     49.9,  22.6522,  34.7276,2,   -999.0,9,-999.0000,9,   -999.0,9,  -999.00,9,  -999.00,9,  -999.00,9,  -999.00,9,  -999.00,9, -999.000,9, -999.000,9,  -999.00,9,   -999.0,9,   -999.0,9,-999.0000,9,   -999.0,  9,  -999.00,9,   -999.0,  -999.00,9,  -999.00,9,  -999.00,9,  -999.00,9,   -999.0,-999.0000, -999,9,   50,  22.6422,  23.8295,   -999.0,9
       RF01-10,  137E,RF-1523,  1,     16,02-12818,2,20011202,1102, 31.0058, 136.7917, 4731,     74.7,  22.6212,  34.7292,2,   -999.0,9,-999.0000,9,   -999.0,9,  -999.00,9,  -999.00,9,  -999.00,9,  -999.00,9,  -999.00,9, -999.000,9, -999.000,9,  -999.00,9,   -999.0,9,   -999.0,9,-999.0000,9,   -999.0,  9,  -999.00,9,   -999.0,  -999.00,9,  -999.00,9,  -999.00,9,  -999.00,9,   -999.0,-999.0000, -999,9,   74,  22.6062,  23.8410,   -999.0,9
       RF01-10,  137E,RF-1523,  1,     15,02-12809,2,20011202,1100, 31.0058, 136.7917, 4731,    100.3,  21.9970,  34.8282,2,   -999.0,9,-999.0000,9,   -999.0,9,  -999.00,9,  -999.00,9,  -999.00,9,  -999.00,9,  -999.00,9, -999.000,9, -999.000,9,  -999.00,9,   -999.0,9,   -999.0,9,-999.0000,9,   -999.0,  9,  -999.00,9,   -999.0,  -999.00,9,  -999.00,9,  -999.00,9,  -999.00,9,   -999.0,-999.0000, -999,9,  100,  21.9772,  24.0936,   -999.0,9
       RF01-10,  137E,RF-1523,  1,     14,02-12817,2,20011202,1059, 31.0058, 136.7917, 4731,    125.2,  20.8571,  34.8110,2,   -999.0,9,-999.0000,9,   -999.0,9,  -999.00,9,  -999.00,9,  -999.00,9,  -999.00,9,  -999.00,9, -999.000,9, -999.000,9,  -999.00,9,   -999.0,9,   -999.0,9,-999.0000,9,   -999.0,  9,  -999.00,9,   -999.0,  -999.00,9,  -999.00,9,  -999.00,9,  -999.00,9,   -999.0,-999.0000, -999,9,  124,  20.8333,  24.3952,   -999.0,9
       RF01-10,  137E,RF-1523,  1,     13,02-15822,2,20011202,1058, 31.0058, 136.7917, 4731,    150.1,  20.0461,  34.7966,2,   -999.0,9,-999.0000,9,   -999.0,9,  -999.00,9,  -999.00,9,  -999.00,9,  -999.00,9,  -999.00,9, -999.000,9, -999.000,9,  -999.00,9,   -999.0,9,   -999.0,9,-999.0000,9,   -999.0,  9,  -999.00,9,   -999.0,  -999.00,9,  -999.00,9,  -999.00,9,  -999.00,9,   -999.0,-999.0000, -999,9,  149,  20.0184,  24.6017,   -999.0,9
       RF01-10,  137E,RF-1523,  1,     12,02-12821,2,20011202,1056, 31.0058, 136.7917, 4731,    200.2,  19.2616,  34.8043,2,   -999.0,9,-999.0000,9,   -999.0,9,  -999.00,9,  -999.00,9,  -999.00,9,  -999.00,9,  -999.00,9, -999.000,9, -999.000,9,  -999.00,9,   -999.0,9,   -999.0,9,-999.0000,9,   -999.0,  9,  -999.00,9,   -999.0,  -999.00,9,  -999.00,9,  -999.00,9,  -999.00,9,   -999.0,-999.0000, -999,9,  199,  19.2256,  24.8139,   -999.0,9
       RF01-10,  137E,RF-1523,  1,     11,02-15823,2,20011202,1054, 31.0058, 136.7917, 4731,    250.8,  18.7087,  34.8029,2,   -999.0,9,-999.0000,9,   -999.0,9,  -999.00,9,  -999.00,9,  -999.00,9,  -999.00,9,  -999.00,9, -999.000,9, -999.000,9,  -999.00,9,   -999.0,9,   -999.0,9,-999.0000,9,   -999.0,  9,  -999.00,9,   -999.0,  -999.00,9,  -999.00,9,  -999.00,9,  -999.00,9,   -999.0,-999.0000, -999,9,  249,  18.6645,  24.9556,   -999.0,9
       RF01-10,  137E,RF-1523,  1,     10,02-12820,2,20011202,1052, 31.0058, 136.7917, 4731,    301.4,  17.7570,  34.7625,2,   -999.0,9,-999.0000,9,   -999.0,9,  -999.00,9,  -999.00,9,  -999.00,9,  -999.00,9,  -999.00,9, -999.000,9, -999.000,9,  -999.00,9,   -999.0,9,   -999.0,9,-999.0000,9,   -999.0,  9,  -999.00,9,   -999.0,  -999.00,9,  -999.00,9,  -999.00,9,  -999.00,9,   -999.0,-999.0000, -999,9,  299,  17.7056,  25.1622,   -999.0,9
       RF01-10,  137E,RF-1523,  1,      9,02-12810,2,20011202,1049, 31.0058, 136.7917, 4731,    401.8,  16.1117,  34.6885,2,   -999.0,9,-999.0000,9,   -999.0,9,  -999.00,9,  -999.00,9,  -999.00,9,  -999.00,9,  -999.00,9, -999.000,9, -999.000,9,  -999.00,9,   -999.0,9,   -999.0,9,-999.0000,9,   -999.0,  9,  -999.00,9,   -999.0,  -999.00,9,  -999.00,9,  -999.00,9,  -999.00,9,   -999.0,-999.0000, -999,9,  399,  16.0476,  25.4971,   -999.0,9
       RF01-10,  137E,RF-1523,  1,      8,02-12819,2,20011202,1046, 31.0058, 136.7917, 4731,    503.2,  13.9145,  34.5439,2,   -999.0,9,-999.0000,9,   -999.0,9,  -999.00,9,  -999.00,9,  -999.00,9,  -999.00,9,  -999.00,9, -999.000,9, -999.000,9,  -999.00,9,   -999.0,9,   -999.0,9,-999.0000,9,   -999.0,  9,  -999.00,9,   -999.0,  -999.00,9,  -999.00,9,  -999.00,9,  -999.00,9,   -999.0,-999.0000, -999,9,  499,  13.8416,  25.8677,   -999.0,9
       RF01-10,  137E,RF-1523,  1,      7,02-15821,2,20011202,1043, 31.0058, 136.7917, 4731,    603.7,  11.1121,  34.3729,2,   -999.0,9,-999.0000,9,   -999.0,9,  -999.00,9,  -999.00,9,  -999.00,9,  -999.00,9,  -999.00,9, -999.000,9, -999.000,9,  -999.00,9,   -999.0,9,   -999.0,9,-999.0000,9,   -999.0,  9,  -999.00,9,   -999.0,  -999.00,9,  -999.00,9,  -999.00,9,  -999.00,9,   -999.0,-999.0000, -999,9,  599,  11.0363,  26.2806,   -999.0,9
       RF01-10,  137E,RF-1523,  1,      6,02-13588,2,20011202,1040, 31.0058, 136.7917, 4731,    704.2,   8.9196,  34.2342,2,   -999.0,9,-999.0000,9,   -999.0,9,  -999.00,9,  -999.00,9,  -999.00,9,  -999.00,9,  -999.00,9, -999.000,9, -999.000,9,  -999.00,9,   -999.0,9,   -999.0,9,-999.0000,9,   -999.0,  9,  -999.00,9,   -999.0,  -999.00,9,  -999.00,9,  -999.00,9,  -999.00,9,   -999.0,-999.0000, -999,9,  698,   8.8421,  26.5434,   -999.0,9
       RF01-10,  137E,RF-1523,  1,      5,02-10155,2,20011202,1038, 31.0058, 136.7917, 4731,    805.5,   7.2355,  34.2358,2,   -999.0,9,-999.0000,9,   -999.0,9,  -999.00,9,  -999.00,9,  -999.00,9,  -999.00,9,  -999.00,9, -999.000,9, -999.000,9,  -999.00,9,   -999.0,9,   -999.0,9,-999.0000,9,   -999.0,  9,  -999.00,9,   -999.0,  -999.00,9,  -999.00,9,  -999.00,9,  -999.00,9,   -999.0,-999.0000, -999,9,  798,   7.1563,  26.7951,   -999.0,9
       RF01-10,  137E,RF-1523,  1,      4,02-13579,2,20011202,1035, 31.0058, 136.7917, 4731,    906.7,   5.9806,  34.2600,2,   -999.0,9,-999.0000,9,   -999.0,9,  -999.00,9,  -999.00,9,  -999.00,9,  -999.00,9,  -999.00,9, -999.000,9, -999.000,9,  -999.00,9,   -999.0,9,   -999.0,9,-999.0000,9,   -999.0,  9,  -999.00,9,   -999.0,  -999.00,9,  -999.00,9,  -999.00,9,  -999.00,9,   -999.0,-999.0000, -999,9,  899,   5.8993,  26.9806,   -999.0,9
       RF01-10,  137E,RF-1523,  1,      3,02-13590,2,20011202,1032, 31.0058, 136.7917, 4731,   1007.8,   4.9322,  34.3141,2,   -999.0,9,-999.0000,9,   -999.0,9,  -999.00,9,  -999.00,9,  -999.00,9,  -999.00,9,  -999.00,9, -999.000,9, -999.000,9,  -999.00,9,   -999.0,9,   -999.0,9,-999.0000,9,   -999.0,  9,  -999.00,9,   -999.0,  -999.00,9,  -999.00,9,  -999.00,9,  -999.00,9,   -999.0,-999.0000, -999,9,  998,   4.8490,  27.1487,   -999.0,9
       RF01-10,  137E,RF-1523,  1,      2,02-13589,2,20011202,1026, 31.0058, 136.7917, 4731,   1261.2,   3.4737,  34.4364,2,   -999.0,9,-999.0000,9,   -999.0,9,  -999.00,9,  -999.00,9,  -999.00,9,  -999.00,9,  -999.00,9, -999.000,9, -999.000,9,  -999.00,9,   -999.0,9,   -999.0,9,-999.0000,9,   -999.0,  9,  -999.00,9,   -999.0,  -999.00,9,  -999.00,9,  -999.00,9,  -999.00,9,   -999.0,-999.0000, -999,9, 1249,   3.3810,  27.3995,   -999.0,9
       RF01-10,  137E,RF-1523,  1,      1,02-12807,2,20011202,1019, 31.0058, 136.7917, 4731,   1535.3,   2.8226,  34.5034,2,   -999.0,9,-999.0000,9,   -999.0,9,  -999.00,9,  -999.00,9,  -999.00,9,  -999.00,9,  -999.00,9, -999.000,9, -999.000,9,  -999.00,9,   -999.0,9,   -999.0,9,-999.0000,9,   -999.0,  9,  -999.00,9,   -999.0,  -999.00,9,  -999.00,9,  -999.00,9,  -999.00,9,   -999.0,-999.0000, -999,9, 1519,   2.7141,  27.5143,   -999.0,9
       RF01-10,  137E,RF-1525,  1,     -9,      -9,5,20011202,1907, 31.9987, 136.2778, 4338,      0.0,  23.0695,  34.7265,2,   -999.0,9,-999.0000,9,   -999.0,9,  -999.00,9,  -999.00,9,  -999.00,9,  -999.00,9,  -999.00,9, -999.000,9, -999.000,9,  -999.00,9,   -999.0,9,   -999.0,9,-999.0000,9,   -999.0,  9,  -999.00,9,   -999.0,  -999.00,9,  -999.00,9,  -999.00,9,  -999.00,9,   -999.0,-999.0000, -999,9,    0,  23.0695,  23.7062,   -999.0,9
       RF01-10,  137E,RF-1525,  1,     19,02-12825,2,20011202,1904, 31.9987, 136.2778, 4338,     11.1,  23.0770,  34.7257,2,   -999.0,9,-999.0000,9,   -999.0,9,  -999.00,9,  -999.00,9,  -999.00,9,  -999.00,9,  -999.00,9, -999.000,9, -999.000,9,  -999.00,9,   -999.0,9,   -999.0,9,-999.0000,9,   -999.0,  9,  -999.00,9,   -999.0,  -999.00,9,  -999.00,9,  -999.00,9,  -999.00,9,   -999.0,-999.0000, -999,9,   11,  23.0748,  23.7041,   -999.0,9
       RF01-10,  137E,RF-1525,  1,     18,02-12830,2,20011202,1903, 31.9987, 136.2778, 4338,     26.4,  23.0812,  34.7252,2,   -999.0,9,-999.0000,9,   -999.0,9,  -999.00,9,  -999.00,9,  -999.00,9,  -999.00,9,  -999.00,9, -999.000,9, -999.000,9,  -999.00,9,   -999.0,9,   -999.0,9,-999.0000,9,   -999.0,  9,  -999.00,9,   -999.0,  -999.00,9,  -999.00,9,  -999.00,9,  -999.00,9,   -999.0,-999.0000, -999,9,   26,  23.0758,  23.7033,   -999.0,9
       RF01-10,  137E,RF-1525,  1,     17,02-12815,2,20011202,1902, 31.9987, 136.2778, 4338,     51.5,  22.8263,  34.6968,2,   -999.0,9,-999.0000,9,   -999.0,9,  -999.00,9,  -999.00,9,  -999.00,9,  -999.00,9,  -999.00,9, -999.000,9, -999.000,9,  -999.00,9,   -999.0,9,   -999.0,9,-999.0000,9,   -999.0,  9,  -999.00,9,   -999.0,  -999.00,9,  -999.00,9,  -999.00,9,  -999.00,9,   -999.0,-999.0000, -999,9,   51,  22.8159,  23.7565,   -999.0,9
       RF01-10,  137E,RF-1525,  1,     16,02-12818,2,20011202,1901, 31.9987, 136.2778, 4338,     76.2,  22.7361,  34.6966,2,   -999.0,9,-999.0000,9,   -999.0,9,  -999.00,9,  -999.00,9,  -999.00,9,  -999.00,9,  -999.00,9, -999.000,9, -999.000,9,  -999.00,9,   -999.0,9,   -999.0,9,-999.0000,9,   -999.0,  9,  -999.00,9,   -999.0,  -999.00,9,  -999.00,9,  -999.00,9,  -999.00,9,   -999.0,-999.0000, -999,9,   76,  22.7207,  23.7836,   -999.0,9
       RF01-10,  137E,RF-1525,  1,     15,02-12809,2,20011202,1859, 31.9987, 136.2778, 4338,    101.9,  22.7264,  34.7021,2,   -999.0,9,  34.6892,4,   -999.0,9,  -999.00,9,  -999.00,9,  -999.00,9,  -999.00,9,  -999.00,9, -999.000,9, -999.000,9,  -999.00,9,   -999.0,9,   -999.0,9,-999.0000,9,   -999.0,  9,  -999.00,9,   -999.0,  -999.00,9,  -999.00,9,  -999.00,9,  -999.00,9,   -999.0,-999.0000, -999,9,  101,  22.7058,  23.7920,   -999.0,9
       RF01-10,  137E,RF-1525,  1,     14,02-12817,2,20011202,1858, 31.9987, 136.2778, 4338,    126.8,  21.9087,  34.6958,2,   -999.0,9,-999.0000,9,   -999.0,9,  -999.00,9,  -999.00,9,  -999.00,9,  -999.00,9,  -999.00,9, -999.000,9, -999.000,9,  -999.00,9,   -999.0,9,   -999.0,9,-999.0000,9,   -999.0,  9,  -999.00,9,   -999.0,  -999.00,9,  -999.00,9,  -999.00,9,  -999.00,9,   -999.0,-999.0000, -999,9,  126,  21.8837,  24.0192,   -999.0,9
       RF01-10,  137E,RF-1525,  1,     13,02-15822,2,20011202,1856, 31.9987, 136.2778, 4338,    152.4,  20.3192,  34.7830,2,   -999.0,9,-999.0000,9,   -999.0,9,  -999.00,9,  -999.00,9,  -999.00,9,  -999.00,9,  -999.00,9, -999.000,9, -999.000,9,  -999.00,9,   -999.0,9,   -999.0,9,-999.0000,9,   -999.0,  9,  -999.00,9,   -999.0,  -999.00,9,  -999.00,9,  -999.00,9,  -999.00,9,   -999.0,-999.0000, -999,9,  151,  20.2907,  24.5193,   -999.0,9
       RF01-10,  137E,RF-1525,  1,     12,02-12821,2,20011202,1854, 31.9987, 136.2778, 4338,    201.9,  19.3435,  34.7980,2,   -999.0,9,  34.7829,4,   -999.0,9,  -999.00,9,  -999.00,9,  -999.00,9,  -999.00,9,  -999.00,9, -999.000,9, -999.000,9,  -999.00,9,   -999.0,9,   -999.0,9,-999.0000,9,   -999.0,  9,  -999.00,9,   -999.0,  -999.00,9,  -999.00,9,  -999.00,9,  -999.00,9,   -999.0,-999.0000, -999,9,  200,  19.3070,  24.7881,   -999.0,9
       RF01-10,  137E,RF-1525,  1,     11,02-15823,2,20011202,1852, 31.9987, 136.2778, 4338,    252.7,  18.6973,  34.8082,2,   -999.0,9,-999.0000,9,   -999.0,9,  -999.00,9,  -999.00,9,  -999.00,9,  -999.00,9,  -999.00,9, -999.000,9, -999.000,9,  -999.00,9,   -999.0,9,   -999.0,9,-999.0000,9,   -999.0,  9,  -999.00,9,   -999.0,  -999.00,9,  -999.00,9,  -999.00,9,  -999.00,9,   -999.0,-999.0000, -999,9,  251,  18.6527,  24.9625,   -999.0,9
       RF01-10,  137E,RF-1525,  1,     10,02-12820,2,20011202,1851, 31.9987, 136.2778, 4338,    302.7,  17.9448,  34.7842,2,   -999.0,9,  34.7747,2,   -999.0,9,  -999.00,9,  -999.00,9,  -999.00,9,  -999.00,9,  -999.00,9, -999.000,9, -999.000,9,  -999.00,9,   -999.0,9,   -999.0,9,-999.0000,9,   -999.0,  9,  -999.00,9,   -999.0,  -999.00,9,  -999.00,9,  -999.00,9,  -999.00,9,   -999.0,-999.0000, -999,9,  300,  17.8929,  25.1331,   -999.0,9
       RF01-10,  137E,RF-1525,  1,      9,02-12810,2,20011202,1848, 31.9987, 136.2778, 4338,    403.4,  16.2595,  34.7055,2,   -999.0,9,  34.7056,2,   -999.0,9,  -999.00,9,  -999.00,9,  -999.00,9,  -999.00,9,  -999.00,9, -999.000,9, -999.000,9,  -999.00,9,   -999.0,9,   -999.0,9,-999.0000,9,   -999.0,  9,  -999.00,9,   -999.0,  -999.00,9,  -999.00,9,  -999.00,9,  -999.00,9,   -999.0,-999.0000, -999,9,  400,  16.1947,  25.4764,   -999.0,9
       RF01-10,  137E,RF-1525,  1,      8,02-12819,2,20011202,1845, 31.9987, 136.2778, 4338,    504.7,  14.3074,  34.6010,2,   -999.0,9,  34.5690,4,   -999.0,9,  -999.00,9,  -999.00,9,  -999.00,9,  -999.00,9,  -999.00,9, -999.000,9, -999.000,9,  -999.00,9,   -999.0,9,   -999.0,9,-999.0000,9,   -999.0,  9,  -999.00,9,   -999.0,  -999.00,9,  -999.00,9,  -999.00,9,  -999.00,9,   -999.0,-999.0000, -999,9,  501,  14.2329,  25.8296,   -999.0,9
       RF01-10,  137E,RF-1525,  1,      7,02-15821,2,20011202,1842, 31.9987, 136.2778, 4338,    604.9,  11.7094,  34.4029,2,   -999.0,9,  34.3877,2,   -999.0,9,  -999.00,9,  -999.00,9,  -999.00,9,  -999.00,9,  -999.00,9, -999.000,9, -999.000,9,  -999.00,9,   -999.0,9,   -999.0,9,-999.0000,9,   -999.0,  9,  -999.00,9,   -999.0,  -999.00,9,  -999.00,9,  -999.00,9,  -999.00,9,   -999.0,-999.0000, -999,9,  600,  11.6309,  26.1948,   -999.0,9
       RF01-10,  137E,RF-1525,  1,      6,02-13588,2,20011202,1839, 31.9987, 136.2778, 4338,    705.8,   9.1809,  34.3148,2,   -999.0,9,  34.3005,2,   -999.0,9,  -999.00,9,  -999.00,9,  -999.00,9,  -999.00,9,  -999.00,9, -999.000,9, -999.000,9,  -999.00,9,   -999.0,9,   -999.0,9,-999.0000,9,   -999.0,  9,  -999.00,9,   -999.0,  -999.00,9,  -999.00,9,  -999.00,9,  -999.00,9,   -999.0,-999.0000, -999,9,  700,   9.1017,  26.5653,   -999.0,9
       RF01-10,  137E,RF-1525,  1,      5,02-10155,2,20011202,1836, 31.9987, 136.2778, 4338,    807.5,   7.1618,  34.2322,2,   -999.0,9,  34.2157,2,   -999.0,9,  -999.00,9,  -999.00,9,  -999.00,9,  -999.00,9,  -999.00,9, -999.000,9, -999.000,9,  -999.00,9,   -999.0,9,   -999.0,9,-999.0000,9,   -999.0,  9,  -999.00,9,   -999.0,  -999.00,9,  -999.00,9,  -999.00,9,  -999.00,9,   -999.0,-999.0000, -999,9,  800,   7.0829,  26.8025,   -999.0,9
       RF01-10,  137E,RF-1525,  1,      4,02-13579,2,20011202,1833, 31.9987, 136.2778, 4338,    908.0,   6.0094,  34.2619,2,   -999.0,9,-999.0000,9,   -999.0,9,  -999.00,9,  -999.00,9,  -999.00,9,  -999.00,9,  -999.00,9, -999.000,9, -999.000,9,  -999.00,9,   -999.0,9,   -999.0,9,-999.0000,9,   -999.0,  9,  -999.00,9,   -999.0,  -999.00,9,  -999.00,9,  -999.00,9,  -999.00,9,   -999.0,-999.0000, -999,9,  900,   5.9278,  26.9785,   -999.0,9
       RF01-10,  137E,RF-1525,  1,      3,02-13590,2,20011202,1830, 31.9987, 136.2778, 4338,   1009.7,   5.0210,  34.3298,2,   -999.0,9,  34.3188,2,   -999.0,9,  -999.00,9,  -999.00,9,  -999.00,9,  -999.00,9,  -999.00,9, -999.000,9, -999.000,9,  -999.00,9,   -999.0,9,   -999.0,9,-999.0000,9,   -999.0,  9,  -999.00,9,   -999.0,  -999.00,9,  -999.00,9,  -999.00,9,  -999.00,9,   -999.0,-999.0000, -999,9, 1000,   4.9370,  27.1511,   -999.0,9
       RF01-10,  137E,RF-1525,  1,      2,02-13589,2,20011202,1824, 31.9987, 136.2778, 4338,   1263.4,   3.5063,  34.4378,2,   -999.0,9,  34.4276,2,   -999.0,9,  -999.00,9,  -999.00,9,  -999.00,9,  -999.00,9,  -999.00,9, -999.000,9, -999.000,9,  -999.00,9,   -999.0,9,   -999.0,9,-999.0000,9,   -999.0,  9,  -999.00,9,   -999.0,  -999.00,9,  -999.00,9,  -999.00,9,  -999.00,9,   -999.0,-999.0000, -999,9, 1251,   3.4131,  27.3976,   -999.0,9
       RF01-10,  137E,RF-1525,  1,      1,02-12807,2,20011202,1817, 31.9987, 136.2778, 4338,   1536.7,   2.7790,  34.5067,2,   -999.0,9,  34.4949,2,   -999.0,9,  -999.00,9,  -999.00,9,  -999.00,9,  -999.00,9,  -999.00,9, -999.000,9, -999.000,9,  -999.00,9,   -999.0,9,   -999.0,9,-999.0000,9,   -999.0,  9,  -999.00,9,   -999.0,  -999.00,9,  -999.00,9,  -999.00,9,  -999.00,9,   -999.0,-999.0000, -999,9, 1520,   2.6708,  27.5207,   -999.0,9