BOTTLE,20130510GEMDJMAYT
EXPOCODE,SECT_ID,STNNBR,CASTNO,SAMPNO,BTLNBR,BTLNBR_FLAG_W,DATE,TIME,LATITUDE,LONGITUDE,DEPTH,CTDPRS,CTDTMP,CTDSAL,CTDSAL_FLAG_W,CTDOXY,CTDOXY_FLAG_W,SALNTY,SALNTY_FLAG_W,OXYGEN,OXYGEN_FLAG_W,SILCAT,SILCAT_FLAG_W,NITRAT,NITRAT_FLAG_W,NO2+NO3,NO2+NO3_FLAG_W,NITRIT,NITRIT_FLAG_W,PHSPHT,PHSPHT_FLAG_W,CFC-11,CFC-11_FLAG_W,CFC-12,CFC-12_FLAG_W,DELC13,DELC13_FLAG_W,TCARBN,TCARBN_FLAG_W,ALKALI,ALKALI_FLAG_W,PH,PH_FLAG_W,PH_TMP,PH_SCALE,PH_NBS,PH_NBS_FLAG_W,C13ERR,TOTALP,TOTALP_FLAG_W,AMMONI,AMMONI_FLAG_W,CHLORA,CHLORA_FLAG_W,PPHYTN,PPHYTN_FLAG_W,REVPRS,REVTMP,DEPTH_,DEPTH_FLAG,CTDDEP,THETA,SIGTHT,DOC,DOC_FLAG_W
,,,,,,,GMT,GMT,,,METER,DBAR,ITS-90,PSS-78,,UMOL/KG,,PSS-78,,UMOL/KG,,UMOL/KG,,UMOL/KG,,UMOL/KG,,UMOL/KG,,UMOL/KG,,PMOL/KG,,PMOL/KG,,/MILLE,,UMOL/KG,,UMOL/KG,,25_DEG_C,,DEG_C,,,,/MILLE,UMOL/KG,,UMOL/KG,,UG/L,,UG/L,,DBAR,ITS-90,METERS,,METERS,DEG_C,,UMOL/L,
       RF01-10,  165E,RF-1433,  1,     -9,      -9,5,20011020,0150, 24.0037, 165.0003, 6062,      0.0,  28.0858,  35.0068,2,   -999.0,9,-999.0000,9,   -999.0,9,  -999.00,9,  -999.00,9,  -999.00,9,  -999.00,9,  -999.00,9,    1.695,2,    1.010,2,  -999.00,9,   -999.0,9,   -999.0,9,-999.0000,9,   -999.0,  9,  -999.00,9,   -999.0,  -999.00,9,  -999.00,9,  -999.00,9,  -999.00,9,   -999.0,-999.0000, -999,9,    0,  28.0858,  22.3717,   -999.0,9
       RF01-10,  165E,RF-1433,  1,     21, 02-9150,2,20011020,0147, 24.0037, 165.0003, 6062,      7.5,  28.0831,  35.0072,2,   -999.0,9,-999.0000,9,   -999.0,9,  -999.00,9,  -999.00,9,  -999.00,9,  -999.00,9,  -999.00,9,    1.696,2,    1.010,2,  -999.00,9,   -999.0,9,   -999.0,9,-999.0000,9,   -999.0,  9,  -999.00,9,   -999.0,  -999.00,9,  -999.00,9,  -999.00,9,  -999.00,9,   -999.0,-999.0000, -999,9,    7,  28.0814,  22.3734,   -999.0,9
       RF01-10,  165E,RF-1433,  1,     20,02-12826,2,20011020,0146, 24.0037, 165.0003, 6062,     20.7,  28.0120,  34.9986,2,   -999.0,9,-999.0000,9,   -999.0,9,  -999.00,9,  -999.00,9,  -999.00,9,  -999.00,9,  -999.00,9,    1.700,2,    1.013,2,  -999.00,9,   -999.0,9,   -999.0,9,-999.0000,9,   -999.0,  9,  -999.00,9,   -999.0,  -999.00,9,  -999.00,9,  -999.00,9,  -999.00,9,   -999.0,-999.0000, -999,9,   21,  28.0071,  22.3912,   -999.0,9
       RF01-10,  165E,RF-1433,  1,     19,02-12825,2,20011020,0145, 24.0037, 165.0003, 6062,     47.5,  23.6869,  35.1164,2,   -999.0,9,-999.0000,9,   -999.0,9,  -999.00,9,  -999.00,9,  -999.00,9,  -999.00,9,  -999.00,9,    2.030,2,    1.178,2,  -999.00,9,   -999.0,9,   -999.0,9,-999.0000,9,   -999.0,  9,  -999.00,9,   -999.0,  -999.00,9,  -999.00,9,  -999.00,9,  -999.00,9,   -999.0,-999.0000, -999,9,   47,  23.6770,  23.8248,   -999.0,9
       RF01-10,  165E,RF-1433,  1,     18,02-12830,2,20011020,0144, 24.0037, 165.0003, 6062,     71.3,  21.0859,  34.9416,2,   -999.0,9,-999.0000,9,   -999.0,9,  -999.00,9,  -999.00,9,  -999.00,9,  -999.00,9,  -999.00,9,    2.321,2,    1.296,2,  -999.00,9,   -999.0,9,   -999.0,9,-999.0000,9,   -999.0,  9,  -999.00,9,   -999.0,  -999.00,9,  -999.00,9,  -999.00,9,  -999.00,9,   -999.0,-999.0000, -999,9,   71,  21.0722,  24.4298,   -999.0,9
       RF01-10,  165E,RF-1433,  1,     17,02-12815,2,20011020,0142, 24.0037, 165.0003, 6062,     97.5,  18.7789,  34.8030,2,   -999.0,9,  34.8071,2,   -999.0,9,  -999.00,9,  -999.00,9,  -999.00,9,  -999.00,9,  -999.00,9,    2.577,2,    1.416,2,  -999.00,9,   -999.0,9,   -999.0,9,-999.0000,9,   -999.0,  9,  -999.00,9,   -999.0,  -999.00,9,  -999.00,9,  -999.00,9,  -999.00,9,   -999.0,-999.0000, -999,9,   97,  18.7617,  24.9311,   -999.0,9
       RF01-10,  165E,RF-1433,  1,     16,02-12818,2,20011020,0141, 24.0037, 165.0003, 6062,    121.2,  17.9345,  34.7206,2,   -999.0,9,-999.0000,9,   -999.0,9,  -999.00,9,  -999.00,9,  -999.00,9,  -999.00,9,  -999.00,9,    2.697,2,    1.462,2,  -999.00,9,   -999.0,9,   -999.0,9,-999.0000,9,   -999.0,  9,  -999.00,9,   -999.0,  -999.00,9,  -999.00,9,  -999.00,9,  -999.00,9,   -999.0,-999.0000, -999,9,  120,  17.9138,  25.0792,   -999.0,9
       RF01-10,  165E,RF-1433,  1,     15,02-12809,2,20011020,0139, 24.0037, 165.0003, 6062,    147.7,  17.4251,  34.7281,2,   -999.0,9,-999.0000,9,   -999.0,9,  -999.00,9,  -999.00,9,  -999.00,9,  -999.00,9,  -999.00,9,    2.762,2,    1.488,2,  -999.00,9,   -999.0,9,   -999.0,9,-999.0000,9,   -999.0,  9,  -999.00,9,   -999.0,  -999.00,9,  -999.00,9,  -999.00,9,  -999.00,9,   -999.0,-999.0000, -999,9,  147,  17.4004,  25.2098,   -999.0,9
       RF01-10,  165E,RF-1433,  1,     14,02-12817,2,20011020,0138, 24.0037, 165.0003, 6062,    198.8,  16.7175,  34.6797,2,   -999.0,9,  34.6916,2,   -999.0,9,  -999.00,9,  -999.00,9,  -999.00,9,  -999.00,9,  -999.00,9,    2.859,2,    1.525,2,  -999.00,9,   -999.0,9,   -999.0,9,-999.0000,9,   -999.0,  9,  -999.00,9,   -999.0,  -999.00,9,  -999.00,9,  -999.00,9,  -999.00,9,   -999.0,-999.0000, -999,9,  197,  16.6851,  25.3427,   -999.0,9
       RF01-10,  165E,RF-1433,  1,     13,02-15822,2,20011020,0136, 24.0037, 165.0003, 6062,    247.7,  15.8543,  34.6408,2,   -999.0,9,-999.0000,9,   -999.0,9,  -999.00,9,  -999.00,9,  -999.00,9,  -999.00,9,  -999.00,9,    2.992,2,    1.583,2,  -999.00,9,   -999.0,9,   -999.0,9,-999.0000,9,   -999.0,  9,  -999.00,9,   -999.0,  -999.00,9,  -999.00,9,  -999.00,9,  -999.00,9,   -999.0,-999.0000, -999,9,  246,  15.8154,  25.5133,   -999.0,9
       RF01-10,  165E,RF-1433,  1,     12,02-12821,2,20011020,0133, 24.0037, 165.0003, 6062,    299.0,  14.6971,  34.5607,2,   -999.0,9,  34.5747,2,   -999.0,9,  -999.00,9,  -999.00,9,  -999.00,9,  -999.00,9,  -999.00,9,    3.261,2,    1.651,2,  -999.00,9,   -999.0,9,   -999.0,9,-999.0000,9,   -999.0,  9,  -999.00,9,   -999.0,  -999.00,9,  -999.00,9,  -999.00,9,  -999.00,9,   -999.0,-999.0000, -999,9,  297,  14.6524,  25.7088,   -999.0,9
       RF01-10,  165E,RF-1433,  1,     11,02-15823,2,20011020,0131, 24.0037, 165.0003, 6062,    398.0,  11.8080,  34.3639,2,   -999.0,9,  34.3575,2,   -999.0,9,  -999.00,9,  -999.00,9,  -999.00,9,  -999.00,9,  -999.00,9,    3.429,2,    1.837,2,  -999.00,9,   -999.0,9,   -999.0,9,-999.0000,9,   -999.0,  9,  -999.00,9,   -999.0,  -999.00,9,  -999.00,9,  -999.00,9,  -999.00,9,   -999.0,-999.0000, -999,9,  395,  11.7566,  26.1410,   -999.0,9
       RF01-10,  165E,RF-1433,  1,     10,02-12820,2,20011020,0128, 24.0037, 165.0003, 6062,    500.0,   8.9855,  34.1440,2,   -999.0,9,  34.1513,2,   -999.0,9,  -999.00,9,  -999.00,9,  -999.00,9,  -999.00,9,  -999.00,9,    3.293,2,    1.446,2,  -999.00,9,   -999.0,9,   -999.0,9,-999.0000,9,   -999.0,  9,  -999.00,9,   -999.0,  -999.00,9,  -999.00,9,  -999.00,9,  -999.00,9,   -999.0,-999.0000, -999,9,  496,   8.9309,  26.4588,   -999.0,9
       RF01-10,  165E,RF-1433,  1,      9,02-12810,2,20011020,0125, 24.0037, 165.0003, 6062,    602.1,   6.6860,  34.0884,2,   -999.0,9,  34.0910,2,   -999.0,9,  -999.00,9,  -999.00,9,  -999.00,9,  -999.00,9,  -999.00,9,    2.669,2,    0.827,2,  -999.00,9,   -999.0,9,   -999.0,9,-999.0000,9,   -999.0,  9,  -999.00,9,   -999.0,  -999.00,9,  -999.00,9,  -999.00,9,  -999.00,9,   -999.0,-999.0000, -999,9,  597,   6.6302,  26.7506,   -999.0,9
       RF01-10,  165E,RF-1433,  1,      8,02-12819,2,20011020,0122, 24.0037, 165.0003, 6062,    702.0,   5.4580,  34.1430,2,   -999.0,9,  34.1414,2,   -999.0,9,  -999.00,9,  -999.00,9,  -999.00,9,  -999.00,9,  -999.00,9,    1.341,2,    0.397,2,  -999.00,9,   -999.0,9,   -999.0,9,-999.0000,9,   -999.0,  9,  -999.00,9,   -999.0,  -999.00,9,  -999.00,9,  -999.00,9,  -999.00,9,   -999.0,-999.0000, -999,9,  696,   5.3990,  26.9492,   -999.0,9
       RF01-10,  165E,RF-1433,  1,      7,02-15821,2,20011020,0120, 24.0037, 165.0003, 6062,    802.6,   4.6770,  34.2110,2,   -999.0,9,  34.2115,2,   -999.0,9,  -999.00,9,  -999.00,9,  -999.00,9,  -999.00,9,  -999.00,9,    0.861,2,    0.212,2,  -999.00,9,   -999.0,9,   -999.0,9,-999.0000,9,   -999.0,  9,  -999.00,9,   -999.0,  -999.00,9,  -999.00,9,  -999.00,9,  -999.00,9,   -999.0,-999.0000, -999,9,  796,   4.6136,  27.0931,   -999.0,9
       RF01-10,  165E,RF-1433,  1,      6,02-13588,2,20011020,0117, 24.0037, 165.0003, 6062,    904.1,   4.2582,  34.3261,2,   -999.0,9,-999.0000,9,   -999.0,9,  -999.00,9,  -999.00,9,  -999.00,9,  -999.00,9,  -999.00,9,    0.200,2,    0.098,2,  -999.00,9,   -999.0,9,   -999.0,9,-999.0000,9,   -999.0,  9,  -999.00,9,   -999.0,  -999.00,9,  -999.00,9,  -999.00,9,  -999.00,9,   -999.0,-999.0000, -999,9,  896,   4.1889,  27.2304,   -999.0,9
       RF01-10,  165E,RF-1433,  1,      5,02-10155,2,20011020,0114, 24.0037, 165.0003, 6062,   1005.1,   3.8972,  34.4149,2,   -999.0,9,  34.4111,2,   -999.0,9,  -999.00,9,  -999.00,9,  -999.00,9,  -999.00,9,  -999.00,9,    0.089,2,    0.074,2,  -999.00,9,   -999.0,9,   -999.0,9,-999.0000,9,   -999.0,  9,  -999.00,9,   -999.0,  -999.00,9,  -999.00,9,  -999.00,9,  -999.00,9,   -999.0,-999.0000, -999,9,  996,   3.8220,  27.3389,   -999.0,9
       RF01-10,  165E,RF-1433,  1,      4,02-13579,2,20011020,0109, 24.0037, 165.0003, 6062,   1259.1,   3.0828,  34.5062,2,   -999.0,9,  34.5049,2,   -999.0,9,  -999.00,9,  -999.00,9,  -999.00,9,  -999.00,9,  -999.00,9,    0.024,2,    0.055,2,  -999.00,9,   -999.0,9,   -999.0,9,-999.0000,9,   -999.0,  9,  -999.00,9,   -999.0,  -999.00,9,  -999.00,9,  -999.00,9,  -999.00,9,   -999.0,-999.0000, -999,9, 1247,   2.9939,  27.4915,   -999.0,9
       RF01-10,  165E,RF-1433,  1,      3,02-13590,2,20011020,0104, 24.0037, 165.0003, 6062,   1509.9,   2.5502,  34.5582,2,   -999.0,9,  34.5558,2,   -999.0,9,  -999.00,9,  -999.00,9,  -999.00,9,  -999.00,9,  -999.00,9,    0.000,2,    0.047,2,  -999.00,9,   -999.0,9,   -999.0,9,-999.0000,9,   -999.0,  9,  -999.00,9,   -999.0,  -999.00,9,  -999.00,9,  -999.00,9,  -999.00,9,   -999.0,-999.0000, -999,9, 1495,   2.4468,  27.5812,   -999.0,9
       RF01-10,  165E,RF-1433,  1,      2,02-13589,2,20011020,0059, 24.0037, 165.0003, 6062,   1767.5,   2.1948,  34.5951,2,   -999.0,9,  34.5936,2,   -999.0,9,  -999.00,9,  -999.00,9,  -999.00,9,  -999.00,9,  -999.00,9,    0.000,2,    0.000,2,  -999.00,9,   -999.0,9,   -999.0,9,-999.0000,9,   -999.0,  9,  -999.00,9,   -999.0,  -999.00,9,  -999.00,9,  -999.00,9,  -999.00,9,   -999.0,-999.0000, -999,9, 1749,   2.0749,  27.6413,   -999.0,9
       RF01-10,  165E,RF-1433,  1,      1,02-12807,2,20011020,0054, 24.0037, 165.0003, 6062,   2043.4,   1.9281,  34.6205,2,   -999.0,9,  34.6184,2,   -999.0,9,  -999.00,9,  -999.00,9,  -999.00,9,  -999.00,9,  -999.00,9,    0.000,2,    0.000,2,  -999.00,9,   -999.0,9,   -999.0,9,-999.0000,9,   -999.0,  9,  -999.00,9,   -999.0,  -999.00,9,  -999.00,9,  -999.00,9,  -999.00,9,   -999.0,-999.0000, -999,9, 2021,   1.7891,  27.6840,   -999.0,9