BOTTLE,20130510GEMDJMAYT
EXPOCODE,SECT_ID,STNNBR,CASTNO,SAMPNO,BTLNBR,BTLNBR_FLAG_W,DATE,TIME,LATITUDE,LONGITUDE,DEPTH,CTDPRS,CTDTMP,CTDSAL,CTDSAL_FLAG_W,CTDOXY,CTDOXY_FLAG_W,SALNTY,SALNTY_FLAG_W,OXYGEN,OXYGEN_FLAG_W,SILCAT,SILCAT_FLAG_W,NITRAT,NITRAT_FLAG_W,NO2+NO3,NO2+NO3_FLAG_W,NITRIT,NITRIT_FLAG_W,PHSPHT,PHSPHT_FLAG_W,CFC-11,CFC-11_FLAG_W,CFC-12,CFC-12_FLAG_W,DELC13,DELC13_FLAG_W,TCARBN,TCARBN_FLAG_W,ALKALI,ALKALI_FLAG_W,PH,PH_FLAG_W,PH_TMP,PH_SCALE,PH_NBS,PH_NBS_FLAG_W,C13ERR,TOTALP,TOTALP_FLAG_W,AMMONI,AMMONI_FLAG_W,CHLORA,CHLORA_FLAG_W,PPHYTN,PPHYTN_FLAG_W,REVPRS,REVTMP,DEPTH_,DEPTH_FLAG,CTDDEP,THETA,SIGTHT,DOC,DOC_FLAG_W
,,,,,,,GMT,GMT,,,METER,DBAR,ITS-90,PSS-78,,UMOL/KG,,PSS-78,,UMOL/KG,,UMOL/KG,,UMOL/KG,,UMOL/KG,,UMOL/KG,,UMOL/KG,,PMOL/KG,,PMOL/KG,,/MILLE,,UMOL/KG,,UMOL/KG,,25_DEG_C,,DEG_C,,,,/MILLE,UMOL/KG,,UMOL/KG,,UG/L,,UG/L,,DBAR,ITS-90,METERS,,METERS,DEG_C,,UMOL/L,
       RF01-10,  165E,RF-1463,  1,     -9,      -9,5,20011106,0000, -2.9928, 164.9887, 4112,      0.0,  30.5185,  35.0421,2,   -999.0,9,-999.0000,9,    193.0,2,     1.28,2,  -999.00,9,     0.04,2,     0.00,2,     0.14,2,    1.589,2,    0.929,2,  -999.00,9,   -999.0,9,   -999.0,9,-999.0000,9,   -999.0,  9,     8.27,2,   -999.0,  -999.00,9,  -999.00,9,     0.06,2,     0.02,2,   -999.0,-999.0000, -999,9,    0,  30.5185,  21.5797,   -999.0,9
       RF01-10,  165E,RF-1463,  1,     21, 02-9150,2,20011105,2358, -2.9928, 164.9887, 4112,      8.2,  30.4022,  35.0363,2,   -999.0,9,-999.0000,9,    192.8,2,     1.24,2,  -999.00,9,     0.03,2,     0.00,2,     0.13,2,    1.596,2,    0.933,2,  -999.00,9,   -999.0,9,   -999.0,9,-999.0000,9,   -999.0,  9,     8.27,2,   -999.0,  -999.00,9,  -999.00,9,     0.07,2,     0.02,2,   -999.0,-999.0000, -999,9,    8,  30.4001,  21.6162,   -999.0,9
       RF01-10,  165E,RF-1463,  1,     20,02-12826,2,20011105,2357, -2.9928, 164.9887, 4112,     23.3,  30.3817,  35.0376,2,   -999.0,9,-999.0000,9,    194.5,2,     1.27,2,  -999.00,9,     0.03,2,     0.00,2,     0.12,2,    1.597,2,    0.933,2,  -999.00,9,   -999.0,9,   -999.0,9,-999.0000,9,   -999.0,  9,     8.26,2,   -999.0,  -999.00,9,  -999.00,9,     0.07,2,     0.02,2,   -999.0,-999.0000, -999,9,   23,  30.3759,  21.6255,   -999.0,9
       RF01-10,  165E,RF-1463,  1,     19,02-12825,2,20011105,2355, -2.9928, 164.9887, 4112,     49.0,  30.5022,  35.2529,2,   -999.0,9,-999.0000,9,    198.3,2,     1.38,2,  -999.00,9,     0.01,2,     0.00,2,     0.14,2,    1.587,2,    0.928,2,  -999.00,9,   -999.0,9,   -999.0,9,-999.0000,9,   -999.0,  9,     8.25,2,   -999.0,  -999.00,9,  -999.00,9,     0.14,2,     0.06,2,   -999.0,-999.0000, -999,9,   49,  30.4899,  21.7475,   -999.0,9
       RF01-10,  165E,RF-1463,  1,     18,02-12830,2,20011105,2354, -2.9928, 164.9887, 4112,     73.7,  29.8541,  35.4448,2,   -999.0,9,-999.0000,9,    200.8,2,     1.63,2,  -999.00,9,     0.04,2,     0.00,2,     0.17,2,    1.622,2,    0.942,2,  -999.00,9,   -999.0,9,   -999.0,9,-999.0000,9,   -999.0,  9,     8.22,2,   -999.0,  -999.00,9,  -999.00,9,     0.36,2,     0.18,2,   -999.0,-999.0000, -999,9,   73,  29.8358,  22.1158,   -999.0,9
       RF01-10,  165E,RF-1463,  1,     17,02-12815,2,20011105,2352, -2.9928, 164.9887, 4112,     99.0,  29.3636,  35.4156,2,   -999.0,9,-999.0000,9,    188.3,2,     1.91,2,  -999.00,9,     1.94,2,     0.73,2,     0.27,2,    1.653,2,    0.958,2,  -999.00,9,   -999.0,9,   -999.0,9,-999.0000,9,   -999.0,  9,     8.19,2,   -999.0,  -999.00,9,  -999.00,9,     0.40,2,     0.57,2,   -999.0,-999.0000, -999,9,   98,  29.3394,  22.2621,   -999.0,9
       RF01-10,  165E,RF-1463,  1,     16,02-12818,2,20011105,2351, -2.9928, 164.9887, 4112,    123.7,  28.2653,  35.5366,2,   -999.0,9,-999.0000,9,    169.4,2,     2.31,2,  -999.00,9,     5.75,2,     1.03,2,     0.49,2,    1.721,2,    0.992,2,  -999.00,9,   -999.0,9,   -999.0,9,-999.0000,9,   -999.0,  9,     8.14,2,   -999.0,  -999.00,9,  -999.00,9,     0.16,2,     0.30,2,   -999.0,-999.0000, -999,9,  123,  28.2359,  22.7208,   -999.0,9
       RF01-10,  165E,RF-1463,  1,     15,02-12809,2,20011105,2350, -2.9928, 164.9887, 4112,    149.6,  27.4133,  35.5844,2,   -999.0,9,-999.0000,9,    160.0,2,     2.50,2,  -999.00,9,     7.83,2,     0.27,2,     0.61,2,    1.788,2,    1.017,2,  -999.00,9,   -999.0,9,   -999.0,9,-999.0000,9,   -999.0,  9,     8.11,2,   -999.0,  -999.00,9,  -999.00,9,     0.09,2,     0.24,2,   -999.0,-999.0000, -999,9,  149,  27.3785,  23.0363,   -999.0,9
       RF01-10,  165E,RF-1463,  1,     14,02-12817,2,20011105,2348, -2.9928, 164.9887, 4112,    200.5,  18.6863,  35.5033,2,   -999.0,9,-999.0000,9,    111.1,2,     6.51,2,  -999.00,9,    15.59,2,     0.00,2,     1.13,2,    2.318,2,    1.214,2,  -999.00,9,   -999.0,9,   -999.0,9,-999.0000,9,   -999.0,  9,     7.92,2,   -999.0,  -999.00,9,  -999.00,9,     0.02,2,     0.02,2,   -999.0,-999.0000, -999,9,  199,  18.6508,  25.4948,   -999.0,9
       RF01-10,  165E,RF-1463,  1,     13,02-15822,2,20011105,2346, -2.9928, 164.9887, 4112,    250.7,  12.9269,  35.0063,2,   -999.0,9,-999.0000,9,    112.6,2,    14.11,2,  -999.00,9,    22.47,2,     0.00,2,     1.53,2,    1.683,2,    0.962,2,  -999.00,9,   -999.0,9,   -999.0,9,-999.0000,9,   -999.0,  9,     7.81,2,   -999.0,  -999.00,9,  -999.00,9,  -999.00,9,  -999.00,9,   -999.0,-999.0000, -999,9,  249,  12.8924,  26.4193,   -999.0,9
       RF01-10,  165E,RF-1463,  1,     12,02-12821,2,20011105,2344, -2.9928, 164.9887, 4112,    300.0,  10.7264,  34.7985,2,   -999.0,9,-999.0000,9,    132.6,2,    19.63,2,  -999.00,9,    24.31,2,     0.00,2,     1.61,2,    1.216,2,    0.674,2,  -999.00,9,   -999.0,9,   -999.0,9,-999.0000,9,   -999.0,  9,     7.79,2,   -999.0,  -999.00,9,  -999.00,9,  -999.00,9,  -999.00,9,   -999.0,-999.0000, -999,9,  298,  10.6899,  26.6743,   -999.0,9
       RF01-10,  165E,RF-1463,  1,     11,02-15823,2,20011105,2341, -2.9928, 164.9887, 4112,    401.2,   9.6185,  34.7163,2,   -999.0,9,-999.0000,9,    115.4,2,    23.34,2,  -999.00,9,    28.07,2,     0.00,2,     1.87,2,    1.053,2,    0.531,2,  -999.00,9,   -999.0,9,   -999.0,9,-999.0000,9,   -999.0,  9,  -999.00,9,   -999.0,  -999.00,9,  -999.00,9,  -999.00,9,  -999.00,9,   -999.0,-999.0000, -999,9,  399,   9.5727,  26.8024,   -999.0,9
       RF01-10,  165E,RF-1463,  1,     10,02-12820,2,20011105,2339, -2.9928, 164.9887, 4112,    500.6,   8.3391,  34.6281,2,   -999.0,9,-999.0000,9,    107.9,2,    30.09,2,  -999.00,9,    31.43,2,     0.00,2,     2.10,2,    0.694,2,    0.306,2,  -999.00,9,   -999.0,9,   -999.0,9,-999.0000,9,   -999.0,  9,     7.70,2,   -999.0,  -999.00,9,  -999.00,9,  -999.00,9,  -999.00,9,   -999.0,-999.0000, -999,9,  497,   8.2865,  26.9385,   -999.0,9
       RF01-10,  165E,RF-1463,  1,      9,02-12810,2,20011105,2336, -2.9928, 164.9887, 4112,    601.7,   7.1436,  34.5712,2,   -999.0,9,-999.0000,9,    101.8,2,    41.82,2,  -999.00,9,    35.65,2,     0.00,2,     2.42,2,    0.606,2,    0.186,2,  -999.00,9,   -999.0,9,   -999.0,9,-999.0000,9,   -999.0,  9,  -999.00,9,   -999.0,  -999.00,9,  -999.00,9,  -999.00,9,  -999.00,9,   -999.0,-999.0000, -999,9,  598,   7.0853,  27.0691,   -999.0,9
       RF01-10,  165E,RF-1463,  1,      8,02-12819,2,20011105,2333, -2.9928, 164.9887, 4112,    701.5,   6.1994,  34.5370,2,   -999.0,9,-999.0000,9,    111.1,2,    48.38,2,  -999.00,9,    35.26,2,     0.00,2,     2.41,2,    0.305,2,    0.055,2,  -999.00,9,   -999.0,9,   -999.0,9,-999.0000,9,   -999.0,  9,     7.64,2,   -999.0,  -999.00,9,  -999.00,9,  -999.00,9,  -999.00,9,   -999.0,-999.0000, -999,9,  696,   6.1360,  27.1694,   -999.0,9
       RF01-10,  165E,RF-1463,  1,      7,02-15821,2,20011105,2330, -2.9928, 164.9887, 4112,    803.1,   5.4404,  34.5385,2,   -999.0,9,-999.0000,9,     92.1,2,    63.60,2,  -999.00,9,    38.18,2,     0.00,2,     2.66,2,    0.135,2,    0.025,2,  -999.00,9,   -999.0,9,   -999.0,9,-999.0000,9,   -999.0,  9,  -999.00,9,   -999.0,  -999.00,9,  -999.00,9,  -999.00,9,  -999.00,9,   -999.0,-999.0000, -999,9,  797,   5.3719,  27.2655,   -999.0,9
       RF01-10,  165E,RF-1463,  1,      6,02-13588,2,20011105,2328, -2.9928, 164.9887, 4112,    905.1,   4.8535,  34.5397,2,   -999.0,9,-999.0000,9,    103.1,2,    72.72,2,  -999.00,9,    37.50,2,     0.00,2,     2.66,2,    0.109,2,    0.005,2,  -999.00,9,   -999.0,9,   -999.0,9,-999.0000,9,   -999.0,  9,  -999.00,9,   -999.0,  -999.00,9,  -999.00,9,  -999.00,9,  -999.00,9,   -999.0,-999.0000, -999,9,  898,   4.7797,  27.3355,   -999.0,9
       RF01-10,  165E,RF-1463,  1,      5,02-10155,2,20011105,2325, -2.9928, 164.9887, 4112,   1006.5,   4.5214,  34.5528,2,   -999.0,9,-999.0000,9,     92.3,2,    81.75,2,  -999.00,9,    39.03,2,     0.00,2,     2.76,2,    0.063,2,    0.004,2,  -999.00,9,   -999.0,9,   -999.0,9,-999.0000,9,   -999.0,  9,     7.60,2,   -999.0,  -999.00,9,  -999.00,9,  -999.00,9,  -999.00,9,   -999.0,-999.0000, -999,9,  999,   4.4411,  27.3835,   -999.0,9
       RF01-10,  165E,RF-1463,  1,      4,02-13579,2,20011105,2319, -2.9928, 164.9887, 4112,   1258.6,   3.8399,  34.5698,2,   -999.0,9,-999.0000,9,     97.0,2,    97.44,2,  -999.00,9,    39.01,2,     0.00,2,     2.77,2,    0.000,2,    0.000,2,  -999.00,9,   -999.0,9,   -999.0,9,-999.0000,9,   -999.0,  9,  -999.00,9,   -999.0,  -999.00,9,  -999.00,9,  -999.00,9,  -999.00,9,   -999.0,-999.0000, -999,9, 1248,   3.7436,  27.4702,   -999.0,9
       RF01-10,  165E,RF-1463,  1,      3,02-13590,2,20011105,2313, -2.9928, 164.9887, 4112,   1512.1,   3.1865,  34.5936,2,   -999.0,9,-999.0000,9,    108.1,2,   109.95,2,  -999.00,9,    38.48,2,     0.00,2,     2.72,2,    0.000,2,    0.000,2,  -999.00,9,   -999.0,9,   -999.0,9,-999.0000,9,   -999.0,  9,     7.61,4,   -999.0,  -999.00,9,  -999.00,9,  -999.00,9,  -999.00,9,   -999.0,-999.0000, -999,9, 1498,   3.0755,  27.5537,   -999.0,9
       RF01-10,  165E,RF-1463,  1,      2,02-13589,2,20011105,2308, -2.9928, 164.9887, 4112,   1765.9,   2.6389,  34.6207,2,   -999.0,9,-999.0000,9,    115.0,2,   121.41,2,  -999.00,9,    38.16,2,     0.00,2,     2.70,2,    0.000,2,    0.000,2,  -999.00,9,   -999.0,9,   -999.0,9,-999.0000,9,   -999.0,  9,     7.63,2,   -999.0,  -999.00,9,  -999.00,9,  -999.00,9,  -999.00,9,   -999.0,-999.0000, -999,9, 1749,   2.5130,  27.6255,   -999.0,9
       RF01-10,  165E,RF-1463,  1,      1,02-12807,2,20011105,2302, -2.9928, 164.9887, 4112,   2042.0,   2.1883,  34.6460,2,   -999.0,9,-999.0000,9,    117.8,2,   133.77,2,  -999.00,9,    38.27,2,     0.00,2,     2.70,2,    0.000,2,    0.000,2,  -999.00,9,   -999.0,9,   -999.0,9,-999.0000,9,   -999.0,  9,     7.62,2,   -999.0,  -999.00,9,  -999.00,9,  -999.00,9,  -999.00,9,   -999.0,-999.0000, -999,9, 2021,   2.0454,  27.6845,   -999.0,9
       RF01-10,  NONE,RF-1464,  1,     -9,      -9,5,20011107,1733, -3.0685, 162.1148, 3114,      0.0,  30.3855,  34.8104,2,   -999.0,9,-999.0000,9,   -999.0,9,  -999.00,9,  -999.00,9,  -999.00,9,  -999.00,9,  -999.00,9, -999.000,9, -999.000,9,  -999.00,9,   -999.0,9,   -999.0,9,-999.0000,9,   -999.0,  9,  -999.00,9,   -999.0,  -999.00,9,  -999.00,9,  -999.00,9,  -999.00,9,   -999.0,-999.0000, -999,9,    0,  30.3855,  21.4519,   -999.0,9
       RF01-10,  NONE,RF-1464,  1,     17,02-12815,2,20011107,1728, -3.0685, 162.1148, 3114,     98.4,  29.4898,  35.4583,2,   -999.0,9,  35.5105,4,   -999.0,9,  -999.00,9,  -999.00,9,  -999.00,9,  -999.00,9,  -999.00,9, -999.000,9, -999.000,9,  -999.00,9,   -999.0,9,   -999.0,9,-999.0000,9,   -999.0,  9,  -999.00,9,   -999.0,  -999.00,9,  -999.00,9,  -999.00,9,  -999.00,9,   -999.0,-999.0000, -999,9,   98,  29.4656,  22.2516,   -999.0,9
       RF01-10,  NONE,RF-1464,  1,     16,02-12818,2,20011107,1716, -3.0685, 162.1148, 3114,    500.8,   8.1905,  34.6319,2,   -999.0,9,  34.6160,4,   -999.0,9,  -999.00,9,  -999.00,9,  -999.00,9,  -999.00,9,  -999.00,9, -999.000,9, -999.000,9,  -999.00,9,   -999.0,9,   -999.0,9,-999.0000,9,   -999.0,  9,  -999.00,9,   -999.0,  -999.00,9,  -999.00,9,  -999.00,9,  -999.00,9,   -999.0,-999.0000, -999,9,  497,   8.1384,  26.9639,   -999.0,9
       RF01-10,  NONE,RF-1464,  1,     15,02-12809,2,20011107,1705, -3.0685, 162.1148, 3114,   1006.5,   4.4097,  34.5471,2,   -999.0,9,  34.5472,2,   -999.0,9,  -999.00,9,  -999.00,9,  -999.00,9,  -999.00,9,  -999.00,9, -999.000,9, -999.000,9,  -999.00,9,   -999.0,9,   -999.0,9,-999.0000,9,   -999.0,  9,  -999.00,9,   -999.0,  -999.00,9,  -999.00,9,  -999.00,9,  -999.00,9,   -999.0,-999.0000, -999,9,  999,   4.3302,  27.3910,   -999.0,9
       RF01-10,  NONE,RF-1464,  1,     14,02-12817,2,20011107,1654, -3.0685, 162.1148, 3114,   1511.7,   3.0828,  34.6002,2,   -999.0,9,  34.5975,2,   -999.0,9,  -999.00,9,  -999.00,9,  -999.00,9,  -999.00,9,  -999.00,9, -999.000,9, -999.000,9,  -999.00,9,   -999.0,9,   -999.0,9,-999.0000,9,   -999.0,  9,  -999.00,9,   -999.0,  -999.00,9,  -999.00,9,  -999.00,9,  -999.00,9,   -999.0,-999.0000, -999,9, 1498,   2.9729,  27.5684,   -999.0,9
       RF01-10,  NONE,RF-1464,  1,     13,02-15822,2,20011107,1647, -3.0685, 162.1148, 3114,   1817.1,   2.5226,  34.6307,2,   -999.0,9,-999.0000,9,    111.0,2,   125.98,2,  -999.00,9,    37.89,2,     0.00,2,     2.71,2, -999.000,9, -999.000,9,  -999.00,9,   -999.0,9,   -999.0,9,-999.0000,9,   -999.0,  9,  -999.00,9,   -999.0,  -999.00,9,  -999.00,9,  -999.00,9,  -999.00,9,   -999.0,-999.0000, -999,9, 1799,   2.3940,  27.6436,   -999.0,9
       RF01-10,  NONE,RF-1464,  1,     12,02-12821,2,20011107,1644, -3.0685, 162.1148, 3114,   1918.2,   2.4480,  34.6300,2,   -999.0,9,-999.0000,9,    114.6,2,   126.99,2,  -999.00,9,    37.90,2,     0.00,2,     2.69,2, -999.000,9, -999.000,9,  -999.00,9,   -999.0,9,   -999.0,9,-999.0000,9,   -999.0,  9,  -999.00,9,   -999.0,  -999.00,9,  -999.00,9,  -999.00,9,  -999.00,9,   -999.0,-999.0000, -999,9, 1899,   2.3119,  27.6499,   -999.0,9
       RF01-10,  NONE,RF-1464,  1,     11,02-15823,2,20011107,1641, -3.0685, 162.1148, 3114,   2019.2,   2.2908,  34.6405,2,   -999.0,9,  34.6355,2,    120.5,2,   128.23,2,  -999.00,9,    37.73,2,     0.00,2,     2.67,2, -999.000,9, -999.000,9,  -999.00,9,   -999.0,9,   -999.0,9,-999.0000,9,   -999.0,  9,  -999.00,9,   -999.0,  -999.00,9,  -999.00,9,  -999.00,9,  -999.00,9,   -999.0,-999.0000, -999,9, 1998,   2.1482,  27.6718,   -999.0,9
       RF01-10,  NONE,RF-1464,  1,     10,02-12820,2,20011107,1637, -3.0685, 162.1148, 3114,   2121.9,   2.1559,  34.6461,2,   -999.0,9,-999.0000,9,    124.5,2,   131.82,2,  -999.00,9,    37.74,2,     0.00,2,     2.66,2, -999.000,9, -999.000,9,  -999.00,9,   -999.0,9,   -999.0,9,-999.0000,9,   -999.0,  9,  -999.00,9,   -999.0,  -999.00,9,  -999.00,9,  -999.00,9,  -999.00,9,   -999.0,-999.0000, -999,9, 2100,   2.0066,  27.6876,   -999.0,9
       RF01-10,  NONE,RF-1464,  1,      9,02-12810,2,20011107,1634, -3.0685, 162.1148, 3114,   2223.7,   2.0693,  34.6522,2,   -999.0,9,-999.0000,9,    125.2,2,   133.07,2,  -999.00,9,    37.54,2,     0.00,2,     2.64,2, -999.000,9, -999.000,9,  -999.00,9,   -999.0,9,   -999.0,9,-999.0000,9,   -999.0,  9,  -999.00,9,   -999.0,  -999.00,9,  -999.00,9,  -999.00,9,  -999.00,9,   -999.0,-999.0000, -999,9, 2200,   1.9124,  27.6999,   -999.0,9
       RF01-10,  NONE,RF-1464,  1,      8,02-12819,2,20011107,1631, -3.0685, 162.1148, 3114,   2325.3,   1.9559,  34.6576,2,   -999.0,9,-999.0000,9,    128.1,2,   135.20,2,  -999.00,9,    37.31,2,     0.00,2,     2.63,2, -999.000,9, -999.000,9,  -999.00,9,   -999.0,9,   -999.0,9,-999.0000,9,   -999.0,  9,  -999.00,9,   -999.0,  -999.00,9,  -999.00,9,  -999.00,9,  -999.00,9,   -999.0,-999.0000, -999,9, 2300,   1.7920,  27.7135,   -999.0,9
       RF01-10,  NONE,RF-1464,  1,      7,02-15821,2,20011107,1628, -3.0685, 162.1148, 3114,   2428.0,   1.9016,  34.6610,2,   -999.0,9,-999.0000,9,    129.5,2,   137.03,2,  -999.00,9,    37.39,2,     0.00,2,     2.63,2, -999.000,9, -999.000,9,  -999.00,9,   -999.0,9,   -999.0,9,-999.0000,9,   -999.0,  9,  -999.00,9,   -999.0,  -999.00,9,  -999.00,9,  -999.00,9,  -999.00,9,   -999.0,-999.0000, -999,9, 2401,   1.7296,  27.7211,   -999.0,9
       RF01-10,  NONE,RF-1464,  1,      6,02-13588,2,20011107,1625, -3.0685, 162.1148, 3114,   2529.6,   1.8546,  34.6637,2,   -999.0,9,  34.6573,2,    129.0,2,   138.53,2,  -999.00,9,    37.00,2,     0.00,2,     2.64,2, -999.000,9, -999.000,9,  -999.00,9,   -999.0,9,   -999.0,9,-999.0000,9,   -999.0,  9,  -999.00,9,   -999.0,  -999.00,9,  -999.00,9,  -999.00,9,  -999.00,9,   -999.0,-999.0000, -999,9, 2501,   1.6743,  27.7274,   -999.0,9
       RF01-10,  NONE,RF-1464,  1,      5,02-10155,2,20011107,1622, -3.0685, 162.1148, 3114,   2629.6,   1.8248,  34.6649,2,   -999.0,9,-999.0000,9,    132.5,2,   138.60,2,  -999.00,9,    37.11,2,     0.00,2,     2.62,2, -999.000,9, -999.000,9,  -999.00,9,   -999.0,9,   -999.0,9,-999.0000,9,   -999.0,  9,  -999.00,9,   -999.0,  -999.00,9,  -999.00,9,  -999.00,9,  -999.00,9,   -999.0,-999.0000, -999,9, 2599,   1.6359,  27.7312,   -999.0,9
       RF01-10,  NONE,RF-1464,  1,      4,02-13579,2,20011107,1620, -3.0685, 162.1148, 3114,   2733.4,   1.7581,  34.6690,2,   -999.0,9,-999.0000,9,    133.5,2,   139.88,2,  -999.00,9,    37.25,2,     0.00,2,     2.61,2, -999.000,9, -999.000,9,  -999.00,9,   -999.0,9,   -999.0,9,-999.0000,9,   -999.0,  9,  -999.00,9,   -999.0,  -999.00,9,  -999.00,9,  -999.00,9,  -999.00,9,   -999.0,-999.0000, -999,9, 2701,   1.5609,  27.7401,   -999.0,9
       RF01-10,  NONE,RF-1464,  1,      3,02-13590,2,20011107,1616, -3.0685, 162.1148, 3114,   2835.5,   1.7181,  34.6712,2,   -999.0,9,-999.0000,9,    136.0,2,   140.50,2,  -999.00,9,    37.11,2,     0.00,2,     2.60,2, -999.000,9, -999.000,9,  -999.00,9,   -999.0,9,   -999.0,9,-999.0000,9,   -999.0,  9,  -999.00,9,   -999.0,  -999.00,9,  -999.00,9,  -999.00,9,  -999.00,9,   -999.0,-999.0000, -999,9, 2801,   1.5122,  27.7455,   -999.0,9
       RF01-10,  NONE,RF-1464,  1,      2,02-13589,2,20011107,1613, -3.0685, 162.1148, 3114,   2937.0,   1.6945,  34.6719,2,   -999.0,9,-999.0000,9,    136.0,2,   140.19,2,  -999.00,9,    36.99,2,     0.00,2,     2.58,2, -999.000,9, -999.000,9,  -999.00,9,   -999.0,9,   -999.0,9,-999.0000,9,   -999.0,  9,  -999.00,9,   -999.0,  -999.00,9,  -999.00,9,  -999.00,9,  -999.00,9,   -999.0,-999.0000, -999,9, 2901,   1.4794,  27.7483,   -999.0,9
       RF01-10,  NONE,RF-1464,  1,      1,02-12807,2,20011107,1610, -3.0685, 162.1148, 3114,   3040.5,   1.6607,  34.6753,2,   -999.0,9,  34.6705,2,    137.7,2,   140.68,2,  -999.00,9,    36.93,2,     0.00,2,     2.58,2, -999.000,9, -999.000,9,  -999.00,9,   -999.0,9,   -999.0,9,-999.0000,9,   -999.0,  9,  -999.00,9,   -999.0,  -999.00,9,  -999.00,9,  -999.00,9,  -999.00,9,   -999.0,-999.0000, -999,9, 3002,   1.4365,  27.7542,   -999.0,9