BOTTLE,20130510GEMDJMAYT
EXPOCODE,SECT_ID,STNNBR,CASTNO,SAMPNO,BTLNBR,BTLNBR_FLAG_W,DATE,TIME,LATITUDE,LONGITUDE,DEPTH,CTDPRS,CTDTMP,CTDSAL,CTDSAL_FLAG_W,CTDOXY,CTDOXY_FLAG_W,SALNTY,SALNTY_FLAG_W,OXYGEN,OXYGEN_FLAG_W,SILCAT,SILCAT_FLAG_W,NITRAT,NITRAT_FLAG_W,NO2+NO3,NO2+NO3_FLAG_W,NITRIT,NITRIT_FLAG_W,PHSPHT,PHSPHT_FLAG_W,CFC-11,CFC-11_FLAG_W,CFC-12,CFC-12_FLAG_W,DELC13,DELC13_FLAG_W,TCARBN,TCARBN_FLAG_W,ALKALI,ALKALI_FLAG_W,PH,PH_FLAG_W,PH_TMP,PH_SCALE,PH_NBS,PH_NBS_FLAG_W,C13ERR,TOTALP,TOTALP_FLAG_W,AMMONI,AMMONI_FLAG_W,CHLORA,CHLORA_FLAG_W,PPHYTN,PPHYTN_FLAG_W,REVPRS,REVTMP,DEPTH_,DEPTH_FLAG,CTDDEP,THETA,SIGTHT,DOC,DOC_FLAG_W
,,,,,,,GMT,GMT,,,METER,DBAR,ITS-90,PSS-78,,UMOL/KG,,PSS-78,,UMOL/KG,,UMOL/KG,,UMOL/KG,,UMOL/KG,,UMOL/KG,,UMOL/KG,,PMOL/KG,,PMOL/KG,,/MILLE,,UMOL/KG,,UMOL/KG,,25_DEG_C,,DEG_C,,,,/MILLE,UMOL/KG,,UMOL/KG,,UG/L,,UG/L,,DBAR,ITS-90,METERS,,METERS,DEG_C,,UMOL/L,
       RF01-10,  142E,RF-1503,  1,     -9,      -9,5,20011126,1650, 19.0073, 142.4052, 3883,      0.0,  28.5889,  34.7804,2,   -999.0,9,-999.0000,9,   -999.0,9,  -999.00,9,  -999.00,9,  -999.00,9,  -999.00,9,  -999.00,9, -999.000,9, -999.000,9,  -999.00,9,   -999.0,9,   -999.0,9,-999.0000,9,   -999.0,  9,  -999.00,9,   -999.0,  -999.00,9,  -999.00,9,  -999.00,9,  -999.00,9,   -999.0,-999.0000, -999,9,    0,  28.5889,  22.0359,   -999.0,9
       RF01-10,  142E,RF-1503,  1,     19,02-12825,2,20011126,1648, 19.0073, 142.4052, 3883,     14.6,  28.5927,  34.7837,2,   -999.0,9,-999.0000,9,   -999.0,9,  -999.00,9,  -999.00,9,  -999.00,9,  -999.00,9,  -999.00,9, -999.000,9, -999.000,9,  -999.00,9,   -999.0,9,   -999.0,9,-999.0000,9,   -999.0,  9,  -999.00,9,   -999.0,  -999.00,9,  -999.00,9,  -999.00,9,  -999.00,9,   -999.0,-999.0000, -999,9,   15,  28.5892,  22.0383,   -999.0,9
       RF01-10,  142E,RF-1503,  1,     18,02-12830,2,20011126,1646, 19.0073, 142.4052, 3883,     28.0,  28.5991,  34.7841,2,   -999.0,9,-999.0000,9,   -999.0,9,  -999.00,9,  -999.00,9,  -999.00,9,  -999.00,9,  -999.00,9, -999.000,9, -999.000,9,  -999.00,9,   -999.0,9,   -999.0,9,-999.0000,9,   -999.0,  9,  -999.00,9,   -999.0,  -999.00,9,  -999.00,9,  -999.00,9,  -999.00,9,   -999.0,-999.0000, -999,9,   28,  28.5924,  22.0375,   -999.0,9
       RF01-10,  142E,RF-1503,  1,     17,02-12815,2,20011126,1645, 19.0073, 142.4052, 3883,     53.8,  28.4748,  34.7743,2,   -999.0,9,-999.0000,9,   -999.0,9,  -999.00,9,  -999.00,9,  -999.00,9,  -999.00,9,  -999.00,9, -999.000,9, -999.000,9,  -999.00,9,   -999.0,9,   -999.0,9,-999.0000,9,   -999.0,  9,  -999.00,9,   -999.0,  -999.00,9,  -999.00,9,  -999.00,9,  -999.00,9,   -999.0,-999.0000, -999,9,   53,  28.4619,  22.0732,   -999.0,9
       RF01-10,  142E,RF-1503,  1,     16,02-12818,2,20011126,1644, 19.0073, 142.4052, 3883,     78.4,  24.3884,  34.9888,2,   -999.0,9,-999.0000,9,   -999.0,9,  -999.00,9,  -999.00,9,  -999.00,9,  -999.00,9,  -999.00,9, -999.000,9, -999.000,9,  -999.00,9,   -999.0,9,   -999.0,9,-999.0000,9,   -999.0,  9,  -999.00,9,   -999.0,  -999.00,9,  -999.00,9,  -999.00,9,  -999.00,9,   -999.0,-999.0000, -999,9,   78,  24.3717,  23.5223,   -999.0,9
       RF01-10,  142E,RF-1503,  1,     15,02-12809,2,20011126,1642, 19.0073, 142.4052, 3883,    103.5,  22.0318,  34.9762,2,   -999.0,9,-999.0000,9,   -999.0,9,  -999.00,9,  -999.00,9,  -999.00,9,  -999.00,9,  -999.00,9, -999.000,9, -999.000,9,  -999.00,9,   -999.0,9,   -999.0,9,-999.0000,9,   -999.0,  9,  -999.00,9,   -999.0,  -999.00,9,  -999.00,9,  -999.00,9,  -999.00,9,   -999.0,-999.0000, -999,9,  103,  22.0113,  24.1966,   -999.0,9
       RF01-10,  142E,RF-1503,  1,     14,02-12817,2,20011126,1641, 19.0073, 142.4052, 3883,    128.9,  20.6949,  34.9163,2,   -999.0,9,-999.0000,9,   -999.0,9,  -999.00,9,  -999.00,9,  -999.00,9,  -999.00,9,  -999.00,9, -999.000,9, -999.000,9,  -999.00,9,   -999.0,9,   -999.0,9,-999.0000,9,   -999.0,  9,  -999.00,9,   -999.0,  -999.00,9,  -999.00,9,  -999.00,9,  -999.00,9,   -999.0,-999.0000, -999,9,  128,  20.6706,  24.5193,   -999.0,9
       RF01-10,  142E,RF-1503,  1,     13,02-15822,2,20011126,1639, 19.0073, 142.4052, 3883,    155.0,  19.8054,  34.8683,2,   -999.0,9,-999.0000,9,   -999.0,9,  -999.00,9,  -999.00,9,  -999.00,9,  -999.00,9,  -999.00,9, -999.000,9, -999.000,9,  -999.00,9,   -999.0,9,   -999.0,9,-999.0000,9,   -999.0,  9,  -999.00,9,   -999.0,  -999.00,9,  -999.00,9,  -999.00,9,  -999.00,9,   -999.0,-999.0000, -999,9,  154,  19.7770,  24.7198,   -999.0,9
       RF01-10,  142E,RF-1503,  1,     12,02-12821,2,20011126,1637, 19.0073, 142.4052, 3883,    205.3,  17.8183,  34.7396,2,   -999.0,9,-999.0000,9,   -999.0,9,  -999.00,9,  -999.00,9,  -999.00,9,  -999.00,9,  -999.00,9, -999.000,9, -999.000,9,  -999.00,9,   -999.0,9,   -999.0,9,-999.0000,9,   -999.0,  9,  -999.00,9,   -999.0,  -999.00,9,  -999.00,9,  -999.00,9,  -999.00,9,   -999.0,-999.0000, -999,9,  204,  17.7834,  25.1257,   -999.0,9
       RF01-10,  142E,RF-1503,  1,     11,02-15823,2,20011126,1636, 19.0073, 142.4052, 3883,    256.0,  16.2889,  34.6872,2,   -999.0,9,-999.0000,9,   -999.0,9,  -999.00,9,  -999.00,9,  -999.00,9,  -999.00,9,  -999.00,9, -999.000,9, -999.000,9,  -999.00,9,   -999.0,9,   -999.0,9,-999.0000,9,   -999.0,  9,  -999.00,9,   -999.0,  -999.00,9,  -999.00,9,  -999.00,9,  -999.00,9,   -999.0,-999.0000, -999,9,  254,  16.2479,  25.4501,   -999.0,9
       RF01-10,  142E,RF-1503,  1,     10,02-12820,2,20011126,1633, 19.0073, 142.4052, 3883,    306.4,  14.8229,  34.5685,2,   -999.0,9,-999.0000,9,   -999.0,9,  -999.00,9,  -999.00,9,  -999.00,9,  -999.00,9,  -999.00,9, -999.000,9, -999.000,9,  -999.00,9,   -999.0,9,   -999.0,9,-999.0000,9,   -999.0,  9,  -999.00,9,   -999.0,  -999.00,9,  -999.00,9,  -999.00,9,  -999.00,9,   -999.0,-999.0000, -999,9,  304,  14.7769,  25.6879,   -999.0,9
       RF01-10,  142E,RF-1503,  1,      9,02-12810,2,20011126,1630, 19.0073, 142.4052, 3883,    406.2,  11.2854,  34.3005,2,   -999.0,9,-999.0000,9,   -999.0,9,  -999.00,9,  -999.00,9,  -999.00,9,  -999.00,9,  -999.00,9, -999.000,9, -999.000,9,  -999.00,9,   -999.0,9,   -999.0,9,-999.0000,9,   -999.0,  9,  -999.00,9,   -999.0,  -999.00,9,  -999.00,9,  -999.00,9,  -999.00,9,   -999.0,-999.0000, -999,9,  403,  11.2344,  26.1883,   -999.0,9
       RF01-10,  142E,RF-1503,  1,      8,02-12819,2,20011126,1628, 19.0073, 142.4052, 3883,    507.4,   8.6050,  34.1853,2,   -999.0,9,-999.0000,9,   -999.0,9,  -999.00,9,  -999.00,9,  -999.00,9,  -999.00,9,  -999.00,9, -999.000,9, -999.000,9,  -999.00,9,   -999.0,9,   -999.0,9,-999.0000,9,   -999.0,  9,  -999.00,9,   -999.0,  -999.00,9,  -999.00,9,  -999.00,9,  -999.00,9,   -999.0,-999.0000, -999,9,  504,   8.5510,  26.5505,   -999.0,9
       RF01-10,  142E,RF-1503,  1,      7,02-15821,2,20011126,1625, 19.0073, 142.4052, 3883,    607.6,   6.8199,  34.2051,2,   -999.0,9,-999.0000,9,   -999.0,9,  -999.00,9,  -999.00,9,  -999.00,9,  -999.00,9,  -999.00,9, -999.000,9, -999.000,9,  -999.00,9,   -999.0,9,   -999.0,9,-999.0000,9,   -999.0,  9,  -999.00,9,   -999.0,  -999.00,9,  -999.00,9,  -999.00,9,  -999.00,9,   -999.0,-999.0000, -999,9,  603,   6.7629,  26.8249,   -999.0,9
       RF01-10,  142E,RF-1503,  1,      6,02-13588,2,20011126,1622, 19.0073, 142.4052, 3883,    708.7,   5.6816,  34.2885,2,   -999.0,9,-999.0000,9,   -999.0,9,  -999.00,9,  -999.00,9,  -999.00,9,  -999.00,9,  -999.00,9, -999.000,9, -999.000,9,  -999.00,9,   -999.0,9,   -999.0,9,-999.0000,9,   -999.0,  9,  -999.00,9,   -999.0,  -999.00,9,  -999.00,9,  -999.00,9,  -999.00,9,   -999.0,-999.0000, -999,9,  703,   5.6206,  27.0376,   -999.0,9
       RF01-10,  142E,RF-1503,  1,      5,02-10155,2,20011126,1619, 19.0073, 142.4052, 3883,    808.7,   4.7478,  34.3624,2,   -999.0,9,-999.0000,9,   -999.0,9,  -999.00,9,  -999.00,9,  -999.00,9,  -999.00,9,  -999.00,9, -999.000,9, -999.000,9,  -999.00,9,   -999.0,9,   -999.0,9,-999.0000,9,   -999.0,  9,  -999.00,9,   -999.0,  -999.00,9,  -999.00,9,  -999.00,9,  -999.00,9,   -999.0,-999.0000, -999,9,  802,   4.6833,  27.2056,   -999.0,9
       RF01-10,  142E,RF-1503,  1,      4,02-13579,2,20011126,1616, 19.0073, 142.4052, 3883,    911.2,   4.2267,  34.4196,2,   -999.0,9,-999.0000,9,   -999.0,9,  -999.00,9,  -999.00,9,  -999.00,9,  -999.00,9,  -999.00,9, -999.000,9, -999.000,9,  -999.00,9,   -999.0,9,   -999.0,9,-999.0000,9,   -999.0,  9,  -999.00,9,   -999.0,  -999.00,9,  -999.00,9,  -999.00,9,  -999.00,9,   -999.0,-999.0000, -999,9,  904,   4.1569,  27.3081,   -999.0,9
       RF01-10,  142E,RF-1503,  1,      3,02-13590,2,20011126,1613, 19.0073, 142.4052, 3883,   1011.6,   3.8016,  34.4603,2,   -999.0,9,-999.0000,9,   -999.0,9,  -999.00,9,  -999.00,9,  -999.00,9,  -999.00,9,  -999.00,9, -999.000,9, -999.000,9,  -999.00,9,   -999.0,9,   -999.0,9,-999.0000,9,   -999.0,  9,  -999.00,9,   -999.0,  -999.00,9,  -999.00,9,  -999.00,9,  -999.00,9,   -999.0,-999.0000, -999,9, 1003,   3.7266,  27.3847,   -999.0,9
       RF01-10,  142E,RF-1503,  1,      2,02-13589,2,20011126,1608, 19.0073, 142.4052, 3883,   1265.8,   3.0006,  34.5472,2,   -999.0,9,-999.0000,9,   -999.0,9,  -999.00,9,  -999.00,9,  -999.00,9,  -999.00,9,  -999.00,9, -999.000,9, -999.000,9,  -999.00,9,   -999.0,9,   -999.0,9,-999.0000,9,   -999.0,  9,  -999.00,9,   -999.0,  -999.00,9,  -999.00,9,  -999.00,9,  -999.00,9,   -999.0,-999.0000, -999,9, 1254,   2.9120,  27.5316,   -999.0,9
       RF01-10,  142E,RF-1503,  1,      1,02-12807,2,20011126,1602, 19.0073, 142.4052, 3883,   1540.4,   2.5179,  34.5731,2,   -999.0,9,-999.0000,9,   -999.0,9,  -999.00,9,  -999.00,9,  -999.00,9,  -999.00,9,  -999.00,9, -999.000,9, -999.000,9,  -999.00,9,   -999.0,9,   -999.0,9,-999.0000,9,   -999.0,  9,  -999.00,9,   -999.0,  -999.00,9,  -999.00,9,  -999.00,9,  -999.00,9,   -999.0,-999.0000, -999,9, 1525,   2.4123,  27.5960,   -999.0,9
       RF01-10,  142E,RF-1504,  1,     -9,      -9,5,20011126,2336, 19.9903, 141.9787, 4069,      0.0,  28.3331,  34.7562,2,   -999.0,9,-999.0000,9,   -999.0,9,  -999.00,9,  -999.00,9,  -999.00,9,  -999.00,9,  -999.00,9, -999.000,9, -999.000,9,  -999.00,9,   -999.0,9,   -999.0,9,-999.0000,9,   -999.0,  9,  -999.00,9,   -999.0,  -999.00,9,  -999.00,9,  -999.00,9,  -999.00,9,   -999.0,-999.0000, -999,9,    0,  28.3331,  22.1021,   -999.0,9
       RF01-10,  142E,RF-1504,  1,     19,02-12825,2,20011126,2333, 19.9903, 141.9787, 4069,     13.5,  28.3371,  34.7561,2,   -999.0,9,-999.0000,9,   -999.0,9,  -999.00,9,  -999.00,9,  -999.00,9,  -999.00,9,  -999.00,9, -999.000,9, -999.000,9,  -999.00,9,   -999.0,9,   -999.0,9,-999.0000,9,   -999.0,  9,  -999.00,9,   -999.0,  -999.00,9,  -999.00,9,  -999.00,9,  -999.00,9,   -999.0,-999.0000, -999,9,   13,  28.3338,  22.1018,   -999.0,9
       RF01-10,  142E,RF-1504,  1,     18,02-12830,2,20011126,2332, 19.9903, 141.9787, 4069,     28.0,  28.3368,  34.7565,2,   -999.0,9,-999.0000,9,   -999.0,9,  -999.00,9,  -999.00,9,  -999.00,9,  -999.00,9,  -999.00,9, -999.000,9, -999.000,9,  -999.00,9,   -999.0,9,   -999.0,9,-999.0000,9,   -999.0,  9,  -999.00,9,   -999.0,  -999.00,9,  -999.00,9,  -999.00,9,  -999.00,9,   -999.0,-999.0000, -999,9,   28,  28.3302,  22.1033,   -999.0,9
       RF01-10,  142E,RF-1504,  1,     17,02-12815,2,20011126,2331, 19.9903, 141.9787, 4069,     52.4,  28.2702,  34.7670,2,   -999.0,9,-999.0000,9,   -999.0,9,  -999.00,9,  -999.00,9,  -999.00,9,  -999.00,9,  -999.00,9, -999.000,9, -999.000,9,  -999.00,9,   -999.0,9,   -999.0,9,-999.0000,9,   -999.0,  9,  -999.00,9,   -999.0,  -999.00,9,  -999.00,9,  -999.00,9,  -999.00,9,   -999.0,-999.0000, -999,9,   52,  28.2578,  22.1350,   -999.0,9
       RF01-10,  142E,RF-1504,  1,     16,02-12818,2,20011126,2330, 19.9903, 141.9787, 4069,     77.0,  25.5783,  35.0104,2,   -999.0,9,-999.0000,9,   -999.0,9,  -999.00,9,  -999.00,9,  -999.00,9,  -999.00,9,  -999.00,9, -999.000,9, -999.000,9,  -999.00,9,   -999.0,9,   -999.0,9,-999.0000,9,   -999.0,  9,  -999.00,9,   -999.0,  -999.00,9,  -999.00,9,  -999.00,9,  -999.00,9,   -999.0,-999.0000, -999,9,   76,  25.5613,  23.1772,   -999.0,9
       RF01-10,  142E,RF-1504,  1,     15,02-12809,2,20011126,2328, 19.9903, 141.9787, 4069,    104.5,  23.5512,  35.0212,2,   -999.0,9,  35.0278,2,   -999.0,9,  -999.00,9,  -999.00,9,  -999.00,9,  -999.00,9,  -999.00,9, -999.000,9, -999.000,9,  -999.00,9,   -999.0,9,   -999.0,9,-999.0000,9,   -999.0,  9,  -999.00,9,   -999.0,  -999.00,9,  -999.00,9,  -999.00,9,  -999.00,9,   -999.0,-999.0000, -999,9,  104,  23.5295,  23.7959,   -999.0,9
       RF01-10,  142E,RF-1504,  1,     14,02-12817,2,20011126,2327, 19.9903, 141.9787, 4069,    127.8,  22.0174,  34.9772,2,   -999.0,9,-999.0000,9,   -999.0,9,  -999.00,9,  -999.00,9,  -999.00,9,  -999.00,9,  -999.00,9, -999.000,9, -999.000,9,  -999.00,9,   -999.0,9,   -999.0,9,-999.0000,9,   -999.0,  9,  -999.00,9,   -999.0,  -999.00,9,  -999.00,9,  -999.00,9,  -999.00,9,   -999.0,-999.0000, -999,9,  127,  21.9921,  24.2027,   -999.0,9
       RF01-10,  142E,RF-1504,  1,     13,02-15822,2,20011126,2326, 19.9903, 141.9787, 4069,    154.0,  20.4495,  34.9015,2,   -999.0,9,-999.0000,9,   -999.0,9,  -999.00,9,  -999.00,9,  -999.00,9,  -999.00,9,  -999.00,9, -999.000,9, -999.000,9,  -999.00,9,   -999.0,9,   -999.0,9,-999.0000,9,   -999.0,  9,  -999.00,9,   -999.0,  -999.00,9,  -999.00,9,  -999.00,9,  -999.00,9,   -999.0,-999.0000, -999,9,  153,  20.4206,  24.5750,   -999.0,9
       RF01-10,  142E,RF-1504,  1,     12,02-12821,2,20011126,2324, 19.9903, 141.9787, 4069,    204.2,  18.5821,  34.8043,2,   -999.0,9,  34.8125,2,   -999.0,9,  -999.00,9,  -999.00,9,  -999.00,9,  -999.00,9,  -999.00,9, -999.000,9, -999.000,9,  -999.00,9,   -999.0,9,   -999.0,9,-999.0000,9,   -999.0,  9,  -999.00,9,   -999.0,  -999.00,9,  -999.00,9,  -999.00,9,  -999.00,9,   -999.0,-999.0000, -999,9,  203,  18.5463,  24.9863,   -999.0,9
       RF01-10,  142E,RF-1504,  1,     11,02-15823,2,20011126,2322, 19.9903, 141.9787, 4069,    255.3,  17.1349,  34.7339,2,   -999.0,9,-999.0000,9,   -999.0,9,  -999.00,9,  -999.00,9,  -999.00,9,  -999.00,9,  -999.00,9, -999.000,9, -999.000,9,  -999.00,9,   -999.0,9,   -999.0,9,-999.0000,9,   -999.0,  9,  -999.00,9,   -999.0,  -999.00,9,  -999.00,9,  -999.00,9,  -999.00,9,   -999.0,-999.0000, -999,9,  254,  17.0925,  25.2880,   -999.0,9
       RF01-10,  142E,RF-1504,  1,     10,02-12820,2,20011126,2320, 19.9903, 141.9787, 4069,    306.7,  15.9159,  34.6641,2,   -999.0,9,  34.6772,2,   -999.0,9,  -999.00,9,  -999.00,9,  -999.00,9,  -999.00,9,  -999.00,9, -999.000,9, -999.000,9,  -999.00,9,   -999.0,9,   -999.0,9,-999.0000,9,   -999.0,  9,  -999.00,9,   -999.0,  -999.00,9,  -999.00,9,  -999.00,9,  -999.00,9,   -999.0,-999.0000, -999,9,  305,  15.8675,  25.5194,   -999.0,9
       RF01-10,  142E,RF-1504,  1,      9,02-12810,2,20011126,2317, 19.9903, 141.9787, 4069,    406.1,  12.8681,  34.4302,2,   -999.0,9,  34.4392,2,   -999.0,9,  -999.00,9,  -999.00,9,  -999.00,9,  -999.00,9,  -999.00,9, -999.000,9, -999.000,9,  -999.00,9,   -999.0,9,   -999.0,9,-999.0000,9,   -999.0,  9,  -999.00,9,   -999.0,  -999.00,9,  -999.00,9,  -999.00,9,  -999.00,9,   -999.0,-999.0000, -999,9,  403,  12.8125,  25.9887,   -999.0,9
       RF01-10,  142E,RF-1504,  1,      8,02-12819,2,20011126,2314, 19.9903, 141.9787, 4069,    503.1,   9.5579,  34.2304,2,   -999.0,9,  34.2371,2,   -999.0,9,  -999.00,9,  -999.00,9,  -999.00,9,  -999.00,9,  -999.00,9, -999.000,9, -999.000,9,  -999.00,9,   -999.0,9,   -999.0,9,-999.0000,9,   -999.0,  9,  -999.00,9,   -999.0,  -999.00,9,  -999.00,9,  -999.00,9,  -999.00,9,   -999.0,-999.0000, -999,9,  499,   9.5008,  26.4344,   -999.0,9
       RF01-10,  142E,RF-1504,  1,      7,02-15821,2,20011126,2311, 19.9903, 141.9787, 4069,    608.5,   7.2548,  34.1806,2,   -999.0,9,  34.1878,2,   -999.0,9,  -999.00,9,  -999.00,9,  -999.00,9,  -999.00,9,  -999.00,9, -999.000,9, -999.000,9,  -999.00,9,   -999.0,9,   -999.0,9,-999.0000,9,   -999.0,  9,  -999.00,9,   -999.0,  -999.00,9,  -999.00,9,  -999.00,9,  -999.00,9,   -999.0,-999.0000, -999,9,  604,   7.1957,  26.7462,   -999.0,9
       RF01-10,  142E,RF-1504,  1,      6,02-13588,2,20011126,2308, 19.9903, 141.9787, 4069,    709.5,   6.0390,  34.2521,2,   -999.0,9,  34.2598,2,   -999.0,9,  -999.00,9,  -999.00,9,  -999.00,9,  -999.00,9,  -999.00,9, -999.000,9, -999.000,9,  -999.00,9,   -999.0,9,   -999.0,9,-999.0000,9,   -999.0,  9,  -999.00,9,   -999.0,  -999.00,9,  -999.00,9,  -999.00,9,  -999.00,9,   -999.0,-999.0000, -999,9,  704,   5.9760,  26.9647,   -999.0,9
       RF01-10,  142E,RF-1504,  1,      5,02-10155,2,20011126,2305, 19.9903, 141.9787, 4069,    809.1,   5.3411,  34.3494,2,   -999.0,9,  34.3575,2,   -999.0,9,  -999.00,9,  -999.00,9,  -999.00,9,  -999.00,9,  -999.00,9, -999.000,9, -999.000,9,  -999.00,9,   -999.0,9,   -999.0,9,-999.0000,9,   -999.0,  9,  -999.00,9,   -999.0,  -999.00,9,  -999.00,9,  -999.00,9,  -999.00,9,   -999.0,-999.0000, -999,9,  803,   5.2729,  27.1276,   -999.0,9
       RF01-10,  142E,RF-1504,  1,      4,02-13579,2,20011126,2302, 19.9903, 141.9787, 4069,    910.0,   4.4305,  34.3910,2,   -999.0,9,-999.0000,9,   -999.0,9,  -999.00,9,  -999.00,9,  -999.00,9,  -999.00,9,  -999.00,9, -999.000,9, -999.000,9,  -999.00,9,   -999.0,9,   -999.0,9,-999.0000,9,   -999.0,  9,  -999.00,9,   -999.0,  -999.00,9,  -999.00,9,  -999.00,9,  -999.00,9,   -999.0,-999.0000, -999,9,  902,   4.3594,  27.2638,   -999.0,9
       RF01-10,  142E,RF-1504,  1,      3,02-13590,2,20011126,2259, 19.9903, 141.9787, 4069,   1011.9,   3.9726,  34.4423,2,   -999.0,9,  34.4506,2,   -999.0,9,  -999.00,9,  -999.00,9,  -999.00,9,  -999.00,9,  -999.00,9, -999.000,9, -999.000,9,  -999.00,9,   -999.0,9,   -999.0,9,-999.0000,9,   -999.0,  9,  -999.00,9,   -999.0,  -999.00,9,  -999.00,9,  -999.00,9,  -999.00,9,   -999.0,-999.0000, -999,9, 1003,   3.8962,  27.3532,   -999.0,9
       RF01-10,  142E,RF-1504,  1,      2,02-13589,2,20011126,2253, 19.9903, 141.9787, 4069,   1264.2,   3.0227,  34.5157,2,   -999.0,9,  34.5226,2,   -999.0,9,  -999.00,9,  -999.00,9,  -999.00,9,  -999.00,9,  -999.00,9, -999.000,9, -999.000,9,  -999.00,9,   -999.0,9,   -999.0,9,-999.0000,9,   -999.0,  9,  -999.00,9,   -999.0,  -999.00,9,  -999.00,9,  -999.00,9,  -999.00,9,   -999.0,-999.0000, -999,9, 1253,   2.9340,  27.5045,   -999.0,9
       RF01-10,  142E,RF-1504,  1,      1,02-12807,2,20011126,2247, 19.9903, 141.9787, 4069,   1540.0,   2.5636,  34.5680,2,   -999.0,9,  34.5753,2,   -999.0,9,  -999.00,9,  -999.00,9,  -999.00,9,  -999.00,9,  -999.00,9, -999.000,9, -999.000,9,  -999.00,9,   -999.0,9,   -999.0,9,-999.0000,9,   -999.0,  9,  -999.00,9,   -999.0,  -999.00,9,  -999.00,9,  -999.00,9,  -999.00,9,   -999.0,-999.0000, -999,9, 1525,   2.4576,  27.5881,   -999.0,9