BOTTLE,20130510GEMDJMAYT
EXPOCODE,SECT_ID,STNNBR,CASTNO,SAMPNO,BTLNBR,BTLNBR_FLAG_W,DATE,TIME,LATITUDE,LONGITUDE,DEPTH,CTDPRS,CTDTMP,CTDSAL,CTDSAL_FLAG_W,CTDOXY,CTDOXY_FLAG_W,SALNTY,SALNTY_FLAG_W,OXYGEN,OXYGEN_FLAG_W,SILCAT,SILCAT_FLAG_W,NITRAT,NITRAT_FLAG_W,NO2+NO3,NO2+NO3_FLAG_W,NITRIT,NITRIT_FLAG_W,PHSPHT,PHSPHT_FLAG_W,CFC-11,CFC-11_FLAG_W,CFC-12,CFC-12_FLAG_W,DELC13,DELC13_FLAG_W,TCARBN,TCARBN_FLAG_W,ALKALI,ALKALI_FLAG_W,PH,PH_FLAG_W,PH_TMP,PH_SCALE,PH_NBS,PH_NBS_FLAG_W,C13ERR,TOTALP,TOTALP_FLAG_W,AMMONI,AMMONI_FLAG_W,CHLORA,CHLORA_FLAG_W,PPHYTN,PPHYTN_FLAG_W,REVPRS,REVTMP,DEPTH_,DEPTH_FLAG,CTDDEP,THETA,SIGTHT,DOC,DOC_FLAG_W
,,,,,,,GMT,GMT,,,METER,DBAR,ITS-90,PSS-78,,UMOL/KG,,PSS-78,,UMOL/KG,,UMOL/KG,,UMOL/KG,,UMOL/KG,,UMOL/KG,,UMOL/KG,,PMOL/KG,,PMOL/KG,,/MILLE,,UMOL/KG,,UMOL/KG,,25_DEG_C,,DEG_C,,,,/MILLE,UMOL/KG,,UMOL/KG,,UG/L,,UG/L,,DBAR,ITS-90,METERS,,METERS,DEG_C,,UMOL/L,
       RF02-04,  165E,RF-1664,  1,     -9,      -9,5,20020520,0008, 37.0020, 164.9977, 4523,      0.0,  17.2744,  34.6216,2,   -999.0,9,-999.0000,9,    247.4,2,     4.63,2,  -999.00,9,     0.11,2,     0.02,2,     0.07,2, -999.000,9, -999.000,9,  -999.00,9,   -999.0,9,   -999.0,9,-999.0000,9,   -999.0,  9,  -999.00,9,   -999.0,  -999.00,9,  -999.00,9,     0.51,2,     0.08,2,   -999.0,-999.0000, -999,9,    0,  17.2744,  25.1584,   -999.0,9
       RF02-04,  165E,RF-1664,  1,     21,02-12826,2,20020520,0005, 37.0020, 164.9977, 4523,     11.2,  17.2351,  34.6195,2,   -999.0,9,  34.6367,4,    248.7,2,     4.56,2,  -999.00,9,     0.08,2,     0.02,2,     0.08,2, -999.000,9, -999.000,9,  -999.00,9,   -999.0,9,   -999.0,9,-999.0000,9,   -999.0,  9,  -999.00,9,   -999.0,  -999.00,9,  -999.00,9,  -999.00,9,  -999.00,9,   -999.0,-999.0000, -999,9,   11,  17.2333,  25.1666,   -999.0,9
       RF02-04,  165E,RF-1664,  1,     20,02-12821,2,20020520,0004, 37.0020, 164.9977, 4523,     26.1,  17.1316,  34.6193,2,   -999.0,9,-999.0000,9,    247.2,2,     4.63,2,  -999.00,9,     0.22,2,     0.04,2,     0.08,2, -999.000,9, -999.000,9,  -999.00,9,   -999.0,9,   -999.0,9,-999.0000,9,   -999.0,  9,  -999.00,9,   -999.0,  -999.00,9,  -999.00,9,  -999.00,9,  -999.00,9,   -999.0,-999.0000, -999,9,   26,  17.1273,  25.1918,   -999.0,9
       RF02-04,  165E,RF-1664,  1,     19,02-17875,2,20020520,0003, 37.0020, 164.9977, 4523,     50.9,  16.0761,  34.5553,2,   -999.0,9,-999.0000,9,    257.1,2,     6.80,2,  -999.00,9,     1.70,2,     0.11,2,     0.20,2, -999.000,9, -999.000,9,  -999.00,9,   -999.0,9,   -999.0,9,-999.0000,9,   -999.0,  9,  -999.00,9,   -999.0,  -999.00,9,  -999.00,9,  -999.00,9,  -999.00,9,   -999.0,-999.0000, -999,9,   50,  16.0681,  25.3899,   -999.0,9
       RF02-04,  165E,RF-1664,  1,     18,02-12830,2,20020520,0002, 37.0020, 164.9977, 4523,     75.7,  13.8850,  34.4876,2,   -999.0,9,-999.0000,9,    231.9,2,    10.07,2,  -999.00,9,     7.87,2,     0.03,2,     0.55,2, -999.000,9, -999.000,9,  -999.00,9,   -999.0,9,   -999.0,9,-999.0000,9,   -999.0,  9,  -999.00,9,   -999.0,  -999.00,9,  -999.00,9,  -999.00,9,  -999.00,9,   -999.0,-999.0000, -999,9,   75,  13.8742,  25.8174,   -999.0,9
       RF02-04,  165E,RF-1664,  1,     17,02-17874,2,20020520,0000, 37.0020, 164.9977, 4523,    101.4,  13.3247,  34.4600,2,   -999.0,9,  34.4620,2,    239.5,2,    10.22,2,  -999.00,9,     7.76,2,     0.01,2,     0.54,2, -999.000,9, -999.000,9,  -999.00,9,   -999.0,9,   -999.0,9,-999.0000,9,   -999.0,  9,  -999.00,9,   -999.0,  -999.00,9,  -999.00,9,  -999.00,9,  -999.00,9,   -999.0,-999.0000, -999,9,  101,  13.3106,  25.9119,   -999.0,9
       RF02-04,  165E,RF-1664,  1,     16,02-12818,2,20020519,2358, 37.0020, 164.9977, 4523,    126.4,  12.9088,  34.4064,2,   -999.0,9,-999.0000,9,    245.6,2,    10.44,2,  -999.00,9,     7.77,2,     0.00,2,     0.55,2, -999.000,9, -999.000,9,  -999.00,9,   -999.0,9,   -999.0,9,-999.0000,9,   -999.0,  9,  -999.00,9,   -999.0,  -999.00,9,  -999.00,9,  -999.00,9,  -999.00,9,   -999.0,-999.0000, -999,9,  125,  12.8916,  25.9546,   -999.0,9
       RF02-04,  165E,RF-1664,  1,     15,02-12809,2,20020519,2357, 37.0020, 164.9977, 4523,    151.2,  12.6238,  34.4082,2,   -999.0,9,-999.0000,9,    233.7,2,    12.87,2,  -999.00,9,     9.50,2,     0.00,2,     0.66,2, -999.000,9, -999.000,9,  -999.00,9,   -999.0,9,   -999.0,9,-999.0000,9,   -999.0,  9,  -999.00,9,   -999.0,  -999.00,9,  -999.00,9,  -999.00,9,  -999.00,9,   -999.0,-999.0000, -999,9,  150,  12.6036,  26.0129,   -999.0,9
       RF02-04,  165E,RF-1664,  1,     14,02-12817,2,20020519,2355, 37.0020, 164.9977, 4523,    202.2,  11.7502,  34.3322,2,   -999.0,9,  34.3369,2,    220.2,2,    17.71,2,  -999.00,9,    12.23,2,     0.01,2,     0.87,2, -999.000,9, -999.000,9,  -999.00,9,   -999.0,9,   -999.0,9,-999.0000,9,   -999.0,  9,  -999.00,9,   -999.0,  -999.00,9,  -999.00,9,  -999.00,9,  -999.00,9,   -999.0,-999.0000, -999,9,  201,  11.7244,  26.1224,   -999.0,9
       RF02-04,  165E,RF-1664,  1,     13,02-15822,2,20020519,2353, 37.0020, 164.9977, 4523,    252.1,  10.2347,  34.2446,2,   -999.0,9,-999.0000,9,    197.2,2,    26.15,2,  -999.00,9,    17.21,2,     0.00,2,     1.22,2, -999.000,9, -999.000,9,  -999.00,9,   -999.0,9,   -999.0,9,-999.0000,9,   -999.0,  9,  -999.00,9,   -999.0,  -999.00,9,  -999.00,9,  -999.00,9,  -999.00,9,   -999.0,-999.0000, -999,9,  250,  10.2052,  26.3270,   -999.0,9
       RF02-04,  165E,RF-1664,  1,     12,02-12808,2,20020519,2352, 37.0020, 164.9977, 4523,    302.8,   8.9200,  34.1319,2,   -999.0,9,  34.1303,4,    190.9,2,    32.48,2,  -999.00,9,    20.03,2,     0.01,2,     1.43,2, -999.000,9, -999.000,9,  -999.00,9,   -999.0,9,   -999.0,9,-999.0000,9,   -999.0,  9,  -999.00,9,   -999.0,  -999.00,9,  -999.00,9,  -999.00,9,  -999.00,9,   -999.0,-999.0000, -999,9,  300,   8.8874,  26.4562,   -999.0,9
       RF02-04,  165E,RF-1664,  1,     11,02-17873,2,20020519,2349, 37.0020, 164.9977, 4523,    402.7,   6.7515,  33.9559,2,   -999.0,9,  33.9554,2,    195.4,2,    42.36,2,  -999.00,9,    23.73,2,     0.01,2,     1.69,2, -999.000,9, -999.000,9,  -999.00,9,   -999.0,9,   -999.0,9,-999.0000,9,   -999.0,  9,  -999.00,9,   -999.0,  -999.00,9,  -999.00,9,  -999.00,9,  -999.00,9,   -999.0,-999.0000, -999,9,  399,   6.7146,  26.6349,   -999.0,9
       RF02-04,  165E,RF-1664,  1,     10,02-12820,2,20020519,2347, 37.0020, 164.9977, 4523,    504.1,   5.7002,  34.0101,2,   -999.0,9,  34.0086,2,    129.2,2,    65.49,2,  -999.00,9,    31.31,2,     0.00,2,     2.30,2, -999.000,9, -999.000,9,  -999.00,9,   -999.0,9,   -999.0,9,-999.0000,9,   -999.0,  9,  -999.00,9,   -999.0,  -999.00,9,  -999.00,9,  -999.00,9,  -999.00,9,   -999.0,-999.0000, -999,9,  500,   5.6577,  26.8128,   -999.0,9
       RF02-04,  165E,RF-1664,  1,      9,02-12810,2,20020519,2344, 37.0020, 164.9977, 4523,    604.1,   4.8961,  34.0873,2,   -999.0,9,  34.0865,2,     88.0,2,    84.94,2,  -999.00,9,    36.21,2,     0.00,2,     2.65,2, -999.000,9, -999.000,9,  -999.00,9,   -999.0,9,   -999.0,9,-999.0000,9,   -999.0,  9,  -999.00,9,   -999.0,  -999.00,9,  -999.00,9,  -999.00,9,  -999.00,9,   -999.0,-999.0000, -999,9,  599,   4.8484,  26.9688,   -999.0,9
       RF02-04,  165E,RF-1664,  1,      8,02-12819,2,20020519,2342, 37.0020, 164.9977, 4523,    705.2,   4.2500,  34.1557,2,   -999.0,9,  34.1605,2,     59.2,2,   101.72,2,  -999.00,9,    39.31,2,     0.00,2,     2.88,2, -999.000,9, -999.000,9,  -999.00,9,   -999.0,9,   -999.0,9,-999.0000,9,   -999.0,  9,  -999.00,9,   -999.0,  -999.00,9,  -999.00,9,  -999.00,9,  -999.00,9,   -999.0,-999.0000, -999,9,  699,   4.1973,  27.0940,   -999.0,9
       RF02-04,  165E,RF-1664,  1,      7,02-15821,2,20020519,2339, 37.0020, 164.9977, 4523,    806.6,   3.8869,  34.2371,2,   -999.0,9,  34.2371,2,     47.4,2,   112.70,2,  -999.00,9,    40.63,2,     0.00,2,     2.97,2, -999.000,9, -999.000,9,  -999.00,9,   -999.0,9,   -999.0,9,-999.0000,9,   -999.0,  9,  -999.00,9,   -999.0,  -999.00,9,  -999.00,9,  -999.00,9,  -999.00,9,   -999.0,-999.0000, -999,9,  799,   3.8281,  27.1968,   -999.0,9
       RF02-04,  165E,RF-1664,  1,      6,02-17872,2,20020519,2336, 37.0020, 164.9977, 4523,    907.7,   3.5506,  34.2959,2,   -999.0,9,  34.2946,2,     38.2,2,   122.49,2,  -999.00,9,    41.61,2,     0.00,2,     3.08,2, -999.000,9, -999.000,9,  -999.00,9,   -999.0,9,   -999.0,9,-999.0000,9,   -999.0,  9,  -999.00,9,   -999.0,  -999.00,9,  -999.00,9,  -999.00,9,  -999.00,9,   -999.0,-999.0000, -999,9,  899,   3.4860,  27.2774,   -999.0,9
       RF02-04,  165E,RF-1664,  1,      5,02-10155,2,20020519,2334, 37.0020, 164.9977, 4523,   1008.8,   3.3036,  34.3420,2,   -999.0,9,  34.3435,2,     36.0,2,   129.58,2,  -999.00,9,    41.96,2,     0.00,2,     3.05,2, -999.000,9, -999.000,9,  -999.00,9,   -999.0,9,   -999.0,9,-999.0000,9,   -999.0,  9,  -999.00,9,   -999.0,  -999.00,9,  -999.00,9,  -999.00,9,  -999.00,9,   -999.0,-999.0000, -999,9,  999,   3.2329,  27.3383,   -999.0,9
       RF02-04,  165E,RF-1664,  1,      4,02-13579,2,20020519,2326, 37.0020, 164.9977, 4523,   1259.7,   2.7962,  34.4365,2,   -999.0,9,  34.4365,2,     33.2,2,   143.48,2,  -999.00,9,    42.62,2,     0.00,2,     3.15,2, -999.000,9, -999.000,9,  -999.00,9,   -999.0,9,   -999.0,9,-999.0000,9,   -999.0,  9,  -999.00,9,   -999.0,  -999.00,9,  -999.00,9,  -999.00,9,  -999.00,9,   -999.0,-999.0000, -999,9, 1247,   2.7103,  27.4612,   -999.0,9
       RF02-04,  165E,RF-1664,  1,      3,02-13590,2,20020519,2322, 37.0020, 164.9977, 4523,   1514.7,   2.4188,  34.5045,2,   -999.0,9,  34.5031,2,     40.9,2,   152.63,2,  -999.00,9,    42.19,2,     0.00,2,     3.06,2, -999.000,9, -999.000,9,  -999.00,9,   -999.0,9,   -999.0,9,-999.0000,9,   -999.0,  9,  -999.00,9,   -999.0,  -999.00,9,  -999.00,9,  -999.00,9,  -999.00,9,   -999.0,-999.0000, -999,9, 1498,   2.3167,  27.5491,   -999.0,9
       RF02-04,  165E,RF-1664,  1,      2,02-12827,2,20020519,2317, 37.0020, 164.9977, 4523,   1768.6,   2.1731,  34.5523,2,   -999.0,9,  34.5527,2,     53.6,2,   157.05,2,  -999.00,9,    41.83,2,     0.00,2,     3.00,2, -999.000,9, -999.000,9,  -999.00,9,   -999.0,9,   -999.0,9,-999.0000,9,   -999.0,  9,  -999.00,9,   -999.0,  -999.00,9,  -999.00,9,  -999.00,9,  -999.00,9,   -999.0,-999.0000, -999,9, 1748,   2.0535,  27.6087,   -999.0,9
       RF02-04,  165E,RF-1664,  1,      1,02-17871,2,20020519,2312, 37.0020, 164.9977, 4523,   2043.7,   1.9535,  34.5932,2,   -999.0,9,  34.5928,2,     71.0,2,   159.05,2,  -999.00,9,    40.87,2,     0.00,2,     2.92,2, -999.000,9, -999.000,9,  -999.00,9,   -999.0,9,   -999.0,9,-999.0000,9,   -999.0,  9,  -999.00,9,   -999.0,  -999.00,9,  -999.00,9,  -999.00,9,  -999.00,9,   -999.0,-999.0000, -999,9, 2019,   1.8142,  27.6602,   -999.0,9