BOTTLE,20130510GEMDJMAYT
EXPOCODE,SECT_ID,STNNBR,CASTNO,SAMPNO,BTLNBR,BTLNBR_FLAG_W,DATE,TIME,LATITUDE,LONGITUDE,DEPTH,CTDPRS,CTDTMP,CTDSAL,CTDSAL_FLAG_W,CTDOXY,CTDOXY_FLAG_W,SALNTY,SALNTY_FLAG_W,OXYGEN,OXYGEN_FLAG_W,SILCAT,SILCAT_FLAG_W,NITRAT,NITRAT_FLAG_W,NO2+NO3,NO2+NO3_FLAG_W,NITRIT,NITRIT_FLAG_W,PHSPHT,PHSPHT_FLAG_W,CFC-11,CFC-11_FLAG_W,CFC-12,CFC-12_FLAG_W,DELC13,DELC13_FLAG_W,TCARBN,TCARBN_FLAG_W,ALKALI,ALKALI_FLAG_W,PH,PH_FLAG_W,PH_TMP,PH_SCALE,PH_NBS,PH_NBS_FLAG_W,C13ERR,TOTALP,TOTALP_FLAG_W,AMMONI,AMMONI_FLAG_W,CHLORA,CHLORA_FLAG_W,PPHYTN,PPHYTN_FLAG_W,REVPRS,REVTMP,DEPTH_,DEPTH_FLAG,CTDDEP,THETA,SIGTHT,DOC,DOC_FLAG_W
,,,,,,,GMT,GMT,,,METER,DBAR,ITS-90,PSS-78,,UMOL/KG,,PSS-78,,UMOL/KG,,UMOL/KG,,UMOL/KG,,UMOL/KG,,UMOL/KG,,UMOL/KG,,PMOL/KG,,PMOL/KG,,/MILLE,,UMOL/KG,,UMOL/KG,,25_DEG_C,,DEG_C,,,,/MILLE,UMOL/KG,,UMOL/KG,,UG/L,,UG/L,,DBAR,ITS-90,METERS,,METERS,DEG_C,,UMOL/L,
       RF02-04,  165E,RF-1659,  1,     -9,      -9,5,20020518,1425, 41.9943, 165.0112, 4570,      0.0,   7.3087,  33.2475,2,   -999.0,9,-999.0000,9,    320.6,2,    20.12,2,  -999.00,9,    10.50,2,     0.14,2,     1.03,2, -999.000,9, -999.000,9,  -999.00,9,   -999.0,9,   -999.0,9,-999.0000,9,   -999.0,  9,  -999.00,9,   -999.0,  -999.00,9,  -999.00,9,     1.45,2,     0.19,2,   -999.0,-999.0000, -999,9,    0,   7.3087,  25.9961,   -999.0,9
       RF02-04,  165E,RF-1659,  1,     21,02-12826,2,20020518,1422, 41.9943, 165.0112, 4570,     11.9,   7.3022,  33.2477,2,   -999.0,9,  33.2505,2,    319.6,2,    20.08,2,  -999.00,9,    10.53,2,     0.13,2,     1.00,2, -999.000,9, -999.000,9,  -999.00,9,   -999.0,9,   -999.0,9,-999.0000,9,   -999.0,  9,  -999.00,9,   -999.0,  -999.00,9,  -999.00,9,     1.35,2,     0.31,2,   -999.0,-999.0000, -999,9,   12,   7.3012,  25.9973,   -999.0,9
       RF02-04,  165E,RF-1659,  1,     20,02-12821,2,20020518,1421, 41.9943, 165.0112, 4570,     26.5,   7.2830,  33.2432,2,   -999.0,9,-999.0000,9,    323.6,2,    20.21,2,  -999.00,9,    10.75,2,     0.14,2,     1.02,2, -999.000,9, -999.000,9,  -999.00,9,   -999.0,9,   -999.0,9,-999.0000,9,   -999.0,  9,  -999.00,9,   -999.0,  -999.00,9,  -999.00,9,     1.34,2,     0.25,2,   -999.0,-999.0000, -999,9,   26,   7.2806,  25.9966,   -999.0,9
       RF02-04,  165E,RF-1659,  1,     19,02-17875,2,20020518,1420, 41.9943, 165.0112, 4570,     51.4,   5.6383,  33.3722,2,   -999.0,9,-999.0000,9,   -999.0,4,  -999.00,4,  -999.00,9,  -999.00,4,  -999.00,4,  -999.00,4, -999.000,9, -999.000,9,  -999.00,9,   -999.0,9,   -999.0,9,-999.0000,9,   -999.0,  9,  -999.00,9,   -999.0,  -999.00,9,  -999.00,9,  -999.00,4,  -999.00,4,   -999.0,-999.0000, -999,9,   51,   5.6342,  26.3111,   -999.0,9
       RF02-04,  165E,RF-1659,  1,     18,02-12830,2,20020518,1419, 41.9943, 165.0112, 4570,     77.2,   5.3530,  33.4579,2,   -999.0,9,-999.0000,9,    306.0,2,    23.56,2,  -999.00,9,    15.71,2,     0.42,2,     1.26,2, -999.000,9, -999.000,9,  -999.00,9,   -999.0,9,   -999.0,9,-999.0000,9,   -999.0,  9,  -999.00,9,   -999.0,  -999.00,9,  -999.00,9,     0.09,2,     0.12,2,   -999.0,-999.0000, -999,9,   77,   5.3470,  26.4129,   -999.0,9
       RF02-04,  165E,RF-1659,  1,     17,02-17874,2,20020518,1418, 41.9943, 165.0112, 4570,    102.6,   4.9024,  33.4329,2,   -999.0,9,  33.4297,4,    310.8,2,    23.34,2,  -999.00,9,    16.01,2,     0.41,2,     1.21,2, -999.000,9, -999.000,9,  -999.00,9,   -999.0,9,   -999.0,9,-999.0000,9,   -999.0,  9,  -999.00,9,   -999.0,  -999.00,9,  -999.00,9,     0.08,2,     0.10,2,   -999.0,-999.0000, -999,9,  102,   4.8947,  26.4447,   -999.0,9
       RF02-04,  165E,RF-1659,  1,     16,02-12818,2,20020518,1417, 41.9943, 165.0112, 4570,    128.2,   4.8899,  33.4491,2,   -999.0,9,-999.0000,9,    304.7,2,    25.07,2,  -999.00,9,    16.83,2,     0.03,2,     1.24,2, -999.000,9, -999.000,9,  -999.00,9,   -999.0,9,   -999.0,9,-999.0000,9,   -999.0,  9,  -999.00,9,   -999.0,  -999.00,9,  -999.00,9,     0.03,2,     0.10,2,   -999.0,-999.0000, -999,9,  127,   4.8804,  26.4591,   -999.0,9
       RF02-04,  165E,RF-1659,  1,     15,02-12809,2,20020518,1416, 41.9943, 165.0112, 4570,    152.9,   4.7404,  33.5521,2,   -999.0,9,-999.0000,9,    273.8,2,    32.96,2,  -999.00,9,    20.25,2,     0.00,2,     1.50,2, -999.000,9, -999.000,9,  -999.00,9,   -999.0,9,   -999.0,9,-999.0000,9,   -999.0,  9,  -999.00,9,   -999.0,  -999.00,9,  -999.00,9,     0.01,2,     0.08,2,   -999.0,-999.0000, -999,9,  152,   4.7292,  26.5576,   -999.0,9
       RF02-04,  165E,RF-1659,  1,     14,02-12817,2,20020518,1414, 41.9943, 165.0112, 4570,    203.3,   4.8911,  33.7458,2,   -999.0,9,  33.7490,2,    224.3,2,    45.57,2,  -999.00,9,    24.89,2,     0.00,2,     1.75,2, -999.000,9, -999.000,9,  -999.00,9,   -999.0,9,   -999.0,9,-999.0000,9,   -999.0,  9,  -999.00,9,   -999.0,  -999.00,9,  -999.00,9,     0.01,2,     0.06,2,   -999.0,-999.0000, -999,9,  202,   4.8757,  26.6949,   -999.0,9
       RF02-04,  165E,RF-1659,  1,     13,02-15822,2,20020518,1412, 41.9943, 165.0112, 4570,    254.1,   4.5576,  33.8008,2,   -999.0,9,-999.0000,9,    162.5,2,    61.98,2,  -999.00,9,    30.60,2,     0.00,2,     2.19,2, -999.000,9, -999.000,9,  -999.00,9,   -999.0,9,   -999.0,9,-999.0000,9,   -999.0,  9,  -999.00,9,   -999.0,  -999.00,9,  -999.00,9,  -999.00,9,  -999.00,9,   -999.0,-999.0000, -999,9,  252,   4.5390,  26.7756,   -999.0,9
       RF02-04,  165E,RF-1659,  1,     12,02-12808,2,20020518,1411, 41.9943, 165.0112, 4570,    304.1,   4.4500,  33.8877,2,   -999.0,9,  33.8878,2,    118.8,2,    74.35,2,  -999.00,9,    34.44,2,     0.00,2,     2.48,2, -999.000,9, -999.000,9,  -999.00,9,   -999.0,9,   -999.0,9,-999.0000,9,   -999.0,  9,  -999.00,9,   -999.0,  -999.00,9,  -999.00,9,  -999.00,9,  -999.00,9,   -999.0,-999.0000, -999,9,  301,   4.4278,  26.8567,   -999.0,9
       RF02-04,  165E,RF-1659,  1,     11,02-17873,2,20020518,1409, 41.9943, 165.0112, 4570,    403.7,   4.4614,  34.0323,2,   -999.0,9,  34.0339,2,     81.3,2,    88.03,2,  -999.00,9,    37.51,2,     0.00,2,     2.72,2, -999.000,9, -999.000,9,  -999.00,9,   -999.0,9,   -999.0,9,-999.0000,9,   -999.0,  9,  -999.00,9,   -999.0,  -999.00,9,  -999.00,9,  -999.00,9,  -999.00,9,   -999.0,-999.0000, -999,9,  400,   4.4315,  26.9711,   -999.0,9
       RF02-04,  165E,RF-1659,  1,     10,02-12820,2,20020518,1406, 41.9943, 165.0112, 4570,    505.7,   4.1220,  34.1357,2,   -999.0,9,  34.1365,2,     55.5,2,   102.28,2,  -999.00,9,    39.88,2,     0.00,2,     2.86,2, -999.000,9, -999.000,9,  -999.00,9,   -999.0,9,   -999.0,9,-999.0000,9,   -999.0,  9,  -999.00,9,   -999.0,  -999.00,9,  -999.00,9,  -999.00,9,  -999.00,9,   -999.0,-999.0000, -999,9,  501,   4.0855,  27.0898,   -999.0,9
       RF02-04,  165E,RF-1659,  1,      9,02-12810,2,20020518,1404, 41.9943, 165.0112, 4570,    607.4,   3.6309,  34.2052,2,   -999.0,9,  34.2056,2,     36.8,2,   116.83,2,  -999.00,9,    41.69,2,     0.00,2,     2.99,2, -999.000,9, -999.000,9,  -999.00,9,   -999.0,9,   -999.0,9,-999.0000,9,   -999.0,  9,  -999.00,9,   -999.0,  -999.00,9,  -999.00,9,  -999.00,9,  -999.00,9,   -999.0,-999.0000, -999,9,  602,   3.5888,  27.1951,   -999.0,9
       RF02-04,  165E,RF-1659,  1,      8,02-12819,2,20020518,1402, 41.9943, 165.0112, 4570,    707.8,   3.3730,  34.2681,2,   -999.0,9,  34.2683,2,     32.0,2,   125.85,2,  -999.00,9,    42.12,2,     0.00,2,     3.04,2, -999.000,9, -999.000,9,  -999.00,9,   -999.0,9,   -999.0,9,-999.0000,9,   -999.0,  9,  -999.00,9,   -999.0,  -999.00,9,  -999.00,9,  -999.00,9,  -999.00,9,   -999.0,-999.0000, -999,9,  701,   3.3247,  27.2707,   -999.0,9
       RF02-04,  165E,RF-1659,  1,      7,02-15821,2,20020518,1359, 41.9943, 165.0112, 4570,    809.8,   3.1739,  34.3131,2,   -999.0,9,  34.3139,2,     30.2,2,   132.26,2,  -999.00,9,    42.40,2,     0.00,2,     3.08,2, -999.000,9, -999.000,9,  -999.00,9,   -999.0,9,   -999.0,9,-999.0000,9,   -999.0,  9,  -999.00,9,   -999.0,  -999.00,9,  -999.00,9,  -999.00,9,  -999.00,9,   -999.0,-999.0000, -999,9,  802,   3.1192,  27.3258,   -999.0,9
       RF02-04,  165E,RF-1659,  1,      6,02-17872,2,20020518,1357, 41.9943, 165.0112, 4570,    909.4,   2.9828,  34.3572,2,   -999.0,9,  34.3577,2,     28.5,2,   138.44,2,  -999.00,9,    42.61,2,     0.00,2,     3.07,2, -999.000,9, -999.000,9,  -999.00,9,   -999.0,9,   -999.0,9,-999.0000,9,   -999.0,  9,  -999.00,9,   -999.0,  -999.00,9,  -999.00,9,  -999.00,9,  -999.00,9,   -999.0,-999.0000, -999,9,  900,   2.9221,  27.3790,   -999.0,9
       RF02-04,  165E,RF-1659,  1,      5,02-10155,2,20020518,1354, 41.9943, 165.0112, 4570,   1011.9,   2.8071,  34.3978,2,   -999.0,9,  34.3980,2,     29.6,2,   143.56,2,  -999.00,9,    42.67,2,     0.00,2,     3.10,2, -999.000,9, -999.000,9,  -999.00,9,   -999.0,9,   -999.0,9,-999.0000,9,   -999.0,  9,  -999.00,9,   -999.0,  -999.00,9,  -999.00,9,  -999.00,9,  -999.00,9,   -999.0,-999.0000, -999,9, 1001,   2.7400,  27.4276,   -999.0,9
       RF02-04,  165E,RF-1659,  1,      4,02-13579,2,20020518,1350, 41.9943, 165.0112, 4570,   1263.6,   2.4577,  34.4714,2,   -999.0,9,  34.4699,2,     34.5,2,   153.10,2,  -999.00,9,    42.58,2,     0.00,2,     3.06,2, -999.000,9, -999.000,9,  -999.00,9,   -999.0,9,   -999.0,9,-999.0000,9,   -999.0,  9,  -999.00,9,   -999.0,  -999.00,9,  -999.00,9,  -999.00,9,  -999.00,9,   -999.0,-999.0000, -999,9, 1250,   2.3747,  27.5178,   -999.0,9
       RF02-04,  165E,RF-1659,  1,      3,02-13590,2,20020518,1345, 41.9943, 165.0112, 4570,   1516.7,   2.1925,  34.5312,2,   -999.0,9,  34.5301,2,     46.6,2,   158.34,2,  -999.00,9,    42.11,2,     0.00,2,     3.00,2, -999.000,9, -999.000,9,  -999.00,9,   -999.0,9,   -999.0,9,-999.0000,9,   -999.0,  9,  -999.00,9,   -999.0,  -999.00,9,  -999.00,9,  -999.00,9,  -999.00,9,   -999.0,-999.0000, -999,9, 1499,   2.0928,  27.5887,   -999.0,9
       RF02-04,  165E,RF-1659,  1,      2,02-12827,2,20020518,1340, 41.9943, 165.0112, 4570,   1769.8,   2.0260,  34.5683,2,   -999.0,9,  34.5682,2,     58.3,2,   161.20,2,  -999.00,9,    41.53,2,     0.00,2,     3.00,2, -999.000,9, -999.000,9,  -999.00,9,   -999.0,9,   -999.0,9,-999.0000,9,   -999.0,  9,  -999.00,9,   -999.0,  -999.00,9,  -999.00,9,  -999.00,9,  -999.00,9,   -999.0,-999.0000, -999,9, 1749,   1.9083,  27.6330,   -999.0,9
       RF02-04,  165E,RF-1659,  1,      1,02-17871,2,20020518,1335, 41.9943, 165.0112, 4570,   2045.2,   1.8723,  34.6011,2,   -999.0,9,  34.6003,2,     74.5,2,   161.24,2,  -999.00,9,    40.64,2,     0.00,2,     2.88,2, -999.000,9, -999.000,9,  -999.00,9,   -999.0,9,   -999.0,9,-999.0000,9,   -999.0,  9,  -999.00,9,   -999.0,  -999.00,9,  -999.00,9,  -999.00,9,  -999.00,9,   -999.0,-999.0000, -999,9, 2019,   1.7342,  27.6727,   -999.0,9