BOTTLE,20130510GEMDJMAYT
EXPOCODE,SECT_ID,STNNBR,CASTNO,SAMPNO,BTLNBR,BTLNBR_FLAG_W,DATE,TIME,LATITUDE,LONGITUDE,DEPTH,CTDPRS,CTDTMP,CTDSAL,CTDSAL_FLAG_W,CTDOXY,CTDOXY_FLAG_W,SALNTY,SALNTY_FLAG_W,OXYGEN,OXYGEN_FLAG_W,SILCAT,SILCAT_FLAG_W,NITRAT,NITRAT_FLAG_W,NO2+NO3,NO2+NO3_FLAG_W,NITRIT,NITRIT_FLAG_W,PHSPHT,PHSPHT_FLAG_W,CFC-11,CFC-11_FLAG_W,CFC-12,CFC-12_FLAG_W,DELC13,DELC13_FLAG_W,TCARBN,TCARBN_FLAG_W,ALKALI,ALKALI_FLAG_W,PH,PH_FLAG_W,PH_TMP,PH_SCALE,PH_NBS,PH_NBS_FLAG_W,C13ERR,TOTALP,TOTALP_FLAG_W,AMMONI,AMMONI_FLAG_W,CHLORA,CHLORA_FLAG_W,PPHYTN,PPHYTN_FLAG_W,REVPRS,REVTMP,DEPTH_,DEPTH_FLAG,CTDDEP,THETA,SIGTHT,DOC,DOC_FLAG_W
,,,,,,,GMT,GMT,,,METER,DBAR,ITS-90,PSS-78,,UMOL/KG,,PSS-78,,UMOL/KG,,UMOL/KG,,UMOL/KG,,UMOL/KG,,UMOL/KG,,UMOL/KG,,PMOL/KG,,PMOL/KG,,/MILLE,,UMOL/KG,,UMOL/KG,,25_DEG_C,,DEG_C,,,,/MILLE,UMOL/KG,,UMOL/KG,,UG/L,,UG/L,,DBAR,ITS-90,METERS,,METERS,DEG_C,,UMOL/L,
       RF02-04,  NONE,RF-1631,  1,     -9,      -9,5,20020503,1952, 36.0208, 146.9985, 5619,      0.0,  15.2528,  34.4529,2,   -999.0,9,-999.0000,9,    263.6,2,     2.23,2,  -999.00,9,     1.66,2,     0.08,2,     0.23,2, -999.000,9, -999.000,9,  -999.00,9,   -999.0,9,   -999.0,9,-999.0000,9,   -999.0,  9,  -999.00,9,   -999.0,  -999.00,9,  -999.00,9,  -999.00,9,  -999.00,9,   -999.0,-999.0000, -999,9,    0,  15.2528,  25.4945,   -999.0,9
       RF02-04,  NONE,RF-1631,  1,     21,02-12826,2,20020503,1950, 36.0208, 146.9985, 5619,     10.7,  15.2964,  34.4608,2,   -999.0,9,  34.4876,4,    260.9,2,     2.78,2,  -999.00,9,     1.79,2,     0.08,2,     0.17,2, -999.000,9, -999.000,9,  -999.00,9,   -999.0,9,   -999.0,9,-999.0000,9,   -999.0,  9,  -999.00,9,   -999.0,  -999.00,9,  -999.00,9,  -999.00,9,  -999.00,9,   -999.0,-999.0000, -999,9,   11,  15.2948,  25.4913,   -999.0,9
       RF02-04,  NONE,RF-1631,  1,     20,02-12821,2,20020503,1949, 36.0208, 146.9985, 5619,     25.3,  15.1335,  34.5069,2,   -999.0,9,-999.0000,9,    261.5,2,     2.83,2,  -999.00,9,     2.03,2,     0.10,2,     0.19,2, -999.000,9, -999.000,9,  -999.00,9,   -999.0,9,   -999.0,9,-999.0000,9,   -999.0,  9,  -999.00,9,   -999.0,  -999.00,9,  -999.00,9,  -999.00,9,  -999.00,9,   -999.0,-999.0000, -999,9,   25,  15.1296,  25.5633,   -999.0,9
       RF02-04,  NONE,RF-1631,  1,     19,02-17875,2,20020503,1947, 36.0208, 146.9985, 5619,     51.4,  13.1693,  34.4138,2,   -999.0,9,-999.0000,9,   -999.0,4,  -999.00,4,  -999.00,9,  -999.00,4,  -999.00,4,  -999.00,4, -999.000,9, -999.000,9,  -999.00,9,   -999.0,9,   -999.0,9,-999.0000,9,   -999.0,  9,  -999.00,9,   -999.0,  -999.00,9,  -999.00,9,  -999.00,9,  -999.00,9,   -999.0,-999.0000, -999,9,   51,  13.1622,  25.9062,   -999.0,9
       RF02-04,  NONE,RF-1631,  1,     18,02-12830,2,20020503,1946, 36.0208, 146.9985, 5619,     76.1,  11.9895,  34.3701,2,   -999.0,9,-999.0000,9,    223.1,2,    18.16,2,  -999.00,9,    11.84,2,     0.24,2,     0.83,2, -999.000,9, -999.000,9,  -999.00,9,   -999.0,9,   -999.0,9,-999.0000,9,   -999.0,  9,  -999.00,9,   -999.0,  -999.00,9,  -999.00,9,  -999.00,9,  -999.00,9,   -999.0,-999.0000, -999,9,   75,  11.9797,  26.1037,   -999.0,9
       RF02-04,  NONE,RF-1631,  1,     17,02-17874,2,20020503,1945, 36.0208, 146.9985, 5619,    101.3,  11.3910,  34.3379,2,   -999.0,9,  34.3331,2,    210.9,2,    22.79,2,  -999.00,9,    14.12,2,     0.20,2,     0.98,2, -999.000,9, -999.000,9,  -999.00,9,   -999.0,9,   -999.0,9,-999.0000,9,   -999.0,  9,  -999.00,9,   -999.0,  -999.00,9,  -999.00,9,  -999.00,9,  -999.00,9,   -999.0,-999.0000, -999,9,  100,  11.3784,  26.1910,   -999.0,9
       RF02-04,  NONE,RF-1631,  1,     16,02-12818,2,20020503,1943, 36.0208, 146.9985, 5619,    126.2,  10.2511,  34.2240,2,   -999.0,9,-999.0000,9,    195.1,2,    29.17,2,  -999.00,9,    16.93,2,     0.11,2,     1.19,2, -999.000,9, -999.000,9,  -999.00,9,   -999.0,9,   -999.0,9,-999.0000,9,   -999.0,  9,  -999.00,9,   -999.0,  -999.00,9,  -999.00,9,  -999.00,9,  -999.00,9,   -999.0,-999.0000, -999,9,  125,  10.2364,  26.3056,   -999.0,9
       RF02-04,  NONE,RF-1631,  1,     15,02-12809,2,20020503,1942, 36.0208, 146.9985, 5619,    151.2,   9.6818,  34.2534,2,   -999.0,9,-999.0000,9,    172.3,2,    35.90,2,  -999.00,9,    19.75,2,     0.02,2,     1.39,2, -999.000,9, -999.000,9,  -999.00,9,   -999.0,9,   -999.0,9,-999.0000,9,   -999.0,  9,  -999.00,9,   -999.0,  -999.00,9,  -999.00,9,  -999.00,9,  -999.00,9,   -999.0,-999.0000, -999,9,  150,   9.6648,  26.4253,   -999.0,9
       RF02-04,  NONE,RF-1631,  1,     14,02-12817,2,20020503,1940, 36.0208, 146.9985, 5619,    201.7,   7.4789,  33.9335,2,   -999.0,9,  33.9658,4,    207.6,2,    36.06,2,  -999.00,9,    19.32,2,     0.00,2,     1.39,2, -999.000,9, -999.000,9,  -999.00,9,   -999.0,9,   -999.0,9,-999.0000,9,   -999.0,  9,  -999.00,9,   -999.0,  -999.00,9,  -999.00,9,  -999.00,9,  -999.00,9,   -999.0,-999.0000, -999,9,  200,   7.4596,  26.5145,   -999.0,9
       RF02-04,  NONE,RF-1631,  1,     13,02-15822,2,20020503,1938, 36.0208, 146.9985, 5619,    252.7,   6.6994,  33.9727,2,   -999.0,9,-999.0000,9,    175.1,2,    50.92,2,  -999.00,9,    25.71,2,     0.00,2,     1.88,2, -999.000,9, -999.000,9,  -999.00,9,   -999.0,9,   -999.0,9,-999.0000,9,   -999.0,  9,  -999.00,9,   -999.0,  -999.00,9,  -999.00,9,  -999.00,9,  -999.00,9,   -999.0,-999.0000, -999,9,  251,   6.6766,  26.6532,   -999.0,9
       RF02-04,  NONE,RF-1631,  1,     12,02-12808,2,20020503,1937, 36.0208, 146.9985, 5619,    301.5,   5.0425,  33.8546,2,   -999.0,9,  33.8539,2,    162.4,2,    61.76,2,  -999.00,9,    29.46,2,     0.00,2,     2.17,2, -999.000,9, -999.000,9,  -999.00,9,   -999.0,9,   -999.0,9,-999.0000,9,   -999.0,  9,  -999.00,9,   -999.0,  -999.00,9,  -999.00,9,  -999.00,9,  -999.00,9,   -999.0,-999.0000, -999,9,  299,   5.0192,  26.7650,   -999.0,9
       RF02-04,  NONE,RF-1631,  1,     11,02-17873,2,20020503,1934, 36.0208, 146.9985, 5619,    403.1,   4.3467,  33.9614,2,   -999.0,9,  33.9576,2,    109.4,2,    82.87,2,  -999.00,9,    35.25,2,     0.00,2,     2.54,2, -999.000,9, -999.000,9,  -999.00,9,   -999.0,9,   -999.0,9,-999.0000,9,   -999.0,  9,  -999.00,9,   -999.0,  -999.00,9,  -999.00,9,  -999.00,9,  -999.00,9,   -999.0,-999.0000, -999,9,  400,   4.3173,  26.9269,   -999.0,9
       RF02-04,  NONE,RF-1631,  1,     10,02-12820,2,20020503,1931, 36.0208, 146.9985, 5619,    504.3,   4.5708,  34.1501,2,   -999.0,9,  34.1511,2,     74.8,2,    96.16,2,  -999.00,9,    37.71,2,     0.00,2,     2.69,2, -999.000,9, -999.000,9,  -999.00,9,   -999.0,9,   -999.0,9,-999.0000,9,   -999.0,  9,  -999.00,9,   -999.0,  -999.00,9,  -999.00,9,  -999.00,9,  -999.00,9,   -999.0,-999.0000, -999,9,  500,   4.5325,  27.0537,   -999.0,9
       RF02-04,  NONE,RF-1631,  1,      9,02-12810,2,20020503,1929, 36.0208, 146.9985, 5619,    604.3,   4.2586,  34.2547,2,   -999.0,9,  34.2555,2,     59.2,2,   107.24,2,  -999.00,9,    39.20,2,     0.00,2,     2.80,2, -999.000,9, -999.000,9,  -999.00,9,   -999.0,9,   -999.0,9,-999.0000,9,   -999.0,  9,  -999.00,9,   -999.0,  -999.00,9,  -999.00,9,  -999.00,9,  -999.00,9,   -999.0,-999.0000, -999,9,  599,   4.2137,  27.1710,   -999.0,9
       RF02-04,  NONE,RF-1631,  1,      8,02-12819,2,20020503,1926, 36.0208, 146.9985, 5619,    705.2,   3.7893,  34.3069,2,   -999.0,9,  34.3052,2,     49.2,2,   118.10,2,  -999.00,9,    40.53,2,     0.00,2,     2.90,2, -999.000,9, -999.000,9,  -999.00,9,   -999.0,9,   -999.0,9,-999.0000,9,   -999.0,  9,  -999.00,9,   -999.0,  -999.00,9,  -999.00,9,  -999.00,9,  -999.00,9,   -999.0,-999.0000, -999,9,  699,   3.7389,  27.2613,   -999.0,9
       RF02-04,  NONE,RF-1631,  1,      7,02-15821,2,20020503,1923, 36.0208, 146.9985, 5619,    806.6,   3.4267,  34.3511,2,   -999.0,9,  34.3506,2,     43.6,2,   126.85,2,  -999.00,9,    41.51,2,     0.00,2,     2.98,2, -999.000,9, -999.000,9,  -999.00,9,   -999.0,9,   -999.0,9,-999.0000,9,   -999.0,  9,  -999.00,9,   -999.0,  -999.00,9,  -999.00,9,  -999.00,9,  -999.00,9,   -999.0,-999.0000, -999,9,  799,   3.3706,  27.3325,   -999.0,9
       RF02-04,  NONE,RF-1631,  1,      6,02-17872,2,20020503,1920, 36.0208, 146.9985, 5619,    908.6,   3.1874,  34.3953,2,   -999.0,9,-999.0000,9,     45.7,2,   132.73,2,  -999.00,9,    41.61,2,     0.00,2,     2.99,2, -999.000,9, -999.000,9,  -999.00,9,   -999.0,9,   -999.0,9,-999.0000,9,   -999.0,  9,  -999.00,9,   -999.0,  -999.00,9,  -999.00,9,  -999.00,9,  -999.00,9,   -999.0,-999.0000, -999,9,  900,   3.1252,  27.3908,   -999.0,9
       RF02-04,  NONE,RF-1631,  1,      5,02-10155,2,20020503,1918, 36.0208, 146.9985, 5619,   1008.8,   2.9186,  34.4334,2,   -999.0,9,  34.4326,2,     46.3,2,   139.11,2,  -999.00,9,    41.84,2,     0.00,2,     3.01,2, -999.000,9, -999.000,9,  -999.00,9,   -999.0,9,   -999.0,9,-999.0000,9,   -999.0,  9,  -999.00,9,   -999.0,  -999.00,9,  -999.00,9,  -999.00,9,  -999.00,9,   -999.0,-999.0000, -999,9,  999,   2.8508,  27.4463,   -999.0,9
       RF02-04,  NONE,RF-1631,  1,      4,02-13579,2,20020503,1912, 36.0208, 146.9985, 5619,   1262.8,   2.4932,  34.4966,2,   -999.0,9,  34.4963,2,     48.4,2,   149.81,2,  -999.00,9,    42.11,2,     0.00,2,     3.01,2, -999.000,9, -999.000,9,  -999.00,9,   -999.0,9,   -999.0,9,-999.0000,9,   -999.0,  9,  -999.00,9,   -999.0,  -999.00,9,  -999.00,9,  -999.00,9,  -999.00,9,   -999.0,-999.0000, -999,9, 1250,   2.4099,  27.5350,   -999.0,9
       RF02-04,  NONE,RF-1631,  1,      3,02-13590,2,20020503,1907, 36.0208, 146.9985, 5619,   1515.6,   2.2108,  34.5442,2,   -999.0,9,  34.5440,2,     54.6,2,   156.11,2,  -999.00,9,    41.94,2,     0.00,2,     2.98,2, -999.000,9, -999.000,9,  -999.00,9,   -999.0,9,   -999.0,9,-999.0000,9,   -999.0,  9,  -999.00,9,   -999.0,  -999.00,9,  -999.00,9,  -999.00,9,  -999.00,9,   -999.0,-999.0000, -999,9, 1499,   2.1110,  27.5977,   -999.0,9
       RF02-04,  NONE,RF-1631,  1,      2,02-12827,2,20020503,1902, 36.0208, 146.9985, 5619,   1768.7,   1.9855,  34.5857,2,   -999.0,9,  34.5857,2,     71.0,2,   158.00,2,  -999.00,9,    41.08,2,     0.00,2,     2.91,2, -999.000,9, -999.000,9,  -999.00,9,   -999.0,9,   -999.0,9,-999.0000,9,   -999.0,  9,  -999.00,9,   -999.0,  -999.00,9,  -999.00,9,  -999.00,9,  -999.00,9,   -999.0,-999.0000, -999,9, 1748,   1.8684,  27.6500,   -999.0,9
       RF02-04,  NONE,RF-1631,  1,      1,02-17871,2,20020503,1857, 36.0208, 146.9985, 5619,   2046.4,   1.8109,  34.6168,2,   -999.0,9,  34.6162,2,     88.2,2,   157.54,2,  -999.00,9,    40.10,2,     0.00,2,     2.81,2, -999.000,9, -999.000,9,  -999.00,9,   -999.0,9,   -999.0,9,-999.0000,9,   -999.0,  9,  -999.00,9,   -999.0,  -999.00,9,  -999.00,9,  -999.00,9,  -999.00,9,   -999.0,-999.0000, -999,9, 2022,   1.6736,  27.6898,   -999.0,9