BOTTLE,20130510GEMDJMAYT
EXPOCODE,SECT_ID,STNNBR,CASTNO,SAMPNO,BTLNBR,BTLNBR_FLAG_W,DATE,TIME,LATITUDE,LONGITUDE,DEPTH,CTDPRS,CTDTMP,CTDSAL,CTDSAL_FLAG_W,CTDOXY,CTDOXY_FLAG_W,SALNTY,SALNTY_FLAG_W,OXYGEN,OXYGEN_FLAG_W,SILCAT,SILCAT_FLAG_W,NITRAT,NITRAT_FLAG_W,NO2+NO3,NO2+NO3_FLAG_W,NITRIT,NITRIT_FLAG_W,PHSPHT,PHSPHT_FLAG_W,CFC-11,CFC-11_FLAG_W,CFC-12,CFC-12_FLAG_W,DELC13,DELC13_FLAG_W,TCARBN,TCARBN_FLAG_W,ALKALI,ALKALI_FLAG_W,PH,PH_FLAG_W,PH_TMP,PH_SCALE,PH_NBS,PH_NBS_FLAG_W,C13ERR,TOTALP,TOTALP_FLAG_W,AMMONI,AMMONI_FLAG_W,CHLORA,CHLORA_FLAG_W,PPHYTN,PPHYTN_FLAG_W,REVPRS,REVTMP,DEPTH_,DEPTH_FLAG,CTDDEP,THETA,SIGTHT,DOC,DOC_FLAG_W
,,,,,,,GMT,GMT,,,METER,DBAR,ITS-90,PSS-78,,UMOL/KG,,PSS-78,,UMOL/KG,,UMOL/KG,,UMOL/KG,,UMOL/KG,,UMOL/KG,,UMOL/KG,,PMOL/KG,,PMOL/KG,,/MILLE,,UMOL/KG,,UMOL/KG,,25_DEG_C,,DEG_C,,,,/MILLE,UMOL/KG,,UMOL/KG,,UG/L,,UG/L,,DBAR,ITS-90,METERS,,METERS,DEG_C,,UMOL/L,
       RF02-04,  NONE,RF-1623,  1,     -9,      -9,5,20020502,1008, 31.9947, 146.9878, 5906,      0.0,  19.2968,  34.6672,2,   -999.0,9,-999.0000,9,    235.8,2,     1.61,2,  -999.00,9,     0.00,2,     0.00,2,     0.03,2, -999.000,9, -999.000,9,  -999.00,9,   -999.0,9,   -999.0,9,-999.0000,9,   -999.0,  9,  -999.00,9,   -999.0,  -999.00,9,  -999.00,9,  -999.00,9,  -999.00,9,   -999.0,-999.0000, -999,9,    0,  19.2968,  24.6908,   -999.0,9
       RF02-04,  NONE,RF-1623,  1,     21,02-12826,2,20020502,1005, 31.9947, 146.9878, 5906,     11.5,  19.2981,  34.6673,2,   -999.0,9,-999.0000,9,    233.5,2,     1.53,2,  -999.00,9,     0.00,2,     0.00,2,     0.01,2, -999.000,9, -999.000,9,  -999.00,9,   -999.0,9,   -999.0,9,-999.0000,9,   -999.0,  9,  -999.00,9,   -999.0,  -999.00,9,  -999.00,9,  -999.00,9,  -999.00,9,   -999.0,-999.0000, -999,9,   11,  19.2960,  24.6911,   -999.0,9
       RF02-04,  NONE,RF-1623,  1,     20,02-12821,2,20020502,1004, 31.9947, 146.9878, 5906,     25.4,  19.3015,  34.6715,2,   -999.0,9,  34.6845,2,    230.7,2,     1.57,2,  -999.00,9,     0.00,2,     0.00,2,     0.00,2, -999.000,9, -999.000,9,  -999.00,9,   -999.0,9,   -999.0,9,-999.0000,9,   -999.0,  9,  -999.00,9,   -999.0,  -999.00,9,  -999.00,9,  -999.00,9,  -999.00,9,   -999.0,-999.0000, -999,9,   25,  19.2969,  24.6941,   -999.0,9
       RF02-04,  NONE,RF-1623,  1,     19,02-17875,2,20020502,1003, 31.9947, 146.9878, 5906,     51.1,  19.0610,  34.7448,2,   -999.0,9,-999.0000,9,    231.5,2,     1.62,2,  -999.00,9,     0.00,2,     0.00,2,     0.00,2, -999.000,9, -999.000,9,  -999.00,9,   -999.0,9,   -999.0,9,-999.0000,9,   -999.0,  9,  -999.00,9,   -999.0,  -999.00,9,  -999.00,9,  -999.00,9,  -999.00,9,   -999.0,-999.0000, -999,9,   51,  19.0519,  24.8128,   -999.0,9
       RF02-04,  NONE,RF-1623,  1,     18,02-12830,2,20020502,1002, 31.9947, 146.9878, 5906,     76.1,  18.9502,  34.7554,2,   -999.0,9,-999.0000,9,    230.6,2,     1.73,2,  -999.00,9,     0.06,2,     0.09,2,     0.00,2, -999.000,9, -999.000,9,  -999.00,9,   -999.0,9,   -999.0,9,-999.0000,9,   -999.0,  9,  -999.00,9,   -999.0,  -999.00,9,  -999.00,9,  -999.00,9,  -999.00,9,   -999.0,-999.0000, -999,9,   76,  18.9367,  24.8503,   -999.0,9
       RF02-04,  NONE,RF-1623,  1,     17,02-17874,2,20020502,1000, 31.9947, 146.9878, 5906,    100.6,  18.8130,  34.7628,2,   -999.0,9,  34.7772,2,    227.0,2,     1.98,2,  -999.00,9,     0.51,2,     0.19,2,     0.03,2, -999.000,9, -999.000,9,  -999.00,9,   -999.0,9,   -999.0,9,-999.0000,9,   -999.0,  9,  -999.00,9,   -999.0,  -999.00,9,  -999.00,9,  -999.00,9,  -999.00,9,   -999.0,-999.0000, -999,9,  100,  18.7952,  24.8918,   -999.0,9
       RF02-04,  NONE,RF-1623,  1,     16,02-12818,2,20020502,0959, 31.9947, 146.9878, 5906,    125.4,  18.6291,  34.7945,2,   -999.0,9,-999.0000,9,    220.8,2,     2.35,2,  -999.00,9,     1.16,2,     0.10,2,     0.06,2, -999.000,9, -999.000,9,  -999.00,9,   -999.0,9,   -999.0,9,-999.0000,9,   -999.0,  9,  -999.00,9,   -999.0,  -999.00,9,  -999.00,9,  -999.00,9,  -999.00,9,   -999.0,-999.0000, -999,9,  125,  18.6071,  24.9636,   -999.0,9
       RF02-04,  NONE,RF-1623,  1,     15,02-12809,2,20020502,0958, 31.9947, 146.9878, 5906,    152.6,  18.2234,  34.7564,2,   -999.0,9,-999.0000,9,    225.8,2,     2.73,2,  -999.00,9,     1.75,2,     0.01,2,     0.10,2, -999.000,9, -999.000,9,  -999.00,9,   -999.0,9,   -999.0,9,-999.0000,9,   -999.0,  9,  -999.00,9,   -999.0,  -999.00,9,  -999.00,9,  -999.00,9,  -999.00,9,   -999.0,-999.0000, -999,9,  151,  18.1971,  25.0368,   -999.0,9
       RF02-04,  NONE,RF-1623,  1,     14,02-12817,2,20020502,0956, 31.9947, 146.9878, 5906,    203.2,  17.9900,  34.7524,2,   -999.0,9,  34.7774,4,    211.7,2,     3.50,2,  -999.00,9,     3.22,2,     0.00,2,     0.18,2, -999.000,9, -999.000,9,  -999.00,9,   -999.0,9,   -999.0,9,-999.0000,9,   -999.0,  9,  -999.00,9,   -999.0,  -999.00,9,  -999.00,9,  -999.00,9,  -999.00,9,   -999.0,-999.0000, -999,9,  202,  17.9552,  25.0934,   -999.0,9
       RF02-04,  NONE,RF-1623,  1,     13,02-15822,2,20020502,0954, 31.9947, 146.9878, 5906,    253.5,  17.3424,  34.7252,2,   -999.0,9,  34.7363,2,    207.3,2,     4.55,2,  -999.00,9,     4.70,2,     0.00,2,     0.26,2, -999.000,9, -999.000,9,  -999.00,9,   -999.0,9,   -999.0,9,-999.0000,9,   -999.0,  9,  -999.00,9,   -999.0,  -999.00,9,  -999.00,9,  -999.00,9,  -999.00,9,   -999.0,-999.0000, -999,9,  252,  17.3000,  25.2317,   -999.0,9
       RF02-04,  NONE,RF-1623,  1,     12,02-12808,2,20020502,0952, 31.9947, 146.9878, 5906,    301.9,  16.9313,  34.7150,2,   -999.0,9,-999.0000,9,    202.1,2,     5.51,2,  -999.00,9,     5.72,2,     0.00,2,     0.31,2, -999.000,9, -999.000,9,  -999.00,9,   -999.0,9,   -999.0,9,-999.0000,9,   -999.0,  9,  -999.00,9,   -999.0,  -999.00,9,  -999.00,9,  -999.00,9,  -999.00,9,   -999.0,-999.0000, -999,9,  300,  16.8815,  25.3235,   -999.0,9
       RF02-04,  NONE,RF-1623,  1,     11,02-17873,2,20020502,0949, 31.9947, 146.9878, 5906,    404.6,  15.2608,  34.6178,2,   -999.0,9,  34.6280,2,    188.9,2,    10.11,2,  -999.00,9,     9.43,2,     0.00,2,     0.59,2, -999.000,9, -999.000,9,  -999.00,9,   -999.0,9,   -999.0,9,-999.0000,9,   -999.0,  9,  -999.00,9,   -999.0,  -999.00,9,  -999.00,9,  -999.00,9,  -999.00,9,   -999.0,-999.0000, -999,9,  401,  15.1986,  25.6336,   -999.0,9
       RF02-04,  NONE,RF-1623,  1,     10,02-12820,2,20020502,0946, 31.9947, 146.9878, 5906,    505.7,  12.5828,  34.4409,2,   -999.0,9,  34.4463,2,    176.2,2,    20.64,2,  -999.00,9,    15.04,2,     0.00,2,     0.98,2, -999.000,9, -999.000,9,  -999.00,9,   -999.0,9,   -999.0,9,-999.0000,9,   -999.0,  9,  -999.00,9,   -999.0,  -999.00,9,  -999.00,9,  -999.00,9,  -999.00,9,   -999.0,-999.0000, -999,9,  502,  12.5143,  26.0557,   -999.0,9
       RF02-04,  NONE,RF-1623,  1,      9,02-12810,2,20020502,0944, 31.9947, 146.9878, 5906,    608.1,   9.3565,  34.1920,2,   -999.0,9,  34.2033,2,    170.4,2,    34.17,2,  -999.00,9,    20.71,2,     0.00,2,     1.41,2, -999.000,9, -999.000,9,  -999.00,9,   -999.0,9,   -999.0,9,-999.0000,9,   -999.0,  9,  -999.00,9,   -999.0,  -999.00,9,  -999.00,9,  -999.00,9,  -999.00,9,   -999.0,-999.0000, -999,9,  603,   9.2881,  26.4391,   -999.0,9
       RF02-04,  NONE,RF-1623,  1,      8,02-12819,2,20020502,0941, 31.9947, 146.9878, 5906,    705.3,   6.9324,  34.0413,2,   -999.0,9,  34.0453,2,    154.8,2,    51.37,2,  -999.00,9,    26.63,2,     0.00,2,     1.86,2, -999.000,9, -999.000,9,  -999.00,9,   -999.0,9,   -999.0,9,-999.0000,9,   -999.0,  9,  -999.00,9,   -999.0,  -999.00,9,  -999.00,9,  -999.00,9,  -999.00,9,   -999.0,-999.0000, -999,9,  699,   6.8653,  26.6819,   -999.0,9
       RF02-04,  NONE,RF-1623,  1,      7,02-15821,2,20020502,0938, 31.9947, 146.9878, 5906,    806.2,   5.3558,  34.0663,2,   -999.0,9,  34.0667,2,    106.1,2,    75.58,2,  -999.00,9,    33.54,2,     0.00,2,     2.39,2, -999.000,9, -999.000,9,  -999.00,9,   -999.0,9,   -999.0,9,-999.0000,9,   -999.0,  9,  -999.00,9,   -999.0,  -999.00,9,  -999.00,9,  -999.00,9,  -999.00,9,   -999.0,-999.0000, -999,9,  799,   5.2881,  26.9015,   -999.0,9
       RF02-04,  NONE,RF-1623,  1,      6,02-17872,2,20020502,0935, 31.9947, 146.9878, 5906,    910.0,   4.7310,  34.1560,2,   -999.0,9,-999.0000,9,     77.3,2,    92.29,2,  -999.00,9,    37.02,2,     0.00,2,     2.67,2, -999.000,9, -999.000,9,  -999.00,9,   -999.0,9,   -999.0,9,-999.0000,9,   -999.0,  9,  -999.00,9,   -999.0,  -999.00,9,  -999.00,9,  -999.00,9,  -999.00,9,   -999.0,-999.0000, -999,9,  902,   4.6582,  27.0445,   -999.0,9
       RF02-04,  NONE,RF-1623,  1,      5,02-10155,2,20020502,0933, 31.9947, 146.9878, 5906,   1010.6,   4.0518,  34.2373,2,   -999.0,9,  34.2367,2,     52.6,2,   109.71,2,  -999.00,9,    39.75,2,     0.00,2,     2.84,2, -999.000,9, -999.000,9,  -999.00,9,   -999.0,9,   -999.0,9,-999.0000,9,   -999.0,  9,  -999.00,9,   -999.0,  -999.00,9,  -999.00,9,  -999.00,9,  -999.00,9,   -999.0,-999.0000, -999,9, 1001,   3.9753,  27.1820,   -999.0,9
       RF02-04,  NONE,RF-1623,  1,      4,02-13579,2,20020502,0927, 31.9947, 146.9878, 5906,   1262.6,   3.2103,  34.3778,2,   -999.0,9,  34.3785,2,     37.2,2,   132.10,2,  -999.00,9,    41.69,2,     0.00,2,     3.02,2, -999.000,9, -999.000,9,  -999.00,9,   -999.0,9,   -999.0,9,-999.0000,9,   -999.0,  9,  -999.00,9,   -999.0,  -999.00,9,  -999.00,9,  -999.00,9,  -999.00,9,   -999.0,-999.0000, -999,9, 1250,   3.1203,  27.3773,   -999.0,9
       RF02-04,  NONE,RF-1623,  1,      3,02-13590,2,20020502,0922, 31.9947, 146.9878, 5906,   1514.1,   2.6455,  34.4774,2,   -999.0,9,  34.4790,2,     41.1,2,   146.28,2,  -999.00,9,    42.04,2,     0.00,2,     3.00,2, -999.000,9, -999.000,9,  -999.00,9,   -999.0,9,   -999.0,9,-999.0000,9,   -999.0,  9,  -999.00,9,   -999.0,  -999.00,9,  -999.00,9,  -999.00,9,  -999.00,9,   -999.0,-999.0000, -999,9, 1498,   2.5409,  27.5085,   -999.0,9
       RF02-04,  NONE,RF-1623,  1,      2,02-12827,2,20020502,0918, 31.9947, 146.9878, 5906,   1769.8,   2.2849,  34.5405,2,   -999.0,9,  34.5403,2,     53.1,2,   153.25,2,  -999.00,9,    41.46,2,     0.00,2,     2.93,2, -999.000,9, -999.000,9,  -999.00,9,   -999.0,9,   -999.0,9,-999.0000,9,   -999.0,  9,  -999.00,9,   -999.0,  -999.00,9,  -999.00,9,  -999.00,9,  -999.00,9,   -999.0,-999.0000, -999,9, 1750,   2.1638,  27.5904,   -999.0,9
       RF02-04,  NONE,RF-1623,  1,      1,02-17871,2,20020502,0912, 31.9947, 146.9878, 5906,   2044.4,   2.0262,  34.5888,2,   -999.0,9,  34.5875,2,     75.4,2,   154.10,2,  -999.00,9,    40.28,2,     0.00,2,     2.82,2, -999.000,9, -999.000,9,  -999.00,9,   -999.0,9,   -999.0,9,-999.0000,9,   -999.0,  9,  -999.00,9,   -999.0,  -999.00,9,  -999.00,9,  -999.00,9,  -999.00,9,   -999.0,-999.0000, -999,9, 2020,   1.8857,  27.6512,   -999.0,9