BOTTLE,20130510GEMDJMAYT
EXPOCODE,SECT_ID,STNNBR,CASTNO,SAMPNO,BTLNBR,BTLNBR_FLAG_W,DATE,TIME,LATITUDE,LONGITUDE,DEPTH,CTDPRS,CTDTMP,CTDSAL,CTDSAL_FLAG_W,CTDOXY,CTDOXY_FLAG_W,SALNTY,SALNTY_FLAG_W,OXYGEN,OXYGEN_FLAG_W,SILCAT,SILCAT_FLAG_W,NITRAT,NITRAT_FLAG_W,NO2+NO3,NO2+NO3_FLAG_W,NITRIT,NITRIT_FLAG_W,PHSPHT,PHSPHT_FLAG_W,CFC-11,CFC-11_FLAG_W,CFC-12,CFC-12_FLAG_W,DELC13,DELC13_FLAG_W,TCARBN,TCARBN_FLAG_W,ALKALI,ALKALI_FLAG_W,PH,PH_FLAG_W,PH_TMP,PH_SCALE,PH_NBS,PH_NBS_FLAG_W,C13ERR,TOTALP,TOTALP_FLAG_W,AMMONI,AMMONI_FLAG_W,CHLORA,CHLORA_FLAG_W,PPHYTN,PPHYTN_FLAG_W,REVPRS,REVTMP,DEPTH_,DEPTH_FLAG,CTDDEP,THETA,SIGTHT,DOC,DOC_FLAG_W
,,,,,,,GMT,GMT,,,METER,DBAR,ITS-90,PSS-78,,UMOL/KG,,PSS-78,,UMOL/KG,,UMOL/KG,,UMOL/KG,,UMOL/KG,,UMOL/KG,,UMOL/KG,,PMOL/KG,,PMOL/KG,,/MILLE,,UMOL/KG,,UMOL/KG,,25_DEG_C,,DEG_C,,,,/MILLE,UMOL/KG,,UMOL/KG,,UG/L,,UG/L,,DBAR,ITS-90,METERS,,METERS,DEG_C,,UMOL/L,
       RF02-04,  NONE,RF-1611,  1,     -9,      -9,5,20020430,0255, 29.9832, 144.9280, 5889,      0.0,  20.4607,  34.8553,2,   -999.0,9,-999.0000,9,    234.0,2,     1.72,2,  -999.00,9,     0.00,2,     0.00,2,     0.00,2, -999.000,9, -999.000,9,  -999.00,9,   -999.0,9,   -999.0,9,-999.0000,9,   -999.0,  9,  -999.00,9,   -999.0,  -999.00,9,  -999.00,9,  -999.00,9,  -999.00,9,   -999.0,-999.0000, -999,9,    0,  20.4607,  24.5291,   -999.0,9
       RF02-04,  NONE,RF-1611,  1,     21,02-12826,2,20020430,0252, 29.9832, 144.9280, 5889,      9.3,  20.4430,  34.8565,2,   -999.0,9,  34.8702,2,    233.3,2,     1.61,2,  -999.00,9,     0.00,2,     0.00,2,     0.00,2, -999.000,9, -999.000,9,  -999.00,9,   -999.0,9,   -999.0,9,-999.0000,9,   -999.0,  9,  -999.00,9,   -999.0,  -999.00,9,  -999.00,9,  -999.00,9,  -999.00,9,   -999.0,-999.0000, -999,9,    9,  20.4413,  24.5352,   -999.0,9
       RF02-04,  NONE,RF-1611,  1,     20,02-12821,2,20020430,0251, 29.9832, 144.9280, 5889,     24.4,  20.3501,  34.8420,2,   -999.0,9,-999.0000,9,    230.1,2,     1.64,2,  -999.00,9,     0.00,2,     0.00,2,     0.00,2, -999.000,9, -999.000,9,  -999.00,9,   -999.0,9,   -999.0,9,-999.0000,9,   -999.0,  9,  -999.00,9,   -999.0,  -999.00,9,  -999.00,9,  -999.00,9,  -999.00,9,   -999.0,-999.0000, -999,9,   24,  20.3455,  24.5497,   -999.0,9
       RF02-04,  NONE,RF-1611,  1,     19,02-17875,2,20020430,0249, 29.9832, 144.9280, 5889,     50.5,  19.0709,  34.8126,2,   -999.0,9,-999.0000,9,    232.0,2,     1.97,2,  -999.00,9,     0.00,2,     0.00,2,     0.01,2, -999.000,9, -999.000,9,  -999.00,9,   -999.0,9,   -999.0,9,-999.0000,9,   -999.0,  9,  -999.00,9,   -999.0,  -999.00,9,  -999.00,9,  -999.00,9,  -999.00,9,   -999.0,-999.0000, -999,9,   50,  19.0619,  24.8622,   -999.0,9
       RF02-04,  NONE,RF-1611,  1,     18,02-12830,2,20020430,0248, 29.9832, 144.9280, 5889,     74.2,  18.8869,  34.8105,2,   -999.0,9,-999.0000,9,    229.7,2,     2.03,2,  -999.00,9,     0.17,2,     0.07,2,     0.03,2, -999.000,9, -999.000,9,  -999.00,9,   -999.0,9,   -999.0,9,-999.0000,9,   -999.0,  9,  -999.00,9,   -999.0,  -999.00,9,  -999.00,9,  -999.00,9,  -999.00,9,   -999.0,-999.0000, -999,9,   74,  18.8738,  24.9085,   -999.0,9
       RF02-04,  NONE,RF-1611,  1,     17,02-17874,2,20020430,0246, 29.9832, 144.9280, 5889,    101.5,  18.2956,  34.7631,2,   -999.0,9,  34.7713,2,    222.9,2,     2.49,2,  -999.00,9,     1.53,2,     0.10,2,     0.11,2, -999.000,9, -999.000,9,  -999.00,9,   -999.0,9,   -999.0,9,-999.0000,9,   -999.0,  9,  -999.00,9,   -999.0,  -999.00,9,  -999.00,9,  -999.00,9,  -999.00,9,   -999.0,-999.0000, -999,9,  101,  18.2781,  25.0218,   -999.0,9
       RF02-04,  NONE,RF-1611,  1,     16,02-12818,2,20020430,0245, 29.9832, 144.9280, 5889,    126.2,  18.0575,  34.7657,2,   -999.0,9,-999.0000,9,    223.6,2,     2.82,2,  -999.00,9,     2.16,2,     0.03,2,     0.13,2, -999.000,9, -999.000,9,  -999.00,9,   -999.0,9,   -999.0,9,-999.0000,9,   -999.0,  9,  -999.00,9,   -999.0,  -999.00,9,  -999.00,9,  -999.00,9,  -999.00,9,   -999.0,-999.0000, -999,9,  125,  18.0358,  25.0838,   -999.0,9
       RF02-04,  NONE,RF-1611,  1,     15,02-12809,2,20020430,0243, 29.9832, 144.9280, 5889,    150.1,  17.8894,  34.7611,2,   -999.0,9,-999.0000,9,    224.0,2,     3.02,2,  -999.00,9,     2.43,2,     0.02,2,     0.14,2, -999.000,9, -999.000,9,  -999.00,9,   -999.0,9,   -999.0,9,-999.0000,9,   -999.0,  9,  -999.00,9,   -999.0,  -999.00,9,  -999.00,9,  -999.00,9,  -999.00,9,   -999.0,-999.0000, -999,9,  149,  17.8638,  25.1225,   -999.0,9
       RF02-04,  NONE,RF-1611,  1,     14,02-12817,2,20020430,0241, 29.9832, 144.9280, 5889,    203.3,  17.2304,  34.7299,2,   -999.0,9,  34.7343,2,    207.4,2,     4.36,2,  -999.00,9,     4.91,2,     0.01,2,     0.28,2, -999.000,9, -999.000,9,  -999.00,9,   -999.0,9,   -999.0,9,-999.0000,9,   -999.0,  9,  -999.00,9,   -999.0,  -999.00,9,  -999.00,9,  -999.00,9,  -999.00,9,   -999.0,-999.0000, -999,9,  202,  17.1966,  25.2601,   -999.0,9
       RF02-04,  NONE,RF-1611,  1,     13,02-15822,2,20020430,0239, 29.9832, 144.9280, 5889,    252.7,  16.6191,  34.7009,2,   -999.0,9,-999.0000,9,    201.6,2,     5.62,2,  -999.00,9,     6.20,2,     0.00,2,     0.37,2, -999.000,9, -999.000,9,  -999.00,9,   -999.0,9,   -999.0,9,-999.0000,9,   -999.0,  9,  -999.00,9,   -999.0,  -999.00,9,  -999.00,9,  -999.00,9,  -999.00,9,   -999.0,-999.0000, -999,9,  251,  16.5781,  25.3840,   -999.0,9
       RF02-04,  NONE,RF-1611,  1,     12,02-12808,2,20020430,0237, 29.9832, 144.9280, 5889,    304.1,  15.6212,  34.6422,2,   -999.0,9,  34.6475,2,    194.4,2,     8.41,2,  -999.00,9,     8.41,2,     0.00,2,     0.52,2, -999.000,9, -999.000,9,  -999.00,9,   -999.0,9,   -999.0,9,-999.0000,9,   -999.0,  9,  -999.00,9,   -999.0,  -999.00,9,  -999.00,9,  -999.00,9,  -999.00,9,   -999.0,-999.0000, -999,9,  302,  15.5739,  25.5688,   -999.0,9
       RF02-04,  NONE,RF-1611,  1,     11,02-17873,2,20020430,0235, 29.9832, 144.9280, 5889,    403.9,  13.2541,  34.4875,2,   -999.0,9,  34.4904,2,    188.8,2,    15.45,2,  -999.00,9,    12.90,2,     0.00,2,     0.82,2, -999.000,9, -999.000,9,  -999.00,9,   -999.0,9,   -999.0,9,-999.0000,9,   -999.0,  9,  -999.00,9,   -999.0,  -999.00,9,  -999.00,9,  -999.00,9,  -999.00,9,   -999.0,-999.0000, -999,9,  401,  13.1977,  25.9561,   -999.0,9
       RF02-04,  NONE,RF-1611,  1,     10,02-12820,2,20020430,0231, 29.9832, 144.9280, 5889,    501.4,  10.5669,  34.2894,2,   -999.0,9,  34.2793,4,    179.2,2,    25.19,2,  -999.00,9,    18.28,2,     0.00,2,     1.22,2, -999.000,9, -999.000,9,  -999.00,9,   -999.0,9,   -999.0,9,-999.0000,9,   -999.0,  9,  -999.00,9,   -999.0,  -999.00,9,  -999.00,9,  -999.00,9,  -999.00,9,   -999.0,-999.0000, -999,9,  497,  10.5063,  26.3098,   -999.0,9
       RF02-04,  NONE,RF-1611,  1,      9,02-12810,2,20020430,0228, 29.9832, 144.9280, 5889,    606.1,   8.0577,  34.1218,2,   -999.0,9,  34.1189,2,    155.7,2,    42.11,2,  -999.00,9,    24.63,2,     0.00,2,     1.71,2, -999.000,9, -999.000,9,  -999.00,9,   -999.0,9,   -999.0,9,-999.0000,9,   -999.0,  9,  -999.00,9,   -999.0,  -999.00,9,  -999.00,9,  -999.00,9,  -999.00,9,   -999.0,-999.0000, -999,9,  601,   7.9953,  26.5848,   -999.0,9
       RF02-04,  NONE,RF-1611,  1,      8,02-12819,2,20020430,0225, 29.9832, 144.9280, 5889,    708.3,   6.1952,  34.0957,2,   -999.0,9,  34.0926,2,    115.3,2,    64.84,2,  -999.00,9,    31.61,2,     0.00,2,     2.25,2, -999.000,9, -999.000,9,  -999.00,9,   -999.0,9,   -999.0,9,-999.0000,9,   -999.0,  9,  -999.00,9,   -999.0,  -999.00,9,  -999.00,9,  -999.00,9,  -999.00,9,   -999.0,-999.0000, -999,9,  702,   6.1317,  26.8214,   -999.0,9
       RF02-04,  NONE,RF-1611,  1,      7,02-15821,2,20020430,0222, 29.9832, 144.9280, 5889,    804.0,   5.1877,  34.1442,2,   -999.0,9,  34.1334,2,     86.1,2,    82.77,2,  -999.00,9,    35.76,2,     0.00,2,     2.57,2, -999.000,9, -999.000,9,  -999.00,9,   -999.0,9,   -999.0,9,-999.0000,9,   -999.0,  9,  -999.00,9,   -999.0,  -999.00,9,  -999.00,9,  -999.00,9,  -999.00,9,   -999.0,-999.0000, -999,9,  797,   5.1212,  26.9828,   -999.0,9
       RF02-04,  NONE,RF-1611,  1,      6,02-17872,2,20020430,0219, 29.9832, 144.9280, 5889,    909.0,   4.4174,  34.2347,2,   -999.0,9,-999.0000,9,     58.9,2,   100.13,2,  -999.00,9,    39.15,2,     0.00,2,     2.83,2, -999.000,9, -999.000,9,  -999.00,9,   -999.0,9,   -999.0,9,-999.0000,9,   -999.0,  9,  -999.00,9,   -999.0,  -999.00,9,  -999.00,9,  -999.00,9,  -999.00,9,   -999.0,-999.0000, -999,9,  901,   4.3467,  27.1410,   -999.0,9
       RF02-04,  NONE,RF-1611,  1,      5,02-10155,2,20020430,0216, 29.9832, 144.9280, 5889,   1011.4,   3.9129,  34.3029,2,   -999.0,9,  34.2993,2,     49.4,2,   112.84,2,  -999.00,9,    40.44,2,     0.00,2,     2.93,2, -999.000,9, -999.000,9,  -999.00,9,   -999.0,9,   -999.0,9,-999.0000,9,   -999.0,  9,  -999.00,9,   -999.0,  -999.00,9,  -999.00,9,  -999.00,9,  -999.00,9,   -999.0,-999.0000, -999,9, 1002,   3.8373,  27.2482,   -999.0,9
       RF02-04,  NONE,RF-1611,  1,      4,02-13579,2,20020430,0210, 29.9832, 144.9280, 5889,   1260.2,   3.0668,  34.4269,2,   -999.0,9,  34.4271,2,     45.9,2,   133.39,2,  -999.00,9,    41.56,2,     0.00,2,     2.99,2, -999.000,9, -999.000,9,  -999.00,9,   -999.0,9,   -999.0,9,-999.0000,9,   -999.0,  9,  -999.00,9,   -999.0,  -999.00,9,  -999.00,9,  -999.00,9,  -999.00,9,   -999.0,-999.0000, -999,9, 1248,   2.9782,  27.4296,   -999.0,9
       RF02-04,  NONE,RF-1611,  1,      3,02-13590,2,20020430,0205, 29.9832, 144.9280, 5889,   1514.5,   2.5776,  34.5006,2,   -999.0,9,  34.5000,2,     49.4,2,   145.28,2,  -999.00,9,    41.83,2,     0.00,2,     3.00,2, -999.000,9, -999.000,9,  -999.00,9,   -999.0,9,   -999.0,9,-999.0000,9,   -999.0,  9,  -999.00,9,   -999.0,  -999.00,9,  -999.00,9,  -999.00,9,  -999.00,9,   -999.0,-999.0000, -999,9, 1499,   2.4736,  27.5328,   -999.0,9
       RF02-04,  NONE,RF-1611,  1,      2,02-12827,2,20020430,0200, 29.9832, 144.9280, 5889,   1767.8,   2.1998,  34.5602,2,   -999.0,9,  34.5596,2,     66.2,2,   151.20,2,  -999.00,9,    41.03,2,     0.00,2,     2.91,2, -999.000,9, -999.000,9,  -999.00,9,   -999.0,9,   -999.0,9,-999.0000,9,   -999.0,  9,  -999.00,9,   -999.0,  -999.00,9,  -999.00,9,  -999.00,9,  -999.00,9,   -999.0,-999.0000, -999,9, 1748,   2.0800,  27.6130,   -999.0,9
       RF02-04,  NONE,RF-1611,  1,      1,02-17871,2,20020430,0154, 29.9832, 144.9280, 5889,   2042.1,   1.9484,  34.6018,2,   -999.0,9,  34.6013,2,     88.5,2,   151.20,2,  -999.00,9,    39.75,2,     0.00,2,     2.80,2, -999.000,9, -999.000,9,  -999.00,9,   -999.0,9,   -999.0,9,-999.0000,9,   -999.0,  9,  -999.00,9,   -999.0,  -999.00,9,  -999.00,9,  -999.00,9,  -999.00,9,   -999.0,-999.0000, -999,9, 2018,   1.8093,  27.6675,   -999.0,9