BOTTLE,20130510GEMDJMAYT
EXPOCODE,SECT_ID,STNNBR,CASTNO,SAMPNO,BTLNBR,BTLNBR_FLAG_W,DATE,TIME,LATITUDE,LONGITUDE,DEPTH,CTDPRS,CTDTMP,CTDSAL,CTDSAL_FLAG_W,CTDOXY,CTDOXY_FLAG_W,SALNTY,SALNTY_FLAG_W,OXYGEN,OXYGEN_FLAG_W,SILCAT,SILCAT_FLAG_W,NITRAT,NITRAT_FLAG_W,NO2+NO3,NO2+NO3_FLAG_W,NITRIT,NITRIT_FLAG_W,PHSPHT,PHSPHT_FLAG_W,CFC-11,CFC-11_FLAG_W,CFC-12,CFC-12_FLAG_W,DELC13,DELC13_FLAG_W,TCARBN,TCARBN_FLAG_W,ALKALI,ALKALI_FLAG_W,PH,PH_FLAG_W,PH_TMP,PH_SCALE,PH_NBS,PH_NBS_FLAG_W,C13ERR,TOTALP,TOTALP_FLAG_W,AMMONI,AMMONI_FLAG_W,CHLORA,CHLORA_FLAG_W,PPHYTN,PPHYTN_FLAG_W,REVPRS,REVTMP,DEPTH_,DEPTH_FLAG,CTDDEP,THETA,SIGTHT,DOC,DOC_FLAG_W
,,,,,,,GMT,GMT,,,METER,DBAR,ITS-90,PSS-78,,UMOL/KG,,PSS-78,,UMOL/KG,,UMOL/KG,,UMOL/KG,,UMOL/KG,,UMOL/KG,,UMOL/KG,,PMOL/KG,,PMOL/KG,,/MILLE,,UMOL/KG,,UMOL/KG,,25_DEG_C,,DEG_C,,,,/MILLE,UMOL/KG,,UMOL/KG,,UG/L,,UG/L,,DBAR,ITS-90,METERS,,METERS,DEG_C,,UMOL/L,
       RF02-04,  NONE,RF-1619,  1,     -9,      -9,5,20020501,1737, 29.9990, 146.9885, 6153,      0.0,  20.8104,  34.8850,2,   -999.0,9,-999.0000,9,    227.8,2,     2.10,2,  -999.00,9,     0.00,2,     0.00,2,     0.03,2, -999.000,9, -999.000,9,  -999.00,9,   -999.0,9,   -999.0,9,-999.0000,9,   -999.0,  9,  -999.00,9,   -999.0,  -999.00,9,  -999.00,9,  -999.00,9,  -999.00,9,   -999.0,-999.0000, -999,9,    0,  20.8104,  24.4578,   -999.0,9
       RF02-04,  NONE,RF-1619,  1,     21,02-12826,2,20020501,1734, 29.9990, 146.9885, 6153,     10.8,  20.7487,  34.9070,2,   -999.0,9,  34.8905,2,    227.1,2,     2.01,2,  -999.00,9,     0.00,2,     0.00,2,     0.02,2, -999.000,9, -999.000,9,  -999.00,9,   -999.0,9,   -999.0,9,-999.0000,9,   -999.0,  9,  -999.00,9,   -999.0,  -999.00,9,  -999.00,9,  -999.00,9,  -999.00,9,   -999.0,-999.0000, -999,9,   11,  20.7467,  24.4917,   -999.0,9
       RF02-04,  NONE,RF-1619,  1,     20,02-12821,2,20020501,1733, 29.9990, 146.9885, 6153,     27.3,  20.2420,  34.7889,2,   -999.0,9,-999.0000,9,    229.8,2,     1.90,2,  -999.00,9,     0.00,2,     0.00,2,     0.02,2, -999.000,9, -999.000,9,  -999.00,9,   -999.0,9,   -999.0,9,-999.0000,9,   -999.0,  9,  -999.00,9,   -999.0,  -999.00,9,  -999.00,9,  -999.00,9,  -999.00,9,   -999.0,-999.0000, -999,9,   27,  20.2369,  24.5381,   -999.0,9
       RF02-04,  NONE,RF-1619,  1,     19,02-17875,2,20020501,1732, 29.9990, 146.9885, 6153,     50.5,  19.0627,  34.7736,2,   -999.0,9,-999.0000,9,    243.6,2,     1.96,2,  -999.00,9,     0.00,2,     0.00,2,     0.03,2, -999.000,9, -999.000,9,  -999.00,9,   -999.0,9,   -999.0,9,-999.0000,9,   -999.0,  9,  -999.00,9,   -999.0,  -999.00,9,  -999.00,9,  -999.00,9,  -999.00,9,   -999.0,-999.0000, -999,9,   50,  19.0538,  24.8344,   -999.0,9
       RF02-04,  NONE,RF-1619,  1,     18,02-12830,2,20020501,1731, 29.9990, 146.9885, 6153,     75.9,  18.5159,  34.7629,2,   -999.0,9,-999.0000,9,    232.3,2,     2.54,2,  -999.00,9,     0.53,2,     0.03,2,     0.07,2, -999.000,9, -999.000,9,  -999.00,9,   -999.0,9,   -999.0,9,-999.0000,9,   -999.0,  9,  -999.00,9,   -999.0,  -999.00,9,  -999.00,9,  -999.00,9,  -999.00,9,   -999.0,-999.0000, -999,9,   75,  18.5026,  24.9656,   -999.0,9
       RF02-04,  NONE,RF-1619,  1,     17,02-17874,2,20020501,1730, 29.9990, 146.9885, 6153,    100.6,  18.0759,  34.7587,2,   -999.0,9,  34.7772,4,    228.6,2,     2.81,2,  -999.00,9,     1.63,2,     0.29,2,     0.13,2, -999.000,9, -999.000,9,  -999.00,9,   -999.0,9,   -999.0,9,-999.0000,9,   -999.0,  9,  -999.00,9,   -999.0,  -999.00,9,  -999.00,9,  -999.00,9,  -999.00,9,   -999.0,-999.0000, -999,9,  100,  18.0586,  25.0728,   -999.0,9
       RF02-04,  NONE,RF-1619,  1,     16,02-12818,2,20020501,1729, 29.9990, 146.9885, 6153,    125.6,  17.9221,  34.7509,2,   -999.0,9,-999.0000,9,    223.2,2,     2.92,2,  -999.00,9,     2.25,2,     0.05,2,     0.17,2, -999.000,9, -999.000,9,  -999.00,9,   -999.0,9,   -999.0,9,-999.0000,9,   -999.0,  9,  -999.00,9,   -999.0,  -999.00,9,  -999.00,9,  -999.00,9,  -999.00,9,   -999.0,-999.0000, -999,9,  125,  17.9007,  25.1057,   -999.0,9
       RF02-04,  NONE,RF-1619,  1,     15,02-12809,2,20020501,1727, 29.9990, 146.9885, 6153,    151.9,  17.8776,  34.7515,2,   -999.0,9,-999.0000,9,    224.8,2,     2.90,2,  -999.00,9,     2.13,2,     0.03,2,     0.15,2, -999.000,9, -999.000,9,  -999.00,9,   -999.0,9,   -999.0,9,-999.0000,9,   -999.0,  9,  -999.00,9,   -999.0,  -999.00,9,  -999.00,9,  -999.00,9,  -999.00,9,   -999.0,-999.0000, -999,9,  151,  17.8518,  25.1181,   -999.0,9
       RF02-04,  NONE,RF-1619,  1,     14,02-12817,2,20020501,1726, 29.9990, 146.9885, 6153,    200.5,  17.4983,  34.7107,2,   -999.0,9,  34.7359,4,    216.3,2,     4.03,2,  -999.00,9,     3.56,2,     0.01,2,     0.24,2, -999.000,9, -999.000,9,  -999.00,9,   -999.0,9,   -999.0,9,-999.0000,9,   -999.0,  9,  -999.00,9,   -999.0,  -999.00,9,  -999.00,9,  -999.00,9,  -999.00,9,   -999.0,-999.0000, -999,9,  199,  17.4646,  25.1810,   -999.0,9
       RF02-04,  NONE,RF-1619,  1,     13,02-15822,2,20020501,1724, 29.9990, 146.9885, 6153,    251.8,  16.9785,  34.6978,2,   -999.0,9,-999.0000,9,    210.6,2,     4.96,2,  -999.00,9,     4.90,2,     0.00,2,     0.30,2, -999.000,9, -999.000,9,  -999.00,9,   -999.0,9,   -999.0,9,-999.0000,9,   -999.0,  9,  -999.00,9,   -999.0,  -999.00,9,  -999.00,9,  -999.00,9,  -999.00,9,   -999.0,-999.0000, -999,9,  250,  16.9370,  25.2972,   -999.0,9
       RF02-04,  NONE,RF-1619,  1,     12,02-12808,2,20020501,1723, 29.9990, 146.9885, 6153,    302.6,  16.3441,  34.6985,2,   -999.0,9,  34.6841,2,    203.9,2,     7.25,2,  -999.00,9,     6.86,2,     0.00,2,     0.45,2, -999.000,9, -999.000,9,  -999.00,9,   -999.0,9,   -999.0,9,-999.0000,9,   -999.0,  9,  -999.00,9,   -999.0,  -999.00,9,  -999.00,9,  -999.00,9,  -999.00,9,   -999.0,-999.0000, -999,9,  300,  16.2954,  25.4478,   -999.0,9
       RF02-04,  NONE,RF-1619,  1,     11,02-17873,2,20020501,1720, 29.9990, 146.9885, 6153,    403.8,  14.1129,  34.5376,2,   -999.0,9,  34.5336,2,    189.9,2,    13.43,2,  -999.00,9,    11.38,2,     0.00,2,     0.77,2, -999.000,9, -999.000,9,  -999.00,9,   -999.0,9,   -999.0,9,-999.0000,9,   -999.0,  9,  -999.00,9,   -999.0,  -999.00,9,  -999.00,9,  -999.00,9,  -999.00,9,   -999.0,-999.0000, -999,9,  401,  14.0540,  25.8184,   -999.0,9
       RF02-04,  NONE,RF-1619,  1,     10,02-12820,2,20020501,1718, 29.9990, 146.9885, 6153,    503.6,  11.5578,  34.3569,2,   -999.0,9,  34.3577,2,    191.3,2,    21.83,2,  -999.00,9,    15.38,2,     0.00,2,     1.04,2, -999.000,9, -999.000,9,  -999.00,9,   -999.0,9,   -999.0,9,-999.0000,9,   -999.0,  9,  -999.00,9,   -999.0,  -999.00,9,  -999.00,9,  -999.00,9,  -999.00,9,   -999.0,-999.0000, -999,9,  500,  11.4933,  26.1846,   -999.0,9
       RF02-04,  NONE,RF-1619,  1,      9,02-12810,2,20020501,1716, 29.9990, 146.9885, 6153,    605.3,   9.0118,  34.1769,2,   -999.0,9,  34.1573,2,    173.3,2,    36.38,2,  -999.00,9,    21.45,2,     0.00,2,     1.49,2, -999.000,9, -999.000,9,  -999.00,9,   -999.0,9,   -999.0,9,-999.0000,9,   -999.0,  9,  -999.00,9,   -999.0,  -999.00,9,  -999.00,9,  -999.00,9,  -999.00,9,   -999.0,-999.0000, -999,9,  600,   8.9452,  26.4823,   -999.0,9
       RF02-04,  NONE,RF-1619,  1,      8,02-12819,2,20020501,1714, 29.9990, 146.9885, 6153,    706.7,   6.3060,  34.0325,2,   -999.0,9,  34.0372,2,    138.8,2,    60.51,2,  -999.00,9,    29.36,2,     0.00,2,     2.10,2, -999.000,9, -999.000,9,  -999.00,9,   -999.0,9,   -999.0,9,-999.0000,9,   -999.0,  9,  -999.00,9,   -999.0,  -999.00,9,  -999.00,9,  -999.00,9,  -999.00,9,   -999.0,-999.0000, -999,9,  701,   6.2421,  26.7573,   -999.0,9
       RF02-04,  NONE,RF-1619,  1,      7,02-15821,2,20020501,1711, 29.9990, 146.9885, 6153,    805.8,   5.1593,  34.0933,2,   -999.0,9,  34.0932,2,     94.6,2,    82.70,2,  -999.00,9,    34.93,2,     0.00,2,     2.53,2, -999.000,9, -999.000,9,  -999.00,9,   -999.0,9,   -999.0,9,-999.0000,9,   -999.0,  9,  -999.00,9,   -999.0,  -999.00,9,  -999.00,9,  -999.00,9,  -999.00,9,   -999.0,-999.0000, -999,9,  799,   5.0928,  26.9457,   -999.0,9
       RF02-04,  NONE,RF-1619,  1,      6,02-17872,2,20020501,1709, 29.9990, 146.9885, 6153,    907.2,   4.3674,  34.1941,2,   -999.0,9,-999.0000,9,     61.1,2,   103.48,2,  -999.00,9,    38.89,2,     0.00,2,     2.82,2, -999.000,9, -999.000,9,  -999.00,9,   -999.0,9,   -999.0,9,-999.0000,9,   -999.0,  9,  -999.00,9,   -999.0,  -999.00,9,  -999.00,9,  -999.00,9,  -999.00,9,   -999.0,-999.0000, -999,9,  899,   4.2972,  27.1140,   -999.0,9
       RF02-04,  NONE,RF-1619,  1,      5,02-10155,2,20020501,1707, 29.9990, 146.9885, 6153,   1009.5,   3.8431,  34.2721,2,   -999.0,9,  34.2708,2,     46.1,2,   117.38,2,  -999.00,9,    40.72,2,     0.00,2,     2.98,2, -999.000,9, -999.000,9,  -999.00,9,   -999.0,9,   -999.0,9,-999.0000,9,   -999.0,  9,  -999.00,9,   -999.0,  -999.00,9,  -999.00,9,  -999.00,9,  -999.00,9,   -999.0,-999.0000, -999,9, 1000,   3.7683,  27.2306,   -999.0,9
       RF02-04,  NONE,RF-1619,  1,      4,02-13579,2,20020501,1702, 29.9990, 146.9885, 6153,   1262.4,   3.0108,  34.4116,2,   -999.0,9,  34.4119,2,     35.6,2,   139.98,2,  -999.00,9,    42.13,2,     0.00,2,     3.08,2, -999.000,9, -999.000,9,  -999.00,9,   -999.0,9,   -999.0,9,-999.0000,9,   -999.0,  9,  -999.00,9,   -999.0,  -999.00,9,  -999.00,9,  -999.00,9,  -999.00,9,   -999.0,-999.0000, -999,9, 1250,   2.9226,  27.4224,   -999.0,9
       RF02-04,  NONE,RF-1619,  1,      3,02-13590,2,20020501,1658, 29.9990, 146.9885, 6153,   1514.3,   2.5173,  34.5071,2,   -999.0,9,  34.5071,2,     45.6,2,   151.00,2,  -999.00,9,    41.98,2,     0.00,2,     3.03,2, -999.000,9, -999.000,9,  -999.00,9,   -999.0,9,   -999.0,9,-999.0000,9,   -999.0,  9,  -999.00,9,   -999.0,  -999.00,9,  -999.00,9,  -999.00,9,  -999.00,9,   -999.0,-999.0000, -999,9, 1499,   2.4140,  27.5430,   -999.0,9
       RF02-04,  NONE,RF-1619,  1,      2,02-12827,2,20020501,1654, 29.9990, 146.9885, 6153,   1769.3,   2.2279,  34.5619,2,   -999.0,9,  34.5639,2,     67.8,2,   153.03,2,  -999.00,9,    40.77,2,     0.00,2,     2.92,2, -999.000,9, -999.000,9,  -999.00,9,   -999.0,9,   -999.0,9,-999.0000,9,   -999.0,  9,  -999.00,9,   -999.0,  -999.00,9,  -999.00,9,  -999.00,9,  -999.00,9,   -999.0,-999.0000, -999,9, 1750,   2.1075,  27.6121,   -999.0,9
       RF02-04,  NONE,RF-1619,  1,      1,02-17871,2,20020501,1649, 29.9990, 146.9885, 6153,   2043.9,   1.9518,  34.6046,2,   -999.0,9,  34.6050,2,     90.0,2,   153.72,2,  -999.00,9,    39.58,2,     0.00,2,     2.81,2, -999.000,9, -999.000,9,  -999.00,9,   -999.0,9,   -999.0,9,-999.0000,9,   -999.0,  9,  -999.00,9,   -999.0,  -999.00,9,  -999.00,9,  -999.00,9,  -999.00,9,   -999.0,-999.0000, -999,9, 2020,   1.8125,  27.6695,   -999.0,9