BOTTLE,20130510GEMDJMAYT
EXPOCODE,SECT_ID,STNNBR,CASTNO,SAMPNO,BTLNBR,BTLNBR_FLAG_W,DATE,TIME,LATITUDE,LONGITUDE,DEPTH,CTDPRS,CTDTMP,CTDSAL,CTDSAL_FLAG_W,CTDOXY,CTDOXY_FLAG_W,SALNTY,SALNTY_FLAG_W,OXYGEN,OXYGEN_FLAG_W,SILCAT,SILCAT_FLAG_W,NITRAT,NITRAT_FLAG_W,NO2+NO3,NO2+NO3_FLAG_W,NITRIT,NITRIT_FLAG_W,PHSPHT,PHSPHT_FLAG_W,CFC-11,CFC-11_FLAG_W,CFC-12,CFC-12_FLAG_W,DELC13,DELC13_FLAG_W,TCARBN,TCARBN_FLAG_W,ALKALI,ALKALI_FLAG_W,PH,PH_FLAG_W,PH_TMP,PH_SCALE,PH_NBS,PH_NBS_FLAG_W,C13ERR,TOTALP,TOTALP_FLAG_W,AMMONI,AMMONI_FLAG_W,CHLORA,CHLORA_FLAG_W,PPHYTN,PPHYTN_FLAG_W,REVPRS,REVTMP,DEPTH_,DEPTH_FLAG,CTDDEP,THETA,SIGTHT,DOC,DOC_FLAG_W
,,,,,,,GMT,GMT,,,METER,DBAR,ITS-90,PSS-78,,UMOL/KG,,PSS-78,,UMOL/KG,,UMOL/KG,,UMOL/KG,,UMOL/KG,,UMOL/KG,,UMOL/KG,,PMOL/KG,,PMOL/KG,,/MILLE,,UMOL/KG,,UMOL/KG,,25_DEG_C,,DEG_C,,,,/MILLE,UMOL/KG,,UMOL/KG,,UG/L,,UG/L,,DBAR,ITS-90,METERS,,METERS,DEG_C,,UMOL/L,
       RF02-04,  165E,RF-1654,  1,     -9,      -9,5,20020517,0722, 47.0028, 165.0007, 5874,      0.0,   3.9577,  33.0706,2,   -999.0,9,-999.0000,9,    337.3,2,    30.57,2,  -999.00,9,    17.88,2,     0.19,2,     1.54,2, -999.000,9, -999.000,9,  -999.00,9,   -999.0,9,   -999.0,9,-999.0000,9,   -999.0,  9,  -999.00,9,   -999.0,  -999.00,9,  -999.00,9,     1.20,2,     0.20,2,   -999.0,-999.0000, -999,9,    0,   3.9577,  26.2557,   -999.0,9
       RF02-04,  165E,RF-1654,  1,     24,02-13588,2,20020517,0719, 47.0028, 165.0007, 5874,     12.3,   3.9518,  33.0697,2,   -999.0,9,  33.0788,4,    338.3,2,    30.44,2,  -999.00,9,    17.75,2,     0.19,2,     1.47,2, -999.000,9, -999.000,9,  -999.00,9,   -999.0,9,   -999.0,9,-999.0000,9,   -999.0,  9,  -999.00,9,   -999.0,  -999.00,9,  -999.00,9,  -999.00,9,  -999.00,9,   -999.0,-999.0000, -999,9,   12,   3.9510,  26.2557,   -999.0,9
       RF02-04,  165E,RF-1654,  1,     23,02-12825,2,20020517,0718, 47.0028, 165.0007, 5874,     26.8,   3.9427,  33.0871,2,   -999.0,9,-999.0000,9,    336.6,2,    30.26,2,  -999.00,9,    17.70,2,     0.19,2,     1.44,2, -999.000,9, -999.000,9,  -999.00,9,   -999.0,9,   -999.0,9,-999.0000,9,   -999.0,  9,  -999.00,9,   -999.0,  -999.00,9,  -999.00,9,  -999.00,9,  -999.00,9,   -999.0,-999.0000, -999,9,   27,   3.9409,  26.2705,   -999.0,9
       RF02-04,  165E,RF-1654,  1,     22,02-12811,2,20020517,0716, 47.0028, 165.0007, 5874,     51.4,   3.8143,  33.1735,2,   -999.0,9,-999.0000,9,    328.9,2,    29.23,2,  -999.00,9,    17.30,2,     0.21,2,     1.41,2, -999.000,9, -999.000,9,  -999.00,9,   -999.0,9,   -999.0,9,-999.0000,9,   -999.0,  9,  -999.00,9,   -999.0,  -999.00,9,  -999.00,9,  -999.00,9,  -999.00,9,   -999.0,-999.0000, -999,9,   51,   3.8110,  26.3520,   -999.0,9
       RF02-04,  165E,RF-1654,  1,     21,02-12826,2,20020517,0715, 47.0028, 165.0007, 5874,     77.7,   3.9820,  33.3169,2,   -999.0,9,-999.0000,9,    319.8,2,    28.80,2,  -999.00,9,    17.17,2,     0.26,2,     1.40,2, -999.000,9, -999.000,9,  -999.00,9,   -999.0,9,   -999.0,9,-999.0000,9,   -999.0,  9,  -999.00,9,   -999.0,  -999.00,9,  -999.00,9,  -999.00,9,  -999.00,9,   -999.0,-999.0000, -999,9,   77,   3.9768,  26.4497,   -999.0,9
       RF02-04,  165E,RF-1654,  1,     20,02-12821,2,20020517,0713, 47.0028, 165.0007, 5874,    101.8,   4.0525,  33.3576,2,   -999.0,9,  33.4749,4,    301.2,2,    31.64,2,  -999.00,9,    19.00,2,     0.03,2,     1.45,2, -999.000,9, -999.000,9,  -999.00,9,   -999.0,9,   -999.0,9,-999.0000,9,   -999.0,  9,  -999.00,9,   -999.0,  -999.00,9,  -999.00,9,  -999.00,9,  -999.00,9,   -999.0,-999.0000, -999,9,  101,   4.0456,  26.4752,   -999.0,9
       RF02-04,  165E,RF-1654,  1,     19,02-17875,2,20020517,0712, 47.0028, 165.0007, 5874,    126.9,   4.7819,  33.6055,2,   -999.0,9,-999.0000,9,    261.8,2,    38.15,2,  -999.00,9,    21.27,2,     0.00,2,     1.60,2, -999.000,9, -999.000,9,  -999.00,9,   -999.0,9,   -999.0,9,-999.0000,9,   -999.0,  9,  -999.00,9,   -999.0,  -999.00,9,  -999.00,9,  -999.00,9,  -999.00,9,   -999.0,-999.0000, -999,9,  126,   4.7725,  26.5951,   -999.0,9
       RF02-04,  165E,RF-1654,  1,     18,02-12830,2,20020517,0710, 47.0028, 165.0007, 5874,    151.3,   4.7520,  33.6741,2,   -999.0,9,-999.0000,9,    234.5,2,    44.61,2,  -999.00,9,    23.89,2,     0.00,2,     1.79,2, -999.000,9, -999.000,9,  -999.00,9,   -999.0,9,   -999.0,9,-999.0000,9,   -999.0,  9,  -999.00,9,   -999.0,  -999.00,9,  -999.00,9,  -999.00,9,  -999.00,9,   -999.0,-999.0000, -999,9,  150,   4.7408,  26.6531,   -999.0,9
       RF02-04,  165E,RF-1654,  1,     17,02-17874,2,20020517,0708, 47.0028, 165.0007, 5874,    201.9,   3.5647,  33.7056,2,   -999.0,9,  33.6736,2,   -999.0,4,    66.62,2,  -999.00,9,    31.78,2,     0.00,2,     2.37,2, -999.000,9, -999.000,9,  -999.00,9,   -999.0,9,   -999.0,9,-999.0000,9,   -999.0,  9,  -999.00,9,   -999.0,  -999.00,9,  -999.00,9,  -999.00,9,  -999.00,9,   -999.0,-999.0000, -999,9,  200,   3.5516,  26.8008,   -999.0,9
       RF02-04,  165E,RF-1654,  1,     16,02-12818,2,20020517,0706, 47.0028, 165.0007, 5874,    253.1,   3.4125,  33.7925,2,   -999.0,9,-999.0000,9,    122.4,2,    81.00,2,  -999.00,9,    35.83,2,     0.00,2,     2.62,2, -999.000,9, -999.000,9,  -999.00,9,   -999.0,9,   -999.0,9,-999.0000,9,   -999.0,  9,  -999.00,9,   -999.0,  -999.00,9,  -999.00,9,  -999.00,9,  -999.00,9,   -999.0,-999.0000, -999,9,  251,   3.3963,  26.8848,   -999.0,9
       RF02-04,  165E,RF-1654,  1,     15,02-12809,2,20020517,0704, 47.0028, 165.0007, 5874,    303.3,   3.2723,  33.8320,2,   -999.0,9,  33.8394,2,     88.8,2,    91.24,2,  -999.00,9,    38.86,2,     0.00,2,     2.85,2, -999.000,9, -999.000,9,  -999.00,9,   -999.0,9,   -999.0,9,-999.0000,9,   -999.0,  9,  -999.00,9,   -999.0,  -999.00,9,  -999.00,9,  -999.00,9,  -999.00,9,   -999.0,-999.0000, -999,9,  301,   3.2531,  26.9297,   -999.0,9
       RF02-04,  165E,RF-1654,  1,     14,02-12817,2,20020517,0702, 47.0028, 165.0007, 5874,    403.8,   3.5008,  34.0085,2,   -999.0,9,  34.0070,2,     51.9,2,   104.63,2,  -999.00,9,    41.29,2,     0.00,2,     3.02,2, -999.000,9, -999.000,9,  -999.00,9,   -999.0,9,   -999.0,9,-999.0000,9,   -999.0,  9,  -999.00,9,   -999.0,  -999.00,9,  -999.00,9,  -999.00,9,  -999.00,9,   -999.0,-999.0000, -999,9,  400,   3.4740,  27.0495,   -999.0,9
       RF02-04,  165E,RF-1654,  1,     13,02-15822,2,20020517,0659, 47.0028, 165.0007, 5874,    504.9,   3.4226,  34.1127,2,   -999.0,9,  34.1093,2,     35.3,2,   115.62,2,  -999.00,9,    42.34,2,     0.00,2,     3.06,2, -999.000,9, -999.000,9,  -999.00,9,   -999.0,9,   -999.0,9,-999.0000,9,   -999.0,  9,  -999.00,9,   -999.0,  -999.00,9,  -999.00,9,  -999.00,9,  -999.00,9,   -999.0,-999.0000, -999,9,  500,   3.3890,  27.1407,   -999.0,9
       RF02-04,  165E,RF-1654,  1,     12,02-12808,2,20020517,0657, 47.0028, 165.0007, 5874,    605.8,   3.4798,  34.2171,2,   -999.0,9,  34.2170,2,     37.1,2,   120.24,2,  -999.00,9,    41.86,2,     0.00,2,     3.04,2, -999.000,9, -999.000,9,  -999.00,9,   -999.0,9,   -999.0,9,-999.0000,9,   -999.0,  9,  -999.00,9,   -999.0,  -999.00,9,  -999.00,9,  -999.00,9,  -999.00,9,   -999.0,-999.0000, -999,9,  600,   3.4386,  27.2192,   -999.0,9
       RF02-04,  165E,RF-1654,  1,     11,02-17873,2,20020517,0654, 47.0028, 165.0007, 5874,    706.0,   3.1648,  34.2589,2,   -999.0,9,  34.2589,2,     26.3,2,   130.84,2,  -999.00,9,    42.79,2,     0.00,2,     3.12,2, -999.000,9, -999.000,9,  -999.00,9,   -999.0,9,   -999.0,9,-999.0000,9,   -999.0,  9,  -999.00,9,   -999.0,  -999.00,9,  -999.00,9,  -999.00,9,  -999.00,9,   -999.0,-999.0000, -999,9,  699,   3.1179,  27.2827,   -999.0,9
       RF02-04,  165E,RF-1654,  1,     10,02-12820,2,20020517,0652, 47.0028, 165.0007, 5874,    806.7,   3.0168,  34.3140,2,   -999.0,9,  34.3127,2,     27.9,2,   135.89,2,  -999.00,9,    42.69,2,     0.00,2,     3.04,2, -999.000,9, -999.000,9,  -999.00,9,   -999.0,9,   -999.0,9,-999.0000,9,   -999.0,  9,  -999.00,9,   -999.0,  -999.00,9,  -999.00,9,  -999.00,9,  -999.00,9,   -999.0,-999.0000, -999,9,  798,   2.9634,  27.3407,   -999.0,9
       RF02-04,  165E,RF-1654,  1,      9,02-12810,2,20020517,0649, 47.0028, 165.0007, 5874,    908.6,   2.8493,  34.3558,2,   -999.0,9,  34.3579,2,     26.7,2,   142.28,2,  -999.00,9,    42.92,2,     0.00,2,     3.14,2, -999.000,9, -999.000,9,  -999.00,9,   -999.0,9,   -999.0,9,-999.0000,9,   -999.0,  9,  -999.00,9,   -999.0,  -999.00,9,  -999.00,9,  -999.00,9,  -999.00,9,   -999.0,-999.0000, -999,9,  899,   2.7896,  27.3897,   -999.0,9
       RF02-04,  165E,RF-1654,  1,      8,02-12819,2,20020517,0646, 47.0028, 165.0007, 5874,   1009.9,   2.7061,  34.4020,2,   -999.0,9,  34.4011,2,     25.0,2,   147.25,2,  -999.00,9,    42.97,2,     0.00,2,     3.13,2, -999.000,9, -999.000,9,  -999.00,9,   -999.0,9,   -999.0,9,-999.0000,9,   -999.0,  9,  -999.00,9,   -999.0,  -999.00,9,  -999.00,9,  -999.00,9,  -999.00,9,   -999.0,-999.0000, -999,9,  999,   2.6399,  27.4397,   -999.0,9
       RF02-04,  165E,RF-1654,  1,      7,02-15821,2,20020517,0641, 47.0028, 165.0007, 5874,   1263.0,   2.4246,  34.4757,2,   -999.0,9,  34.4733,2,     37.0,2,   153.42,2,  -999.00,9,    42.48,2,     0.00,2,     3.07,2, -999.000,9, -999.000,9,  -999.00,9,   -999.0,9,   -999.0,9,-999.0000,9,   -999.0,  9,  -999.00,9,   -999.0,  -999.00,9,  -999.00,9,  -999.00,9,  -999.00,9,   -999.0,-999.0000, -999,9, 1249,   2.3420,  27.5239,   -999.0,9
       RF02-04,  165E,RF-1654,  1,      6,02-17872,2,20020517,0635, 47.0028, 165.0007, 5874,   1516.1,   2.2045,  34.5208,2,   -999.0,9,  34.5202,2,     39.2,2,   160.92,2,  -999.00,9,    42.41,2,     0.00,2,     3.06,2, -999.000,9, -999.000,9,  -999.00,9,   -999.0,9,   -999.0,9,-999.0000,9,   -999.0,  9,  -999.00,9,   -999.0,  -999.00,9,  -999.00,9,  -999.00,9,  -999.00,9,   -999.0,-999.0000, -999,9, 1498,   2.1047,  27.5794,   -999.0,9
       RF02-04,  165E,RF-1654,  1,      5,02-10155,2,20020517,0630, 47.0028, 165.0007, 5874,   1769.8,   2.0698,  34.5575,2,   -999.0,9,  34.5572,2,     53.5,2,   161.77,2,  -999.00,9,    41.69,2,     0.00,2,     2.95,2, -999.000,9, -999.000,9,  -999.00,9,   -999.0,9,   -999.0,9,-999.0000,9,   -999.0,  9,  -999.00,9,   -999.0,  -999.00,9,  -999.00,9,  -999.00,9,  -999.00,9,   -999.0,-999.0000, -999,9, 1748,   1.9516,  27.6210,   -999.0,9
       RF02-04,  165E,RF-1654,  1,      4,02-13579,2,20020517,0624, 47.0028, 165.0007, 5874,   2045.3,   1.8997,  34.5949,2,   -999.0,9,  34.5942,2,     70.0,2,   162.54,2,  -999.00,9,    40.83,2,     0.00,2,     2.89,2, -999.000,9, -999.000,9,  -999.00,9,   -999.0,9,   -999.0,9,-999.0000,9,   -999.0,  9,  -999.00,9,   -999.0,  -999.00,9,  -999.00,9,  -999.00,9,  -999.00,9,   -999.0,-999.0000, -999,9, 2018,   1.7612,  27.6656,   -999.0,9