BOTTLE,20130510GEMDJMAYT
EXPOCODE,SECT_ID,STNNBR,CASTNO,SAMPNO,BTLNBR,BTLNBR_FLAG_W,DATE,TIME,LATITUDE,LONGITUDE,DEPTH,CTDPRS,CTDTMP,CTDSAL,CTDSAL_FLAG_W,CTDOXY,CTDOXY_FLAG_W,SALNTY,SALNTY_FLAG_W,OXYGEN,OXYGEN_FLAG_W,SILCAT,SILCAT_FLAG_W,NITRAT,NITRAT_FLAG_W,NO2+NO3,NO2+NO3_FLAG_W,NITRIT,NITRIT_FLAG_W,PHSPHT,PHSPHT_FLAG_W,CFC-11,CFC-11_FLAG_W,CFC-12,CFC-12_FLAG_W,DELC13,DELC13_FLAG_W,TCARBN,TCARBN_FLAG_W,ALKALI,ALKALI_FLAG_W,PH,PH_FLAG_W,PH_TMP,PH_SCALE,PH_NBS,PH_NBS_FLAG_W,C13ERR,TOTALP,TOTALP_FLAG_W,AMMONI,AMMONI_FLAG_W,CHLORA,CHLORA_FLAG_W,PPHYTN,PPHYTN_FLAG_W,REVPRS,REVTMP,DEPTH_,DEPTH_FLAG,CTDDEP,THETA,SIGTHT,DOC,DOC_FLAG_W
,,,,,,,GMT,GMT,,,METER,DBAR,ITS-90,PSS-78,,UMOL/KG,,PSS-78,,UMOL/KG,,UMOL/KG,,UMOL/KG,,UMOL/KG,,UMOL/KG,,UMOL/KG,,PMOL/KG,,PMOL/KG,,/MILLE,,UMOL/KG,,UMOL/KG,,25_DEG_C,,DEG_C,,,,/MILLE,UMOL/KG,,UMOL/KG,,UG/L,,UG/L,,DBAR,ITS-90,METERS,,METERS,DEG_C,,UMOL/L,
       RF02-04,  165E,RF-1669,  1,     -9,      -9,5,20020521,0934, 32.0342, 164.9998, 6001,      0.0,  19.6378,  34.7930,2,   -999.0,9,-999.0000,9,    233.8,2,     2.03,2,  -999.00,9,     0.03,2,     0.00,2,     0.04,2, -999.000,9, -999.000,9,  -999.00,9,   -999.0,9,   -999.0,9,-999.0000,9,   -999.0,  9,  -999.00,9,   -999.0,  -999.00,9,  -999.00,9,     0.13,2,     0.02,2,   -999.0,-999.0000, -999,9,    0,  19.6378,  24.6987,   -999.0,9
       RF02-04,  165E,RF-1669,  1,     21,02-12826,2,20020521,0931, 32.0342, 164.9998, 6001,     12.0,  19.6369,  34.7921,2,   -999.0,9,  34.8440,4,    231.6,2,     2.01,2,  -999.00,9,     0.00,2,     0.00,2,     0.01,2, -999.000,9, -999.000,9,  -999.00,9,   -999.0,9,   -999.0,9,-999.0000,9,   -999.0,  9,  -999.00,9,   -999.0,  -999.00,9,  -999.00,9,  -999.00,9,  -999.00,9,   -999.0,-999.0000, -999,9,   12,  19.6347,  24.6988,   -999.0,9
       RF02-04,  165E,RF-1669,  1,     20,02-12821,2,20020521,0930, 32.0342, 164.9998, 6001,     25.6,  19.5801,  34.7935,2,   -999.0,9,-999.0000,9,    236.0,2,     1.97,2,  -999.00,9,     0.01,2,     0.00,2,     0.02,2, -999.000,9, -999.000,9,  -999.00,9,   -999.0,9,   -999.0,9,-999.0000,9,   -999.0,  9,  -999.00,9,   -999.0,  -999.00,9,  -999.00,9,  -999.00,9,  -999.00,9,   -999.0,-999.0000, -999,9,   25,  19.5754,  24.7152,   -999.0,9
       RF02-04,  165E,RF-1669,  1,     19,02-17875,2,20020521,0929, 32.0342, 164.9998, 6001,     51.2,  18.3465,  34.7608,2,   -999.0,9,-999.0000,9,    239.2,2,     2.01,2,  -999.00,9,     0.00,2,     0.00,2,     0.01,2, -999.000,9, -999.000,9,  -999.00,9,   -999.0,9,   -999.0,9,-999.0000,9,   -999.0,  9,  -999.00,9,   -999.0,  -999.00,9,  -999.00,9,  -999.00,9,  -999.00,9,   -999.0,-999.0000, -999,9,   51,  18.3376,  25.0052,   -999.0,9
       RF02-04,  165E,RF-1669,  1,     18,02-12830,2,20020521,0928, 32.0342, 164.9998, 6001,     75.7,  18.0991,  34.7581,2,   -999.0,9,-999.0000,9,    238.2,2,     1.83,2,  -999.00,9,     0.00,2,     0.00,2,     0.01,2, -999.000,9, -999.000,9,  -999.00,9,   -999.0,9,   -999.0,9,-999.0000,9,   -999.0,  9,  -999.00,9,   -999.0,  -999.00,9,  -999.00,9,  -999.00,9,  -999.00,9,   -999.0,-999.0000, -999,9,   75,  18.0861,  25.0655,   -999.0,9
       RF02-04,  165E,RF-1669,  1,     17,02-17874,2,20020521,0926, 32.0342, 164.9998, 6001,    102.2,  17.5496,  34.6914,2,   -999.0,9,  34.7004,4,    222.0,2,     3.08,2,  -999.00,9,     2.60,2,     0.04,2,     0.15,2, -999.000,9, -999.000,9,  -999.00,9,   -999.0,9,   -999.0,9,-999.0000,9,   -999.0,  9,  -999.00,9,   -999.0,  -999.00,9,  -999.00,9,  -999.00,9,  -999.00,9,   -999.0,-999.0000, -999,9,  101,  17.5324,  25.1498,   -999.0,9
       RF02-04,  165E,RF-1669,  1,     16,02-12818,2,20020521,0925, 32.0342, 164.9998, 6001,    125.6,  17.2809,  34.6870,2,   -999.0,9,-999.0000,9,    221.8,2,     3.40,2,  -999.00,9,     3.25,2,     0.01,2,     0.19,2, -999.000,9, -999.000,9,  -999.00,9,   -999.0,9,   -999.0,9,-999.0000,9,   -999.0,  9,  -999.00,9,   -999.0,  -999.00,9,  -999.00,9,  -999.00,9,  -999.00,9,   -999.0,-999.0000, -999,9,  125,  17.2600,  25.2120,   -999.0,9
       RF02-04,  165E,RF-1669,  1,     15,02-12809,2,20020521,0924, 32.0342, 164.9998, 6001,    151.8,  17.1994,  34.7030,2,   -999.0,9,-999.0000,9,    229.3,2,     2.94,2,  -999.00,9,     2.71,2,     0.01,2,     0.17,2, -999.000,9, -999.000,9,  -999.00,9,   -999.0,9,   -999.0,9,-999.0000,9,   -999.0,  9,  -999.00,9,   -999.0,  -999.00,9,  -999.00,9,  -999.00,9,  -999.00,9,   -999.0,-999.0000, -999,9,  151,  17.1743,  25.2448,   -999.0,9
       RF02-04,  165E,RF-1669,  1,     14,02-12817,2,20020521,0922, 32.0342, 164.9998, 6001,    202.4,  16.8778,  34.6868,2,   -999.0,9,  34.6969,4,    210.0,2,     4.89,2,  -999.00,9,     5.07,2,     0.00,2,     0.28,2, -999.000,9, -999.000,9,  -999.00,9,   -999.0,9,   -999.0,9,-999.0000,9,   -999.0,  9,  -999.00,9,   -999.0,  -999.00,9,  -999.00,9,  -999.00,9,  -999.00,9,   -999.0,-999.0000, -999,9,  201,  16.8447,  25.3106,   -999.0,9
       RF02-04,  165E,RF-1669,  1,     13,02-15822,2,20020521,0920, 32.0342, 164.9998, 6001,    252.4,  16.5419,  34.6768,2,   -999.0,9,-999.0000,9,    204.8,2,     5.83,2,  -999.00,9,     5.95,2,     0.00,2,     0.34,2, -999.000,9, -999.000,9,  -999.00,9,   -999.0,9,   -999.0,9,-999.0000,9,   -999.0,  9,  -999.00,9,   -999.0,  -999.00,9,  -999.00,9,  -999.00,9,  -999.00,9,   -999.0,-999.0000, -999,9,  251,  16.5011,  25.3835,   -999.0,9
       RF02-04,  165E,RF-1669,  1,     12,02-12808,2,20020521,0918, 32.0342, 164.9998, 6001,    305.9,  15.7657,  34.6320,2,   -999.0,9,  34.6400,2,    202.5,2,     7.71,2,  -999.00,9,     7.43,2,     0.00,2,     0.42,2, -999.000,9, -999.000,9,  -999.00,9,   -999.0,9,   -999.0,9,-999.0000,9,   -999.0,  9,  -999.00,9,   -999.0,  -999.00,9,  -999.00,9,  -999.00,9,  -999.00,9,   -999.0,-999.0000, -999,9,  304,  15.7178,  25.5285,   -999.0,9
       RF02-04,  165E,RF-1669,  1,     11,02-17873,2,20020521,0914, 32.0342, 164.9998, 6001,    405.9,  13.4542,  34.4698,2,   -999.0,9,  34.4839,4,    197.8,2,    14.65,2,  -999.00,9,    11.83,2,     0.00,2,     0.71,2, -999.000,9, -999.000,9,  -999.00,9,   -999.0,9,   -999.0,9,-999.0000,9,   -999.0,  9,  -999.00,9,   -999.0,  -999.00,9,  -999.00,9,  -999.00,9,  -999.00,9,   -999.0,-999.0000, -999,9,  403,  13.3969,  25.9020,   -999.0,9
       RF02-04,  165E,RF-1669,  1,     10,02-12820,2,20020521,0911, 32.0342, 164.9998, 6001,    507.8,  11.0598,  34.2995,2,   -999.0,9,  34.3121,4,    200.1,2,    22.08,2,  -999.00,9,    15.56,2,     0.00,2,     0.98,2, -999.000,9, -999.000,9,  -999.00,9,   -999.0,9,   -999.0,9,-999.0000,9,   -999.0,  9,  -999.00,9,   -999.0,  -999.00,9,  -999.00,9,  -999.00,9,  -999.00,9,   -999.0,-999.0000, -999,9,  504,  10.9966,  26.2306,   -999.0,9
       RF02-04,  165E,RF-1669,  1,      9,02-12810,2,20020521,0907, 32.0342, 164.9998, 6001,    607.1,   8.1996,  34.0784,2,   -999.0,9,  34.0806,2,    181.7,2,    38.42,2,  -999.00,9,    22.03,2,     0.00,2,     1.46,2, -999.000,9, -999.000,9,  -999.00,9,   -999.0,9,   -999.0,9,-999.0000,9,   -999.0,  9,  -999.00,9,   -999.0,  -999.00,9,  -999.00,9,  -999.00,9,  -999.00,9,   -999.0,-999.0000, -999,9,  602,   8.1365,  26.5297,   -999.0,9
       RF02-04,  165E,RF-1669,  1,      8,02-12819,2,20020521,0904, 32.0342, 164.9998, 6001,    708.2,   6.1544,  34.0043,2,   -999.0,9,  34.0027,4,    145.4,2,    58.71,2,  -999.00,9,    29.06,2,     0.00,2,     2.00,2, -999.000,9, -999.000,9,  -999.00,9,   -999.0,9,   -999.0,9,-999.0000,9,   -999.0,  9,  -999.00,9,   -999.0,  -999.00,9,  -999.00,9,  -999.00,9,  -999.00,9,   -999.0,-999.0000, -999,9,  702,   6.0913,  26.7544,   -999.0,9
       RF02-04,  165E,RF-1669,  1,      7,02-15821,2,20020521,0900, 32.0342, 164.9998, 6001,    808.9,   4.9587,  34.0962,2,   -999.0,9,  34.0955,2,     90.5,2,    84.74,2,  -999.00,9,    36.07,2,     0.00,2,     2.52,2, -999.000,9, -999.000,9,  -999.00,9,   -999.0,9,   -999.0,9,-999.0000,9,   -999.0,  9,  -999.00,9,   -999.0,  -999.00,9,  -999.00,9,  -999.00,9,  -999.00,9,   -999.0,-999.0000, -999,9,  802,   4.8932,  26.9709,   -999.0,9
       RF02-04,  165E,RF-1669,  1,      6,02-17872,2,20020521,0857, 32.0342, 164.9998, 6001,    909.3,   4.3176,  34.1673,2,   -999.0,9,  34.1680,2,     60.6,2,   101.09,2,  -999.00,9,    39.31,2,     0.00,2,     2.77,2, -999.000,9, -999.000,9,  -999.00,9,   -999.0,9,   -999.0,9,-999.0000,9,   -999.0,  9,  -999.00,9,   -999.0,  -999.00,9,  -999.00,9,  -999.00,9,  -999.00,9,   -999.0,-999.0000, -999,9,  901,   4.2477,  27.0980,   -999.0,9
       RF02-04,  165E,RF-1669,  1,      5,02-10155,2,20020521,0854, 32.0342, 164.9998, 6001,   1011.6,   3.8645,  34.2501,2,   -999.0,9,  34.2490,2,     45.5,2,   114.77,2,  -999.00,9,    40.99,2,     0.00,2,     2.90,2, -999.000,9, -999.000,9,  -999.00,9,   -999.0,9,   -999.0,9,-999.0000,9,   -999.0,  9,  -999.00,9,   -999.0,  -999.00,9,  -999.00,9,  -999.00,9,  -999.00,9,   -999.0,-999.0000, -999,9, 1002,   3.7893,  27.2111,   -999.0,9
       RF02-04,  165E,RF-1669,  1,      4,02-13579,2,20020521,0847, 32.0342, 164.9998, 6001,   1265.1,   3.0701,  34.3943,2,   -999.0,9,  34.3944,2,     32.9,2,   137.12,2,  -999.00,9,    42.62,2,     0.00,2,     3.04,2, -999.000,9, -999.000,9,  -999.00,9,   -999.0,9,   -999.0,9,-999.0000,9,   -999.0,  9,  -999.00,9,   -999.0,  -999.00,9,  -999.00,9,  -999.00,9,  -999.00,9,   -999.0,-999.0000, -999,9, 1253,   2.9812,  27.4033,   -999.0,9
       RF02-04,  165E,RF-1669,  1,      3,02-13590,2,20020521,0842, 32.0342, 164.9998, 6001,   1514.1,   2.6289,  34.4849,2,   -999.0,9,  34.4850,2,     36.8,2,   148.48,2,  -999.00,9,    42.81,2,     0.00,2,     3.05,2, -999.000,9, -999.000,9,  -999.00,9,   -999.0,9,   -999.0,9,-999.0000,9,   -999.0,  9,  -999.00,9,   -999.0,  -999.00,9,  -999.00,9,  -999.00,9,  -999.00,9,   -999.0,-999.0000, -999,9, 1498,   2.5244,  27.5160,   -999.0,9
       RF02-04,  165E,RF-1669,  1,      2,02-12827,2,20020521,0837, 32.0342, 164.9998, 6001,   1767.2,   2.3148,  34.5460,2,   -999.0,9,  34.5466,2,     53.1,2,   153.96,2,  -999.00,9,    42.00,2,     0.00,2,     2.99,2, -999.000,9, -999.000,9,  -999.00,9,   -999.0,9,   -999.0,9,-999.0000,9,   -999.0,  9,  -999.00,9,   -999.0,  -999.00,9,  -999.00,9,  -999.00,9,  -999.00,9,   -999.0,-999.0000, -999,9, 1747,   2.1935,  27.5924,   -999.0,9
       RF02-04,  165E,RF-1669,  1,      1,02-17871,2,20020521,0832, 32.0342, 164.9998, 6001,   2032.6,   2.0370,  34.5898,2,   -999.0,9,  34.5891,2,     73.2,2,   156.62,2,  -999.00,9,    40.91,2,     0.00,2,     2.90,2, -999.000,9, -999.000,9,  -999.00,9,   -999.0,9,   -999.0,9,-999.0000,9,   -999.0,  9,  -999.00,9,   -999.0,  -999.00,9,  -999.00,9,  -999.00,9,  -999.00,9,   -999.0,-999.0000, -999,9, 2009,   1.8974,  27.6510,   -999.0,9