BOTTLE,20130510GEMDJMAYT
EXPOCODE,SECT_ID,STNNBR,CASTNO,SAMPNO,BTLNBR,BTLNBR_FLAG_W,DATE,TIME,LATITUDE,LONGITUDE,DEPTH,CTDPRS,CTDTMP,CTDSAL,CTDSAL_FLAG_W,CTDOXY,CTDOXY_FLAG_W,SALNTY,SALNTY_FLAG_W,OXYGEN,OXYGEN_FLAG_W,SILCAT,SILCAT_FLAG_W,NITRAT,NITRAT_FLAG_W,NO2+NO3,NO2+NO3_FLAG_W,NITRIT,NITRIT_FLAG_W,PHSPHT,PHSPHT_FLAG_W,CFC-11,CFC-11_FLAG_W,CFC-12,CFC-12_FLAG_W,DELC13,DELC13_FLAG_W,TCARBN,TCARBN_FLAG_W,ALKALI,ALKALI_FLAG_W,PH,PH_FLAG_W,PH_TMP,PH_SCALE,PH_NBS,PH_NBS_FLAG_W,C13ERR,TOTALP,TOTALP_FLAG_W,AMMONI,AMMONI_FLAG_W,CHLORA,CHLORA_FLAG_W,PPHYTN,PPHYTN_FLAG_W,REVPRS,REVTMP,DEPTH_,DEPTH_FLAG,CTDDEP,THETA,SIGTHT,DOC,DOC_FLAG_W
,,,,,,,GMT,GMT,,,METER,DBAR,ITS-90,PSS-78,,UMOL/KG,,PSS-78,,UMOL/KG,,UMOL/KG,,UMOL/KG,,UMOL/KG,,UMOL/KG,,UMOL/KG,,PMOL/KG,,PMOL/KG,,/MILLE,,UMOL/KG,,UMOL/KG,,25_DEG_C,,DEG_C,,,,/MILLE,UMOL/KG,,UMOL/KG,,UG/L,,UG/L,,DBAR,ITS-90,METERS,,METERS,DEG_C,,UMOL/L,
       RF02-04,  NONE,RF-1627,  1,     -9,      -9,5,20020503,0316, 34.0088, 147.0107, 5772,      0.0,  20.6042,  34.7624,2,   -999.0,9,-999.0000,9,    226.7,2,     1.68,2,  -999.00,9,     0.00,2,     0.01,2,     0.04,2, -999.000,9, -999.000,9,  -999.00,9,   -999.0,9,   -999.0,9,-999.0000,9,   -999.0,  9,  -999.00,9,   -999.0,  -999.00,9,  -999.00,9,  -999.00,9,  -999.00,9,   -999.0,-999.0000, -999,9,    0,  20.6042,  24.4199,   -999.0,9
       RF02-04,  NONE,RF-1627,  1,     21,02-12826,2,20020503,0314, 34.0088, 147.0107, 5772,     11.0,  20.6001,  34.7684,2,   -999.0,9,  34.7786,2,    226.8,2,     1.59,2,  -999.00,9,     0.00,2,     0.00,2,     0.02,2, -999.000,9, -999.000,9,  -999.00,9,   -999.0,9,   -999.0,9,-999.0000,9,   -999.0,  9,  -999.00,9,   -999.0,  -999.00,9,  -999.00,9,  -999.00,9,  -999.00,9,   -999.0,-999.0000, -999,9,   11,  20.5980,  24.4261,   -999.0,9
       RF02-04,  NONE,RF-1627,  1,     20,02-12821,2,20020503,0313, 34.0088, 147.0107, 5772,     25.7,  20.5099,  34.7609,2,   -999.0,9,-999.0000,9,    224.1,2,     1.56,2,  -999.00,9,     0.00,2,     0.01,2,     0.02,2, -999.000,9, -999.000,9,  -999.00,9,   -999.0,9,   -999.0,9,-999.0000,9,   -999.0,  9,  -999.00,9,   -999.0,  -999.00,9,  -999.00,9,  -999.00,9,  -999.00,9,   -999.0,-999.0000, -999,9,   26,  20.5051,  24.4453,   -999.0,9
       RF02-04,  NONE,RF-1627,  1,     19,02-17875,2,20020503,0312, 34.0088, 147.0107, 5772,     51.2,  20.4453,  34.7531,2,   -999.0,9,-999.0000,9,    221.9,2,     1.70,2,  -999.00,9,     0.06,2,     0.02,2,     0.03,2, -999.000,9, -999.000,9,  -999.00,9,   -999.0,9,   -999.0,9,-999.0000,9,   -999.0,  9,  -999.00,9,   -999.0,  -999.00,9,  -999.00,9,  -999.00,9,  -999.00,9,   -999.0,-999.0000, -999,9,   51,  20.4358,  24.4579,   -999.0,9
       RF02-04,  NONE,RF-1627,  1,     18,02-12830,2,20020503,0311, 34.0088, 147.0107, 5772,     76.1,  20.0282,  34.7751,2,   -999.0,9,-999.0000,9,    222.2,2,     1.95,2,  -999.00,9,     0.40,2,     0.04,2,     0.07,2, -999.000,9, -999.000,9,  -999.00,9,   -999.0,9,   -999.0,9,-999.0000,9,   -999.0,  9,  -999.00,9,   -999.0,  -999.00,9,  -999.00,9,  -999.00,9,  -999.00,9,   -999.0,-999.0000, -999,9,   76,  20.0142,  24.5865,   -999.0,9
       RF02-04,  NONE,RF-1627,  1,     17,02-17874,2,20020503,0309, 34.0088, 147.0107, 5772,    101.5,  19.2424,  34.7047,2,   -999.0,9,  34.7182,2,    206.6,2,     4.75,2,  -999.00,9,     3.03,2,     0.16,2,     0.22,2, -999.000,9, -999.000,9,  -999.00,9,   -999.0,9,   -999.0,9,-999.0000,9,   -999.0,  9,  -999.00,9,   -999.0,  -999.00,9,  -999.00,9,  -999.00,9,  -999.00,9,   -999.0,-999.0000, -999,9,  101,  19.2242,  24.7382,   -999.0,9
       RF02-04,  NONE,RF-1627,  1,     16,02-12818,2,20020503,0308, 34.0088, 147.0107, 5772,    126.7,  18.5877,  34.6842,2,   -999.0,9,-999.0000,9,    197.5,2,     2.48,2,  -999.00,9,     0.70,2,     0.21,2,     0.08,2, -999.000,9, -999.000,9,  -999.00,9,   -999.0,9,   -999.0,9,-999.0000,9,   -999.0,  9,  -999.00,9,   -999.0,  -999.00,9,  -999.00,9,  -999.00,9,  -999.00,9,   -999.0,-999.0000, -999,9,  126,  18.5655,  24.8896,   -999.0,9
       RF02-04,  NONE,RF-1627,  1,     15,02-12809,2,20020503,0307, 34.0088, 147.0107, 5772,    152.3,  18.2075,  34.7653,2,   -999.0,9,-999.0000,9,    232.1,2,     2.45,2,  -999.00,9,     0.70,2,     0.21,2,     0.08,2, -999.000,9, -999.000,9,  -999.00,9,   -999.0,9,   -999.0,9,-999.0000,9,   -999.0,  9,  -999.00,9,   -999.0,  -999.00,9,  -999.00,9,  -999.00,9,  -999.00,9,   -999.0,-999.0000, -999,9,  151,  18.1812,  25.0476,   -999.0,9
       RF02-04,  NONE,RF-1627,  1,     14,02-12817,2,20020503,0305, 34.0088, 147.0107, 5772,    201.4,  17.9696,  34.7747,2,   -999.0,9,  34.7855,2,    221.4,2,     3.32,2,  -999.00,9,     2.40,2,     0.01,2,     0.16,2, -999.000,9, -999.000,9,  -999.00,9,   -999.0,9,   -999.0,9,-999.0000,9,   -999.0,  9,  -999.00,9,   -999.0,  -999.00,9,  -999.00,9,  -999.00,9,  -999.00,9,   -999.0,-999.0000, -999,9,  200,  17.9351,  25.1154,   -999.0,9
       RF02-04,  NONE,RF-1627,  1,     13,02-15822,2,20020503,0303, 34.0088, 147.0107, 5772,    251.2,  17.0760,  34.7165,2,   -999.0,9,-999.0000,9,    196.7,2,     6.12,2,  -999.00,9,     5.93,2,     0.00,2,     0.38,2, -999.000,9, -999.000,9,  -999.00,9,   -999.0,9,   -999.0,9,-999.0000,9,   -999.0,  9,  -999.00,9,   -999.0,  -999.00,9,  -999.00,9,  -999.00,9,  -999.00,9,   -999.0,-999.0000, -999,9,  249,  17.0345,  25.2885,   -999.0,9
       RF02-04,  NONE,RF-1627,  1,     12,02-12808,2,20020503,0302, 34.0088, 147.0107, 5772,    301.3,  15.8827,  34.6023,2,   -999.0,9,  34.6056,2,    188.4,2,    13.28,2,  -999.00,9,     9.23,2,     0.00,2,     0.61,2, -999.000,9, -999.000,9,  -999.00,9,   -999.0,9,   -999.0,9,-999.0000,9,   -999.0,  9,  -999.00,9,   -999.0,  -999.00,9,  -999.00,9,  -999.00,9,  -999.00,9,   -999.0,-999.0000, -999,9,  299,  15.8353,  25.4791,   -999.0,9
       RF02-04,  NONE,RF-1627,  1,     11,02-17873,2,20020503,0259, 34.0088, 147.0107, 5772,    403.6,  12.4936,  34.4437,2,   -999.0,9,  34.4499,2,    168.6,2,    22.48,2,  -999.00,9,    15.87,2,     0.00,2,     1.05,2, -999.000,9, -999.000,9,  -999.00,9,   -999.0,9,   -999.0,9,-999.0000,9,   -999.0,  9,  -999.00,9,   -999.0,  -999.00,9,  -999.00,9,  -999.00,9,  -999.00,9,   -999.0,-999.0000, -999,9,  400,  12.4394,  26.0725,   -999.0,9
       RF02-04,  NONE,RF-1627,  1,     10,02-12820,2,20020503,0257, 34.0088, 147.0107, 5772,    502.7,  10.1924,  34.3591,2,   -999.0,9,  34.3579,2,    142.6,2,    40.08,2,  -999.00,9,    22.26,2,     0.00,2,     1.53,2, -999.000,9, -999.000,9,  -999.00,9,   -999.0,9,   -999.0,9,-999.0000,9,   -999.0,  9,  -999.00,9,   -999.0,  -999.00,9,  -999.00,9,  -999.00,9,  -999.00,9,   -999.0,-999.0000, -999,9,  498,  10.1330,  26.4288,   -999.0,9
       RF02-04,  NONE,RF-1627,  1,      9,02-12810,2,20020503,0254, 34.0088, 147.0107, 5772,    603.6,   7.8207,  34.3152,2,   -999.0,9,  34.2909,4,    115.3,2,    61.69,2,  -999.00,9,    28.65,2,     0.00,2,     2.02,2, -999.000,9, -999.000,9,  -999.00,9,   -999.0,9,   -999.0,9,-999.0000,9,   -999.0,  9,  -999.00,9,   -999.0,  -999.00,9,  -999.00,9,  -999.00,9,  -999.00,9,   -999.0,-999.0000, -999,9,  598,   7.7594,  26.7715,   -999.0,9
       RF02-04,  NONE,RF-1627,  1,      8,02-12819,2,20020503,0252, 34.0088, 147.0107, 5772,    705.7,   6.0654,  34.2818,2,   -999.0,9,  34.2736,2,     92.1,2,    81.02,2,  -999.00,9,    33.59,2,     0.00,2,     2.38,2, -999.000,9, -999.000,9,  -999.00,9,   -999.0,9,   -999.0,9,-999.0000,9,   -999.0,  9,  -999.00,9,   -999.0,  -999.00,9,  -999.00,9,  -999.00,9,  -999.00,9,   -999.0,-999.0000, -999,9,  699,   6.0026,  26.9848,   -999.0,9
       RF02-04,  NONE,RF-1627,  1,      7,02-15821,2,20020503,0250, 34.0088, 147.0107, 5772,    807.4,   4.7702,  34.2360,2,   -999.0,9,  34.2333,2,     71.8,2,    96.61,2,  -999.00,9,    37.23,2,     0.00,2,     2.67,2, -999.000,9, -999.000,9,  -999.00,9,   -999.0,9,   -999.0,9,-999.0000,9,   -999.0,  9,  -999.00,9,   -999.0,  -999.00,9,  -999.00,9,  -999.00,9,  -999.00,9,   -999.0,-999.0000, -999,9,  800,   4.7058,  27.1028,   -999.0,9
       RF02-04,  NONE,RF-1627,  1,      6,02-17872,2,20020503,0247, 34.0088, 147.0107, 5772,    908.0,   4.0587,  34.2548,2,   -999.0,9,-999.0000,9,     55.8,2,   110.00,2,  -999.00,9,    39.38,2,     0.00,2,     2.84,2, -999.000,9, -999.000,9,  -999.00,9,   -999.0,9,   -999.0,9,-999.0000,9,   -999.0,  9,  -999.00,9,   -999.0,  -999.00,9,  -999.00,9,  -999.00,9,  -999.00,9,   -999.0,-999.0000, -999,9,  900,   3.9906,  27.1943,   -999.0,9
       RF02-04,  NONE,RF-1627,  1,      5,02-10155,2,20020503,0244, 34.0088, 147.0107, 5772,   1008.0,   3.6541,  34.3191,2,   -999.0,9,  34.3180,2,     47.4,2,   120.71,2,  -999.00,9,    40.50,2,     0.00,2,     2.91,2, -999.000,9, -999.000,9,  -999.00,9,   -999.0,9,   -999.0,9,-999.0000,9,   -999.0,  9,  -999.00,9,   -999.0,  -999.00,9,  -999.00,9,  -999.00,9,  -999.00,9,   -999.0,-999.0000, -999,9,  998,   3.5808,  27.2867,   -999.0,9
       RF02-04,  NONE,RF-1627,  1,      4,02-13579,2,20020503,0239, 34.0088, 147.0107, 5772,   1262.2,   2.9501,  34.4243,2,   -999.0,9,  34.4216,2,     42.9,2,   137.92,2,  -999.00,9,    41.56,2,     0.00,2,     2.98,2, -999.000,9, -999.000,9,  -999.00,9,   -999.0,9,   -999.0,9,-999.0000,9,   -999.0,  9,  -999.00,9,   -999.0,  -999.00,9,  -999.00,9,  -999.00,9,  -999.00,9,   -999.0,-999.0000, -999,9, 1249,   2.8625,  27.4380,   -999.0,9
       RF02-04,  NONE,RF-1627,  1,      3,02-13590,2,20020503,0233, 34.0088, 147.0107, 5772,   1516.8,   2.5273,  34.4902,2,   -999.0,9,  34.4880,2,     44.9,2,   148.39,2,  -999.00,9,    41.84,2,     0.00,2,     2.98,2, -999.000,9, -999.000,9,  -999.00,9,   -999.0,9,   -999.0,9,-999.0000,9,   -999.0,  9,  -999.00,9,   -999.0,  -999.00,9,  -999.00,9,  -999.00,9,  -999.00,9,   -999.0,-999.0000, -999,9, 1501,   2.4238,  27.5287,   -999.0,9
       RF02-04,  NONE,RF-1627,  1,      2,02-12827,2,20020503,0228, 34.0088, 147.0107, 5772,   1770.1,   2.2191,  34.5456,2,   -999.0,9,  34.5442,2,     56.4,2,   154.17,2,  -999.00,9,    41.41,2,     0.00,2,     2.95,2, -999.000,9, -999.000,9,  -999.00,9,   -999.0,9,   -999.0,9,-999.0000,9,   -999.0,  9,  -999.00,9,   -999.0,  -999.00,9,  -999.00,9,  -999.00,9,  -999.00,9,   -999.0,-999.0000, -999,9, 1750,   2.0988,  27.5998,   -999.0,9
       RF02-04,  NONE,RF-1627,  1,      1,02-17871,2,20020503,0222, 34.0088, 147.0107, 5772,   2045.1,   2.0200,  34.5832,2,   -999.0,9,  34.5828,2,     69.6,2,   156.37,2,  -999.00,9,    40.72,2,     0.00,2,     2.89,2, -999.000,9, -999.000,9,  -999.00,9,   -999.0,9,   -999.0,9,-999.0000,9,   -999.0,  9,  -999.00,9,   -999.0,  -999.00,9,  -999.00,9,  -999.00,9,  -999.00,9,   -999.0,-999.0000, -999,9, 2021,   1.8796,  27.6472,   -999.0,9