BOTTLE,20130510GEMDJMAYT
EXPOCODE,SECT_ID,STNNBR,CASTNO,SAMPNO,BTLNBR,BTLNBR_FLAG_W,DATE,TIME,LATITUDE,LONGITUDE,DEPTH,CTDPRS,CTDTMP,CTDSAL,CTDSAL_FLAG_W,CTDOXY,CTDOXY_FLAG_W,SALNTY,SALNTY_FLAG_W,OXYGEN,OXYGEN_FLAG_W,SILCAT,SILCAT_FLAG_W,NITRAT,NITRAT_FLAG_W,NO2+NO3,NO2+NO3_FLAG_W,NITRIT,NITRIT_FLAG_W,PHSPHT,PHSPHT_FLAG_W,CFC-11,CFC-11_FLAG_W,CFC-12,CFC-12_FLAG_W,DELC13,DELC13_FLAG_W,TCARBN,TCARBN_FLAG_W,ALKALI,ALKALI_FLAG_W,PH,PH_FLAG_W,PH_TMP,PH_SCALE,PH_NBS,PH_NBS_FLAG_W,C13ERR,TOTALP,TOTALP_FLAG_W,AMMONI,AMMONI_FLAG_W,CHLORA,CHLORA_FLAG_W,PPHYTN,PPHYTN_FLAG_W,REVPRS,REVTMP,DEPTH_,DEPTH_FLAG,CTDDEP,THETA,SIGTHT,DOC,DOC_FLAG_W
,,,,,,,GMT,GMT,,,METER,DBAR,ITS-90,PSS-78,,UMOL/KG,,PSS-78,,UMOL/KG,,UMOL/KG,,UMOL/KG,,UMOL/KG,,UMOL/KG,,UMOL/KG,,PMOL/KG,,PMOL/KG,,/MILLE,,UMOL/KG,,UMOL/KG,,25_DEG_C,,DEG_C,,,,/MILLE,UMOL/KG,,UMOL/KG,,UG/L,,UG/L,,DBAR,ITS-90,METERS,,METERS,DEG_C,,UMOL/L,
       RF02-04,  NONE,RF-1636,  1,     -9,      -9,5,20020513,0454, 39.0722, 147.0102, 5337,      0.0,  11.6716,  34.0665,2,   -999.0,9,-999.0000,9,    281.0,2,     4.14,2,  -999.00,9,     3.59,2,     0.14,2,     0.29,2, -999.000,9, -999.000,9,  -999.00,9,   -999.0,9,   -999.0,9,-999.0000,9,   -999.0,  9,  -999.00,9,   -999.0,  -999.00,9,  -999.00,9,  -999.00,9,  -999.00,9,   -999.0,-999.0000, -999,9,    0,  11.6716,  25.9257,   -999.0,9
       RF02-04,  NONE,RF-1636,  1,     17,02-17874,2,20020513,0450, 39.0722, 147.0102, 5337,     13.7,  11.6693,  34.0672,2,   -999.0,9,  34.0773,2,    282.8,2,     4.89,2,  -999.00,9,     4.25,2,     0.17,2,     0.34,2, -999.000,9, -999.000,9,  -999.00,9,   -999.0,9,   -999.0,9,-999.0000,9,   -999.0,  9,  -999.00,9,   -999.0,  -999.00,9,  -999.00,9,  -999.00,9,  -999.00,9,   -999.0,-999.0000, -999,9,   14,  11.6676,  25.9270,   -999.0,9
       RF02-04,  NONE,RF-1636,  1,     16,02-12818,2,20020513,0448, 39.0722, 147.0102, 5337,     27.0,  11.6619,  34.0667,2,   -999.0,9,-999.0000,9,    280.6,2,     4.88,2,  -999.00,9,     4.24,2,     0.17,2,     0.34,2, -999.000,9, -999.000,9,  -999.00,9,   -999.0,9,   -999.0,9,-999.0000,9,   -999.0,  9,  -999.00,9,   -999.0,  -999.00,9,  -999.00,9,  -999.00,9,  -999.00,9,   -999.0,-999.0000, -999,9,   27,  11.6585,  25.9284,   -999.0,9
       RF02-04,  NONE,RF-1636,  1,     15,02-12809,2,20020513,0447, 39.0722, 147.0102, 5337,     51.7,   7.8958,  33.6215,2,   -999.0,9,-999.0000,9,    314.3,2,     6.78,2,  -999.00,9,     6.98,2,     0.20,2,     0.69,2, -999.000,9, -999.000,9,  -999.00,9,   -999.0,9,   -999.0,9,-999.0000,9,   -999.0,  9,  -999.00,9,   -999.0,  -999.00,9,  -999.00,9,  -999.00,9,  -999.00,9,   -999.0,-999.0000, -999,9,   51,   7.8907,  26.2073,   -999.0,9
       RF02-04,  NONE,RF-1636,  1,     14,02-12817,2,20020513,0445, 39.0722, 147.0102, 5337,     79.8,   7.5994,  33.8026,2,   -999.0,9,-999.0000,9,    268.3,2,    20.36,2,  -999.00,9,    13.58,2,     0.24,2,     1.05,2, -999.000,9, -999.000,9,  -999.00,9,   -999.0,9,   -999.0,9,-999.0000,9,   -999.0,  9,  -999.00,9,   -999.0,  -999.00,9,  -999.00,9,  -999.00,9,  -999.00,9,   -999.0,-999.0000, -999,9,   79,   7.5918,  26.3928,   -999.0,9
       RF02-04,  NONE,RF-1636,  1,     13,02-15822,2,20020513,0443, 39.0722, 147.0102, 5337,    104.0,   3.8972,  33.3397,2,   -999.0,9,  33.3464,2,    308.8,2,    25.80,2,  -999.00,9,    17.72,2,     0.20,2,     1.50,2, -999.000,9, -999.000,9,  -999.00,9,   -999.0,9,   -999.0,9,-999.0000,9,   -999.0,  9,  -999.00,9,   -999.0,  -999.00,9,  -999.00,9,  -999.00,9,  -999.00,9,   -999.0,-999.0000, -999,9,  103,   3.8904,  26.4765,   -999.0,9
       RF02-04,  NONE,RF-1636,  1,     12,02-12808,2,20020513,0441, 39.0722, 147.0102, 5337,    128.6,   5.0061,  33.6214,2,   -999.0,9,-999.0000,9,    251.4,2,    38.69,2,  -999.00,9,    21.52,2,     0.11,2,     1.63,2, -999.000,9, -999.000,9,  -999.00,9,   -999.0,9,   -999.0,9,-999.0000,9,   -999.0,  9,  -999.00,9,   -999.0,  -999.00,9,  -999.00,9,  -999.00,9,  -999.00,9,   -999.0,-999.0000, -999,9,  128,   4.9964,  26.5827,   -999.0,9
       RF02-04,  NONE,RF-1636,  1,     11,02-17873,2,20020513,0440, 39.0722, 147.0102, 5337,    153.1,   3.6228,  33.4571,2,   -999.0,9,  33.5802,4,    274.0,2,    41.19,2,  -999.00,9,    22.70,2,     0.14,2,     1.74,2, -999.000,9, -999.000,9,  -999.00,9,   -999.0,9,   -999.0,9,-999.0000,9,   -999.0,  9,  -999.00,9,   -999.0,  -999.00,9,  -999.00,9,  -999.00,9,  -999.00,9,   -999.0,-999.0000, -999,9,  152,   3.6130,  26.5970,   -999.0,9
       RF02-04,  NONE,RF-1636,  1,     10,02-12820,2,20020513,0437, 39.0722, 147.0102, 5337,    204.4,   3.5554,  33.5846,2,   -999.0,9,-999.0000,9,    215.0,2,    55.90,2,  -999.00,9,    27.51,2,     0.01,2,     2.05,2, -999.000,9, -999.000,9,  -999.00,9,   -999.0,9,   -999.0,9,-999.0000,9,   -999.0,  9,  -999.00,9,   -999.0,  -999.00,9,  -999.00,9,  -999.00,9,  -999.00,9,   -999.0,-999.0000, -999,9,  203,   3.5423,  26.7053,   -999.0,9
       RF02-04,  NONE,RF-1636,  1,      9,02-12810,2,20020513,0435, 39.0722, 147.0102, 5337,    256.1,   3.5543,  33.6864,2,   -999.0,9,-999.0000,9,    173.2,2,    66.94,2,  -999.00,9,    31.19,2,     0.00,2,     2.30,2, -999.000,9, -999.000,9,  -999.00,9,   -999.0,9,   -999.0,9,-999.0000,9,   -999.0,  9,  -999.00,9,   -999.0,  -999.00,9,  -999.00,9,  -999.00,9,  -999.00,9,   -999.0,-999.0000, -999,9,  254,   3.5376,  26.7868,   -999.0,9
       RF02-04,  NONE,RF-1636,  1,      8,02-12819,2,20020513,0432, 39.0722, 147.0102, 5337,    305.5,   4.2846,  33.8614,2,   -999.0,9,  33.8509,4,    145.4,2,    71.22,2,  -999.00,9,    32.43,2,     0.00,2,     2.37,2, -999.000,9, -999.000,9,  -999.00,9,   -999.0,9,   -999.0,9,-999.0000,9,   -999.0,  9,  -999.00,9,   -999.0,  -999.00,9,  -999.00,9,  -999.00,9,  -999.00,9,   -999.0,-999.0000, -999,9,  303,   4.2628,  26.8533,   -999.0,9
       RF02-04,  NONE,RF-1636,  1,      7,02-15821,3,20020513,0429, 39.0722, 147.0102, 5337,    405.1,   3.9582,  33.9597,2,   -999.0,9,  33.9603,2,     97.5,3,    88.44,2,  -999.00,9,    36.83,2,     0.00,2,     2.69,2, -999.000,9, -999.000,9,  -999.00,9,   -999.0,9,   -999.0,9,-999.0000,9,   -999.0,  9,  -999.00,9,   -999.0,  -999.00,9,  -999.00,9,  -999.00,9,  -999.00,9,   -999.0,-999.0000, -999,9,  402,   3.9299,  26.9657,   -999.0,9
       RF02-04,  NONE,RF-1636,  1,      6,02-17872,2,20020513,0425, 39.0722, 147.0102, 5337,    506.3,   3.0339,  33.9593,2,   -999.0,9,  33.9539,2,     59.7,2,   107.50,2,  -999.00,9,    41.13,2,     0.00,2,     3.00,2, -999.000,9, -999.000,9,  -999.00,9,   -999.0,9,   -999.0,9,-999.0000,9,   -999.0,  9,  -999.00,9,   -999.0,  -999.00,9,  -999.00,9,  -999.00,9,  -999.00,9,   -999.0,-999.0000, -999,9,  502,   3.0019,  27.0542,   -999.0,9
       RF02-04,  NONE,RF-1636,  1,      5,02-10155,2,20020513,0422, 39.0722, 147.0102, 5337,    610.5,   3.4297,  34.1698,2,   -999.0,9,  34.1646,2,     44.1,2,   116.71,2,  -999.00,9,    41.26,2,     0.00,2,     2.98,2, -999.000,9, -999.000,9,  -999.00,9,   -999.0,9,   -999.0,9,-999.0000,9,   -999.0,  9,  -999.00,9,   -999.0,  -999.00,9,  -999.00,9,  -999.00,9,  -999.00,9,   -999.0,-999.0000, -999,9,  605,   3.3884,  27.1863,   -999.0,9
       RF02-04,  NONE,RF-1636,  1,      4,02-13579,2,20020513,0419, 39.0722, 147.0102, 5337,    708.3,   3.3155,  34.2278,2,   -999.0,9,  34.2280,2,     39.4,2,   123.88,2,  -999.00,9,    41.70,2,     0.00,2,     3.02,2, -999.000,9, -999.000,9,  -999.00,9,   -999.0,9,   -999.0,9,-999.0000,9,   -999.0,  9,  -999.00,9,   -999.0,  -999.00,9,  -999.00,9,  -999.00,9,  -999.00,9,   -999.0,-999.0000, -999,9,  702,   3.2676,  27.2439,   -999.0,9
       RF02-04,  NONE,RF-1636,  1,      3,02-13590,2,20020513,0415, 39.0722, 147.0102, 5337,    809.3,   3.3022,  34.3320,2,   -999.0,9,  34.3361,2,     41.3,2,   128.49,2,  -999.00,9,    41.51,2,     0.00,2,     2.98,2, -999.000,9, -999.000,9,  -999.00,9,   -999.0,9,   -999.0,9,-999.0000,9,   -999.0,  9,  -999.00,9,   -999.0,  -999.00,9,  -999.00,9,  -999.00,9,  -999.00,9,   -999.0,-999.0000, -999,9,  802,   3.2468,  27.3290,   -999.0,9
       RF02-04,  NONE,RF-1636,  1,      2,02-12827,2,20020513,0413, 39.0722, 147.0102, 5337,    909.5,   3.1621,  34.3805,2,   -999.0,9,-999.0000,9,     41.9,2,   132.35,2,  -999.00,9,    41.64,2,     0.00,2,     3.03,2, -999.000,9, -999.000,9,  -999.00,9,   -999.0,9,   -999.0,9,-999.0000,9,   -999.0,  9,  -999.00,9,   -999.0,  -999.00,9,  -999.00,9,  -999.00,9,  -999.00,9,   -999.0,-999.0000, -999,9,  901,   3.1000,  27.3814,   -999.0,9
       RF02-04,  NONE,RF-1636,  1,      1,02-17871,2,20020513,0410, 39.0722, 147.0102, 5337,   1017.3,   2.8472,  34.4083,2,   -999.0,9,  34.4088,2,     38.1,2,   141.38,2,  -999.00,9,    42.17,2,     0.00,2,     3.06,2, -999.000,9, -999.000,9,  -999.00,9,   -999.0,9,   -999.0,9,-999.0000,9,   -999.0,  9,  -999.00,9,   -999.0,  -999.00,9,  -999.00,9,  -999.00,9,  -999.00,9,   -999.0,-999.0000, -999,9, 1007,   2.7794,  27.4325,   -999.0,9
       RF02-04,  NONE,RF-1638,  1,     -9,      -9,5,20020513,1755, 40.3207, 149.0173, 5583,      0.0,  11.2423,  33.9735,2,   -999.0,9,-999.0000,9,    286.6,2,     0.91,2,  -999.00,9,     2.46,2,     0.08,2,     0.33,2, -999.000,9, -999.000,9,  -999.00,9,   -999.0,9,   -999.0,9,-999.0000,9,   -999.0,  9,  -999.00,9,   -999.0,  -999.00,9,  -999.00,9,  -999.00,9,  -999.00,9,   -999.0,-999.0000, -999,9,    0,  11.2423,  25.9324,   -999.0,9
       RF02-04,  NONE,RF-1638,  1,     17,02-17874,2,20020513,1752, 40.3207, 149.0173, 5583,     14.6,  11.2543,  33.9755,2,   -999.0,9,-999.0000,9,    286.0,2,     0.94,2,  -999.00,9,     3.38,2,     0.16,2,     0.33,2, -999.000,9, -999.000,9,  -999.00,9,   -999.0,9,   -999.0,9,-999.0000,9,   -999.0,  9,  -999.00,9,   -999.0,  -999.00,9,  -999.00,9,  -999.00,9,  -999.00,9,   -999.0,-999.0000, -999,9,   14,  11.2525,  25.9321,   -999.0,9
       RF02-04,  NONE,RF-1638,  1,     16,02-12818,2,20020513,1750, 40.3207, 149.0173, 5583,     28.0,  11.2247,  33.9612,2,   -999.0,9,-999.0000,9,    285.7,2,     1.14,2,  -999.00,9,     3.49,2,     0.17,2,     0.35,2, -999.000,9, -999.000,9,  -999.00,9,   -999.0,9,   -999.0,9,-999.0000,9,   -999.0,  9,  -999.00,9,   -999.0,  -999.00,9,  -999.00,9,  -999.00,9,  -999.00,9,   -999.0,-999.0000, -999,9,   28,  11.2213,  25.9267,   -999.0,9
       RF02-04,  NONE,RF-1638,  1,     15,02-12809,2,20020513,1749, 40.3207, 149.0173, 5583,     52.0,   6.6075,  33.5502,2,   -999.0,9,-999.0000,9,    305.8,2,    12.00,2,  -999.00,9,     9.28,2,     0.20,2,     0.90,2, -999.000,9, -999.000,9,  -999.00,9,   -999.0,9,   -999.0,9,-999.0000,9,   -999.0,  9,  -999.00,9,   -999.0,  -999.00,9,  -999.00,9,  -999.00,9,  -999.00,9,   -999.0,-999.0000, -999,9,   52,   6.6029,  26.3299,   -999.0,9
       RF02-04,  NONE,RF-1638,  1,     14,02-12817,2,20020513,1747, 40.3207, 149.0173, 5583,     75.4,   4.7698,  33.4504,2,   -999.0,9,-999.0000,9,    294.5,2,    22.22,2,  -999.00,9,    14.67,2,     0.19,2,     1.19,2, -999.000,9, -999.000,9,  -999.00,9,   -999.0,9,   -999.0,9,-999.0000,9,   -999.0,  9,  -999.00,9,   -999.0,  -999.00,9,  -999.00,9,  -999.00,9,  -999.00,9,   -999.0,-999.0000, -999,9,   75,   4.7643,  26.4730,   -999.0,9
       RF02-04,  NONE,RF-1638,  1,     13,02-15822,2,20020513,1745, 40.3207, 149.0173, 5583,    102.9,   3.7612,  33.3694,2,   -999.0,9,-999.0000,9,    296.9,2,    33.69,2,  -999.00,9,    19.31,2,     0.21,2,     1.53,2, -999.000,9, -999.000,9,  -999.00,9,   -999.0,9,   -999.0,9,-999.0000,9,   -999.0,  9,  -999.00,9,   -999.0,  -999.00,9,  -999.00,9,  -999.00,9,  -999.00,9,   -999.0,-999.0000, -999,9,  102,   3.7545,  26.5134,   -999.0,9
       RF02-04,  NONE,RF-1638,  1,     12,02-12808,2,20020513,1744, 40.3207, 149.0173, 5583,    127.1,   4.9077,  33.5752,2,   -999.0,9,-999.0000,9,    262.9,2,    33.31,2,  -999.00,9,    19.31,2,     0.20,2,     1.44,2, -999.000,9, -999.000,9,  -999.00,9,   -999.0,9,   -999.0,9,-999.0000,9,   -999.0,  9,  -999.00,9,   -999.0,  -999.00,9,  -999.00,9,  -999.00,9,  -999.00,9,   -999.0,-999.0000, -999,9,  126,   4.8982,  26.5571,   -999.0,9
       RF02-04,  NONE,RF-1638,  1,     11,02-17873,3,20020513,1742, 40.3207, 149.0173, 5583,    153.1,   5.5021,  33.7091,2,   -999.0,9,-999.0000,9,    230.1,3,    40.17,2,  -999.00,9,    22.18,2,     0.15,2,     1.62,2, -999.000,9, -999.000,9,  -999.00,9,   -999.0,9,   -999.0,9,-999.0000,9,   -999.0,  9,  -999.00,9,   -999.0,  -999.00,9,  -999.00,9,  -999.00,9,  -999.00,9,   -999.0,-999.0000, -999,9,  152,   5.4898,  26.5949,   -999.0,9
       RF02-04,  NONE,RF-1638,  1,     10,02-12820,2,20020513,1740, 40.3207, 149.0173, 5583,    204.3,   4.1981,  33.6477,2,   -999.0,9,-999.0000,9,    212.8,2,    53.31,2,  -999.00,9,    26.84,2,     0.02,2,     1.98,2, -999.000,9, -999.000,9,  -999.00,9,   -999.0,9,   -999.0,9,-999.0000,9,   -999.0,  9,  -999.00,9,   -999.0,  -999.00,9,  -999.00,9,  -999.00,9,  -999.00,9,   -999.0,-999.0000, -999,9,  203,   4.1839,  26.6916,   -999.0,9
       RF02-04,  NONE,RF-1638,  1,      9,02-12810,2,20020513,1737, 40.3207, 149.0173, 5583,    255.2,   3.8615,  33.7120,2,   -999.0,9,-999.0000,9,    127.9,2,    65.77,2,  -999.00,9,    31.00,2,     0.00,2,     2.27,2, -999.000,9, -999.000,9,  -999.00,9,   -999.0,9,   -999.0,9,-999.0000,9,   -999.0,  9,  -999.00,9,   -999.0,  -999.00,9,  -999.00,9,  -999.00,9,  -999.00,9,   -999.0,-999.0000, -999,9,  253,   3.8443,  26.7773,   -999.0,9
       RF02-04,  NONE,RF-1638,  1,      8,02-12819,2,20020513,1734, 40.3207, 149.0173, 5583,    305.5,   5.0371,  33.9888,2,   -999.0,9,-999.0000,9,    174.2,2,    72.12,2,  -999.00,9,    32.78,2,     0.00,2,     2.36,2, -999.000,9, -999.000,9,  -999.00,9,   -999.0,9,   -999.0,9,-999.0000,9,   -999.0,  9,  -999.00,9,   -999.0,  -999.00,9,  -999.00,9,  -999.00,9,  -999.00,9,   -999.0,-999.0000, -999,9,  303,   5.0134,  26.8720,   -999.0,9
       RF02-04,  NONE,RF-1638,  1,      7,02-15821,2,20020513,1730, 40.3207, 149.0173, 5583,    406.6,   4.6623,  34.0635,2,   -999.0,9,-999.0000,9,     91.9,2,    86.30,2,  -999.00,9,    36.28,2,     0.00,2,     2.60,2, -999.000,9, -999.000,9,  -999.00,9,   -999.0,9,   -999.0,9,-999.0000,9,   -999.0,  9,  -999.00,9,   -999.0,  -999.00,9,  -999.00,9,  -999.00,9,  -999.00,9,   -999.0,-999.0000, -999,9,  403,   4.6316,  26.9741,   -999.0,9
       RF02-04,  NONE,RF-1638,  1,      6,02-17872,2,20020513,1726, 40.3207, 149.0173, 5583,    508.4,   4.5102,  34.1688,2,   -999.0,9,-999.0000,9,     69.9,2,    97.31,2,  -999.00,9,    38.25,2,     0.00,2,     2.75,2, -999.000,9, -999.000,9,  -999.00,9,   -999.0,9,   -999.0,9,-999.0000,9,   -999.0,  9,  -999.00,9,   -999.0,  -999.00,9,  -999.00,9,  -999.00,9,  -999.00,9,   -999.0,-999.0000, -999,9,  504,   4.4719,  27.0751,   -999.0,9
       RF02-04,  NONE,RF-1638,  1,      5,02-10155,2,20020513,1723, 40.3207, 149.0173, 5583,    610.2,   4.0918,  34.2339,2,   -999.0,9,-999.0000,9,     55.4,2,   109.37,2,  -999.00,9,    39.93,2,     0.00,2,     2.85,2, -999.000,9, -999.000,9,  -999.00,9,   -999.0,9,   -999.0,9,-999.0000,9,   -999.0,  9,  -999.00,9,   -999.0,  -999.00,9,  -999.00,9,  -999.00,9,  -999.00,9,   -999.0,-999.0000, -999,9,  605,   4.0473,  27.1718,   -999.0,9
       RF02-04,  NONE,RF-1638,  1,      4,02-13579,2,20020513,1720, 40.3207, 149.0173, 5583,    710.0,   3.7362,  34.2950,2,   -999.0,9,-999.0000,9,     48.5,2,   118.64,2,  -999.00,9,    40.76,2,     0.00,2,     2.92,2, -999.000,9, -999.000,9,  -999.00,9,   -999.0,9,   -999.0,9,-999.0000,9,   -999.0,  9,  -999.00,9,   -999.0,  -999.00,9,  -999.00,9,  -999.00,9,  -999.00,9,   -999.0,-999.0000, -999,9,  703,   3.6858,  27.2571,   -999.0,9
       RF02-04,  NONE,RF-1638,  1,      3,02-13590,2,20020513,1716, 40.3207, 149.0173, 5583,    808.0,   3.4531,  34.3397,2,   -999.0,9,-999.0000,9,     46.0,2,   125.99,2,  -999.00,9,    41.20,2,     0.00,2,     2.95,2, -999.000,9, -999.000,9,  -999.00,9,   -999.0,9,   -999.0,9,-999.0000,9,   -999.0,  9,  -999.00,9,   -999.0,  -999.00,9,  -999.00,9,  -999.00,9,  -999.00,9,   -999.0,-999.0000, -999,9,  800,   3.3968,  27.3209,   -999.0,9
       RF02-04,  NONE,RF-1638,  1,      2,02-12827,2,20020513,1713, 40.3207, 149.0173, 5583,    910.3,   3.2087,  34.3730,2,   -999.0,9,-999.0000,9,     42.9,2,   132.52,2,  -999.00,9,    41.65,2,     0.00,2,     3.01,2, -999.000,9, -999.000,9,  -999.00,9,   -999.0,9,   -999.0,9,-999.0000,9,   -999.0,  9,  -999.00,9,   -999.0,  -999.00,9,  -999.00,9,  -999.00,9,  -999.00,9,   -999.0,-999.0000, -999,9,  901,   3.1463,  27.3711,   -999.0,9
       RF02-04,  NONE,RF-1638,  1,      1,02-17871,2,20020513,1710, 40.3207, 149.0173, 5583,   1016.6,   2.9481,  34.4105,2,   -999.0,9,-999.0000,9,     41.4,2,   139.21,2,  -999.00,9,    41.97,2,     0.00,2,     3.01,2, -999.000,9, -999.000,9,  -999.00,9,   -999.0,9,   -999.0,9,-999.0000,9,   -999.0,  9,  -999.00,9,   -999.0,  -999.00,9,  -999.00,9,  -999.00,9,  -999.00,9,   -999.0,-999.0000, -999,9, 1006,   2.8795,  27.4254,   -999.0,9