BOTTLE,20130510GEMDJMAYT
EXPOCODE,SECT_ID,STNNBR,CASTNO,SAMPNO,BTLNBR,BTLNBR_FLAG_W,DATE,TIME,LATITUDE,LONGITUDE,DEPTH,CTDPRS,CTDTMP,CTDSAL,CTDSAL_FLAG_W,CTDOXY,CTDOXY_FLAG_W,SALNTY,SALNTY_FLAG_W,OXYGEN,OXYGEN_FLAG_W,SILCAT,SILCAT_FLAG_W,NITRAT,NITRAT_FLAG_W,NO2+NO3,NO2+NO3_FLAG_W,NITRIT,NITRIT_FLAG_W,PHSPHT,PHSPHT_FLAG_W,CFC-11,CFC-11_FLAG_W,CFC-12,CFC-12_FLAG_W,DELC13,DELC13_FLAG_W,TCARBN,TCARBN_FLAG_W,ALKALI,ALKALI_FLAG_W,PH,PH_FLAG_W,PH_TMP,PH_SCALE,PH_NBS,PH_NBS_FLAG_W,C13ERR,TOTALP,TOTALP_FLAG_W,AMMONI,AMMONI_FLAG_W,CHLORA,CHLORA_FLAG_W,PPHYTN,PPHYTN_FLAG_W,REVPRS,REVTMP,DEPTH_,DEPTH_FLAG,CTDDEP,THETA,SIGTHT,DOC,DOC_FLAG_W
,,,,,,,GMT,GMT,,,METER,DBAR,ITS-90,PSS-78,,UMOL/KG,,PSS-78,,UMOL/KG,,UMOL/KG,,UMOL/KG,,UMOL/KG,,UMOL/KG,,UMOL/KG,,PMOL/KG,,PMOL/KG,,/MILLE,,UMOL/KG,,UMOL/KG,,25_DEG_C,,DEG_C,,,,/MILLE,UMOL/KG,,UMOL/KG,,UG/L,,UG/L,,DBAR,ITS-90,METERS,,METERS,DEG_C,,UMOL/L,
       RF02-04,  NONE,RF-1615,  1,     -9,      -9,5,20020501,0112, 28.0150, 146.9932, 5733,      0.0,  21.0196,  34.8360,2,   -999.0,9,-999.0000,9,    232.1,2,     1.82,2,  -999.00,9,     0.00,2,     0.00,2,     0.00,2, -999.000,9, -999.000,9,  -999.00,9,   -999.0,9,   -999.0,9,-999.0000,9,   -999.0,  9,  -999.00,9,   -999.0,  -999.00,9,  -999.00,9,  -999.00,9,  -999.00,9,   -999.0,-999.0000, -999,9,    0,  21.0196,  24.3637,   -999.0,9
       RF02-04,  NONE,RF-1615,  1,     21,02-12826,2,20020501,0110, 28.0150, 146.9932, 5733,     10.5,  20.8286,  34.8341,2,   -999.0,9,  34.8487,2,    230.1,2,     1.81,2,  -999.00,9,     0.00,2,     0.00,2,     0.00,2, -999.000,9, -999.000,9,  -999.00,9,   -999.0,9,   -999.0,9,-999.0000,9,   -999.0,  9,  -999.00,9,   -999.0,  -999.00,9,  -999.00,9,  -999.00,9,  -999.00,9,   -999.0,-999.0000, -999,9,   10,  20.8266,  24.4146,   -999.0,9
       RF02-04,  NONE,RF-1615,  1,     20,02-12821,2,20020501,0108, 28.0150, 146.9932, 5733,     25.7,  20.7782,  34.8296,2,   -999.0,9,-999.0000,9,    227.2,2,     1.83,2,  -999.00,9,     0.00,2,     0.00,2,     0.00,2, -999.000,9, -999.000,9,  -999.00,9,   -999.0,9,   -999.0,9,-999.0000,9,   -999.0,  9,  -999.00,9,   -999.0,  -999.00,9,  -999.00,9,  -999.00,9,  -999.00,9,   -999.0,-999.0000, -999,9,   26,  20.7733,  24.4256,   -999.0,9
       RF02-04,  NONE,RF-1615,  1,     19,02-17875,2,20020501,0107, 28.0150, 146.9932, 5733,     51.3,  19.2680,  34.8000,2,   -999.0,9,-999.0000,9,    234.5,2,     1.88,2,  -999.00,9,     0.00,2,     0.00,2,     0.00,2, -999.000,9, -999.000,9,  -999.00,9,   -999.0,9,   -999.0,9,-999.0000,9,   -999.0,  9,  -999.00,9,   -999.0,  -999.00,9,  -999.00,9,  -999.00,9,  -999.00,9,   -999.0,-999.0000, -999,9,   51,  19.2588,  24.8021,   -999.0,9
       RF02-04,  NONE,RF-1615,  1,     18,02-12830,2,20020501,0105, 28.0150, 146.9932, 5733,     75.4,  18.8073,  34.7924,2,   -999.0,9,-999.0000,9,    232.3,2,     2.11,2,  -999.00,9,     0.00,2,     0.00,2,     0.00,2, -999.000,9, -999.000,9,  -999.00,9,   -999.0,9,   -999.0,9,-999.0000,9,   -999.0,  9,  -999.00,9,   -999.0,  -999.00,9,  -999.00,9,  -999.00,9,  -999.00,9,   -999.0,-999.0000, -999,9,   75,  18.7939,  24.9148,   -999.0,9
       RF02-04,  NONE,RF-1615,  1,     17,02-17874,2,20020501,0104, 28.0150, 146.9932, 5733,    102.9,  18.0841,  34.7385,2,   -999.0,9,  34.7495,2,    216.8,2,     3.03,2,  -999.00,9,     2.59,2,     0.12,2,     0.14,2, -999.000,9, -999.000,9,  -999.00,9,   -999.0,9,   -999.0,9,-999.0000,9,   -999.0,  9,  -999.00,9,   -999.0,  -999.00,9,  -999.00,9,  -999.00,9,  -999.00,9,   -999.0,-999.0000, -999,9,  102,  18.0664,  25.0554,   -999.0,9
       RF02-04,  NONE,RF-1615,  1,     16,02-12818,2,20020501,0102, 28.0150, 146.9932, 5733,    126.7,  17.5833,  34.7181,2,   -999.0,9,-999.0000,9,    209.1,2,     3.76,2,  -999.00,9,     3.99,2,     0.02,2,     0.21,2, -999.000,9, -999.000,9,  -999.00,9,   -999.0,9,   -999.0,9,-999.0000,9,   -999.0,  9,  -999.00,9,   -999.0,  -999.00,9,  -999.00,9,  -999.00,9,  -999.00,9,   -999.0,-999.0000, -999,9,  126,  17.5620,  25.1631,   -999.0,9
       RF02-04,  NONE,RF-1615,  1,     15,02-12809,2,20020501,0101, 28.0150, 146.9932, 5733,    151.4,  17.2348,  34.7163,2,   -999.0,9,-999.0000,9,    206.5,2,     4.25,2,  -999.00,9,     4.74,2,     0.00,2,     0.26,2, -999.000,9, -999.000,9,  -999.00,9,   -999.0,9,   -999.0,9,-999.0000,9,   -999.0,  9,  -999.00,9,   -999.0,  -999.00,9,  -999.00,9,  -999.00,9,  -999.00,9,   -999.0,-999.0000, -999,9,  150,  17.2097,  25.2466,   -999.0,9
       RF02-04,  NONE,RF-1615,  1,     14,02-12817,2,20020501,0059, 28.0150, 146.9932, 5733,    201.8,  16.7642,  34.7013,2,   -999.0,9,  34.7099,2,    201.9,2,     5.38,2,  -999.00,9,     5.86,2,     0.00,2,     0.32,2, -999.000,9, -999.000,9,  -999.00,9,   -999.0,9,   -999.0,9,-999.0000,9,   -999.0,  9,  -999.00,9,   -999.0,  -999.00,9,  -999.00,9,  -999.00,9,  -999.00,9,   -999.0,-999.0000, -999,9,  200,  16.7313,  25.3484,   -999.0,9
       RF02-04,  NONE,RF-1615,  1,     13,02-15822,2,20020501,0057, 28.0150, 146.9932, 5733,    252.0,  16.0197,  34.6523,2,   -999.0,9,-999.0000,9,    199.1,2,     7.24,2,  -999.00,9,     7.41,2,     0.00,2,     0.42,2, -999.000,9, -999.000,9,  -999.00,9,   -999.0,9,   -999.0,9,-999.0000,9,   -999.0,  9,  -999.00,9,   -999.0,  -999.00,9,  -999.00,9,  -999.00,9,  -999.00,9,   -999.0,-999.0000, -999,9,  250,  15.9798,  25.4847,   -999.0,9
       RF02-04,  NONE,RF-1615,  1,     12,02-12808,2,20020501,0055, 28.0150, 146.9932, 5733,    301.7,  14.9702,  34.5875,2,   -999.0,9,  34.6007,2,    192.2,2,    10.26,2,  -999.00,9,     9.59,2,     0.00,2,     0.57,2, -999.000,9, -999.000,9,  -999.00,9,   -999.0,9,   -999.0,9,-999.0000,9,   -999.0,  9,  -999.00,9,   -999.0,  -999.00,9,  -999.00,9,  -999.00,9,  -999.00,9,   -999.0,-999.0000, -999,9,  299,  14.9245,  25.6704,   -999.0,9
       RF02-04,  NONE,RF-1615,  1,     11,02-17873,2,20020501,0052, 28.0150, 146.9932, 5733,    402.3,  12.6063,  34.4326,2,   -999.0,9,  34.4396,2,    188.2,2,    18.21,2,  -999.00,9,    14.02,2,     0.00,2,     0.89,2, -999.000,9, -999.000,9,  -999.00,9,   -999.0,9,   -999.0,9,-999.0000,9,   -999.0,  9,  -999.00,9,   -999.0,  -999.00,9,  -999.00,9,  -999.00,9,  -999.00,9,   -999.0,-999.0000, -999,9,  399,  12.5519,  26.0419,   -999.0,9
       RF02-04,  NONE,RF-1615,  1,     10,02-12820,2,20020501,0049, 28.0150, 146.9932, 5733,    502.7,   9.8642,  34.2140,2,   -999.0,9,  34.2271,2,    181.0,2,    29.24,2,  -999.00,9,    19.02,2,     0.00,2,     1.25,2, -999.000,9, -999.000,9,  -999.00,9,   -999.0,9,   -999.0,9,-999.0000,9,   -999.0,  9,  -999.00,9,   -999.0,  -999.00,9,  -999.00,9,  -999.00,9,  -999.00,9,   -999.0,-999.0000, -999,9,  499,   9.8060,  26.3709,   -999.0,9
       RF02-04,  NONE,RF-1615,  1,      9,02-12810,2,20020501,0046, 28.0150, 146.9932, 5733,    605.2,   7.2506,  34.0417,2,   -999.0,9,  34.0474,2,    161.6,2,    46.63,2,  -999.00,9,    25.58,2,     0.00,2,     1.76,2, -999.000,9, -999.000,9,  -999.00,9,   -999.0,9,   -999.0,9,-999.0000,9,   -999.0,  9,  -999.00,9,   -999.0,  -999.00,9,  -999.00,9,  -999.00,9,  -999.00,9,   -999.0,-999.0000, -999,9,  600,   7.1920,  26.6373,   -999.0,9
       RF02-04,  NONE,RF-1615,  1,      8,02-12819,2,20020501,0041, 28.0150, 146.9932, 5733,    705.6,   5.6842,  34.0500,2,   -999.0,9,  34.0525,2,    114.8,2,    69.73,2,  -999.00,9,    32.48,2,     0.00,2,     2.30,2, -999.000,9, -999.000,9,  -999.00,9,   -999.0,9,   -999.0,9,-999.0000,9,   -999.0,  9,  -999.00,9,   -999.0,  -999.00,9,  -999.00,9,  -999.00,9,  -999.00,9,   -999.0,-999.0000, -999,9,  700,   5.6238,  26.8485,   -999.0,9
       RF02-04,  NONE,RF-1615,  1,      7,02-15821,2,20020501,0038, 28.0150, 146.9932, 5733,    806.3,   4.6731,  34.1416,2,   -999.0,9,  34.1360,2,     74.2,2,    92.27,2,  -999.00,9,    37.37,2,     0.00,2,     2.69,2, -999.000,9, -999.000,9,  -999.00,9,   -999.0,9,   -999.0,9,-999.0000,9,   -999.0,  9,  -999.00,9,   -999.0,  -999.00,9,  -999.00,9,  -999.00,9,  -999.00,9,   -999.0,-999.0000, -999,9,  799,   4.6095,  27.0385,   -999.0,9
       RF02-04,  NONE,RF-1615,  1,      6,02-17872,2,20020501,0036, 28.0150, 146.9932, 5733,    908.2,   3.9840,  34.2470,2,   -999.0,9,-999.0000,9,     51.3,2,   111.48,2,  -999.00,9,    40.00,2,     0.00,2,     2.88,2, -999.000,9, -999.000,9,  -999.00,9,   -999.0,9,   -999.0,9,-999.0000,9,   -999.0,  9,  -999.00,9,   -999.0,  -999.00,9,  -999.00,9,  -999.00,9,  -999.00,9,   -999.0,-999.0000, -999,9,  900,   3.9164,  27.1957,   -999.0,9
       RF02-04,  NONE,RF-1615,  1,      5,02-10155,2,20020501,0033, 28.0150, 146.9932, 5733,   1008.8,   3.5102,  34.3292,2,   -999.0,9,  34.3353,2,     39.7,2,   122.51,2,  -999.00,9,    41.38,2,     0.00,2,     2.99,2, -999.000,9, -999.000,9,  -999.00,9,   -999.0,9,   -999.0,9,-999.0000,9,   -999.0,  9,  -999.00,9,   -999.0,  -999.00,9,  -999.00,9,  -999.00,9,  -999.00,9,   -999.0,-999.0000, -999,9, 1000,   3.4380,  27.3086,   -999.0,9
       RF02-04,  NONE,RF-1615,  1,      4,02-13579,2,20020501,0027, 28.0150, 146.9932, 5733,   1260.7,   2.8295,  34.4616,2,   -999.0,9,  34.4638,2,     44.3,2,   139.97,2,  -999.00,9,    41.77,2,     0.00,2,     3.02,2, -999.000,9, -999.000,9,  -999.00,9,   -999.0,9,   -999.0,9,-999.0000,9,   -999.0,  9,  -999.00,9,   -999.0,  -999.00,9,  -999.00,9,  -999.00,9,  -999.00,9,   -999.0,-999.0000, -999,9, 1249,   2.7431,  27.4784,   -999.0,9
       RF02-04,  NONE,RF-1615,  1,      3,02-13590,2,20020501,0022, 28.0150, 146.9932, 5733,   1516.4,   2.3786,  34.5309,2,   -999.0,9,  34.5344,2,     56.0,2,   149.33,2,  -999.00,9,    41.43,2,     0.00,2,     2.98,2, -999.000,9, -999.000,9,  -999.00,9,   -999.0,9,   -999.0,9,-999.0000,9,   -999.0,  9,  -999.00,9,   -999.0,  -999.00,9,  -999.00,9,  -999.00,9,  -999.00,9,   -999.0,-999.0000, -999,9, 1501,   2.2768,  27.5735,   -999.0,9
       RF02-04,  NONE,RF-1615,  1,      2,02-12827,2,20020501,0017, 28.0150, 146.9932, 5733,   1770.0,   2.0767,  34.5798,2,   -999.0,9,  34.5810,2,     75.7,2,   152.41,2,  -999.00,9,    40.34,2,     0.00,2,     2.87,2, -999.000,9, -999.000,9,  -999.00,9,   -999.0,9,   -999.0,9,-999.0000,9,   -999.0,  9,  -999.00,9,   -999.0,  -999.00,9,  -999.00,9,  -999.00,9,  -999.00,9,   -999.0,-999.0000, -999,9, 1751,   1.9583,  27.6383,   -999.0,9
       RF02-04,  NONE,RF-1615,  1,      1,02-17871,2,20020501,0011, 28.0150, 146.9932, 5733,   2044.1,   1.8782,  34.6119,2,   -999.0,9,  34.6147,2,   -999.0,4,  -999.00,4,  -999.00,9,  -999.00,4,  -999.00,4,  -999.00,4, -999.000,9, -999.000,9,  -999.00,9,   -999.0,9,   -999.0,9,-999.0000,9,   -999.0,  9,  -999.00,9,   -999.0,  -999.00,9,  -999.00,9,  -999.00,9,  -999.00,9,   -999.0,-999.0000, -999,9, 2021,   1.7400,  27.6809,   -999.0,9