BOTTLE,20130510GEMDJMAYT
EXPOCODE,SECT_ID,STNNBR,CASTNO,SAMPNO,BTLNBR,BTLNBR_FLAG_W,DATE,TIME,LATITUDE,LONGITUDE,DEPTH,CTDPRS,CTDTMP,CTDSAL,CTDSAL_FLAG_W,CTDOXY,CTDOXY_FLAG_W,SALNTY,SALNTY_FLAG_W,OXYGEN,OXYGEN_FLAG_W,SILCAT,SILCAT_FLAG_W,NITRAT,NITRAT_FLAG_W,NO2+NO3,NO2+NO3_FLAG_W,NITRIT,NITRIT_FLAG_W,PHSPHT,PHSPHT_FLAG_W,CFC-11,CFC-11_FLAG_W,CFC-12,CFC-12_FLAG_W,DELC13,DELC13_FLAG_W,TCARBN,TCARBN_FLAG_W,ALKALI,ALKALI_FLAG_W,PH,PH_FLAG_W,PH_TMP,PH_SCALE,PH_NBS,PH_NBS_FLAG_W,C13ERR,TOTALP,TOTALP_FLAG_W,AMMONI,AMMONI_FLAG_W,CHLORA,CHLORA_FLAG_W,PPHYTN,PPHYTN_FLAG_W,REVPRS,REVTMP,DEPTH_,DEPTH_FLAG,CTDDEP,THETA,SIGTHT,DOC,DOC_FLAG_W
,,,,,,,GMT,GMT,,,METER,DBAR,ITS-90,PSS-78,,UMOL/KG,,PSS-78,,UMOL/KG,,UMOL/KG,,UMOL/KG,,UMOL/KG,,UMOL/KG,,UMOL/KG,,PMOL/KG,,PMOL/KG,,/MILLE,,UMOL/KG,,UMOL/KG,,25_DEG_C,,DEG_C,,,,/MILLE,UMOL/KG,,UMOL/KG,,UG/L,,UG/L,,DBAR,ITS-90,METERS,,METERS,DEG_C,,UMOL/L,
       RF02-04,  142E,RF-1605,  1,     -9,      -9,5,20020428,1733, 32.9968, 141.9930, 8594,      0.0,  19.0367,  34.7905,2,   -999.0,9,-999.0000,9,    229.4,2,     2.37,2,  -999.00,9,     0.38,2,     0.08,2,     0.05,2, -999.000,9, -999.000,9,  -999.00,9,   -999.0,9,   -999.0,9,-999.0000,9,   -999.0,  9,  -999.00,9,   -999.0,  -999.00,9,  -999.00,9,  -999.00,9,  -999.00,9,   -999.0,-999.0000, -999,9,    0,  19.0367,  24.8517,   -999.0,9
       RF02-04,  142E,RF-1605,  1,     21,02-12826,2,20020428,1731, 32.9968, 141.9930, 8594,     12.0,  19.0568,  34.7899,2,   -999.0,9,  34.8066,2,    230.0,2,     2.18,2,  -999.00,9,     0.34,2,     0.09,2,     0.04,2, -999.000,9, -999.000,9,  -999.00,9,   -999.0,9,   -999.0,9,-999.0000,9,   -999.0,  9,  -999.00,9,   -999.0,  -999.00,9,  -999.00,9,  -999.00,9,  -999.00,9,   -999.0,-999.0000, -999,9,   12,  19.0547,  24.8467,   -999.0,9
       RF02-04,  142E,RF-1605,  1,     20,02-12821,2,20020428,1730, 32.9968, 141.9930, 8594,     26.9,  19.0550,  34.7889,2,   -999.0,9,-999.0000,9,    228.4,2,     2.20,2,  -999.00,9,     0.38,2,     0.09,2,     0.03,2, -999.000,9, -999.000,9,  -999.00,9,   -999.0,9,   -999.0,9,-999.0000,9,   -999.0,  9,  -999.00,9,   -999.0,  -999.00,9,  -999.00,9,  -999.00,9,  -999.00,9,   -999.0,-999.0000, -999,9,   27,  19.0502,  24.8470,   -999.0,9
       RF02-04,  142E,RF-1605,  1,     19,02-17875,2,20020428,1729, 32.9968, 141.9930, 8594,     50.7,  19.0700,  34.7888,2,   -999.0,9,-999.0000,9,   -999.0,4,  -999.00,4,  -999.00,9,  -999.00,4,  -999.00,4,  -999.00,4, -999.000,9, -999.000,9,  -999.00,9,   -999.0,9,   -999.0,9,-999.0000,9,   -999.0,  9,  -999.00,9,   -999.0,  -999.00,9,  -999.00,9,  -999.00,9,  -999.00,9,   -999.0,-999.0000, -999,9,   50,  19.0610,  24.8442,   -999.0,9
       RF02-04,  142E,RF-1605,  1,     18,02-12830,2,20020428,1728, 32.9968, 141.9930, 8594,     77.7,  19.0652,  34.7899,2,   -999.0,9,-999.0000,9,    227.4,2,     2.21,2,  -999.00,9,     0.39,2,     0.09,2,     0.03,2, -999.000,9, -999.000,9,  -999.00,9,   -999.0,9,   -999.0,9,-999.0000,9,   -999.0,  9,  -999.00,9,   -999.0,  -999.00,9,  -999.00,9,  -999.00,9,  -999.00,9,   -999.0,-999.0000, -999,9,   77,  19.0513,  24.8475,   -999.0,9
       RF02-04,  142E,RF-1605,  1,     17,02-17874,2,20020428,1726, 32.9968, 141.9930, 8594,    103.0,  19.0636,  34.7903,2,   -999.0,9,  34.8052,2,    227.8,2,     2.24,2,  -999.00,9,     0.49,2,     0.09,2,     0.03,2, -999.000,9, -999.000,9,  -999.00,9,   -999.0,9,   -999.0,9,-999.0000,9,   -999.0,  9,  -999.00,9,   -999.0,  -999.00,9,  -999.00,9,  -999.00,9,  -999.00,9,   -999.0,-999.0000, -999,9,  102,  19.0452,  24.8493,   -999.0,9
       RF02-04,  142E,RF-1605,  1,     16,02-12818,2,20020428,1725, 32.9968, 141.9930, 8594,    125.7,  18.9854,  34.8007,2,   -999.0,9,-999.0000,9,    224.9,2,     2.36,2,  -999.00,9,     1.03,2,     0.10,2,     0.06,2, -999.000,9, -999.000,9,  -999.00,9,   -999.0,9,   -999.0,9,-999.0000,9,   -999.0,  9,  -999.00,9,   -999.0,  -999.00,9,  -999.00,9,  -999.00,9,  -999.00,9,   -999.0,-999.0000, -999,9,  125,  18.9631,  24.8782,   -999.0,9
       RF02-04,  142E,RF-1605,  1,     15,02-12809,2,20020428,1724, 32.9968, 141.9930, 8594,    152.0,  18.5660,  34.7941,2,   -999.0,9,-999.0000,9,    218.1,2,     2.89,2,  -999.00,9,     2.03,2,     0.04,2,     0.11,2, -999.000,9, -999.000,9,  -999.00,9,   -999.0,9,   -999.0,9,-999.0000,9,   -999.0,  9,  -999.00,9,   -999.0,  -999.00,9,  -999.00,9,  -999.00,9,  -999.00,9,   -999.0,-999.0000, -999,9,  151,  18.5394,  24.9803,   -999.0,9
       RF02-04,  142E,RF-1605,  1,     14,02-12817,2,20020428,1722, 32.9968, 141.9930, 8594,    203.4,  18.3058,  34.7716,2,   -999.0,9,  34.7853,2,    223.9,2,     2.85,2,  -999.00,9,     1.78,2,     0.16,2,     0.11,2, -999.000,9, -999.000,9,  -999.00,9,   -999.0,9,   -999.0,9,-999.0000,9,   -999.0,  9,  -999.00,9,   -999.0,  -999.00,9,  -999.00,9,  -999.00,9,  -999.00,9,   -999.0,-999.0000, -999,9,  202,  18.2705,  25.0302,   -999.0,9
       RF02-04,  142E,RF-1605,  1,     13,02-15822,2,20020428,1721, 32.9968, 141.9930, 8594,    252.2,  17.9463,  34.7591,2,   -999.0,9,-999.0000,9,    217.4,2,     3.70,2,  -999.00,9,     3.09,2,     0.01,2,     0.18,2, -999.000,9, -999.000,9,  -999.00,9,   -999.0,9,   -999.0,9,-999.0000,9,   -999.0,  9,  -999.00,9,   -999.0,  -999.00,9,  -999.00,9,  -999.00,9,  -999.00,9,   -999.0,-999.0000, -999,9,  250,  17.9031,  25.1114,   -999.0,9
       RF02-04,  142E,RF-1605,  1,     12,02-12808,2,20020428,1719, 32.9968, 141.9930, 8594,    303.8,  17.8669,  34.7637,2,   -999.0,9,  34.7735,2,    226.9,2,     3.29,2,  -999.00,9,     2.37,2,     0.02,2,     0.13,2, -999.000,9, -999.000,9,  -999.00,9,   -999.0,9,   -999.0,9,-999.0000,9,   -999.0,  9,  -999.00,9,   -999.0,  -999.00,9,  -999.00,9,  -999.00,9,  -999.00,9,   -999.0,-999.0000, -999,9,  301,  17.8149,  25.1365,   -999.0,9
       RF02-04,  142E,RF-1605,  1,     11,02-17873,2,20020428,1717, 32.9968, 141.9930, 8594,    405.2,  16.7690,  34.7090,2,   -999.0,9,  34.7152,2,    193.3,2,     7.02,2,  -999.00,9,     7.01,2,     0.00,2,     0.40,2, -999.000,9, -999.000,9,  -999.00,9,   -999.0,9,   -999.0,9,-999.0000,9,   -999.0,  9,  -999.00,9,   -999.0,  -999.00,9,  -999.00,9,  -999.00,9,  -999.00,9,   -999.0,-999.0000, -999,9,  402,  16.7025,  25.3611,   -999.0,9
       RF02-04,  142E,RF-1605,  1,     10,02-12820,2,20020428,1714, 32.9968, 141.9930, 8594,    504.6,  14.8049,  34.5942,2,   -999.0,9,  34.6009,2,    185.3,2,    12.45,2,  -999.00,9,    10.88,2,     0.00,2,     0.66,2, -999.000,9, -999.000,9,  -999.00,9,   -999.0,9,   -999.0,9,-999.0000,9,   -999.0,  9,  -999.00,9,   -999.0,  -999.00,9,  -999.00,9,  -999.00,9,  -999.00,9,   -999.0,-999.0000, -999,9,  500,  14.7287,  25.7181,   -999.0,9
       RF02-04,  142E,RF-1605,  1,      9,02-12810,2,20020428,1712, 32.9968, 141.9930, 8594,    607.6,  12.1564,  34.4211,2,   -999.0,9,  34.4204,2,    175.2,2,    23.44,2,  -999.00,9,    16.33,2,     0.00,2,     1.06,2, -999.000,9, -999.000,9,  -999.00,9,   -999.0,9,   -999.0,9,-999.0000,9,   -999.0,  9,  -999.00,9,   -999.0,  -999.00,9,  -999.00,9,  -999.00,9,  -999.00,9,   -999.0,-999.0000, -999,9,  602,  12.0756,  26.1250,   -999.0,9
       RF02-04,  142E,RF-1605,  1,      8,02-12819,2,20020428,1709, 32.9968, 141.9930, 8594,    706.1,   8.8759,  34.1827,2,   -999.0,9,  34.1799,2,    160.4,2,    40.11,2,  -999.00,9,    23.06,2,     0.00,2,     1.58,2, -999.000,9, -999.000,9,  -999.00,9,   -999.0,9,   -999.0,9,-999.0000,9,   -999.0,  9,  -999.00,9,   -999.0,  -999.00,9,  -999.00,9,  -999.00,9,  -999.00,9,   -999.0,-999.0000, -999,9,  700,   8.7984,  26.5100,   -999.0,9
       RF02-04,  142E,RF-1605,  1,      7,02-15821,2,20020428,1707, 32.9968, 141.9930, 8594,    804.9,   6.1997,  34.0641,2,   -999.0,9,  34.0620,2,    128.7,2,    64.75,2,  -999.00,9,    30.72,2,     0.00,2,     2.18,2, -999.000,9, -999.000,9,  -999.00,9,   -999.0,9,   -999.0,9,-999.0000,9,   -999.0,  9,  -999.00,9,   -999.0,  -999.00,9,  -999.00,9,  -999.00,9,  -999.00,9,   -999.0,-999.0000, -999,9,  798,   6.1270,  26.7970,   -999.0,9
       RF02-04,  142E,RF-1605,  1,      6,02-17872,2,20020428,1704, 32.9968, 141.9930, 8594,    908.7,   5.2808,  34.1628,2,   -999.0,9,-999.0000,9,   -999.0,4,  -999.00,4,  -999.00,9,  -999.00,4,  -999.00,4,  -999.00,4, -999.000,9, -999.000,9,  -999.00,9,   -999.0,9,   -999.0,9,-999.0000,9,   -999.0,  9,  -999.00,9,   -999.0,  -999.00,9,  -999.00,9,  -999.00,9,  -999.00,9,   -999.0,-999.0000, -999,9,  900,   5.2043,  26.9878,   -999.0,9
       RF02-04,  142E,RF-1605,  1,      5,02-10155,2,20020428,1702, 32.9968, 141.9930, 8594,   1010.0,   4.4019,  34.2268,2,   -999.0,9,  34.2253,2,     64.0,2,   105.31,2,  -999.00,9,    39.12,2,     0.00,2,     2.82,2, -999.000,9, -999.000,9,  -999.00,9,   -999.0,9,   -999.0,9,-999.0000,9,   -999.0,  9,  -999.00,9,   -999.0,  -999.00,9,  -999.00,9,  -999.00,9,  -999.00,9,   -999.0,-999.0000, -999,9, 1000,   4.3228,  27.1373,   -999.0,9
       RF02-04,  142E,RF-1605,  1,      4,02-13579,2,20020428,1657, 32.9968, 141.9930, 8594,   1264.4,   3.3435,  34.3755,2,   -999.0,9,  34.3754,2,     45.9,2,   132.17,2,  -999.00,9,    41.36,2,     0.00,2,     3.02,2, -999.000,9, -999.000,9,  -999.00,9,   -999.0,9,   -999.0,9,-999.0000,9,   -999.0,  9,  -999.00,9,   -999.0,  -999.00,9,  -999.00,9,  -999.00,9,  -999.00,9,   -999.0,-999.0000, -999,9, 1252,   3.2519,  27.3632,   -999.0,9
       RF02-04,  142E,RF-1605,  1,      3,02-13590,2,20020428,1651, 32.9968, 141.9930, 8594,   1517.0,   2.8156,  34.4723,2,   -999.0,9,  34.4748,2,     58.6,2,   142.97,2,  -999.00,9,    41.16,2,     0.00,2,     2.97,2, -999.000,9, -999.000,9,  -999.00,9,   -999.0,9,   -999.0,9,-999.0000,9,   -999.0,  9,  -999.00,9,   -999.0,  -999.00,9,  -999.00,9,  -999.00,9,  -999.00,9,   -999.0,-999.0000, -999,9, 1501,   2.7087,  27.4899,   -999.0,9
       RF02-04,  142E,RF-1605,  1,      2,02-12827,2,20020428,1646, 32.9968, 141.9930, 8594,   1770.5,   2.3479,  34.5203,2,   -999.0,9,  34.5238,2,     51.8,2,   157.24,2,  -999.00,9,    41.91,2,     0.00,2,     3.03,2, -999.000,9, -999.000,9,  -999.00,9,   -999.0,9,   -999.0,9,-999.0000,9,   -999.0,  9,  -999.00,9,   -999.0,  -999.00,9,  -999.00,9,  -999.00,9,  -999.00,9,   -999.0,-999.0000, -999,9, 1751,   2.2259,  27.5692,   -999.0,9
       RF02-04,  142E,RF-1605,  1,      1,02-17871,2,20020428,1641, 32.9968, 141.9930, 8594,   2046.7,   2.0937,  34.5660,2,   -999.0,9,  34.5700,2,     64.6,2,   161.02,2,  -999.00,9,    41.44,2,     0.00,2,     2.97,2, -999.000,9, -999.000,9,  -999.00,9,   -999.0,9,   -999.0,9,-999.0000,9,   -999.0,  9,  -999.00,9,   -999.0,  -999.00,9,  -999.00,9,  -999.00,9,  -999.00,9,   -999.0,-999.0000, -999,9, 2022,   1.9521,  27.6277,   -999.0,9