BOTTLE,20130510GEMDJMAYT
EXPOCODE,SECT_ID,STNNBR,CASTNO,SAMPNO,BTLNBR,BTLNBR_FLAG_W,DATE,TIME,LATITUDE,LONGITUDE,DEPTH,CTDPRS,CTDTMP,CTDSAL,CTDSAL_FLAG_W,CTDOXY,CTDOXY_FLAG_W,SALNTY,SALNTY_FLAG_W,OXYGEN,OXYGEN_FLAG_W,SILCAT,SILCAT_FLAG_W,NITRAT,NITRAT_FLAG_W,NO2+NO3,NO2+NO3_FLAG_W,NITRIT,NITRIT_FLAG_W,PHSPHT,PHSPHT_FLAG_W,CFC-11,CFC-11_FLAG_W,CFC-12,CFC-12_FLAG_W,DELC13,DELC13_FLAG_W,TCARBN,TCARBN_FLAG_W,ALKALI,ALKALI_FLAG_W,PH,PH_FLAG_W,PH_TMP,PH_SCALE,PH_NBS,PH_NBS_FLAG_W,C13ERR,TOTALP,TOTALP_FLAG_W,AMMONI,AMMONI_FLAG_W,CHLORA,CHLORA_FLAG_W,PPHYTN,PPHYTN_FLAG_W,REVPRS,REVTMP,DEPTH_,DEPTH_FLAG,CTDDEP,THETA,SIGTHT,DOC,DOC_FLAG_W
,,,,,,,GMT,GMT,,,METER,DBAR,ITS-90,PSS-78,,UMOL/KG,,PSS-78,,UMOL/KG,,UMOL/KG,,UMOL/KG,,UMOL/KG,,UMOL/KG,,UMOL/KG,,PMOL/KG,,PMOL/KG,,/MILLE,,UMOL/KG,,UMOL/KG,,25_DEG_C,,DEG_C,,,,/MILLE,UMOL/KG,,UMOL/KG,,UG/L,,UG/L,,DBAR,ITS-90,METERS,,METERS,DEG_C,,UMOL/L,
       RF02-06,  165E,RF-1756,  1,     -9,      -9,5,20020715,1119, 34.0097, 164.9898, 6065,      0.0,  23.9979,  34.5679,2,   -999.0,9,-999.0000,9,    214.0,2,     2.05,2,  -999.00,9,     0.00,2,     0.00,2,     0.01,2, -999.000,9, -999.000,9,  -999.00,9,   -999.0,9,   -999.0,9,-999.0000,9,   -999.0,  9,     8.22,2,   -999.0,  -999.00,9,  -999.00,9,     0.09,2,     0.03,2,   -999.0,-999.0000, -999,9,    0,  23.9979,  23.3149,   -999.0,9
       RF02-06,  165E,RF-1756,  1,     21,02-12826,2,20020715,1116, 34.0097, 164.9898, 6065,     11.2,  23.9687,  34.5653,2,   -999.0,9,-999.0000,9,    214.5,2,     2.00,2,  -999.00,9,     0.00,2,     0.00,2,     0.00,2, -999.000,9, -999.000,9,  -999.00,9,   -999.0,9,   -999.0,9,-999.0000,9,   -999.0,  9,     8.22,2,   -999.0,  -999.00,9,  -999.00,9,     0.10,2,     0.01,2,   -999.0,-999.0000, -999,9,   11,  23.9664,  23.3223,   -999.0,9
       RF02-06,  165E,RF-1756,  1,     20,02-12821,2,20020715,1115, 34.0097, 164.9898, 6065,     26.2,  20.7257,  34.7097,2,   -999.0,9,-999.0000,9,    240.3,2,     2.06,2,  -999.00,9,     0.00,2,     0.00,2,     0.00,2, -999.000,9, -999.000,9,  -999.00,9,   -999.0,9,   -999.0,9,-999.0000,9,   -999.0,  9,     8.22,2,   -999.0,  -999.00,9,  -999.00,9,     0.12,2,     0.03,2,   -999.0,-999.0000, -999,9,   26,  20.7207,  24.3484,   -999.0,9
       RF02-06,  165E,RF-1756,  1,     19,02-17875,2,20020715,1114, 34.0097, 164.9898, 6065,     51.3,  19.0410,  34.7407,2,   -999.0,9,-999.0000,9,    243.6,2,     2.06,2,  -999.00,9,     0.00,2,     0.00,2,     0.01,2, -999.000,9, -999.000,9,  -999.00,9,   -999.0,9,   -999.0,9,-999.0000,9,   -999.0,  9,     8.21,2,   -999.0,  -999.00,9,  -999.00,9,     0.17,2,     0.06,2,   -999.0,-999.0000, -999,9,   51,  19.0319,  24.8149,   -999.0,9
       RF02-06,  165E,RF-1756,  1,     18,02-12830,2,20020715,1112, 34.0097, 164.9898, 6065,     76.3,  17.9679,  34.7130,2,   -999.0,9,-999.0000,9,    238.3,2,     2.24,2,  -999.00,9,     0.00,2,     0.00,2,     0.04,2, -999.000,9, -999.000,9,  -999.00,9,   -999.0,9,   -999.0,9,-999.0000,9,   -999.0,  9,     8.20,2,   -999.0,  -999.00,9,  -999.00,9,     0.19,2,     0.19,2,   -999.0,-999.0000, -999,9,   76,  17.9548,  25.0634,   -999.0,9
       RF02-06,  165E,RF-1756,  1,     17,02-17874,2,20020715,1111, 34.0097, 164.9898, 6065,    101.3,  17.2880,  34.6965,2,   -999.0,9,  34.7050,2,    222.1,2,     2.98,2,  -999.00,9,     2.80,2,     0.13,2,     0.15,2, -999.000,9, -999.000,9,  -999.00,9,   -999.0,9,   -999.0,9,-999.0000,9,   -999.0,  9,     8.16,2,   -999.0,  -999.00,9,  -999.00,9,     0.28,2,     0.33,2,   -999.0,-999.0000, -999,9,  101,  17.2712,  25.2166,   -999.0,9
       RF02-06,  165E,RF-1756,  1,     16,02-12818,2,20020715,1109, 34.0097, 164.9898, 6065,    126.3,  17.0523,  34.6911,2,   -999.0,9,-999.0000,9,    221.5,2,     3.38,2,  -999.00,9,     3.54,2,     0.03,2,     0.19,2, -999.000,9, -999.000,9,  -999.00,9,   -999.0,9,   -999.0,9,-999.0000,9,   -999.0,  9,     8.15,2,   -999.0,  -999.00,9,  -999.00,9,     0.14,2,     0.11,2,   -999.0,-999.0000, -999,9,  125,  17.0315,  25.2697,   -999.0,9
       RF02-06,  165E,RF-1756,  1,     15,02-12809,2,20020715,1108, 34.0097, 164.9898, 6065,    151.3,  16.9010,  34.6890,2,   -999.0,9,-999.0000,9,    225.3,2,     3.64,2,  -999.00,9,     3.76,2,     0.01,2,     0.23,2, -999.000,9, -999.000,9,  -999.00,9,   -999.0,9,   -999.0,9,-999.0000,9,   -999.0,  9,     8.15,2,   -999.0,  -999.00,9,  -999.00,9,     0.06,2,     0.03,2,   -999.0,-999.0000, -999,9,  150,  16.8762,  25.3048,   -999.0,9
       RF02-06,  165E,RF-1756,  1,     14,02-12817,2,20020715,1106, 34.0097, 164.9898, 6065,    201.5,  16.6419,  34.6891,2,   -999.0,9,  34.6918,2,    217.3,2,     4.59,2,  -999.00,9,     4.76,2,     0.00,2,     0.28,2, -999.000,9, -999.000,9,  -999.00,9,   -999.0,9,   -999.0,9,-999.0000,9,   -999.0,  9,     8.14,2,   -999.0,  -999.00,9,  -999.00,9,     0.00,2,     0.02,2,   -999.0,-999.0000, -999,9,  200,  16.6092,  25.3677,   -999.0,9
       RF02-06,  165E,RF-1756,  1,     13,02-15822,2,20020715,1104, 34.0097, 164.9898, 6065,    252.5,  16.0118,  34.6573,2,   -999.0,9,-999.0000,9,    205.3,2,     7.10,2,  -999.00,9,     7.30,2,     0.01,2,     0.41,2, -999.000,9, -999.000,9,  -999.00,9,   -999.0,9,   -999.0,9,-999.0000,9,   -999.0,  9,     8.09,2,   -999.0,  -999.00,9,  -999.00,9,  -999.00,9,  -999.00,9,   -999.0,-999.0000, -999,9,  251,  15.9719,  25.4904,   -999.0,9
       RF02-06,  165E,RF-1756,  1,     12,02-12808,2,20020715,1102, 34.0097, 164.9898, 6065,    302.5,  15.0527,  34.5970,2,   -999.0,9,  34.5948,2,    205.1,2,     8.69,2,  -999.00,9,     8.65,2,     0.00,2,     0.55,2, -999.000,9, -999.000,9,  -999.00,9,   -999.0,9,   -999.0,9,-999.0000,9,   -999.0,  9,     8.06,2,   -999.0,  -999.00,9,  -999.00,9,  -999.00,9,  -999.00,9,   -999.0,-999.0000, -999,9,  300,  15.0068,  25.6597,   -999.0,9
       RF02-06,  165E,RF-1756,  1,     11,02-17873,2,20020715,1059, 34.0097, 164.9898, 6065,    402.7,  13.0204,  34.4380,2,   -999.0,9,  34.4390,2,    203.5,2,    14.23,2,  -999.00,9,    11.90,2,     0.00,2,     0.79,2, -999.000,9, -999.000,9,  -999.00,9,   -999.0,9,   -999.0,9,-999.0000,9,   -999.0,  9,  -999.00,9,   -999.0,  -999.00,9,  -999.00,9,  -999.00,9,  -999.00,9,   -999.0,-999.0000, -999,9,  399,  12.9648,  25.9645,   -999.0,9
       RF02-06,  165E,RF-1756,  1,     10,02-12820,2,20020715,1057, 34.0097, 164.9898, 6065,    504.0,  10.9253,  34.2891,2,   -999.0,9,  34.2897,2,    199.3,2,    22.30,2,  -999.00,9,    16.12,2,     0.00,2,     1.09,2, -999.000,9, -999.000,9,  -999.00,9,   -999.0,9,   -999.0,9,-999.0000,9,   -999.0,  9,     7.95,2,   -999.0,  -999.00,9,  -999.00,9,  -999.00,9,  -999.00,9,   -999.0,-999.0000, -999,9,  500,  10.8631,  26.2464,   -999.0,9
       RF02-06,  165E,RF-1756,  1,      9,02-12810,2,20020715,1054, 34.0097, 164.9898, 6065,    605.2,   8.2654,  34.0712,2,   -999.0,9,  34.0757,2,    190.0,2,    35.21,2,  -999.00,9,    21.59,2,     0.00,2,     1.51,2, -999.000,9, -999.000,9,  -999.00,9,   -999.0,9,   -999.0,9,-999.0000,9,   -999.0,  9,  -999.00,9,   -999.0,  -999.00,9,  -999.00,9,  -999.00,9,  -999.00,9,   -999.0,-999.0000, -999,9,  600,   8.2022,  26.5142,   -999.0,9
       RF02-06,  165E,RF-1756,  1,      8,02-12819,2,20020715,1052, 34.0097, 164.9898, 6065,    705.4,   6.3391,  34.0226,2,   -999.0,9,  34.0127,4,    145.8,2,    56.31,2,  -999.00,9,    29.09,2,     0.00,2,     2.05,2, -999.000,9, -999.000,9,  -999.00,9,   -999.0,9,   -999.0,9,-999.0000,9,   -999.0,  9,     7.71,2,   -999.0,  -999.00,9,  -999.00,9,  -999.00,9,  -999.00,9,   -999.0,-999.0000, -999,9,  699,   6.2752,  26.7453,   -999.0,9
       RF02-06,  165E,RF-1756,  1,      7,02-15821,2,20020715,1030, 34.0097, 164.9898, 6065,    808.4,   5.1643,  34.0604,2,   -999.0,9,  34.0602,2,     98.4,2,    78.36,2,  -999.00,9,    34.97,2,     0.00,2,     2.52,2, -999.000,9, -999.000,9,  -999.00,9,   -999.0,9,   -999.0,9,-999.0000,9,   -999.0,  9,  -999.00,9,   -999.0,  -999.00,9,  -999.00,9,  -999.00,9,  -999.00,9,   -999.0,-999.0000, -999,9,  801,   5.0977,  26.9191,   -999.0,9
       RF02-06,  165E,RF-1756,  1,      6,02-17872,2,20020715,1028, 34.0097, 164.9898, 6065,    909.5,   4.4060,  34.1564,2,   -999.0,9,-999.0000,9,     63.4,2,    97.75,2,  -999.00,9,    38.91,2,     0.00,2,     2.83,2, -999.000,9, -999.000,9,  -999.00,9,   -999.0,9,   -999.0,9,-999.0000,9,   -999.0,  9,  -999.00,9,   -999.0,  -999.00,9,  -999.00,9,  -999.00,9,  -999.00,9,   -999.0,-999.0000, -999,9,  901,   4.3355,  27.0800,   -999.0,9
       RF02-06,  165E,RF-1756,  1,      5,02-10155,2,20020715,1025, 34.0097, 164.9898, 6065,   1009.6,   3.9428,  34.2357,2,   -999.0,9,  34.2363,2,     48.6,2,   111.81,2,  -999.00,9,    40.51,2,     0.00,2,     2.91,2, -999.000,9, -999.000,9,  -999.00,9,   -999.0,9,   -999.0,9,-999.0000,9,   -999.0,  9,     7.52,2,   -999.0,  -999.00,9,  -999.00,9,  -999.00,9,  -999.00,9,   -999.0,-999.0000, -999,9, 1000,   3.8673,  27.1917,   -999.0,9
       RF02-06,  165E,RF-1756,  1,      4,02-13579,2,20020715,1020, 34.0097, 164.9898, 6065,   1264.4,   3.1269,  34.3950,2,   -999.0,9,  34.3954,2,     32.5,2,   134.43,2,  -999.00,9,    42.53,2,     0.00,2,     3.12,2, -999.000,9, -999.000,9,  -999.00,9,   -999.0,9,   -999.0,9,-999.0000,9,   -999.0,  9,  -999.00,9,   -999.0,  -999.00,9,  -999.00,9,  -999.00,9,  -999.00,9,   -999.0,-999.0000, -999,9, 1252,   3.0374,  27.3987,   -999.0,9
       RF02-06,  165E,RF-1756,  1,      3,02-13590,2,20020715,1015, 34.0097, 164.9898, 6065,   1516.4,   2.6134,  34.4781,2,   -999.0,9,  34.4797,2,     37.5,2,   147.84,2,  -999.00,9,    42.56,2,     0.00,2,     3.06,2, -999.000,9, -999.000,9,  -999.00,9,   -999.0,9,   -999.0,9,-999.0000,9,   -999.0,  9,     7.52,2,   -999.0,  -999.00,9,  -999.00,9,  -999.00,9,  -999.00,9,   -999.0,-999.0000, -999,9, 1500,   2.5089,  27.5118,   -999.0,9
       RF02-06,  165E,RF-1756,  1,      2,02-12827,2,20020715,1010, 34.0097, 164.9898, 6065,   1770.2,   2.3127,  34.5416,2,   -999.0,9,  34.5409,2,     49.0,2,   153.94,2,  -999.00,9,    42.12,2,     0.00,2,     3.01,2, -999.000,9, -999.000,9,  -999.00,9,   -999.0,9,   -999.0,9,-999.0000,9,   -999.0,  9,     7.55,2,   -999.0,  -999.00,9,  -999.00,9,  -999.00,9,  -999.00,9,   -999.0,-999.0000, -999,9, 1750,   2.1912,  27.5891,   -999.0,9
       RF02-06,  165E,RF-1756,  1,      1,02-17871,2,20020715,1005, 34.0097, 164.9898, 6065,   2045.2,   2.0159,  34.5895,2,   -999.0,9,  34.5885,2,     69.2,2,   157.66,2,  -999.00,9,    40.95,2,     0.00,2,     2.95,2, -999.000,9, -999.000,9,  -999.00,9,   -999.0,9,   -999.0,9,-999.0000,9,   -999.0,  9,     7.61,2,   -999.0,  -999.00,9,  -999.00,9,  -999.00,9,  -999.00,9,   -999.0,-999.0000, -999,9, 2021,   1.8755,  27.6525,   -999.0,9