BOTTLE,20130510GEMDJMAYT
EXPOCODE,SECT_ID,STNNBR,CASTNO,SAMPNO,BTLNBR,BTLNBR_FLAG_W,DATE,TIME,LATITUDE,LONGITUDE,DEPTH,CTDPRS,CTDTMP,CTDSAL,CTDSAL_FLAG_W,CTDOXY,CTDOXY_FLAG_W,SALNTY,SALNTY_FLAG_W,OXYGEN,OXYGEN_FLAG_W,SILCAT,SILCAT_FLAG_W,NITRAT,NITRAT_FLAG_W,NO2+NO3,NO2+NO3_FLAG_W,NITRIT,NITRIT_FLAG_W,PHSPHT,PHSPHT_FLAG_W,CFC-11,CFC-11_FLAG_W,CFC-12,CFC-12_FLAG_W,DELC13,DELC13_FLAG_W,TCARBN,TCARBN_FLAG_W,ALKALI,ALKALI_FLAG_W,PH,PH_FLAG_W,PH_TMP,PH_SCALE,PH_NBS,PH_NBS_FLAG_W,C13ERR,TOTALP,TOTALP_FLAG_W,AMMONI,AMMONI_FLAG_W,CHLORA,CHLORA_FLAG_W,PPHYTN,PPHYTN_FLAG_W,REVPRS,REVTMP,DEPTH_,DEPTH_FLAG,CTDDEP,THETA,SIGTHT,DOC,DOC_FLAG_W
,,,,,,,GMT,GMT,,,METER,DBAR,ITS-90,PSS-78,,UMOL/KG,,PSS-78,,UMOL/KG,,UMOL/KG,,UMOL/KG,,UMOL/KG,,UMOL/KG,,UMOL/KG,,PMOL/KG,,PMOL/KG,,/MILLE,,UMOL/KG,,UMOL/KG,,25_DEG_C,,DEG_C,,,,/MILLE,UMOL/KG,,UMOL/KG,,UG/L,,UG/L,,DBAR,ITS-90,METERS,,METERS,DEG_C,,UMOL/L,
       RF02-06,  165E,RF-1757,  1,     -9,      -9,5,20020715,1801, 33.0068, 165.0027, 6204,      0.0,  24.9938,  34.6496,2,   -999.0,9,-999.0000,9,    208.8,2,     2.05,2,  -999.00,9,     0.00,2,     0.00,2,  -999.00,4, -999.000,9, -999.000,9,  -999.00,9,   -999.0,9,   -999.0,9,-999.0000,9,   -999.0,  9,  -999.00,9,   -999.0,  -999.00,9,  -999.00,9,  -999.00,9,  -999.00,9,   -999.0,-999.0000, -999,9,    0,  24.9938,  23.0783,   -999.0,9
       RF02-06,  165E,RF-1757,  1,     23,02-12825,2,20020715,1759, 33.0068, 165.0027, 6204,     11.4,  24.9614,  34.6440,2,   -999.0,9,-999.0000,9,    217.8,2,     2.13,2,  -999.00,9,     0.00,2,     0.00,2,  -999.00,4, -999.000,9, -999.000,9,  -999.00,9,   -999.0,9,   -999.0,9,-999.0000,9,   -999.0,  9,  -999.00,9,   -999.0,  -999.00,9,  -999.00,9,  -999.00,9,  -999.00,9,   -999.0,-999.0000, -999,9,   11,  24.9590,  23.0846,   -999.0,9
       RF02-06,  165E,RF-1757,  1,     22,02-12811,2,20020715,1758, 33.0068, 165.0027, 6204,     26.5,  20.3004,  34.7190,2,   -999.0,9,-999.0000,9,    239.7,2,     2.16,2,  -999.00,9,     0.00,2,     0.00,2,  -999.00,4, -999.000,9, -999.000,9,  -999.00,9,   -999.0,9,   -999.0,9,-999.0000,9,   -999.0,  9,  -999.00,9,   -999.0,  -999.00,9,  -999.00,9,  -999.00,9,  -999.00,9,   -999.0,-999.0000, -999,9,   26,  20.2955,  24.4693,   -999.0,9
       RF02-06,  165E,RF-1757,  1,     21,02-12826,2,20020715,1756, 33.0068, 165.0027, 6204,     51.9,  19.2444,  34.7264,2,   -999.0,9,-999.0000,9,    242.9,2,     2.27,2,  -999.00,9,     0.00,2,     0.00,2,  -999.00,4, -999.000,9, -999.000,9,  -999.00,9,   -999.0,9,   -999.0,9,-999.0000,9,   -999.0,  9,  -999.00,9,   -999.0,  -999.00,9,  -999.00,9,  -999.00,9,  -999.00,9,   -999.0,-999.0000, -999,9,   52,  19.2351,  24.7519,   -999.0,9
       RF02-06,  165E,RF-1757,  1,     20,02-12821,2,20020715,1755, 33.0068, 165.0027, 6204,     77.8,  18.4075,  34.7186,2,   -999.0,9,-999.0000,9,    239.8,2,     2.45,2,  -999.00,9,     0.00,2,     0.00,2,     0.05,2, -999.000,9, -999.000,9,  -999.00,9,   -999.0,9,   -999.0,9,-999.0000,9,   -999.0,  9,  -999.00,9,   -999.0,  -999.00,9,  -999.00,9,  -999.00,9,  -999.00,9,   -999.0,-999.0000, -999,9,   77,  18.3939,  24.9589,   -999.0,9
       RF02-06,  165E,RF-1757,  1,     19,02-17875,2,20020715,1754, 33.0068, 165.0027, 6204,    101.0,  17.5077,  34.7042,2,   -999.0,9,-999.0000,9,    230.5,2,     2.60,2,  -999.00,9,     0.51,2,     0.12,2,     0.06,2, -999.000,9, -999.000,9,  -999.00,9,   -999.0,9,   -999.0,9,-999.0000,9,   -999.0,  9,  -999.00,9,   -999.0,  -999.00,9,  -999.00,9,  -999.00,9,  -999.00,9,   -999.0,-999.0000, -999,9,  100,  17.4907,  25.1697,   -999.0,9
       RF02-06,  165E,RF-1757,  1,     18,02-12830,2,20020715,1752, 33.0068, 165.0027, 6204,    127.0,  17.1775,  34.6964,2,   -999.0,9,-999.0000,9,    221.5,2,     3.41,2,  -999.00,9,     2.10,2,     0.11,2,     0.13,2, -999.000,9, -999.000,9,  -999.00,9,   -999.0,9,   -999.0,9,-999.0000,9,   -999.0,  9,  -999.00,9,   -999.0,  -999.00,9,  -999.00,9,  -999.00,9,  -999.00,9,   -999.0,-999.0000, -999,9,  126,  17.1565,  25.2440,   -999.0,9
       RF02-06,  165E,RF-1757,  1,     17,02-17874,2,20020715,1751, 33.0068, 165.0027, 6204,    151.1,  16.9686,  34.6855,2,   -999.0,9,-999.0000,9,    223.2,2,     3.79,2,  -999.00,9,     2.46,2,     0.02,2,     0.19,2, -999.000,9, -999.000,9,  -999.00,9,   -999.0,9,   -999.0,9,-999.0000,9,   -999.0,  9,  -999.00,9,   -999.0,  -999.00,9,  -999.00,9,  -999.00,9,  -999.00,9,   -999.0,-999.0000, -999,9,  150,  16.9438,  25.2862,   -999.0,9
       RF02-06,  165E,RF-1757,  1,     16,02-12818,2,20020715,1749, 33.0068, 165.0027, 6204,    201.9,  16.6599,  34.6800,2,   -999.0,9,-999.0000,9,    218.7,2,     4.78,2,  -999.00,9,     3.44,2,     0.01,2,     0.29,2, -999.000,9, -999.000,9,  -999.00,9,   -999.0,9,   -999.0,9,-999.0000,9,   -999.0,  9,  -999.00,9,   -999.0,  -999.00,9,  -999.00,9,  -999.00,9,  -999.00,9,   -999.0,-999.0000, -999,9,  200,  16.6271,  25.3565,   -999.0,9
       RF02-06,  165E,RF-1757,  1,     15,02-12809,2,20020715,1748, 33.0068, 165.0027, 6204,    253.6,  16.1506,  34.6516,2,   -999.0,9,-999.0000,9,    219.4,2,     5.84,2,  -999.00,9,     4.30,2,     0.01,2,     0.31,2, -999.000,9, -999.000,9,  -999.00,9,   -999.0,9,   -999.0,9,-999.0000,9,   -999.0,  9,  -999.00,9,   -999.0,  -999.00,9,  -999.00,9,  -999.00,9,  -999.00,9,   -999.0,-999.0000, -999,9,  252,  16.1102,  25.4544,   -999.0,9
       RF02-06,  165E,RF-1757,  1,     14,02-12817,2,20020715,1746, 33.0068, 165.0027, 6204,    303.3,  15.4185,  34.6211,2,   -999.0,9,-999.0000,9,    196.1,2,     9.08,2,  -999.00,9,     7.00,2,     0.00,2,     0.54,2, -999.000,9, -999.000,9,  -999.00,9,   -999.0,9,   -999.0,9,-999.0000,9,   -999.0,  9,  -999.00,9,   -999.0,  -999.00,9,  -999.00,9,  -999.00,9,  -999.00,9,   -999.0,-999.0000, -999,9,  301,  15.3717,  25.5978,   -999.0,9
       RF02-06,  165E,RF-1757,  1,     13,02-15822,2,20020715,1744, 33.0068, 165.0027, 6204,    404.2,  13.2313,  34.4657,2,   -999.0,9,-999.0000,9,    197.2,2,    15.11,2,  -999.00,9,    10.85,2,     0.01,2,     0.77,2, -999.000,9, -999.000,9,  -999.00,9,   -999.0,9,   -999.0,9,-999.0000,9,   -999.0,  9,  -999.00,9,   -999.0,  -999.00,9,  -999.00,9,  -999.00,9,  -999.00,9,   -999.0,-999.0000, -999,9,  401,  13.1749,  25.9438,   -999.0,9
       RF02-06,  165E,RF-1757,  1,     12,02-12808,2,20020715,1741, 33.0068, 165.0027, 6204,    505.5,  10.7587,  34.2910,2,   -999.0,9,-999.0000,9,    193.2,2,    24.22,2,  -999.00,9,    15.27,2,     0.01,2,     1.07,2, -999.000,9, -999.000,9,  -999.00,9,   -999.0,9,   -999.0,9,-999.0000,9,   -999.0,  9,  -999.00,9,   -999.0,  -999.00,9,  -999.00,9,  -999.00,9,  -999.00,9,   -999.0,-999.0000, -999,9,  501,  10.6969,  26.2775,   -999.0,9
       RF02-06,  165E,RF-1757,  1,     11,02-17873,2,20020715,1739, 33.0068, 165.0027, 6204,    605.9,   8.1787,  34.0880,2,   -999.0,9,-999.0000,9,    169.2,2,    38.46,2,  -999.00,9,    22.14,2,     0.01,2,     1.61,2, -999.000,9, -999.000,9,  -999.00,9,   -999.0,9,   -999.0,9,-999.0000,9,   -999.0,  9,  -999.00,9,   -999.0,  -999.00,9,  -999.00,9,  -999.00,9,  -999.00,9,   -999.0,-999.0000, -999,9,  601,   8.1158,  26.5403,   -999.0,9
       RF02-06,  165E,RF-1757,  1,     10,02-12820,2,20020715,1736, 33.0068, 165.0027, 6204,    703.3,   6.2281,  34.0057,2,   -999.0,9,  34.0055,2,   -999.0,9,  -999.00,9,  -999.00,9,  -999.00,9,  -999.00,9,  -999.00,9, -999.000,9, -999.000,9,  -999.00,9,   -999.0,9,   -999.0,9,-999.0000,9,   -999.0,  9,  -999.00,9,   -999.0,  -999.00,9,  -999.00,9,  -999.00,9,  -999.00,9,   -999.0,-999.0000, -999,9,  697,   6.1650,  26.7461,   -999.0,9
       RF02-06,  165E,RF-1757,  1,      9,02-12810,2,20020715,1735, 33.0068, 165.0027, 6204,    704.0,   6.2296,  34.0078,2,   -999.0,9,  34.0058,2,   -999.0,9,  -999.00,9,  -999.00,9,  -999.00,9,  -999.00,9,  -999.00,9, -999.000,9, -999.000,9,  -999.00,9,   -999.0,9,   -999.0,9,-999.0000,9,   -999.0,  9,  -999.00,9,   -999.0,  -999.00,9,  -999.00,9,  -999.00,9,  -999.00,9,   -999.0,-999.0000, -999,9,  698,   6.1664,  26.7475,   -999.0,9
       RF02-06,  165E,RF-1757,  1,      8,02-12819,2,20020715,1732, 33.0068, 165.0027, 6204,    704.4,   6.2141,  34.0107,2,   -999.0,9,  34.0113,2,    140.3,2,    58.17,2,  -999.00,9,    28.29,2,     0.01,2,     2.10,2, -999.000,9, -999.000,9,  -999.00,9,   -999.0,9,   -999.0,9,-999.0000,9,   -999.0,  9,  -999.00,9,   -999.0,  -999.00,9,  -999.00,9,  -999.00,9,  -999.00,9,   -999.0,-999.0000, -999,9,  698,   6.1510,  26.7518,   -999.0,9
       RF02-06,  165E,RF-1757,  1,      7,02-15821,2,20020715,1730, 33.0068, 165.0027, 6204,    807.5,   5.0639,  34.0745,2,   -999.0,9,-999.0000,9,    101.0,2,    79.56,2,  -999.00,9,    33.96,2,     0.01,2,     2.46,2, -999.000,9, -999.000,9,  -999.00,9,   -999.0,9,   -999.0,9,-999.0000,9,   -999.0,  9,  -999.00,9,   -999.0,  -999.00,9,  -999.00,9,  -999.00,9,  -999.00,9,   -999.0,-999.0000, -999,9,  800,   4.9979,  26.9417,   -999.0,9
       RF02-06,  165E,RF-1757,  1,      6,02-17872,2,20020715,1728, 33.0068, 165.0027, 6204,    909.4,   4.5242,  34.1593,2,   -999.0,9,-999.0000,9,     68.4,2,    96.97,2,  -999.00,9,    37.91,2,     0.00,2,     2.72,2, -999.000,9, -999.000,9,  -999.00,9,   -999.0,9,   -999.0,9,-999.0000,9,   -999.0,  9,  -999.00,9,   -999.0,  -999.00,9,  -999.00,9,  -999.00,9,  -999.00,9,   -999.0,-999.0000, -999,9,  901,   4.4529,  27.0697,   -999.0,9
       RF02-06,  165E,RF-1757,  1,      5,02-10155,2,20020715,1725, 33.0068, 165.0027, 6204,   1009.6,   3.9699,  34.2547,2,   -999.0,9,-999.0000,9,     50.7,2,   111.34,2,  -999.00,9,    39.88,2,     0.00,2,     2.88,2, -999.000,9, -999.000,9,  -999.00,9,   -999.0,9,   -999.0,9,-999.0000,9,   -999.0,  9,  -999.00,9,   -999.0,  -999.00,9,  -999.00,9,  -999.00,9,  -999.00,9,   -999.0,-999.0000, -999,9, 1000,   3.8941,  27.2041,   -999.0,9
       RF02-06,  165E,RF-1757,  1,      4,02-13579,2,20020715,1720, 33.0068, 165.0027, 6204,   1264.1,   3.0746,  34.3881,2,   -999.0,9,-999.0000,9,     35.5,2,   135.50,2,  -999.00,9,    42.14,2,     0.01,2,     3.07,2, -999.000,9, -999.000,9,  -999.00,9,   -999.0,9,   -999.0,9,-999.0000,9,   -999.0,  9,  -999.00,9,   -999.0,  -999.00,9,  -999.00,9,  -999.00,9,  -999.00,9,   -999.0,-999.0000, -999,9, 1251,   2.9857,  27.3980,   -999.0,9
       RF02-06,  165E,RF-1757,  1,      3,02-13590,2,20020715,1716, 33.0068, 165.0027, 6204,   1516.5,   2.5821,  34.4784,2,   -999.0,9,-999.0000,9,     35.9,2,   148.74,2,  -999.00,9,    42.59,2,     0.00,2,     3.06,2, -999.000,9, -999.000,9,  -999.00,9,   -999.0,9,   -999.0,9,-999.0000,9,   -999.0,  9,  -999.00,9,   -999.0,  -999.00,9,  -999.00,9,  -999.00,9,  -999.00,9,   -999.0,-999.0000, -999,9, 1500,   2.4780,  27.5147,   -999.0,9
       RF02-06,  165E,RF-1757,  1,      2,02-12827,2,20020715,1711, 33.0068, 165.0027, 6204,   1769.3,   2.2477,  34.5428,2,   -999.0,9,-999.0000,9,     49.0,2,   155.79,2,  -999.00,9,    42.25,2,     0.00,2,     3.04,2, -999.000,9, -999.000,9,  -999.00,9,   -999.0,9,   -999.0,9,-999.0000,9,   -999.0,  9,  -999.00,9,   -999.0,  -999.00,9,  -999.00,9,  -999.00,9,  -999.00,9,   -999.0,-999.0000, -999,9, 1749,   2.1271,  27.5952,   -999.0,9
       RF02-06,  165E,RF-1757,  1,      1,02-17871,2,20020715,1706, 33.0068, 165.0027, 6204,   2046.9,   2.0160,  34.5865,2,   -999.0,9,-999.0000,9,     64.4,2,   158.43,2,  -999.00,9,    41.32,2,     0.01,2,     2.89,2, -999.000,9, -999.000,9,  -999.00,9,   -999.0,9,   -999.0,9,-999.0000,9,   -999.0,  9,  -999.00,9,   -999.0,  -999.00,9,  -999.00,9,  -999.00,9,  -999.00,9,   -999.0,-999.0000, -999,9, 2023,   1.8755,  27.6501,   -999.0,9