BOTTLE,20130510GEMDJMAYT
EXPOCODE,SECT_ID,STNNBR,CASTNO,SAMPNO,BTLNBR,BTLNBR_FLAG_W,DATE,TIME,LATITUDE,LONGITUDE,DEPTH,CTDPRS,CTDTMP,CTDSAL,CTDSAL_FLAG_W,CTDOXY,CTDOXY_FLAG_W,SALNTY,SALNTY_FLAG_W,OXYGEN,OXYGEN_FLAG_W,SILCAT,SILCAT_FLAG_W,NITRAT,NITRAT_FLAG_W,NO2+NO3,NO2+NO3_FLAG_W,NITRIT,NITRIT_FLAG_W,PHSPHT,PHSPHT_FLAG_W,CFC-11,CFC-11_FLAG_W,CFC-12,CFC-12_FLAG_W,DELC13,DELC13_FLAG_W,TCARBN,TCARBN_FLAG_W,ALKALI,ALKALI_FLAG_W,PH,PH_FLAG_W,PH_TMP,PH_SCALE,PH_NBS,PH_NBS_FLAG_W,C13ERR,TOTALP,TOTALP_FLAG_W,AMMONI,AMMONI_FLAG_W,CHLORA,CHLORA_FLAG_W,PPHYTN,PPHYTN_FLAG_W,REVPRS,REVTMP,DEPTH_,DEPTH_FLAG,CTDDEP,THETA,SIGTHT,DOC,DOC_FLAG_W
,,,,,,,GMT,GMT,,,METER,DBAR,ITS-90,PSS-78,,UMOL/KG,,PSS-78,,UMOL/KG,,UMOL/KG,,UMOL/KG,,UMOL/KG,,UMOL/KG,,UMOL/KG,,PMOL/KG,,PMOL/KG,,/MILLE,,UMOL/KG,,UMOL/KG,,25_DEG_C,,DEG_C,,,,/MILLE,UMOL/KG,,UMOL/KG,,UG/L,,UG/L,,DBAR,ITS-90,METERS,,METERS,DEG_C,,UMOL/L,
       RF02-06,  165E,RF-1745,  1,     -9,      -9,5,20020712,0919, 44.9987, 165.0035, 5908,      0.0,   9.3623,  33.2400,2,   -999.0,9,-999.0000,9,    293.2,2,    25.41,2,  -999.00,9,    12.67,2,     0.15,2,     1.15,2, -999.000,9, -999.000,9,  -999.00,9,   -999.0,9,   -999.0,9,-999.0000,9,   -999.0,  9,  -999.00,9,   -999.0,  -999.00,9,  -999.00,9,  -999.00,9,  -999.00,9,   -999.0,-999.0000, -999,9,    0,   9.3623,  25.6825,   -999.0,9
       RF02-06,  165E,RF-1745,  1,     21,02-12826,2,20020712,0917, 44.9987, 165.0035, 5908,     11.5,   9.2495,  33.2253,2,   -999.0,9,-999.0000,9,    289.4,2,    25.38,2,  -999.00,9,    12.67,2,     0.14,2,     1.16,2, -999.000,9, -999.000,9,  -999.00,9,   -999.0,9,   -999.0,9,-999.0000,9,   -999.0,  9,  -999.00,9,   -999.0,  -999.00,9,  -999.00,9,  -999.00,9,  -999.00,9,   -999.0,-999.0000, -999,9,   11,   9.2483,  25.6893,   -999.0,9
       RF02-06,  165E,RF-1745,  1,     20,02-12821,2,20020712,0916, 44.9987, 165.0035, 5908,     26.1,   8.9915,  33.2343,2,   -999.0,9,-999.0000,9,    290.8,2,    25.63,2,  -999.00,9,    12.73,2,     0.14,2,     1.21,2, -999.000,9, -999.000,9,  -999.00,9,   -999.0,9,   -999.0,9,-999.0000,9,   -999.0,  9,  -999.00,9,   -999.0,  -999.00,9,  -999.00,9,  -999.00,9,  -999.00,9,   -999.0,-999.0000, -999,9,   26,   8.9888,  25.7374,   -999.0,9
       RF02-06,  165E,RF-1745,  1,     19,02-17875,2,20020712,0914, 44.9987, 165.0035, 5908,     50.6,   5.3119,  33.4236,2,   -999.0,9,-999.0000,9,    320.2,2,    26.87,2,  -999.00,9,    15.74,2,     0.42,2,     1.33,2, -999.000,9, -999.000,9,  -999.00,9,   -999.0,9,   -999.0,9,-999.0000,9,   -999.0,  9,  -999.00,9,   -999.0,  -999.00,9,  -999.00,9,  -999.00,9,  -999.00,9,   -999.0,-999.0000, -999,9,   50,   5.3080,  26.3903,   -999.0,9
       RF02-06,  165E,RF-1745,  1,     18,02-12830,2,20020712,0913, 44.9987, 165.0035, 5908,     77.0,   5.3587,  33.5411,2,   -999.0,9,-999.0000,9,    300.8,2,    27.08,2,  -999.00,9,    17.05,2,     0.03,2,     1.35,2, -999.000,9, -999.000,9,  -999.00,9,   -999.0,9,   -999.0,9,-999.0000,9,   -999.0,  9,  -999.00,9,   -999.0,  -999.00,9,  -999.00,9,  -999.00,9,  -999.00,9,   -999.0,-999.0000, -999,9,   76,   5.3527,  26.4781,   -999.0,9
       RF02-06,  165E,RF-1745,  1,     17,02-17874,2,20020712,0912, 44.9987, 165.0035, 5908,    101.9,   5.5058,  33.6175,2,   -999.0,9,  33.6027,4,    296.7,2,    26.14,2,  -999.00,9,    16.53,2,     0.01,2,     1.25,2, -999.000,9, -999.000,9,  -999.00,9,   -999.0,9,   -999.0,9,-999.0000,9,   -999.0,  9,  -999.00,9,   -999.0,  -999.00,9,  -999.00,9,  -999.00,9,  -999.00,9,   -999.0,-999.0000, -999,9,  101,   5.4978,  26.5214,   -999.0,9
       RF02-06,  165E,RF-1745,  1,     16,02-12818,2,20020712,0911, 44.9987, 165.0035, 5908,    127.4,   4.9958,  33.5743,2,   -999.0,9,-999.0000,9,    287.4,2,    30.23,2,  -999.00,9,    18.53,2,     0.01,2,     1.42,2, -999.000,9, -999.000,9,  -999.00,9,   -999.0,9,   -999.0,9,-999.0000,9,   -999.0,  9,  -999.00,9,   -999.0,  -999.00,9,  -999.00,9,  -999.00,9,  -999.00,9,   -999.0,-999.0000, -999,9,  126,   4.9862,  26.5466,   -999.0,9
       RF02-06,  165E,RF-1745,  1,     15,02-12809,2,20020712,0910, 44.9987, 165.0035, 5908,    151.9,   5.0953,  33.6616,2,   -999.0,9,-999.0000,9,    257.7,2,    36.80,2,  -999.00,9,    21.03,2,     0.01,2,     1.61,2, -999.000,9, -999.000,9,  -999.00,9,   -999.0,9,   -999.0,9,-999.0000,9,   -999.0,  9,  -999.00,9,   -999.0,  -999.00,9,  -999.00,9,  -999.00,9,  -999.00,9,   -999.0,-999.0000, -999,9,  151,   5.0837,  26.6047,   -999.0,9
       RF02-06,  165E,RF-1745,  1,     14,02-12817,2,20020712,0908, 44.9987, 165.0035, 5908,    202.2,   4.4312,  33.7259,2,   -999.0,9,  33.7245,2,    195.5,2,    54.35,2,  -999.00,9,    27.91,2,     0.01,2,     2.08,2, -999.000,9, -999.000,9,  -999.00,9,   -999.0,9,   -999.0,9,-999.0000,9,   -999.0,  9,  -999.00,9,   -999.0,  -999.00,9,  -999.00,9,  -999.00,9,  -999.00,9,   -999.0,-999.0000, -999,9,  201,   4.4167,  26.7293,   -999.0,9
       RF02-06,  165E,RF-1745,  1,     13,02-15822,2,20020712,0906, 44.9987, 165.0035, 5908,    252.6,   4.1070,  33.7743,2,   -999.0,9,-999.0000,9,    152.8,2,    67.40,2,  -999.00,9,    31.91,2,     0.00,2,     2.43,2, -999.000,9, -999.000,9,  -999.00,9,   -999.0,9,   -999.0,9,-999.0000,9,   -999.0,  9,  -999.00,9,   -999.0,  -999.00,9,  -999.00,9,  -999.00,9,  -999.00,9,   -999.0,-999.0000, -999,9,  250,   4.0894,  26.8020,   -999.0,9
       RF02-06,  165E,RF-1745,  1,     12,02-12808,2,20020712,0905, 44.9987, 165.0035, 5908,    302.4,   3.8596,  33.8290,2,   -999.0,9,  33.8382,4,    118.4,2,    78.71,2,  -999.00,9,    35.15,2,     0.00,2,     2.65,2, -999.000,9, -999.000,9,  -999.00,9,   -999.0,9,   -999.0,9,-999.0000,9,   -999.0,  9,  -999.00,9,   -999.0,  -999.00,9,  -999.00,9,  -999.00,9,  -999.00,9,   -999.0,-999.0000, -999,9,  300,   3.8391,  26.8709,   -999.0,9
       RF02-06,  165E,RF-1745,  1,     11,02-17873,2,20020712,0902, 44.9987, 165.0035, 5908,    402.9,   3.7565,  33.9702,2,   -999.0,9,  33.9617,2,     71.3,2,    95.35,2,  -999.00,9,    39.30,2,     0.00,2,     2.93,2, -999.000,9, -999.000,9,  -999.00,9,   -999.0,9,   -999.0,9,-999.0000,9,   -999.0,  9,  -999.00,9,   -999.0,  -999.00,9,  -999.00,9,  -999.00,9,  -999.00,9,   -999.0,-999.0000, -999,9,  399,   3.7290,  26.9942,   -999.0,9
       RF02-06,  165E,RF-1745,  1,     10,02-12820,2,20020712,0900, 44.9987, 165.0035, 5908,    504.3,   3.8686,  34.1080,2,   -999.0,9,  34.1079,2,     49.0,2,   105.49,2,  -999.00,9,    40.50,2,     0.00,2,     3.02,2, -999.000,9, -999.000,9,  -999.00,9,   -999.0,9,   -999.0,9,-999.0000,9,   -999.0,  9,  -999.00,9,   -999.0,  -999.00,9,  -999.00,9,  -999.00,9,  -999.00,9,   -999.0,-999.0000, -999,9,  500,   3.8332,  27.0935,   -999.0,9
       RF02-06,  165E,RF-1745,  1,      9,02-12810,2,20020712,0857, 44.9987, 165.0035, 5908,    605.0,   3.5735,  34.1779,2,   -999.0,9,  34.1648,4,     38.6,2,   116.08,2,  -999.00,9,    41.62,2,     0.00,2,     3.10,2, -999.000,9, -999.000,9,  -999.00,9,   -999.0,9,   -999.0,9,-999.0000,9,   -999.0,  9,  -999.00,9,   -999.0,  -999.00,9,  -999.00,9,  -999.00,9,  -999.00,9,   -999.0,-999.0000, -999,9,  599,   3.5319,  27.1789,   -999.0,9
       RF02-06,  165E,RF-1745,  1,      8,02-12819,2,20020712,0855, 44.9987, 165.0035, 5908,    705.4,   3.4513,  34.2568,2,   -999.0,9,  34.2553,2,     34.4,2,   123.36,2,  -999.00,9,    41.88,2,     0.00,2,     3.12,2, -999.000,9, -999.000,9,  -999.00,9,   -999.0,9,   -999.0,9,-999.0000,9,   -999.0,  9,  -999.00,9,   -999.0,  -999.00,9,  -999.00,9,  -999.00,9,  -999.00,9,   -999.0,-999.0000, -999,9,  698,   3.4029,  27.2542,   -999.0,9
       RF02-06,  165E,RF-1745,  1,      7,02-15821,2,20020712,0853, 44.9987, 165.0035, 5908,    805.9,   3.1617,  34.3060,2,   -999.0,9,  34.3023,2,     29.8,2,   131.82,2,  -999.00,9,    42.33,2,     0.00,2,     3.15,2, -999.000,9, -999.000,9,  -999.00,9,   -999.0,9,   -999.0,9,-999.0000,9,   -999.0,  9,  -999.00,9,   -999.0,  -999.00,9,  -999.00,9,  -999.00,9,  -999.00,9,   -999.0,-999.0000, -999,9,  798,   3.1074,  27.3212,   -999.0,9
       RF02-06,  165E,RF-1745,  1,      6,02-17872,2,20020712,0850, 44.9987, 165.0035, 5908,    907.5,   2.9901,  34.3443,2,   -999.0,9,-999.0000,9,     28.4,2,   137.88,2,  -999.00,9,    42.57,2,     0.00,2,     3.17,2, -999.000,9, -999.000,9,  -999.00,9,   -999.0,9,   -999.0,9,-999.0000,9,   -999.0,  9,  -999.00,9,   -999.0,  -999.00,9,  -999.00,9,  -999.00,9,  -999.00,9,   -999.0,-999.0000, -999,9,  898,   2.9295,  27.3681,   -999.0,9
       RF02-06,  165E,RF-1745,  1,      5,02-10155,2,20020712,0848, 44.9987, 165.0035, 5908,   1008.1,   2.8259,  34.3846,2,   -999.0,9,  34.3834,2,     28.6,2,   143.11,2,  -999.00,9,    42.63,2,     0.00,2,     3.13,2, -999.000,9, -999.000,9,  -999.00,9,   -999.0,9,   -999.0,9,-999.0000,9,   -999.0,  9,  -999.00,9,   -999.0,  -999.00,9,  -999.00,9,  -999.00,9,  -999.00,9,   -999.0,-999.0000, -999,9,  998,   2.7589,  27.4154,   -999.0,9
       RF02-06,  165E,RF-1745,  1,      4,02-13579,2,20020712,0843, 44.9987, 165.0035, 5908,   1260.8,   2.4983,  34.4580,2,   -999.0,9,  34.4556,2,     34.5,2,   152.06,2,  -999.00,9,    42.62,2,     0.00,2,     3.09,2, -999.000,9, -999.000,9,  -999.00,9,   -999.0,9,   -999.0,9,-999.0000,9,   -999.0,  9,  -999.00,9,   -999.0,  -999.00,9,  -999.00,9,  -999.00,9,  -999.00,9,   -999.0,-999.0000, -999,9, 1247,   2.4151,  27.5036,   -999.0,9
       RF02-06,  165E,RF-1745,  1,      3,02-13590,2,20020712,0839, 44.9987, 165.0035, 5908,   1515.7,   2.2621,  34.5108,2,   -999.0,9,  34.5114,2,     41.1,2,   158.80,2,  -999.00,9,    42.34,2,     0.00,2,     3.08,2, -999.000,9, -999.000,9,  -999.00,9,   -999.0,9,   -999.0,9,-999.0000,9,   -999.0,  9,  -999.00,9,   -999.0,  -999.00,9,  -999.00,9,  -999.00,9,  -999.00,9,   -999.0,-999.0000, -999,9, 1498,   2.1618,  27.5668,   -999.0,9
       RF02-06,  165E,RF-1745,  1,      2,02-12827,2,20020712,0834, 44.9987, 165.0035, 5908,   1767.2,   2.0669,  34.5560,2,   -999.0,9,  34.5572,2,     51.3,2,   162.18,2,  -999.00,9,    41.75,2,     0.00,2,     3.02,2, -999.000,9, -999.000,9,  -999.00,9,   -999.0,9,   -999.0,9,-999.0000,9,   -999.0,  9,  -999.00,9,   -999.0,  -999.00,9,  -999.00,9,  -999.00,9,  -999.00,9,   -999.0,-999.0000, -999,9, 1745,   1.9489,  27.6200,   -999.0,9
       RF02-06,  165E,RF-1745,  1,      1,02-17871,2,20020712,0829, 44.9987, 165.0035, 5908,   2044.7,   1.9108,  34.5917,2,   -999.0,9,  34.5918,2,   -999.0,9,   162.57,2,  -999.00,9,    40.84,2,     0.00,2,     2.91,2, -999.000,9, -999.000,9,  -999.00,9,   -999.0,9,   -999.0,9,-999.0000,9,   -999.0,  9,  -999.00,9,   -999.0,  -999.00,9,  -999.00,9,  -999.00,9,  -999.00,9,   -999.0,-999.0000, -999,9, 2018,   1.7722,  27.6622,   -999.0,9