BOTTLE,20130510GEMDJMAYT
EXPOCODE,SECT_ID,STNNBR,CASTNO,SAMPNO,BTLNBR,BTLNBR_FLAG_W,DATE,TIME,LATITUDE,LONGITUDE,DEPTH,CTDPRS,CTDTMP,CTDSAL,CTDSAL_FLAG_W,CTDOXY,CTDOXY_FLAG_W,SALNTY,SALNTY_FLAG_W,OXYGEN,OXYGEN_FLAG_W,SILCAT,SILCAT_FLAG_W,NITRAT,NITRAT_FLAG_W,NO2+NO3,NO2+NO3_FLAG_W,NITRIT,NITRIT_FLAG_W,PHSPHT,PHSPHT_FLAG_W,CFC-11,CFC-11_FLAG_W,CFC-12,CFC-12_FLAG_W,DELC13,DELC13_FLAG_W,TCARBN,TCARBN_FLAG_W,ALKALI,ALKALI_FLAG_W,PH,PH_FLAG_W,PH_TMP,PH_SCALE,PH_NBS,PH_NBS_FLAG_W,C13ERR,TOTALP,TOTALP_FLAG_W,AMMONI,AMMONI_FLAG_W,CHLORA,CHLORA_FLAG_W,PPHYTN,PPHYTN_FLAG_W,REVPRS,REVTMP,DEPTH_,DEPTH_FLAG,CTDDEP,THETA,SIGTHT,DOC,DOC_FLAG_W
,,,,,,,GMT,GMT,,,METER,DBAR,ITS-90,PSS-78,,UMOL/KG,,PSS-78,,UMOL/KG,,UMOL/KG,,UMOL/KG,,UMOL/KG,,UMOL/KG,,UMOL/KG,,PMOL/KG,,PMOL/KG,,/MILLE,,UMOL/KG,,UMOL/KG,,25_DEG_C,,DEG_C,,,,/MILLE,UMOL/KG,,UMOL/KG,,UG/L,,UG/L,,DBAR,ITS-90,METERS,,METERS,DEG_C,,UMOL/L,
       RF02-06,  NONE,RF-1702,  1,     -9,      -9,5,20020627,1119, 35.0177, 146.9848, 5954,      0.0,  22.2674,  34.5505,2,   -999.0,9,-999.0000,9,    221.9,2,     1.47,2,  -999.00,9,     0.05,2,     0.00,2,     0.02,2, -999.000,9, -999.000,9,  -999.00,9,   -999.0,9,   -999.0,9,-999.0000,9,   -999.0,  9,  -999.00,9,   -999.0,  -999.00,9,  -999.00,9,  -999.00,9,  -999.00,9,   -999.0,-999.0000, -999,9,    0,  22.2674,  23.8013,   -999.0,9
       RF02-06,  NONE,RF-1702,  1,     21,02-12826,2,20020627,1116, 35.0177, 146.9848, 5954,     11.8,  22.2675,  34.5544,2,   -999.0,9,-999.0000,9,    220.5,2,     1.50,2,  -999.00,9,     0.03,2,     0.00,2,  -999.00,4, -999.000,9, -999.000,9,  -999.00,9,   -999.0,9,   -999.0,9,-999.0000,9,   -999.0,  9,  -999.00,9,   -999.0,  -999.00,9,  -999.00,9,  -999.00,9,  -999.00,9,   -999.0,-999.0000, -999,9,   12,  22.2651,  23.8049,   -999.0,9
       RF02-06,  NONE,RF-1702,  1,     20,02-12821,2,20020627,1115, 35.0177, 146.9848, 5954,     25.8,  19.9847,  34.2751,2,   -999.0,9,-999.0000,9,    231.4,2,     1.98,2,  -999.00,9,     0.28,2,     0.02,2,     0.06,2, -999.000,9, -999.000,9,  -999.00,9,   -999.0,9,   -999.0,9,-999.0000,9,   -999.0,  9,  -999.00,9,   -999.0,  -999.00,9,  -999.00,9,  -999.00,9,  -999.00,9,   -999.0,-999.0000, -999,9,   26,  19.9800,  24.2142,   -999.0,9
       RF02-06,  NONE,RF-1702,  1,     19,02-17875,2,20020627,1114, 35.0177, 146.9848, 5954,     51.4,  17.8941,  34.6005,2,   -999.0,9,-999.0000,9,    212.5,2,     6.51,2,  -999.00,9,     4.30,2,     0.51,2,     0.28,2, -999.000,9, -999.000,9,  -999.00,9,   -999.0,9,   -999.0,9,-999.0000,9,   -999.0,  9,  -999.00,9,   -999.0,  -999.00,9,  -999.00,9,  -999.00,9,  -999.00,9,   -999.0,-999.0000, -999,9,   51,  17.8853,  24.9942,   -999.0,9
       RF02-06,  NONE,RF-1702,  1,     18,02-12830,2,20020627,1113, 35.0177, 146.9848, 5954,     75.9,  16.3102,  34.6243,2,   -999.0,9,-999.0000,9,    185.0,2,    12.99,2,  -999.00,9,     9.56,2,     0.03,2,     0.61,2, -999.000,9, -999.000,9,  -999.00,9,   -999.0,9,   -999.0,9,-999.0000,9,   -999.0,  9,  -999.00,9,   -999.0,  -999.00,9,  -999.00,9,  -999.00,9,  -999.00,9,   -999.0,-999.0000, -999,9,   75,  16.2981,  25.3902,   -999.0,9
       RF02-06,  NONE,RF-1702,  1,     17,02-17874,2,20020627,1112, 35.0177, 146.9848, 5954,    102.2,  15.2336,  34.6035,2,   -999.0,9,  34.6133,2,    180.2,2,    14.21,2,  -999.00,9,    11.01,2,     0.01,2,     0.70,2, -999.000,9, -999.000,9,  -999.00,9,   -999.0,9,   -999.0,9,-999.0000,9,   -999.0,  9,  -999.00,9,   -999.0,  -999.00,9,  -999.00,9,  -999.00,9,  -999.00,9,   -999.0,-999.0000, -999,9,  101,  15.2180,  25.6182,   -999.0,9
       RF02-06,  NONE,RF-1702,  1,     16,02-12818,2,20020627,1110, 35.0177, 146.9848, 5954,    127.5,  14.3892,  34.5495,2,   -999.0,9,-999.0000,9,    177.8,2,    16.73,2,  -999.00,9,    12.50,2,     0.01,2,     0.80,2, -999.000,9, -999.000,9,  -999.00,9,   -999.0,9,   -999.0,9,-999.0000,9,   -999.0,  9,  -999.00,9,   -999.0,  -999.00,9,  -999.00,9,  -999.00,9,  -999.00,9,   -999.0,-999.0000, -999,9,  127,  14.3705,  25.7606,   -999.0,9
       RF02-06,  NONE,RF-1702,  1,     15,02-12809,2,20020627,1109, 35.0177, 146.9848, 5954,    151.3,  12.9973,  34.4538,2,   -999.0,9,-999.0000,9,    182.2,2,    21.08,2,  -999.00,9,    14.36,2,     0.01,2,     0.96,2, -999.000,9, -999.000,9,  -999.00,9,   -999.0,9,   -999.0,9,-999.0000,9,   -999.0,  9,  -999.00,9,   -999.0,  -999.00,9,  -999.00,9,  -999.00,9,  -999.00,9,   -999.0,-999.0000, -999,9,  150,  12.9766,  25.9744,   -999.0,9
       RF02-06,  NONE,RF-1702,  1,     14,02-12817,2,20020627,1107, 35.0177, 146.9848, 5954,    202.5,  10.9705,  34.3908,2,   -999.0,9,  34.3907,2,    151.7,2,    35.37,2,  -999.00,9,    20.68,2,     0.00,2,     1.42,2, -999.000,9, -999.000,9,  -999.00,9,   -999.0,9,   -999.0,9,-999.0000,9,   -999.0,  9,  -999.00,9,   -999.0,  -999.00,9,  -999.00,9,  -999.00,9,  -999.00,9,   -999.0,-999.0000, -999,9,  201,  10.9458,  26.3108,   -999.0,9
       RF02-06,  NONE,RF-1702,  1,     13,02-15822,2,20020627,1106, 35.0177, 146.9848, 5954,    252.2,   7.9069,  33.9302,2,   -999.0,9,-999.0000,9,    228.4,2,    27.03,2,  -999.00,9,    16.47,2,     0.00,2,     1.17,2, -999.000,9, -999.000,9,  -999.00,9,   -999.0,9,   -999.0,9,-999.0000,9,   -999.0,  9,  -999.00,9,   -999.0,  -999.00,9,  -999.00,9,  -999.00,9,  -999.00,9,   -999.0,-999.0000, -999,9,  250,   7.8818,  26.4510,   -999.0,9
       RF02-06,  NONE,RF-1702,  1,     12,02-12808,2,20020627,1104, 35.0177, 146.9848, 5954,    303.3,   6.6783,  33.8822,2,   -999.0,9,  33.8945,2,    202.4,2,    41.27,2,  -999.00,9,    22.41,2,     0.00,2,     1.61,2, -999.000,9, -999.000,9,  -999.00,9,   -999.0,9,   -999.0,9,-999.0000,9,   -999.0,  9,  -999.00,9,   -999.0,  -999.00,9,  -999.00,9,  -999.00,9,  -999.00,9,   -999.0,-999.0000, -999,9,  301,   6.6509,  26.5853,   -999.0,9
       RF02-06,  NONE,RF-1702,  1,     11,02-17873,2,20020627,1101, 35.0177, 146.9848, 5954,    404.0,   6.1628,  34.1177,2,   -999.0,9,  34.1232,2,    119.9,2,    68.99,2,  -999.00,9,    31.68,2,     0.00,2,     2.26,2, -999.000,9, -999.000,9,  -999.00,9,   -999.0,9,   -999.0,9,-999.0000,9,   -999.0,  9,  -999.00,9,   -999.0,  -999.00,9,  -999.00,9,  -999.00,9,  -999.00,9,   -999.0,-999.0000, -999,9,  401,   6.1276,  26.8392,   -999.0,9
       RF02-06,  NONE,RF-1702,  1,     10,02-12820,2,20020627,1059, 35.0177, 146.9848, 5954,    505.1,   4.5381,  34.0912,2,   -999.0,9,  34.0784,4,     89.8,2,    89.19,2,  -999.00,9,    36.76,2,     0.00,2,     2.66,2, -999.000,9, -999.000,9,  -999.00,9,   -999.0,9,   -999.0,9,-999.0000,9,   -999.0,  9,  -999.00,9,   -999.0,  -999.00,9,  -999.00,9,  -999.00,9,  -999.00,9,   -999.0,-999.0000, -999,9,  501,   4.5000,  27.0105,   -999.0,9
       RF02-06,  NONE,RF-1702,  1,      9,02-12810,2,20020627,1056, 35.0177, 146.9848, 5954,    605.0,   4.2954,  34.2093,2,   -999.0,9,  34.2096,2,     63.0,2,   103.92,2,  -999.00,9,    39.09,2,     0.00,2,     2.83,2, -999.000,9, -999.000,9,  -999.00,9,   -999.0,9,   -999.0,9,-999.0000,9,   -999.0,  9,  -999.00,9,   -999.0,  -999.00,9,  -999.00,9,  -999.00,9,  -999.00,9,   -999.0,-999.0000, -999,9,  600,   4.2503,  27.1310,   -999.0,9
       RF02-06,  NONE,RF-1702,  1,      8,02-12819,2,20020627,1053, 35.0177, 146.9848, 5954,    706.8,   4.0597,  34.3031,2,   -999.0,9,  34.3019,2,     57.8,2,   112.65,2,  -999.00,9,    39.73,2,     0.00,2,     2.86,2, -999.000,9, -999.000,9,  -999.00,9,   -999.0,9,   -999.0,9,-999.0000,9,   -999.0,  9,  -999.00,9,   -999.0,  -999.00,9,  -999.00,9,  -999.00,9,  -999.00,9,   -999.0,-999.0000, -999,9,  701,   4.0077,  27.2310,   -999.0,9
       RF02-06,  NONE,RF-1702,  1,      7,02-15821,2,20020627,1051, 35.0177, 146.9848, 5954,    807.4,   3.5526,  34.3235,2,   -999.0,9,  34.3231,2,     49.0,2,   123.61,2,  -999.00,9,    41.15,2,     0.00,2,     2.98,2, -999.000,9, -999.000,9,  -999.00,9,   -999.0,9,   -999.0,9,-999.0000,9,   -999.0,  9,  -999.00,9,   -999.0,  -999.00,9,  -999.00,9,  -999.00,9,  -999.00,9,   -999.0,-999.0000, -999,9,  800,   3.4958,  27.2984,   -999.0,9
       RF02-06,  NONE,RF-1702,  1,      6,02-17872,2,20020627,1048, 35.0177, 146.9848, 5954,    906.8,   3.3684,  34.3845,2,   -999.0,9,-999.0000,9,     51.5,2,   127.84,2,  -999.00,9,    41.11,2,     0.00,2,     2.97,2, -999.000,9, -999.000,9,  -999.00,9,   -999.0,9,   -999.0,9,-999.0000,9,   -999.0,  9,  -999.00,9,   -999.0,  -999.00,9,  -999.00,9,  -999.00,9,  -999.00,9,   -999.0,-999.0000, -999,9,  898,   3.3051,  27.3654,   -999.0,9
       RF02-06,  NONE,RF-1702,  1,      5,02-10155,2,20020627,1045, 35.0177, 146.9848, 5954,   1011.3,   3.0377,  34.4082,2,   -999.0,9,  34.4076,2,     43.5,2,   136.77,2,  -999.00,9,    41.89,2,     0.00,2,     3.03,2, -999.000,9, -999.000,9,  -999.00,9,   -999.0,9,   -999.0,9,-999.0000,9,   -999.0,  9,  -999.00,9,   -999.0,  -999.00,9,  -999.00,9,  -999.00,9,  -999.00,9,   -999.0,-999.0000, -999,9, 1002,   2.9689,  27.4155,   -999.0,9
       RF02-06,  NONE,RF-1702,  1,      4,02-13579,2,20020627,1039, 35.0177, 146.9848, 5954,   1263.9,   2.5641,  34.4820,2,   -999.0,9,  34.4809,2,     45.4,2,   148.51,2,  -999.00,9,    42.28,2,     0.00,2,     3.04,2, -999.000,9, -999.000,9,  -999.00,9,   -999.0,9,   -999.0,9,-999.0000,9,   -999.0,  9,  -999.00,9,   -999.0,  -999.00,9,  -999.00,9,  -999.00,9,  -999.00,9,   -999.0,-999.0000, -999,9, 1251,   2.4801,  27.5174,   -999.0,9
       RF02-06,  NONE,RF-1702,  1,      3,02-13590,2,20020627,1033, 35.0177, 146.9848, 5954,   1518.3,   2.2064,  34.5489,2,   -999.0,9,  34.5486,2,     60.0,2,   154.84,2,  -999.00,9,    41.62,2,     0.00,2,     2.96,2, -999.000,9, -999.000,9,  -999.00,9,   -999.0,9,   -999.0,9,-999.0000,9,   -999.0,  9,  -999.00,9,   -999.0,  -999.00,9,  -999.00,9,  -999.00,9,  -999.00,9,   -999.0,-999.0000, -999,9, 1502,   2.1064,  27.6018,   -999.0,9
       RF02-06,  NONE,RF-1702,  1,      2,02-12827,2,20020627,1028, 35.0177, 146.9848, 5954,   1770.5,   1.9783,  34.5875,2,   -999.0,9,  34.5865,2,     71.8,2,   158.37,2,  -999.00,9,    41.09,2,     0.00,2,     2.91,2, -999.000,9, -999.000,9,  -999.00,9,   -999.0,9,   -999.0,9,-999.0000,9,   -999.0,  9,  -999.00,9,   -999.0,  -999.00,9,  -999.00,9,  -999.00,9,  -999.00,9,   -999.0,-999.0000, -999,9, 1750,   1.8611,  27.6520,   -999.0,9
       RF02-06,  NONE,RF-1702,  1,      1,02-17871,2,20020627,1022, 35.0177, 146.9848, 5954,   2045.2,   1.8037,  34.6181,2,   -999.0,9,  34.6172,2,     90.5,2,   157.86,2,  -999.00,9,    40.04,2,     0.00,2,     2.82,2, -999.000,9, -999.000,9,  -999.00,9,   -999.0,9,   -999.0,9,-999.0000,9,   -999.0,  9,  -999.00,9,   -999.0,  -999.00,9,  -999.00,9,  -999.00,9,  -999.00,9,   -999.0,-999.0000, -999,9, 2021,   1.6665,  27.6914,   -999.0,9