BOTTLE,20130510GEMDJMAYT
EXPOCODE,SECT_ID,STNNBR,CASTNO,SAMPNO,BTLNBR,BTLNBR_FLAG_W,DATE,TIME,LATITUDE,LONGITUDE,DEPTH,CTDPRS,CTDTMP,CTDSAL,CTDSAL_FLAG_W,CTDOXY,CTDOXY_FLAG_W,SALNTY,SALNTY_FLAG_W,OXYGEN,OXYGEN_FLAG_W,SILCAT,SILCAT_FLAG_W,NITRAT,NITRAT_FLAG_W,NO2+NO3,NO2+NO3_FLAG_W,NITRIT,NITRIT_FLAG_W,PHSPHT,PHSPHT_FLAG_W,CFC-11,CFC-11_FLAG_W,CFC-12,CFC-12_FLAG_W,DELC13,DELC13_FLAG_W,TCARBN,TCARBN_FLAG_W,ALKALI,ALKALI_FLAG_W,PH,PH_FLAG_W,PH_TMP,PH_SCALE,PH_NBS,PH_NBS_FLAG_W,C13ERR,TOTALP,TOTALP_FLAG_W,AMMONI,AMMONI_FLAG_W,CHLORA,CHLORA_FLAG_W,PPHYTN,PPHYTN_FLAG_W,REVPRS,REVTMP,DEPTH_,DEPTH_FLAG,CTDDEP,THETA,SIGTHT,DOC,DOC_FLAG_W
,,,,,,,GMT,GMT,,,METER,DBAR,ITS-90,PSS-78,,UMOL/KG,,PSS-78,,UMOL/KG,,UMOL/KG,,UMOL/KG,,UMOL/KG,,UMOL/KG,,UMOL/KG,,PMOL/KG,,PMOL/KG,,/MILLE,,UMOL/KG,,UMOL/KG,,25_DEG_C,,DEG_C,,,,/MILLE,UMOL/KG,,UMOL/KG,,UG/L,,UG/L,,DBAR,ITS-90,METERS,,METERS,DEG_C,,UMOL/L,
       RF02-06,  NONE,RF-1716,  1,     -9,      -9,5,20020629,1728, 38.9997, 143.9893, 5559,      0.0,  16.1931,  33.9673,2,   -999.0,9,-999.0000,9,    266.9,2,     2.42,2,  -999.00,9,     0.00,2,     0.00,2,     0.07,2, -999.000,9, -999.000,9,  -999.00,9,   -999.0,9,   -999.0,9,-999.0000,9,   -999.0,  9,  -999.00,9,   -999.0,  -999.00,9,  -999.00,9,  -999.00,9,  -999.00,9,   -999.0,-999.0000, -999,9,    0,  16.1931,  24.9093,   -999.0,9
       RF02-06,  NONE,RF-1716,  1,     21,02-12826,2,20020629,1726, 38.9997, 143.9893, 5559,     10.8,  15.9899,  34.0591,2,   -999.0,9,-999.0000,9,    269.5,2,     3.15,2,  -999.00,9,     0.00,2,     0.00,2,     0.07,2, -999.000,9, -999.000,9,  -999.00,9,   -999.0,9,   -999.0,9,-999.0000,9,   -999.0,  9,  -999.00,9,   -999.0,  -999.00,9,  -999.00,9,  -999.00,9,  -999.00,9,   -999.0,-999.0000, -999,9,   11,  15.9882,  25.0265,   -999.0,9
       RF02-06,  NONE,RF-1716,  1,     20,02-12821,2,20020629,1725, 38.9997, 143.9893, 5559,     26.1,  14.9026,  33.9864,2,   -999.0,9,-999.0000,9,    265.8,2,     4.09,2,  -999.00,9,     1.09,2,     0.05,2,     0.16,2, -999.000,9, -999.000,9,  -999.00,9,   -999.0,9,   -999.0,9,-999.0000,9,   -999.0,  9,  -999.00,9,   -999.0,  -999.00,9,  -999.00,9,  -999.00,9,  -999.00,9,   -999.0,-999.0000, -999,9,   26,  14.8987,  25.2126,   -999.0,9
       RF02-06,  NONE,RF-1716,  1,     19,02-17875,2,20020629,1723, 38.9997, 143.9893, 5559,     51.5,  12.6868,  34.2558,2,   -999.0,9,-999.0000,9,    222.2,2,    13.11,2,  -999.00,9,     9.61,2,     0.22,2,     0.69,2, -999.000,9, -999.000,9,  -999.00,9,   -999.0,9,   -999.0,9,-999.0000,9,   -999.0,  9,  -999.00,9,   -999.0,  -999.00,9,  -999.00,9,  -999.00,9,  -999.00,9,   -999.0,-999.0000, -999,9,   51,  12.6800,  25.8797,   -999.0,9
       RF02-06,  NONE,RF-1716,  1,     18,02-12830,2,20020629,1722, 38.9997, 143.9893, 5559,     76.9,  11.2124,  34.1786,2,   -999.0,9,-999.0000,9,    236.6,2,    12.52,2,  -999.00,9,     9.45,2,     0.04,2,     0.69,2, -999.000,9, -999.000,9,  -999.00,9,   -999.0,9,   -999.0,9,-999.0000,9,   -999.0,  9,  -999.00,9,   -999.0,  -999.00,9,  -999.00,9,  -999.00,9,  -999.00,9,   -999.0,-999.0000, -999,9,   76,  11.2029,  26.0991,   -999.0,9
       RF02-06,  NONE,RF-1716,  1,     17,02-17874,2,20020629,1721, 38.9997, 143.9893, 5559,    101.8,  10.4117,  34.1149,2,   -999.0,9,  34.1267,2,    234.0,2,    14.67,2,  -999.00,9,    10.43,2,     0.00,2,     0.76,2, -999.000,9, -999.000,9,  -999.00,9,   -999.0,9,   -999.0,9,-999.0000,9,   -999.0,  9,  -999.00,9,   -999.0,  -999.00,9,  -999.00,9,  -999.00,9,  -999.00,9,   -999.0,-999.0000, -999,9,  101,  10.3998,  26.1922,   -999.0,9
       RF02-06,  NONE,RF-1716,  1,     16,02-12818,2,20020629,1720, 38.9997, 143.9893, 5559,    127.2,  10.4951,  34.2402,2,   -999.0,9,-999.0000,9,    225.0,2,    23.22,2,  -999.00,9,    15.08,2,     0.00,2,     1.07,2, -999.000,9, -999.000,9,  -999.00,9,   -999.0,9,   -999.0,9,-999.0000,9,   -999.0,  9,  -999.00,9,   -999.0,  -999.00,9,  -999.00,9,  -999.00,9,  -999.00,9,   -999.0,-999.0000, -999,9,  126,  10.4800,  26.2760,   -999.0,9
       RF02-06,  NONE,RF-1716,  1,     15,02-12809,2,20020629,1719, 38.9997, 143.9893, 5559,    152.0,   9.5982,  34.1618,2,   -999.0,9,-999.0000,9,    205.9,2,    28.67,2,  -999.00,9,    17.16,2,     0.00,2,     1.23,2, -999.000,9, -999.000,9,  -999.00,9,   -999.0,9,   -999.0,9,-999.0000,9,   -999.0,  9,  -999.00,9,   -999.0,  -999.00,9,  -999.00,9,  -999.00,9,  -999.00,9,   -999.0,-999.0000, -999,9,  151,   9.5813,  26.3675,   -999.0,9
       RF02-06,  NONE,RF-1716,  1,     14,02-12817,2,20020629,1717, 38.9997, 143.9893, 5559,    202.7,   8.1504,  34.0342,2,   -999.0,9,  34.0282,2,    184.7,2,    39.50,2,  -999.00,9,    21.64,2,     0.00,2,     1.57,2, -999.000,9, -999.000,9,  -999.00,9,   -999.0,9,   -999.0,9,-999.0000,9,   -999.0,  9,  -999.00,9,   -999.0,  -999.00,9,  -999.00,9,  -999.00,9,  -999.00,9,   -999.0,-999.0000, -999,9,  201,   8.1300,  26.4960,   -999.0,9
       RF02-06,  NONE,RF-1716,  1,     13,02-15822,2,20020629,1715, 38.9997, 143.9893, 5559,    253.1,   7.0057,  34.0144,2,   -999.0,9,-999.0000,9,    158.0,2,    51.57,2,  -999.00,9,    26.37,2,     0.00,2,     1.92,2, -999.000,9, -999.000,9,  -999.00,9,   -999.0,9,   -999.0,9,-999.0000,9,   -999.0,  9,  -999.00,9,   -999.0,  -999.00,9,  -999.00,9,  -999.00,9,  -999.00,9,   -999.0,-999.0000, -999,9,  251,   6.9823,  26.6448,   -999.0,9
       RF02-06,  NONE,RF-1716,  1,     12,02-12808,2,20020629,1714, 38.9997, 143.9893, 5559,    302.8,   6.2344,  34.0724,2,   -999.0,9,  34.0737,2,    126.2,2,    64.61,2,  -999.00,9,    30.43,2,     0.00,2,     2.24,2, -999.000,9, -999.000,9,  -999.00,9,   -999.0,9,   -999.0,9,-999.0000,9,   -999.0,  9,  -999.00,9,   -999.0,  -999.00,9,  -999.00,9,  -999.00,9,  -999.00,9,   -999.0,-999.0000, -999,9,  300,   6.2080,  26.7932,   -999.0,9
       RF02-06,  NONE,RF-1716,  1,     11,02-17873,2,20020629,1711, 38.9997, 143.9893, 5559,    403.9,   5.0513,  34.1629,2,   -999.0,9,  34.1654,2,     83.9,2,    88.47,2,  -999.00,9,    35.95,2,     0.00,2,     2.63,2, -999.000,9, -999.000,9,  -999.00,9,   -999.0,9,   -999.0,9,-999.0000,9,   -999.0,  9,  -999.00,9,   -999.0,  -999.00,9,  -999.00,9,  -999.00,9,  -999.00,9,   -999.0,-999.0000, -999,9,  400,   5.0195,  27.0094,   -999.0,9
       RF02-06,  NONE,RF-1716,  1,     10,02-12820,2,20020629,1709, 38.9997, 143.9893, 5559,    504.2,   4.1107,  34.2618,2,   -999.0,9,  34.2610,2,     58.0,2,   109.81,2,  -999.00,9,    39.11,2,     0.00,2,     2.86,2, -999.000,9, -999.000,9,  -999.00,9,   -999.0,9,   -999.0,9,-999.0000,9,   -999.0,  9,  -999.00,9,   -999.0,  -999.00,9,  -999.00,9,  -999.00,9,  -999.00,9,   -999.0,-999.0000, -999,9,  500,   4.0742,  27.1912,   -999.0,9
       RF02-06,  NONE,RF-1716,  1,      9,02-12810,2,20020629,1707, 38.9997, 143.9893, 5559,    605.6,   3.3680,  34.3520,2,   -999.0,9,  34.3504,2,     45.9,2,   127.31,2,  -999.00,9,    40.81,2,     0.00,2,     3.00,2, -999.000,9, -999.000,9,  -999.00,9,   -999.0,9,   -999.0,9,-999.0000,9,   -999.0,  9,  -999.00,9,   -999.0,  -999.00,9,  -999.00,9,  -999.00,9,  -999.00,9,   -999.0,-999.0000, -999,9,  600,   3.3272,  27.3374,   -999.0,9
       RF02-06,  NONE,RF-1716,  1,      8,02-12819,2,20020629,1704, 38.9997, 143.9893, 5559,    705.9,   2.9065,  34.4171,2,   -999.0,9,  34.4168,2,     41.6,2,   138.57,2,  -999.00,9,    41.56,2,     0.00,2,     3.05,2, -999.000,9, -999.000,9,  -999.00,9,   -999.0,9,   -999.0,9,-999.0000,9,   -999.0,  9,  -999.00,9,   -999.0,  -999.00,9,  -999.00,9,  -999.00,9,  -999.00,9,   -999.0,-999.0000, -999,9,  699,   2.8608,  27.4324,   -999.0,9
       RF02-06,  NONE,RF-1716,  1,      7,02-15821,2,20020629,1702, 38.9997, 143.9893, 5559,    807.5,   2.7721,  34.4422,2,   -999.0,9,  34.4408,2,     42.3,2,   141.65,2,  -999.00,9,    41.67,2,     0.00,2,     3.06,2, -999.000,9, -999.000,9,  -999.00,9,   -999.0,9,   -999.0,9,-999.0000,9,   -999.0,  9,  -999.00,9,   -999.0,  -999.00,9,  -999.00,9,  -999.00,9,  -999.00,9,   -999.0,-999.0000, -999,9,  800,   2.7201,  27.4648,   -999.0,9
       RF02-06,  NONE,RF-1716,  1,      6,02-17872,2,20020629,1659, 38.9997, 143.9893, 5559,    908.8,   2.6667,  34.4611,2,   -999.0,9,-999.0000,9,     44.0,2,   144.12,2,  -999.00,9,    41.75,2,     0.00,2,     3.05,2, -999.000,9, -999.000,9,  -999.00,9,   -999.0,9,   -999.0,9,-999.0000,9,   -999.0,  9,  -999.00,9,   -999.0,  -999.00,9,  -999.00,9,  -999.00,9,  -999.00,9,   -999.0,-999.0000, -999,9,  900,   2.6081,  27.4897,   -999.0,9
       RF02-06,  NONE,RF-1716,  1,      5,02-10155,2,20020629,1657, 38.9997, 143.9893, 5559,   1009.7,   2.5740,  34.4776,2,   -999.0,9,  34.4754,2,     44.9,2,   146.32,2,  -999.00,9,    41.83,2,     0.00,2,     3.06,2, -999.000,9, -999.000,9,  -999.00,9,   -999.0,9,   -999.0,9,-999.0000,9,   -999.0,  9,  -999.00,9,   -999.0,  -999.00,9,  -999.00,9,  -999.00,9,  -999.00,9,   -999.0,-999.0000, -999,9, 1000,   2.5088,  27.5114,   -999.0,9
       RF02-06,  NONE,RF-1716,  1,      4,02-13579,2,20020629,1652, 38.9997, 143.9893, 5559,   1262.4,   2.3100,  34.5225,2,   -999.0,9,  34.5216,2,     50.4,2,   152.40,2,  -999.00,9,    41.69,2,     0.00,2,     3.03,2, -999.000,9, -999.000,9,  -999.00,9,   -999.0,9,   -999.0,9,-999.0000,9,   -999.0,  9,  -999.00,9,   -999.0,  -999.00,9,  -999.00,9,  -999.00,9,  -999.00,9,   -999.0,-999.0000, -999,9, 1249,   2.2284,  27.5708,   -999.0,9
       RF02-06,  NONE,RF-1716,  1,      3,02-13590,2,20020629,1647, 38.9997, 143.9893, 5559,   1515.4,   2.1020,  34.5580,2,   -999.0,9,  34.5580,2,     59.0,2,   156.35,2,  -999.00,9,    41.25,2,     0.00,2,     2.98,2, -999.000,9, -999.000,9,  -999.00,9,   -999.0,9,   -999.0,9,-999.0000,9,   -999.0,  9,  -999.00,9,   -999.0,  -999.00,9,  -999.00,9,  -999.00,9,  -999.00,9,   -999.0,-999.0000, -999,9, 1498,   2.0034,  27.6173,   -999.0,9
       RF02-06,  NONE,RF-1716,  1,      2,02-12827,2,20020629,1642, 38.9997, 143.9893, 5559,   1769.7,   1.9685,  34.5886,2,   -999.0,9,  34.5891,2,     74.0,2,   155.82,2,  -999.00,9,    40.52,2,     0.00,2,     2.90,2, -999.000,9, -999.000,9,  -999.00,9,   -999.0,9,   -999.0,9,-999.0000,9,   -999.0,  9,  -999.00,9,   -999.0,  -999.00,9,  -999.00,9,  -999.00,9,  -999.00,9,   -999.0,-999.0000, -999,9, 1749,   1.8515,  27.6537,   -999.0,9
       RF02-06,  NONE,RF-1716,  1,      1,02-17871,2,20020629,1637, 38.9997, 143.9893, 5559,   2044.9,   1.8336,  34.6138,2,   -999.0,9,  34.6125,2,     88.1,2,   155.82,2,  -999.00,9,    39.81,2,     0.00,2,     2.86,2, -999.000,9, -999.000,9,  -999.00,9,   -999.0,9,   -999.0,9,-999.0000,9,   -999.0,  9,  -999.00,9,   -999.0,  -999.00,9,  -999.00,9,  -999.00,9,  -999.00,9,   -999.0,-999.0000, -999,9, 2020,   1.6960,  27.6857,   -999.0,9
       RF02-06,  142E,RF-1719,  1,     -9,      -9,5,20020630,0134, 39.0107, 142.9862, 1630,      0.0,  15.8976,  33.1013,2,   -999.0,9,-999.0000,9,    266.4,2,     0.64,2,  -999.00,9,     0.06,2,     0.00,2,     0.11,2, -999.000,9, -999.000,9,  -999.00,9,   -999.0,9,   -999.0,9,-999.0000,9,   -999.0,  9,  -999.00,9,   -999.0,  -999.00,9,  -999.00,9,  -999.00,9,  -999.00,9,   -999.0,-999.0000, -999,9,    0,  15.8976,  24.3106,   -999.0,9
       RF02-06,  142E,RF-1719,  1,     19,02-17875,2,20020630,0132, 39.0107, 142.9862, 1630,     10.8,  14.7527,  33.4482,2,   -999.0,9,-999.0000,9,    270.9,2,     1.08,2,  -999.00,9,     0.07,2,     0.00,2,     0.06,2, -999.000,9, -999.000,9,  -999.00,9,   -999.0,9,   -999.0,9,-999.0000,9,   -999.0,  9,  -999.00,9,   -999.0,  -999.00,9,  -999.00,9,  -999.00,9,  -999.00,9,   -999.0,-999.0000, -999,9,   11,  14.7511,  24.8294,   -999.0,9
       RF02-06,  142E,RF-1719,  1,     18,02-12830,2,20020630,0131, 39.0107, 142.9862, 1630,     25.6,  12.5291,  33.6487,2,   -999.0,9,-999.0000,9,    282.0,2,     4.86,2,  -999.00,9,     2.46,2,     0.07,2,     0.27,2, -999.000,9, -999.000,9,  -999.00,9,   -999.0,9,   -999.0,9,-999.0000,9,   -999.0,  9,  -999.00,9,   -999.0,  -999.00,9,  -999.00,9,  -999.00,9,  -999.00,9,   -999.0,-999.0000, -999,9,   25,  12.5257,  25.4391,   -999.0,9
       RF02-06,  142E,RF-1719,  1,     17,02-17874,2,20020630,0129, 39.0107, 142.9862, 1630,     50.7,   8.8516,  33.8347,2,   -999.0,9,-999.0000,9,    266.6,2,     8.59,2,  -999.00,9,     7.31,2,     0.03,2,     0.55,2, -999.000,9, -999.000,9,  -999.00,9,   -999.0,9,   -999.0,9,-999.0000,9,   -999.0,  9,  -999.00,9,   -999.0,  -999.00,9,  -999.00,9,  -999.00,9,  -999.00,9,   -999.0,-999.0000, -999,9,   50,   8.8463,  26.2299,   -999.0,9
       RF02-06,  142E,RF-1719,  1,     16,02-12818,2,20020630,0128, 39.0107, 142.9862, 1630,     76.0,   8.1520,  33.8318,2,   -999.0,9,-999.0000,9,    262.0,2,    12.02,2,  -999.00,9,     9.22,2,     0.00,2,     0.67,2, -999.000,9, -999.000,9,  -999.00,9,   -999.0,9,   -999.0,9,-999.0000,9,   -999.0,  9,  -999.00,9,   -999.0,  -999.00,9,  -999.00,9,  -999.00,9,  -999.00,9,   -999.0,-999.0000, -999,9,   75,   8.1444,  26.3349,   -999.0,9
       RF02-06,  142E,RF-1719,  1,     15,02-12809,2,20020630,0127, 39.0107, 142.9862, 1630,    101.3,   7.2490,  33.7754,2,   -999.0,9,-999.0000,9,    257.1,2,    19.64,2,  -999.00,9,    13.21,2,     0.00,2,     0.98,2, -999.000,9, -999.000,9,  -999.00,9,   -999.0,9,   -999.0,9,-999.0000,9,   -999.0,  9,  -999.00,9,   -999.0,  -999.00,9,  -999.00,9,  -999.00,9,  -999.00,9,   -999.0,-999.0000, -999,9,  101,   7.2395,  26.4211,   -999.0,9
       RF02-06,  142E,RF-1719,  1,     14,02-12817,2,20020630,0126, 39.0107, 142.9862, 1630,    125.7,   5.5384,  33.5962,2,   -999.0,9,-999.0000,9,    269.9,2,    28.61,2,  -999.00,9,    17.37,2,     0.00,2,     1.30,2, -999.000,9, -999.000,9,  -999.00,9,   -999.0,9,   -999.0,9,-999.0000,9,   -999.0,  9,  -999.00,9,   -999.0,  -999.00,9,  -999.00,9,  -999.00,9,  -999.00,9,   -999.0,-999.0000, -999,9,  125,   5.5284,  26.5010,   -999.0,9
       RF02-06,  142E,RF-1719,  1,     13,02-15822,2,20020630,0125, 39.0107, 142.9862, 1630,    151.4,   4.4295,  33.5871,2,   -999.0,9,-999.0000,9,    256.5,2,    36.42,2,  -999.00,9,    20.98,2,     0.00,2,     1.56,2, -999.000,9, -999.000,9,  -999.00,9,   -999.0,9,   -999.0,9,-999.0000,9,   -999.0,  9,  -999.00,9,   -999.0,  -999.00,9,  -999.00,9,  -999.00,9,  -999.00,9,   -999.0,-999.0000, -999,9,  150,   4.4187,  26.6189,   -999.0,9
       RF02-06,  142E,RF-1719,  1,     12,02-12808,2,20020630,0123, 39.0107, 142.9862, 1630,    202.0,   3.8717,  33.6676,2,   -999.0,9,-999.0000,9,    194.8,2,    57.85,2,  -999.00,9,    28.90,2,     0.00,2,     2.14,2, -999.000,9, -999.000,9,  -999.00,9,   -999.0,9,   -999.0,9,-999.0000,9,   -999.0,  9,  -999.00,9,   -999.0,  -999.00,9,  -999.00,9,  -999.00,9,  -999.00,9,   -999.0,-999.0000, -999,9,  200,   3.8582,  26.7406,   -999.0,9
       RF02-06,  142E,RF-1719,  1,     11,02-17873,2,20020630,0121, 39.0107, 142.9862, 1630,    252.1,   4.0203,  33.7566,2,   -999.0,9,-999.0000,9,    158.6,2,    68.01,2,  -999.00,9,    32.05,2,     0.00,2,     2.34,2, -999.000,9, -999.000,9,  -999.00,9,   -999.0,9,   -999.0,9,-999.0000,9,   -999.0,  9,  -999.00,9,   -999.0,  -999.00,9,  -999.00,9,  -999.00,9,  -999.00,9,   -999.0,-999.0000, -999,9,  250,   4.0029,  26.7968,   -999.0,9
       RF02-06,  142E,RF-1719,  1,     10,02-12820,2,20020630,0120, 39.0107, 142.9862, 1630,    302.7,   2.8783,  33.7360,2,   -999.0,9,-999.0000,9,    126.2,2,    84.43,2,  -999.00,9,    36.65,2,     0.00,2,     2.71,2, -999.000,9, -999.000,9,  -999.00,9,   -999.0,9,   -999.0,9,-999.0000,9,   -999.0,  9,  -999.00,9,   -999.0,  -999.00,9,  -999.00,9,  -999.00,9,  -999.00,9,   -999.0,-999.0000, -999,9,  300,   2.8601,  26.8885,   -999.0,9
       RF02-06,  142E,RF-1719,  1,      9,02-12810,2,20020630,0117, 39.0107, 142.9862, 1630,    403.6,   3.0929,  33.8921,2,   -999.0,9,-999.0000,9,     76.3,2,    99.43,2,  -999.00,9,    40.02,2,     0.00,2,     2.93,2, -999.000,9, -999.000,9,  -999.00,9,   -999.0,9,   -999.0,9,-999.0000,9,   -999.0,  9,  -999.00,9,   -999.0,  -999.00,9,  -999.00,9,  -999.00,9,  -999.00,9,   -999.0,-999.0000, -999,9,  400,   3.0675,  26.9946,   -999.0,9
       RF02-06,  142E,RF-1719,  1,      8,02-12819,2,20020630,0114, 39.0107, 142.9862, 1630,    504.2,   3.5821,  34.0973,2,   -999.0,9,-999.0000,9,     53.8,2,   108.74,2,  -999.00,9,    40.76,2,     0.00,2,     2.97,2, -999.000,9, -999.000,9,  -999.00,9,   -999.0,9,   -999.0,9,-999.0000,9,   -999.0,  9,  -999.00,9,   -999.0,  -999.00,9,  -999.00,9,  -999.00,9,  -999.00,9,   -999.0,-999.0000, -999,9,  500,   3.5479,  27.1132,   -999.0,9
       RF02-06,  142E,RF-1719,  1,      7,02-15821,2,20020630,0112, 39.0107, 142.9862, 1630,    605.2,   3.6702,  34.2349,2,   -999.0,9,-999.0000,9,     46.2,2,   116.51,2,  -999.00,9,    40.94,2,     0.00,2,     2.99,2, -999.000,9, -999.000,9,  -999.00,9,   -999.0,9,   -999.0,9,-999.0000,9,   -999.0,  9,  -999.00,9,   -999.0,  -999.00,9,  -999.00,9,  -999.00,9,  -999.00,9,   -999.0,-999.0000, -999,9,  600,   3.6281,  27.2150,   -999.0,9
       RF02-06,  142E,RF-1719,  1,      6,02-17872,2,20020630,0109, 39.0107, 142.9862, 1630,    707.3,   3.0689,  34.2512,2,   -999.0,9,-999.0000,9,     31.1,2,   130.99,2,  -999.00,9,    42.56,2,     0.00,2,     3.11,2, -999.000,9, -999.000,9,  -999.00,9,   -999.0,9,   -999.0,9,-999.0000,9,   -999.0,  9,  -999.00,9,   -999.0,  -999.00,9,  -999.00,9,  -999.00,9,  -999.00,9,   -999.0,-999.0000, -999,9,  701,   3.0225,  27.2853,   -999.0,9
       RF02-06,  142E,RF-1719,  1,      5,02-10155,2,20020630,0106, 39.0107, 142.9862, 1630,    808.2,   2.9470,  34.3062,2,   -999.0,9,-999.0000,9,     30.6,2,   136.70,2,  -999.00,9,    42.65,2,     0.00,2,     3.10,2, -999.000,9, -999.000,9,  -999.00,9,   -999.0,9,   -999.0,9,-999.0000,9,   -999.0,  9,  -999.00,9,   -999.0,  -999.00,9,  -999.00,9,  -999.00,9,  -999.00,9,   -999.0,-999.0000, -999,9,  801,   2.8940,  27.3408,   -999.0,9
       RF02-06,  142E,RF-1719,  1,      4,02-13579,2,20020630,0103, 39.0107, 142.9862, 1630,    910.1,   3.0034,  34.3807,2,   -999.0,9,-999.0000,9,     37.3,2,   136.67,2,  -999.00,9,    42.13,2,     0.00,2,     3.10,2, -999.000,9, -999.000,9,  -999.00,9,   -999.0,9,   -999.0,9,-999.0000,9,   -999.0,  9,  -999.00,9,   -999.0,  -999.00,9,  -999.00,9,  -999.00,9,  -999.00,9,   -999.0,-999.0000, -999,9,  901,   2.9424,  27.3960,   -999.0,9
       RF02-06,  142E,RF-1719,  1,      3,02-13590,2,20020630,0101, 39.0107, 142.9862, 1630,   1010.6,   2.8167,  34.4274,2,   -999.0,9,-999.0000,9,     39.9,2,   140.98,2,  -999.00,9,    42.14,2,     0.00,2,     3.06,2, -999.000,9, -999.000,9,  -999.00,9,   -999.0,9,   -999.0,9,-999.0000,9,   -999.0,  9,  -999.00,9,   -999.0,  -999.00,9,  -999.00,9,  -999.00,9,  -999.00,9,   -999.0,-999.0000, -999,9, 1000,   2.7496,  27.4504,   -999.0,9
       RF02-06,  142E,RF-1719,  1,      2,02-12827,2,20020630,0055, 39.0107, 142.9862, 1630,   1262.0,   2.4003,  34.4797,2,   -999.0,9,-999.0000,9,     42.4,2,   152.57,2,  -999.00,9,    42.25,2,     0.00,2,     3.06,2, -999.000,9, -999.000,9,  -999.00,9,   -999.0,9,   -999.0,9,-999.0000,9,   -999.0,  9,  -999.00,9,   -999.0,  -999.00,9,  -999.00,9,  -999.00,9,  -999.00,9,   -999.0,-999.0000, -999,9, 1249,   2.3180,  27.5291,   -999.0,9
       RF02-06,  142E,RF-1719,  1,      1,02-17871,2,20020630,0050, 39.0107, 142.9862, 1630,   1511.1,   2.2112,  34.5368,2,   -999.0,9,-999.0000,9,     53.1,2,   155.63,2,  -999.00,9,    41.79,2,     0.00,2,     3.01,2, -999.000,9, -999.000,9,  -999.00,9,   -999.0,9,   -999.0,9,-999.0000,9,   -999.0,  9,  -999.00,9,   -999.0,  -999.00,9,  -999.00,9,  -999.00,9,  -999.00,9,   -999.0,-999.0000, -999,9, 1494,   2.1117,  27.5917,   -999.0,9