BOTTLE,20130510GEMDJMAYT
EXPOCODE,SECT_ID,STNNBR,CASTNO,SAMPNO,BTLNBR,BTLNBR_FLAG_W,DATE,TIME,LATITUDE,LONGITUDE,DEPTH,CTDPRS,CTDTMP,CTDSAL,CTDSAL_FLAG_W,CTDOXY,CTDOXY_FLAG_W,SALNTY,SALNTY_FLAG_W,OXYGEN,OXYGEN_FLAG_W,SILCAT,SILCAT_FLAG_W,NITRAT,NITRAT_FLAG_W,NO2+NO3,NO2+NO3_FLAG_W,NITRIT,NITRIT_FLAG_W,PHSPHT,PHSPHT_FLAG_W,CFC-11,CFC-11_FLAG_W,CFC-12,CFC-12_FLAG_W,DELC13,DELC13_FLAG_W,TCARBN,TCARBN_FLAG_W,ALKALI,ALKALI_FLAG_W,PH,PH_FLAG_W,PH_TMP,PH_SCALE,PH_NBS,PH_NBS_FLAG_W,C13ERR,TOTALP,TOTALP_FLAG_W,AMMONI,AMMONI_FLAG_W,CHLORA,CHLORA_FLAG_W,PPHYTN,PPHYTN_FLAG_W,REVPRS,REVTMP,DEPTH_,DEPTH_FLAG,CTDDEP,THETA,SIGTHT,DOC,DOC_FLAG_W
,,,,,,,GMT,GMT,,,METER,DBAR,ITS-90,PSS-78,,UMOL/KG,,PSS-78,,UMOL/KG,,UMOL/KG,,UMOL/KG,,UMOL/KG,,UMOL/KG,,UMOL/KG,,PMOL/KG,,PMOL/KG,,/MILLE,,UMOL/KG,,UMOL/KG,,25_DEG_C,,DEG_C,,,,/MILLE,UMOL/KG,,UMOL/KG,,UG/L,,UG/L,,DBAR,ITS-90,METERS,,METERS,DEG_C,,UMOL/L,
       RF02-06,  NONE,RF-1732,  1,     -9,      -9,5,20020709,0424, 45.1987, 156.9840, 4627,      0.0,   9.8150,  33.0540,2,   -999.0,9,-999.0000,9,    288.6,2,    19.14,2,  -999.00,9,    12.15,2,     0.14,2,     1.16,2, -999.000,9, -999.000,9,  -999.00,9,   -999.0,9,   -999.0,9,-999.0000,9,   -999.0,  9,  -999.00,9,   -999.0,  -999.00,9,  -999.00,9,     0.53,2,     0.08,2,   -999.0,-999.0000, -999,9,    0,   9.8150,  25.4634,   -999.0,9
       RF02-06,  NONE,RF-1732,  1,     10,02-12820,2,20020709,0416, 45.1987, 156.9840, 4627,    204.7,   3.1609,  33.6990,2,   -999.0,9,  33.7006,2,    144.1,2,    77.84,2,  -999.00,9,    34.71,2,     0.00,2,     2.58,2, -999.000,9, -999.000,9,  -999.00,9,   -999.0,9,   -999.0,9,-999.0000,9,   -999.0,  9,  -999.00,9,   -999.0,  -999.00,9,  -999.00,9,     0.02,2,     0.08,2,   -999.0,-999.0000, -999,9,  203,   3.1483,  26.8332,   -999.0,9
       RF02-06,  NONE,RF-1732,  1,      9,02-12810,2,20020709,0413, 45.1987, 156.9840, 4627,    254.6,   3.4076,  33.8202,2,   -999.0,9,-999.0000,9,    108.2,2,    86.85,2,  -999.00,9,    36.97,2,     0.00,2,     2.73,2, -999.000,9, -999.000,9,  -999.00,9,   -999.0,9,   -999.0,9,-999.0000,9,   -999.0,  9,  -999.00,9,   -999.0,  -999.00,9,  -999.00,9,  -999.00,9,  -999.00,9,   -999.0,-999.0000, -999,9,  252,   3.3913,  26.9074,   -999.0,9
       RF02-06,  NONE,RF-1732,  1,      8,02-12819,2,20020709,0411, 45.1987, 156.9840, 4627,    306.8,   3.6303,  33.9282,2,   -999.0,9,  33.9311,2,     83.6,2,    94.34,2,  -999.00,9,    38.53,2,     0.00,2,     2.83,2, -999.000,9, -999.000,9,  -999.00,9,   -999.0,9,   -999.0,9,-999.0000,9,   -999.0,  9,  -999.00,9,   -999.0,  -999.00,9,  -999.00,9,  -999.00,9,  -999.00,9,   -999.0,-999.0000, -999,9,  304,   3.6100,  26.9725,   -999.0,9
       RF02-06,  NONE,RF-1732,  1,      7,02-15821,2,20020709,0408, 45.1987, 156.9840, 4627,    406.9,   3.7456,  34.0860,2,   -999.0,9,  34.0912,2,     56.5,2,   105.77,2,  -999.00,9,    40.30,2,     0.00,2,     2.98,2, -999.000,9, -999.000,9,  -999.00,9,   -999.0,9,   -999.0,9,-999.0000,9,   -999.0,  9,  -999.00,9,   -999.0,  -999.00,9,  -999.00,9,  -999.00,9,  -999.00,9,   -999.0,-999.0000, -999,9,  403,   3.7177,  27.0875,   -999.0,9
       RF02-06,  NONE,RF-1732,  1,      6,02-17872,3,20020709,0406, 45.1987, 156.9840, 4627,    504.5,   3.4418,  34.1561,2,   -999.0,9,  34.1572,2,     37.7,2,   118.94,2,  -999.00,9,    42.03,2,     0.00,2,     3.09,2, -999.000,9, -999.000,9,  -999.00,9,   -999.0,9,   -999.0,9,-999.0000,9,   -999.0,  9,  -999.00,9,   -999.0,  -999.00,9,  -999.00,9,  -999.00,9,  -999.00,9,   -999.0,-999.0000, -999,9,  500,   3.4081,  27.1735,   -999.0,9
       RF02-06,  NONE,RF-1732,  1,      5,02-10155,2,20020709,0402, 45.1987, 156.9840, 4627,    607.1,   3.3469,  34.2385,2,   -999.0,9,  34.2400,2,     35.1,2,   125.91,2,  -999.00,9,    42.11,2,     0.00,2,     3.11,2, -999.000,9, -999.000,9,  -999.00,9,   -999.0,9,   -999.0,9,-999.0000,9,   -999.0,  9,  -999.00,9,   -999.0,  -999.00,9,  -999.00,9,  -999.00,9,  -999.00,9,   -999.0,-999.0000, -999,9,  601,   3.3061,  27.2488,   -999.0,9
       RF02-06,  NONE,RF-1732,  1,      4,02-13579,2,20020709,0359, 45.1987, 156.9840, 4627,    709.1,   3.0828,  34.2969,2,   -999.0,9,  34.3007,2,     29.5,2,   134.92,2,  -999.00,9,    42.73,2,     0.00,2,     3.13,2, -999.000,9, -999.000,9,  -999.00,9,   -999.0,9,   -999.0,9,-999.0000,9,   -999.0,  9,  -999.00,9,   -999.0,  -999.00,9,  -999.00,9,  -999.00,9,  -999.00,9,   -999.0,-999.0000, -999,9,  702,   3.0361,  27.3205,   -999.0,9
       RF02-06,  NONE,RF-1732,  1,      3,02-13590,2,20020709,0357, 45.1987, 156.9840, 4627,    807.3,   2.9848,  34.3530,2,   -999.0,9,  34.3553,2,     34.5,2,   138.40,2,  -999.00,9,    42.41,2,     0.00,2,     3.12,2, -999.000,9, -999.000,9,  -999.00,9,   -999.0,9,   -999.0,9,-999.0000,9,   -999.0,  9,  -999.00,9,   -999.0,  -999.00,9,  -999.00,9,  -999.00,9,  -999.00,9,   -999.0,-999.0000, -999,9,  799,   2.9315,  27.3748,   -999.0,9
       RF02-06,  NONE,RF-1732,  1,      2,02-12827,2,20020709,0354, 45.1987, 156.9840, 4627,    909.4,   2.8431,  34.3963,2,   -999.0,9,  34.3986,2,     33.2,2,   142.81,2,  -999.00,9,    42.53,2,     0.00,2,     3.15,2, -999.000,9, -999.000,9,  -999.00,9,   -999.0,9,   -999.0,9,-999.0000,9,   -999.0,  9,  -999.00,9,   -999.0,  -999.00,9,  -999.00,9,  -999.00,9,  -999.00,9,   -999.0,-999.0000, -999,9,  900,   2.7833,  27.4226,   -999.0,9
       RF02-06,  NONE,RF-1732,  1,      1,02-17871,2,20020709,0352, 45.1987, 156.9840, 4627,   1018.6,   2.6622,  34.4289,2,   -999.0,9,  34.4312,2,     33.5,2,   148.31,2,  -999.00,9,    42.65,2,     0.00,2,     3.12,2, -999.000,9, -999.000,9,  -999.00,9,   -999.0,9,   -999.0,9,-999.0000,9,   -999.0,  9,  -999.00,9,   -999.0,  -999.00,9,  -999.00,9,  -999.00,9,  -999.00,9,   -999.0,-999.0000, -999,9, 1008,   2.5957,  27.4651,   -999.0,9
       RF02-06,  NONE,RF-1734,  1,     -9,      -9,5,20020709,1749, 46.4063, 158.9860, 5229,      0.0,   7.3092,  32.8328,2,   -999.0,9,-999.0000,9,    309.0,2,    39.01,2,  -999.00,9,    19.02,2,     0.17,2,     1.59,2, -999.000,9, -999.000,9,  -999.00,9,   -999.0,9,   -999.0,9,-999.0000,9,   -999.0,  9,  -999.00,9,   -999.0,  -999.00,9,  -999.00,9,     0.47,2,     0.10,2,   -999.0,-999.0000, -999,9,    0,   7.3092,  25.6698,   -999.0,9
       RF02-06,  NONE,RF-1734,  1,     17,02-17874,2,20020709,1747, 46.4063, 158.9860, 5229,     12.3,   7.3073,  32.8353,2,   -999.0,9,-999.0000,9,    309.8,2,    38.98,2,  -999.00,9,    19.08,2,     0.18,2,     1.61,2, -999.000,9, -999.000,9,  -999.00,9,   -999.0,9,   -999.0,9,-999.0000,9,   -999.0,  9,  -999.00,9,   -999.0,  -999.00,9,  -999.00,9,     0.44,2,     0.12,2,   -999.0,-999.0000, -999,9,   12,   7.3062,  25.6722,   -999.0,9
       RF02-06,  NONE,RF-1734,  1,     16,02-12818,2,20020709,1745, 46.4063, 158.9860, 5229,     28.6,   6.7711,  32.8647,2,   -999.0,9,-999.0000,9,    318.7,2,    39.01,2,  -999.00,9,    19.27,2,     0.17,2,     1.59,2, -999.000,9, -999.000,9,  -999.00,9,   -999.0,9,   -999.0,9,-999.0000,9,   -999.0,  9,  -999.00,9,   -999.0,  -999.00,9,  -999.00,9,     0.47,2,     0.14,2,   -999.0,-999.0000, -999,9,   28,   6.7686,  25.7678,   -999.0,9
       RF02-06,  NONE,RF-1734,  1,     15,02-12809,2,20020709,1744, 46.4063, 158.9860, 5229,     52.8,   2.3935,  33.0049,2,   -999.0,9,-999.0000,9,    341.1,2,    41.00,2,  -999.00,9,    22.38,2,     0.24,2,     1.81,2, -999.000,9, -999.000,9,  -999.00,9,   -999.0,9,   -999.0,9,-999.0000,9,   -999.0,  9,  -999.00,9,   -999.0,  -999.00,9,  -999.00,9,     0.66,2,     0.37,2,   -999.0,-999.0000, -999,9,   52,   2.3907,  26.3434,   -999.0,9
       RF02-06,  NONE,RF-1734,  1,     14,02-12817,2,20020709,1743, 46.4063, 158.9860, 5229,     77.7,   1.5505,  33.0680,2,   -999.0,9,-999.0000,9,    326.7,2,    44.43,2,  -999.00,9,    25.25,2,     0.50,2,     1.98,2, -999.000,9, -999.000,9,  -999.00,9,   -999.0,9,   -999.0,9,-999.0000,9,   -999.0,  9,  -999.00,9,   -999.0,  -999.00,9,  -999.00,9,  -999.00,4,     0.60,4,   -999.0,-999.0000, -999,9,   77,   1.5469,  26.4564,   -999.0,9
       RF02-06,  NONE,RF-1734,  1,     13,02-15822,2,20020709,1742, 46.4063, 158.9860, 5229,    101.8,   1.4380,  33.2270,2,   -999.0,9,-999.0000,9,    262.1,2,    55.72,2,  -999.00,9,    29.79,2,     0.01,2,     2.26,2, -999.000,9, -999.000,9,  -999.00,9,   -999.0,9,   -999.0,9,-999.0000,9,   -999.0,  9,  -999.00,9,   -999.0,  -999.00,9,  -999.00,9,     0.07,2,     0.06,2,   -999.0,-999.0000, -999,9,  101,   1.4334,  26.5917,   -999.0,9
       RF02-06,  NONE,RF-1734,  1,     12,02-12808,2,20020709,1741, 46.4063, 158.9860, 5229,    128.9,   2.5353,  33.5749,2,   -999.0,9,-999.0000,9,    139.0,2,    77.83,2,  -999.00,9,    37.54,2,     0.00,2,     2.75,2, -999.000,9, -999.000,9,  -999.00,9,   -999.0,9,   -999.0,9,-999.0000,9,   -999.0,  9,  -999.00,9,   -999.0,  -999.00,9,  -999.00,9,     0.02,2,     0.04,2,   -999.0,-999.0000, -999,9,  128,   2.5281,  26.7880,   -999.0,9
       RF02-06,  NONE,RF-1734,  1,     11,02-17873,2,20020709,1739, 46.4063, 158.9860, 5229,    152.8,   3.1487,  33.7753,2,   -999.0,9,-999.0000,9,     72.9,2,    92.51,2,  -999.00,9,    41.97,2,     0.00,2,     3.09,2, -999.000,9, -999.000,9,  -999.00,9,   -999.0,9,   -999.0,9,-999.0000,9,   -999.0,  9,  -999.00,9,   -999.0,  -999.00,9,  -999.00,9,     0.02,2,     0.02,2,   -999.0,-999.0000, -999,9,  152,   3.1393,  26.8949,   -999.0,9
       RF02-06,  NONE,RF-1734,  1,     10,02-12820,2,20020709,1738, 46.4063, 158.9860, 5229,    204.7,   3.5065,  33.9472,2,   -999.0,9,-999.0000,9,     26.1,2,   104.82,2,  -999.00,9,    44.10,2,     0.01,2,     3.21,2, -999.000,9, -999.000,9,  -999.00,9,   -999.0,9,   -999.0,9,-999.0000,9,   -999.0,  9,  -999.00,9,   -999.0,  -999.00,9,  -999.00,9,     0.01,2,     0.02,2,   -999.0,-999.0000, -999,9,  203,   3.4933,  26.9988,   -999.0,9
       RF02-06,  NONE,RF-1734,  1,      9,02-12810,2,20020709,1736, 46.4063, 158.9860, 5229,    254.2,   3.4797,  34.0114,2,   -999.0,9,-999.0000,9,     17.0,2,   110.40,2,  -999.00,9,    44.40,2,     0.00,2,     3.23,2, -999.000,9, -999.000,9,  -999.00,9,   -999.0,9,   -999.0,9,-999.0000,9,   -999.0,  9,  -999.00,9,   -999.0,  -999.00,9,  -999.00,9,  -999.00,9,  -999.00,9,   -999.0,-999.0000, -999,9,  252,   3.4631,  27.0529,   -999.0,9
       RF02-06,  NONE,RF-1734,  1,      8,02-12819,2,20020709,1734, 46.4063, 158.9860, 5229,    306.5,   3.4487,  34.0783,2,   -999.0,9,-999.0000,9,     16.1,2,   116.30,2,  -999.00,9,    44.11,2,     0.00,2,     3.26,2, -999.000,9, -999.000,9,  -999.00,9,   -999.0,9,   -999.0,9,-999.0000,9,   -999.0,  9,  -999.00,9,   -999.0,  -999.00,9,  -999.00,9,  -999.00,9,  -999.00,9,   -999.0,-999.0000, -999,9,  304,   3.4287,  27.1095,   -999.0,9
       RF02-06,  NONE,RF-1734,  1,      7,02-15821,2,20020709,1732, 46.4063, 158.9860, 5229,    406.0,   3.3107,  34.1703,2,   -999.0,9,-999.0000,9,     15.7,2,   125.42,2,  -999.00,9,    43.76,2,     0.00,2,     3.19,2, -999.000,9, -999.000,9,  -999.00,9,   -999.0,9,   -999.0,9,-999.0000,9,   -999.0,  9,  -999.00,9,   -999.0,  -999.00,9,  -999.00,9,  -999.00,9,  -999.00,9,   -999.0,-999.0000, -999,9,  402,   3.2843,  27.1966,   -999.0,9
       RF02-06,  NONE,RF-1734,  1,      6,02-17872,2,20020709,1729, 46.4063, 158.9860, 5229,    505.7,   3.1546,  34.2370,2,   -999.0,9,-999.0000,9,     19.2,2,   131.97,2,  -999.00,9,    43.46,2,     0.00,2,     3.17,2, -999.000,9, -999.000,9,  -999.00,9,   -999.0,9,   -999.0,9,-999.0000,9,   -999.0,  9,  -999.00,9,   -999.0,  -999.00,9,  -999.00,9,  -999.00,9,  -999.00,9,   -999.0,-999.0000, -999,9,  501,   3.1218,  27.2648,   -999.0,9
       RF02-06,  NONE,RF-1734,  1,      5,02-10155,2,20020709,1727, 46.4063, 158.9860, 5229,    607.7,   3.0246,  34.2942,2,   -999.0,9,-999.0000,9,     15.0,2,   138.19,2,  -999.00,9,    43.54,2,     0.00,2,     3.18,2, -999.000,9, -999.000,9,  -999.00,9,   -999.0,9,   -999.0,9,-999.0000,9,   -999.0,  9,  -999.00,9,   -999.0,  -999.00,9,  -999.00,9,  -999.00,9,  -999.00,9,   -999.0,-999.0000, -999,9,  602,   2.9853,  27.3229,   -999.0,9
       RF02-06,  NONE,RF-1734,  1,      4,02-13579,2,20020709,1724, 46.4063, 158.9860, 5229,    709.0,   2.8795,  34.3401,2,   -999.0,9,-999.0000,9,     16.5,2,   143.70,2,  -999.00,9,    43.51,2,     0.00,2,     3.17,2, -999.000,9, -999.000,9,  -999.00,9,   -999.0,9,   -999.0,9,-999.0000,9,   -999.0,  9,  -999.00,9,   -999.0,  -999.00,9,  -999.00,9,  -999.00,9,  -999.00,9,   -999.0,-999.0000, -999,9,  702,   2.8338,  27.3732,   -999.0,9
       RF02-06,  NONE,RF-1734,  1,      3,02-13590,2,20020709,1722, 46.4063, 158.9860, 5229,    808.6,   2.7168,  34.3780,2,   -999.0,9,-999.0000,9,     22.6,2,   147.30,2,  -999.00,9,    43.11,2,     0.00,2,     3.17,2, -999.000,9, -999.000,9,  -999.00,9,   -999.0,9,   -999.0,9,-999.0000,9,   -999.0,  9,  -999.00,9,   -999.0,  -999.00,9,  -999.00,9,  -999.00,9,  -999.00,9,   -999.0,-999.0000, -999,9,  800,   2.6651,  27.4183,   -999.0,9
       RF02-06,  NONE,RF-1734,  1,      2,02-12827,2,20020709,1720, 46.4063, 158.9860, 5229,    907.9,   2.6019,  34.4131,2,   -999.0,9,-999.0000,9,     22.3,2,   151.97,2,  -999.00,9,    43.14,2,     0.00,2,     3.14,2, -999.000,9, -999.000,9,  -999.00,9,   -999.0,9,   -999.0,9,-999.0000,9,   -999.0,  9,  -999.00,9,   -999.0,  -999.00,9,  -999.00,9,  -999.00,9,  -999.00,9,   -999.0,-999.0000, -999,9,  898,   2.5439,  27.4568,   -999.0,9
       RF02-06,  NONE,RF-1734,  1,      1,02-17871,2,20020709,1717, 46.4063, 158.9860, 5229,   1026.4,   2.4710,  34.4483,2,   -999.0,9,-999.0000,9,     30.6,2,   155.26,2,  -999.00,9,    42.99,2,     0.00,2,     3.14,2, -999.000,9, -999.000,9,  -999.00,9,   -999.0,9,   -999.0,9,-999.0000,9,   -999.0,  9,  -999.00,9,   -999.0,  -999.00,9,  -999.00,9,  -999.00,9,  -999.00,9,   -999.0,-999.0000, -999,9, 1015,   2.4055,  27.4968,   -999.0,9