BOTTLE,20130510GEMDJMAYT
EXPOCODE,SECT_ID,STNNBR,CASTNO,SAMPNO,BTLNBR,BTLNBR_FLAG_W,DATE,TIME,LATITUDE,LONGITUDE,DEPTH,CTDPRS,CTDTMP,CTDSAL,CTDSAL_FLAG_W,CTDOXY,CTDOXY_FLAG_W,SALNTY,SALNTY_FLAG_W,OXYGEN,OXYGEN_FLAG_W,SILCAT,SILCAT_FLAG_W,NITRAT,NITRAT_FLAG_W,NO2+NO3,NO2+NO3_FLAG_W,NITRIT,NITRIT_FLAG_W,PHSPHT,PHSPHT_FLAG_W,CFC-11,CFC-11_FLAG_W,CFC-12,CFC-12_FLAG_W,DELC13,DELC13_FLAG_W,TCARBN,TCARBN_FLAG_W,ALKALI,ALKALI_FLAG_W,PH,PH_FLAG_W,PH_TMP,PH_SCALE,PH_NBS,PH_NBS_FLAG_W,C13ERR,TOTALP,TOTALP_FLAG_W,AMMONI,AMMONI_FLAG_W,CHLORA,CHLORA_FLAG_W,PPHYTN,PPHYTN_FLAG_W,REVPRS,REVTMP,DEPTH_,DEPTH_FLAG,CTDDEP,THETA,SIGTHT,DOC,DOC_FLAG_W
,,,,,,,GMT,GMT,,,METER,DBAR,ITS-90,PSS-78,,UMOL/KG,,PSS-78,,UMOL/KG,,UMOL/KG,,UMOL/KG,,UMOL/KG,,UMOL/KG,,UMOL/KG,,PMOL/KG,,PMOL/KG,,/MILLE,,UMOL/KG,,UMOL/KG,,25_DEG_C,,DEG_C,,,,/MILLE,UMOL/KG,,UMOL/KG,,UG/L,,UG/L,,DBAR,ITS-90,METERS,,METERS,DEG_C,,UMOL/L,
       RF02-06,  165E,RF-1740,  1,     -9,      -9,5,20020711,0103, 49.9948, 164.9787, 5485,      0.0,   7.7712,  33.0889,2,   -999.0,9,-999.0000,9,    310.2,2,    40.45,2,  -999.00,9,    21.51,2,     0.24,2,     1.73,2, -999.000,9, -999.000,9,  -999.00,9,   -999.0,9,   -999.0,9,-999.0000,9,   -999.0,  9,     7.91,2,   -999.0,  -999.00,9,  -999.00,9,     0.51,2,     0.03,2,   -999.0,-999.0000, -999,9,    0,   7.7712,  25.8062,   -999.0,9
       RF02-06,  165E,RF-1740,  1,     24,02-13588,2,20020711,0101, 49.9948, 164.9787, 5485,     11.9,   7.7396,  33.0802,2,   -999.0,9,-999.0000,9,    311.2,2,    40.50,2,  -999.00,9,    21.54,2,     0.23,2,     1.73,2, -999.000,9, -999.000,9,  -999.00,9,   -999.0,9,   -999.0,9,-999.0000,9,   -999.0,  9,     7.91,2,   -999.0,  -999.00,9,  -999.00,9,     0.45,2,     0.03,2,   -999.0,-999.0000, -999,9,   12,   7.7384,  25.8040,   -999.0,9
       RF02-06,  165E,RF-1740,  1,     23,02-12825,2,20020711,0059, 49.9948, 164.9787, 5485,     26.2,   5.5240,  33.0974,2,   -999.0,9,-999.0000,9,    332.2,2,    40.99,2,  -999.00,9,    21.96,2,     0.19,2,     1.75,2, -999.000,9, -999.000,9,  -999.00,9,   -999.0,9,   -999.0,9,-999.0000,9,   -999.0,  9,     7.90,2,   -999.0,  -999.00,9,  -999.00,9,     0.61,2,     0.08,2,   -999.0,-999.0000, -999,9,   26,   5.5219,  26.1071,   -999.0,9
       RF02-06,  165E,RF-1740,  1,     22,02-12811,2,20020711,0058, 49.9948, 164.9787, 5485,     52.6,   2.9575,  33.1252,2,   -999.0,9,-999.0000,9,    339.4,2,    43.21,2,  -999.00,9,    24.45,2,     0.26,2,     1.90,2, -999.000,9, -999.000,9,  -999.00,9,   -999.0,9,   -999.0,9,-999.0000,9,   -999.0,  9,     7.84,2,   -999.0,  -999.00,9,  -999.00,9,     0.56,2,     0.33,2,   -999.0,-999.0000, -999,9,   52,   2.9544,  26.3926,   -999.0,9
       RF02-06,  165E,RF-1740,  1,     21,02-12826,2,20020711,0056, 49.9948, 164.9787, 5485,     77.1,   1.9957,  33.1672,2,   -999.0,9,-999.0000,9,    328.6,2,    46.02,2,  -999.00,9,    26.99,2,     0.18,2,     2.05,2, -999.000,9, -999.000,9,  -999.00,9,   -999.0,9,   -999.0,9,-999.0000,9,   -999.0,  9,     7.80,2,   -999.0,  -999.00,9,  -999.00,9,     0.32,2,     0.29,2,   -999.0,-999.0000, -999,9,   76,   1.9919,  26.5040,   -999.0,9
       RF02-06,  165E,RF-1740,  1,     20,02-12821,2,20020711,0055, 49.9948, 164.9787, 5485,     85.4,   1.8609,  33.1812,2,   -999.0,9,-999.0000,9,    323.0,2,    47.03,2,  -999.00,9,    27.49,2,     0.01,2,     2.07,2, -999.000,9, -999.000,9,  -999.00,9,   -999.0,9,   -999.0,9,-999.0000,9,   -999.0,  9,     7.79,2,   -999.0,  -999.00,9,  -999.00,9,     0.28,2,     0.24,2,   -999.0,-999.0000, -999,9,   85,   1.8568,  26.5252,   -999.0,9
       RF02-06,  165E,RF-1740,  1,     19,02-17875,2,20020711,0054, 49.9948, 164.9787, 5485,     91.4,   1.8224,  33.1937,2,   -999.0,9,-999.0000,9,    316.8,2,    48.24,2,  -999.00,9,    27.93,2,     0.00,2,     2.11,2, -999.000,9, -999.000,9,  -999.00,9,   -999.0,9,   -999.0,9,-999.0000,9,   -999.0,  9,     7.77,2,   -999.0,  -999.00,9,  -999.00,9,     0.24,2,     0.12,2,   -999.0,-999.0000, -999,9,   91,   1.8180,  26.5380,   -999.0,9
       RF02-06,  165E,RF-1740,  1,     18,02-12830,2,20020711,0053, 49.9948, 164.9787, 5485,     97.1,   1.8550,  33.2198,2,   -999.0,9,-999.0000,9,    308.9,2,    49.98,2,  -999.00,9,    28.46,2,     0.00,2,     2.14,2, -999.000,9, -999.000,9,  -999.00,9,   -999.0,9,   -999.0,9,-999.0000,9,   -999.0,  9,     7.78,2,   -999.0,  -999.00,9,  -999.00,9,     0.15,2,     0.08,2,   -999.0,-999.0000, -999,9,   96,   1.8502,  26.5566,   -999.0,9
       RF02-06,  165E,RF-1740,  1,     17,02-17874,2,20020711,0052, 49.9948, 164.9787, 5485,    101.3,   1.9105,  33.2391,2,   -999.0,9,  33.2521,4,    294.0,2,    51.88,2,  -999.00,9,    29.16,2,     0.00,2,     2.20,2, -999.000,9, -999.000,9,  -999.00,9,   -999.0,9,   -999.0,9,-999.0000,9,   -999.0,  9,     7.75,2,   -999.0,  -999.00,9,  -999.00,9,     0.10,2,     0.06,2,   -999.0,-999.0000, -999,9,  100,   1.9055,  26.5680,   -999.0,9
       RF02-06,  165E,RF-1740,  1,     16,02-12818,2,20020711,0050, 49.9948, 164.9787, 5485,    126.7,   3.0264,  33.5554,2,   -999.0,9,-999.0000,9,    161.2,2,    73.40,2,  -999.00,9,    36.30,2,     0.00,2,     2.65,2, -999.000,9, -999.000,9,  -999.00,9,   -999.0,9,   -999.0,9,-999.0000,9,   -999.0,  9,     7.58,2,   -999.0,  -999.00,9,  -999.00,9,     0.03,2,     0.04,2,   -999.0,-999.0000, -999,9,  126,   3.0189,  26.7303,   -999.0,9
       RF02-06,  165E,RF-1740,  1,     15,02-12809,2,20020711,0049, 49.9948, 164.9787, 5485,    153.4,   3.6702,  33.7369,2,   -999.0,9,-999.0000,9,    103.9,2,    82.77,2,  -999.00,9,    39.15,2,     0.00,2,     2.87,2, -999.000,9, -999.000,9,  -999.00,9,   -999.0,9,   -999.0,9,-999.0000,9,   -999.0,  9,     7.53,2,   -999.0,  -999.00,9,  -999.00,9,     0.02,2,     0.03,2,   -999.0,-999.0000, -999,9,  152,   3.6602,  26.8152,   -999.0,9
       RF02-06,  165E,RF-1740,  1,     14,02-12817,2,20020711,0047, 49.9948, 164.9787, 5485,    202.7,   3.6894,  33.8545,2,   -999.0,9,  33.8625,2,     62.9,2,    92.96,2,  -999.00,9,    41.50,2,     0.00,2,     3.01,2, -999.000,9, -999.000,9,  -999.00,9,   -999.0,9,   -999.0,9,-999.0000,9,   -999.0,  9,     7.48,2,   -999.0,  -999.00,9,  -999.00,9,     0.01,2,     0.02,2,   -999.0,-999.0000, -999,9,  201,   3.6760,  26.9073,   -999.0,9
       RF02-06,  165E,RF-1740,  1,     13,02-15822,2,20020711,0045, 49.9948, 164.9787, 5485,    253.9,   3.8455,  33.9453,2,   -999.0,9,-999.0000,9,     47.3,2,    96.71,2,  -999.00,9,    42.25,2,     0.00,2,     3.05,2, -999.000,9, -999.000,9,  -999.00,9,   -999.0,9,   -999.0,9,-999.0000,9,   -999.0,  9,     7.47,2,   -999.0,  -999.00,9,  -999.00,9,  -999.00,9,  -999.00,9,   -999.0,-999.0000, -999,9,  252,   3.8283,  26.9645,   -999.0,9
       RF02-06,  165E,RF-1740,  1,     12,02-12808,2,20020711,0043, 49.9948, 164.9787, 5485,    303.8,   3.8105,  33.9957,2,   -999.0,9,  33.9960,2,     39.6,2,   101.09,2,  -999.00,9,    42.63,2,     0.00,2,     3.13,2, -999.000,9, -999.000,9,  -999.00,9,   -999.0,9,   -999.0,9,-999.0000,9,   -999.0,  9,     7.46,2,   -999.0,  -999.00,9,  -999.00,9,  -999.00,9,  -999.00,9,   -999.0,-999.0000, -999,9,  301,   3.7899,  27.0085,   -999.0,9
       RF02-06,  165E,RF-1740,  1,     11,02-17873,2,20020711,0040, 49.9948, 164.9787, 5485,    404.3,   3.7397,  34.0697,2,   -999.0,9,  34.0702,2,     36.6,2,   107.74,2,  -999.00,9,    42.99,2,     0.00,2,     3.12,2, -999.000,9, -999.000,9,  -999.00,9,   -999.0,9,   -999.0,9,-999.0000,9,   -999.0,  9,  -999.00,9,   -999.0,  -999.00,9,  -999.00,9,  -999.00,9,  -999.00,9,   -999.0,-999.0000, -999,9,  400,   3.7120,  27.0751,   -999.0,9
       RF02-06,  165E,RF-1740,  1,     10,02-12820,2,20020711,0037, 49.9948, 164.9787, 5485,    504.2,   3.6230,  34.1264,2,   -999.0,9,  34.1261,2,     24.2,2,   114.12,2,  -999.00,9,    43.20,2,     0.00,2,     3.13,2, -999.000,9, -999.000,9,  -999.00,9,   -999.0,9,   -999.0,9,-999.0000,9,   -999.0,  9,     7.46,2,   -999.0,  -999.00,9,  -999.00,9,  -999.00,9,  -999.00,9,   -999.0,-999.0000, -999,9,  499,   3.5886,  27.1324,   -999.0,9
       RF02-06,  165E,RF-1740,  1,      9,02-12810,2,20020711,0034, 49.9948, 164.9787, 5485,    606.0,   3.4878,  34.1798,2,   -999.0,9,  34.1793,2,     22.0,2,   120.36,2,  -999.00,9,    43.25,2,     0.00,2,     3.13,2, -999.000,9, -999.000,9,  -999.00,9,   -999.0,9,   -999.0,9,-999.0000,9,   -999.0,  9,  -999.00,9,   -999.0,  -999.00,9,  -999.00,9,  -999.00,9,  -999.00,9,   -999.0,-999.0000, -999,9,  600,   3.4466,  27.1887,   -999.0,9
       RF02-06,  165E,RF-1740,  1,      8,02-12819,2,20020711,0032, 49.9948, 164.9787, 5485,    708.0,   3.3660,  34.2223,2,   -999.0,9,-999.0000,9,     20.6,2,   125.53,2,  -999.00,9,    43.30,2,     0.00,2,     3.13,2, -999.000,9, -999.000,9,  -999.00,9,   -999.0,9,   -999.0,9,-999.0000,9,   -999.0,  9,     7.47,2,   -999.0,  -999.00,9,  -999.00,9,  -999.00,9,  -999.00,9,   -999.0,-999.0000, -999,9,  701,   3.3179,  27.2348,   -999.0,9
       RF02-06,  165E,RF-1740,  1,      7,02-15821,2,20020711,0029, 49.9948, 164.9787, 5485,    808.5,   3.2321,  34.2650,2,   -999.0,9,  34.2646,2,     20.4,2,   130.66,2,  -999.00,9,    43.30,2,     0.00,2,     3.16,2, -999.000,9, -999.000,9,  -999.00,9,   -999.0,9,   -999.0,9,-999.0000,9,   -999.0,  9,  -999.00,9,   -999.0,  -999.00,9,  -999.00,9,  -999.00,9,  -999.00,9,   -999.0,-999.0000, -999,9,  800,   3.1773,  27.2821,   -999.0,9
       RF02-06,  165E,RF-1740,  1,      6,02-17872,2,20020711,0026, 49.9948, 164.9787, 5485,    909.7,   3.1245,  34.2964,2,   -999.0,9,-999.0000,9,     20.3,2,   134.85,2,  -999.00,9,    43.31,2,     0.00,2,     3.17,2, -999.000,9, -999.000,9,  -999.00,9,   -999.0,9,   -999.0,9,-999.0000,9,   -999.0,  9,  -999.00,9,   -999.0,  -999.00,9,  -999.00,9,  -999.00,9,  -999.00,9,   -999.0,-999.0000, -999,9,  900,   3.0628,  27.3177,   -999.0,9
       RF02-06,  165E,RF-1740,  1,      5,02-10155,2,20020711,0023, 49.9948, 164.9787, 5485,   1010.8,   3.0115,  34.3275,2,   -999.0,9,  34.3262,2,     20.4,2,   138.75,2,  -999.00,9,    43.36,2,     0.00,2,     3.14,2, -999.000,9, -999.000,9,  -999.00,9,   -999.0,9,   -999.0,9,-999.0000,9,   -999.0,  9,     7.48,2,   -999.0,  -999.00,9,  -999.00,9,  -999.00,9,  -999.00,9,   -999.0,-999.0000, -999,9, 1000,   2.9429,  27.3534,   -999.0,9
       RF02-06,  165E,RF-1740,  1,      4,02-13579,2,20020711,0017, 49.9948, 164.9787, 5485,   1263.6,   2.6322,  34.4232,2,   -999.0,9,  34.4231,2,     24.1,2,   150.85,2,  -999.00,9,    43.33,2,     0.00,2,     3.19,2, -999.000,9, -999.000,9,  -999.00,9,   -999.0,9,   -999.0,9,-999.0000,9,   -999.0,  9,  -999.00,9,   -999.0,  -999.00,9,  -999.00,9,  -999.00,9,  -999.00,9,   -999.0,-999.0000, -999,9, 1249,   2.5476,  27.4646,   -999.0,9
       RF02-06,  165E,RF-1740,  1,      3,02-13590,2,20020711,0011, 49.9948, 164.9787, 5485,   1515.9,   2.3319,  34.4923,2,   -999.0,9,  34.4929,2,     32.3,2,   159.03,2,  -999.00,9,    42.91,2,     0.00,2,     3.15,2, -999.000,9, -999.000,9,  -999.00,9,   -999.0,9,   -999.0,9,-999.0000,9,   -999.0,  9,     7.52,2,   -999.0,  -999.00,9,  -999.00,9,  -999.00,9,  -999.00,9,   -999.0,-999.0000, -999,9, 1497,   2.2307,  27.5464,   -999.0,9
       RF02-06,  165E,RF-1740,  1,      2,02-12827,2,20020711,0006, 49.9948, 164.9787, 5485,   1769.6,   2.1280,  34.5422,2,   -999.0,9,  34.5431,2,     46.4,2,   162.34,2,  -999.00,9,    42.14,2,     0.00,2,     3.02,2, -999.000,9, -999.000,9,  -999.00,9,   -999.0,9,   -999.0,9,-999.0000,9,   -999.0,  9,     7.55,2,   -999.0,  -999.00,9,  -999.00,9,  -999.00,9,  -999.00,9,   -999.0,-999.0000, -999,9, 1747,   2.0090,  27.6042,   -999.0,9
       RF02-06,  165E,RF-1740,  1,      1,02-17871,2,20020711,0000, 49.9948, 164.9787, 5485,   2043.2,   1.9484,  34.5834,2,   -999.0,9,  34.5818,2,     62.1,2,   163.78,2,  -999.00,9,    41.27,2,     0.00,2,     2.92,2, -999.000,9, -999.000,9,  -999.00,9,   -999.0,9,   -999.0,9,-999.0000,9,   -999.0,  9,     7.57,2,   -999.0,  -999.00,9,  -999.00,9,  -999.00,9,  -999.00,9,   -999.0,-999.0000, -999,9, 2016,   1.8092,  27.6527,   -999.0,9