BOTTLE,20130510GEMDJMAYT
EXPOCODE,SECT_ID,STNNBR,CASTNO,SAMPNO,BTLNBR,BTLNBR_FLAG_W,DATE,TIME,LATITUDE,LONGITUDE,DEPTH,CTDPRS,CTDTMP,CTDSAL,CTDSAL_FLAG_W,CTDOXY,CTDOXY_FLAG_W,SALNTY,SALNTY_FLAG_W,OXYGEN,OXYGEN_FLAG_W,SILCAT,SILCAT_FLAG_W,NITRAT,NITRAT_FLAG_W,NO2+NO3,NO2+NO3_FLAG_W,NITRIT,NITRIT_FLAG_W,PHSPHT,PHSPHT_FLAG_W,CFC-11,CFC-11_FLAG_W,CFC-12,CFC-12_FLAG_W,DELC13,DELC13_FLAG_W,TCARBN,TCARBN_FLAG_W,ALKALI,ALKALI_FLAG_W,PH,PH_FLAG_W,PH_TMP,PH_SCALE,PH_NBS,PH_NBS_FLAG_W,C13ERR,TOTALP,TOTALP_FLAG_W,AMMONI,AMMONI_FLAG_W,CHLORA,CHLORA_FLAG_W,PPHYTN,PPHYTN_FLAG_W,REVPRS,REVTMP,DEPTH_,DEPTH_FLAG,CTDDEP,THETA,SIGTHT,DOC,DOC_FLAG_W
,,,,,,,GMT,GMT,,,METER,DBAR,ITS-90,PSS-78,,UMOL/KG,,PSS-78,,UMOL/KG,,UMOL/KG,,UMOL/KG,,UMOL/KG,,UMOL/KG,,UMOL/KG,,PMOL/KG,,PMOL/KG,,/MILLE,,UMOL/KG,,UMOL/KG,,25_DEG_C,,DEG_C,,,,/MILLE,UMOL/KG,,UMOL/KG,,UG/L,,UG/L,,DBAR,ITS-90,METERS,,METERS,DEG_C,,UMOL/L,
       RF02-06,  NONE,RF-1684,  1,     -9,      -9,5,20020623,1413, 30.0130, 145.0257, 5929,      0.0,  23.8681,  34.4988,2,   -999.0,9,-999.0000,9,    215.5,2,     2.06,2,  -999.00,9,     0.18,2,     0.00,2,     0.00,2, -999.000,9, -999.000,9,  -999.00,9,   -999.0,9,   -999.0,9,-999.0000,9,   -999.0,  9,  -999.00,9,   -999.0,  -999.00,9,  -999.00,9,  -999.00,9,  -999.00,9,   -999.0,-999.0000, -999,9,    0,  23.8681,  23.3009,   -999.0,9
       RF02-06,  NONE,RF-1684,  1,     21,02-12826,2,20020623,1411, 30.0130, 145.0257, 5929,     12.1,  23.8669,  34.4976,2,   -999.0,9,-999.0000,9,    216.4,2,     1.94,2,  -999.00,9,     0.09,2,     0.00,2,  -999.00,4, -999.000,9, -999.000,9,  -999.00,9,   -999.0,9,   -999.0,9,-999.0000,9,   -999.0,  9,  -999.00,9,   -999.0,  -999.00,9,  -999.00,9,  -999.00,9,  -999.00,9,   -999.0,-999.0000, -999,9,   12,  23.8643,  23.3010,   -999.0,9
       RF02-06,  NONE,RF-1684,  1,     20,02-12821,2,20020623,1410, 30.0130, 145.0257, 5929,     28.5,  23.4848,  34.5243,2,   -999.0,9,-999.0000,9,    218.5,2,     1.97,2,  -999.00,9,     0.09,2,     0.00,2,  -999.00,4, -999.000,9, -999.000,9,  -999.00,9,   -999.0,9,   -999.0,9,-999.0000,9,   -999.0,  9,  -999.00,9,   -999.0,  -999.00,9,  -999.00,9,  -999.00,9,  -999.00,9,   -999.0,-999.0000, -999,9,   28,  23.4789,  23.4342,   -999.0,9
       RF02-06,  NONE,RF-1684,  1,     19,02-17875,2,20020623,1409, 30.0130, 145.0257, 5929,     52.7,  20.0742,  34.8343,2,   -999.0,9,-999.0000,9,    234.1,2,     2.20,2,  -999.00,9,     0.06,2,     0.00,2,  -999.00,4, -999.000,9, -999.000,9,  -999.00,9,   -999.0,9,   -999.0,9,-999.0000,9,   -999.0,  9,  -999.00,9,   -999.0,  -999.00,9,  -999.00,9,  -999.00,9,  -999.00,9,   -999.0,-999.0000, -999,9,   52,  20.0645,  24.6183,   -999.0,9
       RF02-06,  NONE,RF-1684,  1,     18,02-12830,2,20020623,1408, 30.0130, 145.0257, 5929,     78.6,  19.4412,  34.8166,2,   -999.0,9,-999.0000,9,    232.3,2,     2.30,2,  -999.00,9,     0.08,2,     0.00,2,  -999.00,4, -999.000,9, -999.000,9,  -999.00,9,   -999.0,9,   -999.0,9,-999.0000,9,   -999.0,  9,  -999.00,9,   -999.0,  -999.00,9,  -999.00,9,  -999.00,9,  -999.00,9,   -999.0,-999.0000, -999,9,   78,  19.4270,  24.7714,   -999.0,9
       RF02-06,  NONE,RF-1684,  1,     17,02-17874,2,20020623,1406, 30.0130, 145.0257, 5929,    105.5,  18.8452,  34.7834,2,   -999.0,9,  34.7959,4,    223.6,2,     2.41,2,  -999.00,9,     0.20,2,     0.05,2,     0.01,2, -999.000,9, -999.000,9,  -999.00,9,   -999.0,9,   -999.0,9,-999.0000,9,   -999.0,  9,  -999.00,9,   -999.0,  -999.00,9,  -999.00,9,  -999.00,9,  -999.00,9,   -999.0,-999.0000, -999,9,  105,  18.8266,  24.8997,   -999.0,9
       RF02-06,  NONE,RF-1684,  1,     16,02-12818,2,20020623,1405, 30.0130, 145.0257, 5929,    129.9,  18.4808,  34.7641,2,   -999.0,9,-999.0000,9,    212.9,2,     2.93,2,  -999.00,9,     2.30,2,     0.05,2,     0.10,2, -999.000,9, -999.000,9,  -999.00,9,   -999.0,9,   -999.0,9,-999.0000,9,   -999.0,  9,  -999.00,9,   -999.0,  -999.00,9,  -999.00,9,  -999.00,9,  -999.00,9,   -999.0,-999.0000, -999,9,  129,  18.4581,  24.9777,   -999.0,9
       RF02-06,  NONE,RF-1684,  1,     15,02-12809,2,20020623,1404, 30.0130, 145.0257, 5929,    155.6,  18.1315,  34.7564,2,   -999.0,9,-999.0000,9,    217.0,2,     3.23,2,  -999.00,9,     2.81,2,     0.02,2,     0.13,2, -999.000,9, -999.000,9,  -999.00,9,   -999.0,9,   -999.0,9,-999.0000,9,   -999.0,  9,  -999.00,9,   -999.0,  -999.00,9,  -999.00,9,  -999.00,9,  -999.00,9,   -999.0,-999.0000, -999,9,  155,  18.1047,  25.0596,   -999.0,9
       RF02-06,  NONE,RF-1684,  1,     14,02-12817,2,20020623,1401, 30.0130, 145.0257, 5929,    206.4,  17.7000,  34.7381,2,   -999.0,9,  34.7485,2,    210.5,2,     3.94,2,  -999.00,9,     3.95,2,     0.01,2,     0.20,2, -999.000,9, -999.000,9,  -999.00,9,   -999.0,9,   -999.0,9,-999.0000,9,   -999.0,  9,  -999.00,9,   -999.0,  -999.00,9,  -999.00,9,  -999.00,9,  -999.00,9,   -999.0,-999.0000, -999,9,  205,  17.6650,  25.1535,   -999.0,9
       RF02-06,  NONE,RF-1684,  1,     13,02-15822,2,20020623,1359, 30.0130, 145.0257, 5929,    257.0,  16.9691,  34.7117,2,   -999.0,9,-999.0000,9,    537.1,4,     6.07,2,  -999.00,9,     6.24,2,     0.00,2,     0.33,2, -999.000,9, -999.000,9,  -999.00,9,   -999.0,9,   -999.0,9,-999.0000,9,   -999.0,  9,  -999.00,9,   -999.0,  -999.00,9,  -999.00,9,  -999.00,9,  -999.00,9,   -999.0,-999.0000, -999,9,  255,  16.9268,  25.3103,   -999.0,9
       RF02-06,  NONE,RF-1684,  1,     12,02-12808,2,20020623,1357, 30.0130, 145.0257, 5929,    306.6,  16.1293,  34.6686,2,   -999.0,9,  34.6800,2,    195.2,2,     7.78,2,  -999.00,9,     7.88,2,     0.00,2,     0.43,2, -999.000,9, -999.000,9,  -999.00,9,   -999.0,9,   -999.0,9,-999.0000,9,   -999.0,  9,  -999.00,9,   -999.0,  -999.00,9,  -999.00,9,  -999.00,9,  -999.00,9,   -999.0,-999.0000, -999,9,  304,  16.0805,  25.4743,   -999.0,9
       RF02-06,  NONE,RF-1684,  1,     11,02-17873,2,20020623,1354, 30.0130, 145.0257, 5929,    406.5,  14.0381,  34.5309,2,   -999.0,9,  34.5425,2,    183.9,2,    14.87,2,  -999.00,9,    12.30,2,     0.00,2,     0.74,2, -999.000,9, -999.000,9,  -999.00,9,   -999.0,9,   -999.0,9,-999.0000,9,   -999.0,  9,  -999.00,9,   -999.0,  -999.00,9,  -999.00,9,  -999.00,9,  -999.00,9,   -999.0,-999.0000, -999,9,  403,  13.9791,  25.8290,   -999.0,9
       RF02-06,  NONE,RF-1684,  1,     10,02-12820,2,20020623,1352, 30.0130, 145.0257, 5929,    508.5,  11.2007,  34.3293,2,   -999.0,9,  34.3317,2,    183.3,2,    24.27,2,  -999.00,9,    16.99,2,     0.00,2,     1.09,2, -999.000,9, -999.000,9,  -999.00,9,   -999.0,9,   -999.0,9,-999.0000,9,   -999.0,  9,  -999.00,9,   -999.0,  -999.00,9,  -999.00,9,  -999.00,9,  -999.00,9,   -999.0,-999.0000, -999,9,  504,  11.1369,  26.2285,   -999.0,9
       RF02-06,  NONE,RF-1684,  1,      9,02-12810,2,20020623,1349, 30.0130, 145.0257, 5929,    606.1,   8.3588,  34.1191,2,   -999.0,9,  34.1187,2,    166.3,2,    40.20,2,  -999.00,9,    23.49,2,     0.00,2,     1.60,2, -999.000,9, -999.000,9,  -999.00,9,   -999.0,9,   -999.0,9,-999.0000,9,   -999.0,  9,  -999.00,9,   -999.0,  -999.00,9,  -999.00,9,  -999.00,9,  -999.00,9,   -999.0,-999.0000, -999,9,  601,   8.2951,  26.5378,   -999.0,9
       RF02-06,  NONE,RF-1684,  1,      8,02-12819,2,20020623,1346, 30.0130, 145.0257, 5929,    709.0,   6.2894,  34.0406,2,   -999.0,9,  34.0449,2,    135.4,2,    60.83,2,  -999.00,9,    29.91,2,     0.00,2,     2.11,2, -999.000,9, -999.000,9,  -999.00,9,   -999.0,9,   -999.0,9,-999.0000,9,   -999.0,  9,  -999.00,9,   -999.0,  -999.00,9,  -999.00,9,  -999.00,9,  -999.00,9,   -999.0,-999.0000, -999,9,  703,   6.2254,  26.7659,   -999.0,9
       RF02-06,  NONE,RF-1684,  1,      7,02-15821,2,20020623,1343, 30.0130, 145.0257, 5929,    809.9,   5.2342,  34.0996,2,   -999.0,9,  34.1024,2,     93.7,2,    81.08,2,  -999.00,9,    35.37,2,     0.00,2,     2.54,2, -999.000,9, -999.000,9,  -999.00,9,   -999.0,9,   -999.0,9,-999.0000,9,   -999.0,  9,  -999.00,9,   -999.0,  -999.00,9,  -999.00,9,  -999.00,9,  -999.00,9,   -999.0,-999.0000, -999,9,  803,   5.1669,  26.9421,   -999.0,9
       RF02-06,  NONE,RF-1684,  1,      6,02-17872,2,20020623,1340, 30.0130, 145.0257, 5929,    910.1,   4.4006,  34.1869,2,   -999.0,9,-999.0000,9,     61.7,2,   101.07,2,  -999.00,9,    38.98,2,     0.00,2,     2.81,2, -999.000,9, -999.000,9,  -999.00,9,   -999.0,9,   -999.0,9,-999.0000,9,   -999.0,  9,  -999.00,9,   -999.0,  -999.00,9,  -999.00,9,  -999.00,9,  -999.00,9,   -999.0,-999.0000, -999,9,  902,   4.3300,  27.1048,   -999.0,9
       RF02-06,  NONE,RF-1684,  1,      5,02-10155,2,20020623,1338, 30.0130, 145.0257, 5929,   1011.2,   3.9843,  34.2597,2,   -999.0,9,  34.2591,2,     47.8,2,   112.28,2,  -999.00,9,    40.65,2,     0.00,2,     2.93,2, -999.000,9, -999.000,9,  -999.00,9,   -999.0,9,   -999.0,9,-999.0000,9,   -999.0,  9,  -999.00,9,   -999.0,  -999.00,9,  -999.00,9,  -999.00,9,  -999.00,9,   -999.0,-999.0000, -999,9, 1002,   3.9083,  27.2067,   -999.0,9
       RF02-06,  NONE,RF-1684,  1,      4,02-13579,2,20020623,1333, 30.0130, 145.0257, 5929,   1263.2,   3.0598,  34.4099,2,   -999.0,9,  34.4096,2,     36.6,2,   136.96,2,  -999.00,9,    42.39,2,     0.00,2,     3.05,2, -999.000,9, -999.000,9,  -999.00,9,   -999.0,9,   -999.0,9,-999.0000,9,   -999.0,  9,  -999.00,9,   -999.0,  -999.00,9,  -999.00,9,  -999.00,9,  -999.00,9,   -999.0,-999.0000, -999,9, 1251,   2.9711,  27.4167,   -999.0,9
       RF02-06,  NONE,RF-1684,  1,      3,02-13590,2,20020623,1327, 30.0130, 145.0257, 5929,   1514.9,   2.5563,  34.4969,2,   -999.0,9,  34.4966,2,     44.4,2,   148.88,2,  -999.00,9,    42.38,2,     0.00,2,     3.04,2, -999.000,9, -999.000,9,  -999.00,9,   -999.0,9,   -999.0,9,-999.0000,9,   -999.0,  9,  -999.00,9,   -999.0,  -999.00,9,  -999.00,9,  -999.00,9,  -999.00,9,   -999.0,-999.0000, -999,9, 1499,   2.4526,  27.5317,   -999.0,9
       RF02-06,  NONE,RF-1684,  1,      2,02-12827,2,20020623,1322, 30.0130, 145.0257, 5929,   1770.0,   2.2004,  34.5540,2,   -999.0,9,  34.5525,2,     58.9,2,   155.61,2,  -999.00,9,    41.74,2,     0.00,2,     2.97,2, -999.000,9, -999.000,9,  -999.00,9,   -999.0,9,   -999.0,9,-999.0000,9,   -999.0,  9,  -999.00,9,   -999.0,  -999.00,9,  -999.00,9,  -999.00,9,  -999.00,9,   -999.0,-999.0000, -999,9, 1751,   2.0804,  27.6079,   -999.0,9
       RF02-06,  NONE,RF-1684,  1,      1,02-17871,2,20020623,1317, 30.0130, 145.0257, 5929,   2039.5,   1.9958,  34.5984,2,   -999.0,9,  34.5962,2,     85.3,2,   152.42,2,  -999.00,9,    40.14,2,     0.00,2,     2.84,2, -999.000,9, -999.000,9,  -999.00,9,   -999.0,9,   -999.0,9,-999.0000,9,   -999.0,  9,  -999.00,9,   -999.0,  -999.00,9,  -999.00,9,  -999.00,9,  -999.00,9,   -999.0,-999.0000, -999,9, 2016,   1.8563,  27.6611,   -999.0,9