BOTTLE,20130510GEMDJMAYT
EXPOCODE,SECT_ID,STNNBR,CASTNO,SAMPNO,BTLNBR,BTLNBR_FLAG_W,DATE,TIME,LATITUDE,LONGITUDE,DEPTH,CTDPRS,CTDTMP,CTDSAL,CTDSAL_FLAG_W,CTDOXY,CTDOXY_FLAG_W,SALNTY,SALNTY_FLAG_W,OXYGEN,OXYGEN_FLAG_W,SILCAT,SILCAT_FLAG_W,NITRAT,NITRAT_FLAG_W,NO2+NO3,NO2+NO3_FLAG_W,NITRIT,NITRIT_FLAG_W,PHSPHT,PHSPHT_FLAG_W,CFC-11,CFC-11_FLAG_W,CFC-12,CFC-12_FLAG_W,DELC13,DELC13_FLAG_W,TCARBN,TCARBN_FLAG_W,ALKALI,ALKALI_FLAG_W,PH,PH_FLAG_W,PH_TMP,PH_SCALE,PH_NBS,PH_NBS_FLAG_W,C13ERR,TOTALP,TOTALP_FLAG_W,AMMONI,AMMONI_FLAG_W,CHLORA,CHLORA_FLAG_W,PPHYTN,PPHYTN_FLAG_W,REVPRS,REVTMP,DEPTH_,DEPTH_FLAG,CTDDEP,THETA,SIGTHT,DOC,DOC_FLAG_W
,,,,,,,GMT,GMT,,,METER,DBAR,ITS-90,PSS-78,,UMOL/KG,,PSS-78,,UMOL/KG,,UMOL/KG,,UMOL/KG,,UMOL/KG,,UMOL/KG,,UMOL/KG,,PMOL/KG,,PMOL/KG,,/MILLE,,UMOL/KG,,UMOL/KG,,25_DEG_C,,DEG_C,,,,/MILLE,UMOL/KG,,UMOL/KG,,UG/L,,UG/L,,DBAR,ITS-90,METERS,,METERS,DEG_C,,UMOL/L,
       RF02-06,  165E,RF-1750,  1,     -9,      -9,5,20020713,1642, 40.0048, 164.9967, 5459,      0.0,  15.0058,  33.5539,2,   -999.0,9,-999.0000,9,    272.3,2,  -999.00,9,  -999.00,9,  -999.00,9,  -999.00,9,  -999.00,9, -999.000,9, -999.000,9,  -999.00,9,   -999.0,9,   -999.0,9,-999.0000,9,   -999.0,  9,     7.87,4,   -999.0,  -999.00,9,  -999.00,9,     0.86,2,     0.02,2,   -999.0,-999.0000, -999,9,    0,  15.0058,  24.8559,   -999.0,9
       RF02-06,  165E,RF-1750,  1,     21,02-12826,2,20020713,1639, 40.0048, 164.9967, 5459,     11.4,  14.9880,  33.6164,2,   -999.0,9,-999.0000,9,    268.7,2,  -999.00,9,  -999.00,9,  -999.00,9,  -999.00,9,  -999.00,9, -999.000,9, -999.000,9,  -999.00,9,   -999.0,9,   -999.0,9,-999.0000,9,   -999.0,  9,     7.88,4,   -999.0,  -999.00,9,  -999.00,9,     1.01,2,     0.03,2,   -999.0,-999.0000, -999,9,   11,  14.9863,  24.9083,   -999.0,9
       RF02-06,  165E,RF-1750,  1,     20,02-12821,2,20020713,1638, 40.0048, 164.9967, 5459,     27.2,  14.6625,  33.7636,2,   -999.0,9,-999.0000,9,    266.4,2,  -999.00,9,  -999.00,9,  -999.00,9,  -999.00,9,  -999.00,9, -999.000,9, -999.000,9,  -999.00,9,   -999.0,9,   -999.0,9,-999.0000,9,   -999.0,  9,     7.86,4,   -999.0,  -999.00,9,  -999.00,9,     0.99,2,     0.06,2,   -999.0,-999.0000, -999,9,   27,  14.6585,  25.0925,   -999.0,9
       RF02-06,  165E,RF-1750,  1,     19,02-17875,2,20020713,1637, 40.0048, 164.9967, 5459,     51.2,  10.9757,  34.0563,2,   -999.0,9,-999.0000,9,    267.8,2,  -999.00,9,  -999.00,9,  -999.00,9,  -999.00,9,  -999.00,9, -999.000,9, -999.000,9,  -999.00,9,   -999.0,9,   -999.0,9,-999.0000,9,   -999.0,  9,     7.76,4,   -999.0,  -999.00,9,  -999.00,9,     0.41,2,     0.10,2,   -999.0,-999.0000, -999,9,   51,  10.9696,  26.0461,   -999.0,9
       RF02-06,  165E,RF-1750,  1,     18,02-12830,2,20020713,1636, 40.0048, 164.9967, 5459,     76.0,   9.7667,  34.0688,2,   -999.0,9,-999.0000,9,    249.5,2,  -999.00,9,  -999.00,9,  -999.00,9,  -999.00,9,  -999.00,9, -999.000,9, -999.000,9,  -999.00,9,   -999.0,9,   -999.0,9,-999.0000,9,   -999.0,  9,     7.71,4,   -999.0,  -999.00,9,  -999.00,9,     0.18,2,     0.07,2,   -999.0,-999.0000, -999,9,   75,   9.7582,  26.2655,   -999.0,9
       RF02-06,  165E,RF-1750,  1,     17,02-17874,2,20020713,1635, 40.0048, 164.9967, 5459,    101.0,   9.3423,  34.1194,2,   -999.0,9,  34.1055,4,    226.4,2,  -999.00,9,  -999.00,9,  -999.00,9,  -999.00,9,  -999.00,9, -999.000,9, -999.000,9,  -999.00,9,   -999.0,9,   -999.0,9,-999.0000,9,   -999.0,  9,     7.66,4,   -999.0,  -999.00,9,  -999.00,9,     0.03,2,     0.02,2,   -999.0,-999.0000, -999,9,  100,   9.3313,  26.3753,   -999.0,9
       RF02-06,  165E,RF-1750,  1,     16,02-12818,2,20020713,1634, 40.0048, 164.9967, 5459,    127.2,   8.8878,  34.0879,2,   -999.0,9,-999.0000,9,    231.4,2,  -999.00,9,  -999.00,9,  -999.00,9,  -999.00,9,  -999.00,9, -999.000,9, -999.000,9,  -999.00,9,   -999.0,9,   -999.0,9,-999.0000,9,   -999.0,  9,     7.67,4,   -999.0,  -999.00,9,  -999.00,9,     0.02,2,     0.01,2,   -999.0,-999.0000, -999,9,  126,   8.8743,  26.4237,   -999.0,9
       RF02-06,  165E,RF-1750,  1,     15,02-12809,2,20020713,1632, 40.0048, 164.9967, 5459,    152.2,   7.7057,  33.9260,2,   -999.0,9,-999.0000,9,    251.8,2,  -999.00,9,  -999.00,9,  -999.00,9,  -999.00,9,  -999.00,9, -999.000,9, -999.000,9,  -999.00,9,   -999.0,9,   -999.0,9,-999.0000,9,   -999.0,  9,     7.67,4,   -999.0,  -999.00,9,  -999.00,9,     0.01,2,     0.02,2,   -999.0,-999.0000, -999,9,  151,   7.6910,  26.4755,   -999.0,9
       RF02-06,  165E,RF-1750,  1,     14,02-12817,2,20020713,1631, 40.0048, 164.9967, 5459,    202.4,   7.2917,  33.9546,2,   -999.0,9,  33.9284,4,    226.0,2,  -999.00,9,  -999.00,9,  -999.00,9,  -999.00,9,  -999.00,9, -999.000,9, -999.000,9,  -999.00,9,   -999.0,9,   -999.0,9,-999.0000,9,   -999.0,  9,     7.61,4,   -999.0,  -999.00,9,  -999.00,9,     0.00,2,     0.03,2,   -999.0,-999.0000, -999,9,  201,   7.2726,  26.5575,   -999.0,9
       RF02-06,  165E,RF-1750,  1,     13,02-15822,2,20020713,1629, 40.0048, 164.9967, 5459,    253.7,   5.8807,  33.8407,2,   -999.0,9,-999.0000,9,    220.8,2,  -999.00,9,  -999.00,9,  -999.00,9,  -999.00,9,  -999.00,9, -999.000,9, -999.000,9,  -999.00,9,   -999.0,9,   -999.0,9,-999.0000,9,   -999.0,  9,     7.55,4,   -999.0,  -999.00,9,  -999.00,9,  -999.00,9,  -999.00,9,   -999.0,-999.0000, -999,9,  252,   5.8595,  26.6541,   -999.0,9
       RF02-06,  165E,RF-1750,  1,     12,02-12808,2,20020713,1628, 40.0048, 164.9967, 5459,    302.4,   5.5924,  33.9087,2,   -999.0,9,  33.9103,2,    164.1,2,  -999.00,9,  -999.00,9,  -999.00,9,  -999.00,9,  -999.00,9, -999.000,9, -999.000,9,  -999.00,9,   -999.0,9,   -999.0,9,-999.0000,9,   -999.0,  9,     7.46,4,   -999.0,  -999.00,9,  -999.00,9,  -999.00,9,  -999.00,9,   -999.0,-999.0000, -999,9,  300,   5.5677,  26.7435,   -999.0,9
       RF02-06,  165E,RF-1750,  1,     11,02-17873,2,20020713,1626, 40.0048, 164.9967, 5459,    403.7,   4.8871,  34.0025,2,   -999.0,9,  34.0058,2,    101.4,2,  -999.00,9,  -999.00,9,  -999.00,9,  -999.00,9,  -999.00,9, -999.000,9, -999.000,9,  -999.00,9,   -999.0,9,   -999.0,9,-999.0000,9,   -999.0,  9,  -999.00,9,   -999.0,  -999.00,9,  -999.00,9,  -999.00,9,  -999.00,9,   -999.0,-999.0000, -999,9,  400,   4.8559,  26.9008,   -999.0,9
       RF02-06,  165E,RF-1750,  1,     10,02-12820,2,20020713,1623, 40.0048, 164.9967, 5459,    504.8,   4.3545,  34.0802,2,   -999.0,9,  34.0841,2,     68.9,2,  -999.00,9,  -999.00,9,  -999.00,9,  -999.00,9,  -999.00,9, -999.000,9, -999.000,9,  -999.00,9,   -999.0,9,   -999.0,9,-999.0000,9,   -999.0,  9,     7.27,4,   -999.0,  -999.00,9,  -999.00,9,  -999.00,9,  -999.00,9,   -999.0,-999.0000, -999,9,  500,   4.3172,  27.0214,   -999.0,9
       RF02-06,  165E,RF-1750,  1,      9,02-12810,2,20020713,1621, 40.0048, 164.9967, 5459,    605.4,   4.0974,  34.1881,2,   -999.0,9,  34.1874,2,     53.1,2,  -999.00,9,  -999.00,9,  -999.00,9,  -999.00,9,  -999.00,9, -999.000,9, -999.000,9,  -999.00,9,   -999.0,9,   -999.0,9,-999.0000,9,   -999.0,  9,  -999.00,9,   -999.0,  -999.00,9,  -999.00,9,  -999.00,9,  -999.00,9,   -999.0,-999.0000, -999,9,  600,   4.0533,  27.1348,   -999.0,9
       RF02-06,  165E,RF-1750,  1,      8,02-12819,2,20020713,1619, 40.0048, 164.9967, 5459,    706.3,   3.7722,  34.2460,2,   -999.0,9,  34.2459,2,     42.6,2,  -999.00,9,  -999.00,9,  -999.00,9,  -999.00,9,  -999.00,9, -999.000,9, -999.000,9,  -999.00,9,   -999.0,9,   -999.0,9,-999.0000,9,   -999.0,  9,     7.25,4,   -999.0,  -999.00,9,  -999.00,9,  -999.00,9,  -999.00,9,   -999.0,-999.0000, -999,9,  700,   3.7219,  27.2145,   -999.0,9
       RF02-06,  165E,RF-1750,  1,      7,02-15821,2,20020713,1616, 40.0048, 164.9967, 5459,    807.9,   3.4489,  34.3039,2,   -999.0,9,  34.3023,2,     38.0,2,  -999.00,9,  -999.00,9,  -999.00,9,  -999.00,9,  -999.00,9, -999.000,9, -999.000,9,  -999.00,9,   -999.0,9,   -999.0,9,-999.0000,9,   -999.0,  9,  -999.00,9,   -999.0,  -999.00,9,  -999.00,9,  -999.00,9,  -999.00,9,   -999.0,-999.0000, -999,9,  800,   3.3927,  27.2928,   -999.0,9
       RF02-06,  165E,RF-1750,  1,      6,02-17872,2,20020713,1614, 40.0048, 164.9967, 5459,    908.2,   3.2046,  34.3468,2,   -999.0,9,-999.0000,9,     34.3,2,  -999.00,9,  -999.00,9,  -999.00,9,  -999.00,9,  -999.00,9, -999.000,9, -999.000,9,  -999.00,9,   -999.0,9,   -999.0,9,-999.0000,9,   -999.0,  9,  -999.00,9,   -999.0,  -999.00,9,  -999.00,9,  -999.00,9,  -999.00,9,   -999.0,-999.0000, -999,9,  899,   3.1424,  27.3505,   -999.0,9
       RF02-06,  165E,RF-1750,  1,      5,02-10155,2,20020713,1611, 40.0048, 164.9967, 5459,   1010.1,   2.9591,  34.3884,2,   -999.0,9,  34.3872,2,     33.8,2,  -999.00,9,  -999.00,9,  -999.00,9,  -999.00,9,  -999.00,9, -999.000,9, -999.000,9,  -999.00,9,   -999.0,9,   -999.0,9,-999.0000,9,   -999.0,  9,     7.24,4,   -999.0,  -999.00,9,  -999.00,9,  -999.00,9,  -999.00,9,   -999.0,-999.0000, -999,9, 1000,   2.8910,  27.4067,   -999.0,9
       RF02-06,  165E,RF-1750,  1,      4,02-13579,2,20020713,1606, 40.0048, 164.9967, 5459,   1263.9,   2.5536,  34.4649,2,   -999.0,9,  34.4664,2,     34.2,2,  -999.00,9,  -999.00,9,  -999.00,9,  -999.00,9,  -999.00,9, -999.000,9, -999.000,9,  -999.00,9,   -999.0,9,   -999.0,9,-999.0000,9,   -999.0,  9,  -999.00,9,   -999.0,  -999.00,9,  -999.00,9,  -999.00,9,  -999.00,9,   -999.0,-999.0000, -999,9, 1250,   2.4697,  27.5046,   -999.0,9
       RF02-06,  165E,RF-1750,  1,      3,02-13590,2,20020713,1601, 40.0048, 164.9967, 5459,   1516.0,   2.2850,  34.5187,2,   -999.0,9,  34.5175,2,     42.1,2,  -999.00,9,  -999.00,9,  -999.00,9,  -999.00,9,  -999.00,9, -999.000,9, -999.000,9,  -999.00,9,   -999.0,9,   -999.0,9,-999.0000,9,   -999.0,  9,     7.24,4,   -999.0,  -999.00,9,  -999.00,9,  -999.00,9,  -999.00,9,   -999.0,-999.0000, -999,9, 1499,   2.1843,  27.5713,   -999.0,9
       RF02-06,  165E,RF-1750,  1,      2,02-12827,2,20020713,1556, 40.0048, 164.9967, 5459,   1769.6,   2.0724,  34.5619,2,   -999.0,9,  34.5625,2,     55.1,2,  -999.00,9,  -999.00,9,  -999.00,9,  -999.00,9,  -999.00,9, -999.000,9, -999.000,9,  -999.00,9,   -999.0,9,   -999.0,9,-999.0000,9,   -999.0,  9,     7.27,4,   -999.0,  -999.00,9,  -999.00,9,  -999.00,9,  -999.00,9,   -999.0,-999.0000, -999,9, 1749,   1.9541,  27.6243,   -999.0,9
       RF02-06,  165E,RF-1750,  1,      1,02-17871,4,20020713,1551, 40.0048, 164.9967, 5459,   2045.8,   1.8954,  34.5963,2,   -999.0,9,-999.0000,9,   -999.0,9,  -999.00,9,  -999.00,9,  -999.00,9,  -999.00,9,  -999.00,9, -999.000,9, -999.000,9,  -999.00,9,   -999.0,9,   -999.0,9,-999.0000,9,   -999.0,  9,     7.35,4,   -999.0,  -999.00,9,  -999.00,9,  -999.00,9,  -999.00,9,   -999.0,-999.0000, -999,9, 2020,   1.7569,  27.6671,   -999.0,9