BOTTLE,20130510GEMDJMAYT
EXPOCODE,SECT_ID,STNNBR,CASTNO,SAMPNO,BTLNBR,BTLNBR_FLAG_W,DATE,TIME,LATITUDE,LONGITUDE,DEPTH,CTDPRS,CTDTMP,CTDSAL,CTDSAL_FLAG_W,CTDOXY,CTDOXY_FLAG_W,SALNTY,SALNTY_FLAG_W,OXYGEN,OXYGEN_FLAG_W,SILCAT,SILCAT_FLAG_W,NITRAT,NITRAT_FLAG_W,NO2+NO3,NO2+NO3_FLAG_W,NITRIT,NITRIT_FLAG_W,PHSPHT,PHSPHT_FLAG_W,CFC-11,CFC-11_FLAG_W,CFC-12,CFC-12_FLAG_W,DELC13,DELC13_FLAG_W,TCARBN,TCARBN_FLAG_W,ALKALI,ALKALI_FLAG_W,PH,PH_FLAG_W,PH_TMP,PH_SCALE,PH_NBS,PH_NBS_FLAG_W,C13ERR,TOTALP,TOTALP_FLAG_W,AMMONI,AMMONI_FLAG_W,CHLORA,CHLORA_FLAG_W,PPHYTN,PPHYTN_FLAG_W,REVPRS,REVTMP,DEPTH_,DEPTH_FLAG,CTDDEP,THETA,SIGTHT,DOC,DOC_FLAG_W
,,,,,,,GMT,GMT,,,METER,DBAR,ITS-90,PSS-78,,UMOL/KG,,PSS-78,,UMOL/KG,,UMOL/KG,,UMOL/KG,,UMOL/KG,,UMOL/KG,,UMOL/KG,,PMOL/KG,,PMOL/KG,,/MILLE,,UMOL/KG,,UMOL/KG,,25_DEG_C,,DEG_C,,,,/MILLE,UMOL/KG,,UMOL/KG,,UG/L,,UG/L,,DBAR,ITS-90,METERS,,METERS,DEG_C,,UMOL/L,
       RF02-06,  142E,RF-1678,  1,     -9,      -9,5,20020622,0818, 33.0143, 141.9952, 8587,      0.0,  23.0785,  34.6375,2,   -999.0,9,-999.0000,9,    220.6,2,  -999.00,9,  -999.00,9,  -999.00,9,  -999.00,9,  -999.00,9, -999.000,9, -999.000,9,  -999.00,9,   -999.0,9,   -999.0,9,-999.0000,9,   -999.0,  9,  -999.00,9,   -999.0,  -999.00,9,  -999.00,9,  -999.00,9,  -999.00,9,   -999.0,-999.0000, -999,9,    0,  23.0785,  23.6361,   -999.0,9
       RF02-06,  142E,RF-1678,  1,     21,02-12826,2,20020622,0816, 33.0143, 141.9952, 8587,     13.1,  22.8227,  34.6360,2,   -999.0,9,-999.0000,9,    220.8,2,  -999.00,9,  -999.00,9,  -999.00,9,  -999.00,9,  -999.00,9, -999.000,9, -999.000,9,  -999.00,9,   -999.0,9,   -999.0,9,-999.0000,9,   -999.0,  9,  -999.00,9,   -999.0,  -999.00,9,  -999.00,9,  -999.00,9,  -999.00,9,   -999.0,-999.0000, -999,9,   13,  22.8201,  23.7092,   -999.0,9
       RF02-06,  142E,RF-1678,  1,     20,02-12821,2,20020622,0814, 33.0143, 141.9952, 8587,     27.3,  22.2473,  34.6461,2,   -999.0,9,-999.0000,9,    222.5,2,  -999.00,9,  -999.00,9,  -999.00,9,  -999.00,9,  -999.00,9, -999.000,9, -999.000,9,  -999.00,9,   -999.0,9,   -999.0,9,-999.0000,9,   -999.0,  9,  -999.00,9,   -999.0,  -999.00,9,  -999.00,9,  -999.00,9,  -999.00,9,   -999.0,-999.0000, -999,9,   27,  22.2419,  23.8811,   -999.0,9
       RF02-06,  142E,RF-1678,  1,     19,02-17875,2,20020622,0813, 33.0143, 141.9952, 8587,     51.6,  20.0237,  34.7469,2,   -999.0,9,-999.0000,9,    234.0,2,  -999.00,9,  -999.00,9,  -999.00,9,  -999.00,9,  -999.00,9, -999.000,9, -999.000,9,  -999.00,9,   -999.0,9,   -999.0,9,-999.0000,9,   -999.0,  9,  -999.00,9,   -999.0,  -999.00,9,  -999.00,9,  -999.00,9,  -999.00,9,   -999.0,-999.0000, -999,9,   51,  20.0142,  24.5650,   -999.0,9
       RF02-06,  142E,RF-1678,  1,     18,02-12830,2,20020622,0811, 33.0143, 141.9952, 8587,     78.3,  19.3408,  34.7925,2,   -999.0,9,-999.0000,9,    223.6,2,  -999.00,9,  -999.00,9,  -999.00,9,  -999.00,9,  -999.00,9, -999.000,9, -999.000,9,  -999.00,9,   -999.0,9,   -999.0,9,-999.0000,9,   -999.0,  9,  -999.00,9,   -999.0,  -999.00,9,  -999.00,9,  -999.00,9,  -999.00,9,   -999.0,-999.0000, -999,9,   78,  19.3267,  24.7788,   -999.0,9
       RF02-06,  142E,RF-1678,  1,     17,02-17874,2,20020622,0810, 33.0143, 141.9952, 8587,    103.1,  18.7856,  34.7921,2,   -999.0,9,  34.8032,2,    218.2,2,  -999.00,9,  -999.00,9,  -999.00,9,  -999.00,9,  -999.00,9, -999.000,9, -999.000,9,  -999.00,9,   -999.0,9,   -999.0,9,-999.0000,9,   -999.0,  9,  -999.00,9,   -999.0,  -999.00,9,  -999.00,9,  -999.00,9,  -999.00,9,   -999.0,-999.0000, -999,9,  102,  18.7675,  24.9213,   -999.0,9
       RF02-06,  142E,RF-1678,  1,     16,02-12818,2,20020622,0809, 33.0143, 141.9952, 8587,    128.4,  18.5560,  34.8006,2,   -999.0,9,-999.0000,9,    220.6,2,  -999.00,9,  -999.00,9,  -999.00,9,  -999.00,9,  -999.00,9, -999.000,9, -999.000,9,  -999.00,9,   -999.0,9,   -999.0,9,-999.0000,9,   -999.0,  9,  -999.00,9,   -999.0,  -999.00,9,  -999.00,9,  -999.00,9,  -999.00,9,   -999.0,-999.0000, -999,9,  128,  18.5335,  24.9867,   -999.0,9
       RF02-06,  142E,RF-1678,  1,     15,02-12809,2,20020622,0807, 33.0143, 141.9952, 8587,    154.0,  18.3312,  34.7838,2,   -999.0,9,-999.0000,9,    224.3,2,  -999.00,9,  -999.00,9,  -999.00,9,  -999.00,9,  -999.00,9, -999.000,9, -999.000,9,  -999.00,9,   -999.0,9,   -999.0,9,-999.0000,9,   -999.0,  9,  -999.00,9,   -999.0,  -999.00,9,  -999.00,9,  -999.00,9,  -999.00,9,   -999.0,-999.0000, -999,9,  153,  18.3044,  25.0311,   -999.0,9
       RF02-06,  142E,RF-1678,  1,     14,02-12817,2,20020622,0805, 33.0143, 141.9952, 8587,    202.6,  18.1307,  34.7719,2,   -999.0,9,  34.7863,4,    223.5,2,  -999.00,9,  -999.00,9,  -999.00,9,  -999.00,9,  -999.00,9, -999.000,9, -999.000,9,  -999.00,9,   -999.0,9,   -999.0,9,-999.0000,9,   -999.0,  9,  -999.00,9,   -999.0,  -999.00,9,  -999.00,9,  -999.00,9,  -999.00,9,   -999.0,-999.0000, -999,9,  201,  18.0958,  25.0737,   -999.0,9
       RF02-06,  142E,RF-1678,  1,     13,02-15822,2,20020622,0804, 33.0143, 141.9952, 8587,    254.9,  18.0050,  34.7718,2,   -999.0,9,-999.0000,9,    222.5,2,  -999.00,9,  -999.00,9,  -999.00,9,  -999.00,9,  -999.00,9, -999.000,9, -999.000,9,  -999.00,9,   -999.0,9,   -999.0,9,-999.0000,9,   -999.0,  9,  -999.00,9,   -999.0,  -999.00,9,  -999.00,9,  -999.00,9,  -999.00,9,   -999.0,-999.0000, -999,9,  253,  17.9612,  25.1068,   -999.0,9
       RF02-06,  142E,RF-1678,  1,     12,02-12808,2,20020622,0802, 33.0143, 141.9952, 8587,    304.9,  17.9328,  34.7678,2,   -999.0,9,  34.7786,2,    225.3,2,  -999.00,9,  -999.00,9,  -999.00,9,  -999.00,9,  -999.00,9, -999.000,9, -999.000,9,  -999.00,9,   -999.0,9,   -999.0,9,-999.0000,9,   -999.0,  9,  -999.00,9,   -999.0,  -999.00,9,  -999.00,9,  -999.00,9,  -999.00,9,   -999.0,-999.0000, -999,9,  302,  17.8805,  25.1236,   -999.0,9
       RF02-06,  142E,RF-1678,  1,     11,02-17873,2,20020622,0759, 33.0143, 141.9952, 8587,    404.0,  16.9655,  34.7106,2,   -999.0,9,  34.7221,2,    195.7,2,  -999.00,9,  -999.00,9,  -999.00,9,  -999.00,9,  -999.00,9, -999.000,9, -999.000,9,  -999.00,9,   -999.0,9,   -999.0,9,-999.0000,9,   -999.0,  9,  -999.00,9,   -999.0,  -999.00,9,  -999.00,9,  -999.00,9,  -999.00,9,   -999.0,-999.0000, -999,9,  401,  16.8987,  25.3162,   -999.0,9
       RF02-06,  142E,RF-1678,  1,     10,02-12820,2,20020622,0756, 33.0143, 141.9952, 8587,    505.3,  14.8679,  34.5809,2,   -999.0,9,  34.6052,4,    181.7,2,  -999.00,9,  -999.00,9,  -999.00,9,  -999.00,9,  -999.00,9, -999.000,9, -999.000,9,  -999.00,9,   -999.0,9,   -999.0,9,-999.0000,9,   -999.0,  9,  -999.00,9,   -999.0,  -999.00,9,  -999.00,9,  -999.00,9,  -999.00,9,   -999.0,-999.0000, -999,9,  501,  14.7914,  25.6943,   -999.0,9
       RF02-06,  142E,RF-1678,  1,      9,02-12810,2,20020622,0754, 33.0143, 141.9952, 8587,    606.7,  12.3038,  34.4441,2,   -999.0,9,  34.4361,4,    169.0,2,  -999.00,9,  -999.00,9,  -999.00,9,  -999.00,9,  -999.00,9, -999.000,9, -999.000,9,  -999.00,9,   -999.0,9,   -999.0,9,-999.0000,9,   -999.0,  9,  -999.00,9,   -999.0,  -999.00,9,  -999.00,9,  -999.00,9,  -999.00,9,   -999.0,-999.0000, -999,9,  602,  12.2225,  26.1147,   -999.0,9
       RF02-06,  142E,RF-1678,  1,      8,02-12819,2,20020622,0751, 33.0143, 141.9952, 8587,    707.7,   9.7439,  34.2817,2,   -999.0,9,  34.2795,2,    151.7,2,  -999.00,9,  -999.00,9,  -999.00,9,  -999.00,9,  -999.00,9, -999.000,9, -999.000,9,  -999.00,9,   -999.0,9,   -999.0,9,-999.0000,9,   -999.0,  9,  -999.00,9,   -999.0,  -999.00,9,  -999.00,9,  -999.00,9,  -999.00,9,   -999.0,-999.0000, -999,9,  702,   9.6617,  26.4479,   -999.0,9
       RF02-06,  142E,RF-1678,  1,      7,02-15821,2,20020622,0748, 33.0143, 141.9952, 8587,    808.7,   7.1208,  34.1381,2,   -999.0,9,  34.1381,2,    135.6,2,  -999.00,9,  -999.00,9,  -999.00,9,  -999.00,9,  -999.00,9, -999.000,9, -999.000,9,  -999.00,9,   -999.0,9,   -999.0,9,-999.0000,9,   -999.0,  9,  -999.00,9,   -999.0,  -999.00,9,  -999.00,9,  -999.00,9,  -999.00,9,   -999.0,-999.0000, -999,9,  801,   7.0421,  26.7340,   -999.0,9
       RF02-06,  142E,RF-1678,  1,      6,02-17872,2,20020622,0746, 33.0143, 141.9952, 8587,    909.6,   5.7135,  34.1329,2,   -999.0,9,-999.0000,9,    104.7,2,  -999.00,9,  -999.00,9,  -999.00,9,  -999.00,9,  -999.00,9, -999.000,9, -999.000,9,  -999.00,9,   -999.0,9,   -999.0,9,-999.0000,9,   -999.0,  9,  -999.00,9,   -999.0,  -999.00,9,  -999.00,9,  -999.00,9,  -999.00,9,   -999.0,-999.0000, -999,9,  901,   5.6340,  26.9128,   -999.0,9
       RF02-06,  142E,RF-1678,  1,      5,02-10155,2,20020622,0743, 33.0143, 141.9952, 8587,   1010.0,   4.6816,  34.1610,2,   -999.0,9,  34.1585,2,     71.3,2,  -999.00,9,  -999.00,9,  -999.00,9,  -999.00,9,  -999.00,9, -999.000,9, -999.000,9,  -999.00,9,   -999.0,9,   -999.0,9,-999.0000,9,   -999.0,  9,  -999.00,9,   -999.0,  -999.00,9,  -999.00,9,  -999.00,9,  -999.00,9,   -999.0,-999.0000, -999,9, 1000,   4.6004,  27.0550,   -999.0,9
       RF02-06,  142E,RF-1678,  1,      4,02-13579,2,20020622,0738, 33.0143, 141.9952, 8587,   1262.8,   3.5652,  34.3269,2,   -999.0,9,  34.3245,2,     46.0,2,  -999.00,9,  -999.00,9,  -999.00,9,  -999.00,9,  -999.00,9, -999.000,9, -999.000,9,  -999.00,9,   -999.0,9,   -999.0,9,-999.0000,9,   -999.0,  9,  -999.00,9,   -999.0,  -999.00,9,  -999.00,9,  -999.00,9,  -999.00,9,   -999.0,-999.0000, -999,9, 1250,   3.4717,  27.3035,   -999.0,9
       RF02-06,  142E,RF-1678,  1,      3,02-13590,2,20020622,0733, 33.0143, 141.9952, 8587,   1515.9,   2.8272,  34.4519,2,   -999.0,9,  34.4510,2,     44.7,2,  -999.00,9,  -999.00,9,  -999.00,9,  -999.00,9,  -999.00,9, -999.000,9, -999.000,9,  -999.00,9,   -999.0,9,   -999.0,9,-999.0000,9,   -999.0,  9,  -999.00,9,   -999.0,  -999.00,9,  -999.00,9,  -999.00,9,  -999.00,9,   -999.0,-999.0000, -999,9, 1500,   2.7204,  27.4725,   -999.0,9
       RF02-06,  142E,RF-1678,  1,      2,02-12827,2,20020622,0728, 33.0143, 141.9952, 8587,   1770.1,   2.4257,  34.5132,2,   -999.0,9,  34.5126,2,     49.4,2,  -999.00,9,  -999.00,9,  -999.00,9,  -999.00,9,  -999.00,9, -999.000,9, -999.000,9,  -999.00,9,   -999.0,9,   -999.0,9,-999.0000,9,   -999.0,  9,  -999.00,9,   -999.0,  -999.00,9,  -999.00,9,  -999.00,9,  -999.00,9,   -999.0,-999.0000, -999,9, 1750,   2.3027,  27.5572,   -999.0,9
       RF02-06,  142E,RF-1678,  1,      1,02-17871,2,20020622,0722, 33.0143, 141.9952, 8587,   2048.7,   2.1470,  34.5649,2,   -999.0,9,  34.5649,2,     64.1,2,  -999.00,9,  -999.00,9,  -999.00,9,  -999.00,9,  -999.00,9, -999.000,9, -999.000,9,  -999.00,9,   -999.0,9,   -999.0,9,-999.0000,9,   -999.0,  9,  -999.00,9,   -999.0,  -999.00,9,  -999.00,9,  -999.00,9,  -999.00,9,   -999.0,-999.0000, -999,9, 2024,   2.0044,  27.6228,   -999.0,9