BOTTLE,20130510GEMDJMAYT
EXPOCODE,SECT_ID,STNNBR,CASTNO,SAMPNO,BTLNBR,BTLNBR_FLAG_W,DATE,TIME,LATITUDE,LONGITUDE,DEPTH,CTDPRS,CTDTMP,CTDSAL,CTDSAL_FLAG_W,CTDOXY,CTDOXY_FLAG_W,SALNTY,SALNTY_FLAG_W,OXYGEN,OXYGEN_FLAG_W,SILCAT,SILCAT_FLAG_W,NITRAT,NITRAT_FLAG_W,NO2+NO3,NO2+NO3_FLAG_W,NITRIT,NITRIT_FLAG_W,PHSPHT,PHSPHT_FLAG_W,CFC-11,CFC-11_FLAG_W,CFC-12,CFC-12_FLAG_W,DELC13,DELC13_FLAG_W,TCARBN,TCARBN_FLAG_W,ALKALI,ALKALI_FLAG_W,PH,PH_FLAG_W,PH_TMP,PH_SCALE,PH_NBS,PH_NBS_FLAG_W,C13ERR,TOTALP,TOTALP_FLAG_W,AMMONI,AMMONI_FLAG_W,CHLORA,CHLORA_FLAG_W,PPHYTN,PPHYTN_FLAG_W,REVPRS,REVTMP,DEPTH_,DEPTH_FLAG,CTDDEP,THETA,SIGTHT,DOC,DOC_FLAG_W
,,,,,,,GMT,GMT,,,METER,DBAR,ITS-90,PSS-78,,UMOL/KG,,PSS-78,,UMOL/KG,,UMOL/KG,,UMOL/KG,,UMOL/KG,,UMOL/KG,,UMOL/KG,,PMOL/KG,,PMOL/KG,,/MILLE,,UMOL/KG,,UMOL/KG,,25_DEG_C,,DEG_C,,,,/MILLE,UMOL/KG,,UMOL/KG,,UG/L,,UG/L,,DBAR,ITS-90,METERS,,METERS,DEG_C,,UMOL/L,
       RF02-06,  NONE,RF-1710,  1,     -9,      -9,5,20020628,1946, 39.0048, 146.9993, 5373,      0.0,  10.0766,  32.7899,2,   -999.0,9,-999.0000,9,    310.1,2,     7.93,2,  -999.00,9,     7.65,2,     0.11,2,     0.89,2, -999.000,9, -999.000,9,  -999.00,9,   -999.0,9,   -999.0,9,-999.0000,9,   -999.0,  9,  -999.00,9,   -999.0,  -999.00,9,  -999.00,9,  -999.00,9,  -999.00,9,   -999.0,-999.0000, -999,9,    0,  10.0766,  25.2138,   -999.0,9
       RF02-06,  NONE,RF-1710,  1,     21,02-12826,2,20020628,1944, 39.0048, 146.9993, 5373,     10.7,   9.5406,  32.9274,2,   -999.0,9,-999.0000,9,    307.4,2,     8.64,2,  -999.00,9,     8.07,2,     0.12,2,     0.90,2, -999.000,9, -999.000,9,  -999.00,9,   -999.0,9,   -999.0,9,-999.0000,9,   -999.0,  9,  -999.00,9,   -999.0,  -999.00,9,  -999.00,9,  -999.00,9,  -999.00,9,   -999.0,-999.0000, -999,9,   11,   9.5395,  25.4096,   -999.0,9
       RF02-06,  NONE,RF-1710,  1,     20,02-12821,2,20020628,1942, 39.0048, 146.9993, 5373,     25.3,   6.3110,  32.8581,2,   -999.0,9,-999.0000,9,    325.5,2,    18.85,2,  -999.00,9,    14.78,2,     0.23,2,     1.42,2, -999.000,9, -999.000,9,  -999.00,9,   -999.0,9,   -999.0,9,-999.0000,9,   -999.0,  9,  -999.00,9,   -999.0,  -999.00,9,  -999.00,9,  -999.00,9,  -999.00,9,   -999.0,-999.0000, -999,9,   25,   6.3088,  25.8219,   -999.0,9
       RF02-06,  NONE,RF-1710,  1,     19,02-17875,2,20020628,1941, 39.0048, 146.9993, 5373,     52.1,   1.2675,  33.0939,2,   -999.0,9,-999.0000,9,    327.1,2,    45.27,2,  -999.00,9,    25.54,2,     0.56,2,     2.08,2, -999.000,9, -999.000,9,  -999.00,9,   -999.0,9,   -999.0,9,-999.0000,9,   -999.0,  9,  -999.00,9,   -999.0,  -999.00,9,  -999.00,9,  -999.00,9,  -999.00,9,   -999.0,-999.0000, -999,9,   52,   1.2653,  26.4961,   -999.0,9
       RF02-06,  NONE,RF-1710,  1,     18,02-12830,2,20020628,1939, 39.0048, 146.9993, 5373,     75.2,   1.0459,  33.1174,2,   -999.0,9,-999.0000,9,    322.2,2,    47.45,2,  -999.00,9,    26.47,2,     0.48,2,     2.07,2, -999.000,9, -999.000,9,  -999.00,9,   -999.0,9,   -999.0,9,-999.0000,9,   -999.0,  9,  -999.00,9,   -999.0,  -999.00,9,  -999.00,9,  -999.00,9,  -999.00,9,   -999.0,-999.0000, -999,9,   75,   1.0427,  26.5291,   -999.0,9
       RF02-06,  NONE,RF-1710,  1,     17,02-17874,2,20020628,1938, 39.0048, 146.9993, 5373,    101.9,   1.0381,  33.1724,2,   -999.0,9,  33.1694,2,    304.8,2,    51.19,2,  -999.00,9,    27.67,2,     0.03,2,     2.13,2, -999.000,9, -999.000,9,  -999.00,9,   -999.0,9,   -999.0,9,-999.0000,9,   -999.0,  9,  -999.00,9,   -999.0,  -999.00,9,  -999.00,9,  -999.00,9,  -999.00,9,   -999.0,-999.0000, -999,9,  101,   1.0338,  26.5738,   -999.0,9
       RF02-06,  NONE,RF-1710,  1,     16,02-12818,2,20020628,1937, 39.0048, 146.9993, 5373,    126.9,   1.4694,  33.2954,2,   -999.0,9,-999.0000,9,    257.2,2,    59.87,2,  -999.00,9,    30.13,2,     0.00,2,     2.28,2, -999.000,9, -999.000,9,  -999.00,9,   -999.0,9,   -999.0,9,-999.0000,9,   -999.0,  9,  -999.00,9,   -999.0,  -999.00,9,  -999.00,9,  -999.00,9,  -999.00,9,   -999.0,-999.0000, -999,9,  126,   1.4635,  26.6446,   -999.0,9
       RF02-06,  NONE,RF-1710,  1,     15,02-12809,2,20020628,1935, 39.0048, 146.9993, 5373,    151.5,   1.9735,  33.4241,2,   -999.0,9,-999.0000,9,    211.5,2,    66.97,2,  -999.00,9,    32.23,2,     0.00,2,     2.43,2, -999.000,9, -999.000,9,  -999.00,9,   -999.0,9,   -999.0,9,-999.0000,9,   -999.0,  9,  -999.00,9,   -999.0,  -999.00,9,  -999.00,9,  -999.00,9,  -999.00,9,   -999.0,-999.0000, -999,9,  150,   1.9658,  26.7117,   -999.0,9
       RF02-06,  NONE,RF-1710,  1,     14,02-12817,2,20020628,1933, 39.0048, 146.9993, 5373,    201.4,   2.3440,  33.5711,2,   -999.0,9,  33.5745,2,    154.9,2,    79.01,2,  -999.00,9,    35.80,2,     0.00,2,     2.65,2, -999.000,9, -999.000,9,  -999.00,9,   -999.0,9,   -999.0,9,-999.0000,9,   -999.0,  9,  -999.00,9,   -999.0,  -999.00,9,  -999.00,9,  -999.00,9,  -999.00,9,   -999.0,-999.0000, -999,9,  200,   2.3330,  26.8009,   -999.0,9
       RF02-06,  NONE,RF-1710,  1,     13,02-15822,2,20020628,1931, 39.0048, 146.9993, 5373,    252.3,   2.5607,  33.6877,2,   -999.0,9,-999.0000,9,    120.3,2,    87.83,2,  -999.00,9,    37.70,2,     0.00,2,     2.82,2, -999.000,9, -999.000,9,  -999.00,9,   -999.0,9,   -999.0,9,-999.0000,9,   -999.0,  9,  -999.00,9,   -999.0,  -999.00,9,  -999.00,9,  -999.00,9,  -999.00,9,   -999.0,-999.0000, -999,9,  250,   2.5463,  26.8767,   -999.0,9
       RF02-06,  NONE,RF-1710,  1,     12,02-12808,2,20020628,1929, 39.0048, 146.9993, 5373,    301.9,   2.8763,  33.8078,2,   -999.0,9,  33.7992,2,    430.8,4,    95.82,2,  -999.00,9,    39.61,2,     0.00,2,     2.93,2, -999.000,9, -999.000,9,  -999.00,9,   -999.0,9,   -999.0,9,-999.0000,9,   -999.0,  9,  -999.00,9,   -999.0,  -999.00,9,  -999.00,9,  -999.00,9,  -999.00,9,   -999.0,-999.0000, -999,9,  299,   2.8581,  26.9460,   -999.0,9
       RF02-06,  NONE,RF-1710,  1,     11,02-17873,2,20020628,1927, 39.0048, 146.9993, 5373,    402.5,   3.0915,  33.9542,2,   -999.0,9,  33.9517,2,     57.5,2,   108.18,2,  -999.00,9,    41.65,2,     0.00,2,     3.06,2, -999.000,9, -999.000,9,  -999.00,9,   -999.0,9,   -999.0,9,-999.0000,9,   -999.0,  9,  -999.00,9,   -999.0,  -999.00,9,  -999.00,9,  -999.00,9,  -999.00,9,   -999.0,-999.0000, -999,9,  399,   3.0662,  27.0443,   -999.0,9
       RF02-06,  NONE,RF-1710,  1,     10,02-12820,2,20020628,1924, 39.0048, 146.9993, 5373,    504.2,   3.1028,  34.0763,2,   -999.0,9,  34.0773,2,     42.4,2,   119.60,2,  -999.00,9,    42.54,2,     0.00,2,     3.13,2, -999.000,9, -999.000,9,  -999.00,9,   -999.0,9,   -999.0,9,-999.0000,9,   -999.0,  9,  -999.00,9,   -999.0,  -999.00,9,  -999.00,9,  -999.00,9,  -999.00,9,   -999.0,-999.0000, -999,9,  500,   3.0705,  27.1413,   -999.0,9
       RF02-06,  NONE,RF-1710,  1,      9,02-12810,2,20020628,1921, 39.0048, 146.9993, 5373,    605.1,   3.0460,  34.1866,2,   -999.0,9,  34.1929,2,     31.3,2,   129.79,2,  -999.00,9,    43.04,2,     0.00,2,     3.15,2, -999.000,9, -999.000,9,  -999.00,9,   -999.0,9,   -999.0,9,-999.0000,9,   -999.0,  9,  -999.00,9,   -999.0,  -999.00,9,  -999.00,9,  -999.00,9,  -999.00,9,   -999.0,-999.0000, -999,9,  600,   3.0069,  27.2352,   -999.0,9
       RF02-06,  NONE,RF-1710,  1,      8,02-12819,2,20020628,1918, 39.0048, 146.9993, 5373,    705.7,   2.9953,  34.2598,2,   -999.0,9,  34.2585,2,     29.1,2,   135.16,2,  -999.00,9,    43.06,2,     0.00,2,     3.14,2, -999.000,9, -999.000,9,  -999.00,9,   -999.0,9,   -999.0,9,-999.0000,9,   -999.0,  9,  -999.00,9,   -999.0,  -999.00,9,  -999.00,9,  -999.00,9,  -999.00,9,   -999.0,-999.0000, -999,9,  699,   2.9493,  27.2987,   -999.0,9
       RF02-06,  NONE,RF-1710,  1,      7,02-15821,3,20020628,1916, 39.0048, 146.9993, 5373,    806.1,   2.9008,  34.3362,2,   -999.0,9,  34.3339,2,     32.5,2,   140.21,2,  -999.00,9,    42.78,2,     0.00,2,     3.11,2, -999.000,9, -999.000,9,  -999.00,9,   -999.0,9,   -999.0,9,-999.0000,9,   -999.0,  9,  -999.00,9,   -999.0,  -999.00,9,  -999.00,9,  -999.00,9,  -999.00,9,   -999.0,-999.0000, -999,9,  798,   2.8482,  27.3688,   -999.0,9
       RF02-06,  NONE,RF-1710,  1,      6,02-17872,2,20020628,1913, 39.0048, 146.9993, 5373,    907.1,   2.8720,  34.3880,2,   -999.0,9,-999.0000,9,     37.8,2,   142.21,2,  -999.00,9,    42.62,2,     0.00,2,     3.11,2, -999.000,9, -999.000,9,  -999.00,9,   -999.0,9,   -999.0,9,-999.0000,9,   -999.0,  9,  -999.00,9,   -999.0,  -999.00,9,  -999.00,9,  -999.00,9,  -999.00,9,   -999.0,-999.0000, -999,9,  898,   2.8122,  27.4134,   -999.0,9
       RF02-06,  NONE,RF-1710,  1,      5,02-10155,2,20020628,1910, 39.0048, 146.9993, 5373,   1009.1,   2.6890,  34.4207,2,   -999.0,9,  34.4221,2,     38.3,2,   146.60,2,  -999.00,9,    42.61,2,     0.00,2,     3.12,2, -999.000,9, -999.000,9,  -999.00,9,   -999.0,9,   -999.0,9,-999.0000,9,   -999.0,  9,  -999.00,9,   -999.0,  -999.00,9,  -999.00,9,  -999.00,9,  -999.00,9,   -999.0,-999.0000, -999,9,  999,   2.6230,  27.4561,   -999.0,9
       RF02-06,  NONE,RF-1710,  1,      4,02-13579,2,20020628,1904, 39.0048, 146.9993, 5373,   1262.0,   2.4471,  34.5008,2,   -999.0,9,  34.4998,2,    294.0,4,   151.94,2,  -999.00,9,    42.46,2,     0.00,2,     3.06,2, -999.000,9, -999.000,9,  -999.00,9,   -999.0,9,   -999.0,9,-999.0000,9,   -999.0,  9,  -999.00,9,   -999.0,  -999.00,9,  -999.00,9,  -999.00,9,  -999.00,9,   -999.0,-999.0000, -999,9, 1249,   2.3643,  27.5421,   -999.0,9
       RF02-06,  NONE,RF-1710,  1,      3,02-13590,2,20020628,1859, 39.0048, 146.9993, 5373,   1516.4,   2.1932,  34.5451,2,   -999.0,9,  34.5452,2,     54.8,2,   157.01,2,  -999.00,9,    42.05,2,     0.00,2,     3.04,2, -999.000,9, -999.000,9,  -999.00,9,   -999.0,9,   -999.0,9,-999.0000,9,   -999.0,  9,  -999.00,9,   -999.0,  -999.00,9,  -999.00,9,  -999.00,9,  -999.00,9,   -999.0,-999.0000, -999,9, 1499,   2.0935,  27.5998,   -999.0,9
       RF02-06,  NONE,RF-1710,  1,      2,02-12827,2,20020628,1854, 39.0048, 146.9993, 5373,   1769.4,   2.0309,  34.5777,2,   -999.0,9,  34.5777,2,     67.1,2,   158.50,2,  -999.00,9,    41.37,2,     0.00,2,     2.98,2, -999.000,9, -999.000,9,  -999.00,9,   -999.0,9,   -999.0,9,-999.0000,9,   -999.0,  9,  -999.00,9,   -999.0,  -999.00,9,  -999.00,9,  -999.00,9,  -999.00,9,   -999.0,-999.0000, -999,9, 1749,   1.9131,  27.6402,   -999.0,9
       RF02-06,  NONE,RF-1710,  1,      1,02-17871,2,20020628,1848, 39.0048, 146.9993, 5373,   2044.6,   1.8649,  34.6082,2,   -999.0,9,  34.6062,2,     83.8,2,   158.69,2,  -999.00,9,    40.50,2,     0.00,2,     2.90,2, -999.000,9, -999.000,9,  -999.00,9,   -999.0,9,   -999.0,9,-999.0000,9,   -999.0,  9,  -999.00,9,   -999.0,  -999.00,9,  -999.00,9,  -999.00,9,  -999.00,9,   -999.0,-999.0000, -999,9, 2019,   1.7269,  27.6789,   -999.0,9