BOTTLE,20130510GEMDJMAYT
EXPOCODE,SECT_ID,STNNBR,CASTNO,SAMPNO,BTLNBR,BTLNBR_FLAG_W,DATE,TIME,LATITUDE,LONGITUDE,DEPTH,CTDPRS,CTDTMP,CTDSAL,CTDSAL_FLAG_W,CTDOXY,CTDOXY_FLAG_W,SALNTY,SALNTY_FLAG_W,OXYGEN,OXYGEN_FLAG_W,SILCAT,SILCAT_FLAG_W,NITRAT,NITRAT_FLAG_W,NO2+NO3,NO2+NO3_FLAG_W,NITRIT,NITRIT_FLAG_W,PHSPHT,PHSPHT_FLAG_W,CFC-11,CFC-11_FLAG_W,CFC-12,CFC-12_FLAG_W,DELC13,DELC13_FLAG_W,TCARBN,TCARBN_FLAG_W,ALKALI,ALKALI_FLAG_W,PH,PH_FLAG_W,PH_TMP,PH_SCALE,PH_NBS,PH_NBS_FLAG_W,C13ERR,TOTALP,TOTALP_FLAG_W,AMMONI,AMMONI_FLAG_W,CHLORA,CHLORA_FLAG_W,PPHYTN,PPHYTN_FLAG_W,REVPRS,REVTMP,DEPTH_,DEPTH_FLAG,CTDDEP,THETA,SIGTHT,DOC,DOC_FLAG_W
,,,,,,,GMT,GMT,,,METER,DBAR,ITS-90,PSS-78,,UMOL/KG,,PSS-78,,UMOL/KG,,UMOL/KG,,UMOL/KG,,UMOL/KG,,UMOL/KG,,UMOL/KG,,PMOL/KG,,PMOL/KG,,/MILLE,,UMOL/KG,,UMOL/KG,,25_DEG_C,,DEG_C,,,,/MILLE,UMOL/KG,,UMOL/KG,,UG/L,,UG/L,,DBAR,ITS-90,METERS,,METERS,DEG_C,,UMOL/L,
       RF02-06,  142E,RF-1721,  1,     -9,      -9,5,20020630,0606, 38.9952, 142.3188,  849,      0.0,  16.1438,  33.1364,2,   -999.0,9,-999.0000,9,    264.0,2,     0.51,2,  -999.00,9,     0.05,2,     0.00,2,     0.15,2, -999.000,9, -999.000,9,  -999.00,9,   -999.0,9,   -999.0,9,-999.0000,9,   -999.0,  9,  -999.00,9,   -999.0,  -999.00,9,  -999.00,9,  -999.00,9,  -999.00,9,   -999.0,-999.0000, -999,9,    0,  16.1438,  24.2820,   -999.0,9
       RF02-06,  142E,RF-1721,  1,     15,02-12809,2,20020630,0604, 38.9952, 142.3188,  849,      9.9,  14.8291,  33.1679,2,   -999.0,9,-999.0000,9,    276.6,2,     0.42,2,  -999.00,9,     0.00,2,     0.00,2,     0.10,2, -999.000,9, -999.000,9,  -999.00,9,   -999.0,9,   -999.0,9,-999.0000,9,   -999.0,  9,  -999.00,9,   -999.0,  -999.00,9,  -999.00,9,  -999.00,9,  -999.00,9,   -999.0,-999.0000, -999,9,   10,  14.8277,  24.5969,   -999.0,9
       RF02-06,  142E,RF-1721,  1,     14,02-12817,2,20020630,0602, 38.9952, 142.3188,  849,     25.6,  14.2284,  33.2672,2,   -999.0,9,-999.0000,9,    288.3,2,     0.72,2,  -999.00,9,     0.25,2,     0.02,2,     0.13,2, -999.000,9, -999.000,9,  -999.00,9,   -999.0,9,   -999.0,9,-999.0000,9,   -999.0,  9,  -999.00,9,   -999.0,  -999.00,9,  -999.00,9,  -999.00,9,  -999.00,9,   -999.0,-999.0000, -999,9,   25,  14.2247,  24.8014,   -999.0,9
       RF02-06,  142E,RF-1721,  1,     13,02-15822,2,20020630,0600, 38.9952, 142.3188,  849,     51.5,   6.9363,  33.2093,2,   -999.0,9,-999.0000,9,    330.3,2,    10.99,2,  -999.00,9,    10.93,2,     0.19,2,     1.10,2, -999.000,9, -999.000,9,  -999.00,9,   -999.0,9,   -999.0,9,-999.0000,9,   -999.0,  9,  -999.00,9,   -999.0,  -999.00,9,  -999.00,9,  -999.00,9,  -999.00,9,   -999.0,-999.0000, -999,9,   51,   6.9317,  26.0175,   -999.0,9
       RF02-06,  142E,RF-1721,  1,     12,02-12808,2,20020630,0559, 38.9952, 142.3188,  849,     75.1,   6.0508,  33.5429,2,   -999.0,9,-999.0000,9,    282.1,2,    24.07,2,  -999.00,9,    16.79,2,     0.19,2,     1.28,2, -999.000,9, -999.000,9,  -999.00,9,   -999.0,9,   -999.0,9,-999.0000,9,   -999.0,  9,  -999.00,9,   -999.0,  -999.00,9,  -999.00,9,  -999.00,9,  -999.00,9,   -999.0,-999.0000, -999,9,   75,   6.0446,  26.3957,   -999.0,9
       RF02-06,  142E,RF-1721,  1,     11,02-17873,3,20020630,0557, 38.9952, 142.3188,  849,    101.7,   3.8706,  33.3639,2,   -999.0,9,-999.0000,9,    297.5,2,    32.21,2,  -999.00,9,    20.42,2,     0.02,2,     1.58,2, -999.000,9, -999.000,9,  -999.00,9,   -999.0,9,   -999.0,9,-999.0000,9,   -999.0,  9,  -999.00,9,   -999.0,  -999.00,9,  -999.00,9,  -999.00,9,  -999.00,9,   -999.0,-999.0000, -999,9,  101,   3.8639,  26.4983,   -999.0,9
       RF02-06,  142E,RF-1721,  1,     10,02-12820,2,20020630,0555, 38.9952, 142.3188,  849,    126.4,   1.4119,  33.1483,2,   -999.0,9,-999.0000,9,    322.9,2,    42.84,2,  -999.00,9,    24.78,2,     0.02,2,     1.94,2, -999.000,9, -999.000,9,  -999.00,9,   -999.0,9,   -999.0,9,-999.0000,9,   -999.0,  9,  -999.00,9,   -999.0,  -999.00,9,  -999.00,9,  -999.00,9,  -999.00,9,   -999.0,-999.0000, -999,9,  125,   1.4061,  26.5304,   -999.0,9
       RF02-06,  142E,RF-1721,  1,      9,02-12810,2,20020630,0554, 38.9952, 142.3188,  849,    151.0,   1.6161,  33.2042,2,   -999.0,9,-999.0000,9,    304.8,2,    44.67,2,  -999.00,9,    25.00,2,     0.01,2,     1.94,2, -999.000,9, -999.000,9,  -999.00,9,   -999.0,9,   -999.0,9,-999.0000,9,   -999.0,  9,  -999.00,9,   -999.0,  -999.00,9,  -999.00,9,  -999.00,9,  -999.00,9,   -999.0,-999.0000, -999,9,  150,   1.6090,  26.5613,   -999.0,9
       RF02-06,  142E,RF-1721,  1,      8,02-12819,2,20020630,0552, 38.9952, 142.3188,  849,    201.2,   2.0272,  33.4304,2,   -999.0,9,-999.0000,9,    209.4,2,    66.04,2,  -999.00,9,    31.69,2,     0.01,2,     2.43,2, -999.000,9, -999.000,9,  -999.00,9,   -999.0,9,   -999.0,9,-999.0000,9,   -999.0,  9,  -999.00,9,   -999.0,  -999.00,9,  -999.00,9,  -999.00,9,  -999.00,9,   -999.0,-999.0000, -999,9,  200,   2.0168,  26.7129,   -999.0,9
       RF02-06,  142E,RF-1721,  1,      7,02-15821,2,20020630,0550, 38.9952, 142.3188,  849,    251.4,   2.6005,  33.6235,2,   -999.0,9,-999.0000,9,    156.4,2,    77.05,2,  -999.00,9,    34.60,2,     0.02,2,     2.62,2, -999.000,9, -999.000,9,  -999.00,9,   -999.0,9,   -999.0,9,-999.0000,9,   -999.0,  9,  -999.00,9,   -999.0,  -999.00,9,  -999.00,9,  -999.00,9,  -999.00,9,   -999.0,-999.0000, -999,9,  249,   2.5862,  26.8220,   -999.0,9
       RF02-06,  142E,RF-1721,  1,      6,02-17872,2,20020630,0548, 38.9952, 142.3188,  849,    301.7,   2.6590,  33.6907,2,   -999.0,9,-999.0000,9,    159.1,2,    81.63,2,  -999.00,9,    35.13,2,     0.00,2,     2.63,2, -999.000,9, -999.000,9,  -999.00,9,   -999.0,9,   -999.0,9,-999.0000,9,   -999.0,  9,  -999.00,9,   -999.0,  -999.00,9,  -999.00,9,  -999.00,9,  -999.00,9,   -999.0,-999.0000, -999,9,  299,   2.6415,  26.8711,   -999.0,9
       RF02-06,  142E,RF-1721,  1,      5,02-10155,2,20020630,0545, 38.9952, 142.3188,  849,    402.3,   3.4554,  33.9195,2,   -999.0,9,-999.0000,9,     89.0,2,    94.77,2,  -999.00,9,    38.30,2,     0.00,2,     2.84,2, -999.000,9, -999.000,9,  -999.00,9,   -999.0,9,   -999.0,9,-999.0000,9,   -999.0,  9,  -999.00,9,   -999.0,  -999.00,9,  -999.00,9,  -999.00,9,  -999.00,9,   -999.0,-999.0000, -999,9,  399,   3.4290,  26.9829,   -999.0,9
       RF02-06,  142E,RF-1721,  1,      4,02-13579,2,20020630,0542, 38.9952, 142.3188,  849,    504.0,   3.3680,  34.0210,2,   -999.0,9,-999.0000,9,     59.2,2,   107.22,2,  -999.00,9,    40.35,2,     0.00,2,     3.00,2, -999.000,9, -999.000,9,  -999.00,9,   -999.0,9,   -999.0,9,-999.0000,9,   -999.0,  9,  -999.00,9,   -999.0,  -999.00,9,  -999.00,9,  -999.00,9,  -999.00,9,   -999.0,-999.0000, -999,9,  500,   3.3347,  27.0728,   -999.0,9
       RF02-06,  142E,RF-1721,  1,      3,02-13590,2,20020630,0539, 38.9952, 142.3188,  849,    604.9,   3.3754,  34.1205,2,   -999.0,9,-999.0000,9,     43.5,2,   116.27,2,  -999.00,9,    41.31,2,     0.01,2,     3.07,2, -999.000,9, -999.000,9,  -999.00,9,   -999.0,9,   -999.0,9,-999.0000,9,   -999.0,  9,  -999.00,9,   -999.0,  -999.00,9,  -999.00,9,  -999.00,9,  -999.00,9,   -999.0,-999.0000, -999,9,  599,   3.3348,  27.1520,   -999.0,9
       RF02-06,  142E,RF-1721,  1,      2,02-12827,2,20020630,0536, 38.9952, 142.3188,  849,    706.3,   3.2617,  34.2294,2,   -999.0,9,-999.0000,9,     32.4,2,   127.70,2,  -999.00,9,    41.51,2,     0.02,2,     3.14,2, -999.000,9, -999.000,9,  -999.00,9,   -999.0,9,   -999.0,9,-999.0000,9,   -999.0,  9,  -999.00,9,   -999.0,  -999.00,9,  -999.00,9,  -999.00,9,  -999.00,9,   -999.0,-999.0000, -999,9,  700,   3.2142,  27.2502,   -999.0,9
       RF02-06,  142E,RF-1721,  1,      1,02-17871,2,20020630,0533, 38.9952, 142.3188,  849,    807.7,   3.1393,  34.2907,2,   -999.0,9,-999.0000,9,     33.1,2,   132.52,2,  -999.00,9,    41.57,2,     0.00,2,     3.11,2, -999.000,9, -999.000,9,  -999.00,9,   -999.0,9,   -999.0,9,-999.0000,9,   -999.0,  9,  -999.00,9,   -999.0,  -999.00,9,  -999.00,9,  -999.00,9,  -999.00,9,   -999.0,-999.0000, -999,9,  800,   3.0851,  27.3111,   -999.0,9
       RF02-06,  NONE,RF-1722,  1,     -9,      -9,5,20020707,0123, 39.0925, 146.9945, 5315,      0.0,  18.3765,  33.8105,2,   -999.0,9,-999.0000,9,    240.6,2,     1.11,2,  -999.00,9,     0.00,2,     0.00,2,     0.02,2, -999.000,9, -999.000,9,  -999.00,9,   -999.0,9,   -999.0,9,-999.0000,9,   -999.0,  9,  -999.00,9,   -999.0,  -999.00,9,  -999.00,9,     0.75,2,     0.08,2,   -999.0,-999.0000, -999,9,    0,  18.3765,  24.2685,   -999.0,9
       RF02-06,  NONE,RF-1722,  1,     17,02-17874,2,20020707,0120, 39.0925, 146.9945, 5315,     12.2,  18.1560,  33.7966,2,   -999.0,9,-999.0000,9,    250.0,2,     1.09,2,  -999.00,9,     0.00,2,     0.00,2,     0.11,2, -999.000,9, -999.000,9,  -999.00,9,   -999.0,9,   -999.0,9,-999.0000,9,   -999.0,  9,  -999.00,9,   -999.0,  -999.00,9,  -999.00,9,     0.74,2,     0.06,2,   -999.0,-999.0000, -999,9,   12,  18.1539,  24.3128,   -999.0,9
       RF02-06,  NONE,RF-1722,  1,     16,02-12818,2,20020707,0118, 39.0925, 146.9945, 5315,     27.4,   9.9082,  32.8810,2,   -999.0,9,-999.0000,9,    315.8,2,     1.70,2,  -999.00,9,     3.84,2,     0.06,2,     0.65,2, -999.000,9, -999.000,9,  -999.00,9,   -999.0,9,   -999.0,9,-999.0000,9,   -999.0,  9,  -999.00,9,   -999.0,  -999.00,9,  -999.00,9,     0.63,2,     0.12,2,   -999.0,-999.0000, -999,9,   27,   9.9052,  25.3134,   -999.0,9
       RF02-06,  NONE,RF-1722,  1,     15,02-12809,2,20020707,0117, 39.0925, 146.9945, 5315,     53.3,   3.9064,  33.0456,2,   -999.0,9,-999.0000,9,    323.8,2,    27.53,2,  -999.00,9,    17.02,2,     0.26,2,     1.73,2, -999.000,9, -999.000,9,  -999.00,9,   -999.0,9,   -999.0,9,-999.0000,9,   -999.0,  9,  -999.00,9,   -999.0,  -999.00,9,  -999.00,9,     0.72,2,     0.27,2,   -999.0,-999.0000, -999,9,   53,   3.9029,  26.2413,   -999.0,9
       RF02-06,  NONE,RF-1722,  1,     14,02-12817,2,20020707,0115, 39.0925, 146.9945, 5315,     78.0,   2.0678,  33.1308,2,   -999.0,9,-999.0000,9,    321.6,2,    43.44,2,  -999.00,9,    23.42,2,     0.36,2,     1.84,2, -999.000,9, -999.000,9,  -999.00,9,   -999.0,9,   -999.0,9,-999.0000,9,   -999.0,  9,  -999.00,9,   -999.0,  -999.00,9,  -999.00,9,     0.73,2,     0.18,2,   -999.0,-999.0000, -999,9,   77,   2.0639,  26.4695,   -999.0,9
       RF02-06,  NONE,RF-1722,  1,     13,02-15822,2,20020707,0114, 39.0925, 146.9945, 5315,    104.0,   1.9203,  33.1671,2,   -999.0,9,  33.1642,2,    318.2,2,    44.67,2,  -999.00,9,    23.86,2,     0.01,2,     1.90,2, -999.000,9, -999.000,9,  -999.00,9,   -999.0,9,   -999.0,9,-999.0000,9,   -999.0,  9,  -999.00,9,   -999.0,  -999.00,9,  -999.00,9,     0.20,2,     0.09,2,   -999.0,-999.0000, -999,9,  103,   1.9152,  26.5096,   -999.0,9
       RF02-06,  NONE,RF-1722,  1,     12,02-12808,2,20020707,0112, 39.0925, 146.9945, 5315,    127.1,   1.2072,  33.1642,2,   -999.0,9,-999.0000,9,    299.6,2,    50.08,2,  -999.00,9,    25.79,2,     0.03,2,     2.10,2, -999.000,9, -999.000,9,  -999.00,9,   -999.0,9,   -999.0,9,-999.0000,9,   -999.0,  9,  -999.00,9,   -999.0,  -999.00,9,  -999.00,9,     0.07,2,     0.09,2,   -999.0,-999.0000, -999,9,  126,   1.2017,  26.5566,   -999.0,9
       RF02-06,  NONE,RF-1722,  1,     11,02-17873,2,20020707,0111, 39.0925, 146.9945, 5315,    153.2,   1.3921,  33.2589,2,   -999.0,9,-999.0000,9,    271.2,2,    56.73,2,  -999.00,9,    27.88,2,     0.01,2,     2.18,2, -999.000,9, -999.000,9,  -999.00,9,   -999.0,9,   -999.0,9,-999.0000,9,   -999.0,  9,  -999.00,9,   -999.0,  -999.00,9,  -999.00,9,     0.03,2,     0.10,2,   -999.0,-999.0000, -999,9,  152,   1.3851,  26.6205,   -999.0,9
       RF02-06,  NONE,RF-1722,  1,     10,02-12820,2,20020707,0109, 39.0925, 146.9945, 5315,    203.3,   1.8747,  33.4504,2,   -999.0,9,  33.4526,2,    198.2,2,    71.98,2,  -999.00,9,    32.81,2,     0.00,2,     2.54,2, -999.000,9, -999.000,9,  -999.00,9,   -999.0,9,   -999.0,9,-999.0000,9,   -999.0,  9,  -999.00,9,   -999.0,  -999.00,9,  -999.00,9,     0.02,2,     0.12,2,   -999.0,-999.0000, -999,9,  202,   1.8644,  26.7404,   -999.0,9
       RF02-06,  NONE,RF-1722,  1,      9,02-12810,2,20020707,0106, 39.0925, 146.9945, 5315,    252.8,   2.6487,  33.6206,2,   -999.0,9,-999.0000,9,    155.7,2,    78.80,2,  -999.00,9,    34.57,2,     0.00,2,     2.69,2, -999.000,9, -999.000,9,  -999.00,9,   -999.0,9,   -999.0,9,-999.0000,9,   -999.0,  9,  -999.00,9,   -999.0,  -999.00,9,  -999.00,9,  -999.00,9,  -999.00,9,   -999.0,-999.0000, -999,9,  251,   2.6341,  26.8156,   -999.0,9
       RF02-06,  NONE,RF-1722,  1,      8,02-12819,2,20020707,0104, 39.0925, 146.9945, 5315,    303.2,   2.4493,  33.6917,2,   -999.0,9,  33.6930,2,    119.5,2,    90.44,2,  -999.00,9,    37.66,2,     0.00,2,     2.91,2, -999.000,9, -999.000,9,  -999.00,9,   -999.0,9,   -999.0,9,-999.0000,9,   -999.0,  9,  -999.00,9,   -999.0,  -999.00,9,  -999.00,9,  -999.00,9,  -999.00,9,   -999.0,-999.0000, -999,9,  301,   2.4322,  26.8893,   -999.0,9
       RF02-06,  NONE,RF-1722,  1,      7,02-15821,2,20020707,0101, 39.0925, 146.9945, 5315,    403.6,   3.0155,  33.9094,2,   -999.0,9,  33.9099,2,     85.2,2,   106.69,2,  -999.00,9,    41.41,2,     0.00,2,     3.22,2, -999.000,9, -999.000,9,  -999.00,9,   -999.0,9,   -999.0,9,-999.0000,9,   -999.0,  9,  -999.00,9,   -999.0,  -999.00,9,  -999.00,9,  -999.00,9,  -999.00,9,   -999.0,-999.0000, -999,9,  400,   2.9904,  27.0154,   -999.0,9
       RF02-06,  NONE,RF-1722,  1,      6,02-17872,2,20020707,0058, 39.0925, 146.9945, 5315,    505.7,   3.0693,  34.0439,2,   -999.0,9,  34.0439,2,     45.5,2,   117.98,2,  -999.00,9,    42.25,2,     0.00,2,     3.12,2, -999.000,9, -999.000,9,  -999.00,9,   -999.0,9,   -999.0,9,-999.0000,9,   -999.0,  9,  -999.00,9,   -999.0,  -999.00,9,  -999.00,9,  -999.00,9,  -999.00,9,   -999.0,-999.0000, -999,9,  501,   3.0370,  27.1185,   -999.0,9
       RF02-06,  NONE,RF-1722,  1,      5,02-10155,2,20020707,0055, 39.0925, 146.9945, 5315,    607.2,   3.4231,  34.2066,2,   -999.0,9,  34.2051,2,     39.9,2,   123.02,2,  -999.00,9,    42.05,2,     0.00,2,     3.12,2, -999.000,9, -999.000,9,  -999.00,9,   -999.0,9,   -999.0,9,-999.0000,9,   -999.0,  9,  -999.00,9,   -999.0,  -999.00,9,  -999.00,9,  -999.00,9,  -999.00,9,   -999.0,-999.0000, -999,9,  602,   3.3820,  27.2162,   -999.0,9
       RF02-06,  NONE,RF-1722,  1,      4,02-13579,2,20020707,0052, 39.0925, 146.9945, 5315,    708.1,   3.3477,  34.3055,2,   -999.0,9,  34.3078,2,     42.8,2,   128.52,2,  -999.00,9,    41.84,2,     0.00,2,     3.12,2, -999.000,9, -999.000,9,  -999.00,9,   -999.0,9,   -999.0,9,-999.0000,9,   -999.0,  9,  -999.00,9,   -999.0,  -999.00,9,  -999.00,9,  -999.00,9,  -999.00,9,   -999.0,-999.0000, -999,9,  702,   3.2996,  27.3029,   -999.0,9
       RF02-06,  NONE,RF-1722,  1,      3,02-13590,2,20020707,0050, 39.0925, 146.9945, 5315,    807.7,   3.0533,  34.3306,2,   -999.0,9,  34.3321,2,     36.2,2,   136.40,2,  -999.00,9,    42.44,2,     0.00,2,     3.11,2, -999.000,9, -999.000,9,  -999.00,9,   -999.0,9,   -999.0,9,-999.0000,9,   -999.0,  9,  -999.00,9,   -999.0,  -999.00,9,  -999.00,9,  -999.00,9,  -999.00,9,   -999.0,-999.0000, -999,9,  800,   2.9996,  27.3507,   -999.0,9
       RF02-06,  NONE,RF-1722,  1,      2,02-12827,2,20020707,0047, 39.0925, 146.9945, 5315,    908.2,   2.8410,  34.3612,2,   -999.0,9,  34.3642,2,     34.6,2,   142.49,2,  -999.00,9,    42.66,2,     0.00,2,     3.11,2, -999.000,9, -999.000,9,  -999.00,9,   -999.0,9,   -999.0,9,-999.0000,9,   -999.0,  9,  -999.00,9,   -999.0,  -999.00,9,  -999.00,9,  -999.00,9,  -999.00,9,   -999.0,-999.0000, -999,9,  899,   2.7814,  27.3947,   -999.0,9
       RF02-06,  NONE,RF-1722,  1,      1,02-17871,2,20020707,0043, 39.0925, 146.9945, 5315,   1023.7,   2.7711,  34.4300,2,   -999.0,9,  34.4324,2,     41.4,2,   144.22,2,  -999.00,9,    42.32,2,     0.00,2,     3.20,2, -999.000,9, -999.000,9,  -999.00,9,   -999.0,9,   -999.0,9,-999.0000,9,   -999.0,  9,  -999.00,9,   -999.0,  -999.00,9,  -999.00,9,  -999.00,9,  -999.00,9,   -999.0,-999.0000, -999,9, 1013,   2.7034,  27.4565,   -999.0,9