BOTTLE,20130510GEMDJMAYT
EXPOCODE,SECT_ID,STNNBR,CASTNO,SAMPNO,BTLNBR,BTLNBR_FLAG_W,DATE,TIME,LATITUDE,LONGITUDE,DEPTH,CTDPRS,CTDTMP,CTDSAL,CTDSAL_FLAG_W,CTDOXY,CTDOXY_FLAG_W,SALNTY,SALNTY_FLAG_W,OXYGEN,OXYGEN_FLAG_W,SILCAT,SILCAT_FLAG_W,NITRAT,NITRAT_FLAG_W,NO2+NO3,NO2+NO3_FLAG_W,NITRIT,NITRIT_FLAG_W,PHSPHT,PHSPHT_FLAG_W,CFC-11,CFC-11_FLAG_W,CFC-12,CFC-12_FLAG_W,DELC13,DELC13_FLAG_W,TCARBN,TCARBN_FLAG_W,ALKALI,ALKALI_FLAG_W,PH,PH_FLAG_W,PH_TMP,PH_SCALE,PH_NBS,PH_NBS_FLAG_W,C13ERR,TOTALP,TOTALP_FLAG_W,AMMONI,AMMONI_FLAG_W,CHLORA,CHLORA_FLAG_W,PPHYTN,PPHYTN_FLAG_W,REVPRS,REVTMP,DEPTH_,DEPTH_FLAG,CTDDEP,THETA,SIGTHT,DOC,DOC_FLAG_W
,,,,,,,GMT,GMT,,,METER,DBAR,ITS-90,PSS-78,,UMOL/KG,,PSS-78,,UMOL/KG,,UMOL/KG,,UMOL/KG,,UMOL/KG,,UMOL/KG,,UMOL/KG,,PMOL/KG,,PMOL/KG,,/MILLE,,UMOL/KG,,UMOL/KG,,25_DEG_C,,DEG_C,,,,/MILLE,UMOL/KG,,UMOL/KG,,UG/L,,UG/L,,DBAR,ITS-90,METERS,,METERS,DEG_C,,UMOL/L,
       RF02-06,  NONE,RF-1690,  1,     -9,      -9,5,20020625,0107, 28.9990, 147.0132, 6050,      0.0,  25.2025,  34.5996,2,   -999.0,9,-999.0000,9,    213.3,2,     1.88,2,  -999.00,9,     0.04,2,     0.00,2,     0.01,2, -999.000,9, -999.000,9,  -999.00,9,   -999.0,9,   -999.0,9,-999.0000,9,   -999.0,  9,  -999.00,9,   -999.0,  -999.00,9,  -999.00,9,  -999.00,9,  -999.00,9,   -999.0,-999.0000, -999,9,    0,  25.2025,  22.9770,   -999.0,9
       RF02-06,  NONE,RF-1690,  1,     21,02-12826,2,20020625,0105, 28.9990, 147.0132, 6050,     12.7,  25.0680,  34.6136,2,   -999.0,9,-999.0000,9,    214.7,2,     1.86,2,  -999.00,9,     0.00,2,     0.00,2,     0.00,2, -999.000,9, -999.000,9,  -999.00,9,   -999.0,9,   -999.0,9,-999.0000,9,   -999.0,  9,  -999.00,9,   -999.0,  -999.00,9,  -999.00,9,  -999.00,9,  -999.00,9,   -999.0,-999.0000, -999,9,   13,  25.0652,  23.0294,   -999.0,9
       RF02-06,  NONE,RF-1690,  1,     20,02-12821,2,20020625,0104, 28.9990, 147.0132, 6050,     26.6,  23.9799,  34.7590,2,   -999.0,9,-999.0000,9,    222.3,2,     1.87,2,  -999.00,9,     0.00,2,     0.00,2,     0.00,2, -999.000,9, -999.000,9,  -999.00,9,   -999.0,9,   -999.0,9,-999.0000,9,   -999.0,  9,  -999.00,9,   -999.0,  -999.00,9,  -999.00,9,  -999.00,9,  -999.00,9,   -999.0,-999.0000, -999,9,   26,  23.9743,  23.4665,   -999.0,9
       RF02-06,  NONE,RF-1690,  1,     19,02-17875,2,20020625,0102, 28.9990, 147.0132, 6050,     52.3,  20.4826,  34.8805,2,   -999.0,9,-999.0000,9,    232.0,2,     2.08,2,  -999.00,9,     0.00,2,     0.00,2,     0.00,2, -999.000,9, -999.000,9,  -999.00,9,   -999.0,9,   -999.0,9,-999.0000,9,   -999.0,  9,  -999.00,9,   -999.0,  -999.00,9,  -999.00,9,  -999.00,9,  -999.00,9,   -999.0,-999.0000, -999,9,   52,  20.4728,  24.5451,   -999.0,9
       RF02-06,  NONE,RF-1690,  1,     18,02-12830,2,20020625,0101, 28.9990, 147.0132, 6050,     76.5,  19.3491,  34.8067,2,   -999.0,9,-999.0000,9,    226.4,2,     2.34,2,  -999.00,9,     0.16,2,     0.02,2,     0.04,2, -999.000,9, -999.000,9,  -999.00,9,   -999.0,9,   -999.0,9,-999.0000,9,   -999.0,  9,  -999.00,9,   -999.0,  -999.00,9,  -999.00,9,  -999.00,9,  -999.00,9,   -999.0,-999.0000, -999,9,   76,  19.3353,  24.7875,   -999.0,9
       RF02-06,  NONE,RF-1690,  1,     17,02-17874,2,20020625,0100, 28.9990, 147.0132, 6050,    102.4,  18.6011,  34.7775,2,   -999.0,9,  34.7810,2,    217.6,2,     2.70,2,  -999.00,9,     1.88,2,     0.04,2,     0.12,2, -999.000,9, -999.000,9,  -999.00,9,   -999.0,9,   -999.0,9,-999.0000,9,   -999.0,  9,  -999.00,9,   -999.0,  -999.00,9,  -999.00,9,  -999.00,9,  -999.00,9,   -999.0,-999.0000, -999,9,  102,  18.5832,  24.9566,   -999.0,9
       RF02-06,  NONE,RF-1690,  1,     16,02-12818,2,20020625,0059, 28.9990, 147.0132, 6050,    127.2,  18.2347,  34.7490,2,   -999.0,9,-999.0000,9,    210.1,2,     3.16,2,  -999.00,9,     2.82,2,     0.02,2,     0.19,2, -999.000,9, -999.000,9,  -999.00,9,   -999.0,9,   -999.0,9,-999.0000,9,   -999.0,  9,  -999.00,9,   -999.0,  -999.00,9,  -999.00,9,  -999.00,9,  -999.00,9,   -999.0,-999.0000, -999,9,  126,  18.2128,  25.0273,   -999.0,9
       RF02-06,  NONE,RF-1690,  1,     15,02-12809,2,20020625,0058, 28.9990, 147.0132, 6050,    153.4,  17.9665,  34.7606,2,   -999.0,9,-999.0000,9,    220.6,2,     3.24,2,  -999.00,9,     2.66,2,     0.01,2,     0.16,2, -999.000,9, -999.000,9,  -999.00,9,   -999.0,9,   -999.0,9,-999.0000,9,   -999.0,  9,  -999.00,9,   -999.0,  -999.00,9,  -999.00,9,  -999.00,9,  -999.00,9,   -999.0,-999.0000, -999,9,  152,  17.9402,  25.1034,   -999.0,9
       RF02-06,  NONE,RF-1690,  1,     14,02-12817,2,20020625,0056, 28.9990, 147.0132, 6050,    202.1,  17.8398,  34.7616,2,   -999.0,9,  34.7703,2,    221.8,2,     3.37,2,  -999.00,9,     2.81,2,     0.01,2,     0.16,2, -999.000,9, -999.000,9,  -999.00,9,   -999.0,9,   -999.0,9,-999.0000,9,   -999.0,  9,  -999.00,9,   -999.0,  -999.00,9,  -999.00,9,  -999.00,9,  -999.00,9,   -999.0,-999.0000, -999,9,  201,  17.8053,  25.1372,   -999.0,9
       RF02-06,  NONE,RF-1690,  1,     13,02-15822,2,20020625,0055, 28.9990, 147.0132, 6050,    253.1,  17.1176,  34.7203,2,   -999.0,9,-999.0000,9,    202.8,2,     5.00,2,  -999.00,9,     5.42,2,     0.00,2,     0.31,2, -999.000,9, -999.000,9,  -999.00,9,   -999.0,9,   -999.0,9,-999.0000,9,   -999.0,  9,  -999.00,9,   -999.0,  -999.00,9,  -999.00,9,  -999.00,9,  -999.00,9,   -999.0,-999.0000, -999,9,  251,  17.0756,  25.2816,   -999.0,9
       RF02-06,  NONE,RF-1690,  1,     12,02-12808,2,20020625,0053, 28.9990, 147.0132, 6050,    303.5,  16.5124,  34.6956,2,   -999.0,9,  34.6981,2,    199.0,2,     6.40,2,  -999.00,9,     6.80,2,     0.00,2,     0.41,2, -999.000,9, -999.000,9,  -999.00,9,   -999.0,9,   -999.0,9,-999.0000,9,   -999.0,  9,  -999.00,9,   -999.0,  -999.00,9,  -999.00,9,  -999.00,9,  -999.00,9,   -999.0,-999.0000, -999,9,  301,  16.4633,  25.4067,   -999.0,9
       RF02-06,  NONE,RF-1690,  1,     11,02-17873,2,20020625,0051, 28.9990, 147.0132, 6050,    403.9,  14.2891,  34.5452,2,   -999.0,9,  34.5519,2,    192.8,2,    12.34,2,  -999.00,9,    10.87,2,     0.00,2,     0.68,2, -999.000,9, -999.000,9,  -999.00,9,   -999.0,9,   -999.0,9,-999.0000,9,   -999.0,  9,  -999.00,9,   -999.0,  -999.00,9,  -999.00,9,  -999.00,9,  -999.00,9,   -999.0,-999.0000, -999,9,  401,  14.2297,  25.7872,   -999.0,9
       RF02-06,  NONE,RF-1690,  1,     10,02-12820,2,20020625,0049, 28.9990, 147.0132, 6050,    504.6,  11.3574,  34.3381,2,   -999.0,9,  34.3422,2,    186.7,2,    22.93,2,  -999.00,9,    16.43,2,     0.00,2,     1.07,2, -999.000,9, -999.000,9,  -999.00,9,   -999.0,9,   -999.0,9,-999.0000,9,   -999.0,  9,  -999.00,9,   -999.0,  -999.00,9,  -999.00,9,  -999.00,9,  -999.00,9,   -999.0,-999.0000, -999,9,  501,  11.2935,  26.2067,   -999.0,9
       RF02-06,  NONE,RF-1690,  1,      9,02-12810,2,20020625,0046, 28.9990, 147.0132, 6050,    606.0,   8.4736,  34.1356,2,   -999.0,9,  34.1308,2,    163.3,2,    39.65,2,  -999.00,9,    23.56,2,     0.00,2,     1.62,2, -999.000,9, -999.000,9,  -999.00,9,   -999.0,9,   -999.0,9,-999.0000,9,   -999.0,  9,  -999.00,9,   -999.0,  -999.00,9,  -999.00,9,  -999.00,9,  -999.00,9,   -999.0,-999.0000, -999,9,  601,   8.4093,  26.5333,   -999.0,9
       RF02-06,  NONE,RF-1690,  1,      8,02-12819,2,20020625,0044, 28.9990, 147.0132, 6050,    706.9,   6.2643,  34.0931,2,   -999.0,9,  34.0959,2,    114.7,2,    65.41,2,  -999.00,9,    31.75,2,     0.00,2,     2.25,2, -999.000,9, -999.000,9,  -999.00,9,   -999.0,9,   -999.0,9,-999.0000,9,   -999.0,  9,  -999.00,9,   -999.0,  -999.00,9,  -999.00,9,  -999.00,9,  -999.00,9,   -999.0,-999.0000, -999,9,  701,   6.2005,  26.8105,   -999.0,9
       RF02-06,  NONE,RF-1690,  1,      7,02-15821,2,20020625,0042, 28.9990, 147.0132, 6050,    808.3,   5.1869,  34.1461,2,   -999.0,9,  34.1467,2,     80.5,2,    84.11,2,  -999.00,9,    36.51,2,     0.00,2,     2.62,2, -999.000,9, -999.000,9,  -999.00,9,   -999.0,9,   -999.0,9,-999.0000,9,   -999.0,  9,  -999.00,9,   -999.0,  -999.00,9,  -999.00,9,  -999.00,9,  -999.00,9,   -999.0,-999.0000, -999,9,  801,   5.1200,  26.9844,   -999.0,9
       RF02-06,  NONE,RF-1690,  1,      6,02-17872,2,20020625,0039, 28.9990, 147.0132, 6050,    908.4,   4.4940,  34.2233,2,   -999.0,9,-999.0000,9,     60.7,2,    99.78,2,  -999.00,9,    39.08,2,     0.00,2,     2.83,2, -999.000,9, -999.000,9,  -999.00,9,   -999.0,9,   -999.0,9,-999.0000,9,   -999.0,  9,  -999.00,9,   -999.0,  -999.00,9,  -999.00,9,  -999.00,9,  -999.00,9,   -999.0,-999.0000, -999,9,  900,   4.4228,  27.1238,   -999.0,9
       RF02-06,  NONE,RF-1690,  1,      5,02-10155,2,20020625,0037, 28.9990, 147.0132, 6050,   1010.0,   3.8799,  34.3011,2,   -999.0,9,  34.3013,2,     48.4,2,   114.89,2,  -999.00,9,    40.73,2,     0.00,2,     2.94,2, -999.000,9, -999.000,9,  -999.00,9,   -999.0,9,   -999.0,9,-999.0000,9,   -999.0,  9,  -999.00,9,   -999.0,  -999.00,9,  -999.00,9,  -999.00,9,  -999.00,9,   -999.0,-999.0000, -999,9, 1001,   3.8047,  27.2501,   -999.0,9
       RF02-06,  NONE,RF-1690,  1,      4,02-13579,2,20020625,0032, 28.9990, 147.0132, 6050,   1262.6,   3.1323,  34.4273,2,   -999.0,9,  34.4280,2,     46.3,2,   133.03,2,  -999.00,9,    41.59,2,     0.00,2,     2.99,2, -999.000,9, -999.000,9,  -999.00,9,   -999.0,9,   -999.0,9,-999.0000,9,   -999.0,  9,  -999.00,9,   -999.0,  -999.00,9,  -999.00,9,  -999.00,9,  -999.00,9,   -999.0,-999.0000, -999,9, 1250,   3.0428,  27.4240,   -999.0,9
       RF02-06,  NONE,RF-1690,  1,      3,02-13590,2,20020625,0027, 28.9990, 147.0132, 6050,   1516.6,   2.6038,  34.4942,2,   -999.0,9,  34.4947,2,     47.7,2,   146.40,2,  -999.00,9,    41.98,2,     0.00,2,     3.00,2, -999.000,9, -999.000,9,  -999.00,9,   -999.0,9,   -999.0,9,-999.0000,9,   -999.0,  9,  -999.00,9,   -999.0,  -999.00,9,  -999.00,9,  -999.00,9,  -999.00,9,   -999.0,-999.0000, -999,9, 1501,   2.4994,  27.5255,   -999.0,9
       RF02-06,  NONE,RF-1690,  1,      2,02-12827,2,20020625,0023, 28.9990, 147.0132, 6050,   1770.7,   2.2343,  34.5555,2,   -999.0,9,  34.5568,2,     64.0,2,   152.47,2,  -999.00,9,    41.27,2,     0.00,2,     2.92,2, -999.000,9, -999.000,9,  -999.00,9,   -999.0,9,   -999.0,9,-999.0000,9,   -999.0,  9,  -999.00,9,   -999.0,  -999.00,9,  -999.00,9,  -999.00,9,  -999.00,9,   -999.0,-999.0000, -999,9, 1751,   2.1138,  27.6065,   -999.0,9
       RF02-06,  NONE,RF-1690,  1,      1,02-17871,2,20020625,0018, 28.9990, 147.0132, 6050,   2045.4,   1.9648,  34.6030,2,   -999.0,9,  34.6029,2,     92.3,2,   150.31,2,  -999.00,9,    39.61,2,     0.00,2,     2.78,2, -999.000,9, -999.000,9,  -999.00,9,   -999.0,9,   -999.0,9,-999.0000,9,   -999.0,  9,  -999.00,9,   -999.0,  -999.00,9,  -999.00,9,  -999.00,9,  -999.00,9,   -999.0,-999.0000, -999,9, 2022,   1.8252,  27.6672,   -999.0,9