BOTTLE,20130510GEMDJMAYT
EXPOCODE,SECT_ID,STNNBR,CASTNO,SAMPNO,BTLNBR,BTLNBR_FLAG_W,DATE,TIME,LATITUDE,LONGITUDE,DEPTH,CTDPRS,CTDTMP,CTDSAL,CTDSAL_FLAG_W,CTDOXY,CTDOXY_FLAG_W,SALNTY,SALNTY_FLAG_W,OXYGEN,OXYGEN_FLAG_W,SILCAT,SILCAT_FLAG_W,NITRAT,NITRAT_FLAG_W,NO2+NO3,NO2+NO3_FLAG_W,NITRIT,NITRIT_FLAG_W,PHSPHT,PHSPHT_FLAG_W,CFC-11,CFC-11_FLAG_W,CFC-12,CFC-12_FLAG_W,DELC13,DELC13_FLAG_W,TCARBN,TCARBN_FLAG_W,ALKALI,ALKALI_FLAG_W,PH,PH_FLAG_W,PH_TMP,PH_SCALE,PH_NBS,PH_NBS_FLAG_W,C13ERR,TOTALP,TOTALP_FLAG_W,AMMONI,AMMONI_FLAG_W,CHLORA,CHLORA_FLAG_W,PPHYTN,PPHYTN_FLAG_W,REVPRS,REVTMP,DEPTH_,DEPTH_FLAG,CTDDEP,THETA,SIGTHT,DOC,DOC_FLAG_W
,,,,,,,GMT,GMT,,,METER,DBAR,ITS-90,PSS-78,,UMOL/KG,,PSS-78,,UMOL/KG,,UMOL/KG,,UMOL/KG,,UMOL/KG,,UMOL/KG,,UMOL/KG,,PMOL/KG,,PMOL/KG,,/MILLE,,UMOL/KG,,UMOL/KG,,25_DEG_C,,DEG_C,,,,/MILLE,UMOL/KG,,UMOL/KG,,UG/L,,UG/L,,DBAR,ITS-90,METERS,,METERS,DEG_C,,UMOL/L,
       RF02-10,  NONE,RF-1827,  1,     -9,      -9,5,20021121,0239, 27.9908, 146.9940, 5787,      0.0,  24.7541,  34.7881,2,   -999.0,9,-999.0000,9,    209.7,2,     1.65,2,  -999.00,9,     0.00,2,     0.00,2,     0.00,2, -999.000,9, -999.000,9,  -999.00,9,   -999.0,9,   -999.0,9,-999.0000,9,   -999.0,  9,  -999.00,9,   -999.0,  -999.00,9,  -999.00,9,  -999.00,9,  -999.00,9,   -999.0,-999.0000, -999,9,    0,  24.7541,  23.2556,   -999.0,9
       RF02-10,  NONE,RF-1827,  1,     21,02-12826,2,20021121,0237, 27.9908, 146.9940, 5787,     10.2,  24.6440,  34.7830,2,   -999.0,9,-999.0000,9,    209.8,2,     1.51,2,  -999.00,9,     0.00,2,     0.00,2,     0.00,2, -999.000,9, -999.000,9,  -999.00,9,   -999.0,9,   -999.0,9,-999.0000,9,   -999.0,  9,  -999.00,9,   -999.0,  -999.00,9,  -999.00,9,  -999.00,9,  -999.00,9,   -999.0,-999.0000, -999,9,   10,  24.6418,  23.2855,   -999.0,9
       RF02-10,  NONE,RF-1827,  1,     20,02-12821,2,20021121,0236, 27.9908, 146.9940, 5787,     26.1,  24.3224,  34.7803,2,   -999.0,9,-999.0000,9,    209.7,2,     1.50,2,  -999.00,9,     0.00,2,     0.00,2,     0.00,2, -999.000,9, -999.000,9,  -999.00,9,   -999.0,9,   -999.0,9,-999.0000,9,   -999.0,  9,  -999.00,9,   -999.0,  -999.00,9,  -999.00,9,  -999.00,9,  -999.00,9,   -999.0,-999.0000, -999,9,   26,  24.3169,  23.3809,   -999.0,9
       RF02-10,  NONE,RF-1827,  1,     19,02-17875,2,20021121,0235, 27.9908, 146.9940, 5787,     51.1,  24.0191,  34.6959,2,   -999.0,9,-999.0000,9,    210.6,2,     1.59,2,  -999.00,9,     0.00,2,     0.00,2,     0.00,2, -999.000,9, -999.000,9,  -999.00,9,   -999.0,9,   -999.0,9,-999.0000,9,   -999.0,  9,  -999.00,9,   -999.0,  -999.00,9,  -999.00,9,  -999.00,9,  -999.00,9,   -999.0,-999.0000, -999,9,   51,  24.0083,  23.4087,   -999.0,9
       RF02-10,  NONE,RF-1827,  1,     18,02-12830,2,20021121,0234, 27.9908, 146.9940, 5787,     76.1,  22.5612,  34.8636,2,   -999.0,9,-999.0000,9,    217.1,2,     1.81,2,  -999.00,9,     0.00,2,     0.00,2,     0.00,2, -999.000,9, -999.000,9,  -999.00,9,   -999.0,9,   -999.0,9,-999.0000,9,   -999.0,  9,  -999.00,9,   -999.0,  -999.00,9,  -999.00,9,  -999.00,9,  -999.00,9,   -999.0,-999.0000, -999,9,   76,  22.5459,  23.9601,   -999.0,9
       RF02-10,  NONE,RF-1827,  1,     17,02-17874,3,20021121,0232, 27.9908, 146.9940, 5787,    102.9,  19.7881,  34.7961,2,   -999.0,9,  34.8093,4,    207.2,2,     2.51,2,  -999.00,9,     1.58,2,     0.03,2,     0.08,2, -999.000,9, -999.000,9,  -999.00,9,   -999.0,9,   -999.0,9,-999.0000,9,   -999.0,  9,  -999.00,9,   -999.0,  -999.00,9,  -999.00,9,  -999.00,9,  -999.00,9,   -999.0,-999.0000, -999,9,  102,  19.7692,  24.6668,   -999.0,9
       RF02-10,  NONE,RF-1827,  1,     16,02-12818,2,20021121,0231, 27.9908, 146.9940, 5787,    127.6,  19.0057,  34.7906,2,   -999.0,9,-999.0000,9,    338.9,2,     2.60,2,  -999.00,9,     2.40,2,     0.01,2,     0.12,2, -999.000,9, -999.000,9,  -999.00,9,   -999.0,9,   -999.0,9,-999.0000,9,   -999.0,  9,  -999.00,9,   -999.0,  -999.00,9,  -999.00,9,  -999.00,9,  -999.00,9,   -999.0,-999.0000, -999,9,  127,  18.9830,  24.8654,   -999.0,9
       RF02-10,  NONE,RF-1827,  1,     15,02-12809,4,20021121,0230, 27.9908, 146.9940, 5787,    152.7,  18.4885,  34.7757,2,   -999.0,9,-999.0000,9,   -999.0,4,  -999.00,4,  -999.00,9,  -999.00,4,  -999.00,4,  -999.00,4, -999.000,9, -999.000,9,  -999.00,9,   -999.0,9,   -999.0,9,-999.0000,9,   -999.0,  9,  -999.00,9,   -999.0,  -999.00,9,  -999.00,9,  -999.00,9,  -999.00,9,   -999.0,-999.0000, -999,9,  152,  18.4618,  24.9856,   -999.0,9
       RF02-10,  NONE,RF-1827,  1,     14,02-12817,2,20021121,0228, 27.9908, 146.9940, 5787,    201.1,  18.1144,  34.7693,2,   -999.0,9,  34.7774,2,    214.0,2,     3.04,2,  -999.00,9,     3.09,2,     0.00,2,     0.15,2, -999.000,9, -999.000,9,  -999.00,9,   -999.0,9,   -999.0,9,-999.0000,9,   -999.0,  9,  -999.00,9,   -999.0,  -999.00,9,  -999.00,9,  -999.00,9,  -999.00,9,   -999.0,-999.0000, -999,9,  200,  18.0798,  25.0757,   -999.0,9
       RF02-10,  NONE,RF-1827,  1,     13,02-15822,2,20021121,0226, 27.9908, 146.9940, 5787,    253.3,  17.9132,  34.7634,2,   -999.0,9,-999.0000,9,    216.9,2,     3.25,2,  -999.00,9,     3.10,2,     0.00,2,     0.16,2, -999.000,9, -999.000,9,  -999.00,9,   -999.0,9,   -999.0,9,-999.0000,9,   -999.0,  9,  -999.00,9,   -999.0,  -999.00,9,  -999.00,9,  -999.00,9,  -999.00,9,   -999.0,-999.0000, -999,9,  252,  17.8698,  25.1228,   -999.0,9
       RF02-10,  NONE,RF-1827,  1,     12,02-13591,2,20021121,0225, 27.9908, 146.9940, 5787,    301.6,  17.5191,  34.7356,2,   -999.0,9,-999.0000,9,    205.1,2,     4.53,2,  -999.00,9,     4.77,2,     0.00,2,     0.26,2, -999.000,9, -999.000,9,  -999.00,9,   -999.0,9,   -999.0,9,-999.0000,9,   -999.0,  9,  -999.00,9,   -999.0,  -999.00,9,  -999.00,9,  -999.00,9,  -999.00,9,   -999.0,-999.0000, -999,9,  299,  17.4683,  25.1992,   -999.0,9
       RF02-10,  NONE,RF-1827,  1,     11,02-13589,2,20021121,0222, 27.9908, 146.9940, 5787,    406.5,  15.7934,  34.6407,2,   -999.0,9,  34.6509,2,    194.3,2,     8.04,2,  -999.00,9,     8.19,2,     0.00,2,     0.49,2, -999.000,9, -999.000,9,  -999.00,9,   -999.0,9,   -999.0,9,-999.0000,9,   -999.0,  9,  -999.00,9,   -999.0,  -999.00,9,  -999.00,9,  -999.00,9,  -999.00,9,   -999.0,-999.0000, -999,9,  403,  15.7294,  25.5326,   -999.0,9
       RF02-10,  NONE,RF-1827,  1,     10,02-12815,4,20021121,0219, 27.9908, 146.9940, 5787,    505.0,  13.1718,  34.4807,2,   -999.0,9,-999.0000,9,   -999.0,4,  -999.00,4,  -999.00,9,  -999.00,4,  -999.00,4,  -999.00,4, -999.000,9, -999.000,9,  -999.00,9,   -999.0,9,   -999.0,9,-999.0000,9,   -999.0,  9,  -999.00,9,   -999.0,  -999.00,9,  -999.00,9,  -999.00,9,  -999.00,9,   -999.0,-999.0000, -999,9,  501,  13.1013,  25.9703,   -999.0,9
       RF02-10,  NONE,RF-1827,  1,      9,02-12807,2,20021121,0217, 27.9908, 146.9940, 5787,    603.1,  10.8043,  34.3041,2,   -999.0,9,  34.3050,2,    177.8,2,    26.26,2,  -999.00,9,    18.07,2,     0.00,2,     1.19,2, -999.000,9, -999.000,9,  -999.00,9,   -999.0,9,   -999.0,9,-999.0000,9,   -999.0,  9,  -999.00,9,   -999.0,  -999.00,9,  -999.00,9,  -999.00,9,  -999.00,9,   -999.0,-999.0000, -999,9,  598,  10.7300,  26.2818,   -999.0,9
       RF02-10,  NONE,RF-1827,  1,      8,02-10154,2,20021121,0214, 27.9908, 146.9940, 5787,    706.7,   7.1643,  34.0561,2,   -999.0,9,-999.0000,9,    161.2,2,    48.93,2,  -999.00,9,    25.77,2,     0.00,2,     1.80,2, -999.000,9, -999.000,9,  -999.00,9,   -999.0,9,   -999.0,9,-999.0000,9,   -999.0,  9,  -999.00,9,   -999.0,  -999.00,9,  -999.00,9,  -999.00,9,  -999.00,9,   -999.0,-999.0000, -999,9,  701,   7.0959,  26.6620,   -999.0,9
       RF02-10,  NONE,RF-1827,  1,      7,02-15821,2,20021121,0211, 27.9908, 146.9940, 5787,    808.3,   5.6690,  34.0916,2,   -999.0,9,  34.0904,2,    103.2,2,    72.09,2,  -999.00,9,    33.58,2,     0.00,2,     2.40,2, -999.000,9, -999.000,9,  -999.00,9,   -999.0,9,   -999.0,9,-999.0000,9,   -999.0,  9,  -999.00,9,   -999.0,  -999.00,9,  -999.00,9,  -999.00,9,  -999.00,9,   -999.0,-999.0000, -999,9,  801,   5.5992,  26.8844,   -999.0,9
       RF02-10,  NONE,RF-1827,  1,      6,02-17872,2,20021121,0209, 27.9908, 146.9940, 5787,    909.1,   4.7383,  34.1651,2,   -999.0,9,-999.0000,9,     70.7,2,    92.82,2,  -999.00,9,    37.62,2,     0.00,2,     2.74,2, -999.000,9, -999.000,9,  -999.00,9,   -999.0,9,   -999.0,9,-999.0000,9,   -999.0,  9,  -999.00,9,   -999.0,  -999.00,9,  -999.00,9,  -999.00,9,  -999.00,9,   -999.0,-999.0000, -999,9,  901,   4.6655,  27.0510,   -999.0,9
       RF02-10,  NONE,RF-1827,  1,      5,02-10155,2,20021121,0206, 27.9908, 146.9940, 5787,   1008.6,   4.0220,  34.2812,2,   -999.0,9,  34.2769,2,     49.7,2,   111.12,2,  -999.00,9,    40.53,2,     0.00,2,     2.92,2, -999.000,9, -999.000,9,  -999.00,9,   -999.0,9,   -999.0,9,-999.0000,9,   -999.0,  9,  -999.00,9,   -999.0,  -999.00,9,  -999.00,9,  -999.00,9,  -999.00,9,   -999.0,-999.0000, -999,9,  999,   3.9459,  27.2199,   -999.0,9
       RF02-10,  NONE,RF-1827,  1,      4,02-13579,2,20021121,0201, 27.9908, 146.9940, 5787,   1263.8,   3.1117,  34.4141,2,   -999.0,9,  34.4115,2,     40.4,2,   135.23,2,  -999.00,9,    41.75,2,     0.00,2,     3.03,2, -999.000,9, -999.000,9,  -999.00,9,   -999.0,9,   -999.0,9,-999.0000,9,   -999.0,  9,  -999.00,9,   -999.0,  -999.00,9,  -999.00,9,  -999.00,9,  -999.00,9,   -999.0,-999.0000, -999,9, 1252,   3.0224,  27.4153,   -999.0,9
       RF02-10,  NONE,RF-1827,  1,      3,02-13590,2,20021121,0154, 27.9908, 146.9940, 5787,   1516.5,   2.5521,  34.5027,2,   -999.0,9,  34.5026,2,     49.8,2,   147.84,2,  -999.00,9,    41.88,2,     0.00,2,     3.00,2, -999.000,9, -999.000,9,  -999.00,9,   -999.0,9,   -999.0,9,-999.0000,9,   -999.0,  9,  -999.00,9,   -999.0,  -999.00,9,  -999.00,9,  -999.00,9,  -999.00,9,   -999.0,-999.0000, -999,9, 1501,   2.4483,  27.5366,   -999.0,9
       RF02-10,  NONE,RF-1827,  1,      2,02-12827,2,20021121,0149, 27.9908, 146.9940, 5787,   1768.5,   2.1844,  34.5639,2,   -999.0,9,  34.5629,2,     66.5,2,   153.99,2,  -999.00,9,    40.85,2,     0.00,2,     2.92,2, -999.000,9, -999.000,9,  -999.00,9,   -999.0,9,   -999.0,9,-999.0000,9,   -999.0,  9,  -999.00,9,   -999.0,  -999.00,9,  -999.00,9,  -999.00,9,  -999.00,9,   -999.0,-999.0000, -999,9, 1749,   2.0647,  27.6172,   -999.0,9
       RF02-10,  NONE,RF-1827,  1,      1,02-17871,2,20021121,0141, 27.9908, 146.9940, 5787,   2041.2,   1.9225,  34.6048,2,   -999.0,9,  34.6044,2,     88.5,2,   156.08,2,  -999.00,9,    39.91,2,     0.00,2,     2.81,2, -999.000,9, -999.000,9,  -999.00,9,   -999.0,9,   -999.0,9,-999.0000,9,   -999.0,  9,  -999.00,9,   -999.0,  -999.00,9,  -999.00,9,  -999.00,9,  -999.00,9,   -999.0,-999.0000, -999,9, 2018,   1.7839,  27.6718,   -999.0,9