BOTTLE,20130510GEMDJMAYT
EXPOCODE,SECT_ID,STNNBR,CASTNO,SAMPNO,BTLNBR,BTLNBR_FLAG_W,DATE,TIME,LATITUDE,LONGITUDE,DEPTH,CTDPRS,CTDTMP,CTDSAL,CTDSAL_FLAG_W,CTDOXY,CTDOXY_FLAG_W,SALNTY,SALNTY_FLAG_W,OXYGEN,OXYGEN_FLAG_W,SILCAT,SILCAT_FLAG_W,NITRAT,NITRAT_FLAG_W,NO2+NO3,NO2+NO3_FLAG_W,NITRIT,NITRIT_FLAG_W,PHSPHT,PHSPHT_FLAG_W,CFC-11,CFC-11_FLAG_W,CFC-12,CFC-12_FLAG_W,DELC13,DELC13_FLAG_W,TCARBN,TCARBN_FLAG_W,ALKALI,ALKALI_FLAG_W,PH,PH_FLAG_W,PH_TMP,PH_SCALE,PH_NBS,PH_NBS_FLAG_W,C13ERR,TOTALP,TOTALP_FLAG_W,AMMONI,AMMONI_FLAG_W,CHLORA,CHLORA_FLAG_W,PPHYTN,PPHYTN_FLAG_W,REVPRS,REVTMP,DEPTH_,DEPTH_FLAG,CTDDEP,THETA,SIGTHT,DOC,DOC_FLAG_W
,,,,,,,GMT,GMT,,,METER,DBAR,ITS-90,PSS-78,,UMOL/KG,,PSS-78,,UMOL/KG,,UMOL/KG,,UMOL/KG,,UMOL/KG,,UMOL/KG,,UMOL/KG,,PMOL/KG,,PMOL/KG,,/MILLE,,UMOL/KG,,UMOL/KG,,25_DEG_C,,DEG_C,,,,/MILLE,UMOL/KG,,UMOL/KG,,UG/L,,UG/L,,DBAR,ITS-90,METERS,,METERS,DEG_C,,UMOL/L,
       RF02-10,  165E,RF-1772,  1,     -9,      -9,5,20021011,0059, 23.0162, 164.9793, 5808,      0.0,  28.2018,  35.2112,2,   -999.0,9,-999.0000,9,    202.0,2,     1.12,2,  -999.00,9,     0.38,2,     0.00,2,     0.03,2, -999.000,9, -999.000,9,  -999.00,9,   -999.0,9,   -999.0,9,-999.0000,9,   -999.0,  9,     8.26,2,   -999.0,  -999.00,9,  -999.00,9,     0.06,2,     0.02,2,   -999.0,-999.0000, -999,9,    0,  28.2018,  22.4873,   -999.0,9
       RF02-10,  165E,RF-1772,  1,     24,02-13588,2,20021011,0057, 23.0162, 164.9793, 5808,     10.3,  28.1997,  35.2130,2,   -999.0,9,-999.0000,9,    197.5,2,     1.00,2,  -999.00,9,     0.09,2,     0.01,2,     0.01,2, -999.000,9, -999.000,9,  -999.00,9,   -999.0,9,   -999.0,9,-999.0000,9,   -999.0,  9,     8.27,2,   -999.0,  -999.00,9,  -999.00,9,     0.06,2,     0.01,2,   -999.0,-999.0000, -999,9,   10,  28.1973,  22.4901,   -999.0,9
       RF02-10,  165E,RF-1772,  1,     23,02-12825,2,20021011,0055, 23.0162, 164.9793, 5808,     26.6,  28.1359,  35.2163,2,   -999.0,9,-999.0000,9,    197.3,2,     0.96,2,  -999.00,9,     0.07,2,     0.01,2,     0.01,2, -999.000,9, -999.000,9,  -999.00,9,   -999.0,9,   -999.0,9,-999.0000,9,   -999.0,  9,     8.26,2,   -999.0,  -999.00,9,  -999.00,9,     0.06,2,     0.01,2,   -999.0,-999.0000, -999,9,   26,  28.1296,  22.5148,   -999.0,9
       RF02-10,  165E,RF-1772,  1,     22,02-12811,2,20021011,0054, 23.0162, 164.9793, 5808,     49.9,  28.0939,  35.2164,2,   -999.0,9,-999.0000,9,    202.0,2,     0.98,2,  -999.00,9,     0.07,2,     0.01,2,     0.00,2, -999.000,9, -999.000,9,  -999.00,9,   -999.0,9,   -999.0,9,-999.0000,9,   -999.0,  9,     8.25,2,   -999.0,  -999.00,9,  -999.00,9,     0.07,2,     0.01,2,   -999.0,-999.0000, -999,9,   50,  28.0821,  22.5305,   -999.0,9
       RF02-10,  165E,RF-1772,  1,     21,02-12826,2,20021011,0053, 23.0162, 164.9793, 5808,     74.8,  23.1868,  35.1288,2,   -999.0,9,-999.0000,9,    226.7,2,     1.42,2,  -999.00,9,     0.11,2,     0.01,2,     0.00,2, -999.000,9, -999.000,9,  -999.00,9,   -999.0,9,   -999.0,9,-999.0000,9,   -999.0,  9,     8.20,2,   -999.0,  -999.00,9,  -999.00,9,     0.14,2,     0.05,2,   -999.0,-999.0000, -999,9,   74,  23.1714,  23.9817,   -999.0,9
       RF02-10,  165E,RF-1772,  1,     20,02-12821,2,20021011,0052, 23.0162, 164.9793, 5808,    102.1,  21.6857,  35.1179,2,   -999.0,9,  35.1141,2,    211.1,2,     1.54,2,  -999.00,9,     0.09,2,     0.01,2,     0.02,2, -999.000,9, -999.000,9,  -999.00,9,   -999.0,9,   -999.0,9,-999.0000,9,   -999.0,  9,     8.17,2,   -999.0,  -999.00,9,  -999.00,9,     0.18,2,     0.20,2,   -999.0,-999.0000, -999,9,  101,  21.6657,  24.4007,   -999.0,9
       RF02-10,  165E,RF-1772,  1,     19,02-17875,2,20021011,0051, 23.0162, 164.9793, 5808,    124.9,  19.9871,  34.9401,2,   -999.0,9,-999.0000,9,    199.8,2,     2.16,2,  -999.00,9,     0.81,2,     0.13,2,     0.11,2, -999.000,9, -999.000,9,  -999.00,9,   -999.0,9,   -999.0,9,-999.0000,9,   -999.0,  9,     8.12,2,   -999.0,  -999.00,9,  -999.00,9,     0.17,2,     0.33,2,   -999.0,-999.0000, -999,9,  124,  19.9641,  24.7255,   -999.0,9
       RF02-10,  165E,RF-1772,  1,     18,02-12830,2,20021011,0050, 23.0162, 164.9793, 5808,    151.8,  18.5442,  34.8225,2,   -999.0,9,-999.0000,9,    199.7,2,     2.73,2,  -999.00,9,     2.50,2,     0.01,2,     0.21,2, -999.000,9, -999.000,9,  -999.00,9,   -999.0,9,   -999.0,9,-999.0000,9,   -999.0,  9,     8.10,2,   -999.0,  -999.00,9,  -999.00,9,     0.07,2,     0.23,2,   -999.0,-999.0000, -999,9,  151,  18.5176,  25.0075,   -999.0,9
       RF02-10,  165E,RF-1772,  1,     17,02-17874,2,20021011,0048, 23.0162, 164.9793, 5808,    202.0,  16.7439,  34.6867,2,   -999.0,9,  34.6768,2,    205.6,2,     4.54,2,  -999.00,9,     5.31,2,     0.00,2,     0.36,2, -999.000,9, -999.000,9,  -999.00,9,   -999.0,9,   -999.0,9,-999.0000,9,   -999.0,  9,     8.08,2,   -999.0,  -999.00,9,  -999.00,9,     0.00,2,     0.02,2,   -999.0,-999.0000, -999,9,  201,  16.7109,  25.3420,   -999.0,9
       RF02-10,  165E,RF-1772,  1,     16,02-12818,3,20021011,0047, 23.0162, 164.9793, 5808,    251.3,  15.7210,  34.6259,2,   -999.0,9,-999.0000,9,   -999.0,4,     6.22,2,  -999.00,9,     6.64,2,     0.00,2,     0.46,2, -999.000,9, -999.000,9,  -999.00,9,   -999.0,9,   -999.0,9,-999.0000,9,   -999.0,  9,     8.05,2,   -999.0,  -999.00,9,  -999.00,9,  -999.00,9,  -999.00,9,   -999.0,-999.0000, -999,9,  250,  15.6817,  25.5320,   -999.0,9
       RF02-10,  165E,RF-1772,  1,     15,02-12809,2,20021011,0045, 23.0162, 164.9793, 5808,    301.9,  14.4148,  34.5448,2,   -999.0,9,-999.0000,9,    206.3,2,     8.89,2,  -999.00,9,     8.90,2,     0.01,2,     0.59,2, -999.000,9, -999.000,9,  -999.00,9,   -999.0,9,   -999.0,9,-999.0000,9,   -999.0,  9,     8.00,2,   -999.0,  -999.00,9,  -999.00,9,  -999.00,9,  -999.00,9,   -999.0,-999.0000, -999,9,  300,  14.3704,  25.7570,   -999.0,9
       RF02-10,  165E,RF-1772,  1,     14,02-12817,2,20021011,0042, 23.0162, 164.9793, 5808,    402.6,  11.7677,  34.3517,2,   -999.0,9,  34.3424,2,    198.0,2,    16.15,2,  -999.00,9,    14.08,2,     0.01,2,     0.96,2, -999.000,9, -999.000,9,  -999.00,9,   -999.0,9,   -999.0,9,-999.0000,9,   -999.0,  9,  -999.00,9,   -999.0,  -999.00,9,  -999.00,9,  -999.00,9,  -999.00,9,   -999.0,-999.0000, -999,9,  400,  11.7158,  26.1392,   -999.0,9
       RF02-10,  165E,RF-1772,  1,     13,02-15822,2,20021011,0040, 23.0162, 164.9793, 5808,    504.2,   8.9028,  34.1449,2,   -999.0,9,-999.0000,9,    161.2,2,    31.48,2,  -999.00,9,    22.70,2,     0.01,2,     1.58,2, -999.000,9, -999.000,9,  -999.00,9,   -999.0,9,   -999.0,9,-999.0000,9,   -999.0,  9,     7.76,2,   -999.0,  -999.00,9,  -999.00,9,  -999.00,9,  -999.00,9,   -999.0,-999.0000, -999,9,  500,   8.8480,  26.4726,   -999.0,9
       RF02-10,  165E,RF-1772,  1,     12,02-13591,2,20021011,0038, 23.0162, 164.9793, 5808,    604.9,   6.7206,  34.0900,2,   -999.0,9,  34.0857,2,    111.2,2,    54.95,2,  -999.00,9,    31.12,2,     0.01,2,     2.22,2, -999.000,9, -999.000,9,  -999.00,9,   -999.0,9,   -999.0,9,-999.0000,9,   -999.0,  9,  -999.00,9,   -999.0,  -999.00,9,  -999.00,9,  -999.00,9,  -999.00,9,   -999.0,-999.0000, -999,9,  600,   6.6644,  26.7474,   -999.0,9
       RF02-10,  165E,RF-1772,  1,     11,02-13589,2,20021011,0035, 23.0162, 164.9793, 5808,    705.9,   5.5104,  34.1480,2,   -999.0,9,-999.0000,9,     71.2,2,    75.81,2,  -999.00,9,    36.87,2,     0.01,2,     2.67,2, -999.000,9, -999.000,9,  -999.00,9,   -999.0,9,   -999.0,9,-999.0000,9,   -999.0,  9,     7.55,2,   -999.0,  -999.00,9,  -999.00,9,  -999.00,9,  -999.00,9,   -999.0,-999.0000, -999,9,  700,   5.4508,  26.9470,   -999.0,9
       RF02-10,  165E,RF-1772,  1,     10,02-12815,2,20021011,0033, 23.0162, 164.9793, 5808,    807.1,   4.6662,  34.2607,2,   -999.0,9,  34.2595,2,     46.6,2,    94.40,2,  -999.00,9,    39.97,2,     0.01,2,     2.91,2, -999.000,9, -999.000,9,  -999.00,9,   -999.0,9,   -999.0,9,-999.0000,9,   -999.0,  9,  -999.00,9,   -999.0,  -999.00,9,  -999.00,9,  -999.00,9,  -999.00,9,   -999.0,-999.0000, -999,9,  800,   4.6025,  27.1338,   -999.0,9
       RF02-10,  165E,RF-1772,  1,      9,02-12807,2,20021011,0029, 23.0162, 164.9793, 5808,   1009.2,   3.9862,  34.4063,2,   -999.0,9,  34.4048,2,     42.7,2,   109.44,2,  -999.00,9,    41.03,2,     0.01,2,     2.97,2, -999.000,9, -999.000,9,  -999.00,9,   -999.0,9,   -999.0,9,-999.0000,9,   -999.0,  9,     7.57,2,   -999.0,  -999.00,9,  -999.00,9,  -999.00,9,  -999.00,9,   -999.0,-999.0000, -999,9, 1000,   3.9101,  27.3232,   -999.0,9
       RF02-10,  165E,RF-1772,  1,      8,02-10154,2,20021011,0024, 23.0162, 164.9793, 5808,   1262.2,   3.2629,  34.5158,2,   -999.0,9,-999.0000,9,     67.3,2,   123.33,2,  -999.00,9,    40.43,2,     0.01,2,     2.90,2, -999.000,9, -999.000,9,  -999.00,9,   -999.0,9,   -999.0,9,-999.0000,9,   -999.0,  9,  -999.00,9,   -999.0,  -999.00,9,  -999.00,9,  -999.00,9,  -999.00,9,   -999.0,-999.0000, -999,9, 1250,   3.1721,  27.4826,   -999.0,9
       RF02-10,  165E,RF-1772,  1,      7,02-15821,2,20021011,0019, 23.0162, 164.9793, 5808,   1514.8,   2.7141,  34.5549,2,   -999.0,9,  34.5523,2,     75.7,2,   133.97,2,  -999.00,9,    40.22,2,     0.01,2,     2.87,2, -999.000,9, -999.000,9,  -999.00,9,   -999.0,9,   -999.0,9,-999.0000,9,   -999.0,  9,     7.62,2,   -999.0,  -999.00,9,  -999.00,9,  -999.00,9,  -999.00,9,   -999.0,-999.0000, -999,9, 1500,   2.6084,  27.5647,   -999.0,9
       RF02-10,  165E,RF-1772,  1,      6,02-17872,2,20021011,0010, 23.0162, 164.9793, 5808,   2022.2,   1.9962,  34.6192,2,   -999.0,9,  34.6194,2,    101.1,2,   145.24,2,  -999.00,9,    39.05,2,     0.01,2,     2.74,2, -999.000,9, -999.000,9,  -999.00,9,   -999.0,9,   -999.0,9,-999.0000,9,   -999.0,  9,     7.67,2,   -999.0,  -999.00,9,  -999.00,9,  -999.00,9,  -999.00,9,   -999.0,-999.0000, -999,9, 2000,   1.8580,  27.6777,   -999.0,9
       RF02-10,  165E,RF-1772,  1,      5,02-10155,2,20021010,2358, 23.0162, 164.9793, 5808,   2529.8,   1.7323,  34.6499,2,   -999.0,9,-999.0000,9,    119.2,2,   147.93,2,  -999.00,9,    38.15,2,     0.01,2,     2.66,2, -999.000,9, -999.000,9,  -999.00,9,   -999.0,9,   -999.0,9,-999.0000,9,   -999.0,  9,  -999.00,9,   -999.0,  -999.00,9,  -999.00,9,  -999.00,9,  -999.00,9,   -999.0,-999.0000, -999,9, 2499,   1.5544,  27.7252,   -999.0,9
       RF02-10,  165E,RF-1772,  1,      4,02-13579,2,20021010,2349, 23.0162, 164.9793, 5808,   3042.3,   1.5975,  34.6644,2,   -999.0,9,  34.6642,2,    130.8,2,   148.39,2,  -999.00,9,    37.22,2,     0.01,2,     2.60,2, -999.000,9, -999.000,9,  -999.00,9,   -999.0,9,   -999.0,9,-999.0000,9,   -999.0,  9,  -999.00,9,   -999.0,  -999.00,9,  -999.00,9,  -999.00,9,  -999.00,9,   -999.0,-999.0000, -999,9, 3002,   1.3746,  27.7499,   -999.0,9
       RF02-10,  165E,RF-1772,  1,      3,02-13590,2,20021010,2331, 23.0162, 164.9793, 5808,   4065.3,   1.4788,  34.6830,2,   -999.0,9,  34.6825,2,    151.6,2,   142.91,2,  -999.00,9,    36.08,2,     0.01,2,     2.48,2, -999.000,9, -999.000,9,  -999.00,9,   -999.0,9,   -999.0,9,-999.0000,9,   -999.0,  9,  -999.00,9,   -999.0,  -999.00,9,  -999.00,9,  -999.00,9,  -999.00,9,   -999.0,-999.0000, -999,9, 4001,   1.1534,  27.7803,   -999.0,9
       RF02-10,  165E,RF-1772,  1,      2,02-12827,2,20021010,2311, 23.0162, 164.9793, 5808,   5094.7,   1.4452,  34.6955,2,   -999.0,9,  34.6947,2,    171.5,2,   132.67,2,  -999.00,9,    34.73,2,     0.01,2,     2.37,2, -999.000,9, -999.000,9,  -999.00,9,   -999.0,9,   -999.0,9,-999.0000,9,   -999.0,  9,  -999.00,9,   -999.0,  -999.00,9,  -999.00,9,  -999.00,9,  -999.00,9,   -999.0,-999.0000, -999,9, 5003,   1.0012,  27.8006,   -999.0,9
       RF02-10,  165E,RF-1772,  1,      1,02-17871,2,20021010,2258, 23.0162, 164.9793, 5808,   5815.4,   1.5013,  34.6973,2,   -999.0,9,  34.6981,2,    176.8,2,   129.41,2,  -999.00,9,    34.31,2,     0.01,2,     2.34,2, -999.000,9, -999.000,9,  -999.00,9,   -999.0,9,   -999.0,9,-999.0000,9,   -999.0,  9,     7.79,2,   -999.0,  -999.00,9,  -999.00,9,  -999.00,9,  -999.00,9,   -999.0,-999.0000, -999,9, 5702,   0.9638,  27.8045,   -999.0,9
       RF02-10,  165E,RF-1773,  2,     -9,      -9,5,20021011,1133, 22.0227, 164.9478, 5447,      0.0,  28.4629,  35.0911,2,   -999.0,9,-999.0000,9,    198.6,2,     1.10,2,  -999.00,9,     0.12,2,     0.00,2,     0.02,2, -999.000,9, -999.000,9,  -999.00,9,   -999.0,9,   -999.0,9,-999.0000,9,   -999.0,  9,  -999.00,9,   -999.0,  -999.00,9,  -999.00,9,     0.06,2,     0.01,2,   -999.0,-999.0000, -999,9,    0,  28.4629,  22.3110,   -999.0,9
       RF02-10,  165E,RF-1773,  2,     24,02-13588,2,20021011,1131, 22.0227, 164.9478, 5447,     11.9,  28.4658,  35.0898,2,   -999.0,9,-999.0000,9,    196.6,2,     1.07,2,  -999.00,9,     0.04,2,     0.00,2,     0.01,2, -999.000,9, -999.000,9,  -999.00,9,   -999.0,9,   -999.0,9,-999.0000,9,   -999.0,  9,  -999.00,9,   -999.0,  -999.00,9,  -999.00,9,     0.06,2,     0.02,2,   -999.0,-999.0000, -999,9,   12,  28.4630,  22.3100,   -999.0,9
       RF02-10,  165E,RF-1773,  2,     23,02-12825,2,20021011,1130, 22.0227, 164.9478, 5447,     28.3,  28.4761,  35.0931,2,   -999.0,9,-999.0000,9,    199.1,2,     1.04,2,  -999.00,9,     0.00,2,     0.00,2,     0.01,2, -999.000,9, -999.000,9,  -999.00,9,   -999.0,9,   -999.0,9,-999.0000,9,   -999.0,  9,  -999.00,9,   -999.0,  -999.00,9,  -999.00,9,     0.07,2,     0.01,2,   -999.0,-999.0000, -999,9,   28,  28.4693,  22.3104,   -999.0,9
       RF02-10,  165E,RF-1773,  2,     22,02-12811,2,20021011,1128, 22.0227, 164.9478, 5447,     52.0,  28.4715,  35.1023,2,   -999.0,9,-999.0000,9,    196.8,2,     1.03,2,  -999.00,9,     0.03,2,     0.00,2,     0.01,2, -999.000,9, -999.000,9,  -999.00,9,   -999.0,9,   -999.0,9,-999.0000,9,   -999.0,  9,  -999.00,9,   -999.0,  -999.00,9,  -999.00,9,     0.06,2,     0.02,2,   -999.0,-999.0000, -999,9,   52,  28.4591,  22.3207,   -999.0,9
       RF02-10,  165E,RF-1773,  2,     21,02-12826,2,20021011,1127, 22.0227, 164.9478, 5447,     76.5,  26.3463,  35.2101,2,   -999.0,9,-999.0000,9,    216.9,2,     1.14,2,  -999.00,9,     0.05,2,     0.00,2,     0.00,2, -999.000,9, -999.000,9,  -999.00,9,   -999.0,9,   -999.0,9,-999.0000,9,   -999.0,  9,  -999.00,9,   -999.0,  -999.00,9,  -999.00,9,     0.13,2,     0.04,2,   -999.0,-999.0000, -999,9,   76,  26.3290,  23.0888,   -999.0,9
       RF02-10,  165E,RF-1773,  1,     15,02-12809,2,20021011,0705, 21.9973, 164.9883, 5468,    102.3,  24.4464,  35.1506,2,   -999.0,9,-999.0000,9,   -999.0,9,  -999.00,9,  -999.00,9,  -999.00,9,  -999.00,9,  -999.00,9, -999.000,9, -999.000,9,  -999.00,9,   -999.0,9,   -999.0,9,-999.0000,9,   -999.0,  9,  -999.00,9,   -999.0,  -999.00,9,  -999.00,9,  -999.00,9,  -999.00,9,   -999.0,-999.0000, -999,9,  102,  24.4246,  23.6288,   -999.0,9
       RF02-10,  165E,RF-1773,  2,     20,02-12821,2,20021011,1125, 22.0227, 164.9478, 5447,    102.6,  24.2564,  35.1946,2,   -999.0,9,-999.0000,9,    200.6,2,     1.24,2,  -999.00,9,     0.02,2,     0.00,2,     0.02,2, -999.000,9, -999.000,9,  -999.00,9,   -999.0,9,   -999.0,9,-999.0000,9,   -999.0,  9,  -999.00,9,   -999.0,  -999.00,9,  -999.00,9,     0.19,2,     0.25,2,   -999.0,-999.0000, -999,9,  102,  24.2346,  23.7189,   -999.0,9
       RF02-10,  165E,RF-1773,  2,     19,02-17875,2,20021011,1124, 22.0227, 164.9478, 5447,    127.5,  22.8706,  35.1363,2,   -999.0,9,-999.0000,9,    191.5,2,     1.60,2,  -999.00,9,     0.54,2,     0.05,2,     0.07,2, -999.000,9, -999.000,9,  -999.00,9,   -999.0,9,   -999.0,9,-999.0000,9,   -999.0,  9,  -999.00,9,   -999.0,  -999.00,9,  -999.00,9,     0.19,2,     0.37,2,   -999.0,-999.0000, -999,9,  127,  22.8446,  24.0817,   -999.0,9
       RF02-10,  165E,RF-1773,  1,     14,02-12817,2,20021011,0702, 21.9973, 164.9883, 5468,    150.7,  21.9084,  35.0703,2,   -999.0,9,-999.0000,9,   -999.0,9,  -999.00,9,  -999.00,9,  -999.00,9,  -999.00,9,  -999.00,9, -999.000,9, -999.000,9,  -999.00,9,   -999.0,9,   -999.0,9,-999.0000,9,   -999.0,  9,  -999.00,9,   -999.0,  -999.00,9,  -999.00,9,  -999.00,9,  -999.00,9,   -999.0,-999.0000, -999,9,  150,  21.8786,  24.3052,   -999.0,9
       RF02-10,  165E,RF-1773,  2,     18,02-12830,2,20021011,1123, 22.0227, 164.9478, 5447,    153.1,  21.1549,  35.0426,2,   -999.0,9,-999.0000,9,    198.4,2,     1.88,2,  -999.00,9,     0.78,2,     0.05,2,     0.08,2, -999.000,9, -999.000,9,  -999.00,9,   -999.0,9,   -999.0,9,-999.0000,9,   -999.0,  9,  -999.00,9,   -999.0,  -999.00,9,  -999.00,9,     0.07,2,     0.15,2,   -999.0,-999.0000, -999,9,  152,  21.1255,  24.4922,   -999.0,9
       RF02-10,  165E,RF-1773,  1,     13,02-15822,2,20021011,0701, 21.9973, 164.9883, 5468,    200.6,  18.6765,  34.8098,2,   -999.0,9,-999.0000,9,   -999.0,9,  -999.00,9,  -999.00,9,  -999.00,9,  -999.00,9,  -999.00,9, -999.000,9, -999.000,9,  -999.00,9,   -999.0,9,   -999.0,9,-999.0000,9,   -999.0,  9,  -999.00,9,   -999.0,  -999.00,9,  -999.00,9,  -999.00,9,  -999.00,9,   -999.0,-999.0000, -999,9,  199,  18.6412,  24.9667,   -999.0,9
       RF02-10,  165E,RF-1773,  2,     17,02-17874,2,20021011,1121, 22.0227, 164.9478, 5447,    202.7,  18.6061,  34.8174,2,   -999.0,9,-999.0000,9,    199.1,2,     2.93,2,  -999.00,9,     2.72,2,     0.01,2,     0.21,2, -999.000,9, -999.000,9,  -999.00,9,   -999.0,9,   -999.0,9,-999.0000,9,   -999.0,  9,  -999.00,9,   -999.0,  -999.00,9,  -999.00,9,     0.01,2,     0.04,2,   -999.0,-999.0000, -999,9,  201,  18.5705,  24.9903,   -999.0,9
       RF02-10,  165E,RF-1773,  1,     12,02-13591,2,20021011,0659, 21.9973, 164.9883, 5468,    251.1,  16.7845,  34.7022,2,   -999.0,9,-999.0000,9,   -999.0,9,  -999.00,9,  -999.00,9,  -999.00,9,  -999.00,9,  -999.00,9, -999.000,9, -999.000,9,  -999.00,9,   -999.0,9,   -999.0,9,-999.0000,9,   -999.0,  9,  -999.00,9,   -999.0,  -999.00,9,  -999.00,9,  -999.00,9,  -999.00,9,   -999.0,-999.0000, -999,9,  249,  16.7435,  25.3463,   -999.0,9
       RF02-10,  165E,RF-1773,  2,     16,02-12818,2,20021011,1119, 22.0227, 164.9478, 5447,    252.4,  16.9240,  34.7123,2,   -999.0,9,-999.0000,9,    197.6,2,     4.76,2,  -999.00,9,     5.71,2,     0.00,2,     0.37,2, -999.000,9, -999.000,9,  -999.00,9,   -999.0,9,   -999.0,9,-999.0000,9,   -999.0,  9,  -999.00,9,   -999.0,  -999.00,9,  -999.00,9,  -999.00,9,  -999.00,9,   -999.0,-999.0000, -999,9,  251,  16.8825,  25.3213,   -999.0,9
       RF02-10,  165E,RF-1773,  1,     11,02-13589,2,20021011,0656, 21.9973, 164.9883, 5468,    303.3,  15.2055,  34.5964,2,   -999.0,9,-999.0000,9,   -999.0,9,  -999.00,9,  -999.00,9,  -999.00,9,  -999.00,9,  -999.00,9, -999.000,9, -999.000,9,  -999.00,9,   -999.0,9,   -999.0,9,-999.0000,9,   -999.0,  9,  -999.00,9,   -999.0,  -999.00,9,  -999.00,9,  -999.00,9,  -999.00,9,   -999.0,-999.0000, -999,9,  301,  15.1592,  25.6258,   -999.0,9
       RF02-10,  165E,RF-1773,  2,     15,02-12809,2,20021011,1117, 22.0227, 164.9478, 5447,    303.5,  15.3464,  34.6121,2,   -999.0,9,-999.0000,9,    196.7,2,     7.37,2,  -999.00,9,     8.11,2,     0.00,2,     0.55,2, -999.000,9, -999.000,9,  -999.00,9,   -999.0,9,   -999.0,9,-999.0000,9,   -999.0,  9,  -999.00,9,   -999.0,  -999.00,9,  -999.00,9,  -999.00,9,  -999.00,9,   -999.0,-999.0000, -999,9,  301,  15.2997,  25.6067,   -999.0,9
       RF02-10,  165E,RF-1773,  1,     10,02-12815,2,20021011,0653, 21.9973, 164.9883, 5468,    403.3,  11.9503,  34.3350,2,   -999.0,9,-999.0000,9,   -999.0,9,  -999.00,9,  -999.00,9,  -999.00,9,  -999.00,9,  -999.00,9, -999.000,9, -999.000,9,  -999.00,9,   -999.0,9,   -999.0,9,-999.0000,9,   -999.0,  9,  -999.00,9,   -999.0,  -999.00,9,  -999.00,9,  -999.00,9,  -999.00,9,   -999.0,-999.0000, -999,9,  400,  11.8977,  26.0920,   -999.0,9
       RF02-10,  165E,RF-1773,  2,     14,02-12817,2,20021011,1114, 22.0227, 164.9478, 5447,    403.7,  11.9944,  34.3564,2,   -999.0,9,-999.0000,9,    193.5,2,    15.55,2,  -999.00,9,    13.97,2,     0.00,2,     0.95,2, -999.000,9, -999.000,9,  -999.00,9,   -999.0,9,   -999.0,9,-999.0000,9,   -999.0,  9,  -999.00,9,   -999.0,  -999.00,9,  -999.00,9,  -999.00,9,  -999.00,9,   -999.0,-999.0000, -999,9,  401,  11.9416,  26.1003,   -999.0,9