BOTTLE,20130510GEMDJMAYT
EXPOCODE,SECT_ID,STNNBR,CASTNO,SAMPNO,BTLNBR,BTLNBR_FLAG_W,DATE,TIME,LATITUDE,LONGITUDE,DEPTH,CTDPRS,CTDTMP,CTDSAL,CTDSAL_FLAG_W,CTDOXY,CTDOXY_FLAG_W,SALNTY,SALNTY_FLAG_W,OXYGEN,OXYGEN_FLAG_W,SILCAT,SILCAT_FLAG_W,NITRAT,NITRAT_FLAG_W,NO2+NO3,NO2+NO3_FLAG_W,NITRIT,NITRIT_FLAG_W,PHSPHT,PHSPHT_FLAG_W,CFC-11,CFC-11_FLAG_W,CFC-12,CFC-12_FLAG_W,DELC13,DELC13_FLAG_W,TCARBN,TCARBN_FLAG_W,ALKALI,ALKALI_FLAG_W,PH,PH_FLAG_W,PH_TMP,PH_SCALE,PH_NBS,PH_NBS_FLAG_W,C13ERR,TOTALP,TOTALP_FLAG_W,AMMONI,AMMONI_FLAG_W,CHLORA,CHLORA_FLAG_W,PPHYTN,PPHYTN_FLAG_W,REVPRS,REVTMP,DEPTH_,DEPTH_FLAG,CTDDEP,THETA,SIGTHT,DOC,DOC_FLAG_W
,,,,,,,GMT,GMT,,,METER,DBAR,ITS-90,PSS-78,,UMOL/KG,,PSS-78,,UMOL/KG,,UMOL/KG,,UMOL/KG,,UMOL/KG,,UMOL/KG,,UMOL/KG,,PMOL/KG,,PMOL/KG,,/MILLE,,UMOL/KG,,UMOL/KG,,25_DEG_C,,DEG_C,,,,/MILLE,UMOL/KG,,UMOL/KG,,UG/L,,UG/L,,DBAR,ITS-90,METERS,,METERS,DEG_C,,UMOL/L,
       RF02-10, EQPAC,RF-1804,  1,     -9,      -9,5,20021102,2324, -0.5012, 173.0013, 4637,      0.0,  29.9303,  34.0933,2,   -999.0,9,-999.0000,9,    193.5,2,     1.33,2,  -999.00,9,     0.00,2,     0.00,2,     0.08,2, -999.000,9, -999.000,9,  -999.00,9,   -999.0,9,   -999.0,9,-999.0000,9,   -999.0,  9,     8.25,2,   -999.0,  -999.00,9,  -999.00,9,     0.11,2,     0.04,2,   -999.0,-999.0000, -999,9,    0,  29.9303,  21.0703,   -999.0,9
       RF02-10, EQPAC,RF-1804,  1,     21,02-12826,2,20021102,2321, -0.5012, 173.0013, 4637,     12.4,  29.8498,  34.0944,2,   -999.0,9,-999.0000,9,    194.4,2,     1.24,2,  -999.00,9,     0.00,2,     0.00,2,     0.02,2, -999.000,9, -999.000,9,  -999.00,9,   -999.0,9,   -999.0,9,-999.0000,9,   -999.0,  9,     8.26,2,   -999.0,  -999.00,9,  -999.00,9,     0.11,2,     0.04,2,   -999.0,-999.0000, -999,9,   12,  29.8468,  21.0995,   -999.0,9
       RF02-10, EQPAC,RF-1804,  1,     20,02-12821,2,20021102,2320, -0.5012, 173.0013, 4637,     28.1,  29.6080,  34.0992,2,   -999.0,9,-999.0000,9,    194.9,2,     1.27,2,  -999.00,9,     0.00,2,     0.00,2,     0.04,2, -999.000,9, -999.000,9,  -999.00,9,   -999.0,9,   -999.0,9,-999.0000,9,   -999.0,  9,     8.27,2,   -999.0,  -999.00,9,  -999.00,9,     0.14,2,     0.04,2,   -999.0,-999.0000, -999,9,   28,  29.6011,  21.1863,   -999.0,9
       RF02-10, EQPAC,RF-1804,  1,     19,02-17875,2,20021102,2318, -0.5012, 173.0013, 4637,     52.2,  29.4314,  34.2119,2,   -999.0,9,-999.0000,9,    195.7,2,     1.33,2,  -999.00,9,     0.00,2,     0.00,2,     0.02,2, -999.000,9, -999.000,9,  -999.00,9,   -999.0,9,   -999.0,9,-999.0000,9,   -999.0,  9,     8.27,2,   -999.0,  -999.00,9,  -999.00,9,     0.20,2,     0.08,2,   -999.0,-999.0000, -999,9,   52,  29.4186,  21.3323,   -999.0,9
       RF02-10, EQPAC,RF-1804,  1,     18,02-12830,2,20021102,2317, -0.5012, 173.0013, 4637,     78.5,  29.2534,  34.3413,2,   -999.0,9,-999.0000,9,    194.5,2,     1.19,2,  -999.00,9,     0.00,2,     0.00,2,     0.03,2, -999.000,9, -999.000,9,  -999.00,9,   -999.0,9,   -999.0,9,-999.0000,9,   -999.0,  9,     8.27,2,   -999.0,  -999.00,9,  -999.00,9,     0.36,2,     0.19,2,   -999.0,-999.0000, -999,9,   78,  29.2344,  21.4912,   -999.0,9
       RF02-10, EQPAC,RF-1804,  1,     17,02-17874,2,20021102,2315, -0.5012, 173.0013, 4637,    102.8,  28.9393,  34.3620,2,   -999.0,9,  34.3775,2,    188.5,2,     1.32,2,  -999.00,9,     0.20,2,     0.04,2,     0.06,2, -999.000,9, -999.000,9,  -999.00,9,   -999.0,9,   -999.0,9,-999.0000,9,   -999.0,  9,     8.25,2,   -999.0,  -999.00,9,  -999.00,9,     0.31,2,     0.16,2,   -999.0,-999.0000, -999,9,  102,  28.9145,  21.6136,   -999.0,9
       RF02-10, EQPAC,RF-1804,  1,     16,02-12818,2,20021102,2314, -0.5012, 173.0013, 4637,    124.5,  28.5563,  34.4401,2,   -999.0,9,-999.0000,9,    166.8,2,     2.39,2,  -999.00,9,     4.28,2,     0.22,2,     0.33,2, -999.000,9, -999.000,9,  -999.00,9,   -999.0,9,   -999.0,9,-999.0000,9,   -999.0,  9,     8.18,2,   -999.0,  -999.00,9,  -999.00,9,     0.16,2,     0.22,2,   -999.0,-999.0000, -999,9,  124,  28.5265,  21.8009,   -999.0,9
       RF02-10, EQPAC,RF-1804,  1,     15,02-12809,2,20021102,2312, -0.5012, 173.0013, 4637,    153.5,  22.6278,  35.2290,2,   -999.0,9,-999.0000,9,    135.2,2,     4.88,2,  -999.00,9,    10.19,2,     0.03,2,     0.73,2, -999.000,9, -999.000,9,  -999.00,9,   -999.0,9,   -999.0,9,-999.0000,9,   -999.0,  9,     8.05,2,   -999.0,  -999.00,9,  -999.00,9,     0.08,2,     0.27,2,   -999.0,-999.0000, -999,9,  153,  22.5968,  24.2230,   -999.0,9
       RF02-10, EQPAC,RF-1804,  1,     14,02-12817,2,20021102,2310, -0.5012, 173.0013, 4637,    204.8,  14.9069,  35.0666,2,   -999.0,9,  35.0619,2,    135.6,2,    11.82,2,  -999.00,9,    16.97,2,     0.00,2,     1.19,2, -999.000,9, -999.000,9,  -999.00,9,   -999.0,9,   -999.0,9,-999.0000,9,   -999.0,  9,     7.91,2,   -999.0,  -999.00,9,  -999.00,9,     0.00,2,     0.02,2,   -999.0,-999.0000, -999,9,  204,  14.8760,  26.0505,   -999.0,9
       RF02-10, EQPAC,RF-1804,  1,     13,02-15822,2,20021102,2308, -0.5012, 173.0013, 4637,    254.3,  12.1848,  34.8183,2,   -999.0,9,-999.0000,9,    115.1,2,    19.80,2,  -999.00,9,    23.24,2,     0.00,2,     1.61,2, -999.000,9, -999.000,9,  -999.00,9,   -999.0,9,   -999.0,9,-999.0000,9,   -999.0,  9,     7.82,2,   -999.0,  -999.00,9,  -999.00,9,  -999.00,9,  -999.00,9,   -999.0,-999.0000, -999,9,  253,  12.1513,  26.4190,   -999.0,9
       RF02-10, EQPAC,RF-1804,  1,     12,02-13591,2,20021102,2306, -0.5012, 173.0013, 4637,    305.7,  11.3217,  34.8025,2,   -999.0,9,-999.0000,9,     84.7,2,    23.08,2,  -999.00,9,    27.74,2,     0.00,2,     1.92,2, -999.000,9, -999.000,9,  -999.00,9,   -999.0,9,   -999.0,9,-999.0000,9,   -999.0,  9,     7.73,2,   -999.0,  -999.00,9,  -999.00,9,  -999.00,9,  -999.00,9,   -999.0,-999.0000, -999,9,  304,  11.2832,  26.5701,   -999.0,9
       RF02-10, EQPAC,RF-1804,  1,     11,02-13589,2,20021102,2304, -0.5012, 173.0013, 4637,    406.7,   9.4411,  34.6906,2,   -999.0,9,  34.6886,2,     55.7,2,    31.83,2,  -999.00,9,    33.96,2,     0.00,2,     2.36,2, -999.000,9, -999.000,9,  -999.00,9,   -999.0,9,   -999.0,9,-999.0000,9,   -999.0,  9,  -999.00,9,   -999.0,  -999.00,9,  -999.00,9,  -999.00,9,  -999.00,9,   -999.0,-999.0000, -999,9,  404,   9.3953,  26.8117,   -999.0,9
       RF02-10, EQPAC,RF-1804,  1,     10,02-12815,2,20021102,2301, -0.5012, 173.0013, 4637,    505.5,   8.1229,  34.6126,2,   -999.0,9,-999.0000,9,     73.1,2,    37.75,2,  -999.00,9,    34.85,2,     0.00,2,     2.44,2, -999.000,9, -999.000,9,  -999.00,9,   -999.0,9,   -999.0,9,-999.0000,9,   -999.0,  9,     7.65,2,   -999.0,  -999.00,9,  -999.00,9,  -999.00,9,  -999.00,9,   -999.0,-999.0000, -999,9,  502,   8.0706,  26.9590,   -999.0,9
       RF02-10, EQPAC,RF-1804,  1,      9,02-12807,2,20021102,2258, -0.5012, 173.0013, 4637,    606.7,   6.8360,  34.5682,2,   -999.0,9,  34.5667,2,     75.6,2,    47.98,2,  -999.00,9,    36.95,2,     0.00,2,     2.64,2, -999.000,9, -999.000,9,  -999.00,9,   -999.0,9,   -999.0,9,-999.0000,9,   -999.0,  9,  -999.00,9,   -999.0,  -999.00,9,  -999.00,9,  -999.00,9,  -999.00,9,   -999.0,-999.0000, -999,9,  602,   6.7786,  27.1090,   -999.0,9
       RF02-10, EQPAC,RF-1804,  1,      8,02-10154,2,20021102,2255, -0.5012, 173.0013, 4637,    706.9,   5.8911,  34.5457,2,   -999.0,9,-999.0000,9,     85.8,2,    57.63,2,  -999.00,9,    37.61,2,     0.00,2,     2.69,2, -999.000,9, -999.000,9,  -999.00,9,   -999.0,9,   -999.0,9,-999.0000,9,   -999.0,  9,     7.63,2,   -999.0,  -999.00,9,  -999.00,9,  -999.00,9,  -999.00,9,   -999.0,-999.0000, -999,9,  702,   5.8288,  27.2153,   -999.0,9
       RF02-10, EQPAC,RF-1804,  1,      7,02-15821,2,20021102,2253, -0.5012, 173.0013, 4637,    808.0,   5.4890,  34.5475,2,   -999.0,9,  34.5444,2,     79.6,2,    66.01,2,  -999.00,9,    38.69,2,     0.00,2,     2.78,2, -999.000,9, -999.000,9,  -999.00,9,   -999.0,9,   -999.0,9,-999.0000,9,   -999.0,  9,  -999.00,9,   -999.0,  -999.00,9,  -999.00,9,  -999.00,9,  -999.00,9,   -999.0,-999.0000, -999,9,  802,   5.4197,  27.2670,   -999.0,9
       RF02-10, EQPAC,RF-1804,  1,      6,02-17872,2,20021102,2250, -0.5012, 173.0013, 4637,    909.3,   5.0669,  34.5563,2,   -999.0,9,-999.0000,9,     83.9,2,    72.69,2,  -999.00,9,    38.77,2,     0.00,2,     2.78,2, -999.000,9, -999.000,9,  -999.00,9,   -999.0,9,   -999.0,9,-999.0000,9,   -999.0,  9,  -999.00,9,   -999.0,  -999.00,9,  -999.00,9,  -999.00,9,  -999.00,9,   -999.0,-999.0000, -999,9,  902,   4.9912,  27.3245,   -999.0,9
       RF02-10, EQPAC,RF-1804,  1,      5,02-10155,2,20021102,2247, -0.5012, 173.0013, 4637,   1009.9,   4.4896,  34.5570,2,   -999.0,9,  34.5535,2,     86.5,2,    83.35,2,  -999.00,9,    39.10,2,     0.00,2,     2.81,2, -999.000,9, -999.000,9,  -999.00,9,   -999.0,9,   -999.0,9,-999.0000,9,   -999.0,  9,     7.61,2,   -999.0,  -999.00,9,  -999.00,9,  -999.00,9,  -999.00,9,   -999.0,-999.0000, -999,9, 1002,   4.4093,  27.3903,   -999.0,9
       RF02-10, EQPAC,RF-1804,  1,      4,02-13579,2,20021102,2243, -0.5012, 173.0013, 4637,   1264.4,   3.7158,  34.5776,2,   -999.0,9,  34.5773,2,     91.2,2,   101.16,2,  -999.00,9,    39.33,2,     0.00,2,     2.84,2, -999.000,9, -999.000,9,  -999.00,9,   -999.0,9,   -999.0,9,-999.0000,9,   -999.0,  9,  -999.00,9,   -999.0,  -999.00,9,  -999.00,9,  -999.00,9,  -999.00,9,   -999.0,-999.0000, -999,9, 1254,   3.6203,  27.4887,   -999.0,9
       RF02-10, EQPAC,RF-1804,  1,      3,02-13590,2,20021102,2238, -0.5012, 173.0013, 4637,   1516.4,   3.1572,  34.5994,2,   -999.0,9,  34.5968,2,     95.9,2,   113.41,2,  -999.00,9,    39.29,2,     0.00,2,     2.82,2, -999.000,9, -999.000,9,  -999.00,9,   -999.0,9,   -999.0,9,-999.0000,9,   -999.0,  9,     7.62,2,   -999.0,  -999.00,9,  -999.00,9,  -999.00,9,  -999.00,9,   -999.0,-999.0000, -999,9, 1503,   3.0462,  27.5611,   -999.0,9
       RF02-10, EQPAC,RF-1804,  1,      2,02-12827,2,20021102,2232, -0.5012, 173.0013, 4637,   1772.5,   2.6008,  34.6246,2,   -999.0,9,  34.6221,2,    106.0,2,   125.40,2,  -999.00,9,    38.70,2,     0.00,2,     2.75,2, -999.000,9, -999.000,9,  -999.00,9,   -999.0,9,   -999.0,9,-999.0000,9,   -999.0,  9,     7.65,2,   -999.0,  -999.00,9,  -999.00,9,  -999.00,9,  -999.00,9,   -999.0,-999.0000, -999,9, 1755,   2.4749,  27.6319,   -999.0,9
       RF02-10, EQPAC,RF-1804,  1,      1,02-17871,2,20021102,2227, -0.5012, 173.0013, 4637,   2048.1,   2.1088,  34.6471,2,   -999.0,9,  34.6450,2,    116.2,2,   135.08,2,  -999.00,9,    38.21,2,     0.00,2,     2.70,2, -999.000,9, -999.000,9,  -999.00,9,   -999.0,9,   -999.0,9,-999.0000,9,   -999.0,  9,     7.67,2,   -999.0,  -999.00,9,  -999.00,9,  -999.00,9,  -999.00,9,   -999.0,-999.0000, -999,9, 2027,   1.9666,  27.6916,   -999.0,9