BOTTLE,20130510GEMDJMAYT
EXPOCODE,SECT_ID,STNNBR,CASTNO,SAMPNO,BTLNBR,BTLNBR_FLAG_W,DATE,TIME,LATITUDE,LONGITUDE,DEPTH,CTDPRS,CTDTMP,CTDSAL,CTDSAL_FLAG_W,CTDOXY,CTDOXY_FLAG_W,SALNTY,SALNTY_FLAG_W,OXYGEN,OXYGEN_FLAG_W,SILCAT,SILCAT_FLAG_W,NITRAT,NITRAT_FLAG_W,NO2+NO3,NO2+NO3_FLAG_W,NITRIT,NITRIT_FLAG_W,PHSPHT,PHSPHT_FLAG_W,CFC-11,CFC-11_FLAG_W,CFC-12,CFC-12_FLAG_W,DELC13,DELC13_FLAG_W,TCARBN,TCARBN_FLAG_W,ALKALI,ALKALI_FLAG_W,PH,PH_FLAG_W,PH_TMP,PH_SCALE,PH_NBS,PH_NBS_FLAG_W,C13ERR,TOTALP,TOTALP_FLAG_W,AMMONI,AMMONI_FLAG_W,CHLORA,CHLORA_FLAG_W,PPHYTN,PPHYTN_FLAG_W,REVPRS,REVTMP,DEPTH_,DEPTH_FLAG,CTDDEP,THETA,SIGTHT,DOC,DOC_FLAG_W
,,,,,,,GMT,GMT,,,METER,DBAR,ITS-90,PSS-78,,UMOL/KG,,PSS-78,,UMOL/KG,,UMOL/KG,,UMOL/KG,,UMOL/KG,,UMOL/KG,,UMOL/KG,,PMOL/KG,,PMOL/KG,,/MILLE,,UMOL/KG,,UMOL/KG,,25_DEG_C,,DEG_C,,,,/MILLE,UMOL/KG,,UMOL/KG,,UG/L,,UG/L,,DBAR,ITS-90,METERS,,METERS,DEG_C,,UMOL/L,
       RF02-10,  NONE,RF-1831,  1,     -9,      -9,5,20021121,2137, 29.9955, 145.0062, 5899,      0.0,  23.5980,  34.7206,2,   -999.0,9,-999.0000,9,    211.8,2,     1.99,2,  -999.00,9,     0.00,2,     0.00,2,     0.00,2, -999.000,9, -999.000,9,  -999.00,9,   -999.0,9,   -999.0,9,-999.0000,9,   -999.0,  9,  -999.00,9,   -999.0,  -999.00,9,  -999.00,9,  -999.00,9,  -999.00,9,   -999.0,-999.0000, -999,9,    0,  23.5980,  23.5481,   -999.0,9
       RF02-10,  NONE,RF-1831,  1,     21,02-12826,2,20021121,2134, 29.9955, 145.0062, 5899,     10.0,  23.6107,  34.8540,2,   -999.0,9,-999.0000,9,    211.1,2,     1.93,2,  -999.00,9,     0.00,2,     0.00,2,     0.00,2, -999.000,9, -999.000,9,  -999.00,9,   -999.0,9,   -999.0,9,-999.0000,9,   -999.0,  9,  -999.00,9,   -999.0,  -999.00,9,  -999.00,9,  -999.00,9,  -999.00,9,   -999.0,-999.0000, -999,9,   10,  23.6087,  23.6461,   -999.0,9
       RF02-10,  NONE,RF-1831,  1,     20,02-12821,2,20021121,2133, 29.9955, 145.0062, 5899,     26.0,  23.6053,  34.8489,2,   -999.0,9,-999.0000,9,    210.9,2,     1.93,2,  -999.00,9,     0.00,2,     0.00,2,     0.00,2, -999.000,9, -999.000,9,  -999.00,9,   -999.0,9,   -999.0,9,-999.0000,9,   -999.0,  9,  -999.00,9,   -999.0,  -999.00,9,  -999.00,9,  -999.00,9,  -999.00,9,   -999.0,-999.0000, -999,9,   26,  23.5999,  23.6447,   -999.0,9
       RF02-10,  NONE,RF-1831,  1,     19,02-17875,2,20021121,2131, 29.9955, 145.0062, 5899,     50.8,  23.5174,  34.8309,2,   -999.0,9,-999.0000,9,    211.9,2,     1.91,2,  -999.00,9,     0.00,2,     0.00,2,     0.00,2, -999.000,9, -999.000,9,  -999.00,9,   -999.0,9,   -999.0,9,-999.0000,9,   -999.0,  9,  -999.00,9,   -999.0,  -999.00,9,  -999.00,9,  -999.00,9,  -999.00,9,   -999.0,-999.0000, -999,9,   50,  23.5068,  23.6583,   -999.0,9
       RF02-10,  NONE,RF-1831,  1,     18,02-12830,2,20021121,2129, 29.9955, 145.0062, 5899,     75.0,  23.4560,  34.8233,2,   -999.0,9,-999.0000,9,    211.8,2,     1.91,2,  -999.00,9,     0.00,2,     0.00,2,     0.00,2, -999.000,9, -999.000,9,  -999.00,9,   -999.0,9,   -999.0,9,-999.0000,9,   -999.0,  9,  -999.00,9,   -999.0,  -999.00,9,  -999.00,9,  -999.00,9,  -999.00,9,   -999.0,-999.0000, -999,9,   74,  23.4405,  23.6720,   -999.0,9
       RF02-10,  NONE,RF-1831,  1,     17,02-17874,2,20021121,2127, 29.9955, 145.0062, 5899,    100.8,  20.5840,  34.9250,2,   -999.0,9,  34.8564,4,    217.7,2,     2.43,2,  -999.00,9,     0.44,2,     0.08,2,     0.00,2, -999.000,9, -999.000,9,  -999.00,9,   -999.0,9,   -999.0,9,-999.0000,9,   -999.0,  9,  -999.00,9,   -999.0,  -999.00,9,  -999.00,9,  -999.00,9,  -999.00,9,   -999.0,-999.0000, -999,9,  100,  20.5650,  24.5543,   -999.0,9
       RF02-10,  NONE,RF-1831,  1,     16,02-12818,2,20021121,2126, 29.9955, 145.0062, 5899,    125.8,  19.4365,  34.8033,2,   -999.0,9,-999.0000,9,    198.9,2,     3.46,2,  -999.00,9,     2.66,2,     0.00,2,     0.11,2, -999.000,9, -999.000,9,  -999.00,9,   -999.0,9,   -999.0,9,-999.0000,9,   -999.0,  9,  -999.00,9,   -999.0,  -999.00,9,  -999.00,9,  -999.00,9,  -999.00,9,   -999.0,-999.0000, -999,9,  125,  19.4137,  24.7647,   -999.0,9
       RF02-10,  NONE,RF-1831,  1,     15,02-12809,2,20021121,2125, 29.9955, 145.0062, 5899,    151.5,  18.8658,  34.7811,2,   -999.0,9,-999.0000,9,    202.8,2,     3.49,2,  -999.00,9,     3.03,2,     0.00,2,     0.13,2, -999.000,9, -999.000,9,  -999.00,9,   -999.0,9,   -999.0,9,-999.0000,9,   -999.0,  9,  -999.00,9,   -999.0,  -999.00,9,  -999.00,9,  -999.00,9,  -999.00,9,   -999.0,-999.0000, -999,9,  150,  18.8390,  24.8948,   -999.0,9
       RF02-10,  NONE,RF-1831,  1,     14,02-12817,2,20021121,2123, 29.9955, 145.0062, 5899,    200.6,  18.0866,  34.7626,2,   -999.0,9,  34.7719,4,    209.6,2,     3.55,2,  -999.00,9,     3.34,2,     0.00,2,     0.14,2, -999.000,9, -999.000,9,  -999.00,9,   -999.0,9,   -999.0,9,-999.0000,9,   -999.0,  9,  -999.00,9,   -999.0,  -999.00,9,  -999.00,9,  -999.00,9,  -999.00,9,   -999.0,-999.0000, -999,9,  199,  18.0521,  25.0774,   -999.0,9
       RF02-10,  NONE,RF-1831,  1,     13,02-15822,2,20021121,2120, 29.9955, 145.0062, 5899,    252.4,  17.6263,  34.7300,2,   -999.0,9,-999.0000,9,    208.0,2,     4.11,2,  -999.00,9,     4.10,2,     0.00,2,     0.20,2, -999.000,9, -999.000,9,  -999.00,9,   -999.0,9,   -999.0,9,-999.0000,9,   -999.0,  9,  -999.00,9,   -999.0,  -999.00,9,  -999.00,9,  -999.00,9,  -999.00,9,   -999.0,-999.0000, -999,9,  251,  17.5836,  25.1670,   -999.0,9
       RF02-10,  NONE,RF-1831,  1,     12,02-13591,2,20021121,2118, 29.9955, 145.0062, 5899,    301.0,  16.9531,  34.7223,2,   -999.0,9,-999.0000,9,    198.0,2,     5.86,2,  -999.00,9,     6.08,2,     0.00,2,     0.30,2, -999.000,9, -999.000,9,  -999.00,9,   -999.0,9,   -999.0,9,-999.0000,9,   -999.0,  9,  -999.00,9,   -999.0,  -999.00,9,  -999.00,9,  -999.00,9,  -999.00,9,   -999.0,-999.0000, -999,9,  299,  16.9035,  25.3240,   -999.0,9
       RF02-10,  NONE,RF-1831,  1,     11,02-13589,2,20021121,2114, 29.9955, 145.0062, 5899,    402.0,  15.0186,  34.5942,2,   -999.0,9,  34.6042,4,    192.8,2,     9.99,2,  -999.00,9,     9.49,2,     0.00,2,     0.54,2, -999.000,9, -999.000,9,  -999.00,9,   -999.0,9,   -999.0,9,-999.0000,9,   -999.0,  9,  -999.00,9,   -999.0,  -999.00,9,  -999.00,9,  -999.00,9,  -999.00,9,   -999.0,-999.0000, -999,9,  399,  14.9575,  25.6684,   -999.0,9
       RF02-10,  NONE,RF-1831,  1,     10,02-12815,2,20021121,2111, 29.9955, 145.0062, 5899,    503.1,  13.3117,  34.4854,2,   -999.0,9,-999.0000,9,    187.5,2,    15.50,2,  -999.00,9,    12.93,2,     0.00,2,     0.76,2, -999.000,9, -999.000,9,  -999.00,9,   -999.0,9,   -999.0,9,-999.0000,9,   -999.0,  9,  -999.00,9,   -999.0,  -999.00,9,  -999.00,9,  -999.00,9,  -999.00,9,   -999.0,-999.0000, -999,9,  499,  13.2409,  25.9457,   -999.0,9
       RF02-10,  NONE,RF-1831,  1,      9,02-12807,2,20021121,2108, 29.9955, 145.0062, 5899,    604.3,  10.2804,  34.2567,2,   -999.0,9,  34.2667,2,    177.4,2,    27.77,2,  -999.00,9,    18.66,2,     0.00,2,     1.20,2, -999.000,9, -999.000,9,  -999.00,9,   -999.0,9,   -999.0,9,-999.0000,9,   -999.0,  9,  -999.00,9,   -999.0,  -999.00,9,  -999.00,9,  -999.00,9,  -999.00,9,   -999.0,-999.0000, -999,9,  599,  10.2083,  26.3360,   -999.0,9
       RF02-10,  NONE,RF-1831,  1,      8,02-10154,2,20021121,2104, 29.9955, 145.0062, 5899,    706.5,   6.7998,  34.0265,2,   -999.0,9,-999.0000,9,    155.5,2,    51.24,2,  -999.00,9,    26.75,2,     0.00,2,     1.83,2, -999.000,9, -999.000,9,  -999.00,9,   -999.0,9,   -999.0,9,-999.0000,9,   -999.0,  9,  -999.00,9,   -999.0,  -999.00,9,  -999.00,9,  -999.00,9,  -999.00,9,   -999.0,-999.0000, -999,9,  701,   6.7334,  26.6881,   -999.0,9
       RF02-10,  NONE,RF-1831,  1,      7,02-15821,2,20021121,2101, 29.9955, 145.0062, 5899,    806.1,   5.7812,  34.0911,2,   -999.0,9,  34.0873,2,    118.4,2,    69.97,2,  -999.00,9,    31.90,2,     0.00,2,     2.24,2, -999.000,9, -999.000,9,  -999.00,9,   -999.0,9,   -999.0,9,-999.0000,9,   -999.0,  9,  -999.00,9,   -999.0,  -999.00,9,  -999.00,9,  -999.00,9,  -999.00,9,   -999.0,-999.0000, -999,9,  799,   5.7109,  26.8704,   -999.0,9
       RF02-10,  NONE,RF-1831,  1,      6,02-17872,2,20021121,2058, 29.9955, 145.0062, 5899,    905.7,   4.4404,  34.1213,2,   -999.0,9,-999.0000,9,     73.6,2,    94.53,2,  -999.00,9,    37.30,2,     0.00,2,     2.69,2, -999.000,9, -999.000,9,  -999.00,9,   -999.0,9,   -999.0,9,-999.0000,9,   -999.0,  9,  -999.00,9,   -999.0,  -999.00,9,  -999.00,9,  -999.00,9,  -999.00,9,   -999.0,-999.0000, -999,9,  898,   4.3700,  27.0484,   -999.0,9
       RF02-10,  NONE,RF-1831,  1,      5,02-10155,2,20021121,2050, 29.9955, 145.0062, 5899,   1007.0,   4.1048,  34.2505,2,   -999.0,9,  34.2506,2,     55.0,2,   108.75,2,  -999.00,9,    39.62,2,     0.00,2,     2.83,2, -999.000,9, -999.000,9,  -999.00,9,   -999.0,9,   -999.0,9,-999.0000,9,   -999.0,  9,  -999.00,9,   -999.0,  -999.00,9,  -999.00,9,  -999.00,9,  -999.00,9,   -999.0,-999.0000, -999,9,  998,   4.0282,  27.1870,   -999.0,9
       RF02-10,  NONE,RF-1831,  1,      4,02-13579,2,20021121,2045, 29.9955, 145.0062, 5899,   1260.8,   3.1684,  34.3915,2,   -999.0,9,  34.3913,2,     39.5,2,   133.63,2,  -999.00,9,    41.98,2,     0.00,2,     2.99,2, -999.000,9, -999.000,9,  -999.00,9,   -999.0,9,   -999.0,9,-999.0000,9,   -999.0,  9,  -999.00,9,   -999.0,  -999.00,9,  -999.00,9,  -999.00,9,  -999.00,9,   -999.0,-999.0000, -999,9, 1248,   3.0788,  27.3921,   -999.0,9
       RF02-10,  NONE,RF-1831,  1,      3,02-13590,2,20021121,2039, 29.9955, 145.0062, 5899,   1514.9,   2.6177,  34.4794,2,   -999.0,9,  34.4799,2,     41.5,2,   147.63,2,  -999.00,9,    42.17,2,     0.00,2,     3.01,2, -999.000,9, -999.000,9,  -999.00,9,   -999.0,9,   -999.0,9,-999.0000,9,   -999.0,  9,  -999.00,9,   -999.0,  -999.00,9,  -999.00,9,  -999.00,9,  -999.00,9,   -999.0,-999.0000, -999,9, 1499,   2.5133,  27.5125,   -999.0,9
       RF02-10,  NONE,RF-1831,  1,      2,02-12827,2,20021121,2034, 29.9955, 145.0062, 5899,   1766.9,   2.2563,  34.5433,2,   -999.0,9,  34.5429,2,     54.5,2,   154.77,2,  -999.00,9,    41.95,2,     0.00,2,     2.94,2, -999.000,9, -999.000,9,  -999.00,9,   -999.0,9,   -999.0,9,-999.0000,9,   -999.0,  9,  -999.00,9,   -999.0,  -999.00,9,  -999.00,9,  -999.00,9,  -999.00,9,   -999.0,-999.0000, -999,9, 1747,   2.1358,  27.5950,   -999.0,9
       RF02-10,  NONE,RF-1831,  1,      1,02-17871,2,20021121,2025, 29.9955, 145.0062, 5899,   2045.5,   1.9865,  34.5952,2,   -999.0,9,  34.5954,2,     80.6,2,   154.74,2,  -999.00,9,    40.30,2,     0.00,2,     2.82,2, -999.000,9, -999.000,9,  -999.00,9,   -999.0,9,   -999.0,9,-999.0000,9,   -999.0,  9,  -999.00,9,   -999.0,  -999.00,9,  -999.00,9,  -999.00,9,  -999.00,9,   -999.0,-999.0000, -999,9, 2022,   1.8465,  27.6594,   -999.0,9