BOTTLE,20130510GEMDJMAYT
EXPOCODE,SECT_ID,STNNBR,CASTNO,SAMPNO,BTLNBR,BTLNBR_FLAG_W,DATE,TIME,LATITUDE,LONGITUDE,DEPTH,CTDPRS,CTDTMP,CTDSAL,CTDSAL_FLAG_W,CTDOXY,CTDOXY_FLAG_W,SALNTY,SALNTY_FLAG_W,OXYGEN,OXYGEN_FLAG_W,SILCAT,SILCAT_FLAG_W,NITRAT,NITRAT_FLAG_W,NO2+NO3,NO2+NO3_FLAG_W,NITRIT,NITRIT_FLAG_W,PHSPHT,PHSPHT_FLAG_W,CFC-11,CFC-11_FLAG_W,CFC-12,CFC-12_FLAG_W,DELC13,DELC13_FLAG_W,TCARBN,TCARBN_FLAG_W,ALKALI,ALKALI_FLAG_W,PH,PH_FLAG_W,PH_TMP,PH_SCALE,PH_NBS,PH_NBS_FLAG_W,C13ERR,TOTALP,TOTALP_FLAG_W,AMMONI,AMMONI_FLAG_W,CHLORA,CHLORA_FLAG_W,PPHYTN,PPHYTN_FLAG_W,REVPRS,REVTMP,DEPTH_,DEPTH_FLAG,CTDDEP,THETA,SIGTHT,DOC,DOC_FLAG_W
,,,,,,,GMT,GMT,,,METER,DBAR,ITS-90,PSS-78,,UMOL/KG,,PSS-78,,UMOL/KG,,UMOL/KG,,UMOL/KG,,UMOL/KG,,UMOL/KG,,UMOL/KG,,PMOL/KG,,PMOL/KG,,/MILLE,,UMOL/KG,,UMOL/KG,,25_DEG_C,,DEG_C,,,,/MILLE,UMOL/KG,,UMOL/KG,,UG/L,,UG/L,,DBAR,ITS-90,METERS,,METERS,DEG_C,,UMOL/L,
       RF02-10, EQPAC,RF-1816,  1,     -9,      -9,5,20021109,1525,  0.0012, 149.0135, 5855,      0.0,  30.4460,  34.4823,2,   -999.0,9,-999.0000,9,    194.9,2,     1.12,2,  -999.00,9,     0.00,2,     0.00,2,     0.00,2, -999.000,9, -999.000,9,  -999.00,9,   -999.0,9,   -999.0,9,-999.0000,9,   -999.0,  9,     8.26,2,   -999.0,  -999.00,9,  -999.00,9,     0.13,2,     0.04,2,   -999.0,-999.0000, -999,9,    0,  30.4460,  21.1853,   -999.0,9
       RF02-10, EQPAC,RF-1816,  1,     21,02-12826,2,20021109,1523,  0.0012, 149.0135, 5855,     10.7,  30.0965,  34.4899,2,   -999.0,9,-999.0000,9,    196.4,2,     1.04,2,  -999.00,9,     0.00,2,     0.00,2,     0.00,2, -999.000,9, -999.000,9,  -999.00,9,   -999.0,9,   -999.0,9,-999.0000,9,   -999.0,  9,     8.26,2,   -999.0,  -999.00,9,  -999.00,9,     0.12,2,     0.02,2,   -999.0,-999.0000, -999,9,   11,  30.0939,  21.3118,   -999.0,9
       RF02-10, EQPAC,RF-1816,  1,     20,02-12821,2,20021109,1522,  0.0012, 149.0135, 5855,     25.4,  29.7428,  34.4500,2,   -999.0,9,-999.0000,9,    197.5,2,     1.08,2,  -999.00,9,     0.00,2,     0.00,2,     0.00,2, -999.000,9, -999.000,9,  -999.00,9,   -999.0,9,   -999.0,9,-999.0000,9,   -999.0,  9,     8.26,2,   -999.0,  -999.00,9,  -999.00,9,     0.10,2,     0.04,2,   -999.0,-999.0000, -999,9,   25,  29.7365,  21.4035,   -999.0,9
       RF02-10, EQPAC,RF-1816,  1,     19,02-17875,2,20021109,1521,  0.0012, 149.0135, 5855,     51.4,  29.1655,  34.4783,2,   -999.0,9,-999.0000,9,    197.3,2,     1.08,2,  -999.00,9,     0.00,2,     0.00,2,     0.00,2, -999.000,9, -999.000,9,  -999.00,9,   -999.0,9,   -999.0,9,-999.0000,9,   -999.0,  9,     8.25,2,   -999.0,  -999.00,9,  -999.00,9,     0.12,2,     0.06,2,   -999.0,-999.0000, -999,9,   51,  29.1530,  21.6213,   -999.0,9
       RF02-10, EQPAC,RF-1816,  1,     18,02-12830,2,20021109,1519,  0.0012, 149.0135, 5855,     75.6,  28.6903,  34.6480,2,   -999.0,9,-999.0000,9,    180.8,2,     1.43,2,  -999.00,9,     1.57,2,     0.09,2,     0.15,2, -999.000,9, -999.000,9,  -999.00,9,   -999.0,9,   -999.0,9,-999.0000,9,   -999.0,  9,     8.21,2,   -999.0,  -999.00,9,  -999.00,9,     0.44,2,     0.36,2,   -999.0,-999.0000, -999,9,   75,  28.6722,  21.9088,   -999.0,9
       RF02-10, EQPAC,RF-1816,  1,     17,02-17874,2,20021109,1518,  0.0012, 149.0135, 5855,    101.4,  22.9836,  35.4086,2,   -999.0,9,  35.4676,4,    133.9,2,     3.55,2,  -999.00,9,     9.09,2,     0.02,2,     0.62,2, -999.000,9, -999.000,9,  -999.00,9,   -999.0,9,   -999.0,9,-999.0000,9,   -999.0,  9,     8.06,2,   -999.0,  -999.00,9,  -999.00,9,     0.17,2,     0.34,2,   -999.0,-999.0000, -999,9,  101,  22.9629,  24.2542,   -999.0,9
       RF02-10, EQPAC,RF-1816,  1,     16,02-12818,2,20021109,1517,  0.0012, 149.0135, 5855,    125.8,  22.0243,  35.5038,2,   -999.0,9,-999.0000,9,    133.2,2,     4.19,2,  -999.00,9,    10.03,2,     0.01,2,     0.68,2, -999.000,9, -999.000,9,  -999.00,9,   -999.0,9,   -999.0,9,-999.0000,9,   -999.0,  9,     8.03,2,   -999.0,  -999.00,9,  -999.00,9,     0.06,2,     0.14,2,   -999.0,-999.0000, -999,9,  125,  21.9993,  24.6008,   -999.0,9
       RF02-10, EQPAC,RF-1816,  1,     15,02-12809,2,20021109,1516,  0.0012, 149.0135, 5855,    151.1,  18.6405,  35.3753,2,   -999.0,9,-999.0000,9,    135.9,2,     5.75,2,  -999.00,9,    12.28,2,     0.00,2,     0.84,2, -999.000,9, -999.000,9,  -999.00,9,   -999.0,9,   -999.0,9,-999.0000,9,   -999.0,  9,     7.99,2,   -999.0,  -999.00,9,  -999.00,9,     0.01,2,     0.03,2,   -999.0,-999.0000, -999,9,  150,  18.6138,  25.4062,   -999.0,9
       RF02-10, EQPAC,RF-1816,  1,     14,02-12817,2,20021109,1514,  0.0012, 149.0135, 5855,    203.3,  15.9813,  35.2178,2,   -999.0,9,  35.2009,4,    140.1,2,     8.62,2,  -999.00,9,    15.24,2,     0.00,2,     1.01,2, -999.000,9, -999.000,9,  -999.00,9,   -999.0,9,   -999.0,9,-999.0000,9,   -999.0,  9,     7.95,2,   -999.0,  -999.00,9,  -999.00,9,     0.00,2,     0.03,2,   -999.0,-999.0000, -999,9,  202,  15.9491,  25.9268,   -999.0,9
       RF02-10, EQPAC,RF-1816,  1,     13,02-15822,2,20021109,1513,  0.0012, 149.0135, 5855,    253.2,  13.3556,  34.9979,2,   -999.0,9,-999.0000,9,    138.7,2,    13.50,2,  -999.00,9,    19.50,2,     0.00,2,     1.29,2, -999.000,9, -999.000,9,  -999.00,9,   -999.0,9,   -999.0,9,-999.0000,9,   -999.0,  9,     7.88,2,   -999.0,  -999.00,9,  -999.00,9,  -999.00,9,  -999.00,9,   -999.0,-999.0000, -999,9,  252,  13.3201,  26.3264,   -999.0,9
       RF02-10, EQPAC,RF-1816,  1,     12,02-13591,2,20021109,1511,  0.0012, 149.0135, 5855,    303.6,  11.4694,  34.8424,2,   -999.0,9,-999.0000,9,    132.5,2,    17.80,2,  -999.00,9,    22.48,2,     0.00,2,     1.49,2, -999.000,9, -999.000,9,  -999.00,9,   -999.0,9,   -999.0,9,-999.0000,9,   -999.0,  9,     7.84,2,   -999.0,  -999.00,9,  -999.00,9,  -999.00,9,  -999.00,9,   -999.0,-999.0000, -999,9,  302,  11.4308,  26.5738,   -999.0,9
       RF02-10, EQPAC,RF-1816,  1,     11,02-13589,2,20021109,1508,  0.0012, 149.0135, 5855,    404.4,   9.2752,  34.6715,2,   -999.0,9,  34.6743,2,     89.6,2,    30.24,2,  -999.00,9,    31.35,2,     0.00,2,     2.07,2, -999.000,9, -999.000,9,  -999.00,9,   -999.0,9,   -999.0,9,-999.0000,9,   -999.0,  9,  -999.00,9,   -999.0,  -999.00,9,  -999.00,9,  -999.00,9,  -999.00,9,   -999.0,-999.0000, -999,9,  402,   9.2301,  26.8238,   -999.0,9
       RF02-10, EQPAC,RF-1816,  1,     10,02-12815,2,20021109,1505,  0.0012, 149.0135, 5855,    504.5,   8.3561,  34.6070,2,   -999.0,9,-999.0000,9,     97.6,2,    34.75,2,  -999.00,9,    31.85,2,     0.00,2,     2.12,2, -999.000,9, -999.000,9,  -999.00,9,   -999.0,9,   -999.0,9,-999.0000,9,   -999.0,  9,     7.69,2,   -999.0,  -999.00,9,  -999.00,9,  -999.00,9,  -999.00,9,   -999.0,-999.0000, -999,9,  501,   8.3030,  26.9194,   -999.0,9
       RF02-10, EQPAC,RF-1816,  1,      9,02-12807,2,20021109,1503,  0.0012, 149.0135, 5855,    605.7,   6.9179,  34.5580,2,   -999.0,9,  34.5610,2,     96.7,2,    43.31,2,  -999.00,9,    34.72,2,     0.00,2,     2.36,2, -999.000,9, -999.000,9,  -999.00,9,   -999.0,9,   -999.0,9,-999.0000,9,   -999.0,  9,  -999.00,9,   -999.0,  -999.00,9,  -999.00,9,  -999.00,9,  -999.00,9,   -999.0,-999.0000, -999,9,  601,   6.8603,  27.0898,   -999.0,9
       RF02-10, EQPAC,RF-1816,  1,      8,02-10154,2,20021109,1500,  0.0012, 149.0135, 5855,    706.8,   6.0464,  34.5367,2,   -999.0,9,-999.0000,9,    101.1,2,    52.94,2,  -999.00,9,    35.82,2,     0.00,2,     2.43,2, -999.000,9, -999.000,9,  -999.00,9,   -999.0,9,   -999.0,9,-999.0000,9,   -999.0,  9,     7.65,2,   -999.0,  -999.00,9,  -999.00,9,  -999.00,9,  -999.00,9,   -999.0,-999.0000, -999,9,  702,   5.9834,  27.1886,   -999.0,9
       RF02-10, EQPAC,RF-1816,  1,      7,02-15821,2,20021109,1458,  0.0012, 149.0135, 5855,    807.5,   5.5016,  34.5339,2,   -999.0,9,  34.5366,2,     98.8,2,    61.93,2,  -999.00,9,    36.71,2,     0.00,2,     2.52,2, -999.000,9, -999.000,9,  -999.00,9,   -999.0,9,   -999.0,9,-999.0000,9,   -999.0,  9,  -999.00,9,   -999.0,  -999.00,9,  -999.00,9,  -999.00,9,  -999.00,9,   -999.0,-999.0000, -999,9,  802,   5.4323,  27.2547,   -999.0,9
       RF02-10, EQPAC,RF-1816,  1,      6,02-17872,2,20021109,1455,  0.0012, 149.0135, 5855,    908.1,   4.9476,  34.5369,2,   -999.0,9,-999.0000,9,     97.2,2,    73.12,2,  -999.00,9,    37.41,2,     0.00,2,     2.59,2, -999.000,9, -999.000,9,  -999.00,9,   -999.0,9,   -999.0,9,-999.0000,9,   -999.0,  9,  -999.00,9,   -999.0,  -999.00,9,  -999.00,9,  -999.00,9,  -999.00,9,   -999.0,-999.0000, -999,9,  901,   4.8729,  27.3227,   -999.0,9
       RF02-10, EQPAC,RF-1816,  1,      5,02-10155,2,20021109,1453,  0.0012, 149.0135, 5855,   1009.1,   4.4710,  34.5507,2,   -999.0,9,  34.5509,2,     95.7,2,    82.46,2,  -999.00,9,    38.07,2,     0.00,2,     2.64,2, -999.000,9, -999.000,9,  -999.00,9,   -999.0,9,   -999.0,9,-999.0000,9,   -999.0,  9,     7.63,2,   -999.0,  -999.00,9,  -999.00,9,  -999.00,9,  -999.00,9,   -999.0,-999.0000, -999,9, 1001,   4.3908,  27.3872,   -999.0,9
       RF02-10, EQPAC,RF-1816,  1,      4,02-13579,2,20021109,1447,  0.0012, 149.0135, 5855,   1261.6,   3.7755,  34.5707,2,   -999.0,9,  34.5724,2,    101.7,2,    97.27,2,  -999.00,9,    38.05,2,     0.00,2,     2.65,2, -999.000,9, -999.000,9,  -999.00,9,   -999.0,9,   -999.0,9,-999.0000,9,   -999.0,  9,  -999.00,9,   -999.0,  -999.00,9,  -999.00,9,  -999.00,9,  -999.00,9,   -999.0,-999.0000, -999,9, 1251,   3.6796,  27.4773,   -999.0,9
       RF02-10, EQPAC,RF-1816,  1,      3,02-13590,2,20021109,1442,  0.0012, 149.0135, 5855,   1515.3,   3.0932,  34.5973,2,   -999.0,9,  34.5975,2,    100.4,2,   113.34,2,  -999.00,9,    38.67,2,     0.00,2,     2.70,2, -999.000,9, -999.000,9,  -999.00,9,   -999.0,9,   -999.0,9,-999.0000,9,   -999.0,  9,     7.63,2,   -999.0,  -999.00,9,  -999.00,9,  -999.00,9,  -999.00,9,   -999.0,-999.0000, -999,9, 1502,   2.9830,  27.5652,   -999.0,9
       RF02-10, EQPAC,RF-1816,  1,      2,02-12827,2,20021109,1436,  0.0012, 149.0135, 5855,   1769.3,   2.6568,  34.6158,2,   -999.0,9,  34.6164,2,    108.4,2,   122.15,2,  -999.00,9,    38.39,2,     0.00,2,     2.67,2, -999.000,9, -999.000,9,  -999.00,9,   -999.0,9,   -999.0,9,-999.0000,9,   -999.0,  9,     7.62,2,   -999.0,  -999.00,9,  -999.00,9,  -999.00,9,  -999.00,9,   -999.0,-999.0000, -999,9, 1752,   2.5305,  27.6201,   -999.0,9
       RF02-10, EQPAC,RF-1816,  1,      1,02-17871,2,20021109,1430,  0.0012, 149.0135, 5855,   2044.4,   2.2443,  34.6365,2,   -999.0,9,  34.6365,2,    117.1,2,   130.43,2,  -999.00,9,    37.98,2,     0.00,2,     2.62,2, -999.000,9, -999.000,9,  -999.00,9,   -999.0,9,   -999.0,9,-999.0000,9,   -999.0,  9,     7.62,2,   -999.0,  -999.00,9,  -999.00,9,  -999.00,9,  -999.00,9,   -999.0,-999.0000, -999,9, 2023,   2.1003,  27.6724,   -999.0,9