BOTTLE,20130510GEMDJMAYT
EXPOCODE,SECT_ID,STNNBR,CASTNO,SAMPNO,BTLNBR,BTLNBR_FLAG_W,DATE,TIME,LATITUDE,LONGITUDE,DEPTH,CTDPRS,CTDTMP,CTDSAL,CTDSAL_FLAG_W,CTDOXY,CTDOXY_FLAG_W,SALNTY,SALNTY_FLAG_W,OXYGEN,OXYGEN_FLAG_W,SILCAT,SILCAT_FLAG_W,NITRAT,NITRAT_FLAG_W,NO2+NO3,NO2+NO3_FLAG_W,NITRIT,NITRIT_FLAG_W,PHSPHT,PHSPHT_FLAG_W,CFC-11,CFC-11_FLAG_W,CFC-12,CFC-12_FLAG_W,DELC13,DELC13_FLAG_W,TCARBN,TCARBN_FLAG_W,ALKALI,ALKALI_FLAG_W,PH,PH_FLAG_W,PH_TMP,PH_SCALE,PH_NBS,PH_NBS_FLAG_W,C13ERR,TOTALP,TOTALP_FLAG_W,AMMONI,AMMONI_FLAG_W,CHLORA,CHLORA_FLAG_W,PPHYTN,PPHYTN_FLAG_W,REVPRS,REVTMP,DEPTH_,DEPTH_FLAG,CTDDEP,THETA,SIGTHT,DOC,DOC_FLAG_W
,,,,,,,GMT,GMT,,,METER,DBAR,ITS-90,PSS-78,,UMOL/KG,,PSS-78,,UMOL/KG,,UMOL/KG,,UMOL/KG,,UMOL/KG,,UMOL/KG,,UMOL/KG,,PMOL/KG,,PMOL/KG,,/MILLE,,UMOL/KG,,UMOL/KG,,25_DEG_C,,DEG_C,,,,/MILLE,UMOL/KG,,UMOL/KG,,UG/L,,UG/L,,DBAR,ITS-90,METERS,,METERS,DEG_C,,UMOL/L,
       RF02-10,  165E,RF-1801,  1,      8,02-10154,2,20021030,0957, -6.0030, 164.9947, 3609,    507.2,   8.0994,  34.6111,2,   -999.0,9,-999.0000,9,   -999.0,9,  -999.00,9,  -999.00,9,  -999.00,9,  -999.00,9,  -999.00,9, -999.000,9, -999.000,9,  -999.00,9,   -999.0,9,   -999.0,9,-999.0000,9,   -999.0,  9,  -999.00,9,   -999.0,  -999.00,9,  -999.00,9,  -999.00,9,  -999.00,9,   -999.0,-999.0000, -999,9,  504,   8.0469,  26.9614,   -999.0,9
       RF02-10,  165E,RF-1801,  2,      9,02-12807,2,20021030,1206, -5.9935, 164.9793, 3612,    605.3,   7.0071,  34.5530,2,   -999.0,9,-999.0000,9,    128.8,2,    34.80,2,  -999.00,9,    31.74,2,     0.08,2,     2.29,2, -999.000,9, -999.000,9,  -999.00,9,   -999.0,9,   -999.0,9,-999.0000,9,   -999.0,  9,  -999.00,9,   -999.0,  -999.00,9,  -999.00,9,  -999.00,9,  -999.00,9,   -999.0,-999.0000, -999,9,  601,   6.9491,  27.0737,   -999.0,9
       RF02-10,  165E,RF-1801,  1,      7,02-15821,2,20021030,0955, -6.0030, 164.9947, 3609,    607.5,   7.0207,  34.5477,2,   -999.0,9,-999.0000,9,   -999.0,9,  -999.00,9,  -999.00,9,  -999.00,9,  -999.00,9,  -999.00,9, -999.000,9, -999.000,9,  -999.00,9,   -999.0,9,   -999.0,9,-999.0000,9,   -999.0,  9,  -999.00,9,   -999.0,  -999.00,9,  -999.00,9,  -999.00,9,  -999.00,9,   -999.0,-999.0000, -999,9,  603,   6.9624,  27.0676,   -999.0,9
       RF02-10,  165E,RF-1801,  2,     23,02-12811,2,20021030,1203, -5.9935, 164.9793, 3612,    705.2,   6.1474,  34.5226,2,   -999.0,9,-999.0000,9,   -999.0,9,  -999.00,9,  -999.00,9,  -999.00,9,  -999.00,9,  -999.00,9, -999.000,9, -999.000,9,  -999.00,9,   -999.0,9,   -999.0,9,-999.0000,9,   -999.0,  9,  -999.00,9,   -999.0,  -999.00,9,  -999.00,9,  -999.00,9,  -999.00,9,   -999.0,-999.0000, -999,9,  700,   6.0840,  27.1647,   -999.0,9
       RF02-10,  165E,RF-1801,  2,      8,02-10154,2,20021030,1203, -5.9935, 164.9793, 3612,    705.5,   6.1487,  34.5214,2,   -999.0,9,-999.0000,9,    125.9,2,    44.03,2,  -999.00,9,    33.64,2,     0.09,2,     2.43,2, -999.000,9, -999.000,9,  -999.00,9,   -999.0,9,   -999.0,9,-999.0000,9,   -999.0,  9,     7.69,2,   -999.0,  -999.00,9,  -999.00,9,  -999.00,9,  -999.00,9,   -999.0,-999.0000, -999,9,  700,   6.0852,  27.1636,   -999.0,9
       RF02-10,  165E,RF-1801,  1,      6,02-17872,2,20021030,0952, -6.0030, 164.9947, 3609,    707.5,   6.1663,  34.5240,2,   -999.0,9,-999.0000,9,   -999.0,9,  -999.00,9,  -999.00,9,  -999.00,9,  -999.00,9,  -999.00,9, -999.000,9, -999.000,9,  -999.00,9,   -999.0,9,   -999.0,9,-999.0000,9,   -999.0,  9,  -999.00,9,   -999.0,  -999.00,9,  -999.00,9,  -999.00,9,  -999.00,9,   -999.0,-999.0000, -999,9,  702,   6.1025,  27.1634,   -999.0,9
       RF02-10,  165E,RF-1801,  2,      7,02-15821,2,20021030,1200, -5.9935, 164.9793, 3612,    806.8,   5.4359,  34.5179,2,   -999.0,9,  34.5185,2,    127.3,2,    53.87,2,  -999.00,9,    34.49,2,     0.09,2,     2.51,2, -999.000,9, -999.000,9,  -999.00,9,   -999.0,9,   -999.0,9,-999.0000,9,   -999.0,  9,  -999.00,9,   -999.0,  -999.00,9,  -999.00,9,  -999.00,9,  -999.00,9,   -999.0,-999.0000, -999,9,  801,   5.3671,  27.2498,   -999.0,9
       RF02-10,  165E,RF-1801,  1,      5,02-10155,2,20021030,0950, -6.0030, 164.9947, 3609,    809.4,   5.4346,  34.5166,2,   -999.0,9,-999.0000,9,   -999.0,9,  -999.00,9,  -999.00,9,  -999.00,9,  -999.00,9,  -999.00,9, -999.000,9, -999.000,9,  -999.00,9,   -999.0,9,   -999.0,9,-999.0000,9,   -999.0,  9,  -999.00,9,   -999.0,  -999.00,9,  -999.00,9,  -999.00,9,  -999.00,9,   -999.0,-999.0000, -999,9,  803,   5.3656,  27.2490,   -999.0,9
       RF02-10,  165E,RF-1801,  2,      6,02-17872,2,20021030,1157, -5.9935, 164.9793, 3612,    907.7,   4.7625,  34.5255,2,   -999.0,9,-999.0000,9,    118.3,2,    67.28,2,  -999.00,9,    36.13,2,     0.08,2,     2.65,2, -999.000,9, -999.000,9,  -999.00,9,   -999.0,9,   -999.0,9,-999.0000,9,   -999.0,  9,  -999.00,9,   -999.0,  -999.00,9,  -999.00,9,  -999.00,9,  -999.00,9,   -999.0,-999.0000, -999,9,  901,   4.6891,  27.3344,   -999.0,9
       RF02-10,  165E,RF-1801,  1,      4,02-13579,2,20021030,0947, -6.0030, 164.9947, 3609,    909.3,   4.6676,  34.5295,2,   -999.0,9,-999.0000,9,   -999.0,9,  -999.00,9,  -999.00,9,  -999.00,9,  -999.00,9,  -999.00,9, -999.000,9, -999.000,9,  -999.00,9,   -999.0,9,   -999.0,9,-999.0000,9,   -999.0,  9,  -999.00,9,   -999.0,  -999.00,9,  -999.00,9,  -999.00,9,  -999.00,9,   -999.0,-999.0000, -999,9,  902,   4.5948,  27.3481,   -999.0,9
       RF02-10,  165E,RF-1801,  2,      5,02-10155,2,20021030,1154, -5.9935, 164.9793, 3612,   1007.9,   4.3587,  34.5453,2,   -999.0,9,  34.5425,2,    112.3,2,    77.39,2,  -999.00,9,    37.11,2,     0.08,2,     2.72,2, -999.000,9, -999.000,9,  -999.00,9,   -999.0,9,   -999.0,9,-999.0000,9,   -999.0,  9,     7.64,2,   -999.0,  -999.00,9,  -999.00,9,  -999.00,9,  -999.00,9,   -999.0,-999.0000, -999,9, 1000,   4.2795,  27.3950,   -999.0,9
       RF02-10,  165E,RF-1801,  1,      2,02-12827,2,20021030,0944, -6.0030, 164.9947, 3609,   1018.0,   4.1859,  34.5479,2,   -999.0,9,-999.0000,9,   -999.0,9,  -999.00,9,  -999.00,9,  -999.00,9,  -999.00,9,  -999.00,9, -999.000,9, -999.000,9,  -999.00,9,   -999.0,9,   -999.0,9,-999.0000,9,   -999.0,  9,  -999.00,9,   -999.0,  -999.00,9,  -999.00,9,  -999.00,9,  -999.00,9,   -999.0,-999.0000, -999,9, 1010,   4.1072,  27.4153,   -999.0,9
       RF02-10,  165E,RF-1801,  1,      1,02-17871,2,20021030,0944, -6.0030, 164.9947, 3609,   1018.4,   4.1856,  34.5471,2,   -999.0,9,-999.0000,9,   -999.0,9,  -999.00,9,  -999.00,9,  -999.00,9,  -999.00,9,  -999.00,9, -999.000,9, -999.000,9,  -999.00,9,   -999.0,9,   -999.0,9,-999.0000,9,   -999.0,  9,  -999.00,9,   -999.0,  -999.00,9,  -999.00,9,  -999.00,9,  -999.00,9,   -999.0,-999.0000, -999,9, 1010,   4.1068,  27.4147,   -999.0,9
       RF02-10,  165E,RF-1801,  1,      3,02-13590,2,20021030,0944, -6.0030, 164.9947, 3609,   1019.1,   4.1845,  34.5484,2,   -999.0,9,-999.0000,9,   -999.0,9,  -999.00,9,  -999.00,9,  -999.00,9,  -999.00,9,  -999.00,9, -999.000,9, -999.000,9,  -999.00,9,   -999.0,9,   -999.0,9,-999.0000,9,   -999.0,  9,  -999.00,9,   -999.0,  -999.00,9,  -999.00,9,  -999.00,9,  -999.00,9,   -999.0,-999.0000, -999,9, 1011,   4.1057,  27.4159,   -999.0,9
       RF02-10,  165E,RF-1801,  2,      4,02-13579,2,20021030,1150, -5.9935, 164.9793, 3612,   1261.0,   3.5491,  34.5687,2,   -999.0,9,  34.5700,2,    108.8,2,    95.98,2,  -999.00,9,    37.99,2,     0.09,2,     2.81,2, -999.000,9, -999.000,9,  -999.00,9,   -999.0,9,   -999.0,9,-999.0000,9,   -999.0,  9,  -999.00,9,   -999.0,  -999.00,9,  -999.00,9,  -999.00,9,  -999.00,9,   -999.0,-999.0000, -999,9, 1250,   3.4555,  27.4978,   -999.0,9
       RF02-10,  165E,RF-1801,  2,      3,02-13590,2,20021030,1145, -5.9935, 164.9793, 3612,   1515.4,   3.0111,  34.5943,2,   -999.0,9,  34.5938,2,    115.6,2,   107.93,2,  -999.00,9,    37.75,2,     0.08,2,     2.77,2, -999.000,9, -999.000,9,  -999.00,9,   -999.0,9,   -999.0,9,-999.0000,9,   -999.0,  9,     7.65,2,   -999.0,  -999.00,9,  -999.00,9,  -999.00,9,  -999.00,9,   -999.0,-999.0000, -999,9, 1502,   2.9018,  27.5702,   -999.0,9
       RF02-10,  165E,RF-1801,  2,      2,02-12827,2,20021030,1139, -5.9935, 164.9793, 3612,   1768.3,   2.5174,  34.6224,2,   -999.0,9,  34.6206,2,    117.8,2,   121.39,2,  -999.00,9,    37.77,2,     0.08,2,     2.75,2, -999.000,9, -999.000,9,  -999.00,9,   -999.0,9,   -999.0,9,-999.0000,9,   -999.0,  9,     7.64,2,   -999.0,  -999.00,9,  -999.00,9,  -999.00,9,  -999.00,9,   -999.0,-999.0000, -999,9, 1751,   2.3930,  27.6371,   -999.0,9
       RF02-10,  165E,RF-1801,  2,      1,02-17871,2,20021030,1133, -5.9935, 164.9793, 3612,   2044.8,   2.2003,  34.6407,2,   -999.0,9,  34.6408,2,    123.1,2,   128.51,2,  -999.00,9,    37.59,2,     0.08,2,     2.73,2, -999.000,9, -999.000,9,  -999.00,9,   -999.0,9,   -999.0,9,-999.0000,9,   -999.0,  9,     7.69,2,   -999.0,  -999.00,9,  -999.00,9,  -999.00,9,  -999.00,9,   -999.0,-999.0000, -999,9, 2024,   2.0570,  27.6793,   -999.0,9
       RF02-10, EQPAC,RF-1802,  1,     -9,      -9,5,20021102,0752,  0.0523, 176.1212, 5057,      0.0,  29.9936,  33.9390,2,   -999.0,9,-999.0000,9,    194.9,2,     1.39,2,  -999.00,9,     0.00,2,     0.00,2,     0.02,2, -999.000,9, -999.000,9,  -999.00,9,   -999.0,9,   -999.0,9,-999.0000,9,   -999.0,  9,     8.26,2,   -999.0,  -999.00,9,  -999.00,9,     0.08,2,     0.02,2,   -999.0,-999.0000, -999,9,    0,  29.9936,  20.9332,   -999.0,9
       RF02-10, EQPAC,RF-1802,  1,     21,02-12826,2,20021102,0750,  0.0523, 176.1212, 5057,     13.4,  29.9870,  33.9360,2,   -999.0,9,-999.0000,9,    196.3,2,     1.39,2,  -999.00,9,     0.00,2,     0.00,2,     0.00,2, -999.000,9, -999.000,9,  -999.00,9,   -999.0,9,   -999.0,9,-999.0000,9,   -999.0,  9,     8.27,2,   -999.0,  -999.00,9,  -999.00,9,     0.07,2,     0.03,2,   -999.0,-999.0000, -999,9,   13,  29.9837,  20.9343,   -999.0,9
       RF02-10, EQPAC,RF-1802,  1,     20,02-12821,2,20021102,0749,  0.0523, 176.1212, 5057,     28.9,  29.4444,  33.9443,2,   -999.0,9,-999.0000,9,    195.8,2,     1.40,2,  -999.00,9,     0.00,2,     0.00,2,     0.00,2, -999.000,9, -999.000,9,  -999.00,9,   -999.0,9,   -999.0,9,-999.0000,9,   -999.0,  9,     8.26,2,   -999.0,  -999.00,9,  -999.00,9,     0.09,2,     0.05,2,   -999.0,-999.0000, -999,9,   29,  29.4374,  21.1253,   -999.0,9
       RF02-10, EQPAC,RF-1802,  1,     19,02-17875,2,20021102,0747,  0.0523, 176.1212, 5057,     53.2,  29.0310,  34.0902,2,   -999.0,9,-999.0000,9,    193.5,2,     1.38,2,  -999.00,9,     0.00,2,     0.00,2,     0.01,2, -999.000,9, -999.000,9,  -999.00,9,   -999.0,9,   -999.0,9,-999.0000,9,   -999.0,  9,     8.26,2,   -999.0,  -999.00,9,  -999.00,9,     0.26,2,     0.15,2,   -999.0,-999.0000, -999,9,   53,  29.0181,  21.3751,   -999.0,9
       RF02-10, EQPAC,RF-1802,  1,     18,02-12830,2,20021102,0746,  0.0523, 176.1212, 5057,     79.2,  29.0731,  34.1623,2,   -999.0,9,-999.0000,9,    189.5,2,     1.42,2,  -999.00,9,     0.06,2,     0.05,2,     0.03,2, -999.000,9, -999.000,9,  -999.00,9,   -999.0,9,   -999.0,9,-999.0000,9,   -999.0,  9,     8.26,2,   -999.0,  -999.00,9,  -999.00,9,     0.45,2,     0.34,2,   -999.0,-999.0000, -999,9,   79,  29.0540,  21.4172,   -999.0,9
       RF02-10, EQPAC,RF-1802,  1,     17,02-17874,2,20021102,0745,  0.0523, 176.1212, 5057,    103.7,  28.6242,  34.3505,2,   -999.0,9,-999.0000,9,    178.4,2,     1.82,2,  -999.00,9,     1.84,2,     0.36,2,     0.18,2, -999.000,9, -999.000,9,  -999.00,9,   -999.0,9,   -999.0,9,-999.0000,9,   -999.0,  9,     8.22,2,   -999.0,  -999.00,9,  -999.00,9,     0.27,2,     0.35,2,   -999.0,-999.0000, -999,9,  103,  28.5995,  21.7095,   -999.0,9
       RF02-10, EQPAC,RF-1802,  1,     16,02-12818,2,20021102,0744,  0.0523, 176.1212, 5057,    128.7,  28.2274,  35.0213,2,   -999.0,9,-999.0000,9,    165.8,2,     2.35,2,  -999.00,9,     4.30,2,     0.46,2,     0.39,2, -999.000,9, -999.000,9,  -999.00,9,   -999.0,9,   -999.0,9,-999.0000,9,   -999.0,  9,     8.18,2,   -999.0,  -999.00,9,  -999.00,9,     0.20,2,     0.34,2,   -999.0,-999.0000, -999,9,  128,  28.1969,  22.3461,   -999.0,9
       RF02-10, EQPAC,RF-1802,  1,     15,02-12809,2,20021102,0742,  0.0523, 176.1212, 5057,    152.8,  22.9317,  35.2079,2,   -999.0,9,-999.0000,9,    132.1,2,     5.41,2,  -999.00,9,    10.43,2,     0.01,2,     0.73,2, -999.000,9, -999.000,9,  -999.00,9,   -999.0,9,   -999.0,9,-999.0000,9,   -999.0,  9,     8.05,2,   -999.0,  -999.00,9,  -999.00,9,     0.07,2,     0.21,2,   -999.0,-999.0000, -999,9,  152,  22.9006,  24.1200,   -999.0,9
       RF02-10, EQPAC,RF-1802,  1,     14,02-12817,2,20021102,0741,  0.0523, 176.1212, 5057,    204.3,  15.1448,  35.0897,2,   -999.0,9,-999.0000,9,    134.3,2,    11.82,2,  -999.00,9,    16.57,2,     0.00,2,     1.16,2, -999.000,9, -999.000,9,  -999.00,9,   -999.0,9,   -999.0,9,-999.0000,9,   -999.0,  9,     7.93,2,   -999.0,  -999.00,9,  -999.00,9,     0.00,2,     0.02,2,   -999.0,-999.0000, -999,9,  203,  15.1136,  26.0161,   -999.0,9
       RF02-10, EQPAC,RF-1802,  1,     13,02-15822,2,20021102,0739,  0.0523, 176.1212, 5057,    254.8,  12.2174,  34.8491,2,   -999.0,9,-999.0000,9,    124.2,2,    18.88,2,  -999.00,9,    21.91,2,     0.00,2,     1.51,2, -999.000,9, -999.000,9,  -999.00,9,   -999.0,9,   -999.0,9,-999.0000,9,   -999.0,  9,     7.84,2,   -999.0,  -999.00,9,  -999.00,9,  -999.00,9,  -999.00,9,   -999.0,-999.0000, -999,9,  253,  12.1838,  26.4366,   -999.0,9
       RF02-10, EQPAC,RF-1802,  1,     12,02-13591,2,20021102,0737,  0.0523, 176.1212, 5057,    305.2,  11.6211,  34.8315,2,   -999.0,9,-999.0000,9,     96.8,2,    21.68,2,  -999.00,9,    25.82,2,     0.00,2,     1.77,2, -999.000,9, -999.000,9,  -999.00,9,   -999.0,9,   -999.0,9,-999.0000,9,   -999.0,  9,     7.78,2,   -999.0,  -999.00,9,  -999.00,9,  -999.00,9,  -999.00,9,   -999.0,-999.0000, -999,9,  303,  11.5820,  26.5372,   -999.0,9
       RF02-10, EQPAC,RF-1802,  1,     11,02-13589,2,20021102,0734,  0.0523, 176.1212, 5057,    403.5,   9.9486,  34.7214,2,   -999.0,9,-999.0000,9,     55.1,2,    29.53,2,  -999.00,9,    32.78,2,     0.00,2,     2.25,2, -999.000,9, -999.000,9,  -999.00,9,   -999.0,9,   -999.0,9,-999.0000,9,   -999.0,  9,  -999.00,9,   -999.0,  -999.00,9,  -999.00,9,  -999.00,9,  -999.00,9,   -999.0,-999.0000, -999,9,  401,   9.9016,  26.7511,   -999.0,9
       RF02-10, EQPAC,RF-1802,  1,     10,02-12815,2,20021102,0732,  0.0523, 176.1212, 5057,    505.9,   8.1483,  34.6134,2,   -999.0,9,-999.0000,9,     71.8,2,    37.96,2,  -999.00,9,    34.72,2,     0.00,2,     2.41,2, -999.000,9, -999.000,9,  -999.00,9,   -999.0,9,   -999.0,9,-999.0000,9,   -999.0,  9,     7.64,2,   -999.0,  -999.00,9,  -999.00,9,  -999.00,9,  -999.00,9,   -999.0,-999.0000, -999,9,  503,   8.0959,  26.9558,   -999.0,9
       RF02-10, EQPAC,RF-1802,  1,      9,02-12807,2,20021102,0729,  0.0523, 176.1212, 5057,    607.5,   6.9587,  34.5731,2,   -999.0,9,-999.0000,9,     67.6,2,    47.79,2,  -999.00,9,    37.50,2,     0.00,2,     2.67,2, -999.000,9, -999.000,9,  -999.00,9,   -999.0,9,   -999.0,9,-999.0000,9,   -999.0,  9,  -999.00,9,   -999.0,  -999.00,9,  -999.00,9,  -999.00,9,  -999.00,9,   -999.0,-999.0000, -999,9,  603,   6.9007,  27.0962,   -999.0,9
       RF02-10, EQPAC,RF-1802,  1,      8,02-10154,2,20021102,0727,  0.0523, 176.1212, 5057,    707.9,   5.6431,  34.5469,2,   -999.0,9,-999.0000,9,     77.4,2,    63.81,2,  -999.00,9,    38.63,2,     0.00,2,     2.76,2, -999.000,9, -999.000,9,  -999.00,9,   -999.0,9,   -999.0,9,-999.0000,9,   -999.0,  9,     7.62,2,   -999.0,  -999.00,9,  -999.00,9,  -999.00,9,  -999.00,9,   -999.0,-999.0000, -999,9,  703,   5.5821,  27.2467,   -999.0,9
       RF02-10, EQPAC,RF-1802,  1,      7,02-15821,2,20021102,0724,  0.0523, 176.1212, 5057,    808.3,   5.3319,  34.5461,2,   -999.0,9,-999.0000,9,     82.3,2,    68.00,2,  -999.00,9,    38.54,2,     0.00,2,     2.75,2, -999.000,9, -999.000,9,  -999.00,9,   -999.0,9,   -999.0,9,-999.0000,9,   -999.0,  9,  -999.00,9,   -999.0,  -999.00,9,  -999.00,9,  -999.00,9,  -999.00,9,   -999.0,-999.0000, -999,9,  802,   5.2636,  27.2845,   -999.0,9
       RF02-10, EQPAC,RF-1802,  1,      6,02-17872,2,20021102,0722,  0.0523, 176.1212, 5057,    909.6,   5.0407,  34.5474,2,   -999.0,9,-999.0000,9,     83.5,2,    73.21,2,  -999.00,9,    38.71,2,     0.00,2,     2.77,2, -999.000,9, -999.000,9,  -999.00,9,   -999.0,9,   -999.0,9,-999.0000,9,   -999.0,  9,  -999.00,9,   -999.0,  -999.00,9,  -999.00,9,  -999.00,9,  -999.00,9,   -999.0,-999.0000, -999,9,  903,   4.9652,  27.3204,   -999.0,9
       RF02-10, EQPAC,RF-1802,  1,      5,02-10155,2,20021102,0719,  0.0523, 176.1212, 5057,   1009.8,   4.5511,  34.5557,2,   -999.0,9,-999.0000,9,     83.9,2,    83.32,2,  -999.00,9,    39.22,2,     0.00,2,     2.82,2, -999.000,9, -999.000,9,  -999.00,9,   -999.0,9,   -999.0,9,-999.0000,9,   -999.0,  9,     7.61,2,   -999.0,  -999.00,9,  -999.00,9,  -999.00,9,  -999.00,9,   -999.0,-999.0000, -999,9, 1002,   4.4703,  27.3826,   -999.0,9
       RF02-10, EQPAC,RF-1802,  1,      4,02-13579,2,20021102,0714,  0.0523, 176.1212, 5057,   1262.2,   3.7292,  34.5765,2,   -999.0,9,-999.0000,9,     92.1,2,   100.23,2,  -999.00,9,    39.05,2,     0.00,2,     2.80,2, -999.000,9, -999.000,9,  -999.00,9,   -999.0,9,   -999.0,9,-999.0000,9,   -999.0,  9,  -999.00,9,   -999.0,  -999.00,9,  -999.00,9,  -999.00,9,  -999.00,9,   -999.0,-999.0000, -999,9, 1252,   3.6337,  27.4865,   -999.0,9
       RF02-10, EQPAC,RF-1802,  1,      3,02-13590,2,20021102,0709,  0.0523, 176.1212, 5057,   1516.2,   3.0726,  34.6003,2,   -999.0,9,-999.0000,9,     95.9,2,   116.46,2,  -999.00,9,    39.12,2,     0.00,2,     2.79,2, -999.000,9, -999.000,9,  -999.00,9,   -999.0,9,   -999.0,9,-999.0000,9,   -999.0,  9,     7.63,2,   -999.0,  -999.00,9,  -999.00,9,  -999.00,9,  -999.00,9,   -999.0,-999.0000, -999,9, 1502,   2.9625,  27.5695,   -999.0,9
       RF02-10, EQPAC,RF-1802,  1,      2,02-12827,2,20021102,0703,  0.0523, 176.1212, 5057,   1770.7,   2.5488,  34.6231,2,   -999.0,9,-999.0000,9,    105.0,2,   126.77,2,  -999.00,9,    38.74,2,     0.00,2,     2.75,2, -999.000,9, -999.000,9,  -999.00,9,   -999.0,9,   -999.0,9,-999.0000,9,   -999.0,  9,     7.64,2,   -999.0,  -999.00,9,  -999.00,9,  -999.00,9,  -999.00,9,   -999.0,-999.0000, -999,9, 1753,   2.4238,  27.6350,   -999.0,9
       RF02-10, EQPAC,RF-1802,  1,      1,02-17871,2,20021102,0658,  0.0523, 176.1212, 5057,   2025.5,   2.1471,  34.6447,2,   -999.0,9,-999.0000,9,    114.4,2,   135.40,2,  -999.00,9,    38.26,2,     0.00,2,     2.70,2, -999.000,9, -999.000,9,  -999.00,9,   -999.0,9,   -999.0,9,-999.0000,9,   -999.0,  9,     7.66,2,   -999.0,  -999.00,9,  -999.00,9,  -999.00,9,  -999.00,9,   -999.0,-999.0000, -999,9, 2005,   2.0062,  27.6865,   -999.0,9