BOTTLE,20130510GEMDJMAYT
EXPOCODE,SECT_ID,STNNBR,CASTNO,SAMPNO,BTLNBR,BTLNBR_FLAG_W,DATE,TIME,LATITUDE,LONGITUDE,DEPTH,CTDPRS,CTDTMP,CTDSAL,CTDSAL_FLAG_W,CTDOXY,CTDOXY_FLAG_W,SALNTY,SALNTY_FLAG_W,OXYGEN,OXYGEN_FLAG_W,SILCAT,SILCAT_FLAG_W,NITRAT,NITRAT_FLAG_W,NO2+NO3,NO2+NO3_FLAG_W,NITRIT,NITRIT_FLAG_W,PHSPHT,PHSPHT_FLAG_W,CFC-11,CFC-11_FLAG_W,CFC-12,CFC-12_FLAG_W,DELC13,DELC13_FLAG_W,TCARBN,TCARBN_FLAG_W,ALKALI,ALKALI_FLAG_W,PH,PH_FLAG_W,PH_TMP,PH_SCALE,PH_NBS,PH_NBS_FLAG_W,C13ERR,TOTALP,TOTALP_FLAG_W,AMMONI,AMMONI_FLAG_W,CHLORA,CHLORA_FLAG_W,PPHYTN,PPHYTN_FLAG_W,REVPRS,REVTMP,DEPTH_,DEPTH_FLAG,CTDDEP,THETA,SIGTHT,DOC,DOC_FLAG_W
,,,,,,,GMT,GMT,,,METER,DBAR,ITS-90,PSS-78,,UMOL/KG,,PSS-78,,UMOL/KG,,UMOL/KG,,UMOL/KG,,UMOL/KG,,UMOL/KG,,UMOL/KG,,PMOL/KG,,PMOL/KG,,/MILLE,,UMOL/KG,,UMOL/KG,,25_DEG_C,,DEG_C,,,,/MILLE,UMOL/KG,,UMOL/KG,,UG/L,,UG/L,,DBAR,ITS-90,METERS,,METERS,DEG_C,,UMOL/L,
       RF02-10,  165E,RF-1769,  1,     -9,      -9,5,20021009,1435, 25.9893, 164.9622, 5741,      0.0,  27.5244,  35.2975,2,   -999.0,9,-999.0000,9,    200.8,2,     1.10,2,  -999.00,9,     0.00,2,     0.01,2,     0.01,2, -999.000,9, -999.000,9,  -999.00,9,   -999.0,9,   -999.0,9,-999.0000,9,   -999.0,  9,  -999.00,9,   -999.0,  -999.00,9,  -999.00,9,  -999.00,9,  -999.00,9,   -999.0,-999.0000, -999,9,    0,  27.5244,  22.7732,   -999.0,9
       RF02-10,  165E,RF-1769,  1,     24,02-13588,2,20021009,1433, 25.9893, 164.9622, 5741,     10.4,  27.5309,  35.3001,2,   -999.0,9,-999.0000,9,    201.1,2,     1.11,2,  -999.00,9,     0.00,2,     0.01,2,     0.01,2, -999.000,9, -999.000,9,  -999.00,9,   -999.0,9,   -999.0,9,-999.0000,9,   -999.0,  9,  -999.00,9,   -999.0,  -999.00,9,  -999.00,9,  -999.00,9,  -999.00,9,   -999.0,-999.0000, -999,9,   10,  27.5285,  22.7738,   -999.0,9
       RF02-10,  165E,RF-1769,  1,     23,02-12825,2,20021009,1432, 25.9893, 164.9622, 5741,     26.0,  27.5334,  35.3021,2,   -999.0,9,-999.0000,9,    200.9,2,     1.15,2,  -999.00,9,     0.01,2,     0.01,2,     0.00,2, -999.000,9, -999.000,9,  -999.00,9,   -999.0,9,   -999.0,9,-999.0000,9,   -999.0,  9,  -999.00,9,   -999.0,  -999.00,9,  -999.00,9,  -999.00,9,  -999.00,9,   -999.0,-999.0000, -999,9,   26,  27.5273,  22.7757,   -999.0,9
       RF02-10,  165E,RF-1769,  1,     22,02-12811,2,20021009,1431, 25.9893, 164.9622, 5741,     50.6,  27.5114,  35.3170,2,   -999.0,9,-999.0000,9,    202.2,2,     1.11,2,  -999.00,9,     0.04,2,     0.01,2,     0.00,2, -999.000,9, -999.000,9,  -999.00,9,   -999.0,9,   -999.0,9,-999.0000,9,   -999.0,  9,  -999.00,9,   -999.0,  -999.00,9,  -999.00,9,  -999.00,9,  -999.00,9,   -999.0,-999.0000, -999,9,   50,  27.4996,  22.7959,   -999.0,9
       RF02-10,  165E,RF-1769,  1,     21,02-12826,2,20021009,1430, 25.9893, 164.9622, 5741,     75.4,  23.7923,  35.1382,2,   -999.0,9,-999.0000,9,    228.9,2,     1.37,2,  -999.00,9,     0.03,2,     0.01,2,     0.00,2, -999.000,9, -999.000,9,  -999.00,9,   -999.0,9,   -999.0,9,-999.0000,9,   -999.0,  9,  -999.00,9,   -999.0,  -999.00,9,  -999.00,9,  -999.00,9,  -999.00,9,   -999.0,-999.0000, -999,9,   75,  23.7765,  23.8120,   -999.0,9
       RF02-10,  165E,RF-1769,  1,     20,02-12821,2,20021009,1429, 25.9893, 164.9622, 5741,    107.2,  21.6643,  35.0365,2,   -999.0,9,  35.2175,4,    230.3,2,     1.51,2,  -999.00,9,     0.01,2,     0.01,2,     0.00,2, -999.000,9, -999.000,9,  -999.00,9,   -999.0,9,   -999.0,9,-999.0000,9,   -999.0,  9,  -999.00,9,   -999.0,  -999.00,9,  -999.00,9,  -999.00,9,  -999.00,9,   -999.0,-999.0000, -999,9,  106,  21.6433,  24.3450,   -999.0,9
       RF02-10,  165E,RF-1769,  1,     19,02-17875,2,20021009,1427, 25.9893, 164.9622, 5741,    125.5,  21.1129,  35.1648,2,   -999.0,9,-999.0000,9,    227.4,2,     1.67,2,  -999.00,9,     0.02,2,     0.01,2,     0.02,2, -999.000,9, -999.000,9,  -999.00,9,   -999.0,9,   -999.0,9,-999.0000,9,   -999.0,  9,  -999.00,9,   -999.0,  -999.00,9,  -999.00,9,  -999.00,9,  -999.00,9,   -999.0,-999.0000, -999,9,  125,  21.0888,  24.5952,   -999.0,9
       RF02-10,  165E,RF-1769,  1,     18,02-12830,2,20021009,1426, 25.9893, 164.9622, 5741,    150.8,  19.9062,  35.0359,2,   -999.0,9,-999.0000,9,    226.3,2,     1.97,2,  -999.00,9,     0.10,2,     0.07,2,     0.03,2, -999.000,9, -999.000,9,  -999.00,9,   -999.0,9,   -999.0,9,-999.0000,9,   -999.0,  9,  -999.00,9,   -999.0,  -999.00,9,  -999.00,9,  -999.00,9,  -999.00,9,   -999.0,-999.0000, -999,9,  150,  19.8784,  24.8211,   -999.0,9
       RF02-10,  165E,RF-1769,  1,     17,02-17874,2,20021009,1425, 25.9893, 164.9622, 5741,    200.6,  17.6328,  34.7230,2,   -999.0,9,  34.7384,4,    217.8,2,     2.62,2,  -999.00,9,     1.97,2,     0.01,2,     0.17,2, -999.000,9, -999.000,9,  -999.00,9,   -999.0,9,   -999.0,9,-999.0000,9,   -999.0,  9,  -999.00,9,   -999.0,  -999.00,9,  -999.00,9,  -999.00,9,  -999.00,9,   -999.0,-999.0000, -999,9,  199,  17.5989,  25.1579,   -999.0,9
       RF02-10,  165E,RF-1769,  1,     16,02-12818,2,20021009,1423, 25.9893, 164.9622, 5741,    252.4,  16.9014,  34.7002,2,   -999.0,9,-999.0000,9,    218.6,2,     3.82,2,  -999.00,9,     4.04,2,     0.00,2,     0.28,2, -999.000,9, -999.000,9,  -999.00,9,   -999.0,9,   -999.0,9,-999.0000,9,   -999.0,  9,  -999.00,9,   -999.0,  -999.00,9,  -999.00,9,  -999.00,9,  -999.00,9,   -999.0,-999.0000, -999,9,  251,  16.8600,  25.3173,   -999.0,9
       RF02-10,  165E,RF-1769,  1,     15,02-12809,2,20021009,1421, 25.9893, 164.9622, 5741,    303.6,  16.0551,  34.6474,2,   -999.0,9,-999.0000,9,    215.0,2,     5.25,2,  -999.00,9,     5.58,2,     0.00,2,     0.37,2, -999.000,9, -999.000,9,  -999.00,9,   -999.0,9,   -999.0,9,-999.0000,9,   -999.0,  9,  -999.00,9,   -999.0,  -999.00,9,  -999.00,9,  -999.00,9,  -999.00,9,   -999.0,-999.0000, -999,9,  301,  16.0070,  25.4748,   -999.0,9
       RF02-10,  165E,RF-1769,  1,     14,02-12817,2,20021009,1419, 25.9893, 164.9622, 5741,    402.4,  13.3613,  34.4681,2,   -999.0,9,  34.4839,2,    221.7,3,     8.53,2,  -999.00,9,     8.18,2,     0.01,2,     0.56,2, -999.000,9, -999.000,9,  -999.00,9,   -999.0,9,   -999.0,9,-999.0000,9,   -999.0,  9,  -999.00,9,   -999.0,  -999.00,9,  -999.00,9,  -999.00,9,  -999.00,9,   -999.0,-999.0000, -999,9,  399,  13.3048,  25.9194,   -999.0,9
       RF02-10,  165E,RF-1769,  1,     13,02-15822,2,20021009,1416, 25.9893, 164.9622, 5741,    505.3,  11.5227,  34.3091,2,   -999.0,9,-999.0000,9,    223.5,3,    14.24,2,  -999.00,9,    12.19,2,     0.00,2,     0.85,2, -999.000,9, -999.000,9,  -999.00,9,   -999.0,9,   -999.0,9,-999.0000,9,   -999.0,  9,  -999.00,9,   -999.0,  -999.00,9,  -999.00,9,  -999.00,9,  -999.00,9,   -999.0,-999.0000, -999,9,  501,  11.4582,  26.1539,   -999.0,9
       RF02-10,  165E,RF-1769,  1,     12,02-13591,2,20021009,1413, 25.9893, 164.9622, 5741,    604.7,   9.4747,  34.1743,2,   -999.0,9,  34.1713,2,    189.4,2,    27.13,2,  -999.00,9,    19.43,2,     0.01,2,     1.34,2, -999.000,9, -999.000,9,  -999.00,9,   -999.0,9,   -999.0,9,-999.0000,9,   -999.0,  9,  -999.00,9,   -999.0,  -999.00,9,  -999.00,9,  -999.00,9,  -999.00,9,   -999.0,-999.0000, -999,9,  600,   9.4061,  26.4061,   -999.0,9
       RF02-10,  165E,RF-1769,  1,     11,02-13589,2,20021009,1410, 25.9893, 164.9622, 5741,    707.3,   6.7448,  34.0585,2,   -999.0,9,-999.0000,9,    132.4,2,    53.11,2,  -999.00,9,    29.30,2,     0.01,2,     2.08,2, -999.000,9, -999.000,9,  -999.00,9,   -999.0,9,   -999.0,9,-999.0000,9,   -999.0,  9,  -999.00,9,   -999.0,  -999.00,9,  -999.00,9,  -999.00,9,  -999.00,9,   -999.0,-999.0000, -999,9,  701,   6.6785,  26.7206,   -999.0,9
       RF02-10,  165E,RF-1769,  1,     10,02-12815,2,20021009,1407, 25.9893, 164.9622, 5741,    810.0,   5.4087,  34.1120,2,   -999.0,9,  34.1063,2,     84.1,2,    75.03,2,  -999.00,9,    35.65,2,     0.01,2,     2.57,2, -999.000,9, -999.000,9,  -999.00,9,   -999.0,9,   -999.0,9,-999.0000,9,   -999.0,  9,  -999.00,9,   -999.0,  -999.00,9,  -999.00,9,  -999.00,9,  -999.00,9,   -999.0,-999.0000, -999,9,  803,   5.3403,  26.9316,   -999.0,9
       RF02-10,  165E,RF-1769,  1,      9,02-12807,2,20021009,1402, 25.9893, 164.9622, 5741,   1007.8,   4.0542,  34.2797,2,   -999.0,9,  34.2801,2,     40.8,2,   107.62,2,  -999.00,9,    41.00,2,     0.01,2,     2.98,2, -999.000,9, -999.000,9,  -999.00,9,   -999.0,9,   -999.0,9,-999.0000,9,   -999.0,  9,  -999.00,9,   -999.0,  -999.00,9,  -999.00,9,  -999.00,9,  -999.00,9,   -999.0,-999.0000, -999,9,  999,   3.9778,  27.2154,   -999.0,9
       RF02-10,  165E,RF-1769,  1,      8,02-10154,2,20021009,1356, 25.9893, 164.9622, 5741,   1265.0,   3.1599,  34.4452,2,   -999.0,9,-999.0000,9,     41.7,2,   130.29,2,  -999.00,9,    41.90,2,     0.01,2,     3.02,2, -999.000,9, -999.000,9,  -999.00,9,   -999.0,9,   -999.0,9,-999.0000,9,   -999.0,  9,  -999.00,9,   -999.0,  -999.00,9,  -999.00,9,  -999.00,9,  -999.00,9,   -999.0,-999.0000, -999,9, 1253,   3.0700,  27.4358,   -999.0,9
       RF02-10,  165E,RF-1769,  1,      7,02-15821,2,20021009,1350, 25.9893, 164.9622, 5741,   1516.6,   2.6203,  34.5217,2,   -999.0,9,  34.5212,2,     55.3,2,   141.77,2,  -999.00,9,    41.53,2,     0.01,2,     2.97,2, -999.000,9, -999.000,9,  -999.00,9,   -999.0,9,   -999.0,9,-999.0000,9,   -999.0,  9,  -999.00,9,   -999.0,  -999.00,9,  -999.00,9,  -999.00,9,  -999.00,9,   -999.0,-999.0000, -999,9, 1501,   2.5156,  27.5461,   -999.0,9
       RF02-10,  165E,RF-1769,  1,      6,02-17872,2,20021009,1339, 25.9893, 164.9622, 5741,   2022.7,   1.9704,  34.6096,2,   -999.0,9,  34.6086,2,     97.8,2,   148.76,2,  -999.00,9,    39.48,2,     0.01,2,     2.77,2, -999.000,9, -999.000,9,  -999.00,9,   -999.0,9,   -999.0,9,-999.0000,9,   -999.0,  9,  -999.00,9,   -999.0,  -999.00,9,  -999.00,9,  -999.00,9,  -999.00,9,   -999.0,-999.0000, -999,9, 2000,   1.8326,  27.6719,   -999.0,9
       RF02-10,  165E,RF-1769,  1,      5,02-10155,2,20021009,1328, 25.9893, 164.9622, 5741,   2532.0,   1.7099,  34.6461,2,   -999.0,9,-999.0000,9,    118.5,2,   148.11,2,  -999.00,9,    38.11,2,     0.01,2,     2.65,2, -999.000,9, -999.000,9,  -999.00,9,   -999.0,9,   -999.0,9,-999.0000,9,   -999.0,  9,  -999.00,9,   -999.0,  -999.00,9,  -999.00,9,  -999.00,9,  -999.00,9,   -999.0,-999.0000, -999,9, 2500,   1.5322,  27.7238,   -999.0,9
       RF02-10,  165E,RF-1769,  1,      4,02-13579,2,20021009,1319, 25.9893, 164.9622, 5741,   3039.9,   1.5781,  34.6641,2,   -999.0,9,  34.6656,2,    131.1,2,   147.67,2,  -999.00,9,    37.32,2,     0.01,2,     2.58,2, -999.000,9, -999.000,9,  -999.00,9,   -999.0,9,   -999.0,9,-999.0000,9,   -999.0,  9,  -999.00,9,   -999.0,  -999.00,9,  -999.00,9,  -999.00,9,  -999.00,9,   -999.0,-999.0000, -999,9, 2998,   1.3558,  27.7510,   -999.0,9
       RF02-10,  165E,RF-1769,  1,      3,02-13590,2,20021009,1231, 25.9893, 164.9622, 5741,   4063.7,   1.4676,  34.6831,2,   -999.0,9,  34.6843,2,    152.9,2,   142.20,2,  -999.00,9,    35.97,2,     0.01,2,     2.46,2, -999.000,9, -999.000,9,  -999.00,9,   -999.0,9,   -999.0,9,-999.0000,9,   -999.0,  9,  -999.00,9,   -999.0,  -999.00,9,  -999.00,9,  -999.00,9,  -999.00,9,   -999.0,-999.0000, -999,9, 3999,   1.1427,  27.7811,   -999.0,9
       RF02-10,  165E,RF-1769,  1,      2,02-12827,2,20021009,1209, 25.9893, 164.9622, 5741,   5089.6,   1.4497,  34.6946,2,   -999.0,9,  34.6955,2,    172.0,2,   132.02,2,  -999.00,9,    34.67,2,     0.01,2,     2.36,2, -999.000,9, -999.000,9,  -999.00,9,   -999.0,9,   -999.0,9,-999.0000,9,   -999.0,  9,  -999.00,9,   -999.0,  -999.00,9,  -999.00,9,  -999.00,9,  -999.00,9,   -999.0,-999.0000, -999,9, 4997,   1.0062,  27.7995,   -999.0,9
       RF02-10,  165E,RF-1769,  1,      1,02-17871,2,20021009,1200, 25.9893, 164.9622, 5741,   5625.1,   1.4832,  34.6962,2,   -999.0,9,  34.6975,2,    176.9,2,   129.27,2,  -999.00,9,    34.38,2,     0.01,2,     2.34,2, -999.000,9, -999.000,9,  -999.00,9,   -999.0,9,   -999.0,9,-999.0000,9,   -999.0,  9,  -999.00,9,   -999.0,  -999.00,9,  -999.00,9,  -999.00,9,  -999.00,9,   -999.0,-999.0000, -999,9, 5516,   0.9712,  27.8032,   -999.0,9
       RF02-10,  165E,RF-1770,  2,     -9,      -9,5,20021010,0633, 25.0060, 164.9560, 5935,      0.0,  27.9292,  35.2343,2,   -999.0,9,-999.0000,9,    200.0,2,     1.08,2,  -999.00,9,     0.12,2,     0.00,2,     0.02,2, -999.000,9, -999.000,9,  -999.00,9,   -999.0,9,   -999.0,9,-999.0000,9,   -999.0,  9,     8.29,2,   -999.0,  -999.00,9,  -999.00,9,     0.06,2,     0.01,2,   -999.0,-999.0000, -999,9,    0,  27.9292,  22.5940,   -999.0,9
       RF02-10,  165E,RF-1770,  2,     24,02-13588,2,20021010,0630, 25.0060, 164.9560, 5935,     11.7,  27.9362,  35.2369,2,   -999.0,9,-999.0000,9,    200.3,2,     1.06,2,  -999.00,9,     0.00,2,     0.00,2,     0.01,2, -999.000,9, -999.000,9,  -999.00,9,   -999.0,9,   -999.0,9,-999.0000,9,   -999.0,  9,     8.29,2,   -999.0,  -999.00,9,  -999.00,9,     0.06,2,     0.02,2,   -999.0,-999.0000, -999,9,   12,  27.9334,  22.5946,   -999.0,9
       RF02-10,  165E,RF-1770,  2,     23,02-12825,2,20021010,0629, 25.0060, 164.9560, 5935,     24.8,  27.9391,  35.2376,2,   -999.0,9,-999.0000,9,    200.5,2,     1.01,2,  -999.00,9,     0.00,2,     0.00,2,     0.01,2, -999.000,9, -999.000,9,  -999.00,9,   -999.0,9,   -999.0,9,-999.0000,9,   -999.0,  9,     8.29,2,   -999.0,  -999.00,9,  -999.00,9,     0.06,2,     0.01,2,   -999.0,-999.0000, -999,9,   25,  27.9333,  22.5952,   -999.0,9
       RF02-10,  165E,RF-1770,  2,     22,02-12811,2,20021010,0628, 25.0060, 164.9560, 5935,     50.3,  27.8735,  35.2214,2,   -999.0,9,-999.0000,9,    201.3,2,     1.02,2,  -999.00,9,     0.00,2,     0.00,2,     0.01,2, -999.000,9, -999.000,9,  -999.00,9,   -999.0,9,   -999.0,9,-999.0000,9,   -999.0,  9,     8.28,2,   -999.0,  -999.00,9,  -999.00,9,     0.07,2,     0.02,2,   -999.0,-999.0000, -999,9,   50,  27.8617,  22.6063,   -999.0,9
       RF02-10,  165E,RF-1770,  2,     21,02-12826,2,20021010,0626, 25.0060, 164.9560, 5935,     76.8,  24.5333,  35.2633,2,   -999.0,9,-999.0000,9,    226.1,2,     1.22,2,  -999.00,9,     3.88,2,     0.00,2,     0.00,2, -999.000,9, -999.000,9,  -999.00,9,   -999.0,9,   -999.0,9,-999.0000,9,   -999.0,  9,     8.25,2,   -999.0,  -999.00,9,  -999.00,9,     0.13,2,     0.04,2,   -999.0,-999.0000, -999,9,   76,  24.5169,  23.6864,   -999.0,9
       RF02-10,  165E,RF-1770,  2,     20,02-12821,2,20021010,0625, 25.0060, 164.9560, 5935,    100.2,  23.1753,  35.2978,2,   -999.0,9,-999.0000,9,    213.3,2,     1.33,2,  -999.00,9,     0.00,2,     0.00,2,     0.01,2, -999.000,9, -999.000,9,  -999.00,9,   -999.0,9,   -999.0,9,-999.0000,9,   -999.0,  9,     8.21,2,   -999.0,  -999.00,9,  -999.00,9,     0.18,2,     0.14,2,   -999.0,-999.0000, -999,9,  100,  23.1547,  24.1147,   -999.0,9
       RF02-10,  165E,RF-1770,  1,     15,02-12809,2,20021009,2010, 25.0050, 164.9813, 5934,    100.2,  23.2459,  35.2819,2,   -999.0,9,-999.0000,9,   -999.0,9,  -999.00,9,  -999.00,9,  -999.00,9,  -999.00,9,  -999.00,9, -999.000,9, -999.000,9,  -999.00,9,   -999.0,9,   -999.0,9,-999.0000,9,   -999.0,  9,  -999.00,9,   -999.0,  -999.00,9,  -999.00,9,  -999.00,9,  -999.00,9,   -999.0,-999.0000, -999,9,  100,  23.2253,  24.0822,   -999.0,9
       RF02-10,  165E,RF-1770,  2,     19,02-17875,2,20021010,0623, 25.0060, 164.9560, 5935,    127.0,  22.0301,  35.2204,2,   -999.0,9,-999.0000,9,    204.9,2,     1.55,2,  -999.00,9,     0.00,2,     0.04,2,     0.04,2, -999.000,9, -999.000,9,  -999.00,9,   -999.0,9,   -999.0,9,-999.0000,9,   -999.0,  9,     8.19,2,   -999.0,  -999.00,9,  -999.00,9,     0.22,2,     0.30,2,   -999.0,-999.0000, -999,9,  126,  22.0049,  24.3839,   -999.0,9
       RF02-10,  165E,RF-1770,  1,     14,02-12817,2,20021009,2008, 25.0050, 164.9813, 5934,    150.9,  20.2529,  35.0085,2,   -999.0,9,-999.0000,9,   -999.0,9,  -999.00,9,  -999.00,9,  -999.00,9,  -999.00,9,  -999.00,9, -999.000,9, -999.000,9,  -999.00,9,   -999.0,9,   -999.0,9,-999.0000,9,   -999.0,  9,  -999.00,9,   -999.0,  -999.00,9,  -999.00,9,  -999.00,9,  -999.00,9,   -999.0,-999.0000, -999,9,  150,  20.2248,  24.7087,   -999.0,9
       RF02-10,  165E,RF-1770,  2,     18,02-12830,2,20021010,0622, 25.0060, 164.9560, 5935,    151.5,  20.3816,  35.0280,2,   -999.0,9,-999.0000,9,    202.2,2,     1.93,2,  -999.00,9,     0.73,2,     0.04,2,     0.09,2, -999.000,9, -999.000,9,  -999.00,9,   -999.0,9,   -999.0,9,-999.0000,9,   -999.0,  9,     8.15,2,   -999.0,  -999.00,9,  -999.00,9,     0.12,2,     0.30,2,   -999.0,-999.0000, -999,9,  151,  20.3532,  24.6894,   -999.0,9
       RF02-10,  165E,RF-1770,  2,     17,02-17874,2,20021010,0620, 25.0060, 164.9560, 5935,    200.8,  18.0714,  34.8092,2,   -999.0,9,-999.0000,9,    193.5,2,     3.59,2,  -999.00,9,     4.09,2,     0.00,2,     0.31,2, -999.000,9, -999.000,9,  -999.00,9,   -999.0,9,   -999.0,9,-999.0000,9,   -999.0,  9,     8.10,2,   -999.0,  -999.00,9,  -999.00,9,     0.02,2,     0.04,2,   -999.0,-999.0000, -999,9,  199,  18.0369,  25.1169,   -999.0,9
       RF02-10,  165E,RF-1770,  1,     13,02-15822,2,20021009,2006, 25.0050, 164.9813, 5934,    202.5,  17.9818,  34.7799,2,   -999.0,9,-999.0000,9,   -999.0,9,  -999.00,9,  -999.00,9,  -999.00,9,  -999.00,9,  -999.00,9, -999.000,9, -999.000,9,  -999.00,9,   -999.0,9,   -999.0,9,-999.0000,9,   -999.0,  9,  -999.00,9,   -999.0,  -999.00,9,  -999.00,9,  -999.00,9,  -999.00,9,   -999.0,-999.0000, -999,9,  201,  17.9471,  25.1165,   -999.0,9
       RF02-10,  165E,RF-1770,  2,     16,02-12818,2,20021010,0618, 25.0060, 164.9560, 5935,    250.2,  16.3298,  34.6629,2,   -999.0,9,-999.0000,9,    201.8,2,     5.24,2,  -999.00,9,     6.16,2,     0.00,2,     0.42,2, -999.000,9, -999.000,9,  -999.00,9,   -999.0,9,   -999.0,9,-999.0000,9,   -999.0,  9,     8.07,2,   -999.0,  -999.00,9,  -999.00,9,  -999.00,9,  -999.00,9,   -999.0,-999.0000, -999,9,  248,  16.2897,  25.4218,   -999.0,9
       RF02-10,  165E,RF-1770,  1,     12,02-13591,2,20021009,2005, 25.0050, 164.9813, 5934,    252.3,  16.3735,  34.6625,2,   -999.0,9,-999.0000,9,   -999.0,9,  -999.00,9,  -999.00,9,  -999.00,9,  -999.00,9,  -999.00,9, -999.000,9, -999.000,9,  -999.00,9,   -999.0,9,   -999.0,9,-999.0000,9,   -999.0,  9,  -999.00,9,   -999.0,  -999.00,9,  -999.00,9,  -999.00,9,  -999.00,9,   -999.0,-999.0000, -999,9,  251,  16.3330,  25.4115,   -999.0,9
       RF02-10,  165E,RF-1770,  1,     11,02-13589,2,20021009,2003, 25.0050, 164.9813, 5934,    301.4,  15.1626,  34.5800,2,   -999.0,9,-999.0000,9,   -999.0,9,  -999.00,9,  -999.00,9,  -999.00,9,  -999.00,9,  -999.00,9, -999.000,9, -999.000,9,  -999.00,9,   -999.0,9,   -999.0,9,-999.0000,9,   -999.0,  9,  -999.00,9,   -999.0,  -999.00,9,  -999.00,9,  -999.00,9,  -999.00,9,   -999.0,-999.0000, -999,9,  299,  15.1166,  25.6225,   -999.0,9
       RF02-10,  165E,RF-1770,  2,     15,02-12809,2,20021010,0617, 25.0060, 164.9560, 5935,    302.1,  15.0033,  34.5731,2,   -999.0,9,-999.0000,9,    203.0,2,     7.60,2,  -999.00,9,     8.25,2,     0.00,2,     0.57,2, -999.000,9, -999.000,9,  -999.00,9,   -999.0,9,   -999.0,9,-999.0000,9,   -999.0,  9,     8.01,2,   -999.0,  -999.00,9,  -999.00,9,  -999.00,9,  -999.00,9,   -999.0,-999.0000, -999,9,  300,  14.9576,  25.6521,   -999.0,9
       RF02-10,  165E,RF-1770,  1,     10,02-12815,2,20021009,2001, 25.0050, 164.9813, 5934,    402.6,  12.5836,  34.3943,2,   -999.0,9,-999.0000,9,   -999.0,9,  -999.00,9,  -999.00,9,  -999.00,9,  -999.00,9,  -999.00,9, -999.000,9, -999.000,9,  -999.00,9,   -999.0,9,   -999.0,9,-999.0000,9,   -999.0,  9,  -999.00,9,   -999.0,  -999.00,9,  -999.00,9,  -999.00,9,  -999.00,9,   -999.0,-999.0000, -999,9,  400,  12.5293,  26.0166,   -999.0,9
       RF02-10,  165E,RF-1770,  2,     14,02-12817,2,20021010,0613, 25.0060, 164.9560, 5935,    403.3,  12.3950,  34.3833,2,   -999.0,9,-999.0000,9,    203.1,2,    13.25,2,  -999.00,9,    12.57,2,     0.00,2,     0.86,2, -999.000,9, -999.000,9,  -999.00,9,   -999.0,9,   -999.0,9,-999.0000,9,   -999.0,  9,  -999.00,9,   -999.0,  -999.00,9,  -999.00,9,  -999.00,9,  -999.00,9,   -999.0,-999.0000, -999,9,  400,  12.3412,  26.0446,   -999.0,9