BOTTLE,20130510GEMDJMAYT
EXPOCODE,SECT_ID,STNNBR,CASTNO,SAMPNO,BTLNBR,BTLNBR_FLAG_W,DATE,TIME,LATITUDE,LONGITUDE,DEPTH,CTDPRS,CTDTMP,CTDSAL,CTDSAL_FLAG_W,CTDOXY,CTDOXY_FLAG_W,SALNTY,SALNTY_FLAG_W,OXYGEN,OXYGEN_FLAG_W,SILCAT,SILCAT_FLAG_W,NITRAT,NITRAT_FLAG_W,NO2+NO3,NO2+NO3_FLAG_W,NITRIT,NITRIT_FLAG_W,PHSPHT,PHSPHT_FLAG_W,CFC-11,CFC-11_FLAG_W,CFC-12,CFC-12_FLAG_W,DELC13,DELC13_FLAG_W,TCARBN,TCARBN_FLAG_W,ALKALI,ALKALI_FLAG_W,PH,PH_FLAG_W,PH_TMP,PH_SCALE,PH_NBS,PH_NBS_FLAG_W,C13ERR,TOTALP,TOTALP_FLAG_W,AMMONI,AMMONI_FLAG_W,CHLORA,CHLORA_FLAG_W,PPHYTN,PPHYTN_FLAG_W,REVPRS,REVTMP,DEPTH_,DEPTH_FLAG,CTDDEP,THETA,SIGTHT,DOC,DOC_FLAG_W
,,,,,,,GMT,GMT,,,METER,DBAR,ITS-90,PSS-78,,UMOL/KG,,PSS-78,,UMOL/KG,,UMOL/KG,,UMOL/KG,,UMOL/KG,,UMOL/KG,,UMOL/KG,,PMOL/KG,,PMOL/KG,,/MILLE,,UMOL/KG,,UMOL/KG,,25_DEG_C,,DEG_C,,,,/MILLE,UMOL/KG,,UMOL/KG,,UG/L,,UG/L,,DBAR,ITS-90,METERS,,METERS,DEG_C,,UMOL/L,
       RF02-10,  165E,RF-1788,  1,     -9,      -9,5,20021018,0817,  6.9928, 164.5140, 5095,      0.0,  29.0275,  33.7046,2,   -999.0,9,-999.0000,9,    196.2,2,     1.41,2,  -999.00,9,     0.07,2,     0.01,2,     0.04,2, -999.000,9, -999.000,9,  -999.00,9,   -999.0,9,   -999.0,9,-999.0000,9,   -999.0,  9,     8.25,2,   -999.0,  -999.00,9,  -999.00,9,     0.06,2,     0.02,2,   -999.0,-999.0000, -999,9,    0,  29.0275,  21.0826,   -999.0,9
       RF02-10,  165E,RF-1788,  1,     21,02-12826,2,20021018,0814,  6.9928, 164.5140, 5095,      9.7,  28.9966,  33.6944,2,   -999.0,9,-999.0000,9,    196.5,2,     1.30,2,  -999.00,9,     0.13,2,     0.02,2,     0.01,2, -999.000,9, -999.000,9,  -999.00,9,   -999.0,9,   -999.0,9,-999.0000,9,   -999.0,  9,     8.24,2,   -999.0,  -999.00,9,  -999.00,9,     0.06,2,     0.03,2,   -999.0,-999.0000, -999,9,   10,  28.9942,  21.0860,   -999.0,9
       RF02-10,  165E,RF-1788,  1,     20,02-12821,2,20021018,0813,  6.9928, 164.5140, 5095,     23.9,  28.8947,  33.7103,2,   -999.0,9,-999.0000,9,    196.2,2,     1.19,2,  -999.00,9,     0.24,2,     0.02,2,     0.02,2, -999.000,9, -999.000,9,  -999.00,9,   -999.0,9,   -999.0,9,-999.0000,9,   -999.0,  9,     8.24,2,   -999.0,  -999.00,9,  -999.00,9,     0.06,2,     0.02,2,   -999.0,-999.0000, -999,9,   24,  28.8889,  21.1330,   -999.0,9
       RF02-10,  165E,RF-1788,  1,     19,02-17875,2,20021018,0812,  6.9928, 164.5140, 5095,     49.7,  27.8390,  34.3584,2,   -999.0,9,-999.0000,9,    199.0,2,     1.49,2,  -999.00,9,     0.23,2,     0.01,2,     0.01,2, -999.000,9, -999.000,9,  -999.00,9,   -999.0,9,   -999.0,9,-999.0000,9,   -999.0,  9,     8.22,2,   -999.0,  -999.00,9,  -999.00,9,     0.12,2,     0.07,2,   -999.0,-999.0000, -999,9,   49,  27.8273,  21.9684,   -999.0,9
       RF02-10,  165E,RF-1788,  1,     18,02-12830,2,20021018,0811,  6.9928, 164.5140, 5095,     75.3,  22.8448,  34.8438,2,   -999.0,9,-999.0000,9,    168.7,2,     3.84,2,  -999.00,9,     1.81,2,     0.11,2,     0.23,2, -999.000,9, -999.000,9,  -999.00,9,   -999.0,9,   -999.0,9,-999.0000,9,   -999.0,  9,     8.06,2,   -999.0,  -999.00,9,  -999.00,9,     0.39,2,     0.43,2,   -999.0,-999.0000, -999,9,   75,  22.8295,  23.8642,   -999.0,9
       RF02-10,  165E,RF-1788,  1,     17,02-17874,2,20021018,0809,  6.9928, 164.5140, 5095,    100.9,  19.0560,  34.8134,2,   -999.0,9,  34.7782,4,    132.0,2,     8.94,2,  -999.00,9,    11.48,2,     0.04,2,     0.74,2, -999.000,9, -999.000,9,  -999.00,9,   -999.0,9,   -999.0,9,-999.0000,9,   -999.0,  9,     7.92,2,   -999.0,  -999.00,9,  -999.00,9,     0.19,2,     0.36,2,   -999.0,-999.0000, -999,9,  100,  19.0380,  24.8688,   -999.0,9
       RF02-10,  165E,RF-1788,  1,     16,02-12818,2,20021018,0808,  6.9928, 164.5140, 5095,    124.9,  15.9402,  34.7001,2,   -999.0,9,-999.0000,9,    127.0,2,    11.85,2,  -999.00,9,    14.78,2,     0.05,2,     1.00,2, -999.000,9, -999.000,9,  -999.00,9,   -999.0,9,   -999.0,9,-999.0000,9,   -999.0,  9,     7.82,2,   -999.0,  -999.00,9,  -999.00,9,     0.11,2,     0.21,2,   -999.0,-999.0000, -999,9,  124,  15.9205,  25.5350,   -999.0,9
       RF02-10,  165E,RF-1788,  1,     15,02-12809,2,20021018,0807,  6.9928, 164.5140, 5095,    150.5,  13.9357,  34.5335,2,   -999.0,9,-999.0000,9,    102.7,2,    18.38,2,  -999.00,9,    20.84,2,     0.01,2,     1.44,2, -999.000,9, -999.000,9,  -999.00,9,   -999.0,9,   -999.0,9,-999.0000,9,   -999.0,  9,     7.73,2,   -999.0,  -999.00,9,  -999.00,9,     0.06,2,     0.14,2,   -999.0,-999.0000, -999,9,  150,  13.9142,  25.8446,   -999.0,9
       RF02-10,  165E,RF-1788,  1,     14,02-12817,2,20021018,0805,  6.9928, 164.5140, 5095,    200.0,  11.0140,  34.5582,2,   -999.0,9,  34.5639,2,     53.4,2,    28.92,2,  -999.00,9,    30.00,2,     0.01,2,     2.11,2, -999.000,9, -999.000,9,  -999.00,9,   -999.0,9,   -999.0,9,-999.0000,9,   -999.0,  9,     7.60,2,   -999.0,  -999.00,9,  -999.00,9,     0.02,2,     0.04,2,   -999.0,-999.0000, -999,9,  199,  10.9894,  26.4334,   -999.0,9
       RF02-10,  165E,RF-1788,  1,     13,02-15822,2,20021018,0803,  6.9928, 164.5140, 5095,    250.6,   9.9981,  34.6426,2,   -999.0,9,-999.0000,9,     38.8,2,    33.14,2,  -999.00,9,    33.52,2,     0.01,2,     2.33,2, -999.000,9, -999.000,9,  -999.00,9,   -999.0,9,   -999.0,9,-999.0000,9,   -999.0,  9,     7.54,2,   -999.0,  -999.00,9,  -999.00,9,  -999.00,9,  -999.00,9,   -999.0,-999.0000, -999,9,  249,   9.9690,  26.6781,   -999.0,9
       RF02-10,  165E,RF-1788,  1,     12,02-13591,2,20021018,0801,  6.9928, 164.5140, 5095,    301.5,   9.5139,  34.6241,2,   -999.0,9,-999.0000,9,     42.1,2,    35.46,2,  -999.00,9,    34.09,2,     0.01,2,     2.38,2, -999.000,9, -999.000,9,  -999.00,9,   -999.0,9,   -999.0,9,-999.0000,9,   -999.0,  9,     7.59,2,   -999.0,  -999.00,9,  -999.00,9,  -999.00,9,  -999.00,9,   -999.0,-999.0000, -999,9,  300,   9.4800,  26.7457,   -999.0,9
       RF02-10,  165E,RF-1788,  1,     11,02-13589,2,20021018,0758,  6.9928, 164.5140, 5095,    401.5,   8.6024,  34.6103,2,   -999.0,9,  34.6084,2,     41.2,2,    40.51,2,  -999.00,9,    35.86,2,     0.01,2,     2.53,2, -999.000,9, -999.000,9,  -999.00,9,   -999.0,9,   -999.0,9,-999.0000,9,   -999.0,  9,  -999.00,9,   -999.0,  -999.00,9,  -999.00,9,  -999.00,9,  -999.00,9,   -999.0,-999.0000, -999,9,  399,   8.5597,  26.8825,   -999.0,9
       RF02-10,  165E,RF-1788,  1,     10,02-12815,2,20021018,0756,  6.9928, 164.5140, 5095,    502.6,   7.6918,  34.5687,2,   -999.0,9,-999.0000,9,     42.1,2,    48.17,2,  -999.00,9,    37.32,2,     0.01,2,     2.66,2, -999.000,9, -999.000,9,  -999.00,9,   -999.0,9,   -999.0,9,-999.0000,9,   -999.0,  9,     7.52,2,   -999.0,  -999.00,9,  -999.00,9,  -999.00,9,  -999.00,9,   -999.0,-999.0000, -999,9,  499,   7.6414,  26.9880,   -999.0,9
       RF02-10,  165E,RF-1788,  1,      9,02-12807,2,20021018,0753,  6.9928, 164.5140, 5095,    603.6,   6.8576,  34.5557,2,   -999.0,9,  34.5535,2,     41.2,2,    56.47,2,  -999.00,9,    39.04,2,     0.01,2,     2.81,2, -999.000,9, -999.000,9,  -999.00,9,   -999.0,9,   -999.0,9,-999.0000,9,   -999.0,  9,  -999.00,9,   -999.0,  -999.00,9,  -999.00,9,  -999.00,9,  -999.00,9,   -999.0,-999.0000, -999,9,  599,   6.8005,  27.0961,   -999.0,9
       RF02-10,  165E,RF-1788,  1,      8,02-10154,2,20021018,0750,  6.9928, 164.5140, 5095,    705.2,   6.1132,  34.5369,2,   -999.0,9,-999.0000,9,     51.8,2,    65.83,2,  -999.00,9,    39.37,2,     0.01,2,     2.81,2, -999.000,9, -999.000,9,  -999.00,9,   -999.0,9,   -999.0,9,-999.0000,9,   -999.0,  9,     7.52,2,   -999.0,  -999.00,9,  -999.00,9,  -999.00,9,  -999.00,9,   -999.0,-999.0000, -999,9,  700,   6.0500,  27.1803,   -999.0,9
       RF02-10,  165E,RF-1788,  1,      7,02-15821,2,20021018,0748,  6.9928, 164.5140, 5095,    805.8,   5.4864,  34.5424,2,   -999.0,9,  34.5417,2,     50.6,3,    74.89,2,  -999.00,9,    40.58,2,     0.01,2,     2.90,2, -999.000,9, -999.000,9,  -999.00,9,   -999.0,9,   -999.0,9,-999.0000,9,   -999.0,  9,  -999.00,9,   -999.0,  -999.00,9,  -999.00,9,  -999.00,9,  -999.00,9,   -999.0,-999.0000, -999,9,  800,   5.4174,  27.2632,   -999.0,9
       RF02-10,  165E,RF-1788,  1,      6,02-17872,2,20021018,0746,  6.9928, 164.5140, 5095,    906.5,   4.9645,  34.5463,2,   -999.0,9,-999.0000,9,     67.7,2,    80.93,2,  -999.00,9,    39.69,2,     0.01,2,     2.84,2, -999.000,9, -999.000,9,  -999.00,9,   -999.0,9,   -999.0,9,-999.0000,9,   -999.0,  9,  -999.00,9,   -999.0,  -999.00,9,  -999.00,9,  -999.00,9,  -999.00,9,   -999.0,-999.0000, -999,9,  899,   4.8898,  27.3283,   -999.0,9
       RF02-10,  165E,RF-1788,  1,      5,02-10155,2,20021018,0742,  6.9928, 164.5140, 5095,   1008.3,   4.5209,  34.5540,2,   -999.0,9,  34.5543,2,     71.8,2,    90.39,2,  -999.00,9,    39.78,2,     0.01,2,     2.84,2, -999.000,9, -999.000,9,  -999.00,9,   -999.0,9,   -999.0,9,-999.0000,9,   -999.0,  9,     7.52,2,   -999.0,  -999.00,9,  -999.00,9,  -999.00,9,  -999.00,9,   -999.0,-999.0000, -999,9, 1000,   4.4404,  27.3845,   -999.0,9
       RF02-10,  165E,RF-1788,  1,      4,02-13579,2,20021018,0738,  6.9928, 164.5140, 5095,   1261.3,   3.6859,  34.5737,2,   -999.0,9,  34.5743,2,     80.6,2,   107.25,2,  -999.00,9,    39.61,2,     0.01,2,     2.82,2, -999.000,9, -999.000,9,  -999.00,9,   -999.0,9,   -999.0,9,-999.0000,9,   -999.0,  9,  -999.00,9,   -999.0,  -999.00,9,  -999.00,9,  -999.00,9,  -999.00,9,   -999.0,-999.0000, -999,9, 1250,   3.5909,  27.4885,   -999.0,9
       RF02-10,  165E,RF-1788,  1,      3,02-13590,2,20021018,0732,  6.9928, 164.5140, 5095,   1512.9,   2.9748,  34.5984,2,   -999.0,9,  34.5991,2,     88.8,2,   122.05,2,  -999.00,9,    39.58,2,     0.01,2,     2.78,2, -999.000,9, -999.000,9,  -999.00,9,   -999.0,9,   -999.0,9,-999.0000,9,   -999.0,  9,     7.56,2,   -999.0,  -999.00,9,  -999.00,9,  -999.00,9,  -999.00,9,   -999.0,-999.0000, -999,9, 1499,   2.8662,  27.5766,   -999.0,9
       RF02-10,  165E,RF-1788,  1,      2,02-12827,2,20021018,0724,  6.9928, 164.5140, 5095,   1765.9,   2.4558,  34.6204,2,   -999.0,9,  34.6221,2,     98.4,2,   132.65,2,  -999.00,9,    39.18,2,     0.01,2,     2.74,2, -999.000,9, -999.000,9,  -999.00,9,   -999.0,9,   -999.0,9,-999.0000,9,   -999.0,  9,     7.58,2,   -999.0,  -999.00,9,  -999.00,9,  -999.00,9,  -999.00,9,   -999.0,-999.0000, -999,9, 1749,   2.3325,  27.6405,   -999.0,9
       RF02-10,  165E,RF-1788,  1,      1,02-17871,2,20021018,0716,  6.9928, 164.5140, 5095,   2044.3,   2.1368,  34.6365,2,   -999.0,9,  34.6410,2,    106.7,2,   138.78,2,  -999.00,9,    38.75,2,     0.01,2,     2.70,2, -999.000,9, -999.000,9,  -999.00,9,   -999.0,9,   -999.0,9,-999.0000,9,   -999.0,  9,     7.58,2,   -999.0,  -999.00,9,  -999.00,9,  -999.00,9,  -999.00,9,   -999.0,-999.0000, -999,9, 2023,   1.9945,  27.6809,   -999.0,9
       RF02-10,  165E,RF-1789,  1,     17,02-17874,2,20021026,1147,  5.9972, 165.0073, 4988,    104.8,  21.1203,  34.8345,2,   -999.0,9,-999.0000,9,   -999.0,9,  -999.00,9,  -999.00,9,  -999.00,9,  -999.00,9,  -999.00,9, -999.000,9, -999.000,9,  -999.00,9,   -999.0,9,   -999.0,9,-999.0000,9,   -999.0,  9,  -999.00,9,   -999.0,  -999.00,9,  -999.00,9,  -999.00,9,  -999.00,9,   -999.0,-999.0000, -999,9,  104,  21.1002,  24.3407,   -999.0,9
       RF02-10,  165E,RF-1789,  1,     16,02-12818,2,20021026,1147,  5.9972, 165.0073, 4988,    105.2,  20.5710,  34.8406,2,   -999.0,9,-999.0000,9,   -999.0,9,  -999.00,9,  -999.00,9,  -999.00,9,  -999.00,9,  -999.00,9, -999.000,9, -999.000,9,  -999.00,9,   -999.0,9,   -999.0,9,-999.0000,9,   -999.0,  9,  -999.00,9,   -999.0,  -999.00,9,  -999.00,9,  -999.00,9,  -999.00,9,   -999.0,-999.0000, -999,9,  105,  20.5512,  24.4937,   -999.0,9
       RF02-10,  165E,RF-1789,  1,     15,02-12809,2,20021026,1144,  5.9972, 165.0073, 4988,    155.7,  15.3245,  34.6196,2,   -999.0,9,-999.0000,9,   -999.0,9,  -999.00,9,  -999.00,9,  -999.00,9,  -999.00,9,  -999.00,9, -999.000,9, -999.000,9,  -999.00,9,   -999.0,9,   -999.0,9,-999.0000,9,   -999.0,  9,  -999.00,9,   -999.0,  -999.00,9,  -999.00,9,  -999.00,9,  -999.00,9,   -999.0,-999.0000, -999,9,  155,  15.3006,  25.6124,   -999.0,9
       RF02-10,  165E,RF-1789,  1,     14,02-12817,2,20021026,1142,  5.9972, 165.0073, 4988,    205.5,  11.9753,  34.5526,2,   -999.0,9,-999.0000,9,   -999.0,9,  -999.00,9,  -999.00,9,  -999.00,9,  -999.00,9,  -999.00,9, -999.000,9, -999.000,9,  -999.00,9,   -999.0,9,   -999.0,9,-999.0000,9,   -999.0,  9,  -999.00,9,   -999.0,  -999.00,9,  -999.00,9,  -999.00,9,  -999.00,9,   -999.0,-999.0000, -999,9,  204,  11.9486,  26.2514,   -999.0,9
       RF02-10,  165E,RF-1789,  1,     13,02-15822,2,20021026,1142,  5.9972, 165.0073, 4988,    205.6,  11.9907,  34.5320,2,   -999.0,9,-999.0000,9,   -999.0,9,  -999.00,9,  -999.00,9,  -999.00,9,  -999.00,9,  -999.00,9, -999.000,9, -999.000,9,  -999.00,9,   -999.0,9,   -999.0,9,-999.0000,9,   -999.0,  9,  -999.00,9,   -999.0,  -999.00,9,  -999.00,9,  -999.00,9,  -999.00,9,   -999.0,-999.0000, -999,9,  204,  11.9641,  26.2324,   -999.0,9
       RF02-10,  165E,RF-1789,  1,     12,02-13591,2,20021026,1140,  5.9972, 165.0073, 4988,    255.2,  10.2431,  34.6141,2,   -999.0,9,-999.0000,9,   -999.0,9,  -999.00,9,  -999.00,9,  -999.00,9,  -999.00,9,  -999.00,9, -999.000,9, -999.000,9,  -999.00,9,   -999.0,9,   -999.0,9,-999.0000,9,   -999.0,  9,  -999.00,9,   -999.0,  -999.00,9,  -999.00,9,  -999.00,9,  -999.00,9,   -999.0,-999.0000, -999,9,  254,  10.2131,  26.6141,   -999.0,9
       RF02-10,  165E,RF-1789,  1,     10,02-12815,2,20021026,1137,  5.9972, 165.0073, 4988,    306.7,   9.5249,  34.6427,2,   -999.0,9,-999.0000,9,   -999.0,9,  -999.00,9,  -999.00,9,  -999.00,9,  -999.00,9,  -999.00,9, -999.000,9, -999.000,9,  -999.00,9,   -999.0,9,   -999.0,9,-999.0000,9,   -999.0,  9,  -999.00,9,   -999.0,  -999.00,9,  -999.00,9,  -999.00,9,  -999.00,9,   -999.0,-999.0000, -999,9,  305,   9.4903,  26.7585,   -999.0,9
       RF02-10,  165E,RF-1789,  1,     11,02-13589,2,20021026,1138,  5.9972, 165.0073, 4988,    307.0,   9.5293,  34.6439,2,   -999.0,9,-999.0000,9,   -999.0,9,  -999.00,9,  -999.00,9,  -999.00,9,  -999.00,9,  -999.00,9, -999.000,9, -999.000,9,  -999.00,9,   -999.0,9,   -999.0,9,-999.0000,9,   -999.0,  9,  -999.00,9,   -999.0,  -999.00,9,  -999.00,9,  -999.00,9,  -999.00,9,   -999.0,-999.0000, -999,9,  305,   9.4947,  26.7588,   -999.0,9
       RF02-10,  165E,RF-1789,  1,      9,02-12807,2,20021026,1134,  5.9972, 165.0073, 4988,    407.1,   8.5558,  34.6081,2,   -999.0,9,-999.0000,9,   -999.0,9,  -999.00,9,  -999.00,9,  -999.00,9,  -999.00,9,  -999.00,9, -999.000,9, -999.000,9,  -999.00,9,   -999.0,9,   -999.0,9,-999.0000,9,   -999.0,  9,  -999.00,9,   -999.0,  -999.00,9,  -999.00,9,  -999.00,9,  -999.00,9,   -999.0,-999.0000, -999,9,  404,   8.5126,  26.8881,   -999.0,9
       RF02-10,  165E,RF-1789,  1,      8,02-10154,2,20021026,1131,  5.9972, 165.0073, 4988,    507.4,   7.6859,  34.5898,2,   -999.0,9,-999.0000,9,   -999.0,9,  -999.00,9,  -999.00,9,  -999.00,9,  -999.00,9,  -999.00,9, -999.000,9, -999.000,9,  -999.00,9,   -999.0,9,   -999.0,9,-999.0000,9,   -999.0,  9,  -999.00,9,   -999.0,  -999.00,9,  -999.00,9,  -999.00,9,  -999.00,9,   -999.0,-999.0000, -999,9,  504,   7.6350,  27.0055,   -999.0,9
       RF02-10,  165E,RF-1789,  1,      7,02-15821,2,20021026,1128,  5.9972, 165.0073, 4988,    608.2,   6.6710,  34.5643,2,   -999.0,9,-999.0000,9,   -999.0,9,  -999.00,9,  -999.00,9,  -999.00,9,  -999.00,9,  -999.00,9, -999.000,9, -999.000,9,  -999.00,9,   -999.0,9,   -999.0,9,-999.0000,9,   -999.0,  9,  -999.00,9,   -999.0,  -999.00,9,  -999.00,9,  -999.00,9,  -999.00,9,   -999.0,-999.0000, -999,9,  604,   6.6142,  27.1281,   -999.0,9
       RF02-10,  165E,RF-1789,  1,      6,02-17872,2,20021026,1121,  5.9972, 165.0073, 4988,    708.9,   5.9750,  34.5383,2,   -999.0,9,-999.0000,9,   -999.0,9,  -999.00,9,  -999.00,9,  -999.00,9,  -999.00,9,  -999.00,9, -999.000,9, -999.000,9,  -999.00,9,   -999.0,9,   -999.0,9,-999.0000,9,   -999.0,  9,  -999.00,9,   -999.0,  -999.00,9,  -999.00,9,  -999.00,9,  -999.00,9,   -999.0,-999.0000, -999,9,  704,   5.9121,  27.1990,   -999.0,9
       RF02-10,  165E,RF-1789,  1,      5,02-10155,2,20021026,1118,  5.9972, 165.0073, 4988,    810.6,   5.4363,  34.5414,2,   -999.0,9,-999.0000,9,   -999.0,9,  -999.00,9,  -999.00,9,  -999.00,9,  -999.00,9,  -999.00,9, -999.000,9, -999.000,9,  -999.00,9,   -999.0,9,   -999.0,9,-999.0000,9,   -999.0,  9,  -999.00,9,   -999.0,  -999.00,9,  -999.00,9,  -999.00,9,  -999.00,9,   -999.0,-999.0000, -999,9,  805,   5.3671,  27.2684,   -999.0,9
       RF02-10,  165E,RF-1789,  1,      4,02-13579,2,20021026,1116,  5.9972, 165.0073, 4988,    911.7,   4.9171,  34.5482,2,   -999.0,9,-999.0000,9,   -999.0,9,  -999.00,9,  -999.00,9,  -999.00,9,  -999.00,9,  -999.00,9, -999.000,9, -999.000,9,  -999.00,9,   -999.0,9,   -999.0,9,-999.0000,9,   -999.0,  9,  -999.00,9,   -999.0,  -999.00,9,  -999.00,9,  -999.00,9,  -999.00,9,   -999.0,-999.0000, -999,9,  905,   4.8422,  27.3352,   -999.0,9
       RF02-10,  165E,RF-1789,  1,      1,02-17871,2,20021026,1111,  5.9972, 165.0073, 4988,   1013.2,   4.4568,  34.5581,2,   -999.0,9,-999.0000,9,   -999.0,9,  -999.00,9,  -999.00,9,  -999.00,9,  -999.00,9,  -999.00,9, -999.000,9, -999.000,9,  -999.00,9,   -999.0,9,   -999.0,9,-999.0000,9,   -999.0,  9,  -999.00,9,   -999.0,  -999.00,9,  -999.00,9,  -999.00,9,  -999.00,9,   -999.0,-999.0000, -999,9, 1005,   4.3764,  27.3948,   -999.0,9
       RF02-10,  165E,RF-1789,  1,      2,02-12827,2,20021026,1112,  5.9972, 165.0073, 4988,   1013.3,   4.4574,  34.5571,2,   -999.0,9,-999.0000,9,   -999.0,9,  -999.00,9,  -999.00,9,  -999.00,9,  -999.00,9,  -999.00,9, -999.000,9, -999.000,9,  -999.00,9,   -999.0,9,   -999.0,9,-999.0000,9,   -999.0,  9,  -999.00,9,   -999.0,  -999.00,9,  -999.00,9,  -999.00,9,  -999.00,9,   -999.0,-999.0000, -999,9, 1005,   4.3770,  27.3939,   -999.0,9
       RF02-10,  165E,RF-1789,  1,      3,02-13590,2,20021026,1112,  5.9972, 165.0073, 4988,   1013.6,   4.4571,  34.5575,2,   -999.0,9,-999.0000,9,   -999.0,9,  -999.00,9,  -999.00,9,  -999.00,9,  -999.00,9,  -999.00,9, -999.000,9, -999.000,9,  -999.00,9,   -999.0,9,   -999.0,9,-999.0000,9,   -999.0,  9,  -999.00,9,   -999.0,  -999.00,9,  -999.00,9,  -999.00,9,  -999.00,9,   -999.0,-999.0000, -999,9, 1006,   4.3766,  27.3942,   -999.0,9