BOTTLE,20130510GEMDJMAYT
EXPOCODE,SECT_ID,STNNBR,CASTNO,SAMPNO,BTLNBR,BTLNBR_FLAG_W,DATE,TIME,LATITUDE,LONGITUDE,DEPTH,CTDPRS,CTDTMP,CTDSAL,CTDSAL_FLAG_W,CTDOXY,CTDOXY_FLAG_W,SALNTY,SALNTY_FLAG_W,OXYGEN,OXYGEN_FLAG_W,SILCAT,SILCAT_FLAG_W,NITRAT,NITRAT_FLAG_W,NO2+NO3,NO2+NO3_FLAG_W,NITRIT,NITRIT_FLAG_W,PHSPHT,PHSPHT_FLAG_W,CFC-11,CFC-11_FLAG_W,CFC-12,CFC-12_FLAG_W,DELC13,DELC13_FLAG_W,TCARBN,TCARBN_FLAG_W,ALKALI,ALKALI_FLAG_W,PH,PH_FLAG_W,PH_TMP,PH_SCALE,PH_NBS,PH_NBS_FLAG_W,C13ERR,TOTALP,TOTALP_FLAG_W,AMMONI,AMMONI_FLAG_W,CHLORA,CHLORA_FLAG_W,PPHYTN,PPHYTN_FLAG_W,REVPRS,REVTMP,DEPTH_,DEPTH_FLAG,CTDDEP,THETA,SIGTHT,DOC,DOC_FLAG_W
,,,,,,,GMT,GMT,,,METER,DBAR,ITS-90,PSS-78,,UMOL/KG,,PSS-78,,UMOL/KG,,UMOL/KG,,UMOL/KG,,UMOL/KG,,UMOL/KG,,UMOL/KG,,PMOL/KG,,PMOL/KG,,/MILLE,,UMOL/KG,,UMOL/KG,,25_DEG_C,,DEG_C,,,,/MILLE,UMOL/KG,,UMOL/KG,,UG/L,,UG/L,,DBAR,ITS-90,METERS,,METERS,DEG_C,,UMOL/L,
       RF02-10,  165E,RF-1774,  1,     -9,      -9,5,20021011,2035, 21.0167, 164.9593, 5502,      0.0,  28.5314,  34.9398,2,   -999.0,9,-999.0000,9,    196.0,2,     1.15,2,  -999.00,9,     0.23,2,     0.02,2,     0.02,2, -999.000,9, -999.000,9,  -999.00,9,   -999.0,9,   -999.0,9,-999.0000,9,   -999.0,  9,  -999.00,9,   -999.0,  -999.00,9,  -999.00,9,  -999.00,9,  -999.00,9,   -999.0,-999.0000, -999,9,    0,  28.5314,  22.1747,   -999.0,9
       RF02-10,  165E,RF-1774,  1,     24,02-13588,2,20021011,2033, 21.0167, 164.9593, 5502,     10.3,  28.5330,  34.9401,2,   -999.0,9,-999.0000,9,    195.8,2,     1.12,2,  -999.00,9,     0.07,2,     0.01,2,     0.02,2, -999.000,9, -999.000,9,  -999.00,9,   -999.0,9,   -999.0,9,-999.0000,9,   -999.0,  9,  -999.00,9,   -999.0,  -999.00,9,  -999.00,9,  -999.00,9,  -999.00,9,   -999.0,-999.0000, -999,9,   10,  28.5306,  22.1752,   -999.0,9
       RF02-10,  165E,RF-1774,  1,     23,02-12825,2,20021011,2031, 21.0167, 164.9593, 5502,     24.9,  28.5322,  34.9394,2,   -999.0,9,-999.0000,9,    195.1,2,     1.13,2,  -999.00,9,     0.09,2,     0.01,2,     0.01,2, -999.000,9, -999.000,9,  -999.00,9,   -999.0,9,   -999.0,9,-999.0000,9,   -999.0,  9,  -999.00,9,   -999.0,  -999.00,9,  -999.00,9,  -999.00,9,  -999.00,9,   -999.0,-999.0000, -999,9,   25,  28.5263,  22.1761,   -999.0,9
       RF02-10,  165E,RF-1774,  1,     22,02-12811,2,20021011,2030, 21.0167, 164.9593, 5502,     51.0,  28.5810,  35.0285,2,   -999.0,9,-999.0000,9,    198.1,2,     1.10,2,  -999.00,9,     0.07,2,     0.01,2,     0.00,2, -999.000,9, -999.000,9,  -999.00,9,   -999.0,9,   -999.0,9,-999.0000,9,   -999.0,  9,  -999.00,9,   -999.0,  -999.00,9,  -999.00,9,  -999.00,9,  -999.00,9,   -999.0,-999.0000, -999,9,   51,  28.5688,  22.2290,   -999.0,9
       RF02-10,  165E,RF-1774,  1,     21,02-12826,2,20021011,2029, 21.0167, 164.9593, 5502,     75.9,  26.0904,  35.2552,2,   -999.0,9,-999.0000,9,    213.2,2,     1.14,2,  -999.00,9,     0.06,2,     0.01,2,     0.00,2, -999.000,9, -999.000,9,  -999.00,9,   -999.0,9,   -999.0,9,-999.0000,9,   -999.0,  9,  -999.00,9,   -999.0,  -999.00,9,  -999.00,9,  -999.00,9,  -999.00,9,   -999.0,-999.0000, -999,9,   75,  26.0734,  23.2029,   -999.0,9
       RF02-10,  165E,RF-1774,  1,     20,02-12821,2,20021011,2027, 21.0167, 164.9593, 5502,     98.9,  24.5179,  35.2809,2,   -999.0,9,  35.2581,2,    203.4,2,     1.26,2,  -999.00,9,     0.09,2,     0.00,2,     0.01,2, -999.000,9, -999.000,9,  -999.00,9,   -999.0,9,   -999.0,9,-999.0000,9,   -999.0,  9,  -999.00,9,   -999.0,  -999.00,9,  -999.00,9,  -999.00,9,  -999.00,9,   -999.0,-999.0000, -999,9,   98,  24.4967,  23.7057,   -999.0,9
       RF02-10,  165E,RF-1774,  1,     19,02-17875,2,20021011,2026, 21.0167, 164.9593, 5502,    125.8,  22.9400,  35.2055,2,   -999.0,9,-999.0000,9,    193.6,2,     1.54,2,  -999.00,9,     0.46,2,     0.12,2,     0.05,2, -999.000,9, -999.000,9,  -999.00,9,   -999.0,9,   -999.0,9,-999.0000,9,   -999.0,  9,  -999.00,9,   -999.0,  -999.00,9,  -999.00,9,  -999.00,9,  -999.00,9,   -999.0,-999.0000, -999,9,  125,  22.9144,  24.1142,   -999.0,9
       RF02-10,  165E,RF-1774,  1,     18,02-12830,2,20021011,2025, 21.0167, 164.9593, 5502,    151.8,  21.5583,  35.0896,2,   -999.0,9,-999.0000,9,    184.5,2,     2.10,2,  -999.00,9,     1.71,2,     0.01,2,     0.16,2, -999.000,9, -999.000,9,  -999.00,9,   -999.0,9,   -999.0,9,-999.0000,9,   -999.0,  9,  -999.00,9,   -999.0,  -999.00,9,  -999.00,9,  -999.00,9,  -999.00,9,   -999.0,-999.0000, -999,9,  151,  21.5287,  24.4171,   -999.0,9
       RF02-10,  165E,RF-1774,  1,     17,02-17874,2,20021011,2023, 21.0167, 164.9593, 5502,    202.4,  18.7000,  34.8460,2,   -999.0,9,  34.8438,2,    191.6,2,     3.12,2,  -999.00,9,     3.40,2,     0.00,2,     0.25,2, -999.000,9, -999.000,9,  -999.00,9,   -999.0,9,   -999.0,9,-999.0000,9,   -999.0,  9,  -999.00,9,   -999.0,  -999.00,9,  -999.00,9,  -999.00,9,  -999.00,9,   -999.0,-999.0000, -999,9,  201,  18.6643,  24.9886,   -999.0,9
       RF02-10,  165E,RF-1774,  1,     16,02-12818,2,20021011,2021, 21.0167, 164.9593, 5502,    251.2,  16.8456,  34.7080,2,   -999.0,9,-999.0000,9,    195.4,2,     4.93,2,  -999.00,9,     5.96,2,     0.01,2,     0.41,2, -999.000,9, -999.000,9,  -999.00,9,   -999.0,9,   -999.0,9,-999.0000,9,   -999.0,  9,  -999.00,9,   -999.0,  -999.00,9,  -999.00,9,  -999.00,9,  -999.00,9,   -999.0,-999.0000, -999,9,  249,  16.8044,  25.3364,   -999.0,9
       RF02-10,  165E,RF-1774,  1,     15,02-12809,2,20021011,2019, 21.0167, 164.9593, 5502,    303.1,  14.7371,  34.5628,2,   -999.0,9,-999.0000,9,    197.5,2,     8.24,2,  -999.00,9,     8.95,2,     0.01,2,     0.59,2, -999.000,9, -999.000,9,  -999.00,9,   -999.0,9,   -999.0,9,-999.0000,9,   -999.0,  9,  -999.00,9,   -999.0,  -999.00,9,  -999.00,9,  -999.00,9,  -999.00,9,   -999.0,-999.0000, -999,9,  301,  14.6918,  25.7019,   -999.0,9
       RF02-10,  165E,RF-1774,  1,     14,02-12817,2,20021011,2016, 21.0167, 164.9593, 5502,    402.9,  11.3380,  34.2821,2,   -999.0,9,  34.2777,2,    181.6,2,    17.77,2,  -999.00,9,    16.22,2,     0.01,2,     1.12,2, -999.000,9, -999.000,9,  -999.00,9,   -999.0,9,   -999.0,9,-999.0000,9,   -999.0,  9,  -999.00,9,   -999.0,  -999.00,9,  -999.00,9,  -999.00,9,  -999.00,9,   -999.0,-999.0000, -999,9,  400,  11.2873,  26.1643,   -999.0,9
       RF02-10,  165E,RF-1774,  1,     13,02-15822,2,20021011,2013, 21.0167, 164.9593, 5502,    509.2,   8.4534,  34.1245,2,   -999.0,9,-999.0000,9,    153.2,2,    35.30,2,  -999.00,9,    24.57,2,     0.01,2,     1.70,2, -999.000,9, -999.000,9,  -999.00,9,   -999.0,9,   -999.0,9,-999.0000,9,   -999.0,  9,  -999.00,9,   -999.0,  -999.00,9,  -999.00,9,  -999.00,9,  -999.00,9,   -999.0,-999.0000, -999,9,  505,   8.3998,  26.5261,   -999.0,9
       RF02-10,  165E,RF-1774,  1,     12,02-13591,2,20021011,2010, 21.0167, 164.9593, 5502,    606.4,   6.6612,  34.1111,2,   -999.0,9,  34.1126,2,     97.6,2,    57.74,2,  -999.00,9,    33.03,2,     0.01,2,     2.33,2, -999.000,9, -999.000,9,  -999.00,9,   -999.0,9,   -999.0,9,-999.0000,9,   -999.0,  9,  -999.00,9,   -999.0,  -999.00,9,  -999.00,9,  -999.00,9,  -999.00,9,   -999.0,-999.0000, -999,9,  602,   6.6051,  26.7719,   -999.0,9
       RF02-10,  165E,RF-1774,  1,     11,02-13589,2,20021011,2007, 21.0167, 164.9593, 5502,    707.7,   5.5701,  34.1835,2,   -999.0,9,-999.0000,9,     64.2,2,    76.25,2,  -999.00,9,    37.93,2,     0.01,2,     2.70,2, -999.000,9, -999.000,9,  -999.00,9,   -999.0,9,   -999.0,9,-999.0000,9,   -999.0,  9,  -999.00,9,   -999.0,  -999.00,9,  -999.00,9,  -999.00,9,  -999.00,9,   -999.0,-999.0000, -999,9,  702,   5.5099,  26.9679,   -999.0,9
       RF02-10,  165E,RF-1774,  1,     10,02-12815,2,20021011,2004, 21.0167, 164.9593, 5502,    809.4,   4.8405,  34.2900,2,   -999.0,9,  34.2881,2,     46.0,2,    91.72,2,  -999.00,9,    40.77,2,     0.01,2,     2.91,2, -999.000,9, -999.000,9,  -999.00,9,   -999.0,9,   -999.0,9,-999.0000,9,   -999.0,  9,  -999.00,9,   -999.0,  -999.00,9,  -999.00,9,  -999.00,9,  -999.00,9,   -999.0,-999.0000, -999,9,  803,   4.7754,  27.1378,   -999.0,9
       RF02-10,  165E,RF-1774,  1,      9,02-12807,2,20021011,2000, 21.0167, 164.9593, 5502,   1010.1,   3.9448,  34.4549,2,   -999.0,9,  34.4554,2,     53.4,2,   110.04,2,  -999.00,9,    41.63,2,     0.01,2,     2.94,2, -999.000,9, -999.000,9,  -999.00,9,   -999.0,9,   -999.0,9,-999.0000,9,   -999.0,  9,  -999.00,9,   -999.0,  -999.00,9,  -999.00,9,  -999.00,9,  -999.00,9,   -999.0,-999.0000, -999,9, 1001,   3.8689,  27.3660,   -999.0,9
       RF02-10,  165E,RF-1774,  1,      8,02-10154,2,20021011,1954, 21.0167, 164.9593, 5502,   1262.6,   3.1975,  34.5369,2,   -999.0,9,-999.0000,9,     72.5,2,   123.29,2,  -999.00,9,    40.90,2,     0.01,2,     2.87,2, -999.000,9, -999.000,9,  -999.00,9,   -999.0,9,   -999.0,9,-999.0000,9,   -999.0,  9,  -999.00,9,   -999.0,  -999.00,9,  -999.00,9,  -999.00,9,  -999.00,9,   -999.0,-999.0000, -999,9, 1251,   3.1072,  27.5055,   -999.0,9
       RF02-10,  165E,RF-1774,  1,      7,02-15821,2,20021011,1948, 21.0167, 164.9593, 5502,   1516.0,   2.7721,  34.5650,2,   -999.0,9,  34.5639,2,     81.5,2,   131.71,2,  -999.00,9,    40.68,2,     0.01,2,     2.84,2, -999.000,9, -999.000,9,  -999.00,9,   -999.0,9,   -999.0,9,-999.0000,9,   -999.0,  9,  -999.00,9,   -999.0,  -999.00,9,  -999.00,9,  -999.00,9,  -999.00,9,   -999.0,-999.0000, -999,9, 1501,   2.6656,  27.5678,   -999.0,9
       RF02-10,  165E,RF-1774,  1,      6,02-17872,2,20021011,1938, 21.0167, 164.9593, 5502,   2026.2,   2.0395,  34.6226,2,   -999.0,9,  34.6188,2,    102.5,2,   144.30,2,  -999.00,9,    39.78,2,     0.01,2,     2.74,2, -999.000,9, -999.000,9,  -999.00,9,   -999.0,9,   -999.0,9,-999.0000,9,   -999.0,  9,  -999.00,9,   -999.0,  -999.00,9,  -999.00,9,  -999.00,9,  -999.00,9,   -999.0,-999.0000, -999,9, 2004,   1.9003,  27.6771,   -999.0,9
       RF02-10,  165E,RF-1774,  1,      5,02-10155,2,20021011,1927, 21.0167, 164.9593, 5502,   2532.6,   1.7410,  34.6512,2,   -999.0,9,-999.0000,9,    119.6,2,   148.17,2,  -999.00,9,    38.80,2,     0.01,2,     2.66,2, -999.000,9, -999.000,9,  -999.00,9,   -999.0,9,   -999.0,9,-999.0000,9,   -999.0,  9,  -999.00,9,   -999.0,  -999.00,9,  -999.00,9,  -999.00,9,  -999.00,9,   -999.0,-999.0000, -999,9, 2502,   1.5627,  27.7256,   -999.0,9
       RF02-10,  165E,RF-1774,  1,      4,02-13579,2,20021011,1917, 21.0167, 164.9593, 5502,   3040.0,   1.6093,  34.6654,2,   -999.0,9,  34.6656,2,    131.2,2,   148.26,2,  -999.00,9,    38.08,2,     0.01,2,     2.59,2, -999.000,9, -999.000,9,  -999.00,9,   -999.0,9,   -999.0,9,-999.0000,9,   -999.0,  9,  -999.00,9,   -999.0,  -999.00,9,  -999.00,9,  -999.00,9,  -999.00,9,   -999.0,-999.0000, -999,9, 3000,   1.3863,  27.7499,   -999.0,9
       RF02-10,  165E,RF-1774,  1,      3,02-13590,2,20021011,1855, 21.0167, 164.9593, 5502,   4064.8,   1.4649,  34.6845,2,   -999.0,9,  34.6853,2,    153.8,2,   141.87,2,  -999.00,9,    36.52,2,     0.01,2,     2.47,2, -999.000,9, -999.000,9,  -999.00,9,   -999.0,9,   -999.0,9,-999.0000,9,   -999.0,  9,  -999.00,9,   -999.0,  -999.00,9,  -999.00,9,  -999.00,9,  -999.00,9,   -999.0,-999.0000, -999,9, 4001,   1.1399,  27.7824,   -999.0,9
       RF02-10,  165E,RF-1774,  1,      2,02-12827,2,20021011,1838, 21.0167, 164.9593, 5502,   5090.2,   1.4480,  34.6948,2,   -999.0,9,  34.6951,2,    171.5,2,   132.97,2,  -999.00,9,    35.27,2,     0.01,2,     2.37,2, -999.000,9, -999.000,9,  -999.00,9,   -999.0,9,   -999.0,9,-999.0000,9,   -999.0,  9,  -999.00,9,   -999.0,  -999.00,9,  -999.00,9,  -999.00,9,  -999.00,9,   -999.0,-999.0000, -999,9, 4999,   1.0045,  27.7998,   -999.0,9
       RF02-10,  165E,RF-1774,  1,      1,02-17871,2,20021011,1832, 21.0167, 164.9593, 5502,   5411.3,   1.4590,  34.6966,2,   -999.0,9,  34.6979,2,    175.9,2,   130.66,2,  -999.00,9,    34.92,2,     0.01,2,     2.35,2, -999.000,9, -999.000,9,  -999.00,9,   -999.0,9,   -999.0,9,-999.0000,9,   -999.0,  9,  -999.00,9,   -999.0,  -999.00,9,  -999.00,9,  -999.00,9,  -999.00,9,   -999.0,-999.0000, -999,9, 5311,   0.9752,  27.8032,   -999.0,9
       RF02-10,  165E,RF-1775,  2,     -9,      -9,5,20021012,0711, 20.0308, 164.9475, 5329,      0.0,  28.8608,  34.7831,2,   -999.0,9,-999.0000,9,    196.9,2,     1.50,2,  -999.00,9,     0.08,2,     0.00,2,     0.03,2, -999.000,9, -999.000,9,  -999.00,9,   -999.0,9,   -999.0,9,-999.0000,9,   -999.0,  9,     8.28,2,   -999.0,  -999.00,9,  -999.00,9,     0.06,2,     0.01,2,   -999.0,-999.0000, -999,9,    0,  28.8608,  21.9477,   -999.0,9
       RF02-10,  165E,RF-1775,  2,     24,02-13588,2,20021012,0708, 20.0308, 164.9475, 5329,     10.9,  28.8640,  34.7829,2,   -999.0,9,-999.0000,9,    194.9,2,     1.39,2,  -999.00,9,     0.04,2,     0.00,2,     0.02,2, -999.000,9, -999.000,9,  -999.00,9,   -999.0,9,   -999.0,9,-999.0000,9,   -999.0,  9,     8.27,2,   -999.0,  -999.00,9,  -999.00,9,     0.06,2,     0.01,2,   -999.0,-999.0000, -999,9,   11,  28.8614,  21.9473,   -999.0,9
       RF02-10,  165E,RF-1775,  2,     23,02-12825,2,20021012,0707, 20.0308, 164.9475, 5329,     24.8,  28.8600,  34.7840,2,   -999.0,9,-999.0000,9,    194.7,2,     1.38,2,  -999.00,9,     0.02,2,     0.00,2,     0.02,2, -999.000,9, -999.000,9,  -999.00,9,   -999.0,9,   -999.0,9,-999.0000,9,   -999.0,  9,     8.27,2,   -999.0,  -999.00,9,  -999.00,9,     0.06,2,     0.01,2,   -999.0,-999.0000, -999,9,   25,  28.8540,  21.9506,   -999.0,9
       RF02-10,  165E,RF-1775,  2,     22,02-12811,2,20021012,0705, 20.0308, 164.9475, 5329,     50.3,  28.7612,  34.7737,2,   -999.0,9,-999.0000,9,    195.1,2,     1.39,2,  -999.00,9,     0.04,2,     0.00,2,     0.01,2, -999.000,9, -999.000,9,  -999.00,9,   -999.0,9,   -999.0,9,-999.0000,9,   -999.0,  9,     8.26,2,   -999.0,  -999.00,9,  -999.00,9,     0.07,2,     0.02,2,   -999.0,-999.0000, -999,9,   50,  28.7491,  21.9777,   -999.0,9
       RF02-10,  165E,RF-1775,  2,     21,02-12826,2,20021012,0704, 20.0308, 164.9475, 5329,     75.5,  28.1494,  35.2821,2,   -999.0,9,-999.0000,9,    207.9,2,     1.38,2,  -999.00,9,     0.00,2,     0.00,2,     0.00,2, -999.000,9, -999.000,9,  -999.00,9,   -999.0,9,   -999.0,9,-999.0000,9,   -999.0,  9,     8.25,2,   -999.0,  -999.00,9,  -999.00,9,     0.10,2,     0.05,2,   -999.0,-999.0000, -999,9,   75,  28.1315,  22.5637,   -999.0,9
       RF02-10,  165E,RF-1775,  2,     20,02-12821,2,20021012,0703, 20.0308, 164.9475, 5329,     99.3,  25.4270,  35.2343,2,   -999.0,9,-999.0000,9,    213.5,2,     1.48,2,  -999.00,9,     0.00,2,     0.00,2,     0.00,2, -999.000,9, -999.000,9,  -999.00,9,   -999.0,9,   -999.0,9,-999.0000,9,   -999.0,  9,     8.24,2,   -999.0,  -999.00,9,  -999.00,9,     0.18,2,     0.09,2,   -999.0,-999.0000, -999,9,   99,  25.4052,  23.3944,   -999.0,9
       RF02-10,  165E,RF-1775,  1,     16,02-12818,2,20021012,0234, 20.0083, 164.9913, 5348,    103.6,  25.1593,  35.2858,2,   -999.0,9,-999.0000,9,   -999.0,9,  -999.00,9,  -999.00,9,  -999.00,9,  -999.00,9,  -999.00,9, -999.000,9, -999.000,9,  -999.00,9,   -999.0,9,   -999.0,9,-999.0000,9,   -999.0,  9,  -999.00,9,   -999.0,  -999.00,9,  -999.00,9,  -999.00,9,  -999.00,9,   -999.0,-999.0000, -999,9,  103,  25.1367,  23.5156,   -999.0,9
       RF02-10,  165E,RF-1775,  2,     19,02-17875,2,20021012,0701, 20.0308, 164.9475, 5329,    124.9,  23.5018,  35.2215,2,   -999.0,9,-999.0000,9,    213.1,2,     1.67,2,  -999.00,9,     0.00,2,     0.00,2,     0.00,2, -999.000,9, -999.000,9,  -999.00,9,   -999.0,9,   -999.0,9,-999.0000,9,   -999.0,  9,     8.21,2,   -999.0,  -999.00,9,  -999.00,9,     0.16,2,     0.30,2,   -999.0,-999.0000, -999,9,  124,  23.4759,  23.9634,   -999.0,9
       RF02-10,  165E,RF-1775,  2,     18,02-12830,2,20021012,0659, 20.0308, 164.9475, 5329,    150.9,  21.6158,  35.1154,2,   -999.0,9,-999.0000,9,    201.6,2,     2.04,2,  -999.00,9,     0.54,2,     0.12,2,     0.05,2, -999.000,9, -999.000,9,  -999.00,9,   -999.0,9,   -999.0,9,-999.0000,9,   -999.0,  9,     8.16,2,   -999.0,  -999.00,9,  -999.00,9,     0.11,2,     0.22,2,   -999.0,-999.0000, -999,9,  150,  21.5863,  24.4208,   -999.0,9
       RF02-10,  165E,RF-1775,  1,     15,02-12809,2,20021012,0232, 20.0083, 164.9913, 5348,    152.0,  22.0708,  35.1563,2,   -999.0,9,-999.0000,9,   -999.0,9,  -999.00,9,  -999.00,9,  -999.00,9,  -999.00,9,  -999.00,9, -999.000,9, -999.000,9,  -999.00,9,   -999.0,9,   -999.0,9,-999.0000,9,   -999.0,  9,  -999.00,9,   -999.0,  -999.00,9,  -999.00,9,  -999.00,9,  -999.00,9,   -999.0,-999.0000, -999,9,  151,  22.0406,  24.3252,   -999.0,9
       RF02-10,  165E,RF-1775,  2,     17,02-17874,2,20021012,0658, 20.0308, 164.9475, 5329,    199.8,  18.7877,  34.8215,2,   -999.0,9,-999.0000,9,    202.6,2,     3.03,2,  -999.00,9,     2.16,2,     0.00,2,     0.17,2, -999.000,9, -999.000,9,  -999.00,9,   -999.0,9,   -999.0,9,-999.0000,9,   -999.0,  9,     8.12,2,   -999.0,  -999.00,9,  -999.00,9,     0.03,2,     0.05,2,   -999.0,-999.0000, -999,9,  198,  18.7523,  24.9476,   -999.0,9
       RF02-10,  165E,RF-1775,  1,     14,02-12817,2,20021012,0230, 20.0083, 164.9913, 5348,    201.7,  18.7188,  34.8199,2,   -999.0,9,-999.0000,9,   -999.0,9,  -999.00,9,  -999.00,9,  -999.00,9,  -999.00,9,  -999.00,9, -999.000,9, -999.000,9,  -999.00,9,   -999.0,9,   -999.0,9,-999.0000,9,   -999.0,  9,  -999.00,9,   -999.0,  -999.00,9,  -999.00,9,  -999.00,9,  -999.00,9,   -999.0,-999.0000, -999,9,  200,  18.6832,  24.9638,   -999.0,9
       RF02-10,  165E,RF-1775,  2,     16,02-12818,2,20021012,0656, 20.0308, 164.9475, 5329,    251.5,  16.6439,  34.6957,2,   -999.0,9,-999.0000,9,    195.0,2,     5.39,2,  -999.00,9,     6.12,2,     0.00,2,     0.42,2, -999.000,9, -999.000,9,  -999.00,9,   -999.0,9,   -999.0,9,-999.0000,9,   -999.0,  9,     8.07,2,   -999.0,  -999.00,9,  -999.00,9,  -999.00,9,  -999.00,9,   -999.0,-999.0000, -999,9,  250,  16.6030,  25.3742,   -999.0,9
       RF02-10,  165E,RF-1775,  1,     13,02-15822,2,20021012,0225, 20.0083, 164.9913, 5348,    252.1,  16.6511,  34.6894,2,   -999.0,9,-999.0000,9,   -999.0,9,  -999.00,9,  -999.00,9,  -999.00,9,  -999.00,9,  -999.00,9, -999.000,9, -999.000,9,  -999.00,9,   -999.0,9,   -999.0,9,-999.0000,9,   -999.0,  9,  -999.00,9,   -999.0,  -999.00,9,  -999.00,9,  -999.00,9,  -999.00,9,   -999.0,-999.0000, -999,9,  250,  16.6102,  25.3676,   -999.0,9
       RF02-10,  165E,RF-1775,  1,     12,02-13591,2,20021012,0225, 20.0083, 164.9913, 5348,    252.9,  16.7004,  34.6911,2,   -999.0,9,-999.0000,9,   -999.0,9,  -999.00,9,  -999.00,9,  -999.00,9,  -999.00,9,  -999.00,9, -999.000,9, -999.000,9,  -999.00,9,   -999.0,9,   -999.0,9,-999.0000,9,   -999.0,  9,  -999.00,9,   -999.0,  -999.00,9,  -999.00,9,  -999.00,9,  -999.00,9,   -999.0,-999.0000, -999,9,  251,  16.6592,  25.3575,   -999.0,9
       RF02-10,  165E,RF-1775,  2,     15,02-12809,2,20021012,0654, 20.0308, 164.9475, 5329,    300.4,  15.0633,  34.5762,2,   -999.0,9,-999.0000,9,    193.0,2,     8.02,2,  -999.00,9,     8.70,2,     0.00,2,     0.58,2, -999.000,9, -999.000,9,  -999.00,9,   -999.0,9,   -999.0,9,-999.0000,9,   -999.0,  9,     7.98,2,   -999.0,  -999.00,9,  -999.00,9,  -999.00,9,  -999.00,9,   -999.0,-999.0000, -999,9,  298,  15.0177,  25.6413,   -999.0,9
       RF02-10,  165E,RF-1775,  1,     11,02-13589,2,20021012,0223, 20.0083, 164.9913, 5348,    303.8,  14.8919,  34.5644,2,   -999.0,9,-999.0000,9,   -999.0,9,  -999.00,9,  -999.00,9,  -999.00,9,  -999.00,9,  -999.00,9, -999.000,9, -999.000,9,  -999.00,9,   -999.0,9,   -999.0,9,-999.0000,9,   -999.0,  9,  -999.00,9,   -999.0,  -999.00,9,  -999.00,9,  -999.00,9,  -999.00,9,   -999.0,-999.0000, -999,9,  302,  14.8462,  25.6697,   -999.0,9
       RF02-10,  165E,RF-1775,  2,     14,02-12817,2,20021012,0651, 20.0308, 164.9475, 5329,    403.5,  11.6837,  34.3264,2,   -999.0,9,-999.0000,9,    193.5,2,    16.07,2,  -999.00,9,    14.34,2,     0.00,2,     0.96,2, -999.000,9, -999.000,9,  -999.00,9,   -999.0,9,   -999.0,9,-999.0000,9,   -999.0,  9,  -999.00,9,   -999.0,  -999.00,9,  -999.00,9,  -999.00,9,  -999.00,9,   -999.0,-999.0000, -999,9,  401,  11.6319,  26.1352,   -999.0,9