BOTTLE,20130510GEMDJMAYT
EXPOCODE,SECT_ID,STNNBR,CASTNO,SAMPNO,BTLNBR,BTLNBR_FLAG_W,DATE,TIME,LATITUDE,LONGITUDE,DEPTH,CTDPRS,CTDTMP,CTDSAL,CTDSAL_FLAG_W,CTDOXY,CTDOXY_FLAG_W,SALNTY,SALNTY_FLAG_W,OXYGEN,OXYGEN_FLAG_W,SILCAT,SILCAT_FLAG_W,NITRAT,NITRAT_FLAG_W,NO2+NO3,NO2+NO3_FLAG_W,NITRIT,NITRIT_FLAG_W,PHSPHT,PHSPHT_FLAG_W,CFC-11,CFC-11_FLAG_W,CFC-12,CFC-12_FLAG_W,DELC13,DELC13_FLAG_W,TCARBN,TCARBN_FLAG_W,ALKALI,ALKALI_FLAG_W,PH,PH_FLAG_W,PH_TMP,PH_SCALE,PH_NBS,PH_NBS_FLAG_W,C13ERR,TOTALP,TOTALP_FLAG_W,AMMONI,AMMONI_FLAG_W,CHLORA,CHLORA_FLAG_W,PPHYTN,PPHYTN_FLAG_W,REVPRS,REVTMP,DEPTH_,DEPTH_FLAG,CTDDEP,THETA,SIGTHT,DOC,DOC_FLAG_W
,,,,,,,GMT,GMT,,,METER,DBAR,ITS-90,PSS-78,,UMOL/KG,,PSS-78,,UMOL/KG,,UMOL/KG,,UMOL/KG,,UMOL/KG,,UMOL/KG,,UMOL/KG,,PMOL/KG,,PMOL/KG,,/MILLE,,UMOL/KG,,UMOL/KG,,25_DEG_C,,DEG_C,,,,/MILLE,UMOL/KG,,UMOL/KG,,UG/L,,UG/L,,DBAR,ITS-90,METERS,,METERS,DEG_C,,UMOL/L,
       RF02-10,  165E,RF-1798,  1,     -9,      -9,5,20021029,1543, -2.9935, 164.9945, 4124,      0.0,  29.3345,  34.6829,2,   -999.0,9,-999.0000,9,    193.4,2,     1.66,2,  -999.00,9,     0.00,2,     0.00,2,     0.17,2, -999.000,9, -999.000,9,  -999.00,9,   -999.0,9,   -999.0,9,-999.0000,9,   -999.0,  9,     8.27,2,   -999.0,  -999.00,9,  -999.00,9,     0.14,2,     0.08,2,   -999.0,-999.0000, -999,9,    0,  29.3345,  21.7139,   -999.0,9
       RF02-10,  165E,RF-1798,  1,     21,02-12826,2,20021029,1541, -2.9935, 164.9945, 4124,     12.2,  29.2880,  34.6846,2,   -999.0,9,-999.0000,9,    195.5,2,     1.67,2,  -999.00,9,     0.00,2,     0.00,2,     0.15,2, -999.000,9, -999.000,9,  -999.00,9,   -999.0,9,   -999.0,9,-999.0000,9,   -999.0,  9,     8.28,2,   -999.0,  -999.00,9,  -999.00,9,     0.16,2,     0.09,2,   -999.0,-999.0000, -999,9,   12,  29.2850,  21.7318,   -999.0,9
       RF02-10,  165E,RF-1798,  1,     20,02-12821,2,20021029,1540, -2.9935, 164.9945, 4124,     27.1,  29.1516,  34.7225,2,   -999.0,9,-999.0000,9,    194.8,2,     1.59,2,  -999.00,9,     0.00,2,     0.00,2,     0.16,2, -999.000,9, -999.000,9,  -999.00,9,   -999.0,9,   -999.0,9,-999.0000,9,   -999.0,  9,     8.27,2,   -999.0,  -999.00,9,  -999.00,9,     0.19,2,     0.11,2,   -999.0,-999.0000, -999,9,   27,  29.1450,  21.8073,   -999.0,9
       RF02-10,  165E,RF-1798,  1,     19,02-17875,2,20021029,1539, -2.9935, 164.9945, 4124,     53.0,  29.0287,  34.7534,2,   -999.0,9,-999.0000,9,    193.4,2,     1.56,2,  -999.00,9,     0.03,2,     0.00,2,     0.18,2, -999.000,9, -999.000,9,  -999.00,9,   -999.0,9,   -999.0,9,-999.0000,9,   -999.0,  9,     8.26,2,   -999.0,  -999.00,9,  -999.00,9,     0.39,2,     0.26,2,   -999.0,-999.0000, -999,9,   53,  29.0159,  21.8736,   -999.0,9
       RF02-10,  165E,RF-1798,  1,     18,02-12830,2,20021029,1538, -2.9935, 164.9945, 4124,     77.3,  28.6853,  34.6761,2,   -999.0,9,-999.0000,9,    180.8,2,     1.85,2,  -999.00,9,     1.39,2,     0.29,2,     0.24,2, -999.000,9, -999.000,9,  -999.00,9,   -999.0,9,   -999.0,9,-999.0000,9,   -999.0,  9,     8.21,2,   -999.0,  -999.00,9,  -999.00,9,     0.29,2,     0.46,2,   -999.0,-999.0000, -999,9,   77,  28.6668,  21.9317,   -999.0,9
       RF02-10,  165E,RF-1798,  1,     17,02-17874,2,20021029,1537, -2.9935, 164.9945, 4124,    102.6,  25.5455,  35.3588,2,   -999.0,9,  35.3702,2,    142.3,2,     3.54,2,  -999.00,9,     8.38,2,     0.21,2,     0.69,2, -999.000,9, -999.000,9,  -999.00,9,   -999.0,9,   -999.0,9,-999.0000,9,   -999.0,  9,     8.10,2,   -999.0,  -999.00,9,  -999.00,9,     0.11,2,     0.33,2,   -999.0,-999.0000, -999,9,  102,  25.5228,  23.4522,   -999.0,9
       RF02-10,  165E,RF-1798,  1,     16,02-12818,2,20021029,1536, -2.9935, 164.9945, 4124,    128.0,  24.9364,  35.4915,2,   -999.0,9,-999.0000,9,    130.3,2,     3.47,2,  -999.00,9,     9.45,2,     0.01,2,     0.76,2, -999.000,9, -999.000,9,  -999.00,9,   -999.0,9,   -999.0,9,-999.0000,9,   -999.0,  9,     8.09,2,   -999.0,  -999.00,9,  -999.00,9,     0.06,2,     0.18,2,   -999.0,-999.0000, -999,9,  127,  24.9086,  23.7406,   -999.0,9
       RF02-10,  165E,RF-1798,  1,     15,02-12809,2,20021029,1534, -2.9935, 164.9945, 4124,    152.6,  24.0356,  35.5379,2,   -999.0,9,-999.0000,9,    127.3,2,     3.60,2,  -999.00,9,     9.98,2,     0.01,2,     0.81,2, -999.000,9, -999.000,9,  -999.00,9,   -999.0,9,   -999.0,9,-999.0000,9,   -999.0,  9,     8.07,2,   -999.0,  -999.00,9,  -999.00,9,     0.03,2,     0.09,2,   -999.0,-999.0000, -999,9,  152,  24.0034,  24.0476,   -999.0,9
       RF02-10,  165E,RF-1798,  1,     14,02-12817,2,20021029,1533, -2.9935, 164.9945, 4124,    203.5,  16.6275,  35.3193,2,   -999.0,9,  35.3164,2,    111.4,2,     8.96,2,  -999.00,9,    17.33,2,     0.00,2,     1.33,2, -999.000,9, -999.000,9,  -999.00,9,   -999.0,9,   -999.0,9,-999.0000,9,   -999.0,  9,     7.92,2,   -999.0,  -999.00,9,  -999.00,9,     0.00,2,     0.03,2,   -999.0,-999.0000, -999,9,  202,  16.5943,  25.8553,   -999.0,9
       RF02-10,  165E,RF-1798,  1,     13,02-15822,2,20021029,1531, -2.9935, 164.9945, 4124,    253.3,  12.7992,  34.9895,2,   -999.0,9,-999.0000,9,    129.1,2,    13.24,2,  -999.00,9,    20.62,2,     0.00,2,     1.49,2, -999.000,9, -999.000,9,  -999.00,9,   -999.0,9,   -999.0,9,-999.0000,9,   -999.0,  9,     7.86,2,   -999.0,  -999.00,9,  -999.00,9,  -999.00,9,  -999.00,9,   -999.0,-999.0000, -999,9,  252,  12.7647,  26.4318,   -999.0,9
       RF02-10,  165E,RF-1798,  1,     12,02-13591,2,20021029,1530, -2.9935, 164.9945, 4124,    304.1,  11.2018,  34.8369,2,   -999.0,9,-999.0000,9,    133.0,2,    16.44,2,  -999.00,9,    22.91,2,     0.00,2,     1.61,2, -999.000,9, -999.000,9,  -999.00,9,   -999.0,9,   -999.0,9,-999.0000,9,   -999.0,  9,     7.81,2,   -999.0,  -999.00,9,  -999.00,9,  -999.00,9,  -999.00,9,   -999.0,-999.0000, -999,9,  302,  11.1637,  26.6187,   -999.0,9
       RF02-10,  165E,RF-1798,  1,     11,02-13589,2,20021029,1527, -2.9935, 164.9945, 4124,    405.0,   9.2907,  34.6866,2,   -999.0,9,  34.6867,2,    111.1,2,    25.30,2,  -999.00,9,    28.98,2,     0.00,2,     2.01,2, -999.000,9, -999.000,9,  -999.00,9,   -999.0,9,   -999.0,9,-999.0000,9,   -999.0,  9,  -999.00,9,   -999.0,  -999.00,9,  -999.00,9,  -999.00,9,  -999.00,9,   -999.0,-999.0000, -999,9,  402,   9.2455,  26.8330,   -999.0,9
       RF02-10,  165E,RF-1798,  1,     10,02-12815,2,20021029,1525, -2.9935, 164.9945, 4124,    504.0,   8.2787,  34.6179,2,   -999.0,9,-999.0000,9,    116.3,2,    28.69,2,  -999.00,9,    30.48,2,     0.00,2,     2.10,2, -999.000,9, -999.000,9,  -999.00,9,   -999.0,9,   -999.0,9,-999.0000,9,   -999.0,  9,     7.72,2,   -999.0,  -999.00,9,  -999.00,9,  -999.00,9,  -999.00,9,   -999.0,-999.0000, -999,9,  501,   8.2260,  26.9397,   -999.0,9
       RF02-10,  165E,RF-1798,  1,      9,02-12807,2,20021029,1522, -2.9935, 164.9945, 4124,    605.7,   6.8198,  34.5502,2,   -999.0,9,  34.5554,2,    100.0,2,    42.26,2,  -999.00,9,    35.13,2,     0.00,2,     2.46,2, -999.000,9, -999.000,9,  -999.00,9,   -999.0,9,   -999.0,9,-999.0000,9,   -999.0,  9,  -999.00,9,   -999.0,  -999.00,9,  -999.00,9,  -999.00,9,  -999.00,9,   -999.0,-999.0000, -999,9,  601,   6.7627,  27.0970,   -999.0,9
       RF02-10,  165E,RF-1798,  1,      8,02-10154,2,20021029,1520, -2.9935, 164.9945, 4124,    706.5,   5.8194,  34.5389,2,   -999.0,9,-999.0000,9,     90.1,2,    55.98,2,  -999.00,9,    37.65,2,     0.00,2,     2.67,2, -999.000,9, -999.000,9,  -999.00,9,   -999.0,9,   -999.0,9,-999.0000,9,   -999.0,  9,     7.63,2,   -999.0,  -999.00,9,  -999.00,9,  -999.00,9,  -999.00,9,   -999.0,-999.0000, -999,9,  701,   5.7576,  27.2188,   -999.0,9
       RF02-10,  165E,RF-1798,  1,      7,02-15821,2,20021029,1518, -2.9935, 164.9945, 4124,    807.2,   5.3120,  34.5403,2,   -999.0,9,  34.5401,2,     89.0,2,    64.97,2,  -999.00,9,    38.30,2,     0.00,2,     2.75,2, -999.000,9, -999.000,9,  -999.00,9,   -999.0,9,   -999.0,9,-999.0000,9,   -999.0,  9,  -999.00,9,   -999.0,  -999.00,9,  -999.00,9,  -999.00,9,  -999.00,9,   -999.0,-999.0000, -999,9,  801,   5.2440,  27.2822,   -999.0,9
       RF02-10,  165E,RF-1798,  1,      6,02-17872,2,20021029,1515, -2.9935, 164.9945, 4124,    909.4,   4.8300,  34.5472,2,   -999.0,9,-999.0000,9,     94.7,2,    73.39,2,  -999.00,9,    38.28,2,     0.00,2,     2.74,2, -999.000,9, -999.000,9,  -999.00,9,   -999.0,9,   -999.0,9,-999.0000,9,   -999.0,  9,  -999.00,9,   -999.0,  -999.00,9,  -999.00,9,  -999.00,9,  -999.00,9,   -999.0,-999.0000, -999,9,  902,   4.7560,  27.3442,   -999.0,9
       RF02-10,  165E,RF-1798,  1,      5,02-10155,2,20021029,1513, -2.9935, 164.9945, 4124,   1009.8,   4.5064,  34.5457,2,   -999.0,9,  34.5497,2,     91.3,2,    81.76,2,  -999.00,9,    38.90,2,     0.00,2,     2.79,2, -999.000,9, -999.000,9,  -999.00,9,   -999.0,9,   -999.0,9,-999.0000,9,   -999.0,  9,     7.62,2,   -999.0,  -999.00,9,  -999.00,9,  -999.00,9,  -999.00,9,   -999.0,-999.0000, -999,9, 1002,   4.4259,  27.3795,   -999.0,9
       RF02-10,  165E,RF-1798,  1,      4,02-13579,2,20021029,1508, -2.9935, 164.9945, 4124,   1262.7,   3.5581,  34.5731,2,   -999.0,9,  34.5737,2,    105.7,2,    98.95,2,  -999.00,9,    38.26,2,     0.00,2,     2.72,2, -999.000,9, -999.000,9,  -999.00,9,   -999.0,9,   -999.0,9,-999.0000,9,   -999.0,  9,  -999.00,9,   -999.0,  -999.00,9,  -999.00,9,  -999.00,9,  -999.00,9,   -999.0,-999.0000, -999,9, 1252,   3.4642,  27.5004,   -999.0,9
       RF02-10,  165E,RF-1798,  1,      3,02-13590,2,20021029,1503, -2.9935, 164.9945, 4124,   1516.4,   3.0495,  34.5968,2,   -999.0,9,  34.5971,2,    108.2,2,   111.91,2,  -999.00,9,    38.46,2,     0.00,2,     2.73,2, -999.000,9, -999.000,9,  -999.00,9,   -999.0,9,   -999.0,9,-999.0000,9,   -999.0,  9,     7.63,2,   -999.0,  -999.00,9,  -999.00,9,  -999.00,9,  -999.00,9,   -999.0,-999.0000, -999,9, 1503,   2.9397,  27.5688,   -999.0,9
       RF02-10,  165E,RF-1798,  1,      2,02-12827,2,20021029,1458, -2.9935, 164.9945, 4124,   1770.3,   2.5953,  34.6190,2,   -999.0,9,  34.6176,2,    113.0,2,   121.95,2,  -999.00,9,    38.16,2,     0.00,2,     2.70,2, -999.000,9, -999.000,9,  -999.00,9,   -999.0,9,   -999.0,9,-999.0000,9,   -999.0,  9,     7.63,2,   -999.0,  -999.00,9,  -999.00,9,  -999.00,9,  -999.00,9,   -999.0,-999.0000, -999,9, 1753,   2.4697,  27.6279,   -999.0,9
       RF02-10,  165E,RF-1798,  1,      1,02-17871,2,20021029,1453, -2.9935, 164.9945, 4124,   2023.9,   2.2519,  34.6384,2,   -999.0,9,  34.6369,2,    117.4,2,   130.35,2,  -999.00,9,    38.10,2,     0.00,2,     2.67,2, -999.000,9, -999.000,9,  -999.00,9,   -999.0,9,   -999.0,9,-999.0000,9,   -999.0,  9,     7.63,2,   -999.0,  -999.00,9,  -999.00,9,  -999.00,9,  -999.00,9,   -999.0,-999.0000, -999,9, 2003,   2.1095,  27.6732,   -999.0,9
       RF02-10,  165E,RF-1801,  2,     -9,      -9,5,20021030,1230, -5.9935, 164.9793, 3612,      0.0,  29.4960,  34.6024,2,   -999.0,9,-999.0000,9,    192.1,2,     1.71,2,  -999.00,9,     0.10,2,     0.09,2,     0.24,2, -999.000,9, -999.000,9,  -999.00,9,   -999.0,9,   -999.0,9,-999.0000,9,   -999.0,  9,     8.27,2,   -999.0,  -999.00,9,  -999.00,9,     0.10,2,     0.04,2,   -999.0,-999.0000, -999,9,    0,  29.4960,  21.5991,   -999.0,9
       RF02-10,  165E,RF-1801,  2,     21,02-12826,2,20021030,1228, -5.9935, 164.9793, 3612,     10.4,  29.5001,  34.6260,2,   -999.0,9,-999.0000,9,    193.7,2,     1.66,2,  -999.00,9,     0.07,2,     0.08,2,     0.23,2, -999.000,9, -999.000,9,  -999.00,9,   -999.0,9,   -999.0,9,-999.0000,9,   -999.0,  9,     8.28,2,   -999.0,  -999.00,9,  -999.00,9,     0.10,2,     0.05,2,   -999.0,-999.0000, -999,9,   10,  29.4975,  21.6163,   -999.0,9
       RF02-10,  165E,RF-1801,  2,     20,02-12821,2,20021030,1226, -5.9935, 164.9793, 3612,     24.8,  29.3618,  34.6648,2,   -999.0,9,-999.0000,9,    195.5,2,     1.65,2,  -999.00,9,     0.07,2,     0.08,2,     0.23,2, -999.000,9, -999.000,9,  -999.00,9,   -999.0,9,   -999.0,9,-999.0000,9,   -999.0,  9,     8.27,2,   -999.0,  -999.00,9,  -999.00,9,     0.11,2,     0.05,2,   -999.0,-999.0000, -999,9,   25,  29.3558,  21.6932,   -999.0,9
       RF02-10,  165E,RF-1801,  2,     19,02-17875,2,20021030,1225, -5.9935, 164.9793, 3612,     50.5,  29.1616,  34.7165,2,   -999.0,9,-999.0000,9,    195.1,2,     1.81,2,  -999.00,9,     0.22,2,     0.11,2,     0.25,2, -999.000,9, -999.000,9,  -999.00,9,   -999.0,9,   -999.0,9,-999.0000,9,   -999.0,  9,     8.26,2,   -999.0,  -999.00,9,  -999.00,9,     0.28,2,     0.19,2,   -999.0,-999.0000, -999,9,   50,  29.1493,  21.8013,   -999.0,9
       RF02-10,  165E,RF-1801,  2,     18,02-12830,2,20021030,1224, -5.9935, 164.9793, 3612,     75.0,  28.5883,  35.0838,2,   -999.0,9,  35.5917,4,    177.2,2,     2.34,2,  -999.00,9,     3.63,2,     0.76,2,     0.45,2, -999.000,9, -999.000,9,  -999.00,9,   -999.0,9,   -999.0,9,-999.0000,9,   -999.0,  9,     8.20,2,   -999.0,  -999.00,9,  -999.00,9,     0.38,2,     0.56,2,   -999.0,-999.0000, -999,9,   75,  28.5704,  22.2699,   -999.0,9
       RF02-10,  165E,RF-1801,  2,     17,02-17874,2,20021030,1222, -5.9935, 164.9793, 3612,    101.0,  28.0787,  35.5261,2,   -999.0,9,-999.0000,9,    162.5,2,     2.76,2,  -999.00,9,     7.50,2,     0.66,2,     0.72,2, -999.000,9, -999.000,9,  -999.00,9,   -999.0,9,   -999.0,9,-999.0000,9,   -999.0,  9,     8.15,2,   -999.0,  -999.00,9,  -999.00,9,     0.25,2,     0.57,2,   -999.0,-999.0000, -999,9,  100,  28.0548,  22.7724,   -999.0,9
       RF02-10,  165E,RF-1801,  1,     16,02-12818,2,20021030,1011, -6.0030, 164.9947, 3609,    104.8,  27.9057,  35.5947,2,   -999.0,9,-999.0000,9,   -999.0,9,  -999.00,9,  -999.00,9,  -999.00,9,  -999.00,9,  -999.00,9, -999.000,9, -999.000,9,  -999.00,9,   -999.0,9,   -999.0,9,-999.0000,9,   -999.0,  9,  -999.00,9,   -999.0,  -999.00,9,  -999.00,9,  -999.00,9,  -999.00,9,   -999.0,-999.0000, -999,9,  104,  27.8811,  22.8809,   -999.0,9
       RF02-10,  165E,RF-1801,  2,     16,02-12818,2,20021030,1221, -5.9935, 164.9793, 3612,    126.0,  27.3066,  35.5956,2,   -999.0,9,-999.0000,9,    149.4,2,     3.07,2,  -999.00,9,     8.82,2,     0.17,2,     0.81,2, -999.000,9, -999.000,9,  -999.00,9,   -999.0,9,   -999.0,9,-999.0000,9,   -999.0,  9,     8.13,2,   -999.0,  -999.00,9,  -999.00,9,     0.09,2,     0.31,2,   -999.0,-999.0000, -999,9,  125,  27.2774,  23.0774,   -999.0,9
       RF02-10,  165E,RF-1801,  2,     15,02-12809,2,20021030,1219, -5.9935, 164.9793, 3612,    152.3,  25.9644,  35.6811,2,   -999.0,9,  35.7524,2,    139.2,2,     2.98,2,  -999.00,9,     9.24,2,     0.13,2,     0.85,2, -999.000,9, -999.000,9,  -999.00,9,   -999.0,9,   -999.0,9,-999.0000,9,   -999.0,  9,     8.10,2,   -999.0,  -999.00,9,  -999.00,9,     0.07,2,     0.16,2,   -999.0,-999.0000, -999,9,  151,  25.9304,  23.5690,   -999.0,9
       RF02-10,  165E,RF-1801,  1,     15,02-12809,2,20021030,1009, -6.0030, 164.9947, 3609,    154.1,  25.8174,  35.8555,2,   -999.0,9,-999.0000,9,   -999.0,9,  -999.00,9,  -999.00,9,  -999.00,9,  -999.00,9,  -999.00,9, -999.000,9, -999.000,9,  -999.00,9,   -999.0,9,   -999.0,9,-999.0000,9,   -999.0,  9,  -999.00,9,   -999.0,  -999.00,9,  -999.00,9,  -999.00,9,  -999.00,9,   -999.0,-999.0000, -999,9,  153,  25.7831,  23.7466,   -999.0,9
       RF02-10,  165E,RF-1801,  1,     13,02-15822,2,20021030,1007, -6.0030, 164.9947, 3609,    180.1,  23.5052,  35.9554,2,   -999.0,9,-999.0000,9,   -999.0,9,  -999.00,9,  -999.00,9,  -999.00,9,  -999.00,9,  -999.00,9, -999.000,9, -999.000,9,  -999.00,9,   -999.0,9,   -999.0,9,-999.0000,9,   -999.0,  9,  -999.00,9,   -999.0,  -999.00,9,  -999.00,9,  -999.00,9,  -999.00,9,   -999.0,-999.0000, -999,9,  179,  23.4677,  24.5222,   -999.0,9
       RF02-10,  165E,RF-1801,  1,     14,02-12817,2,20021030,1008, -6.0030, 164.9947, 3609,    180.4,  23.5040,  35.9744,2,   -999.0,9,-999.0000,9,   -999.0,9,  -999.00,9,  -999.00,9,  -999.00,9,  -999.00,9,  -999.00,9, -999.000,9, -999.000,9,  -999.00,9,   -999.0,9,   -999.0,9,-999.0000,9,   -999.0,  9,  -999.00,9,   -999.0,  -999.00,9,  -999.00,9,  -999.00,9,  -999.00,9,   -999.0,-999.0000, -999,9,  179,  23.4664,  24.5369,   -999.0,9
       RF02-10,  165E,RF-1801,  2,     14,02-12817,2,20021030,1217, -5.9935, 164.9793, 3612,    202.0,  21.0299,  35.7531,2,   -999.0,9,-999.0000,9,    125.2,2,     4.26,2,  -999.00,9,    11.56,2,     0.10,2,     1.04,2, -999.000,9, -999.000,9,  -999.00,9,   -999.0,9,   -999.0,9,-999.0000,9,   -999.0,  9,     7.99,2,   -999.0,  -999.00,9,  -999.00,9,     0.02,2,     0.03,2,   -999.0,-999.0000, -999,9,  201,  20.9910,  25.0698,   -999.0,9
       RF02-10,  165E,RF-1801,  1,     12,02-13591,2,20021030,1006, -6.0030, 164.9947, 3609,    204.5,  21.1183,  35.7511,2,   -999.0,9,-999.0000,9,   -999.0,9,  -999.00,9,  -999.00,9,  -999.00,9,  -999.00,9,  -999.00,9, -999.000,9, -999.000,9,  -999.00,9,   -999.0,9,   -999.0,9,-999.0000,9,   -999.0,  9,  -999.00,9,   -999.0,  -999.00,9,  -999.00,9,  -999.00,9,  -999.00,9,   -999.0,-999.0000, -999,9,  203,  21.0788,  25.0443,   -999.0,9
       RF02-10,  165E,RF-1801,  2,     13,02-15822,2,20021030,1216, -5.9935, 164.9793, 3612,    252.6,  14.6258,  35.1363,2,   -999.0,9,-999.0000,9,     94.0,2,    12.10,2,  -999.00,9,    21.05,2,     0.09,2,     1.66,2, -999.000,9, -999.000,9,  -999.00,9,   -999.0,9,   -999.0,9,-999.0000,9,   -999.0,  9,     7.84,2,   -999.0,  -999.00,9,  -999.00,9,  -999.00,9,  -999.00,9,   -999.0,-999.0000, -999,9,  251,  14.5881,  26.1669,   -999.0,9
       RF02-10,  165E,RF-1801,  1,     11,02-13589,2,20021030,1004, -6.0030, 164.9947, 3609,    255.1,  15.2323,  35.1936,2,   -999.0,9,-999.0000,9,   -999.0,9,  -999.00,9,  -999.00,9,  -999.00,9,  -999.00,9,  -999.00,9, -999.000,9, -999.000,9,  -999.00,9,   -999.0,9,   -999.0,9,-999.0000,9,   -999.0,  9,  -999.00,9,   -999.0,  -999.00,9,  -999.00,9,  -999.00,9,  -999.00,9,   -999.0,-999.0000, -999,9,  254,  15.1932,  26.0786,   -999.0,9
       RF02-10,  165E,RF-1801,  2,     12,02-13591,2,20021030,1214, -5.9935, 164.9793, 3612,    302.2,  12.1230,  34.9248,2,   -999.0,9,  34.7373,2,    103.0,2,    16.64,2,  -999.00,9,    24.38,2,     0.09,2,     1.85,2, -999.000,9, -999.000,9,  -999.00,9,   -999.0,9,   -999.0,9,-999.0000,9,   -999.0,  9,     7.79,2,   -999.0,  -999.00,9,  -999.00,9,  -999.00,9,  -999.00,9,   -999.0,-999.0000, -999,9,  300,  12.0831,  26.5148,   -999.0,9
       RF02-10,  165E,RF-1801,  1,     10,02-12815,2,20021030,1003, -6.0030, 164.9947, 3609,    305.9,  12.2352,  34.9313,2,   -999.0,9,-999.0000,9,   -999.0,9,  -999.00,9,  -999.00,9,  -999.00,9,  -999.00,9,  -999.00,9, -999.000,9, -999.000,9,  -999.00,9,   -999.0,9,   -999.0,9,-999.0000,9,   -999.0,  9,  -999.00,9,   -999.0,  -999.00,9,  -999.00,9,  -999.00,9,  -999.00,9,   -999.0,-999.0000, -999,9,  304,  12.1946,  26.4983,   -999.0,9
       RF02-10,  165E,RF-1801,  2,     11,02-13589,2,20021030,1211, -5.9935, 164.9793, 3612,    403.0,   9.6754,  34.7284,2,   -999.0,9,-999.0000,9,    113.4,2,    21.72,2,  -999.00,9,    27.48,2,     0.09,2,     2.01,2, -999.000,9, -999.000,9,  -999.00,9,   -999.0,9,   -999.0,9,-999.0000,9,   -999.0,  9,  -999.00,9,   -999.0,  -999.00,9,  -999.00,9,  -999.00,9,  -999.00,9,   -999.0,-999.0000, -999,9,  400,   9.6292,  26.8025,   -999.0,9
       RF02-10,  165E,RF-1801,  1,      9,02-12807,2,20021030,1000, -6.0030, 164.9947, 3609,    406.6,   9.6539,  34.7191,2,   -999.0,9,-999.0000,9,   -999.0,9,  -999.00,9,  -999.00,9,  -999.00,9,  -999.00,9,  -999.00,9, -999.000,9, -999.000,9,  -999.00,9,   -999.0,9,   -999.0,9,-999.0000,9,   -999.0,  9,  -999.00,9,   -999.0,  -999.00,9,  -999.00,9,  -999.00,9,  -999.00,9,   -999.0,-999.0000, -999,9,  404,   9.6074,  26.7989,   -999.0,9
       RF02-10,  165E,RF-1801,  2,     10,02-12815,2,20021030,1209, -5.9935, 164.9793, 3612,    503.6,   8.0955,  34.6128,2,   -999.0,9,  34.5517,2,    118.3,2,    28.86,2,  -999.00,9,    30.64,2,     0.08,2,     2.20,2, -999.000,9, -999.000,9,  -999.00,9,   -999.0,9,   -999.0,9,-999.0000,9,   -999.0,  9,     7.72,2,   -999.0,  -999.00,9,  -999.00,9,  -999.00,9,  -999.00,9,   -999.0,-999.0000, -999,9,  500,   8.0435,  26.9632,   -999.0,9