BOTTLE,20130510GEMDJMAYT
EXPOCODE,SECT_ID,STNNBR,CASTNO,SAMPNO,BTLNBR,BTLNBR_FLAG_W,DATE,TIME,LATITUDE,LONGITUDE,DEPTH,CTDPRS,CTDTMP,CTDSAL,CTDSAL_FLAG_W,CTDOXY,CTDOXY_FLAG_W,SALNTY,SALNTY_FLAG_W,OXYGEN,OXYGEN_FLAG_W,SILCAT,SILCAT_FLAG_W,NITRAT,NITRAT_FLAG_W,NO2+NO3,NO2+NO3_FLAG_W,NITRIT,NITRIT_FLAG_W,PHSPHT,PHSPHT_FLAG_W,CFC-11,CFC-11_FLAG_W,CFC-12,CFC-12_FLAG_W,DELC13,DELC13_FLAG_W,TCARBN,TCARBN_FLAG_W,ALKALI,ALKALI_FLAG_W,PH,PH_FLAG_W,PH_TMP,PH_SCALE,PH_NBS,PH_NBS_FLAG_W,C13ERR,TOTALP,TOTALP_FLAG_W,AMMONI,AMMONI_FLAG_W,CHLORA,CHLORA_FLAG_W,PPHYTN,PPHYTN_FLAG_W,REVPRS,REVTMP,DEPTH_,DEPTH_FLAG,CTDDEP,THETA,SIGTHT,DOC,DOC_FLAG_W
,,,,,,,GMT,GMT,,,METER,DBAR,ITS-90,PSS-78,,UMOL/KG,,PSS-78,,UMOL/KG,,UMOL/KG,,UMOL/KG,,UMOL/KG,,UMOL/KG,,UMOL/KG,,PMOL/KG,,PMOL/KG,,/MILLE,,UMOL/KG,,UMOL/KG,,25_DEG_C,,DEG_C,,,,/MILLE,UMOL/KG,,UMOL/KG,,UG/L,,UG/L,,DBAR,ITS-90,METERS,,METERS,DEG_C,,UMOL/L,
       RF02-10,  165E,RF-1777,  2,      8,02-10154,2,20021013,0358, 17.9793, 164.8140, 5280,    505.8,   7.9815,  34.1876,2,   -999.0,9,-999.0000,9,   -999.0,9,  -999.00,9,  -999.00,9,  -999.00,9,  -999.00,9,  -999.00,9, -999.000,9, -999.000,9,  -999.00,9,   -999.0,9,   -999.0,9,-999.0000,9,   -999.0,  9,  -999.00,9,   -999.0,  -999.00,9,  -999.00,9,  -999.00,9,  -999.00,9,   -999.0,-999.0000, -999,9,  502,   7.9299,  26.6461,   -999.0,9
       RF02-10,  165E,RF-1777,  2,      9,02-12807,2,20021013,0359, 17.9793, 164.8140, 5280,    508.1,   7.9460,  34.1906,2,   -999.0,9,-999.0000,9,   -999.0,9,  -999.00,9,  -999.00,9,  -999.00,9,  -999.00,9,  -999.00,9, -999.000,9, -999.000,9,  -999.00,9,   -999.0,9,   -999.0,9,-999.0000,9,   -999.0,  9,  -999.00,9,   -999.0,  -999.00,9,  -999.00,9,  -999.00,9,  -999.00,9,   -999.0,-999.0000, -999,9,  504,   7.8944,  26.6538,   -999.0,9
       RF02-10,  165E,RF-1777,  2,      7,02-15821,2,20021013,0355, 17.9793, 164.8140, 5280,    603.8,   6.2586,  34.2456,2,   -999.0,9,-999.0000,9,   -999.0,9,  -999.00,9,  -999.00,9,  -999.00,9,  -999.00,9,  -999.00,9, -999.000,9, -999.000,9,  -999.00,9,   -999.0,9,   -999.0,9,-999.0000,9,   -999.0,  9,  -999.00,9,   -999.0,  -999.00,9,  -999.00,9,  -999.00,9,  -999.00,9,   -999.0,-999.0000, -999,9,  599,   6.2045,  26.9305,   -999.0,9
       RF02-10,  165E,RF-1777,  1,     12,02-13591,2,20021012,2314, 17.9950, 164.9540, 5432,    604.9,   6.0363,  34.2738,2,   -999.0,9,  34.2736,2,     54.8,2,    70.81,2,  -999.00,9,    37.09,2,     0.01,2,     2.73,2, -999.000,9, -999.000,9,  -999.00,9,   -999.0,9,   -999.0,9,-999.0000,9,   -999.0,  9,  -999.00,9,   -999.0,  -999.00,9,  -999.00,9,  -999.00,9,  -999.00,9,   -999.0,-999.0000, -999,9,  600,   5.9830,  26.9809,   -999.0,9
       RF02-10,  165E,RF-1777,  2,      6,02-17872,2,20021013,0352, 17.9793, 164.8140, 5280,    704.8,   5.6437,  34.3752,2,   -999.0,9,-999.0000,9,   -999.0,9,  -999.00,9,  -999.00,9,  -999.00,9,  -999.00,9,  -999.00,9, -999.000,9, -999.000,9,  -999.00,9,   -999.0,9,   -999.0,9,-999.0000,9,   -999.0,  9,  -999.00,9,   -999.0,  -999.00,9,  -999.00,9,  -999.00,9,  -999.00,9,   -999.0,-999.0000, -999,9,  699,   5.5832,  27.1108,   -999.0,9
       RF02-10,  165E,RF-1777,  1,     11,02-13589,2,20021012,2310, 17.9950, 164.9540, 5432,    705.6,   5.5272,  34.4037,2,   -999.0,9,-999.0000,9,     52.3,2,    79.07,2,  -999.00,9,    38.58,2,     0.01,2,     2.83,2, -999.000,9, -999.000,9,  -999.00,9,   -999.0,9,   -999.0,9,-999.0000,9,   -999.0,  9,     7.53,2,   -999.0,  -999.00,9,  -999.00,9,  -999.00,9,  -999.00,9,   -999.0,-999.0000, -999,9,  700,   5.4672,  27.1474,   -999.0,9
       RF02-10,  165E,RF-1777,  2,      5,02-10155,2,20021013,0349, 17.9793, 164.8140, 5280,    805.6,   5.1919,  34.4523,2,   -999.0,9,-999.0000,9,   -999.0,9,  -999.00,9,  -999.00,9,  -999.00,9,  -999.00,9,  -999.00,9, -999.000,9, -999.000,9,  -999.00,9,   -999.0,9,   -999.0,9,-999.0000,9,   -999.0,  9,  -999.00,9,   -999.0,  -999.00,9,  -999.00,9,  -999.00,9,  -999.00,9,   -999.0,-999.0000, -999,9,  799,   5.1248,  27.2265,   -999.0,9
       RF02-10,  165E,RF-1777,  1,     10,02-12815,2,20021012,2307, 17.9950, 164.9540, 5432,    805.8,   5.1536,  34.4645,2,   -999.0,9,  34.4624,2,     54.6,2,    84.85,2,  -999.00,9,    39.21,2,     0.01,2,     2.86,2, -999.000,9, -999.000,9,  -999.00,9,   -999.0,9,   -999.0,9,-999.0000,9,   -999.0,  9,  -999.00,9,   -999.0,  -999.00,9,  -999.00,9,  -999.00,9,  -999.00,9,   -999.0,-999.0000, -999,9,  799,   5.0867,  27.2407,   -999.0,9
       RF02-10,  165E,RF-1777,  1,      9,02-12807,2,20021012,2302, 17.9950, 164.9540, 5432,    907.4,   4.7675,  34.4984,2,   -999.0,9,-999.0000,9,     56.5,2,    91.34,2,  -999.00,9,    39.80,2,     0.01,2,     2.90,2, -999.000,9, -999.000,9,  -999.00,9,   -999.0,9,   -999.0,9,-999.0000,9,   -999.0,  9,  -999.00,9,   -999.0,  -999.00,9,  -999.00,9,  -999.00,9,  -999.00,9,   -999.0,-999.0000, -999,9,  900,   4.6942,  27.3124,   -999.0,9
       RF02-10,  165E,RF-1777,  2,      4,02-13579,2,20021013,0345, 17.9793, 164.8140, 5280,    908.6,   4.7427,  34.4958,2,   -999.0,9,-999.0000,9,   -999.0,9,  -999.00,9,  -999.00,9,  -999.00,9,  -999.00,9,  -999.00,9, -999.000,9, -999.000,9,  -999.00,9,   -999.0,9,   -999.0,9,-999.0000,9,   -999.0,  9,  -999.00,9,   -999.0,  -999.00,9,  -999.00,9,  -999.00,9,  -999.00,9,   -999.0,-999.0000, -999,9,  901,   4.6694,  27.3130,   -999.0,9
       RF02-10,  165E,RF-1777,  1,      8,02-10154,2,20021012,2259, 17.9950, 164.9540, 5432,   1006.1,   4.4260,  34.5179,2,   -999.0,9,  34.5175,2,     62.4,2,    97.26,2,  -999.00,9,    39.67,2,     0.01,2,     2.88,2, -999.000,9, -999.000,9,  -999.00,9,   -999.0,9,   -999.0,9,-999.0000,9,   -999.0,  9,     7.55,2,   -999.0,  -999.00,9,  -999.00,9,  -999.00,9,  -999.00,9,   -999.0,-999.0000, -999,9,  998,   4.3465,  27.3660,   -999.0,9
       RF02-10,  165E,RF-1777,  2,      3,02-13590,2,20021013,0342, 17.9793, 164.8140, 5280,   1017.5,   4.3440,  34.5155,2,   -999.0,9,-999.0000,9,   -999.0,9,  -999.00,9,  -999.00,9,  -999.00,9,  -999.00,9,  -999.00,9, -999.000,9, -999.000,9,  -999.00,9,   -999.0,9,   -999.0,9,-999.0000,9,   -999.0,  9,  -999.00,9,   -999.0,  -999.00,9,  -999.00,9,  -999.00,9,  -999.00,9,   -999.0,-999.0000, -999,9, 1009,   4.2642,  27.3729,   -999.0,9
       RF02-10,  165E,RF-1777,  2,      2,02-12827,2,20021013,0341, 17.9793, 164.8140, 5280,   1018.3,   4.3362,  34.5140,2,   -999.0,9,-999.0000,9,   -999.0,9,  -999.00,9,  -999.00,9,  -999.00,9,  -999.00,9,  -999.00,9, -999.000,9, -999.000,9,  -999.00,9,   -999.0,9,   -999.0,9,-999.0000,9,   -999.0,  9,  -999.00,9,   -999.0,  -999.00,9,  -999.00,9,  -999.00,9,  -999.00,9,   -999.0,-999.0000, -999,9, 1010,   4.2564,  27.3726,   -999.0,9
       RF02-10,  165E,RF-1777,  2,      1,02-17871,2,20021013,0340, 17.9793, 164.8140, 5280,   1018.5,   4.3377,  34.5139,2,   -999.0,9,-999.0000,9,   -999.0,9,  -999.00,9,  -999.00,9,  -999.00,9,  -999.00,9,  -999.00,9, -999.000,9, -999.000,9,  -999.00,9,   -999.0,9,   -999.0,9,-999.0000,9,   -999.0,  9,  -999.00,9,   -999.0,  -999.00,9,  -999.00,9,  -999.00,9,  -999.00,9,   -999.0,-999.0000, -999,9, 1010,   4.2578,  27.3723,   -999.0,9
       RF02-10,  165E,RF-1777,  1,      7,02-15821,2,20021012,2253, 17.9950, 164.9540, 5432,   1261.6,   3.5257,  34.5539,2,   -999.0,9,-999.0000,9,     69.5,2,   114.88,2,  -999.00,9,    40.10,2,     0.01,2,     2.91,2, -999.000,9, -999.000,9,  -999.00,9,   -999.0,9,   -999.0,9,-999.0000,9,   -999.0,  9,  -999.00,9,   -999.0,  -999.00,9,  -999.00,9,  -999.00,9,  -999.00,9,   -999.0,-999.0000, -999,9, 1250,   3.4323,  27.4882,   -999.0,9
       RF02-10,  165E,RF-1777,  1,      6,02-17872,3,20021012,2244, 17.9950, 164.9540, 5432,   1514.0,   2.9287,  34.5797,2,   -999.0,9,  34.5771,2,     78.7,2,   126.82,2,  -999.00,9,    39.82,2,     0.01,2,     2.85,2, -999.000,9, -999.000,9,  -999.00,9,   -999.0,9,   -999.0,9,-999.0000,9,   -999.0,  9,     7.58,2,   -999.0,  -999.00,9,  -999.00,9,  -999.00,9,  -999.00,9,   -999.0,-999.0000, -999,9, 1499,   2.8205,  27.5659,   -999.0,9
       RF02-10,  165E,RF-1777,  1,      5,02-10155,2,20021012,2235, 17.9950, 164.9540, 5432,   1768.6,   2.4580,  34.5991,2,   -999.0,9,-999.0000,9,     90.9,2,   135.56,2,  -999.00,9,    39.28,2,     0.01,2,     2.79,2, -999.000,9, -999.000,9,  -999.00,9,   -999.0,9,   -999.0,9,-999.0000,9,   -999.0,  9,     7.58,2,   -999.0,  -999.00,9,  -999.00,9,  -999.00,9,  -999.00,9,   -999.0,-999.0000, -999,9, 1751,   2.3345,  27.6233,   -999.0,9
       RF02-10,  165E,RF-1777,  1,      4,02-13579,2,20021012,2226, 17.9950, 164.9540, 5432,   2022.9,   2.1639,  34.6192,2,   -999.0,9,  34.6188,2,    100.3,2,   141.00,2,  -999.00,9,    38.90,2,     0.01,2,     2.75,2, -999.000,9, -999.000,9,  -999.00,9,   -999.0,9,   -999.0,9,-999.0000,9,   -999.0,  9,     7.59,2,   -999.0,  -999.00,9,  -999.00,9,  -999.00,9,  -999.00,9,   -999.0,-999.0000, -999,9, 2001,   2.0230,  27.6648,   -999.0,9
       RF02-10,  165E,RF-1777,  1,      3,02-13590,2,20021012,2153, 17.9950, 164.9540, 5432,   3041.9,   1.6092,  34.6682,2,   -999.0,9,  34.6672,2,   -999.0,9,  -999.00,9,  -999.00,9,  -999.00,9,  -999.00,9,  -999.00,9, -999.000,9, -999.000,9,  -999.00,9,   -999.0,9,   -999.0,9,-999.0000,9,   -999.0,  9,  -999.00,9,   -999.0,  -999.00,9,  -999.00,9,  -999.00,9,  -999.00,9,   -999.0,-999.0000, -999,9, 3002,   1.3860,  27.7521,   -999.0,9
       RF02-10,  165E,RF-1777,  1,      2,02-12827,2,20021012,2119, 17.9950, 164.9540, 5432,   4064.5,   1.4465,  34.6876,2,   -999.0,9,  34.6863,2,   -999.0,9,  -999.00,9,  -999.00,9,  -999.00,9,  -999.00,9,  -999.00,9, -999.000,9, -999.000,9,  -999.00,9,   -999.0,9,   -999.0,9,-999.0000,9,   -999.0,  9,  -999.00,9,   -999.0,  -999.00,9,  -999.00,9,  -999.00,9,  -999.00,9,   -999.0,-999.0000, -999,9, 4002,   1.1221,  27.7861,   -999.0,9
       RF02-10,  165E,RF-1777,  1,      1,02-17871,2,20021012,2102, 17.9950, 164.9540, 5432,   5089.9,   1.3846,  34.6999,2,   -999.0,9,  34.6989,2,   -999.0,9,  -999.00,9,  -999.00,9,  -999.00,9,  -999.00,9,  -999.00,9, -999.000,9, -999.000,9,  -999.00,9,   -999.0,9,   -999.0,9,-999.0000,9,   -999.0,  9,  -999.00,9,   -999.0,  -999.00,9,  -999.00,9,  -999.00,9,  -999.00,9,   -999.0,-999.0000, -999,9, 5000,   0.9433,  27.8080,   -999.0,9
       RF02-10,  165E,RF-1778,  1,     -9,      -9,5,20021014,0818, 16.9875, 164.9970, 5410,      0.0,  28.8298,  35.1594,2,   -999.0,9,-999.0000,9,    194.2,2,     1.21,2,  -999.00,9,     0.14,2,     0.01,2,     0.00,2, -999.000,9, -999.000,9,  -999.00,9,   -999.0,9,   -999.0,9,-999.0000,9,   -999.0,  9,  -999.00,9,   -999.0,  -999.00,9,  -999.00,9,  -999.00,9,  -999.00,9,   -999.0,-999.0000, -999,9,    0,  28.8298,  22.2406,   -999.0,9
       RF02-10,  165E,RF-1778,  1,     21,02-12826,2,20021014,0816, 16.9875, 164.9970, 5410,     11.3,  28.8351,  35.1608,2,   -999.0,9,-999.0000,9,    195.7,2,     1.17,2,  -999.00,9,     0.12,2,     0.01,2,     0.00,2, -999.000,9, -999.000,9,  -999.00,9,   -999.0,9,   -999.0,9,-999.0000,9,   -999.0,  9,  -999.00,9,   -999.0,  -999.00,9,  -999.00,9,  -999.00,9,  -999.00,9,   -999.0,-999.0000, -999,9,   11,  28.8324,  22.2408,   -999.0,9
       RF02-10,  165E,RF-1778,  1,     20,02-12821,2,20021014,0813, 16.9875, 164.9970, 5410,     25.4,  28.8311,  35.1588,2,   -999.0,9,-999.0000,9,    195.1,2,     1.26,2,  -999.00,9,     0.13,2,     0.01,2,     0.00,2, -999.000,9, -999.000,9,  -999.00,9,   -999.0,9,   -999.0,9,-999.0000,9,   -999.0,  9,  -999.00,9,   -999.0,  -999.00,9,  -999.00,9,  -999.00,9,  -999.00,9,   -999.0,-999.0000, -999,9,   25,  28.8250,  22.2418,   -999.0,9
       RF02-10,  165E,RF-1778,  1,     19,02-17875,2,20021014,0812, 16.9875, 164.9970, 5410,     49.7,  28.7790,  35.2096,2,   -999.0,9,-999.0000,9,    202.5,2,     1.26,2,  -999.00,9,     0.11,2,     0.01,2,     0.00,2, -999.000,9, -999.000,9,  -999.00,9,   -999.0,9,   -999.0,9,-999.0000,9,   -999.0,  9,  -999.00,9,   -999.0,  -999.00,9,  -999.00,9,  -999.00,9,  -999.00,9,   -999.0,-999.0000, -999,9,   49,  28.7670,  22.2992,   -999.0,9
       RF02-10,  165E,RF-1778,  1,     18,02-12830,2,20021014,0811, 16.9875, 164.9970, 5410,     75.6,  26.2483,  35.2793,2,   -999.0,9,-999.0000,9,    211.4,2,     1.35,2,  -999.00,9,     0.15,2,     0.01,2,     0.00,2, -999.000,9, -999.000,9,  -999.00,9,   -999.0,9,   -999.0,9,-999.0000,9,   -999.0,  9,  -999.00,9,   -999.0,  -999.00,9,  -999.00,9,  -999.00,9,  -999.00,9,   -999.0,-999.0000, -999,9,   75,  26.2313,  23.1717,   -999.0,9
       RF02-10,  165E,RF-1778,  1,     17,02-17874,2,20021014,0810, 16.9875, 164.9970, 5410,    100.3,  25.1113,  35.3147,2,   -999.0,9,-999.0000,9,    203.0,2,     1.40,2,  -999.00,9,     0.13,2,     0.01,2,     0.00,2, -999.000,9, -999.000,9,  -999.00,9,   -999.0,9,   -999.0,9,-999.0000,9,   -999.0,  9,  -999.00,9,   -999.0,  -999.00,9,  -999.00,9,  -999.00,9,  -999.00,9,   -999.0,-999.0000, -999,9,  100,  25.0895,  23.5518,   -999.0,9
       RF02-10,  165E,RF-1778,  1,     16,02-12818,2,20021014,0808, 16.9875, 164.9970, 5410,    126.2,  23.3825,  35.2677,2,   -999.0,9,-999.0000,9,    191.9,2,     1.68,2,  -999.00,9,     0.35,2,     0.06,2,     0.02,2, -999.000,9, -999.000,9,  -999.00,9,   -999.0,9,   -999.0,9,-999.0000,9,   -999.0,  9,  -999.00,9,   -999.0,  -999.00,9,  -999.00,9,  -999.00,9,  -999.00,9,   -999.0,-999.0000, -999,9,  125,  23.3564,  24.0333,   -999.0,9
       RF02-10,  165E,RF-1778,  1,     15,02-12809,2,20021014,0807, 16.9875, 164.9970, 5410,    150.2,  21.5572,  35.1449,2,   -999.0,9,-999.0000,9,    190.1,2,     2.02,2,  -999.00,9,     1.08,2,     0.01,2,     0.05,2, -999.000,9, -999.000,9,  -999.00,9,   -999.0,9,   -999.0,9,-999.0000,9,   -999.0,  9,  -999.00,9,   -999.0,  -999.00,9,  -999.00,9,  -999.00,9,  -999.00,9,   -999.0,-999.0000, -999,9,  149,  21.5279,  24.4594,   -999.0,9
       RF02-10,  165E,RF-1778,  1,     14,02-12817,2,20021014,0805, 16.9875, 164.9970, 5410,    201.0,  17.5316,  34.7571,2,   -999.0,9,-999.0000,9,    195.6,2,     4.18,2,  -999.00,9,     4.56,2,     0.01,2,     0.26,2, -999.000,9, -999.000,9,  -999.00,9,   -999.0,9,   -999.0,9,-999.0000,9,   -999.0,  9,  -999.00,9,   -999.0,  -999.00,9,  -999.00,9,  -999.00,9,  -999.00,9,   -999.0,-999.0000, -999,9,  200,  17.4978,  25.2086,   -999.0,9
       RF02-10,  165E,RF-1778,  1,     13,02-15822,2,20021014,0803, 16.9875, 164.9970, 5410,    251.5,  15.7363,  34.6463,2,   -999.0,9,-999.0000,9,    194.0,2,     6.94,2,  -999.00,9,     7.65,2,     0.01,2,     0.48,2, -999.000,9, -999.000,9,  -999.00,9,   -999.0,9,   -999.0,9,-999.0000,9,   -999.0,  9,  -999.00,9,   -999.0,  -999.00,9,  -999.00,9,  -999.00,9,  -999.00,9,   -999.0,-999.0000, -999,9,  250,  15.6969,  25.5443,   -999.0,9
       RF02-10,  165E,RF-1778,  1,     12,02-13591,2,20021014,0802, 16.9875, 164.9970, 5410,    303.3,  12.5652,  34.4033,2,   -999.0,9,-999.0000,9,    183.8,2,  -999.00,4,  -999.00,9,  -999.00,4,  -999.00,4,  -999.00,4, -999.000,9, -999.000,9,  -999.00,9,   -999.0,9,   -999.0,9,-999.0000,9,   -999.0,  9,  -999.00,9,   -999.0,  -999.00,9,  -999.00,9,  -999.00,9,  -999.00,9,   -999.0,-999.0000, -999,9,  301,  12.5245,  26.0246,   -999.0,9
       RF02-10,  165E,RF-1778,  1,     11,02-13589,2,20021014,0758, 16.9875, 164.9970, 5410,    402.4,   8.9689,  34.1706,2,   -999.0,9,-999.0000,9,    147.3,2,    33.54,2,  -999.00,9,    23.88,2,     0.01,2,     1.63,2, -999.000,9, -999.000,9,  -999.00,9,   -999.0,9,   -999.0,9,-999.0000,9,   -999.0,  9,  -999.00,9,   -999.0,  -999.00,9,  -999.00,9,  -999.00,9,  -999.00,9,   -999.0,-999.0000, -999,9,  400,   8.9252,  26.4805,   -999.0,9
       RF02-10,  165E,RF-1778,  1,     10,02-12815,2,20021014,0755, 16.9875, 164.9970, 5410,    503.6,   7.0243,  34.1990,2,   -999.0,9,-999.0000,9,     78.5,2,    55.90,2,  -999.00,9,    33.17,2,     0.01,2,     2.39,2, -999.000,9, -999.000,9,  -999.00,9,   -999.0,9,   -999.0,9,-999.0000,9,   -999.0,  9,  -999.00,9,   -999.0,  -999.00,9,  -999.00,9,  -999.00,9,  -999.00,9,   -999.0,-999.0000, -999,9,  500,   6.9766,  26.7910,   -999.0,9
       RF02-10,  165E,RF-1778,  1,      9,02-12807,2,20021014,0753, 16.9875, 164.9970, 5410,    604.5,   6.1596,  34.3147,2,   -999.0,9,-999.0000,9,     52.2,2,    70.69,2,  -999.00,9,    37.36,2,     0.01,2,     2.71,2, -999.000,9, -999.000,9,  -999.00,9,   -999.0,9,   -999.0,9,-999.0000,9,   -999.0,  9,  -999.00,9,   -999.0,  -999.00,9,  -999.00,9,  -999.00,9,  -999.00,9,   -999.0,-999.0000, -999,9,  600,   6.1058,  26.9977,   -999.0,9
       RF02-10,  165E,RF-1778,  1,      8,02-10154,2,20021014,0748, 16.9875, 164.9970, 5410,    704.9,   5.5606,  34.4050,2,   -999.0,9,-999.0000,9,     50.5,2,    79.76,2,  -999.00,9,    38.81,2,     0.01,2,     2.81,2, -999.000,9, -999.000,9,  -999.00,9,   -999.0,9,   -999.0,9,-999.0000,9,   -999.0,  9,  -999.00,9,   -999.0,  -999.00,9,  -999.00,9,  -999.00,9,  -999.00,9,   -999.0,-999.0000, -999,9,  699,   5.5004,  27.1444,   -999.0,9
       RF02-10,  165E,RF-1778,  1,      7,02-15821,2,20021014,0746, 16.9875, 164.9970, 5410,    805.2,   5.0804,  34.4671,2,   -999.0,9,-999.0000,9,     57.7,2,    86.78,2,  -999.00,9,    39.17,2,     0.01,2,     2.82,2, -999.000,9, -999.000,9,  -999.00,9,   -999.0,9,   -999.0,9,-999.0000,9,   -999.0,  9,  -999.00,9,   -999.0,  -999.00,9,  -999.00,9,  -999.00,9,  -999.00,9,   -999.0,-999.0000, -999,9,  799,   5.0140,  27.2511,   -999.0,9
       RF02-10,  165E,RF-1778,  1,      6,02-17872,2,20021014,0744, 16.9875, 164.9970, 5410,    907.0,   4.6594,  34.4991,2,   -999.0,9,-999.0000,9,     59.1,2,    94.14,2,  -999.00,9,    39.66,2,     0.01,2,     2.85,2, -999.000,9, -999.000,9,  -999.00,9,   -999.0,9,   -999.0,9,-999.0000,9,   -999.0,  9,  -999.00,9,   -999.0,  -999.00,9,  -999.00,9,  -999.00,9,  -999.00,9,   -999.0,-999.0000, -999,9,  900,   4.5868,  27.3249,   -999.0,9
       RF02-10,  165E,RF-1778,  1,      5,02-10155,2,20021014,0739, 16.9875, 164.9970, 5410,   1009.9,   4.2474,  34.5223,2,   -999.0,9,-999.0000,9,     62.0,2,   101.55,2,  -999.00,9,    40.04,2,     0.01,2,     2.88,2, -999.000,9, -999.000,9,  -999.00,9,   -999.0,9,   -999.0,9,-999.0000,9,   -999.0,  9,  -999.00,9,   -999.0,  -999.00,9,  -999.00,9,  -999.00,9,  -999.00,9,   -999.0,-999.0000, -999,9, 1001,   4.1689,  27.3885,   -999.0,9
       RF02-10,  165E,RF-1778,  1,      4,02-13579,2,20021014,0735, 16.9875, 164.9970, 5410,   1262.1,   3.5141,  34.5529,2,   -999.0,9,-999.0000,9,     70.0,2,   116.10,2,  -999.00,9,    40.06,2,     0.01,2,     2.87,2, -999.000,9, -999.000,9,  -999.00,9,   -999.0,9,   -999.0,9,-999.0000,9,   -999.0,  9,  -999.00,9,   -999.0,  -999.00,9,  -999.00,9,  -999.00,9,  -999.00,9,   -999.0,-999.0000, -999,9, 1251,   3.4207,  27.4886,   -999.0,9
       RF02-10,  165E,RF-1778,  1,      3,02-13590,2,20021014,0728, 16.9875, 164.9970, 5410,   1517.1,   2.9164,  34.5775,2,   -999.0,9,-999.0000,9,     81.5,2,   127.72,2,  -999.00,9,    39.75,2,     0.01,2,     2.83,2, -999.000,9, -999.000,9,  -999.00,9,   -999.0,9,   -999.0,9,-999.0000,9,   -999.0,  9,  -999.00,9,   -999.0,  -999.00,9,  -999.00,9,  -999.00,9,  -999.00,9,   -999.0,-999.0000, -999,9, 1503,   2.8081,  27.5652,   -999.0,9
       RF02-10,  165E,RF-1778,  1,      2,02-12827,2,20021014,0722, 16.9875, 164.9970, 5410,   1770.5,   2.4340,  34.6021,2,   -999.0,9,-999.0000,9,     91.4,2,   137.21,2,  -999.00,9,    39.36,2,     0.01,2,     2.78,2, -999.000,9, -999.000,9,  -999.00,9,   -999.0,9,   -999.0,9,-999.0000,9,   -999.0,  9,  -999.00,9,   -999.0,  -999.00,9,  -999.00,9,  -999.00,9,  -999.00,9,   -999.0,-999.0000, -999,9, 1753,   2.3106,  27.6277,   -999.0,9
       RF02-10,  165E,RF-1778,  1,      1,02-17871,2,20021014,0713, 16.9875, 164.9970, 5410,   2045.5,   2.0691,  34.6235,2,   -999.0,9,-999.0000,9,    103.4,2,   143.33,2,  -999.00,9,    38.78,2,     0.01,2,     2.71,2, -999.000,9, -999.000,9,  -999.00,9,   -999.0,9,   -999.0,9,-999.0000,9,   -999.0,  9,  -999.00,9,   -999.0,  -999.00,9,  -999.00,9,  -999.00,9,  -999.00,9,   -999.0,-999.0000, -999,9, 2023,   1.9278,  27.6758,   -999.0,9