BOTTLE,20130510GEMDJMAYT
EXPOCODE,SECT_ID,STNNBR,CASTNO,SAMPNO,BTLNBR,BTLNBR_FLAG_W,DATE,TIME,LATITUDE,LONGITUDE,DEPTH,CTDPRS,CTDTMP,CTDSAL,CTDSAL_FLAG_W,CTDOXY,CTDOXY_FLAG_W,SALNTY,SALNTY_FLAG_W,OXYGEN,OXYGEN_FLAG_W,SILCAT,SILCAT_FLAG_W,NITRAT,NITRAT_FLAG_W,NO2+NO3,NO2+NO3_FLAG_W,NITRIT,NITRIT_FLAG_W,PHSPHT,PHSPHT_FLAG_W,CFC-11,CFC-11_FLAG_W,CFC-12,CFC-12_FLAG_W,DELC13,DELC13_FLAG_W,TCARBN,TCARBN_FLAG_W,ALKALI,ALKALI_FLAG_W,PH,PH_FLAG_W,PH_TMP,PH_SCALE,PH_NBS,PH_NBS_FLAG_W,C13ERR,TOTALP,TOTALP_FLAG_W,AMMONI,AMMONI_FLAG_W,CHLORA,CHLORA_FLAG_W,PPHYTN,PPHYTN_FLAG_W,REVPRS,REVTMP,DEPTH_,DEPTH_FLAG,CTDDEP,THETA,SIGTHT,DOC,DOC_FLAG_W
,,,,,,,GMT,GMT,,,METER,DBAR,ITS-90,PSS-78,,UMOL/KG,,PSS-78,,UMOL/KG,,UMOL/KG,,UMOL/KG,,UMOL/KG,,UMOL/KG,,UMOL/KG,,PMOL/KG,,PMOL/KG,,/MILLE,,UMOL/KG,,UMOL/KG,,25_DEG_C,,DEG_C,,,,/MILLE,UMOL/KG,,UMOL/KG,,UG/L,,UG/L,,DBAR,ITS-90,METERS,,METERS,DEG_C,,UMOL/L,
       RF02-10,  165E,RF-1767,  1,      8,02-10154,2,20021007,1828, 28.0093, 164.9897, 5694,    503.0,  11.0537,  34.2963,2,   -999.0,9,-999.0000,9,   -999.0,9,  -999.00,9,  -999.00,9,  -999.00,9,  -999.00,9,  -999.00,9, -999.000,9, -999.000,9,  -999.00,9,   -999.0,9,   -999.0,9,-999.0000,9,   -999.0,  9,  -999.00,9,   -999.0,  -999.00,9,  -999.00,9,  -999.00,9,  -999.00,9,   -999.0,-999.0000, -999,9,  499,  10.9911,  26.2291,   -999.0,9
       RF02-10,  165E,RF-1767,  2,     13,02-15822,2,20021007,2248, 27.9913, 164.9392, 5729,    503.1,  10.8821,  34.2908,2,   -999.0,9,-999.0000,9,    198.3,2,    21.21,2,  -999.00,9,    15.95,2,     0.00,2,     1.12,2, -999.000,9, -999.000,9,  -999.00,9,   -999.0,9,   -999.0,9,-999.0000,9,   -999.0,  9,     7.89,2,   -999.0,  -999.00,9,  -999.00,9,  -999.00,9,  -999.00,9,   -999.0,-999.0000, -999,9,  499,  10.8201,  26.2554,   -999.0,9
       RF02-10,  165E,RF-1767,  1,      7,02-15821,2,20021007,1825, 28.0093, 164.9897, 5694,    603.5,   7.9536,  34.0618,2,   -999.0,9,-999.0000,9,   -999.0,9,  -999.00,9,  -999.00,9,  -999.00,9,  -999.00,9,  -999.00,9, -999.000,9, -999.000,9,  -999.00,9,   -999.0,9,   -999.0,9,-999.0000,9,   -999.0,  9,  -999.00,9,   -999.0,  -999.00,9,  -999.00,9,  -999.00,9,  -999.00,9,   -999.0,-999.0000, -999,9,  599,   7.8920,  26.5530,   -999.0,9
       RF02-10,  165E,RF-1767,  2,     12,02-13591,2,20021007,2245, 27.9913, 164.9392, 5729,    608.9,   7.8597,  34.0686,2,   -999.0,9,  34.0739,2,    173.0,2,    38.57,2,  -999.00,9,    23.53,2,     0.00,2,     1.70,2, -999.000,9, -999.000,9,  -999.00,9,   -999.0,9,   -999.0,9,-999.0000,9,   -999.0,  9,  -999.00,9,   -999.0,  -999.00,9,  -999.00,9,  -999.00,9,  -999.00,9,   -999.0,-999.0000, -999,9,  604,   7.7979,  26.5720,   -999.0,9
       RF02-10,  165E,RF-1767,  1,      5,02-10155,2,20021007,1822, 28.0093, 164.9897, 5694,    704.5,   6.0456,  34.0266,2,   -999.0,9,-999.0000,9,   -999.0,9,  -999.00,9,  -999.00,9,  -999.00,9,  -999.00,9,  -999.00,9, -999.000,9, -999.000,9,  -999.00,9,   -999.0,9,   -999.0,9,-999.0000,9,   -999.0,  9,  -999.00,9,   -999.0,  -999.00,9,  -999.00,9,  -999.00,9,  -999.00,9,   -999.0,-999.0000, -999,9,  699,   5.9834,  26.7855,   -999.0,9
       RF02-10,  165E,RF-1767,  1,      6,02-17872,2,20021007,1823, 28.0093, 164.9897, 5694,    705.3,   6.0241,  34.0283,2,   -999.0,9,-999.0000,9,   -999.0,9,  -999.00,9,  -999.00,9,  -999.00,9,  -999.00,9,  -999.00,9, -999.000,9, -999.000,9,  -999.00,9,   -999.0,9,   -999.0,9,-999.0000,9,   -999.0,  9,  -999.00,9,   -999.0,  -999.00,9,  -999.00,9,  -999.00,9,  -999.00,9,   -999.0,-999.0000, -999,9,  699,   5.9619,  26.7896,   -999.0,9
       RF02-10,  165E,RF-1767,  2,     11,02-13589,2,20021007,2243, 27.9913, 164.9392, 5729,    706.0,   5.8696,  34.0373,2,   -999.0,9,-999.0000,9,    121.2,2,    63.90,2,  -999.00,9,    31.72,2,     0.00,2,     2.30,2, -999.000,9, -999.000,9,  -999.00,9,   -999.0,9,   -999.0,9,-999.0000,9,   -999.0,  9,     7.62,2,   -999.0,  -999.00,9,  -999.00,9,  -999.00,9,  -999.00,9,   -999.0,-999.0000, -999,9,  700,   5.8081,  26.8158,   -999.0,9
       RF02-10,  165E,RF-1767,  1,      4,02-13579,2,20021007,1819, 28.0093, 164.9897, 5694,    806.3,   4.8736,  34.0932,2,   -999.0,9,-999.0000,9,   -999.0,9,  -999.00,9,  -999.00,9,  -999.00,9,  -999.00,9,  -999.00,9, -999.000,9, -999.000,9,  -999.00,9,   -999.0,9,   -999.0,9,-999.0000,9,   -999.0,  9,  -999.00,9,   -999.0,  -999.00,9,  -999.00,9,  -999.00,9,  -999.00,9,   -999.0,-999.0000, -999,9,  799,   4.8089,  26.9780,   -999.0,9
       RF02-10,  165E,RF-1767,  2,     10,02-12815,2,20021007,2240, 27.9913, 164.9392, 5729,    808.8,   4.7693,  34.1130,2,   -999.0,9,  34.1130,2,     80.0,2,    86.70,2,  -999.00,9,    36.95,2,     0.00,2,     2.73,2, -999.000,9, -999.000,9,  -999.00,9,   -999.0,9,   -999.0,9,-999.0000,9,   -999.0,  9,  -999.00,9,   -999.0,  -999.00,9,  -999.00,9,  -999.00,9,  -999.00,9,   -999.0,-999.0000, -999,9,  802,   4.7050,  27.0053,   -999.0,9
       RF02-10,  165E,RF-1767,  1,      3,02-13590,2,20021007,1817, 28.0093, 164.9897, 5694,    907.1,   4.1891,  34.1944,2,   -999.0,9,-999.0000,9,   -999.0,9,  -999.00,9,  -999.00,9,  -999.00,9,  -999.00,9,  -999.00,9, -999.000,9, -999.000,9,  -999.00,9,   -999.0,9,   -999.0,9,-999.0000,9,   -999.0,  9,  -999.00,9,   -999.0,  -999.00,9,  -999.00,9,  -999.00,9,  -999.00,9,   -999.0,-999.0000, -999,9,  899,   4.1203,  27.1329,   -999.0,9
       RF02-10,  165E,RF-1767,  2,      9,02-12807,2,20021007,2235, 27.9913, 164.9392, 5729,   1011.5,   3.6779,  34.2880,2,   -999.0,9,  34.2856,2,     39.5,2,   117.10,2,  -999.00,9,    41.42,2,     0.00,2,     3.15,2, -999.000,9, -999.000,9,  -999.00,9,   -999.0,9,   -999.0,9,-999.0000,9,   -999.0,  9,     7.49,2,   -999.0,  -999.00,9,  -999.00,9,  -999.00,9,  -999.00,9,   -999.0,-999.0000, -999,9, 1002,   3.6041,  27.2596,   -999.0,9
       RF02-10,  165E,RF-1767,  1,      2,02-12827,2,20021007,1813, 28.0093, 164.9897, 5694,   1015.7,   3.6713,  34.2838,2,   -999.0,9,-999.0000,9,   -999.0,9,  -999.00,9,  -999.00,9,  -999.00,9,  -999.00,9,  -999.00,9, -999.000,9, -999.000,9,  -999.00,9,   -999.0,9,   -999.0,9,-999.0000,9,   -999.0,  9,  -999.00,9,   -999.0,  -999.00,9,  -999.00,9,  -999.00,9,  -999.00,9,   -999.0,-999.0000, -999,9, 1006,   3.5973,  27.2569,   -999.0,9
       RF02-10,  165E,RF-1767,  1,      1,02-17871,2,20021007,1812, 28.0093, 164.9897, 5694,   1016.7,   3.6696,  34.2834,2,   -999.0,9,-999.0000,9,   -999.0,9,  -999.00,9,  -999.00,9,  -999.00,9,  -999.00,9,  -999.00,9, -999.000,9, -999.000,9,  -999.00,9,   -999.0,9,   -999.0,9,-999.0000,9,   -999.0,  9,  -999.00,9,   -999.0,  -999.00,9,  -999.00,9,  -999.00,9,  -999.00,9,   -999.0,-999.0000, -999,9, 1008,   3.5955,  27.2568,   -999.0,9
       RF02-10,  165E,RF-1767,  2,      8,02-10154,2,20021007,2228, 27.9913, 164.9392, 5729,   1264.5,   2.9019,  34.4430,2,   -999.0,9,-999.0000,9,     33.7,2,   138.88,2,  -999.00,9,    42.61,2,     0.00,2,     3.09,2, -999.000,9, -999.000,9,  -999.00,9,   -999.0,9,   -999.0,9,-999.0000,9,   -999.0,  9,  -999.00,9,   -999.0,  -999.00,9,  -999.00,9,  -999.00,9,  -999.00,9,   -999.0,-999.0000, -999,9, 1252,   2.8146,  27.4571,   -999.0,9
       RF02-10,  165E,RF-1767,  2,      7,02-15821,2,20021007,2222, 27.9913, 164.9392, 5729,   1518.0,   2.4135,  34.5239,2,   -999.0,9,  34.5238,2,     46.8,2,   149.96,2,  -999.00,9,    42.13,2,     0.00,2,     3.04,2, -999.000,9, -999.000,9,  -999.00,9,   -999.0,9,   -999.0,9,-999.0000,9,   -999.0,  9,     7.53,2,   -999.0,  -999.00,9,  -999.00,9,  -999.00,9,  -999.00,9,   -999.0,-999.0000, -999,9, 1502,   2.3111,  27.5651,   -999.0,9
       RF02-10,  165E,RF-1767,  2,      6,02-17872,2,20021007,2211, 27.9913, 164.9392, 5729,   2025.2,   1.8886,  34.6121,2,   -999.0,9,  34.6119,2,     89.3,2,   152.99,2,  -999.00,9,    39.82,2,     0.00,2,     2.83,2, -999.000,9, -999.000,9,  -999.00,9,   -999.0,9,   -999.0,9,-999.0000,9,   -999.0,  9,     7.61,2,   -999.0,  -999.00,9,  -999.00,9,  -999.00,9,  -999.00,9,   -999.0,-999.0000, -999,9, 2002,   1.7518,  27.6801,   -999.0,9
       RF02-10,  165E,RF-1767,  2,      5,02-10155,2,20021007,2200, 27.9913, 164.9392, 5729,   2531.1,   1.6605,  34.6476,2,   -999.0,9,-999.0000,9,    119.4,2,   148.97,2,  -999.00,9,    38.07,2,     0.00,2,     2.67,2, -999.000,9, -999.000,9,  -999.00,9,   -999.0,9,   -999.0,9,-999.0000,9,   -999.0,  9,  -999.00,9,   -999.0,  -999.00,9,  -999.00,9,  -999.00,9,  -999.00,9,   -999.0,-999.0000, -999,9, 2499,   1.4838,  27.7285,   -999.0,9
       RF02-10,  165E,RF-1767,  2,      4,02-13579,2,20021007,2151, 27.9913, 164.9392, 5729,   3039.9,   1.5442,  34.6658,2,   -999.0,9,  34.6666,2,    134.4,2,   146.95,2,  -999.00,9,    37.10,2,     0.00,2,     2.64,2, -999.000,9, -999.000,9,  -999.00,9,   -999.0,9,   -999.0,9,-999.0000,9,   -999.0,  9,  -999.00,9,   -999.0,  -999.00,9,  -999.00,9,  -999.00,9,  -999.00,9,   -999.0,-999.0000, -999,9, 2998,   1.3227,  27.7547,   -999.0,9
       RF02-10,  165E,RF-1767,  2,      3,02-13590,2,20021007,2134, 27.9913, 164.9392, 5729,   4063.7,   1.4607,  34.6834,2,   -999.0,9,  34.6839,2,    153.3,2,   142.48,2,  -999.00,9,    35.98,2,     0.00,2,     2.51,2, -999.000,9, -999.000,9,  -999.00,9,   -999.0,9,   -999.0,9,-999.0000,9,   -999.0,  9,  -999.00,9,   -999.0,  -999.00,9,  -999.00,9,  -999.00,9,  -999.00,9,   -999.0,-999.0000, -999,9, 3998,   1.1360,  27.7817,   -999.0,9
       RF02-10,  165E,RF-1767,  2,      2,02-12827,4,20021007,2116, 27.9913, 164.9392, 5729,   5088.8,   1.4800,  34.6923,2,   -999.0,9,  33.0378,4,   -999.0,4,  -999.00,4,  -999.00,9,  -999.00,4,  -999.00,4,  -999.00,4, -999.000,9, -999.000,9,  -999.00,9,   -999.0,9,   -999.0,9,-999.0000,9,   -999.0,  9,  -999.00,9,   -999.0,  -999.00,9,  -999.00,9,  -999.00,9,  -999.00,9,   -999.0,-999.0000, -999,9, 4996,   1.0356,  27.7957,   -999.0,9
       RF02-10,  165E,RF-1767,  2,      1,02-17871,2,20021007,2106, 27.9913, 164.9392, 5729,   5711.0,   1.5248,  34.6944,2,   -999.0,9,  34.6959,2,    173.0,2,   131.77,2,  -999.00,9,    34.65,2,     0.00,2,     2.45,2, -999.000,9, -999.000,9,  -999.00,9,   -999.0,9,   -999.0,9,-999.0000,9,   -999.0,  9,     7.69,2,   -999.0,  -999.00,9,  -999.00,9,  -999.00,9,  -999.00,9,   -999.0,-999.0000, -999,9, 5599,   1.0001,  27.7997,   -999.0,9