BOTTLE,20130510GEMDJMAYT
EXPOCODE,SECT_ID,STNNBR,CASTNO,SAMPNO,BTLNBR,BTLNBR_FLAG_W,DATE,TIME,LATITUDE,LONGITUDE,DEPTH,CTDPRS,CTDTMP,CTDSAL,CTDSAL_FLAG_W,CTDOXY,CTDOXY_FLAG_W,SALNTY,SALNTY_FLAG_W,OXYGEN,OXYGEN_FLAG_W,SILCAT,SILCAT_FLAG_W,NITRAT,NITRAT_FLAG_W,NO2+NO3,NO2+NO3_FLAG_W,NITRIT,NITRIT_FLAG_W,PHSPHT,PHSPHT_FLAG_W,CFC-11,CFC-11_FLAG_W,CFC-12,CFC-12_FLAG_W,DELC13,DELC13_FLAG_W,TCARBN,TCARBN_FLAG_W,ALKALI,ALKALI_FLAG_W,PH,PH_FLAG_W,PH_TMP,PH_SCALE,PH_NBS,PH_NBS_FLAG_W,C13ERR,TOTALP,TOTALP_FLAG_W,AMMONI,AMMONI_FLAG_W,CHLORA,CHLORA_FLAG_W,PPHYTN,PPHYTN_FLAG_W,REVPRS,REVTMP,DEPTH_,DEPTH_FLAG,CTDDEP,THETA,SIGTHT,DOC,DOC_FLAG_W
,,,,,,,GMT,GMT,,,METER,DBAR,ITS-90,PSS-78,,UMOL/KG,,PSS-78,,UMOL/KG,,UMOL/KG,,UMOL/KG,,UMOL/KG,,UMOL/KG,,UMOL/KG,,PMOL/KG,,PMOL/KG,,/MILLE,,UMOL/KG,,UMOL/KG,,25_DEG_C,,DEG_C,,,,/MILLE,UMOL/KG,,UMOL/KG,,UG/L,,UG/L,,DBAR,ITS-90,METERS,,METERS,DEG_C,,UMOL/L,
       RF02-10,  165E,RF-1793,  1,     -9,      -9,5,20021027,1209,  2.1623, 164.9992, 4139,      0.0,  29.3769,  34.0303,2,   -999.0,9,-999.0000,9,    196.1,2,     1.43,2,  -999.00,9,     0.07,2,     0.00,2,     0.04,2, -999.000,9, -999.000,9,  -999.00,9,   -999.0,9,   -999.0,9,-999.0000,9,   -999.0,  9,     8.28,2,   -999.0,  -999.00,9,  -999.00,9,     0.08,2,     0.02,2,   -999.0,-999.0000, -999,9,    0,  29.3769,  21.2101,   -999.0,9
       RF02-10,  165E,RF-1793,  1,     21,02-12826,2,20021027,1207,  2.1623, 164.9992, 4139,     12.8,  29.2363,  34.0685,2,   -999.0,9,-999.0000,9,    197.2,2,     1.34,2,  -999.00,9,     0.04,2,     0.00,2,     0.03,2, -999.000,9, -999.000,9,  -999.00,9,   -999.0,9,   -999.0,9,-999.0000,9,   -999.0,  9,     8.28,2,   -999.0,  -999.00,9,  -999.00,9,     0.08,2,     0.03,2,   -999.0,-999.0000, -999,9,   13,  29.2332,  21.2870,   -999.0,9
       RF02-10,  165E,RF-1793,  1,     20,02-12821,2,20021027,1206,  2.1623, 164.9992, 4139,     27.2,  28.8363,  34.2357,2,   -999.0,9,-999.0000,9,    197.4,2,     1.36,2,  -999.00,9,     0.02,2,     0.00,2,     0.04,2, -999.000,9, -999.000,9,  -999.00,9,   -999.0,9,   -999.0,9,-999.0000,9,   -999.0,  9,     8.27,2,   -999.0,  -999.00,9,  -999.00,9,     0.09,2,     0.03,2,   -999.0,-999.0000, -999,9,   27,  28.8298,  21.5470,   -999.0,9
       RF02-10,  165E,RF-1793,  1,     19,02-17875,4,20021027,1204,  2.1623, 164.9992, 4139,     52.6,  28.3631,  34.5986,2,   -999.0,9,-999.0000,9,   -999.0,4,  -999.00,4,  -999.00,9,  -999.00,4,  -999.00,4,  -999.00,4, -999.000,9, -999.000,9,  -999.00,9,   -999.0,9,   -999.0,9,-999.0000,9,   -999.0,  9,  -999.00,9,   -999.0,  -999.00,9,  -999.00,9,  -999.00,4,  -999.00,4,   -999.0,-999.0000, -999,9,   52,  28.3506,  21.9780,   -999.0,9
       RF02-10,  165E,RF-1793,  1,     18,02-12830,2,20021027,1202,  2.1623, 164.9992, 4139,     78.9,  27.6052,  34.8797,2,   -999.0,9,-999.0000,9,    165.2,2,     2.40,2,  -999.00,9,     3.26,2,     0.22,2,     0.37,2, -999.000,9, -999.000,9,  -999.00,9,   -999.0,9,   -999.0,9,-999.0000,9,   -999.0,  9,     8.19,2,   -999.0,  -999.00,9,  -999.00,9,     0.37,2,     0.56,2,   -999.0,-999.0000, -999,9,   78,  27.5868,  22.4385,   -999.0,9
       RF02-10,  165E,RF-1793,  1,     17,02-17874,2,20021027,1201,  2.1623, 164.9992, 4139,    103.9,  25.6716,  35.0006,2,   -999.0,9,  35.0327,4,    131.8,2,     4.02,2,  -999.00,9,     7.97,2,     0.10,2,     0.65,2, -999.000,9, -999.000,9,  -999.00,9,   -999.0,9,   -999.0,9,-999.0000,9,   -999.0,  9,     8.12,2,   -999.0,  -999.00,9,  -999.00,9,     0.15,2,     0.49,2,   -999.0,-999.0000, -999,9,  103,  25.6487,  23.1428,   -999.0,9
       RF02-10,  165E,RF-1793,  1,     16,02-12818,2,20021027,1159,  2.1623, 164.9992, 4139,    128.5,  24.3223,  35.0470,2,   -999.0,9,-999.0000,9,    126.3,2,     4.88,2,  -999.00,9,     8.94,2,     0.02,2,     0.70,2, -999.000,9, -999.000,9,  -999.00,9,   -999.0,9,   -999.0,9,-999.0000,9,   -999.0,  9,     8.09,2,   -999.0,  -999.00,9,  -999.00,9,     0.07,2,     0.22,2,   -999.0,-999.0000, -999,9,  128,  24.2949,  23.5892,   -999.0,9
       RF02-10,  165E,RF-1793,  1,     15,02-12809,2,20021027,1157,  2.1623, 164.9992, 4139,    153.3,  23.1002,  35.0908,2,   -999.0,9,-999.0000,9,    130.0,2,     5.40,2,  -999.00,9,     9.24,2,     0.01,2,     0.73,2, -999.000,9, -999.000,9,  -999.00,9,   -999.0,9,   -999.0,9,-999.0000,9,   -999.0,  9,     8.07,2,   -999.0,  -999.00,9,  -999.00,9,     0.04,2,     0.08,2,   -999.0,-999.0000, -999,9,  152,  23.0688,  23.9826,   -999.0,9
       RF02-10,  165E,RF-1793,  1,     14,02-12817,2,20021027,1156,  2.1623, 164.9992, 4139,    204.0,  12.7430,  34.6934,2,   -999.0,9,  34.7044,2,    127.7,2,    21.79,2,  -999.00,9,    20.00,2,     0.00,2,     1.45,2, -999.000,9, -999.000,9,  -999.00,9,   -999.0,9,   -999.0,9,-999.0000,9,   -999.0,  9,     7.87,2,   -999.0,  -999.00,9,  -999.00,9,     0.00,2,     0.02,2,   -999.0,-999.0000, -999,9,  203,  12.7154,  26.2120,   -999.0,9
       RF02-10,  165E,RF-1793,  1,     13,02-15822,2,20021027,1153,  2.1623, 164.9992, 4139,    254.3,  11.4447,  34.8199,2,   -999.0,9,-999.0000,9,    116.8,2,    20.52,2,  -999.00,9,    23.58,2,     0.00,2,     1.69,2, -999.000,9, -999.000,9,  -999.00,9,   -999.0,9,   -999.0,9,-999.0000,9,   -999.0,  9,     7.82,2,   -999.0,  -999.00,9,  -999.00,9,  -999.00,9,  -999.00,9,   -999.0,-999.0000, -999,9,  253,  11.4125,  26.5597,   -999.0,9
       RF02-10,  165E,RF-1793,  1,     12,02-13591,2,20021027,1151,  2.1623, 164.9992, 4139,    304.3,  10.7951,  34.7767,2,   -999.0,9,-999.0000,9,    107.0,2,    22.93,2,  -999.00,9,    25.95,2,     0.00,2,     1.83,2, -999.000,9, -999.000,9,  -999.00,9,   -999.0,9,   -999.0,9,-999.0000,9,   -999.0,  9,     7.78,2,   -999.0,  -999.00,9,  -999.00,9,  -999.00,9,  -999.00,9,   -999.0,-999.0000, -999,9,  302,  10.7579,  26.6452,   -999.0,9
       RF02-10,  165E,RF-1793,  1,     11,02-13589,2,20021027,1148,  2.1623, 164.9992, 4139,    405.5,   9.2491,  34.6656,2,   -999.0,9,  34.6668,2,    104.1,2,    29.02,2,  -999.00,9,    29.23,2,     0.00,2,     2.05,2, -999.000,9, -999.000,9,  -999.00,9,   -999.0,9,   -999.0,9,-999.0000,9,   -999.0,  9,  -999.00,9,   -999.0,  -999.00,9,  -999.00,9,  -999.00,9,  -999.00,9,   -999.0,-999.0000, -999,9,  403,   9.2039,  26.8234,   -999.0,9
       RF02-10,  165E,RF-1793,  1,     10,02-12815,2,20021027,1146,  2.1623, 164.9992, 4139,    505.6,   8.1297,  34.5996,2,   -999.0,9,-999.0000,9,     88.7,2,    36.59,2,  -999.00,9,    32.82,2,     0.00,2,     2.30,2, -999.000,9, -999.000,9,  -999.00,9,   -999.0,9,   -999.0,9,-999.0000,9,   -999.0,  9,     7.68,2,   -999.0,  -999.00,9,  -999.00,9,  -999.00,9,  -999.00,9,   -999.0,-999.0000, -999,9,  502,   8.0773,  26.9478,   -999.0,9
       RF02-10,  165E,RF-1793,  1,      9,02-12807,2,20021027,1143,  2.1623, 164.9992, 4139,    606.9,   7.0220,  34.5577,2,   -999.0,9,  34.5598,2,     83.1,2,    46.72,2,  -999.00,9,    35.37,2,     0.00,2,     2.51,2, -999.000,9, -999.000,9,  -999.00,9,   -999.0,9,   -999.0,9,-999.0000,9,   -999.0,  9,  -999.00,9,   -999.0,  -999.00,9,  -999.00,9,  -999.00,9,  -999.00,9,   -999.0,-999.0000, -999,9,  603,   6.9638,  27.0754,   -999.0,9
       RF02-10,  165E,RF-1793,  1,      8,02-10154,2,20021027,1140,  2.1623, 164.9992, 4139,    708.1,   6.2610,  34.5330,2,   -999.0,9,-999.0000,9,    100.8,2,    52.67,2,  -999.00,9,    35.04,2,     0.00,2,     2.47,2, -999.000,9, -999.000,9,  -999.00,9,   -999.0,9,   -999.0,9,-999.0000,9,   -999.0,  9,     7.67,2,   -999.0,  -999.00,9,  -999.00,9,  -999.00,9,  -999.00,9,   -999.0,-999.0000, -999,9,  703,   6.1966,  27.1584,   -999.0,9
       RF02-10,  165E,RF-1793,  1,      7,02-15821,2,20021027,1137,  2.1623, 164.9992, 4139,    810.0,   5.6919,  34.5391,2,   -999.0,9,  34.5393,2,     88.2,2,    62.78,2,  -999.00,9,    37.20,2,     0.00,2,     2.64,2, -999.000,9, -999.000,9,  -999.00,9,   -999.0,9,   -999.0,9,-999.0000,9,   -999.0,  9,  -999.00,9,   -999.0,  -999.00,9,  -999.00,9,  -999.00,9,  -999.00,9,   -999.0,-999.0000, -999,9,  804,   5.6212,  27.2358,   -999.0,9
       RF02-10,  165E,RF-1793,  1,      6,02-17872,2,20021027,1135,  2.1623, 164.9992, 4139,    909.6,   5.0529,  34.5423,2,   -999.0,9,-999.0000,9,     90.3,2,    74.87,2,  -999.00,9,    37.75,2,     0.00,2,     2.67,2, -999.000,9, -999.000,9,  -999.00,9,   -999.0,9,   -999.0,9,-999.0000,9,   -999.0,  9,  -999.00,9,   -999.0,  -999.00,9,  -999.00,9,  -999.00,9,  -999.00,9,   -999.0,-999.0000, -999,9,  903,   4.9773,  27.3150,   -999.0,9
       RF02-10,  165E,RF-1793,  1,      5,02-10155,2,20021027,1132,  2.1623, 164.9992, 4139,   1010.9,   4.5170,  34.5548,2,   -999.0,9,  34.5537,2,     93.5,2,    84.79,2,  -999.00,9,    37.91,2,     0.00,2,     2.71,2, -999.000,9, -999.000,9,  -999.00,9,   -999.0,9,   -999.0,9,-999.0000,9,   -999.0,  9,     7.64,2,   -999.0,  -999.00,9,  -999.00,9,  -999.00,9,  -999.00,9,   -999.0,-999.0000, -999,9, 1003,   4.4363,  27.3856,   -999.0,9
       RF02-10,  165E,RF-1793,  1,      4,02-13579,2,20021027,1127,  2.1623, 164.9992, 4139,   1264.2,   3.8120,  34.5742,2,   -999.0,9,  34.5737,2,     93.8,2,   100.26,2,  -999.00,9,    38.58,2,     0.00,2,     2.73,2, -999.000,9, -999.000,9,  -999.00,9,   -999.0,9,   -999.0,9,-999.0000,9,   -999.0,  9,  -999.00,9,   -999.0,  -999.00,9,  -999.00,9,  -999.00,9,  -999.00,9,   -999.0,-999.0000, -999,9, 1253,   3.7155,  27.4765,   -999.0,9
       RF02-10,  165E,RF-1793,  1,      3,02-13590,2,20021027,1121,  2.1623, 164.9992, 4139,   1517.0,   3.0664,  34.6003,2,   -999.0,9,  34.5997,2,     95.5,2,   116.36,2,  -999.00,9,    39.00,2,     0.00,2,     2.77,2, -999.000,9, -999.000,9,  -999.00,9,   -999.0,9,   -999.0,9,-999.0000,9,   -999.0,  9,     7.63,2,   -999.0,  -999.00,9,  -999.00,9,  -999.00,9,  -999.00,9,   -999.0,-999.0000, -999,9, 1503,   2.9563,  27.5700,   -999.0,9
       RF02-10,  165E,RF-1793,  1,      2,02-12827,2,20021027,1116,  2.1623, 164.9992, 4139,   1771.2,   2.6285,  34.6190,2,   -999.0,9,  34.6190,2,    105.5,2,   124.87,2,  -999.00,9,    38.58,2,     0.00,2,     2.72,2, -999.000,9, -999.000,9,  -999.00,9,   -999.0,9,   -999.0,9,-999.0000,9,   -999.0,  9,     7.65,2,   -999.0,  -999.00,9,  -999.00,9,  -999.00,9,  -999.00,9,   -999.0,-999.0000, -999,9, 1754,   2.5024,  27.6250,   -999.0,9
       RF02-10,  165E,RF-1793,  1,      1,02-17871,2,20021027,1110,  2.1623, 164.9992, 4139,   2047.0,   2.2175,  34.6395,2,   -999.0,9,  34.6402,2,    113.7,2,   132.65,2,  -999.00,9,    38.20,2,     0.00,2,     2.68,2, -999.000,9, -999.000,9,  -999.00,9,   -999.0,9,   -999.0,9,-999.0000,9,   -999.0,  9,     7.67,2,   -999.0,  -999.00,9,  -999.00,9,  -999.00,9,  -999.00,9,   -999.0,-999.0000, -999,9, 2026,   2.0737,  27.6770,   -999.0,9