BOTTLE,20130510GEMDJMAYT
EXPOCODE,SECT_ID,STNNBR,CASTNO,SAMPNO,BTLNBR,BTLNBR_FLAG_W,DATE,TIME,LATITUDE,LONGITUDE,DEPTH,CTDPRS,CTDTMP,CTDSAL,CTDSAL_FLAG_W,CTDOXY,CTDOXY_FLAG_W,SALNTY,SALNTY_FLAG_W,OXYGEN,OXYGEN_FLAG_W,SILCAT,SILCAT_FLAG_W,NITRAT,NITRAT_FLAG_W,NO2+NO3,NO2+NO3_FLAG_W,NITRIT,NITRIT_FLAG_W,PHSPHT,PHSPHT_FLAG_W,CFC-11,CFC-11_FLAG_W,CFC-12,CFC-12_FLAG_W,DELC13,DELC13_FLAG_W,TCARBN,TCARBN_FLAG_W,ALKALI,ALKALI_FLAG_W,PH,PH_FLAG_W,PH_TMP,PH_SCALE,PH_NBS,PH_NBS_FLAG_W,C13ERR,TOTALP,TOTALP_FLAG_W,AMMONI,AMMONI_FLAG_W,CHLORA,CHLORA_FLAG_W,PPHYTN,PPHYTN_FLAG_W,REVPRS,REVTMP,DEPTH_,DEPTH_FLAG,CTDDEP,THETA,SIGTHT,DOC,DOC_FLAG_W
,,,,,,,GMT,GMT,,,METER,DBAR,ITS-90,PSS-78,,UMOL/KG,,PSS-78,,UMOL/KG,,UMOL/KG,,UMOL/KG,,UMOL/KG,,UMOL/KG,,UMOL/KG,,PMOL/KG,,PMOL/KG,,/MILLE,,UMOL/KG,,UMOL/KG,,25_DEG_C,,DEG_C,,,,/MILLE,UMOL/KG,,UMOL/KG,,UG/L,,UG/L,,DBAR,ITS-90,METERS,,METERS,DEG_C,,UMOL/L,
       RF02-10,  165E,RF-1782,  1,     19,02-17875,4,20021015,1014, 12.9915, 164.9947, 5198,    101.2,  25.4916,  35.1787,2,   -999.0,9,-999.0000,9,   -999.0,9,  -999.00,9,  -999.00,9,  -999.00,9,  -999.00,9,  -999.00,9, -999.000,9, -999.000,9,  -999.00,9,   -999.0,9,   -999.0,9,-999.0000,9,   -999.0,  9,  -999.00,9,   -999.0,  -999.00,9,  -999.00,9,  -999.00,9,  -999.00,9,   -999.0,-999.0000, -999,9,  101,  25.4693,  23.3327,   -999.0,9
       RF02-10,  165E,RF-1782,  1,     18,02-12830,2,20021015,1012, 12.9915, 164.9947, 5198,    148.1,  20.1382,  34.9744,2,   -999.0,9,-999.0000,9,   -999.0,9,  -999.00,9,  -999.00,9,  -999.00,9,  -999.00,9,  -999.00,9, -999.000,9, -999.000,9,  -999.00,9,   -999.0,9,   -999.0,9,-999.0000,9,   -999.0,  9,  -999.00,9,   -999.0,  -999.00,9,  -999.00,9,  -999.00,9,  -999.00,9,   -999.0,-999.0000, -999,9,  147,  20.1107,  24.7130,   -999.0,9
       RF02-10,  165E,RF-1782,  1,     17,02-17874,2,20021015,1012, 12.9915, 164.9947, 5198,    150.1,  19.5614,  35.1200,2,   -999.0,9,-999.0000,9,   -999.0,9,  -999.00,9,  -999.00,9,  -999.00,9,  -999.00,9,  -999.00,9, -999.000,9, -999.000,9,  -999.00,9,   -999.0,9,   -999.0,9,-999.0000,9,   -999.0,  9,  -999.00,9,   -999.0,  -999.00,9,  -999.00,9,  -999.00,9,  -999.00,9,   -999.0,-999.0000, -999,9,  149,  19.5341,  24.9753,   -999.0,9
       RF02-10,  165E,RF-1782,  1,     16,02-12818,2,20021015,1010, 12.9915, 164.9947, 5198,    201.4,  14.4189,  34.5041,2,   -999.0,9,-999.0000,9,   -999.0,9,  -999.00,9,  -999.00,9,  -999.00,9,  -999.00,9,  -999.00,9, -999.000,9, -999.000,9,  -999.00,9,   -999.0,9,   -999.0,9,-999.0000,9,   -999.0,  9,  -999.00,9,   -999.0,  -999.00,9,  -999.00,9,  -999.00,9,  -999.00,9,   -999.0,-999.0000, -999,9,  200,  14.3894,  25.7215,   -999.0,9
       RF02-10,  165E,RF-1782,  1,     15,02-12809,2,20021015,1008, 12.9915, 164.9947, 5198,    251.8,  11.5393,  34.3316,2,   -999.0,9,-999.0000,9,   -999.0,9,  -999.00,9,  -999.00,9,  -999.00,9,  -999.00,9,  -999.00,9, -999.000,9, -999.000,9,  -999.00,9,   -999.0,9,   -999.0,9,-999.0000,9,   -999.0,  9,  -999.00,9,   -999.0,  -999.00,9,  -999.00,9,  -999.00,9,  -999.00,9,   -999.0,-999.0000, -999,9,  250,  11.5074,  26.1623,   -999.0,9
       RF02-10,  165E,RF-1782,  1,     14,02-12817,2,20021015,1006, 12.9915, 164.9947, 5198,    300.4,  10.3420,  34.4136,2,   -999.0,9,-999.0000,9,   -999.0,9,  -999.00,9,  -999.00,9,  -999.00,9,  -999.00,9,  -999.00,9, -999.000,9, -999.000,9,  -999.00,9,   -999.0,9,   -999.0,9,-999.0000,9,   -999.0,  9,  -999.00,9,   -999.0,  -999.00,9,  -999.00,9,  -999.00,9,  -999.00,9,   -999.0,-999.0000, -999,9,  298,  10.3065,  26.4414,   -999.0,9
       RF02-10,  165E,RF-1782,  1,     13,02-15822,2,20021015,1005, 12.9915, 164.9947, 5198,    301.4,  10.3152,  34.4239,2,   -999.0,9,-999.0000,9,   -999.0,9,  -999.00,9,  -999.00,9,  -999.00,9,  -999.00,9,  -999.00,9, -999.000,9, -999.000,9,  -999.00,9,   -999.0,9,   -999.0,9,-999.0000,9,   -999.0,  9,  -999.00,9,   -999.0,  -999.00,9,  -999.00,9,  -999.00,9,  -999.00,9,   -999.0,-999.0000, -999,9,  299,  10.2796,  26.4541,   -999.0,9
       RF02-10,  165E,RF-1782,  1,     12,02-13591,2,20021015,1000, 12.9915, 164.9947, 5198,    403.5,   8.7967,  34.5400,2,   -999.0,9,-999.0000,9,   -999.0,9,  -999.00,9,  -999.00,9,  -999.00,9,  -999.00,9,  -999.00,9, -999.000,9, -999.000,9,  -999.00,9,   -999.0,9,   -999.0,9,-999.0000,9,   -999.0,  9,  -999.00,9,   -999.0,  -999.00,9,  -999.00,9,  -999.00,9,  -999.00,9,   -999.0,-999.0000, -999,9,  401,   8.7533,  26.7971,   -999.0,9
       RF02-10,  165E,RF-1782,  1,     11,02-13589,2,20021015,0958, 12.9915, 164.9947, 5198,    503.7,   7.5659,  34.5397,2,   -999.0,9,-999.0000,9,   -999.0,9,  -999.00,9,  -999.00,9,  -999.00,9,  -999.00,9,  -999.00,9, -999.000,9, -999.000,9,  -999.00,9,   -999.0,9,   -999.0,9,-999.0000,9,   -999.0,  9,  -999.00,9,   -999.0,  -999.00,9,  -999.00,9,  -999.00,9,  -999.00,9,   -999.0,-999.0000, -999,9,  500,   7.5159,  26.9833,   -999.0,9
       RF02-10,  165E,RF-1782,  1,     10,02-12815,2,20021015,0955, 12.9915, 164.9947, 5198,    604.9,   6.7580,  34.5276,2,   -999.0,9,-999.0000,9,   -999.0,9,  -999.00,9,  -999.00,9,  -999.00,9,  -999.00,9,  -999.00,9, -999.000,9, -999.000,9,  -999.00,9,   -999.0,9,   -999.0,9,-999.0000,9,   -999.0,  9,  -999.00,9,   -999.0,  -999.00,9,  -999.00,9,  -999.00,9,  -999.00,9,   -999.0,-999.0000, -999,9,  601,   6.7012,  27.0875,   -999.0,9
       RF02-10,  165E,RF-1782,  1,      9,02-12807,2,20021015,0951, 12.9915, 164.9947, 5198,    705.6,   6.0890,  34.5196,2,   -999.0,9,-999.0000,9,   -999.0,9,  -999.00,9,  -999.00,9,  -999.00,9,  -999.00,9,  -999.00,9, -999.000,9, -999.000,9,  -999.00,9,   -999.0,9,   -999.0,9,-999.0000,9,   -999.0,  9,  -999.00,9,   -999.0,  -999.00,9,  -999.00,9,  -999.00,9,  -999.00,9,   -999.0,-999.0000, -999,9,  700,   6.0258,  27.1698,   -999.0,9
       RF02-10,  165E,RF-1782,  1,      8,02-10154,2,20021015,0948, 12.9915, 164.9947, 5198,    805.4,   5.4840,  34.5260,2,   -999.0,9,-999.0000,9,   -999.0,9,  -999.00,9,  -999.00,9,  -999.00,9,  -999.00,9,  -999.00,9, -999.000,9, -999.000,9,  -999.00,9,   -999.0,9,   -999.0,9,-999.0000,9,   -999.0,  9,  -999.00,9,   -999.0,  -999.00,9,  -999.00,9,  -999.00,9,  -999.00,9,   -999.0,-999.0000, -999,9,  799,   5.4150,  27.2505,   -999.0,9
       RF02-10,  165E,RF-1782,  1,      7,02-15821,2,20021015,0946, 12.9915, 164.9947, 5198,    907.1,   4.9716,  34.5338,2,   -999.0,9,-999.0000,9,   -999.0,9,  -999.00,9,  -999.00,9,  -999.00,9,  -999.00,9,  -999.00,9, -999.000,9, -999.000,9,  -999.00,9,   -999.0,9,   -999.0,9,-999.0000,9,   -999.0,  9,  -999.00,9,   -999.0,  -999.00,9,  -999.00,9,  -999.00,9,  -999.00,9,   -999.0,-999.0000, -999,9,  900,   4.8968,  27.3175,   -999.0,9
       RF02-10,  165E,RF-1782,  1,      5,02-10155,2,20021015,0942, 12.9915, 164.9947, 5198,   1010.0,   4.6224,  34.5446,2,   -999.0,9,-999.0000,9,   -999.0,9,  -999.00,9,  -999.00,9,  -999.00,9,  -999.00,9,  -999.00,9, -999.000,9, -999.000,9,  -999.00,9,   -999.0,9,   -999.0,9,-999.0000,9,   -999.0,  9,  -999.00,9,   -999.0,  -999.00,9,  -999.00,9,  -999.00,9,  -999.00,9,   -999.0,-999.0000, -999,9, 1002,   4.5410,  27.3660,   -999.0,9
       RF02-10,  165E,RF-1782,  1,      4,02-13579,2,20021015,0940, 12.9915, 164.9947, 5198,   1010.2,   4.6222,  34.5455,2,   -999.0,9,-999.0000,9,   -999.0,9,  -999.00,9,  -999.00,9,  -999.00,9,  -999.00,9,  -999.00,9, -999.000,9, -999.000,9,  -999.00,9,   -999.0,9,   -999.0,9,-999.0000,9,   -999.0,  9,  -999.00,9,   -999.0,  -999.00,9,  -999.00,9,  -999.00,9,  -999.00,9,   -999.0,-999.0000, -999,9, 1002,   4.5408,  27.3668,   -999.0,9
       RF02-10,  165E,RF-1782,  1,      6,02-17872,2,20021015,0942, 12.9915, 164.9947, 5198,   1010.4,   4.6195,  34.5449,2,   -999.0,9,-999.0000,9,   -999.0,9,  -999.00,9,  -999.00,9,  -999.00,9,  -999.00,9,  -999.00,9, -999.000,9, -999.000,9,  -999.00,9,   -999.0,9,   -999.0,9,-999.0000,9,   -999.0,  9,  -999.00,9,   -999.0,  -999.00,9,  -999.00,9,  -999.00,9,  -999.00,9,   -999.0,-999.0000, -999,9, 1002,   4.5381,  27.3666,   -999.0,9
       RF02-10,  165E,RF-1782,  1,      1,02-17871,2,20021015,0917, 12.9915, 164.9947, 5198,   2023.2,   2.1451,  34.6324,2,   -999.0,9,-999.0000,9,   -999.0,9,  -999.00,9,  -999.00,9,  -999.00,9,  -999.00,9,  -999.00,9, -999.000,9, -999.000,9,  -999.00,9,   -999.0,9,   -999.0,9,-999.0000,9,   -999.0,  9,  -999.00,9,   -999.0,  -999.00,9,  -999.00,9,  -999.00,9,  -999.00,9,   -999.0,-999.0000, -999,9, 2002,   2.0045,  27.6768,   -999.0,9
       RF02-10,  165E,RF-1782,  1,      3,02-13590,2,20021015,0918, 12.9915, 164.9947, 5198,   2024.2,   2.1453,  34.6330,2,   -999.0,9,-999.0000,9,   -999.0,9,  -999.00,9,  -999.00,9,  -999.00,9,  -999.00,9,  -999.00,9, -999.000,9, -999.000,9,  -999.00,9,   -999.0,9,   -999.0,9,-999.0000,9,   -999.0,  9,  -999.00,9,   -999.0,  -999.00,9,  -999.00,9,  -999.00,9,  -999.00,9,   -999.0,-999.0000, -999,9, 2003,   2.0046,  27.6772,   -999.0,9
       RF02-10,  165E,RF-1782,  1,      2,02-12827,2,20021015,0917, 12.9915, 164.9947, 5198,   2024.5,   2.1455,  34.6317,2,   -999.0,9,-999.0000,9,   -999.0,9,  -999.00,9,  -999.00,9,  -999.00,9,  -999.00,9,  -999.00,9, -999.000,9, -999.000,9,  -999.00,9,   -999.0,9,   -999.0,9,-999.0000,9,   -999.0,  9,  -999.00,9,   -999.0,  -999.00,9,  -999.00,9,  -999.00,9,  -999.00,9,   -999.0,-999.0000, -999,9, 2003,   2.0048,  27.6762,   -999.0,9
       RF02-10,  165E,RF-1783,  1,     -9,      -9,5,20021015,1728, 11.9902, 164.4940, 4652,      0.0,  29.2885,  33.9190,2,   -999.0,9,-999.0000,9,    195.3,2,     1.10,2,  -999.00,9,     0.01,2,     0.01,2,     0.07,2, -999.000,9, -999.000,9,  -999.00,9,   -999.0,9,   -999.0,9,-999.0000,9,   -999.0,  9,     8.26,2,   -999.0,  -999.00,9,  -999.00,9,     0.05,2,     0.02,2,   -999.0,-999.0000, -999,9,    0,  29.2885,  21.1563,   -999.0,9
       RF02-10,  165E,RF-1783,  1,     21,02-12826,2,20021015,1725, 11.9902, 164.4940, 4652,     10.0,  29.2826,  33.9154,2,   -999.0,9,-999.0000,9,    194.7,2,     1.08,2,  -999.00,9,     0.02,2,     0.01,2,     0.06,2, -999.000,9, -999.000,9,  -999.00,9,   -999.0,9,   -999.0,9,-999.0000,9,   -999.0,  9,     8.26,2,   -999.0,  -999.00,9,  -999.00,9,     0.06,2,     0.02,2,   -999.0,-999.0000, -999,9,   10,  29.2801,  21.1564,   -999.0,9
       RF02-10,  165E,RF-1783,  1,     20,02-12821,2,20021015,1724, 11.9902, 164.4940, 4652,     25.7,  29.0727,  34.1576,2,   -999.0,9,-999.0000,9,    197.9,2,     1.07,2,  -999.00,9,     0.01,2,     0.01,2,     0.07,2, -999.000,9, -999.000,9,  -999.00,9,   -999.0,9,   -999.0,9,-999.0000,9,   -999.0,  9,     8.24,2,   -999.0,  -999.00,9,  -999.00,9,     0.07,2,     0.02,2,   -999.0,-999.0000, -999,9,   26,  29.0665,  21.4096,   -999.0,9
       RF02-10,  165E,RF-1783,  1,     19,02-17875,2,20021015,1722, 11.9902, 164.4940, 4652,     50.5,  27.5184,  34.8026,2,   -999.0,9,-999.0000,9,    210.4,2,     1.12,2,  -999.00,9,     0.03,2,     0.01,2,     0.07,2, -999.000,9, -999.000,9,  -999.00,9,   -999.0,9,   -999.0,9,-999.0000,9,   -999.0,  9,     8.23,2,   -999.0,  -999.00,9,  -999.00,9,     0.11,2,     0.03,2,   -999.0,-999.0000, -999,9,   50,  27.5066,  22.4064,   -999.0,9
       RF02-10,  165E,RF-1783,  1,     18,02-12830,2,20021015,1721, 11.9902, 164.4940, 4652,     75.2,  25.7968,  35.0473,2,   -999.0,9,-999.0000,9,    209.2,2,     1.06,2,  -999.00,9,     0.03,2,     0.01,2,     0.05,2, -999.000,9, -999.000,9,  -999.00,9,   -999.0,9,   -999.0,9,-999.0000,9,   -999.0,  9,     8.22,2,   -999.0,  -999.00,9,  -999.00,9,     0.16,2,     0.08,2,   -999.0,-999.0000, -999,9,   75,  25.7802,  23.1374,   -999.0,9
       RF02-10,  165E,RF-1783,  1,     17,02-17874,2,20021015,1720, 11.9902, 164.4940, 4652,    101.5,  22.8983,  35.0034,2,   -999.0,9,  35.0030,2,    197.3,2,     1.75,2,  -999.00,9,     0.29,2,     0.02,2,     0.16,2, -999.000,9, -999.000,9,  -999.00,9,   -999.0,9,   -999.0,9,-999.0000,9,   -999.0,  9,     8.14,2,   -999.0,  -999.00,9,  -999.00,9,     0.27,2,     0.27,2,   -999.0,-999.0000, -999,9,  101,  22.8776,  23.9714,   -999.0,9
       RF02-10,  165E,RF-1783,  1,     16,02-12818,2,20021015,1718, 11.9902, 164.4940, 4652,    126.3,  19.5128,  34.8949,2,   -999.0,9,-999.0000,9,    173.3,2,     4.18,2,  -999.00,9,     5.08,2,     0.27,2,     0.44,2, -999.000,9, -999.000,9,  -999.00,9,   -999.0,9,   -999.0,9,-999.0000,9,   -999.0,  9,     8.02,2,   -999.0,  -999.00,9,  -999.00,9,     0.17,2,     0.31,2,   -999.0,-999.0000, -999,9,  126,  19.4899,  24.8149,   -999.0,9
       RF02-10,  165E,RF-1783,  1,     15,02-12809,2,20021015,1717, 11.9902, 164.4940, 4652,    151.1,  16.9723,  34.6978,2,   -999.0,9,-999.0000,9,    159.1,2,     7.07,2,  -999.00,9,     9.46,2,     0.03,2,     0.69,2, -999.000,9, -999.000,9,  -999.00,9,   -999.0,9,   -999.0,9,-999.0000,9,   -999.0,  9,     7.95,2,   -999.0,  -999.00,9,  -999.00,9,     0.11,2,     0.19,2,   -999.0,-999.0000, -999,9,  150,  16.9475,  25.2948,   -999.0,9
       RF02-10,  165E,RF-1783,  1,     14,02-12817,2,20021015,1715, 11.9902, 164.4940, 4652,    200.2,  13.4771,  34.4595,2,   -999.0,9,  34.4459,4,    139.4,2,    14.61,2,  -999.00,9,    16.46,2,     0.00,2,     1.17,2, -999.000,9, -999.000,9,  -999.00,9,   -999.0,9,   -999.0,9,-999.0000,9,   -999.0,  9,     7.86,2,   -999.0,  -999.00,9,  -999.00,9,     0.03,2,     0.09,2,   -999.0,-999.0000, -999,9,  199,  13.4490,  25.8833,   -999.0,9
       RF02-10,  165E,RF-1783,  1,     13,02-15822,2,20021015,1713, 11.9902, 164.4940, 4652,    251.9,  10.6615,  34.3250,2,   -999.0,9,-999.0000,9,   -999.0,4,    26.82,2,  -999.00,9,    25.00,2,     0.00,2,     1.82,2, -999.000,9, -999.000,9,  -999.00,9,   -999.0,9,   -999.0,9,-999.0000,9,   -999.0,  9,     7.71,2,   -999.0,  -999.00,9,  -999.00,9,  -999.00,9,  -999.00,9,   -999.0,-999.0000, -999,9,  250,  10.6312,  26.3155,   -999.0,9
       RF02-10,  165E,RF-1783,  1,     12,02-13591,2,20021015,1711, 11.9902, 164.4940, 4652,    302.5,   9.5168,  34.4812,2,   -999.0,9,-999.0000,9,    104.7,2,    35.90,2,  -999.00,9,    32.06,2,     0.01,2,     2.34,2, -999.000,9, -999.000,9,  -999.00,9,   -999.0,9,   -999.0,9,-999.0000,9,   -999.0,  9,     7.59,2,   -999.0,  -999.00,9,  -999.00,9,  -999.00,9,  -999.00,9,   -999.0,-999.0000, -999,9,  301,   9.4828,  26.6335,   -999.0,9
       RF02-10,  165E,RF-1783,  1,     11,02-13589,2,20021015,1708, 11.9902, 164.4940, 4652,    403.4,   8.4061,  34.5554,2,   -999.0,9,  34.5539,2,     52.6,2,    44.27,2,  -999.00,9,    36.02,2,     0.01,2,     2.63,2, -999.000,9, -999.000,9,  -999.00,9,   -999.0,9,   -999.0,9,-999.0000,9,   -999.0,  9,  -999.00,9,   -999.0,  -999.00,9,  -999.00,9,  -999.00,9,  -999.00,9,   -999.0,-999.0000, -999,9,  401,   8.3637,  26.8696,   -999.0,9
       RF02-10,  165E,RF-1783,  1,     10,02-12815,2,20021015,1705, 11.9902, 164.4940, 4652,    502.3,   7.5016,  34.5413,2,   -999.0,9,-999.0000,9,     36.7,2,    52.39,2,  -999.00,9,    37.45,2,     0.01,2,     2.75,2, -999.000,9, -999.000,9,  -999.00,9,   -999.0,9,   -999.0,9,-999.0000,9,   -999.0,  9,     7.54,2,   -999.0,  -999.00,9,  -999.00,9,  -999.00,9,  -999.00,9,   -999.0,-999.0000, -999,9,  499,   7.4520,  26.9938,   -999.0,9
       RF02-10,  165E,RF-1783,  1,      9,02-12807,2,20021015,1703, 11.9902, 164.4940, 4652,    604.7,   6.5952,  34.5245,2,   -999.0,9,  34.5240,2,     42.5,2,    61.88,2,  -999.00,9,    38.81,2,     0.01,2,     2.84,2, -999.000,9, -999.000,9,  -999.00,9,   -999.0,9,   -999.0,9,-999.0000,9,   -999.0,  9,  -999.00,9,   -999.0,  -999.00,9,  -999.00,9,  -999.00,9,  -999.00,9,   -999.0,-999.0000, -999,9,  600,   6.5392,  27.1068,   -999.0,9
       RF02-10,  165E,RF-1783,  1,      8,02-10154,2,20021015,1700, 11.9902, 164.4940, 4652,    704.1,   5.8946,  34.5221,2,   -999.0,9,-999.0000,9,     46.0,2,    70.72,2,  -999.00,9,    39.83,2,     0.01,2,     2.92,2, -999.000,9, -999.000,9,  -999.00,9,   -999.0,9,   -999.0,9,-999.0000,9,   -999.0,  9,     7.54,2,   -999.0,  -999.00,9,  -999.00,9,  -999.00,9,  -999.00,9,   -999.0,-999.0000, -999,9,  699,   5.8327,  27.1962,   -999.0,9
       RF02-10,  165E,RF-1783,  1,      7,02-15821,2,20021015,1657, 11.9902, 164.4940, 4652,    806.9,   5.3455,  34.5307,2,   -999.0,9,  34.5291,2,     46.1,2,    79.09,2,  -999.00,9,    40.85,2,     0.00,2,     2.99,2, -999.000,9, -999.000,9,  -999.00,9,   -999.0,9,   -999.0,9,-999.0000,9,   -999.0,  9,  -999.00,9,   -999.0,  -999.00,9,  -999.00,9,  -999.00,9,  -999.00,9,   -999.0,-999.0000, -999,9,  801,   5.2773,  27.2707,   -999.0,9
       RF02-10,  165E,RF-1783,  1,      6,02-17872,2,20021015,1654, 11.9902, 164.4940, 4652,    907.1,   4.8638,  34.5400,2,   -999.0,9,-999.0000,9,     51.8,2,    87.15,2,  -999.00,9,    40.97,2,     0.01,2,     3.00,2, -999.000,9, -999.000,9,  -999.00,9,   -999.0,9,   -999.0,9,-999.0000,9,   -999.0,  9,  -999.00,9,   -999.0,  -999.00,9,  -999.00,9,  -999.00,9,  -999.00,9,   -999.0,-999.0000, -999,9,  900,   4.7898,  27.3346,   -999.0,9
       RF02-10,  165E,RF-1783,  1,      5,02-10155,2,20021015,1651, 11.9902, 164.4940, 4652,   1007.2,   4.4936,  34.5478,2,   -999.0,9,  34.5486,2,     55.9,2,    93.95,2,  -999.00,9,    40.95,2,     0.01,2,     3.00,2, -999.000,9, -999.000,9,  -999.00,9,   -999.0,9,   -999.0,9,-999.0000,9,   -999.0,  9,     7.54,2,   -999.0,  -999.00,9,  -999.00,9,  -999.00,9,  -999.00,9,   -999.0,-999.0000, -999,9,  999,   4.4135,  27.3825,   -999.0,9
       RF02-10,  165E,RF-1783,  1,      4,02-13579,2,20021015,1646, 11.9902, 164.4940, 4652,   1259.9,   3.6721,  34.5715,2,   -999.0,9,  34.5718,2,     68.6,2,   109.69,2,  -999.00,9,    40.59,2,     0.01,2,     2.95,2, -999.000,9, -999.000,9,  -999.00,9,   -999.0,9,   -999.0,9,-999.0000,9,   -999.0,  9,  -999.00,9,   -999.0,  -999.00,9,  -999.00,9,  -999.00,9,  -999.00,9,   -999.0,-999.0000, -999,9, 1249,   3.5774,  27.4881,   -999.0,9
       RF02-10,  165E,RF-1783,  1,      3,02-13590,2,20021015,1640, 11.9902, 164.4940, 4652,   1513.7,   2.9906,  34.5949,2,   -999.0,9,  34.5942,2,     81.4,2,   123.55,2,  -999.00,9,    39.97,2,     0.01,2,     2.89,2, -999.000,9, -999.000,9,  -999.00,9,   -999.0,9,   -999.0,9,-999.0000,9,   -999.0,  9,     7.57,2,   -999.0,  -999.00,9,  -999.00,9,  -999.00,9,  -999.00,9,   -999.0,-999.0000, -999,9, 1500,   2.8817,  27.5725,   -999.0,9
       RF02-10,  165E,RF-1783,  1,      2,02-12827,2,20021015,1633, 11.9902, 164.4940, 4652,   1768.6,   2.5194,  34.6143,2,   -999.0,9,  34.6162,2,     93.1,2,   132.96,2,  -999.00,9,    39.39,2,     0.01,2,     2.82,2, -999.000,9, -999.000,9,  -999.00,9,   -999.0,9,   -999.0,9,-999.0000,9,   -999.0,  9,     7.57,2,   -999.0,  -999.00,9,  -999.00,9,  -999.00,9,  -999.00,9,   -999.0,-999.0000, -999,9, 1751,   2.3950,  27.6304,   -999.0,9
       RF02-10,  165E,RF-1783,  1,      1,02-17871,2,20021015,1619, 11.9902, 164.4940, 4652,   2042.7,   2.2201,  34.6308,2,   -999.0,9,  34.6322,2,    103.3,2,   138.00,2,  -999.00,9,    38.81,2,     0.01,2,     2.76,2, -999.000,9, -999.000,9,  -999.00,9,   -999.0,9,   -999.0,9,-999.0000,9,   -999.0,  9,     7.57,2,   -999.0,  -999.00,9,  -999.00,9,  -999.00,9,  -999.00,9,   -999.0,-999.0000, -999,9, 2021,   2.0767,  27.6698,   -999.0,9