BOTTLE,20130510GEMDJMAYT
EXPOCODE,SECT_ID,STNNBR,CASTNO,SAMPNO,BTLNBR,BTLNBR_FLAG_W,DATE,TIME,LATITUDE,LONGITUDE,DEPTH,CTDPRS,CTDTMP,CTDSAL,CTDSAL_FLAG_W,CTDOXY,CTDOXY_FLAG_W,SALNTY,SALNTY_FLAG_W,OXYGEN,OXYGEN_FLAG_W,SILCAT,SILCAT_FLAG_W,NITRAT,NITRAT_FLAG_W,NO2+NO3,NO2+NO3_FLAG_W,NITRIT,NITRIT_FLAG_W,PHSPHT,PHSPHT_FLAG_W,CFC-11,CFC-11_FLAG_W,CFC-12,CFC-12_FLAG_W,DELC13,DELC13_FLAG_W,TCARBN,TCARBN_FLAG_W,ALKALI,ALKALI_FLAG_W,PH,PH_FLAG_W,PH_TMP,PH_SCALE,PH_NBS,PH_NBS_FLAG_W,C13ERR,TOTALP,TOTALP_FLAG_W,AMMONI,AMMONI_FLAG_W,CHLORA,CHLORA_FLAG_W,PPHYTN,PPHYTN_FLAG_W,REVPRS,REVTMP,DEPTH_,DEPTH_FLAG,CTDDEP,THETA,SIGTHT,DOC,DOC_FLAG_W
,,,,,,,GMT,GMT,,,METER,DBAR,ITS-90,PSS-78,,UMOL/KG,,PSS-78,,UMOL/KG,,UMOL/KG,,UMOL/KG,,UMOL/KG,,UMOL/KG,,UMOL/KG,,PMOL/KG,,PMOL/KG,,/MILLE,,UMOL/KG,,UMOL/KG,,25_DEG_C,,DEG_C,,,,/MILLE,UMOL/KG,,UMOL/KG,,UG/L,,UG/L,,DBAR,ITS-90,METERS,,METERS,DEG_C,,UMOL/L,
       RF02-10,  165E,RF-1794,  1,     21,02-12826,2,20021027,2013,  0.9902, 165.0083, 4330,    103.9,  28.3385,  34.5982,2,   -999.0,9,-999.0000,9,   -999.0,9,  -999.00,9,  -999.00,9,  -999.00,9,  -999.00,9,  -999.00,9, -999.000,9, -999.000,9,  -999.00,9,   -999.0,9,   -999.0,9,-999.0000,9,   -999.0,  9,  -999.00,9,   -999.0,  -999.00,9,  -999.00,9,  -999.00,9,  -999.00,9,   -999.0,-999.0000, -999,9,  103,  28.3138,  21.9898,   -999.0,9
       RF02-10,  165E,RF-1794,  1,     22,02-12811,2,20021027,2014,  0.9902, 165.0083, 4330,    104.4,  28.3349,  34.5998,2,   -999.0,9,-999.0000,9,   -999.0,9,  -999.00,9,  -999.00,9,  -999.00,9,  -999.00,9,  -999.00,9, -999.000,9, -999.000,9,  -999.00,9,   -999.0,9,   -999.0,9,-999.0000,9,   -999.0,  9,  -999.00,9,   -999.0,  -999.00,9,  -999.00,9,  -999.00,9,  -999.00,9,   -999.0,-999.0000, -999,9,  104,  28.3101,  21.9921,   -999.0,9
       RF02-10,  165E,RF-1794,  1,     19,02-17875,2,20021027,2011,  0.9902, 165.0083, 4330,    153.0,  21.0693,  35.2456,2,   -999.0,9,-999.0000,9,   -999.0,9,  -999.00,9,  -999.00,9,  -999.00,9,  -999.00,9,  -999.00,9, -999.000,9, -999.000,9,  -999.00,9,   -999.0,9,   -999.0,9,-999.0000,9,   -999.0,  9,  -999.00,9,   -999.0,  -999.00,9,  -999.00,9,  -999.00,9,  -999.00,9,   -999.0,-999.0000, -999,9,  152,  21.0399,  24.6700,   -999.0,9
       RF02-10,  165E,RF-1794,  1,     20,02-12821,2,20021027,2011,  0.9902, 165.0083, 4330,    153.0,  21.0552,  35.2577,2,   -999.0,9,-999.0000,9,   -999.0,9,  -999.00,9,  -999.00,9,  -999.00,9,  -999.00,9,  -999.00,9, -999.000,9, -999.000,9,  -999.00,9,   -999.0,9,   -999.0,9,-999.0000,9,   -999.0,  9,  -999.00,9,   -999.0,  -999.00,9,  -999.00,9,  -999.00,9,  -999.00,9,   -999.0,-999.0000, -999,9,  152,  21.0259,  24.6830,   -999.0,9
       RF02-10,  165E,RF-1794,  1,     17,02-17874,2,20021027,2009,  0.9902, 165.0083, 4330,    203.3,  13.5164,  34.9518,2,   -999.0,9,-999.0000,9,   -999.0,9,  -999.00,9,  -999.00,9,  -999.00,9,  -999.00,9,  -999.00,9, -999.000,9, -999.000,9,  -999.00,9,   -999.0,9,   -999.0,9,-999.0000,9,   -999.0,  9,  -999.00,9,   -999.0,  -999.00,9,  -999.00,9,  -999.00,9,  -999.00,9,   -999.0,-999.0000, -999,9,  202,  13.4877,  26.2565,   -999.0,9
       RF02-10,  165E,RF-1794,  1,     18,02-12830,2,20021027,2009,  0.9902, 165.0083, 4330,    205.2,  13.5190,  34.9508,2,   -999.0,9,-999.0000,9,   -999.0,9,  -999.00,9,  -999.00,9,  -999.00,9,  -999.00,9,  -999.00,9, -999.000,9, -999.000,9,  -999.00,9,   -999.0,9,   -999.0,9,-999.0000,9,   -999.0,  9,  -999.00,9,   -999.0,  -999.00,9,  -999.00,9,  -999.00,9,  -999.00,9,   -999.0,-999.0000, -999,9,  204,  13.4901,  26.2551,   -999.0,9
       RF02-10,  165E,RF-1794,  1,     15,02-12809,2,20021027,2006,  0.9902, 165.0083, 4330,    255.8,  12.3311,  34.8571,2,   -999.0,9,-999.0000,9,   -999.0,9,  -999.00,9,  -999.00,9,  -999.00,9,  -999.00,9,  -999.00,9, -999.000,9, -999.000,9,  -999.00,9,   -999.0,9,   -999.0,9,-999.0000,9,   -999.0,  9,  -999.00,9,   -999.0,  -999.00,9,  -999.00,9,  -999.00,9,  -999.00,9,   -999.0,-999.0000, -999,9,  254,  12.2971,  26.4209,   -999.0,9
       RF02-10,  165E,RF-1794,  1,     16,02-12818,2,20021027,2007,  0.9902, 165.0083, 4330,    257.6,  12.2826,  34.8565,2,   -999.0,9,-999.0000,9,   -999.0,9,  -999.00,9,  -999.00,9,  -999.00,9,  -999.00,9,  -999.00,9, -999.000,9, -999.000,9,  -999.00,9,   -999.0,9,   -999.0,9,-999.0000,9,   -999.0,  9,  -999.00,9,   -999.0,  -999.00,9,  -999.00,9,  -999.00,9,  -999.00,9,   -999.0,-999.0000, -999,9,  256,  12.2484,  26.4299,   -999.0,9
       RF02-10,  165E,RF-1794,  1,     14,02-12817,2,20021027,2004,  0.9902, 165.0083, 4330,    305.2,  11.2801,  34.8135,2,   -999.0,9,-999.0000,9,   -999.0,9,  -999.00,9,  -999.00,9,  -999.00,9,  -999.00,9,  -999.00,9, -999.000,9, -999.000,9,  -999.00,9,   -999.0,9,   -999.0,9,-999.0000,9,   -999.0,  9,  -999.00,9,   -999.0,  -999.00,9,  -999.00,9,  -999.00,9,  -999.00,9,   -999.0,-999.0000, -999,9,  303,  11.2418,  26.5862,   -999.0,9
       RF02-10,  165E,RF-1794,  1,     13,02-15822,2,20021027,2002,  0.9902, 165.0083, 4330,    405.2,   9.2831,  34.6645,2,   -999.0,9,-999.0000,9,   -999.0,9,  -999.00,9,  -999.00,9,  -999.00,9,  -999.00,9,  -999.00,9, -999.000,9, -999.000,9,  -999.00,9,   -999.0,9,   -999.0,9,-999.0000,9,   -999.0,  9,  -999.00,9,   -999.0,  -999.00,9,  -999.00,9,  -999.00,9,  -999.00,9,   -999.0,-999.0000, -999,9,  403,   9.2379,  26.8170,   -999.0,9
       RF02-10,  165E,RF-1794,  1,     12,02-13591,2,20021027,1959,  0.9902, 165.0083, 4330,    506.0,   8.1533,  34.5975,2,   -999.0,9,-999.0000,9,   -999.0,9,  -999.00,9,  -999.00,9,  -999.00,9,  -999.00,9,  -999.00,9, -999.000,9, -999.000,9,  -999.00,9,   -999.0,9,   -999.0,9,-999.0000,9,   -999.0,  9,  -999.00,9,   -999.0,  -999.00,9,  -999.00,9,  -999.00,9,  -999.00,9,   -999.0,-999.0000, -999,9,  503,   8.1008,  26.9426,   -999.0,9
       RF02-10,  165E,RF-1794,  1,     11,02-13589,2,20021027,1956,  0.9902, 165.0083, 4330,    607.0,   7.2327,  34.5742,2,   -999.0,9,-999.0000,9,   -999.0,9,  -999.00,9,  -999.00,9,  -999.00,9,  -999.00,9,  -999.00,9, -999.000,9, -999.000,9,  -999.00,9,   -999.0,9,   -999.0,9,-999.0000,9,   -999.0,  9,  -999.00,9,   -999.0,  -999.00,9,  -999.00,9,  -999.00,9,  -999.00,9,   -999.0,-999.0000, -999,9,  603,   7.1735,  27.0591,   -999.0,9
       RF02-10,  165E,RF-1794,  1,     10,02-12815,2,20021027,1954,  0.9902, 165.0083, 4330,    708.1,   5.9886,  34.5361,2,   -999.0,9,-999.0000,9,   -999.0,9,  -999.00,9,  -999.00,9,  -999.00,9,  -999.00,9,  -999.00,9, -999.000,9, -999.000,9,  -999.00,9,   -999.0,9,   -999.0,9,-999.0000,9,   -999.0,  9,  -999.00,9,   -999.0,  -999.00,9,  -999.00,9,  -999.00,9,  -999.00,9,   -999.0,-999.0000, -999,9,  703,   5.9257,  27.1955,   -999.0,9
       RF02-10,  165E,RF-1794,  1,      9,02-12807,2,20021027,1951,  0.9902, 165.0083, 4330,    809.3,   5.4296,  34.5395,2,   -999.0,9,-999.0000,9,   -999.0,9,  -999.00,9,  -999.00,9,  -999.00,9,  -999.00,9,  -999.00,9, -999.000,9, -999.000,9,  -999.00,9,   -999.0,9,   -999.0,9,-999.0000,9,   -999.0,  9,  -999.00,9,   -999.0,  -999.00,9,  -999.00,9,  -999.00,9,  -999.00,9,   -999.0,-999.0000, -999,9,  803,   5.3606,  27.2678,   -999.0,9
       RF02-10,  165E,RF-1794,  1,      8,02-10154,2,20021027,1947,  0.9902, 165.0083, 4330,    910.5,   4.9116,  34.5453,2,   -999.0,9,-999.0000,9,   -999.0,9,  -999.00,9,  -999.00,9,  -999.00,9,  -999.00,9,  -999.00,9, -999.000,9, -999.000,9,  -999.00,9,   -999.0,9,   -999.0,9,-999.0000,9,   -999.0,  9,  -999.00,9,   -999.0,  -999.00,9,  -999.00,9,  -999.00,9,  -999.00,9,   -999.0,-999.0000, -999,9,  903,   4.8369,  27.3334,   -999.0,9
       RF02-10,  165E,RF-1794,  1,      6,02-17872,2,20021027,1944,  0.9902, 165.0083, 4330,   1010.9,   4.5827,  34.5510,2,   -999.0,9,-999.0000,9,   -999.0,9,  -999.00,9,  -999.00,9,  -999.00,9,  -999.00,9,  -999.00,9, -999.000,9, -999.000,9,  -999.00,9,   -999.0,9,   -999.0,9,-999.0000,9,   -999.0,  9,  -999.00,9,   -999.0,  -999.00,9,  -999.00,9,  -999.00,9,  -999.00,9,   -999.0,-999.0000, -999,9, 1003,   4.5016,  27.3754,   -999.0,9
       RF02-10,  165E,RF-1794,  1,      7,02-15821,2,20021027,1944,  0.9902, 165.0083, 4330,   1012.0,   4.5812,  34.5512,2,   -999.0,9,-999.0000,9,   -999.0,9,  -999.00,9,  -999.00,9,  -999.00,9,  -999.00,9,  -999.00,9, -999.000,9, -999.000,9,  -999.00,9,   -999.0,9,   -999.0,9,-999.0000,9,   -999.0,  9,  -999.00,9,   -999.0,  -999.00,9,  -999.00,9,  -999.00,9,  -999.00,9,   -999.0,-999.0000, -999,9, 1004,   4.5000,  27.3758,   -999.0,9
       RF02-10,  165E,RF-1794,  1,      5,02-10155,2,20021027,1926,  0.9902, 165.0083, 4330,   2024.2,   2.1542,  34.6430,2,   -999.0,9,  34.6471,2,   -999.0,9,  -999.00,9,  -999.00,9,  -999.00,9,  -999.00,9,  -999.00,9, -999.000,9, -999.000,9,  -999.00,9,   -999.0,9,   -999.0,9,-999.0000,9,   -999.0,  9,  -999.00,9,   -999.0,  -999.00,9,  -999.00,9,  -999.00,9,  -999.00,9,   -999.0,-999.0000, -999,9, 2003,   2.0134,  27.6846,   -999.0,9
       RF02-10,  165E,RF-1794,  1,      4,02-13579,2,20021027,1905,  0.9902, 165.0083, 4330,   3044.5,   1.6123,  34.6746,2,   -999.0,9,  34.6741,2,   -999.0,9,  -999.00,9,  -999.00,9,  -999.00,9,  -999.00,9,  -999.00,9, -999.000,9, -999.000,9,  -999.00,9,   -999.0,9,   -999.0,9,-999.0000,9,   -999.0,  9,  -999.00,9,   -999.0,  -999.00,9,  -999.00,9,  -999.00,9,  -999.00,9,   -999.0,-999.0000, -999,9, 3006,   1.3888,  27.7571,   -999.0,9
       RF02-10,  165E,RF-1794,  1,      3,02-13590,2,20021027,1841,  0.9902, 165.0083, 4330,   4066.8,   1.4135,  34.6950,2,   -999.0,9,  34.6932,2,   -999.0,9,  -999.00,9,  -999.00,9,  -999.00,9,  -999.00,9,  -999.00,9, -999.000,9, -999.000,9,  -999.00,9,   -999.0,9,   -999.0,9,-999.0000,9,   -999.0,  9,  -999.00,9,   -999.0,  -999.00,9,  -999.00,9,  -999.00,9,  -999.00,9,   -999.0,-999.0000, -999,9, 4006,   1.0897,  27.7942,   -999.0,9
       RF02-10,  165E,RF-1794,  1,      2,02-12827,2,20021027,1836,  0.9902, 165.0083, 4330,   4271.9,   1.3621,  34.6986,2,   -999.0,9,  34.6979,2,   -999.0,9,  -999.00,9,  -999.00,9,  -999.00,9,  -999.00,9,  -999.00,9, -999.000,9, -999.000,9,  -999.00,9,   -999.0,9,   -999.0,9,-999.0000,9,   -999.0,  9,  -999.00,9,   -999.0,  -999.00,9,  -999.00,9,  -999.00,9,  -999.00,9,   -999.0,-999.0000, -999,9, 4206,   1.0172,  27.8020,   -999.0,9
       RF02-10,  165E,RF-1794,  1,      1,02-17871,2,20021027,1835,  0.9902, 165.0083, 4330,   4272.6,   1.3616,  34.6993,2,   -999.0,9,  34.6979,2,   -999.0,9,  -999.00,9,  -999.00,9,  -999.00,9,  -999.00,9,  -999.00,9, -999.000,9, -999.000,9,  -999.00,9,   -999.0,9,   -999.0,9,-999.0000,9,   -999.0,  9,  -999.00,9,   -999.0,  -999.00,9,  -999.00,9,  -999.00,9,  -999.00,9,   -999.0,-999.0000, -999,9, 4207,   1.0166,  27.8026,   -999.0,9