BOTTLE,20130510GEMDJMAYT
EXPOCODE,SECT_ID,STNNBR,CASTNO,SAMPNO,BTLNBR,BTLNBR_FLAG_W,DATE,TIME,LATITUDE,LONGITUDE,DEPTH,CTDPRS,CTDTMP,CTDSAL,CTDSAL_FLAG_W,CTDOXY,CTDOXY_FLAG_W,SALNTY,SALNTY_FLAG_W,OXYGEN,OXYGEN_FLAG_W,SILCAT,SILCAT_FLAG_W,NITRAT,NITRAT_FLAG_W,NO2+NO3,NO2+NO3_FLAG_W,NITRIT,NITRIT_FLAG_W,PHSPHT,PHSPHT_FLAG_W,CFC-11,CFC-11_FLAG_W,CFC-12,CFC-12_FLAG_W,DELC13,DELC13_FLAG_W,TCARBN,TCARBN_FLAG_W,ALKALI,ALKALI_FLAG_W,PH,PH_FLAG_W,PH_TMP,PH_SCALE,PH_NBS,PH_NBS_FLAG_W,C13ERR,TOTALP,TOTALP_FLAG_W,AMMONI,AMMONI_FLAG_W,CHLORA,CHLORA_FLAG_W,PPHYTN,PPHYTN_FLAG_W,REVPRS,REVTMP,DEPTH_,DEPTH_FLAG,CTDDEP,THETA,SIGTHT,DOC,DOC_FLAG_W
,,,,,,,GMT,GMT,,,METER,DBAR,ITS-90,PSS-78,,UMOL/KG,,PSS-78,,UMOL/KG,,UMOL/KG,,UMOL/KG,,UMOL/KG,,UMOL/KG,,UMOL/KG,,PMOL/KG,,PMOL/KG,,/MILLE,,UMOL/KG,,UMOL/KG,,25_DEG_C,,DEG_C,,,,/MILLE,UMOL/KG,,UMOL/KG,,UG/L,,UG/L,,DBAR,ITS-90,METERS,,METERS,DEG_C,,UMOL/L,
       RF02-10,  165E,RF-1808,  1,     -9,      -9,5,20021104,1944, -0.1617, 165.0047, 4393,      0.0,  29.3476,  34.2458,2,   -999.0,9,-999.0000,9,    194.8,2,     1.17,2,  -999.00,9,     0.00,2,     0.00,2,     0.04,2, -999.000,9, -999.000,9,  -999.00,9,   -999.0,9,   -999.0,9,-999.0000,9,   -999.0,  9,     8.23,2,   -999.0,  -999.00,9,  -999.00,9,     0.10,2,     0.03,2,   -999.0,-999.0000, -999,9,    0,  29.3476,  21.3816,   -999.0,9
       RF02-10,  165E,RF-1808,  1,     21,02-12826,2,20021104,1941, -0.1617, 165.0047, 4393,     10.0,  29.3519,  34.2500,2,   -999.0,9,-999.0000,9,    195.5,2,     1.17,2,  -999.00,9,     0.00,2,     0.00,2,     0.03,2, -999.000,9, -999.000,9,  -999.00,9,   -999.0,9,   -999.0,9,-999.0000,9,   -999.0,  9,     8.24,2,   -999.0,  -999.00,9,  -999.00,9,     0.10,2,     0.03,2,   -999.0,-999.0000, -999,9,   10,  29.3495,  21.3841,   -999.0,9
       RF02-10,  165E,RF-1808,  1,     20,02-12821,2,20021104,1940, -0.1617, 165.0047, 4393,     24.6,  29.0437,  34.3928,2,   -999.0,9,-999.0000,9,    196.1,2,     1.07,2,  -999.00,9,     0.00,2,     0.00,2,     0.03,2, -999.000,9, -999.000,9,  -999.00,9,   -999.0,9,   -999.0,9,-999.0000,9,   -999.0,  9,     8.24,2,   -999.0,  -999.00,9,  -999.00,9,     0.11,2,     0.04,2,   -999.0,-999.0000, -999,9,   24,  29.0377,  21.5956,   -999.0,9
       RF02-10,  165E,RF-1808,  1,     19,02-17875,2,20021104,1939, -0.1617, 165.0047, 4393,     50.0,  29.0484,  34.4753,2,   -999.0,9,-999.0000,9,    193.9,2,     1.11,2,  -999.00,9,     0.00,2,     0.00,2,     0.03,2, -999.000,9, -999.000,9,  -999.00,9,   -999.0,9,   -999.0,9,-999.0000,9,   -999.0,  9,     8.23,2,   -999.0,  -999.00,9,  -999.00,9,     0.19,2,     0.08,2,   -999.0,-999.0000, -999,9,   50,  29.0363,  21.6580,   -999.0,9
       RF02-10,  165E,RF-1808,  1,     18,02-12830,2,20021104,1938, -0.1617, 165.0047, 4393,     76.3,  29.0717,  34.5632,2,   -999.0,9,-999.0000,9,    191.2,2,     1.15,2,  -999.00,9,     0.06,2,     0.03,2,     0.07,2, -999.000,9, -999.000,9,  -999.00,9,   -999.0,9,   -999.0,9,-999.0000,9,   -999.0,  9,     8.20,2,   -999.0,  -999.00,9,  -999.00,9,     0.39,2,     0.23,2,   -999.0,-999.0000, -999,9,   76,  29.0532,  21.7184,   -999.0,9
       RF02-10,  165E,RF-1808,  1,     17,02-17874,2,20021104,1936, -0.1617, 165.0047, 4393,    102.2,  28.7408,  34.5581,2,   -999.0,9,  34.5938,4,    182.8,2,     1.45,2,  -999.00,9,     1.28,2,     0.37,2,     0.14,2, -999.000,9, -999.000,9,  -999.00,9,   -999.0,9,   -999.0,9,-999.0000,9,   -999.0,  9,     8.01,2,   -999.0,  -999.00,9,  -999.00,9,     0.28,2,     0.18,2,   -999.0,-999.0000, -999,9,  102,  28.7163,  21.8267,   -999.0,9
       RF02-10,  165E,RF-1808,  1,     16,02-12818,2,20021104,1935, -0.1617, 165.0047, 4393,    125.9,  20.9711,  35.2683,2,   -999.0,9,-999.0000,9,    132.1,2,     5.90,2,  -999.00,9,    11.08,2,     0.01,2,     0.76,2, -999.000,9, -999.000,9,  -999.00,9,   -999.0,9,   -999.0,9,-999.0000,9,   -999.0,  9,     8.05,2,   -999.0,  -999.00,9,  -999.00,9,     0.06,2,     0.09,2,   -999.0,-999.0000, -999,9,  125,  20.9470,  24.7126,   -999.0,9
       RF02-10,  165E,RF-1808,  1,     15,02-12809,2,20021104,1934, -0.1617, 165.0047, 4393,    149.8,  17.4975,  35.1760,2,   -999.0,9,-999.0000,9,    130.7,2,     8.51,2,  -999.00,9,    13.83,2,     0.00,2,     0.96,2, -999.000,9, -999.000,9,  -999.00,9,   -999.0,9,   -999.0,9,-999.0000,9,   -999.0,  9,     7.96,2,   -999.0,  -999.00,9,  -999.00,9,     0.00,2,     0.02,2,   -999.0,-999.0000, -999,9,  149,  17.4723,  25.5360,   -999.0,9
       RF02-10,  165E,RF-1808,  1,     14,02-12817,2,20021104,1932, -0.1617, 165.0047, 4393,    202.1,  15.6459,  35.1867,2,   -999.0,9,  35.1922,2,    137.3,2,     8.93,2,  -999.00,9,    15.65,2,     0.00,2,     1.07,2, -999.000,9, -999.000,9,  -999.00,9,   -999.0,9,   -999.0,9,-999.0000,9,   -999.0,  9,     7.93,2,   -999.0,  -999.00,9,  -999.00,9,     0.00,2,     0.02,2,   -999.0,-999.0000, -999,9,  201,  15.6144,  25.9790,   -999.0,9
       RF02-10,  165E,RF-1808,  1,     13,02-15822,2,20021104,1930, -0.1617, 165.0047, 4393,    251.2,  13.1826,  34.9652,2,   -999.0,9,-999.0000,9,    135.6,2,    14.55,2,  -999.00,9,    19.37,2,     0.00,2,     1.32,2, -999.000,9, -999.000,9,  -999.00,9,   -999.0,9,   -999.0,9,-999.0000,9,   -999.0,  9,     7.86,2,   -999.0,  -999.00,9,  -999.00,9,  -999.00,9,  -999.00,9,   -999.0,-999.0000, -999,9,  250,  13.1476,  26.3362,   -999.0,9
       RF02-10,  165E,RF-1808,  1,     12,02-13591,2,20021104,1928, -0.1617, 165.0047, 4393,    302.9,  12.3426,  34.8701,2,   -999.0,9,-999.0000,9,    115.4,2,    19.14,2,  -999.00,9,    23.21,2,     0.00,2,     1.56,2, -999.000,9, -999.000,9,  -999.00,9,   -999.0,9,   -999.0,9,-999.0000,9,   -999.0,  9,     7.80,2,   -999.0,  -999.00,9,  -999.00,9,  -999.00,9,  -999.00,9,   -999.0,-999.0000, -999,9,  301,  12.3022,  26.4300,   -999.0,9
       RF02-10,  165E,RF-1808,  1,     11,02-13589,2,20021104,1926, -0.1617, 165.0047, 4393,    402.8,   9.5606,  34.6961,2,   -999.0,9,  34.6947,2,     70.7,2,    30.07,2,  -999.00,9,    32.22,2,     0.00,2,     2.17,2, -999.000,9, -999.000,9,  -999.00,9,   -999.0,9,   -999.0,9,-999.0000,9,   -999.0,  9,  -999.00,9,   -999.0,  -999.00,9,  -999.00,9,  -999.00,9,  -999.00,9,   -999.0,-999.0000, -999,9,  400,   9.5148,  26.7963,   -999.0,9
       RF02-10,  165E,RF-1808,  1,     10,02-12815,2,20021104,1923, -0.1617, 165.0047, 4393,    504.2,   7.7071,  34.5945,2,   -999.0,9,-999.0000,9,     78.9,2,    39.86,2,  -999.00,9,    35.01,2,     0.00,2,     2.39,2, -999.000,9, -999.000,9,  -999.00,9,   -999.0,9,   -999.0,9,-999.0000,9,   -999.0,  9,     7.63,2,   -999.0,  -999.00,9,  -999.00,9,  -999.00,9,  -999.00,9,   -999.0,-999.0000, -999,9,  501,   7.6565,  27.0061,   -999.0,9
       RF02-10,  165E,RF-1808,  1,      9,02-12807,2,20021104,1921, -0.1617, 165.0047, 4393,    604.8,   6.5702,  34.5558,2,   -999.0,9,  34.5539,2,     88.3,2,    48.57,2,  -999.00,9,    36.27,2,     0.00,2,     2.50,2, -999.000,9, -999.000,9,  -999.00,9,   -999.0,9,   -999.0,9,-999.0000,9,   -999.0,  9,  -999.00,9,   -999.0,  -999.00,9,  -999.00,9,  -999.00,9,  -999.00,9,   -999.0,-999.0000, -999,9,  601,   6.5143,  27.1348,   -999.0,9
       RF02-10,  165E,RF-1808,  1,      8,02-10154,2,20021104,1918, -0.1617, 165.0047, 4393,    705.3,   5.8182,  34.5373,2,   -999.0,9,-999.0000,9,     97.6,2,    57.42,2,  -999.00,9,    36.52,2,     0.00,2,     2.52,2, -999.000,9, -999.000,9,  -999.00,9,   -999.0,9,   -999.0,9,-999.0000,9,   -999.0,  9,     7.63,2,   -999.0,  -999.00,9,  -999.00,9,  -999.00,9,  -999.00,9,   -999.0,-999.0000, -999,9,  700,   5.7565,  27.2177,   -999.0,9
       RF02-10,  165E,RF-1808,  1,      7,02-15821,2,20021104,1916, -0.1617, 165.0047, 4393,    804.8,   5.2485,  34.5416,2,   -999.0,9,  34.5411,2,     94.3,2,    67.71,2,  -999.00,9,    37.56,2,     0.00,2,     2.62,2, -999.000,9, -999.000,9,  -999.00,9,   -999.0,9,   -999.0,9,-999.0000,9,   -999.0,  9,  -999.00,9,   -999.0,  -999.00,9,  -999.00,9,  -999.00,9,  -999.00,9,   -999.0,-999.0000, -999,9,  799,   5.1810,  27.2907,   -999.0,9
       RF02-10,  165E,RF-1808,  1,      6,02-17872,2,20021104,1913, -0.1617, 165.0047, 4393,    907.9,   4.9552,  34.5454,2,   -999.0,9,-999.0000,9,     90.8,2,    73.64,2,  -999.00,9,    38.15,2,     0.00,2,     2.67,2, -999.000,9, -999.000,9,  -999.00,9,   -999.0,9,   -999.0,9,-999.0000,9,   -999.0,  9,  -999.00,9,   -999.0,  -999.00,9,  -999.00,9,  -999.00,9,  -999.00,9,   -999.0,-999.0000, -999,9,  901,   4.8804,  27.3286,   -999.0,9
       RF02-10,  165E,RF-1808,  1,      5,02-10155,2,20021104,1911, -0.1617, 165.0047, 4393,   1007.7,   4.5784,  34.5532,2,   -999.0,9,  34.5533,2,     88.1,2,    81.75,2,  -999.00,9,    38.85,2,     0.00,2,     2.74,2, -999.000,9, -999.000,9,  -999.00,9,   -999.0,9,   -999.0,9,-999.0000,9,   -999.0,  9,     7.60,2,   -999.0,  -999.00,9,  -999.00,9,  -999.00,9,  -999.00,9,   -999.0,-999.0000, -999,9, 1000,   4.4976,  27.3777,   -999.0,9
       RF02-10,  165E,RF-1808,  1,      4,02-13579,2,20021104,1906, -0.1617, 165.0047, 4393,   1260.7,   3.7423,  34.5755,2,   -999.0,9,  34.5769,2,     94.2,2,    99.07,2,  -999.00,9,    39.02,2,     0.00,2,     2.74,2, -999.000,9, -999.000,9,  -999.00,9,   -999.0,9,   -999.0,9,-999.0000,9,   -999.0,  9,  -999.00,9,   -999.0,  -999.00,9,  -999.00,9,  -999.00,9,  -999.00,9,   -999.0,-999.0000, -999,9, 1250,   3.6468,  27.4844,   -999.0,9
       RF02-10,  165E,RF-1808,  1,      3,02-13590,2,20021104,1901, -0.1617, 165.0047, 4393,   1516.0,   3.1497,  34.5984,2,   -999.0,9,  34.5973,2,     95.9,2,   113.17,2,  -999.00,9,    39.29,2,     0.00,2,     2.77,2, -999.000,9, -999.000,9,  -999.00,9,   -999.0,9,   -999.0,9,-999.0000,9,   -999.0,  9,     7.61,2,   -999.0,  -999.00,9,  -999.00,9,  -999.00,9,  -999.00,9,   -999.0,-999.0000, -999,9, 1502,   3.0388,  27.5610,   -999.0,9
       RF02-10,  165E,RF-1808,  1,      2,02-12827,2,20021104,1856, -0.1617, 165.0047, 4393,   1768.4,   2.6036,  34.6205,2,   -999.0,9,  34.6198,2,    108.6,2,   123.61,2,  -999.00,9,    38.55,2,     0.00,2,     2.69,2, -999.000,9, -999.000,9,  -999.00,9,   -999.0,9,   -999.0,9,-999.0000,9,   -999.0,  9,     7.64,2,   -999.0,  -999.00,9,  -999.00,9,  -999.00,9,  -999.00,9,   -999.0,-999.0000, -999,9, 1751,   2.4781,  27.6283,   -999.0,9
       RF02-10,  165E,RF-1808,  1,      1,02-17871,2,20021104,1851, -0.1617, 165.0047, 4393,   2020.6,   2.1814,  34.6423,2,   -999.0,9,  34.6406,2,    115.8,2,   133.04,2,  -999.00,9,    38.28,2,     0.00,2,     2.67,2, -999.000,9, -999.000,9,  -999.00,9,   -999.0,9,   -999.0,9,-999.0000,9,   -999.0,  9,     7.65,2,   -999.0,  -999.00,9,  -999.00,9,  -999.00,9,  -999.00,9,   -999.0,-999.0000, -999,9, 2000,   2.0405,  27.6819,   -999.0,9