BOTTLE,20130510GEMDJMAYT
EXPOCODE,SECT_ID,STNNBR,CASTNO,SAMPNO,BTLNBR,BTLNBR_FLAG_W,DATE,TIME,LATITUDE,LONGITUDE,DEPTH,CTDPRS,CTDTMP,CTDSAL,CTDSAL_FLAG_W,CTDOXY,CTDOXY_FLAG_W,SALNTY,SALNTY_FLAG_W,OXYGEN,OXYGEN_FLAG_W,SILCAT,SILCAT_FLAG_W,NITRAT,NITRAT_FLAG_W,NO2+NO3,NO2+NO3_FLAG_W,NITRIT,NITRIT_FLAG_W,PHSPHT,PHSPHT_FLAG_W,CFC-11,CFC-11_FLAG_W,CFC-12,CFC-12_FLAG_W,DELC13,DELC13_FLAG_W,TCARBN,TCARBN_FLAG_W,ALKALI,ALKALI_FLAG_W,PH,PH_FLAG_W,PH_TMP,PH_SCALE,PH_NBS,PH_NBS_FLAG_W,C13ERR,TOTALP,TOTALP_FLAG_W,AMMONI,AMMONI_FLAG_W,CHLORA,CHLORA_FLAG_W,PPHYTN,PPHYTN_FLAG_W,REVPRS,REVTMP,DEPTH_,DEPTH_FLAG,CTDDEP,THETA,SIGTHT,DOC,DOC_FLAG_W
,,,,,,,GMT,GMT,,,METER,DBAR,ITS-90,PSS-78,,UMOL/KG,,PSS-78,,UMOL/KG,,UMOL/KG,,UMOL/KG,,UMOL/KG,,UMOL/KG,,UMOL/KG,,PMOL/KG,,PMOL/KG,,/MILLE,,UMOL/KG,,UMOL/KG,,25_DEG_C,,DEG_C,,,,/MILLE,UMOL/KG,,UMOL/KG,,UG/L,,UG/L,,DBAR,ITS-90,METERS,,METERS,DEG_C,,UMOL/L,
       RF02-10, EQPAC,RF-1813,  1,     -9,      -9,5,20021108,0708, -0.0037, 155.0163, 2503,      0.0,  30.0999,  34.3573,2,   -999.0,9,-999.0000,9,    195.7,2,     1.18,2,  -999.00,9,     0.00,2,     0.00,2,     0.03,2, -999.000,9, -999.000,9,  -999.00,9,   -999.0,9,   -999.0,9,-999.0000,9,   -999.0,  9,     8.26,2,   -999.0,  -999.00,9,  -999.00,9,     0.10,2,     0.02,2,   -999.0,-999.0000, -999,9,    0,  30.0999,  21.2104,   -999.0,9
       RF02-10, EQPAC,RF-1813,  1,     21,02-12826,2,20021108,0706, -0.0037, 155.0163, 2503,     10.3,  29.6853,  34.3531,2,   -999.0,9,-999.0000,9,    197.2,2,     1.17,2,  -999.00,9,     0.00,2,     0.00,2,     0.02,2, -999.000,9, -999.000,9,  -999.00,9,   -999.0,9,   -999.0,9,-999.0000,9,   -999.0,  9,     8.26,2,   -999.0,  -999.00,9,  -999.00,9,     0.09,2,     0.03,2,   -999.0,-999.0000, -999,9,   10,  29.6828,  21.3490,   -999.0,9
       RF02-10, EQPAC,RF-1813,  1,     20,02-12821,2,20021108,0705, -0.0037, 155.0163, 2503,     25.7,  29.3507,  34.3675,2,   -999.0,9,-999.0000,9,    198.7,2,     1.19,2,  -999.00,9,     0.00,2,     0.00,2,     0.02,2, -999.000,9, -999.000,9,  -999.00,9,   -999.0,9,   -999.0,9,-999.0000,9,   -999.0,  9,     8.26,2,   -999.0,  -999.00,9,  -999.00,9,     0.10,2,     0.02,2,   -999.0,-999.0000, -999,9,   26,  29.3444,  21.4739,   -999.0,9
       RF02-10, EQPAC,RF-1813,  1,     19,02-17875,2,20021108,0703, -0.0037, 155.0163, 2503,     50.6,  28.9676,  34.4433,2,   -999.0,9,-999.0000,9,    197.8,2,     1.22,2,  -999.00,9,     0.00,2,     0.00,2,     0.04,2, -999.000,9, -999.000,9,  -999.00,9,   -999.0,9,   -999.0,9,-999.0000,9,   -999.0,  9,     8.25,2,   -999.0,  -999.00,9,  -999.00,9,     0.14,2,     0.06,2,   -999.0,-999.0000, -999,9,   50,  28.9554,  21.6610,   -999.0,9
       RF02-10, EQPAC,RF-1813,  1,     18,02-12830,2,20021108,0702, -0.0037, 155.0163, 2503,     76.4,  28.6452,  34.6072,2,   -999.0,9,-999.0000,9,    195.3,2,     1.13,2,  -999.00,9,     0.02,2,     0.00,2,     0.07,2, -999.000,9, -999.000,9,  -999.00,9,   -999.0,9,   -999.0,9,-999.0000,9,   -999.0,  9,     8.25,2,   -999.0,  -999.00,9,  -999.00,9,     0.33,2,     0.16,2,   -999.0,-999.0000, -999,9,   76,  28.6269,  21.8932,   -999.0,9
       RF02-10, EQPAC,RF-1813,  1,     17,02-17874,2,20021108,0701, -0.0037, 155.0163, 2503,    100.7,  27.4498,  34.8917,2,   -999.0,9,  35.1021,4,    148.9,2,     3.23,2,  -999.00,9,     7.02,2,     0.14,2,     0.51,2, -999.000,9, -999.000,9,  -999.00,9,   -999.0,9,   -999.0,9,-999.0000,9,   -999.0,  9,     8.12,2,   -999.0,  -999.00,9,  -999.00,9,     0.31,2,     0.46,2,   -999.0,-999.0000, -999,9,  100,  27.4264,  22.4994,   -999.0,9
       RF02-10, EQPAC,RF-1813,  1,     16,02-12818,2,20021108,0659, -0.0037, 155.0163, 2503,    125.7,  20.6678,  35.2861,2,   -999.0,9,-999.0000,9,    131.9,2,     5.81,2,  -999.00,9,    11.16,2,     0.01,2,     0.77,2, -999.000,9, -999.000,9,  -999.00,9,   -999.0,9,   -999.0,9,-999.0000,9,   -999.0,  9,     8.02,2,   -999.0,  -999.00,9,  -999.00,9,     0.10,2,     0.14,2,   -999.0,-999.0000, -999,9,  125,  20.6440,  24.8082,   -999.0,9
       RF02-10, EQPAC,RF-1813,  1,     15,02-12809,2,20021108,0658, -0.0037, 155.0163, 2503,    150.8,  19.5250,  35.2827,2,   -999.0,9,-999.0000,9,    134.6,2,     6.67,2,  -999.00,9,    12.20,2,     0.00,2,     0.85,2, -999.000,9, -999.000,9,  -999.00,9,   -999.0,9,   -999.0,9,-999.0000,9,   -999.0,  9,     8.00,2,   -999.0,  -999.00,9,  -999.00,9,     0.03,2,     0.05,2,   -999.0,-999.0000, -999,9,  150,  19.4976,  25.1090,   -999.0,9
       RF02-10, EQPAC,RF-1813,  1,     14,02-12817,2,20021108,0656, -0.0037, 155.0163, 2503,    201.2,  15.0222,  35.0904,2,   -999.0,9,  35.0769,4,    136.9,2,    11.53,2,  -999.00,9,    16.80,2,     0.00,2,     1.15,2, -999.000,9, -999.000,9,  -999.00,9,   -999.0,9,   -999.0,9,-999.0000,9,   -999.0,  9,     7.92,2,   -999.0,  -999.00,9,  -999.00,9,     0.00,2,     0.03,2,   -999.0,-999.0000, -999,9,  200,  14.9916,  26.0435,   -999.0,9
       RF02-10, EQPAC,RF-1813,  1,     13,02-15822,2,20021108,0655, -0.0037, 155.0163, 2503,    252.0,  12.7307,  34.9455,2,   -999.0,9,-999.0000,9,    137.0,2,    14.68,2,  -999.00,9,    20.07,2,     0.00,2,     1.34,2, -999.000,9, -999.000,9,  -999.00,9,   -999.0,9,   -999.0,9,-999.0000,9,   -999.0,  9,     7.87,2,   -999.0,  -999.00,9,  -999.00,9,  -999.00,9,  -999.00,9,   -999.0,-999.0000, -999,9,  250,  12.6965,  26.4112,   -999.0,9
       RF02-10, EQPAC,RF-1813,  1,     12,02-13591,2,20021108,0653, -0.0037, 155.0163, 2503,    302.5,  12.3028,  34.8964,2,   -999.0,9,-999.0000,9,    132.1,2,    16.55,2,  -999.00,9,    21.19,2,     0.00,2,     1.43,2, -999.000,9, -999.000,9,  -999.00,9,   -999.0,9,   -999.0,9,-999.0000,9,   -999.0,  9,     7.85,2,   -999.0,  -999.00,9,  -999.00,9,  -999.00,9,  -999.00,9,   -999.0,-999.0000, -999,9,  301,  12.2625,  26.4581,   -999.0,9
       RF02-10, EQPAC,RF-1813,  1,     11,02-13589,2,20021108,0650, -0.0037, 155.0163, 2503,    402.1,   9.1822,  34.6648,2,   -999.0,9,  34.6680,2,     86.1,2,    30.44,2,  -999.00,9,    31.26,2,     0.00,2,     2.10,2, -999.000,9, -999.000,9,  -999.00,9,   -999.0,9,   -999.0,9,-999.0000,9,   -999.0,  9,  -999.00,9,   -999.0,  -999.00,9,  -999.00,9,  -999.00,9,  -999.00,9,   -999.0,-999.0000, -999,9,  399,   9.1377,  26.8335,   -999.0,9
       RF02-10, EQPAC,RF-1813,  1,     10,02-12815,2,20021108,0648, -0.0037, 155.0163, 2503,    503.7,   8.0604,  34.6083,2,   -999.0,9,-999.0000,9,     75.1,2,    37.30,2,  -999.00,9,    34.64,2,     0.00,2,     2.35,2, -999.000,9, -999.000,9,  -999.00,9,   -999.0,9,   -999.0,9,-999.0000,9,   -999.0,  9,     7.64,2,   -999.0,  -999.00,9,  -999.00,9,  -999.00,9,  -999.00,9,   -999.0,-999.0000, -999,9,  500,   8.0085,  26.9649,   -999.0,9
       RF02-10, EQPAC,RF-1813,  1,      9,02-12807,2,20021108,0646, -0.0037, 155.0163, 2503,    604.6,   7.1240,  34.5662,2,   -999.0,9,  34.5700,2,     85.7,2,    43.25,2,  -999.00,9,    35.31,2,     0.00,2,     2.41,2, -999.000,9, -999.000,9,  -999.00,9,   -999.0,9,   -999.0,9,-999.0000,9,   -999.0,  9,  -999.00,9,   -999.0,  -999.00,9,  -999.00,9,  -999.00,9,  -999.00,9,   -999.0,-999.0000, -999,9,  600,   7.0656,  27.0680,   -999.0,9
       RF02-10, EQPAC,RF-1813,  1,      8,02-10154,2,20021108,0643, -0.0037, 155.0163, 2503,    705.8,   5.9594,  34.5358,2,   -999.0,9,-999.0000,9,    102.0,2,    53.17,2,  -999.00,9,    35.81,2,     0.00,2,     2.46,2, -999.000,9, -999.000,9,  -999.00,9,   -999.0,9,   -999.0,9,-999.0000,9,   -999.0,  9,     7.64,2,   -999.0,  -999.00,9,  -999.00,9,  -999.00,9,  -999.00,9,   -999.0,-999.0000, -999,9,  701,   5.8969,  27.1989,   -999.0,9
       RF02-10, EQPAC,RF-1813,  1,      7,02-15821,2,20021108,0641, -0.0037, 155.0163, 2503,    805.9,   5.5219,  34.5324,2,   -999.0,9,  34.5379,2,     98.3,2,    61.31,2,  -999.00,9,    36.78,2,     0.00,2,     2.55,2, -999.000,9, -999.000,9,  -999.00,9,   -999.0,9,   -999.0,9,-999.0000,9,   -999.0,  9,  -999.00,9,   -999.0,  -999.00,9,  -999.00,9,  -999.00,9,  -999.00,9,   -999.0,-999.0000, -999,9,  800,   5.4527,  27.2510,   -999.0,9
       RF02-10, EQPAC,RF-1813,  1,      6,02-17872,2,20021108,0638, -0.0037, 155.0163, 2503,    907.6,   4.9410,  34.5406,2,   -999.0,9,-999.0000,9,     97.2,2,    71.96,2,  -999.00,9,    37.32,2,     0.00,2,     2.60,2, -999.000,9, -999.000,9,  -999.00,9,   -999.0,9,   -999.0,9,-999.0000,9,   -999.0,  9,  -999.00,9,   -999.0,  -999.00,9,  -999.00,9,  -999.00,9,  -999.00,9,   -999.0,-999.0000, -999,9,  901,   4.8663,  27.3263,   -999.0,9
       RF02-10, EQPAC,RF-1813,  1,      5,02-10155,2,20021108,0636, -0.0037, 155.0163, 2503,   1008.6,   4.6024,  34.5501,2,   -999.0,9,  34.5511,2,     92.2,2,    80.11,2,  -999.00,9,    38.18,2,     0.00,2,     2.68,2, -999.000,9, -999.000,9,  -999.00,9,   -999.0,9,   -999.0,9,-999.0000,9,   -999.0,  9,     7.61,2,   -999.0,  -999.00,9,  -999.00,9,  -999.00,9,  -999.00,9,   -999.0,-999.0000, -999,9, 1001,   4.5213,  27.3725,   -999.0,9
       RF02-10, EQPAC,RF-1813,  1,      4,02-13579,2,20021108,0631, -0.0037, 155.0163, 2503,   1261.1,   3.5865,  34.5768,2,   -999.0,9,  34.5792,2,    102.2,2,   100.31,2,  -999.00,9,    38.07,2,     0.00,2,     2.67,2, -999.000,9, -999.000,9,  -999.00,9,   -999.0,9,   -999.0,9,-999.0000,9,   -999.0,  9,  -999.00,9,   -999.0,  -999.00,9,  -999.00,9,  -999.00,9,  -999.00,9,   -999.0,-999.0000, -999,9, 1250,   3.4925,  27.5006,   -999.0,9
       RF02-10, EQPAC,RF-1813,  1,      3,02-13590,2,20021108,0626, -0.0037, 155.0163, 2503,   1514.3,   3.0698,  34.6000,2,   -999.0,9,  34.6015,2,     97.2,2,   114.39,2,  -999.00,9,    38.98,2,     0.00,2,     2.74,2, -999.000,9, -999.000,9,  -999.00,9,   -999.0,9,   -999.0,9,-999.0000,9,   -999.0,  9,     7.61,2,   -999.0,  -999.00,9,  -999.00,9,  -999.00,9,  -999.00,9,   -999.0,-999.0000, -999,9, 1501,   2.9599,  27.5694,   -999.0,9
       RF02-10, EQPAC,RF-1813,  1,      2,02-12827,2,20021108,0621, -0.0037, 155.0163, 2503,   1767.9,   2.5665,  34.6200,2,   -999.0,9,  34.6211,2,    113.0,2,   122.07,2,  -999.00,9,    38.04,2,     0.00,2,     2.65,2, -999.000,9, -999.000,9,  -999.00,9,   -999.0,9,   -999.0,9,-999.0000,9,   -999.0,  9,     7.64,2,   -999.0,  -999.00,9,  -999.00,9,  -999.00,9,  -999.00,9,   -999.0,-999.0000, -999,9, 1751,   2.4415,  27.6311,   -999.0,9
       RF02-10, EQPAC,RF-1813,  1,      1,02-17871,2,20021108,0616, -0.0037, 155.0163, 2503,   2044.4,   2.1940,  34.6390,2,   -999.0,9,  34.6398,2,    118.3,2,   130.64,2,  -999.00,9,    37.80,2,     0.00,2,     2.63,2, -999.000,9, -999.000,9,  -999.00,9,   -999.0,9,   -999.0,9,-999.0000,9,   -999.0,  9,     7.66,2,   -999.0,  -999.00,9,  -999.00,9,  -999.00,9,  -999.00,9,   -999.0,-999.0000, -999,9, 2023,   2.0508,  27.6784,   -999.0,9