BOTTLE,20130510GEMDJMAYT
EXPOCODE,SECT_ID,STNNBR,CASTNO,SAMPNO,BTLNBR,BTLNBR_FLAG_W,DATE,TIME,LATITUDE,LONGITUDE,DEPTH,CTDPRS,CTDTMP,CTDSAL,CTDSAL_FLAG_W,CTDOXY,CTDOXY_FLAG_W,SALNTY,SALNTY_FLAG_W,OXYGEN,OXYGEN_FLAG_W,SILCAT,SILCAT_FLAG_W,NITRAT,NITRAT_FLAG_W,NO2+NO3,NO2+NO3_FLAG_W,NITRIT,NITRIT_FLAG_W,PHSPHT,PHSPHT_FLAG_W,CFC-11,CFC-11_FLAG_W,CFC-12,CFC-12_FLAG_W,DELC13,DELC13_FLAG_W,TCARBN,TCARBN_FLAG_W,ALKALI,ALKALI_FLAG_W,PH,PH_FLAG_W,PH_TMP,PH_SCALE,PH_NBS,PH_NBS_FLAG_W,C13ERR,TOTALP,TOTALP_FLAG_W,AMMONI,AMMONI_FLAG_W,CHLORA,CHLORA_FLAG_W,PPHYTN,PPHYTN_FLAG_W,REVPRS,REVTMP,DEPTH_,DEPTH_FLAG,CTDDEP,THETA,SIGTHT,DOC,DOC_FLAG_W
,,,,,,,GMT,GMT,,,METER,DBAR,ITS-90,PSS-78,,UMOL/KG,,PSS-78,,UMOL/KG,,UMOL/KG,,UMOL/KG,,UMOL/KG,,UMOL/KG,,UMOL/KG,,PMOL/KG,,PMOL/KG,,/MILLE,,UMOL/KG,,UMOL/KG,,25_DEG_C,,DEG_C,,,,/MILLE,UMOL/KG,,UMOL/KG,,UG/L,,UG/L,,DBAR,ITS-90,METERS,,METERS,DEG_C,,UMOL/L,
       RF03-04,  165E,RF-1910,  1,     -9,      -9,5,20030504,1131, 39.0202, 165.0060, 5376,      0.0,  11.3434,  34.2439,2,   -999.0,9,-999.0000,9,    278.6,2,  -999.00,9,  -999.00,9,  -999.00,9,  -999.00,9,  -999.00,9,    3.559,2,    2.010,2,  -999.00,9,   -999.0,9,   -999.0,9,-999.0000,9,   -999.0,  9,  -999.00,9,   -999.0,  -999.00,9,  -999.00,9,  -999.00,9,  -999.00,9,   -999.0,-999.0000, -999,9,    0,  11.3431,  26.1244,   -999.0,9
       RF03-04,  165E,RF-1910,  1,     21,02-16027,2,20030504,1129, 39.0202, 165.0060, 5376,     10.4,  11.3285,  34.2424,2,   -999.0,9,-999.0000,9,    279.2,2,  -999.00,9,  -999.00,9,  -999.00,9,  -999.00,9,  -999.00,9,    3.640,2,    2.034,2,  -999.00,9,   -999.0,9,   -999.0,9,-999.0000,9,   -999.0,  9,  -999.00,9,   -999.0,  -999.00,9,  -999.00,9,  -999.00,9,  -999.00,9,   -999.0,-999.0000, -999,9,   10,  11.3272,  26.1261,   -999.0,9
       RF03-04,  165E,RF-1910,  1,     20,02-16026,2,20030504,1128, 39.0202, 165.0060, 5376,     24.5,  10.8328,  34.2357,2,   -999.0,9,-999.0000,9,    278.2,2,  -999.00,9,  -999.00,9,  -999.00,9,  -999.00,9,  -999.00,9,    3.596,2,    1.986,2,  -999.00,9,   -999.0,9,   -999.0,9,-999.0000,9,   -999.0,  9,  -999.00,9,   -999.0,  -999.00,9,  -999.00,9,  -999.00,9,  -999.00,9,   -999.0,-999.0000, -999,9,   24,  10.8299,  26.2108,   -999.0,9
       RF03-04,  165E,RF-1910,  1,     19,02-16025,2,20030504,1126, 39.0202, 165.0060, 5376,     50.3,  10.8031,  34.2370,2,   -999.0,9,-999.0000,9,    274.0,2,  -999.00,9,  -999.00,9,  -999.00,9,  -999.00,9,  -999.00,9,    3.657,2,    2.026,2,  -999.00,9,   -999.0,9,   -999.0,9,-999.0000,9,   -999.0,  9,  -999.00,9,   -999.0,  -999.00,9,  -999.00,9,  -999.00,9,  -999.00,9,   -999.0,-999.0000, -999,9,   50,  10.7971,  26.2176,   -999.0,9
       RF03-04,  165E,RF-1910,  1,     18,02-16024,2,20030504,1124, 39.0202, 165.0060, 5376,     75.2,  10.6688,  34.2234,2,   -999.0,9,-999.0000,9,    272.6,2,  -999.00,9,  -999.00,9,  -999.00,9,  -999.00,9,  -999.00,9,    3.668,2,    2.020,2,  -999.00,9,   -999.0,9,   -999.0,9,-999.0000,9,   -999.0,  9,  -999.00,9,   -999.0,  -999.00,9,  -999.00,9,  -999.00,9,  -999.00,9,   -999.0,-999.0000, -999,9,   75,  10.6598,  26.2314,   -999.0,9
       RF03-04,  165E,RF-1910,  1,     17,02-16023,2,20030504,1123, 39.0202, 165.0060, 5376,    101.5,  10.1473,  34.1788,2,   -999.0,9,-999.0000,9,    267.7,2,  -999.00,9,  -999.00,9,  -999.00,9,  -999.00,9,  -999.00,9,    3.814,2,    2.057,2,  -999.00,9,   -999.0,9,   -999.0,9,-999.0000,9,   -999.0,  9,  -999.00,9,   -999.0,  -999.00,9,  -999.00,9,  -999.00,9,  -999.00,9,   -999.0,-999.0000, -999,9,  101,  10.1356,  26.2876,   -999.0,9
       RF03-04,  165E,RF-1910,  1,     16,02-16022,2,20030504,1121, 39.0202, 165.0060, 5376,    126.5,   9.4620,  34.1017,2,   -999.0,9,-999.0000,9,    267.8,2,  -999.00,9,  -999.00,9,  -999.00,9,  -999.00,9,  -999.00,9,    3.893,2,    2.077,2,  -999.00,9,   -999.0,9,   -999.0,9,-999.0000,9,   -999.0,  9,  -999.00,9,   -999.0,  -999.00,9,  -999.00,9,  -999.00,9,  -999.00,9,   -999.0,-999.0000, -999,9,  126,   9.4480,  26.3424,   -999.0,9
       RF03-04,  165E,RF-1910,  1,     15,02-16021,2,20030504,1120, 39.0202, 165.0060, 5376,    152.0,   8.9144,  34.0291,2,   -999.0,9,-999.0000,9,    254.4,2,  -999.00,9,  -999.00,9,  -999.00,9,  -999.00,9,  -999.00,9,    3.875,2,    2.045,2,  -999.00,9,   -999.0,9,   -999.0,9,-999.0000,9,   -999.0,  9,  -999.00,9,   -999.0,  -999.00,9,  -999.00,9,  -999.00,9,  -999.00,9,   -999.0,-999.0000, -999,9,  151,   8.8982,  26.3739,   -999.0,9
       RF03-04,  165E,RF-1910,  1,     14,02-16020,2,20030504,1118, 39.0202, 165.0060, 5376,    202.6,   6.9478,  33.8103,2,   -999.0,9,-999.0000,9,    269.4,2,  -999.00,9,  -999.00,9,  -999.00,9,  -999.00,9,  -999.00,9,    4.402,2,    2.268,2,  -999.00,9,   -999.0,9,   -999.0,9,-999.0000,9,   -999.0,  9,  -999.00,9,   -999.0,  -999.00,9,  -999.00,9,  -999.00,9,  -999.00,9,   -999.0,-999.0000, -999,9,  201,   6.9293,  26.4912,   -999.0,9
       RF03-04,  165E,RF-1910,  1,     13,02-16019,3,20030504,1116, 39.0202, 165.0060, 5376,    254.5,   6.8174,  33.9107,2,   -999.0,9,-999.0000,9,    216.6,2,  -999.00,9,  -999.00,9,  -999.00,9,  -999.00,9,  -999.00,9,    3.622,2,    1.881,2,  -999.00,9,   -999.0,9,   -999.0,9,-999.0000,9,   -999.0,  9,  -999.00,9,   -999.0,  -999.00,9,  -999.00,9,  -999.00,9,  -999.00,9,   -999.0,-999.0000, -999,9,  252,   6.7943,  26.5886,   -999.0,9
       RF03-04,  165E,RF-1910,  1,     12,02-16018,2,20030504,1114, 39.0202, 165.0060, 5376,    305.4,   6.6100,  34.0117,2,   -999.0,9,-999.0000,9,    161.2,2,  -999.00,9,  -999.00,9,  -999.00,9,  -999.00,9,  -999.00,9,    2.435,2,    1.323,2,  -999.00,9,   -999.0,9,   -999.0,9,-999.0000,9,   -999.0,  9,  -999.00,9,   -999.0,  -999.00,9,  -999.00,9,  -999.00,9,  -999.00,9,   -999.0,-999.0000, -999,9,  303,   6.5826,  26.6965,   -999.0,9
       RF03-04,  165E,RF-1910,  1,     11,02-16017,2,20030504,1111, 39.0202, 165.0060, 5376,    404.7,   5.0148,  33.9197,2,   -999.0,9,-999.0000,9,    138.0,2,  -999.00,9,  -999.00,9,  -999.00,9,  -999.00,9,  -999.00,9,    2.422,2,    1.244,2,  -999.00,9,   -999.0,9,   -999.0,9,-999.0000,9,   -999.0,  9,  -999.00,9,   -999.0,  -999.00,9,  -999.00,9,  -999.00,9,  -999.00,9,   -999.0,-999.0000, -999,9,  401,   4.9832,  26.8207,   -999.0,9
       RF03-04,  165E,RF-1910,  1,     10,02-16016,3,20030504,1108, 39.0202, 165.0060, 5376,    508.2,   4.7354,  34.0699,2,   -999.0,9,-999.0000,9,     90.0,2,  -999.00,9,  -999.00,9,  -999.00,9,  -999.00,9,  -999.00,9, -999.000,9, -999.000,9,  -999.00,9,   -999.0,9,   -999.0,9,-999.0000,9,   -999.0,  9,  -999.00,9,   -999.0,  -999.00,9,  -999.00,9,  -999.00,9,  -999.00,9,   -999.0,-999.0000, -999,9,  504,   4.6963,  26.9720,   -999.0,9
       RF03-04,  165E,RF-1910,  1,      9,02-16015,2,20030504,1104, 39.0202, 165.0060, 5376,    609.8,   4.2992,  34.1842,2,   -999.0,9,-999.0000,9,     62.4,2,  -999.00,9,  -999.00,9,  -999.00,9,  -999.00,9,  -999.00,9,    0.390,2,    0.285,2,  -999.00,9,   -999.0,9,   -999.0,9,-999.0000,9,   -999.0,  9,  -999.00,9,   -999.0,  -999.00,9,  -999.00,9,  -999.00,9,  -999.00,9,   -999.0,-999.0000, -999,9,  604,   4.2538,  27.1107,   -999.0,9
       RF03-04,  165E,RF-1910,  1,      8,02-16014,2,20030504,1051, 39.0202, 165.0060, 5376,   1213.5,   2.6373,  34.4431,2,   -999.0,9,-999.0000,9,     33.2,2,  -999.00,9,  -999.00,9,  -999.00,9,  -999.00,9,  -999.00,9, -999.000,9, -999.000,9,  -999.00,9,   -999.0,9,   -999.0,9,-999.0000,9,   -999.0,  9,  -999.00,9,   -999.0,  -999.00,9,  -999.00,9,  -999.00,9,  -999.00,9,   -999.0,-999.0000, -999,9, 1201,   2.5564,  27.4798,   -999.0,9
       RF03-04,  165E,RF-1910,  1,      7,02-16013,2,20030504,1051, 39.0202, 165.0060, 5376,   1213.2,   2.6368,  34.4433,2,   -999.0,9,  34.4432,2,   -999.0,9,  -999.00,9,  -999.00,9,  -999.00,9,  -999.00,9,  -999.00,9, -999.000,9, -999.000,9,  -999.00,9,   -999.0,9,   -999.0,9,-999.0000,9,   -999.0,  9,  -999.00,9,   -999.0,  -999.00,9,  -999.00,9,  -999.00,9,  -999.00,9,   -999.0,-999.0000, -999,9, 1201,   2.5560,  27.4799,   -999.0,9
       RF03-04,  165E,RF-1910,  1,      6,02-16012,2,20030504,1046, 39.0202, 165.0060, 5376,   1416.8,   2.4027,  34.4915,2,   -999.0,9,-999.0000,9,     38.6,2,  -999.00,9,  -999.00,9,  -999.00,9,  -999.00,9,  -999.00,9, -999.000,9, -999.000,9,  -999.00,9,   -999.0,9,   -999.0,9,-999.0000,9,   -999.0,  9,  -999.00,9,   -999.0,  -999.00,9,  -999.00,9,  -999.00,9,  -999.00,9,   -999.0,-999.0000, -999,9, 1401,   2.3085,  27.5393,   -999.0,9
       RF03-04,  165E,RF-1910,  1,      5,02-16011,2,20030504,1046, 39.0202, 165.0060, 5376,   1416.5,   2.4038,  34.4912,2,   -999.0,9,  34.4904,2,   -999.0,9,  -999.00,9,  -999.00,9,  -999.00,9,  -999.00,9,  -999.00,9, -999.000,9, -999.000,9,  -999.00,9,   -999.0,9,   -999.0,9,-999.0000,9,   -999.0,  9,  -999.00,9,   -999.0,  -999.00,9,  -999.00,9,  -999.00,9,  -999.00,9,   -999.0,-999.0000, -999,9, 1401,   2.3096,  27.5390,   -999.0,9
       RF03-04,  165E,RF-1910,  1,      4,02-16010,3,20030504,1042, 39.0202, 165.0060, 5376,   1619.0,   2.1753,  34.5385,2,   -999.0,9,-999.0000,9,     49.4,2,  -999.00,9,  -999.00,9,  -999.00,9,  -999.00,9,  -999.00,9, -999.000,9, -999.000,9,  -999.00,9,   -999.0,9,   -999.0,9,-999.0000,9,   -999.0,  9,  -999.00,9,   -999.0,  -999.00,9,  -999.00,9,  -999.00,9,  -999.00,9,   -999.0,-999.0000, -999,9, 1601,   2.0678,  27.5966,   -999.0,9
       RF03-04,  165E,RF-1910,  1,      3,02-16009,3,20030504,1041, 39.0202, 165.0060, 5376,   1618.8,   2.1752,  34.5385,2,   -999.0,9,  34.5379,2,   -999.0,9,  -999.00,9,  -999.00,9,  -999.00,9,  -999.00,9,  -999.00,9, -999.000,9, -999.000,9,  -999.00,9,   -999.0,9,   -999.0,9,-999.0000,9,   -999.0,  9,  -999.00,9,   -999.0,  -999.00,9,  -999.00,9,  -999.00,9,  -999.00,9,   -999.0,-999.0000, -999,9, 1600,   2.0677,  27.5966,   -999.0,9
       RF03-04,  165E,RF-1910,  1,      2,02-16008,2,20030504,1034, 39.0202, 165.0060, 5376,   2039.5,   1.9104,  34.5933,2,   -999.0,9,-999.0000,9,     71.2,2,  -999.00,9,  -999.00,9,  -999.00,9,  -999.00,9,  -999.00,9, -999.000,9, -999.000,9,  -999.00,9,   -999.0,9,   -999.0,9,-999.0000,9,   -999.0,  9,  -999.00,9,   -999.0,  -999.00,9,  -999.00,9,  -999.00,9,  -999.00,9,   -999.0,-999.0000, -999,9, 2014,   1.7722,  27.6635,   -999.0,9
       RF03-04,  165E,RF-1910,  1,      1,02-16007,2,20030504,1034, 39.0202, 165.0060, 5376,   2041.0,   1.9096,  34.5935,2,   -999.0,9,  34.5930,2,   -999.0,9,  -999.00,9,  -999.00,9,  -999.00,9,  -999.00,9,  -999.00,9, -999.000,9, -999.000,9,  -999.00,9,   -999.0,9,   -999.0,9,-999.0000,9,   -999.0,  9,  -999.00,9,   -999.0,  -999.00,9,  -999.00,9,  -999.00,9,  -999.00,9,   -999.0,-999.0000, -999,9, 2016,   1.7712,  27.6638,   -999.0,9