BOTTLE,20130510GEMDJMAYT
EXPOCODE,SECT_ID,STNNBR,CASTNO,SAMPNO,BTLNBR,BTLNBR_FLAG_W,DATE,TIME,LATITUDE,LONGITUDE,DEPTH,CTDPRS,CTDTMP,CTDSAL,CTDSAL_FLAG_W,CTDOXY,CTDOXY_FLAG_W,SALNTY,SALNTY_FLAG_W,OXYGEN,OXYGEN_FLAG_W,SILCAT,SILCAT_FLAG_W,NITRAT,NITRAT_FLAG_W,NO2+NO3,NO2+NO3_FLAG_W,NITRIT,NITRIT_FLAG_W,PHSPHT,PHSPHT_FLAG_W,CFC-11,CFC-11_FLAG_W,CFC-12,CFC-12_FLAG_W,DELC13,DELC13_FLAG_W,TCARBN,TCARBN_FLAG_W,ALKALI,ALKALI_FLAG_W,PH,PH_FLAG_W,PH_TMP,PH_SCALE,PH_NBS,PH_NBS_FLAG_W,C13ERR,TOTALP,TOTALP_FLAG_W,AMMONI,AMMONI_FLAG_W,CHLORA,CHLORA_FLAG_W,PPHYTN,PPHYTN_FLAG_W,REVPRS,REVTMP,DEPTH_,DEPTH_FLAG,CTDDEP,THETA,SIGTHT,DOC,DOC_FLAG_W
,,,,,,,GMT,GMT,,,METER,DBAR,ITS-90,PSS-78,,UMOL/KG,,PSS-78,,UMOL/KG,,UMOL/KG,,UMOL/KG,,UMOL/KG,,UMOL/KG,,UMOL/KG,,PMOL/KG,,PMOL/KG,,/MILLE,,UMOL/KG,,UMOL/KG,,25_DEG_C,,DEG_C,,,,/MILLE,UMOL/KG,,UMOL/KG,,UG/L,,UG/L,,DBAR,ITS-90,METERS,,METERS,DEG_C,,UMOL/L,
       RF03-04,  165E,RF-1909,  1,     -9,      -9,5,20030504,0443, 40.0182, 165.0153, 5468,      0.0,  11.5824,  34.3491,2,   -999.0,9,-999.0000,9,    274.9,2,    13.51,2,  -999.00,9,     8.50,2,     0.25,2,     0.62,2,    3.330,2,    1.972,2,  -999.00,9,   -999.0,9,   -999.0,9,-999.0000,9,   -999.0,  9,  -999.00,9,   -999.0,  -999.00,9,  -999.00,9,     0.77,2,     0.21,2,   -999.0,-999.0000, -999,9,    0,  11.5821,  26.1621,   -999.0,9
       RF03-04,  165E,RF-1909,  1,     21,02-16027,2,20030504,0441, 40.0182, 165.0153, 5468,     10.6,  11.5816,  34.3482,2,   -999.0,9,  34.3500,2,    274.2,2,    12.85,2,  -999.00,9,     8.28,2,     0.24,2,     0.60,2,    3.315,2,    1.917,2,  -999.00,9,   -999.0,9,   -999.0,9,-999.0000,9,   -999.0,  9,  -999.00,9,   -999.0,  -999.00,9,  -999.00,9,     0.86,2,     0.26,2,   -999.0,-999.0000, -999,9,   11,  11.5803,  26.1617,   -999.0,9
       RF03-04,  165E,RF-1909,  1,     20,02-16026,2,20030504,0440, 40.0182, 165.0153, 5468,     24.4,  11.3502,  34.3482,2,   -999.0,9,-999.0000,9,    273.2,2,    12.72,2,  -999.00,9,     8.39,2,     0.26,2,     0.60,2,    3.314,2,    1.917,2,  -999.00,9,   -999.0,9,   -999.0,9,-999.0000,9,   -999.0,  9,  -999.00,9,   -999.0,  -999.00,9,  -999.00,9,     1.02,2,     0.38,2,   -999.0,-999.0000, -999,9,   24,  11.3472,  26.2048,   -999.0,9
       RF03-04,  165E,RF-1909,  1,     19,02-16025,3,20030504,0439, 40.0182, 165.0153, 5468,     50.0,  11.3249,  34.3475,2,   -999.0,9,-999.0000,9,    269.0,2,    12.85,2,  -999.00,9,     8.78,2,     0.28,2,     0.64,2, -999.000,9, -999.000,9,  -999.00,9,   -999.0,9,   -999.0,9,-999.0000,9,   -999.0,  9,  -999.00,9,   -999.0,  -999.00,9,  -999.00,9,     0.73,2,     0.36,2,   -999.0,-999.0000, -999,9,   50,  11.3187,  26.2095,   -999.0,9
       RF03-04,  165E,RF-1909,  1,     18,02-16024,2,20030504,0438, 40.0182, 165.0153, 5468,     74.8,  11.3151,  34.3467,2,   -999.0,9,-999.0000,9,    268.4,2,    12.82,2,  -999.00,9,     8.73,2,     0.28,2,     0.62,2,    3.328,2,    1.920,2,  -999.00,9,   -999.0,9,   -999.0,9,-999.0000,9,   -999.0,  9,  -999.00,9,   -999.0,  -999.00,9,  -999.00,9,     0.55,2,     0.26,2,   -999.0,-999.0000, -999,9,   74,  11.3058,  26.2112,   -999.0,9
       RF03-04,  165E,RF-1909,  1,     17,02-16023,2,20030504,0436, 40.0182, 165.0153, 5468,    100.4,  11.3117,  34.3457,2,   -999.0,9,  34.3459,2,    268.1,2,    12.80,2,  -999.00,9,     8.80,2,     0.29,2,     0.62,2,    3.342,2,    1.919,2,  -999.00,9,   -999.0,9,   -999.0,9,-999.0000,9,   -999.0,  9,  -999.00,9,   -999.0,  -999.00,9,  -999.00,9,     0.57,2,     0.25,2,   -999.0,-999.0000, -999,9,  100,  11.2992,  26.2117,   -999.0,9
       RF03-04,  165E,RF-1909,  1,     16,02-16022,2,20030504,0435, 40.0182, 165.0153, 5468,    125.8,  11.2924,  34.3422,2,   -999.0,9,-999.0000,9,    267.5,2,    12.96,2,  -999.00,9,     8.91,2,     0.28,2,     0.62,2,    3.330,2,    1.950,2,  -999.00,9,   -999.0,9,   -999.0,9,-999.0000,9,   -999.0,  9,  -999.00,9,   -999.0,  -999.00,9,  -999.00,9,     0.48,2,     0.21,2,   -999.0,-999.0000, -999,9,  125,  11.2768,  26.2130,   -999.0,9
       RF03-04,  165E,RF-1909,  1,     15,02-16021,2,20030504,0434, 40.0182, 165.0153, 5468,    151.7,  11.1467,  34.3263,2,   -999.0,9,-999.0000,9,    266.0,2,    13.37,2,  -999.00,9,     9.30,2,     0.26,2,     0.65,2,    3.324,2,    1.947,2,  -999.00,9,   -999.0,9,   -999.0,9,-999.0000,9,   -999.0,  9,  -999.00,9,   -999.0,  -999.00,9,  -999.00,9,     0.42,2,     0.20,2,   -999.0,-999.0000, -999,9,  150,  11.1280,  26.2277,   -999.0,9
       RF03-04,  165E,RF-1909,  1,     14,02-16020,3,20030504,0432, 40.0182, 165.0153, 5468,    202.5,  10.4448,  34.2707,2,   -999.0,9,  34.2697,2,    259.0,2,    14.92,2,  -999.00,9,    11.08,2,     0.04,2,     0.76,2, -999.000,9, -999.000,9,  -999.00,9,   -999.0,9,   -999.0,9,-999.0000,9,   -999.0,  9,  -999.00,9,   -999.0,  -999.00,9,  -999.00,9,     0.02,2,     0.04,2,   -999.0,-999.0000, -999,9,  201,  10.4209,  26.3101,   -999.0,9
       RF03-04,  165E,RF-1909,  1,     13,02-16019,3,20030504,0431, 40.0182, 165.0153, 5468,    253.1,   9.8139,  34.1942,2,   -999.0,9,-999.0000,9,    258.7,2,    16.96,2,  -999.00,9,    12.22,2,     0.06,2,     0.86,2, -999.000,9, -999.000,9,  -999.00,9,   -999.0,9,   -999.0,9,-999.0000,9,   -999.0,  9,  -999.00,9,   -999.0,  -999.00,9,  -999.00,9,  -999.00,9,  -999.00,9,   -999.0,-999.0000, -999,9,  251,   9.7851,  26.3589,   -999.0,9
       RF03-04,  165E,RF-1909,  1,     12,02-16018,2,20030504,0429, 40.0182, 165.0153, 5468,    304.9,   8.9926,  34.0890,2,   -999.0,9,  34.0847,2,    253.6,2,    19.99,2,  -999.00,9,    13.98,2,     0.02,2,     0.98,2,    3.519,2,    1.977,2,  -999.00,9,   -999.0,9,   -999.0,9,-999.0000,9,   -999.0,  9,  -999.00,9,   -999.0,  -999.00,9,  -999.00,9,  -999.00,9,  -999.00,9,   -999.0,-999.0000, -999,9,  302,   8.9597,  26.4111,   -999.0,9
       RF03-04,  165E,RF-1909,  1,     11,02-16017,2,20030504,0426, 40.0182, 165.0153, 5468,    404.6,   6.6792,  33.9592,2,   -999.0,9,  33.9598,2,    183.4,2,    43.41,2,  -999.00,9,    24.74,2,     0.00,2,     1.76,2,    2.821,2,    1.559,2,  -999.00,9,   -999.0,9,   -999.0,9,-999.0000,9,   -999.0,  9,  -999.00,9,   -999.0,  -999.00,9,  -999.00,9,  -999.00,9,  -999.00,9,   -999.0,-999.0000, -999,9,  401,   6.6424,  26.6471,   -999.0,9
       RF03-04,  165E,RF-1909,  1,     10,02-16016,2,20030504,0422, 40.0182, 165.0153, 5468,    507.2,   5.2456,  34.0002,2,   -999.0,9,  33.9978,2,    120.4,2,    68.86,2,  -999.00,9,    32.83,2,     0.00,2,     2.37,2,    2.072,2,    1.023,2,  -999.00,9,   -999.0,9,   -999.0,9,-999.0000,9,   -999.0,  9,  -999.00,9,   -999.0,  -999.00,9,  -999.00,9,  -999.00,9,  -999.00,9,   -999.0,-999.0000, -999,9,  503,   5.2046,  26.8590,   -999.0,9
       RF03-04,  165E,RF-1909,  1,      9,02-16015,2,20030504,0419, 40.0182, 165.0153, 5468,    608.0,   4.6895,  34.0930,2,   -999.0,9,  34.0932,2,     81.6,2,    86.35,2,  -999.00,9,    36.96,2,     0.00,2,     2.67,2,    1.260,2,    0.691,2,  -999.00,9,   -999.0,9,   -999.0,9,-999.0000,9,   -999.0,  9,  -999.00,9,   -999.0,  -999.00,9,  -999.00,9,  -999.00,9,  -999.00,9,   -999.0,-999.0000, -999,9,  602,   4.6425,  26.9963,   -999.0,9
       RF03-04,  165E,RF-1909,  1,      8,02-16014,2,20030504,0415, 40.0182, 165.0153, 5468,    709.7,   4.1359,  34.1711,2,   -999.0,9,  34.1701,2,     55.8,2,   102.04,2,  -999.00,9,    39.75,2,     0.00,2,     2.88,2,    0.801,2,    0.432,2,  -999.00,9,   -999.0,9,   -999.0,9,-999.0000,9,   -999.0,  9,  -999.00,9,   -999.0,  -999.00,9,  -999.00,9,  -999.00,9,  -999.00,9,   -999.0,-999.0000, -999,9,  703,   4.0834,  27.1182,   -999.0,9
       RF03-04,  165E,RF-1909,  1,      7,02-16013,2,20030504,0412, 40.0182, 165.0153, 5468,    809.4,   3.7396,  34.2334,2,   -999.0,9,  34.2316,2,     42.4,2,   113.44,2,  -999.00,9,    41.06,2,     0.00,2,     2.98,2,    0.487,2,    0.229,2,  -999.00,9,   -999.0,9,   -999.0,9,-999.0000,9,   -999.0,  9,  -999.00,9,   -999.0,  -999.00,9,  -999.00,9,  -999.00,9,  -999.00,9,   -999.0,-999.0000, -999,9,  802,   3.6815,  27.2085,   -999.0,9
       RF03-04,  165E,RF-1909,  1,      6,02-16012,2,20030504,0409, 40.0182, 165.0153, 5468,    909.4,   3.4118,  34.3026,2,   -999.0,9,-999.0000,9,     36.8,2,   123.80,2,  -999.00,9,    41.82,2,     0.00,2,     3.02,2,    0.372,2,    0.153,2,  -999.00,9,   -999.0,9,   -999.0,9,-999.0000,9,   -999.0,  9,  -999.00,9,   -999.0,  -999.00,9,  -999.00,9,  -999.00,9,  -999.00,9,   -999.0,-999.0000, -999,9,  900,   3.3481,  27.2960,   -999.0,9
       RF03-04,  165E,RF-1909,  1,      5,02-16011,2,20030504,0406, 40.0182, 165.0153, 5468,   1011.8,   3.1349,  34.3568,2,   -999.0,9,  34.3563,2,     33.9,2,   131.86,2,  -999.00,9,    42.23,2,     0.00,2,     3.06,2,    0.267,2,    0.081,2,  -999.00,9,   -999.0,9,   -999.0,9,-999.0000,9,   -999.0,  9,  -999.00,9,   -999.0,  -999.00,9,  -999.00,9,  -999.00,9,  -999.00,9,   -999.0,-999.0000, -999,9, 1002,   3.0653,  27.3657,   -999.0,9
       RF03-04,  165E,RF-1909,  1,      4,02-16010,2,20030504,0401, 40.0182, 165.0153, 5468,   1263.9,   2.6755,  34.4377,2,   -999.0,9,  34.4371,2,     32.4,2,   145.54,2,  -999.00,9,    42.70,2,     0.00,2,     3.08,2,    0.072,2,    0.030,2,  -999.00,9,   -999.0,9,   -999.0,9,-999.0000,9,   -999.0,  9,  -999.00,9,   -999.0,  -999.00,9,  -999.00,9,  -999.00,9,  -999.00,9,   -999.0,-999.0000, -999,9, 1250,   2.5904,  27.4726,   -999.0,9
       RF03-04,  165E,RF-1909,  1,      3,02-16009,2,20030504,0355, 40.0182, 165.0153, 5468,   1515.9,   2.3968,  34.4949,2,   -999.0,9,  34.4941,2,     39.7,2,   153.36,2,  -999.00,9,    42.48,2,     0.00,2,     3.04,2,    0.062,2,    0.027,2,  -999.00,9,   -999.0,9,   -999.0,9,-999.0000,9,   -999.0,  9,  -999.00,9,   -999.0,  -999.00,9,  -999.00,9,  -999.00,9,  -999.00,9,   -999.0,-999.0000, -999,9, 1499,   2.2949,  27.5432,   -999.0,9
       RF03-04,  165E,RF-1909,  1,      2,02-16008,2,20030504,0351, 40.0182, 165.0153, 5468,   1768.5,   2.1490,  34.5449,2,   -999.0,9,  34.5444,2,     50.8,2,   159.01,2,  -999.00,9,    41.94,2,     0.00,2,     2.97,2,    0.041,2,    0.011,2,  -999.00,9,   -999.0,9,   -999.0,9,-999.0000,9,   -999.0,  9,  -999.00,9,   -999.0,  -999.00,9,  -999.00,9,  -999.00,9,  -999.00,9,   -999.0,-999.0000, -999,9, 1748,   2.0298,  27.6047,   -999.0,9
       RF03-04,  165E,RF-1909,  1,      1,02-16007,2,20030504,0346, 40.0182, 165.0153, 5468,   2038.4,   1.9540,  34.5858,2,   -999.0,9,  34.5853,2,     67.3,2,   160.95,2,  -999.00,9,    41.10,2,     0.00,2,     2.89,2,    0.014,2,    0.000,2,  -999.00,9,   -999.0,9,   -999.0,9,-999.0000,9,   -999.0,  9,  -999.00,9,   -999.0,  -999.00,9,  -999.00,9,  -999.00,9,  -999.00,9,   -999.0,-999.0000, -999,9, 2013,   1.8152,  27.6542,   -999.0,9