BOTTLE,20130510GEMDJMAYT
EXPOCODE,SECT_ID,STNNBR,CASTNO,SAMPNO,BTLNBR,BTLNBR_FLAG_W,DATE,TIME,LATITUDE,LONGITUDE,DEPTH,CTDPRS,CTDTMP,CTDSAL,CTDSAL_FLAG_W,CTDOXY,CTDOXY_FLAG_W,SALNTY,SALNTY_FLAG_W,OXYGEN,OXYGEN_FLAG_W,SILCAT,SILCAT_FLAG_W,NITRAT,NITRAT_FLAG_W,NO2+NO3,NO2+NO3_FLAG_W,NITRIT,NITRIT_FLAG_W,PHSPHT,PHSPHT_FLAG_W,CFC-11,CFC-11_FLAG_W,CFC-12,CFC-12_FLAG_W,DELC13,DELC13_FLAG_W,TCARBN,TCARBN_FLAG_W,ALKALI,ALKALI_FLAG_W,PH,PH_FLAG_W,PH_TMP,PH_SCALE,PH_NBS,PH_NBS_FLAG_W,C13ERR,TOTALP,TOTALP_FLAG_W,AMMONI,AMMONI_FLAG_W,CHLORA,CHLORA_FLAG_W,PPHYTN,PPHYTN_FLAG_W,REVPRS,REVTMP,DEPTH_,DEPTH_FLAG,CTDDEP,THETA,SIGTHT,DOC,DOC_FLAG_W
,,,,,,,GMT,GMT,,,METER,DBAR,ITS-90,PSS-78,,UMOL/KG,,PSS-78,,UMOL/KG,,UMOL/KG,,UMOL/KG,,UMOL/KG,,UMOL/KG,,UMOL/KG,,PMOL/KG,,PMOL/KG,,/MILLE,,UMOL/KG,,UMOL/KG,,25_DEG_C,,DEG_C,,,,/MILLE,UMOL/KG,,UMOL/KG,,UG/L,,UG/L,,DBAR,ITS-90,METERS,,METERS,DEG_C,,UMOL/L,
       RF03-04,  165E,RF-1906,  1,     -9,      -9,5,20030503,0857, 43.0030, 165.0093, 5395,      0.0,   4.6384,  33.2895,2,   -999.0,9,-999.0000,9,   -999.0,9,  -999.00,9,  -999.00,9,  -999.00,9,  -999.00,9,  -999.00,9, -999.000,9, -999.000,9,  -999.00,9,   -999.0,9,   -999.0,9,-999.0000,9,   -999.0,  9,  -999.00,9,   -999.0,  -999.00,9,  -999.00,9,  -999.00,9,  -999.00,9,   -999.0,-999.0000, -999,9,    0,   4.6382,  26.3591,   -999.0,9
       RF03-04,  165E,RF-1906,  1,     24,02-16030,2,20030503,0853, 43.0030, 165.0093, 5395,    102.4,   4.4318,  33.2889,2,   -999.0,9,  33.2904,2,   -999.0,9,  -999.00,9,  -999.00,9,  -999.00,9,  -999.00,9,  -999.00,9, -999.000,9, -999.000,9,  -999.00,9,   -999.0,9,   -999.0,9,-999.0000,9,   -999.0,  9,  -999.00,9,   -999.0,  -999.00,9,  -999.00,9,  -999.00,9,  -999.00,9,   -999.0,-999.0000, -999,9,  102,   4.4246,  26.3815,   -999.0,9
       RF03-04,  165E,RF-1906,  1,     23,02-16029,2,20030503,0853, 43.0030, 165.0093, 5395,    101.3,   4.4319,  33.2887,2,   -999.0,9,-999.0000,9,   -999.0,9,  -999.00,9,  -999.00,9,  -999.00,9,  -999.00,9,  -999.00,9, -999.000,9, -999.000,9,  -999.00,9,   -999.0,9,   -999.0,9,-999.0000,9,   -999.0,  9,  -999.00,9,   -999.0,  -999.00,9,  -999.00,9,  -999.00,9,  -999.00,9,   -999.0,-999.0000, -999,9,  100,   4.4248,  26.3813,   -999.0,9
       RF03-04,  165E,RF-1906,  1,     22,02-16028,2,20030503,0850, 43.0030, 165.0093, 5395,    200.5,   4.3263,  33.6979,2,   -999.0,9,  33.7000,2,   -999.0,9,  -999.00,9,  -999.00,9,  -999.00,9,  -999.00,9,  -999.00,9, -999.000,9, -999.000,9,  -999.00,9,   -999.0,9,   -999.0,9,-999.0000,9,   -999.0,  9,  -999.00,9,   -999.0,  -999.00,9,  -999.00,9,  -999.00,9,  -999.00,9,   -999.0,-999.0000, -999,9,  199,   4.3121,  26.7182,   -999.0,9
       RF03-04,  165E,RF-1906,  1,     21,02-16027,2,20030503,0850, 43.0030, 165.0093, 5395,    201.1,   4.3412,  33.7030,2,   -999.0,9,-999.0000,9,   -999.0,9,  -999.00,9,  -999.00,9,  -999.00,9,  -999.00,9,  -999.00,9, -999.000,9, -999.000,9,  -999.00,9,   -999.0,9,   -999.0,9,-999.0000,9,   -999.0,  9,  -999.00,9,   -999.0,  -999.00,9,  -999.00,9,  -999.00,9,  -999.00,9,   -999.0,-999.0000, -999,9,  199,   4.3269,  26.7207,   -999.0,9
       RF03-04,  165E,RF-1906,  1,     20,02-16026,2,20030503,0848, 43.0030, 165.0093, 5395,    303.4,   3.7658,  33.8220,2,   -999.0,9,  33.8309,4,   -999.0,9,  -999.00,9,  -999.00,9,  -999.00,9,  -999.00,9,  -999.00,9, -999.000,9, -999.000,9,  -999.00,9,   -999.0,9,   -999.0,9,-999.0000,9,   -999.0,  9,  -999.00,9,   -999.0,  -999.00,9,  -999.00,9,  -999.00,9,  -999.00,9,   -999.0,-999.0000, -999,9,  301,   3.7454,  26.8746,   -999.0,9
       RF03-04,  165E,RF-1906,  1,     19,02-16025,2,20030503,0847, 43.0030, 165.0093, 5395,    303.3,   3.7669,  33.8223,2,   -999.0,9,-999.0000,9,   -999.0,9,  -999.00,9,  -999.00,9,  -999.00,9,  -999.00,9,  -999.00,9, -999.000,9, -999.000,9,  -999.00,9,   -999.0,9,   -999.0,9,-999.0000,9,   -999.0,  9,  -999.00,9,   -999.0,  -999.00,9,  -999.00,9,  -999.00,9,  -999.00,9,   -999.0,-999.0000, -999,9,  301,   3.7465,  26.8748,   -999.0,9
       RF03-04,  165E,RF-1906,  1,     18,02-16024,2,20030503,0845, 43.0030, 165.0093, 5395,    403.0,   3.7494,  33.9606,2,   -999.0,9,  33.9605,2,   -999.0,9,  -999.00,9,  -999.00,9,  -999.00,9,  -999.00,9,  -999.00,9, -999.000,9, -999.000,9,  -999.00,9,   -999.0,9,   -999.0,9,-999.0000,9,   -999.0,  9,  -999.00,9,   -999.0,  -999.00,9,  -999.00,9,  -999.00,9,  -999.00,9,   -999.0,-999.0000, -999,9,  399,   3.7219,  26.9872,   -999.0,9
       RF03-04,  165E,RF-1906,  1,     17,02-16023,2,20030503,0845, 43.0030, 165.0093, 5395,    403.0,   3.7552,  33.9600,2,   -999.0,9,-999.0000,9,   -999.0,9,  -999.00,9,  -999.00,9,  -999.00,9,  -999.00,9,  -999.00,9, -999.000,9, -999.000,9,  -999.00,9,   -999.0,9,   -999.0,9,-999.0000,9,   -999.0,  9,  -999.00,9,   -999.0,  -999.00,9,  -999.00,9,  -999.00,9,  -999.00,9,   -999.0,-999.0000, -999,9,  399,   3.7277,  26.9862,   -999.0,9
       RF03-04,  165E,RF-1906,  1,     16,02-16022,2,20030503,0840, 43.0030, 165.0093, 5395,    606.6,   3.5856,  34.2070,2,   -999.0,9,  34.2068,2,   -999.0,9,  -999.00,9,  -999.00,9,  -999.00,9,  -999.00,9,  -999.00,9, -999.000,9, -999.000,9,  -999.00,9,   -999.0,9,   -999.0,9,-999.0000,9,   -999.0,  9,  -999.00,9,   -999.0,  -999.00,9,  -999.00,9,  -999.00,9,  -999.00,9,   -999.0,-999.0000, -999,9,  601,   3.5438,  27.2009,   -999.0,9
       RF03-04,  165E,RF-1906,  1,     15,02-16021,2,20030503,0840, 43.0030, 165.0093, 5395,    606.7,   3.5848,  34.2073,2,   -999.0,9,-999.0000,9,   -999.0,9,  -999.00,9,  -999.00,9,  -999.00,9,  -999.00,9,  -999.00,9, -999.000,9, -999.000,9,  -999.00,9,   -999.0,9,   -999.0,9,-999.0000,9,   -999.0,  9,  -999.00,9,   -999.0,  -999.00,9,  -999.00,9,  -999.00,9,  -999.00,9,   -999.0,-999.0000, -999,9,  601,   3.5430,  27.2013,   -999.0,9
       RF03-04,  165E,RF-1906,  1,     14,02-16020,2,20030503,0836, 43.0030, 165.0093, 5395,    808.2,   3.1610,  34.3204,2,   -999.0,9,  34.3211,2,   -999.0,9,  -999.00,9,  -999.00,9,  -999.00,9,  -999.00,9,  -999.00,9, -999.000,9, -999.000,9,  -999.00,9,   -999.0,9,   -999.0,9,-999.0000,9,   -999.0,  9,  -999.00,9,   -999.0,  -999.00,9,  -999.00,9,  -999.00,9,  -999.00,9,   -999.0,-999.0000, -999,9,  800,   3.1066,  27.3328,   -999.0,9
       RF03-04,  165E,RF-1906,  1,     13,02-16019,2,20030503,0836, 43.0030, 165.0093, 5395,    808.0,   3.1607,  34.3203,2,   -999.0,9,-999.0000,9,   -999.0,9,  -999.00,9,  -999.00,9,  -999.00,9,  -999.00,9,  -999.00,9, -999.000,9, -999.000,9,  -999.00,9,   -999.0,9,   -999.0,9,-999.0000,9,   -999.0,  9,  -999.00,9,   -999.0,  -999.00,9,  -999.00,9,  -999.00,9,  -999.00,9,   -999.0,-999.0000, -999,9,  800,   3.1063,  27.3328,   -999.0,9
       RF03-04,  165E,RF-1906,  1,     12,02-16018,2,20030503,0832, 43.0030, 165.0093, 5395,   1010.0,   2.7993,  34.3989,2,   -999.0,9,  34.3986,2,   -999.0,9,  -999.00,9,  -999.00,9,  -999.00,9,  -999.00,9,  -999.00,9, -999.000,9, -999.000,9,  -999.00,9,   -999.0,9,   -999.0,9,-999.0000,9,   -999.0,  9,  -999.00,9,   -999.0,  -999.00,9,  -999.00,9,  -999.00,9,  -999.00,9,   -999.0,-999.0000, -999,9, 1000,   2.7324,  27.4291,   -999.0,9
       RF03-04,  165E,RF-1906,  1,     11,02-16017,2,20030503,0831, 43.0030, 165.0093, 5395,   1010.4,   2.7988,  34.3987,2,   -999.0,9,-999.0000,9,   -999.0,9,  -999.00,9,  -999.00,9,  -999.00,9,  -999.00,9,  -999.00,9, -999.000,9, -999.000,9,  -999.00,9,   -999.0,9,   -999.0,9,-999.0000,9,   -999.0,  9,  -999.00,9,   -999.0,  -999.00,9,  -999.00,9,  -999.00,9,  -999.00,9,   -999.0,-999.0000, -999,9, 1000,   2.7319,  27.4291,   -999.0,9
       RF03-04,  165E,RF-1906,  1,     10,02-16016,2,20030503,0827, 43.0030, 165.0093, 5395,   1215.0,   2.4997,  34.4607,2,   -999.0,9,-999.0000,9,   -999.0,9,  -999.00,9,  -999.00,9,  -999.00,9,  -999.00,9,  -999.00,9, -999.000,9, -999.000,9,  -999.00,9,   -999.0,9,   -999.0,9,-999.0000,9,   -999.0,  9,  -999.00,9,   -999.0,  -999.00,9,  -999.00,9,  -999.00,9,  -999.00,9,   -999.0,-999.0000, -999,9, 1202,   2.4200,  27.5055,   -999.0,9
       RF03-04,  165E,RF-1906,  1,      9,02-16015,2,20030503,0826, 43.0030, 165.0093, 5395,   1215.7,   2.4995,  34.4606,2,   -999.0,9,  34.4613,2,   -999.0,9,  -999.00,9,  -999.00,9,  -999.00,9,  -999.00,9,  -999.00,9, -999.000,9, -999.000,9,  -999.00,9,   -999.0,9,   -999.0,9,-999.0000,9,   -999.0,  9,  -999.00,9,   -999.0,  -999.00,9,  -999.00,9,  -999.00,9,  -999.00,9,   -999.0,-999.0000, -999,9, 1203,   2.4197,  27.5054,   -999.0,9
       RF03-04,  165E,RF-1906,  1,      8,02-16014,2,20030503,0822, 43.0030, 165.0093, 5395,   1416.3,   2.3030,  34.5040,2,   -999.0,9,-999.0000,9,   -999.0,9,  -999.00,9,  -999.00,9,  -999.00,9,  -999.00,9,  -999.00,9, -999.000,9, -999.000,9,  -999.00,9,   -999.0,9,   -999.0,9,-999.0000,9,   -999.0,  9,  -999.00,9,   -999.0,  -999.00,9,  -999.00,9,  -999.00,9,  -999.00,9,   -999.0,-999.0000, -999,9, 1400,   2.2099,  27.5574,   -999.0,9
       RF03-04,  165E,RF-1906,  1,      7,02-16013,2,20030503,0822, 43.0030, 165.0093, 5395,   1416.5,   2.3020,  34.5043,2,   -999.0,9,  34.5041,2,   -999.0,9,  -999.00,9,  -999.00,9,  -999.00,9,  -999.00,9,  -999.00,9, -999.000,9, -999.000,9,  -999.00,9,   -999.0,9,   -999.0,9,-999.0000,9,   -999.0,  9,  -999.00,9,   -999.0,  -999.00,9,  -999.00,9,  -999.00,9,  -999.00,9,   -999.0,-999.0000, -999,9, 1400,   2.2089,  27.5578,   -999.0,9
       RF03-04,  165E,RF-1906,  1,      6,02-16012,2,20030503,0818, 43.0030, 165.0093, 5395,   1622.2,   2.1377,  34.5431,2,   -999.0,9,-999.0000,9,   -999.0,9,  -999.00,9,  -999.00,9,  -999.00,9,  -999.00,9,  -999.00,9, -999.000,9, -999.000,9,  -999.00,9,   -999.0,9,   -999.0,9,-999.0000,9,   -999.0,  9,  -999.00,9,   -999.0,  -999.00,9,  -999.00,9,  -999.00,9,  -999.00,9,   -999.0,-999.0000, -999,9, 1603,   2.0304,  27.6032,   -999.0,9
       RF03-04,  165E,RF-1906,  1,      5,02-16011,2,20030503,0818, 43.0030, 165.0093, 5395,   1621.3,   2.1379,  34.5430,2,   -999.0,9,  34.5433,2,   -999.0,9,  -999.00,9,  -999.00,9,  -999.00,9,  -999.00,9,  -999.00,9, -999.000,9, -999.000,9,  -999.00,9,   -999.0,9,   -999.0,9,-999.0000,9,   -999.0,  9,  -999.00,9,   -999.0,  -999.00,9,  -999.00,9,  -999.00,9,  -999.00,9,   -999.0,-999.0000, -999,9, 1602,   2.0306,  27.6031,   -999.0,9
       RF03-04,  165E,RF-1906,  1,      4,02-16010,2,20030503,0813, 43.0030, 165.0093, 5395,   1822.1,   2.0212,  34.5709,2,   -999.0,9,-999.0000,9,   -999.0,9,  -999.00,9,  -999.00,9,  -999.00,9,  -999.00,9,  -999.00,9, -999.000,9, -999.000,9,  -999.00,9,   -999.0,9,   -999.0,9,-999.0000,9,   -999.0,  9,  -999.00,9,   -999.0,  -999.00,9,  -999.00,9,  -999.00,9,  -999.00,9,   -999.0,-999.0000, -999,9, 1800,   1.8993,  27.6358,   -999.0,9
       RF03-04,  165E,RF-1906,  1,      3,02-16009,2,20030503,0813, 43.0030, 165.0093, 5395,   1823.2,   2.0215,  34.5706,2,   -999.0,9,  34.5708,2,   -999.0,9,  -999.00,9,  -999.00,9,  -999.00,9,  -999.00,9,  -999.00,9, -999.000,9, -999.000,9,  -999.00,9,   -999.0,9,   -999.0,9,-999.0000,9,   -999.0,  9,  -999.00,9,   -999.0,  -999.00,9,  -999.00,9,  -999.00,9,  -999.00,9,   -999.0,-999.0000, -999,9, 1801,   1.8995,  27.6355,   -999.0,9
       RF03-04,  165E,RF-1906,  1,      2,02-16008,2,20030503,0808, 43.0030, 165.0093, 5395,   2046.5,   1.8897,  34.5982,2,   -999.0,9,-999.0000,9,   -999.0,9,  -999.00,9,  -999.00,9,  -999.00,9,  -999.00,9,  -999.00,9, -999.000,9, -999.000,9,  -999.00,9,   -999.0,9,   -999.0,9,-999.0000,9,   -999.0,  9,  -999.00,9,   -999.0,  -999.00,9,  -999.00,9,  -999.00,9,  -999.00,9,   -999.0,-999.0000, -999,9, 2020,   1.7512,  27.6691,   -999.0,9
       RF03-04,  165E,RF-1906,  1,      1,02-16007,2,20030503,0808, 43.0030, 165.0093, 5395,   2046.8,   1.8898,  34.5982,2,   -999.0,9,  34.5987,2,   -999.0,9,  -999.00,9,  -999.00,9,  -999.00,9,  -999.00,9,  -999.00,9, -999.000,9, -999.000,9,  -999.00,9,   -999.0,9,   -999.0,9,-999.0000,9,   -999.0,  9,  -999.00,9,   -999.0,  -999.00,9,  -999.00,9,  -999.00,9,  -999.00,9,   -999.0,-999.0000, -999,9, 2021,   1.7512,  27.6690,   -999.0,9