BOTTLE,20130510GEMDJMAYT
EXPOCODE,SECT_ID,STNNBR,CASTNO,SAMPNO,BTLNBR,BTLNBR_FLAG_W,DATE,TIME,LATITUDE,LONGITUDE,DEPTH,CTDPRS,CTDTMP,CTDSAL,CTDSAL_FLAG_W,CTDOXY,CTDOXY_FLAG_W,SALNTY,SALNTY_FLAG_W,OXYGEN,OXYGEN_FLAG_W,SILCAT,SILCAT_FLAG_W,NITRAT,NITRAT_FLAG_W,NO2+NO3,NO2+NO3_FLAG_W,NITRIT,NITRIT_FLAG_W,PHSPHT,PHSPHT_FLAG_W,CFC-11,CFC-11_FLAG_W,CFC-12,CFC-12_FLAG_W,DELC13,DELC13_FLAG_W,TCARBN,TCARBN_FLAG_W,ALKALI,ALKALI_FLAG_W,PH,PH_FLAG_W,PH_TMP,PH_SCALE,PH_NBS,PH_NBS_FLAG_W,C13ERR,TOTALP,TOTALP_FLAG_W,AMMONI,AMMONI_FLAG_W,CHLORA,CHLORA_FLAG_W,PPHYTN,PPHYTN_FLAG_W,REVPRS,REVTMP,DEPTH_,DEPTH_FLAG,CTDDEP,THETA,SIGTHT,DOC,DOC_FLAG_W
,,,,,,,GMT,GMT,,,METER,DBAR,ITS-90,PSS-78,,UMOL/KG,,PSS-78,,UMOL/KG,,UMOL/KG,,UMOL/KG,,UMOL/KG,,UMOL/KG,,UMOL/KG,,PMOL/KG,,PMOL/KG,,/MILLE,,UMOL/KG,,UMOL/KG,,25_DEG_C,,DEG_C,,,,/MILLE,UMOL/KG,,UMOL/KG,,UG/L,,UG/L,,DBAR,ITS-90,METERS,,METERS,DEG_C,,UMOL/L,
       RF03-04,  165E,RF-1912,  1,     -9,      -9,5,20030505,2103, 37.0267, 164.9940, 4999,      0.0,  14.5423,  34.5960,2,   -999.0,9,-999.0000,9,   -999.0,9,  -999.00,9,  -999.00,9,  -999.00,9,  -999.00,9,  -999.00,9, -999.000,9, -999.000,9,  -999.00,9,   -999.0,9,   -999.0,9,-999.0000,9,   -999.0,  9,  -999.00,9,   -999.0,  -999.00,9,  -999.00,9,  -999.00,9,  -999.00,9,   -999.0,-999.0000, -999,9,    0,  14.5419,  25.7598,   -999.0,9
       RF03-04,  165E,RF-1912,  1,     21,02-16027,2,20030505,2101, 37.0267, 164.9940, 4999,     10.4,  14.5291,  34.5990,2,   -999.0,9,-999.0000,9,   -999.0,9,  -999.00,9,  -999.00,9,  -999.00,9,  -999.00,9,  -999.00,9, -999.000,9, -999.000,9,  -999.00,9,   -999.0,9,   -999.0,9,-999.0000,9,   -999.0,  9,  -999.00,9,   -999.0,  -999.00,9,  -999.00,9,  -999.00,9,  -999.00,9,   -999.0,-999.0000, -999,9,   10,  14.5276,  25.7652,   -999.0,9
       RF03-04,  165E,RF-1912,  1,     20,02-16026,2,20030505,2101, 37.0267, 164.9940, 4999,     11.1,  14.5151,  34.5999,2,   -999.0,9,-999.0000,9,   -999.0,9,  -999.00,9,  -999.00,9,  -999.00,9,  -999.00,9,  -999.00,9, -999.000,9, -999.000,9,  -999.00,9,   -999.0,9,   -999.0,9,-999.0000,9,   -999.0,  9,  -999.00,9,   -999.0,  -999.00,9,  -999.00,9,  -999.00,9,  -999.00,9,   -999.0,-999.0000, -999,9,   11,  14.5135,  25.7689,   -999.0,9
       RF03-04,  165E,RF-1912,  1,     19,02-16025,2,20030505,2100, 37.0267, 164.9940, 4999,     10.6,  14.5171,  34.5997,2,   -999.0,9,-999.0000,9,   -999.0,9,  -999.00,9,  -999.00,9,  -999.00,9,  -999.00,9,  -999.00,9, -999.000,9, -999.000,9,  -999.00,9,   -999.0,9,   -999.0,9,-999.0000,9,   -999.0,  9,  -999.00,9,   -999.0,  -999.00,9,  -999.00,9,  -999.00,9,  -999.00,9,   -999.0,-999.0000, -999,9,   10,  14.5155,  25.7683,   -999.0,9
       RF03-04,  165E,RF-1912,  1,     18,02-16024,2,20030505,2100, 37.0267, 164.9940, 4999,     10.7,  14.5195,  34.5995,2,   -999.0,9,-999.0000,9,   -999.0,9,  -999.00,9,  -999.00,9,  -999.00,9,  -999.00,9,  -999.00,9, -999.000,9, -999.000,9,  -999.00,9,   -999.0,9,   -999.0,9,-999.0000,9,   -999.0,  9,  -999.00,9,   -999.0,  -999.00,9,  -999.00,9,  -999.00,9,  -999.00,9,   -999.0,-999.0000, -999,9,   11,  14.5179,  25.7677,   -999.0,9
       RF03-04,  165E,RF-1912,  1,     17,02-16023,2,20030505,2100, 37.0267, 164.9940, 4999,     11.0,  14.5147,  34.6000,2,   -999.0,9,-999.0000,9,   -999.0,9,  -999.00,9,  -999.00,9,  -999.00,9,  -999.00,9,  -999.00,9, -999.000,9, -999.000,9,  -999.00,9,   -999.0,9,   -999.0,9,-999.0000,9,   -999.0,  9,  -999.00,9,   -999.0,  -999.00,9,  -999.00,9,  -999.00,9,  -999.00,9,   -999.0,-999.0000, -999,9,   11,  14.5131,  25.7691,   -999.0,9
       RF03-04,  165E,RF-1912,  1,     16,02-16022,2,20030505,2100, 37.0267, 164.9940, 4999,     11.0,  14.5176,  34.6000,2,   -999.0,9,-999.0000,9,   -999.0,9,  -999.00,9,  -999.00,9,  -999.00,9,  -999.00,9,  -999.00,9, -999.000,9, -999.000,9,  -999.00,9,   -999.0,9,   -999.0,9,-999.0000,9,   -999.0,  9,  -999.00,9,   -999.0,  -999.00,9,  -999.00,9,  -999.00,9,  -999.00,9,   -999.0,-999.0000, -999,9,   11,  14.5160,  25.7685,   -999.0,9
       RF03-04,  165E,RF-1912,  1,     15,02-16021,2,20030505,2059, 37.0267, 164.9940, 4999,     10.7,  14.5186,  34.5998,2,   -999.0,9,-999.0000,9,   -999.0,9,  -999.00,9,  -999.00,9,  -999.00,9,  -999.00,9,  -999.00,9, -999.000,9, -999.000,9,  -999.00,9,   -999.0,9,   -999.0,9,-999.0000,9,   -999.0,  9,  -999.00,9,   -999.0,  -999.00,9,  -999.00,9,  -999.00,9,  -999.00,9,   -999.0,-999.0000, -999,9,   11,  14.5170,  25.7681,   -999.0,9
       RF03-04,  165E,RF-1912,  1,     14,02-16020,2,20030505,2059, 37.0267, 164.9940, 4999,     10.8,  14.5164,  34.5996,2,   -999.0,9,  34.5993,2,   -999.0,9,  -999.00,9,  -999.00,9,  -999.00,9,  -999.00,9,  -999.00,9, -999.000,9, -999.000,9,  -999.00,9,   -999.0,9,   -999.0,9,-999.0000,9,   -999.0,  9,  -999.00,9,   -999.0,  -999.00,9,  -999.00,9,  -999.00,9,  -999.00,9,   -999.0,-999.0000, -999,9,   11,  14.5148,  25.7685,   -999.0,9
       RF03-04,  165E,RF-1912,  1,     13,02-16019,2,20030505,2057, 37.0267, 164.9940, 4999,    101.1,  14.0897,  34.5749,2,   -999.0,9,  34.5749,2,   -999.0,9,  -999.00,9,  -999.00,9,  -999.00,9,  -999.00,9,  -999.00,9, -999.000,9, -999.000,9,  -999.00,9,   -999.0,9,   -999.0,9,-999.0000,9,   -999.0,  9,  -999.00,9,   -999.0,  -999.00,9,  -999.00,9,  -999.00,9,  -999.00,9,   -999.0,-999.0000, -999,9,  100,  14.0751,  25.8428,   -999.0,9
       RF03-04,  165E,RF-1912,  1,     12,02-16018,2,20030505,2054, 37.0267, 164.9940, 4999,    201.7,  12.4594,  34.4307,2,   -999.0,9,  34.4292,2,   -999.0,9,  -999.00,9,  -999.00,9,  -999.00,9,  -999.00,9,  -999.00,9, -999.000,9, -999.000,9,  -999.00,9,   -999.0,9,   -999.0,9,-999.0000,9,   -999.0,  9,  -999.00,9,   -999.0,  -999.00,9,  -999.00,9,  -999.00,9,  -999.00,9,   -999.0,-999.0000, -999,9,  200,  12.4326,  26.0637,   -999.0,9
       RF03-04,  165E,RF-1912,  1,     11,02-16017,2,20030505,2052, 37.0267, 164.9940, 4999,    303.4,   9.9118,  34.1859,2,   -999.0,9,  34.1852,2,   -999.0,9,  -999.00,9,  -999.00,9,  -999.00,9,  -999.00,9,  -999.00,9, -999.000,9, -999.000,9,  -999.00,9,   -999.0,9,   -999.0,9,-999.0000,9,   -999.0,  9,  -999.00,9,   -999.0,  -999.00,9,  -999.00,9,  -999.00,9,  -999.00,9,   -999.0,-999.0000, -999,9,  301,   9.8770,  26.3370,   -999.0,9
       RF03-04,  165E,RF-1912,  1,     10,02-16016,2,20030505,2050, 37.0267, 164.9940, 4999,    403.8,   7.4989,  34.0324,2,   -999.0,9,  34.0337,2,   -999.0,9,  -999.00,9,  -999.00,9,  -999.00,9,  -999.00,9,  -999.00,9, -999.000,9, -999.000,9,  -999.00,9,   -999.0,9,   -999.0,9,-999.0000,9,   -999.0,  9,  -999.00,9,   -999.0,  -999.00,9,  -999.00,9,  -999.00,9,  -999.00,9,   -999.0,-999.0000, -999,9,  400,   7.4596,  26.5923,   -999.0,9
       RF03-04,  165E,RF-1912,  1,      9,02-16015,3,20030505,2045, 37.0267, 164.9940, 4999,    605.6,   4.7571,  34.0443,2,   -999.0,9,  34.0449,2,   -999.0,9,  -999.00,9,  -999.00,9,  -999.00,9,  -999.00,9,  -999.00,9, -999.000,9, -999.000,9,  -999.00,9,   -999.0,9,   -999.0,9,-999.0000,9,   -999.0,  9,  -999.00,9,   -999.0,  -999.00,9,  -999.00,9,  -999.00,9,  -999.00,9,   -999.0,-999.0000, -999,9,  600,   4.7100,  26.9502,   -999.0,9
       RF03-04,  165E,RF-1912,  1,      8,02-16014,3,20030505,2040, 37.0267, 164.9940, 4999,    808.6,   3.8757,  34.2516,2,   -999.0,9,  34.2508,2,   -999.0,9,  -999.00,9,  -999.00,9,  -999.00,9,  -999.00,9,  -999.00,9, -999.000,9, -999.000,9,  -999.00,9,   -999.0,9,   -999.0,9,-999.0000,9,   -999.0,  9,  -999.00,9,   -999.0,  -999.00,9,  -999.00,9,  -999.00,9,  -999.00,9,   -999.0,-999.0000, -999,9,  801,   3.8168,  27.2095,   -999.0,9
       RF03-04,  165E,RF-1912,  1,      7,02-16013,2,20030505,2036, 37.0267, 164.9940, 4999,   1011.8,   3.2186,  34.3615,2,   -999.0,9,  34.3604,2,   -999.0,9,  -999.00,9,  -999.00,9,  -999.00,9,  -999.00,9,  -999.00,9, -999.000,9, -999.000,9,  -999.00,9,   -999.0,9,   -999.0,9,-999.0000,9,   -999.0,  9,  -999.00,9,   -999.0,  -999.00,9,  -999.00,9,  -999.00,9,  -999.00,9,   -999.0,-999.0000, -999,9, 1002,   3.1483,  27.3618,   -999.0,9
       RF03-04,  165E,RF-1912,  1,      6,02-16012,2,20030505,2025, 37.0267, 164.9940, 4999,   1517.4,   2.3462,  34.5084,2,   -999.0,9,  34.5081,2,   -999.0,9,  -999.00,9,  -999.00,9,  -999.00,9,  -999.00,9,  -999.00,9, -999.000,9, -999.000,9,  -999.00,9,   -999.0,9,   -999.0,9,-999.0000,9,   -999.0,  9,  -999.00,9,   -999.0,  -999.00,9,  -999.00,9,  -999.00,9,  -999.00,9,   -999.0,-999.0000, -999,9, 1501,   2.2447,  27.5582,   -999.0,9
       RF03-04,  165E,RF-1912,  1,      5,02-16011,2,20030505,2015, 37.0267, 164.9940, 4999,   2025.2,   1.9062,  34.5957,2,   -999.0,9,  34.5952,2,   -999.0,9,  -999.00,9,  -999.00,9,  -999.00,9,  -999.00,9,  -999.00,9, -999.000,9, -999.000,9,  -999.00,9,   -999.0,9,   -999.0,9,-999.0000,9,   -999.0,  9,  -999.00,9,   -999.0,  -999.00,9,  -999.00,9,  -999.00,9,  -999.00,9,   -999.0,-999.0000, -999,9, 2001,   1.7692,  27.6657,   -999.0,9
       RF03-04,  165E,RF-1912,  1,      4,02-16010,2,20030505,2006, 37.0267, 164.9940, 4999,   2533.7,   1.6575,  34.6422,2,   -999.0,9,  34.6418,2,   -999.0,9,  -999.00,9,  -999.00,9,  -999.00,9,  -999.00,9,  -999.00,9, -999.000,9, -999.000,9,  -999.00,9,   -999.0,9,   -999.0,9,-999.0000,9,   -999.0,  9,  -999.00,9,   -999.0,  -999.00,9,  -999.00,9,  -999.00,9,  -999.00,9,   -999.0,-999.0000, -999,9, 2500,   1.4806,  27.7244,   -999.0,9
       RF03-04,  165E,RF-1912,  1,      3,02-16009,2,20030505,1956, 37.0267, 164.9940, 4999,   3044.1,   1.5298,  34.6647,2,   -999.0,9,  34.6644,2,   -999.0,9,  -999.00,9,  -999.00,9,  -999.00,9,  -999.00,9,  -999.00,9, -999.000,9, -999.000,9,  -999.00,9,   -999.0,9,   -999.0,9,-999.0000,9,   -999.0,  9,  -999.00,9,   -999.0,  -999.00,9,  -999.00,9,  -999.00,9,  -999.00,9,   -999.0,-999.0000, -999,9, 3000,   1.3082,  27.7548,   -999.0,9
       RF03-04,  165E,RF-1912,  1,      2,02-16008,2,20030505,1937, 37.0267, 164.9940, 4999,   4069.7,   1.4530,  34.6851,2,   -999.0,9,  34.6835,4,   -999.0,9,  -999.00,9,  -999.00,9,  -999.00,9,  -999.00,9,  -999.00,9, -999.000,9, -999.000,9,  -999.00,9,   -999.0,9,   -999.0,9,-999.0000,9,   -999.0,  9,  -999.00,9,   -999.0,  -999.00,9,  -999.00,9,  -999.00,9,  -999.00,9,   -999.0,-999.0000, -999,9, 4001,   1.1278,  27.7837,   -999.0,9
       RF03-04,  165E,RF-1912,  1,      1,02-16007,2,20030505,1927, 37.0267, 164.9940, 4999,   4604.7,   1.4816,  34.6884,2,   -999.0,9,  34.6877,2,   -999.0,9,  -999.00,9,  -999.00,9,  -999.00,9,  -999.00,9,  -999.00,9, -999.000,9, -999.000,9,  -999.00,9,   -999.0,9,   -999.0,9,-999.0000,9,   -999.0,  9,  -999.00,9,   -999.0,  -999.00,9,  -999.00,9,  -999.00,9,  -999.00,9,   -999.0,-999.0000, -999,9, 4522,   1.0951,  27.7886,   -999.0,9