BOTTLE,20130510GEMDJMAYT
EXPOCODE,SECT_ID,STNNBR,CASTNO,SAMPNO,BTLNBR,BTLNBR_FLAG_W,DATE,TIME,LATITUDE,LONGITUDE,DEPTH,CTDPRS,CTDTMP,CTDSAL,CTDSAL_FLAG_W,CTDOXY,CTDOXY_FLAG_W,SALNTY,SALNTY_FLAG_W,OXYGEN,OXYGEN_FLAG_W,SILCAT,SILCAT_FLAG_W,NITRAT,NITRAT_FLAG_W,NO2+NO3,NO2+NO3_FLAG_W,NITRIT,NITRIT_FLAG_W,PHSPHT,PHSPHT_FLAG_W,CFC-11,CFC-11_FLAG_W,CFC-12,CFC-12_FLAG_W,DELC13,DELC13_FLAG_W,TCARBN,TCARBN_FLAG_W,ALKALI,ALKALI_FLAG_W,PH,PH_FLAG_W,PH_TMP,PH_SCALE,PH_NBS,PH_NBS_FLAG_W,C13ERR,TOTALP,TOTALP_FLAG_W,AMMONI,AMMONI_FLAG_W,CHLORA,CHLORA_FLAG_W,PPHYTN,PPHYTN_FLAG_W,REVPRS,REVTMP,DEPTH_,DEPTH_FLAG,CTDDEP,THETA,SIGTHT,DOC,DOC_FLAG_W
,,,,,,,GMT,GMT,,,METER,DBAR,ITS-90,PSS-78,,UMOL/KG,,PSS-78,,UMOL/KG,,UMOL/KG,,UMOL/KG,,UMOL/KG,,UMOL/KG,,UMOL/KG,,PMOL/KG,,PMOL/KG,,/MILLE,,UMOL/KG,,UMOL/KG,,25_DEG_C,,DEG_C,,,,/MILLE,UMOL/KG,,UMOL/KG,,UG/L,,UG/L,,DBAR,ITS-90,METERS,,METERS,DEG_C,,UMOL/L,
       RF04-01,  165E,RF-2093,  1,     -9,      -9,5,20040210,1545, -4.0182, 165.0165, 3363,      0.0,  30.1548,  34.3760,2,   -999.0,9,-999.0000,9,    193.0,2,     1.26,2,  -999.00,9,     0.03,2,     0.00,2,     0.17,2, -999.000,9, -999.000,9,  -999.00,9,   -999.0,9,   -999.0,9,-999.0000,9,   -999.0,  9,  -999.00,9,   -999.0,  -999.00,9,  -999.00,9,  -999.00,9,  -999.00,9,   -999.0,-999.0000, -999,9,    0,  30.1545,  21.2057,   -999.0,9
       RF04-01,  165E,RF-2093,  1,     24,02-18578,2,20040210,1542, -4.0182, 165.0165, 3363,     10.5,  30.1617,  34.8345,2,   -999.0,9,  34.8333,2,    195.3,2,     1.31,2,  -999.00,9,     0.04,2,     0.00,2,     0.18,2, -999.000,9, -999.000,9,  -999.00,9,   -999.0,9,   -999.0,9,-999.0000,9,   -999.0,  9,  -999.00,9,   -999.0,  -999.00,9,  -999.00,9,  -999.00,9,  -999.00,9,   -999.0,-999.0000, -999,9,   10,  30.1591,  21.5477,   -999.0,9
       RF04-01,  165E,RF-2093,  1,     23,02-18577,2,20040210,1542, -4.0182, 165.0165, 3363,     24.7,  30.1664,  34.8366,2,   -999.0,9,-999.0000,9,    194.2,2,     1.31,2,  -999.00,9,     0.00,2,     0.00,2,     0.17,2, -999.000,9, -999.000,9,  -999.00,9,   -999.0,9,   -999.0,9,-999.0000,9,   -999.0,  9,  -999.00,9,   -999.0,  -999.00,9,  -999.00,9,  -999.00,9,  -999.00,9,   -999.0,-999.0000, -999,9,   25,  30.1603,  21.5489,   -999.0,9
       RF04-01,  165E,RF-2093,  1,     22,02-18576,2,20040210,1540, -4.0182, 165.0165, 3363,     49.1,  29.9502,  34.9745,2,   -999.0,9,-999.0000,9,    195.0,2,     1.36,2,  -999.00,9,     0.02,2,     0.00,2,     0.17,2, -999.000,9, -999.000,9,  -999.00,9,   -999.0,9,   -999.0,9,-999.0000,9,   -999.0,  9,  -999.00,9,   -999.0,  -999.00,9,  -999.00,9,  -999.00,9,  -999.00,9,   -999.0,-999.0000, -999,9,   49,  29.9380,  21.7282,   -999.0,9
       RF04-01,  165E,RF-2093,  1,     21,02-18575,2,20040210,1539, -4.0182, 165.0165, 3363,     76.1,  29.7351,  35.0012,2,   -999.0,9,-999.0000,9,    194.1,2,     1.37,2,  -999.00,9,     0.00,2,     0.00,2,     0.18,2, -999.000,9, -999.000,9,  -999.00,9,   -999.0,9,   -999.0,9,-999.0000,9,   -999.0,  9,  -999.00,9,   -999.0,  -999.00,9,  -999.00,9,  -999.00,9,  -999.00,9,   -999.0,-999.0000, -999,9,   76,  29.7163,  21.8237,   -999.0,9
       RF04-01,  165E,RF-2093,  1,     20,02-18574,2,20040210,1538, -4.0182, 165.0165, 3363,    100.2,  29.7036,  35.0379,2,   -999.0,9,  35.0406,2,    193.3,2,     1.30,2,  -999.00,9,     0.04,2,     0.00,2,     0.18,2, -999.000,9, -999.000,9,  -999.00,9,   -999.0,9,   -999.0,9,-999.0000,9,   -999.0,  9,  -999.00,9,   -999.0,  -999.00,9,  -999.00,9,  -999.00,9,  -999.00,9,   -999.0,-999.0000, -999,9,  100,  29.6789,  21.8639,   -999.0,9
       RF04-01,  165E,RF-2093,  1,     19,02-18573,2,20040210,1537, -4.0182, 165.0165, 3363,    127.0,  29.4430,  35.3986,2,   -999.0,9,-999.0000,9,    175.9,2,     1.95,2,  -999.00,9,     3.41,2,  -999.00,4,     0.39,2, -999.000,9, -999.000,9,  -999.00,9,   -999.0,9,   -999.0,9,-999.0000,9,   -999.0,  9,  -999.00,9,   -999.0,  -999.00,9,  -999.00,9,  -999.00,9,  -999.00,9,   -999.0,-999.0000, -999,9,  126,  29.4119,  22.2249,   -999.0,9
       RF04-01,  165E,RF-2093,  1,     18,02-18572,2,20040210,1536, -4.0182, 165.0165, 3363,    151.9,  28.5027,  35.6790,2,   -999.0,9,-999.0000,9,    151.8,2,     2.36,2,  -999.00,9,     6.87,2,     0.20,2,     0.62,2, -999.000,9, -999.000,9,  -999.00,9,   -999.0,9,   -999.0,9,-999.0000,9,   -999.0,  9,  -999.00,9,   -999.0,  -999.00,9,  -999.00,9,  -999.00,9,  -999.00,9,   -999.0,-999.0000, -999,9,  151,  28.4663,  22.7518,   -999.0,9
       RF04-01,  165E,RF-2093,  1,     17,02-18571,2,20040210,1534, -4.0182, 165.0165, 3363,    203.4,  18.4323,  35.5128,2,   -999.0,9,  35.5130,2,    109.4,2,     7.18,2,  -999.00,9,    15.51,2,     0.00,2,     1.19,2, -999.000,9, -999.000,9,  -999.00,9,   -999.0,9,   -999.0,9,-999.0000,9,   -999.0,  9,  -999.00,9,   -999.0,  -999.00,9,  -999.00,9,  -999.00,9,  -999.00,9,   -999.0,-999.0000, -999,9,  202,  18.3967,  25.5661,   -999.0,9
       RF04-01,  165E,RF-2093,  1,     16,02-18570,2,20040210,1533, -4.0182, 165.0165, 3363,    252.9,  12.8940,  34.9931,2,   -999.0,9,-999.0000,9,     88.2,2,    16.54,2,  -999.00,9,    24.78,2,     0.00,2,     1.76,2, -999.000,9, -999.000,9,  -999.00,9,   -999.0,9,   -999.0,9,-999.0000,9,   -999.0,  9,  -999.00,9,   -999.0,  -999.00,9,  -999.00,9,  -999.00,9,  -999.00,9,   -999.0,-999.0000, -999,9,  251,  12.8593,  26.4157,   -999.0,9
       RF04-01,  165E,RF-2093,  1,     15,02-18569,2,20040210,1531, -4.0182, 165.0165, 3363,    304.5,  10.3204,  34.7739,2,   -999.0,9,  34.7749,2,     97.7,2,    22.58,2,  -999.00,9,    28.19,2,     0.00,2,     1.95,2, -999.000,9, -999.000,9,  -999.00,9,   -999.0,9,   -999.0,9,-999.0000,9,   -999.0,  9,  -999.00,9,   -999.0,  -999.00,9,  -999.00,9,  -999.00,9,  -999.00,9,   -999.0,-999.0000, -999,9,  303,  10.2843,  26.7264,   -999.0,9
       RF04-01,  165E,RF-2093,  1,     14,02-18568,2,20040210,1529, -4.0182, 165.0165, 3363,    402.8,   9.0232,  34.6763,2,   -999.0,9,  34.6739,2,     91.9,2,    28.26,2,  -999.00,9,    31.45,2,     0.00,2,     2.16,2, -999.000,9, -999.000,9,  -999.00,9,   -999.0,9,   -999.0,9,-999.0000,9,   -999.0,  9,  -999.00,9,   -999.0,  -999.00,9,  -999.00,9,  -999.00,9,  -999.00,9,   -999.0,-999.0000, -999,9,  400,   8.9790,  26.8680,   -999.0,9
       RF04-01,  165E,RF-2093,  1,     13,02-18567,2,20040210,1526, -4.0182, 165.0165, 3363,    504.5,   7.8633,  34.6125,2,   -999.0,9,  34.6113,2,     73.8,2,    36.91,2,  -999.00,9,    35.62,2,     0.00,2,     2.46,2, -999.000,9, -999.000,9,  -999.00,9,   -999.0,9,   -999.0,9,-999.0000,9,   -999.0,  9,  -999.00,9,   -999.0,  -999.00,9,  -999.00,9,  -999.00,9,  -999.00,9,   -999.0,-999.0000, -999,9,  501,   7.8120,  26.9974,   -999.0,9
       RF04-01,  165E,RF-2093,  1,     12,02-18566,2,20040210,1524, -4.0182, 165.0165, 3363,    603.6,   6.5659,  34.5511,2,   -999.0,9,  34.5523,2,     97.0,2,    45.40,2,  -999.00,9,    35.95,2,     0.00,2,     2.51,2, -999.000,9, -999.000,9,  -999.00,9,   -999.0,9,   -999.0,9,-999.0000,9,   -999.0,  9,  -999.00,9,   -999.0,  -999.00,9,  -999.00,9,  -999.00,9,  -999.00,9,   -999.0,-999.0000, -999,9,  599,   6.5101,  27.1316,   -999.0,9
       RF04-01,  165E,RF-2093,  1,     11,02-18565,2,20040210,1521, -4.0182, 165.0165, 3363,    705.7,   6.0044,  34.5374,2,   -999.0,9,  34.5826,4,     99.8,2,    52.00,2,  -999.00,9,    36.54,2,     0.00,2,     2.56,2, -999.000,9, -999.000,9,  -999.00,9,   -999.0,9,   -999.0,9,-999.0000,9,   -999.0,  9,  -999.00,9,   -999.0,  -999.00,9,  -999.00,9,  -999.00,9,  -999.00,9,   -999.0,-999.0000, -999,9,  701,   5.9417,  27.1945,   -999.0,9
       RF04-01,  165E,RF-2093,  1,     10,02-18564,2,20040210,1518, -4.0182, 165.0165, 3363,    806.9,   5.2574,  34.5304,2,   -999.0,9,  34.5299,2,    107.5,2,    62.39,2,  -999.00,9,    36.78,2,     0.00,2,     2.58,2, -999.000,9, -999.000,9,  -999.00,9,   -999.0,9,   -999.0,9,-999.0000,9,   -999.0,  9,  -999.00,9,   -999.0,  -999.00,9,  -999.00,9,  -999.00,9,  -999.00,9,   -999.0,-999.0000, -999,9,  801,   5.1897,  27.2808,   -999.0,9
       RF04-01,  165E,RF-2093,  1,      9,02-18563,2,20040210,1516, -4.0182, 165.0165, 3363,    907.1,   4.8560,  34.5307,2,   -999.0,9,-999.0000,9,    113.0,2,    68.09,2,  -999.00,9,    36.68,2,     0.00,2,     2.57,2, -999.000,9, -999.000,9,  -999.00,9,   -999.0,9,   -999.0,9,-999.0000,9,   -999.0,  9,  -999.00,9,   -999.0,  -999.00,9,  -999.00,9,  -999.00,9,  -999.00,9,   -999.0,-999.0000, -999,9,  900,   4.7820,  27.3281,   -999.0,9
       RF04-01,  165E,RF-2093,  1,      8,02-18562,2,20040210,1513, -4.0182, 165.0165, 3363,   1010.6,   4.4736,  34.5431,2,   -999.0,9,  34.5423,2,    106.9,2,    77.63,2,  -999.00,9,    37.52,2,     0.00,2,     2.65,2, -999.000,9, -999.000,9,  -999.00,9,   -999.0,9,   -999.0,9,-999.0000,9,   -999.0,  9,  -999.00,9,   -999.0,  -999.00,9,  -999.00,9,  -999.00,9,  -999.00,9,   -999.0,-999.0000, -999,9, 1003,   4.3933,  27.3810,   -999.0,9
       RF04-01,  165E,RF-2093,  1,      7,02-18561,2,20040210,1507, -4.0182, 165.0165, 3363,   1263.8,   3.8159,  34.5654,2,   -999.0,9,-999.0000,9,    105.6,2,    93.56,2,  -999.00,9,    38.17,2,     0.00,2,     2.71,2, -999.000,9, -999.000,9,  -999.00,9,   -999.0,9,   -999.0,9,-999.0000,9,   -999.0,  9,  -999.00,9,   -999.0,  -999.00,9,  -999.00,9,  -999.00,9,  -999.00,9,   -999.0,-999.0000, -999,9, 1253,   3.7194,  27.4691,   -999.0,9
       RF04-01,  165E,RF-2093,  1,      6,02-18560,2,20040210,1502, -4.0182, 165.0165, 3363,   1514.5,   3.1262,  34.5917,2,   -999.0,9,  34.5914,2,    112.9,2,   107.81,2,  -999.00,9,    37.98,2,     0.00,2,     2.68,2, -999.000,9, -999.000,9,  -999.00,9,   -999.0,9,   -999.0,9,-999.0000,9,   -999.0,  9,  -999.00,9,   -999.0,  -999.00,9,  -999.00,9,  -999.00,9,  -999.00,9,   -999.0,-999.0000, -999,9, 1501,   3.0156,  27.5577,   -999.0,9
       RF04-01,  165E,RF-2093,  1,      5,02-18559,2,20040210,1457, -4.0182, 165.0165, 3363,   1761.7,   2.5955,  34.6168,2,   -999.0,9,-999.0000,9,    122.5,2,   118.43,2,  -999.00,9,    37.83,2,     0.00,2,     2.65,2, -999.000,9, -999.000,9,  -999.00,9,   -999.0,9,   -999.0,9,-999.0000,9,   -999.0,  9,  -999.00,9,   -999.0,  -999.00,9,  -999.00,9,  -999.00,9,  -999.00,9,   -999.0,-999.0000, -999,9, 1745,   2.4706,  27.6260,   -999.0,9
       RF04-01,  165E,RF-2093,  1,      4,02-18558,2,20040210,1451, -4.0182, 165.0165, 3363,   2020.0,   2.2165,  34.6392,2,   -999.0,9,  34.6383,2,    124.5,2,   128.27,2,  -999.00,9,    37.70,2,     0.00,2,     2.63,2, -999.000,9, -999.000,9,  -999.00,9,   -999.0,9,   -999.0,9,-999.0000,9,   -999.0,  9,  -999.00,9,   -999.0,  -999.00,9,  -999.00,9,  -999.00,9,  -999.00,9,   -999.0,-999.0000, -999,9, 1999,   2.0750,  27.6766,   -999.0,9
       RF04-01,  165E,RF-2093,  1,      3,02-18557,2,20040210,1442, -4.0182, 165.0165, 3363,   2528.0,   1.8747,  34.6597,2,   -999.0,9,  34.6597,2,    130.5,2,   136.41,2,  -999.00,9,    37.28,2,     0.00,2,     2.58,2, -999.000,9, -999.000,9,  -999.00,9,   -999.0,9,   -999.0,9,-999.0000,9,   -999.0,  9,  -999.00,9,   -999.0,  -999.00,9,  -999.00,9,  -999.00,9,  -999.00,9,   -999.0,-999.0000, -999,9, 2499,   1.6941,  27.7227,   -999.0,9
       RF04-01,  165E,RF-2093,  1,      2,02-18556,2,20040210,1433, -4.0182, 165.0165, 3363,   3037.6,   1.7260,  34.6684,2,   -999.0,9,  34.6686,2,    134.6,2,   140.54,2,  -999.00,9,    37.13,2,     0.00,2,     2.57,2, -999.000,9, -999.000,9,  -999.00,9,   -999.0,9,   -999.0,9,-999.0000,9,   -999.0,  9,  -999.00,9,   -999.0,  -999.00,9,  -999.00,9,  -999.00,9,  -999.00,9,   -999.0,-999.0000, -999,9, 2999,   1.5006,  27.7440,   -999.0,9
       RF04-01,  165E,RF-2093,  1,      1,02-18555,2,20040210,1428, -4.0182, 165.0165, 3363,   3315.9,   1.5880,  34.6771,2,   -999.0,9,  34.6776,2,    145.2,2,   140.23,2,  -999.00,9,    36.51,2,     0.00,2,     2.50,2, -999.000,9, -999.000,9,  -999.00,9,   -999.0,9,   -999.0,9,-999.0000,9,   -999.0,  9,  -999.00,9,   -999.0,  -999.00,9,  -999.00,9,  -999.00,9,  -999.00,9,   -999.0,-999.0000, -999,9, 3272,   1.3383,  27.7627,   -999.0,9