BOTTLE,20130510GEMDJMAYT
EXPOCODE,SECT_ID,STNNBR,CASTNO,SAMPNO,BTLNBR,BTLNBR_FLAG_W,DATE,TIME,LATITUDE,LONGITUDE,DEPTH,CTDPRS,CTDTMP,CTDSAL,CTDSAL_FLAG_W,CTDOXY,CTDOXY_FLAG_W,SALNTY,SALNTY_FLAG_W,OXYGEN,OXYGEN_FLAG_W,SILCAT,SILCAT_FLAG_W,NITRAT,NITRAT_FLAG_W,NO2+NO3,NO2+NO3_FLAG_W,NITRIT,NITRIT_FLAG_W,PHSPHT,PHSPHT_FLAG_W,CFC-11,CFC-11_FLAG_W,CFC-12,CFC-12_FLAG_W,DELC13,DELC13_FLAG_W,TCARBN,TCARBN_FLAG_W,ALKALI,ALKALI_FLAG_W,PH,PH_FLAG_W,PH_TMP,PH_SCALE,PH_NBS,PH_NBS_FLAG_W,C13ERR,TOTALP,TOTALP_FLAG_W,AMMONI,AMMONI_FLAG_W,CHLORA,CHLORA_FLAG_W,PPHYTN,PPHYTN_FLAG_W,REVPRS,REVTMP,DEPTH_,DEPTH_FLAG,CTDDEP,THETA,SIGTHT,DOC,DOC_FLAG_W
,,,,,,,GMT,GMT,,,METER,DBAR,ITS-90,PSS-78,,UMOL/KG,,PSS-78,,UMOL/KG,,UMOL/KG,,UMOL/KG,,UMOL/KG,,UMOL/KG,,UMOL/KG,,PMOL/KG,,PMOL/KG,,/MILLE,,UMOL/KG,,UMOL/KG,,25_DEG_C,,DEG_C,,,,/MILLE,UMOL/KG,,UMOL/KG,,UG/L,,UG/L,,DBAR,ITS-90,METERS,,METERS,DEG_C,,UMOL/L,
       RF04-01, EQPAC,RF-2104,  1,     -9,      -9,5,20040217,0743, -0.0063, 160.9878, 3364,      0.0,  30.1329,  34.0434,2,   -999.0,9,-999.0000,9,    194.7,2,     1.14,2,  -999.00,9,     0.01,2,     0.00,2,     0.07,2, -999.000,9, -999.000,9,  -999.00,9,   1885.1,2,   -999.0,9,-999.0000,9,   -999.0,  9,  -999.00,9,   -999.0,  -999.00,9,  -999.00,9,     0.08,2,     0.01,2,   -999.0,-999.0000, -999,9,    0,  30.1325,  20.9640,   -999.0,9
       RF04-01, EQPAC,RF-2104,  1,     24,02-18578,2,20040217,0741, -0.0063, 160.9878, 3364,     10.2,  30.1357,  34.0424,2,   -999.0,9,  34.0316,4,    196.3,2,     1.04,2,  -999.00,9,     0.00,2,     0.00,2,     0.05,2, -999.000,9, -999.000,9,  -999.00,9,   1883.5,2,   -999.0,9,-999.0000,9,   -999.0,  9,  -999.00,9,   -999.0,  -999.00,9,  -999.00,9,     0.07,2,     0.02,2,   -999.0,-999.0000, -999,9,   10,  30.1332,  20.9631,   -999.0,9
       RF04-01, EQPAC,RF-2104,  1,     23,02-18577,2,20040217,0740, -0.0063, 160.9878, 3364,     26.0,  29.9309,  34.0284,2,   -999.0,9,-999.0000,9,    192.9,2,     1.04,2,  -999.00,9,     0.00,2,     0.00,2,     0.05,2, -999.000,9, -999.000,9,  -999.00,9,   1888.2,2,   -999.0,9,-999.0000,9,   -999.0,  9,  -999.00,9,   -999.0,  -999.00,9,  -999.00,9,     0.07,2,     0.02,2,   -999.0,-999.0000, -999,9,   26,  29.9245,  21.0237,   -999.0,9
       RF04-01, EQPAC,RF-2104,  1,     22,02-18576,2,20040217,0739, -0.0063, 160.9878, 3364,     48.7,  29.9875,  34.1472,2,   -999.0,9,-999.0000,9,    194.0,2,     0.98,2,  -999.00,9,     0.00,2,     0.00,2,     0.06,2, -999.000,9, -999.000,9,  -999.00,9,   1893.4,2,   -999.0,9,-999.0000,9,   -999.0,  9,  -999.00,9,   -999.0,  -999.00,9,  -999.00,9,     0.10,2,     0.03,2,   -999.0,-999.0000, -999,9,   48,  29.9754,  21.0953,   -999.0,9
       RF04-01, EQPAC,RF-2104,  1,     21,02-18575,2,20040217,0738, -0.0063, 160.9878, 3364,     75.8,  29.9596,  34.6232,2,   -999.0,9,-999.0000,9,    191.6,2,     0.99,2,  -999.00,9,     0.00,2,     0.00,2,     0.11,2, -999.000,9, -999.000,9,  -999.00,9,   1927.8,2,   -999.0,9,-999.0000,9,   -999.0,  9,  -999.00,9,   -999.0,  -999.00,9,  -999.00,9,     0.18,2,     0.08,2,   -999.0,-999.0000, -999,9,   75,  29.9408,  21.4639,   -999.0,9
       RF04-01, EQPAC,RF-2104,  1,     20,02-18574,2,20040217,0737, -0.0063, 160.9878, 3364,    100.1,  29.9191,  35.2441,2,   -999.0,9,  35.2824,4,    189.1,2,     1.18,2,  -999.00,9,     0.59,2,     0.12,2,     0.23,2, -999.000,9, -999.000,9,  -999.00,9,   1974.0,2,   -999.0,9,-999.0000,9,   -999.0,  9,  -999.00,9,   -999.0,  -999.00,9,  -999.00,9,     0.37,2,     0.38,2,   -999.0,-999.0000, -999,9,  100,  29.8943,  21.9453,   -999.0,9
       RF04-01, EQPAC,RF-2104,  1,     19,02-18573,2,20040217,0736, -0.0063, 160.9878, 3364,    126.4,  24.0926,  35.3661,2,   -999.0,9,-999.0000,9,    142.1,2,     4.14,2,  -999.00,9,     9.18,2,     0.16,2,     0.70,2, -999.000,9, -999.000,9,  -999.00,9,   2063.3,2,   -999.0,9,-999.0000,9,   -999.0,  9,  -999.00,9,   -999.0,  -999.00,9,  -999.00,9,     0.17,2,     0.33,2,   -999.0,-999.0000, -999,9,  126,  24.0659,  23.8990,   -999.0,9
       RF04-01, EQPAC,RF-2104,  1,     18,02-18572,2,20040217,0734, -0.0063, 160.9878, 3364,    150.8,  21.3250,  35.3530,2,   -999.0,9,-999.0000,9,    133.7,2,     4.83,2,  -999.00,9,    10.47,2,     0.03,2,     0.76,2, -999.000,9, -999.000,9,  -999.00,9,   2088.8,2,   -999.0,9,-999.0000,9,   -999.0,  9,  -999.00,9,   -999.0,  -999.00,9,  -999.00,9,     0.06,2,     0.18,2,   -999.0,-999.0000, -999,9,  150,  21.2958,  24.6817,   -999.0,9
       RF04-01, EQPAC,RF-2104,  1,     17,02-18571,2,20040217,0733, -0.0063, 160.9878, 3364,    201.6,  18.5819,  35.3383,2,   -999.0,9,  35.3073,4,    140.2,2,     6.50,2,  -999.00,9,    12.24,2,     0.00,2,     0.89,2, -999.000,9, -999.000,9,  -999.00,9,   2106.3,2,   -999.0,9,-999.0000,9,   -999.0,  9,  -999.00,9,   -999.0,  -999.00,9,  -999.00,9,     0.01,2,     0.02,2,   -999.0,-999.0000, -999,9,  200,  18.5464,  25.3949,   -999.0,9
       RF04-01, EQPAC,RF-2104,  1,     16,02-18570,2,20040217,0731, -0.0063, 160.9878, 3364,    251.2,  15.2876,  35.1672,2,   -999.0,9,-999.0000,9,    145.0,2,     9.84,2,  -999.00,9,    16.04,2,     0.00,2,     1.13,2, -999.000,9, -999.000,9,  -999.00,9,   2127.3,2,   -999.0,9,-999.0000,9,   -999.0,  9,  -999.00,9,   -999.0,  -999.00,9,  -999.00,9,  -999.00,9,  -999.00,9,   -999.0,-999.0000, -999,9,  250,  15.2489,  26.0459,   -999.0,9
       RF04-01, EQPAC,RF-2104,  1,     15,02-18569,2,20040217,0730, -0.0063, 160.9878, 3364,    301.9,  12.8985,  34.9492,2,   -999.0,9,  34.9523,2,    138.4,2,    14.65,2,  -999.00,9,    19.91,2,     0.00,2,     1.39,2, -999.000,9, -999.000,9,  -999.00,9,   2152.6,2,   -999.0,9,-999.0000,9,   -999.0,  9,  -999.00,9,   -999.0,  -999.00,9,  -999.00,9,  -999.00,9,  -999.00,9,   -999.0,-999.0000, -999,9,  300,  12.8570,  26.3821,   -999.0,9
       RF04-01, EQPAC,RF-2104,  1,     14,02-18568,2,20040217,0728, -0.0063, 160.9878, 3364,    403.3,   9.9451,  34.7127,2,   -999.0,9,  34.7144,2,     73.4,2,    28.93,2,  -999.00,9,    31.29,2,     0.00,2,     2.14,2, -999.000,9, -999.000,9,  -999.00,9,   2219.1,6,   -999.0,9,-999.0000,9,   -999.0,  9,  -999.00,9,   -999.0,  -999.00,9,  -999.00,9,  -999.00,9,  -999.00,9,   -999.0,-999.0000, -999,9,  401,   9.8981,  26.7449,   -999.0,9
       RF04-01, EQPAC,RF-2104,  1,     13,02-18567,2,20040217,0725, -0.0063, 160.9878, 3364,    502.9,   8.2375,  34.6199,2,   -999.0,9,  34.6202,2,     92.3,2,    34.02,2,  -999.00,9,    32.89,2,     0.00,2,     2.27,2, -999.000,9, -999.000,9,  -999.00,9,   2227.5,2,   -999.0,9,-999.0000,9,   -999.0,  9,  -999.00,9,   -999.0,  -999.00,9,  -999.00,9,  -999.00,9,  -999.00,9,   -999.0,-999.0000, -999,9,  499,   8.1850,  26.9475,   -999.0,9
       RF04-01, EQPAC,RF-2104,  1,     12,02-18566,2,20040217,0723, -0.0063, 160.9878, 3364,    604.2,   6.9466,  34.5617,2,   -999.0,9,  34.5672,2,     91.1,2,    44.66,2,  -999.00,9,    35.49,2,     0.00,2,     2.46,2, -999.000,9, -999.000,9,  -999.00,9,   2242.5,2,   -999.0,9,-999.0000,9,   -999.0,  9,  -999.00,9,   -999.0,  -999.00,9,  -999.00,9,  -999.00,9,  -999.00,9,   -999.0,-999.0000, -999,9,  600,   6.8890,  27.0888,   -999.0,9
       RF04-01, EQPAC,RF-2104,  1,     11,02-18565,2,20040217,0721, -0.0063, 160.9878, 3364,    704.3,   6.1461,  34.5483,2,   -999.0,9,  34.5499,2,     83.4,2,    55.40,2,  -999.00,9,    37.62,2,     0.00,2,     2.65,2, -999.000,9, -999.000,9,  -999.00,9,   -999.0,9,   -999.0,9,-999.0000,9,   -999.0,  9,  -999.00,9,   -999.0,  -999.00,9,  -999.00,9,  -999.00,9,  -999.00,9,   -999.0,-999.0000, -999,9,  699,   6.0827,  27.1852,   -999.0,9
       RF04-01, EQPAC,RF-2104,  1,     10,02-18564,2,20040217,0719, -0.0063, 160.9878, 3364,    805.2,   5.4566,  34.5394,2,   -999.0,9,  34.5405,2,     91.0,2,    63.67,2,  -999.00,9,    37.64,2,     0.00,2,     2.66,2, -999.000,9, -999.000,9,  -999.00,9,   2267.4,2,   -999.0,9,-999.0000,9,   -999.0,  9,  -999.00,9,   -999.0,  -999.00,9,  -999.00,9,  -999.00,9,  -999.00,9,   -999.0,-999.0000, -999,9,  799,   5.3878,  27.2643,   -999.0,9
       RF04-01, EQPAC,RF-2104,  1,      9,02-18563,2,20040217,0716, -0.0063, 160.9878, 3364,    906.1,   4.9022,  34.5442,2,   -999.0,9,-999.0000,9,     93.9,2,    74.34,2,  -999.00,9,    38.07,2,     0.00,2,     2.69,2, -999.000,9, -999.000,9,  -999.00,9,   -999.0,9,   -999.0,9,-999.0000,9,   -999.0,  9,  -999.00,9,   -999.0,  -999.00,9,  -999.00,9,  -999.00,9,  -999.00,9,   -999.0,-999.0000, -999,9,  899,   4.8279,  27.3336,   -999.0,9
       RF04-01, EQPAC,RF-2104,  1,      8,02-18562,2,20040217,0714, -0.0063, 160.9878, 3364,   1008.1,   4.3065,  34.5588,2,   -999.0,9,  34.5590,2,     90.2,2,    87.55,2,  -999.00,9,    39.03,2,     0.00,2,     2.77,2, -999.000,9, -999.000,9,  -999.00,9,   2296.4,2,   -999.0,9,-999.0000,9,   -999.0,  9,  -999.00,9,   -999.0,  -999.00,9,  -999.00,9,  -999.00,9,  -999.00,9,   -999.0,-999.0000, -999,9, 1000,   4.2277,  27.4113,   -999.0,9
       RF04-01, EQPAC,RF-2104,  1,      7,02-18561,2,20040217,0708, -0.0063, 160.9878, 3364,   1261.4,   3.5326,  34.5809,2,   -999.0,9,-999.0000,9,     98.6,2,   103.50,2,  -999.00,9,    38.68,2,     0.00,2,     2.74,2, -999.000,9, -999.000,9,  -999.00,9,   -999.0,9,   -999.0,9,-999.0000,9,   -999.0,  9,  -999.00,9,   -999.0,  -999.00,9,  -999.00,9,  -999.00,9,  -999.00,9,   -999.0,-999.0000, -999,9, 1251,   3.4390,  27.5091,   -999.0,9
       RF04-01, EQPAC,RF-2104,  1,      6,02-18560,2,20040217,0702, -0.0063, 160.9878, 3364,   1515.2,   2.9865,  34.6028,2,   -999.0,9,  34.6025,2,    102.7,2,   116.03,2,  -999.00,9,    38.90,2,     0.00,2,     2.74,2, -999.000,9, -999.000,9,  -999.00,9,   -999.0,9,   -999.0,9,-999.0000,9,   -999.0,  9,  -999.00,9,   -999.0,  -999.00,9,  -999.00,9,  -999.00,9,  -999.00,9,   -999.0,-999.0000, -999,9, 1501,   2.8775,  27.5792,   -999.0,9
       RF04-01, EQPAC,RF-2104,  1,      5,02-18559,2,20040217,0656, -0.0063, 160.9878, 3364,   1766.9,   2.5417,  34.6220,2,   -999.0,9,-999.0000,9,    112.2,2,   124.36,2,  -999.00,9,    38.42,2,     0.00,2,     2.70,2, -999.000,9, -999.000,9,  -999.00,9,   -999.0,9,   -999.0,9,-999.0000,9,   -999.0,  9,  -999.00,9,   -999.0,  -999.00,9,  -999.00,9,  -999.00,9,  -999.00,9,   -999.0,-999.0000, -999,9, 1750,   2.4171,  27.6347,   -999.0,9
       RF04-01, EQPAC,RF-2104,  1,      4,02-18558,2,20040217,0651, -0.0063, 160.9878, 3364,   2021.4,   2.2110,  34.6406,2,   -999.0,9,  34.6408,2,    115.8,2,   132.42,2,  -999.00,9,    38.35,2,     0.00,2,     2.68,2, -999.000,9, -999.000,9,  -999.00,9,   -999.0,9,   -999.0,9,-999.0000,9,   -999.0,  9,  -999.00,9,   -999.0,  -999.00,9,  -999.00,9,  -999.00,9,  -999.00,9,   -999.0,-999.0000, -999,9, 2001,   2.0695,  27.6782,   -999.0,9
       RF04-01, EQPAC,RF-2104,  1,      3,02-18557,2,20040217,0641, -0.0063, 160.9878, 3364,   2529.6,   1.8720,  34.6595,2,   -999.0,9,  34.6585,2,    126.0,2,   139.58,2,  -999.00,9,    37.85,2,     0.00,2,     2.62,2, -999.000,9, -999.000,9,  -999.00,9,   -999.0,9,   -999.0,9,-999.0000,9,   -999.0,  9,  -999.00,9,   -999.0,  -999.00,9,  -999.00,9,  -999.00,9,  -999.00,9,   -999.0,-999.0000, -999,9, 2501,   1.6914,  27.7227,   -999.0,9
       RF04-01, EQPAC,RF-2104,  1,      2,02-18556,2,20040217,0631, -0.0063, 160.9878, 3364,   3039.5,   1.7041,  34.6690,2,   -999.0,9,  34.6695,2,    136.4,2,   142.10,2,  -999.00,9,    37.36,2,     0.00,2,     2.57,2, -999.000,9, -999.000,9,  -999.00,9,   -999.0,9,   -999.0,9,-999.0000,9,   -999.0,  9,  -999.00,9,   -999.0,  -999.00,9,  -999.00,9,  -999.00,9,  -999.00,9,   -999.0,-999.0000, -999,9, 3001,   1.4790,  27.7461,   -999.0,9
       RF04-01, EQPAC,RF-2104,  1,      1,02-18555,2,20040217,0626, -0.0063, 160.9878, 3364,   3306.7,   1.6181,  34.6743,2,   -999.0,9,  34.6741,2,    140.7,2,   140.96,2,  -999.00,9,    36.83,2,     0.00,2,     2.52,2, -999.000,9, -999.000,9,  -999.00,9,   -999.0,9,   -999.0,9,-999.0000,9,   -999.0,  9,  -999.00,9,   -999.0,  -999.00,9,  -999.00,9,  -999.00,9,  -999.00,9,   -999.0,-999.0000, -999,9, 3263,   1.3686,  27.7583,   -999.0,9