BOTTLE,20130510GEMDJMAYT
EXPOCODE,SECT_ID,STNNBR,CASTNO,SAMPNO,BTLNBR,BTLNBR_FLAG_W,DATE,TIME,LATITUDE,LONGITUDE,DEPTH,CTDPRS,CTDTMP,CTDSAL,CTDSAL_FLAG_W,CTDOXY,CTDOXY_FLAG_W,SALNTY,SALNTY_FLAG_W,OXYGEN,OXYGEN_FLAG_W,SILCAT,SILCAT_FLAG_W,NITRAT,NITRAT_FLAG_W,NO2+NO3,NO2+NO3_FLAG_W,NITRIT,NITRIT_FLAG_W,PHSPHT,PHSPHT_FLAG_W,CFC-11,CFC-11_FLAG_W,CFC-12,CFC-12_FLAG_W,DELC13,DELC13_FLAG_W,TCARBN,TCARBN_FLAG_W,ALKALI,ALKALI_FLAG_W,PH,PH_FLAG_W,PH_TMP,PH_SCALE,PH_NBS,PH_NBS_FLAG_W,C13ERR,TOTALP,TOTALP_FLAG_W,AMMONI,AMMONI_FLAG_W,CHLORA,CHLORA_FLAG_W,PPHYTN,PPHYTN_FLAG_W,REVPRS,REVTMP,DEPTH_,DEPTH_FLAG,CTDDEP,THETA,SIGTHT,DOC,DOC_FLAG_W
,,,,,,,GMT,GMT,,,METER,DBAR,ITS-90,PSS-78,,UMOL/KG,,PSS-78,,UMOL/KG,,UMOL/KG,,UMOL/KG,,UMOL/KG,,UMOL/KG,,UMOL/KG,,PMOL/KG,,PMOL/KG,,/MILLE,,UMOL/KG,,UMOL/KG,,25_DEG_C,,DEG_C,,,,/MILLE,UMOL/KG,,UMOL/KG,,UG/L,,UG/L,,DBAR,ITS-90,METERS,,METERS,DEG_C,,UMOL/L,
       RF04-01,  NONE,RF-2051,  1,     -9,      -9,5,20040119,0358, 27.2478, 144.8277, 5278,      0.0,  22.0291,  34.9445,2,   -999.0,9,-999.0000,9,    216.5,2,     1.15,2,  -999.00,9,     0.00,2,     0.01,2,     0.02,2, -999.000,9, -999.000,9,  -999.00,9,   -999.0,9,   -999.0,9,-999.0000,9,   -999.0,  9,  -999.00,9,   -999.0,  -999.00,9,  -999.00,9,     0.22,2,     0.11,2,   -999.0,-999.0000, -999,9,    0,  22.0288,  24.1676,   -999.0,9
       RF04-01,  NONE,RF-2051,  1,     21,02-18575,2,20040119,0356, 27.2478, 144.8277, 5278,     10.9,  22.0133,  34.9423,2,   -999.0,9,  34.9423,2,    215.4,2,     1.25,2,  -999.00,9,     0.00,2,     0.00,2,     0.02,2, -999.000,9, -999.000,9,  -999.00,9,   -999.0,9,   -999.0,9,-999.0000,9,   -999.0,  9,  -999.00,9,   -999.0,  -999.00,9,  -999.00,9,     0.21,2,     0.11,2,   -999.0,-999.0000, -999,9,   11,  22.0112,  24.1709,   -999.0,9
       RF04-01,  NONE,RF-2051,  1,     20,02-18574,2,20040119,0355, 27.2478, 144.8277, 5278,     25.5,  21.9112,  34.9359,2,   -999.0,9,-999.0000,9,    215.2,2,     1.33,2,  -999.00,9,     0.00,2,     0.00,2,     0.02,2, -999.000,9, -999.000,9,  -999.00,9,   -999.0,9,   -999.0,9,-999.0000,9,   -999.0,  9,  -999.00,9,   -999.0,  -999.00,9,  -999.00,9,     0.24,2,     0.15,2,   -999.0,-999.0000, -999,9,   25,  21.9062,  24.1954,   -999.0,9
       RF04-01,  NONE,RF-2051,  1,     19,02-18573,2,20040119,0354, 27.2478, 144.8277, 5278,     50.5,  21.6995,  34.9206,2,   -999.0,9,-999.0000,9,    217.9,2,     1.43,2,  -999.00,9,     0.00,2,     0.03,2,     0.02,2, -999.000,9, -999.000,9,  -999.00,9,   -999.0,9,   -999.0,9,-999.0000,9,   -999.0,  9,  -999.00,9,   -999.0,  -999.00,9,  -999.00,9,     0.38,2,     0.22,2,   -999.0,-999.0000, -999,9,   50,  21.6896,  24.2440,   -999.0,9
       RF04-01,  NONE,RF-2051,  1,     18,02-18572,2,20040119,0353, 27.2478, 144.8277, 5278,     76.6,  21.6145,  34.9117,2,   -999.0,9,-999.0000,9,    217.0,2,     1.49,2,  -999.00,9,     0.01,2,     0.05,2,     0.02,2, -999.000,9, -999.000,9,  -999.00,9,   -999.0,9,   -999.0,9,-999.0000,9,   -999.0,  9,  -999.00,9,   -999.0,  -999.00,9,  -999.00,9,     0.31,2,     0.17,2,   -999.0,-999.0000, -999,9,   76,  21.5996,  24.2622,   -999.0,9
       RF04-01,  NONE,RF-2051,  1,     17,02-18571,2,20040119,0352, 27.2478, 144.8277, 5278,    101.2,  21.0734,  34.8945,2,   -999.0,9,  34.8962,2,    210.1,2,     1.78,2,  -999.00,9,     0.44,2,     0.10,2,     0.05,2, -999.000,9, -999.000,9,  -999.00,9,   -999.0,9,   -999.0,9,-999.0000,9,   -999.0,  9,  -999.00,9,   -999.0,  -999.00,9,  -999.00,9,     0.11,2,     0.16,2,   -999.0,-999.0000, -999,9,  101,  21.0540,  24.3989,   -999.0,9
       RF04-01,  NONE,RF-2051,  1,     16,02-18570,2,20040119,0351, 27.2478, 144.8277, 5278,    127.2,  20.5700,  34.8583,2,   -999.0,9,-999.0000,9,    209.6,2,     1.90,2,  -999.00,9,     0.75,2,     0.10,2,     0.07,2, -999.000,9, -999.000,9,  -999.00,9,   -999.0,9,   -999.0,9,-999.0000,9,   -999.0,  9,  -999.00,9,   -999.0,  -999.00,9,  -999.00,9,     0.05,2,     0.09,2,   -999.0,-999.0000, -999,9,  126,  20.5460,  24.5085,   -999.0,9
       RF04-01,  NONE,RF-2051,  1,     15,02-18569,2,20040119,0350, 27.2478, 144.8277, 5278,    150.2,  20.1758,  34.8382,2,   -999.0,9,-999.0000,9,    214.6,2,     1.91,2,  -999.00,9,     0.92,2,     0.11,2,     0.07,2, -999.000,9, -999.000,9,  -999.00,9,   -999.0,9,   -999.0,9,-999.0000,9,   -999.0,  9,  -999.00,9,   -999.0,  -999.00,9,  -999.00,9,     0.05,2,     0.07,2,   -999.0,-999.0000, -999,9,  149,  20.1479,  24.5992,   -999.0,9
       RF04-01,  NONE,RF-2051,  1,     14,02-18568,2,20040119,0349, 27.2478, 144.8277, 5278,    201.0,  18.4376,  34.8169,2,   -999.0,9,  34.8233,2,    206.0,2,     2.90,2,  -999.00,9,     3.02,2,     0.02,2,     0.20,2, -999.000,9, -999.000,9,  -999.00,9,   -999.0,9,   -999.0,9,-999.0000,9,   -999.0,  9,  -999.00,9,   -999.0,  -999.00,9,  -999.00,9,     0.01,2,     0.03,2,   -999.0,-999.0000, -999,9,  200,  18.4025,  25.0320,   -999.0,9
       RF04-01,  NONE,RF-2051,  1,     13,02-18567,2,20040119,0347, 27.2478, 144.8277, 5278,    250.6,  17.6225,  34.7712,2,   -999.0,9,-999.0000,9,   -999.0,4,     3.57,2,  -999.00,9,     4.16,2,     0.01,2,     0.26,2, -999.000,9, -999.000,9,  -999.00,9,   -999.0,9,   -999.0,9,-999.0000,9,   -999.0,  9,  -999.00,9,   -999.0,  -999.00,9,  -999.00,9,  -999.00,9,  -999.00,9,   -999.0,-999.0000, -999,9,  249,  17.5801,  25.1994,   -999.0,9
       RF04-01,  NONE,RF-2051,  1,     12,02-18566,2,20040119,0346, 27.2478, 144.8277, 5278,    302.5,  16.9148,  34.7503,2,   -999.0,9,  34.7512,2,    212.4,2,     4.19,2,  -999.00,9,     4.63,2,     0.00,2,     0.29,2, -999.000,9, -999.000,9,  -999.00,9,   -999.0,9,   -999.0,9,-999.0000,9,   -999.0,  9,  -999.00,9,   -999.0,  -999.00,9,  -999.00,9,  -999.00,9,  -999.00,9,   -999.0,-999.0000, -999,9,  300,  16.8650,  25.3545,   -999.0,9
       RF04-01,  NONE,RF-2051,  1,     11,02-18565,2,20040119,0343, 27.2478, 144.8277, 5278,    405.1,  15.0941,  34.5976,2,   -999.0,9,  34.6015,2,    190.2,2,     9.24,2,  -999.00,9,     9.44,2,     0.00,2,     0.60,2, -999.000,9, -999.000,9,  -999.00,9,   -999.0,9,   -999.0,9,-999.0000,9,   -999.0,  9,  -999.00,9,   -999.0,  -999.00,9,  -999.00,9,  -999.00,9,  -999.00,9,   -999.0,-999.0000, -999,9,  402,  15.0323,  25.6546,   -999.0,9
       RF04-01,  NONE,RF-2051,  1,     10,02-18564,2,20040119,0341, 27.2478, 144.8277, 5278,    503.2,  12.2645,  34.3943,2,   -999.0,9,  34.3970,2,    182.4,2,    17.78,2,  -999.00,9,    14.91,2,     0.00,2,     0.99,2, -999.000,9, -999.000,9,  -999.00,9,   -999.0,9,   -999.0,9,-999.0000,9,   -999.0,  9,  -999.00,9,   -999.0,  -999.00,9,  -999.00,9,  -999.00,9,  -999.00,9,   -999.0,-999.0000, -999,9,  499,  12.1975,  26.0809,   -999.0,9
       RF04-01,  NONE,RF-2051,  1,      9,02-18563,2,20040119,0338, 27.2478, 144.8277, 5278,    604.9,   9.6716,  34.2145,2,   -999.0,9,  34.2182,2,    170.4,2,    30.39,2,  -999.00,9,    20.65,2,     0.00,2,     1.42,2, -999.000,9, -999.000,9,  -999.00,9,   -999.0,9,   -999.0,9,-999.0000,9,   -999.0,  9,  -999.00,9,   -999.0,  -999.00,9,  -999.00,9,  -999.00,9,  -999.00,9,   -999.0,-999.0000, -999,9,  600,   9.6021,  26.4053,   -999.0,9
       RF04-01,  NONE,RF-2051,  1,      8,02-18562,2,20040119,0336, 27.2478, 144.8277, 5278,    706.6,   7.2273,  34.1235,2,   -999.0,9,  34.1244,2,    129.7,2,    53.10,2,  -999.00,9,    28.63,2,     0.00,2,     2.04,2, -999.000,9, -999.000,9,  -999.00,9,   -999.0,9,   -999.0,9,-999.0000,9,   -999.0,  9,  -999.00,9,   -999.0,  -999.00,9,  -999.00,9,  -999.00,9,  -999.00,9,   -999.0,-999.0000, -999,9,  701,   7.1584,  26.7064,   -999.0,9
       RF04-01,  NONE,RF-2051,  1,      7,02-18561,2,20040119,0334, 27.2478, 144.8277, 5278,    807.6,   5.5223,  34.1510,2,   -999.0,9,  34.1519,2,     90.6,2,    77.45,2,  -999.00,9,    35.06,2,     0.00,2,     2.51,2, -999.000,9, -999.000,9,  -999.00,9,   -999.0,9,   -999.0,9,-999.0000,9,   -999.0,  9,  -999.00,9,   -999.0,  -999.00,9,  -999.00,9,  -999.00,9,  -999.00,9,   -999.0,-999.0000, -999,9,  801,   5.4534,  26.9490,   -999.0,9
       RF04-01,  NONE,RF-2051,  1,      6,02-18560,2,20040119,0332, 27.2478, 144.8277, 5278,    908.6,   4.6942,  34.2307,2,   -999.0,9,-999.0000,9,     68.2,2,    96.37,2,  -999.00,9,    38.03,2,     0.00,2,     2.74,2, -999.000,9, -999.000,9,  -999.00,9,   -999.0,9,   -999.0,9,-999.0000,9,   -999.0,  9,  -999.00,9,   -999.0,  -999.00,9,  -999.00,9,  -999.00,9,  -999.00,9,   -999.0,-999.0000, -999,9,  901,   4.6216,  27.1079,   -999.0,9
       RF04-01,  NONE,RF-2051,  1,      5,02-18559,2,20040119,0329, 27.2478, 144.8277, 5278,   1009.2,   3.9668,  34.3057,2,   -999.0,9,  34.3097,2,     55.7,2,   112.29,2,  -999.00,9,    39.92,2,     0.00,2,     2.88,2, -999.000,9, -999.000,9,  -999.00,9,   -999.0,9,   -999.0,9,-999.0000,9,   -999.0,  9,  -999.00,9,   -999.0,  -999.00,9,  -999.00,9,  -999.00,9,  -999.00,9,   -999.0,-999.0000, -999,9, 1000,   3.8910,  27.2450,   -999.0,9
       RF04-01,  NONE,RF-2051,  1,      4,02-18558,2,20040119,0323, 27.2478, 144.8277, 5278,   1261.4,   3.0635,  34.4367,2,   -999.0,9,  34.4371,2,     50.0,2,   132.19,2,  -999.00,9,    40.75,2,     0.00,2,     2.97,2, -999.000,9, -999.000,9,  -999.00,9,   -999.0,9,   -999.0,9,-999.0000,9,   -999.0,  9,  -999.00,9,   -999.0,  -999.00,9,  -999.00,9,  -999.00,9,  -999.00,9,   -999.0,-999.0000, -999,9, 1249,   2.9748,  27.4377,   -999.0,9
       RF04-01,  NONE,RF-2051,  1,      3,02-18557,2,20040119,0318, 27.2478, 144.8277, 5278,   1515.7,   2.5366,  34.5078,2,   -999.0,9,  34.5069,2,     57.3,2,   144.03,2,  -999.00,9,    41.31,2,     0.00,2,     2.95,2, -999.000,9, -999.000,9,  -999.00,9,   -999.0,9,   -999.0,9,-999.0000,9,   -999.0,  9,  -999.00,9,   -999.0,  -999.00,9,  -999.00,9,  -999.00,9,  -999.00,9,   -999.0,-999.0000, -999,9, 1500,   2.4330,  27.5420,   -999.0,9
       RF04-01,  NONE,RF-2051,  1,      2,02-18556,2,20040119,0311, 27.2478, 144.8277, 5278,   1769.2,   2.1899,  34.5643,2,   -999.0,9,  34.5655,2,     74.9,2,   148.64,2,  -999.00,9,    40.60,2,     0.00,2,     2.87,2, -999.000,9, -999.000,9,  -999.00,9,   -999.0,9,   -999.0,9,-999.0000,9,   -999.0,  9,  -999.00,9,   -999.0,  -999.00,9,  -999.00,9,  -999.00,9,  -999.00,9,   -999.0,-999.0000, -999,9, 1750,   2.0700,  27.6170,   -999.0,9
       RF04-01,  NONE,RF-2051,  1,      1,02-18555,2,20040119,0306, 27.2478, 144.8277, 5278,   2044.6,   1.9409,  34.6046,2,   -999.0,9,  34.6040,2,     94.5,2,   149.25,2,  -999.00,9,    39.48,2,     0.00,2,     2.77,2, -999.000,9, -999.000,9,  -999.00,9,   -999.0,9,   -999.0,9,-999.0000,9,   -999.0,  9,  -999.00,9,   -999.0,  -999.00,9,  -999.00,9,  -999.00,9,  -999.00,9,   -999.0,-999.0000, -999,9, 2021,   1.8017,  27.6703,   -999.0,9