BOTTLE,20130510GEMDJMAYT
EXPOCODE,SECT_ID,STNNBR,CASTNO,SAMPNO,BTLNBR,BTLNBR_FLAG_W,DATE,TIME,LATITUDE,LONGITUDE,DEPTH,CTDPRS,CTDTMP,CTDSAL,CTDSAL_FLAG_W,CTDOXY,CTDOXY_FLAG_W,SALNTY,SALNTY_FLAG_W,OXYGEN,OXYGEN_FLAG_W,SILCAT,SILCAT_FLAG_W,NITRAT,NITRAT_FLAG_W,NO2+NO3,NO2+NO3_FLAG_W,NITRIT,NITRIT_FLAG_W,PHSPHT,PHSPHT_FLAG_W,CFC-11,CFC-11_FLAG_W,CFC-12,CFC-12_FLAG_W,DELC13,DELC13_FLAG_W,TCARBN,TCARBN_FLAG_W,ALKALI,ALKALI_FLAG_W,PH,PH_FLAG_W,PH_TMP,PH_SCALE,PH_NBS,PH_NBS_FLAG_W,C13ERR,TOTALP,TOTALP_FLAG_W,AMMONI,AMMONI_FLAG_W,CHLORA,CHLORA_FLAG_W,PPHYTN,PPHYTN_FLAG_W,REVPRS,REVTMP,DEPTH_,DEPTH_FLAG,CTDDEP,THETA,SIGTHT,DOC,DOC_FLAG_W
,,,,,,,GMT,GMT,,,METER,DBAR,ITS-90,PSS-78,,UMOL/KG,,PSS-78,,UMOL/KG,,UMOL/KG,,UMOL/KG,,UMOL/KG,,UMOL/KG,,UMOL/KG,,PMOL/KG,,PMOL/KG,,/MILLE,,UMOL/KG,,UMOL/KG,,25_DEG_C,,DEG_C,,,,/MILLE,UMOL/KG,,UMOL/KG,,UG/L,,UG/L,,DBAR,ITS-90,METERS,,METERS,DEG_C,,UMOL/L,
       RF04-01, EQPAC,RF-2115,  1,     -9,      -9,5,20040221,2244, -0.0038, 143.0047, 3116,      0.0,  29.5015,  34.1173,2,   -999.0,9,-999.0000,9,    192.7,2,     1.59,2,  -999.00,9,     0.05,2,     0.00,2,     0.03,2, -999.000,9, -999.000,9,  -999.00,9,   1892.0,2,   -999.0,9,-999.0000,9,   -999.0,  9,  -999.00,9,   -999.0,  -999.00,9,  -999.00,9,     0.13,2,     0.04,2,   -999.0,-999.0000, -999,9,    0,  29.5010,  21.2336,   -999.0,9
       RF04-01, EQPAC,RF-2115,  1,     21,02-18575,2,20040221,2242, -0.0038, 143.0047, 3116,      9.8,  29.5031,  34.1191,2,   -999.0,9,  34.1171,2,    194.6,2,     1.50,2,  -999.00,9,     0.04,2,     0.00,2,     0.03,2, -999.000,9, -999.000,9,  -999.00,9,   1894.1,2,   -999.0,9,-999.0000,9,   -999.0,  9,  -999.00,9,   -999.0,  -999.00,9,  -999.00,9,     0.12,2,     0.04,2,   -999.0,-999.0000, -999,9,   10,  29.5007,  21.2350,   -999.0,9
       RF04-01, EQPAC,RF-2115,  1,     20,02-18574,2,20040221,2241, -0.0038, 143.0047, 3116,     25.6,  29.5059,  34.1255,2,   -999.0,9,-999.0000,9,    194.0,2,     1.41,2,  -999.00,9,     0.00,2,     0.00,2,     0.02,2, -999.000,9, -999.000,9,  -999.00,9,   1892.2,2,   -999.0,9,-999.0000,9,   -999.0,  9,  -999.00,9,   -999.0,  -999.00,9,  -999.00,9,     0.14,2,     0.05,2,   -999.0,-999.0000, -999,9,   25,  29.4996,  21.2402,   -999.0,9
       RF04-01, EQPAC,RF-2115,  1,     19,02-18573,2,20040221,2240, -0.0038, 143.0047, 3116,     50.8,  29.4488,  34.1366,2,   -999.0,9,-999.0000,9,    196.5,2,     1.39,2,  -999.00,9,     0.00,2,     0.00,2,     0.02,2, -999.000,9, -999.000,9,  -999.00,9,   1895.2,2,   -999.0,9,-999.0000,9,   -999.0,  9,  -999.00,9,   -999.0,  -999.00,9,  -999.00,9,     0.21,2,     0.09,2,   -999.0,-999.0000, -999,9,   51,  29.4364,  21.2698,   -999.0,9
       RF04-01, EQPAC,RF-2115,  1,     18,02-18572,2,20040221,2239, -0.0038, 143.0047, 3116,     76.5,  29.3310,  34.1457,2,   -999.0,9,-999.0000,9,    191.9,2,     1.39,2,  -999.00,9,     0.40,2,     0.05,2,     0.05,2, -999.000,9, -999.000,9,  -999.00,9,   1905.8,2,   -999.0,9,-999.0000,9,   -999.0,  9,  -999.00,9,   -999.0,  -999.00,9,  -999.00,9,     0.39,2,     0.20,2,   -999.0,-999.0000, -999,9,   76,  29.3124,  21.3183,   -999.0,9
       RF04-01, EQPAC,RF-2115,  1,     17,02-18571,2,20040221,2238, -0.0038, 143.0047, 3116,    101.2,  25.9783,  35.2816,2,   -999.0,9,  35.2727,4,    139.9,2,     3.39,2,  -999.00,9,     7.90,2,     0.12,2,     0.59,2, -999.000,9, -999.000,9,  -999.00,9,   2042.8,6,   -999.0,9,-999.0000,9,   -999.0,  9,  -999.00,9,   -999.0,  -999.00,9,  -999.00,9,     0.13,2,     0.36,2,   -999.0,-999.0000, -999,9,  101,  25.9557,  23.2597,   -999.0,9
       RF04-01, EQPAC,RF-2115,  1,     16,02-18570,2,20040221,2237, -0.0038, 143.0047, 3116,    125.0,  24.2746,  35.2008,2,   -999.0,9,-999.0000,9,    137.1,2,     4.85,2,  -999.00,9,     8.90,2,     0.03,2,     0.63,2, -999.000,9, -999.000,9,  -999.00,9,   2056.7,2,   -999.0,9,-999.0000,9,   -999.0,  9,  -999.00,9,   -999.0,  -999.00,9,  -999.00,9,     0.07,2,     0.19,2,   -999.0,-999.0000, -999,9,  124,  24.2480,  23.7196,   -999.0,9
       RF04-01, EQPAC,RF-2115,  1,     15,02-18569,2,20040221,2236, -0.0038, 143.0047, 3116,    152.4,  22.6666,  35.2775,2,   -999.0,9,-999.0000,9,    137.7,2,     4.69,2,  -999.00,9,     9.20,2,     0.01,2,     0.66,2, -999.000,9, -999.000,9,  -999.00,9,   2067.8,2,   -999.0,9,-999.0000,9,   -999.0,  9,  -999.00,9,   -999.0,  -999.00,9,  -999.00,9,     0.02,2,     0.08,2,   -999.0,-999.0000, -999,9,  152,  22.6358,  24.2487,   -999.0,9
       RF04-01, EQPAC,RF-2115,  1,     14,02-18568,2,20040221,2235, -0.0038, 143.0047, 3116,    202.2,  18.4674,  35.4039,2,   -999.0,9,  35.3596,4,    141.1,2,     6.31,2,  -999.00,9,    12.29,2,     0.00,2,     0.89,2, -999.000,9, -999.000,9,  -999.00,9,   2111.8,2,   -999.0,9,-999.0000,9,   -999.0,  9,  -999.00,9,   -999.0,  -999.00,9,  -999.00,9,     0.00,2,     0.02,2,   -999.0,-999.0000, -999,9,  201,  18.4319,  25.4739,   -999.0,9
       RF04-01, EQPAC,RF-2115,  1,     13,02-18567,2,20040221,2233, -0.0038, 143.0047, 3116,    252.0,  12.4566,  34.7548,2,   -999.0,9,-999.0000,9,    130.3,2,    21.02,2,  -999.00,9,    20.95,2,     0.00,2,     1.44,2, -999.000,9, -999.000,9,  -999.00,9,   2157.0,2,   -999.0,9,-999.0000,9,   -999.0,  9,  -999.00,9,   -999.0,  -999.00,9,  -999.00,9,  -999.00,9,  -999.00,9,   -999.0,-999.0000, -999,9,  250,  12.4229,  26.3170,   -999.0,9
       RF04-01, EQPAC,RF-2115,  1,     12,02-18566,2,20040221,2232, -0.0038, 143.0047, 3116,    302.5,  11.0384,  34.8028,2,   -999.0,9,  34.8010,2,    133.6,2,    20.40,2,  -999.00,9,    23.68,2,     0.00,2,     1.62,2, -999.000,9, -999.000,9,  -999.00,9,   2171.1,2,   -999.0,9,-999.0000,9,   -999.0,  9,  -999.00,9,   -999.0,  -999.00,9,  -999.00,9,  -999.00,9,  -999.00,9,   -999.0,-999.0000, -999,9,  301,  11.0009,  26.6218,   -999.0,9
       RF04-01, EQPAC,RF-2115,  1,     11,02-18565,2,20040221,2229, -0.0038, 143.0047, 3116,    401.9,   9.6712,  34.6976,2,   -999.0,9,  34.6989,2,    103.2,2,    27.79,2,  -999.00,9,    28.97,2,     0.00,2,     1.98,2, -999.000,9, -999.000,9,  -999.00,9,   2201.5,2,   -999.0,9,-999.0000,9,   -999.0,  9,  -999.00,9,   -999.0,  -999.00,9,  -999.00,9,  -999.00,9,  -999.00,9,   -999.0,-999.0000, -999,9,  399,   9.6252,  26.7791,   -999.0,9
       RF04-01, EQPAC,RF-2115,  1,     10,02-18564,2,20040221,2227, -0.0038, 143.0047, 3116,    502.6,   7.9795,  34.5945,2,   -999.0,9,  34.5952,2,    107.5,2,    35.96,2,  -999.00,9,    31.64,2,     0.00,2,     2.17,2, -999.000,9, -999.000,9,  -999.00,9,   -999.0,9,   -999.0,9,-999.0000,9,   -999.0,  9,  -999.00,9,   -999.0,  -999.00,9,  -999.00,9,  -999.00,9,  -999.00,9,   -999.0,-999.0000, -999,9,  499,   7.9280,  26.9661,   -999.0,9
       RF04-01, EQPAC,RF-2115,  1,      9,02-18563,2,20040221,2224, -0.0038, 143.0047, 3116,    604.0,   6.8921,  34.5501,2,   -999.0,9,  34.5513,2,    121.6,2,    40.16,2,  -999.00,9,    32.51,2,     0.00,2,     2.26,2, -999.000,9, -999.000,9,  -999.00,9,   2224.8,2,   -999.0,9,-999.0000,9,   -999.0,  9,  -999.00,9,   -999.0,  -999.00,9,  -999.00,9,  -999.00,9,  -999.00,9,   -999.0,-999.0000, -999,9,  600,   6.8348,  27.0871,   -999.0,9
       RF04-01, EQPAC,RF-2115,  1,      8,02-18562,2,20040221,2222, -0.0038, 143.0047, 3116,    706.2,   6.1490,  34.5300,2,   -999.0,9,  34.5311,2,    120.1,2,    48.90,2,  -999.00,9,    34.20,2,     0.00,2,     2.36,2, -999.000,9, -999.000,9,  -999.00,9,   -999.0,9,   -999.0,9,-999.0000,9,   -999.0,  9,  -999.00,9,   -999.0,  -999.00,9,  -999.00,9,  -999.00,9,  -999.00,9,   -999.0,-999.0000, -999,9,  701,   6.0854,  27.1704,   -999.0,9
       RF04-01, EQPAC,RF-2115,  1,      7,02-18561,2,20040221,2217, -0.0038, 143.0047, 3116,    807.2,   5.4413,  34.5342,2,   -999.0,9,  34.5338,2,    105.5,2,    62.39,2,  -999.00,9,    36.64,2,     0.00,2,     2.56,2, -999.000,9, -999.000,9,  -999.00,9,   2264.1,2,   -999.0,9,-999.0000,9,   -999.0,  9,  -999.00,9,   -999.0,  -999.00,9,  -999.00,9,  -999.00,9,  -999.00,9,   -999.0,-999.0000, -999,9,  801,   5.3724,  27.2621,   -999.0,9
       RF04-01, EQPAC,RF-2115,  1,      6,02-18560,2,20040221,2214, -0.0038, 143.0047, 3116,    907.4,   4.8597,  34.5414,2,   -999.0,9,-999.0000,9,    103.9,2,    74.37,2,  -999.00,9,    37.17,2,     0.00,2,     2.61,2, -999.000,9, -999.000,9,  -999.00,9,   -999.0,9,   -999.0,9,-999.0000,9,   -999.0,  9,  -999.00,9,   -999.0,  -999.00,9,  -999.00,9,  -999.00,9,  -999.00,9,   -999.0,-999.0000, -999,9,  900,   4.7856,  27.3362,   -999.0,9
       RF04-01, EQPAC,RF-2115,  1,      5,02-18559,2,20040221,2212, -0.0038, 143.0047, 3116,   1008.2,   4.4969,  34.5517,2,   -999.0,9,  34.5511,2,     99.7,2,    83.06,2,  -999.00,9,    37.88,2,     0.00,2,     2.66,2, -999.000,9, -999.000,9,  -999.00,9,   2293.8,2,   -999.0,9,-999.0000,9,   -999.0,  9,  -999.00,9,   -999.0,  -999.00,9,  -999.00,9,  -999.00,9,  -999.00,9,   -999.0,-999.0000, -999,9, 1000,   4.4166,  27.3853,   -999.0,9
       RF04-01, EQPAC,RF-2115,  1,      4,02-18558,2,20040221,2206, -0.0038, 143.0047, 3116,   1260.2,   3.9221,  34.5674,2,   -999.0,9,  34.5665,2,    100.8,2,    94.87,2,  -999.00,9,    38.07,2,     0.00,2,     2.68,2, -999.000,9, -999.000,9,  -999.00,9,   -999.0,9,   -999.0,9,-999.0000,9,   -999.0,  9,  -999.00,9,   -999.0,  -999.00,9,  -999.00,9,  -999.00,9,  -999.00,9,   -999.0,-999.0000, -999,9, 1249,   3.8249,  27.4600,   -999.0,9
       RF04-01, EQPAC,RF-2115,  1,      3,02-18557,2,20040221,2200, -0.0038, 143.0047, 3116,   1513.8,   3.0001,  34.6014,2,   -999.0,9,  34.6011,2,    103.7,2,   115.94,2,  -999.00,9,    38.62,2,     0.00,2,     2.71,2, -999.000,9, -999.000,9,  -999.00,9,   -999.0,9,   -999.0,9,-999.0000,9,   -999.0,  9,  -999.00,9,   -999.0,  -999.00,9,  -999.00,9,  -999.00,9,  -999.00,9,   -999.0,-999.0000, -999,9, 1500,   2.8910,  27.5768,   -999.0,9
       RF04-01, EQPAC,RF-2115,  1,      2,02-18556,2,20040221,2154, -0.0038, 143.0047, 3116,   1765.5,   2.5738,  34.6204,2,   -999.0,9,  34.6200,2,    112.2,2,   124.26,2,  -999.00,9,    38.18,2,     0.00,2,     2.66,2, -999.000,9, -999.000,9,  -999.00,9,   -999.0,9,   -999.0,9,-999.0000,9,   -999.0,  9,  -999.00,9,   -999.0,  -999.00,9,  -999.00,9,  -999.00,9,  -999.00,9,   -999.0,-999.0000, -999,9, 1748,   2.4489,  27.6307,   -999.0,9
       RF04-01, EQPAC,RF-2115,  1,      1,02-18555,2,20040221,2148, -0.0038, 143.0047, 3116,   2044.9,   2.2395,  34.6362,2,   -999.0,9,  34.6361,2,    116.9,2,   131.83,2,  -999.00,9,    38.00,2,     0.00,2,     2.63,2, -999.000,9, -999.000,9,  -999.00,9,   -999.0,9,   -999.0,9,-999.0000,9,   -999.0,  9,  -999.00,9,   -999.0,  -999.00,9,  -999.00,9,  -999.00,9,  -999.00,9,   -999.0,-999.0000, -999,9, 2024,   2.0955,  27.6726,   -999.0,9