BOTTLE,20130510GEMDJMAYT
EXPOCODE,SECT_ID,STNNBR,CASTNO,SAMPNO,BTLNBR,BTLNBR_FLAG_W,DATE,TIME,LATITUDE,LONGITUDE,DEPTH,CTDPRS,CTDTMP,CTDSAL,CTDSAL_FLAG_W,CTDOXY,CTDOXY_FLAG_W,SALNTY,SALNTY_FLAG_W,OXYGEN,OXYGEN_FLAG_W,SILCAT,SILCAT_FLAG_W,NITRAT,NITRAT_FLAG_W,NO2+NO3,NO2+NO3_FLAG_W,NITRIT,NITRIT_FLAG_W,PHSPHT,PHSPHT_FLAG_W,CFC-11,CFC-11_FLAG_W,CFC-12,CFC-12_FLAG_W,DELC13,DELC13_FLAG_W,TCARBN,TCARBN_FLAG_W,ALKALI,ALKALI_FLAG_W,PH,PH_FLAG_W,PH_TMP,PH_SCALE,PH_NBS,PH_NBS_FLAG_W,C13ERR,TOTALP,TOTALP_FLAG_W,AMMONI,AMMONI_FLAG_W,CHLORA,CHLORA_FLAG_W,PPHYTN,PPHYTN_FLAG_W,REVPRS,REVTMP,DEPTH_,DEPTH_FLAG,CTDDEP,THETA,SIGTHT,DOC,DOC_FLAG_W
,,,,,,,GMT,GMT,,,METER,DBAR,ITS-90,PSS-78,,UMOL/KG,,PSS-78,,UMOL/KG,,UMOL/KG,,UMOL/KG,,UMOL/KG,,UMOL/KG,,UMOL/KG,,PMOL/KG,,PMOL/KG,,/MILLE,,UMOL/KG,,UMOL/KG,,25_DEG_C,,DEG_C,,,,/MILLE,UMOL/KG,,UMOL/KG,,UG/L,,UG/L,,DBAR,ITS-90,METERS,,METERS,DEG_C,,UMOL/L,
       RF04-01,  NONE,RF-2100,  1,     -9,      -9,5,20040215,0833, -2.7760, 162.0500, 3398,      0.0,  30.0689,  34.7690,2,   -999.0,9,-999.0000,9,    191.5,2,     0.83,2,  -999.00,9,     0.00,2,     0.00,2,     0.16,2, -999.000,9, -999.000,9,  -999.00,9,   -999.0,9,   -999.0,9,-999.0000,9,   -999.0,  9,  -999.00,9,   -999.0,  -999.00,9,  -999.00,9,  -999.00,9,  -999.00,9,   -999.0,-999.0000, -999,9,    0,  30.0683,  21.5297,   -999.0,9
       RF04-01,  NONE,RF-2100,  1,     24,02-18578,2,20040215,0831, -2.7760, 162.0500, 3398,     10.0,  30.0661,  34.7703,2,   -999.0,9,  34.8194,4,    192.8,2,     0.91,2,  -999.00,9,     0.00,2,     0.00,2,     0.16,2, -999.000,9, -999.000,9,  -999.00,9,   -999.0,9,   -999.0,9,-999.0000,9,   -999.0,  9,  -999.00,9,   -999.0,  -999.00,9,  -999.00,9,  -999.00,9,  -999.00,9,   -999.0,-999.0000, -999,9,   10,  30.0636,  21.5323,   -999.0,9
       RF04-01,  NONE,RF-2100,  1,     23,02-18577,2,20040215,0830, -2.7760, 162.0500, 3398,     24.4,  30.0441,  34.8636,2,   -999.0,9,-999.0000,9,    192.5,2,     0.90,2,  -999.00,9,     0.00,2,     0.00,2,     0.16,2, -999.000,9, -999.000,9,  -999.00,9,   -999.0,9,   -999.0,9,-999.0000,9,   -999.0,  9,  -999.00,9,   -999.0,  -999.00,9,  -999.00,9,  -999.00,9,  -999.00,9,   -999.0,-999.0000, -999,9,   24,  30.0380,  21.6110,   -999.0,9
       RF04-01,  NONE,RF-2100,  1,     22,02-18576,2,20040215,0829, -2.7760, 162.0500, 3398,     50.5,  30.1200,  35.0049,2,   -999.0,9,-999.0000,9,    193.6,2,     0.87,2,  -999.00,9,     0.00,2,     0.00,2,     0.17,2, -999.000,9, -999.000,9,  -999.00,9,   -999.0,9,   -999.0,9,-999.0000,9,   -999.0,  9,  -999.00,9,   -999.0,  -999.00,9,  -999.00,9,  -999.00,9,  -999.00,9,   -999.0,-999.0000, -999,9,   50,  30.1074,  21.6931,   -999.0,9
       RF04-01,  NONE,RF-2100,  1,     21,02-18575,2,20040215,0828, -2.7760, 162.0500, 3398,     74.3,  30.0869,  35.2912,2,   -999.0,9,-999.0000,9,    191.5,2,     0.99,2,  -999.00,9,     0.04,2,     0.02,2,     0.20,2, -999.000,9, -999.000,9,  -999.00,9,   -999.0,9,   -999.0,9,-999.0000,9,   -999.0,  9,  -999.00,9,   -999.0,  -999.00,9,  -999.00,9,  -999.00,9,  -999.00,9,   -999.0,-999.0000, -999,9,   74,  30.0684,  21.9211,   -999.0,9
       RF04-01,  NONE,RF-2100,  1,     20,02-18574,2,20040215,0827, -2.7760, 162.0500, 3398,    101.0,  29.8878,  35.2623,2,   -999.0,9,  35.2753,4,    185.4,2,     1.18,2,  -999.00,9,     0.43,2,     0.19,2,     0.23,2, -999.000,9, -999.000,9,  -999.00,9,   -999.0,9,   -999.0,9,-999.0000,9,   -999.0,  9,  -999.00,9,   -999.0,  -999.00,9,  -999.00,9,  -999.00,9,  -999.00,9,   -999.0,-999.0000, -999,9,  100,  29.8628,  21.9697,   -999.0,9
       RF04-01,  NONE,RF-2100,  1,     19,02-18573,2,20040215,0826, -2.7760, 162.0500, 3398,    125.2,  28.9689,  35.3885,2,   -999.0,9,-999.0000,9,    172.8,2,     1.72,2,  -999.00,9,     4.13,2,     0.80,2,     0.43,2, -999.000,9, -999.000,9,  -999.00,9,   -999.0,9,   -999.0,9,-999.0000,9,   -999.0,  9,  -999.00,9,   -999.0,  -999.00,9,  -999.00,9,  -999.00,9,  -999.00,9,   -999.0,-999.0000, -999,9,  124,  28.9386,  22.3764,   -999.0,9
       RF04-01,  NONE,RF-2100,  1,     18,02-18572,2,20040215,0825, -2.7760, 162.0500, 3398,    149.6,  26.0146,  35.4347,2,   -999.0,9,-999.0000,9,    135.2,2,     3.18,2,  -999.00,9,     9.25,2,     0.04,2,     0.71,2, -999.000,9, -999.000,9,  -999.00,9,   -999.0,9,   -999.0,9,-999.0000,9,   -999.0,  9,  -999.00,9,   -999.0,  -999.00,9,  -999.00,9,  -999.00,9,  -999.00,9,   -999.0,-999.0000, -999,9,  149,  25.9811,  23.3672,   -999.0,9
       RF04-01,  NONE,RF-2100,  1,     17,02-18571,2,20040215,0823, -2.7760, 162.0500, 3398,    199.8,  22.7851,  35.7531,2,   -999.0,9,  35.7468,4,    122.6,2,     3.77,2,  -999.00,9,    11.80,2,     0.02,2,     0.93,2, -999.000,9, -999.000,9,  -999.00,9,   -999.0,9,   -999.0,9,-999.0000,9,   -999.0,  9,  -999.00,9,   -999.0,  -999.00,9,  -999.00,9,  -999.00,9,  -999.00,9,   -999.0,-999.0000, -999,9,  199,  22.7444,  24.5786,   -999.0,9
       RF04-01,  NONE,RF-2100,  1,     16,02-18570,2,20040215,0822, -2.7760, 162.0500, 3398,    251.4,  15.0065,  35.1860,2,   -999.0,9,-999.0000,9,    103.4,2,    11.15,2,  -999.00,9,    20.33,2,     0.00,2,     1.48,2, -999.000,9, -999.000,9,  -999.00,9,   -999.0,9,   -999.0,9,-999.0000,9,   -999.0,  9,  -999.00,9,   -999.0,  -999.00,9,  -999.00,9,  -999.00,9,  -999.00,9,   -999.0,-999.0000, -999,9,  250,  14.9683,  26.1224,   -999.0,9
       RF04-01,  NONE,RF-2100,  1,     15,02-18569,2,20040215,0820, -2.7760, 162.0500, 3398,    302.1,  12.2649,  34.9416,2,   -999.0,9,  34.9186,4,    110.8,2,    15.89,2,  -999.00,9,    23.99,2,     0.00,2,     1.69,2, -999.000,9, -999.000,9,  -999.00,9,   -999.0,9,   -999.0,9,-999.0000,9,   -999.0,  9,  -999.00,9,   -999.0,  -999.00,9,  -999.00,9,  -999.00,9,  -999.00,9,   -999.0,-999.0000, -999,9,  300,  12.2248,  26.5005,   -999.0,9
       RF04-01,  NONE,RF-2100,  1,     14,02-18568,2,20040215,0818, -2.7760, 162.0500, 3398,    401.9,   9.8473,  34.7340,2,   -999.0,9,  34.7308,2,     92.7,2,    24.53,2,  -999.00,9,    29.95,2,     0.00,2,     2.05,2, -999.000,9, -999.000,9,  -999.00,9,   -999.0,9,   -999.0,9,-999.0000,9,   -999.0,  9,  -999.00,9,   -999.0,  -999.00,9,  -999.00,9,  -999.00,9,  -999.00,9,   -999.0,-999.0000, -999,9,  399,   9.8008,  26.7780,   -999.0,9
       RF04-01,  NONE,RF-2100,  1,     13,02-18567,2,20040215,0815, -2.7760, 162.0500, 3398,    503.6,   8.4742,  34.6383,2,   -999.0,9,  34.6351,2,    100.8,2,    29.85,2,  -999.00,9,    32.02,2,     0.00,2,     2.19,2, -999.000,9, -999.000,9,  -999.00,9,   -999.0,9,   -999.0,9,-999.0000,9,   -999.0,  9,  -999.00,9,   -999.0,  -999.00,9,  -999.00,9,  -999.00,9,  -999.00,9,   -999.0,-999.0000, -999,9,  500,   8.4207,  26.9259,   -999.0,9
       RF04-01,  NONE,RF-2100,  1,     12,02-18566,2,20040215,0813, -2.7760, 162.0500, 3398,    604.0,   7.4866,  34.5865,2,   -999.0,9,  34.5889,2,     91.1,2,    37.36,2,  -999.00,9,    34.82,2,     0.00,2,     2.40,2, -999.000,9, -999.000,9,  -999.00,9,   -999.0,9,   -999.0,9,-999.0000,9,   -999.0,  9,  -999.00,9,   -999.0,  -999.00,9,  -999.00,9,  -999.00,9,  -999.00,9,   -999.0,-999.0000, -999,9,  600,   7.4265,  27.0330,   -999.0,9
       RF04-01,  NONE,RF-2100,  1,     11,02-18565,2,20040215,0810, -2.7760, 162.0500, 3398,    703.7,   6.2401,  34.5373,2,   -999.0,9,  34.5391,2,    109.6,2,    47.30,2,  -999.00,9,    35.47,2,     0.00,2,     2.46,2, -999.000,9, -999.000,9,  -999.00,9,   -999.0,9,   -999.0,9,-999.0000,9,   -999.0,  9,  -999.00,9,   -999.0,  -999.00,9,  -999.00,9,  -999.00,9,  -999.00,9,   -999.0,-999.0000, -999,9,  699,   6.1763,  27.1644,   -999.0,9
       RF04-01,  NONE,RF-2100,  1,     10,02-18564,2,20040215,0808, -2.7760, 162.0500, 3398,    805.8,   5.3220,  34.5310,2,   -999.0,9,  34.5305,2,    107.8,2,    61.55,2,  -999.00,9,    36.90,2,     0.00,2,     2.59,2, -999.000,9, -999.000,9,  -999.00,9,   -999.0,9,   -999.0,9,-999.0000,9,   -999.0,  9,  -999.00,9,   -999.0,  -999.00,9,  -999.00,9,  -999.00,9,  -999.00,9,   -999.0,-999.0000, -999,9,  800,   5.2540,  27.2737,   -999.0,9
       RF04-01,  NONE,RF-2100,  1,      9,02-18563,2,20040215,0805, -2.7760, 162.0500, 3398,    906.8,   4.8498,  34.5422,2,   -999.0,9,-999.0000,9,     93.6,2,    73.32,2,  -999.00,9,    38.48,2,     0.00,2,     2.74,2, -999.000,9, -999.000,9,  -999.00,9,   -999.0,9,   -999.0,9,-999.0000,9,   -999.0,  9,  -999.00,9,   -999.0,  -999.00,9,  -999.00,9,  -999.00,9,  -999.00,9,   -999.0,-999.0000, -999,9,  900,   4.7758,  27.3379,   -999.0,9
       RF04-01,  NONE,RF-2100,  1,      8,02-18562,2,20040215,0802, -2.7760, 162.0500, 3398,   1007.5,   4.4098,  34.5503,2,   -999.0,9,  34.5499,2,     98.2,2,    81.81,2,  -999.00,9,    38.59,2,     0.00,2,     2.74,2, -999.000,9, -999.000,9,  -999.00,9,   -999.0,9,   -999.0,9,-999.0000,9,   -999.0,  9,  -999.00,9,   -999.0,  -999.00,9,  -999.00,9,  -999.00,9,  -999.00,9,   -999.0,-999.0000, -999,9, 1000,   4.3303,  27.3935,   -999.0,9
       RF04-01,  NONE,RF-2100,  1,      7,02-18561,2,20040215,0756, -2.7760, 162.0500, 3398,   1260.8,   3.7504,  34.5703,2,   -999.0,9,-999.0000,9,    101.4,2,    96.42,2,  -999.00,9,    38.72,2,     0.00,2,     2.75,2, -999.000,9, -999.000,9,  -999.00,9,   -999.0,9,   -999.0,9,-999.0000,9,   -999.0,  9,  -999.00,9,   -999.0,  -999.00,9,  -999.00,9,  -999.00,9,  -999.00,9,   -999.0,-999.0000, -999,9, 1250,   3.6548,  27.4794,   -999.0,9
       RF04-01,  NONE,RF-2100,  1,      6,02-18560,2,20040215,0750, -2.7760, 162.0500, 3398,   1512.4,   3.1689,  34.5919,2,   -999.0,9,  34.5914,2,    110.7,2,   108.55,2,  -999.00,9,    38.46,2,     0.00,2,     2.72,2, -999.000,9, -999.000,9,  -999.00,9,   -999.0,9,   -999.0,9,-999.0000,9,   -999.0,  9,  -999.00,9,   -999.0,  -999.00,9,  -999.00,9,  -999.00,9,  -999.00,9,   -999.0,-999.0000, -999,9, 1499,   3.0580,  27.5540,   -999.0,9
       RF04-01,  NONE,RF-2100,  1,      5,02-18559,2,20040215,0745, -2.7760, 162.0500, 3398,   1765.7,   2.6309,  34.6162,2,   -999.0,9,-999.0000,9,    116.4,2,   119.37,2,  -999.00,9,    38.20,2,     0.00,2,     2.69,2, -999.000,9, -999.000,9,  -999.00,9,   -999.0,9,   -999.0,9,-999.0000,9,   -999.0,  9,  -999.00,9,   -999.0,  -999.00,9,  -999.00,9,  -999.00,9,  -999.00,9,   -999.0,-999.0000, -999,9, 1749,   2.5052,  27.6226,   -999.0,9
       RF04-01,  NONE,RF-2100,  1,      4,02-18558,2,20040215,0739, -2.7760, 162.0500, 3398,   2023.2,   2.2279,  34.6384,2,   -999.0,9,  34.6373,2,    121.3,2,   129.04,2,  -999.00,9,    38.03,2,     0.00,2,     2.66,2, -999.000,9, -999.000,9,  -999.00,9,   -999.0,9,   -999.0,9,-999.0000,9,   -999.0,  9,  -999.00,9,   -999.0,  -999.00,9,  -999.00,9,  -999.00,9,  -999.00,9,   -999.0,-999.0000, -999,9, 2002,   2.0860,  27.6751,   -999.0,9
       RF04-01,  NONE,RF-2100,  1,      3,02-18557,2,20040215,0729, -2.7760, 162.0500, 3398,   2530.1,   1.8405,  34.6606,2,   -999.0,9,  34.6619,2,    127.1,2,   139.38,2,  -999.00,9,    37.79,2,     0.00,2,     2.63,2, -999.000,9, -999.000,9,  -999.00,9,   -999.0,9,   -999.0,9,-999.0000,9,   -999.0,  9,  -999.00,9,   -999.0,  -999.00,9,  -999.00,9,  -999.00,9,  -999.00,9,   -999.0,-999.0000, -999,9, 2501,   1.6604,  27.7260,   -999.0,9
       RF04-01,  NONE,RF-2100,  1,      2,02-18556,2,20040215,0718, -2.7760, 162.0500, 3398,   3039.1,   1.6963,  34.6693,2,   -999.0,9,  34.6660,2,    135.3,2,   139.02,2,  -999.00,9,    37.33,2,     0.00,2,     2.58,2, -999.000,9, -999.000,9,  -999.00,9,   -999.0,9,   -999.0,9,-999.0000,9,   -999.0,  9,  -999.00,9,   -999.0,  -999.00,9,  -999.00,9,  -999.00,9,  -999.00,9,   -999.0,-999.0000, -999,9, 3001,   1.4714,  27.7469,   -999.0,9
       RF04-01,  NONE,RF-2100,  1,      1,02-18555,2,20040215,0712, -2.7760, 162.0500, 3398,   3297.4,   1.6090,  34.6754,2,   -999.0,9,  34.6751,2,    142.8,2,   140.99,2,  -999.00,9,    36.90,2,     0.00,2,     2.55,2, -999.000,9, -999.000,9,  -999.00,9,   -999.0,9,   -999.0,9,-999.0000,9,   -999.0,  9,  -999.00,9,   -999.0,  -999.00,9,  -999.00,9,  -999.00,9,  -999.00,9,   -999.0,-999.0000, -999,9, 3254,   1.3606,  27.7597,   -999.0,9