BOTTLE,20130510GEMDJMAYT
EXPOCODE,SECT_ID,STNNBR,CASTNO,SAMPNO,BTLNBR,BTLNBR_FLAG_W,DATE,TIME,LATITUDE,LONGITUDE,DEPTH,CTDPRS,CTDTMP,CTDSAL,CTDSAL_FLAG_W,CTDOXY,CTDOXY_FLAG_W,SALNTY,SALNTY_FLAG_W,OXYGEN,OXYGEN_FLAG_W,SILCAT,SILCAT_FLAG_W,NITRAT,NITRAT_FLAG_W,NO2+NO3,NO2+NO3_FLAG_W,NITRIT,NITRIT_FLAG_W,PHSPHT,PHSPHT_FLAG_W,CFC-11,CFC-11_FLAG_W,CFC-12,CFC-12_FLAG_W,DELC13,DELC13_FLAG_W,TCARBN,TCARBN_FLAG_W,ALKALI,ALKALI_FLAG_W,PH,PH_FLAG_W,PH_TMP,PH_SCALE,PH_NBS,PH_NBS_FLAG_W,C13ERR,TOTALP,TOTALP_FLAG_W,AMMONI,AMMONI_FLAG_W,CHLORA,CHLORA_FLAG_W,PPHYTN,PPHYTN_FLAG_W,REVPRS,REVTMP,DEPTH_,DEPTH_FLAG,CTDDEP,THETA,SIGTHT,DOC,DOC_FLAG_W
,,,,,,,GMT,GMT,,,METER,DBAR,ITS-90,PSS-78,,UMOL/KG,,PSS-78,,UMOL/KG,,UMOL/KG,,UMOL/KG,,UMOL/KG,,UMOL/KG,,UMOL/KG,,PMOL/KG,,PMOL/KG,,/MILLE,,UMOL/KG,,UMOL/KG,,25_DEG_C,,DEG_C,,,,/MILLE,UMOL/KG,,UMOL/KG,,UG/L,,UG/L,,DBAR,ITS-90,METERS,,METERS,DEG_C,,UMOL/L,
       RF04-01,  165E,RF-2087,  1,     -9,      -9,5,20040208,1309,  2.1768, 164.9587, 4137,      0.0,  29.9900,  34.5103,2,   -999.0,9,-999.0000,9,    193.4,2,     1.14,2,  -999.00,9,     0.00,2,     0.00,2,     0.12,2, -999.000,9, -999.000,9,  -999.00,9,   1910.2,2,   -999.0,9,-999.0000,9,   -999.0,  9,  -999.00,9,   -999.0,  -999.00,9,  -999.00,9,     0.06,2,     0.03,2,   -999.0,-999.0000, -999,9,    0,  29.9896,  21.3626,   -999.0,9
       RF04-01,  165E,RF-2087,  1,     24,02-18578,2,20040208,1305,  2.1768, 164.9587, 4137,     10.9,  29.9966,  34.5087,2,   -999.0,9,  34.5285,4,    192.9,2,     1.11,2,  -999.00,9,     0.02,2,     0.00,2,     0.13,2, -999.000,9, -999.000,9,  -999.00,9,   1914.9,6,   -999.0,9,-999.0000,9,   -999.0,  9,  -999.00,9,   -999.0,  -999.00,9,  -999.00,9,     0.07,2,     0.03,2,   -999.0,-999.0000, -999,9,   11,  29.9939,  21.3600,   -999.0,9
       RF04-01,  165E,RF-2087,  1,     23,02-18577,2,20040208,1304,  2.1768, 164.9587, 4137,     25.0,  29.8970,  34.6227,2,   -999.0,9,-999.0000,9,    192.3,2,     1.16,2,  -999.00,9,     0.01,2,     0.00,2,     0.12,2, -999.000,9, -999.000,9,  -999.00,9,   1927.8,2,   -999.0,9,-999.0000,9,   -999.0,  9,  -999.00,9,   -999.0,  -999.00,9,  -999.00,9,     0.07,2,     0.03,2,   -999.0,-999.0000, -999,9,   25,  29.8908,  21.4805,   -999.0,9
       RF04-01,  165E,RF-2087,  1,     22,02-18576,2,20040208,1303,  2.1768, 164.9587, 4137,     51.1,  29.9381,  34.7830,2,   -999.0,9,-999.0000,9,    193.0,2,     1.20,2,  -999.00,9,     0.01,2,     0.02,2,     0.15,2, -999.000,9, -999.000,9,  -999.00,9,   1940.5,2,   -999.0,9,-999.0000,9,   -999.0,  9,  -999.00,9,   -999.0,  -999.00,9,  -999.00,9,     0.17,2,     0.08,2,   -999.0,-999.0000, -999,9,   51,  29.9254,  21.5889,   -999.0,9
       RF04-01,  165E,RF-2087,  1,     21,02-18575,2,20040208,1302,  2.1768, 164.9587, 4137,     75.3,  29.3990,  35.2240,2,   -999.0,9,-999.0000,9,    180.0,2,     1.53,2,  -999.00,9,     1.97,2,     0.95,2,     0.29,2, -999.000,9, -999.000,9,  -999.00,9,   1989.3,2,   -999.0,9,-999.0000,9,   -999.0,  9,  -999.00,9,   -999.0,  -999.00,9,  -999.00,9,     0.31,2,     0.32,2,   -999.0,-999.0000, -999,9,   75,  29.3806,  22.1044,   -999.0,9
       RF04-01,  165E,RF-2087,  1,     20,02-18574,2,20040208,1301,  2.1768, 164.9587, 4137,    100.2,  28.1504,  35.0224,2,   -999.0,9,  35.0205,2,    164.7,2,     1.96,2,  -999.00,9,     3.50,2,     0.22,2,     0.38,2, -999.000,9, -999.000,9,  -999.00,9,   1998.8,2,   -999.0,9,-999.0000,9,   -999.0,  9,  -999.00,9,   -999.0,  -999.00,9,  -999.00,9,     0.19,2,     0.31,2,   -999.0,-999.0000, -999,9,  100,  28.1267,  22.3700,   -999.0,9
       RF04-01,  165E,RF-2087,  1,     19,02-18573,2,20040208,1300,  2.1768, 164.9587, 4137,    125.3,  26.3921,  35.0486,2,   -999.0,9,-999.0000,9,    147.0,2,     2.87,2,  -999.00,9,     6.32,2,     0.05,2,     0.52,2, -999.000,9, -999.000,9,  -999.00,9,   2025.0,2,   -999.0,9,-999.0000,9,   -999.0,  9,  -999.00,9,   -999.0,  -999.00,9,  -999.00,9,     0.07,2,     0.15,2,   -999.0,-999.0000, -999,9,  125,  26.3638,  22.9560,   -999.0,9
       RF04-01,  165E,RF-2087,  1,     18,02-18572,2,20040208,1258,  2.1768, 164.9587, 4137,    152.5,  23.0108,  35.0670,2,   -999.0,9,-999.0000,9,    133.2,2,     5.17,2,  -999.00,9,     9.31,2,     0.02,2,     0.68,2, -999.000,9, -999.000,9,  -999.00,9,   2063.5,2,   -999.0,9,-999.0000,9,   -999.0,  9,  -999.00,9,   -999.0,  -999.00,9,  -999.00,9,     0.02,2,     0.05,2,   -999.0,-999.0000, -999,9,  152,  22.9796,  23.9903,   -999.0,9
       RF04-01,  165E,RF-2087,  1,     17,02-18571,2,20040208,1256,  2.1768, 164.9587, 4137,    202.2,  15.2790,  34.7874,2,   -999.0,9,  34.7965,2,    139.6,2,    14.59,2,  -999.00,9,    15.61,2,     0.00,2,     1.09,2, -999.000,9, -999.000,9,  -999.00,9,   2118.5,2,   -999.0,9,-999.0000,9,   -999.0,  9,  -999.00,9,   -999.0,  -999.00,9,  -999.00,9,     0.00,2,     0.01,2,   -999.0,-999.0000, -999,9,  201,  15.2480,  25.7533,   -999.0,9
       RF04-01,  165E,RF-2087,  1,     16,02-18570,2,20040208,1255,  2.1768, 164.9587, 4137,    253.1,  12.3602,  34.8795,2,   -999.0,9,-999.0000,9,    126.0,2,    18.07,2,  -999.00,9,    21.91,2,     0.00,2,     1.52,2, -999.000,9, -999.000,9,  -999.00,9,   2165.3,2,   -999.0,9,-999.0000,9,   -999.0,  9,  -999.00,9,   -999.0,  -999.00,9,  -999.00,9,  -999.00,9,  -999.00,9,   -999.0,-999.0000, -999,9,  252,  12.3265,  26.4326,   -999.0,9
       RF04-01,  165E,RF-2087,  1,     15,02-18569,2,20040208,1253,  2.1768, 164.9587, 4137,    303.4,  11.1246,  34.8016,2,   -999.0,9,  34.8020,2,    100.7,2,    22.65,2,  -999.00,9,    26.56,2,     0.00,2,     1.82,2, -999.000,9, -999.000,9,  -999.00,9,   2194.3,2,   -999.0,9,-999.0000,9,   -999.0,  9,  -999.00,9,   -999.0,  -999.00,9,  -999.00,9,  -999.00,9,  -999.00,9,   -999.0,-999.0000, -999,9,  302,  11.0868,  26.6053,   -999.0,9
       RF04-01,  165E,RF-2087,  1,     14,02-18568,2,20040208,1250,  2.1768, 164.9587, 4137,    403.3,   9.9782,  34.7142,2,   -999.0,9,  34.7128,2,     97.2,2,    27.19,2,  -999.00,9,    28.96,2,     0.00,2,     1.98,2, -999.000,9, -999.000,9,  -999.00,9,   2205.9,2,   -999.0,9,-999.0000,9,   -999.0,  9,  -999.00,9,   -999.0,  -999.00,9,  -999.00,9,  -999.00,9,  -999.00,9,   -999.0,-999.0000, -999,9,  401,   9.9311,  26.7405,   -999.0,9
       RF04-01,  165E,RF-2087,  1,     13,02-18567,2,20040208,1247,  2.1768, 164.9587, 4137,    505.6,   8.3634,  34.6127,2,   -999.0,9,  34.6123,2,    108.9,2,    33.37,2,  -999.00,9,    30.94,2,     0.00,2,     2.11,2, -999.000,9, -999.000,9,  -999.00,9,   -999.0,9,   -999.0,9,-999.0000,9,   -999.0,  9,  -999.00,9,   -999.0,  -999.00,9,  -999.00,9,  -999.00,9,  -999.00,9,   -999.0,-999.0000, -999,9,  502,   8.3101,  26.9228,   -999.0,9
       RF04-01,  165E,RF-2087,  1,     12,02-18566,2,20040208,1244,  2.1768, 164.9587, 4137,    606.9,   7.0189,  34.5622,2,   -999.0,9,  34.5610,2,     88.4,2,    45.69,2,  -999.00,9,    35.16,2,     0.00,2,     2.47,2, -999.000,9, -999.000,9,  -999.00,9,   2246.0,2,   -999.0,9,-999.0000,9,   -999.0,  9,  -999.00,9,   -999.0,  -999.00,9,  -999.00,9,  -999.00,9,  -999.00,9,   -999.0,-999.0000, -999,9,  603,   6.9607,  27.0793,   -999.0,9
       RF04-01,  165E,RF-2087,  1,     11,02-18565,2,20040208,1241,  2.1768, 164.9587, 4137,    706.8,   6.2702,  34.5417,2,   -999.0,9,  34.5381,2,     92.9,2,    54.25,2,  -999.00,9,    36.06,2,     0.00,2,     2.54,2, -999.000,9, -999.000,9,  -999.00,9,   -999.0,9,   -999.0,9,-999.0000,9,   -999.0,  9,  -999.00,9,   -999.0,  -999.00,9,  -999.00,9,  -999.00,9,  -999.00,9,   -999.0,-999.0000, -999,9,  702,   6.2059,  27.1641,   -999.0,9
       RF04-01,  165E,RF-2087,  1,     10,02-18564,2,20040208,1239,  2.1768, 164.9587, 4137,    807.8,   5.7528,  34.5377,2,   -999.0,9,  34.5370,2,     91.0,2,    62.36,2,  -999.00,9,    37.02,2,     0.00,2,     2.62,2, -999.000,9, -999.000,9,  -999.00,9,   2266.9,2,   -999.0,9,-999.0000,9,   -999.0,  9,  -999.00,9,   -999.0,  -999.00,9,  -999.00,9,  -999.00,9,  -999.00,9,   -999.0,-999.0000, -999,9,  802,   5.6819,  27.2272,   -999.0,9
       RF04-01,  165E,RF-2087,  1,      9,02-18563,2,20040208,1236,  2.1768, 164.9587, 4137,    907.6,   4.9856,  34.5420,2,   -999.0,9,-999.0000,9,     98.3,2,    74.77,2,  -999.00,9,    37.26,2,     0.00,2,     2.64,2, -999.000,9, -999.000,9,  -999.00,9,   -999.0,9,   -999.0,9,-999.0000,9,   -999.0,  9,  -999.00,9,   -999.0,  -999.00,9,  -999.00,9,  -999.00,9,  -999.00,9,   -999.0,-999.0000, -999,9,  901,   4.9106,  27.3224,   -999.0,9
       RF04-01,  165E,RF-2087,  1,      8,02-18562,2,20040208,1233,  2.1768, 164.9587, 4137,   1009.9,   4.4816,  34.5537,2,   -999.0,9,  34.5533,2,     97.1,2,    84.36,2,  -999.00,9,    37.80,2,     0.00,2,     2.68,2, -999.000,9, -999.000,9,  -999.00,9,   2291.7,6,   -999.0,9,-999.0000,9,   -999.0,  9,  -999.00,9,   -999.0,  -999.00,9,  -999.00,9,  -999.00,9,  -999.00,9,   -999.0,-999.0000, -999,9, 1002,   4.4013,  27.3886,   -999.0,9
       RF04-01,  165E,RF-2087,  1,      7,02-18561,2,20040208,1227,  2.1768, 164.9587, 4137,   1262.4,   3.5635,  34.5814,2,   -999.0,9,-999.0000,9,     97.5,2,   105.26,2,  -999.00,9,    38.61,2,     0.00,2,     2.73,2, -999.000,9, -999.000,9,  -999.00,9,   2315.5,2,   -999.0,9,-999.0000,9,   -999.0,  9,  -999.00,9,   -999.0,  -999.00,9,  -999.00,9,  -999.00,9,  -999.00,9,   -999.0,-999.0000, -999,9, 1252,   3.4696,  27.5066,   -999.0,9
       RF04-01,  165E,RF-2087,  1,      6,02-18560,2,20040208,1222,  2.1768, 164.9587, 4137,   1516.5,   2.9625,  34.6034,2,   -999.0,9,  34.6025,2,    102.9,2,   117.57,2,  -999.00,9,    38.67,2,     0.00,2,     2.73,2, -999.000,9, -999.000,9,  -999.00,9,   2326.8,2,   -999.0,9,-999.0000,9,   -999.0,  9,  -999.00,9,   -999.0,  -999.00,9,  -999.00,9,  -999.00,9,  -999.00,9,   -999.0,-999.0000, -999,9, 1503,   2.8536,  27.5818,   -999.0,9
       RF04-01,  165E,RF-2087,  1,      5,02-18559,2,20040208,1215,  2.1768, 164.9587, 4137,   1767.0,   2.5848,  34.6211,2,   -999.0,9,-999.0000,9,    105.2,2,   126.44,2,  -999.00,9,    38.82,2,     0.00,2,     2.72,2, -999.000,9, -999.000,9,  -999.00,9,   -999.0,9,   -999.0,9,-999.0000,9,   -999.0,  9,  -999.00,9,   -999.0,  -999.00,9,  -999.00,9,  -999.00,9,  -999.00,9,   -999.0,-999.0000, -999,9, 1750,   2.4596,  27.6304,   -999.0,9
       RF04-01,  165E,RF-2087,  1,      4,02-18558,2,20040208,1209,  2.1768, 164.9587, 4137,   2021.4,   2.2454,  34.6378,2,   -999.0,9,  34.6375,2,    113.5,2,   133.39,2,  -999.00,9,    38.39,2,     0.00,2,     2.69,2, -999.000,9, -999.000,9,  -999.00,9,   2339.0,2,   -999.0,9,-999.0000,9,   -999.0,  9,  -999.00,9,   -999.0,  -999.00,9,  -999.00,9,  -999.00,9,  -999.00,9,   -999.0,-999.0000, -999,9, 2001,   2.1034,  27.6732,   -999.0,9
       RF04-01,  165E,RF-2087,  1,      3,02-18557,2,20040208,1158,  2.1768, 164.9587, 4137,   2529.4,   1.8383,  34.6613,2,   -999.0,9,  34.6609,2,    125.3,2,   141.27,2,  -999.00,9,    37.82,2,     0.00,2,     2.63,2, -999.000,9, -999.000,9,  -999.00,9,   2341.2,2,   -999.0,9,-999.0000,9,   -999.0,  9,  -999.00,9,   -999.0,  -999.00,9,  -999.00,9,  -999.00,9,  -999.00,9,   -999.0,-999.0000, -999,9, 2500,   1.6583,  27.7267,   -999.0,9
       RF04-01,  165E,RF-2087,  1,      2,02-18556,2,20040208,1148,  2.1768, 164.9587, 4137,   3036.2,   1.6737,  34.6713,2,   -999.0,9,  34.6709,2,    135.3,2,   142.11,2,  -999.00,9,    37.20,2,     0.00,2,     2.55,2, -999.000,9, -999.000,9,  -999.00,9,   2333.7,2,   -999.0,9,-999.0000,9,   -999.0,  9,  -999.00,9,   -999.0,  -999.00,9,  -999.00,9,  -999.00,9,  -999.00,9,   -999.0,-999.0000, -999,9, 2998,   1.4496,  27.7500,   -999.0,9
       RF04-01,  165E,RF-2087,  1,      1,02-18555,2,20040208,1126,  2.1768, 164.9587, 4137,   4111.4,   1.4087,  34.6940,2,   -999.0,9,  34.6940,2,    166.6,2,   132.58,2,  -999.00,9,    35.05,2,     0.00,2,     2.36,2, -999.000,9, -999.000,9,  -999.00,9,   2310.2,2,   -999.0,9,-999.0000,9,   -999.0,  9,  -999.00,9,   -999.0,  -999.00,9,  -999.00,9,  -999.00,9,  -999.00,9,   -999.0,-999.0000, -999,9, 4050,   1.0801,  27.7941,   -999.0,9