BOTTLE,20130510GEMDJMAYT
EXPOCODE,SECT_ID,STNNBR,CASTNO,SAMPNO,BTLNBR,BTLNBR_FLAG_W,DATE,TIME,LATITUDE,LONGITUDE,DEPTH,CTDPRS,CTDTMP,CTDSAL,CTDSAL_FLAG_W,CTDOXY,CTDOXY_FLAG_W,SALNTY,SALNTY_FLAG_W,OXYGEN,OXYGEN_FLAG_W,SILCAT,SILCAT_FLAG_W,NITRAT,NITRAT_FLAG_W,NO2+NO3,NO2+NO3_FLAG_W,NITRIT,NITRIT_FLAG_W,PHSPHT,PHSPHT_FLAG_W,CFC-11,CFC-11_FLAG_W,CFC-12,CFC-12_FLAG_W,DELC13,DELC13_FLAG_W,TCARBN,TCARBN_FLAG_W,ALKALI,ALKALI_FLAG_W,PH,PH_FLAG_W,PH_TMP,PH_SCALE,PH_NBS,PH_NBS_FLAG_W,C13ERR,TOTALP,TOTALP_FLAG_W,AMMONI,AMMONI_FLAG_W,CHLORA,CHLORA_FLAG_W,PPHYTN,PPHYTN_FLAG_W,REVPRS,REVTMP,DEPTH_,DEPTH_FLAG,CTDDEP,THETA,SIGTHT,DOC,DOC_FLAG_W
,,,,,,,GMT,GMT,,,METER,DBAR,ITS-90,PSS-78,,UMOL/KG,,PSS-78,,UMOL/KG,,UMOL/KG,,UMOL/KG,,UMOL/KG,,UMOL/KG,,UMOL/KG,,PMOL/KG,,PMOL/KG,,/MILLE,,UMOL/KG,,UMOL/KG,,25_DEG_C,,DEG_C,,,,/MILLE,UMOL/KG,,UMOL/KG,,UG/L,,UG/L,,DBAR,ITS-90,METERS,,METERS,DEG_C,,UMOL/L,
       RF04-01,  165E,RF-2097,  1,     -9,      -9,5,20040211,1401, -4.3827, 165.3760, 3157,      0.0,  30.3753,  34.8147,2,   -999.0,9,-999.0000,9,    191.8,2,     1.29,2,  -999.00,9,     0.04,2,     0.00,2,     0.18,2, -999.000,9, -999.000,9,  -999.00,9,   -999.0,9,   -999.0,9,-999.0000,9,   -999.0,  9,  -999.00,9,   -999.0,  -999.00,9,  -999.00,9,  -999.00,9,  -999.00,9,   -999.0,-999.0000, -999,9,    0,  30.3748,  21.4588,   -999.0,9
       RF04-01,  165E,RF-2097,  1,     23,02-18577,2,20040211,1359, -4.3827, 165.3760, 3157,     10.6,  30.3726,  34.8125,2,   -999.0,9,  34.8067,4,    193.4,2,     1.32,2,  -999.00,9,     0.00,2,     0.00,2,     0.15,2, -999.000,9, -999.000,9,  -999.00,9,   -999.0,9,   -999.0,9,-999.0000,9,   -999.0,  9,  -999.00,9,   -999.0,  -999.00,9,  -999.00,9,  -999.00,9,  -999.00,9,   -999.0,-999.0000, -999,9,   11,  30.3699,  21.4588,   -999.0,9
       RF04-01,  165E,RF-2097,  1,     22,02-18576,2,20040211,1358, -4.3827, 165.3760, 3157,     25.8,  30.2703,  34.8023,2,   -999.0,9,-999.0000,9,    192.9,2,     1.36,2,  -999.00,9,     0.00,2,     0.00,2,     0.15,2, -999.000,9, -999.000,9,  -999.00,9,   -999.0,9,   -999.0,9,-999.0000,9,   -999.0,  9,  -999.00,9,   -999.0,  -999.00,9,  -999.00,9,  -999.00,9,  -999.00,9,   -999.0,-999.0000, -999,9,   26,  30.2639,  21.4876,   -999.0,9
       RF04-01,  165E,RF-2097,  1,     21,02-18575,2,20040211,1357, -4.3827, 165.3760, 3157,     50.5,  30.0055,  34.9122,2,   -999.0,9,-999.0000,9,    194.7,2,     1.37,2,  -999.00,9,     0.00,2,     0.00,2,     0.16,2, -999.000,9, -999.000,9,  -999.00,9,   -999.0,9,   -999.0,9,-999.0000,9,   -999.0,  9,  -999.00,9,   -999.0,  -999.00,9,  -999.00,9,  -999.00,9,  -999.00,9,   -999.0,-999.0000, -999,9,   50,  29.9930,  21.6628,   -999.0,9
       RF04-01,  165E,RF-2097,  1,     20,02-18574,2,20040211,1356, -4.3827, 165.3760, 3157,     75.6,  29.8453,  35.1833,2,   -999.0,9,-999.0000,9,    190.1,2,     1.53,2,  -999.00,9,     0.53,2,     0.21,2,     0.21,2, -999.000,9, -999.000,9,  -999.00,9,   -999.0,9,   -999.0,9,-999.0000,9,   -999.0,  9,  -999.00,9,   -999.0,  -999.00,9,  -999.00,9,  -999.00,9,  -999.00,9,   -999.0,-999.0000, -999,9,   75,  29.8266,  21.9228,   -999.0,9
       RF04-01,  165E,RF-2097,  1,     19,02-18573,2,20040211,1355, -4.3827, 165.3760, 3157,    101.4,  29.6361,  35.4747,2,   -999.0,9,  35.5162,4,    178.6,2,     1.97,2,  -999.00,9,     4.00,2,  -999.00,4,     0.42,2, -999.000,9, -999.000,9,  -999.00,9,   -999.0,9,   -999.0,9,-999.0000,9,   -999.0,  9,  -999.00,9,   -999.0,  -999.00,9,  -999.00,9,  -999.00,9,  -999.00,9,   -999.0,-999.0000, -999,9,  101,  29.6112,  22.2146,   -999.0,9
       RF04-01,  165E,RF-2097,  1,     18,02-18572,2,20040211,1354, -4.3827, 165.3760, 3157,    127.4,  28.9067,  35.5463,2,   -999.0,9,-999.0000,9,    161.2,2,     2.16,2,  -999.00,9,     6.04,2,     0.75,2,     0.54,2, -999.000,9, -999.000,9,  -999.00,9,   -999.0,9,   -999.0,9,-999.0000,9,   -999.0,  9,  -999.00,9,   -999.0,  -999.00,9,  -999.00,9,  -999.00,9,  -999.00,9,   -999.0,-999.0000, -999,9,  127,  28.8759,  22.5158,   -999.0,9
       RF04-01,  165E,RF-2097,  1,     17,02-18571,2,20040211,1353, -4.3827, 165.3760, 3157,    151.6,  28.0691,  35.8051,2,   -999.0,9,-999.0000,9,    145.1,2,     2.40,2,  -999.00,9,     7.74,2,     0.32,2,     0.66,2, -999.000,9, -999.000,9,  -999.00,9,   -999.0,9,   -999.0,9,-999.0000,9,   -999.0,  9,  -999.00,9,   -999.0,  -999.00,9,  -999.00,9,  -999.00,9,  -999.00,9,   -999.0,-999.0000, -999,9,  151,  28.0332,  22.9893,   -999.0,9
       RF04-01,  165E,RF-2097,  1,     16,02-18570,2,20040211,1352, -4.3827, 165.3760, 3157,    202.7,  20.5139,  35.6687,2,   -999.0,9,  35.6294,4,    116.2,2,     5.79,2,  -999.00,9,    13.76,2,     0.01,2,     1.07,2, -999.000,9, -999.000,9,  -999.00,9,   -999.0,9,   -999.0,9,-999.0000,9,   -999.0,  9,  -999.00,9,   -999.0,  -999.00,9,  -999.00,9,  -999.00,9,  -999.00,9,   -999.0,-999.0000, -999,9,  202,  20.4756,  25.1451,   -999.0,9
       RF04-01,  165E,RF-2097,  1,     15,02-18569,2,20040211,1350, -4.3827, 165.3760, 3157,    252.6,  12.7623,  34.9746,2,   -999.0,9,-999.0000,9,     85.3,2,    18.07,2,  -999.00,9,    25.82,2,     0.00,2,     1.82,2, -999.000,9, -999.000,9,  -999.00,9,   -999.0,9,   -999.0,9,-999.0000,9,   -999.0,  9,  -999.00,9,   -999.0,  -999.00,9,  -999.00,9,  -999.00,9,  -999.00,9,   -999.0,-999.0000, -999,9,  251,  12.7279,  26.4276,   -999.0,9
       RF04-01,  165E,RF-2097,  1,     14,02-18568,2,20040211,1349, -4.3827, 165.3760, 3157,    301.5,  10.2443,  34.7690,2,   -999.0,9,  34.7668,2,     85.4,2,    24.03,2,  -999.00,9,    29.47,2,     0.00,2,     2.03,2, -999.000,9, -999.000,9,  -999.00,9,   -999.0,9,   -999.0,9,-999.0000,9,   -999.0,  9,  -999.00,9,   -999.0,  -999.00,9,  -999.00,9,  -999.00,9,  -999.00,9,   -999.0,-999.0000, -999,9,  300,  10.2087,  26.7357,   -999.0,9
       RF04-01,  165E,RF-2097,  1,     13,02-18567,2,20040211,1347, -4.3827, 165.3760, 3157,    403.4,   8.8895,  34.6671,2,   -999.0,9,  34.6670,2,    101.6,2,    27.35,2,  -999.00,9,    30.78,2,     0.00,2,     2.09,2, -999.000,9, -999.000,9,  -999.00,9,   -999.0,9,   -999.0,9,-999.0000,9,   -999.0,  9,  -999.00,9,   -999.0,  -999.00,9,  -999.00,9,  -999.00,9,  -999.00,9,   -999.0,-999.0000, -999,9,  401,   8.8457,  26.8820,   -999.0,9
       RF04-01,  165E,RF-2097,  1,     12,02-18566,2,20040211,1344, -4.3827, 165.3760, 3157,    504.8,   7.8108,  34.6095,2,   -999.0,9,  34.6109,2,     74.6,2,    37.32,2,  -999.00,9,    35.66,2,     0.00,2,     2.45,2, -999.000,9, -999.000,9,  -999.00,9,   -999.0,9,   -999.0,9,-999.0000,9,   -999.0,  9,  -999.00,9,   -999.0,  -999.00,9,  -999.00,9,  -999.00,9,  -999.00,9,   -999.0,-999.0000, -999,9,  501,   7.7597,  27.0027,   -999.0,9
       RF04-01,  165E,RF-2097,  1,     11,02-18565,2,20040211,1342, -4.3827, 165.3760, 3157,    606.0,   6.8027,  34.5635,2,   -999.0,9,  34.5649,2,     84.8,2,    44.96,2,  -999.00,9,    36.60,2,     0.00,2,     2.53,2, -999.000,9, -999.000,9,  -999.00,9,   -999.0,9,   -999.0,9,-999.0000,9,   -999.0,  9,  -999.00,9,   -999.0,  -999.00,9,  -999.00,9,  -999.00,9,  -999.00,9,   -999.0,-999.0000, -999,9,  602,   6.7456,  27.1098,   -999.0,9
       RF04-01,  165E,RF-2097,  1,     10,02-18564,2,20040211,1340, -4.3827, 165.3760, 3157,    705.8,   5.9141,  34.5302,2,   -999.0,9,  34.5295,2,    110.8,2,    50.76,2,  -999.00,9,    35.41,2,     0.00,2,     2.45,2, -999.000,9, -999.000,9,  -999.00,9,   -999.0,9,   -999.0,9,-999.0000,9,   -999.0,  9,  -999.00,9,   -999.0,  -999.00,9,  -999.00,9,  -999.00,9,  -999.00,9,   -999.0,-999.0000, -999,9,  701,   5.8518,  27.2001,   -999.0,9
       RF04-01,  165E,RF-2097,  1,      9,02-18563,2,20040211,1338, -4.3827, 165.3760, 3157,    806.9,   5.4070,  34.5283,2,   -999.0,9,  34.5305,2,    107.5,2,    59.75,2,  -999.00,9,    36.39,2,     0.00,2,     2.55,2, -999.000,9, -999.000,9,  -999.00,9,   -999.0,9,   -999.0,9,-999.0000,9,   -999.0,  9,  -999.00,9,   -999.0,  -999.00,9,  -999.00,9,  -999.00,9,  -999.00,9,   -999.0,-999.0000, -999,9,  801,   5.3384,  27.2615,   -999.0,9
       RF04-01,  165E,RF-2097,  1,      8,02-18562,2,20040211,1336, -4.3827, 165.3760, 3157,    907.6,   4.9352,  34.5267,2,   -999.0,9,-999.0000,9,    117.3,2,    65.79,2,  -999.00,9,    36.27,2,     0.00,2,     2.52,2, -999.000,9, -999.000,9,  -999.00,9,   -999.0,9,   -999.0,9,-999.0000,9,   -999.0,  9,  -999.00,9,   -999.0,  -999.00,9,  -999.00,9,  -999.00,9,  -999.00,9,   -999.0,-999.0000, -999,9,  901,   4.8606,  27.3160,   -999.0,9
       RF04-01,  165E,RF-2097,  1,      7,02-18561,2,20040211,1333, -4.3827, 165.3760, 3157,   1009.1,   4.5587,  34.5384,2,   -999.0,9,  34.5372,2,    110.9,2,    74.75,2,  -999.00,9,    37.14,2,     0.00,2,     2.60,2, -999.000,9, -999.000,9,  -999.00,9,   -999.0,9,   -999.0,9,-999.0000,9,   -999.0,  9,  -999.00,9,   -999.0,  -999.00,9,  -999.00,9,  -999.00,9,  -999.00,9,   -999.0,-999.0000, -999,9, 1001,   4.4779,  27.3681,   -999.0,9
       RF04-01,  165E,RF-2097,  1,      6,02-18560,2,20040211,1328, -4.3827, 165.3760, 3157,   1261.3,   3.6995,  34.5613,2,   -999.0,9,-999.0000,9,    121.4,2,    90.37,2,  -999.00,9,    37.04,2,     0.00,2,     2.58,2, -999.000,9, -999.000,9,  -999.00,9,   -999.0,9,   -999.0,9,-999.0000,9,   -999.0,  9,  -999.00,9,   -999.0,  -999.00,9,  -999.00,9,  -999.00,9,  -999.00,9,   -999.0,-999.0000, -999,9, 1251,   3.6044,  27.4773,   -999.0,9
       RF04-01,  165E,RF-2097,  1,      5,02-18559,2,20040211,1324, -4.3827, 165.3760, 3157,   1515.0,   3.0716,  34.5927,2,   -999.0,9,  34.5916,2,    115.9,2,   107.93,2,  -999.00,9,    37.82,2,     0.00,2,     2.65,2, -999.000,9, -999.000,9,  -999.00,9,   -999.0,9,   -999.0,9,-999.0000,9,   -999.0,  9,  -999.00,9,   -999.0,  -999.00,9,  -999.00,9,  -999.00,9,  -999.00,9,   -999.0,-999.0000, -999,9, 1501,   2.9616,  27.5634,   -999.0,9
       RF04-01,  165E,RF-2097,  1,      4,02-18558,2,20040211,1319, -4.3827, 165.3760, 3157,   1768.2,   2.5268,  34.6197,2,   -999.0,9,-999.0000,9,    123.4,2,   118.92,2,  -999.00,9,    37.49,2,     0.00,2,     2.61,2, -999.000,9, -999.000,9,  -999.00,9,   -999.0,9,   -999.0,9,-999.0000,9,   -999.0,  9,  -999.00,9,   -999.0,  -999.00,9,  -999.00,9,  -999.00,9,  -999.00,9,   -999.0,-999.0000, -999,9, 1751,   2.4023,  27.6341,   -999.0,9
       RF04-01,  165E,RF-2097,  1,      3,02-18557,2,20040211,1314, -4.3827, 165.3760, 3157,   2021.2,   2.2110,  34.6394,2,   -999.0,9,  34.6412,2,    124.5,2,   127.93,2,  -999.00,9,    37.57,2,     0.00,2,     2.61,2, -999.000,9, -999.000,9,  -999.00,9,   -999.0,9,   -999.0,9,-999.0000,9,   -999.0,  9,  -999.00,9,   -999.0,  -999.00,9,  -999.00,9,  -999.00,9,  -999.00,9,   -999.0,-999.0000, -999,9, 2000,   2.0695,  27.6772,   -999.0,9
       RF04-01,  165E,RF-2097,  1,      2,02-18556,2,20040211,1304, -4.3827, 165.3760, 3157,   2530.0,   1.8667,  34.6597,2,   -999.0,9,  34.6627,2,    132.2,2,   136.07,2,  -999.00,9,    37.26,2,     0.00,2,     2.56,2, -999.000,9, -999.000,9,  -999.00,9,   -999.0,9,   -999.0,9,-999.0000,9,   -999.0,  9,  -999.00,9,   -999.0,  -999.00,9,  -999.00,9,  -999.00,9,  -999.00,9,   -999.0,-999.0000, -999,9, 2501,   1.6861,  27.7233,   -999.0,9
       RF04-01,  165E,RF-2097,  1,      1,02-18555,2,20040211,1254, -4.3827, 165.3760, 3157,   3102.1,   1.6947,  34.6701,2,   -999.0,9,  34.6713,2,    137.0,2,   140.32,2,  -999.00,9,    36.87,2,     0.00,2,     2.52,2, -999.000,9, -999.000,9,  -999.00,9,   -999.0,9,   -999.0,9,-999.0000,9,   -999.0,  9,  -999.00,9,   -999.0,  -999.00,9,  -999.00,9,  -999.00,9,  -999.00,9,   -999.0,-999.0000, -999,9, 3062,   1.4637,  27.7481,   -999.0,9