BOTTLE,20130510GEMDJMAYT
EXPOCODE,SECT_ID,STNNBR,CASTNO,SAMPNO,BTLNBR,BTLNBR_FLAG_W,DATE,TIME,LATITUDE,LONGITUDE,DEPTH,CTDPRS,CTDTMP,CTDSAL,CTDSAL_FLAG_W,CTDOXY,CTDOXY_FLAG_W,SALNTY,SALNTY_FLAG_W,OXYGEN,OXYGEN_FLAG_W,SILCAT,SILCAT_FLAG_W,NITRAT,NITRAT_FLAG_W,NO2+NO3,NO2+NO3_FLAG_W,NITRIT,NITRIT_FLAG_W,PHSPHT,PHSPHT_FLAG_W,CFC-11,CFC-11_FLAG_W,CFC-12,CFC-12_FLAG_W,DELC13,DELC13_FLAG_W,TCARBN,TCARBN_FLAG_W,ALKALI,ALKALI_FLAG_W,PH,PH_FLAG_W,PH_TMP,PH_SCALE,PH_NBS,PH_NBS_FLAG_W,C13ERR,TOTALP,TOTALP_FLAG_W,AMMONI,AMMONI_FLAG_W,CHLORA,CHLORA_FLAG_W,PPHYTN,PPHYTN_FLAG_W,REVPRS,REVTMP,DEPTH_,DEPTH_FLAG,CTDDEP,THETA,SIGTHT,DOC,DOC_FLAG_W
,,,,,,,GMT,GMT,,,METER,DBAR,ITS-90,PSS-78,,UMOL/KG,,PSS-78,,UMOL/KG,,UMOL/KG,,UMOL/KG,,UMOL/KG,,UMOL/KG,,UMOL/KG,,PMOL/KG,,PMOL/KG,,/MILLE,,UMOL/KG,,UMOL/KG,,25_DEG_C,,DEG_C,,,,/MILLE,UMOL/KG,,UMOL/KG,,UG/L,,UG/L,,DBAR,ITS-90,METERS,,METERS,DEG_C,,UMOL/L,
       RF04-01,  165E,RF-2069,  1,     -9,      -9,5,20040125,1441, 19.9982, 164.9947, 5331,      0.0,  26.2562,  34.9058,2,   -999.0,9,-999.0000,9,    203.4,2,     0.95,2,  -999.00,9,     0.09,2,     0.00,2,     0.11,2, -999.000,9, -999.000,9,  -999.00,9,   1947.4,2,   -999.0,9,-999.0000,9,   -999.0,  9,  -999.00,9,   -999.0,  -999.00,9,  -999.00,9,     0.05,2,     0.01,2,   -999.0,-999.0000, -999,9,    0,  26.2559,  22.8822,   -999.0,9
       RF04-01,  165E,RF-2069,  1,     22,02-18576,2,20040125,1439, 19.9982, 164.9947, 5331,     10.1,  26.2548,  34.9058,2,   -999.0,9,  34.9062,2,    204.1,2,     0.90,2,  -999.00,9,     0.05,2,     0.00,2,     0.02,2, -999.000,9, -999.000,9,  -999.00,9,   1941.3,2,   -999.0,9,-999.0000,9,   -999.0,  9,  -999.00,9,   -999.0,  -999.00,9,  -999.00,9,     0.05,2,     0.01,2,   -999.0,-999.0000, -999,9,   10,  26.2525,  22.8834,   -999.0,9
       RF04-01,  165E,RF-2069,  1,     21,02-18575,2,20040125,1438, 19.9982, 164.9947, 5331,     24.9,  26.2726,  34.9101,2,   -999.0,9,-999.0000,9,    205.2,2,     0.86,2,  -999.00,9,     0.05,2,     0.00,2,     0.02,2, -999.000,9, -999.000,9,  -999.00,9,   1945.0,2,   -999.0,9,-999.0000,9,   -999.0,  9,  -999.00,9,   -999.0,  -999.00,9,  -999.00,9,     0.05,2,     0.02,2,   -999.0,-999.0000, -999,9,   25,  26.2670,  22.8821,   -999.0,9
       RF04-01,  165E,RF-2069,  1,     20,02-18574,2,20040125,1437, 19.9982, 164.9947, 5331,     50.3,  26.0723,  35.1905,2,   -999.0,9,-999.0000,9,    206.9,2,     0.84,2,  -999.00,9,     0.01,2,     0.00,2,     0.00,2, -999.000,9, -999.000,9,  -999.00,9,   1961.2,2,   -999.0,9,-999.0000,9,   -999.0,  9,  -999.00,9,   -999.0,  -999.00,9,  -999.00,9,     0.06,2,     0.02,2,   -999.0,-999.0000, -999,9,   50,  26.0611,  23.1580,   -999.0,9
       RF04-01,  165E,RF-2069,  1,     19,02-18573,2,20040125,1435, 19.9982, 164.9947, 5331,     75.3,  25.7069,  35.2595,2,   -999.0,9,-999.0000,9,    209.4,2,     0.87,2,  -999.00,9,     0.01,2,     0.00,2,     0.00,2, -999.000,9, -999.000,9,  -999.00,9,   1964.4,2,   -999.0,9,-999.0000,9,   -999.0,  9,  -999.00,9,   -999.0,  -999.00,9,  -999.00,9,     0.09,2,     0.03,2,   -999.0,-999.0000, -999,9,   75,  25.6902,  23.3254,   -999.0,9
       RF04-01,  165E,RF-2069,  1,     18,02-18572,2,20040125,1434, 19.9982, 164.9947, 5331,    100.8,  24.5036,  35.2721,2,   -999.0,9,  35.2757,4,    210.8,2,     1.13,2,  -999.00,9,     0.02,2,     0.00,2,     0.00,2, -999.000,9, -999.000,9,  -999.00,9,   1985.0,2,   -999.0,9,-999.0000,9,   -999.0,  9,  -999.00,9,   -999.0,  -999.00,9,  -999.00,9,     0.15,2,     0.09,2,   -999.0,-999.0000, -999,9,  100,  24.4820,  23.7035,   -999.0,9
       RF04-01,  165E,RF-2069,  1,     17,02-18571,2,20040125,1433, 19.9982, 164.9947, 5331,    125.6,  22.0959,  35.1519,2,   -999.0,9,-999.0000,9,    196.6,2,     1.58,2,  -999.00,9,     0.30,2,     0.06,2,     0.04,2, -999.000,9, -999.000,9,  -999.00,9,   2011.3,2,   -999.0,9,-999.0000,9,   -999.0,  9,  -999.00,9,   -999.0,  -999.00,9,  -999.00,9,     0.16,2,     0.34,2,   -999.0,-999.0000, -999,9,  125,  22.0710,  24.3133,   -999.0,9
       RF04-01,  165E,RF-2069,  1,     16,02-18570,2,20040125,1432, 19.9982, 164.9947, 5331,    152.2,  20.7691,  35.0711,2,   -999.0,9,-999.0000,9,    197.6,2,     1.83,2,  -999.00,9,     0.71,2,     0.16,2,     0.07,2, -999.000,9, -999.000,9,  -999.00,9,   2019.1,2,   -999.0,9,-999.0000,9,   -999.0,  9,  -999.00,9,   -999.0,  -999.00,9,  -999.00,9,     0.10,2,     0.25,2,   -999.0,-999.0000, -999,9,  151,  20.7402,  24.6185,   -999.0,9
       RF04-01,  165E,RF-2069,  1,     15,02-18569,2,20040125,1430, 19.9982, 164.9947, 5331,    201.0,  18.3734,  34.8583,2,   -999.0,9,  34.8591,2,    196.1,2,     3.17,2,  -999.00,9,     3.42,2,     0.01,2,     0.23,2, -999.000,9, -999.000,9,  -999.00,9,   2035.9,2,   -999.0,9,-999.0000,9,   -999.0,  9,  -999.00,9,   -999.0,  -999.00,9,  -999.00,9,     0.03,2,     0.06,2,   -999.0,-999.0000, -999,9,  200,  18.3384,  25.0797,   -999.0,9
       RF04-01,  165E,RF-2069,  1,     14,02-18568,2,20040125,1428, 19.9982, 164.9947, 5331,    251.9,  16.0692,  34.6411,2,   -999.0,9,-999.0000,9,    191.9,2,     6.09,2,  -999.00,9,     7.19,2,     0.00,2,     0.49,2, -999.000,9, -999.000,9,  -999.00,9,   2057.4,2,   -999.0,9,-999.0000,9,   -999.0,  9,  -999.00,9,   -999.0,  -999.00,9,  -999.00,9,  -999.00,9,  -999.00,9,   -999.0,-999.0000, -999,9,  250,  16.0293,  25.4649,   -999.0,9
       RF04-01,  165E,RF-2069,  1,     13,02-18567,2,20040125,1426, 19.9982, 164.9947, 5331,    303.0,  14.2002,  34.4905,2,   -999.0,9,  34.4935,2,    198.7,2,     9.44,2,  -999.00,9,     9.78,2,     0.00,2,     0.63,2, -999.000,9, -999.000,9,  -999.00,9,   2061.5,2,   -999.0,9,-999.0000,9,   -999.0,  9,  -999.00,9,   -999.0,  -999.00,9,  -999.00,9,  -999.00,9,  -999.00,9,   -999.0,-999.0000, -999,9,  301,  14.1560,  25.7605,   -999.0,9
       RF04-01,  165E,RF-2069,  1,     12,02-18566,2,20040125,1424, 19.9982, 164.9947, 5331,    403.2,  11.0574,  34.2774,2,   -999.0,9,  34.2730,4,    193.4,2,    18.94,2,  -999.00,9,    15.85,2,     0.00,2,     1.05,2, -999.000,9, -999.000,9,  -999.00,9,   2101.1,2,   -999.0,9,-999.0000,9,   -999.0,  9,  -999.00,9,   -999.0,  -999.00,9,  -999.00,9,  -999.00,9,  -999.00,9,   -999.0,-999.0000, -999,9,  400,  11.0075,  26.2115,   -999.0,9
       RF04-01,  165E,RF-2069,  1,     11,02-18565,2,20040125,1421, 19.9982, 164.9947, 5331,    504.3,   8.0816,  34.1248,2,   -999.0,9,  34.1248,2,    135.9,2,    40.07,2,  -999.00,9,    26.54,2,     0.00,2,     1.85,2, -999.000,9, -999.000,9,  -999.00,9,   2181.9,2,   -999.0,9,-999.0000,9,   -999.0,  9,  -999.00,9,   -999.0,  -999.00,9,  -999.00,9,  -999.00,9,  -999.00,9,   -999.0,-999.0000, -999,9,  501,   8.0299,  26.5820,   -999.0,9
       RF04-01,  165E,RF-2069,  1,     10,02-18564,2,20040125,1419, 19.9982, 164.9947, 5331,    604.8,   6.3826,  34.1367,2,   -999.0,9,  34.1389,2,     85.7,2,    62.78,2,  -999.00,9,    34.06,2,     0.00,2,     2.44,2, -999.000,9, -999.000,9,  -999.00,9,   2249.2,6,   -999.0,9,-999.0000,9,   -999.0,  9,  -999.00,9,   -999.0,  -999.00,9,  -999.00,9,  -999.00,9,  -999.00,9,   -999.0,-999.0000, -999,9,  600,   6.3279,  26.8285,   -999.0,9
       RF04-01,  165E,RF-2069,  1,      9,02-18563,2,20040125,1416, 19.9982, 164.9947, 5331,    706.1,   5.1303,  34.2236,2,   -999.0,9,  34.2265,2,     52.8,2,    85.54,2,  -999.00,9,    38.95,2,     0.00,2,     2.81,2, -999.000,9, -999.000,9,  -999.00,9,   2296.7,2,   -999.0,9,-999.0000,9,   -999.0,  9,  -999.00,9,   -999.0,  -999.00,9,  -999.00,9,  -999.00,9,  -999.00,9,   -999.0,-999.0000, -999,9,  701,   5.0726,  27.0513,   -999.0,9
       RF04-01,  165E,RF-2069,  1,      8,02-18562,2,20040125,1414, 19.9982, 164.9947, 5331,    806.8,   4.5487,  34.3388,2,   -999.0,9,  34.3404,2,     45.1,2,    98.10,2,  -999.00,9,    40.63,2,     0.00,2,     2.93,2, -999.000,9, -999.000,9,  -999.00,9,   2320.4,2,   -999.0,9,-999.0000,9,   -999.0,  9,  -999.00,9,   -999.0,  -999.00,9,  -999.00,9,  -999.00,9,  -999.00,9,   -999.0,-999.0000, -999,9,  800,   4.4856,  27.2087,   -999.0,9
       RF04-01,  165E,RF-2069,  1,      7,02-18561,2,20040125,1411, 19.9982, 164.9947, 5331,    907.8,   4.2017,  34.4297,2,   -999.0,9,-999.0000,9,     51.6,2,   104.75,2,  -999.00,9,    40.74,2,     0.00,2,     2.92,2, -999.000,9, -999.000,9,  -999.00,9,   2329.1,2,   -999.0,9,-999.0000,9,   -999.0,  9,  -999.00,9,   -999.0,  -999.00,9,  -999.00,9,  -999.00,9,  -999.00,9,   -999.0,-999.0000, -999,9,  900,   4.1323,  27.3187,   -999.0,9
       RF04-01,  165E,RF-2069,  1,      6,02-18560,2,20040125,1408, 19.9982, 164.9947, 5331,   1008.2,   3.8991,  34.4781,2,   -999.0,9,-999.0000,9,   -999.0,9,  -999.00,9,  -999.00,9,  -999.00,9,  -999.00,9,  -999.00,9, -999.000,9, -999.000,9,  -999.00,9,   -999.0,9,   -999.0,9,-999.0000,9,   -999.0,  9,  -999.00,9,   -999.0,  -999.00,9,  -999.00,9,  -999.00,9,  -999.00,9,   -999.0,-999.0000, -999,9, 1000,   3.8236,  27.3891,   -999.0,9
       RF04-01,  165E,RF-2069,  1,      5,02-18559,2,20040125,1408, 19.9982, 164.9947, 5331,   1009.2,   3.8991,  34.4778,2,   -999.0,9,  34.4776,2,     60.0,2,   110.59,2,  -999.00,9,    40.49,2,     0.00,2,     2.90,2, -999.000,9, -999.000,9,  -999.00,9,   2329.5,2,   -999.0,9,-999.0000,9,   -999.0,  9,  -999.00,9,   -999.0,  -999.00,9,  -999.00,9,  -999.00,9,  -999.00,9,   -999.0,-999.0000, -999,9, 1001,   3.8235,  27.3888,   -999.0,9
       RF04-01,  165E,RF-2069,  1,      4,02-18558,2,20040125,1403, 19.9982, 164.9947, 5331,   1262.5,   3.1480,  34.5466,2,   -999.0,9,  34.5466,2,     77.1,2,   124.22,2,  -999.00,9,    40.08,2,     0.00,2,     2.82,2, -999.000,9, -999.000,9,  -999.00,9,   2339.5,6,   -999.0,9,-999.0000,9,   -999.0,  9,  -999.00,9,   -999.0,  -999.00,9,  -999.00,9,  -999.00,9,  -999.00,9,   -999.0,-999.0000, -999,9, 1251,   3.0582,  27.5178,   -999.0,9
       RF04-01,  165E,RF-2069,  1,      3,02-18557,2,20040125,1357, 19.9982, 164.9947, 5331,   1514.6,   2.6924,  34.5740,2,   -999.0,9,  34.5739,2,     83.7,2,   132.78,2,  -999.00,9,    39.88,2,     0.00,2,     2.80,2, -999.000,9, -999.000,9,  -999.00,9,   2344.5,2,   -999.0,9,-999.0000,9,   -999.0,  9,  -999.00,9,   -999.0,  -999.00,9,  -999.00,9,  -999.00,9,  -999.00,9,   -999.0,-999.0000, -999,9, 1500,   2.5869,  27.5818,   -999.0,9
       RF04-01,  165E,RF-2069,  1,      2,02-18556,2,20040125,1352, 19.9982, 164.9947, 5331,   1769.0,   2.2822,  34.6009,2,   -999.0,9,  34.6011,2,     93.8,2,   140.33,2,  -999.00,9,    39.47,2,     0.00,2,     2.76,2, -999.000,9, -999.000,9,  -999.00,9,   2347.7,2,   -999.0,9,-999.0000,9,   -999.0,  9,  -999.00,9,   -999.0,  -999.00,9,  -999.00,9,  -999.00,9,  -999.00,9,   -999.0,-999.0000, -999,9, 1751,   2.1610,  27.6390,   -999.0,9
       RF04-01,  165E,RF-2069,  1,      1,02-18555,2,20040125,1346, 19.9982, 164.9947, 5331,   2044.3,   1.9751,  34.6264,2,   -999.0,9,  34.6263,2,    104.8,2,   145.06,2,  -999.00,9,    39.02,2,     0.00,2,     2.71,2, -999.000,9, -999.000,9,  -999.00,9,   2348.0,2,   -999.0,9,-999.0000,9,   -999.0,  9,  -999.00,9,   -999.0,  -999.00,9,  -999.00,9,  -999.00,9,  -999.00,9,   -999.0,-999.0000, -999,9, 2022,   1.8353,  27.6852,   -999.0,9