BOTTLE,20130510GEMDJMAYT
EXPOCODE,SECT_ID,STNNBR,CASTNO,SAMPNO,BTLNBR,BTLNBR_FLAG_W,DATE,TIME,LATITUDE,LONGITUDE,DEPTH,CTDPRS,CTDTMP,CTDSAL,CTDSAL_FLAG_W,CTDOXY,CTDOXY_FLAG_W,SALNTY,SALNTY_FLAG_W,OXYGEN,OXYGEN_FLAG_W,SILCAT,SILCAT_FLAG_W,NITRAT,NITRAT_FLAG_W,NO2+NO3,NO2+NO3_FLAG_W,NITRIT,NITRIT_FLAG_W,PHSPHT,PHSPHT_FLAG_W,CFC-11,CFC-11_FLAG_W,CFC-12,CFC-12_FLAG_W,DELC13,DELC13_FLAG_W,TCARBN,TCARBN_FLAG_W,ALKALI,ALKALI_FLAG_W,PH,PH_FLAG_W,PH_TMP,PH_SCALE,PH_NBS,PH_NBS_FLAG_W,C13ERR,TOTALP,TOTALP_FLAG_W,AMMONI,AMMONI_FLAG_W,CHLORA,CHLORA_FLAG_W,PPHYTN,PPHYTN_FLAG_W,REVPRS,REVTMP,DEPTH_,DEPTH_FLAG,CTDDEP,THETA,SIGTHT,DOC,DOC_FLAG_W
,,,,,,,GMT,GMT,,,METER,DBAR,ITS-90,PSS-78,,UMOL/KG,,PSS-78,,UMOL/KG,,UMOL/KG,,UMOL/KG,,UMOL/KG,,UMOL/KG,,UMOL/KG,,PMOL/KG,,PMOL/KG,,/MILLE,,UMOL/KG,,UMOL/KG,,25_DEG_C,,DEG_C,,,,/MILLE,UMOL/KG,,UMOL/KG,,UG/L,,UG/L,,DBAR,ITS-90,METERS,,METERS,DEG_C,,UMOL/L,
       RF04-01, EQPAC,RF-2110,  1,     -9,      -9,5,20040219,0557, -0.0142, 153.0325, 4189,      0.0,  29.8306,  34.1398,2,   -999.0,9,-999.0000,9,    194.7,2,     1.46,2,  -999.00,9,     0.06,2,     0.00,2,     0.06,2, -999.000,9, -999.000,9,  -999.00,9,   1896.3,2,   -999.0,9,-999.0000,9,   -999.0,  9,  -999.00,9,   -999.0,  -999.00,9,  -999.00,9,     0.11,2,     0.04,2,   -999.0,-999.0000, -999,9,    0,  29.8301,  21.1392,   -999.0,9
       RF04-01, EQPAC,RF-2110,  1,     24,02-18578,2,20040219,0555, -0.0142, 153.0325, 4189,     10.2,  29.8347,  34.1387,2,   -999.0,9,  34.1426,2,    195.7,2,     1.39,2,  -999.00,9,     0.02,2,     0.00,2,     0.07,2, -999.000,9, -999.000,9,  -999.00,9,   1893.0,2,   -999.0,9,-999.0000,9,   -999.0,  9,  -999.00,9,   -999.0,  -999.00,9,  -999.00,9,     0.10,2,     0.03,2,   -999.0,-999.0000, -999,9,   10,  29.8322,  21.1376,   -999.0,9
       RF04-01, EQPAC,RF-2110,  1,     23,02-18577,2,20040219,0554, -0.0142, 153.0325, 4189,     25.6,  29.7357,  34.1343,2,   -999.0,9,-999.0000,9,    193.2,2,     1.36,2,  -999.00,9,     0.00,2,     0.00,2,     0.07,2, -999.000,9, -999.000,9,  -999.00,9,   1890.1,2,   -999.0,9,-999.0000,9,   -999.0,  9,  -999.00,9,   -999.0,  -999.00,9,  -999.00,9,     0.11,2,     0.03,2,   -999.0,-999.0000, -999,9,   25,  29.7294,  21.1692,   -999.0,9
       RF04-01, EQPAC,RF-2110,  1,     22,02-18576,2,20040219,0553, -0.0142, 153.0325, 4189,     51.5,  29.7332,  34.1443,2,   -999.0,9,-999.0000,9,    195.9,2,     1.38,2,  -999.00,9,     0.01,2,     0.00,2,     0.07,2, -999.000,9, -999.000,9,  -999.00,9,   1893.7,2,   -999.0,9,-999.0000,9,   -999.0,  9,  -999.00,9,   -999.0,  -999.00,9,  -999.00,9,     0.14,2,     0.06,2,   -999.0,-999.0000, -999,9,   51,  29.7205,  21.1797,   -999.0,9
       RF04-01, EQPAC,RF-2110,  1,     21,02-18575,2,20040219,0552, -0.0142, 153.0325, 4189,     76.1,  29.6930,  34.2119,2,   -999.0,9,-999.0000,9,    198.4,2,     1.41,2,  -999.00,9,     0.04,2,     0.00,2,     0.07,2, -999.000,9, -999.000,9,  -999.00,9,   1900.7,2,   -999.0,9,-999.0000,9,   -999.0,  9,  -999.00,9,   -999.0,  -999.00,9,  -999.00,9,     0.27,2,     0.13,2,   -999.0,-999.0000, -999,9,   76,  29.6743,  21.2460,   -999.0,9
       RF04-01, EQPAC,RF-2110,  1,     20,02-18574,2,20040219,0551, -0.0142, 153.0325, 4189,     98.8,  27.5772,  34.8604,2,   -999.0,9,  34.9501,4,    158.2,2,     2.76,2,  -999.00,9,     3.94,2,     0.09,2,     0.37,2, -999.000,9, -999.000,9,  -999.00,9,   2007.6,2,   -999.0,9,-999.0000,9,   -999.0,  9,  -999.00,9,   -999.0,  -999.00,9,  -999.00,9,     0.40,2,     0.40,2,   -999.0,-999.0000, -999,9,   98,  27.5542,  22.4346,   -999.0,9
       RF04-01, EQPAC,RF-2110,  1,     19,02-18573,2,20040219,0550, -0.0142, 153.0325, 4189,    126.2,  23.1642,  35.3155,2,   -999.0,9,-999.0000,9,    135.7,2,     4.56,2,  -999.00,9,     9.58,2,     0.02,2,     0.71,2, -999.000,9, -999.000,9,  -999.00,9,   2075.8,2,   -999.0,9,-999.0000,9,   -999.0,  9,  -999.00,9,   -999.0,  -999.00,9,  -999.00,9,     0.08,2,     0.23,2,   -999.0,-999.0000, -999,9,  125,  23.1383,  24.1329,   -999.0,9
       RF04-01, EQPAC,RF-2110,  1,     18,02-18572,2,20040219,0549, -0.0142, 153.0325, 4189,    151.9,  21.7905,  35.4276,2,   -999.0,9,-999.0000,9,    137.0,2,     4.89,2,  -999.00,9,    10.22,2,     0.01,2,     0.76,2, -999.000,9, -999.000,9,  -999.00,9,   2087.5,2,   -999.0,9,-999.0000,9,   -999.0,  9,  -999.00,9,   -999.0,  -999.00,9,  -999.00,9,     0.04,2,     0.09,2,   -999.0,-999.0000, -999,9,  151,  21.7606,  24.6097,   -999.0,9
       RF04-01, EQPAC,RF-2110,  1,     17,02-18571,2,20040219,0548, -0.0142, 153.0325, 4189,    201.0,  16.6890,  35.1323,2,   -999.0,9,  35.1640,4,    143.5,2,     9.61,2,  -999.00,9,    14.26,2,     0.00,2,     1.00,2, -999.000,9, -999.000,9,  -999.00,9,   2120.9,2,   -999.0,9,-999.0000,9,   -999.0,  9,  -999.00,9,   -999.0,  -999.00,9,  -999.00,9,     0.00,2,     0.02,2,   -999.0,-999.0000, -999,9,  200,  16.6562,  25.6971,   -999.0,9
       RF04-01, EQPAC,RF-2110,  1,     16,02-18570,2,20040219,0546, -0.0142, 153.0325, 4189,    253.0,  13.3442,  34.9901,2,   -999.0,9,-999.0000,9,    141.3,2,    14.39,2,  -999.00,9,    18.89,2,     0.00,2,     1.33,2, -999.000,9, -999.000,9,  -999.00,9,   2146.9,2,   -999.0,9,-999.0000,9,   -999.0,  9,  -999.00,9,   -999.0,  -999.00,9,  -999.00,9,  -999.00,9,  -999.00,9,   -999.0,-999.0000, -999,9,  251,  13.3087,  26.3227,   -999.0,9
       RF04-01, EQPAC,RF-2110,  1,     15,02-18569,2,20040219,0544, -0.0142, 153.0325, 4189,    304.2,  12.1116,  34.8677,2,   -999.0,9,  34.8682,2,    131.4,2,    19.04,2,  -999.00,9,    22.26,2,     0.00,2,     1.54,2, -999.000,9, -999.000,9,  -999.00,9,   2165.2,2,   -999.0,9,-999.0000,9,   -999.0,  9,  -999.00,9,   -999.0,  -999.00,9,  -999.00,9,  -999.00,9,  -999.00,9,   -999.0,-999.0000, -999,9,  302,  12.0716,  26.4727,   -999.0,9
       RF04-01, EQPAC,RF-2110,  1,     14,02-18568,2,20040219,0542, -0.0142, 153.0325, 4189,    403.3,   9.3353,  34.6834,2,   -999.0,9,  34.6831,2,     85.6,2,    30.82,2,  -999.00,9,    31.68,2,     0.00,2,     2.16,2, -999.000,9, -999.000,9,  -999.00,9,   2220.5,2,   -999.0,9,-999.0000,9,   -999.0,  9,  -999.00,9,   -999.0,  -999.00,9,  -999.00,9,  -999.00,9,  -999.00,9,   -999.0,-999.0000, -999,9,  401,   9.2901,  26.8233,   -999.0,9
       RF04-01, EQPAC,RF-2110,  1,     13,02-18567,2,20040219,0539, -0.0142, 153.0325, 4189,    504.4,   8.9236,  34.6534,2,   -999.0,9,  34.6485,2,     98.7,2,    31.86,2,  -999.00,9,    31.18,2,     0.00,2,     2.13,2, -999.000,9, -999.000,9,  -999.00,9,   -999.0,9,   -999.0,9,-999.0000,9,   -999.0,  9,  -999.00,9,   -999.0,  -999.00,9,  -999.00,9,  -999.00,9,  -999.00,9,   -999.0,-999.0000, -999,9,  501,   8.8684,  26.8678,   -999.0,9
       RF04-01, EQPAC,RF-2110,  1,     12,02-18566,2,20040219,0536, -0.0142, 153.0325, 4189,    605.0,   7.1802,  34.5721,2,   -999.0,9,  34.5722,2,     87.8,2,    44.27,2,  -999.00,9,    35.29,2,     0.00,2,     2.46,2, -999.000,9, -999.000,9,  -999.00,9,   2246.2,2,   -999.0,9,-999.0000,9,   -999.0,  9,  -999.00,9,   -999.0,  -999.00,9,  -999.00,9,  -999.00,9,  -999.00,9,   -999.0,-999.0000, -999,9,  601,   7.1214,  27.0648,   -999.0,9
       RF04-01, EQPAC,RF-2110,  1,     11,02-18565,2,20040219,0534, -0.0142, 153.0325, 4189,    706.8,   6.3211,  34.5463,2,   -999.0,9,  34.5464,2,     93.9,2,    52.30,2,  -999.00,9,    36.32,2,     0.00,2,     2.55,2, -999.000,9, -999.000,9,  -999.00,9,   -999.0,9,   -999.0,9,-999.0000,9,   -999.0,  9,  -999.00,9,   -999.0,  -999.00,9,  -999.00,9,  -999.00,9,  -999.00,9,   -999.0,-999.0000, -999,9,  702,   6.2566,  27.1612,   -999.0,9
       RF04-01, EQPAC,RF-2110,  1,     10,02-18564,2,20040219,0531, -0.0142, 153.0325, 4189,    807.7,   5.7862,  34.5422,2,   -999.0,9,  34.5413,2,     90.1,2,    60.52,2,  -999.00,9,    37.46,2,     0.00,2,     2.64,2, -999.000,9, -999.000,9,  -999.00,9,   2263.6,2,   -999.0,9,-999.0000,9,   -999.0,  9,  -999.00,9,   -999.0,  -999.00,9,  -999.00,9,  -999.00,9,  -999.00,9,   -999.0,-999.0000, -999,9,  802,   5.7151,  27.2267,   -999.0,9
       RF04-01, EQPAC,RF-2110,  1,      9,02-18563,2,20040219,0526, -0.0142, 153.0325, 4189,   1008.7,   4.5978,  34.5502,2,   -999.0,9,  34.5507,2,     98.1,2,    82.09,2,  -999.00,9,    38.03,2,     0.00,2,     2.70,2, -999.000,9, -999.000,9,  -999.00,9,   2284.5,6,   -999.0,9,-999.0000,9,   -999.0,  9,  -999.00,9,   -999.0,  -999.00,9,  -999.00,9,  -999.00,9,  -999.00,9,   -999.0,-999.0000, -999,9, 1001,   4.5167,  27.3732,   -999.0,9
       RF04-01, EQPAC,RF-2110,  1,      8,02-18562,2,20040219,0521, -0.0142, 153.0325, 4189,   1261.5,   3.6307,  34.5738,2,   -999.0,9,-999.0000,9,    106.3,2,    99.78,2,  -999.00,9,    38.08,2,     0.00,2,     2.70,2, -999.000,9, -999.000,9,  -999.00,9,   -999.0,9,   -999.0,9,-999.0000,9,   -999.0,  9,  -999.00,9,   -999.0,  -999.00,9,  -999.00,9,  -999.00,9,  -999.00,9,   -999.0,-999.0000, -999,9, 1251,   3.5362,  27.4940,   -999.0,9
       RF04-01, EQPAC,RF-2110,  1,      7,02-18561,2,20040219,0515, -0.0142, 153.0325, 4189,   1513.0,   3.1323,  34.5975,2,   -999.0,9,  34.5977,2,    100.8,2,   114.74,2,  -999.00,9,    39.23,2,     0.00,2,     2.77,2, -999.000,9, -999.000,9,  -999.00,9,   -999.0,9,   -999.0,9,-999.0000,9,   -999.0,  9,  -999.00,9,   -999.0,  -999.00,9,  -999.00,9,  -999.00,9,  -999.00,9,   -999.0,-999.0000, -999,9, 1499,   3.0218,  27.5618,   -999.0,9
       RF04-01, EQPAC,RF-2110,  1,      6,02-18560,2,20040219,0505, -0.0142, 153.0325, 4189,   2021.0,   2.2243,  34.6382,2,   -999.0,9,  34.6373,2,    119.5,2,   132.48,2,  -999.00,9,    38.22,2,     0.00,2,     2.67,2, -999.000,9, -999.000,9,  -999.00,9,   -999.0,9,   -999.0,9,-999.0000,9,   -999.0,  9,  -999.00,9,   -999.0,  -999.00,9,  -999.00,9,  -999.00,9,  -999.00,9,   -999.0,-999.0000, -999,9, 2000,   2.0826,  27.6752,   -999.0,9
       RF04-01, EQPAC,RF-2110,  1,      5,02-18559,2,20040219,0455, -0.0142, 153.0325, 4189,   2528.9,   1.8080,  34.6598,2,   -999.0,9,  34.6595,2,    133.1,2,   139.85,2,  -999.00,9,    37.59,2,     0.00,2,     2.60,2, -999.000,9, -999.000,9,  -999.00,9,   -999.0,9,   -999.0,9,-999.0000,9,   -999.0,  9,  -999.00,9,   -999.0,  -999.00,9,  -999.00,9,  -999.00,9,  -999.00,9,   -999.0,-999.0000, -999,9, 2500,   1.6286,  27.7277,   -999.0,9
       RF04-01, EQPAC,RF-2110,  1,      4,02-18558,2,20040219,0445, -0.0142, 153.0325, 4189,   3038.9,   1.6267,  34.6719,2,   -999.0,9,  34.6719,2,    140.1,2,   141.10,2,  -999.00,9,    36.89,2,     0.00,2,     2.53,2, -999.000,9, -999.000,9,  -999.00,9,   -999.0,9,   -999.0,9,-999.0000,9,   -999.0,  9,  -999.00,9,   -999.0,  -999.00,9,  -999.00,9,  -999.00,9,  -999.00,9,   -999.0,-999.0000, -999,9, 3001,   1.4034,  27.7538,   -999.0,9
       RF04-01, EQPAC,RF-2110,  1,      3,02-18557,2,20040219,0435, -0.0142, 153.0325, 4189,   3550.3,   1.5690,  34.6789,2,   -999.0,9,  34.6790,2,    146.5,2,   140.35,2,  -999.00,9,    36.54,2,     0.00,2,     2.51,2, -999.000,9, -999.000,9,  -999.00,9,   -999.0,9,   -999.0,9,-999.0000,9,   -999.0,  9,  -999.00,9,   -999.0,  -999.00,9,  -999.00,9,  -999.00,9,  -999.00,9,   -999.0,-999.0000, -999,9, 3501,   1.2959,  27.7671,   -999.0,9
       RF04-01, EQPAC,RF-2110,  1,      2,02-18556,2,20040219,0424, -0.0142, 153.0325, 4189,   4060.7,   1.5497,  34.6838,2,   -999.0,9,  34.6831,2,    151.6,2,   139.15,2,  -999.00,9,    36.18,2,     0.00,2,     2.48,2, -999.000,9, -999.000,9,  -999.00,9,   -999.0,9,   -999.0,9,-999.0000,9,   -999.0,  9,  -999.00,9,   -999.0,  -999.00,9,  -999.00,9,  -999.00,9,  -999.00,9,   -999.0,-999.0000, -999,9, 4000,   1.2227,  27.7762,   -999.0,9
       RF04-01, EQPAC,RF-2110,  1,      1,02-18555,2,20040219,0422, -0.0142, 153.0325, 4189,   4164.5,   1.5390,  34.6852,2,   -999.0,9,  34.6849,2,    153.3,2,   139.27,2,  -999.00,9,    36.05,2,     0.00,2,     2.46,2, -999.000,9, -999.000,9,  -999.00,9,   -999.0,9,   -999.0,9,-999.0000,9,   -999.0,  9,  -999.00,9,   -999.0,  -999.00,9,  -999.00,9,  -999.00,9,  -999.00,9,   -999.0,-999.0000, -999,9, 4101,   1.2008,  27.7788,   -999.0,9