BOTTLE,20130510GEMDJMAYT
# 05/09/2013: Correct the error of converted time from JST to GMT.
#BOTTLE,20121206MIRCJHATS
# 12/06/2012: Change BTLNBR_FLAG_W: 8 to 5 at lines of BTLNBR = -9.
# 06/20/2006: updated
# 10/06/2006: updated for the QF of OXYGEN
# 08/14/2008: pH(TOTAL HYDROGEN SCALE) data reviced
# 08/20/2008: SECT_ID was revised fot the stations RF-2079,2081
# 08/28/2008: TCARBN data updated
# 02/19/2009 : pH scale specified in header.
# 02/19/2009 : NO2+NO3 label corrected in header.
# 04/05/2010 : pH scale specified in header, corrected for QF of CTDSAL (5 -> 2), converted time from JST to GMT
EXPOCODE,SECT_ID,STNNBR,CASTNO,SAMPNO,BTLNBR,BTLNBR_FLAG_W,DATE,TIME,LATITUDE,LONGITUDE,DEPTH,CTDPRS,CTDTMP,CTDSAL,CTDSAL_FLAG_W,CTDOXY,CTDOXY_FLAG_W,SALNTY,SALNTY_FLAG_W,OXYGEN,OXYGEN_FLAG_W,SILCAT,SILCAT_FLAG_W,NITRAT,NITRAT_FLAG_W,NO2+NO3,NO2+NO3_FLAG_W,NITRIT,NITRIT_FLAG_W,PHSPHT,PHSPHT_FLAG_W,CFC-11,CFC-11_FLAG_W,CFC-12,CFC-12_FLAG_W,DELC13,DELC13_FLAG_W,TCARBN,TCARBN_FLAG_W,ALKALI,ALKALI_FLAG_W,PH,PH_FLAG_W,PH_TMP,PH_SCALE,PH_NBS,PH_NBS_FLAG_W,C13ERR,TOTALP,TOTALP_FLAG_W,AMMONI,AMMONI_FLAG_W,CHLORA,CHLORA_FLAG_W,PPHYTN,PPHYTN_FLAG_W,REVPRS,REVTMP,DEPTH_,DEPTH_FLAG,CTDDEP,THETA,SIGTHT,DOC,DOC_FLAG_W
,,,,,,,GMT,GMT,,,METER,DBAR,ITS-90,PSS-78,,UMOL/KG,,PSS-78,,UMOL/KG,,UMOL/KG,,UMOL/KG,,UMOL/KG,,UMOL/KG,,UMOL/KG,,PMOL/KG,,PMOL/KG,,/MILLE,,UMOL/KG,,UMOL/KG,,25_DEG_C,,DEG_C,,,,/MILLE,UMOL/KG,,UMOL/KG,,UG/L,,UG/L,,DBAR,ITS-90,METERS,,METERS,DEG_C,,UMOL/L,
       RF04-01,  137E,RF-2047,  1,     -9,      -9,5,20040117,0950, 24.2587, 136.9982, 4536,      0.0,  23.4613,  34.9569,2,   -999.0,9,-999.0000,9,    212.6,2,     1.52,2,  -999.00,9,     0.12,2,     0.01,2,     0.06,2, -999.000,9, -999.000,9,  -999.00,9,   -999.0,9,   -999.0,9,-999.0000,9,   -999.0,  9,  -999.00,9,   -999.0,  -999.00,9,  -999.00,9,     0.16,2,     0.06,2,   -999.0,-999.0000, -999,9,    0,  23.4608,  23.7673,   -999.0,9
       RF04-01,  137E,RF-2047,  1,     21,02-18575,2,20040117,0948, 24.2587, 136.9982, 4536,     10.6,  23.4658,  34.9567,2,   -999.0,9,  34.9568,2,    209.4,2,     1.44,2,  -999.00,9,     0.00,2,     0.00,2,     0.00,2, -999.000,9, -999.000,9,  -999.00,9,   -999.0,9,   -999.0,9,-999.0000,9,   -999.0,  9,  -999.00,9,   -999.0,  -999.00,9,  -999.00,9,     0.16,2,     0.08,2,   -999.0,-999.0000, -999,9,   11,  23.4636,  23.7663,   -999.0,9
       RF04-01,  137E,RF-2047,  1,     20,02-18574,2,20040117,0947, 24.2587, 136.9982, 4536,     25.3,  23.4730,  34.9563,2,   -999.0,9,-999.0000,9,    210.3,2,     1.47,2,  -999.00,9,     0.12,2,     0.00,2,     0.06,2, -999.000,9, -999.000,9,  -999.00,9,   -999.0,9,   -999.0,9,-999.0000,9,   -999.0,  9,  -999.00,9,   -999.0,  -999.00,9,  -999.00,9,     0.15,2,     0.07,2,   -999.0,-999.0000, -999,9,   25,  23.4678,  23.7648,   -999.0,9
       RF04-01,  137E,RF-2047,  1,     19,02-18573,2,20040117,0945, 24.2587, 136.9982, 4536,     50.9,  23.4791,  34.9563,2,   -999.0,9,-999.0000,9,    209.8,2,     1.44,2,  -999.00,9,     0.00,2,     0.00,2,     0.00,2, -999.000,9, -999.000,9,  -999.00,9,   -999.0,9,   -999.0,9,-999.0000,9,   -999.0,  9,  -999.00,9,   -999.0,  -999.00,9,  -999.00,9,     0.16,2,     0.07,2,   -999.0,-999.0000, -999,9,   51,  23.4686,  23.7645,   -999.0,9
       RF04-01,  137E,RF-2047,  1,     18,02-18572,3,20040117,0944, 24.2587, 136.9982, 4536,     75.7,  23.4770,  34.9557,2,   -999.0,9,-999.0000,9,    212.2,2,     1.47,2,  -999.00,9,     0.00,2,     0.00,2,     0.00,2, -999.000,9, -999.000,9,  -999.00,9,   -999.0,9,   -999.0,9,-999.0000,9,   -999.0,  9,  -999.00,9,   -999.0,  -999.00,9,  -999.00,9,     0.16,2,     0.07,2,   -999.0,-999.0000, -999,9,   75,  23.4613,  23.7662,   -999.0,9
       RF04-01,  137E,RF-2047,  1,     17,02-18571,2,20040117,0943, 24.2587, 136.9982, 4536,    101.3,  23.3922,  34.9667,2,   -999.0,9,  34.9697,2,    211.3,2,     1.48,2,  -999.00,9,     0.00,2,     0.01,2,     0.00,2, -999.000,9, -999.000,9,  -999.00,9,   -999.0,9,   -999.0,9,-999.0000,9,   -999.0,  9,  -999.00,9,   -999.0,  -999.00,9,  -999.00,9,     0.19,2,     0.15,2,   -999.0,-999.0000, -999,9,  101,  23.3713,  23.8008,   -999.0,9
       RF04-01,  137E,RF-2047,  1,     16,02-18570,2,20040117,0941, 24.2587, 136.9982, 4536,    126.1,  21.8728,  34.9356,2,   -999.0,9,-999.0000,9,    201.9,2,     1.99,2,  -999.00,9,     0.89,2,     0.04,2,     0.06,2, -999.000,9, -999.000,9,  -999.00,9,   -999.0,9,   -999.0,9,-999.0000,9,   -999.0,  9,  -999.00,9,   -999.0,  -999.00,9,  -999.00,9,     0.08,2,     0.18,2,   -999.0,-999.0000, -999,9,  125,  21.8480,  24.2113,   -999.0,9
       RF04-01,  137E,RF-2047,  1,     15,02-18569,2,20040117,0940, 24.2587, 136.9982, 4536,    150.9,  19.9545,  34.8884,2,   -999.0,9,-999.0000,9,    197.9,2,     2.45,2,  -999.00,9,     2.04,2,     0.01,2,     0.14,2, -999.000,9, -999.000,9,  -999.00,9,   -999.0,9,   -999.0,9,-999.0000,9,   -999.0,  9,  -999.00,9,   -999.0,  -999.00,9,  -999.00,9,     0.03,2,     0.06,2,   -999.0,-999.0000, -999,9,  150,  19.9267,  24.6959,   -999.0,9
       RF04-01,  137E,RF-2047,  1,     14,02-18568,2,20040117,0938, 24.2587, 136.9982, 4536,    202.0,  18.6655,  34.8274,2,   -999.0,9,  34.8229,2,    200.0,2,     3.14,2,  -999.00,9,     3.40,2,     0.00,2,     0.21,2, -999.000,9, -999.000,9,  -999.00,9,   -999.0,9,   -999.0,9,-999.0000,9,   -999.0,  9,  -999.00,9,   -999.0,  -999.00,9,  -999.00,9,     0.01,2,     0.01,2,   -999.0,-999.0000, -999,9,  201,  18.6299,  24.9830,   -999.0,9
       RF04-01,  137E,RF-2047,  1,     13,02-18567,2,20040117,0937, 24.2587, 136.9982, 4536,    252.2,  17.4632,  34.7525,2,   -999.0,9,-999.0000,9,    203.2,2,     4.29,2,  -999.00,9,     4.92,2,     0.00,2,     0.31,2, -999.000,9, -999.000,9,  -999.00,9,   -999.0,9,   -999.0,9,-999.0000,9,   -999.0,  9,  -999.00,9,   -999.0,  -999.00,9,  -999.00,9,  -999.00,9,  -999.00,9,   -999.0,-999.0000, -999,9,  250,  17.4208,  25.2236,   -999.0,9
       RF04-01,  137E,RF-2047,  1,     12,02-18566,2,20040117,0935, 24.2587, 136.9982, 4536,    302.8,  16.3971,  34.6864,2,   -999.0,9,  34.6890,2,   -999.0,4,     6.26,2,  -999.00,9,     6.93,2,     0.00,2,     0.45,2, -999.000,9, -999.000,9,  -999.00,9,   -999.0,9,   -999.0,9,-999.0000,9,   -999.0,  9,  -999.00,9,   -999.0,  -999.00,9,  -999.00,9,  -999.00,9,  -999.00,9,   -999.0,-999.0000, -999,9,  301,  16.3483,  25.4263,   -999.0,9
       RF04-01,  137E,RF-2047,  1,     11,02-18565,2,20040117,0932, 24.2587, 136.9982, 4536,    403.4,  14.4927,  34.5513,2,   -999.0,9,  34.5507,2,    187.7,2,    10.88,2,  -999.00,9,    10.61,2,     0.00,2,     0.69,2, -999.000,9, -999.000,9,  -999.00,9,   -999.0,9,   -999.0,9,-999.0000,9,   -999.0,  9,  -999.00,9,   -999.0,  -999.00,9,  -999.00,9,  -999.00,9,  -999.00,9,   -999.0,-999.0000, -999,9,  400,  14.4329,  25.7487,   -999.0,9
       RF04-01,  137E,RF-2047,  1,     10,02-18564,2,20040117,0930, 24.2587, 136.9982, 4536,    504.1,  11.8568,  34.3676,2,   -999.0,9,  34.3695,2,    176.8,2,    20.11,2,  -999.00,9,    16.09,2,     0.00,2,     1.07,2, -999.000,9, -999.000,9,  -999.00,9,   -999.0,9,   -999.0,9,-999.0000,9,   -999.0,  9,  -999.00,9,   -999.0,  -999.00,9,  -999.00,9,  -999.00,9,  -999.00,9,   -999.0,-999.0000, -999,9,  500,  11.7911,  26.1374,   -999.0,9
       RF04-01,  137E,RF-2047,  1,      9,02-18563,2,20040117,0926, 24.2587, 136.9982, 4536,    605.7,   9.0907,  34.1901,2,   -999.0,9,  34.1909,2,    148.9,2,    35.09,2,  -999.00,9,    23.75,2,     0.00,2,     1.65,2, -999.000,9, -999.000,9,  -999.00,9,   -999.0,9,   -999.0,9,-999.0000,9,   -999.0,  9,  -999.00,9,   -999.0,  -999.00,9,  -999.00,9,  -999.00,9,  -999.00,9,   -999.0,-999.0000, -999,9,  601,   9.0237,  26.4802,   -999.0,9
       RF04-01,  137E,RF-2047,  1,      8,02-18562,3,20040117,0924, 24.2587, 136.9982, 4536,    706.3,   6.9196,  34.1459,2,   -999.0,9,  34.1660,4,    109.2,2,    56.80,2,  -999.00,9,    30.82,2,     0.00,2,     2.19,2, -999.000,9, -999.000,9,  -999.00,9,   -999.0,9,   -999.0,9,-999.0000,9,   -999.0,  9,  -999.00,9,   -999.0,  -999.00,9,  -999.00,9,  -999.00,9,  -999.00,9,   -999.0,-999.0000, -999,9,  701,   6.8524,  26.7661,   -999.0,9
       RF04-01,  137E,RF-2047,  1,      7,02-18561,2,20040117,0921, 24.2587, 136.9982, 4536,    806.5,   5.4694,  34.1797,2,   -999.0,9,  34.1795,2,     85.0,2,    81.65,2,  -999.00,9,    35.40,2,     0.00,2,     2.53,2, -999.000,9, -999.000,9,  -999.00,9,   -999.0,9,   -999.0,9,-999.0000,9,   -999.0,  9,  -999.00,9,   -999.0,  -999.00,9,  -999.00,9,  -999.00,9,  -999.00,9,   -999.0,-999.0000, -999,9,  800,   5.4009,  26.9780,   -999.0,9
       RF04-01,  137E,RF-2047,  1,      6,02-18560,2,20040117,0919, 24.2587, 136.9982, 4536,    909.2,   4.5797,  34.2559,2,   -999.0,9,-999.0000,9,     65.3,2,    99.49,2,  -999.00,9,    38.62,2,     0.00,2,     2.76,2, -999.000,9, -999.000,9,  -999.00,9,   -999.0,9,   -999.0,9,-999.0000,9,   -999.0,  9,  -999.00,9,   -999.0,  -999.00,9,  -999.00,9,  -999.00,9,  -999.00,9,   -999.0,-999.0000, -999,9,  901,   4.5078,  27.1404,   -999.0,9
       RF04-01,  137E,RF-2047,  1,      5,02-18559,2,20040117,0916, 24.2587, 136.9982, 4536,   1010.1,   4.1330,  34.3321,2,   -999.0,9,  34.3329,2,     56.9,2,   108.91,2,  -999.00,9,    39.72,2,     0.00,2,     2.86,2, -999.000,9, -999.000,9,  -999.00,9,   -999.0,9,   -999.0,9,-999.0000,9,   -999.0,  9,  -999.00,9,   -999.0,  -999.00,9,  -999.00,9,  -999.00,9,  -999.00,9,   -999.0,-999.0000, -999,9, 1001,   4.0557,  27.2491,   -999.0,9
       RF04-01,  137E,RF-2047,  1,      4,02-18558,2,20040117,0910, 24.2587, 136.9982, 4536,   1262.6,   3.1458,  34.4700,2,   -999.0,9,  34.4701,2,     64.5,2,   129.17,2,  -999.00,9,    40.53,2,     0.00,2,     2.88,2, -999.000,9, -999.000,9,  -999.00,9,   -999.0,9,   -999.0,9,-999.0000,9,   -999.0,  9,  -999.00,9,   -999.0,  -999.00,9,  -999.00,9,  -999.00,9,  -999.00,9,   -999.0,-999.0000, -999,9, 1251,   3.0561,  27.4569,   -999.0,9
       RF04-01,  137E,RF-2047,  1,      3,02-18557,2,20040117,0905, 24.2587, 136.9982, 4536,   1515.9,   2.6443,  34.5320,2,   -999.0,9,  34.5336,2,     82.0,2,   136.34,2,  -999.00,9,    39.76,2,     0.00,2,     2.80,2, -999.000,9, -999.000,9,  -999.00,9,   -999.0,9,   -999.0,9,-999.0000,9,   -999.0,  9,  -999.00,9,   -999.0,  -999.00,9,  -999.00,9,  -999.00,9,  -999.00,9,   -999.0,-999.0000, -999,9, 1501,   2.5394,  27.5523,   -999.0,9
       RF04-01,  137E,RF-2047,  1,      2,02-18556,2,20040117,0859, 24.2587, 136.9982, 4536,   1769.3,   2.3324,  34.5822,2,   -999.0,9,  34.5818,2,     98.3,2,   138.78,2,  -999.00,9,    38.97,2,     0.00,2,     2.73,2, -999.000,9, -999.000,9,  -999.00,9,   -999.0,9,   -999.0,9,-999.0000,9,   -999.0,  9,  -999.00,9,   -999.0,  -999.00,9,  -999.00,9,  -999.00,9,  -999.00,9,   -999.0,-999.0000, -999,9, 1751,   2.2105,  27.6200,   -999.0,9
       RF04-01,  137E,RF-2047,  1,      1,02-18555,2,20040117,0853, 24.2587, 136.9982, 4536,   2045.6,   2.0648,  34.6147,2,   -999.0,9,  34.6154,2,    112.6,2,   140.01,2,  -999.00,9,    38.26,2,     0.00,2,     2.67,2, -999.000,9, -999.000,9,  -999.00,9,   -999.0,9,   -999.0,9,-999.0000,9,   -999.0,  9,  -999.00,9,   -999.0,  -999.00,9,  -999.00,9,  -999.00,9,  -999.00,9,   -999.0,-999.0000, -999,9, 2023,   1.9236,  27.6690,   -999.0,9