BOTTLE,20130510GEMDJMAYT
EXPOCODE,SECT_ID,STNNBR,CASTNO,SAMPNO,BTLNBR,BTLNBR_FLAG_W,DATE,TIME,LATITUDE,LONGITUDE,DEPTH,CTDPRS,CTDTMP,CTDSAL,CTDSAL_FLAG_W,CTDOXY,CTDOXY_FLAG_W,SALNTY,SALNTY_FLAG_W,OXYGEN,OXYGEN_FLAG_W,SILCAT,SILCAT_FLAG_W,NITRAT,NITRAT_FLAG_W,NO2+NO3,NO2+NO3_FLAG_W,NITRIT,NITRIT_FLAG_W,PHSPHT,PHSPHT_FLAG_W,CFC-11,CFC-11_FLAG_W,CFC-12,CFC-12_FLAG_W,DELC13,DELC13_FLAG_W,TCARBN,TCARBN_FLAG_W,ALKALI,ALKALI_FLAG_W,PH,PH_FLAG_W,PH_TMP,PH_SCALE,PH_NBS,PH_NBS_FLAG_W,C13ERR,TOTALP,TOTALP_FLAG_W,AMMONI,AMMONI_FLAG_W,CHLORA,CHLORA_FLAG_W,PPHYTN,PPHYTN_FLAG_W,REVPRS,REVTMP,DEPTH_,DEPTH_FLAG,CTDDEP,THETA,SIGTHT,DOC,DOC_FLAG_W
,,,,,,,GMT,GMT,,,METER,DBAR,ITS-90,PSS-78,,UMOL/KG,,PSS-78,,UMOL/KG,,UMOL/KG,,UMOL/KG,,UMOL/KG,,UMOL/KG,,UMOL/KG,,PMOL/KG,,PMOL/KG,,/MILLE,,UMOL/KG,,UMOL/KG,,25_DEG_C,,DEG_C,,,,/MILLE,UMOL/KG,,UMOL/KG,,UG/L,,UG/L,,DBAR,ITS-90,METERS,,METERS,DEG_C,,UMOL/L,
       RF04-01,  NONE,RF-2116,  1,     -9,      -9,5,20040303,2313, 28.0987, 147.0010, 5640,      0.0,  18.4174,  34.8384,2,   -999.0,9,-999.0000,9,    233.7,2,     1.97,2,  -999.00,9,     0.57,2,     0.03,2,     0.05,2, -999.000,9, -999.000,9,  -999.00,9,   -999.0,9,   -999.0,9,-999.0000,9,   -999.0,  9,  -999.00,9,   -999.0,  -999.00,9,  -999.00,9,  -999.00,9,  -999.00,9,   -999.0,-999.0000, -999,9,    0,  18.4170,  25.0448,   -999.0,9
       RF04-01,  NONE,RF-2116,  1,     21,02-18575,2,20040303,2311, 28.0987, 147.0010, 5640,     11.0,  18.4176,  34.8390,2,   -999.0,9,-999.0000,9,    234.7,2,     1.99,2,  -999.00,9,     0.18,2,     0.03,2,     0.04,2, -999.000,9, -999.000,9,  -999.00,9,   -999.0,9,   -999.0,9,-999.0000,9,   -999.0,  9,  -999.00,9,   -999.0,  -999.00,9,  -999.00,9,  -999.00,9,  -999.00,9,   -999.0,-999.0000, -999,9,   11,  18.4157,  25.0456,   -999.0,9
       RF04-01,  NONE,RF-2116,  1,     20,02-18574,2,20040303,2310, 28.0987, 147.0010, 5640,     26.0,  18.3990,  34.8438,2,   -999.0,9,-999.0000,9,    236.6,2,     2.03,2,  -999.00,9,     0.25,2,     0.04,2,     0.04,2, -999.000,9, -999.000,9,  -999.00,9,   -999.0,9,   -999.0,9,-999.0000,9,   -999.0,  9,  -999.00,9,   -999.0,  -999.00,9,  -999.00,9,  -999.00,9,  -999.00,9,   -999.0,-999.0000, -999,9,   26,  18.3945,  25.0546,   -999.0,9
       RF04-01,  NONE,RF-2116,  1,     19,02-18573,2,20040303,2309, 28.0987, 147.0010, 5640,     51.2,  18.2998,  34.8533,2,   -999.0,9,-999.0000,9,    233.5,2,     2.04,2,  -999.00,9,     0.41,2,     0.09,2,     0.06,2, -999.000,9, -999.000,9,  -999.00,9,   -999.0,9,   -999.0,9,-999.0000,9,   -999.0,  9,  -999.00,9,   -999.0,  -999.00,9,  -999.00,9,  -999.00,9,  -999.00,9,   -999.0,-999.0000, -999,9,   51,  18.2909,  25.0877,   -999.0,9
       RF04-01,  NONE,RF-2116,  1,     18,02-18572,2,20040303,2308, 28.0987, 147.0010, 5640,     77.0,  18.1845,  34.8561,2,   -999.0,9,-999.0000,9,    234.5,2,     2.27,2,  -999.00,9,     0.59,2,     0.16,2,     0.07,2, -999.000,9, -999.000,9,  -999.00,9,   -999.0,9,   -999.0,9,-999.0000,9,   -999.0,  9,  -999.00,9,   -999.0,  -999.00,9,  -999.00,9,  -999.00,9,  -999.00,9,   -999.0,-999.0000, -999,9,   76,  18.1712,  25.1195,   -999.0,9
       RF04-01,  NONE,RF-2116,  1,     17,02-18571,2,20040303,2307, 28.0987, 147.0010, 5640,    101.8,  17.9873,  34.8397,2,   -999.0,9,  34.8387,2,    231.7,2,     2.43,2,  -999.00,9,     1.03,2,     0.35,2,     0.10,2, -999.000,9, -999.000,9,  -999.00,9,   -999.0,9,   -999.0,9,-999.0000,9,   -999.0,  9,  -999.00,9,   -999.0,  -999.00,9,  -999.00,9,  -999.00,9,  -999.00,9,   -999.0,-999.0000, -999,9,  101,  17.9699,  25.1567,   -999.0,9
       RF04-01,  NONE,RF-2116,  1,     16,02-18570,2,20040303,2306, 28.0987, 147.0010, 5640,    121.7,  17.9479,  34.8362,2,   -999.0,9,-999.0000,9,    230.2,2,     2.59,2,  -999.00,9,     1.16,2,     0.39,2,     0.10,2, -999.000,9, -999.000,9,  -999.00,9,   -999.0,9,   -999.0,9,-999.0000,9,   -999.0,  9,  -999.00,9,   -999.0,  -999.00,9,  -999.00,9,  -999.00,9,  -999.00,9,   -999.0,-999.0000, -999,9,  121,  17.9271,  25.1645,   -999.0,9
       RF04-01,  NONE,RF-2116,  1,     15,02-18569,2,20040303,2304, 28.0987, 147.0010, 5640,    152.9,  17.7184,  34.8052,2,   -999.0,9,-999.0000,9,    224.2,2,     3.04,2,  -999.00,9,     2.06,2,     0.16,2,     0.17,2, -999.000,9, -999.000,9,  -999.00,9,   -999.0,9,   -999.0,9,-999.0000,9,   -999.0,  9,  -999.00,9,   -999.0,  -999.00,9,  -999.00,9,  -999.00,9,  -999.00,9,   -999.0,-999.0000, -999,9,  152,  17.6925,  25.1982,   -999.0,9
       RF04-01,  NONE,RF-2116,  1,     14,02-18568,2,20040303,2301, 28.0987, 147.0010, 5640,    205.1,  16.8676,  34.7454,2,   -999.0,9,  34.7449,2,    211.5,2,     4.62,2,  -999.00,9,     4.01,2,     0.01,2,     0.31,2, -999.000,9, -999.000,9,  -999.00,9,   -999.0,9,   -999.0,9,-999.0000,9,   -999.0,  9,  -999.00,9,   -999.0,  -999.00,9,  -999.00,9,  -999.00,9,  -999.00,9,   -999.0,-999.0000, -999,9,  204,  16.8340,  25.3581,   -999.0,9
       RF04-01,  NONE,RF-2116,  1,     13,02-18567,2,20040303,2258, 28.0987, 147.0010, 5640,    254.4,  16.5136,  34.7354,2,   -999.0,9,-999.0000,9,    213.0,2,     5.46,2,  -999.00,9,     4.49,2,     0.01,2,     0.34,2, -999.000,9, -999.000,9,  -999.00,9,   -999.0,9,   -999.0,9,-999.0000,9,   -999.0,  9,  -999.00,9,   -999.0,  -999.00,9,  -999.00,9,  -999.00,9,  -999.00,9,   -999.0,-999.0000, -999,9,  253,  16.4725,  25.4351,   -999.0,9
       RF04-01,  NONE,RF-2116,  1,     12,02-18566,2,20040303,2256, 28.0987, 147.0010, 5640,    305.9,  15.5375,  34.6416,2,   -999.0,9,  34.6424,2,    195.9,2,     8.97,2,  -999.00,9,     7.36,2,     0.01,2,     0.55,2, -999.000,9, -999.000,9,  -999.00,9,   -999.0,9,   -999.0,9,-999.0000,9,   -999.0,  9,  -999.00,9,   -999.0,  -999.00,9,  -999.00,9,  -999.00,9,  -999.00,9,   -999.0,-999.0000, -999,9,  304,  15.4900,  25.5871,   -999.0,9
       RF04-01,  NONE,RF-2116,  1,     11,02-18565,2,20040303,2251, 28.0987, 147.0010, 5640,    404.1,  13.3661,  34.4844,2,   -999.0,9,  34.4827,2,    189.8,2,    15.58,2,  -999.00,9,    11.30,2,     0.00,2,     0.83,2, -999.000,9, -999.000,9,  -999.00,9,   -999.0,9,   -999.0,9,-999.0000,9,   -999.0,  9,  -999.00,9,   -999.0,  -999.00,9,  -999.00,9,  -999.00,9,  -999.00,9,   -999.0,-999.0000, -999,9,  401,  13.3093,  25.9311,   -999.0,9
       RF04-01,  NONE,RF-2116,  1,     10,02-18564,2,20040303,2244, 28.0987, 147.0010, 5640,    507.2,  10.1678,  34.2395,2,   -999.0,9,  34.2483,4,    190.5,2,    26.27,2,  -999.00,9,    16.32,2,     0.00,2,     1.21,2, -999.000,9, -999.000,9,  -999.00,9,   -999.0,9,   -999.0,9,-999.0000,9,   -999.0,  9,  -999.00,9,   -999.0,  -999.00,9,  -999.00,9,  -999.00,9,  -999.00,9,   -999.0,-999.0000, -999,9,  503,  10.1079,  26.3397,   -999.0,9
       RF04-01,  NONE,RF-2116,  1,      9,02-18563,2,20040303,2240, 28.0987, 147.0010, 5640,    608.1,   7.3856,  34.0608,2,   -999.0,9,  34.0614,2,    162.0,2,    45.54,2,  -999.00,9,    24.18,2,     0.00,2,     1.79,2, -999.000,9, -999.000,9,  -999.00,9,   -999.0,9,   -999.0,9,-999.0000,9,   -999.0,  9,  -999.00,9,   -999.0,  -999.00,9,  -999.00,9,  -999.00,9,  -999.00,9,   -999.0,-999.0000, -999,9,  603,   7.3261,  26.6336,   -999.0,9
       RF04-01,  NONE,RF-2116,  1,      8,02-18562,2,20040303,2236, 28.0987, 147.0010, 5640,    707.5,   5.5780,  34.0669,2,   -999.0,9,  34.0673,2,    108.9,2,    71.67,2,  -999.00,9,    32.53,2,     0.00,2,     2.39,2, -999.000,9, -999.000,9,  -999.00,9,   -999.0,9,   -999.0,9,-999.0000,9,   -999.0,  9,  -999.00,9,   -999.0,  -999.00,9,  -999.00,9,  -999.00,9,  -999.00,9,   -999.0,-999.0000, -999,9,  702,   5.5179,  26.8747,   -999.0,9
       RF04-01,  NONE,RF-2116,  1,      7,02-18561,2,20040303,2230, 28.0987, 147.0010, 5640,    809.1,   4.6169,  34.1526,2,   -999.0,9,  34.1519,2,     69.3,2,    92.77,2,  -999.00,9,    38.14,2,     0.00,2,     2.74,2, -999.000,9, -999.000,9,  -999.00,9,   -999.0,9,   -999.0,9,-999.0000,9,   -999.0,  9,  -999.00,9,   -999.0,  -999.00,9,  -999.00,9,  -999.00,9,  -999.00,9,   -999.0,-999.0000, -999,9,  802,   4.5535,  27.0534,   -999.0,9
       RF04-01,  NONE,RF-2116,  1,      6,02-18560,2,20040303,2227, 28.0987, 147.0010, 5640,    907.9,   4.0561,  34.2379,2,   -999.0,9,-999.0000,9,     49.5,2,   108.51,2,  -999.00,9,    41.04,2,     0.00,2,     2.90,2, -999.000,9, -999.000,9,  -999.00,9,   -999.0,9,   -999.0,9,-999.0000,9,   -999.0,  9,  -999.00,9,   -999.0,  -999.00,9,  -999.00,9,  -999.00,9,  -999.00,9,   -999.0,-999.0000, -999,9,  900,   3.9880,  27.1811,   -999.0,9
       RF04-01,  NONE,RF-2116,  1,      5,02-18559,2,20040303,2224, 28.0987, 147.0010, 5640,   1010.9,   3.7008,  34.3042,2,   -999.0,9,  34.3040,2,     40.9,2,   118.43,2,  -999.00,9,    42.45,2,     0.00,2,     2.99,2, -999.000,9, -999.000,9,  -999.00,9,   -999.0,9,   -999.0,9,-999.0000,9,   -999.0,  9,  -999.00,9,   -999.0,  -999.00,9,  -999.00,9,  -999.00,9,  -999.00,9,   -999.0,-999.0000, -999,9, 1002,   3.6269,  27.2702,   -999.0,9
       RF04-01,  NONE,RF-2116,  1,      4,02-18558,2,20040303,2218, 28.0987, 147.0010, 5640,   1261.9,   2.8876,  34.4553,2,   -999.0,9,  34.4542,2,     42.8,2,   139.61,2,  -999.00,9,    42.96,2,     0.00,2,     3.02,2, -999.000,9, -999.000,9,  -999.00,9,   -999.0,9,   -999.0,9,-999.0000,9,   -999.0,  9,  -999.00,9,   -999.0,  -999.00,9,  -999.00,9,  -999.00,9,  -999.00,9,   -999.0,-999.0000, -999,9, 1250,   2.8005,  27.4682,   -999.0,9
       RF04-01,  NONE,RF-2116,  1,      3,02-18557,2,20040303,2213, 28.0987, 147.0010, 5640,   1515.1,   2.4705,  34.5205,2,   -999.0,9,  34.5187,2,     54.9,2,   148.09,2,  -999.00,9,    42.47,2,     0.00,2,     2.97,2, -999.000,9, -999.000,9,  -999.00,9,   -999.0,9,   -999.0,9,-999.0000,9,   -999.0,  9,  -999.00,9,   -999.0,  -999.00,9,  -999.00,9,  -999.00,9,  -999.00,9,   -999.0,-999.0000, -999,9, 1500,   2.3677,  27.5576,   -999.0,9
       RF04-01,  NONE,RF-2116,  1,      2,02-18556,2,20040303,2208, 28.0987, 147.0010, 5640,   1766.9,   2.1308,  34.5763,2,   -999.0,9,  34.5710,4,     76.8,2,   150.22,2,  -999.00,9,    41.31,2,     0.00,2,     2.87,2, -999.000,9, -999.000,9,  -999.00,9,   -999.0,9,   -999.0,9,-999.0000,9,   -999.0,  9,  -999.00,9,   -999.0,  -999.00,9,  -999.00,9,  -999.00,9,  -999.00,9,   -999.0,-999.0000, -999,9, 1748,   2.0119,  27.6313,   -999.0,9
       RF04-01,  NONE,RF-2116,  1,      1,02-18555,2,20040303,2204, 28.0987, 147.0010, 5640,   2036.6,   1.9243,  34.6102,2,   -999.0,9,  34.6095,2,     96.7,2,   150.49,2,  -999.00,9,    40.20,2,     0.00,2,     2.78,2, -999.000,9, -999.000,9,  -999.00,9,   -999.0,9,   -999.0,9,-999.0000,9,   -999.0,  9,  -999.00,9,   -999.0,  -999.00,9,  -999.00,9,  -999.00,9,  -999.00,9,   -999.0,-999.0000, -999,9, 2013,   1.7860,  27.6760,   -999.0,9
       RF04-01,  NONE,RF-2117,  1,      7,02-18561,2,20040305,0008, 29.9883, 145.0127, 5878,   2040.7,   1.9891,  34.5971,2,   -999.0,9,  34.5964,2,   -999.0,9,  -999.00,9,  -999.00,9,  -999.00,9,  -999.00,9,  -999.00,9, -999.000,9, -999.000,9,  -999.00,9,   -999.0,9,   -999.0,9,-999.0000,9,   -999.0,  9,  -999.00,9,   -999.0,  -999.00,9,  -999.00,9,  -999.00,9,  -999.00,9,   -999.0,-999.0000, -999,9, 2017,   1.8495,  27.6607,   -999.0,9
       RF04-01,  NONE,RF-2118,  1,     19,02-18573,2,20040305,1103, 30.9993, 144.0197, 5793,   1010.8,   4.0342,  34.2462,2,   -999.0,9,  34.2453,2,   -999.0,9,  -999.00,9,  -999.00,9,  -999.00,9,  -999.00,9,  -999.00,9, -999.000,9, -999.000,9,  -999.00,9,   -999.0,9,   -999.0,9,-999.0000,9,   -999.0,  9,  -999.00,9,   -999.0,  -999.00,9,  -999.00,9,  -999.00,9,  -999.00,9,   -999.0,-999.0000, -999,9, 1001,   3.9578,  27.1908,   -999.0,9
       RF04-01,  NONE,RF-2118,  1,      7,02-18561,2,20040305,1039, 30.9993, 144.0197, 5793,   2044.9,   1.9794,  34.5954,2,   -999.0,9,  34.5950,2,   -999.0,9,  -999.00,9,  -999.00,9,  -999.00,9,  -999.00,9,  -999.00,9, -999.000,9, -999.000,9,  -999.00,9,   -999.0,9,   -999.0,9,-999.0000,9,   -999.0,  9,  -999.00,9,   -999.0,  -999.00,9,  -999.00,9,  -999.00,9,  -999.00,9,   -999.0,-999.0000, -999,9, 2021,   1.8396,  27.6600,   -999.0,9