BOTTLE,20130510GEMDJMAYT
EXPOCODE,SECT_ID,STNNBR,CASTNO,SAMPNO,BTLNBR,BTLNBR_FLAG_W,DATE,TIME,LATITUDE,LONGITUDE,DEPTH,CTDPRS,CTDTMP,CTDSAL,CTDSAL_FLAG_W,CTDOXY,CTDOXY_FLAG_W,SALNTY,SALNTY_FLAG_W,OXYGEN,OXYGEN_FLAG_W,SILCAT,SILCAT_FLAG_W,NITRAT,NITRAT_FLAG_W,NO2+NO3,NO2+NO3_FLAG_W,NITRIT,NITRIT_FLAG_W,PHSPHT,PHSPHT_FLAG_W,CFC-11,CFC-11_FLAG_W,CFC-12,CFC-12_FLAG_W,DELC13,DELC13_FLAG_W,TCARBN,TCARBN_FLAG_W,ALKALI,ALKALI_FLAG_W,PH,PH_FLAG_W,PH_TMP,PH_SCALE,PH_NBS,PH_NBS_FLAG_W,C13ERR,TOTALP,TOTALP_FLAG_W,AMMONI,AMMONI_FLAG_W,CHLORA,CHLORA_FLAG_W,PPHYTN,PPHYTN_FLAG_W,REVPRS,REVTMP,DEPTH_,DEPTH_FLAG,CTDDEP,THETA,SIGTHT,DOC,DOC_FLAG_W
,,,,,,,GMT,GMT,,,METER,DBAR,ITS-90,PSS-78,,UMOL/KG,,PSS-78,,UMOL/KG,,UMOL/KG,,UMOL/KG,,UMOL/KG,,UMOL/KG,,UMOL/KG,,PMOL/KG,,PMOL/KG,,/MILLE,,UMOL/KG,,UMOL/KG,,25_DEG_C,,DEG_C,,,,/MILLE,UMOL/KG,,UMOL/KG,,UG/L,,UG/L,,DBAR,ITS-90,METERS,,METERS,DEG_C,,UMOL/L,
       RF04-01,  165E,RF-2074,  1,     -9,      -9,5,20040126,2132, 14.9847, 164.9793, 5208,      0.0,  27.3729,  34.5188,2,   -999.0,9,-999.0000,9,    201.4,2,     1.56,2,  -999.00,9,     0.02,2,     0.00,2,     0.06,2, -999.000,9, -999.000,9,  -999.00,9,   1932.1,2,   -999.0,9,-999.0000,9,   -999.0,  9,  -999.00,9,   -999.0,  -999.00,9,  -999.00,9,     0.05,2,     0.01,2,   -999.0,-999.0000, -999,9,    0,  27.3725,  22.2361,   -999.0,9
       RF04-01,  165E,RF-2074,  1,     21,02-18575,2,20040126,2130, 14.9847, 164.9793, 5208,     10.7,  27.3752,  34.5230,2,   -999.0,9,  34.5197,4,    199.7,2,     1.50,2,  -999.00,9,     0.00,2,     0.00,2,     0.06,2, -999.000,9, -999.000,9,  -999.00,9,   1930.0,2,   -999.0,9,-999.0000,9,   -999.0,  9,  -999.00,9,   -999.0,  -999.00,9,  -999.00,9,     0.05,2,     0.02,2,   -999.0,-999.0000, -999,9,   11,  27.3727,  22.2392,   -999.0,9
       RF04-01,  165E,RF-2074,  1,     20,02-18574,2,20040126,2129, 14.9847, 164.9793, 5208,     25.2,  27.3791,  34.5506,2,   -999.0,9,-999.0000,9,    200.0,2,     1.43,2,  -999.00,9,     0.00,2,     0.00,2,     0.05,2, -999.000,9, -999.000,9,  -999.00,9,   1933.3,2,   -999.0,9,-999.0000,9,   -999.0,  9,  -999.00,9,   -999.0,  -999.00,9,  -999.00,9,     0.06,2,     0.02,2,   -999.0,-999.0000, -999,9,   25,  27.3733,  22.2598,   -999.0,9
       RF04-01,  165E,RF-2074,  1,     19,02-18573,2,20040126,2128, 14.9847, 164.9793, 5208,     51.0,  27.3336,  34.6476,2,   -999.0,9,-999.0000,9,    200.0,2,     1.45,2,  -999.00,9,     0.00,2,     0.00,2,     0.05,2, -999.000,9, -999.000,9,  -999.00,9,   1939.2,2,   -999.0,9,-999.0000,9,   -999.0,  9,  -999.00,9,   -999.0,  -999.00,9,  -999.00,9,     0.06,2,     0.02,2,   -999.0,-999.0000, -999,9,   51,  27.3218,  22.3493,   -999.0,9
       RF04-01,  165E,RF-2074,  1,     18,02-18572,2,20040126,2126, 14.9847, 164.9793, 5208,     75.7,  27.3207,  34.7012,2,   -999.0,9,-999.0000,9,    200.1,2,     1.43,2,  -999.00,9,     0.00,2,     0.00,2,     0.05,2, -999.000,9, -999.000,9,  -999.00,9,   1942.5,2,   -999.0,9,-999.0000,9,   -999.0,  9,  -999.00,9,   -999.0,  -999.00,9,  -999.00,9,     0.09,2,     0.03,2,   -999.0,-999.0000, -999,9,   75,  27.3032,  22.3956,   -999.0,9
       RF04-01,  165E,RF-2074,  1,     17,02-18571,2,20040126,2125, 14.9847, 164.9793, 5208,    101.7,  26.6625,  34.9194,2,   -999.0,9,  34.9300,4,    204.8,2,     1.51,2,  -999.00,9,     0.00,2,     0.00,2,     0.05,2, -999.000,9, -999.000,9,  -999.00,9,   1963.8,2,   -999.0,9,-999.0000,9,   -999.0,  9,  -999.00,9,   -999.0,  -999.00,9,  -999.00,9,     0.13,2,     0.07,2,   -999.0,-999.0000, -999,9,  101,  26.6394,  22.7717,   -999.0,9
       RF04-01,  165E,RF-2074,  1,     16,02-18570,2,20040126,2124, 14.9847, 164.9793, 5208,    125.1,  24.8026,  35.2116,2,   -999.0,9,-999.0000,9,    196.0,2,     1.63,2,  -999.00,9,     0.00,2,     0.04,2,     0.07,2, -999.000,9, -999.000,9,  -999.00,9,   2003.9,2,   -999.0,9,-999.0000,9,   -999.0,  9,  -999.00,9,   -999.0,  -999.00,9,  -999.00,9,     0.16,2,     0.32,2,   -999.0,-999.0000, -999,9,  124,  24.7756,  23.5693,   -999.0,9
       RF04-01,  165E,RF-2074,  1,     15,02-18569,2,20040126,2123, 14.9847, 164.9793, 5208,    150.1,  23.0623,  35.2347,2,   -999.0,9,-999.0000,9,    186.0,2,     2.00,2,  -999.00,9,     1.04,2,     0.05,2,     0.16,2, -999.000,9, -999.000,9,  -999.00,9,   2026.3,2,   -999.0,9,-999.0000,9,   -999.0,  9,  -999.00,9,   -999.0,  -999.00,9,  -999.00,9,     0.08,2,     0.24,2,   -999.0,-999.0000, -999,9,  149,  23.0315,  24.1025,   -999.0,9
       RF04-01,  165E,RF-2074,  1,     14,02-18568,2,20040126,2121, 14.9847, 164.9793, 5208,    202.2,  19.0187,  34.9089,2,   -999.0,9,  34.8946,4,    174.5,2,     4.50,2,  -999.00,9,     5.32,2,     0.00,2,     0.42,2, -999.000,9, -999.000,9,  -999.00,9,   2059.4,2,   -999.0,9,-999.0000,9,   -999.0,  9,  -999.00,9,   -999.0,  -999.00,9,  -999.00,9,     0.01,2,     0.01,2,   -999.0,-999.0000, -999,9,  201,  18.9826,  24.9560,   -999.0,9
       RF04-01,  165E,RF-2074,  1,     13,02-18567,2,20040126,2119, 14.9847, 164.9793, 5208,    251.9,  16.3036,  34.6549,2,   -999.0,9,-999.0000,9,    191.0,2,     6.32,2,  -999.00,9,     6.93,2,     0.00,2,     0.48,2, -999.000,9, -999.000,9,  -999.00,9,   2054.9,2,   -999.0,9,-999.0000,9,   -999.0,  9,  -999.00,9,   -999.0,  -999.00,9,  -999.00,9,  -999.00,9,  -999.00,9,   -999.0,-999.0000, -999,9,  250,  16.2632,  25.4217,   -999.0,9
       RF04-01,  165E,RF-2074,  1,     12,02-18566,2,20040126,2117, 14.9847, 164.9793, 5208,    301.7,  13.5900,  34.4310,2,   -999.0,9,  34.4302,2,    180.9,2,    11.91,2,  -999.00,9,    12.12,2,     0.00,2,     0.84,2, -999.000,9, -999.000,9,  -999.00,9,   2088.0,2,   -999.0,9,-999.0000,9,   -999.0,  9,  -999.00,9,   -999.0,  -999.00,9,  -999.00,9,  -999.00,9,  -999.00,9,   -999.0,-999.0000, -999,9,  300,  13.5473,  25.8411,   -999.0,9
       RF04-01,  165E,RF-2074,  1,     11,02-18565,2,20040126,2114, 14.9847, 164.9793, 5208,    404.2,   9.7188,  34.2907,2,   -999.0,9,  34.2911,2,    100.7,2,    32.46,2,  -999.00,9,    26.57,2,     0.00,2,     1.96,2, -999.000,9, -999.000,9,  -999.00,9,   2195.7,2,   -999.0,9,-999.0000,9,   -999.0,  9,  -999.00,9,   -999.0,  -999.00,9,  -999.00,9,  -999.00,9,  -999.00,9,   -999.0,-999.0000, -999,9,  401,   9.6726,  26.4531,   -999.0,9
       RF04-01,  165E,RF-2074,  1,     10,02-18564,2,20040126,2111, 14.9847, 164.9793, 5208,    505.4,   7.7422,  34.3740,2,   -999.0,9,  34.3730,2,     56.8,2,    51.74,2,  -999.00,9,    34.39,2,     0.00,2,     2.53,2, -999.000,9, -999.000,9,  -999.00,9,   -999.0,9,   -999.0,9,-999.0000,9,   -999.0,  9,  -999.00,9,   -999.0,  -999.00,9,  -999.00,9,  -999.00,9,  -999.00,9,   -999.0,-999.0000, -999,9,  502,   7.6915,  26.8276,   -999.0,9
       RF04-01,  165E,RF-2074,  1,      9,02-18563,2,20040126,2108, 14.9847, 164.9793, 5208,    605.4,   6.7256,  34.4414,2,   -999.0,9,  34.4406,2,     49.0,2,    63.64,2,  -999.00,9,    37.21,2,     0.00,2,     2.76,2, -999.000,9, -999.000,9,  -999.00,9,   2279.8,2,   -999.0,9,-999.0000,9,   -999.0,  9,  -999.00,9,   -999.0,  -999.00,9,  -999.00,9,  -999.00,9,  -999.00,9,   -999.0,-999.0000, -999,9,  601,   6.6690,  27.0238,   -999.0,9
       RF04-01,  165E,RF-2074,  1,      8,02-18562,2,20040126,2105, 14.9847, 164.9793, 5208,    707.8,   6.0364,  34.4678,2,   -999.0,9,  34.4664,2,     51.3,2,    72.41,2,  -999.00,9,    38.42,2,     0.00,2,     2.82,2, -999.000,9, -999.000,9,  -999.00,9,   -999.0,9,   -999.0,9,-999.0000,9,   -999.0,  9,  -999.00,9,   -999.0,  -999.00,9,  -999.00,9,  -999.00,9,  -999.00,9,   -999.0,-999.0000, -999,9,  703,   5.9734,  27.1355,   -999.0,9
       RF04-01,  165E,RF-2074,  1,      7,02-18561,2,20040126,2102, 14.9847, 164.9793, 5208,    806.6,   5.5160,  34.4933,2,   -999.0,9,  34.4917,2,     53.8,2,    79.89,2,  -999.00,9,    39.24,2,     0.00,2,     2.88,2, -999.000,9, -999.000,9,  -999.00,9,   2305.4,2,   -999.0,9,-999.0000,9,   -999.0,  9,  -999.00,9,   -999.0,  -999.00,9,  -999.00,9,  -999.00,9,  -999.00,9,   -999.0,-999.0000, -999,9,  800,   5.4468,  27.2208,   -999.0,9
       RF04-01,  165E,RF-2074,  1,      6,02-18560,2,20040126,2100, 14.9847, 164.9793, 5208,    906.7,   4.9548,  34.5133,2,   -999.0,9,-999.0000,9,     56.8,2,    89.00,2,  -999.00,9,    39.86,2,     0.00,2,     2.92,2, -999.000,9, -999.000,9,  -999.00,9,   -999.0,9,   -999.0,9,-999.0000,9,   -999.0,  9,  -999.00,9,   -999.0,  -999.00,9,  -999.00,9,  -999.00,9,  -999.00,9,   -999.0,-999.0000, -999,9,  899,   4.8802,  27.3032,   -999.0,9
       RF04-01,  165E,RF-2074,  1,      5,02-18559,2,20040126,2057, 14.9847, 164.9793, 5208,   1009.1,   4.4760,  34.5288,2,   -999.0,9,  34.5279,2,     63.1,2,    97.56,2,  -999.00,9,    39.93,2,     0.00,2,     2.90,2, -999.000,9, -999.000,9,  -999.00,9,   2320.1,2,   -999.0,9,-999.0000,9,   -999.0,  9,  -999.00,9,   -999.0,  -999.00,9,  -999.00,9,  -999.00,9,  -999.00,9,   -999.0,-999.0000, -999,9, 1001,   4.3958,  27.3693,   -999.0,9
       RF04-01,  165E,RF-2074,  1,      4,02-18558,2,20040126,2051, 14.9847, 164.9793, 5208,   1262.6,   3.5671,  34.5573,2,   -999.0,9,  34.5566,2,     73.5,2,   115.29,2,  -999.00,9,    39.98,2,     0.00,2,     2.89,2, -999.000,9, -999.000,9,  -999.00,9,   2337.8,2,   -999.0,9,-999.0000,9,   -999.0,  9,  -999.00,9,   -999.0,  -999.00,9,  -999.00,9,  -999.00,9,  -999.00,9,   -999.0,-999.0000, -999,9, 1251,   3.4732,  27.4870,   -999.0,9
       RF04-01,  165E,RF-2074,  1,      3,02-18557,2,20040126,2046, 14.9847, 164.9793, 5208,   1513.9,   2.8230,  34.5851,2,   -999.0,9,  34.5851,2,     84.2,2,   130.10,2,  -999.00,9,    39.70,2,     0.00,2,     2.85,2, -999.000,9, -999.000,9,  -999.00,9,   2343.4,2,   -999.0,9,-999.0000,9,   -999.0,  9,  -999.00,9,   -999.0,  -999.00,9,  -999.00,9,  -999.00,9,  -999.00,9,   -999.0,-999.0000, -999,9, 1500,   2.7160,  27.5794,   -999.0,9
       RF04-01,  165E,RF-2074,  1,      2,02-18556,2,20040126,2040, 14.9847, 164.9793, 5208,   1767.7,   2.4288,  34.6102,2,   -999.0,9,  34.6107,2,     96.6,2,   136.70,2,  -999.00,9,    39.19,2,     0.00,2,     2.78,2, -999.000,9, -999.000,9,  -999.00,9,   -999.0,9,   -999.0,9,-999.0000,9,   -999.0,  9,  -999.00,9,   -999.0,  -999.00,9,  -999.00,9,  -999.00,9,  -999.00,9,   -999.0,-999.0000, -999,9, 1750,   2.3057,  27.6346,   -999.0,9
       RF04-01,  165E,RF-2074,  1,      1,02-18555,2,20040126,2035, 14.9847, 164.9793, 5208,   2036.9,   2.1006,  34.6335,2,   -999.0,9,  34.6331,2,    105.5,2,   142.30,2,  -999.00,9,    38.73,2,     0.00,2,     2.72,2, -999.000,9, -999.000,9,  -999.00,9,   2349.9,2,   -999.0,9,-999.0000,9,   -999.0,  9,  -999.00,9,   -999.0,  -999.00,9,  -999.00,9,  -999.00,9,  -999.00,9,   -999.0,-999.0000, -999,9, 2015,   1.9595,  27.6813,   -999.0,9