BOTTLE,20130510GEMDJMAYT
EXPOCODE,SECT_ID,STNNBR,CASTNO,SAMPNO,BTLNBR,BTLNBR_FLAG_W,DATE,TIME,LATITUDE,LONGITUDE,DEPTH,CTDPRS,CTDTMP,CTDSAL,CTDSAL_FLAG_W,CTDOXY,CTDOXY_FLAG_W,SALNTY,SALNTY_FLAG_W,OXYGEN,OXYGEN_FLAG_W,SILCAT,SILCAT_FLAG_W,NITRAT,NITRAT_FLAG_W,NO2+NO3,NO2+NO3_FLAG_W,NITRIT,NITRIT_FLAG_W,PHSPHT,PHSPHT_FLAG_W,CFC-11,CFC-11_FLAG_W,CFC-12,CFC-12_FLAG_W,DELC13,DELC13_FLAG_W,TCARBN,TCARBN_FLAG_W,ALKALI,ALKALI_FLAG_W,PH,PH_FLAG_W,PH_TMP,PH_SCALE,PH_NBS,PH_NBS_FLAG_W,C13ERR,TOTALP,TOTALP_FLAG_W,AMMONI,AMMONI_FLAG_W,CHLORA,CHLORA_FLAG_W,PPHYTN,PPHYTN_FLAG_W,REVPRS,REVTMP,DEPTH_,DEPTH_FLAG,CTDDEP,THETA,SIGTHT,DOC,DOC_FLAG_W
,,,,,,,GMT,GMT,,,METER,DBAR,ITS-90,PSS-78,,UMOL/KG,,PSS-78,,UMOL/KG,,UMOL/KG,,UMOL/KG,,UMOL/KG,,UMOL/KG,,UMOL/KG,,PMOL/KG,,PMOL/KG,,/MILLE,,UMOL/KG,,UMOL/KG,,25_DEG_C,,DEG_C,,,,/MILLE,UMOL/KG,,UMOL/KG,,UG/L,,UG/L,,DBAR,ITS-90,METERS,,METERS,DEG_C,,UMOL/L,
       RF04-01,  165E,RF-2079,  1,     -9,      -9,5,20040128,0606, 10.0040, 163.9652, 4974,      0.0,  28.1525,  33.9410,2,   -999.0,9,-999.0000,9,    200.4,2,     1.50,2,  -999.00,9,     0.08,2,     0.00,2,     0.05,2, -999.000,9, -999.000,9,  -999.00,9,   1893.9,2,   -999.0,9,-999.0000,9,   -999.0,  9,  -999.00,9,   -999.0,  -999.00,9,  -999.00,9,     0.03,2,     0.01,2,   -999.0,-999.0000, -999,9,    0,  28.1522,  21.5489,   -999.0,9
       RF04-01,  165E,RF-2079,  1,     22,02-18576,2,20040128,0604, 10.0040, 163.9652, 4974,     11.2,  28.1606,  33.9401,2,   -999.0,9,  33.9397,2,    198.1,2,     1.48,2,  -999.00,9,     0.00,2,     0.00,2,     0.04,2, -999.000,9, -999.000,9,  -999.00,9,   1894.6,2,   -999.0,9,-999.0000,9,   -999.0,  9,  -999.00,9,   -999.0,  -999.00,9,  -999.00,9,     0.04,2,     0.01,2,   -999.0,-999.0000, -999,9,   11,  28.1580,  21.5463,   -999.0,9
       RF04-01,  165E,RF-2079,  1,     21,02-18575,2,20040128,0603, 10.0040, 163.9652, 4974,     24.8,  28.1446,  33.9389,2,   -999.0,9,-999.0000,9,    197.3,2,     1.42,2,  -999.00,9,     0.01,2,     0.00,2,     0.04,2, -999.000,9, -999.000,9,  -999.00,9,   1893.9,2,   -999.0,9,-999.0000,9,   -999.0,  9,  -999.00,9,   -999.0,  -999.00,9,  -999.00,9,     0.04,2,     0.01,2,   -999.0,-999.0000, -999,9,   25,  28.1388,  21.5517,   -999.0,9
       RF04-01,  165E,RF-2079,  1,     20,02-18574,2,20040128,0602, 10.0040, 163.9652, 4974,     50.3,  28.0320,  34.0850,2,   -999.0,9,-999.0000,9,    198.2,2,     1.41,2,  -999.00,9,     0.00,2,     0.00,2,     0.09,2, -999.000,9, -999.000,9,  -999.00,9,   1905.1,2,   -999.0,9,-999.0000,9,   -999.0,  9,  -999.00,9,   -999.0,  -999.00,9,  -999.00,9,     0.05,2,     0.01,2,   -999.0,-999.0000, -999,9,   50,  28.0202,  21.7002,   -999.0,9
       RF04-01,  165E,RF-2079,  1,     19,02-18573,2,20040128,0601, 10.0040, 163.9652, 4974,     74.5,  27.7166,  34.5821,2,   -999.0,9,-999.0000,9,    209.7,2,     1.40,2,  -999.00,9,     0.00,2,     0.00,2,     0.06,2, -999.000,9, -999.000,9,  -999.00,9,   1936.7,2,   -999.0,9,-999.0000,9,   -999.0,  9,  -999.00,9,   -999.0,  -999.00,9,  -999.00,9,     0.07,2,     0.02,2,   -999.0,-999.0000, -999,9,   74,  27.6992,  22.1782,   -999.0,9
       RF04-01,  165E,RF-2079,  1,     18,02-18572,2,20040128,0600, 10.0040, 163.9652, 4974,    101.1,  23.5270,  35.0060,2,   -999.0,9,  35.0065,2,    193.8,2,     2.34,2,  -999.00,9,     0.09,2,     0.00,2,     0.17,2, -999.000,9, -999.000,9,  -999.00,9,   2013.5,2,   -999.0,9,-999.0000,9,   -999.0,  9,  -999.00,9,   -999.0,  -999.00,9,  -999.00,9,     0.22,2,     0.24,2,   -999.0,-999.0000, -999,9,  101,  23.5060,  23.7912,   -999.0,9
       RF04-01,  165E,RF-2079,  1,     17,02-18571,2,20040128,0558, 10.0040, 163.9652, 4974,    125.1,  20.7592,  34.8963,2,   -999.0,9,-999.0000,9,    171.2,2,     4.48,2,  -999.00,9,     4.19,2,     0.36,2,     0.43,2, -999.000,9, -999.000,9,  -999.00,9,   2055.8,2,   -999.0,9,-999.0000,9,   -999.0,  9,  -999.00,9,   -999.0,  -999.00,9,  -999.00,9,     0.16,2,     0.32,2,   -999.0,-999.0000, -999,9,  124,  20.7355,  24.4866,   -999.0,9
       RF04-01,  165E,RF-2079,  1,     16,02-18570,2,20040128,0557, 10.0040, 163.9652, 4974,    151.7,  17.7480,  34.7333,2,   -999.0,9,-999.0000,9,   -999.0,4,     8.46,2,  -999.00,9,    10.59,2,     0.15,2,     0.82,2, -999.000,9, -999.000,9,  -999.00,9,   2096.3,2,   -999.0,9,-999.0000,9,   -999.0,  9,  -999.00,9,   -999.0,  -999.00,9,  -999.00,9,     0.09,2,     0.24,2,   -999.0,-999.0000, -999,9,  151,  17.7223,  25.1358,   -999.0,9
       RF04-01,  165E,RF-2079,  1,     15,02-18569,2,20040128,0556, 10.0040, 163.9652, 4974,    203.6,  12.1774,  34.5338,2,   -999.0,9,  34.5348,2,     67.6,2,    24.59,2,  -999.00,9,    26.60,2,     0.00,2,     1.94,2, -999.000,9, -999.000,9,  -999.00,9,   2198.2,2,   -999.0,9,-999.0000,9,   -999.0,  9,  -999.00,9,   -999.0,  -999.00,9,  -999.00,9,     0.02,2,     0.06,2,   -999.0,-999.0000, -999,9,  202,  12.1507,  26.1982,   -999.0,9
       RF04-01,  165E,RF-2079,  1,     14,02-18568,2,20040128,0554, 10.0040, 163.9652, 4974,    252.6,  10.1202,  34.6154,2,   -999.0,9,-999.0000,9,     35.9,2,    34.19,2,  -999.00,9,    33.45,2,     0.00,2,     2.41,2, -999.000,9, -999.000,9,  -999.00,9,   2250.2,2,   -999.0,9,-999.0000,9,   -999.0,  9,  -999.00,9,   -999.0,  -999.00,9,  -999.00,9,  -999.00,9,  -999.00,9,   -999.0,-999.0000, -999,9,  251,  10.0907,  26.6361,   -999.0,9
       RF04-01,  165E,RF-2079,  1,     13,02-18567,2,20040128,0552, 10.0040, 163.9652, 4974,    303.2,   9.5571,  34.6256,2,   -999.0,9,  34.6251,2,     38.0,2,    36.72,2,  -999.00,9,    34.58,2,     0.00,2,     2.47,2, -999.000,9, -999.000,9,  -999.00,9,   2254.5,2,   -999.0,9,-999.0000,9,   -999.0,  9,  -999.00,9,   -999.0,  -999.00,9,  -999.00,9,  -999.00,9,  -999.00,9,   -999.0,-999.0000, -999,9,  301,   9.5229,  26.7398,   -999.0,9
       RF04-01,  165E,RF-2079,  1,     12,02-18566,2,20040128,0549, 10.0040, 163.9652, 4974,    403.8,   8.5330,  34.5859,2,   -999.0,9,  34.5853,2,     48.4,2,    42.50,2,  -999.00,9,    35.39,2,     0.00,2,     2.53,2, -999.000,9, -999.000,9,  -999.00,9,   2256.3,2,   -999.0,9,-999.0000,9,   -999.0,  9,  -999.00,9,   -999.0,  -999.00,9,  -999.00,9,  -999.00,9,  -999.00,9,   -999.0,-999.0000, -999,9,  401,   8.4902,  26.8741,   -999.0,9
       RF04-01,  165E,RF-2079,  1,     11,02-18565,2,20040128,0546, 10.0040, 163.9652, 4974,    505.7,   7.6753,  34.5507,2,   -999.0,9,  34.5501,2,     53.8,2,    49.84,2,  -999.00,9,    36.31,2,     0.00,2,     2.61,2, -999.000,9, -999.000,9,  -999.00,9,   2263.5,2,   -999.0,9,-999.0000,9,   -999.0,  9,  -999.00,9,   -999.0,  -999.00,9,  -999.00,9,  -999.00,9,  -999.00,9,   -999.0,-999.0000, -999,9,  502,   7.6247,  26.9762,   -999.0,9
       RF04-01,  165E,RF-2079,  1,     10,02-18564,2,20040128,0544, 10.0040, 163.9652, 4974,    608.0,   6.8811,  34.5369,2,   -999.0,9,  34.5354,2,     52.0,2,    58.48,2,  -999.00,9,    37.85,2,     0.00,2,     2.75,2, -999.000,9, -999.000,9,  -999.00,9,   2279.1,2,   -999.0,9,-999.0000,9,   -999.0,  9,  -999.00,9,   -999.0,  -999.00,9,  -999.00,9,  -999.00,9,  -999.00,9,   -999.0,-999.0000, -999,9,  604,   6.8234,  27.0782,   -999.0,9
       RF04-01,  165E,RF-2079,  1,      9,02-18563,2,20040128,0541, 10.0040, 163.9652, 4974,    707.6,   6.1160,  34.5317,2,   -999.0,9,  34.5307,2,     50.5,2,    68.00,2,  -999.00,9,    39.34,2,     0.00,2,     2.86,2, -999.000,9, -999.000,9,  -999.00,9,   2291.6,2,   -999.0,9,-999.0000,9,   -999.0,  9,  -999.00,9,   -999.0,  -999.00,9,  -999.00,9,  -999.00,9,  -999.00,9,   -999.0,-999.0000, -999,9,  702,   6.0525,  27.1760,   -999.0,9
       RF04-01,  165E,RF-2079,  1,      8,02-18562,2,20040128,0538, 10.0040, 163.9652, 4974,    808.5,   5.5665,  34.5326,2,   -999.0,9,  34.5318,2,     53.0,2,    76.33,2,  -999.00,9,    40.10,2,     0.00,2,     2.90,2, -999.000,9, -999.000,9,  -999.00,9,   2305.9,2,   -999.0,9,-999.0000,9,   -999.0,  9,  -999.00,9,   -999.0,  -999.00,9,  -999.00,9,  -999.00,9,  -999.00,9,   -999.0,-999.0000, -999,9,  802,   5.4967,  27.2459,   -999.0,9
       RF04-01,  165E,RF-2079,  1,      7,02-18561,2,20040128,0535, 10.0040, 163.9652, 4974,    909.8,   5.0687,  34.5412,2,   -999.0,9,-999.0000,9,     60.2,2,    83.68,2,  -999.00,9,    40.25,2,     0.00,2,     2.91,2, -999.000,9, -999.000,9,  -999.00,9,   2306.9,2,   -999.0,9,-999.0000,9,   -999.0,  9,  -999.00,9,   -999.0,  -999.00,9,  -999.00,9,  -999.00,9,  -999.00,9,   -999.0,-999.0000, -999,9,  903,   4.9930,  27.3124,   -999.0,9
       RF04-01,  165E,RF-2079,  1,      6,02-18560,2,20040128,0532, 10.0040, 163.9652, 4974,   1011.2,   4.6717,  34.5480,2,   -999.0,9,-999.0000,9,   -999.0,9,  -999.00,9,  -999.00,9,  -999.00,9,  -999.00,9,  -999.00,9, -999.000,9, -999.000,9,  -999.00,9,   -999.0,9,   -999.0,9,-999.0000,9,   -999.0,  9,  -999.00,9,   -999.0,  -999.00,9,  -999.00,9,  -999.00,9,  -999.00,9,   -999.0,-999.0000, -999,9, 1003,   4.5898,  27.3633,   -999.0,9
       RF04-01,  165E,RF-2079,  1,      5,02-18559,2,20040128,0532, 10.0040, 163.9652, 4974,   1010.3,   4.6754,  34.5477,2,   -999.0,9,  34.5474,2,     65.4,2,    90.96,2,  -999.00,9,    40.20,2,     0.00,2,     2.90,2, -999.000,9, -999.000,9,  -999.00,9,   2312.8,2,   -999.0,9,-999.0000,9,   -999.0,  9,  -999.00,9,   -999.0,  -999.00,9,  -999.00,9,  -999.00,9,  -999.00,9,   -999.0,-999.0000, -999,9, 1002,   4.5936,  27.3627,   -999.0,9
       RF04-01,  165E,RF-2079,  1,      4,02-18558,2,20040128,0527, 10.0040, 163.9652, 4974,   1261.7,   3.7213,  34.5721,2,   -999.0,9,  34.5718,2,     78.2,2,   109.51,2,  -999.00,9,    40.12,2,     0.00,2,     2.87,2, -999.000,9, -999.000,9,  -999.00,9,   2329.2,2,   -999.0,9,-999.0000,9,   -999.0,  9,  -999.00,9,   -999.0,  -999.00,9,  -999.00,9,  -999.00,9,  -999.00,9,   -999.0,-999.0000, -999,9, 1251,   3.6259,  27.4837,   -999.0,9
       RF04-01,  165E,RF-2079,  1,      3,02-18557,2,20040128,0521, 10.0040, 163.9652, 4974,   1513.1,   3.0020,  34.5960,2,   -999.0,9,  34.5962,2,     84.2,2,   124.65,2,  -999.00,9,    40.05,2,     0.00,2,     2.86,2, -999.000,9, -999.000,9,  -999.00,9,   2341.1,2,   -999.0,9,-999.0000,9,   -999.0,  9,  -999.00,9,   -999.0,  -999.00,9,  -999.00,9,  -999.00,9,  -999.00,9,   -999.0,-999.0000, -999,9, 1499,   2.8930,  27.5723,   -999.0,9
       RF04-01,  165E,RF-2079,  1,      2,02-18556,2,20040128,0516, 10.0040, 163.9652, 4974,   1766.6,   2.4725,  34.6192,2,   -999.0,9,  34.6192,2,     95.6,2,   135.44,2,  -999.00,9,    39.60,2,     0.00,2,     2.78,2, -999.000,9, -999.000,9,  -999.00,9,   2349.8,2,   -999.0,9,-999.0000,9,   -999.0,  9,  -999.00,9,   -999.0,  -999.00,9,  -999.00,9,  -999.00,9,  -999.00,9,   -999.0,-999.0000, -999,9, 1749,   2.3488,  27.6382,   -999.0,9
       RF04-01,  165E,RF-2079,  1,      1,02-18555,2,20040128,0510, 10.0040, 163.9652, 4974,   2041.3,   2.0960,  34.6411,2,   -999.0,9,  34.6408,2,    107.9,2,   141.91,2,  -999.00,9,    38.86,2,     0.00,2,     2.71,2, -999.000,9, -999.000,9,  -999.00,9,   2348.6,2,   -999.0,9,-999.0000,9,   -999.0,  9,  -999.00,9,   -999.0,  -999.00,9,  -999.00,9,  -999.00,9,  -999.00,9,   -999.0,-999.0000, -999,9, 2020,   1.9545,  27.6877,   -999.0,9