BOTTLE,20130510GEMDJMAYT
EXPOCODE,SECT_ID,STNNBR,CASTNO,SAMPNO,BTLNBR,BTLNBR_FLAG_W,DATE,TIME,LATITUDE,LONGITUDE,DEPTH,CTDPRS,CTDTMP,CTDSAL,CTDSAL_FLAG_W,CTDOXY,CTDOXY_FLAG_W,SALNTY,SALNTY_FLAG_W,OXYGEN,OXYGEN_FLAG_W,SILCAT,SILCAT_FLAG_W,NITRAT,NITRAT_FLAG_W,NO2+NO3,NO2+NO3_FLAG_W,NITRIT,NITRIT_FLAG_W,PHSPHT,PHSPHT_FLAG_W,CFC-11,CFC-11_FLAG_W,CFC-12,CFC-12_FLAG_W,DELC13,DELC13_FLAG_W,TCARBN,TCARBN_FLAG_W,ALKALI,ALKALI_FLAG_W,PH,PH_FLAG_W,PH_TMP,PH_SCALE,PH_NBS,PH_NBS_FLAG_W,C13ERR,TOTALP,TOTALP_FLAG_W,AMMONI,AMMONI_FLAG_W,CHLORA,CHLORA_FLAG_W,PPHYTN,PPHYTN_FLAG_W,REVPRS,REVTMP,DEPTH_,DEPTH_FLAG,CTDDEP,THETA,SIGTHT,DOC,DOC_FLAG_W
,,,,,,,GMT,GMT,,,METER,DBAR,ITS-90,PSS-78,,UMOL/KG,,PSS-78,,UMOL/KG,,UMOL/KG,,UMOL/KG,,UMOL/KG,,UMOL/KG,,UMOL/KG,,PMOL/KG,,PMOL/KG,,/MILLE,,UMOL/KG,,UMOL/KG,,25_DEG_C,,DEG_C,,,,/MILLE,UMOL/KG,,UMOL/KG,,UG/L,,UG/L,,DBAR,ITS-90,METERS,,METERS,DEG_C,,UMOL/L,
       RF04-01,  165E,RF-2090,  1,     -9,      -9,5,20040209,1716, -1.0002, 165.0390, 4429,      0.0,  30.1565,  33.9640,2,   -999.0,9,-999.0000,9,    195.5,2,     1.19,2,  -999.00,9,     0.00,2,     0.00,2,     0.07,2, -999.000,9, -999.000,9,  -999.00,9,   -999.0,9,   -999.0,9,-999.0000,9,   -999.0,  9,  -999.00,9,   -999.0,  -999.00,9,  -999.00,9,  -999.00,9,  -999.00,9,   -999.0,-999.0000, -999,9,    0,  30.1561,  20.8965,   -999.0,9
       RF04-01,  165E,RF-2090,  1,     24,02-18578,2,20040209,1714, -1.0002, 165.0390, 4429,     10.5,  30.1676,  33.9661,2,   -999.0,9,  33.9933,4,    191.3,2,     1.18,2,  -999.00,9,     0.00,2,     0.00,2,     0.06,2, -999.000,9, -999.000,9,  -999.00,9,   -999.0,9,   -999.0,9,-999.0000,9,   -999.0,  9,  -999.00,9,   -999.0,  -999.00,9,  -999.00,9,  -999.00,9,  -999.00,9,   -999.0,-999.0000, -999,9,   10,  30.1650,  20.8950,   -999.0,9
       RF04-01,  165E,RF-2090,  1,     23,02-18577,2,20040209,1713, -1.0002, 165.0390, 4429,     24.9,  30.2275,  34.2449,2,   -999.0,9,-999.0000,9,    196.0,2,     1.22,2,  -999.00,9,     0.00,2,     0.00,2,     0.06,2, -999.000,9, -999.000,9,  -999.00,9,   -999.0,9,   -999.0,9,-999.0000,9,   -999.0,  9,  -999.00,9,   -999.0,  -999.00,9,  -999.00,9,  -999.00,9,  -999.00,9,   -999.0,-999.0000, -999,9,   25,  30.2213,  21.0846,   -999.0,9
       RF04-01,  165E,RF-2090,  1,     22,02-18576,2,20040209,1712, -1.0002, 165.0390, 4429,     52.7,  30.0916,  34.3403,2,   -999.0,9,-999.0000,9,    194.9,2,     1.12,2,  -999.00,9,     0.00,2,     0.00,2,     0.07,2, -999.000,9, -999.000,9,  -999.00,9,   -999.0,9,   -999.0,9,-999.0000,9,   -999.0,  9,  -999.00,9,   -999.0,  -999.00,9,  -999.00,9,  -999.00,9,  -999.00,9,   -999.0,-999.0000, -999,9,   52,  30.0785,  21.2049,   -999.0,9
       RF04-01,  165E,RF-2090,  1,     21,02-18575,2,20040209,1711, -1.0002, 165.0390, 4429,     76.4,  29.8418,  35.3811,2,   -999.0,9,-999.0000,9,    194.0,2,     1.42,2,  -999.00,9,     0.09,2,     0.01,2,     0.20,2, -999.000,9, -999.000,9,  -999.00,9,   -999.0,9,   -999.0,9,-999.0000,9,   -999.0,  9,  -999.00,9,   -999.0,  -999.00,9,  -999.00,9,  -999.00,9,  -999.00,9,   -999.0,-999.0000, -999,9,   76,  29.8229,  22.0724,   -999.0,9
       RF04-01,  165E,RF-2090,  1,     20,02-18574,2,20040209,1710, -1.0002, 165.0390, 4429,     99.3,  29.6375,  35.4831,2,   -999.0,9,  35.4725,4,    177.0,2,     1.75,2,  -999.00,9,     2.97,2,     0.66,2,     0.37,2, -999.000,9, -999.000,9,  -999.00,9,   -999.0,9,   -999.0,9,-999.0000,9,   -999.0,  9,  -999.00,9,   -999.0,  -999.00,9,  -999.00,9,  -999.00,9,  -999.00,9,   -999.0,-999.0000, -999,9,   99,  29.6131,  22.2203,   -999.0,9
       RF04-01,  165E,RF-2090,  1,     19,02-18573,2,20040209,1709, -1.0002, 165.0390, 4429,    124.2,  22.9104,  35.3904,2,   -999.0,9,-999.0000,9,    129.0,2,     4.57,2,  -999.00,9,    10.59,2,     0.02,2,     0.77,2, -999.000,9, -999.000,9,  -999.00,9,   -999.0,9,   -999.0,9,-999.0000,9,   -999.0,  9,  -999.00,9,   -999.0,  -999.00,9,  -999.00,9,  -999.00,9,  -999.00,9,   -999.0,-999.0000, -999,9,  123,  22.8851,  24.2628,   -999.0,9
       RF04-01,  165E,RF-2090,  1,     18,02-18572,2,20040209,1708, -1.0002, 165.0390, 4429,    150.1,  20.0272,  35.3886,2,   -999.0,9,-999.0000,9,    136.1,2,     5.48,2,  -999.00,9,    11.31,2,     0.02,2,     0.83,2, -999.000,9, -999.000,9,  -999.00,9,   -999.0,9,   -999.0,9,-999.0000,9,   -999.0,  9,  -999.00,9,   -999.0,  -999.00,9,  -999.00,9,  -999.00,9,  -999.00,9,   -999.0,-999.0000, -999,9,  149,  19.9994,  25.0583,   -999.0,9
       RF04-01,  165E,RF-2090,  1,     17,02-18571,2,20040209,1706, -1.0002, 165.0390, 4429,    201.0,  16.7990,  35.3223,2,   -999.0,9,  35.3142,4,    140.5,2,     6.78,2,  -999.00,9,    13.92,2,     0.00,2,     1.00,2, -999.000,9, -999.000,9,  -999.00,9,   -999.0,9,   -999.0,9,-999.0000,9,   -999.0,  9,  -999.00,9,   -999.0,  -999.00,9,  -999.00,9,  -999.00,9,  -999.00,9,   -999.0,-999.0000, -999,9,  200,  16.7660,  25.8172,   -999.0,9
       RF04-01,  165E,RF-2090,  1,     16,02-18570,2,20040209,1705, -1.0002, 165.0390, 4429,    253.0,  13.8484,  35.0250,2,   -999.0,9,-999.0000,9,    140.7,2,    12.90,2,  -999.00,9,    18.00,2,     0.00,2,     1.25,2, -999.000,9, -999.000,9,  -999.00,9,   -999.0,9,   -999.0,9,-999.0000,9,   -999.0,  9,  -999.00,9,   -999.0,  -999.00,9,  -999.00,9,  -999.00,9,  -999.00,9,   -999.0,-999.0000, -999,9,  251,  13.8120,  26.2459,   -999.0,9
       RF04-01,  165E,RF-2090,  1,     15,02-18569,2,20040209,1703, -1.0002, 165.0390, 4429,    302.9,  12.2588,  34.8839,2,   -999.0,9,  34.8802,2,    119.1,2,    18.57,2,  -999.00,9,    22.69,2,     0.00,2,     1.56,2, -999.000,9, -999.000,9,  -999.00,9,   -999.0,9,   -999.0,9,-999.0000,9,   -999.0,  9,  -999.00,9,   -999.0,  -999.00,9,  -999.00,9,  -999.00,9,  -999.00,9,   -999.0,-999.0000, -999,9,  301,  12.2186,  26.4569,   -999.0,9
       RF04-01,  165E,RF-2090,  1,     14,02-18568,2,20040209,1700, -1.0002, 165.0390, 4429,    403.1,   9.8518,  34.7233,2,   -999.0,9,  34.7188,2,     92.5,2,    26.52,2,  -999.00,9,    29.82,2,     0.00,2,     2.04,2, -999.000,9, -999.000,9,  -999.00,9,   -999.0,9,   -999.0,9,-999.0000,9,   -999.0,  9,  -999.00,9,   -999.0,  -999.00,9,  -999.00,9,  -999.00,9,  -999.00,9,   -999.0,-999.0000, -999,9,  400,   9.8051,  26.7689,   -999.0,9
       RF04-01,  165E,RF-2090,  1,     13,02-18567,2,20040209,1658, -1.0002, 165.0390, 4429,    504.0,   8.0283,  34.6092,2,   -999.0,9,  34.6109,2,     87.8,2,    36.54,2,  -999.00,9,    33.65,2,     0.00,2,     2.32,2, -999.000,9, -999.000,9,  -999.00,9,   -999.0,9,   -999.0,9,-999.0000,9,   -999.0,  9,  -999.00,9,   -999.0,  -999.00,9,  -999.00,9,  -999.00,9,  -999.00,9,   -999.0,-999.0000, -999,9,  501,   7.9765,  26.9704,   -999.0,9
       RF04-01,  165E,RF-2090,  1,     12,02-18566,2,20040209,1655, -1.0002, 165.0390, 4429,    604.5,   6.7290,  34.5539,2,   -999.0,9,  34.5564,2,    102.2,2,    44.25,2,  -999.00,9,    34.82,2,     0.00,2,     2.41,2, -999.000,9, -999.000,9,  -999.00,9,   -999.0,9,   -999.0,9,-999.0000,9,   -999.0,  9,  -999.00,9,   -999.0,  -999.00,9,  -999.00,9,  -999.00,9,  -999.00,9,   -999.0,-999.0000, -999,9,  600,   6.6724,  27.1121,   -999.0,9
       RF04-01,  165E,RF-2090,  1,     11,02-18565,2,20040209,1653, -1.0002, 165.0390, 4429,    704.7,   6.1011,  34.5430,2,   -999.0,9,  34.5433,2,     94.5,2,    53.93,2,  -999.00,9,    36.42,2,     0.00,2,     2.56,2, -999.000,9, -999.000,9,  -999.00,9,   -999.0,9,   -999.0,9,-999.0000,9,   -999.0,  9,  -999.00,9,   -999.0,  -999.00,9,  -999.00,9,  -999.00,9,  -999.00,9,   -999.0,-999.0000, -999,9,  700,   6.0379,  27.1867,   -999.0,9
       RF04-01,  165E,RF-2090,  1,     10,02-18564,2,20040209,1650, -1.0002, 165.0390, 4429,    805.7,   5.5088,  34.5397,2,   -999.0,9,  34.5440,2,     92.9,2,    63.33,2,  -999.00,9,    37.49,2,     0.00,2,     2.64,2, -999.000,9, -999.000,9,  -999.00,9,   -999.0,9,   -999.0,9,-999.0000,9,   -999.0,  9,  -999.00,9,   -999.0,  -999.00,9,  -999.00,9,  -999.00,9,  -999.00,9,   -999.0,-999.0000, -999,9,  800,   5.4396,  27.2584,   -999.0,9
       RF04-01,  165E,RF-2090,  1,      9,02-18563,2,20040209,1645, -1.0002, 165.0390, 4429,   1010.1,   4.3706,  34.5555,2,   -999.0,9,  34.5553,2,     93.1,2,    85.57,2,  -999.00,9,    38.57,2,     0.00,2,     2.74,2, -999.000,9, -999.000,9,  -999.00,9,   -999.0,9,   -999.0,9,-999.0000,9,   -999.0,  9,  -999.00,9,   -999.0,  -999.00,9,  -999.00,9,  -999.00,9,  -999.00,9,   -999.0,-999.0000, -999,9, 1002,   4.2911,  27.4019,   -999.0,9
       RF04-01,  165E,RF-2090,  1,      8,02-18562,2,20040209,1639, -1.0002, 165.0390, 4429,   1262.6,   3.5602,  34.5810,2,   -999.0,9,-999.0000,9,     95.7,2,   104.02,2,  -999.00,9,    38.88,2,     0.00,2,     2.76,2, -999.000,9, -999.000,9,  -999.00,9,   -999.0,9,   -999.0,9,-999.0000,9,   -999.0,  9,  -999.00,9,   -999.0,  -999.00,9,  -999.00,9,  -999.00,9,  -999.00,9,   -999.0,-999.0000, -999,9, 1252,   3.4663,  27.5065,   -999.0,9
       RF04-01,  165E,RF-2090,  1,      7,02-18561,2,20040209,1633, -1.0002, 165.0390, 4429,   1513.1,   2.9977,  34.6028,2,   -999.0,9,  34.6021,2,    101.7,2,   116.41,2,  -999.00,9,    38.86,2,     0.00,2,     2.74,2, -999.000,9, -999.000,9,  -999.00,9,   -999.0,9,   -999.0,9,-999.0000,9,   -999.0,  9,  -999.00,9,   -999.0,  -999.00,9,  -999.00,9,  -999.00,9,  -999.00,9,   -999.0,-999.0000, -999,9, 1499,   2.8887,  27.5781,   -999.0,9
       RF04-01,  165E,RF-2090,  1,      6,02-18560,2,20040209,1628, -1.0002, 165.0390, 4429,   1766.6,   2.5912,  34.6199,2,   -999.0,9,-999.0000,9,   -999.0,4,   123.79,2,  -999.00,9,    38.34,2,     0.00,2,     2.69,2, -999.000,9, -999.000,9,  -999.00,9,   -999.0,9,   -999.0,9,-999.0000,9,   -999.0,  9,  -999.00,9,   -999.0,  -999.00,9,  -999.00,9,  -999.00,9,  -999.00,9,   -999.0,-999.0000, -999,9, 1749,   2.4659,  27.6289,   -999.0,9
       RF04-01,  165E,RF-2090,  1,      5,02-18559,2,20040209,1620, -1.0002, 165.0390, 4429,   2022.8,   2.2248,  34.6395,2,   -999.0,9,  34.6391,2,    119.4,2,   132.18,2,  -999.00,9,    38.12,2,     0.00,2,     2.66,2, -999.000,9, -999.000,9,  -999.00,9,   -999.0,9,   -999.0,9,-999.0000,9,   -999.0,  9,  -999.00,9,   -999.0,  -999.00,9,  -999.00,9,  -999.00,9,  -999.00,9,   -999.0,-999.0000, -999,9, 2002,   2.0829,  27.6762,   -999.0,9
       RF04-01,  165E,RF-2090,  1,      4,02-18558,2,20040209,1609, -1.0002, 165.0390, 4429,   2528.6,   1.8305,  34.6619,2,   -999.0,9,  34.6611,2,    126.7,2,   140.83,2,  -999.00,9,    37.69,2,     0.00,2,     2.61,2, -999.000,9, -999.000,9,  -999.00,9,   -999.0,9,   -999.0,9,-999.0000,9,   -999.0,  9,  -999.00,9,   -999.0,  -999.00,9,  -999.00,9,  -999.00,9,  -999.00,9,   -999.0,-999.0000, -999,9, 2500,   1.6507,  27.7277,   -999.0,9
       RF04-01,  165E,RF-2090,  1,      3,02-18557,2,20040209,1559, -1.0002, 165.0390, 4429,   3038.0,   1.6323,  34.6729,2,   -999.0,9,  34.6723,2,    136.8,2,   140.60,2,  -999.00,9,    36.99,2,     0.00,2,     2.52,2, -999.000,9, -999.000,9,  -999.00,9,   -999.0,9,   -999.0,9,-999.0000,9,   -999.0,  9,  -999.00,9,   -999.0,  -999.00,9,  -999.00,9,  -999.00,9,  -999.00,9,   -999.0,-999.0000, -999,9, 3000,   1.4089,  27.7543,   -999.0,9
       RF04-01,  165E,RF-2090,  1,      2,02-18556,2,20040209,1540, -1.0002, 165.0390, 4429,   4061.3,   1.4222,  34.6929,2,   -999.0,9,  34.6932,2,    163.7,2,   132.91,2,  -999.00,9,    35.23,2,     0.00,2,     2.38,2, -999.000,9, -999.000,9,  -999.00,9,   -999.0,9,   -999.0,9,-999.0000,9,   -999.0,  9,  -999.00,9,   -999.0,  -999.00,9,  -999.00,9,  -999.00,9,  -999.00,9,   -999.0,-999.0000, -999,9, 4001,   1.0987,  27.7920,   -999.0,9
       RF04-01,  165E,RF-2090,  1,      1,02-18555,2,20040209,1533, -1.0002, 165.0390, 4429,   4400.1,   1.3400,  34.7003,2,   -999.0,9,  34.6997,2,    179.0,2,   127.27,2,  -999.00,9,    34.23,2,     0.00,2,     2.31,2, -999.000,9, -999.000,9,  -999.00,9,   -999.0,9,   -999.0,9,-999.0000,9,   -999.0,  9,  -999.00,9,   -999.0,  -999.00,9,  -999.00,9,  -999.00,9,  -999.00,9,   -999.0,-999.0000, -999,9, 4331,   0.9812,  27.8058,   -999.0,9