BOTTLE,20130510GEMDJMAYT
EXPOCODE,SECT_ID,STNNBR,CASTNO,SAMPNO,BTLNBR,BTLNBR_FLAG_W,DATE,TIME,LATITUDE,LONGITUDE,DEPTH,CTDPRS,CTDTMP,CTDSAL,CTDSAL_FLAG_W,CTDOXY,CTDOXY_FLAG_W,SALNTY,SALNTY_FLAG_W,OXYGEN,OXYGEN_FLAG_W,SILCAT,SILCAT_FLAG_W,NITRAT,NITRAT_FLAG_W,NO2+NO3,NO2+NO3_FLAG_W,NITRIT,NITRIT_FLAG_W,PHSPHT,PHSPHT_FLAG_W,CFC-11,CFC-11_FLAG_W,CFC-12,CFC-12_FLAG_W,DELC13,DELC13_FLAG_W,TCARBN,TCARBN_FLAG_W,ALKALI,ALKALI_FLAG_W,PH,PH_FLAG_W,PH_TMP,PH_SCALE,PH_NBS,PH_NBS_FLAG_W,C13ERR,TOTALP,TOTALP_FLAG_W,AMMONI,AMMONI_FLAG_W,CHLORA,CHLORA_FLAG_W,PPHYTN,PPHYTN_FLAG_W,REVPRS,REVTMP,DEPTH_,DEPTH_FLAG,CTDDEP,THETA,SIGTHT,DOC,DOC_FLAG_W
,,,,,,,GMT,GMT,,,METER,DBAR,ITS-90,PSS-78,,UMOL/KG,,PSS-78,,UMOL/KG,,UMOL/KG,,UMOL/KG,,UMOL/KG,,UMOL/KG,,UMOL/KG,,PMOL/KG,,PMOL/KG,,/MILLE,,UMOL/KG,,UMOL/KG,,25_DEG_C,,DEG_C,,,,/MILLE,UMOL/KG,,UMOL/KG,,UG/L,,UG/L,,DBAR,ITS-90,METERS,,METERS,DEG_C,,UMOL/L,
       RF04-01,  NONE,RF-2055,  1,     -9,      -9,5,20040120,1937, 27.9830, 152.9985, 5715,      0.0,  20.9215,  35.0155,2,   -999.0,9,-999.0000,9,    218.1,2,     1.57,2,  -999.00,9,     0.06,2,     0.00,2,     0.04,2, -999.000,9, -999.000,9,  -999.00,9,   -999.0,9,   -999.0,9,-999.0000,9,   -999.0,  9,  -999.00,9,   -999.0,  -999.00,9,  -999.00,9,     0.20,2,     0.08,2,   -999.0,-999.0000, -999,9,    0,  20.9212,  24.5271,   -999.0,9
       RF04-01,  NONE,RF-2055,  1,     21,02-18575,2,20040120,1935, 27.9830, 152.9985, 5715,     11.2,  20.9298,  35.0173,2,   -999.0,9,  35.0183,2,    218.6,2,     1.59,2,  -999.00,9,     0.01,2,     0.00,2,     0.01,2, -999.000,9, -999.000,9,  -999.00,9,   -999.0,9,   -999.0,9,-999.0000,9,   -999.0,  9,  -999.00,9,   -999.0,  -999.00,9,  -999.00,9,     0.20,2,     0.07,2,   -999.0,-999.0000, -999,9,   11,  20.9277,  24.5268,   -999.0,9
       RF04-01,  NONE,RF-2055,  1,     20,02-18574,2,20040120,1934, 27.9830, 152.9985, 5715,     25.1,  20.9275,  35.0242,2,   -999.0,9,-999.0000,9,    218.8,2,     1.63,2,  -999.00,9,     0.00,2,     0.00,2,     0.01,2, -999.000,9, -999.000,9,  -999.00,9,   -999.0,9,   -999.0,9,-999.0000,9,   -999.0,  9,  -999.00,9,   -999.0,  -999.00,9,  -999.00,9,     0.20,2,     0.08,2,   -999.0,-999.0000, -999,9,   25,  20.9227,  24.5334,   -999.0,9
       RF04-01,  NONE,RF-2055,  1,     19,02-18573,2,20040120,1932, 27.9830, 152.9985, 5715,     49.7,  20.8280,  35.0826,2,   -999.0,9,-999.0000,9,    219.5,2,     1.68,2,  -999.00,9,     0.00,2,     0.00,2,     0.01,2, -999.000,9, -999.000,9,  -999.00,9,   -999.0,9,   -999.0,9,-999.0000,9,   -999.0,  9,  -999.00,9,   -999.0,  -999.00,9,  -999.00,9,     0.20,2,     0.07,2,   -999.0,-999.0000, -999,9,   49,  20.8186,  24.6060,   -999.0,9
       RF04-01,  NONE,RF-2055,  1,     18,02-18572,2,20040120,1931, 27.9830, 152.9985, 5715,     75.1,  20.8114,  35.0843,2,   -999.0,9,-999.0000,9,    219.2,2,     1.65,2,  -999.00,9,     0.00,2,     0.00,2,     0.01,2, -999.000,9, -999.000,9,  -999.00,9,   -999.0,9,   -999.0,9,-999.0000,9,   -999.0,  9,  -999.00,9,   -999.0,  -999.00,9,  -999.00,9,     0.25,2,     0.09,2,   -999.0,-999.0000, -999,9,   75,  20.7971,  24.6132,   -999.0,9
       RF04-01,  NONE,RF-2055,  1,     17,02-18571,2,20040120,1930, 27.9830, 152.9985, 5715,    101.2,  20.8158,  35.0850,2,   -999.0,9,  35.0859,2,    224.0,2,     1.69,2,  -999.00,9,     0.02,2,     0.00,2,     0.02,2, -999.000,9, -999.000,9,  -999.00,9,   -999.0,9,   -999.0,9,-999.0000,9,   -999.0,  9,  -999.00,9,   -999.0,  -999.00,9,  -999.00,9,     0.24,2,     0.09,2,   -999.0,-999.0000, -999,9,  100,  20.7966,  24.6138,   -999.0,9
       RF04-01,  NONE,RF-2055,  1,     16,02-18570,2,20040120,1928, 27.9830, 152.9985, 5715,    125.6,  20.7946,  35.0786,2,   -999.0,9,-999.0000,9,    221.7,2,     1.70,2,  -999.00,9,     0.03,2,     0.00,2,     0.01,2, -999.000,9, -999.000,9,  -999.00,9,   -999.0,9,   -999.0,9,-999.0000,9,   -999.0,  9,  -999.00,9,   -999.0,  -999.00,9,  -999.00,9,     0.19,2,     0.08,2,   -999.0,-999.0000, -999,9,  125,  20.7707,  24.6159,   -999.0,9
       RF04-01,  NONE,RF-2055,  1,     15,02-18569,2,20040120,1927, 27.9830, 152.9985, 5715,    151.4,  18.3449,  34.7982,2,   -999.0,9,-999.0000,9,    210.9,2,     2.82,2,  -999.00,9,     2.11,2,     0.01,2,     0.15,2, -999.000,9, -999.000,9,  -999.00,9,   -999.0,9,   -999.0,9,-999.0000,9,   -999.0,  9,  -999.00,9,   -999.0,  -999.00,9,  -999.00,9,     0.05,2,     0.14,2,   -999.0,-999.0000, -999,9,  150,  18.3186,  25.0386,   -999.0,9
       RF04-01,  NONE,RF-2055,  1,     14,02-18568,2,20040120,1925, 27.9830, 152.9985, 5715,    203.3,  17.1004,  34.7433,2,   -999.0,9,  34.7424,2,    210.3,2,     4.01,2,  -999.00,9,     4.54,2,     0.00,2,     0.27,2, -999.000,9, -999.000,9,  -999.00,9,   -999.0,9,   -999.0,9,-999.0000,9,   -999.0,  9,  -999.00,9,   -999.0,  -999.00,9,  -999.00,9,     0.01,2,     0.03,2,   -999.0,-999.0000, -999,9,  202,  17.0668,  25.3013,   -999.0,9
       RF04-01,  NONE,RF-2055,  1,     13,02-18567,2,20040120,1923, 27.9830, 152.9985, 5715,    253.3,  16.6894,  34.7318,2,   -999.0,9,-999.0000,9,    217.5,2,     4.36,2,  -999.00,9,     4.69,2,     0.00,2,     0.28,2, -999.000,9, -999.000,9,  -999.00,9,   -999.0,9,   -999.0,9,-999.0000,9,   -999.0,  9,  -999.00,9,   -999.0,  -999.00,9,  -999.00,9,  -999.00,9,  -999.00,9,   -999.0,-999.0000, -999,9,  251,  16.6481,  25.3914,   -999.0,9
       RF04-01,  NONE,RF-2055,  1,     12,02-18566,2,20040120,1922, 27.9830, 152.9985, 5715,    304.2,  16.1850,  34.6921,2,   -999.0,9,  34.6957,2,    209.9,2,     5.90,2,  -999.00,9,     6.26,2,     0.00,2,     0.38,2, -999.000,9, -999.000,9,  -999.00,9,   -999.0,9,   -999.0,9,-999.0000,9,   -999.0,  9,  -999.00,9,   -999.0,  -999.00,9,  -999.00,9,  -999.00,9,  -999.00,9,   -999.0,-999.0000, -999,9,  302,  16.1364,  25.4795,   -999.0,9
       RF04-01,  NONE,RF-2055,  1,     11,02-18565,2,20040120,1919, 27.9830, 152.9985, 5715,    403.8,  14.2294,  34.5321,2,   -999.0,9,  34.5320,2,    207.9,2,    10.46,2,  -999.00,9,     9.91,2,     0.00,2,     0.63,2, -999.000,9, -999.000,9,  -999.00,9,   -999.0,9,   -999.0,9,-999.0000,9,   -999.0,  9,  -999.00,9,   -999.0,  -999.00,9,  -999.00,9,  -999.00,9,  -999.00,9,   -999.0,-999.0000, -999,9,  401,  14.1702,  25.7897,   -999.0,9
       RF04-01,  NONE,RF-2055,  1,     10,02-18564,2,20040120,1916, 27.9830, 152.9985, 5715,    504.0,  11.8459,  34.3653,2,   -999.0,9,  34.3648,2,    190.5,2,    19.12,2,  -999.00,9,    15.16,2,     0.00,2,     0.99,2, -999.000,9, -999.000,9,  -999.00,9,   -999.0,9,   -999.0,9,-999.0000,9,   -999.0,  9,  -999.00,9,   -999.0,  -999.00,9,  -999.00,9,  -999.00,9,  -999.00,9,   -999.0,-999.0000, -999,9,  500,  11.7803,  26.1376,   -999.0,9
       RF04-01,  NONE,RF-2055,  1,      9,02-18563,2,20040120,1913, 27.9830, 152.9985, 5715,    605.8,   8.9503,  34.1526,2,   -999.0,9,  34.1534,2,    175.4,2,    33.55,2,  -999.00,9,    21.95,2,     0.00,2,     1.51,2, -999.000,9, -999.000,9,  -999.00,9,   -999.0,9,   -999.0,9,-999.0000,9,   -999.0,  9,  -999.00,9,   -999.0,  -999.00,9,  -999.00,9,  -999.00,9,  -999.00,9,   -999.0,-999.0000, -999,9,  601,   8.8839,  26.4730,   -999.0,9
       RF04-01,  NONE,RF-2055,  1,      8,02-18562,2,20040120,1911, 27.9830, 152.9985, 5715,    706.5,   6.3861,  34.0444,2,   -999.0,9,  34.0455,2,    132.3,2,    57.87,2,  -999.00,9,    30.09,2,     0.00,2,     2.13,2, -999.000,9, -999.000,9,  -999.00,9,   -999.0,9,   -999.0,9,-999.0000,9,   -999.0,  9,  -999.00,9,   -999.0,  -999.00,9,  -999.00,9,  -999.00,9,  -999.00,9,   -999.0,-999.0000, -999,9,  701,   6.3218,  26.7564,   -999.0,9
       RF04-01,  NONE,RF-2055,  1,      7,02-18561,2,20040120,1908, 27.9830, 152.9985, 5715,    807.5,   5.2859,  34.0999,2,   -999.0,9,  34.0998,2,     89.4,2,    78.24,2,  -999.00,9,    35.65,2,     0.00,2,     2.55,2, -999.000,9, -999.000,9,  -999.00,9,   -999.0,9,   -999.0,9,-999.0000,9,   -999.0,  9,  -999.00,9,   -999.0,  -999.00,9,  -999.00,9,  -999.00,9,  -999.00,9,   -999.0,-999.0000, -999,9,  801,   5.2185,  26.9364,   -999.0,9
       RF04-01,  NONE,RF-2055,  1,      6,02-18560,2,20040120,1906, 27.9830, 152.9985, 5715,    909.1,   4.3335,  34.1983,2,   -999.0,9,-999.0000,9,     57.1,2,  -999.00,4,  -999.00,9,  -999.00,4,  -999.00,4,  -999.00,4, -999.000,9, -999.000,9,  -999.00,9,   -999.0,9,   -999.0,9,-999.0000,9,   -999.0,  9,  -999.00,9,   -999.0,  -999.00,9,  -999.00,9,  -999.00,9,  -999.00,9,   -999.0,-999.0000, -999,9,  901,   4.2635,  27.1209,   -999.0,9
       RF04-01,  NONE,RF-2055,  1,      5,02-18559,2,20040120,1903, 27.9830, 152.9985, 5715,   1009.2,   3.8815,  34.2928,2,   -999.0,9,  34.2927,2,     42.8,2,   113.41,2,  -999.00,9,    41.43,2,     0.00,2,     2.97,2, -999.000,9, -999.000,9,  -999.00,9,   -999.0,9,   -999.0,9,-999.0000,9,   -999.0,  9,  -999.00,9,   -999.0,  -999.00,9,  -999.00,9,  -999.00,9,  -999.00,9,   -999.0,-999.0000, -999,9, 1000,   3.8063,  27.2433,   -999.0,9
       RF04-01,  NONE,RF-2055,  1,      4,02-18558,2,20040120,1857, 27.9830, 152.9985, 5715,   1262.7,   3.1065,  34.4467,2,   -999.0,9,  34.4467,2,     44.6,2,   132.63,2,  -999.00,9,    42.07,2,     0.00,2,     3.02,2, -999.000,9, -999.000,9,  -999.00,9,   -999.0,9,   -999.0,9,-999.0000,9,   -999.0,  9,  -999.00,9,   -999.0,  -999.00,9,  -999.00,9,  -999.00,9,  -999.00,9,   -999.0,-999.0000, -999,9, 1250,   3.0173,  27.4418,   -999.0,9
       RF04-01,  NONE,RF-2055,  1,      3,02-18557,2,20040120,1852, 27.9830, 152.9985, 5715,   1516.1,   2.5439,  34.5216,2,   -999.0,9,  34.5214,2,     56.9,2,   144.65,2,  -999.00,9,    41.78,2,     0.00,2,     2.96,2, -999.000,9, -999.000,9,  -999.00,9,   -999.0,9,   -999.0,9,-999.0000,9,   -999.0,  9,  -999.00,9,   -999.0,  -999.00,9,  -999.00,9,  -999.00,9,  -999.00,9,   -999.0,-999.0000, -999,9, 1501,   2.4402,  27.5524,   -999.0,9
       RF04-01,  NONE,RF-2055,  1,      2,02-18556,2,20040120,1847, 27.9830, 152.9985, 5715,   1770.2,   2.1910,  34.5750,2,   -999.0,9,  34.5751,2,     75.8,2,   148.89,2,  -999.00,9,    40.80,2,     0.00,2,     2.87,2, -999.000,9, -999.000,9,  -999.00,9,   -999.0,9,   -999.0,9,-999.0000,9,   -999.0,  9,  -999.00,9,   -999.0,  -999.00,9,  -999.00,9,  -999.00,9,  -999.00,9,   -999.0,-999.0000, -999,9, 1751,   2.0710,  27.6255,   -999.0,9
       RF04-01,  NONE,RF-2055,  1,      1,02-18555,2,20040120,1842, 27.9830, 152.9985, 5715,   2046.8,   1.9383,  34.6106,2,   -999.0,9,  34.6117,2,     94.2,2,   149.96,2,  -999.00,9,    39.78,2,     0.00,2,     2.78,2, -999.000,9, -999.000,9,  -999.00,9,   -999.0,9,   -999.0,9,-999.0000,9,   -999.0,  9,  -999.00,9,   -999.0,  -999.00,9,  -999.00,9,  -999.00,9,  -999.00,9,   -999.0,-999.0000, -999,9, 2023,   1.7989,  27.6754,   -999.0,9