BOTTLE,20130510GEMDJMAYT
EXPOCODE,SECT_ID,STNNBR,CASTNO,SAMPNO,BTLNBR,BTLNBR_FLAG_W,DATE,TIME,LATITUDE,LONGITUDE,DEPTH,CTDPRS,CTDTMP,CTDSAL,CTDSAL_FLAG_W,CTDOXY,CTDOXY_FLAG_W,SALNTY,SALNTY_FLAG_W,OXYGEN,OXYGEN_FLAG_W,SILCAT,SILCAT_FLAG_W,NITRAT,NITRAT_FLAG_W,NO2+NO3,NO2+NO3_FLAG_W,NITRIT,NITRIT_FLAG_W,PHSPHT,PHSPHT_FLAG_W,CFC-11,CFC-11_FLAG_W,CFC-12,CFC-12_FLAG_W,DELC13,DELC13_FLAG_W,TCARBN,TCARBN_FLAG_W,ALKALI,ALKALI_FLAG_W,PH,PH_FLAG_W,PH_TMP,PH_SCALE,PH_NBS,PH_NBS_FLAG_W,C13ERR,TOTALP,TOTALP_FLAG_W,AMMONI,AMMONI_FLAG_W,CHLORA,CHLORA_FLAG_W,PPHYTN,PPHYTN_FLAG_W,REVPRS,REVTMP,DEPTH_,DEPTH_FLAG,CTDDEP,THETA,SIGTHT,DOC,DOC_FLAG_W
,,,,,,,GMT,GMT,,,METER,DBAR,ITS-90,PSS-78,,UMOL/KG,,PSS-78,,UMOL/KG,,UMOL/KG,,UMOL/KG,,UMOL/KG,,UMOL/KG,,UMOL/KG,,PMOL/KG,,PMOL/KG,,/MILLE,,UMOL/KG,,UMOL/KG,,25_DEG_C,,DEG_C,,,,/MILLE,UMOL/KG,,UMOL/KG,,UG/L,,UG/L,,DBAR,ITS-90,METERS,,METERS,DEG_C,,UMOL/L,
       RF04-01,  NONE,RF-2059,  1,     -9,      -9,5,20040122,1021, 27.9947, 160.9982, 5819,      0.0,  22.3398,  35.3162,2,   -999.0,9,-999.0000,9,    213.4,2,     1.43,2,  -999.00,9,     0.05,2,     0.00,2,     0.04,2, -999.000,9, -999.000,9,  -999.00,9,   -999.0,9,   -999.0,9,-999.0000,9,   -999.0,  9,  -999.00,9,   -999.0,  -999.00,9,  -999.00,9,     0.15,2,     0.06,2,   -999.0,-999.0000, -999,9,    0,  22.3394,  24.3624,   -999.0,9
       RF04-01,  NONE,RF-2059,  1,     21,02-18575,2,20040122,1019, 27.9947, 160.9982, 5819,     10.5,  22.3565,  35.3156,2,   -999.0,9,  35.3165,2,    212.6,2,     1.41,2,  -999.00,9,     0.00,2,     0.00,2,     0.01,2, -999.000,9, -999.000,9,  -999.00,9,   -999.0,9,   -999.0,9,-999.0000,9,   -999.0,  9,  -999.00,9,   -999.0,  -999.00,9,  -999.00,9,     0.15,2,     0.07,2,   -999.0,-999.0000, -999,9,   10,  22.3544,  24.3577,   -999.0,9
       RF04-01,  NONE,RF-2059,  1,     20,02-18574,2,20040122,1018, 27.9947, 160.9982, 5819,     25.2,  22.3508,  35.3157,2,   -999.0,9,-999.0000,9,    213.0,2,     1.43,2,  -999.00,9,     0.00,2,     0.00,2,     0.01,2, -999.000,9, -999.000,9,  -999.00,9,   -999.0,9,   -999.0,9,-999.0000,9,   -999.0,  9,  -999.00,9,   -999.0,  -999.00,9,  -999.00,9,     0.16,2,     0.07,2,   -999.0,-999.0000, -999,9,   25,  22.3458,  24.3602,   -999.0,9
       RF04-01,  NONE,RF-2059,  1,     19,02-18573,2,20040122,1016, 27.9947, 160.9982, 5819,     50.4,  22.3184,  35.3055,2,   -999.0,9,-999.0000,9,    214.2,2,     1.44,2,  -999.00,9,     0.01,2,     0.00,2,     0.01,2, -999.000,9, -999.000,9,  -999.00,9,   -999.0,9,   -999.0,9,-999.0000,9,   -999.0,  9,  -999.00,9,   -999.0,  -999.00,9,  -999.00,9,     0.14,2,     0.06,2,   -999.0,-999.0000, -999,9,   50,  22.3083,  24.3631,   -999.0,9
       RF04-01,  NONE,RF-2059,  1,     18,02-18572,2,20040122,1015, 27.9947, 160.9982, 5819,     75.2,  22.1367,  35.2832,2,   -999.0,9,-999.0000,9,    214.3,2,     1.50,2,  -999.00,9,     0.02,2,     0.00,2,     0.01,2, -999.000,9, -999.000,9,  -999.00,9,   -999.0,9,   -999.0,9,-999.0000,9,   -999.0,  9,  -999.00,9,   -999.0,  -999.00,9,  -999.00,9,     0.16,2,     0.07,2,   -999.0,-999.0000, -999,9,   75,  22.1218,  24.3988,   -999.0,9
       RF04-01,  NONE,RF-2059,  1,     17,02-18571,2,20040122,1014, 27.9947, 160.9982, 5819,    101.2,  21.9384,  35.2400,2,   -999.0,9,  35.2412,2,    216.7,2,     1.50,2,  -999.00,9,     0.00,2,     0.01,2,     0.00,2, -999.000,9, -999.000,9,  -999.00,9,   -999.0,9,   -999.0,9,-999.0000,9,   -999.0,  9,  -999.00,9,   -999.0,  -999.00,9,  -999.00,9,     0.20,2,     0.09,2,   -999.0,-999.0000, -999,9,  100,  21.9184,  24.4231,   -999.0,9
       RF04-01,  NONE,RF-2059,  1,     16,02-18570,2,20040122,1013, 27.9947, 160.9982, 5819,    125.8,  21.3500,  35.1495,2,   -999.0,9,-999.0000,9,    216.0,2,     1.53,2,  -999.00,9,     0.04,2,     0.01,2,     0.00,2, -999.000,9, -999.000,9,  -999.00,9,   -999.0,9,   -999.0,9,-999.0000,9,   -999.0,  9,  -999.00,9,   -999.0,  -999.00,9,  -999.00,9,     0.17,2,     0.08,2,   -999.0,-999.0000, -999,9,  125,  21.3256,  24.5187,   -999.0,9
       RF04-01,  NONE,RF-2059,  1,     15,02-18569,2,20040122,1011, 27.9947, 160.9982, 5819,    150.9,  18.9045,  34.8558,2,   -999.0,9,-999.0000,9,    210.2,2,     2.34,2,  -999.00,9,     1.11,2,     0.05,2,     0.09,2, -999.000,9, -999.000,9,  -999.00,9,   -999.0,9,   -999.0,9,-999.0000,9,   -999.0,  9,  -999.00,9,   -999.0,  -999.00,9,  -999.00,9,     0.07,2,     0.15,2,   -999.0,-999.0000, -999,9,  150,  18.8777,  24.9421,   -999.0,9
       RF04-01,  NONE,RF-2059,  1,     14,02-18568,2,20040122,1009, 27.9947, 160.9982, 5819,    201.6,  16.9872,  34.7196,2,   -999.0,9,  34.7191,2,    208.5,2,     3.99,2,  -999.00,9,     4.66,2,     0.01,2,     0.26,2, -999.000,9, -999.000,9,  -999.00,9,   -999.0,9,   -999.0,9,-999.0000,9,   -999.0,  9,  -999.00,9,   -999.0,  -999.00,9,  -999.00,9,     0.01,2,     0.03,2,   -999.0,-999.0000, -999,9,  200,  16.9540,  25.3099,   -999.0,9
       RF04-01,  NONE,RF-2059,  1,     13,02-18567,2,20040122,1008, 27.9947, 160.9982, 5819,    252.5,  16.6190,  34.7264,2,   -999.0,9,-999.0000,9,    217.5,2,     4.48,2,  -999.00,9,     4.92,2,     0.01,2,     0.28,2, -999.000,9, -999.000,9,  -999.00,9,   -999.0,9,   -999.0,9,-999.0000,9,   -999.0,  9,  -999.00,9,   -999.0,  -999.00,9,  -999.00,9,  -999.00,9,  -999.00,9,   -999.0,-999.0000, -999,9,  251,  16.5780,  25.4036,   -999.0,9
       RF04-01,  NONE,RF-2059,  1,     12,02-18566,2,20040122,1006, 27.9947, 160.9982, 5819,    302.7,  15.8611,  34.6456,2,   -999.0,9,  34.6477,2,    205.7,2,     6.21,2,  -999.00,9,     6.70,2,     0.01,2,     0.40,2, -999.000,9, -999.000,9,  -999.00,9,   -999.0,9,   -999.0,9,-999.0000,9,   -999.0,  9,  -999.00,9,   -999.0,  -999.00,9,  -999.00,9,  -999.00,9,  -999.00,9,   -999.0,-999.0000, -999,9,  300,  15.8135,  25.5174,   -999.0,9
       RF04-01,  NONE,RF-2059,  1,     11,02-18565,2,20040122,1004, 27.9947, 160.9982, 5819,    403.4,  13.7701,  34.4811,2,   -999.0,9,  34.4850,2,    204.6,2,    10.50,2,  -999.00,9,    10.29,2,     0.00,2,     0.64,2, -999.000,9, -999.000,9,  -999.00,9,   -999.0,9,   -999.0,9,-999.0000,9,   -999.0,  9,  -999.00,9,   -999.0,  -999.00,9,  -999.00,9,  -999.00,9,  -999.00,9,   -999.0,-999.0000, -999,9,  400,  13.7123,  25.8460,   -999.0,9
       RF04-01,  NONE,RF-2059,  1,     10,02-18564,2,20040122,1002, 27.9947, 160.9982, 5819,    504.0,  11.3569,  34.3116,2,   -999.0,9,  34.3147,2,    192.8,2,    18.70,2,  -999.00,9,    15.33,2,     0.00,2,     1.00,2, -999.000,9, -999.000,9,  -999.00,9,   -999.0,9,   -999.0,9,-999.0000,9,   -999.0,  9,  -999.00,9,   -999.0,  -999.00,9,  -999.00,9,  -999.00,9,  -999.00,9,   -999.0,-999.0000, -999,9,  500,  11.2931,  26.1862,   -999.0,9
       RF04-01,  NONE,RF-2059,  1,      9,02-18563,2,20040122,0958, 27.9947, 160.9982, 5819,    605.6,   9.0280,  34.1505,2,   -999.0,9,  34.1542,2,    175.7,2,    31.87,2,  -999.00,9,    21.43,2,     0.01,2,     1.46,2, -999.000,9, -999.000,9,  -999.00,9,   -999.0,9,   -999.0,9,-999.0000,9,   -999.0,  9,  -999.00,9,   -999.0,  -999.00,9,  -999.00,9,  -999.00,9,  -999.00,9,   -999.0,-999.0000, -999,9,  601,   8.9613,  26.4591,   -999.0,9
       RF04-01,  NONE,RF-2059,  1,      8,02-18562,2,20040122,0956, 27.9947, 160.9982, 5819,    705.0,   6.8416,  34.0626,2,   -999.0,9,  34.0639,2,    133.0,2,    53.16,2,  -999.00,9,    29.06,2,     0.00,2,     2.06,2, -999.000,9, -999.000,9,  -999.00,9,   -999.0,9,   -999.0,9,-999.0000,9,   -999.0,  9,  -999.00,9,   -999.0,  -999.00,9,  -999.00,9,  -999.00,9,  -999.00,9,   -999.0,-999.0000, -999,9,  699,   6.7750,  26.7109,   -999.0,9
       RF04-01,  NONE,RF-2059,  1,      7,02-18561,2,20040122,0953, 27.9947, 160.9982, 5819,    807.1,   5.4632,  34.1037,2,   -999.0,9,  34.1026,2,     88.9,2,    75.02,2,  -999.00,9,    35.17,2,     0.00,2,     2.55,2, -999.000,9, -999.000,9,  -999.00,9,   -999.0,9,   -999.0,9,-999.0000,9,   -999.0,  9,  -999.00,9,   -999.0,  -999.00,9,  -999.00,9,  -999.00,9,  -999.00,9,   -999.0,-999.0000, -999,9,  800,   5.3947,  26.9186,   -999.0,9
       RF04-01,  NONE,RF-2059,  1,      6,02-18560,2,20040122,0951, 27.9947, 160.9982, 5819,    907.5,   4.6253,  34.1800,2,   -999.0,9,-999.0000,9,     62.7,2,    93.55,2,  -999.00,9,    38.69,2,     0.00,2,     2.80,2, -999.000,9, -999.000,9,  -999.00,9,   -999.0,9,   -999.0,9,-999.0000,9,   -999.0,  9,  -999.00,9,   -999.0,  -999.00,9,  -999.00,9,  -999.00,9,  -999.00,9,   -999.0,-999.0000, -999,9,  899,   4.5534,  27.0752,   -999.0,9
       RF04-01,  NONE,RF-2059,  1,      5,02-18559,2,20040122,0949, 27.9947, 160.9982, 5819,   1010.6,   4.0569,  34.2578,2,   -999.0,9,  34.2575,2,     45.4,2,   108.35,2,  -999.00,9,    40.83,2,     0.00,2,     2.96,2, -999.000,9, -999.000,9,  -999.00,9,   -999.0,9,   -999.0,9,-999.0000,9,   -999.0,  9,  -999.00,9,   -999.0,  -999.00,9,  -999.00,9,  -999.00,9,  -999.00,9,   -999.0,-999.0000, -999,9, 1001,   3.9803,  27.1978,   -999.0,9
       RF04-01,  NONE,RF-2059,  1,      4,02-18558,2,20040122,0943, 27.9947, 160.9982, 5819,   1262.4,   3.0350,  34.4070,2,   -999.0,9,  34.4076,2,     31.5,2,   136.76,2,  -999.00,9,    42.66,2,     0.01,2,     3.09,2, -999.000,9, -999.000,9,  -999.00,9,   -999.0,9,   -999.0,9,-999.0000,9,   -999.0,  9,  -999.00,9,   -999.0,  -999.00,9,  -999.00,9,  -999.00,9,  -999.00,9,   -999.0,-999.0000, -999,9, 1250,   2.9466,  27.4165,   -999.0,9
       RF04-01,  NONE,RF-2059,  1,      3,02-18557,2,20040122,0938, 27.9947, 160.9982, 5819,   1516.1,   2.5246,  34.5090,2,   -999.0,9,  34.5090,2,     43.7,2,   148.93,2,  -999.00,9,    42.30,2,     0.01,2,     3.04,2, -999.000,9, -999.000,9,  -999.00,9,   -999.0,9,   -999.0,9,-999.0000,9,   -999.0,  9,  -999.00,9,   -999.0,  -999.00,9,  -999.00,9,  -999.00,9,  -999.00,9,   -999.0,-999.0000, -999,9, 1501,   2.4211,  27.5440,   -999.0,9
       RF04-01,  NONE,RF-2059,  1,      2,02-18556,2,20040122,0933, 27.9947, 160.9982, 5819,   1768.7,   2.1616,  34.5693,2,   -999.0,9,  34.5690,2,     63.8,2,   154.20,2,  -999.00,9,    41.22,2,     0.00,2,     2.93,2, -999.000,9, -999.000,9,  -999.00,9,   -999.0,9,   -999.0,9,-999.0000,9,   -999.0,  9,  -999.00,9,   -999.0,  -999.00,9,  -999.00,9,  -999.00,9,  -999.00,9,   -999.0,-999.0000, -999,9, 1750,   2.0421,  27.6233,   -999.0,9
       RF04-01,  NONE,RF-2059,  1,      1,02-18555,2,20040122,0927, 27.9947, 160.9982, 5819,   2044.9,   1.9095,  34.6087,2,   -999.0,9,  34.6080,2,     85.2,2,   155.71,2,  -999.00,9,    40.12,2,     0.01,2,     2.83,2, -999.000,9, -999.000,9,  -999.00,9,   -999.0,9,   -999.0,9,-999.0000,9,   -999.0,  9,  -999.00,9,   -999.0,  -999.00,9,  -999.00,9,  -999.00,9,  -999.00,9,   -999.0,-999.0000, -999,9, 2021,   1.7707,  27.6760,   -999.0,9