BOTTLE,20130510GEMDJMAYT
EXPOCODE,SECT_ID,STNNBR,CASTNO,SAMPNO,BTLNBR,BTLNBR_FLAG_W,DATE,TIME,LATITUDE,LONGITUDE,DEPTH,CTDPRS,CTDTMP,CTDSAL,CTDSAL_FLAG_W,CTDOXY,CTDOXY_FLAG_W,SALNTY,SALNTY_FLAG_W,OXYGEN,OXYGEN_FLAG_W,SILCAT,SILCAT_FLAG_W,NITRAT,NITRAT_FLAG_W,NO2+NO3,NO2+NO3_FLAG_W,NITRIT,NITRIT_FLAG_W,PHSPHT,PHSPHT_FLAG_W,CFC-11,CFC-11_FLAG_W,CFC-12,CFC-12_FLAG_W,DELC13,DELC13_FLAG_W,TCARBN,TCARBN_FLAG_W,ALKALI,ALKALI_FLAG_W,PH,PH_FLAG_W,PH_TMP,PH_SCALE,PH_NBS,PH_NBS_FLAG_W,C13ERR,TOTALP,TOTALP_FLAG_W,AMMONI,AMMONI_FLAG_W,CHLORA,CHLORA_FLAG_W,PPHYTN,PPHYTN_FLAG_W,REVPRS,REVTMP,DEPTH_,DEPTH_FLAG,CTDDEP,THETA,SIGTHT,DOC,DOC_FLAG_W
,,,,,,,GMT,GMT,,,METER,DBAR,ITS-90,PSS-78,,UMOL/KG,,PSS-78,,UMOL/KG,,UMOL/KG,,UMOL/KG,,UMOL/KG,,UMOL/KG,,UMOL/KG,,PMOL/KG,,PMOL/KG,,/MILLE,,UMOL/KG,,UMOL/KG,,25_DEG_C,,DEG_C,,,,/MILLE,UMOL/KG,,UMOL/KG,,UG/L,,UG/L,,DBAR,ITS-90,METERS,,METERS,DEG_C,,UMOL/L,
       RF04-01,  165E,RF-2064,  1,     -9,      -9,5,20040124,0828, 24.9912, 165.0058, 5892,      0.0,  21.6001,  35.1057,2,   -999.0,9,-999.0000,9,    219.2,2,     1.87,2,  -999.00,9,     0.00,2,     0.00,2,     0.01,2, -999.000,9, -999.000,9,  -999.00,9,   1988.8,2,   -999.0,9,-999.0000,9,   -999.0,  9,  -999.00,9,   -999.0,  -999.00,9,  -999.00,9,     0.12,2,     0.04,2,   -999.0,-999.0000, -999,9,    0,  21.5998,  24.4097,   -999.0,9
       RF04-01,  165E,RF-2064,  1,     21,02-18575,2,20040124,0825, 24.9912, 165.0058, 5892,     10.5,  21.4119,  35.0810,2,   -999.0,9,  35.0816,2,    220.8,2,     1.92,2,  -999.00,9,     0.00,2,     0.00,2,     0.01,2, -999.000,9, -999.000,9,  -999.00,9,   1987.4,2,   -999.0,9,-999.0000,9,   -999.0,  9,  -999.00,9,   -999.0,  -999.00,9,  -999.00,9,     0.13,2,     0.05,2,   -999.0,-999.0000, -999,9,   10,  21.4099,  24.4434,   -999.0,9
       RF04-01,  165E,RF-2064,  1,     20,02-18574,2,20040124,0824, 24.9912, 165.0058, 5892,     24.7,  21.3835,  35.0826,2,   -999.0,9,-999.0000,9,    218.0,2,     1.89,2,  -999.00,9,     0.00,2,     0.00,2,     0.01,2, -999.000,9, -999.000,9,  -999.00,9,   1987.3,2,   -999.0,9,-999.0000,9,   -999.0,  9,  -999.00,9,   -999.0,  -999.00,9,  -999.00,9,     0.15,2,     0.07,2,   -999.0,-999.0000, -999,9,   25,  21.3787,  24.4532,   -999.0,9
       RF04-01,  165E,RF-2064,  1,     19,02-18573,2,20040124,0823, 24.9912, 165.0058, 5892,     49.7,  21.0735,  35.0192,2,   -999.0,9,-999.0000,9,    220.1,2,     1.94,2,  -999.00,9,     0.00,2,     0.00,2,     0.01,2, -999.000,9, -999.000,9,  -999.00,9,   1986.6,2,   -999.0,9,-999.0000,9,   -999.0,  9,  -999.00,9,   -999.0,  -999.00,9,  -999.00,9,     0.19,2,     0.11,2,   -999.0,-999.0000, -999,9,   49,  21.0640,  24.4911,   -999.0,9
       RF04-01,  165E,RF-2064,  1,     18,02-18572,2,20040124,0821, 24.9912, 165.0058, 5892,     75.8,  20.9342,  34.9905,2,   -999.0,9,-999.0000,9,    218.9,2,     2.03,2,  -999.00,9,     0.00,2,     0.01,2,     0.01,2, -999.000,9, -999.000,9,  -999.00,9,   1987.1,2,   -999.0,9,-999.0000,9,   -999.0,  9,  -999.00,9,   -999.0,  -999.00,9,  -999.00,9,     0.24,2,     0.14,2,   -999.0,-999.0000, -999,9,   75,  20.9197,  24.5085,   -999.0,9
       RF04-01,  165E,RF-2064,  1,     17,02-18571,2,20040124,0820, 24.9912, 165.0058, 5892,    101.0,  20.7746,  34.9711,2,   -999.0,9,  34.9649,2,    215.9,2,     2.30,2,  -999.00,9,     0.32,2,     0.04,2,     0.03,2, -999.000,9, -999.000,9,  -999.00,9,   1988.4,2,   -999.0,9,-999.0000,9,   -999.0,  9,  -999.00,9,   -999.0,  -999.00,9,  -999.00,9,     0.19,2,     0.12,2,   -999.0,-999.0000, -999,9,  100,  20.7554,  24.5382,   -999.0,9
       RF04-01,  165E,RF-2064,  1,     16,02-18570,2,20040124,0819, 24.9912, 165.0058, 5892,    124.6,  18.5015,  34.7882,2,   -999.0,9,-999.0000,9,    204.5,2,     3.76,2,  -999.00,9,     2.98,2,     0.05,2,     0.20,2, -999.000,9, -999.000,9,  -999.00,9,   2018.5,2,   -999.0,9,-999.0000,9,   -999.0,  9,  -999.00,9,   -999.0,  -999.00,9,  -999.00,9,     0.08,2,     0.22,2,   -999.0,-999.0000, -999,9,  124,  18.4797,  24.9907,   -999.0,9
       RF04-01,  165E,RF-2064,  1,     15,02-18569,2,20040124,0817, 24.9912, 165.0058, 5892,    150.9,  17.4062,  34.7569,2,   -999.0,9,-999.0000,9,    208.1,2,     3.86,2,  -999.00,9,     3.69,2,     0.02,2,     0.23,2, -999.000,9, -999.000,9,  -999.00,9,   2021.9,2,   -999.0,9,-999.0000,9,   -999.0,  9,  -999.00,9,   -999.0,  -999.00,9,  -999.00,9,     0.04,2,     0.10,2,   -999.0,-999.0000, -999,9,  150,  17.3810,  25.2366,   -999.0,9
       RF04-01,  165E,RF-2064,  1,     14,02-18568,2,20040124,0816, 24.9912, 165.0058, 5892,    201.5,  16.3866,  34.6934,2,   -999.0,9,  34.6926,2,    210.9,2,     5.22,2,  -999.00,9,     5.44,2,     0.00,2,     0.32,2, -999.000,9, -999.000,9,  -999.00,9,   2027.8,2,   -999.0,9,-999.0000,9,   -999.0,  9,  -999.00,9,   -999.0,  -999.00,9,  -999.00,9,     0.00,2,     0.01,2,   -999.0,-999.0000, -999,9,  200,  16.3542,  25.4303,   -999.0,9
       RF04-01,  165E,RF-2064,  1,     13,02-18567,2,20040124,0814, 24.9912, 165.0058, 5892,    251.8,  15.6685,  34.6247,2,   -999.0,9,-999.0000,9,    204.7,2,     6.78,2,  -999.00,9,     6.98,2,     0.00,2,     0.42,2, -999.000,9, -999.000,9,  -999.00,9,   2035.5,2,   -999.0,9,-999.0000,9,   -999.0,  9,  -999.00,9,   -999.0,  -999.00,9,  -999.00,9,  -999.00,9,  -999.00,9,   -999.0,-999.0000, -999,9,  250,  15.6293,  25.5429,   -999.0,9
       RF04-01,  165E,RF-2064,  1,     12,02-18566,2,20040124,0813, 24.9912, 165.0058, 5892,    301.5,  14.7377,  34.5533,2,   -999.0,9,  34.5525,2,    205.6,2,     8.68,2,  -999.00,9,     8.57,2,     0.00,2,     0.55,2, -999.000,9, -999.000,9,  -999.00,9,   2048.6,2,   -999.0,9,-999.0000,9,   -999.0,  9,  -999.00,9,   -999.0,  -999.00,9,  -999.00,9,  -999.00,9,  -999.00,9,   -999.0,-999.0000, -999,9,  299,  14.6926,  25.6944,   -999.0,9
       RF04-01,  165E,RF-2064,  1,     11,02-18565,2,20040124,0810, 24.9912, 165.0058, 5892,    403.6,  12.2596,  34.3753,2,   -999.0,9,  34.3797,2,    203.1,2,    15.18,2,  -999.00,9,    12.99,2,     0.00,2,     0.85,2, -999.000,9, -999.000,9,  -999.00,9,   2085.0,6,   -999.0,9,-999.0000,9,   -999.0,  9,  -999.00,9,   -999.0,  -999.00,9,  -999.00,9,  -999.00,9,  -999.00,9,   -999.0,-999.0000, -999,9,  401,  12.2061,  26.0645,   -999.0,9
       RF04-01,  165E,RF-2064,  1,     10,02-18564,2,20040124,0808, 24.9912, 165.0058, 5892,    503.9,   9.7341,  34.1905,2,   -999.0,9,  34.1913,2,    185.5,2,    26.69,2,  -999.00,9,    19.15,2,     0.00,2,     1.30,2, -999.000,9, -999.000,9,  -999.00,9,   -999.0,9,   -999.0,9,-999.0000,9,   -999.0,  9,  -999.00,9,   -999.0,  -999.00,9,  -999.00,9,  -999.00,9,  -999.00,9,   -999.0,-999.0000, -999,9,  500,   9.6763,  26.3741,   -999.0,9
       RF04-01,  165E,RF-2064,  1,      9,02-18563,2,20040124,0804, 24.9912, 165.0058, 5892,    605.1,   7.2348,  34.0656,2,   -999.0,9,  34.0669,2,    141.1,2,    48.43,2,  -999.00,9,    27.86,2,     0.00,2,     1.96,2, -999.000,9, -999.000,9,  -999.00,9,   2190.3,2,   -999.0,9,-999.0000,9,   -999.0,  9,  -999.00,9,   -999.0,  -999.00,9,  -999.00,9,  -999.00,9,  -999.00,9,   -999.0,-999.0000, -999,9,  600,   7.1763,  26.6584,   -999.0,9
       RF04-01,  165E,RF-2064,  1,      8,02-18562,2,20040124,0802, 24.9912, 165.0058, 5892,    705.8,   5.5853,  34.0943,2,   -999.0,9,  34.0965,2,     88.0,2,    73.57,2,  -999.00,9,    35.23,2,     0.00,2,     2.54,2, -999.000,9, -999.000,9,  -999.00,9,   -999.0,9,   -999.0,9,-999.0000,9,   -999.0,  9,  -999.00,9,   -999.0,  -999.00,9,  -999.00,9,  -999.00,9,  -999.00,9,   -999.0,-999.0000, -999,9,  700,   5.5253,  26.8955,   -999.0,9
       RF04-01,  165E,RF-2064,  1,      7,02-18561,2,20040124,0759, 24.9912, 165.0058, 5892,    806.7,   4.6907,  34.1806,2,   -999.0,9,  34.1807,2,     56.6,2,    92.82,2,  -999.00,9,    39.25,2,     0.00,2,     2.84,2, -999.000,9, -999.000,9,  -999.00,9,   2304.2,2,   -999.0,9,-999.0000,9,   -999.0,  9,  -999.00,9,   -999.0,  -999.00,9,  -999.00,9,  -999.00,9,  -999.00,9,   -999.0,-999.0000, -999,9,  800,   4.6270,  27.0675,   -999.0,9
       RF04-01,  165E,RF-2064,  1,      6,02-18560,2,20040124,0757, 24.9912, 165.0058, 5892,    908.1,   4.1463,  34.2664,2,   -999.0,9,-999.0000,9,     41.4,2,   106.87,2,  -999.00,9,    41.13,2,     0.00,2,     2.99,2, -999.000,9, -999.000,9,  -999.00,9,   -999.0,9,   -999.0,9,-999.0000,9,   -999.0,  9,  -999.00,9,   -999.0,  -999.00,9,  -999.00,9,  -999.00,9,  -999.00,9,   -999.0,-999.0000, -999,9,  900,   4.0775,  27.1945,   -999.0,9
       RF04-01,  165E,RF-2064,  1,      5,02-18559,2,20040124,0755, 24.9912, 165.0058, 5892,   1008.3,   3.6925,  34.3574,2,   -999.0,9,  34.3577,2,     37.1,2,   118.77,2,  -999.00,9,    42.08,2,     0.00,2,     3.05,2, -999.000,9, -999.000,9,  -999.00,9,   2353.0,6,   -999.0,9,-999.0000,9,   -999.0,  9,  -999.00,9,   -999.0,  -999.00,9,  -999.00,9,  -999.00,9,  -999.00,9,   -999.0,-999.0000, -999,9,  999,   3.6188,  27.3134,   -999.0,9
       RF04-01,  165E,RF-2064,  1,      4,02-18558,2,20040124,0749, 24.9912, 165.0058, 5892,   1262.4,   3.0663,  34.4830,2,   -999.0,9,  34.4831,2,     52.5,2,   132.16,2,  -999.00,9,    41.38,2,     0.00,2,     2.99,2, -999.000,9, -999.000,9,  -999.00,9,   2354.6,2,   -999.0,9,-999.0000,9,   -999.0,  9,  -999.00,9,   -999.0,  -999.00,9,  -999.00,9,  -999.00,9,  -999.00,9,   -999.0,-999.0000, -999,9, 1250,   2.9774,  27.4744,   -999.0,9
       RF04-01,  165E,RF-2064,  1,      3,02-18557,2,20040124,0744, 24.9912, 165.0058, 5892,   1515.0,   2.5902,  34.5594,2,   -999.0,9,  34.5592,2,     74.8,2,   138.38,2,  -999.00,9,    40.45,2,     0.00,2,     2.88,2, -999.000,9, -999.000,9,  -999.00,9,   2353.3,2,   -999.0,9,-999.0000,9,   -999.0,  9,  -999.00,9,   -999.0,  -999.00,9,  -999.00,9,  -999.00,9,  -999.00,9,   -999.0,-999.0000, -999,9, 1500,   2.4859,  27.5788,   -999.0,9
       RF04-01,  165E,RF-2064,  1,      2,02-18556,2,20040124,0738, 24.9912, 165.0058, 5892,   1768.6,   2.1969,  34.5923,2,   -999.0,9,  34.5912,2,     86.3,2,   145.39,2,  -999.00,9,    40.03,2,     0.00,2,     2.82,2, -999.000,9, -999.000,9,  -999.00,9,   -999.0,9,   -999.0,9,-999.0000,9,   -999.0,  9,  -999.00,9,   -999.0,  -999.00,9,  -999.00,9,  -999.00,9,  -999.00,9,   -999.0,-999.0000, -999,9, 1750,   2.0769,  27.6389,   -999.0,9
       RF04-01,  165E,RF-2064,  1,      1,02-18555,2,20040124,0733, 24.9912, 165.0058, 5892,   2045.1,   1.9674,  34.6209,2,   -999.0,9,  34.6208,2,    100.3,2,   147.54,2,  -999.00,9,    39.22,2,     0.00,2,     2.75,2, -999.000,9, -999.000,9,  -999.00,9,   2353.4,2,   -999.0,9,-999.0000,9,   -999.0,  9,  -999.00,9,   -999.0,  -999.00,9,  -999.00,9,  -999.00,9,  -999.00,9,   -999.0,-999.0000, -999,9, 2022,   1.8277,  27.6814,   -999.0,9