BOTTLE,20121206MIRCJHATS
EXPOCODE,SECT_ID,STNNBR,CASTNO,SAMPNO,BTLNBR,BTLNBR_FLAG_W,DATE,TIME,LATITUDE,LONGITUDE,DEPTH,CTDPRS,CTDTMP,CTDSAL,CTDSAL_FLAG_W,CTDOXY,CTDOXY_FLAG_W,SALNTY,SALNTY_FLAG_W,OXYGEN,OXYGEN_FLAG_W,SILCAT,SILCAT_FLAG_W,NITRAT,NITRAT_FLAG_W,NO2+NO3,NO2+NO3_FLAG_W,NITRIT,NITRIT_FLAG_W,PHSPHT,PHSPHT_FLAG_W,CFC-11,CFC-11_FLAG_W,CFC-12,CFC-12_FLAG_W,DELC13,DELC13_FLAG_W,TCARBN,TCARBN_FLAG_W,ALKALI,ALKALI_FLAG_W,PH,PH_FLAG_W,PH_TMP,PH_SCALE,PH_NBS,PH_NBS_FLAG_W,TOTALP,C13ERR,TOTALP_FLAG_W,AMMONI,AMMONI_FLAG_W,CHLORA,CHLORA_FLAG_W,PPHYTN,PPHYTN_FLAG_W,REVPRS,REVTMP,DEPTH,DEPTH_FLAG,CTDDEP,THETA,SIGTHT,DOC,DOC_FLAG_W
,,,,,,,GMT,GMT,,,METERS,DBAR,ITS-90,PSS-78,,UMOL/KG,,PSS-78,,UMOL/KG,,UMOL/KG,,UMOL/KG,,UMOL/KG,,UMOL/KG, ,UMOL/KG,,PMOL/KG,,PMOL/KG,,/MILLE,,UMOL/KG,,UMOL/KG,,25_DEG_C,,DEG_C,,,,/MILLE,UMOL/KG,,UMOL/KG,,UG/L,,UG/L,,DBAR,ITS-90,METERS,,METERS,DEG_C,,UMOL/L
RF04-06-1,165E,RF-2199,1,-9,-9,5,20040619,1704,30.9995,164.9978,6023,0,24.0582,35.143,2,-999,9,-999,9,215.5,2,2.1,2,-999,9,0,2,0,2,0,2,-999,9,-999,9,-999,9,1990.7,2,-999,9,-999,9,   -999.0,  9,-999,9,-999,-999,9,-999,9,-999,9,-999,9,-999,-999,-999,9,0,24.0579,23.7324,-999,9
RF04-06-1,165E,RF-2199,1,21,02-18575,2,20040619,1702,30.9995,164.9978,6023,10.7,23.9905,35.1373,2,-999,9,-999,9,212.6,2,2.11,2,-999,9,0,2,0,2,0,2,-999,9,-999,9,-999,9,-999,9,-999,9,-999,9,   -999.0,  9,-999,9,-999,-999,9,-999,9,-999,9,-999,9,-999,-999,-999,9,11,23.9882,23.7488,-999,9
RF04-06-1,165E,RF-2199,1,20,02-18574,2,20040619,1701,30.9995,164.9978,6023,26.2,22.5316,35.0882,2,-999,9,-999,9,225.8,2,2.28,2,-999,9,0,2,0,2,0,2,-999,9,-999,9,-999,9,-999,9,-999,9,-999,9,   -999.0,  9,-999,9,-999,-999,9,-999,9,-999,9,-999,9,-999,-999,-999,9,26,22.5263,24.1362,-999,9
RF04-06-1,165E,RF-2199,1,19,02-18573,2,20040619,1700,30.9995,164.9978,6023,50.1,20.2934,35.0001,2,-999,9,-999,9,235.5,2,2.38,2,-999,9,0,2,0,2,0,2,-999,9,-999,9,-999,9,-999,9,-999,9,-999,9,   -999.0,  9,-999,9,-999,-999,9,-999,9,-999,9,-999,9,-999,-999,-999,9,50,20.2841,24.6866,-999,9
RF04-06-1,165E,RF-2199,1,18,02-18572,2,20040619,1659,30.9995,164.9978,6023,76.2,18.9683,34.9545,2,-999,9,-999,9,236.6,2,2.53,2,-999,9,0,2,0,2,0.02,2,-999,9,-999,9,-999,9,-999,9,-999,9,-999,9,   -999.0,  9,-999,9,-999,-999,9,-999,9,-999,9,-999,9,-999,-999,-999,9,76,18.9548,24.9979,-999,9
RF04-06-1,165E,RF-2199,1,17,02-18571,2,20040619,1658,30.9995,164.9978,6023,100.8,18.3107,34.8922,2,-999,9,34.8934,2,234,2,2.63,2,-999,9,0.07,2,0.06,2,0.03,2,-999,9,-999,9,-999,9,-999,9,-999,9,-999,9,   -999.0,  9,-999,9,-999,-999,9,-999,9,-999,9,-999,9,-999,-999,-999,9,100,18.2932,25.1169,-999,9
RF04-06-1,165E,RF-2199,1,16,02-18570,2,20040619,1657,30.9995,164.9978,6023,126.4,17.6609,34.829,2,-999,9,-999,9,221.1,2,3.36,2,-999,9,2.17,2,0.08,2,0.13,2,-999,9,-999,9,-999,9,-999,9,-999,9,-999,9,   -999.0,  9,-999,9,-999,-999,9,-999,9,-999,9,-999,9,-999,-999,-999,9,126,17.6395,25.2293,-999,9
RF04-06-1,165E,RF-2199,1,15,02-18569,2,20040619,1657,30.9995,164.9978,6023,151,17.2147,34.7832,2,-999,9,-999,9,218.9,2,3.92,2,-999,9,3.23,2,0.01,2,0.19,2,-999,9,-999,9,-999,9,-999,9,-999,9,-999,9,   -999.0,  9,-999,9,-999,-999,9,-999,9,-999,9,-999,9,-999,-999,-999,9,150,17.1896,25.3026,-999,9
RF04-06-1,165E,RF-2199,1,14,02-18568,2,20040619,1655,30.9995,164.9978,6023,202.3,16.7354,34.747,2,-999,9,34.747,2,227.5,2,4.38,2,-999,9,3.87,2,0,2,0.22,2,-999,9,-999,9,-999,9,-999,9,-999,9,-999,9,   -999.0,  9,-999,9,-999,-999,9,-999,9,-999,9,-999,9,-999,-999,-999,9,201,16.7024,25.3903,-999,9
RF04-06-1,165E,RF-2199,1,13,02-18567,2,20040619,1654,30.9995,164.9978,6023,250.4,16.4774,34.731,2,-999,9,-999,9,223.1,2,5.03,2,-999,9,4.45,2,0,2,0.25,2,-999,9,-999,9,-999,9,-999,9,-999,9,-999,9,   -999.0,  9,-999,9,-999,-999,9,-999,9,-999,9,-999,9,-999,-999,-999,9,249,16.437,25.44,-999,9
RF04-06-1,165E,RF-2199,1,12,02-18566,2,20040619,1653,30.9995,164.9978,6023,301.4,16.073,34.696,2,-999,9,34.6989,2,216,2,6.02,2,-999,9,5.6,2,0,2,0.33,2,-999,9,-999,9,-999,9,-999,9,-999,9,-999,9,   -999.0,  9,-999,9,-999,-999,9,-999,9,-999,9,-999,9,-999,-999,-999,9,299,16.0251,25.508,-999,9
RF04-06-1,165E,RF-2199,1,11,02-18565,2,20040619,1651,30.9995,164.9978,6023,404,14.7944,34.5774,2,-999,9,34.5812,4,208.7,2,9.29,2,-999,9,8.33,2,0,2,0.51,2,-999,9,-999,9,-999,9,-999,9,-999,9,-999,9,   -999.0,  9,-999,9,-999,-999,9,-999,9,-999,9,-999,9,-999,-999,-999,9,401,14.7336,25.7041,-999,9
RF04-06-1,165E,RF-2199,1,10,02-18564,2,20040619,1649,30.9995,164.9978,6023,503.4,12.4344,34.3696,2,-999,9,-999,9,196.6,2,16.56,2,-999,9,12.82,2,0,2,0.83,2,-999,9,-999,9,-999,9,-999,9,-999,9,-999,9,   -999.0,  9,-999,9,-999,-999,9,-999,9,-999,9,-999,9,-999,-999,-999,9,499,12.3668,26.0291,-999,9
RF04-06-1,165E,RF-2199,1,9,02-18563,2,20040619,1646,30.9995,164.9978,6023,605.7,10.0868,34.237,2,-999,9,34.2466,4,185.9,2,28.18,2,-999,9,18.05,2,0,2,1.22,2,-999,9,-999,9,-999,9,-999,9,-999,9,-999,9,   -999.0,  9,-999,9,-999,-999,9,-999,9,-999,9,-999,9,-999,-999,-999,9,601,10.0153,26.3535,-999,9
RF04-06-1,165E,RF-2199,1,8,02-18562,2,20040619,1644,30.9995,164.9978,6023,706.4,6.8014,33.9682,2,-999,9,33.9719,2,176.8,2,47.59,2,-999,9,24.96,2,0,2,1.78,2,-999,9,-999,9,-999,9,-999,9,-999,9,-999,9,   -999.0,  9,-999,9,-999,-999,9,-999,9,-999,9,-999,9,-999,-999,-999,9,700,6.735,26.6419,-999,9
RF04-06-1,165E,RF-2199,1,7,02-18561,2,20040619,1642,30.9995,164.9978,6023,806.4,5.2997,34.0182,2,-999,9,34.0147,4,119.9,2,71.76,2,-999,9,32.58,2,0,2,2.36,2,-999,9,-999,9,-999,9,-999,9,-999,9,-999,9,   -999.0,  9,-999,9,-999,-999,9,-999,9,-999,9,-999,9,-999,-999,-999,9,799,5.2324,26.87,-999,9
RF04-06-1,165E,RF-2199,1,6,02-18560,2,20040619,1640,30.9995,164.9978,6023,909.5,4.4821,34.1344,2,-999,9,-999,9,70.7,2,96.2,2,-999,9,37.89,2,0,2,2.76,2,-999,9,-999,9,-999,9,-999,9,-999,9,-999,9,   -999.0,  9,-999,9,-999,-999,9,-999,9,-999,9,-999,9,-999,-999,-999,9,901,4.4111,27.0544,-999,9
RF04-06-1,165E,RF-2199,1,5,02-18559,2,20040619,1638,30.9995,164.9978,6023,1009.8,4.0458,34.2267,2,-999,9,34.2251,2,51.5,2,110.49,2,-999,9,39.89,2,0,2,2.89,2,-999,9,-999,9,-999,9,-999,9,-999,9,-999,9,   -999.0,  9,-999,9,-999,-999,9,-999,9,-999,9,-999,9,-999,-999,-999,9,1000,3.9694,27.1741,-999,9
RF04-06-1,165E,RF-2199,1,4,02-18558,2,20040619,1633,30.9995,164.9978,6023,1263.5,3.1716,34.3815,2,-999,9,34.3801,2,38.5,2,135.16,2,-999,9,41.79,2,0,2,3.03,2,-999,9,-999,9,-999,9,-999,9,-999,9,-999,9,   -999.0,  9,-999,9,-999,-999,9,-999,9,-999,9,-999,9,-999,-999,-999,9,1251,3.0818,27.3838,-999,9
RF04-06-1,165E,RF-2199,1,3,02-18557,2,20040619,1629,30.9995,164.9978,6023,1517.1,2.6188,34.4796,2,-999,9,34.4788,2,36.3,2,150.72,2,-999,9,42.6,2,0,2,3.07,2,-999,9,-999,9,-999,9,-999,9,-999,9,-999,9,   -999.0,  9,-999,9,-999,-999,9,-999,9,-999,9,-999,9,-999,-999,-999,9,1501,2.5142,27.5126,-999,9
RF04-06-1,165E,RF-2199,1,2,02-18556,2,20040619,1624,30.9995,164.9978,6023,1770.4,2.2514,34.5438,2,-999,9,34.5429,2,49.5,2,158.98,2,-999,9,41.69,2,0,2,3,2,-999,9,-999,9,-999,9,-999,9,-999,9,-999,9,   -999.0,  9,-999,9,-999,-999,9,-999,9,-999,9,-999,9,-999,-999,-999,9,1751, 2.1307,27.5957,-999,9
RF04-06-1,165E,RF-2199,1,1,02-18555,2,20040619,1619,30.9995,164.9978,6023,2046.3,2.0219,34.5912,2,-999,9,34.5901,2,73.7,2,158.78,2,-999,9,40.63,2,0,2,2.87,2,-999,9,-999,9,-999,9,-999,9,-999,9,-999,9,   -999.0,  9,-999,9,-999,-999,9,-999,9,-999,9,-999,9,-999,-999,-999,9,2022, 1.8814,27.6535,-999,9
RF04-06-1,165E,RF-2200,1,-9,-9,5,20040619,2359,30.0032,164.9897,5861,0,24.2474,35.0931,2,-999,9,-999,9,214.1,2,2.18,2,-999,9,0,2,0,2,0,2,-999,9,-999,9,-999,9,1990.4,2,-999,9,-999,9,   -999.0,  9,-999,9,-999,-999,9,-999,9,0.08,2,0.01,2,-999,-999,-999,9,0,24.247,23.6384,-999,9
RF04-06-1,165E,RF-2200,1,24,02-18578,2,20040619,2357,30.0032,164.9897,5861,10.8,24.1056,35.0892,2,-999,9,-999,9,213.6,2,2.32,2,-999,9,0,2,0,2,0,2,-999,9,-999,9,-999,9,-999,9,-999,9,-999,9,   -999.0,  9,-999,9,-999,-999,9,-999,9,0.08,2,0.01,2,-999,-999,-999,9,11,24.1033,23.6782,-999,9
RF04-06-1,165E,RF-2200,1,23,02-18577,2,20040619,2356,30.0032,164.9897,5861,25.6,23.3495,35.076,2,-999,9,-999,9,222.4,2,2.31,2,-999,9,0,2,0,2,0,2,-999,9,-999,9,-999,9,-999,9,-999,9,-999,9,   -999.0,  9,-999,9,-999,-999,9,-999,9,0.09,2,0.01,2,-999,-999,-999,9,25,23.3442,23.8915,-999,9
RF04-06-1,165E,RF-2200,1,22,02-18576,2,20040619,2355,30.0032,164.9897,5861,50.6,20.2708,34.9813,2,-999,9,-999,9,235.4,2,2.48,2,-999,9,0,2,0,2,0,2,-999,9,-999,9,-999,9,-999,9,-999,9,-999,9,   -999.0,  9,-999,9,-999,-999,9,-999,9,0.11,2,0.02,2,-999,-999,-999,9,50,20.2614,24.6783,-999,9
RF04-06-1,165E,RF-2200,1,21,02-18575,2,20040619,2354,30.0032,164.9897,5861,75.4,19.0378,34.9693,2,-999,9,-999,9,230.3,2,2.67,2,-999,9,0,2,0,2,0,2,-999,9,-999,9,-999,9,-999,9,-999,9,-999,9,   -999.0,  9,-999,9,-999,-999,9,-999,9,0.18,2,0.15,2,-999,-999,-999,9,75,19.0244,24.9914,-999,9
RF04-06-1,165E,RF-2200,1,20,02-18574,2,20040619,2353,30.0032,164.9897,5861,99.5,18.274,34.8947,2,-999,9,-999,9,224.9,2,3.1,2,-999,9,1.14,2,0.1,2,0.07,2,-999,9,-999,9,-999,9,-999,9,-999,9,-999,9,   -999.0,  9,-999,9,-999,-999,9,-999,9,0.24,2,0.3,2,-999,-999,-999,9,99,18.2568,25.1279,-999,9
RF04-06-1,165E,RF-2200,1,19,02-18573,2,20040619,2352,30.0032,164.9897,5861,125.6,17.7213,34.839,2,-999,9,-999,9,219.8,2,3.66,2,-999,9,2.63,2,0.01,2,0.13,2,-999,9,-999,9,-999,9,-999,9,-999,9,-999,9,   -999.0,  9,-999,9,-999,-999,9,-999,9,0.09,2,0.11,2,-999,-999,-999,9,125,17.7,25.2222,-999,9
RF04-06-1,165E,RF-2200,1,18,02-18572,2,20040619,2351,30.0032,164.9897,5861,152.1,17.2725,34.7917,2,-999,9,-999,9,218.9,2,4.09,2,-999,9,3.49,2,0,2,0.19,2,-999,9,-999,9,-999,9,-999,9,-999,9,-999,9,   -999.0,  9,-999,9,-999,-999,9,-999,9,0.04,2,0.02,2,-999,-999,-999,9,151,17.2472,25.2954,-999,9
RF04-06-1,165E,RF-2200,1,17,02-18571,2,20040619,2349,30.0032,164.9897,5861,201.7,16.8086,34.7507,2,-999,9,-999,9,219.9,2,4.66,2,-999,9,4.14,2,0,2,0.22,2,-999,9,-999,9,-999,9,-999,9,-999,9,-999,9,   -999.0,  9,-999,9,-999,-999,9,-999,9,0.01,2,0.01,2,-999,-999,-999,9,200,16.7756,25.3759,-999,9
RF04-06-1,165E,RF-2200,1,16,02-18570,2,20040619,2348,30.0032,164.9897,5861,252.9,16.5227,34.7341,2,-999,9,-999,9,220.9,2,5.22,2,-999,9,4.74,2,0,2,0.25,2,-999,9,-999,9,-999,9,-999,9,-999,9,-999,9,   -999.0,  9,-999,9,-999,-999,9,-999,9,-999,9,-999,9,-999,-999,-999,9,251,16.4818,25.4319,-999,9
RF04-06-1,165E,RF-2200,1,15,02-18569,2,20040619,2346,30.0032,164.9897,5861,302.7,16.2066,34.7235,2,-999,9,-999,9,224.6,2,5.74,2,-999,9,5.02,2,0,2,0.27,2,-999,9,-999,9,-999,9,-999,9,-999,9,-999,9,   -999.0,  9,-999,9,-999,-999,9,-999,9,-999,9,-999,9,-999,-999,-999,9,300,16.1582,25.4986,-999,9
RF04-06-1,165E,RF-2200,1,14,02-18568,2,20040619,2344,30.0032,164.9897,5861,404.4,14.8498,34.5822,2,-999,9,-999,9,206,2,9.89,2,-999,9,8.69,2,0,2,0.52,2,-999,9,-999,9,-999,9,-999,9,-999,9,-999,9,   -999.0,  9,-999,9,-999,-999,9,-999,9,-999,9,-999,9,-999,-999,-999,9,401,14.7888,25.6959,-999,9
RF04-06-1,165E,RF-2200,1,13,02-18567,2,20040619,2341,30.0032,164.9897,5861,504.3,12.5422,34.4132,2,-999,9,-999,9,200.2,2,17.44,2,-999,9,13.36,2,0,2,0.84,2,-999,9,-999,9,-999,9,-999,9,-999,9,-999,9,   -999.0,  9,-999,9,-999,-999,9,-999,9,-999,9,-999,9,-999,-999,-999,9,500,12.4741,26.042,-999,9
RF04-06-1,165E,RF-2200,1,12,02-18566,2,20040619,2339,30.0032,164.9897,5861,606.5,9.7933,34.1963,2,-999,9,-999,9,194.4,2,27.72,2,-999,9,18.43,2,0,2,1.21,2,-999,9,-999,9,-999,9,-999,9,-999,9,-999,9,   -999.0,  9,-999,9,-999,-999,9,-999,9,-999,9,-999,9,-999,-999,-999,9,602,9.7231,26.3709,-999,9
RF04-06-1,165E,RF-2200,1,11,02-18565,3,20040619,2336,30.0032,164.9897,5861,705.6,7.1797,34.0285,2,-999,9,-999,9,166.5,2,46.6,2,-999,9,25.46,2,0,2,1.75,2,-999,9,-999,9,-999,9,-999,9,-999,9,-999,9,   -999.0,  9,-999,9,-999,-999,9,-999,9,-999,9,-999,9,-999,-999,-999,9,700,7.1113,26.6381,-999,9
RF04-06-1,165E,RF-2200,1,10,02-18564,2,20040619,2334,30.0032,164.9897,5861,808.4,5.4084,34.0096,2,-999,9,-999,9,121.4,2,70.5,2,-999,9,32.37,2,0,2,2.30,2,-999,9,-999,9,-999,9,-999,9,-999,9,-999,9,   -999.0,  9,-999,9,-999,-999,9,-999,9,-999,9,-999,9,-999,-999,-999,9,801,5.3403,26.8505,-999,9
RF04-06-1,165E,RF-2200,1,9,02-18563,2,20040619,2331,30.0032,164.9897,5861,907.4,4.7462,34.1044,2,-999,9,-999,9,85.5,2,89.26,2,-999,9,36.76,2,0,2,2.63,2,-999,9,-999,9,-999,9,-999,9,-999,9,-999,9,   -999.0,  9,-999,9,-999,-999,9,-999,9,-999,9,-999,9,-999,-999,-999,9,899,4.6736,27.0019,-999,9
RF04-06-1,165E,RF-2200,1,8,02-18562,2,20040619,2329,30.0032,164.9897,5861,1010.7,4.1307,34.214,2,-999,9,-999,9,53.2,2,108.16,2,-999,9,39.9,2,0,2,2.85,2,-999,9,-999,9,-999,9,-999,9,-999,9,-999,9,   -999.0,  9,-999,9,-999,-999,9,-999,9,-999,9,-999,9,-999,-999,-999,9,1001,4.0536,27.1554,-999,9
RF04-06-1,165E,RF-2200,1,7,02-18561,2,20040619,2323,30.0032,164.9897,5861,1263.4,3.1793,34.3789,2,-999,9,-999,9,33.7,2,135.52,2,-999,9,42.4,2,0,2,3.04,2,-999,9,-999,9,-999,9,-999,9,-999,9,-999,9,   -999.0,  9,-999,9,-999,-999,9,-999,9,-999,9,-999,9,-999,-999,-999,9,1251,3.0894,27.3811,-999,9
RF04-06-1,165E,RF-2200,1,6,02-18560,2,20040619,2318,30.0032,164.9897,5861,1516.5,2.6736,34.4849,2,-999,9,-999,9,37.7,2,148.55,2,-999,9,42.72,2,0,2,3.04,2,-999,9,-999,9,-999,9,-999,9,-999,9,-999,9,   -999.0,  9,-999,9,-999,-999,9,-999,9,-999,9,-999,9,-999,-999,-999,9,1501,2.5684,27.5121,-999,9
RF04-06-1,165E,RF-2200,1,5,02-18559,2,20040619,2313,30.0032,164.9897,5861,1770.5,2.2599,34.5465,2,-999,9,-999,9,52,2,158.29,2,-999,9,42.03,2,0,2,2.98,2,-999,9,-999,9,-999,9,-999,9,-999,9,-999,9,   -999.0,  9,-999,9,-999,-999,9,-999,9,-999,9,-999,9,-999,-999,-999,9,1751,2.139,27.5973,-999,9
RF04-06-1,165E,RF-2200,1,4,02-18558,2,20040619,2307,30.0032,164.9897,5861,2025.4,2.0019,34.5903,2,-999,9,-999,9,72,2,160.86,2,-999,9,40.96,2,0,2,2.87,2,-999,9,-999,9,-999,9,-999,9,-999,9,-999,9,   -999.0,  9,-999,9,-999,-999,9,-999,9,-999,9,-999,9,-999,-999,-999,9,2002,1.8634,27.6541,-999,9
RF04-06-1,165E,RF-2200,1,3,02-18557,2,20040619,2248,30.0032,164.9897,5861,3063.5,1.5623,34.6631,2,-999,9,-999,9,-999,9,-999,9,-999,9,-999,9,-999,9,-999,9,-999,9,-999,9,-999,9,-999,9,-999,9,-999,9,   -999.0,  9,-999,9,-999,-999,9,-999,9,-999,9,-999,9,-999,-999,-999,9,3021,1.3381,27.7514,-999,9
RF04-06-1,165E,RF-2200,1,2,02-18556,2,20040619,2247,30.0032,164.9897,5861,3063.4,1.5625,34.6629,2,-999,9,-999,9,-999,9,-999,9,-999,9,-999,9,-999,9,-999,9,-999,9,-999,9,-999,9,-999,9,-999,9,-999,9,   -999.0,  9,-999,9,-999,-999,9,-999,9,-999,9,-999,9,-999,-999,-999,9,3021,1.3383,27.7513,-999,9
RF04-06-1,165E,RF-2200,1,1,02-18555,3,20040619,2247,30.0032,164.9897,5861,3064.4,1.5624,34.663,2,-999,9,-999,9,-999,9,-999,9,-999,9,-999,9,-999,9,-999,9,-999,9,-999,9,-999,9,-999,9,-999,9,-999,9,   -999.0,  9,-999,9,-999,-999,9,-999,9,-999,9,-999,9,-999,-999,-999,9,3022,1.3381,27.7513,-999,9