BOTTLE,20121206MIRCJHATS
EXPOCODE,SECT_ID,STNNBR,CASTNO,SAMPNO,BTLNBR,BTLNBR_FLAG_W,DATE,TIME,LATITUDE,LONGITUDE,DEPTH,CTDPRS,CTDTMP,CTDSAL,CTDSAL_FLAG_W,CTDOXY,CTDOXY_FLAG_W,SALNTY,SALNTY_FLAG_W,OXYGEN,OXYGEN_FLAG_W,SILCAT,SILCAT_FLAG_W,NITRAT,NITRAT_FLAG_W,NO2+NO3,NO2+NO3_FLAG_W,NITRIT,NITRIT_FLAG_W,PHSPHT,PHSPHT_FLAG_W,CFC-11,CFC-11_FLAG_W,CFC-12,CFC-12_FLAG_W,DELC13,DELC13_FLAG_W,TCARBN,TCARBN_FLAG_W,ALKALI,ALKALI_FLAG_W,PH,PH_FLAG_W,PH_TMP,PH_SCALE,PH_NBS,PH_NBS_FLAG_W,TOTALP,C13ERR,TOTALP_FLAG_W,AMMONI,AMMONI_FLAG_W,CHLORA,CHLORA_FLAG_W,PPHYTN,PPHYTN_FLAG_W,REVPRS,REVTMP,DEPTH,DEPTH_FLAG,CTDDEP,THETA,SIGTHT,DOC,DOC_FLAG_W
,,,,,,,GMT,GMT,,,METERS,DBAR,ITS-90,PSS-78,,UMOL/KG,,PSS-78,,UMOL/KG,,UMOL/KG,,UMOL/KG,,UMOL/KG,,UMOL/KG, ,UMOL/KG,,PMOL/KG,,PMOL/KG,,/MILLE,,UMOL/KG,,UMOL/KG,,25_DEG_C,,DEG_C,,,,/MILLE,UMOL/KG,,UMOL/KG,,UG/L,,UG/L,,DBAR,ITS-90,METERS,,METERS,DEG_C,,UMOL/L
RF04-06-1,165E,RF-2189,1,-9,-9,5,20040616,1625,41.0122,165.0083,5297,0,14.6704,33.7978,2,-999,9,-999,9,282.2,2,15.12,2,-999,9,5.51,2,0.09,2,0.50,2,-999,9,-999,9,-999,9,2023.3,2,-999,9,-999,9,   -999.0,  9,-999,9,-999,-999,9,-999,9,-999,9,-999,9,-999,-999,-999,9,0,14.6702,25.1164,-999,9
RF04-06-1,165E,RF-2189,1,21,02-18575,2,20040616,1623,41.0122,165.0083,5297,10.3,14.6314,33.7973,2,-999,9,-999,9,290.4,2,14.7,2,-999,9,5.3,2,0.09,2,0.49,2,-999,9,-999,9,-999,9,-999,9,-999,9,-999,9,   -999.0,  9,-999,9,-999,-999,9,-999,9,-999,9,-999,9,-999,-999,-999,9,10,14.6299,25.1247,-999,9
RF04-06-1,165E,RF-2189,1,20,02-18574,2,20040616,1622,41.0122,165.0083,5297,26.3,11.1428,33.9671,2,-999,9,-999,9,299.8,2,17.06,2,-999,9,8.27,2,0.11,2,0.68,2,-999,9,-999,9,-999,9,-999,9,-999,9,-999,9,   -999.0,  9,-999,9,-999,-999,9,-999,9,-999,9,-999,9,-999,-999,-999,9,26,11.1396,25.946,-999,9
RF04-06-1,165E,RF-2189,1,19,02-18573,2,20040616,1621,41.0122,165.0083,5297,50.1,9.334,33.9891,2,-999,9,-999,9,282.3,2,19.7,2,-999,9,11.75,2,0.28,2,0.86,2,-999,9,-999,9,-999,9,-999,9,-999,9,-999,9,   -999.0,  9,-999,9,-999,-999,9,-999,9,-999,9,-999,9,-999,-999,-999,9,50,9.3285,26.2738,-999,9
RF04-06-1,165E,RF-2189,1,18,02-18572,2,20040616,1620,41.0122,165.0083,5297,75.2,8.6536,33.9983,2,-999,9,-999,9,269.3,2,21.14,2,-999,9,13.69,2,0.03,2,0.96,2,-999,9,-999,9,-999,9,-999,9,-999,9,-999,9,   -999.0,  9,-999,9,-999,-999,9,-999,9,-999,9,-999,9,-999,-999,-999,9,75,8.6458,26.3893,-999,9
RF04-06-1,165E,RF-2189,1,17,02-18571,2,20040616,1619,41.0122,165.0083,5297,100.6,8.0344,33.9237,2,-999,9,33.9387,4,271.5,2,22,2,-999,9,14.13,2,0,2,1.00,2,-999,9,-999,9,-999,9,-999,9,-999,9,-999,9,   -999.0,  9,-999,9,-999,-999,9,-999,9,-999,9,-999,9,-999,-999,-999,9,100,8.0244,26.4249,-999,9
RF04-06-1,165E,RF-2189,1,16,02-18570,2,20040616,1618,41.0122,165.0083,5297,126.2,7.8708,33.9501,2,-999,9,-999,9,261.6,2,24.23,2,-999,9,15.51,2,0,2,1.09,2,-999,9,-999,9,-999,9,-999,9,-999,9,-999,9,   -999.0,  9,-999,9,-999,-999,9,-999,9,-999,9,-999,9,-999,-999,-999,9,125,7.8584,26.4701,-999,9
RF04-06-1,165E,RF-2189,1,15,02-18569,2,20040616,1616,41.0122,165.0083,5297,150.8,7.6848,33.9585,2,-999,9,-999,9,252.8,2,26.62,2,-999,9,16.6,2,0,2,1.17,2,-999,9,-999,9,-999,9,-999,9,-999,9,-999,9,   -999.0,  9,-999,9,-999,-999,9,-999,9,-999,9,-999,9,-999,-999,-999,9,150,7.6702,26.5041,-999,9
RF04-06-1,165E,RF-2189,1,14,02-18568,2,20040616,1615,41.0122,165.0083,5297,202.5,6.3624,33.8179,2,-999,9,33.8197,2,252.7,2,31.33,2,-999,9,18.84,2,0,2,1.34,2,-999,9,-999,9,-999,9,-999,9,-999,9,-999,9,   -999.0,  9,-999,9,-999,-999,9,-999,9,-999,9,-999,9,-999,-999,-999,9,201,6.3448,26.5747,-999,9
RF04-06-1,165E,RF-2189,1,13,02-18567,2,20040616,1613,41.0122,165.0083,5297,253.1,5.7118,33.8357,2,-999,9,-999,9,198.3,2,46.94,2,-999,9,25.16,2,0,2,1.80,2,-999,9,-999,9,-999,9,-999,9,-999,9,-999,9,   -999.0,  9,-999,9,-999,-999,9,-999,9,-999,9,-999,9,-999,-999,-999,9,251,5.691,26.6708,-999,9
RF04-06-1,165E,RF-2189,1,12,02-18566,2,20040616,1612,41.0122,165.0083,5297,302.6,5.2863,33.8717,2,-999,9,33.8726,2,161.9,2,57.89,2,-999,9,29.05,2,0,2,2.08,2,-999,9,-999,9,-999,9,-999,9,-999,9,-999,9,   -999.0,  9,-999,9,-999,-999,9,-999,9,-999,9,-999,9,-999,-999,-999,9,300,5.2623,26.7505,-999,9
RF04-06-1,165E,RF-2189,1,11,02-18565,2,20040616,1609,41.0122,165.0083,5297,403.8,4.848,33.9864,2,-999,9,33.987,2,111.9,2,76.47,2,-999,9,34.2,2,0,2,2.45,2,-999,9,-999,9,-999,9,-999,9,-999,9,-999,9,   -999.0,  9,-999,9,-999,-999,9,-999,9,-999,9,-999,9,-999,-999,-999,9,400,4.8169,26.8923,-999,9
RF04-06-1,165E,RF-2189,1,10,02-18564,2,20040616,1607,41.0122,165.0083,5297,505.5,4.5253,34.112,2,-999,9,34.1121,2,73.2,2,93.17,2,-999,9,37.8,2,0,2,2.72,2,-999,9,-999,9,-999,9,-999,9,-999,9,-999,9,   -999.0,  9,-999,9,-999,-999,9,-999,9,-999,9,-999,9,-999,-999,-999,9,501,4.4872,27.0283,-999,9
RF04-06-1,165E,RF-2189,1,9,02-18563,2,20040616,1604,41.0122,165.0083,5297,606.6,4.1395,34.2034,2,-999,9,34.2021,2,55.3,2,106.43,2,-999,9,39.61,2,0,2,2.85,2,-999,9,-999,9,-999,9,-999,9,-999,9,-999,9,   -999.0,  9,-999,9,-999,-999,9,-999,9,-999,9,-999,9,-999,-999,-999,9,601,4.0951,27.1426,-999,9
RF04-06-1,165E,RF-2189,1,8,02-18562,2,20040616,1602,41.0122,165.0083,5297,708.1,3.7722,34.2466,2,-999,9,-999,9,43.2,2,116.75,2,-999,9,41.03,2,0,2,2.96,2,-999,9,-999,9,-999,9,-999,9,-999,9,-999,9,   -999.0,  9,-999,9,-999,-999,9,-999,9,-999,9,-999,9,-999,-999,-999,9,701,3.7218,27.215,-999,9
RF04-06-1,165E,RF-2189,1,7,02-18561,2,20040616,1559,41.0122,165.0083,5297,810.1,3.521,34.3135,2,-999,9,34.3133,2,41.7,2,124.49,2,-999,9,41.22,2,0,2,2.98,2,-999,9,-999,9,-999,9,-999,9,-999,9,-999,9,   -999.0,  9,-999,9,-999,-999,9,-999,9,-999,9,-999,9,-999,-999,-999,9,802, 3.4642,27.2935,-999,9
RF04-06-1,165E,RF-2189,1,6,02-18560,2,20040616,1557,41.0122,165.0083,5297,911.7,3.1568,34.338,2,-999,9,-999,9,33.1,2,134.45,2,-999,9,42.28,2,0,2,3.06,2,-999,9,-999,9,-999,9,-999,9,-999,9,-999,9,   -999.0,  9,-999,9,-999,-999,9,-999,9,-999,9,-999,9,-999,-999,-999,9,903,3.0947,27.3479,-999,9
RF04-06-1,165E,RF-2189,1,5,02-18559,2,20040616,1554,41.0122,165.0083,5297,1012.3,2.9592,34.3819,2,-999,9,34.3815,2,32.4,2,140.53,2,-999,9,42.45,2,0,2,3.06,2,-999,9,-999,9,-999,9,-999,9,-999,9,-999,9,   -999.0,  9,-999,9,-999,-999,9,-999,9,-999,9,-999,9,-999,-999,-999,9,1002,2.8909,27.4015,-999,9
RF04-06-1,165E,RF-2189,1,4,02-18558,2,20040616,1549,41.0122,165.0083,5297,1263.5,2.5398,34.4551,2,-999,9,34.4535,2,33.1,2,153.4,2,-999,9,42.71,2,0,2,3.08,2,-999,9,-999,9,-999,9,-999,9,-999,9,-999,9,   -999.0,  9,-999,9,-999,-999,9,-999,9,-999,9,-999,9,-999,-999,-999,9,1250,2.456,27.4979,-999,9
RF04-06-1,165E,RF-2189,1,3,02-18557,2,20040616,1543,41.0122,165.0083,5297,1519,2.2718,34.5171,2,-999,9,34.5176,2,43,2,159.54,2,-999,9,42.41,2,0,2,3.03,2,-999,9,-999,9,-999,9,-999,9,-999,9,-999,9,   -999.0,  9,-999,9,-999,-999,9,-999,9,-999,9,-999,9,-999,-999,-999,9,1502,2.171,27.5711,-999,9
RF04-06-1,165E,RF-2189,1,2,02-18556,2,20040616,1538,41.0122,165.0083,5297,1771.8,2.0626,34.5611,2,-999,9,34.5598,2,56,2,163.24,2,-999,9,41.69,2,0,2,2.95,2,-999,9,-999,9,-999,9,-999,9,-999,9,-999,9,   -999.0,  9,-999,9,-999,-999,9,-999,9,-999,9,-999,9,-999,-999,-999,9,1751, 1.9443,27.6244,-999,9
RF04-06-1,165E,RF-2189,1,1,02-18555,2,20040616,1532,41.0122,165.0083,5297,2049.1,1.8817,34.5984,2,-999,9,34.596,2,74,2,164.26,2,-999,9,40.71,2,0,2,2.87,2,-999,9,-999,9,-999,9,-999,9,-999,9,-999,9,   -999.0,  9,-999,9,-999,-999,9,-999,9,-999,9,-999,9,-999,-999,-999,9,2023,1.7431,27.6698,-999,9
RF04-06-1,165E,RF-2190,1,-9,-9,5,20040616,2316,40.0153,165.008,5473,0,15.8573,33.8737,2,-999,9,-999,9,278.1,2,11.73,2,-999,9,4.01,2,0.09,2,0.36,2,-999,9,-999,9,-999,9,2001.7,2,-999,9,-999,9,   -999.0,  9,-999,9,-999,-999,9,-999,9,1.33,2,0.11,2,-999,-999,-999,9,0,15.8571,24.9137,-999,9
RF04-06-1,165E,RF-2190,1,21,02-18575,2,20040616,2314,40.0153,165.008,5473,11.3,15.749,33.897,2,-999,9,-999,9,285.8,2,10.76,2,-999,9,3.62,2,0.08,2,0.35,2,-999,9,-999,9,-999,9,2011.8,2,-999,9,-999,9,   -999.0,  9,-999,9,-999,-999,9,-999,9,1.54,2,0.14,2,-999,-999,-999,9,11,15.7473,24.9563,-999,9
RF04-06-1,165E,RF-2190,1,20,02-18574,2,20040616,2313,40.0153,165.008,5473,25.6,12.6947,33.9708,2,-999,9,-999,9,304.2,2,14.89,2,-999,9,7.07,2,0.11,2,0.58,2,-999,9,-999,9,-999,9,2034.3,2,-999,9,-999,9,   -999.0,  9,-999,9,-999,-999,9,-999,9,1.96,2,0.38,2,-999,-999,-999,9,25,12.6913,25.6565,-999,9
RF04-06-1,165E,RF-2190,1,19,02-18573,2,20040616,2312,40.0153,165.008,5473,50.8,9.2976,33.8805,2,-999,9,-999,9,280.1,2,20.05,2,-999,9,11.6,2,0.28,2,0.87,2,-999,9,-999,9,-999,9,2075.5,2,-999,9,-999,9,   -999.0,  9,-999,9,-999,-999,9,-999,9,0.34,2,0.19,2,-999,-999,-999,9,50,9.2921,26.1947,-999,9
RF04-06-1,165E,RF-2190,1,18,02-18572,2,20040616,2311,40.0153,165.008,5473,75.4,8.6409,33.9898,2,-999,9,-999,9,267.2,2,21.98,2,-999,9,13.92,2,0.01,2,0.98,2,-999,9,-999,9,-999,9,2092.2,2,-999,9,-999,9,   -999.0,  9,-999,9,-999,-999,9,-999,9,0.15,2,0.1,2,-999,-999,-999,9,75,8.6331,26.3846,-999,9
RF04-06-1,165E,RF-2190,1,17,02-18571,2,20040616,2310,40.0153,165.008,5473,100.9,7.4662,33.841,2,-999,9,-999,9,280.4,2,23.19,2,-999,9,14.67,2,0.01,2,1.06,2,-999,9,-999,9,-999,9,2094,2,-999,9,-999,9,   -999.0,  9,-999,9,-999,-999,9,-999,9,0.09,2,0.08,2,-999,-999,-999,9,100,7.4566,26.4422,-999,9
RF04-06-1,165E,RF-2190,1,16,02-18570,3,20040616,2309,40.0153,165.008,5473,126.2,7.1085,33.823,2,-999,9,-999,9,278.6,2,23.68,2,-999,9,15.04,2,0,2,1.08,2,-999,9,-999,9,-999,9,2097.7,2,-999,9,-999,9,   -999.0,  9,-999,9,-999,-999,9,-999,9,0.05,2,0.07,2,-999,-999,-999,9,125,7.0969,26.4783,-999,9
RF04-06-1,165E,RF-2190,1,15,02-18569,3,20040616,2307,40.0153,165.008,5473,150.3,7.3449,33.9013,2,-999,9,-999,9,268.1,2,24.75,2,-999,9,15.62,2,0,2,1.11,2,-999,9,-999,9,-999,9,2104,2,-999,9,-999,9,   -999.0,  9,-999,9,-999,-999,9,-999,9,0.02,2,0.07,2,-999,-999,-999,9,149,7.3307,26.5074,-999,9
RF04-06-1,165E,RF-2190,1,14,02-18568,2,20040616,2306,40.0153,165.008,5473,201.8,6.9773,33.9073,2,-999,9,-999,9,254.4,2,29.39,2,-999,9,17.74,2,0,2,1.27,2,-999,9,-999,9,-999,9,2119.9,2,-999,9,-999,9,   -999.0,  9,-999,9,-999,-999,9,-999,9,0.01,2,0.06,2,-999,-999,-999,9,200,6.9588,26.5637,-999,9
RF04-06-1,165E,RF-2190,1,13,02-18567,2,20040616,2304,40.0153,165.008,5473,252.3,5.6088,33.7561,2,-999,9,-999,9,267.2,2,32.53,2,-999,9,19.24,2,0,2,1.39,2,-999,9,-999,9,-999,9,2125.7,2,-999,9,-999,9,   -999.0,  9,-999,9,-999,-999,9,-999,9,-999,9,-999,9,-999,-999,-999,9,250,5.5883,26.6203,-999,9
RF04-06-1,165E,RF-2190,1,12,02-18566,2,20040616,2302,40.0153,165.008,5473,302.9,5.8122,33.8831,2,-999,9,-999,9,183.3,2,50.15,2,-999,9,26.05,2,0,2,1.86,2,-999,9,-999,9,-999,9,2181.5,2,-999,9,-999,9,   -999.0,  9,-999,9,-999,-999,9,-999,9,-999,9,-999,9,-999,-999,-999,9,300,5.7869,26.6966,-999,9
RF04-06-1,165E,RF-2190,1,11,02-18565,2,20040616,2300,40.0153,165.008,5473,404.9,5.2204,34.007,2,-999,9,-999,9,116.7,2,71.99,2,-999,9,32.81,2,0,2,2.35,2,-999,9,-999,9,-999,9,2240.7,2,-999,9,-999,9,   -999.0,  9,-999,9,-999,-999,9,-999,9,-999,9,-999,9,-999,-999,-999,9,401,5.1881,26.8663,-999,9
RF04-06-1,165E,RF-2190,1,10,02-18564,2,20040616,2257,40.0153,165.008,5473,505,4.7118,34.1012,2,-999,9,-999,9,83.4,2,88.29,2,-999,9,36.35,2,0,2,2.61,2,-999,9,-999,9,-999,9,-999,9,-999,9,-999,9,   -999.0,  9,-999,9,-999,-999,9,-999,9,-999,9,-999,9,-999,-999,-999,9,500,4.673,26.9994,-999,9
RF04-06-1,165E,RF-2190,1,9,02-18563,2,20040616,2254,40.0153,165.008,5473,605,4.2516,34.1855,2,-999,9,-999,9,59,2,102.65,2,-999,9,38.91,2,0,2,2.79,2,-999,9,-999,9,-999,9,2309.2,2,-999,9,-999,9,   -999.0,  9,-999,9,-999,-999,9,-999,9,-999,9,-999,9,-999,-999,-999,9,599,4.2068,27.1167,-999,9
RF04-06-1,165E,RF-2190,1,8,02-18562,2,20040616,2252,40.0153,165.008,5473,706.2,3.8878,34.2458,2,-999,9,-999,9,47.7,2,113.2,2,-999,9,40.27,2,0,2,2.88,2,-999,9,-999,9,-999,9,-999,9,-999,9,-999,9,   -999.0,  9,-999,9,-999,-999,9,-999,9,-999,9,-999,9,-999,-999,-999,9,700,3.8369,27.2029,-999,9
RF04-06-1,165E,RF-2190,1,7,02-18561,2,20040616,2249,40.0153,165.008,5473,807.7,3.5738,34.2894,2,-999,9,-999,9,40,2,122.19,2,-999,9,41.16,2,0,2,2.96,2,-999,9,-999,9,-999,9,2342.3,2,-999,9,-999,9,   -999.0,  9,-999,9,-999,-999,9,-999,9,-999,9,-999,9,-999,-999,-999,9,800,3.5168,27.2693,-999,9
RF04-06-1,165E,RF-2190,1,6,02-18560,2,20040616,2246,40.0153,165.008,5473,909.4,3.3385,34.342,2,-999,9,-999,9,38.8,2,128.98,2,-999,9,41.25,2,0,2,2.99,2,-999,9,-999,9,-999,9,-999,9,-999,9,-999,9,   -999.0,  9,-999,9,-999,-999,9,-999,9,-999,9,-999,9,-999,-999,-999,9,900,3.2752,27.3343,-999,9
RF04-06-1,165E,RF-2190,1,5,02-18559,2,20040616,2243,40.0153,165.008,5473,1010,3.1237,34.3779,2,-999,9,-999,9,37.5,2,135.1,2,-999,9,41.86,2,0,2,3.00,2,-999,9,-999,9,-999,9,2363.2,2,-999,9,-999,9,   -999.0,  9,-999,9,-999,-999,9,-999,9,-999,9,-999,9,-999,-999,-999,9,1000,3.0543,27.3835,-999,9
RF04-06-1,165E,RF-2190,1,4,02-18558,2,20040616,2238,40.0153,165.008,5473,1264.5,2.656,34.4454,2,-999,9,-999,9,33,2,149,2,-999,9,42.51,2,0,2,3.04,2,-999,9,-999,9,-999,9,2371.4,2,-999,9,-999,9,   -999.0,  9,-999,9,-999,-999,9,-999,9,-999,9,-999,9,-999,-999,-999,9,1251,2.571,27.4804,-999,9
RF04-06-1,165E,RF-2190,1,3,02-18557,2,20040616,2232,40.0153,165.008,5473,1517.3,2.3289,34.5021,2,-999,9,-999,9,40.6,2,158.27,2,-999,9,42.38,2,0,2,2.99,2,-999,9,-999,9,-999,9,2381.1,2,-999,9,-999,9,   -999.0,  9,-999,9,-999,-999,9,-999,9,-999,9,-999,9,-999,-999,-999,9,1500,2.2276,27.5545,-999,9
RF04-06-1,165E,RF-2190,1,2,02-18556,2,20040616,2227,40.0153,165.008,5473,1771.3,2.1137,34.551,2,-999,9,-999,9,52.3,2,161.98,2,-999,9,41.8,2,0,2,2.93,2,-999,9,-999,9,-999,9,-999,9,-999,9,-999,9,   -999.0,  9,-999,9,-999,-999,9,-999,9,-999,9,-999,9,-999,-999,-999,9,1750,1.9947,27.6124,-999,9
RF04-06-1,165E,RF-2190,1,1,02-18555,2,20040616,2222,40.0153,165.008,5473,2043.7,1.9379,34.5884,2,-999,9,-999,9,67.9,2,163.67,2,-999,9,40.89,2,0,2,2.86,2,-999,9,-999,9,-999,9,2371.2,2,-999,9,-999,9,   -999.0,  9,-999,9,-999,-999,9,-999,9,-999,9,-999,9,-999,-999,-999,9,2018,1.7989,27.6575,-999,9