BOTTLE,20121206MIRCJHATS
EXPOCODE,SECT_ID,STNNBR,CASTNO,SAMPNO,BTLNBR,BTLNBR_FLAG_W,DATE,TIME,LATITUDE,LONGITUDE,DEPTH,CTDPRS,CTDTMP,CTDSAL,CTDSAL_FLAG_W,CTDOXY,CTDOXY_FLAG_W,SALNTY,SALNTY_FLAG_W,OXYGEN,OXYGEN_FLAG_W,SILCAT,SILCAT_FLAG_W,NITRAT,NITRAT_FLAG_W,NO2+NO3,NO2+NO3_FLAG_W,NITRIT,NITRIT_FLAG_W,PHSPHT,PHSPHT_FLAG_W,CFC-11,CFC-11_FLAG_W,CFC-12,CFC-12_FLAG_W,DELC13,DELC13_FLAG_W,TCARBN,TCARBN_FLAG_W,ALKALI,ALKALI_FLAG_W,PH,PH_FLAG_W,PH_TMP,PH_SCALE,PH_NBS,PH_NBS_FLAG_W,TOTALP,C13ERR,TOTALP_FLAG_W,AMMONI,AMMONI_FLAG_W,CHLORA,CHLORA_FLAG_W,PPHYTN,PPHYTN_FLAG_W,REVPRS,REVTMP,DEPTH,DEPTH_FLAG,CTDDEP,THETA,SIGTHT,DOC,DOC_FLAG_W
,,,,,,,GMT,GMT,,,METERS,DBAR,ITS-90,PSS-78,,UMOL/KG,,PSS-78,,UMOL/KG,,UMOL/KG,,UMOL/KG,,UMOL/KG,,UMOL/KG, ,UMOL/KG,,PMOL/KG,,PMOL/KG,,/MILLE,,UMOL/KG,,UMOL/KG,,25_DEG_C,,DEG_C,,,,/MILLE,UMOL/KG,,UMOL/KG,,UG/L,,UG/L,,DBAR,ITS-90,METERS,,METERS,DEG_C,,UMOL/L
RF04-06-1,165E,RF-2202,1,-9,-9,5,20040620,1231,27.998,164.9825,5628,0,25.0005,35.1332,2,-999,9,-999,9,209.1,2,2.19,2,-999,9,0,2,0,2,0,2,-999,9,-999,9,-999,9,1984.3,2,-999,9,8.0599,2,     25.0, TS,-999,9,-999,-999,9,-999,9,0.06,2,0.01,2,-999,-999,-999,9,0,25.0002,23.4419,-999,9
RF04-06-1,165E,RF-2202,1,21,02-18575,2,20040620,1229,27.998,164.9825,5628,9.9,24.9985,35.1305,2,-999,9,-999,9,216.8,2,2.31,2,-999,9,0,2,0,2,0,2,-999,9,-999,9,-999,9,1990,2,-999,9,8.061,2,     25.0, TS,-999,9,-999,-999,9,-999,9,0.07,2,0.02,2,-999,-999,-999,9,10,24.9963,23.4409,-999,9
RF04-06-1,165E,RF-2202,1,20,02-18574,2,20040620,1228,27.998,164.9825,5628,24.6,22.6752,35.1121,2,-999,9,-999,9,228.8,2,2.41,2,-999,9,0,2,0,2,0,2,-999,9,-999,9,-999,9,1996,2,-999,9,8.0506,2,     25.0, TS,-999,9,-999,-999,9,-999,9,0.08,2,0.01,2,-999,-999,-999,9,24,22.6702,24.1133,-999,9
RF04-06-1,165E,RF-2202,1,19,02-18573,2,20040620,1228,27.998,164.9825,5628,50,19.6666,34.9787,2,-999,9,-999,9,236.2,2,2.69,2,-999,9,0,2,0,2,0,2,-999,9,-999,9,-999,9,1992.9,2,-999,9,8.0389,2,     25.0, TS,-999,9,-999,-999,9,-999,9,0.12,2,0.04,2,-999,-999,-999,9,50,19.6575,24.8353,-999,9
RF04-06-1,165E,RF-2202,1,18,02-18572,2,20040620,1227,27.998,164.9825,5628,75.3,18.2027,34.8642,2,-999,9,-999,9,231.8,2,3.14,2,-999,9,0.02,2,0.02,2,0.02,2,-999,9,-999,9,-999,9,2000.5,2,-999,9,8.0202,2,     25.0, TS,-999,9,-999,-999,9,-999,9,0.31,2,0.26,2,-999,-999,-999,9,75,18.1897,25.1211,-999,9
RF04-06-1,165E,RF-2202,1,17,02-18571,2,20040620,1226,27.998,164.9825,5628,100.2,17.7335,34.8187,2,-999,9,-999,9,222.2,2,3.69,2,-999,9,2.24,2,0.17,2,0.11,2,-999,9,-999,9,-999,9,2007.9,2,-999,9,7.9992,2,     25.0, TS,-999,9,-999,-999,9,-999,9,0.27,2,0.29,2,-999,-999,-999,9,100,17.7165,25.2027,-999,9
RF04-06-1,165E,RF-2202,1,16,02-18570,2,20040620,1225,27.998,164.9825,5628,125.9,17.2737,34.7936,2,-999,9,-999,9,218.7,2,4.05,2,-999,9,3.39,2,0.02,2,0.19,2,-999,9,-999,9,-999,9,2016,2,-999,9,7.9851,2,     25.0, TS,-999,9,-999,-999,9,-999,9,0.12,2,0.06,2,-999,-999,-999,9,125,17.2528,25.2955,-999,9
RF04-06-1,165E,RF-2202,1,15,02-18569,2,20040620,1224,27.998,164.9825,5628,151.2,17.0016,34.7743,2,-999,9,-999,9,219.7,2,4.29,2,-999,9,3.76,2,0.01,2,0.20,2,-999,9,-999,9,-999,9,2018.1,2,-999,9,7.9815,2,     25.0, TS,-999,9,-999,-999,9,-999,9,0.04,2,0.02,2,-999,-999,-999,9,150,16.9767,25.3465,-999,9
RF04-06-1,165E,RF-2202,1,14,02-18568,2,20040620,1223,27.998,164.9825,5628,201.3,16.7342,34.7735,2,-999,9,-999,9,221.8,2,4.75,2,-999,9,4.08,2,0,2,0.21,2,-999,9,-999,9,-999,9,2017.1,2,-999,9,7.9803,2,     25.0, TS,-999,9,-999,-999,9,-999,9,0.01,2,0.02,2,-999,-999,-999,9,200,16.7014,25.4109,-999,9
RF04-06-1,165E,RF-2202,1,13,02-18567,2,20040620,1221,27.998,164.9825,5628,251,16.4585,34.7532,2,-999,9,-999,9,219.2,2,5.48,2,-999,9,4.74,2,0,2,0.25,2,-999,9,-999,9,-999,9,2022.5,2,-999,9,7.9718,2,     25.0, TS,-999,9,-999,-999,9,-999,9,-999,9,-999,9,-999,-999,-999,9,249,16.418,25.4614,-999,9
RF04-06-1,165E,RF-2202,1,12,02-18566,2,20040620,1219,27.998,164.9825,5628,303.2,15.9361,34.6886,2,-999,9,-999,9,222.4,2,6.37,2,-999,9,5.56,2,0,2,0.31,2,-999,9,-999,9,-999,9,2030.8,2,-999,9,7.955,2,     25.0, TS,-999,9,-999,-999,9,-999,9,-999,9,-999,9,-999,-999,-999,9,301,15.8882,25.5335,-999,9
RF04-06-1,165E,RF-2202,1,11,02-18565,2,20040620,1217,27.998,164.9825,5628,403.6,14.3267,34.548,2,-999,9,-999,9,201.2,2,11.55,2,-999,9,9.72,2,0,2,0.58,2,-999,9,-999,9,-999,9,2061.6,2,-999,9,7.8861,2,     25.0, TS,-999,9,-999,-999,9,-999,9,-999,9,-999,9,-999,-999,-999,9,401,14.2673,25.7814,-999,9
RF04-06-1,165E,RF-2202,1,10,02-18564,2,20040620,1214,27.998,164.9825,5628,505.2,11.6675,34.3482,2,-999,9,-999,9,193.9,2,20.3,2,-999,9,14.86,2,0,2,0.95,2,-999,9,-999,9,-999,9,2098.5,2,-999,9,7.8088,2,     25.0, TS,-999,9,-999,-999,9,-999,9,-999,9,-999,9,-999,-999,-999,9,501,11.6024,26.1576,-999,9
RF04-06-1,165E,RF-2202,1,9,02-18563,2,20040620,1212,27.998,164.9825,5628,606.4,8.966,34.1333,2,-999,9,-999,9,183.9,2,32.24,2,-999,9,20.44,2,0,2,1.36,2,-999,9,-999,9,-999,9,2137,2,-999,9,7.7177,2,     25.0, TS,-999,9,-999,-999,9,-999,9,-999,9,-999,9,-999,-999,-999,9,601,8.8995,26.4553,-999,9
RF04-06-1,165E,RF-2202,1,8,02-18562,2,20040620,1209,27.998,164.9825,5628,707.2,6.3614,34.025,2,-999,9,-999,9,135.9,3,58.2,2,-999,9,29.56,2,0,2,2.08,2,-999,9,-999,9,-999,9,2208.3,2,-999,9,7.5631,2,     25.0, TS,-999,9,-999,-999,9,-999,9,-999,9,-999,9,-999,-999,-999,9,701,6.2972,26.7443,-999,9
RF04-06-1,165E,RF-2202,1,7,02-18561,2,20040620,1207,27.998,164.9825,5628,808,5.0323,34.0882,2,-999,9,-999,9,87.1,2,83.26,2,-999,9,35.95,2,0,2,2.57,2,-999,9,-999,9,-999,9,2271.9,2,-999,9,7.4463,2,     25.0, TS,-999,9,-999,-999,9,-999,9,-999,9,-999,9,-999,-999,-999,9,801, 4.9665,26.9562,-999,9
RF04-06-1,165E,RF-2202,1,6,02-18560,2,20040620,1204,27.998,164.9825,5628,908.7,4.2735,34.1863,2,-999,9,-999,9,54.5,2,103.58,2,-999,9,39.64,2,0,2,2.86,2,-999,9,-999,9,-999,9,2312.2,2,-999,9,7.3848,2,     25.0, TS,-999,9,-999,-999,9,-999,9,-999,9,-999,9,-999,-999,-999,9,901,4.2039,27.1177,-999,9
RF04-06-1,165E,RF-2202,1,5,02-18559,2,20040620,1201,27.998,164.9825,5628,1010.2,3.8064,34.2777,2,-999,9,-999,9,36.9,2,117.46,2,-999,9,41.49,2,0,2,3.00,2,-999,9,-999,9,-999,9,2337.4,2,-999,9,7.3427,2,     25.0, TS,-999,9,-999,-999,9,-999,9,-999,9,-999,9,-999,-999,-999,9,1001,3.7318,27.2388,-999,9
RF04-06-1,165E,RF-2202,1,4,02-18558,2,20040620,1156,27.998,164.9825,5628,1264.7,3.0673,34.4185,2,-999,9,-999,9,32.6,2,138.32,2,-999,9,42.55,2,0,2,3.07,2,-999,9,-999,9,-999,9,2367.3,2,-999,9,7.3671,2,     25.0, TS,-999,9,-999,-999,9,-999,9,-999,9,-999,9,-999,-999,-999,9,1252, 2.9784,27.4228,-999,9
RF04-06-1,165E,RF-2202,1,3,02-18557,2,20040620,1150,27.998,164.9825,5628,1516,2.5978,34.5115,2,-999,9,-999,9,46.4,2,148.74,2,-999,9,42.06,2,0,2,3.00,2,-999,9,-999,9,-999,9,2365.5,2,-999,9,7.3947,2,     25.0, TS,-999,9,-999,-999,9,-999,9,-999,9,-999,9,-999,-999,-999,9,1500,2.4935,27.5399,-999,9
RF04-06-1,165E,RF-2202,1,2,02-18556,2,20040620,1145,27.998,164.9825,5628,1770,2.2062,34.558,2,-999,9,-999,9,59.5,2,157.6,2,-999,9,41.52,2,0,2,2.94,2,-999,9,-999,9,-999,9,2374.6,2,-999,9,7.4162,2,     25.0, TS,-999,9,-999,-999,9,-999,9,-999,9,-999,9,-999,-999,-999,9,1751, 2.0861,27.6107,-999,9
RF04-06-1,165E,RF-2202,1,1,02-18555,2,20040620,1139,27.998,164.9825,5628,2043.2,1.9292,34.603,2,-999,9,-999,9,79.3,2,159.63,2,-999,9,40.33,2,0,2,2.82,2,-999,9,-999,9,-999,9,2364.6,2,-999,9,7.463,6,     25.0, TS,-999,9,-999,-999,9,-999,9,-999,9,-999,9,-999,-999,-999,9,2020,1.7903,27.6699,-999,9
RF04-06-1,NONE,RF-2204,1,12,02-18566,2,20040620,1536,24.67,159.993,5307,101.4,19.3584,35.0122,2,-999,9,35.0172,4,-999,9,-999,9,-999,9,-999,9,-999,9,-999,9,-999,9,-999,9,-999,9,-999,9,-999,9,-999,9,   -999.0,  9,-999,9,-999,-999,9,-999,9,-999,9,-999,9,-999,-999,-999,9,101,19.3401,24.9432,-999,9
RF04-06-1,NONE,RF-2204,1,11,02-18565,2,20040620,1534,24.67,159.993,5307,202.1,16.8396,34.7257,2,-999,9,34.7268,2,-999,9,-999,9,-999,9,-999,9,-999,9,-999,9,-999,9,-999,9,-999,9,-999,9,-999,9,-999,9,   -999.0,  9,-999,9,-999,-999,9,-999,9,-999,9,-999,9,-999,-999,-999,9,201,16.8065,25.3495,-999,9
RF04-06-1,NONE,RF-2204,1,10,02-18564,2,20040620,1531,24.67,159.993,5307,303.2,15.1512,34.5754,2,-999,9,34.5757,2,-999,9,-999,9,-999,9,-999,9,-999,9,-999,9,-999,9,-999,9,-999,9,-999,9,-999,9,-999,9,   -999.0,  9,-999,9,-999,-999,9,-999,9,-999,9,-999,9,-999,-999,-999,9,301,15.105,25.6215,-999,9
RF04-06-1,NONE,RF-2204,1,9,02-18563,2,20040620,1529,24.67,159.993,5307,403.3,12.5874,34.3956,2,-999,9,34.3991,2,-999,9,-999,9,-999,9,-999,9,-999,9,-999,9,-999,9,-999,9,-999,9,-999,9,-999,9,-999,9,   -999.0,  9,-999,9,-999,-999,9,-999,9,-999,9,-999,9,-999,-999,-999,9,400,12.533,26.0169,-999,9
RF04-06-1,NONE,RF-2204,1,8,02-18562,2,20040620,1527,24.67,159.993,5307,504.2,10.0151,34.2113,2,-999,9,34.2136,2,-999,9,-999,9,-999,9,-999,9,-999,9,-999,9,-999,9,-999,9,-999,9,-999,9,-999,9,-999,9,   -999.0,  9,-999,9,-999,-999,9,-999,9,-999,9,-999,9,-999,-999,-999,9,500,9.9562,26.3435,-999,9
RF04-06-1,NONE,RF-2204,1,7,02-18561,2,20040620,1525,24.67,159.993,5307,604.5,7.6721,34.0848,2,-999,9,34.0882,2,-999,9,-999,9,-999,9,-999,9,-999,9,-999,9,-999,9,-999,9,-999,9,-999,9,-999,9,-999,9,   -999.0,  9,-999,9,-999,-999,9,-999,9,-999,9,-999,9,-999,-999,-999,9,600,7.6116,26.6118,-999,9
RF04-06-1,NONE,RF-2204,1,6,02-18560,2,20040620,1521,24.67,159.993,5307,807.9,4.72,34.1722,2,-999,9,34.1725,2,-999,9,-999,9,-999,9,-999,9,-999,9,-999,9,-999,9,-999,9,-999,9,-999,9,-999,9,-999,9,   -999.0,  9,-999,9,-999,-999,9,-999,9,-999,9,-999,9,-999,-999,-999,9,801,4.656,27.0577,-999,9
RF04-06-1,NONE,RF-2204,1,5,02-18559,2,20040620,1517,24.67,159.993,5307,1009.4,3.6266,34.3547,2,-999,9,34.3557,2,-999,9,-999,9,-999,9,-999,9,-999,9,-999,9,-999,9,-999,9,-999,9,-999,9,-999,9,-999,9,   -999.0,  9,-999,9,-999,-999,9,-999,9,-999,9,-999,9,-999,-999,-999,9,1000,3.5533,27.3177,-999,9
RF04-06-1,NONE,RF-2204,1,4,02-18558,2,20040620,1512,24.67,159.993,5307,1261.1,2.9801,34.4837,2,-999,9,34.4835,2,-999,9,-999,9,-999,9,-999,9,-999,9,-999,9,-999,9,-999,9,-999,9,-999,9,-999,9,-999,9,   -999.0,  9,-999,9,-999,-999,9,-999,9,-999,9,-999,9,-999,-999,-999,9,1249,2.8921,27.4828,-999,9
RF04-06-1,NONE,RF-2204,1,3,02-18557,2,20040620,1508,24.67,159.993,5307,1514.7,2.5621,34.545,2,-999,9,34.5458,2,-999,9,-999,9,-999,9,-999,9,-999,9,-999,9,-999,9,-999,9,-999,9,-999,9,-999,9,-999,9,   -999.0,  9,-999,9,-999,-999,9,-999,9,-999,9,-999,9,-999,-999,-999,9,1500,2.4582,27.5697,-999,9
RF04-06-1,NONE,RF-2204,1,2,02-18556,3,20040620,1503,24.67,159.993,5307,1768.1,2.1317,34.5974,2,-999,9,34.5971,2,-999,9,-999,9,-999,9,-999,9,-999,9,-999,9,-999,9,-999,9,-999,9,-999,9,-999,9,-999,9,   -999.0,  9,-999,9,-999,-999,9,-999,9,-999,9,-999,9,-999,-999,-999,9,1749,2.0126,27.6481,-999,9
RF04-06-1,NONE,RF-2204,1,1,02-18555,2,20040621,1458,24.67,159.993,5307,2044.6,1.9191,34.6218,2,-999,9,34.6214,2,-999,9,-999,9,-999,9,-999,9,-999,9,-999,9,-999,9,-999,9,-999,9,-999,9,-999,9,-999,9,   -999.0,  9,-999,9,-999,-999,9,-999,9,-999,9,-999,9,-999,-999,-999,9,2022,1.7802,27.6858,-999,9
RF04-06-1,NONE,RF-2208,1,12,02-18566,2,20040624,0101,18.0688,149.9847,5181,51.1,28.9535,34.5862,2,-999,9,34.5907,4,-999,9,-999,9,-999,9,-999,9,-999,9,-999,9,-999,9,-999,9,-999,9,-999,9,-999,9,-999,9,   -999.0,  9,-999,9,-999,-999,9,-999,9,-999,9,-999,9,-999,-999,-999,9,51,28.9412,21.773,-999,9
RF04-06-1,NONE,RF-2208,1,11,02-18565,2,20040624,0059,18.0688,149.9847,5181,101.2,26.974,34.8704,2,-999,9,34.8736,2,-999,9,-999,9,-999,9,-999,9,-999,9,-999,9,-999,9,-999,9,-999,9,-999,9,-999,9,-999,9,   -999.0,  9,-999,9,-999,-999,9,-999,9,-999,9,-999,9,-999,-999,-999,9,101,26.9508,22.6359,-999,9
RF04-06-1,NONE,RF-2208,1,10,02-18564,2,20040624,0057,18.0688,149.9847,5181,202.4,22.8377,35.1678,2,-999,9,35.1636,4,-999,9,-999,9,-999,9,-999,9,-999,9,-999,9,-999,9,-999,9,-999,9,-999,9,-999,9,-999,9,   -999.0,  9,-999,9,-999,-999,9,-999,9,-999,9,-999,9,-999,-999,-999,9,201,22.7965,24.1194,-999,9
RF04-06-1,NONE,RF-2208,1,9,02-18563,2,20040624,0055,18.0688,149.9847,5181,303.3,17.479,34.7544,2,-999,9,34.7492,4,-999,9,-999,9,-999,9,-999,9,-999,9,-999,9,-999,9,-999,9,-999,9,-999,9,-999,9,-999,9,   -999.0,  9,-999,9,-999,-999,9,-999,9,-999,9,-999,9,-999,-999,-999,9,301,17.4279,25.2233,-999,9
RF04-06-1,NONE,RF-2208,1,8,02-18562,2,20040624,0052,18.0688,149.9847,5181,404.7,11.9151,34.3313,2,-999,9,34.3322,2,-999,9,-999,9,-999,9,-999,9,-999,9,-999,9,-999,9,-999,9,-999,9,-999,9,-999,9,-999,9,   -999.0,  9,-999,9,-999,-999,9,-999,9,-999,9,-999,9,-999,-999,-999,9,402,11.8625,26.0957,-999,9
RF04-06-1,NONE,RF-2208,1,7,02-18561,2,20040624,0048,18.0688,149.9847,5181,606.3,6.8282,34.2717,2,-999,9,34.2709,2,-999,9,-999,9,-999,9,-999,9,-999,9,-999,9,-999,9,-999,9,-999,9,-999,9,-999,9,-999,9,   -999.0,  9,-999,9,-999,-999,9,-999,9,-999,9,-999,9,-999,-999,-999,9,602,6.7712,26.8762,-999,9
RF04-06-1,NONE,RF-2208,1,6,02-18560,2,20040624,0044,18.0688,149.9847,5181,806.9,5.2925,34.4468,2,-999,9,34.4463,2,-999,9,-999,9,-999,9,-999,9,-999,9,-999,9,-999,9,-999,9,-999,9,-999,9,-999,9,-999,9,   -999.0,  9,-999,9,-999,-999,9,-999,9,-999,9,-999,9,-999,-999,-999,9,800,5.2247,27.2104,-999,9
RF04-06-1,NONE,RF-2208,1,5,02-18559,2,20040624,0040,18.0688,149.9847,5181,1009.6,4.4324,34.514,2,-999,9,34.513,2,-999,9,-999,9,-999,9,-999,9,-999,9,-999,9,-999,9,-999,9,-999,9,-999,9,-999,9,-999,9,   -999.0,  9,-999,9,-999,-999,9,-999,9,-999,9,-999,9,-999,-999,-999,9,1001,4.3526,27.3623,-999,9
RF04-06-1,NONE,RF-2208,1,4,02-18558,2,20040624,0035,18.0688,149.9847,5181,1261.9,3.6566,34.5475,2,-999,9,34.5466,2,-999,9,-999,9,-999,9,-999,9,-999,9,-999,9,-999,9,-999,9,-999,9,-999,9,-999,9,-999,9,   -999.0,  9,-999,9,-999,-999,9,-999,9,-999,9,-999,9,-999,-999,-999,9,1251,3.5619,27.4705,-999,9
RF04-06-1,NONE,RF-2208,1,3,02-18557,2,20040624,0031,18.0688,149.9847,5181,1515.1,2.9325,34.5789,2,-999,9,34.5782,2,-999,9,-999,9,-999,9,-999,9,-999,9,-999,9,-999,9,-999,9,-999,9,-999,9,-999,9,-999,9,   -999.0,  9,-999,9,-999,-999,9,-999,9,-999,9,-999,9,-999,-999,-999,9,1501,2.8242,27.5649,-999,9
RF04-06-1,NONE,RF-2208,1,2,02-18556,2,20040624,0026,18.0688,149.9847,5181,1768.5,2.6699,34.5914,2,-999,9,34.5903,2,-999,9,-999,9,-999,9,-999,9,-999,9,-999,9,-999,9,-999,9,-999,9,-999,9,-999,9,-999,9,   -999.0,  9,-999,9,-999,-999,9,-999,9,-999,9,-999,9,-999,-999,-999,9,1750,2.5435,27.5995,-999,9
RF04-06-1,NONE,RF-2208,1,1,02-18555,2,20040624,0020,18.0688,149.9847,5181,2042,2.2815,34.6146,2,-999,9,34.6142,2,-999,9,-999,9,-999,9,-999,9,-999,9,-999,9,-999,9,-999,9,-999,9,-999,9,-999,9,-999,9,   -999.0,  9,-999,9,-999,-999,9,-999,9,-999,9,-999,9,-999,-999,-999,9,2020,2.1372,27.6519,-999,9