BOTTLE,20131214MIRCJHATS
EXPOCODE,SECT_ID,STNNBR,CASTNO,SAMPNO,BTLNBR,BTLNBR_FLAG_W,DATE,TIME,LATITUDE,LONGITUDE,DEPTH,CTDPRS,CTDTMP,CTDSAL,CTDSAL_FLAG_W,CTDOXY,CTDOXY_FLAG_W,SALNTY,SALNTY_FLAG_W,OXYGEN,OXYGEN_FLAG_W,SILCAT,SILCAT_FLAG_W,NITRAT,NITRAT_FLAG_W,NO2+NO3,NO2+NO3_FLAG_W,NITRIT,NITRIT_FLAG_W,PHSPHT,PHSPHT_FLAG_W,CFC-11,CFC-11_FLAG_W,CFC-12,CFC-12_FLAG_W,DELC13,DELC13_FLAG_W,TCARBN,TCARBN_FLAG_W,ALKALI,ALKALI_FLAG_W,PH,PH_FLAG_W,PH_TMP,PH_SCALE,PH_NBS,PH_NBS_FLAG_W,C13ERR,TOTALP,TOTALP_FLAG_W,AMMONI,AMMONI_FLAG_W,CHLORA,CHLORA_FLAG_W,PPHYTN,PPHYTN_FLAG_W,REVPRS,REVTMP,DEPTH_,DEPTH_FLAG,CTDDEP,THETA,SIGTHT,DOC,DOC_FLAG_W
,,,,,,,GMT,GMT,,,METER,DBAR,ITS-90,PSS-78,,UMOL/KG,,PSS-78,,UMOL/KG,,UMOL/KG,,UMOL/KG,,UMOL/KG,,UMOL/KG,,UMOL/KG,,PMOL/KG,,PMOL/KG,,/MILLE,,UMOL/KG,,UMOL/KG,,25_DEG_C,,DEG_C,,,,/MILLE,UMOL/KG,,UMOL/KG,,UG/L,,UG/L,,DBAR,ITS-90,METERS,,METERS,DEG_C,,UMOL/L,
     RF04-06-2,  137E,RF-2222,  1,     -9,      -9,5,20040711,0208,  7.9962, 136.9867, 2892,      0.0,  29.2484,  34.0859,2,   -999.0,9,-999.0000,9,    199.7,2,     1.60,2,  -999.00,9,     0.00,2,     0.00,2,     0.01,2, -999.000,9, -999.000,9,  -999.00,9,   1905.8,2,   -999.0,9,-999.0000,9,   -999.0,  9,  -999.00,9,   -999.0,  -999.00,9,  -999.00,9,     0.09,2,     0.01,2,   -999.0,-999.0000, -999,9,    0,  29.2480,  21.2951,   -999.0,9
     RF04-06-2,  137E,RF-2222,  1,     21,02-18575,2,20040711,0206,  7.9962, 136.9867, 2892,     10.8,  29.1282,  34.0823,2,   -999.0,9,-999.0000,9,    199.6,2,     1.68,2,  -999.00,9,     0.00,2,     0.00,2,     0.01,2, -999.000,9, -999.000,9,  -999.00,9,   -999.0,9,   -999.0,9,-999.0000,9,   -999.0,  9,  -999.00,9,   -999.0,  -999.00,9,  -999.00,9,     0.11,2,     0.00,2,   -999.0,-999.0000, -999,9,   11,  29.1256,  21.3333,   -999.0,9
     RF04-06-2,  137E,RF-2222,  1,     20,02-18574,2,20040711,0205,  7.9962, 136.9867, 2892,     25.9,  28.4041,  34.0289,2,   -999.0,9,-999.0000,9,    204.2,2,     1.66,2,  -999.00,9,     0.00,2,     0.00,2,     0.00,2, -999.000,9, -999.000,9,  -999.00,9,   -999.0,9,   -999.0,9,-999.0000,9,   -999.0,  9,  -999.00,9,   -999.0,  -999.00,9,  -999.00,9,     0.09,2,     0.02,2,   -999.0,-999.0000, -999,9,   26,  28.3980,  21.5343,   -999.0,9
     RF04-06-2,  137E,RF-2222,  1,     19,02-18573,2,20040711,0203,  7.9962, 136.9867, 2892,     50.5,  28.2392,  34.0170,2,   -999.0,9,  34.4398,4,    194.3,2,     2.48,2,  -999.00,9,     0.56,2,     0.06,2,     0.11,2, -999.000,9, -999.000,9,  -999.00,9,   -999.0,9,   -999.0,9,-999.0000,9,   -999.0,  9,  -999.00,9,   -999.0,  -999.00,9,  -999.00,9,     0.29,2,     0.16,2,   -999.0,-999.0000, -999,9,   50,  28.2273,  21.5814,   -999.0,9
     RF04-06-2,  137E,RF-2222,  1,     18,02-18572,2,20040711,0202,  7.9962, 136.9867, 2892,     76.4,  22.8116,  34.7310,2,   -999.0,9,-999.0000,9,    177.3,2,     4.15,2,  -999.00,9,     3.16,2,     0.28,2,     0.30,2, -999.000,9, -999.000,9,  -999.00,9,   -999.0,9,   -999.0,9,-999.0000,9,   -999.0,  9,  -999.00,9,   -999.0,  -999.00,9,  -999.00,9,     0.40,2,     0.31,2,   -999.0,-999.0000, -999,9,   76,  22.7961,  23.7881,   -999.0,9
     RF04-06-2,  137E,RF-2222,  1,     17,02-18571,2,20040711,0200,  7.9962, 136.9867, 2892,    100.9,  19.4645,  34.7752,2,   -999.0,9,  34.7658,2,    151.6,2,     7.97,2,  -999.00,9,     8.80,2,     0.15,2,     0.60,2, -999.000,9, -999.000,9,  -999.00,9,   -999.0,9,   -999.0,9,-999.0000,9,   -999.0,  9,  -999.00,9,   -999.0,  -999.00,9,  -999.00,9,     0.27,2,     0.22,2,   -999.0,-999.0000, -999,9,  100,  19.4463,  24.7348,   -999.0,9
     RF04-06-2,  137E,RF-2222,  1,     16,02-18570,2,20040711,0159,  7.9962, 136.9867, 2892,    126.6,  16.3043,  34.6572,2,   -999.0,9,-999.0000,9,    148.2,2,    11.75,2,  -999.00,9,    12.79,2,     0.03,2,     0.85,2, -999.000,9, -999.000,9,  -999.00,9,   -999.0,9,   -999.0,9,-999.0000,9,   -999.0,  9,  -999.00,9,   -999.0,  -999.00,9,  -999.00,9,     0.10,2,     0.16,2,   -999.0,-999.0000, -999,9,  126,  16.2841,  25.4187,   -999.0,9
     RF04-06-2,  137E,RF-2222,  1,     15,02-18569,2,20040711,0158,  7.9962, 136.9867, 2892,    151.4,  14.1882,  34.6465,2,   -999.0,9,-999.0000,9,    121.8,2,    20.54,2,  -999.00,9,    19.45,2,     0.00,2,     1.33,2, -999.000,9, -999.000,9,  -999.00,9,   -999.0,9,   -999.0,9,-999.0000,9,   -999.0,  9,  -999.00,9,   -999.0,  -999.00,9,  -999.00,9,     0.02,2,     0.05,2,   -999.0,-999.0000, -999,9,  150,  14.1662,  25.8788,   -999.0,9
     RF04-06-2,  137E,RF-2222,  1,     14,02-18568,2,20040711,0153,  7.9962, 136.9867, 2892,    201.9,  11.8412,  34.5806,2,   -999.0,9,  34.5753,2,    121.6,2,    27.87,2,  -999.00,9,    22.89,2,     0.00,2,     1.58,2, -999.000,9, -999.000,9,  -999.00,9,   -999.0,9,   -999.0,9,-999.0000,9,   -999.0,  9,  -999.00,9,   -999.0,  -999.00,9,  -999.00,9,     0.00,2,     0.03,2,   -999.0,-999.0000, -999,9,  201,  11.8152,  26.2984,   -999.0,9
     RF04-06-2,  137E,RF-2222,  1,     13,02-18567,2,20040711,0149,  7.9962, 136.9867, 2892,    251.9,  10.4766,  34.5286,2,   -999.0,9,-999.0000,9,    110.5,2,    33.34,2,  -999.00,9,    25.78,2,     0.00,2,     1.81,2, -999.000,9, -999.000,9,  -999.00,9,   -999.0,9,   -999.0,9,-999.0000,9,   -999.0,  9,  -999.00,9,   -999.0,  -999.00,9,  -999.00,9,  -999.00,9,  -999.00,9,   -999.0,-999.0000, -999,9,  250,  10.4466,  26.5067,   -999.0,9
     RF04-06-2,  137E,RF-2222,  1,     12,02-18566,2,20040711,0147,  7.9962, 136.9867, 2892,    302.6,   9.7454,  34.5724,2,   -999.0,9,  34.5720,2,     67.4,2,    35.40,2,  -999.00,9,    31.19,2,     0.00,2,     2.22,2, -999.000,9, -999.000,9,  -999.00,9,   -999.0,9,   -999.0,9,-999.0000,9,   -999.0,  9,  -999.00,9,   -999.0,  -999.00,9,  -999.00,9,  -999.00,9,  -999.00,9,   -999.0,-999.0000, -999,9,  301,   9.7108,  26.6669,   -999.0,9
     RF04-06-2,  137E,RF-2222,  1,     11,02-18565,2,20040711,0145,  7.9962, 136.9867, 2892,    403.5,   8.4969,  34.5731,2,   -999.0,9,  34.5728,2,     69.8,2,    40.87,2,  -999.00,9,    33.27,2,     0.00,2,     2.37,2, -999.000,9, -999.000,9,  -999.00,9,   -999.0,9,   -999.0,9,-999.0000,9,   -999.0,  9,  -999.00,9,   -999.0,  -999.00,9,  -999.00,9,  -999.00,9,  -999.00,9,   -999.0,-999.0000, -999,9,  401,   8.4543,  26.8696,   -999.0,9
     RF04-06-2,  137E,RF-2222,  1,     10,02-18564,2,20040711,0140,  7.9962, 136.9867, 2892,    504.0,   7.7200,  34.5531,2,   -999.0,9,  34.5530,2,     78.5,2,    45.70,2,  -999.00,9,    33.85,2,     0.00,2,     2.41,2, -999.000,9, -999.000,9,  -999.00,9,   -999.0,9,   -999.0,9,-999.0000,9,   -999.0,  9,  -999.00,9,   -999.0,  -999.00,9,  -999.00,9,  -999.00,9,  -999.00,9,   -999.0,-999.0000, -999,9,  501,   7.6694,  26.9716,   -999.0,9
     RF04-06-2,  137E,RF-2222,  1,      9,02-18563,2,20040711,0137,  7.9962, 136.9867, 2892,    605.3,   7.2180,  34.5336,2,   -999.0,9,-999.0000,9,     83.2,2,    50.43,2,  -999.00,9,    34.43,2,     0.00,2,     2.45,2, -999.000,9, -999.000,9,  -999.00,9,   -999.0,9,   -999.0,9,-999.0000,9,   -999.0,  9,  -999.00,9,   -999.0,  -999.00,9,  -999.00,9,  -999.00,9,  -999.00,9,   -999.0,-999.0000, -999,9,  601,   7.1591,  27.0292,   -999.0,9
     RF04-06-2,  137E,RF-2222,  1,      8,02-18562,2,20040711,0132,  7.9962, 136.9867, 2892,    704.6,   6.6824,  34.5269,2,   -999.0,9,  34.5264,2,     84.6,2,    56.69,2,  -999.00,9,    35.26,2,     0.00,2,     2.53,2, -999.000,9, -999.000,9,  -999.00,9,   -999.0,9,   -999.0,9,-999.0000,9,   -999.0,  9,  -999.00,9,   -999.0,  -999.00,9,  -999.00,9,  -999.00,9,  -999.00,9,   -999.0,-999.0000, -999,9,  700,   6.6162,  27.0984,   -999.0,9
     RF04-06-2,  137E,RF-2222,  1,      7,02-18561,2,20040711,0128,  7.9962, 136.9867, 2892,    806.4,   6.1668,  34.5247,2,   -999.0,9,  34.5247,2,     83.0,2,    63.68,2,  -999.00,9,    36.13,2,     0.00,2,     2.60,2, -999.000,9, -999.000,9,  -999.00,9,   -999.0,9,   -999.0,9,-999.0000,9,   -999.0,  9,  -999.00,9,   -999.0,  -999.00,9,  -999.00,9,  -999.00,9,  -999.00,9,   -999.0,-999.0000, -999,9,  800,   6.0936,  27.1651,   -999.0,9
     RF04-06-2,  137E,RF-2222,  1,      6,02-18560,2,20040711,0125,  7.9962, 136.9867, 2892,    906.8,   5.5222,  34.5292,2,   -999.0,9,-999.0000,9,     82.6,2,    74.01,2,  -999.00,9,    37.18,2,     0.00,2,     2.67,2, -999.000,9, -999.000,9,  -999.00,9,   -999.0,9,   -999.0,9,-999.0000,9,   -999.0,  9,  -999.00,9,   -999.0,  -999.00,9,  -999.00,9,  -999.00,9,  -999.00,9,   -999.0,-999.0000, -999,9,  900,   5.4436,  27.2496,   -999.0,9
     RF04-06-2,  137E,RF-2222,  1,      5,02-18559,2,20040711,0120,  7.9962, 136.9867, 2892,   1008.1,   4.9494,  34.5387,2,   -999.0,9,  34.5405,2,     85.5,2,    84.74,2,  -999.00,9,    37.79,2,     0.00,2,     2.73,2, -999.000,9, -999.000,9,  -999.00,9,   -999.0,9,   -999.0,9,-999.0000,9,   -999.0,  9,  -999.00,9,   -999.0,  -999.00,9,  -999.00,9,  -999.00,9,  -999.00,9,   -999.0,-999.0000, -999,9, 1000,   4.8657,  27.3250,   -999.0,9
     RF04-06-2,  137E,RF-2222,  1,      4,02-18558,2,20040711,0114,  7.9962, 136.9867, 2892,   1261.7,   3.6159,  34.5733,2,   -999.0,9,  34.5756,2,     94.5,2,   110.00,2,  -999.00,9,    38.37,2,     0.00,2,     2.74,2, -999.000,9, -999.000,9,  -999.00,9,   -999.0,9,   -999.0,9,-999.0000,9,   -999.0,  9,  -999.00,9,   -999.0,  -999.00,9,  -999.00,9,  -999.00,9,  -999.00,9,   -999.0,-999.0000, -999,9, 1251,   3.5215,  27.4950,   -999.0,9
     RF04-06-2,  137E,RF-2222,  1,      3,02-18557,2,20040711,0105,  7.9962, 136.9867, 2892,   1514.6,   2.8833,  34.6006,2,   -999.0,9,  34.6011,2,    102.0,2,   123.30,2,  -999.00,9,    38.24,2,     0.00,2,     2.73,2, -999.000,9, -999.000,9,  -999.00,9,   -999.0,9,   -999.0,9,-999.0000,9,   -999.0,  9,  -999.00,9,   -999.0,  -999.00,9,  -999.00,9,  -999.00,9,  -999.00,9,   -999.0,-999.0000, -999,9, 1501,   2.7755,  27.5865,   -999.0,9
     RF04-06-2,  137E,RF-2222,  1,      2,02-18556,3,20040711,0059,  7.9962, 136.9867, 2892,   1768.7,   2.5670,  34.6161,2,   -999.0,9,  34.6153,2,    109.5,2,   127.97,2,  -999.00,9,    37.98,2,     0.00,2,     2.70,2, -999.000,9, -999.000,9,  -999.00,9,   -999.0,9,   -999.0,9,-999.0000,9,   -999.0,  9,  -999.00,9,   -999.0,  -999.00,9,  -999.00,9,  -999.00,9,  -999.00,9,   -999.0,-999.0000, -999,9, 1751,   2.4419,  27.6279,   -999.0,9
     RF04-06-2,  137E,RF-2222,  1,      1,02-18555,3,20040711,0053,  7.9962, 136.9867, 2892,   2042.6,   2.2423,  34.6322,2,   -999.0,9,  34.6323,2,    116.5,2,   134.39,2,  -999.00,9,    37.80,2,     0.00,2,     2.67,2, -999.000,9, -999.000,9,  -999.00,9,   -999.0,9,   -999.0,9,-999.0000,9,   -999.0,  9,  -999.00,9,   -999.0,  -999.00,9,  -999.00,9,  -999.00,9,  -999.00,9,   -999.0,-999.0000, -999,9, 2021,   2.0985,  27.6691,   -999.0,9