BOTTLE,20131214MIRCJHATS
EXPOCODE,SECT_ID,STNNBR,CASTNO,SAMPNO,BTLNBR,BTLNBR_FLAG_W,DATE,TIME,LATITUDE,LONGITUDE,DEPTH,CTDPRS,CTDTMP,CTDSAL,CTDSAL_FLAG_W,CTDOXY,CTDOXY_FLAG_W,SALNTY,SALNTY_FLAG_W,OXYGEN,OXYGEN_FLAG_W,SILCAT,SILCAT_FLAG_W,NITRAT,NITRAT_FLAG_W,NO2+NO3,NO2+NO3_FLAG_W,NITRIT,NITRIT_FLAG_W,PHSPHT,PHSPHT_FLAG_W,CFC-11,CFC-11_FLAG_W,CFC-12,CFC-12_FLAG_W,DELC13,DELC13_FLAG_W,TCARBN,TCARBN_FLAG_W,ALKALI,ALKALI_FLAG_W,PH,PH_FLAG_W,PH_TMP,PH_SCALE,PH_NBS,PH_NBS_FLAG_W,C13ERR,TOTALP,TOTALP_FLAG_W,AMMONI,AMMONI_FLAG_W,CHLORA,CHLORA_FLAG_W,PPHYTN,PPHYTN_FLAG_W,REVPRS,REVTMP,DEPTH_,DEPTH_FLAG,CTDDEP,THETA,SIGTHT,DOC,DOC_FLAG_W
,,,,,,,GMT,GMT,,,METER,DBAR,ITS-90,PSS-78,,UMOL/KG,,PSS-78,,UMOL/KG,,UMOL/KG,,UMOL/KG,,UMOL/KG,,UMOL/KG,,UMOL/KG,,PMOL/KG,,PMOL/KG,,/MILLE,,UMOL/KG,,UMOL/KG,,25_DEG_C,,DEG_C,,,,/MILLE,UMOL/KG,,UMOL/KG,,UG/L,,UG/L,,DBAR,ITS-90,METERS,,METERS,DEG_C,,UMOL/L,
     RF04-06-2,  137E,RF-2237,  1,     -9,      -9,5,20040714,2045, 23.0027, 136.9875, 2727,      0.0,  29.2932,  34.4527,2,   -999.0,9,-999.0000,9,    198.9,2,     1.31,2,  -999.00,9,     0.00,2,     0.00,2,     0.00,2, -999.000,9, -999.000,9,  -999.00,9,   1918.3,2,   -999.0,9,-999.0000,9,   -999.0,  9,  -999.00,9,   -999.0,  -999.00,9,  -999.00,9,     0.07,2,     0.00,2,   -999.0,-999.0000, -999,9,    0,  29.2928,  21.5552,   -999.0,9
     RF04-06-2,  137E,RF-2237,  1,     21,02-18575,2,20040714,2043, 23.0027, 136.9875, 2727,     11.1,  29.2846,  34.4511,2,   -999.0,9,-999.0000,9,    198.0,2,     0.87,2,  -999.00,9,     0.00,2,     0.00,2,     0.00,2, -999.000,9, -999.000,9,  -999.00,9,   -999.0,9,   -999.0,9,-999.0000,9,   -999.0,  9,  -999.00,9,   -999.0,  -999.00,9,  -999.00,9,     0.08,2,     0.00,2,   -999.0,-999.0000, -999,9,   11,  29.2819,  21.5576,   -999.0,9
     RF04-06-2,  137E,RF-2237,  1,     20,02-18574,2,20040714,2042, 23.0027, 136.9875, 2727,     25.6,  29.2577,  34.4460,2,   -999.0,9,-999.0000,9,    202.5,2,     0.87,2,  -999.00,9,     0.00,2,     0.00,2,     0.00,2, -999.000,9, -999.000,9,  -999.00,9,   -999.0,9,   -999.0,9,-999.0000,9,   -999.0,  9,  -999.00,9,   -999.0,  -999.00,9,  -999.00,9,     0.07,2,     0.01,2,   -999.0,-999.0000, -999,9,   25,  29.2515,  21.5640,   -999.0,9
     RF04-06-2,  137E,RF-2237,  1,     19,02-18573,2,20040714,2041, 23.0027, 136.9875, 2727,     51.2,  24.1971,  34.8772,2,   -999.0,9,  34.8803,2,    227.0,2,     0.98,2,  -999.00,9,     0.00,2,     0.00,2,     0.00,2, -999.000,9, -999.000,9,  -999.00,9,   -999.0,9,   -999.0,9,-999.0000,9,   -999.0,  9,  -999.00,9,   -999.0,  -999.00,9,  -999.00,9,     0.12,2,     0.02,2,   -999.0,-999.0000, -999,9,   51,  24.1863,  23.4931,   -999.0,9
     RF04-06-2,  137E,RF-2237,  1,     18,02-18572,2,20040714,2041, 23.0027, 136.9875, 2727,     75.2,  22.7209,  34.9458,2,   -999.0,9,-999.0000,9,    215.5,2,     1.10,2,  -999.00,9,     0.00,2,     0.00,2,     0.00,2, -999.000,9, -999.000,9,  -999.00,9,   -999.0,9,   -999.0,9,-999.0000,9,   -999.0,  9,  -999.00,9,   -999.0,  -999.00,9,  -999.00,9,     0.19,2,     0.06,2,   -999.0,-999.0000, -999,9,   75,  22.7057,  23.9770,   -999.0,9
     RF04-06-2,  137E,RF-2237,  1,     17,02-18571,2,20040714,2040, 23.0027, 136.9875, 2727,    100.8,  21.5574,  34.9357,2,   -999.0,9,  34.9354,2,    209.1,2,     1.31,2,  -999.00,9,     0.24,2,     0.04,2,     0.01,2, -999.000,9, -999.000,9,  -999.00,9,   -999.0,9,   -999.0,9,-999.0000,9,   -999.0,  9,  -999.00,9,   -999.0,  -999.00,9,  -999.00,9,     0.33,2,     0.36,2,   -999.0,-999.0000, -999,9,  100,  21.5378,  24.2975,   -999.0,9
     RF04-06-2,  137E,RF-2237,  1,     16,02-18570,2,20040714,2039, 23.0027, 136.9875, 2727,    126.2,  20.6998,  34.9040,2,   -999.0,9,-999.0000,9,    207.9,2,     1.45,2,  -999.00,9,     1.09,2,     0.05,2,     0.04,2, -999.000,9, -999.000,9,  -999.00,9,   -999.0,9,   -999.0,9,-999.0000,9,   -999.0,  9,  -999.00,9,   -999.0,  -999.00,9,  -999.00,9,     0.15,2,     0.28,2,   -999.0,-999.0000, -999,9,  125,  20.6759,  24.5085,   -999.0,9
     RF04-06-2,  137E,RF-2237,  1,     15,02-18569,2,20040714,2038, 23.0027, 136.9875, 2727,    151.8,  19.9456,  34.8913,2,   -999.0,9,-999.0000,9,    197.3,2,     2.13,2,  -999.00,9,     2.88,2,     0.03,2,     0.13,2, -999.000,9, -999.000,9,  -999.00,9,   -999.0,9,   -999.0,9,-999.0000,9,   -999.0,  9,  -999.00,9,   -999.0,  -999.00,9,  -999.00,9,     0.08,2,     0.20,2,   -999.0,-999.0000, -999,9,  151,  19.9176,  24.7005,   -999.0,9
     RF04-06-2,  137E,RF-2237,  1,     14,02-18568,2,20040714,2037, 23.0027, 136.9875, 2727,    201.4,  18.4301,  34.8170,2,   -999.0,9,  34.8148,2,    195.9,2,     3.02,2,  -999.00,9,     4.37,2,     0.00,2,     0.22,2, -999.000,9, -999.000,9,  -999.00,9,   -999.0,9,   -999.0,9,-999.0000,9,   -999.0,  9,  -999.00,9,   -999.0,  -999.00,9,  -999.00,9,     0.01,2,     0.01,2,   -999.0,-999.0000, -999,9,  200,  18.3950,  25.0340,   -999.0,9
     RF04-06-2,  137E,RF-2237,  1,     13,02-18567,2,20040714,2036, 23.0027, 136.9875, 2727,    252.6,  17.2352,  34.7328,2,   -999.0,9,-999.0000,9,    198.1,2,     4.15,2,  -999.00,9,     5.67,2,     0.00,2,     0.29,2, -999.000,9, -999.000,9,  -999.00,9,   -999.0,9,   -999.0,9,-999.0000,9,   -999.0,  9,  -999.00,9,   -999.0,  -999.00,9,  -999.00,9,  -999.00,9,  -999.00,9,   -999.0,-999.0000, -999,9,  251,  17.1931,  25.2631,   -999.0,9
     RF04-06-2,  137E,RF-2237,  1,     12,02-18566,3,20040714,2034, 23.0027, 136.9875, 2727,    302.7,  16.2520,  34.6747,2,   -999.0,9,  34.6798,2,    201.1,2,     5.75,2,  -999.00,9,     7.20,2,     0.00,2,     0.38,2, -999.000,9, -999.000,9,  -999.00,9,   -999.0,9,   -999.0,9,-999.0000,9,   -999.0,  9,  -999.00,9,   -999.0,  -999.00,9,  -999.00,9,  -999.00,9,  -999.00,9,   -999.0,-999.0000, -999,9,  301,  16.2035,  25.4507,   -999.0,9
     RF04-06-2,  137E,RF-2237,  1,     11,02-18565,2,20040714,2032, 23.0027, 136.9875, 2727,    402.8,  13.4633,  34.4668,2,   -999.0,9,  34.4731,2,    186.3,2,    12.38,2,  -999.00,9,    12.58,2,     0.00,2,     0.75,2, -999.000,9, -999.000,9,  -999.00,9,   -999.0,9,   -999.0,9,-999.0000,9,   -999.0,  9,  -999.00,9,   -999.0,  -999.00,9,  -999.00,9,  -999.00,9,  -999.00,9,   -999.0,-999.0000, -999,9,  400,  13.4065,  25.8977,   -999.0,9
     RF04-06-2,  137E,RF-2237,  1,     10,02-18564,2,20040714,2030, 23.0027, 136.9875, 2727,    505.2,  10.4940,  34.2711,2,   -999.0,9,  34.2733,2,    167.0,2,    25.45,2,  -999.00,9,    19.86,2,     0.00,2,     1.29,2, -999.000,9, -999.000,9,  -999.00,9,   -999.0,9,   -999.0,9,-999.0000,9,   -999.0,  9,  -999.00,9,   -999.0,  -999.00,9,  -999.00,9,  -999.00,9,  -999.00,9,   -999.0,-999.0000, -999,9,  501,  10.4332,  26.3082,   -999.0,9
     RF04-06-2,  137E,RF-2237,  1,      9,02-18563,3,20040714,2027, 23.0027, 136.9875, 2727,    605.2,   7.9376,  34.1180,2,   -999.0,9,-999.0000,9,    145.9,2,    42.71,2,  -999.00,9,    26.52,2,     0.00,2,     1.80,2, -999.000,9, -999.000,9,  -999.00,9,   -999.0,9,   -999.0,9,-999.0000,9,   -999.0,  9,  -999.00,9,   -999.0,  -999.00,9,  -999.00,9,  -999.00,9,  -999.00,9,   -999.0,-999.0000, -999,9,  601,   7.8758,  26.5994,   -999.0,9
     RF04-06-2,  137E,RF-2237,  1,      8,02-18562,2,20040714,2025, 23.0027, 136.9875, 2727,    705.6,   6.3507,  34.1349,2,   -999.0,9,  34.1354,2,     99.7,2,    63.47,2,  -999.00,9,    33.24,2,     0.00,2,     2.35,2, -999.000,9, -999.000,9,  -999.00,9,   -999.0,9,   -999.0,9,-999.0000,9,   -999.0,  9,  -999.00,9,   -999.0,  -999.00,9,  -999.00,9,  -999.00,9,  -999.00,9,   -999.0,-999.0000, -999,9,  700,   6.2866,  26.8324,   -999.0,9
     RF04-06-2,  137E,RF-2237,  1,      7,02-18561,2,20040714,2023, 23.0027, 136.9875, 2727,    807.1,   5.2474,  34.2105,2,   -999.0,9,  34.2115,2,     69.7,2,    83.19,2,  -999.00,9,    37.52,2,     0.00,2,     2.69,2, -999.000,9, -999.000,9,  -999.00,9,   -999.0,9,   -999.0,9,-999.0000,9,   -999.0,  9,  -999.00,9,   -999.0,  -999.00,9,  -999.00,9,  -999.00,9,  -999.00,9,   -999.0,-999.0000, -999,9,  800,   5.1801,  27.0285,   -999.0,9
     RF04-06-2,  137E,RF-2237,  1,      6,02-18560,2,20040714,2020, 23.0027, 136.9875, 2727,    907.9,   4.3826,  34.2878,2,   -999.0,9,-999.0000,9,     57.8,2,   101.25,2,  -999.00,9,    39.70,2,     0.00,2,     2.84,2, -999.000,9, -999.000,9,  -999.00,9,   -999.0,9,   -999.0,9,-999.0000,9,   -999.0,  9,  -999.00,9,   -999.0,  -999.00,9,  -999.00,9,  -999.00,9,  -999.00,9,   -999.0,-999.0000, -999,9,  900,   4.3122,  27.1869,   -999.0,9
     RF04-06-2,  137E,RF-2237,  1,      5,02-18559,2,20040714,2018, 23.0027, 136.9875, 2727,   1008.8,   3.9382,  34.3727,2,   -999.0,9,  34.3739,2,     57.1,2,   111.20,2,  -999.00,9,    40.38,2,     0.00,2,     2.89,2, -999.000,9, -999.000,9,  -999.00,9,   -999.0,9,   -999.0,9,-999.0000,9,   -999.0,  9,  -999.00,9,   -999.0,  -999.00,9,  -999.00,9,  -999.00,9,  -999.00,9,   -999.0,-999.0000, -999,9, 1000,   3.8625,  27.3013,   -999.0,9
     RF04-06-2,  137E,RF-2237,  1,      4,02-18558,2,20040714,2013, 23.0027, 136.9875, 2727,   1262.7,   3.1142,  34.4858,2,   -999.0,9,  34.4855,2,     68.4,2,   127.81,2,  -999.00,9,    40.40,2,     0.00,2,     2.87,2, -999.000,9, -999.000,9,  -999.00,9,   -999.0,9,   -999.0,9,-999.0000,9,   -999.0,  9,  -999.00,9,   -999.0,  -999.00,9,  -999.00,9,  -999.00,9,  -999.00,9,   -999.0,-999.0000, -999,9, 1251,   3.0248,  27.4723,   -999.0,9
     RF04-06-2,  137E,RF-2237,  1,      3,02-18557,2,20040714,2007, 23.0027, 136.9875, 2727,   1516.0,   2.4999,  34.5460,2,   -999.0,9,  34.5459,2,     86.0,2,   137.57,2,  -999.00,9,    39.64,2,     0.00,2,     2.78,2, -999.000,9, -999.000,9,  -999.00,9,   -999.0,9,   -999.0,9,-999.0000,9,   -999.0,  9,  -999.00,9,   -999.0,  -999.00,9,  -999.00,9,  -999.00,9,  -999.00,9,   -999.0,-999.0000, -999,9, 1501,   2.3966,  27.5756,   -999.0,9
     RF04-06-2,  137E,RF-2237,  1,      2,02-18556,2,20040714,2002, 23.0027, 136.9875, 2727,   1768.8,   2.2238,  34.5908,2,   -999.0,9,  34.5908,2,    104.2,2,   138.77,2,  -999.00,9,    38.76,2,     0.00,2,     2.71,2, -999.000,9, -999.000,9,  -999.00,9,   -999.0,9,   -999.0,9,-999.0000,9,   -999.0,  9,  -999.00,9,   -999.0,  -999.00,9,  -999.00,9,  -999.00,9,  -999.00,9,   -999.0,-999.0000, -999,9, 1750,   2.1034,  27.6356,   -999.0,9
     RF04-06-2,  137E,RF-2237,  1,      1,02-18555,2,20040714,1956, 23.0027, 136.9875, 2727,   2044.3,   2.0193,  34.6191,2,   -999.0,9,  34.6192,2,    115.4,2,   139.84,2,  -999.00,9,    38.24,2,     0.00,2,     2.66,2, -999.000,9, -999.000,9,  -999.00,9,   -999.0,9,   -999.0,9,-999.0000,9,   -999.0,  9,  -999.00,9,   -999.0,  -999.00,9,  -999.00,9,  -999.00,9,  -999.00,9,   -999.0,-999.0000, -999,9, 2022,   1.8789,  27.6760,   -999.0,9