BOTTLE,20131214MIRCJHATS
EXPOCODE,SECT_ID,STNNBR,CASTNO,SAMPNO,BTLNBR,BTLNBR_FLAG_W,DATE,TIME,LATITUDE,LONGITUDE,DEPTH,CTDPRS,CTDTMP,CTDSAL,CTDSAL_FLAG_W,CTDOXY,CTDOXY_FLAG_W,SALNTY,SALNTY_FLAG_W,OXYGEN,OXYGEN_FLAG_W,SILCAT,SILCAT_FLAG_W,NITRAT,NITRAT_FLAG_W,NO2+NO3,NO2+NO3_FLAG_W,NITRIT,NITRIT_FLAG_W,PHSPHT,PHSPHT_FLAG_W,CFC-11,CFC-11_FLAG_W,CFC-12,CFC-12_FLAG_W,DELC13,DELC13_FLAG_W,TCARBN,TCARBN_FLAG_W,ALKALI,ALKALI_FLAG_W,PH,PH_FLAG_W,PH_TMP,PH_SCALE,PH_NBS,PH_NBS_FLAG_W,C13ERR,TOTALP,TOTALP_FLAG_W,AMMONI,AMMONI_FLAG_W,CHLORA,CHLORA_FLAG_W,PPHYTN,PPHYTN_FLAG_W,REVPRS,REVTMP,DEPTH_,DEPTH_FLAG,CTDDEP,THETA,SIGTHT,DOC,DOC_FLAG_W
,,,,,,,GMT,GMT,,,METER,DBAR,ITS-90,PSS-78,,UMOL/KG,,PSS-78,,UMOL/KG,,UMOL/KG,,UMOL/KG,,UMOL/KG,,UMOL/KG,,UMOL/KG,,PMOL/KG,,PMOL/KG,,/MILLE,,UMOL/KG,,UMOL/KG,,25_DEG_C,,DEG_C,,,,/MILLE,UMOL/KG,,UMOL/KG,,UG/L,,UG/L,,DBAR,ITS-90,METERS,,METERS,DEG_C,,UMOL/L,
     RF04-06-2,  137E,RF-2232,  1,     -9,      -9,5,20040713,1531, 17.9993, 136.9857, 5014,      0.0,  29.4884,  34.4948,2,   -999.0,9,-999.0000,9,    196.5,2,     0.40,2,  -999.00,9,     0.00,2,     0.00,2,     0.00,2, -999.000,9, -999.000,9,  -999.00,9,   1910.3,2,   -999.0,9,-999.0000,9,   -999.0,  9,  -999.00,9,   -999.0,  -999.00,9,  -999.00,9,     0.05,2,     0.01,2,   -999.0,-999.0000, -999,9,    0,  29.4879,  21.5212,   -999.0,9
     RF04-06-2,  137E,RF-2232,  1,     21,02-18575,2,20040713,1529, 17.9993, 136.9857, 5014,     10.5,  29.4963,  34.4947,2,   -999.0,9,-999.0000,9,    197.0,2,     0.47,2,  -999.00,9,     0.00,2,     0.00,2,     0.00,2, -999.000,9, -999.000,9,  -999.00,9,   -999.0,9,   -999.0,9,-999.0000,9,   -999.0,  9,  -999.00,9,   -999.0,  -999.00,9,  -999.00,9,     0.06,2,     0.01,2,   -999.0,-999.0000, -999,9,   10,  29.4937,  21.5191,   -999.0,9
     RF04-06-2,  137E,RF-2232,  1,     20,02-18574,2,20040713,1529, 17.9993, 136.9857, 5014,     25.1,  29.4982,  34.4947,2,   -999.0,9,-999.0000,9,    198.4,2,     0.42,2,  -999.00,9,     0.00,2,     0.00,2,     0.00,2, -999.000,9, -999.000,9,  -999.00,9,   -999.0,9,   -999.0,9,-999.0000,9,   -999.0,  9,  -999.00,9,   -999.0,  -999.00,9,  -999.00,9,     0.06,2,     0.01,2,   -999.0,-999.0000, -999,9,   25,  29.4921,  21.5197,   -999.0,9
     RF04-06-2,  137E,RF-2232,  1,     19,02-18573,2,20040713,1527, 17.9993, 136.9857, 5014,     50.1,  29.2499,  34.5733,2,   -999.0,9,  34.6317,4,    203.9,2,     0.26,2,  -999.00,9,     0.00,2,     0.00,2,     0.00,2, -999.000,9, -999.000,9,  -999.00,9,   -999.0,9,   -999.0,9,-999.0000,9,   -999.0,  9,  -999.00,9,   -999.0,  -999.00,9,  -999.00,9,     0.08,2,     0.02,2,   -999.0,-999.0000, -999,9,   50,  29.2377,  21.6642,   -999.0,9
     RF04-06-2,  137E,RF-2232,  1,     18,02-18572,2,20040713,1526, 17.9993, 136.9857, 5014,     75.4,  27.4013,  34.7645,2,   -999.0,9,-999.0000,9,    218.1,2,     0.23,2,  -999.00,9,     0.00,2,     0.00,2,     0.00,2, -999.000,9, -999.000,9,  -999.00,9,   -999.0,9,   -999.0,9,-999.0000,9,   -999.0,  9,  -999.00,9,   -999.0,  -999.00,9,  -999.00,9,     0.11,2,     0.04,2,   -999.0,-999.0000, -999,9,   75,  27.3838,  22.4173,   -999.0,9
     RF04-06-2,  137E,RF-2232,  1,     17,02-18571,2,20040713,1525, 17.9993, 136.9857, 5014,    100.0,  25.5608,  34.8742,2,   -999.0,9,  34.9028,4,    207.0,2,     0.32,2,  -999.00,9,     0.00,2,     0.00,2,     0.00,2, -999.000,9, -999.000,9,  -999.00,9,   -999.0,9,   -999.0,9,-999.0000,9,   -999.0,  9,  -999.00,9,   -999.0,  -999.00,9,  -999.00,9,     0.23,2,     0.15,2,   -999.0,-999.0000, -999,9,   99,  25.5388,  23.0813,   -999.0,9
     RF04-06-2,  137E,RF-2232,  1,     16,02-18570,2,20040713,1524, 17.9993, 136.9857, 5014,    125.2,  24.0986,  34.9411,2,   -999.0,9,-999.0000,9,    198.6,2,     0.52,2,  -999.00,9,     0.09,2,     0.06,2,     0.01,2, -999.000,9, -999.000,9,  -999.00,9,   -999.0,9,   -999.0,9,-999.0000,9,   -999.0,  9,  -999.00,9,   -999.0,  -999.00,9,  -999.00,9,     0.21,2,     0.42,2,   -999.0,-999.0000, -999,9,  124,  24.0722,  23.5754,   -999.0,9
     RF04-06-2,  137E,RF-2232,  1,     15,02-18569,2,20040713,1523, 17.9993, 136.9857, 5014,    151.2,  22.8436,  34.9797,2,   -999.0,9,-999.0000,9,    191.4,2,     0.81,2,  -999.00,9,     1.03,2,     0.02,2,     0.06,2, -999.000,9, -999.000,9,  -999.00,9,   -999.0,9,   -999.0,9,-999.0000,9,   -999.0,  9,  -999.00,9,   -999.0,  -999.00,9,  -999.00,9,     0.07,2,     0.19,2,   -999.0,-999.0000, -999,9,  150,  22.8129,  23.9720,   -999.0,9
     RF04-06-2,  137E,RF-2232,  1,     14,02-18568,2,20040713,1522, 17.9993, 136.9857, 5014,    200.7,  20.2202,  34.9132,2,   -999.0,9,  34.9058,2,    196.0,2,     1.60,2,  -999.00,9,     2.56,2,     0.00,2,     0.14,2, -999.000,9, -999.000,9,  -999.00,9,   -999.0,9,   -999.0,9,-999.0000,9,   -999.0,  9,  -999.00,9,   -999.0,  -999.00,9,  -999.00,9,     0.01,2,     0.03,2,   -999.0,-999.0000, -999,9,  199,  20.1828,  24.6472,   -999.0,9
     RF04-06-2,  137E,RF-2232,  1,     13,02-18567,2,20040713,1520, 17.9993, 136.9857, 5014,    252.3,  18.3053,  34.8046,2,   -999.0,9,-999.0000,9,    202.5,2,     2.60,2,  -999.00,9,     4.20,2,     0.00,2,     0.20,2, -999.000,9, -999.000,9,  -999.00,9,   -999.0,9,   -999.0,9,-999.0000,9,   -999.0,  9,  -999.00,9,   -999.0,  -999.00,9,  -999.00,9,  -999.00,9,  -999.00,9,   -999.0,-999.0000, -999,9,  251,  18.2615,  25.0577,   -999.0,9
     RF04-06-2,  137E,RF-2232,  1,     12,02-18566,2,20040713,1519, 17.9993, 136.9857, 5014,    301.9,  17.1761,  34.7365,2,   -999.0,9,  34.7382,2,    203.8,2,     3.96,2,  -999.00,9,     5.67,2,     0.00,2,     0.29,2, -999.000,9, -999.000,9,  -999.00,9,   -999.0,9,   -999.0,9,-999.0000,9,   -999.0,  9,  -999.00,9,   -999.0,  -999.00,9,  -999.00,9,  -999.00,9,  -999.00,9,   -999.0,-999.0000, -999,9,  300,  17.1259,  25.2821,   -999.0,9
     RF04-06-2,  137E,RF-2232,  1,     11,02-18565,2,20040713,1516, 17.9993, 136.9857, 5014,    403.3,  13.3486,  34.4441,2,   -999.0,9,  34.4459,2,    189.9,2,    11.48,2,  -999.00,9,    12.39,2,     0.00,2,     0.75,2, -999.000,9, -999.000,9,  -999.00,9,   -999.0,9,   -999.0,9,-999.0000,9,   -999.0,  9,  -999.00,9,   -999.0,  -999.00,9,  -999.00,9,  -999.00,9,  -999.00,9,   -999.0,-999.0000, -999,9,  400,  13.2920,  25.9034,   -999.0,9
     RF04-06-2,  137E,RF-2232,  1,     10,02-18564,2,20040713,1512, 17.9993, 136.9857, 5014,    504.3,   9.6446,  34.2213,2,   -999.0,9,  34.2232,2,    160.7,2,    29.76,2,  -999.00,9,    21.87,2,     0.00,2,     1.44,2, -999.000,9, -999.000,9,  -999.00,9,   -999.0,9,   -999.0,9,-999.0000,9,   -999.0,  9,  -999.00,9,   -999.0,  -999.00,9,  -999.00,9,  -999.00,9,  -999.00,9,   -999.0,-999.0000, -999,9,  501,   9.5870,  26.4131,   -999.0,9
     RF04-06-2,  137E,RF-2232,  1,      9,02-18563,3,20040713,1509, 17.9993, 136.9857, 5014,    605.0,   6.9446,  34.1452,2,   -999.0,9,  34.1474,2,    108.5,2,    55.05,2,  -999.00,9,    31.14,2,     0.00,2,     2.20,2, -999.000,9, -999.000,9,  -999.00,9,   -999.0,9,   -999.0,9,-999.0000,9,   -999.0,  9,  -999.00,9,   -999.0,  -999.00,9,  -999.00,9,  -999.00,9,  -999.00,9,   -999.0,-999.0000, -999,9,  600,   6.8873,  26.7608,   -999.0,9
     RF04-06-2,  137E,RF-2232,  1,      8,02-18562,2,20040713,1507, 17.9993, 136.9857, 5014,    706.6,   5.9139,  34.2458,2,   -999.0,9,-999.0000,9,     69.5,2,    71.50,2,  -999.00,9,    36.51,2,     0.00,2,     2.64,2, -999.000,9, -999.000,9,  -999.00,9,   -999.0,9,   -999.0,9,-999.0000,9,   -999.0,  9,  -999.00,9,   -999.0,  -999.00,9,  -999.00,9,  -999.00,9,  -999.00,9,   -999.0,-999.0000, -999,9,  701,   5.8519,  26.9753,   -999.0,9
     RF04-06-2,  137E,RF-2232,  1,      7,02-18561,2,20040713,1505, 17.9993, 136.9857, 5014,    806.1,   5.1550,  34.3803,2,   -999.0,9,  34.3796,2,     65.1,2,    85.12,2,  -999.00,9,    38.23,2,     0.00,2,     2.76,2, -999.000,9, -999.000,9,  -999.00,9,   -999.0,9,   -999.0,9,-999.0000,9,   -999.0,  9,  -999.00,9,   -999.0,  -999.00,9,  -999.00,9,  -999.00,9,  -999.00,9,   -999.0,-999.0000, -999,9,  800,   5.0882,  27.1737,   -999.0,9
     RF04-06-2,  137E,RF-2232,  1,      6,02-18560,3,20040713,1502, 17.9993, 136.9857, 5014,    907.3,   4.5089,  34.4377,2,   -999.0,9,-999.0000,9,     70.7,2,    97.22,2,  -999.00,9,    38.72,2,     0.00,2,     2.78,2, -999.000,9, -999.000,9,  -999.00,9,   -999.0,9,   -999.0,9,-999.0000,9,   -999.0,  9,  -999.00,9,   -999.0,  -999.00,9,  -999.00,9,  -999.00,9,  -999.00,9,   -999.0,-999.0000, -999,9,  900,   4.4374,  27.2925,   -999.0,9
     RF04-06-2,  137E,RF-2232,  1,      5,02-18559,2,20040713,1458, 17.9993, 136.9857, 5014,   1012.0,   3.9917,  34.4736,2,   -999.0,9,  34.4726,2,     74.2,2,   107.42,2,  -999.00,9,    39.10,2,     0.00,2,     2.81,2, -999.000,9, -999.000,9,  -999.00,9,   -999.0,9,   -999.0,9,-999.0000,9,   -999.0,  9,  -999.00,9,   -999.0,  -999.00,9,  -999.00,9,  -999.00,9,  -999.00,9,   -999.0,-999.0000, -999,9, 1004,   3.9152,  27.3761,   -999.0,9
     RF04-06-2,  137E,RF-2232,  1,      4,02-18558,2,20040713,1453, 17.9993, 136.9857, 5014,   1261.6,   3.1839,  34.5271,2,   -999.0,9,  34.5278,2,     82.4,2,   122.72,2,  -999.00,9,    39.31,2,     0.00,2,     2.81,2, -999.000,9, -999.000,9,  -999.00,9,   -999.0,9,   -999.0,9,-999.0000,9,   -999.0,  9,  -999.00,9,   -999.0,  -999.00,9,  -999.00,9,  -999.00,9,  -999.00,9,   -999.0,-999.0000, -999,9, 1250,   3.0938,  27.4990,   -999.0,9
     RF04-06-2,  137E,RF-2232,  1,      3,02-18557,2,20040713,1448, 17.9993, 136.9857, 5014,   1515.0,   2.6292,  34.5788,2,   -999.0,9,  34.5799,2,     96.8,2,   130.89,2,  -999.00,9,    38.75,2,     0.00,2,     2.74,2, -999.000,9, -999.000,9,  -999.00,9,   -999.0,9,   -999.0,9,-999.0000,9,   -999.0,  9,  -999.00,9,   -999.0,  -999.00,9,  -999.00,9,  -999.00,9,  -999.00,9,   -999.0,-999.0000, -999,9, 1500,   2.5244,  27.5910,   -999.0,9
     RF04-06-2,  137E,RF-2232,  1,      2,02-18556,2,20040713,1443, 17.9993, 136.9857, 5014,   1769.4,   2.2743,  34.6089,2,   -999.0,9,  34.6084,2,    107.5,2,   135.87,2,  -999.00,9,    38.50,2,     0.00,2,     2.71,2, -999.000,9, -999.000,9,  -999.00,9,   -999.0,9,   -999.0,9,-999.0000,9,   -999.0,  9,  -999.00,9,   -999.0,  -999.00,9,  -999.00,9,  -999.00,9,  -999.00,9,   -999.0,-999.0000, -999,9, 1751,   2.1531,  27.6461,   -999.0,9
     RF04-06-2,  137E,RF-2232,  1,      1,02-18555,2,20040713,1437, 17.9993, 136.9857, 5014,   2040.6,   1.9986,  34.6290,2,   -999.0,9,  34.6283,2,    117.1,2,   139.89,2,  -999.00,9,    38.15,2,     0.00,2,     2.66,2, -999.000,9, -999.000,9,  -999.00,9,   -999.0,9,   -999.0,9,-999.0000,9,   -999.0,  9,  -999.00,9,   -999.0,  -999.00,9,  -999.00,9,  -999.00,9,  -999.00,9,   -999.0,-999.0000, -999,9, 2019,   1.8588,  27.6855,   -999.0,9