BOTTLE,20131214MIRCJHATS
EXPOCODE,SECT_ID,STNNBR,CASTNO,SAMPNO,BTLNBR,BTLNBR_FLAG_W,DATE,TIME,LATITUDE,LONGITUDE,DEPTH,CTDPRS,CTDTMP,CTDSAL,CTDSAL_FLAG_W,CTDOXY,CTDOXY_FLAG_W,SALNTY,SALNTY_FLAG_W,OXYGEN,OXYGEN_FLAG_W,SILCAT,SILCAT_FLAG_W,NITRAT,NITRAT_FLAG_W,NO2+NO3,NO2+NO3_FLAG_W,NITRIT,NITRIT_FLAG_W,PHSPHT,PHSPHT_FLAG_W,CFC-11,CFC-11_FLAG_W,CFC-12,CFC-12_FLAG_W,DELC13,DELC13_FLAG_W,TCARBN,TCARBN_FLAG_W,ALKALI,ALKALI_FLAG_W,PH,PH_FLAG_W,PH_TMP,PH_SCALE,PH_NBS,PH_NBS_FLAG_W,C13ERR,TOTALP,TOTALP_FLAG_W,AMMONI,AMMONI_FLAG_W,CHLORA,CHLORA_FLAG_W,PPHYTN,PPHYTN_FLAG_W,REVPRS,REVTMP,DEPTH_,DEPTH_FLAG,CTDDEP,THETA,SIGTHT,DOC,DOC_FLAG_W
,,,,,,,GMT,GMT,,,METER,DBAR,ITS-90,PSS-78,,UMOL/KG,,PSS-78,,UMOL/KG,,UMOL/KG,,UMOL/KG,,UMOL/KG,,UMOL/KG,,UMOL/KG,,PMOL/KG,,PMOL/KG,,/MILLE,,UMOL/KG,,UMOL/KG,,25_DEG_C,,DEG_C,,,,/MILLE,UMOL/KG,,UMOL/KG,,UG/L,,UG/L,,DBAR,ITS-90,METERS,,METERS,DEG_C,,UMOL/L,
     RF04-06-2,  137E,RF-2242,  1,     -9,      -9,5,20040716,0334, 27.9967, 136.9997, 4167,      0.0,  28.8648,  34.6260,2,   -999.0,9,-999.0000,9,    200.2,2,     1.14,2,  -999.00,9,     0.00,2,     0.00,2,     0.00,2, -999.000,9, -999.000,9,  -999.00,9,   1934.7,2,   -999.0,9,-999.0000,9,   -999.0,  9,  -999.00,9,   -999.0,  -999.00,9,  -999.00,9,     0.07,2,     0.01,2,   -999.0,-999.0000, -999,9,    0,  28.8643,  21.8285,   -999.0,9
     RF04-06-2,  137E,RF-2242,  1,     24,02-18578,2,20040716,0332, 27.9967, 136.9997, 4167,      9.9,  28.2445,  34.6087,2,   -999.0,9,-999.0000,9,    205.5,2,     1.12,2,  -999.00,9,     0.00,2,     0.00,2,     0.00,2, -999.000,9, -999.000,9,  -999.00,9,   -999.0,9,   -999.0,9,-999.0000,9,   -999.0,  9,  -999.00,9,   -999.0,  -999.00,9,  -999.00,9,     0.06,2,     0.01,2,   -999.0,-999.0000, -999,9,   10,  28.2422,  22.0211,   -999.0,9
     RF04-06-2,  137E,RF-2242,  1,     23,02-18577,2,20040716,0331, 27.9967, 136.9997, 4167,     25.9,  26.8812,  34.7261,2,   -999.0,9,-999.0000,9,    212.4,2,     1.04,2,  -999.00,9,     0.00,2,     0.00,2,     0.00,2, -999.000,9, -999.000,9,  -999.00,9,   -999.0,9,   -999.0,9,-999.0000,9,   -999.0,  9,  -999.00,9,   -999.0,  -999.00,9,  -999.00,9,     0.08,2,     0.02,2,   -999.0,-999.0000, -999,9,   26,  26.8753,  22.5512,   -999.0,9
     RF04-06-2,  137E,RF-2242,  1,     22,02-18576,2,20040716,0330, 27.9967, 136.9997, 4167,     50.7,  25.1165,  34.7396,2,   -999.0,9,-999.0000,9,    217.2,2,     1.00,2,  -999.00,9,     0.00,2,     0.00,2,     0.00,2, -999.000,9, -999.000,9,  -999.00,9,   -999.0,9,   -999.0,9,-999.0000,9,   -999.0,  9,  -999.00,9,   -999.0,  -999.00,9,  -999.00,9,     0.11,2,     0.02,2,   -999.0,-999.0000, -999,9,   50,  25.1055,  23.1124,   -999.0,9
     RF04-06-2,  137E,RF-2242,  1,     21,02-18575,2,20040716,0329, 27.9967, 136.9997, 4167,     76.0,  23.6348,  34.7548,2,   -999.0,9,-999.0000,9,    221.9,2,     1.32,2,  -999.00,9,     0.00,2,     0.00,2,     0.00,2, -999.000,9, -999.000,9,  -999.00,9,   -999.0,9,   -999.0,9,-999.0000,9,   -999.0,  9,  -999.00,9,   -999.0,  -999.00,9,  -999.00,9,     0.21,2,     0.08,2,   -999.0,-999.0000, -999,9,   76,  23.6190,  23.5679,   -999.0,9
     RF04-06-2,  137E,RF-2242,  1,     20,02-18574,2,20040716,0328, 27.9967, 136.9997, 4167,    100.7,  21.9377,  34.8692,2,   -999.0,9,-999.0000,9,    219.6,2,     1.13,2,  -999.00,9,     0.00,2,     0.00,2,     0.00,2, -999.000,9, -999.000,9,  -999.00,9,   -999.0,9,   -999.0,9,-999.0000,9,   -999.0,  9,  -999.00,9,   -999.0,  -999.00,9,  -999.00,9,     0.26,2,     0.18,2,   -999.0,-999.0000, -999,9,  100,  21.9178,  24.1414,   -999.0,9
     RF04-06-2,  137E,RF-2242,  1,     19,02-18573,2,20040716,0327, 27.9967, 136.9997, 4167,    126.2,  20.7888,  34.8763,2,   -999.0,9,-999.0000,9,    213.1,2,     1.39,2,  -999.00,9,     0.71,2,     0.09,2,     0.03,2, -999.000,9, -999.000,9,  -999.00,9,   -999.0,9,   -999.0,9,-999.0000,9,   -999.0,  9,  -999.00,9,   -999.0,  -999.00,9,  -999.00,9,     0.18,2,     0.34,2,   -999.0,-999.0000, -999,9,  125,  20.7649,  24.4634,   -999.0,9
     RF04-06-2,  137E,RF-2242,  1,     18,02-18572,2,20040716,0326, 27.9967, 136.9997, 4167,    151.6,  20.4827,  34.8640,2,   -999.0,9,-999.0000,9,    205.4,2,     2.07,2,  -999.00,9,     2.20,2,     0.02,2,     0.10,2, -999.000,9, -999.000,9,  -999.00,9,   -999.0,9,   -999.0,9,-999.0000,9,   -999.0,  9,  -999.00,9,   -999.0,  -999.00,9,  -999.00,9,     0.07,2,     0.11,2,   -999.0,-999.0000, -999,9,  151,  20.4542,  24.5375,   -999.0,9
     RF04-06-2,  137E,RF-2242,  1,     17,02-18571,2,20040716,0325, 27.9967, 136.9997, 4167,    202.1,  19.0241,  34.8046,2,   -999.0,9,-999.0000,9,    197.3,2,     3.49,2,  -999.00,9,     4.12,2,     0.01,2,     0.20,2, -999.000,9, -999.000,9,  -999.00,9,   -999.0,9,   -999.0,9,-999.0000,9,   -999.0,  9,  -999.00,9,   -999.0,  -999.00,9,  -999.00,9,     0.01,2,     0.02,2,   -999.0,-999.0000, -999,9,  201,  18.9880,  24.8748,   -999.0,9
     RF04-06-2,  137E,RF-2242,  1,     16,02-18570,2,20040716,0324, 27.9967, 136.9997, 4167,    252.6,  18.1008,  34.7787,2,   -999.0,9,-999.0000,9,    198.1,2,     3.78,2,  -999.00,9,     4.85,2,     0.00,2,     0.24,2, -999.000,9, -999.000,9,  -999.00,9,   -999.0,9,   -999.0,9,-999.0000,9,   -999.0,  9,  -999.00,9,   -999.0,  -999.00,9,  -999.00,9,  -999.00,9,  -999.00,9,   -999.0,-999.0000, -999,9,  251,  18.0573,  25.0885,   -999.0,9
     RF04-06-2,  137E,RF-2242,  1,     15,02-18569,2,20040716,0322, 27.9967, 136.9997, 4167,    302.5,  17.2920,  34.7311,2,   -999.0,9,-999.0000,9,    198.4,2,     4.65,2,  -999.00,9,     5.90,2,     0.00,2,     0.30,2, -999.000,9, -999.000,9,  -999.00,9,   -999.0,9,   -999.0,9,-999.0000,9,   -999.0,  9,  -999.00,9,   -999.0,  -999.00,9,  -999.00,9,  -999.00,9,  -999.00,9,   -999.0,-999.0000, -999,9,  300,  17.2414,  25.2503,   -999.0,9
     RF04-06-2,  137E,RF-2242,  1,     14,02-18568,2,20040716,0320, 27.9967, 136.9997, 4167,    404.0,  15.2646,  34.5965,2,   -999.0,9,-999.0000,9,    186.3,2,    10.18,2,  -999.00,9,    10.32,2,     0.00,2,     0.59,2, -999.000,9, -999.000,9,  -999.00,9,   -999.0,9,   -999.0,9,-999.0000,9,   -999.0,  9,  -999.00,9,   -999.0,  -999.00,9,  -999.00,9,  -999.00,9,  -999.00,9,   -999.0,-999.0000, -999,9,  401,  15.2025,  25.6163,   -999.0,9
     RF04-06-2,  137E,RF-2242,  1,     13,02-18567,2,20040716,0318, 27.9967, 136.9997, 4167,    504.6,  12.8346,  34.4348,2,   -999.0,9,-999.0000,9,    177.2,2,    19.00,2,  -999.00,9,    15.58,2,     0.00,2,     0.95,2, -999.000,9, -999.000,9,  -999.00,9,   -999.0,9,   -999.0,9,-999.0000,9,   -999.0,  9,  -999.00,9,   -999.0,  -999.00,9,  -999.00,9,  -999.00,9,  -999.00,9,   -999.0,-999.0000, -999,9,  501,  12.7654,  26.0017,   -999.0,9
     RF04-06-2,  137E,RF-2242,  1,     12,02-18566,2,20040716,0316, 27.9967, 136.9997, 4167,    605.2,   9.7674,  34.2445,2,   -999.0,9,-999.0000,9,    160.1,2,    35.21,2,  -999.00,9,    21.99,2,     0.00,2,     1.45,2, -999.000,9, -999.000,9,  -999.00,9,   -999.0,9,   -999.0,9,-999.0000,9,   -999.0,  9,  -999.00,9,   -999.0,  -999.00,9,  -999.00,9,  -999.00,9,  -999.00,9,   -999.0,-999.0000, -999,9,  600,   9.6974,  26.4129,   -999.0,9
     RF04-06-2,  137E,RF-2242,  1,     11,02-18565,2,20040716,0313, 27.9967, 136.9997, 4167,    706.5,   7.1758,  34.1490,2,   -999.0,9,-999.0000,9,    125.1,2,    57.57,2,  -999.00,9,    29.43,2,     0.00,2,     2.05,2, -999.000,9, -999.000,9,  -999.00,9,   -999.0,9,   -999.0,9,-999.0000,9,   -999.0,  9,  -999.00,9,   -999.0,  -999.00,9,  -999.00,9,  -999.00,9,  -999.00,9,   -999.0,-999.0000, -999,9,  701,   7.1072,  26.7336,   -999.0,9
     RF04-06-2,  137E,RF-2242,  1,     10,02-18564,2,20040716,0311, 27.9967, 136.9997, 4167,    807.7,   5.7514,  34.1781,2,   -999.0,9,-999.0000,9,     91.7,2,    77.66,2,  -999.00,9,    34.50,2,     0.00,2,     2.44,2, -999.000,9, -999.000,9,  -999.00,9,   -999.0,9,   -999.0,9,-999.0000,9,   -999.0,  9,  -999.00,9,   -999.0,  -999.00,9,  -999.00,9,  -999.00,9,  -999.00,9,   -999.0,-999.0000, -999,9,  801,   5.6810,  26.9429,   -999.0,9
     RF04-06-2,  137E,RF-2242,  1,      9,02-18563,2,20040716,0309, 27.9967, 136.9997, 4167,    907.6,   4.5766,  34.2450,2,   -999.0,9,-999.0000,9,     67.9,2,    97.90,2,  -999.00,9,    38.25,2,     0.00,2,     2.74,2, -999.000,9, -999.000,9,  -999.00,9,   -999.0,9,   -999.0,9,-999.0000,9,   -999.0,  9,  -999.00,9,   -999.0,  -999.00,9,  -999.00,9,  -999.00,9,  -999.00,9,   -999.0,-999.0000, -999,9,  900,   4.5049,  27.1321,   -999.0,9
     RF04-06-2,  137E,RF-2242,  1,      8,02-18562,2,20040716,0307, 27.9967, 136.9997, 4167,   1010.1,   4.0205,  34.3163,2,   -999.0,9,-999.0000,9,     61.5,2,   110.35,2,  -999.00,9,    39.35,2,     0.00,2,     2.82,2, -999.000,9, -999.000,9,  -999.00,9,   -999.0,9,   -999.0,9,-999.0000,9,   -999.0,  9,  -999.00,9,   -999.0,  -999.00,9,  -999.00,9,  -999.00,9,  -999.00,9,   -999.0,-999.0000, -999,9, 1001,   3.9442,  27.2480,   -999.0,9
     RF04-06-2,  137E,RF-2242,  1,      7,02-18561,2,20040716,0302, 27.9967, 136.9997, 4167,   1262.6,   3.1301,  34.4262,2,   -999.0,9,-999.0000,9,     62.7,2,   128.79,2,  -999.00,9,    40.39,2,     0.00,2,     2.88,2, -999.000,9, -999.000,9,  -999.00,9,   -999.0,9,   -999.0,9,-999.0000,9,   -999.0,  9,  -999.00,9,   -999.0,  -999.00,9,  -999.00,9,  -999.00,9,  -999.00,9,   -999.0,-999.0000, -999,9, 1250,   3.0407,  27.4233,   -999.0,9
     RF04-06-2,  137E,RF-2242,  1,      6,02-18560,2,20040716,0257, 27.9967, 136.9997, 4167,   1515.7,   2.5966,  34.5021,2,   -999.0,9,-999.0000,9,     77.4,2,   137.11,2,  -999.00,9,    39.97,2,     0.00,2,     2.83,2, -999.000,9, -999.000,9,  -999.00,9,   -999.0,9,   -999.0,9,-999.0000,9,   -999.0,  9,  -999.00,9,   -999.0,  -999.00,9,  -999.00,9,  -999.00,9,  -999.00,9,   -999.0,-999.0000, -999,9, 1500,   2.4923,  27.5324,   -999.0,9
     RF04-06-2,  137E,RF-2242,  1,      5,02-18559,2,20040716,0253, 27.9967, 136.9997, 4167,   1770.4,   2.2376,  34.5513,2,   -999.0,9,-999.0000,9,     95.3,2,   140.76,2,  -999.00,9,    39.18,2,     0.00,2,     2.75,2, -999.000,9, -999.000,9,  -999.00,9,   -999.0,9,   -999.0,9,-999.0000,9,   -999.0,  9,  -999.00,9,   -999.0,  -999.00,9,  -999.00,9,  -999.00,9,  -999.00,9,   -999.0,-999.0000, -999,9, 1751,   2.1170,  27.6029,   -999.0,9
     RF04-06-2,  137E,RF-2242,  1,      4,02-18558,2,20040716,0248, 27.9967, 136.9997, 4167,   2023.4,   2.0118,  34.5851,2,   -999.0,9,-999.0000,9,    107.7,2,   141.91,2,  -999.00,9,    38.48,2,     0.00,2,     2.70,2, -999.000,9, -999.000,9,  -999.00,9,   -999.0,9,   -999.0,9,-999.0000,9,   -999.0,  9,  -999.00,9,   -999.0,  -999.00,9,  -999.00,9,  -999.00,9,  -999.00,9,   -999.0,-999.0000, -999,9, 2000,   1.8734,  27.6492,   -999.0,9
     RF04-06-2,  137E,RF-2242,  1,      3,02-18557,2,20040716,0225, 27.9967, 136.9997, 4167,   3063.2,   1.5930,  34.6657,2,   -999.0,9,-999.0000,9,   -999.0,9,  -999.00,9,  -999.00,9,  -999.00,9,  -999.00,9,  -999.00,9, -999.000,9, -999.000,9,  -999.00,9,   -999.0,9,   -999.0,9,-999.0000,9,   -999.0,  9,  -999.00,9,   -999.0,  -999.00,9,  -999.00,9,  -999.00,9,  -999.00,9,   -999.0,-999.0000, -999,9, 3021,   1.3681,  27.7514,   -999.0,9
     RF04-06-2,  137E,RF-2242,  1,      2,02-18556,2,20040716,0225, 27.9967, 136.9997, 4167,   3063.0,   1.5930,  34.6657,2,   -999.0,9,-999.0000,9,   -999.0,9,  -999.00,9,  -999.00,9,  -999.00,9,  -999.00,9,  -999.00,9, -999.000,9, -999.000,9,  -999.00,9,   -999.0,9,   -999.0,9,-999.0000,9,   -999.0,  9,  -999.00,9,   -999.0,  -999.00,9,  -999.00,9,  -999.00,9,  -999.00,9,   -999.0,-999.0000, -999,9, 3021,   1.3681,  27.7514,   -999.0,9
     RF04-06-2,  137E,RF-2242,  1,      1,02-18555,2,20040716,0225, 27.9967, 136.9997, 4167,   3063.5,   1.5931,  34.6656,2,   -999.0,9,-999.0000,9,   -999.0,9,  -999.00,9,  -999.00,9,  -999.00,9,  -999.00,9,  -999.00,9, -999.000,9, -999.000,9,  -999.00,9,   -999.0,9,   -999.0,9,-999.0000,9,   -999.0,  9,  -999.00,9,   -999.0,  -999.00,9,  -999.00,9,  -999.00,9,  -999.00,9,   -999.0,-999.0000, -999,9, 3021,   1.3682,  27.7513,   -999.0,9
     RF04-06-2,  137E,RF-2243,  1,     13,02-18567,2,20040716,0939, 28.9920, 137.0058, 4523,     49.4,  23.7403,  34.7204,2,   -999.0,9,  34.7362,4,   -999.0,9,  -999.00,9,  -999.00,9,  -999.00,9,  -999.00,9,  -999.00,9, -999.000,9, -999.000,9,  -999.00,9,   -999.0,9,   -999.0,9,-999.0000,9,   -999.0,  9,  -999.00,9,   -999.0,  -999.00,9,  -999.00,9,  -999.00,9,  -999.00,9,   -999.0,-999.0000, -999,9,   49,  23.7300,  23.5093,   -999.0,9
     RF04-06-2,  137E,RF-2243,  1,     12,02-18566,2,20040716,0938, 28.9920, 137.0058, 4523,    100.6,  20.7782,  34.8904,2,   -999.0,9,  34.8830,2,   -999.0,9,  -999.00,9,  -999.00,9,  -999.00,9,  -999.00,9,  -999.00,9, -999.000,9, -999.000,9,  -999.00,9,   -999.0,9,   -999.0,9,-999.0000,9,   -999.0,  9,  -999.00,9,   -999.0,  -999.00,9,  -999.00,9,  -999.00,9,  -999.00,9,   -999.0,-999.0000, -999,9,  100,  20.7591,  24.4757,   -999.0,9
     RF04-06-2,  137E,RF-2243,  1,     11,02-18565,2,20040716,0936, 28.9920, 137.0058, 4523,    201.7,  18.5649,  34.8619,2,   -999.0,9,  34.8645,2,   -999.0,9,  -999.00,9,  -999.00,9,  -999.00,9,  -999.00,9,  -999.00,9, -999.000,9, -999.000,9,  -999.00,9,   -999.0,9,   -999.0,9,-999.0000,9,   -999.0,  9,  -999.00,9,   -999.0,  -999.00,9,  -999.00,9,  -999.00,9,  -999.00,9,   -999.0,-999.0000, -999,9,  200,  18.5295,  25.0346,   -999.0,9
     RF04-06-2,  137E,RF-2243,  1,     10,02-18564,2,20040716,0934, 28.9920, 137.0058, 4523,    301.3,  16.6236,  34.7001,2,   -999.0,9,  34.7075,2,   -999.0,9,  -999.00,9,  -999.00,9,  -999.00,9,  -999.00,9,  -999.00,9, -999.000,9, -999.000,9,  -999.00,9,   -999.0,9,   -999.0,9,-999.0000,9,   -999.0,  9,  -999.00,9,   -999.0,  -999.00,9,  -999.00,9,  -999.00,9,  -999.00,9,   -999.0,-999.0000, -999,9,  299,  16.5746,  25.3842,   -999.0,9
     RF04-06-2,  137E,RF-2243,  1,      9,02-18563,2,20040716,0932, 28.9920, 137.0058, 4523,    402.7,  14.1401,  34.5375,2,   -999.0,9,  34.5528,2,   -999.0,9,  -999.00,9,  -999.00,9,  -999.00,9,  -999.00,9,  -999.00,9, -999.000,9, -999.000,9,  -999.00,9,   -999.0,9,   -999.0,9,-999.0000,9,   -999.0,  9,  -999.00,9,   -999.0,  -999.00,9,  -999.00,9,  -999.00,9,  -999.00,9,   -999.0,-999.0000, -999,9,  400,  14.0813,  25.8126,   -999.0,9
     RF04-06-2,  137E,RF-2243,  1,      8,02-18562,2,20040716,0929, 28.9920, 137.0058, 4523,    503.2,  11.6366,  34.3703,2,   -999.0,9,  34.3843,2,   -999.0,9,  -999.00,9,  -999.00,9,  -999.00,9,  -999.00,9,  -999.00,9, -999.000,9, -999.000,9,  -999.00,9,   -999.0,9,   -999.0,9,-999.0000,9,   -999.0,  9,  -999.00,9,   -999.0,  -999.00,9,  -999.00,9,  -999.00,9,  -999.00,9,   -999.0,-999.0000, -999,9,  499,  11.5719,  26.1804,   -999.0,9
     RF04-06-2,  137E,RF-2243,  1,      7,02-18561,2,20040716,0926, 28.9920, 137.0058, 4523,    706.2,   6.7976,  34.1586,2,   -999.0,9,  34.1611,2,   -999.0,9,  -999.00,9,  -999.00,9,  -999.00,9,  -999.00,9,  -999.00,9, -999.000,9, -999.000,9,  -999.00,9,   -999.0,9,   -999.0,9,-999.0000,9,   -999.0,  9,  -999.00,9,   -999.0,  -999.00,9,  -999.00,9,  -999.00,9,  -999.00,9,   -999.0,-999.0000, -999,9,  700,   6.7310,  26.7925,   -999.0,9
     RF04-06-2,  137E,RF-2243,  1,      6,02-18560,2,20040716,0924, 28.9920, 137.0058, 4523,    806.4,   5.6932,  34.1810,2,   -999.0,9,  34.1781,2,   -999.0,9,  -999.00,9,  -999.00,9,  -999.00,9,  -999.00,9,  -999.00,9, -999.000,9, -999.000,9,  -999.00,9,   -999.0,9,   -999.0,9,-999.0000,9,   -999.0,  9,  -999.00,9,   -999.0,  -999.00,9,  -999.00,9,  -999.00,9,  -999.00,9,   -999.0,-999.0000, -999,9,  799,   5.6233,  26.9522,   -999.0,9
     RF04-06-2,  137E,RF-2243,  1,      5,02-18559,2,20040716,0920, 28.9920, 137.0058, 4523,   1008.9,   4.1678,  34.3067,2,   -999.0,9,  34.3033,2,   -999.0,9,  -999.00,9,  -999.00,9,  -999.00,9,  -999.00,9,  -999.00,9, -999.000,9, -999.000,9,  -999.00,9,   -999.0,9,   -999.0,9,-999.0000,9,   -999.0,  9,  -999.00,9,   -999.0,  -999.00,9,  -999.00,9,  -999.00,9,  -999.00,9,   -999.0,-999.0000, -999,9, 1000,   4.0904,  27.2253,   -999.0,9
     RF04-06-2,  137E,RF-2243,  1,      4,02-18558,2,20040716,0915, 28.9920, 137.0058, 4523,   1261.0,   3.0465,  34.4430,2,   -999.0,9,  34.4362,2,   -999.0,9,  -999.00,9,  -999.00,9,  -999.00,9,  -999.00,9,  -999.00,9, -999.000,9, -999.000,9,  -999.00,9,   -999.0,9,   -999.0,9,-999.0000,9,   -999.0,  9,  -999.00,9,   -999.0,  -999.00,9,  -999.00,9,  -999.00,9,  -999.00,9,   -999.0,-999.0000, -999,9, 1249,   2.9580,  27.4443,   -999.0,9
     RF04-06-2,  137E,RF-2243,  1,      3,02-18557,2,20040716,0910, 28.9920, 137.0058, 4523,   1515.0,   2.5394,  34.5220,2,   -999.0,9,  34.5222,2,   -999.0,9,  -999.00,9,  -999.00,9,  -999.00,9,  -999.00,9,  -999.00,9, -999.000,9, -999.000,9,  -999.00,9,   -999.0,9,   -999.0,9,-999.0000,9,   -999.0,  9,  -999.00,9,   -999.0,  -999.00,9,  -999.00,9,  -999.00,9,  -999.00,9,   -999.0,-999.0000, -999,9, 1499,   2.4358,  27.5531,   -999.0,9
     RF04-06-2,  137E,RF-2243,  1,      2,02-18556,2,20040716,0905, 28.9920, 137.0058, 4523,   1769.6,   2.2301,  34.5647,2,   -999.0,9,  34.5647,2,   -999.0,9,  -999.00,9,  -999.00,9,  -999.00,9,  -999.00,9,  -999.00,9, -999.000,9, -999.000,9,  -999.00,9,   -999.0,9,   -999.0,9,-999.0000,9,   -999.0,  9,  -999.00,9,   -999.0,  -999.00,9,  -999.00,9,  -999.00,9,  -999.00,9,   -999.0,-999.0000, -999,9, 1750,   2.1097,  27.6142,   -999.0,9
     RF04-06-2,  137E,RF-2243,  1,      1,02-18555,2,20040716,0900, 28.9920, 137.0058, 4523,   2047.2,   1.9804,  34.6048,2,   -999.0,9,  34.6040,2,   -999.0,9,  -999.00,9,  -999.00,9,  -999.00,9,  -999.00,9,  -999.00,9, -999.000,9, -999.000,9,  -999.00,9,   -999.0,9,   -999.0,9,-999.0000,9,   -999.0,  9,  -999.00,9,   -999.0,  -999.00,9,  -999.00,9,  -999.00,9,  -999.00,9,   -999.0,-999.0000, -999,9, 2023,   1.8404,  27.6675,   -999.0,9