BOTTLE,20131214MIRCJHATS
EXPOCODE,SECT_ID,STNNBR,CASTNO,SAMPNO,BTLNBR,BTLNBR_FLAG_W,DATE,TIME,LATITUDE,LONGITUDE,DEPTH,CTDPRS,CTDTMP,CTDSAL,CTDSAL_FLAG_W,CTDOXY,CTDOXY_FLAG_W,SALNTY,SALNTY_FLAG_W,OXYGEN,OXYGEN_FLAG_W,SILCAT,SILCAT_FLAG_W,NITRAT,NITRAT_FLAG_W,NO2+NO3,NO2+NO3_FLAG_W,NITRIT,NITRIT_FLAG_W,PHSPHT,PHSPHT_FLAG_W,CFC-11,CFC-11_FLAG_W,CFC-12,CFC-12_FLAG_W,DELC13,DELC13_FLAG_W,TCARBN,TCARBN_FLAG_W,ALKALI,ALKALI_FLAG_W,PH,PH_FLAG_W,PH_TMP,PH_SCALE,PH_NBS,PH_NBS_FLAG_W,C13ERR,TOTALP,TOTALP_FLAG_W,AMMONI,AMMONI_FLAG_W,CHLORA,CHLORA_FLAG_W,PPHYTN,PPHYTN_FLAG_W,REVPRS,REVTMP,DEPTH_,DEPTH_FLAG,CTDDEP,THETA,SIGTHT,DOC,DOC_FLAG_W
,,,,,,,GMT,GMT,,,METER,DBAR,ITS-90,PSS-78,,UMOL/KG,,PSS-78,,UMOL/KG,,UMOL/KG,,UMOL/KG,,UMOL/KG,,UMOL/KG,,UMOL/KG,,PMOL/KG,,PMOL/KG,,/MILLE,,UMOL/KG,,UMOL/KG,,25_DEG_C,,DEG_C,,,,/MILLE,UMOL/KG,,UMOL/KG,,UG/L,,UG/L,,DBAR,ITS-90,METERS,,METERS,DEG_C,,UMOL/L,
     RF04-06-2,  137E,RF-2249,  1,     -9,      -9,5,20040717,1046, 32.0023, 137.0548, 4144,      0.0,  28.5248,  34.2847,2,   -999.0,9,-999.0000,9,    204.9,2,     0.93,2,  -999.00,9,     0.00,2,     0.00,2,     0.00,2, -999.000,9, -999.000,9,  -999.00,9,   1918.3,2,   -999.0,9,-999.0000,9,   -999.0,  9,  -999.00,9,   -999.0,  -999.00,9,  -999.00,9,     0.09,2,     0.01,2,   -999.0,-999.0000, -999,9,    0,  28.5243,  21.6849,   -999.0,9
     RF04-06-2,  137E,RF-2249,  1,     21,02-18575,2,20040717,1044, 32.0023, 137.0548, 4144,     10.0,  28.5303,  34.2843,2,   -999.0,9,-999.0000,9,    207.9,2,     0.86,2,  -999.00,9,     0.00,2,     0.00,2,     0.00,2, -999.000,9, -999.000,9,  -999.00,9,   -999.0,9,   -999.0,9,-999.0000,9,   -999.0,  9,  -999.00,9,   -999.0,  -999.00,9,  -999.00,9,     0.08,2,     0.02,2,   -999.0,-999.0000, -999,9,   10,  28.5279,  21.6834,   -999.0,9
     RF04-06-2,  137E,RF-2249,  1,     20,02-18574,2,20040717,1042, 32.0023, 137.0548, 4144,     25.0,  28.5063,  34.2840,2,   -999.0,9,-999.0000,9,    206.3,2,     0.90,2,  -999.00,9,     0.00,2,     0.00,2,     0.00,2, -999.000,9, -999.000,9,  -999.00,9,   -999.0,9,   -999.0,9,-999.0000,9,   -999.0,  9,  -999.00,9,   -999.0,  -999.00,9,  -999.00,9,     0.11,2,     0.02,2,   -999.0,-999.0000, -999,9,   25,  28.5003,  21.6922,   -999.0,9
     RF04-06-2,  137E,RF-2249,  1,     19,02-18573,2,20040717,1041, 32.0023, 137.0548, 4144,     49.8,  26.9685,  34.4217,2,   -999.0,9,  34.4511,4,    211.0,2,     0.83,2,  -999.00,9,     0.00,2,     0.00,2,     0.00,2, -999.000,9, -999.000,9,  -999.00,9,   -999.0,9,   -999.0,9,-999.0000,9,   -999.0,  9,  -999.00,9,   -999.0,  -999.00,9,  -999.00,9,     0.11,2,     0.03,2,   -999.0,-999.0000, -999,9,   49,  26.9571,  22.2959,   -999.0,9
     RF04-06-2,  137E,RF-2249,  1,     18,02-18572,2,20040717,1040, 32.0023, 137.0548, 4144,     75.1,  25.4178,  34.5826,2,   -999.0,9,-999.0000,9,    207.0,2,     1.04,2,  -999.00,9,     0.00,2,     0.00,2,     0.01,2, -999.000,9, -999.000,9,  -999.00,9,   -999.0,9,   -999.0,9,-999.0000,9,   -999.0,  9,  -999.00,9,   -999.0,  -999.00,9,  -999.00,9,     0.36,2,     0.31,2,   -999.0,-999.0000, -999,9,   75,  25.4014,  22.9034,   -999.0,9
     RF04-06-2,  137E,RF-2249,  1,     17,02-18571,2,20040717,1039, 32.0023, 137.0548, 4144,    100.9,  24.4356,  34.6589,2,   -999.0,9,  34.6942,4,    196.6,2,     1.53,2,  -999.00,9,     1.23,2,     0.10,2,     0.08,2, -999.000,9, -999.000,9,  -999.00,9,   -999.0,9,   -999.0,9,-999.0000,9,   -999.0,  9,  -999.00,9,   -999.0,  -999.00,9,  -999.00,9,     0.33,2,     0.32,2,   -999.0,-999.0000, -999,9,  100,  24.4141,  23.2600,   -999.0,9
     RF04-06-2,  137E,RF-2249,  1,     16,02-18570,2,20040717,1038, 32.0023, 137.0548, 4144,    126.7,  23.0388,  34.7511,2,   -999.0,9,-999.0000,9,    192.6,2,     1.94,2,  -999.00,9,     2.01,2,     0.03,2,     0.12,2, -999.000,9, -999.000,9,  -999.00,9,   -999.0,9,   -999.0,9,-999.0000,9,   -999.0,  9,  -999.00,9,   -999.0,  -999.00,9,  -999.00,9,     0.09,2,     0.14,2,   -999.0,-999.0000, -999,9,  126,  23.0129,  23.7411,   -999.0,9
     RF04-06-2,  137E,RF-2249,  1,     15,02-18569,2,20040717,1036, 32.0023, 137.0548, 4144,    151.7,  21.8372,  34.8021,2,   -999.0,9,-999.0000,9,    193.0,2,     2.34,2,  -999.00,9,     2.53,2,     0.02,2,     0.16,2, -999.000,9, -999.000,9,  -999.00,9,   -999.0,9,   -999.0,9,-999.0000,9,   -999.0,  9,  -999.00,9,   -999.0,  -999.00,9,  -999.00,9,     0.03,2,     0.06,2,   -999.0,-999.0000, -999,9,  151,  21.8074,  24.1212,   -999.0,9
     RF04-06-2,  137E,RF-2249,  1,     14,02-18568,2,20040717,1034, 32.0023, 137.0548, 4144,    203.2,  19.7364,  34.7920,2,   -999.0,9,  34.7917,2,    189.2,2,     4.37,2,  -999.00,9,     4.77,2,     0.01,2,     0.27,2, -999.000,9, -999.000,9,  -999.00,9,   -999.0,9,   -999.0,9,-999.0000,9,   -999.0,  9,  -999.00,9,   -999.0,  -999.00,9,  -999.00,9,     0.01,2,     0.03,2,   -999.0,-999.0000, -999,9,  202,  19.6992,  24.6819,   -999.0,9
     RF04-06-2,  137E,RF-2249,  1,     13,02-18567,2,20040717,1031, 32.0023, 137.0548, 4144,    253.7,  17.2955,  34.6465,2,   -999.0,9,-999.0000,9,    180.7,2,    10.13,2,  -999.00,9,     8.73,2,     0.01,2,     0.53,2, -999.000,9, -999.000,9,  -999.00,9,   -999.0,9,   -999.0,9,-999.0000,9,   -999.0,  9,  -999.00,9,   -999.0,  -999.00,9,  -999.00,9,  -999.00,9,  -999.00,9,   -999.0,-999.0000, -999,9,  252,  17.2532,  25.1826,   -999.0,9
     RF04-06-2,  137E,RF-2249,  1,     12,02-18566,2,20040717,1029, 32.0023, 137.0548, 4144,    303.9,  14.5774,  34.5565,2,   -999.0,9,  34.5588,2,    171.6,2,    16.53,2,  -999.00,9,    13.06,2,     0.00,2,     0.81,2, -999.000,9, -999.000,9,  -999.00,9,   -999.0,9,   -999.0,9,-999.0000,9,   -999.0,  9,  -999.00,9,   -999.0,  -999.00,9,  -999.00,9,  -999.00,9,  -999.00,9,   -999.0,-999.0000, -999,9,  302,  14.5323,  25.7314,   -999.0,9
     RF04-06-2,  137E,RF-2249,  1,     11,02-18565,2,20040717,1025, 32.0023, 137.0548, 4144,    403.0,  11.3755,  34.4038,2,   -999.0,9,  34.4054,2,    152.2,2,    30.87,2,  -999.00,9,    19.87,2,     0.00,2,     1.30,2, -999.000,9, -999.000,9,  -999.00,9,   -999.0,9,   -999.0,9,-999.0000,9,   -999.0,  9,  -999.00,9,   -999.0,  -999.00,9,  -999.00,9,  -999.00,9,  -999.00,9,   -999.0,-999.0000, -999,9,  400,  11.3246,  26.2522,   -999.0,9
     RF04-06-2,  137E,RF-2249,  1,     10,02-18564,2,20040717,1021, 32.0023, 137.0548, 4144,    505.5,   8.5807,  34.2712,2,   -999.0,9,  34.2721,2,    131.5,2,    47.88,2,  -999.00,9,    26.46,2,     0.00,2,     1.80,2, -999.000,9, -999.000,9,  -999.00,9,   -999.0,9,   -999.0,9,-999.0000,9,   -999.0,  9,  -999.00,9,   -999.0,  -999.00,9,  -999.00,9,  -999.00,9,  -999.00,9,   -999.0,-999.0000, -999,9,  501,   8.5269,  26.6216,   -999.0,9
     RF04-06-2,  137E,RF-2249,  1,      9,02-18563,2,20040717,1019, 32.0023, 137.0548, 4144,    607.0,   6.7685,  34.2697,2,   -999.0,9,-999.0000,9,    101.9,2,    68.70,2,  -999.00,9,    31.78,2,     0.00,2,     2.24,2, -999.000,9, -999.000,9,  -999.00,9,   -999.0,9,   -999.0,9,-999.0000,9,   -999.0,  9,  -999.00,9,   -999.0,  -999.00,9,  -999.00,9,  -999.00,9,  -999.00,9,   -999.0,-999.0000, -999,9,  602,   6.7117,  26.8827,   -999.0,9
     RF04-06-2,  137E,RF-2249,  1,      8,02-18562,2,20040717,1017, 32.0023, 137.0548, 4144,    705.3,   5.4946,  34.3155,2,   -999.0,9,  34.3166,2,     85.1,2,    87.81,2,  -999.00,9,    35.36,2,     0.00,2,     2.51,2, -999.000,9, -999.000,9,  -999.00,9,   -999.0,9,   -999.0,9,-999.0000,9,   -999.0,  9,  -999.00,9,   -999.0,  -999.00,9,  -999.00,9,  -999.00,9,  -999.00,9,   -999.0,-999.0000, -999,9,  699,   5.4349,  27.0814,   -999.0,9
     RF04-06-2,  137E,RF-2249,  1,      7,02-18561,2,20040717,1015, 32.0023, 137.0548, 4144,    806.5,   4.3541,  34.3289,2,   -999.0,9,  34.3286,2,     67.0,2,   103.39,2,  -999.00,9,    38.31,2,     0.00,2,     2.76,2, -999.000,9, -999.000,9,  -999.00,9,   -999.0,9,   -999.0,9,-999.0000,9,   -999.0,  9,  -999.00,9,   -999.0,  -999.00,9,  -999.00,9,  -999.00,9,  -999.00,9,   -999.0,-999.0000, -999,9,  799,   4.2923,  27.2216,   -999.0,9
     RF04-06-2,  137E,RF-2249,  1,      6,02-18560,2,20040717,1013, 32.0023, 137.0548, 4144,    906.0,   3.9069,  34.3771,2,   -999.0,9,-999.0000,9,     65.7,2,   112.10,2,  -999.00,9,    39.21,2,     0.00,2,     2.82,2, -999.000,9, -999.000,9,  -999.00,9,   -999.0,9,   -999.0,9,-999.0000,9,   -999.0,  9,  -999.00,9,   -999.0,  -999.00,9,  -999.00,9,  -999.00,9,  -999.00,9,   -999.0,-999.0000, -999,9,  898,   3.8398,  27.3071,   -999.0,9
     RF04-06-2,  137E,RF-2249,  1,      5,02-18559,2,20040717,1011, 32.0023, 137.0548, 4144,   1007.3,   3.5291,  34.4207,2,   -999.0,9,  34.4201,2,     66.4,2,   120.40,2,  -999.00,9,    39.68,2,     0.00,2,     2.85,2, -999.000,9, -999.000,9,  -999.00,9,   -999.0,9,   -999.0,9,-999.0000,9,   -999.0,  9,  -999.00,9,   -999.0,  -999.00,9,  -999.00,9,  -999.00,9,  -999.00,9,   -999.0,-999.0000, -999,9,  998,   3.4566,  27.3797,   -999.0,9
     RF04-06-2,  137E,RF-2249,  1,      4,02-18558,2,20040717,1007, 32.0023, 137.0548, 4144,   1260.6,   2.8707,  34.4886,2,   -999.0,9,  34.4873,2,     72.3,2,   132.52,2,  -999.00,9,    39.91,2,     0.00,2,     2.86,2, -999.000,9, -999.000,9,  -999.00,9,   -999.0,9,   -999.0,9,-999.0000,9,   -999.0,  9,  -999.00,9,   -999.0,  -999.00,9,  -999.00,9,  -999.00,9,  -999.00,9,   -999.0,-999.0000, -999,9, 1248,   2.7838,  27.4963,   -999.0,9
     RF04-06-2,  137E,RF-2249,  1,      3,02-18557,2,20040717,0959, 32.0023, 137.0548, 4144,   1517.2,   2.4573,  34.5405,2,   -999.0,9,  34.5396,2,     86.3,2,   138.49,2,  -999.00,9,    39.26,2,     0.00,2,     2.81,2, -999.000,9, -999.000,9,  -999.00,9,   -999.0,9,   -999.0,9,-999.0000,9,   -999.0,  9,  -999.00,9,   -999.0,  -999.00,9,  -999.00,9,  -999.00,9,  -999.00,9,   -999.0,-999.0000, -999,9, 1501,   2.3544,  27.5748,   -999.0,9
     RF04-06-2,  137E,RF-2249,  1,      2,02-18556,2,20040717,0951, 32.0023, 137.0548, 4144,   1769.7,   2.1380,  34.5829,2,   -999.0,9,  34.5808,2,    101.0,2,   141.25,2,  -999.00,9,    38.64,2,     0.00,2,     2.73,2, -999.000,9, -999.000,9,  -999.00,9,   -999.0,9,   -999.0,9,-999.0000,9,   -999.0,  9,  -999.00,9,   -999.0,  -999.00,9,  -999.00,9,  -999.00,9,  -999.00,9,   -999.0,-999.0000, -999,9, 1750,   2.0187,  27.6360,   -999.0,9
     RF04-06-2,  137E,RF-2249,  1,      1,02-18555,2,20040717,0943, 32.0023, 137.0548, 4144,   2052.3,   1.9265,  34.6125,2,   -999.0,9,  34.6122,2,    114.5,2,   141.80,2,  -999.00,9,    38.07,2,     0.00,2,     2.68,2, -999.000,9, -999.000,9,  -999.00,9,   -999.0,9,   -999.0,9,-999.0000,9,   -999.0,  9,  -999.00,9,   -999.0,  -999.00,9,  -999.00,9,  -999.00,9,  -999.00,9,   -999.0,-999.0000, -999,9, 2028,   1.7869,  27.6778,   -999.0,9
     RF04-06-2,  137E,RF-2255,  1,     -9,      -9,5,20040718,0532, 34.0130, 137.0018, 1165,      0.0,  27.4583,  34.3217,2,   -999.0,9,-999.0000,9,    205.6,2,     1.00,2,  -999.00,9,     0.00,2,     0.00,2,     0.00,2, -999.000,9, -999.000,9,  -999.00,9,   1928.1,2,   -999.0,9,-999.0000,9,   -999.0,  9,  -999.00,9,   -999.0,  -999.00,9,  -999.00,9,     0.15,2,     0.03,2,   -999.0,-999.0000, -999,9,    0,  27.4580,  22.0602,   -999.0,9
     RF04-06-2,  137E,RF-2255,  1,     18,02-18572,2,20040718,0530, 34.0130, 137.0018, 1165,      9.6,  27.3988,  34.3178,2,   -999.0,9,-999.0000,9,    205.6,2,     0.98,2,  -999.00,9,     0.00,2,     0.00,2,     0.00,2, -999.000,9, -999.000,9,  -999.00,9,   -999.0,9,   -999.0,9,-999.0000,9,   -999.0,  9,  -999.00,9,   -999.0,  -999.00,9,  -999.00,9,     0.16,2,     0.04,2,   -999.0,-999.0000, -999,9,   10,  27.3966,  22.0771,   -999.0,9
     RF04-06-2,  137E,RF-2255,  1,     17,02-18571,2,20040718,0529, 34.0130, 137.0018, 1165,     25.6,  25.4535,  34.4339,2,   -999.0,9,-999.0000,9,    212.1,2,     1.23,2,  -999.00,9,     0.00,2,     0.01,2,     0.00,2, -999.000,9, -999.000,9,  -999.00,9,   -999.0,9,   -999.0,9,-999.0000,9,   -999.0,  9,  -999.00,9,   -999.0,  -999.00,9,  -999.00,9,     0.37,2,     0.20,2,   -999.0,-999.0000, -999,9,   25,  25.4479,  22.7769,   -999.0,9
     RF04-06-2,  137E,RF-2255,  1,     16,02-18570,2,20040718,0528, 34.0130, 137.0018, 1165,     50.8,  22.6985,  34.6361,2,   -999.0,9,  34.5941,4,    195.8,2,     3.04,2,  -999.00,9,     2.51,2,     0.29,2,     0.14,2, -999.000,9, -999.000,9,  -999.00,9,   -999.0,9,   -999.0,9,-999.0000,9,   -999.0,  9,  -999.00,9,   -999.0,  -999.00,9,  -999.00,9,     0.42,2,     0.42,2,   -999.0,-999.0000, -999,9,   50,  22.6883,  23.7470,   -999.0,9
     RF04-06-2,  137E,RF-2255,  1,     15,02-18569,2,20040718,0527, 34.0130, 137.0018, 1165,     75.7,  20.7492,  34.6288,2,   -999.0,9,-999.0000,9,    192.5,2,     4.43,2,  -999.00,9,     4.05,2,     0.21,2,     0.22,2, -999.000,9, -999.000,9,  -999.00,9,   -999.0,9,   -999.0,9,-999.0000,9,   -999.0,  9,  -999.00,9,   -999.0,  -999.00,9,  -999.00,9,     0.26,2,     0.30,2,   -999.0,-999.0000, -999,9,   75,  20.7349,  24.2830,   -999.0,9
     RF04-06-2,  137E,RF-2255,  1,     14,02-18568,2,20040718,0526, 34.0130, 137.0018, 1165,    102.5,  18.8964,  34.6743,2,   -999.0,9,  34.6769,2,    185.2,2,     6.48,2,  -999.00,9,     6.15,2,     0.03,2,     0.34,2, -999.000,9, -999.000,9,  -999.00,9,   -999.0,9,   -999.0,9,-999.0000,9,   -999.0,  9,  -999.00,9,   -999.0,  -999.00,9,  -999.00,9,     0.08,2,     0.13,2,   -999.0,-999.0000, -999,9,  102,  18.8783,  24.8032,   -999.0,9
     RF04-06-2,  137E,RF-2255,  1,     13,02-18567,2,20040718,0525, 34.0130, 137.0018, 1165,    126.6,  18.0182,  34.6820,2,   -999.0,9,-999.0000,9,    190.5,2,     7.42,2,  -999.00,9,     6.75,2,     0.02,2,     0.40,2, -999.000,9, -999.000,9,  -999.00,9,   -999.0,9,   -999.0,9,-999.0000,9,   -999.0,  9,  -999.00,9,   -999.0,  -999.00,9,  -999.00,9,     0.07,2,     0.11,2,   -999.0,-999.0000, -999,9,  126,  17.9965,  25.0294,   -999.0,9
     RF04-06-2,  137E,RF-2255,  1,     12,02-18566,2,20040718,0524, 34.0130, 137.0018, 1165,    153.1,  16.2186,  34.6130,2,   -999.0,9,-999.0000,9,    175.6,2,    13.07,2,  -999.00,9,    10.40,2,     0.01,2,     0.63,2, -999.000,9, -999.000,9,  -999.00,9,   -999.0,9,   -999.0,9,-999.0000,9,   -999.0,  9,  -999.00,9,   -999.0,  -999.00,9,  -999.00,9,     0.02,2,     0.06,2,   -999.0,-999.0000, -999,9,  152,  16.1942,  25.4054,   -999.0,9
     RF04-06-2,  137E,RF-2255,  1,     11,02-18565,2,20040718,0522, 34.0130, 137.0018, 1165,    203.5,  14.0785,  34.5361,2,   -999.0,9,  34.5376,2,    170.5,2,    17.46,2,  -999.00,9,    13.53,2,     0.00,2,     0.84,2, -999.000,9, -999.000,9,  -999.00,9,   -999.0,9,   -999.0,9,-999.0000,9,   -999.0,  9,  -999.00,9,   -999.0,  -999.00,9,  -999.00,9,     0.00,2,     0.03,2,   -999.0,-999.0000, -999,9,  202,  14.0491,  25.8183,   -999.0,9
     RF04-06-2,  137E,RF-2255,  1,     10,02-18564,2,20040718,0521, 34.0130, 137.0018, 1165,    254.0,  12.7336,  34.4613,2,   -999.0,9,  34.4622,2,    168.3,2,    20.58,2,  -999.00,9,    15.70,2,     0.00,2,     0.98,2, -999.000,9, -999.000,9,  -999.00,9,   -999.0,9,   -999.0,9,-999.0000,9,   -999.0,  9,  -999.00,9,   -999.0,  -999.00,9,  -999.00,9,  -999.00,9,  -999.00,9,   -999.0,-999.0000, -999,9,  252,  12.6993,  26.0352,   -999.0,9
     RF04-06-2,  137E,RF-2255,  1,      9,02-18563,2,20040718,0519, 34.0130, 137.0018, 1165,    302.4,  11.4074,  34.4040,2,   -999.0,9,  34.4048,2,    153.9,2,    29.66,2,  -999.00,9,    19.37,2,     0.00,2,     1.26,2, -999.000,9, -999.000,9,  -999.00,9,   -999.0,9,   -999.0,9,-999.0000,9,   -999.0,  9,  -999.00,9,   -999.0,  -999.00,9,  -999.00,9,  -999.00,9,  -999.00,9,   -999.0,-999.0000, -999,9,  300,  11.3693,  26.2442,   -999.0,9
     RF04-06-2,  137E,RF-2255,  1,      8,02-18562,2,20040718,0516, 34.0130, 137.0018, 1165,    405.1,   8.7685,  34.2531,2,   -999.0,9,  34.2540,2,    138.6,2,    44.46,2,  -999.00,9,    25.30,2,     0.00,2,     1.71,2, -999.000,9, -999.000,9,  -999.00,9,   -999.0,9,   -999.0,9,-999.0000,9,   -999.0,  9,  -999.00,9,   -999.0,  -999.00,9,  -999.00,9,  -999.00,9,  -999.00,9,   -999.0,-999.0000, -999,9,  402,   8.7251,  26.5766,   -999.0,9
     RF04-06-2,  137E,RF-2255,  1,      7,02-18561,2,20040718,0513, 34.0130, 137.0018, 1165,    506.1,   6.9599,  34.2653,2,   -999.0,9,  34.2673,2,    106.7,2,    65.95,2,  -999.00,9,    31.14,2,     0.00,2,     2.17,2, -999.000,9, -999.000,9,  -999.00,9,   -999.0,9,   -999.0,9,-999.0000,9,   -999.0,  9,  -999.00,9,   -999.0,  -999.00,9,  -999.00,9,  -999.00,9,  -999.00,9,   -999.0,-999.0000, -999,9,  502,   6.9122,  26.8521,   -999.0,9
     RF04-06-2,  137E,RF-2255,  1,      6,02-18560,2,20040718,0511, 34.0130, 137.0018, 1165,    607.5,   5.5190,  34.2713,2,   -999.0,9,  34.2716,2,     85.4,2,    84.60,2,  -999.00,9,    35.17,2,     0.00,2,     2.48,2, -999.000,9, -999.000,9,  -999.00,9,   -999.0,9,   -999.0,9,-999.0000,9,   -999.0,  9,  -999.00,9,   -999.0,  -999.00,9,  -999.00,9,  -999.00,9,  -999.00,9,   -999.0,-999.0000, -999,9,  602,   5.4679,  27.0425,   -999.0,9
     RF04-06-2,  137E,RF-2255,  1,      5,02-18559,2,20040718,0508, 34.0130, 137.0018, 1165,    708.0,   4.5369,  34.3318,2,   -999.0,9,  34.3309,2,     73.2,2,   101.20,2,  -999.00,9,    37.68,2,     0.00,2,     2.70,2, -999.000,9, -999.000,9,  -999.00,9,   -999.0,9,   -999.0,9,-999.0000,9,   -999.0,  9,  -999.00,9,   -999.0,  -999.00,9,  -999.00,9,  -999.00,9,  -999.00,9,   -999.0,-999.0000, -999,9,  702,   4.4821,  27.2034,   -999.0,9
     RF04-06-2,  137E,RF-2255,  1,      4,02-18558,2,20040718,0506, 34.0130, 137.0018, 1165,    807.8,   3.9628,  34.3746,2,   -999.0,9,  34.3747,2,     66.2,2,   112.14,2,  -999.00,9,    38.93,2,     0.00,2,     2.77,2, -999.000,9, -999.000,9,  -999.00,9,   -999.0,9,   -999.0,9,-999.0000,9,   -999.0,  9,  -999.00,9,   -999.0,  -999.00,9,  -999.00,9,  -999.00,9,  -999.00,9,   -999.0,-999.0000, -999,9,  800,   3.9033,  27.2986,   -999.0,9
     RF04-06-2,  137E,RF-2255,  1,      3,02-18557,2,20040718,0502, 34.0130, 137.0018, 1165,    909.1,   3.6543,  34.4071,2,   -999.0,9,  34.4069,2,     66.8,2,   118.15,2,  -999.00,9,    39.31,2,     0.00,2,     2.81,2, -999.000,9, -999.000,9,  -999.00,9,   -999.0,9,   -999.0,9,-999.0000,9,   -999.0,  9,  -999.00,9,   -999.0,  -999.00,9,  -999.00,9,  -999.00,9,  -999.00,9,   -999.0,-999.0000, -999,9,  901,   3.5887,  27.3560,   -999.0,9
     RF04-06-2,  137E,RF-2255,  1,      2,02-18556,2,20040718,0500, 34.0130, 137.0018, 1165,   1009.8,   3.4142,  34.4322,2,   -999.0,9,  34.4319,2,     68.0,2,   123.15,2,  -999.00,9,    39.53,2,     0.00,2,     2.83,2, -999.000,9, -999.000,9,  -999.00,9,   -999.0,9,   -999.0,9,-999.0000,9,   -999.0,  9,  -999.00,9,   -999.0,  -999.00,9,  -999.00,9,  -999.00,9,  -999.00,9,   -999.0,-999.0000, -999,9, 1000,   3.3424,  27.3999,   -999.0,9
     RF04-06-2,  137E,RF-2255,  1,      1,02-18555,2,20040718,0458, 34.0130, 137.0018, 1165,   1070.2,   3.2819,  34.4461,2,   -999.0,9,  34.4446,2,     68.5,2,   125.41,2,  -999.00,9,    39.57,2,     0.00,2,     2.81,2, -999.000,9, -999.000,9,  -999.00,9,   -999.0,9,   -999.0,9,-999.0000,9,   -999.0,  9,  -999.00,9,   -999.0,  -999.00,9,  -999.00,9,  -999.00,9,  -999.00,9,   -999.0,-999.0000, -999,9, 1060,   3.2064,  27.4239,   -999.0,9