BOTTLE,20131214MIRCJHATS
EXPOCODE,SECT_ID,STNNBR,CASTNO,SAMPNO,BTLNBR,BTLNBR_FLAG_W,DATE,TIME,LATITUDE,LONGITUDE,DEPTH,CTDPRS,CTDTMP,CTDSAL,CTDSAL_FLAG_W,CTDOXY,CTDOXY_FLAG_W,SALNTY,SALNTY_FLAG_W,OXYGEN,OXYGEN_FLAG_W,SILCAT,SILCAT_FLAG_W,NITRAT,NITRAT_FLAG_W,NO2+NO3,NO2+NO3_FLAG_W,NITRIT,NITRIT_FLAG_W,PHSPHT,PHSPHT_FLAG_W,CFC-11,CFC-11_FLAG_W,CFC-12,CFC-12_FLAG_W,DELC13,DELC13_FLAG_W,TCARBN,TCARBN_FLAG_W,ALKALI,ALKALI_FLAG_W,PH,PH_FLAG_W,PH_TMP,PH_SCALE,PH_NBS,PH_NBS_FLAG_W,C13ERR,TOTALP,TOTALP_FLAG_W,AMMONI,AMMONI_FLAG_W,CHLORA,CHLORA_FLAG_W,PPHYTN,PPHYTN_FLAG_W,REVPRS,REVTMP,DEPTH_,DEPTH_FLAG,CTDDEP,THETA,SIGTHT,DOC,DOC_FLAG_W
,,,,,,,GMT,GMT,,,METER,DBAR,ITS-90,PSS-78,,UMOL/KG,,PSS-78,,UMOL/KG,,UMOL/KG,,UMOL/KG,,UMOL/KG,,UMOL/KG,,UMOL/KG,,PMOL/KG,,PMOL/KG,,/MILLE,,UMOL/KG,,UMOL/KG,,25_DEG_C,,DEG_C,,,,/MILLE,UMOL/KG,,UMOL/KG,,UG/L,,UG/L,,DBAR,ITS-90,METERS,,METERS,DEG_C,,UMOL/L,
     RF04-06-2,  137E,RF-2246,  1,     -9,      -9,5,20040717,0003, 30.9882, 137.0150, 4156,      0.0,  28.8014,  34.3831,2,   -999.0,9,-999.0000,9,    200.8,2,     1.60,2,  -999.00,9,     0.00,2,     0.00,2,     0.00,2, -999.000,9, -999.000,9,  -999.00,9,   1911.6,9,   -999.0,9,-999.0000,9,   -999.0,  9,  -999.00,9,   -999.0,  -999.00,9,  -999.00,9,     0.15,2,     0.03,2,   -999.0,-999.0000, -999,9,    0,  28.8010,  21.6672,   -999.0,9
     RF04-06-2,  137E,RF-2246,  1,     21,02-18575,2,20040717,0001, 30.9882, 137.0150, 4156,     10.8,  28.8048,  34.3823,2,   -999.0,9,-999.0000,9,    202.5,2,     1.52,2,  -999.00,9,     0.00,2,     0.00,2,     0.00,2, -999.000,9, -999.000,9,  -999.00,9,   -999.0,9,   -999.0,9,-999.0000,9,   -999.0,  9,  -999.00,9,   -999.0,  -999.00,9,  -999.00,9,     0.16,2,     0.03,2,   -999.0,-999.0000, -999,9,   11,  28.8022,  21.6662,   -999.0,9
     RF04-06-2,  137E,RF-2246,  1,     20,02-18574,2,20040717,0000, 30.9882, 137.0150, 4156,     25.4,  28.2739,  34.6148,2,   -999.0,9,-999.0000,9,    200.5,2,     1.51,2,  -999.00,9,     0.00,2,     0.00,2,     0.00,2, -999.000,9, -999.000,9,  -999.00,9,   -999.0,9,   -999.0,9,-999.0000,9,   -999.0,  9,  -999.00,9,   -999.0,  -999.00,9,  -999.00,9,     0.09,2,     0.02,2,   -999.0,-999.0000, -999,9,   25,  28.2679,  22.0173,   -999.0,9
     RF04-06-2,  137E,RF-2246,  1,     19,02-18573,2,20040716,2359, 30.9882, 137.0150, 4156,     50.3,  25.4230,  34.6427,2,   -999.0,9,  34.6767,4,    215.0,2,     1.60,2,  -999.00,9,     0.00,2,     0.00,2,     0.00,2, -999.000,9, -999.000,9,  -999.00,9,   -999.0,9,   -999.0,9,-999.0000,9,   -999.0,  9,  -999.00,9,   -999.0,  -999.00,9,  -999.00,9,     0.16,2,     0.04,2,   -999.0,-999.0000, -999,9,   50,  25.4120,  22.9455,   -999.0,9
     RF04-06-2,  137E,RF-2246,  1,     18,02-18572,2,20040716,2358, 30.9882, 137.0150, 4156,     75.9,  24.0487,  34.7663,2,   -999.0,9,-999.0000,9,    216.4,2,     1.53,2,  -999.00,9,     0.00,2,     0.00,2,     0.00,2, -999.000,9, -999.000,9,  -999.00,9,   -999.0,9,   -999.0,9,-999.0000,9,   -999.0,  9,  -999.00,9,   -999.0,  -999.00,9,  -999.00,9,     0.28,2,     0.15,2,   -999.0,-999.0000, -999,9,   75,  24.0327,  23.4547,   -999.0,9
     RF04-06-2,  137E,RF-2246,  1,     17,02-18571,2,20040716,2357, 30.9882, 137.0150, 4156,    100.8,  23.2518,  34.7998,2,   -999.0,9,  34.8146,4,    214.0,2,     1.59,2,  -999.00,9,     0.11,2,     0.06,2,     0.00,2, -999.000,9, -999.000,9,  -999.00,9,   -999.0,9,   -999.0,9,-999.0000,9,   -999.0,  9,  -999.00,9,   -999.0,  -999.00,9,  -999.00,9,     0.28,2,     0.34,2,   -999.0,-999.0000, -999,9,  100,  23.2311,  23.7150,   -999.0,9
     RF04-06-2,  137E,RF-2246,  1,     16,02-18570,2,20040716,2355, 30.9882, 137.0150, 4156,    126.9,  21.6595,  34.8936,2,   -999.0,9,-999.0000,9,    205.2,2,     1.93,2,  -999.00,9,     1.10,2,     0.05,2,     0.05,2, -999.000,9, -999.000,9,  -999.00,9,   -999.0,9,   -999.0,9,-999.0000,9,   -999.0,  9,  -999.00,9,   -999.0,  -999.00,9,  -999.00,9,     0.07,2,     0.14,2,   -999.0,-999.0000, -999,9,  126,  21.6347,  24.2387,   -999.0,9
     RF04-06-2,  137E,RF-2246,  1,     15,02-18569,2,20040716,2354, 30.9882, 137.0150, 4156,    151.7,  20.3887,  34.9069,2,   -999.0,9,-999.0000,9,    206.6,2,     2.10,2,  -999.00,9,     1.66,2,     0.02,2,     0.08,2, -999.000,9, -999.000,9,  -999.00,9,   -999.0,9,   -999.0,9,-999.0000,9,   -999.0,  9,  -999.00,9,   -999.0,  -999.00,9,  -999.00,9,     0.03,2,     0.07,2,   -999.0,-999.0000, -999,9,  151,  20.3603,  24.5952,   -999.0,9
     RF04-06-2,  137E,RF-2246,  1,     14,02-18568,2,20040716,2353, 30.9882, 137.0150, 4156,    201.9,  19.1941,  34.8548,2,   -999.0,9,  34.8532,2,    205.4,2,     2.94,2,  -999.00,9,     2.84,2,     0.01,2,     0.14,2, -999.000,9, -999.000,9,  -999.00,9,   -999.0,9,   -999.0,9,-999.0000,9,   -999.0,  9,  -999.00,9,   -999.0,  -999.00,9,  -999.00,9,     0.00,2,     0.01,2,   -999.0,-999.0000, -999,9,  200,  19.1579,  24.8698,   -999.0,9
     RF04-06-2,  137E,RF-2246,  1,     13,02-18567,2,20040716,2351, 30.9882, 137.0150, 4156,    252.9,  18.3431,  34.8219,2,   -999.0,9,-999.0000,9,    205.9,2,     3.47,2,  -999.00,9,     3.75,2,     0.00,2,     0.20,2, -999.000,9, -999.000,9,  -999.00,9,   -999.0,9,   -999.0,9,-999.0000,9,   -999.0,  9,  -999.00,9,   -999.0,  -999.00,9,  -999.00,9,  -999.00,9,  -999.00,9,   -999.0,-999.0000, -999,9,  251,  18.2991,  25.0616,   -999.0,9
     RF04-06-2,  137E,RF-2246,  1,     12,02-18566,2,20040716,2349, 30.9882, 137.0150, 4156,    302.9,  17.5967,  34.7606,2,   -999.0,9,  34.7611,2,    200.9,2,     4.66,2,  -999.00,9,     5.38,2,     0.00,2,     0.28,2, -999.000,9, -999.000,9,  -999.00,9,   -999.0,9,   -999.0,9,-999.0000,9,   -999.0,  9,  -999.00,9,   -999.0,  -999.00,9,  -999.00,9,  -999.00,9,  -999.00,9,   -999.0,-999.0000, -999,9,  301,  17.5454,  25.1997,   -999.0,9
     RF04-06-2,  137E,RF-2246,  1,     11,02-18565,2,20040716,2347, 30.9882, 137.0150, 4156,    403.7,  16.0151,  34.6638,2,   -999.0,9,  34.6652,2,    197.1,2,     7.10,2,  -999.00,9,     7.77,2,     0.00,2,     0.43,2, -999.000,9, -999.000,9,  -999.00,9,   -999.0,9,   -999.0,9,-999.0000,9,   -999.0,  9,  -999.00,9,   -999.0,  -999.00,9,  -999.00,9,  -999.00,9,  -999.00,9,   -999.0,-999.0000, -999,9,  401,  15.9510,  25.5002,   -999.0,9
     RF04-06-2,  137E,RF-2246,  1,     10,02-18564,2,20040716,2344, 30.9882, 137.0150, 4156,    504.8,  13.6418,  34.4919,2,   -999.0,9,  34.4932,2,    186.9,2,    13.59,2,  -999.00,9,    12.53,2,     0.00,2,     0.75,2, -999.000,9, -999.000,9,  -999.00,9,   -999.0,9,   -999.0,9,-999.0000,9,   -999.0,  9,  -999.00,9,   -999.0,  -999.00,9,  -999.00,9,  -999.00,9,  -999.00,9,   -999.0,-999.0000, -999,9,  501,  13.5697,  25.8837,   -999.0,9
     RF04-06-2,  137E,RF-2246,  1,      9,02-18563,2,20040716,2341, 30.9882, 137.0150, 4156,    605.9,  11.0656,  34.3285,2,   -999.0,9,-999.0000,9,    169.5,2,    25.79,2,  -999.00,9,    18.63,2,     0.00,2,     1.21,2, -999.000,9, -999.000,9,  -999.00,9,   -999.0,9,   -999.0,9,-999.0000,9,   -999.0,  9,  -999.00,9,   -999.0,  -999.00,9,  -999.00,9,  -999.00,9,  -999.00,9,   -999.0,-999.0000, -999,9,  601,  10.9898,  26.2545,   -999.0,9
     RF04-06-2,  137E,RF-2246,  1,      8,02-18562,2,20040716,2339, 30.9882, 137.0150, 4156,    706.5,   9.2234,  34.3198,2,   -999.0,9,  34.3199,2,    134.0,2,    45.95,2,  -999.00,9,    24.98,2,     0.00,2,     1.70,2, -999.000,9, -999.000,9,  -999.00,9,   -999.0,9,   -999.0,9,-999.0000,9,   -999.0,  9,  -999.00,9,   -999.0,  -999.00,9,  -999.00,9,  -999.00,9,  -999.00,9,   -999.0,-999.0000, -999,9,  700,   9.1440,  26.5624,   -999.0,9
     RF04-06-2,  137E,RF-2246,  1,      7,02-18561,2,20040716,2336, 30.9882, 137.0150, 4156,    808.9,   6.9035,  34.2793,2,   -999.0,9,  34.2804,2,    104.0,2,    69.15,2,  -999.00,9,    31.58,2,     0.00,2,     2.22,2, -999.000,9, -999.000,9,  -999.00,9,   -999.0,9,   -999.0,9,-999.0000,9,   -999.0,  9,  -999.00,9,   -999.0,  -999.00,9,  -999.00,9,  -999.00,9,  -999.00,9,   -999.0,-999.0000, -999,9,  802,   6.8259,  26.8749,   -999.0,9
     RF04-06-2,  137E,RF-2246,  1,      6,02-18560,2,20040716,2333, 30.9882, 137.0150, 4156,    910.0,   5.1286,  34.2794,2,   -999.0,9,-999.0000,9,     79.1,2,    90.96,2,  -999.00,9,    36.53,2,     0.00,2,     2.61,2, -999.000,9, -999.000,9,  -999.00,9,   -999.0,9,   -999.0,9,-999.0000,9,   -999.0,  9,  -999.00,9,   -999.0,  -999.00,9,  -999.00,9,  -999.00,9,  -999.00,9,   -999.0,-999.0000, -999,9,  902,   5.0528,  27.0978,   -999.0,9
     RF04-06-2,  137E,RF-2246,  1,      5,02-18559,2,20040716,2330, 30.9882, 137.0150, 4156,   1011.4,   4.3451,  34.3452,2,   -999.0,9,  34.3438,2,     69.7,2,   105.19,2,  -999.00,9,    38.34,2,     0.00,2,     2.75,2, -999.000,9, -999.000,9,  -999.00,9,   -999.0,9,   -999.0,9,-999.0000,9,   -999.0,  9,  -999.00,9,   -999.0,  -999.00,9,  -999.00,9,  -999.00,9,  -999.00,9,   -999.0,-999.0000, -999,9, 1002,   4.2661,  27.2374,   -999.0,9
     RF04-06-2,  137E,RF-2246,  1,      4,02-18558,2,20040716,2324, 30.9882, 137.0150, 4156,   1263.7,   3.2934,  34.4393,2,   -999.0,9,  34.4379,2,     66.9,2,   126.00,2,  -999.00,9,    39.92,2,     0.00,2,     2.84,2, -999.000,9, -999.000,9,  -999.00,9,   -999.0,9,   -999.0,9,-999.0000,9,   -999.0,  9,  -999.00,9,   -999.0,  -999.00,9,  -999.00,9,  -999.00,9,  -999.00,9,   -999.0,-999.0000, -999,9, 1251,   3.2023,  27.4188,   -999.0,9
     RF04-06-2,  137E,RF-2246,  1,      3,02-18557,2,20040716,2318, 30.9882, 137.0150, 4156,   1517.3,   2.6732,  34.5144,2,   -999.0,9,  34.5138,2,     79.0,2,   136.12,2,  -999.00,9,    39.67,2,     0.00,2,     2.82,2, -999.000,9, -999.000,9,  -999.00,9,   -999.0,9,   -999.0,9,-999.0000,9,   -999.0,  9,  -999.00,9,   -999.0,  -999.00,9,  -999.00,9,  -999.00,9,  -999.00,9,   -999.0,-999.0000, -999,9, 1501,   2.5679,  27.5358,   -999.0,9
     RF04-06-2,  137E,RF-2246,  1,      2,02-18556,2,20040716,2312, 30.9882, 137.0150, 4156,   1771.1,   2.3098,  34.5601,2,   -999.0,9,  34.5601,2,     92.3,2,   140.82,2,  -999.00,9,    39.10,2,     0.00,2,     2.77,2, -999.000,9, -999.000,9,  -999.00,9,   -999.0,9,   -999.0,9,-999.0000,9,   -999.0,  9,  -999.00,9,   -999.0,  -999.00,9,  -999.00,9,  -999.00,9,  -999.00,9,   -999.0,-999.0000, -999,9, 1751,   2.1882,  27.6041,   -999.0,9
     RF04-06-2,  137E,RF-2246,  1,      1,02-18555,2,20040716,2305, 30.9882, 137.0150, 4156,   2042.5,   2.0586,  34.5955,2,   -999.0,9,  34.5951,2,    107.4,2,   142.09,2,  -999.00,9,    38.46,2,     0.00,2,     2.71,2, -999.000,9, -999.000,9,  -999.00,9,   -999.0,9,   -999.0,9,-999.0000,9,   -999.0,  9,  -999.00,9,   -999.0,  -999.00,9,  -999.00,9,  -999.00,9,  -999.00,9,   -999.0,-999.0000, -999,9, 2019,   1.9178,  27.6541,   -999.0,9