BOTTLE,20131214MIRCJHATS
EXPOCODE,SECT_ID,STNNBR,CASTNO,SAMPNO,BTLNBR,BTLNBR_FLAG_W,DATE,TIME,LATITUDE,LONGITUDE,DEPTH,CTDPRS,CTDTMP,CTDSAL,CTDSAL_FLAG_W,CTDOXY,CTDOXY_FLAG_W,SALNTY,SALNTY_FLAG_W,OXYGEN,OXYGEN_FLAG_W,SILCAT,SILCAT_FLAG_W,NITRAT,NITRAT_FLAG_W,NO2+NO3,NO2+NO3_FLAG_W,NITRIT,NITRIT_FLAG_W,PHSPHT,PHSPHT_FLAG_W,CFC-11,CFC-11_FLAG_W,CFC-12,CFC-12_FLAG_W,DELC13,DELC13_FLAG_W,TCARBN,TCARBN_FLAG_W,ALKALI,ALKALI_FLAG_W,PH,PH_FLAG_W,PH_TMP,PH_SCALE,PH_NBS,PH_NBS_FLAG_W,C13ERR,TOTALP,TOTALP_FLAG_W,AMMONI,AMMONI_FLAG_W,CHLORA,CHLORA_FLAG_W,PPHYTN,PPHYTN_FLAG_W,REVPRS,REVTMP,DEPTH_,DEPTH_FLAG,CTDDEP,THETA,SIGTHT,DOC,DOC_FLAG_W
,,,,,,,GMT,GMT,,,METER,DBAR,ITS-90,PSS-78,,UMOL/KG,,PSS-78,,UMOL/KG,,UMOL/KG,,UMOL/KG,,UMOL/KG,,UMOL/KG,,UMOL/KG,,PMOL/KG,,PMOL/KG,,/MILLE,,UMOL/KG,,UMOL/KG,,25_DEG_C,,DEG_C,,,,/MILLE,UMOL/KG,,UMOL/KG,,UG/L,,UG/L,,DBAR,ITS-90,METERS,,METERS,DEG_C,,UMOL/L,
     RF04-06-2,  137E,RF-2227,  1,     -9,      -9,5,20040712,0930, 12.9932, 136.9778, 4720,      0.0,  29.5294,  34.2042,2,   -999.0,9,-999.0000,9,    197.1,2,     0.34,2,  -999.00,9,     0.00,2,     0.00,2,     0.00,2, -999.000,9, -999.000,9,  -999.00,9,   1895.9,2,   -999.0,9,-999.0000,9,   -999.0,  9,  -999.00,9,   -999.0,  -999.00,9,  -999.00,9,     0.07,2,     0.00,2,   -999.0,-999.0000, -999,9,    0,  29.5290,  21.2894,   -999.0,9
     RF04-06-2,  137E,RF-2227,  1,     21,02-18575,2,20040712,0928, 12.9932, 136.9778, 4720,     11.0,  29.2972,  34.2292,2,   -999.0,9,-999.0000,9,    200.2,2,     0.31,2,  -999.00,9,     0.00,2,     0.00,2,     0.00,2, -999.000,9, -999.000,9,  -999.00,9,   -999.0,9,   -999.0,9,-999.0000,9,   -999.0,  9,  -999.00,9,   -999.0,  -999.00,9,  -999.00,9,     0.07,2,     0.00,2,   -999.0,-999.0000, -999,9,   11,  29.2945,  21.3870,   -999.0,9
     RF04-06-2,  137E,RF-2227,  1,     20,02-18574,2,20040712,0927, 12.9932, 136.9778, 4720,     25.1,  29.0813,  34.2340,2,   -999.0,9,-999.0000,9,    208.5,2,     0.26,2,  -999.00,9,     0.00,2,     0.00,2,     0.00,2, -999.000,9, -999.000,9,  -999.00,9,   -999.0,9,   -999.0,9,-999.0000,9,   -999.0,  9,  -999.00,9,   -999.0,  -999.00,9,  -999.00,9,     0.08,2,     0.01,2,   -999.0,-999.0000, -999,9,   25,  29.0752,  21.4640,   -999.0,9
     RF04-06-2,  137E,RF-2227,  1,     19,02-18573,2,20040712,0927, 12.9932, 136.9778, 4720,     50.5,  28.8898,  34.2806,2,   -999.0,9,  34.2971,4,    201.7,2,     0.26,2,  -999.00,9,     0.00,2,     0.00,2,     0.00,2, -999.000,9, -999.000,9,  -999.00,9,   -999.0,9,   -999.0,9,-999.0000,9,   -999.0,  9,  -999.00,9,   -999.0,  -999.00,9,  -999.00,9,     0.10,2,     0.00,2,   -999.0,-999.0000, -999,9,   50,  28.8776,  21.5648,   -999.0,9
     RF04-06-2,  137E,RF-2227,  1,     18,02-18572,2,20040712,0926, 12.9932, 136.9778, 4720,     74.7,  27.9195,  34.6373,2,   -999.0,9,-999.0000,9,    209.4,2,     0.23,2,  -999.00,9,     0.00,2,     0.00,2,     0.00,2, -999.000,9, -999.000,9,  -999.00,9,   -999.0,9,   -999.0,9,-999.0000,9,   -999.0,  9,  -999.00,9,   -999.0,  -999.00,9,  -999.00,9,     0.15,2,     0.01,2,   -999.0,-999.0000, -999,9,   74,  27.9020,  22.1539,   -999.0,9
     RF04-06-2,  137E,RF-2227,  1,     17,02-18571,2,20040712,0925, 12.9932, 136.9778, 4720,    100.1,  26.7584,  34.8728,2,   -999.0,9,  34.8780,2,    208.5,2,     0.20,2,  -999.00,9,     0.00,2,     0.00,2,     0.00,2, -999.000,9, -999.000,9,  -999.00,9,   -999.0,9,   -999.0,9,-999.0000,9,   -999.0,  9,  -999.00,9,   -999.0,  -999.00,9,  -999.00,9,     0.24,2,     0.06,2,   -999.0,-999.0000, -999,9,  100,  26.7356,  22.7061,   -999.0,9
     RF04-06-2,  137E,RF-2227,  1,     16,02-18570,2,20040712,0924, 12.9932, 136.9778, 4720,    124.9,  25.9558,  34.9809,2,   -999.0,9,-999.0000,9,    201.2,2,     0.21,2,  -999.00,9,     0.00,2,     0.02,2,     0.00,2, -999.000,9, -999.000,9,  -999.00,9,   -999.0,9,   -999.0,9,-999.0000,9,   -999.0,  9,  -999.00,9,   -999.0,  -999.00,9,  -999.00,9,     0.34,2,     0.27,2,   -999.0,-999.0000, -999,9,  124,  25.9280,  23.0413,   -999.0,9
     RF04-06-2,  137E,RF-2227,  1,     15,02-18569,2,20040712,0923, 12.9932, 136.9778, 4720,    150.9,  24.7802,  35.1122,2,   -999.0,9,-999.0000,9,    198.0,2,     0.46,2,  -999.00,9,     0.39,2,     0.03,2,     0.03,2, -999.000,9, -999.000,9,  -999.00,9,   -999.0,9,   -999.0,9,-999.0000,9,   -999.0,  9,  -999.00,9,   -999.0,  -999.00,9,  -999.00,9,     0.19,2,     0.21,2,   -999.0,-999.0000, -999,9,  150,  24.7477,  23.5025,   -999.0,9
     RF04-06-2,  137E,RF-2227,  1,     14,02-18568,2,20040712,0922, 12.9932, 136.9778, 4720,    201.7,  21.2245,  35.0056,2,   -999.0,9,  34.9745,4,    170.2,2,     2.99,2,  -999.00,9,     4.38,2,     0.01,2,     0.37,2, -999.000,9, -999.000,9,  -999.00,9,   -999.0,9,   -999.0,9,-999.0000,9,   -999.0,  9,  -999.00,9,   -999.0,  -999.00,9,  -999.00,9,     0.05,2,     0.10,2,   -999.0,-999.0000, -999,9,  200,  21.1856,  24.4476,   -999.0,9
     RF04-06-2,  137E,RF-2227,  1,     13,02-18567,2,20040712,0920, 12.9932, 136.9778, 4720,    251.8,  16.4980,  34.6741,2,   -999.0,9,-999.0000,9,    143.3,2,    10.24,2,  -999.00,9,    13.00,2,     0.00,2,     0.88,2, -999.000,9, -999.000,9,  -999.00,9,   -999.0,9,   -999.0,9,-999.0000,9,   -999.0,  9,  -999.00,9,   -999.0,  -999.00,9,  -999.00,9,  -999.00,9,  -999.00,9,   -999.0,-999.0000, -999,9,  250,  16.4573,  25.3915,   -999.0,9
     RF04-06-2,  137E,RF-2227,  1,     12,02-18566,2,20040712,0919, 12.9932, 136.9778, 4720,    302.0,  12.6271,  34.4215,2,   -999.0,9,  34.4202,2,    144.3,2,    16.45,2,  -999.00,9,    17.71,2,     0.00,2,     1.24,2, -999.000,9, -999.000,9,  -999.00,9,   -999.0,9,   -999.0,9,-999.0000,9,   -999.0,  9,  -999.00,9,   -999.0,  -999.00,9,  -999.00,9,  -999.00,9,  -999.00,9,   -999.0,-999.0000, -999,9,  300,  12.5864,  26.0266,   -999.0,9
     RF04-06-2,  137E,RF-2227,  1,     11,02-18565,2,20040712,0917, 12.9932, 136.9778, 4720,    403.0,   9.1974,  34.4310,2,   -999.0,9,  34.4373,2,     75.9,2,    36.23,2,  -999.00,9,    30.46,2,     0.00,2,     2.20,2, -999.000,9, -999.000,9,  -999.00,9,   -999.0,9,   -999.0,9,-999.0000,9,   -999.0,  9,  -999.00,9,   -999.0,  -999.00,9,  -999.00,9,  -999.00,9,  -999.00,9,   -999.0,-999.0000, -999,9,  400,   9.1528,  26.6480,   -999.0,9
     RF04-06-2,  137E,RF-2227,  1,     10,02-18564,2,20040712,0914, 12.9932, 136.9778, 4720,    504.3,   7.5712,  34.4810,2,   -999.0,9,  34.4801,2,     70.8,2,    48.01,2,  -999.00,9,    34.13,2,     0.00,2,     2.47,2, -999.000,9, -999.000,9,  -999.00,9,   -999.0,9,   -999.0,9,-999.0000,9,   -999.0,  9,  -999.00,9,   -999.0,  -999.00,9,  -999.00,9,  -999.00,9,  -999.00,9,   -999.0,-999.0000, -999,9,  501,   7.5212,  26.9364,   -999.0,9
     RF04-06-2,  137E,RF-2227,  1,      9,02-18563,2,20040712,0912, 12.9932, 136.9778, 4720,    603.9,   6.7426,  34.4721,2,   -999.0,9,-999.0000,9,     82.7,2,    55.05,2,  -999.00,9,    34.91,2,     0.00,2,     2.50,2, -999.000,9, -999.000,9,  -999.00,9,   -999.0,9,   -999.0,9,-999.0000,9,   -999.0,  9,  -999.00,9,   -999.0,  -999.00,9,  -999.00,9,  -999.00,9,  -999.00,9,   -999.0,-999.0000, -999,9,  600,   6.6860,  27.0457,   -999.0,9
     RF04-06-2,  137E,RF-2227,  1,      8,02-18562,2,20040712,0909, 12.9932, 136.9778, 4720,    705.5,   6.2951,  34.4976,2,   -999.0,9,  34.5007,2,     83.2,2,    58.80,2,  -999.00,9,    35.68,2,     0.00,2,     2.57,2, -999.000,9, -999.000,9,  -999.00,9,   -999.0,9,   -999.0,9,-999.0000,9,   -999.0,  9,  -999.00,9,   -999.0,  -999.00,9,  -999.00,9,  -999.00,9,  -999.00,9,   -999.0,-999.0000, -999,9,  700,   6.2309,  27.1261,   -999.0,9
     RF04-06-2,  137E,RF-2227,  1,      7,02-18561,2,20040712,0907, 12.9932, 136.9778, 4720,    807.7,   5.6268,  34.5086,2,   -999.0,9,  34.5092,2,     84.4,2,    68.93,2,  -999.00,9,    36.90,2,     0.00,2,     2.67,2, -999.000,9, -999.000,9,  -999.00,9,   -999.0,9,   -999.0,9,-999.0000,9,   -999.0,  9,  -999.00,9,   -999.0,  -999.00,9,  -999.00,9,  -999.00,9,  -999.00,9,   -999.0,-999.0000, -999,9,  801,   5.5568,  27.2195,   -999.0,9
     RF04-06-2,  137E,RF-2227,  1,      6,02-18560,2,20040712,0905, 12.9932, 136.9778, 4720,    908.0,   5.0572,  34.5195,2,   -999.0,9,-999.0000,9,     85.2,2,    78.39,2,  -999.00,9,    37.47,2,     0.00,2,     2.70,2, -999.000,9, -999.000,9,  -999.00,9,   -999.0,9,   -999.0,9,-999.0000,9,   -999.0,  9,  -999.00,9,   -999.0,  -999.00,9,  -999.00,9,  -999.00,9,  -999.00,9,   -999.0,-999.0000, -999,9,  901,   4.9817,  27.2965,   -999.0,9
     RF04-06-2,  137E,RF-2227,  1,      5,02-18559,2,20040712,0902, 12.9932, 136.9778, 4720,   1008.5,   4.5703,  34.5299,2,   -999.0,9,  34.5298,2,     84.6,2,    88.51,2,  -999.00,9,    38.04,2,     0.00,2,     2.74,2, -999.000,9, -999.000,9,  -999.00,9,   -999.0,9,   -999.0,9,-999.0000,9,   -999.0,  9,  -999.00,9,   -999.0,  -999.00,9,  -999.00,9,  -999.00,9,  -999.00,9,   -999.0,-999.0000, -999,9, 1000,   4.4895,  27.3600,   -999.0,9
     RF04-06-2,  137E,RF-2227,  1,      4,02-18558,2,20040712,0858, 12.9932, 136.9778, 4720,   1260.7,   3.7342,  34.5610,2,   -999.0,9,  34.5608,2,     90.1,2,   105.01,2,  -999.00,9,    38.21,2,     0.00,2,     2.75,2, -999.000,9, -999.000,9,  -999.00,9,   -999.0,9,   -999.0,9,-999.0000,9,   -999.0,  9,  -999.00,9,   -999.0,  -999.00,9,  -999.00,9,  -999.00,9,  -999.00,9,   -999.0,-999.0000, -999,9, 1250,   3.6388,  27.4737,   -999.0,9
     RF04-06-2,  137E,RF-2227,  1,      3,02-18557,2,20040712,0852, 12.9932, 136.9778, 4720,   1515.5,   3.0878,  34.5806,2,   -999.0,9,  34.5822,2,     98.2,2,   118.27,2,  -999.00,9,    38.23,2,     0.00,2,     2.74,2, -999.000,9, -999.000,9,  -999.00,9,   -999.0,9,   -999.0,9,-999.0000,9,   -999.0,  9,  -999.00,9,   -999.0,  -999.00,9,  -999.00,9,  -999.00,9,  -999.00,9,   -999.0,-999.0000, -999,9, 1501,   2.9776,  27.5523,   -999.0,9
     RF04-06-2,  137E,RF-2227,  1,      2,02-18556,2,20040712,0847, 12.9932, 136.9778, 4720,   1768.0,   2.6243,  34.6053,2,   -999.0,9,  34.6063,2,    102.7,2,   127.25,2,  -999.00,9,    38.40,2,     0.00,2,     2.73,2, -999.000,9, -999.000,9,  -999.00,9,   -999.0,9,   -999.0,9,-999.0000,9,   -999.0,  9,  -999.00,9,   -999.0,  -999.00,9,  -999.00,9,  -999.00,9,  -999.00,9,   -999.0,-999.0000, -999,9, 1750,   2.4985,  27.6144,   -999.0,9
     RF04-06-2,  137E,RF-2227,  1,      1,02-18555,2,20040712,0841, 12.9932, 136.9778, 4720,   2045.4,   2.2699,  34.6261,2,   -999.0,9,  34.6261,2,    112.6,2,   133.58,2,  -999.00,9,    38.00,2,     0.00,2,     2.69,2, -999.000,9, -999.000,9,  -999.00,9,   -999.0,9,   -999.0,9,-999.0000,9,   -999.0,  9,  -999.00,9,   -999.0,  -999.00,9,  -999.00,9,  -999.00,9,  -999.00,9,   -999.0,-999.0000, -999,9, 2024,   2.1255,  27.6621,   -999.0,9