BOTTLE,20131214MIRCJHATS
EXPOCODE,SECT_ID,STNNBR,CASTNO,SAMPNO,BTLNBR,BTLNBR_FLAG_W,DATE,TIME,LATITUDE,LONGITUDE,DEPTH,CTDPRS,CTDTMP,CTDSAL,CTDSAL_FLAG_W,CTDOXY,CTDOXY_FLAG_W,SALNTY,SALNTY_FLAG_W,OXYGEN,OXYGEN_FLAG_W,SILCAT,SILCAT_FLAG_W,NITRAT,NITRAT_FLAG_W,NO2+NO3,NO2+NO3_FLAG_W,NITRIT,NITRIT_FLAG_W,PHSPHT,PHSPHT_FLAG_W,CFC-11,CFC-11_FLAG_W,CFC-12,CFC-12_FLAG_W,DELC13,DELC13_FLAG_W,TCARBN,TCARBN_FLAG_W,ALKALI,ALKALI_FLAG_W,PH,PH_FLAG_W,PH_TMP,PH_SCALE,PH_NBS,PH_NBS_FLAG_W,C13ERR,TOTALP,TOTALP_FLAG_W,AMMONI,AMMONI_FLAG_W,CHLORA,CHLORA_FLAG_W,PPHYTN,PPHYTN_FLAG_W,REVPRS,REVTMP,DEPTH_,DEPTH_FLAG,CTDDEP,THETA,SIGTHT,DOC,DOC_FLAG_W
,,,,,,,GMT,GMT,,,METER,DBAR,ITS-90,PSS-78,,UMOL/KG,,PSS-78,,UMOL/KG,,UMOL/KG,,UMOL/KG,,UMOL/KG,,UMOL/KG,,UMOL/KG,,PMOL/KG,,PMOL/KG,,/MILLE,,UMOL/KG,,UMOL/KG,,25_DEG_C,,DEG_C,,,,/MILLE,UMOL/KG,,UMOL/KG,,UG/L,,UG/L,,DBAR,ITS-90,METERS,,METERS,DEG_C,,UMOL/L,
     RF04-06-2,  137E,RF-2217,  1,     15,02-18569,2,20040709,1721,  3.0203, 137.0295, 4537,    303.3,   9.7861,  34.4390,2,   -999.0,9,  34.4399,2,    107.4,2,    36.99,2,  -999.00,9,    26.88,2,     0.00,2,     1.91,2, -999.000,9, -999.000,9,  -999.00,9,   2191.3,2,   -999.0,9,-999.0000,9,   -999.0,  9,  -999.00,9,   -999.0,  -999.00,9,  -999.00,9,  -999.00,9,  -999.00,9,   -999.0,-999.0000, -999,9,  301,   9.7514,  26.5558,   -999.0,9
     RF04-06-2,  137E,RF-2217,  1,     14,02-18568,2,20040709,1718,  3.0203, 137.0295, 4537,    404.2,   8.0691,  34.5723,2,   -999.0,9,  34.5724,2,     83.3,2,    41.75,2,  -999.00,9,    33.07,2,     0.00,2,     2.32,2, -999.000,9, -999.000,9,  -999.00,9,   2232.2,2,   -999.0,9,-999.0000,9,   -999.0,  9,  -999.00,9,   -999.0,  -999.00,9,  -999.00,9,  -999.00,9,  -999.00,9,   -999.0,-999.0000, -999,9,  402,   8.0277,  26.9338,   -999.0,9
     RF04-06-2,  137E,RF-2217,  1,     13,02-18567,2,20040709,1715,  3.0203, 137.0295, 4537,    505.4,   7.1109,  34.5525,2,   -999.0,9,  34.5506,2,    104.0,2,    45.52,2,  -999.00,9,    33.29,2,     0.00,2,     2.34,2, -999.000,9, -999.000,9,  -999.00,9,   -999.0,9,   -999.0,9,-999.0000,9,   -999.0,  9,  -999.00,9,   -999.0,  -999.00,9,  -999.00,9,  -999.00,9,  -999.00,9,   -999.0,-999.0000, -999,9,  502,   7.0624,  27.0576,   -999.0,9
     RF04-06-2,  137E,RF-2217,  1,     12,02-18566,2,20040709,1712,  3.0203, 137.0295, 4537,    606.0,   6.3873,  34.5396,2,   -999.0,9,-999.0000,9,     87.8,2,    55.65,2,  -999.00,9,    35.86,2,     0.00,2,     2.55,2, -999.000,9, -999.000,9,  -999.00,9,   2253.0,2,   -999.0,9,-999.0000,9,   -999.0,  9,  -999.00,9,   -999.0,  -999.00,9,  -999.00,9,  -999.00,9,  -999.00,9,   -999.0,-999.0000, -999,9,  602,   6.3321,  27.1460,   -999.0,9
     RF04-06-2,  137E,RF-2217,  1,     11,02-18565,2,20040709,1710,  3.0203, 137.0295, 4537,    706.3,   5.7852,  34.5359,2,   -999.0,9,  34.5366,2,     84.6,2,    65.69,2,  -999.00,9,    37.09,2,     0.00,2,     2.65,2, -999.000,9, -999.000,9,  -999.00,9,   -999.0,9,   -999.0,9,-999.0000,9,   -999.0,  9,  -999.00,9,   -999.0,  -999.00,9,  -999.00,9,  -999.00,9,  -999.00,9,   -999.0,-999.0000, -999,9,  701,   5.7236,  27.2206,   -999.0,9
     RF04-06-2,  137E,RF-2217,  1,     10,02-18564,2,20040709,1707,  3.0203, 137.0295, 4537,    807.2,   5.1766,  34.5414,2,   -999.0,9,  34.5413,2,     87.3,2,    74.92,2,  -999.00,9,    37.72,2,     0.00,2,     2.70,2, -999.000,9, -999.000,9,  -999.00,9,   2277.5,2,   -999.0,9,-999.0000,9,   -999.0,  9,  -999.00,9,   -999.0,  -999.00,9,  -999.00,9,  -999.00,9,  -999.00,9,   -999.0,-999.0000, -999,9,  801,   5.1093,  27.2990,   -999.0,9
     RF04-06-2,  137E,RF-2217,  1,      9,02-18563,2,20040709,1704,  3.0203, 137.0295, 4537,    908.7,   4.7001,  34.5499,2,   -999.0,9,-999.0000,9,     89.6,2,    84.22,2,  -999.00,9,    38.04,2,     0.00,2,     2.73,2, -999.000,9, -999.000,9,  -999.00,9,   -999.0,9,   -999.0,9,-999.0000,9,   -999.0,  9,  -999.00,9,   -999.0,  -999.00,9,  -999.00,9,  -999.00,9,  -999.00,9,   -999.0,-999.0000, -999,9,  902,   4.6270,  27.3607,   -999.0,9
     RF04-06-2,  137E,RF-2217,  1,      8,02-18562,2,20040709,1701,  3.0203, 137.0295, 4537,   1009.5,   4.3182,  34.5587,2,   -999.0,9,  34.5591,2,     91.3,2,    91.73,2,  -999.00,9,    38.28,2,     0.00,2,     2.74,2, -999.000,9, -999.000,9,  -999.00,9,   2297.3,2,   -999.0,9,-999.0000,9,   -999.0,  9,  -999.00,9,   -999.0,  -999.00,9,  -999.00,9,  -999.00,9,  -999.00,9,   -999.0,-999.0000, -999,9, 1002,   4.2392,  27.4100,   -999.0,9
     RF04-06-2,  137E,RF-2217,  1,      7,02-18561,2,20040709,1655,  3.0203, 137.0295, 4537,   1263.1,   3.5743,  34.5805,2,   -999.0,9,  34.5817,2,     96.4,2,   107.06,2,  -999.00,9,    38.55,2,     0.00,2,     2.75,2, -999.000,9, -999.000,9,  -999.00,9,   2312.0,2,   -999.0,9,-999.0000,9,   -999.0,  9,  -999.00,9,   -999.0,  -999.00,9,  -999.00,9,  -999.00,9,  -999.00,9,   -999.0,-999.0000, -999,9, 1252,   3.4802,  27.5048,   -999.0,9
     RF04-06-2,  137E,RF-2217,  1,      6,02-18560,2,20040709,1649,  3.0203, 137.0295, 4537,   1515.5,   2.8416,  34.6068,2,   -999.0,9,  34.6065,2,    101.4,2,   122.89,2,  -999.00,9,    38.63,2,     0.00,2,     2.74,2, -999.000,9, -999.000,9,  -999.00,9,   2327.2,2,   -999.0,9,-999.0000,9,   -999.0,  9,  -999.00,9,   -999.0,  -999.00,9,  -999.00,9,  -999.00,9,  -999.00,9,   -999.0,-999.0000, -999,9, 1502,   2.7342,  27.5951,   -999.0,9
     RF04-06-2,  137E,RF-2217,  1,      5,02-18559,2,20040709,1643,  3.0203, 137.0295, 4537,   1769.4,   2.4409,  34.6248,2,   -999.0,9,  34.6248,2,    110.0,2,   130.21,2,  -999.00,9,    38.27,2,     0.00,2,     2.70,2, -999.000,9, -999.000,9,  -999.00,9,   -999.0,9,   -999.0,9,-999.0000,9,   -999.0,  9,  -999.00,9,   -999.0,  -999.00,9,  -999.00,9,  -999.00,9,  -999.00,9,   -999.0,-999.0000, -999,9, 1752,   2.3174,  27.6453,   -999.0,9
     RF04-06-2,  137E,RF-2217,  1,      4,02-18558,2,20040709,1638,  3.0203, 137.0295, 4537,   2025.1,   2.1732,  34.6385,2,   -999.0,9,  34.6386,2,    115.9,2,   135.64,2,  -999.00,9,    38.01,2,     0.00,2,     2.66,2, -999.000,9, -999.000,9,  -999.00,9,   2332.9,2,   -999.0,9,-999.0000,9,   -999.0,  9,  -999.00,9,   -999.0,  -999.00,9,  -999.00,9,  -999.00,9,  -999.00,9,   -999.0,-999.0000, -999,9, 2004,   2.0320,  27.6795,   -999.0,9
     RF04-06-2,  137E,RF-2217,  1,      3,02-18557,2,20040709,1620,  3.0203, 137.0295, 4537,   3064.9,   1.5793,  34.6730,2,   -999.0,9,-999.0000,9,   -999.0,9,  -999.00,9,  -999.00,9,  -999.00,9,  -999.00,9,  -999.00,9, -999.000,9, -999.000,9,  -999.00,9,   -999.0,9,   -999.0,9,-999.0000,9,   -999.0,  9,  -999.00,9,   -999.0,  -999.00,9,  -999.00,9,  -999.00,9,  -999.00,9,   -999.0,-999.0000, -999,9, 3026,   1.3545,  27.7582,   -999.0,9
     RF04-06-2,  137E,RF-2217,  1,      2,02-18556,2,20040709,1620,  3.0203, 137.0295, 4537,   3066.2,   1.5793,  34.6730,2,   -999.0,9,-999.0000,9,   -999.0,9,  -999.00,9,  -999.00,9,  -999.00,9,  -999.00,9,  -999.00,9, -999.000,9, -999.000,9,  -999.00,9,   -999.0,9,   -999.0,9,-999.0000,9,   -999.0,  9,  -999.00,9,   -999.0,  -999.00,9,  -999.00,9,  -999.00,9,  -999.00,9,   -999.0,-999.0000, -999,9, 3027,   1.3544,  27.7582,   -999.0,9
     RF04-06-2,  137E,RF-2217,  1,      1,02-18555,3,20040709,1620,  3.0203, 137.0295, 4537,   3067.2,   1.5793,  34.6730,2,   -999.0,9,-999.0000,9,   -999.0,9,  -999.00,9,  -999.00,9,  -999.00,9,  -999.00,9,  -999.00,9, -999.000,9, -999.000,9,  -999.00,9,   -999.0,9,   -999.0,9,-999.0000,9,   -999.0,  9,  -999.00,9,   -999.0,  -999.00,9,  -999.00,9,  -999.00,9,  -999.00,9,   -999.0,-999.0000, -999,9, 3028,   1.3543,  27.7582,   -999.0,9
     RF04-06-2,  137E,RF-2219,  1,     -9,      -9,5,20040710,0718,  5.0032, 137.0095, 5170,      0.0,  28.9939,  34.1194,2,   -999.0,9,-999.0000,9,    201.1,2,     1.96,2,  -999.00,9,     0.00,2,     0.00,2,     0.04,2, -999.000,9, -999.000,9,  -999.00,9,   1912.6,2,   -999.0,9,-999.0000,9,   -999.0,  9,  -999.00,9,   -999.0,  -999.00,9,  -999.00,9,     0.14,2,     0.00,2,   -999.0,-999.0000, -999,9,    0,  28.9934,  21.4053,   -999.0,9
     RF04-06-2,  137E,RF-2219,  1,     21,02-18575,2,20040710,0716,  5.0032, 137.0095, 5170,     10.3,  28.7592,  34.1397,2,   -999.0,9,-999.0000,9,    201.5,2,     2.09,2,  -999.00,9,     0.00,2,     0.00,2,     0.04,2, -999.000,9, -999.000,9,  -999.00,9,   1913.3,2,   -999.0,9,-999.0000,9,   -999.0,  9,  -999.00,9,   -999.0,  -999.00,9,  -999.00,9,     0.11,2,     0.02,2,   -999.0,-999.0000, -999,9,   10,  28.7567,  21.4991,   -999.0,9
     RF04-06-2,  137E,RF-2219,  1,     20,02-18574,2,20040710,0715,  5.0032, 137.0095, 5170,     24.9,  27.9403,  34.1478,2,   -999.0,9,-999.0000,9,    201.9,2,     2.27,2,  -999.00,9,     0.00,2,     0.00,2,     0.06,2, -999.000,9, -999.000,9,  -999.00,9,   1933.9,2,   -999.0,9,-999.0000,9,   -999.0,  9,  -999.00,9,   -999.0,  -999.00,9,  -999.00,9,     0.18,2,     0.06,2,   -999.0,-999.0000, -999,9,   25,  27.9345,  21.7753,   -999.0,9
     RF04-06-2,  137E,RF-2219,  1,     19,02-18573,2,20040710,0714,  5.0032, 137.0095, 5170,     50.9,  25.2517,  34.4424,2,   -999.0,9,-999.0000,9,    197.7,2,     2.97,2,  -999.00,9,     0.42,2,     0.04,2,     0.15,2, -999.000,9, -999.000,9,  -999.00,9,   1970.4,2,   -999.0,9,-999.0000,9,   -999.0,  9,  -999.00,9,   -999.0,  -999.00,9,  -999.00,9,     0.54,2,     0.31,2,   -999.0,-999.0000, -999,9,   51,  25.2406,  22.8467,   -999.0,9
     RF04-06-2,  137E,RF-2219,  1,     18,02-18572,2,20040710,0713,  5.0032, 137.0095, 5170,     75.5,  20.4306,  34.6915,2,   -999.0,9,-999.0000,9,    159.9,2,     7.40,2,  -999.00,9,     7.49,2,     0.26,2,     0.56,2, -999.000,9, -999.000,9,  -999.00,9,   2051.0,2,   -999.0,9,-999.0000,9,   -999.0,  9,  -999.00,9,   -999.0,  -999.00,9,  -999.00,9,     0.31,2,     0.33,2,   -999.0,-999.0000, -999,9,   75,  20.4165,  24.4161,   -999.0,9
     RF04-06-2,  137E,RF-2219,  1,     17,02-18571,2,20040710,0713,  5.0032, 137.0095, 5170,    101.6,  16.4344,  34.6611,2,   -999.0,9,-999.0000,9,    167.9,2,     9.54,2,  -999.00,9,     9.97,2,     0.02,2,     0.66,2, -999.000,9, -999.000,9,  -999.00,9,   2068.9,2,   -999.0,9,-999.0000,9,   -999.0,  9,  -999.00,9,   -999.0,  -999.00,9,  -999.00,9,     0.08,2,     0.12,2,   -999.0,-999.0000, -999,9,  101,  16.4181,  25.3907,   -999.0,9
     RF04-06-2,  137E,RF-2219,  1,     16,02-18570,2,20040710,0712,  5.0032, 137.0095, 5170,    126.3,  14.9573,  34.5929,2,   -999.0,9,-999.0000,9,    140.0,2,    16.34,2,  -999.00,9,    15.90,2,     0.00,2,     1.08,2, -999.000,9, -999.000,9,  -999.00,9,   2108.7,2,   -999.0,9,-999.0000,9,   -999.0,  9,  -999.00,9,   -999.0,  -999.00,9,  -999.00,9,     0.04,2,     0.07,2,   -999.0,-999.0000, -999,9,  126,  14.9383,  25.6715,   -999.0,9
     RF04-06-2,  137E,RF-2219,  1,     15,02-18569,2,20040710,0711,  5.0032, 137.0095, 5170,    151.4,  12.5628,  34.4789,2,   -999.0,9,-999.0000,9,    122.1,2,    23.35,2,  -999.00,9,    20.92,2,     0.00,2,     1.46,2, -999.000,9, -999.000,9,  -999.00,9,   2151.1,2,   -999.0,9,-999.0000,9,   -999.0,  9,  -999.00,9,   -999.0,  -999.00,9,  -999.00,9,     0.02,2,     0.04,2,   -999.0,-999.0000, -999,9,  151,  12.5426,  26.0796,   -999.0,9
     RF04-06-2,  137E,RF-2219,  1,     14,02-18568,2,20040710,0710,  5.0032, 137.0095, 5170,    202.4,  10.3911,  34.5521,2,   -999.0,9,-999.0000,9,    105.7,2,    33.89,2,  -999.00,9,    26.79,2,     0.00,2,     1.89,2, -999.000,9, -999.000,9,  -999.00,9,   2188.0,2,   -999.0,9,-999.0000,9,   -999.0,  9,  -999.00,9,   -999.0,  -999.00,9,  -999.00,9,     0.00,2,     0.03,2,   -999.0,-999.0000, -999,9,  201,  10.3672,  26.5389,   -999.0,9
     RF04-06-2,  137E,RF-2219,  1,     13,02-18567,2,20040710,0708,  5.0032, 137.0095, 5170,    252.7,   9.4944,  34.5367,2,   -999.0,9,-999.0000,9,     81.1,2,    37.21,2,  -999.00,9,    30.28,2,     0.00,2,     2.15,2, -999.000,9, -999.000,9,  -999.00,9,   2214.4,2,   -999.0,9,-999.0000,9,   -999.0,  9,  -999.00,9,   -999.0,  -999.00,9,  -999.00,9,  -999.00,9,  -999.00,9,   -999.0,-999.0000, -999,9,  251,   9.4661,  26.6797,   -999.0,9
     RF04-06-2,  137E,RF-2219,  1,     12,02-18566,2,20040710,0707,  5.0032, 137.0095, 5170,    302.1,   8.8550,  34.5703,2,   -999.0,9,-999.0000,9,     74.8,2,    39.35,2,  -999.00,9,    32.24,2,     0.00,2,     2.29,2, -999.000,9, -999.000,9,  -999.00,9,   2225.2,2,   -999.0,9,-999.0000,9,   -999.0,  9,  -999.00,9,   -999.0,  -999.00,9,  -999.00,9,  -999.00,9,  -999.00,9,   -999.0,-999.0000, -999,9,  300,   8.8225,  26.8098,   -999.0,9
     RF04-06-2,  137E,RF-2219,  1,     11,02-18565,2,20040710,0704,  5.0032, 137.0095, 5170,    403.0,   8.0734,  34.5821,2,   -999.0,9,-999.0000,9,     67.4,2,    43.26,2,  -999.00,9,    34.47,2,     0.00,2,     2.46,2, -999.000,9, -999.000,9,  -999.00,9,   2240.5,2,   -999.0,9,-999.0000,9,   -999.0,  9,  -999.00,9,   -999.0,  -999.00,9,  -999.00,9,  -999.00,9,  -999.00,9,   -999.0,-999.0000, -999,9,  400,   8.0321,  26.9408,   -999.0,9
     RF04-06-2,  137E,RF-2219,  1,     10,02-18564,2,20040710,0702,  5.0032, 137.0095, 5170,    503.5,   7.3267,  34.5542,2,   -999.0,9,-999.0000,9,     73.2,2,    49.66,2,  -999.00,9,    35.16,2,     0.00,2,     2.52,2, -999.000,9, -999.000,9,  -999.00,9,   -999.0,9,   -999.0,9,-999.0000,9,   -999.0,  9,  -999.00,9,   -999.0,  -999.00,9,  -999.00,9,  -999.00,9,  -999.00,9,   -999.0,-999.0000, -999,9,  500,   7.2776,  27.0288,   -999.0,9
     RF04-06-2,  137E,RF-2219,  1,      9,02-18563,2,20040710,0700,  5.0032, 137.0095, 5170,    604.1,   6.6953,  34.5351,2,   -999.0,9,-999.0000,9,     83.4,2,    54.93,2,  -999.00,9,    35.40,2,     0.00,2,     2.53,2, -999.000,9, -999.000,9,  -999.00,9,   2250.9,2,   -999.0,9,-999.0000,9,   -999.0,  9,  -999.00,9,   -999.0,  -999.00,9,  -999.00,9,  -999.00,9,  -999.00,9,   -999.0,-999.0000, -999,9,  600,   6.6389,  27.1018,   -999.0,9
     RF04-06-2,  137E,RF-2219,  1,      8,02-18562,2,20040710,0657,  5.0032, 137.0095, 5170,    706.3,   6.1720,  34.5329,2,   -999.0,9,-999.0000,9,     88.3,2,    60.31,2,  -999.00,9,    36.08,2,     0.00,2,     2.58,2, -999.000,9, -999.000,9,  -999.00,9,   -999.0,9,   -999.0,9,-999.0000,9,   -999.0,  9,  -999.00,9,   -999.0,  -999.00,9,  -999.00,9,  -999.00,9,  -999.00,9,   -999.0,-999.0000, -999,9,  701,   6.1083,  27.1698,   -999.0,9
     RF04-06-2,  137E,RF-2219,  1,      7,02-18561,2,20040710,0655,  5.0032, 137.0095, 5170,    806.8,   5.4538,  34.5308,2,   -999.0,9,-999.0000,9,     90.3,2,    72.61,2,  -999.00,9,    36.80,2,     0.00,2,     2.64,2, -999.000,9, -999.000,9,  -999.00,9,   2273.0,2,   -999.0,9,-999.0000,9,   -999.0,  9,  -999.00,9,   -999.0,  -999.00,9,  -999.00,9,  -999.00,9,  -999.00,9,   -999.0,-999.0000, -999,9,  801,   5.3849,  27.2579,   -999.0,9
     RF04-06-2,  137E,RF-2219,  1,      6,02-18560,2,20040710,0653,  5.0032, 137.0095, 5170,    908.1,   4.8069,  34.5459,2,   -999.0,9,-999.0000,9,     91.6,2,    83.82,2,  -999.00,9,    37.39,2,     0.00,2,     2.70,2, -999.000,9, -999.000,9,  -999.00,9,   -999.0,9,   -999.0,9,-999.0000,9,   -999.0,  9,  -999.00,9,   -999.0,  -999.00,9,  -999.00,9,  -999.00,9,  -999.00,9,   -999.0,-999.0000, -999,9,  901,   4.7331,  27.3457,   -999.0,9
     RF04-06-2,  137E,RF-2219,  1,      5,02-18559,2,20040710,0650,  5.0032, 137.0095, 5170,   1009.1,   4.3221,  34.5564,2,   -999.0,9,-999.0000,9,     91.9,2,    94.00,2,  -999.00,9,    37.95,2,     0.00,2,     2.73,2, -999.000,9, -999.000,9,  -999.00,9,   2296.0,2,   -999.0,9,-999.0000,9,   -999.0,  9,  -999.00,9,   -999.0,  -999.00,9,  -999.00,9,  -999.00,9,  -999.00,9,   -999.0,-999.0000, -999,9, 1001,   4.2431,  27.4077,   -999.0,9
     RF04-06-2,  137E,RF-2219,  1,      4,02-18558,2,20040710,0646,  5.0032, 137.0095, 5170,   1261.3,   3.5567,  34.5801,2,   -999.0,9,-999.0000,9,     95.9,2,   108.12,2,  -999.00,9,    38.51,2,     0.00,2,     2.76,2, -999.000,9, -999.000,9,  -999.00,9,   2311.9,2,   -999.0,9,-999.0000,9,   -999.0,  9,  -999.00,9,   -999.0,  -999.00,9,  -999.00,9,  -999.00,9,  -999.00,9,   -999.0,-999.0000, -999,9, 1251,   3.4629,  27.5062,   -999.0,9
     RF04-06-2,  137E,RF-2219,  1,      3,02-18557,2,20040710,0641,  5.0032, 137.0095, 5170,   1514.2,   3.0087,  34.5994,2,   -999.0,9,-999.0000,9,    101.8,2,   118.77,2,  -999.00,9,    38.37,2,     0.00,2,     2.74,2, -999.000,9, -999.000,9,  -999.00,9,   2320.0,2,   -999.0,9,-999.0000,9,   -999.0,  9,  -999.00,9,   -999.0,  -999.00,9,  -999.00,9,  -999.00,9,  -999.00,9,   -999.0,-999.0000, -999,9, 1500,   2.8995,  27.5744,   -999.0,9
     RF04-06-2,  137E,RF-2219,  1,      2,02-18556,2,20040710,0635,  5.0032, 137.0095, 5170,   1767.6,   2.5664,  34.6181,2,   -999.0,9,-999.0000,9,    106.8,2,   129.45,2,  -999.00,9,    38.38,2,     0.00,2,     2.71,2, -999.000,9, -999.000,9,  -999.00,9,   -999.0,9,   -999.0,9,-999.0000,9,   -999.0,  9,  -999.00,9,   -999.0,  -999.00,9,  -999.00,9,  -999.00,9,  -999.00,9,   -999.0,-999.0000, -999,9, 1750,   2.4414,  27.6296,   -999.0,9
     RF04-06-2,  137E,RF-2219,  1,      1,02-18555,2,20040710,0630,  5.0032, 137.0095, 5170,   2043.2,   2.1167,  34.6408,2,   -999.0,9,-999.0000,9,    117.8,2,   137.12,2,  -999.00,9,    37.90,2,     0.00,2,     2.66,2, -999.000,9, -999.000,9,  -999.00,9,   2332.5,2,   -999.0,9,-999.0000,9,   -999.0,  9,  -999.00,9,   -999.0,  -999.00,9,  -999.00,9,  -999.00,9,  -999.00,9,   -999.0,-999.0000, -999,9, 2022,   1.9748,  27.6859,   -999.0,9