BOTTLE,20131214MIRCJHATS
EXPOCODE,SECT_ID,STNNBR,CASTNO,SAMPNO,BTLNBR,BTLNBR_FLAG_W,DATE,TIME,LATITUDE,LONGITUDE,DEPTH,CTDPRS,CTDTMP,CTDSAL,CTDSAL_FLAG_W,CTDOXY,CTDOXY_FLAG_W,SALNTY,SALNTY_FLAG_W,OXYGEN,OXYGEN_FLAG_W,SILCAT,SILCAT_FLAG_W,NITRAT,NITRAT_FLAG_W,NO2+NO3,NO2+NO3_FLAG_W,NITRIT,NITRIT_FLAG_W,PHSPHT,PHSPHT_FLAG_W,CFC-11,CFC-11_FLAG_W,CFC-12,CFC-12_FLAG_W,DELC13,DELC13_FLAG_W,TCARBN,TCARBN_FLAG_W,ALKALI,ALKALI_FLAG_W,PH,PH_FLAG_W,PH_TMP,PH_SCALE,PH_NBS,PH_NBS_FLAG_W,C13ERR,TOTALP,TOTALP_FLAG_W,AMMONI,AMMONI_FLAG_W,CHLORA,CHLORA_FLAG_W,PPHYTN,PPHYTN_FLAG_W,REVPRS,REVTMP,DEPTH,DEPTH_FLAG,CTDDEP,THETA,SIGTHT,DOC,DOC_FLAG_W
,,,,,,,GMT,GMT,,,METERS,DBAR,ITS-90,PSS-78,,UMOL/KG,,PSS-78,,UMOL/KG,,UMOL/KG,,UMOL/KG,,UMOL/KG,,UMOL/KG, ,UMOL/KG,,PMOL/KG,,PMOL/KG,,/MILLE,,UMOL/KG,,UMOL/KG,,25_DEG_C,,DEG_C,,,,/MILLE,UMOL/KG,,UMOL/KG,,UG/L,,UG/L,,DBAR,ITS-90,METERS,,METERS,DEG_C,,UMOL/L
RF05-01,NONE,RF-2363,1,-9,-9,5,20050304,0932,28.0135,146.9978,5755,0,20.2293,35.0223,2,-999,9,-999,9,225.4,2,1.32,2,-999,9,0,2,0.02,2,0.01,2,-999,9,-999,9,-999,9,-999,9,-999,9,-999,9,   -999.0,  9,-999,9,-999,-999,9,-999,9,-999,9,-999,9,-999,-999,-999,9,0,20.2292,24.7181,-999,9
RF05-01,NONE,RF-2363,1,21,02-18575,2,20050304,0948,28.0135,146.9978,5755,10.7,20.2314,35.023,2,-999,9,35.0298,2,226.1,2,1.34,2,-999,9,0,2,0.01,2,0.01,2,-999,9,-999,9,-999,9,-999,9,-999,9,-999,9,   -999.0,  9,-999,9,-999,-999,9,-999,9,-999,9,-999,9,-999,-999,-999,9,11,20.2294,24.7185,-999,9
RF05-01,NONE,RF-2363,1,20,02-18574,3,20050304,0947,28.0135,146.9978,5755,24.7,20.2388,35.0572,2,-999,9,-999,9,228.6,2,1.36,2,-999,9,0,2,0,2,0.01,2,-999,9,-999,9,-999,9,-999,9,-999,9,-999,9,   -999.0,  9,-999,9,-999,-999,9,-999,9,-999,9,-999,9,-999,-999,-999,9,25,20.2342,24.7434,-999,9
RF05-01,NONE,RF-2363,1,19,02-18573,2,20050304,0945,28.0135,146.9978,5755,50.6,20.2148,35.0569,2,-999,9,-999,9,226.2,2,1.45,2,-999,9,0,2,0,2,0,2,-999,9,-999,9,-999,9,-999,9,-999,9,-999,9,   -999.0,  9,-999,9,-999,-999,9,-999,9,-999,9,-999,9,-999,-999,-999,9,50,20.2054,24.7508,-999,9
RF05-01,NONE,RF-2363,1,18,02-18572,2,20050304,0944,28.0135,146.9978,5755,74.8,20.1315,35.048,2,-999,9,-999,9,226.1,2,1.39,2,-999,9,0,2,0.02,2,0,2,-999,9,-999,9,-999,9,-999,9,-999,9,-999,9,   -999.0,  9,-999,9,-999,-999,9,-999,9,-999,9,-999,9,-999,-999,-999,9,74,20.1176,24.7673,-999,9
RF05-01,NONE,RF-2363,1,17,02-18571,2,20050304,0943,28.0135,146.9978,5755,100.1,20.1067,35.043,2,-999,9,35.0415,2,223.1,2,1.45,2,-999,9,0.03,2,0.06,2,0,2,-999,9,-999,9,-999,9,-999,9,-999,9,-999,9,   -999.0,  9,-999,9,-999,-999,9,-999,9,-999,9,-999,9,-999,-999,-999,9,99,20.0881,24.7713,-999,9
RF05-01,NONE,RF-2363,1,16,02-18570,2,20050304,0942,28.0135,146.9978,5755,125.9,20.0945,35.0399,2,-999,9,-999,9,225.7,2,1.65,2,-999,9,0.05,2,0.08,2,0.01,2,-999,9,-999,9,-999,9,-999,9,-999,9,-999,9,   -999.0,  9,-999,9,-999,-999,9,-999,9,-999,9,-999,9,-999,-999,-999,9,125,20.0712,24.7734,-999,9
RF05-01,NONE,RF-2363,1,15,02-18569,2,20050304,0941,28.0135,146.9978,5755,150.2,20.0871,35.0371,2,-999,9,-999,9,222.1,2,1.72,2,-999,9,0.25,2,0.11,2,0.02,2,-999,9,-999,9,-999,9,-999,9,-999,9,-999,9,   -999.0,  9,-999,9,-999,-999,9,-999,9,-999,9,-999,9,-999,-999,-999,9,149,20.0593,24.7744,-999,9
RF05-01,NONE,RF-2363,1,14,02-18568,2,20050304,0939,28.0135,146.9978,5755,201.1,18.7784,34.8698,2,-999,9,34.8618,4,209.9,2,2.8,2,-999,9,2.54,2,0,2,0.16,2,-999,9,-999,9,-999,9,-999,9,-999,9,-999,9,   -999.0,  9,-999,9,-999,-999,9,-999,9,-999,9,-999,9,-999,-999,-999,9,200,18.7428,24.9869,-999,9
RF05-01,NONE,RF-2363,1,13,02-18567,2,20050304,0938,28.0135,146.9978,5755,252.1,17.3705,34.7876,2,-999,9,-999,9,208.5,2,3.76,2,-999,9,4.31,2,0,2,0.24,2,-999,9,-999,9,-999,9,-999,9,-999,9,-999,9,   -999.0,  9,-999,9,-999,-999,9,-999,9,-999,9,-999,9,-999,-999,-999,9,250,17.3283,25.2728,-999,9
RF05-01,NONE,RF-2363,1,12,02-18566,2,20050304,0936,28.0135,146.9978,5755,301.7,16.8113,34.7556,2,-999,9,34.7547,2,211.5,2,4.52,2,-999,9,4.98,2,0,2,0.28,2,-999,9,-999,9,-999,9,-999,9,-999,9,-999,9,   -999.0,  9,-999,9,-999,-999,9,-999,9,-999,9,-999,9,-999,-999,-999,9,300,16.7618,25.3829,-999,9
RF05-01,NONE,RF-2363,1,11,02-18565,2,20050304,0934,28.0135,146.9978,5755,403.2,15.4558,34.6319,2,-999,9,34.6319,2,204.6,2,7.95,2,-999,9,7.86,2,0,2,0.48,2,-999,9,-999,9,-999,9,-999,9,-999,9,-999,9,   -999.0,  9,-999,9,-999,-999,9,-999,9,-999,9,-999,9,-999,-999,-999,9,400,15.3933,25.6013,-999,9
RF05-01,NONE,RF-2363,1,10,02-18564,2,20050304,0931,28.0135,146.9978,5755,503.5,12.8787,34.4267,2,-999,9,34.4227,2,201.4,2,14.26,2,-999,9,12.32,2,0,2,0.78,2,-999,9,-999,9,-999,9,-999,9,-999,9,-999,9,   -999.0,  9,-999,9,-999,-999,9,-999,9,-999,9,-999,9,-999,-999,-999,9,500,12.8095,25.9867,-999,9
RF05-01,NONE,RF-2363,1,9,02-18563,2,20050304,0929,28.0135,146.9978,5755,606.2,10.1605,34.2233,2,-999,9,34.2278,2,189.2,2,25.02,2,-999,9,17.83,2,0,2,1.19,2,-999,9,-999,9,-999,9,-999,9,-999,9,-999,9,   -999.0,  9,-999,9,-999,-999,9,-999,9,-999,9,-999,9,-999,-999,-999,9,601,10.0887,26.3304,-999,9
RF05-01,NONE,RF-2363,1,8,02-18562,3,20050304,0926,28.0135,146.9978,5755,705.2,7.905,34.0898,2,-999,9,34.1306,4,166.2,2,38.23,2,-999,9,22.93,2,0,2,1.59,2,-999,9,-999,9,-999,9,-999,9,-999,9,-999,9,   -999.0,  9,-999,9,-999,-999,9,-999,9,-999,9,-999,9,-999,-999,-999,9,699,7.8328,26.5836,-999,9
RF05-01,NONE,RF-2363,1,7,02-18561,2,20050304,0924,28.0135,146.9978,5755,805.6,6.1922,34.0562,2,-999,9,34.0566,2,123.6,2,61.82,2,-999,9,30.54,2,0,2,2.19,2,-999,9,-999,9,-999,9,-999,9,-999,9,-999,9,   -999.0,  9,-999,9,-999,-999,9,-999,9,-999,9,-999,9,-999,-999,-999,9,799,6.1195,26.7917,-999,9
RF05-01,NONE,RF-2363,1,6,02-18560,3,20050304,0921,28.0135,146.9978,5755,908.6,5.1917,34.1118,2,-999,9,34.1228,4,85.7,2,79.82,2,-999,9,34.93,2,0,2,2.53,2,-999,9,-999,9,-999,9,-999,9,-999,9,-999,9,   -999.0,  9,-999,9,-999,-999,9,-999,9,-999,9,-999,9,-999,-999,-999,9,901, 5.1159,26.9578,-999,9
RF05-01,NONE,RF-2363,1,5,02-18559,2,20050304,0919,28.0135,146.9978,5755,1008.1,4.3565,34.2175,2,-999,9,34.217,2,54.9,2,101.38,2,-999,9,39.16,2,0,2,2.86,2,-999,9,-999,9,-999,9,-999,9,-999,9,-999,9,   -999.0,  9,-999,9,-999,-999,9,-999,9,-999,9,-999,9,-999,-999,-999,9,999,4.2779,27.1347,-999,9
RF05-01,NONE,RF-2363,1,4,02-18558,3,20050304,0914,28.0135,146.9978,5755,1263.3,3.3063,34.3857,2,-999,9,34.3865,2,45.2,2,129.4,2,-999,9,41.75,2,0,2,3.06,2,-999,9,-999,9,-999,9,-999,9,-999,9,-999,9,   -999.0,  9,-999,9,-999,-999,9,-999,9,-999,9,-999,9,-999,-999,-999,9,1251,3.2152,27.3748,-999,9
RF05-01,NONE,RF-2363,1,3,02-18557,2,20050304,0908,28.0135,146.9978,5755,1515.4,2.6934,34.4914,2,-999,9,34.4904,2,47.5,2,143.55,2,-999,9,41.49,2,0,2,3.02,2,-999,9,-999,9,-999,9,-999,9,-999,9,-999,9,   -999.0,  9,-999,9,-999,-999,9,-999,9,-999,9,-999,9,-999,-999,-999,9,1500, 2.5881,27.5157,-999,9
RF05-01,NONE,RF-2363,1,2,02-18556,2,20050304,0903,28.0135,146.9978,5755,1768.9,2.3051,34.5543,2,-999,9,34.5538,2,67.8,2,149.05,2,-999,9,40.53,2,0,2,2.92,2,-999,9,-999,9,-999,9,-999,9,-999,9,-999,9,   -999.0,  9,-999,9,-999,-999,9,-999,9,-999,9,-999,9,-999,-999,-999,9,1750,2.1837,27.5999,-999,9
RF05-01,NONE,RF-2363,1,1,02-18555,2,20050304,0858,28.0135,146.9978,5755,2023.8,2.0304,34.5951,2,-999,9,34.5947,2,85.7,2,150.49,2,-999,9,39.55,2,0,2,2.83,2,-999,9,-999,9,-999,9,-999,9,-999,9,-999,9,   -999.0,  9,-999,9,-999,-999,9,-999,9,-999,9,-999,9,-999,-999,-999,9,2001,1.8916,27.6558,-999,9
RF05-01,NONE,RF-2365,1,-9,-9,5,20050304,1950,29.0007,146.018,5922,0,20.0202,34.4416,2,-999,9,-999,9,224.4,2,2,2,-999,9,0.01,2,0.01,2,0.02,2,-999,9,-999,9,-999,9,-999,9,-999,9,-999,9,   -999.0,  9,-999,9,-999,-999,9,-999,9,-999,9,-999,9,-999,-999,-999,9,0,20.02,24.3306,-999,9
RF05-01,NONE,RF-2365,1,21,02-18575,2,20050304,2006,29.0007,146.018,5922,11.1,20.0196,35.0371,2,-999,9,-999,9,224.4,2,1.91,2,-999,9,0,2,0.02,2,0.02,2,-999,9,-999,9,-999,9,-999,9,-999,9,-999,9,   -999.0,  9,-999,9,-999,-999,9,-999,9,-999,9,-999,9,-999,-999,-999,9,11,20.0176,24.7854,-999,9
RF05-01,NONE,RF-2365,1,20,02-18574,2,20050304,2005,29.0007,146.018,5922,24.9,20.0223,35.0362,2,-999,9,-999,9,224.5,2,1.95,2,-999,9,0.01,2,0.02,2,0.02,2,-999,9,-999,9,-999,9,-999,9,-999,9,-999,9,   -999.0,  9,-999,9,-999,-999,9,-999,9,-999,9,-999,9,-999,-999,-999,9,25,20.0177,24.7847,-999,9
RF05-01,NONE,RF-2365,1,19,02-18573,2,20050304,2004,29.0007,146.018,5922,49.9,20.034,35.0381,2,-999,9,-999,9,224.8,2,1.87,2,-999,9,0,2,0.02,2,0.01,2,-999,9,-999,9,-999,9,-999,9,-999,9,-999,9,   -999.0,  9,-999,9,-999,-999,9,-999,9,-999,9,-999,9,-999,-999,-999,9,50,20.0248,24.7842,-999,9
RF05-01,NONE,RF-2365,1,18,02-18572,2,20050304,2003,29.0007,146.018,5922,74.4,20.0525,35.0406,2,-999,9,-999,9,227.8,2,1.93,2,-999,9,0,2,0.02,2,0.01,2,-999,9,-999,9,-999,9,-999,9,-999,9,-999,9,   -999.0,  9,-999,9,-999,-999,9,-999,9,-999,9,-999,9,-999,-999,-999,9,74,20.0387,24.7825,-999,9
RF05-01,NONE,RF-2365,1,17,02-18571,2,20050304,2001,29.0007,146.018,5922,100.5,20.0519,35.0395,2,-999,9,-999,9,224.7,2,1.82,2,-999,9,0,2,0.02,2,0.01,2,-999,9,-999,9,-999,9,-999,9,-999,9,-999,9,   -999.0,  9,-999,9,-999,-999,9,-999,9,-999,9,-999,9,-999,-999,-999,9,100,20.0333,24.7831,-999,9
RF05-01,NONE,RF-2365,1,16,02-18570,2,20050304,2000,29.0007,146.018,5922,126,20.0658,35.0429,2,-999,9,-999,9,223.8,2,1.88,2,-999,9,0,2,0.02,2,0.01,2,-999,9,-999,9,-999,9,-999,9,-999,9,-999,9,   -999.0,  9,-999,9,-999,-999,9,-999,9,-999,9,-999,9,-999,-999,-999,9,125,20.0425,24.7833,-999,9
RF05-01,NONE,RF-2365,1,15,02-18569,2,20050304,1959,29.0007,146.018,5922,149.9,20.0683,35.0439,2,-999,9,-999,9,223,2,1.92,2,-999,9,0.07,2,0.03,2,0.01,2,-999,9,-999,9,-999,9,-999,9,-999,9,-999,9,   -999.0,  9,-999,9,-999,-999,9,-999,9,-999,9,-999,9,-999,-999,-999,9,149,20.0405,24.7846,-999,9
RF05-01,NONE,RF-2365,1,14,02-18568,2,20050304,1957,29.0007,146.018,5922,201.4,18.6968,34.8731,2,-999,9,-999,9,206.8,2,2.97,2,-999,9,2.39,2,0,2,0.15,2,-999,9,-999,9,-999,9,-999,9,-999,9,-999,9,   -999.0,  9,-999,9,-999,-999,9,-999,9,-999,9,-999,9,-999,-999,-999,9,200,18.6613,25.0101,-999,9
RF05-01,NONE,RF-2365,1,13,02-18567,2,20050304,1956,29.0007,146.018,5922,251.7,17.2925,34.7857,2,-999,9,-999,9,210.5,2,3.76,2,-999,9,4.22,2,0,2,0.23,2,-999,9,-999,9,-999,9,-999,9,-999,9,-999,9,   -999.0,  9,-999,9,-999,-999,9,-999,9,-999,9,-999,9,-999,-999,-999,9,250,17.2505,25.29,-999,9
RF05-01,NONE,RF-2365,1,12,02-18566,2,20050304,1954,29.0007,146.018,5922,301.5,16.9198,34.7642,2,-999,9,-999,9,211.3,2,4.37,2,-999,9,4.67,2,0,2,0.26,2,-999,9,-999,9,-999,9,-999,9,-999,9,-999,9,   -999.0,  9,-999,9,-999,-999,9,-999,9,-999,9,-999,9,-999,-999,-999,9,299,16.8701,25.364,-999,9
RF05-01,NONE,RF-2365,1,11,02-18565,2,20050304,1951,29.0007,146.018,5922,402.2,15.6163,34.6543,2,-999,9,-999,9,210.4,2,6.99,2,-999,9,6.84,2,0,2,0.41,2,-999,9,-999,9,-999,9,-999,9,-999,9,-999,9,   -999.0,  9,-999,9,-999,-999,9,-999,9,-999,9,-999,9,-999,-999,-999,9,399,15.5535,25.5827,-999,9
RF05-01,NONE,RF-2365,1,10,02-18564,2,20050304,1949,29.0007,146.018,5922,504.1,13.421,34.4641,2,-999,9,-999,9,201.4,2,12.54,2,-999,9,11.08,2,0,2,0.69,2,-999,9,-999,9,-999,9,-999,9,-999,9,-999,9,   -999.0,  9,-999,9,-999,-999,9,-999,9,-999,9,-999,9,-999,-999,-999,9,500,13.3498,25.9072,-999,9
RF05-01,NONE,RF-2365,1,9,02-18563,2,20050304,1946,29.0007,146.018,5922,604,10.584,34.2515,2,-999,9,-999,9,192.2,2,22.41,2,-999,9,16.74,2,0,2,1.09,2,-999,9,-999,9,-999,9,-999,9,-999,9,-999,9,   -999.0,  9,-999,9,-999,-999,9,-999,9,-999,9,-999,9,-999,-999,-999,9,599,10.5106,26.2795,-999,9
RF05-01,NONE,RF-2365,1,8,02-18562,2,20050304,1943,29.0007,146.018,5922,703.5,8.0722,34.0982,2,-999,9,-999,9,164.2,2,40.25,2,-999,9,23.86,2,0,2,1.65,2,-999,9,-999,9,-999,9,-999,9,-999,9,-999,9,   -999.0,  9,-999,9,-999,-999,9,-999,9,-999,9,-999,9,-999,-999,-999,9,698,7.9993,26.5657,-999,9
RF05-01,NONE,RF-2365,1,7,02-18561,2,20050304,1941,29.0007,146.018,5922,805.1,6.3301,34.0543,2,-999,9,-999,9,126.3,2,60.11,2,-999,9,30.15,2,0,2,2.15,2,-999,9,-999,9,-999,9,-999,9,-999,9,-999,9,   -999.0,  9,-999,9,-999,-999,9,-999,9,-999,9,-999,9,-999,-999,-999,9,798,6.2566,26.7727,-999,9
RF05-01,NONE,RF-2365,1,6,02-18560,2,20050304,1938,29.0007,146.018,5922,908.9,5.1388,34.1123,2,-999,9,-999,9,84.9,2,82.37,2,-999,9,35.37,2,0,2,2.57,2,-999,9,-999,9,-999,9,-999,9,-999,9,-999,9,   -999.0,  9,-999,9,-999,-999,9,-999,9,-999,9,-999,9,-999,-999,-999,9,901,5.0633,26.9642,-999,9
RF05-01,NONE,RF-2365,1,5,02-18559,3,20050304,1935,29.0007,146.018,5922,1009.4,4.3381,34.2124,2,-999,9,-999,9,57.1,2,101.99,2,-999,9,38.71,2,0,2,2.83,2,-999,9,-999,9,-999,9,-999,9,-999,9,-999,9,   -999.0,  9,-999,9,-999,-999,9,-999,9,-999,9,-999,9,-999,-999,-999,9,1000,4.2595,27.1325,-999,9
RF05-01,NONE,RF-2365,1,4,02-18558,3,20050304,1930,29.0007,146.018,5922,1260.8,3.3479,34.3889,2,-999,9,-999,9,40,2,128.41,2,-999,9,41.12,2,0,2,3.02,2,-999,9,-999,9,-999,9,-999,9,-999,9,-999,9,   -999.0,  9,-999,9,-999,-999,9,-999,9,-999,9,-999,9,-999,-999,-999,9,1249,3.2566,27.3735,-999,9
RF05-01,NONE,RF-2365,1,3,02-18557,2,20050304,1925,29.0007,146.018,5922,1515.9,2.7565,34.4852,2,-999,9,-999,9,49.4,2,142.08,2,-999,9,41.13,2,0,2,2.99,2,-999,9,-999,9,-999,9,-999,9,-999,9,-999,9,   -999.0,  9,-999,9,-999,-999,9,-999,9,-999,9,-999,9,-999,-999,-999,9,1500,2.6504,27.5053,-999,9
RF05-01,NONE,RF-2365,1,2,02-18556,2,20050304,1920,29.0007,146.018,5922,1769.1,2.3789,34.5406,2,-999,9,-999,9,60.7,2,149.42,2,-999,9,40.79,2,0,2,2.94,2,-999,9,-999,9,-999,9,-999,9,-999,9,-999,9,   -999.0,  9,-999,9,-999,-999,9,-999,9,-999,9,-999,9,-999,-999,-999,9,1750, 2.2566,27.5829,-999,9
RF05-01,NONE,RF-2365,1,1,02-18555,2,20050304,1915,29.0007,146.018,5922,2022.8,2.058,34.5896,2,-999,9,-999,9,83.4,2,151.68,2,-999,9,39.6,2,0,2,2.82,2,-999,9,-999,9,-999,9,-999,9,-999,9,-999,9,   -999.0,  9,-999,9,-999,-999,9,-999,9,-999,9,-999,9,-999,-999,-999,9,2000,1.9189,27.6493,-999,9