BOTTLE,20131214MIRCJHATS
EXPOCODE,SECT_ID,STNNBR,CASTNO,SAMPNO,BTLNBR,BTLNBR_FLAG_W,DATE,TIME,LATITUDE,LONGITUDE,DEPTH,CTDPRS,CTDTMP,CTDSAL,CTDSAL_FLAG_W,CTDOXY,CTDOXY_FLAG_W,SALNTY,SALNTY_FLAG_W,OXYGEN,OXYGEN_FLAG_W,SILCAT,SILCAT_FLAG_W,NITRAT,NITRAT_FLAG_W,NO2+NO3,NO2+NO3_FLAG_W,NITRIT,NITRIT_FLAG_W,PHSPHT,PHSPHT_FLAG_W,CFC-11,CFC-11_FLAG_W,CFC-12,CFC-12_FLAG_W,DELC13,DELC13_FLAG_W,TCARBN,TCARBN_FLAG_W,ALKALI,ALKALI_FLAG_W,PH,PH_FLAG_W,PH_TMP,PH_SCALE,PH_NBS,PH_NBS_FLAG_W,C13ERR,TOTALP,TOTALP_FLAG_W,AMMONI,AMMONI_FLAG_W,CHLORA,CHLORA_FLAG_W,PPHYTN,PPHYTN_FLAG_W,REVPRS,REVTMP,DEPTH,DEPTH_FLAG,CTDDEP,THETA,SIGTHT,DOC,DOC_FLAG_W
,,,,,,,GMT,GMT,,,METERS,DBAR,ITS-90,PSS-78,,UMOL/KG,,PSS-78,,UMOL/KG,,UMOL/KG,,UMOL/KG,,UMOL/KG,,UMOL/KG, ,UMOL/KG,,PMOL/KG,,PMOL/KG,,/MILLE,,UMOL/KG,,UMOL/KG,,25_DEG_C,,DEG_C,,,,/MILLE,UMOL/KG,,UMOL/KG,,UG/L,,UG/L,,DBAR,ITS-90,METERS,,METERS,DEG_C,,UMOL/L
RF05-01,NONE,RF-2371,1,-9,-9,5,20050306,0520,32.0013,143.0158,5667,0,17.4579,34.803,2,-999,9,-999,9,231.5,2,2.96,2,-999,9,2.27,2,0.07,2,0.16,2,-999,9,-999,9,-999,9,-999,9,-999,9,-999,9,   -999.0,  9,-999,9,-999,-999,9,-999,9,-999,9,-999,9,-999,-999,-999,9,0,17.4578,25.2534,-999,9
RF05-01,NONE,RF-2371,1,21,02-18575,2,20050306,0528,32.0013,143.0158,5667,12,17.4591,34.8019,2,-999,9,34.8047,2,229.9,2,2.94,2,-999,9,2.2,2,0.06,2,0.13,2,-999,9,-999,9,-999,9,-999,9,-999,9,-999,9,   -999.0,  9,-999,9,-999,-999,9,-999,9,-999,9,-999,9,-999,-999,-999,9,12,17.4571,25.2527,-999,9
RF05-01,NONE,RF-2371,1,20,02-18574,2,20050306,0527,32.0013,143.0158,5667,27.5,17.4828,34.8218,2,-999,9,-999,9,230.2,2,2.91,2,-999,9,2.22,2,0.06,2,0.12,2,-999,9,-999,9,-999,9,-999,9,-999,9,-999,9,   -999.0,  9,-999,9,-999,-999,9,-999,9,-999,9,-999,9,-999,-999,-999,9,27,17.4782,25.2628,-999,9
RF05-01,NONE,RF-2371,1,19,02-18573,2,20050306,0526,32.0013,143.0158,5667,51.1,17.4836,34.8303,2,-999,9,-999,9,229.1,2,3.01,2,-999,9,2.22,2,0.06,2,0.12,2,-999,9,-999,9,-999,9,-999,9,-999,9,-999,9,   -999.0,  9,-999,9,-999,-999,9,-999,9,-999,9,-999,9,-999,-999,-999,9,51,17.475,25.2702,-999,9
RF05-01,NONE,RF-2371,1,18,02-18572,2,20050306,0525,32.0013,143.0158,5667,75.8,17.4811,34.8306,2,-999,9,-999,9,228.4,2,2.93,2,-999,9,2.21,2,0.06,2,0.12,2,-999,9,-999,9,-999,9,-999,9,-999,9,-999,9,   -999.0,  9,-999,9,-999,-999,9,-999,9,-999,9,-999,9,-999,-999,-999,9,75,17.4684,25.272,-999,9
RF05-01,NONE,RF-2371,1,17,02-18571,2,20050306,0524,32.0013,143.0158,5667,101.2,17.4493,34.829,2,-999,9,34.8284,2,229,2,2.88,2,-999,9,2.22,2,0.06,2,0.12,2,-999,9,-999,9,-999,9,-999,9,-999,9,-999,9,   -999.0,  9,-999,9,-999,-999,9,-999,9,-999,9,-999,9,-999,-999,-999,9,100,17.4324,25.2795,-999,9
RF05-01,NONE,RF-2371,1,16,02-18570,2,20050306,0523,32.0013,143.0158,5667,127,17.4428,34.8284,2,-999,9,-999,9,230.6,2,2.92,2,-999,9,2.21,2,0.06,2,0.12,2,-999,9,-999,9,-999,9,-999,9,-999,9,-999,9,   -999.0,  9,-999,9,-999,-999,9,-999,9,-999,9,-999,9,-999,-999,-999,9,126,17.4215,25.2816,-999,9
RF05-01,NONE,RF-2371,1,15,02-18569,2,20050306,0522,32.0013,143.0158,5667,151.1,17.4502,34.8286,2,-999,9,-999,9,230.5,2,2.97,2,-999,9,2.21,2,0.06,2,0.12,2,-999,9,-999,9,-999,9,-999,9,-999,9,-999,9,   -999.0,  9,-999,9,-999,-999,9,-999,9,-999,9,-999,9,-999,-999,-999,9,150,17.4249,25.281,-999,9
RF05-01,NONE,RF-2371,1,14,02-18568,2,20050306,0520,32.0013,143.0158,5667,204.4,17.4385,34.8293,2,-999,9,34.8285,2,229.8,2,2.99,2,-999,9,2.27,2,0.05,2,0.13,2,-999,9,-999,9,-999,9,-999,9,-999,9,-999,9,   -999.0,  9,-999,9,-999,-999,9,-999,9,-999,9,-999,9,-999,-999,-999,9,203,17.4042,25.2865,-999,9
RF05-01,NONE,RF-2371,1,13,02-18567,2,20050306,0518,32.0013,143.0158,5667,252.9,17.4415,34.8295,2,-999,9,-999,9,228.9,2,2.93,2,-999,9,2.25,2,0.05,2,0.12,2,-999,9,-999,9,-999,9,-999,9,-999,9,-999,9,   -999.0,  9,-999,9,-999,-999,9,-999,9,-999,9,-999,9,-999,-999,-999,9,251,17.399,25.2879,-999,9
RF05-01,NONE,RF-2371,1,12,02-18566,2,20050306,0517,32.0013,143.0158,5667,306.9,17.4476,34.8296,2,-999,9,34.8282,2,229.3,2,3,2,-999,9,2.31,2,0.05,2,0.12,2,-999,9,-999,9,-999,9,-999,9,-999,9,-999,9,   -999.0,  9,-999,9,-999,-999,9,-999,9,-999,9,-999,9,-999,-999,-999,9,305,17.3959,25.2887,-999,9
RF05-01,NONE,RF-2371,1,11,02-18565,2,20050306,0514,32.0013,143.0158,5667,408.5,16.9559,34.7773,2,-999,9,34.7778,2,213.2,2,4.53,2,-999,9,4.57,2,0,2,0.24,2,-999,9,-999,9,-999,9,-999,9,-999,9,-999,9,   -999.0,  9,-999,9,-999,-999,9,-999,9,-999,9,-999,9,-999,-999,-999,9,405,16.8884,25.3698,-999,9
RF05-01,NONE,RF-2371,1,10,02-18564,2,20050306,0511,32.0013,143.0158,5667,504.7,15.5392,34.6379,2,-999,9,34.6378,2,191,2,9.76,2,-999,9,9.01,2,0,2,0.53,2,-999,9,-999,9,-999,9,-999,9,-999,9,-999,9,   -999.0,  9,-999,9,-999,-999,9,-999,9,-999,9,-999,9,-999,-999,-999,9,501,15.4604,25.5909,-999,9
RF05-01,NONE,RF-2371,1,9,02-18563,2,20050306,0508,32.0013,143.0158,5667,604.3,12.9545,34.4553,2,-999,9,34.4555,2,178.6,2,18.46,2,-999,9,14.26,2,0,2,0.9,2,-999,9,-999,9,-999,9,-999,9,-999,9,-999,9,   -999.0,  9,-999,9,-999,-999,9,-999,9,-999,9,-999,9,-999,-999,-999,9,599,12.8708,25.9967,-999,9
RF05-01,NONE,RF-2371,1,8,02-18562,2,20050306,0506,32.0013,143.0158,5667,707,10.0774,34.2617,2,-999,9,34.2627,2,167.3,2,31.42,2,-999,9,20.11,2,0,2,1.34,2,-999,9,-999,9,-999,9,-999,9,-999,9,-999,9,   -999.0,  9,-999,9,-999,-999,9,-999,9,-999,9,-999,9,-999,-999,-999,9,701,9.9936,26.3765,-999,9
RF05-01,NONE,RF-2371,1,7,02-18561,2,20050306,0503,32.0013,143.0158,5667,807.6,7.0826,34.1067,2,-999,9,34.1069,2,141.4,2,55.57,2,-999,9,27.69,2,0,2,1.95,2,-999,9,-999,9,-999,9,-999,9,-999,9,-999,9,   -999.0,  9,-999,9,-999,-999,9,-999,9,-999,9,-999,9,-999,-999,-999,9,800, 7.0043,26.7145,-999,9
RF05-01,NONE,RF-2371,1,6,02-18560,2,20050306,0501,32.0013,143.0158,5667,909.6,5.4656,34.0899,2,-999,9,34.0883,2,106,2,75.41,2,-999,9,33.46,2,0,2,2.4,2,-999,9,-999,9,-999,9,-999,9,-999,9,-999,9,   -999.0,  9,-999,9,-999,-999,9,-999,9,-999,9,-999,9,-999,-999,-999,9,901,5.3878,26.9085,-999,9
RF05-01,NONE,RF-2371,1,5,02-18559,2,20050306,0458,32.0013,143.0158,5667,1010,4.4247,34.1398,2,-999,9,34.1401,2,72.3,2,96.83,2,-999,9,37.83,2,0,2,2.72,2,-999,9,-999,9,-999,9,-999,9,-999,9,-999,9,   -999.0,  9,-999,9,-999,-999,9,-999,9,-999,9,-999,9,-999,-999,-999,9,1001,4.3455,27.0657,-999,9
RF05-01,NONE,RF-2371,1,4,02-18558,2,20050306,0453,32.0013,143.0158,5667,1263.5,3.3918,34.3463,2,-999,9,34.3436,2,42,2,127.57,2,-999,9,41.04,2,0,2,2.96,2,-999,9,-999,9,-999,9,-999,9,-999,9,-999,9,   -999.0,  9,-999,9,-999,-999,9,-999,9,-999,9,-999,9,-999,-999,-999,9,1251,3.2999,27.3354,-999,9
RF05-01,NONE,RF-2371,1,3,02-18557,2,20050306,0448,32.0013,143.0158,5667,1515.8,2.7243,34.4553,2,-999,9,34.4548,2,43.7,2,145.61,2,-999,9,41.9,2,0,2,3.02,2,-999,9,-999,9,-999,9,-999,9,-999,9,-999,9,   -999.0,  9,-999,9,-999,-999,9,-999,9,-999,9,-999,9,-999,-999,-999,9,1500, 2.6187,27.4842,-999,9
RF05-01,NONE,RF-2371,1,2,02-18556,2,20050306,0443,32.0013,143.0158,5667,1769.9,2.3782,34.5199,2,-999,9,34.5174,2,50,2,153.15,2,-999,9,41.69,2,0,2,2.99,2,-999,9,-999,9,-999,9,-999,9,-999,9,-999,9,   -999.0,  9,-999,9,-999,-999,9,-999,9,-999,9,-999,9,-999,-999,-999,9,1750, 2.2559,27.5665,-999,9
RF05-01,NONE,RF-2371,1,1,02-18555,2,20050306,0438,32.0013,143.0158,5667,2034.9,2.0911,34.5735,2,-999,9,34.5718,2,66.7,2,157.22,2,-999,9,40.9,2,0,2,2.91,2,-999,9,-999,9,-999,9,-999,9,-999,9,-999,9,   -999.0,  9,-999,9,-999,-999,9,-999,9,-999,9,-999,9,-999,-999,-999,9,2011,1.9505,27.6339,-999,9
RF05-01,142E,RF-2373,1,-9,-9,5,20050307,1223,32.9978,142.0187,8741,0,18.5246,34.9247,2,-999,9,-999,9,230.1,2,2.36,2,-999,9,0.92,2,0.18,2,0.07,2,-999,9,-999,9,-999,9,-999,9,-999,9,-999,9,   -999.0,  9,-999,9,-999,-999,9,-999,9,-999,9,-999,9,-999,-999,-999,9,0,18.5245,25.0839,-999,9
RF05-01,142E,RF-2373,1,21,02-18575,2,20050307,1244,32.9978,142.0187,8741,10.3,18.5499,34.926,2,-999,9,-999,9,231.3,2,2.34,2,-999,9,0.78,2,0.21,2,0.07,2,-999,9,-999,9,-999,9,-999,9,-999,9,-999,9,   -999.0,  9,-999,9,-999,-999,9,-999,9,-999,9,-999,9,-999,-999,-999,9,10,18.5481,25.079,-999,9
RF05-01,142E,RF-2373,1,20,02-18574,2,20050307,1242,32.9978,142.0187,8741,26.2,18.5571,34.9267,2,-999,9,-999,9,229.6,2,2.34,2,-999,9,0.84,2,0.2,2,0.06,2,-999,9,-999,9,-999,9,-999,9,-999,9,-999,9,   -999.0,  9,-999,9,-999,-999,9,-999,9,-999,9,-999,9,-999,-999,-999,9,26,18.5525,25.0784,-999,9
RF05-01,142E,RF-2373,1,19,02-18573,2,20050307,1241,32.9978,142.0187,8741,50.8,18.548,34.9224,2,-999,9,-999,9,230.6,2,2.31,2,-999,9,0.84,2,0.19,2,0.06,2,-999,9,-999,9,-999,9,-999,9,-999,9,-999,9,   -999.0,  9,-999,9,-999,-999,9,-999,9,-999,9,-999,9,-999,-999,-999,9,50,18.5391,25.0785,-999,9
RF05-01,142E,RF-2373,1,18,02-18572,2,20050307,1239,32.9978,142.0187,8741,76.6,18.5445,34.9212,2,-999,9,-999,9,231.8,2,2.29,2,-999,9,0.8,2,0.19,2,0.06,2,-999,9,-999,9,-999,9,-999,9,-999,9,-999,9,   -999.0,  9,-999,9,-999,-999,9,-999,9,-999,9,-999,9,-999,-999,-999,9,76,18.5311,25.0796,-999,9
RF05-01,142E,RF-2373,1,17,02-18571,2,20050307,1238,32.9978,142.0187,8741,101.8,18.5632,34.9237,2,-999,9,-999,9,230.1,2,2.14,2,-999,9,0.78,2,0.21,2,0.06,2,-999,9,-999,9,-999,9,-999,9,-999,9,-999,9,   -999.0,  9,-999,9,-999,-999,9,-999,9,-999,9,-999,9,-999,-999,-999,9,101,18.5454,25.078,-999,9
RF05-01,142E,RF-2373,1,16,02-18570,2,20050307,1236,32.9978,142.0187,8741,127.7,18.5718,34.9268,2,-999,9,-999,9,231.2,2,2.19,2,-999,9,0.72,2,0.22,2,0.05,2,-999,9,-999,9,-999,9,-999,9,-999,9,-999,9,   -999.0,  9,-999,9,-999,-999,9,-999,9,-999,9,-999,9,-999,-999,-999,9,127,18.5494,25.0793,-999,9
RF05-01,142E,RF-2373,1,15,02-18569,2,20050307,1235,32.9978,142.0187,8741,152.5,18.5639,34.9258,2,-999,9,-999,9,228.7,2,2.29,2,-999,9,0.77,2,0.22,2,0.05,2,-999,9,-999,9,-999,9,-999,9,-999,9,-999,9,   -999.0,  9,-999,9,-999,-999,9,-999,9,-999,9,-999,9,-999,-999,-999,9,151,18.5372,25.0816,-999,9
RF05-01,142E,RF-2373,1,14,02-18568,2,20050307,1233,32.9978,142.0187,8741,202.2,18.4495,34.901,2,-999,9,-999,9,230.9,2,2.34,2,-999,9,1.05,2,0.18,2,0.07,2,-999,9,-999,9,-999,9,-999,9,-999,9,-999,9,   -999.0,  9,-999,9,-999,-999,9,-999,9,-999,9,-999,9,-999,-999,-999,9,201,18.4142,25.0934,-999,9
RF05-01,142E,RF-2373,1,13,02-18567,2,20050307,1231,32.9978,142.0187,8741,253,17.9999,34.841,2,-999,9,-999,9,220.6,2,3.06,2,-999,9,2.47,2,0.02,2,0.14,2,-999,9,-999,9,-999,9,-999,9,-999,9,-999,9,   -999.0,  9,-999,9,-999,-999,9,-999,9,-999,9,-999,9,-999,-999,-999,9,251,17.9564,25.161,-999,9
RF05-01,142E,RF-2373,1,12,02-18566,2,20050307,1229,32.9978,142.0187,8741,302.7,17.2768,34.7928,2,-999,9,-999,9,215.2,2,4.01,2,-999,9,4.18,2,0,2,0.21,2,-999,9,-999,9,-999,9,-999,9,-999,9,-999,9,   -999.0,  9,-999,9,-999,-999,9,-999,9,-999,9,-999,9,-999,-999,-999,9,300,17.2262,25.3013,-999,9
RF05-01,142E,RF-2373,1,11,02-18565,2,20050307,1227,32.9978,142.0187,8741,403,16.3537,34.7109,2,-999,9,-999,9,207.7,2,6.01,2,-999,9,6.23,2,0,2,0.34,2,-999,9,-999,9,-999,9,-999,9,-999,9,-999,9,   -999.0,  9,-999,9,-999,-999,9,-999,9,-999,9,-999,9,-999,-999,-999,9,400,16.2887,25.4589,-999,9
RF05-01,142E,RF-2373,1,10,02-18564,2,20050307,1224,32.9978,142.0187,8741,505.5,14.415,34.5514,2,-999,9,-999,9,193.8,2,11.79,2,-999,9,10.69,2,0,2,0.63,2,-999,9,-999,9,-999,9,-999,9,-999,9,-999,9,   -999.0,  9,-999,9,-999,-999,9,-999,9,-999,9,-999,9,-999,-999,-999,9,501,14.34,25.7686,-999,9
RF05-01,142E,RF-2373,1,9,02-18563,2,20050307,1221,32.9978,142.0187,8741,605.7,11.5196,34.344,2,-999,9,-999,9,184,2,22.69,2,-999,9,16.38,2,0,2,1.05,2,-999,9,-999,9,-999,9,-999,9,-999,9,-999,9,   -999.0,  9,-999,9,-999,-999,9,-999,9,-999,9,-999,9,-999,-999,-999,9,601,11.4418,26.1841,-999,9
RF05-01,142E,RF-2373,1,8,02-18562,2,20050307,1219,32.9978,142.0187,8741,708.1,8.8256,34.1714,2,-999,9,-999,9,164.2,2,38.22,2,-999,9,22.51,2,0,2,1.54,2,-999,9,-999,9,-999,9,-999,9,-999,9,-999,9,   -999.0,  9,-999,9,-999,-999,9,-999,9,-999,9,-999,9,-999,-999,-999,9,702,8.7482,26.509,-999,9
RF05-01,142E,RF-2373,1,7,02-18561,2,20050307,1216,32.9978,142.0187,8741,807.2,6.7119,34.0526,2,-999,9,-999,9,145.2,2,55.01,2,-999,9,28.21,2,0,2,1.99,2,-999,9,-999,9,-999,9,-999,9,-999,9,-999,9,   -999.0,  9,-999,9,-999,-999,9,-999,9,-999,9,-999,9,-999,-999,-999,9,800,6.6359,26.7217,-999,9
RF05-01,142E,RF-2373,1,6,02-18560,2,20050307,1213,32.9978,142.0187,8741,909.3,5.4308,34.1063,2,-999,9,-999,9,102,2,77.52,2,-999,9,33.98,2,0,2,2.42,2,-999,9,-999,9,-999,9,-999,9,-999,9,-999,9,   -999.0,  9,-999,9,-999,-999,9,-999,9,-999,9,-999,9,-999,-999,-999,9,901,5.3532,26.9255,-999,9
RF05-01,142E,RF-2373,1,5,02-18559,2,20050307,1210,32.9978,142.0187,8741,1010.8,4.515,34.1768,2,-999,9,-999,9,69.1,2,97.9,2,-999,9,37.95,2,0,2,2.74,2,-999,9,-999,9,-999,9,-999,9,-999,9,-999,9,   -999.0,  9,-999,9,-999,-999,9,-999,9,-999,9,-999,9,-999,-999,-999,9,1001,4.435,27.0855,-999,9
RF05-01,142E,RF-2373,1,4,02-18558,2,20050307,1204,32.9978,142.0187,8741,1263,3.4936,34.3767,2,-999,9,-999,9,53,2,125.25,2,-999,9,40.39,2,0,2,2.91,2,-999,9,-999,9,-999,9,-999,9,-999,9,-999,9,   -999.0,  9,-999,9,-999,-999,9,-999,9,-999,9,-999,9,-999,-999,-999,9,1250,3.4007,27.3501,-999,9
RF05-01,142E,RF-2373,1,3,02-18557,2,20050307,1159,32.9978,142.0187,8741,1516.7,2.7476,34.455,2,-999,9,-999,9,41.9,2,144.34,2,-999,9,41.95,2,0,2,3.04,2,-999,9,-999,9,-999,9,-999,9,-999,9,-999,9,   -999.0,  9,-999,9,-999,-999,9,-999,9,-999,9,-999,9,-999,-999,-999,9,1501,2.6416,27.4819,-999,9
RF05-01,142E,RF-2373,1,2,02-18556,2,20050307,1153,32.9978,142.0187,8741,1770.7,2.3897,34.5184,2,-999,9,-999,9,49.2,2,153.02,2,-999,9,41.84,2,0,2,3.01,2,-999,9,-999,9,-999,9,-999,9,-999,9,-999,9,   -999.0,  9,-999,9,-999,-999,9,-999,9,-999,9,-999,9,-999,-999,-999,9,1751,2.2671,27.5643,-999,9
RF05-01,142E,RF-2373,1,1,02-18555,2,20050307,1148,32.9978,142.0187,8741,2023.9,2.1136,34.5689,2,-999,9,-999,9,65.5,2,157.62,2,-999,9,41.03,2,0,2,2.93,2,-999,9,-999,9,-999,9,-999,9,-999,9,-999,9,   -999.0,  9,-999,9,-999,-999,9,-999,9,-999,9,-999,9,-999,-999,-999,9,2000,1.9736,27.6284,-999,9