BOTTLE,20131214MIRCJHATS
EXPOCODE,SECT_ID,STNNBR,CASTNO,SAMPNO,BTLNBR,BTLNBR_FLAG_W,DATE,TIME,LATITUDE,LONGITUDE,DEPTH,CTDPRS,CTDTMP,CTDSAL,CTDSAL_FLAG_W,CTDOXY,CTDOXY_FLAG_W,SALNTY,SALNTY_FLAG_W,OXYGEN,OXYGEN_FLAG_W,SILCAT,SILCAT_FLAG_W,NITRAT,NITRAT_FLAG_W,NO2+NO3,NO2+NO3_FLAG_W,NITRIT,NITRIT_FLAG_W,PHSPHT,PHSPHT_FLAG_W,CFC-11,CFC-11_FLAG_W,CFC-12,CFC-12_FLAG_W,DELC13,DELC13_FLAG_W,TCARBN,TCARBN_FLAG_W,ALKALI,ALKALI_FLAG_W,PH,PH_FLAG_W,PH_TMP,PH_SCALE,PH_NBS,PH_NBS_FLAG_W,C13ERR,TOTALP,TOTALP_FLAG_W,AMMONI,AMMONI_FLAG_W,CHLORA,CHLORA_FLAG_W,PPHYTN,PPHYTN_FLAG_W,REVPRS,REVTMP,DEPTH,DEPTH_FLAG,CTDDEP,THETA,SIGTHT,DOC,DOC_FLAG_W
,,,,,,,GMT,GMT,,,METERS,DBAR,ITS-90,PSS-78,,UMOL/KG,,PSS-78,,UMOL/KG,,UMOL/KG,,UMOL/KG,,UMOL/KG,,UMOL/KG, ,UMOL/KG,,PMOL/KG,,PMOL/KG,,/MILLE,,UMOL/KG,,UMOL/KG,,25_DEG_C,,DEG_C,,,,/MILLE,UMOL/KG,,UMOL/KG,,UG/L,,UG/L,,DBAR,ITS-90,METERS,,METERS,DEG_C,,UMOL/L
RF05-01,NONE,RF-2349,1,-9,-9,5,20050213,1235,-2.6655,162.2715,3865,0,29.5871,34.3452,2,-999,9,-999,9,192.9,2,0.96,2,-999,9,0,2,0,2,0.14,2,-999,9,-999,9,-999,9,-999,9,-999,9,-999,9,   -999.0,  9,-999,9,-999,-999,9,-999,9,-999,9,-999,9,-999,-999,-999,9,0,29.5869,21.3756,-999,9
RF05-01,NONE,RF-2349,1,24,02-18578,2,20050213,1243,-2.6655,162.2715,3865,11.6,29.6309,34.3745,2,-999,9,-999,9,194.1,2,0.92,2,-999,9,0,2,0,2,0.09,2,-999,9,-999,9,-999,9,-999,9,-999,9,-999,9,   -999.0,  9,-999,9,-999,-999,9,-999,9,-999,9,-999,9,-999,-999,-999,9,12,29.628,21.3836,-999,9
RF05-01,NONE,RF-2349,1,23,02-18577,2,20050213,1242,-2.6655,162.2715,3865,25.7,29.6879,34.4754,2,-999,9,-999,9,193.8,2,1.04,2,-999,9,0,2,0,2,0.09,2,-999,9,-999,9,-999,9,-999,9,-999,9,-999,9,   -999.0,  9,-999,9,-999,-999,9,-999,9,-999,9,-999,9,-999,-999,-999,9,26,29.6816,21.4411,-999,9
RF05-01,NONE,RF-2349,1,22,02-18576,2,20050213,1241,-2.6655,162.2715,3865,51,29.7083,34.4884,2,-999,9,-999,9,193.5,2,1.15,2,-999,9,0,2,0,2,0.09,2,-999,9,-999,9,-999,9,-999,9,-999,9,-999,9,   -999.0,  9,-999,9,-999,-999,9,-999,9,-999,9,-999,9,-999,-999,-999,9,51,29.6958,21.4461,-999,9
RF05-01,NONE,RF-2349,1,21,02-18575,2,20050213,1240,-2.6655,162.2715,3865,76,30.0249,34.7724,2,-999,9,-999,9,191.2,2,1.33,2,-999,9,0.2,2,0.09,2,0.15,2,-999,9,-999,9,-999,9,-999,9,-999,9,-999,9,   -999.0,  9,-999,9,-999,-999,9,-999,9,-999,9,-999,9,-999,-999,-999,9,76,30.0061,21.5535,-999,9
RF05-01,NONE,RF-2349,1,20,02-18574,2,20050213,1239,-2.6655,162.2715,3865,101.8,29.5032,35.3219,2,-999,9,-999,9,184.3,2,1.72,2,-999,9,1.96,2,0.8,2,0.26,2,-999,9,-999,9,-999,9,-999,9,-999,9,-999,9,   -999.0,  9,-999,9,-999,-999,9,-999,9,-999,9,-999,9,-999,-999,-999,9,101,29.4782,22.1449,-999,9
RF05-01,NONE,RF-2349,1,19,02-18573,2,20050213,1237,-2.6655,162.2715,3865,152.3,23.4476,35.686,2,-999,9,-999,9,122.8,2,3.69,2,-999,9,10.74,2,0,2,0.8,2,-999,9,-999,9,-999,9,-999,9,-999,9,-999,9,   -999.0,  9,-999,9,-999,-999,9,-999,9,-999,9,-999,9,-999,-999,-999,9,151,23.416,24.333,-999,9
RF05-01,NONE,RF-2349,1,18,02-18572,2,20050213,1235,-2.6655,162.2715,3865,202.2,15.6265,35.2492,2,-999,9,-999,9,132,2,8.63,2,-999,9,15.9,2,0,2,1.15,2,-999,9,-999,9,-999,9,-999,9,-999,9,-999,9,   -999.0,  9,-999,9,-999,-999,9,-999,9,-999,9,-999,9,-999,-999,-999,9,201,15.5949,26.0315,-999,9
RF05-01,NONE,RF-2349,1,17,02-18571,2,20050213,1232,-2.6655,162.2715,3865,302.4,11.3211,34.8257,2,-999,9,-999,9,106.7,2,21.41,2,-999,9,24.98,2,0,2,1.71,2,-999,9,-999,9,-999,9,-999,9,-999,9,-999,9,   -999.0,  9,-999,9,-999,-999,9,-999,9,-999,9,-999,9,-999,-999,-999,9,301,11.283,26.5882,-999,9
RF05-01,NONE,RF-2349,1,16,02-18570,2,20050213,1226,-2.6655,162.2715,3865,402.9,10.3398,34.7667,2,-999,9,-999,9,122.8,2,20.61,2,-999,9,25.27,2,0,2,1.73,2,-999,9,-999,9,-999,9,-999,9,-999,9,-999,9,   -999.0,  9,-999,9,-999,-999,9,-999,9,-999,9,-999,9,-999,-999,-999,9,400,10.2917,26.7195,-999,9
RF05-01,NONE,RF-2349,1,15,02-18569,2,20050213,1224,-2.6655,162.2715,3865,502.8,8.8325,34.6646,2,-999,9,-999,9,103.3,2,27.49,2,-999,9,30.02,2,0,2,2.06,2,-999,9,-999,9,-999,9,-999,9,-999,9,-999,9,   -999.0,  9,-999,9,-999,-999,9,-999,9,-999,9,-999,9,-999,-999,-999,9,499,8.7778,26.8908,-999,9
RF05-01,NONE,RF-2349,1,14,02-18568,2,20050213,1221,-2.6655,162.2715,3865,606.5,7.3232,34.5863,2,-999,9,-999,9,75.8,2,41.1,2,-999,9,35.98,2,0,2,2.5,2,-999,9,-999,9,-999,9,-999,9,-999,9,-999,9,   -999.0,  9,-999,9,-999,-999,9,-999,9,-999,9,-999,9,-999,-999,-999,9,602,7.2636,27.056,-999,9
RF05-01,NONE,RF-2349,1,13,02-18567,2,20050213,1214,-2.6655,162.2715,3865,806.8,5.2971,34.5305,2,-999,9,-999,9,106.8,2,62.16,2,-999,9,36.24,2,0,2,2.55,2,-999,9,-999,9,-999,9,-999,9,-999,9,-999,9,   -999.0,  9,-999,9,-999,-999,9,-999,9,-999,9,-999,9,-999,-999,-999,9,801,5.2291,27.2762,-999,9
RF05-01,NONE,RF-2349,1,12,02-18566,2,20050213,1207,-2.6655,162.2715,3865,1007.7,4.3724,34.5445,2,-999,9,-999,9,109.7,2,80.7,2,-999,9,36.93,2,0,2,2.62,2,-999,9,-999,9,-999,9,-999,9,-999,9,-999,9,   -999.0,  9,-999,9,-999,-999,9,-999,9,-999,9,-999,9,-999,-999,-999,9,1000,4.2931,27.3929,-999,9
RF05-01,NONE,RF-2349,1,11,02-18565,2,20050213,1201,-2.6655,162.2715,3865,1261.7,3.5651,34.5767,2,-999,9,-999,9,102.3,2,102.2,2,-999,9,38.28,2,0,2,2.73,2,-999,9,-999,9,-999,9,-999,9,-999,9,-999,9,   -999.0,  9,-999,9,-999,-999,9,-999,9,-999,9,-999,9,-999,-999,-999,9,1251,3.4712,27.5026,-999,9
RF05-01,NONE,RF-2349,1,10,02-18564,2,20050213,1152,-2.6655,162.2715,3865,1515.7,2.9051,34.6039,2,-999,9,-999,9,108.5,2,116.78,2,-999,9,38.12,2,0,2,2.71,2,-999,9,-999,9,-999,9,-999,9,-999,9,-999,9,   -999.0,  9,-999,9,-999,-999,9,-999,9,-999,9,-999,9,-999,-999,-999,9,1502,2.797,27.5872,-999,9
RF05-01,NONE,RF-2349,1,9,02-18563,2,20050213,1145,-2.6655,162.2715,3865,1767.8,2.4946,34.6235,2,-999,9,-999,9,115.9,2,124.92,2,-999,9,37.76,2,0,2,2.67,2,-999,9,-999,9,-999,9,-999,9,-999,9,-999,9,   -999.0,  9,-999,9,-999,-999,9,-999,9,-999,9,-999,9,-999,-999,-999,9,1751, 2.3706,27.6398,-999,9
RF05-01,NONE,RF-2349,1,8,02-18562,2,20050213,1138,-2.6655,162.2715,3865,2020.9,2.1912,34.6408,2,-999,9,-999,9,118.9,2,132.89,2,-999,9,37.8,2,0,2,2.66,2,-999,9,-999,9,-999,9,-999,9,-999,9,-999,9,   -999.0,  9,-999,9,-999,-999,9,-999,9,-999,9,-999,9,-999,-999,-999,9,2000,2.05,27.6799,-999,9
RF05-01,NONE,RF-2349,1,7,02-18561,2,20050213,1131,-2.6655,162.2715,3865,2274,2.0164,34.6502,2,-999,9,-999,9,125.4,2,136.03,2,-999,9,37.43,2,0,2,2.63,2,-999,9,-999,9,-999,9,-999,9,-999,9,-999,9,   -999.0,  9,-999,9,-999,-999,9,-999,9,-999,9,-999,9,-999,-999,-999,9,2249,1.8561,27.7027,-999,9
RF05-01,NONE,RF-2349,1,6,02-18560,2,20050213,1125,-2.6655,162.2715,3865,2530.6,1.8686,34.6587,2,-999,9,-999,9,126.7,2,140.96,2,-999,9,37.42,2,0,2,2.62,2,-999,9,-999,9,-999,9,-999,9,-999,9,-999,9,   -999.0,  9,-999,9,-999,-999,9,-999,9,-999,9,-999,9,-999,-999,-999,9,2502, 1.6880,27.7223,-999,9
RF05-01,NONE,RF-2349,1,5,02-18559,2,20050213,1119,-2.6655,162.2715,3865,2783.3,1.7743,34.6642,2,-999,9,-999,9,130.4,2,142.19,2,-999,9,37.18,2,0,2,2.59,2,-999,9,-999,9,-999,9,-999,9,-999,9,-999,9,   -999.0,  9,-999,9,-999,-999,9,-999,9,-999,9,-999,9,-999,-999,-999,9,2750, 1.5722,27.7354,-999,9
RF05-01,NONE,RF-2349,1,4,02-18558,2,20050213,1114,-2.6655,162.2715,3865,3040.1,1.6734,34.6701,2,-999,9,-999,9,136.5,2,142.75,2,-999,9,36.76,2,0,2,2.55,2,-999,9,-999,9,-999,9,-999,9,-999,9,-999,9,   -999.0,  9,-999,9,-999,-999,9,-999,9,-999,9,-999,9,-999,-999,-999,9,3002,1.4489,27.7492,-999,9
RF05-01,NONE,RF-2349,1,3,02-18557,2,20050213,1103,-2.6655,162.2715,3865,3294.8,1.548,34.6784,2,-999,9,-999,9,146.1,2,141.49,2,-999,9,36.08,2,0,2,2.49,2,-999,9,-999,9,-999,9,-999,9,-999,9,-999,9,   -999.0,  9,-999,9,-999,-999,9,-999,9,-999,9,-999,9,-999,-999,-999,9,3251, 1.3014,27.7663,-999,9
RF05-01,NONE,RF-2349,1,2,02-18556,2,20050213,1055,-2.6655,162.2715,3865,3548.6,1.5043,34.6827,2,-999,9,-999,9,150.6,2,140.2,2,-999,9,35.8,2,0,2,2.46,2,-999,9,-999,9,-999,9,-999,9,-999,9,-999,9,   -999.0,  9,-999,9,-999,-999,9,-999,9,-999,9,-999,9,-999,-999,-999,9,3500, 1.2331,27.7745,-999,9
RF05-01,NONE,RF-2349,1,1,02-18555,2,20050213,1049,-2.6655,162.2715,3865,3858.8,1.4566,34.6887,2,-999,9,-999,9,159.6,2,137.29,2,-999,9,35.28,2,0,2,2.43,2,-999,9,-999,9,-999,9,-999,9,-999,9,-999,9,   -999.0,  9,-999,9,-999,-999,9,-999,9,-999,9,-999,9,-999,-999,-999,9,3803, 1.1541,27.7848,-999,9
RF05-01,NONE,RF-2350,1,-9,-9,5,20050213,1838,-2.5962,162.4887,3982,0,29.7936,34.4731,2,-999,9,-999,9,191.8,2,1.15,2,-999,9,0.02,2,0,2,0.1,2,-999,9,-999,9,-999,9,-999,9,-999,9,-999,9,   -999.0,  9,-999,9,-999,-999,9,-999,9,-999,9,-999,9,-999,-999,-999,9,0,29.7934,21.4015,-999,9
RF05-01,NONE,RF-2350,1,24,02-18578,2,20050213,1852,-2.5962,162.4887,3982,10.3,29.7984,34.4728,2,-999,9,34.4703,4,194,2,1.12,2,-999,9,0.02,2,0,2,0.09,2,-999,9,-999,9,-999,9,-999,9,-999,9,-999,9,   -999.0,  9,-999,9,-999,-999,9,-999,9,-999,9,-999,9,-999,-999,-999,9,10,29.7959,21.4005,-999,9
RF05-01,NONE,RF-2350,1,23,02-18577,2,20050213,1851,-2.5962,162.4887,3982,26.3,29.8018,34.4727,2,-999,9,-999,9,193.6,2,1.11,2,-999,9,0,2,0,2,0.09,2,-999,9,-999,9,-999,9,-999,9,-999,9,-999,9,   -999.0,  9,-999,9,-999,-999,9,-999,9,-999,9,-999,9,-999,-999,-999,9,26,29.7953,21.4005,-999,9
RF05-01,NONE,RF-2350,1,22,02-18576,2,20050213,1850,-2.5962,162.4887,3982,51.2,29.8399,34.5035,2,-999,9,-999,9,194.6,2,1.14,2,-999,9,0,2,0,2,0.1,2,-999,9,-999,9,-999,9,-999,9,-999,9,-999,9,   -999.0,  9,-999,9,-999,-999,9,-999,9,-999,9,-999,9,-999,-999,-999,9,51,29.8273,21.4128,-999,9
RF05-01,NONE,RF-2350,1,21,02-18575,2,20050213,1849,-2.5962,162.4887,3982,75,30.2132,35.1527,2,-999,9,-999,9,191.5,2,1.14,2,-999,9,0.24,2,0.07,2,0.16,2,-999,9,-999,9,-999,9,-999,9,-999,9,-999,9,   -999.0,  9,-999,9,-999,-999,9,-999,9,-999,9,-999,9,-999,-999,-999,9,75,30.1945,21.7741,-999,9
RF05-01,NONE,RF-2350,1,20,02-18574,2,20050213,1848,-2.5962,162.4887,3982,102.5,29.4055,35.3088,2,-999,9,35.3354,4,171.3,2,1.75,2,-999,9,3.5,2,0.68,2,0.35,2,-999,9,-999,9,-999,9,-999,9,-999,9,-999,9,   -999.0,  9,-999,9,-999,-999,9,-999,9,-999,9,-999,9,-999,-999,-999,9,102,29.3804,22.1682,-999,9
RF05-01,NONE,RF-2350,1,19,02-18573,2,20050213,1846,-2.5962,162.4887,3982,152.3,22.9524,35.6536,2,-999,9,-999,9,124.5,2,3.53,2,-999,9,10.49,2,0,2,0.78,2,-999,9,-999,9,-999,9,-999,9,-999,9,-999,9,   -999.0,  9,-999,9,-999,-999,9,-999,9,-999,9,-999,9,-999,-999,-999,9,151,22.9213,24.4522,-999,9
RF05-01,NONE,RF-2350,1,18,02-18572,2,20050213,1844,-2.5962,162.4887,3982,202.1,17.7591,35.4412,2,-999,9,-999,9,126.5,2,6.43,2,-999,9,14.23,2,0,2,1.05,2,-999,9,-999,9,-999,9,-999,9,-999,9,-999,9,   -999.0,  9,-999,9,-999,-999,9,-999,9,-999,9,-999,9,-999,-999,-999,9,201,17.7246,25.6778,-999,9
RF05-01,NONE,RF-2350,1,17,02-18571,2,20050213,1841,-2.5962,162.4887,3982,302,11.4834,34.8388,2,-999,9,34.8396,2,114.7,2,20.02,2,-999,9,24.06,2,0,2,1.66,2,-999,9,-999,9,-999,9,-999,9,-999,9,-999,9,   -999.0,  9,-999,9,-999,-999,9,-999,9,-999,9,-999,9,-999,-999,-999,9,300,11.445,26.5684,-999,9
RF05-01,NONE,RF-2350,1,16,02-18570,2,20050213,1839,-2.5962,162.4887,3982,402.2,10.2625,34.7625,2,-999,9,-999,9,128.1,2,19.44,2,-999,9,24.86,2,0,2,1.7,2,-999,9,-999,9,-999,9,-999,9,-999,9,-999,9,   -999.0,  9,-999,9,-999,-999,9,-999,9,-999,9,-999,9,-999,-999,-999,9,400,10.2147,26.7296,-999,9
RF05-01,NONE,RF-2350,1,15,02-18569,2,20050213,1834,-2.5962,162.4887,3982,604,7.2784,34.5825,2,-999,9,34.5808,2,77.8,2,41.66,2,-999,9,36.01,2,0,2,2.51,2,-999,9,-999,9,-999,9,-999,9,-999,9,-999,9,   -999.0,  9,-999,9,-999,-999,9,-999,9,-999,9,-999,9,-999,-999,-999,9,600,7.2193,27.0593,-999,9
RF05-01,NONE,RF-2350,1,14,02-18568,2,20050213,1830,-2.5962,162.4887,3982,806.6,5.2788,34.5315,2,-999,9,34.531,2,105.1,2,63.24,2,-999,9,36.44,2,0,2,2.57,2,-999,9,-999,9,-999,9,-999,9,-999,9,-999,9,   -999.0,  9,-999,9,-999,-999,9,-999,9,-999,9,-999,9,-999,-999,-999,9,801,5.211,27.2792,-999,9
RF05-01,NONE,RF-2350,1,13,02-18567,2,20050213,1826,-2.5962,162.4887,3982,1008.1,4.3412,34.5449,2,-999,9,34.5456,2,110.5,2,80.52,2,-999,9,36.88,2,0,2,2.62,2,-999,9,-999,9,-999,9,-999,9,-999,9,-999,9,   -999.0,  9,-999,9,-999,-999,9,-999,9,-999,9,-999,9,-999,-999,-999,9,1000, 4.2622,27.3965,-999,9
RF05-01,NONE,RF-2350,1,12,02-18566,2,20050213,1820,-2.5962,162.4887,3982,1260.3,3.5677,34.5737,2,-999,9,-999,9,107.3,2,98.97,2,-999,9,37.73,2,0,2,2.7,2,-999,9,-999,9,-999,9,-999,9,-999,9,-999,9,   -999.0,  9,-999,9,-999,-999,9,-999,9,-999,9,-999,9,-999,-999,-999,9,1250,3.4739,27.5,-999,9
RF05-01,NONE,RF-2350,1,11,02-18565,2,20050213,1814,-2.5962,162.4887,3982,1513.8,2.9171,34.6031,2,-999,9,34.6042,2,109.2,2,115.73,2,-999,9,38.03,2,0,2,2.72,2,-999,9,-999,9,-999,9,-999,9,-999,9,-999,9,   -999.0,  9,-999,9,-999,-999,9,-999,9,-999,9,-999,9,-999,-999,-999,9,1500,2.809,27.5856,-999,9
RF05-01,NONE,RF-2350,1,10,02-18564,2,20050213,1808,-2.5962,162.4887,3982,1768.6,2.4538,34.6246,2,-999,9,-999,9,117.8,2,124.53,2,-999,9,37.55,2,0,2,2.66,2,-999,9,-999,9,-999,9,-999,9,-999,9,-999,9,   -999.0,  9,-999,9,-999,-999,9,-999,9,-999,9,-999,9,-999,-999,-999,9,1751,2.3302,27.644,-999,9
RF05-01,NONE,RF-2350,1,9,02-18563,2,20050213,1801,-2.5962,162.4887,3982,2022,2.1819,34.6407,2,-999,9,34.6406,2,120.5,2,131.9,2,-999,9,37.47,2,0,2,2.65,2,-999,9,-999,9,-999,9,-999,9,-999,9,-999,9,   -999.0,  9,-999,9,-999,-999,9,-999,9,-999,9,-999,9,-999,-999,-999,9,2001,2.0408,27.6806,-999,9
RF05-01,NONE,RF-2350,1,8,02-18562,2,20050213,1755,-2.5962,162.4887,3982,2274.5,2.007,34.6508,2,-999,9,-999,9,125.4,2,136.11,2,-999,9,37.31,2,0,2,2.62,2,-999,9,-999,9,-999,9,-999,9,-999,9,-999,9,   -999.0,  9,-999,9,-999,-999,9,-999,9,-999,9,-999,9,-999,-999,-999,9,2250,1.8468,27.7039,-999,9
RF05-01,NONE,RF-2350,1,7,02-18561,2,20050213,1748,-2.5962,162.4887,3982,2528.3,1.8598,34.6592,2,-999,9,34.6583,2,127.1,2,140.25,2,-999,9,37.29,2,0,2,2.61,2,-999,9,-999,9,-999,9,-999,9,-999,9,-999,9,   -999.0,  9,-999,9,-999,-999,9,-999,9,-999,9,-999,9,-999,-999,-999,9,2499,1.6795,27.7234,-999,9
RF05-01,NONE,RF-2350,1,6,02-18560,2,20050213,1741,-2.5962,162.4887,3982,2784.6,1.7847,34.6636,2,-999,9,-999,9,129.7,2,141.84,2,-999,9,37.15,2,0,2,2.59,2,-999,9,-999,9,-999,9,-999,9,-999,9,-999,9,   -999.0,  9,-999,9,-999,-999,9,-999,9,-999,9,-999,9,-999,-999,-999,9,2751, 1.5823,27.7342,-999,9
RF05-01,NONE,RF-2350,1,5,02-18559,2,20050213,1734,-2.5962,162.4887,3982,3038.3,1.7062,34.6685,2,-999,9,34.6676,2,135,2,142.71,2,-999,9,36.83,2,0,2,2.56,2,-999,9,-999,9,-999,9,-999,9,-999,9,-999,9,   -999.0,  9,-999,9,-999,-999,9,-999,9,-999,9,-999,9,-999,-999,-999,9,3000,1.4812,27.7455,-999,9
RF05-01,NONE,RF-2350,1,4,02-18558,2,20050213,1729,-2.5962,162.4887,3982,3294,1.5624,34.6776,2,-999,9,-999,9,147,2,141.75,2,-999,9,36.19,2,0,2,2.5,2,-999,9,-999,9,-999,9,-999,9,-999,9,-999,9,   -999.0,  9,-999,9,-999,-999,9,-999,9,-999,9,-999,9,-999,-999,-999,9,3251,1.3155,27.7647,-999,9
RF05-01,NONE,RF-2350,1,3,02-18557,2,20050213,1721,-2.5962,162.4887,3982,3549.2,1.4912,34.6838,2,-999,9,34.6842,2,153.7,2,139.64,2,-999,9,35.59,2,0,2,2.45,2,-999,9,-999,9,-999,9,-999,9,-999,9,-999,9,   -999.0,  9,-999,9,-999,-999,9,-999,9,-999,9,-999,9,-999,-999,-999,9,3500,1.2202,27.7763,-999,9
RF05-01,NONE,RF-2350,1,2,02-18556,2,20050213,1715,-2.5962,162.4887,3982,3806.3,1.4599,34.688,2,-999,9,-999,9,157.8,2,137.67,2,-999,9,35.24,2,0,2,2.42,2,-999,9,-999,9,-999,9,-999,9,-999,9,-999,9,   -999.0,  9,-999,9,-999,-999,9,-999,9,-999,9,-999,9,-999,-999,-999,9,3752, 1.1629,27.7836,-999,9
RF05-01,NONE,RF-2350,1,1,02-18555,3,20050213,1706,-2.5962,162.4887,3982,3989.5,1.4252,34.6918,2,-999,9,34.6916,2,162,2,133.67,2,-999,9,35,2,0,2,2.41,2,-999,9,-999,9,-999,9,-999,9,-999,9,-999,9,   -999.0,  9,-999,9,-999,-999,9,-999,9,-999,9,-999,9,-999,-999,-999,9,3931, 1.1095,27.7904,-999,9