BOTTLE,20131214MIRCJHATS
EXPOCODE,SECT_ID,STNNBR,CASTNO,SAMPNO,BTLNBR,BTLNBR_FLAG_W,DATE,TIME,LATITUDE,LONGITUDE,DEPTH,CTDPRS,CTDTMP,CTDSAL,CTDSAL_FLAG_W,CTDOXY,CTDOXY_FLAG_W,SALNTY,SALNTY_FLAG_W,OXYGEN,OXYGEN_FLAG_W,SILCAT,SILCAT_FLAG_W,NITRAT,NITRAT_FLAG_W,NO2+NO3,NO2+NO3_FLAG_W,NITRIT,NITRIT_FLAG_W,PHSPHT,PHSPHT_FLAG_W,CFC-11,CFC-11_FLAG_W,CFC-12,CFC-12_FLAG_W,DELC13,DELC13_FLAG_W,TCARBN,TCARBN_FLAG_W,ALKALI,ALKALI_FLAG_W,PH,PH_FLAG_W,PH_TMP,PH_SCALE,PH_NBS,PH_NBS_FLAG_W,C13ERR,TOTALP,TOTALP_FLAG_W,AMMONI,AMMONI_FLAG_W,CHLORA,CHLORA_FLAG_W,PPHYTN,PPHYTN_FLAG_W,REVPRS,REVTMP,DEPTH,DEPTH_FLAG,CTDDEP,THETA,SIGTHT,DOC,DOC_FLAG_W
,,,,,,,GMT,GMT,,,METERS,DBAR,ITS-90,PSS-78,,UMOL/KG,,PSS-78,,UMOL/KG,,UMOL/KG,,UMOL/KG,,UMOL/KG,,UMOL/KG, ,UMOL/KG,,PMOL/KG,,PMOL/KG,,/MILLE,,UMOL/KG,,UMOL/KG,,25_DEG_C,,DEG_C,,,,/MILLE,UMOL/KG,,UMOL/KG,,UG/L,,UG/L,,DBAR,ITS-90,METERS,,METERS,DEG_C,,UMOL/L
RF05-01,EQPAC,RF-2359,1,-9,-9,5,20050218,1657,-0.0145,147.0662,4471,0,29.509,34.025,2,-999,9,-999,9,194.9,2,1.09,2,-999,9,0,2,0,2,0.01,2,-999,9,-999,9,-999,9,-999,9,-999,9,-999,9,   -999.0,  9,-999,9,-999,-999,9,-999,9,0.06,2,0.02,2,-999,-999,-999,9,0,29.5088,21.1618,-999,9
RF05-01,EQPAC,RF-2359,1,21,02-18575,2,20050218,1709,-0.0145,147.0662,4471,10,29.5458,34.0836,2,-999,9,-999,9,196.1,2,1.15,2,-999,9,0,2,0,2,0.01,2,-999,9,-999,9,-999,9,-999,9,-999,9,-999,9,   -999.0,  9,-999,9,-999,-999,9,-999,9,0.06,2,0.02,2,-999,-999,-999,9,10,29.5434,21.1941,-999,9
RF05-01,EQPAC,RF-2359,1,20,02-18574,2,20050218,1708,-0.0145,147.0662,4471,25.1,29.35,34.1258,2,-999,9,-999,9,194.9,2,1,2,-999,9,0,2,0,2,0,2,-999,9,-999,9,-999,9,-999,9,-999,9,-999,9,   -999.0,  9,-999,9,-999,-999,9,-999,9,0.08,2,0.03,2,-999,-999,-999,9,25,29.3439,21.2928,-999,9
RF05-01,EQPAC,RF-2359,1,19,02-18573,2,20050218,1707,-0.0145,147.0662,4471,50.7,28.7055,34.3614,2,-999,9,-999,9,186.4,2,0.98,2,-999,9,0.88,2,0.26,2,0.09,2,-999,9,-999,9,-999,9,-999,9,-999,9,-999,9,   -999.0,  9,-999,9,-999,-999,9,-999,9,0.58,2,0.24,2,-999,-999,-999,9,50,28.6933,21.6866,-999,9
RF05-01,EQPAC,RF-2359,1,18,02-18572,2,20050218,1706,-0.0145,147.0662,4471,74.5,27.9123,34.5843,2,-999,9,-999,9,169,2,1.77,2,-999,9,3.43,2,0.37,2,0.23,2,-999,9,-999,9,-999,9,-999,9,-999,9,-999,9,   -999.0,  9,-999,9,-999,-999,9,-999,9,0.17,2,0.31,2,-999,-999,-999,9,74,27.8948,22.1164,-999,9
RF05-01,EQPAC,RF-2359,1,17,02-18571,2,20050218,1705,-0.0145,147.0662,4471,101.9,25.231,35.3609,2,-999,9,-999,9,136.6,2,3.3,2,-999,9,8.73,2,0.09,2,0.62,2,-999,9,-999,9,-999,9,-999,9,-999,9,-999,9,   -999.0,  9,-999,9,-999,-999,9,-999,9,0.07,2,0.25,2,-999,-999,-999,9,101,25.2087,23.5503,-999,9
RF05-01,EQPAC,RF-2359,1,16,02-18570,2,20050218,1703,-0.0145,147.0662,4471,127.5,22.4978,35.4696,2,-999,9,-999,9,135.1,2,3.88,2,-999,9,9.7,2,0.01,2,0.68,2,-999,9,-999,9,-999,9,-999,9,-999,9,-999,9,   -999.0,  9,-999,9,-999,-999,9,-999,9,0.02,2,0.09,2,-999,-999,-999,9,127,22.4721,24.4412,-999,9
RF05-01,EQPAC,RF-2359,1,15,02-18569,2,20050218,1702,-0.0145,147.0662,4471,152.7,20.3536,35.3717,2,-999,9,-999,9,142.7,2,4.61,2,-999,9,9.92,2,0,2,0.68,2,-999,9,-999,9,-999,9,-999,9,-999,9,-999,9,   -999.0,  9,-999,9,-999,-999,9,-999,9,0.01,2,0.02,2,-999,-999,-999,9,152,20.325,24.959,-999,9
RF05-01,EQPAC,RF-2359,1,14,02-18568,2,20050218,1700,-0.0145,147.0662,4471,202.3,16.877,35.3172,2,-999,9,-999,9,144.9,2,6.2,2,-999,9,13.11,2,0,2,0.91,2,-999,9,-999,9,-999,9,-999,9,-999,9,-999,9,   -999.0,  9,-999,9,-999,-999,9,-999,9,0,2,0.01,2,-999,-999,-999,9,201,16.8437,25.7949,-999,9
RF05-01,EQPAC,RF-2359,1,13,02-18567,2,20050218,1659,-0.0145,147.0662,4471,252.5,13.7647,35.0475,2,-999,9,-999,9,146.6,2,10.98,2,-999,9,17.01,2,0,2,1.15,2,-999,9,-999,9,-999,9,-999,9,-999,9,-999,9,   -999.0,  9,-999,9,-999,-999,9,-999,9,-999,9,-999,9,-999,-999,-999,9,251,13.7285,26.2807,-999,9
RF05-01,EQPAC,RF-2359,1,12,02-18566,2,20050218,1657,-0.0145,147.0662,4471,301.9,11.7668,34.8836,2,-999,9,-999,9,145.7,2,15.17,2,-999,9,20.59,2,0,2,1.38,2,-999,9,-999,9,-999,9,-999,9,-999,9,-999,9,   -999.0,  9,-999,9,-999,-999,9,-999,9,-999,9,-999,9,-999,-999,-999,9,300,11.7278,26.5504,-999,9
RF05-01,EQPAC,RF-2359,1,11,02-18565,2,20050218,1654,-0.0145,147.0662,4471,404.3,9.3953,34.6773,2,-999,9,-999,9,101.2,2,28.83,2,-999,9,29.39,2,0,2,2,2,-999,9,-999,9,-999,9,-999,9,-999,9,-999,9,   -999.0,  9,-999,9,-999,-999,9,-999,9,-999,9,-999,9,-999,-999,-999,9,402,9.3499,26.8088,-999,9
RF05-01,EQPAC,RF-2359,1,10,02-18564,2,20050218,1652,-0.0145,147.0662,4471,504.4,7.8194,34.592,2,-999,9,-999,9,107.1,2,35.65,2,-999,9,31.88,2,0,2,2.18,2,-999,9,-999,9,-999,9,-999,9,-999,9,-999,9,   -999.0,  9,-999,9,-999,-999,9,-999,9,-999,9,-999,9,-999,-999,-999,9,501,7.7683,26.9877,-999,9
RF05-01,EQPAC,RF-2359,1,9,02-18563,2,20050218,1649,-0.0145,147.0662,4471,605.3,6.7104,34.558,2,-999,9,-999,9,88.2,2,47.5,2,-999,9,35.9,2,0,2,2.51,2,-999,9,-999,9,-999,9,-999,9,-999,9,-999,9,   -999.0,  9,-999,9,-999,-999,9,-999,9,-999,9,-999,9,-999,-999,-999,9,601,6.6538,27.1178,-999,9
RF05-01,EQPAC,RF-2359,1,8,02-18562,2,20050218,1647,-0.0145,147.0662,4471,704.2,6.1478,34.5434,2,-999,9,-999,9,93.3,2,53.38,2,-999,9,36.19,2,0,2,2.53,2,-999,9,-999,9,-999,9,-999,9,-999,9,-999,9,   -999.0,  9,-999,9,-999,-999,9,-999,9,-999,9,-999,9,-999,-999,-999,9,699,6.0844,27.1811,-999,9
RF05-01,EQPAC,RF-2359,1,7,02-18561,2,20050218,1644,-0.0145,147.0662,4471,807,5.4643,34.5394,2,-999,9,-999,9,93.9,2,64.33,2,-999,9,37.22,2,0,2,2.62,2,-999,9,-999,9,-999,9,-999,9,-999,9,-999,9,   -999.0,  9,-999,9,-999,-999,9,-999,9,-999,9,-999,9,-999,-999,-999,9,801,5.3953,27.2635,-999,9
RF05-01,EQPAC,RF-2359,1,6,02-18560,2,20050218,1642,-0.0145,147.0662,4471,908.5,4.9996,34.5376,2,-999,9,-999,9,106.9,2,70.67,2,-999,9,36.57,2,0,2,2.57,2,-999,9,-999,9,-999,9,-999,9,-999,9,-999,9,   -999.0,  9,-999,9,-999,-999,9,-999,9,-999,9,-999,9,-999,-999,-999,9,902,4.9245,27.3173,-999,9
RF05-01,EQPAC,RF-2359,1,5,02-18559,2,20050218,1639,-0.0145,147.0662,4471,1009.1,4.4361,34.552,2,-999,9,-999,9,100,2,83.98,2,-999,9,37.62,2,0,2,2.66,2,-999,9,-999,9,-999,9,-999,9,-999,9,-999,9,   -999.0,  9,-999,9,-999,-999,9,-999,9,-999,9,-999,9,-999,-999,-999,9,1001,4.3562,27.392,-999,9
RF05-01,EQPAC,RF-2359,1,4,02-18558,2,20050218,1631,-0.0145,147.0662,4471,1261.7,3.7757,34.5725,2,-999,9,-999,9,97.5,2,98.98,2,-999,9,38.38,2,0,2,2.72,2,-999,9,-999,9,-999,9,-999,9,-999,9,-999,9,   -999.0,  9,-999,9,-999,-999,9,-999,9,-999,9,-999,9,-999,-999,-999,9,1251,3.6798,27.4787,-999,9
RF05-01,EQPAC,RF-2359,1,3,02-18557,2,20050218,1625,-0.0145,147.0662,4471,1514,3.0291,34.6003,2,-999,9,-999,9,102.2,2,115.65,2,-999,9,38.55,2,0,2,2.72,2,-999,9,-999,9,-999,9,-999,9,-999,9,-999,9,   -999.0,  9,-999,9,-999,-999,9,-999,9,-999,9,-999,9,-999,-999,-999,9,1500,2.9197,27.5733,-999,9
RF05-01,EQPAC,RF-2359,1,2,02-18556,2,20050218,1618,-0.0145,147.0662,4471,1766.7,2.4998,34.6228,2,-999,9,-999,9,114.9,2,126.07,2,-999,9,38.17,2,0,2,2.67,2,-999,9,-999,9,-999,9,-999,9,-999,9,-999,9,   -999.0,  9,-999,9,-999,-999,9,-999,9,-999,9,-999,9,-999,-999,-999,9,1750,2.3758,27.6389,-999,9
RF05-01,EQPAC,RF-2359,1,1,02-18555,2,20050218,1612,-0.0145,147.0662,4471,2018.7,2.1883,34.6393,2,-999,9,-999,9,118,2,132.91,2,-999,9,38.06,2,0,2,2.64,2,-999,9,-999,9,-999,9,-999,9,-999,9,-999,9,   -999.0,  9,-999,9,-999,-999,9,-999,9,-999,9,-999,9,-999,-999,-999,9,1998,2.0474,27.6789,-999,9
RF05-01,EQPAC,RF-2360,1,-9,-9,5,20050219,0646,-0.0287,144.9768,3819,0,29.5736,34.1709,2,-999,9,-999,9,196.3,2,0.83,2,-999,9,0.02,2,0,2,0.01,2,-999,9,-999,9,-999,9,-999,9,-999,9,-999,9,   -999.0,  9,-999,9,-999,-999,9,-999,9,0.08,2,0.03,2,-999,-999,-999,9,0,29.5734,21.2494,-999,9
RF05-01,EQPAC,RF-2360,1,21,02-18575,2,20050219,0700,-0.0287,144.9768,3819,10.2,29.5017,34.1747,2,-999,9,34.1761,2,196.8,2,0.81,2,-999,9,0,2,0,2,0.01,2,-999,9,-999,9,-999,9,-999,9,-999,9,-999,9,   -999.0,  9,-999,9,-999,-999,9,-999,9,0.1,2,0.04,2,-999,-999,-999,9,10,29.4992,21.2773,-999,9
RF05-01,EQPAC,RF-2360,1,20,02-18574,2,20050219,0659,-0.0287,144.9768,3819,25.6,29.3178,34.1947,2,-999,9,-999,9,197.1,2,0.79,2,-999,9,0,2,0,2,0.01,2,-999,9,-999,9,-999,9,-999,9,-999,9,-999,9,   -999.0,  9,-999,9,-999,-999,9,-999,9,0.14,2,0.05,2,-999,-999,-999,9,25,29.3116,21.3553,-999,9
RF05-01,EQPAC,RF-2360,1,19,02-18573,2,20050219,0659,-0.0287,144.9768,3819,50.4,28.811,34.3868,2,-999,9,-999,9,186.6,2,0.87,2,-999,9,1.07,2,0.09,2,0.11,2,-999,9,-999,9,-999,9,-999,9,-999,9,-999,9,   -999.0,  9,-999,9,-999,-999,9,-999,9,0.44,2,0.25,2,-999,-999,-999,9,50,28.7989,21.6707,-999,9
RF05-01,EQPAC,RF-2360,1,18,02-18572,2,20050219,0658,-0.0287,144.9768,3819,75,27.608,34.8811,2,-999,9,-999,9,162.3,2,1.95,2,-999,9,4.2,2,0.28,2,0.31,2,-999,9,-999,9,-999,9,-999,9,-999,9,-999,9,   -999.0,  9,-999,9,-999,-999,9,-999,9,0.25,2,0.39,2,-999,-999,-999,9,75,27.5905,22.4384,-999,9
RF05-01,EQPAC,RF-2360,1,17,02-18571,2,20050219,0656,-0.0287,144.9768,3819,101.5,23.2249,35.3151,2,-999,9,35.3167,2,133,2,3.95,2,-999,9,9.17,2,0.01,2,0.62,2,-999,9,-999,9,-999,9,-999,9,-999,9,-999,9,   -999.0,  9,-999,9,-999,-999,9,-999,9,0.04,2,0.18,2,-999,-999,-999,9,101,23.204,24.1135,-999,9
RF05-01,EQPAC,RF-2360,1,16,02-18570,2,20050219,0655,-0.0287,144.9768,3819,125.5,20.9348,35.2241,2,-999,9,-999,9,143.7,2,5.48,2,-999,9,9.7,2,0,2,0.65,2,-999,9,-999,9,-999,9,-999,9,-999,9,-999,9,   -999.0,  9,-999,9,-999,-999,9,-999,9,0.01,2,0.04,2,-999,-999,-999,9,125,20.9108,24.6888,-999,9
RF05-01,EQPAC,RF-2360,1,15,02-18569,2,20050219,0654,-0.0287,144.9768,3819,151.3,20.5544,35.4331,2,-999,9,-999,9,143.6,2,3.96,2,-999,9,9.51,2,0,2,0.67,2,-999,9,-999,9,-999,9,-999,9,-999,9,-999,9,   -999.0,  9,-999,9,-999,-999,9,-999,9,0,2,0.02,2,-999,-999,-999,9,150,20.5258,24.952,-999,9
RF05-01,EQPAC,RF-2360,1,14,02-18568,2,20050219,0652,-0.0287,144.9768,3819,203.4,17.5334,35.395,2,-999,9,35.3634,4,138.7,2,6,2,-999,9,13.03,2,0,2,0.92,2,-999,9,-999,9,-999,9,-999,9,-999,9,-999,9,   -999.0,  9,-999,9,-999,-999,9,-999,9,0,2,0.02,2,-999,-999,-999,9,202,17.499,25.6974,-999,9
RF05-01,EQPAC,RF-2360,1,13,02-18567,2,20050219,0651,-0.0287,144.9768,3819,253.9,13.4421,35.0505,2,-999,9,-999,9,147.8,2,10.45,2,-999,9,17.77,2,0,2,1.21,2,-999,9,-999,9,-999,9,-999,9,-999,9,-999,9,   -999.0,  9,-999,9,-999,-999,9,-999,9,-999,9,-999,9,-999,-999,-999,9,252,13.4063,26.3495,-999,9
RF05-01,EQPAC,RF-2360,1,12,02-18566,2,20050219,0649,-0.0287,144.9768,3819,303.2,10.8906,34.8031,2,-999,9,34.8055,2,138.9,2,18.8,2,-999,9,22.74,2,0,2,1.54,2,-999,9,-999,9,-999,9,-999,9,-999,9,-999,9,   -999.0,  9,-999,9,-999,-999,9,-999,9,-999,9,-999,9,-999,-999,-999,9,301,10.8534,26.6486,-999,9
RF05-01,EQPAC,RF-2360,1,11,02-18565,2,20050219,0646,-0.0287,144.9768,3819,404,9.0834,34.6584,2,-999,9,34.6601,2,101,2,30.53,2,-999,9,29.94,2,0,2,2.04,2,-999,9,-999,9,-999,9,-999,9,-999,9,-999,9,   -999.0,  9,-999,9,-999,-999,9,-999,9,-999,9,-999,9,-999,-999,-999,9,401,9.0389,26.8444,-999,9
RF05-01,EQPAC,RF-2360,1,10,02-18564,2,20050219,0642,-0.0287,144.9768,3819,505.4,7.7805,34.5915,2,-999,9,34.5834,4,118.1,2,33.91,2,-999,9,30.91,2,0,2,2.11,2,-999,9,-999,9,-999,9,-999,9,-999,9,-999,9,   -999.0,  9,-999,9,-999,-999,9,-999,9,-999,9,-999,9,-999,-999,-999,9,502,7.7295,26.993,-999,9
RF05-01,EQPAC,RF-2360,1,9,02-18563,2,20050219,0640,-0.0287,144.9768,3819,606.7,7.2501,34.5724,2,-999,9,34.5716,2,97.8,2,41.36,2,-999,9,34.06,2,0,2,2.36,2,-999,9,-999,9,-999,9,-999,9,-999,9,-999,9,   -999.0,  9,-999,9,-999,-999,9,-999,9,-999,9,-999,9,-999,-999,-999,9,602, 7.1909,27.0553,-999,9
RF05-01,EQPAC,RF-2360,1,8,02-18562,2,20050219,0637,-0.0287,144.9768,3819,705.5,6.3238,34.5509,2,-999,9,34.5505,2,82.8,2,53.48,2,-999,9,36.99,2,0,2,2.6,2,-999,9,-999,9,-999,9,-999,9,-999,9,-999,9,   -999.0,  9,-999,9,-999,-999,9,-999,9,-999,9,-999,9,-999,-999,-999,9,700,6.2594,27.1645,-999,9
RF05-01,EQPAC,RF-2360,1,7,02-18561,3,20050219,0634,-0.0287,144.9768,3819,807.5,5.8025,34.5408,2,-999,9,34.5406,2,98.8,2,59.16,2,-999,9,36.83,2,0,2,2.59,2,-999,9,-999,9,-999,9,-999,9,-999,9,-999,9,   -999.0,  9,-999,9,-999,-999,9,-999,9,-999,9,-999,9,-999,-999,-999,9,801,5.7314,27.2235,-999,9
RF05-01,EQPAC,RF-2360,1,6,02-18560,2,20050219,0631,-0.0287,144.9768,3819,907.9,5.0419,34.5381,2,-999,9,34.5384,2,103.7,2,71.21,2,-999,9,36.74,2,0,2,2.58,2,-999,9,-999,9,-999,9,-999,9,-999,9,-999,9,   -999.0,  9,-999,9,-999,-999,9,-999,9,-999,9,-999,9,-999,-999,-999,9,901,4.9665,27.3129,-999,9
RF05-01,EQPAC,RF-2360,1,5,02-18559,2,20050219,0628,-0.0287,144.9768,3819,1007.3,4.4874,34.5502,2,-999,9,34.5494,2,101,2,82.54,2,-999,9,37.47,2,0,2,2.66,2,-999,9,-999,9,-999,9,-999,9,-999,9,-999,9,   -999.0,  9,-999,9,-999,-999,9,-999,9,-999,9,-999,9,-999,-999,-999,9,999,4.4073,27.3851,-999,9
RF05-01,EQPAC,RF-2360,1,4,02-18558,2,20050219,0622,-0.0287,144.9768,3819,1261.9,3.7993,34.572,2,-999,9,34.5719,2,98.1,2,99.36,2,-999,9,38.4,2,0,2,2.73,2,-999,9,-999,9,-999,9,-999,9,-999,9,-999,9,   -999.0,  9,-999,9,-999,-999,9,-999,9,-999,9,-999,9,-999,-999,-999,9,1251,3.7031,27.476,-999,9
RF05-01,EQPAC,RF-2360,1,3,02-18557,2,20050219,0615,-0.0287,144.9768,3819,1515.2,3.0366,34.5999,2,-999,9,34.6057,4,104.1,2,115.74,2,-999,9,38.33,2,0,2,2.72,2,-999,9,-999,9,-999,9,-999,9,-999,9,-999,9,   -999.0,  9,-999,9,-999,-999,9,-999,9,-999,9,-999,9,-999,-999,-999,9,1501,2.927,27.5724,-999,9
RF05-01,EQPAC,RF-2360,1,2,02-18556,2,20050219,0609,-0.0287,144.9768,3819,1766.4,2.4386,34.6261,2,-999,9,34.6269,2,114.1,2,127.39,2,-999,9,37.94,2,0,2,2.67,2,-999,9,-999,9,-999,9,-999,9,-999,9,-999,9,   -999.0,  9,-999,9,-999,-999,9,-999,9,-999,9,-999,9,-999,-999,-999,9,1749,2.3154,27.6465,-999,9
RF05-01,EQPAC,RF-2360,1,1,02-18555,2,20050219,0604,-0.0287,144.9768,3819,2021.4,2.1797,34.6396,2,-999,9,34.6401,2,119.6,2,133.09,2,-999,9,37.74,2,0,2,2.65,2,-999,9,-999,9,-999,9,-999,9,-999,9,-999,9,   -999.0,  9,-999,9,-999,-999,9,-999,9,-999,9,-999,9,-999,-999,-999,9,2001,2.0387,27.6799,-999,9