BOTTLE,20131214MIRCJHATS
EXPOCODE,SECT_ID,STNNBR,CASTNO,SAMPNO,BTLNBR,BTLNBR_FLAG_W,DATE,TIME,LATITUDE,LONGITUDE,DEPTH,CTDPRS,CTDTMP,CTDSAL,CTDSAL_FLAG_W,CTDOXY,CTDOXY_FLAG_W,SALNTY,SALNTY_FLAG_W,OXYGEN,OXYGEN_FLAG_W,SILCAT,SILCAT_FLAG_W,NITRAT,NITRAT_FLAG_W,NO2+NO3,NO2+NO3_FLAG_W,NITRIT,NITRIT_FLAG_W,PHSPHT,PHSPHT_FLAG_W,CFC-11,CFC-11_FLAG_W,CFC-12,CFC-12_FLAG_W,DELC13,DELC13_FLAG_W,TCARBN,TCARBN_FLAG_W,ALKALI,ALKALI_FLAG_W,PH,PH_FLAG_W,PH_TMP,PH_SCALE,PH_NBS,PH_NBS_FLAG_W,C13ERR,TOTALP,TOTALP_FLAG_W,AMMONI,AMMONI_FLAG_W,CHLORA,CHLORA_FLAG_W,PPHYTN,PPHYTN_FLAG_W,REVPRS,REVTMP,DEPTH,DEPTH_FLAG,CTDDEP,THETA,SIGTHT,DOC,DOC_FLAG_W
,,,,,,,GMT,GMT,,,METERS,DBAR,ITS-90,PSS-78,,UMOL/KG,,PSS-78,,UMOL/KG,,UMOL/KG,,UMOL/KG,,UMOL/KG,,UMOL/KG, ,UMOL/KG,,PMOL/KG,,PMOL/KG,,/MILLE,,UMOL/KG,,UMOL/KG,,25_DEG_C,,DEG_C,,,,/MILLE,UMOL/KG,,UMOL/KG,,UG/L,,UG/L,,DBAR,ITS-90,METERS,,METERS,DEG_C,,UMOL/L
RF05-01,EQPAC,RF-2355,1,-9,-9,5,20050216,1851,-0.0057,154.9935,2490,0,29.8282,34.1274,2,-999,9,-999,9,195.5,2,1.25,2,-999,9,0.01,2,0,2,0.05,2,-999,9,-999,9,-999,9,1893.1,2,-999,9,-999,9,   -999.0,  9,-999,9,-999,-999,9,-999,9,0.04,2,0.02,2,-999,-999,-999,9,0,29.828,21.1306,-999,9
RF05-01,EQPAC,RF-2355,1,22,02-18576,2,20050216,1907,-0.0057,154.9935,2490,9.2,29.8422,34.1268,2,-999,9,34.1244,4,193.5,2,1.11,2,-999,9,0,2,0,2,0.05,2,-999,9,-999,9,-999,9,1894.6,2,-999,9,-999,9,   -999.0,  9,-999,9,-999,-999,9,-999,9,0.05,2,0.02,2,-999,-999,-999,9,9,29.8399,21.1261,-999,9
RF05-01,EQPAC,RF-2355,1,21,02-18575,2,20050216,1906,-0.0057,154.9935,2490,26.3,29.8197,34.1309,2,-999,9,-999,9,194.4,2,1.11,2,-999,9,0,2,0,2,0.04,2,-999,9,-999,9,-999,9,1894.7,2,-999,9,-999,9,   -999.0,  9,-999,9,-999,-999,9,-999,9,0.05,2,0.02,2,-999,-999,-999,9,26,29.8132,21.1382,-999,9
RF05-01,EQPAC,RF-2355,1,20,02-18574,2,20050216,1905,-0.0057,154.9935,2490,49.2,29.7911,34.1916,2,-999,9,-999,9,195,2,1.01,2,-999,9,0,2,0,2,0.06,2,-999,9,-999,9,-999,9,1900.2,2,-999,9,-999,9,   -999.0,  9,-999,9,-999,-999,9,-999,9,0.08,2,0.04,2,-999,-999,-999,9,49,29.779,21.1954,-999,9
RF05-01,EQPAC,RF-2355,1,19,02-18573,2,20050216,1904,-0.0057,154.9935,2490,74.2,29.7219,34.4622,2,-999,9,-999,9,186,2,1.49,2,-999,9,1.3,2,0,2,0.17,2,-999,9,-999,9,-999,9,1938.8,2,-999,9,-999,9,   -999.0,  9,-999,9,-999,-999,9,-999,9,0.16,2,0.17,2,-999,-999,-999,9,74,29.7036,21.4237,-999,9
RF05-01,EQPAC,RF-2355,1,18,02-18572,2,20050216,1902,-0.0057,154.9935,2490,102,22.2924,35.3493,2,-999,9,35.3483,2,131.1,2,4.6,2,-999,9,10.02,2,0.02,2,0.69,2,-999,9,-999,9,-999,9,2079.5,2,-999,9,-999,9,   -999.0,  9,-999,9,-999,-999,9,-999,9,0.17,2,0.34,2,-999,-999,-999,9,101,22.272,24.4066,-999,9
RF05-01,EQPAC,RF-2355,1,17,02-18571,2,20050216,1901,-0.0057,154.9935,2490,127.3,22.0278,35.3748,2,-999,9,-999,9,131.6,2,4.46,2,-999,9,10.15,2,0.01,2,0.71,2,-999,9,-999,9,-999,9,2085.7,2,-999,9,-999,9,   -999.0,  9,-999,9,-999,-999,9,-999,9,0.08,2,0.21,2,-999,-999,-999,9,127,22.0026,24.502,-999,9
RF05-01,EQPAC,RF-2355,1,16,02-18570,2,20050216,1900,-0.0057,154.9935,2490,151.4,20.3484,35.3427,2,-999,9,-999,9,137.3,2,5.83,2,-999,9,10.87,2,0,2,0.76,2,-999,9,-999,9,-999,9,2097.2,2,-999,9,-999,9,   -999.0,  9,-999,9,-999,-999,9,-999,9,0.01,2,0.04,2,-999,-999,-999,9,151,20.32,24.9382,-999,9
RF05-01,EQPAC,RF-2355,1,15,02-18569,2,20050216,1859,-0.0057,154.9935,2490,200.7,15.0343,35.0793,2,-999,9,35.079,2,142.6,2,11.33,2,-999,9,15.87,2,0,2,1.09,2,-999,9,-999,9,-999,9,2130.9,2,-999,9,-999,9,   -999.0,  9,-999,9,-999,-999,9,-999,9,0,2,0.01,2,-999,-999,-999,9,199,15.0038,26.0323,-999,9
RF05-01,EQPAC,RF-2355,1,14,02-18568,2,20050216,1857,-0.0057,154.9935,2490,252.5,12.579,34.9094,2,-999,9,-999,9,140.3,2,15.85,2,-999,9,19.71,2,0,2,1.35,2,-999,9,-999,9,-999,9,2149.6,2,-999,9,-999,9,   -999.0,  9,-999,9,-999,-999,9,-999,9,-999,9,-999,9,-999,-999,-999,9,251,12.545,26.4131,-999,9
RF05-01,EQPAC,RF-2355,1,13,02-18567,2,20050216,1855,-0.0057,154.9935,2490,302.1,12.2269,34.8808,2,-999,9,34.8809,2,132.9,2,17.42,2,-999,9,21.14,2,0,2,1.44,2,-999,9,-999,9,-999,9,2160.6,2,-999,9,-999,9,   -999.0,  9,-999,9,-999,-999,9,-999,9,-999,9,-999,9,-999,-999,-999,9,300,12.1869,26.4606,-999,9
RF05-01,EQPAC,RF-2355,1,12,02-18566,2,20050216,1853,-0.0057,154.9935,2490,403,9.9214,34.7099,2,-999,9,34.7063,2,97.8,2,27.27,2,-999,9,28.87,2,0,2,1.96,2,-999,9,-999,9,-999,9,2205.8,2,-999,9,-999,9,   -999.0,  9,-999,9,-999,-999,9,-999,9,-999,9,-999,9,-999,-999,-999,9,400,9.8745,26.7468,-999,9
RF05-01,EQPAC,RF-2355,1,11,02-18565,2,20050216,1850,-0.0057,154.9935,2490,502.9,8.3206,34.6108,2,-999,9,34.6095,2,110.5,2,33.53,2,-999,9,30.58,2,0,2,2.08,2,-999,9,-999,9,-999,9,-999,9,-999,9,-999,9,   -999.0,  9,-999,9,-999,-999,9,-999,9,-999,9,-999,9,-999,-999,-999,9,500,8.2678,26.9278,-999,9
RF05-01,EQPAC,RF-2355,1,10,02-18564,2,20050216,1848,-0.0057,154.9935,2490,603.8,7.3438,34.5781,2,-999,9,34.5783,2,86.1,2,41.99,2,-999,9,34.85,2,0,2,2.42,2,-999,9,-999,9,-999,9,2237.1,2,-999,9,-999,9,   -999.0,  9,-999,9,-999,-999,9,-999,9,-999,9,-999,9,-999,-999,-999,9,600,7.2844,27.0466,-999,9
RF05-01,EQPAC,RF-2355,1,9,02-18563,2,20050216,1845,-0.0057,154.9935,2490,705,6.4686,34.5564,2,-999,9,34.5562,2,76.7,2,52.49,2,-999,9,37.34,2,0,2,2.63,2,-999,9,-999,9,-999,9,-999,9,-999,9,-999,9,   -999.0,  9,-999,9,-999,-999,9,-999,9,-999,9,-999,9,-999,-999,-999,9,700,6.4034,27.1499,-999,9
RF05-01,EQPAC,RF-2355,1,8,02-18562,2,20050216,1843,-0.0057,154.9935,2490,805.1,5.7175,34.5429,2,-999,9,-999,9,85.5,2,60.55,2,-999,9,37.52,2,0,2,2.65,2,-999,9,-999,9,-999,9,2268.5,2,-999,9,-999,9,   -999.0,  9,-999,9,-999,-999,9,-999,9,-999,9,-999,9,-999,-999,-999,9,799,5.6471,27.2357,-999,9
RF05-01,EQPAC,RF-2355,1,7,02-18561,2,20050216,1840,-0.0057,154.9935,2490,907.6,5.0869,34.5416,2,-999,9,34.541,2,95.4,2,71.75,2,-999,9,37.56,2,0,2,2.65,2,-999,9,-999,9,-999,9,-999,9,-999,9,-999,9,   -999.0,  9,-999,9,-999,-999,9,-999,9,-999,9,-999,9,-999,-999,-999,9,901,5.0112,27.3105,-999,9
RF05-01,EQPAC,RF-2355,1,6,02-18560,2,20050216,1837,-0.0057,154.9935,2490,1007.2,4.6053,34.5498,2,-999,9,34.5492,2,97.8,2,81.85,2,-999,9,37.65,2,0,2,2.67,2,-999,9,-999,9,-999,9,2287.1,2,-999,9,-999,9,   -999.0,  9,-999,9,-999,-999,9,-999,9,-999,9,-999,9,-999,-999,-999,9,999,4.5243,27.372,-999,9
RF05-01,EQPAC,RF-2355,1,5,02-18559,2,20050216,1830,-0.0057,154.9935,2490,1261.1,3.7013,34.5754,2,-999,9,34.5752,2,96.2,2,101.25,2,-999,9,38.59,2,0,2,2.75,2,-999,9,-999,9,-999,9,-999,9,-999,9,-999,9,   -999.0,  9,-999,9,-999,-999,9,-999,9,-999,9,-999,9,-999,-999,-999,9,1250, 3.6062,27.4884,-999,9
RF05-01,EQPAC,RF-2355,1,4,02-18558,2,20050216,1824,-0.0057,154.9935,2490,1513.3,3.0713,34.5982,2,-999,9,34.598,2,104.9,2,114.28,2,-999,9,38.48,2,0,2,2.73,2,-999,9,-999,9,-999,9,-999,9,-999,9,-999,9,   -999.0,  9,-999,9,-999,-999,9,-999,9,-999,9,-999,9,-999,-999,-999,9,1500,2.9615,27.5679,-999,9
RF05-01,EQPAC,RF-2355,1,3,02-18557,2,20050216,1818,-0.0057,154.9935,2490,1767.6,2.4894,34.6237,2,-999,9,34.6239,2,113.9,2,126.11,2,-999,9,37.96,2,0,2,2.69,2,-999,9,-999,9,-999,9,-999,9,-999,9,-999,9,   -999.0,  9,-999,9,-999,-999,9,-999,9,-999,9,-999,9,-999,-999,-999,9,1750,2.3654,27.6404,-999,9
RF05-01,EQPAC,RF-2355,1,2,02-18556,2,20050216,1811,-0.0057,154.9935,2490,2022.2,2.1546,34.641,2,-999,9,34.641,2,121.2,2,133.27,2,-999,9,37.76,2,0,2,2.65,2,-999,9,-999,9,-999,9,-999,9,-999,9,-999,9,   -999.0,  9,-999,9,-999,-999,9,-999,9,-999,9,-999,9,-999,-999,-999,9,2001,2.0139,27.683,-999,9
RF05-01,EQPAC,RF-2355,1,1,02-18555,2,20050216,1800,-0.0057,154.9935,2490,2470.6,1.8143,34.6586,2,-999,9,34.6577,2,132.1,2,139.03,2,-999,9,37.19,2,0,2,2.58,2,-999,9,-999,9,-999,9,-999,9,-999,9,-999,9,   -999.0,  9,-999,9,-999,-999,9,-999,9,-999,9,-999,9,-999,-999,-999,9,2443,1.6401,27.7259,-999,9
RF05-01,EQPAC,RF-2356,1,-9,-9,5,20050217,0652,-0.0235,152.9937,4188,0,29.8539,34.091,2,-999,9,-999,9,194.1,2,1.14,2,-999,9,0.01,2,0,2,0.04,2,-999,9,-999,9,-999,9,-999,9,-999,9,-999,9,   -999.0,  9,-999,9,-999,-999,9,-999,9,0.05,2,0.02,2,-999,-999,-999,9,0,29.8537,21.0946,-999,9
RF05-01,EQPAC,RF-2356,1,24,02-18578,2,20050217,0700,-0.0235,152.9937,4188,11,29.875,34.0908,2,-999,9,-999,9,195.8,2,1.14,2,-999,9,0,2,0,2,0.05,2,-999,9,-999,9,-999,9,-999,9,-999,9,-999,9,   -999.0,  9,-999,9,-999,-999,9,-999,9,0.06,2,0.02,2,-999,-999,-999,9,11,29.8723,21.0882,-999,9
RF05-01,EQPAC,RF-2356,1,23,02-18577,2,20050217,0659,-0.0235,152.9937,4188,25.6,29.7353,34.0769,2,-999,9,-999,9,196.5,2,1.16,2,-999,9,0,2,0,2,0.04,2,-999,9,-999,9,-999,9,-999,9,-999,9,-999,9,   -999.0,  9,-999,9,-999,-999,9,-999,9,0.06,2,0.03,2,-999,-999,-999,9,25,29.729,21.1263,-999,9
RF05-01,EQPAC,RF-2356,1,22,02-18576,2,20050217,0659,-0.0235,152.9937,4188,50.2,29.6936,34.1116,2,-999,9,-999,9,195.8,2,1.07,2,-999,9,0,2,0,2,0.04,2,-999,9,-999,9,-999,9,-999,9,-999,9,-999,9,   -999.0,  9,-999,9,-999,-999,9,-999,9,0.09,2,0.04,2,-999,-999,-999,9,50,29.6813,21.1685,-999,9
RF05-01,EQPAC,RF-2356,1,21,02-18575,2,20050217,0657,-0.0235,152.9937,4188,75.5,29.8635,34.3998,2,-999,9,-999,9,188.3,2,1.17,2,-999,9,0.7,2,0,2,0.13,2,-999,9,-999,9,-999,9,-999,9,-999,9,-999,9,   -999.0,  9,-999,9,-999,-999,9,-999,9,0.16,2,0.11,2,-999,-999,-999,9,75,29.8449,21.3291,-999,9
RF05-01,EQPAC,RF-2356,1,20,02-18574,2,20050217,0656,-0.0235,152.9937,4188,100.8,24.4848,35.2903,2,-999,9,-999,9,137.3,2,3.92,2,-999,9,8.62,2,0.12,2,0.62,2,-999,9,-999,9,-999,9,-999,9,-999,9,-999,9,   -999.0,  9,-999,9,-999,-999,9,-999,9,0.26,2,0.48,2,-999,-999,-999,9,100,24.4633,23.7229,-999,9
RF05-01,EQPAC,RF-2356,1,19,02-18573,2,20050217,0655,-0.0235,152.9937,4188,125.2,22.7987,35.3419,2,-999,9,-999,9,131.3,2,4.27,2,-999,9,10.07,2,0.03,2,0.7,2,-999,9,-999,9,-999,9,-999,9,-999,9,-999,9,   -999.0,  9,-999,9,-999,-999,9,-999,9,0.11,2,0.32,2,-999,-999,-999,9,125,22.7733,24.2582,-999,9
RF05-01,EQPAC,RF-2356,1,18,02-18572,2,20050217,0654,-0.0235,152.9937,4188,152.1,21.1706,35.4601,2,-999,9,-999,9,138.7,2,4.99,2,-999,9,10.54,2,0,2,0.76,2,-999,9,-999,9,-999,9,-999,9,-999,9,-999,9,   -999.0,  9,-999,9,-999,-999,9,-999,9,0.02,2,0.04,2,-999,-999,-999,9,151,21.1413,24.8056,-999,9
RF05-01,EQPAC,RF-2356,1,17,02-18571,2,20050217,0653,-0.0235,152.9937,4188,200.8,17.1169,35.3032,2,-999,9,-999,9,145.9,2,7,2,-999,9,13.04,2,0,2,0.93,2,-999,9,-999,9,-999,9,-999,9,-999,9,-999,9,   -999.0,  9,-999,9,-999,-999,9,-999,9,0,2,0.02,2,-999,-999,-999,9,200,17.0835,25.7271,-999,9
RF05-01,EQPAC,RF-2356,1,16,02-18570,2,20050217,0651,-0.0235,152.9937,4188,250,13.8387,35.0337,2,-999,9,-999,9,146.5,2,11.7,2,-999,9,17.79,2,0,2,1.23,2,-999,9,-999,9,-999,9,-999,9,-999,9,-999,9,   -999.0,  9,-999,9,-999,-999,9,-999,9,-999,9,-999,9,-999,-999,-999,9,248,13.8028,26.2545,-999,9
RF05-01,EQPAC,RF-2356,1,15,02-18569,2,20050217,0650,-0.0235,152.9937,4188,301.4,11.9646,34.8582,2,-999,9,-999,9,123.7,2,18.49,2,-999,9,22.66,2,0,2,1.57,2,-999,9,-999,9,-999,9,-999,9,-999,9,-999,9,   -999.0,  9,-999,9,-999,-999,9,-999,9,-999,9,-999,9,-999,-999,-999,9,300,11.9252,26.4932,-999,9
RF05-01,EQPAC,RF-2356,1,14,02-18568,2,20050217,0647,-0.0235,152.9937,4188,402.2,9.2096,34.6656,2,-999,9,-999,9,96.1,2,30.1,2,-999,9,30.6,2,0,2,2.11,2,-999,9,-999,9,-999,9,-999,9,-999,9,-999,9,   -999.0,  9,-999,9,-999,-999,9,-999,9,-999,9,-999,9,-999,-999,-999,9,400, 9.1650,26.8297,-999,9
RF05-01,EQPAC,RF-2356,1,13,02-18567,2,20050217,0645,-0.0235,152.9937,4188,503.5,7.8468,34.5955,2,-999,9,-999,9,110.5,2,33.99,2,-999,9,31.6,2,0,2,2.19,2,-999,9,-999,9,-999,9,-999,9,-999,9,-999,9,   -999.0,  9,-999,9,-999,-999,9,-999,9,-999,9,-999,9,-999,-999,-999,9,500,7.7957,26.9865,-999,9
RF05-01,EQPAC,RF-2356,1,12,02-18566,2,20050217,0642,-0.0235,152.9937,4188,604,6.8307,34.5629,2,-999,9,-999,9,83,2,47.48,2,-999,9,36.46,2,0,2,2.58,2,-999,9,-999,9,-999,9,-999,9,-999,9,-999,9,   -999.0,  9,-999,9,-999,-999,9,-999,9,-999,9,-999,9,-999,-999,-999,9,600,6.7736,27.1055,-999,9
RF05-01,EQPAC,RF-2356,1,11,02-18565,2,20050217,0639,-0.0235,152.9937,4188,705.3,5.9546,34.5368,2,-999,9,-999,9,99.9,2,54.57,2,-999,9,36.25,2,0,2,2.57,2,-999,9,-999,9,-999,9,-999,9,-999,9,-999,9,   -999.0,  9,-999,9,-999,-999,9,-999,9,-999,9,-999,9,-999,-999,-999,9,700,5.8922,27.2003,-999,9
RF05-01,EQPAC,RF-2356,1,10,02-18564,2,20050217,0636,-0.0235,152.9937,4188,806.2,5.3696,34.5284,2,-999,9,-999,9,112.5,2,60.82,2,-999,9,35.77,2,0,2,2.55,2,-999,9,-999,9,-999,9,-999,9,-999,9,-999,9,   -999.0,  9,-999,9,-999,-999,9,-999,9,-999,9,-999,9,-999,-999,-999,9,800, 5.3013,27.266,-999,9
RF05-01,EQPAC,RF-2356,1,9,02-18563,2,20050217,0631,-0.0235,152.9937,4188,1008.2,4.5475,34.5471,2,-999,9,-999,9,103.1,2,80.39,2,-999,9,37.42,2,0,2,2.69,2,-999,9,-999,9,-999,9,-999,9,-999,9,-999,9,   -999.0,  9,-999,9,-999,-999,9,-999,9,-999,9,-999,9,-999,-999,-999,9,1000,4.4668,27.3761,-999,9
RF05-01,EQPAC,RF-2356,1,8,02-18562,2,20050217,0623,-0.0235,152.9937,4188,1261.4,3.71,34.5729,2,-999,9,-999,9,103,2,99.02,2,-999,9,38.09,2,0,2,2.75,2,-999,9,-999,9,-999,9,-999,9,-999,9,-999,9,   -999.0,  9,-999,9,-999,-999,9,-999,9,-999,9,-999,9,-999,-999,-999,9,1251, 3.6148,27.4855,-999,9
RF05-01,EQPAC,RF-2356,1,7,02-18561,2,20050217,0618,-0.0235,152.9937,4188,1514.4,3.0684,34.599,2,-999,9,-999,9,101.8,2,114.64,2,-999,9,38.63,2,0,2,2.79,2,-999,9,-999,9,-999,9,-999,9,-999,9,-999,9,   -999.0,  9,-999,9,-999,-999,9,-999,9,-999,9,-999,9,-999,-999,-999,9,1501,2.9585,27.5688,-999,9
RF05-01,EQPAC,RF-2356,1,6,02-18560,2,20050217,0610,-0.0235,152.9937,4188,1769.2,2.5479,34.621,2,-999,9,-999,9,113.5,2,124.08,2,-999,9,38,2,0,2,2.72,2,-999,9,-999,9,-999,9,-999,9,-999,9,-999,9,   -999.0,  9,-999,9,-999,-999,9,-999,9,-999,9,-999,9,-999,-999,-999,9,1752,2.423,27.6334,-999,9
RF05-01,EQPAC,RF-2356,1,5,02-18559,2,20050217,0602,-0.0235,152.9937,4188,2021.1,2.2412,34.6371,2,-999,9,-999,9,118.3,2,130.13,2,-999,9,37.73,2,0,2,2.7,2,-999,9,-999,9,-999,9,-999,9,-999,9,-999,9,   -999.0,  9,-999,9,-999,-999,9,-999,9,-999,9,-999,9,-999,-999,-999,9,2000, 2.0993,27.673,-999,9
RF05-01,EQPAC,RF-2356,1,4,02-18558,2,20050217,0547,-0.0235,152.9937,4188,2529.4,1.8032,34.6591,2,-999,9,-999,9,130.9,2,138.66,2,-999,9,37.16,2,0,2,2.63,2,-999,9,-999,9,-999,9,-999,9,-999,9,-999,9,   -999.0,  9,-999,9,-999,-999,9,-999,9,-999,9,-999,9,-999,-999,-999,9,2500,1.6239,27.7275,-999,9
RF05-01,EQPAC,RF-2356,1,3,02-18557,2,20050217,0531,-0.0235,152.9937,4188,3038.1,1.6128,34.672,2,-999,9,-999,9,143.9,2,139.71,2,-999,9,36.51,2,0,2,2.57,2,-999,9,-999,9,-999,9,-999,9,-999,9,-999,9,   -999.0,  9,-999,9,-999,-999,9,-999,9,-999,9,-999,9,-999,-999,-999,9,3000, 1.3899,27.7549,-999,9
RF05-01,EQPAC,RF-2356,1,2,02-18556,2,20050217,0502,-0.0235,152.9937,4188,4060.1,1.5284,34.6847,2,-999,9,-999,9,154.7,2,138.53,2,-999,9,35.73,2,0,2,2.51,2,-999,9,-999,9,-999,9,-999,9,-999,9,-999,9,   -999.0,  9,-999,9,-999,-999,9,-999,9,-999,9,-999,9,-999,-999,-999,9,4000,1.2021,27.7783,-999,9
RF05-01,EQPAC,RF-2356,1,1,02-18555,2,20050217,0459,-0.0235,152.9937,4188,4206,1.5251,34.6862,2,-999,9,-999,9,155.5,2,138.41,2,-999,9,35.74,2,0,2,2.51,2,-999,9,-999,9,-999,9,-999,9,-999,9,-999,9,   -999.0,  9,-999,9,-999,-999,9,-999,9,-999,9,-999,9,-999,-999,-999,9,4142, 1.1828,27.7808,-999,9