BOTTLE,20131214MIRCJHATS
EXPOCODE,SECT_ID,STNNBR,CASTNO,SAMPNO,BTLNBR,BTLNBR_FLAG_W,DATE,TIME,LATITUDE,LONGITUDE,DEPTH,CTDPRS,CTDTMP,CTDSAL,CTDSAL_FLAG_W,CTDOXY,CTDOXY_FLAG_W,SALNTY,SALNTY_FLAG_W,OXYGEN,OXYGEN_FLAG_W,SILCAT,SILCAT_FLAG_W,NITRAT,NITRAT_FLAG_W,NO2+NO3,NO2+NO3_FLAG_W,NITRIT,NITRIT_FLAG_W,PHSPHT,PHSPHT_FLAG_W,CFC-11,CFC-11_FLAG_W,CFC-12,CFC-12_FLAG_W,DELC13,DELC13_FLAG_W,TCARBN,TCARBN_FLAG_W,ALKALI,ALKALI_FLAG_W,PH,PH_FLAG_W,PH_TMP,PH_SCALE,PH_NBS,PH_NBS_FLAG_W,C13ERR,TOTALP,TOTALP_FLAG_W,AMMONI,AMMONI_FLAG_W,CHLORA,CHLORA_FLAG_W,PPHYTN,PPHYTN_FLAG_W,REVPRS,REVTMP,DEPTH,DEPTH_FLAG,CTDDEP,THETA,SIGTHT,DOC,DOC_FLAG_W
,,,,,,,GMT,GMT,,,METERS,DBAR,ITS-90,PSS-78,,UMOL/KG,,PSS-78,,UMOL/KG,,UMOL/KG,,UMOL/KG,,UMOL/KG,,UMOL/KG, ,UMOL/KG,,PMOL/KG,,PMOL/KG,,/MILLE,,UMOL/KG,,UMOL/KG,,25_DEG_C,,DEG_C,,,,/MILLE,UMOL/KG,,UMOL/KG,,UG/L,,UG/L,,DBAR,ITS-90,METERS,,METERS,DEG_C,,UMOL/L
RF05-01,NONE,RF-2312,1,-9,-9,5,20050120,0247,27.1222,144.6843,5094,0,23.595,35.0175,2,-999,9,-999,9,211.5,2,1.44,2,-999,9,0,2,0,2,0,2,-999,9,-999,9,-999,9,-999,9,-999,9,-999,9,   -999.0,  9,-999,9,-999,-999,9,-999,9,0.12,2,0.04,2,-999,-999,-999,9,0,23.5948,23.774,-999,9
RF05-01,NONE,RF-2312,1,21,02-18575,2,20050120,0306,27.1222,144.6843,5094,9.8,23.6028,35.0181,2,-999,9,35.0198,2,213.3,2,1.42,2,-999,9,0,2,0,2,0,2,-999,9,-999,9,-999,9,-999,9,-999,9,-999,9,   -999.0,  9,-999,9,-999,-999,9,-999,9,0.13,2,0.04,2,-999,-999,-999,9,10,23.6008,23.7727,-999,9
RF05-01,NONE,RF-2312,1,20,02-18574,2,20050120,0305,27.1222,144.6843,5094,25.5,23.6012,35.0193,2,-999,9,-999,9,212.2,2,1.35,2,-999,9,0,2,0,2,0,2,-999,9,-999,9,-999,9,-999,9,-999,9,-999,9,   -999.0,  9,-999,9,-999,-999,9,-999,9,0.12,2,0.04,2,-999,-999,-999,9,25,23.5959,23.775,-999,9
RF05-01,NONE,RF-2312,1,19,02-18573,2,20050120,0303,27.1222,144.6843,5094,50.1,23.5928,35.0159,2,-999,9,-999,9,209.9,2,1.41,2,-999,9,0,2,0,2,0,2,-999,9,-999,9,-999,9,-999,9,-999,9,-999,9,   -999.0,  9,-999,9,-999,-999,9,-999,9,0.13,2,0.04,2,-999,-999,-999,9,50,23.5824,23.7765,-999,9
RF05-01,NONE,RF-2312,1,18,02-18572,2,20050120,0302,27.1222,144.6843,5094,74.6,23.5352,35.0072,2,-999,9,-999,9,211.9,2,1.45,2,-999,9,0,2,0,2,0,2,-999,9,-999,9,-999,9,-999,9,-999,9,-999,9,   -999.0,  9,-999,9,-999,-999,9,-999,9,0.16,2,0.06,2,-999,-999,-999,9,74,23.5197,23.7882,-999,9
RF05-01,NONE,RF-2312,1,17,02-18571,2,20050120,0301,27.1222,144.6843,5094,99.8,22.527,35.0259,2,-999,9,35.0236,2,214.2,2,1.76,2,-999,9,0.02,2,0.01,2,0,2,-999,9,-999,9,-999,9,-999,9,-999,9,-999,9,   -999.0,  9,-999,9,-999,-999,9,-999,9,0.26,2,0.32,2,-999,-999,-999,9,99,22.5069,24.0944,-999,9
RF05-01,NONE,RF-2312,1,16,02-18570,2,20050120,0300,27.1222,144.6843,5094,126.2,20.8148,35.0059,2,-999,9,-999,9,204.9,2,2.15,2,-999,9,0.63,2,0.07,2,0.03,2,-999,9,-999,9,-999,9,-999,9,-999,9,-999,9,   -999.0,  9,-999,9,-999,-999,9,-999,9,0.11,2,0.23,2,-999,-999,-999,9,125,20.7908,24.5551,-999,9
RF05-01,NONE,RF-2312,1,15,02-18569,2,20050120,0259,27.1222,144.6843,5094,150.3,19.401,34.9125,2,-999,9,-999,9,192.8,2,2.96,2,-999,9,2.81,2,0,2,0.13,2,-999,9,-999,9,-999,9,-999,9,-999,9,-999,9,   -999.0,  9,-999,9,-999,-999,9,-999,9,0.03,2,0.06,2,-999,-999,-999,9,149,19.3738,24.8583,-999,9
RF05-01,NONE,RF-2312,1,14,02-18568,2,20050120,0257,27.1222,144.6843,5094,200.8,17.742,34.8056,2,-999,9,34.8091,2,204.9,2,3.68,2,-999,9,3.63,2,0,2,0.18,2,-999,9,-999,9,-999,9,-999,9,-999,9,-999,9,   -999.0,  9,-999,9,-999,-999,9,-999,9,0.02,2,0.04,2,-999,-999,-999,9,199,17.7079,25.1947,-999,9
RF05-01,NONE,RF-2312,1,13,02-18567,2,20050120,0255,27.1222,144.6843,5094,252.1,17.116,34.7746,2,-999,9,-999,9,210.2,2,4.19,2,-999,9,4.45,2,0,2,0.21,2,-999,9,-999,9,-999,9,-999,9,-999,9,-999,9,   -999.0,  9,-999,9,-999,-999,9,-999,9,-999,9,-999,9,-999,-999,-999,9,250,17.0742,25.3236,-999,9
RF05-01,NONE,RF-2312,1,12,02-18566,2,20050120,0252,27.1222,144.6843,5094,303.5,16.5287,34.7253,2,-999,9,34.7276,2,208.2,2,5.43,2,-999,9,5.69,2,0,2,0.28,2,-999,9,-999,9,-999,9,-999,9,-999,9,-999,9,   -999.0,  9,-999,9,-999,-999,9,-999,9,-999,9,-999,9,-999,-999,-999,9,301,16.4795,25.4257,-999,9
RF05-01,NONE,RF-2312,1,11,02-18565,2,20050120,0249,27.1222,144.6843,5094,402.9,14.3243,34.5414,2,-999,9,34.5486,2,194.3,2,11.35,2,-999,9,10.29,2,0,2,0.59,2,-999,9,-999,9,-999,9,-999,9,-999,9,-999,9,   -999.0,  9,-999,9,-999,-999,9,-999,9,-999,9,-999,9,-999,-999,-999,9,400,14.265,25.7768,-999,9
RF05-01,NONE,RF-2312,1,10,02-18564,2,20050120,0246,27.1222,144.6843,5094,505.4,10.9609,34.3015,2,-999,9,34.308,2,183.9,2,23.82,2,-999,9,16.87,2,0,2,1.08,2,-999,9,-999,9,-999,9,-999,9,-999,9,-999,9,   -999.0,  9,-999,9,-999,-999,9,-999,9,-999,9,-999,9,-999,-999,-999,9,501,10.8983,26.2498,-999,9
RF05-01,NONE,RF-2312,1,9,02-18563,2,20050120,0242,27.1222,144.6843,5094,606.3,8.366,34.1287,2,-999,9,34.1314,2,164.4,2,39.78,2,-999,9,23.18,2,0,2,1.59,2,-999,9,-999,9,-999,9,-999,9,-999,9,-999,9,   -999.0,  9,-999,9,-999,-999,9,-999,9,-999,9,-999,9,-999,-999,-999,9,601,8.3022,26.5442,-999,9
RF05-01,NONE,RF-2312,1,8,02-18562,2,20050120,0239,27.1222,144.6843,5094,707.6,6.0719,34.0474,2,-999,9,34.0493,2,124.7,2,63.26,2,-999,9,30.65,2,0,2,2.18,2,-999,9,-999,9,-999,9,-999,9,-999,9,-999,9,   -999.0,  9,-999,9,-999,-999,9,-999,9,-999,9,-999,9,-999,-999,-999,9,702,6.0092,26.7987,-999,9
RF05-01,NONE,RF-2312,1,7,02-18561,2,20050120,0236,27.1222,144.6843,5094,807.5,4.9826,34.1137,2,-999,9,34.1201,2,82.6,2,85.08,2,-999,9,36.25,2,0,2,2.62,2,-999,9,-999,9,-999,9,-999,9,-999,9,-999,9,   -999.0,  9,-999,9,-999,-999,9,-999,9,-999,9,-999,9,-999,-999,-999,9,801,4.9171,26.982,-999,9
RF05-01,NONE,RF-2312,1,6,02-18560,2,20050120,0230,27.1222,144.6843,5094,909.6,4.2041,34.2255,2,-999,9,34.2258,2,52.6,2,105.22,2,-999,9,39.45,2,0,2,2.88,2,-999,9,-999,9,-999,9,-999,9,-999,9,-999,9,   -999.0,  9,-999,9,-999,-999,9,-999,9,-999,9,-999,9,-999,-999,-999,9,902,4.1349,27.1561,-999,9
RF05-01,NONE,RF-2312,1,5,02-18559,2,20050120,0226,27.1222,144.6843,5094,1009.2,3.8085,34.3155,2,-999,9,34.3173,2,43.9,2,116.1,2,-999,9,40.81,2,0,2,2.99,2,-999,9,-999,9,-999,9,-999,9,-999,9,-999,9,   -999.0,  9,-999,9,-999,-999,9,-999,9,-999,9,-999,9,-999,-999,-999,9,1000,3.7339,27.2686,-999,9
RF05-01,NONE,RF-2312,1,4,02-18558,2,20050120,0219,27.1222,144.6843,5094,1262.7,2.9988,34.4398,2,-999,9,34.442,2,41.4,2,136.91,2,-999,9,41.73,2,0,2,3.07,2,-999,9,-999,9,-999,9,-999,9,-999,9,-999,9,   -999.0,  9,-999,9,-999,-999,9,-999,9,-999,9,-999,9,-999,-999,-999,9,1251,2.9106,27.446,-999,9
RF05-01,NONE,RF-2312,1,3,02-18557,2,20050120,0210,27.1222,144.6843,5094,1516.1,2.497,34.513,2,-999,9,34.5149,2,53.1,2,147.66,2,-999,9,41.52,2,0,2,3.03,2,-999,9,-999,9,-999,9,-999,9,-999,9,-999,9,   -999.0,  9,-999,9,-999,-999,9,-999,9,-999,9,-999,9,-999,-999,-999,9,1501,2.3938,27.5494,-999,9
RF05-01,NONE,RF-2312,1,2,02-18556,2,20050120,0200,27.1222,144.6843,5094,1768.7,2.1057,34.5753,2,-999,9,34.576,2,73.5,2,152.77,2,-999,9,40.34,2,0,2,2.91,2,-999,9,-999,9,-999,9,-999,9,-999,9,-999,9,   -999.0,  9,-999,9,-999,-999,9,-999,9,-999,9,-999,9,-999,-999,-999,9,1750,1.987,27.6324,-999,9
RF05-01,NONE,RF-2312,1,1,02-18555,2,20050120,0154,27.1222,144.6843,5094,2022.6,1.8907,34.6108,2,-999,9,34.6137,2,97.6,2,150.93,2,-999,9,39.22,2,0,2,2.8,2,-999,9,-999,9,-999,9,-999,9,-999,9,-999,9,   -999.0,  9,-999,9,-999,-999,9,-999,9,-999,9,-999,9,-999,-999,-999,9,2000,1.7541,27.6789,-999,9
RF05-01,165E,RF-2315,1,-9,-9,5,20050124,2048,25.9985,164.9913,5723,0,22.9282,35.1714,2,-999,9,-999,9,211.1,2,1.37,2,-999,9,0,2,0,2,0.05,2,-999,9,-999,9,-999,9,1981.3,2,-999,9,8.0821,2,     25.0, TS,-999,9,-999,-999,9,-999,9,0.1,2,0.03,2,-999,-999,-999,9,0,22.928,24.0843,-999,9
RF05-01,165E,RF-2315,1,21,02-18575,2,20050124,2058,25.9985,164.9913,5723,10.5,22.9334,35.1733,2,-999,9,-999,9,212.1,2,1.38,2,-999,9,0,2,0,2,0,2,-999,9,-999,9,-999,9,1979.8,2,-999,9,8.0892,2,     25.0, TS,-999,9,-999,-999,9,-999,9,0.1,2,0.03,2,-999,-999,-999,9,10,22.9313,24.0848,-999,9
RF05-01,165E,RF-2315,1,20,02-18574,2,20050124,2056,25.9985,164.9913,5723,25.1,22.9223,35.1735,2,-999,9,-999,9,211,2,1.4,2,-999,9,0,2,0,2,0,2,-999,9,-999,9,-999,9,1976.9,2,-999,9,8.0899,2,     25.0, TS,-999,9,-999,-999,9,-999,9,0.1,2,0.03,2,-999,-999,-999,9,25,22.9172,24.0891,-999,9
RF05-01,165E,RF-2315,1,19,02-18573,2,20050124,2055,25.9985,164.9913,5723,51,22.5684,35.1911,2,-999,9,-999,9,208,2,1.42,2,-999,9,0,2,0,2,0,2,-999,9,-999,9,-999,9,1982,2,-999,9,8.0844,2,     25.0, TS,-999,9,-999,-999,9,-999,9,0.1,2,0.03,2,-999,-999,-999,9,51,22.5581,24.2052,-999,9
RF05-01,165E,RF-2315,1,18,02-18572,2,20050124,2054,25.9985,164.9913,5723,77.5,22.3821,35.2068,2,-999,9,-999,9,215.1,2,1.54,2,-999,9,0,2,0,2,0,2,-999,9,-999,9,-999,9,1984.2,2,-999,9,8.0813,2,     25.0, TS,-999,9,-999,-999,9,-999,9,0.11,2,0.04,2,-999,-999,-999,9,77,22.3666,24.2716,-999,9
RF05-01,165E,RF-2315,1,17,02-18571,2,20050124,2052,25.9985,164.9913,5723,101.5,22.231,35.2041,2,-999,9,-999,9,216.6,2,1.53,2,-999,9,0.02,2,0,2,0,2,-999,9,-999,9,-999,9,1986,2,-999,9,8.0777,2,     25.0, TS,-999,9,-999,-999,9,-999,9,0.13,2,0.26,2,-999,-999,-999,9,101,22.2108,24.3137,-999,9
RF05-01,165E,RF-2315,1,16,02-18570,2,20050124,2051,25.9985,164.9913,5723,127,20.6294,35.039,2,-999,9,-999,9,204.9,2,2.29,2,-999,9,0.76,2,0.07,2,0.05,2,-999,9,-999,9,-999,9,2020,2,-999,9,8.0115,2,     25.0, TS,-999,9,-999,-999,9,-999,9,0.14,2,0.05,2,-999,-999,-999,9,126,20.6054,24.6303,-999,9
RF05-01,165E,RF-2315,1,15,02-18569,2,20050124,2050,25.9985,164.9913,5723,151.5,18.6934,34.8932,2,-999,9,-999,9,202.9,2,3.08,2,-999,9,2.16,2,0,2,0.14,2,-999,9,-999,9,-999,9,2028.1,2,-999,9,7.9816,2,     25.0, TS,-999,9,-999,-999,9,-999,9,0.04,2,0.1,2,-999,-999,-999,9,150,18.6667,25.024,-999,9
RF05-01,165E,RF-2315,1,14,02-18568,2,20050124,2048,25.9985,164.9913,5723,202.1,17.2689,34.7717,2,-999,9,-999,9,199.8,2,4.21,2,-999,9,4.61,2,0,2,0.26,2,-999,9,-999,9,-999,9,2037.6,2,-999,9,7.9556,2,     25.0, TS,-999,9,-999,-999,9,-999,9,0.01,2,0.01,2,-999,-999,-999,9,201,17.2352,25.2829,-999,9
RF05-01,165E,RF-2315,1,13,02-18567,2,20050124,2046,25.9985,164.9913,5723,250.2,16.2599,34.7006,2,-999,9,-999,9,209.5,2,5.5,2,-999,9,5.78,2,0,2,0.33,2,-999,9,-999,9,-999,9,2040.4,2,-999,9,7.9489,2,     25.0, TS,-999,9,-999,-999,9,-999,9,-999,9,-999,9,-999,-999,-999,9,248,16.2199,25.4669,-999,9
RF05-01,165E,RF-2315,1,12,02-18566,2,20050124,2044,25.9985,164.9913,5723,301.6,15.3409,34.6185,2,-999,9,-999,9,206,2,7.32,2,-999,9,7.41,2,0,2,0.44,2,-999,9,-999,9,-999,9,2048.8,2,-999,9,7.924,2,     25.0, TS,-999,9,-999,-999,9,-999,9,-999,9,-999,9,-999,-999,-999,9,299,15.2945,25.6128,-999,9
RF05-01,165E,RF-2315,1,11,02-18565,2,20050124,2042,25.9985,164.9913,5723,404,12.9688,34.4187,2,-999,9,-999,9,203,2,12.73,2,-999,9,11.28,2,0,2,0.73,2,-999,9,-999,9,-999,9,2081.6,2,-999,9,7.8357,2,     25.0, TS,-999,9,-999,-999,9,-999,9,-999,9,-999,9,-999,-999,-999,9,401,12.9132,25.9599,-999,9
RF05-01,165E,RF-2315,1,10,02-18564,2,20050124,2039,25.9985,164.9913,5723,501.7,10.7165,34.2528,2,-999,9,-999,9,194.2,2,20.96,2,-999,9,16.06,2,0,2,1.08,2,-999,9,-999,9,-999,9,2109.2,2,-999,9,7.7785,2,     25.0, TS,-999,9,-999,-999,9,-999,9,-999,9,-999,9,-999,-999,-999,9,498,10.6553,26.2551,-999,9
RF05-01,165E,RF-2315,1,9,02-18563,2,20050124,2036,25.9985,164.9913,5723,607.4,8.1743,34.1001,2,-999,9,-999,9,159.3,2,38.15,2,-999,9,23.84,2,0,2,1.66,2,-999,9,-999,9,-999,9,2164.1,2,-999,9,7.6627,2,     25.0, TS,-999,9,-999,-999,9,-999,9,-999,9,-999,9,-999,-999,-999,9,603,8.1112,26.5505,-999,9
RF05-01,165E,RF-2315,1,8,02-18562,2,20050124,2032,25.9985,164.9913,5723,706.2,6.1079,34.0518,2,-999,9,-999,9,115.9,2,63.04,2,-999,9,31.45,2,0,2,2.26,2,-999,9,-999,9,-999,9,2233.8,2,-999,9,7.5355,2,     25.0, TS,-999,9,-999,-999,9,-999,9,-999,9,-999,9,-999,-999,-999,9,700,6.0451,26.7977,-999,9
RF05-01,165E,RF-2315,1,7,02-18561,2,20050124,2029,25.9985,164.9913,5723,810.8,4.8073,34.1347,2,-999,9,-999,9,68.4,2,89.21,2,-999,9,37.65,2,0,2,2.73,2,-999,9,-999,9,-999,9,2295,2,-999,9,7.4456,2,     25.0, TS,-999,9,-999,-999,9,-999,9,-999,9,-999,9,-999,-999,-999,9,804, 4.7426,27.0184,-999,9
RF05-01,165E,RF-2315,1,6,02-18560,2,20050124,2025,25.9985,164.9913,5723,909.7,4.1851,34.2278,2,-999,9,-999,9,45.6,2,106,2,-999,9,40.43,2,0,2,2.93,2,-999,9,-999,9,-999,9,2327.2,2,-999,9,7.4111,2,     25.0, TS,-999,9,-999,-999,9,-999,9,-999,9,-999,9,-999,-999,-999,9,902,4.116,27.1598,-999,9
RF05-01,165E,RF-2315,1,5,02-18559,2,20050124,2023,25.9985,164.9913,5723,1009.5,3.7081,34.3145,2,-999,9,-999,9,35,2,119.21,2,-999,9,41.83,2,0,2,3.05,2,-999,9,-999,9,-999,9,2349.2,2,-999,9,7.3992,2,     25.0, TS,-999,9,-999,-999,9,-999,9,-999,9,-999,9,-999,-999,-999,9,1000,3.6342,27.2778,-999,9
RF05-01,165E,RF-2315,1,4,02-18558,2,20050124,2018,25.9985,164.9913,5723,1259.1,3.0642,34.4695,2,-999,9,-999,9,43,2,134.89,2,-999,9,41.92,2,0,2,3.05,2,-999,9,-999,9,-999,9,2366.1,2,-999,9,7.4209,2,     25.0, TS,-999,9,-999,-999,9,-999,9,-999,9,-999,9,-999,-999,-999,9,1247,2.9756,27.4639,-999,9
RF05-01,165E,RF-2315,1,3,02-18557,2,20050124,2010,25.9985,164.9913,5723,1514.9,2.5835,34.5417,2,-999,9,-999,9,63.3,2,142.57,2,-999,9,41.08,2,0,2,2.94,2,-999,9,-999,9,-999,9,2364.4,2,-999,9,7.4695,2,     25.0, TS,-999,9,-999,-999,9,-999,9,-999,9,-999,9,-999,-999,-999,9,1500,2.4793,27.5652,-999,9
RF05-01,165E,RF-2315,1,2,02-18556,2,20050124,2005,25.9985,164.9913,5723,1770.8,2.2018,34.5863,2,-999,9,-999,9,79.8,2,148.91,2,-999,9,40.1,2,0,2,2.85,2,-999,9,-999,9,-999,9,2365.6,2,-999,9,7.4427,3,     25.0, TS,-999,9,-999,-999,9,-999,9,-999,9,-999,9,-999,-999,-999,9,1752,2.0816,27.6337,-999,9
RF05-01,165E,RF-2315,1,1,02-18555,2,20050124,2000,25.9985,164.9913,5723,2044.5,1.9532,34.6165,2,-999,9,-999,9,95.2,2,151.5,2,-999,9,39.45,2,0,2,2.79,2,-999,9,-999,9,-999,9,2359.1,2,-999,9,7.5108,2,     25.0, TS,-999,9,-999,-999,9,-999,9,-999,9,-999,9,-999,-999,-999,9,2021,1.8138,27.6789,-999,9
RF05-01,165E,RF-2316,1,-9,-9,5,20050125,0350,25.023,165.024,5877,0,23.4353,35.1308,2,-999,9,-999,9,210.9,2,1.45,2,-999,9,0,2,0,2,0.01,2,-999,9,-999,9,-999,9,-999,9,-999,9,-999,9,   -999.0,  9,-999,9,-999,-999,9,-999,9,0.1,2,0.03,2,-999,-999,-999,9,0,23.4351,23.9066,-999,9
RF05-01,165E,RF-2316,1,21,02-18575,2,20050125,0409,25.023,165.024,5877,11.2,23.4376,35.131,2,-999,9,35.1296,2,210,2,1.46,2,-999,9,0,2,0,2,0,2,-999,9,-999,9,-999,9,-999,9,-999,9,-999,9,   -999.0,  9,-999,9,-999,-999,9,-999,9,0.1,2,0.03,2,-999,-999,-999,9,11,23.4353,23.9066,-999,9
RF05-01,165E,RF-2316,1,20,02-18574,2,20050125,0408,25.023,165.024,5877,28,22.9982,35.1467,2,-999,9,-999,9,211.6,2,1.55,2,-999,9,0,2,0,2,0,2,-999,9,-999,9,-999,9,-999,9,-999,9,-999,9,   -999.0,  9,-999,9,-999,-999,9,-999,9,0.11,2,0.04,2,-999,-999,-999,9,28,22.9925,24.047,-999,9
RF05-01,165E,RF-2316,1,19,02-18573,2,20050125,0407,25.023,165.024,5877,52,22.4793,35.193,2,-999,9,-999,9,214.2,2,1.67,2,-999,9,0,2,0,2,0,2,-999,9,-999,9,-999,9,-999,9,-999,9,-999,9,   -999.0,  9,-999,9,-999,-999,9,-999,9,0.11,2,0.04,2,-999,-999,-999,9,52,22.4689,24.2321,-999,9
RF05-01,165E,RF-2316,1,18,02-18572,2,20050125,0405,25.023,165.024,5877,75.4,22.3239,35.2014,2,-999,9,-999,9,213.4,2,1.6,2,-999,9,0,2,0,2,0,2,-999,9,-999,9,-999,9,-999,9,-999,9,-999,9,   -999.0,  9,-999,9,-999,-999,9,-999,9,0.17,2,0.07,2,-999,-999,-999,9,75,22.3088,24.2839,-999,9
RF05-01,165E,RF-2316,1,17,02-18571,2,20050125,0404,25.023,165.024,5877,97.9,22.2647,35.2019,2,-999,9,35.1999,2,215.3,2,1.68,2,-999,9,0,2,0,2,0,2,-999,9,-999,9,-999,9,-999,9,-999,9,-999,9,   -999.0,  9,-999,9,-999,-999,9,-999,9,0.19,2,0.08,2,-999,-999,-999,9,97,22.2452,24.3022,-999,9
RF05-01,165E,RF-2316,1,16,02-18570,2,20050125,0403,25.023,165.024,5877,123.7,21.3689,35.0927,2,-999,9,-999,9,207.9,2,2.2,2,-999,9,0.22,2,0.06,2,0.03,2,-999,9,-999,9,-999,9,-999,9,-999,9,-999,9,   -999.0,  9,-999,9,-999,-999,9,-999,9,0.16,2,0.28,2,-999,-999,-999,9,123,21.3449,24.4702,-999,9
RF05-01,165E,RF-2316,1,15,02-18569,2,20050125,0402,25.023,165.024,5877,151.8,18.9045,34.9274,2,-999,9,-999,9,203.8,2,3.03,2,-999,9,1.83,2,0.01,2,0.13,2,-999,9,-999,9,-999,9,-999,9,-999,9,-999,9,   -999.0,  9,-999,9,-999,-999,9,-999,9,0.05,2,0.14,2,-999,-999,-999,9,151,18.8776,24.9968,-999,9
RF05-01,165E,RF-2316,1,14,02-18568,2,20050125,0400,25.023,165.024,5877,202.7,17.3176,34.7796,2,-999,9,34.7799,2,200.8,2,4.1,2,-999,9,4.49,2,0,2,0.26,2,-999,9,-999,9,-999,9,-999,9,-999,9,-999,9,   -999.0,  9,-999,9,-999,-999,9,-999,9,0.01,2,0.02,2,-999,-999,-999,9,201,17.2838,25.2773,-999,9
RF05-01,165E,RF-2316,1,13,02-18567,2,20050125,0358,25.023,165.024,5877,254,16.2472,34.6971,2,-999,9,-999,9,210.2,2,5.61,2,-999,9,5.86,2,0,2,0.33,2,-999,9,-999,9,-999,9,-999,9,-999,9,-999,9,   -999.0,  9,-999,9,-999,-999,9,-999,9,-999,9,-999,9,-999,-999,-999,9,252,16.2066,25.4673,-999,9
RF05-01,165E,RF-2316,1,12,02-18566,2,20050125,0356,25.023,165.024,5877,303.1,15.1958,34.6043,2,-999,9,34.6044,2,211,2,7.32,2,-999,9,7.2,2,0,2,0.43,2,-999,9,-999,9,-999,9,-999,9,-999,9,-999,9,   -999.0,  9,-999,9,-999,-999,9,-999,9,-999,9,-999,9,-999,-999,-999,9,301,15.1495,25.634,-999,9
RF05-01,165E,RF-2316,1,11,02-18565,2,20050125,0353,25.023,165.024,5877,404.4,12.6612,34.3885,2,-999,9,34.3894,2,203.5,2,13.3,2,-999,9,11.79,2,0,2,0.75,2,-999,9,-999,9,-999,9,-999,9,-999,9,-999,9,   -999.0,  9,-999,9,-999,-999,9,-999,9,-999,9,-999,9,-999,-999,-999,9,401,12.6064,25.997,-999,9
RF05-01,165E,RF-2316,1,10,02-18564,2,20050125,0350,25.023,165.024,5877,504.4,10.1036,34.2109,2,-999,9,34.2129,2,188,2,24.31,2,-999,9,18.08,2,0,2,1.2,2,-999,9,-999,9,-999,9,-999,9,-999,9,-999,9,   -999.0,  9,-999,9,-999,-999,9,-999,9,-999,9,-999,9,-999,-999,-999,9,501,10.0443,26.3282,-999,9
RF05-01,165E,RF-2316,1,9,02-18563,2,20050125,0347,25.023,165.024,5877,606.3,7.8668,34.0795,2,-999,9,34.0802,2,160,2,40.9,2,-999,9,24.83,2,0,2,1.72,2,-999,9,-999,9,-999,9,-999,9,-999,9,-999,9,   -999.0,  9,-999,9,-999,-999,9,-999,9,-999,9,-999,9,-999,-999,-999,9,602,7.8053,26.5795,-999,9
RF05-01,165E,RF-2316,1,8,02-18562,2,20050125,0344,25.023,165.024,5877,706.6,5.9421,34.057,2,-999,9,34.0567,2,109.9,2,66.03,2,-999,9,32.64,2,0,2,2.33,2,-999,9,-999,9,-999,9,-999,9,-999,9,-999,9,   -999.0,  9,-999,9,-999,-999,9,-999,9,-999,9,-999,9,-999,-999,-999,9,701,5.8802,26.8225,-999,9
RF05-01,165E,RF-2316,1,7,02-18561,2,20050125,0340,25.023,165.024,5877,808.6,5.0282,34.1381,2,-999,9,34.138,2,67.6,2,85.62,2,-999,9,37.8,2,0,2,2.73,2,-999,9,-999,9,-999,9,-999,9,-999,9,-999,9,   -999.0,  9,-999,9,-999,-999,9,-999,9,-999,9,-999,9,-999,-999,-999,9,802,4.9623,26.9962,-999,9
RF05-01,165E,RF-2316,1,6,02-18560,2,20050125,0336,25.023,165.024,5877,908.5,4.2654,34.2392,2,-999,9,34.2392,2,43.1,2,104.71,2,-999,9,40.81,2,0,2,2.96,2,-999,9,-999,9,-999,9,-999,9,-999,9,-999,9,   -999.0,  9,-999,9,-999,-999,9,-999,9,-999,9,-999,9,-999,-999,-999,9,901,4.1958,27.1605,-999,9
RF05-01,165E,RF-2316,1,5,02-18559,2,20050125,0334,25.023,165.024,5877,1012.2,3.7521,34.332,2,-999,9,34.3283,2,35.2,2,117.81,2,-999,9,41.98,2,0,2,3.05,2,-999,9,-999,9,-999,9,-999,9,-999,9,-999,9,   -999.0,  9,-999,9,-999,-999,9,-999,9,-999,9,-999,9,-999,-999,-999,9,1003, 3.6777,27.2874,-999,9
RF05-01,165E,RF-2316,1,4,02-18558,2,20050125,0328,25.023,165.024,5877,1263.6,3.1538,34.4634,2,-999,9,34.4621,2,43.3,2,132.54,2,-999,9,42.06,2,0,2,3.04,2,-999,9,-999,9,-999,9,-999,9,-999,9,-999,9,   -999.0,  9,-999,9,-999,-999,9,-999,9,-999,9,-999,9,-999,-999,-999,9,1252,3.064,27.4509,-999,9
RF05-01,165E,RF-2316,1,3,02-18557,2,20050125,0321,25.023,165.024,5877,1517,2.6064,34.5371,2,-999,9,34.5374,2,60.8,2,142.95,2,-999,9,41.37,2,0,2,2.96,2,-999,9,-999,9,-999,9,-999,9,-999,9,-999,9,   -999.0,  9,-999,9,-999,-999,9,-999,9,-999,9,-999,9,-999,-999,-999,9,1502,2.5018,27.5596,-999,9
RF05-01,165E,RF-2316,1,2,02-18556,2,20050125,0313,25.023,165.024,5877,1768.9,2.2008,34.5879,2,-999,9,34.5893,2,84,2,147.33,2,-999,9,40.12,2,0,2,2.85,2,-999,9,-999,9,-999,9,-999,9,-999,9,-999,9,   -999.0,  9,-999,9,-999,-999,9,-999,9,-999,9,-999,9,-999,-999,-999,9,1750,2.0807,27.6351,-999,9
RF05-01,165E,RF-2316,1,1,02-18555,2,20050125,0305,25.023,165.024,5877,2022.3,1.9547,34.6185,2,-999,9,34.6185,2,99.7,2,149.41,2,-999,9,39.2,2,0,2,2.77,2,-999,9,-999,9,-999,9,-999,9,-999,9,-999,9,   -999.0,  9,-999,9,-999,-999,9,-999,9,-999,9,-999,9,-999,-999,-999,9,2000,1.8171,27.6803,-999,9