BOTTLE,20131214MIRCJHATS
EXPOCODE,SECT_ID,STNNBR,CASTNO,SAMPNO,BTLNBR,BTLNBR_FLAG_W,DATE,TIME,LATITUDE,LONGITUDE,DEPTH,CTDPRS,CTDTMP,CTDSAL,CTDSAL_FLAG_W,CTDOXY,CTDOXY_FLAG_W,SALNTY,SALNTY_FLAG_W,OXYGEN,OXYGEN_FLAG_W,SILCAT,SILCAT_FLAG_W,NITRAT,NITRAT_FLAG_W,NO2+NO3,NO2+NO3_FLAG_W,NITRIT,NITRIT_FLAG_W,PHSPHT,PHSPHT_FLAG_W,CFC-11,CFC-11_FLAG_W,CFC-12,CFC-12_FLAG_W,DELC13,DELC13_FLAG_W,TCARBN,TCARBN_FLAG_W,ALKALI,ALKALI_FLAG_W,PH,PH_FLAG_W,PH_TMP,PH_SCALE,PH_NBS,PH_NBS_FLAG_W,C13ERR,TOTALP,TOTALP_FLAG_W,AMMONI,AMMONI_FLAG_W,CHLORA,CHLORA_FLAG_W,PPHYTN,PPHYTN_FLAG_W,REVPRS,REVTMP,DEPTH,DEPTH_FLAG,CTDDEP,THETA,SIGTHT,DOC,DOC_FLAG_W
,,,,,,,GMT,GMT,,,METERS,DBAR,ITS-90,PSS-78,,UMOL/KG,,PSS-78,,UMOL/KG,,UMOL/KG,,UMOL/KG,,UMOL/KG,,UMOL/KG, ,UMOL/KG,,PMOL/KG,,PMOL/KG,,/MILLE,,UMOL/KG,,UMOL/KG,,25_DEG_C,,DEG_C,,,,/MILLE,UMOL/KG,,UMOL/KG,,UG/L,,UG/L,,DBAR,ITS-90,METERS,,METERS,DEG_C,,UMOL/L
RF05-01,165E,RF-2331,1,-9,-9,5,20050129,0345,9.9948,163.9707,4980,0,27.9932,34.0885,2,-999,9,-999,9,201.6,2,1.11,2,-999,9,0,2,0,2,0.03,2,-999,9,-999,9,-999,9,1899.7,2,-999,9,-999,9,   -999.0,  9,-999,9,-999,-999,9,-999,9,0.02,2,0.02,2,-999,-999,-999,9,0,27.993,21.7116,-999,9
RF05-01,165E,RF-2331,1,22,02-18576,2,20050129,0408,9.9948,163.9707,4980,10.4,27.9975,34.0887,2,-999,9,34.0826,2,200.2,2,1.08,2,-999,9,0,2,0,2,0.02,2,-999,9,-999,9,-999,9,1901.5,2,-999,9,-999,9,   -999.0,  9,-999,9,-999,-999,9,-999,9,0.03,2,0.03,2,-999,-999,-999,9,10,27.9951,21.7111,-999,9
RF05-01,165E,RF-2331,1,21,02-18575,2,20050129,0407,9.9948,163.9707,4980,24.7,27.9204,34.0817,2,-999,9,-999,9,197.4,2,1.04,2,-999,9,0,2,0,2,0.02,2,-999,9,-999,9,-999,9,1900.2,2,-999,9,-999,9,   -999.0,  9,-999,9,-999,-999,9,-999,9,0.04,2,0.03,2,-999,-999,-999,9,25,27.9146,21.732,-999,9
RF05-01,165E,RF-2331,1,20,02-18574,2,20050129,0405,9.9948,163.9707,4980,51,27.9112,34.0829,2,-999,9,-999,9,200.1,2,1.14,2,-999,9,0,2,0,2,0.02,2,-999,9,-999,9,-999,9,1901.3,2,-999,9,-999,9,   -999.0,  9,-999,9,-999,-999,9,-999,9,0.05,2,0.02,2,-999,-999,-999,9,51,27.8993,21.7379,-999,9
RF05-01,165E,RF-2331,1,19,02-18573,2,20050129,0404,9.9948,163.9707,4980,75,27.9024,34.0859,2,-999,9,-999,9,-999,4,1.15,2,-999,9,0,2,0,2,0.01,2,-999,9,-999,9,-999,9,1902.1,2,-999,9,-999,9,   -999.0,  9,-999,9,-999,-999,9,-999,9,0.06,2,0.03,2,-999,-999,-999,9,75,27.8848,21.7448,-999,9
RF05-01,165E,RF-2331,1,18,02-18572,2,20050129,0402,9.9948,163.9707,4980,100.2,25.8977,34.7868,2,-999,9,34.7855,2,208.7,2,1.21,2,-999,9,0,2,0,2,0.07,2,-999,9,-999,9,-999,9,1977.3,2,-999,9,-999,9,   -999.0,  9,-999,9,-999,-999,9,-999,9,0.18,2,0.15,2,-999,-999,-999,9,100,25.8754,22.9112,-999,9
RF05-01,165E,RF-2331,1,17,02-18571,2,20050129,0401,9.9948,163.9707,4980,124.8,21.9038,34.9727,2,-999,9,-999,9,188.3,2,2.27,2,-999,9,0.73,2,0.05,2,0.18,2,-999,9,-999,9,-999,9,2038.7,2,-999,9,-999,9,   -999.0,  9,-999,9,-999,-999,9,-999,9,0.17,2,0.34,2,-999,-999,-999,9,124,21.8792,24.2309,-999,9
RF05-01,165E,RF-2331,1,16,02-18570,2,20050129,0359,9.9948,163.9707,4980,151.5,18.257,34.8298,2,-999,9,-999,9,164.4,2,5.32,2,-999,9,6.89,2,0.06,2,0.48,2,-999,9,-999,9,-999,9,2080.5,2,-999,9,-999,9,   -999.0,  9,-999,9,-999,-999,9,-999,9,0.07,2,0.24,2,-999,-999,-999,9,151,18.2308,25.0846,-999,9
RF05-01,165E,RF-2331,1,15,02-18569,2,20050129,0357,9.9948,163.9707,4980,202,12.1489,34.4509,2,-999,9,34.4509,2,100.2,2,22.07,2,-999,9,22.83,2,0,2,1.6,2,-999,9,-999,9,-999,9,2168.7,2,-999,9,-999,9,   -999.0,  9,-999,9,-999,-999,9,-999,9,0.01,2,0.04,2,-999,-999,-999,9,201,12.1225,26.1392,-999,9
RF05-01,165E,RF-2331,1,14,02-18568,2,20050129,0354,9.9948,163.9707,4980,251.6,10.772,34.5363,2,-999,9,-999,9,61.2,2,29.97,2,-999,9,29.28,2,0,2,2.07,2,-999,9,-999,9,-999,9,2214.3,2,-999,9,-999,9,   -999.0,  9,-999,9,-999,-999,9,-999,9,-999,9,-999,9,-999,-999,-999,9,250,10.7415,26.4607,-999,9
RF05-01,165E,RF-2331,1,13,02-18567,2,20050129,0348,9.9948,163.9707,4980,304.4,9.5265,34.5618,2,-999,9,34.5563,2,54.2,2,36.73,2,-999,9,32.48,2,0,2,2.28,2,-999,9,-999,9,-999,9,2236.6,2,-999,9,-999,9,   -999.0,  9,-999,9,-999,-999,9,-999,9,-999,9,-999,9,-999,-999,-999,9,302,9.4922,26.695,-999,9
RF05-01,165E,RF-2331,1,12,02-18566,2,20050129,0343,9.9948,163.9707,4980,405.3,8.4093,34.5713,2,-999,9,34.5676,2,52.9,2,43,2,-999,9,34.75,2,0,2,2.44,2,-999,9,-999,9,-999,9,2254.5,2,-999,9,-999,9,   -999.0,  9,-999,9,-999,-999,9,-999,9,-999,9,-999,9,-999,-999,-999,9,403, 8.3668,26.8817,-999,9
RF05-01,165E,RF-2331,1,11,02-18565,2,20050129,0337,9.9948,163.9707,4980,508.8,7.4345,34.5417,2,-999,9,34.5408,2,68.9,2,49.91,2,-999,9,35.21,2,0,2,2.48,2,-999,9,-999,9,-999,9,2255.3,2,-999,9,-999,9,   -999.0,  9,-999,9,-999,-999,9,-999,9,-999,9,-999,9,-999,-999,-999,9,505,7.3845,27.0037,-999,9
RF05-01,165E,RF-2331,1,10,02-18564,2,20050129,0333,9.9948,163.9707,4980,607.2,6.7703,34.5364,2,-999,9,34.5326,2,61.2,2,58.32,2,-999,9,37.05,2,0,2,2.66,2,-999,9,-999,9,-999,9,2271.4,2,-999,9,-999,9,   -999.0,  9,-999,9,-999,-999,9,-999,9,-999,9,-999,9,-999,-999,-999,9,603,6.7132,27.0928,-999,9
RF05-01,165E,RF-2331,1,9,02-18563,2,20050129,0327,9.9948,163.9707,4980,706.1,6.1678,34.5304,2,-999,9,34.526,2,62.7,2,66.39,2,-999,9,37.92,2,0,2,2.73,2,-999,9,-999,9,-999,9,2282.7,2,-999,9,-999,9,   -999.0,  9,-999,9,-999,-999,9,-999,9,-999,9,-999,9,-999,-999,-999,9,701,6.1042,27.1683,-999,9
RF05-01,165E,RF-2331,1,8,02-18562,2,20050129,0321,9.9948,163.9707,4980,808.9,5.6318,34.5324,2,-999,9,34.5287,2,58.8,2,75.2,2,-999,9,39.07,2,0,2,2.82,2,-999,9,-999,9,-999,9,2293.9,2,-999,9,-999,9,   -999.0,  9,-999,9,-999,-999,9,-999,9,-999,9,-999,9,-999,-999,-999,9,803,5.5616,27.2378,-999,9
RF05-01,165E,RF-2331,1,7,02-18561,2,20050129,0317,9.9948,163.9707,4980,908.8,4.9493,34.5382,2,-999,9,34.5313,2,56.4,2,87.39,2,-999,9,40.37,2,0,2,2.93,2,-999,9,-999,9,-999,9,2314.2,2,-999,9,-999,9,   -999.0,  9,-999,9,-999,-999,9,-999,9,-999,9,-999,9,-999,-999,-999,9,902,4.8745,27.3235,-999,9
RF05-01,165E,RF-2331,1,6,02-18560,2,20050129,0309,9.9948,163.9707,4980,1009,4.4457,34.5516,2,-999,9,34.5481,2,59.6,2,96.63,2,-999,9,40.56,2,0,2,2.96,2,-999,9,-999,9,-999,9,2322.8,2,-999,9,-999,9,   -999.0,  9,-999,9,-999,-999,9,-999,9,-999,9,-999,9,-999,-999,-999,9,1001,4.3658,27.3907,-999,9
RF05-01,165E,RF-2331,1,5,02-18559,2,20050129,0308,9.9948,163.9707,4980,1009.2,4.4458,34.5515,2,-999,9,-999,9,-999,9,-999,9,-999,9,-999,9,-999,9,-999,9,-999,9,-999,9,-999,9,-999,9,-999,9,-999,9,   -999.0,  9,-999,9,-999,-999,9,-999,9,-999,9,-999,9,-999,-999,-999,9,1001,4.3658,27.3907,-999,9
RF05-01,165E,RF-2331,1,4,02-18558,2,20050129,0238,9.9948,163.9707,4980,1264.8,3.6544,34.5751,2,-999,9,34.5713,2,70.2,2,112.32,2,-999,9,40.37,2,0,2,2.93,2,-999,9,-999,9,-999,9,2333.5,2,-999,9,-999,9,   -999.0,  9,-999,9,-999,-999,9,-999,9,-999,9,-999,9,-999,-999,-999,9,1254,3.5594,27.4927,-999,9
RF05-01,165E,RF-2331,1,3,02-18557,2,20050129,0214,9.9948,163.9707,4980,1511.9,2.8942,34.6012,2,-999,9,34.5984,2,85.5,2,127.5,2,-999,9,39.75,2,0,2,2.86,2,-999,9,-999,9,-999,9,2339.9,2,-999,9,-999,9,   -999.0,  9,-999,9,-999,-999,9,-999,9,-999,9,-999,9,-999,-999,-999,9,1498,2.7865,27.5861,-999,9
RF05-01,165E,RF-2331,1,2,02-18556,2,20050129,0208,9.9948,163.9707,4980,1765.9,2.3741,34.6265,2,-999,9,34.6232,2,99.5,2,137.58,2,-999,9,39.06,2,0,2,2.78,2,-999,9,-999,9,-999,9,2343.1,2,-999,9,-999,9,   -999.0,  9,-999,9,-999,-999,9,-999,9,-999,9,-999,9,-999,-999,-999,9,1748,2.2518,27.6521,-999,9
RF05-01,165E,RF-2331,1,1,02-18555,2,20050129,0203,9.9948,163.9707,4980,2018.6,2.1158,34.6426,2,-999,9,34.6395,2,107.6,2,142.22,2,-999,9,38.69,2,0,2,2.73,2,-999,9,-999,9,-999,9,2345.7,6,-999,9,-999,9,   -999.0,  9,-999,9,-999,-999,9,-999,9,-999,9,-999,9,-999,-999,-999,9,1998,1.976,27.6872,-999,9
RF05-01,165E,RF-2333,1,-9,-9,5,20050129,1657,7.9837,163.9937,5135,0,28.4206,34.0429,2,-999,9,-999,9,198.9,2,1.15,2,-999,9,0,2,0,2,0.01,2,-999,9,-999,9,-999,9,-999,9,-999,9,-999,9,   -999.0,  9,-999,9,-999,-999,9,-999,9,0.04,2,0.04,2,-999,-999,-999,9,0,28.4204,21.5375,-999,9
RF05-01,165E,RF-2333,1,21,02-18575,2,20050129,1709,7.9837,163.9937,5135,11,28.4317,34.0453,2,-999,9,-999,9,195.9,2,1.28,2,-999,9,0,2,0,2,0,2,-999,9,-999,9,-999,9,-999,9,-999,9,-999,9,   -999.0,  9,-999,9,-999,-999,9,-999,9,0.04,2,0.05,2,-999,-999,-999,9,11,28.4291,21.5364,-999,9
RF05-01,165E,RF-2333,1,20,02-18574,2,20050129,1708,7.9837,163.9937,5135,25.5,28.433,34.0437,2,-999,9,-999,9,195.3,2,1.25,2,-999,9,0,2,0,2,0,2,-999,9,-999,9,-999,9,-999,9,-999,9,-999,9,   -999.0,  9,-999,9,-999,-999,9,-999,9,0.04,2,0.05,2,-999,-999,-999,9,25,28.4269,21.5359,-999,9
RF05-01,165E,RF-2333,1,19,02-18573,2,20050129,1707,7.9837,163.9937,5135,51,28.4249,34.0451,2,-999,9,-999,9,197.7,2,1.11,2,-999,9,0,2,0,2,0,2,-999,9,-999,9,-999,9,-999,9,-999,9,-999,9,   -999.0,  9,-999,9,-999,-999,9,-999,9,0.04,2,0.06,2,-999,-999,-999,9,51,28.4128,21.5416,-999,9
RF05-01,165E,RF-2333,1,18,02-18572,2,20050129,1706,7.9837,163.9937,5135,76.5,25.787,34.8239,2,-999,9,-999,9,197.5,2,1.73,2,-999,9,0.04,2,0,2,0.07,2,-999,9,-999,9,-999,9,-999,9,-999,9,-999,9,   -999.0,  9,-999,9,-999,-999,9,-999,9,0.13,2,0.27,2,-999,-999,-999,9,76,25.7701,22.9719,-999,9
RF05-01,165E,RF-2333,1,17,02-18571,2,20050129,1705,7.9837,163.9937,5135,100.5,21.4952,34.8998,2,-999,9,-999,9,169.9,2,4.1,2,-999,9,3.15,2,0.21,2,0.29,2,-999,9,-999,9,-999,9,-999,9,-999,9,-999,9,   -999.0,  9,-999,9,-999,-999,9,-999,9,0.09,2,0.33,2,-999,-999,-999,9,100,21.4757,24.2874,-999,9
RF05-01,165E,RF-2333,1,16,02-18570,2,20050129,1704,7.9837,163.9937,5135,127.1,17.1357,34.72,2,-999,9,-999,9,137.6,2,9.13,2,-999,9,11.77,2,0.05,2,0.76,2,-999,9,-999,9,-999,9,-999,9,-999,9,-999,9,   -999.0,  9,-999,9,-999,-999,9,-999,9,0.03,2,0.18,2,-999,-999,-999,9,126,17.1147,25.272,-999,9
RF05-01,165E,RF-2333,1,15,02-18569,2,20050129,1703,7.9837,163.9937,5135,151.9,13.7168,34.5163,2,-999,9,-999,9,108.7,2,17.8,2,-999,9,20.02,2,0,2,1.35,2,-999,9,-999,9,-999,9,-999,9,-999,9,-999,9,   -999.0,  9,-999,9,-999,-999,9,-999,9,0.02,2,0.1,2,-999,-999,-999,9,151,13.6953,25.8767,-999,9
RF05-01,165E,RF-2333,1,14,02-18568,2,20050129,1701,7.9837,163.9937,5135,201.9,10.724,34.5712,2,-999,9,-999,9,45.5,2,30.66,2,-999,9,31.1,2,0,2,2.18,2,-999,9,-999,9,-999,9,-999,9,-999,9,-999,9,   -999.0,  9,-999,9,-999,-999,9,-999,9,0.01,2,0.02,2,-999,-999,-999,9,201,10.6996,26.4953,-999,9
RF05-01,165E,RF-2333,1,13,02-18567,2,20050129,1659,7.9837,163.9937,5135,252.7,9.8649,34.6433,2,-999,9,-999,9,28.6,2,34.86,2,-999,9,34.47,2,0,2,2.41,2,-999,9,-999,9,-999,9,-999,9,-999,9,-999,9,   -999.0,  9,-999,9,-999,-999,9,-999,9,-999,9,-999,9,-999,-999,-999,9,251,9.8359,26.7013,-999,9
RF05-01,165E,RF-2333,1,12,02-18566,2,20050129,1658,7.9837,163.9937,5135,302.5,9.4839,34.6385,2,-999,9,-999,9,33,2,36.47,2,-999,9,34.79,2,0,2,2.43,2,-999,9,-999,9,-999,9,-999,9,-999,9,-999,9,   -999.0,  9,-999,9,-999,-999,9,-999,9,-999,9,-999,9,-999,-999,-999,9,301,9.4499,26.7619,-999,9
RF05-01,165E,RF-2333,1,11,02-18565,2,20050129,1655,7.9837,163.9937,5135,405,8.5857,34.5928,2,-999,9,-999,9,47.5,2,41.63,2,-999,9,35.2,2,0,2,2.48,2,-999,9,-999,9,-999,9,-999,9,-999,9,-999,9,   -999.0,  9,-999,9,-999,-999,9,-999,9,-999,9,-999,9,-999,-999,-999,9,402,8.5426,26.8714,-999,9
RF05-01,165E,RF-2333,1,10,02-18564,2,20050129,1653,7.9837,163.9937,5135,504,7.6791,34.5575,2,-999,9,-999,9,54.3,2,49.24,2,-999,9,36.14,2,0,2,2.58,2,-999,9,-999,9,-999,9,-999,9,-999,9,-999,9,   -999.0,  9,-999,9,-999,-999,9,-999,9,-999,9,-999,9,-999,-999,-999,9,501,7.6286,26.981,-999,9
RF05-01,165E,RF-2333,1,9,02-18563,2,20050129,1650,7.9837,163.9937,5135,605.1,6.6137,34.5426,2,-999,9,-999,9,46.8,2,61.03,2,-999,9,38.75,2,0,2,2.8,2,-999,9,-999,9,-999,9,-999,9,-999,9,-999,9,   -999.0,  9,-999,9,-999,-999,9,-999,9,-999,9,-999,9,-999,-999,-999,9,601,6.5575,27.1186,-999,9
RF05-01,165E,RF-2333,1,8,02-18562,2,20050129,1647,7.9837,163.9937,5135,705.7,5.9047,34.536,2,-999,9,-999,9,49.7,2,70.9,2,-999,9,39.78,2,0,2,2.88,2,-999,9,-999,9,-999,9,-999,9,-999,9,-999,9,   -999.0,  9,-999,9,-999,-999,9,-999,9,-999,9,-999,9,-999,-999,-999,9,701,5.8425,27.2059,-999,9
RF05-01,165E,RF-2333,1,7,02-18561,2,20050129,1645,7.9837,163.9937,5135,805.8,5.3468,34.5444,2,-999,9,-999,9,66,2,77.17,2,-999,9,39.37,2,0,2,2.84,2,-999,9,-999,9,-999,9,-999,9,-999,9,-999,9,   -999.0,  9,-999,9,-999,-999,9,-999,9,-999,9,-999,9,-999,-999,-999,9,800,5.2786,27.2814,-999,9
RF05-01,165E,RF-2333,1,6,02-18560,2,20050129,1642,7.9837,163.9937,5135,908.1,4.8771,34.5499,2,-999,9,-999,9,63.5,2,86.17,2,-999,9,40.26,2,0,2,2.91,2,-999,9,-999,9,-999,9,-999,9,-999,9,-999,9,   -999.0,  9,-999,9,-999,-999,9,-999,9,-999,9,-999,9,-999,-999,-999,9,901,4.8028,27.341,-999,9
RF05-01,165E,RF-2333,1,5,02-18559,2,20050129,1639,7.9837,163.9937,5135,1007.7,4.5188,34.5576,2,-999,9,-999,9,68.7,2,92.37,2,-999,9,40.13,2,0,2,2.9,2,-999,9,-999,9,-999,9,-999,9,-999,9,-999,9,   -999.0,  9,-999,9,-999,-999,9,-999,9,-999,9,-999,9,-999,-999,-999,9,1000,4.4384,27.3876,-999,9
RF05-01,165E,RF-2333,1,4,02-18558,2,20050129,1634,7.9837,163.9937,5135,1260.4,3.6847,34.5792,2,-999,9,-999,9,80.6,2,109.03,2,-999,9,39.83,2,0,2,2.87,2,-999,9,-999,9,-999,9,-999,9,-999,9,-999,9,   -999.0,  9,-999,9,-999,-999,9,-999,9,-999,9,-999,9,-999,-999,-999,9,1250,3.5898,27.493,-999,9
RF05-01,165E,RF-2333,1,3,02-18557,2,20050129,1628,7.9837,163.9937,5135,1514.9,3.0004,34.6012,2,-999,9,-999,9,92.1,2,122.75,2,-999,9,39.26,2,0,2,2.81,2,-999,9,-999,9,-999,9,-999,9,-999,9,-999,9,   -999.0,  9,-999,9,-999,-999,9,-999,9,-999,9,-999,9,-999,-999,-999,9,1501,2.8912,27.5766,-999,9
RF05-01,165E,RF-2333,1,2,02-18556,2,20050129,1622,7.9837,163.9937,5135,1766.7,2.5473,34.6221,2,-999,9,-999,9,95.2,2,133.71,2,-999,9,39.5,2,0,2,2.83,2,-999,9,-999,9,-999,9,-999,9,-999,9,-999,9,   -999.0,  9,-999,9,-999,-999,9,-999,9,-999,9,-999,9,-999,-999,-999,9,1749,2.4226,27.6343,-999,9
RF05-01,165E,RF-2333,1,1,02-18555,2,20050129,1616,7.9837,163.9937,5135,2019.8,2.2151,34.6392,2,-999,9,-999,9,104.2,2,140.42,2,-999,9,39.06,2,0,2,2.76,2,-999,9,-999,9,-999,9,-999,9,-999,9,-999,9,   -999.0,  9,-999,9,-999,-999,9,-999,9,-999,9,-999,9,-999,-999,-999,9,1999, 2.0737,27.6767,-999,9