BOTTLE,20131214MIRCJHATS
EXPOCODE,SECT_ID,STNNBR,CASTNO,SAMPNO,BTLNBR,BTLNBR_FLAG_W,DATE,TIME,LATITUDE,LONGITUDE,DEPTH,CTDPRS,CTDTMP,CTDSAL,CTDSAL_FLAG_W,CTDOXY,CTDOXY_FLAG_W,SALNTY,SALNTY_FLAG_W,OXYGEN,OXYGEN_FLAG_W,SILCAT,SILCAT_FLAG_W,NITRAT,NITRAT_FLAG_W,NO2+NO3,NO2+NO3_FLAG_W,NITRIT,NITRIT_FLAG_W,PHSPHT,PHSPHT_FLAG_W,CFC-11,CFC-11_FLAG_W,CFC-12,CFC-12_FLAG_W,DELC13,DELC13_FLAG_W,TCARBN,TCARBN_FLAG_W,ALKALI,ALKALI_FLAG_W,PH,PH_FLAG_W,PH_TMP,PH_SCALE,PH_NBS,PH_NBS_FLAG_W,C13ERR,TOTALP,TOTALP_FLAG_W,AMMONI,AMMONI_FLAG_W,CHLORA,CHLORA_FLAG_W,PPHYTN,PPHYTN_FLAG_W,REVPRS,REVTMP,DEPTH,DEPTH_FLAG,CTDDEP,THETA,SIGTHT,DOC,DOC_FLAG_W
,,,,,,,GMT,GMT,,,METERS,DBAR,ITS-90,PSS-78,,UMOL/KG,,PSS-78,,UMOL/KG,,UMOL/KG,,UMOL/KG,,UMOL/KG,,UMOL/KG, ,UMOL/KG,,PMOL/KG,,PMOL/KG,,/MILLE,,UMOL/KG,,UMOL/KG,,25_DEG_C,,DEG_C,,,,/MILLE,UMOL/KG,,UMOL/KG,,UG/L,,UG/L,,DBAR,ITS-90,METERS,,METERS,DEG_C,,UMOL/L
RF05-01,NONE,RF-2367,1,-9,-9,5,20050305,0755,29.993,145.0205,5879,0,18.8239,34.9074,2,-999,9,-999,9,230.6,2,2.57,2,-999,9,0.74,2,0.08,2,0,2,-999,9,-999,9,-999,9,-999,9,-999,9,-999,9,   -999.0,  9,-999,9,-999,-999,9,-999,9,-999,9,-999,9,-999,-999,-999,9,0,18.8238,24.9952,-999,9
RF05-01,NONE,RF-2367,1,21,02-18575,2,20050305,0810,29.993,145.0205,5879,9.9,18.8314,34.907,2,-999,9,34.9061,2,229.7,2,2.55,2,-999,9,0.74,2,0.07,2,0,2,-999,9,-999,9,-999,9,-999,9,-999,9,-999,9,   -999.0,  9,-999,9,-999,-999,9,-999,9,-999,9,-999,9,-999,-999,-999,9,10,18.8297,24.9934,-999,9
RF05-01,NONE,RF-2367,1,20,02-18574,2,20050305,0809,29.993,145.0205,5879,26,18.8158,34.9052,2,-999,9,-999,9,230,2,2.52,2,-999,9,0.77,2,0.08,2,0,2,-999,9,-999,9,-999,9,-999,9,-999,9,-999,9,   -999.0,  9,-999,9,-999,-999,9,-999,9,-999,9,-999,9,-999,-999,-999,9,26,18.8112,24.9967,-999,9
RF05-01,NONE,RF-2367,1,19,02-18573,2,20050305,0808,29.993,145.0205,5879,50.4,18.7748,34.9036,2,-999,9,-999,9,227.8,2,2.47,2,-999,9,0.78,2,0.08,2,0,2,-999,9,-999,9,-999,9,-999,9,-999,9,-999,9,   -999.0,  9,-999,9,-999,-999,9,-999,9,-999,9,-999,9,-999,-999,-999,9,50,18.7659,25.0069,-999,9
RF05-01,NONE,RF-2367,1,18,02-18572,2,20050305,0807,29.993,145.0205,5879,74.1,18.7659,34.9022,2,-999,9,-999,9,226.2,2,2.54,2,-999,9,0.85,2,0.09,2,0,2,-999,9,-999,9,-999,9,-999,9,-999,9,-999,9,   -999.0,  9,-999,9,-999,-999,9,-999,9,-999,9,-999,9,-999,-999,-999,9,74,18.7528,25.0092,-999,9
RF05-01,NONE,RF-2367,1,17,02-18571,2,20050305,0806,29.993,145.0205,5879,100.4,18.7612,34.9004,2,-999,9,34.8957,2,225.8,2,2.54,2,-999,9,1.02,2,0.09,2,0,2,-999,9,-999,9,-999,9,-999,9,-999,9,-999,9,   -999.0,  9,-999,9,-999,-999,9,-999,9,-999,9,-999,9,-999,-999,-999,9,100,18.7435,25.0102,-999,9
RF05-01,NONE,RF-2367,1,16,02-18570,2,20050305,0804,29.993,145.0205,5879,126.8,18.1041,34.8242,2,-999,9,-999,9,209.6,2,3.56,2,-999,9,3.36,2,0.02,2,0,2,-999,9,-999,9,-999,9,-999,9,-999,9,-999,9,   -999.0,  9,-999,9,-999,-999,9,-999,9,-999,9,-999,9,-999,-999,-999,9,126,18.0823,25.1171,-999,9
RF05-01,NONE,RF-2367,1,15,02-18569,2,20050305,0803,29.993,145.0205,5879,150.6,17.9124,34.8098,2,-999,9,-999,9,203.9,2,3.87,2,-999,9,4,2,0.01,2,0,2,-999,9,-999,9,-999,9,-999,9,-999,9,-999,9,   -999.0,  9,-999,9,-999,-999,9,-999,9,-999,9,-999,9,-999,-999,-999,9,149,17.8867,25.1543,-999,9
RF05-01,NONE,RF-2367,1,14,02-18568,2,20050305,0801,29.993,145.0205,5879,199.5,17.1256,34.78,2,-999,9,34.7796,2,210.7,2,4.38,2,-999,9,4.73,2,0,2,0,2,-999,9,-999,9,-999,9,-999,9,-999,9,-999,9,   -999.0,  9,-999,9,-999,-999,9,-999,9,-999,9,-999,9,-999,-999,-999,9,198,17.0926,25.3234,-999,9
RF05-01,NONE,RF-2367,1,13,02-18567,2,20050305,0800,29.993,145.0205,5879,251.8,16.755,34.7498,2,-999,9,-999,9,208.7,2,5.48,2,-999,9,5.64,2,0,2,0.02,2,-999,9,-999,9,-999,9,-999,9,-999,9,-999,9,   -999.0,  9,-999,9,-999,-999,9,-999,9,-999,9,-999,9,-999,-999,-999,9,250,16.7139,25.3897,-999,9
RF05-01,NONE,RF-2367,1,12,02-18566,2,20050305,0758,29.993,145.0205,5879,302,16.3323,34.712,2,-999,9,34.7123,2,202.9,2,6.51,2,-999,9,6.58,2,0,2,0.04,2,-999,9,-999,9,-999,9,-999,9,-999,9,-999,9,   -999.0,  9,-999,9,-999,-999,9,-999,9,-999,9,-999,9,-999,-999,-999,9,300,16.2838,25.4609,-999,9
RF05-01,NONE,RF-2367,1,11,02-18565,2,20050305,0756,29.993,145.0205,5879,403,14.5144,34.5646,2,-999,9,34.5638,2,188.6,2,12.91,2,-999,9,11.08,2,0,2,0.16,2,-999,9,-999,9,-999,9,-999,9,-999,9,-999,9,   -999.0,  9,-999,9,-999,-999,9,-999,9,-999,9,-999,9,-999,-999,-999,9,400,14.4546,25.7543,-999,9
RF05-01,NONE,RF-2367,1,10,02-18564,2,20050305,0753,29.993,145.0205,5879,501.7,11.8208,34.3756,2,-999,9,34.3776,2,179.3,2,22.74,2,-999,9,16.02,2,0,2,0.34,2,-999,9,-999,9,-999,9,-999,9,-999,9,-999,9,   -999.0,  9,-999,9,-999,-999,9,-999,9,-999,9,-999,9,-999,-999,-999,9,498,11.7556,26.1503,-999,9
RF05-01,NONE,RF-2367,1,9,02-18563,2,20050305,0751,29.993,145.0205,5879,605.9,8.8173,34.1507,2,-999,9,34.1519,2,172.7,2,36.85,2,-999,9,21.57,2,0,2,0.6,2,-999,9,-999,9,-999,9,-999,9,-999,9,-999,9,   -999.0,  9,-999,9,-999,-999,9,-999,9,-999,9,-999,9,-999,-999,-999,9,601,8.7515,26.4923,-999,9
RF05-01,NONE,RF-2367,1,8,02-18562,2,20050305,0748,29.993,145.0205,5879,706.2,6.1564,33.9715,2,-999,9,33.973,2,160,2,55.31,2,-999,9,27.41,2,0,2,0.95,2,-999,9,-999,9,-999,9,-999,9,-999,9,-999,9,   -999.0,  9,-999,9,-999,-999,9,-999,9,-999,9,-999,9,-999,-999,-999,9,700,6.0934,26.7281,-999,9
RF05-01,NONE,RF-2367,1,7,02-18561,2,20050305,0745,29.993,145.0205,5879,806.1,5.0745,34.0499,2,-999,9,34.0499,2,106.8,2,78.08,2,-999,9,33.71,2,0,2,1.38,2,-999,9,-999,9,-999,9,-999,9,-999,9,-999,9,   -999.0,  9,-999,9,-999,-999,9,-999,9,-999,9,-999,9,-999,-999,-999,9,799,5.0086,26.921,-999,9
RF05-01,NONE,RF-2367,1,6,02-18560,2,20050305,0743,29.993,145.0205,5879,909.4,4.5397,34.1514,2,-999,9,34.1517,2,72.5,2,95.11,2,-999,9,37.25,2,0,2,1.7,2,-999,9,-999,9,-999,9,-999,9,-999,9,-999,9,   -999.0,  9,-999,9,-999,-999,9,-999,9,-999,9,-999,9,-999,-999,-999,9,901,4.4683,27.0617,-999,9
RF05-01,NONE,RF-2367,1,5,02-18559,3,20050305,0740,29.993,145.0205,5879,1008.5,4.0729,34.2391,2,-999,9,34.2397,2,56,2,108.99,2,-999,9,39.26,2,0,2,1.97,2,-999,9,-999,9,-999,9,-999,9,-999,9,-999,9,   -999.0,  9,-999,9,-999,-999,9,-999,9,-999,9,-999,9,-999,-999,-999,9,999,3.9964,27.1812,-999,9
RF05-01,NONE,RF-2367,1,4,02-18558,3,20050305,0735,29.993,145.0205,5879,1262.5,3.107,34.3942,2,-999,9,34.3942,2,39.5,2,135.17,2,-999,9,41.6,2,0,2,2.45,2,-999,9,-999,9,-999,9,-999,9,-999,9,-999,9,   -999.0,  9,-999,9,-999,-999,9,-999,9,-999,9,-999,9,-999,-999,-999,9,1250,3.0179,27.3998,-999,9
RF05-01,NONE,RF-2367,1,3,02-18557,2,20050305,0730,29.993,145.0205,5879,1515.4,2.5603,34.4872,2,-999,9,34.4865,2,40.6,2,149.72,2,-999,9,41.92,2,0,2,2.72,2,-999,9,-999,9,-999,9,-999,9,-999,9,-999,9,   -999.0,  9,-999,9,-999,-999,9,-999,9,-999,9,-999,9,-999,-999,-999,9,1500,2.4565,27.5236,-999,9
RF05-01,NONE,RF-2367,1,2,02-18556,2,20050305,0725,29.993,145.0205,5879,1770.3,2.2405,34.5461,2,-999,9,34.546,2,53.4,2,156.01,2,-999,9,41.39,2,0,2,2.85,2,-999,9,-999,9,-999,9,-999,9,-999,9,-999,9,   -999.0,  9,-999,9,-999,-999,9,-999,9,-999,9,-999,9,-999,-999,-999,9,1751,2.1199,27.5985,-999,9
RF05-01,NONE,RF-2367,1,1,02-18555,2,20050305,0720,29.993,145.0205,5879,2024.4,2.0049,34.59,2,-999,9,34.5898,2,74.5,2,156.81,2,-999,9,40.16,2,0,2,2.86,2,-999,9,-999,9,-999,9,-999,9,-999,9,-999,9,   -999.0,  9,-999,9,-999,-999,9,-999,9,-999,9,-999,9,-999,-999,-999,9,2001,1.8665,27.6536,-999,9
RF05-01,NONE,RF-2369,1,-9,-9,5,20050305,1918,30.9977,144.0042,5781,0,19.0307,34.8337,2,-999,9,-999,9,227.1,2,2.26,2,-999,9,0.62,2,0.11,2,0.05,2,-999,9,-999,9,-999,9,-999,9,-999,9,-999,9,   -999.0,  9,-999,9,-999,-999,9,-999,9,-999,9,-999,9,-999,-999,-999,9,0,19.0306,24.8863,-999,9
RF05-01,NONE,RF-2369,1,21,02-18575,2,20050305,1934,30.9977,144.0042,5781,10,19.0304,34.9268,2,-999,9,-999,9,231.6,2,2.15,2,-999,9,0.6,2,0.11,2,0.05,2,-999,9,-999,9,-999,9,-999,9,-999,9,-999,9,   -999.0,  9,-999,9,-999,-999,9,-999,9,-999,9,-999,9,-999,-999,-999,9,10,19.0286,24.9579,-999,9
RF05-01,NONE,RF-2369,1,20,02-18574,2,20050305,1933,30.9977,144.0042,5781,24.9,19.0355,34.9264,2,-999,9,-999,9,230.3,2,2.24,2,-999,9,0.6,2,0.11,2,0.05,2,-999,9,-999,9,-999,9,-999,9,-999,9,-999,9,   -999.0,  9,-999,9,-999,-999,9,-999,9,-999,9,-999,9,-999,-999,-999,9,25,19.0311,24.957,-999,9
RF05-01,NONE,RF-2369,1,19,02-18573,2,20050305,1932,30.9977,144.0042,5781,50.5,19.045,34.927,2,-999,9,-999,9,226.7,2,2.2,2,-999,9,0.55,2,0.11,2,0.04,2,-999,9,-999,9,-999,9,-999,9,-999,9,-999,9,   -999.0,  9,-999,9,-999,-999,9,-999,9,-999,9,-999,9,-999,-999,-999,9,50,19.036,24.9562,-999,9
RF05-01,NONE,RF-2369,1,18,02-18572,2,20050305,1930,30.9977,144.0042,5781,74.8,19.0567,34.9273,2,-999,9,-999,9,228.2,2,2.2,2,-999,9,0.58,2,0.11,2,0.04,2,-999,9,-999,9,-999,9,-999,9,-999,9,-999,9,   -999.0,  9,-999,9,-999,-999,9,-999,9,-999,9,-999,9,-999,-999,-999,9,74,19.0434,24.9545,-999,9
RF05-01,NONE,RF-2369,1,17,02-18571,2,20050305,1929,30.9977,144.0042,5781,99.2,19.0539,34.9258,2,-999,9,-999,9,227.1,2,2.12,2,-999,9,0.61,2,0.11,2,0.04,2,-999,9,-999,9,-999,9,-999,9,-999,9,-999,9,   -999.0,  9,-999,9,-999,-999,9,-999,9,-999,9,-999,9,-999,-999,-999,9,99,19.0362,24.9552,-999,9
RF05-01,NONE,RF-2369,1,16,02-18570,2,20050305,1928,30.9977,144.0042,5781,125.5,18.9534,34.9038,2,-999,9,-999,9,226.7,2,2.21,2,-999,9,0.95,2,0.11,2,0.05,2,-999,9,-999,9,-999,9,-999,9,-999,9,-999,9,   -999.0,  9,-999,9,-999,-999,9,-999,9,-999,9,-999,9,-999,-999,-999,9,125,18.9311,24.9652,-999,9
RF05-01,NONE,RF-2369,1,15,02-18569,2,20050305,1927,30.9977,144.0042,5781,152.5,18.5449,34.8582,2,-999,9,-999,9,226.5,2,2.54,2,-999,9,1.56,2,0.14,2,0.09,2,-999,9,-999,9,-999,9,-999,9,-999,9,-999,9,   -999.0,  9,-999,9,-999,-999,9,-999,9,-999,9,-999,9,-999,-999,-999,9,151,18.5182,25.0346,-999,9
RF05-01,NONE,RF-2369,1,14,02-18568,2,20050305,1925,30.9977,144.0042,5781,200.4,18.1857,34.8298,2,-999,9,-999,9,213.4,2,3.3,2,-999,9,2.99,2,0.04,2,0.17,2,-999,9,-999,9,-999,9,-999,9,-999,9,-999,9,   -999.0,  9,-999,9,-999,-999,9,-999,9,-999,9,-999,9,-999,-999,-999,9,199,18.1511,25.1044,-999,9
RF05-01,NONE,RF-2369,1,13,02-18567,3,20050305,1923,30.9977,144.0042,5781,252.4,17.4668,34.7956,2,-999,9,-999,9,214.2,2,3.91,2,-999,9,4.27,2,0,2,0.22,2,-999,9,-999,9,-999,9,-999,9,-999,9,-999,9,   -999.0,  9,-999,9,-999,-999,9,-999,9,-999,9,-999,9,-999,-999,-999,9,250,17.4244,25.2558,-999,9
RF05-01,NONE,RF-2369,1,12,02-18566,2,20050305,1922,30.9977,144.0042,5781,301.6,16.9516,34.7736,2,-999,9,-999,9,213.5,2,4.58,2,-999,9,4.89,2,0,2,0.26,2,-999,9,-999,9,-999,9,-999,9,-999,9,-999,9,   -999.0,  9,-999,9,-999,-999,9,-999,9,-999,9,-999,9,-999,-999,-999,9,299,16.9019,25.3637,-999,9
RF05-01,NONE,RF-2369,1,11,02-18565,2,20050305,1919,30.9977,144.0042,5781,402.5,15.6946,34.6531,2,-999,9,-999,9,195,2,8.58,2,-999,9,8.45,2,0,2,0.49,2,-999,9,-999,9,-999,9,-999,9,-999,9,-999,9,   -999.0,  9,-999,9,-999,-999,9,-999,9,-999,9,-999,9,-999,-999,-999,9,399,15.6315,25.5642,-999,9
RF05-01,NONE,RF-2369,1,10,02-18564,2,20050305,1916,30.9977,144.0042,5781,501.7,13.4251,34.4896,2,-999,9,-999,9,185,2,16.27,2,-999,9,13.22,2,0,2,0.82,2,-999,9,-999,9,-999,9,-999,9,-999,9,-999,9,   -999.0,  9,-999,9,-999,-999,9,-999,9,-999,9,-999,9,-999,-999,-999,9,498,13.3542,25.926,-999,9
RF05-01,NONE,RF-2369,1,9,02-18563,2,20050305,1914,30.9977,144.0042,5781,603.4,10.4511,34.2634,2,-999,9,-999,9,183.5,2,26.35,2,-999,9,18.12,2,0,2,1.18,2,-999,9,-999,9,-999,9,-999,9,-999,9,-999,9,   -999.0,  9,-999,9,-999,-999,9,-999,9,-999,9,-999,9,-999,-999,-999,9,598,10.3783,26.3118,-999,9
RF05-01,NONE,RF-2369,1,8,02-18562,2,20050305,1911,30.9977,144.0042,5781,707.7,8.1821,34.1377,2,-999,9,-999,9,155.1,2,46.91,2,-999,9,25.37,2,0,2,1.75,2,-999,9,-999,9,-999,9,-999,9,-999,9,-999,9,   -999.0,  9,-999,9,-999,-999,9,-999,9,-999,9,-999,9,-999,-999,-999,9,702,8.1081,26.5805,-999,9
RF05-01,NONE,RF-2369,1,7,02-18561,2,20050305,1909,30.9977,144.0042,5781,806,5.8294,34.0693,2,-999,9,-999,9,116.9,2,68.35,2,-999,9,32.07,2,0,2,2.27,2,-999,9,-999,9,-999,9,-999,9,-999,9,-999,9,   -999.0,  9,-999,9,-999,-999,9,-999,9,-999,9,-999,9,-999,-999,-999,9,799,5.7589,26.8472,-999,9
RF05-01,NONE,RF-2369,1,6,02-18560,2,20050305,1906,30.9977,144.0042,5781,906.9,4.8401,34.137,2,-999,9,-999,9,78.6,2,89.13,2,-999,9,36.96,2,0,2,2.64,2,-999,9,-999,9,-999,9,-999,9,-999,9,-999,9,   -999.0,  9,-999,9,-999,-999,9,-999,9,-999,9,-999,9,-999,-999,-999,9,899,4.7668,27.0174,-999,9
RF05-01,NONE,RF-2369,1,5,02-18559,2,20050305,1904,30.9977,144.0042,5781,1006.8,4.2091,34.2226,2,-999,9,-999,9,54.4,2,105.96,2,-999,9,39.68,2,0,2,2.84,2,-999,9,-999,9,-999,9,-999,9,-999,9,-999,9,   -999.0,  9,-999,9,-999,-999,9,-999,9,-999,9,-999,9,-999,-999,-999,9,997,4.1317,27.1541,-999,9
RF05-01,NONE,RF-2369,1,4,02-18558,3,20050305,1858,30.9977,144.0042,5781,1262.2,3.3111,34.3678,2,-999,9,-999,9,38.1,2,129.8,2,-999,9,41.89,2,0,2,3.01,2,-999,9,-999,9,-999,9,-999,9,-999,9,-999,9,   -999.0,  9,-999,9,-999,-999,9,-999,9,-999,9,-999,9,-999,-999,-999,9,1250,3.2201,27.36,-999,9
RF05-01,NONE,RF-2369,1,3,02-18557,2,20050305,1853,30.9977,144.0042,5781,1514.2,2.708,34.4676,2,-999,9,-999,9,38.6,2,145.57,2,-999,9,42.43,2,0,2,3.04,2,-999,9,-999,9,-999,9,-999,9,-999,9,-999,9,   -999.0,  9,-999,9,-999,-999,9,-999,9,-999,9,-999,9,-999,-999,-999,9,1498,2.6026,27.4953,-999,9
RF05-01,NONE,RF-2369,1,2,02-18556,2,20050305,1848,30.9977,144.0042,5781,1772.6,2.3544,34.538,2,-999,9,-999,9,56.4,2,151.19,2,-999,9,41.65,2,0,2,2.95,2,-999,9,-999,9,-999,9,-999,9,-999,9,-999,9,   -999.0,  9,-999,9,-999,-999,9,-999,9,-999,9,-999,9,-999,-999,-999,9,1753,2.2321,27.5829,-999,9
RF05-01,NONE,RF-2369,1,1,02-18555,2,20050305,1841,30.9977,144.0042,5781,2046,2.0476,34.5881,2,-999,9,-999,9,77.8,2,153.83,2,-999,9,40.54,2,0,2,2.85,2,-999,9,-999,9,-999,9,-999,9,-999,9,-999,9,   -999.0,  9,-999,9,-999,-999,9,-999,9,-999,9,-999,9,-999,-999,-999,9,2022,1.9067,27.649,-999,9