BOTTLE,20131214MIRCJHATS
EXPOCODE,SECT_ID,STNNBR,CASTNO,SAMPNO,BTLNBR,BTLNBR_FLAG_W,DATE,TIME,LATITUDE,LONGITUDE,DEPTH,CTDPRS,CTDTMP,CTDSAL,CTDSAL_FLAG_W,CTDOXY,CTDOXY_FLAG_W,SALNTY,SALNTY_FLAG_W,OXYGEN,OXYGEN_FLAG_W,SILCAT,SILCAT_FLAG_W,NITRAT,NITRAT_FLAG_W,NO2+NO3,NO2+NO3_FLAG_W,NITRIT,NITRIT_FLAG_W,PHSPHT,PHSPHT_FLAG_W,CFC-11,CFC-11_FLAG_W,CFC-12,CFC-12_FLAG_W,DELC13,DELC13_FLAG_W,TCARBN,TCARBN_FLAG_W,ALKALI,ALKALI_FLAG_W,PH,PH_FLAG_W,PH_TMP,PH_SCALE,PH_NBS,PH_NBS_FLAG_W,C13ERR,TOTALP,TOTALP_FLAG_W,AMMONI,AMMONI_FLAG_W,CHLORA,CHLORA_FLAG_W,PPHYTN,PPHYTN_FLAG_W,REVPRS,REVTMP,DEPTH,DEPTH_FLAG,CTDDEP,THETA,SIGTHT,DOC,DOC_FLAG_W
,,,,,,,GMT,GMT,,,METERS,DBAR,ITS-90,PSS-78,,UMOL/KG,,PSS-78,,UMOL/KG,,UMOL/KG,,UMOL/KG,,UMOL/KG,,UMOL/KG, ,UMOL/KG,,PMOL/KG,,PMOL/KG,,/MILLE,,UMOL/KG,,UMOL/KG,,25_DEG_C,,DEG_C,,,,/MILLE,UMOL/KG,,UMOL/KG,,UG/L,,UG/L,,DBAR,ITS-90,METERS,,METERS,DEG_C,,UMOL/L
RF05-01,142E,RF-2374,1,-9,-9,5,20050307,1800,33.5002,141.5362,6379,0,18.2829,34.8949,2,-999,9,-999,9,229.5,2,2.46,2,-999,9,1.36,2,0.11,2,0.08,2,-999,9,-999,9,-999,9,-999,9,-999,9,-999,9,   -999.0,  9,-999,9,-999,-999,9,-999,9,0.15,2,0.17,2,-999,-999,-999,9,0,18.2828,25.1215,-999,9
RF05-01,142E,RF-2374,1,22,02-18576,2,20050307,1809,33.5002,141.5362,6379,10.7,18.2805,34.8935,2,-999,9,34.8912,2,231.6,2,2.37,2,-999,9,1.3,2,0.11,2,0.07,2,-999,9,-999,9,-999,9,-999,9,-999,9,-999,9,   -999.0,  9,-999,9,-999,-999,9,-999,9,0.2,2,0.13,2,-999,-999,-999,9,11,18.2787,25.1215,-999,9
RF05-01,142E,RF-2374,1,21,02-18575,2,20050307,1808,33.5002,141.5362,6379,25.5,18.2916,34.8945,2,-999,9,-999,9,228.9,2,2.52,2,-999,9,1.29,2,0.12,2,0.08,2,-999,9,-999,9,-999,9,-999,9,-999,9,-999,9,   -999.0,  9,-999,9,-999,-999,9,-999,9,0.2,2,0.14,2,-999,-999,-999,9,25,18.2872,25.1201,-999,9
RF05-01,142E,RF-2374,1,20,02-18574,2,20050307,1807,33.5002,141.5362,6379,52.3,18.2983,34.8948,2,-999,9,-999,9,232.2,2,2.51,2,-999,9,1.3,2,0.11,2,0.08,2,-999,9,-999,9,-999,9,-999,9,-999,9,-999,9,   -999.0,  9,-999,9,-999,-999,9,-999,9,0.19,2,0.13,2,-999,-999,-999,9,52,18.2892,25.1198,-999,9
RF05-01,142E,RF-2374,1,19,02-18573,2,20050307,1805,33.5002,141.5362,6379,76.6,18.3046,34.895,2,-999,9,-999,9,228.8,2,2.51,2,-999,9,1.26,2,0.12,2,0.07,2,-999,9,-999,9,-999,9,-999,9,-999,9,-999,9,   -999.0,  9,-999,9,-999,-999,9,-999,9,0.19,2,0.12,2,-999,-999,-999,9,76,18.2913,25.1195,-999,9
RF05-01,142E,RF-2374,1,18,02-18572,2,20050307,1804,33.5002,141.5362,6379,101.9,18.2983,34.8941,2,-999,9,34.8931,2,232.1,2,2.44,2,-999,9,1.25,2,0.16,2,0.06,2,-999,9,-999,9,-999,9,-999,9,-999,9,-999,9,   -999.0,  9,-999,9,-999,-999,9,-999,9,0.2,2,0.13,2,-999,-999,-999,9,101,18.2806,25.1215,-999,9
RF05-01,142E,RF-2374,1,17,02-18571,2,20050307,1803,33.5002,141.5362,6379,126.3,18.2918,34.8929,2,-999,9,-999,9,233,2,2.33,2,-999,9,1.25,2,0.16,2,0.06,2,-999,9,-999,9,-999,9,-999,9,-999,9,-999,9,   -999.0,  9,-999,9,-999,-999,9,-999,9,0.19,2,0.14,2,-999,-999,-999,9,125,18.2699,25.1232,-999,9
RF05-01,142E,RF-2374,1,16,02-18570,3,20050307,1802,33.5002,141.5362,6379,151,18.2916,34.892,2,-999,9,-999,9,230,2,2.44,2,-999,9,1.23,2,0.18,2,0.05,2,-999,9,-999,9,-999,9,-999,9,-999,9,-999,9,   -999.0,  9,-999,9,-999,-999,9,-999,9,0.17,2,0.13,2,-999,-999,-999,9,150,18.2654,25.1237,-999,9
RF05-01,142E,RF-2374,1,15,02-18569,2,20050307,1801,33.5002,141.5362,6379,202.1,17.9624,34.8515,2,-999,9,34.8498,2,227.6,2,2.83,2,-999,9,1.92,2,0.06,2,0.08,2,-999,9,-999,9,-999,9,-999,9,-999,9,-999,9,   -999.0,  9,-999,9,-999,-999,9,-999,9,0.05,2,0.07,2,-999,-999,-999,9,201,17.9278,25.1761,-999,9
RF05-01,142E,RF-2374,1,14,02-18568,2,20050307,1759,33.5002,141.5362,6379,251.3,17.761,34.8264,2,-999,9,-999,9,230.1,2,3.04,2,-999,9,2.45,2,0.01,2,0.11,2,-999,9,-999,9,-999,9,-999,9,-999,9,-999,9,   -999.0,  9,-999,9,-999,-999,9,-999,9,-999,9,-999,9,-999,-999,-999,9,249,17.7182,25.2081,-999,9
RF05-01,142E,RF-2374,1,13,02-18567,2,20050307,1757,33.5002,141.5362,6379,302.3,17.2647,34.7911,2,-999,9,34.79,2,214.1,2,4.07,2,-999,9,4.3,2,0,2,0.2,2,-999,9,-999,9,-999,9,-999,9,-999,9,-999,9,   -999.0,  9,-999,9,-999,-999,9,-999,9,-999,9,-999,9,-999,-999,-999,9,300,17.2142,25.3029,-999,9
RF05-01,142E,RF-2374,1,12,02-18566,2,20050307,1754,33.5002,141.5362,6379,403.9,15.9456,34.6748,2,-999,9,34.6741,2,202.7,2,7.38,2,-999,9,7.33,2,0,2,0.39,2,-999,9,-999,9,-999,9,-999,9,-999,9,-999,9,   -999.0,  9,-999,9,-999,-999,9,-999,9,-999,9,-999,9,-999,-999,-999,9,401,15.8816,25.5244,-999,9
RF05-01,142E,RF-2374,1,11,02-18565,2,20050307,1750,33.5002,141.5362,6379,507.1,13.8531,34.5143,2,-999,9,34.5218,2,187.6,2,13.71,2,-999,9,11.7,2,0,2,0.67,2,-999,9,-999,9,-999,9,-999,9,-999,9,-999,9,   -999.0,  9,-999,9,-999,-999,9,-999,9,-999,9,-999,9,-999,-999,-999,9,503,13.7799,25.8576,-999,9
RF05-01,142E,RF-2374,1,10,02-18564,2,20050307,1747,33.5002,141.5362,6379,608,11.2937,34.3361,2,-999,9,34.3377,2,182.1,2,24.43,2,-999,9,17.06,2,0,2,1.08,2,-999,9,-999,9,-999,9,-999,9,-999,9,-999,9,   -999.0,  9,-999,9,-999,-999,9,-999,9,-999,9,-999,9,-999,-999,-999,9,603,11.2166,26.2193,-999,9
RF05-01,142E,RF-2374,1,9,02-18563,2,20050307,1744,33.5002,141.5362,6379,707.7,8.4859,34.1585,2,-999,9,34.1605,2,160.6,2,41.7,2,-999,9,23.5,2,0,2,1.6,2,-999,9,-999,9,-999,9,-999,9,-999,9,-999,9,   -999.0,  9,-999,9,-999,-999,9,-999,9,-999,9,-999,9,-999,-999,-999,9,701,8.4103,26.5511,-999,9
RF05-01,142E,RF-2374,1,8,02-18562,2,20050307,1741,33.5002,141.5362,6379,808.2,5.9065,34.0647,2,-999,9,34.0651,2,126.6,2,67.17,2,-999,9,31.05,2,0,2,2.21,2,-999,9,-999,9,-999,9,-999,9,-999,9,-999,9,   -999.0,  9,-999,9,-999,-999,9,-999,9,-999,9,-999,9,-999,-999,-999,9,801,5.8353,26.8342,-999,9
RF05-01,142E,RF-2374,1,7,02-18561,2,20050307,1738,33.5002,141.5362,6379,909.9,4.9116,34.1332,2,-999,9,34.1332,2,86,2,87.83,2,-999,9,36.1,2,0,2,2.59,2,-999,9,-999,9,-999,9,-999,9,-999,9,-999,9,   -999.0,  9,-999,9,-999,-999,9,-999,9,-999,9,-999,9,-999,-999,-999,9,901, 4.8376,27.0065,-999,9
RF05-01,142E,RF-2374,1,6,02-18560,2,20050307,1735,33.5002,141.5362,6379,1009.4,4.2047,34.2155,2,-999,9,34.2147,2,60.1,2,105.93,2,-999,9,38.92,2,0,2,2.82,2,-999,9,-999,9,-999,9,-999,9,-999,9,-999,9,   -999.0,  9,-999,9,-999,-999,9,-999,9,-999,9,-999,9,-999,-999,-999,9,1000, 4.1272,27.1489,-999,9
RF05-01,142E,RF-2374,1,5,02-18559,2,20050307,1735,33.5002,141.5362,6379,1009.5,4.2121,34.2143,2,-999,9,-999,9,-999,9,-999,9,-999,9,-999,9,-999,9,-999,9,-999,9,-999,9,-999,9,-999,9,-999,9,-999,9,   -999.0,  9,-999,9,-999,-999,9,-999,9,-999,9,-999,9,-999,-999,-999,9,1000,4.1345,27.1472,-999,9
RF05-01,142E,RF-2374,1,4,02-18558,2,20050307,1729,33.5002,141.5362,6379,1264.9,3.3046,34.3767,2,-999,9,34.3759,2,45.7,2,129.89,2,-999,9,40.96,2,0,2,2.97,2,-999,9,-999,9,-999,9,-999,9,-999,9,-999,9,   -999.0,  9,-999,9,-999,-999,9,-999,9,-999,9,-999,9,-999,-999,-999,9,1252,3.2134,27.3678,-999,9
RF05-01,142E,RF-2374,1,3,02-18557,2,20050307,1724,33.5002,141.5362,6379,1518.8,2.758,34.4652,2,-999,9,34.4644,2,43.4,2,143.82,2,-999,9,41.71,2,0,2,3.01,2,-999,9,-999,9,-999,9,-999,9,-999,9,-999,9,   -999.0,  9,-999,9,-999,-999,9,-999,9,-999,9,-999,9,-999,-999,-999,9,1503,2.6517,27.4892,-999,9
RF05-01,142E,RF-2374,1,2,02-18556,2,20050307,1719,33.5002,141.5362,6379,1772,2.33,34.5325,2,-999,9,34.5321,2,54.5,2,153.08,2,-999,9,41.46,2,0,2,2.97,2,-999,9,-999,9,-999,9,-999,9,-999,9,-999,9,   -999.0,  9,-999,9,-999,-999,9,-999,9,-999,9,-999,9,-999,-999,-999,9,1752,2.2081,27.5805,-999,9
RF05-01,142E,RF-2374,1,1,02-18555,2,20050307,1714,33.5002,141.5362,6379,2030.8,2.0529,34.5832,2,-999,9,34.5826,2,76.5,2,154.12,2,-999,9,40.18,2,0,2,2.85,2,-999,9,-999,9,-999,9,-999,9,-999,9,-999,9,   -999.0,  9,-999,9,-999,-999,9,-999,9,-999,9,-999,9,-999,-999,-999,9,2007,1.9132,27.6445,-999,9
RF05-01,NONE,RF-2376,1,-9,-9,5,20050308,1935,34.9627,140.2678,1540,0,15.6677,34.6908,2,-999,9,-999,9,230.9,2,8.81,2,-999,9,5.49,2,0.23,2,0.26,2,-999,9,-999,9,-999,9,-999,9,-999,9,-999,9,   -999.0,  9,-999,9,-999,-999,9,-999,9,1,2,0.35,2,-999,-999,-999,9,0,15.6676,25.5852,-999,9
RF05-01,NONE,RF-2376,1,19,02-18573,2,20050308,1948,34.9627,140.2678,1540,9.6,15.6714,34.6902,2,-999,9,-999,9,230.7,2,9.06,2,-999,9,5.73,2,0.23,2,0.3,2,-999,9,-999,9,-999,9,-999,9,-999,9,-999,9,   -999.0,  9,-999,9,-999,-999,9,-999,9,0.77,2,0.32,2,-999,-999,-999,9,9,15.6699,25.5842,-999,9
RF05-01,NONE,RF-2376,1,18,02-18572,3,20050308,1947,34.9627,140.2678,1540,25.1,15.4881,34.6672,2,-999,9,-999,9,223,2,10.57,2,-999,9,6.65,2,0.27,2,0.35,2,-999,9,-999,9,-999,9,-999,9,-999,9,-999,9,   -999.0,  9,-999,9,-999,-999,9,-999,9,0.65,2,0.29,2,-999,-999,-999,9,25,15.4842,25.6081,-999,9
RF05-01,NONE,RF-2376,1,17,02-18571,2,20050308,1945,34.9627,140.2678,1540,49.2,15.3586,34.6525,2,-999,9,-999,9,220,2,11.13,2,-999,9,7.08,2,0.29,2,0.36,2,-999,9,-999,9,-999,9,-999,9,-999,9,-999,9,   -999.0,  9,-999,9,-999,-999,9,-999,9,0.48,2,0.26,2,-999,-999,-999,9,49,15.3511,25.6265,-999,9
RF05-01,NONE,RF-2376,1,16,02-18570,2,20050308,1944,34.9627,140.2678,1540,77.2,14.6417,34.605,2,-999,9,-999,9,209.1,2,14.37,2,-999,9,8.99,2,0.29,2,0.48,2,-999,9,-999,9,-999,9,-999,9,-999,9,-999,9,   -999.0,  9,-999,9,-999,-999,9,-999,9,0.35,2,0.25,2,-999,-999,-999,9,77,14.6303,25.7478,-999,9
RF05-01,NONE,RF-2376,1,15,02-18569,2,20050308,1943,34.9627,140.2678,1540,102.4,12.7757,34.493,2,-999,9,-999,9,177.7,2,25.48,2,-999,9,14.92,2,0.14,2,0.88,2,-999,9,-999,9,-999,9,-999,9,-999,9,-999,9,   -999.0,  9,-999,9,-999,-999,9,-999,9,0.18,2,0.16,2,-999,-999,-999,9,102,12.7619,26.0475,-999,9
RF05-01,NONE,RF-2376,1,14,02-18568,2,20050308,1941,34.9627,140.2678,1540,126.7,11.491,34.4202,2,-999,9,-999,9,153.9,2,33.51,2,-999,9,19.23,2,0.02,2,1.21,2,-999,9,-999,9,-999,9,-999,9,-999,9,-999,9,   -999.0,  9,-999,9,-999,-999,9,-999,9,0.08,2,0.07,2,-999,-999,-999,9,126,11.4751,26.2372,-999,9
RF05-01,NONE,RF-2376,1,13,02-18567,2,20050308,1940,34.9627,140.2678,1540,151.6,11.261,34.4087,2,-999,9,-999,9,150.4,2,34.62,2,-999,9,19.84,2,0.01,2,1.28,2,-999,9,-999,9,-999,9,-999,9,-999,9,-999,9,   -999.0,  9,-999,9,-999,-999,9,-999,9,0.02,2,0.06,2,-999,-999,-999,9,150,11.2422,26.2711,-999,9
RF05-01,NONE,RF-2376,1,12,02-18566,2,20050308,1937,34.9627,140.2678,1540,204.3,10.3228,34.3684,2,-999,9,-999,9,142,2,41.19,2,-999,9,22.21,2,0.01,2,1.46,2,-999,9,-999,9,-999,9,-999,9,-999,9,-999,9,   -999.0,  9,-999,9,-999,-999,9,-999,9,0.01,2,0.04,2,-999,-999,-999,9,203,10.2988,26.4075,-999,9
RF05-01,NONE,RF-2376,1,11,02-18565,2,20050308,1934,34.9627,140.2678,1540,254.9,9.0054,34.2967,2,-999,9,-999,9,134.5,2,49.36,2,-999,9,24.98,2,0.01,2,1.68,2,-999,9,-999,9,-999,9,-999,9,-999,9,-999,9,   -999.0,  9,-999,9,-999,-999,9,-999,9,-999,9,-999,9,-999,-999,-999,9,253,8.9779,26.5709,-999,9
RF05-01,NONE,RF-2376,1,10,02-18564,2,20050308,1931,34.9627,140.2678,1540,303.9,8.5385,34.3033,2,-999,9,-999,9,123.4,2,55.47,2,-999,9,26.61,2,0,2,1.81,2,-999,9,-999,9,-999,9,-999,9,-999,9,-999,9,   -999.0,  9,-999,9,-999,-999,9,-999,9,-999,9,-999,9,-999,-999,-999,9,302,8.5066,26.65,-999,9
RF05-01,NONE,RF-2376,1,9,02-18563,2,20050308,1925,34.9627,140.2678,1540,405.9,6.8851,34.1685,2,-999,9,-999,9,125.9,2,64.6,2,-999,9,29.43,2,0.01,2,2.05,2,-999,9,-999,9,-999,9,-999,9,-999,9,-999,9,   -999.0,  9,-999,9,-999,-999,9,-999,9,-999,9,-999,9,-999,-999,-999,9,403,6.8474,26.7846,-999,9
RF05-01,NONE,RF-2376,1,8,02-18562,2,20050308,1921,34.9627,140.2678,1540,506.4,5.341,34.0601,2,-999,9,-999,9,113.3,2,76.63,2,-999,9,32.96,2,0,2,2.37,2,-999,9,-999,9,-999,9,-999,9,-999,9,-999,9,   -999.0,  9,-999,9,-999,-999,9,-999,9,-999,9,-999,9,-999,-999,-999,9,502,5.2997,26.8953,-999,9
RF05-01,NONE,RF-2376,1,7,02-18561,2,20050308,1917,34.9627,140.2678,1540,607.2,4.4549,34.0314,2,-999,9,-999,9,97.4,2,86.96,2,-999,9,35.84,2,0,2,2.6,2,-999,9,-999,9,-999,9,-999,9,-999,9,-999,9,   -999.0,  9,-999,9,-999,-999,9,-999,9,-999,9,-999,9,-999,-999,-999,9,602,4.4091,26.9727,-999,9
RF05-01,NONE,RF-2376,1,6,02-18560,2,20050308,1913,34.9627,140.2678,1540,706.9,4.2612,34.0997,2,-999,9,-999,9,78.1,2,96.78,2,-999,9,37.53,2,0,2,2.74,2,-999,9,-999,9,-999,9,-999,9,-999,9,-999,9,   -999.0,  9,-999,9,-999,-999,9,-999,9,-999,9,-999,9,-999,-999,-999,9,701,4.2083,27.0483,-999,9
RF05-01,NONE,RF-2376,1,5,02-18559,2,20050308,1910,34.9627,140.2678,1540,806.8,3.9704,34.2185,2,-999,9,-999,9,58.2,2,110.48,2,-999,9,39.28,2,0,2,2.86,2,-999,9,-999,9,-999,9,-999,9,-999,9,-999,9,   -999.0,  9,-999,9,-999,-999,9,-999,9,-999,9,-999,9,-999,-999,-999,9,799,3.9111,27.1735,-999,9
RF05-01,NONE,RF-2376,1,4,02-18558,2,20050308,1907,34.9627,140.2678,1540,908.8,3.6803,34.316,2,-999,9,-999,9,54.2,2,120.39,2,-999,9,39.89,2,0,2,2.9,2,-999,9,-999,9,-999,9,-999,9,-999,9,-999,9,   -999.0,  9,-999,9,-999,-999,9,-999,9,-999,9,-999,9,-999,-999,-999,9,900,3.6147,27.2809,-999,9
RF05-01,NONE,RF-2376,1,3,02-18557,2,20050308,1904,34.9627,140.2678,1540,1009.4,3.4486,34.3335,2,-999,9,-999,9,49.7,2,125.8,2,-999,9,40.3,2,0,2,2.96,2,-999,9,-999,9,-999,9,-999,9,-999,9,-999,9,   -999.0,  9,-999,9,-999,-999,9,-999,9,-999,9,-999,9,-999,-999,-999,9,1000, 3.3768,27.3179,-999,9
RF05-01,NONE,RF-2376,1,2,02-18556,2,20050308,1858,34.9627,140.2678,1540,1259.1,2.9246,34.4315,2,-999,9,-999,9,53,2,138.34,2,-999,9,40.78,2,0,2,2.97,2,-999,9,-999,9,-999,9,-999,9,-999,9,-999,9,   -999.0,  9,-999,9,-999,-999,9,-999,9,-999,9,-999,9,-999,-999,-999,9,1246, 2.8375,27.4459,-999,9
RF05-01,NONE,RF-2376,1,1,02-18555,2,20050308,1854,34.9627,140.2678,1540,1522,2.4663,34.5065,2,-999,9,-999,9,57.8,2,148.73,2,-999,9,40.95,2,0,2,2.96,2,-999,9,-999,9,-999,9,-999,9,-999,9,-999,9,   -999.0,  9,-999,9,-999,-999,9,-999,9,-999,9,-999,9,-999,-999,-999,9,1506,2.363,27.5468,-999,9