BOTTLE,20131214MIRCJHATS
EXPOCODE,SECT_ID,STNNBR,CASTNO,SAMPNO,BTLNBR,BTLNBR_FLAG_W,DATE,TIME,LATITUDE,LONGITUDE,DEPTH,CTDPRS,CTDTMP,CTDSAL,CTDSAL_FLAG_W,CTDOXY,CTDOXY_FLAG_W,SALNTY,SALNTY_FLAG_W,OXYGEN,OXYGEN_FLAG_W,SILCAT,SILCAT_FLAG_W,NITRAT,NITRAT_FLAG_W,NO2+NO3,NO2+NO3_FLAG_W,NITRIT,NITRIT_FLAG_W,PHSPHT,PHSPHT_FLAG_W,CFC-11,CFC-11_FLAG_W,CFC-12,CFC-12_FLAG_W,DELC13,DELC13_FLAG_W,TCARBN,TCARBN_FLAG_W,ALKALI,ALKALI_FLAG_W,PH,PH_FLAG_W,PH_TMP,PH_SCALE,PH_NBS,PH_NBS_FLAG_W,C13ERR,TOTALP,TOTALP_FLAG_W,AMMONI,AMMONI_FLAG_W,CHLORA,CHLORA_FLAG_W,PPHYTN,PPHYTN_FLAG_W,REVPRS,REVTMP,DEPTH,DEPTH_FLAG,CTDDEP,THETA,SIGTHT,DOC,DOC_FLAG_W
,,,,,,,GMT,GMT,,,METERS,DBAR,ITS-90,PSS-78,,UMOL/KG,,PSS-78,,UMOL/KG,,UMOL/KG,,UMOL/KG,,UMOL/KG,,UMOL/KG, ,UMOL/KG,,PMOL/KG,,PMOL/KG,,/MILLE,,UMOL/KG,,UMOL/KG,,25_DEG_C,,DEG_C,,,,/MILLE,UMOL/KG,,UMOL/KG,,UG/L,,UG/L,,DBAR,ITS-90,METERS,,METERS,DEG_C,,UMOL/L
RF05-01,165E,RF-2339,1,-9,-9,5,20050207,1900,2.0803,164.9923,4152,0,29.9664,34.1566,2,-999,9,-999,9,192.4,2,1.21,2,-999,9,0,2,0,2,0.06,2,-999,9,-999,9,-999,9,1894.9,2,-999,9,-999,9,   -999.0,  9,-999,9,-999,-999,9,-999,9,0.04,2,0.03,2,-999,-999,-999,9,0,29.9662,21.1056,-999,9
RF05-01,165E,RF-2339,1,24,02-18578,2,20050207,1919,2.0803,164.9923,4152,9.7,29.9774,34.1555,2,-999,9,-999,9,193,2,1.12,2,-999,9,0,2,0,2,0.06,2,-999,9,-999,9,-999,9,1891.7,2,-999,9,-999,9,   -999.0,  9,-999,9,-999,-999,9,-999,9,0.05,2,0.03,2,-999,-999,-999,9,10,29.975,21.1017,-999,9
RF05-01,165E,RF-2339,1,23,02-18577,3,20050207,1918,2.0803,164.9923,4152,27,29.986,34.1557,2,-999,9,-999,9,192.2,2,1.2,2,-999,9,0,2,0,2,0.06,2,-999,9,-999,9,-999,9,1890.8,2,-999,9,-999,9,   -999.0,  9,-999,9,-999,-999,9,-999,9,0.05,2,0.04,2,-999,-999,-999,9,27,29.9793,21.1004,-999,9
RF05-01,165E,RF-2339,1,22,02-18576,3,20050207,1917,2.0803,164.9923,4152,50.4,30.4001,34.5701,2,-999,9,-999,9,193.8,2,1.16,2,-999,9,0,2,0,2,0.09,2,-999,9,-999,9,-999,9,1919.8,2,-999,9,-999,9,   -999.0,  9,-999,9,-999,-999,9,-999,9,0.08,2,0.06,2,-999,-999,-999,9,50,30.3875,21.2713,-999,9
RF05-01,165E,RF-2339,1,21,02-18575,2,20050207,1916,2.0803,164.9923,4152,76.2,30.1778,34.8348,2,-999,9,-999,9,194.2,2,1.23,2,-999,9,0,2,0,2,0.12,2,-999,9,-999,9,-999,9,1940.2,2,-999,9,-999,9,   -999.0,  9,-999,9,-999,-999,9,-999,9,0.15,2,0.14,2,-999,-999,-999,9,76,30.1588,21.548,-999,9
RF05-01,165E,RF-2339,1,20,02-18574,2,20050207,1915,2.0803,164.9923,4152,99.2,28.9108,35.2145,2,-999,9,-999,9,177.3,2,1.72,2,-999,9,2.44,2,0.3,2,0.29,2,-999,9,-999,9,-999,9,1994.9,2,-999,9,-999,9,   -999.0,  9,-999,9,-999,-999,9,-999,9,0.18,2,0.33,2,-999,-999,-999,9,99,28.8868,22.263,-999,9
RF05-01,165E,RF-2339,1,19,02-18573,2,20050207,1914,2.0803,164.9923,4152,126.5,25.683,35.0577,2,-999,9,-999,9,132.5,2,3.85,2,-999,9,8.43,2,0.04,2,0.61,2,-999,9,-999,9,-999,9,2043,2,-999,9,-999,9,   -999.0,  9,-999,9,-999,-999,9,-999,9,0.05,2,0.25,2,-999,-999,-999,9,126,25.655,23.184,-999,9
RF05-01,165E,RF-2339,1,18,02-18572,2,20050207,1913,2.0803,164.9923,4152,153.3,21.8291,35.0271,2,-999,9,-999,9,132.6,2,6.21,2,-999,9,9.88,2,0,2,0.68,2,-999,9,-999,9,-999,9,2069.8,2,-999,9,-999,9,   -999.0,  9,-999,9,-999,-999,9,-999,9,0.02,2,0.04,2,-999,-999,-999,9,152,21.7989,24.2946,-999,9
RF05-01,165E,RF-2339,1,17,02-18571,3,20050207,1911,2.0803,164.9923,4152,200.8,15.7731,34.7791,2,-999,9,-999,9,136.3,2,14.74,2,-999,9,15.04,2,0,2,1.03,2,-999,9,-999,9,-999,9,2113.5,2,-999,9,-999,9,   -999.0,  9,-999,9,-999,-999,9,-999,9,0,2,0.01,2,-999,-999,-999,9,200,15.7417,25.6364,-999,9
RF05-01,165E,RF-2339,1,16,02-18570,2,20050207,1909,2.0803,164.9923,4152,251.1,12.5914,34.9098,2,-999,9,-999,9,127,2,17.05,2,-999,9,20.98,2,0,2,1.45,2,-999,9,-999,9,-999,9,2156.9,2,-999,9,-999,9,   -999.0,  9,-999,9,-999,-999,9,-999,9,-999,9,-999,9,-999,-999,-999,9,250,12.5575,26.4109,-999,9
RF05-01,165E,RF-2339,1,15,02-18569,2,20050207,1908,2.0803,164.9923,4152,302.6,11.6641,34.8394,2,-999,9,-999,9,114.4,2,20.46,2,-999,9,23.96,2,0,2,1.66,2,-999,9,-999,9,-999,9,2176.7,2,-999,9,-999,9,   -999.0,  9,-999,9,-999,-999,9,-999,9,-999,9,-999,9,-999,-999,-999,9,301,11.6252,26.5353,-999,9
RF05-01,165E,RF-2339,1,14,02-18568,2,20050207,1905,2.0803,164.9923,4152,403,10.0257,34.72,2,-999,9,-999,9,97.2,2,26.81,2,-999,9,28.26,2,0,2,1.95,2,-999,9,-999,9,-999,9,2206.8,2,-999,9,-999,9,   -999.0,  9,-999,9,-999,-999,9,-999,9,-999,9,-999,9,-999,-999,-999,9,400,9.9785,26.737,-999,9
RF05-01,165E,RF-2339,1,13,02-18567,2,20050207,1903,2.0803,164.9923,4152,503.7,8.1024,34.5917,2,-999,9,-999,9,92.3,2,38.18,2,-999,9,32,2,0,2,2.25,2,-999,9,-999,9,-999,9,-999,9,-999,9,-999,9,   -999.0,  9,-999,9,-999,-999,9,-999,9,-999,9,-999,9,-999,-999,-999,9,500,8.0503,26.9456,-999,9
RF05-01,165E,RF-2339,1,12,02-18566,2,20050207,1900,2.0803,164.9923,4152,605.3,6.7943,34.5508,2,-999,9,-999,9,85.8,2,50.58,2,-999,9,35.43,2,0,2,2.5,2,-999,9,-999,9,-999,9,2255.5,2,-999,9,-999,9,   -999.0,  9,-999,9,-999,-999,9,-999,9,-999,9,-999,9,-999,-999,-999,9,601,6.7373,27.1009,-999,9
RF05-01,165E,RF-2339,1,11,02-18565,2,20050207,1857,2.0803,164.9923,4152,705.5,6.0618,34.5421,2,-999,9,-999,9,83.6,2,59.1,2,-999,9,36.94,2,0,2,2.63,2,-999,9,-999,9,-999,9,-999,9,-999,9,-999,9,   -999.0,  9,-999,9,-999,-999,9,-999,9,-999,9,-999,9,-999,-999,-999,9,700,5.9988,27.191,-999,9
RF05-01,165E,RF-2339,1,10,02-18564,2,20050207,1855,2.0803,164.9923,4152,805.8,5.4354,34.5424,2,-999,9,-999,9,82.9,2,68.33,2,-999,9,37.95,2,0,2,2.72,2,-999,9,-999,9,-999,9,2279.4,2,-999,9,-999,9,   -999.0,  9,-999,9,-999,-999,9,-999,9,-999,9,-999,9,-999,-999,-999,9,800,5.3667,27.2693,-999,9
RF05-01,165E,RF-2339,1,9,02-18563,2,20050207,1850,2.0803,164.9923,4152,1007.3,4.3375,34.5586,2,-999,9,-999,9,94.3,2,90.91,2,-999,9,37.8,2,0,2,2.71,2,-999,9,-999,9,-999,9,2300.7,2,-999,9,-999,9,   -999.0,  9,-999,9,-999,-999,9,-999,9,-999,9,-999,9,-999,-999,-999,9,999,4.2585,27.4078,-999,9
RF05-01,165E,RF-2339,1,8,02-18562,2,20050207,1844,2.0803,164.9923,4152,1264,3.6155,34.5795,2,-999,9,-999,9,95.7,2,105.55,2,-999,9,38.28,2,0,2,2.73,2,-999,9,-999,9,-999,9,2317.1,2,-999,9,-999,9,   -999.0,  9,-999,9,-999,-999,9,-999,9,-999,9,-999,9,-999,-999,-999,9,1253,3.5209,27.5,-999,9
RF05-01,165E,RF-2339,1,7,02-18561,2,20050207,1839,2.0803,164.9923,4152,1514.2,2.9907,34.6023,2,-999,9,-999,9,98.6,2,119.82,2,-999,9,38.74,2,0,2,2.77,2,-999,9,-999,9,-999,9,2334.7,2,-999,9,-999,9,   -999.0,  9,-999,9,-999,-999,9,-999,9,-999,9,-999,9,-999,-999,-999,9,1500,2.8817,27.5784,-999,9
RF05-01,165E,RF-2339,1,6,02-18560,2,20050207,1833,2.0803,164.9923,4152,1763.7,2.5806,34.62,2,-999,9,-999,9,106.6,2,127.91,2,-999,9,38.37,2,0,2,2.72,2,-999,9,-999,9,-999,9,-999,9,-999,9,-999,9,   -999.0,  9,-999,9,-999,-999,9,-999,9,-999,9,-999,9,-999,-999,-999,9,1747, 2.4558,27.6298,-999,9
RF05-01,165E,RF-2339,1,5,02-18559,2,20050207,1827,2.0803,164.9923,4152,2022.2,2.2637,34.6362,2,-999,9,-999,9,112.8,2,134.7,2,-999,9,38.21,2,0,2,2.7,2,-999,9,-999,9,-999,9,2341.5,2,-999,9,-999,9,   -999.0,  9,-999,9,-999,-999,9,-999,9,-999,9,-999,9,-999,-999,-999,9,2001,2.1213,27.6705,-999,9
RF05-01,165E,RF-2339,1,4,02-18558,2,20050207,1816,2.0803,164.9923,4152,2530.6,1.8421,34.6607,2,-999,9,-999,9,124.8,2,142.81,2,-999,9,37.43,2,0,2,2.63,2,-999,9,-999,9,-999,9,-999,9,-999,9,-999,9,   -999.0,  9,-999,9,-999,-999,9,-999,9,-999,9,-999,9,-999,-999,-999,9,2502, 1.6620,27.7259,-999,9
RF05-01,165E,RF-2339,1,3,02-18557,2,20050207,1806,2.0803,164.9923,4152,3036.4,1.6775,34.6703,2,-999,9,-999,9,134.7,2,143.97,2,-999,9,36.88,2,0,2,2.57,2,-999,9,-999,9,-999,9,-999,9,-999,9,-999,9,   -999.0,  9,-999,9,-999,-999,9,-999,9,-999,9,-999,9,-999,-999,-999,9,2998,1.4533,27.749,-999,9
RF05-01,165E,RF-2339,1,2,02-18556,2,20050207,1756,2.0803,164.9923,4152,3550.4,1.5414,34.6803,2,-999,9,-999,9,148.4,2,141.93,2,-999,9,35.95,2,0,2,2.49,2,-999,9,-999,9,-999,9,-999,9,-999,9,-999,9,   -999.0,  9,-999,9,-999,-999,9,-999,9,-999,9,-999,9,-999,-999,-999,9,3502,1.269,27.7701,-999,9
RF05-01,165E,RF-2339,1,1,02-18555,2,20050207,1742,2.0803,164.9923,4152,4164.2,1.3415,34.698,2,-999,9,-999,9,176.2,2,130.35,2,-999,9,34.06,2,0,2,2.34,2,-999,9,-999,9,-999,9,-999,9,-999,9,-999,9,   -999.0,  9,-999,9,-999,-999,9,-999,9,-999,9,-999,9,-999,-999,-999,9,4101, 1.0091,27.8021,-999,9
RF05-01,165E,RF-2340,1,-9,-9,5,20050208,0350,0.977,165.0043,4331,0,30.108,34.2967,2,-999,9,-999,9,195.5,2,1.28,2,-999,9,0,2,0,2,0.07,2,-999,9,-999,9,-999,9,-999,9,-999,9,-999,9,   -999.0,  9,-999,9,-999,-999,9,-999,9,-999,9,-999,9,-999,-999,-999,9,0,30.1078,21.1622,-999,9
RF05-01,165E,RF-2340,1,24,02-18578,2,20050208,0406,0.977,165.0043,4331,10.3,30.1105,34.2961,2,-999,9,34.2951,2,194.1,2,1.2,2,-999,9,0,2,0,2,0.07,2,-999,9,-999,9,-999,9,-999,9,-999,9,-999,9,   -999.0,  9,-999,9,-999,-999,9,-999,9,-999,9,-999,9,-999,-999,-999,9,10,30.108,21.1618,-999,9
RF05-01,165E,RF-2340,1,23,02-18577,2,20050208,0405,0.977,165.0043,4331,25.1,30.1115,34.2955,2,-999,9,-999,9,193,2,1.19,2,-999,9,0,2,0,2,0.07,2,-999,9,-999,9,-999,9,-999,9,-999,9,-999,9,   -999.0,  9,-999,9,-999,-999,9,-999,9,-999,9,-999,9,-999,-999,-999,9,25,30.1053,21.1622,-999,9
RF05-01,165E,RF-2340,1,22,02-18576,2,20050208,0404,0.977,165.0043,4331,49.8,30.089,34.2923,2,-999,9,-999,9,193.8,2,1.06,2,-999,9,0,2,0,2,0.07,2,-999,9,-999,9,-999,9,-999,9,-999,9,-999,9,   -999.0,  9,-999,9,-999,-999,9,-999,9,-999,9,-999,9,-999,-999,-999,9,50,30.0766,21.1696,-999,9
RF05-01,165E,RF-2340,1,21,02-18575,2,20050208,0402,0.977,165.0043,4331,76,30.1209,34.3189,2,-999,9,-999,9,192.9,2,0.97,2,-999,9,0,2,0,2,0.07,2,-999,9,-999,9,-999,9,-999,9,-999,9,-999,9,   -999.0,  9,-999,9,-999,-999,9,-999,9,-999,9,-999,9,-999,-999,-999,9,76,30.102,21.1809,-999,9
RF05-01,165E,RF-2340,1,20,02-18574,2,20050208,0401,0.977,165.0043,4331,101,30.2869,34.6507,2,-999,9,34.7585,4,191.3,2,0.97,2,-999,9,0.1,2,0.03,2,0.12,2,-999,9,-999,9,-999,9,-999,9,-999,9,-999,9,   -999.0,  9,-999,9,-999,-999,9,-999,9,-999,9,-999,9,-999,-999,-999,9,100,30.2617,21.3748,-999,9
RF05-01,165E,RF-2340,1,19,02-18573,2,20050208,0400,0.977,165.0043,4331,124.4,26.7108,35.3159,2,-999,9,-999,9,152.7,2,2.75,2,-999,9,6.24,2,0.24,2,0.52,2,-999,9,-999,9,-999,9,-999,9,-999,9,-999,9,   -999.0,  9,-999,9,-999,-999,9,-999,9,-999,9,-999,9,-999,-999,-999,9,124,26.6824,23.0569,-999,9
RF05-01,165E,RF-2340,1,18,02-18572,2,20050208,0359,0.977,165.0043,4331,150.8,20.7682,35.2726,2,-999,9,-999,9,131.8,2,5.74,2,-999,9,10.9,2,0.02,2,0.77,2,-999,9,-999,9,-999,9,-999,9,-999,9,-999,9,   -999.0,  9,-999,9,-999,-999,9,-999,9,-999,9,-999,9,-999,-999,-999,9,150,20.7395,24.7721,-999,9
RF05-01,165E,RF-2340,1,17,02-18571,2,20050208,0357,0.977,165.0043,4331,200.3,15.3215,34.8532,2,-999,9,34.8505,2,138.7,2,15.05,2,-999,9,16.05,2,0,2,1.1,2,-999,9,-999,9,-999,9,-999,9,-999,9,-999,9,   -999.0,  9,-999,9,-999,-999,9,-999,9,-999,9,-999,9,-999,-999,-999,9,199,15.2908,25.7945,-999,9
RF05-01,165E,RF-2340,1,16,02-18570,2,20050208,0356,0.977,165.0043,4331,251.7,12.8675,34.8605,2,-999,9,-999,9,132.3,2,17.5,2,-999,9,20.02,2,0,2,1.38,2,-999,9,-999,9,-999,9,-999,9,-999,9,-999,9,   -999.0,  9,-999,9,-999,-999,9,-999,9,-999,9,-999,9,-999,-999,-999,9,250,12.8331,26.3182,-999,9
RF05-01,165E,RF-2340,1,15,02-18569,2,20050208,0354,0.977,165.0043,4331,301.8,12.1126,34.8583,2,-999,9,-999,9,104.7,2,20.03,2,-999,9,24.23,2,0,2,1.67,2,-999,9,-999,9,-999,9,-999,9,-999,9,-999,9,   -999.0,  9,-999,9,-999,-999,9,-999,9,-999,9,-999,9,-999,-999,-999,9,300,12.0729,26.4651,-999,9
RF05-01,165E,RF-2340,1,14,02-18568,2,20050208,0352,0.977,165.0043,4331,403,10.2537,34.7343,2,-999,9,34.7447,4,102.2,2,25.24,2,-999,9,27.58,2,0,2,1.88,2,-999,9,-999,9,-999,9,-999,9,-999,9,-999,9,   -999.0,  9,-999,9,-999,-999,9,-999,9,-999,9,-999,9,-999,-999,-999,9,400,10.2059,26.7091,-999,9
RF05-01,165E,RF-2340,1,13,02-18567,2,20050208,0350,0.977,165.0043,4331,503.5,7.8853,34.5839,2,-999,9,-999,9,94.7,2,39.12,2,-999,9,32.73,2,0,2,2.26,2,-999,9,-999,9,-999,9,-999,9,-999,9,-999,9,   -999.0,  9,-999,9,-999,-999,9,-999,9,-999,9,-999,9,-999,-999,-999,9,500,7.8341,26.9717,-999,9
RF05-01,165E,RF-2340,1,12,02-18566,2,20050208,0347,0.977,165.0043,4331,604.8,6.9892,34.5664,2,-999,9,34.5678,2,82.3,2,46.02,2,-999,9,35.85,2,0,2,2.5,2,-999,9,-999,9,-999,9,-999,9,-999,9,-999,9,   -999.0,  9,-999,9,-999,-999,9,-999,9,-999,9,-999,9,-999,-999,-999,9,601,6.9313,27.0867,-999,9
RF05-01,165E,RF-2340,1,11,02-18565,2,20050208,0345,0.977,165.0043,4331,705.4,6.2536,34.5516,2,-999,9,-999,9,79.4,2,54.98,2,-999,9,37.47,2,0,2,2.64,2,-999,9,-999,9,-999,9,-999,9,-999,9,-999,9,   -999.0,  9,-999,9,-999,-999,9,-999,9,-999,9,-999,9,-999,-999,-999,9,700,6.1895,27.174,-999,9
RF05-01,165E,RF-2340,1,10,02-18564,2,20050208,0342,0.977,165.0043,4331,806.8,5.5262,34.5341,2,-999,9,34.5351,2,104,2,62.54,2,-999,9,36.07,2,0,2,2.52,2,-999,9,-999,9,-999,9,-999,9,-999,9,-999,9,   -999.0,  9,-999,9,-999,-999,9,-999,9,-999,9,-999,9,-999,-999,-999,9,801,5.4568,27.2519,-999,9
RF05-01,165E,RF-2340,1,9,02-18563,2,20050208,0338,0.977,165.0043,4331,1006.8,4.5888,34.5501,2,-999,9,34.553,2,101,2,82.06,2,-999,9,37.33,2,0,2,2.63,2,-999,9,-999,9,-999,9,-999,9,-999,9,-999,9,   -999.0,  9,-999,9,-999,-999,9,-999,9,-999,9,-999,9,-999,-999,-999,9,999,4.5079,27.374,-999,9
RF05-01,165E,RF-2340,1,8,02-18562,2,20050208,0332,0.977,165.0043,4331,1261.5,3.6663,34.577,2,-999,9,34.5771,2,95.9,2,102.14,2,-999,9,38.61,2,0,2,2.73,2,-999,9,-999,9,-999,9,-999,9,-999,9,-999,9,   -999.0,  9,-999,9,-999,-999,9,-999,9,-999,9,-999,9,-999,-999,-999,9,1251, 3.5715,27.4931,-999,9
RF05-01,165E,RF-2340,1,7,02-18561,2,20050208,0326,0.977,165.0043,4331,1514.7,2.9313,34.6044,2,-999,9,34.6053,2,103.2,2,118.18,2,-999,9,38.53,2,0,2,2.72,2,-999,9,-999,9,-999,9,-999,9,-999,9,-999,9,   -999.0,  9,-999,9,-999,-999,9,-999,9,-999,9,-999,9,-999,-999,-999,9,1501, 2.8230,27.5853,-999,9
RF05-01,165E,RF-2340,1,6,02-18560,2,20050208,0320,0.977,165.0043,4331,1768.1,2.4883,34.6241,2,-999,9,34.624,2,114,2,126.63,2,-999,9,38.09,2,0,2,2.67,2,-999,9,-999,9,-999,9,-999,9,-999,9,-999,9,   -999.0,  9,-999,9,-999,-999,9,-999,9,-999,9,-999,9,-999,-999,-999,9,1751,2.3643,27.6408,-999,9
RF05-01,165E,RF-2340,1,5,02-18559,2,20050208,0314,0.977,165.0043,4331,2022.2,2.2345,34.6384,2,-999,9,34.6376,2,114.9,2,133.16,2,-999,9,38.08,2,0,2,2.66,2,-999,9,-999,9,-999,9,-999,9,-999,9,-999,9,   -999.0,  9,-999,9,-999,-999,9,-999,9,-999,9,-999,9,-999,-999,-999,9,2001, 2.0926,27.6746,-999,9
RF05-01,165E,RF-2340,1,4,02-18558,2,20050208,0303,0.977,165.0043,4331,2527.5,1.8574,34.6596,2,-999,9,34.6581,2,126.2,2,140.53,2,-999,9,37.58,2,0,2,2.61,2,-999,9,-999,9,-999,9,-999,9,-999,9,-999,9,   -999.0,  9,-999,9,-999,-999,9,-999,9,-999,9,-999,9,-999,-999,-999,9,2499, 1.6773,27.7238,-999,9
RF05-01,165E,RF-2340,1,3,02-18557,2,20050208,0253,0.977,165.0043,4331,3036.9,1.6314,34.6721,2,-999,9,34.6718,2,137.9,2,142.37,2,-999,9,36.83,2,0,2,2.53,2,-999,9,-999,9,-999,9,-999,9,-999,9,-999,9,   -999.0,  9,-999,9,-999,-999,9,-999,9,-999,9,-999,9,-999,-999,-999,9,2999, 1.4082,27.7537,-999,9
RF05-01,165E,RF-2340,1,2,02-18556,2,20050208,0235,0.977,165.0043,4331,4061.9,1.3981,34.6936,2,-999,9,34.6941,2,168.9,2,133,2,-999,9,34.72,2,0,2,2.35,2,-999,9,-999,9,-999,9,-999,9,-999,9,-999,9,   -999.0,  9,-999,9,-999,-999,9,-999,9,-999,9,-999,9,-999,-999,-999,9,4001, 1.0753,27.7941,-999,9
RF05-01,165E,RF-2340,1,1,02-18555,2,20050208,0230,0.977,165.0043,4331,4320.5,1.3261,34.7001,2,-999,9,34.6996,2,181.6,2,126.84,2,-999,9,33.85,2,0,2,2.3,2,-999,9,-999,9,-999,9,-999,9,-999,9,-999,9,   -999.0,  9,-999,9,-999,-999,9,-999,9,-999,9,-999,9,-999,-999,-999,9,4254, 0.9768,27.8059,-999,9