BOTTLE,20131214MIRCJHATS
EXPOCODE,SECT_ID,STNNBR,CASTNO,SAMPNO,BTLNBR,BTLNBR_FLAG_W,DATE,TIME,LATITUDE,LONGITUDE,DEPTH,CTDPRS,CTDTMP,CTDSAL,CTDSAL_FLAG_W,CTDOXY,CTDOXY_FLAG_W,SALNTY,SALNTY_FLAG_W,OXYGEN,OXYGEN_FLAG_W,SILCAT,SILCAT_FLAG_W,NITRAT,NITRAT_FLAG_W,NO2+NO3,NO2+NO3_FLAG_W,NITRIT,NITRIT_FLAG_W,PHSPHT,PHSPHT_FLAG_W,CFC-11,CFC-11_FLAG_W,CFC-12,CFC-12_FLAG_W,DELC13,DELC13_FLAG_W,TCARBN,TCARBN_FLAG_W,ALKALI,ALKALI_FLAG_W,PH,PH_FLAG_W,PH_TMP,PH_SCALE,PH_NBS,PH_NBS_FLAG_W,C13ERR,TOTALP,TOTALP_FLAG_W,AMMONI,AMMONI_FLAG_W,CHLORA,CHLORA_FLAG_W,PPHYTN,PPHYTN_FLAG_W,REVPRS,REVTMP,DEPTH,DEPTH_FLAG,CTDDEP,THETA,SIGTHT,DOC,DOC_FLAG_W
,,,,,,,GMT,GMT,,,METERS,DBAR,ITS-90,PSS-78,,UMOL/KG,,PSS-78,,UMOL/KG,,UMOL/KG,,UMOL/KG,,UMOL/KG,,UMOL/KG, ,UMOL/KG,,PMOL/KG,,PMOL/KG,,/MILLE,,UMOL/KG,,UMOL/KG,,25_DEG_C,,DEG_C,,,,/MILLE,UMOL/KG,,UMOL/KG,,UG/L,,UG/L,,DBAR,ITS-90,METERS,,METERS,DEG_C,,UMOL/L
RF05-01,165E,RF-2345,1,-9,-9,5,20050210,1650,-3.9865,165.0217,3349,0,29.731,34.3085,2,-999,9,-999,9,194.1,2,0.95,2,-999,9,0,2,0,2,0.09,2,-999,9,-999,9,-999,9,-999,9,-999,9,-999,9,   -999.0,  9,-999,9,-999,-999,9,-999,9,-999,9,-999,9,-999,-999,-999,9,0,29.7308,21.2993,-999,9
RF05-01,165E,RF-2345,1,24,02-18578,2,20050210,1706,-3.9865,165.0217,3349,10.6,29.7373,34.322,2,-999,9,34.3217,2,194.4,2,1.07,2,-999,9,0,2,0,2,0.08,2,-999,9,-999,9,-999,9,-999,9,-999,9,-999,9,   -999.0,  9,-999,9,-999,-999,9,-999,9,-999,9,-999,9,-999,-999,-999,9,11,29.7347,21.3081,-999,9
RF05-01,165E,RF-2345,1,23,02-18577,3,20050210,1705,-3.9865,165.0217,3349,25,29.8022,34.3539,2,-999,9,-999,9,196.3,2,0.89,2,-999,9,0,2,0,2,0.08,2,-999,9,-999,9,-999,9,-999,9,-999,9,-999,9,   -999.0,  9,-999,9,-999,-999,9,-999,9,-999,9,-999,9,-999,-999,-999,9,25,29.796,21.3113,-999,9
RF05-01,165E,RF-2345,1,22,02-18576,2,20050210,1704,-3.9865,165.0217,3349,52.6,30.222,34.7036,2,-999,9,-999,9,193.7,2,0.74,2,-999,9,0,2,0,2,0.09,2,-999,9,-999,9,-999,9,-999,9,-999,9,-999,9,   -999.0,  9,-999,9,-999,-999,9,-999,9,-999,9,-999,9,-999,-999,-999,9,52,30.2089,21.4326,-999,9
RF05-01,165E,RF-2345,1,21,02-18575,2,20050210,1702,-3.9865,165.0217,3349,76,30.2222,35.3016,2,-999,9,-999,9,195,2,0.98,2,-999,9,0,2,0,2,0.18,2,-999,9,-999,9,-999,9,-999,9,-999,9,-999,9,   -999.0,  9,-999,9,-999,-999,9,-999,9,-999,9,-999,9,-999,-999,-999,9,76,30.2032,21.8827,-999,9
RF05-01,165E,RF-2345,1,20,02-18574,2,20050210,1701,-3.9865,165.0217,3349,101.9,29.221,35.4712,2,-999,9,35.4662,4,170.7,2,1.12,2,-999,9,3.74,2,1.35,2,0.39,2,-999,9,-999,9,-999,9,-999,9,-999,9,-999,9,   -999.0,  9,-999,9,-999,-999,9,-999,9,-999,9,-999,9,-999,-999,-999,9,101,29.1962,22.3521,-999,9
RF05-01,165E,RF-2345,1,19,02-18573,3,20050210,1700,-3.9865,165.0217,3349,124,28.6778,35.6349,2,-999,9,-999,9,158.4,2,1.47,2,-999,9,5.96,2,1.51,2,0.52,2,-999,9,-999,9,-999,9,-999,9,-999,9,-999,9,   -999.0,  9,-999,9,-999,-999,9,-999,9,-999,9,-999,9,-999,-999,-999,9,123,28.648,22.6583,-999,9
RF05-01,165E,RF-2345,1,18,02-18572,2,20050210,1658,-3.9865,165.0217,3349,151.8,25.9368,35.991,2,-999,9,-999,9,130.9,2,1.43,2,-999,9,8.68,2,0.02,2,0.71,2,-999,9,-999,9,-999,9,-999,9,-999,9,-999,9,   -999.0,  9,-999,9,-999,-999,9,-999,9,-999,9,-999,9,-999,-999,-999,9,151,25.9029,23.8116,-999,9
RF05-01,165E,RF-2345,1,17,02-18571,2,20050210,1657,-3.9865,165.0217,3349,202.1,16.6161,35.3524,2,-999,9,35.3632,4,104.8,2,7.73,2,-999,9,17.13,2,0,2,1.3,2,-999,9,-999,9,-999,9,-999,9,-999,9,-999,9,   -999.0,  9,-999,9,-999,-999,9,-999,9,-999,9,-999,9,-999,-999,-999,9,201,16.5832,25.8834,-999,9
RF05-01,165E,RF-2345,1,16,02-18570,2,20050210,1655,-3.9865,165.0217,3349,252.5,12.4303,34.9559,2,-999,9,-999,9,104.2,2,14.44,2,-999,9,23.34,2,0,2,1.65,2,-999,9,-999,9,-999,9,-999,9,-999,9,-999,9,   -999.0,  9,-999,9,-999,-999,9,-999,9,-999,9,-999,9,-999,-999,-999,9,251,12.3965,26.4782,-999,9
RF05-01,165E,RF-2345,1,15,02-18569,2,20050210,1653,-3.9865,165.0217,3349,304.1,10.5014,34.7874,2,-999,9,-999,9,71.2,2,23.47,2,-999,9,29.9,2,0,2,2.08,2,-999,9,-999,9,-999,9,-999,9,-999,9,-999,9,   -999.0,  9,-999,9,-999,-999,9,-999,9,-999,9,-999,9,-999,-999,-999,9,302,10.4649,26.7054,-999,9
RF05-01,165E,RF-2345,1,14,02-18568,2,20050210,1650,-3.9865,165.0217,3349,404.8,9.0491,34.6821,2,-999,9,34.6822,2,71.7,2,29.37,2,-999,9,32.84,2,0,2,2.27,2,-999,9,-999,9,-999,9,-999,9,-999,9,-999,9,   -999.0,  9,-999,9,-999,-999,9,-999,9,-999,9,-999,9,-999,-999,-999,9,402,9.0046,26.8685,-999,9
RF05-01,165E,RF-2345,1,13,02-18567,2,20050210,1647,-3.9865,165.0217,3349,505.7,7.8818,34.6107,2,-999,9,-999,9,79.9,2,35.17,2,-999,9,34.7,2,0,2,2.4,2,-999,9,-999,9,-999,9,-999,9,-999,9,-999,9,   -999.0,  9,-999,9,-999,-999,9,-999,9,-999,9,-999,9,-999,-999,-999,9,502,7.8303,26.9933,-999,9
RF05-01,165E,RF-2345,1,12,02-18566,2,20050210,1644,-3.9865,165.0217,3349,604.8,6.963,34.5689,2,-999,9,34.5681,2,86.1,2,42.26,2,-999,9,35.97,2,0,2,2.5,2,-999,9,-999,9,-999,9,-999,9,-999,9,-999,9,   -999.0,  9,-999,9,-999,-999,9,-999,9,-999,9,-999,9,-999,-999,-999,9,601,6.9052,27.0922,-999,9
RF05-01,165E,RF-2345,1,11,02-18565,2,20050210,1641,-3.9865,165.0217,3349,706.2,6.31,34.5497,2,-999,9,34.5501,2,83.6,2,50.14,2,-999,9,37.37,2,0,2,2.62,2,-999,9,-999,9,-999,9,-999,9,-999,9,-999,9,   -999.0,  9,-999,9,-999,-999,9,-999,9,-999,9,-999,9,-999,-999,-999,9,701,6.2456,27.1652,-999,9
RF05-01,165E,RF-2345,1,10,02-18564,2,20050210,1638,-3.9865,165.0217,3349,805.9,5.4985,34.53,2,-999,9,34.5295,2,105.2,2,57.89,2,-999,9,36.35,2,0,2,2.55,2,-999,9,-999,9,-999,9,-999,9,-999,9,-999,9,   -999.0,  9,-999,9,-999,-999,9,-999,9,-999,9,-999,9,-999,-999,-999,9,800,5.4294,27.252,-999,9
RF05-01,165E,RF-2345,1,9,02-18563,2,20050210,1636,-3.9865,165.0217,3349,909.5,5.0408,34.536,2,-999,9,-999,9,100.1,2,67.24,2,-999,9,37.36,2,0,2,2.64,2,-999,9,-999,9,-999,9,-999,9,-999,9,-999,9,   -999.0,  9,-999,9,-999,-999,9,-999,9,-999,9,-999,9,-999,-999,-999,9,902,4.9653,27.3114,-999,9
RF05-01,165E,RF-2345,1,8,02-18562,2,20050210,1633,-3.9865,165.0217,3349,1007.3,4.5405,34.5395,2,-999,9,34.5422,2,111.6,2,75.11,2,-999,9,36.71,2,0,2,2.59,2,-999,9,-999,9,-999,9,-999,9,-999,9,-999,9,   -999.0,  9,-999,9,-999,-999,9,-999,9,-999,9,-999,9,-999,-999,-999,9,999,4.46,27.3709,-999,9
RF05-01,165E,RF-2345,1,7,02-18561,2,20050210,1626,-3.9865,165.0217,3349,1259.9,3.8764,34.558,2,-999,9,34.5583,2,113.3,2,88.45,2,-999,9,37.24,2,0,2,2.64,2,-999,9,-999,9,-999,9,-999,9,-999,9,-999,9,   -999.0,  9,-999,9,-999,-999,9,-999,9,-999,9,-999,9,-999,-999,-999,9,1249,3.7797,27.4571,-999,9
RF05-01,165E,RF-2345,1,6,02-18560,2,20050210,1620,-3.9865,165.0217,3349,1514.6,3.0022,34.5951,2,-999,9,34.595,2,115.1,2,108.78,2,-999,9,37.7,2,0,2,2.67,2,-999,9,-999,9,-999,9,-999,9,-999,9,-999,9,   -999.0,  9,-999,9,-999,-999,9,-999,9,-999,9,-999,9,-999,-999,-999,9,1501,2.8931,27.5716,-999,9
RF05-01,165E,RF-2345,1,5,02-18559,2,20050210,1614,-3.9865,165.0217,3349,1765.7,2.4762,34.624,2,-999,9,34.6234,2,118.8,2,122.01,2,-999,9,37.7,2,0,2,2.65,2,-999,9,-999,9,-999,9,-999,9,-999,9,-999,9,   -999.0,  9,-999,9,-999,-999,9,-999,9,-999,9,-999,9,-999,-999,-999,9,1749,2.3526,27.6417,-999,9
RF05-01,165E,RF-2345,1,4,02-18558,2,20050210,1609,-3.9865,165.0217,3349,2021,2.2086,34.6396,2,-999,9,34.6394,2,123.8,2,128.91,2,-999,9,37.51,2,0,2,2.63,2,-999,9,-999,9,-999,9,-999,9,-999,9,-999,9,   -999.0,  9,-999,9,-999,-999,9,-999,9,-999,9,-999,9,-999,-999,-999,9,2000, 2.0672,27.6776,-999,9
RF05-01,165E,RF-2345,1,3,02-18557,2,20050210,1558,-3.9865,165.0217,3349,2528.6,1.8563,34.6597,2,-999,9,34.6591,2,130,2,138.33,2,-999,9,37.19,2,0,2,2.58,2,-999,9,-999,9,-999,9,-999,9,-999,9,-999,9,   -999.0,  9,-999,9,-999,-999,9,-999,9,-999,9,-999,9,-999,-999,-999,9,2500, 1.6761,27.724,-999,9
RF05-01,165E,RF-2345,1,2,02-18556,2,20050210,1548,-3.9865,165.0217,3349,3035.2,1.6943,34.6695,2,-999,9,34.6689,2,136.7,2,141.91,2,-999,9,36.85,2,0,2,2.55,2,-999,9,-999,9,-999,9,-999,9,-999,9,-999,9,   -999.0,  9,-999,9,-999,-999,9,-999,9,-999,9,-999,9,-999,-999,-999,9,2997, 1.4699,27.7471,-999,9
RF05-01,165E,RF-2345,1,1,02-18555,2,20050210,1542,-3.9865,165.0217,3349,3321.6,1.5414,34.6798,2,-999,9,34.6786,2,147,2,140.46,2,-999,9,36.13,2,0,2,2.49,2,-999,9,-999,9,-999,9,-999,9,-999,9,-999,9,   -999.0,  9,-999,9,-999,-999,9,-999,9,-999,9,-999,9,-999,-999,-999,9,3278, 1.2923,27.768,-999,9
RF05-01,165E,RF-2346,1,-9,-9,5,20050210,2356,-4.9938,165.0218,2425,0,29.6689,34.4586,2,-999,9,-999,9,192.7,2,1.25,2,-999,9,0.09,2,0,2,0.12,2,-999,9,-999,9,-999,9,-999,9,-999,9,-999,9,   -999.0,  9,-999,9,-999,-999,9,-999,9,0.11,2,0.07,2,-999,-999,-999,9,0,29.6687,21.4329,-999,9
RF05-01,165E,RF-2346,1,24,02-18578,2,20050211,0005,-4.9938,165.0218,2425,10.4,29.6731,34.4602,2,-999,9,-999,9,193.7,2,1.17,2,-999,9,0,2,0,2,0.09,2,-999,9,-999,9,-999,9,-999,9,-999,9,-999,9,   -999.0,  9,-999,9,-999,-999,9,-999,9,0.11,2,0.08,2,-999,-999,-999,9,10,29.6705,21.4335,-999,9
RF05-01,165E,RF-2346,1,23,02-18577,2,20050211,0004,-4.9938,165.0218,2425,25.8,29.6955,34.4707,2,-999,9,-999,9,196,2,1.12,2,-999,9,0,2,0,2,0.09,2,-999,9,-999,9,-999,9,-999,9,-999,9,-999,9,   -999.0,  9,-999,9,-999,-999,9,-999,9,0.11,2,0.08,2,-999,-999,-999,9,26,29.6892,21.435,-999,9
RF05-01,165E,RF-2346,1,22,02-18576,2,20050211,0003,-4.9938,165.0218,2425,49.9,29.7906,34.5291,2,-999,9,-999,9,192.2,2,1.07,2,-999,9,0,2,0,2,0.09,2,-999,9,-999,9,-999,9,-999,9,-999,9,-999,9,   -999.0,  9,-999,9,-999,-999,9,-999,9,0.13,2,0.09,2,-999,-999,-999,9,50,29.7783,21.4486,-999,9
RF05-01,165E,RF-2346,1,21,02-18575,2,20050211,0002,-4.9938,165.0218,2425,75.3,30.0952,35.4294,2,-999,9,-999,9,189.4,2,1.26,2,-999,9,0.23,2,0.04,2,0.22,2,-999,9,-999,9,-999,9,-999,9,-999,9,-999,9,   -999.0,  9,-999,9,-999,-999,9,-999,9,0.15,2,0.19,2,-999,-999,-999,9,75,30.0765,22.022,-999,9
RF05-01,165E,RF-2346,1,20,02-18574,2,20050211,0001,-4.9938,165.0218,2425,100.2,29.1612,35.528,2,-999,9,-999,9,168.8,2,1.81,2,-999,9,4.13,2,1.25,2,0.41,2,-999,9,-999,9,-999,9,-999,9,-999,9,-999,9,   -999.0,  9,-999,9,-999,-999,9,-999,9,0.1,2,0.32,2,-999,-999,-999,9,100,29.1368,22.4147,-999,9
RF05-01,165E,RF-2346,1,19,02-18573,2,20050211,0000,-4.9938,165.0218,2425,125.1,28.137,35.73,2,-999,9,-999,9,146.8,2,1.89,2,-999,9,7.06,2,0.72,2,0.58,2,-999,9,-999,9,-999,9,-999,9,-999,9,-999,9,   -999.0,  9,-999,9,-999,-999,9,-999,9,0.05,2,0.22,2,-999,-999,-999,9,124,28.1074,22.9085,-999,9
RF05-01,165E,RF-2346,1,18,02-18572,2,20050210,2359,-4.9938,165.0218,2425,151.2,27.4695,35.9228,2,-999,9,-999,9,140.2,2,1.83,2,-999,9,7.66,2,0.68,2,0.64,2,-999,9,-999,9,-999,9,-999,9,-999,9,-999,9,   -999.0,  9,-999,9,-999,-999,9,-999,9,0.04,2,0.18,2,-999,-999,-999,9,150,27.4343,23.2731,-999,9
RF05-01,165E,RF-2346,1,17,02-18571,2,20050210,2357,-4.9938,165.0218,2425,202.4,17.8019,35.4796,2,-999,9,-999,9,107,2,7,2,-999,9,15.4,2,0,2,1.2,2,-999,9,-999,9,-999,9,-999,9,-999,9,-999,9,   -999.0,  9,-999,9,-999,-999,9,-999,9,0.01,2,0.02,2,-999,-999,-999,9,201,17.7673,25.6968,-999,9
RF05-01,165E,RF-2346,1,16,02-18570,2,20050210,2356,-4.9938,165.0218,2425,252.2,13.0385,35.0024,2,-999,9,-999,9,81.7,2,16.02,2,-999,9,24.46,2,0,2,1.74,2,-999,9,-999,9,-999,9,-999,9,-999,9,-999,9,   -999.0,  9,-999,9,-999,-999,9,-999,9,-999,9,-999,9,-999,-999,-999,9,251,13.0037,26.394,-999,9
RF05-01,165E,RF-2346,1,15,02-18569,2,20050210,2354,-4.9938,165.0218,2425,304.6,11.2277,34.8488,2,-999,9,-999,9,84.4,2,20.46,2,-999,9,27.24,2,0,2,1.9,2,-999,9,-999,9,-999,9,-999,9,-999,9,-999,9,   -999.0,  9,-999,9,-999,-999,9,-999,9,-999,9,-999,9,-999,-999,-999,9,303,11.1895,26.6233,-999,9
RF05-01,165E,RF-2346,1,14,02-18568,2,20050210,2351,-4.9938,165.0218,2425,404.6,9.0551,34.6799,2,-999,9,-999,9,83.8,2,28.7,2,-999,9,31.73,2,0,2,2.17,2,-999,9,-999,9,-999,9,-999,9,-999,9,-999,9,   -999.0,  9,-999,9,-999,-999,9,-999,9,-999,9,-999,9,-999,-999,-999,9,402,9.0106,26.8657,-999,9
RF05-01,165E,RF-2346,1,13,02-18567,2,20050210,2348,-4.9938,165.0218,2425,502.2,8.0273,34.6181,2,-999,9,-999,9,83.1,2,33.95,2,-999,9,33.96,2,0,2,2.34,2,-999,9,-999,9,-999,9,-999,9,-999,9,-999,9,   -999.0,  9,-999,9,-999,-999,9,-999,9,-999,9,-999,9,-999,-999,-999,9,499,7.9757,26.9776,-999,9
RF05-01,165E,RF-2346,1,12,02-18566,2,20050210,2345,-4.9938,165.0218,2425,606.3,7.1126,34.5768,2,-999,9,-999,9,77.3,2,42.71,2,-999,9,36.42,2,0,2,2.53,2,-999,9,-999,9,-999,9,-999,9,-999,9,-999,9,   -999.0,  9,-999,9,-999,-999,9,-999,9,-999,9,-999,9,-999,-999,-999,9,602,7.054,27.0779,-999,9
RF05-01,165E,RF-2346,1,11,02-18565,2,20050210,2343,-4.9938,165.0218,2425,706.5,6.452,34.5521,2,-999,9,-999,9,87.2,2,48.65,2,-999,9,36.69,2,0,2,2.56,2,-999,9,-999,9,-999,9,-999,9,-999,9,-999,9,   -999.0,  9,-999,9,-999,-999,9,-999,9,-999,9,-999,9,-999,-999,-999,9,701,6.3868,27.1487,-999,9
RF05-01,165E,RF-2346,1,10,02-18564,2,20050210,2340,-4.9938,165.0218,2425,808.6,5.7224,34.5361,2,-999,9,-999,9,96,2,56.5,2,-999,9,36.84,2,0,2,2.59,2,-999,9,-999,9,-999,9,-999,9,-999,9,-999,9,   -999.0,  9,-999,9,-999,-999,9,-999,9,-999,9,-999,9,-999,-999,-999,9,803,5.6517,27.2297,-999,9
RF05-01,165E,RF-2346,1,9,02-18563,2,20050210,2337,-4.9938,165.0218,2425,908.1,5.1979,34.5373,2,-999,9,-999,9,94.9,2,66.78,2,-999,9,37.55,2,0,2,2.65,2,-999,9,-999,9,-999,9,-999,9,-999,9,-999,9,   -999.0,  9,-999,9,-999,-999,9,-999,9,-999,9,-999,9,-999,-999,-999,9,901,5.1214,27.2943,-999,9
RF05-01,165E,RF-2346,1,8,02-18562,2,20050210,2335,-4.9938,165.0218,2425,1009.8,4.792,34.5317,2,-999,9,-999,9,115.9,2,69.78,2,-999,9,36.2,2,0,2,2.54,2,-999,9,-999,9,-999,9,-999,9,-999,9,-999,9,   -999.0,  9,-999,9,-999,-999,9,-999,9,-999,9,-999,9,-999,-999,-999,9,1002, 4.7094,27.337,-999,9
RF05-01,165E,RF-2346,1,7,02-18561,2,20050210,2328,-4.9938,165.0218,2425,1259.4,3.7187,34.5647,2,-999,9,-999,9,107.2,2,93.89,2,-999,9,38,2,0,2,2.7,2,-999,9,-999,9,-999,9,-999,9,-999,9,-999,9,   -999.0,  9,-999,9,-999,-999,9,-999,9,-999,9,-999,9,-999,-999,-999,9,1249, 3.6236,27.4781,-999,9
RF05-01,165E,RF-2346,1,6,02-18560,2,20050210,2323,-4.9938,165.0218,2425,1514.2,2.9095,34.5999,2,-999,9,-999,9,116.5,2,112.03,2,-999,9,37.74,2,0,2,2.66,2,-999,9,-999,9,-999,9,-999,9,-999,9,-999,9,   -999.0,  9,-999,9,-999,-999,9,-999,9,-999,9,-999,9,-999,-999,-999,9,1500,2.8015,27.5837,-999,9
RF05-01,165E,RF-2346,1,5,02-18559,2,20050210,2317,-4.9938,165.0218,2425,1767,2.4924,34.6229,2,-999,9,-999,9,120.5,2,122.54,2,-999,9,37.62,2,0,2,2.65,2,-999,9,-999,9,-999,9,-999,9,-999,9,-999,9,   -999.0,  9,-999,9,-999,-999,9,-999,9,-999,9,-999,9,-999,-999,-999,9,1750, 2.3685,27.6395,-999,9
RF05-01,165E,RF-2346,1,4,02-18558,2,20050210,2312,-4.9938,165.0218,2425,2019.5,2.208,34.6395,2,-999,9,-999,9,124.8,2,126.54,2,-999,9,37.39,2,0,2,2.62,2,-999,9,-999,9,-999,9,-999,9,-999,9,-999,9,   -999.0,  9,-999,9,-999,-999,9,-999,9,-999,9,-999,9,-999,-999,-999,9,1999,2.0667,27.6775,-999,9
RF05-01,165E,RF-2346,1,3,02-18557,2,20050210,2304,-4.9938,165.0218,2425,2331.1,1.9893,34.6523,2,-999,9,34.6548,2,129.2,2,132.91,2,-999,9,37.05,2,0,2,2.59,2,-999,9,-999,9,-999,9,-999,9,-999,9,-999,9,   -999.0,  9,-999,9,-999,-999,9,-999,9,-999,9,-999,9,-999,-999,-999,9,2305,1.8244,27.7068,-999,9
RF05-01,165E,RF-2346,1,2,02-18556,2,20050210,2304,-4.9938,165.0218,2425,2331.8,1.9889,34.6523,2,-999,9,34.6558,2,-999,9,-999,9,-999,9,-999,9,-999,9,-999,9,-999,9,-999,9,-999,9,-999,9,-999,9,-999,9,   -999.0,  9,-999,9,-999,-999,9,-999,9,-999,9,-999,9,-999,-999,-999,9,2306,1.8239,27.7069,-999,9
RF05-01,165E,RF-2346,1,1,02-18555,2,20050210,2304,-4.9938,165.0218,2425,2332.3,1.9879,34.6523,2,-999,9,34.6528,2,-999,9,-999,9,-999,9,-999,9,-999,9,-999,9,-999,9,-999,9,-999,9,-999,9,-999,9,-999,9,   -999.0,  9,-999,9,-999,-999,9,-999,9,-999,9,-999,9,-999,-999,-999,9,2307,1.8229,27.707,-999,9