BOTTLE,20131214MIRCJHATS
EXPOCODE,SECT_ID,STNNBR,CASTNO,SAMPNO,BTLNBR,BTLNBR_FLAG_W,DATE,TIME,LATITUDE,LONGITUDE,DEPTH,CTDPRS,CTDTMP,CTDSAL,CTDSAL_FLAG_W,CTDOXY,CTDOXY_FLAG_W,SALNTY,SALNTY_FLAG_W,OXYGEN,OXYGEN_FLAG_W,SILCAT,SILCAT_FLAG_W,NITRAT,NITRAT_FLAG_W,NO2+NO3,NO2+NO3_FLAG_W,NITRIT,NITRIT_FLAG_W,PHSPHT,PHSPHT_FLAG_W,CFC-11,CFC-11_FLAG_W,CFC-12,CFC-12_FLAG_W,DELC13,DELC13_FLAG_W,TCARBN,TCARBN_FLAG_W,ALKALI,ALKALI_FLAG_W,PH,PH_FLAG_W,PH_TMP,PH_SCALE,PH_NBS,PH_NBS_FLAG_W,C13ERR,TOTALP,TOTALP_FLAG_W,AMMONI,AMMONI_FLAG_W,CHLORA,CHLORA_FLAG_W,PPHYTN,PPHYTN_FLAG_W,REVPRS,REVTMP,DEPTH,DEPTH_FLAG,CTDDEP,THETA,SIGTHT,DOC,DOC_FLAG_W
,,,,,,,GMT,GMT,,,METERS,DBAR,ITS-90,PSS-78,,UMOL/KG,,PSS-78,,UMOL/KG,,UMOL/KG,,UMOL/KG,,UMOL/KG,,UMOL/KG, ,UMOL/KG,,PMOL/KG,,PMOL/KG,,/MILLE,,UMOL/KG,,UMOL/KG,,25_DEG_C,,DEG_C,,,,/MILLE,UMOL/KG,,UMOL/KG,,UG/L,,UG/L,,DBAR,ITS-90,METERS,,METERS,DEG_C,,UMOL/L
RF05-01,165E,RF-2318,1,-9,-9,5,20050125,1710,23.0038,165.0098,5810,0,24.6134,35.118,2,-999,9,-999,9,206.8,2,1.03,2,-999,9,0,2,0,2,0,2,-999,9,-999,9,-999,9,-999,9,-999,9,-999,9,   -999.0,  9,-999,9,-999,-999,9,-999,9,0.08,2,0.03,2,-999,-999,-999,9,0,24.6132,23.5475,-999,9
RF05-01,165E,RF-2318,1,21,02-18575,2,20050125,1720,23.0038,165.0098,5810,10.2,24.622,35.1179,2,-999,9,-999,9,206.7,2,1.1,2,-999,9,0,2,0,2,0,2,-999,9,-999,9,-999,9,-999,9,-999,9,-999,9,   -999.0,  9,-999,9,-999,-999,9,-999,9,0.09,2,0.04,2,-999,-999,-999,9,10,24.6198,23.5454,-999,9
RF05-01,165E,RF-2318,1,20,02-18574,2,20050125,1719,23.0038,165.0098,5810,25.1,24.6328,35.1197,2,-999,9,-999,9,208.2,2,1.03,2,-999,9,0,2,0,2,0,2,-999,9,-999,9,-999,9,-999,9,-999,9,-999,9,   -999.0,  9,-999,9,-999,-999,9,-999,9,0.1,2,0.04,2,-999,-999,-999,9,25,24.6274,23.5445,-999,9
RF05-01,165E,RF-2318,1,19,02-18573,2,20050125,1717,23.0038,165.0098,5810,50.6,24.6396,35.1201,2,-999,9,-999,9,207.2,2,1.06,2,-999,9,0,2,0,2,0,2,-999,9,-999,9,-999,9,-999,9,-999,9,-999,9,   -999.0,  9,-999,9,-999,-999,9,-999,9,0.09,2,0.04,2,-999,-999,-999,9,50,24.6287,23.5444,-999,9
RF05-01,165E,RF-2318,1,18,02-18572,2,20050125,1716,23.0038,165.0098,5810,75,24.5605,35.0977,2,-999,9,-999,9,206.1,2,1.04,2,-999,9,0,2,0,2,0,2,-999,9,-999,9,-999,9,-999,9,-999,9,-999,9,   -999.0,  9,-999,9,-999,-999,9,-999,9,0.13,2,0.06,2,-999,-999,-999,9,74,24.5445,23.5528,-999,9
RF05-01,165E,RF-2318,1,17,02-18571,2,20050125,1715,23.0038,165.0098,5810,101.2,24.5013,35.0876,2,-999,9,-999,9,207.3,2,1.06,2,-999,9,0,2,0,2,0,2,-999,9,-999,9,-999,9,-999,9,-999,9,-999,9,   -999.0,  9,-999,9,-999,-999,9,-999,9,0.14,2,0.06,2,-999,-999,-999,9,101,24.4797,23.5647,-999,9
RF05-01,165E,RF-2318,1,16,02-18570,2,20050125,1714,23.0038,165.0098,5810,124.9,24.4641,35.0879,2,-999,9,-999,9,207,2,1.18,2,-999,9,0,2,0,2,0,2,-999,9,-999,9,-999,9,-999,9,-999,9,-999,9,   -999.0,  9,-999,9,-999,-999,9,-999,9,0.15,2,0.11,2,-999,-999,-999,9,124,24.4374,23.5775,-999,9
RF05-01,165E,RF-2318,1,15,02-18569,2,20050125,1713,23.0038,165.0098,5810,151.2,22.105,35.1186,2,-999,9,-999,9,204.9,2,1.61,2,-999,9,0,2,0.08,2,0.01,2,-999,9,-999,9,-999,9,-999,9,-999,9,-999,9,   -999.0,  9,-999,9,-999,-999,9,-999,9,0.1,2,0.21,2,-999,-999,-999,9,150,22.075,24.2869,-999,9
RF05-01,165E,RF-2318,1,14,02-18568,2,20050125,1711,23.0038,165.0098,5810,202.1,18.4916,34.8871,2,-999,9,-999,9,198.9,2,2.98,2,-999,9,2.65,2,0,2,0.18,2,-999,9,-999,9,-999,9,-999,9,-999,9,-999,9,   -999.0,  9,-999,9,-999,-999,9,-999,9,0.02,2,0.04,2,-999,-999,-999,9,201,18.4563,25.0723,-999,9
RF05-01,165E,RF-2318,1,13,02-18567,2,20050125,1710,23.0038,165.0098,5810,253.1,16.5936,34.719,2,-999,9,-999,9,205,2,4.79,2,-999,9,5.31,2,0,2,0.31,2,-999,9,-999,9,-999,9,-999,9,-999,9,-999,9,   -999.0,  9,-999,9,-999,-999,9,-999,9,-999,9,-999,9,-999,-999,-999,9,251,16.5525,25.4038,-999,9
RF05-01,165E,RF-2318,1,12,02-18566,2,20050125,1708,23.0038,165.0098,5810,303.6,15.3773,34.6082,2,-999,9,-999,9,202.2,2,6.91,2,-999,9,7.28,2,0,2,0.44,2,-999,9,-999,9,-999,9,-999,9,-999,9,-999,9,   -999.0,  9,-999,9,-999,-999,9,-999,9,-999,9,-999,9,-999,-999,-999,9,301,15.3305,25.5969,-999,9
RF05-01,165E,RF-2318,1,11,02-18565,2,20050125,1705,23.0038,165.0098,5810,403.3,12.4313,34.364,2,-999,9,-999,9,200,2,13.71,2,-999,9,12.55,2,0,2,0.8,2,-999,9,-999,9,-999,9,-999,9,-999,9,-999,9,   -999.0,  9,-999,9,-999,-999,9,-999,9,-999,9,-999,9,-999,-999,-999,9,400,12.3774,26.0227,-999,9
RF05-01,165E,RF-2318,1,10,02-18564,2,20050125,1703,23.0038,165.0098,5810,505.3,9.4533,34.1672,2,-999,9,-999,9,169.3,2,28,2,-999,9,20.61,2,0,2,1.39,2,-999,9,-999,9,-999,9,-999,9,-999,9,-999,9,   -999.0,  9,-999,9,-999,-999,9,-999,9,-999,9,-999,9,-999,-999,-999,9,501,9.3964,26.4021,-999,9
RF05-01,165E,RF-2318,1,9,02-18563,2,20050125,1700,23.0038,165.0098,5810,607.4,7.2535,34.0958,2,-999,9,-999,9,122.2,2,49.55,2,-999,9,29,2,0,2,2.05,2,-999,9,-999,9,-999,9,-999,9,-999,9,-999,9,   -999.0,  9,-999,9,-999,-999,9,-999,9,-999,9,-999,9,-999,-999,-999,9,603,7.1946,26.6795,-999,9
RF05-01,165E,RF-2318,1,8,02-18562,2,20050125,1657,23.0038,165.0098,5810,705,5.8429,34.1443,2,-999,9,-999,9,75.9,2,71.59,2,-999,9,35.57,2,0,2,2.56,2,-999,9,-999,9,-999,9,-999,9,-999,9,-999,9,   -999.0,  9,-999,9,-999,-999,9,-999,9,-999,9,-999,9,-999,-999,-999,9,699,5.7815,26.9037,-999,9
RF05-01,165E,RF-2318,1,7,02-18561,2,20050125,1651,23.0038,165.0098,5810,806.5,5.0427,34.2449,2,-999,9,-999,9,48.1,2,88.76,2,-999,9,39.24,2,0,2,2.86,2,-999,9,-999,9,-999,9,-999,9,-999,9,-999,9,   -999.0,  9,-999,9,-999,-999,9,-999,9,-999,9,-999,9,-999,-999,-999,9,800,4.9767,27.0792,-999,9
RF05-01,165E,RF-2318,1,6,02-18560,2,20050125,1649,23.0038,165.0098,5810,908.4,4.5308,34.3533,2,-999,9,-999,9,43.3,2,100.04,2,-999,9,40.6,2,0,2,2.96,2,-999,9,-999,9,-999,9,-999,9,-999,9,-999,9,   -999.0,  9,-999,9,-999,-999,9,-999,9,-999,9,-999,9,-999,-999,-999,9,901,4.4592,27.2231,-999,9
RF05-01,165E,RF-2318,1,5,02-18559,2,20050125,1646,23.0038,165.0098,5810,1007.2,4.1254,34.4147,2,-999,9,-999,9,48,2,108.03,2,-999,9,40.99,2,0,2,2.98,2,-999,9,-999,9,-999,9,-999,9,-999,9,-999,9,   -999.0,  9,-999,9,-999,-999,9,-999,9,-999,9,-999,9,-999,-999,-999,9,998,4.0483,27.3156,-999,9
RF05-01,165E,RF-2318,1,4,02-18558,2,20050125,1636,23.0038,165.0098,5810,1262.3,3.4071,34.5219,2,-999,9,-999,9,67.9,2,121.28,2,-999,9,40.22,2,0,2,2.9,2,-999,9,-999,9,-999,9,-999,9,-999,9,-999,9,   -999.0,  9,-999,9,-999,-999,9,-999,9,-999,9,-999,9,-999,-999,-999,9,1251,3.3148,27.474,-999,9
RF05-01,165E,RF-2318,1,3,02-18557,2,20050125,1631,23.0038,165.0098,5810,1516.2,2.7785,34.5502,2,-999,9,-999,9,75,2,134.47,2,-999,9,40.06,2,0,2,2.87,2,-999,9,-999,9,-999,9,-999,9,-999,9,-999,9,   -999.0,  9,-999,9,-999,-999,9,-999,9,-999,9,-999,9,-999,-999,-999,9,1501, 2.6720,27.5554,-999,9
RF05-01,165E,RF-2318,1,2,02-18556,2,20050125,1624,23.0038,165.0098,5810,1766.4,2.3891,34.5825,2,-999,9,-999,9,86.1,2,141.17,2,-999,9,39.67,2,0,2,2.83,2,-999,9,-999,9,-999,9,-999,9,-999,9,-999,9,   -999.0,  9,-999,9,-999,-999,9,-999,9,-999,9,-999,9,-999,-999,-999,9,1748,2.2667,27.6157,-999,9
RF05-01,165E,RF-2318,1,1,02-18555,2,20050125,1614,23.0038,165.0098,5810,2021.5,2.0513,34.6094,2,-999,9,-999,9,94.9,2,148.63,2,-999,9,39.51,2,0,2,2.79,2,-999,9,-999,9,-999,9,-999,9,-999,9,-999,9,   -999.0,  9,-999,9,-999,-999,9,-999,9,-999,9,-999,9,-999,-999,-999,9,1999,1.9123,27.6656,-999,9
RF05-01,165E,RF-2321,1,-9,-9,5,20050126,1156,20.0077,164.9918,5346,0,25.8996,34.911,2,-999,9,-999,9,204.4,2,1.21,2,-999,9,0,2,0,2,0.01,2,-999,9,-999,9,-999,9,1949.2,2,-999,9,-999,9,   -999.0,  9,-999,9,-999,-999,9,-999,9,0.04,2,0.01,2,-999,-999,-999,9,0,25.8994,22.9975,-999,9
RF05-01,165E,RF-2321,1,22,02-18576,2,20050126,1213,20.0077,164.9918,5346,10.7,25.9051,34.9169,2,-999,9,34.9305,4,206.8,2,1.24,2,-999,9,0,2,0,2,0,2,-999,9,-999,9,-999,9,1948.2,2,-999,9,-999,9,   -999.0,  9,-999,9,-999,-999,9,-999,9,0.04,2,0,2,-999,-999,-999,9,11,25.9027,23.0009,-999,9
RF05-01,165E,RF-2321,1,21,02-18575,2,20050126,1212,20.0077,164.9918,5346,25,25.8207,34.9562,2,-999,9,-999,9,202.6,2,1.18,2,-999,9,0,2,0,2,0,2,-999,9,-999,9,-999,9,1948.5,2,-999,9,-999,9,   -999.0,  9,-999,9,-999,-999,9,-999,9,0.04,2,0.01,2,-999,-999,-999,9,25,25.8152,23.0578,-999,9
RF05-01,165E,RF-2321,1,20,02-18574,2,20050126,1211,20.0077,164.9918,5346,49.5,25.7698,34.9902,2,-999,9,-999,9,205.6,2,1.17,2,-999,9,0,2,0,2,0,2,-999,9,-999,9,-999,9,1955.6,2,-999,9,-999,9,   -999.0,  9,-999,9,-999,-999,9,-999,9,0.06,2,0.02,2,-999,-999,-999,9,49,25.7588,23.1009,-999,9
RF05-01,165E,RF-2321,1,19,02-18573,2,20050126,1210,20.0077,164.9918,5346,76.8,25.6313,35.0167,2,-999,9,-999,9,205.6,2,1.2,2,-999,9,0,2,0,2,0,2,-999,9,-999,9,-999,9,1955.5,2,-999,9,-999,9,   -999.0,  9,-999,9,-999,-999,9,-999,9,0.08,2,0.04,2,-999,-999,-999,9,76,25.6143,23.1656,-999,9
RF05-01,165E,RF-2321,1,18,02-18572,2,20050126,1208,20.0077,164.9918,5346,100.6,24.8565,35.0746,2,-999,9,35.1104,4,206.5,2,1.42,2,-999,9,0,2,0,2,0,2,-999,9,-999,9,-999,9,1978.5,2,-999,9,-999,9,   -999.0,  9,-999,9,-999,-999,9,-999,9,0.13,2,0.13,2,-999,-999,-999,9,100,24.8348,23.4478,-999,9
RF05-01,165E,RF-2321,1,17,02-18571,2,20050126,1207,20.0077,164.9918,5346,126.8,21.9909,35.1583,2,-999,9,-999,9,189.9,2,2.04,2,-999,9,0.94,2,0.03,2,0.08,2,-999,9,-999,9,-999,9,2025.7,2,-999,9,-999,9,   -999.0,  9,-999,9,-999,-999,9,-999,9,0.1,2,0.26,2,-999,-999,-999,9,126,21.9658,24.3477,-999,9
RF05-01,165E,RF-2321,1,16,02-18570,2,20050126,1206,20.0077,164.9918,5346,150,20.0281,35.0249,2,-999,9,-999,9,194.5,2,2.47,2,-999,9,1.89,2,0,2,0.13,2,-999,9,-999,9,-999,9,2033.9,2,-999,9,-999,9,   -999.0,  9,-999,9,-999,-999,9,-999,9,0.04,2,0.07,2,-999,-999,-999,9,149,20.0003,24.7806,-999,9
RF05-01,165E,RF-2321,1,15,02-18569,2,20050126,1205,20.0077,164.9918,5346,200.1,17.6204,34.8021,2,-999,9,34.8075,2,201.3,2,3.92,2,-999,9,4.15,2,0,2,0.23,2,-999,9,-999,9,-999,9,2037.2,2,-999,9,-999,9,   -999.0,  9,-999,9,-999,-999,9,-999,9,0.01,2,0.02,2,-999,-999,-999,9,199,17.5866,25.2216,-999,9
RF05-01,165E,RF-2321,1,14,02-18568,2,20050126,1203,20.0077,164.9918,5346,251.3,15.8351,34.6565,2,-999,9,-999,9,208,2,6.16,2,-999,9,6.47,2,0,2,0.37,2,-999,9,-999,9,-999,9,2046,2,-999,9,-999,9,   -999.0,  9,-999,9,-999,-999,9,-999,9,-999,9,-999,9,-999,-999,-999,9,250,15.7956,25.5298,-999,9
RF05-01,165E,RF-2321,1,13,02-18567,2,20050126,1201,20.0077,164.9918,5346,301,14.4399,34.5335,2,-999,9,34.5329,2,200.2,2,9.43,2,-999,9,9.19,2,0,2,0.56,2,-999,9,-999,9,-999,9,2064.5,2,-999,9,-999,9,   -999.0,  9,-999,9,-999,-999,9,-999,9,-999,9,-999,9,-999,-999,-999,9,299,14.3955,25.7429,-999,9
RF05-01,165E,RF-2321,1,12,02-18566,2,20050126,1159,20.0077,164.9918,5346,401.7,10.9117,34.2641,2,-999,9,34.2638,2,189.6,2,20.11,2,-999,9,16.14,2,0,2,1.04,2,-999,9,-999,9,-999,9,2106,2,-999,9,-999,9,   -999.0,  9,-999,9,-999,-999,9,-999,9,-999,9,-999,9,-999,-999,-999,9,399,10.8624,26.2271,-999,9
RF05-01,165E,RF-2321,1,11,02-18565,2,20050126,1156,20.0077,164.9918,5346,503.7,8.1288,34.1049,2,-999,9,34.1087,2,150.5,2,39.54,2,-999,9,24.97,2,0,2,1.71,2,-999,9,-999,9,-999,9,2169.4,2,-999,9,-999,9,   -999.0,  9,-999,9,-999,-999,9,-999,9,-999,9,-999,9,-999,-999,-999,9,500,8.077,26.5594,-999,9
RF05-01,165E,RF-2321,1,10,02-18564,2,20050126,1154,20.0077,164.9918,5346,604.4,6.2224,34.1228,2,-999,9,34.1229,2,92.1,2,66.08,2,-999,9,34.2,2,0,2,2.44,2,-999,9,-999,9,-999,9,2252.4,2,-999,9,-999,9,   -999.0,  9,-999,9,-999,-999,9,-999,9,-999,9,-999,9,-999,-999,-999,9,600,6.1685,26.838,-999,9
RF05-01,165E,RF-2321,1,9,02-18563,2,20050126,1151,20.0077,164.9918,5346,705.1,5.1743,34.2446,2,-999,9,34.2507,2,47.9,2,87.53,2,-999,9,39.16,2,0,2,2.85,2,-999,9,-999,9,-999,9,2304.4,2,-999,9,-999,9,   -999.0,  9,-999,9,-999,-999,9,-999,9,-999,9,-999,9,-999,-999,-999,9,700,5.1164,27.0629,-999,9
RF05-01,165E,RF-2321,1,8,02-18562,2,20050126,1149,20.0077,164.9918,5346,807.4,4.7102,34.3659,2,-999,9,34.3658,2,46.3,2,96.99,2,-999,9,40.11,2,0,2,2.93,2,-999,9,-999,9,-999,9,2320.9,2,-999,9,-999,9,   -999.0,  9,-999,9,-999,-999,9,-999,9,-999,9,-999,9,-999,-999,-999,9,801,4.646,27.2126,-999,9
RF05-01,165E,RF-2321,1,7,02-18561,2,20050126,1146,20.0077,164.9918,5346,908.6,4.3525,34.4443,2,-999,9,34.4428,2,54.5,2,103.84,2,-999,9,40.11,2,0,2,2.91,2,-999,9,-999,9,-999,9,2325.1,2,-999,9,-999,9,   -999.0,  9,-999,9,-999,-999,9,-999,9,-999,9,-999,9,-999,-999,-999,9,901,4.282,27.3145,-999,9
RF05-01,165E,RF-2321,1,6,02-18560,2,20050126,1143,20.0077,164.9918,5346,1008.8,4.006,34.4874,2,-999,9,34.4878,2,61.1,2,110.13,2,-999,9,40.03,2,0,2,2.9,2,-999,9,-999,9,-999,9,2331.1,2,-999,9,-999,9,   -999.0,  9,-999,9,-999,-999,9,-999,9,-999,9,-999,9,-999,-999,-999,9,1000,3.9296,27.3857,-999,9
RF05-01,165E,RF-2321,1,5,02-18559,2,20050126,1143,20.0077,164.9918,5346,1009.1,4.0032,34.4881,2,-999,9,-999,9,-999,9,-999,9,-999,9,-999,9,-999,9,-999,9,-999,9,-999,9,-999,9,-999,9,-999,9,-999,9,   -999.0,  9,-999,9,-999,-999,9,-999,9,-999,9,-999,9,-999,-999,-999,9,1001,3.9268,27.3865,-999,9
RF05-01,165E,RF-2321,1,4,02-18558,2,20050126,1138,20.0077,164.9918,5346,1262.1,3.2616,34.5449,2,-999,9,34.5451,2,74.9,2,124.26,2,-999,9,39.79,2,0,2,2.86,2,-999,9,-999,9,-999,9,2343.4,2,-999,9,-999,9,   -999.0,  9,-999,9,-999,-999,9,-999,9,-999,9,-999,9,-999,-999,-999,9,1251,3.1707,27.506,-999,9
RF05-01,165E,RF-2321,1,3,02-18557,2,20050126,1132,20.0077,164.9918,5346,1515.1,2.7268,34.5757,2,-999,9,34.574,2,83.6,2,134.15,2,-999,9,39.55,2,0,2,2.82,2,-999,9,-999,9,-999,9,2345.7,2,-999,9,-999,9,   -999.0,  9,-999,9,-999,-999,9,-999,9,-999,9,-999,9,-999,-999,-999,9,1500,2.6209,27.5802,-999,9
RF05-01,165E,RF-2321,1,2,02-18556,2,20050126,1127,20.0077,164.9918,5346,1769.8,2.2889,34.6029,2,-999,9,34.6021,2,93,2,142.75,2,-999,9,39.2,2,0,2,2.79,2,-999,9,-999,9,-999,9,2349.2,6,-999,9,-999,9,   -999.0,  9,-999,9,-999,-999,9,-999,9,-999,9,-999,9,-999,-999,-999,9,1752,2.1675,27.6401,-999,9
RF05-01,165E,RF-2321,1,1,02-18555,2,20050126,1122,20.0077,164.9918,5346,2022.2,2.032,34.6253,2,-999,9,34.6243,2,103,2,146.98,2,-999,9,38.78,2,0,2,2.74,2,-999,9,-999,9,-999,9,2349.4,2,-999,9,-999,9,   -999.0,  9,-999,9,-999,-999,9,-999,9,-999,9,-999,9,-999,-999,-999,9,2000,1.8932,27.6799,-999,9