BOTTLE,20131214MIRCJHATS
EXPOCODE,SECT_ID,STNNBR,CASTNO,SAMPNO,BTLNBR,BTLNBR_FLAG_W,DATE,TIME,LATITUDE,LONGITUDE,DEPTH,CTDPRS,CTDTMP,CTDSAL,CTDSAL_FLAG_W,CTDOXY,CTDOXY_FLAG_W,SALNTY,SALNTY_FLAG_W,OXYGEN,OXYGEN_FLAG_W,SILCAT,SILCAT_FLAG_W,NITRAT,NITRAT_FLAG_W,NO2+NO3,NO2+NO3_FLAG_W,NITRIT,NITRIT_FLAG_W,PHSPHT,PHSPHT_FLAG_W,CFC-11,CFC-11_FLAG_W,CFC-12,CFC-12_FLAG_W,DELC13,DELC13_FLAG_W,TCARBN,TCARBN_FLAG_W,ALKALI,ALKALI_FLAG_W,PH,PH_FLAG_W,PH_TMP,PH_SCALE,PH_NBS,PH_NBS_FLAG_W,C13ERR,TOTALP,TOTALP_FLAG_W,AMMONI,AMMONI_FLAG_W,CHLORA,CHLORA_FLAG_W,PPHYTN,PPHYTN_FLAG_W,REVPRS,REVTMP,DEPTH,DEPTH_FLAG,CTDDEP,THETA,SIGTHT,DOC,DOC_FLAG_W
,,,,,,,GMT,GMT,,,METERS,DBAR,ITS-90,PSS-78,,UMOL/KG,,PSS-78,,UMOL/KG,,UMOL/KG,,UMOL/KG,,UMOL/KG,,UMOL/KG, ,UMOL/KG,,PMOL/KG,,PMOL/KG,,/MILLE,,UMOL/KG,,UMOL/KG,,25_DEG_C,,DEG_C,,,,/MILLE,UMOL/KG,,UMOL/KG,,UG/L,,UG/L,,DBAR,ITS-90,METERS,,METERS,DEG_C,,UMOL/L
RF05-01,165E,RF-2323,1,-9,-9,5,20050127,0008,17.9887,164.9982,5450,0,26.6475,34.789,2,-999,9,-999,9,200.1,2,1.13,2,-999,9,0,2,0,2,0.01,2,-999,9,-999,9,-999,9,-999,9,-999,9,-999,9,   -999.0,  9,-999,9,-999,-999,9,-999,9,0.02,2,0.02,2,-999,-999,-999,9,0,26.6473,22.6709,-999,9
RF05-01,165E,RF-2323,1,21,02-18575,2,20050127,0026,17.9887,164.9982,5450,9.2,26.5974,34.787,2,-999,9,-999,9,205.5,2,1.26,2,-999,9,0,2,0,2,0.01,2,-999,9,-999,9,-999,9,-999,9,-999,9,-999,9,   -999.0,  9,-999,9,-999,-999,9,-999,9,0.02,2,0.03,2,-999,-999,-999,9,9,26.5953,22.6859,-999,9
RF05-01,165E,RF-2323,1,20,02-18574,2,20050127,0025,17.9887,164.9982,5450,25.5,26.5489,34.7841,2,-999,9,-999,9,202.7,2,1.28,2,-999,9,0,2,0,2,0.01,2,-999,9,-999,9,-999,9,-999,9,-999,9,-999,9,   -999.0,  9,-999,9,-999,-999,9,-999,9,0.03,2,0.03,2,-999,-999,-999,9,25,26.5431,22.7002,-999,9
RF05-01,165E,RF-2323,1,19,02-18573,2,20050127,0024,17.9887,164.9982,5450,49.9,26.355,34.815,2,-999,9,-999,9,203.3,2,1.22,2,-999,9,0,2,0,2,0,2,-999,9,-999,9,-999,9,-999,9,-999,9,-999,9,   -999.0,  9,-999,9,-999,-999,9,-999,9,0.04,2,0.03,2,-999,-999,-999,9,50,26.3438,22.7862,-999,9
RF05-01,165E,RF-2323,1,18,02-18572,2,20050127,0022,17.9887,164.9982,5450,75.7,26.3383,34.8435,2,-999,9,-999,9,202.8,2,1.19,2,-999,9,0,2,0,2,0,2,-999,9,-999,9,-999,9,-999,9,-999,9,-999,9,   -999.0,  9,-999,9,-999,-999,9,-999,9,0.07,2,0.05,2,-999,-999,-999,9,75,26.3213,22.8148,-999,9
RF05-01,165E,RF-2323,1,17,02-18571,2,20050127,0021,17.9887,164.9982,5450,101.9,25.9223,34.9944,2,-999,9,-999,9,207.1,2,1.16,2,-999,9,0,2,0,2,0,2,-999,9,-999,9,-999,9,-999,9,-999,9,-999,9,   -999.0,  9,-999,9,-999,-999,9,-999,9,0.09,2,0.07,2,-999,-999,-999,9,101,25.8996,23.0604,-999,9
RF05-01,165E,RF-2323,1,16,02-18570,2,20050127,0020,17.9887,164.9982,5450,125.7,25.6199,35.0381,2,-999,9,-999,9,-999,4,1.25,2,-999,9,0,2,0,2,0,2,-999,9,-999,9,-999,9,-999,9,-999,9,-999,9,   -999.0,  9,-999,9,-999,-999,9,-999,9,0.12,2,0.2,2,-999,-999,-999,9,125,25.5921,23.1886,-999,9
RF05-01,165E,RF-2323,1,15,02-18569,2,20050127,0019,17.9887,164.9982,5450,151.1,23.529,35.186,2,-999,9,-999,9,-999,4,1.57,2,-999,9,0.21,2,0.07,2,0.04,2,-999,9,-999,9,-999,9,-999,9,-999,9,-999,9,   -999.0,  9,-999,9,-999,-999,9,-999,9,0.07,2,0.25,2,-999,-999,-999,9,150,23.4976,23.9301,-999,9
RF05-01,165E,RF-2323,1,14,02-18568,2,20050127,0017,17.9887,164.9982,5450,199.9,20.1771,35.0612,2,-999,9,-999,9,191.6,2,2.35,2,-999,9,2.2,2,0,2,0.15,2,-999,9,-999,9,-999,9,-999,9,-999,9,-999,9,   -999.0,  9,-999,9,-999,-999,9,-999,9,0.01,2,0.03,2,-999,-999,-999,9,199,20.1399,24.7715,-999,9
RF05-01,165E,RF-2323,1,13,02-18567,2,20050127,0015,17.9887,164.9982,5450,252.1,16.9192,34.7441,2,-999,9,-999,9,197.6,2,5.04,2,-999,9,5.67,2,0,2,0.33,2,-999,9,-999,9,-999,9,-999,9,-999,9,-999,9,   -999.0,  9,-999,9,-999,-999,9,-999,9,-999,9,-999,9,-999,-999,-999,9,250,16.8778,25.3468,-999,9
RF05-01,165E,RF-2323,1,12,02-18566,2,20050127,0013,17.9887,164.9982,5450,302.8,14.7848,34.5476,2,-999,9,-999,9,199.5,2,8.18,2,-999,9,8.46,2,0,2,0.52,2,-999,9,-999,9,-999,9,-999,9,-999,9,-999,9,   -999.0,  9,-999,9,-999,-999,9,-999,9,-999,9,-999,9,-999,-999,-999,9,301,14.7394,25.6799,-999,9
RF05-01,165E,RF-2323,1,11,02-18565,2,20050127,0011,17.9887,164.9982,5450,401.3,10.8706,34.2506,2,-999,9,-999,9,178.2,2,20.03,2,-999,9,17.14,2,0,2,1.12,2,-999,9,-999,9,-999,9,-999,9,-999,9,-999,9,   -999.0,  9,-999,9,-999,-999,9,-999,9,-999,9,-999,9,-999,-999,-999,9,399,10.8215,26.2239,-999,9
RF05-01,165E,RF-2323,1,10,02-18564,2,20050127,0008,17.9887,164.9982,5450,503.8,8.258,34.1793,2,-999,9,-999,9,109.5,2,42.34,2,-999,9,28.59,2,0,2,2.03,2,-999,9,-999,9,-999,9,-999,9,-999,9,-999,9,   -999.0,  9,-999,9,-999,-999,9,-999,9,-999,9,-999,9,-999,-999,-999,9,500,8.2057,26.5985,-999,9
RF05-01,165E,RF-2323,1,9,02-18563,2,20050127,0005,17.9887,164.9982,5450,604.2,6.4099,34.2437,2,-999,9,-999,9,62.3,2,67.09,2,-999,9,36.2,2,0,2,2.61,2,-999,9,-999,9,-999,9,-999,9,-999,9,-999,9,   -999.0,  9,-999,9,-999,-999,9,-999,9,-999,9,-999,9,-999,-999,-999,9,600,6.355,26.9094,-999,9
RF05-01,165E,RF-2323,1,8,02-18562,2,20050127,0003,17.9887,164.9982,5450,705.4,5.5933,34.3698,2,-999,9,-999,9,50,2,80.74,2,-999,9,38.87,2,0,2,2.81,2,-999,9,-999,9,-999,9,-999,9,-999,9,-999,9,   -999.0,  9,-999,9,-999,-999,9,-999,9,-999,9,-999,9,-999,-999,-999,9,700,5.533,27.1126,-999,9
RF05-01,165E,RF-2323,1,7,02-18561,2,20050127,0000,17.9887,164.9982,5450,805.7,5.1486,34.458,2,-999,9,-999,9,55.8,2,87.81,2,-999,9,39.52,2,0,2,2.84,2,-999,9,-999,9,-999,9,-999,9,-999,9,-999,9,   -999.0,  9,-999,9,-999,-999,9,-999,9,-999,9,-999,9,-999,-999,-999,9,799, 5.0818,27.2361,-999,9
RF05-01,165E,RF-2323,1,6,02-18560,2,20050126,2357,17.9887,164.9982,5450,908,4.7346,34.4959,2,-999,9,-999,9,60.4,2,94.84,2,-999,9,39.51,2,0,2,2.86,2,-999,9,-999,9,-999,9,-999,9,-999,9,-999,9,   -999.0,  9,-999,9,-999,-999,9,-999,9,-999,9,-999,9,-999,-999,-999,9,901,4.6614,27.314,-999,9
RF05-01,165E,RF-2323,1,5,02-18559,2,20050126,2354,17.9887,164.9982,5450,1008.3,4.4009,34.5182,2,-999,9,-999,9,63.6,2,100.66,2,-999,9,40,2,0,2,2.87,2,-999,9,-999,9,-999,9,-999,9,-999,9,-999,9,   -999.0,  9,-999,9,-999,-999,9,-999,9,-999,9,-999,9,-999,-999,-999,9,1000,4.3214,27.369,-999,9
RF05-01,165E,RF-2323,1,4,02-18558,2,20050126,2349,17.9887,164.9982,5450,1260.6,3.572,34.5545,2,-999,9,-999,9,73.9,2,116.92,2,-999,9,40.11,2,0,2,2.87,2,-999,9,-999,9,-999,9,-999,9,-999,9,-999,9,   -999.0,  9,-999,9,-999,-999,9,-999,9,-999,9,-999,9,-999,-999,-999,9,1249,3.4782,27.4843,-999,9
RF05-01,165E,RF-2323,1,3,02-18557,2,20050126,2344,17.9887,164.9982,5450,1515.1,3.0201,34.5758,2,-999,9,-999,9,80.3,2,128.07,2,-999,9,40.09,2,0,2,2.84,2,-999,9,-999,9,-999,9,-999,9,-999,9,-999,9,   -999.0,  9,-999,9,-999,-999,9,-999,9,-999,9,-999,9,-999,-999,-999,9,1501, 2.9108,27.5546,-999,9
RF05-01,165E,RF-2323,1,2,02-18556,2,20050126,2338,17.9887,164.9982,5450,1767.2,2.4267,34.6018,2,-999,9,-999,9,93,2,139.66,2,-999,9,38.48,2,0,2,2.78,2,-999,9,-999,9,-999,9,-999,9,-999,9,-999,9,   -999.0,  9,-999,9,-999,-999,9,-999,9,-999,9,-999,9,-999,-999,-999,9,1749,2.3037,27.628,-999,9
RF05-01,165E,RF-2323,1,1,02-18555,2,20050126,2333,17.9887,164.9982,5450,2022.8,2.0944,34.6245,2,-999,9,-999,9,103.5,2,145.08,2,-999,9,38.92,2,0,2,2.73,2,-999,9,-999,9,-999,9,-999,9,-999,9,-999,9,   -999.0,  9,-999,9,-999,-999,9,-999,9,-999,9,-999,9,-999,-999,-999,9,2001,1.9546,27.6745,-999,9
RF05-01,165E,RF-2326,1,-9,-9,5,20050127,1810,14.9947,164.9925,5211,0,27.079,34.6175,2,-999,9,-999,9,199.2,2,1.27,2,-999,9,0,2,0,2,0.05,2,-999,9,-999,9,-999,9,-999,9,-999,9,-999,9,   -999.0,  9,-999,9,-999,-999,9,-999,9,0.02,2,0.02,2,-999,-999,-999,9,0,27.0789,22.4045,-999,9
RF05-01,165E,RF-2326,1,21,02-18575,2,20050127,1822,14.9947,164.9925,5211,10.4,27.0863,34.6179,2,-999,9,34.6127,2,-999,4,1.15,2,-999,9,0,2,0,2,0.04,2,-999,9,-999,9,-999,9,-999,9,-999,9,-999,9,   -999.0,  9,-999,9,-999,-999,9,-999,9,0.02,2,0.02,2,-999,-999,-999,9,10,27.0839,22.4032,-999,9
RF05-01,165E,RF-2326,1,20,02-18574,2,20050127,1821,14.9947,164.9925,5211,25.3,27.0891,34.6174,2,-999,9,-999,9,197.9,2,1.11,2,-999,9,0,2,0,2,0.04,2,-999,9,-999,9,-999,9,-999,9,-999,9,-999,9,   -999.0,  9,-999,9,-999,-999,9,-999,9,0.03,2,0.02,2,-999,-999,-999,9,25,27.0833,22.4031,-999,9
RF05-01,165E,RF-2326,1,19,02-18573,2,20050127,1820,14.9947,164.9925,5211,51.3,27.076,34.6179,2,-999,9,-999,9,200.4,2,1.15,2,-999,9,0,2,0,2,0.04,2,-999,9,-999,9,-999,9,-999,9,-999,9,-999,9,   -999.0,  9,-999,9,-999,-999,9,-999,9,0.03,2,0.02,2,-999,-999,-999,9,51,27.0642,22.4095,-999,9
RF05-01,165E,RF-2326,1,18,02-18572,2,20050127,1819,14.9947,164.9925,5211,75.8,27.0784,34.6364,2,-999,9,-999,9,199.5,2,1.22,2,-999,9,0,2,0,2,0.04,2,-999,9,-999,9,-999,9,-999,9,-999,9,-999,9,   -999.0,  9,-999,9,-999,-999,9,-999,9,0.05,2,0.04,2,-999,-999,-999,9,75,27.061,22.4245,-999,9
RF05-01,165E,RF-2326,1,17,02-18571,2,20050127,1818,14.9947,164.9925,5211,100.8,26.9654,34.6698,2,-999,9,34.7311,4,199.9,2,1.16,2,-999,9,0,2,0,2,0.04,2,-999,9,-999,9,-999,9,-999,9,-999,9,-999,9,   -999.0,  9,-999,9,-999,-999,9,-999,9,0.06,2,0.09,2,-999,-999,-999,9,100,26.9423,22.4875,-999,9
RF05-01,165E,RF-2326,1,16,02-18570,2,20050127,1817,14.9947,164.9925,5211,126.1,25.1938,35.0103,2,-999,9,-999,9,203.3,2,1.37,2,-999,9,0,2,0,2,0.04,2,-999,9,-999,9,-999,9,-999,9,-999,9,-999,9,   -999.0,  9,-999,9,-999,-999,9,-999,9,0.08,2,0.25,2,-999,-999,-999,9,125,25.1663,23.2983,-999,9
RF05-01,165E,RF-2326,1,15,02-18569,2,20050127,1816,14.9947,164.9925,5211,150.9,23.6398,35.0648,2,-999,9,-999,9,186.8,2,1.62,2,-999,9,0.65,2,0.11,2,0.11,2,-999,9,-999,9,-999,9,-999,9,-999,9,-999,9,   -999.0,  9,-999,9,-999,-999,9,-999,9,0.05,2,0.21,2,-999,-999,-999,9,150,23.6084,23.8059,-999,9
RF05-01,165E,RF-2326,1,14,02-18568,2,20050127,1814,14.9947,164.9925,5211,201.6,20.2198,35.0513,2,-999,9,35.0399,4,176.4,2,2.99,2,-999,9,3.43,2,0,2,0.26,2,-999,9,-999,9,-999,9,-999,9,-999,9,-999,9,   -999.0,  9,-999,9,-999,-999,9,-999,9,0.01,2,0.06,2,-999,-999,-999,9,200,20.1822,24.7526,-999,9
RF05-01,165E,RF-2326,1,13,02-18567,2,20050127,1812,14.9947,164.9925,5211,251.1,16.7111,34.7174,2,-999,9,-999,9,178.5,2,6.26,2,-999,9,7.55,2,0,2,0.5,2,-999,9,-999,9,-999,9,-999,9,-999,9,-999,9,   -999.0,  9,-999,9,-999,-999,9,-999,9,-999,9,-999,9,-999,-999,-999,9,249,16.6702,25.3751,-999,9
RF05-01,165E,RF-2326,1,12,02-18566,2,20050127,1811,14.9947,164.9925,5211,303.1,12.5033,34.3456,2,-999,9,34.3399,2,163.7,2,15.24,2,-999,9,15.35,2,0,2,1.03,2,-999,9,-999,9,-999,9,-999,9,-999,9,-999,9,   -999.0,  9,-999,9,-999,-999,9,-999,9,-999,9,-999,9,-999,-999,-999,9,301,12.4628,25.9918,-999,9
RF05-01,165E,RF-2326,1,11,02-18565,2,20050127,1808,14.9947,164.9925,5211,402.7,9.0994,34.2201,2,-999,9,34.2187,2,117.5,2,34.9,2,-999,9,26.09,2,0,2,1.85,2,-999,9,-999,9,-999,9,-999,9,-999,9,-999,9,   -999.0,  9,-999,9,-999,-999,9,-999,9,-999,9,-999,9,-999,-999,-999,9,400,9.0553,26.4986,-999,9
RF05-01,165E,RF-2326,1,10,02-18564,2,20050127,1806,14.9947,164.9925,5211,502.7,6.9944,34.2635,2,-999,9,34.2617,2,65.2,2,58.67,2,-999,9,34.56,2,0,2,2.5,2,-999,9,-999,9,-999,9,-999,9,-999,9,-999,9,   -999.0,  9,-999,9,-999,-999,9,-999,9,-999,9,-999,9,-999,-999,-999,9,499,6.9469,26.8459,-999,9
RF05-01,165E,RF-2326,1,9,02-18563,2,20050127,1803,14.9947,164.9925,5211,605.3,6.0377,34.3774,2,-999,9,34.3738,2,49.6,2,73.28,2,-999,9,37.98,2,0,2,2.77,2,-999,9,-999,9,-999,9,-999,9,-999,9,-999,9,   -999.0,  9,-999,9,-999,-999,9,-999,9,-999,9,-999,9,-999,-999,-999,9,601,5.9843,27.0627,-999,9
RF05-01,165E,RF-2326,1,8,02-18562,2,20050127,1801,14.9947,164.9925,5211,703.9,5.4641,34.4566,2,-999,9,34.4543,2,56.4,2,81.33,2,-999,9,38.71,2,0,2,2.79,2,-999,9,-999,9,-999,9,-999,9,-999,9,-999,9,   -999.0,  9,-999,9,-999,-999,9,-999,9,-999,9,-999,9,-999,-999,-999,9,699,5.4045,27.1968,-999,9
RF05-01,165E,RF-2326,1,7,02-18561,2,20050127,1758,14.9947,164.9925,5211,806.3,5.0339,34.4905,2,-999,9,34.4874,2,59.9,2,87.94,2,-999,9,39.13,2,0,2,2.82,2,-999,9,-999,9,-999,9,-999,9,-999,9,-999,9,   -999.0,  9,-999,9,-999,-999,9,-999,9,-999,9,-999,9,-999,-999,-999,9,800,4.9677,27.2751,-999,9
RF05-01,165E,RF-2326,1,6,02-18560,2,20050127,1756,14.9947,164.9925,5211,908.5,4.5494,34.5172,2,-999,9,34.514,2,62.7,2,96.58,2,-999,9,39.59,2,0,2,2.87,2,-999,9,-999,9,-999,9,-999,9,-999,9,-999,9,   -999.0,  9,-999,9,-999,-999,9,-999,9,-999,9,-999,9,-999,-999,-999,9,901,4.4774,27.3512,-999,9
RF05-01,165E,RF-2326,1,5,02-18559,2,20050127,1753,14.9947,164.9925,5211,1009.1,4.133,34.5358,2,-999,9,34.5334,2,63.6,2,104.44,2,-999,9,40.15,2,0,2,2.9,2,-999,9,-999,9,-999,9,-999,9,-999,9,-999,9,   -999.0,  9,-999,9,-999,-999,9,-999,9,-999,9,-999,9,-999,-999,-999,9,1001,4.0555,27.4112,-999,9
RF05-01,165E,RF-2326,1,4,02-18558,2,20050127,1748,14.9947,164.9925,5211,1260.1,3.236,34.5699,2,-999,9,34.5668,2,74.6,2,122.16,2,-999,9,40.03,2,0,2,2.87,2,-999,9,-999,9,-999,9,-999,9,-999,9,-999,9,   -999.0,  9,-999,9,-999,-999,9,-999,9,-999,9,-999,9,-999,-999,-999,9,1249, 3.1455,27.5283,-999,9
RF05-01,165E,RF-2326,1,3,02-18557,2,20050127,1743,14.9947,164.9925,5211,1515.2,2.6809,34.5975,2,-999,9,34.5953,2,87.7,2,132.11,2,-999,9,39.47,2,0,2,2.81,2,-999,9,-999,9,-999,9,-999,9,-999,9,-999,9,   -999.0,  9,-999,9,-999,-999,9,-999,9,-999,9,-999,9,-999,-999,-999,9,1501,2.5754,27.6016,-999,9
RF05-01,165E,RF-2326,1,2,02-18556,2,20050127,1738,14.9947,164.9925,5211,1768.4,2.3329,34.6166,2,-999,9,34.6137,2,95.5,2,139.31,2,-999,9,39.11,2,0,2,2.77,2,-999,9,-999,9,-999,9,-999,9,-999,9,-999,9,   -999.0,  9,-999,9,-999,-999,9,-999,9,-999,9,-999,9,-999,-999,-999,9,1751,2.211,27.6475,-999,9
RF05-01,165E,RF-2326,1,1,02-18555,2,20050127,1733,14.9947,164.9925,5211,2022.1,2.0648,34.6362,2,-999,9,34.6333,2,105.8,2,143.74,2,-999,9,38.75,2,0,2,2.72,2,-999,9,-999,9,-999,9,-999,9,-999,9,-999,9,   -999.0,  9,-999,9,-999,-999,9,-999,9,-999,9,-999,9,-999,-999,-999,9,2001,1.9255,27.6861,-999,9
RF05-01,165E,RF-2328,1,-9,-9,5,20050128,0625,13.0018,164.9827,5197,0,27.6026,34.2042,2,-999,9,-999,9,199.6,2,0.95,2,-999,9,0,2,0,2,0.04,2,-999,9,-999,9,-999,9,-999,9,-999,9,-999,9,   -999.0,  9,-999,9,-999,-999,9,-999,9,0.02,2,0.02,2,-999,-999,-999,9,0,27.6024,21.9253,-999,9
RF05-01,165E,RF-2328,1,21,02-18575,2,20050128,0636,13.0018,164.9827,5197,10.6,27.6078,34.2047,2,-999,9,-999,9,200.2,2,1.04,2,-999,9,0,2,0,2,0.04,2,-999,9,-999,9,-999,9,-999,9,-999,9,-999,9,   -999.0,  9,-999,9,-999,-999,9,-999,9,0.02,2,0.02,2,-999,-999,-999,9,11,27.6053,21.9247,-999,9
RF05-01,165E,RF-2328,1,20,02-18574,2,20050128,0635,13.0018,164.9827,5197,24.9,27.5674,34.2181,2,-999,9,-999,9,200.2,2,0.94,2,-999,9,0,2,0,2,0.04,2,-999,9,-999,9,-999,9,-999,9,-999,9,-999,9,   -999.0,  9,-999,9,-999,-999,9,-999,9,0.03,2,0.02,2,-999,-999,-999,9,25,27.5616,21.9489,-999,9
RF05-01,165E,RF-2328,1,19,02-18573,2,20050128,0634,13.0018,164.9827,5197,50.9,27.317,34.5611,2,-999,9,-999,9,199.8,2,0.93,2,-999,9,0,2,0,2,0.04,2,-999,9,-999,9,-999,9,-999,9,-999,9,-999,9,   -999.0,  9,-999,9,-999,-999,9,-999,9,0.03,2,0.03,2,-999,-999,-999,9,51,27.3052,22.2895,-999,9
RF05-01,165E,RF-2328,1,18,02-18572,2,20050128,0633,13.0018,164.9827,5197,73.9,27.231,34.5832,2,-999,9,-999,9,200.6,2,0.91,2,-999,9,0,2,0,2,0.04,2,-999,9,-999,9,-999,9,-999,9,-999,9,-999,9,   -999.0,  9,-999,9,-999,-999,9,-999,9,0.05,2,0.04,2,-999,-999,-999,9,73,27.214,22.3354,-999,9
RF05-01,165E,RF-2328,1,17,02-18571,2,20050128,0632,13.0018,164.9827,5197,100.1,26.7419,34.6755,2,-999,9,-999,9,204.8,2,1.03,2,-999,9,0,2,0,2,0.04,2,-999,9,-999,9,-999,9,-999,9,-999,9,-999,9,   -999.0,  9,-999,9,-999,-999,9,-999,9,0.09,2,0.11,2,-999,-999,-999,9,99,26.7191,22.5627,-999,9
RF05-01,165E,RF-2328,1,16,02-18570,2,20050128,0631,13.0018,164.9827,5197,126,24.6934,34.9911,2,-999,9,-999,9,204,2,1.16,2,-999,9,0,2,0,2,0.07,2,-999,9,-999,9,-999,9,-999,9,-999,9,-999,9,   -999.0,  9,-999,9,-999,-999,9,-999,9,0.1,2,0.25,2,-999,-999,-999,9,125,24.6663,23.4355,-999,9
RF05-01,165E,RF-2328,1,15,02-18569,2,20050128,0630,13.0018,164.9827,5197,152,22.8889,35.0486,2,-999,9,-999,9,186.7,2,1.67,2,-999,9,0.76,2,0.09,2,0.16,2,-999,9,-999,9,-999,9,-999,9,-999,9,-999,9,   -999.0,  9,-999,9,-999,-999,9,-999,9,0.06,2,0.28,2,-999,-999,-999,9,151,22.858,24.0113,-999,9
RF05-01,165E,RF-2328,1,14,02-18568,2,20050128,0628,13.0018,164.9827,5197,201.2,16.9612,34.7368,2,-999,9,-999,9,174.4,2,5.86,2,-999,9,7.4,2,0,2,0.5,2,-999,9,-999,9,-999,9,-999,9,-999,9,-999,9,   -999.0,  9,-999,9,-999,-999,9,-999,9,0.01,2,0.01,2,-999,-999,-999,9,200,16.9281,25.3293,-999,9
RF05-01,165E,RF-2328,1,13,02-18567,2,20050128,0627,13.0018,164.9827,5197,252,13.7349,34.4535,2,-999,9,-999,9,180.9,3,11.16,2,-999,9,11.78,2,0,2,0.77,2,-999,9,-999,9,-999,9,-999,9,-999,9,-999,9,   -999.0,  9,-999,9,-999,-999,9,-999,9,-999,9,-999,9,-999,-999,-999,9,250,13.699,25.8273,-999,9
RF05-01,165E,RF-2328,1,12,02-18566,2,20050128,0625,13.0018,164.9827,5197,305.5,10.8329,34.2946,2,-999,9,-999,9,146.2,2,22.69,2,-999,9,20.23,2,0,2,1.39,2,-999,9,-999,9,-999,9,-999,9,-999,9,-999,9,   -999.0,  9,-999,9,-999,-999,9,-999,9,-999,9,-999,9,-999,-999,-999,9,304,10.7957,26.2627,-999,9
RF05-01,165E,RF-2328,1,11,02-18565,2,20050128,0623,13.0018,164.9827,5197,403.8,8.7772,34.3943,2,-999,9,-999,9,67.4,2,41.5,2,-999,9,31.68,2,0,2,2.28,2,-999,9,-999,9,-999,9,-999,9,-999,9,-999,9,   -999.0,  9,-999,9,-999,-999,9,-999,9,-999,9,-999,9,-999,-999,-999,9,401,8.7338,26.6859,-999,9
RF05-01,165E,RF-2328,1,10,02-18564,2,20050128,0621,13.0018,164.9827,5197,503.9,7.2744,34.4665,2,-999,9,-999,9,59.7,2,55.85,2,-999,9,35.54,2,0,2,2.55,2,-999,9,-999,9,-999,9,-999,9,-999,9,-999,9,   -999.0,  9,-999,9,-999,-999,9,-999,9,-999,9,-999,9,-999,-999,-999,9,500,7.2255,26.9671,-999,9
RF05-01,165E,RF-2328,1,9,02-18563,2,20050128,0618,13.0018,164.9827,5197,605.9,6.3909,34.4887,2,-999,9,-999,9,69.3,3,64.49,2,-999,9,36.53,2,0,2,2.62,2,-999,9,-999,9,-999,9,-999,9,-999,9,-999,9,   -999.0,  9,-999,9,-999,-999,9,-999,9,-999,9,-999,9,-999,-999,-999,9,602,6.3357,27.1054,-999,9
RF05-01,165E,RF-2328,1,8,02-18562,2,20050128,0616,13.0018,164.9827,5197,706,5.7763,34.5043,2,-999,9,-999,9,68.1,2,73,2,-999,9,37.7,2,0,2,2.71,2,-999,9,-999,9,-999,9,-999,9,-999,9,-999,9,   -999.0,  9,-999,9,-999,-999,9,-999,9,-999,9,-999,9,-999,-999,-999,9,701,5.7148,27.1967,-999,9
RF05-01,165E,RF-2328,1,7,02-18561,2,20050128,0613,13.0018,164.9827,5197,808.9,5.3265,34.5211,2,-999,9,-999,9,64.6,2,80.12,2,-999,9,38.82,2,0,2,2.79,2,-999,9,-999,9,-999,9,-999,9,-999,9,-999,9,   -999.0,  9,-999,9,-999,-999,9,-999,9,-999,9,-999,9,-999,-999,-999,9,803,5.2582,27.2654,-999,9
RF05-01,165E,RF-2328,1,6,02-18560,2,20050128,0611,13.0018,164.9827,5197,907.8,4.8409,34.5314,2,-999,9,-999,9,69.7,2,88.61,2,-999,9,39.05,2,0,2,2.8,2,-999,9,-999,9,-999,9,-999,9,-999,9,-999,9,   -999.0,  9,-999,9,-999,-999,9,-999,9,-999,9,-999,9,-999,-999,-999,9,901,4.7669,27.3304,-999,9
RF05-01,165E,RF-2328,1,5,02-18559,2,20050128,0609,13.0018,164.9827,5197,1009.8,4.4529,34.5449,2,-999,9,-999,9,65.8,2,96.51,2,-999,9,39.91,2,0,2,2.88,2,-999,9,-999,9,-999,9,-999,9,-999,9,-999,9,   -999.0,  9,-999,9,-999,-999,9,-999,9,-999,9,-999,9,-999,-999,-999,9,1002,4.3728,27.3847,-999,9
RF05-01,165E,RF-2328,1,4,02-18558,2,20050128,0604,13.0018,164.9827,5197,1261.7,3.6285,34.573,2,-999,9,-999,9,68.2,2,113.43,2,-999,9,40.67,2,0,2,2.94,2,-999,9,-999,9,-999,9,-999,9,-999,9,-999,9,   -999.0,  9,-999,9,-999,-999,9,-999,9,-999,9,-999,9,-999,-999,-999,9,1251,3.534,27.4936,-999,9
RF05-01,165E,RF-2328,1,3,02-18557,2,20050128,0558,13.0018,164.9827,5197,1515.3,3.0419,34.5943,2,-999,9,-999,9,77,2,125.81,2,-999,9,40.34,2,0,2,2.9,2,-999,9,-999,9,-999,9,-999,9,-999,9,-999,9,   -999.0,  9,-999,9,-999,-999,9,-999,9,-999,9,-999,9,-999,-999,-999,9,1501, 2.9323,27.5674,-999,9
RF05-01,165E,RF-2328,1,2,02-18556,2,20050128,0553,13.0018,164.9827,5197,1768.4,2.4845,34.6181,2,-999,9,-999,9,92.2,2,136.86,2,-999,9,39.52,2,0,2,2.81,2,-999,9,-999,9,-999,9,-999,9,-999,9,-999,9,   -999.0,  9,-999,9,-999,-999,9,-999,9,-999,9,-999,9,-999,-999,-999,9,1751, 2.3606,27.6363,-999,9
RF05-01,165E,RF-2328,1,1,02-18555,2,20050128,0548,13.0018,164.9827,5197,2020.5,2.1676,34.6356,2,-999,9,-999,9,104.1,2,142.68,2,-999,9,39.07,2,0,2,2.76,2,-999,9,-999,9,-999,9,-999,9,-999,9,-999,9,   -999.0,  9,-999,9,-999,-999,9,-999,9,-999,9,-999,9,-999,-999,-999,9,1999, 2.0269,27.6776,-999,9