BOTTLE,20130510GEMDJMAYT
EXPOCODE,SECT_ID,STNNBR,CASTNO,SAMPNO,BTLNBR,BTLNBR_FLAG_W,DATE,TIME,LATITUDE,LONGITUDE,DEPTH,CTDPRS,CTDTMP,CTDSAL,CTDSAL_FLAG_W,CTDOXY,CTDOXY_FLAG_W,SALNTY,SALNTY_FLAG_W,OXYGEN,OXYGEN_FLAG_W,SILCAT,SILCAT_FLAG_W,NITRAT,NITRAT_FLAG_W,NO2+NO3,NO2+NO3_FLAG_W,NITRIT,NITRIT_FLAG_W,PHSPHT,PHSPHT_FLAG_W,CFC-11,CFC-11_FLAG_W,CFC-12,CFC-12_FLAG_W,DELC13,DELC13_FLAG_W,TCARBN,TCARBN_FLAG_W,ALKALI,ALKALI_FLAG_W,PH,PH_FLAG_W,PH_TMP,PH_SCALE,PH_NBS,PH_NBS_FLAG_W,C13ERR,TOTALP,TOTALP_FLAG_W,AMMONI,AMMONI_FLAG_W,CHLORA,CHLORA_FLAG_W,PPHYTN,PPHYTN_FLAG_W,REVPRS,REVTMP,DEPTH_,DEPTH_FLAG,CTDDEP,THETA,SIGTHT,DOC,DOC_FLAG_W
,,,,,,,GMT,GMT,,,METER,DBAR,ITS-90,PSS-78,,UMOL/KG,,PSS-78,,UMOL/KG,,UMOL/KG,,UMOL/KG,,UMOL/KG,,UMOL/KG,,UMOL/KG,,PMOL/KG,,PMOL/KG,,/MILLE,,UMOL/KG,,UMOL/KG,,25_DEG_C,,DEG_C,,,,/MILLE,UMOL/KG,,UMOL/KG,,UG/L,,UG/L,,DBAR,ITS-90,METERS,,METERS,DEG_C,,UMOL/L,
     RF05-06-2,  137E,RF-2476,  1,     -9,      -9,5,20050716,2023, 10.0068, 136.9945,   -9,      0.0,  29.7911,  33.9966,2,   -999.0,9,-999.0000,9,    196.3,2,     1.56,2,  -999.00,9,     0.02,2,     0.00,2,     0.08,2, -999.000,9, -999.000,9,  -999.00,9,   1893.0,3,   -999.0,9,   8.1257,2,     25.0, TS,  -999.00,9,   -999.0,  -999.00,9,  -999.00,9,     0.04,2,     0.01,2,   -999.0,-999.0000, -999,9,    0,  29.7909,  21.0451,   -999.0,9
     RF05-06-2,  137E,RF-2476,  1,     22,02-18576,2,20050716,2035, 10.0068, 136.9945,   -9,     11.2,  29.8151,  33.9965,2,   -999.0,9,  33.9947,2,    197.2,2,     1.51,2,  -999.00,9,     0.00,2,     0.00,2,     0.03,2, -999.000,9, -999.000,9,  -999.00,9,   1897.7,2,   -999.0,9,   8.1297,2,     25.0, TS,  -999.00,9,   -999.0,  -999.00,9,  -999.00,9,     0.04,2,     0.01,2,   -999.0,-999.0000, -999,9,   11,  29.8124,  21.0378,   -999.0,9
     RF05-06-2,  137E,RF-2476,  1,     21,02-18575,2,20050716,2034, 10.0068, 136.9945,   -9,     26.1,  29.7010,  34.0181,2,   -999.0,9,-999.0000,9,    196.8,2,     1.45,2,  -999.00,9,     0.00,2,     0.00,2,     0.02,2, -999.000,9, -999.000,9,  -999.00,9,   1895.7,2,   -999.0,9,   8.1281,2,     25.0, TS,  -999.00,9,   -999.0,  -999.00,9,  -999.00,9,     0.04,2,     0.02,2,   -999.0,-999.0000, -999,9,   26,  29.6946,  21.0939,   -999.0,9
     RF05-06-2,  137E,RF-2476,  1,     20,02-18574,2,20050716,2033, 10.0068, 136.9945,   -9,     50.7,  29.3980,  34.0896,2,   -999.0,9,-999.0000,9,    198.5,2,     1.45,2,  -999.00,9,     0.00,2,     0.00,2,     0.03,2, -999.000,9, -999.000,9,  -999.00,9,   1909.7,2,   -999.0,9,   8.1210,2,     25.0, TS,  -999.00,9,   -999.0,  -999.00,9,  -999.00,9,     0.07,2,     0.03,2,   -999.0,-999.0000, -999,9,   50,  29.3856,  21.2516,   -999.0,9
     RF05-06-2,  137E,RF-2476,  1,     19,02-18573,2,20050716,2032, 10.0068, 136.9945,   -9,     76.3,  28.1878,  34.3369,2,   -999.0,9,-999.0000,9,    199.2,2,     1.69,2,  -999.00,9,     0.00,2,     0.00,2,     0.04,2, -999.000,9, -999.000,9,  -999.00,9,   1931.8,2,   -999.0,9,   8.1034,2,     25.0, TS,  -999.00,9,   -999.0,  -999.00,9,  -999.00,9,     0.12,2,     0.06,2,   -999.0,-999.0000, -999,9,   76,  28.1698,  21.8406,   -999.0,9
     RF05-06-2,  137E,RF-2476,  1,     18,02-18572,2,20050716,2031, 10.0068, 136.9945,   -9,    101.3,  27.1951,  34.4796,2,   -999.0,9,  34.5217,4,    194.7,2,     1.99,2,  -999.00,9,     0.17,2,     0.00,2,     0.06,2, -999.000,9, -999.000,9,  -999.00,9,   1954.4,2,   -999.0,9,   8.0762,2,     25.0, TS,  -999.00,9,   -999.0,  -999.00,9,  -999.00,9,     0.19,2,     0.13,2,   -999.0,-999.0000, -999,9,  101,  27.1718,  22.2710,   -999.0,9
     RF05-06-2,  137E,RF-2476,  1,     17,02-18571,2,20050716,2030, 10.0068, 136.9945,   -9,    126.2,  22.6028,  34.7023,2,   -999.0,9,-999.0000,9,    172.1,2,     5.16,2,  -999.00,9,     4.50,2,     0.07,2,     0.31,2, -999.000,9, -999.000,9,  -999.00,9,   2026.2,2,   -999.0,9,   7.9742,2,     25.0, TS,  -999.00,9,   -999.0,  -999.00,9,  -999.00,9,     0.18,2,     0.26,2,   -999.0,-999.0000, -999,9,  125,  22.5774,  23.8287,   -999.0,9
     RF05-06-2,  137E,RF-2476,  1,     16,02-18570,2,20050716,2029, 10.0068, 136.9945,   -9,    151.5,  19.1845,  34.7728,2,   -999.0,9,-999.0000,9,    151.2,2,     8.71,2,  -999.00,9,     9.49,2,     0.01,2,     0.61,2, -999.000,9, -999.000,9,  -999.00,9,   2078.5,2,   -999.0,9,   7.8848,2,     25.0, TS,  -999.00,9,   -999.0,  -999.00,9,  -999.00,9,     0.04,2,     0.12,2,   -999.0,-999.0000, -999,9,  151,  19.1574,  24.8073,   -999.0,9
     RF05-06-2,  137E,RF-2476,  1,     15,02-18569,2,20050716,2028, 10.0068, 136.9945,   -9,    202.1,  15.4333,  34.6208,2,   -999.0,9,  34.6064,4,    140.0,2,    14.84,2,  -999.00,9,    15.35,2,     0.00,2,     1.00,2, -999.000,9, -999.000,9,  -999.00,9,   2116.0,2,   -999.0,9,   7.7948,2,     25.0, TS,  -999.00,9,   -999.0,  -999.00,9,  -999.00,9,     0.01,2,     0.03,2,   -999.0,-999.0000, -999,9,  201,  15.4022,  25.5907,   -999.0,9
     RF05-06-2,  137E,RF-2476,  1,     14,02-18568,2,20050716,2027, 10.0068, 136.9945,   -9,    251.9,  12.1343,  34.5124,2,   -999.0,9,-999.0000,9,    109.0,2,    26.70,2,  -999.00,9,    23.52,2,     0.00,2,     1.60,2, -999.000,9, -999.000,9,  -999.00,9,   2171.6,2,   -999.0,9,   7.6653,2,     25.0, TS,  -999.00,9,   -999.0,  -999.00,9,  -999.00,9,  -999.00,9,  -999.00,9,   -999.0,-999.0000, -999,9,  250,  12.1013,  26.1910,   -999.0,9
     RF05-06-2,  137E,RF-2476,  1,     13,02-18567,2,20050716,2025, 10.0068, 136.9945,   -9,    301.9,  10.0639,  34.4655,2,   -999.0,9,  34.4562,2,     90.9,2,    36.02,2,  -999.00,9,    28.34,2,     0.00,2,     1.96,2, -999.000,9, -999.000,9,  -999.00,9,   2207.3,2,   -999.0,9,   7.5922,2,     25.0, TS,  -999.00,9,   -999.0,  -999.00,9,  -999.00,9,  -999.00,9,  -999.00,9,   -999.0,-999.0000, -999,9,  300,  10.0288,  26.5297,   -999.0,9
     RF05-06-2,  137E,RF-2476,  1,     12,02-18566,2,20050716,2023, 10.0068, 136.9945,   -9,    403.2,   8.2075,  34.5291,2,   -999.0,9,  34.5298,2,     83.0,2,    44.06,2,  -999.00,9,    32.67,2,     0.00,2,     2.26,2, -999.000,9, -999.000,9,  -999.00,9,   2236.4,2,   -999.0,9,   7.5401,2,     25.0, TS,  -999.00,9,   -999.0,  -999.00,9,  -999.00,9,  -999.00,9,  -999.00,9,   -999.0,-999.0000, -999,9,  401,   8.1658,  26.8791,   -999.0,9
     RF05-06-2,  137E,RF-2476,  1,     11,02-18565,2,20050716,2020, 10.0068, 136.9945,   -9,    503.7,   7.4386,  34.5246,2,   -999.0,9,  34.5216,2,     88.2,2,    49.01,2,  -999.00,9,    33.65,2,     0.00,2,     2.35,2, -999.000,9, -999.000,9,  -999.00,9,   2245.6,2,   -999.0,9,   7.5483,2,     25.0, TS,  -999.00,9,   -999.0,  -999.00,9,  -999.00,9,  -999.00,9,  -999.00,9,   -999.0,-999.0000, -999,9,  500,   7.3891,  26.9896,   -999.0,9
     RF05-06-2,  137E,RF-2476,  1,     10,02-18564,2,20050716,2017, 10.0068, 136.9945,   -9,    605.0,   6.6453,  34.5202,2,   -999.0,9,  34.5197,2,     89.8,2,    56.65,2,  -999.00,9,    35.01,2,     0.00,2,     2.46,2, -999.000,9, -999.000,9,  -999.00,9,   2259.7,2,   -999.0,9,   7.5343,2,     25.0, TS,  -999.00,9,   -999.0,  -999.00,9,  -999.00,9,  -999.00,9,  -999.00,9,   -999.0,-999.0000, -999,9,  601,   6.5890,  27.0967,   -999.0,9
     RF05-06-2,  137E,RF-2476,  1,      9,02-18563,2,20050716,2014, 10.0068, 136.9945,   -9,    705.6,   6.1407,  34.5155,2,   -999.0,9,  34.5170,2,     90.9,2,    63.07,2,  -999.00,9,    35.84,2,     0.00,2,     2.53,2, -999.000,9, -999.000,9,  -999.00,9,   2263.9,2,   -999.0,9,   7.5242,2,     25.0, TS,  -999.00,9,   -999.0,  -999.00,9,  -999.00,9,  -999.00,9,  -999.00,9,   -999.0,-999.0000, -999,9,  700,   6.0773,  27.1600,   -999.0,9
     RF05-06-2,  137E,RF-2476,  1,      8,02-18562,2,20050716,2012, 10.0068, 136.9945,   -9,    806.3,   5.7948,  34.5206,2,   -999.0,9,  34.5197,2,     85.1,2,    69.31,2,  -999.00,9,    36.68,2,     0.00,2,     2.61,2, -999.000,9, -999.000,9,  -999.00,9,   2275.6,2,   -999.0,9,   7.5140,2,     25.0, TS,  -999.00,9,   -999.0,  -999.00,9,  -999.00,9,  -999.00,9,  -999.00,9,   -999.0,-999.0000, -999,9,  800,   5.7239,  27.2085,   -999.0,9
     RF05-06-2,  137E,RF-2476,  1,      7,02-18561,2,20050716,2009, 10.0068, 136.9945,   -9,    908.0,   5.2169,  34.5280,2,   -999.0,9,  34.5274,2,     82.8,2,    80.06,2,  -999.00,9,    37.67,2,     0.00,2,     2.68,2, -999.000,9, -999.000,9,  -999.00,9,   2285.0,2,   -999.0,9,   7.4961,2,     25.0, TS,  -999.00,9,   -999.0,  -999.00,9,  -999.00,9,  -999.00,9,  -999.00,9,   -999.0,-999.0000, -999,9,  901,   5.1403,  27.2847,   -999.0,9
     RF05-06-2,  137E,RF-2476,  1,      6,02-18560,2,20050716,2006, 10.0068, 136.9945,   -9,   1008.5,   4.8308,  34.5384,2,   -999.0,9,-999.0000,9,   -999.0,9,  -999.00,9,  -999.00,9,  -999.00,9,  -999.00,9,  -999.00,9, -999.000,9, -999.000,9,  -999.00,9,   -999.0,9,   -999.0,9,-999.0000,9,   -999.0,  9,  -999.00,9,   -999.0,  -999.00,9,  -999.00,9,  -999.00,9,  -999.00,9,   -999.0,-999.0000, -999,9, 1000,   4.7480,  27.3381,   -999.0,9
     RF05-06-2,  137E,RF-2476,  1,      5,02-18559,2,20050716,2006, 10.0068, 136.9945,   -9,   1008.3,   4.8263,  34.5380,2,   -999.0,9,  34.5390,2,     84.6,2,    87.33,2,  -999.00,9,    38.06,2,     0.00,2,     2.71,2, -999.000,9, -999.000,9,  -999.00,9,   2296.8,9,   -999.0,9,   7.5078,2,     25.0, TS,  -999.00,9,   -999.0,  -999.00,9,  -999.00,9,  -999.00,9,  -999.00,9,   -999.0,-999.0000, -999,9, 1000,   4.7435,  27.3382,   -999.0,9
     RF05-06-2,  137E,RF-2476,  1,      4,02-18558,2,20050716,2001, 10.0068, 136.9945,   -9,   1261.2,   3.6614,  34.5728,2,   -999.0,9,  34.5729,2,     92.1,2,   109.73,2,  -999.00,9,    38.51,2,     0.00,2,     2.74,2, -999.000,9, -999.000,9,  -999.00,9,   2315.2,2,   -999.0,9,   7.5103,2,     25.0, TS,  -999.00,9,   -999.0,  -999.00,9,  -999.00,9,  -999.00,9,  -999.00,9,   -999.0,-999.0000, -999,9, 1250,   3.5666,  27.4902,   -999.0,9
     RF05-06-2,  137E,RF-2476,  1,      3,02-18557,2,20050716,1956, 10.0068, 136.9945,   -9,   1514.6,   3.0272,  34.5965,2,   -999.0,9,  34.5957,2,    101.2,2,   121.37,2,  -999.00,9,    38.48,2,     0.00,2,     2.74,2, -999.000,9, -999.000,9,  -999.00,9,   2326.9,2,   -999.0,9,   7.5147,2,     25.0, TS,  -999.00,9,   -999.0,  -999.00,9,  -999.00,9,  -999.00,9,  -999.00,9,   -999.0,-999.0000, -999,9, 1501,   2.9178,  27.5705,   -999.0,9
     RF05-06-2,  137E,RF-2476,  1,      2,02-18556,2,20050716,1950, 10.0068, 136.9945,   -9,   1768.3,   2.5732,  34.6164,2,   -999.0,9,  34.6160,2,    106.8,2,   130.35,2,  -999.00,9,    38.38,2,     0.00,2,     2.71,2, -999.000,9, -999.000,9,  -999.00,9,   2330.8,3,   -999.0,9,   7.5284,2,     25.0, TS,  -999.00,9,   -999.0,  -999.00,9,  -999.00,9,  -999.00,9,  -999.00,9,   -999.0,-999.0000, -999,9, 1751,   2.4481,  27.6276,   -999.0,9
     RF05-06-2,  137E,RF-2476,  1,      1,02-18555,2,20050716,1945, 10.0068, 136.9945,   -9,   2022.0,   2.2711,  34.6320,2,   -999.0,9,  34.6362,2,    113.9,2,   134.99,2,  -999.00,9,    38.07,2,     0.00,2,     2.67,2, -999.000,9, -999.000,9,  -999.00,9,   2335.3,3,   -999.0,9,   7.5364,6,     25.0, TS,  -999.00,9,   -999.0,  -999.00,9,  -999.00,9,  -999.00,9,  -999.00,9,   -999.0,-999.0000, -999,9, 2001,   2.1287,  27.6666,   -999.0,9