BOTTLE,20130510GEMDJMAYT
EXPOCODE,SECT_ID,STNNBR,CASTNO,SAMPNO,BTLNBR,BTLNBR_FLAG_W,DATE,TIME,LATITUDE,LONGITUDE,DEPTH,CTDPRS,CTDTMP,CTDSAL,CTDSAL_FLAG_W,CTDOXY,CTDOXY_FLAG_W,SALNTY,SALNTY_FLAG_W,OXYGEN,OXYGEN_FLAG_W,SILCAT,SILCAT_FLAG_W,NITRAT,NITRAT_FLAG_W,NO2+NO3,NO2+NO3_FLAG_W,NITRIT,NITRIT_FLAG_W,PHSPHT,PHSPHT_FLAG_W,CFC-11,CFC-11_FLAG_W,CFC-12,CFC-12_FLAG_W,DELC13,DELC13_FLAG_W,TCARBN,TCARBN_FLAG_W,ALKALI,ALKALI_FLAG_W,PH,PH_FLAG_W,PH_TMP,PH_SCALE,PH_NBS,PH_NBS_FLAG_W,C13ERR,TOTALP,TOTALP_FLAG_W,AMMONI,AMMONI_FLAG_W,CHLORA,CHLORA_FLAG_W,PPHYTN,PPHYTN_FLAG_W,REVPRS,REVTMP,DEPTH_,DEPTH_FLAG,CTDDEP,THETA,SIGTHT,DOC,DOC_FLAG_W
,,,,,,,GMT,GMT,,,METER,DBAR,ITS-90,PSS-78,,UMOL/KG,,PSS-78,,UMOL/KG,,UMOL/KG,,UMOL/KG,,UMOL/KG,,UMOL/KG,,UMOL/KG,,PMOL/KG,,PMOL/KG,,/MILLE,,UMOL/KG,,UMOL/KG,,25_DEG_C,,DEG_C,,,,/MILLE,UMOL/KG,,UMOL/KG,,UG/L,,UG/L,,DBAR,ITS-90,METERS,,METERS,DEG_C,,UMOL/L,
     RF05-06-2,  137E,RF-2507,  1,     -9,      -9,5,20050723,1337, 33.9973, 137.0145,   -9,      0.0,  26.2802,  34.2679,2,   -999.0,9,-999.0000,9,    206.9,2,     1.93,2,  -999.00,9,     0.03,2,     0.00,2,     0.01,2, -999.000,9, -999.000,9,  -999.00,9,   1939.8,2,   -999.0,9,   8.0828,6,     25.0, TS,  -999.00,9,   -999.0,  -999.00,9,  -999.00,9,     0.15,2,     0.04,2,   -999.0,-999.0000, -999,9,    0,  26.2800,  22.3938,   -999.0,9
     RF05-06-2,  137E,RF-2507,  1,     21,02-18575,2,20050723,1353, 33.9973, 137.0145,   -9,     11.0,  26.2778,  34.2649,2,   -999.0,9,  34.2649,2,    211.6,2,     1.94,2,  -999.00,9,     0.02,2,     0.00,2,     0.01,2, -999.000,9, -999.000,9,  -999.00,9,   -999.0,9,   -999.0,9,-999.0000,9,   -999.0,  9,  -999.00,9,   -999.0,  -999.00,9,  -999.00,9,     0.19,2,     0.06,2,   -999.0,-999.0000, -999,9,   11,  26.2753,  22.3929,   -999.0,9
     RF05-06-2,  137E,RF-2507,  1,     20,02-18574,2,20050723,1351, 33.9973, 137.0145,   -9,     25.3,  22.6540,  34.2846,2,   -999.0,9,-999.0000,9,    223.6,2,     2.77,2,  -999.00,9,     0.30,2,     0.03,2,     0.04,2, -999.000,9, -999.000,9,  -999.00,9,   -999.0,9,   -999.0,9,-999.0000,9,   -999.0,  9,  -999.00,9,   -999.0,  -999.00,9,  -999.00,9,     0.61,2,     0.30,2,   -999.0,-999.0000, -999,9,   25,  22.6489,  23.4915,   -999.0,9
     RF05-06-2,  137E,RF-2507,  1,     19,02-18573,2,20050723,1350, 33.9973, 137.0145,   -9,     50.7,  18.8710,  34.6121,2,   -999.0,9,-999.0000,9,    189.6,2,     7.77,2,  -999.00,9,     6.05,2,     0.18,2,     0.33,2, -999.000,9, -999.000,9,  -999.00,9,   -999.0,9,   -999.0,9,-999.0000,9,   -999.0,  9,  -999.00,9,   -999.0,  -999.00,9,  -999.00,9,     0.32,2,     0.43,2,   -999.0,-999.0000, -999,9,   50,  18.8621,  24.7598,   -999.0,9
     RF05-06-2,  137E,RF-2507,  1,     18,02-18572,2,20050723,1349, 33.9973, 137.0145,   -9,     74.0,  16.7394,  34.6387,2,   -999.0,9,-999.0000,9,    183.2,2,    10.97,2,  -999.00,9,     8.69,2,     0.02,2,     0.50,2, -999.000,9, -999.000,9,  -999.00,9,   -999.0,9,   -999.0,9,-999.0000,9,   -999.0,  9,  -999.00,9,   -999.0,  -999.00,9,  -999.00,9,     0.10,2,     0.10,2,   -999.0,-999.0000, -999,9,   73,  16.7274,  25.3013,   -999.0,9
     RF05-06-2,  137E,RF-2507,  1,     17,02-18571,2,20050723,1348, 33.9973, 137.0145,   -9,    100.9,  15.9184,  34.6124,2,   -999.0,9,  34.6066,2,    181.7,2,    13.83,2,  -999.00,9,    10.35,2,     0.02,2,     0.62,2, -999.000,9, -999.000,9,  -999.00,9,   -999.0,9,   -999.0,9,-999.0000,9,   -999.0,  9,  -999.00,9,   -999.0,  -999.00,9,  -999.00,9,     0.03,2,     0.05,2,   -999.0,-999.0000, -999,9,  100,  15.9026,  25.4716,   -999.0,9
     RF05-06-2,  137E,RF-2507,  1,     16,02-18570,2,20050723,1347, 33.9973, 137.0145,   -9,    126.0,  14.6070,  34.5526,2,   -999.0,9,-999.0000,9,    173.6,2,    18.61,2,  -999.00,9,    12.78,2,     0.01,2,     0.81,2, -999.000,9, -999.000,9,  -999.00,9,   -999.0,9,   -999.0,9,-999.0000,9,   -999.0,  9,  -999.00,9,   -999.0,  -999.00,9,  -999.00,9,     0.01,2,     0.05,2,   -999.0,-999.0000, -999,9,  125,  14.5884,  25.7163,   -999.0,9
     RF05-06-2,  137E,RF-2507,  1,     15,02-18569,2,20050723,1345, 33.9973, 137.0145,   -9,    151.6,  13.8489,  34.5220,2,   -999.0,9,-999.0000,9,    172.6,2,    21.05,2,  -999.00,9,    14.27,2,     0.01,2,     0.92,2, -999.000,9, -999.000,9,  -999.00,9,   -999.0,9,   -999.0,9,-999.0000,9,   -999.0,  9,  -999.00,9,   -999.0,  -999.00,9,  -999.00,9,     0.01,2,     0.05,2,   -999.0,-999.0000, -999,9,  151,  13.8273,  25.8538,   -999.0,9
     RF05-06-2,  137E,RF-2507,  1,     14,02-18568,2,20050723,1344, 33.9973, 137.0145,   -9,    200.7,  12.3842,  34.4534,2,   -999.0,9,  34.4496,2,    159.9,2,    28.59,2,  -999.00,9,    17.69,2,     0.00,2,     1.17,2, -999.000,9, -999.000,9,  -999.00,9,   -999.0,9,   -999.0,9,-999.0000,9,   -999.0,  9,  -999.00,9,   -999.0,  -999.00,9,  -999.00,9,     0.00,2,     0.04,2,   -999.0,-999.0000, -999,9,  199,  12.3576,  26.0959,   -999.0,9
     RF05-06-2,  137E,RF-2507,  1,     13,02-18567,2,20050723,1342, 33.9973, 137.0145,   -9,    252.2,  10.3284,  34.3580,2,   -999.0,9,-999.0000,9,    142.8,2,    40.13,2,  -999.00,9,    22.54,2,     0.01,2,     1.53,2, -999.000,9, -999.000,9,  -999.00,9,   -999.0,9,   -999.0,9,-999.0000,9,   -999.0,  9,  -999.00,9,   -999.0,  -999.00,9,  -999.00,9,  -999.00,9,  -999.00,9,   -999.0,-999.0000, -999,9,  250,  10.2987,  26.3994,   -999.0,9
     RF05-06-2,  137E,RF-2507,  1,     12,02-18566,2,20050723,1341, 33.9973, 137.0145,   -9,    303.2,   8.9736,  34.3031,2,   -999.0,9,  34.3031,2,    131.6,2,    49.32,2,  -999.00,9,    25.77,2,     0.01,2,     1.77,2, -999.000,9, -999.000,9,  -999.00,9,   -999.0,9,   -999.0,9,-999.0000,9,   -999.0,  9,  -999.00,9,   -999.0,  -999.00,9,  -999.00,9,  -999.00,9,  -999.00,9,   -999.0,-999.0000, -999,9,  301,   8.9408,  26.5818,   -999.0,9
     RF05-06-2,  137E,RF-2507,  1,     11,02-18565,2,20050723,1338, 33.9973, 137.0145,   -9,    402.4,   7.2473,  34.2737,2,   -999.0,9,  34.2747,2,    107.8,2,    66.62,2,  -999.00,9,    30.52,2,     0.00,2,     2.15,2, -999.000,9, -999.000,9,  -999.00,9,   -999.0,9,   -999.0,9,-999.0000,9,   -999.0,  9,  -999.00,9,   -999.0,  -999.00,9,  -999.00,9,  -999.00,9,  -999.00,9,   -999.0,-999.0000, -999,9,  399,   7.2087,  26.8177,   -999.0,9
     RF05-06-2,  137E,RF-2507,  1,     10,02-18564,2,20050723,1336, 33.9973, 137.0145,   -9,    504.4,   6.0447,  34.2698,2,   -999.0,9,  34.2697,2,     91.0,2,    80.53,2,  -999.00,9,    33.82,2,     0.00,2,     2.41,2, -999.000,9, -999.000,9,  -999.00,9,   -999.0,9,   -999.0,9,-999.0000,9,   -999.0,  9,  -999.00,9,   -999.0,  -999.00,9,  -999.00,9,  -999.00,9,  -999.00,9,   -999.0,-999.0000, -999,9,  500,   6.0006,  26.9755,   -999.0,9
     RF05-06-2,  137E,RF-2507,  1,      9,02-18563,2,20050723,1333, 33.9973, 137.0145,   -9,    604.7,   4.8690,  34.3098,2,   -999.0,9,  34.3081,2,     73.2,2,    97.10,2,  -999.00,9,    37.29,2,     0.00,2,     2.68,2, -999.000,9, -999.000,9,  -999.00,9,   -999.0,9,   -999.0,9,-999.0000,9,   -999.0,  9,  -999.00,9,   -999.0,  -999.00,9,  -999.00,9,  -999.00,9,  -999.00,9,   -999.0,-999.0000, -999,9,  600,   4.8212,  27.1484,   -999.0,9
     RF05-06-2,  137E,RF-2507,  1,      8,02-18562,2,20050723,1330, 33.9973, 137.0145,   -9,    707.1,   4.1974,  34.3340,2,   -999.0,9,  34.3330,2,     65.8,2,   110.33,2,  -999.00,9,    38.66,2,     0.00,2,     2.79,2, -999.000,9, -999.000,9,  -999.00,9,   -999.0,9,   -999.0,9,-999.0000,9,   -999.0,  9,  -999.00,9,   -999.0,  -999.00,9,  -999.00,9,  -999.00,9,  -999.00,9,   -999.0,-999.0000, -999,9,  701,   4.1446,  27.2413,   -999.0,9
     RF05-06-2,  137E,RF-2507,  1,      7,02-18561,2,20050723,1328, 33.9973, 137.0145,   -9,    807.9,   3.9466,  34.3656,2,   -999.0,9,  34.3651,2,     64.7,2,   115.51,2,  -999.00,9,    39.12,2,     0.00,2,     2.83,2, -999.000,9, -999.000,9,  -999.00,9,   -999.0,9,   -999.0,9,-999.0000,9,   -999.0,  9,  -999.00,9,   -999.0,  -999.00,9,  -999.00,9,  -999.00,9,  -999.00,9,   -999.0,-999.0000, -999,9,  801,   3.8872,  27.2931,   -999.0,9
     RF05-06-2,  137E,RF-2507,  1,      6,02-18560,2,20050723,1326, 33.9973, 137.0145,   -9,    907.9,   3.5872,  34.4111,2,   -999.0,9,  34.4102,2,     64.9,2,   121.88,2,  -999.00,9,    39.55,2,     0.00,2,     2.86,2, -999.000,9, -999.000,9,  -999.00,9,   -999.0,9,   -999.0,9,-999.0000,9,   -999.0,  9,  -999.00,9,   -999.0,  -999.00,9,  -999.00,9,  -999.00,9,  -999.00,9,   -999.0,-999.0000, -999,9,  899,   3.5222,  27.3657,   -999.0,9
     RF05-06-2,  137E,RF-2507,  1,      5,02-18559,2,20050723,1321, 33.9973, 137.0145,   -9,   1007.2,   3.3992,  34.4329,2,   -999.0,9,  34.4326,2,     67.3,2,   125.63,2,  -999.00,9,    39.61,2,     0.00,2,     2.86,2, -999.000,9, -999.000,9,  -999.00,9,   -999.0,9,   -999.0,9,-999.0000,9,   -999.0,  9,  -999.00,9,   -999.0,  -999.00,9,  -999.00,9,  -999.00,9,  -999.00,9,   -999.0,-999.0000, -999,9,  998,   3.3277,  27.4018,   -999.0,9
     RF05-06-2,  137E,RF-2507,  1,      4,02-18558,2,20050723,1321, 33.9973, 137.0145,   -9,   1008.1,   3.3931,  34.4336,2,   -999.0,9,  34.4322,2,     67.0,2,   125.49,2,  -999.00,9,    39.61,2,     0.00,2,     2.86,2, -999.000,9, -999.000,9,  -999.00,9,   -999.0,9,   -999.0,9,-999.0000,9,   -999.0,  9,  -999.00,9,   -999.0,  -999.00,9,  -999.00,9,  -999.00,9,  -999.00,9,   -999.0,-999.0000, -999,9,  999,   3.3216,  27.4030,   -999.0,9
     RF05-06-2,  137E,RF-2507,  1,      3,02-18557,2,20050723,1321, 33.9973, 137.0145,   -9,   1008.9,   3.3917,  34.4338,2,   -999.0,9,-999.0000,9,   -999.0,9,  -999.00,9,  -999.00,9,  -999.00,9,  -999.00,9,  -999.00,9, -999.000,9, -999.000,9,  -999.00,9,   -999.0,9,   -999.0,9,-999.0000,9,   -999.0,  9,  -999.00,9,   -999.0,  -999.00,9,  -999.00,9,  -999.00,9,  -999.00,9,   -999.0,-999.0000, -999,9,  999,   3.3202,  27.4033,   -999.0,9
     RF05-06-2,  137E,RF-2507,  1,      2,02-18556,2,20050723,1321, 33.9973, 137.0145,   -9,   1007.4,   3.3987,  34.4328,2,   -999.0,9,-999.0000,9,   -999.0,9,  -999.00,9,  -999.00,9,  -999.00,9,  -999.00,9,  -999.00,9, -999.000,9, -999.000,9,  -999.00,9,   -999.0,9,   -999.0,9,-999.0000,9,   -999.0,  9,  -999.00,9,   -999.0,  -999.00,9,  -999.00,9,  -999.00,9,  -999.00,9,   -999.0,-999.0000, -999,9,  998,   3.3272,  27.4018,   -999.0,9
     RF05-06-2,  137E,RF-2507,  1,      1,02-18555,2,20050723,1320, 33.9973, 137.0145,   -9,   1008.9,   3.3907,  34.4338,2,   -999.0,9,-999.0000,9,   -999.0,9,  -999.00,9,  -999.00,9,  -999.00,9,  -999.00,9,  -999.00,9, -999.000,9, -999.000,9,  -999.00,9,   -999.0,9,   -999.0,9,-999.0000,9,   -999.0,  9,  -999.00,9,   -999.0,  -999.00,9,  -999.00,9,  -999.00,9,  -999.00,9,   -999.0,-999.0000, -999,9,  999,   3.3192,  27.4034,   -999.0,9