BOTTLE,20130510GEMDJMAYT
EXPOCODE,SECT_ID,STNNBR,CASTNO,SAMPNO,BTLNBR,BTLNBR_FLAG_W,DATE,TIME,LATITUDE,LONGITUDE,DEPTH,CTDPRS,CTDTMP,CTDSAL,CTDSAL_FLAG_W,CTDOXY,CTDOXY_FLAG_W,SALNTY,SALNTY_FLAG_W,OXYGEN,OXYGEN_FLAG_W,SILCAT,SILCAT_FLAG_W,NITRAT,NITRAT_FLAG_W,NO2+NO3,NO2+NO3_FLAG_W,NITRIT,NITRIT_FLAG_W,PHSPHT,PHSPHT_FLAG_W,CFC-11,CFC-11_FLAG_W,CFC-12,CFC-12_FLAG_W,DELC13,DELC13_FLAG_W,TCARBN,TCARBN_FLAG_W,ALKALI,ALKALI_FLAG_W,PH,PH_FLAG_W,PH_TMP,PH_SCALE,PH_NBS,PH_NBS_FLAG_W,C13ERR,TOTALP,TOTALP_FLAG_W,AMMONI,AMMONI_FLAG_W,CHLORA,CHLORA_FLAG_W,PPHYTN,PPHYTN_FLAG_W,REVPRS,REVTMP,DEPTH_,DEPTH_FLAG,CTDDEP,THETA,SIGTHT,DOC,DOC_FLAG_W
,,,,,,,GMT,GMT,,,METER,DBAR,ITS-90,PSS-78,,UMOL/KG,,PSS-78,,UMOL/KG,,UMOL/KG,,UMOL/KG,,UMOL/KG,,UMOL/KG,,UMOL/KG,,PMOL/KG,,PMOL/KG,,/MILLE,,UMOL/KG,,UMOL/KG,,25_DEG_C,,DEG_C,,,,/MILLE,UMOL/KG,,UMOL/KG,,UG/L,,UG/L,,DBAR,ITS-90,METERS,,METERS,DEG_C,,UMOL/L,
     RF05-06-2,  137E,RF-2486,  1,     -9,      -9,5,20050719,1030, 20.0008, 136.9778,   -9,      0.0,  29.4638,  34.2550,2,   -999.0,9,-999.0000,9,    199.1,2,     1.45,2,  -999.00,9,     0.00,2,     0.00,2,     0.01,2, -999.000,9, -999.000,9,  -999.00,9,   1926.1,3,   -999.0,9,   8.1297,2,     25.0, TS,  -999.00,9,   -999.0,  -999.00,9,  -999.00,9,     0.04,2,     0.01,2,   -999.0,-999.0000, -999,9,    0,  29.4636,  21.3495,   -999.0,9
     RF05-06-2,  137E,RF-2486,  1,     22,02-18576,2,20050719,1044, 20.0008, 136.9778,   -9,     10.3,  29.2578,  34.5806,2,   -999.0,9,  34.5677,4,    198.7,2,     1.42,2,  -999.00,9,     0.00,2,     0.00,2,     0.01,2, -999.000,9, -999.000,9,  -999.00,9,   1923.5,3,   -999.0,9,   8.1302,2,     25.0, TS,  -999.00,9,   -999.0,  -999.00,9,  -999.00,9,     0.05,2,     0.01,2,   -999.0,-999.0000, -999,9,   10,  29.2553,  21.6638,   -999.0,9
     RF05-06-2,  137E,RF-2486,  1,     21,02-18575,2,20050719,1043, 20.0008, 136.9778,   -9,     25.2,  29.0396,  34.5359,2,   -999.0,9,-999.0000,9,    200.7,2,     1.45,2,  -999.00,9,     0.00,2,     0.00,2,     0.01,2, -999.000,9, -999.000,9,  -999.00,9,   1921.1,3,   -999.0,9,   8.1274,2,     25.0, TS,  -999.00,9,   -999.0,  -999.00,9,  -999.00,9,     0.05,2,     0.01,2,   -999.0,-999.0000, -999,9,   25,  29.0335,  21.7045,   -999.0,9
     RF05-06-2,  137E,RF-2486,  1,     20,02-18574,2,20050719,1042, 20.0008, 136.9778,   -9,     50.8,  28.5603,  34.5586,2,   -999.0,9,-999.0000,9,    203.0,2,     1.40,2,  -999.00,9,     0.00,2,     0.00,2,     0.01,2, -999.000,9, -999.000,9,  -999.00,9,   1926.4,3,   -999.0,9,   8.1262,2,     25.0, TS,  -999.00,9,   -999.0,  -999.00,9,  -999.00,9,     0.06,2,     0.02,2,   -999.0,-999.0000, -999,9,   50,  28.5482,  21.8827,   -999.0,9
     RF05-06-2,  137E,RF-2486,  1,     19,02-18573,2,20050719,1041, 20.0008, 136.9778,   -9,     75.5,  25.8551,  34.8218,2,   -999.0,9,-999.0000,9,    206.9,2,     1.37,2,  -999.00,9,     0.00,2,     0.00,2,     0.02,2, -999.000,9, -999.000,9,  -999.00,9,   1953.5,3,   -999.0,9,   8.1054,2,     25.0, TS,  -999.00,9,   -999.0,  -999.00,9,  -999.00,9,     0.13,2,     0.09,2,   -999.0,-999.0000, -999,9,   75,  25.8383,  22.9491,   -999.0,9
     RF05-06-2,  137E,RF-2486,  1,     18,02-18572,2,20050719,1040, 20.0008, 136.9778,   -9,    100.9,  24.4723,  34.9343,2,   -999.0,9,  34.9513,4,    202.7,2,     1.55,2,  -999.00,9,     0.11,2,     0.11,2,     0.03,2, -999.000,9, -999.000,9,  -999.00,9,   1975.7,3,   -999.0,9,   8.0796,2,     25.0, TS,  -999.00,9,   -999.0,  -999.00,9,  -999.00,9,     0.17,2,     0.23,2,   -999.0,-999.0000, -999,9,  100,  24.4508,  23.4573,   -999.0,9
     RF05-06-2,  137E,RF-2486,  1,     17,02-18571,2,20050719,1039, 20.0008, 136.9778,   -9,    125.4,  23.2651,  35.0535,2,   -999.0,9,-999.0000,9,    199.9,2,     1.75,2,  -999.00,9,     0.40,2,     0.10,2,     0.06,2, -999.000,9, -999.000,9,  -999.00,9,   2001.9,2,   -999.0,9,   8.0487,2,     25.0, TS,  -999.00,9,   -999.0,  -999.00,9,  -999.00,9,     0.06,2,     0.17,2,   -999.0,-999.0000, -999,9,  125,  23.2393,  23.9050,   -999.0,9
     RF05-06-2,  137E,RF-2486,  1,     16,02-18570,2,20050719,1038, 20.0008, 136.9778,   -9,    151.7,  21.8330,  35.0609,2,   -999.0,9,-999.0000,9,    187.3,2,     2.15,2,  -999.00,9,     1.50,2,     0.01,2,     0.14,2, -999.000,9, -999.000,9,  -999.00,9,   2021.1,2,   -999.0,9,   8.0169,2,     25.0, TS,  -999.00,9,   -999.0,  -999.00,9,  -999.00,9,     0.03,2,     0.07,2,   -999.0,-999.0000, -999,9,  151,  21.8032,  24.3191,   -999.0,9
     RF05-06-2,  137E,RF-2486,  1,     15,02-18569,2,20050719,1037, 20.0008, 136.9778,   -9,    202.3,  19.5627,  34.9416,2,   -999.0,9,  35.0590,4,    205.6,2,     2.75,2,  -999.00,9,     2.19,2,     0.00,2,     0.16,2, -999.000,9, -999.000,9,  -999.00,9,   2022.2,2,   -999.0,9,   8.0069,2,     25.0, TS,  -999.00,9,   -999.0,  -999.00,9,  -999.00,9,     0.01,2,     0.02,2,   -999.0,-999.0000, -999,9,  201,  19.5259,  24.8412,   -999.0,9
     RF05-06-2,  137E,RF-2486,  1,     14,02-18568,2,20050719,1035, 20.0008, 136.9778,   -9,    252.2,  17.4939,  34.7942,2,   -999.0,9,-999.0000,9,    204.2,2,     4.15,2,  -999.00,9,     4.58,2,     0.00,2,     0.29,2, -999.000,9, -999.000,9,  -999.00,9,   2031.0,2,   -999.0,9,   7.9721,2,     25.0, TS,  -999.00,9,   -999.0,  -999.00,9,  -999.00,9,  -999.00,9,  -999.00,9,   -999.0,-999.0000, -999,9,  251,  17.4514,  25.2482,   -999.0,9
     RF05-06-2,  137E,RF-2486,  1,     13,02-18567,2,20050719,1034, 20.0008, 136.9778,   -9,    304.7,  16.4285,  34.7151,2,   -999.0,9,  34.7125,2,    204.5,2,     5.86,2,  -999.00,9,     6.34,2,     0.00,2,     0.40,2, -999.000,9, -999.000,9,  -999.00,9,   2037.9,2,   -999.0,9,   7.9447,2,     25.0, TS,  -999.00,9,   -999.0,  -999.00,9,  -999.00,9,  -999.00,9,  -999.00,9,   -999.0,-999.0000, -999,9,  303,  16.3793,  25.4412,   -999.0,9
     RF05-06-2,  137E,RF-2486,  1,     12,02-18566,2,20050719,1031, 20.0008, 136.9778,   -9,    405.0,  12.7896,  34.4080,2,   -999.0,9,  34.4079,2,    189.6,2,    14.62,2,  -999.00,9,    13.34,2,     0.00,2,     0.90,2, -999.000,9, -999.000,9,  -999.00,9,   2090.8,2,   -999.0,9,   7.8273,2,     25.0, TS,  -999.00,9,   -999.0,  -999.00,9,  -999.00,9,  -999.00,9,  -999.00,9,   -999.0,-999.0000, -999,9,  402,  12.7344,  25.9870,   -999.0,9
     RF05-06-2,  137E,RF-2486,  1,     11,02-18565,2,20050719,1029, 20.0008, 136.9778,   -9,    505.8,   9.6473,  34.2091,2,   -999.0,9,  34.2101,2,    159.1,2,    30.17,2,  -999.00,9,    21.87,2,     0.00,2,     1.52,2, -999.000,9, -999.000,9,  -999.00,9,   2157.0,3,   -999.0,9,   7.6943,2,     25.0, TS,  -999.00,9,   -999.0,  -999.00,9,  -999.00,9,  -999.00,9,  -999.00,9,   -999.0,-999.0000, -999,9,  502,   9.5896,  26.4031,   -999.0,9
     RF05-06-2,  137E,RF-2486,  1,     10,02-18564,2,20050719,1026, 20.0008, 136.9778,   -9,    605.7,   7.1338,  34.1589,2,   -999.0,9,  34.1595,2,    107.1,2,    56.03,2,  -999.00,9,    30.97,2,     0.00,2,     2.21,2, -999.000,9, -999.000,9,  -999.00,9,   2228.9,2,   -999.0,9,   7.5476,2,     25.0, TS,  -999.00,9,   -999.0,  -999.00,9,  -999.00,9,  -999.00,9,  -999.00,9,   -999.0,-999.0000, -999,9,  601,   7.0756,  26.7457,   -999.0,9
     RF05-06-2,  137E,RF-2486,  1,      9,02-18563,2,20050719,1024, 20.0008, 136.9778,   -9,    708.1,   5.5717,  34.2200,2,   -999.0,9,  34.2186,2,     70.7,2,    79.75,2,  -999.00,9,    36.75,2,     0.00,2,     2.65,2, -999.000,9, -999.000,9,  -999.00,9,   2278.5,2,   -999.0,9,   7.4566,2,     25.0, TS,  -999.00,9,   -999.0,  -999.00,9,  -999.00,9,  -999.00,9,  -999.00,9,   -999.0,-999.0000, -999,9,  703,   5.5114,  26.9966,   -999.0,9
     RF05-06-2,  137E,RF-2486,  1,      8,02-18562,2,20050719,1022, 20.0008, 136.9778,   -9,    809.1,   4.7119,  34.3343,2,   -999.0,9,  34.5959,4,     57.8,2,    96.54,2,  -999.00,9,    39.23,2,     0.00,2,     2.82,2, -999.000,9, -999.000,9,  -999.00,9,   2313.0,2,   -999.0,9,   7.4375,2,     25.0, TS,  -999.00,9,   -999.0,  -999.00,9,  -999.00,9,  -999.00,9,  -999.00,9,   -999.0,-999.0000, -999,9,  803,   4.6476,  27.1873,   -999.0,9
     RF05-06-2,  137E,RF-2486,  1,      7,02-18561,2,20050719,1019, 20.0008, 136.9778,   -9,    908.7,   4.4009,  34.4093,2,   -999.0,9,  34.4080,2,     62.5,2,   102.92,2,  -999.00,9,    39.42,2,     0.00,2,     2.84,2, -999.000,9, -999.000,9,  -999.00,9,   2317.9,3,   -999.0,9,   7.4458,2,     25.0, TS,  -999.00,9,   -999.0,  -999.00,9,  -999.00,9,  -999.00,9,  -999.00,9,   -999.0,-999.0000, -999,9,  901,   4.3301,  27.2815,   -999.0,9
     RF05-06-2,  137E,RF-2486,  1,      6,02-18560,2,20050719,1017, 20.0008, 136.9778,   -9,   1011.9,   3.8823,  34.4780,2,   -999.0,9,-999.0000,9,   -999.0,9,  -999.00,9,  -999.00,9,  -999.00,9,  -999.00,9,  -999.00,9, -999.000,9, -999.000,9,  -999.00,9,   -999.0,9,   -999.0,9,-999.0000,9,   -999.0,  9,  -999.00,9,   -999.0,  -999.00,9,  -999.00,9,  -999.00,9,  -999.00,9,   -999.0,-999.0000, -999,9, 1003,   3.8066,  27.3907,   -999.0,9
     RF05-06-2,  137E,RF-2486,  1,      5,02-18559,2,20050719,1017, 20.0008, 136.9778,   -9,   1010.2,   3.8963,  34.4770,2,   -999.0,9,  34.4764,2,     72.6,2,   112.71,2,  -999.00,9,    39.28,2,     0.00,2,     2.80,2, -999.000,9, -999.000,9,  -999.00,9,   2330.0,2,   -999.0,9,   7.4681,2,     25.0, TS,  -999.00,9,   -999.0,  -999.00,9,  -999.00,9,  -999.00,9,  -999.00,9,   -999.0,-999.0000, -999,9, 1002,   3.8206,  27.3885,   -999.0,9
     RF05-06-2,  137E,RF-2486,  1,      4,02-18558,2,20050719,1012, 20.0008, 136.9778,   -9,   1262.6,   3.1248,  34.5300,2,   -999.0,9,  34.5288,2,     81.5,2,   127.26,2,  -999.00,9,    39.36,2,     0.00,2,     2.80,2, -999.000,9, -999.000,9,  -999.00,9,   2337.8,2,   -999.0,9,   7.4866,2,     25.0, TS,  -999.00,9,   -999.0,  -999.00,9,  -999.00,9,  -999.00,9,  -999.00,9,   -999.0,-999.0000, -999,9, 1251,   3.0352,  27.5067,   -999.0,9
     RF05-06-2,  137E,RF-2486,  1,      3,02-18557,2,20050719,1007, 20.0008, 136.9778,   -9,   1516.2,   2.6182,  34.5744,2,   -999.0,9,  34.5737,2,     96.8,2,   134.47,2,  -999.00,9,    38.77,2,     0.00,2,     2.75,2, -999.000,9, -999.000,9,  -999.00,9,   2341.4,2,   -999.0,9,   7.5069,2,     25.0, TS,  -999.00,9,   -999.0,  -999.00,9,  -999.00,9,  -999.00,9,  -999.00,9,   -999.0,-999.0000, -999,9, 1502,   2.5135,  27.5885,   -999.0,9
     RF05-06-2,  137E,RF-2486,  1,      2,02-18556,2,20050719,1001, 20.0008, 136.9778,   -9,   1768.4,   2.3168,  34.6040,2,   -999.0,9,  34.6052,2,    106.0,2,   137.76,2,  -999.00,9,    38.47,2,     0.00,2,     2.71,2, -999.000,9, -999.000,9,  -999.00,9,   2337.8,3,   -999.0,9,   7.5056,2,     25.0, TS,  -999.00,9,   -999.0,  -999.00,9,  -999.00,9,  -999.00,9,  -999.00,9,   -999.0,-999.0000, -999,9, 1750,   2.1952,  27.6387,   -999.0,9
     RF05-06-2,  137E,RF-2486,  1,      1,02-18555,2,20050719,0957, 20.0008, 136.9778,   -9,   2021.7,   2.0175,  34.6278,2,   -999.0,9,  34.6270,2,    116.5,2,   141.25,2,  -999.00,9,    38.12,2,     0.00,2,     2.68,2, -999.000,9, -999.000,9,  -999.00,9,   2344.9,2,   -999.0,9,   7.5360,6,     25.0, TS,  -999.00,9,   -999.0,  -999.00,9,  -999.00,9,  -999.00,9,  -999.00,9,   -999.0,-999.0000, -999,9, 2000,   1.8790,  27.6830,   -999.0,9