BOTTLE,20130510GEMDJMAYT
EXPOCODE,SECT_ID,STNNBR,CASTNO,SAMPNO,BTLNBR,BTLNBR_FLAG_W,DATE,TIME,LATITUDE,LONGITUDE,DEPTH,CTDPRS,CTDTMP,CTDSAL,CTDSAL_FLAG_W,CTDOXY,CTDOXY_FLAG_W,SALNTY,SALNTY_FLAG_W,OXYGEN,OXYGEN_FLAG_W,SILCAT,SILCAT_FLAG_W,NITRAT,NITRAT_FLAG_W,NO2+NO3,NO2+NO3_FLAG_W,NITRIT,NITRIT_FLAG_W,PHSPHT,PHSPHT_FLAG_W,CFC-11,CFC-11_FLAG_W,CFC-12,CFC-12_FLAG_W,DELC13,DELC13_FLAG_W,TCARBN,TCARBN_FLAG_W,ALKALI,ALKALI_FLAG_W,PH,PH_FLAG_W,PH_TMP,PH_SCALE,PH_NBS,PH_NBS_FLAG_W,C13ERR,TOTALP,TOTALP_FLAG_W,AMMONI,AMMONI_FLAG_W,CHLORA,CHLORA_FLAG_W,PPHYTN,PPHYTN_FLAG_W,REVPRS,REVTMP,DEPTH_,DEPTH_FLAG,CTDDEP,THETA,SIGTHT,DOC,DOC_FLAG_W
,,,,,,,GMT,GMT,,,METER,DBAR,ITS-90,PSS-78,,UMOL/KG,,PSS-78,,UMOL/KG,,UMOL/KG,,UMOL/KG,,UMOL/KG,,UMOL/KG,,UMOL/KG,,PMOL/KG,,PMOL/KG,,/MILLE,,UMOL/KG,,UMOL/KG,,25_DEG_C,,DEG_C,,,,/MILLE,UMOL/KG,,UMOL/KG,,UG/L,,UG/L,,DBAR,ITS-90,METERS,,METERS,DEG_C,,UMOL/L,
     RF05-06-2,  137E,RF-2501,  1,     -9,      -9,5,20050722,1725, 32.0015, 137.0160,   -9,      0.0,  28.8809,  34.2598,2,   -999.0,9,-999.0000,9,    198.4,2,     1.96,2,  -999.00,9,     0.00,2,     0.00,2,     0.02,2, -999.000,9, -999.000,9,  -999.00,9,   1919.5,3,   -999.0,9,   8.1109,6,     25.0, TS,  -999.00,9,   -999.0,  -999.00,9,  -999.00,9,     0.05,2,     0.01,2,   -999.0,-999.0000, -999,9,    0,  28.8807,  21.5481,   -999.0,9
     RF05-06-2,  137E,RF-2501,  1,     21,02-18575,2,20050722,1737, 32.0015, 137.0160,   -9,     10.9,  27.6942,  34.2324,2,   -999.0,9,  34.2399,4,    200.8,2,     1.92,2,  -999.00,9,     0.00,2,     0.00,2,     0.01,2, -999.000,9, -999.000,9,  -999.00,9,   -999.0,9,   -999.0,9,-999.0000,9,   -999.0,  9,  -999.00,9,   -999.0,  -999.00,9,  -999.00,9,     0.06,2,     0.02,2,   -999.0,-999.0000, -999,9,   11,  27.6917,  21.9177,   -999.0,9
     RF05-06-2,  137E,RF-2501,  1,     20,02-18574,2,20050722,1736, 32.0015, 137.0160,   -9,     26.1,  26.2724,  34.2279,2,   -999.0,9,-999.0000,9,    211.2,2,     1.83,2,  -999.00,9,     0.00,2,     0.00,2,     0.01,2, -999.000,9, -999.000,9,  -999.00,9,   -999.0,9,   -999.0,9,-999.0000,9,   -999.0,  9,  -999.00,9,   -999.0,  -999.00,9,  -999.00,9,     0.07,2,     0.01,2,   -999.0,-999.0000, -999,9,   26,  26.2666,  22.3678,   -999.0,9
     RF05-06-2,  137E,RF-2501,  1,     19,02-18573,2,20050722,1736, 32.0015, 137.0160,   -9,     50.7,  23.5726,  34.6088,2,   -999.0,9,-999.0000,9,    220.9,2,     1.93,2,  -999.00,9,     0.00,2,     0.00,2,     0.01,2, -999.000,9, -999.000,9,  -999.00,9,   -999.0,9,   -999.0,9,-999.0000,9,   -999.0,  9,  -999.00,9,   -999.0,  -999.00,9,  -999.00,9,     0.14,2,     0.05,2,   -999.0,-999.0000, -999,9,   50,  23.5621,  23.4740,   -999.0,9
     RF05-06-2,  137E,RF-2501,  1,     18,02-18572,2,20050722,1735, 32.0015, 137.0160,   -9,     76.1,  21.7450,  34.8303,2,   -999.0,9,-999.0000,9,    217.1,2,     2.04,2,  -999.00,9,     0.08,2,     0.02,2,     0.03,2, -999.000,9, -999.000,9,  -999.00,9,   -999.0,9,   -999.0,9,-999.0000,9,   -999.0,  9,  -999.00,9,   -999.0,  -999.00,9,  -999.00,9,     0.24,2,     0.27,2,   -999.0,-999.0000, -999,9,   76,  21.7301,  24.1642,   -999.0,9
     RF05-06-2,  137E,RF-2501,  1,     17,02-18571,2,20050722,1734, 32.0015, 137.0160,   -9,    101.7,  20.9697,  34.8793,2,   -999.0,9,  34.8880,4,    205.8,2,     2.39,2,  -999.00,9,     1.15,2,     0.10,2,     0.09,2, -999.000,9, -999.000,9,  -999.00,9,   -999.0,9,   -999.0,9,-999.0000,9,   -999.0,  9,  -999.00,9,   -999.0,  -999.00,9,  -999.00,9,     0.21,2,     0.36,2,   -999.0,-999.0000, -999,9,  101,  20.9503,  24.4155,   -999.0,9
     RF05-06-2,  137E,RF-2501,  1,     16,02-18570,2,20050722,1733, 32.0015, 137.0160,   -9,    125.7,  20.2853,  34.8815,2,   -999.0,9,-999.0000,9,    198.5,2,     3.67,2,  -999.00,9,     3.05,2,     0.02,2,     0.20,2, -999.000,9, -999.000,9,  -999.00,9,   -999.0,9,   -999.0,9,-999.0000,9,   -999.0,  9,  -999.00,9,   -999.0,  -999.00,9,  -999.00,9,     0.04,2,     0.08,2,   -999.0,-999.0000, -999,9,  125,  20.2619,  24.6021,   -999.0,9
     RF05-06-2,  137E,RF-2501,  1,     15,02-18569,2,20050722,1732, 32.0015, 137.0160,   -9,    151.7,  19.6500,  34.8421,2,   -999.0,9,-999.0000,9,    186.7,2,     4.65,2,  -999.00,9,     4.42,2,     0.01,2,     0.29,2, -999.000,9, -999.000,9,  -999.00,9,   -999.0,9,   -999.0,9,-999.0000,9,   -999.0,  9,  -999.00,9,   -999.0,  -999.00,9,  -999.00,9,     0.01,2,     0.03,2,   -999.0,-999.0000, -999,9,  151,  19.6223,  24.7402,   -999.0,9
     RF05-06-2,  137E,RF-2501,  1,     14,02-18568,2,20050722,1731, 32.0015, 137.0160,   -9,    202.5,  18.8738,  34.8235,2,   -999.0,9,  34.8256,2,    190.8,2,     4.90,2,  -999.00,9,     4.83,2,     0.00,2,     0.31,2, -999.000,9, -999.000,9,  -999.00,9,   -999.0,9,   -999.0,9,-999.0000,9,   -999.0,  9,  -999.00,9,   -999.0,  -999.00,9,  -999.00,9,     0.00,2,     0.02,2,   -999.0,-999.0000, -999,9,  201,  18.8379,  24.9274,   -999.0,9
     RF05-06-2,  137E,RF-2501,  1,     13,02-18567,2,20050722,1729, 32.0015, 137.0160,   -9,    253.1,  18.1490,  34.8193,2,   -999.0,9,-999.0000,9,    199.4,2,     4.21,2,  -999.00,9,     4.57,2,     0.00,2,     0.28,2, -999.000,9, -999.000,9,  -999.00,9,   -999.0,9,   -999.0,9,-999.0000,9,   -999.0,  9,  -999.00,9,   -999.0,  -999.00,9,  -999.00,9,  -999.00,9,  -999.00,9,   -999.0,-999.0000, -999,9,  251,  18.1053,  25.1077,   -999.0,9
     RF05-06-2,  137E,RF-2501,  1,     12,02-18566,2,20050722,1728, 32.0015, 137.0160,   -9,    303.5,  17.2194,  34.7601,2,   -999.0,9,  34.7559,2,    199.1,2,     5.09,2,  -999.00,9,     5.77,2,     0.00,2,     0.35,2, -999.000,9, -999.000,9,  -999.00,9,   -999.0,9,   -999.0,9,-999.0000,9,   -999.0,  9,  -999.00,9,   -999.0,  -999.00,9,  -999.00,9,  -999.00,9,  -999.00,9,   -999.0,-999.0000, -999,9,  301,  17.1688,  25.2899,   -999.0,9
     RF05-06-2,  137E,RF-2501,  1,     11,02-18565,2,20050722,1726, 32.0015, 137.0160,   -9,    403.7,  15.6699,  34.6479,2,   -999.0,9,  34.6444,2,    194.1,2,     8.99,2,  -999.00,9,     8.80,2,     0.00,2,     0.56,2, -999.000,9, -999.000,9,  -999.00,9,   -999.0,9,   -999.0,9,-999.0000,9,   -999.0,  9,  -999.00,9,   -999.0,  -999.00,9,  -999.00,9,  -999.00,9,  -999.00,9,   -999.0,-999.0000, -999,9,  401,  15.6067,  25.5658,   -999.0,9
     RF05-06-2,  137E,RF-2501,  1,     10,02-18564,2,20050722,1723, 32.0015, 137.0160,   -9,    505.2,  13.0980,  34.4820,2,   -999.0,9,  34.4814,2,    170.1,2,    21.19,2,  -999.00,9,    15.32,2,     0.00,2,     1.02,2, -999.000,9, -999.000,9,  -999.00,9,   -999.0,9,   -999.0,9,-999.0000,9,   -999.0,  9,  -999.00,9,   -999.0,  -999.00,9,  -999.00,9,  -999.00,9,  -999.00,9,   -999.0,-999.0000, -999,9,  501,  13.0277,  25.9860,   -999.0,9
     RF05-06-2,  137E,RF-2501,  1,      9,02-18563,2,20050722,1721, 32.0015, 137.0160,   -9,    606.4,  10.0111,  34.2780,2,   -999.0,9,  34.2825,2,    155.1,2,    34.96,2,  -999.00,9,    21.63,2,     0.00,2,     1.49,2, -999.000,9, -999.000,9,  -999.00,9,   -999.0,9,   -999.0,9,-999.0000,9,   -999.0,  9,  -999.00,9,   -999.0,  -999.00,9,  -999.00,9,  -999.00,9,  -999.00,9,   -999.0,-999.0000, -999,9,  601,   9.9399,  26.3983,   -999.0,9
     RF05-06-2,  137E,RF-2501,  1,      8,02-18562,2,20050722,1719, 32.0015, 137.0160,   -9,    707.1,   7.7182,  34.1956,2,   -999.0,9,  34.2044,4,    126.2,2,    54.61,2,  -999.00,9,    28.00,2,     0.00,2,     1.98,2, -999.000,9, -999.000,9,  -999.00,9,   -999.0,9,   -999.0,9,-999.0000,9,   -999.0,  9,  -999.00,9,   -999.0,  -999.00,9,  -999.00,9,  -999.00,9,  -999.00,9,   -999.0,-999.0000, -999,9,  701,   7.6466,  26.6938,   -999.0,9
     RF05-06-2,  137E,RF-2501,  1,      7,02-18561,2,20050722,1716, 32.0015, 137.0160,   -9,    808.0,   6.3919,  34.2669,2,   -999.0,9,  34.2676,2,     94.7,2,    76.58,2,  -999.00,9,    32.97,2,     0.00,2,     2.36,2, -999.000,9, -999.000,9,  -999.00,9,   -999.0,9,   -999.0,9,-999.0000,9,   -999.0,  9,  -999.00,9,   -999.0,  -999.00,9,  -999.00,9,  -999.00,9,  -999.00,9,   -999.0,-999.0000, -999,9,  801,   6.3175,  26.9327,   -999.0,9
     RF05-06-2,  137E,RF-2501,  1,      6,02-18560,2,20050722,1714, 32.0015, 137.0160,   -9,    909.4,   5.1934,  34.3045,2,   -999.0,9,  34.3045,2,     79.3,2,    94.15,2,  -999.00,9,    36.14,2,     0.00,2,     2.60,2, -999.000,9, -999.000,9,  -999.00,9,   -999.0,9,   -999.0,9,-999.0000,9,   -999.0,  9,  -999.00,9,   -999.0,  -999.00,9,  -999.00,9,  -999.00,9,  -999.00,9,   -999.0,-999.0000, -999,9,  901,   5.1172,  27.1103,   -999.0,9
     RF05-06-2,  137E,RF-2501,  1,      5,02-18559,2,20050722,1711, 32.0015, 137.0160,   -9,   1011.5,   4.6125,  34.3360,2,   -999.0,9,  34.3362,2,     73.4,2,   103.98,2,  -999.00,9,    37.48,2,     0.00,2,     2.70,2, -999.000,9, -999.000,9,  -999.00,9,   -999.0,9,   -999.0,9,-999.0000,9,   -999.0,  9,  -999.00,9,   -999.0,  -999.00,9,  -999.00,9,  -999.00,9,  -999.00,9,   -999.0,-999.0000, -999,9, 1002,   4.5314,  27.2014,   -999.0,9
     RF05-06-2,  137E,RF-2501,  1,      4,02-18558,2,20050722,1707, 32.0015, 137.0160,   -9,   1264.4,   3.4006,  34.4348,2,   -999.0,9,  34.4359,2,     67.8,2,   126.16,2,  -999.00,9,    39.63,2,     0.00,2,     2.85,2, -999.000,9, -999.000,9,  -999.00,9,   -999.0,9,   -999.0,9,-999.0000,9,   -999.0,  9,  -999.00,9,   -999.0,  -999.00,9,  -999.00,9,  -999.00,9,  -999.00,9,   -999.0,-999.0000, -999,9, 1252,   3.3084,  27.4052,   -999.0,9
     RF05-06-2,  137E,RF-2501,  1,      3,02-18557,2,20050722,1702, 32.0015, 137.0160,   -9,   1517.0,   2.7939,  34.5044,2,   -999.0,9,  34.5045,2,     76.8,2,   135.77,2,  -999.00,9,    39.73,2,     0.00,2,     2.85,2, -999.000,9, -999.000,9,  -999.00,9,   -999.0,9,   -999.0,9,-999.0000,9,   -999.0,  9,  -999.00,9,   -999.0,  -999.00,9,  -999.00,9,  -999.00,9,  -999.00,9,   -999.0,-999.0000, -999,9, 1501,   2.6872,  27.5174,   -999.0,9
     RF05-06-2,  137E,RF-2501,  1,      2,02-18556,2,20050722,1657, 32.0015, 137.0160,   -9,   1770.3,   2.3948,  34.5546,2,   -999.0,9,  34.5545,2,     90.0,2,   140.35,2,  -999.00,9,    39.21,2,     0.00,2,     2.79,2, -999.000,9, -999.000,9,  -999.00,9,   -999.0,9,   -999.0,9,-999.0000,9,   -999.0,  9,  -999.00,9,   -999.0,  -999.00,9,  -999.00,9,  -999.00,9,  -999.00,9,   -999.0,-999.0000, -999,9, 1751,   2.2721,  27.5929,   -999.0,9
     RF05-06-2,  137E,RF-2501,  1,      1,02-18555,2,20050722,1653, 32.0015, 137.0160,   -9,   2023.3,   2.0946,  34.5941,2,   -999.0,9,  34.5937,2,    103.6,2,   142.86,2,  -999.00,9,    38.55,2,     0.00,2,     2.73,2, -999.000,9, -999.000,9,  -999.00,9,   -999.0,9,   -999.0,9,-999.0000,9,   -999.0,  9,  -999.00,9,   -999.0,  -999.00,9,  -999.00,9,  -999.00,9,  -999.00,9,   -999.0,-999.0000, -999,9, 2000,   1.9549,  27.6500,   -999.0,9