BOTTLE,20130510GEMDJMAYT
EXPOCODE,SECT_ID,STNNBR,CASTNO,SAMPNO,BTLNBR,BTLNBR_FLAG_W,DATE,TIME,LATITUDE,LONGITUDE,DEPTH,CTDPRS,CTDTMP,CTDSAL,CTDSAL_FLAG_W,CTDOXY,CTDOXY_FLAG_W,SALNTY,SALNTY_FLAG_W,OXYGEN,OXYGEN_FLAG_W,SILCAT,SILCAT_FLAG_W,NITRAT,NITRAT_FLAG_W,NO2+NO3,NO2+NO3_FLAG_W,NITRIT,NITRIT_FLAG_W,PHSPHT,PHSPHT_FLAG_W,CFC-11,CFC-11_FLAG_W,CFC-12,CFC-12_FLAG_W,DELC13,DELC13_FLAG_W,TCARBN,TCARBN_FLAG_W,ALKALI,ALKALI_FLAG_W,PH,PH_FLAG_W,PH_TMP,PH_SCALE,PH_NBS,PH_NBS_FLAG_W,C13ERR,TOTALP,TOTALP_FLAG_W,AMMONI,AMMONI_FLAG_W,CHLORA,CHLORA_FLAG_W,PPHYTN,PPHYTN_FLAG_W,REVPRS,REVTMP,DEPTH_,DEPTH_FLAG,CTDDEP,THETA,SIGTHT,DOC,DOC_FLAG_W
,,,,,,,GMT,GMT,,,METER,DBAR,ITS-90,PSS-78,,UMOL/KG,,PSS-78,,UMOL/KG,,UMOL/KG,,UMOL/KG,,UMOL/KG,,UMOL/KG,,UMOL/KG,,PMOL/KG,,PMOL/KG,,/MILLE,,UMOL/KG,,UMOL/KG,,25_DEG_C,,DEG_C,,,,/MILLE,UMOL/KG,,UMOL/KG,,UG/L,,UG/L,,DBAR,ITS-90,METERS,,METERS,DEG_C,,UMOL/L,
     RF05-06-2,  137E,RF-2481,  1,     -9,      -9,5,20050718,0300, 15.0067, 137.0040,   -9,      0.0,  30.1122,  34.3249,2,   -999.0,9,-999.0000,9,    195.9,2,     1.39,2,  -999.00,9,     0.00,2,     0.00,2,     0.01,2, -999.000,9, -999.000,9,  -999.00,9,   1907.5,2,   -999.0,9,   8.1338,2,     25.0, TS,  -999.00,9,   -999.0,  -999.00,9,  -999.00,9,     0.10,2,     0.02,2,   -999.0,-999.0000, -999,9,    0,  30.1120,  21.1819,   -999.0,9
     RF05-06-2,  137E,RF-2481,  1,     21,02-18575,2,20050718,0315, 15.0067, 137.0040,   -9,     10.7,  30.0795,  34.3960,2,   -999.0,9,  34.4276,4,    197.9,2,     1.34,2,  -999.00,9,     0.00,2,     0.00,2,     0.01,2, -999.000,9, -999.000,9,  -999.00,9,   1913.8,2,   -999.0,9,   8.1310,2,     25.0, TS,  -999.00,9,   -999.0,  -999.00,9,  -999.00,9,     0.08,2,     0.02,2,   -999.0,-999.0000, -999,9,   11,  30.0768,  21.2472,   -999.0,9
     RF05-06-2,  137E,RF-2481,  1,     20,02-18574,2,20050718,0314, 15.0067, 137.0040,   -9,     25.4,  30.0613,  34.4547,2,   -999.0,9,-999.0000,9,    196.8,2,     1.34,2,  -999.00,9,     0.00,2,     0.00,2,     0.01,2, -999.000,9, -999.000,9,  -999.00,9,   1914.6,2,   -999.0,9,   8.1283,2,     25.0, TS,  -999.00,9,   -999.0,  -999.00,9,  -999.00,9,     0.09,2,     0.03,2,   -999.0,-999.0000, -999,9,   25,  30.0550,  21.2987,   -999.0,9
     RF05-06-2,  137E,RF-2481,  1,     19,02-18573,2,20050718,0313, 15.0067, 137.0040,   -9,     50.9,  29.9564,  34.4476,2,   -999.0,9,-999.0000,9,    201.4,2,     1.35,2,  -999.00,9,     0.00,2,     0.00,2,     0.02,2, -999.000,9, -999.000,9,  -999.00,9,   1915.9,2,   -999.0,9,   8.1310,2,     25.0, TS,  -999.00,9,   -999.0,  -999.00,9,  -999.00,9,     0.10,2,     0.03,2,   -999.0,-999.0000, -999,9,   51,  29.9438,  21.3312,   -999.0,9
     RF05-06-2,  137E,RF-2481,  1,     18,02-18572,2,20050718,0312, 15.0067, 137.0040,   -9,     75.6,  28.1804,  34.4445,2,   -999.0,9,-999.0000,9,    206.3,2,     1.34,2,  -999.00,9,     0.00,2,     0.00,2,     0.03,2, -999.000,9, -999.000,9,  -999.00,9,   1915.4,2,   -999.0,9,   8.1244,2,     25.0, TS,  -999.00,9,   -999.0,  -999.00,9,  -999.00,9,     0.13,2,     0.06,2,   -999.0,-999.0000, -999,9,   75,  28.1625,  21.9239,   -999.0,9
     RF05-06-2,  137E,RF-2481,  1,     17,02-18571,2,20050718,0311, 15.0067, 137.0040,   -9,    101.8,  27.1532,  34.6237,2,   -999.0,9,  34.6374,4,    198.9,2,     1.39,2,  -999.00,9,     0.00,2,     0.00,2,     0.05,2, -999.000,9, -999.000,9,  -999.00,9,   1941.4,2,   -999.0,9,   8.1051,2,     25.0, TS,  -999.00,9,   -999.0,  -999.00,9,  -999.00,9,     0.24,2,     0.27,2,   -999.0,-999.0000, -999,9,  101,  27.1298,  22.3929,   -999.0,9
     RF05-06-2,  137E,RF-2481,  1,     16,02-18570,2,20050718,0310, 15.0067, 137.0040,   -9,    126.5,  25.4333,  34.8712,2,   -999.0,9,-999.0000,9,    193.5,2,     1.69,2,  -999.00,9,     0.54,2,     0.06,2,     0.12,2, -999.000,9, -999.000,9,  -999.00,9,   1978.7,2,   -999.0,9,   8.0641,2,     25.0, TS,  -999.00,9,   -999.0,  -999.00,9,  -999.00,9,     0.11,2,     0.28,2,   -999.0,-999.0000, -999,9,  126,  25.4055,  23.1200,   -999.0,9
     RF05-06-2,  137E,RF-2481,  1,     15,02-18569,2,20050718,0309, 15.0067, 137.0040,   -9,    152.2,  23.7067,  34.9942,2,   -999.0,9,-999.0000,9,    180.0,2,     2.10,2,  -999.00,9,     1.20,2,     0.03,2,     0.17,2, -999.000,9, -999.000,9,  -999.00,9,   2006.5,2,   -999.0,9,   8.0289,2,     25.0, TS,  -999.00,9,   -999.0,  -999.00,9,  -999.00,9,     0.04,2,     0.12,2,   -999.0,-999.0000, -999,9,  151,  23.6749,  23.7328,   -999.0,9
     RF05-06-2,  137E,RF-2481,  1,     14,02-18568,2,20050718,0308, 15.0067, 137.0040,   -9,    202.3,  20.9241,  34.9949,2,   -999.0,9,  34.9919,2,    187.0,2,     2.72,2,  -999.00,9,     2.66,2,     0.01,2,     0.22,2, -999.000,9, -999.000,9,  -999.00,9,   2026.5,2,   -999.0,9,   7.9886,2,     25.0, TS,  -999.00,9,   -999.0,  -999.00,9,  -999.00,9,     0.01,2,     0.04,2,   -999.0,-999.0000, -999,9,  201,  20.8855,  24.5211,   -999.0,9
     RF05-06-2,  137E,RF-2481,  1,     13,02-18567,2,20050718,0307, 15.0067, 137.0040,   -9,    252.1,  17.7384,  34.7983,2,   -999.0,9,-999.0000,9,    193.5,2,     4.49,2,  -999.00,9,     5.20,2,     0.00,2,     0.36,2, -999.000,9, -999.000,9,  -999.00,9,   2038.2,2,   -999.0,9,   7.9466,2,     25.0, TS,  -999.00,9,   -999.0,  -999.00,9,  -999.00,9,  -999.00,9,  -999.00,9,   -999.0,-999.0000, -999,9,  250,  17.6955,  25.1921,   -999.0,9
     RF05-06-2,  137E,RF-2481,  1,     12,02-18566,2,20050718,0305, 15.0067, 137.0040,   -9,    302.5,  15.4822,  34.6165,2,   -999.0,9,  34.6184,2,    179.8,2,     8.83,2,  -999.00,9,     9.71,2,     0.00,2,     0.68,2, -999.000,9, -999.000,9,  -999.00,9,   2067.2,2,   -999.0,9,   7.8773,2,     25.0, TS,  -999.00,9,   -999.0,  -999.00,9,  -999.00,9,  -999.00,9,  -999.00,9,   -999.0,-999.0000, -999,9,  301,  15.4354,  25.5800,   -999.0,9
     RF05-06-2,  137E,RF-2481,  1,     11,02-18565,2,20050718,0303, 15.0067, 137.0040,   -9,    403.3,  11.2923,  34.3927,2,   -999.0,9,  34.3958,2,    125.4,2,    25.18,2,  -999.00,9,    21.85,2,     0.00,2,     1.56,2, -999.000,9, -999.000,9,  -999.00,9,   2156.9,2,   -999.0,9,   7.6756,2,     25.0, TS,  -999.00,9,   -999.0,  -999.00,9,  -999.00,9,  -999.00,9,  -999.00,9,   -999.0,-999.0000, -999,9,  401,  11.2416,  26.2587,   -999.0,9
     RF05-06-2,  137E,RF-2481,  1,     10,02-18564,2,20050718,0301, 15.0067, 137.0040,   -9,    504.6,   8.1434,  34.2540,2,   -999.0,9,  34.2597,2,     94.4,2,    47.04,2,  -999.00,9,    30.25,2,     0.00,2,     2.18,2, -999.000,9, -999.000,9,  -999.00,9,   2217.5,2,   -999.0,9,   7.5490,2,     25.0, TS,  -999.00,9,   -999.0,  -999.00,9,  -999.00,9,  -999.00,9,  -999.00,9,   -999.0,-999.0000, -999,9,  501,   8.0913,  26.6743,   -999.0,9
     RF05-06-2,  137E,RF-2481,  1,      9,02-18563,2,20050718,0259, 15.0067, 137.0040,   -9,    605.2,   6.6698,  34.3767,2,   -999.0,9,  34.3759,2,     67.9,2,    64.90,2,  -999.00,9,    35.54,2,     0.00,2,     2.57,2, -999.000,9, -999.000,9,  -999.00,9,   2268.8,2,   -999.0,9,   7.4708,2,     25.0, TS,  -999.00,9,   -999.0,  -999.00,9,  -999.00,9,  -999.00,9,  -999.00,9,   -999.0,-999.0000, -999,9,  601,   6.6135,  26.9802,   -999.0,9
     RF05-06-2,  137E,RF-2481,  1,      8,02-18562,2,20050718,0257, 15.0067, 137.0040,   -9,    705.6,   5.9340,  34.4199,2,   -999.0,9,  34.4282,4,     68.0,2,    74.73,2,  -999.00,9,    36.82,2,     0.00,2,     2.66,2, -999.000,9, -999.000,9,  -999.00,9,   2281.5,2,   -999.0,9,   7.4789,2,     25.0, TS,  -999.00,9,   -999.0,  -999.00,9,  -999.00,9,  -999.00,9,  -999.00,9,   -999.0,-999.0000, -999,9,  700,   5.8718,  27.1105,   -999.0,9
     RF05-06-2,  137E,RF-2481,  1,      7,02-18561,2,20050718,0254, 15.0067, 137.0040,   -9,    806.4,   5.2120,  34.4641,2,   -999.0,9,  34.4619,2,     73.6,2,    85.29,2,  -999.00,9,    37.70,2,     0.00,2,     2.71,2, -999.000,9, -999.000,9,  -999.00,9,   2291.9,2,   -999.0,9,   7.4884,2,     25.0, TS,  -999.00,9,   -999.0,  -999.00,9,  -999.00,9,  -999.00,9,  -999.00,9,   -999.0,-999.0000, -999,9,  800,   5.1447,  27.2336,   -999.0,9
     RF05-06-2,  137E,RF-2481,  1,      6,02-18560,2,20050718,0252, 15.0067, 137.0040,   -9,    908.5,   4.7178,  34.4962,2,   -999.0,9,  34.4967,2,     78.0,2,    93.95,2,  -999.00,9,    38.25,2,     0.00,2,     2.75,2, -999.000,9, -999.000,9,  -999.00,9,   2308.1,3,   -999.0,9,   7.4912,2,     25.0, TS,  -999.00,9,   -999.0,  -999.00,9,  -999.00,9,  -999.00,9,  -999.00,9,   -999.0,-999.0000, -999,9,  901,   4.6447,  27.3161,   -999.0,9
     RF05-06-2,  137E,RF-2481,  1,      5,02-18559,2,20050718,0250, 15.0067, 137.0040,   -9,   1009.1,   4.2793,  34.5203,2,   -999.0,9,  34.5203,2,     82.5,2,   102.03,2,  -999.00,9,    38.47,2,     0.00,2,     2.75,2, -999.000,9, -999.000,9,  -999.00,9,   2307.3,2,   -999.0,9,   7.4991,2,     25.0, TS,  -999.00,9,   -999.0,  -999.00,9,  -999.00,9,  -999.00,9,  -999.00,9,   -999.0,-999.0000, -999,9, 1001,   4.2007,  27.3835,   -999.0,9
     RF05-06-2,  137E,RF-2481,  1,      4,02-18558,2,20050718,0245, 15.0067, 137.0040,   -9,   1262.9,   3.4361,  34.5567,2,   -999.0,9,  34.5562,2,     90.1,2,   118.65,2,  -999.00,9,    38.70,2,     0.00,2,     2.76,2, -999.000,9, -999.000,9,  -999.00,9,   2331.3,3,   -999.0,9,   7.4859,2,     25.0, TS,  -999.00,9,   -999.0,  -999.00,9,  -999.00,9,  -999.00,9,  -999.00,9,   -999.0,-999.0000, -999,9, 1252,   3.3434,  27.4991,   -999.0,9
     RF05-06-2,  137E,RF-2481,  1,      3,02-18557,2,20050718,0240, 15.0067, 137.0040,   -9,   1514.8,   2.8217,  34.5838,2,   -999.0,9,  34.5829,2,     97.1,2,   129.80,2,  -999.00,9,    38.58,2,     0.00,2,     2.74,2, -999.000,9, -999.000,9,  -999.00,9,   2333.3,2,   -999.0,9,   7.5154,2,     25.0, TS,  -999.00,9,   -999.0,  -999.00,9,  -999.00,9,  -999.00,9,  -999.00,9,   -999.0,-999.0000, -999,9, 1500,   2.7147,  27.5785,   -999.0,9
     RF05-06-2,  137E,RF-2481,  1,      2,02-18556,2,20050718,0235, 15.0067, 137.0040,   -9,   1768.6,   2.3940,  34.6072,2,   -999.0,9,  34.6067,2,    105.1,2,   136.59,2,  -999.00,9,    38.43,2,     0.00,2,     2.71,2, -999.000,9, -999.000,9,  -999.00,9,   2346.2,3,   -999.0,9,   7.5231,2,     25.0, TS,  -999.00,9,   -999.0,  -999.00,9,  -999.00,9,  -999.00,9,  -999.00,9,   -999.0,-999.0000, -999,9, 1751,   2.2713,  27.6350,   -999.0,9
     RF05-06-2,  137E,RF-2481,  1,      1,02-18555,2,20050718,0230, 15.0067, 137.0040,   -9,   2020.5,   2.0909,  34.6254,2,   -999.0,9,  34.6275,2,    112.6,2,   141.28,2,  -999.00,9,    38.11,2,     0.00,2,     2.69,2, -999.000,9, -999.000,9,  -999.00,9,   2345.8,2,   -999.0,9,   7.5285,2,     25.0, TS,  -999.00,9,   -999.0,  -999.00,9,  -999.00,9,  -999.00,9,  -999.00,9,   -999.0,-999.0000, -999,9, 1999,   1.9514,  27.6754,   -999.0,9