BOTTLE,20130510GEMDJMAYT
EXPOCODE,SECT_ID,STNNBR,CASTNO,SAMPNO,BTLNBR,BTLNBR_FLAG_W,DATE,TIME,LATITUDE,LONGITUDE,DEPTH,CTDPRS,CTDTMP,CTDSAL,CTDSAL_FLAG_W,CTDOXY,CTDOXY_FLAG_W,SALNTY,SALNTY_FLAG_W,OXYGEN,OXYGEN_FLAG_W,SILCAT,SILCAT_FLAG_W,NITRAT,NITRAT_FLAG_W,NO2+NO3,NO2+NO3_FLAG_W,NITRIT,NITRIT_FLAG_W,PHSPHT,PHSPHT_FLAG_W,CFC-11,CFC-11_FLAG_W,CFC-12,CFC-12_FLAG_W,DELC13,DELC13_FLAG_W,TCARBN,TCARBN_FLAG_W,ALKALI,ALKALI_FLAG_W,PH,PH_FLAG_W,PH_TMP,PH_SCALE,PH_NBS,PH_NBS_FLAG_W,C13ERR,TOTALP,TOTALP_FLAG_W,AMMONI,AMMONI_FLAG_W,CHLORA,CHLORA_FLAG_W,PPHYTN,PPHYTN_FLAG_W,REVPRS,REVTMP,DEPTH_,DEPTH_FLAG,CTDDEP,THETA,SIGTHT,DOC,DOC_FLAG_W
,,,,,,,GMT,GMT,,,METER,DBAR,ITS-90,PSS-78,,UMOL/KG,,PSS-78,,UMOL/KG,,UMOL/KG,,UMOL/KG,,UMOL/KG,,UMOL/KG,,UMOL/KG,,PMOL/KG,,PMOL/KG,,/MILLE,,UMOL/KG,,UMOL/KG,,25_DEG_C,,DEG_C,,,,/MILLE,UMOL/KG,,UMOL/KG,,UG/L,,UG/L,,DBAR,ITS-90,METERS,,METERS,DEG_C,,UMOL/L,
     RF05-06-2,  137E,RF-2471,  1,     -9,      -9,5,20050715,0953,  5.0162, 137.0195,   -9,      0.0,  29.8347,  33.9729,2,   -999.0,9,-999.0000,9,    198.6,2,     2.01,2,  -999.00,9,     0.00,2,     0.00,2,     0.02,2, -999.000,9, -999.000,9,  -999.00,9,   1902.8,3,   -999.0,9,   8.1254,6,     25.0, TS,  -999.00,9,   -999.0,  -999.00,9,  -999.00,9,     0.08,2,     0.02,2,   -999.0,-999.0000, -999,9,    0,  29.8345,  21.0126,   -999.0,9
     RF05-06-2,  137E,RF-2471,  1,     21,02-18575,2,20050715,1014,  5.0162, 137.0195,   -9,     10.2,  29.8134,  33.9679,2,   -999.0,9,  33.9584,4,    197.6,2,     1.98,2,  -999.00,9,     0.00,2,     0.00,2,     0.03,2, -999.000,9, -999.000,9,  -999.00,9,   1900.3,3,   -999.0,9,-999.0000,9,   -999.0,  9,  -999.00,9,   -999.0,  -999.00,9,  -999.00,9,     0.07,2,     0.02,2,   -999.0,-999.0000, -999,9,   10,  29.8109,  21.0169,   -999.0,9
     RF05-06-2,  137E,RF-2471,  1,     20,02-18574,2,20050715,1013,  5.0162, 137.0195,   -9,     25.3,  29.3375,  33.9851,2,   -999.0,9,-999.0000,9,    202.2,2,     2.24,2,  -999.00,9,     0.00,2,     0.00,2,     0.04,2, -999.000,9, -999.000,9,  -999.00,9,   1912.7,3,   -999.0,9,-999.0000,9,   -999.0,  9,  -999.00,9,   -999.0,  -999.00,9,  -999.00,9,     0.11,2,     0.05,2,   -999.0,-999.0000, -999,9,   25,  29.3313,  21.1915,   -999.0,9
     RF05-06-2,  137E,RF-2471,  1,     19,02-18573,2,20050715,1012,  5.0162, 137.0195,   -9,     50.4,  27.5319,  34.1940,2,   -999.0,9,-999.0000,9,    190.6,2,     3.17,2,  -999.00,9,     1.06,2,     0.37,2,     0.14,2, -999.000,9, -999.000,9,  -999.00,9,   1949.0,3,   -999.0,9,-999.0000,9,   -999.0,  9,  -999.00,9,   -999.0,  -999.00,9,  -999.00,9,     0.58,2,     0.44,2,   -999.0,-999.0000, -999,9,   50,  27.5202,  21.9442,   -999.0,9
     RF05-06-2,  137E,RF-2471,  1,     18,02-18572,2,20050715,1011,  5.0162, 137.0195,   -9,     75.4,  25.9084,  34.9729,2,   -999.0,9,-999.0000,9,    138.8,2,     4.16,2,  -999.00,9,     7.88,2,     0.07,2,     0.58,2, -999.000,9, -999.000,9,  -999.00,9,   2042.3,3,   -999.0,9,-999.0000,9,   -999.0,  9,  -999.00,9,   -999.0,  -999.00,9,  -999.00,9,     0.12,2,     0.26,2,   -999.0,-999.0000, -999,9,   75,  25.8916,  23.0466,   -999.0,9
     RF05-06-2,  137E,RF-2471,  1,     17,02-18571,2,20050715,1010,  5.0162, 137.0195,   -9,    100.9,  22.6313,  34.9584,2,   -999.0,9,  34.9439,4,    143.3,2,     6.87,2,  -999.00,9,     8.60,2,     0.03,2,     0.62,2, -999.000,9, -999.000,9,  -999.00,9,   2056.4,3,   -999.0,9,-999.0000,9,   -999.0,  9,  -999.00,9,   -999.0,  -999.00,9,  -999.00,9,     0.05,2,     0.12,2,   -999.0,-999.0000, -999,9,  100,  22.6110,  24.0135,   -999.0,9
     RF05-06-2,  137E,RF-2471,  1,     16,02-18570,2,20050715,1009,  5.0162, 137.0195,   -9,    126.2,  21.0875,  35.0552,2,   -999.0,9,-999.0000,9,    146.1,2,     7.92,2,  -999.00,9,    10.17,2,     0.01,2,     0.72,2, -999.000,9, -999.000,9,  -999.00,9,   2075.5,3,   -999.0,9,-999.0000,9,   -999.0,  9,  -999.00,9,   -999.0,  -999.00,9,  -999.00,9,     0.02,2,     0.05,2,   -999.0,-999.0000, -999,9,  125,  21.0633,  24.5187,   -999.0,9
     RF05-06-2,  137E,RF-2471,  1,     15,02-18569,2,20050715,1008,  5.0162, 137.0195,   -9,    153.3,  18.8065,  34.8352,2,   -999.0,9,-999.0000,9,    152.6,2,    10.54,2,  -999.00,9,    10.91,2,     0.01,2,     0.77,2, -999.000,9, -999.000,9,  -999.00,9,   2085.1,3,   -999.0,9,-999.0000,9,   -999.0,  9,  -999.00,9,   -999.0,  -999.00,9,  -999.00,9,     0.02,2,     0.06,2,   -999.0,-999.0000, -999,9,  152,  18.7794,  24.9512,   -999.0,9
     RF05-06-2,  137E,RF-2471,  1,     14,02-18568,2,20050715,1006,  5.0162, 137.0195,   -9,    203.5,  13.2227,  34.5939,2,   -999.0,9,  34.5997,2,    131.2,2,    21.64,2,  -999.00,9,    19.36,2,     0.00,2,     1.35,2, -999.000,9, -999.000,9,  -999.00,9,   2143.7,3,   -999.0,9,-999.0000,9,   -999.0,  9,  -999.00,9,   -999.0,  -999.00,9,  -999.00,9,     0.00,2,     0.03,2,   -999.0,-999.0000, -999,9,  202,  13.1945,  26.0391,   -999.0,9
     RF05-06-2,  137E,RF-2471,  1,     13,02-18567,2,20050715,1004,  5.0162, 137.0195,   -9,    254.0,   9.8675,  34.5005,2,   -999.0,9,-999.0000,9,     94.4,2,    35.54,2,  -999.00,9,    28.36,2,     0.00,2,     2.00,2, -999.000,9, -999.000,9,  -999.00,9,   2209.0,3,   -999.0,9,-999.0000,9,   -999.0,  9,  -999.00,9,   -999.0,  -999.00,9,  -999.00,9,  -999.00,9,  -999.00,9,   -999.0,-999.0000, -999,9,  252,   9.8384,  26.5892,   -999.0,9
     RF05-06-2,  137E,RF-2471,  1,     12,02-18566,2,20050715,1002,  5.0162, 137.0195,   -9,    306.9,   9.1853,  34.6147,2,   -999.0,9,  34.6105,2,     52.1,2,    37.39,2,  -999.00,9,    33.65,2,     0.00,2,     2.37,2, -999.000,9, -999.000,9,  -999.00,9,   2248.0,3,   -999.0,9,-999.0000,9,   -999.0,  9,  -999.00,9,   -999.0,  -999.00,9,  -999.00,9,  -999.00,9,  -999.00,9,   -999.0,-999.0000, -999,9,  305,   9.1515,  26.7921,   -999.0,9
     RF05-06-2,  137E,RF-2471,  1,     11,02-18565,2,20050715,0958,  5.0162, 137.0195,   -9,    405.1,   8.3436,  34.5990,2,   -999.0,9,  34.5989,2,     63.7,2,    40.75,2,  -999.00,9,    34.40,2,     0.00,2,     2.42,2, -999.000,9, -999.000,9,  -999.00,9,   2248.3,3,   -999.0,9,-999.0000,9,   -999.0,  9,  -999.00,9,   -999.0,  -999.00,9,  -999.00,9,  -999.00,9,  -999.00,9,   -999.0,-999.0000, -999,9,  402,   8.3013,  26.9134,   -999.0,9
     RF05-06-2,  137E,RF-2471,  1,     10,02-18564,2,20050715,0953,  5.0162, 137.0195,   -9,    506.1,   7.5699,  34.5715,2,   -999.0,9,  34.5734,2,     79.6,2,    44.70,2,  -999.00,9,    34.62,2,     0.00,2,     2.44,2, -999.000,9, -999.000,9,  -999.00,9,   2250.8,3,   -999.0,9,-999.0000,9,   -999.0,  9,  -999.00,9,   -999.0,  -999.00,9,  -999.00,9,  -999.00,9,  -999.00,9,   -999.0,-999.0000, -999,9,  503,   7.5196,  27.0078,   -999.0,9
     RF05-06-2,  137E,RF-2471,  1,      9,02-18563,2,20050715,0950,  5.0162, 137.0195,   -9,    605.1,   6.9764,  34.5420,2,   -999.0,9,  34.5423,2,     90.1,2,    50.85,2,  -999.00,9,    34.40,2,     0.00,2,     2.44,2, -999.000,9, -999.000,9,  -999.00,9,   2254.9,3,   -999.0,9,-999.0000,9,   -999.0,  9,  -999.00,9,   -999.0,  -999.00,9,  -999.00,9,  -999.00,9,  -999.00,9,   -999.0,-999.0000, -999,9,  601,   6.9186,  27.0692,   -999.0,9
     RF05-06-2,  137E,RF-2471,  1,      8,02-18562,2,20050715,0947,  5.0162, 137.0195,   -9,    706.3,   6.0524,  34.5373,2,   -999.0,9,  34.5356,2,     80.0,2,    64.71,2,  -999.00,9,    36.90,2,     0.00,2,     2.63,2, -999.000,9, -999.000,9,  -999.00,9,   2274.4,2,   -999.0,9,-999.0000,9,   -999.0,  9,  -999.00,9,   -999.0,  -999.00,9,  -999.00,9,  -999.00,9,  -999.00,9,   -999.0,-999.0000, -999,9,  701,   5.9893,  27.1884,   -999.0,9
     RF05-06-2,  137E,RF-2471,  1,      7,02-18561,2,20050715,0944,  5.0162, 137.0195,   -9,    807.8,   5.4159,  34.5394,2,   -999.0,9,  34.5387,2,     84.4,2,    73.58,2,  -999.00,9,    37.58,2,     0.00,2,     2.68,2, -999.000,9, -999.000,9,  -999.00,9,   2279.5,2,   -999.0,9,-999.0000,9,   -999.0,  9,  -999.00,9,   -999.0,  -999.00,9,  -999.00,9,  -999.00,9,  -999.00,9,   -999.0,-999.0000, -999,9,  802,   5.3471,  27.2693,   -999.0,9
     RF05-06-2,  137E,RF-2471,  1,      6,02-18560,2,20050715,0940,  5.0162, 137.0195,   -9,    909.4,   4.7973,  34.5487,2,   -999.0,9,  34.5496,2,     88.8,2,    84.25,2,  -999.00,9,    37.94,2,     0.00,2,     2.71,2, -999.000,9, -999.000,9,  -999.00,9,   2291.6,2,   -999.0,9,-999.0000,9,   -999.0,  9,  -999.00,9,   -999.0,  -999.00,9,  -999.00,9,  -999.00,9,  -999.00,9,   -999.0,-999.0000, -999,9,  902,   4.7235,  27.3490,   -999.0,9
     RF05-06-2,  137E,RF-2471,  1,      5,02-18559,2,20050715,0937,  5.0162, 137.0195,   -9,   1011.1,   4.3741,  34.5590,2,   -999.0,9,  34.5581,2,     89.5,2,    91.80,2,  -999.00,9,    38.26,2,     0.00,2,     2.74,2, -999.000,9, -999.000,9,  -999.00,9,   2298.8,2,   -999.0,9,-999.0000,9,   -999.0,  9,  -999.00,9,   -999.0,  -999.00,9,  -999.00,9,  -999.00,9,  -999.00,9,   -999.0,-999.0000, -999,9, 1003,   4.2945,  27.4043,   -999.0,9
     RF05-06-2,  137E,RF-2471,  1,      4,02-18558,2,20050715,0931,  5.0162, 137.0195,   -9,   1262.3,   3.6494,  34.5793,2,   -999.0,9,  34.5787,2,     93.5,2,   107.50,2,  -999.00,9,    38.70,2,     0.00,2,     2.76,2, -999.000,9, -999.000,9,  -999.00,9,   2318.1,2,   -999.0,9,-999.0000,9,   -999.0,  9,  -999.00,9,   -999.0,  -999.00,9,  -999.00,9,  -999.00,9,  -999.00,9,   -999.0,-999.0000, -999,9, 1251,   3.5546,  27.4966,   -999.0,9
     RF05-06-2,  137E,RF-2471,  1,      3,02-18557,2,20050715,0926,  5.0162, 137.0195,   -9,   1514.9,   3.0595,  34.6002,2,   -999.0,9,  34.6017,2,     97.3,2,   119.58,2,  -999.00,9,    38.77,2,     0.00,2,     2.76,2, -999.000,9, -999.000,9,  -999.00,9,   2330.3,2,   -999.0,9,-999.0000,9,   -999.0,  9,  -999.00,9,   -999.0,  -999.00,9,  -999.00,9,  -999.00,9,  -999.00,9,   -999.0,-999.0000, -999,9, 1501,   2.9497,  27.5705,   -999.0,9
     RF05-06-2,  137E,RF-2471,  1,      2,02-18556,2,20050715,0921,  5.0162, 137.0195,   -9,   1766.8,   2.5453,  34.6214,2,   -999.0,9,  34.6211,2,    106.2,2,   130.87,2,  -999.00,9,    38.53,2,     0.00,2,     2.72,2, -999.000,9, -999.000,9,  -999.00,9,   2336.2,2,   -999.0,9,-999.0000,9,   -999.0,  9,  -999.00,9,   -999.0,  -999.00,9,  -999.00,9,  -999.00,9,  -999.00,9,   -999.0,-999.0000, -999,9, 1750,   2.4207,  27.6339,   -999.0,9
     RF05-06-2,  137E,RF-2471,  1,      1,02-18555,2,20050715,0915,  5.0162, 137.0195,   -9,   2019.5,   2.2306,  34.6372,2,   -999.0,9,  34.6366,2,    113.4,2,   136.41,2,  -999.00,9,    38.26,2,     0.00,2,     2.70,2, -999.000,9, -999.000,9,  -999.00,9,   2339.7,2,   -999.0,9,-999.0000,9,   -999.0,  9,  -999.00,9,   -999.0,  -999.00,9,  -999.00,9,  -999.00,9,  -999.00,9,   -999.0,-999.0000, -999,9, 1999,   2.0890,  27.6739,   -999.0,9