BOTTLE,20130510GEMDJMAYT
EXPOCODE,SECT_ID,STNNBR,CASTNO,SAMPNO,BTLNBR,BTLNBR_FLAG_W,DATE,TIME,LATITUDE,LONGITUDE,DEPTH,CTDPRS,CTDTMP,CTDSAL,CTDSAL_FLAG_W,CTDOXY,CTDOXY_FLAG_W,SALNTY,SALNTY_FLAG_W,OXYGEN,OXYGEN_FLAG_W,SILCAT,SILCAT_FLAG_W,NITRAT,NITRAT_FLAG_W,NO2+NO3,NO2+NO3_FLAG_W,NITRIT,NITRIT_FLAG_W,PHSPHT,PHSPHT_FLAG_W,CFC-11,CFC-11_FLAG_W,CFC-12,CFC-12_FLAG_W,DELC13,DELC13_FLAG_W,TCARBN,TCARBN_FLAG_W,ALKALI,ALKALI_FLAG_W,PH,PH_FLAG_W,PH_TMP,PH_SCALE,PH_NBS,PH_NBS_FLAG_W,C13ERR,TOTALP,TOTALP_FLAG_W,AMMONI,AMMONI_FLAG_W,CHLORA,CHLORA_FLAG_W,PPHYTN,PPHYTN_FLAG_W,REVPRS,REVTMP,DEPTH_,DEPTH_FLAG,CTDDEP,THETA,SIGTHT,DOC,DOC_FLAG_W
,,,,,,,GMT,GMT,,,METER,DBAR,ITS-90,PSS-78,,UMOL/KG,,PSS-78,,UMOL/KG,,UMOL/KG,,UMOL/KG,,UMOL/KG,,UMOL/KG,,UMOL/KG,,PMOL/KG,,PMOL/KG,,/MILLE,,UMOL/KG,,UMOL/KG,,25_DEG_C,,DEG_C,,,,/MILLE,UMOL/KG,,UMOL/KG,,UG/L,,UG/L,,DBAR,ITS-90,METERS,,METERS,DEG_C,,UMOL/L,
     RF05-06-2,  137E,RF-2469,  1,     -9,      -9,5,20050714,1740,  2.9980, 137.0085,   -9,      0.0,  29.5034,  33.8877,2,   -999.0,9,-999.0000,9,    197.8,2,     1.41,2,  -999.00,9,     0.00,2,     0.00,2,     0.06,2, -999.000,9, -999.000,9,  -999.00,9,   1893.8,3,   -999.0,9,   8.1305,2,     25.0, TS,  -999.00,9,   -999.0,  -999.00,9,  -999.00,9,     0.46,2,     0.04,2,   -999.0,-999.0000, -999,9,    0,  29.5032,  21.0607,   -999.0,9
     RF05-06-2,  137E,RF-2469,  1,     21,02-18575,2,20050714,1754,  2.9980, 137.0085,   -9,     10.4,  29.2487,  33.9024,2,   -999.0,9,  33.9050,2,    201.8,2,     1.35,2,  -999.00,9,     0.00,2,     0.00,2,     0.04,2, -999.000,9, -999.000,9,  -999.00,9,   1892.6,3,   -999.0,9,-999.0000,9,   -999.0,  9,  -999.00,9,   -999.0,  -999.00,9,  -999.00,9,     0.08,2,     0.02,2,   -999.0,-999.0000, -999,9,   10,  29.2462,  21.1580,   -999.0,9
     RF05-06-2,  137E,RF-2469,  1,     20,02-18574,2,20050714,1754,  2.9980, 137.0085,   -9,     25.5,  29.2185,  33.9416,2,   -999.0,9,-999.0000,9,    198.4,2,     1.36,2,  -999.00,9,     0.00,2,     0.00,2,     0.13,2, -999.000,9, -999.000,9,  -999.00,9,   1579.5,3,   -999.0,9,-999.0000,9,   -999.0,  9,  -999.00,9,   -999.0,  -999.00,9,  -999.00,9,     0.07,2,     0.03,2,   -999.0,-999.0000, -999,9,   25,  29.2123,  21.1988,   -999.0,9
     RF05-06-2,  137E,RF-2469,  1,     19,02-18573,2,20050714,1752,  2.9980, 137.0085,   -9,     50.7,  29.1990,  34.2875,2,   -999.0,9,-999.0000,9,    197.3,2,     1.31,2,  -999.00,9,     0.00,2,     0.00,2,     0.08,2, -999.000,9, -999.000,9,  -999.00,9,   1762.2,3,   -999.0,9,-999.0000,9,   -999.0,  9,  -999.00,9,   -999.0,  -999.00,9,  -999.00,9,     0.12,2,     0.07,2,   -999.0,-999.0000, -999,9,   50,  29.1867,  21.4668,   -999.0,9
     RF05-06-2,  137E,RF-2469,  1,     18,02-18572,2,20050714,1752,  2.9980, 137.0085,   -9,     76.3,  26.8287,  34.8474,2,   -999.0,9,-999.0000,9,    153.9,2,     2.69,2,  -999.00,9,     4.95,2,     0.17,2,     0.42,2, -999.000,9, -999.000,9,  -999.00,9,   1856.5,3,   -999.0,9,-999.0000,9,   -999.0,  9,  -999.00,9,   -999.0,  -999.00,9,  -999.00,9,     0.33,2,     0.48,2,   -999.0,-999.0000, -999,9,   76,  26.8113,  22.6629,   -999.0,9
     RF05-06-2,  137E,RF-2469,  1,     17,02-18571,2,20050714,1750,  2.9980, 137.0085,   -9,    101.0,  24.6428,  35.0573,2,   -999.0,9,  35.0619,2,    128.9,2,     4.74,2,  -999.00,9,     9.39,2,     0.03,2,     0.66,2, -999.000,9, -999.000,9,  -999.00,9,   1955.9,3,   -999.0,9,-999.0000,9,   -999.0,  9,  -999.00,9,   -999.0,  -999.00,9,  -999.00,9,     0.08,2,     0.26,2,   -999.0,-999.0000, -999,9,  100,  24.6211,  23.4992,   -999.0,9
     RF05-06-2,  137E,RF-2469,  1,     16,02-18570,2,20050714,1750,  2.9980, 137.0085,   -9,    126.3,  22.6676,  35.1475,2,   -999.0,9,-999.0000,9,    128.8,2,     5.65,2,  -999.00,9,    10.27,2,     0.01,2,     0.73,2, -999.000,9, -999.000,9,  -999.00,9,   1963.6,3,   -999.0,9,-999.0000,9,   -999.0,  9,  -999.00,9,   -999.0,  -999.00,9,  -999.00,9,     0.01,2,     0.06,2,   -999.0,-999.0000, -999,9,  126,  22.6421,  24.1482,   -999.0,9
     RF05-06-2,  137E,RF-2469,  1,     15,02-18569,2,20050714,1748,  2.9980, 137.0085,   -9,    151.4,  21.4471,  35.1033,2,   -999.0,9,-999.0000,9,    134.7,2,     7.37,2,  -999.00,9,    10.35,2,     0.00,2,     0.74,2, -999.000,9, -999.000,9,  -999.00,9,   1973.8,3,   -999.0,9,-999.0000,9,   -999.0,  9,  -999.00,9,   -999.0,  -999.00,9,  -999.00,9,     0.00,2,     0.03,2,   -999.0,-999.0000, -999,9,  151,  21.4177,  24.4582,   -999.0,9
     RF05-06-2,  137E,RF-2469,  1,     14,02-18568,2,20050714,1747,  2.9980, 137.0085,   -9,    201.7,  17.2459,  34.8680,2,   -999.0,9,  34.8294,4,    144.1,2,    14.43,2,  -999.00,9,    14.31,2,     0.00,2,     1.00,2, -999.000,9, -999.000,9,  -999.00,9,   1947.3,3,   -999.0,9,-999.0000,9,   -999.0,  9,  -999.00,9,   -999.0,  -999.00,9,  -999.00,9,     0.00,2,     0.02,2,   -999.0,-999.0000, -999,9,  201,  17.2123,  25.3623,   -999.0,9
     RF05-06-2,  137E,RF-2469,  1,     13,02-18567,2,20050714,1746,  2.9980, 137.0085,   -9,    251.7,  13.2889,  34.6131,2,   -999.0,9,-999.0000,9,    131.7,2,    22.63,2,  -999.00,9,    19.67,2,     0.00,2,     1.37,2, -999.000,9, -999.000,9,  -999.00,9,   2191.9,3,   -999.0,9,-999.0000,9,   -999.0,  9,  -999.00,9,   -999.0,  -999.00,9,  -999.00,9,  -999.00,9,  -999.00,9,   -999.0,-999.0000, -999,9,  250,  13.2538,  26.0420,   -999.0,9
     RF05-06-2,  137E,RF-2469,  1,     12,02-18566,2,20050714,1744,  2.9980, 137.0085,   -9,    302.9,   9.6626,  34.4834,2,   -999.0,9,  34.4859,2,     95.8,2,    36.75,2,  -999.00,9,    28.47,2,     0.00,2,     2.01,2, -999.000,9, -999.000,9,  -999.00,9,   2236.3,3,   -999.0,9,-999.0000,9,   -999.0,  9,  -999.00,9,   -999.0,  -999.00,9,  -999.00,9,  -999.00,9,  -999.00,9,   -999.0,-999.0000, -999,9,  301,   9.6282,  26.6111,   -999.0,9
     RF05-06-2,  137E,RF-2469,  1,     11,02-18565,2,20050714,1742,  2.9980, 137.0085,   -9,    403.1,   8.4205,  34.5750,2,   -999.0,9,  34.5708,2,     75.7,2,    41.35,2,  -999.00,9,    33.10,2,     0.00,2,     2.33,2, -999.000,9, -999.000,9,  -999.00,9,   2061.6,4,   -999.0,9,-999.0000,9,   -999.0,  9,  -999.00,9,   -999.0,  -999.00,9,  -999.00,9,  -999.00,9,  -999.00,9,   -999.0,-999.0000, -999,9,  401,   8.3781,  26.8828,   -999.0,9
     RF05-06-2,  137E,RF-2469,  1,     10,02-18564,2,20050714,1740,  2.9980, 137.0085,   -9,    503.9,   7.6415,  34.5655,2,   -999.0,9,  34.5655,2,    104.7,2,    41.50,2,  -999.00,9,    32.25,2,     0.00,2,     2.25,2, -999.000,9, -999.000,9,  -999.00,9,   2238.8,3,   -999.0,9,-999.0000,9,   -999.0,  9,  -999.00,9,   -999.0,  -999.00,9,  -999.00,9,  -999.00,9,  -999.00,9,   -999.0,-999.0000, -999,9,  500,   7.5912,  26.9927,   -999.0,9
     RF05-06-2,  137E,RF-2469,  1,      9,02-18563,2,20050714,1737,  2.9980, 137.0085,   -9,    605.1,   6.6927,  34.5460,2,   -999.0,9,  34.5473,2,     84.3,2,    53.25,2,  -999.00,9,    35.60,2,     0.00,2,     2.52,2, -999.000,9, -999.000,9,  -999.00,9,   2264.7,3,   -999.0,9,-999.0000,9,   -999.0,  9,  -999.00,9,   -999.0,  -999.00,9,  -999.00,9,  -999.00,9,  -999.00,9,   -999.0,-999.0000, -999,9,  601,   6.6362,  27.1107,   -999.0,9
     RF05-06-2,  137E,RF-2469,  1,      8,02-18562,2,20050714,1735,  2.9980, 137.0085,   -9,    706.2,   6.0506,  34.5369,2,   -999.0,9,  34.5371,2,     92.9,2,    60.52,2,  -999.00,9,    36.03,2,     0.00,2,     2.55,2, -999.000,9, -999.000,9,  -999.00,9,   2267.6,3,   -999.0,9,-999.0000,9,   -999.0,  9,  -999.00,9,   -999.0,  -999.00,9,  -999.00,9,  -999.00,9,  -999.00,9,   -999.0,-999.0000, -999,9,  701,   5.9876,  27.1883,   -999.0,9
     RF05-06-2,  137E,RF-2469,  1,      7,02-18561,2,20050714,1732,  2.9980, 137.0085,   -9,    806.4,   5.5300,  34.5378,2,   -999.0,9,  34.5404,2,     93.1,2,    69.07,2,  -999.00,9,    36.72,2,     0.00,2,     2.61,2, -999.000,9, -999.000,9,  -999.00,9,   2280.0,3,   -999.0,9,-999.0000,9,   -999.0,  9,  -999.00,9,   -999.0,  -999.00,9,  -999.00,9,  -999.00,9,  -999.00,9,   -999.0,-999.0000, -999,9,  800,   5.4606,  27.2544,   -999.0,9
     RF05-06-2,  137E,RF-2469,  1,      6,02-18560,2,20050714,1730,  2.9980, 137.0085,   -9,    908.2,   5.0284,  34.5437,2,   -999.0,9,  34.5499,2,     87.7,2,    79.84,2,  -999.00,9,    37.80,2,     0.00,2,     2.70,2, -999.000,9, -999.000,9,  -999.00,9,   2294.5,3,   -999.0,9,-999.0000,9,   -999.0,  9,  -999.00,9,   -999.0,  -999.00,9,  -999.00,9,  -999.00,9,  -999.00,9,   -999.0,-999.0000, -999,9,  901,   4.9531,  27.3189,   -999.0,9
     RF05-06-2,  137E,RF-2469,  1,      5,02-18559,2,20050714,1728,  2.9980, 137.0085,   -9,   1008.3,   4.5106,  34.5549,2,   -999.0,9,  34.5547,2,     89.5,2,    89.97,2,  -999.00,9,    38.26,2,     0.00,2,     2.73,2, -999.000,9, -999.000,9,  -999.00,9,   2307.2,3,   -999.0,9,-999.0000,9,   -999.0,  9,  -999.00,9,   -999.0,  -999.00,9,  -999.00,9,  -999.00,9,  -999.00,9,   -999.0,-999.0000, -999,9, 1000,   4.4302,  27.3864,   -999.0,9
     RF05-06-2,  137E,RF-2469,  1,      4,02-18558,2,20050714,1723,  2.9980, 137.0085,   -9,   1261.5,   3.5459,  34.5832,2,   -999.0,9,  34.5825,2,     91.0,2,   109.73,2,  -999.00,9,    38.95,2,     0.00,2,     2.81,2, -999.000,9, -999.000,9,  -999.00,9,   2331.4,3,   -999.0,9,-999.0000,9,   -999.0,  9,  -999.00,9,   -999.0,  -999.00,9,  -999.00,9,  -999.00,9,  -999.00,9,   -999.0,-999.0000, -999,9, 1251,   3.4522,  27.5097,   -999.0,9
     RF05-06-2,  137E,RF-2469,  1,      3,02-18557,2,20050714,1718,  2.9980, 137.0085,   -9,   1514.7,   2.8529,  34.6078,2,   -999.0,9,  34.6075,2,    103.3,2,   123.05,2,  -999.00,9,    38.45,2,     0.00,2,     2.72,2, -999.000,9, -999.000,9,  -999.00,9,   2330.6,3,   -999.0,9,-999.0000,9,   -999.0,  9,  -999.00,9,   -999.0,  -999.00,9,  -999.00,9,  -999.00,9,  -999.00,9,   -999.0,-999.0000, -999,9, 1501,   2.7455,  27.5950,   -999.0,9
     RF05-06-2,  137E,RF-2469,  1,      2,02-18556,2,20050714,1713,  2.9980, 137.0085,   -9,   1768.0,   2.4560,  34.6260,2,   -999.0,9,  34.6256,2,    108.4,2,   131.89,2,  -999.00,9,    38.45,2,     0.00,2,     2.71,2, -999.000,9, -999.000,9,  -999.00,9,   2346.1,3,   -999.0,9,-999.0000,9,   -999.0,  9,  -999.00,9,   -999.0,  -999.00,9,  -999.00,9,  -999.00,9,  -999.00,9,   -999.0,-999.0000, -999,9, 1751,   2.3325,  27.6450,   -999.0,9
     RF05-06-2,  137E,RF-2469,  1,      1,02-18555,2,20050714,1708,  2.9980, 137.0085,   -9,   2021.2,   2.1569,  34.6411,2,   -999.0,9,  34.6403,2,    115.5,2,   136.87,2,  -999.00,9,    38.07,2,     0.00,2,     2.68,2, -999.000,9, -999.000,9,  -999.00,9,   2346.3,3,   -999.0,9,-999.0000,9,   -999.0,  9,  -999.00,9,   -999.0,  -999.00,9,  -999.00,9,  -999.00,9,  -999.00,9,   -999.0,-999.0000, -999,9, 2000,   2.0162,  27.6828,   -999.0,9