BOTTLE,20130510GEMDJMAYT
EXPOCODE,SECT_ID,STNNBR,CASTNO,SAMPNO,BTLNBR,BTLNBR_FLAG_W,DATE,TIME,LATITUDE,LONGITUDE,DEPTH,CTDPRS,CTDTMP,CTDSAL,CTDSAL_FLAG_W,CTDOXY,CTDOXY_FLAG_W,SALNTY,SALNTY_FLAG_W,OXYGEN,OXYGEN_FLAG_W,SILCAT,SILCAT_FLAG_W,NITRAT,NITRAT_FLAG_W,NO2+NO3,NO2+NO3_FLAG_W,NITRIT,NITRIT_FLAG_W,PHSPHT,PHSPHT_FLAG_W,CFC-11,CFC-11_FLAG_W,CFC-12,CFC-12_FLAG_W,DELC13,DELC13_FLAG_W,TCARBN,TCARBN_FLAG_W,ALKALI,ALKALI_FLAG_W,PH,PH_FLAG_W,PH_TMP,PH_SCALE,PH_NBS,PH_NBS_FLAG_W,C13ERR,TOTALP,TOTALP_FLAG_W,AMMONI,AMMONI_FLAG_W,CHLORA,CHLORA_FLAG_W,PPHYTN,PPHYTN_FLAG_W,REVPRS,REVTMP,DEPTH_,DEPTH_FLAG,CTDDEP,THETA,SIGTHT,DOC,DOC_FLAG_W
,,,,,,,GMT,GMT,,,METER,DBAR,ITS-90,PSS-78,,UMOL/KG,,PSS-78,,UMOL/KG,,UMOL/KG,,UMOL/KG,,UMOL/KG,,UMOL/KG,,UMOL/KG,,PMOL/KG,,PMOL/KG,,/MILLE,,UMOL/KG,,UMOL/KG,,25_DEG_C,,DEG_C,,,,/MILLE,UMOL/KG,,UMOL/KG,,UG/L,,UG/L,,DBAR,ITS-90,METERS,,METERS,DEG_C,,UMOL/L,
     RF05-06-2,  137E,RF-2491,  1,     -9,      -9,5,20050720,1703, 25.0040, 136.9987,   -9,      0.0,  29.2858,  34.7496,2,   -999.0,9,-999.0000,9,    195.1,2,     1.57,2,  -999.00,9,     0.07,2,     0.00,2,     0.04,2, -999.000,9, -999.000,9,  -999.00,9,   1948.0,2,   -999.0,9,   8.0983,2,     25.0, TS,  -999.00,9,   -999.0,  -999.00,9,  -999.00,9,     0.03,2,     0.01,2,   -999.0,-999.0000, -999,9,    0,  29.2856,  21.7804,   -999.0,9
     RF05-06-2,  137E,RF-2491,  1,     21,02-18575,2,20050720,1719, 25.0040, 136.9987,   -9,      9.9,  29.3075,  34.7481,2,   -999.0,9,  34.7377,4,    195.9,2,     1.57,2,  -999.00,9,     0.00,2,     0.00,2,     0.01,2, -999.000,9, -999.000,9,  -999.00,9,   1949.0,2,   -999.0,9,   8.0984,2,     25.0, TS,  -999.00,9,   -999.0,  -999.00,9,  -999.00,9,     0.04,2,     0.01,2,   -999.0,-999.0000, -999,9,   10,  29.3051,  21.7727,   -999.0,9
     RF05-06-2,  137E,RF-2491,  1,     20,02-18574,2,20050720,1718, 25.0040, 136.9987,   -9,     26.5,  28.1983,  34.7269,2,   -999.0,9,-999.0000,9,    208.7,2,     1.52,2,  -999.00,9,     0.00,2,     0.00,2,     0.01,2, -999.000,9, -999.000,9,  -999.00,9,   1948.2,2,   -999.0,9,   8.0989,2,     25.0, TS,  -999.00,9,   -999.0,  -999.00,9,  -999.00,9,     0.05,2,     0.01,2,   -999.0,-999.0000, -999,9,   26,  28.1920,  22.1264,   -999.0,9
     RF05-06-2,  137E,RF-2491,  1,     19,02-18573,2,20050720,1717, 25.0040, 136.9987,   -9,     51.5,  25.2619,  34.8134,2,   -999.0,9,-999.0000,9,    223.7,2,     1.66,2,  -999.00,9,     0.00,2,     0.00,2,     0.00,2, -999.000,9, -999.000,9,  -999.00,9,   1965.4,2,   -999.0,9,   8.0844,2,     25.0, TS,  -999.00,9,   -999.0,  -999.00,9,  -999.00,9,     0.10,2,     0.03,2,   -999.0,-999.0000, -999,9,   51,  25.2507,  23.1239,   -999.0,9
     RF05-06-2,  137E,RF-2491,  1,     18,02-18572,2,20050720,1716, 25.0040, 136.9987,   -9,     75.4,  21.6204,  34.9898,2,   -999.0,9,-999.0000,9,    226.3,2,     1.92,2,  -999.00,9,     0.01,2,     0.00,2,     0.01,2, -999.000,9, -999.000,9,  -999.00,9,   1989.1,2,   -999.0,9,   8.0612,2,     25.0, TS,  -999.00,9,   -999.0,  -999.00,9,  -999.00,9,     0.16,2,     0.09,2,   -999.0,-999.0000, -999,9,   75,  21.6057,  24.3199,   -999.0,9
     RF05-06-2,  137E,RF-2491,  1,     17,02-18571,2,20050720,1715, 25.0040, 136.9987,   -9,    101.8,  20.1919,  34.9476,2,   -999.0,9,  34.9461,2,    204.7,2,     2.40,2,  -999.00,9,     0.72,2,     0.11,2,     0.07,2, -999.000,9, -999.000,9,  -999.00,9,   2006.7,2,   -999.0,9,   8.0222,2,     25.0, TS,  -999.00,9,   -999.0,  -999.00,9,  -999.00,9,     0.19,2,     0.35,2,   -999.0,-999.0000, -999,9,  101,  20.1730,  24.6761,   -999.0,9
     RF05-06-2,  137E,RF-2491,  1,     16,02-18570,2,20050720,1714, 25.0040, 136.9987,   -9,    125.9,  19.6750,  34.9333,2,   -999.0,9,-999.0000,9,    210.4,2,     2.63,2,  -999.00,9,     1.93,2,     0.04,2,     0.13,2, -999.000,9, -999.000,9,  -999.00,9,   2011.7,2,   -999.0,9,   8.0122,2,     25.0, TS,  -999.00,9,   -999.0,  -999.00,9,  -999.00,9,     0.10,2,     0.23,2,   -999.0,-999.0000, -999,9,  125,  19.6520,  24.8021,   -999.0,9
     RF05-06-2,  137E,RF-2491,  1,     15,02-18569,2,20050720,1713, 25.0040, 136.9987,   -9,    152.0,  19.2555,  34.9096,2,   -999.0,9,-999.0000,9,    203.2,2,     2.98,2,  -999.00,9,     2.66,2,     0.02,2,     0.17,2, -999.000,9, -999.000,9,  -999.00,9,   2022.0,2,   -999.0,9,   8.0016,2,     25.0, TS,  -999.00,9,   -999.0,  -999.00,9,  -999.00,9,     0.07,2,     0.15,2,   -999.0,-999.0000, -999,9,  151,  19.2282,  24.8937,   -999.0,9
     RF05-06-2,  137E,RF-2491,  1,     14,02-18568,2,20050720,1711, 25.0040, 136.9987,   -9,    201.7,  18.1618,  34.8403,2,   -999.0,9,  34.8360,2,    202.6,2,     3.70,2,  -999.00,9,     4.00,2,     0.00,2,     0.24,2, -999.000,9, -999.000,9,  -999.00,9,   2027.1,2,   -999.0,9,   7.9786,2,     25.0, TS,  -999.00,9,   -999.0,  -999.00,9,  -999.00,9,     0.02,2,     0.04,2,   -999.0,-999.0000, -999,9,  200,  18.1270,  25.1184,   -999.0,9
     RF05-06-2,  137E,RF-2491,  1,     13,02-18567,2,20050720,1710, 25.0040, 136.9987,   -9,    252.6,  17.1457,  34.7618,2,   -999.0,9,-999.0000,9,    202.6,2,     4.94,2,  -999.00,9,     5.54,2,     0.00,2,     0.34,2, -999.000,9, -999.000,9,  -999.00,9,   2034.6,2,   -999.0,9,   7.9565,2,     25.0, TS,  -999.00,9,   -999.0,  -999.00,9,  -999.00,9,  -999.00,9,  -999.00,9,   -999.0,-999.0000, -999,9,  251,  17.1038,  25.3067,   -999.0,9
     RF05-06-2,  137E,RF-2491,  1,     12,02-18566,2,20050720,1708, 25.0040, 136.9987,   -9,    302.3,  16.4520,  34.7206,2,   -999.0,9,  34.7206,2,    206.4,3,     5.78,2,  -999.00,9,     6.18,2,     0.00,2,     0.44,2, -999.000,9, -999.000,9,  -999.00,9,   2031.3,2,   -999.0,9,   7.9507,2,     25.0, TS,  -999.00,9,   -999.0,  -999.00,9,  -999.00,9,  -999.00,9,  -999.00,9,   -999.0,-999.0000, -999,9,  300,  16.4032,  25.4398,   -999.0,9
     RF05-06-2,  137E,RF-2491,  1,     11,02-18565,2,20050720,1706, 25.0040, 136.9987,   -9,    403.2,  14.2952,  34.5397,2,   -999.0,9,  34.5387,2,    195.0,2,    11.55,2,  -999.00,9,    10.66,2,     0.00,2,     0.75,2, -999.000,9, -999.000,9,  -999.00,9,   2068.4,2,   -999.0,9,   7.8787,2,     25.0, TS,  -999.00,9,   -999.0,  -999.00,9,  -999.00,9,  -999.00,9,  -999.00,9,   -999.0,-999.0000, -999,9,  400,  14.2359,  25.7816,   -999.0,9
     RF05-06-2,  137E,RF-2491,  1,     10,02-18564,2,20050720,1703, 25.0040, 136.9987,   -9,    505.1,  11.2810,  34.3130,2,   -999.0,9,  34.3149,2,    178.9,2,    23.06,2,  -999.00,9,    17.37,2,     0.00,2,     1.18,2, -999.000,9, -999.000,9,  -999.00,9,   2115.7,2,   -999.0,9,   7.7712,2,     25.0, TS,  -999.00,9,   -999.0,  -999.00,9,  -999.00,9,  -999.00,9,  -999.00,9,   -999.0,-999.0000, -999,9,  501,  11.2173,  26.2011,   -999.0,9
     RF05-06-2,  137E,RF-2491,  1,      9,02-18563,2,20050720,1701, 25.0040, 136.9987,   -9,    605.6,   8.8929,  34.1810,2,   -999.0,9,  34.1850,2,    157.8,2,    37.92,2,  -999.00,9,    23.17,2,     0.00,2,     1.61,2, -999.000,9, -999.000,9,  -999.00,9,   2162.2,2,   -999.0,9,   7.6825,2,     25.0, TS,  -999.00,9,   -999.0,  -999.00,9,  -999.00,9,  -999.00,9,  -999.00,9,   -999.0,-999.0000, -999,9,  601,   8.8268,  26.5042,   -999.0,9
     RF05-06-2,  137E,RF-2491,  1,      8,02-18562,2,20050720,1658, 25.0040, 136.9987,   -9,    706.3,   6.7470,  34.1335,2,   -999.0,9,  34.1313,2,    122.1,2,    60.00,2,  -999.00,9,    30.31,2,     0.00,2,     2.16,2, -999.000,9, -999.000,9,  -999.00,9,   2222.2,2,   -999.0,9,   7.5633,2,     25.0, TS,  -999.00,9,   -999.0,  -999.00,9,  -999.00,9,  -999.00,9,  -999.00,9,   -999.0,-999.0000, -999,9,  701,   6.6807,  26.7794,   -999.0,9
     RF05-06-2,  137E,RF-2491,  1,      7,02-18561,2,20050720,1656, 25.0040, 136.9987,   -9,    807.8,   5.4242,  34.1650,2,   -999.0,9,  34.1653,2,     85.9,2,    82.31,2,  -999.00,9,    35.41,2,     0.00,2,     2.54,2, -999.000,9, -999.000,9,  -999.00,9,   2271.6,2,   -999.0,9,   7.4729,2,     25.0, TS,  -999.00,9,   -999.0,  -999.00,9,  -999.00,9,  -999.00,9,  -999.00,9,   -999.0,-999.0000, -999,9,  801,   5.3559,  26.9717,   -999.0,9
     RF05-06-2,  137E,RF-2491,  1,      6,02-18560,2,20050720,1653, 25.0040, 136.9987,   -9,    908.4,   4.6344,  34.2314,2,   -999.0,9,  34.2311,2,     66.3,2,    98.27,2,  -999.00,9,    38.21,2,     0.00,2,     2.75,2, -999.000,9, -999.000,9,  -999.00,9,   2305.5,2,   -999.0,9,   7.4179,2,     25.0, TS,  -999.00,9,   -999.0,  -999.00,9,  -999.00,9,  -999.00,9,  -999.00,9,   -999.0,-999.0000, -999,9,  901,   4.5623,  27.1150,   -999.0,9
     RF05-06-2,  137E,RF-2491,  1,      5,02-18559,2,20050720,1651, 25.0040, 136.9987,   -9,   1009.1,   4.0704,  34.3148,2,   -999.0,9,  34.3123,2,     58.6,2,   110.72,2,  -999.00,9,    39.66,2,     0.00,2,     2.85,2, -999.000,9, -999.000,9,  -999.00,9,   2322.1,2,   -999.0,9,   7.4262,2,     25.0, TS,  -999.00,9,   -999.0,  -999.00,9,  -999.00,9,  -999.00,9,  -999.00,9,   -999.0,-999.0000, -999,9, 1000,   3.9938,  27.2417,   -999.0,9
     RF05-06-2,  137E,RF-2491,  1,      4,02-18558,2,20050720,1646, 25.0040, 136.9987,   -9,   1262.3,   3.1179,  34.4416,2,   -999.0,9,  34.4411,2,     59.2,2,   131.62,2,  -999.00,9,    40.74,2,     0.00,2,     2.93,2, -999.000,9, -999.000,9,  -999.00,9,   2346.5,2,   -999.0,9,   7.4260,2,     25.0, TS,  -999.00,9,   -999.0,  -999.00,9,  -999.00,9,  -999.00,9,  -999.00,9,   -999.0,-999.0000, -999,9, 1250,   3.0286,  27.4367,   -999.0,9
     RF05-06-2,  137E,RF-2491,  1,      3,02-18557,2,20050720,1642, 25.0040, 136.9987,   -9,   1516.4,   2.5292,  34.5272,2,   -999.0,9,  34.5255,2,     75.7,2,   140.76,2,  -999.00,9,    40.15,2,     0.00,2,     2.85,2, -999.000,9, -999.000,9,  -999.00,9,   2354.9,2,   -999.0,9,   7.4635,2,     25.0, TS,  -999.00,9,   -999.0,  -999.00,9,  -999.00,9,  -999.00,9,  -999.00,9,   -999.0,-999.0000, -999,9, 1501,   2.4256,  27.5581,   -999.0,9
     RF05-06-2,  137E,RF-2491,  1,      2,02-18556,2,20050720,1634, 25.0040, 136.9987,   -9,   1769.9,   2.2155,  34.5798,2,   -999.0,9,  34.5792,2,    100.7,2,   141.63,2,  -999.00,9,    39.01,2,     0.00,2,     2.77,2, -999.000,9, -999.000,9,  -999.00,9,   2347.9,2,   -999.0,9,   7.5014,2,     25.0, TS,  -999.00,9,   -999.0,  -999.00,9,  -999.00,9,  -999.00,9,  -999.00,9,   -999.0,-999.0000, -999,9, 1751,   2.0952,  27.6275,   -999.0,9
     RF05-06-2,  137E,RF-2491,  1,      1,02-18555,2,20050720,1629, 25.0040, 136.9987,   -9,   2023.4,   1.9767,  34.6153,2,   -999.0,9,  34.6142,2,    113.4,2,   142.11,2,  -999.00,9,    38.17,2,     0.00,2,     2.71,2, -999.000,9, -999.000,9,  -999.00,9,   2338.2,2,   -999.0,9,   7.5302,6,     25.0, TS,  -999.00,9,   -999.0,  -999.00,9,  -999.00,9,  -999.00,9,  -999.00,9,   -999.0,-999.0000, -999,9, 2001,   1.8387,  27.6760,   -999.0,9