BOTTLE,20130510GEMDJMAYT
EXPOCODE,SECT_ID,STNNBR,CASTNO,SAMPNO,BTLNBR,BTLNBR_FLAG_W,DATE,TIME,LATITUDE,LONGITUDE,DEPTH,CTDPRS,CTDTMP,CTDSAL,CTDSAL_FLAG_W,CTDOXY,CTDOXY_FLAG_W,SALNTY,SALNTY_FLAG_W,OXYGEN,OXYGEN_FLAG_W,SILCAT,SILCAT_FLAG_W,NITRAT,NITRAT_FLAG_W,NO2+NO3,NO2+NO3_FLAG_W,NITRIT,NITRIT_FLAG_W,PHSPHT,PHSPHT_FLAG_W,CFC-11,CFC-11_FLAG_W,CFC-12,CFC-12_FLAG_W,DELC13,DELC13_FLAG_W,TCARBN,TCARBN_FLAG_W,ALKALI,ALKALI_FLAG_W,PH,PH_FLAG_W,PH_TMP,PH_SCALE,PH_NBS,PH_NBS_FLAG_W,C13ERR,TOTALP,TOTALP_FLAG_W,AMMONI,AMMONI_FLAG_W,CHLORA,CHLORA_FLAG_W,PPHYTN,PPHYTN_FLAG_W,REVPRS,REVTMP,DEPTH_,DEPTH_FLAG,CTDDEP,THETA,SIGTHT,DOC,DOC_FLAG_W
,,,,,,,GMT,GMT,,,METER,DBAR,ITS-90,PSS-78,,UMOL/KG,,PSS-78,,UMOL/KG,,UMOL/KG,,UMOL/KG,,UMOL/KG,,UMOL/KG,,UMOL/KG,,PMOL/KG,,PMOL/KG,,/MILLE,,UMOL/KG,,UMOL/KG,,25_DEG_C,,DEG_C,,,,/MILLE,UMOL/KG,,UMOL/KG,,UG/L,,UG/L,,DBAR,ITS-90,METERS,,METERS,DEG_C,,UMOL/L,
     RF05-06-2,  137E,RF-2496,  1,     -9,      -9,5,20050721,2321, 29.9980, 137.0015,   -9,      0.0,  28.3097,  34.2536,2,   -999.0,9,-999.0000,9,    199.0,2,     1.82,2,  -999.00,9,     0.01,2,     0.00,2,     0.02,2, -999.000,9, -999.000,9,  -999.00,9,   1930.2,2,   -999.0,9,   8.0996,2,     25.0, TS,  -999.00,9,   -999.0,  -999.00,9,  -999.00,9,     0.06,2,     0.02,2,   -999.0,-999.0000, -999,9,    0,  28.3095,  21.7322,   -999.0,9
     RF05-06-2,  137E,RF-2496,  1,     21,02-18575,2,20050721,2337, 29.9980, 137.0015,   -9,     10.3,  28.2203,  34.2436,2,   -999.0,9,  34.2331,4,    204.2,2,     1.78,2,  -999.00,9,     0.01,2,     0.00,2,     0.02,2, -999.000,9, -999.000,9,  -999.00,9,   1924.4,2,   -999.0,9,   8.0964,2,     25.0, TS,  -999.00,9,   -999.0,  -999.00,9,  -999.00,9,     0.07,2,     0.01,2,   -999.0,-999.0000, -999,9,   10,  28.2179,  21.7548,   -999.0,9
     RF05-06-2,  137E,RF-2496,  1,     20,02-18574,2,20050721,2336, 29.9980, 137.0015,   -9,     25.2,  26.7909,  34.1719,2,   -999.0,9,-999.0000,9,    209.6,2,     1.68,2,  -999.00,9,     0.00,2,     0.00,2,     0.01,2, -999.000,9, -999.000,9,  -999.00,9,   1931.0,2,   -999.0,9,   8.0881,2,     25.0, TS,  -999.00,9,   -999.0,  -999.00,9,  -999.00,9,     0.05,2,     0.01,2,   -999.0,-999.0000, -999,9,   25,  26.7852,  22.1624,   -999.0,9
     RF05-06-2,  137E,RF-2496,  1,     19,02-18573,2,20050721,2334, 29.9980, 137.0015,   -9,     50.3,  24.3924,  34.3945,2,   -999.0,9,-999.0000,9,    218.3,2,     1.78,2,  -999.00,9,     0.00,2,     0.00,2,     0.01,2, -999.000,9, -999.000,9,  -999.00,9,   1939.7,2,   -999.0,9,   8.0901,2,     25.0, TS,  -999.00,9,   -999.0,  -999.00,9,  -999.00,9,     0.10,2,     0.02,2,   -999.0,-999.0000, -999,9,   50,  24.3817,  23.0697,   -999.0,9
     RF05-06-2,  137E,RF-2496,  1,     18,02-18572,2,20050721,2333, 29.9980, 137.0015,   -9,     74.6,  22.9074,  34.6285,2,   -999.0,9,-999.0000,9,    222.9,2,     1.78,2,  -999.00,9,     0.00,2,     0.00,2,     0.01,2, -999.000,9, -999.000,9,  -999.00,9,   1959.3,2,   -999.0,9,   8.0714,2,     25.0, TS,  -999.00,9,   -999.0,  -999.00,9,  -999.00,9,     0.17,2,     0.06,2,   -999.0,-999.0000, -999,9,   74,  22.8922,  23.6828,   -999.0,9
     RF05-06-2,  137E,RF-2496,  1,     17,02-18571,2,20050721,2332, 29.9980, 137.0015,   -9,    100.4,  21.4064,  34.8505,2,   -999.0,9,  34.8547,2,    224.2,2,     1.93,2,  -999.00,9,     0.10,2,     0.02,2,     0.03,2, -999.000,9, -999.000,9,  -999.00,9,   1981.3,2,   -999.0,9,   8.0562,2,     25.0, TS,  -999.00,9,   -999.0,  -999.00,9,  -999.00,9,     0.29,2,     0.27,2,   -999.0,-999.0000, -999,9,  100,  21.3870,  24.2743,   -999.0,9
     RF05-06-2,  137E,RF-2496,  1,     16,02-18570,2,20050721,2331, 29.9980, 137.0015,   -9,    124.4,  20.2302,  34.8709,2,   -999.0,9,-999.0000,9,    211.8,2,     2.43,2,  -999.00,9,     1.69,2,     0.02,2,     0.12,2, -999.000,9, -999.000,9,  -999.00,9,   1997.2,2,   -999.0,9,   8.0317,2,     25.0, TS,  -999.00,9,   -999.0,  -999.00,9,  -999.00,9,     0.04,2,     0.04,2,   -999.0,-999.0000, -999,9,  124,  20.2071,  24.6086,   -999.0,9
     RF05-06-2,  137E,RF-2496,  1,     15,02-18569,2,20050721,2330, 29.9980, 137.0015,   -9,    151.4,  19.8874,  34.8791,2,   -999.0,9,-999.0000,9,    210.4,2,     2.48,2,  -999.00,9,     1.75,2,     0.01,2,     0.12,2, -999.000,9, -999.000,9,  -999.00,9,   2001.8,2,   -999.0,9,   8.0284,2,     25.0, TS,  -999.00,9,   -999.0,  -999.00,9,  -999.00,9,     0.01,2,     0.02,2,   -999.0,-999.0000, -999,9,  150,  19.8596,  24.7065,   -999.0,9
     RF05-06-2,  137E,RF-2496,  1,     14,02-18568,2,20050721,2328, 29.9980, 137.0015,   -9,    202.0,  19.4637,  34.8880,2,   -999.0,9,  34.8867,2,    215.0,2,     2.48,2,  -999.00,9,     1.80,2,     0.01,2,     0.12,2, -999.000,9, -999.000,9,  -999.00,9,   2002.5,2,   -999.0,9,   8.0274,2,     25.0, TS,  -999.00,9,   -999.0,  -999.00,9,  -999.00,9,     0.01,2,     0.01,2,   -999.0,-999.0000, -999,9,  201,  19.4271,  24.8259,   -999.0,9
     RF05-06-2,  137E,RF-2496,  1,     13,02-18567,2,20050721,2326, 29.9980, 137.0015,   -9,    252.2,  19.2920,  34.8820,2,   -999.0,9,-999.0000,9,    211.2,2,     2.68,2,  -999.00,9,     2.15,2,     0.01,2,     0.14,2, -999.000,9, -999.000,9,  -999.00,9,   2004.5,2,   -999.0,9,   8.0225,2,     25.0, TS,  -999.00,9,   -999.0,  -999.00,9,  -999.00,9,  -999.00,9,  -999.00,9,   -999.0,-999.0000, -999,9,  250,  19.2465,  24.8678,   -999.0,9
     RF05-06-2,  137E,RF-2496,  1,     12,02-18566,2,20050721,2325, 29.9980, 137.0015,   -9,    303.6,  18.4357,  34.8322,2,   -999.0,9,  34.8313,2,    197.7,2,     4.05,2,  -999.00,9,     4.27,2,     0.00,2,     0.26,2, -999.000,9, -999.000,9,  -999.00,9,   2023.0,2,   -999.0,9,   7.9844,2,     25.0, TS,  -999.00,9,   -999.0,  -999.00,9,  -999.00,9,  -999.00,9,  -999.00,9,   -999.0,-999.0000, -999,9,  301,  18.3826,  25.0486,   -999.0,9
     RF05-06-2,  137E,RF-2496,  1,     11,02-18565,2,20050721,2322, 29.9980, 137.0015,   -9,    404.0,  16.9100,  34.7446,2,   -999.0,9,  34.7403,2,    204.0,3,     5.61,2,  -999.00,9,     6.00,2,     0.00,2,     0.37,2, -999.000,9, -999.000,9,  -999.00,9,   2034.2,2,   -999.0,9,   7.9549,2,     25.0, TS,  -999.00,9,   -999.0,  -999.00,9,  -999.00,9,  -999.00,9,  -999.00,9,   -999.0,-999.0000, -999,9,  401,  16.8433,  25.3553,   -999.0,9
     RF05-06-2,  137E,RF-2496,  1,     10,02-18564,2,20050721,2320, 29.9980, 137.0015,   -9,    504.6,  15.5646,  34.6347,2,   -999.0,9,  34.6264,2,    188.6,2,     9.78,2,  -999.00,9,     9.47,2,     0.00,2,     0.60,2, -999.000,9, -999.000,9,  -999.00,9,   2062.5,2,   -999.0,9,   7.9006,2,     25.0, TS,  -999.00,9,   -999.0,  -999.00,9,  -999.00,9,  -999.00,9,  -999.00,9,   -999.0,-999.0000, -999,9,  501,  15.4858,  25.5827,   -999.0,9
     RF05-06-2,  137E,RF-2496,  1,      9,02-18563,2,20050721,2318, 29.9980, 137.0015,   -9,    604.5,  12.6709,  34.4381,2,   -999.0,9,  34.4442,2,    174.4,2,    19.46,2,  -999.00,9,    15.15,2,     0.00,2,     1.01,2, -999.000,9, -999.000,9,  -999.00,9,   2104.5,2,   -999.0,9,   7.8077,2,     25.0, TS,  -999.00,9,   -999.0,  -999.00,9,  -999.00,9,  -999.00,9,  -999.00,9,   -999.0,-999.0000, -999,9,  600,  12.5883,  26.0391,   -999.0,9
     RF05-06-2,  137E,RF-2496,  1,      8,02-18562,2,20050721,2315, 29.9980, 137.0015,   -9,    705.2,   9.9901,  34.2943,2,   -999.0,9,  34.2942,2,    152.5,2,    36.01,2,  -999.00,9,    21.87,2,     0.00,2,     1.51,2, -999.000,9, -999.000,9,  -999.00,9,   2153.8,3,   -999.0,9,   7.7037,2,     25.0, TS,  -999.00,9,   -999.0,  -999.00,9,  -999.00,9,  -999.00,9,  -999.00,9,   -999.0,-999.0000, -999,9,  699,   9.9069,  26.4166,   -999.0,9
     RF05-06-2,  137E,RF-2496,  1,      7,02-18561,2,20050721,2313, 29.9980, 137.0015,   -9,    806.4,   7.7135,  34.2197,2,   -999.0,9,  34.2120,2,    124.3,2,    55.07,2,  -999.00,9,    28.36,2,     0.00,2,     2.01,2, -999.000,9, -999.000,9,  -999.00,9,   2204.9,3,   -999.0,9,   7.5931,2,     25.0, TS,  -999.00,9,   -999.0,  -999.00,9,  -999.00,9,  -999.00,9,  -999.00,9,   -999.0,-999.0000, -999,9,  799,   7.6314,  26.7150,   -999.0,9
     RF05-06-2,  137E,RF-2496,  1,      6,02-18560,2,20050721,2311, 29.9980, 137.0015,   -9,    907.2,   6.0002,  34.2663,2,   -999.0,9,  34.2650,2,     90.8,2,    80.92,2,  -999.00,9,    34.05,2,     0.00,2,     2.44,2, -999.000,9, -999.000,9,  -999.00,9,   2264.3,3,   -999.0,9,   7.5075,2,     25.0, TS,  -999.00,9,   -999.0,  -999.00,9,  -999.00,9,  -999.00,9,  -999.00,9,   -999.0,-999.0000, -999,9,  899,   5.9187,  26.9831,   -999.0,9
     RF05-06-2,  137E,RF-2496,  1,      5,02-18559,2,20050721,2308, 29.9980, 137.0015,   -9,   1009.8,   5.0165,  34.3093,2,   -999.0,9,  34.3093,2,     75.5,2,    96.89,2,  -999.00,9,    36.74,2,     0.00,2,     2.65,2, -999.000,9, -999.000,9,  -999.00,9,   2294.0,3,   -999.0,9,   7.4629,2,     25.0, TS,  -999.00,9,   -999.0,  -999.00,9,  -999.00,9,  -999.00,9,  -999.00,9,   -999.0,-999.0000, -999,9, 1000,   4.9325,  27.1354,   -999.0,9
     RF05-06-2,  137E,RF-2496,  1,      4,02-18558,2,20050721,2303, 29.9980, 137.0015,   -9,   1262.8,   3.6285,  34.4157,2,   -999.0,9,  34.4170,2,     66.1,2,   121.22,2,  -999.00,9,    39.45,2,     0.00,2,     2.84,2, -999.000,9, -999.000,9,  -999.00,9,   2339.4,3,   -999.0,9,   7.4494,2,     25.0, TS,  -999.00,9,   -999.0,  -999.00,9,  -999.00,9,  -999.00,9,  -999.00,9,   -999.0,-999.0000, -999,9, 1250,   3.5342,  27.3682,   -999.0,9
     RF05-06-2,  137E,RF-2496,  1,      3,02-18557,2,20050721,2258, 29.9980, 137.0015,   -9,   1515.3,   2.8879,  34.4945,2,   -999.0,9,  34.4934,2,     73.8,2,   134.08,2,  -999.00,9,    39.72,2,     0.00,2,     2.84,2, -999.000,9, -999.000,9,  -999.00,9,   2348.7,3,   -999.0,9,   7.4432,2,     25.0, TS,  -999.00,9,   -999.0,  -999.00,9,  -999.00,9,  -999.00,9,  -999.00,9,   -999.0,-999.0000, -999,9, 1500,   2.7803,  27.5013,   -999.0,9
     RF05-06-2,  137E,RF-2496,  1,      2,02-18556,2,20050721,2254, 29.9980, 137.0015,   -9,   1769.7,   2.4577,  34.5465,2,   -999.0,9,  34.5463,2,     86.2,2,   139.72,2,  -999.00,9,    39.26,2,     0.00,2,     2.80,2, -999.000,9, -999.000,9,  -999.00,9,   2349.7,2,   -999.0,9,   7.4815,2,     25.0, TS,  -999.00,9,   -999.0,  -999.00,9,  -999.00,9,  -999.00,9,  -999.00,9,   -999.0,-999.0000, -999,9, 1750,   2.3342,  27.5812,   -999.0,9
     RF05-06-2,  137E,RF-2496,  1,      1,02-18555,2,20050721,2249, 29.9980, 137.0015,   -9,   2023.4,   2.1653,  34.5842,2,   -999.0,9,  34.5833,2,     99.3,2,   142.43,2,  -999.00,9,    38.78,2,     0.00,2,     2.75,2, -999.000,9, -999.000,9,  -999.00,9,   2348.8,2,   -999.0,9,   7.5058,6,     25.0, TS,  -999.00,9,   -999.0,  -999.00,9,  -999.00,9,  -999.00,9,  -999.00,9,   -999.0,-999.0000, -999,9, 2000,   2.0245,  27.6366,   -999.0,9