BOTTLE,20130510GEMDJMAYT
EXPOCODE,SECT_ID,STNNBR,CASTNO,SAMPNO,BTLNBR,BTLNBR_FLAG_W,DATE,TIME,LATITUDE,LONGITUDE,DEPTH,CTDPRS,CTDTMP,CTDSAL,CTDSAL_FLAG_W,CTDOXY,CTDOXY_FLAG_W,SALNTY,SALNTY_FLAG_W,OXYGEN,OXYGEN_FLAG_W,SILCAT,SILCAT_FLAG_W,NITRAT,NITRAT_FLAG_W,NO2+NO3,NO2+NO3_FLAG_W,NITRIT,NITRIT_FLAG_W,PHSPHT,PHSPHT_FLAG_W,CFC-11,CFC-11_FLAG_W,CFC-12,CFC-12_FLAG_W,DELC13,DELC13_FLAG_W,TCARBN,TCARBN_FLAG_W,ALKALI,ALKALI_FLAG_W,PH,PH_FLAG_W,PH_TMP,PH_SCALE,PH_NBS,PH_NBS_FLAG_W,C13ERR,TOTALP,TOTALP_FLAG_W,AMMONI,AMMONI_FLAG_W,CHLORA,CHLORA_FLAG_W,PPHYTN,PPHYTN_FLAG_W,REVPRS,REVTMP,DEPTH_,DEPTH_FLAG,CTDDEP,THETA,SIGTHT,DOC,DOC_FLAG_W
,,,,,,,GMT,GMT,,,METER,DBAR,ITS-90,PSS-78,,UMOL/KG,,PSS-78,,UMOL/KG,,UMOL/KG,,UMOL/KG,,UMOL/KG,,UMOL/KG,,UMOL/KG,,PMOL/KG,,PMOL/KG,,/MILLE,,UMOL/KG,,UMOL/KG,,25_DEG_C,,DEG_C,,,,/MILLE,UMOL/KG,,UMOL/KG,,UG/L,,UG/L,,DBAR,ITS-90,METERS,,METERS,DEG_C,,UMOL/L,
     RF05-06-2,  142E,RF-2464,  1,     -9,      -9,5,20050713,0645,  2.0127, 142.0120,   -9,      0.0,  29.8359,  33.8800,2,   -999.0,9,-999.0000,9,    198.0,2,     0.86,2,  -999.00,9,     0.00,2,     0.00,2,     0.05,2, -999.000,9, -999.000,9,  -999.00,9,   1889.2,3,   -999.0,9,-999.0000,9,   -999.0,  9,  -999.00,9,   -999.0,  -999.00,9,  -999.00,9,     0.06,2,     0.01,2,   -999.0,-999.0000, -999,9,    0,  29.8357,  20.9426,   -999.0,9
     RF05-06-2,  142E,RF-2464,  1,     21,02-18575,2,20050713,0712,  2.0127, 142.0120,   -9,     10.0,  29.6921,  33.8918,2,   -999.0,9,  33.9036,4,    199.6,2,     0.84,2,  -999.00,9,     0.00,2,     0.00,2,     0.04,2, -999.000,9, -999.000,9,  -999.00,9,   -999.0,9,   -999.0,9,-999.0000,9,   -999.0,  9,  -999.00,9,   -999.0,  -999.00,9,  -999.00,9,     0.06,2,     0.02,2,   -999.0,-999.0000, -999,9,   10,  29.6897,  21.0009,   -999.0,9
     RF05-06-2,  142E,RF-2464,  1,     20,02-18574,2,20050713,0711,  2.0127, 142.0120,   -9,     25.6,  29.7070,  33.9628,2,   -999.0,9,-999.0000,9,    196.9,2,     0.81,2,  -999.00,9,     0.00,2,     0.00,2,     0.04,2, -999.000,9, -999.000,9,  -999.00,9,   -999.0,9,   -999.0,9,-999.0000,9,   -999.0,  9,  -999.00,9,   -999.0,  -999.00,9,  -999.00,9,     0.06,2,     0.02,2,   -999.0,-999.0000, -999,9,   25,  29.7007,  21.0504,   -999.0,9
     RF05-06-2,  142E,RF-2464,  1,     19,02-18573,2,20050713,0710,  2.0127, 142.0120,   -9,     50.7,  29.8425,  34.2421,2,   -999.0,9,-999.0000,9,    200.0,2,     0.74,2,  -999.00,9,     0.00,2,     0.00,2,     0.08,2, -999.000,9, -999.000,9,  -999.00,9,   -999.0,9,   -999.0,9,-999.0000,9,   -999.0,  9,  -999.00,9,   -999.0,  -999.00,9,  -999.00,9,     0.14,2,     0.07,2,   -999.0,-999.0000, -999,9,   50,  29.8300,  21.2159,   -999.0,9
     RF05-06-2,  142E,RF-2464,  1,     18,02-18572,2,20050713,0709,  2.0127, 142.0120,   -9,     75.8,  28.1493,  34.8976,2,   -999.0,9,-999.0000,9,    167.5,2,     1.17,2,  -999.00,9,     2.66,2,     0.47,2,     0.30,2, -999.000,9, -999.000,9,  -999.00,9,   -999.0,9,   -999.0,9,-999.0000,9,   -999.0,  9,  -999.00,9,   -999.0,  -999.00,9,  -999.00,9,     0.32,2,     0.36,2,   -999.0,-999.0000, -999,9,   75,  28.1314,  22.2746,   -999.0,9
     RF05-06-2,  142E,RF-2464,  1,     17,02-18571,2,20050713,0708,  2.0127, 142.0120,   -9,    101.0,  26.7666,  34.9978,2,   -999.0,9,  35.0123,4,    141.7,2,     2.70,2,  -999.00,9,     7.15,2,     0.11,2,     0.54,2, -999.000,9, -999.000,9,  -999.00,9,   -999.0,9,   -999.0,9,-999.0000,9,   -999.0,  9,  -999.00,9,   -999.0,  -999.00,9,  -999.00,9,     0.11,2,     0.26,2,   -999.0,-999.0000, -999,9,  100,  26.7436,  22.7978,   -999.0,9
     RF05-06-2,  142E,RF-2464,  1,     16,02-18570,2,20050713,0708,  2.0127, 142.0120,   -9,    126.1,  24.4868,  35.0571,2,   -999.0,9,-999.0000,9,    128.0,2,     4.31,2,  -999.00,9,     9.91,2,     0.02,2,     0.68,2, -999.000,9, -999.000,9,  -999.00,9,   -999.0,9,   -999.0,9,-999.0000,9,   -999.0,  9,  -999.00,9,   -999.0,  -999.00,9,  -999.00,9,     0.05,2,     0.16,2,   -999.0,-999.0000, -999,9,  125,  24.4599,  23.5475,   -999.0,9
     RF05-06-2,  142E,RF-2464,  1,     15,02-18569,2,20050713,0707,  2.0127, 142.0120,   -9,    151.3,  23.1833,  35.0850,2,   -999.0,9,-999.0000,9,    132.0,2,     5.15,2,  -999.00,9,    10.12,2,     0.01,2,     0.71,2, -999.000,9, -999.000,9,  -999.00,9,   -999.0,9,   -999.0,9,-999.0000,9,   -999.0,  9,  -999.00,9,   -999.0,  -999.00,9,  -999.00,9,     0.02,2,     0.07,2,   -999.0,-999.0000, -999,9,  150,  23.1522,  23.9541,   -999.0,9
     RF05-06-2,  142E,RF-2464,  1,     14,02-18568,2,20050713,0705,  2.0127, 142.0120,   -9,    202.1,  17.3360,  34.7497,2,   -999.0,9,  34.6839,4,    151.6,2,    12.52,2,  -999.00,9,    13.28,2,     0.00,2,     0.91,2, -999.000,9, -999.000,9,  -999.00,9,   -999.0,9,   -999.0,9,-999.0000,9,   -999.0,  9,  -999.00,9,   -999.0,  -999.00,9,  -999.00,9,     0.01,2,     0.04,2,   -999.0,-999.0000, -999,9,  201,  17.3022,  25.2500,   -999.0,9
     RF05-06-2,  142E,RF-2464,  1,     13,02-18567,2,20050713,0704,  2.0127, 142.0120,   -9,    251.7,   9.6733,  34.5315,2,   -999.0,9,-999.0000,9,    102.7,2,    33.85,2,  -999.00,9,    28.52,2,     0.00,2,     2.01,2, -999.000,9, -999.000,9,  -999.00,9,   -999.0,9,   -999.0,9,-999.0000,9,   -999.0,  9,  -999.00,9,   -999.0,  -999.00,9,  -999.00,9,  -999.00,9,  -999.00,9,   -999.0,-999.0000, -999,9,  250,   9.6448,  26.6460,   -999.0,9
     RF05-06-2,  142E,RF-2464,  1,     12,02-18566,2,20050713,0703,  2.0127, 142.0120,   -9,    302.2,   9.3562,  34.6777,2,   -999.0,9,  34.6786,2,    127.2,2,    25.91,2,  -999.00,9,    27.03,2,     0.00,2,     1.86,2, -999.000,9, -999.000,9,  -999.00,9,   -999.0,9,   -999.0,9,-999.0000,9,   -999.0,  9,  -999.00,9,   -999.0,  -999.00,9,  -999.00,9,  -999.00,9,  -999.00,9,   -999.0,-999.0000, -999,9,  300,   9.3225,  26.8135,   -999.0,9
     RF05-06-2,  142E,RF-2464,  1,     11,02-18565,2,20050713,0700,  2.0127, 142.0120,   -9,    403.4,   8.8818,  34.6482,2,   -999.0,9,  34.6470,2,    108.5,2,    29.87,2,  -999.00,9,    29.82,2,     0.00,2,     2.05,2, -999.000,9, -999.000,9,  -999.00,9,   -999.0,9,   -999.0,9,-999.0000,9,   -999.0,  9,  -999.00,9,   -999.0,  -999.00,9,  -999.00,9,  -999.00,9,  -999.00,9,   -999.0,-999.0000, -999,9,  401,   8.8380,  26.8684,   -999.0,9
     RF05-06-2,  142E,RF-2464,  1,     10,02-18564,2,20050713,0658,  2.0127, 142.0120,   -9,    504.1,   8.1505,  34.6037,2,   -999.0,9,  34.6038,2,    122.3,2,    32.25,2,  -999.00,9,    30.00,2,     0.00,2,     2.06,2, -999.000,9, -999.000,9,  -999.00,9,   -999.0,9,   -999.0,9,-999.0000,9,   -999.0,  9,  -999.00,9,   -999.0,  -999.00,9,  -999.00,9,  -999.00,9,  -999.00,9,   -999.0,-999.0000, -999,9,  501,   8.0982,  26.9479,   -999.0,9
     RF05-06-2,  142E,RF-2464,  1,      9,02-18563,2,20050713,0656,  2.0127, 142.0120,   -9,    604.8,   7.4376,  34.5683,2,   -999.0,9,  34.5689,2,    119.9,2,    37.19,2,  -999.00,9,    31.60,2,     0.00,2,     2.19,2, -999.000,9, -999.000,9,  -999.00,9,   -999.0,9,   -999.0,9,-999.0000,9,   -999.0,  9,  -999.00,9,   -999.0,  -999.00,9,  -999.00,9,  -999.00,9,  -999.00,9,   -999.0,-999.0000, -999,9,  601,   7.3777,  27.0257,   -999.0,9
     RF05-06-2,  142E,RF-2464,  1,      8,02-18562,2,20050713,0654,  2.0127, 142.0120,   -9,    705.6,   6.3353,  34.5329,2,   -999.0,9,  34.5337,2,    122.7,2,    48.67,2,  -999.00,9,    33.27,2,     0.00,2,     2.32,2, -999.000,9, -999.000,9,  -999.00,9,   -999.0,9,   -999.0,9,-999.0000,9,   -999.0,  9,  -999.00,9,   -999.0,  -999.00,9,  -999.00,9,  -999.00,9,  -999.00,9,   -999.0,-999.0000, -999,9,  701,   6.2708,  27.1488,   -999.0,9
     RF05-06-2,  142E,RF-2464,  1,      7,02-18561,2,20050713,0652,  2.0127, 142.0120,   -9,    806.9,   5.4027,  34.5371,2,   -999.0,9,  34.5398,2,    103.5,2,    67.96,2,  -999.00,9,    36.12,2,     0.00,2,     2.55,2, -999.000,9, -999.000,9,  -999.00,9,   -999.0,9,   -999.0,9,-999.0000,9,   -999.0,  9,  -999.00,9,   -999.0,  -999.00,9,  -999.00,9,  -999.00,9,  -999.00,9,   -999.0,-999.0000, -999,9,  801,   5.3341,  27.2690,   -999.0,9
     RF05-06-2,  142E,RF-2464,  1,      6,02-18560,2,20050713,0650,  2.0127, 142.0120,   -9,    907.7,   4.6980,  34.5515,2,   -999.0,9,  34.5510,2,     94.5,2,    84.19,2,  -999.00,9,    37.72,2,     0.00,2,     2.69,2, -999.000,9, -999.000,9,  -999.00,9,   -999.0,9,   -999.0,9,-999.0000,9,   -999.0,  9,  -999.00,9,   -999.0,  -999.00,9,  -999.00,9,  -999.00,9,  -999.00,9,   -999.0,-999.0000, -999,9,  901,   4.6250,  27.3622,   -999.0,9
     RF05-06-2,  142E,RF-2464,  1,      5,02-18559,2,20050713,0648,  2.0127, 142.0120,   -9,   1008.9,   4.1324,  34.5655,2,   -999.0,9,  34.5652,2,     97.3,2,    94.46,2,  -999.00,9,    38.01,2,     0.00,2,     2.72,2, -999.000,9, -999.000,9,  -999.00,9,   -999.0,9,   -999.0,9,-999.0000,9,   -999.0,  9,  -999.00,9,   -999.0,  -999.00,9,  -999.00,9,  -999.00,9,  -999.00,9,   -999.0,-999.0000, -999,9, 1001,   4.0549,  27.4349,   -999.0,9
     RF05-06-2,  142E,RF-2464,  1,      4,02-18558,2,20050713,0642,  2.0127, 142.0120,   -9,   1261.0,   3.5635,  34.5825,2,   -999.0,9,  34.5823,2,     99.7,2,   106.25,2,  -999.00,9,    38.30,2,     0.00,2,     2.73,2, -999.000,9, -999.000,9,  -999.00,9,   -999.0,9,   -999.0,9,-999.0000,9,   -999.0,  9,  -999.00,9,   -999.0,  -999.00,9,  -999.00,9,  -999.00,9,  -999.00,9,   -999.0,-999.0000, -999,9, 1250,   3.4697,  27.5074,   -999.0,9
     RF05-06-2,  142E,RF-2464,  1,      3,02-18557,2,20050713,0637,  2.0127, 142.0120,   -9,   1514.3,   2.9690,  34.6037,2,   -999.0,9,  34.6033,2,    107.4,2,   117.23,2,  -999.00,9,    38.34,2,     0.00,2,     2.72,2, -999.000,9, -999.000,9,  -999.00,9,   -999.0,9,   -999.0,9,-999.0000,9,   -999.0,  9,  -999.00,9,   -999.0,  -999.00,9,  -999.00,9,  -999.00,9,  -999.00,9,   -999.0,-999.0000, -999,9, 1501,   2.8603,  27.5814,   -999.0,9
     RF05-06-2,  142E,RF-2464,  1,      2,02-18556,2,20050713,0632,  2.0127, 142.0120,   -9,   1767.1,   2.4832,  34.6243,2,   -999.0,9,  34.6241,2,    112.5,2,   128.91,2,  -999.00,9,    38.19,2,     0.00,2,     2.70,2, -999.000,9, -999.000,9,  -999.00,9,   -999.0,9,   -999.0,9,-999.0000,9,   -999.0,  9,  -999.00,9,   -999.0,  -999.00,9,  -999.00,9,  -999.00,9,  -999.00,9,   -999.0,-999.0000, -999,9, 1750,   2.3594,  27.6414,   -999.0,9
     RF05-06-2,  142E,RF-2464,  1,      1,02-18555,2,20050713,0627,  2.0127, 142.0120,   -9,   2019.9,   2.2448,  34.6374,2,   -999.0,9,  34.6372,2,    119.3,2,   132.29,2,  -999.00,9,    37.91,2,     0.00,2,     2.68,2, -999.000,9, -999.000,9,  -999.00,9,   -999.0,9,   -999.0,9,-999.0000,9,   -999.0,  9,  -999.00,9,   -999.0,  -999.00,9,  -999.00,9,  -999.00,9,  -999.00,9,   -999.0,-999.0000, -999,9, 1999,   2.1029,  27.6729,   -999.0,9