BOTTLE,20131214MIRCJHATS
EXPOCODE,SECT_ID,STNNBR,CASTNO,SAMPNO,BTLNBR,BTLNBR_FLAG_W,DATE,TIME,LATITUDE,LONGITUDE,DEPTH,CTDPRS,CTDTMP,CTDSAL,CTDSAL_FLAG_W,CTDOXY,CTDOXY_FLAG_W,SALNTY,SALNTY_FLAG_W,OXYGEN,OXYGEN_FLAG_W,SILCAT,SILCAT_FLAG_W,NITRAT,NITRAT_FLAG_W,NO2+NO3,NO2+NO3_FLAG_W,NITRIT,NITRIT_FLAG_W,PHSPHT,PHSPHT_FLAG_W,CFC-11,CFC-11_FLAG_W,CFC-12,CFC-12_FLAG_W,DELC13,DELC13_FLAG_W,TCARBN,TCARBN_FLAG_W,ALKALI,ALKALI_FLAG_W,PH,PH_FLAG_W,PH_TMP,PH_SCALE,PH_NBS,PH_NBS_FLAG_W,C13ERR,TOTALP,TOTALP_FLAG_W,AMMONI,AMMONI_FLAG_W,CHLORA,CHLORA_FLAG_W,PPHYTN,PPHYTN_FLAG_W,REVPRS,REVTMP,DEPTH_,DEPTH_FLAG,CTDDEP,THETA,SIGTHT,DOC,DOC_FLAG_W
,,,,,,,GMT,GMT,,,METER,DBAR,ITS-90,PSS-78,,UMOL/KG,,PSS-78,,UMOL/KG,,UMOL/KG,,UMOL/KG,,UMOL/KG,,UMOL/KG,,UMOL/KG,,PMOL/KG,,PMOL/KG,,/MILLE,,UMOL/KG,,UMOL/KG,,25_DEG_C,,DEG_C,,,,/MILLE,UMOL/KG,,UMOL/KG,,UG/L,,UG/L,,DBAR,ITS-90,METERS,,METERS,DEG_C,,UMOL/L,
       RF06-01,  NONE,RF-2548,  1,     21,02-18575,2,20060115,1454, 34.7267, 140.3715, 2313,      9.9,  18.1265,  34.6943,2,   -999.0,9,  34.6938,2,   -999.0,9,  -999.00,9,  -999.00,9,  -999.00,9,  -999.00,9,  -999.00,9, -999.000,9, -999.000,9,  -999.00,9,   -999.0,9,   -999.0,9,-999.0000,9,   -999.0,  9,  -999.00,9,   -999.0,  -999.00,9,  -999.00,9,  -999.00,9,  -999.00,9,   -999.0,-999.0000, -999,9,   10,  18.1248,  25.0071,   -999.0,9
       RF06-01,  NONE,RF-2548,  1,     20,02-18574,2,20060115,1453, 34.7267, 140.3715, 2313,     25.6,  18.1326,  34.6941,2,   -999.0,9,-999.0000,9,   -999.0,9,  -999.00,9,  -999.00,9,  -999.00,9,  -999.00,9,  -999.00,9, -999.000,9, -999.000,9,  -999.00,9,   -999.0,9,   -999.0,9,-999.0000,9,   -999.0,  9,  -999.00,9,   -999.0,  -999.00,9,  -999.00,9,  -999.00,9,  -999.00,9,   -999.0,-999.0000, -999,9,   25,  18.1282,  25.0062,   -999.0,9
       RF06-01,  NONE,RF-2548,  1,     19,02-18573,2,20060115,1451, 34.7267, 140.3715, 2313,     49.9,  18.1361,  34.6931,2,   -999.0,9,-999.0000,9,   -999.0,9,  -999.00,9,  -999.00,9,  -999.00,9,  -999.00,9,  -999.00,9, -999.000,9, -999.000,9,  -999.00,9,   -999.0,9,   -999.0,9,-999.0000,9,   -999.0,  9,  -999.00,9,   -999.0,  -999.00,9,  -999.00,9,  -999.00,9,  -999.00,9,   -999.0,-999.0000, -999,9,   49,  18.1275,  25.0055,   -999.0,9
       RF06-01,  NONE,RF-2548,  1,     18,02-18572,2,20060115,1450, 34.7267, 140.3715, 2313,     75.1,  16.9554,  34.7147,2,   -999.0,9,-999.0000,9,   -999.0,9,  -999.00,9,  -999.00,9,  -999.00,9,  -999.00,9,  -999.00,9, -999.000,9, -999.000,9,  -999.00,9,   -999.0,9,   -999.0,9,-999.0000,9,   -999.0,  9,  -999.00,9,   -999.0,  -999.00,9,  -999.00,9,  -999.00,9,  -999.00,9,   -999.0,-999.0000, -999,9,   75,  16.9431,  25.3088,   -999.0,9
       RF06-01,  NONE,RF-2548,  1,     17,02-18571,2,20060115,1449, 34.7267, 140.3715, 2313,    100.8,  15.4991,  34.6336,2,   -999.0,9,  34.6378,2,   -999.0,9,  -999.00,9,  -999.00,9,  -999.00,9,  -999.00,9,  -999.00,9, -999.000,9, -999.000,9,  -999.00,9,   -999.0,9,   -999.0,9,-999.0000,9,   -999.0,  9,  -999.00,9,   -999.0,  -999.00,9,  -999.00,9,  -999.00,9,  -999.00,9,   -999.0,-999.0000, -999,9,  100,  15.4836,  25.5824,   -999.0,9
       RF06-01,  NONE,RF-2548,  1,     16,02-18570,2,20060115,1448, 34.7267, 140.3715, 2313,    125.3,  14.1320,  34.5457,2,   -999.0,9,-999.0000,9,   -999.0,9,  -999.00,9,  -999.00,9,  -999.00,9,  -999.00,9,  -999.00,9, -999.000,9, -999.000,9,  -999.00,9,   -999.0,9,   -999.0,9,-999.0000,9,   -999.0,  9,  -999.00,9,   -999.0,  -999.00,9,  -999.00,9,  -999.00,9,  -999.00,9,   -999.0,-999.0000, -999,9,  124,  14.1139,  25.8121,   -999.0,9
       RF06-01,  NONE,RF-2548,  1,     15,02-18569,2,20060115,1446, 34.7267, 140.3715, 2313,    153.5,  12.8565,  34.4676,2,   -999.0,9,-999.0000,9,   -999.0,9,  -999.00,9,  -999.00,9,  -999.00,9,  -999.00,9,  -999.00,9, -999.000,9, -999.000,9,  -999.00,9,   -999.0,9,   -999.0,9,-999.0000,9,   -999.0,  9,  -999.00,9,   -999.0,  -999.00,9,  -999.00,9,  -999.00,9,  -999.00,9,   -999.0,-999.0000, -999,9,  152,  12.8357,  26.0131,   -999.0,9
       RF06-01,  NONE,RF-2548,  1,     14,02-18568,2,20060115,1444, 34.7267, 140.3715, 2313,    203.6,  11.0109,  34.3722,2,   -999.0,9,  34.3741,2,   -999.0,9,  -999.00,9,  -999.00,9,  -999.00,9,  -999.00,9,  -999.00,9, -999.000,9, -999.000,9,  -999.00,9,   -999.0,9,   -999.0,9,-999.0000,9,   -999.0,  9,  -999.00,9,   -999.0,  -999.00,9,  -999.00,9,  -999.00,9,  -999.00,9,   -999.0,-999.0000, -999,9,  202,  10.9859,  26.2892,   -999.0,9
       RF06-01,  NONE,RF-2548,  1,     13,02-18567,2,20060115,1442, 34.7267, 140.3715, 2313,    254.8,   9.7911,  34.3281,2,   -999.0,9,-999.0000,9,   -999.0,9,  -999.00,9,  -999.00,9,  -999.00,9,  -999.00,9,  -999.00,9, -999.000,9, -999.000,9,  -999.00,9,   -999.0,9,   -999.0,9,-999.0000,9,   -999.0,  9,  -999.00,9,   -999.0,  -999.00,9,  -999.00,9,  -999.00,9,  -999.00,9,   -999.0,-999.0000, -999,9,  253,   9.7621,  26.4674,   -999.0,9
       RF06-01,  NONE,RF-2548,  1,     12,02-18566,2,20060115,1440, 34.7267, 140.3715, 2313,    303.3,   8.9896,  34.2979,2,   -999.0,9,  34.2964,2,   -999.0,9,  -999.00,9,  -999.00,9,  -999.00,9,  -999.00,9,  -999.00,9, -999.000,9, -999.000,9,  -999.00,9,   -999.0,9,   -999.0,9,-999.0000,9,   -999.0,  9,  -999.00,9,   -999.0,  -999.00,9,  -999.00,9,  -999.00,9,  -999.00,9,   -999.0,-999.0000, -999,9,  301,   8.9568,  26.5752,   -999.0,9
       RF06-01,  NONE,RF-2548,  1,     11,02-18565,2,20060115,1435, 34.7267, 140.3715, 2313,    409.0,   7.8132,  34.2579,2,   -999.0,9,  34.2593,2,   -999.0,9,  -999.00,9,  -999.00,9,  -999.00,9,  -999.00,9,  -999.00,9, -999.000,9, -999.000,9,  -999.00,9,   -999.0,9,   -999.0,9,-999.0000,9,   -999.0,  9,  -999.00,9,   -999.0,  -999.00,9,  -999.00,9,  -999.00,9,  -999.00,9,   -999.0,-999.0000, -999,9,  406,   7.7723,  26.7245,   -999.0,9
       RF06-01,  NONE,RF-2548,  1,     10,02-18564,2,20060115,1432, 34.7267, 140.3715, 2313,    507.9,   6.1754,  34.1528,2,   -999.0,9,-999.0000,9,   -999.0,9,  -999.00,9,  -999.00,9,  -999.00,9,  -999.00,9,  -999.00,9, -999.000,9, -999.000,9,  -999.00,9,   -999.0,9,   -999.0,9,-999.0000,9,   -999.0,  9,  -999.00,9,   -999.0,  -999.00,9,  -999.00,9,  -999.00,9,  -999.00,9,   -999.0,-999.0000, -999,9,  504,   6.1306,  26.8666,   -999.0,9
       RF06-01,  NONE,RF-2548,  1,      9,02-18563,2,20060115,1428, 34.7267, 140.3715, 2313,    607.3,   5.1084,  34.1334,2,   -999.0,9,  34.1332,2,   -999.0,9,  -999.00,9,  -999.00,9,  -999.00,9,  -999.00,9,  -999.00,9, -999.000,9, -999.000,9,  -999.00,9,   -999.0,9,   -999.0,9,-999.0000,9,   -999.0,  9,  -999.00,9,   -999.0,  -999.00,9,  -999.00,9,  -999.00,9,  -999.00,9,   -999.0,-999.0000, -999,9,  602,   5.0594,  26.9814,   -999.0,9
       RF06-01,  NONE,RF-2548,  1,      8,02-18562,2,20060115,1424, 34.7267, 140.3715, 2313,    710.7,   4.4489,  34.1751,2,   -999.0,9,-999.0000,9,   -999.0,9,  -999.00,9,  -999.00,9,  -999.00,9,  -999.00,9,  -999.00,9, -999.000,9, -999.000,9,  -999.00,9,   -999.0,9,   -999.0,9,-999.0000,9,   -999.0,  9,  -999.00,9,   -999.0,  -999.00,9,  -999.00,9,  -999.00,9,  -999.00,9,   -999.0,-999.0000, -999,9,  704,   4.3946,  27.0885,   -999.0,9
       RF06-01,  NONE,RF-2548,  1,      7,02-18561,2,20060115,1421, 34.7267, 140.3715, 2313,    810.5,   3.6009,  34.2286,2,   -999.0,9,  34.2275,2,   -999.0,9,  -999.00,9,  -999.00,9,  -999.00,9,  -999.00,9,  -999.00,9, -999.000,9, -999.000,9,  -999.00,9,   -999.0,9,   -999.0,9,-999.0000,9,   -999.0,  9,  -999.00,9,   -999.0,  -999.00,9,  -999.00,9,  -999.00,9,  -999.00,9,   -999.0,-999.0000, -999,9,  803,   3.5436,  27.2182,   -999.0,9
       RF06-01,  NONE,RF-2548,  1,      6,02-18560,2,20060115,1418, 34.7267, 140.3715, 2313,    912.6,   3.3465,  34.3019,2,   -999.0,9,-999.0000,9,   -999.0,9,  -999.00,9,  -999.00,9,  -999.00,9,  -999.00,9,  -999.00,9, -999.000,9, -999.000,9,  -999.00,9,   -999.0,9,   -999.0,9,-999.0000,9,   -999.0,  9,  -999.00,9,   -999.0,  -999.00,9,  -999.00,9,  -999.00,9,  -999.00,9,   -999.0,-999.0000, -999,9,  904,   3.2830,  27.3016,   -999.0,9
       RF06-01,  NONE,RF-2548,  1,      5,02-18559,2,20060115,1415, 34.7267, 140.3715, 2313,   1011.4,   3.2226,  34.3554,2,   -999.0,9,  34.3545,2,   -999.0,9,  -999.00,9,  -999.00,9,  -999.00,9,  -999.00,9,  -999.00,9, -999.000,9, -999.000,9,  -999.00,9,   -999.0,9,   -999.0,9,-999.0000,9,   -999.0,  9,  -999.00,9,   -999.0,  -999.00,9,  -999.00,9,  -999.00,9,  -999.00,9,   -999.0,-999.0000, -999,9, 1002,   3.1523,  27.3565,   -999.0,9
       RF06-01,  NONE,RF-2548,  1,      4,02-18558,2,20060115,1409, 34.7267, 140.3715, 2313,   1265.4,   2.7812,  34.4376,2,   -999.0,9,  34.4374,2,   -999.0,9,  -999.00,9,  -999.00,9,  -999.00,9,  -999.00,9,  -999.00,9, -999.000,9, -999.000,9,  -999.00,9,   -999.0,9,   -999.0,9,-999.0000,9,   -999.0,  9,  -999.00,9,   -999.0,  -999.00,9,  -999.00,9,  -999.00,9,  -999.00,9,   -999.0,-999.0000, -999,9, 1252,   2.6950,  27.4634,   -999.0,9
       RF06-01,  NONE,RF-2548,  1,      3,02-18557,2,20060115,1404, 34.7267, 140.3715, 2313,   1514.2,   2.4967,  34.4892,2,   -999.0,9,  34.4886,2,   -999.0,9,  -999.00,9,  -999.00,9,  -999.00,9,  -999.00,9,  -999.00,9, -999.000,9, -999.000,9,  -999.00,9,   -999.0,9,   -999.0,9,-999.0000,9,   -999.0,  9,  -999.00,9,   -999.0,  -999.00,9,  -999.00,9,  -999.00,9,  -999.00,9,   -999.0,-999.0000, -999,9, 1498,   2.3938,  27.5304,   -999.0,9
       RF06-01,  NONE,RF-2548,  1,      2,02-18556,2,20060115,1359, 34.7267, 140.3715, 2313,   1767.5,   2.2379,  34.5427,2,   -999.0,9,  34.5425,2,   -999.0,9,  -999.00,9,  -999.00,9,  -999.00,9,  -999.00,9,  -999.00,9, -999.000,9, -999.000,9,  -999.00,9,   -999.0,9,   -999.0,9,-999.0000,9,   -999.0,  9,  -999.00,9,   -999.0,  -999.00,9,  -999.00,9,  -999.00,9,  -999.00,9,   -999.0,-999.0000, -999,9, 1747,   2.1176,  27.5959,   -999.0,9
       RF06-01,  NONE,RF-2548,  1,      1,02-18555,2,20060115,1355, 34.7267, 140.3715, 2313,   2024.5,   2.0268,  34.5813,2,   -999.0,9,  34.5823,2,   -999.0,9,  -999.00,9,  -999.00,9,  -999.00,9,  -999.00,9,  -999.00,9, -999.000,9, -999.000,9,  -999.00,9,   -999.0,9,   -999.0,9,-999.0000,9,   -999.0,  9,  -999.00,9,   -999.0,  -999.00,9,  -999.00,9,  -999.00,9,  -999.00,9,   -999.0,-999.0000, -999,9, 2000,   1.8881,  27.6450,   -999.0,9
       RF06-01,  NONE,RF-2550,  1,     -9,      -9,5,20060115,2328, 34.2322, 140.9920, 4699,      0.0,  18.6216,  34.6866,2,   -999.0,9,-999.0000,9,    215.8,2,     5.47,2,  -999.00,9,     3.47,2,     0.22,2,     0.25,2, -999.000,9, -999.000,9,  -999.00,9,   -999.0,9,   -999.0,9,-999.0000,9,   -999.0,  9,  -999.00,9,   -999.0,  -999.00,9,  -999.00,9,     0.48,2,     0.17,2,   -999.0,-999.0000, -999,9,    0,  18.6215,  24.8775,   -999.0,9
       RF06-01,  NONE,RF-2550,  1,     21,02-18575,2,20060115,2344, 34.2322, 140.9920, 4699,      9.5,  18.6323,  34.6870,2,   -999.0,9,-999.0000,9,    222.0,2,     5.49,2,  -999.00,9,     3.48,2,     0.22,2,     0.24,2, -999.000,9, -999.000,9,  -999.00,9,   -999.0,9,   -999.0,9,-999.0000,9,   -999.0,  9,  -999.00,9,   -999.0,  -999.00,9,  -999.00,9,     0.42,2,     0.13,2,   -999.0,-999.0000, -999,9,    9,  18.6306,  24.8754,   -999.0,9
       RF06-01,  NONE,RF-2550,  1,     20,02-18574,2,20060115,2343, 34.2322, 140.9920, 4699,     25.1,  18.0467,  34.6728,2,   -999.0,9,-999.0000,9,    215.5,2,     6.42,2,  -999.00,9,     4.16,2,     0.24,2,     0.27,2, -999.000,9, -999.000,9,  -999.00,9,   -999.0,9,   -999.0,9,-999.0000,9,   -999.0,  9,  -999.00,9,   -999.0,  -999.00,9,  -999.00,9,     0.44,2,     0.16,2,   -999.0,-999.0000, -999,9,   25,  18.0424,  25.0110,   -999.0,9
       RF06-01,  NONE,RF-2550,  1,     19,02-18573,2,20060115,2342, 34.2322, 140.9920, 4699,     49.8,  17.5863,  34.6542,2,   -999.0,9,-999.0000,9,    215.0,2,     8.09,2,  -999.00,9,     5.29,2,     0.27,2,     0.34,2, -999.000,9, -999.000,9,  -999.00,9,   -999.0,9,   -999.0,9,-999.0000,9,   -999.0,  9,  -999.00,9,   -999.0,  -999.00,9,  -999.00,9,     0.43,2,     0.17,2,   -999.0,-999.0000, -999,9,   49,  17.5779,  25.1102,   -999.0,9
       RF06-01,  NONE,RF-2550,  1,     18,02-18572,2,20060115,2341, 34.2322, 140.9920, 4699,     76.8,  15.5648,  34.6148,2,   -999.0,9,-999.0000,9,    188.9,2,    13.61,2,  -999.00,9,    10.05,2,     0.12,2,     0.61,2, -999.000,9, -999.000,9,  -999.00,9,   -999.0,9,   -999.0,9,-999.0000,9,   -999.0,  9,  -999.00,9,   -999.0,  -999.00,9,  -999.00,9,     0.11,2,     0.07,2,   -999.0,-999.0000, -999,9,   76,  15.5529,  25.5524,   -999.0,9
       RF06-01,  NONE,RF-2550,  1,     17,02-18571,2,20060115,2339, 34.2322, 140.9920, 4699,    101.0,  14.9566,  34.6155,2,   -999.0,9,-999.0000,9,    215.5,2,    14.39,2,  -999.00,9,     9.24,2,     0.37,2,     0.58,2, -999.000,9, -999.000,9,  -999.00,9,   -999.0,9,   -999.0,9,-999.0000,9,   -999.0,  9,  -999.00,9,   -999.0,  -999.00,9,  -999.00,9,     0.30,2,     0.16,2,   -999.0,-999.0000, -999,9,  100,  14.9414,  25.6883,   -999.0,9
       RF06-01,  NONE,RF-2550,  1,     16,02-18570,2,20060115,2338, 34.2322, 140.9920, 4699,    125.9,  14.1864,  34.5546,2,   -999.0,9,-999.0000,9,    181.2,2,    17.42,2,  -999.00,9,    12.52,2,     0.07,2,     0.78,2, -999.000,9, -999.000,9,  -999.00,9,   -999.0,9,   -999.0,9,-999.0000,9,   -999.0,  9,  -999.00,9,   -999.0,  -999.00,9,  -999.00,9,     0.05,2,     0.04,2,   -999.0,-999.0000, -999,9,  125,  14.1682,  25.8075,   -999.0,9
       RF06-01,  NONE,RF-2550,  1,     15,02-18569,2,20060115,2337, 34.2322, 140.9920, 4699,    152.7,  13.6824,  34.5487,2,   -999.0,9,-999.0000,9,    197.6,2,    19.73,2,  -999.00,9,    12.60,2,     0.23,2,     0.81,2, -999.000,9, -999.000,9,  -999.00,9,   -999.0,9,   -999.0,9,-999.0000,9,   -999.0,  9,  -999.00,9,   -999.0,  -999.00,9,  -999.00,9,     0.11,2,     0.07,2,   -999.0,-999.0000, -999,9,  152,  13.6608,  25.9089,   -999.0,9
       RF06-01,  NONE,RF-2550,  1,     14,02-18568,2,20060115,2335, 34.2322, 140.9920, 4699,    204.6,  13.1009,  34.5107,2,   -999.0,9,-999.0000,9,    188.0,2,    22.97,2,  -999.00,9,    14.36,2,     0.16,2,     0.93,2, -999.000,9, -999.000,9,  -999.00,9,   -999.0,9,   -999.0,9,-999.0000,9,   -999.0,  9,  -999.00,9,   -999.0,  -999.00,9,  -999.00,9,     0.08,2,     0.06,2,   -999.0,-999.0000, -999,9,  203,  13.0727,  25.9992,   -999.0,9
       RF06-01,  NONE,RF-2550,  1,     13,02-18567,2,20060115,2333, 34.2322, 140.9920, 4699,    255.9,  11.5591,  34.4046,2,   -999.0,9,-999.0000,9,    160.9,2,    30.22,2,  -999.00,9,    18.70,2,     0.00,2,     1.23,2, -999.000,9, -999.000,9,  -999.00,9,   -999.0,9,   -999.0,9,-999.0000,9,   -999.0,  9,  -999.00,9,   -999.0,  -999.00,9,  -999.00,9,  -999.00,9,  -999.00,9,   -999.0,-999.0000, -999,9,  254,  11.5266,  26.2156,   -999.0,9
       RF06-01,  NONE,RF-2550,  1,     12,02-18566,2,20060115,2331, 34.2322, 140.9920, 4699,    304.9,  11.3710,  34.3968,2,   -999.0,9,-999.0000,9,    156.7,2,    31.59,2,  -999.00,9,    19.33,2,     0.00,2,     1.29,2, -999.000,9, -999.000,9,  -999.00,9,   -999.0,9,   -999.0,9,-999.0000,9,   -999.0,  9,  -999.00,9,   -999.0,  -999.00,9,  -999.00,9,  -999.00,9,  -999.00,9,   -999.0,-999.0000, -999,9,  303,  11.3327,  26.2453,   -999.0,9
       RF06-01,  NONE,RF-2550,  1,     11,02-18565,2,20060115,2327, 34.2322, 140.9920, 4699,    404.7,  10.8228,  34.3734,2,   -999.0,9,-999.0000,9,    148.3,2,    35.66,2,  -999.00,9,    20.81,2,     0.00,2,     1.39,2, -999.000,9, -999.000,9,  -999.00,9,   -999.0,9,   -999.0,9,-999.0000,9,   -999.0,  9,  -999.00,9,   -999.0,  -999.00,9,  -999.00,9,  -999.00,9,  -999.00,9,   -999.0,-999.0000, -999,9,  401,  10.7733,  26.3281,   -999.0,9
       RF06-01,  NONE,RF-2550,  1,     10,02-18564,2,20060115,2325, 34.2322, 140.9920, 4699,    504.8,   7.9424,  34.2848,2,   -999.0,9,-999.0000,9,    119.4,2,    60.17,2,  -999.00,9,    28.65,2,     0.00,2,     2.00,2, -999.000,9, -999.000,9,  -999.00,9,   -999.0,9,   -999.0,9,-999.0000,9,   -999.0,  9,  -999.00,9,   -999.0,  -999.00,9,  -999.00,9,  -999.00,9,  -999.00,9,   -999.0,-999.0000, -999,9,  501,   7.8911,  26.7282,   -999.0,9
       RF06-01,  NONE,RF-2550,  1,      9,02-18563,2,20060115,2322, 34.2322, 140.9920, 4699,    605.5,   5.8715,  34.2170,2,   -999.0,9,-999.0000,9,     95.3,2,    79.82,2,  -999.00,9,    33.70,2,     0.00,2,     2.41,2, -999.000,9, -999.000,9,  -999.00,9,   -999.0,9,   -999.0,9,-999.0000,9,   -999.0,  9,  -999.00,9,   -999.0,  -999.00,9,  -999.00,9,  -999.00,9,  -999.00,9,   -999.0,-999.0000, -999,9,  600,   5.8190,  26.9566,   -999.0,9
       RF06-01,  NONE,RF-2550,  1,      8,02-18562,2,20060115,2319, 34.2322, 140.9920, 4699,    706.0,   4.3146,  34.1445,2,   -999.0,9,-999.0000,9,     71.8,2,    99.02,2,  -999.00,9,    38.32,2,     0.00,2,     2.79,2, -999.000,9, -999.000,9,  -999.00,9,   -999.0,9,   -999.0,9,-999.0000,9,   -999.0,  9,  -999.00,9,   -999.0,  -999.00,9,  -999.00,9,  -999.00,9,  -999.00,9,   -999.0,-999.0000, -999,9,  700,   4.2614,  27.0783,   -999.0,9
       RF06-01,  NONE,RF-2550,  1,      7,02-18561,2,20060115,2317, 34.2322, 140.9920, 4699,    808.3,   3.5367,  34.1604,2,   -999.0,9,-999.0000,9,     45.1,2,   115.66,2,  -999.00,9,    41.05,2,     0.00,2,     3.03,2, -999.000,9, -999.000,9,  -999.00,9,   -999.0,9,   -999.0,9,-999.0000,9,   -999.0,  9,  -999.00,9,   -999.0,  -999.00,9,  -999.00,9,  -999.00,9,  -999.00,9,   -999.0,-999.0000, -999,9,  801,   3.4801,  27.1700,   -999.0,9
       RF06-01,  NONE,RF-2550,  1,      6,02-18560,2,20060115,2314, 34.2322, 140.9920, 4699,    908.8,   3.4417,  34.2728,2,   -999.0,9,-999.0000,9,     41.2,2,   124.42,2,  -999.00,9,    41.42,2,     0.01,2,     3.07,2, -999.000,9, -999.000,9,  -999.00,9,   -999.0,9,   -999.0,9,-999.0000,9,   -999.0,  9,  -999.00,9,   -999.0,  -999.00,9,  -999.00,9,  -999.00,9,  -999.00,9,   -999.0,-999.0000, -999,9,  900,   3.3779,  27.2694,   -999.0,9
       RF06-01,  NONE,RF-2550,  1,      5,02-18559,2,20060115,2311, 34.2322, 140.9920, 4699,   1009.3,   3.3277,  34.3381,2,   -999.0,9,-999.0000,9,     42.1,2,   128.89,2,  -999.00,9,    41.40,2,     0.00,2,     3.09,2, -999.000,9, -999.000,9,  -999.00,9,   -999.0,9,   -999.0,9,-999.0000,9,   -999.0,  9,  -999.00,9,   -999.0,  -999.00,9,  -999.00,9,  -999.00,9,  -999.00,9,   -999.0,-999.0000, -999,9, 1000,   3.2568,  27.3330,   -999.0,9
       RF06-01,  NONE,RF-2550,  1,      4,02-18558,2,20060115,2306, 34.2322, 140.9920, 4699,   1262.3,   2.7172,  34.4253,2,   -999.0,9,-999.0000,9,     40.0,2,   146.33,2,  -999.00,9,    42.27,2,     0.01,2,     3.14,2, -999.000,9, -999.000,9,  -999.00,9,   -999.0,9,   -999.0,9,-999.0000,9,   -999.0,  9,  -999.00,9,   -999.0,  -999.00,9,  -999.00,9,  -999.00,9,  -999.00,9,   -999.0,-999.0000, -999,9, 1249,   2.6319,  27.4590,   -999.0,9
       RF06-01,  NONE,RF-2550,  1,      3,02-18557,2,20060115,2301, 34.2322, 140.9920, 4699,   1515.7,   2.4800,  34.5045,2,   -999.0,9,-999.0000,9,     49.5,2,   150.19,2,  -999.00,9,    41.85,2,     0.00,2,     3.09,2, -999.000,9, -999.000,9,  -999.00,9,   -999.0,9,   -999.0,9,-999.0000,9,   -999.0,  9,  -999.00,9,   -999.0,  -999.00,9,  -999.00,9,  -999.00,9,  -999.00,9,   -999.0,-999.0000, -999,9, 1499,   2.3771,  27.5440,   -999.0,9
       RF06-01,  NONE,RF-2550,  1,      2,02-18556,2,20060115,2256, 34.2322, 140.9920, 4699,   1772.4,   2.1745,  34.5563,2,   -999.0,9,-999.0000,9,     60.5,2,   155.91,2,  -999.00,9,    41.31,2,     0.01,2,     3.04,2, -999.000,9, -999.000,9,  -999.00,9,   -999.0,9,   -999.0,9,-999.0000,9,   -999.0,  9,  -999.00,9,   -999.0,  -999.00,9,  -999.00,9,  -999.00,9,  -999.00,9,   -999.0,-999.0000, -999,9, 1752,   2.0546,  27.6118,   -999.0,9
       RF06-01,  NONE,RF-2550,  1,      1,02-18555,2,20060115,2252, 34.2322, 140.9920, 4699,   2021.8,   1.9252,  34.5985,2,   -999.0,9,-999.0000,9,     81.3,2,   157.70,2,  -999.00,9,    40.25,2,     0.00,2,     2.97,2, -999.000,9, -999.000,9,  -999.00,9,   -999.0,9,   -999.0,9,-999.0000,9,   -999.0,  9,  -999.00,9,   -999.0,  -999.00,9,  -999.00,9,  -999.00,9,  -999.00,9,   -999.0,-999.0000, -999,9, 1998,   1.7882,  27.6665,   -999.0,9