BOTTLE,20131214MIRCJHATS
EXPOCODE,SECT_ID,STNNBR,CASTNO,SAMPNO,BTLNBR,BTLNBR_FLAG_W,DATE,TIME,LATITUDE,LONGITUDE,DEPTH,CTDPRS,CTDTMP,CTDSAL,CTDSAL_FLAG_W,CTDOXY,CTDOXY_FLAG_W,SALNTY,SALNTY_FLAG_W,OXYGEN,OXYGEN_FLAG_W,SILCAT,SILCAT_FLAG_W,NITRAT,NITRAT_FLAG_W,NO2+NO3,NO2+NO3_FLAG_W,NITRIT,NITRIT_FLAG_W,PHSPHT,PHSPHT_FLAG_W,CFC-11,CFC-11_FLAG_W,CFC-12,CFC-12_FLAG_W,DELC13,DELC13_FLAG_W,TCARBN,TCARBN_FLAG_W,ALKALI,ALKALI_FLAG_W,PH,PH_FLAG_W,PH_TMP,PH_SCALE,PH_NBS,PH_NBS_FLAG_W,C13ERR,TOTALP,TOTALP_FLAG_W,AMMONI,AMMONI_FLAG_W,CHLORA,CHLORA_FLAG_W,PPHYTN,PPHYTN_FLAG_W,REVPRS,REVTMP,DEPTH_,DEPTH_FLAG,CTDDEP,THETA,SIGTHT,DOC,DOC_FLAG_W
,,,,,,,GMT,GMT,,,METER,DBAR,ITS-90,PSS-78,,UMOL/KG,,PSS-78,,UMOL/KG,,UMOL/KG,,UMOL/KG,,UMOL/KG,,UMOL/KG,,UMOL/KG,,PMOL/KG,,PMOL/KG,,/MILLE,,UMOL/KG,,UMOL/KG,,25_DEG_C,,DEG_C,,,,/MILLE,UMOL/KG,,UMOL/KG,,UG/L,,UG/L,,DBAR,ITS-90,METERS,,METERS,DEG_C,,UMOL/L,
       RF06-01,  165E,RF-2591,  1,     -9,      -9,5,20060128,0253,  7.9953, 163.9905, 5135,      0.0,  28.6761,  33.9014,2,   -999.0,9,-999.0000,9,    197.2,2,     1.58,2,  -999.00,9,     0.05,2,     0.01,2,     0.07,2, -999.000,9, -999.000,9,  -999.00,9,   1888.7,3,   -999.0,9,-999.0000,9,   -999.0,  9,  -999.00,9,   -999.0,  -999.00,9,  -999.00,9,     0.08,2,     0.04,2,   -999.0,-999.0000, -999,9,    0,  28.6759,  21.3469,   -999.0,9
       RF06-01,  165E,RF-2591,  1,     21,02-18575,2,20060128,0320,  7.9953, 163.9905, 5135,      9.3,  28.6693,  33.9011,2,   -999.0,9,  33.8993,2,    200.8,2,     1.57,2,  -999.00,9,     0.02,2,     0.00,2,     0.06,2, -999.000,9, -999.000,9,  -999.00,9,   -999.0,9,   -999.0,9,-999.0000,9,   -999.0,  9,  -999.00,9,   -999.0,  -999.00,9,  -999.00,9,     0.07,2,     0.03,2,   -999.0,-999.0000, -999,9,    9,  28.6671,  21.3497,   -999.0,9
       RF06-01,  165E,RF-2591,  1,     20,02-18574,2,20060128,0319,  7.9953, 163.9905, 5135,     25.8,  28.5560,  33.8957,2,   -999.0,9,-999.0000,9,    196.2,2,     1.52,2,  -999.00,9,     0.01,2,     0.00,2,     0.06,2, -999.000,9, -999.000,9,  -999.00,9,   -999.0,9,   -999.0,9,-999.0000,9,   -999.0,  9,  -999.00,9,   -999.0,  -999.00,9,  -999.00,9,     0.08,2,     0.03,2,   -999.0,-999.0000, -999,9,   26,  28.5498,  21.3843,   -999.0,9
       RF06-01,  165E,RF-2591,  1,     19,02-18573,2,20060128,0318,  7.9953, 163.9905, 5135,     50.5,  28.5467,  33.8958,2,   -999.0,9,-999.0000,9,    195.3,2,     1.57,2,  -999.00,9,     0.01,2,     0.00,2,     0.06,2, -999.000,9, -999.000,9,  -999.00,9,   -999.0,9,   -999.0,9,-999.0000,9,   -999.0,  9,  -999.00,9,   -999.0,  -999.00,9,  -999.00,9,     0.10,2,     0.04,2,   -999.0,-999.0000, -999,9,   50,  28.5347,  21.3894,   -999.0,9
       RF06-01,  165E,RF-2591,  1,     18,02-18572,2,20060128,0317,  7.9953, 163.9905, 5135,     75.9,  28.5443,  33.8960,2,   -999.0,9,-999.0000,9,    194.5,2,     1.52,2,  -999.00,9,     0.00,2,     0.00,2,     0.06,2, -999.000,9, -999.000,9,  -999.00,9,   -999.0,9,   -999.0,9,-999.0000,9,   -999.0,  9,  -999.00,9,   -999.0,  -999.00,9,  -999.00,9,     0.12,2,     0.05,2,   -999.0,-999.0000, -999,9,   75,  28.5262,  21.3923,   -999.0,9
       RF06-01,  165E,RF-2591,  1,     17,02-18571,2,20060128,0316,  7.9953, 163.9905, 5135,    100.5,  25.7034,  34.6069,2,   -999.0,9,  34.6097,2,    177.3,2,     2.88,2,  -999.00,9,     0.63,2,     0.25,2,     0.20,2, -999.000,9, -999.000,9,  -999.00,9,   -999.0,9,   -999.0,9,-999.0000,9,   -999.0,  9,  -999.00,9,   -999.0,  -999.00,9,  -999.00,9,     0.28,2,     0.53,2,   -999.0,-999.0000, -999,9,  100,  25.6812,  22.8356,   -999.0,9
       RF06-01,  165E,RF-2591,  1,     16,02-18570,2,20060128,0315,  7.9953, 163.9905, 5135,    126.2,  21.8766,  34.7930,2,   -999.0,9,-999.0000,9,    148.0,2,     6.16,2,  -999.00,9,     6.69,2,     0.04,2,     0.54,2, -999.000,9, -999.000,9,  -999.00,9,   -999.0,9,   -999.0,9,-999.0000,9,   -999.0,  9,  -999.00,9,   -999.0,  -999.00,9,  -999.00,9,     0.07,2,     0.24,2,   -999.0,-999.0000, -999,9,  125,  21.8518,  24.1019,   -999.0,9
       RF06-01,  165E,RF-2591,  1,     15,02-18569,2,20060128,0313,  7.9953, 163.9905, 5135,    151.2,  17.4915,  34.7240,2,   -999.0,9,-999.0000,9,    129.8,2,    11.46,2,  -999.00,9,    13.27,2,     0.01,2,     0.93,2, -999.000,9, -999.000,9,  -999.00,9,   -999.0,9,   -999.0,9,-999.0000,9,   -999.0,  9,  -999.00,9,   -999.0,  -999.00,9,  -999.00,9,     0.04,2,     0.13,2,   -999.0,-999.0000, -999,9,  150,  17.4661,  25.1908,   -999.0,9
       RF06-01,  165E,RF-2591,  1,     14,02-18568,2,20060128,0312,  7.9953, 163.9905, 5135,    201.4,  12.7257,  34.5438,2,   -999.0,9,  34.5468,2,     72.1,2,    23.02,2,  -999.00,9,    25.34,2,     0.00,2,     1.82,2, -999.000,9, -999.000,9,  -999.00,9,   -999.0,9,   -999.0,9,-999.0000,9,   -999.0,  9,  -999.00,9,   -999.0,  -999.00,9,  -999.00,9,     0.01,2,     0.06,2,   -999.0,-999.0000, -999,9,  200,  12.6985,  26.0993,   -999.0,9
       RF06-01,  165E,RF-2591,  1,     13,02-18567,2,20060128,0310,  7.9953, 163.9905, 5135,    251.6,  10.6822,  34.6113,2,   -999.0,9,-999.0000,9,     37.8,2,    32.06,2,  -999.00,9,    32.44,2,     0.00,2,     2.33,2, -999.000,9, -999.000,9,  -999.00,9,   -999.0,9,   -999.0,9,-999.0000,9,   -999.0,  9,  -999.00,9,   -999.0,  -999.00,9,  -999.00,9,  -999.00,9,  -999.00,9,   -999.0,-999.0000, -999,9,  250,  10.6518,  26.5351,   -999.0,9
       RF06-01,  165E,RF-2591,  1,     12,02-18566,2,20060128,0309,  7.9953, 163.9905, 5135,    302.2,   9.8728,  34.6303,2,   -999.0,9,  34.6299,2,     36.5,2,    35.39,2,  -999.00,9,    34.10,2,     0.00,2,     2.44,2, -999.000,9, -999.000,9,  -999.00,9,   -999.0,9,   -999.0,9,-999.0000,9,   -999.0,  9,  -999.00,9,   -999.0,  -999.00,9,  -999.00,9,  -999.00,9,  -999.00,9,   -999.0,-999.0000, -999,9,  300,   9.8380,  26.6907,   -999.0,9
       RF06-01,  165E,RF-2591,  1,     11,02-18565,2,20060128,0306,  7.9953, 163.9905, 5135,    403.5,   8.8876,  34.6058,2,   -999.0,9,  34.6056,2,     45.3,2,    39.96,2,  -999.00,9,    35.02,2,     0.00,2,     2.51,2, -999.000,9, -999.000,9,  -999.00,9,   -999.0,9,   -999.0,9,-999.0000,9,   -999.0,  9,  -999.00,9,   -999.0,  -999.00,9,  -999.00,9,  -999.00,9,  -999.00,9,   -999.0,-999.0000, -999,9,  401,   8.8438,  26.8343,   -999.0,9
       RF06-01,  165E,RF-2591,  1,     10,02-18564,2,20060128,0304,  7.9953, 163.9905, 5135,    503.0,   7.9995,  34.5639,2,   -999.0,9,-999.0000,9,     56.6,2,    46.29,2,  -999.00,9,    35.61,2,     0.00,2,     2.56,2, -999.000,9, -999.000,9,  -999.00,9,   -999.0,9,   -999.0,9,-999.0000,9,   -999.0,  9,  -999.00,9,   -999.0,  -999.00,9,  -999.00,9,  -999.00,9,  -999.00,9,   -999.0,-999.0000, -999,9,  500,   7.9479,  26.9391,   -999.0,9
       RF06-01,  165E,RF-2591,  1,      9,02-18563,2,20060128,0301,  7.9953, 163.9905, 5135,    605.2,   7.0453,  34.5408,2,   -999.0,9,  34.5408,2,     57.9,2,    55.88,2,  -999.00,9,    37.18,2,     0.00,2,     2.71,2, -999.000,9, -999.000,9,  -999.00,9,   -999.0,9,   -999.0,9,-999.0000,9,   -999.0,  9,  -999.00,9,   -999.0,  -999.00,9,  -999.00,9,  -999.00,9,  -999.00,9,   -999.0,-999.0000, -999,9,  601,   6.9872,  27.0588,   -999.0,9
       RF06-01,  165E,RF-2591,  1,      8,02-18562,2,20060128,0259,  7.9953, 163.9905, 5135,    705.4,   6.3327,  34.5386,2,   -999.0,9,-999.0000,9,     58.8,2,    64.24,2,  -999.00,9,    38.53,2,     0.00,2,     2.81,2, -999.000,9, -999.000,9,  -999.00,9,   -999.0,9,   -999.0,9,-999.0000,9,   -999.0,  9,  -999.00,9,   -999.0,  -999.00,9,  -999.00,9,  -999.00,9,  -999.00,9,   -999.0,-999.0000, -999,9,  700,   6.2682,  27.1535,   -999.0,9
       RF06-01,  165E,RF-2591,  1,      7,02-18561,2,20060128,0256,  7.9953, 163.9905, 5135,    806.7,   5.4711,  34.5406,2,   -999.0,9,  34.5407,2,     67.0,2,    74.62,2,  -999.00,9,    38.84,2,     0.00,2,     2.84,2, -999.000,9, -999.000,9,  -999.00,9,   -999.0,9,   -999.0,9,-999.0000,9,   -999.0,  9,  -999.00,9,   -999.0,  -999.00,9,  -999.00,9,  -999.00,9,  -999.00,9,   -999.0,-999.0000, -999,9,  801,   5.4021,  27.2636,   -999.0,9
       RF06-01,  165E,RF-2591,  1,      6,02-18560,2,20060128,0253,  7.9953, 163.9905, 5135,    909.7,   4.9566,  34.5464,2,   -999.0,9,-999.0000,9,     72.4,2,    83.64,2,  -999.00,9,    39.25,2,     0.00,2,     2.86,2, -999.000,9, -999.000,9,  -999.00,9,   -999.0,9,   -999.0,9,-999.0000,9,   -999.0,  9,  -999.00,9,   -999.0,  -999.00,9,  -999.00,9,  -999.00,9,  -999.00,9,   -999.0,-999.0000, -999,9,  903,   4.8816,  27.3292,   -999.0,9
       RF06-01,  165E,RF-2591,  1,      5,02-18559,2,20060128,0250,  7.9953, 163.9905, 5135,   1009.1,   4.5972,  34.5527,2,   -999.0,9,  34.5530,2,     73.7,2,    90.75,2,  -999.00,9,    39.53,2,     0.00,2,     2.89,2, -999.000,9, -999.000,9,  -999.00,9,   -999.0,9,   -999.0,9,-999.0000,9,   -999.0,  9,  -999.00,9,   -999.0,  -999.00,9,  -999.00,9,  -999.00,9,  -999.00,9,   -999.0,-999.0000, -999,9, 1001,   4.5161,  27.3752,   -999.0,9
       RF06-01,  165E,RF-2591,  1,      4,02-18558,2,20060128,0246,  7.9953, 163.9905, 5135,   1261.1,   3.7430,  34.5750,2,   -999.0,9,  34.5750,2,     85.0,2,   107.59,2,  -999.00,9,    39.74,2,     0.00,2,     2.90,2, -999.000,9, -999.000,9,  -999.00,9,   -999.0,9,   -999.0,9,-999.0000,9,   -999.0,  9,  -999.00,9,   -999.0,  -999.00,9,  -999.00,9,  -999.00,9,  -999.00,9,   -999.0,-999.0000, -999,9, 1250,   3.6475,  27.4839,   -999.0,9
       RF06-01,  165E,RF-2591,  1,      3,02-18557,2,20060128,0241,  7.9953, 163.9905, 5135,   1513.4,   3.1293,  34.5945,2,   -999.0,9,  34.5948,2,     88.0,2,   121.35,2,  -999.00,9,    39.71,2,     0.00,2,     2.90,2, -999.000,9, -999.000,9,  -999.00,9,   -999.0,9,   -999.0,9,-999.0000,9,   -999.0,  9,  -999.00,9,   -999.0,  -999.00,9,  -999.00,9,  -999.00,9,  -999.00,9,   -999.0,-999.0000, -999,9, 1499,   3.0188,  27.5597,   -999.0,9
       RF06-01,  165E,RF-2591,  1,      2,02-18556,2,20060128,0236,  7.9953, 163.9905, 5135,   1767.8,   2.5910,  34.6174,2,   -999.0,9,  34.6183,2,     93.9,2,   132.59,2,  -999.00,9,    39.57,2,     0.00,2,     2.86,2, -999.000,9, -999.000,9,  -999.00,9,   -999.0,9,   -999.0,9,-999.0000,9,   -999.0,  9,  -999.00,9,   -999.0,  -999.00,9,  -999.00,9,  -999.00,9,  -999.00,9,   -999.0,-999.0000, -999,9, 1751,   2.4657,  27.6269,   -999.0,9
       RF06-01,  165E,RF-2591,  1,      1,02-18555,2,20060128,0231,  7.9953, 163.9905, 5135,   2020.4,   2.2494,  34.6344,2,   -999.0,9,  34.6344,2,    104.8,2,   139.14,2,  -999.00,9,    39.07,2,     0.00,2,     2.81,2, -999.000,9, -999.000,9,  -999.00,9,   -999.0,9,   -999.0,9,-999.0000,9,   -999.0,  9,  -999.00,9,   -999.0,  -999.00,9,  -999.00,9,  -999.00,9,  -999.00,9,   -999.0,-999.0000, -999,9, 1999,   2.1074,  27.6702,   -999.0,9