BOTTLE,20131214MIRCJHATS
EXPOCODE,SECT_ID,STNNBR,CASTNO,SAMPNO,BTLNBR,BTLNBR_FLAG_W,DATE,TIME,LATITUDE,LONGITUDE,DEPTH,CTDPRS,CTDTMP,CTDSAL,CTDSAL_FLAG_W,CTDOXY,CTDOXY_FLAG_W,SALNTY,SALNTY_FLAG_W,OXYGEN,OXYGEN_FLAG_W,SILCAT,SILCAT_FLAG_W,NITRAT,NITRAT_FLAG_W,NO2+NO3,NO2+NO3_FLAG_W,NITRIT,NITRIT_FLAG_W,PHSPHT,PHSPHT_FLAG_W,CFC-11,CFC-11_FLAG_W,CFC-12,CFC-12_FLAG_W,DELC13,DELC13_FLAG_W,TCARBN,TCARBN_FLAG_W,ALKALI,ALKALI_FLAG_W,PH,PH_FLAG_W,PH_TMP,PH_SCALE,PH_NBS,PH_NBS_FLAG_W,C13ERR,TOTALP,TOTALP_FLAG_W,AMMONI,AMMONI_FLAG_W,CHLORA,CHLORA_FLAG_W,PPHYTN,PPHYTN_FLAG_W,REVPRS,REVTMP,DEPTH_,DEPTH_FLAG,CTDDEP,THETA,SIGTHT,DOC,DOC_FLAG_W
,,,,,,,GMT,GMT,,,METER,DBAR,ITS-90,PSS-78,,UMOL/KG,,PSS-78,,UMOL/KG,,UMOL/KG,,UMOL/KG,,UMOL/KG,,UMOL/KG,,UMOL/KG,,PMOL/KG,,PMOL/KG,,/MILLE,,UMOL/KG,,UMOL/KG,,25_DEG_C,,DEG_C,,,,/MILLE,UMOL/KG,,UMOL/KG,,UG/L,,UG/L,,DBAR,ITS-90,METERS,,METERS,DEG_C,,UMOL/L,
       RF06-01,  165E,RF-2586,  1,     -9,      -9,5,20060126,1900, 12.9982, 164.9808, 5197,      0.0,  27.5411,  34.5257,2,   -999.0,9,-999.0000,9,    197.6,2,     1.43,2,  -999.00,9,  -999.00,4,  -999.00,4,  -999.00,4, -999.000,9, -999.000,9,  -999.00,9,   1931.1,2,   -999.0,9,-999.0000,9,   -999.0,  9,  -999.00,9,   -999.0,  -999.00,9,  -999.00,9,     0.04,2,     0.02,2,   -999.0,-999.0000, -999,9,    0,  27.5409,  22.1870,   -999.0,9
       RF06-01,  165E,RF-2586,  1,     21,02-18575,2,20060126,1916, 12.9982, 164.9808, 5197,     10.8,  27.5468,  34.5259,2,   -999.0,9,  34.5240,2,    200.2,2,     1.38,2,  -999.00,9,  -999.00,4,  -999.00,4,  -999.00,4, -999.000,9, -999.000,9,  -999.00,9,   -999.0,9,   -999.0,9,-999.0000,9,   -999.0,  9,  -999.00,9,   -999.0,  -999.00,9,  -999.00,9,     0.05,2,     0.02,2,   -999.0,-999.0000, -999,9,   11,  27.5443,  22.1861,   -999.0,9
       RF06-01,  165E,RF-2586,  1,     20,02-18574,2,20060126,1916, 12.9982, 164.9808, 5197,     26.7,  27.5573,  34.5254,2,   -999.0,9,-999.0000,9,    196.8,2,     1.37,2,  -999.00,9,  -999.00,4,  -999.00,4,  -999.00,4, -999.000,9, -999.000,9,  -999.00,9,   -999.0,9,   -999.0,9,-999.0000,9,   -999.0,  9,  -999.00,9,   -999.0,  -999.00,9,  -999.00,9,     0.05,2,     0.01,2,   -999.0,-999.0000, -999,9,   27,  27.5511,  22.1835,   -999.0,9
       RF06-01,  165E,RF-2586,  1,     19,02-18573,2,20060126,1915, 12.9982, 164.9808, 5197,     51.6,  27.5664,  34.5263,2,   -999.0,9,-999.0000,9,    199.6,2,     1.40,2,  -999.00,9,  -999.00,4,  -999.00,4,  -999.00,4, -999.000,9, -999.000,9,  -999.00,9,   -999.0,9,   -999.0,9,-999.0000,9,   -999.0,  9,  -999.00,9,   -999.0,  -999.00,9,  -999.00,9,     0.04,2,     0.01,2,   -999.0,-999.0000, -999,9,   51,  27.5544,  22.1832,   -999.0,9
       RF06-01,  165E,RF-2586,  1,     18,02-18572,2,20060126,1914, 12.9982, 164.9808, 5197,     76.2,  27.5740,  34.5338,2,   -999.0,9,-999.0000,9,    201.1,2,     1.37,2,  -999.00,9,  -999.00,4,  -999.00,4,  -999.00,4, -999.000,9, -999.000,9,  -999.00,9,   -999.0,9,   -999.0,9,-999.0000,9,   -999.0,  9,  -999.00,9,   -999.0,  -999.00,9,  -999.00,9,     0.05,2,     0.02,2,   -999.0,-999.0000, -999,9,   76,  27.5563,  22.1881,   -999.0,9
       RF06-01,  165E,RF-2586,  1,     17,02-18571,2,20060126,1913, 12.9982, 164.9808, 5197,    101.3,  26.4628,  34.8598,2,   -999.0,9,  34.8809,4,    207.4,2,     1.39,2,  -999.00,9,  -999.00,4,  -999.00,4,  -999.00,4, -999.000,9, -999.000,9,  -999.00,9,   -999.0,9,   -999.0,9,-999.0000,9,   -999.0,  9,  -999.00,9,   -999.0,  -999.00,9,  -999.00,9,     0.09,2,     0.05,2,   -999.0,-999.0000, -999,9,  101,  26.4399,  22.7898,   -999.0,9
       RF06-01,  165E,RF-2586,  1,     16,02-18570,2,20060126,1912, 12.9982, 164.9808, 5197,    125.9,  25.2091,  35.0387,2,   -999.0,9,-999.0000,9,    202.8,2,     1.47,2,  -999.00,9,  -999.00,4,  -999.00,4,  -999.00,4, -999.000,9, -999.000,9,  -999.00,9,   -999.0,9,   -999.0,9,-999.0000,9,   -999.0,  9,  -999.00,9,   -999.0,  -999.00,9,  -999.00,9,     0.12,2,     0.18,2,   -999.0,-999.0000, -999,9,  125,  25.1816,  23.3151,   -999.0,9
       RF06-01,  165E,RF-2586,  1,     15,02-18569,2,20060126,1911, 12.9982, 164.9808, 5197,    152.2,  23.6613,  35.1117,2,   -999.0,9,-999.0000,9,    188.3,2,     1.76,2,  -999.00,9,  -999.00,4,  -999.00,4,  -999.00,4, -999.000,9, -999.000,9,  -999.00,9,   -999.0,9,   -999.0,9,-999.0000,9,   -999.0,  9,  -999.00,9,   -999.0,  -999.00,9,  -999.00,9,     0.11,2,     0.23,2,   -999.0,-999.0000, -999,9,  151,  23.6296,  23.8352,   -999.0,9
       RF06-01,  165E,RF-2586,  1,     14,02-18568,2,20060126,1910, 12.9982, 164.9808, 5197,    204.0,  19.5047,  34.9390,2,   -999.0,9,  34.9212,4,    170.8,2,     4.13,2,  -999.00,9,  -999.00,4,  -999.00,4,  -999.00,4, -999.000,9, -999.000,9,  -999.00,9,   -999.0,9,   -999.0,9,-999.0000,9,   -999.0,  9,  -999.00,9,   -999.0,  -999.00,9,  -999.00,9,     0.02,2,     0.03,2,   -999.0,-999.0000, -999,9,  203,  19.4676,  24.8543,   -999.0,9
       RF06-01,  165E,RF-2586,  1,     13,02-18567,2,20060126,1909, 12.9982, 164.9808, 5197,    252.2,  14.7335,  34.5045,2,   -999.0,9,-999.0000,9,    160.5,2,    10.81,2,  -999.00,9,  -999.00,4,  -999.00,4,  -999.00,4, -999.000,9, -999.000,9,  -999.00,9,   -999.0,9,   -999.0,9,-999.0000,9,   -999.0,  9,  -999.00,9,   -999.0,  -999.00,9,  -999.00,9,  -999.00,9,  -999.00,9,   -999.0,-999.0000, -999,9,  251,  14.6959,  25.6561,   -999.0,9
       RF06-01,  165E,RF-2586,  1,     12,02-18566,2,20060126,1907, 12.9982, 164.9808, 5197,    303.4,  11.5776,  34.3679,2,   -999.0,9,  34.3678,2,    111.3,2,    23.30,2,  -999.00,9,  -999.00,4,  -999.00,4,  -999.00,4, -999.000,9, -999.000,9,  -999.00,9,   -999.0,9,   -999.0,9,-999.0000,9,   -999.0,  9,  -999.00,9,   -999.0,  -999.00,9,  -999.00,9,  -999.00,9,  -999.00,9,   -999.0,-999.0000, -999,9,  301,  11.5390,  26.1847,   -999.0,9
       RF06-01,  165E,RF-2586,  1,     11,02-18565,2,20060126,1905, 12.9982, 164.9808, 5197,    403.9,   8.9914,  34.5000,2,   -999.0,9,  34.5008,2,     44.3,2,    41.16,2,  -999.00,9,  -999.00,4,  -999.00,4,  -999.00,4, -999.000,9, -999.000,9,  -999.00,9,   -999.0,9,   -999.0,9,-999.0000,9,   -999.0,  9,  -999.00,9,   -999.0,  -999.00,9,  -999.00,9,  -999.00,9,  -999.00,9,   -999.0,-999.0000, -999,9,  401,   8.9473,  26.7350,   -999.0,9
       RF06-01,  165E,RF-2586,  1,     10,02-18564,2,20060126,1903, 12.9982, 164.9808, 5197,    505.2,   7.8044,  34.5292,2,   -999.0,9,-999.0000,9,     37.6,2,    51.09,2,  -999.00,9,  -999.00,4,  -999.00,4,  -999.00,4, -999.000,9, -999.000,9,  -999.00,9,   -999.0,9,   -999.0,9,-999.0000,9,   -999.0,  9,  -999.00,9,   -999.0,  -999.00,9,  -999.00,9,  -999.00,9,  -999.00,9,   -999.0,-999.0000, -999,9,  502,   7.7533,  26.9406,   -999.0,9
       RF06-01,  165E,RF-2586,  1,      9,02-18563,2,20060126,1900, 12.9982, 164.9808, 5197,    603.2,   6.8508,  34.5043,2,   -999.0,9,  34.5046,2,     44.1,2,    61.25,2,  -999.00,9,  -999.00,4,  -999.00,4,  -999.00,4, -999.000,9, -999.000,9,  -999.00,9,   -999.0,9,   -999.0,9,-999.0000,9,   -999.0,  9,  -999.00,9,   -999.0,  -999.00,9,  -999.00,9,  -999.00,9,  -999.00,9,   -999.0,-999.0000, -999,9,  599,   6.7938,  27.0565,   -999.0,9
       RF06-01,  165E,RF-2586,  1,      8,02-18562,2,20060126,1858, 12.9982, 164.9808, 5197,    706.3,   6.1731,  34.5182,2,   -999.0,9,-999.0000,9,     47.4,2,    68.89,2,  -999.00,9,  -999.00,4,  -999.00,4,  -999.00,4, -999.000,9, -999.000,9,  -999.00,9,   -999.0,9,   -999.0,9,-999.0000,9,   -999.0,  9,  -999.00,9,   -999.0,  -999.00,9,  -999.00,9,  -999.00,9,  -999.00,9,   -999.0,-999.0000, -999,9,  701,   6.1094,  27.1579,   -999.0,9
       RF06-01,  165E,RF-2586,  1,      7,02-18561,2,20060126,1855, 12.9982, 164.9808, 5197,    804.5,   5.7462,  34.5190,2,   -999.0,9,  34.5197,2,     45.3,2,    75.37,2,  -999.00,9,  -999.00,4,  -999.00,4,  -999.00,4, -999.000,9, -999.000,9,  -999.00,9,   -999.0,9,   -999.0,9,-999.0000,9,   -999.0,  9,  -999.00,9,   -999.0,  -999.00,9,  -999.00,9,  -999.00,9,  -999.00,9,   -999.0,-999.0000, -999,9,  798,   5.6757,  27.2132,   -999.0,9
       RF06-01,  165E,RF-2586,  1,      6,02-18560,2,20060126,1853, 12.9982, 164.9808, 5197,    907.6,   5.1572,  34.5298,2,   -999.0,9,-999.0000,9,     47.0,2,    84.55,2,  -999.00,9,  -999.00,4,  -999.00,4,  -999.00,4, -999.000,9, -999.000,9,  -999.00,9,   -999.0,9,   -999.0,9,-999.0000,9,   -999.0,  9,  -999.00,9,   -999.0,  -999.00,9,  -999.00,9,  -999.00,9,  -999.00,9,   -999.0,-999.0000, -999,9,  900,   5.0811,  27.2931,   -999.0,9
       RF06-01,  165E,RF-2586,  1,      5,02-18559,2,20060126,1850, 12.9982, 164.9808, 5197,   1010.9,   4.6264,  34.5438,2,   -999.0,9,  34.5439,2,     52.9,2,    93.91,2,  -999.00,9,  -999.00,4,  -999.00,4,  -999.00,4, -999.000,9, -999.000,9,  -999.00,9,   -999.0,9,   -999.0,9,-999.0000,9,   -999.0,  9,  -999.00,9,   -999.0,  -999.00,9,  -999.00,9,  -999.00,9,  -999.00,9,   -999.0,-999.0000, -999,9, 1003,   4.5449,  27.3649,   -999.0,9
       RF06-01,  165E,RF-2586,  1,      4,02-18558,2,20060126,1845, 12.9982, 164.9808, 5197,   1262.9,   3.7601,  34.5660,2,   -999.0,9,  34.5666,2,     68.0,2,   110.94,2,  -999.00,9,  -999.00,4,  -999.00,4,  -999.00,4, -999.000,9, -999.000,9,  -999.00,9,   -999.0,9,   -999.0,9,-999.0000,9,   -999.0,  9,  -999.00,9,   -999.0,  -999.00,9,  -999.00,9,  -999.00,9,  -999.00,9,   -999.0,-999.0000, -999,9, 1252,   3.6643,  27.4751,   -999.0,9
       RF06-01,  165E,RF-2586,  1,      3,02-18557,2,20060126,1839, 12.9982, 164.9808, 5197,   1513.6,   3.1394,  34.5865,2,   -999.0,9,  34.5866,2,     77.5,2,   123.97,2,  -999.00,9,  -999.00,4,  -999.00,4,  -999.00,4, -999.000,9, -999.000,9,  -999.00,9,   -999.0,9,   -999.0,9,-999.0000,9,   -999.0,  9,  -999.00,9,   -999.0,  -999.00,9,  -999.00,9,  -999.00,9,  -999.00,9,   -999.0,-999.0000, -999,9, 1499,   3.0288,  27.5524,   -999.0,9
       RF06-01,  165E,RF-2586,  1,      2,02-18556,2,20060126,1834, 12.9982, 164.9808, 5197,   1766.8,   2.6188,  34.6061,2,   -999.0,9,  34.6063,2,     88.9,2,   134.36,2,  -999.00,9,  -999.00,4,  -999.00,4,  -999.00,4, -999.000,9, -999.000,9,  -999.00,9,   -999.0,9,   -999.0,9,-999.0000,9,   -999.0,  9,  -999.00,9,   -999.0,  -999.00,9,  -999.00,9,  -999.00,9,  -999.00,9,   -999.0,-999.0000, -999,9, 1749,   2.4932,  27.6156,   -999.0,9
       RF06-01,  165E,RF-2586,  1,      1,02-18555,2,20060126,1829, 12.9982, 164.9808, 5197,   2020.0,   2.2309,  34.6285,2,   -999.0,9,  34.6276,2,    102.0,3,   141.49,2,  -999.00,9,  -999.00,4,  -999.00,4,  -999.00,4, -999.000,9, -999.000,9,  -999.00,9,   -999.0,9,   -999.0,9,-999.0000,9,   -999.0,  9,  -999.00,9,   -999.0,  -999.00,9,  -999.00,9,  -999.00,9,  -999.00,9,   -999.0,-999.0000, -999,9, 1999,   2.0893,  27.6669,   -999.0,9