BOTTLE,20131214MIRCJHATS
EXPOCODE,SECT_ID,STNNBR,CASTNO,SAMPNO,BTLNBR,BTLNBR_FLAG_W,DATE,TIME,LATITUDE,LONGITUDE,DEPTH,CTDPRS,CTDTMP,CTDSAL,CTDSAL_FLAG_W,CTDOXY,CTDOXY_FLAG_W,SALNTY,SALNTY_FLAG_W,OXYGEN,OXYGEN_FLAG_W,SILCAT,SILCAT_FLAG_W,NITRAT,NITRAT_FLAG_W,NO2+NO3,NO2+NO3_FLAG_W,NITRIT,NITRIT_FLAG_W,PHSPHT,PHSPHT_FLAG_W,CFC-11,CFC-11_FLAG_W,CFC-12,CFC-12_FLAG_W,DELC13,DELC13_FLAG_W,TCARBN,TCARBN_FLAG_W,ALKALI,ALKALI_FLAG_W,PH,PH_FLAG_W,PH_TMP,PH_SCALE,PH_NBS,PH_NBS_FLAG_W,C13ERR,TOTALP,TOTALP_FLAG_W,AMMONI,AMMONI_FLAG_W,CHLORA,CHLORA_FLAG_W,PPHYTN,PPHYTN_FLAG_W,REVPRS,REVTMP,DEPTH_,DEPTH_FLAG,CTDDEP,THETA,SIGTHT,DOC,DOC_FLAG_W
,,,,,,,GMT,GMT,,,METER,DBAR,ITS-90,PSS-78,,UMOL/KG,,PSS-78,,UMOL/KG,,UMOL/KG,,UMOL/KG,,UMOL/KG,,UMOL/KG,,UMOL/KG,,PMOL/KG,,PMOL/KG,,/MILLE,,UMOL/KG,,UMOL/KG,,25_DEG_C,,DEG_C,,,,/MILLE,UMOL/KG,,UMOL/KG,,UG/L,,UG/L,,DBAR,ITS-90,METERS,,METERS,DEG_C,,UMOL/L,
       RF06-01, EQPAC,RF-2616,  1,     -9,      -9,5,20060213,1102,  0.0062, 155.0027, 2538,      0.0,  30.1249,  34.1214,2,   -999.0,9,-999.0000,9,    195.7,2,     1.58,2,  -999.00,9,     0.01,2,     0.00,2,     0.10,2, -999.000,9, -999.000,9,  -999.00,9,   1887.4,2,   -999.0,9,-999.0000,9,   -999.0,  9,  -999.00,9,   -999.0,  -999.00,9,  -999.00,9,     0.06,2,     0.03,2,   -999.0,-999.0000, -999,9,    0,  30.1247,  21.0252,   -999.0,9
       RF06-01, EQPAC,RF-2616,  1,     23,02-18577,2,20060213,1117,  0.0062, 155.0027, 2538,     10.6,  30.1094,  34.1515,2,   -999.0,9,  34.1956,4,    194.9,2,     1.53,2,  -999.00,9,     0.00,2,     0.00,2,     0.11,2, -999.000,9, -999.000,9,  -999.00,9,   1889.9,2,   -999.0,9,-999.0000,9,   -999.0,  9,  -999.00,9,   -999.0,  -999.00,9,  -999.00,9,     0.07,2,     0.03,2,   -999.0,-999.0000, -999,9,   11,  30.1068,  21.0538,   -999.0,9
       RF06-01, EQPAC,RF-2616,  1,     22,02-18576,2,20060213,1116,  0.0062, 155.0027, 2538,     25.7,  30.0634,  34.2816,2,   -999.0,9,-999.0000,9,    192.4,2,     1.56,2,  -999.00,9,     0.00,2,     0.00,2,     0.12,2, -999.000,9, -999.000,9,  -999.00,9,   1908.1,2,   -999.0,9,-999.0000,9,   -999.0,  9,  -999.00,9,   -999.0,  -999.00,9,  -999.00,9,     0.10,2,     0.05,2,   -999.0,-999.0000, -999,9,   26,  30.0570,  21.1683,   -999.0,9
       RF06-01, EQPAC,RF-2616,  1,     21,02-18575,2,20060213,1115,  0.0062, 155.0027, 2538,     52.5,  29.9563,  34.8825,2,   -999.0,9,-999.0000,9,    195.8,2,     1.62,2,  -999.00,9,     0.00,2,     0.00,2,     0.16,2, -999.000,9, -999.000,9,  -999.00,9,   1938.0,2,   -999.0,9,-999.0000,9,   -999.0,  9,  -999.00,9,   -999.0,  -999.00,9,  -999.00,9,     0.23,2,     0.13,2,   -999.0,-999.0000, -999,9,   52,  29.9433,  21.6575,   -999.0,9
       RF06-01, EQPAC,RF-2616,  1,     20,02-18574,2,20060213,1114,  0.0062, 155.0027, 2538,     77.9,  29.1143,  35.1112,2,   -999.0,9,-999.0000,9,    195.1,2,     1.89,2,  -999.00,9,     0.60,2,     0.12,2,     0.24,2, -999.000,9, -999.000,9,  -999.00,9,   1968.2,2,   -999.0,9,-999.0000,9,   -999.0,  9,  -999.00,9,   -999.0,  -999.00,9,  -999.00,9,     0.35,2,     0.27,2,   -999.0,-999.0000, -999,9,   77,  29.0954,  22.1156,   -999.0,9
       RF06-01, EQPAC,RF-2616,  1,     19,02-18573,2,20060213,1113,  0.0062, 155.0027, 2538,    100.5,  28.9939,  35.2753,2,   -999.0,9,  35.3014,4,    186.0,2,     2.14,2,  -999.00,9,     2.08,2,     0.21,2,     0.36,2, -999.000,9, -999.000,9,  -999.00,9,   1994.7,2,   -999.0,9,-999.0000,9,   -999.0,  9,  -999.00,9,   -999.0,  -999.00,9,  -999.00,9,     0.18,2,     0.12,2,   -999.0,-999.0000, -999,9,  100,  28.9696,  22.2810,   -999.0,9
       RF06-01, EQPAC,RF-2616,  1,     18,02-18572,2,20060213,1112,  0.0062, 155.0027, 2538,    126.3,  26.0072,  35.4032,2,   -999.0,9,-999.0000,9,    136.9,2,     3.71,2,  -999.00,9,     8.71,2,     0.04,2,     0.68,2, -999.000,9, -999.000,9,  -999.00,9,   2047.0,2,   -999.0,9,-999.0000,9,   -999.0,  9,  -999.00,9,   -999.0,  -999.00,9,  -999.00,9,     0.06,2,     0.14,2,   -999.0,-999.0000, -999,9,  126,  25.9790,  23.3441,   -999.0,9
       RF06-01, EQPAC,RF-2616,  1,     17,02-18571,2,20060213,1111,  0.0062, 155.0027, 2538,    151.7,  23.4215,  35.3124,2,   -999.0,9,-999.0000,9,    128.5,2,     5.01,2,  -999.00,9,    10.21,2,     0.01,2,     0.77,2, -999.000,9, -999.000,9,  -999.00,9,   2072.2,2,   -999.0,9,-999.0000,9,   -999.0,  9,  -999.00,9,   -999.0,  -999.00,9,  -999.00,9,     0.04,2,     0.11,2,   -999.0,-999.0000, -999,9,  151,  23.3901,  24.0574,   -999.0,9
       RF06-01, EQPAC,RF-2616,  1,     16,02-18570,2,20060213,1109,  0.0062, 155.0027, 2538,    201.8,  18.5290,  35.2931,2,   -999.0,9,  35.2567,4,    141.1,2,     7.56,2,  -999.00,9,    12.44,2,     0.00,2,     0.93,2, -999.000,9, -999.000,9,  -999.00,9,   2106.5,2,   -999.0,9,-999.0000,9,   -999.0,  9,  -999.00,9,   -999.0,  -999.00,9,  -999.00,9,     0.00,2,     0.02,2,   -999.0,-999.0000, -999,9,  201,  18.4936,  25.3736,   -999.0,9
       RF06-01, EQPAC,RF-2616,  1,     15,02-18569,2,20060213,1108,  0.0062, 155.0027, 2538,    252.4,  14.9670,  35.1250,2,   -999.0,9,-999.0000,9,    147.4,2,    10.53,2,  -999.00,9,    16.07,2,     0.00,2,     1.16,2, -999.000,9, -999.000,9,  -999.00,9,   2130.2,2,   -999.0,9,-999.0000,9,   -999.0,  9,  -999.00,9,   -999.0,  -999.00,9,  -999.00,9,  -999.00,9,  -999.00,9,   -999.0,-999.0000, -999,9,  251,  14.9287,  26.0841,   -999.0,9
       RF06-01, EQPAC,RF-2616,  1,     14,02-18568,2,20060213,1107,  0.0062, 155.0027, 2538,    302.7,  12.2455,  34.8726,2,   -999.0,9,  34.8591,4,    134.3,2,    19.23,2,  -999.00,9,    21.59,2,     0.00,2,     1.54,2, -999.000,9, -999.000,9,  -999.00,9,   2160.0,3,   -999.0,9,-999.0000,9,   -999.0,  9,  -999.00,9,   -999.0,  -999.00,9,  -999.00,9,  -999.00,9,  -999.00,9,   -999.0,-999.0000, -999,9,  301,  12.2054,  26.4507,   -999.0,9
       RF06-01, EQPAC,RF-2616,  1,     13,02-18567,2,20060213,1104,  0.0062, 155.0027, 2538,    403.9,   9.7199,  34.7073,2,   -999.0,9,  34.7055,2,     94.6,2,    27.76,2,  -999.00,9,    29.62,2,     0.00,2,     2.06,2, -999.000,9, -999.000,9,  -999.00,9,   2200.9,3,   -999.0,9,-999.0000,9,   -999.0,  9,  -999.00,9,   -999.0,  -999.00,9,  -999.00,9,  -999.00,9,  -999.00,9,   -999.0,-999.0000, -999,9,  401,   9.6735,  26.7786,   -999.0,9
       RF06-01, EQPAC,RF-2616,  1,     12,02-18348,2,20060213,1102,  0.0062, 155.0027, 2538,    503.7,   8.4842,  34.6248,2,   -999.0,9,-999.0000,9,    115.6,2,    30.87,2,  -999.00,9,    29.91,2,     0.00,2,     2.10,2, -999.000,9, -999.000,9,  -999.00,9,   2204.3,3,   -999.0,9,-999.0000,9,   -999.0,  9,  -999.00,9,   -999.0,  -999.00,9,  -999.00,9,  -999.00,9,  -999.00,9,   -999.0,-999.0000, -999,9,  500,   8.4307,  26.9138,   -999.0,9
       RF06-01, EQPAC,RF-2616,  1,     11,02-18565,2,20060213,1100,  0.0062, 155.0027, 2538,    604.3,   7.2406,  34.5709,2,   -999.0,9,  34.5712,2,     99.4,2,    41.40,2,  -999.00,9,    33.92,2,     0.00,2,     2.40,2, -999.000,9, -999.000,9,  -999.00,9,   2217.7,3,   -999.0,9,-999.0000,9,   -999.0,  9,  -999.00,9,   -999.0,  -999.00,9,  -999.00,9,  -999.00,9,  -999.00,9,   -999.0,-999.0000, -999,9,  600,   7.1816,  27.0554,   -999.0,9
       RF06-01, EQPAC,RF-2616,  1,     10,02-18564,2,20060213,1057,  0.0062, 155.0027, 2538,    705.8,   6.6368,  34.5622,2,   -999.0,9,-999.0000,9,     77.3,2,    52.17,2,  -999.00,9,    37.60,2,     0.00,2,     2.70,2, -999.000,9, -999.000,9,  -999.00,9,   2244.0,3,   -999.0,9,-999.0000,9,   -999.0,  9,  -999.00,9,   -999.0,  -999.00,9,  -999.00,9,  -999.00,9,  -999.00,9,   -999.0,-999.0000, -999,9,  701,   6.5707,  27.1323,   -999.0,9
       RF06-01, EQPAC,RF-2616,  1,      9,02-18563,2,20060213,1055,  0.0062, 155.0027, 2538,    805.7,   5.7490,  34.5414,2,   -999.0,9,  34.5423,2,     87.6,2,    61.59,2,  -999.00,9,    37.39,2,     0.00,2,     2.69,2, -999.000,9, -999.000,9,  -999.00,9,   2265.8,3,   -999.0,9,-999.0000,9,   -999.0,  9,  -999.00,9,   -999.0,  -999.00,9,  -999.00,9,  -999.00,9,  -999.00,9,   -999.0,-999.0000, -999,9,  800,   5.6784,  27.2306,   -999.0,9
       RF06-01, EQPAC,RF-2616,  1,      8,02-18562,2,20060213,1052,  0.0062, 155.0027, 2538,    907.0,   5.2174,  34.5410,2,   -999.0,9,-999.0000,9,     94.1,2,    70.33,2,  -999.00,9,    37.41,2,     0.00,2,     2.70,2, -999.000,9, -999.000,9,  -999.00,9,   2273.0,3,   -999.0,9,-999.0000,9,   -999.0,  9,  -999.00,9,   -999.0,  -999.00,9,  -999.00,9,  -999.00,9,  -999.00,9,   -999.0,-999.0000, -999,9,  900,   5.1409,  27.2950,   -999.0,9
       RF06-01, EQPAC,RF-2616,  1,      7,02-18561,2,20060213,1050,  0.0062, 155.0027, 2538,   1007.3,   4.6519,  34.5488,2,   -999.0,9,  34.5489,2,    100.5,2,    81.18,2,  -999.00,9,    37.54,2,     0.00,2,     2.70,2, -999.000,9, -999.000,9,  -999.00,9,   2280.9,3,   -999.0,9,-999.0000,9,   -999.0,  9,  -999.00,9,   -999.0,  -999.00,9,  -999.00,9,  -999.00,9,  -999.00,9,   -999.0,-999.0000, -999,9,  999,   4.5705,  27.3661,   -999.0,9
       RF06-01, EQPAC,RF-2616,  1,      6,02-18560,2,20060213,1045,  0.0062, 155.0027, 2538,   1261.3,   3.7858,  34.5731,2,   -999.0,9,  34.5744,2,    100.5,2,   100.38,2,  -999.00,9,    38.76,2,     0.00,2,     2.82,2, -999.000,9, -999.000,9,  -999.00,9,   2307.6,3,   -999.0,9,-999.0000,9,   -999.0,  9,  -999.00,9,   -999.0,  -999.00,9,  -999.00,9,  -999.00,9,  -999.00,9,   -999.0,-999.0000, -999,9, 1251,   3.6898,  27.4782,   -999.0,9
       RF06-01, EQPAC,RF-2616,  1,      5,02-18559,2,20060213,1040,  0.0062, 155.0027, 2538,   1514.1,   3.0177,  34.6017,2,   -999.0,9,  34.6026,2,    105.5,2,   116.89,2,  -999.00,9,    38.64,2,     0.00,2,     2.79,2, -999.000,9, -999.000,9,  -999.00,9,   2315.0,3,   -999.0,9,-999.0000,9,   -999.0,  9,  -999.00,9,   -999.0,  -999.00,9,  -999.00,9,  -999.00,9,  -999.00,9,   -999.0,-999.0000, -999,9, 1500,   2.9084,  27.5755,   -999.0,9
       RF06-01, EQPAC,RF-2616,  1,      4,02-18558,2,20060213,1035,  0.0062, 155.0027, 2538,   1767.6,   2.4949,  34.6248,2,   -999.0,9,  34.6254,2,    113.9,2,   127.12,2,  -999.00,9,    38.19,2,     0.00,2,     2.74,2, -999.000,9, -999.000,9,  -999.00,9,   2332.0,2,   -999.0,9,-999.0000,9,   -999.0,  9,  -999.00,9,   -999.0,  -999.00,9,  -999.00,9,  -999.00,9,  -999.00,9,   -999.0,-999.0000, -999,9, 1750,   2.3709,  27.6408,   -999.0,9
       RF06-01, EQPAC,RF-2616,  1,      3,02-18557,2,20060213,1031,  0.0062, 155.0027, 2538,   2021.1,   2.1308,  34.6437,2,   -999.0,9,  34.6435,2,    121.6,2,   134.42,2,  -999.00,9,    37.78,2,     0.00,2,     2.70,2, -999.000,9, -999.000,9,  -999.00,9,   2335.0,2,   -999.0,9,-999.0000,9,   -999.0,  9,  -999.00,9,   -999.0,  -999.00,9,  -999.00,9,  -999.00,9,  -999.00,9,   -999.0,-999.0000, -999,9, 2000,   1.9905,  27.6869,   -999.0,9
       RF06-01, EQPAC,RF-2616,  1,      2,02-18556,2,20060213,1026,  0.0062, 155.0027, 2538,   2274.8,   1.9597,  34.6520,2,   -999.0,9,  34.6522,2,    124.9,2,   137.68,2,  -999.00,9,    37.51,2,     0.00,2,     2.67,2, -999.000,9, -999.000,9,  -999.00,9,   2333.4,2,   -999.0,9,-999.0000,9,   -999.0,  9,  -999.00,9,   -999.0,  -999.00,9,  -999.00,9,  -999.00,9,  -999.00,9,   -999.0,-999.0000, -999,9, 2250,   1.8003,  27.7084,   -999.0,9
       RF06-01, EQPAC,RF-2616,  1,      1,02-18555,2,20060213,1022,  0.0062, 155.0027, 2538,   2500.0,   1.8457,  34.6584,2,   -999.0,9,  34.6583,2,    135.7,2,   139.51,2,  -999.00,9,    37.30,2,     0.00,2,     2.65,2, -999.000,9, -999.000,9,  -999.00,9,   2333.7,2,   -999.0,9,-999.0000,9,   -999.0,  9,  -999.00,9,   -999.0,  -999.00,9,  -999.00,9,  -999.00,9,  -999.00,9,   -999.0,-999.0000, -999,9, 2472,   1.6683,  27.7236,   -999.0,9