BOTTLE,20131214MIRCJHATS
EXPOCODE,SECT_ID,STNNBR,CASTNO,SAMPNO,BTLNBR,BTLNBR_FLAG_W,DATE,TIME,LATITUDE,LONGITUDE,DEPTH,CTDPRS,CTDTMP,CTDSAL,CTDSAL_FLAG_W,CTDOXY,CTDOXY_FLAG_W,SALNTY,SALNTY_FLAG_W,OXYGEN,OXYGEN_FLAG_W,SILCAT,SILCAT_FLAG_W,NITRAT,NITRAT_FLAG_W,NO2+NO3,NO2+NO3_FLAG_W,NITRIT,NITRIT_FLAG_W,PHSPHT,PHSPHT_FLAG_W,CFC-11,CFC-11_FLAG_W,CFC-12,CFC-12_FLAG_W,DELC13,DELC13_FLAG_W,TCARBN,TCARBN_FLAG_W,ALKALI,ALKALI_FLAG_W,PH,PH_FLAG_W,PH_TMP,PH_SCALE,PH_NBS,PH_NBS_FLAG_W,C13ERR,TOTALP,TOTALP_FLAG_W,AMMONI,AMMONI_FLAG_W,CHLORA,CHLORA_FLAG_W,PPHYTN,PPHYTN_FLAG_W,REVPRS,REVTMP,DEPTH_,DEPTH_FLAG,CTDDEP,THETA,SIGTHT,DOC,DOC_FLAG_W
,,,,,,,GMT,GMT,,,METER,DBAR,ITS-90,PSS-78,,UMOL/KG,,PSS-78,,UMOL/KG,,UMOL/KG,,UMOL/KG,,UMOL/KG,,UMOL/KG,,UMOL/KG,,PMOL/KG,,PMOL/KG,,/MILLE,,UMOL/KG,,UMOL/KG,,25_DEG_C,,DEG_C,,,,/MILLE,UMOL/KG,,UMOL/KG,,UG/L,,UG/L,,DBAR,ITS-90,METERS,,METERS,DEG_C,,UMOL/L,
       RF06-01,  165E,RF-2581,  1,     -9,      -9,5,20060125,1105, 18.0050, 164.9885, 5432,      0.0,  27.6527,  34.8850,2,   -999.0,9,-999.0000,9,    198.5,2,     1.21,2,  -999.00,9,  -999.00,4,  -999.00,4,  -999.00,4, -999.000,9, -999.000,9,  -999.00,9,   1943.8,2,   -999.0,9,-999.0000,9,   -999.0,  9,  -999.00,9,   -999.0,  -999.00,9,  -999.00,9,     0.03,2,     0.01,2,   -999.0,-999.0000, -999,9,    0,  27.6525,  22.4212,   -999.0,9
       RF06-01,  165E,RF-2581,  1,     21,02-18575,2,20060125,1121, 18.0050, 164.9885, 5432,     10.0,  27.6623,  34.8848,2,   -999.0,9,  34.8823,2,    202.2,2,     1.26,2,  -999.00,9,  -999.00,4,  -999.00,4,  -999.00,4, -999.000,9, -999.000,9,  -999.00,9,   -999.0,9,   -999.0,9,-999.0000,9,   -999.0,  9,  -999.00,9,   -999.0,  -999.00,9,  -999.00,9,     0.04,2,     0.01,2,   -999.0,-999.0000, -999,9,   10,  27.6600,  22.4187,   -999.0,9
       RF06-01,  165E,RF-2581,  1,     20,02-18574,2,20060125,1120, 18.0050, 164.9885, 5432,     25.2,  27.6121,  34.8800,2,   -999.0,9,-999.0000,9,    199.3,2,     1.17,2,  -999.00,9,  -999.00,4,  -999.00,4,  -999.00,4, -999.000,9, -999.000,9,  -999.00,9,   -999.0,9,   -999.0,9,-999.0000,9,   -999.0,  9,  -999.00,9,   -999.0,  -999.00,9,  -999.00,9,     0.05,2,     0.01,2,   -999.0,-999.0000, -999,9,   25,  27.6062,  22.4325,   -999.0,9
       RF06-01,  165E,RF-2581,  1,     19,02-18573,2,20060125,1119, 18.0050, 164.9885, 5432,     50.9,  27.6032,  34.8795,2,   -999.0,9,-999.0000,9,    197.8,2,     1.23,2,  -999.00,9,  -999.00,4,  -999.00,4,  -999.00,4, -999.000,9, -999.000,9,  -999.00,9,   -999.0,9,   -999.0,9,-999.0000,9,   -999.0,  9,  -999.00,9,   -999.0,  -999.00,9,  -999.00,9,     0.04,2,     0.01,2,   -999.0,-999.0000, -999,9,   51,  27.5913,  22.4369,   -999.0,9
       RF06-01,  165E,RF-2581,  1,     18,02-18572,2,20060125,1118, 18.0050, 164.9885, 5432,     76.9,  27.6053,  34.8800,2,   -999.0,9,-999.0000,9,    200.1,2,     1.16,2,  -999.00,9,  -999.00,4,  -999.00,4,  -999.00,4, -999.000,9, -999.000,9,  -999.00,9,   -999.0,9,   -999.0,9,-999.0000,9,   -999.0,  9,  -999.00,9,   -999.0,  -999.00,9,  -999.00,9,     0.04,2,     0.01,2,   -999.0,-999.0000, -999,9,   76,  27.5874,  22.4386,   -999.0,9
       RF06-01,  165E,RF-2581,  1,     17,02-18571,2,20060125,1117, 18.0050, 164.9885, 5432,    101.6,  27.5140,  34.8842,2,   -999.0,9,  34.8888,2,    199.9,2,     1.15,2,  -999.00,9,  -999.00,4,  -999.00,4,  -999.00,4, -999.000,9, -999.000,9,  -999.00,9,   -999.0,9,   -999.0,9,-999.0000,9,   -999.0,  9,  -999.00,9,   -999.0,  -999.00,9,  -999.00,9,     0.07,2,     0.03,2,   -999.0,-999.0000, -999,9,  101,  27.4904,  22.4731,   -999.0,9
       RF06-01,  165E,RF-2581,  1,     16,02-18570,2,20060125,1115, 18.0050, 164.9885, 5432,    126.4,  25.3494,  35.1037,2,   -999.0,9,-999.0000,9,    202.8,2,     1.24,2,  -999.00,9,  -999.00,4,  -999.00,4,  -999.00,4, -999.000,9, -999.000,9,  -999.00,9,   -999.0,9,   -999.0,9,-999.0000,9,   -999.0,  9,  -999.00,9,   -999.0,  -999.00,9,  -999.00,9,     0.14,2,     0.17,2,   -999.0,-999.0000, -999,9,  126,  25.3217,  23.3214,   -999.0,9
       RF06-01,  165E,RF-2581,  1,     15,02-18569,2,20060125,1114, 18.0050, 164.9885, 5432,    150.9,  23.9589,  35.1515,2,   -999.0,9,-999.0000,9,    190.8,2,     1.46,2,  -999.00,9,  -999.00,4,  -999.00,4,  -999.00,4, -999.000,9, -999.000,9,  -999.00,9,   -999.0,9,   -999.0,9,-999.0000,9,   -999.0,  9,  -999.00,9,   -999.0,  -999.00,9,  -999.00,9,     0.12,2,     0.26,2,   -999.0,-999.0000, -999,9,  150,  23.9271,  23.7776,   -999.0,9
       RF06-01,  165E,RF-2581,  1,     14,02-18568,2,20060125,1112, 18.0050, 164.9885, 5432,    200.5,  20.4651,  35.0466,2,   -999.0,9,  35.0477,2,    186.9,2,     2.58,2,  -999.00,9,  -999.00,4,  -999.00,4,  -999.00,4, -999.000,9, -999.000,9,  -999.00,9,   -999.0,9,   -999.0,9,-999.0000,9,   -999.0,  9,  -999.00,9,   -999.0,  -999.00,9,  -999.00,9,     0.01,2,     0.03,2,   -999.0,-999.0000, -999,9,  199,  20.4274,  24.6838,   -999.0,9
       RF06-01,  165E,RF-2581,  1,     13,02-18567,2,20060125,1110, 18.0050, 164.9885, 5432,    253.5,  17.5655,  34.7882,2,   -999.0,9,-999.0000,9,    186.9,2,     4.81,2,  -999.00,9,  -999.00,4,  -999.00,4,  -999.00,4, -999.000,9, -999.000,9,  -999.00,9,   -999.0,9,   -999.0,9,-999.0000,9,   -999.0,  9,  -999.00,9,   -999.0,  -999.00,9,  -999.00,9,  -999.00,9,  -999.00,9,   -999.0,-999.0000, -999,9,  252,  17.5227,  25.2263,   -999.0,9
       RF06-01,  165E,RF-2581,  1,     12,02-18566,2,20060125,1109, 18.0050, 164.9885, 5432,    304.6,  15.0883,  34.5572,2,   -999.0,9,  34.5594,2,    186.3,2,     8.44,2,  -999.00,9,  -999.00,4,  -999.00,4,  -999.00,4, -999.000,9, -999.000,9,  -999.00,9,   -999.0,9,   -999.0,9,-999.0000,9,   -999.0,  9,  -999.00,9,   -999.0,  -999.00,9,  -999.00,9,  -999.00,9,  -999.00,9,   -999.0,-999.0000, -999,9,  303,  15.0420,  25.6213,   -999.0,9
       RF06-01,  165E,RF-2581,  1,     11,02-18565,2,20060125,1106, 18.0050, 164.9885, 5432,    403.4,  10.9630,  34.2589,2,   -999.0,9,  34.2614,2,    150.4,2,    21.72,2,  -999.00,9,  -999.00,4,  -999.00,4,  -999.00,4, -999.000,9, -999.000,9,  -999.00,9,   -999.0,9,   -999.0,9,-999.0000,9,   -999.0,  9,  -999.00,9,   -999.0,  -999.00,9,  -999.00,9,  -999.00,9,  -999.00,9,   -999.0,-999.0000, -999,9,  401,  10.9133,  26.2140,   -999.0,9
       RF06-01,  165E,RF-2581,  1,     10,02-18564,2,20060125,1104, 18.0050, 164.9885, 5432,    504.0,   8.2242,  34.2744,2,   -999.0,9,-999.0000,9,     80.6,2,    45.07,2,  -999.00,9,  -999.00,4,  -999.00,4,  -999.00,4, -999.000,9, -999.000,9,  -999.00,9,   -999.0,9,   -999.0,9,-999.0000,9,   -999.0,  9,  -999.00,9,   -999.0,  -999.00,9,  -999.00,9,  -999.00,9,  -999.00,9,   -999.0,-999.0000, -999,9,  500,   8.1719,  26.6782,   -999.0,9
       RF06-01,  165E,RF-2581,  1,      9,02-18563,2,20060125,1102, 18.0050, 164.9885, 5432,    607.6,   7.0454,  34.3421,2,   -999.0,9,  34.3433,2,     53.7,2,    59.60,2,  -999.00,9,  -999.00,4,  -999.00,4,  -999.00,4, -999.000,9, -999.000,9,  -999.00,9,   -999.0,9,   -999.0,9,-999.0000,9,   -999.0,  9,  -999.00,9,   -999.0,  -999.00,9,  -999.00,9,  -999.00,9,  -999.00,9,   -999.0,-999.0000, -999,9,  603,   6.9872,  26.9023,   -999.0,9
       RF06-01,  165E,RF-2581,  1,      8,02-18562,2,20060125,1100, 18.0050, 164.9885, 5432,    707.5,   5.8318,  34.3764,2,   -999.0,9,-999.0000,9,     50.8,2,    76.57,2,  -999.00,9,  -999.00,4,  -999.00,4,  -999.00,4, -999.000,9, -999.000,9,  -999.00,9,   -999.0,9,   -999.0,9,-999.0000,9,   -999.0,  9,  -999.00,9,   -999.0,  -999.00,9,  -999.00,9,  -999.00,9,  -999.00,9,   -999.0,-999.0000, -999,9,  702,   5.7700,  27.0887,   -999.0,9
       RF06-01,  165E,RF-2581,  1,      7,02-18561,2,20060125,1057, 18.0050, 164.9885, 5432,    809.3,   5.2188,  34.4540,2,   -999.0,9,  34.4553,2,     55.5,2,    85.55,2,  -999.00,9,  -999.00,4,  -999.00,4,  -999.00,4, -999.000,9, -999.000,9,  -999.00,9,   -999.0,9,   -999.0,9,-999.0000,9,   -999.0,  9,  -999.00,9,   -999.0,  -999.00,9,  -999.00,9,  -999.00,9,  -999.00,9,   -999.0,-999.0000, -999,9,  803,   5.1512,  27.2248,   -999.0,9
       RF06-01,  165E,RF-2581,  1,      6,02-18560,2,20060125,1055, 18.0050, 164.9885, 5432,    908.4,   4.7938,  34.4945,2,   -999.0,9,-999.0000,9,     60.8,2,    92.80,2,  -999.00,9,  -999.00,4,  -999.00,4,  -999.00,4, -999.000,9, -999.000,9,  -999.00,9,   -999.0,9,   -999.0,9,-999.0000,9,   -999.0,  9,  -999.00,9,   -999.0,  -999.00,9,  -999.00,9,  -999.00,9,  -999.00,9,   -999.0,-999.0000, -999,9,  901,   4.7202,  27.3064,   -999.0,9
       RF06-01,  165E,RF-2581,  1,      5,02-18559,2,20060125,1053, 18.0050, 164.9885, 5432,   1011.4,   4.4808,  34.5146,2,   -999.0,9,  34.5149,2,     65.3,2,    98.27,2,  -999.00,9,  -999.00,4,  -999.00,4,  -999.00,4, -999.000,9, -999.000,9,  -999.00,9,   -999.0,9,   -999.0,9,-999.0000,9,   -999.0,  9,  -999.00,9,   -999.0,  -999.00,9,  -999.00,9,  -999.00,9,  -999.00,9,   -999.0,-999.0000, -999,9, 1003,   4.4004,  27.3576,   -999.0,9
       RF06-01,  165E,RF-2581,  1,      4,02-18558,2,20060125,1048, 18.0050, 164.9885, 5432,   1262.7,   3.5781,  34.5471,2,   -999.0,9,  34.5479,2,     77.6,2,   116.08,2,  -999.00,9,  -999.00,4,  -999.00,4,  -999.00,4, -999.000,9, -999.000,9,  -999.00,9,   -999.0,9,   -999.0,9,-999.0000,9,   -999.0,  9,  -999.00,9,   -999.0,  -999.00,9,  -999.00,9,  -999.00,9,  -999.00,9,   -999.0,-999.0000, -999,9, 1251,   3.4841,  27.4778,   -999.0,9
       RF06-01,  165E,RF-2581,  1,      3,02-18557,2,20060125,1044, 18.0050, 164.9885, 5432,   1514.9,   3.0164,  34.5741,2,   -999.0,9,  34.5749,2,     83.2,2,   127.04,2,  -999.00,9,  -999.00,4,  -999.00,4,  -999.00,4, -999.000,9, -999.000,9,  -999.00,9,   -999.0,9,   -999.0,9,-999.0000,9,   -999.0,  9,  -999.00,9,   -999.0,  -999.00,9,  -999.00,9,  -999.00,9,  -999.00,9,   -999.0,-999.0000, -999,9, 1500,   2.9071,  27.5536,   -999.0,9
       RF06-01,  165E,RF-2581,  1,      2,02-18556,2,20060125,1040, 18.0050, 164.9885, 5432,   1768.8,   2.5486,  34.5982,2,   -999.0,9,  34.5988,2,     90.0,2,   135.86,2,  -999.00,9,  -999.00,4,  -999.00,4,  -999.00,4, -999.000,9, -999.000,9,  -999.00,9,   -999.0,9,   -999.0,9,-999.0000,9,   -999.0,  9,  -999.00,9,   -999.0,  -999.00,9,  -999.00,9,  -999.00,9,  -999.00,9,   -999.0,-999.0000, -999,9, 1751,   2.4238,  27.6151,   -999.0,9
       RF06-01,  165E,RF-2581,  1,      1,02-18555,2,20060125,1035, 18.0050, 164.9885, 5432,   2023.9,   2.1890,  34.6195,2,   -999.0,9,  34.6199,2,    101.5,2,   142.18,2,  -999.00,9,  -999.00,4,  -999.00,4,  -999.00,4, -999.000,9, -999.000,9,  -999.00,9,   -999.0,9,   -999.0,9,-999.0000,9,   -999.0,  9,  -999.00,9,   -999.0,  -999.00,9,  -999.00,9,  -999.00,9,  -999.00,9,   -999.0,-999.0000, -999,9, 2002,   2.0477,  27.6630,   -999.0,9