BOTTLE,20131214MIRCJHATS
EXPOCODE,SECT_ID,STNNBR,CASTNO,SAMPNO,BTLNBR,BTLNBR_FLAG_W,DATE,TIME,LATITUDE,LONGITUDE,DEPTH,CTDPRS,CTDTMP,CTDSAL,CTDSAL_FLAG_W,CTDOXY,CTDOXY_FLAG_W,SALNTY,SALNTY_FLAG_W,OXYGEN,OXYGEN_FLAG_W,SILCAT,SILCAT_FLAG_W,NITRAT,NITRAT_FLAG_W,NO2+NO3,NO2+NO3_FLAG_W,NITRIT,NITRIT_FLAG_W,PHSPHT,PHSPHT_FLAG_W,CFC-11,CFC-11_FLAG_W,CFC-12,CFC-12_FLAG_W,DELC13,DELC13_FLAG_W,TCARBN,TCARBN_FLAG_W,ALKALI,ALKALI_FLAG_W,PH,PH_FLAG_W,PH_TMP,PH_SCALE,PH_NBS,PH_NBS_FLAG_W,C13ERR,TOTALP,TOTALP_FLAG_W,AMMONI,AMMONI_FLAG_W,CHLORA,CHLORA_FLAG_W,PPHYTN,PPHYTN_FLAG_W,REVPRS,REVTMP,DEPTH_,DEPTH_FLAG,CTDDEP,THETA,SIGTHT,DOC,DOC_FLAG_W
,,,,,,,GMT,GMT,,,METER,DBAR,ITS-90,PSS-78,,UMOL/KG,,PSS-78,,UMOL/KG,,UMOL/KG,,UMOL/KG,,UMOL/KG,,UMOL/KG,,UMOL/KG,,PMOL/KG,,PMOL/KG,,/MILLE,,UMOL/KG,,UMOL/KG,,25_DEG_C,,DEG_C,,,,/MILLE,UMOL/KG,,UMOL/KG,,UG/L,,UG/L,,DBAR,ITS-90,METERS,,METERS,DEG_C,,UMOL/L,
       RF06-01,  165E,RF-2604,  1,     -9,      -9,5,20060208,2141, -5.0130, 164.9932, 2305,      0.0,  29.5967,  34.8937,2,   -999.0,9,-999.0000,9,    189.2,2,     1.40,2,  -999.00,9,     0.03,2,     0.00,2,     0.20,2, -999.000,9, -999.000,9,  -999.00,9,   1920.9,2,   -999.0,9,-999.0000,9,   -999.0,  9,  -999.00,9,   -999.0,  -999.00,9,  -999.00,9,     0.16,2,     0.08,2,   -999.0,-999.0000, -999,9,    0,  29.5965,  21.7836,   -999.0,9
       RF06-01,  165E,RF-2604,  1,     23,02-18577,2,20060208,2157, -5.0130, 164.9932, 2305,      9.5,  29.5995,  34.8937,2,   -999.0,9,  34.8926,2,    191.8,2,     1.35,2,  -999.00,9,     0.01,2,     0.00,2,     0.20,2, -999.000,9, -999.000,9,  -999.00,9,   -999.0,9,   -999.0,9,-999.0000,9,   -999.0,  9,  -999.00,9,   -999.0,  -999.00,9,  -999.00,9,     0.16,2,     0.06,2,   -999.0,-999.0000, -999,9,    9,  29.5972,  21.7834,   -999.0,9
       RF06-01,  165E,RF-2604,  1,     22,02-18576,2,20060208,2156, -5.0130, 164.9932, 2305,     24.8,  29.6037,  34.8938,2,   -999.0,9,-999.0000,9,    192.8,2,     1.36,2,  -999.00,9,     0.01,2,     0.00,2,     0.20,2, -999.000,9, -999.000,9,  -999.00,9,   -999.0,9,   -999.0,9,-999.0000,9,   -999.0,  9,  -999.00,9,   -999.0,  -999.00,9,  -999.00,9,     0.19,2,     0.09,2,   -999.0,-999.0000, -999,9,   25,  29.5976,  21.7833,   -999.0,9
       RF06-01,  165E,RF-2604,  1,     21,02-18575,2,20060208,2155, -5.0130, 164.9932, 2305,     51.0,  29.8646,  35.2598,2,   -999.0,9,-999.0000,9,    191.0,2,     1.41,2,  -999.00,9,     0.21,2,     0.01,2,     0.24,2, -999.000,9, -999.000,9,  -999.00,9,   -999.0,9,   -999.0,9,-999.0000,9,   -999.0,  9,  -999.00,9,   -999.0,  -999.00,9,  -999.00,9,     0.27,2,     0.15,2,   -999.0,-999.0000, -999,9,   51,  29.8520,  21.9715,   -999.0,9
       RF06-01,  165E,RF-2604,  1,     20,02-18574,2,20060208,2154, -5.0130, 164.9932, 2305,     76.7,  29.7861,  35.4708,2,   -999.0,9,-999.0000,9,    189.1,2,     1.61,2,  -999.00,9,     0.56,2,     0.03,2,     0.30,2, -999.000,9, -999.000,9,  -999.00,9,   -999.0,9,   -999.0,9,-999.0000,9,   -999.0,  9,  -999.00,9,   -999.0,  -999.00,9,  -999.00,9,     0.20,2,     0.14,2,   -999.0,-999.0000, -999,9,   76,  29.7672,  22.1586,   -999.0,9
       RF06-01,  165E,RF-2604,  1,     19,02-18573,2,20060208,2153, -5.0130, 164.9932, 2305,    102.0,  29.4064,  35.5269,2,   -999.0,9,  35.5410,4,    184.7,2,     1.81,2,  -999.00,9,     1.77,2,     0.31,2,     0.41,2, -999.000,9, -999.000,9,  -999.00,9,   -999.0,9,   -999.0,9,-999.0000,9,   -999.0,  9,  -999.00,9,   -999.0,  -999.00,9,  -999.00,9,     0.07,2,     0.05,2,   -999.0,-999.0000, -999,9,  101,  29.3814,  22.3315,   -999.0,9
       RF06-01,  165E,RF-2604,  1,     18,02-18572,2,20060208,2152, -5.0130, 164.9932, 2305,    126.8,  29.2685,  35.5406,2,   -999.0,9,-999.0000,9,    181.9,2,     1.78,2,  -999.00,9,     2.57,2,     1.02,2,     0.42,2, -999.000,9, -999.000,9,  -999.00,9,   -999.0,9,   -999.0,9,-999.0000,9,   -999.0,  9,  -999.00,9,   -999.0,  -999.00,9,  -999.00,9,     0.06,2,     0.04,2,   -999.0,-999.0000, -999,9,  126,  29.2376,  22.3903,   -999.0,9
       RF06-01,  165E,RF-2604,  1,     17,02-18571,2,20060208,2151, -5.0130, 164.9932, 2305,    151.3,  28.7264,  35.5283,2,   -999.0,9,  35.5627,4,    168.9,2,     2.15,2,  -999.00,9,     5.37,2,     1.84,2,     0.56,2, -999.000,9, -999.000,9,  -999.00,9,   -999.0,9,   -999.0,9,-999.0000,9,   -999.0,  9,  -999.00,9,   -999.0,  -999.00,9,  -999.00,9,     0.04,2,     0.03,2,   -999.0,-999.0000, -999,9,  150,  28.6900,  22.5643,   -999.0,9
       RF06-01,  165E,RF-2604,  1,     16,02-18570,2,20060208,2149, -5.0130, 164.9932, 2305,    202.6,  24.9001,  36.1918,2,   -999.0,9,  36.1957,2,    134.1,2,     2.05,2,  -999.00,9,     7.79,2,     0.02,2,     0.75,2, -999.000,9, -999.000,9,  -999.00,9,   -999.0,9,   -999.0,9,-999.0000,9,   -999.0,  9,  -999.00,9,   -999.0,  -999.00,9,  -999.00,9,     0.02,2,     0.04,2,   -999.0,-999.0000, -999,9,  201,  24.8560,  24.2862,   -999.0,9
       RF06-01,  165E,RF-2604,  1,     15,02-18569,2,20060208,2148, -5.0130, 164.9932, 2305,    251.9,  16.8300,  35.3835,2,   -999.0,9,  35.3665,4,     99.9,2,     9.00,2,  -999.00,9,    17.70,2,     0.00,2,     1.42,2, -999.000,9, -999.000,9,  -999.00,9,   -999.0,9,   -999.0,9,-999.0000,9,   -999.0,  9,  -999.00,9,   -999.0,  -999.00,9,  -999.00,9,  -999.00,9,  -999.00,9,   -999.0,-999.0000, -999,9,  250,  16.7885,  25.8589,   -999.0,9
       RF06-01,  165E,RF-2604,  1,     14,02-18568,2,20060208,2146, -5.0130, 164.9932, 2305,    301.9,  12.5851,  34.9614,2,   -999.0,9,  34.9466,4,     76.5,2,    18.39,2,  -999.00,9,    26.36,2,     0.00,2,     1.94,2, -999.000,9, -999.000,9,  -999.00,9,   -999.0,9,   -999.0,9,-999.0000,9,   -999.0,  9,  -999.00,9,   -999.0,  -999.00,9,  -999.00,9,  -999.00,9,  -999.00,9,   -999.0,-999.0000, -999,9,  300,  12.5443,  26.4536,   -999.0,9
       RF06-01,  165E,RF-2604,  1,     13,02-18567,2,20060208,2144, -5.0130, 164.9932, 2305,    404.5,   9.3949,  34.7031,2,   -999.0,9,  34.7022,2,     87.1,2,    27.26,2,  -999.00,9,    31.00,2,     0.00,2,     2.17,2, -999.000,9, -999.000,9,  -999.00,9,   -999.0,9,   -999.0,9,-999.0000,9,   -999.0,  9,  -999.00,9,   -999.0,  -999.00,9,  -999.00,9,  -999.00,9,  -999.00,9,   -999.0,-999.0000, -999,9,  402,   9.3494,  26.8290,   -999.0,9
       RF06-01,  165E,RF-2604,  1,     12,02-18566,2,20060208,2141, -5.0130, 164.9932, 2305,    504.4,   8.2395,  34.6287,2,   -999.0,9,-999.0000,9,     93.9,2,    32.41,2,  -999.00,9,    33.07,2,     0.00,2,     2.31,2, -999.000,9, -999.000,9,  -999.00,9,   -999.0,9,   -999.0,9,-999.0000,9,   -999.0,  9,  -999.00,9,   -999.0,  -999.00,9,  -999.00,9,  -999.00,9,  -999.00,9,   -999.0,-999.0000, -999,9,  501,   8.1868,  26.9541,   -999.0,9
       RF06-01,  165E,RF-2604,  1,     11,02-18565,2,20060208,2139, -5.0130, 164.9932, 2305,    603.8,   7.2868,  34.5843,2,   -999.0,9,  34.5838,2,     77.5,2,    41.28,2,  -999.00,9,    36.32,2,     0.00,2,     2.56,2, -999.000,9, -999.000,9,  -999.00,9,   -999.0,9,   -999.0,9,-999.0000,9,   -999.0,  9,  -999.00,9,   -999.0,  -999.00,9,  -999.00,9,  -999.00,9,  -999.00,9,   -999.0,-999.0000, -999,9,  600,   7.2277,  27.0595,   -999.0,9
       RF06-01,  165E,RF-2604,  1,     10,02-18564,2,20060208,2136, -5.0130, 164.9932, 2305,    706.9,   6.2266,  34.5401,2,   -999.0,9,-999.0000,9,    103.3,2,    49.04,2,  -999.00,9,    36.12,2,     0.00,2,     2.56,2, -999.000,9, -999.000,9,  -999.00,9,   -999.0,9,   -999.0,9,-999.0000,9,   -999.0,  9,  -999.00,9,   -999.0,  -999.00,9,  -999.00,9,  -999.00,9,  -999.00,9,   -999.0,-999.0000, -999,9,  702,   6.1626,  27.1685,   -999.0,9
       RF06-01,  165E,RF-2604,  1,      9,02-18563,2,20060208,2134, -5.0130, 164.9932, 2305,    808.3,   5.5516,  34.5210,2,   -999.0,9,  34.5223,2,   -999.0,4,    54.41,2,  -999.00,9,    35.04,2,     0.00,2,     2.48,2, -999.000,9, -999.000,9,  -999.00,9,   -999.0,9,   -999.0,9,-999.0000,9,   -999.0,  9,  -999.00,9,   -999.0,  -999.00,9,  -999.00,9,  -999.00,9,  -999.00,9,   -999.0,-999.0000, -999,9,  802,   5.4820,  27.2384,   -999.0,9
       RF06-01,  165E,RF-2604,  1,      8,02-18562,2,20060208,2131, -5.0130, 164.9932, 2305,    908.1,   5.2835,  34.5348,2,   -999.0,9,-999.0000,9,     98.0,2,    60.96,2,  -999.00,9,    37.43,2,     0.00,2,     2.67,2, -999.000,9, -999.000,9,  -999.00,9,   -999.0,9,   -999.0,9,-999.0000,9,   -999.0,  9,  -999.00,9,   -999.0,  -999.00,9,  -999.00,9,  -999.00,9,  -999.00,9,   -999.0,-999.0000, -999,9,  901,   5.2064,  27.2823,   -999.0,9
       RF06-01,  165E,RF-2604,  1,      7,02-18561,2,20060208,2129, -5.0130, 164.9932, 2305,   1009.3,   4.7709,  34.5347,2,   -999.0,9,  34.5352,2,    110.2,2,    71.15,2,  -999.00,9,    36.81,2,     0.00,2,     2.63,2, -999.000,9, -999.000,9,  -999.00,9,   -999.0,9,   -999.0,9,-999.0000,9,   -999.0,  9,  -999.00,9,   -999.0,  -999.00,9,  -999.00,9,  -999.00,9,  -999.00,9,   -999.0,-999.0000, -999,9, 1001,   4.6885,  27.3418,   -999.0,9
       RF06-01,  165E,RF-2604,  1,      6,02-18560,2,20060208,2124, -5.0130, 164.9932, 2305,   1261.4,   3.8277,  34.5600,2,   -999.0,9,  34.5603,2,    114.6,2,    90.65,2,  -999.00,9,    37.85,2,     0.00,2,     2.72,2, -999.000,9, -999.000,9,  -999.00,9,   -999.0,9,   -999.0,9,-999.0000,9,   -999.0,  9,  -999.00,9,   -999.0,  -999.00,9,  -999.00,9,  -999.00,9,  -999.00,9,   -999.0,-999.0000, -999,9, 1251,   3.7313,  27.4636,   -999.0,9
       RF06-01,  165E,RF-2604,  1,      5,02-18559,3,20060208,2119, -5.0130, 164.9932, 2305,   1514.5,   3.0483,  34.5948,2,   -999.0,9,  34.6017,4,    129.3,2,   108.17,2,  -999.00,9,    37.88,2,     0.00,2,     2.72,2, -999.000,9, -999.000,9,  -999.00,9,   -999.0,9,   -999.0,9,-999.0000,9,   -999.0,  9,  -999.00,9,   -999.0,  -999.00,9,  -999.00,9,  -999.00,9,  -999.00,9,   -999.0,-999.0000, -999,9, 1501,   2.9386,  27.5672,   -999.0,9
       RF06-01,  165E,RF-2604,  1,      4,02-18558,2,20060208,2115, -5.0130, 164.9932, 2305,   1765.7,   2.5119,  34.6227,2,   -999.0,9,  34.6224,2,    119.6,2,   122.05,2,  -999.00,9,    37.52,2,     0.00,2,     2.71,2, -999.000,9, -999.000,9,  -999.00,9,   -999.0,9,   -999.0,9,-999.0000,9,   -999.0,  9,  -999.00,9,   -999.0,  -999.00,9,  -999.00,9,  -999.00,9,  -999.00,9,   -999.0,-999.0000, -999,9, 1749,   2.3878,  27.6378,   -999.0,9
       RF06-01,  165E,RF-2604,  1,      3,02-18557,2,20060208,2110, -5.0130, 164.9932, 2305,   2020.0,   2.2199,  34.6398,2,   -999.0,9,  34.6398,2,    127.3,2,   129.46,2,  -999.00,9,    37.75,2,     0.00,2,     2.69,2, -999.000,9, -999.000,9,  -999.00,9,   -999.0,9,   -999.0,9,-999.0000,9,   -999.0,  9,  -999.00,9,   -999.0,  -999.00,9,  -999.00,9,  -999.00,9,  -999.00,9,   -999.0,-999.0000, -999,9, 1999,   2.0784,  27.6768,   -999.0,9
       RF06-01,  165E,RF-2604,  1,      2,02-18556,2,20060208,2106, -5.0130, 164.9932, 2305,   2274.0,   1.9989,  34.6524,2,   -999.0,9,  34.6536,2,    127.8,2,   133.84,2,  -999.00,9,    37.35,2,     0.00,2,     2.65,2, -999.000,9, -999.000,9,  -999.00,9,   -999.0,9,   -999.0,9,-999.0000,9,   -999.0,  9,  -999.00,9,   -999.0,  -999.00,9,  -999.00,9,  -999.00,9,  -999.00,9,   -999.0,-999.0000, -999,9, 2249,   1.8389,  27.7058,   -999.0,9
       RF06-01,  165E,RF-2604,  1,      1,02-18555,2,20060208,2104, -5.0130, 164.9932, 2305,   2289.9,   1.9817,  34.6533,2,   -999.0,9,  34.6522,2,    132.6,2,   134.38,2,  -999.00,9,    37.40,2,     0.00,2,     2.65,2, -999.000,9, -999.000,9,  -999.00,9,   -999.0,9,   -999.0,9,-999.0000,9,   -999.0,  9,  -999.00,9,   -999.0,  -999.00,9,  -999.00,9,  -999.00,9,  -999.00,9,   -999.0,-999.0000, -999,9, 2265,   1.8206,  27.7079,   -999.0,9