BOTTLE,20131214MIRCJHATS
EXPOCODE,SECT_ID,STNNBR,CASTNO,SAMPNO,BTLNBR,BTLNBR_FLAG_W,DATE,TIME,LATITUDE,LONGITUDE,DEPTH,CTDPRS,CTDTMP,CTDSAL,CTDSAL_FLAG_W,CTDOXY,CTDOXY_FLAG_W,SALNTY,SALNTY_FLAG_W,OXYGEN,OXYGEN_FLAG_W,SILCAT,SILCAT_FLAG_W,NITRAT,NITRAT_FLAG_W,NO2+NO3,NO2+NO3_FLAG_W,NITRIT,NITRIT_FLAG_W,PHSPHT,PHSPHT_FLAG_W,CFC-11,CFC-11_FLAG_W,CFC-12,CFC-12_FLAG_W,DELC13,DELC13_FLAG_W,TCARBN,TCARBN_FLAG_W,ALKALI,ALKALI_FLAG_W,PH,PH_FLAG_W,PH_TMP,PH_SCALE,PH_NBS,PH_NBS_FLAG_W,C13ERR,TOTALP,TOTALP_FLAG_W,AMMONI,AMMONI_FLAG_W,CHLORA,CHLORA_FLAG_W,PPHYTN,PPHYTN_FLAG_W,REVPRS,REVTMP,DEPTH_,DEPTH_FLAG,CTDDEP,THETA,SIGTHT,DOC,DOC_FLAG_W
,,,,,,,GMT,GMT,,,METER,DBAR,ITS-90,PSS-78,,UMOL/KG,,PSS-78,,UMOL/KG,,UMOL/KG,,UMOL/KG,,UMOL/KG,,UMOL/KG,,UMOL/KG,,PMOL/KG,,PMOL/KG,,/MILLE,,UMOL/KG,,UMOL/KG,,25_DEG_C,,DEG_C,,,,/MILLE,UMOL/KG,,UMOL/KG,,UG/L,,UG/L,,DBAR,ITS-90,METERS,,METERS,DEG_C,,UMOL/L,
       RF06-01,  NONE,RF-2567,  1,     -9,      -9,5,20060121,0320, 27.9875, 156.9885, 6089,      0.0,  19.8954,  34.8473,2,   -999.0,9,-999.0000,9,    224.6,2,     2.25,2,  -999.00,9,  -999.00,4,  -999.00,4,  -999.00,4, -999.000,9, -999.000,9,  -999.00,9,   -999.0,9,   -999.0,9,-999.0000,9,   -999.0,  9,  -999.00,9,   -999.0,  -999.00,9,  -999.00,9,     0.33,2,     0.12,2,   -999.0,-999.0000, -999,9,    0,  19.8953,  24.6728,   -999.0,9
       RF06-01,  NONE,RF-2567,  1,     21,02-18575,2,20060121,0336, 27.9875, 156.9885, 6089,      9.8,  19.8822,  34.8451,2,   -999.0,9,  34.8403,2,    226.4,2,     2.18,2,  -999.00,9,  -999.00,4,  -999.00,4,  -999.00,4, -999.000,9, -999.000,9,  -999.00,9,   -999.0,9,   -999.0,9,-999.0000,9,   -999.0,  9,  -999.00,9,   -999.0,  -999.00,9,  -999.00,9,     0.39,2,     0.13,2,   -999.0,-999.0000, -999,9,   10,  19.8804,  24.6750,   -999.0,9
       RF06-01,  NONE,RF-2567,  1,     20,02-18574,2,20060121,0335, 27.9875, 156.9885, 6089,     25.9,  19.7607,  34.8191,2,   -999.0,9,-999.0000,9,    227.5,2,     2.13,2,  -999.00,9,  -999.00,4,  -999.00,4,  -999.00,4, -999.000,9, -999.000,9,  -999.00,9,   -999.0,9,   -999.0,9,-999.0000,9,   -999.0,  9,  -999.00,9,   -999.0,  -999.00,9,  -999.00,9,     0.44,2,     0.14,2,   -999.0,-999.0000, -999,9,   26,  19.7560,  24.6877,   -999.0,9
       RF06-01,  NONE,RF-2567,  1,     19,02-18573,2,20060121,0334, 27.9875, 156.9885, 6089,     51.0,  19.7815,  34.8275,2,   -999.0,9,-999.0000,9,    224.4,2,     2.16,2,  -999.00,9,  -999.00,4,  -999.00,4,  -999.00,4, -999.000,9, -999.000,9,  -999.00,9,   -999.0,9,   -999.0,9,-999.0000,9,   -999.0,  9,  -999.00,9,   -999.0,  -999.00,9,  -999.00,9,     0.44,2,     0.17,2,   -999.0,-999.0000, -999,9,   51,  19.7722,  24.6900,   -999.0,9
       RF06-01,  NONE,RF-2567,  1,     18,02-18572,2,20060121,0333, 27.9875, 156.9885, 6089,     75.6,  19.7835,  34.8280,2,   -999.0,9,-999.0000,9,    224.0,2,     2.13,2,  -999.00,9,  -999.00,4,  -999.00,4,  -999.00,4, -999.000,9, -999.000,9,  -999.00,9,   -999.0,9,   -999.0,9,-999.0000,9,   -999.0,  9,  -999.00,9,   -999.0,  -999.00,9,  -999.00,9,     0.44,2,     0.14,2,   -999.0,-999.0000, -999,9,   75,  19.7697,  24.6910,   -999.0,9
       RF06-01,  NONE,RF-2567,  1,     17,02-18571,2,20060121,0332, 27.9875, 156.9885, 6089,    101.1,  19.7778,  34.8250,2,   -999.0,9,  34.8233,2,    222.5,2,     2.12,2,  -999.00,9,  -999.00,4,  -999.00,4,  -999.00,4, -999.000,9, -999.000,9,  -999.00,9,   -999.0,9,   -999.0,9,-999.0000,9,   -999.0,  9,  -999.00,9,   -999.0,  -999.00,9,  -999.00,9,     0.45,2,     0.17,2,   -999.0,-999.0000, -999,9,  100,  19.7593,  24.6914,   -999.0,9
       RF06-01,  NONE,RF-2567,  1,     16,02-18570,2,20060121,0331, 27.9875, 156.9885, 6089,    124.8,  19.7629,  34.8196,2,   -999.0,9,-999.0000,9,    221.8,2,     2.20,2,  -999.00,9,  -999.00,4,  -999.00,4,  -999.00,4, -999.000,9, -999.000,9,  -999.00,9,   -999.0,9,   -999.0,9,-999.0000,9,   -999.0,  9,  -999.00,9,   -999.0,  -999.00,9,  -999.00,9,     0.40,2,     0.14,2,   -999.0,-999.0000, -999,9,  124,  19.7401,  24.6923,   -999.0,9
       RF06-01,  NONE,RF-2567,  1,     15,02-18569,2,20060121,0330, 27.9875, 156.9885, 6089,    150.7,  18.5308,  34.8340,2,   -999.0,9,-999.0000,9,    200.4,2,     3.88,2,  -999.00,9,  -999.00,4,  -999.00,4,  -999.00,4, -999.000,9, -999.000,9,  -999.00,9,   -999.0,9,   -999.0,9,-999.0000,9,   -999.0,  9,  -999.00,9,   -999.0,  -999.00,9,  -999.00,9,     0.03,2,     0.07,2,   -999.0,-999.0000, -999,9,  150,  18.5044,  25.0196,   -999.0,9
       RF06-01,  NONE,RF-2567,  1,     14,02-18568,2,20060121,0328, 27.9875, 156.9885, 6089,    202.6,  17.4493,  34.7915,2,   -999.0,9,  34.7898,2,    204.7,2,     4.49,2,  -999.00,9,  -999.00,4,  -999.00,4,  -999.00,4, -999.000,9, -999.000,9,  -999.00,9,   -999.0,9,   -999.0,9,-999.0000,9,   -999.0,  9,  -999.00,9,   -999.0,  -999.00,9,  -999.00,9,     0.00,2,     0.02,2,   -999.0,-999.0000, -999,9,  201,  17.4153,  25.2548,   -999.0,9
       RF06-01,  NONE,RF-2567,  1,     13,02-18567,2,20060121,0326, 27.9875, 156.9885, 6089,    252.7,  16.9072,  34.7578,2,   -999.0,9,-999.0000,9,    209.0,2,     5.40,2,  -999.00,9,  -999.00,4,  -999.00,4,  -999.00,4, -999.000,9, -999.000,9,  -999.00,9,   -999.0,9,   -999.0,9,-999.0000,9,   -999.0,  9,  -999.00,9,   -999.0,  -999.00,9,  -999.00,9,  -999.00,9,  -999.00,9,   -999.0,-999.0000, -999,9,  251,  16.8657,  25.3602,   -999.0,9
       RF06-01,  NONE,RF-2567,  1,     12,02-18566,2,20060121,0324, 27.9875, 156.9885, 6089,    304.3,  16.0830,  34.6879,2,   -999.0,9,  34.6866,2,    206.7,2,     7.22,2,  -999.00,9,  -999.00,4,  -999.00,4,  -999.00,4, -999.000,9, -999.000,9,  -999.00,9,   -999.0,9,   -999.0,9,-999.0000,9,   -999.0,  9,  -999.00,9,   -999.0,  -999.00,9,  -999.00,9,  -999.00,9,  -999.00,9,   -999.0,-999.0000, -999,9,  302,  16.0346,  25.4996,   -999.0,9
       RF06-01,  NONE,RF-2567,  1,     11,02-18565,2,20060121,0322, 27.9875, 156.9885, 6089,    404.4,  13.8482,  34.5204,2,   -999.0,9,  34.5199,2,    195.3,2,    13.38,2,  -999.00,9,  -999.00,4,  -999.00,4,  -999.00,4, -999.000,9, -999.000,9,  -999.00,9,   -999.0,9,   -999.0,9,-999.0000,9,   -999.0,  9,  -999.00,9,   -999.0,  -999.00,9,  -999.00,9,  -999.00,9,  -999.00,9,   -999.0,-999.0000, -999,9,  401,  13.7900,  25.8602,   -999.0,9
       RF06-01,  NONE,RF-2567,  1,     10,02-18564,2,20060121,0319, 27.9875, 156.9885, 6089,    505.0,  10.7178,  34.2728,2,   -999.0,9,-999.0000,9,    200.8,2,    24.23,2,  -999.00,9,  -999.00,4,  -999.00,4,  -999.00,4, -999.000,9, -999.000,9,  -999.00,9,   -999.0,9,   -999.0,9,-999.0000,9,   -999.0,  9,  -999.00,9,   -999.0,  -999.00,9,  -999.00,9,  -999.00,9,  -999.00,9,   -999.0,-999.0000, -999,9,  501,  10.6562,  26.2705,   -999.0,9
       RF06-01,  NONE,RF-2567,  1,      9,02-18563,2,20060121,0316, 27.9875, 156.9885, 6089,    605.1,   7.6535,  34.0259,2,   -999.0,9,  34.0269,2,    182.5,2,    40.29,2,  -999.00,9,  -999.00,4,  -999.00,4,  -999.00,4, -999.000,9, -999.000,9,  -999.00,9,   -999.0,9,   -999.0,9,-999.0000,9,   -999.0,  9,  -999.00,9,   -999.0,  -999.00,9,  -999.00,9,  -999.00,9,  -999.00,9,   -999.0,-999.0000, -999,9,  600,   7.5931,  26.5682,   -999.0,9
       RF06-01,  NONE,RF-2567,  1,      8,02-18562,2,20060121,0313, 27.9875, 156.9885, 6089,    706.8,   5.6871,  33.9859,2,   -999.0,9,-999.0000,9,    139.3,2,    63.68,2,  -999.00,9,  -999.00,4,  -999.00,4,  -999.00,4, -999.000,9, -999.000,9,  -999.00,9,   -999.0,9,   -999.0,9,-999.0000,9,   -999.0,  9,  -999.00,9,   -999.0,  -999.00,9,  -999.00,9,  -999.00,9,  -999.00,9,   -999.0,-999.0000, -999,9,  701,   5.6266,  26.7974,   -999.0,9
       RF06-01,  NONE,RF-2567,  1,      7,02-18561,2,20060121,0311, 27.9875, 156.9885, 6089,    808.5,   4.7418,  34.1010,2,   -999.0,9,  34.1004,2,     80.6,2,    88.17,2,  -999.00,9,  -999.00,4,  -999.00,4,  -999.00,4, -999.000,9, -999.000,9,  -999.00,9,   -999.0,9,   -999.0,9,-999.0000,9,   -999.0,  9,  -999.00,9,   -999.0,  -999.00,9,  -999.00,9,  -999.00,9,  -999.00,9,   -999.0,-999.0000, -999,9,  802,   4.6777,  26.9988,   -999.0,9
       RF06-01,  NONE,RF-2567,  1,      6,02-18560,2,20060121,0308, 27.9875, 156.9885, 6089,    909.5,   4.2168,  34.2077,2,   -999.0,9,-999.0000,9,     53.0,2,   104.88,2,  -999.00,9,  -999.00,4,  -999.00,4,  -999.00,4, -999.000,9, -999.000,9,  -999.00,9,   -999.0,9,   -999.0,9,-999.0000,9,   -999.0,  9,  -999.00,9,   -999.0,  -999.00,9,  -999.00,9,  -999.00,9,  -999.00,9,   -999.0,-999.0000, -999,9,  902,   4.1475,  27.1406,   -999.0,9
       RF06-01,  NONE,RF-2567,  1,      5,02-18559,2,20060121,0305, 27.9875, 156.9885, 6089,   1012.2,   3.7822,  34.2955,2,   -999.0,9,  34.2936,2,     38.5,2,   116.98,2,  -999.00,9,  -999.00,4,  -999.00,4,  -999.00,4, -999.000,9, -999.000,9,  -999.00,9,   -999.0,9,   -999.0,9,-999.0000,9,   -999.0,  9,  -999.00,9,   -999.0,  -999.00,9,  -999.00,9,  -999.00,9,  -999.00,9,   -999.0,-999.0000, -999,9, 1003,   3.7076,  27.2554,   -999.0,9
       RF06-01,  NONE,RF-2567,  1,      4,02-18558,2,20060121,0259, 27.9875, 156.9885, 6089,   1263.2,   3.0010,  34.4364,2,   -999.0,9,  34.4351,2,     38.4,2,   137.95,2,  -999.00,9,  -999.00,4,  -999.00,4,  -999.00,4, -999.000,9, -999.000,9,  -999.00,9,   -999.0,9,   -999.0,9,-999.0000,9,   -999.0,  9,  -999.00,9,   -999.0,  -999.00,9,  -999.00,9,  -999.00,9,  -999.00,9,   -999.0,-999.0000, -999,9, 1251,   2.9128,  27.4431,   -999.0,9
       RF06-01,  NONE,RF-2567,  1,      3,02-18557,2,20060121,0254, 27.9875, 156.9885, 6089,   1517.4,   2.4986,  34.5232,2,   -999.0,9,  34.5212,2,     52.9,2,   148.47,2,  -999.00,9,  -999.00,4,  -999.00,4,  -999.00,4, -999.000,9, -999.000,9,  -999.00,9,   -999.0,9,   -999.0,9,-999.0000,9,   -999.0,  9,  -999.00,9,   -999.0,  -999.00,9,  -999.00,9,  -999.00,9,  -999.00,9,   -999.0,-999.0000, -999,9, 1502,   2.3953,  27.5575,   -999.0,9
       RF06-01,  NONE,RF-2567,  1,      2,02-18556,2,20060121,0249, 27.9875, 156.9885, 6089,   1769.2,   2.1590,  34.5794,2,   -999.0,9,  34.5777,2,     76.1,2,   151.24,2,  -999.00,9,  -999.00,4,  -999.00,4,  -999.00,4, -999.000,9, -999.000,9,  -999.00,9,   -999.0,9,   -999.0,9,-999.0000,9,   -999.0,  9,  -999.00,9,   -999.0,  -999.00,9,  -999.00,9,  -999.00,9,  -999.00,9,   -999.0,-999.0000, -999,9, 1750,   2.0395,  27.6316,   -999.0,9
       RF06-01,  NONE,RF-2567,  1,      1,02-18555,2,20060121,0244, 27.9875, 156.9885, 6089,   2024.9,   1.9367,  34.6124,2,   -999.0,9,  34.6032,4,     95.4,2,   151.64,2,  -999.00,9,  -999.00,4,  -999.00,4,  -999.00,4, -999.000,9, -999.000,9,  -999.00,9,   -999.0,9,   -999.0,9,-999.0000,9,   -999.0,  9,  -999.00,9,   -999.0,  -999.00,9,  -999.00,9,  -999.00,9,  -999.00,9,   -999.0,-999.0000, -999,9, 2002,   1.7992,  27.6768,   -999.0,9