BOTTLE,20131214MIRCJHATS
EXPOCODE,SECT_ID,STNNBR,CASTNO,SAMPNO,BTLNBR,BTLNBR_FLAG_W,DATE,TIME,LATITUDE,LONGITUDE,DEPTH,CTDPRS,CTDTMP,CTDSAL,CTDSAL_FLAG_W,CTDOXY,CTDOXY_FLAG_W,SALNTY,SALNTY_FLAG_W,OXYGEN,OXYGEN_FLAG_W,SILCAT,SILCAT_FLAG_W,NITRAT,NITRAT_FLAG_W,NO2+NO3,NO2+NO3_FLAG_W,NITRIT,NITRIT_FLAG_W,PHSPHT,PHSPHT_FLAG_W,CFC-11,CFC-11_FLAG_W,CFC-12,CFC-12_FLAG_W,DELC13,DELC13_FLAG_W,TCARBN,TCARBN_FLAG_W,ALKALI,ALKALI_FLAG_W,PH,PH_FLAG_W,PH_TMP,PH_SCALE,PH_NBS,PH_NBS_FLAG_W,C13ERR,TOTALP,TOTALP_FLAG_W,AMMONI,AMMONI_FLAG_W,CHLORA,CHLORA_FLAG_W,PPHYTN,PPHYTN_FLAG_W,REVPRS,REVTMP,DEPTH_,DEPTH_FLAG,CTDDEP,THETA,SIGTHT,DOC,DOC_FLAG_W
,,,,,,,GMT,GMT,,,METER,DBAR,ITS-90,PSS-78,,UMOL/KG,,PSS-78,,UMOL/KG,,UMOL/KG,,UMOL/KG,,UMOL/KG,,UMOL/KG,,UMOL/KG,,PMOL/KG,,PMOL/KG,,/MILLE,,UMOL/KG,,UMOL/KG,,25_DEG_C,,DEG_C,,,,/MILLE,UMOL/KG,,UMOL/KG,,UG/L,,UG/L,,DBAR,ITS-90,METERS,,METERS,DEG_C,,UMOL/L,
       RF06-01,  NONE,RF-2627,  1,     -9,      -9,5,20060302,1138, 25.6780, 140.8248, 2273,      0.0,  22.1774,  34.8957,2,   -999.0,9,-999.0000,9,    222.9,2,     1.85,2,  -999.00,9,     0.03,2,     0.00,2,     0.05,2, -999.000,9, -999.000,9,  -999.00,9,   -999.0,9,   -999.0,9,-999.0000,9,   -999.0,  9,  -999.00,9,   -999.0,  -999.00,9,  -999.00,9,     0.12,2,     0.03,2,   -999.0,-999.0000, -999,9,    0,  22.1773,  24.0888,   -999.0,9
       RF06-01,  NONE,RF-2627,  1,     21,02-18575,2,20060302,1157, 25.6780, 140.8248, 2273,      9.7,  22.1738,  34.8995,2,   -999.0,9,  34.8987,2,    220.7,2,     1.78,2,  -999.00,9,     0.00,2,     0.00,2,     0.04,2, -999.000,9, -999.000,9,  -999.00,9,   -999.0,9,   -999.0,9,-999.0000,9,   -999.0,  9,  -999.00,9,   -999.0,  -999.00,9,  -999.00,9,     0.12,2,     0.03,2,   -999.0,-999.0000, -999,9,   10,  22.1719,  24.0932,   -999.0,9
       RF06-01,  NONE,RF-2627,  1,     20,02-18574,2,20060302,1156, 25.6780, 140.8248, 2273,     25.9,  22.1020,  34.9194,2,   -999.0,9,-999.0000,9,    221.5,2,     1.69,2,  -999.00,9,     0.00,2,     0.00,2,     0.03,2, -999.000,9, -999.000,9,  -999.00,9,   -999.0,9,   -999.0,9,-999.0000,9,   -999.0,  9,  -999.00,9,   -999.0,  -999.00,9,  -999.00,9,     0.14,2,     0.03,2,   -999.0,-999.0000, -999,9,   26,  22.0969,  24.1294,   -999.0,9
       RF06-01,  NONE,RF-2627,  1,     19,02-18573,2,20060302,1155, 25.6780, 140.8248, 2273,     51.3,  21.8382,  34.9554,2,   -999.0,9,-999.0000,9,    220.0,2,     1.69,2,  -999.00,9,     0.00,2,     0.00,2,     0.03,2, -999.000,9, -999.000,9,  -999.00,9,   -999.0,9,   -999.0,9,-999.0000,9,   -999.0,  9,  -999.00,9,   -999.0,  -999.00,9,  -999.00,9,     0.20,2,     0.08,2,   -999.0,-999.0000, -999,9,   51,  21.8281,  24.2320,   -999.0,9
       RF06-01,  NONE,RF-2627,  1,     18,02-18572,2,20060302,1154, 25.6780, 140.8248, 2273,     75.0,  21.5492,  34.9461,2,   -999.0,9,-999.0000,9,    221.9,2,     1.79,2,  -999.00,9,     0.01,2,     0.02,2,     0.04,2, -999.000,9, -999.000,9,  -999.00,9,   -999.0,9,   -999.0,9,-999.0000,9,   -999.0,  9,  -999.00,9,   -999.0,  -999.00,9,  -999.00,9,     0.29,2,     0.19,2,   -999.0,-999.0000, -999,9,   75,  21.5346,  24.3063,   -999.0,9
       RF06-01,  NONE,RF-2627,  1,     17,02-18571,2,20060302,1153, 25.6780, 140.8248, 2273,    101.5,  21.3410,  34.9470,2,   -999.0,9,  34.9464,2,    216.4,2,     1.85,2,  -999.00,9,     0.08,2,     0.06,2,     0.04,2, -999.000,9, -999.000,9,  -999.00,9,   -999.0,9,   -999.0,9,-999.0000,9,   -999.0,  9,  -999.00,9,   -999.0,  -999.00,9,  -999.00,9,     0.31,2,     0.23,2,   -999.0,-999.0000, -999,9,  101,  21.3214,  24.3657,   -999.0,9
       RF06-01,  NONE,RF-2627,  1,     16,02-18570,2,20060302,1151, 25.6780, 140.8248, 2273,    126.8,  20.8531,  34.9281,2,   -999.0,9,-999.0000,9,    216.3,2,     2.01,2,  -999.00,9,     0.48,2,     0.13,2,     0.06,2, -999.000,9, -999.000,9,  -999.00,9,   -999.0,9,   -999.0,9,-999.0000,9,   -999.0,  9,  -999.00,9,   -999.0,  -999.00,9,  -999.00,9,     0.18,2,     0.14,2,   -999.0,-999.0000, -999,9,  126,  20.8290,  24.4856,   -999.0,9
       RF06-01,  NONE,RF-2627,  1,     15,02-18569,2,20060302,1150, 25.6780, 140.8248, 2273,    152.3,  20.2695,  34.9119,2,   -999.0,9,-999.0000,9,    210.3,2,     2.30,2,  -999.00,9,     1.06,2,     0.08,2,     0.09,2, -999.000,9, -999.000,9,  -999.00,9,   -999.0,9,   -999.0,9,-999.0000,9,   -999.0,  9,  -999.00,9,   -999.0,  -999.00,9,  -999.00,9,     0.11,2,     0.12,2,   -999.0,-999.0000, -999,9,  151,  20.2411,  24.6307,   -999.0,9
       RF06-01,  NONE,RF-2627,  1,     14,02-18568,2,20060302,1149, 25.6780, 140.8248, 2273,    204.2,  19.1645,  34.8708,2,   -999.0,9,  34.8719,2,    204.2,2,     3.02,2,  -999.00,9,     2.58,2,     0.01,2,     0.19,2, -999.000,9, -999.000,9,  -999.00,9,   -999.0,9,   -999.0,9,-999.0000,9,   -999.0,  9,  -999.00,9,   -999.0,  -999.00,9,  -999.00,9,     0.03,2,     0.06,2,   -999.0,-999.0000, -999,9,  203,  19.1279,  24.8898,   -999.0,9
       RF06-01,  NONE,RF-2627,  1,     13,02-18567,2,20060302,1147, 25.6780, 140.8248, 2273,    253.6,  18.2813,  34.8360,2,   -999.0,9,-999.0000,9,    207.3,2,     3.55,2,  -999.00,9,     3.66,2,     0.01,2,     0.24,2, -999.000,9, -999.000,9,  -999.00,9,   -999.0,9,   -999.0,9,-999.0000,9,   -999.0,  9,  -999.00,9,   -999.0,  -999.00,9,  -999.00,9,  -999.00,9,  -999.00,9,   -999.0,-999.0000, -999,9,  252,  18.2373,  25.0877,   -999.0,9
       RF06-01,  NONE,RF-2627,  1,     12,02-18348,2,20060302,1145, 25.6780, 140.8248, 2273,    303.0,  17.5450,  34.8022,2,   -999.0,9,  34.8028,2,    211.0,2,     4.10,2,  -999.00,9,     4.51,2,     0.00,2,     0.28,2, -999.000,9, -999.000,9,  -999.00,9,   -999.0,9,   -999.0,9,-999.0000,9,   -999.0,  9,  -999.00,9,   -999.0,  -999.00,9,  -999.00,9,  -999.00,9,  -999.00,9,   -999.0,-999.0000, -999,9,  301,  17.4938,  25.2441,   -999.0,9
       RF06-01,  NONE,RF-2627,  1,     11,02-18565,2,20060302,1142, 25.6780, 140.8248, 2273,    405.7,  15.7397,  34.6592,2,   -999.0,9,  34.6619,4,    198.9,2,     8.59,2,  -999.00,9,     8.37,2,     0.00,2,     0.53,2, -999.000,9, -999.000,9,  -999.00,9,   -999.0,9,   -999.0,9,-999.0000,9,   -999.0,  9,  -999.00,9,   -999.0,  -999.00,9,  -999.00,9,  -999.00,9,  -999.00,9,   -999.0,-999.0000, -999,9,  403,  15.6760,  25.5589,   -999.0,9
       RF06-01,  NONE,RF-2627,  1,     10,02-18564,2,20060302,1140, 25.6780, 140.8248, 2273,    502.7,  12.6321,  34.4209,2,   -999.0,9,-999.0000,9,    182.6,2,    18.88,2,  -999.00,9,    14.74,2,     0.00,2,     0.96,2, -999.000,9, -999.000,9,  -999.00,9,   -999.0,9,   -999.0,9,-999.0000,9,   -999.0,  9,  -999.00,9,   -999.0,  -999.00,9,  -999.00,9,  -999.00,9,  -999.00,9,   -999.0,-999.0000, -999,9,  499,  12.5638,  26.0305,   -999.0,9
       RF06-01,  NONE,RF-2627,  1,      9,02-18563,2,20060302,1137, 25.6780, 140.8248, 2273,    607.8,   9.1425,  34.1893,2,   -999.0,9,  34.1921,4,    166.2,2,    37.20,2,  -999.00,9,    22.09,2,     0.00,2,     1.52,2, -999.000,9, -999.000,9,  -999.00,9,   -999.0,9,   -999.0,9,-999.0000,9,   -999.0,  9,  -999.00,9,   -999.0,  -999.00,9,  -999.00,9,  -999.00,9,  -999.00,9,   -999.0,-999.0000, -999,9,  603,   9.0750,  26.4713,   -999.0,9
       RF06-01,  NONE,RF-2627,  1,      8,02-18562,2,20060302,1135, 25.6780, 140.8248, 2273,    706.6,   6.9490,  34.1041,2,   -999.0,9,-999.0000,9,    135.2,2,    56.82,2,  -999.00,9,    28.90,2,     0.00,2,     2.06,2, -999.000,9, -999.000,9,  -999.00,9,   -999.0,9,   -999.0,9,-999.0000,9,   -999.0,  9,  -999.00,9,   -999.0,  -999.00,9,  -999.00,9,  -999.00,9,  -999.00,9,   -999.0,-999.0000, -999,9,  701,   6.8816,  26.7292,   -999.0,9
       RF06-01,  NONE,RF-2627,  1,      7,02-18561,2,20060302,1132, 25.6780, 140.8248, 2273,    810.5,   5.3829,  34.1183,2,   -999.0,9,  34.1183,2,     98.8,2,    79.81,2,  -999.00,9,    34.46,2,     0.00,2,     2.49,2, -999.000,9, -999.000,9,  -999.00,9,   -999.0,9,   -999.0,9,-999.0000,9,   -999.0,  9,  -999.00,9,   -999.0,  -999.00,9,  -999.00,9,  -999.00,9,  -999.00,9,   -999.0,-999.0000, -999,9,  804,   5.3146,  26.9396,   -999.0,9
       RF06-01,  NONE,RF-2627,  1,      6,02-18560,2,20060302,1130, 25.6780, 140.8248, 2273,    911.2,   4.6613,  34.2089,2,   -999.0,9,-999.0000,9,     70.3,2,    96.33,2,  -999.00,9,    37.76,2,     0.00,2,     2.77,2, -999.000,9, -999.000,9,  -999.00,9,   -999.0,9,   -999.0,9,-999.0000,9,   -999.0,  9,  -999.00,9,   -999.0,  -999.00,9,  -999.00,9,  -999.00,9,  -999.00,9,   -999.0,-999.0000, -999,9,  903,   4.5888,  27.0942,   -999.0,9
       RF06-01,  NONE,RF-2627,  1,      5,02-18559,2,20060302,1127, 25.6780, 140.8248, 2273,   1011.0,   3.9864,  34.2900,2,   -999.0,9,  34.2895,2,     57.2,2,   112.38,2,  -999.00,9,    39.75,2,     0.00,2,     2.90,2, -999.000,9, -999.000,9,  -999.00,9,   -999.0,9,   -999.0,9,-999.0000,9,   -999.0,  9,  -999.00,9,   -999.0,  -999.00,9,  -999.00,9,  -999.00,9,  -999.00,9,   -999.0,-999.0000, -999,9, 1002,   3.9103,  27.2305,   -999.0,9
       RF06-01,  NONE,RF-2627,  1,      4,02-18558,2,20060302,1122, 25.6780, 140.8248, 2273,   1264.2,   3.0948,  34.4460,2,   -999.0,9,  34.4459,2,     60.2,2,   132.02,2,  -999.00,9,    40.95,2,     0.00,2,     2.99,2, -999.000,9, -999.000,9,  -999.00,9,   -999.0,9,   -999.0,9,-999.0000,9,   -999.0,  9,  -999.00,9,   -999.0,  -999.00,9,  -999.00,9,  -999.00,9,  -999.00,9,   -999.0,-999.0000, -999,9, 1252,   3.0056,  27.4423,   -999.0,9
       RF06-01,  NONE,RF-2627,  1,      3,02-18557,2,20060302,1117, 25.6780, 140.8248, 2273,   1515.1,   2.5825,  34.5154,2,   -999.0,9,  34.5154,2,     70.8,2,   141.65,2,  -999.00,9,    40.61,2,     0.00,2,     2.96,2, -999.000,9, -999.000,9,  -999.00,9,   -999.0,9,   -999.0,9,-999.0000,9,   -999.0,  9,  -999.00,9,   -999.0,  -999.00,9,  -999.00,9,  -999.00,9,  -999.00,9,   -999.0,-999.0000, -999,9, 1500,   2.4784,  27.5442,   -999.0,9
       RF06-01,  NONE,RF-2627,  1,      2,02-18556,2,20060302,1112, 25.6780, 140.8248, 2273,   1768.8,   2.1641,  34.5779,2,   -999.0,9,  34.5780,2,     91.0,2,   145.28,2,  -999.00,9,    39.59,2,     0.00,2,     2.84,2, -999.000,9, -999.000,9,  -999.00,9,   -999.0,9,   -999.0,9,-999.0000,9,   -999.0,  9,  -999.00,9,   -999.0,  -999.00,9,  -999.00,9,  -999.00,9,  -999.00,9,   -999.0,-999.0000, -999,9, 1750,   2.0446,  27.6299,   -999.0,9
       RF06-01,  NONE,RF-2627,  1,      1,02-18555,2,20060302,1108, 25.6780, 140.8248, 2273,   2021.3,   1.9415,  34.6188,2,   -999.0,9,  34.6189,2,    116.0,2,   142.86,2,  -999.00,9,    38.21,2,     0.00,2,     2.73,2, -999.000,9, -999.000,9,  -999.00,9,   -999.0,9,   -999.0,9,-999.0000,9,   -999.0,  9,  -999.00,9,   -999.0,  -999.00,9,  -999.00,9,  -999.00,9,  -999.00,9,   -999.0,-999.0000, -999,9, 1999,   1.8042,  27.6815,   -999.0,9