BOTTLE,20131214MIRCJHATS
EXPOCODE,SECT_ID,STNNBR,CASTNO,SAMPNO,BTLNBR,BTLNBR_FLAG_W,DATE,TIME,LATITUDE,LONGITUDE,DEPTH,CTDPRS,CTDTMP,CTDSAL,CTDSAL_FLAG_W,CTDOXY,CTDOXY_FLAG_W,SALNTY,SALNTY_FLAG_W,OXYGEN,OXYGEN_FLAG_W,SILCAT,SILCAT_FLAG_W,NITRAT,NITRAT_FLAG_W,NO2+NO3,NO2+NO3_FLAG_W,NITRIT,NITRIT_FLAG_W,PHSPHT,PHSPHT_FLAG_W,CFC-11,CFC-11_FLAG_W,CFC-12,CFC-12_FLAG_W,DELC13,DELC13_FLAG_W,TCARBN,TCARBN_FLAG_W,ALKALI,ALKALI_FLAG_W,PH,PH_FLAG_W,PH_TMP,PH_SCALE,PH_NBS,PH_NBS_FLAG_W,C13ERR,TOTALP,TOTALP_FLAG_W,AMMONI,AMMONI_FLAG_W,CHLORA,CHLORA_FLAG_W,PPHYTN,PPHYTN_FLAG_W,REVPRS,REVTMP,DEPTH_,DEPTH_FLAG,CTDDEP,THETA,SIGTHT,DOC,DOC_FLAG_W
,,,,,,,GMT,GMT,,,METER,DBAR,ITS-90,PSS-78,,UMOL/KG,,PSS-78,,UMOL/KG,,UMOL/KG,,UMOL/KG,,UMOL/KG,,UMOL/KG,,UMOL/KG,,PMOL/KG,,PMOL/KG,,/MILLE,,UMOL/KG,,UMOL/KG,,25_DEG_C,,DEG_C,,,,/MILLE,UMOL/KG,,UMOL/KG,,UG/L,,UG/L,,DBAR,ITS-90,METERS,,METERS,DEG_C,,UMOL/L,
       RF06-01,  165E,RF-2594,  1,     -9,      -9,5,20060128,2237,  4.9513, 164.9863, 4756,      0.0,  29.2777,  34.1377,2,   -999.0,9,-999.0000,9,    192.4,2,     1.48,2,  -999.00,9,     0.03,2,     0.01,2,     0.10,2, -999.000,9, -999.000,9,  -999.00,9,   1882.7,3,   -999.0,9,-999.0000,9,   -999.0,  9,  -999.00,9,   -999.0,  -999.00,9,  -999.00,9,     0.07,2,     0.03,2,   -999.0,-999.0000, -999,9,    0,  29.2775,  21.3240,   -999.0,9
       RF06-01,  165E,RF-2594,  1,     21,02-18575,2,20060128,2247,  4.9513, 164.9863, 4756,     10.4,  29.2653,  34.1380,2,   -999.0,9,  34.1357,2,    194.4,2,     1.40,2,  -999.00,9,     0.00,2,     0.00,2,     0.10,2, -999.000,9, -999.000,9,  -999.00,9,   -999.0,9,   -999.0,9,-999.0000,9,   -999.0,  9,  -999.00,9,   -999.0,  -999.00,9,  -999.00,9,     0.08,2,     0.03,2,   -999.0,-999.0000, -999,9,   10,  29.2628,  21.3292,   -999.0,9
       RF06-01,  165E,RF-2594,  1,     20,02-18574,2,20060128,2246,  4.9513, 164.9863, 4756,     24.9,  29.2636,  34.1382,2,   -999.0,9,-999.0000,9,    191.9,2,     1.38,2,  -999.00,9,     0.00,2,     0.00,2,     0.10,2, -999.000,9, -999.000,9,  -999.00,9,   -999.0,9,   -999.0,9,-999.0000,9,   -999.0,  9,  -999.00,9,   -999.0,  -999.00,9,  -999.00,9,     0.08,2,     0.03,2,   -999.0,-999.0000, -999,9,   25,  29.2576,  21.3311,   -999.0,9
       RF06-01,  165E,RF-2594,  1,     19,02-18573,2,20060128,2245,  4.9513, 164.9863, 4756,     52.6,  29.2693,  34.1383,2,   -999.0,9,-999.0000,9,    195.6,2,     1.38,2,  -999.00,9,     0.00,2,     0.00,2,     0.10,2, -999.000,9, -999.000,9,  -999.00,9,   -999.0,9,   -999.0,9,-999.0000,9,   -999.0,  9,  -999.00,9,   -999.0,  -999.00,9,  -999.00,9,     0.09,2,     0.03,2,   -999.0,-999.0000, -999,9,   52,  29.2565,  21.3315,   -999.0,9
       RF06-01,  165E,RF-2594,  1,     18,02-18572,2,20060128,2245,  4.9513, 164.9863, 4756,     76.1,  29.2770,  34.1436,2,   -999.0,9,-999.0000,9,    194.1,2,     1.32,2,  -999.00,9,     0.00,2,     0.00,2,     0.10,2, -999.000,9, -999.000,9,  -999.00,9,   -999.0,9,   -999.0,9,-999.0000,9,   -999.0,  9,  -999.00,9,   -999.0,  -999.00,9,  -999.00,9,     0.09,2,     0.05,2,   -999.0,-999.0000, -999,9,   76,  29.2585,  21.3348,   -999.0,9
       RF06-01,  165E,RF-2594,  1,     17,02-18571,2,20060128,2244,  4.9513, 164.9863, 4756,    101.1,  29.3702,  34.2426,2,   -999.0,9,  34.2470,2,    190.2,2,     1.38,2,  -999.00,9,     0.00,2,     0.00,2,     0.10,2, -999.000,9, -999.000,9,  -999.00,9,   -999.0,9,   -999.0,9,-999.0000,9,   -999.0,  9,  -999.00,9,   -999.0,  -999.00,9,  -999.00,9,     0.21,2,     0.12,2,   -999.0,-999.0000, -999,9,  101,  29.3456,  21.3799,   -999.0,9
       RF06-01,  165E,RF-2594,  1,     16,02-18570,2,20060128,2243,  4.9513, 164.9863, 4756,    127.0,  28.3089,  34.2661,2,   -999.0,9,-999.0000,9,    179.8,2,     2.33,2,  -999.00,9,     1.24,2,     0.14,2,     0.18,2, -999.000,9, -999.000,9,  -999.00,9,   -999.0,9,   -999.0,9,-999.0000,9,   -999.0,  9,  -999.00,9,   -999.0,  -999.00,9,  -999.00,9,     0.22,2,     0.36,2,   -999.0,-999.0000, -999,9,  126,  28.2788,  21.7516,   -999.0,9
       RF06-01,  165E,RF-2594,  1,     15,02-18569,2,20060128,2242,  4.9513, 164.9863, 4756,    151.5,  23.4566,  34.7432,2,   -999.0,9,-999.0000,9,    151.1,2,     5.18,2,  -999.00,9,     6.06,2,     0.02,2,     0.46,2, -999.000,9, -999.000,9,  -999.00,9,   -999.0,9,   -999.0,9,-999.0000,9,   -999.0,  9,  -999.00,9,   -999.0,  -999.00,9,  -999.00,9,     0.06,2,     0.15,2,   -999.0,-999.0000, -999,9,  151,  23.4253,  23.6157,   -999.0,9
       RF06-01,  165E,RF-2594,  1,     14,02-18568,2,20060128,2241,  4.9513, 164.9863, 4756,    201.7,  16.1589,  34.6761,2,   -999.0,9,  34.6682,4,    118.9,2,    15.27,2,  -999.00,9,    16.80,2,     0.00,2,     1.16,2, -999.000,9, -999.000,9,  -999.00,9,   -999.0,9,   -999.0,9,-999.0000,9,   -999.0,  9,  -999.00,9,   -999.0,  -999.00,9,  -999.00,9,     0.01,2,     0.03,2,   -999.0,-999.0000, -999,9,  201,  16.1268,  25.4694,   -999.0,9
       RF06-01,  165E,RF-2594,  1,     13,02-18567,2,20060128,2240,  4.9513, 164.9863, 4756,    253.2,  11.4527,  34.5650,2,   -999.0,9,-999.0000,9,     52.5,2,    28.99,2,  -999.00,9,    30.06,2,     0.00,2,     2.14,2, -999.000,9, -999.000,9,  -999.00,9,   -999.0,9,   -999.0,9,-999.0000,9,   -999.0,  9,  -999.00,9,   -999.0,  -999.00,9,  -999.00,9,  -999.00,9,  -999.00,9,   -999.0,-999.0000, -999,9,  252,  11.4207,  26.3599,   -999.0,9
       RF06-01,  165E,RF-2594,  1,     12,02-18566,2,20060128,2238,  4.9513, 164.9863, 4756,    303.0,   9.6717,  34.5888,2,   -999.0,9,  34.5914,2,     63.9,2,    35.85,2,  -999.00,9,    32.09,2,     0.00,2,     2.27,2, -999.000,9, -999.000,9,  -999.00,9,   -999.0,9,   -999.0,9,-999.0000,9,   -999.0,  9,  -999.00,9,   -999.0,  -999.00,9,  -999.00,9,  -999.00,9,  -999.00,9,   -999.0,-999.0000, -999,9,  301,   9.6373,  26.6920,   -999.0,9
       RF06-01,  165E,RF-2594,  1,     11,02-18565,2,20060128,2236,  4.9513, 164.9863, 4756,    403.9,   8.4078,  34.6070,2,   -999.0,9,  34.6070,2,     54.2,2,    41.03,2,  -999.00,9,    35.51,2,     0.00,2,     2.53,2, -999.000,9, -999.000,9,  -999.00,9,   -999.0,9,   -999.0,9,-999.0000,9,   -999.0,  9,  -999.00,9,   -999.0,  -999.00,9,  -999.00,9,  -999.00,9,  -999.00,9,   -999.0,-999.0000, -999,9,  401,   8.3654,  26.9099,   -999.0,9
       RF06-01,  165E,RF-2594,  1,     10,02-18564,2,20060128,2234,  4.9513, 164.9863, 4756,    505.5,   7.6766,  34.5828,2,   -999.0,9,-999.0000,9,     58.9,2,    45.67,2,  -999.00,9,    36.52,2,     0.00,2,     2.62,2, -999.000,9, -999.000,9,  -999.00,9,   -999.0,9,   -999.0,9,-999.0000,9,   -999.0,  9,  -999.00,9,   -999.0,  -999.00,9,  -999.00,9,  -999.00,9,  -999.00,9,   -999.0,-999.0000, -999,9,  502,   7.6260,  27.0013,   -999.0,9
       RF06-01,  165E,RF-2594,  1,      9,02-18563,2,20060128,2232,  4.9513, 164.9863, 4756,    607.2,   6.9639,  34.5611,2,   -999.0,9,  34.5608,2,     50.0,2,    54.39,2,  -999.00,9,    38.58,2,     0.00,2,     2.79,2, -999.000,9, -999.000,9,  -999.00,9,   -999.0,9,   -999.0,9,-999.0000,9,   -999.0,  9,  -999.00,9,   -999.0,  -999.00,9,  -999.00,9,  -999.00,9,  -999.00,9,   -999.0,-999.0000, -999,9,  603,   6.9059,  27.0860,   -999.0,9
       RF06-01,  165E,RF-2594,  1,      8,02-18562,2,20060128,2230,  4.9513, 164.9863, 4756,    707.6,   6.2483,  34.5475,2,   -999.0,9,-999.0000,9,     62.7,2,    60.90,2,  -999.00,9,    38.87,2,     0.00,2,     2.82,2, -999.000,9, -999.000,9,  -999.00,9,   -999.0,9,   -999.0,9,-999.0000,9,   -999.0,  9,  -999.00,9,   -999.0,  -999.00,9,  -999.00,9,  -999.00,9,  -999.00,9,   -999.0,-999.0000, -999,9,  703,   6.1841,  27.1715,   -999.0,9
       RF06-01,  165E,RF-2594,  1,      7,02-18561,2,20060128,2228,  4.9513, 164.9863, 4756,    806.9,   5.6650,  34.5403,2,   -999.0,9,  34.5403,2,     65.7,2,    70.47,2,  -999.00,9,    39.10,2,     0.00,2,     2.84,2, -999.000,9, -999.000,9,  -999.00,9,   -999.0,9,   -999.0,9,-999.0000,9,   -999.0,  9,  -999.00,9,   -999.0,  -999.00,9,  -999.00,9,  -999.00,9,  -999.00,9,   -999.0,-999.0000, -999,9,  801,   5.5948,  27.2400,   -999.0,9
       RF06-01,  165E,RF-2594,  1,      6,02-18560,2,20060128,2226,  4.9513, 164.9863, 4756,    908.2,   5.1854,  34.5431,2,   -999.0,9,-999.0000,9,     79.3,2,    74.98,2,  -999.00,9,    38.65,2,     0.00,2,     2.80,2, -999.000,9, -999.000,9,  -999.00,9,   -999.0,9,   -999.0,9,-999.0000,9,   -999.0,  9,  -999.00,9,   -999.0,  -999.00,9,  -999.00,9,  -999.00,9,  -999.00,9,   -999.0,-999.0000, -999,9,  901,   5.1090,  27.3003,   -999.0,9
       RF06-01,  165E,RF-2594,  1,      5,02-18559,2,20060128,2224,  4.9513, 164.9863, 4756,   1010.1,   4.6668,  34.5522,2,   -999.0,9,  34.5519,2,     74.2,2,    88.25,2,  -999.00,9,    39.55,2,     0.00,2,     2.87,2, -999.000,9, -999.000,9,  -999.00,9,   -999.0,9,   -999.0,9,-999.0000,9,   -999.0,  9,  -999.00,9,   -999.0,  -999.00,9,  -999.00,9,  -999.00,9,  -999.00,9,   -999.0,-999.0000, -999,9, 1002,   4.5851,  27.3672,   -999.0,9
       RF06-01,  165E,RF-2594,  1,      4,02-18558,2,20060128,2219,  4.9513, 164.9863, 4756,   1261.7,   3.7348,  34.5771,2,   -999.0,9,  34.5775,2,     85.5,2,   106.07,2,  -999.00,9,    39.92,2,     0.00,2,     2.92,2, -999.000,9, -999.000,9,  -999.00,9,   -999.0,9,   -999.0,9,-999.0000,9,   -999.0,  9,  -999.00,9,   -999.0,  -999.00,9,  -999.00,9,  -999.00,9,  -999.00,9,   -999.0,-999.0000, -999,9, 1251,   3.6393,  27.4864,   -999.0,9
       RF06-01,  165E,RF-2594,  1,      3,02-18557,2,20060128,2215,  4.9513, 164.9863, 4756,   1514.4,   3.0652,  34.6000,2,   -999.0,9,  34.6007,2,     89.9,2,   121.34,2,  -999.00,9,    39.90,2,     0.00,2,     2.90,2, -999.000,9, -999.000,9,  -999.00,9,   -999.0,9,   -999.0,9,-999.0000,9,   -999.0,  9,  -999.00,9,   -999.0,  -999.00,9,  -999.00,9,  -999.00,9,  -999.00,9,   -999.0,-999.0000, -999,9, 1501,   2.9553,  27.5699,   -999.0,9
       RF06-01,  165E,RF-2594,  1,      2,02-18556,2,20060128,2211,  4.9513, 164.9863, 4756,   1768.4,   2.6479,  34.6174,2,   -999.0,9,  34.6179,2,     99.6,2,   128.96,2,  -999.00,9,    39.30,2,     0.00,2,     2.84,2, -999.000,9, -999.000,9,  -999.00,9,   -999.0,9,   -999.0,9,-999.0000,9,   -999.0,  9,  -999.00,9,   -999.0,  -999.00,9,  -999.00,9,  -999.00,9,  -999.00,9,   -999.0,-999.0000, -999,9, 1751,   2.5218,  27.6221,   -999.0,9
       RF06-01,  165E,RF-2594,  1,      1,02-18555,2,20060128,2205,  4.9513, 164.9863, 4756,   2022.1,   2.2837,  34.6351,2,   -999.0,9,  34.6358,2,    106.4,2,   137.39,2,  -999.00,9,    38.90,2,     0.00,2,     2.80,2, -999.000,9, -999.000,9,  -999.00,9,   -999.0,9,   -999.0,9,-999.0000,9,   -999.0,  9,  -999.00,9,   -999.0,  -999.00,9,  -999.00,9,  -999.00,9,  -999.00,9,   -999.0,-999.0000, -999,9, 2001,   2.1410,  27.6680,   -999.0,9
       RF06-01,  165E,RF-2595,  1,     21,02-18575,2,20060205,2100,  3.9903, 164.9867, 4488,      9.5,  28.9286,  34.1727,2,   -999.0,9,  34.1729,2,   -999.0,9,  -999.00,9,  -999.00,9,  -999.00,9,  -999.00,9,  -999.00,9, -999.000,9, -999.000,9,  -999.00,9,   -999.0,9,   -999.0,9,-999.0000,9,   -999.0,  9,  -999.00,9,   -999.0,  -999.00,9,  -999.00,9,  -999.00,9,  -999.00,9,   -999.0,-999.0000, -999,9,    9,  28.9263,  21.4676,   -999.0,9
       RF06-01,  165E,RF-2595,  1,     20,02-18574,9,20060205,2059,  3.9903, 164.9867, 4488,     24.8,  28.9331,  34.1726,2,   -999.0,9,-999.0000,9,   -999.0,9,  -999.00,9,  -999.00,9,  -999.00,9,  -999.00,9,  -999.00,9, -999.000,9, -999.000,9,  -999.00,9,   -999.0,9,   -999.0,9,-999.0000,9,   -999.0,  9,  -999.00,9,   -999.0,  -999.00,9,  -999.00,9,  -999.00,9,  -999.00,9,   -999.0,-999.0000, -999,9,   25,  28.9271,  21.4672,   -999.0,9
       RF06-01,  165E,RF-2595,  1,     19,02-18573,9,20060205,2057,  3.9903, 164.9867, 4488,     51.9,  28.9409,  34.1928,2,   -999.0,9,-999.0000,9,   -999.0,9,  -999.00,9,  -999.00,9,  -999.00,9,  -999.00,9,  -999.00,9, -999.000,9, -999.000,9,  -999.00,9,   -999.0,9,   -999.0,9,-999.0000,9,   -999.0,  9,  -999.00,9,   -999.0,  -999.00,9,  -999.00,9,  -999.00,9,  -999.00,9,   -999.0,-999.0000, -999,9,   52,  28.9284,  21.4820,   -999.0,9
       RF06-01,  165E,RF-2595,  1,     18,02-18572,9,20060205,2056,  3.9903, 164.9867, 4488,     77.2,  28.9064,  34.2304,2,   -999.0,9,-999.0000,9,   -999.0,9,  -999.00,9,  -999.00,9,  -999.00,9,  -999.00,9,  -999.00,9, -999.000,9, -999.000,9,  -999.00,9,   -999.0,9,   -999.0,9,-999.0000,9,   -999.0,  9,  -999.00,9,   -999.0,  -999.00,9,  -999.00,9,  -999.00,9,  -999.00,9,   -999.0,-999.0000, -999,9,   77,  28.8878,  21.5237,   -999.0,9
       RF06-01,  165E,RF-2595,  1,     17,02-18571,2,20060205,2055,  3.9903, 164.9867, 4488,    103.5,  27.2180,  34.3880,2,   -999.0,9,  34.3872,2,   -999.0,9,  -999.00,9,  -999.00,9,  -999.00,9,  -999.00,9,  -999.00,9, -999.000,9, -999.000,9,  -999.00,9,   -999.0,9,   -999.0,9,-999.0000,9,   -999.0,  9,  -999.00,9,   -999.0,  -999.00,9,  -999.00,9,  -999.00,9,  -999.00,9,   -999.0,-999.0000, -999,9,  103,  27.1942,  22.1948,   -999.0,9
       RF06-01,  165E,RF-2595,  1,     16,02-18570,9,20060205,2054,  3.9903, 164.9867, 4488,    128.3,  25.5565,  34.5886,2,   -999.0,9,-999.0000,9,   -999.0,9,  -999.00,9,  -999.00,9,  -999.00,9,  -999.00,9,  -999.00,9, -999.000,9, -999.000,9,  -999.00,9,   -999.0,9,   -999.0,9,-999.0000,9,   -999.0,  9,  -999.00,9,   -999.0,  -999.00,9,  -999.00,9,  -999.00,9,  -999.00,9,   -999.0,-999.0000, -999,9,  128,  25.5283,  22.8690,   -999.0,9
       RF06-01,  165E,RF-2595,  1,     15,02-18569,9,20060205,2052,  3.9903, 164.9867, 4488,    148.8,  23.6037,  34.7441,2,   -999.0,9,-999.0000,9,   -999.0,9,  -999.00,9,  -999.00,9,  -999.00,9,  -999.00,9,  -999.00,9, -999.000,9, -999.000,9,  -999.00,9,   -999.0,9,   -999.0,9,-999.0000,9,   -999.0,  9,  -999.00,9,   -999.0,  -999.00,9,  -999.00,9,  -999.00,9,  -999.00,9,   -999.0,-999.0000, -999,9,  148,  23.5728,  23.5733,   -999.0,9
       RF06-01,  165E,RF-2595,  1,     14,02-18568,2,20060205,2051,  3.9903, 164.9867, 4488,    201.3,  16.2984,  34.7132,2,   -999.0,9,  34.7140,2,   -999.0,9,  -999.00,9,  -999.00,9,  -999.00,9,  -999.00,9,  -999.00,9, -999.000,9, -999.000,9,  -999.00,9,   -999.0,9,   -999.0,9,-999.0000,9,   -999.0,  9,  -999.00,9,   -999.0,  -999.00,9,  -999.00,9,  -999.00,9,  -999.00,9,   -999.0,-999.0000, -999,9,  200,  16.2662,  25.4658,   -999.0,9
       RF06-01,  165E,RF-2595,  1,     13,02-18567,9,20060205,2049,  3.9903, 164.9867, 4488,    250.6,  11.5991,  34.5661,2,   -999.0,9,-999.0000,9,   -999.0,9,  -999.00,9,  -999.00,9,  -999.00,9,  -999.00,9,  -999.00,9, -999.000,9, -999.000,9,  -999.00,9,   -999.0,9,   -999.0,9,-999.0000,9,   -999.0,  9,  -999.00,9,   -999.0,  -999.00,9,  -999.00,9,  -999.00,9,  -999.00,9,   -999.0,-999.0000, -999,9,  249,  11.5672,  26.3336,   -999.0,9
       RF06-01,  165E,RF-2595,  1,     12,02-18566,2,20060205,2047,  3.9903, 164.9867, 4488,    302.5,   9.9307,  34.6215,2,   -999.0,9,  34.6181,2,   -999.0,9,  -999.00,9,  -999.00,9,  -999.00,9,  -999.00,9,  -999.00,9, -999.000,9, -999.000,9,  -999.00,9,   -999.0,9,   -999.0,9,-999.0000,9,   -999.0,  9,  -999.00,9,   -999.0,  -999.00,9,  -999.00,9,  -999.00,9,  -999.00,9,   -999.0,-999.0000, -999,9,  301,   9.8957,  26.6741,   -999.0,9
       RF06-01,  165E,RF-2595,  1,     11,02-18565,2,20060205,2045,  3.9903, 164.9867, 4488,    404.7,   8.5770,  34.6147,2,   -999.0,9,  34.6151,2,   -999.0,9,  -999.00,9,  -999.00,9,  -999.00,9,  -999.00,9,  -999.00,9, -999.000,9, -999.000,9,  -999.00,9,   -999.0,9,   -999.0,9,-999.0000,9,   -999.0,  9,  -999.00,9,   -999.0,  -999.00,9,  -999.00,9,  -999.00,9,  -999.00,9,   -999.0,-999.0000, -999,9,  402,   8.5340,  26.8899,   -999.0,9
       RF06-01,  165E,RF-2595,  1,     10,02-18564,9,20060205,2042,  3.9903, 164.9867, 4488,    503.8,   7.8073,  34.5817,2,   -999.0,9,-999.0000,9,   -999.0,9,  -999.00,9,  -999.00,9,  -999.00,9,  -999.00,9,  -999.00,9, -999.000,9, -999.000,9,  -999.00,9,   -999.0,9,   -999.0,9,-999.0000,9,   -999.0,  9,  -999.00,9,   -999.0,  -999.00,9,  -999.00,9,  -999.00,9,  -999.00,9,   -999.0,-999.0000, -999,9,  500,   7.7563,  26.9814,   -999.0,9
       RF06-01,  165E,RF-2595,  1,      9,02-18563,2,20060205,2040,  3.9903, 164.9867, 4488,    606.4,   6.8146,  34.5508,2,   -999.0,9,  34.5510,2,   -999.0,9,  -999.00,9,  -999.00,9,  -999.00,9,  -999.00,9,  -999.00,9, -999.000,9, -999.000,9,  -999.00,9,   -999.0,9,   -999.0,9,-999.0000,9,   -999.0,  9,  -999.00,9,   -999.0,  -999.00,9,  -999.00,9,  -999.00,9,  -999.00,9,   -999.0,-999.0000, -999,9,  602,   6.7574,  27.0982,   -999.0,9
       RF06-01,  165E,RF-2595,  1,      8,02-18562,9,20060205,2037,  3.9903, 164.9867, 4488,    708.6,   6.0241,  34.5379,2,   -999.0,9,-999.0000,9,   -999.0,9,  -999.00,9,  -999.00,9,  -999.00,9,  -999.00,9,  -999.00,9, -999.000,9, -999.000,9,  -999.00,9,   -999.0,9,   -999.0,9,-999.0000,9,   -999.0,  9,  -999.00,9,   -999.0,  -999.00,9,  -999.00,9,  -999.00,9,  -999.00,9,   -999.0,-999.0000, -999,9,  703,   5.9610,  27.1925,   -999.0,9
       RF06-01,  165E,RF-2595,  1,      7,02-18561,2,20060205,2035,  3.9903, 164.9867, 4488,    807.1,   5.3814,  34.5409,2,   -999.0,9,  34.5401,2,   -999.0,9,  -999.00,9,  -999.00,9,  -999.00,9,  -999.00,9,  -999.00,9, -999.000,9, -999.000,9,  -999.00,9,   -999.0,9,   -999.0,9,-999.0000,9,   -999.0,  9,  -999.00,9,   -999.0,  -999.00,9,  -999.00,9,  -999.00,9,  -999.00,9,   -999.0,-999.0000, -999,9,  801,   5.3129,  27.2745,   -999.0,9
       RF06-01,  165E,RF-2595,  1,      6,02-18560,9,20060205,2032,  3.9903, 164.9867, 4488,    908.1,   4.9704,  34.5450,2,   -999.0,9,-999.0000,9,   -999.0,9,  -999.00,9,  -999.00,9,  -999.00,9,  -999.00,9,  -999.00,9, -999.000,9, -999.000,9,  -999.00,9,   -999.0,9,   -999.0,9,-999.0000,9,   -999.0,  9,  -999.00,9,   -999.0,  -999.00,9,  -999.00,9,  -999.00,9,  -999.00,9,   -999.0,-999.0000, -999,9,  901,   4.8955,  27.3265,   -999.0,9
       RF06-01,  165E,RF-2595,  1,      5,02-18559,2,20060205,2029,  3.9903, 164.9867, 4488,   1008.3,   4.6092,  34.5526,2,   -999.0,9,  34.5526,2,   -999.0,9,  -999.00,9,  -999.00,9,  -999.00,9,  -999.00,9,  -999.00,9, -999.000,9, -999.000,9,  -999.00,9,   -999.0,9,   -999.0,9,-999.0000,9,   -999.0,  9,  -999.00,9,   -999.0,  -999.00,9,  -999.00,9,  -999.00,9,  -999.00,9,   -999.0,-999.0000, -999,9, 1000,   4.5281,  27.3738,   -999.0,9
       RF06-01,  165E,RF-2595,  1,      4,02-18558,2,20060205,2025,  3.9903, 164.9867, 4488,   1262.3,   3.7333,  34.5787,2,   -999.0,9,  34.5787,2,   -999.0,9,  -999.00,9,  -999.00,9,  -999.00,9,  -999.00,9,  -999.00,9, -999.000,9, -999.000,9,  -999.00,9,   -999.0,9,   -999.0,9,-999.0000,9,   -999.0,  9,  -999.00,9,   -999.0,  -999.00,9,  -999.00,9,  -999.00,9,  -999.00,9,   -999.0,-999.0000, -999,9, 1252,   3.6377,  27.4879,   -999.0,9
       RF06-01,  165E,RF-2595,  1,      3,02-18557,2,20060205,2019,  3.9903, 164.9867, 4488,   1515.7,   3.1349,  34.5985,2,   -999.0,9,  34.5988,2,   -999.0,9,  -999.00,9,  -999.00,9,  -999.00,9,  -999.00,9,  -999.00,9, -999.000,9, -999.000,9,  -999.00,9,   -999.0,9,   -999.0,9,-999.0000,9,   -999.0,  9,  -999.00,9,   -999.0,  -999.00,9,  -999.00,9,  -999.00,9,  -999.00,9,   -999.0,-999.0000, -999,9, 1502,   3.0241,  27.5624,   -999.0,9
       RF06-01,  165E,RF-2595,  1,      2,02-18556,2,20060205,2015,  3.9903, 164.9867, 4488,   1768.3,   2.6520,  34.6175,2,   -999.0,9,  34.6178,2,   -999.0,9,  -999.00,9,  -999.00,9,  -999.00,9,  -999.00,9,  -999.00,9, -999.000,9, -999.000,9,  -999.00,9,   -999.0,9,   -999.0,9,-999.0000,9,   -999.0,  9,  -999.00,9,   -999.0,  -999.00,9,  -999.00,9,  -999.00,9,  -999.00,9,   -999.0,-999.0000, -999,9, 1751,   2.5258,  27.6219,   -999.0,9
       RF06-01,  165E,RF-2595,  1,      1,02-18555,2,20060205,2010,  3.9903, 164.9867, 4488,   2020.0,   2.2629,  34.6369,2,   -999.0,9,  34.6369,2,   -999.0,9,  -999.00,9,  -999.00,9,  -999.00,9,  -999.00,9,  -999.00,9, -999.000,9, -999.000,9,  -999.00,9,   -999.0,9,   -999.0,9,-999.0000,9,   -999.0,  9,  -999.00,9,   -999.0,  -999.00,9,  -999.00,9,  -999.00,9,  -999.00,9,   -999.0,-999.0000, -999,9, 1999,   2.1207,  27.6711,   -999.0,9