BOTTLE,20131214MIRCJHATS
EXPOCODE,SECT_ID,STNNBR,CASTNO,SAMPNO,BTLNBR,BTLNBR_FLAG_W,DATE,TIME,LATITUDE,LONGITUDE,DEPTH,CTDPRS,CTDTMP,CTDSAL,CTDSAL_FLAG_W,CTDOXY,CTDOXY_FLAG_W,SALNTY,SALNTY_FLAG_W,OXYGEN,OXYGEN_FLAG_W,SILCAT,SILCAT_FLAG_W,NITRAT,NITRAT_FLAG_W,NO2+NO3,NO2+NO3_FLAG_W,NITRIT,NITRIT_FLAG_W,PHSPHT,PHSPHT_FLAG_W,CFC-11,CFC-11_FLAG_W,CFC-12,CFC-12_FLAG_W,DELC13,DELC13_FLAG_W,TCARBN,TCARBN_FLAG_W,ALKALI,ALKALI_FLAG_W,PH,PH_FLAG_W,PH_TMP,PH_SCALE,PH_NBS,PH_NBS_FLAG_W,C13ERR,TOTALP,TOTALP_FLAG_W,AMMONI,AMMONI_FLAG_W,CHLORA,CHLORA_FLAG_W,PPHYTN,PPHYTN_FLAG_W,REVPRS,REVTMP,DEPTH_,DEPTH_FLAG,CTDDEP,THETA,SIGTHT,DOC,DOC_FLAG_W
,,,,,,,GMT,GMT,,,METER,DBAR,ITS-90,PSS-78,,UMOL/KG,,PSS-78,,UMOL/KG,,UMOL/KG,,UMOL/KG,,UMOL/KG,,UMOL/KG,,UMOL/KG,,PMOL/KG,,PMOL/KG,,/MILLE,,UMOL/KG,,UMOL/KG,,25_DEG_C,,DEG_C,,,,/MILLE,UMOL/KG,,UMOL/KG,,UG/L,,UG/L,,DBAR,ITS-90,METERS,,METERS,DEG_C,,UMOL/L,
       RF06-01,  NONE,RF-2563,  1,     -9,      -9,5,20060119,0103, 27.9885, 147.0150, 5743,      0.0,  19.7509,  34.7779,2,   -999.0,9,-999.0000,9,    225.3,2,     2.58,2,  -999.00,9,     0.23,2,     0.08,2,     0.10,2, -999.000,9, -999.000,9,  -999.00,9,   -999.0,9,   -999.0,9,-999.0000,9,   -999.0,  9,  -999.00,9,   -999.0,  -999.00,9,  -999.00,9,     0.33,2,     0.10,2,   -999.0,-999.0000, -999,9,    0,  19.7508,  24.6577,   -999.0,9
       RF06-01,  NONE,RF-2563,  1,     21,02-18575,2,20060119,0121, 27.9885, 147.0150, 5743,     10.3,  19.7485,  34.7776,2,   -999.0,9,  34.7775,2,    227.4,2,     2.36,2,  -999.00,9,     0.20,2,     0.08,2,     0.09,2, -999.000,9, -999.000,9,  -999.00,9,   -999.0,9,   -999.0,9,-999.0000,9,   -999.0,  9,  -999.00,9,   -999.0,  -999.00,9,  -999.00,9,     0.30,2,     0.09,2,   -999.0,-999.0000, -999,9,   10,  19.7466,  24.6586,   -999.0,9
       RF06-01,  NONE,RF-2563,  1,     20,02-18574,2,20060119,0120, 27.9885, 147.0150, 5743,     25.1,  19.7205,  34.7846,2,   -999.0,9,-999.0000,9,    226.0,2,     2.67,2,  -999.00,9,     0.25,2,     0.11,2,     0.10,2, -999.000,9, -999.000,9,  -999.00,9,   -999.0,9,   -999.0,9,-999.0000,9,   -999.0,  9,  -999.00,9,   -999.0,  -999.00,9,  -999.00,9,     0.34,2,     0.13,2,   -999.0,-999.0000, -999,9,   25,  19.7159,  24.6719,   -999.0,9
       RF06-01,  NONE,RF-2563,  1,     19,02-18573,2,20060119,0119, 27.9885, 147.0150, 5743,     50.0,  19.7193,  34.7859,2,   -999.0,9,-999.0000,9,    225.1,2,     2.40,2,  -999.00,9,     0.28,2,     0.12,2,     0.09,2, -999.000,9, -999.000,9,  -999.00,9,   -999.0,9,   -999.0,9,-999.0000,9,   -999.0,  9,  -999.00,9,   -999.0,  -999.00,9,  -999.00,9,     0.36,2,     0.13,2,   -999.0,-999.0000, -999,9,   50,  19.7102,  24.6744,   -999.0,9
       RF06-01,  NONE,RF-2563,  1,     18,02-18572,2,20060119,0118, 27.9885, 147.0150, 5743,     73.8,  19.7185,  34.7890,2,   -999.0,9,-999.0000,9,    223.0,2,     2.40,2,  -999.00,9,     0.38,2,     0.15,2,     0.10,2, -999.000,9, -999.000,9,  -999.00,9,   -999.0,9,   -999.0,9,-999.0000,9,   -999.0,  9,  -999.00,9,   -999.0,  -999.00,9,  -999.00,9,     0.33,2,     0.14,2,   -999.0,-999.0000, -999,9,   73,  19.7050,  24.6781,   -999.0,9
       RF06-01,  NONE,RF-2563,  1,     17,02-18571,2,20060119,0116, 27.9885, 147.0150, 5743,    100.0,  19.6871,  34.7977,2,   -999.0,9,  34.8006,2,    214.6,2,     2.60,2,  -999.00,9,     0.94,2,     0.15,2,     0.12,2, -999.000,9, -999.000,9,  -999.00,9,   -999.0,9,   -999.0,9,-999.0000,9,   -999.0,  9,  -999.00,9,   -999.0,  -999.00,9,  -999.00,9,     0.21,2,     0.11,2,   -999.0,-999.0000, -999,9,   99,  19.6689,  24.6941,   -999.0,9
       RF06-01,  NONE,RF-2563,  1,     16,02-18570,2,20060119,0115, 27.9885, 147.0150, 5743,    125.9,  19.3915,  34.8427,2,   -999.0,9,-999.0000,9,    204.2,2,     3.21,2,  -999.00,9,     2.51,2,     0.06,2,     0.20,2, -999.000,9, -999.000,9,  -999.00,9,   -999.0,9,   -999.0,9,-999.0000,9,   -999.0,  9,  -999.00,9,   -999.0,  -999.00,9,  -999.00,9,     0.03,2,     0.04,2,   -999.0,-999.0000, -999,9,  125,  19.3688,  24.8063,   -999.0,9
       RF06-01,  NONE,RF-2563,  1,     15,02-18569,2,20060119,0114, 27.9885, 147.0150, 5743,    152.0,  18.8798,  34.8521,2,   -999.0,9,-999.0000,9,    199.1,2,     3.80,2,  -999.00,9,     3.33,2,     0.02,2,     0.26,2, -999.000,9, -999.000,9,  -999.00,9,   -999.0,9,   -999.0,9,-999.0000,9,   -999.0,  9,  -999.00,9,   -999.0,  -999.00,9,  -999.00,9,     0.01,2,     0.03,2,   -999.0,-999.0000, -999,9,  151,  18.8529,  24.9456,   -999.0,9
       RF06-01,  NONE,RF-2563,  1,     14,02-18568,2,20060119,0112, 27.9885, 147.0150, 5743,    198.8,  18.0119,  34.8191,2,   -999.0,9,  34.8185,2,    202.9,2,     4.17,2,  -999.00,9,     4.07,2,     0.01,2,     0.30,2, -999.000,9, -999.000,9,  -999.00,9,   -999.0,9,   -999.0,9,-999.0000,9,   -999.0,  9,  -999.00,9,   -999.0,  -999.00,9,  -999.00,9,     0.01,2,     0.04,2,   -999.0,-999.0000, -999,9,  197,  17.9778,  25.1390,   -999.0,9
       RF06-01,  NONE,RF-2563,  1,     13,02-18567,2,20060119,0111, 27.9885, 147.0150, 5743,    253.6,  17.3446,  34.7935,2,   -999.0,9,-999.0000,9,    210.9,2,     4.53,2,  -999.00,9,     4.55,2,     0.01,2,     0.33,2, -999.000,9, -999.000,9,  -999.00,9,   -999.0,9,   -999.0,9,-999.0000,9,   -999.0,  9,  -999.00,9,   -999.0,  -999.00,9,  -999.00,9,  -999.00,9,  -999.00,9,   -999.0,-999.0000, -999,9,  252,  17.3022,  25.2836,   -999.0,9
       RF06-01,  NONE,RF-2563,  1,     12,02-18566,2,20060119,0109, 27.9885, 147.0150, 5743,    303.7,  16.9638,  34.7650,2,   -999.0,9,  34.7650,2,    209.4,2,     5.13,2,  -999.00,9,     5.22,2,     0.01,2,     0.37,2, -999.000,9, -999.000,9,  -999.00,9,   -999.0,9,   -999.0,9,-999.0000,9,   -999.0,  9,  -999.00,9,   -999.0,  -999.00,9,  -999.00,9,  -999.00,9,  -999.00,9,   -999.0,-999.0000, -999,9,  301,  16.9137,  25.3544,   -999.0,9
       RF06-01,  NONE,RF-2563,  1,     11,02-18565,2,20060119,0107, 27.9885, 147.0150, 5743,    405.1,  15.2765,  34.6190,2,   -999.0,9,  34.6184,2,    196.7,2,     9.51,2,  -999.00,9,     8.93,2,     0.00,2,     0.61,2, -999.000,9, -999.000,9,  -999.00,9,   -999.0,9,   -999.0,9,-999.0000,9,   -999.0,  9,  -999.00,9,   -999.0,  -999.00,9,  -999.00,9,  -999.00,9,  -999.00,9,   -999.0,-999.0000, -999,9,  402,  15.2142,  25.6310,   -999.0,9
       RF06-01,  NONE,RF-2563,  1,     10,02-18564,2,20060119,0104, 27.9885, 147.0150, 5743,    505.2,  12.1350,  34.4062,2,   -999.0,9,-999.0000,9,    178.6,2,    22.69,2,  -999.00,9,    16.20,2,     0.00,2,     1.13,2, -999.000,9, -999.000,9,  -999.00,9,   -999.0,9,   -999.0,9,-999.0000,9,   -999.0,  9,  -999.00,9,   -999.0,  -999.00,9,  -999.00,9,  -999.00,9,  -999.00,9,   -999.0,-999.0000, -999,9,  501,  12.0682,  26.1149,   -999.0,9
       RF06-01,  NONE,RF-2563,  1,      9,02-18563,2,20060119,0101, 27.9885, 147.0150, 5743,    606.4,   9.0525,  34.1569,2,   -999.0,9,  34.1583,2,    172.0,2,    33.90,2,  -999.00,9,    21.31,2,     0.00,2,     1.53,2, -999.000,9, -999.000,9,  -999.00,9,   -999.0,9,   -999.0,9,-999.0000,9,   -999.0,  9,  -999.00,9,   -999.0,  -999.00,9,  -999.00,9,  -999.00,9,  -999.00,9,   -999.0,-999.0000, -999,9,  601,   8.9856,  26.4602,   -999.0,9
       RF06-01,  NONE,RF-2563,  1,      8,02-18562,2,20060119,0059, 27.9885, 147.0150, 5743,    705.1,   6.4169,  34.0411,2,   -999.0,9,-999.0000,9,    138.5,2,    56.23,2,  -999.00,9,    29.66,2,     0.00,2,     2.18,2, -999.000,9, -999.000,9,  -999.00,9,   -999.0,9,   -999.0,9,-999.0000,9,   -999.0,  9,  -999.00,9,   -999.0,  -999.00,9,  -999.00,9,  -999.00,9,  -999.00,9,   -999.0,-999.0000, -999,9,  699,   6.3526,  26.7499,   -999.0,9
       RF06-01,  NONE,RF-2563,  1,      7,02-18561,2,20060119,0052, 27.9885, 147.0150, 5743,    809.6,   5.2912,  34.0850,2,   -999.0,9,  34.0838,2,     91.5,2,    77.86,2,  -999.00,9,    35.00,2,     0.00,2,     2.58,2, -999.000,9, -999.000,9,  -999.00,9,   -999.0,9,   -999.0,9,-999.0000,9,   -999.0,  9,  -999.00,9,   -999.0,  -999.00,9,  -999.00,9,  -999.00,9,  -999.00,9,   -999.0,-999.0000, -999,9,  803,   5.2236,  26.9239,   -999.0,9
       RF06-01,  NONE,RF-2563,  1,      6,02-18560,2,20060119,0049, 27.9885, 147.0150, 5743,    908.5,   4.5900,  34.1699,2,   -999.0,9,-999.0000,9,     63.7,2,    95.27,2,  -999.00,9,    38.45,2,     0.00,2,     2.85,2, -999.000,9, -999.000,9,  -999.00,9,   -999.0,9,   -999.0,9,-999.0000,9,   -999.0,  9,  -999.00,9,   -999.0,  -999.00,9,  -999.00,9,  -999.00,9,  -999.00,9,   -999.0,-999.0000, -999,9,  901,   4.5183,  27.0710,   -999.0,9
       RF06-01,  NONE,RF-2563,  1,      5,02-18559,2,20060119,0046, 27.9885, 147.0150, 5743,   1008.3,   3.9529,  34.2693,2,   -999.0,9,  34.2683,2,     45.5,2,   112.58,2,  -999.00,9,    40.66,2,     0.00,2,     3.02,2, -999.000,9, -999.000,9,  -999.00,9,   -999.0,9,   -999.0,9,-999.0000,9,   -999.0,  9,  -999.00,9,   -999.0,  -999.00,9,  -999.00,9,  -999.00,9,  -999.00,9,   -999.0,-999.0000, -999,9,  999,   3.8773,  27.2174,   -999.0,9
       RF06-01,  NONE,RF-2563,  1,      4,02-18558,2,20060119,0041, 27.9885, 147.0150, 5743,   1262.2,   3.0722,  34.4139,2,   -999.0,9,  34.4129,2,     38.7,2,   136.49,2,  -999.00,9,    42.12,2,     0.00,2,     3.12,2, -999.000,9, -999.000,9,  -999.00,9,   -999.0,9,   -999.0,9,-999.0000,9,   -999.0,  9,  -999.00,9,   -999.0,  -999.00,9,  -999.00,9,  -999.00,9,  -999.00,9,   -999.0,-999.0000, -999,9, 1250,   2.9834,  27.4187,   -999.0,9
       RF06-01,  NONE,RF-2563,  1,      3,02-18557,2,20060119,0037, 27.9885, 147.0150, 5743,   1515.6,   2.5803,  34.5135,2,   -999.0,9,  34.5122,2,     57.0,2,   144.89,2,  -999.00,9,    41.26,2,     0.00,2,     3.04,2, -999.000,9, -999.000,9,  -999.00,9,   -999.0,9,   -999.0,9,-999.0000,9,   -999.0,  9,  -999.00,9,   -999.0,  -999.00,9,  -999.00,9,  -999.00,9,  -999.00,9,   -999.0,-999.0000, -999,9, 1500,   2.4762,  27.5429,   -999.0,9
       RF06-01,  NONE,RF-2563,  1,      2,02-18556,2,20060119,0032, 27.9885, 147.0150, 5743,   1769.4,   2.2221,  34.5646,2,   -999.0,9,  34.5632,2,     70.4,2,   150.78,2,  -999.00,9,    40.57,2,     0.00,2,     2.98,2, -999.000,9, -999.000,9,  -999.00,9,   -999.0,9,   -999.0,9,-999.0000,9,   -999.0,  9,  -999.00,9,   -999.0,  -999.00,9,  -999.00,9,  -999.00,9,  -999.00,9,   -999.0,-999.0000, -999,9, 1750,   2.1018,  27.6148,   -999.0,9
       RF06-01,  NONE,RF-2563,  1,      1,02-18555,2,20060119,0027, 27.9885, 147.0150, 5743,   2021.5,   1.9784,  34.6022,2,   -999.0,9,  34.6019,2,     94.3,2,   150.24,2,  -999.00,9,    39.43,2,     0.00,2,     2.86,2, -999.000,9, -999.000,9,  -999.00,9,   -999.0,9,   -999.0,9,-999.0000,9,   -999.0,  9,  -999.00,9,   -999.0,  -999.00,9,  -999.00,9,  -999.00,9,  -999.00,9,   -999.0,-999.0000, -999,9, 1998,   1.8406,  27.6654,   -999.0,9