BOTTLE,20131214MIRCJHATS
EXPOCODE,SECT_ID,STNNBR,CASTNO,SAMPNO,BTLNBR,BTLNBR_FLAG_W,DATE,TIME,LATITUDE,LONGITUDE,DEPTH,CTDPRS,CTDTMP,CTDSAL,CTDSAL_FLAG_W,CTDOXY,CTDOXY_FLAG_W,SALNTY,SALNTY_FLAG_W,OXYGEN,OXYGEN_FLAG_W,SILCAT,SILCAT_FLAG_W,NITRAT,NITRAT_FLAG_W,NO2+NO3,NO2+NO3_FLAG_W,NITRIT,NITRIT_FLAG_W,PHSPHT,PHSPHT_FLAG_W,CFC-11,CFC-11_FLAG_W,CFC-12,CFC-12_FLAG_W,DELC13,DELC13_FLAG_W,TCARBN,TCARBN_FLAG_W,ALKALI,ALKALI_FLAG_W,PH,PH_FLAG_W,PH_TMP,PH_SCALE,PH_NBS,PH_NBS_FLAG_W,C13ERR,TOTALP,TOTALP_FLAG_W,AMMONI,AMMONI_FLAG_W,CHLORA,CHLORA_FLAG_W,PPHYTN,PPHYTN_FLAG_W,REVPRS,REVTMP,DEPTH_,DEPTH_FLAG,CTDDEP,THETA,SIGTHT,DOC,DOC_FLAG_W
,,,,,,,GMT,GMT,,,METER,DBAR,ITS-90,PSS-78,,UMOL/KG,,PSS-78,,UMOL/KG,,UMOL/KG,,UMOL/KG,,UMOL/KG,,UMOL/KG,,UMOL/KG,,PMOL/KG,,PMOL/KG,,/MILLE,,UMOL/KG,,UMOL/KG,,25_DEG_C,,DEG_C,,,,/MILLE,UMOL/KG,,UMOL/KG,,UG/L,,UG/L,,DBAR,ITS-90,METERS,,METERS,DEG_C,,UMOL/L,
       RF06-01, EQPAC,RF-2610,  1,     -9,      -9,5,20060210,2055, -0.0193, 166.4540, 4376,      0.0,  27.8490,  35.3501,2,   -999.0,9,-999.0000,9,    198.7,2,     2.35,2,  -999.00,9,     3.61,2,     0.34,2,     0.42,2, -999.000,9, -999.000,9,  -999.00,9,   2006.0,3,   -999.0,9,-999.0000,9,   -999.0,  9,  -999.00,9,   -999.0,  -999.00,9,  -999.00,9,     0.33,2,     0.17,2,   -999.0,-999.0000, -999,9,    0,  27.8488,  22.7073,   -999.0,9
       RF06-01, EQPAC,RF-2610,  1,     24,02-18578,2,20060210,2118, -0.0193, 166.4540, 4376,     10.6,  27.8516,  35.3548,2,   -999.0,9,  35.3552,2,    197.4,2,     2.30,2,  -999.00,9,     3.62,2,     0.34,2,     0.43,2, -999.000,9, -999.000,9,  -999.00,9,   -999.0,9,   -999.0,9,-999.0000,9,   -999.0,  9,  -999.00,9,   -999.0,  -999.00,9,  -999.00,9,     0.34,2,     0.19,2,   -999.0,-999.0000, -999,9,   10,  27.8491,  22.7108,   -999.0,9
       RF06-01, EQPAC,RF-2610,  1,     23,02-18577,2,20060210,2117, -0.0193, 166.4540, 4376,     25.9,  27.8458,  35.3568,2,   -999.0,9,-999.0000,9,    192.8,2,     2.29,2,  -999.00,9,     3.63,2,     0.34,2,     0.43,2, -999.000,9, -999.000,9,  -999.00,9,   -999.0,9,   -999.0,9,-999.0000,9,   -999.0,  9,  -999.00,9,   -999.0,  -999.00,9,  -999.00,9,     0.35,2,     0.17,2,   -999.0,-999.0000, -999,9,   26,  27.8397,  22.7153,   -999.0,9
       RF06-01, EQPAC,RF-2610,  1,     22,02-18576,2,20060210,2115, -0.0193, 166.4540, 4376,     50.5,  27.8559,  35.3624,2,   -999.0,9,-999.0000,9,    192.7,2,     2.29,2,  -999.00,9,     3.64,2,     0.34,2,     0.44,2, -999.000,9, -999.000,9,  -999.00,9,   -999.0,9,   -999.0,9,-999.0000,9,   -999.0,  9,  -999.00,9,   -999.0,  -999.00,9,  -999.00,9,     0.32,2,     0.19,2,   -999.0,-999.0000, -999,9,   50,  27.8440,  22.7182,   -999.0,9
       RF06-01, EQPAC,RF-2610,  1,     21,02-18575,2,20060210,2115, -0.0193, 166.4540, 4376,     73.6,  27.8676,  35.3714,2,   -999.0,9,-999.0000,9,    195.3,2,     2.30,2,  -999.00,9,     3.63,2,     0.35,2,     0.44,2, -999.000,9, -999.000,9,  -999.00,9,   -999.0,9,   -999.0,9,-999.0000,9,   -999.0,  9,  -999.00,9,   -999.0,  -999.00,9,  -999.00,9,     0.32,2,     0.20,2,   -999.0,-999.0000, -999,9,   73,  27.8503,  22.7229,   -999.0,9
       RF06-01, EQPAC,RF-2610,  1,     20,02-18574,2,20060210,2113, -0.0193, 166.4540, 4376,     98.8,  27.8943,  35.3918,2,   -999.0,9,  35.3901,2,    194.6,2,     2.28,2,  -999.00,9,     3.69,2,     0.36,2,     0.45,2, -999.000,9, -999.000,9,  -999.00,9,   -999.0,9,   -999.0,9,-999.0000,9,   -999.0,  9,  -999.00,9,   -999.0,  -999.00,9,  -999.00,9,     0.28,2,     0.17,2,   -999.0,-999.0000, -999,9,   98,  27.8711,  22.7315,   -999.0,9
       RF06-01, EQPAC,RF-2610,  1,     19,02-18573,2,20060210,2112, -0.0193, 166.4540, 4376,    126.9,  27.9338,  35.4243,2,   -999.0,9,-999.0000,9,    191.6,2,     2.28,2,  -999.00,9,     3.75,2,     0.39,2,     0.47,2, -999.000,9, -999.000,9,  -999.00,9,   -999.0,9,   -999.0,9,-999.0000,9,   -999.0,  9,  -999.00,9,   -999.0,  -999.00,9,  -999.00,9,     0.22,2,     0.14,2,   -999.0,-999.0000, -999,9,  126,  27.9039,  22.7452,   -999.0,9
       RF06-01, EQPAC,RF-2610,  1,     18,02-18572,2,20060210,2110, -0.0193, 166.4540, 4376,    153.0,  24.3695,  35.4581,2,   -999.0,9,-999.0000,9,    136.5,2,     3.62,2,  -999.00,9,     9.31,2,     0.07,2,     0.76,2, -999.000,9, -999.000,9,  -999.00,9,   -999.0,9,   -999.0,9,-999.0000,9,   -999.0,  9,  -999.00,9,   -999.0,  -999.00,9,  -999.00,9,     0.03,2,     0.05,2,   -999.0,-999.0000, -999,9,  152,  24.3369,  23.8878,   -999.0,9
       RF06-01, EQPAC,RF-2610,  1,     17,02-18571,2,20060210,2108, -0.0193, 166.4540, 4376,    202.9,  18.6817,  35.3473,2,   -999.0,9,  35.3159,4,    140.3,2,     6.52,2,  -999.00,9,    11.75,2,     0.01,2,     0.89,2, -999.000,9, -999.000,9,  -999.00,9,   -999.0,9,   -999.0,9,-999.0000,9,   -999.0,  9,  -999.00,9,   -999.0,  -999.00,9,  -999.00,9,     0.00,2,     0.02,2,   -999.0,-999.0000, -999,9,  202,  18.6459,  25.3767,   -999.0,9
       RF06-01, EQPAC,RF-2610,  1,     16,02-18570,2,20060210,2105, -0.0193, 166.4540, 4376,    301.7,  12.4775,  34.8877,2,   -999.0,9,  34.8884,2,    128.4,2,    18.27,2,  -999.00,9,    21.58,2,     0.00,2,     1.54,2, -999.000,9, -999.000,9,  -999.00,9,   -999.0,9,   -999.0,9,-999.0000,9,   -999.0,  9,  -999.00,9,   -999.0,  -999.00,9,  -999.00,9,  -999.00,9,  -999.00,9,   -999.0,-999.0000, -999,9,  300,  12.4370,  26.4175,   -999.0,9
       RF06-01, EQPAC,RF-2610,  1,     15,02-18569,2,20060210,2102, -0.0193, 166.4540, 4376,    403.3,   9.6098,  34.6876,2,   -999.0,9,  34.6920,2,     95.2,2,    29.35,2,  -999.00,9,    29.68,2,     0.00,2,     2.08,2, -999.000,9, -999.000,9,  -999.00,9,   -999.0,9,   -999.0,9,-999.0000,9,   -999.0,  9,  -999.00,9,   -999.0,  -999.00,9,  -999.00,9,  -999.00,9,  -999.00,9,   -999.0,-999.0000, -999,9,  401,   9.5638,  26.7815,   -999.0,9
       RF06-01, EQPAC,RF-2610,  1,     14,02-18568,2,20060210,2059, -0.0193, 166.4540, 4376,    503.5,   7.7467,  34.5922,2,   -999.0,9,-999.0000,9,    109.9,2,    35.60,2,  -999.00,9,    32.04,2,     0.00,2,     2.26,2, -999.000,9, -999.000,9,  -999.00,9,   -999.0,9,   -999.0,9,-999.0000,9,   -999.0,  9,  -999.00,9,   -999.0,  -999.00,9,  -999.00,9,  -999.00,9,  -999.00,9,   -999.0,-999.0000, -999,9,  500,   7.6960,  26.9985,   -999.0,9
       RF06-01, EQPAC,RF-2610,  1,     13,02-18567,2,20060210,2056, -0.0193, 166.4540, 4376,    604.9,   6.9975,  34.5674,2,   -999.0,9,  34.5684,2,     82.0,2,    46.83,2,  -999.00,9,    36.17,2,     0.00,2,     2.59,2, -999.000,9, -999.000,9,  -999.00,9,   -999.0,9,   -999.0,9,-999.0000,9,   -999.0,  9,  -999.00,9,   -999.0,  -999.00,9,  -999.00,9,  -999.00,9,  -999.00,9,   -999.0,-999.0000, -999,9,  601,   6.9396,  27.0863,   -999.0,9
       RF06-01, EQPAC,RF-2610,  1,     12,02-18566,2,20060210,2050, -0.0193, 166.4540, 4376,    807.9,   5.7869,  34.5416,2,   -999.0,9,  34.5414,2,     91.4,2,    60.05,2,  -999.00,9,    37.21,2,     0.00,2,     2.68,2, -999.000,9, -999.000,9,  -999.00,9,   -999.0,9,   -999.0,9,-999.0000,9,   -999.0,  9,  -999.00,9,   -999.0,  -999.00,9,  -999.00,9,  -999.00,9,  -999.00,9,   -999.0,-999.0000, -999,9,  802,   5.7158,  27.2261,   -999.0,9
       RF06-01, EQPAC,RF-2610,  1,     11,02-18565,2,20060210,2044, -0.0193, 166.4540, 4376,   1009.4,   4.5938,  34.5499,2,   -999.0,9,  34.5499,2,    100.2,2,    81.55,2,  -999.00,9,    37.97,2,     0.00,2,     2.75,2, -999.000,9, -999.000,9,  -999.00,9,   -999.0,9,   -999.0,9,-999.0000,9,   -999.0,  9,  -999.00,9,   -999.0,  -999.00,9,  -999.00,9,  -999.00,9,  -999.00,9,   -999.0,-999.0000, -999,9, 1001,   4.5127,  27.3734,   -999.0,9
       RF06-01, EQPAC,RF-2610,  1,     10,02-18564,2,20060210,2032, -0.0193, 166.4540, 4376,   1515.5,   3.0517,  34.6021,2,   -999.0,9,  34.6013,2,     98.2,2,   116.82,2,  -999.00,9,    39.10,2,     0.00,2,     2.84,2, -999.000,9, -999.000,9,  -999.00,9,   -999.0,9,   -999.0,9,-999.0000,9,   -999.0,  9,  -999.00,9,   -999.0,  -999.00,9,  -999.00,9,  -999.00,9,  -999.00,9,   -999.0,-999.0000, -999,9, 1502,   2.9419,  27.5727,   -999.0,9
       RF06-01, EQPAC,RF-2610,  1,      9,02-18563,2,20060210,2019, -0.0193, 166.4540, 4376,   2023.5,   2.2596,  34.6386,2,   -999.0,9,  34.6384,2,    112.6,2,   133.04,2,  -999.00,9,    38.30,2,     0.00,2,     2.74,2, -999.000,9, -999.000,9,  -999.00,9,   -999.0,9,   -999.0,9,-999.0000,9,   -999.0,  9,  -999.00,9,   -999.0,  -999.00,9,  -999.00,9,  -999.00,9,  -999.00,9,   -999.0,-999.0000, -999,9, 2003,   2.1172,  27.6728,   -999.0,9
       RF06-01, EQPAC,RF-2610,  1,      8,02-18562,2,20060210,2014, -0.0193, 166.4540, 4376,   2276.5,   2.0577,  34.6501,2,   -999.0,9,-999.0000,9,    120.6,2,   136.70,2,  -999.00,9,    37.97,2,     0.00,2,     2.71,2, -999.000,9, -999.000,9,  -999.00,9,   -999.0,9,   -999.0,9,-999.0000,9,   -999.0,  9,  -999.00,9,   -999.0,  -999.00,9,  -999.00,9,  -999.00,9,  -999.00,9,   -999.0,-999.0000, -999,9, 2252,   1.8965,  27.6995,   -999.0,9
       RF06-01, EQPAC,RF-2610,  1,      7,02-18561,2,20060210,2008, -0.0193, 166.4540, 4376,   2532.9,   1.8373,  34.6622,2,   -999.0,9,  34.6622,2,    132.6,2,   141.18,2,  -999.00,9,    37.68,2,     0.00,2,     2.68,2, -999.000,9, -999.000,9,  -999.00,9,   -999.0,9,   -999.0,9,-999.0000,9,   -999.0,  9,  -999.00,9,   -999.0,  -999.00,9,  -999.00,9,  -999.00,9,  -999.00,9,   -999.0,-999.0000, -999,9, 2504,   1.6570,  27.7275,   -999.0,9
       RF06-01, EQPAC,RF-2610,  1,      6,02-18560,2,20060210,2003, -0.0193, 166.4540, 4376,   2784.4,   1.7646,  34.6657,2,   -999.0,9,-999.0000,9,    133.8,2,   142.32,2,  -999.00,9,    37.44,2,     0.00,2,     2.66,2, -999.000,9, -999.000,9,  -999.00,9,   -999.0,9,   -999.0,9,-999.0000,9,   -999.0,  9,  -999.00,9,   -999.0,  -999.00,9,  -999.00,9,  -999.00,9,  -999.00,9,   -999.0,-999.0000, -999,9, 2751,   1.5626,  27.7373,   -999.0,9
       RF06-01, EQPAC,RF-2610,  1,      5,02-18559,2,20060210,1959, -0.0193, 166.4540, 4376,   3038.9,   1.6567,  34.6721,2,   -999.0,9,  34.6713,2,    135.4,2,   142.84,2,  -999.00,9,    37.03,2,     0.00,2,     2.62,2, -999.000,9, -999.000,9,  -999.00,9,   -999.0,9,   -999.0,9,-999.0000,9,   -999.0,  9,  -999.00,9,   -999.0,  -999.00,9,  -999.00,9,  -999.00,9,  -999.00,9,   -999.0,-999.0000, -999,9, 3001,   1.4327,  27.7519,   -999.0,9
       RF06-01, EQPAC,RF-2610,  1,      4,02-18558,2,20060210,1954, -0.0193, 166.4540, 4376,   3292.3,   1.5986,  34.6763,2,   -999.0,9,-999.0000,9,    145.9,2,   142.38,2,  -999.00,9,    36.68,2,     0.00,2,     2.58,2, -999.000,9, -999.000,9,  -999.00,9,   -999.0,9,   -999.0,9,-999.0000,9,   -999.0,  9,  -999.00,9,   -999.0,  -999.00,9,  -999.00,9,  -999.00,9,  -999.00,9,   -999.0,-999.0000, -999,9, 3249,   1.3510,  27.7611,   -999.0,9
       RF06-01, EQPAC,RF-2610,  1,      3,02-18557,2,20060210,1950, -0.0193, 166.4540, 4376,   3548.7,   1.5344,  34.6817,2,   -999.0,9,  34.6814,2,    147.3,2,   141.53,2,  -999.00,9,    36.36,2,     0.00,2,     2.55,2, -999.000,9, -999.000,9,  -999.00,9,   -999.0,9,   -999.0,9,-999.0000,9,   -999.0,  9,  -999.00,9,   -999.0,  -999.00,9,  -999.00,9,  -999.00,9,  -999.00,9,   -999.0,-999.0000, -999,9, 3500,   1.2624,  27.7717,   -999.0,9
       RF06-01, EQPAC,RF-2610,  1,      2,02-18556,2,20060210,1943, -0.0193, 166.4540, 4376,   4058.8,   1.4241,  34.6928,2,   -999.0,9,  34.6929,2,    171.2,2,   135.46,2,  -999.00,9,    35.25,2,     0.00,2,     2.45,2, -999.000,9, -999.000,9,  -999.00,9,   -999.0,9,   -999.0,9,-999.0000,9,   -999.0,  9,  -999.00,9,   -999.0,  -999.00,9,  -999.00,9,  -999.00,9,  -999.00,9,   -999.0,-999.0000, -999,9, 3998,   1.1009,  27.7917,   -999.0,9
       RF06-01, EQPAC,RF-2610,  1,      1,02-18555,2,20060210,1938, -0.0193, 166.4540, 4376,   4367.9,   1.3420,  34.7001,2,   -999.0,9,  34.6996,2,    177.8,2,   128.03,2,  -999.00,9,    34.22,2,     0.00,2,     2.37,2, -999.000,9, -999.000,9,  -999.00,9,   -999.0,9,   -999.0,9,-999.0000,9,   -999.0,  9,  -999.00,9,   -999.0,  -999.00,9,  -999.00,9,  -999.00,9,  -999.00,9,   -999.0,-999.0000, -999,9, 4300,   0.9869,  27.8053,   -999.0,9