BOTTLE,20131214MIRCJHATS
EXPOCODE,SECT_ID,STNNBR,CASTNO,SAMPNO,BTLNBR,BTLNBR_FLAG_W,DATE,TIME,LATITUDE,LONGITUDE,DEPTH,CTDPRS,CTDTMP,CTDSAL,CTDSAL_FLAG_W,CTDOXY,CTDOXY_FLAG_W,SALNTY,SALNTY_FLAG_W,OXYGEN,OXYGEN_FLAG_W,SILCAT,SILCAT_FLAG_W,NITRAT,NITRAT_FLAG_W,NO2+NO3,NO2+NO3_FLAG_W,NITRIT,NITRIT_FLAG_W,PHSPHT,PHSPHT_FLAG_W,CFC-11,CFC-11_FLAG_W,CFC-12,CFC-12_FLAG_W,DELC13,DELC13_FLAG_W,TCARBN,TCARBN_FLAG_W,ALKALI,ALKALI_FLAG_W,PH,PH_FLAG_W,PH_TMP,PH_SCALE,PH_NBS,PH_NBS_FLAG_W,C13ERR,TOTALP,TOTALP_FLAG_W,AMMONI,AMMONI_FLAG_W,CHLORA,CHLORA_FLAG_W,PPHYTN,PPHYTN_FLAG_W,REVPRS,REVTMP,DEPTH_,DEPTH_FLAG,CTDDEP,THETA,SIGTHT,DOC,DOC_FLAG_W
,,,,,,,GMT,GMT,,,METER,DBAR,ITS-90,PSS-78,,UMOL/KG,,PSS-78,,UMOL/KG,,UMOL/KG,,UMOL/KG,,UMOL/KG,,UMOL/KG,,UMOL/KG,,PMOL/KG,,PMOL/KG,,/MILLE,,UMOL/KG,,UMOL/KG,,25_DEG_C,,DEG_C,,,,/MILLE,UMOL/KG,,UMOL/KG,,UG/L,,UG/L,,DBAR,ITS-90,METERS,,METERS,DEG_C,,UMOL/L,
       RF06-01,  142E,RF-2623,  1,     -9,      -9,5,20060217,0412, -0.0050, 141.9955, 3392,      0.0,  29.6210,  34.0503,2,   -999.0,9,-999.0000,9,    196.0,2,     1.38,2,  -999.00,9,     0.00,2,     0.00,2,     0.09,2, -999.000,9, -999.000,9,  -999.00,9,   1894.5,2,   -999.0,9,-999.0000,9,   -999.0,  9,  -999.00,9,   -999.0,  -999.00,9,  -999.00,9,     0.19,2,     0.03,2,   -999.0,-999.0000, -999,9,    0,  29.6208,  21.1429,   -999.0,9
       RF06-01,  142E,RF-2623,  1,     21,02-18575,2,20060217,0436, -0.0050, 141.9955, 3392,     10.5,  29.1921,  34.0452,2,   -999.0,9,  34.0454,2,    200.8,2,     1.38,2,  -999.00,9,     0.00,2,     0.00,2,     0.08,2, -999.000,9, -999.000,9,  -999.00,9,   1896.6,2,   -999.0,9,-999.0000,9,   -999.0,  9,  -999.00,9,   -999.0,  -999.00,9,  -999.00,9,     0.16,2,     0.04,2,   -999.0,-999.0000, -999,9,   10,  29.1896,  21.2841,   -999.0,9
       RF06-01,  142E,RF-2623,  1,     20,02-18574,2,20060217,0435, -0.0050, 141.9955, 3392,     25.5,  29.1499,  34.0449,2,   -999.0,9,-999.0000,9,    195.9,2,     1.38,2,  -999.00,9,     0.00,2,     0.00,2,     0.08,2, -999.000,9, -999.000,9,  -999.00,9,   1898.0,2,   -999.0,9,-999.0000,9,   -999.0,  9,  -999.00,9,   -999.0,  -999.00,9,  -999.00,9,     0.21,2,     0.05,2,   -999.0,-999.0000, -999,9,   25,  29.1437,  21.2992,   -999.0,9
       RF06-01,  142E,RF-2623,  1,     19,02-18573,2,20060217,0434, -0.0050, 141.9955, 3392,     50.2,  29.1196,  34.0736,2,   -999.0,9,-999.0000,9,    196.6,2,     1.32,2,  -999.00,9,     0.01,2,     0.00,2,     0.08,2, -999.000,9, -999.000,9,  -999.00,9,   1899.6,2,   -999.0,9,-999.0000,9,   -999.0,  9,  -999.00,9,   -999.0,  -999.00,9,  -999.00,9,     0.38,2,     0.13,2,   -999.0,-999.0000, -999,9,   50,  29.1075,  21.3329,   -999.0,9
       RF06-01,  142E,RF-2623,  1,     18,02-18572,2,20060217,0433, -0.0050, 141.9955, 3392,     75.9,  29.2858,  34.2722,2,   -999.0,9,-999.0000,9,    192.4,2,     1.44,2,  -999.00,9,     0.40,2,     0.21,2,     0.13,2, -999.000,9, -999.000,9,  -999.00,9,   1916.7,2,   -999.0,9,-999.0000,9,   -999.0,  9,  -999.00,9,   -999.0,  -999.00,9,  -999.00,9,     0.50,2,     0.16,2,   -999.0,-999.0000, -999,9,   75,  29.2674,  21.4283,   -999.0,9
       RF06-01,  142E,RF-2623,  1,     17,02-18571,2,20060217,0431, -0.0050, 141.9955, 3392,    100.4,  25.7486,  35.3801,2,   -999.0,9,  35.3619,4,    138.9,2,     3.57,2,  -999.00,9,     8.02,2,     0.03,2,     0.64,2, -999.000,9, -999.000,9,  -999.00,9,   2052.0,2,   -999.0,9,-999.0000,9,   -999.0,  9,  -999.00,9,   -999.0,  -999.00,9,  -999.00,9,     0.05,2,     0.17,2,   -999.0,-999.0000, -999,9,  100,  25.7263,  23.4053,   -999.0,9
       RF06-01,  142E,RF-2623,  1,     16,02-18570,2,20060217,0430, -0.0050, 141.9955, 3392,    125.9,  24.8057,  35.3700,2,   -999.0,9,-999.0000,9,    134.0,2,     3.75,2,  -999.00,9,     8.72,2,     0.03,2,     0.68,2, -999.000,9, -999.000,9,  -999.00,9,   2058.4,2,   -999.0,9,-999.0000,9,   -999.0,  9,  -999.00,9,   -999.0,  -999.00,9,  -999.00,9,     0.03,2,     0.11,2,   -999.0,-999.0000, -999,9,  125,  24.7785,  23.6881,   -999.0,9
       RF06-01,  142E,RF-2623,  1,     15,02-18569,2,20060217,0429, -0.0050, 141.9955, 3392,    152.6,  22.7038,  35.2428,2,   -999.0,9,-999.0000,9,    134.7,2,     5.78,2,  -999.00,9,     9.71,2,     0.01,2,     0.74,2, -999.000,9, -999.000,9,  -999.00,9,   2075.7,2,   -999.0,9,-999.0000,9,   -999.0,  9,  -999.00,9,   -999.0,  -999.00,9,  -999.00,9,     0.01,2,     0.05,2,   -999.0,-999.0000, -999,9,  152,  22.6729,  24.2118,   -999.0,9
       RF06-01,  142E,RF-2623,  1,     14,02-18568,2,20060217,0427, -0.0050, 141.9955, 3392,    202.1,  17.8893,  35.2670,2,   -999.0,9,  35.2778,4,    140.5,2,     7.51,2,  -999.00,9,    12.46,2,     0.00,2,     0.93,2, -999.000,9, -999.000,9,  -999.00,9,   2109.5,2,   -999.0,9,-999.0000,9,   -999.0,  9,  -999.00,9,   -999.0,  -999.00,9,  -999.00,9,     0.00,2,     0.02,2,   -999.0,-999.0000, -999,9,  201,  17.8547,  25.5124,   -999.0,9
       RF06-01,  142E,RF-2623,  1,     13,02-18567,2,20060217,0425, -0.0050, 141.9955, 3392,    251.8,  16.5732,  35.3145,2,   -999.0,9,-999.0000,9,    143.1,2,     7.45,2,  -999.00,9,    14.51,2,     0.00,2,     1.08,2, -999.000,9, -999.000,9,  -999.00,9,   2125.1,2,   -999.0,9,-999.0000,9,   -999.0,  9,  -999.00,9,   -999.0,  -999.00,9,  -999.00,9,  -999.00,9,  -999.00,9,   -999.0,-999.0000, -999,9,  250,  16.5322,  25.8662,   -999.0,9
       RF06-01,  142E,RF-2623,  1,     12,02-18348,2,20060217,0424, -0.0050, 141.9955, 3392,    301.6,  11.6828,  34.8312,2,   -999.0,9,  34.8171,4,    136.0,2,    20.38,2,  -999.00,9,    22.00,2,     0.00,2,     1.56,2, -999.000,9, -999.000,9,  -999.00,9,   2162.7,2,   -999.0,9,-999.0000,9,   -999.0,  9,  -999.00,9,   -999.0,  -999.00,9,  -999.00,9,  -999.00,9,  -999.00,9,   -999.0,-999.0000, -999,9,  300,  11.6440,  26.5254,   -999.0,9
       RF06-01,  142E,RF-2623,  1,     11,02-18565,2,20060217,0421, -0.0050, 141.9955, 3392,    403.4,  10.0168,  34.7037,2,   -999.0,9,  34.7045,2,    122.7,2,    26.33,2,  -999.00,9,    26.45,2,     0.00,2,     1.86,2, -999.000,9, -999.000,9,  -999.00,9,   2190.3,2,   -999.0,9,-999.0000,9,   -999.0,  9,  -999.00,9,   -999.0,  -999.00,9,  -999.00,9,  -999.00,9,  -999.00,9,   -999.0,-999.0000, -999,9,  401,   9.9696,  26.7258,   -999.0,9
       RF06-01,  142E,RF-2623,  1,     10,02-18564,2,20060217,0418, -0.0050, 141.9955, 3392,    504.3,   8.1992,  34.6057,2,   -999.0,9,-999.0000,9,    124.3,2,    32.49,2,  -999.00,9,    29.74,2,     0.00,2,     2.08,2, -999.000,9, -999.000,9,  -999.00,9,   2209.2,2,   -999.0,9,-999.0000,9,   -999.0,  9,  -999.00,9,   -999.0,  -999.00,9,  -999.00,9,  -999.00,9,  -999.00,9,   -999.0,-999.0000, -999,9,  501,   8.1467,  26.9421,   -999.0,9
       RF06-01,  142E,RF-2623,  1,      9,02-18563,2,20060217,0415, -0.0050, 141.9955, 3392,    604.2,   6.5893,  34.5416,2,   -999.0,9,  34.5421,2,    115.1,2,    46.55,2,  -999.00,9,    33.52,2,     0.00,2,     2.38,2, -999.000,9, -999.000,9,  -999.00,9,   2231.7,2,   -999.0,9,-999.0000,9,   -999.0,  9,  -999.00,9,   -999.0,  -999.00,9,  -999.00,9,  -999.00,9,  -999.00,9,   -999.0,-999.0000, -999,9,  600,   6.5333,  27.1210,   -999.0,9
       RF06-01,  142E,RF-2623,  1,      8,02-18562,2,20060217,0413, -0.0050, 141.9955, 3392,    705.4,   6.0910,  34.5460,2,   -999.0,9,-999.0000,9,   -999.0,4,    56.41,2,  -999.00,9,    36.99,2,     0.00,2,     2.67,2, -999.000,9, -999.000,9,  -999.00,9,   2259.8,2,   -999.0,9,-999.0000,9,   -999.0,  9,  -999.00,9,   -999.0,  -999.00,9,  -999.00,9,  -999.00,9,  -999.00,9,   -999.0,-999.0000, -999,9,  700,   6.0278,  27.1904,   -999.0,9
       RF06-01,  142E,RF-2623,  1,      7,02-18561,2,20060217,0410, -0.0050, 141.9955, 3392,    806.1,   5.4891,  34.5395,2,   -999.0,9,  34.5398,2,     93.7,2,    64.94,2,  -999.00,9,    37.19,2,     0.00,2,     2.70,2, -999.000,9, -999.000,9,  -999.00,9,   2266.8,2,   -999.0,9,-999.0000,9,   -999.0,  9,  -999.00,9,   -999.0,  -999.00,9,  -999.00,9,  -999.00,9,  -999.00,9,   -999.0,-999.0000, -999,9,  800,   5.4200,  27.2606,   -999.0,9
       RF06-01,  142E,RF-2623,  1,      6,02-18560,2,20060217,0407, -0.0050, 141.9955, 3392,    906.2,   5.1770,  34.5388,2,   -999.0,9,-999.0000,9,    101.0,2,    70.77,2,  -999.00,9,    37.04,2,     0.00,2,     2.67,2, -999.000,9, -999.000,9,  -999.00,9,   2273.7,2,   -999.0,9,-999.0000,9,   -999.0,  9,  -999.00,9,   -999.0,  -999.00,9,  -999.00,9,  -999.00,9,  -999.00,9,   -999.0,-999.0000, -999,9,  899,   5.1008,  27.2979,   -999.0,9
       RF06-01,  142E,RF-2623,  1,      5,02-18559,2,20060217,0404, -0.0050, 141.9955, 3392,   1007.8,   4.6465,  34.5449,2,   -999.0,9,  34.5449,2,    105.8,2,    78.65,2,  -999.00,9,    36.82,2,     0.00,2,     2.69,2, -999.000,9, -999.000,9,  -999.00,9,   2273.5,2,   -999.0,9,-999.0000,9,   -999.0,  9,  -999.00,9,   -999.0,  -999.00,9,  -999.00,9,  -999.00,9,  -999.00,9,   -999.0,-999.0000, -999,9, 1000,   4.5651,  27.3636,   -999.0,9
       RF06-01,  142E,RF-2623,  1,      4,02-18558,2,20060217,0359, -0.0050, 141.9955, 3392,   1261.4,   3.8475,  34.5715,2,   -999.0,9,  34.5713,2,    105.3,2,    98.76,2,  -999.00,9,    38.06,2,     0.00,2,     2.77,2, -999.000,9, -999.000,9,  -999.00,9,   2297.8,2,   -999.0,9,-999.0000,9,   -999.0,  9,  -999.00,9,   -999.0,  -999.00,9,  -999.00,9,  -999.00,9,  -999.00,9,   -999.0,-999.0000, -999,9, 1251,   3.7509,  27.4708,   -999.0,9
       RF06-01,  142E,RF-2623,  1,      3,02-18557,2,20060217,0354, -0.0050, 141.9955, 3392,   1513.8,   3.0903,  34.5985,2,   -999.0,9,  34.5986,2,    107.9,2,   114.75,2,  -999.00,9,    38.34,2,     0.00,2,     2.79,2, -999.000,9, -999.000,9,  -999.00,9,   2317.3,2,   -999.0,9,-999.0000,9,   -999.0,  9,  -999.00,9,   -999.0,  -999.00,9,  -999.00,9,  -999.00,9,  -999.00,9,   -999.0,-999.0000, -999,9, 1500,   2.9802,  27.5664,   -999.0,9
       RF06-01,  142E,RF-2623,  1,      2,02-18556,2,20060217,0349, -0.0050, 141.9955, 3392,   1767.3,   2.5089,  34.6236,2,   -999.0,9,  34.6244,2,    114.1,2,   126.26,2,  -999.00,9,    37.92,2,     0.00,2,     2.74,2, -999.000,9, -999.000,9,  -999.00,9,   2325.0,2,   -999.0,9,-999.0000,9,   -999.0,  9,  -999.00,9,   -999.0,  -999.00,9,  -999.00,9,  -999.00,9,  -999.00,9,   -999.0,-999.0000, -999,9, 1750,   2.3847,  27.6388,   -999.0,9
       RF06-01,  142E,RF-2623,  1,      1,02-18555,2,20060217,0344, -0.0050, 141.9955, 3392,   2020.7,   2.2792,  34.6363,2,   -999.0,9,  34.6365,2,    119.5,2,   132.59,2,  -999.00,9,    37.59,2,     0.00,2,     2.73,2, -999.000,9, -999.000,9,  -999.00,9,   2327.0,2,   -999.0,9,-999.0000,9,   -999.0,  9,  -999.00,9,   -999.0,  -999.00,9,  -999.00,9,  -999.00,9,  -999.00,9,   -999.0,-999.0000, -999,9, 2000,   2.1367,  27.6693,   -999.0,9