BOTTLE,20131214MIRCJHATS
EXPOCODE,SECT_ID,STNNBR,CASTNO,SAMPNO,BTLNBR,BTLNBR_FLAG_W,DATE,TIME,LATITUDE,LONGITUDE,DEPTH,CTDPRS,CTDTMP,CTDSAL,CTDSAL_FLAG_W,CTDOXY,CTDOXY_FLAG_W,SALNTY,SALNTY_FLAG_W,OXYGEN,OXYGEN_FLAG_W,SILCAT,SILCAT_FLAG_W,NITRAT,NITRAT_FLAG_W,NO2+NO3,NO2+NO3_FLAG_W,NITRIT,NITRIT_FLAG_W,PHSPHT,PHSPHT_FLAG_W,CFC-11,CFC-11_FLAG_W,CFC-12,CFC-12_FLAG_W,DELC13,DELC13_FLAG_W,TCARBN,TCARBN_FLAG_W,ALKALI,ALKALI_FLAG_W,PH,PH_FLAG_W,PH_TMP,PH_SCALE,PH_NBS,PH_NBS_FLAG_W,C13ERR,TOTALP,TOTALP_FLAG_W,AMMONI,AMMONI_FLAG_W,CHLORA,CHLORA_FLAG_W,PPHYTN,PPHYTN_FLAG_W,REVPRS,REVTMP,DEPTH_,DEPTH_FLAG,CTDDEP,THETA,SIGTHT,DOC,DOC_FLAG_W
,,,,,,,GMT,GMT,,,METER,DBAR,ITS-90,PSS-78,,UMOL/KG,,PSS-78,,UMOL/KG,,UMOL/KG,,UMOL/KG,,UMOL/KG,,UMOL/KG,,UMOL/KG,,PMOL/KG,,PMOL/KG,,/MILLE,,UMOL/KG,,UMOL/KG,,25_DEG_C,,DEG_C,,,,/MILLE,UMOL/KG,,UMOL/KG,,UG/L,,UG/L,,DBAR,ITS-90,METERS,,METERS,DEG_C,,UMOL/L,
       RF06-01, EQPAC,RF-2621,  1,     -9,      -9,5,20060216,0926,  0.0063, 145.0093, 3658,      0.0,  29.7932,  34.1311,2,   -999.0,9,-999.0000,9,    196.6,2,     1.60,2,  -999.00,9,     0.00,2,     0.00,2,     0.06,2, -999.000,9, -999.000,9,  -999.00,9,   1889.7,2,   -999.0,9,-999.0000,9,   -999.0,  9,  -999.00,9,   -999.0,  -999.00,9,  -999.00,9,     0.37,2,     0.13,2,   -999.0,-999.0000, -999,9,    0,  29.7930,  21.1452,   -999.0,9
       RF06-01, EQPAC,RF-2621,  1,     24,02-18578,2,20060216,0944,  0.0063, 145.0093, 3658,     10.7,  29.8042,  34.1305,2,   -999.0,9,  34.1308,2,    198.0,2,     1.55,2,  -999.00,9,     0.00,2,     0.00,2,     0.06,2, -999.000,9, -999.000,9,  -999.00,9,   -999.0,9,   -999.0,9,-999.0000,9,   -999.0,  9,  -999.00,9,   -999.0,  -999.00,9,  -999.00,9,     0.33,2,     0.13,2,   -999.0,-999.0000, -999,9,   11,  29.8016,  21.1419,   -999.0,9
       RF06-01, EQPAC,RF-2621,  1,     23,02-18577,2,20060216,0943,  0.0063, 145.0093, 3658,     26.1,  29.7864,  34.1346,2,   -999.0,9,-999.0000,9,    194.4,2,     1.55,2,  -999.00,9,     0.00,2,     0.00,2,     0.07,2, -999.000,9, -999.000,9,  -999.00,9,   -999.0,9,   -999.0,9,-999.0000,9,   -999.0,  9,  -999.00,9,   -999.0,  -999.00,9,  -999.00,9,     0.41,2,     0.18,2,   -999.0,-999.0000, -999,9,   26,  29.7800,  21.1523,   -999.0,9
       RF06-01, EQPAC,RF-2621,  1,     22,02-18576,2,20060216,0942,  0.0063, 145.0093, 3658,     51.2,  29.8227,  34.2043,2,   -999.0,9,-999.0000,9,    194.0,2,     1.55,2,  -999.00,9,     0.00,2,     0.00,2,     0.08,2, -999.000,9, -999.000,9,  -999.00,9,   -999.0,9,   -999.0,9,-999.0000,9,   -999.0,  9,  -999.00,9,   -999.0,  -999.00,9,  -999.00,9,     0.51,2,     0.23,2,   -999.0,-999.0000, -999,9,   51,  29.8101,  21.1943,   -999.0,9
       RF06-01, EQPAC,RF-2621,  1,     21,02-18575,2,20060216,0940,  0.0063, 145.0093, 3658,     78.1,  29.8353,  34.5662,2,   -999.0,9,-999.0000,9,    191.3,2,     1.64,2,  -999.00,9,     0.14,2,     0.08,2,     0.16,2, -999.000,9, -999.000,9,  -999.00,9,   -999.0,9,   -999.0,9,-999.0000,9,   -999.0,  9,  -999.00,9,   -999.0,  -999.00,9,  -999.00,9,     0.29,2,     0.16,2,   -999.0,-999.0000, -999,9,   78,  29.8160,  21.4636,   -999.0,9
       RF06-01, EQPAC,RF-2621,  1,     20,02-18574,2,20060216,0939,  0.0063, 145.0093, 3658,    100.1,  28.5048,  35.3699,2,   -999.0,9,  35.4038,4,    159.7,2,     2.75,2,  -999.00,9,     5.55,2,     0.36,2,     0.56,2, -999.000,9, -999.000,9,  -999.00,9,   -999.0,9,   -999.0,9,-999.0000,9,   -999.0,  9,  -999.00,9,   -999.0,  -999.00,9,  -999.00,9,     0.12,2,     0.21,2,   -999.0,-999.0000, -999,9,  100,  28.4809,  22.5146,   -999.0,9
       RF06-01, EQPAC,RF-2621,  1,     19,02-18573,2,20060216,0938,  0.0063, 145.0093, 3658,    126.3,  24.3292,  35.3127,2,   -999.0,9,-999.0000,9,    132.9,2,     4.37,2,  -999.00,9,     9.01,2,     0.03,2,     0.73,2, -999.000,9, -999.000,9,  -999.00,9,   -999.0,9,   -999.0,9,-999.0000,9,   -999.0,  9,  -999.00,9,   -999.0,  -999.00,9,  -999.00,9,     0.04,2,     0.13,2,   -999.0,-999.0000, -999,9,  126,  24.3023,  23.7881,   -999.0,9
       RF06-01, EQPAC,RF-2621,  1,     18,02-18572,2,20060216,0937,  0.0063, 145.0093, 3658,    151.1,  23.4978,  35.4918,2,   -999.0,9,-999.0000,9,    130.3,2,     3.96,2,  -999.00,9,     9.59,2,     0.02,2,     0.79,2, -999.000,9, -999.000,9,  -999.00,9,   -999.0,9,   -999.0,9,-999.0000,9,   -999.0,  9,  -999.00,9,   -999.0,  -999.00,9,  -999.00,9,     0.02,2,     0.09,2,   -999.0,-999.0000, -999,9,  150,  23.4664,  24.1710,   -999.0,9
       RF06-01, EQPAC,RF-2621,  1,     17,02-18571,2,20060216,0935,  0.0063, 145.0093, 3658,    202.1,  18.8690,  35.1730,2,   -999.0,9,  35.0581,4,    143.5,2,     9.36,2,  -999.00,9,    11.77,2,     0.01,2,     0.90,2, -999.000,9, -999.000,9,  -999.00,9,   -999.0,9,   -999.0,9,-999.0000,9,   -999.0,  9,  -999.00,9,   -999.0,  -999.00,9,  -999.00,9,     0.01,2,     0.03,2,   -999.0,-999.0000, -999,9,  201,  18.8331,  25.1959,   -999.0,9
       RF06-01, EQPAC,RF-2621,  1,     16,02-18570,2,20060216,0934,  0.0063, 145.0093, 3658,    251.8,  14.9086,  35.0212,2,   -999.0,9,-999.0000,9,    145.7,2,    12.74,2,  -999.00,9,    16.16,2,     0.00,2,     1.19,2, -999.000,9, -999.000,9,  -999.00,9,   -999.0,9,   -999.0,9,-999.0000,9,   -999.0,  9,  -999.00,9,   -999.0,  -999.00,9,  -999.00,9,  -999.00,9,  -999.00,9,   -999.0,-999.0000, -999,9,  250,  14.8705,  26.0167,   -999.0,9
       RF06-01, EQPAC,RF-2621,  1,     15,02-18569,2,20060216,0932,  0.0063, 145.0093, 3658,    302.5,  11.9221,  34.7805,2,   -999.0,9,  34.7815,2,    137.8,2,    22.03,2,  -999.00,9,    21.80,2,     0.00,2,     1.58,2, -999.000,9, -999.000,9,  -999.00,9,   -999.0,9,   -999.0,9,-999.0000,9,   -999.0,  9,  -999.00,9,   -999.0,  -999.00,9,  -999.00,9,  -999.00,9,  -999.00,9,   -999.0,-999.0000, -999,9,  301,  11.8827,  26.4409,   -999.0,9
       RF06-01, EQPAC,RF-2621,  1,     14,02-18568,2,20060216,0930,  0.0063, 145.0093, 3658,    403.7,   9.7383,  34.7029,2,   -999.0,9,  34.6984,4,     97.4,2,    28.25,2,  -999.00,9,    29.31,2,     0.00,2,     2.07,2, -999.000,9, -999.000,9,  -999.00,9,   -999.0,9,   -999.0,9,-999.0000,9,   -999.0,  9,  -999.00,9,   -999.0,  -999.00,9,  -999.00,9,  -999.00,9,  -999.00,9,   -999.0,-999.0000, -999,9,  401,   9.6919,  26.7721,   -999.0,9
       RF06-01, EQPAC,RF-2621,  1,     13,02-18567,2,20060216,0928,  0.0063, 145.0093, 3658,    504.1,   8.1030,  34.6010,2,   -999.0,9,-999.0000,9,    137.9,2,    29.89,2,  -999.00,9,    28.86,2,     0.00,2,     2.03,2, -999.000,9, -999.000,9,  -999.00,9,   -999.0,9,   -999.0,9,-999.0000,9,   -999.0,  9,  -999.00,9,   -999.0,  -999.00,9,  -999.00,9,  -999.00,9,  -999.00,9,   -999.0,-999.0000, -999,9,  501,   8.0509,  26.9528,   -999.0,9
       RF06-01, EQPAC,RF-2621,  1,     12,02-18348,3,20060216,0925,  0.0063, 145.0093, 3658,    604.5,   6.4528,  34.5482,2,   -999.0,9,  34.5632,4,    105.8,2,    45.21,2,  -999.00,9,    32.55,2,     0.00,2,     2.31,2, -999.000,9, -999.000,9,  -999.00,9,   -999.0,9,   -999.0,9,-999.0000,9,   -999.0,  9,  -999.00,9,   -999.0,  -999.00,9,  -999.00,9,  -999.00,9,  -999.00,9,   -999.0,-999.0000, -999,9,  600,   6.3974,  27.1442,   -999.0,9
       RF06-01, EQPAC,RF-2621,  1,     11,02-18565,2,20060216,0923,  0.0063, 145.0093, 3658,    707.5,   5.9982,  34.5423,2,   -999.0,9,-999.0000,9,     95.5,2,    57.19,2,  -999.00,9,    36.70,2,     0.00,2,     2.65,2, -999.000,9, -999.000,9,  -999.00,9,   -999.0,9,   -999.0,9,-999.0000,9,   -999.0,  9,  -999.00,9,   -999.0,  -999.00,9,  -999.00,9,  -999.00,9,  -999.00,9,   -999.0,-999.0000, -999,9,  702,   5.9353,  27.1992,   -999.0,9
       RF06-01, EQPAC,RF-2621,  1,     10,02-18564,2,20060216,0921,  0.0063, 145.0093, 3658,    806.8,   5.5076,  34.5386,2,   -999.0,9,  34.5388,2,     94.4,2,    64.35,2,  -999.00,9,    36.97,2,     0.00,2,     2.68,2, -999.000,9, -999.000,9,  -999.00,9,   -999.0,9,   -999.0,9,-999.0000,9,   -999.0,  9,  -999.00,9,   -999.0,  -999.00,9,  -999.00,9,  -999.00,9,  -999.00,9,   -999.0,-999.0000, -999,9,  801,   5.4383,  27.2577,   -999.0,9
       RF06-01, EQPAC,RF-2621,  1,      9,02-18563,2,20060216,0919,  0.0063, 145.0093, 3658,    908.6,   5.0008,  34.5392,2,   -999.0,9,-999.0000,9,    100.3,2,    72.61,2,  -999.00,9,    37.25,2,     0.00,2,     2.68,2, -999.000,9, -999.000,9,  -999.00,9,   -999.0,9,   -999.0,9,-999.0000,9,   -999.0,  9,  -999.00,9,   -999.0,  -999.00,9,  -999.00,9,  -999.00,9,  -999.00,9,   -999.0,-999.0000, -999,9,  902,   4.9256,  27.3185,   -999.0,9
       RF06-01, EQPAC,RF-2621,  1,      8,02-18562,2,20060216,0916,  0.0063, 145.0093, 3658,   1009.2,   4.5659,  34.5501,2,   -999.0,9,  34.5509,2,     99.7,2,    82.71,2,  -999.00,9,    37.68,2,     0.00,2,     2.73,2, -999.000,9, -999.000,9,  -999.00,9,   -999.0,9,   -999.0,9,-999.0000,9,   -999.0,  9,  -999.00,9,   -999.0,  -999.00,9,  -999.00,9,  -999.00,9,  -999.00,9,   -999.0,-999.0000, -999,9, 1001,   4.4850,  27.3766,   -999.0,9
       RF06-01, EQPAC,RF-2621,  1,      7,02-18561,2,20060216,0912,  0.0063, 145.0093, 3658,   1261.6,   3.6237,  34.5787,2,   -999.0,9,  34.5787,2,    105.3,2,   103.60,2,  -999.00,9,    38.28,2,     0.00,2,     2.78,2, -999.000,9, -999.000,9,  -999.00,9,   -999.0,9,   -999.0,9,-999.0000,9,   -999.0,  9,  -999.00,9,   -999.0,  -999.00,9,  -999.00,9,  -999.00,9,  -999.00,9,   -999.0,-999.0000, -999,9, 1251,   3.5293,  27.4985,   -999.0,9
       RF06-01, EQPAC,RF-2621,  1,      6,02-18560,2,20060216,0907,  0.0063, 145.0093, 3658,   1514.8,   3.0035,  34.6022,2,   -999.0,9,  34.6022,2,    107.2,2,   116.86,2,  -999.00,9,    38.52,2,     0.00,2,     2.79,2, -999.000,9, -999.000,9,  -999.00,9,   -999.0,9,   -999.0,9,-999.0000,9,   -999.0,  9,  -999.00,9,   -999.0,  -999.00,9,  -999.00,9,  -999.00,9,  -999.00,9,   -999.0,-999.0000, -999,9, 1501,   2.8943,  27.5771,   -999.0,9
       RF06-01, EQPAC,RF-2621,  1,      5,02-18559,2,20060216,0903,  0.0063, 145.0093, 3658,   1767.9,   2.5002,  34.6240,2,   -999.0,9,  34.6239,2,    114.1,2,   126.84,2,  -999.00,9,    38.17,2,     0.00,2,     2.75,2, -999.000,9, -999.000,9,  -999.00,9,   -999.0,9,   -999.0,9,-999.0000,9,   -999.0,  9,  -999.00,9,   -999.0,  -999.00,9,  -999.00,9,  -999.00,9,  -999.00,9,   -999.0,-999.0000, -999,9, 1751,   2.3761,  27.6397,   -999.0,9
       RF06-01, EQPAC,RF-2621,  1,      4,02-18558,2,20060216,0858,  0.0063, 145.0093, 3658,   2021.6,   2.2495,  34.6366,2,   -999.0,9,  34.6367,2,    120.3,2,   132.70,2,  -999.00,9,    38.06,2,     0.00,2,     2.73,2, -999.000,9, -999.000,9,  -999.00,9,   -999.0,9,   -999.0,9,-999.0000,9,   -999.0,  9,  -999.00,9,   -999.0,  -999.00,9,  -999.00,9,  -999.00,9,  -999.00,9,   -999.0,-999.0000, -999,9, 2001,   2.1074,  27.6720,   -999.0,9
       RF06-01, EQPAC,RF-2621,  1,      3,02-18557,2,20060216,0850,  0.0063, 145.0093, 3658,   2529.0,   1.7579,  34.6621,2,   -999.0,9,  34.6617,2,    134.0,2,   140.29,2,  -999.00,9,    37.09,2,     0.00,2,     2.65,2, -999.000,9, -999.000,9,  -999.00,9,   -999.0,9,   -999.0,9,-999.0000,9,   -999.0,  9,  -999.00,9,   -999.0,  -999.00,9,  -999.00,9,  -999.00,9,  -999.00,9,   -999.0,-999.0000, -999,9, 2500,   1.5795,  27.7332,   -999.0,9
       RF06-01, EQPAC,RF-2621,  1,      2,02-18556,2,20060216,0841,  0.0063, 145.0093, 3658,   3039.3,   1.6151,  34.6726,2,   -999.0,9,  34.6724,2,    146.4,2,   141.12,2,  -999.00,9,    36.53,2,     0.00,2,     2.60,2, -999.000,9, -999.000,9,  -999.00,9,   -999.0,9,   -999.0,9,-999.0000,9,   -999.0,  9,  -999.00,9,   -999.0,  -999.00,9,  -999.00,9,  -999.00,9,  -999.00,9,   -999.0,-999.0000, -999,9, 3001,   1.3920,  27.7552,   -999.0,9
       RF06-01, EQPAC,RF-2621,  1,      1,02-18555,2,20060216,0831,  0.0063, 145.0093, 3658,   3660.2,   1.5557,  34.6812,2,   -999.0,9,  34.6808,2,    149.4,2,   141.37,2,  -999.00,9,    36.29,2,     0.00,2,     2.57,2, -999.000,9, -999.000,9,  -999.00,9,   -999.0,9,   -999.0,9,-999.0000,9,   -999.0,  9,  -999.00,9,   -999.0,  -999.00,9,  -999.00,9,  -999.00,9,  -999.00,9,   -999.0,-999.0000, -999,9, 3609,   1.2716,  27.7706,   -999.0,9