BOTTLE,20131214MIRCJHATS
EXPOCODE,SECT_ID,STNNBR,CASTNO,SAMPNO,BTLNBR,BTLNBR_FLAG_W,DATE,TIME,LATITUDE,LONGITUDE,DEPTH,CTDPRS,CTDTMP,CTDSAL,CTDSAL_FLAG_W,CTDOXY,CTDOXY_FLAG_W,SALNTY,SALNTY_FLAG_W,OXYGEN,OXYGEN_FLAG_W,SILCAT,SILCAT_FLAG_W,NITRAT,NITRAT_FLAG_W,NO2+NO3,NO2+NO3_FLAG_W,NITRIT,NITRIT_FLAG_W,PHSPHT,PHSPHT_FLAG_W,CFC-11,CFC-11_FLAG_W,CFC-12,CFC-12_FLAG_W,DELC13,DELC13_FLAG_W,TCARBN,TCARBN_FLAG_W,ALKALI,ALKALI_FLAG_W,PH,PH_FLAG_W,PH_TMP,PH_SCALE,PH_NBS,PH_NBS_FLAG_W,C13ERR,TOTALP,TOTALP_FLAG_W,AMMONI,AMMONI_FLAG_W,CHLORA,CHLORA_FLAG_W,PPHYTN,PPHYTN_FLAG_W,REVPRS,REVTMP,DEPTH_,DEPTH_FLAG,CTDDEP,THETA,SIGTHT,DOC,DOC_FLAG_W
,,,,,,,GMT,GMT,,,METER,DBAR,ITS-90,PSS-78,,UMOL/KG,,PSS-78,,UMOL/KG,,UMOL/KG,,UMOL/KG,,UMOL/KG,,UMOL/KG,,UMOL/KG,,PMOL/KG,,PMOL/KG,,/MILLE,,UMOL/KG,,UMOL/KG,,25_DEG_C,,DEG_C,,,,/MILLE,UMOL/KG,,UMOL/KG,,UG/L,,UG/L,,DBAR,ITS-90,METERS,,METERS,DEG_C,,UMOL/L,
       RF06-01,  NONE,RF-2624,  1,     -9,      -9,5,20060228,2315, 28.0025, 146.9920, 5785,      0.0,  20.3034,  34.9169,2,   -999.0,9,-999.0000,9,    228.2,2,     1.97,2,  -999.00,9,     0.07,2,     0.00,2,     0.07,2, -999.000,9, -999.000,9,  -999.00,9,   -999.0,9,   -999.0,9,-999.0000,9,   -999.0,  9,  -999.00,9,   -999.0,  -999.00,9,  -999.00,9,     0.17,2,     0.04,2,   -999.0,-999.0000, -999,9,    0,  20.3033,  24.6181,   -999.0,9
       RF06-01,  NONE,RF-2624,  1,     21,02-18575,2,20060228,2332, 28.0025, 146.9920, 5785,     10.9,  20.2828,  34.9164,2,   -999.0,9,  34.9150,2,    230.8,2,     1.96,2,  -999.00,9,     0.04,2,     0.00,2,     0.08,2, -999.000,9, -999.000,9,  -999.00,9,   -999.0,9,   -999.0,9,-999.0000,9,   -999.0,  9,  -999.00,9,   -999.0,  -999.00,9,  -999.00,9,     0.18,2,     0.04,2,   -999.0,-999.0000, -999,9,   11,  20.2808,  24.6237,   -999.0,9
       RF06-01,  NONE,RF-2624,  1,     20,02-18574,2,20060228,2331, 28.0025, 146.9920, 5785,     25.8,  19.3414,  34.8512,2,   -999.0,9,-999.0000,9,    232.6,2,     2.00,2,  -999.00,9,     0.08,2,     0.02,2,     0.09,2, -999.000,9, -999.000,9,  -999.00,9,   -999.0,9,   -999.0,9,-999.0000,9,   -999.0,  9,  -999.00,9,   -999.0,  -999.00,9,  -999.00,9,     0.46,2,     0.14,2,   -999.0,-999.0000, -999,9,   26,  19.3368,  24.8211,   -999.0,9
       RF06-01,  NONE,RF-2624,  1,     19,02-18573,2,20060228,2330, 28.0025, 146.9920, 5785,     49.8,  18.8351,  34.8127,2,   -999.0,9,-999.0000,9,    229.8,2,     2.04,2,  -999.00,9,     0.80,2,     0.26,2,     0.13,2, -999.000,9, -999.000,9,  -999.00,9,   -999.0,9,   -999.0,9,-999.0000,9,   -999.0,  9,  -999.00,9,   -999.0,  -999.00,9,  -999.00,9,     0.63,2,     0.26,2,   -999.0,-999.0000, -999,9,   50,  18.8263,  24.9221,   -999.0,9
       RF06-01,  NONE,RF-2624,  1,     18,02-18572,2,20060228,2329, 28.0025, 146.9920, 5785,     76.2,  18.8019,  34.8122,2,   -999.0,9,-999.0000,9,    228.9,2,     2.03,2,  -999.00,9,     1.13,2,     0.26,2,     0.13,2, -999.000,9, -999.000,9,  -999.00,9,   -999.0,9,   -999.0,9,-999.0000,9,   -999.0,  9,  -999.00,9,   -999.0,  -999.00,9,  -999.00,9,     0.29,2,     0.15,2,   -999.0,-999.0000, -999,9,   76,  18.7885,  24.9314,   -999.0,9
       RF06-01,  NONE,RF-2624,  1,     17,02-18571,2,20060228,2328, 28.0025, 146.9920, 5785,    102.0,  18.7650,  34.8120,2,   -999.0,9,  34.8117,2,    222.0,2,     2.02,2,  -999.00,9,     1.30,2,     0.10,2,     0.14,2, -999.000,9, -999.000,9,  -999.00,9,   -999.0,9,   -999.0,9,-999.0000,9,   -999.0,  9,  -999.00,9,   -999.0,  -999.00,9,  -999.00,9,     0.10,2,     0.06,2,   -999.0,-999.0000, -999,9,  101,  18.7470,  24.9417,   -999.0,9
       RF06-01,  NONE,RF-2624,  1,     16,02-18570,2,20060228,2326, 28.0025, 146.9920, 5785,    126.9,  18.7392,  34.8128,2,   -999.0,9,-999.0000,9,    224.0,2,     2.01,2,  -999.00,9,     1.27,2,     0.14,2,     0.14,2, -999.000,9, -999.000,9,  -999.00,9,   -999.0,9,   -999.0,9,-999.0000,9,   -999.0,  9,  -999.00,9,   -999.0,  -999.00,9,  -999.00,9,     0.12,2,     0.07,2,   -999.0,-999.0000, -999,9,  126,  18.7168,  24.9499,   -999.0,9
       RF06-01,  NONE,RF-2624,  1,     15,02-18569,2,20060228,2325, 28.0025, 146.9920, 5785,    151.6,  18.7020,  34.8128,2,   -999.0,9,-999.0000,9,    224.6,2,     1.95,2,  -999.00,9,     1.24,2,     0.18,2,     0.13,2, -999.000,9, -999.000,9,  -999.00,9,   -999.0,9,   -999.0,9,-999.0000,9,   -999.0,  9,  -999.00,9,   -999.0,  -999.00,9,  -999.00,9,     0.09,2,     0.07,2,   -999.0,-999.0000, -999,9,  151,  18.6753,  24.9604,   -999.0,9
       RF06-01,  NONE,RF-2624,  1,     14,02-18568,2,20060228,2324, 28.0025, 146.9920, 5785,    202.9,  18.6113,  34.8101,2,   -999.0,9,  34.8100,2,    228.1,2,     1.96,2,  -999.00,9,     1.40,2,     0.06,2,     0.15,2, -999.000,9, -999.000,9,  -999.00,9,   -999.0,9,   -999.0,9,-999.0000,9,   -999.0,  9,  -999.00,9,   -999.0,  -999.00,9,  -999.00,9,     0.04,2,     0.04,2,   -999.0,-999.0000, -999,9,  201,  18.5757,  24.9834,   -999.0,9
       RF06-01,  NONE,RF-2624,  1,     13,02-18567,2,20060228,2322, 28.0025, 146.9920, 5785,    252.8,  17.7869,  34.8116,2,   -999.0,9,-999.0000,9,    210.1,2,     3.62,2,  -999.00,9,     4.39,2,     0.01,2,     0.30,2, -999.000,9, -999.000,9,  -999.00,9,   -999.0,9,   -999.0,9,-999.0000,9,   -999.0,  9,  -999.00,9,   -999.0,  -999.00,9,  -999.00,9,  -999.00,9,  -999.00,9,   -999.0,-999.0000, -999,9,  251,  17.7438,  25.1905,   -999.0,9
       RF06-01,  NONE,RF-2624,  1,     12,02-18348,2,20060228,2321, 28.0025, 146.9920, 5785,    303.5,  16.9576,  34.7628,2,   -999.0,9,  34.7630,2,    209.6,2,     4.54,2,  -999.00,9,     5.51,2,     0.01,2,     0.37,2, -999.000,9, -999.000,9,  -999.00,9,   -999.0,9,   -999.0,9,-999.0000,9,   -999.0,  9,  -999.00,9,   -999.0,  -999.00,9,  -999.00,9,  -999.00,9,  -999.00,9,   -999.0,-999.0000, -999,9,  301,  16.9075,  25.3541,   -999.0,9
       RF06-01,  NONE,RF-2624,  1,     11,02-18565,2,20060228,2318, 28.0025, 146.9920, 5785,    402.5,  15.0659,  34.6025,2,   -999.0,9,  34.5983,4,    190.9,2,    10.07,2,  -999.00,9,     9.95,2,     0.00,2,     0.66,2, -999.000,9, -999.000,9,  -999.00,9,   -999.0,9,   -999.0,9,-999.0000,9,   -999.0,  9,  -999.00,9,   -999.0,  -999.00,9,  -999.00,9,  -999.00,9,  -999.00,9,   -999.0,-999.0000, -999,9,  399,  15.0046,  25.6645,   -999.0,9
       RF06-01,  NONE,RF-2624,  1,     10,02-18564,2,20060228,2316, 28.0025, 146.9920, 5785,    504.2,  12.0917,  34.3892,2,   -999.0,9,-999.0000,9,    181.1,2,    20.70,2,  -999.00,9,    15.85,2,     0.00,2,     1.07,2, -999.000,9, -999.000,9,  -999.00,9,   -999.0,9,   -999.0,9,-999.0000,9,   -999.0,  9,  -999.00,9,   -999.0,  -999.00,9,  -999.00,9,  -999.00,9,  -999.00,9,   -999.0,-999.0000, -999,9,  500,  12.0252,  26.1098,   -999.0,9
       RF06-01,  NONE,RF-2624,  1,      9,02-18563,2,20060228,2314, 28.0025, 146.9920, 5785,    604.2,   8.8580,  34.1422,2,   -999.0,9,  34.1462,4,    177.1,2,    34.44,2,  -999.00,9,    21.59,2,     0.00,2,     1.52,2, -999.000,9, -999.000,9,  -999.00,9,   -999.0,9,   -999.0,9,-999.0000,9,   -999.0,  9,  -999.00,9,   -999.0,  -999.00,9,  -999.00,9,  -999.00,9,  -999.00,9,   -999.0,-999.0000, -999,9,  599,   8.7922,  26.4793,   -999.0,9
       RF06-01,  NONE,RF-2624,  1,      8,02-18562,2,20060228,2312, 28.0025, 146.9920, 5785,    705.0,   6.0165,  33.9939,2,   -999.0,9,-999.0000,9,    140.6,2,    58.61,2,  -999.00,9,    29.77,2,     0.00,2,     2.17,2, -999.000,9, -999.000,9,  -999.00,9,   -999.0,9,   -999.0,9,-999.0000,9,   -999.0,  9,  -999.00,9,   -999.0,  -999.00,9,  -999.00,9,  -999.00,9,  -999.00,9,   -999.0,-999.0000, -999,9,  699,   5.9544,  26.7633,   -999.0,9
       RF06-01,  NONE,RF-2624,  1,      7,02-18561,2,20060228,2309, 28.0025, 146.9920, 5785,    808.8,   4.7709,  34.1020,2,   -999.0,9,  34.1024,2,     82.3,2,    86.08,2,  -999.00,9,    36.84,2,     0.00,2,     2.71,2, -999.000,9, -999.000,9,  -999.00,9,   -999.0,9,   -999.0,9,-999.0000,9,   -999.0,  9,  -999.00,9,   -999.0,  -999.00,9,  -999.00,9,  -999.00,9,  -999.00,9,   -999.0,-999.0000, -999,9,  802,   4.7066,  26.9964,   -999.0,9
       RF06-01,  NONE,RF-2624,  1,      6,02-18560,2,20060228,2307, 28.0025, 146.9920, 5785,    909.3,   4.2518,  34.2179,2,   -999.0,9,-999.0000,9,     53.7,2,   102.35,2,  -999.00,9,    39.82,2,     0.00,2,     2.94,2, -999.000,9, -999.000,9,  -999.00,9,   -999.0,9,   -999.0,9,-999.0000,9,   -999.0,  9,  -999.00,9,   -999.0,  -999.00,9,  -999.00,9,  -999.00,9,  -999.00,9,   -999.0,-999.0000, -999,9,  901,   4.1823,  27.1451,   -999.0,9
       RF06-01,  NONE,RF-2624,  1,      5,02-18559,2,20060228,2305, 28.0025, 146.9920, 5785,   1009.8,   3.9203,  34.2817,2,   -999.0,9,  34.2825,2,     44.4,2,   111.91,2,  -999.00,9,    41.09,2,     0.00,2,     3.03,2, -999.000,9, -999.000,9,  -999.00,9,   -999.0,9,   -999.0,9,-999.0000,9,   -999.0,  9,  -999.00,9,   -999.0,  -999.00,9,  -999.00,9,  -999.00,9,  -999.00,9,   -999.0,-999.0000, -999,9, 1001,   3.8448,  27.2306,   -999.0,9
       RF06-01,  NONE,RF-2624,  1,      4,02-18558,2,20060228,2300, 28.0025, 146.9920, 5785,   1262.2,   3.0710,  34.4258,2,   -999.0,9,  34.4251,2,     41.6,2,   131.92,2,  -999.00,9,    42.21,2,     0.00,2,     3.12,2, -999.000,9, -999.000,9,  -999.00,9,   -999.0,9,   -999.0,9,-999.0000,9,   -999.0,  9,  -999.00,9,   -999.0,  -999.00,9,  -999.00,9,  -999.00,9,  -999.00,9,   -999.0,-999.0000, -999,9, 1250,   2.9822,  27.4284,   -999.0,9
       RF06-01,  NONE,RF-2624,  1,      3,02-18557,2,20060228,2255, 28.0025, 146.9920, 5785,   1515.3,   2.5431,  34.5179,2,   -999.0,9,  34.5190,2,     58.5,2,   144.55,2,  -999.00,9,    41.40,2,     0.00,2,     3.05,2, -999.000,9, -999.000,9,  -999.00,9,   -999.0,9,   -999.0,9,-999.0000,9,   -999.0,  9,  -999.00,9,   -999.0,  -999.00,9,  -999.00,9,  -999.00,9,  -999.00,9,   -999.0,-999.0000, -999,9, 1500,   2.4395,  27.5495,   -999.0,9
       RF06-01,  NONE,RF-2624,  1,      2,02-18556,2,20060228,2250, 28.0025, 146.9920, 5785,   1769.7,   2.1928,  34.5667,2,   -999.0,9,  34.5670,2,     71.4,2,   151.22,2,  -999.00,9,    40.97,2,     0.00,2,     2.99,2, -999.000,9, -999.000,9,  -999.00,9,   -999.0,9,   -999.0,9,-999.0000,9,   -999.0,  9,  -999.00,9,   -999.0,  -999.00,9,  -999.00,9,  -999.00,9,  -999.00,9,   -999.0,-999.0000, -999,9, 1751,   2.0728,  27.6188,   -999.0,9
       RF06-01,  NONE,RF-2624,  1,      1,02-18555,2,20060228,2245, 28.0025, 146.9920, 5785,   2021.9,   1.9545,  34.6029,2,   -999.0,9,  34.6028,2,     89.3,2,   152.89,2,  -999.00,9,    40.05,2,     0.00,2,     2.90,2, -999.000,9, -999.000,9,  -999.00,9,   -999.0,9,   -999.0,9,-999.0000,9,   -999.0,  9,  -999.00,9,   -999.0,  -999.00,9,  -999.00,9,  -999.00,9,  -999.00,9,   -999.0,-999.0000, -999,9, 1999,   1.8170,  27.6678,   -999.0,9