BOTTLE,20131214MIRCJHATS
EXPOCODE,SECT_ID,STNNBR,CASTNO,SAMPNO,BTLNBR,BTLNBR_FLAG_W,DATE,TIME,LATITUDE,LONGITUDE,DEPTH,CTDPRS,CTDTMP,CTDSAL,CTDSAL_FLAG_W,CTDOXY,CTDOXY_FLAG_W,SALNTY,SALNTY_FLAG_W,OXYGEN,OXYGEN_FLAG_W,SILCAT,SILCAT_FLAG_W,NITRAT,NITRAT_FLAG_W,NO2+NO3,NO2+NO3_FLAG_W,NITRIT,NITRIT_FLAG_W,PHSPHT,PHSPHT_FLAG_W,CFC-11,CFC-11_FLAG_W,CFC-12,CFC-12_FLAG_W,DELC13,DELC13_FLAG_W,TCARBN,TCARBN_FLAG_W,ALKALI,ALKALI_FLAG_W,PH,PH_FLAG_W,PH_TMP,PH_SCALE,PH_NBS,PH_NBS_FLAG_W,C13ERR,TOTALP,TOTALP_FLAG_W,AMMONI,AMMONI_FLAG_W,CHLORA,CHLORA_FLAG_W,PPHYTN,PPHYTN_FLAG_W,REVPRS,REVTMP,DEPTH_,DEPTH_FLAG,CTDDEP,THETA,SIGTHT,DOC,DOC_FLAG_W
,,,,,,,GMT,GMT,,,METER,DBAR,ITS-90,PSS-78,,UMOL/KG,,PSS-78,,UMOL/KG,,UMOL/KG,,UMOL/KG,,UMOL/KG,,UMOL/KG,,UMOL/KG,,PMOL/KG,,PMOL/KG,,/MILLE,,UMOL/KG,,UMOL/KG,,25_DEG_C,,DEG_C,,,,/MILLE,UMOL/KG,,UMOL/KG,,UG/L,,UG/L,,DBAR,ITS-90,METERS,,METERS,DEG_C,,UMOL/L,
       RF06-01,  NONE,RF-2559,  1,     -9,      -9,5,20060118,0545, 29.9975, 144.9983, 5913,      0.0,  19.4464,  34.8424,2,   -999.0,9,-999.0000,9,    223.9,2,     2.35,2,  -999.00,9,     0.33,2,     0.11,2,     0.12,2, -999.000,9, -999.000,9,  -999.00,9,   -999.0,9,   -999.0,9,-999.0000,9,   -999.0,  9,  -999.00,9,   -999.0,  -999.00,9,  -999.00,9,  -999.00,9,  -999.00,9,   -999.0,-999.0000, -999,9,    0,  19.4463,  24.7861,   -999.0,9
       RF06-01,  NONE,RF-2559,  1,     21,02-18575,2,20060118,0604, 29.9975, 144.9983, 5913,     10.5,  19.3773,  34.8343,2,   -999.0,9,  34.8329,2,    228.9,2,     2.29,2,  -999.00,9,     0.27,2,     0.11,2,     0.07,2, -999.000,9, -999.000,9,  -999.00,9,   -999.0,9,   -999.0,9,-999.0000,9,   -999.0,  9,  -999.00,9,   -999.0,  -999.00,9,  -999.00,9,  -999.00,9,  -999.00,9,   -999.0,-999.0000, -999,9,   10,  19.3754,  24.7982,   -999.0,9
       RF06-01,  NONE,RF-2559,  1,     20,02-18574,2,20060118,0603, 29.9975, 144.9983, 5913,     26.0,  19.2866,  34.8280,2,   -999.0,9,-999.0000,9,    224.1,2,     2.29,2,  -999.00,9,     0.37,2,     0.14,2,     0.06,2, -999.000,9, -999.000,9,  -999.00,9,   -999.0,9,   -999.0,9,-999.0000,9,   -999.0,  9,  -999.00,9,   -999.0,  -999.00,9,  -999.00,9,  -999.00,9,  -999.00,9,   -999.0,-999.0000, -999,9,   26,  19.2819,  24.8175,   -999.0,9
       RF06-01,  NONE,RF-2559,  1,     19,02-18573,2,20060118,0602, 29.9975, 144.9983, 5913,     49.7,  19.2064,  34.8167,2,   -999.0,9,-999.0000,9,    225.9,2,     2.31,2,  -999.00,9,     0.62,2,     0.20,2,     0.05,2, -999.000,9, -999.000,9,  -999.00,9,   -999.0,9,   -999.0,9,-999.0000,9,   -999.0,  9,  -999.00,9,   -999.0,  -999.00,9,  -999.00,9,  -999.00,9,  -999.00,9,   -999.0,-999.0000, -999,9,   49,  19.1975,  24.8306,   -999.0,9
       RF06-01,  NONE,RF-2559,  1,     18,02-18572,2,20060118,0600, 29.9975, 144.9983, 5913,     76.5,  19.2096,  34.8171,2,   -999.0,9,-999.0000,9,    223.0,2,     2.33,2,  -999.00,9,     0.67,2,     0.22,2,     0.05,2, -999.000,9, -999.000,9,  -999.00,9,   -999.0,9,   -999.0,9,-999.0000,9,   -999.0,  9,  -999.00,9,   -999.0,  -999.00,9,  -999.00,9,  -999.00,9,  -999.00,9,   -999.0,-999.0000, -999,9,   76,  19.1959,  24.8313,   -999.0,9
       RF06-01,  NONE,RF-2559,  1,     17,02-18571,2,20060118,0559, 29.9975, 144.9983, 5913,     98.4,  19.2053,  34.8256,2,   -999.0,9,  34.8255,2,    221.5,2,     2.29,2,  -999.00,9,     0.65,2,     0.22,2,     0.04,2, -999.000,9, -999.000,9,  -999.00,9,   -999.0,9,   -999.0,9,-999.0000,9,   -999.0,  9,  -999.00,9,   -999.0,  -999.00,9,  -999.00,9,  -999.00,9,  -999.00,9,   -999.0,-999.0000, -999,9,   98,  19.1877,  24.8399,   -999.0,9
       RF06-01,  NONE,RF-2559,  1,     16,02-18570,2,20060118,0558, 29.9975, 144.9983, 5913,    125.6,  19.1671,  34.8316,2,   -999.0,9,-999.0000,9,    225.9,2,     2.26,2,  -999.00,9,     0.68,2,     0.22,2,     0.03,2, -999.000,9, -999.000,9,  -999.00,9,   -999.0,9,   -999.0,9,-999.0000,9,   -999.0,  9,  -999.00,9,   -999.0,  -999.00,9,  -999.00,9,  -999.00,9,  -999.00,9,   -999.0,-999.0000, -999,9,  125,  19.1446,  24.8555,   -999.0,9
       RF06-01,  NONE,RF-2559,  1,     15,02-18569,2,20060118,0557, 29.9975, 144.9983, 5913,    150.0,  19.1642,  34.8345,2,   -999.0,9,-999.0000,9,    221.0,2,     2.21,2,  -999.00,9,     0.72,2,     0.23,2,     0.03,2, -999.000,9, -999.000,9,  -999.00,9,   -999.0,9,   -999.0,9,-999.0000,9,   -999.0,  9,  -999.00,9,   -999.0,  -999.00,9,  -999.00,9,  -999.00,9,  -999.00,9,   -999.0,-999.0000, -999,9,  149,  19.1373,  24.8595,   -999.0,9
       RF06-01,  NONE,RF-2559,  1,     14,02-18568,2,20060118,0555, 29.9975, 144.9983, 5913,    202.7,  17.9809,  34.8194,2,   -999.0,9,  34.8198,2,    205.2,2,     3.89,2,  -999.00,9,     3.88,2,     0.01,2,     0.12,2, -999.000,9, -999.000,9,  -999.00,9,   -999.0,9,   -999.0,9,-999.0000,9,   -999.0,  9,  -999.00,9,   -999.0,  -999.00,9,  -999.00,9,  -999.00,9,  -999.00,9,   -999.0,-999.0000, -999,9,  201,  17.9462,  25.1470,   -999.0,9
       RF06-01,  NONE,RF-2559,  1,     13,02-18567,2,20060118,0553, 29.9975, 144.9983, 5913,    251.8,  17.3829,  34.8010,2,   -999.0,9,-999.0000,9,    213.4,2,     4.19,2,  -999.00,9,     4.27,2,     0.01,2,     0.15,2, -999.000,9, -999.000,9,  -999.00,9,   -999.0,9,   -999.0,9,-999.0000,9,   -999.0,  9,  -999.00,9,   -999.0,  -999.00,9,  -999.00,9,  -999.00,9,  -999.00,9,   -999.0,-999.0000, -999,9,  250,  17.3407,  25.2801,   -999.0,9
       RF06-01,  NONE,RF-2559,  1,     12,02-18566,3,20060118,0551, 29.9975, 144.9983, 5913,    303.6,  17.0658,  34.7803,2,   -999.0,9,  34.7804,2,    214.0,2,     4.62,2,  -999.00,9,     4.78,2,     0.00,2,     0.18,2, -999.000,9, -999.000,9,  -999.00,9,   -999.0,9,   -999.0,9,-999.0000,9,   -999.0,  9,  -999.00,9,   -999.0,  -999.00,9,  -999.00,9,  -999.00,9,  -999.00,9,   -999.0,-999.0000, -999,9,  301,  17.0155,  25.3419,   -999.0,9
       RF06-01,  NONE,RF-2559,  1,     11,02-18565,2,20060118,0548, 29.9975, 144.9983, 5913,    403.4,  15.6898,  34.6524,2,   -999.0,9,  34.6495,2,    192.6,2,     8.71,2,  -999.00,9,     8.51,2,     0.00,2,     0.37,2, -999.000,9, -999.000,9,  -999.00,9,   -999.0,9,   -999.0,9,-999.0000,9,   -999.0,  9,  -999.00,9,   -999.0,  -999.00,9,  -999.00,9,  -999.00,9,  -999.00,9,   -999.0,-999.0000, -999,9,  400,  15.6266,  25.5648,   -999.0,9
       RF06-01,  NONE,RF-2559,  1,     10,02-18564,2,20060118,0546, 29.9975, 144.9983, 5913,    504.0,  13.3569,  34.4847,2,   -999.0,9,-999.0000,9,    195.6,2,    16.44,2,  -999.00,9,    13.02,2,     0.00,2,     0.67,2, -999.000,9, -999.000,9,  -999.00,9,   -999.0,9,   -999.0,9,-999.0000,9,   -999.0,  9,  -999.00,9,   -999.0,  -999.00,9,  -999.00,9,  -999.00,9,  -999.00,9,   -999.0,-999.0000, -999,9,  500,  13.2859,  25.9361,   -999.0,9
       RF06-01,  NONE,RF-2559,  1,      9,02-18563,2,20060118,0543, 29.9975, 144.9983, 5913,    606.1,  10.2239,  34.2457,2,   -999.0,9,  34.2388,4,    177.0,2,    29.58,2,  -999.00,9,    19.11,2,     0.00,2,     1.14,2, -999.000,9, -999.000,9,  -999.00,9,   -999.0,9,   -999.0,9,-999.0000,9,   -999.0,  9,  -999.00,9,   -999.0,  -999.00,9,  -999.00,9,  -999.00,9,  -999.00,9,   -999.0,-999.0000, -999,9,  601,  10.1518,  26.3370,   -999.0,9
       RF06-01,  NONE,RF-2559,  1,      8,02-18562,2,20060118,0540, 29.9975, 144.9983, 5913,    704.2,   7.1903,  34.0827,2,   -999.0,9,-999.0000,9,    142.1,2,    50.88,2,  -999.00,9,    28.00,2,     0.00,2,     1.93,2, -999.000,9, -999.000,9,  -999.00,9,   -999.0,9,   -999.0,9,-999.0000,9,   -999.0,  9,  -999.00,9,   -999.0,  -999.00,9,  -999.00,9,  -999.00,9,  -999.00,9,   -999.0,-999.0000, -999,9,  698,   7.1219,  26.6794,   -999.0,9
       RF06-01,  NONE,RF-2559,  1,      7,02-18561,2,20060118,0537, 29.9975, 144.9983, 5913,    805.5,   5.7176,  34.0720,2,   -999.0,9,  34.0713,2,    106.8,2,    70.45,2,  -999.00,9,    32.98,2,     0.00,2,     2.39,2, -999.000,9, -999.000,9,  -999.00,9,   -999.0,9,   -999.0,9,-999.0000,9,   -999.0,  9,  -999.00,9,   -999.0,  -999.00,9,  -999.00,9,  -999.00,9,  -999.00,9,   -999.0,-999.0000, -999,9,  798,   5.6478,  26.8630,   -999.0,9
       RF06-01,  NONE,RF-2559,  1,      6,02-18560,2,20060118,0535, 29.9975, 144.9983, 5913,    908.2,   4.9386,  34.1334,2,   -999.0,9,-999.0000,9,     76.5,2,    87.31,2,  -999.00,9,    36.79,2,     0.00,2,     2.75,2, -999.000,9, -999.000,9,  -999.00,9,   -999.0,9,   -999.0,9,-999.0000,9,   -999.0,  9,  -999.00,9,   -999.0,  -999.00,9,  -999.00,9,  -999.00,9,  -999.00,9,   -999.0,-999.0000, -999,9,  900,   4.8645,  27.0036,   -999.0,9
       RF06-01,  NONE,RF-2559,  1,      5,02-18559,2,20060118,0532, 29.9975, 144.9983, 5913,   1009.9,   4.3065,  34.2120,2,   -999.0,9,  34.2123,2,     57.4,2,   103.15,2,  -999.00,9,    39.23,2,     0.00,2,     2.97,2, -999.000,9, -999.000,9,  -999.00,9,   -999.0,9,   -999.0,9,-999.0000,9,   -999.0,  9,  -999.00,9,   -999.0,  -999.00,9,  -999.00,9,  -999.00,9,  -999.00,9,   -999.0,-999.0000, -999,9, 1001,   4.2281,  27.1355,   -999.0,9
       RF06-01,  NONE,RF-2559,  1,      4,02-18558,2,20060118,0527, 29.9975, 144.9983, 5913,   1260.6,   3.2102,  34.3918,2,   -999.0,9,  34.3914,2,     40.3,2,   132.53,2,  -999.00,9,    41.80,2,     0.00,2,     3.20,2, -999.000,9, -999.000,9,  -999.00,9,   -999.0,9,   -999.0,9,-999.0000,9,   -999.0,  9,  -999.00,9,   -999.0,  -999.00,9,  -999.00,9,  -999.00,9,  -999.00,9,   -999.0,-999.0000, -999,9, 1248,   3.1202,  27.3885,   -999.0,9
       RF06-01,  NONE,RF-2559,  1,      3,02-18557,2,20060118,0522, 29.9975, 144.9983, 5913,   1516.2,   2.6914,  34.4754,2,   -999.0,9,  34.4749,2,     42.0,2,   146.07,2,  -999.00,9,    42.15,2,     0.00,2,     3.21,2, -999.000,9, -999.000,9,  -999.00,9,   -999.0,9,   -999.0,9,-999.0000,9,   -999.0,  9,  -999.00,9,   -999.0,  -999.00,9,  -999.00,9,  -999.00,9,  -999.00,9,   -999.0,-999.0000, -999,9, 1500,   2.5861,  27.5031,   -999.0,9
       RF06-01,  NONE,RF-2559,  1,      2,02-18556,2,20060118,0517, 29.9975, 144.9983, 5913,   1771.5,   2.3054,  34.5433,2,   -999.0,9,  34.5416,2,     55.9,2,   153.08,2,  -999.00,9,    41.56,2,     0.00,2,     3.15,2, -999.000,9, -999.000,9,  -999.00,9,   -999.0,9,   -999.0,9,-999.0000,9,   -999.0,  9,  -999.00,9,   -999.0,  -999.00,9,  -999.00,9,  -999.00,9,  -999.00,9,   -999.0,-999.0000, -999,9, 1752,   2.1838,  27.5911,   -999.0,9
       RF06-01,  NONE,RF-2559,  1,      1,02-18555,2,20060118,0512, 29.9975, 144.9983, 5913,   2022.4,   2.0388,  34.5877,2,   -999.0,9,  34.5873,2,     77.2,2,   155.22,2,  -999.00,9,    40.53,2,     0.00,2,     3.04,2, -999.000,9, -999.000,9,  -999.00,9,   -999.0,9,   -999.0,9,-999.0000,9,   -999.0,  9,  -999.00,9,   -999.0,  -999.00,9,  -999.00,9,  -999.00,9,  -999.00,9,   -999.0,-999.0000, -999,9, 1999,   1.9000,  27.6492,   -999.0,9