BOTTLE,20131214MIRCJHATS
EXPOCODE,SECT_ID,STNNBR,CASTNO,SAMPNO,BTLNBR,BTLNBR_FLAG_W,DATE,TIME,LATITUDE,LONGITUDE,DEPTH,CTDPRS,CTDTMP,CTDSAL,CTDSAL_FLAG_W,CTDOXY,CTDOXY_FLAG_W,SALNTY,SALNTY_FLAG_W,OXYGEN,OXYGEN_FLAG_W,SILCAT,SILCAT_FLAG_W,NITRAT,NITRAT_FLAG_W,NO2+NO3,NO2+NO3_FLAG_W,NITRIT,NITRIT_FLAG_W,PHSPHT,PHSPHT_FLAG_W,CFC-11,CFC-11_FLAG_W,CFC-12,CFC-12_FLAG_W,DELC13,DELC13_FLAG_W,TCARBN,TCARBN_FLAG_W,ALKALI,ALKALI_FLAG_W,PH,PH_FLAG_W,PH_TMP,PH_SCALE,PH_NBS,PH_NBS_FLAG_W,C13ERR,TOTALP,TOTALP_FLAG_W,AMMONI,AMMONI_FLAG_W,CHLORA,CHLORA_FLAG_W,PPHYTN,PPHYTN_FLAG_W,REVPRS,REVTMP,DEPTH_,DEPTH_FLAG,CTDDEP,THETA,SIGTHT,DOC,DOC_FLAG_W
,,,,,,,GMT,GMT,,,METER,DBAR,ITS-90,PSS-78,,UMOL/KG,,PSS-78,,UMOL/KG,,UMOL/KG,,UMOL/KG,,UMOL/KG,,UMOL/KG,,UMOL/KG,,PMOL/KG,,PMOL/KG,,/MILLE,,UMOL/KG,,UMOL/KG,,25_DEG_C,,DEG_C,,,,/MILLE,UMOL/KG,,UMOL/KG,,UG/L,,UG/L,,DBAR,ITS-90,METERS,,METERS,DEG_C,,UMOL/L,
       RF06-01,  165E,RF-2599,  1,     -9,      -9,5,20060207,0655, -0.0917, 164.9263, 4369,      0.0,  28.3754,  35.2905,2,   -999.0,9,-999.0000,9,    196.7,2,     2.13,2,  -999.00,9,     2.74,2,     0.28,2,     0.38,2, -999.000,9, -999.000,9,  -999.00,9,   1999.6,2,   -999.0,9,-999.0000,9,   -999.0,  9,  -999.00,9,   -999.0,  -999.00,9,  -999.00,9,     0.26,2,     0.11,2,   -999.0,-999.0000, -999,9,    0,  28.3752,  22.4898,   -999.0,9
       RF06-01,  165E,RF-2599,  1,     24,02-18578,2,20060207,0733, -0.0917, 164.9263, 4369,      9.2,  28.3754,  35.2906,2,   -999.0,9,  35.2904,2,    197.2,2,     2.12,2,  -999.00,9,     2.73,2,     0.28,2,     0.39,2, -999.000,9, -999.000,9,  -999.00,9,   1997.9,2,   -999.0,9,-999.0000,9,   -999.0,  9,  -999.00,9,   -999.0,  -999.00,9,  -999.00,9,     0.27,2,     0.12,2,   -999.0,-999.0000, -999,9,    9,  28.3732,  22.4906,   -999.0,9
       RF06-01,  165E,RF-2599,  1,     23,02-18577,2,20060207,0732, -0.0917, 164.9263, 4369,     26.0,  28.3301,  35.2885,2,   -999.0,9,-999.0000,9,    191.6,2,     2.10,2,  -999.00,9,     2.74,2,     0.29,2,     0.39,2, -999.000,9, -999.000,9,  -999.00,9,   2001.0,2,   -999.0,9,-999.0000,9,   -999.0,  9,  -999.00,9,   -999.0,  -999.00,9,  -999.00,9,     0.30,2,     0.15,2,   -999.0,-999.0000, -999,9,   26,  28.3239,  22.5052,   -999.0,9
       RF06-01,  165E,RF-2599,  1,     22,02-18576,2,20060207,0730, -0.0917, 164.9263, 4369,     50.8,  28.2375,  35.2991,2,   -999.0,9,-999.0000,9,    192.5,2,     2.10,2,  -999.00,9,     2.84,2,     0.29,2,     0.40,2, -999.000,9, -999.000,9,  -999.00,9,   -999.0,4,   -999.0,9,-999.0000,9,   -999.0,  9,  -999.00,9,   -999.0,  -999.00,9,  -999.00,9,     0.32,2,     0.22,2,   -999.0,-999.0000, -999,9,   51,  28.2254,  22.5456,   -999.0,9
       RF06-01,  165E,RF-2599,  1,     21,02-18575,2,20060207,0729, -0.0917, 164.9263, 4369,     75.7,  28.1854,  35.3245,2,   -999.0,9,-999.0000,9,    191.7,2,     2.09,2,  -999.00,9,     2.94,2,     0.27,2,     0.42,2, -999.000,9, -999.000,9,  -999.00,9,   2002.8,2,   -999.0,9,-999.0000,9,   -999.0,  9,  -999.00,9,   -999.0,  -999.00,9,  -999.00,9,     0.27,4,     0.17,4,   -999.0,-999.0000, -999,9,   75,  28.1675,  22.5838,   -999.0,9
       RF06-01,  165E,RF-2599,  1,     20,02-18574,2,20060207,0728, -0.0917, 164.9263, 4369,    102.9,  28.1655,  35.3503,2,   -999.0,9,  35.3499,2,    192.8,2,     2.14,2,  -999.00,9,     3.04,2,     0.28,2,     0.43,2, -999.000,9, -999.000,9,  -999.00,9,   2005.0,2,   -999.0,9,-999.0000,9,   -999.0,  9,  -999.00,9,   -999.0,  -999.00,9,  -999.00,9,     0.20,2,     0.13,2,   -999.0,-999.0000, -999,9,  102,  28.1411,  22.6118,   -999.0,9
       RF06-01,  165E,RF-2599,  1,     19,02-18573,2,20060207,0727, -0.0917, 164.9263, 4369,    126.3,  28.1838,  35.4172,2,   -999.0,9,-999.0000,9,    192.0,2,     2.08,2,  -999.00,9,     3.23,2,     0.36,2,     0.45,2, -999.000,9, -999.000,9,  -999.00,9,   2012.1,2,   -999.0,9,-999.0000,9,   -999.0,  9,  -999.00,9,   -999.0,  -999.00,9,  -999.00,9,     0.21,4,     0.14,4,   -999.0,-999.0000, -999,9,  126,  28.1539,  22.6580,   -999.0,9
       RF06-01,  165E,RF-2599,  1,     18,02-18572,2,20060207,0725, -0.0917, 164.9263, 4369,    153.8,  23.6734,  35.3463,2,   -999.0,9,-999.0000,9,    122.4,2,     4.30,2,  -999.00,9,    10.62,2,     0.04,2,     0.83,2, -999.000,9, -999.000,9,  -999.00,9,   2067.8,2,   -999.0,9,-999.0000,9,   -999.0,  9,  -999.00,9,   -999.0,  -999.00,9,  -999.00,9,     0.03,2,     0.06,2,   -999.0,-999.0000, -999,9,  153,  23.6413,  24.0095,   -999.0,9
       RF06-01,  165E,RF-2599,  1,     17,02-18571,2,20060207,0722, -0.0917, 164.9263, 4369,    203.0,  20.6638,  35.4063,2,   -999.0,9,  35.3907,4,    145.3,2,     5.69,2,  -999.00,9,    11.23,2,     0.01,2,     0.88,2, -999.000,9, -999.000,9,  -999.00,9,   2091.2,2,   -999.0,9,-999.0000,9,   -999.0,  9,  -999.00,9,   -999.0,  -999.00,9,  -999.00,9,     0.02,2,     0.05,2,   -999.0,-999.0000, -999,9,  202,  20.6253,  24.9048,   -999.0,9
       RF06-01,  165E,RF-2599,  1,     16,02-18570,2,20060207,0718, -0.0917, 164.9263, 4369,    304.6,  12.6566,  34.8825,2,   -999.0,9,  34.8739,4,    138.9,2,    18.32,2,  -999.00,9,    20.33,2,     0.00,2,     1.47,2, -999.000,9, -999.000,9,  -999.00,9,   2148.8,2,   -999.0,9,-999.0000,9,   -999.0,  9,  -999.00,9,   -999.0,  -999.00,9,  -999.00,9,  -999.00,9,  -999.00,9,   -999.0,-999.0000, -999,9,  303,  12.6153,  26.3784,   -999.0,9
       RF06-01,  165E,RF-2599,  1,     15,02-18569,2,20060207,0714, -0.0917, 164.9263, 4369,    406.4,  10.6929,  34.7653,2,   -999.0,9,  34.7659,2,     77.2,2,    26.29,2,  -999.00,9,    29.59,2,     0.00,2,     2.08,2, -999.000,9, -999.000,9,  -999.00,9,   2207.3,2,   -999.0,9,-999.0000,9,   -999.0,  9,  -999.00,9,   -999.0,  -999.00,9,  -999.00,9,  -999.00,9,  -999.00,9,   -999.0,-999.0000, -999,9,  404,  10.6433,  26.6567,   -999.0,9
       RF06-01,  165E,RF-2599,  1,     14,02-18568,2,20060207,0709, -0.0917, 164.9263, 4369,    507.1,   8.8118,  34.6455,2,   -999.0,9,-999.0000,9,    110.2,2,    29.93,2,  -999.00,9,    29.67,2,     0.00,2,     2.08,2, -999.000,9, -999.000,9,  -999.00,9,   2204.4,2,   -999.0,9,-999.0000,9,   -999.0,  9,  -999.00,9,   -999.0,  -999.00,9,  -999.00,9,  -999.00,9,  -999.00,9,   -999.0,-999.0000, -999,9,  504,   8.7567,  26.8792,   -999.0,9
       RF06-01,  165E,RF-2599,  1,     13,02-18567,2,20060207,0703, -0.0917, 164.9263, 4369,    609.0,   7.4232,  34.5835,2,   -999.0,9,  34.5818,2,     89.7,2,    41.47,2,  -999.00,9,    34.56,2,     0.00,2,     2.45,2, -999.000,9, -999.000,9,  -999.00,9,   2237.5,2,   -999.0,9,-999.0000,9,   -999.0,  9,  -999.00,9,   -999.0,  -999.00,9,  -999.00,9,  -999.00,9,  -999.00,9,   -999.0,-999.0000, -999,9,  605,   7.3629,  27.0397,   -999.0,9
       RF06-01,  165E,RF-2599,  1,     12,02-18566,2,20060207,0655, -0.0917, 164.9263, 4369,    810.3,   5.7195,  34.5437,2,   -999.0,9,  34.5427,2,     87.0,2,    61.81,2,  -999.00,9,    37.67,2,     0.00,2,     2.72,2, -999.000,9, -999.000,9,  -999.00,9,   2268.9,2,   -999.0,9,-999.0000,9,   -999.0,  9,  -999.00,9,   -999.0,  -999.00,9,  -999.00,9,  -999.00,9,  -999.00,9,   -999.0,-999.0000, -999,9,  804,   5.6486,  27.2360,   -999.0,9
       RF06-01,  165E,RF-2599,  1,     11,02-18565,2,20060207,0645, -0.0917, 164.9263, 4369,   1013.8,   4.4447,  34.5531,2,   -999.0,9,  34.5515,2,    100.4,2,    83.65,2,  -999.00,9,    37.84,2,     0.00,2,     2.74,2, -999.000,9, -999.000,9,  -999.00,9,   2285.7,2,   -999.0,9,-999.0000,9,   -999.0,  9,  -999.00,9,   -999.0,  -999.00,9,  -999.00,9,  -999.00,9,  -999.00,9,   -999.0,-999.0000, -999,9, 1006,   4.3644,  27.3920,   -999.0,9
       RF06-01,  165E,RF-2599,  1,     10,02-18564,2,20060207,0626, -0.0917, 164.9263, 4369,   1524.1,   2.9904,  34.6050,2,   -999.0,9,  34.6034,2,     98.8,2,   117.32,2,  -999.00,9,    38.98,2,     0.00,2,     2.82,2, -999.000,9, -999.000,9,  -999.00,9,   2325.4,2,   -999.0,9,-999.0000,9,   -999.0,  9,  -999.00,9,   -999.0,  -999.00,9,  -999.00,9,  -999.00,9,  -999.00,9,   -999.0,-999.0000, -999,9, 1510,   2.8806,  27.5807,   -999.0,9
       RF06-01,  165E,RF-2599,  1,      9,02-18563,2,20060207,0609, -0.0917, 164.9263, 4369,   2022.7,   2.2176,  34.6409,2,   -999.0,9,  34.6401,2,    113.4,2,   133.57,2,  -999.00,9,    38.17,2,     0.00,2,     2.73,2, -999.000,9, -999.000,9,  -999.00,9,   2330.4,2,   -999.0,9,-999.0000,9,   -999.0,  9,  -999.00,9,   -999.0,  -999.00,9,  -999.00,9,  -999.00,9,  -999.00,9,   -999.0,-999.0000, -999,9, 2002,   2.0759,  27.6779,   -999.0,9
       RF06-01,  165E,RF-2599,  1,      8,02-18562,2,20060207,0602, -0.0917, 164.9263, 4369,   2277.7,   2.0197,  34.6519,2,   -999.0,9,-999.0000,9,    120.1,2,   136.92,2,  -999.00,9,    37.78,2,     0.00,2,     2.70,2, -999.000,9, -999.000,9,  -999.00,9,   2329.8,2,   -999.0,9,-999.0000,9,   -999.0,  9,  -999.00,9,   -999.0,  -999.00,9,  -999.00,9,  -999.00,9,  -999.00,9,   -999.0,-999.0000, -999,9, 2253,   1.8590,  27.7039,   -999.0,9
       RF06-01,  165E,RF-2599,  1,      7,02-18561,2,20060207,0555, -0.0917, 164.9263, 4369,   2531.3,   1.8159,  34.6632,2,   -999.0,9,  34.6628,2,    131.6,2,   141.36,2,  -999.00,9,    37.53,2,     0.00,2,     2.67,2, -999.000,9, -999.000,9,  -999.00,9,   2334.7,2,   -999.0,9,-999.0000,9,   -999.0,  9,  -999.00,9,   -999.0,  -999.00,9,  -999.00,9,  -999.00,9,  -999.00,9,   -999.0,-999.0000, -999,9, 2502,   1.6362,  27.7299,   -999.0,9
       RF06-01,  165E,RF-2599,  1,      6,02-18560,2,20060207,0549, -0.0917, 164.9263, 4369,   2785.2,   1.7136,  34.6682,2,   -999.0,9,-999.0000,9,    136.9,2,   142.38,2,  -999.00,9,    37.22,2,     0.00,2,     2.64,2, -999.000,9, -999.000,9,  -999.00,9,   2332.0,2,   -999.0,9,-999.0000,9,   -999.0,  9,  -999.00,9,   -999.0,  -999.00,9,  -999.00,9,  -999.00,9,  -999.00,9,   -999.0,-999.0000, -999,9, 2752,   1.5125,  27.7430,   -999.0,9
       RF06-01,  165E,RF-2599,  1,      5,02-18559,2,20060207,0543, -0.0917, 164.9263, 4369,   3039.8,   1.6182,  34.6740,2,   -999.0,9,  34.6734,2,    139.1,2,   142.52,2,  -999.00,9,    36.78,2,     0.00,2,     2.60,2, -999.000,9, -999.000,9,  -999.00,9,   2328.3,2,   -999.0,9,-999.0000,9,   -999.0,  9,  -999.00,9,   -999.0,  -999.00,9,  -999.00,9,  -999.00,9,  -999.00,9,   -999.0,-999.0000, -999,9, 3001,   1.3950,  27.7562,   -999.0,9
       RF06-01,  165E,RF-2599,  1,      4,02-18558,2,20060207,0538, -0.0917, 164.9263, 4369,   3290.9,   1.5600,  34.6788,2,   -999.0,9,-999.0000,9,    148.7,2,   141.87,2,  -999.00,9,    36.48,2,     0.00,2,     2.57,2, -999.000,9, -999.000,9,  -999.00,9,   2324.9,2,   -999.0,9,-999.0000,9,   -999.0,  9,  -999.00,9,   -999.0,  -999.00,9,  -999.00,9,  -999.00,9,  -999.00,9,   -999.0,-999.0000, -999,9, 3248,   1.3135,  27.7658,   -999.0,9
       RF06-01,  165E,RF-2599,  1,      3,02-18557,2,20060207,0533, -0.0917, 164.9263, 4369,   3548.6,   1.5280,  34.6823,2,   -999.0,9,  34.6807,2,    147.1,2,   139.85,2,  -999.00,9,    36.13,2,     0.00,2,     2.55,2, -999.000,9, -999.000,9,  -999.00,9,   2322.8,2,   -999.0,9,-999.0000,9,   -999.0,  9,  -999.00,9,   -999.0,  -999.00,9,  -999.00,9,  -999.00,9,  -999.00,9,   -999.0,-999.0000, -999,9, 3500,   1.2562,  27.7726,   -999.0,9
       RF06-01,  165E,RF-2599,  1,      2,02-18556,2,20060207,0524, -0.0917, 164.9263, 4369,   4057.8,   1.3913,  34.6952,2,   -999.0,9,  34.6951,2,    177.1,2,   133.18,2,  -999.00,9,    34.77,2,     0.00,2,     2.43,2, -999.000,9, -999.000,9,  -999.00,9,   2301.8,2,   -999.0,9,-999.0000,9,   -999.0,  9,  -999.00,9,   -999.0,  -999.00,9,  -999.00,9,  -999.00,9,  -999.00,9,   -999.0,-999.0000, -999,9, 3997,   1.0691,  27.7958,   -999.0,9
       RF06-01,  165E,RF-2599,  1,      1,02-18555,2,20060207,0520, -0.0917, 164.9263, 4369,   4333.5,   1.3329,  34.7005,2,   -999.0,9,  34.7001,2,    178.0,2,   127.21,2,  -999.00,9,    33.98,2,     0.00,2,     2.36,2, -999.000,9, -999.000,9,  -999.00,9,   2289.7,2,   -999.0,9,-999.0000,9,   -999.0,  9,  -999.00,9,   -999.0,  -999.00,9,  -999.00,9,  -999.00,9,  -999.00,9,   -999.0,-999.0000, -999,9, 4266,   0.9819,  27.8059,   -999.0,9