BOTTLE,20131214MIRCJHATS
EXPOCODE,SECT_ID,STNNBR,CASTNO,SAMPNO,BTLNBR,BTLNBR_FLAG_W,DATE,TIME,LATITUDE,LONGITUDE,DEPTH,CTDPRS,CTDTMP,CTDSAL,CTDSAL_FLAG_W,CTDOXY,CTDOXY_FLAG_W,SALNTY,SALNTY_FLAG_W,OXYGEN,OXYGEN_FLAG_W,SILCAT,SILCAT_FLAG_W,NITRAT,NITRAT_FLAG_W,NO2+NO3,NO2+NO3_FLAG_W,NITRIT,NITRIT_FLAG_W,PHSPHT,PHSPHT_FLAG_W,CFC-11,CFC-11_FLAG_W,CFC-12,CFC-12_FLAG_W,DELC13,DELC13_FLAG_W,TCARBN,TCARBN_FLAG_W,ALKALI,ALKALI_FLAG_W,PH,PH_FLAG_W,PH_TMP,PH_SCALE,PH_NBS,PH_NBS_FLAG_W,C13ERR,TOTALP,TOTALP_FLAG_W,AMMONI,AMMONI_FLAG_W,CHLORA,CHLORA_FLAG_W,PPHYTN,PPHYTN_FLAG_W,REVPRS,REVTMP,DEPTH_,DEPTH_FLAG,CTDDEP,THETA,SIGTHT,DOC,DOC_FLAG_W
,,,,,,,GMT,GMT,,,METER,DBAR,ITS-90,PSS-78,,UMOL/KG,,PSS-78,,UMOL/KG,,UMOL/KG,,UMOL/KG,,UMOL/KG,,UMOL/KG,,UMOL/KG,,PMOL/KG,,PMOL/KG,,/MILLE,,UMOL/KG,,UMOL/KG,,25_DEG_C,,DEG_C,,,,/MILLE,UMOL/KG,,UMOL/KG,,UG/L,,UG/L,,DBAR,ITS-90,METERS,,METERS,DEG_C,,UMOL/L,
       RF06-01,  165E,RF-2607,  1,     -9,      -9,5,20060209,1845, -3.0225, 165.5643, 4236,      0.0,  29.2143,  35.0950,2,   -999.0,9,-999.0000,9,    196.8,2,     1.45,2,  -999.00,9,     0.17,2,     0.01,2,     0.23,2, -999.000,9, -999.000,9,  -999.00,9,   -999.0,9,   -999.0,9,-999.0000,9,   -999.0,  9,  -999.00,9,   -999.0,  -999.00,9,  -999.00,9,  -999.00,9,  -999.00,9,   -999.0,-999.0000, -999,9,    0,  29.2141,  22.0636,   -999.0,9
       RF06-01,  165E,RF-2607,  1,     24,02-18578,2,20060209,1857, -3.0225, 165.5643, 4236,     10.6,  29.2187,  35.0949,2,   -999.0,9,  35.0950,2,    197.8,2,     1.44,2,  -999.00,9,     0.15,2,     0.01,2,     0.23,2, -999.000,9, -999.000,9,  -999.00,9,   -999.0,9,   -999.0,9,-999.0000,9,   -999.0,  9,  -999.00,9,   -999.0,  -999.00,9,  -999.00,9,  -999.00,9,  -999.00,9,   -999.0,-999.0000, -999,9,   11,  29.2161,  22.0629,   -999.0,9
       RF06-01,  165E,RF-2607,  1,     23,02-18577,2,20060209,1856, -3.0225, 165.5643, 4236,     25.6,  29.2303,  35.1000,2,   -999.0,9,-999.0000,9,    195.6,2,     1.38,2,  -999.00,9,     0.18,2,     0.01,2,     0.24,2, -999.000,9, -999.000,9,  -999.00,9,   -999.0,9,   -999.0,9,-999.0000,9,   -999.0,  9,  -999.00,9,   -999.0,  -999.00,9,  -999.00,9,  -999.00,9,  -999.00,9,   -999.0,-999.0000, -999,9,   25,  29.2241,  22.0641,   -999.0,9
       RF06-01,  165E,RF-2607,  1,     22,02-18576,2,20060209,1855, -3.0225, 165.5643, 4236,     51.3,  29.0805,  35.5168,2,   -999.0,9,-999.0000,9,    194.0,2,     1.73,2,  -999.00,9,     1.61,2,     0.09,2,     0.35,2, -999.000,9, -999.000,9,  -999.00,9,   -999.0,9,   -999.0,9,-999.0000,9,   -999.0,  9,  -999.00,9,   -999.0,  -999.00,9,  -999.00,9,  -999.00,9,  -999.00,9,   -999.0,-999.0000, -999,9,   51,  29.0681,  22.4294,   -999.0,9
       RF06-01,  165E,RF-2607,  1,     21,02-18575,2,20060209,1853, -3.0225, 165.5643, 4236,     75.6,  28.9755,  35.5470,2,   -999.0,9,-999.0000,9,    191.4,2,     1.85,2,  -999.00,9,     1.98,2,     0.13,2,     0.39,2, -999.000,9, -999.000,9,  -999.00,9,   -999.0,9,   -999.0,9,-999.0000,9,   -999.0,  9,  -999.00,9,   -999.0,  -999.00,9,  -999.00,9,  -999.00,9,  -999.00,9,   -999.0,-999.0000, -999,9,   75,  28.9572,  22.4892,   -999.0,9
       RF06-01,  165E,RF-2607,  1,     20,02-18574,2,20060209,1852, -3.0225, 165.5643, 4236,    102.5,  28.7700,  35.5451,2,   -999.0,9,  35.5445,2,    193.3,2,     1.95,2,  -999.00,9,     2.52,2,     0.17,2,     0.42,2, -999.000,9, -999.000,9,  -999.00,9,   -999.0,9,   -999.0,9,-999.0000,9,   -999.0,  9,  -999.00,9,   -999.0,  -999.00,9,  -999.00,9,  -999.00,9,  -999.00,9,   -999.0,-999.0000, -999,9,  102,  28.7453,  22.5585,   -999.0,9
       RF06-01,  165E,RF-2607,  1,     19,02-18573,2,20060209,1851, -3.0225, 165.5643, 4236,    127.9,  28.5826,  35.5322,2,   -999.0,9,-999.0000,9,    192.0,2,     2.00,2,  -999.00,9,     2.90,2,     0.22,2,     0.45,2, -999.000,9, -999.000,9,  -999.00,9,   -999.0,9,   -999.0,9,-999.0000,9,   -999.0,  9,  -999.00,9,   -999.0,  -999.00,9,  -999.00,9,  -999.00,9,  -999.00,9,   -999.0,-999.0000, -999,9,  127,  28.5519,  22.6131,   -999.0,9
       RF06-01,  165E,RF-2607,  1,     18,02-18572,2,20060209,1850, -3.0225, 165.5643, 4236,    151.3,  28.4231,  35.5200,2,   -999.0,9,-999.0000,9,    188.6,2,     2.09,2,  -999.00,9,     3.26,2,     0.32,2,     0.48,2, -999.000,9, -999.000,9,  -999.00,9,   -999.0,9,   -999.0,9,-999.0000,9,   -999.0,  9,  -999.00,9,   -999.0,  -999.00,9,  -999.00,9,  -999.00,9,  -999.00,9,   -999.0,-999.0000, -999,9,  150,  28.3870,  22.6585,   -999.0,9
       RF06-01,  165E,RF-2607,  1,     17,02-18571,2,20060209,1848, -3.0225, 165.5643, 4236,    202.5,  24.0393,  36.1620,2,   -999.0,9,  36.1606,2,    136.5,2,     2.24,2,  -999.00,9,     7.83,2,     0.03,2,     0.77,2, -999.000,9, -999.000,9,  -999.00,9,   -999.0,9,   -999.0,9,-999.0000,9,   -999.0,  9,  -999.00,9,   -999.0,  -999.00,9,  -999.00,9,  -999.00,9,  -999.00,9,   -999.0,-999.0000, -999,9,  201,  23.9964,  24.5225,   -999.0,9
       RF06-01,  165E,RF-2607,  1,     16,02-18570,2,20060209,1846, -3.0225, 165.5643, 4236,    301.4,  11.9725,  34.9005,2,   -999.0,9,  34.8993,2,    133.1,2,    16.10,2,  -999.00,9,    22.00,2,     0.00,2,     1.58,2, -999.000,9, -999.000,9,  -999.00,9,   -999.0,9,   -999.0,9,-999.0000,9,   -999.0,  9,  -999.00,9,   -999.0,  -999.00,9,  -999.00,9,  -999.00,9,  -999.00,9,   -999.0,-999.0000, -999,9,  300,  11.9331,  26.5246,   -999.0,9
       RF06-01,  165E,RF-2607,  1,     15,02-18569,2,20060209,1843, -3.0225, 165.5643, 4236,    404.5,   9.8316,  34.7283,2,   -999.0,9,  34.7283,2,    117.5,2,    23.05,2,  -999.00,9,    27.58,2,     0.00,2,     1.94,2, -999.000,9, -999.000,9,  -999.00,9,   -999.0,9,   -999.0,9,-999.0000,9,   -999.0,  9,  -999.00,9,   -999.0,  -999.00,9,  -999.00,9,  -999.00,9,  -999.00,9,   -999.0,-999.0000, -999,9,  402,   9.7848,  26.7763,   -999.0,9
       RF06-01,  165E,RF-2607,  1,     14,02-18568,2,20060209,1841, -3.0225, 165.5643, 4236,    506.7,   8.6028,  34.6499,2,   -999.0,9,-999.0000,9,     95.3,2,    30.12,2,  -999.00,9,    32.02,2,     0.00,2,     2.24,2, -999.000,9, -999.000,9,  -999.00,9,   -999.0,9,   -999.0,9,-999.0000,9,   -999.0,  9,  -999.00,9,   -999.0,  -999.00,9,  -999.00,9,  -999.00,9,  -999.00,9,   -999.0,-999.0000, -999,9,  503,   8.5485,  26.9152,   -999.0,9
       RF06-01,  165E,RF-2607,  1,     13,02-18567,2,20060209,1838, -3.0225, 165.5643, 4236,    606.9,   7.3288,  34.5832,2,   -999.0,9,  34.5853,2,     86.8,2,    39.78,2,  -999.00,9,    35.35,2,     0.00,2,     2.49,2, -999.000,9, -999.000,9,  -999.00,9,   -999.0,9,   -999.0,9,-999.0000,9,   -999.0,  9,  -999.00,9,   -999.0,  -999.00,9,  -999.00,9,  -999.00,9,  -999.00,9,   -999.0,-999.0000, -999,9,  603,   7.2692,  27.0528,   -999.0,9
       RF06-01,  165E,RF-2607,  1,     12,02-18566,2,20060209,1834, -3.0225, 165.5643, 4236,    808.4,   5.5265,  34.5323,2,   -999.0,9,  34.5318,2,    104.7,2,    58.82,2,  -999.00,9,    36.81,2,     0.00,2,     2.62,2, -999.000,9, -999.000,9,  -999.00,9,   -999.0,9,   -999.0,9,-999.0000,9,   -999.0,  9,  -999.00,9,   -999.0,  -999.00,9,  -999.00,9,  -999.00,9,  -999.00,9,   -999.0,-999.0000, -999,9,  802,   5.4570,  27.2504,   -999.0,9
       RF06-01,  165E,RF-2607,  1,     11,02-18565,2,20060209,1829, -3.0225, 165.5643, 4236,   1011.6,   4.5048,  34.5469,2,   -999.0,9,  34.5468,2,    103.8,2,    79.84,2,  -999.00,9,    38.12,2,     0.00,2,     2.74,2, -999.000,9, -999.000,9,  -999.00,9,   -999.0,9,   -999.0,9,-999.0000,9,   -999.0,  9,  -999.00,9,   -999.0,  -999.00,9,  -999.00,9,  -999.00,9,  -999.00,9,   -999.0,-999.0000, -999,9, 1004,   4.4242,  27.3807,   -999.0,9
       RF06-01,  165E,RF-2607,  1,     10,02-18564,2,20060209,1824, -3.0225, 165.5643, 4236,   1264.3,   3.7704,  34.5688,2,   -999.0,9,  34.5680,2,    102.6,2,    95.71,2,  -999.00,9,    38.31,2,     0.00,2,     2.76,2, -999.000,9, -999.000,9,  -999.00,9,   -999.0,9,   -999.0,9,-999.0000,9,   -999.0,  9,  -999.00,9,   -999.0,  -999.00,9,  -999.00,9,  -999.00,9,  -999.00,9,   -999.0,-999.0000, -999,9, 1254,   3.6743,  27.4763,   -999.0,9
       RF06-01,  165E,RF-2607,  1,      9,02-18563,2,20060209,1819, -3.0225, 165.5643, 4236,   1516.7,   3.1092,  34.5951,2,   -999.0,9,  34.5952,2,    108.2,2,   110.59,2,  -999.00,9,    38.28,2,     0.00,2,     2.75,2, -999.000,9, -999.000,9,  -999.00,9,   -999.0,9,   -999.0,9,-999.0000,9,   -999.0,  9,  -999.00,9,   -999.0,  -999.00,9,  -999.00,9,  -999.00,9,  -999.00,9,   -999.0,-999.0000, -999,9, 1503,   2.9987,  27.5620,   -999.0,9
       RF06-01,  165E,RF-2607,  1,      8,02-18562,2,20060209,1809, -3.0225, 165.5643, 4236,   2023.5,   2.2253,  34.6410,2,   -999.0,9,  34.6412,2,    117.2,2,   132.28,2,  -999.00,9,    38.15,2,     0.00,2,     2.72,2, -999.000,9, -999.000,9,  -999.00,9,   -999.0,9,   -999.0,9,-999.0000,9,   -999.0,  9,  -999.00,9,   -999.0,  -999.00,9,  -999.00,9,  -999.00,9,  -999.00,9,   -999.0,-999.0000, -999,9, 2003,   2.0834,  27.6774,   -999.0,9
       RF06-01,  165E,RF-2607,  1,      7,02-18561,3,20060209,1804, -3.0225, 165.5643, 4236,   2277.0,   2.0313,  34.6513,2,   -999.0,9,-999.0000,9,    148.0,3,    92.71,3,  -999.00,9,    30.92,3,     0.02,2,     2.23,3, -999.000,9, -999.000,9,  -999.00,9,   -999.0,9,   -999.0,9,-999.0000,9,   -999.0,  9,  -999.00,9,   -999.0,  -999.00,9,  -999.00,9,  -999.00,9,  -999.00,9,   -999.0,-999.0000, -999,9, 2252,   1.8705,  27.7025,   -999.0,9
       RF06-01,  165E,RF-2607,  1,      6,02-18560,2,20060209,1759, -3.0225, 165.5643, 4236,   2530.5,   1.8742,  34.6599,2,   -999.0,9,  34.6588,2,    134.3,2,   138.23,2,  -999.00,9,    37.47,2,     0.00,2,     2.67,2, -999.000,9, -999.000,9,  -999.00,9,   -999.0,9,   -999.0,9,-999.0000,9,   -999.0,  9,  -999.00,9,   -999.0,  -999.00,9,  -999.00,9,  -999.00,9,  -999.00,9,   -999.0,-999.0000, -999,9, 2501,   1.6935,  27.7229,   -999.0,9
       RF06-01,  165E,RF-2607,  1,      5,02-18559,2,20060209,1754, -3.0225, 165.5643, 4236,   2785.1,   1.7497,  34.6670,2,   -999.0,9,-999.0000,9,    133.7,2,   141.12,2,  -999.00,9,    37.31,2,     0.00,2,     2.64,2, -999.000,9, -999.000,9,  -999.00,9,   -999.0,9,   -999.0,9,-999.0000,9,   -999.0,  9,  -999.00,9,   -999.0,  -999.00,9,  -999.00,9,  -999.00,9,  -999.00,9,   -999.0,-999.0000, -999,9, 2752,   1.5479,  27.7394,   -999.0,9
       RF06-01,  165E,RF-2607,  1,      4,02-18558,3,20060209,1749, -3.0225, 165.5643, 4236,   3040.2,   1.6511,  34.6727,2,   -999.0,9,  34.6738,2,    144.8,2,   142.12,2,  -999.00,9,    36.93,2,     0.00,2,     2.61,2, -999.000,9, -999.000,9,  -999.00,9,   -999.0,9,   -999.0,9,-999.0000,9,   -999.0,  9,  -999.00,9,   -999.0,  -999.00,9,  -999.00,9,  -999.00,9,  -999.00,9,   -999.0,-999.0000, -999,9, 3002,   1.4271,  27.7528,   -999.0,9
       RF06-01,  165E,RF-2607,  1,      3,02-18557,2,20060209,1744, -3.0225, 165.5643, 4236,   3295.2,   1.5418,  34.6803,2,   -999.0,9,-999.0000,9,    146.0,2,   141.16,2,  -999.00,9,    36.43,2,     0.00,2,     2.56,2, -999.000,9, -999.000,9,  -999.00,9,   -999.0,9,   -999.0,9,-999.0000,9,   -999.0,  9,  -999.00,9,   -999.0,  -999.00,9,  -999.00,9,  -999.00,9,  -999.00,9,   -999.0,-999.0000, -999,9, 3252,   1.2953,  27.7682,   -999.0,9
       RF06-01,  165E,RF-2607,  1,      2,02-18556,2,20060209,1739, -3.0225, 165.5643, 4236,   3550.1,   1.4925,  34.6849,2,   -999.0,9,  34.6854,2,    157.7,2,   139.54,2,  -999.00,9,    35.96,2,     0.00,2,     2.52,2, -999.000,9, -999.000,9,  -999.00,9,   -999.0,9,   -999.0,9,-999.0000,9,   -999.0,  9,  -999.00,9,   -999.0,  -999.00,9,  -999.00,9,  -999.00,9,  -999.00,9,   -999.0,-999.0000, -999,9, 3501,   1.2214,  27.7771,   -999.0,9
       RF06-01,  165E,RF-2607,  1,      1,02-18555,2,20060209,1727, -3.0225, 165.5643, 4236,   4237.9,   1.4241,  34.6943,2,   -999.0,9,  34.6943,2,    165.9,2,   133.91,2,  -999.00,9,    35.02,2,     0.00,2,     2.44,2, -999.000,9, -999.000,9,  -999.00,9,   -999.0,9,   -999.0,9,-999.0000,9,   -999.0,  9,  -999.00,9,   -999.0,  -999.00,9,  -999.00,9,  -999.00,9,  -999.00,9,   -999.0,-999.0000, -999,9, 4173,   1.0811,  27.7943,   -999.0,9