BOTTLE,20131214MIRCJHATS
EXPOCODE,SECT_ID,STNNBR,CASTNO,SAMPNO,BTLNBR,BTLNBR_FLAG_W,DATE,TIME,LATITUDE,LONGITUDE,DEPTH,CTDPRS,CTDTMP,CTDSAL,CTDSAL_FLAG_W,CTDOXY,CTDOXY_FLAG_W,SALNTY,SALNTY_FLAG_W,OXYGEN,OXYGEN_FLAG_W,SILCAT,SILCAT_FLAG_W,NITRAT,NITRAT_FLAG_W,NO2+NO3,NO2+NO3_FLAG_W,NITRIT,NITRIT_FLAG_W,PHSPHT,PHSPHT_FLAG_W,CFC-11,CFC-11_FLAG_W,CFC-12,CFC-12_FLAG_W,DELC13,DELC13_FLAG_W,TCARBN,TCARBN_FLAG_W,ALKALI,ALKALI_FLAG_W,PH,PH_FLAG_W,PH_TMP,PH_SCALE,PH_NBS,PH_NBS_FLAG_W,C13ERR,TOTALP,TOTALP_FLAG_W,AMMONI,AMMONI_FLAG_W,CHLORA,CHLORA_FLAG_W,PPHYTN,PPHYTN_FLAG_W,REVPRS,REVTMP,DEPTH_,DEPTH_FLAG,CTDDEP,THETA,SIGTHT,DOC,DOC_FLAG_W
,,,,,,,GMT,GMT,,,METER,DBAR,ITS-90,PSS-78,,UMOL/KG,,PSS-78,,UMOL/KG,,UMOL/KG,,UMOL/KG,,UMOL/KG,,UMOL/KG,,UMOL/KG,,PMOL/KG,,PMOL/KG,,/MILLE,,UMOL/KG,,UMOL/KG,,25_DEG_C,,DEG_C,,,,/MILLE,UMOL/KG,,UMOL/KG,,UG/L,,UG/L,,DBAR,ITS-90,METERS,,METERS,DEG_C,,UMOL/L,
       RF06-01,  142E,RF-2553,  1,     -9,      -9,5,20060116,1335, 33.0145, 141.9865, 8438,      0.0,  18.3974,  34.8165,2,   -999.0,9,-999.0000,9,    225.8,2,     2.73,2,  -999.00,9,     1.87,2,     0.20,2,     0.20,2, -999.000,9, -999.000,9,  -999.00,9,   -999.0,9,   -999.0,9,-999.0000,9,   -999.0,  9,  -999.00,9,   -999.0,  -999.00,9,  -999.00,9,  -999.00,9,  -999.00,9,   -999.0,-999.0000, -999,9,    0,  18.3973,  25.0330,   -999.0,9
       RF06-01,  142E,RF-2553,  1,     21,02-18575,2,20060116,1349, 33.0145, 141.9865, 8438,      9.4,  18.4042,  34.8164,2,   -999.0,9,  34.8159,2,    227.1,2,     2.63,2,  -999.00,9,     1.78,2,     0.20,2,     0.15,2, -999.000,9, -999.000,9,  -999.00,9,   -999.0,9,   -999.0,9,-999.0000,9,   -999.0,  9,  -999.00,9,   -999.0,  -999.00,9,  -999.00,9,  -999.00,9,  -999.00,9,   -999.0,-999.0000, -999,9,    9,  18.4026,  25.0316,   -999.0,9
       RF06-01,  142E,RF-2553,  1,     20,02-18574,2,20060116,1348, 33.0145, 141.9865, 8438,     25.2,  18.4101,  34.8159,2,   -999.0,9,-999.0000,9,    223.6,2,     2.59,2,  -999.00,9,     1.78,2,     0.20,2,     0.14,2, -999.000,9, -999.000,9,  -999.00,9,   -999.0,9,   -999.0,9,-999.0000,9,   -999.0,  9,  -999.00,9,   -999.0,  -999.00,9,  -999.00,9,  -999.00,9,  -999.00,9,   -999.0,-999.0000, -999,9,   25,  18.4057,  25.0304,   -999.0,9
       RF06-01,  142E,RF-2553,  1,     19,02-18573,2,20060116,1347, 33.0145, 141.9865, 8438,     51.3,  18.4105,  34.8154,2,   -999.0,9,-999.0000,9,    228.2,2,     2.59,2,  -999.00,9,     1.78,2,     0.20,2,     0.14,2, -999.000,9, -999.000,9,  -999.00,9,   -999.0,9,   -999.0,9,-999.0000,9,   -999.0,  9,  -999.00,9,   -999.0,  -999.00,9,  -999.00,9,  -999.00,9,  -999.00,9,   -999.0,-999.0000, -999,9,   51,  18.4016,  25.0311,   -999.0,9
       RF06-01,  142E,RF-2553,  1,     18,02-18572,2,20060116,1346, 33.0145, 141.9865, 8438,     75.9,  18.4104,  34.8182,2,   -999.0,9,-999.0000,9,    225.2,2,     2.59,2,  -999.00,9,     1.78,2,     0.20,2,     0.13,2, -999.000,9, -999.000,9,  -999.00,9,   -999.0,9,   -999.0,9,-999.0000,9,   -999.0,  9,  -999.00,9,   -999.0,  -999.00,9,  -999.00,9,  -999.00,9,  -999.00,9,   -999.0,-999.0000, -999,9,   75,  18.3972,  25.0343,   -999.0,9
       RF06-01,  142E,RF-2553,  1,     17,02-18571,2,20060116,1345, 33.0145, 141.9865, 8438,    101.4,  18.3952,  34.8202,2,   -999.0,9,  34.8197,2,    223.0,2,     2.64,2,  -999.00,9,     1.83,2,     0.20,2,     0.13,2, -999.000,9, -999.000,9,  -999.00,9,   -999.0,9,   -999.0,9,-999.0000,9,   -999.0,  9,  -999.00,9,   -999.0,  -999.00,9,  -999.00,9,  -999.00,9,  -999.00,9,   -999.0,-999.0000, -999,9,  101,  18.3776,  25.0407,   -999.0,9
       RF06-01,  142E,RF-2553,  1,     16,02-18570,2,20060116,1344, 33.0145, 141.9865, 8438,    127.1,  18.3844,  34.8208,2,   -999.0,9,-999.0000,9,    225.6,2,     2.60,2,  -999.00,9,     1.85,2,     0.20,2,     0.12,2, -999.000,9, -999.000,9,  -999.00,9,   -999.0,9,   -999.0,9,-999.0000,9,   -999.0,  9,  -999.00,9,   -999.0,  -999.00,9,  -999.00,9,  -999.00,9,  -999.00,9,   -999.0,-999.0000, -999,9,  126,  18.3623,  25.0450,   -999.0,9
       RF06-01,  142E,RF-2553,  1,     15,02-18569,2,20060116,1342, 33.0145, 141.9865, 8438,    151.5,  18.3732,  34.8213,2,   -999.0,9,-999.0000,9,    221.0,2,     2.61,2,  -999.00,9,     1.87,2,     0.20,2,     0.12,2, -999.000,9, -999.000,9,  -999.00,9,   -999.0,9,   -999.0,9,-999.0000,9,   -999.0,  9,  -999.00,9,   -999.0,  -999.00,9,  -999.00,9,  -999.00,9,  -999.00,9,   -999.0,-999.0000, -999,9,  150,  18.3469,  25.0492,   -999.0,9
       RF06-01,  142E,RF-2553,  1,     14,02-18568,2,20060116,1341, 33.0145, 141.9865, 8438,    198.8,  18.3737,  34.8211,2,   -999.0,9,  34.8206,2,    222.6,2,     2.64,2,  -999.00,9,     1.88,2,     0.20,2,     0.12,2, -999.000,9, -999.000,9,  -999.00,9,   -999.0,9,   -999.0,9,-999.0000,9,   -999.0,  9,  -999.00,9,   -999.0,  -999.00,9,  -999.00,9,  -999.00,9,  -999.00,9,   -999.0,-999.0000, -999,9,  197,  18.3391,  25.0510,   -999.0,9
       RF06-01,  142E,RF-2553,  1,     13,02-18567,2,20060116,1339, 33.0145, 141.9865, 8438,    254.1,  18.3541,  34.8202,2,   -999.0,9,-999.0000,9,    224.2,2,     2.74,2,  -999.00,9,     2.13,2,     0.19,2,     0.14,2, -999.000,9, -999.000,9,  -999.00,9,   -999.0,9,   -999.0,9,-999.0000,9,   -999.0,  9,  -999.00,9,   -999.0,  -999.00,9,  -999.00,9,  -999.00,9,  -999.00,9,   -999.0,-999.0000, -999,9,  252,  18.3099,  25.0576,   -999.0,9
       RF06-01,  142E,RF-2553,  1,     12,02-18566,2,20060116,1338, 33.0145, 141.9865, 8438,    301.4,  17.4797,  34.8012,2,   -999.0,9,  34.8007,2,    213.8,2,     4.14,2,  -999.00,9,     4.48,2,     0.01,2,     0.24,2, -999.000,9, -999.000,9,  -999.00,9,   -999.0,9,   -999.0,9,-999.0000,9,   -999.0,  9,  -999.00,9,   -999.0,  -999.00,9,  -999.00,9,  -999.00,9,  -999.00,9,   -999.0,-999.0000, -999,9,  299,  17.4289,  25.2590,   -999.0,9
       RF06-01,  142E,RF-2553,  1,     11,02-18565,2,20060116,1335, 33.0145, 141.9865, 8438,    405.1,  15.2133,  34.6114,2,   -999.0,9,  34.6114,2,    189.7,2,    10.34,2,  -999.00,9,     9.86,2,     0.01,2,     0.55,2, -999.000,9, -999.000,9,  -999.00,9,   -999.0,9,   -999.0,9,-999.0000,9,   -999.0,  9,  -999.00,9,   -999.0,  -999.00,9,  -999.00,9,  -999.00,9,  -999.00,9,   -999.0,-999.0000, -999,9,  402,  15.1512,  25.6391,   -999.0,9
       RF06-01,  142E,RF-2553,  1,     10,02-18564,2,20060116,1333, 33.0145, 141.9865, 8438,    505.5,  12.8550,  34.4542,2,   -999.0,9,-999.0000,9,    179.5,2,    20.30,2,  -999.00,9,    15.26,2,     0.01,2,     0.91,2, -999.000,9, -999.000,9,  -999.00,9,   -999.0,9,   -999.0,9,-999.0000,9,   -999.0,  9,  -999.00,9,   -999.0,  -999.00,9,  -999.00,9,  -999.00,9,  -999.00,9,   -999.0,-999.0000, -999,9,  501,  12.7856,  26.0127,   -999.0,9
       RF06-01,  142E,RF-2553,  1,      9,02-18563,2,20060116,1330, 33.0145, 141.9865, 8438,    605.5,   9.7640,  34.3032,2,   -999.0,9,  34.3032,2,    143.5,2,    40.70,2,  -999.00,9,    23.08,2,     0.01,2,     1.49,2, -999.000,9, -999.000,9,  -999.00,9,   -999.0,9,   -999.0,9,-999.0000,9,   -999.0,  9,  -999.00,9,   -999.0,  -999.00,9,  -999.00,9,  -999.00,9,  -999.00,9,   -999.0,-999.0000, -999,9,  600,   9.6939,  26.4594,   -999.0,9
       RF06-01,  142E,RF-2553,  1,      8,02-18562,2,20060116,1328, 33.0145, 141.9865, 8438,    707.6,   8.2357,  34.2659,2,   -999.0,9,-999.0000,9,    127.5,2,    54.83,2,  -999.00,9,    27.42,2,     0.00,2,     1.88,2, -999.000,9, -999.000,9,  -999.00,9,   -999.0,9,   -999.0,9,-999.0000,9,   -999.0,  9,  -999.00,9,   -999.0,  -999.00,9,  -999.00,9,  -999.00,9,  -999.00,9,   -999.0,-999.0000, -999,9,  701,   8.1613,  26.6732,   -999.0,9
       RF06-01,  142E,RF-2553,  1,      7,02-18561,2,20060116,1325, 33.0145, 141.9865, 8438,    806.9,   7.0152,  34.2583,2,   -999.0,9,  34.2589,2,    103.6,2,    68.55,2,  -999.00,9,    31.15,2,     0.00,2,     2.21,2, -999.000,9, -999.000,9,  -999.00,9,   -999.0,9,   -999.0,9,-999.0000,9,   -999.0,  9,  -999.00,9,   -999.0,  -999.00,9,  -999.00,9,  -999.00,9,  -999.00,9,   -999.0,-999.0000, -999,9,  800,   6.9371,  26.8431,   -999.0,9
       RF06-01,  142E,RF-2553,  1,      6,02-18560,2,20060116,1322, 33.0145, 141.9865, 8438,    909.5,   5.9930,  34.2720,2,   -999.0,9,-999.0000,9,     88.3,2,    82.00,2,  -999.00,9,    34.21,2,     0.02,2,     2.47,2, -999.000,9, -999.000,9,  -999.00,9,   -999.0,9,   -999.0,9,-999.0000,9,   -999.0,  9,  -999.00,9,   -999.0,  -999.00,9,  -999.00,9,  -999.00,9,  -999.00,9,   -999.0,-999.0000, -999,9,  901,   5.9113,  26.9886,   -999.0,9
       RF06-01,  142E,RF-2553,  1,      5,02-18559,2,20060116,1320, 33.0145, 141.9865, 8438,   1009.8,   5.2709,  34.2845,2,   -999.0,9,  34.2842,2,     79.5,2,    92.40,2,  -999.00,9,    36.21,2,     0.02,2,     2.63,2, -999.000,9, -999.000,9,  -999.00,9,   -999.0,9,   -999.0,9,-999.0000,9,   -999.0,  9,  -999.00,9,   -999.0,  -999.00,9,  -999.00,9,  -999.00,9,  -999.00,9,   -999.0,-999.0000, -999,9, 1000,   5.1850,  27.0866,   -999.0,9
       RF06-01,  142E,RF-2553,  1,      4,02-18558,2,20060116,1315, 33.0145, 141.9865, 8438,   1262.2,   4.1010,  34.3577,2,   -999.0,9,  34.3570,2,     68.8,2,   112.85,2,  -999.00,9,    39.02,2,     0.03,2,     2.85,2, -999.000,9, -999.000,9,  -999.00,9,   -999.0,9,   -999.0,9,-999.0000,9,   -999.0,  9,  -999.00,9,   -999.0,  -999.00,9,  -999.00,9,  -999.00,9,  -999.00,9,   -999.0,-999.0000, -999,9, 1250,   4.0024,  27.2750,   -999.0,9
       RF06-01,  142E,RF-2553,  1,      3,02-18557,2,20060116,1309, 33.0145, 141.9865, 8438,   1516.5,   3.2147,  34.4162,2,   -999.0,9,  34.4153,2,     55.3,2,   131.99,2,  -999.00,9,    40.86,2,     0.02,2,     3.03,2, -999.000,9, -999.000,9,  -999.00,9,   -999.0,9,   -999.0,9,-999.0000,9,   -999.0,  9,  -999.00,9,   -999.0,  -999.00,9,  -999.00,9,  -999.00,9,  -999.00,9,   -999.0,-999.0000, -999,9, 1500,   3.1034,  27.4096,   -999.0,9
       RF06-01,  142E,RF-2553,  1,      2,02-18556,2,20060116,1305, 33.0145, 141.9865, 8438,   1770.2,   2.5645,  34.4951,2,   -999.0,9,  34.4940,2,     49.0,2,  -999.00,4,  -999.00,9,  -999.00,4,  -999.00,4,  -999.00,4, -999.000,9, -999.000,9,  -999.00,9,   -999.0,9,   -999.0,9,-999.0000,9,   -999.0,  9,  -999.00,9,   -999.0,  -999.00,9,  -999.00,9,  -999.00,9,  -999.00,9,   -999.0,-999.0000, -999,9, 1750,   2.4397,  27.5313,   -999.0,9
       RF06-01,  142E,RF-2553,  1,      1,02-18555,2,20060116,1300, 33.0145, 141.9865, 8438,   2025.8,   2.2395,  34.5492,2,   -999.0,9,  34.5491,2,     60.9,2,   154.57,2,  -999.00,9,    41.25,2,     0.00,2,     3.05,2, -999.000,9, -999.000,9,  -999.00,9,   -999.0,9,   -999.0,9,-999.0000,9,   -999.0,  9,  -999.00,9,   -999.0,  -999.00,9,  -999.00,9,  -999.00,9,  -999.00,9,   -999.0,-999.0000, -999,9, 2002,   2.0975,  27.6027,   -999.0,9