BOTTLE,20131214MIRCJHATS
EXPOCODE,SECT_ID,STNNBR,CASTNO,SAMPNO,BTLNBR,BTLNBR_FLAG_W,DATE,TIME,LATITUDE,LONGITUDE,DEPTH,CTDPRS,CTDTMP,CTDSAL,CTDSAL_FLAG_W,CTDOXY,CTDOXY_FLAG_W,SALNTY,SALNTY_FLAG_W,OXYGEN,OXYGEN_FLAG_W,SILCAT,SILCAT_FLAG_W,NITRAT,NITRAT_FLAG_W,NO2+NO3,NO2+NO3_FLAG_W,NITRIT,NITRIT_FLAG_W,PHSPHT,PHSPHT_FLAG_W,CFC-11,CFC-11_FLAG_W,CFC-12,CFC-12_FLAG_W,DELC13,DELC13_FLAG_W,TCARBN,TCARBN_FLAG_W,ALKALI,ALKALI_FLAG_W,PH,PH_FLAG_W,PH_TMP,PH_SCALE,PH_NBS,PH_NBS_FLAG_W,C13ERR,TOTALP,TOTALP_FLAG_W,AMMONI,AMMONI_FLAG_W,CHLORA,CHLORA_FLAG_W,PPHYTN,PPHYTN_FLAG_W,REVPRS,REVTMP,DEPTH_,DEPTH_FLAG,CTDDEP,THETA,SIGTHT,DOC,DOC_FLAG_W
,,,,,,,GMT,GMT,,,METER,DBAR,ITS-90,PSS-78,,UMOL/KG,,PSS-78,,UMOL/KG,,UMOL/KG,,UMOL/KG,,UMOL/KG,,UMOL/KG,,UMOL/KG,,PMOL/KG,,PMOL/KG,,/MILLE,,UMOL/KG,,UMOL/KG,,25_DEG_C,,DEG_C,,,,/MILLE,UMOL/KG,,UMOL/KG,,UG/L,,UG/L,,DBAR,ITS-90,METERS,,METERS,DEG_C,,UMOL/L,
       RF06-01,  137E,RF-2629,  1,     -9,      -9,5,20060303,0814, 24.2177, 137.0133, 4791,      0.0,  21.6433,  34.9263,2,   -999.0,9,-999.0000,9,    221.8,2,     2.11,2,  -999.00,9,     0.09,2,     0.00,2,     0.06,2, -999.000,9, -999.000,9,  -999.00,9,   -999.0,9,   -999.0,9,-999.0000,9,   -999.0,  9,  -999.00,9,   -999.0,  -999.00,9,  -999.00,9,     0.14,2,     0.03,2,   -999.0,-999.0000, -999,9,    0,  21.6432,  24.2613,   -999.0,9
       RF06-01,  137E,RF-2629,  1,     21,02-18575,2,20060303,0836, 24.2177, 137.0133, 4791,     11.3,  21.6516,  34.9261,2,   -999.0,9,  34.9256,2,    225.9,2,     2.11,2,  -999.00,9,     0.08,2,     0.00,2,     0.05,2, -999.000,9, -999.000,9,  -999.00,9,   -999.0,9,   -999.0,9,-999.0000,9,   -999.0,  9,  -999.00,9,   -999.0,  -999.00,9,  -999.00,9,     0.13,2,     0.03,2,   -999.0,-999.0000, -999,9,   11,  21.6494,  24.2594,   -999.0,9
       RF06-01,  137E,RF-2629,  1,     20,02-18574,2,20060303,0836, 24.2177, 137.0133, 4791,     25.0,  21.6461,  34.9257,2,   -999.0,9,-999.0000,9,    222.7,2,     2.11,2,  -999.00,9,     0.07,2,     0.00,2,     0.04,2, -999.000,9, -999.000,9,  -999.00,9,   -999.0,9,   -999.0,9,-999.0000,9,   -999.0,  9,  -999.00,9,   -999.0,  -999.00,9,  -999.00,9,     0.12,2,     0.03,2,   -999.0,-999.0000, -999,9,   25,  21.6412,  24.2614,   -999.0,9
       RF06-01,  137E,RF-2629,  1,     19,02-18573,2,20060303,0834, 24.2177, 137.0133, 4791,     51.2,  20.8960,  34.8989,2,   -999.0,9,-999.0000,9,    227.7,2,     2.16,2,  -999.00,9,     0.06,2,     0.00,2,     0.04,2, -999.000,9, -999.000,9,  -999.00,9,   -999.0,9,   -999.0,9,-999.0000,9,   -999.0,  9,  -999.00,9,   -999.0,  -999.00,9,  -999.00,9,     0.15,2,     0.06,2,   -999.0,-999.0000, -999,9,   51,  20.8863,  24.4478,   -999.0,9
       RF06-01,  137E,RF-2629,  1,     18,02-18572,2,20060303,0833, 24.2177, 137.0133, 4791,     73.9,  20.6171,  34.8821,2,   -999.0,9,-999.0000,9,    225.3,2,     2.14,2,  -999.00,9,     0.06,2,     0.00,2,     0.05,2, -999.000,9, -999.000,9,  -999.00,9,   -999.0,9,   -999.0,9,-999.0000,9,   -999.0,  9,  -999.00,9,   -999.0,  -999.00,9,  -999.00,9,     0.18,2,     0.07,2,   -999.0,-999.0000, -999,9,   73,  20.6032,  24.5113,   -999.0,9
       RF06-01,  137E,RF-2629,  1,     17,02-18571,2,20060303,0832, 24.2177, 137.0133, 4791,    100.8,  20.3077,  34.8870,2,   -999.0,9,  34.8879,2,    223.8,2,     2.21,2,  -999.00,9,     0.11,2,     0.03,2,     0.05,2, -999.000,9, -999.000,9,  -999.00,9,   -999.0,9,   -999.0,9,-999.0000,9,   -999.0,  9,  -999.00,9,   -999.0,  -999.00,9,  -999.00,9,     0.29,2,     0.19,2,   -999.0,-999.0000, -999,9,  100,  20.2889,  24.5990,   -999.0,9
       RF06-01,  137E,RF-2629,  1,     16,02-18570,2,20060303,0831, 24.2177, 137.0133, 4791,    126.5,  19.8081,  34.8825,2,   -999.0,9,-999.0000,9,    221.2,2,     2.25,2,  -999.00,9,     0.62,2,     0.18,2,     0.07,2, -999.000,9, -999.000,9,  -999.00,9,   -999.0,9,   -999.0,9,-999.0000,9,   -999.0,  9,  -999.00,9,   -999.0,  -999.00,9,  -999.00,9,     0.29,2,     0.19,2,   -999.0,-999.0000, -999,9,  126,  19.7849,  24.7286,   -999.0,9
       RF06-01,  137E,RF-2629,  1,     15,02-18569,2,20060303,0830, 24.2177, 137.0133, 4791,    151.1,  19.4088,  34.8626,2,   -999.0,9,-999.0000,9,    222.3,2,     2.35,2,  -999.00,9,     0.88,2,     0.19,2,     0.09,2, -999.000,9, -999.000,9,  -999.00,9,   -999.0,9,   -999.0,9,-999.0000,9,   -999.0,  9,  -999.00,9,   -999.0,  -999.00,9,  -999.00,9,     0.21,2,     0.12,2,   -999.0,-999.0000, -999,9,  150,  19.3815,  24.8183,   -999.0,9
       RF06-01,  137E,RF-2629,  1,     14,02-18568,2,20060303,0828, 24.2177, 137.0133, 4791,    204.1,  18.9283,  34.8543,2,   -999.0,9,  34.8538,2,    224.7,2,     2.40,2,  -999.00,9,     1.21,2,     0.03,2,     0.10,2, -999.000,9, -999.000,9,  -999.00,9,   -999.0,9,   -999.0,9,-999.0000,9,   -999.0,  9,  -999.00,9,   -999.0,  -999.00,9,  -999.00,9,     0.03,2,     0.03,2,   -999.0,-999.0000, -999,9,  203,  18.8920,  24.9373,   -999.0,9
       RF06-01,  137E,RF-2629,  1,     13,02-18567,2,20060303,0826, 24.2177, 137.0133, 4791,    256.3,  17.9724,  34.8210,2,   -999.0,9,-999.0000,9,    209.6,2,     4.15,2,  -999.00,9,     4.24,2,     0.01,2,     0.26,2, -999.000,9, -999.000,9,  -999.00,9,   -999.0,9,   -999.0,9,-999.0000,9,   -999.0,  9,  -999.00,9,   -999.0,  -999.00,9,  -999.00,9,  -999.00,9,  -999.00,9,   -999.0,-999.0000, -999,9,  254,  17.9284,  25.1525,   -999.0,9
       RF06-01,  137E,RF-2629,  1,     12,02-18348,2,20060303,0824, 24.2177, 137.0133, 4791,    306.3,  17.1453,  34.7758,2,   -999.0,9,  34.7771,2,    212.3,2,     4.92,2,  -999.00,9,     5.19,2,     0.01,2,     0.31,2, -999.000,9, -999.000,9,  -999.00,9,   -999.0,9,   -999.0,9,-999.0000,9,   -999.0,  9,  -999.00,9,   -999.0,  -999.00,9,  -999.00,9,  -999.00,9,  -999.00,9,   -999.0,-999.0000, -999,9,  304,  17.0944,  25.3197,   -999.0,9
       RF06-01,  137E,RF-2629,  1,     11,02-18565,2,20060303,0821, 24.2177, 137.0133, 4791,    406.6,  14.9595,  34.5936,2,   -999.0,9,  34.5959,4,    193.2,2,    10.46,2,  -999.00,9,     9.86,2,     0.00,2,     0.61,2, -999.000,9, -999.000,9,  -999.00,9,   -999.0,9,   -999.0,9,-999.0000,9,   -999.0,  9,  -999.00,9,   -999.0,  -999.00,9,  -999.00,9,  -999.00,9,  -999.00,9,   -999.0,-999.0000, -999,9,  404,  14.8978,  25.6809,   -999.0,9
       RF06-01,  137E,RF-2629,  1,     10,02-18564,2,20060303,0818, 24.2177, 137.0133, 4791,    507.0,  12.0067,  34.3820,2,   -999.0,9,-999.0000,9,    182.9,2,    20.02,2,  -999.00,9,    15.62,2,     0.00,2,     1.02,2, -999.000,9, -999.000,9,  -999.00,9,   -999.0,9,   -999.0,9,-999.0000,9,   -999.0,  9,  -999.00,9,   -999.0,  -999.00,9,  -999.00,9,  -999.00,9,  -999.00,9,   -999.0,-999.0000, -999,9,  503,  11.9401,  26.1205,   -999.0,9
       RF06-01,  137E,RF-2629,  1,      9,02-18563,2,20060303,0814, 24.2177, 137.0133, 4791,    609.7,   8.9419,  34.2074,2,   -999.0,9,  34.2084,2,    150.9,2,    40.25,2,  -999.00,9,    24.08,2,     0.00,2,     1.65,2, -999.000,9, -999.000,9,  -999.00,9,   -999.0,9,   -999.0,9,-999.0000,9,   -999.0,  9,  -999.00,9,   -999.0,  -999.00,9,  -999.00,9,  -999.00,9,  -999.00,9,   -999.0,-999.0000, -999,9,  605,   8.8751,  26.5173,   -999.0,9
       RF06-01,  137E,RF-2629,  1,      8,02-18562,2,20060303,0811, 24.2177, 137.0133, 4791,    709.2,   6.5680,  34.1612,2,   -999.0,9,-999.0000,9,    110.1,2,    65.71,2,  -999.00,9,    31.62,2,     0.00,2,     2.26,2, -999.000,9, -999.000,9,  -999.00,9,   -999.0,9,   -999.0,9,-999.0000,9,   -999.0,  9,  -999.00,9,   -999.0,  -999.00,9,  -999.00,9,  -999.00,9,  -999.00,9,   -999.0,-999.0000, -999,9,  703,   6.5023,  26.8250,   -999.0,9
       RF06-01,  137E,RF-2629,  1,      7,02-18561,2,20060303,0808, 24.2177, 137.0133, 4791,    809.9,   5.1289,  34.2089,2,   -999.0,9,  34.2086,2,     76.9,2,    88.94,2,  -999.00,9,    36.55,2,     0.00,2,     2.65,2, -999.000,9, -999.000,9,  -999.00,9,   -999.0,9,   -999.0,9,-999.0000,9,   -999.0,  9,  -999.00,9,   -999.0,  -999.00,9,  -999.00,9,  -999.00,9,  -999.00,9,   -999.0,-999.0000, -999,9,  803,   5.0621,  27.0409,   -999.0,9
       RF06-01,  137E,RF-2629,  1,      6,02-18560,2,20060303,0805, 24.2177, 137.0133, 4791,    911.5,   4.2639,  34.2966,2,   -999.0,9,-999.0000,9,     60.0,2,   106.05,2,  -999.00,9,    39.32,2,     0.00,2,     2.87,2, -999.000,9, -999.000,9,  -999.00,9,   -999.0,9,   -999.0,9,-999.0000,9,   -999.0,  9,  -999.00,9,   -999.0,  -999.00,9,  -999.00,9,  -999.00,9,  -999.00,9,   -999.0,-999.0000, -999,9,  904,   4.1940,  27.2064,   -999.0,9
       RF06-01,  137E,RF-2629,  1,      5,02-18559,2,20060303,0802, 24.2177, 137.0133, 4791,   1010.7,   3.6882,  34.3629,2,   -999.0,9,  34.3627,2,     54.7,2,   117.92,2,  -999.00,9,    40.49,2,     0.00,2,     2.96,2, -999.000,9, -999.000,9,  -999.00,9,   -999.0,9,   -999.0,9,-999.0000,9,   -999.0,  9,  -999.00,9,   -999.0,  -999.00,9,  -999.00,9,  -999.00,9,  -999.00,9,   -999.0,-999.0000, -999,9, 1002,   3.6143,  27.3183,   -999.0,9
       RF06-01,  137E,RF-2629,  1,      4,02-18558,2,20060303,0756, 24.2177, 137.0133, 4791,   1265.2,   2.9110,  34.4841,2,   -999.0,9,  34.4837,2,     69.6,2,   133.94,2,  -999.00,9,    40.47,2,     0.00,2,     2.94,2, -999.000,9, -999.000,9,  -999.00,9,   -999.0,9,   -999.0,9,-999.0000,9,   -999.0,  9,  -999.00,9,   -999.0,  -999.00,9,  -999.00,9,  -999.00,9,  -999.00,9,   -999.0,-999.0000, -999,9, 1253,   2.8234,  27.4892,   -999.0,9
       RF06-01,  137E,RF-2629,  1,      3,02-18557,2,20060303,0750, 24.2177, 137.0133, 4791,   1517.1,   2.4397,  34.5517,2,   -999.0,9,  34.5521,2,     89.8,2,   139.34,2,  -999.00,9,    39.51,2,     0.00,2,     2.85,2, -999.000,9, -999.000,9,  -999.00,9,   -999.0,9,   -999.0,9,-999.0000,9,   -999.0,  9,  -999.00,9,   -999.0,  -999.00,9,  -999.00,9,  -999.00,9,  -999.00,9,   -999.0,-999.0000, -999,9, 1502,   2.3370,  27.5852,   -999.0,9
       RF06-01,  137E,RF-2629,  1,      2,02-18556,2,20060303,0746, 24.2177, 137.0133, 4791,   1769.7,   2.1220,  34.5925,2,   -999.0,9,  34.5926,2,    109.8,2,   141.62,2,  -999.00,9,    38.76,2,     0.00,2,     2.78,2, -999.000,9, -999.000,9,  -999.00,9,   -999.0,9,   -999.0,9,-999.0000,9,   -999.0,  9,  -999.00,9,   -999.0,  -999.00,9,  -999.00,9,  -999.00,9,  -999.00,9,   -999.0,-999.0000, -999,9, 1751,   2.0029,  27.6449,   -999.0,9
       RF06-01,  137E,RF-2629,  1,      1,02-18555,2,20060303,0741, 24.2177, 137.0133, 4791,   2026.0,   1.9604,  34.6152,2,   -999.0,9,  34.6150,2,    116.3,2,   141.37,2,  -999.00,9,    38.12,2,     0.00,2,     2.72,2, -999.000,9, -999.000,9,  -999.00,9,   -999.0,9,   -999.0,9,-999.0000,9,   -999.0,  9,  -999.00,9,   -999.0,  -999.00,9,  -999.00,9,  -999.00,9,  -999.00,9,   -999.0,-999.0000, -999,9, 2003,   1.8224,  27.6772,   -999.0,9