BOTTLE,20131214MIRCJHATS
EXPOCODE,SECT_ID,STNNBR,CASTNO,SAMPNO,BTLNBR,BTLNBR_FLAG_W,DATE,TIME,LATITUDE,LONGITUDE,DEPTH,CTDPRS,CTDTMP,CTDSAL,CTDSAL_FLAG_W,CTDOXY,CTDOXY_FLAG_W,SALNTY,SALNTY_FLAG_W,OXYGEN,OXYGEN_FLAG_W,SILCAT,SILCAT_FLAG_W,NITRAT,NITRAT_FLAG_W,NO2+NO3,NO2+NO3_FLAG_W,NITRIT,NITRIT_FLAG_W,PHSPHT,PHSPHT_FLAG_W,CFC-11,CFC-11_FLAG_W,CFC-12,CFC-12_FLAG_W,DELC13,DELC13_FLAG_W,TCARBN,TCARBN_FLAG_W,ALKALI,ALKALI_FLAG_W,PH,PH_FLAG_W,PH_TMP,PH_SCALE,PH_NBS,PH_NBS_FLAG_W,C13ERR,TOTALP,TOTALP_FLAG_W,AMMONI,AMMONI_FLAG_W,CHLORA,CHLORA_FLAG_W,PPHYTN,PPHYTN_FLAG_W,REVPRS,REVTMP,DEPTH_,DEPTH_FLAG,CTDDEP,THETA,SIGTHT,DOC,DOC_FLAG_W
,,,,,,,GMT,GMT,,,METER,DBAR,ITS-90,PSS-78,,UMOL/KG,,PSS-78,,UMOL/KG,,UMOL/KG,,UMOL/KG,,UMOL/KG,,UMOL/KG,,UMOL/KG,,PMOL/KG,,PMOL/KG,,/MILLE,,UMOL/KG,,UMOL/KG,,25_DEG_C,,DEG_C,,,,/MILLE,UMOL/KG,,UMOL/KG,,UG/L,,UG/L,,DBAR,ITS-90,METERS,,METERS,DEG_C,,UMOL/L,
       RF06-01,  165E,RF-2571,  1,     -9,      -9,5,20060122,1940, 28.0108, 164.9985, 5724,      0.0,  20.4251,  34.9022,2,   -999.0,9,-999.0000,9,    221.6,2,     2.28,2,  -999.00,9,  -999.00,4,  -999.00,4,  -999.00,4, -999.000,9, -999.000,9,  -999.00,9,   1974.2,3,   -999.0,9,-999.0000,9,   -999.0,  9,  -999.00,9,   -999.0,  -999.00,9,  -999.00,9,     0.26,2,     0.11,2,   -999.0,-999.0000, -999,9,    0,  20.4250,  24.5744,   -999.0,9
       RF06-01,  165E,RF-2571,  1,     21,02-18575,2,20060122,1953, 28.0108, 164.9985, 5724,     10.5,  20.4076,  34.8990,2,   -999.0,9,  34.8969,2,    225.8,2,     2.32,2,  -999.00,9,  -999.00,4,  -999.00,4,  -999.00,4, -999.000,9, -999.000,9,  -999.00,9,   1938.6,3,   -999.0,9,-999.0000,9,   -999.0,  9,  -999.00,9,   -999.0,  -999.00,9,  -999.00,9,     0.30,2,     0.12,2,   -999.0,-999.0000, -999,9,   10,  20.4056,  24.5771,   -999.0,9
       RF06-01,  165E,RF-2571,  1,     20,02-18574,2,20060122,1952, 28.0108, 164.9985, 5724,     25.3,  20.0635,  34.8533,2,   -999.0,9,-999.0000,9,    223.4,2,     2.37,2,  -999.00,9,  -999.00,4,  -999.00,4,  -999.00,4, -999.000,9, -999.000,9,  -999.00,9,   1981.2,3,   -999.0,9,-999.0000,9,   -999.0,  9,  -999.00,9,   -999.0,  -999.00,9,  -999.00,9,     0.40,2,     0.18,2,   -999.0,-999.0000, -999,9,   25,  20.0588,  24.6343,   -999.0,9
       RF06-01,  165E,RF-2571,  1,     19,02-18573,2,20060122,1951, 28.0108, 164.9985, 5724,     52.5,  19.9166,  34.8462,2,   -999.0,9,-999.0000,9,    223.9,2,     2.37,2,  -999.00,9,  -999.00,4,  -999.00,4,  -999.00,4, -999.000,9, -999.000,9,  -999.00,9,   1984.8,3,   -999.0,9,-999.0000,9,   -999.0,  9,  -999.00,9,   -999.0,  -999.00,9,  -999.00,9,     0.34,2,     0.16,2,   -999.0,-999.0000, -999,9,   52,  19.9070,  24.6689,   -999.0,9
       RF06-01,  165E,RF-2571,  1,     18,02-18572,2,20060122,1951, 28.0108, 164.9985, 5724,     76.7,  19.8800,  34.8360,2,   -999.0,9,-999.0000,9,    226.8,2,     2.36,2,  -999.00,9,  -999.00,4,  -999.00,4,  -999.00,4, -999.000,9, -999.000,9,  -999.00,9,   1986.2,3,   -999.0,9,-999.0000,9,   -999.0,  9,  -999.00,9,   -999.0,  -999.00,9,  -999.00,9,     0.25,2,     0.13,2,   -999.0,-999.0000, -999,9,   76,  19.8659,  24.6719,   -999.0,9
       RF06-01,  165E,RF-2571,  1,     17,02-18571,2,20060122,1950, 28.0108, 164.9985, 5724,    102.2,  19.7773,  34.8094,2,   -999.0,9,  34.8054,2,    223.8,2,     2.36,2,  -999.00,9,  -999.00,4,  -999.00,4,  -999.00,4, -999.000,9, -999.000,9,  -999.00,9,   1984.3,3,   -999.0,9,-999.0000,9,   -999.0,  9,  -999.00,9,   -999.0,  -999.00,9,  -999.00,9,     0.27,2,     0.15,2,   -999.0,-999.0000, -999,9,  102,  19.7586,  24.6797,   -999.0,9
       RF06-01,  165E,RF-2571,  1,     16,02-18570,2,20060122,1949, 28.0108, 164.9985, 5724,    126.8,  19.5583,  34.8067,2,   -999.0,9,-999.0000,9,    219.0,2,     2.56,2,  -999.00,9,  -999.00,4,  -999.00,4,  -999.00,4, -999.000,9, -999.000,9,  -999.00,9,   1992.0,3,   -999.0,9,-999.0000,9,   -999.0,  9,  -999.00,9,   -999.0,  -999.00,9,  -999.00,9,     0.19,2,     0.13,2,   -999.0,-999.0000, -999,9,  126,  19.5353,  24.7357,   -999.0,9
       RF06-01,  165E,RF-2571,  1,     15,02-18569,2,20060122,1948, 28.0108, 164.9985, 5724,    152.7,  18.2063,  34.8302,2,   -999.0,9,-999.0000,9,    201.9,2,     3.84,2,  -999.00,9,  -999.00,4,  -999.00,4,  -999.00,4, -999.000,9, -999.000,9,  -999.00,9,   2025.4,3,   -999.0,9,-999.0000,9,   -999.0,  9,  -999.00,9,   -999.0,  -999.00,9,  -999.00,9,     0.04,2,     0.07,2,   -999.0,-999.0000, -999,9,  152,  18.1799,  25.0976,   -999.0,9
       RF06-01,  165E,RF-2571,  1,     14,02-18568,2,20060122,1947, 28.0108, 164.9985, 5724,    203.1,  17.2822,  34.7837,2,   -999.0,9,  34.7825,2,    205.5,2,     4.61,2,  -999.00,9,  -999.00,4,  -999.00,4,  -999.00,4, -999.000,9, -999.000,9,  -999.00,9,   2022.2,3,   -999.0,9,-999.0000,9,   -999.0,  9,  -999.00,9,   -999.0,  -999.00,9,  -999.00,9,     0.00,2,     0.01,2,   -999.0,-999.0000, -999,9,  202,  17.2483,  25.2890,   -999.0,9
       RF06-01,  165E,RF-2571,  1,     13,02-18567,2,20060122,1946, 28.0108, 164.9985, 5724,    253.9,  16.4011,  34.7090,2,   -999.0,9,-999.0000,9,    206.6,2,     6.72,2,  -999.00,9,  -999.00,4,  -999.00,4,  -999.00,4, -999.000,9, -999.000,9,  -999.00,9,   2039.7,3,   -999.0,9,-999.0000,9,   -999.0,  9,  -999.00,9,   -999.0,  -999.00,9,  -999.00,9,  -999.00,9,  -999.00,9,   -999.0,-999.0000, -999,9,  252,  16.3602,  25.4409,   -999.0,9
       RF06-01,  165E,RF-2571,  1,     12,02-18566,2,20060122,1944, 28.0108, 164.9985, 5724,    303.6,  15.3259,  34.6205,2,   -999.0,9,  34.6181,2,    203.4,2,     9.37,2,  -999.00,9,  -999.00,4,  -999.00,4,  -999.00,4, -999.000,9, -999.000,9,  -999.00,9,   2044.6,3,   -999.0,9,-999.0000,9,   -999.0,  9,  -999.00,9,   -999.0,  -999.00,9,  -999.00,9,  -999.00,9,  -999.00,9,   -999.0,-999.0000, -999,9,  301,  15.2792,  25.6178,   -999.0,9
       RF06-01,  165E,RF-2571,  1,     11,02-18565,2,20060122,1942, 28.0108, 164.9985, 5724,    403.7,  13.1342,  34.4595,2,   -999.0,9,  34.4592,2,    203.5,2,    15.22,2,  -999.00,9,  -999.00,4,  -999.00,4,  -999.00,4, -999.000,9, -999.000,9,  -999.00,9,   -999.0,9,   -999.0,9,-999.0000,9,   -999.0,  9,  -999.00,9,   -999.0,  -999.00,9,  -999.00,9,  -999.00,9,  -999.00,9,   -999.0,-999.0000, -999,9,  401,  13.0782,  25.9585,   -999.0,9
       RF06-01,  165E,RF-2571,  1,     10,02-18564,2,20060122,1940, 28.0108, 164.9985, 5724,    505.4,  10.5007,  34.2468,2,   -999.0,9,-999.0000,9,    203.9,2,    23.82,2,  -999.00,9,  -999.00,4,  -999.00,4,  -999.00,4, -999.000,9, -999.000,9,  -999.00,9,   2108.1,3,   -999.0,9,-999.0000,9,   -999.0,  9,  -999.00,9,   -999.0,  -999.00,9,  -999.00,9,  -999.00,9,  -999.00,9,   -999.0,-999.0000, -999,9,  501,  10.4399,  26.2881,   -999.0,9
       RF06-01,  165E,RF-2571,  1,      9,02-18563,2,20060122,1938, 28.0108, 164.9985, 5724,    606.3,   7.8449,  34.0571,2,   -999.0,9,  34.0600,2,    176.3,2,    40.03,2,  -999.00,9,  -999.00,4,  -999.00,4,  -999.00,4, -999.000,9, -999.000,9,  -999.00,9,   2149.0,3,   -999.0,9,-999.0000,9,   -999.0,  9,  -999.00,9,   -999.0,  -999.00,9,  -999.00,9,  -999.00,9,  -999.00,9,   -999.0,-999.0000, -999,9,  601,   7.7835,  26.5651,   -999.0,9
       RF06-01,  165E,RF-2571,  1,      8,02-18562,2,20060122,1936, 28.0108, 164.9985, 5724,    709.8,   5.5356,  34.0133,2,   -999.0,9,-999.0000,9,    126.8,2,    68.23,2,  -999.00,9,  -999.00,4,  -999.00,4,  -999.00,4, -999.000,9, -999.000,9,  -999.00,9,   2227.3,3,   -999.0,9,-999.0000,9,   -999.0,  9,  -999.00,9,   -999.0,  -999.00,9,  -999.00,9,  -999.00,9,  -999.00,9,   -999.0,-999.0000, -999,9,  704,   5.4756,  26.8373,   -999.0,9
       RF06-01,  165E,RF-2571,  1,      7,02-18561,2,20060122,1934, 28.0108, 164.9985, 5724,    807.4,   4.6529,  34.1246,2,   -999.0,9,  34.1242,2,     73.3,2,    91.76,2,  -999.00,9,  -999.00,4,  -999.00,4,  -999.00,4, -999.000,9, -999.000,9,  -999.00,9,   2252.2,3,   -999.0,9,-999.0000,9,   -999.0,  9,  -999.00,9,   -999.0,  -999.00,9,  -999.00,9,  -999.00,9,  -999.00,9,   -999.0,-999.0000, -999,9,  801,   4.5894,  27.0272,   -999.0,9
       RF06-01,  165E,RF-2571,  1,      6,02-18560,2,20060122,1932, 28.0108, 164.9985, 5724,    908.4,   4.1147,  34.2173,2,   -999.0,9,-999.0000,9,     52.7,2,   107.34,2,  -999.00,9,  -999.00,4,  -999.00,4,  -999.00,4, -999.000,9, -999.000,9,  -999.00,9,   2308.0,3,   -999.0,9,-999.0000,9,   -999.0,  9,  -999.00,9,   -999.0,  -999.00,9,  -999.00,9,  -999.00,9,  -999.00,9,   -999.0,-999.0000, -999,9,  900,   4.0462,  27.1588,   -999.0,9
       RF06-01,  165E,RF-2571,  1,      5,02-18559,2,20060122,1930, 28.0108, 164.9985, 5724,   1011.4,   3.5677,  34.3117,2,   -999.0,9,  34.3117,2,     41.1,2,   123.16,2,  -999.00,9,  -999.00,4,  -999.00,4,  -999.00,4, -999.000,9, -999.000,9,  -999.00,9,   2335.3,3,   -999.0,9,-999.0000,9,   -999.0,  9,  -999.00,9,   -999.0,  -999.00,9,  -999.00,9,  -999.00,9,  -999.00,9,   -999.0,-999.0000, -999,9, 1002,   3.4948,  27.2892,   -999.0,9
       RF06-01,  165E,RF-2571,  1,      4,02-18558,2,20060122,1926, 28.0108, 164.9985, 5724,   1263.4,   2.8782,  34.4466,2,   -999.0,9,  34.4468,2,     35.5,2,   141.96,2,  -999.00,9,  -999.00,4,  -999.00,4,  -999.00,4, -999.000,9, -999.000,9,  -999.00,9,   2363.6,3,   -999.0,9,-999.0000,9,   -999.0,  9,  -999.00,9,   -999.0,  -999.00,9,  -999.00,9,  -999.00,9,  -999.00,9,   -999.0,-999.0000, -999,9, 1251,   2.7911,  27.4621,   -999.0,9
       RF06-01,  165E,RF-2571,  1,      3,02-18557,2,20060122,1922, 28.0108, 164.9985, 5724,   1516.9,   2.4158,  34.5240,2,   -999.0,9,  34.5237,2,     46.4,2,   152.84,2,  -999.00,9,  -999.00,4,  -999.00,4,  -999.00,4, -999.000,9, -999.000,9,  -999.00,9,   2363.3,3,   -999.0,9,-999.0000,9,   -999.0,  9,  -999.00,9,   -999.0,  -999.00,9,  -999.00,9,  -999.00,9,  -999.00,9,   -999.0,-999.0000, -999,9, 1501,   2.3135,  27.5649,   -999.0,9
       RF06-01,  165E,RF-2571,  1,      2,02-18556,2,20060122,1918, 28.0108, 164.9985, 5724,   1771.5,   2.1592,  34.5826,2,   -999.0,9,  34.5818,2,     74.7,2,   151.78,2,  -999.00,9,  -999.00,4,  -999.00,4,  -999.00,4, -999.000,9, -999.000,9,  -999.00,9,   2355.7,3,   -999.0,9,-999.0000,9,   -999.0,  9,  -999.00,9,   -999.0,  -999.00,9,  -999.00,9,  -999.00,9,  -999.00,9,   -999.0,-999.0000, -999,9, 1752,   2.0395,  27.6341,   -999.0,9
       RF06-01,  165E,RF-2571,  1,      1,02-18555,2,20060122,1913, 28.0108, 164.9985, 5724,   2025.2,   1.9332,  34.6153,2,   -999.0,9,  34.6152,2,     95.4,2,   152.63,2,  -999.00,9,  -999.00,4,  -999.00,4,  -999.00,4, -999.000,9, -999.000,9,  -999.00,9,   2347.2,3,   -999.0,9,-999.0000,9,   -999.0,  9,  -999.00,9,   -999.0,  -999.00,9,  -999.00,9,  -999.00,9,  -999.00,9,   -999.0,-999.0000, -999,9, 2002,   1.7957,  27.6793,   -999.0,9