BOTTLE,20131214MIRCJHATS
EXPOCODE,SECT_ID,STNNBR,CASTNO,SAMPNO,BTLNBR,BTLNBR_FLAG_W,DATE,TIME,LATITUDE,LONGITUDE,DEPTH,CTDPRS,CTDTMP,CTDSAL,CTDSAL_FLAG_W,CTDOXY,CTDOXY_FLAG_W,SALNTY,SALNTY_FLAG_W,OXYGEN,OXYGEN_FLAG_W,SILCAT,SILCAT_FLAG_W,NITRAT,NITRAT_FLAG_W,NO2+NO3,NO2+NO3_FLAG_W,NITRIT,NITRIT_FLAG_W,PHSPHT,PHSPHT_FLAG_W,CFC-11,CFC-11_FLAG_W,CFC-12,CFC-12_FLAG_W,DELC13,DELC13_FLAG_W,TCARBN,TCARBN_FLAG_W,ALKALI,ALKALI_FLAG_W,PH,PH_FLAG_W,PH_TMP,PH_SCALE,PH_NBS,PH_NBS_FLAG_W,C13ERR,TOTALP,TOTALP_FLAG_W,AMMONI,AMMONI_FLAG_W,CHLORA,CHLORA_FLAG_W,PPHYTN,PPHYTN_FLAG_W,REVPRS,REVTMP,DEPTH_,DEPTH_FLAG,CTDDEP,THETA,SIGTHT,DOC,DOC_FLAG_W
,,,,,,,GMT,GMT,,,METER,DBAR,ITS-90,PSS-78,,UMOL/KG,,PSS-78,,UMOL/KG,,UMOL/KG,,UMOL/KG,,UMOL/KG,,UMOL/KG,,UMOL/KG,,PMOL/KG,,PMOL/KG,,/MILLE,,UMOL/KG,,UMOL/KG,,25_DEG_C,,DEG_C,,,,/MILLE,UMOL/KG,,UMOL/KG,,UG/L,,UG/L,,DBAR,ITS-90,METERS,,METERS,DEG_C,,UMOL/L,
       RF06-01,  165E,RF-2576,  1,     -9,      -9,5,20060124,0252, 23.0015, 165.0033, 5839,      0.0,  26.4506,  35.1292,2,   -999.0,9,-999.0000,9,    201.7,2,     1.44,2,  -999.00,9,  -999.00,4,  -999.00,4,  -999.00,4, -999.000,9, -999.000,9,  -999.00,9,   1954.9,2,   -999.0,9,-999.0000,9,   -999.0,  9,  -999.00,9,   -999.0,  -999.00,9,  -999.00,9,     0.05,2,     0.01,2,   -999.0,-999.0000, -999,9,    0,  26.4504,  22.9895,   -999.0,9
       RF06-01,  165E,RF-2576,  1,     21,02-18575,2,20060124,0310, 23.0015, 165.0033, 5839,      9.7,  26.2978,  35.1290,2,   -999.0,9,  35.1471,4,    207.0,2,     1.44,2,  -999.00,9,  -999.00,4,  -999.00,4,  -999.00,4, -999.000,9, -999.000,9,  -999.00,9,   -999.0,9,   -999.0,9,-999.0000,9,   -999.0,  9,  -999.00,9,   -999.0,  -999.00,9,  -999.00,9,     0.05,2,     0.01,2,   -999.0,-999.0000, -999,9,   10,  26.2956,  23.0381,   -999.0,9
       RF06-01,  165E,RF-2576,  1,     20,02-18574,2,20060124,0309, 23.0015, 165.0033, 5839,     25.6,  25.9069,  35.2332,2,   -999.0,9,-999.0000,9,    203.8,2,     1.50,2,  -999.00,9,  -999.00,4,  -999.00,4,  -999.00,4, -999.000,9, -999.000,9,  -999.00,9,   -999.0,9,   -999.0,9,-999.0000,9,   -999.0,  9,  -999.00,9,   -999.0,  -999.00,9,  -999.00,9,     0.06,2,     0.01,2,   -999.0,-999.0000, -999,9,   25,  25.9012,  23.2401,   -999.0,9
       RF06-01,  165E,RF-2576,  1,     19,02-18573,2,20060124,0308, 23.0015, 165.0033, 5839,     50.9,  25.8642,  35.2508,2,   -999.0,9,-999.0000,9,    206.5,2,     1.47,2,  -999.00,9,  -999.00,4,  -999.00,4,  -999.00,4, -999.000,9, -999.000,9,  -999.00,9,   -999.0,9,   -999.0,9,-999.0000,9,   -999.0,  9,  -999.00,9,   -999.0,  -999.00,9,  -999.00,9,     0.06,2,     0.02,2,   -999.0,-999.0000, -999,9,   51,  25.8529,  23.2684,   -999.0,9
       RF06-01,  165E,RF-2576,  1,     18,02-18572,2,20060124,0306, 23.0015, 165.0033, 5839,     75.4,  25.7989,  35.2578,2,   -999.0,9,-999.0000,9,    204.5,2,     1.45,2,  -999.00,9,  -999.00,4,  -999.00,4,  -999.00,4, -999.000,9, -999.000,9,  -999.00,9,   -999.0,9,   -999.0,9,-999.0000,9,   -999.0,  9,  -999.00,9,   -999.0,  -999.00,9,  -999.00,9,     0.09,2,     0.02,2,   -999.0,-999.0000, -999,9,   75,  25.7822,  23.2956,   -999.0,9
       RF06-01,  165E,RF-2576,  1,     17,02-18571,2,20060124,0305, 23.0015, 165.0033, 5839,    100.0,  23.6376,  35.1871,2,   -999.0,9,  35.1891,2,    221.4,2,     1.78,2,  -999.00,9,  -999.00,4,  -999.00,4,  -999.00,4, -999.000,9, -999.000,9,  -999.00,9,   -999.0,9,   -999.0,9,-999.0000,9,   -999.0,  9,  -999.00,9,   -999.0,  -999.00,9,  -999.00,9,     0.17,2,     0.09,2,   -999.0,-999.0000, -999,9,   99,  23.6168,  23.8961,   -999.0,9
       RF06-01,  165E,RF-2576,  1,     16,02-18570,2,20060124,0304, 23.0015, 165.0033, 5839,    126.5,  21.3988,  35.0958,2,   -999.0,9,-999.0000,9,    208.4,2,     2.23,2,  -999.00,9,  -999.00,4,  -999.00,4,  -999.00,4, -999.000,9, -999.000,9,  -999.00,9,   -999.0,9,   -999.0,9,-999.0000,9,   -999.0,  9,  -999.00,9,   -999.0,  -999.00,9,  -999.00,9,     0.16,2,     0.26,2,   -999.0,-999.0000, -999,9,  126,  21.3743,  24.4644,   -999.0,9
       RF06-01,  165E,RF-2576,  1,     15,02-18569,2,20060124,0303, 23.0015, 165.0033, 5839,    150.7,  19.6350,  34.9681,2,   -999.0,9,-999.0000,9,    190.4,2,     3.14,2,  -999.00,9,  -999.00,4,  -999.00,4,  -999.00,4, -999.000,9, -999.000,9,  -999.00,9,   -999.0,9,   -999.0,9,-999.0000,9,   -999.0,  9,  -999.00,9,   -999.0,  -999.00,9,  -999.00,9,     0.09,2,     0.19,2,   -999.0,-999.0000, -999,9,  150,  19.6075,  24.8402,   -999.0,9
       RF06-01,  165E,RF-2576,  1,     14,02-18568,2,20060124,0301, 23.0015, 165.0033, 5839,    200.4,  17.5216,  34.7990,2,   -999.0,9,  34.8005,2,    194.3,2,     4.26,2,  -999.00,9,  -999.00,4,  -999.00,4,  -999.00,4, -999.000,9, -999.000,9,  -999.00,9,   -999.0,9,   -999.0,9,-999.0000,9,   -999.0,  9,  -999.00,9,   -999.0,  -999.00,9,  -999.00,9,     0.01,2,     0.04,2,   -999.0,-999.0000, -999,9,  199,  17.4879,  25.2430,   -999.0,9
       RF06-01,  165E,RF-2576,  1,     13,02-18567,2,20060124,0259, 23.0015, 165.0033, 5839,    250.9,  16.7178,  34.7392,2,   -999.0,9,-999.0000,9,    210.1,2,     5.18,2,  -999.00,9,  -999.00,4,  -999.00,4,  -999.00,4, -999.000,9, -999.000,9,  -999.00,9,   -999.0,9,   -999.0,9,-999.0000,9,   -999.0,  9,  -999.00,9,   -999.0,  -999.00,9,  -999.00,9,  -999.00,9,  -999.00,9,   -999.0,-999.0000, -999,9,  249,  16.6769,  25.3903,   -999.0,9
       RF06-01,  165E,RF-2576,  1,     12,02-18566,2,20060124,0257, 23.0015, 165.0033, 5839,    301.2,  14.7640,  34.5595,2,   -999.0,9,  34.5624,2,    205.1,2,     8.61,2,  -999.00,9,  -999.00,4,  -999.00,4,  -999.00,4, -999.000,9, -999.000,9,  -999.00,9,   -999.0,9,   -999.0,9,-999.0000,9,   -999.0,  9,  -999.00,9,   -999.0,  -999.00,9,  -999.00,9,  -999.00,9,  -999.00,9,   -999.0,-999.0000, -999,9,  299,  14.7189,  25.6935,   -999.0,9
       RF06-01,  165E,RF-2576,  1,     11,02-18565,2,20060124,0255, 23.0015, 165.0033, 5839,    403.3,  11.9397,  34.3234,2,   -999.0,9,  34.3210,2,    187.3,2,    16.29,2,  -999.00,9,  -999.00,4,  -999.00,4,  -999.00,4, -999.000,9, -999.000,9,  -999.00,9,   -999.0,9,   -999.0,9,-999.0000,9,   -999.0,  9,  -999.00,9,   -999.0,  -999.00,9,  -999.00,9,  -999.00,9,  -999.00,9,   -999.0,-999.0000, -999,9,  400,  11.8872,  26.0849,   -999.0,9
       RF06-01,  165E,RF-2576,  1,     10,02-18564,2,20060124,0252, 23.0015, 165.0033, 5839,    503.4,   9.4452,  34.1584,2,   -999.0,9,-999.0000,9,    181.0,2,    28.79,2,  -999.00,9,  -999.00,4,  -999.00,4,  -999.00,4, -999.000,9, -999.000,9,  -999.00,9,   -999.0,9,   -999.0,9,-999.0000,9,   -999.0,  9,  -999.00,9,   -999.0,  -999.00,9,  -999.00,9,  -999.00,9,  -999.00,9,   -999.0,-999.0000, -999,9,  500,   9.3885,  26.3965,   -999.0,9
       RF06-01,  165E,RF-2576,  1,      9,02-18563,2,20060124,0249, 23.0015, 165.0033, 5839,    603.8,   6.9825,  34.0985,2,   -999.0,9,  34.0975,2,    117.3,2,    53.42,2,  -999.00,9,  -999.00,4,  -999.00,4,  -999.00,4, -999.000,9, -999.000,9,  -999.00,9,   -999.0,9,   -999.0,9,-999.0000,9,   -999.0,  9,  -999.00,9,   -999.0,  -999.00,9,  -999.00,9,  -999.00,9,  -999.00,9,   -999.0,-999.0000, -999,9,  599,   6.9252,  26.7188,   -999.0,9
       RF06-01,  165E,RF-2576,  1,      8,02-18562,2,20060124,0247, 23.0015, 165.0033, 5839,    706.8,   5.4738,  34.1336,2,   -999.0,9,-999.0000,9,     73.0,2,    77.58,2,  -999.00,9,  -999.00,4,  -999.00,4,  -999.00,4, -999.000,9, -999.000,9,  -999.00,9,   -999.0,9,   -999.0,9,-999.0000,9,   -999.0,  9,  -999.00,9,   -999.0,  -999.00,9,  -999.00,9,  -999.00,9,  -999.00,9,   -999.0,-999.0000, -999,9,  701,   5.4143,  26.9399,   -999.0,9
       RF06-01,  165E,RF-2576,  1,      7,02-18561,2,20060124,0244, 23.0015, 165.0033, 5839,    808.1,   4.6376,  34.1980,2,   -999.0,9,  34.2028,2,     50.1,2,    95.37,2,  -999.00,9,  -999.00,4,  -999.00,4,  -999.00,4, -999.000,9, -999.000,9,  -999.00,9,   -999.0,9,   -999.0,9,-999.0000,9,   -999.0,  9,  -999.00,9,   -999.0,  -999.00,9,  -999.00,9,  -999.00,9,  -999.00,9,   -999.0,-999.0000, -999,9,  801,   4.5741,  27.0872,   -999.0,9
       RF06-01,  165E,RF-2576,  1,      6,02-18560,2,20060124,0241, 23.0015, 165.0033, 5839,    907.9,   4.0958,  34.2998,2,   -999.0,9,-999.0000,9,     39.0,2,   108.95,2,  -999.00,9,  -999.00,4,  -999.00,4,  -999.00,4, -999.000,9, -999.000,9,  -999.00,9,   -999.0,9,   -999.0,9,-999.0000,9,   -999.0,  9,  -999.00,9,   -999.0,  -999.00,9,  -999.00,9,  -999.00,9,  -999.00,9,   -999.0,-999.0000, -999,9,  900,   4.0274,  27.2263,   -999.0,9
       RF06-01,  165E,RF-2576,  1,      5,02-18559,2,20060124,0239, 23.0015, 165.0033, 5839,   1009.8,   3.6592,  34.3937,2,   -999.0,9,  34.3933,2,     39.6,2,   119.70,2,  -999.00,9,  -999.00,4,  -999.00,4,  -999.00,4, -999.000,9, -999.000,9,  -999.00,9,   -999.0,9,   -999.0,9,-999.0000,9,   -999.0,  9,  -999.00,9,   -999.0,  -999.00,9,  -999.00,9,  -999.00,9,  -999.00,9,   -999.0,-999.0000, -999,9, 1001,   3.5856,  27.3457,   -999.0,9
       RF06-01,  165E,RF-2576,  1,      4,02-18558,2,20060124,0234, 23.0015, 165.0033, 5839,   1261.3,   3.0827,  34.5223,2,   -999.0,9,  34.5223,2,     72.0,2,   128.33,2,  -999.00,9,  -999.00,4,  -999.00,4,  -999.00,4, -999.000,9, -999.000,9,  -999.00,9,   -999.0,9,   -999.0,9,-999.0000,9,   -999.0,  9,  -999.00,9,   -999.0,  -999.00,9,  -999.00,9,  -999.00,9,  -999.00,9,   -999.0,-999.0000, -999,9, 1250,   2.9936,  27.5043,   -999.0,9
       RF06-01,  165E,RF-2576,  1,      3,02-18557,2,20060124,0229, 23.0015, 165.0033, 5839,   1515.7,   2.5717,  34.5641,2,   -999.0,9,  34.5639,2,     83.2,2,   138.07,2,  -999.00,9,  -999.00,4,  -999.00,4,  -999.00,4, -999.000,9, -999.000,9,  -999.00,9,   -999.0,9,   -999.0,9,-999.0000,9,   -999.0,  9,  -999.00,9,   -999.0,  -999.00,9,  -999.00,9,  -999.00,9,  -999.00,9,   -999.0,-999.0000, -999,9, 1501,   2.4676,  27.5842,   -999.0,9
       RF06-01,  165E,RF-2576,  1,      2,02-18556,2,20060124,0223, 23.0015, 165.0033, 5839,   1770.4,   2.2272,  34.5998,2,   -999.0,9,  34.6006,2,     92.6,2,   143.53,2,  -999.00,9,  -999.00,4,  -999.00,4,  -999.00,4, -999.000,9, -999.000,9,  -999.00,9,   -999.0,9,   -999.0,9,-999.0000,9,   -999.0,  9,  -999.00,9,   -999.0,  -999.00,9,  -999.00,9,  -999.00,9,  -999.00,9,   -999.0,-999.0000, -999,9, 1752,   2.1066,  27.6426,   -999.0,9
       RF06-01,  165E,RF-2576,  1,      1,02-18555,2,20060124,0218, 23.0015, 165.0033, 5839,   2021.9,   1.9850,  34.6253,2,   -999.0,9,  34.6257,2,    105.9,2,   146.43,2,  -999.00,9,  -999.00,4,  -999.00,4,  -999.00,4, -999.000,9, -999.000,9,  -999.00,9,   -999.0,9,   -999.0,9,-999.0000,9,   -999.0,  9,  -999.00,9,   -999.0,  -999.00,9,  -999.00,9,  -999.00,9,  -999.00,9,   -999.0,-999.0000, -999,9, 1999,   1.8470,  27.6834,   -999.0,9