BOTTLE,20131214MIRCJHATS
EXPOCODE,SECT_ID,STNNBR,CASTNO,SAMPNO,BTLNBR,BTLNBR_FLAG_W,DATE,TIME,LATITUDE,LONGITUDE,DEPTH,CTDPRS,CTDTMP,CTDSAL,CTDSAL_FLAG_W,CTDOXY,CTDOXY_FLAG_W,SALNTY,SALNTY_FLAG_W,OXYGEN,OXYGEN_FLAG_W,SILCAT,SILCAT_FLAG_W,NITRAT,NITRAT_FLAG_W,NO2+NO3,NO2+NO3_FLAG_W,NITRIT,NITRIT_FLAG_W,PHSPHT,PHSPHT_FLAG_W,CFC-11,CFC-11_FLAG_W,CFC-12,CFC-12_FLAG_W,DELC13,DELC13_FLAG_W,TCARBN,TCARBN_FLAG_W,ALKALI,ALKALI_FLAG_W,PH,PH_FLAG_W,PH_TMP,PH_SCALE,PH_NBS,PH_NBS_FLAG_W,C13ERR,TOTALP,TOTALP_FLAG_W,AMMONI,AMMONI_FLAG_W,CHLORA,CHLORA_FLAG_W,PPHYTN,PPHYTN_FLAG_W,REVPRS,REVTMP,DEPTH,DEPTH_FLAG,CTDDEP,THETA,SIGTHT,DOC,DOC_FLAG_W
,,,,,,,GMT,GMT,,,METERS,DBAR,ITS-90,PSS-78,,UMOL/KG,,PSS-78,,UMOL/KG,,UMOL/KG,,UMOL/KG,,UMOL/KG,,UMOL/KG, ,UMOL/KG,,PMOL/KG,,PMOL/KG,,/MILLE,,UMOL/KG,,UMOL/KG,,25_DEG_C,,DEG_C,,,,/MILLE,UMOL/KG,,UMOL/KG,,UG/L,,UG/L,,DBAR,ITS-90,METERS,,METERS,DEG_C,,UMOL/L
RF06-06-1,165E,RF-2699,1,-9,-9,5,20060618,1741,35.994,164.9517,5633,0,17.1064,34.476,2,-999,9,-999,9,248.2,2,3.17,2,-999,9,0.05,2,0,2,0.06,2,-999,9,-999,9,-999,9,2000.1,3,2257.1,3,-999,9,   -999.0,  9,-999,9,-999,-999,9,-999,9,-999,9,-999,9,-999,-999,-999,9,0,17.1063,25.0868,-999,9
RF06-06-1,165E,RF-2699,1,24,02-18578,2,20060618,1809,35.994,164.9517,5633,12.1,17.1079,34.4752,2,-999,9,-999,9,-999,9,-999,9,-999,9,-999,9,-999,9,-999,9,-999,9,-999,9,-999,9,-999,9,-999,9,-999,9,   -999.0,  9,-999,9,-999,-999,9,-999,9,-999,9,-999,9,-999,-999,-999,9,12,17.1059,25.0863,-999,9
RF06-06-1,165E,RF-2699,1,21,02-18575,2,20060618,1808,35.994,164.9517,5633,12.3,17.1076,34.4751,2,-999,9,-999,9,247.6,2,3.17,2,-999,9,0.02,2,0,2,0.06,2,-999,9,-999,9,-999,9,1998.7,2,2264.4,3,-999,9,   -999.0,  9,-999,9,-999,-999,9,-999,9,-999,9,-999,9,-999,-999,-999,9,12,17.1056,25.0863,-999,9
RF06-06-1,165E,RF-2699,1,20,02-18574,2,20060618,1807,35.994,164.9517,5633,25.1,17.0747,34.4801,2,-999,9,-999,9,246.9,2,3.37,2,-999,9,0.38,2,0.03,2,0.08,2,-999,9,-999,9,-999,9,2004.5,2,2252.8,3,-999,9,   -999.0,  9,-999,9,-999,-999,9,-999,9,-999,9,-999,9,-999,-999,-999,9,25,17.0706,25.0985,-999,9
RF06-06-1,165E,RF-2699,1,19,02-18573,2,20060618,1806,35.994,164.9517,5633,50.4,15.5335,34.5996,2,-999,9,-999,9,230.1,2,6.36,2,-999,9,5.27,2,0.06,2,0.32,2,-999,9,-999,9,-999,9,2032.6,2,2261.6,3,-999,9,   -999.0,  9,-999,9,-999,-999,9,-999,9,-999,9,-999,9,-999,-999,-999,9,50,15.5257,25.5468,-999,9
RF06-06-1,165E,RF-2699,1,18,02-18572,2,20060618,1804,35.994,164.9517,5633,75.2,14.7157,34.5532,2,-999,9,-999,9,228.8,2,8.08,2,-999,9,6.85,2,0.02,2,0.42,2,-999,9,-999,9,-999,9,2043.1,2,2235.5,3,-999,9,   -999.0,  9,-999,9,-999,-999,9,-999,9,-999,9,-999,9,-999,-999,-999,9,75,14.7045,25.6918,-999,9
RF06-06-1,165E,RF-2699,1,17,02-18571,2,20060618,1803,35.994,164.9517,5633,102.5,14.1728,34.5092,2,-999,9,-999,9,235.9,2,8.9,2,-999,9,7.15,2,0.01,2,0.44,2,-999,9,-999,9,-999,9,2053.2,2,2265.3,3,-999,9,   -999.0,  9,-999,9,-999,-999,9,-999,9,-999,9,-999,9,-999,-999,-999,9,102,14.158,25.7746,-999,9
RF06-06-1,165E,RF-2699,1,16,02-18570,2,20060618,1801,35.994,164.9517,5633,128.6,13.6967,34.5006,2,-999,9,-999,9,230.3,2,10.03,2,-999,9,8.23,2,0.01,2,0.51,2,-999,9,-999,9,-999,9,2051.5,3,2268.7,3,-999,9,   -999.0,  9,-999,9,-999,-999,9,-999,9,-999,9,-999,9,-999,-999,-999,9,128,13.6785,25.868,-999,9
RF06-06-1,165E,RF-2699,1,15,02-18569,2,20060618,1750,35.994,164.9517,5633,151.1,13.2479,34.465,2,-999,9,-999,9,220.4,2,12.79,2,-999,9,10.22,2,0.01,2,0.64,2,-999,9,-999,9,-999,9,2068.1,2,2274.5,3,-999,9,   -999.0,  9,-999,9,-999,-999,9,-999,9,-999,9,-999,9,-999,-999,-999,9,150,13.227,25.9327,-999,9
RF06-06-1,165E,RF-2699,1,14,02-18568,2,20060618,1748,35.994,164.9517,5633,202.4,12.1718,34.4217,2,-999,9,-999,9,226.1,2,16.05,2,-999,9,11.46,2,0,2,0.74,2,-999,9,-999,9,-999,9,2082.5,2,2276.8,3,-999,9,   -999.0,  9,-999,9,-999,-999,9,-999,9,-999,9,-999,9,-999,-999,-999,9,201,12.1453,26.1121,-999,9
RF06-06-1,165E,RF-2699,1,13,02-18567,2,20060618,1746,35.994,164.9517,5633,253.7,10.8871,34.3065,2,-999,9,-999,9,204.1,2,22.77,2,-999,9,15.39,2,0,2,1,2,-999,9,-999,9,-999,9,2102.1,2,2265.7,3,-999,9,   -999.0,  9,-999,9,-999,-999,9,-999,9,-999,9,-999,9,-999,-999,-999,9,252,10.8562,26.2612,-999,9
RF06-06-1,165E,RF-2699,1,12,02-18348,2,20060618,1744,35.994,164.9517,5633,304.9,9.4605,34.1844,2,-999,9,-999,9,195.6,2,29.93,2,-999,9,18.59,2,0,2,1.26,2,-999,9,-999,9,-999,9,2125.6,2,2275.9,3,-999,9,   -999.0,  9,-999,9,-999,-999,9,-999,9,-999,9,-999,9,-999,-999,-999,9,302,9.4265,26.4106,-999,9
RF06-06-1,165E,RF-2699,1,11,02-18565,2,20060618,1741,35.994,164.9517,5633,407.3,6.5242,33.9728,2,-999,9,-999,9,173.5,2,49.4,2,-999,9,25.97,2,0,2,1.83,2,-999,9,-999,9,-999,9,2182.8,2,2281.9,3,-999,9,   -999.0,  9,-999,9,-999,-999,9,-999,9,-999,9,-999,9,-999,-999,-999,9,404,6.4876,26.6783,-999,9
RF06-06-1,165E,RF-2699,1,10,02-18564,2,20060618,1737,35.994,164.9517,5633,508.8,5.2592,33.997,2,-999,9,-999,9,128.2,2,70.73,2,-999,9,32.36,2,0,2,2.32,2,-999,9,-999,9,-999,9,2234.9,2,2297.2,3,-999,9,   -999.0,  9,-999,9,-999,-999,9,-999,9,-999,9,-999,9,-999,-999,-999,9,504,5.218,26.8549,-999,9
RF06-06-1,165E,RF-2699,1,9,02-18563,2,20060618,1734,35.994,164.9517,5633,607.8,4.4888,34.093,2,-999,9,-999,9,79.6,2,91.93,2,-999,9,37.22,2,0,2,2.69,2,-999,9,-999,9,-999,9,2285,2,2315.9,3,-999,9,   -999.0,  9,-999,9,-999,-999,9,-999,9,-999,9,-999,9,-999,-999,-999,9,602,4.4427,27.0181,-999,9
RF06-06-1,165E,RF-2699,1,8,02-18562,2,20060618,1730,35.994,164.9517,5633,711.4,4.1426,34.196,2,-999,9,-999,9,56.7,2,105.49,2,-999,9,39.35,2,0,2,2.84,2,-999,9,-999,9,-999,9,2300.5,2,2326.5,3,-999,9,   -999.0,  9,-999,9,-999,-999,9,-999,9,-999,9,-999,9,-999,-999,-999,9,705,4.0899,27.1373,-999,9
RF06-06-1,165E,RF-2699,1,7,02-18561,2,20060618,1727,35.994,164.9517,5633,809.5,3.8137,34.261,2,-999,9,-999,9,45.9,2,115.83,2,-999,9,40.51,2,0.07,2,2.93,2,-999,9,-999,9,-999,9,2331.1,2,2343.3,3,-999,9,   -999.0,  9,-999,9,-999,-999,9,-999,9,-999,9,-999,9,-999,-999,-999,9,802,3.7551,27.2231,-999,9
RF06-06-1,165E,RF-2699,1,6,02-18560,2,20060618,1723,35.994,164.9517,5633,912.1,3.3852,34.3369,2,-999,9,-999,9,38,2,128.05,2,-999,9,41.51,2,0,2,3.01,2,-999,9,-999,9,-999,9,2345.2,2,2354.2,3,-999,9,   -999.0,  9,-999,9,-999,-999,9,-999,9,-999,9,-999,9,-999,-999,-999,9,903,3.3214,27.3258,-999,9
RF06-06-1,165E,RF-2699,1,5,02-18559,2,20060618,1719,35.994,164.9517,5633,1013.9,3.1731,34.3728,2,-999,9,-999,9,35.4,2,134.04,2,-999,9,41.83,2,0,2,3.03,2,-999,9,-999,9,-999,9,2358.8,2,2364.8,3,-999,9,   -999.0,  9,-999,9,-999,-999,9,-999,9,-999,9,-999,9,-999,-999,-999,9,1004,3.103,27.375,-999,9
RF06-06-1,165E,RF-2699,1,4,02-18558,2,20060618,1713,35.994,164.9517,5633,1265,2.6779,34.4603,2,-999,9,-999,9,33.8,2,147.67,2,-999,9,42.44,2,0,2,3.07,2,-999,9,-999,9,-999,9,2372.4,2,2381.6,3,-999,9,   -999.0,  9,-999,9,-999,-999,9,-999,9,-999,9,-999,9,-999,-999,-999,9,1252, 2.5927,27.4904,-999,9
RF06-06-1,165E,RF-2699,1,3,02-18557,2,20060618,1707,35.994,164.9517,5633,1519.6,2.3274,34.5233,2,-999,9,-999,9,43.7,2,156.35,2,-999,9,42.07,2,0,2,3.03,2,-999,9,-999,9,-999,9,2389.4,2,2393.3,3,-999,9,   -999.0,  9,-999,9,-999,-999,9,-999,9,-999,9,-999,9,-999,-999,-999,9,1503,2.2259,27.5716,-999,9
RF06-06-1,165E,RF-2699,1,2,02-18556,2,20060618,1702,35.994,164.9517,5633,1772.4,2.0644,34.5674,2,-999,9,-999,9,57.4,2,161.12,2,-999,9,41.3,2,0,2,2.96,2,-999,9,-999,9,-999,9,2378.2,2,2397.6,3,-999,9,   -999.0,  9,-999,9,-999,-999,9,-999,9,-999,9,-999,9,-999,-999,-999,9,1752,1.946,27.6293,-999,9
RF06-06-1,165E,RF-2699,1,1,02-18555,2,20060618,1657,35.994,164.9517,5633,2026.9,1.878,34.6023,2,-999,9,-999,9,75.2,2,161.77,2,-999,9,40.29,2,0,2,2.86,2,-999,9,-999,9,-999,9,2367.8,2,2404.4,3,-999,9,   -999.0,  9,-999,9,-999,-999,9,-999,9,-999,9,-999,9,-999,-999,-999,9,2002,1.7413,27.6731,-999,9
RF06-06-1,165E,RF-2700,1,-9,-9,5,20060619,0020,34.986,165.0013,5868,0,16.4191,34.3113,2,-999,9,-999,9,252.3,2,4.02,2,-999,9,0.83,2,0.06,2,0.11,2,-999,9,-999,9,-999,9,1994.6,3,2264.3,3,-999,9,   -999.0,  9,-999,9,-999,-999,9,-999,9,0.64,2,0.23,2,-999,-999,-999,9,0,16.419,25.1217,-999,9
RF06-06-1,165E,RF-2700,1,21,02-18575,2,20060619,0035,34.986,165.0013,5868,10.1,16.3423,34.3176,2,-999,9,34.3195,2,252.3,2,4.01,2,-999,9,0.83,2,0.06,2,0.11,2,-999,9,-999,9,-999,9,2006.6,3,2262.5,3,-999,9,   -999.0,  9,-999,9,-999,-999,9,-999,9,0.71,2,0.22,2,-999,-999,-999,9,10,16.3407,25.1446,-999,9
RF06-06-1,165E,RF-2700,1,24,02-18578,2,20060619,0035,34.986,165.0013,5868,10.8,16.3352,34.3181,2,-999,9,-999,9,-999,9,-999,9,-999,9,-999,9,-999,9,-999,9,-999,9,-999,9,-999,9,-999,9,-999,9,-999,9,   -999.0,  9,-999,9,-999,-999,9,-999,9,-999,9,-999,9,-999,-999,-999,9,11,16.3335,25.1467,-999,9
RF06-06-1,165E,RF-2700,1,20,02-18574,2,20060619,0034,34.986,165.0013,5868,27.5,15.2744,34.4493,2,-999,9,-999,9,250.2,2,4.87,2,-999,9,1.97,2,0.11,2,0.18,2,-999,9,-999,9,-999,9,2017.2,3,2266.9,3,-999,9,   -999.0,  9,-999,9,-999,-999,9,-999,9,0.62,2,0.27,2,-999,-999,-999,9,27,15.2702,25.4879,-999,9
RF06-06-1,165E,RF-2700,1,19,02-18573,2,20060619,0033,34.986,165.0013,5868,51.3,14.7936,34.4459,2,-999,9,-999,9,250.7,2,5.21,2,-999,9,2.41,2,0.13,2,0.22,2,-999,9,-999,9,-999,9,2024.7,3,2353.5,3,-999,9,   -999.0,  9,-999,9,-999,-999,9,-999,9,0.53,2,0.19,2,-999,-999,-999,9,51,14.786,25.5913,-999,9
RF06-06-1,165E,RF-2700,1,18,02-18572,2,20060619,0032,34.986,165.0013,5868,76.2,14.5806,34.4706,2,-999,9,-999,9,236.2,2,7.05,2,-999,9,4.79,2,0.21,2,0.35,2,-999,9,-999,9,-999,9,2042.8,3,2279.3,3,-999,9,   -999.0,  9,-999,9,-999,-999,9,-999,9,0.18,2,0.08,2,-999,-999,-999,9,76,14.5694,25.6572,-999,9
RF06-06-1,165E,RF-2700,1,17,02-18571,2,20060619,0030,34.986,165.0013,5868,101.1,13.7929,34.5343,2,-999,9,34.5264,4,229,2,10.89,2,-999,9,8.59,2,0.06,2,0.53,2,-999,9,-999,9,-999,9,2061.1,3,2276.8,3,-999,9,   -999.0,  9,-999,9,-999,-999,9,-999,9,0.03,2,0.04,2,-999,-999,-999,9,100,13.7785,25.8733,-999,9
RF06-06-1,165E,RF-2700,1,16,02-18570,2,20060619,0029,34.986,165.0013,5868,127,13.1974,34.4968,2,-999,9,-999,9,229.7,2,12.38,2,-999,9,9.46,2,0.01,2,0.58,2,-999,9,-999,9,-999,9,2068.1,3,2260.1,3,-999,9,   -999.0,  9,-999,9,-999,-999,9,-999,9,0.02,2,0.03,2,-999,-999,-999,9,126,13.1799,25.9669,-999,9
RF06-06-1,165E,RF-2700,1,15,02-18569,2,20060619,0028,34.986,165.0013,5868,153.4,12.59,34.4355,2,-999,9,-999,9,221.4,2,14.8,2,-999,9,11.03,2,0.01,2,0.7,2,-999,9,-999,9,-999,9,2080.2,3,2266.6,3,-999,9,   -999.0,  9,-999,9,-999,-999,9,-999,9,0.01,2,0.03,2,-999,-999,-999,9,152,12.5695,26.0407,-999,9
RF06-06-1,165E,RF-2700,1,14,02-18568,2,20060619,0027,34.986,165.0013,5868,202.2,11.6771,34.3759,2,-999,9,34.3717,4,218.9,2,18.46,2,-999,9,12.91,2,0.01,2,0.84,2,-999,9,-999,9,-999,9,2091,3,2276.7,3,-999,9,   -999.0,  9,-999,9,-999,-999,9,-999,9,0.01,2,0.03,2,-999,-999,-999,9,201,11.6513,26.17,-999,9
RF06-06-1,165E,RF-2700,1,13,02-18567,2,20060619,0025,34.986,165.0013,5868,251.5,10.4358,34.261,2,-999,9,-999,9,207.2,2,24.07,2,-999,9,15.98,2,0.01,2,1.06,2,-999,9,-999,9,-999,9,2110.2,3,2268.4,3,-999,9,   -999.0,  9,-999,9,-999,-999,9,-999,9,0,2,0.04,2,-999,-999,-999,9,250,10.406,26.3051,-999,9
RF06-06-1,165E,RF-2700,1,12,02-18348,2,20060619,0024,34.986,165.0013,5868,303,8.6631,34.0531,2,-999,9,34.0513,2,230.5,2,26.87,2,-999,9,17.26,2,0.01,2,1.18,2,-999,9,-999,9,-999,9,2132,3,2264.6,3,-999,9,   -999.0,  9,-999,9,-999,-999,9,-999,9,0.01,2,0.04,2,-999,-999,-999,9,301,8.6312,26.4345,-999,9
RF06-06-1,165E,RF-2700,1,11,02-18565,2,20060619,0022,34.986,165.0013,5868,404,6.6495,33.9714,2,-999,9,33.9777,2,168.8,2,49.57,2,-999,9,26.26,2,0,2,1.84,2,-999,9,-999,9,-999,9,2192.3,3,2276.1,3,-999,9,   -999.0,  9,-999,9,-999,-999,9,-999,9,-999,9,-999,9,-999,-999,-999,9,401,6.6128,26.6607,-999,9
RF06-06-1,165E,RF-2700,1,10,02-18564,2,20060619,0020,34.986,165.0013,5868,505,5.1602,33.9924,2,-999,9,33.9939,2,119.2,2,72.88,2,-999,9,33.1,2,0,2,2.37,2,-999,9,-999,9,-999,9,2241.7,2,2298.6,3,-999,9,   -999.0,  9,-999,9,-999,-999,9,-999,9,-999,9,-999,9,-999,-999,-999,9,501,5.1197,26.8627,-999,9
RF06-06-1,165E,RF-2700,1,9,02-18563,2,20060619,0018,34.986,165.0013,5868,606.7,4.5746,34.0942,2,-999,9,34.0945,2,80.3,2,90.94,2,-999,9,37.05,2,0,2,2.67,2,-999,9,-999,9,-999,9,2283,2,2313.5,3,-999,9,   -999.0,  9,-999,9,-999,-999,9,-999,9,-999,9,-999,9,-999,-999,-999,9,601,4.5282,27.0098,-999,9
RF06-06-1,165E,RF-2700,1,8,02-18562,2,20060619,0015,34.986,165.0013,5868,705.7,4.166,34.1924,2,-999,9,34.1919,2,58.3,2,105.3,2,-999,9,39.22,2,0,2,2.83,2,-999,9,-999,9,-999,9,2312.9,2,2328.9,3,-999,9,   -999.0,  9,-999,9,-999,-999,9,-999,9,-999,9,-999,9,-999,-999,-999,9,699,4.1136,27.132,-999,9
RF06-06-1,165E,RF-2700,1,7,02-18561,2,20060619,0013,34.986,165.0013,5868,807.3,3.8004,34.2677,2,-999,9,34.2703,2,45.9,2,117.15,2,-999,9,40.58,2,0,2,2.93,2,-999,9,-999,9,-999,9,2334.4,2,2344,3,-999,9,   -999.0,  9,-999,9,-999,-999,9,-999,9,-999,9,-999,9,-999,-999,-999,9,800,3.7421,27.2298,-999,9
RF06-06-1,165E,RF-2700,1,6,02-18560,2,20060619,0011,34.986,165.0013,5868,907.5,3.4085,34.331,2,-999,9,34.3297,2,38.7,2,127.76,2,-999,9,41.55,2,0,2,3.01,2,-999,9,-999,9,-999,9,2350.4,2,2355.1,3,-999,9,   -999.0,  9,-999,9,-999,-999,9,-999,9,-999,9,-999,9,-999,-999,-999,9,899,3.3449,27.3189,-999,9
RF06-06-1,165E,RF-2700,1,5,02-18559,2,20060619,0008,34.986,165.0013,5868,1009.6,3.1277,34.3791,2,-999,9,34.3794,2,35.4,2,135.74,2,-999,9,42.08,2,0,2,3.04,2,-999,9,-999,9,-999,9,2366.6,2,2373.7,3,-999,9,   -999.0,  9,-999,9,-999,-999,9,-999,9,-999,9,-999,9,-999,-999,-999,9,1000,3.0583,27.3841,-999,9
RF06-06-1,165E,RF-2700,1,4,02-18558,2,20060619,0004,34.986,165.0013,5868,1262.9,2.6258,34.4654,2,-999,9,34.4638,2,37,2,149.27,2,-999,9,42.4,2,0,2,3.07,2,-999,9,-999,9,-999,9,2376.1,2,2390.9,3,-999,9,   -999.0,  9,-999,9,-999,-999,9,-999,9,-999,9,-999,9,-999,-999,-999,9,1250,2.5412,27.4989,-999,9
RF06-06-1,165E,RF-2700,1,3,02-18557,2,20060618,2358,34.986,165.0013,5868,1515.8,2.2926,34.5246,2,-999,9,34.5236,2,46.6,2,157.25,2,-999,9,41.93,2,0,2,3.02,2,-999,9,-999,9,-999,9,2376.7,2,2389.2,3,-999,9,   -999.0,  9,-999,9,-999,-999,9,-999,9,-999,9,-999,9,-999,-999,-999,9,1499,2.1918,27.5755,-999,9
RF06-06-1,165E,RF-2700,1,2,02-18556,2,20060618,2353,34.986,165.0013,5868,1770.5,2.0793,34.5659,2,-999,9,34.5658,2,62.7,2,160.77,2,-999,9,41.4,2,0,2,2.96,2,-999,9,-999,9,-999,9,2378.7,6,2406.2,3,-999,9,   -999.0,  9,-999,9,-999,-999,9,-999,9,-999,9,-999,9,-999,-999,-999,9,1750,1.9608,27.627,-999,9
RF06-06-1,165E,RF-2700,1,1,02-18555,2,20060618,2348,34.986,165.0013,5868,2024,1.868,34.6056,2,-999,9,34.6048,2,78.1,2,161.06,2,-999,9,40.3,2,0,2,2.86,2,-999,9,-999,9,-999,9,2377.8,2,2412,3,-999,9,   -999.0,  9,-999,9,-999,-999,9,-999,9,-999,9,-999,9,-999,-999,-999,9,2000, 1.7317,27.6764,-999,9