BOTTLE,20131214MIRCJHATS
EXPOCODE,SECT_ID,STNNBR,CASTNO,SAMPNO,BTLNBR,BTLNBR_FLAG_W,DATE,TIME,LATITUDE,LONGITUDE,DEPTH,CTDPRS,CTDTMP,CTDSAL,CTDSAL_FLAG_W,CTDOXY,CTDOXY_FLAG_W,SALNTY,SALNTY_FLAG_W,OXYGEN,OXYGEN_FLAG_W,SILCAT,SILCAT_FLAG_W,NITRAT,NITRAT_FLAG_W,NO2+NO3,NO2+NO3_FLAG_W,NITRIT,NITRIT_FLAG_W,PHSPHT,PHSPHT_FLAG_W,CFC-11,CFC-11_FLAG_W,CFC-12,CFC-12_FLAG_W,DELC13,DELC13_FLAG_W,TCARBN,TCARBN_FLAG_W,ALKALI,ALKALI_FLAG_W,PH,PH_FLAG_W,PH_TMP,PH_SCALE,PH_NBS,PH_NBS_FLAG_W,C13ERR,TOTALP,TOTALP_FLAG_W,AMMONI,AMMONI_FLAG_W,CHLORA,CHLORA_FLAG_W,PPHYTN,PPHYTN_FLAG_W,REVPRS,REVTMP,DEPTH,DEPTH_FLAG,CTDDEP,THETA,SIGTHT,DOC,DOC_FLAG_W
,,,,,,,GMT,GMT,,,METERS,DBAR,ITS-90,PSS-78,,UMOL/KG,,PSS-78,,UMOL/KG,,UMOL/KG,,UMOL/KG,,UMOL/KG,,UMOL/KG, ,UMOL/KG,,PMOL/KG,,PMOL/KG,,/MILLE,,UMOL/KG,,UMOL/KG,,25_DEG_C,,DEG_C,,,,/MILLE,UMOL/KG,,UMOL/KG,,UG/L,,UG/L,,DBAR,ITS-90,METERS,,METERS,DEG_C,,UMOL/L
RF06-06-1,165E,RF-2685,1,-9,-9,5,20060614,2350,49.9922,165.0123,5496,0,5.8572,32.9711,2,-999,9,-999,9,330.4,2,34.87,2,-999,9,20.81,2,0.23,2,1.66,2,-999,9,-999,9,-999,9,2077.2,3,2212.5,3,-999,9,   -999.0,  9,-999,9,-999,-999,9,-999,9,0.77,2,0.09,2,-999,-999,-999,9,0,5.8571,25.9671,-999,9
RF06-06-1,165E,RF-2685,1,24,02-18578,2,20060615,0010,49.9922,165.0123,5496,11.9,5.7234,32.9705,2,-999,9,32.9721,2,332.2,2,34.85,2,-999,9,20.81,2,0.23,2,1.66,2,-999,9,-999,9,-999,9,2075.5,3,2220.8,3,-999,9,   -999.0,  9,-999,9,-999,-999,9,-999,9,0.82,2,0.12,2,-999,-999,-999,9,12,5.7225,25.9829,-999,9
RF06-06-1,165E,RF-2685,1,23,02-18577,2,20060615,0009,49.9922,165.0123,5496,25.6,4.6114,32.9839,2,-999,9,-999,9,339.5,2,33.16,2,-999,9,21.42,2,0.24,2,1.7,2,-999,9,-999,9,-999,9,2083,3,2218.3,3,-999,9,   -999.0,  9,-999,9,-999,-999,9,-999,9,0.96,2,0.26,2,-999,-999,-999,9,25,4.6096,26.1197,-999,9
RF06-06-1,165E,RF-2685,1,22,02-18576,2,20060615,0007,49.9922,165.0123,5496,51.5,3.708,32.9699,2,-999,9,-999,9,329.4,2,32.27,2,-999,9,22.68,2,0.29,2,1.8,2,-999,9,-999,9,-999,9,2107.8,3,2225.9,3,-999,9,   -999.0,  9,-999,9,-999,-999,9,-999,9,0.5,2,0.3,2,-999,-999,-999,9,51,3.7047,26.2002,-999,9
RF06-06-1,165E,RF-2685,1,21,02-18575,2,20060615,0006,49.9922,165.0123,5496,76.9,3.5377,32.983,2,-999,9,-999,9,323.5,2,36.61,2,-999,9,23.54,2,0.3,2,1.85,2,-999,9,-999,9,-999,9,2106.8,3,2227.8,3,-999,9,   -999.0,  9,-999,9,-999,-999,9,-999,9,0.15,2,0.13,2,-999,-999,-999,9,76,3.5329,26.227,-999,9
RF06-06-1,165E,RF-2685,1,20,02-18574,2,20060615,0005,49.9922,165.0123,5496,101.8,2.946,33.0998,2,-999,9,33.1085,4,315.3,2,45.54,2,-999,9,25.84,2,0.33,2,1.98,2,-999,9,-999,9,-999,9,2126.5,3,2231.4,3,-999,9,   -999.0,  9,-999,9,-999,-999,9,-999,9,0.07,2,0.1,2,-999,-999,-999,9,101,2.9401,26.3735,-999,9
RF06-06-1,165E,RF-2685,1,19,02-18573,2,20060615,0004,49.9922,165.0123,5496,112.6,2.6681,33.1288,2,-999,9,-999,9,310,2,47.18,2,-999,9,26.58,2,0.32,2,2.02,2,-999,9,-999,9,-999,9,2134.3,3,2240.6,3,-999,9,   -999.0,  9,-999,9,-999,-999,9,-999,9,-999,9,-999,9,-999,-999,-999,9,112,2.6618,26.4204,-999,9
RF06-06-1,165E,RF-2685,1,18,02-18572,2,20060615,0002,49.9922,165.0123,5496,122.3,2.9677,33.2642,2,-999,9,-999,9,251,2,57.43,2,-999,9,30.54,2,0.03,2,2.26,2,-999,9,-999,9,-999,9,2173.9,3,2248.7,3,-999,9,   -999.0,  9,-999,9,-999,-999,9,-999,9,-999,9,-999,9,-999,-999,-999,9,121,2.9606,26.503,-999,9
RF06-06-1,165E,RF-2685,1,17,02-18571,2,20060615,0002,49.9922,165.0123,5496,126.7,2.9644,33.3033,2,-999,9,-999,9,229.9,2,60.34,2,-999,9,31.69,2,0.03,2,2.34,2,-999,9,-999,9,-999,9,2189.5,3,2248.7,3,-999,9,   -999.0,  9,-999,9,-999,-999,9,-999,9,0.04,2,0.08,2,-999,-999,-999,9,126,2.957,26.5346,-999,9
RF06-06-1,165E,RF-2685,1,16,02-18570,2,20060615,0001,49.9922,165.0123,5496,132.3,3.4299,33.4305,2,-999,9,-999,9,181.3,2,66.34,2,-999,9,34.33,2,0.01,2,2.5,2,-999,9,-999,9,-999,9,2215.9,3,2261.5,3,-999,9,   -999.0,  9,-999,9,-999,-999,9,-999,9,-999,9,-999,9,-999,-999,-999,9,131,3.4216,26.5939,-999,9
RF06-06-1,165E,RF-2685,1,15,02-18569,2,20060615,0000,49.9922,165.0123,5496,152.4,3.8402,33.7703,2,-999,9,-999,9,80.2,2,82.71,2,-999,9,40.65,2,0,2,2.93,2,-999,9,-999,9,-999,9,2285.7,3,2265.6,3,-999,9,   -999.0,  9,-999,9,-999,-999,9,-999,9,0.01,2,0.07,2,-999,-999,-999,9,151,3.83,26.825,-999,9
RF06-06-1,165E,RF-2685,1,14,02-18568,2,20060614,2358,49.9922,165.0123,5496,203.4,3.8777,33.9112,2,-999,9,33.922,4,29.2,2,95.44,2,-999,9,43.55,2,0,2,3.15,2,-999,9,-999,9,-999,9,2325.5,3,2251.5,3,-999,9,   -999.0,  9,-999,9,-999,-999,9,-999,9,0,2,0.05,2,-999,-999,-999,9,202,3.864,26.9338,-999,9
RF06-06-1,165E,RF-2685,1,13,02-18567,2,20060614,2353,49.9922,165.0123,5496,303.7,3.7576,34.0429,2,-999,9,34.0489,4,18.8,2,107.15,2,-999,9,43.79,2,0,2,3.17,2,-999,9,-999,9,-999,9,2344,3,2303.5,3,-999,9,   -999.0,  9,-999,9,-999,-999,9,-999,9,0,2,0.03,2,-999,-999,-999,9,301,3.7371,27.0513,-999,9
RF06-06-1,165E,RF-2685,1,12,02-18348,2,20060614,2351,49.9922,165.0123,5496,404.5,3.6346,34.1292,2,-999,9,34.1326,2,16.7,2,116.13,2,-999,9,43.58,2,0,2,3.16,2,-999,9,-999,9,-999,9,2358.7,2,2328.2,3,-999,9,   -999.0,  9,-999,9,-999,-999,9,-999,9,-999,9,-999,9,-999,-999,-999,9,401,3.6073,27.1328,-999,9
RF06-06-1,165E,RF-2685,1,11,02-18565,2,20060614,2348,49.9922,165.0123,5496,506.7,3.4446,34.2041,2,-999,9,34.2053,2,23.5,2,124.5,2,-999,9,43.45,2,0,2,3.15,2,-999,9,-999,9,-999,9,2362.7,2,2342.5,3,-999,9,   -999.0,  9,-999,9,-999,-999,9,-999,9,-999,9,-999,9,-999,-999,-999,9,502,3.4106,27.2115,-999,9
RF06-06-1,165E,RF-2685,1,10,02-18564,2,20060614,2345,49.9922,165.0123,5496,606.8,3.2824,34.2654,2,-999,9,34.2678,2,14.5,2,131.37,2,-999,9,43.44,2,0,2,3.16,2,-999,9,-999,9,-999,9,2371.4,2,2349.6,3,-999,9,   -999.0,  9,-999,9,-999,-999,9,-999,9,-999,9,-999,9,-999,-999,-999,9,601,3.242,27.2763,-999,9
RF06-06-1,165E,RF-2685,1,9,02-18563,2,20060614,2338,49.9922,165.0123,5496,808.8,2.9378,34.3544,2,-999,9,34.3511,2,17.9,2,142.08,2,-999,9,43.29,2,0,2,3.16,2,-999,9,-999,9,-999,9,2381.6,2,2365.1,3,-999,9,   -999.0,  9,-999,9,-999,-999,9,-999,9,-999,9,-999,9,-999,-999,-999,9,800,2.8847,27.3801,-999,9
RF06-06-1,165E,RF-2685,1,8,02-18562,2,20060614,2334,49.9922,165.0123,5496,1012.6,2.6656,34.4124,2,-999,9,34.4134,2,19.9,2,152.38,2,-999,9,43.28,2,0,2,3.15,2,-999,9,-999,9,-999,9,2326.9,4,2370.9,3,-999,9,   -999.0,  9,-999,9,-999,-999,9,-999,9,-999,9,-999,9,-999,-999,-999,9,1001, 2.5996,27.4515,-999,9
RF06-06-1,165E,RF-2685,1,7,02-18561,2,20060614,2329,49.9922,165.0123,5496,1265.1,2.3555,34.4838,2,-999,9,34.482,2,28.6,2,161.06,2,-999,9,42.86,2,0,2,3.11,2,-999,9,-999,9,-999,9,2391.7,2,2392.4,3,-999,9,   -999.0,  9,-999,9,-999,-999,9,-999,9,-999,9,-999,9,-999,-999,-999,9,1250,2.2734,27.5361,-999,9
RF06-06-1,165E,RF-2685,1,6,02-18560,2,20060614,2324,49.9922,165.0123,5496,1519.9,2.1211,34.5383,2,-999,9,34.5383,2,42,2,166.76,2,-999,9,42.09,2,0,2,3.06,2,-999,9,-999,9,-999,9,2390.5,2,2404,3,-999,9,   -999.0,  9,-999,9,-999,-999,9,-999,9,-999,9,-999,9,-999,-999,-999,9,1501,2.022,27.6,-999,9
RF06-06-1,165E,RF-2685,1,5,02-18559,2,20060614,2315,49.9922,165.0123,5496,2027.4,1.8265,34.6055,2,-999,9,34.6058,2,74.3,2,168.91,2,-999,9,40.34,2,0,2,2.92,2,-999,9,-999,9,-999,9,2383.1,2,2413.4,3,-999,9,   -999.0,  9,-999,9,-999,-999,9,-999,9,-999,9,-999,9,-999,-999,-999,9,2000,1.6905,27.6794,-999,9
RF06-06-1,165E,RF-2685,1,4,02-18558,2,20060614,2258,49.9922,165.0123,5496,3048.8,1.5363,34.6654,2,-999,9,34.6649,2,127.3,2,156.79,2,-999,9,37.45,2,0,2,2.65,2,-999,9,-999,9,-999,9,2348,2,-999,9,-999,9,   -999.0,  9,-999,9,-999,-999,9,-999,9,-999,9,-999,9,-999,-999,-999,9,3001, 1.3141,27.755,-999,9
RF06-06-1,165E,RF-2685,1,3,02-18557,2,20060614,2241,49.9922,165.0123,5496,4074.7,1.4829,34.6831,2,-999,9,34.6821,2,149.1,2,151.6,2,-999,9,36.28,2,0,2,2.53,2,-999,9,-999,9,-999,9,2332.4,2,-999,9,-999,9,   -999.0,  9,-999,9,-999,-999,9,-999,9,-999,9,-999,9,-999,-999,-999,9,4001,1.1563,27.7802,-999,9
RF06-06-1,165E,RF-2685,1,2,02-18556,2,20060614,2224,49.9922,165.0123,5496,5105,1.5325,34.6907,2,-999,9,34.6899,2,157.9,2,149.67,2,-999,9,35.68,2,0,2,2.48,2,-999,9,-999,9,-999,9,2319.5,2,-999,9,-999,9,   -999.0,  9,-999,9,-999,-999,9,-999,9,-999,9,-999,9,-999,-999,-999,9,5002, 1.0843,27.7912,-999,9
RF06-06-1,165E,RF-2685,1,1,02-18555,2,20060614,2215,49.9922,165.0123,5496,5519.4,1.5758,34.6915,2,-999,9,34.6913,2,159.2,2,147.57,2,-999,9,35.48,2,0,2,2.46,2,-999,9,-999,9,-999,9,2322.6,2,-999,9,-999,9,   -999.0,  9,-999,9,-999,-999,9,-999,9,-999,9,-999,9,-999,-999,-999,9,5403, 1.0740,27.7925,-999,9
RF06-06-1,165E,RF-2687,1,-9,-9,5,20060615,1203,47.999,165.0237,5844,0,5.1452,32.9836,2,-999,9,-999,9,339.7,2,37.05,2,-999,9,20,2,0.24,2,1.59,2,-999,9,-999,9,-999,9,2087.4,2,2221.6,3,-999,9,   -999.0,  9,-999,9,-999,-999,9,-999,9,1.12,2,0.11,2,-999,-999,-999,9,0,5.1452,26.0605,-999,9
RF06-06-1,165E,RF-2687,1,24,02-18578,2,20060615,1221,47.999,165.0237,5844,11.4,5.1473,32.9816,2,-999,9,-999,9,340.9,2,37.1,2,-999,9,20.07,2,0.24,2,1.61,2,-999,9,-999,9,-999,9,2084.2,2,2222.7,3,-999,9,   -999.0,  9,-999,9,-999,-999,9,-999,9,1.32,2,0.1,2,-999,-999,-999,9,11,5.1464,26.0588,-999,9
RF06-06-1,165E,RF-2687,1,23,02-18577,2,20060615,1219,47.999,165.0237,5844,26.5,3.8665,33.0241,2,-999,9,-999,9,345.7,2,36.21,2,-999,9,19.9,2,0.24,2,1.58,2,-999,9,-999,9,-999,9,2096.8,2,2221.9,3,-999,9,   -999.0,  9,-999,9,-999,-999,9,-999,9,1.33,2,0.24,2,-999,-999,-999,9,26,3.8648,26.2279,-999,9
RF06-06-1,165E,RF-2687,1,22,02-18576,2,20060615,1218,47.999,165.0237,5844,51.8,2.8417,33.0503,2,-999,9,-999,9,333.2,2,38.53,2,-999,9,22.31,2,0.34,2,1.75,2,-999,9,-999,9,-999,9,2114,2,2232.1,3,-999,9,   -999.0,  9,-999,9,-999,-999,9,-999,9,0.59,2,0.23,2,-999,-999,-999,9,51,2.8388,26.3427,-999,9
RF06-06-1,165E,RF-2687,1,21,02-18575,2,20060615,1217,47.999,165.0237,5844,77.5,2.5878,33.0618,2,-999,9,-999,9,331.6,2,39.27,2,-999,9,22.74,2,0.39,2,1.77,2,-999,9,-999,9,-999,9,2113.2,2,2231.7,3,-999,9,   -999.0,  9,-999,9,-999,-999,9,-999,9,0.19,2,0.1,2,-999,-999,-999,9,77,2.5836,26.3733,-999,9
RF06-06-1,165E,RF-2687,1,20,02-18574,2,20060615,1215,47.999,165.0237,5844,102.4,2.3469,33.1213,2,-999,9,-999,9,329,2,39.09,2,-999,9,23.11,2,0.22,2,1.77,2,-999,9,-999,9,-999,9,2124.2,2,2232.3,3,-999,9,   -999.0,  9,-999,9,-999,-999,9,-999,9,0.09,2,0.08,2,-999,-999,-999,9,102,2.3415,26.4404,-999,9
RF06-06-1,165E,RF-2687,1,19,02-18573,2,20060615,1214,47.999,165.0237,5844,126.4,2.1102,33.1793,2,-999,9,-999,9,302.2,2,45.69,2,-999,9,25.73,2,0.06,2,1.95,2,-999,9,-999,9,-999,9,2138.3,2,2234.2,3,-999,9,   -999.0,  9,-999,9,-999,-999,9,-999,9,0.06,2,0.06,2,-999,-999,-999,9,125,2.1037,26.5052,-999,9
RF06-06-1,165E,RF-2687,1,18,02-18572,2,20060615,1213,47.999,165.0237,5844,141.6,2.1318,33.3487,2,-999,9,-999,9,233.8,2,63.54,2,-999,9,32.44,2,0,2,2.39,2,-999,9,-999,9,-999,9,2197.7,2,2250.8,3,-999,9,   -999.0,  9,-999,9,-999,-999,9,-999,9,-999,9,-999,9,-999,-999,-999,9,140,2.1245,26.6393,-999,9
RF06-06-1,165E,RF-2687,1,16,02-18570,2,20060615,1212,47.999,165.0237,5844,152,2.5235,33.4701,2,-999,9,-999,9,188.2,2,70.88,2,-999,9,35.12,2,0,2,2.56,2,-999,9,-999,9,-999,9,2228,2,2261.8,3,-999,9,   -999.0,  9,-999,9,-999,-999,9,-999,9,-999,9,-999,9,-999,-999,-999,9,151,2.5151,26.7053,-999,9
RF06-06-1,165E,RF-2687,1,17,02-18571,2,20060615,1213,47.999,165.0237,5844,152.2,2.3177,33.4316,2,-999,9,-999,9,193.7,2,70.06,2,-999,9,34.81,2,0,2,2.57,2,-999,9,-999,9,-999,9,2223.2,2,2231.8,3,-999,9,   -999.0,  9,-999,9,-999,-999,9,-999,9,0.04,2,0.07,2,-999,-999,-999,9,151,2.3095,26.6912,-999,9
RF06-06-1,165E,RF-2687,1,15,02-18569,2,20060615,1212,47.999,165.0237,5844,162.3,2.7951,33.5641,2,-999,9,-999,9,144.1,2,77.54,2,-999,9,37.66,2,0.01,2,2.74,2,-999,9,-999,9,-999,9,2257.3,2,2327.8,3,-999,9,   -999.0,  9,-999,9,-999,-999,9,-999,9,-999,9,-999,9,-999,-999,-999,9,161,2.7857,26.7576,-999,9
RF06-06-1,165E,RF-2687,1,14,02-18568,2,20060615,1210,47.999,165.0237,5844,204.5,3.4241,33.8168,2,-999,9,-999,9,70.8,2,92.8,2,-999,9,41.39,2,0,2,3,2,-999,9,-999,9,-999,9,2305.9,3,2290.1,3,-999,9,   -999.0,  9,-999,9,-999,-999,9,-999,9,0.02,2,0.05,2,-999,-999,-999,9,203,3.4111,26.9027,-999,9
RF06-06-1,165E,RF-2687,1,13,02-18567,3,20060615,1209,47.999,165.0237,5844,254.1,3.5343,33.9162,2,-999,9,-999,9,39.3,2,102.15,2,-999,9,43.44,2,0,2,3.14,2,-999,9,-999,9,-999,9,2320.9,3,2299.5,3,-999,9,   -999.0,  9,-999,9,-999,-999,9,-999,9,0.01,2,0.03,2,-999,-999,-999,9,252,3.5177,26.9718,-999,9
RF06-06-1,165E,RF-2687,1,12,02-18348,2,20060615,1207,47.999,165.0237,5844,303.5,3.5697,34.0034,2,-999,9,-999,9,27.8,2,109.22,2,-999,9,43.74,2,0,2,3.16,2,-999,9,-999,9,-999,9,2335.4,3,2311.9,3,-999,9,   -999.0,  9,-999,9,-999,-999,9,-999,9,0.01,2,0.02,2,-999,-999,-999,9,301,3.5496,27.0382,-999,9
RF06-06-1,165E,RF-2687,1,11,02-18565,2,20060615,1205,47.999,165.0237,5844,404.7,3.4154,34.1064,2,-999,9,-999,9,36.1,2,116.13,2,-999,9,42.28,2,0,2,3.07,2,-999,9,-999,9,-999,9,2339.1,3,2321.2,3,-999,9,   -999.0,  9,-999,9,-999,-999,9,-999,9,-999,9,-999,9,-999,-999,-999,9,401,3.3888,27.1357,-999,9
RF06-06-1,165E,RF-2687,1,10,02-18564,2,20060615,1203,47.999,165.0237,5844,505.2,3.3397,34.1854,2,-999,9,-999,9,31.1,2,123.53,2,-999,9,42.47,2,0,2,3.08,2,-999,9,-999,9,-999,9,2354.1,3,2337.1,3,-999,9,   -999.0,  9,-999,9,-999,-999,9,-999,9,-999,9,-999,9,-999,-999,-999,9,500,3.3063,27.2065,-999,9
RF06-06-1,165E,RF-2687,1,9,02-18563,2,20060615,1201,47.999,165.0237,5844,608.1,3.1217,34.2525,2,-999,9,-999,9,20.7,2,133.86,2,-999,9,43.23,2,0,2,3.14,2,-999,9,-999,9,-999,9,2372,3,2313.4,3,-999,9,   -999.0,  9,-999,9,-999,-999,9,-999,9,-999,9,-999,9,-999,-999,-999,9,602,3.082,27.2809,-999,9
RF06-06-1,165E,RF-2687,1,8,02-18562,2,20060615,1158,47.999,165.0237,5844,707.7,2.9741,34.3079,2,-999,9,-999,9,22.3,2,139.68,2,-999,9,43.11,2,0,2,3.13,2,-999,9,-999,9,-999,9,2382.9,3,2302,3,-999,9,   -999.0,  9,-999,9,-999,-999,9,-999,9,-999,9,-999,9,-999,-999,-999,9,701,2.9281,27.3391,-999,9
RF06-06-1,165E,RF-2687,1,7,02-18561,2,20060615,1156,47.999,165.0237,5844,811.3,2.8458,34.355,2,-999,9,-999,9,22.7,2,144.87,2,-999,9,43.02,2,0,2,3.13,2,-999,9,-999,9,-999,9,2384.4,3,2363.8,3,-999,9,   -999.0,  9,-999,9,-999,-999,9,-999,9,-999,9,-999,9,-999,-999,-999,9,803,2.7931,27.3888,-999,9
RF06-06-1,165E,RF-2687,1,6,02-18560,2,20060615,1154,47.999,165.0237,5844,911.1,2.72,34.3956,2,-999,9,-999,9,21.2,2,150.23,2,-999,9,43.29,2,0,2,3.13,2,-999,9,-999,9,-999,9,2388.1,3,2374.2,3,-999,9,   -999.0,  9,-999,9,-999,-999,9,-999,9,-999,9,-999,9,-999,-999,-999,9,901, 2.6610,27.4328,-999,9
RF06-06-1,165E,RF-2687,1,5,02-18559,2,20060615,1151,47.999,165.0237,5844,1013,2.5888,34.4272,2,-999,9,-999,9,22.7,2,154.98,2,-999,9,43.27,2,0,2,3.15,2,-999,9,-999,9,-999,9,-999,4,2380.1,3,-999,9,   -999.0,  9,-999,9,-999,-999,9,-999,9,-999,9,-999,9,-999,-999,-999,9,1002,2.5233,27.4699,-999,9
RF06-06-1,165E,RF-2687,1,4,02-18558,2,20060615,1147,47.999,165.0237,5844,1266.7,2.3163,34.4919,2,-999,9,-999,9,31.7,2,162.41,2,-999,9,42.78,2,0,2,3.1,2,-999,9,-999,9,-999,9,-999,4,2397.7,3,-999,9,   -999.0,  9,-999,9,-999,-999,9,-999,9,-999,9,-999,9,-999,-999,-999,9,1252,2.2344,27.5458,-999,9
RF06-06-1,165E,RF-2687,1,3,02-18557,2,20060615,1142,47.999,165.0237,5844,1519.5,2.1196,34.5403,2,-999,9,-999,9,45.4,2,165.01,2,-999,9,41.96,2,0,2,3.02,2,-999,9,-999,9,-999,9,-999,4,2347.5,3,-999,9,   -999.0,  9,-999,9,-999,-999,9,-999,9,-999,9,-999,9,-999,-999,-999,9,1501,2.0205,27.6018,-999,9
RF06-06-1,165E,RF-2687,1,2,02-18556,2,20060615,1137,47.999,165.0237,5844,1773.8,1.9594,34.5794,2,-999,9,-999,9,61.9,2,165.74,2,-999,9,41.16,2,0,2,2.95,2,-999,9,-999,9,-999,9,-999,4,2408.5,3,-999,9,   -999.0,  9,-999,9,-999,-999,9,-999,9,-999,9,-999,9,-999,-999,-999,9,1751, 1.8423,27.647,-999,9
RF06-06-1,165E,RF-2687,1,1,02-18555,2,20060615,1132,47.999,165.0237,5844,2028.9,1.8275,34.6076,2,-999,9,-999,9,78.4,2,165.28,2,-999,9,40.28,2,0,2,2.88,2,-999,9,-999,9,-999,9,-999,4,2412.8,3,-999,9,   -999.0,  9,-999,9,-999,-999,9,-999,9,-999,9,-999,9,-999,-999,-999,9,2002,1.6914,27.6811,-999,9