BOTTLE,20131214MIRCJHATS
EXPOCODE,SECT_ID,STNNBR,CASTNO,SAMPNO,BTLNBR,BTLNBR_FLAG_W,DATE,TIME,LATITUDE,LONGITUDE,DEPTH,CTDPRS,CTDTMP,CTDSAL,CTDSAL_FLAG_W,CTDOXY,CTDOXY_FLAG_W,SALNTY,SALNTY_FLAG_W,OXYGEN,OXYGEN_FLAG_W,SILCAT,SILCAT_FLAG_W,NITRAT,NITRAT_FLAG_W,NO2+NO3,NO2+NO3_FLAG_W,NITRIT,NITRIT_FLAG_W,PHSPHT,PHSPHT_FLAG_W,CFC-11,CFC-11_FLAG_W,CFC-12,CFC-12_FLAG_W,DELC13,DELC13_FLAG_W,TCARBN,TCARBN_FLAG_W,ALKALI,ALKALI_FLAG_W,PH,PH_FLAG_W,PH_TMP,PH_SCALE,PH_NBS,PH_NBS_FLAG_W,C13ERR,TOTALP,TOTALP_FLAG_W,AMMONI,AMMONI_FLAG_W,CHLORA,CHLORA_FLAG_W,PPHYTN,PPHYTN_FLAG_W,REVPRS,REVTMP,DEPTH,DEPTH_FLAG,CTDDEP,THETA,SIGTHT,DOC,DOC_FLAG_W
,,,,,,,GMT,GMT,,,METERS,DBAR,ITS-90,PSS-78,,UMOL/KG,,PSS-78,,UMOL/KG,,UMOL/KG,,UMOL/KG,,UMOL/KG,,UMOL/KG, ,UMOL/KG,,PMOL/KG,,PMOL/KG,,/MILLE,,UMOL/KG,,UMOL/KG,,25_DEG_C,,DEG_C,,,,/MILLE,UMOL/KG,,UMOL/KG,,UG/L,,UG/L,,DBAR,ITS-90,METERS,,METERS,DEG_C,,UMOL/L
RF06-06-1,165E,RF-2690,1,-9,-9,5,20060616,0630,44.994,165.0122,5919,0,6.3041,33.2811,2,-999,9,-999,9,317.6,2,28.04,2,-999,9,16.25,2,0.22,2,1.3,2,-999,9,-999,9,-999,9,2019.4,3,2229.1,2,-999,9,   -999.0,  9,-999,9,-999,-999,9,-999,9,0.46,2,0.06,2,-999,-999,-999,9,0,6.304,26.1563,-999,9
RF06-06-1,165E,RF-2690,1,21,02-18575,2,20060616,0658,44.994,165.0122,5919,11,6.3057,33.2812,2,-999,9,33.2823,2,318.5,2,27.88,2,-999,9,16.18,2,0.22,2,1.31,2,-999,9,-999,9,-999,9,2028.1,3,2233.8,2,-999,9,   -999.0,  9,-999,9,-999,-999,9,-999,9,0.39,2,0.06,2,-999,-999,-999,9,11,6.3048,26.1563,-999,9
RF06-06-1,165E,RF-2690,1,20,02-18574,2,20060616,0657,44.994,165.0122,5919,25.4,6.2153,33.2774,2,-999,9,-999,9,320.3,2,27.77,2,-999,9,16.19,2,0.22,2,1.3,2,-999,9,-999,9,-999,9,2083.5,3,2233,2,-999,9,   -999.0,  9,-999,9,-999,-999,9,-999,9,0.41,2,0.09,2,-999,-999,-999,9,25,6.2132,26.1649,-999,9
RF06-06-1,165E,RF-2690,1,19,02-18573,2,20060616,0656,44.994,165.0122,5919,52.2,6.0673,33.3288,2,-999,9,-999,9,318.4,2,28.03,2,-999,9,16.41,2,0.23,2,1.31,2,-999,9,-999,9,-999,9,2101.2,3,2240.4,2,-999,9,   -999.0,  9,-999,9,-999,-999,9,-999,9,0.73,2,0.17,2,-999,-999,-999,9,52,6.063,26.2243,-999,9
RF06-06-1,165E,RF-2690,1,18,02-18572,2,20060616,0655,44.994,165.0122,5919,77.4,5.4483,33.3922,2,-999,9,-999,9,314.4,2,29.06,2,-999,9,17.9,2,0.42,2,1.36,2,-999,9,-999,9,-999,9,2102.6,3,2241.9,2,-999,9,   -999.0,  9,-999,9,-999,-999,9,-999,9,0.29,2,0.1,2,-999,-999,-999,9,77,5.4422,26.3497,-999,9
RF06-06-1,165E,RF-2690,1,17,02-18571,2,20060616,0654,44.994,165.0122,5919,101.9,4.7042,33.3795,2,-999,9,33.3688,4,312.8,2,30.12,2,-999,9,19.27,2,0.23,2,1.41,2,-999,9,-999,9,-999,9,2111.4,3,2241.2,2,-999,9,   -999.0,  9,-999,9,-999,-999,9,-999,9,0.07,2,0.06,2,-999,-999,-999,9,101,4.6968,26.4241,-999,9
RF06-06-1,165E,RF-2690,1,16,02-18570,2,20060616,0653,44.994,165.0122,5919,128,4.5375,33.4011,2,-999,9,-999,9,308.2,2,30.85,2,-999,9,19.52,2,0,2,1.42,2,-999,9,-999,9,-999,9,2113,3,2246.5,2,-999,9,   -999.0,  9,-999,9,-999,-999,9,-999,9,0.04,2,0.05,2,-999,-999,-999,9,127,4.5284,26.4595,-999,9
RF06-06-1,165E,RF-2690,1,15,02-18569,2,20060616,0652,44.994,165.0122,5919,151.6,4.9572,33.5368,2,-999,9,-999,9,292.5,2,33.89,2,-999,9,20.6,2,0,2,1.48,2,-999,9,-999,9,-999,9,2127.1,3,2249.3,2,-999,9,   -999.0,  9,-999,9,-999,-999,9,-999,9,0.02,2,0.05,2,-999,-999,-999,9,150,4.9458,26.5214,-999,9
RF06-06-1,165E,RF-2690,1,14,02-18568,2,20060616,0650,44.994,165.0122,5919,202.1,4.2853,33.6597,2,-999,9,33.6697,4,206.2,2,54.9,2,-999,9,28.18,2,0,2,2.03,2,-999,9,-999,9,-999,9,2189.2,3,2267.8,2,-999,9,   -999.0,  9,-999,9,-999,-999,9,-999,9,0.01,2,0.04,2,-999,-999,-999,9,200,4.2711,26.6921,-999,9
RF06-06-1,165E,RF-2690,1,13,02-18567,2,20060616,0648,44.994,165.0122,5919,252.3,3.9415,33.7591,2,-999,9,-999,9,147.3,2,70.67,2,-999,9,33.27,2,0,2,2.4,2,-999,9,-999,9,-999,9,2232.5,3,2280.6,2,-999,9,   -999.0,  9,-999,9,-999,-999,9,-999,9,0.01,2,0.04,2,-999,-999,-999,9,250,3.9243,26.8067,-999,9
RF06-06-1,165E,RF-2690,1,12,02-18348,2,20060616,0646,44.994,165.0122,5919,303.3,3.9071,33.8433,2,-999,9,33.8471,2,115,2,79.97,2,-999,9,35.84,2,0,2,2.59,2,-999,9,-999,9,-999,9,2262.7,3,2284.9,2,-999,9,   -999.0,  9,-999,9,-999,-999,9,-999,9,0.01,2,0.03,2,-999,-999,-999,9,301,3.8863,26.8775,-999,9
RF06-06-1,165E,RF-2690,1,11,02-18565,2,20060616,0643,44.994,165.0122,5919,404.1,3.8657,34.005,2,-999,9,34.0044,2,69.6,2,96.53,2,-999,9,39.22,2,0,2,2.85,2,-999,9,-999,9,-999,9,2303.5,3,2257.5,4,-999,9,   -999.0,  9,-999,9,-999,-999,9,-999,9,-999,9,-999,9,-999,-999,-999,9,400,3.8377,27.0111,-999,9
RF06-06-1,165E,RF-2690,1,10,02-18564,2,20060616,0640,44.994,165.0122,5919,505.4,3.7458,34.1022,2,-999,9,34.1026,2,49.9,2,107.66,2,-999,9,40.61,2,0,2,2.94,2,-999,9,-999,9,-999,9,2333,3,2315.6,2,-999,9,   -999.0,  9,-999,9,-999,-999,9,-999,9,-999,9,-999,9,-999,-999,-999,9,501,3.7108,27.1011,-999,9
RF06-06-1,165E,RF-2690,1,9,02-18563,2,20060616,0637,44.994,165.0122,5919,606.8,3.5673,34.1882,2,-999,9,34.1875,2,37.2,2,117.69,2,-999,9,41.4,2,0,2,3.01,2,-999,9,-999,9,-999,9,2351.1,3,2331.2,2,-999,9,   -999.0,  9,-999,9,-999,-999,9,-999,9,-999,9,-999,9,-999,-999,-999,9,601,3.5256,27.1877,-999,9
RF06-06-1,165E,RF-2690,1,8,02-18562,2,20060616,0634,44.994,165.0122,5919,707.8,3.3499,34.2599,2,-999,9,34.2599,2,31.4,2,126.73,2,-999,9,41.98,2,0,2,3.07,2,-999,9,-999,9,-999,9,2364.9,3,2349.1,2,-999,9,   -999.0,  9,-999,9,-999,-999,9,-999,9,-999,9,-999,9,-999,-999,-999,9,701,3.3018,27.2663,-999,9
RF06-06-1,165E,RF-2690,1,7,02-18561,2,20060616,0632,44.994,165.0122,5919,809.7,3.1559,34.3143,2,-999,9,34.313,2,30.9,2,133.24,2,-999,9,42.15,2,0,2,3.09,2,-999,9,-999,9,-999,9,2367.8,3,2358,2,-999,9,   -999.0,  9,-999,9,-999,-999,9,-999,9,-999,9,-999,9,-999,-999,-999,9,802,3.1014,27.3284,-999,9
RF06-06-1,165E,RF-2690,1,6,02-18560,2,20060616,0629,44.994,165.0122,5919,910.2,2.9835,34.355,2,-999,9,34.3543,2,31,2,138.63,2,-999,9,42.16,2,0,2,3.07,2,-999,9,-999,9,-999,9,2367.8,3,2366.8,2,-999,9,   -999.0,  9,-999,9,-999,-999,9,-999,9,-999,9,-999,9,-999,-999,-999,9,901,2.9227,27.3772,-999,9
RF06-06-1,165E,RF-2690,1,5,02-18559,2,20060616,0626,44.994,165.0122,5919,1011.8,2.8144,34.3909,2,-999,9,34.3903,2,31,2,143.58,2,-999,9,42.28,2,0,2,3.09,2,-999,9,-999,9,-999,9,2371,3,2373.7,2,-999,9,   -999.0,  9,-999,9,-999,-999,9,-999,9,-999,9,-999,9,-999,-999,-999,9,1001,2.7473,27.4215,-999,9
RF06-06-1,165E,RF-2690,1,4,02-18558,2,20060616,0621,44.994,165.0122,5919,1265.7,2.485,34.464,2,-999,9,34.4628,2,36.2,2,152.88,2,-999,9,42.18,2,0,2,3.06,2,-999,9,-999,9,-999,9,2374.7,3,2388.1,2,-999,9,   -999.0,  9,-999,9,-999,-999,9,-999,9,-999,9,-999,9,-999,-999,-999,9,1252,2.4016,27.5096,-999,9
RF06-06-1,165E,RF-2690,1,3,02-18557,2,20060616,0615,44.994,165.0122,5919,1519.5,2.2672,34.5142,2,-999,9,34.5132,2,44.2,2,158.38,2,-999,9,41.97,2,0,2,3.04,2,-999,9,-999,9,-999,9,2376.4,3,2397.5,2,-999,9,   -999.0,  9,-999,9,-999,-999,9,-999,9,-999,9,-999,9,-999,-999,-999,9,1502, 2.1665,27.5692,-999,9
RF06-06-1,165E,RF-2690,1,2,02-18556,2,20060616,0610,44.994,165.0122,5919,1772.2,2.0918,34.5577,2,-999,9,34.5573,2,55.4,2,161.28,2,-999,9,41.35,2,0,2,2.96,2,-999,9,-999,9,-999,9,2376.5,6,2399.3,2,-999,9,   -999.0,  9,-999,9,-999,-999,9,-999,9,-999,9,-999,9,-999,-999,-999,9,1750,1.973,27.6194,-999,9
RF06-06-1,165E,RF-2690,1,1,02-18555,2,20060616,0605,44.994,165.0122,5919,2028.1,1.9281,34.5937,2,-999,9,34.5932,2,70.6,2,161.68,2,-999,9,40.54,2,0,2,2.88,2,-999,9,-999,9,-999,9,2370.4,3,2406.6,6,-999,9,   -999.0,  9,-999,9,-999,-999,9,-999,9,-999,9,-999,9,-999,-999,-999,9,2002,1.7905,27.6624,-999,9
RF06-06-1,165E,RF-2692,1,-9,-9,5,20060616,1900,42.9937,165.0078,5415,0,6.7465,33.063,2,-999,9,-999,9,318.2,2,31.18,2,-999,9,16.62,2,0.16,2,1.41,2,-999,9,-999,9,-999,9,2084.2,3,2217.7,3,-999,9,   -999.0,  9,-999,9,-999,-999,9,-999,9,0.39,2,0.02,2,-999,-999,-999,9,0,6.7464,25.9269,-999,9
RF06-06-1,165E,RF-2692,1,24,02-18578,2,20060616,1914,42.9937,165.0078,5415,11.2,6.7152,33.062,2,-999,9,-999,9,-999,9,-999,9,-999,9,-999,9,-999,9,-999,9,-999,9,-999,9,-999,9,-999,9,-999,9,-999,9,   -999.0,  9,-999,9,-999,-999,9,-999,9,-999,9,-999,9,-999,-999,-999,9,11,6.7142,25.9304,-999,9
RF06-06-1,165E,RF-2692,1,21,02-18575,2,20060616,1914,42.9937,165.0078,5415,11.4,6.6639,33.0594,2,-999,9,-999,9,318,2,31.15,2,-999,9,16.62,2,0.16,2,1.41,2,-999,9,-999,9,-999,9,2094.3,3,2233.8,3,-999,9,   -999.0,  9,-999,9,-999,-999,9,-999,9,0.47,2,0.06,2,-999,-999,-999,9,11,6.6629,25.935,-999,9
RF06-06-1,165E,RF-2692,1,20,02-18574,2,20060616,1913,42.9937,165.0078,5415,26.4,5.947,33.0617,2,-999,9,-999,9,321.4,2,31.16,2,-999,9,16.74,2,0.15,2,1.42,2,-999,9,-999,9,-999,9,2097.6,3,2231.4,3,-999,9,   -999.0,  9,-999,9,-999,-999,9,-999,9,0.62,2,0.13,2,-999,-999,-999,9,26,5.9449,26.028,-999,9
RF06-06-1,165E,RF-2692,1,19,02-18573,2,20060616,1912,42.9937,165.0078,5415,51.5,5.478,33.0768,2,-999,9,-999,9,318.2,2,31.7,2,-999,9,17.81,2,0.21,2,1.5,2,-999,9,-999,9,-999,9,2100.5,3,2221.7,3,-999,9,   -999.0,  9,-999,9,-999,-999,9,-999,9,0.84,2,0.15,2,-999,-999,-999,9,51,5.474,26.0964,-999,9
RF06-06-1,165E,RF-2692,1,18,02-18572,2,20060616,1911,42.9937,165.0078,5415,76.6,4.6378,33.1173,2,-999,9,-999,9,318.5,2,32.74,2,-999,9,19.29,2,0.33,2,1.55,2,-999,9,-999,9,-999,9,2101.2,2,2232.8,3,-999,9,   -999.0,  9,-999,9,-999,-999,9,-999,9,0.31,2,0.11,2,-999,-999,-999,9,76,4.6323,26.2231,-999,9
RF06-06-1,165E,RF-2692,1,17,02-18571,2,20060616,1909,42.9937,165.0078,5415,101.5,3.9128,33.162,2,-999,9,-999,9,318.6,2,33.48,2,-999,9,20.37,2,0.33,2,1.59,2,-999,9,-999,9,-999,9,2111.9,2,2222,3,-999,9,   -999.0,  9,-999,9,-999,-999,9,-999,9,0.14,2,0.09,2,-999,-999,-999,9,101,3.9061,26.3335,-999,9
RF06-06-1,165E,RF-2692,1,16,02-18570,2,20060616,1908,42.9937,165.0078,5415,127.2,3.4196,33.1996,2,-999,9,-999,9,313.8,2,34.87,2,-999,9,21.19,2,0.14,2,1.63,2,-999,9,-999,9,-999,9,2116.1,2,2235.7,3,-999,9,   -999.0,  9,-999,9,-999,-999,9,-999,9,0.06,2,0.05,2,-999,-999,-999,9,126,3.4117,26.4108,-999,9
RF06-06-1,165E,RF-2692,1,15,02-18569,2,20060616,1907,42.9937,165.0078,5415,152.7,3.2207,33.2326,2,-999,9,-999,9,285.6,2,41.88,2,-999,9,23.81,2,0,2,1.8,2,-999,9,-999,9,-999,9,2138.9,2,2241,3,-999,9,   -999.0,  9,-999,9,-999,-999,9,-999,9,0.04,2,0.05,2,-999,-999,-999,9,151,3.2114,26.4555,-999,9
RF06-06-1,165E,RF-2692,1,14,02-18568,2,20060616,1906,42.9937,165.0078,5415,203.2,3.4045,33.6111,2,-999,9,-999,9,173.5,2,67.7,2,-999,9,32.72,2,0,2,2.45,2,-999,9,-999,9,-999,9,2239,2,2274.8,3,-999,9,   -999.0,  9,-999,9,-999,-999,9,-999,9,0.01,2,0.04,2,-999,-999,-999,9,202,3.3916,26.7406,-999,9
RF06-06-1,165E,RF-2692,1,13,02-18567,2,20060616,1904,42.9937,165.0078,5415,253.6,3.4111,33.7879,2,-999,9,-999,9,104.6,2,85.58,2,-999,9,37.75,2,0,2,2.81,2,-999,9,-999,9,-999,9,2284.7,2,2273.6,3,-999,9,   -999.0,  9,-999,9,-999,-999,9,-999,9,0.01,2,0.04,2,-999,-999,-999,9,251,3.3949,26.8813,-999,9
RF06-06-1,165E,RF-2692,1,12,02-18348,2,20060616,1902,42.9937,165.0078,5415,303.9,3.5036,33.8759,2,-999,9,-999,9,83.7,2,92.57,2,-999,9,39.13,2,0,2,2.91,2,-999,9,-999,9,-999,9,2262.1,4,2301.3,3,-999,9,   -999.0,  9,-999,9,-999,-999,9,-999,9,0.01,2,0.03,2,-999,-999,-999,9,301, 3.4838,26.9429,-999,9
RF06-06-1,165E,RF-2692,1,11,02-18565,2,20060616,1900,42.9937,165.0078,5415,404.6,3.6356,34.0431,2,-999,9,-999,9,47.5,2,106.18,2,-999,9,41.16,2,0,2,3.08,2,-999,9,-999,9,-999,9,2323.5,2,2317.9,3,-999,9,   -999.0,  9,-999,9,-999,-999,9,-999,9,-999,9,-999,9,-999,-999,-999,9,401,3.6083,27.0641,-999,9
RF06-06-1,165E,RF-2692,1,10,02-18564,3,20060616,1857,42.9937,165.0078,5415,505.9,3.4832,34.13,2,-999,9,-999,9,34.5,2,116.41,2,-999,9,41.97,2,0,2,3.12,2,-999,9,-999,9,-999,9,2348.5,2,2332.3,3,-999,9,   -999.0,  9,-999,9,-999,-999,9,-999,9,-999,9,-999,9,-999,-999,-999,9,501,3.4492,27.1487,-999,9
RF06-06-1,165E,RF-2692,1,9,02-18563,2,20060616,1854,42.9937,165.0078,5415,605.9,3.3175,34.2134,2,-999,9,-999,9,27.8,2,126.13,2,-999,9,42.39,2,0,2,3.15,2,-999,9,-999,9,-999,9,2357.9,2,2342.7,3,-999,9,   -999.0,  9,-999,9,-999,-999,9,-999,9,-999,9,-999,9,-999,-999,-999,9,600,3.277,27.2316,-999,9
RF06-06-1,165E,RF-2692,1,8,02-18562,2,20060616,1851,42.9937,165.0078,5415,707.4,3.0884,34.2813,2,-999,9,-999,9,27.1,2,134.37,2,-999,9,42.45,2,0,2,3.15,2,-999,9,-999,9,-999,9,2361.2,2,2351.1,3,-999,9,   -999.0,  9,-999,9,-999,-999,9,-999,9,-999,9,-999,9,-999,-999,-999,9,701,3.0418,27.3076,-999,9
RF06-06-1,165E,RF-2692,1,7,02-18561,2,20060616,1848,42.9937,165.0078,5415,808.4,2.9344,34.3394,2,-999,9,-999,9,27.3,2,140.62,2,-999,9,42.54,2,0,2,3.14,2,-999,9,-999,9,-999,9,2367.7,2,2368.3,3,-999,9,   -999.0,  9,-999,9,-999,-999,9,-999,9,-999,9,-999,9,-999,-999,-999,9,800,2.8814,27.3684,-999,9
RF06-06-1,165E,RF-2692,1,6,02-18560,2,20060616,1846,42.9937,165.0078,5415,908.8,2.8149,34.3843,2,-999,9,-999,9,30.7,2,144.08,2,-999,9,42.31,2,0,2,3.12,2,-999,9,-999,9,-999,9,2371.7,2,2374.5,3,-999,9,   -999.0,  9,-999,9,-999,-999,9,-999,9,-999,9,-999,9,-999,-999,-999,9,900, 2.7554,27.4155,-999,9
RF06-06-1,165E,RF-2692,1,5,02-18559,2,20060616,1843,42.9937,165.0078,5415,1010.3,2.6921,34.4148,2,-999,9,-999,9,31,2,147.66,2,-999,9,42.36,2,0,2,3.1,2,-999,9,-999,9,-999,9,2375.3,2,2382.1,3,-999,9,   -999.0,  9,-999,9,-999,-999,9,-999,9,-999,9,-999,9,-999,-999,-999,9,1000,2.626,27.4512,-999,9
RF06-06-1,165E,RF-2692,1,4,02-18558,2,20060616,1838,42.9937,165.0078,5415,1263.7,2.3959,34.4806,2,-999,9,-999,9,35.1,2,156.62,2,-999,9,42.3,2,0,2,3.09,2,-999,9,-999,9,-999,9,2386.3,2,2402.6,3,-999,9,   -999.0,  9,-999,9,-999,-999,9,-999,9,-999,9,-999,9,-999,-999,-999,9,1250,2.3135,27.5302,-999,9
RF06-06-1,165E,RF-2692,1,3,02-18557,2,20060616,1833,42.9937,165.0078,5415,1517.9,2.1932,34.5373,2,-999,9,-999,9,48.9,2,159.25,2,-999,9,41.72,2,0,2,3,2,-999,9,-999,9,-999,9,2393.2,2,2401.5,3,-999,9,   -999.0,  9,-999,9,-999,-999,9,-999,9,-999,9,-999,9,-999,-999,-999,9,1500,2.0934,27.5936,-999,9
RF06-06-1,165E,RF-2692,1,2,02-18556,2,20060616,1828,42.9937,165.0078,5415,1771.3,2.0101,34.5759,2,-999,9,-999,9,62.1,2,161.79,2,-999,9,41.04,2,0,2,2.94,2,-999,9,-999,9,-999,9,2390.6,2,2403.3,3,-999,9,   -999.0,  9,-999,9,-999,-999,9,-999,9,-999,9,-999,9,-999,-999,-999,9,1750,1.8925,27.6403,-999,9
RF06-06-1,165E,RF-2692,1,1,02-18555,2,20060616,1823,42.9937,165.0078,5415,2027,1.8649,34.6055,2,-999,9,-999,9,78.7,2,161.53,2,-999,9,40.17,2,0,2,2.83,2,-999,9,-999,9,-999,9,2369.5,2,2410.2,3,-999,9,   -999.0,  9,-999,9,-999,-999,9,-999,9,-999,9,-999,9,-999,-999,-999,9,2001, 1.7284,27.6767,-999,9