BOTTLE,20131214MIRCJHATS
EXPOCODE,SECT_ID,STNNBR,CASTNO,SAMPNO,BTLNBR,BTLNBR_FLAG_W,DATE,TIME,LATITUDE,LONGITUDE,DEPTH,CTDPRS,CTDTMP,CTDSAL,CTDSAL_FLAG_W,CTDOXY,CTDOXY_FLAG_W,SALNTY,SALNTY_FLAG_W,OXYGEN,OXYGEN_FLAG_W,SILCAT,SILCAT_FLAG_W,NITRAT,NITRAT_FLAG_W,NO2+NO3,NO2+NO3_FLAG_W,NITRIT,NITRIT_FLAG_W,PHSPHT,PHSPHT_FLAG_W,CFC-11,CFC-11_FLAG_W,CFC-12,CFC-12_FLAG_W,DELC13,DELC13_FLAG_W,TCARBN,TCARBN_FLAG_W,ALKALI,ALKALI_FLAG_W,PH,PH_FLAG_W,PH_TMP,PH_SCALE,PH_NBS,PH_NBS_FLAG_W,C13ERR,TOTALP,TOTALP_FLAG_W,AMMONI,AMMONI_FLAG_W,CHLORA,CHLORA_FLAG_W,PPHYTN,PPHYTN_FLAG_W,REVPRS,REVTMP,DEPTH,DEPTH_FLAG,CTDDEP,THETA,SIGTHT,DOC,DOC_FLAG_W
,,,,,,,GMT,GMT,,,METERS,DBAR,ITS-90,PSS-78,,UMOL/KG,,PSS-78,,UMOL/KG,,UMOL/KG,,UMOL/KG,,UMOL/KG,,UMOL/KG, ,UMOL/KG,,PMOL/KG,,PMOL/KG,,/MILLE,,UMOL/KG,,UMOL/KG,,25_DEG_C,,DEG_C,,,,/MILLE,UMOL/KG,,UMOL/KG,,UG/L,,UG/L,,DBAR,ITS-90,METERS,,METERS,DEG_C,,UMOL/L
RF06-06-1,165E,RF-2702,1,-9,-9,5,20060619,1225,33.0013,165.0103,6209,0,20.699,34.7312,2,-999,9,-999,9,230.2,2,2.4,2,-999,9,0,2,0,2,0.01,2,-999,9,-999,9,-999,9,1977.4,3,2277.7,3,-999,9,   -999.0,  9,-999,9,-999,-999,9,-999,9,0.14,2,0,2,-999,-999,-999,9,0,20.6989,24.3707,-999,9
RF06-06-1,165E,RF-2702,1,24,02-18578,2,20060619,1244,33.0013,165.0103,6209,9.5,20.7032,34.7308,2,-999,9,-999,9,-999,9,-999,9,-999,9,-999,9,-999,9,-999,9,-999,9,-999,9,-999,9,-999,9,-999,9,-999,9,   -999.0,  9,-999,9,-999,-999,9,-999,9,-999,9,-999,9,-999,-999,-999,9,9,20.7014,24.3697,-999,9
RF06-06-1,165E,RF-2702,1,21,02-18575,2,20060619,1244,33.0013,165.0103,6209,10.2,20.6979,34.7292,2,-999,9,-999,9,229.2,2,2.32,2,-999,9,0,2,0,2,0,2,-999,9,-999,9,-999,9,1987.8,2,2271.1,3,-999,9,   -999.0,  9,-999,9,-999,-999,9,-999,9,0.13,2,0.01,2,-999,-999,-999,9,10,20.696,24.37,-999,9
RF06-06-1,165E,RF-2702,1,20,02-18574,2,20060619,1243,33.0013,165.0103,6209,26.3,19.7061,34.7443,2,-999,9,-999,9,233,2,2.31,2,-999,9,0,2,0,2,0,2,-999,9,-999,9,-999,9,1985.8,2,2284.7,3,-999,9,   -999.0,  9,-999,9,-999,-999,9,-999,9,0.17,2,0.02,2,-999,-999,-999,9,26,19.7013,24.645,-999,9
RF06-06-1,165E,RF-2702,1,19,02-18573,2,20060619,1242,33.0013,165.0103,6209,51.4,19.0443,34.7393,2,-999,9,-999,9,235.8,2,2.36,2,-999,9,0,2,0,2,0.01,2,-999,9,-999,9,-999,9,1988.3,2,2280.3,3,-999,9,   -999.0,  9,-999,9,-999,-999,9,-999,9,0.22,2,0.11,2,-999,-999,-999,9,51,19.0352,24.8129,-999,9
RF06-06-1,165E,RF-2702,1,18,02-18572,2,20060619,1240,33.0013,165.0103,6209,75.8,18.3538,34.8132,2,-999,9,-999,9,227.2,2,2.86,2,-999,9,1.33,2,0.11,2,0.08,2,-999,9,-999,9,-999,9,2000.1,2,2285.1,3,-999,9,   -999.0,  9,-999,9,-999,-999,9,-999,9,0.83,2,0.36,2,-999,-999,-999,9,75,18.3407,25.0446,-999,9
RF06-06-1,165E,RF-2702,1,17,02-18571,2,20060619,1239,33.0013,165.0103,6209,102.1,17.928,34.7981,2,-999,9,-999,9,225,2,3.2,2,-999,9,2.05,2,0.05,2,0.11,2,-999,9,-999,9,-999,9,2006.2,2,2288.8,3,-999,9,   -999.0,  9,-999,9,-999,-999,9,-999,9,0.2,2,0.12,2,-999,-999,-999,9,101,17.9106,25.1394,-999,9
RF06-06-1,165E,RF-2702,1,16,02-18570,2,20060619,1238,33.0013,165.0103,6209,127.9,17.7058,34.8034,2,-999,9,-999,9,226.1,2,3.52,2,-999,9,2.77,2,0.01,2,0.15,2,-999,9,-999,9,-999,9,2013.9,2,2285.2,3,-999,9,   -999.0,  9,-999,9,-999,-999,9,-999,9,0.07,2,0.04,2,-999,-999,-999,9,127,17.6842,25.1988,-999,9
RF06-06-1,165E,RF-2702,1,15,02-18569,2,20060619,1237,33.0013,165.0103,6209,151.5,17.5958,34.8069,2,-999,9,-999,9,224.7,2,3.74,2,-999,9,3.03,2,0.01,2,0.16,2,-999,9,-999,9,-999,9,2011.2,2,2282.9,3,-999,9,   -999.0,  9,-999,9,-999,-999,9,-999,9,0.05,2,0.01,2,-999,-999,-999,9,150,17.5703,25.2291,-999,9
RF06-06-1,165E,RF-2702,1,14,02-18568,3,20060619,1236,33.0013,165.0103,6209,201.8,17.2287,34.7831,2,-999,9,-999,9,226.6,2,3.98,2,-999,9,3.31,2,0.01,2,0.18,2,-999,9,-999,9,-999,9,2013.7,2,2280.1,3,-999,9,   -999.0,  9,-999,9,-999,-999,9,-999,9,0.02,2,0.01,2,-999,-999,-999,9,200,17.1951,25.3013,-999,9
RF06-06-1,165E,RF-2702,1,13,02-18567,2,20060619,1234,33.0013,165.0103,6209,252.6,17.0942,34.7761,2,-999,9,-999,9,223.5,2,4.42,2,-999,9,3.75,2,0.01,2,0.2,2,-999,9,-999,9,-999,9,2018.3,2,2283.7,3,-999,9,   -999.0,  9,-999,9,-999,-999,9,-999,9,0.01,2,0.02,2,-999,-999,-999,9,251,17.0524,25.3299,-999,9
RF06-06-1,165E,RF-2702,1,12,02-18348,2,20060619,1232,33.0013,165.0103,6209,303.2,16.3763,34.7077,2,-999,9,-999,9,200.9,2,7.4,2,-999,9,7.13,2,0,2,0.4,2,-999,9,-999,9,-999,9,2042.5,2,2281.5,3,-999,9,   -999.0,  9,-999,9,-999,-999,9,-999,9,0,2,0.01,2,-999,-999,-999,9,301,16.3275,25.4475,-999,9
RF06-06-1,165E,RF-2702,1,11,02-18565,2,20060619,1229,33.0013,165.0103,6209,403.2,14.2173,34.5417,2,-999,9,-999,9,198.8,2,12.65,2,-999,9,10.54,2,0,2,0.64,2,-999,9,-999,9,-999,9,2065.9,2,2275,3,-999,9,   -999.0,  9,-999,9,-999,-999,9,-999,9,-999,9,-999,9,-999,-999,-999,9,400,14.1582,25.7996,-999,9
RF06-06-1,165E,RF-2702,1,10,02-18564,2,20060619,1226,33.0013,165.0103,6209,503.7,11.1389,34.3374,2,-999,9,-999,9,221.5,2,20.06,2,-999,9,13.63,2,0,2,0.88,2,-999,9,-999,9,-999,9,2092.4,2,2273.7,3,-999,9,   -999.0,  9,-999,9,-999,-999,9,-999,9,-999,9,-999,9,-999,-999,-999,9,500,11.0759,26.2458,-999,9
RF06-06-1,165E,RF-2702,1,9,02-18563,2,20060619,1224,33.0013,165.0103,6209,604.3,7.872,34.096,2,-999,9,-999,9,165,2,44.71,2,-999,9,24.15,2,0,2,1.67,2,-999,9,-999,9,-999,9,2178.8,2,2284.3,3,-999,9,   -999.0,  9,-999,9,-999,-999,9,-999,9,-999,9,-999,9,-999,-999,-999,9,599,7.8106,26.5918,-999,9
RF06-06-1,165E,RF-2702,1,8,02-18562,2,20060619,1222,33.0013,165.0103,6209,706.3,5.9677,34.0214,2,-999,9,-999,9,138.4,2,63.28,2,-999,9,30.05,2,0,2,2.13,2,-999,9,-999,9,-999,9,2226.5,3,2294.7,3,-999,9,   -999.0,  9,-999,9,-999,-999,9,-999,9,-999,9,-999,9,-999,-999,-999,9,700,5.9057,26.7912,-999,9
RF06-06-1,165E,RF-2702,1,7,02-18561,2,20060619,1219,33.0013,165.0103,6209,807.9,4.8842,34.0749,2,-999,9,-999,9,92.6,2,85.11,2,-999,9,35.77,2,0,2,2.56,2,-999,9,-999,9,-999,9,2269.4,3,2307,3,-999,9,   -999.0,  9,-999,9,-999,-999,9,-999,9,-999,9,-999,9,-999,-999,-999,9,801,4.8193,26.9623,-999,9
RF06-06-1,165E,RF-2702,1,6,02-18560,2,20060619,1217,33.0013,165.0103,6209,909.2,4.3051,34.1834,2,-999,9,-999,9,64.5,2,100.84,2,-999,9,38.39,2,0,2,2.76,2,-999,9,-999,9,-999,9,2294,3,2327.7,3,-999,9,   -999.0,  9,-999,9,-999,-999,9,-999,9,-999,9,-999,9,-999,-999,-999,9,901,4.2353,27.1121,-999,9
RF06-06-1,165E,RF-2702,1,5,02-18559,2,20060619,1214,33.0013,165.0103,6209,1009.3,3.8832,34.2553,2,-999,9,-999,9,47.8,2,114.82,2,-999,9,40.24,2,0,2,2.9,2,-999,9,-999,9,-999,9,2328.1,3,2345.3,3,-999,9,   -999.0,  9,-999,9,-999,-999,9,-999,9,-999,9,-999,9,-999,-999,-999,9,1000,3.8081,27.2133,-999,9
RF06-06-1,165E,RF-2702,1,4,02-18558,2,20060619,1209,33.0013,165.0103,6209,1261.4,3.1145,34.3887,2,-999,9,-999,9,37.3,2,135.99,2,-999,9,41.88,2,0,2,3.02,2,-999,9,-999,9,-999,9,2359,3,2375.4,3,-999,9,   -999.0,  9,-999,9,-999,-999,9,-999,9,-999,9,-999,9,-999,-999,-999,9,1249,3.0254,27.3948,-999,9
RF06-06-1,165E,RF-2702,1,3,02-18557,2,20060619,1204,33.0013,165.0103,6209,1517.4,2.6023,34.4777,2,-999,9,-999,9,36.7,2,150.01,2,-999,9,42.31,2,0,2,3.05,2,-999,9,-999,9,-999,9,2373.6,3,2387.5,3,-999,9,   -999.0,  9,-999,9,-999,-999,9,-999,9,-999,9,-999,9,-999,-999,-999,9,1501,2.4979,27.5124,-999,9
RF06-06-1,165E,RF-2702,1,2,02-18556,2,20060619,1200,33.0013,165.0103,6209,1769.5,2.2824,34.5385,2,-999,9,-999,9,48.8,2,157.18,2,-999,9,41.92,2,0,2,3,2,-999,9,-999,9,-999,9,2376.9,3,2403.3,3,-999,9,   -999.0,  9,-999,9,-999,-999,9,-999,9,-999,9,-999,9,-999,-999,-999,9,1750,2.1613,27.5891,-999,9
RF06-06-1,165E,RF-2702,1,1,02-18555,2,20060619,1154,33.0013,165.0103,6209,2024.1,2.0297,34.5811,2,-999,9,-999,9,64.7,2,161.11,2,-999,9,41.06,2,0,2,2.92,2,-999,9,-999,9,-999,9,2375,3,2402.9,3,-999,9,   -999.0,  9,-999,9,-999,-999,9,-999,9,-999,9,-999,9,-999,-999,-999,9,2000, 1.8910,27.6446,-999,9
RF06-06-1,165E,RF-2705,1,-9,-9,5,20060620,1438,30.0108,164.9763,5688,0,23.0918,34.9055,2,-999,9,-999,9,218.8,2,2.52,2,-999,9,0,2,0,2,0,2,-999,9,-999,9,-999,9,2004,3,2291.1,3,-999,9,   -999.0,  9,-999,9,-999,-999,9,-999,9,0.16,2,0.03,2,-999,-999,-999,9,0,23.0916,23.8355,-999,9
RF06-06-1,165E,RF-2705,1,24,02-18578,2,20060620,1457,30.0108,164.9763,5688,10.9,23.0908,34.9043,2,-999,9,-999,9,-999,9,-999,9,-999,9,-999,9,-999,9,-999,9,-999,9,-999,9,-999,9,-999,9,-999,9,-999,9,   -999.0,  9,-999,9,-999,-999,9,-999,9,-999,9,-999,9,-999,-999,-999,9,11,23.0886,23.8355,-999,9
RF06-06-1,165E,RF-2705,1,21,02-18575,2,20060620,1457,30.0108,164.9763,5688,11,23.09,34.9038,2,-999,9,34.9009,2,218.9,2,2.48,2,-999,9,0,2,0,2,0,2,-999,9,-999,9,-999,9,1997.4,3,2291.4,3,-999,9,   -999.0,  9,-999,9,-999,-999,9,-999,9,0.16,2,0.02,2,-999,-999,-999,9,11,23.0877,23.8353,-999,9
RF06-06-1,165E,RF-2705,1,20,02-18574,2,20060620,1456,30.0108,164.9763,5688,25.1,22.1126,34.8066,2,-999,9,-999,9,230.7,2,2.35,2,-999,9,0,2,0,2,0,2,-999,9,-999,9,-999,9,1989.6,2,2276.2,3,-999,9,   -999.0,  9,-999,9,-999,-999,9,-999,9,0.16,2,0.02,2,-999,-999,-999,9,25,22.1076,24.0407,-999,9
RF06-06-1,165E,RF-2705,1,19,02-18573,2,20060620,1455,30.0108,164.9763,5688,50.3,19.0451,34.7275,2,-999,9,-999,9,241.8,2,2.43,2,-999,9,0,2,0,2,0.01,2,-999,9,-999,9,-999,9,1992,2,2277.6,3,-999,9,   -999.0,  9,-999,9,-999,-999,9,-999,9,0.19,2,0.04,2,-999,-999,-999,9,50,19.0362,24.8037,-999,9
RF06-06-1,165E,RF-2705,1,18,02-18572,2,20060620,1453,30.0108,164.9763,5688,76.2,18.1041,34.7487,2,-999,9,-999,9,245,2,2.6,2,-999,9,0,2,0,2,0.02,2,-999,9,-999,9,-999,9,1994.7,2,2278,3,-999,9,   -999.0,  9,-999,9,-999,-999,9,-999,9,0.34,2,0.19,2,-999,-999,-999,9,76,18.091,25.0571,-999,9
RF06-06-1,165E,RF-2705,1,17,02-18571,2,20060620,1452,30.0108,164.9763,5688,100.6,17.572,34.7642,2,-999,9,34.7632,2,223.7,2,3.5,2,-999,9,2.57,2,0.04,2,0.14,2,-999,9,-999,9,-999,9,2012.4,2,2274.8,3,-999,9,   -999.0,  9,-999,9,-999,-999,9,-999,9,0.21,2,0.27,2,-999,-999,-999,9,100,17.5551,25.2002,-999,9
RF06-06-1,165E,RF-2705,1,16,02-18570,2,20060620,1451,30.0108,164.9763,5688,125.4,17.3855,34.7785,2,-999,9,-999,9,226.1,2,3.85,2,-999,9,3.22,2,0.01,2,0.17,2,-999,9,-999,9,-999,9,2016.1,2,2280.6,3,-999,9,   -999.0,  9,-999,9,-999,-999,9,-999,9,0.09,2,0.04,2,-999,-999,-999,9,125,17.3645,25.2571,-999,9
RF06-06-1,165E,RF-2705,1,15,02-18569,2,20060620,1450,30.0108,164.9763,5688,150.8,17.2518,34.773,2,-999,9,-999,9,225.8,2,4,2,-999,9,3.36,2,0,2,0.18,2,-999,9,-999,9,-999,9,2017.4,2,2279.3,3,-999,9,   -999.0,  9,-999,9,-999,-999,9,-999,9,0.02,2,0.01,2,-999,-999,-999,9,150,17.2267,25.286,-999,9
RF06-06-1,165E,RF-2705,1,14,02-18568,2,20060620,1448,30.0108,164.9763,5688,201.2,16.9859,34.7516,2,-999,9,34.7494,2,217.6,2,4.99,2,-999,9,4.47,2,0,2,0.24,2,-999,9,-999,9,-999,9,2027.4,2,2283.7,3,-999,9,   -999.0,  9,-999,9,-999,-999,9,-999,9,0.01,2,0.01,2,-999,-999,-999,9,200,16.9528,25.3348,-999,9
RF06-06-1,165E,RF-2705,1,13,02-18567,2,20060620,1447,30.0108,164.9763,5688,253.1,16.2195,34.6951,2,-999,9,-999,9,210,2,7.2,2,-999,9,6.67,2,0,2,0.38,2,-999,9,-999,9,-999,9,2043,2,2282.5,3,-999,9,   -999.0,  9,-999,9,-999,-999,9,-999,9,0.01,2,0.03,2,-999,-999,-999,9,251,16.1791,25.472,-999,9
RF06-06-1,165E,RF-2705,1,12,02-18348,2,20060620,1445,30.0108,164.9763,5688,302.6,15.272,34.6189,2,-999,9,34.6175,2,204.5,2,9.88,2,-999,9,8.55,2,0,2,0.52,2,-999,9,-999,9,-999,9,2056.6,2,2281.3,3,-999,9,   -999.0,  9,-999,9,-999,-999,9,-999,9,0.01,2,0.01,2,-999,-999,-999,9,300,15.2256,25.6285,-999,9
RF06-06-1,165E,RF-2705,1,11,02-18565,2,20060620,1442,30.0108,164.9763,5688,405.9,13.2763,34.4758,2,-999,9,34.4769,2,210.2,2,12.63,2,-999,9,10.65,2,0,2,0.66,2,-999,9,-999,9,-999,9,2074.6,2,2274.2,3,-999,9,   -999.0,  9,-999,9,-999,-999,9,-999,9,-999,9,-999,9,-999,-999,-999,9,403,13.2195,25.9426,-999,9
RF06-06-1,165E,RF-2705,1,10,02-18564,2,20060620,1439,30.0108,164.9763,5688,505.4,11.028,34.2934,2,-999,9,34.2938,2,204,2,20.66,2,-999,9,15.26,2,0,2,1,2,-999,9,-999,9,-999,9,2106.9,2,2272.7,3,-999,9,   -999.0,  9,-999,9,-999,-999,9,-999,9,-999,9,-999,9,-999,-999,-999,9,501,10.9652,26.2315,-999,9
RF06-06-1,165E,RF-2705,1,9,02-18563,2,20060620,1436,30.0108,164.9763,5688,604.5,8.0678,34.0605,2,-999,9,34.06,2,188,2,36.43,2,-999,9,22.27,2,0,2,1.51,2,-999,9,-999,9,-999,9,2152.5,2,2279.5,3,-999,9,   -999.0,  9,-999,9,-999,-999,9,-999,9,-999,9,-999,9,-999,-999,-999,9,599,8.0056,26.5352,-999,9
RF06-06-1,165E,RF-2705,1,8,02-18562,2,20060620,1433,30.0108,164.9763,5688,707.4,6.1186,34.0178,2,-999,9,34.0177,2,133.5,2,60.34,2,-999,9,30.18,2,0,2,2.12,2,-999,9,-999,9,-999,9,2220.4,2,2293.7,3,-999,9,   -999.0,  9,-999,9,-999,-999,9,-999,9,-999,9,-999,9,-999,-999,-999,9,701,6.0557,26.7695,-999,9
RF06-06-1,165E,RF-2705,1,7,02-18561,2,20060620,1430,30.0108,164.9763,5688,808.7,5.08,34.0805,2,-999,9,34.0786,2,89.9,2,81.42,2,-999,9,35.55,2,0,2,2.54,2,-999,9,-999,9,-999,9,2273.6,3,2310.3,3,-999,9,   -999.0,  9,-999,9,-999,-999,9,-999,9,-999,9,-999,9,-999,-999,-999,9,802,5.0138,26.9447,-999,9
RF06-06-1,165E,RF-2705,1,6,02-18560,2,20060620,1426,30.0108,164.9763,5688,908.9,4.3408,34.1801,2,-999,9,34.1793,2,56.3,2,100.84,2,-999,9,39.18,2,0,2,2.8,2,-999,9,-999,9,-999,9,2318.5,3,2318.8,3,-999,9,   -999.0,  9,-999,9,-999,-999,9,-999,9,-999,9,-999,9,-999,-999,-999,9,901, 4.2708,27.1057,-999,9
RF06-06-1,165E,RF-2705,1,5,02-18559,2,20060620,1423,30.0108,164.9763,5688,1011.1,3.8964,34.2453,2,-999,9,34.2441,2,43.9,2,113.61,2,-999,9,40.52,2,0,2,2.92,2,-999,9,-999,9,-999,9,2335.1,3,2342.6,3,-999,9,   -999.0,  9,-999,9,-999,-999,9,-999,9,-999,9,-999,9,-999,-999,-999,9,1002, 3.8211,27.204,-999,9
RF06-06-1,165E,RF-2705,1,4,02-18558,2,20060620,1417,30.0108,164.9763,5688,1264.6,3.0708,34.3936,2,-999,9,34.3922,2,33.2,2,136.89,2,-999,9,42.1,2,0,2,3.04,2,-999,9,-999,9,-999,9,2367.1,3,2377.8,3,-999,9,   -999.0,  9,-999,9,-999,-999,9,-999,9,-999,9,-999,9,-999,-999,-999,9,1252,2.9819,27.4027,-999,9
RF06-06-1,165E,RF-2705,1,3,02-18557,2,20060620,1411,30.0108,164.9763,5688,1516.6,2.5588,34.4931,2,-999,9,34.4917,2,37.5,2,150.31,2,-999,9,42.29,2,0,2,3.04,2,-999,9,-999,9,-999,9,2383.5,3,2392,3,-999,9,   -999.0,  9,-999,9,-999,-999,9,-999,9,-999,9,-999,9,-999,-999,-999,9,1501,2.4549,27.5284,-999,9
RF06-06-1,165E,RF-2705,1,2,02-18556,2,20060620,1405,30.0108,164.9763,5688,1769.6,2.2432,34.5518,2,-999,9,34.5503,2,53.5,2,156.15,2,-999,9,41.4,2,0,2,2.96,2,-999,9,-999,9,-999,9,2377.5,3,2395.7,3,-999,9,   -999.0,  9,-999,9,-999,-999,9,-999,9,-999,9,-999,9,-999,-999,-999,9,1750,2.1226,27.6028,-999,9
RF06-06-1,165E,RF-2705,1,1,02-18555,2,20060620,1400,30.0108,164.9763,5688,2023.4,1.9775,34.5985,2,-999,9,34.5957,2,84,2,156.7,2,-999,9,40.17,2,0,2,2.85,2,-999,9,-999,9,-999,9,2369.7,3,2405.5,3,-999,9,   -999.0,  9,-999,9,-999,-999,9,-999,9,-999,9,-999,9,-999,-999,-999,9,2000, 1.8396,27.6625,-999,9