BOTTLE,20131214MIRCJHATS
EXPOCODE,SECT_ID,STNNBR,CASTNO,SAMPNO,BTLNBR,BTLNBR_FLAG_W,DATE,TIME,LATITUDE,LONGITUDE,DEPTH,CTDPRS,CTDTMP,CTDSAL,CTDSAL_FLAG_W,CTDOXY,CTDOXY_FLAG_W,SALNTY,SALNTY_FLAG_W,OXYGEN,OXYGEN_FLAG_W,SILCAT,SILCAT_FLAG_W,NITRAT,NITRAT_FLAG_W,NO2+NO3,NO2+NO3_FLAG_W,NITRIT,NITRIT_FLAG_W,PHSPHT,PHSPHT_FLAG_W,CFC-11,CFC-11_FLAG_W,CFC-12,CFC-12_FLAG_W,DELC13,DELC13_FLAG_W,TCARBN,TCARBN_FLAG_W,ALKALI,ALKALI_FLAG_W,PH,PH_FLAG_W,PH_TMP,PH_SCALE,PH_NBS,PH_NBS_FLAG_W,C13ERR,TOTALP,TOTALP_FLAG_W,AMMONI,AMMONI_FLAG_W,CHLORA,CHLORA_FLAG_W,PPHYTN,PPHYTN_FLAG_W,REVPRS,REVTMP,DEPTH_,DEPTH_FLAG,CTDDEP,THETA,SIGTHT,DOC,DOC_FLAG_W
,,,,,,,GMT,GMT,,,METER,DBAR,ITS-90,PSS-78,,UMOL/KG,,PSS-78,,UMOL/KG,,UMOL/KG,,UMOL/KG,,UMOL/KG,,UMOL/KG,,UMOL/KG,,PMOL/KG,,PMOL/KG,,/MILLE,,UMOL/KG,,UMOL/KG,,25_DEG_C,,DEG_C,,,,/MILLE,UMOL/KG,,UMOL/KG,,UG/L,,UG/L,,DBAR,ITS-90,METERS,,METERS,DEG_C,,UMOL/L,
     RF06-06-2,  NONE,RF-2763,  1,     12,02-18348,2,20060726,0657, 27.2770, 130.3365, 5989,     12.2,  29.6217,  34.4731,2,   -999.0,9,  34.4725,2,   -999.0,9,  -999.00,9,  -999.00,9,  -999.00,9,  -999.00,9,  -999.00,9, -999.000,9, -999.000,9,  -999.00,9,   -999.0,9,   -999.0,9,-999.0000,9,   -999.0,  9,  -999.00,9,   -999.0,  -999.00,9,  -999.00,9,  -999.00,9,  -999.00,9,   -999.0,-999.0000, -999,9,   12,  29.6187,  21.4607,   -999.0,9
     RF06-06-2,  NONE,RF-2763,  1,     11,02-18565,2,20060726,0654, 27.2770, 130.3365, 5989,    102.3,  22.0565,  34.8349,2,   -999.0,9,  34.8358,2,   -999.0,9,  -999.00,9,  -999.00,9,  -999.00,9,  -999.00,9,  -999.00,9, -999.000,9, -999.000,9,  -999.00,9,   -999.0,9,   -999.0,9,-999.0000,9,   -999.0,  9,  -999.00,9,   -999.0,  -999.00,9,  -999.00,9,  -999.00,9,  -999.00,9,   -999.0,-999.0000, -999,9,  102,  22.0363,  24.0822,   -999.0,9
     RF06-06-2,  NONE,RF-2763,  1,     10,02-18564,2,20060726,0652, 27.2770, 130.3365, 5989,    202.9,  18.8725,  34.8371,2,   -999.0,9,  34.8367,2,   -999.0,9,  -999.00,9,  -999.00,9,  -999.00,9,  -999.00,9,  -999.00,9, -999.000,9, -999.000,9,  -999.00,9,   -999.0,9,   -999.0,9,-999.0000,9,   -999.0,  9,  -999.00,9,   -999.0,  -999.00,9,  -999.00,9,  -999.00,9,  -999.00,9,   -999.0,-999.0000, -999,9,  201,  18.8365,  24.9382,   -999.0,9
     RF06-06-2,  NONE,RF-2763,  1,      9,02-18563,2,20060726,0649, 27.2770, 130.3365, 5989,    303.6,  17.2421,  34.7673,2,   -999.0,9,  34.7672,2,   -999.0,9,  -999.00,9,  -999.00,9,  -999.00,9,  -999.00,9,  -999.00,9, -999.000,9, -999.000,9,  -999.00,9,   -999.0,9,   -999.0,9,-999.0000,9,   -999.0,  9,  -999.00,9,   -999.0,  -999.00,9,  -999.00,9,  -999.00,9,  -999.00,9,   -999.0,-999.0000, -999,9,  301,  17.1915,  25.2900,   -999.0,9
     RF06-06-2,  NONE,RF-2763,  1,      8,02-18562,2,20060726,0646, 27.2770, 130.3365, 5989,    405.4,  14.8534,  34.5877,2,   -999.0,9,  34.5898,2,   -999.0,9,  -999.00,9,  -999.00,9,  -999.00,9,  -999.00,9,  -999.00,9, -999.000,9, -999.000,9,  -999.00,9,   -999.0,9,   -999.0,9,-999.0000,9,   -999.0,  9,  -999.00,9,   -999.0,  -999.00,9,  -999.00,9,  -999.00,9,  -999.00,9,   -999.0,-999.0000, -999,9,  402,  14.7922,  25.6993,   -999.0,9
     RF06-06-2,  NONE,RF-2763,  1,      7,02-18561,2,20060726,0641, 27.2770, 130.3365, 5989,    607.8,   9.3963,  34.2518,2,   -999.0,9,  34.2526,2,   -999.0,9,  -999.00,9,  -999.00,9,  -999.00,9,  -999.00,9,  -999.00,9, -999.000,9, -999.000,9,  -999.00,9,   -999.0,9,   -999.0,9,-999.0000,9,   -999.0,  9,  -999.00,9,   -999.0,  -999.00,9,  -999.00,9,  -999.00,9,  -999.00,9,   -999.0,-999.0000, -999,9,  603,   9.3276,  26.4795,   -999.0,9
     RF06-06-2,  NONE,RF-2763,  1,      6,02-18560,2,20060726,0636, 27.2770, 130.3365, 5989,    808.5,   6.3676,  34.3089,2,   -999.0,9,  34.3096,2,   -999.0,9,  -999.00,9,  -999.00,9,  -999.00,9,  -999.00,9,  -999.00,9, -999.000,9, -999.000,9,  -999.00,9,   -999.0,9,   -999.0,9,-999.0000,9,   -999.0,  9,  -999.00,9,   -999.0,  -999.00,9,  -999.00,9,  -999.00,9,  -999.00,9,   -999.0,-999.0000, -999,9,  802,   6.2932,  26.9689,   -999.0,9
     RF06-06-2,  NONE,RF-2763,  1,      5,02-18559,2,20060726,0632, 27.2770, 130.3365, 5989,   1011.2,   4.0821,  34.3576,2,   -999.0,9,  34.3576,2,   -999.0,9,  -999.00,9,  -999.00,9,  -999.00,9,  -999.00,9,  -999.00,9, -999.000,9, -999.000,9,  -999.00,9,   -999.0,9,   -999.0,9,-999.0000,9,   -999.0,  9,  -999.00,9,   -999.0,  -999.00,9,  -999.00,9,  -999.00,9,  -999.00,9,   -999.0,-999.0000, -999,9, 1002,   4.0051,  27.2746,   -999.0,9
     RF06-06-2,  NONE,RF-2763,  1,      4,02-18558,2,20060726,0626, 27.2770, 130.3365, 5989,   1264.7,   3.0963,  34.4701,2,   -999.0,9,  34.4706,2,   -999.0,9,  -999.00,9,  -999.00,9,  -999.00,9,  -999.00,9,  -999.00,9, -999.000,9, -999.000,9,  -999.00,9,   -999.0,9,   -999.0,9,-999.0000,9,   -999.0,  9,  -999.00,9,   -999.0,  -999.00,9,  -999.00,9,  -999.00,9,  -999.00,9,   -999.0,-999.0000, -999,9, 1253,   3.0070,  27.4615,   -999.0,9
     RF06-06-2,  NONE,RF-2763,  1,      3,02-18557,2,20060726,0620, 27.2770, 130.3365, 5989,   1518.4,   2.6019,  34.5286,2,   -999.0,9,  34.5284,2,   -999.0,9,  -999.00,9,  -999.00,9,  -999.00,9,  -999.00,9,  -999.00,9, -999.000,9, -999.000,9,  -999.00,9,   -999.0,9,   -999.0,9,-999.0000,9,   -999.0,  9,  -999.00,9,   -999.0,  -999.00,9,  -999.00,9,  -999.00,9,  -999.00,9,   -999.0,-999.0000, -999,9, 1503,   2.4973,  27.5532,   -999.0,9
     RF06-06-2,  NONE,RF-2763,  1,      2,02-18556,2,20060726,0614, 27.2770, 130.3365, 5989,   1769.4,   2.2540,  34.5716,2,   -999.0,9,  34.5730,2,   -999.0,9,  -999.00,9,  -999.00,9,  -999.00,9,  -999.00,9,  -999.00,9, -999.000,9, -999.000,9,  -999.00,9,   -999.0,9,   -999.0,9,-999.0000,9,   -999.0,  9,  -999.00,9,   -999.0,  -999.00,9,  -999.00,9,  -999.00,9,  -999.00,9,   -999.0,-999.0000, -999,9, 1750,   2.1332,  27.6178,   -999.0,9
     RF06-06-2,  NONE,RF-2763,  1,      1,02-18555,2,20060726,0609, 27.2770, 130.3365, 5989,   2024.4,   2.0399,  34.6011,2,   -999.0,9,  34.6012,2,   -999.0,9,  -999.00,9,  -999.00,9,  -999.00,9,  -999.00,9,  -999.00,9, -999.000,9, -999.000,9,  -999.00,9,   -999.0,9,   -999.0,9,-999.0000,9,   -999.0,  9,  -999.00,9,   -999.0,  -999.00,9,  -999.00,9,  -999.00,9,  -999.00,9,   -999.0,-999.0000, -999,9, 2001,   1.9009,  27.6599,   -999.0,9
     RF06-06-2,  NONE,RF-2767,  1,     12,02-18348,2,20060726,2241, 27.8565, 131.4547, 4241,      9.3,  29.8936,  34.7333,2,   -999.0,9,  34.7318,2,   -999.0,9,  -999.00,9,  -999.00,9,  -999.00,9,  -999.00,9,  -999.00,9, -999.000,9, -999.000,9,  -999.00,9,   -999.0,9,   -999.0,9,-999.0000,9,   -999.0,  9,  -999.00,9,   -999.0,  -999.00,9,  -999.00,9,  -999.00,9,  -999.00,9,   -999.0,-999.0000, -999,9,    9,  29.8913,  21.5633,   -999.0,9
     RF06-06-2,  NONE,RF-2767,  1,     11,02-18565,2,20060726,2238, 27.8565, 131.4547, 4241,    100.6,  22.3844,  34.9036,2,   -999.0,9,  34.8728,4,   -999.0,9,  -999.00,9,  -999.00,9,  -999.00,9,  -999.00,9,  -999.00,9, -999.000,9, -999.000,9,  -999.00,9,   -999.0,9,   -999.0,9,-999.0000,9,   -999.0,  9,  -999.00,9,   -999.0,  -999.00,9,  -999.00,9,  -999.00,9,  -999.00,9,   -999.0,-999.0000, -999,9,  100,  22.3643,  24.0421,   -999.0,9
     RF06-06-2,  NONE,RF-2767,  1,     10,02-18564,2,20060726,2235, 27.8565, 131.4547, 4241,    200.9,  18.9585,  34.8620,2,   -999.0,9,  34.8598,2,   -999.0,9,  -999.00,9,  -999.00,9,  -999.00,9,  -999.00,9,  -999.00,9, -999.000,9, -999.000,9,  -999.00,9,   -999.0,9,   -999.0,9,-999.0000,9,   -999.0,  9,  -999.00,9,   -999.0,  -999.00,9,  -999.00,9,  -999.00,9,  -999.00,9,   -999.0,-999.0000, -999,9,  199,  18.9228,  24.9354,   -999.0,9
     RF06-06-2,  NONE,RF-2767,  1,      9,02-18563,2,20060726,2233, 27.8565, 131.4547, 4241,    301.8,  17.4498,  34.7880,2,   -999.0,9,  34.7893,2,   -999.0,9,  -999.00,9,  -999.00,9,  -999.00,9,  -999.00,9,  -999.00,9, -999.000,9, -999.000,9,  -999.00,9,   -999.0,9,   -999.0,9,-999.0000,9,   -999.0,  9,  -999.00,9,   -999.0,  -999.00,9,  -999.00,9,  -999.00,9,  -999.00,9,   -999.0,-999.0000, -999,9,  300,  17.3990,  25.2561,   -999.0,9
     RF06-06-2,  NONE,RF-2767,  1,      8,02-18562,2,20060726,2230, 27.8565, 131.4547, 4241,    403.4,  15.4621,  34.6294,2,   -999.0,9,  34.6322,2,   -999.0,9,  -999.00,9,  -999.00,9,  -999.00,9,  -999.00,9,  -999.00,9, -999.000,9, -999.000,9,  -999.00,9,   -999.0,9,   -999.0,9,-999.0000,9,   -999.0,  9,  -999.00,9,   -999.0,  -999.00,9,  -999.00,9,  -999.00,9,  -999.00,9,   -999.0,-999.0000, -999,9,  400,  15.3995,  25.5979,   -999.0,9
     RF06-06-2,  NONE,RF-2767,  1,      7,02-18561,2,20060726,2226, 27.8565, 131.4547, 4241,    604.5,   9.6206,  34.2406,2,   -999.0,9,  34.2423,2,   -999.0,9,  -999.00,9,  -999.00,9,  -999.00,9,  -999.00,9,  -999.00,9, -999.000,9, -999.000,9,  -999.00,9,   -999.0,9,   -999.0,9,-999.0000,9,   -999.0,  9,  -999.00,9,   -999.0,  -999.00,9,  -999.00,9,  -999.00,9,  -999.00,9,   -999.0,-999.0000, -999,9,  600,   9.5513,  26.4341,   -999.0,9
     RF06-06-2,  NONE,RF-2767,  1,      6,02-18560,2,20060726,2221, 27.8565, 131.4547, 4241,    807.2,   5.7199,  34.2013,2,   -999.0,9,  34.1999,2,   -999.0,9,  -999.00,9,  -999.00,9,  -999.00,9,  -999.00,9,  -999.00,9, -999.000,9, -999.000,9,  -999.00,9,   -999.0,9,   -999.0,9,-999.0000,9,   -999.0,  9,  -999.00,9,   -999.0,  -999.00,9,  -999.00,9,  -999.00,9,  -999.00,9,   -999.0,-999.0000, -999,9,  800,   5.6497,  26.9650,   -999.0,9
     RF06-06-2,  NONE,RF-2767,  1,      5,02-18559,2,20060726,2216, 27.8565, 131.4547, 4241,   1010.4,   4.2253,  34.3267,2,   -999.0,9,  34.3269,2,   -999.0,9,  -999.00,9,  -999.00,9,  -999.00,9,  -999.00,9,  -999.00,9, -999.000,9, -999.000,9,  -999.00,9,   -999.0,9,   -999.0,9,-999.0000,9,   -999.0,  9,  -999.00,9,   -999.0,  -999.00,9,  -999.00,9,  -999.00,9,  -999.00,9,   -999.0,-999.0000, -999,9, 1001,   4.1473,  27.2352,   -999.0,9
     RF06-06-2,  NONE,RF-2767,  1,      4,02-18558,2,20060726,2210, 27.8565, 131.4547, 4241,   1264.4,   3.1481,  34.4571,2,   -999.0,9,  34.4558,2,   -999.0,9,  -999.00,9,  -999.00,9,  -999.00,9,  -999.00,9,  -999.00,9, -999.000,9, -999.000,9,  -999.00,9,   -999.0,9,   -999.0,9,-999.0000,9,   -999.0,  9,  -999.00,9,   -999.0,  -999.00,9,  -999.00,9,  -999.00,9,  -999.00,9,   -999.0,-999.0000, -999,9, 1252,   3.0583,  27.4463,   -999.0,9
     RF06-06-2,  NONE,RF-2767,  1,      3,02-18557,2,20060726,2204, 27.8565, 131.4547, 4241,   1515.8,   2.6185,  34.5202,2,   -999.0,9,  34.5199,2,   -999.0,9,  -999.00,9,  -999.00,9,  -999.00,9,  -999.00,9,  -999.00,9, -999.000,9, -999.000,9,  -999.00,9,   -999.0,9,   -999.0,9,-999.0000,9,   -999.0,  9,  -999.00,9,   -999.0,  -999.00,9,  -999.00,9,  -999.00,9,  -999.00,9,   -999.0,-999.0000, -999,9, 1500,   2.5139,  27.5451,   -999.0,9
     RF06-06-2,  NONE,RF-2767,  1,      2,02-18556,2,20060726,2159, 27.8565, 131.4547, 4241,   1768.5,   2.2945,  34.5641,2,   -999.0,9,  34.5635,2,   -999.0,9,  -999.00,9,  -999.00,9,  -999.00,9,  -999.00,9,  -999.00,9, -999.000,9, -999.000,9,  -999.00,9,   -999.0,9,   -999.0,9,-999.0000,9,   -999.0,  9,  -999.00,9,   -999.0,  -999.00,9,  -999.00,9,  -999.00,9,  -999.00,9,   -999.0,-999.0000, -999,9, 1749,   2.1733,  27.6086,   -999.0,9
     RF06-06-2,  NONE,RF-2767,  1,      1,02-18555,2,20060726,2153, 27.8565, 131.4547, 4241,   2023.2,   2.0051,  34.6062,2,   -999.0,9,  34.6053,2,   -999.0,9,  -999.00,9,  -999.00,9,  -999.00,9,  -999.00,9,  -999.00,9, -999.000,9, -999.000,9,  -999.00,9,   -999.0,9,   -999.0,9,-999.0000,9,   -999.0,  9,  -999.00,9,   -999.0,  -999.00,9,  -999.00,9,  -999.00,9,  -999.00,9,   -999.0,-999.0000, -999,9, 2000,   1.8667,  27.6666,   -999.0,9
     RF06-06-2,  NONE,RF-2771,  1,     12,02-18348,2,20060727,1327, 28.7843, 132.8715, 4465,     11.0,  29.5456,  34.2835,2,   -999.0,9,  34.2845,2,   -999.0,9,  -999.00,9,  -999.00,9,  -999.00,9,  -999.00,9,  -999.00,9, -999.000,9, -999.000,9,  -999.00,9,   -999.0,9,   -999.0,9,-999.0000,9,   -999.0,  9,  -999.00,9,   -999.0,  -999.00,9,  -999.00,9,  -999.00,9,  -999.00,9,   -999.0,-999.0000, -999,9,   11,  29.5429,  21.3441,   -999.0,9
     RF06-06-2,  NONE,RF-2771,  1,     11,02-18565,2,20060727,1325, 28.7843, 132.8715, 4465,    101.1,  21.7701,  34.8017,2,   -999.0,9,  34.8007,2,   -999.0,9,  -999.00,9,  -999.00,9,  -999.00,9,  -999.00,9,  -999.00,9, -999.000,9, -999.000,9,  -999.00,9,   -999.0,9,   -999.0,9,-999.0000,9,   -999.0,  9,  -999.00,9,   -999.0,  -999.00,9,  -999.00,9,  -999.00,9,  -999.00,9,   -999.0,-999.0000, -999,9,  100,  21.7503,  24.1368,   -999.0,9
     RF06-06-2,  NONE,RF-2771,  1,     10,02-18564,2,20060727,1322, 28.7843, 132.8715, 4465,    202.7,  18.7456,  34.8602,2,   -999.0,9,  34.8611,2,   -999.0,9,  -999.00,9,  -999.00,9,  -999.00,9,  -999.00,9,  -999.00,9, -999.000,9, -999.000,9,  -999.00,9,   -999.0,9,   -999.0,9,-999.0000,9,   -999.0,  9,  -999.00,9,   -999.0,  -999.00,9,  -999.00,9,  -999.00,9,  -999.00,9,   -999.0,-999.0000, -999,9,  201,  18.7098,  24.9880,   -999.0,9
     RF06-06-2,  NONE,RF-2771,  1,      9,02-18563,2,20060727,1319, 28.7843, 132.8715, 4465,    302.7,  17.4977,  34.7920,2,   -999.0,9,  34.7922,2,   -999.0,9,  -999.00,9,  -999.00,9,  -999.00,9,  -999.00,9,  -999.00,9, -999.000,9, -999.000,9,  -999.00,9,   -999.0,9,   -999.0,9,-999.0000,9,   -999.0,  9,  -999.00,9,   -999.0,  -999.00,9,  -999.00,9,  -999.00,9,  -999.00,9,   -999.0,-999.0000, -999,9,  300,  17.4467,  25.2477,   -999.0,9
     RF06-06-2,  NONE,RF-2771,  1,      8,02-18562,2,20060727,1316, 28.7843, 132.8715, 4465,    404.3,  15.8296,  34.6617,2,   -999.0,9,  34.6569,4,   -999.0,9,  -999.00,9,  -999.00,9,  -999.00,9,  -999.00,9,  -999.00,9, -999.000,9, -999.000,9,  -999.00,9,   -999.0,9,   -999.0,9,-999.0000,9,   -999.0,  9,  -999.00,9,   -999.0,  -999.00,9,  -999.00,9,  -999.00,9,  -999.00,9,   -999.0,-999.0000, -999,9,  401,  15.7659,  25.5406,   -999.0,9
     RF06-06-2,  NONE,RF-2771,  1,      7,02-18561,2,20060727,1311, 28.7843, 132.8715, 4465,    606.2,  10.0753,  34.2902,2,   -999.0,9,  34.2900,2,   -999.0,9,  -999.00,9,  -999.00,9,  -999.00,9,  -999.00,9,  -999.00,9, -999.000,9, -999.000,9,  -999.00,9,   -999.0,9,   -999.0,9,-999.0000,9,   -999.0,  9,  -999.00,9,   -999.0,  -999.00,9,  -999.00,9,  -999.00,9,  -999.00,9,   -999.0,-999.0000, -999,9,  601,  10.0038,  26.3970,   -999.0,9
     RF06-06-2,  NONE,RF-2771,  1,      6,02-18560,2,20060727,1306, 28.7843, 132.8715, 4465,    809.0,   6.6788,  34.2649,2,   -999.0,9,  34.2654,2,   -999.0,9,  -999.00,9,  -999.00,9,  -999.00,9,  -999.00,9,  -999.00,9, -999.000,9, -999.000,9,  -999.00,9,   -999.0,9,   -999.0,9,-999.0000,9,   -999.0,  9,  -999.00,9,   -999.0,  -999.00,9,  -999.00,9,  -999.00,9,  -999.00,9,   -999.0,-999.0000, -999,9,  802,   6.6025,  26.8935,   -999.0,9
     RF06-06-2,  NONE,RF-2771,  1,      5,02-18559,2,20060727,1301, 28.7843, 132.8715, 4465,   1011.3,   4.3996,  34.3124,2,   -999.0,9,  34.3119,2,   -999.0,9,  -999.00,9,  -999.00,9,  -999.00,9,  -999.00,9,  -999.00,9, -999.000,9, -999.000,9,  -999.00,9,   -999.0,9,   -999.0,9,-999.0000,9,   -999.0,  9,  -999.00,9,   -999.0,  -999.00,9,  -999.00,9,  -999.00,9,  -999.00,9,   -999.0,-999.0000, -999,9, 1002,   4.3202,  27.2056,   -999.0,9
     RF06-06-2,  NONE,RF-2771,  1,      4,02-18558,2,20060727,1255, 28.7843, 132.8715, 4465,   1262.9,   3.2747,  34.4461,2,   -999.0,9,  34.4454,2,   -999.0,9,  -999.00,9,  -999.00,9,  -999.00,9,  -999.00,9,  -999.00,9, -999.000,9, -999.000,9,  -999.00,9,   -999.0,9,   -999.0,9,-999.0000,9,   -999.0,  9,  -999.00,9,   -999.0,  -999.00,9,  -999.00,9,  -999.00,9,  -999.00,9,   -999.0,-999.0000, -999,9, 1251,   3.1838,  27.4260,   -999.0,9
     RF06-06-2,  NONE,RF-2771,  1,      3,02-18557,2,20060727,1250, 28.7843, 132.8715, 4465,   1517.1,   2.6810,  34.5159,2,   -999.0,9,  34.5157,2,   -999.0,9,  -999.00,9,  -999.00,9,  -999.00,9,  -999.00,9,  -999.00,9, -999.000,9, -999.000,9,  -999.00,9,   -999.0,9,   -999.0,9,-999.0000,9,   -999.0,  9,  -999.00,9,   -999.0,  -999.00,9,  -999.00,9,  -999.00,9,  -999.00,9,   -999.0,-999.0000, -999,9, 1501,   2.5756,  27.5363,   -999.0,9
     RF06-06-2,  NONE,RF-2771,  1,      2,02-18556,2,20060727,1244, 28.7843, 132.8715, 4465,   1769.5,   2.2944,  34.5657,2,   -999.0,9,  34.5659,2,   -999.0,9,  -999.00,9,  -999.00,9,  -999.00,9,  -999.00,9,  -999.00,9, -999.000,9, -999.000,9,  -999.00,9,   -999.0,9,   -999.0,9,-999.0000,9,   -999.0,  9,  -999.00,9,   -999.0,  -999.00,9,  -999.00,9,  -999.00,9,  -999.00,9,   -999.0,-999.0000, -999,9, 1750,   2.1731,  27.6098,   -999.0,9
     RF06-06-2,  NONE,RF-2771,  1,      1,02-18555,2,20060727,1238, 28.7843, 132.8715, 4465,   2024.9,   2.0485,  34.6021,2,   -999.0,9,  34.6015,2,   -999.0,9,  -999.00,9,  -999.00,9,  -999.00,9,  -999.00,9,  -999.00,9, -999.000,9, -999.000,9,  -999.00,9,   -999.0,9,   -999.0,9,-999.0000,9,   -999.0,  9,  -999.00,9,   -999.0,  -999.00,9,  -999.00,9,  -999.00,9,  -999.00,9,   -999.0,-999.0000, -999,9, 2002,   1.9093,  27.6600,   -999.0,9