BOTTLE,20131214MIRCJHATS
EXPOCODE,SECT_ID,STNNBR,CASTNO,SAMPNO,BTLNBR,BTLNBR_FLAG_W,DATE,TIME,LATITUDE,LONGITUDE,DEPTH,CTDPRS,CTDTMP,CTDSAL,CTDSAL_FLAG_W,CTDOXY,CTDOXY_FLAG_W,SALNTY,SALNTY_FLAG_W,OXYGEN,OXYGEN_FLAG_W,SILCAT,SILCAT_FLAG_W,NITRAT,NITRAT_FLAG_W,NO2+NO3,NO2+NO3_FLAG_W,NITRIT,NITRIT_FLAG_W,PHSPHT,PHSPHT_FLAG_W,CFC-11,CFC-11_FLAG_W,CFC-12,CFC-12_FLAG_W,DELC13,DELC13_FLAG_W,TCARBN,TCARBN_FLAG_W,ALKALI,ALKALI_FLAG_W,PH,PH_FLAG_W,PH_TMP,PH_SCALE,PH_NBS,PH_NBS_FLAG_W,C13ERR,TOTALP,TOTALP_FLAG_W,AMMONI,AMMONI_FLAG_W,CHLORA,CHLORA_FLAG_W,PPHYTN,PPHYTN_FLAG_W,REVPRS,REVTMP,DEPTH_,DEPTH_FLAG,CTDDEP,THETA,SIGTHT,DOC,DOC_FLAG_W
,,,,,,,GMT,GMT,,,METER,DBAR,ITS-90,PSS-78,,UMOL/KG,,PSS-78,,UMOL/KG,,UMOL/KG,,UMOL/KG,,UMOL/KG,,UMOL/KG,,UMOL/KG,,PMOL/KG,,PMOL/KG,,/MILLE,,UMOL/KG,,UMOL/KG,,25_DEG_C,,DEG_C,,,,/MILLE,UMOL/KG,,UMOL/KG,,UG/L,,UG/L,,DBAR,ITS-90,METERS,,METERS,DEG_C,,UMOL/L,
     RF06-06-2,  137E,RF-2717,  1,     -9,      -9,5,20060706,1648,  3.0070, 137.0177, 4543,      0.0,  29.1954,  33.9441,2,   -999.0,9,-999.0000,9,    195.6,2,     1.68,2,  -999.00,9,     0.00,2,     0.00,2,     0.01,2, -999.000,9, -999.000,9,  -999.00,9,   1899.9,2,   -999.0,9,   8.1144,6,     25.0, TS,  -999.00,9,   -999.0,  -999.00,9,  -999.00,9,     0.09,2,     0.02,2,   -999.0,-999.0000, -999,9,    0,  29.1952,  21.2064,   -999.0,9
     RF06-06-2,  137E,RF-2717,  1,     24,02-18578,2,20060706,1706,  3.0070, 137.0177, 4543,      9.9,  29.1109,  33.9326,2,   -999.0,9,-999.0000,9,   -999.0,9,  -999.00,9,  -999.00,9,  -999.00,9,  -999.00,9,  -999.00,9, -999.000,9, -999.000,9,  -999.00,9,   -999.0,9,   -999.0,9,-999.0000,9,   -999.0,  9,  -999.00,9,   -999.0,  -999.00,9,  -999.00,9,  -999.00,9,  -999.00,9,   -999.0,-999.0000, -999,9,   10,  29.1085,  21.2267,   -999.0,9
     RF06-06-2,  137E,RF-2717,  1,     21,02-18575,2,20060706,1706,  3.0070, 137.0177, 4543,     10.1,  29.1033,  33.9321,2,   -999.0,9,  33.9306,2,    196.6,2,     1.65,2,  -999.00,9,     0.00,2,     0.00,2,     0.02,2, -999.000,9, -999.000,9,  -999.00,9,   1899.3,2,   -999.0,9,-999.0000,9,   -999.0,  9,  -999.00,9,   -999.0,  -999.00,9,  -999.00,9,     0.08,2,     0.02,2,   -999.0,-999.0000, -999,9,   10,  29.1009,  21.2289,   -999.0,9
     RF06-06-2,  137E,RF-2717,  1,     20,02-18574,2,20060706,1705,  3.0070, 137.0177, 4543,     24.7,  28.8899,  34.0675,2,   -999.0,9,-999.0000,9,    199.3,2,     1.62,2,  -999.00,9,     0.00,2,     0.01,2,     0.07,2, -999.000,9, -999.000,9,  -999.00,9,   1920.5,2,   -999.0,9,-999.0000,9,   -999.0,  9,  -999.00,9,   -999.0,  -999.00,9,  -999.00,9,     0.20,2,     0.05,2,   -999.0,-999.0000, -999,9,   25,  28.8840,  21.4027,   -999.0,9
     RF06-06-2,  137E,RF-2717,  1,     19,02-18573,2,20060706,1704,  3.0070, 137.0177, 4543,     50.4,  28.8381,  34.8759,2,   -999.0,9,-999.0000,9,    184.7,2,     1.69,2,  -999.00,9,     2.03,2,     0.25,2,     0.25,2, -999.000,9, -999.000,9,  -999.00,9,   1979.8,2,   -999.0,9,-999.0000,9,   -999.0,  9,  -999.00,9,   -999.0,  -999.00,9,  -999.00,9,     0.39,2,     0.24,2,   -999.0,-999.0000, -999,9,   50,  28.8260,  22.0289,   -999.0,9
     RF06-06-2,  137E,RF-2717,  1,     18,02-18572,2,20060706,1703,  3.0070, 137.0177, 4543,     75.3,  28.5208,  35.3246,2,   -999.0,9,-999.0000,9,    162.5,2,     2.09,2,  -999.00,9,     4.51,2,     0.15,2,     0.42,2, -999.000,9, -999.000,9,  -999.00,9,   2021.1,2,   -999.0,9,-999.0000,9,   -999.0,  9,  -999.00,9,   -999.0,  -999.00,9,  -999.00,9,     0.33,2,     0.35,2,   -999.0,-999.0000, -999,9,   75,  28.5028,  22.4733,   -999.0,9
     RF06-06-2,  137E,RF-2717,  1,     17,02-18571,2,20060706,1701,  3.0070, 137.0177, 4543,    101.1,  27.7128,  35.2890,2,   -999.0,9,  33.3287,4,    147.6,2,     2.57,2,  -999.00,9,     6.18,2,     0.04,2,     0.50,2, -999.000,9, -999.000,9,  -999.00,9,   2029.0,2,   -999.0,9,-999.0000,9,   -999.0,  9,  -999.00,9,   -999.0,  -999.00,9,  -999.00,9,     0.12,2,     0.26,2,   -999.0,-999.0000, -999,9,  100,  27.6891,  22.7133,   -999.0,9
     RF06-06-2,  137E,RF-2717,  1,     16,02-18570,2,20060706,1700,  3.0070, 137.0177, 4543,    125.8,  27.2868,  35.3710,2,   -999.0,9,-999.0000,9,    147.7,2,     2.70,2,  -999.00,9,     6.95,2,     0.04,2,     0.56,2, -999.000,9, -999.000,9,  -999.00,9,   2036.2,2,   -999.0,9,-999.0000,9,   -999.0,  9,  -999.00,9,   -999.0,  -999.00,9,  -999.00,9,     0.10,2,     0.22,2,   -999.0,-999.0000, -999,9,  125,  27.2577,  22.9146,   -999.0,9
     RF06-06-2,  137E,RF-2717,  1,     15,02-18569,2,20060706,1659,  3.0070, 137.0177, 4543,    150.7,  25.8806,  35.1334,2,   -999.0,9,-999.0000,9,    132.5,2,     3.75,2,  -999.00,9,     8.49,2,     0.02,2,     0.61,2, -999.000,9, -999.000,9,  -999.00,9,   2047.8,2,   -999.0,9,-999.0000,9,   -999.0,  9,  -999.00,9,   -999.0,  -999.00,9,  -999.00,9,     0.03,2,     0.08,2,   -999.0,-999.0000, -999,9,  150,  25.8471,  23.1816,   -999.0,9
     RF06-06-2,  137E,RF-2717,  1,     14,02-18568,2,20060706,1657,  3.0070, 137.0177, 4543,    201.5,  17.6917,  34.7406,2,   -999.0,9,  34.7300,4,    155.9,2,    10.94,2,  -999.00,9,    11.08,2,     0.01,2,     0.77,2, -999.000,9, -999.000,9,  -999.00,9,   2086.9,2,   -999.0,9,-999.0000,9,   -999.0,  9,  -999.00,9,   -999.0,  -999.00,9,  -999.00,9,     0.02,2,     0.05,2,   -999.0,-999.0000, -999,9,  200,  17.6576,  25.1572,   -999.0,9
     RF06-06-2,  137E,RF-2717,  1,     13,02-18567,2,20060706,1656,  3.0070, 137.0177, 4543,    251.7,  14.6367,  34.7727,2,   -999.0,9,-999.0000,9,    134.7,2,    19.85,2,  -999.00,9,    17.98,2,     0.00,2,     1.24,2, -999.000,9, -999.000,9,  -999.00,9,   2134.5,2,   -999.0,9,-999.0000,9,   -999.0,  9,  -999.00,9,   -999.0,  -999.00,9,  -999.00,9,  -999.00,9,  -999.00,9,   -999.0,-999.0000, -999,9,  250,  14.5992,  25.8839,   -999.0,9
     RF06-06-2,  137E,RF-2717,  1,     12,02-18348,2,20060706,1654,  3.0070, 137.0177, 4543,    302.3,  10.6867,  34.4654,2,   -999.0,9,  34.4644,2,    103.1,2,    30.54,2,  -999.00,9,    25.74,2,     0.00,2,     1.80,2, -999.000,9, -999.000,9,  -999.00,9,   2191.8,2,   -999.0,9,-999.0000,9,   -999.0,  9,  -999.00,9,   -999.0,  -999.00,9,  -999.00,9,  -999.00,9,  -999.00,9,   -999.0,-999.0000, -999,9,  300,  10.6502,  26.4216,   -999.0,9
     RF06-06-2,  137E,RF-2717,  1,     11,02-18565,2,20060706,1651,  3.0070, 137.0177, 4543,    403.7,   8.2420,  34.5778,2,   -999.0,9,  34.5781,2,     90.1,2,    39.99,2,  -999.00,9,    32.09,2,     0.00,2,     2.24,2, -999.000,9, -999.000,9,  -999.00,9,   2236.3,2,   -999.0,9,-999.0000,9,   -999.0,  9,  -999.00,9,   -999.0,  -999.00,9,  -999.00,9,  -999.00,9,  -999.00,9,   -999.0,-999.0000, -999,9,  401,   8.2001,  26.9121,   -999.0,9
     RF06-06-2,  137E,RF-2717,  1,     10,02-18564,2,20060706,1647,  3.0070, 137.0177, 4543,    503.7,   7.3387,  34.5598,2,   -999.0,9,-999.0000,9,    103.7,2,    42.93,2,  -999.00,9,    32.75,2,     0.00,2,     2.29,2, -999.000,9, -999.000,9,  -999.00,9,   2235.6,2,   -999.0,9,-999.0000,9,   -999.0,  9,  -999.00,9,   -999.0,  -999.00,9,  -999.00,9,  -999.00,9,  -999.00,9,   -999.0,-999.0000, -999,9,  500,   7.2895,  27.0314,   -999.0,9
     RF06-06-2,  137E,RF-2717,  1,      9,02-18563,2,20060706,1644,  3.0070, 137.0177, 4543,    605.3,   6.6968,  34.5417,2,   -999.0,9,  34.5415,2,    111.6,2,    47.71,2,  -999.00,9,    33.31,2,     0.00,2,     2.34,2, -999.000,9, -999.000,9,  -999.00,9,   2239.7,2,   -999.0,9,-999.0000,9,   -999.0,  9,  -999.00,9,   -999.0,  -999.00,9,  -999.00,9,  -999.00,9,  -999.00,9,   -999.0,-999.0000, -999,9,  601,   6.6402,  27.1068,   -999.0,9
     RF06-06-2,  137E,RF-2717,  1,      8,02-18562,2,20060706,1639,  3.0070, 137.0177, 4543,    705.4,   6.0284,  34.5338,2,   -999.0,9,-999.0000,9,    100.3,2,    58.62,2,  -999.00,9,    35.36,2,     0.00,2,     2.51,2, -999.000,9, -999.000,9,  -999.00,9,   2263.8,2,   -999.0,9,-999.0000,9,   -999.0,  9,  -999.00,9,   -999.0,  -999.00,9,  -999.00,9,  -999.00,9,  -999.00,9,   -999.0,-999.0000, -999,9,  700,   5.9656,  27.1887,   -999.0,9
     RF06-06-2,  137E,RF-2717,  1,      7,02-18561,2,20060706,1636,  3.0070, 137.0177, 4543,    805.7,   5.3958,  34.5389,2,   -999.0,9,  34.5396,2,     94.0,2,    70.51,2,  -999.00,9,    36.66,2,     0.00,2,     2.61,2, -999.000,9, -999.000,9,  -999.00,9,   2274.2,2,   -999.0,9,-999.0000,9,   -999.0,  9,  -999.00,9,   -999.0,  -999.00,9,  -999.00,9,  -999.00,9,  -999.00,9,   -999.0,-999.0000, -999,9,  800,   5.3273,  27.2712,   -999.0,9
     RF06-06-2,  137E,RF-2717,  1,      6,02-18560,2,20060706,1634,  3.0070, 137.0177, 4543,    907.8,   4.7993,  34.5493,2,   -999.0,9,-999.0000,9,     90.6,2,    82.42,2,  -999.00,9,    37.69,2,     0.00,2,     2.70,2, -999.000,9, -999.000,9,  -999.00,9,   2291.1,2,   -999.0,9,-999.0000,9,   -999.0,  9,  -999.00,9,   -999.0,  -999.00,9,  -999.00,9,  -999.00,9,  -999.00,9,   -999.0,-999.0000, -999,9,  901,   4.7256,  27.3492,   -999.0,9
     RF06-06-2,  137E,RF-2717,  1,      5,02-18559,2,20060706,1629,  3.0070, 137.0177, 4543,   1008.0,   4.3565,  34.5593,2,   -999.0,9,  34.5592,2,     95.0,2,    93.01,2,  -999.00,9,    37.52,2,     0.00,2,     2.70,2, -999.000,9, -999.000,9,  -999.00,9,   2302.5,2,   -999.0,9,-999.0000,9,   -999.0,  9,  -999.00,9,   -999.0,  -999.00,9,  -999.00,9,  -999.00,9,  -999.00,9,   -999.0,-999.0000, -999,9, 1000,   4.2773,  27.4063,   -999.0,9
     RF06-06-2,  137E,RF-2717,  1,      4,02-18558,2,20060706,1622,  3.0070, 137.0177, 4543,   1260.6,   3.5807,  34.5820,2,   -999.0,9,  34.5814,2,     97.3,2,   106.97,2,  -999.00,9,    38.13,2,     0.00,2,     2.75,2, -999.000,9, -999.000,9,  -999.00,9,   2314.8,2,   -999.0,9,-999.0000,9,   -999.0,  9,  -999.00,9,   -999.0,  -999.00,9,  -999.00,9,  -999.00,9,  -999.00,9,   -999.0,-999.0000, -999,9, 1250,   3.4867,  27.5053,   -999.0,9
     RF06-06-2,  137E,RF-2717,  1,      3,02-18557,2,20060706,1616,  3.0070, 137.0177, 4543,   1514.9,   2.8650,  34.6068,2,   -999.0,9,  34.6077,2,    104.2,2,   122.09,2,  -999.00,9,    38.28,2,     0.00,2,     2.75,2, -999.000,9, -999.000,9,  -999.00,9,   2328.6,2,   -999.0,9,-999.0000,9,   -999.0,  9,  -999.00,9,   -999.0,  -999.00,9,  -999.00,9,  -999.00,9,  -999.00,9,   -999.0,-999.0000, -999,9, 1501,   2.7574,  27.5931,   -999.0,9
     RF06-06-2,  137E,RF-2717,  1,      2,02-18556,2,20060706,1610,  3.0070, 137.0177, 4543,   1768.2,   2.5062,  34.6237,2,   -999.0,9,  34.6240,2,    111.5,2,   128.27,2,  -999.00,9,    38.00,2,     0.00,2,     2.71,2, -999.000,9, -999.000,9,  -999.00,9,   2335.5,6,   -999.0,9,-999.0000,9,   -999.0,  9,  -999.00,9,   -999.0,  -999.00,9,  -999.00,9,  -999.00,9,  -999.00,9,   -999.0,-999.0000, -999,9, 1751,   2.3820,  27.6390,   -999.0,9
     RF06-06-2,  137E,RF-2717,  1,      1,02-18555,2,20060706,1604,  3.0070, 137.0177, 4543,   2020.7,   2.1764,  34.6400,2,   -999.0,9,  34.6400,2,    117.3,2,   135.55,2,  -999.00,9,    37.91,2,     0.00,2,     2.70,2, -999.000,9, -999.000,9,  -999.00,9,   2338.1,2,   -999.0,9,-999.0000,9,   -999.0,  9,  -999.00,9,   -999.0,  -999.00,9,  -999.00,9,  -999.00,9,  -999.00,9,   -999.0,-999.0000, -999,9, 2000,   2.0355,  27.6804,   -999.0,9