BOTTLE,20131214MIRCJHATS
EXPOCODE,SECT_ID,STNNBR,CASTNO,SAMPNO,BTLNBR,BTLNBR_FLAG_W,DATE,TIME,LATITUDE,LONGITUDE,DEPTH,CTDPRS,CTDTMP,CTDSAL,CTDSAL_FLAG_W,CTDOXY,CTDOXY_FLAG_W,SALNTY,SALNTY_FLAG_W,OXYGEN,OXYGEN_FLAG_W,SILCAT,SILCAT_FLAG_W,NITRAT,NITRAT_FLAG_W,NO2+NO3,NO2+NO3_FLAG_W,NITRIT,NITRIT_FLAG_W,PHSPHT,PHSPHT_FLAG_W,CFC-11,CFC-11_FLAG_W,CFC-12,CFC-12_FLAG_W,DELC13,DELC13_FLAG_W,TCARBN,TCARBN_FLAG_W,ALKALI,ALKALI_FLAG_W,PH,PH_FLAG_W,PH_TMP,PH_SCALE,PH_NBS,PH_NBS_FLAG_W,C13ERR,TOTALP,TOTALP_FLAG_W,AMMONI,AMMONI_FLAG_W,CHLORA,CHLORA_FLAG_W,PPHYTN,PPHYTN_FLAG_W,REVPRS,REVTMP,DEPTH_,DEPTH_FLAG,CTDDEP,THETA,SIGTHT,DOC,DOC_FLAG_W
,,,,,,,GMT,GMT,,,METER,DBAR,ITS-90,PSS-78,,UMOL/KG,,PSS-78,,UMOL/KG,,UMOL/KG,,UMOL/KG,,UMOL/KG,,UMOL/KG,,UMOL/KG,,PMOL/KG,,PMOL/KG,,/MILLE,,UMOL/KG,,UMOL/KG,,25_DEG_C,,DEG_C,,,,/MILLE,UMOL/KG,,UMOL/KG,,UG/L,,UG/L,,DBAR,ITS-90,METERS,,METERS,DEG_C,,UMOL/L,
     RF06-06-2,  137E,RF-2727,  1,     -9,      -9,5,20060711,1243, 13.0120, 136.9960, 4902,      0.0,  29.0509,  34.1219,2,   -999.0,9,-999.0000,9,    195.8,2,     1.56,2,  -999.00,9,     0.00,2,     0.00,2,     0.01,2, -999.000,9, -999.000,9,  -999.00,9,   1900.4,2,   -999.0,9,   8.1349,2,     25.0, TS,  -999.00,9,   -999.0,  -999.00,9,  -999.00,9,     0.10,2,     0.04,2,   -999.0,-999.0000, -999,9,    0,  29.0507,  21.3880,   -999.0,9
     RF06-06-2,  137E,RF-2727,  1,     21,02-18575,2,20060711,1256, 13.0120, 136.9960, 4902,     11.7,  29.0507,  34.1203,2,   -999.0,9,  34.1204,2,    195.2,2,     1.55,2,  -999.00,9,     0.00,2,     0.00,2,     0.01,2, -999.000,9, -999.000,9,  -999.00,9,   -999.0,9,   -999.0,9,-999.0000,9,   -999.0,  9,  -999.00,9,   -999.0,  -999.00,9,  -999.00,9,     0.10,2,     0.03,2,   -999.0,-999.0000, -999,9,   12,  29.0479,  21.3878,   -999.0,9
     RF06-06-2,  137E,RF-2727,  1,     24,02-18578,2,20060711,1256, 13.0120, 136.9960, 4902,     11.8,  29.0488,  34.1204,2,   -999.0,9,-999.0000,9,   -999.0,9,  -999.00,9,  -999.00,9,  -999.00,9,  -999.00,9,  -999.00,9, -999.000,9, -999.000,9,  -999.00,9,   -999.0,9,   -999.0,9,-999.0000,9,   -999.0,  9,  -999.00,9,   -999.0,  -999.00,9,  -999.00,9,  -999.00,9,  -999.00,9,   -999.0,-999.0000, -999,9,   12,  29.0459,  21.3885,   -999.0,9
     RF06-06-2,  137E,RF-2727,  1,     20,02-18574,2,20060711,1255, 13.0120, 136.9960, 4902,     27.0,  29.0671,  34.1246,2,   -999.0,9,-999.0000,9,    202.9,2,     1.54,2,  -999.00,9,     0.00,2,     0.00,2,     0.01,2, -999.000,9, -999.000,9,  -999.00,9,   -999.0,9,   -999.0,9,-999.0000,9,   -999.0,  9,  -999.00,9,   -999.0,  -999.00,9,  -999.00,9,     0.10,2,     0.03,2,   -999.0,-999.0000, -999,9,   27,  29.0606,  21.3868,   -999.0,9
     RF06-06-2,  137E,RF-2727,  1,     19,02-18573,2,20060711,1254, 13.0120, 136.9960, 4902,     51.7,  29.1050,  34.1492,2,   -999.0,9,-999.0000,9,    199.1,2,     1.50,2,  -999.00,9,     0.00,2,     0.00,2,     0.01,2, -999.000,9, -999.000,9,  -999.00,9,   -999.0,9,   -999.0,9,-999.0000,9,   -999.0,  9,  -999.00,9,   -999.0,  -999.00,9,  -999.00,9,     0.12,2,     0.04,2,   -999.0,-999.0000, -999,9,   51,  29.0925,  21.3946,   -999.0,9
     RF06-06-2,  137E,RF-2727,  1,     18,02-18572,2,20060711,1253, 13.0120, 136.9960, 4902,     77.0,  29.0551,  34.3050,2,   -999.0,9,-999.0000,9,    202.7,2,     1.46,2,  -999.00,9,     0.00,2,     0.00,2,     0.00,2, -999.000,9, -999.000,9,  -999.00,9,   -999.0,9,   -999.0,9,-999.0000,9,   -999.0,  9,  -999.00,9,   -999.0,  -999.00,9,  -999.00,9,     0.17,2,     0.08,2,   -999.0,-999.0000, -999,9,   77,  29.0365,  21.5302,   -999.0,9
     RF06-06-2,  137E,RF-2727,  1,     17,02-18571,2,20060711,1252, 13.0120, 136.9960, 4902,    102.1,  27.6021,  34.6822,2,   -999.0,9,  34.6920,4,    200.8,2,     1.40,2,  -999.00,9,     0.00,2,     0.00,2,     0.03,2, -999.000,9, -999.000,9,  -999.00,9,   -999.0,9,   -999.0,9,-999.0000,9,   -999.0,  9,  -999.00,9,   -999.0,  -999.00,9,  -999.00,9,     0.30,2,     0.19,2,   -999.0,-999.0000, -999,9,  101,  27.5783,  22.2927,   -999.0,9
     RF06-06-2,  137E,RF-2727,  1,     16,02-18570,2,20060711,1251, 13.0120, 136.9960, 4902,    127.0,  26.4888,  34.8249,2,   -999.0,9,-999.0000,9,    202.5,2,     1.29,2,  -999.00,9,     0.05,2,     0.05,2,     0.05,2, -999.000,9, -999.000,9,  -999.00,9,   -999.0,9,   -999.0,9,-999.0000,9,   -999.0,  9,  -999.00,9,   -999.0,  -999.00,9,  -999.00,9,     0.20,2,     0.27,2,   -999.0,-999.0000, -999,9,  126,  26.4601,  22.7571,   -999.0,9
     RF06-06-2,  137E,RF-2727,  1,     15,02-18569,2,20060711,1250, 13.0120, 136.9960, 4902,    154.1,  24.1619,  35.0085,2,   -999.0,9,-999.0000,9,    184.2,2,     1.68,2,  -999.00,9,     0.77,2,     0.02,2,     0.07,2, -999.000,9, -999.000,9,  -999.00,9,   -999.0,9,   -999.0,9,-999.0000,9,   -999.0,  9,  -999.00,9,   -999.0,  -999.00,9,  -999.00,9,     0.05,2,     0.17,2,   -999.0,-999.0000, -999,9,  153,  24.1293,  23.6094,   -999.0,9
     RF06-06-2,  137E,RF-2727,  1,     14,02-18568,2,20060711,1248, 13.0120, 136.9960, 4902,    202.6,  20.2030,  34.9587,2,   -999.0,9,  34.9491,4,    182.7,2,     3.18,2,  -999.00,9,     3.35,2,     0.00,2,     0.21,2, -999.000,9, -999.000,9,  -999.00,9,   -999.0,9,   -999.0,9,-999.0000,9,   -999.0,  9,  -999.00,9,   -999.0,  -999.00,9,  -999.00,9,     0.01,2,     0.02,2,   -999.0,-999.0000, -999,9,  201,  20.1653,  24.6865,   -999.0,9
     RF06-06-2,  137E,RF-2727,  1,     13,02-18567,2,20060711,1246, 13.0120, 136.9960, 4902,    254.0,  17.1177,  34.7506,2,   -999.0,9,-999.0000,9,    188.3,2,     5.72,2,  -999.00,9,     6.67,2,     0.00,2,     0.42,2, -999.000,9, -999.000,9,  -999.00,9,   -999.0,9,   -999.0,9,-999.0000,9,   -999.0,  9,  -999.00,9,   -999.0,  -999.00,9,  -999.00,9,  -999.00,9,  -999.00,9,   -999.0,-999.0000, -999,9,  252,  17.0756,  25.3048,   -999.0,9
     RF06-06-2,  137E,RF-2727,  1,     12,02-18348,2,20060711,1245, 13.0120, 136.9960, 4902,    304.4,  14.3397,  34.5189,2,   -999.0,9,  34.5157,2,    172.5,2,    11.61,2,  -999.00,9,    12.06,2,     0.00,2,     0.80,2, -999.000,9, -999.000,9,  -999.00,9,   -999.0,9,   -999.0,9,-999.0000,9,   -999.0,  9,  -999.00,9,   -999.0,  -999.00,9,  -999.00,9,  -999.00,9,  -999.00,9,   -999.0,-999.0000, -999,9,  302,  14.2950,  25.7530,   -999.0,9
     RF06-06-2,  137E,RF-2727,  1,     11,02-18565,2,20060711,1242, 13.0120, 136.9960, 4902,    405.6,   9.1165,  34.2500,2,   -999.0,9,  34.2505,2,    117.0,2,    36.16,2,  -999.00,9,    26.16,2,     0.00,2,     1.84,2, -999.000,9, -999.000,9,  -999.00,9,   -999.0,9,   -999.0,9,-999.0000,9,   -999.0,  9,  -999.00,9,   -999.0,  -999.00,9,  -999.00,9,  -999.00,9,  -999.00,9,   -999.0,-999.0000, -999,9,  403,   9.0720,  26.5193,   -999.0,9
     RF06-06-2,  137E,RF-2727,  1,     10,02-18564,2,20060711,1239, 13.0120, 136.9960, 4902,    506.0,   7.3921,  34.3574,2,   -999.0,9,-999.0000,9,     63.5,2,    55.23,2,  -999.00,9,    34.24,2,     0.00,2,     2.47,2, -999.000,9, -999.000,9,  -999.00,9,   -999.0,9,   -999.0,9,-999.0000,9,   -999.0,  9,  -999.00,9,   -999.0,  -999.00,9,  -999.00,9,  -999.00,9,  -999.00,9,   -999.0,-999.0000, -999,9,  502,   7.3427,  26.8647,   -999.0,9
     RF06-06-2,  137E,RF-2727,  1,      9,02-18563,2,20060711,1237, 13.0120, 136.9960, 4902,    605.8,   6.3291,  34.4307,2,   -999.0,9,  34.4305,2,     73.3,2,    67.20,2,  -999.00,9,    35.69,2,     0.00,2,     2.56,2, -999.000,9, -999.000,9,  -999.00,9,   -999.0,9,   -999.0,9,-999.0000,9,   -999.0,  9,  -999.00,9,   -999.0,  -999.00,9,  -999.00,9,  -999.00,9,  -999.00,9,   -999.0,-999.0000, -999,9,  601,   6.2743,  27.0676,   -999.0,9
     RF06-06-2,  137E,RF-2727,  1,      8,02-18562,2,20060711,1234, 13.0120, 136.9960, 4902,    708.3,   5.7302,  34.4678,2,   -999.0,9,-999.0000,9,     76.4,2,    74.48,2,  -999.00,9,    36.59,2,     0.00,2,     2.63,2, -999.000,9, -999.000,9,  -999.00,9,   -999.0,9,   -999.0,9,-999.0000,9,   -999.0,  9,  -999.00,9,   -999.0,  -999.00,9,  -999.00,9,  -999.00,9,  -999.00,9,   -999.0,-999.0000, -999,9,  703,   5.6688,  27.1735,   -999.0,9
     RF06-06-2,  137E,RF-2727,  1,      7,02-18561,2,20060711,1232, 13.0120, 136.9960, 4902,    808.0,   5.1857,  34.5039,2,   -999.0,9,  34.5032,2,     80.7,2,    81.88,2,  -999.00,9,    37.22,2,     0.00,2,     2.66,2, -999.000,9, -999.000,9,  -999.00,9,   -999.0,9,   -999.0,9,-999.0000,9,   -999.0,  9,  -999.00,9,   -999.0,  -999.00,9,  -999.00,9,  -999.00,9,  -999.00,9,   -999.0,-999.0000, -999,9,  802,   5.1184,  27.2682,   -999.0,9
     RF06-06-2,  137E,RF-2727,  1,      6,02-18560,2,20060711,1229, 13.0120, 136.9960, 4902,    908.4,   4.6750,  34.5286,2,   -999.0,9,-999.0000,9,     83.1,2,    90.72,2,  -999.00,9,    37.75,2,     0.00,2,     2.72,2, -999.000,9, -999.000,9,  -999.00,9,   -999.0,9,   -999.0,9,-999.0000,9,   -999.0,  9,  -999.00,9,   -999.0,  -999.00,9,  -999.00,9,  -999.00,9,  -999.00,9,   -999.0,-999.0000, -999,9,  901,   4.6021,  27.3465,   -999.0,9
     RF06-06-2,  137E,RF-2727,  1,      5,02-18559,2,20060711,1226, 13.0120, 136.9960, 4902,   1012.0,   4.2033,  34.5418,2,   -999.0,9,  34.5418,2,     84.4,2,   100.29,2,  -999.00,9,    38.04,2,     0.00,2,     2.73,2, -999.000,9, -999.000,9,  -999.00,9,   -999.0,9,   -999.0,9,-999.0000,9,   -999.0,  9,  -999.00,9,   -999.0,  -999.00,9,  -999.00,9,  -999.00,9,  -999.00,9,   -999.0,-999.0000, -999,9, 1004,   4.1250,  27.4086,   -999.0,9
     RF06-06-2,  137E,RF-2727,  1,      4,02-18558,2,20060711,1221, 13.0120, 136.9960, 4902,   1262.3,   3.3972,  34.5701,2,   -999.0,9,  34.5699,2,     90.6,2,   115.70,2,  -999.00,9,    38.31,2,     0.00,2,     2.73,2, -999.000,9, -999.000,9,  -999.00,9,   -999.0,9,   -999.0,9,-999.0000,9,   -999.0,  9,  -999.00,9,   -999.0,  -999.00,9,  -999.00,9,  -999.00,9,  -999.00,9,   -999.0,-999.0000, -999,9, 1251,   3.3049,  27.5134,   -999.0,9
     RF06-06-2,  137E,RF-2727,  1,      3,02-18557,2,20060711,1215, 13.0120, 136.9960, 4902,   1516.2,   2.8210,  34.5882,2,   -999.0,9,  34.5875,2,     99.8,2,   128.13,2,  -999.00,9,    38.19,2,     0.00,2,     2.72,2, -999.000,9, -999.000,9,  -999.00,9,   -999.0,9,   -999.0,9,-999.0000,9,   -999.0,  9,  -999.00,9,   -999.0,  -999.00,9,  -999.00,9,  -999.00,9,  -999.00,9,   -999.0,-999.0000, -999,9, 1502,   2.7139,  27.5821,   -999.0,9
     RF06-06-2,  137E,RF-2727,  1,      2,02-18556,2,20060711,1210, 13.0120, 136.9960, 4902,   1769.7,   2.4218,  34.6134,2,   -999.0,9,  34.6131,2,    106.6,2,   134.21,2,  -999.00,9,    38.06,2,     0.00,2,     2.71,2, -999.000,9, -999.000,9,  -999.00,9,   -999.0,9,   -999.0,9,-999.0000,9,   -999.0,  9,  -999.00,9,   -999.0,  -999.00,9,  -999.00,9,  -999.00,9,  -999.00,9,   -999.0,-999.0000, -999,9, 1752,   2.2986,  27.6378,   -999.0,9
     RF06-06-2,  137E,RF-2727,  1,      1,02-18555,2,20060711,1204, 13.0120, 136.9960, 4902,   2022.1,   2.1498,  34.6321,2,   -999.0,9,  34.6311,2,    114.0,2,   137.12,2,  -999.00,9,    37.80,2,     0.00,2,     2.69,2, -999.000,9, -999.000,9,  -999.00,9,   -999.0,9,   -999.0,9,-999.0000,9,   -999.0,  9,  -999.00,9,   -999.0,  -999.00,9,  -999.00,9,  -999.00,9,  -999.00,9,   -999.0,-999.0000, -999,9, 2001,   2.0092,  27.6762,   -999.0,9