BOTTLE,20131214MIRCJHATS
EXPOCODE,SECT_ID,STNNBR,CASTNO,SAMPNO,BTLNBR,BTLNBR_FLAG_W,DATE,TIME,LATITUDE,LONGITUDE,DEPTH,CTDPRS,CTDTMP,CTDSAL,CTDSAL_FLAG_W,CTDOXY,CTDOXY_FLAG_W,SALNTY,SALNTY_FLAG_W,OXYGEN,OXYGEN_FLAG_W,SILCAT,SILCAT_FLAG_W,NITRAT,NITRAT_FLAG_W,NO2+NO3,NO2+NO3_FLAG_W,NITRIT,NITRIT_FLAG_W,PHSPHT,PHSPHT_FLAG_W,CFC-11,CFC-11_FLAG_W,CFC-12,CFC-12_FLAG_W,DELC13,DELC13_FLAG_W,TCARBN,TCARBN_FLAG_W,ALKALI,ALKALI_FLAG_W,PH,PH_FLAG_W,PH_TMP,PH_SCALE,PH_NBS,PH_NBS_FLAG_W,C13ERR,TOTALP,TOTALP_FLAG_W,AMMONI,AMMONI_FLAG_W,CHLORA,CHLORA_FLAG_W,PPHYTN,PPHYTN_FLAG_W,REVPRS,REVTMP,DEPTH_,DEPTH_FLAG,CTDDEP,THETA,SIGTHT,DOC,DOC_FLAG_W
,,,,,,,GMT,GMT,,,METER,DBAR,ITS-90,PSS-78,,UMOL/KG,,PSS-78,,UMOL/KG,,UMOL/KG,,UMOL/KG,,UMOL/KG,,UMOL/KG,,UMOL/KG,,PMOL/KG,,PMOL/KG,,/MILLE,,UMOL/KG,,UMOL/KG,,25_DEG_C,,DEG_C,,,,/MILLE,UMOL/KG,,UMOL/KG,,UG/L,,UG/L,,DBAR,ITS-90,METERS,,METERS,DEG_C,,UMOL/L,
     RF06-06-2,  137E,RF-2755,  1,     -9,      -9,5,20060717,1526, 34.0010, 136.9892, 1078,      0.0,  23.3743,  33.7507,2,   -999.0,9,-999.0000,9,    228.0,2,     4.16,2,  -999.00,9,     0.00,2,     0.00,2,     0.04,2, -999.000,9, -999.000,9,  -999.00,9,   1935.6,3,   -999.0,9,   8.0733,2,     25.0, TS,  -999.00,9,   -999.0,  -999.00,9,  -999.00,9,     0.27,2,     0.05,2,   -999.0,-999.0000, -999,9,    0,  23.3741,  22.8786,   -999.0,9
     RF06-06-2,  137E,RF-2755,  1,     24,02-18578,2,20060717,1543, 34.0010, 136.9892, 1078,     10.2,  23.2449,  33.7548,2,   -999.0,9,-999.0000,9,   -999.0,9,  -999.00,9,  -999.00,9,  -999.00,9,  -999.00,9,  -999.00,9, -999.000,9, -999.000,9,  -999.00,9,   -999.0,9,   -999.0,9,-999.0000,9,   -999.0,  9,  -999.00,9,   -999.0,  -999.00,9,  -999.00,9,  -999.00,9,  -999.00,9,   -999.0,-999.0000, -999,9,   10,  23.2428,  22.9197,   -999.0,9
     RF06-06-2,  137E,RF-2755,  1,     21,02-18575,2,20060717,1542, 34.0010, 136.9892, 1078,     10.6,  23.2143,  33.7492,2,   -999.0,9,  33.8846,4,    233.8,2,     5.18,2,  -999.00,9,     0.01,2,     0.00,2,     0.04,2, -999.000,9, -999.000,9,  -999.00,9,   -999.0,9,   -999.0,9,-999.0000,9,   -999.0,  9,  -999.00,9,   -999.0,  -999.00,9,  -999.00,9,     0.63,2,     0.24,2,   -999.0,-999.0000, -999,9,   11,  23.2121,  22.9243,   -999.0,9
     RF06-06-2,  137E,RF-2755,  1,     20,02-18574,2,20060717,1541, 34.0010, 136.9892, 1078,     25.4,  16.4502,  34.3903,2,   -999.0,9,-999.0000,9,    194.5,2,    14.67,2,  -999.00,9,     8.23,2,     0.30,2,     0.55,2, -999.000,9, -999.000,9,  -999.00,9,   -999.0,9,   -999.0,9,-999.0000,9,   -999.0,  9,  -999.00,9,   -999.0,  -999.00,9,  -999.00,9,     1.15,2,     0.69,2,   -999.0,-999.0000, -999,9,   25,  16.4461,  25.1760,   -999.0,9
     RF06-06-2,  137E,RF-2755,  1,     19,02-18573,2,20060717,1540, 34.0010, 136.9892, 1078,     51.1,  13.9825,  34.4433,2,   -999.0,9,-999.0000,9,    170.1,2,    22.77,2,  -999.00,9,    14.39,2,     0.08,2,     0.96,2, -999.000,9, -999.000,9,  -999.00,9,   -999.0,9,   -999.0,9,-999.0000,9,   -999.0,  9,  -999.00,9,   -999.0,  -999.00,9,  -999.00,9,     0.20,2,     0.14,2,   -999.0,-999.0000, -999,9,   51,  13.9752,  25.7621,   -999.0,9
     RF06-06-2,  137E,RF-2755,  1,     18,02-18572,2,20060717,1539, 34.0010, 136.9892, 1078,     75.9,  12.6853,  34.4292,2,   -999.0,9,-999.0000,9,    162.9,2,    27.88,2,  -999.00,9,    16.98,2,     0.02,2,     1.14,2, -999.000,9, -999.000,9,  -999.00,9,   -999.0,9,   -999.0,9,-999.0000,9,   -999.0,  9,  -999.00,9,   -999.0,  -999.00,9,  -999.00,9,     0.05,2,     0.07,2,   -999.0,-999.0000, -999,9,   75,  12.6751,  26.0151,   -999.0,9
     RF06-06-2,  137E,RF-2755,  1,     17,02-18571,2,20060717,1538, 34.0010, 136.9892, 1078,    101.2,  12.1852,  34.4201,2,   -999.0,9,  34.4185,2,    158.5,2,    30.14,2,  -999.00,9,    18.01,2,     0.01,2,     1.21,2, -999.000,9, -999.000,9,  -999.00,9,   -999.0,9,   -999.0,9,-999.0000,9,   -999.0,  9,  -999.00,9,   -999.0,  -999.00,9,  -999.00,9,     0.04,2,     0.06,2,   -999.0,-999.0000, -999,9,  100,  12.1720,  26.1058,   -999.0,9
     RF06-06-2,  137E,RF-2755,  1,     16,02-18570,2,20060717,1537, 34.0010, 136.9892, 1078,    126.8,  11.5837,  34.3974,2,   -999.0,9,-999.0000,9,    155.5,2,    32.89,2,  -999.00,9,    19.28,2,     0.01,2,     1.31,2, -999.000,9, -999.000,9,  -999.00,9,   -999.0,9,   -999.0,9,-999.0000,9,   -999.0,  9,  -999.00,9,   -999.0,  -999.00,9,  -999.00,9,     0.02,2,     0.05,2,   -999.0,-999.0000, -999,9,  126,  11.5677,  26.2023,   -999.0,9
     RF06-06-2,  137E,RF-2755,  1,     15,02-18569,2,20060717,1536, 34.0010, 136.9892, 1078,    151.3,  10.7940,  34.3676,2,   -999.0,9,-999.0000,9,    148.0,2,    37.42,2,  -999.00,9,    21.02,2,     0.00,2,     1.43,2, -999.000,9, -999.000,9,  -999.00,9,   -999.0,9,   -999.0,9,-999.0000,9,   -999.0,  9,  -999.00,9,   -999.0,  -999.00,9,  -999.00,9,     0.01,2,     0.04,2,   -999.0,-999.0000, -999,9,  150,  10.7757,  26.3232,   -999.0,9
     RF06-06-2,  137E,RF-2755,  1,     14,02-18568,2,20060717,1534, 34.0010, 136.9892, 1078,    202.8,   9.6769,  34.3140,2,   -999.0,9,  34.3115,2,    140.9,2,    43.94,2,  -999.00,9,    23.64,2,     0.00,2,     1.65,2, -999.000,9, -999.000,9,  -999.00,9,   -999.0,9,   -999.0,9,-999.0000,9,   -999.0,  9,  -999.00,9,   -999.0,  -999.00,9,  -999.00,9,     0.01,2,     0.05,2,   -999.0,-999.0000, -999,9,  201,   9.6540,  26.4744,   -999.0,9
     RF06-06-2,  137E,RF-2755,  1,     13,02-18567,2,20060717,1533, 34.0010, 136.9892, 1078,    252.1,   8.7156,  34.2569,2,   -999.0,9,-999.0000,9,    137.3,2,    49.51,2,  -999.00,9,    25.28,2,     0.00,2,     1.75,2, -999.000,9, -999.000,9,  -999.00,9,   -999.0,9,   -999.0,9,-999.0000,9,   -999.0,  9,  -999.00,9,   -999.0,  -999.00,9,  -999.00,9,  -999.00,9,  -999.00,9,   -999.0,-999.0000, -999,9,  250,   8.6889,  26.5853,   -999.0,9
     RF06-06-2,  137E,RF-2755,  1,     12,02-18348,2,20060717,1531, 34.0010, 136.9892, 1078,    302.7,   8.1892,  34.2522,2,   -999.0,9,  34.2520,2,    127.4,2,    54.59,2,  -999.00,9,    26.99,2,     0.00,2,     1.90,2, -999.000,9, -999.000,9,  -999.00,9,   -999.0,9,   -999.0,9,-999.0000,9,   -999.0,  9,  -999.00,9,   -999.0,  -999.00,9,  -999.00,9,  -999.00,9,  -999.00,9,   -999.0,-999.0000, -999,9,  300,   8.1583,  26.6628,   -999.0,9
     RF06-06-2,  137E,RF-2755,  1,     11,02-18565,2,20060717,1528, 34.0010, 136.9892, 1078,    403.7,   7.1178,  34.2385,2,   -999.0,9,  34.2381,2,    111.2,2,    65.77,2,  -999.00,9,    30.11,2,     0.00,2,     2.14,2, -999.000,9, -999.000,9,  -999.00,9,   -999.0,9,   -999.0,9,-999.0000,9,   -999.0,  9,  -999.00,9,   -999.0,  -999.00,9,  -999.00,9,  -999.00,9,  -999.00,9,   -999.0,-999.0000, -999,9,  400,   7.0795,  26.8079,   -999.0,9
     RF06-06-2,  137E,RF-2755,  1,     10,02-18564,2,20060717,1526, 34.0010, 136.9892, 1078,    505.8,   6.1499,  34.2457,2,   -999.0,9,-999.0000,9,     97.6,2,    78.07,2,  -999.00,9,    32.95,2,     0.00,2,     2.37,2, -999.000,9, -999.000,9,  -999.00,9,   -999.0,9,   -999.0,9,-999.0000,9,   -999.0,  9,  -999.00,9,   -999.0,  -999.00,9,  -999.00,9,  -999.00,9,  -999.00,9,   -999.0,-999.0000, -999,9,  502,   6.1053,  26.9433,   -999.0,9
     RF06-06-2,  137E,RF-2755,  1,      9,02-18563,2,20060717,1523, 34.0010, 136.9892, 1078,    606.0,   5.2657,  34.2723,2,   -999.0,9,  34.2740,2,     81.5,2,    91.38,2,  -999.00,9,    35.64,2,     0.00,2,     2.55,2, -999.000,9, -999.000,9,  -999.00,9,   -999.0,9,   -999.0,9,-999.0000,9,   -999.0,  9,  -999.00,9,   -999.0,  -999.00,9,  -999.00,9,  -999.00,9,  -999.00,9,   -999.0,-999.0000, -999,9,  601,   5.2159,  27.0733,   -999.0,9
     RF06-06-2,  137E,RF-2755,  1,      8,02-18562,2,20060717,1521, 34.0010, 136.9892, 1078,    706.8,   4.2157,  34.3482,2,   -999.0,9,-999.0000,9,     67.1,2,   109.01,2,  -999.00,9,    38.30,2,     0.00,2,     2.76,2, -999.000,9, -999.000,9,  -999.00,9,   -999.0,9,   -999.0,9,-999.0000,9,   -999.0,  9,  -999.00,9,   -999.0,  -999.00,9,  -999.00,9,  -999.00,9,  -999.00,9,   -999.0,-999.0000, -999,9,  701,   4.1628,  27.2507,   -999.0,9
     RF06-06-2,  137E,RF-2755,  1,      7,02-18561,2,20060717,1518, 34.0010, 136.9892, 1078,    808.1,   3.7403,  34.3976,2,   -999.0,9,  34.3967,2,     65.7,2,   116.93,2,  -999.00,9,    39.00,2,     0.00,2,     2.81,2, -999.000,9, -999.000,9,  -999.00,9,   -999.0,9,   -999.0,9,-999.0000,9,   -999.0,  9,  -999.00,9,   -999.0,  -999.00,9,  -999.00,9,  -999.00,9,  -999.00,9,   -999.0,-999.0000, -999,9,  801,   3.6821,  27.3392,   -999.0,9
     RF06-06-2,  137E,RF-2755,  1,      6,02-18560,2,20060717,1515, 34.0010, 136.9892, 1078,    908.7,   3.4470,  34.4307,2,   -999.0,9,-999.0000,9,     66.8,2,   124.20,2,  -999.00,9,    39.17,2,     0.00,2,     2.81,2, -999.000,9, -999.000,9,  -999.00,9,   -999.0,9,   -999.0,9,-999.0000,9,   -999.0,  9,  -999.00,9,   -999.0,  -999.00,9,  -999.00,9,  -999.00,9,  -999.00,9,   -999.0,-999.0000, -999,9,  900,   3.3829,  27.3948,   -999.0,9
     RF06-06-2,  137E,RF-2755,  1,      3,02-18557,2,20060717,1512, 34.0010, 136.9892, 1078,   1009.7,   3.2420,  34.4531,2,   -999.0,9,-999.0000,9,   -999.0,9,   128.07,2,  -999.00,9,    39.30,2,     0.00,2,     2.82,2, -999.000,9, -999.000,9,  -999.00,9,   -999.0,9,   -999.0,9,-999.0000,9,   -999.0,  9,  -999.00,9,   -999.0,  -999.00,9,  -999.00,9,  -999.00,9,  -999.00,9,   -999.0,-999.0000, -999,9, 1000,   3.1715,  27.4327,   -999.0,9
     RF06-06-2,  137E,RF-2755,  1,      4,02-18558,2,20060717,1512, 34.0010, 136.9892, 1078,   1009.8,   3.2423,  34.4531,2,   -999.0,9,-999.0000,9,     69.2,2,   127.85,2,  -999.00,9,    39.30,2,     0.00,2,     2.84,2, -999.000,9, -999.000,9,  -999.00,9,   -999.0,9,   -999.0,9,-999.0000,9,   -999.0,  9,  -999.00,9,   -999.0,  -999.00,9,  -999.00,9,  -999.00,9,  -999.00,9,   -999.0,-999.0000, -999,9, 1000,   3.1718,  27.4326,   -999.0,9
     RF06-06-2,  137E,RF-2755,  1,      2,02-18556,2,20060717,1512, 34.0010, 136.9892, 1078,   1010.1,   3.2410,  34.4531,2,   -999.0,9,-999.0000,9,   -999.0,9,   127.91,2,  -999.00,9,    39.30,2,     0.00,2,     2.83,2, -999.000,9, -999.000,9,  -999.00,9,   -999.0,9,   -999.0,9,-999.0000,9,   -999.0,  9,  -999.00,9,   -999.0,  -999.00,9,  -999.00,9,  -999.00,9,  -999.00,9,   -999.0,-999.0000, -999,9, 1000,   3.1705,  27.4328,   -999.0,9
     RF06-06-2,  137E,RF-2755,  1,      5,02-18559,2,20060717,1513, 34.0010, 136.9892, 1078,   1010.2,   3.2409,  34.4532,2,   -999.0,9,  34.4527,2,     69.4,2,   127.89,2,  -999.00,9,    39.32,2,     0.00,2,     2.84,2, -999.000,9, -999.000,9,  -999.00,9,   -999.0,9,   -999.0,9,-999.0000,9,   -999.0,  9,  -999.00,9,   -999.0,  -999.00,9,  -999.00,9,  -999.00,9,  -999.00,9,   -999.0,-999.0000, -999,9, 1001,   3.1704,  27.4329,   -999.0,9
     RF06-06-2,  137E,RF-2755,  1,      1,02-18555,2,20060717,1512, 34.0010, 136.9892, 1078,   1010.6,   3.2412,  34.4529,2,   -999.0,9,-999.0000,9,   -999.0,9,   125.82,2,  -999.00,9,    39.34,2,     0.00,2,     2.80,2, -999.000,9, -999.000,9,  -999.00,9,   -999.0,9,   -999.0,9,-999.0000,9,   -999.0,  9,  -999.00,9,   -999.0,  -999.00,9,  -999.00,9,  -999.00,9,  -999.00,9,   -999.0,-999.0000, -999,9, 1001,   3.1707,  27.4326,   -999.0,9
     RF06-06-2,  NONE,RF-2759,  1,     12,02-18348,2,20060725,1858, 27.8367, 129.9933, 2145,     10.9,  29.3511,  34.3179,2,   -999.0,9,  34.3172,2,   -999.0,9,  -999.00,9,  -999.00,9,  -999.00,9,  -999.00,9,  -999.00,9, -999.000,9, -999.000,9,  -999.00,9,   -999.0,9,   -999.0,9,-999.0000,9,   -999.0,  9,  -999.00,9,   -999.0,  -999.00,9,  -999.00,9,  -999.00,9,  -999.00,9,   -999.0,-999.0000, -999,9,   11,  29.3484,  21.4354,   -999.0,9
     RF06-06-2,  NONE,RF-2759,  1,     11,02-18565,2,20060725,1855, 27.8367, 129.9933, 2145,    103.0,  23.8800,  34.6514,2,   -999.0,9,  34.6553,4,   -999.0,9,  -999.00,9,  -999.00,9,  -999.00,9,  -999.00,9,  -999.00,9, -999.000,9, -999.000,9,  -999.00,9,   -999.0,9,   -999.0,9,-999.0000,9,   -999.0,  9,  -999.00,9,   -999.0,  -999.00,9,  -999.00,9,  -999.00,9,  -999.00,9,   -999.0,-999.0000, -999,9,  102,  23.8584,  23.4193,   -999.0,9
     RF06-06-2,  NONE,RF-2759,  1,     10,02-18564,2,20060725,1852, 27.8367, 129.9933, 2145,    201.8,  20.5036,  34.8495,2,   -999.0,9,  34.8509,2,   -999.0,9,  -999.00,9,  -999.00,9,  -999.00,9,  -999.00,9,  -999.00,9, -999.000,9, -999.000,9,  -999.00,9,   -999.0,9,   -999.0,9,-999.0000,9,   -999.0,  9,  -999.00,9,   -999.0,  -999.00,9,  -999.00,9,  -999.00,9,  -999.00,9,   -999.0,-999.0000, -999,9,  200,  20.4656,  24.5233,   -999.0,9
     RF06-06-2,  NONE,RF-2759,  1,      9,02-18563,2,20060725,1849, 27.8367, 129.9933, 2145,    306.1,  18.4771,  34.8470,2,   -999.0,9,  34.8465,2,   -999.0,9,  -999.00,9,  -999.00,9,  -999.00,9,  -999.00,9,  -999.00,9, -999.000,9, -999.000,9,  -999.00,9,   -999.0,9,   -999.0,9,-999.0000,9,   -999.0,  9,  -999.00,9,   -999.0,  -999.00,9,  -999.00,9,  -999.00,9,  -999.00,9,   -999.0,-999.0000, -999,9,  304,  18.4235,  25.0497,   -999.0,9
     RF06-06-2,  NONE,RF-2759,  1,      8,02-18562,2,20060725,1846, 27.8367, 129.9933, 2145,    403.0,  16.5190,  34.7147,2,   -999.0,9,  34.7114,4,   -999.0,9,  -999.00,9,  -999.00,9,  -999.00,9,  -999.00,9,  -999.00,9, -999.000,9, -999.000,9,  -999.00,9,   -999.0,9,   -999.0,9,-999.0000,9,   -999.0,  9,  -999.00,9,   -999.0,  -999.00,9,  -999.00,9,  -999.00,9,  -999.00,9,   -999.0,-999.0000, -999,9,  400,  16.4536,  25.4236,   -999.0,9
     RF06-06-2,  NONE,RF-2759,  1,      7,02-18561,2,20060725,1841, 27.8367, 129.9933, 2145,    606.0,  10.5740,  34.3049,2,   -999.0,9,  34.3056,2,   -999.0,9,  -999.00,9,  -999.00,9,  -999.00,9,  -999.00,9,  -999.00,9, -999.000,9, -999.000,9,  -999.00,9,   -999.0,9,   -999.0,9,-999.0000,9,   -999.0,  9,  -999.00,9,   -999.0,  -999.00,9,  -999.00,9,  -999.00,9,  -999.00,9,   -999.0,-999.0000, -999,9,  601,  10.5003,  26.3229,   -999.0,9
     RF06-06-2,  NONE,RF-2759,  1,      6,02-18560,2,20060725,1835, 27.8367, 129.9933, 2145,    807.9,   5.7828,  34.2019,2,   -999.0,9,  34.2033,2,   -999.0,9,  -999.00,9,  -999.00,9,  -999.00,9,  -999.00,9,  -999.00,9, -999.000,9, -999.000,9,  -999.00,9,   -999.0,9,   -999.0,9,-999.0000,9,   -999.0,  9,  -999.00,9,   -999.0,  -999.00,9,  -999.00,9,  -999.00,9,  -999.00,9,   -999.0,-999.0000, -999,9,  801,   5.7122,  26.9578,   -999.0,9
     RF06-06-2,  NONE,RF-2759,  1,      5,02-18559,2,20060725,1830, 27.8367, 129.9933, 2145,   1010.6,   4.3211,  34.4145,2,   -999.0,9,  34.4151,2,   -999.0,9,  -999.00,9,  -999.00,9,  -999.00,9,  -999.00,9,  -999.00,9, -999.000,9, -999.000,9,  -999.00,9,   -999.0,9,   -999.0,9,-999.0000,9,   -999.0,  9,  -999.00,9,   -999.0,  -999.00,9,  -999.00,9,  -999.00,9,  -999.00,9,   -999.0,-999.0000, -999,9, 1001,   4.2422,  27.2950,   -999.0,9
     RF06-06-2,  NONE,RF-2759,  1,      4,02-18558,2,20060725,1823, 27.8367, 129.9933, 2145,   1264.2,   2.9961,  34.4954,2,   -999.0,9,  34.4952,2,   -999.0,9,  -999.00,9,  -999.00,9,  -999.00,9,  -999.00,9,  -999.00,9, -999.000,9, -999.000,9,  -999.00,9,   -999.0,9,   -999.0,9,-999.0000,9,   -999.0,  9,  -999.00,9,   -999.0,  -999.00,9,  -999.00,9,  -999.00,9,  -999.00,9,   -999.0,-999.0000, -999,9, 1252,   2.9077,  27.4907,   -999.0,9
     RF06-06-2,  NONE,RF-2759,  1,      3,02-18557,2,20060725,1817, 27.8367, 129.9933, 2145,   1516.2,   2.4547,  34.5456,2,   -999.0,9,  34.5442,2,   -999.0,9,  -999.00,9,  -999.00,9,  -999.00,9,  -999.00,9,  -999.00,9, -999.000,9, -999.000,9,  -999.00,9,   -999.0,9,   -999.0,9,-999.0000,9,   -999.0,  9,  -999.00,9,   -999.0,  -999.00,9,  -999.00,9,  -999.00,9,  -999.00,9,   -999.0,-999.0000, -999,9, 1501,   2.3519,  27.5790,   -999.0,9
     RF06-06-2,  NONE,RF-2759,  1,      2,02-18556,2,20060725,1811, 27.8367, 129.9933, 2145,   1769.6,   2.2175,  34.5792,2,   -999.0,9,  34.5789,2,   -999.0,9,  -999.00,9,  -999.00,9,  -999.00,9,  -999.00,9,  -999.00,9, -999.000,9, -999.000,9,  -999.00,9,   -999.0,9,   -999.0,9,-999.0000,9,   -999.0,  9,  -999.00,9,   -999.0,  -999.00,9,  -999.00,9,  -999.00,9,  -999.00,9,   -999.0,-999.0000, -999,9, 1750,   2.0972,  27.6268,   -999.0,9
     RF06-06-2,  NONE,RF-2759,  1,      1,02-18555,2,20060725,1806, 27.8367, 129.9933, 2145,   2026.1,   1.9884,  34.6120,2,   -999.0,9,  34.6123,2,   -999.0,9,  -999.00,9,  -999.00,9,  -999.00,9,  -999.00,9,  -999.00,9, -999.000,9, -999.000,9,  -999.00,9,   -999.0,9,   -999.0,9,-999.0000,9,   -999.0,  9,  -999.00,9,   -999.0,  -999.00,9,  -999.00,9,  -999.00,9,  -999.00,9,   -999.0,-999.0000, -999,9, 2003,   1.8500,  27.6726,   -999.0,9