BOTTLE,20131214MIRCJHATS
EXPOCODE,SECT_ID,STNNBR,CASTNO,SAMPNO,BTLNBR,BTLNBR_FLAG_W,DATE,TIME,LATITUDE,LONGITUDE,DEPTH,CTDPRS,CTDTMP,CTDSAL,CTDSAL_FLAG_W,CTDOXY,CTDOXY_FLAG_W,SALNTY,SALNTY_FLAG_W,OXYGEN,OXYGEN_FLAG_W,SILCAT,SILCAT_FLAG_W,NITRAT,NITRAT_FLAG_W,NO2+NO3,NO2+NO3_FLAG_W,NITRIT,NITRIT_FLAG_W,PHSPHT,PHSPHT_FLAG_W,CFC-11,CFC-11_FLAG_W,CFC-12,CFC-12_FLAG_W,DELC13,DELC13_FLAG_W,TCARBN,TCARBN_FLAG_W,ALKALI,ALKALI_FLAG_W,PH,PH_FLAG_W,PH_TMP,PH_SCALE,PH_NBS,PH_NBS_FLAG_W,C13ERR,TOTALP,TOTALP_FLAG_W,AMMONI,AMMONI_FLAG_W,CHLORA,CHLORA_FLAG_W,PPHYTN,PPHYTN_FLAG_W,REVPRS,REVTMP,DEPTH_,DEPTH_FLAG,CTDDEP,THETA,SIGTHT,DOC,DOC_FLAG_W
,,,,,,,GMT,GMT,,,METER,DBAR,ITS-90,PSS-78,,UMOL/KG,,PSS-78,,UMOL/KG,,UMOL/KG,,UMOL/KG,,UMOL/KG,,UMOL/KG,,UMOL/KG,,PMOL/KG,,PMOL/KG,,/MILLE,,UMOL/KG,,UMOL/KG,,25_DEG_C,,DEG_C,,,,/MILLE,UMOL/KG,,UMOL/KG,,UG/L,,UG/L,,DBAR,ITS-90,METERS,,METERS,DEG_C,,UMOL/L,
     RF06-06-2,  137E,RF-2749,  1,     -9,      -9,5,20060716,1820, 31.9977, 137.0377, 4111,      0.0,  27.3721,  34.2574,2,   -999.0,9,-999.0000,9,    205.8,2,     1.80,2,  -999.00,9,     0.00,2,     0.00,2,     0.00,2, -999.000,9, -999.000,9,  -999.00,9,   1925.0,3,   -999.0,9,   8.0681,2,     25.0, TS,  -999.00,9,   -999.0,  -999.00,9,  -999.00,9,     0.05,2,     0.01,2,   -999.0,-999.0000, -999,9,    0,  27.3719,  22.0396,   -999.0,9
     RF06-06-2,  137E,RF-2749,  1,     21,02-18575,2,20060716,1838, 31.9977, 137.0377, 4111,     10.2,  27.3504,  34.2527,2,   -999.0,9,  34.2615,4,    203.0,2,     1.79,2,  -999.00,9,     0.00,2,     0.00,2,     0.00,2, -999.000,9, -999.000,9,  -999.00,9,   -999.0,9,   -999.0,9,-999.0000,9,   -999.0,  9,  -999.00,9,   -999.0,  -999.00,9,  -999.00,9,     0.05,2,     0.01,2,   -999.0,-999.0000, -999,9,   10,  27.3480,  22.0437,   -999.0,9
     RF06-06-2,  137E,RF-2749,  1,     24,02-18578,2,20060716,1839, 31.9977, 137.0377, 4111,     11.2,  27.3187,  34.2582,2,   -999.0,9,-999.0000,9,   -999.0,9,  -999.00,9,  -999.00,9,  -999.00,9,  -999.00,9,  -999.00,9, -999.000,9, -999.000,9,  -999.00,9,   -999.0,9,   -999.0,9,-999.0000,9,   -999.0,  9,  -999.00,9,   -999.0,  -999.00,9,  -999.00,9,  -999.00,9,  -999.00,9,   -999.0,-999.0000, -999,9,   11,  27.3161,  22.0581,   -999.0,9
     RF06-06-2,  137E,RF-2749,  1,     20,02-18574,2,20060716,1837, 31.9977, 137.0377, 4111,     25.5,  22.3351,  34.6370,2,   -999.0,9,-999.0000,9,    232.8,2,     1.85,2,  -999.00,9,     0.00,2,     0.00,2,     0.00,2, -999.000,9, -999.000,9,  -999.00,9,   -999.0,9,   -999.0,9,-999.0000,9,   -999.0,  9,  -999.00,9,   -999.0,  -999.00,9,  -999.00,9,     0.08,2,     0.01,2,   -999.0,-999.0000, -999,9,   25,  22.3300,  23.8492,   -999.0,9
     RF06-06-2,  137E,RF-2749,  1,     19,02-18573,2,20060716,1836, 31.9977, 137.0377, 4111,     50.7,  20.2440,  34.7693,2,   -999.0,9,-999.0000,9,    237.7,2,     1.90,2,  -999.00,9,     0.00,2,     0.00,2,     0.00,2, -999.000,9, -999.000,9,  -999.00,9,   -999.0,9,   -999.0,9,-999.0000,9,   -999.0,  9,  -999.00,9,   -999.0,  -999.00,9,  -999.00,9,     0.11,2,     0.02,2,   -999.0,-999.0000, -999,9,   50,  20.2346,  24.5238,   -999.0,9
     RF06-06-2,  137E,RF-2749,  1,     18,02-18572,2,20060716,1835, 31.9977, 137.0377, 4111,     76.6,  19.0158,  34.8414,2,   -999.0,9,-999.0000,9,    239.7,2,     1.90,2,  -999.00,9,     0.00,2,     0.00,2,     0.01,2, -999.000,9, -999.000,9,  -999.00,9,   -999.0,9,   -999.0,9,-999.0000,9,   -999.0,  9,  -999.00,9,   -999.0,  -999.00,9,  -999.00,9,     0.18,2,     0.12,2,   -999.0,-999.0000, -999,9,   76,  19.0022,  24.8994,   -999.0,9
     RF06-06-2,  137E,RF-2749,  1,     17,02-18571,2,20060716,1834, 31.9977, 137.0377, 4111,    100.9,  18.7118,  34.8478,2,   -999.0,9,  34.8485,2,    225.4,2,     2.10,2,  -999.00,9,     0.75,2,     0.18,2,     0.04,2, -999.000,9, -999.000,9,  -999.00,9,   -999.0,9,   -999.0,9,-999.0000,9,   -999.0,  9,  -999.00,9,   -999.0,  -999.00,9,  -999.00,9,     0.46,2,     0.60,2,   -999.0,-999.0000, -999,9,  100,  18.6940,  24.9825,   -999.0,9
     RF06-06-2,  137E,RF-2749,  1,     16,02-18570,2,20060716,1833, 31.9977, 137.0377, 4111,    126.0,  18.5367,  34.8530,2,   -999.0,9,-999.0000,9,    223.3,2,     2.51,2,  -999.00,9,     1.96,2,     0.03,2,     0.09,2, -999.000,9, -999.000,9,  -999.00,9,   -999.0,9,   -999.0,9,-999.0000,9,   -999.0,  9,  -999.00,9,   -999.0,  -999.00,9,  -999.00,9,     0.15,2,     0.16,2,   -999.0,-999.0000, -999,9,  125,  18.5147,  25.0315,   -999.0,9
     RF06-06-2,  137E,RF-2749,  1,     15,02-18569,2,20060716,1832, 31.9977, 137.0377, 4111,    152.0,  18.4524,  34.8563,2,   -999.0,9,-999.0000,9,    218.6,2,     2.49,2,  -999.00,9,     2.03,2,     0.01,2,     0.10,2, -999.000,9, -999.000,9,  -999.00,9,   -999.0,9,   -999.0,9,-999.0000,9,   -999.0,  9,  -999.00,9,   -999.0,  -999.00,9,  -999.00,9,     0.06,2,     0.04,2,   -999.0,-999.0000, -999,9,  151,  18.4259,  25.0563,   -999.0,9
     RF06-06-2,  137E,RF-2749,  1,     14,02-18568,2,20060716,1831, 31.9977, 137.0377, 4111,    202.2,  18.3350,  34.8593,2,   -999.0,9,  34.8589,2,    219.1,2,     2.56,2,  -999.00,9,     2.18,2,     0.00,2,     0.11,2, -999.000,9, -999.000,9,  -999.00,9,   -999.0,9,   -999.0,9,-999.0000,9,   -999.0,  9,  -999.00,9,   -999.0,  -999.00,9,  -999.00,9,     0.00,2,     0.01,2,   -999.0,-999.0000, -999,9,  201,  18.2998,  25.0900,   -999.0,9
     RF06-06-2,  137E,RF-2749,  1,     13,02-18567,2,20060716,1829, 31.9977, 137.0377, 4111,    252.2,  18.2370,  34.8608,2,   -999.0,9,-999.0000,9,    221.6,2,     2.51,2,  -999.00,9,     2.17,2,     0.00,2,     0.11,2, -999.000,9, -999.000,9,  -999.00,9,   -999.0,9,   -999.0,9,-999.0000,9,   -999.0,  9,  -999.00,9,   -999.0,  -999.00,9,  -999.00,9,  -999.00,9,  -999.00,9,   -999.0,-999.0000, -999,9,  250,  18.1933,  25.1177,   -999.0,9
     RF06-06-2,  137E,RF-2749,  1,     12,02-18348,2,20060716,1827, 31.9977, 137.0377, 4111,    303.0,  18.2039,  34.8613,2,   -999.0,9,  34.8608,2,    223.5,2,     2.51,2,  -999.00,9,     2.18,2,     0.00,2,     0.11,2, -999.000,9, -999.000,9,  -999.00,9,   -999.0,9,   -999.0,9,-999.0000,9,   -999.0,  9,  -999.00,9,   -999.0,  -999.00,9,  -999.00,9,  -999.00,9,  -999.00,9,   -999.0,-999.0000, -999,9,  301,  18.1514,  25.1284,   -999.0,9
     RF06-06-2,  137E,RF-2749,  1,     11,02-18565,2,20060716,1825, 31.9977, 137.0377, 4111,    404.5,  18.1462,  34.8604,2,   -999.0,9,  34.8605,2,    226.6,2,     2.60,2,  -999.00,9,     2.25,2,     0.00,2,     0.11,2, -999.000,9, -999.000,9,  -999.00,9,   -999.0,9,   -999.0,9,-999.0000,9,   -999.0,  9,  -999.00,9,   -999.0,  -999.00,9,  -999.00,9,  -999.00,9,  -999.00,9,   -999.0,-999.0000, -999,9,  401,  18.0761,  25.1464,   -999.0,9
     RF06-06-2,  137E,RF-2749,  1,     10,02-18564,2,20060716,1822, 31.9977, 137.0377, 4111,    503.5,  17.3091,  34.7945,2,   -999.0,9,-999.0000,9,    210.1,2,     4.17,2,  -999.00,9,     4.56,2,     0.00,2,     0.23,2, -999.000,9, -999.000,9,  -999.00,9,   -999.0,9,   -999.0,9,-999.0000,9,   -999.0,  9,  -999.00,9,   -999.0,  -999.00,9,  -999.00,9,  -999.00,9,  -999.00,9,   -999.0,-999.0000, -999,9,  499,  17.2244,  25.3030,   -999.0,9
     RF06-06-2,  137E,RF-2749,  1,      9,02-18563,2,20060716,1818, 31.9977, 137.0377, 4111,    607.3,  15.3916,  34.6299,2,   -999.0,9,  34.6299,2,    207.3,2,     9.51,2,  -999.00,9,     9.32,2,     0.00,2,     0.55,2, -999.000,9, -999.000,9,  -999.00,9,   -999.0,9,   -999.0,9,-999.0000,9,   -999.0,  9,  -999.00,9,   -999.0,  -999.00,9,  -999.00,9,  -999.00,9,  -999.00,9,   -999.0,-999.0000, -999,9,  602,  15.2972,  25.6211,   -999.0,9
     RF06-06-2,  137E,RF-2749,  1,      8,02-18562,2,20060716,1814, 31.9977, 137.0377, 4111,    707.1,  12.6054,  34.4251,2,   -999.0,9,-999.0000,9,    191.2,2,    18.83,2,  -999.00,9,    14.90,2,     0.00,2,     0.96,2, -999.000,9, -999.000,9,  -999.00,9,   -999.0,9,   -999.0,9,-999.0000,9,   -999.0,  9,  -999.00,9,   -999.0,  -999.00,9,  -999.00,9,  -999.00,9,  -999.00,9,   -999.0,-999.0000, -999,9,  701,  12.5088,  26.0445,   -999.0,9
     RF06-06-2,  137E,RF-2749,  1,      7,02-18561,2,20060716,1810, 31.9977, 137.0377, 4111,    810.1,   9.2354,  34.2272,2,   -999.0,9,  34.2290,2,    154.5,2,    38.34,2,  -999.00,9,    22.85,2,     0.00,2,     1.57,2, -999.000,9, -999.000,9,  -999.00,9,   -999.0,9,   -999.0,9,-999.0000,9,   -999.0,  9,  -999.00,9,   -999.0,  -999.00,9,  -999.00,9,  -999.00,9,  -999.00,9,   -999.0,-999.0000, -999,9,  803,   9.1438,  26.4900,   -999.0,9
     RF06-06-2,  137E,RF-2749,  1,      6,02-18560,2,20060716,1806, 31.9977, 137.0377, 4111,    908.7,   6.8478,  34.1448,2,   -999.0,9,-999.0000,9,    120.1,2,    61.59,2,  -999.00,9,    29.93,2,     0.00,2,     2.10,2, -999.000,9, -999.000,9,  -999.00,9,   -999.0,9,   -999.0,9,-999.0000,9,   -999.0,  9,  -999.00,9,   -999.0,  -999.00,9,  -999.00,9,  -999.00,9,  -999.00,9,   -999.0,-999.0000, -999,9,  900,   6.7606,  26.7777,   -999.0,9
     RF06-06-2,  137E,RF-2749,  1,      5,02-18559,2,20060716,1803, 31.9977, 137.0377, 4111,   1009.5,   5.7406,  34.2234,2,   -999.0,9,  34.2226,2,     89.1,2,    81.74,2,  -999.00,9,    34.39,2,     0.00,2,     2.45,2, -999.000,9, -999.000,9,  -999.00,9,   -999.0,9,   -999.0,9,-999.0000,9,   -999.0,  9,  -999.00,9,   -999.0,  -999.00,9,  -999.00,9,  -999.00,9,  -999.00,9,   -999.0,-999.0000, -999,9, 1000,   5.6512,  26.9824,   -999.0,9
     RF06-06-2,  137E,RF-2749,  1,      4,02-18558,2,20060716,1756, 31.9977, 137.0377, 4111,   1264.0,   3.7956,  34.3969,2,   -999.0,9,  34.3963,2,     65.7,2,   117.50,2,  -999.00,9,    39.03,2,     0.00,2,     2.83,2, -999.000,9, -999.000,9,  -999.00,9,   -999.0,9,   -999.0,9,-999.0000,9,   -999.0,  9,  -999.00,9,   -999.0,  -999.00,9,  -999.00,9,  -999.00,9,  -999.00,9,   -999.0,-999.0000, -999,9, 1251,   3.6997,  27.3369,   -999.0,9
     RF06-06-2,  137E,RF-2749,  1,      3,02-18557,2,20060716,1750, 31.9977, 137.0377, 4111,   1517.6,   3.0498,  34.4781,2,   -999.0,9,  34.4775,2,     71.5,2,   132.20,2,  -999.00,9,    39.59,2,     0.00,2,     2.84,2, -999.000,9, -999.000,9,  -999.00,9,   -999.0,9,   -999.0,9,-999.0000,9,   -999.0,  9,  -999.00,9,   -999.0,  -999.00,9,  -999.00,9,  -999.00,9,  -999.00,9,   -999.0,-999.0000, -999,9, 1502,   2.9402,  27.4739,   -999.0,9
     RF06-06-2,  137E,RF-2749,  1,      2,02-18556,2,20060716,1745, 31.9977, 137.0377, 4111,   1771.2,   2.5342,  34.5361,2,   -999.0,9,  34.5362,2,     82.1,2,   139.83,2,  -999.00,9,    39.36,2,     0.00,2,     2.81,2, -999.000,9, -999.000,9,  -999.00,9,   -999.0,9,   -999.0,9,-999.0000,9,   -999.0,  9,  -999.00,9,   -999.0,  -999.00,9,  -999.00,9,  -999.00,9,  -999.00,9,   -999.0,-999.0000, -999,9, 1751,   2.4096,  27.5666,   -999.0,9
     RF06-06-2,  137E,RF-2749,  1,      1,02-18555,2,20060716,1740, 31.9977, 137.0377, 4111,   2024.2,   2.2075,  34.5798,2,   -999.0,9,  34.5794,2,     97.3,2,   142.64,2,  -999.00,9,    38.65,2,     0.00,2,     2.73,2, -999.000,9, -999.000,9,  -999.00,9,   -999.0,9,   -999.0,9,-999.0000,9,   -999.0,  9,  -999.00,9,   -999.0,  -999.00,9,  -999.00,9,  -999.00,9,  -999.00,9,   -999.0,-999.0000, -999,9, 2000,   2.0660,  27.6298,   -999.0,9