BOTTLE,20131214MIRCJHATS
EXPOCODE,SECT_ID,STNNBR,CASTNO,SAMPNO,BTLNBR,BTLNBR_FLAG_W,DATE,TIME,LATITUDE,LONGITUDE,DEPTH,CTDPRS,CTDTMP,CTDSAL,CTDSAL_FLAG_W,CTDOXY,CTDOXY_FLAG_W,SALNTY,SALNTY_FLAG_W,OXYGEN,OXYGEN_FLAG_W,SILCAT,SILCAT_FLAG_W,NITRAT,NITRAT_FLAG_W,NO2+NO3,NO2+NO3_FLAG_W,NITRIT,NITRIT_FLAG_W,PHSPHT,PHSPHT_FLAG_W,CFC-11,CFC-11_FLAG_W,CFC-12,CFC-12_FLAG_W,DELC13,DELC13_FLAG_W,TCARBN,TCARBN_FLAG_W,ALKALI,ALKALI_FLAG_W,PH,PH_FLAG_W,PH_TMP,PH_SCALE,PH_NBS,PH_NBS_FLAG_W,C13ERR,TOTALP,TOTALP_FLAG_W,AMMONI,AMMONI_FLAG_W,CHLORA,CHLORA_FLAG_W,PPHYTN,PPHYTN_FLAG_W,REVPRS,REVTMP,DEPTH_,DEPTH_FLAG,CTDDEP,THETA,SIGTHT,DOC,DOC_FLAG_W
,,,,,,,GMT,GMT,,,METER,DBAR,ITS-90,PSS-78,,UMOL/KG,,PSS-78,,UMOL/KG,,UMOL/KG,,UMOL/KG,,UMOL/KG,,UMOL/KG,,UMOL/KG,,PMOL/KG,,PMOL/KG,,/MILLE,,UMOL/KG,,UMOL/KG,,25_DEG_C,,DEG_C,,,,/MILLE,UMOL/KG,,UMOL/KG,,UG/L,,UG/L,,DBAR,ITS-90,METERS,,METERS,DEG_C,,UMOL/L,
     RF06-06-2,  137E,RF-2737,  1,     -9,      -9,5,20060714,0324, 23.0007, 137.0007, 2898,      0.0,  29.0299,  34.7279,2,   -999.0,9,-999.0000,9,    197.1,2,     1.64,2,  -999.00,9,     0.00,2,     0.00,2,     0.00,2, -999.000,9, -999.000,9,  -999.00,9,   1941.4,2,   -999.0,9,   8.0987,6,     25.0, TS,  -999.00,9,   -999.0,  -999.00,9,  -999.00,9,     0.05,2,     0.01,2,   -999.0,-999.0000, -999,9,    0,  29.0297,  21.8499,   -999.0,9
     RF06-06-2,  137E,RF-2737,  1,     24,02-18578,2,20060714,0340, 23.0007, 137.0007, 2898,      8.9,  28.9550,  34.7197,2,   -999.0,9,-999.0000,9,   -999.0,9,  -999.00,9,  -999.00,9,  -999.00,9,  -999.00,9,  -999.00,9, -999.000,9, -999.000,9,  -999.00,9,   -999.0,9,   -999.0,9,-999.0000,9,   -999.0,  9,  -999.00,9,   -999.0,  -999.00,9,  -999.00,9,  -999.00,9,  -999.00,9,   -999.0,-999.0000, -999,9,    9,  28.9529,  21.8694,   -999.0,9
     RF06-06-2,  137E,RF-2737,  1,     21,02-18575,2,20060714,0340, 23.0007, 137.0007, 2898,      9.0,  28.9311,  34.7161,2,   -999.0,9,  34.7171,2,    196.9,2,     1.60,2,  -999.00,9,     0.00,2,     0.00,2,     0.00,2, -999.000,9, -999.000,9,  -999.00,9,   -999.0,9,   -999.0,9,-999.0000,9,   -999.0,  9,  -999.00,9,   -999.0,  -999.00,9,  -999.00,9,     0.05,2,     0.01,2,   -999.0,-999.0000, -999,9,    9,  28.9289,  21.8747,   -999.0,9
     RF06-06-2,  137E,RF-2737,  1,     20,02-18574,2,20060714,0339, 23.0007, 137.0007, 2898,     24.7,  28.4247,  34.6999,2,   -999.0,9,-999.0000,9,    200.9,2,     1.68,2,  -999.00,9,     0.00,2,     0.00,2,     0.00,2, -999.000,9, -999.000,9,  -999.00,9,   -999.0,9,   -999.0,9,-999.0000,9,   -999.0,  9,  -999.00,9,   -999.0,  -999.00,9,  -999.00,9,     0.07,2,     0.02,2,   -999.0,-999.0000, -999,9,   25,  28.4188,  22.0316,   -999.0,9
     RF06-06-2,  137E,RF-2737,  1,     19,02-18573,2,20060714,0338, 23.0007, 137.0007, 2898,     50.4,  24.1586,  34.6383,2,   -999.0,9,-999.0000,9,    223.9,2,     1.83,2,  -999.00,9,     0.00,2,     0.00,2,     0.00,2, -999.000,9, -999.000,9,  -999.00,9,   -999.0,9,   -999.0,9,-999.0000,9,   -999.0,  9,  -999.00,9,   -999.0,  -999.00,9,  -999.00,9,     0.11,2,     0.03,2,   -999.0,-999.0000, -999,9,   50,  24.1480,  23.3237,   -999.0,9
     RF06-06-2,  137E,RF-2737,  1,     18,02-18572,2,20060714,0337, 23.0007, 137.0007, 2898,     75.4,  22.2848,  34.8766,2,   -999.0,9,-999.0000,9,    215.8,2,     1.92,2,  -999.00,9,     0.00,2,     0.00,2,     0.01,2, -999.000,9, -999.000,9,  -999.00,9,   -999.0,9,   -999.0,9,-999.0000,9,   -999.0,  9,  -999.00,9,   -999.0,  -999.00,9,  -999.00,9,     0.20,2,     0.13,2,   -999.0,-999.0000, -999,9,   75,  22.2698,  24.0482,   -999.0,9
     RF06-06-2,  137E,RF-2737,  1,     17,02-18571,2,20060714,0336, 23.0007, 137.0007, 2898,    100.8,  20.6068,  34.9349,2,   -999.0,9,  34.9367,2,    199.3,2,     2.47,2,  -999.00,9,     1.72,2,     0.03,2,     0.11,2, -999.000,9, -999.000,9,  -999.00,9,   -999.0,9,   -999.0,9,-999.0000,9,   -999.0,  9,  -999.00,9,   -999.0,  -999.00,9,  -999.00,9,     0.22,2,     0.24,2,   -999.0,-999.0000, -999,9,  100,  20.5878,  24.5557,   -999.0,9
     RF06-06-2,  137E,RF-2737,  1,     16,02-18570,2,20060714,0334, 23.0007, 137.0007, 2898,    126.3,  19.7446,  34.8749,2,   -999.0,9,-999.0000,9,    215.1,2,     2.41,2,  -999.00,9,     1.12,2,     0.09,2,     0.07,2, -999.000,9, -999.000,9,  -999.00,9,   -999.0,9,   -999.0,9,-999.0000,9,   -999.0,  9,  -999.00,9,   -999.0,  -999.00,9,  -999.00,9,     0.17,2,     0.17,2,   -999.0,-999.0000, -999,9,  125,  19.7215,  24.7393,   -999.0,9
     RF06-06-2,  137E,RF-2737,  1,     15,02-18569,2,20060714,0333, 23.0007, 137.0007, 2898,    150.1,  19.1433,  34.8892,2,   -999.0,9,-999.0000,9,    202.8,2,     3.01,2,  -999.00,9,     2.65,2,     0.01,2,     0.16,2, -999.000,9, -999.000,9,  -999.00,9,   -999.0,9,   -999.0,9,-999.0000,9,   -999.0,  9,  -999.00,9,   -999.0,  -999.00,9,  -999.00,9,  -999.00,9,  -999.00,9,   -999.0,-999.0000, -999,9,  149,  19.1164,  24.9068,   -999.0,9
     RF06-06-2,  137E,RF-2737,  1,     14,02-18568,2,20060714,0332, 23.0007, 137.0007, 2898,    201.5,  18.0245,  34.8268,2,   -999.0,9,  34.8270,2,    224.4,2,     2.97,2,  -999.00,9,     2.45,2,     0.01,2,     0.14,2, -999.000,9, -999.000,9,  -999.00,9,   -999.0,9,   -999.0,9,-999.0000,9,   -999.0,  9,  -999.00,9,   -999.0,  -999.00,9,  -999.00,9,     0.01,2,     0.02,2,   -999.0,-999.0000, -999,9,  200,  17.9899,  25.1419,   -999.0,9
     RF06-06-2,  137E,RF-2737,  1,     13,02-18567,2,20060714,0330, 23.0007, 137.0007, 2898,    252.7,  17.6158,  34.8080,2,   -999.0,9,-999.0000,9,    213.6,2,     3.85,2,  -999.00,9,     3.84,2,     0.00,2,     0.21,2, -999.000,9, -999.000,9,  -999.00,9,   -999.0,9,   -999.0,9,-999.0000,9,   -999.0,  9,  -999.00,9,   -999.0,  -999.00,9,  -999.00,9,  -999.00,9,  -999.00,9,   -999.0,-999.0000, -999,9,  251,  17.5731,  25.2294,   -999.0,9
     RF06-06-2,  137E,RF-2737,  1,     12,02-18348,2,20060714,0328, 23.0007, 137.0007, 2898,    302.2,  16.7686,  34.7442,2,   -999.0,9,  34.7475,2,    202.1,2,     5.27,2,  -999.00,9,     5.84,2,     0.00,2,     0.33,2, -999.000,9, -999.000,9,  -999.00,9,   -999.0,9,   -999.0,9,-999.0000,9,   -999.0,  9,  -999.00,9,   -999.0,  -999.00,9,  -999.00,9,  -999.00,9,  -999.00,9,   -999.0,-999.0000, -999,9,  300,  16.7192,  25.3842,   -999.0,9
     RF06-06-2,  137E,RF-2737,  1,     11,02-18565,2,20060714,0326, 23.0007, 137.0007, 2898,    402.5,  14.3580,  34.5450,2,   -999.0,9,  34.5481,2,    189.0,2,    11.89,2,  -999.00,9,    10.91,2,     0.00,2,     0.68,2, -999.000,9, -999.000,9,  -999.00,9,   -999.0,9,   -999.0,9,-999.0000,9,   -999.0,  9,  -999.00,9,   -999.0,  -999.00,9,  -999.00,9,  -999.00,9,  -999.00,9,   -999.0,-999.0000, -999,9,  400,  14.2987,  25.7724,   -999.0,9
     RF06-06-2,  137E,RF-2737,  1,     10,02-18564,2,20060714,0323, 23.0007, 137.0007, 2898,    503.6,  11.3954,  34.3182,2,   -999.0,9,-999.0000,9,    180.7,2,    21.61,2,  -999.00,9,    16.81,2,     0.00,2,     1.12,2, -999.000,9, -999.000,9,  -999.00,9,   -999.0,9,   -999.0,9,-999.0000,9,   -999.0,  9,  -999.00,9,   -999.0,  -999.00,9,  -999.00,9,  -999.00,9,  -999.00,9,   -999.0,-999.0000, -999,9,  500,  11.3315,  26.1843,   -999.0,9
     RF06-06-2,  137E,RF-2737,  1,      9,02-18563,2,20060714,0320, 23.0007, 137.0007, 2898,    604.2,   8.4105,  34.1445,2,   -999.0,9,  34.1502,4,    154.3,2,    40.09,2,  -999.00,9,    24.03,2,     0.00,2,     1.66,2, -999.000,9, -999.000,9,  -999.00,9,   -999.0,9,   -999.0,9,-999.0000,9,   -999.0,  9,  -999.00,9,   -999.0,  -999.00,9,  -999.00,9,  -999.00,9,  -999.00,9,   -999.0,-999.0000, -999,9,  600,   8.3467,  26.5499,   -999.0,9
     RF06-06-2,  137E,RF-2737,  1,      8,02-18562,2,20060714,0318, 23.0007, 137.0007, 2898,    706.8,   6.3036,  34.1276,2,   -999.0,9,-999.0000,9,    103.9,2,    65.11,2,  -999.00,9,    32.29,2,     0.00,2,     2.31,2, -999.000,9, -999.000,9,  -999.00,9,   -999.0,9,   -999.0,9,-999.0000,9,   -999.0,  9,  -999.00,9,   -999.0,  -999.00,9,  -999.00,9,  -999.00,9,  -999.00,9,   -999.0,-999.0000, -999,9,  701,   6.2396,  26.8328,   -999.0,9
     RF06-06-2,  137E,RF-2737,  1,      7,02-18561,2,20060714,0315, 23.0007, 137.0007, 2898,    805.4,   5.0776,  34.1932,2,   -999.0,9,  34.1894,2,     76.6,2,    87.07,2,  -999.00,9,    36.51,2,     0.00,2,     2.64,2, -999.000,9, -999.000,9,  -999.00,9,   -999.0,9,   -999.0,9,-999.0000,9,   -999.0,  9,  -999.00,9,   -999.0,  -999.00,9,  -999.00,9,  -999.00,9,  -999.00,9,   -999.0,-999.0000, -999,9,  799,   5.0116,  27.0343,   -999.0,9
     RF06-06-2,  137E,RF-2737,  1,      6,02-18560,2,20060714,0312, 23.0007, 137.0007, 2898,    908.4,   4.5478,  34.2847,2,   -999.0,9,-999.0000,9,     60.4,2,    99.41,2,  -999.00,9,    38.64,2,     0.00,2,     2.81,2, -999.000,9, -999.000,9,  -999.00,9,   -999.0,9,   -999.0,9,-999.0000,9,   -999.0,  9,  -999.00,9,   -999.0,  -999.00,9,  -999.00,9,  -999.00,9,  -999.00,9,   -999.0,-999.0000, -999,9,  901,   4.4762,  27.1667,   -999.0,9
     RF06-06-2,  137E,RF-2737,  1,      5,02-18559,2,20060714,0309, 23.0007, 137.0007, 2898,   1010.5,   3.9622,  34.3549,2,   -999.0,9,  34.3491,4,     54.6,2,   111.97,2,  -999.00,9,    39.77,2,     0.00,2,     2.89,2, -999.000,9, -999.000,9,  -999.00,9,   -999.0,9,   -999.0,9,-999.0000,9,   -999.0,  9,  -999.00,9,   -999.0,  -999.00,9,  -999.00,9,  -999.00,9,  -999.00,9,   -999.0,-999.0000, -999,9, 1002,   3.8862,  27.2846,   -999.0,9
     RF06-06-2,  137E,RF-2737,  1,      4,02-18558,2,20060714,0304, 23.0007, 137.0007, 2898,   1261.3,   2.9936,  34.4792,2,   -999.0,9,  34.4774,2,     64.6,2,   132.30,2,  -999.00,9,    40.18,2,     0.00,2,     2.88,2, -999.000,9, -999.000,9,  -999.00,9,   -999.0,9,   -999.0,9,-999.0000,9,   -999.0,  9,  -999.00,9,   -999.0,  -999.00,9,  -999.00,9,  -999.00,9,  -999.00,9,   -999.0,-999.0000, -999,9, 1250,   2.9055,  27.4779,   -999.0,9
     RF06-06-2,  137E,RF-2737,  1,      3,02-18557,2,20060714,0258, 23.0007, 137.0007, 2898,   1518.4,   2.5342,  34.5553,2,   -999.0,9,  34.5546,2,     99.8,2,   138.00,2,  -999.00,9,    38.95,2,     0.00,2,     2.76,2, -999.000,9, -999.000,9,  -999.00,9,   -999.0,9,   -999.0,9,-999.0000,9,   -999.0,  9,  -999.00,9,   -999.0,  -999.00,9,  -999.00,9,  -999.00,9,  -999.00,9,   -999.0,-999.0000, -999,9, 1503,   2.4303,  27.5802,   -999.0,9
     RF06-06-2,  137E,RF-2737,  1,      2,02-18556,2,20060714,0252, 23.0007, 137.0007, 2898,   1769.9,   2.2692,  34.5901,2,   -999.0,9,  34.5888,2,    100.7,2,   139.47,2,  -999.00,9,    38.28,2,     0.00,2,     2.72,2, -999.000,9, -999.000,9,  -999.00,9,   -999.0,9,   -999.0,9,-999.0000,9,   -999.0,  9,  -999.00,9,   -999.0,  -999.00,9,  -999.00,9,  -999.00,9,  -999.00,9,   -999.0,-999.0000, -999,9, 1751,   2.1481,  27.6314,   -999.0,9
     RF06-06-2,  137E,RF-2737,  1,      1,02-18555,2,20060714,0246, 23.0007, 137.0007, 2898,   2021.8,   2.0150,  34.6192,2,   -999.0,9,  34.6190,2,    113.8,2,   140.66,2,  -999.00,9,    37.67,2,     0.00,2,     2.67,2, -999.000,9, -999.000,9,  -999.00,9,   -999.0,9,   -999.0,9,-999.0000,9,   -999.0,  9,  -999.00,9,   -999.0,  -999.00,9,  -999.00,9,  -999.00,9,  -999.00,9,   -999.0,-999.0000, -999,9, 1999,   1.8765,  27.6763,   -999.0,9