BOTTLE,20131214MIRCJHATS
EXPOCODE,SECT_ID,STNNBR,CASTNO,SAMPNO,BTLNBR,BTLNBR_FLAG_W,DATE,TIME,LATITUDE,LONGITUDE,DEPTH,CTDPRS,CTDTMP,CTDSAL,CTDSAL_FLAG_W,CTDOXY,CTDOXY_FLAG_W,SALNTY,SALNTY_FLAG_W,OXYGEN,OXYGEN_FLAG_W,SILCAT,SILCAT_FLAG_W,NITRAT,NITRAT_FLAG_W,NO2+NO3,NO2+NO3_FLAG_W,NITRIT,NITRIT_FLAG_W,PHSPHT,PHSPHT_FLAG_W,CFC-11,CFC-11_FLAG_W,CFC-12,CFC-12_FLAG_W,DELC13,DELC13_FLAG_W,TCARBN,TCARBN_FLAG_W,ALKALI,ALKALI_FLAG_W,PH,PH_FLAG_W,PH_TMP,PH_SCALE,PH_NBS,PH_NBS_FLAG_W,C13ERR,TOTALP,TOTALP_FLAG_W,AMMONI,AMMONI_FLAG_W,CHLORA,CHLORA_FLAG_W,PPHYTN,PPHYTN_FLAG_W,REVPRS,REVTMP,DEPTH_,DEPTH_FLAG,CTDDEP,THETA,SIGTHT,DOC,DOC_FLAG_W
,,,,,,,GMT,GMT,,,METER,DBAR,ITS-90,PSS-78,,UMOL/KG,,PSS-78,,UMOL/KG,,UMOL/KG,,UMOL/KG,,UMOL/KG,,UMOL/KG,,UMOL/KG,,PMOL/KG,,PMOL/KG,,/MILLE,,UMOL/KG,,UMOL/KG,,25_DEG_C,,DEG_C,,,,/MILLE,UMOL/KG,,UMOL/KG,,UG/L,,UG/L,,DBAR,ITS-90,METERS,,METERS,DEG_C,,UMOL/L,
     RF06-06-2,  137E,RF-2742,  1,     -9,      -9,5,20060715,1043, 27.9968, 136.9995, 4179,      0.0,  29.2904,  34.2805,2,   -999.0,9,-999.0000,9,    198.5,2,     1.80,2,  -999.00,9,     0.00,2,     0.00,2,     0.00,2, -999.000,9, -999.000,9,  -999.00,9,   1926.5,3,   -999.0,9,   8.1030,2,     25.0, TS,  -999.00,9,   -999.0,  -999.00,9,  -999.00,9,     0.05,2,     0.00,2,   -999.0,-999.0000, -999,9,    0,  29.2902,  21.4268,   -999.0,9
     RF06-06-2,  137E,RF-2742,  1,     24,02-18578,2,20060715,1049, 27.9968, 136.9995, 4179,     11.1,  28.6477,  34.2484,2,   -999.0,9,-999.0000,9,   -999.0,9,  -999.00,9,  -999.00,9,  -999.00,9,  -999.00,9,  -999.00,9, -999.000,9, -999.000,9,  -999.00,9,   -999.0,9,   -999.0,9,-999.0000,9,   -999.0,  9,  -999.00,9,   -999.0,  -999.00,9,  -999.00,9,  -999.00,9,  -999.00,9,   -999.0,-999.0000, -999,9,   11,  28.6450,  21.6178,   -999.0,9
     RF06-06-2,  137E,RF-2742,  1,     21,02-18575,2,20060715,1048, 27.9968, 136.9995, 4179,     11.1,  28.6515,  34.2482,2,   -999.0,9,  34.2825,4,    199.3,2,     1.79,2,  -999.00,9,     0.00,2,     0.00,2,     0.00,2, -999.000,9, -999.000,9,  -999.00,9,   -999.0,9,   -999.0,9,-999.0000,9,   -999.0,  9,  -999.00,9,   -999.0,  -999.00,9,  -999.00,9,     0.06,2,     0.00,2,   -999.0,-999.0000, -999,9,   11,  28.6488,  21.6163,   -999.0,9
     RF06-06-2,  137E,RF-2742,  1,     20,02-18574,2,20060715,1047, 27.9968, 136.9995, 4179,     26.9,  27.4805,  34.3196,2,   -999.0,9,-999.0000,9,    210.8,2,     1.70,2,  -999.00,9,     0.00,2,     0.00,2,     0.00,2, -999.000,9, -999.000,9,  -999.00,9,   -999.0,9,   -999.0,9,-999.0000,9,   -999.0,  9,  -999.00,9,   -999.0,  -999.00,9,  -999.00,9,     0.06,2,     0.01,2,   -999.0,-999.0000, -999,9,   27,  27.4743,  22.0535,   -999.0,9
     RF06-06-2,  137E,RF-2742,  1,     19,02-18573,2,20060715,1046, 27.9968, 136.9995, 4179,     52.2,  23.2549,  34.6896,2,   -999.0,9,-999.0000,9,    224.1,2,     1.67,2,  -999.00,9,     0.00,2,     0.00,2,     0.00,2, -999.000,9, -999.000,9,  -999.00,9,   -999.0,9,   -999.0,9,-999.0000,9,   -999.0,  9,  -999.00,9,   -999.0,  -999.00,9,  -999.00,9,     0.12,2,     0.03,2,   -999.0,-999.0000, -999,9,   52,  23.2442,  23.6277,   -999.0,9
     RF06-06-2,  137E,RF-2742,  1,     18,02-18572,2,20060715,1045, 27.9968, 136.9995, 4179,     77.1,  20.7410,  34.8108,2,   -999.0,9,-999.0000,9,    230.7,2,     2.01,2,  -999.00,9,     0.00,2,     0.00,2,     0.00,2, -999.000,9, -999.000,9,  -999.00,9,   -999.0,9,   -999.0,9,-999.0000,9,   -999.0,  9,  -999.00,9,   -999.0,  -999.00,9,  -999.00,9,     0.18,2,     0.06,2,   -999.0,-999.0000, -999,9,   77,  20.7264,  24.4239,   -999.0,9
     RF06-06-2,  137E,RF-2742,  1,     17,02-18571,2,20060715,1043, 27.9968, 136.9995, 4179,    101.7,  19.4291,  34.8307,2,   -999.0,9,  34.8342,2,    225.1,2,     2.21,2,  -999.00,9,     0.50,2,     0.10,2,     0.03,2, -999.000,9, -999.000,9,  -999.00,9,   -999.0,9,   -999.0,9,-999.0000,9,   -999.0,  9,  -999.00,9,   -999.0,  -999.00,9,  -999.00,9,     0.41,2,     0.36,2,   -999.0,-999.0000, -999,9,  101,  19.4107,  24.7864,   -999.0,9
     RF06-06-2,  137E,RF-2742,  1,     16,02-18570,2,20060715,1042, 27.9968, 136.9995, 4179,    126.8,  19.1054,  34.8574,2,   -999.0,9,-999.0000,9,    209.0,2,     2.60,2,  -999.00,9,     2.03,2,     0.05,2,     0.11,2, -999.000,9, -999.000,9,  -999.00,9,   -999.0,9,   -999.0,9,-999.0000,9,   -999.0,  9,  -999.00,9,   -999.0,  -999.00,9,  -999.00,9,     0.18,2,     0.22,2,   -999.0,-999.0000, -999,9,  126,  19.0828,  24.8910,   -999.0,9
     RF06-06-2,  137E,RF-2742,  1,     15,02-18569,2,20060715,1041, 27.9968, 136.9995, 4179,    150.9,  18.8345,  34.8453,2,   -999.0,9,-999.0000,9,    217.8,2,     2.49,2,  -999.00,9,     1.75,2,     0.03,2,     0.09,2, -999.000,9, -999.000,9,  -999.00,9,   -999.0,9,   -999.0,9,-999.0000,9,   -999.0,  9,  -999.00,9,   -999.0,  -999.00,9,  -999.00,9,     0.09,2,     0.06,2,   -999.0,-999.0000, -999,9,  150,  18.8078,  24.9518,   -999.0,9
     RF06-06-2,  137E,RF-2742,  1,     14,02-18568,2,20060715,1039, 27.9968, 136.9995, 4179,    202.8,  18.5621,  34.8521,2,   -999.0,9,  34.8525,2,    219.1,2,     2.73,2,  -999.00,9,     1.96,2,     0.01,2,     0.11,2, -999.000,9, -999.000,9,  -999.00,9,   -999.0,9,   -999.0,9,-999.0000,9,   -999.0,  9,  -999.00,9,   -999.0,  -999.00,9,  -999.00,9,     0.00,2,     0.01,2,   -999.0,-999.0000, -999,9,  201,  18.5265,  25.0279,   -999.0,9
     RF06-06-2,  137E,RF-2742,  1,     13,02-18567,2,20060715,1037, 27.9968, 136.9995, 4179,    253.0,  18.3839,  34.8468,2,   -999.0,9,-999.0000,9,    217.0,2,     2.90,2,  -999.00,9,     2.25,2,     0.00,2,     0.12,2, -999.000,9, -999.000,9,  -999.00,9,   -999.0,9,   -999.0,9,-999.0000,9,   -999.0,  9,  -999.00,9,   -999.0,  -999.00,9,  -999.00,9,  -999.00,9,  -999.00,9,   -999.0,-999.0000, -999,9,  251,  18.3398,  25.0705,   -999.0,9
     RF06-06-2,  137E,RF-2742,  1,     12,02-18348,2,20060715,1035, 27.9968, 136.9995, 4179,    303.4,  18.1430,  34.8386,2,   -999.0,9,  34.8391,2,    216.9,2,     3.16,2,  -999.00,9,     2.74,2,     0.00,2,     0.15,2, -999.000,9, -999.000,9,  -999.00,9,   -999.0,9,   -999.0,9,-999.0000,9,   -999.0,  9,  -999.00,9,   -999.0,  -999.00,9,  -999.00,9,  -999.00,9,  -999.00,9,   -999.0,-999.0000, -999,9,  301,  18.0905,  25.1261,   -999.0,9
     RF06-06-2,  137E,RF-2742,  1,     11,02-18565,2,20060715,1032, 27.9968, 136.9995, 4179,    404.1,  17.0897,  34.7677,2,   -999.0,9,  34.7672,2,    205.0,2,     5.17,2,  -999.00,9,     5.56,2,     0.00,2,     0.31,2, -999.000,9, -999.000,9,  -999.00,9,   -999.0,9,   -999.0,9,-999.0000,9,   -999.0,  9,  -999.00,9,   -999.0,  -999.00,9,  -999.00,9,  -999.00,9,  -999.00,9,   -999.0,-999.0000, -999,9,  401,  17.0225,  25.3306,   -999.0,9
     RF06-06-2,  137E,RF-2742,  1,     10,02-18564,2,20060715,1029, 27.9968, 136.9995, 4179,    505.9,  15.0099,  34.6002,2,   -999.0,9,-999.0000,9,    188.7,2,    10.70,2,  -999.00,9,     9.98,2,     0.00,2,     0.60,2, -999.000,9, -999.000,9,  -999.00,9,   -999.0,9,   -999.0,9,-999.0000,9,   -999.0,  9,  -999.00,9,   -999.0,  -999.00,9,  -999.00,9,  -999.00,9,  -999.00,9,   -999.0,-999.0000, -999,9,  502,  14.9328,  25.6784,   -999.0,9
     RF06-06-2,  137E,RF-2742,  1,      9,02-18563,2,20060715,1026, 27.9968, 136.9995, 4179,    606.1,  11.6741,  34.3600,2,   -999.0,9,  34.3597,2,    173.9,2,    23.77,2,  -999.00,9,    16.91,2,     0.00,2,     1.10,2, -999.000,9, -999.000,9,  -999.00,9,   -999.0,9,   -999.0,9,-999.0000,9,   -999.0,  9,  -999.00,9,   -999.0,  -999.00,9,  -999.00,9,  -999.00,9,  -999.00,9,   -999.0,-999.0000, -999,9,  601,  11.5956,  26.1681,   -999.0,9
     RF06-06-2,  137E,RF-2742,  1,      8,02-18562,2,20060715,1023, 27.9968, 136.9995, 4179,    707.2,   8.7581,  34.1777,2,   -999.0,9,-999.0000,9,    158.8,2,    40.23,2,  -999.00,9,    23.31,2,     0.00,2,     1.60,2, -999.000,9, -999.000,9,  -999.00,9,   -999.0,9,   -999.0,9,-999.0000,9,   -999.0,  9,  -999.00,9,   -999.0,  -999.00,9,  -999.00,9,  -999.00,9,  -999.00,9,   -999.0,-999.0000, -999,9,  701,   8.6811,  26.5244,   -999.0,9
     RF06-06-2,  137E,RF-2742,  1,      7,02-18561,2,20060715,1020, 27.9968, 136.9995, 4179,    808.1,   6.9943,  34.1232,2,   -999.0,9,  34.1240,2,    130.7,2,    57.97,2,  -999.00,9,    28.97,2,     0.00,2,     2.03,2, -999.000,9, -999.000,9,  -999.00,9,   -999.0,9,   -999.0,9,-999.0000,9,   -999.0,  9,  -999.00,9,   -999.0,  -999.00,9,  -999.00,9,  -999.00,9,  -999.00,9,   -999.0,-999.0000, -999,9,  801,   6.9164,  26.7395,   -999.0,9
     RF06-06-2,  137E,RF-2742,  1,      6,02-18560,2,20060715,1017, 27.9968, 136.9995, 4179,    907.4,   5.3144,  34.1650,2,   -999.0,9,-999.0000,9,     91.5,2,    82.53,2,  -999.00,9,    34.82,2,     0.00,2,     2.48,2, -999.000,9, -999.000,9,  -999.00,9,   -999.0,9,   -999.0,9,-999.0000,9,   -999.0,  9,  -999.00,9,   -999.0,  -999.00,9,  -999.00,9,  -999.00,9,  -999.00,9,   -999.0,-999.0000, -999,9,  899,   5.2377,  26.9856,   -999.0,9
     RF06-06-2,  137E,RF-2742,  1,      5,02-18559,2,20060715,1014, 27.9968, 136.9995, 4179,   1009.2,   4.4923,  34.2459,2,   -999.0,9,  34.2445,2,     67.2,2,   101.59,2,  -999.00,9,    37.95,2,     0.00,2,     2.73,2, -999.000,9, -999.000,9,  -999.00,9,   -999.0,9,   -999.0,9,-999.0000,9,   -999.0,  9,  -999.00,9,   -999.0,  -999.00,9,  -999.00,9,  -999.00,9,  -999.00,9,   -999.0,-999.0000, -999,9, 1000,   4.4125,  27.1428,   -999.0,9
     RF06-06-2,  137E,RF-2742,  1,      4,02-18558,2,20060715,1008, 27.9968, 136.9995, 4179,   1263.1,   3.4054,  34.4093,2,   -999.0,9,  34.4087,2,     58.1,2,   126.38,2,  -999.00,9,    40.08,2,     0.00,2,     2.87,2, -999.000,9, -999.000,9,  -999.00,9,   -999.0,9,   -999.0,9,-999.0000,9,   -999.0,  9,  -999.00,9,   -999.0,  -999.00,9,  -999.00,9,  -999.00,9,  -999.00,9,   -999.0,-999.0000, -999,9, 1251,   3.3133,  27.3843,   -999.0,9
     RF06-06-2,  137E,RF-2742,  1,      3,02-18557,2,20060715,1002, 27.9968, 136.9995, 4179,   1515.9,   2.7420,  34.5008,2,   -999.0,9,  34.5002,2,     69.6,2,   138.02,2,  -999.00,9,    39.90,2,     0.00,2,     2.84,2, -999.000,9, -999.000,9,  -999.00,9,   -999.0,9,   -999.0,9,-999.0000,9,   -999.0,  9,  -999.00,9,   -999.0,  -999.00,9,  -999.00,9,  -999.00,9,  -999.00,9,   -999.0,-999.0000, -999,9, 1500,   2.6360,  27.5191,   -999.0,9
     RF06-06-2,  137E,RF-2742,  1,      2,02-18556,2,20060715,0955, 27.9968, 136.9995, 4179,   1768.7,   2.3209,  34.5593,2,   -999.0,9,  34.5586,2,     88.5,2,   142.77,2,  -999.00,9,    39.19,2,     0.00,2,     2.78,2, -999.000,9, -999.000,9,  -999.00,9,   -999.0,9,   -999.0,9,-999.0000,9,   -999.0,  9,  -999.00,9,   -999.0,  -999.00,9,  -999.00,9,  -999.00,9,  -999.00,9,   -999.0,-999.0000, -999,9, 1750,   2.1993,  27.6026,   -999.0,9
     RF06-06-2,  137E,RF-2742,  1,      1,02-18555,2,20060715,0949, 27.9968, 136.9995, 4179,   2023.8,   2.0405,  34.6004,2,   -999.0,9,  34.5990,2,    104.0,2,   144.01,2,  -999.00,9,    38.29,2,     0.00,2,     2.70,2, -999.000,9, -999.000,9,  -999.00,9,   -999.0,9,   -999.0,9,-999.0000,9,   -999.0,  9,  -999.00,9,   -999.0,  -999.00,9,  -999.00,9,  -999.00,9,  -999.00,9,   -999.0,-999.0000, -999,9, 2001,   1.9015,  27.6593,   -999.0,9