BOTTLE,20131214MIRCJHATS
EXPOCODE,SECT_ID,STNNBR,CASTNO,SAMPNO,BTLNBR,BTLNBR_FLAG_W,DATE,TIME,LATITUDE,LONGITUDE,DEPTH,CTDPRS,CTDTMP,CTDSAL,CTDSAL_FLAG_W,CTDOXY,CTDOXY_FLAG_W,SALNTY,SALNTY_FLAG_W,OXYGEN,OXYGEN_FLAG_W,SILCAT,SILCAT_FLAG_W,NITRAT,NITRAT_FLAG_W,NO2+NO3,NO2+NO3_FLAG_W,NITRIT,NITRIT_FLAG_W,PHSPHT,PHSPHT_FLAG_W,CFC-11,CFC-11_FLAG_W,CFC-12,CFC-12_FLAG_W,DELC13,DELC13_FLAG_W,TCARBN,TCARBN_FLAG_W,ALKALI,ALKALI_FLAG_W,PH,PH_FLAG_W,PH_TMP,PH_SCALE,PH_NBS,PH_NBS_FLAG_W,C13ERR,TOTALP,TOTALP_FLAG_W,AMMONI,AMMONI_FLAG_W,CHLORA,CHLORA_FLAG_W,PPHYTN,PPHYTN_FLAG_W,REVPRS,REVTMP,DEPTH_,DEPTH_FLAG,CTDDEP,THETA,SIGTHT,DOC,DOC_FLAG_W
,,,,,,,GMT,GMT,,,METER,DBAR,ITS-90,PSS-78,,UMOL/KG,,PSS-78,,UMOL/KG,,UMOL/KG,,UMOL/KG,,UMOL/KG,,UMOL/KG,,UMOL/KG,,PMOL/KG,,PMOL/KG,,/MILLE,,UMOL/KG,,UMOL/KG,,25_DEG_C,,DEG_C,,,,/MILLE,UMOL/KG,,UMOL/KG,,UG/L,,UG/L,,DBAR,ITS-90,METERS,,METERS,DEG_C,,UMOL/L,
     RF06-06-2,  NONE,RF-2775,  1,     23,02-18577,2,20060728,0342, 29.7737, 134.2412, 4592,     12.0,  29.7063,  34.1220,2,   -999.0,9,  34.1336,4,   -999.0,9,  -999.00,9,  -999.00,9,  -999.00,9,  -999.00,9,  -999.00,9, -999.000,9, -999.000,9,  -999.00,9,   -999.0,9,   -999.0,9,-999.0000,9,   -999.0,  9,  -999.00,9,   -999.0,  -999.00,9,  -999.00,9,  -999.00,9,  -999.00,9,   -999.0,-999.0000, -999,9,   12,  29.7034,  21.1688,   -999.0,9
     RF06-06-2,  NONE,RF-2775,  1,     21,02-18575,2,20060728,0339, 29.7737, 134.2412, 4592,    102.2,  21.1153,  34.8321,2,   -999.0,9,  34.8374,4,   -999.0,9,  -999.00,9,  -999.00,9,  -999.00,9,  -999.00,9,  -999.00,9, -999.000,9, -999.000,9,  -999.00,9,   -999.0,9,   -999.0,9,-999.0000,9,   -999.0,  9,  -999.00,9,   -999.0,  -999.00,9,  -999.00,9,  -999.00,9,  -999.00,9,   -999.0,-999.0000, -999,9,  101,  21.0957,  24.3400,   -999.0,9
     RF06-06-2,  NONE,RF-2775,  1,     19,02-18573,2,20060728,0337, 29.7737, 134.2412, 4592,    202.9,  18.6092,  34.8530,2,   -999.0,9,  34.8431,4,   -999.0,9,  -999.00,9,  -999.00,9,  -999.00,9,  -999.00,9,  -999.00,9, -999.000,9, -999.000,9,  -999.00,9,   -999.0,9,   -999.0,9,-999.0000,9,   -999.0,  9,  -999.00,9,   -999.0,  -999.00,9,  -999.00,9,  -999.00,9,  -999.00,9,   -999.0,-999.0000, -999,9,  201,  18.5736,  25.0167,   -999.0,9
     RF06-06-2,  NONE,RF-2775,  1,     17,02-18571,2,20060728,0334, 29.7737, 134.2412, 4592,    303.8,  17.0355,  34.7590,2,   -999.0,9,  34.7582,2,   -999.0,9,  -999.00,9,  -999.00,9,  -999.00,9,  -999.00,9,  -999.00,9, -999.000,9, -999.000,9,  -999.00,9,   -999.0,9,   -999.0,9,-999.0000,9,   -999.0,  9,  -999.00,9,   -999.0,  -999.00,9,  -999.00,9,  -999.00,9,  -999.00,9,   -999.0,-999.0000, -999,9,  301,  16.9852,  25.3327,   -999.0,9
     RF06-06-2,  NONE,RF-2775,  1,     15,02-18569,2,20060728,0331, 29.7737, 134.2412, 4592,    405.0,  15.0698,  34.6036,2,   -999.0,9,  34.6003,4,   -999.0,9,  -999.00,9,  -999.00,9,  -999.00,9,  -999.00,9,  -999.00,9, -999.000,9, -999.000,9,  -999.00,9,   -999.0,9,   -999.0,9,-999.0000,9,   -999.0,  9,  -999.00,9,   -999.0,  -999.00,9,  -999.00,9,  -999.00,9,  -999.00,9,   -999.0,-999.0000, -999,9,  402,  15.0081,  25.6645,   -999.0,9
     RF06-06-2,  NONE,RF-2775,  1,     13,02-18567,2,20060728,0326, 29.7737, 134.2412, 4592,    607.2,  10.1894,  34.3033,2,   -999.0,9,  34.2934,4,   -999.0,9,  -999.00,9,  -999.00,9,  -999.00,9,  -999.00,9,  -999.00,9, -999.000,9, -999.000,9,  -999.00,9,   -999.0,9,   -999.0,9,-999.0000,9,   -999.0,  9,  -999.00,9,   -999.0,  -999.00,9,  -999.00,9,  -999.00,9,  -999.00,9,   -999.0,-999.0000, -999,9,  602,  10.1173,  26.3879,   -999.0,9
     RF06-06-2,  NONE,RF-2775,  1,     11,02-18565,2,20060728,0322, 29.7737, 134.2412, 4592,    808.8,   6.3651,  34.1732,2,   -999.0,9,  34.1750,2,   -999.0,9,  -999.00,9,  -999.00,9,  -999.00,9,  -999.00,9,  -999.00,9, -999.000,9, -999.000,9,  -999.00,9,   -999.0,9,   -999.0,9,-999.0000,9,   -999.0,  9,  -999.00,9,   -999.0,  -999.00,9,  -999.00,9,  -999.00,9,  -999.00,9,   -999.0,-999.0000, -999,9,  802,   6.2909,  26.8621,   -999.0,9
     RF06-06-2,  NONE,RF-2775,  1,      9,02-18563,2,20060728,0317, 29.7737, 134.2412, 4592,   1010.5,   4.5475,  34.2963,2,   -999.0,9,  34.2961,2,   -999.0,9,  -999.00,9,  -999.00,9,  -999.00,9,  -999.00,9,  -999.00,9, -999.000,9, -999.000,9,  -999.00,9,   -999.0,9,   -999.0,9,-999.0000,9,   -999.0,  9,  -999.00,9,   -999.0,  -999.00,9,  -999.00,9,  -999.00,9,  -999.00,9,   -999.0,-999.0000, -999,9, 1001,   4.4671,  27.1769,   -999.0,9
     RF06-06-2,  NONE,RF-2775,  1,      7,02-18561,2,20060728,0311, 29.7737, 134.2412, 4592,   1263.6,   3.3734,  34.4197,2,   -999.0,9,  34.4190,2,   -999.0,9,  -999.00,9,  -999.00,9,  -999.00,9,  -999.00,9,  -999.00,9, -999.000,9, -999.000,9,  -999.00,9,   -999.0,9,   -999.0,9,-999.0000,9,   -999.0,  9,  -999.00,9,   -999.0,  -999.00,9,  -999.00,9,  -999.00,9,  -999.00,9,   -999.0,-999.0000, -999,9, 1251,   3.2815,  27.3957,   -999.0,9
     RF06-06-2,  NONE,RF-2775,  1,      5,02-18559,2,20060728,0305, 29.7737, 134.2412, 4592,   1517.7,   2.7941,  34.4960,2,   -999.0,9,  34.4948,2,   -999.0,9,  -999.00,9,  -999.00,9,  -999.00,9,  -999.00,9,  -999.00,9, -999.000,9, -999.000,9,  -999.00,9,   -999.0,9,   -999.0,9,-999.0000,9,   -999.0,  9,  -999.00,9,   -999.0,  -999.00,9,  -999.00,9,  -999.00,9,  -999.00,9,   -999.0,-999.0000, -999,9, 1502,   2.6874,  27.5108,   -999.0,9
     RF06-06-2,  NONE,RF-2775,  1,      3,02-18557,2,20060728,0300, 29.7737, 134.2412, 4592,   1771.3,   2.3715,  34.5538,2,   -999.0,9,  34.5532,2,   -999.0,9,  -999.00,9,  -999.00,9,  -999.00,9,  -999.00,9,  -999.00,9, -999.000,9, -999.000,9,  -999.00,9,   -999.0,9,   -999.0,9,-999.0000,9,   -999.0,  9,  -999.00,9,   -999.0,  -999.00,9,  -999.00,9,  -999.00,9,  -999.00,9,   -999.0,-999.0000, -999,9, 1752,   2.2490,  27.5941,   -999.0,9
     RF06-06-2,  NONE,RF-2775,  1,      1,02-18555,2,20060728,0254, 29.7737, 134.2412, 4592,   2024.6,   2.1108,  34.5910,2,   -999.0,9,  34.5906,2,   -999.0,9,  -999.00,9,  -999.00,9,  -999.00,9,  -999.00,9,  -999.00,9, -999.000,9, -999.000,9,  -999.00,9,   -999.0,9,   -999.0,9,-999.0000,9,   -999.0,  9,  -999.00,9,   -999.0,  -999.00,9,  -999.00,9,  -999.00,9,  -999.00,9,   -999.0,-999.0000, -999,9, 2001,   1.9707,  27.6463,   -999.0,9