BOTTLE,20131214MIRCJHATS
EXPOCODE,SECT_ID,STNNBR,CASTNO,SAMPNO,BTLNBR,BTLNBR_FLAG_W,DATE,TIME,LATITUDE,LONGITUDE,DEPTH,CTDPRS,CTDTMP,CTDSAL,CTDSAL_FLAG_W,CTDOXY,CTDOXY_FLAG_W,SALNTY,SALNTY_FLAG_W,OXYGEN,OXYGEN_FLAG_W,SILCAT,SILCAT_FLAG_W,NITRAT,NITRAT_FLAG_W,NO2+NO3,NO2+NO3_FLAG_W,NITRIT,NITRIT_FLAG_W,PHSPHT,PHSPHT_FLAG_W,CFC-11,CFC-11_FLAG_W,CFC-12,CFC-12_FLAG_W,DELC13,DELC13_FLAG_W,TCARBN,TCARBN_FLAG_W,ALKALI,ALKALI_FLAG_W,PH,PH_FLAG_W,PH_TMP,PH_SCALE,PH_NBS,PH_NBS_FLAG_W,C13ERR,TOTALP,TOTALP_FLAG_W,AMMONI,AMMONI_FLAG_W,CHLORA,CHLORA_FLAG_W,PPHYTN,PPHYTN_FLAG_W,REVPRS,REVTMP,DEPTH_,DEPTH_FLAG,CTDDEP,THETA,SIGTHT,DOC,DOC_FLAG_W
,,,,,,,GMT,GMT,,,METER,DBAR,ITS-90,PSS-78,,UMOL/KG,,PSS-78,,UMOL/KG,,UMOL/KG,,UMOL/KG,,UMOL/KG,,UMOL/KG,,UMOL/KG,,PMOL/KG,,PMOL/KG,,/MILLE,,UMOL/KG,,UMOL/KG,,25_DEG_C,,DEG_C,,,,/MILLE,UMOL/KG,,UMOL/KG,,UG/L,,UG/L,,DBAR,ITS-90,METERS,,METERS,DEG_C,,UMOL/L,
     RF06-06-2,  137E,RF-2746,  1,     -9,      -9,5,20060716,0727, 30.9987, 136.9950, 4267,      0.0,  28.3658,  33.6437,2,   -999.0,9,-999.0000,9,    205.1,2,     1.94,2,  -999.00,9,     0.05,2,     0.00,2,     0.00,2, -999.000,9, -999.000,9,  -999.00,9,   1916.7,3,   -999.0,9,   8.0854,2,     25.0, TS,  -999.00,9,   -999.0,  -999.00,9,  -999.00,9,     0.06,2,     0.01,2,   -999.0,-999.0000, -999,9,    0,  28.3656,  21.2557,   -999.0,9
     RF06-06-2,  137E,RF-2746,  1,     24,02-18578,2,20060716,0743, 30.9987, 136.9950, 4267,     10.9,  27.9266,  33.8104,2,   -999.0,9,-999.0000,9,   -999.0,9,  -999.00,9,  -999.00,9,  -999.00,9,  -999.00,9,  -999.00,9, -999.000,9, -999.000,9,  -999.00,9,   -999.0,9,   -999.0,9,-999.0000,9,   -999.0,  9,  -999.00,9,   -999.0,  -999.00,9,  -999.00,9,  -999.00,9,  -999.00,9,   -999.0,-999.0000, -999,9,   11,  27.9241,  21.5251,   -999.0,9
     RF06-06-2,  137E,RF-2746,  1,     21,02-18575,2,20060716,0743, 30.9987, 136.9950, 4267,     11.0,  27.9401,  33.7863,2,   -999.0,9,  33.8840,4,    205.4,2,     1.93,2,  -999.00,9,     0.00,2,     0.00,2,     0.00,2, -999.000,9, -999.000,9,  -999.00,9,   -999.0,9,   -999.0,9,-999.0000,9,   -999.0,  9,  -999.00,9,   -999.0,  -999.00,9,  -999.00,9,     0.06,2,     0.01,2,   -999.0,-999.0000, -999,9,   11,  27.9375,  21.5026,   -999.0,9
     RF06-06-2,  137E,RF-2746,  1,     20,02-18574,2,20060716,0742, 30.9987, 136.9950, 4267,     26.6,  26.0218,  34.2314,2,   -999.0,9,-999.0000,9,    211.7,2,     1.82,2,  -999.00,9,     0.00,2,     0.00,2,     0.00,2, -999.000,9, -999.000,9,  -999.00,9,   -999.0,9,   -999.0,9,-999.0000,9,   -999.0,  9,  -999.00,9,   -999.0,  -999.00,9,  -999.00,9,     0.07,2,     0.02,2,   -999.0,-999.0000, -999,9,   26,  26.0159,  22.4487,   -999.0,9
     RF06-06-2,  137E,RF-2746,  1,     19,02-18573,2,20060716,0741, 30.9987, 136.9950, 4267,     53.2,  21.5100,  34.7729,2,   -999.0,9,-999.0000,9,    228.2,2,     2.11,2,  -999.00,9,     0.00,2,     0.00,2,     0.00,2, -999.000,9, -999.000,9,  -999.00,9,   -999.0,9,   -999.0,9,-999.0000,9,   -999.0,  9,  -999.00,9,   -999.0,  -999.00,9,  -999.00,9,     0.13,2,     0.03,2,   -999.0,-999.0000, -999,9,   53,  21.4997,  24.1842,   -999.0,9
     RF06-06-2,  137E,RF-2746,  1,     18,02-18572,2,20060716,0739, 30.9987, 136.9950, 4267,     76.8,  20.0848,  34.8358,2,   -999.0,9,-999.0000,9,    225.4,2,     2.27,2,  -999.00,9,     0.00,2,     0.00,2,     0.01,2, -999.000,9, -999.000,9,  -999.00,9,   -999.0,9,   -999.0,9,-999.0000,9,   -999.0,  9,  -999.00,9,   -999.0,  -999.00,9,  -999.00,9,     0.22,2,     0.18,2,   -999.0,-999.0000, -999,9,   76,  20.0706,  24.6179,   -999.0,9
     RF06-06-2,  137E,RF-2746,  1,     17,02-18571,2,20060716,0738, 30.9987, 136.9950, 4267,    104.1,  19.3603,  34.8486,2,   -999.0,9,  34.8467,2,    221.0,2,     2.29,2,  -999.00,9,     0.66,2,     0.11,2,     0.04,2, -999.000,9, -999.000,9,  -999.00,9,   -999.0,9,   -999.0,9,-999.0000,9,   -999.0,  9,  -999.00,9,   -999.0,  -999.00,9,  -999.00,9,     0.45,2,     0.40,2,   -999.0,-999.0000, -999,9,  103,  19.3415,  24.8179,   -999.0,9
     RF06-06-2,  137E,RF-2746,  1,     16,02-18570,2,20060716,0736, 30.9987, 136.9950, 4267,    127.2,  18.9813,  34.8443,2,   -999.0,9,-999.0000,9,    219.8,2,     2.52,2,  -999.00,9,     1.68,2,     0.03,2,     0.09,2, -999.000,9, -999.000,9,  -999.00,9,   -999.0,9,   -999.0,9,-999.0000,9,   -999.0,  9,  -999.00,9,   -999.0,  -999.00,9,  -999.00,9,     0.11,2,     0.12,2,   -999.0,-999.0000, -999,9,  126,  18.9587,  24.9127,   -999.0,9
     RF06-06-2,  137E,RF-2746,  1,     15,02-18569,2,20060716,0735, 30.9987, 136.9950, 4267,    153.3,  18.8145,  34.8490,2,   -999.0,9,-999.0000,9,    216.7,2,     2.58,2,  -999.00,9,     1.77,2,     0.02,2,     0.09,2, -999.000,9, -999.000,9,  -999.00,9,   -999.0,9,   -999.0,9,-999.0000,9,   -999.0,  9,  -999.00,9,   -999.0,  -999.00,9,  -999.00,9,     0.06,2,     0.06,2,   -999.0,-999.0000, -999,9,  152,  18.7874,  24.9598,   -999.0,9
     RF06-06-2,  137E,RF-2746,  1,     14,02-18568,2,20060716,0733, 30.9987, 136.9950, 4267,    204.3,  18.6056,  34.8538,2,   -999.0,9,  34.8533,2,    221.1,2,     2.71,2,  -999.00,9,     1.92,2,     0.01,2,     0.10,2, -999.000,9, -999.000,9,  -999.00,9,   -999.0,9,   -999.0,9,-999.0000,9,   -999.0,  9,  -999.00,9,   -999.0,  -999.00,9,  -999.00,9,     0.01,2,     0.02,2,   -999.0,-999.0000, -999,9,  203,  18.5697,  25.0183,   -999.0,9
     RF06-06-2,  137E,RF-2746,  1,     13,02-18567,2,20060716,0731, 30.9987, 136.9950, 4267,    255.1,  18.4220,  34.8513,2,   -999.0,9,-999.0000,9,    215.0,2,     2.96,2,  -999.00,9,     2.25,2,     0.01,2,     0.13,2, -999.000,9, -999.000,9,  -999.00,9,   -999.0,9,   -999.0,9,-999.0000,9,   -999.0,  9,  -999.00,9,   -999.0,  -999.00,9,  -999.00,9,  -999.00,9,  -999.00,9,   -999.0,-999.0000, -999,9,  253,  18.3775,  25.0646,   -999.0,9
     RF06-06-2,  137E,RF-2746,  1,     12,02-18348,2,20060716,0729, 30.9987, 136.9950, 4267,    304.2,  18.1586,  34.8439,2,   -999.0,9,  34.8440,2,    216.5,2,     3.14,2,  -999.00,9,     2.70,2,     0.01,2,     0.14,2, -999.000,9, -999.000,9,  -999.00,9,   -999.0,9,   -999.0,9,-999.0000,9,   -999.0,  9,  -999.00,9,   -999.0,  -999.00,9,  -999.00,9,  -999.00,9,  -999.00,9,   -999.0,-999.0000, -999,9,  302,  18.1060,  25.1263,   -999.0,9
     RF06-06-2,  137E,RF-2746,  1,     11,02-18565,2,20060716,0726, 30.9987, 136.9950, 4267,    405.2,  17.1725,  34.7806,2,   -999.0,9,  34.7810,2,    205.3,2,     4.80,2,  -999.00,9,     5.15,2,     0.00,2,     0.34,2, -999.000,9, -999.000,9,  -999.00,9,   -999.0,9,   -999.0,9,-999.0000,9,   -999.0,  9,  -999.00,9,   -999.0,  -999.00,9,  -999.00,9,  -999.00,9,  -999.00,9,   -999.0,-999.0000, -999,9,  402,  17.1049,  25.3209,   -999.0,9
     RF06-06-2,  137E,RF-2746,  1,     10,02-18564,2,20060716,0723, 30.9987, 136.9950, 4267,    503.9,  15.7068,  34.6554,2,   -999.0,9,-999.0000,9,    197.4,2,     8.80,2,  -999.00,9,     8.69,2,     0.00,2,     0.51,2, -999.000,9, -999.000,9,  -999.00,9,   -999.0,9,   -999.0,9,-999.0000,9,   -999.0,  9,  -999.00,9,   -999.0,  -999.00,9,  -999.00,9,  -999.00,9,  -999.00,9,   -999.0,-999.0000, -999,9,  500,  15.6276,  25.5669,   -999.0,9
     RF06-06-2,  137E,RF-2746,  1,      9,02-18563,2,20060716,0720, 30.9987, 136.9950, 4267,    607.3,  12.7516,  34.4376,2,   -999.0,9,  34.4401,2,    179.8,2,    18.53,2,  -999.00,9,    14.60,2,     0.00,2,     0.94,2, -999.000,9, -999.000,9,  -999.00,9,   -999.0,9,   -999.0,9,-999.0000,9,   -999.0,  9,  -999.00,9,   -999.0,  -999.00,9,  -999.00,9,  -999.00,9,  -999.00,9,   -999.0,-999.0000, -999,9,  602,  12.6683,  26.0229,   -999.0,9
     RF06-06-2,  137E,RF-2746,  1,      8,02-18562,2,20060716,0717, 30.9987, 136.9950, 4267,    706.0,  10.1540,  34.2632,2,   -999.0,9,-999.0000,9,    167.3,2,    30.77,2,  -999.00,9,    20.12,2,     0.00,2,     1.35,2, -999.000,9, -999.000,9,  -999.00,9,   -999.0,9,   -999.0,9,-999.0000,9,   -999.0,  9,  -999.00,9,   -999.0,  -999.00,9,  -999.00,9,  -999.00,9,  -999.00,9,   -999.0,-999.0000, -999,9,  700,  10.0699,  26.3647,   -999.0,9
     RF06-06-2,  137E,RF-2746,  1,      7,02-18561,2,20060716,0714, 30.9987, 136.9950, 4267,    808.5,   7.8092,  34.1483,2,   -999.0,9,  34.1466,2,    141.8,2,    49.69,2,  -999.00,9,    26.53,2,     0.00,2,     1.83,2, -999.000,9, -999.000,9,  -999.00,9,   -999.0,9,   -999.0,9,-999.0000,9,   -999.0,  9,  -999.00,9,   -999.0,  -999.00,9,  -999.00,9,  -999.00,9,  -999.00,9,   -999.0,-999.0000, -999,9,  801,   7.7263,  26.6451,   -999.0,9
     RF06-06-2,  137E,RF-2746,  1,      6,02-18560,2,20060716,0711, 30.9987, 136.9950, 4267,    907.6,   5.8313,  34.0849,2,   -999.0,9,-999.0000,9,    110.3,2,    70.15,2,  -999.00,9,    32.54,2,     0.00,2,     2.33,2, -999.000,9, -999.000,9,  -999.00,9,   -999.0,9,   -999.0,9,-999.0000,9,   -999.0,  9,  -999.00,9,   -999.0,  -999.00,9,  -999.00,9,  -999.00,9,  -999.00,9,   -999.0,-999.0000, -999,9,  899,   5.7512,  26.8606,   -999.0,9
     RF06-06-2,  137E,RF-2746,  1,      5,02-18559,2,20060716,0708, 30.9987, 136.9950, 4267,   1010.9,   5.0703,  34.1987,2,   -999.0,9,  34.1987,2,     78.7,2,    88.88,2,  -999.00,9,    36.18,2,     0.00,2,     2.61,2, -999.000,9, -999.000,9,  -999.00,9,   -999.0,9,   -999.0,9,-999.0000,9,   -999.0,  9,  -999.00,9,   -999.0,  -999.00,9,  -999.00,9,  -999.00,9,  -999.00,9,   -999.0,-999.0000, -999,9, 1001,   4.9860,  27.0416,   -999.0,9
     RF06-06-2,  137E,RF-2746,  1,      4,02-18558,2,20060716,0703, 30.9987, 136.9950, 4267,   1262.3,   3.6843,  34.4075,2,   -999.0,9,  34.4058,2,     65.4,2,   120.35,2,  -999.00,9,    39.17,2,     0.00,2,     2.80,2, -999.000,9, -999.000,9,  -999.00,9,   -999.0,9,   -999.0,9,-999.0000,9,   -999.0,  9,  -999.00,9,   -999.0,  -999.00,9,  -999.00,9,  -999.00,9,  -999.00,9,   -999.0,-999.0000, -999,9, 1250,   3.5896,  27.3562,   -999.0,9
     RF06-06-2,  137E,RF-2746,  1,      3,02-18557,2,20060716,0657, 30.9987, 136.9950, 4267,   1517.3,   2.9604,  34.4862,2,   -999.0,9,  34.4860,2,     72.6,2,   133.37,2,  -999.00,9,    39.49,2,     0.00,2,     2.84,2, -999.000,9, -999.000,9,  -999.00,9,   -999.0,9,   -999.0,9,-999.0000,9,   -999.0,  9,  -999.00,9,   -999.0,  -999.00,9,  -999.00,9,  -999.00,9,  -999.00,9,   -999.0,-999.0000, -999,9, 1501,   2.8518,  27.4883,   -999.0,9
     RF06-06-2,  137E,RF-2746,  1,      2,02-18556,2,20060716,0651, 30.9987, 136.9950, 4267,   1768.5,   2.5489,  34.5357,2,   -999.0,9,  34.5355,2,     85.2,2,   139.18,2,  -999.00,9,    39.19,2,     0.00,2,     2.77,2, -999.000,9, -999.000,9,  -999.00,9,   -999.0,9,   -999.0,9,-999.0000,9,   -999.0,  9,  -999.00,9,   -999.0,  -999.00,9,  -999.00,9,  -999.00,9,  -999.00,9,   -999.0,-999.0000, -999,9, 1749,   2.4243,  27.5650,   -999.0,9
     RF06-06-2,  137E,RF-2746,  1,      1,02-18555,2,20060716,0645, 30.9987, 136.9950, 4267,   2022.0,   2.2165,  34.5788,2,   -999.0,9,  34.5783,2,    111.3,2,   142.16,2,  -999.00,9,    38.49,2,     0.00,2,     2.72,2, -999.000,9, -999.000,9,  -999.00,9,   -999.0,9,   -999.0,9,-999.0000,9,   -999.0,  9,  -999.00,9,   -999.0,  -999.00,9,  -999.00,9,  -999.00,9,  -999.00,9,   -999.0,-999.0000, -999,9, 1998,   2.0751,  27.6282,   -999.0,9