BOTTLE,20131214MIRCJHATS
EXPOCODE,SECT_ID,STNNBR,CASTNO,SAMPNO,BTLNBR,BTLNBR_FLAG_W,DATE,TIME,LATITUDE,LONGITUDE,DEPTH,CTDPRS,CTDTMP,CTDSAL,CTDSAL_FLAG_W,CTDOXY,CTDOXY_FLAG_W,SALNTY,SALNTY_FLAG_W,OXYGEN,OXYGEN_FLAG_W,SILCAT,SILCAT_FLAG_W,NITRAT,NITRAT_FLAG_W,NO2+NO3,NO2+NO3_FLAG_W,NITRIT,NITRIT_FLAG_W,PHSPHT,PHSPHT_FLAG_W,CFC-11,CFC-11_FLAG_W,CFC-12,CFC-12_FLAG_W,DELC13,DELC13_FLAG_W,TCARBN,TCARBN_FLAG_W,ALKALI,ALKALI_FLAG_W,PH,PH_FLAG_W,PH_TMP,PH_SCALE,PH_NBS,PH_NBS_FLAG_W,C13ERR,TOTALP,TOTALP_FLAG_W,AMMONI,AMMONI_FLAG_W,CHLORA,CHLORA_FLAG_W,PPHYTN,PPHYTN_FLAG_W,REVPRS,REVTMP,DEPTH_,DEPTH_FLAG,CTDDEP,THETA,SIGTHT,DOC,DOC_FLAG_W
,,,,,,,GMT,GMT,,,METER,DBAR,ITS-90,PSS-78,,UMOL/KG,,PSS-78,,UMOL/KG,,UMOL/KG,,UMOL/KG,,UMOL/KG,,UMOL/KG,,UMOL/KG,,PMOL/KG,,PMOL/KG,,/MILLE,,UMOL/KG,,UMOL/KG,,25_DEG_C,,DEG_C,,,,/MILLE,UMOL/KG,,UMOL/KG,,UG/L,,UG/L,,DBAR,ITS-90,METERS,,METERS,DEG_C,,UMOL/L,
     RF06-06-2,  142E,RF-2712,  1,     -9,      -9,5,20060705,0531,  2.0058, 142.0138, 2583,      0.0,  29.7020,  33.9016,2,   -999.0,9,-999.0000,9,    197.5,2,     2.07,2,  -999.00,9,     0.00,2,     0.00,2,     0.02,2, -999.000,9, -999.000,9,  -999.00,9,   1900.9,3,   -999.0,9,-999.0000,9,   -999.0,  9,  -999.00,9,   -999.0,  -999.00,9,  -999.00,9,     0.12,2,     0.02,2,   -999.0,-999.0000, -999,9,    0,  29.7018,  21.0041,   -999.0,9
     RF06-06-2,  142E,RF-2712,  1,     24,02-18578,2,20060705,0544,  2.0058, 142.0138, 2583,     10.0,  29.2649,  33.8763,2,   -999.0,9,-999.0000,9,   -999.0,9,  -999.00,9,  -999.00,9,  -999.00,9,  -999.00,9,  -999.00,9, -999.000,9, -999.000,9,  -999.00,9,   -999.0,9,   -999.0,9,-999.0000,9,   -999.0,  9,  -999.00,9,   -999.0,  -999.00,9,  -999.00,9,  -999.00,9,  -999.00,9,   -999.0,-999.0000, -999,9,   10,  29.2625,  21.1330,   -999.0,9
     RF06-06-2,  142E,RF-2712,  1,     21,02-18575,2,20060705,0544,  2.0058, 142.0138, 2583,     10.0,  29.2132,  33.8715,2,   -999.0,9,  34.1225,4,    200.5,2,     1.81,2,  -999.00,9,     0.00,2,     0.00,2,     0.05,2, -999.000,9, -999.000,9,  -999.00,9,   -999.0,9,   -999.0,9,-999.0000,9,   -999.0,  9,  -999.00,9,   -999.0,  -999.00,9,  -999.00,9,     0.16,2,     0.05,2,   -999.0,-999.0000, -999,9,   10,  29.2108,  21.1467,   -999.0,9
     RF06-06-2,  142E,RF-2712,  1,     20,02-18574,2,20060705,0543,  2.0058, 142.0138, 2583,     24.9,  29.5752,  34.6360,2,   -999.0,9,-999.0000,9,    204.5,2,     1.35,2,  -999.00,9,     0.00,2,     0.00,2,     0.11,2, -999.000,9, -999.000,9,  -999.00,9,   -999.0,9,   -999.0,9,-999.0000,9,   -999.0,  9,  -999.00,9,   -999.0,  -999.00,9,  -999.00,9,     0.25,2,     0.11,2,   -999.0,-999.0000, -999,9,   25,  29.5691,  21.5996,   -999.0,9
     RF06-06-2,  142E,RF-2712,  1,     19,02-18573,2,20060705,0541,  2.0058, 142.0138, 2583,     50.3,  29.4158,  35.0661,2,   -999.0,9,-999.0000,9,    182.8,2,     1.74,2,  -999.00,9,     1.90,2,     0.22,2,     0.27,2, -999.000,9, -999.000,9,  -999.00,9,   -999.0,9,   -999.0,9,-999.0000,9,   -999.0,  9,  -999.00,9,   -999.0,  -999.00,9,  -999.00,9,     0.37,2,     0.40,2,   -999.0,-999.0000, -999,9,   50,  29.4035,  21.9783,   -999.0,9
     RF06-06-2,  142E,RF-2712,  1,     18,02-18572,2,20060705,0540,  2.0058, 142.0138, 2583,     75.6,  28.2111,  35.3687,2,   -999.0,9,-999.0000,9,    163.9,2,     2.16,2,  -999.00,9,     5.30,2,     0.25,2,     0.48,2, -999.000,9, -999.000,9,  -999.00,9,   -999.0,9,   -999.0,9,-999.0000,9,   -999.0,  9,  -999.00,9,   -999.0,  -999.00,9,  -999.00,9,     0.18,2,     0.36,2,   -999.0,-999.0000, -999,9,   75,  28.1932,  22.6086,   -999.0,9
     RF06-06-2,  142E,RF-2712,  1,     17,02-18571,2,20060705,0539,  2.0058, 142.0138, 2583,    100.8,  27.7156,  35.4025,2,   -999.0,9,  35.3697,4,    153.7,2,     2.53,2,  -999.00,9,     6.36,2,     0.12,2,     0.53,2, -999.000,9, -999.000,9,  -999.00,9,   -999.0,9,   -999.0,9,-999.0000,9,   -999.0,  9,  -999.00,9,   -999.0,  -999.00,9,  -999.00,9,     0.12,2,     0.22,2,   -999.0,-999.0000, -999,9,  100,  27.6920,  22.7979,   -999.0,9
     RF06-06-2,  142E,RF-2712,  1,     16,02-18570,2,20060705,0538,  2.0058, 142.0138, 2583,    126.1,  26.5952,  35.3068,2,   -999.0,9,-999.0000,9,    136.4,2,     3.28,2,  -999.00,9,     8.20,2,     0.03,2,     0.61,2, -999.000,9, -999.000,9,  -999.00,9,   -999.0,9,   -999.0,9,-999.0000,9,   -999.0,  9,  -999.00,9,   -999.0,  -999.00,9,  -999.00,9,     0.05,2,     0.12,2,   -999.0,-999.0000, -999,9,  125,  26.5666,  23.0868,   -999.0,9
     RF06-06-2,  142E,RF-2712,  1,     15,02-18569,2,20060705,0537,  2.0058, 142.0138, 2583,    151.3,  22.6639,  34.7517,2,   -999.0,9,-999.0000,9,    145.9,2,     6.95,2,  -999.00,9,     8.33,2,     0.01,2,     0.59,2, -999.000,9, -999.000,9,  -999.00,9,   -999.0,9,   -999.0,9,-999.0000,9,   -999.0,  9,  -999.00,9,   -999.0,  -999.00,9,  -999.00,9,     0.02,2,     0.02,2,   -999.0,-999.0000, -999,9,  150,  22.6334,  23.8503,   -999.0,9
     RF06-06-2,  142E,RF-2712,  1,     14,02-18568,2,20060705,0535,  2.0058, 142.0138, 2583,    201.9,  15.2702,  34.6290,2,   -999.0,9,  34.6494,4,    138.3,2,    16.91,2,  -999.00,9,    16.23,2,     0.00,2,     1.11,2, -999.000,9, -999.000,9,  -999.00,9,   -999.0,9,   -999.0,9,-999.0000,9,   -999.0,  9,  -999.00,9,   -999.0,  -999.00,9,  -999.00,9,     0.01,2,     0.03,2,   -999.0,-999.0000, -999,9,  201,  15.2393,  25.6332,   -999.0,9
     RF06-06-2,  142E,RF-2712,  1,     13,02-18567,2,20060705,0534,  2.0058, 142.0138, 2583,    251.9,  12.4839,  34.9217,2,   -999.0,9,-999.0000,9,    142.9,2,    15.07,2,  -999.00,9,    19.73,2,     0.00,2,     1.36,2, -999.000,9, -999.000,9,  -999.00,9,   -999.0,9,   -999.0,9,-999.0000,9,   -999.0,  9,  -999.00,9,   -999.0,  -999.00,9,  -999.00,9,  -999.00,9,  -999.00,9,   -999.0,-999.0000, -999,9,  250,  12.4501,  26.4412,   -999.0,9
     RF06-06-2,  142E,RF-2712,  1,     12,02-18348,2,20060705,0532,  2.0058, 142.0138, 2583,    302.3,   9.7092,  34.5994,2,   -999.0,9,  34.6153,4,    115.4,2,    32.22,2,  -999.00,9,    27.11,2,     0.00,2,     1.89,2, -999.000,9, -999.000,9,  -999.00,9,   -999.0,9,   -999.0,9,-999.0000,9,   -999.0,  9,  -999.00,9,   -999.0,  -999.00,9,  -999.00,9,  -999.00,9,  -999.00,9,   -999.0,-999.0000, -999,9,  300,   9.6748,  26.6940,   -999.0,9
     RF06-06-2,  142E,RF-2712,  1,     11,02-18565,2,20060705,0530,  2.0058, 142.0138, 2583,    403.3,   8.6995,  34.6397,2,   -999.0,9,  34.6411,2,    135.7,2,    26.23,2,  -999.00,9,    27.58,2,     0.00,2,     1.88,2, -999.000,9, -999.000,9,  -999.00,9,   -999.0,9,   -999.0,9,-999.0000,9,   -999.0,  9,  -999.00,9,   -999.0,  -999.00,9,  -999.00,9,  -999.00,9,  -999.00,9,   -999.0,-999.0000, -999,9,  401,   8.6563,  26.8905,   -999.0,9
     RF06-06-2,  142E,RF-2712,  1,     10,02-18564,2,20060705,0527,  2.0058, 142.0138, 2583,    503.8,   8.0496,  34.5962,2,   -999.0,9,-999.0000,9,    124.8,2,    33.99,2,  -999.00,9,    29.92,2,     0.00,2,     2.06,2, -999.000,9, -999.000,9,  -999.00,9,   -999.0,9,   -999.0,9,-999.0000,9,   -999.0,  9,  -999.00,9,   -999.0,  -999.00,9,  -999.00,9,  -999.00,9,  -999.00,9,   -999.0,-999.0000, -999,9,  500,   7.9977,  26.9570,   -999.0,9
     RF06-06-2,  142E,RF-2712,  1,      9,02-18563,2,20060705,0525,  2.0058, 142.0138, 2583,    604.9,   7.2022,  34.5583,2,   -999.0,9,  34.5594,2,    113.2,2,    40.91,2,  -999.00,9,    32.35,2,     0.00,2,     2.25,2, -999.000,9, -999.000,9,  -999.00,9,   -999.0,9,   -999.0,9,-999.0000,9,   -999.0,  9,  -999.00,9,   -999.0,  -999.00,9,  -999.00,9,  -999.00,9,  -999.00,9,   -999.0,-999.0000, -999,9,  601,   7.1434,  27.0509,   -999.0,9
     RF06-06-2,  142E,RF-2712,  1,      8,02-18562,2,20060705,0522,  2.0058, 142.0138, 2583,    705.6,   6.0763,  34.5287,2,   -999.0,9,-999.0000,9,    117.8,2,    53.59,2,  -999.00,9,    34.01,2,     0.00,2,     2.39,2, -999.000,9, -999.000,9,  -999.00,9,   -999.0,9,   -999.0,9,-999.0000,9,   -999.0,  9,  -999.00,9,   -999.0,  -999.00,9,  -999.00,9,  -999.00,9,  -999.00,9,   -999.0,-999.0000, -999,9,  701,   6.0132,  27.1786,   -999.0,9
     RF06-06-2,  142E,RF-2712,  1,      7,02-18561,2,20060705,0520,  2.0058, 142.0138, 2583,    806.8,   5.2635,  34.5398,2,   -999.0,9,  34.5471,4,     97.1,2,    73.02,2,  -999.00,9,    36.48,2,     0.00,2,     2.60,2, -999.000,9, -999.000,9,  -999.00,9,   -999.0,9,   -999.0,9,-999.0000,9,   -999.0,  9,  -999.00,9,   -999.0,  -999.00,9,  -999.00,9,  -999.00,9,  -999.00,9,   -999.0,-999.0000, -999,9,  801,   5.1957,  27.2875,   -999.0,9
     RF06-06-2,  142E,RF-2712,  1,      6,02-18560,2,20060705,0517,  2.0058, 142.0138, 2583,    907.8,   4.6949,  34.5510,2,   -999.0,9,-999.0000,9,    102.6,2,    82.59,2,  -999.00,9,    36.83,2,     0.00,2,     2.63,2, -999.000,9, -999.000,9,  -999.00,9,   -999.0,9,   -999.0,9,-999.0000,9,   -999.0,  9,  -999.00,9,   -999.0,  -999.00,9,  -999.00,9,  -999.00,9,  -999.00,9,   -999.0,-999.0000, -999,9,  901,   4.6219,  27.3621,   -999.0,9
     RF06-06-2,  142E,RF-2712,  1,      5,02-18559,2,20060705,0514,  2.0058, 142.0138, 2583,   1008.7,   4.1808,  34.5635,2,   -999.0,9,  34.5656,2,     98.0,2,    93.56,2,  -999.00,9,    37.72,2,     0.00,2,     2.69,2, -999.000,9, -999.000,9,  -999.00,9,   -999.0,9,   -999.0,9,-999.0000,9,   -999.0,  9,  -999.00,9,   -999.0,  -999.00,9,  -999.00,9,  -999.00,9,  -999.00,9,   -999.0,-999.0000, -999,9, 1001,   4.1029,  27.4282,   -999.0,9
     RF06-06-2,  142E,RF-2712,  1,      4,02-18558,2,20060705,0508,  2.0058, 142.0138, 2583,   1261.2,   3.4230,  34.5862,2,   -999.0,9,  34.5875,2,    100.5,2,   108.85,2,  -999.00,9,    38.15,2,     0.00,2,     2.72,2, -999.000,9, -999.000,9,  -999.00,9,   -999.0,9,   -999.0,9,-999.0000,9,   -999.0,  9,  -999.00,9,   -999.0,  -999.00,9,  -999.00,9,  -999.00,9,  -999.00,9,   -999.0,-999.0000, -999,9, 1250,   3.3305,  27.5238,   -999.0,9
     RF06-06-2,  142E,RF-2712,  1,      3,02-18557,2,20060705,0503,  2.0058, 142.0138, 2583,   1513.6,   2.9666,  34.6028,2,   -999.0,9,  34.6030,2,    103.6,2,   119.73,2,  -999.00,9,    38.25,2,     0.00,2,     2.73,2, -999.000,9, -999.000,9,  -999.00,9,   -999.0,9,   -999.0,9,-999.0000,9,   -999.0,  9,  -999.00,9,   -999.0,  -999.00,9,  -999.00,9,  -999.00,9,  -999.00,9,   -999.0,-999.0000, -999,9, 1500,   2.8579,  27.5809,   -999.0,9
     RF06-06-2,  142E,RF-2712,  1,      2,02-18556,2,20060705,0454,  2.0058, 142.0138, 2583,   1766.3,   2.4167,  34.6274,2,   -999.0,9,  34.6286,2,    114.0,2,   129.57,2,  -999.00,9,    37.84,2,     0.00,2,     2.70,2, -999.000,9, -999.000,9,  -999.00,9,   -999.0,9,   -999.0,9,-999.0000,9,   -999.0,  9,  -999.00,9,   -999.0,  -999.00,9,  -999.00,9,  -999.00,9,  -999.00,9,   -999.0,-999.0000, -999,9, 1749,   2.2938,  27.6493,   -999.0,9
     RF06-06-2,  142E,RF-2712,  1,      1,02-18555,2,20060705,0449,  2.0058, 142.0138, 2583,   2020.6,   2.1884,  34.6397,2,   -999.0,9,  34.6407,2,    118.1,2,   133.83,2,  -999.00,9,    37.69,2,     0.00,2,     2.68,2, -999.000,9, -999.000,9,  -999.00,9,   -999.0,9,   -999.0,9,-999.0000,9,   -999.0,  9,  -999.00,9,   -999.0,  -999.00,9,  -999.00,9,  -999.00,9,  -999.00,9,   -999.0,-999.0000, -999,9, 2000,   2.0473,  27.6793,   -999.0,9