BOTTLE,20131214MIRCJHATS
#
# TCARBN and TCARBN_FLAG_W: change to missing value (-999.0,9) because of duplication of other bottle at:
#     RF06-06-2,  142E,RF-2710,  1,     24,02-18578,2,20060704,0431,  0.0013, 142.0113, 3357,     10.3,  29.6148,  33.9733,2,   -999.0,9,-999.0000,9,   -999.0,9,  -999.00,9,  -999.00,9,  -999.00,9,  -999.00,9,  -999.00,9, -999.000,9, -999.000,9,  -999.00,9,   -999.0,9,   -999.0,9,-999.0000,9,   -999.0,  9,  -999.00,9,   -999.0,  -999.00,9,  -999.00,9,  -999.00,9,  -999.00,9,   -999.0,-999.0000, -999,9,   10,  29.6123,  21.0881,   -999.0,9
#     RF06-06-2,  137E,RF-2717,  1,     24,02-18578,2,20060706,1706,  3.0070, 137.0177, 4543,      9.9,  29.1109,  33.9326,2,   -999.0,9,-999.0000,9,   -999.0,9,  -999.00,9,  -999.00,9,  -999.00,9,  -999.00,9,  -999.00,9, -999.000,9, -999.000,9,  -999.00,9,   -999.0,9,   -999.0,9,-999.0000,9,   -999.0,  9,  -999.00,9,   -999.0,  -999.00,9,  -999.00,9,  -999.00,9,  -999.00,9,   -999.0,-999.0000, -999,9,   10,  29.1085,  21.2267,   -999.0,9
#     RF06-06-2,  137E,RF-2719,  1,     24,02-18578,2,20060707,0621,  4.9945, 137.0158, 5156,     10.2,  29.4182,  33.9547,2,   -999.0,9,-999.0000,9,   -999.0,9,  -999.00,9,  -999.00,9,  -999.00,9,  -999.00,9,  -999.00,9, -999.000,9, -999.000,9,  -999.00,9,   -999.0,9,   -999.0,9,-999.0000,9,   -999.0,  9,  -999.00,9,   -999.0,  -999.00,9,  -999.00,9,  -999.00,9,  -999.00,9,   -999.0,-999.0000, -999,9,   10,  29.4157,  21.1404,   -999.0,9
#     RF06-06-2,  137E,RF-2729,  1,     24,02-18578,2,20060712,0142, 15.0190, 137.0062, 5368,     11.1,  28.9696,  34.3897,2,   -999.0,9,-999.0000,9,   -999.0,9,  -999.00,9,  -999.00,9,  -999.00,9,  -999.00,9,  -999.00,9, -999.000,9, -999.000,9,  -999.00,9,   -999.0,9,   -999.0,9,-999.0000,9,   -999.0,  9,  -999.00,9,   -999.0,  -999.00,9,  -999.00,9,  -999.00,9,  -999.00,9,   -999.0,-999.0000, -999,9,   11,  28.9669,  21.6169,   -999.0,9
#     RF06-06-2,  137E,RF-2739,  1,     24,02-18578,2,20060714,1551, 25.0015, 137.0013, 4995,      9.7,  28.8438,  34.5245,2,   -999.0,9,-999.0000,9,   -999.0,9,  -999.00,9,  -999.00,9,  -999.00,9,  -999.00,9,  -999.00,9, -999.000,9, -999.000,9,  -999.00,9,   -999.0,9,   -999.0,9,-999.0000,9,   -999.0,  9,  -999.00,9,   -999.0,  -999.00,9,  -999.00,9,  -999.00,9,  -999.00,9,   -999.0,-999.0000, -999,9,   10,  28.8415,  21.7599,   -999.0,9
#     RF06-06-2,  137E,RF-2744,  1,     24,02-18578,2,20060715,2330, 30.0073, 137.0022, 4501,     12.0,  28.4974,  34.4675,2,   -999.0,9,-999.0000,9,   -999.0,9,  -999.00,9,  -999.00,9,  -999.00,9,  -999.00,9,  -999.00,9, -999.000,9, -999.000,9,  -999.00,9,   -999.0,9,   -999.0,9,-999.0000,9,   -999.0,  9,  -999.00,9,   -999.0,  -999.00,9,  -999.00,9,  -999.00,9,  -999.00,9,   -999.0,-999.0000, -999,9,   12,  28.4945,  21.8320,   -999.0,9
#
#BOTTLE,20130510GEMDJMAYT
# 05/09/2013: Correct the error of converted time from JST to GMT.
#BOTTLE,20121206MIRCJHATS
# 12/06/2012: Change BTLNBR_FLAG_W: 8 to 5 at lines of BTLNBR = -9.
# 08/31/2007: reported.
# 08/14/2008: pH(TOTAL HYDROGEN SCALE) data reported
# 08/18/2008: ALKALI data reported but questionable because of contamination during storing samples
# 08/28/2008: TCARBN data updated
# 02/19/2009 : pH scale specified in header.
# 02/19/2009 : NO2+NO3 label corrected in header.
# 04/23/2009 : TCARBN data revised according to the check by N.Ito (JMA).
# 10/01/2009 : QF of OXYGEN at RF-2729, RF-2734 revised.
# 04/05/2010 : Separate csvfile 49RY20060607 -> 49RY20060607 & 49RY20060630
# 04/05/2010 : pH scale specified in header, corrected for QF of CTDSAL (5 -> 2), converted time from JST to GMT
EXPOCODE,SECT_ID,STNNBR,CASTNO,SAMPNO,BTLNBR,BTLNBR_FLAG_W,DATE,TIME,LATITUDE,LONGITUDE,DEPTH,CTDPRS,CTDTMP,CTDSAL,CTDSAL_FLAG_W,CTDOXY,CTDOXY_FLAG_W,SALNTY,SALNTY_FLAG_W,OXYGEN,OXYGEN_FLAG_W,SILCAT,SILCAT_FLAG_W,NITRAT,NITRAT_FLAG_W,NO2+NO3,NO2+NO3_FLAG_W,NITRIT,NITRIT_FLAG_W,PHSPHT,PHSPHT_FLAG_W,CFC-11,CFC-11_FLAG_W,CFC-12,CFC-12_FLAG_W,DELC13,DELC13_FLAG_W,TCARBN,TCARBN_FLAG_W,ALKALI,ALKALI_FLAG_W,PH,PH_FLAG_W,PH_TMP,PH_SCALE,PH_NBS,PH_NBS_FLAG_W,C13ERR,TOTALP,TOTALP_FLAG_W,AMMONI,AMMONI_FLAG_W,CHLORA,CHLORA_FLAG_W,PPHYTN,PPHYTN_FLAG_W,REVPRS,REVTMP,DEPTH_,DEPTH_FLAG,CTDDEP,THETA,SIGTHT,DOC,DOC_FLAG_W
,,,,,,,GMT,GMT,,,METER,DBAR,ITS-90,PSS-78,,UMOL/KG,,PSS-78,,UMOL/KG,,UMOL/KG,,UMOL/KG,,UMOL/KG,,UMOL/KG,,UMOL/KG,,PMOL/KG,,PMOL/KG,,/MILLE,,UMOL/KG,,UMOL/KG,,25_DEG_C,,DEG_C,,,,/MILLE,UMOL/KG,,UMOL/KG,,UG/L,,UG/L,,DBAR,ITS-90,METERS,,METERS,DEG_C,,UMOL/L,
     RF06-06-2,  142E,RF-2708,  1,     -9,      -9,5,20060703,1431, -2.0152, 141.9775, 3640,      0.0,  29.0954,  34.0236,2,   -999.0,9,-999.0000,9,    194.9,2,     0.15,2,  -999.00,9,     0.00,2,     0.00,2,     0.04,2, -999.000,9, -999.000,9,  -999.00,9,   1891.9,3,   -999.0,9,-999.0000,9,   -999.0,  9,  -999.00,9,   -999.0,  -999.00,9,  -999.00,9,     0.17,2,     0.02,2,   -999.0,-999.0000, -999,9,    0,  29.0952,  21.2994,   -999.0,9
     RF06-06-2,  142E,RF-2708,  1,     24,02-18578,2,20060703,1444, -2.0152, 141.9775, 3640,     11.5,  29.0930,  34.0215,2,   -999.0,9,-999.0000,9,   -999.0,9,  -999.00,9,  -999.00,9,  -999.00,9,  -999.00,9,  -999.00,9, -999.000,9, -999.000,9,  -999.00,9,   -999.0,9,   -999.0,9,-999.0000,9,   -999.0,  9,  -999.00,9,   -999.0,  -999.00,9,  -999.00,9,  -999.00,9,  -999.00,9,   -999.0,-999.0000, -999,9,   11,  29.0902,  21.2995,   -999.0,9
     RF06-06-2,  142E,RF-2708,  1,     21,02-18575,3,20060703,1444, -2.0152, 141.9775, 3640,     11.5,  29.1042,  34.0247,2,   -999.0,9,  34.0429,4,    196.3,2,     0.20,2,  -999.00,9,     0.00,2,     0.00,2,     0.05,2, -999.000,9, -999.000,9,  -999.00,9,   -999.0,9,   -999.0,9,-999.0000,9,   -999.0,  9,  -999.00,9,   -999.0,  -999.00,9,  -999.00,9,     0.17,2,     0.03,2,   -999.0,-999.0000, -999,9,   11,  29.1014,  21.2981,   -999.0,9
     RF06-06-2,  142E,RF-2708,  1,     20,02-18574,2,20060703,1443, -2.0152, 141.9775, 3640,     25.7,  29.2634,  34.1290,2,   -999.0,9,-999.0000,9,    193.3,2,     0.23,2,  -999.00,9,     0.00,2,     0.01,2,     0.06,2, -999.000,9, -999.000,9,  -999.00,9,   -999.0,9,   -999.0,9,-999.0000,9,   -999.0,  9,  -999.00,9,   -999.0,  -999.00,9,  -999.00,9,     0.32,2,     0.06,2,   -999.0,-999.0000, -999,9,   26,  29.2572,  21.3243,   -999.0,9
     RF06-06-2,  142E,RF-2708,  1,     19,02-18573,2,20060703,1442, -2.0152, 141.9775, 3640,     52.2,  29.0556,  34.5103,2,   -999.0,9,-999.0000,9,    172.7,2,     0.76,2,  -999.00,9,     2.15,2,     0.47,2,     0.26,2, -999.000,9, -999.000,9,  -999.00,9,   -999.0,9,   -999.0,9,-999.0000,9,   -999.0,  9,  -999.00,9,   -999.0,  -999.00,9,  -999.00,9,     0.34,2,     0.21,2,   -999.0,-999.0000, -999,9,   52,  29.0430,  21.6821,   -999.0,9
     RF06-06-2,  142E,RF-2708,  1,     18,02-18572,2,20060703,1441, -2.0152, 141.9775, 3640,     75.8,  29.3197,  35.2300,2,   -999.0,9,-999.0000,9,    173.2,2,     0.60,2,  -999.00,9,     2.48,2,     0.38,2,     0.35,2, -999.000,9, -999.000,9,  -999.00,9,   -999.0,9,   -999.0,9,-999.0000,9,   -999.0,  9,  -999.00,9,   -999.0,  -999.00,9,  -999.00,9,     0.27,2,     0.22,2,   -999.0,-999.0000, -999,9,   75,  29.3012,  22.1357,   -999.0,9
     RF06-06-2,  142E,RF-2708,  1,     17,02-18571,2,20060703,1441, -2.0152, 141.9775, 3640,    100.7,  28.2403,  35.4846,2,   -999.0,9,  35.4917,4,    158.4,2,     1.09,2,  -999.00,9,     5.86,2,     0.04,2,     0.54,2, -999.000,9, -999.000,9,  -999.00,9,   -999.0,9,   -999.0,9,-999.0000,9,   -999.0,  9,  -999.00,9,   -999.0,  -999.00,9,  -999.00,9,     0.08,2,     0.13,2,   -999.0,-999.0000, -999,9,  100,  28.2164,  22.6881,   -999.0,9
     RF06-06-2,  142E,RF-2708,  1,     16,02-18570,3,20060703,1440, -2.0152, 141.9775, 3640,    126.1,  27.7167,  35.5080,2,   -999.0,9,-999.0000,9,    153.5,2,     1.25,2,  -999.00,9,     6.43,2,     0.03,2,     0.57,2, -999.000,9, -999.000,9,  -999.00,9,   -999.0,9,   -999.0,9,-999.0000,9,   -999.0,  9,  -999.00,9,   -999.0,  -999.00,9,  -999.00,9,     0.06,2,     0.07,2,   -999.0,-999.0000, -999,9,  125,  27.6872,  22.8788,   -999.0,9
     RF06-06-2,  142E,RF-2708,  1,     15,02-18569,2,20060703,1438, -2.0152, 141.9775, 3640,    152.0,  24.3786,  35.6439,2,   -999.0,9,-999.0000,9,    132.5,2,     2.07,2,  -999.00,9,     9.28,2,     0.01,2,     0.74,2, -999.000,9, -999.000,9,  -999.00,9,   -999.0,9,   -999.0,9,-999.0000,9,   -999.0,  9,  -999.00,9,   -999.0,  -999.00,9,  -999.00,9,     0.01,2,     0.01,2,   -999.0,-999.0000, -999,9,  151,  24.3461,  24.0256,   -999.0,9
     RF06-06-2,  142E,RF-2708,  1,     14,02-18568,2,20060703,1437, -2.0152, 141.9775, 3640,    202.7,  20.7932,  35.6952,2,   -999.0,9,  35.6928,2,    123.3,2,     3.56,2,  -999.00,9,    11.97,2,     0.00,2,     0.94,2, -999.000,9, -999.000,9,  -999.00,9,   -999.0,9,   -999.0,9,-999.0000,9,   -999.0,  9,  -999.00,9,   -999.0,  -999.00,9,  -999.00,9,     0.01,2,     0.01,2,   -999.0,-999.0000, -999,9,  202,  20.7545,  25.0900,   -999.0,9
     RF06-06-2,  142E,RF-2708,  1,     13,02-18567,2,20060703,1435, -2.0152, 141.9775, 3640,    252.6,  16.9241,  35.3543,2,   -999.0,9,-999.0000,9,    141.4,2,     5.46,2,  -999.00,9,    13.75,2,     0.00,2,     1.00,2, -999.000,9, -999.000,9,  -999.00,9,   -999.0,9,   -999.0,9,-999.0000,9,   -999.0,  9,  -999.00,9,   -999.0,  -999.00,9,  -999.00,9,  -999.00,9,  -999.00,9,   -999.0,-999.0000, -999,9,  251,  16.8824,  25.8142,   -999.0,9
     RF06-06-2,  142E,RF-2708,  1,     12,02-18348,3,20060703,1433, -2.0152, 141.9775, 3640,    302.9,  13.2239,  35.0316,2,   -999.0,9,  34.9872,4,    152.9,2,     9.77,2,  -999.00,9,    18.37,2,     0.00,2,     1.29,2, -999.000,9, -999.000,9,  -999.00,9,   -999.0,9,   -999.0,9,-999.0000,9,   -999.0,  9,  -999.00,9,   -999.0,  -999.00,9,  -999.00,9,  -999.00,9,  -999.00,9,   -999.0,-999.0000, -999,9,  301,  13.1816,  26.3808,   -999.0,9
     RF06-06-2,  142E,RF-2708,  1,     11,02-18565,3,20060703,1430, -2.0152, 141.9775, 3640,    403.5,   9.4412,  34.7050,2,   -999.0,9,  34.7065,2,    161.5,2,    17.00,2,  -999.00,9,    23.74,2,     0.00,2,     1.61,2, -999.000,9, -999.000,9,  -999.00,9,   -999.0,9,   -999.0,9,-999.0000,9,   -999.0,  9,  -999.00,9,   -999.0,  -999.00,9,  -999.00,9,  -999.00,9,  -999.00,9,   -999.0,-999.0000, -999,9,  401,   9.3957,  26.8229,   -999.0,9
     RF06-06-2,  142E,RF-2708,  1,     10,02-18564,3,20060703,1428, -2.0152, 141.9775, 3640,    504.8,   7.8633,  34.5912,2,   -999.0,9,-999.0000,9,    149.9,2,    25.86,2,  -999.00,9,    27.93,2,     0.00,2,     1.92,2, -999.000,9, -999.000,9,  -999.00,9,   -999.0,9,   -999.0,9,-999.0000,9,   -999.0,  9,  -999.00,9,   -999.0,  -999.00,9,  -999.00,9,  -999.00,9,  -999.00,9,   -999.0,-999.0000, -999,9,  501,   7.8120,  26.9807,   -999.0,9
     RF06-06-2,  142E,RF-2708,  1,      9,02-18563,3,20060703,1425, -2.0152, 141.9775, 3640,    606.0,   6.6752,  34.5375,2,   -999.0,9,  34.5394,2,    133.5,2,    39.03,2,  -999.00,9,    31.53,2,     0.00,2,     2.20,2, -999.000,9, -999.000,9,  -999.00,9,   -999.0,9,   -999.0,9,-999.0000,9,   -999.0,  9,  -999.00,9,   -999.0,  -999.00,9,  -999.00,9,  -999.00,9,  -999.00,9,   -999.0,-999.0000, -999,9,  602,   6.6187,  27.1064,   -999.0,9
     RF06-06-2,  142E,RF-2708,  1,      8,02-18562,3,20060703,1422, -2.0152, 141.9775, 3640,    706.5,   5.8676,  34.4995,2,   -999.0,9,-999.0000,9,    153.2,2,    42.02,2,  -999.00,9,    31.29,2,     0.00,2,     2.16,2, -999.000,9, -999.000,9,  -999.00,9,   -999.0,9,   -999.0,9,-999.0000,9,   -999.0,  9,  -999.00,9,   -999.0,  -999.00,9,  -999.00,9,  -999.00,9,  -999.00,9,   -999.0,-999.0000, -999,9,  701,   5.8056,  27.1817,   -999.0,9
     RF06-06-2,  142E,RF-2708,  1,      7,02-18561,3,20060703,1419, -2.0152, 141.9775, 3640,    807.5,   5.1569,  34.4983,2,   -999.0,9,  34.5098,4,    150.8,2,    52.58,2,  -999.00,9,    32.49,2,     0.00,2,     2.27,2, -999.000,9, -999.000,9,  -999.00,9,   -999.0,9,   -999.0,9,-999.0000,9,   -999.0,  9,  -999.00,9,   -999.0,  -999.00,9,  -999.00,9,  -999.00,9,  -999.00,9,   -999.0,-999.0000, -999,9,  802,   5.0898,  27.2671,   -999.0,9
     RF06-06-2,  142E,RF-2708,  1,      6,02-18560,3,20060703,1416, -2.0152, 141.9775, 3640,    909.5,   4.8195,  34.5116,2,   -999.0,9,-999.0000,9,    141.9,2,    61.74,2,  -999.00,9,    33.70,2,     0.00,2,     2.35,2, -999.000,9, -999.000,9,  -999.00,9,   -999.0,9,   -999.0,9,-999.0000,9,   -999.0,  9,  -999.00,9,   -999.0,  -999.00,9,  -999.00,9,  -999.00,9,  -999.00,9,   -999.0,-999.0000, -999,9,  902,   4.7456,  27.3171,   -999.0,9
     RF06-06-2,  142E,RF-2708,  1,      5,02-18559,3,20060703,1414, -2.0152, 141.9775, 3640,   1011.2,   4.4778,  34.5315,2,   -999.0,9,  34.5363,4,    127.9,2,    73.06,2,  -999.00,9,    35.18,2,     0.00,2,     2.48,2, -999.000,9, -999.000,9,  -999.00,9,   -999.0,9,   -999.0,9,-999.0000,9,   -999.0,  9,  -999.00,9,   -999.0,  -999.00,9,  -999.00,9,  -999.00,9,  -999.00,9,   -999.0,-999.0000, -999,9, 1003,   4.3975,  27.3713,   -999.0,9
     RF06-06-2,  142E,RF-2708,  1,      4,02-18558,3,20060703,1409, -2.0152, 141.9775, 3640,   1262.5,   3.6116,  34.5782,2,   -999.0,9,  34.5794,2,    103.4,2,   101.24,2,  -999.00,9,    37.83,2,     0.00,2,     2.72,2, -999.000,9, -999.000,9,  -999.00,9,   -999.0,9,   -999.0,9,-999.0000,9,   -999.0,  9,  -999.00,9,   -999.0,  -999.00,9,  -999.00,9,  -999.00,9,  -999.00,9,   -999.0,-999.0000, -999,9, 1252,   3.5172,  27.4994,   -999.0,9
     RF06-06-2,  142E,RF-2708,  1,      3,02-18557,3,20060703,1403, -2.0152, 141.9775, 3640,   1516.2,   3.0553,  34.6001,2,   -999.0,9,  34.6090,4,    105.0,2,   114.57,2,  -999.00,9,    38.01,2,     0.00,2,     2.72,2, -999.000,9, -999.000,9,  -999.00,9,   -999.0,9,   -999.0,9,-999.0000,9,   -999.0,  9,  -999.00,9,   -999.0,  -999.00,9,  -999.00,9,  -999.00,9,  -999.00,9,   -999.0,-999.0000, -999,9, 1502,   2.9454,  27.5709,   -999.0,9
     RF06-06-2,  142E,RF-2708,  1,      2,02-18556,3,20060703,1357, -2.0152, 141.9775, 3640,   1768.7,   2.5625,  34.6215,2,   -999.0,9,  34.6240,2,    112.4,2,   124.61,2,  -999.00,9,    37.75,2,     0.00,2,     2.71,2, -999.000,9, -999.000,9,  -999.00,9,   -999.0,9,   -999.0,9,-999.0000,9,   -999.0,  9,  -999.00,9,   -999.0,  -999.00,9,  -999.00,9,  -999.00,9,  -999.00,9,   -999.0,-999.0000, -999,9, 1752,   2.4375,  27.6326,   -999.0,9
     RF06-06-2,  142E,RF-2708,  1,      1,02-18555,3,20060703,1351, -2.0152, 141.9775, 3640,   2022.1,   2.2201,  34.6379,2,   -999.0,9,  34.6397,2,    119.0,2,   132.64,2,  -999.00,9,    37.61,2,     0.00,2,     2.68,2, -999.000,9, -999.000,9,  -999.00,9,   -999.0,9,   -999.0,9,-999.0000,9,   -999.0,  9,  -999.00,9,   -999.0,  -999.00,9,  -999.00,9,  -999.00,9,  -999.00,9,   -999.0,-999.0000, -999,9, 2001,   2.0784,  27.6753,   -999.0,9