BOTTLE,20131214MIRCJHATS
EXPOCODE,SECT_ID,STNNBR,CASTNO,SAMPNO,BTLNBR,BTLNBR_FLAG_W,DATE,TIME,LATITUDE,LONGITUDE,DEPTH,CTDPRS,CTDTMP,CTDSAL,CTDSAL_FLAG_W,CTDOXY,CTDOXY_FLAG_W,SALNTY,SALNTY_FLAG_W,OXYGEN,OXYGEN_FLAG_W,SILCAT,SILCAT_FLAG_W,NITRAT,NITRAT_FLAG_W,NO2+NO3,NO2+NO3_FLAG_W,NITRIT,NITRIT_FLAG_W,PHSPHT,PHSPHT_FLAG_W,CFC-11,CFC-11_FLAG_W,CFC-12,CFC-12_FLAG_W,DELC13,DELC13_FLAG_W,TCARBN,TCARBN_FLAG_W,ALKALI,ALKALI_FLAG_W,PH,PH_FLAG_W,PH_TMP,PH_SCALE,PH_NBS,PH_NBS_FLAG_W,C13ERR,TOTALP,TOTALP_FLAG_W,AMMONI,AMMONI_FLAG_W,CHLORA,CHLORA_FLAG_W,PPHYTN,PPHYTN_FLAG_W,REVPRS,REVTMP,DEPTH_,DEPTH_FLAG,CTDDEP,THETA,SIGTHT,DOC,DOC_FLAG_W
,,,,,,,GMT,GMT,,,METER,DBAR,ITS-90,PSS-78,,UMOL/KG,,PSS-78,,UMOL/KG,,UMOL/KG,,UMOL/KG,,UMOL/KG,,UMOL/KG,,UMOL/KG,,PMOL/KG,,PMOL/KG,,/MILLE,,UMOL/KG,,UMOL/KG,,25_DEG_C,,DEG_C,,,,/MILLE,UMOL/KG,,UMOL/KG,,UG/L,,UG/L,,DBAR,ITS-90,METERS,,METERS,DEG_C,,UMOL/L,
     RF06-06-2,  137E,RF-2719,  1,     -9,      -9,5,20060707,0602,  4.9945, 137.0158, 5156,      0.0,  29.4167,  33.9540,2,   -999.0,9,-999.0000,9,    197.2,2,     2.02,2,  -999.00,9,     0.00,2,     0.00,2,     0.03,2, -999.000,9, -999.000,9,  -999.00,9,   1900.3,2,   -999.0,9,   8.1184,6,     25.0, TS,  -999.00,9,   -999.0,  -999.00,9,  -999.00,9,     0.08,2,     0.03,2,   -999.0,-999.0000, -999,9,    0,  29.4165,  21.1396,   -999.0,9
     RF06-06-2,  137E,RF-2719,  1,     24,02-18578,2,20060707,0621,  4.9945, 137.0158, 5156,     10.2,  29.4182,  33.9547,2,   -999.0,9,-999.0000,9,   -999.0,9,  -999.00,9,  -999.00,9,  -999.00,9,  -999.00,9,  -999.00,9, -999.000,9, -999.000,9,  -999.00,9,   -999.0,9,   -999.0,9,-999.0000,9,   -999.0,  9,  -999.00,9,   -999.0,  -999.00,9,  -999.00,9,  -999.00,9,  -999.00,9,   -999.0,-999.0000, -999,9,   10,  29.4157,  21.1404,   -999.0,9
     RF06-06-2,  137E,RF-2719,  1,     21,02-18575,2,20060707,0621,  4.9945, 137.0158, 5156,     10.3,  29.4140,  33.9544,2,   -999.0,9,  33.9534,2,    197.7,2,     2.02,2,  -999.00,9,     0.00,2,     0.00,2,     0.03,2, -999.000,9, -999.000,9,  -999.00,9,   1901.9,2,   -999.0,9,-999.0000,9,   -999.0,  9,  -999.00,9,   -999.0,  -999.00,9,  -999.00,9,     0.09,2,     0.02,2,   -999.0,-999.0000, -999,9,   10,  29.4115,  21.1416,   -999.0,9
     RF06-06-2,  137E,RF-2719,  1,     20,02-18574,2,20060707,0620,  4.9945, 137.0158, 5156,     25.3,  29.2808,  33.9333,2,   -999.0,9,-999.0000,9,    196.9,2,     1.96,2,  -999.00,9,     0.00,2,     0.00,2,     0.02,2, -999.000,9, -999.000,9,  -999.00,9,   1900.8,2,   -999.0,9,-999.0000,9,   -999.0,  9,  -999.00,9,   -999.0,  -999.00,9,  -999.00,9,     0.11,2,     0.04,2,   -999.0,-999.0000, -999,9,   25,  29.2747,  21.1717,   -999.0,9
     RF06-06-2,  137E,RF-2719,  1,     19,02-18573,2,20060707,0619,  4.9945, 137.0158, 5156,     50.2,  28.8864,  33.9389,2,   -999.0,9,-999.0000,9,    199.5,2,     1.86,2,  -999.00,9,     0.00,2,     0.00,2,     0.02,2, -999.000,9, -999.000,9,  -999.00,9,   1905.6,2,   -999.0,9,-999.0000,9,   -999.0,  9,  -999.00,9,   -999.0,  -999.00,9,  -999.00,9,     0.16,2,     0.07,2,   -999.0,-999.0000, -999,9,   50,  28.8743,  21.3094,   -999.0,9
     RF06-06-2,  137E,RF-2719,  1,     18,02-18572,2,20060707,0618,  4.9945, 137.0158, 5156,     75.8,  28.8567,  34.0269,2,   -999.0,9,-999.0000,9,    197.2,2,     1.81,2,  -999.00,9,     0.00,2,     0.01,2,     0.04,2, -999.000,9, -999.000,9,  -999.00,9,   1913.2,2,   -999.0,9,-999.0000,9,   -999.0,  9,  -999.00,9,   -999.0,  -999.00,9,  -999.00,9,     0.37,2,     0.20,2,   -999.0,-999.0000, -999,9,   75,  28.8385,  21.3873,   -999.0,9
     RF06-06-2,  137E,RF-2719,  1,     17,02-18571,2,20060707,0617,  4.9945, 137.0158, 5156,    100.8,  26.6714,  34.6162,2,   -999.0,9,  34.6798,4,    171.9,2,     3.11,2,  -999.00,9,     2.89,2,     0.15,2,     0.25,2, -999.000,9, -999.000,9,  -999.00,9,   1992.7,2,   -999.0,9,-999.0000,9,   -999.0,  9,  -999.00,9,   -999.0,  -999.00,9,  -999.00,9,     0.15,2,     0.31,2,   -999.0,-999.0000, -999,9,  100,  26.6485,  22.5403,   -999.0,9
     RF06-06-2,  137E,RF-2719,  1,     16,02-18570,2,20060707,0616,  4.9945, 137.0158, 5156,    125.9,  22.3210,  34.7725,2,   -999.0,9,-999.0000,9,    161.3,2,     5.41,2,  -999.00,9,     5.16,2,     0.02,2,     0.41,2, -999.000,9, -999.000,9,  -999.00,9,   2041.7,2,   -999.0,9,-999.0000,9,   -999.0,  9,  -999.00,9,   -999.0,  -999.00,9,  -999.00,9,     0.04,2,     0.09,2,   -999.0,-999.0000, -999,9,  125,  22.2959,  23.9618,   -999.0,9
     RF06-06-2,  137E,RF-2719,  1,     15,02-18569,2,20060707,0614,  4.9945, 137.0158, 5156,    152.0,  18.5693,  34.8001,2,   -999.0,9,-999.0000,9,    152.7,2,     9.11,2,  -999.00,9,     9.92,2,     0.01,2,     0.69,2, -999.000,9, -999.000,9,  -999.00,9,   2085.5,2,   -999.0,9,-999.0000,9,   -999.0,  9,  -999.00,9,   -999.0,  -999.00,9,  -999.00,9,     0.01,2,     0.04,2,   -999.0,-999.0000, -999,9,  151,  18.5427,  24.9840,   -999.0,9
     RF06-06-2,  137E,RF-2719,  1,     14,02-18568,2,20060707,0612,  4.9945, 137.0158, 5156,    202.5,  11.9138,  34.5338,2,   -999.0,9,  34.5263,4,    103.1,2,    27.24,2,  -999.00,9,    24.30,2,     0.00,2,     1.69,2, -999.000,9, -999.000,9,  -999.00,9,   2180.6,2,   -999.0,9,-999.0000,9,   -999.0,  9,  -999.00,9,   -999.0,  -999.00,9,  -999.00,9,     0.00,2,     0.02,2,   -999.0,-999.0000, -999,9,  201,  11.8876,  26.2484,   -999.0,9
     RF06-06-2,  137E,RF-2719,  1,     13,02-18567,2,20060707,0611,  4.9945, 137.0158, 5156,    251.4,  10.0320,  34.5134,2,   -999.0,9,-999.0000,9,     91.3,2,    34.71,2,  -999.00,9,    28.28,2,     0.00,2,     1.99,2, -999.000,9, -999.000,9,  -999.00,9,   2207.3,2,   -999.0,9,-999.0000,9,   -999.0,  9,  -999.00,9,   -999.0,  -999.00,9,  -999.00,9,  -999.00,9,  -999.00,9,   -999.0,-999.0000, -999,9,  250,  10.0029,  26.5715,   -999.0,9
     RF06-06-2,  137E,RF-2719,  1,     12,02-18348,2,20060707,0609,  4.9945, 137.0158, 5156,    303.1,   8.8723,  34.6093,2,   -999.0,9,  34.6092,2,     57.3,2,    38.20,2,  -999.00,9,    33.79,2,     0.00,2,     2.38,2, -999.000,9, -999.000,9,  -999.00,9,   -999.0,4,   -999.0,9,-999.0000,9,   -999.0,  9,  -999.00,9,   -999.0,  -999.00,9,  -999.00,9,  -999.00,9,  -999.00,9,   -999.0,-999.0000, -999,9,  301,   8.8396,  26.8377,   -999.0,9
     RF06-06-2,  137E,RF-2719,  1,     11,02-18565,2,20060707,0606,  4.9945, 137.0158, 5156,    403.7,   8.0481,  34.5959,2,   -999.0,9,  34.5958,2,    121.1,2,    33.79,2,  -999.00,9,    30.02,2,     0.00,2,     2.07,2, -999.000,9, -999.000,9,  -999.00,9,   2217.2,2,   -999.0,9,-999.0000,9,   -999.0,  9,  -999.00,9,   -999.0,  -999.00,9,  -999.00,9,  -999.00,9,  -999.00,9,   -999.0,-999.0000, -999,9,  401,   8.0068,  26.9555,   -999.0,9
     RF06-06-2,  137E,RF-2719,  1,     10,02-18564,2,20060707,0603,  4.9945, 137.0158, 5156,    503.7,   7.3408,  34.5597,2,   -999.0,9,-999.0000,9,    106.5,2,    42.25,2,  -999.00,9,    32.40,2,     0.00,2,     2.25,2, -999.000,9, -999.000,9,  -999.00,9,   2232.8,2,   -999.0,9,-999.0000,9,   -999.0,  9,  -999.00,9,   -999.0,  -999.00,9,  -999.00,9,  -999.00,9,  -999.00,9,   -999.0,-999.0000, -999,9,  500,   7.2916,  27.0311,   -999.0,9
     RF06-06-2,  137E,RF-2719,  1,      9,02-18563,2,20060707,0600,  4.9945, 137.0158, 5156,    605.4,   6.8582,  34.5486,2,   -999.0,9,  34.5486,2,     94.1,2,    49.22,2,  -999.00,9,    34.69,2,     0.00,2,     2.45,2, -999.000,9, -999.000,9,  -999.00,9,   2250.4,2,   -999.0,9,-999.0000,9,   -999.0,  9,  -999.00,9,   -999.0,  -999.00,9,  -999.00,9,  -999.00,9,  -999.00,9,   -999.0,-999.0000, -999,9,  601,   6.8009,  27.0906,   -999.0,9
     RF06-06-2,  137E,RF-2719,  1,      8,02-18562,2,20060707,0557,  4.9945, 137.0158, 5156,    705.2,   6.0338,  34.5387,2,   -999.0,9,-999.0000,9,     74.8,2,    64.89,2,  -999.00,9,    37.35,2,     0.00,2,     2.69,2, -999.000,9, -999.000,9,  -999.00,9,   2276.2,2,   -999.0,9,-999.0000,9,   -999.0,  9,  -999.00,9,   -999.0,  -999.00,9,  -999.00,9,  -999.00,9,  -999.00,9,   -999.0,-999.0000, -999,9,  700,   5.9710,  27.1918,   -999.0,9
     RF06-06-2,  137E,RF-2719,  1,      7,02-18561,2,20060707,0555,  4.9945, 137.0158, 5156,    806.4,   5.4079,  34.5403,2,   -999.0,9,  34.5398,2,     79.3,2,    74.48,2,  -999.00,9,    37.72,2,     0.00,2,     2.72,2, -999.000,9, -999.000,9,  -999.00,9,   2287.7,2,   -999.0,9,-999.0000,9,   -999.0,  9,  -999.00,9,   -999.0,  -999.00,9,  -999.00,9,  -999.00,9,  -999.00,9,   -999.0,-999.0000, -999,9,  800,   5.3393,  27.2709,   -999.0,9
     RF06-06-2,  137E,RF-2719,  1,      6,02-18560,2,20060707,0552,  4.9945, 137.0158, 5156,    907.3,   4.8864,  34.5457,2,   -999.0,9,-999.0000,9,     85.8,2,    83.38,2,  -999.00,9,    37.76,2,     0.00,2,     2.72,2, -999.000,9, -999.000,9,  -999.00,9,   2299.1,2,   -999.0,9,-999.0000,9,   -999.0,  9,  -999.00,9,   -999.0,  -999.00,9,  -999.00,9,  -999.00,9,  -999.00,9,   -999.0,-999.0000, -999,9,  900,   4.8121,  27.3366,   -999.0,9
     RF06-06-2,  137E,RF-2719,  1,      5,02-18559,2,20060707,0549,  4.9945, 137.0158, 5156,   1008.2,   4.3948,  34.5570,2,   -999.0,9,  34.5569,2,     88.8,2,    92.78,2,  -999.00,9,    38.05,2,     0.00,2,     2.74,2, -999.000,9, -999.000,9,  -999.00,9,   2307.8,2,   -999.0,9,-999.0000,9,   -999.0,  9,  -999.00,9,   -999.0,  -999.00,9,  -999.00,9,  -999.00,9,  -999.00,9,   -999.0,-999.0000, -999,9, 1000,   4.3153,  27.4004,   -999.0,9
     RF06-06-2,  137E,RF-2719,  1,      4,02-18558,2,20060707,0544,  4.9945, 137.0158, 5156,   1261.2,   3.5956,  34.5803,2,   -999.0,9,  34.5805,2,     92.7,2,   108.64,2,  -999.00,9,    38.54,2,     0.00,2,     2.77,2, -999.000,9, -999.000,9,  -999.00,9,   2324.9,2,   -999.0,9,-999.0000,9,   -999.0,  9,  -999.00,9,   -999.0,  -999.00,9,  -999.00,9,  -999.00,9,  -999.00,9,   -999.0,-999.0000, -999,9, 1250,   3.5015,  27.5025,   -999.0,9
     RF06-06-2,  137E,RF-2719,  1,      3,02-18557,2,20060707,0538,  4.9945, 137.0158, 5156,   1513.5,   3.0375,  34.6005,2,   -999.0,9,  34.6007,2,     95.9,2,   120.80,2,  -999.00,9,    38.75,2,     0.00,2,     2.78,2, -999.000,9, -999.000,9,  -999.00,9,   2338.8,2,   -999.0,9,-999.0000,9,   -999.0,  9,  -999.00,9,   -999.0,  -999.00,9,  -999.00,9,  -999.00,9,  -999.00,9,   -999.0,-999.0000, -999,9, 1500,   2.9280,  27.5728,   -999.0,9
     RF06-06-2,  137E,RF-2719,  1,      2,02-18556,2,20060707,0533,  4.9945, 137.0158, 5156,   1766.2,   2.5813,  34.6197,2,   -999.0,9,  34.6202,2,    104.9,2,   130.02,2,  -999.00,9,    38.50,2,     0.00,2,     2.75,2, -999.000,9, -999.000,9,  -999.00,9,   2341.7,6,   -999.0,9,-999.0000,9,   -999.0,  9,  -999.00,9,   -999.0,  -999.00,9,  -999.00,9,  -999.00,9,  -999.00,9,   -999.0,-999.0000, -999,9, 1749,   2.4562,  27.6296,   -999.0,9
     RF06-06-2,  137E,RF-2719,  1,      1,02-18555,2,20060707,0527,  4.9945, 137.0158, 5156,   2021.3,   2.1968,  34.6387,2,   -999.0,9,  34.6387,2,    113.6,2,   136.49,2,  -999.00,9,    38.02,2,     0.00,2,     2.69,2, -999.000,9, -999.000,9,  -999.00,9,   2344.0,2,   -999.0,9,-999.0000,9,   -999.0,  9,  -999.00,9,   -999.0,  -999.00,9,  -999.00,9,  -999.00,9,  -999.00,9,   -999.0,-999.0000, -999,9, 2000,   2.0555,  27.6778,   -999.0,9