BOTTLE,20131214MIRCJHATS
EXPOCODE,SECT_ID,STNNBR,CASTNO,SAMPNO,BTLNBR,BTLNBR_FLAG_W,DATE,TIME,LATITUDE,LONGITUDE,DEPTH,CTDPRS,CTDTMP,CTDSAL,CTDSAL_FLAG_W,CTDOXY,CTDOXY_FLAG_W,SALNTY,SALNTY_FLAG_W,OXYGEN,OXYGEN_FLAG_W,SILCAT,SILCAT_FLAG_W,NITRAT,NITRAT_FLAG_W,NO2+NO3,NO2+NO3_FLAG_W,NITRIT,NITRIT_FLAG_W,PHSPHT,PHSPHT_FLAG_W,CFC-11,CFC-11_FLAG_W,CFC-12,CFC-12_FLAG_W,DELC13,DELC13_FLAG_W,TCARBN,TCARBN_FLAG_W,ALKALI,ALKALI_FLAG_W,PH,PH_FLAG_W,PH_TMP,PH_SCALE,PH_NBS,PH_NBS_FLAG_W,C13ERR,TOTALP,TOTALP_FLAG_W,AMMONI,AMMONI_FLAG_W,CHLORA,CHLORA_FLAG_W,PPHYTN,PPHYTN_FLAG_W,REVPRS,REVTMP,DEPTH_,DEPTH_FLAG,CTDDEP,THETA,SIGTHT,DOC,DOC_FLAG_W
,,,,,,,GMT,GMT,,,METER,DBAR,ITS-90,PSS-78,,UMOL/KG,,PSS-78,,UMOL/KG,,UMOL/KG,,UMOL/KG,,UMOL/KG,,UMOL/KG,,UMOL/KG,,PMOL/KG,,PMOL/KG,,/MILLE,,UMOL/KG,,UMOL/KG,,25_DEG_C,,DEG_C,,,,/MILLE,UMOL/KG,,UMOL/KG,,UG/L,,UG/L,,DBAR,ITS-90,METERS,,METERS,DEG_C,,UMOL/L,
     RF06-06-2,  137E,RF-2732,  1,     -9,      -9,5,20060712,2006, 18.0132, 137.0033, 4752,      0.0,  28.7964,  34.5213,2,   -999.0,9,-999.0000,9,    199.3,2,     1.51,2,  -999.00,9,     0.00,2,     0.00,2,     0.01,2, -999.000,9, -999.000,9,  -999.00,9,   1906.8,2,   -999.0,9,   8.1203,2,     25.0, TS,  -999.00,9,   -999.0,  -999.00,9,  -999.00,9,     0.09,2,     0.03,2,   -999.0,-999.0000, -999,9,    0,  28.7962,  21.7725,   -999.0,9
     RF06-06-2,  137E,RF-2732,  1,     24,02-18578,2,20060712,2025, 18.0132, 137.0033, 4752,     10.4,  28.8078,  34.5218,2,   -999.0,9,-999.0000,9,   -999.0,9,  -999.00,9,  -999.00,9,  -999.00,9,  -999.00,9,  -999.00,9, -999.000,9, -999.000,9,  -999.00,9,   -999.0,9,   -999.0,9,-999.0000,9,   -999.0,  9,  -999.00,9,   -999.0,  -999.00,9,  -999.00,9,  -999.00,9,  -999.00,9,   -999.0,-999.0000, -999,9,   10,  28.8053,  21.7699,   -999.0,9
     RF06-06-2,  137E,RF-2732,  1,     21,02-18575,2,20060712,2025, 18.0132, 137.0033, 4752,     10.9,  28.8019,  34.5214,2,   -999.0,9,  34.5203,2,    200.5,2,     1.48,2,  -999.00,9,     0.00,2,     0.00,2,     0.00,2, -999.000,9, -999.000,9,  -999.00,9,   -999.0,9,   -999.0,9,-999.0000,9,   -999.0,  9,  -999.00,9,   -999.0,  -999.00,9,  -999.00,9,     0.09,2,     0.03,2,   -999.0,-999.0000, -999,9,   11,  28.7993,  21.7716,   -999.0,9
     RF06-06-2,  137E,RF-2732,  1,     20,02-18574,2,20060712,2024, 18.0132, 137.0033, 4752,     26.2,  28.8021,  34.5211,2,   -999.0,9,-999.0000,9,    198.2,2,     1.49,2,  -999.00,9,     0.00,2,     0.00,2,     0.00,2, -999.000,9, -999.000,9,  -999.00,9,   -999.0,9,   -999.0,9,-999.0000,9,   -999.0,  9,  -999.00,9,   -999.0,  -999.00,9,  -999.00,9,     0.08,2,     0.03,2,   -999.0,-999.0000, -999,9,   26,  28.7958,  21.7725,   -999.0,9
     RF06-06-2,  137E,RF-2732,  1,     19,02-18573,2,20060712,2023, 18.0132, 137.0033, 4752,     52.2,  28.8007,  34.5215,2,   -999.0,9,-999.0000,9,    198.6,2,     1.43,2,  -999.00,9,     0.00,2,     0.00,2,     0.00,2, -999.000,9, -999.000,9,  -999.00,9,   -999.0,9,   -999.0,9,-999.0000,9,   -999.0,  9,  -999.00,9,   -999.0,  -999.00,9,  -999.00,9,     0.10,2,     0.03,2,   -999.0,-999.0000, -999,9,   52,  28.7882,  21.7754,   -999.0,9
     RF06-06-2,  137E,RF-2732,  1,     18,02-18572,2,20060712,2021, 18.0132, 137.0033, 4752,     76.2,  26.0544,  34.7902,2,   -999.0,9,-999.0000,9,    218.3,2,     1.43,2,  -999.00,9,     0.00,2,     0.00,2,     0.00,2, -999.000,9, -999.000,9,  -999.00,9,   -999.0,9,   -999.0,9,-999.0000,9,   -999.0,  9,  -999.00,9,   -999.0,  -999.00,9,  -999.00,9,     0.16,2,     0.06,2,   -999.0,-999.0000, -999,9,   76,  26.0374,  22.8634,   -999.0,9
     RF06-06-2,  137E,RF-2732,  1,     17,02-18571,2,20060712,2020, 18.0132, 137.0033, 4752,    101.8,  24.3925,  34.7456,2,   -999.0,9,  34.7469,2,    212.5,2,     1.56,2,  -999.00,9,     0.00,2,     0.00,2,     0.00,2, -999.000,9, -999.000,9,  -999.00,9,   -999.0,9,   -999.0,9,-999.0000,9,   -999.0,  9,  -999.00,9,   -999.0,  -999.00,9,  -999.00,9,     0.25,2,     0.14,2,   -999.0,-999.0000, -999,9,  101,  24.3709,  23.3385,   -999.0,9
     RF06-06-2,  137E,RF-2732,  1,     16,02-18570,2,20060712,2018, 18.0132, 137.0033, 4752,    125.4,  23.1674,  34.8130,2,   -999.0,9,-999.0000,9,    202.6,2,     1.60,2,  -999.00,9,     0.00,2,     0.00,2,     0.01,2, -999.000,9, -999.000,9,  -999.00,9,   -999.0,9,   -999.0,9,-999.0000,9,   -999.0,  9,  -999.00,9,   -999.0,  -999.00,9,  -999.00,9,     0.15,2,     0.24,2,   -999.0,-999.0000, -999,9,  125,  23.1417,  23.7509,   -999.0,9
     RF06-06-2,  137E,RF-2732,  1,     15,02-18569,2,20060712,2017, 18.0132, 137.0033, 4752,    151.8,  21.4835,  34.8947,2,   -999.0,9,-999.0000,9,    201.0,2,     2.10,2,  -999.00,9,     1.26,2,     0.03,2,     0.08,2, -999.000,9, -999.000,9,  -999.00,9,   -999.0,9,   -999.0,9,-999.0000,9,   -999.0,  9,  -999.00,9,   -999.0,  -999.00,9,  -999.00,9,     0.05,2,     0.14,2,   -999.0,-999.0000, -999,9,  151,  21.4540,  24.2895,   -999.0,9
     RF06-06-2,  137E,RF-2732,  1,     14,02-18568,2,20060712,2015, 18.0132, 137.0033, 4752,    202.7,  19.5905,  34.9031,2,   -999.0,9,  34.9006,2,    192.1,2,     3.14,2,  -999.00,9,     3.31,2,     0.00,2,     0.20,2, -999.000,9, -999.000,9,  -999.00,9,   -999.0,9,   -999.0,9,-999.0000,9,   -999.0,  9,  -999.00,9,   -999.0,  -999.00,9,  -999.00,9,     0.01,2,     0.01,2,   -999.0,-999.0000, -999,9,  201,  19.5536,  24.8046,   -999.0,9
     RF06-06-2,  137E,RF-2732,  1,     13,02-18567,2,20060712,2013, 18.0132, 137.0033, 4752,    252.8,  18.1565,  34.8366,2,   -999.0,9,-999.0000,9,    198.8,2,     3.78,2,  -999.00,9,     4.17,2,     0.00,2,     0.25,2, -999.000,9, -999.000,9,  -999.00,9,   -999.0,9,   -999.0,9,-999.0000,9,   -999.0,  9,  -999.00,9,   -999.0,  -999.00,9,  -999.00,9,  -999.00,9,  -999.00,9,   -999.0,-999.0000, -999,9,  251,  18.1128,  25.1191,   -999.0,9
     RF06-06-2,  137E,RF-2732,  1,     12,02-18348,2,20060712,2011, 18.0132, 137.0033, 4752,    303.1,  17.0716,  34.7678,2,   -999.0,9,  34.7685,2,    204.2,2,     4.68,2,  -999.00,9,     5.31,2,     0.00,2,     0.31,2, -999.000,9, -999.000,9,  -999.00,9,   -999.0,9,   -999.0,9,-999.0000,9,   -999.0,  9,  -999.00,9,   -999.0,  -999.00,9,  -999.00,9,  -999.00,9,  -999.00,9,   -999.0,-999.0000, -999,9,  301,  17.0214,  25.3310,   -999.0,9
     RF06-06-2,  137E,RF-2732,  1,     11,02-18565,2,20060712,2008, 18.0132, 137.0033, 4752,    403.5,  13.4200,  34.4631,2,   -999.0,9,  34.4640,2,    185.5,2,    13.58,2,  -999.00,9,    12.55,2,     0.00,2,     0.83,2, -999.000,9, -999.000,9,  -999.00,9,   -999.0,9,   -999.0,9,-999.0000,9,   -999.0,  9,  -999.00,9,   -999.0,  -999.00,9,  -999.00,9,  -999.00,9,  -999.00,9,   -999.0,-999.0000, -999,9,  401,  13.3632,  25.9036,   -999.0,9
     RF06-06-2,  137E,RF-2732,  1,     10,02-18564,2,20060712,2005, 18.0132, 137.0033, 4752,    505.2,   9.6806,  34.2406,2,   -999.0,9,-999.0000,9,    140.4,2,    31.13,2,  -999.00,9,    23.03,2,     0.00,2,     1.63,2, -999.000,9, -999.000,9,  -999.00,9,   -999.0,9,   -999.0,9,-999.0000,9,   -999.0,  9,  -999.00,9,   -999.0,  -999.00,9,  -999.00,9,  -999.00,9,  -999.00,9,   -999.0,-999.0000, -999,9,  502,   9.6228,  26.4222,   -999.0,9
     RF06-06-2,  137E,RF-2732,  1,      9,02-18563,2,20060712,2002, 18.0132, 137.0033, 4752,    606.9,   7.0450,  34.1762,2,   -999.0,9,  34.1762,2,     98.4,2,    56.34,2,  -999.00,9,    31.54,2,     0.00,2,     2.28,2, -999.000,9, -999.000,9,  -999.00,9,   -999.0,9,   -999.0,9,-999.0000,9,   -999.0,  9,  -999.00,9,   -999.0,  -999.00,9,  -999.00,9,  -999.00,9,  -999.00,9,   -999.0,-999.0000, -999,9,  602,   6.9870,  26.7716,   -999.0,9
     RF06-06-2,  137E,RF-2732,  1,      8,02-18562,2,20060712,1958, 18.0132, 137.0033, 4752,    706.4,   5.4203,  34.2609,2,   -999.0,9,-999.0000,9,     62.4,2,    81.78,2,  -999.00,9,    37.31,2,     0.00,2,     2.75,2, -999.000,9, -999.000,9,  -999.00,9,   -999.0,9,   -999.0,9,-999.0000,9,   -999.0,  9,  -999.00,9,   -999.0,  -999.00,9,  -999.00,9,  -999.00,9,  -999.00,9,   -999.0,-999.0000, -999,9,  701,   5.3610,  27.0470,   -999.0,9
     RF06-06-2,  137E,RF-2732,  1,      7,02-18561,2,20060712,1955, 18.0132, 137.0033, 4752,    807.2,   4.7608,  34.3807,2,   -999.0,9,  34.3789,2,     60.1,2,    94.56,2,  -999.00,9,    38.60,2,     0.00,2,     2.83,2, -999.000,9, -999.000,9,  -999.00,9,   -999.0,9,   -999.0,9,-999.0000,9,   -999.0,  9,  -999.00,9,   -999.0,  -999.00,9,  -999.00,9,  -999.00,9,  -999.00,9,   -999.0,-999.0000, -999,9,  801,   4.6963,  27.2187,   -999.0,9
     RF06-06-2,  137E,RF-2732,  1,      6,02-18560,2,20060712,1952, 18.0132, 137.0033, 4752,    908.4,   4.2342,  34.4331,2,   -999.0,9,-999.0000,9,     64.5,2,   105.47,2,  -999.00,9,    38.88,2,     0.00,2,     2.82,2, -999.000,9, -999.000,9,  -999.00,9,   -999.0,9,   -999.0,9,-999.0000,9,   -999.0,  9,  -999.00,9,   -999.0,  -999.00,9,  -999.00,9,  -999.00,9,  -999.00,9,   -999.0,-999.0000, -999,9,  901,   4.1646,  27.3180,   -999.0,9
     RF06-06-2,  137E,RF-2732,  1,      5,02-18559,2,20060712,1948, 18.0132, 137.0033, 4752,   1012.8,   3.7758,  34.4820,2,   -999.0,9,  34.4812,2,     71.2,2,   114.36,2,  -999.00,9,    38.96,2,     0.00,2,     2.81,2, -999.000,9, -999.000,9,  -999.00,9,   -999.0,9,   -999.0,9,-999.0000,9,   -999.0,  9,  -999.00,9,   -999.0,  -999.00,9,  -999.00,9,  -999.00,9,  -999.00,9,   -999.0,-999.0000, -999,9, 1004,   3.7009,  27.4046,   -999.0,9
     RF06-06-2,  137E,RF-2732,  1,      4,02-18558,2,20060712,1942, 18.0132, 137.0033, 4752,   1262.1,   3.0481,  34.5483,2,   -999.0,9,  34.5478,2,     87.1,2,   127.05,2,  -999.00,9,    38.54,2,     0.00,2,     2.77,2, -999.000,9, -999.000,9,  -999.00,9,   -999.0,9,   -999.0,9,-999.0000,9,   -999.0,  9,  -999.00,9,   -999.0,  -999.00,9,  -999.00,9,  -999.00,9,  -999.00,9,   -999.0,-999.0000, -999,9, 1251,   2.9593,  27.5282,   -999.0,9
     RF06-06-2,  137E,RF-2732,  1,      3,02-18557,2,20060712,1936, 18.0132, 137.0033, 4752,   1516.5,   2.6164,  34.5855,2,   -999.0,9,  34.5859,2,     98.8,2,   133.01,2,  -999.00,9,    38.15,2,     0.00,2,     2.75,2, -999.000,9, -999.000,9,  -999.00,9,   -999.0,9,   -999.0,9,-999.0000,9,   -999.0,  9,  -999.00,9,   -999.0,  -999.00,9,  -999.00,9,  -999.00,9,  -999.00,9,   -999.0,-999.0000, -999,9, 1502,   2.5116,  27.5975,   -999.0,9
     RF06-06-2,  137E,RF-2732,  1,      2,02-18556,2,20060712,1930, 18.0132, 137.0033, 4752,   1770.8,   2.2788,  34.6121,2,   -999.0,9,  34.6121,2,    107.3,2,   137.40,2,  -999.00,9,    37.99,2,     0.00,2,     2.71,2, -999.000,9, -999.000,9,  -999.00,9,   -999.0,9,   -999.0,9,-999.0000,9,   -999.0,  9,  -999.00,9,   -999.0,  -999.00,9,  -999.00,9,  -999.00,9,  -999.00,9,   -999.0,-999.0000, -999,9, 1753,   2.1575,  27.6483,   -999.0,9
     RF06-06-2,  137E,RF-2732,  1,      1,02-18555,2,20060712,1924, 18.0132, 137.0033, 4752,   2021.6,   2.0205,  34.6308,2,   -999.0,9,  34.6300,2,    115.4,2,   140.83,2,  -999.00,9,    37.63,2,     0.00,2,     2.67,2, -999.000,9, -999.000,9,  -999.00,9,   -999.0,9,   -999.0,9,-999.0000,9,   -999.0,  9,  -999.00,9,   -999.0,  -999.00,9,  -999.00,9,  -999.00,9,  -999.00,9,   -999.0,-999.0000, -999,9, 2000,   1.8819,  27.6851,   -999.0,9