BOTTLE,20130510GEMDJMAYT
EXPOCODE,SECT_ID,STNNBR,CASTNO,SAMPNO,BTLNBR,BTLNBR_FLAG_W,DATE,TIME,LATITUDE,LONGITUDE,DEPTH,CTDPRS,CTDTMP,CTDSAL,CTDSAL_FLAG_W,CTDOXY,CTDOXY_FLAG_W,SALNTY,SALNTY_FLAG_W,OXYGEN,OXYGEN_FLAG_W,SILCAT,SILCAT_FLAG_W,NITRAT,NITRAT_FLAG_W,NO2+NO3,NO2+NO3_FLAG_W,NITRIT,NITRIT_FLAG_W,PHSPHT,PHSPHT_FLAG_W,CFC-11,CFC-11_FLAG_W,CFC-12,CFC-12_FLAG_W,DELC13,DELC13_FLAG_W,TCARBN,TCARBN_FLAG_W,ALKALI,ALKALI_FLAG_W,PH,PH_FLAG_W,PH_TMP,PH_SCALE,PH_NBS,PH_NBS_FLAG_W,C13ERR,TOTALP,TOTALP_FLAG_W,AMMONI,AMMONI_FLAG_W,CHLORA,CHLORA_FLAG_W,PPHYTN,PPHYTN_FLAG_W,REVPRS,REVTMP,DEPTH_,DEPTH_FLAG,CTDDEP,THETA,SIGTHT,DOC,DOC_FLAG_W
,,,,,,,GMT,GMT,,,METER,DBAR,ITS-90,PSS-78,,UMOL/KG,,PSS-78,,UMOL/KG,,UMOL/KG,,UMOL/KG,,UMOL/KG,,UMOL/KG,,UMOL/KG,,PMOL/KG,,PMOL/KG,,/MILLE,,UMOL/KG,,UMOL/KG,,25_DEG_C,,DEG_C,,,,/MILLE,UMOL/KG,,UMOL/KG,,UG/L,,UG/L,,DBAR,ITS-90,METERS,,METERS,DEG_C,,UMOL/L,
       RF06-10,  137E,RF-2814,  1,     -9,      -9,5,20061030,2132,  3.0017, 137.0108, 4521,      0.0,  28.9380,  34.0372,2,   -999.0,9,-999.0000,9,    198.2,2,     1.54,2,  -999.00,9,     0.00,2,     0.00,2,     0.04,2, -999.000,9, -999.000,9,  -999.00,9,   1895.2,2,   -999.0,9,   8.1259,2,     25.0, TS,  -999.00,9,   -999.0,  -999.00,9,  -999.00,9,     0.09,2,     0.02,2,   -999.0,-999.0000, -999,9,    0,  28.9378,  21.3621,   -999.0,9
       RF06-10,  137E,RF-2814,  1,     21,02-18575,2,20061030,2152,  3.0017, 137.0108, 4521,     10.1,  28.8445,  34.0868,2,   -999.0,9,  34.0905,2,    197.4,2,     1.59,2,  -999.00,9,     0.00,2,     0.00,2,     0.05,2, -999.000,9, -999.000,9,  -999.00,9,   -999.0,9,   -999.0,9,-999.0000,9,   -999.0,  9,  -999.00,9,   -999.0,  -999.00,9,  -999.00,9,     0.08,2,     0.02,2,   -999.0,-999.0000, -999,9,   10,  28.8421,  21.4311,   -999.0,9
       RF06-10,  137E,RF-2814,  1,     20,02-18574,2,20061030,2150,  3.0017, 137.0108, 4521,     24.9,  28.0750,  34.2114,2,   -999.0,9,-999.0000,9,    199.5,2,     1.91,2,  -999.00,9,     0.03,2,     0.00,2,     0.08,2, -999.000,9, -999.000,9,  -999.00,9,   -999.0,9,   -999.0,9,-999.0000,9,   -999.0,  9,  -999.00,9,   -999.0,  -999.00,9,  -999.00,9,     0.15,2,     0.05,2,   -999.0,-999.0000, -999,9,   25,  28.0691,  21.7792,   -999.0,9
       RF06-10,  137E,RF-2814,  1,     19,02-18573,2,20061030,2149,  3.0017, 137.0108, 4521,     49.6,  27.5333,  34.6826,2,   -999.0,9,-999.0000,9,    185.9,2,     1.58,2,  -999.00,9,     1.32,2,     0.18,2,     0.21,2, -999.000,9, -999.000,9,  -999.00,9,   -999.0,9,   -999.0,9,-999.0000,9,   -999.0,  9,  -999.00,9,   -999.0,  -999.00,9,  -999.00,9,     0.53,2,     0.32,2,   -999.0,-999.0000, -999,9,   49,  27.5218,  22.3113,   -999.0,9
       RF06-10,  137E,RF-2814,  1,     18,02-18572,2,20061030,2148,  3.0017, 137.0108, 4521,     76.4,  27.5472,  34.7090,2,   -999.0,9,-999.0000,9,    180.9,2,     1.69,2,  -999.00,9,     1.92,2,     0.25,2,     0.24,2, -999.000,9, -999.000,9,  -999.00,9,   -999.0,9,   -999.0,9,-999.0000,9,   -999.0,  9,  -999.00,9,   -999.0,  -999.00,9,  -999.00,9,     0.38,2,     0.28,2,   -999.0,-999.0000, -999,9,   76,  27.5294,  22.3286,   -999.0,9
       RF06-10,  137E,RF-2814,  1,     17,02-18571,2,20061030,2146,  3.0017, 137.0108, 4521,    100.6,  26.2332,  34.9580,2,   -999.0,9,  35.0238,4,    153.5,2,     2.76,2,  -999.00,9,     5.96,2,     0.07,2,     0.49,2, -999.000,9, -999.000,9,  -999.00,9,   -999.0,9,   -999.0,9,-999.0000,9,   -999.0,  9,  -999.00,9,   -999.0,  -999.00,9,  -999.00,9,     0.09,2,     0.22,2,   -999.0,-999.0000, -999,9,  100,  26.2106,  22.9358,   -999.0,9
       RF06-10,  137E,RF-2814,  1,     16,02-18570,2,20061030,2145,  3.0017, 137.0108, 4521,    126.5,  22.4838,  35.3801,2,   -999.0,9,-999.0000,9,    138.8,2,     4.14,2,  -999.00,9,     9.28,2,     0.02,2,     0.72,2, -999.000,9, -999.000,9,  -999.00,9,   -999.0,9,   -999.0,9,-999.0000,9,   -999.0,  9,  -999.00,9,   -999.0,  -999.00,9,  -999.00,9,     0.04,2,     0.10,2,   -999.0,-999.0000, -999,9,  126,  22.4583,  24.3772,   -999.0,9
       RF06-10,  137E,RF-2814,  1,     15,02-18569,2,20061030,2144,  3.0017, 137.0108, 4521,    152.0,  21.8584,  35.3978,2,   -999.0,9,-999.0000,9,    137.7,2,     4.34,2,  -999.00,9,     9.84,2,     0.01,2,     0.75,2, -999.000,9, -999.000,9,  -999.00,9,   -999.0,9,   -999.0,9,-999.0000,9,   -999.0,  9,  -999.00,9,   -999.0,  -999.00,9,  -999.00,9,     0.02,2,     0.08,2,   -999.0,-999.0000, -999,9,  151,  21.8284,  24.5682,   -999.0,9
       RF06-10,  137E,RF-2814,  1,     14,02-18568,2,20061030,2142,  3.0017, 137.0108, 4521,    202.5,  13.9361,  34.5642,2,   -999.0,9,  34.5565,4,    131.4,2,    21.41,2,  -999.00,9,    17.70,2,     0.00,2,     1.30,2, -999.000,9, -999.000,9,  -999.00,9,   -999.0,9,   -999.0,9,-999.0000,9,   -999.0,  9,  -999.00,9,   -999.0,  -999.00,9,  -999.00,9,     0.00,2,     0.03,2,   -999.0,-999.0000, -999,9,  201,  13.9070,  25.8697,   -999.0,9
       RF06-10,  137E,RF-2814,  1,     13,02-18567,2,20061030,2140,  3.0017, 137.0108, 4521,    251.7,  10.9623,  34.5078,2,   -999.0,9,-999.0000,9,    102.3,2,    32.78,2,  -999.00,9,    25.56,2,     0.00,2,     1.82,2, -999.000,9, -999.000,9,  -999.00,9,   -999.0,9,   -999.0,9,-999.0000,9,   -999.0,  9,  -999.00,9,   -999.0,  -999.00,9,  -999.00,9,  -999.00,9,  -999.00,9,   -999.0,-999.0000, -999,9,  250,  10.9314,  26.4045,   -999.0,9
       RF06-10,  137E,RF-2814,  1,     12,02-18348,2,20061030,2138,  3.0017, 137.0108, 4521,    302.0,   9.4617,  34.5388,2,   -999.0,9,  34.5500,4,     94.8,2,    40.60,2,  -999.00,9,    29.44,2,     0.00,2,     2.09,2, -999.000,9, -999.000,9,  -999.00,9,   -999.0,9,   -999.0,9,-999.0000,9,   -999.0,  9,  -999.00,9,   -999.0,  -999.00,9,  -999.00,9,  -999.00,9,  -999.00,9,   -999.0,-999.0000, -999,9,  300,   9.4279,  26.6876,   -999.0,9
       RF06-10,  137E,RF-2814,  1,     11,02-18565,2,20061030,2136,  3.0017, 137.0108, 4521,    402.6,   8.2069,  34.5827,2,   -999.0,9,  34.5814,2,    109.4,2,    39.39,2,  -999.00,9,    30.37,2,     0.00,2,     2.15,2, -999.000,9, -999.000,9,  -999.00,9,   -999.0,9,   -999.0,9,-999.0000,9,   -999.0,  9,  -999.00,9,   -999.0,  -999.00,9,  -999.00,9,  -999.00,9,  -999.00,9,   -999.0,-999.0000, -999,9,  400,   8.1652,  26.9213,   -999.0,9
       RF06-10,  137E,RF-2814,  1,     10,02-18564,2,20061030,2134,  3.0017, 137.0108, 4521,    503.5,   7.3758,  34.5606,2,   -999.0,9,-999.0000,9,    115.3,2,    41.07,2,  -999.00,9,    31.55,2,     0.00,2,     2.24,2, -999.000,9, -999.000,9,  -999.00,9,   -999.0,9,   -999.0,9,-999.0000,9,   -999.0,  9,  -999.00,9,   -999.0,  -999.00,9,  -999.00,9,  -999.00,9,  -999.00,9,   -999.0,-999.0000, -999,9,  500,   7.3265,  27.0269,   -999.0,9
       RF06-10,  137E,RF-2814,  1,      9,02-18563,2,20061030,2131,  3.0017, 137.0108, 4521,    603.9,   6.5924,  34.5309,2,   -999.0,9,  34.5302,2,    137.6,2,    41.58,2,  -999.00,9,    31.23,2,     0.00,2,     2.20,2, -999.000,9, -999.000,9,  -999.00,9,   -999.0,9,   -999.0,9,-999.0000,9,   -999.0,  9,  -999.00,9,   -999.0,  -999.00,9,  -999.00,9,  -999.00,9,  -999.00,9,   -999.0,-999.0000, -999,9,  600,   6.5365,  27.1122,   -999.0,9
       RF06-10,  137E,RF-2814,  1,      8,02-18562,2,20061030,2129,  3.0017, 137.0108, 4521,    705.7,   6.0745,  34.5271,2,   -999.0,9,-999.0000,9,    124.4,2,    51.37,2,  -999.00,9,    33.25,2,     0.00,2,     2.37,2, -999.000,9, -999.000,9,  -999.00,9,   -999.0,9,   -999.0,9,-999.0000,9,   -999.0,  9,  -999.00,9,   -999.0,  -999.00,9,  -999.00,9,  -999.00,9,  -999.00,9,   -999.0,-999.0000, -999,9,  701,   6.0114,  27.1775,   -999.0,9
       RF06-10,  137E,RF-2814,  1,      7,02-18561,2,20061030,2126,  3.0017, 137.0108, 4521,    807.4,   5.5099,  34.5260,2,   -999.0,9,  34.5262,2,    118.0,2,    61.14,2,  -999.00,9,    34.67,2,     0.00,2,     2.48,2, -999.000,9, -999.000,9,  -999.00,9,   -999.0,9,   -999.0,9,-999.0000,9,   -999.0,  9,  -999.00,9,   -999.0,  -999.00,9,  -999.00,9,  -999.00,9,  -999.00,9,   -999.0,-999.0000, -999,9,  801,   5.4406,  27.2474,   -999.0,9
       RF06-10,  137E,RF-2814,  1,      6,02-18560,2,20061030,2124,  3.0017, 137.0108, 4521,    908.0,   5.3147,  34.5371,2,   -999.0,9,-999.0000,9,    106.4,2,    68.18,2,  -999.00,9,    35.68,2,     0.00,2,     2.58,2, -999.000,9, -999.000,9,  -999.00,9,   -999.0,9,   -999.0,9,-999.0000,9,   -999.0,  9,  -999.00,9,   -999.0,  -999.00,9,  -999.00,9,  -999.00,9,  -999.00,9,   -999.0,-999.0000, -999,9,  901,   5.2374,  27.2805,   -999.0,9
       RF06-10,  137E,RF-2814,  1,      5,02-18559,2,20061030,2121,  3.0017, 137.0108, 4521,   1009.3,   4.8840,  34.5488,2,   -999.0,9,  34.5479,2,     90.7,2,    83.33,2,  -999.00,9,    37.37,2,     0.00,2,     2.72,2, -999.000,9, -999.000,9,  -999.00,9,   -999.0,9,   -999.0,9,-999.0000,9,   -999.0,  9,  -999.00,9,   -999.0,  -999.00,9,  -999.00,9,  -999.00,9,  -999.00,9,   -999.0,-999.0000, -999,9, 1001,   4.8007,  27.3403,   -999.0,9
       RF06-10,  137E,RF-2814,  1,      4,02-18558,2,20061030,2117,  3.0017, 137.0108, 4521,   1261.0,   3.6234,  34.5811,2,   -999.0,9,  34.5805,2,     94.3,2,   108.87,2,  -999.00,9,    38.36,2,     0.00,2,     2.78,2, -999.000,9, -999.000,9,  -999.00,9,   -999.0,9,   -999.0,9,-999.0000,9,   -999.0,  9,  -999.00,9,   -999.0,  -999.00,9,  -999.00,9,  -999.00,9,  -999.00,9,   -999.0,-999.0000, -999,9, 1250,   3.5290,  27.5005,   -999.0,9
       RF06-10,  137E,RF-2814,  1,      3,02-18557,2,20061030,2112,  3.0017, 137.0108, 4521,   1513.9,   3.0576,  34.6002,2,   -999.0,9,  34.5995,2,     99.7,2,   119.92,2,  -999.00,9,    38.42,2,     0.00,2,     2.78,2, -999.000,9, -999.000,9,  -999.00,9,   -999.0,9,   -999.0,9,-999.0000,9,   -999.0,  9,  -999.00,9,   -999.0,  -999.00,9,  -999.00,9,  -999.00,9,  -999.00,9,   -999.0,-999.0000, -999,9, 1500,   2.9479,  27.5707,   -999.0,9
       RF06-10,  137E,RF-2814,  1,      2,02-18556,2,20061030,2107,  3.0017, 137.0108, 4521,   1767.4,   2.6062,  34.6185,2,   -999.0,9,  34.6183,2,    112.7,2,   129.04,2,  -999.00,9,    37.84,2,     0.00,2,     2.75,2, -999.000,9, -999.000,9,  -999.00,9,   -999.0,9,   -999.0,9,-999.0000,9,   -999.0,  9,  -999.00,9,   -999.0,  -999.00,9,  -999.00,9,  -999.00,9,  -999.00,9,   -999.0,-999.0000, -999,9, 1750,   2.4807,  27.6265,   -999.0,9
       RF06-10,  137E,RF-2814,  1,      1,02-18555,2,20061030,2102,  3.0017, 137.0108, 4521,   2020.2,   2.2671,  34.6356,2,   -999.0,9,  34.6357,2,    113.8,2,   134.95,2,  -999.00,9,    37.95,2,     0.00,2,     2.72,2, -999.000,9, -999.000,9,  -999.00,9,   -999.0,9,   -999.0,9,-999.0000,9,   -999.0,  9,  -999.00,9,   -999.0,  -999.00,9,  -999.00,9,  -999.00,9,  -999.00,9,   -999.0,-999.0000, -999,9, 1999,   2.1249,  27.6697,   -999.0,9