BOTTLE,20130510GEMDJMAYT
EXPOCODE,SECT_ID,STNNBR,CASTNO,SAMPNO,BTLNBR,BTLNBR_FLAG_W,DATE,TIME,LATITUDE,LONGITUDE,DEPTH,CTDPRS,CTDTMP,CTDSAL,CTDSAL_FLAG_W,CTDOXY,CTDOXY_FLAG_W,SALNTY,SALNTY_FLAG_W,OXYGEN,OXYGEN_FLAG_W,SILCAT,SILCAT_FLAG_W,NITRAT,NITRAT_FLAG_W,NO2+NO3,NO2+NO3_FLAG_W,NITRIT,NITRIT_FLAG_W,PHSPHT,PHSPHT_FLAG_W,CFC-11,CFC-11_FLAG_W,CFC-12,CFC-12_FLAG_W,DELC13,DELC13_FLAG_W,TCARBN,TCARBN_FLAG_W,ALKALI,ALKALI_FLAG_W,PH,PH_FLAG_W,PH_TMP,PH_SCALE,PH_NBS,PH_NBS_FLAG_W,C13ERR,TOTALP,TOTALP_FLAG_W,AMMONI,AMMONI_FLAG_W,CHLORA,CHLORA_FLAG_W,PPHYTN,PPHYTN_FLAG_W,REVPRS,REVTMP,DEPTH_,DEPTH_FLAG,CTDDEP,THETA,SIGTHT,DOC,DOC_FLAG_W
,,,,,,,GMT,GMT,,,METER,DBAR,ITS-90,PSS-78,,UMOL/KG,,PSS-78,,UMOL/KG,,UMOL/KG,,UMOL/KG,,UMOL/KG,,UMOL/KG,,UMOL/KG,,PMOL/KG,,PMOL/KG,,/MILLE,,UMOL/KG,,UMOL/KG,,25_DEG_C,,DEG_C,,,,/MILLE,UMOL/KG,,UMOL/KG,,UG/L,,UG/L,,DBAR,ITS-90,METERS,,METERS,DEG_C,,UMOL/L,
       RF06-10,  137E,RF-2792,  1,     -9,      -9,5,20061024,1655, 24.9927, 136.9920, 5192,      0.0,  27.7630,  34.6916,2,   -999.0,9,-999.0000,9,    199.4,2,     1.46,2,  -999.00,9,     0.01,2,     0.00,2,     0.01,2, -999.000,9, -999.000,9,  -999.00,9,   1942.4,3,   -999.0,9,   8.1034,2,     25.0, TS,  -999.00,9,   -999.0,  -999.00,9,  -999.00,9,     0.06,2,     0.00,2,   -999.0,-999.0000, -999,9,    0,  27.7628,  22.2399,   -999.0,9
       RF06-10,  137E,RF-2792,  1,     21,02-18575,2,20061024,1716, 24.9927, 136.9920, 5192,     11.5,  27.8190,  34.6901,2,   -999.0,9,  34.6892,2,    199.9,2,     1.40,2,  -999.00,9,     0.00,2,     0.00,2,     0.00,2, -999.000,9, -999.000,9,  -999.00,9,   1946.4,2,   -999.0,9,   8.1072,2,     25.0, TS,  -999.00,9,   -999.0,  -999.00,9,  -999.00,9,     0.06,2,     0.00,2,   -999.0,-999.0000, -999,9,   11,  27.8163,  22.2214,   -999.0,9
       RF06-10,  137E,RF-2792,  1,     20,02-18574,2,20061024,1715, 24.9927, 136.9920, 5192,     25.0,  27.6241,  34.6891,2,   -999.0,9,-999.0000,9,    199.9,2,     1.36,2,  -999.00,9,     0.00,2,     0.00,2,     0.00,2, -999.000,9, -999.000,9,  -999.00,9,   1946.7,2,   -999.0,9,   8.1064,2,     25.0, TS,  -999.00,9,   -999.0,  -999.00,9,  -999.00,9,     0.07,2,     0.01,2,   -999.0,-999.0000, -999,9,   25,  27.6183,  22.2850,   -999.0,9
       RF06-10,  137E,RF-2792,  1,     19,02-18573,2,20061024,1714, 24.9927, 136.9920, 5192,     51.1,  26.6388,  34.7612,2,   -999.0,9,-999.0000,9,    208.9,2,     1.40,2,  -999.00,9,     0.00,2,     0.00,2,     0.00,2, -999.000,9, -999.000,9,  -999.00,9,   1953.1,2,   -999.0,9,   8.0949,2,     25.0, TS,  -999.00,9,   -999.0,  -999.00,9,  -999.00,9,     0.10,2,     0.01,2,   -999.0,-999.0000, -999,9,   51,  26.6272,  22.6564,   -999.0,9
       RF06-10,  137E,RF-2792,  1,     18,02-18572,2,20061024,1712, 24.9927, 136.9920, 5192,     75.5,  22.9715,  34.8513,2,   -999.0,9,-999.0000,9,    228.2,2,     1.59,2,  -999.00,9,     0.00,2,     0.00,2,     0.00,2, -999.000,9, -999.000,9,  -999.00,9,   1974.6,2,   -999.0,9,   8.0718,2,     25.0, TS,  -999.00,9,   -999.0,  -999.00,9,  -999.00,9,     0.15,2,     0.02,2,   -999.0,-999.0000, -999,9,   75,  22.9561,  23.8334,   -999.0,9
       RF06-10,  137E,RF-2792,  1,     17,02-18571,2,20061024,1711, 24.9927, 136.9920, 5192,    101.4,  20.6264,  34.8960,2,   -999.0,9,  34.8973,2,    211.6,2,     1.95,2,  -999.00,9,     0.27,2,     0.02,2,     0.03,2, -999.000,9, -999.000,9,  -999.00,9,   2003.1,2,   -999.0,9,   8.0241,2,     25.0, TS,  -999.00,9,   -999.0,  -999.00,9,  -999.00,9,     0.39,2,     0.37,2,   -999.0,-999.0000, -999,9,  101,  20.6073,  24.5209,   -999.0,9
       RF06-10,  137E,RF-2792,  1,     16,02-18570,2,20061024,1709, 24.9927, 136.9920, 5192,    126.5,  19.7643,  34.9025,2,   -999.0,9,-999.0000,9,    195.1,2,     2.51,2,  -999.00,9,     2.47,2,     0.03,2,     0.13,2, -999.000,9, -999.000,9,  -999.00,9,   2020.1,2,   -999.0,9,   7.9915,3,     25.0, TS,  -999.00,9,   -999.0,  -999.00,9,  -999.00,9,     0.16,2,     0.31,2,   -999.0,-999.0000, -999,9,  126,  19.7412,  24.7553,   -999.0,9
       RF06-10,  137E,RF-2792,  1,     15,02-18569,2,20061024,1708, 24.9927, 136.9920, 5192,    151.1,  18.8786,  34.8547,2,   -999.0,9,-999.0000,9,    204.7,2,     2.61,2,  -999.00,9,     2.67,2,     0.01,2,     0.14,2, -999.000,9, -999.000,9,  -999.00,9,   2013.1,2,   -999.0,9,   8.0000,2,     25.0, TS,  -999.00,9,   -999.0,  -999.00,9,  -999.00,9,     0.08,2,     0.13,2,   -999.0,-999.0000, -999,9,  150,  18.8518,  24.9478,   -999.0,9
       RF06-10,  137E,RF-2792,  1,     14,02-18568,2,20061024,1706, 24.9927, 136.9920, 5192,    201.8,  18.2432,  34.8354,2,   -999.0,9,  34.8346,2,    207.7,2,     3.06,2,  -999.00,9,     3.35,2,     0.00,2,     0.18,2, -999.000,9, -999.000,9,  -999.00,9,   2015.5,2,   -999.0,9,   7.9913,2,     25.0, TS,  -999.00,9,   -999.0,  -999.00,9,  -999.00,9,     0.01,2,     0.01,2,   -999.0,-999.0000, -999,9,  200,  18.2083,  25.0945,   -999.0,9
       RF06-10,  137E,RF-2792,  1,     13,02-18567,2,20061024,1704, 24.9927, 136.9920, 5192,    252.8,  17.6522,  34.8079,2,   -999.0,9,-999.0000,9,    204.9,2,     3.93,2,  -999.00,9,     4.40,2,     0.00,2,     0.23,2, -999.000,9, -999.000,9,  -999.00,9,   2020.7,2,   -999.0,9,   7.9743,2,     25.0, TS,  -999.00,9,   -999.0,  -999.00,9,  -999.00,9,  -999.00,9,  -999.00,9,   -999.0,-999.0000, -999,9,  251,  17.6094,  25.2205,   -999.0,9
       RF06-10,  137E,RF-2792,  1,     12,02-18348,2,20061024,1702, 24.9927, 136.9920, 5192,    303.6,  16.6325,  34.7307,2,   -999.0,9,  34.7297,2,    197.6,2,     6.09,2,  -999.00,9,     6.74,2,     0.00,2,     0.36,2, -999.000,9, -999.000,9,  -999.00,9,   2038.1,2,   -999.0,9,   7.9374,2,     25.0, TS,  -999.00,9,   -999.0,  -999.00,9,  -999.00,9,  -999.00,9,  -999.00,9,   -999.0,-999.0000, -999,9,  301,  16.5831,  25.4057,   -999.0,9
       RF06-10,  137E,RF-2792,  1,     11,02-18565,2,20061024,1659, 24.9927, 136.9920, 5192,    403.7,  14.6315,  34.5678,2,   -999.0,9,  34.5680,2,    186.4,2,    11.57,2,  -999.00,9,    10.73,2,     0.00,2,     0.64,2, -999.000,9, -999.000,9,  -999.00,9,   2067.8,2,   -999.0,9,   7.8720,2,     25.0, TS,  -999.00,9,   -999.0,  -999.00,9,  -999.00,9,  -999.00,9,  -999.00,9,   -999.0,-999.0000, -999,9,  401,  14.5712,  25.7318,   -999.0,9
       RF06-10,  137E,RF-2792,  1,     10,02-18564,2,20061024,1656, 24.9927, 136.9920, 5192,    505.8,  11.2629,  34.3322,2,   -999.0,9,-999.0000,9,    171.6,2,    25.36,2,  -999.00,9,    17.80,2,     0.00,2,     1.15,2, -999.000,9, -999.000,9,  -999.00,9,   2118.4,2,   -999.0,9,   7.7624,2,     25.0, TS,  -999.00,9,   -999.0,  -999.00,9,  -999.00,9,  -999.00,9,  -999.00,9,   -999.0,-999.0000, -999,9,  502,  11.1992,  26.2194,   -999.0,9
       RF06-10,  137E,RF-2792,  1,      9,02-18563,2,20061024,1654, 24.9927, 136.9920, 5192,    605.8,   8.4768,  34.1649,2,   -999.0,9,  34.1653,2,    151.1,2,    42.91,2,  -999.00,9,    24.56,2,     0.00,2,     1.69,2, -999.000,9, -999.000,9,  -999.00,9,   2166.1,2,   -999.0,9,   7.6498,2,     25.0, TS,  -999.00,9,   -999.0,  -999.00,9,  -999.00,9,  -999.00,9,  -999.00,9,   -999.0,-999.0000, -999,9,  601,   8.4125,  26.5558,   -999.0,9
       RF06-10,  137E,RF-2792,  1,      8,02-18562,2,20061024,1651, 24.9927, 136.9920, 5192,    706.9,   6.0843,  34.1230,2,   -999.0,9,-999.0000,9,    109.0,2,    70.70,2,  -999.00,9,    32.15,2,     0.00,2,     2.29,2, -999.000,9, -999.000,9,  -999.00,9,   2230.6,2,   -999.0,9,   7.5208,2,     25.0, TS,  -999.00,9,   -999.0,  -999.00,9,  -999.00,9,  -999.00,9,  -999.00,9,   -999.0,-999.0000, -999,9,  701,   6.0215,  26.8569,   -999.0,9
       RF06-10,  137E,RF-2792,  1,      7,02-18561,2,20061024,1648, 24.9927, 136.9920, 5192,    808.0,   5.0549,  34.1930,2,   -999.0,9,  34.1898,4,     79.3,2,    89.69,2,  -999.00,9,    36.32,2,     0.00,2,     2.62,2, -999.000,9, -999.000,9,  -999.00,9,   2273.7,2,   -999.0,9,   7.4572,2,     25.0, TS,  -999.00,9,   -999.0,  -999.00,9,  -999.00,9,  -999.00,9,  -999.00,9,   -999.0,-999.0000, -999,9,  801,   4.9888,  27.0367,   -999.0,9
       RF06-10,  137E,RF-2792,  1,      6,02-18560,2,20061024,1645, 24.9927, 136.9920, 5192,    910.1,   4.0479,  34.3015,2,   -999.0,9,-999.0000,9,     57.2,2,   112.37,2,  -999.00,9,    39.50,2,     0.00,2,     2.86,2, -999.000,9, -999.000,9,  -999.00,9,   2315.1,2,   -999.0,9,   7.4105,2,     25.0, TS,  -999.00,9,   -999.0,  -999.00,9,  -999.00,9,  -999.00,9,  -999.00,9,   -999.0,-999.0000, -999,9,  902,   3.9796,  27.2326,   -999.0,9
       RF06-10,  137E,RF-2792,  1,      5,02-18559,2,20061024,1641, 24.9927, 136.9920, 5192,   1009.2,   3.6567,  34.3583,2,   -999.0,9,  34.3571,2,     53.4,2,   121.18,2,  -999.00,9,    40.24,2,     0.00,2,     2.93,2, -999.000,9, -999.000,9,  -999.00,9,   2330.2,2,   -999.0,9,   7.4112,2,     25.0, TS,  -999.00,9,   -999.0,  -999.00,9,  -999.00,9,  -999.00,9,  -999.00,9,   -999.0,-999.0000, -999,9, 1000,   3.5832,  27.3177,   -999.0,9
       RF06-10,  137E,RF-2792,  1,      4,02-18558,2,20061024,1636, 24.9927, 136.9920, 5192,   1261.0,   2.9814,  34.4760,2,   -999.0,9,  34.4758,2,     64.2,2,   133.56,2,  -999.00,9,    40.29,2,     0.00,2,     2.93,2, -999.000,9, -999.000,9,  -999.00,9,   2343.4,2,   -999.0,9,   7.4342,2,     25.0, TS,  -999.00,9,   -999.0,  -999.00,9,  -999.00,9,  -999.00,9,  -999.00,9,   -999.0,-999.0000, -999,9, 1249,   2.8935,  27.4765,   -999.0,9
       RF06-10,  137E,RF-2792,  1,      3,02-18557,2,20061024,1631, 24.9927, 136.9920, 5192,   1516.3,   2.5053,  34.5471,2,   -999.0,9,  34.5472,2,     84.7,2,   139.37,2,  -999.00,9,    39.33,2,     0.00,2,     2.84,2, -999.000,9, -999.000,9,  -999.00,9,   2336.7,3,   -999.0,9,   7.4749,2,     25.0, TS,  -999.00,9,   -999.0,  -999.00,9,  -999.00,9,  -999.00,9,  -999.00,9,   -999.0,-999.0000, -999,9, 1501,   2.4019,  27.5760,   -999.0,9
       RF06-10,  137E,RF-2792,  1,      2,02-18556,2,20061024,1625, 24.9927, 136.9920, 5192,   1769.3,   2.2051,  34.5858,2,   -999.0,9,  34.5857,2,     98.4,2,   141.57,2,  -999.00,9,    38.64,2,     0.00,2,     2.77,2, -999.000,9, -999.000,9,  -999.00,9,   2335.7,2,   -999.0,9,   7.5027,2,     25.0, TS,  -999.00,9,   -999.0,  -999.00,9,  -999.00,9,  -999.00,9,  -999.00,9,   -999.0,-999.0000, -999,9, 1751,   2.0850,  27.6331,   -999.0,9
       RF06-10,  137E,RF-2792,  1,      1,02-18555,2,20061024,1620, 24.9927, 136.9920, 5192,   2022.5,   1.9772,  34.6207,2,   -999.0,9,  34.6205,2,    119.3,2,   141.53,2,  -999.00,9,    37.84,2,     0.00,2,     2.69,2, -999.000,9, -999.000,9,  -999.00,9,   2333.1,3,   -999.0,9,   7.5340,6,     25.0, TS,  -999.00,9,   -999.0,  -999.00,9,  -999.00,9,  -999.00,9,  -999.00,9,   -999.0,-999.0000, -999,9, 2000,   1.8393,  27.6804,   -999.0,9