BOTTLE,20130510GEMDJMAYT
EXPOCODE,SECT_ID,STNNBR,CASTNO,SAMPNO,BTLNBR,BTLNBR_FLAG_W,DATE,TIME,LATITUDE,LONGITUDE,DEPTH,CTDPRS,CTDTMP,CTDSAL,CTDSAL_FLAG_W,CTDOXY,CTDOXY_FLAG_W,SALNTY,SALNTY_FLAG_W,OXYGEN,OXYGEN_FLAG_W,SILCAT,SILCAT_FLAG_W,NITRAT,NITRAT_FLAG_W,NO2+NO3,NO2+NO3_FLAG_W,NITRIT,NITRIT_FLAG_W,PHSPHT,PHSPHT_FLAG_W,CFC-11,CFC-11_FLAG_W,CFC-12,CFC-12_FLAG_W,DELC13,DELC13_FLAG_W,TCARBN,TCARBN_FLAG_W,ALKALI,ALKALI_FLAG_W,PH,PH_FLAG_W,PH_TMP,PH_SCALE,PH_NBS,PH_NBS_FLAG_W,C13ERR,TOTALP,TOTALP_FLAG_W,AMMONI,AMMONI_FLAG_W,CHLORA,CHLORA_FLAG_W,PPHYTN,PPHYTN_FLAG_W,REVPRS,REVTMP,DEPTH_,DEPTH_FLAG,CTDDEP,THETA,SIGTHT,DOC,DOC_FLAG_W
,,,,,,,GMT,GMT,,,METER,DBAR,ITS-90,PSS-78,,UMOL/KG,,PSS-78,,UMOL/KG,,UMOL/KG,,UMOL/KG,,UMOL/KG,,UMOL/KG,,UMOL/KG,,PMOL/KG,,PMOL/KG,,/MILLE,,UMOL/KG,,UMOL/KG,,25_DEG_C,,DEG_C,,,,/MILLE,UMOL/KG,,UMOL/KG,,UG/L,,UG/L,,DBAR,ITS-90,METERS,,METERS,DEG_C,,UMOL/L,
       RF06-10,  137E,RF-2782,  1,     -9,      -9,5,20061022,1250, 32.0180, 136.9882, 4239,      0.0,  24.4602,  34.4170,2,   -999.0,9,-999.0000,9,    211.7,2,     1.85,2,  -999.00,9,     0.06,2,     0.00,2,     0.01,2, -999.000,9, -999.000,9,  -999.00,9,   1940.8,2,   -999.0,9,-999.0000,9,   -999.0,  9,  -999.00,9,   -999.0,  -999.00,9,  -999.00,9,     0.11,2,     0.02,2,   -999.0,-999.0000, -999,9,    0,  24.4600,  23.0633,   -999.0,9
       RF06-10,  137E,RF-2782,  1,     21,02-18575,2,20061022,1302, 32.0180, 136.9882, 4239,     10.5,  24.4723,  34.4195,2,   -999.0,9,  34.4185,2,    210.2,2,     1.85,2,  -999.00,9,     0.06,2,     0.00,2,     0.02,2, -999.000,9, -999.000,9,  -999.00,9,   -999.0,9,   -999.0,9,-999.0000,9,   -999.0,  9,  -999.00,9,   -999.0,  -999.00,9,  -999.00,9,     0.11,2,     0.02,2,   -999.0,-999.0000, -999,9,   10,  24.4701,  23.0622,   -999.0,9
       RF06-10,  137E,RF-2782,  1,     20,02-18574,2,20061022,1301, 32.0180, 136.9882, 4239,     25.0,  24.4745,  34.4208,2,   -999.0,9,-999.0000,9,    211.0,2,     1.89,2,  -999.00,9,     0.06,2,     0.00,2,     0.01,2, -999.000,9, -999.000,9,  -999.00,9,   -999.0,9,   -999.0,9,-999.0000,9,   -999.0,  9,  -999.00,9,   -999.0,  -999.00,9,  -999.00,9,     0.10,2,     0.02,2,   -999.0,-999.0000, -999,9,   25,  24.4692,  23.0634,   -999.0,9
       RF06-10,  137E,RF-2782,  1,     19,02-18573,2,20061022,1300, 32.0180, 136.9882, 4239,     51.1,  24.4668,  34.4210,2,   -999.0,9,-999.0000,9,    209.5,2,     1.81,2,  -999.00,9,     0.05,2,     0.00,2,     0.01,2, -999.000,9, -999.000,9,  -999.00,9,   -999.0,9,   -999.0,9,-999.0000,9,   -999.0,  9,  -999.00,9,   -999.0,  -999.00,9,  -999.00,9,     0.12,2,     0.03,2,   -999.0,-999.0000, -999,9,   51,  24.4559,  23.0676,   -999.0,9
       RF06-10,  137E,RF-2782,  1,     18,02-18572,2,20061022,1259, 32.0180, 136.9882, 4239,     74.0,  20.9589,  34.8129,2,   -999.0,9,-999.0000,9,    223.9,2,     1.87,2,  -999.00,9,     0.08,2,     0.01,2,     0.02,2, -999.000,9, -999.000,9,  -999.00,9,   -999.0,9,   -999.0,9,-999.0000,9,   -999.0,  9,  -999.00,9,   -999.0,  -999.00,9,  -999.00,9,     0.29,2,     0.26,2,   -999.0,-999.0000, -999,9,   73,  20.9448,  24.3665,   -999.0,9
       RF06-10,  137E,RF-2782,  1,     17,02-18571,2,20061022,1258, 32.0180, 136.9882, 4239,    101.2,  19.4102,  34.8405,2,   -999.0,9,  34.8414,2,    219.3,2,     2.02,2,  -999.00,9,     0.71,2,     0.07,2,     0.06,2, -999.000,9, -999.000,9,  -999.00,9,   -999.0,9,   -999.0,9,-999.0000,9,   -999.0,  9,  -999.00,9,   -999.0,  -999.00,9,  -999.00,9,     0.19,2,     0.30,2,   -999.0,-999.0000, -999,9,  101,  19.3919,  24.7987,   -999.0,9
       RF06-10,  137E,RF-2782,  1,     16,02-18570,2,20061022,1257, 32.0180, 136.9882, 4239,    125.7,  19.0475,  34.8418,2,   -999.0,9,-999.0000,9,    217.6,2,     2.07,2,  -999.00,9,     1.04,2,     0.04,2,     0.08,2, -999.000,9, -999.000,9,  -999.00,9,   -999.0,9,   -999.0,9,-999.0000,9,   -999.0,  9,  -999.00,9,   -999.0,  -999.00,9,  -999.00,9,     0.08,2,     0.16,2,   -999.0,-999.0000, -999,9,  125,  19.0251,  24.8938,   -999.0,9
       RF06-10,  137E,RF-2782,  1,     15,02-18569,2,20061022,1255, 32.0180, 136.9882, 4239,    150.1,  18.7505,  34.8487,2,   -999.0,9,-999.0000,9,    211.6,2,     2.40,2,  -999.00,9,     2.24,2,     0.02,2,     0.12,2, -999.000,9, -999.000,9,  -999.00,9,   -999.0,9,   -999.0,9,-999.0000,9,   -999.0,  9,  -999.00,9,   -999.0,  -999.00,9,  -999.00,9,     0.02,2,     0.04,2,   -999.0,-999.0000, -999,9,  149,  18.7240,  24.9755,   -999.0,9
       RF06-10,  137E,RF-2782,  1,     14,02-18568,2,20061022,1254, 32.0180, 136.9882, 4239,    202.3,  18.5879,  34.8539,2,   -999.0,9,  34.8544,2,    216.2,2,     2.46,2,  -999.00,9,     2.33,2,     0.01,2,     0.13,2, -999.000,9, -999.000,9,  -999.00,9,   -999.0,9,   -999.0,9,-999.0000,9,   -999.0,  9,  -999.00,9,   -999.0,  -999.00,9,  -999.00,9,     0.01,2,     0.02,2,   -999.0,-999.0000, -999,9,  201,  18.5524,  25.0227,   -999.0,9
       RF06-10,  137E,RF-2782,  1,     13,02-18567,2,20061022,1252, 32.0180, 136.9882, 4239,    250.4,  18.4448,  34.8570,2,   -999.0,9,-999.0000,9,    214.6,2,     2.56,2,  -999.00,9,     2.31,2,     0.01,2,     0.13,2, -999.000,9, -999.000,9,  -999.00,9,   -999.0,9,   -999.0,9,-999.0000,9,   -999.0,  9,  -999.00,9,   -999.0,  -999.00,9,  -999.00,9,  -999.00,9,  -999.00,9,   -999.0,-999.0000, -999,9,  248,  18.4010,  25.0630,   -999.0,9
       RF06-10,  137E,RF-2782,  1,     12,02-18348,2,20061022,1251, 32.0180, 136.9882, 4239,    302.1,  18.3385,  34.8560,2,   -999.0,9,  34.8560,2,    214.5,2,     2.60,2,  -999.00,9,     2.50,2,     0.00,2,     0.13,2, -999.000,9, -999.000,9,  -999.00,9,   -999.0,9,   -999.0,9,-999.0000,9,   -999.0,  9,  -999.00,9,   -999.0,  -999.00,9,  -999.00,9,  -999.00,9,  -999.00,9,   -999.0,-999.0000, -999,9,  300,  18.2859,  25.0910,   -999.0,9
       RF06-10,  137E,RF-2782,  1,     11,02-18565,2,20061022,1248, 32.0180, 136.9882, 4239,    405.0,  17.9020,  34.8298,2,   -999.0,9,  34.8298,2,    207.9,2,     3.36,2,  -999.00,9,     3.71,2,     0.00,2,     0.20,2, -999.000,9, -999.000,9,  -999.00,9,   -999.0,9,   -999.0,9,-999.0000,9,   -999.0,  9,  -999.00,9,   -999.0,  -999.00,9,  -999.00,9,  -999.00,9,  -999.00,9,   -999.0,-999.0000, -999,9,  402,  17.8325,  25.1828,   -999.0,9
       RF06-10,  137E,RF-2782,  1,     10,02-18564,2,20061022,1246, 32.0180, 136.9882, 4239,    504.2,  16.6216,  34.7284,2,   -999.0,9,-999.0000,9,    197.0,2,     6.24,2,  -999.00,9,     6.90,2,     0.00,2,     0.37,2, -999.000,9, -999.000,9,  -999.00,9,   -999.0,9,   -999.0,9,-999.0000,9,   -999.0,  9,  -999.00,9,   -999.0,  -999.00,9,  -999.00,9,  -999.00,9,  -999.00,9,   -999.0,-999.0000, -999,9,  500,  16.5392,  25.4142,   -999.0,9
       RF06-10,  137E,RF-2782,  1,      9,02-18563,2,20061022,1243, 32.0180, 136.9882, 4239,    606.0,  14.3300,  34.5460,2,   -999.0,9,  34.5474,2,    185.2,2,    13.33,2,  -999.00,9,    11.80,2,     0.00,2,     0.70,2, -999.000,9, -999.000,9,  -999.00,9,   -999.0,9,   -999.0,9,-999.0000,9,   -999.0,  9,  -999.00,9,   -999.0,  -999.00,9,  -999.00,9,  -999.00,9,  -999.00,9,   -999.0,-999.0000, -999,9,  601,  14.2402,  25.7856,   -999.0,9
       RF06-10,  137E,RF-2782,  1,      8,02-18562,2,20061022,1241, 32.0180, 136.9882, 4239,    704.0,  11.5845,  34.3542,2,   -999.0,9,-999.0000,9,    171.8,2,    24.22,2,  -999.00,9,    17.35,2,     0.00,2,     1.11,2, -999.000,9, -999.000,9,  -999.00,9,   -999.0,9,   -999.0,9,-999.0000,9,   -999.0,  9,  -999.00,9,   -999.0,  -999.00,9,  -999.00,9,  -999.00,9,  -999.00,9,   -999.0,-999.0000, -999,9,  698,  11.4934,  26.1825,   -999.0,9
       RF06-10,  137E,RF-2782,  1,      7,02-18561,2,20061022,1238, 32.0180, 136.9882, 4239,    809.5,   8.7872,  34.1978,2,   -999.0,9,  34.1995,2,    151.9,2,    42.48,2,  -999.00,9,    24.00,2,     0.00,2,     1.63,2, -999.000,9, -999.000,9,  -999.00,9,   -999.0,9,   -999.0,9,-999.0000,9,   -999.0,  9,  -999.00,9,   -999.0,  -999.00,9,  -999.00,9,  -999.00,9,  -999.00,9,   -999.0,-999.0000, -999,9,  802,   8.6984,  26.5374,   -999.0,9
       RF06-10,  137E,RF-2782,  1,      6,02-18560,2,20061022,1236, 32.0180, 136.9882, 4239,    906.3,   6.7047,  34.1679,2,   -999.0,9,-999.0000,9,    115.1,2,    65.96,2,  -999.00,9,    30.74,2,     0.00,2,     2.17,2, -999.000,9, -999.000,9,  -999.00,9,   -999.0,9,   -999.0,9,-999.0000,9,   -999.0,  9,  -999.00,9,   -999.0,  -999.00,9,  -999.00,9,  -999.00,9,  -999.00,9,   -999.0,-999.0000, -999,9,  898,   6.6186,  26.8149,   -999.0,9
       RF06-10,  137E,RF-2782,  1,      5,02-18559,2,20061022,1233, 32.0180, 136.9882, 4239,   1009.7,   5.4508,  34.2080,2,   -999.0,9,  34.2105,2,     87.0,2,    85.69,2,  -999.00,9,    35.10,2,     0.00,2,     2.52,2, -999.000,9, -999.000,9,  -999.00,9,   -999.0,9,   -999.0,9,-999.0000,9,   -999.0,  9,  -999.00,9,   -999.0,  -999.00,9,  -999.00,9,  -999.00,9,  -999.00,9,   -999.0,-999.0000, -999,9, 1000,   5.3636,  27.0048,   -999.0,9
       RF06-10,  137E,RF-2782,  1,      4,02-18558,2,20061022,1228, 32.0180, 136.9882, 4239,   1260.7,   3.7952,  34.3825,2,   -999.0,9,  34.3824,2,     61.9,2,   118.66,2,  -999.00,9,    39.33,2,     0.00,2,     2.84,2, -999.000,9, -999.000,9,  -999.00,9,   -999.0,9,   -999.0,9,-999.0000,9,   -999.0,  9,  -999.00,9,   -999.0,  -999.00,9,  -999.00,9,  -999.00,9,  -999.00,9,   -999.0,-999.0000, -999,9, 1248,   3.6996,  27.3254,   -999.0,9
       RF06-10,  137E,RF-2782,  1,      3,02-18557,2,20061022,1223, 32.0180, 136.9882, 4239,   1514.7,   2.9769,  34.4837,2,   -999.0,9,  34.4841,2,     71.5,2,   133.15,2,  -999.00,9,    39.59,2,     0.00,2,     2.86,2, -999.000,9, -999.000,9,  -999.00,9,   -999.0,9,   -999.0,9,-999.0000,9,   -999.0,  9,  -999.00,9,   -999.0,  -999.00,9,  -999.00,9,  -999.00,9,  -999.00,9,   -999.0,-999.0000, -999,9, 1499,   2.8683,  27.4849,   -999.0,9
       RF06-10,  137E,RF-2782,  1,      2,02-18556,2,20061022,1218, 32.0180, 136.9882, 4239,   1770.1,   2.4822,  34.5425,2,   -999.0,9,  34.5422,2,     85.2,2,   140.05,2,  -999.00,9,    39.23,2,     0.00,2,     2.82,2, -999.000,9, -999.000,9,  -999.00,9,   -999.0,9,   -999.0,9,-999.0000,9,   -999.0,  9,  -999.00,9,   -999.0,  -999.00,9,  -999.00,9,  -999.00,9,  -999.00,9,   -999.0,-999.0000, -999,9, 1750,   2.3584,  27.5760,   -999.0,9
       RF06-10,  137E,RF-2782,  1,      1,02-18555,2,20061022,1212, 32.0180, 136.9882, 4239,   2025.0,   2.1728,  34.5834,2,   -999.0,9,  34.5838,2,     98.5,2,   142.72,2,  -999.00,9,    38.57,2,     0.00,2,     2.76,2, -999.000,9, -999.000,9,  -999.00,9,   -999.0,9,   -999.0,9,-999.0000,9,   -999.0,  9,  -999.00,9,   -999.0,  -999.00,9,  -999.00,9,  -999.00,9,  -999.00,9,   -999.0,-999.0000, -999,9, 2001,   2.0318,  27.6354,   -999.0,9