BOTTLE,20130510GEMDJMAYT
EXPOCODE,SECT_ID,STNNBR,CASTNO,SAMPNO,BTLNBR,BTLNBR_FLAG_W,DATE,TIME,LATITUDE,LONGITUDE,DEPTH,CTDPRS,CTDTMP,CTDSAL,CTDSAL_FLAG_W,CTDOXY,CTDOXY_FLAG_W,SALNTY,SALNTY_FLAG_W,OXYGEN,OXYGEN_FLAG_W,SILCAT,SILCAT_FLAG_W,NITRAT,NITRAT_FLAG_W,NO2+NO3,NO2+NO3_FLAG_W,NITRIT,NITRIT_FLAG_W,PHSPHT,PHSPHT_FLAG_W,CFC-11,CFC-11_FLAG_W,CFC-12,CFC-12_FLAG_W,DELC13,DELC13_FLAG_W,TCARBN,TCARBN_FLAG_W,ALKALI,ALKALI_FLAG_W,PH,PH_FLAG_W,PH_TMP,PH_SCALE,PH_NBS,PH_NBS_FLAG_W,C13ERR,TOTALP,TOTALP_FLAG_W,AMMONI,AMMONI_FLAG_W,CHLORA,CHLORA_FLAG_W,PPHYTN,PPHYTN_FLAG_W,REVPRS,REVTMP,DEPTH_,DEPTH_FLAG,CTDDEP,THETA,SIGTHT,DOC,DOC_FLAG_W
,,,,,,,GMT,GMT,,,METER,DBAR,ITS-90,PSS-78,,UMOL/KG,,PSS-78,,UMOL/KG,,UMOL/KG,,UMOL/KG,,UMOL/KG,,UMOL/KG,,UMOL/KG,,PMOL/KG,,PMOL/KG,,/MILLE,,UMOL/KG,,UMOL/KG,,25_DEG_C,,DEG_C,,,,/MILLE,UMOL/KG,,UMOL/KG,,UG/L,,UG/L,,DBAR,ITS-90,METERS,,METERS,DEG_C,,UMOL/L,
       RF06-10,  137E,RF-2787,  1,     -9,      -9,5,20061023,0917, 30.0168, 136.9887, 4528,      0.0,  25.8501,  34.8157,2,   -999.0,9,-999.0000,9,    204.5,2,     1.90,2,  -999.00,9,     0.00,2,     0.00,2,     0.01,2, -999.000,9, -999.000,9,  -999.00,9,   1953.3,2,   -999.0,9,   8.0920,2,     25.0, TS,  -999.00,9,   -999.0,  -999.00,9,  -999.00,9,     0.06,2,     0.02,2,   -999.0,-999.0000, -999,9,    0,  25.8499,  22.9409,   -999.0,9
       RF06-10,  137E,RF-2787,  1,     21,02-18575,2,20061023,0931, 30.0168, 136.9887, 4528,     10.5,  25.8438,  34.8131,2,   -999.0,9,  34.8097,4,    203.2,2,     1.84,2,  -999.00,9,     0.00,2,     0.00,2,     0.01,2, -999.000,9, -999.000,9,  -999.00,9,   1954.6,2,   -999.0,9,   8.0952,2,     25.0, TS,  -999.00,9,   -999.0,  -999.00,9,  -999.00,9,     0.06,2,     0.02,2,   -999.0,-999.0000, -999,9,   10,  25.8415,  22.9416,   -999.0,9
       RF06-10,  137E,RF-2787,  1,     20,02-18574,2,20061023,0930, 30.0168, 136.9887, 4528,     25.0,  25.6918,  34.8011,2,   -999.0,9,-999.0000,9,    205.4,2,     1.83,2,  -999.00,9,     0.01,2,     0.00,2,     0.01,2, -999.000,9, -999.000,9,  -999.00,9,   1953.6,2,   -999.0,9,   8.0959,2,     25.0, TS,  -999.00,9,   -999.0,  -999.00,9,  -999.00,9,     0.08,2,     0.02,2,   -999.0,-999.0000, -999,9,   25,  25.6863,  22.9806,   -999.0,9
       RF06-10,  137E,RF-2787,  1,     19,02-18573,2,20061023,0929, 30.0168, 136.9887, 4528,     50.7,  25.6432,  34.7950,2,   -999.0,9,-999.0000,9,    205.6,2,     1.77,2,  -999.00,9,     0.00,2,     0.00,2,     0.01,2, -999.000,9, -999.000,9,  -999.00,9,   1953.2,2,   -999.0,9,   8.0937,2,     25.0, TS,  -999.00,9,   -999.0,  -999.00,9,  -999.00,9,     0.10,2,     0.03,2,   -999.0,-999.0000, -999,9,   50,  25.6320,  22.9928,   -999.0,9
       RF06-10,  137E,RF-2787,  1,     18,02-18572,2,20061023,0928, 30.0168, 136.9887, 4528,     75.5,  23.2903,  34.8327,2,   -999.0,9,-999.0000,9,   -999.0,4,     2.04,2,  -999.00,9,     0.00,2,     0.00,2,     0.01,2, -999.000,9, -999.000,9,  -999.00,9,   1973.1,3,   -999.0,9,   8.0661,2,     25.0, TS,  -999.00,9,   -999.0,  -999.00,9,  -999.00,9,     0.17,2,     0.11,2,   -999.0,-999.0000, -999,9,   75,  23.2748,  23.7273,   -999.0,9
       RF06-10,  137E,RF-2787,  1,     17,02-18571,2,20061023,0927, 30.0168, 136.9887, 4528,    100.5,  20.6414,  34.8768,2,   -999.0,9,  34.8751,2,    217.8,2,     2.22,2,  -999.00,9,     0.08,2,     0.07,2,     0.02,2, -999.000,9, -999.000,9,  -999.00,9,   1992.8,2,   -999.0,9,   8.0354,2,     25.0, TS,  -999.00,9,   -999.0,  -999.00,9,  -999.00,9,     0.23,2,     0.34,2,   -999.0,-999.0000, -999,9,  100,  20.6224,  24.5022,   -999.0,9
       RF06-10,  137E,RF-2787,  1,     16,02-18570,2,20061023,0925, 30.0168, 136.9887, 4528,    126.0,  19.4971,  34.8585,2,   -999.0,9,-999.0000,9,    208.7,2,     2.62,2,  -999.00,9,     1.33,2,     0.03,2,     0.08,2, -999.000,9, -999.000,9,  -999.00,9,   2006.4,2,   -999.0,9,   8.0141,2,     25.0, TS,  -999.00,9,   -999.0,  -999.00,9,  -999.00,9,     0.09,2,     0.21,2,   -999.0,-999.0000, -999,9,  125,  19.4743,  24.7912,   -999.0,9
       RF06-10,  137E,RF-2787,  1,     15,02-18569,2,20061023,0924, 30.0168, 136.9887, 4528,    152.2,  18.9361,  34.8507,2,   -999.0,9,-999.0000,9,    207.0,2,     2.91,2,  -999.00,9,     2.37,2,     0.01,2,     0.13,2, -999.000,9, -999.000,9,  -999.00,9,   2009.0,2,   -999.0,9,   8.0033,2,     25.0, TS,  -999.00,9,   -999.0,  -999.00,9,  -999.00,9,     0.03,2,     0.08,2,   -999.0,-999.0000, -999,9,  151,  18.9091,  24.9302,   -999.0,9
       RF06-10,  137E,RF-2787,  1,     14,02-18568,2,20061023,0923, 30.0168, 136.9887, 4528,    202.4,  18.4463,  34.8456,2,   -999.0,9,  34.8478,2,    205.3,2,     3.29,2,  -999.00,9,     3.11,2,     0.00,2,     0.17,2, -999.000,9, -999.000,9,  -999.00,9,   2013.3,3,   -999.0,9,   7.9952,2,     25.0, TS,  -999.00,9,   -999.0,  -999.00,9,  -999.00,9,     0.01,2,     0.01,2,   -999.0,-999.0000, -999,9,  201,  18.4110,  25.0518,   -999.0,9
       RF06-10,  137E,RF-2787,  1,     13,02-18567,2,20061023,0921, 30.0168, 136.9887, 4528,    251.5,  17.9354,  34.8221,2,   -999.0,9,-999.0000,9,    203.4,2,     4.03,2,  -999.00,9,     4.12,2,     0.00,2,     0.22,2, -999.000,9, -999.000,9,  -999.00,9,   2019.6,2,   -999.0,9,   7.9799,2,     25.0, TS,  -999.00,9,   -999.0,  -999.00,9,  -999.00,9,  -999.00,9,  -999.00,9,   -999.0,-999.0000, -999,9,  250,  17.8923,  25.1623,   -999.0,9
       RF06-10,  137E,RF-2787,  1,     12,02-18348,2,20061023,0919, 30.0168, 136.9887, 4528,    301.6,  17.3950,  34.7884,2,   -999.0,9,  34.7875,2,    200.0,2,     4.94,2,  -999.00,9,     5.31,2,     0.00,2,     0.28,2, -999.000,9, -999.000,9,  -999.00,9,   2029.4,2,   -999.0,9,   7.9619,2,     25.0, TS,  -999.00,9,   -999.0,  -999.00,9,  -999.00,9,  -999.00,9,  -999.00,9,   -999.0,-999.0000, -999,9,  299,  17.3444,  25.2695,   -999.0,9
       RF06-10,  137E,RF-2787,  1,     11,02-18565,2,20061023,0917, 30.0168, 136.9887, 4528,    402.8,  15.7951,  34.6610,2,   -999.0,9,  34.6526,4,    189.2,2,     9.35,2,  -999.00,9,     8.91,2,     0.00,2,     0.52,2, -999.000,9, -999.000,9,  -999.00,9,   2054.8,2,   -999.0,9,   7.9041,2,     25.0, TS,  -999.00,9,   -999.0,  -999.00,9,  -999.00,9,  -999.00,9,  -999.00,9,   -999.0,-999.0000, -999,9,  400,  15.7317,  25.5478,   -999.0,9
       RF06-10,  137E,RF-2787,  1,     10,02-18564,2,20061023,0914, 30.0168, 136.9887, 4528,    503.6,  13.1758,  34.4705,2,   -999.0,9,-999.0000,9,    178.2,2,    18.40,2,  -999.00,9,    14.04,2,     0.00,2,     0.88,2, -999.000,9, -999.000,9,  -999.00,9,   2090.5,2,   -999.0,9,   7.8261,2,     25.0, TS,  -999.00,9,   -999.0,  -999.00,9,  -999.00,9,  -999.00,9,  -999.00,9,   -999.0,-999.0000, -999,9,  500,  13.1055,  25.9615,   -999.0,9
       RF06-10,  137E,RF-2787,  1,      9,02-18563,2,20061023,0912, 30.0168, 136.9887, 4528,    604.8,  10.5776,  34.2972,2,   -999.0,9,  34.3021,4,    166.5,2,    30.67,2,  -999.00,9,    19.41,2,     0.00,2,     1.29,2, -999.000,9, -999.000,9,  -999.00,9,   2129.1,2,   -999.0,9,   7.7386,2,     25.0, TS,  -999.00,9,   -999.0,  -999.00,9,  -999.00,9,  -999.00,9,  -999.00,9,   -999.0,-999.0000, -999,9,  600,  10.5041,  26.3162,   -999.0,9
       RF06-10,  137E,RF-2787,  1,      8,02-18562,2,20061023,0909, 30.0168, 136.9887, 4528,    706.3,   9.0336,  34.2498,2,   -999.0,9,-999.0000,9,    141.8,2,    45.88,2,  -999.00,9,    24.49,2,     0.00,2,     1.68,2, -999.000,9, -999.000,9,  -999.00,9,   2172.9,2,   -999.0,9,   7.6585,2,     25.0, TS,  -999.00,9,   -999.0,  -999.00,9,  -999.00,9,  -999.00,9,  -999.00,9,   -999.0,-999.0000, -999,9,  700,   8.9552,  26.5378,   -999.0,9
       RF06-10,  137E,RF-2787,  1,      7,02-18561,2,20061023,0907, 30.0168, 136.9887, 4528,    807.6,   6.9357,  34.1401,2,   -999.0,9,  34.1411,2,    123.5,2,    62.13,2,  -999.00,9,    29.56,2,     0.00,2,     2.09,2, -999.000,9, -999.000,9,  -999.00,9,   2210.4,2,   -999.0,9,   7.5668,2,     25.0, TS,  -999.00,9,   -999.0,  -999.00,9,  -999.00,9,  -999.00,9,  -999.00,9,   -999.0,-999.0000, -999,9,  801,   6.8582,  26.7607,   -999.0,9
       RF06-10,  137E,RF-2787,  1,      6,02-18560,2,20061023,0904, 30.0168, 136.9887, 4528,    908.0,   5.4504,  34.2057,2,   -999.0,9,-999.0000,9,     85.1,2,    87.15,2,  -999.00,9,    35.15,2,     0.00,2,     2.54,2, -999.000,9, -999.000,9,  -999.00,9,   2260.8,3,   -999.0,9,   7.4761,2,     25.0, TS,  -999.00,9,   -999.0,  -999.00,9,  -999.00,9,  -999.00,9,  -999.00,9,   -999.0,-999.0000, -999,9,  900,   5.3727,  27.0019,   -999.0,9
       RF06-10,  137E,RF-2787,  1,      5,02-18559,2,20061023,0902, 30.0168, 136.9887, 4528,   1010.0,   4.4351,  34.2744,2,   -999.0,9,  34.2755,2,     64.4,2,   106.39,2,  -999.00,9,    38.30,2,     0.00,2,     2.78,2, -999.000,9, -999.000,9,  -999.00,9,   2302.8,3,   -999.0,9,   7.4303,2,     25.0, TS,  -999.00,9,   -999.0,  -999.00,9,  -999.00,9,  -999.00,9,  -999.00,9,   -999.0,-999.0000, -999,9, 1001,   4.3556,  27.1716,   -999.0,9
       RF06-10,  137E,RF-2787,  1,      4,02-18558,2,20061023,0857, 30.0168, 136.9887, 4528,   1262.9,   3.1877,  34.4123,2,   -999.0,9,  34.4133,2,     50.0,3,   133.80,2,  -999.00,9,    40.94,2,     0.00,2,     2.97,2, -999.000,9, -999.000,9,  -999.00,9,   2344.4,3,   -999.0,9,   7.3984,2,     25.0, TS,  -999.00,9,   -999.0,  -999.00,9,  -999.00,9,  -999.00,9,  -999.00,9,   -999.0,-999.0000, -999,9, 1251,   3.0977,  27.4070,   -999.0,9
       RF06-10,  137E,RF-2787,  1,      3,02-18557,2,20061023,0852, 30.0168, 136.9887, 4528,   1517.3,   2.6975,  34.5108,2,   -999.0,9,  34.5127,2,     74.6,2,   139.06,2,  -999.00,9,    39.72,2,     0.00,2,     2.86,2, -999.000,9, -999.000,9,  -999.00,9,   2339.9,3,   -999.0,9,   7.4625,2,     25.0, TS,  -999.00,9,   -999.0,  -999.00,9,  -999.00,9,  -999.00,9,  -999.00,9,   -999.0,-999.0000, -999,9, 1502,   2.5919,  27.5308,   -999.0,9
       RF06-10,  137E,RF-2787,  1,      2,02-18556,2,20061023,0847, 30.0168, 136.9887, 4528,   1770.2,   2.2805,  34.5657,2,   -999.0,9,  34.5670,2,     91.4,2,   143.56,2,  -999.00,9,    38.95,2,     0.00,2,     2.79,2, -999.000,9, -999.000,9,  -999.00,9,   2339.2,3,   -999.0,9,   7.4876,2,     25.0, TS,  -999.00,9,   -999.0,  -999.00,9,  -999.00,9,  -999.00,9,  -999.00,9,   -999.0,-999.0000, -999,9, 1751,   2.1593,  27.6109,   -999.0,9
       RF06-10,  137E,RF-2787,  1,      1,02-18555,2,20061023,0842, 30.0168, 136.9887, 4528,   2023.1,   2.0176,  34.6028,2,   -999.0,9,  34.6037,2,    107.9,2,   144.59,2,  -999.00,9,    38.26,2,     0.00,2,     2.72,2, -999.000,9, -999.000,9,  -999.00,9,   2335.9,3,   -999.0,9,   7.5138,6,     25.0, TS,  -999.00,9,   -999.0,  -999.00,9,  -999.00,9,  -999.00,9,  -999.00,9,   -999.0,-999.0000, -999,9, 2000,   1.8790,  27.6629,   -999.0,9