BOTTLE,20130510GEMDJMAYT
EXPOCODE,SECT_ID,STNNBR,CASTNO,SAMPNO,BTLNBR,BTLNBR_FLAG_W,DATE,TIME,LATITUDE,LONGITUDE,DEPTH,CTDPRS,CTDTMP,CTDSAL,CTDSAL_FLAG_W,CTDOXY,CTDOXY_FLAG_W,SALNTY,SALNTY_FLAG_W,OXYGEN,OXYGEN_FLAG_W,SILCAT,SILCAT_FLAG_W,NITRAT,NITRAT_FLAG_W,NO2+NO3,NO2+NO3_FLAG_W,NITRIT,NITRIT_FLAG_W,PHSPHT,PHSPHT_FLAG_W,CFC-11,CFC-11_FLAG_W,CFC-12,CFC-12_FLAG_W,DELC13,DELC13_FLAG_W,TCARBN,TCARBN_FLAG_W,ALKALI,ALKALI_FLAG_W,PH,PH_FLAG_W,PH_TMP,PH_SCALE,PH_NBS,PH_NBS_FLAG_W,C13ERR,TOTALP,TOTALP_FLAG_W,AMMONI,AMMONI_FLAG_W,CHLORA,CHLORA_FLAG_W,PPHYTN,PPHYTN_FLAG_W,REVPRS,REVTMP,DEPTH_,DEPTH_FLAG,CTDDEP,THETA,SIGTHT,DOC,DOC_FLAG_W
,,,,,,,GMT,GMT,,,METER,DBAR,ITS-90,PSS-78,,UMOL/KG,,PSS-78,,UMOL/KG,,UMOL/KG,,UMOL/KG,,UMOL/KG,,UMOL/KG,,UMOL/KG,,PMOL/KG,,PMOL/KG,,/MILLE,,UMOL/KG,,UMOL/KG,,25_DEG_C,,DEG_C,,,,/MILLE,UMOL/KG,,UMOL/KG,,UG/L,,UG/L,,DBAR,ITS-90,METERS,,METERS,DEG_C,,UMOL/L,
       RF06-10,  137E,RF-2797,  1,     -9,      -9,5,20061025,2326, 19.9890, 136.9925, 4799,      0.0,  29.1541,  34.3227,2,   -999.0,9,-999.0000,9,    195.2,2,     1.47,2,  -999.00,9,     0.00,2,     0.00,2,     0.00,2, -999.000,9, -999.000,9,  -999.00,9,   1906.8,3,   -999.0,9,   8.1306,2,     25.0, TS,  -999.00,9,   -999.0,  -999.00,9,  -999.00,9,     0.10,2,     0.00,2,   -999.0,-999.0000, -999,9,    0,  29.1539,  21.5042,   -999.0,9
       RF06-10,  137E,RF-2797,  1,     21,02-18575,2,20061025,2341, 19.9890, 136.9925, 4799,     10.6,  29.1561,  34.3238,2,   -999.0,9,  34.3219,2,    193.6,2,     1.42,2,  -999.00,9,     0.00,2,     0.00,2,     0.01,2, -999.000,9, -999.000,9,  -999.00,9,   1907.0,2,   -999.0,9,   8.1340,2,     25.0, TS,  -999.00,9,   -999.0,  -999.00,9,  -999.00,9,     0.09,2,     0.00,2,   -999.0,-999.0000, -999,9,   10,  29.1535,  21.5052,   -999.0,9
       RF06-10,  137E,RF-2797,  1,     20,02-18574,2,20061025,2340, 19.9890, 136.9925, 4799,     23.9,  29.1568,  34.3229,2,   -999.0,9,-999.0000,9,    194.2,2,     1.42,2,  -999.00,9,     0.00,2,     0.00,2,     0.01,2, -999.000,9, -999.000,9,  -999.00,9,   1910.2,3,   -999.0,9,   8.1354,2,     25.0, TS,  -999.00,9,   -999.0,  -999.00,9,  -999.00,9,     0.07,2,     0.01,2,   -999.0,-999.0000, -999,9,   24,  29.1510,  21.5053,   -999.0,9
       RF06-10,  137E,RF-2797,  1,     19,02-18573,2,20061025,2338, 19.9890, 136.9925, 4799,     49.0,  28.5078,  34.4986,2,   -999.0,9,-999.0000,9,    205.6,2,     1.42,2,  -999.00,9,     0.00,2,     0.00,2,     0.01,2, -999.000,9, -999.000,9,  -999.00,9,   1925.0,3,   -999.0,9,   8.1267,2,     25.0, TS,  -999.00,9,   -999.0,  -999.00,9,  -999.00,9,     0.14,2,     0.01,2,   -999.0,-999.0000, -999,9,   49,  28.4961,  21.8549,   -999.0,9
       RF06-10,  137E,RF-2797,  1,     18,02-18572,2,20061025,2337, 19.9890, 136.9925, 4799,     74.6,  26.1619,  34.8120,2,   -999.0,9,-999.0000,9,    205.9,2,     1.47,2,  -999.00,9,     0.00,2,     0.00,2,     0.01,2, -999.000,9, -999.000,9,  -999.00,9,   1959.9,2,   -999.0,9,   8.0990,2,     25.0, TS,  -999.00,9,   -999.0,  -999.00,9,  -999.00,9,     0.20,2,     0.11,2,   -999.0,-999.0000, -999,9,   74,  26.1452,  22.8462,   -999.0,9
       RF06-10,  137E,RF-2797,  1,     17,02-18571,2,20061025,2336, 19.9890, 136.9925, 4799,     99.7,  24.4426,  34.8208,2,   -999.0,9,  34.8216,2,    190.2,2,     1.78,2,  -999.00,9,     0.36,2,     0.06,2,     0.04,2, -999.000,9, -999.000,9,  -999.00,9,   1980.7,2,   -999.0,9,   8.0616,2,     25.0, TS,  -999.00,9,   -999.0,  -999.00,9,  -999.00,9,     0.31,2,     0.37,2,   -999.0,-999.0000, -999,9,   99,  24.4213,  23.3803,   -999.0,9
       RF06-10,  137E,RF-2797,  1,     16,02-18570,2,20061025,2335, 19.9890, 136.9925, 4799,    126.4,  23.1881,  35.0395,2,   -999.0,9,-999.0000,9,    187.6,2,     1.93,2,  -999.00,9,     1.18,2,     0.02,2,     0.08,2, -999.000,9, -999.000,9,  -999.00,9,   2010.1,2,   -999.0,9,   8.0327,2,     25.0, TS,  -999.00,9,   -999.0,  -999.00,9,  -999.00,9,     0.05,2,     0.11,2,   -999.0,-999.0000, -999,9,  126,  23.1621,  23.9167,   -999.0,9
       RF06-10,  137E,RF-2797,  1,     15,02-18569,3,20061025,2334, 19.9890, 136.9925, 4799,    151.3,  22.2928,  35.0486,2,   -999.0,9,-999.0000,9,    179.9,2,     2.25,2,  -999.00,9,     1.84,2,     0.01,2,     0.12,2, -999.000,9, -999.000,9,  -999.00,9,   2019.8,3,   -999.0,9,   8.0090,2,     25.0, TS,  -999.00,9,   -999.0,  -999.00,9,  -999.00,9,     0.03,2,     0.04,2,   -999.0,-999.0000, -999,9,  150,  22.2626,  24.1809,   -999.0,9
       RF06-10,  137E,RF-2797,  1,     14,02-18568,2,20061025,2332, 19.9890, 136.9925, 4799,    201.2,  19.6173,  34.9043,2,   -999.0,9,  34.9037,2,    193.7,2,     2.97,2,  -999.00,9,     2.98,2,     0.00,2,     0.17,2, -999.000,9, -999.000,9,  -999.00,9,   2025.8,2,   -999.0,9,   7.9920,2,     25.0, TS,  -999.00,9,   -999.0,  -999.00,9,  -999.00,9,     0.01,2,     0.00,2,   -999.0,-999.0000, -999,9,  200,  19.5806,  24.7985,   -999.0,9
       RF06-10,  137E,RF-2797,  1,     13,02-18567,2,20061025,2331, 19.9890, 136.9925, 4799,    251.7,  18.2481,  34.8399,2,   -999.0,9,-999.0000,9,    195.5,2,     3.93,2,  -999.00,9,     4.36,2,     0.00,2,     0.23,2, -999.000,9, -999.000,9,  -999.00,9,   2029.8,2,   -999.0,9,   7.9701,2,     25.0, TS,  -999.00,9,   -999.0,  -999.00,9,  -999.00,9,  -999.00,9,  -999.00,9,   -999.0,-999.0000, -999,9,  250,  18.2044,  25.0989,   -999.0,9
       RF06-10,  137E,RF-2797,  1,     12,02-18348,2,20061025,2329, 19.9890, 136.9925, 4799,    302.5,  17.1464,  34.7697,2,   -999.0,9,  34.7687,2,    203.4,2,     5.03,2,  -999.00,9,     5.58,2,     0.00,2,     0.31,2, -999.000,9, -999.000,9,  -999.00,9,   -999.0,4,   -999.0,9,   7.9521,2,     25.0, TS,  -999.00,9,   -999.0,  -999.00,9,  -999.00,9,  -999.00,9,  -999.00,9,   -999.0,-999.0000, -999,9,  300,  17.0961,  25.3147,   -999.0,9
       RF06-10,  137E,RF-2797,  1,     11,02-18565,2,20061025,2326, 19.9890, 136.9925, 4799,    402.5,  14.1387,  34.5210,2,   -999.0,9,  34.5224,2,    185.6,2,    12.47,2,  -999.00,9,    11.37,2,     0.00,2,     0.69,2, -999.000,9, -999.000,9,  -999.00,9,   2074.4,2,   -999.0,9,   7.8607,2,     25.0, TS,  -999.00,9,   -999.0,  -999.00,9,  -999.00,9,  -999.00,9,  -999.00,9,   -999.0,-999.0000, -999,9,  400,  14.0800,  25.8001,   -999.0,9
       RF06-10,  137E,RF-2797,  1,     10,02-18564,2,20061025,2324, 19.9890, 136.9925, 4799,    503.9,  10.4020,  34.2630,2,   -999.0,9,-999.0000,9,    161.5,2,    27.69,2,  -999.00,9,    19.93,2,     0.00,2,     1.33,2, -999.000,9, -999.000,9,  -999.00,9,   2131.4,2,   -999.0,9,   7.7221,2,     25.0, TS,  -999.00,9,   -999.0,  -999.00,9,  -999.00,9,  -999.00,9,  -999.00,9,   -999.0,-999.0000, -999,9,  500,  10.3417,  26.3178,   -999.0,9
       RF06-10,  137E,RF-2797,  1,      9,02-18563,2,20061025,2321, 19.9890, 136.9925, 4799,    603.1,   7.6997,  34.1931,2,   -999.0,9,  34.1940,2,    108.8,2,    50.98,2,  -999.00,9,    29.63,2,     0.00,2,     2.09,2, -999.000,9, -999.000,9,  -999.00,9,   2207.4,2,   -999.0,9,   7.5609,2,     25.0, TS,  -999.00,9,   -999.0,  -999.00,9,  -999.00,9,  -999.00,9,  -999.00,9,   -999.0,-999.0000, -999,9,  599,   7.6391,  26.6930,   -999.0,9
       RF06-10,  137E,RF-2797,  1,      8,02-18562,2,20061025,2319, 19.9890, 136.9925, 4799,    705.8,   6.0696,  34.1956,2,   -999.0,9,-999.0000,9,     80.0,2,    72.90,2,  -999.00,9,    34.83,2,     0.00,2,     2.51,2, -999.000,9, -999.000,9,  -999.00,9,   2257.5,2,   -999.0,9,   7.4751,2,     25.0, TS,  -999.00,9,   -999.0,  -999.00,9,  -999.00,9,  -999.00,9,  -999.00,9,   -999.0,-999.0000, -999,9,  700,   6.0069,  26.9161,   -999.0,9
       RF06-10,  137E,RF-2797,  1,      7,02-18561,2,20061025,2316, 19.9890, 136.9925, 4799,    806.9,   5.2490,  34.2830,2,   -999.0,9,  34.2836,2,     61.2,2,    87.57,2,  -999.00,9,    37.81,2,     0.00,2,     2.76,2, -999.000,9, -999.000,9,  -999.00,9,   2287.5,2,   -999.0,9,   7.4400,2,     25.0, TS,  -999.00,9,   -999.0,  -999.00,9,  -999.00,9,  -999.00,9,  -999.00,9,   -999.0,-999.0000, -999,9,  800,   5.1817,  27.0857,   -999.0,9
       RF06-10,  137E,RF-2797,  1,      6,02-18560,2,20061025,2313, 19.9890, 136.9925, 4799,    907.2,   4.6073,  34.3628,2,   -999.0,9,-999.0000,9,     58.5,2,   100.24,2,  -999.00,9,    39.05,2,     0.00,2,     2.85,2, -999.000,9, -999.000,9,  -999.00,9,   2303.5,2,   -999.0,9,   7.4375,2,     25.0, TS,  -999.00,9,   -999.0,  -999.00,9,  -999.00,9,  -999.00,9,  -999.00,9,   -999.0,-999.0000, -999,9,  900,   4.5353,  27.2223,   -999.0,9
       RF06-10,  137E,RF-2797,  1,      5,02-18559,2,20061025,2311, 19.9890, 136.9925, 4799,   1008.6,   4.1384,  34.4475,2,   -999.0,9,  34.4476,2,     64.6,2,   109.07,2,  -999.00,9,    39.18,2,     0.00,2,     2.86,2, -999.000,9, -999.000,9,  -999.00,9,   2316.9,2,   -999.0,9,   7.4568,2,     25.0, TS,  -999.00,9,   -999.0,  -999.00,9,  -999.00,9,  -999.00,9,  -999.00,9,   -999.0,-999.0000, -999,9, 1000,   4.0610,  27.3403,   -999.0,9
       RF06-10,  137E,RF-2797,  1,      4,02-18558,2,20061025,2306, 19.9890, 136.9925, 4799,   1260.8,   3.0759,  34.5319,2,   -999.0,9,  34.5316,2,     80.9,2,   128.58,2,  -999.00,9,    39.09,2,     0.00,2,     2.82,2, -999.000,9, -999.000,9,  -999.00,9,   2329.9,2,   -999.0,9,   7.6908,4,     25.0, TS,  -999.00,9,   -999.0,  -999.00,9,  -999.00,9,  -999.00,9,  -999.00,9,   -999.0,-999.0000, -999,9, 1249,   2.9869,  27.5126,   -999.0,9
       RF06-10,  137E,RF-2797,  1,      3,02-18557,2,20061025,2301, 19.9890, 136.9925, 4799,   1514.3,   2.6440,  34.5803,2,   -999.0,9,  34.5801,2,     97.1,2,   134.17,2,  -999.00,9,    38.38,2,     0.00,2,     2.76,2, -999.000,9, -999.000,9,  -999.00,9,   2332.9,2,   -999.0,9,   7.5121,2,     25.0, TS,  -999.00,9,   -999.0,  -999.00,9,  -999.00,9,  -999.00,9,  -999.00,9,   -999.0,-999.0000, -999,9, 1500,   2.5391,  27.5910,   -999.0,9
       RF06-10,  137E,RF-2797,  1,      2,02-18556,2,20061025,2256, 19.9890, 136.9925, 4799,   1766.6,   2.3254,  34.6074,2,   -999.0,9,  34.6074,2,    107.0,2,   138.27,2,  -999.00,9,    38.17,2,     0.00,2,     2.73,2, -999.000,9, -999.000,9,  -999.00,9,   2331.2,3,   -999.0,9,   7.5253,2,     25.0, TS,  -999.00,9,   -999.0,  -999.00,9,  -999.00,9,  -999.00,9,  -999.00,9,   -999.0,-999.0000, -999,9, 1748,   2.2038,  27.6408,   -999.0,9
       RF06-10,  137E,RF-2797,  1,      1,02-18555,2,20061025,2251, 19.9890, 136.9925, 4799,   2021.3,   2.0896,  34.6261,2,   -999.0,9,  34.6257,2,    112.4,2,   141.17,2,  -999.00,9,    37.95,2,     0.00,2,     2.71,2, -999.000,9, -999.000,9,  -999.00,9,   2332.0,2,   -999.0,9,   7.5335,6,     25.0, TS,  -999.00,9,   -999.0,  -999.00,9,  -999.00,9,  -999.00,9,  -999.00,9,   -999.0,-999.0000, -999,9, 1999,   1.9500,  27.6761,   -999.0,9