BOTTLE,20130510GEMDJMAYT
EXPOCODE,SECT_ID,STNNBR,CASTNO,SAMPNO,BTLNBR,BTLNBR_FLAG_W,DATE,TIME,LATITUDE,LONGITUDE,DEPTH,CTDPRS,CTDTMP,CTDSAL,CTDSAL_FLAG_W,CTDOXY,CTDOXY_FLAG_W,SALNTY,SALNTY_FLAG_W,OXYGEN,OXYGEN_FLAG_W,SILCAT,SILCAT_FLAG_W,NITRAT,NITRAT_FLAG_W,NO2+NO3,NO2+NO3_FLAG_W,NITRIT,NITRIT_FLAG_W,PHSPHT,PHSPHT_FLAG_W,CFC-11,CFC-11_FLAG_W,CFC-12,CFC-12_FLAG_W,DELC13,DELC13_FLAG_W,TCARBN,TCARBN_FLAG_W,ALKALI,ALKALI_FLAG_W,PH,PH_FLAG_W,PH_TMP,PH_SCALE,PH_NBS,PH_NBS_FLAG_W,C13ERR,TOTALP,TOTALP_FLAG_W,AMMONI,AMMONI_FLAG_W,CHLORA,CHLORA_FLAG_W,PPHYTN,PPHYTN_FLAG_W,REVPRS,REVTMP,DEPTH_,DEPTH_FLAG,CTDDEP,THETA,SIGTHT,DOC,DOC_FLAG_W
,,,,,,,GMT,GMT,,,METER,DBAR,ITS-90,PSS-78,,UMOL/KG,,PSS-78,,UMOL/KG,,UMOL/KG,,UMOL/KG,,UMOL/KG,,UMOL/KG,,UMOL/KG,,PMOL/KG,,PMOL/KG,,/MILLE,,UMOL/KG,,UMOL/KG,,25_DEG_C,,DEG_C,,,,/MILLE,UMOL/KG,,UMOL/KG,,UG/L,,UG/L,,DBAR,ITS-90,METERS,,METERS,DEG_C,,UMOL/L,
       RF06-10,  137E,RF-2812,  1,     -9,      -9,5,20061030,0350,  4.9920, 137.0067, 5269,      0.0,  29.4329,  34.0796,2,   -999.0,9,-999.0000,9,    184.7,2,     1.40,2,  -999.00,9,     0.00,2,     0.00,2,     0.01,2, -999.000,9, -999.000,9,  -999.00,9,   1894.2,2,   -999.0,9,   8.1244,2,     25.0, TS,  -999.00,9,   -999.0,  -999.00,9,  -999.00,9,     0.11,2,     0.02,2,   -999.0,-999.0000, -999,9,    0,  29.4327,  21.2283,   -999.0,9
       RF06-10,  137E,RF-2812,  1,     21,02-18575,2,20061030,0404,  4.9920, 137.0067, 5269,     10.5,  29.2059,  34.0779,2,   -999.0,9,  34.0775,2,    189.1,2,     1.40,2,  -999.00,9,     0.00,2,     0.00,2,     0.01,2, -999.000,9, -999.000,9,  -999.00,9,   1903.0,2,   -999.0,9,   8.1289,2,     25.0, TS,  -999.00,9,   -999.0,  -999.00,9,  -999.00,9,     0.10,2,     0.03,2,   -999.0,-999.0000, -999,9,   10,  29.2034,  21.3040,   -999.0,9
       RF06-10,  137E,RF-2812,  1,     20,02-18574,2,20061030,0403,  4.9920, 137.0067, 5269,     25.4,  28.6861,  34.0792,2,   -999.0,9,-999.0000,9,    194.4,2,     1.45,2,  -999.00,9,     0.00,2,     0.00,2,     0.01,2, -999.000,9, -999.000,9,  -999.00,9,   1900.5,2,   -999.0,9,   8.1301,2,     25.0, TS,  -999.00,9,   -999.0,  -999.00,9,  -999.00,9,     0.10,2,     0.02,2,   -999.0,-999.0000, -999,9,   25,  28.6800,  21.4791,   -999.0,9
       RF06-10,  137E,RF-2812,  1,     19,02-18573,2,20061030,0402,  4.9920, 137.0067, 5269,     49.9,  28.3648,  34.0885,2,   -999.0,9,-999.0000,9,    196.0,2,     1.61,2,  -999.00,9,     0.00,2,     0.00,2,     0.02,2, -999.000,9, -999.000,9,  -999.00,9,   1905.6,2,   -999.0,9,   8.1237,2,     25.0, TS,  -999.00,9,   -999.0,  -999.00,9,  -999.00,9,     0.14,2,     0.04,2,   -999.0,-999.0000, -999,9,   50,  28.3530,  21.5939,   -999.0,9
       RF06-10,  137E,RF-2812,  1,     18,02-18572,2,20061030,0401,  4.9920, 137.0067, 5269,     76.0,  26.6093,  34.4835,2,   -999.0,9,-999.0000,9,    193.0,2,     2.41,2,  -999.00,9,     0.04,2,     0.01,2,     0.07,2, -999.000,9, -999.000,9,  -999.00,9,   1954.4,3,   -999.0,9,   8.0727,2,     25.0, TS,  -999.00,9,   -999.0,  -999.00,9,  -999.00,9,     0.41,2,     0.25,2,   -999.0,-999.0000, -999,9,   76,  26.5921,  22.4582,   -999.0,9
       RF06-10,  137E,RF-2812,  1,     17,02-18571,2,20061030,0359,  4.9920, 137.0067, 5269,    101.3,  24.7014,  34.7500,2,   -999.0,9,  34.7635,4,    172.2,2,     3.65,2,  -999.00,9,     2.06,2,     0.24,2,     0.22,2, -999.000,9, -999.000,9,  -999.00,9,   2011.6,2,   -999.0,9,   8.0099,2,     25.0, TS,  -999.00,9,   -999.0,  -999.00,9,  -999.00,9,     0.25,2,     0.37,2,   -999.0,-999.0000, -999,9,  101,  24.6797,  23.2492,   -999.0,9
       RF06-10,  137E,RF-2812,  1,     16,02-18570,2,20061030,0358,  4.9920, 137.0067, 5269,    126.2,  19.5516,  34.7557,2,   -999.0,9,-999.0000,9,    145.0,2,     8.27,2,  -999.00,9,     9.01,2,     0.02,2,     0.62,2, -999.000,9, -999.000,9,  -999.00,9,   2070.3,2,   -999.0,9,   7.8903,2,     25.0, TS,  -999.00,9,   -999.0,  -999.00,9,  -999.00,9,     0.07,2,     0.18,2,   -999.0,-999.0000, -999,9,  125,  19.5287,  24.6985,   -999.0,9
       RF06-10,  137E,RF-2812,  1,     15,02-18569,2,20061030,0357,  4.9920, 137.0067, 5269,    151.3,  15.2538,  34.6401,2,   -999.0,9,-999.0000,9,    129.8,2,    16.09,2,  -999.00,9,    16.02,2,     0.00,2,     1.09,2, -999.000,9, -999.000,9,  -999.00,9,   2116.4,3,   -999.0,9,   7.7868,2,     25.0, TS,  -999.00,9,   -999.0,  -999.00,9,  -999.00,9,     0.03,2,     0.07,2,   -999.0,-999.0000, -999,9,  150,  15.2307,  25.6436,   -999.0,9
       RF06-10,  137E,RF-2812,  1,     14,02-18568,2,20061030,0356,  4.9920, 137.0067, 5269,    201.5,  11.4073,  34.5594,2,   -999.0,9,  34.5625,2,     78.7,2,    29.68,2,  -999.00,9,    27.03,2,     0.00,2,     1.89,2, -999.000,9, -999.000,9,  -999.00,9,   2193.4,2,   -999.0,9,   7.6094,2,     25.0, TS,  -999.00,9,   -999.0,  -999.00,9,  -999.00,9,     0.00,2,     0.03,2,   -999.0,-999.0000, -999,9,  200,  11.3820,  26.3627,   -999.0,9
       RF06-10,  137E,RF-2812,  1,     13,02-18567,2,20061030,0354,  4.9920, 137.0067, 5269,    252.5,   9.8279,  34.5969,2,   -999.0,9,-999.0000,9,     54.2,2,    36.06,2,  -999.00,9,    32.08,2,     0.00,2,     2.26,2, -999.000,9, -999.000,9,  -999.00,9,   2224.7,3,   -999.0,9,   7.5326,2,     25.0, TS,  -999.00,9,   -999.0,  -999.00,9,  -999.00,9,  -999.00,9,  -999.00,9,   -999.0,-999.0000, -999,9,  251,   9.7990,  26.6712,   -999.0,9
       RF06-10,  137E,RF-2812,  1,     12,02-18348,2,20061030,0352,  4.9920, 137.0067, 5269,    303.1,   9.0871,  34.6053,2,   -999.0,9,  34.6044,2,     55.8,2,    38.98,2,  -999.00,9,    33.45,2,     0.00,2,     2.36,2, -999.000,9, -999.000,9,  -999.00,9,   2235.9,2,   -999.0,9,   7.5139,2,     25.0, TS,  -999.00,9,   -999.0,  -999.00,9,  -999.00,9,  -999.00,9,  -999.00,9,   -999.0,-999.0000, -999,9,  301,   9.0539,  26.8004,   -999.0,9
       RF06-10,  137E,RF-2812,  1,     11,02-18565,2,20061030,0350,  4.9920, 137.0067, 5269,    403.9,   8.2349,  34.5955,2,   -999.0,9,  34.5943,2,     64.6,2,    42.19,2,  -999.00,9,    34.34,2,     0.00,2,     2.42,2, -999.000,9, -999.000,9,  -999.00,9,   2242.8,2,   -999.0,9,   7.5149,2,     25.0, TS,  -999.00,9,   -999.0,  -999.00,9,  -999.00,9,  -999.00,9,  -999.00,9,   -999.0,-999.0000, -999,9,  401,   8.1930,  26.9271,   -999.0,9
       RF06-10,  137E,RF-2812,  1,     10,02-18564,2,20061030,0347,  4.9920, 137.0067, 5269,    504.8,   7.5228,  34.5689,2,   -999.0,9,-999.0000,9,     81.3,2,    45.94,2,  -999.00,9,    34.21,2,     0.00,2,     2.41,2, -999.000,9, -999.000,9,  -999.00,9,   2231.9,2,   -999.0,9,   7.5355,3,     25.0, TS,  -999.00,9,   -999.0,  -999.00,9,  -999.00,9,  -999.00,9,  -999.00,9,   -999.0,-999.0000, -999,9,  501,   7.4728,  27.0125,   -999.0,9
       RF06-10,  137E,RF-2812,  1,      9,02-18563,2,20061030,0345,  4.9920, 137.0067, 5269,    605.1,   6.9033,  34.5503,2,   -999.0,9,  34.5496,2,     89.3,2,    50.62,2,  -999.00,9,    34.66,2,     0.00,2,     2.46,2, -999.000,9, -999.000,9,  -999.00,9,   2240.0,2,   -999.0,9,   7.5377,3,     25.0, TS,  -999.00,9,   -999.0,  -999.00,9,  -999.00,9,  -999.00,9,  -999.00,9,   -999.0,-999.0000, -999,9,  601,   6.8458,  27.0857,   -999.0,9
       RF06-10,  137E,RF-2812,  1,      8,02-18562,2,20061030,0342,  4.9920, 137.0067, 5269,    706.1,   6.1382,  34.5319,2,   -999.0,9,-999.0000,9,     81.9,2,    64.44,2,  -999.00,9,    36.25,2,     0.00,2,     2.60,2, -999.000,9, -999.000,9,  -999.00,9,   2257.1,2,   -999.0,9,   7.5126,2,     25.0, TS,  -999.00,9,   -999.0,  -999.00,9,  -999.00,9,  -999.00,9,  -999.00,9,   -999.0,-999.0000, -999,9,  701,   6.0747,  27.1733,   -999.0,9
       RF06-10,  137E,RF-2812,  1,      7,02-18561,2,20061030,0340,  4.9920, 137.0067, 5269,    806.9,   5.3749,  34.5368,2,   -999.0,9,  34.5362,2,     85.1,2,    75.68,2,  -999.00,9,    37.16,2,     0.00,2,     2.68,2, -999.000,9, -999.000,9,  -999.00,9,   2269.7,2,   -999.0,9,   7.5042,2,     25.0, TS,  -999.00,9,   -999.0,  -999.00,9,  -999.00,9,  -999.00,9,  -999.00,9,   -999.0,-999.0000, -999,9,  801,   5.3065,  27.2720,   -999.0,9
       RF06-10,  137E,RF-2812,  1,      6,02-18560,2,20061030,0337,  4.9920, 137.0067, 5269,    908.7,   4.8444,  34.5477,2,   -999.0,9,-999.0000,9,     86.3,2,    84.98,2,  -999.00,9,    37.77,2,     0.00,2,     2.73,2, -999.000,9, -999.000,9,  -999.00,9,   2282.4,2,   -999.0,9,   7.5077,2,     25.0, TS,  -999.00,9,   -999.0,  -999.00,9,  -999.00,9,  -999.00,9,  -999.00,9,   -999.0,-999.0000, -999,9,  902,   4.7703,  27.3429,   -999.0,9
       RF06-10,  137E,RF-2812,  1,      5,02-18559,2,20061030,0335,  4.9920, 137.0067, 5269,   1009.1,   4.5473,  34.5545,2,   -999.0,9,  34.5531,2,     87.0,2,    91.02,2,  -999.00,9,    38.03,2,     0.00,2,     2.74,2, -999.000,9, -999.000,9,  -999.00,9,   2287.7,2,   -999.0,9,   7.5101,2,     25.0, TS,  -999.00,9,   -999.0,  -999.00,9,  -999.00,9,  -999.00,9,  -999.00,9,   -999.0,-999.0000, -999,9, 1001,   4.4666,  27.3820,   -999.0,9
       RF06-10,  137E,RF-2812,  1,      4,02-18558,2,20061030,0329,  4.9920, 137.0067, 5269,   1262.7,   3.7200,  34.5782,2,   -999.0,9,  34.5776,2,     92.0,2,   107.03,2,  -999.00,9,    38.50,2,     0.00,2,     2.77,2, -999.000,9, -999.000,9,  -999.00,9,   2302.3,2,   -999.0,9,   7.5065,2,     25.0, TS,  -999.00,9,   -999.0,  -999.00,9,  -999.00,9,  -999.00,9,  -999.00,9,   -999.0,-999.0000, -999,9, 1252,   3.6245,  27.4888,   -999.0,9
       RF06-10,  137E,RF-2812,  1,      3,02-18557,2,20061030,0324,  4.9920, 137.0067, 5269,   1514.7,   3.0199,  34.6009,2,   -999.0,9,  34.6005,2,     97.8,2,   122.05,2,  -999.00,9,    38.30,2,     0.00,2,     2.76,2, -999.000,9, -999.000,9,  -999.00,9,   2318.7,2,   -999.0,9,   7.5218,2,     25.0, TS,  -999.00,9,   -999.0,  -999.00,9,  -999.00,9,  -999.00,9,  -999.00,9,   -999.0,-999.0000, -999,9, 1501,   2.9105,  27.5746,   -999.0,9
       RF06-10,  137E,RF-2812,  1,      2,02-18556,2,20061030,0319,  4.9920, 137.0067, 5269,   1768.2,   2.5798,  34.6199,2,   -999.0,9,  34.6191,2,    104.3,2,   130.88,2,  -999.00,9,    38.30,2,     0.00,2,     2.73,2, -999.000,9, -999.000,9,  -999.00,9,   2325.5,2,   -999.0,9,   7.5303,2,     25.0, TS,  -999.00,9,   -999.0,  -999.00,9,  -999.00,9,  -999.00,9,  -999.00,9,   -999.0,-999.0000, -999,9, 1751,   2.4546,  27.6299,   -999.0,9
       RF06-10,  137E,RF-2812,  1,      1,02-18555,2,20061030,0314,  4.9920, 137.0067, 5269,   2021.4,   2.2239,  34.6377,2,   -999.0,9,  34.6374,2,    111.9,2,   137.43,2,  -999.00,9,    38.04,2,     0.00,2,     2.71,2, -999.000,9, -999.000,9,  -999.00,9,   2329.9,2,   -999.0,9,   7.5333,6,     25.0, TS,  -999.00,9,   -999.0,  -999.00,9,  -999.00,9,  -999.00,9,  -999.00,9,   -999.0,-999.0000, -999,9, 2001,   2.0822,  27.6748,   -999.0,9