BOTTLE,20130510GEMDJMAYT
EXPOCODE,SECT_ID,STNNBR,CASTNO,SAMPNO,BTLNBR,BTLNBR_FLAG_W,DATE,TIME,LATITUDE,LONGITUDE,DEPTH,CTDPRS,CTDTMP,CTDSAL,CTDSAL_FLAG_W,CTDOXY,CTDOXY_FLAG_W,SALNTY,SALNTY_FLAG_W,OXYGEN,OXYGEN_FLAG_W,SILCAT,SILCAT_FLAG_W,NITRAT,NITRAT_FLAG_W,NO2+NO3,NO2+NO3_FLAG_W,NITRIT,NITRIT_FLAG_W,PHSPHT,PHSPHT_FLAG_W,CFC-11,CFC-11_FLAG_W,CFC-12,CFC-12_FLAG_W,DELC13,DELC13_FLAG_W,TCARBN,TCARBN_FLAG_W,ALKALI,ALKALI_FLAG_W,PH,PH_FLAG_W,PH_TMP,PH_SCALE,PH_NBS,PH_NBS_FLAG_W,C13ERR,TOTALP,TOTALP_FLAG_W,AMMONI,AMMONI_FLAG_W,CHLORA,CHLORA_FLAG_W,PPHYTN,PPHYTN_FLAG_W,REVPRS,REVTMP,DEPTH_,DEPTH_FLAG,CTDDEP,THETA,SIGTHT,DOC,DOC_FLAG_W
,,,,,,,GMT,GMT,,,METER,DBAR,ITS-90,PSS-78,,UMOL/KG,,PSS-78,,UMOL/KG,,UMOL/KG,,UMOL/KG,,UMOL/KG,,UMOL/KG,,UMOL/KG,,PMOL/KG,,PMOL/KG,,/MILLE,,UMOL/KG,,UMOL/KG,,25_DEG_C,,DEG_C,,,,/MILLE,UMOL/KG,,UMOL/KG,,UG/L,,UG/L,,DBAR,ITS-90,METERS,,METERS,DEG_C,,UMOL/L,
       RF06-10,  137E,RF-2807,  1,     -9,      -9,5,20061028,1520,  9.9963, 137.0027, 4989,      0.0,  29.4234,  34.0878,2,   -999.0,9,-999.0000,9,    195.5,2,     1.47,2,  -999.00,9,     0.00,2,     0.00,2,     0.03,2, -999.000,9, -999.000,9,  -999.00,9,   1894.7,2,   -999.0,9,   8.1252,2,     25.0, TS,  -999.00,9,   -999.0,  -999.00,9,  -999.00,9,     0.06,2,     0.00,2,   -999.0,-999.0000, -999,9,    0,  29.4232,  21.2377,   -999.0,9
       RF06-10,  137E,RF-2807,  1,     21,02-18575,2,20061028,1536,  9.9963, 137.0027, 4989,     11.4,  29.4427,  34.2608,2,   -999.0,9,  34.2268,4,    193.7,2,     1.42,2,  -999.00,9,     0.00,2,     0.00,2,     0.03,2, -999.000,9, -999.000,9,  -999.00,9,   1911.6,2,   -999.0,9,   8.1241,2,     25.0, TS,  -999.00,9,   -999.0,  -999.00,9,  -999.00,9,     0.06,2,     0.00,2,   -999.0,-999.0000, -999,9,   11,  29.4399,  21.3618,   -999.0,9
       RF06-10,  137E,RF-2807,  1,     20,02-18574,2,20061028,1535,  9.9963, 137.0027, 4989,     25.5,  29.0388,  34.2514,2,   -999.0,9,-999.0000,9,    196.1,2,     1.43,2,  -999.00,9,     0.00,2,     0.00,2,     0.02,2, -999.000,9, -999.000,9,  -999.00,9,   1914.6,2,   -999.0,9,   8.1239,2,     25.0, TS,  -999.00,9,   -999.0,  -999.00,9,  -999.00,9,     0.06,2,     0.00,2,   -999.0,-999.0000, -999,9,   25,  29.0326,  21.4912,   -999.0,9
       RF06-10,  137E,RF-2807,  1,     19,02-18573,2,20061028,1533,  9.9963, 137.0027, 4989,     51.4,  28.6057,  34.3299,2,   -999.0,9,-999.0000,9,    205.1,2,     1.47,2,  -999.00,9,     0.00,2,     0.00,2,     0.03,2, -999.000,9, -999.000,9,  -999.00,9,   1931.2,2,   -999.0,9,   8.1164,2,     25.0, TS,  -999.00,9,   -999.0,  -999.00,9,  -999.00,9,     0.08,2,     0.00,2,   -999.0,-999.0000, -999,9,   51,  28.5934,  21.6960,   -999.0,9
       RF06-10,  137E,RF-2807,  1,     18,02-18572,2,20061028,1532,  9.9963, 137.0027, 4989,     75.4,  26.0566,  34.8770,2,   -999.0,9,-999.0000,9,    198.5,2,     1.62,2,  -999.00,9,     0.00,2,     0.00,2,     0.06,2, -999.000,9, -999.000,9,  -999.00,9,   1977.2,2,   -999.0,9,   8.0764,2,     25.0, TS,  -999.00,9,   -999.0,  -999.00,9,  -999.00,9,     0.15,2,     0.07,2,   -999.0,-999.0000, -999,9,   75,  26.0398,  22.9282,   -999.0,9
       RF06-10,  137E,RF-2807,  1,     17,02-18571,2,20061028,1531,  9.9963, 137.0027, 4989,    100.5,  24.4844,  34.9388,2,   -999.0,9,  34.9382,2,    191.7,2,     2.04,2,  -999.00,9,     0.09,2,     0.01,2,     0.10,2, -999.000,9, -999.000,9,  -999.00,9,   2024.1,2,   -999.0,9,   8.0377,2,     25.0, TS,  -999.00,9,   -999.0,  -999.00,9,  -999.00,9,     0.26,2,     0.25,2,   -999.0,-999.0000, -999,9,  100,  24.4630,  23.4571,   -999.0,9
       RF06-10,  137E,RF-2807,  1,     16,02-18570,2,20061028,1529,  9.9963, 137.0027, 4989,    126.9,  20.8351,  34.8599,2,   -999.0,9,-999.0000,9,    166.5,2,     4.84,2,  -999.00,9,     4.46,2,     0.19,2,     0.38,2, -999.000,9, -999.000,9,  -999.00,9,   2051.0,2,   -999.0,9,   7.9403,2,     25.0, TS,  -999.00,9,   -999.0,  -999.00,9,  -999.00,9,     0.17,2,     0.26,2,   -999.0,-999.0000, -999,9,  126,  20.8110,  24.4385,   -999.0,9
       RF06-10,  137E,RF-2807,  1,     15,02-18569,2,20061028,1528,  9.9963, 137.0027, 4989,    151.3,  18.3329,  34.7542,2,   -999.0,9,-999.0000,9,    149.8,2,     8.79,2,  -999.00,9,     9.49,2,     0.03,2,     0.68,2, -999.000,9, -999.000,9,  -999.00,9,   2087.3,2,   -999.0,9,   7.8664,2,     25.0, TS,  -999.00,9,   -999.0,  -999.00,9,  -999.00,9,     0.09,2,     0.20,2,   -999.0,-999.0000, -999,9,  150,  18.3066,  25.0079,   -999.0,9
       RF06-10,  137E,RF-2807,  1,     14,02-18568,2,20061028,1526,  9.9963, 137.0027, 4989,    202.5,  12.4886,  34.4338,2,   -999.0,9,  34.4412,4,    128.6,2,    20.65,2,  -999.00,9,    19.48,2,     0.00,2,     1.35,2, -999.000,9, -999.000,9,  -999.00,9,   2139.7,2,   -999.0,9,   7.7116,2,     25.0, TS,  -999.00,9,   -999.0,  -999.00,9,  -999.00,9,     0.00,2,     0.03,2,   -999.0,-999.0000, -999,9,  201,  12.4616,  26.0605,   -999.0,9
       RF06-10,  137E,RF-2807,  1,     13,02-18567,2,20061028,1525,  9.9963, 137.0027, 4989,    252.5,  10.5682,  34.5009,2,   -999.0,9,-999.0000,9,     88.2,2,    33.03,2,  -999.00,9,    27.59,2,     0.00,2,     1.92,2, -999.000,9, -999.000,9,  -999.00,9,   2194.3,2,   -999.0,9,   7.6039,2,     25.0, TS,  -999.00,9,   -999.0,  -999.00,9,  -999.00,9,  -999.00,9,  -999.00,9,   -999.0,-999.0000, -999,9,  251,  10.5380,  26.4691,   -999.0,9
       RF06-10,  137E,RF-2807,  1,     12,02-18348,2,20061028,1523,  9.9963, 137.0027, 4989,    301.9,   9.3345,  34.4887,2,   -999.0,9,  34.4897,2,     77.6,2,    39.06,2,  -999.00,9,    30.38,2,     0.00,2,     2.13,2, -999.000,9, -999.000,9,  -999.00,9,   2214.3,2,   -999.0,9,   7.5598,2,     25.0, TS,  -999.00,9,   -999.0,  -999.00,9,  -999.00,9,  -999.00,9,  -999.00,9,   -999.0,-999.0000, -999,9,  300,   9.3010,  26.6692,   -999.0,9
       RF06-10,  137E,RF-2807,  1,     11,02-18565,2,20061028,1521,  9.9963, 137.0027, 4989,    403.2,   7.9078,  34.4897,2,   -999.0,9,  34.4889,2,     72.5,2,    49.64,2,  -999.00,9,    33.78,2,     0.00,2,     2.38,2, -999.000,9, -999.000,9,  -999.00,9,   2239.2,2,   -999.0,9,   7.5198,2,     25.0, TS,  -999.00,9,   -999.0,  -999.00,9,  -999.00,9,  -999.00,9,  -999.00,9,   -999.0,-999.0000, -999,9,  401,   7.8670,  26.8928,   -999.0,9
       RF06-10,  137E,RF-2807,  1,     10,02-18564,2,20061028,1518,  9.9963, 137.0027, 4989,    504.4,   6.8045,  34.4980,2,   -999.0,9,-999.0000,9,     73.9,2,    59.34,2,  -999.00,9,    35.62,2,     0.00,2,     2.54,2, -999.000,9, -999.000,9,  -999.00,9,   2254.3,2,   -999.0,9,   7.5094,2,     25.0, TS,  -999.00,9,   -999.0,  -999.00,9,  -999.00,9,  -999.00,9,  -999.00,9,   -999.0,-999.0000, -999,9,  501,   6.7573,  27.0565,   -999.0,9
       RF06-10,  137E,RF-2807,  1,      9,02-18563,2,20061028,1516,  9.9963, 137.0027, 4989,    605.1,   6.4325,  34.5193,2,   -999.0,9,  34.5184,2,     89.3,2,    59.57,2,  -999.00,9,    35.18,2,     0.00,2,     2.50,2, -999.000,9, -999.000,9,  -999.00,9,   2259.5,2,   -999.0,9,   7.5292,3,     25.0, TS,  -999.00,9,   -999.0,  -999.00,9,  -999.00,9,  -999.00,9,  -999.00,9,   -999.0,-999.0000, -999,9,  601,   6.3772,  27.1241,   -999.0,9
       RF06-10,  137E,RF-2807,  1,      8,02-18562,2,20061028,1513,  9.9963, 137.0027, 4989,    705.6,   5.9415,  34.5095,2,   -999.0,9,-999.0000,9,     82.2,2,    69.32,2,  -999.00,9,    36.39,2,     0.00,2,     2.61,2, -999.000,9, -999.000,9,  -999.00,9,   2260.2,2,   -999.0,9,   7.5131,2,     25.0, TS,  -999.00,9,   -999.0,  -999.00,9,  -999.00,9,  -999.00,9,  -999.00,9,   -999.0,-999.0000, -999,9,  700,   5.8791,  27.1803,   -999.0,9
       RF06-10,  137E,RF-2807,  1,      7,02-18561,2,20061028,1511,  9.9963, 137.0027, 4989,    807.0,   5.2340,  34.5242,2,   -999.0,9,  34.5236,2,     83.7,2,    80.47,2,  -999.00,9,    37.47,2,     0.00,2,     2.70,2, -999.000,9, -999.000,9,  -999.00,9,   2272.6,2,   -999.0,9,   7.5044,2,     25.0, TS,  -999.00,9,   -999.0,  -999.00,9,  -999.00,9,  -999.00,9,  -999.00,9,   -999.0,-999.0000, -999,9,  801,   5.1664,  27.2786,   -999.0,9
       RF06-10,  137E,RF-2807,  1,      6,02-18560,2,20061028,1508,  9.9963, 137.0027, 4989,    908.1,   4.8605,  34.5401,2,   -999.0,9,-999.0000,9,     85.3,2,    86.79,2,  -999.00,9,    37.66,2,     0.00,2,     2.71,2, -999.000,9, -999.000,9,  -999.00,9,   2292.7,3,   -999.0,9,   7.5039,2,     25.0, TS,  -999.00,9,   -999.0,  -999.00,9,  -999.00,9,  -999.00,9,  -999.00,9,   -999.0,-999.0000, -999,9,  901,   4.7864,  27.3350,   -999.0,9
       RF06-10,  137E,RF-2807,  1,      5,02-18559,2,20061028,1505,  9.9963, 137.0027, 4989,   1009.1,   4.5184,  34.5493,2,   -999.0,9,  34.5492,2,     86.4,2,    93.67,2,  -999.00,9,    37.97,2,     0.00,2,     2.73,2, -999.000,9, -999.000,9,  -999.00,9,   2293.3,2,   -999.0,9,   7.5049,2,     25.0, TS,  -999.00,9,   -999.0,  -999.00,9,  -999.00,9,  -999.00,9,  -999.00,9,   -999.0,-999.0000, -999,9, 1001,   4.4379,  27.3810,   -999.0,9
       RF06-10,  137E,RF-2807,  1,      4,02-18558,2,20061028,1500,  9.9963, 137.0027, 4989,   1261.4,   3.6181,  34.5715,2,   -999.0,9,  34.5715,2,     91.2,2,   112.21,2,  -999.00,9,    38.54,2,     0.00,2,     2.76,2, -999.000,9, -999.000,9,  -999.00,9,   2314.9,2,   -999.0,9,   7.5081,2,     25.0, TS,  -999.00,9,   -999.0,  -999.00,9,  -999.00,9,  -999.00,9,  -999.00,9,   -999.0,-999.0000, -999,9, 1250,   3.5237,  27.4934,   -999.0,9
       RF06-10,  137E,RF-2807,  1,      3,02-18557,2,20061028,1455,  9.9963, 137.0027, 4989,   1513.7,   2.9248,  34.5970,2,   -999.0,9,  34.5965,2,     98.1,2,   125.09,2,  -999.00,9,    38.49,2,     0.00,2,     2.75,2, -999.000,9, -999.000,9,  -999.00,9,   2322.3,2,   -999.0,9,   7.5164,2,     25.0, TS,  -999.00,9,   -999.0,  -999.00,9,  -999.00,9,  -999.00,9,  -999.00,9,   -999.0,-999.0000, -999,9, 1500,   2.8166,  27.5800,   -999.0,9
       RF06-10,  137E,RF-2807,  1,      2,02-18556,2,20061028,1450,  9.9963, 137.0027, 4989,   1767.3,   2.4629,  34.6198,2,   -999.0,9,  34.6200,2,    108.1,2,   132.97,2,  -999.00,9,    38.16,2,     0.00,2,     2.71,2, -999.000,9, -999.000,9,  -999.00,9,   2325.7,2,   -999.0,9,   7.5285,2,     25.0, TS,  -999.00,9,   -999.0,  -999.00,9,  -999.00,9,  -999.00,9,  -999.00,9,   -999.0,-999.0000, -999,9, 1750,   2.3393,  27.6395,   -999.0,9
       RF06-10,  137E,RF-2807,  1,      1,02-18555,2,20061028,1445,  9.9963, 137.0027, 4989,   2021.4,   2.1344,  34.6381,2,   -999.0,9,  34.6378,2,    117.2,2,   137.92,2,  -999.00,9,    37.87,2,     0.00,2,     2.68,2, -999.000,9, -999.000,9,  -999.00,9,   2325.2,2,   -999.0,9,   7.5452,6,     25.0, TS,  -999.00,9,   -999.0,  -999.00,9,  -999.00,9,  -999.00,9,  -999.00,9,   -999.0,-999.0000, -999,9, 2000,   1.9941,  27.6822,   -999.0,9