BOTTLE,20130510GEMDJMAYT
EXPOCODE,SECT_ID,STNNBR,CASTNO,SAMPNO,BTLNBR,BTLNBR_FLAG_W,DATE,TIME,LATITUDE,LONGITUDE,DEPTH,CTDPRS,CTDTMP,CTDSAL,CTDSAL_FLAG_W,CTDOXY,CTDOXY_FLAG_W,SALNTY,SALNTY_FLAG_W,OXYGEN,OXYGEN_FLAG_W,SILCAT,SILCAT_FLAG_W,NITRAT,NITRAT_FLAG_W,NO2+NO3,NO2+NO3_FLAG_W,NITRIT,NITRIT_FLAG_W,PHSPHT,PHSPHT_FLAG_W,CFC-11,CFC-11_FLAG_W,CFC-12,CFC-12_FLAG_W,DELC13,DELC13_FLAG_W,TCARBN,TCARBN_FLAG_W,ALKALI,ALKALI_FLAG_W,PH,PH_FLAG_W,PH_TMP,PH_SCALE,PH_NBS,PH_NBS_FLAG_W,C13ERR,TOTALP,TOTALP_FLAG_W,AMMONI,AMMONI_FLAG_W,CHLORA,CHLORA_FLAG_W,PPHYTN,PPHYTN_FLAG_W,REVPRS,REVTMP,DEPTH_,DEPTH_FLAG,CTDDEP,THETA,SIGTHT,DOC,DOC_FLAG_W
,,,,,,,GMT,GMT,,,METER,DBAR,ITS-90,PSS-78,,UMOL/KG,,PSS-78,,UMOL/KG,,UMOL/KG,,UMOL/KG,,UMOL/KG,,UMOL/KG,,UMOL/KG,,PMOL/KG,,PMOL/KG,,/MILLE,,UMOL/KG,,UMOL/KG,,25_DEG_C,,DEG_C,,,,/MILLE,UMOL/KG,,UMOL/KG,,UG/L,,UG/L,,DBAR,ITS-90,METERS,,METERS,DEG_C,,UMOL/L,
       RF06-10,  137E,RF-2802,  1,     -9,      -9,5,20061027,0728, 15.0057, 136.9923, 5351,      0.0,  29.0131,  34.3583,2,   -999.0,9,-999.0000,9,    195.2,2,     1.46,2,  -999.00,9,     0.00,2,     0.00,2,     0.01,2, -999.000,9, -999.000,9,  -999.00,9,   1899.5,3,   -999.0,9,   8.1314,2,     25.0, TS,  -999.00,9,   -999.0,  -999.00,9,  -999.00,9,     0.11,2,     0.00,2,   -999.0,-999.0000, -999,9,    0,  29.0129,  21.5781,   -999.0,9
       RF06-10,  137E,RF-2802,  1,     21,02-18575,2,20061027,0744, 15.0057, 136.9923, 5351,      9.6,  29.0207,  34.3591,2,   -999.0,9,  34.3568,4,    196.0,2,     1.41,2,  -999.00,9,     0.00,2,     0.00,2,     0.00,2, -999.000,9, -999.000,9,  -999.00,9,   1917.2,2,   -999.0,9,   8.1359,2,     25.0, TS,  -999.00,9,   -999.0,  -999.00,9,  -999.00,9,     0.09,2,     0.01,2,   -999.0,-999.0000, -999,9,   10,  29.0184,  21.5768,   -999.0,9
       RF06-10,  137E,RF-2802,  1,     20,02-18574,2,20061027,0743, 15.0057, 136.9923, 5351,     24.8,  29.0241,  34.3594,2,   -999.0,9,-999.0000,9,    195.5,2,     1.30,2,  -999.00,9,     0.00,2,     0.00,2,     0.00,2, -999.000,9, -999.000,9,  -999.00,9,   1914.1,2,   -999.0,9,   8.1339,2,     25.0, TS,  -999.00,9,   -999.0,  -999.00,9,  -999.00,9,     0.11,2,     0.00,2,   -999.0,-999.0000, -999,9,   25,  29.0181,  21.5771,   -999.0,9
       RF06-10,  137E,RF-2802,  1,     19,02-18573,2,20061027,0742, 15.0057, 136.9923, 5351,     50.0,  28.9297,  34.4892,2,   -999.0,9,-999.0000,9,    206.1,2,     1.35,2,  -999.00,9,     0.00,2,     0.00,2,     0.01,2, -999.000,9, -999.000,9,  -999.00,9,   1934.7,2,   -999.0,9,   8.1281,2,     25.0, TS,  -999.00,9,   -999.0,  -999.00,9,  -999.00,9,     0.14,2,     0.04,2,   -999.0,-999.0000, -999,9,   50,  28.9177,  21.7081,   -999.0,9
       RF06-10,  137E,RF-2802,  1,     18,02-18572,2,20061027,0741, 15.0057, 136.9923, 5351,     75.2,  27.4986,  34.7995,2,   -999.0,9,-999.0000,9,    200.6,2,     1.35,2,  -999.00,9,     0.00,2,     0.00,2,     0.02,2, -999.000,9, -999.000,9,  -999.00,9,   1961.6,2,   -999.0,9,   8.1064,2,     25.0, TS,  -999.00,9,   -999.0,  -999.00,9,  -999.00,9,     0.21,2,     0.10,2,   -999.0,-999.0000, -999,9,   75,  27.4811,  22.4123,   -999.0,9
       RF06-10,  137E,RF-2802,  1,     17,02-18571,2,20061027,0739, 15.0057, 136.9923, 5351,    100.4,  26.9958,  34.8439,2,   -999.0,9,  34.8440,2,    198.8,2,     1.30,2,  -999.00,9,     0.00,2,     0.00,2,     0.02,2, -999.000,9, -999.000,9,  -999.00,9,   1957.0,2,   -999.0,9,   8.1038,2,     25.0, TS,  -999.00,9,   -999.0,  -999.00,9,  -999.00,9,     0.24,2,     0.13,2,   -999.0,-999.0000, -999,9,  100,  26.9728,  22.6089,   -999.0,9
       RF06-10,  137E,RF-2802,  1,     16,02-18570,3,20061027,0738, 15.0057, 136.9923, 5351,    126.9,  25.2854,  34.9879,2,   -999.0,9,-999.0000,9,    189.9,2,     1.51,2,  -999.00,9,     0.27,2,     0.07,2,     0.05,2, -999.000,9, -999.000,9,  -999.00,9,   2000.9,2,   -999.0,9,   8.0655,2,     25.0, TS,  -999.00,9,   -999.0,  -999.00,9,  -999.00,9,     0.17,2,     0.33,2,   -999.0,-999.0000, -999,9,  126,  25.2576,  23.2535,   -999.0,9
       RF06-10,  137E,RF-2802,  1,     15,02-18569,2,20061027,0737, 15.0057, 136.9923, 5351,    151.9,  23.1831,  35.0598,2,   -999.0,9,-999.0000,9,    178.3,2,     1.93,2,  -999.00,9,     1.46,2,     0.02,2,     0.12,2, -999.000,9, -999.000,9,  -999.00,9,   2017.5,2,   -999.0,9,   8.0225,2,     25.0, TS,  -999.00,9,   -999.0,  -999.00,9,  -999.00,9,     0.06,2,     0.17,2,   -999.0,-999.0000, -999,9,  151,  23.1519,  23.9351,   -999.0,9
       RF06-10,  137E,RF-2802,  1,     14,02-18568,2,20061027,0735, 15.0057, 136.9923, 5351,    202.0,  19.7109,  34.9342,2,   -999.0,9,  34.9306,2,    182.6,2,     3.55,2,  -999.00,9,     3.77,2,     0.00,2,     0.24,2, -999.000,9, -999.000,9,  -999.00,9,   2034.3,2,   -999.0,9,   7.9666,2,     25.0, TS,  -999.00,9,   -999.0,  -999.00,9,  -999.00,9,     0.01,2,     0.01,2,   -999.0,-999.0000, -999,9,  201,  19.6739,  24.7971,   -999.0,9
       RF06-10,  137E,RF-2802,  1,     13,02-18567,2,20061027,0734, 15.0057, 136.9923, 5351,    251.9,  16.1633,  34.6767,2,   -999.0,9,-999.0000,9,    192.0,2,     6.80,2,  -999.00,9,     7.54,2,     0.00,2,     0.46,2, -999.000,9, -999.000,9,  -999.00,9,   2051.2,2,   -999.0,9,   7.9131,2,     25.0, TS,  -999.00,9,   -999.0,  -999.00,9,  -999.00,9,  -999.00,9,  -999.00,9,   -999.0,-999.0000, -999,9,  250,  16.1232,  25.4707,   -999.0,9
       RF06-10,  137E,RF-2802,  1,     12,02-18348,2,20061027,0732, 15.0057, 136.9923, 5351,    301.4,  13.6210,  34.4669,2,   -999.0,9,  34.4709,2,    182.8,2,    12.98,2,  -999.00,9,    12.34,2,     0.00,2,     0.81,2, -999.000,9, -999.000,9,  -999.00,9,   2083.0,2,   -999.0,9,   7.8346,2,     25.0, TS,  -999.00,9,   -999.0,  -999.00,9,  -999.00,9,  -999.00,9,  -999.00,9,   -999.0,-999.0000, -999,9,  299,  13.5783,  25.8626,   -999.0,9
       RF06-10,  137E,RF-2802,  1,     11,02-18565,2,20061027,0730, 15.0057, 136.9923, 5351,    401.8,   9.3082,  34.3216,2,   -999.0,9,  34.3137,4,    102.5,2,    38.62,2,  -999.00,9,    27.79,2,     0.00,2,     1.97,2, -999.000,9, -999.000,9,  -999.00,9,   2195.5,2,   -999.0,9,   7.5866,2,     25.0, TS,  -999.00,9,   -999.0,  -999.00,9,  -999.00,9,  -999.00,9,  -999.00,9,   -999.0,-999.0000, -999,9,  399,   9.2635,  26.5445,   -999.0,9
       RF06-10,  137E,RF-2802,  1,     10,02-18564,2,20061027,0727, 15.0057, 136.9923, 5351,    504.3,   7.5761,  34.3487,2,   -999.0,9,-999.0000,9,     74.5,2,    55.13,2,  -999.00,9,    33.38,2,     0.00,2,     2.41,2, -999.000,9, -999.000,9,  -999.00,9,   2239.0,2,   -999.0,9,   7.5096,2,     25.0, TS,  -999.00,9,   -999.0,  -999.00,9,  -999.00,9,  -999.00,9,  -999.00,9,   -999.0,-999.0000, -999,9,  501,   7.5261,  26.8316,   -999.0,9
       RF06-10,  137E,RF-2802,  1,      9,02-18563,2,20061027,0725, 15.0057, 136.9923, 5351,    604.8,   6.3138,  34.4187,2,   -999.0,9,  34.4191,2,     72.1,2,    70.07,2,  -999.00,9,    35.95,2,     0.00,2,     2.60,2, -999.000,9, -999.000,9,  -999.00,9,   2261.9,2,   -999.0,9,   7.4927,2,     25.0, TS,  -999.00,9,   -999.0,  -999.00,9,  -999.00,9,  -999.00,9,  -999.00,9,   -999.0,-999.0000, -999,9,  600,   6.2592,  27.0601,   -999.0,9
       RF06-10,  137E,RF-2802,  1,      8,02-18562,2,20061027,0723, 15.0057, 136.9923, 5351,    707.3,   5.6331,  34.4683,2,   -999.0,9,-999.0000,9,     72.3,2,    78.48,2,  -999.00,9,    37.25,2,     0.00,2,     2.70,2, -999.000,9, -999.000,9,  -999.00,9,   2276.6,2,   -999.0,9,   7.4874,2,     25.0, TS,  -999.00,9,   -999.0,  -999.00,9,  -999.00,9,  -999.00,9,  -999.00,9,   -999.0,-999.0000, -999,9,  702,   5.5723,  27.1858,   -999.0,9
       RF06-10,  137E,RF-2802,  1,      7,02-18561,2,20061027,0720, 15.0057, 136.9923, 5351,    806.3,   5.1809,  34.4967,2,   -999.0,9,  34.4967,2,     77.3,2,    84.77,2,  -999.00,9,    37.60,2,     0.00,2,     2.73,2, -999.000,9, -999.000,9,  -999.00,9,   2282.6,2,   -999.0,9,   7.4897,2,     25.0, TS,  -999.00,9,   -999.0,  -999.00,9,  -999.00,9,  -999.00,9,  -999.00,9,   -999.0,-999.0000, -999,9,  800,   5.1137,  27.2630,   -999.0,9
       RF06-10,  137E,RF-2802,  1,      6,02-18560,2,20061027,0718, 15.0057, 136.9923, 5351,    907.7,   4.7883,  34.5153,2,   -999.0,9,-999.0000,9,     81.5,2,    91.53,2,  -999.00,9,    37.94,2,     0.00,2,     2.74,2, -999.000,9, -999.000,9,  -999.00,9,   2303.1,3,   -999.0,9,   7.4990,2,     25.0, TS,  -999.00,9,   -999.0,  -999.00,9,  -999.00,9,  -999.00,9,  -999.00,9,   -999.0,-999.0000, -999,9,  900,   4.7147,  27.3234,   -999.0,9
       RF06-10,  137E,RF-2802,  1,      5,02-18559,2,20061027,0716, 15.0057, 136.9923, 5351,   1007.6,   4.3741,  34.5344,2,   -999.0,9,  34.5339,2,     83.5,2,    99.10,2,  -999.00,9,    38.15,2,     0.00,2,     2.76,2, -999.000,9, -999.000,9,  -999.00,9,   2301.3,2,   -999.0,9,   7.5002,2,     25.0, TS,  -999.00,9,   -999.0,  -999.00,9,  -999.00,9,  -999.00,9,  -999.00,9,   -999.0,-999.0000, -999,9,  999,   4.2949,  27.3847,   -999.0,9
       RF06-10,  137E,RF-2802,  1,      4,02-18558,2,20061027,0710, 15.0057, 136.9923, 5351,   1260.9,   3.5598,  34.5593,2,   -999.0,9,  34.5590,2,     90.1,2,   115.46,2,  -999.00,9,    38.42,2,     0.00,2,     2.77,2, -999.000,9, -999.000,9,  -999.00,9,   2313.7,2,   -999.0,9,   7.5084,2,     25.0, TS,  -999.00,9,   -999.0,  -999.00,9,  -999.00,9,  -999.00,9,  -999.00,9,   -999.0,-999.0000, -999,9, 1250,   3.4661,  27.4893,   -999.0,9
       RF06-10,  137E,RF-2802,  1,      3,02-18557,2,20061027,0705, 15.0057, 136.9923, 5351,   1514.1,   2.8481,  34.5864,2,   -999.0,9,  34.5859,2,     98.6,2,   129.25,2,  -999.00,9,    38.39,2,     0.00,2,     2.76,2, -999.000,9, -999.000,9,  -999.00,9,   2325.5,2,   -999.0,9,   7.5192,2,     25.0, TS,  -999.00,9,   -999.0,  -999.00,9,  -999.00,9,  -999.00,9,  -999.00,9,   -999.0,-999.0000, -999,9, 1500,   2.7408,  27.5783,   -999.0,9
       RF06-10,  137E,RF-2802,  1,      2,02-18556,2,20061027,0700, 15.0057, 136.9923, 5351,   1768.4,   2.3949,  34.6125,2,   -999.0,9,  34.6119,2,    107.3,2,   136.27,2,  -999.00,9,    38.28,2,     0.00,2,     2.74,2, -999.000,9, -999.000,9,  -999.00,9,   2337.3,3,   -999.0,9,   7.5261,2,     25.0, TS,  -999.00,9,   -999.0,  -999.00,9,  -999.00,9,  -999.00,9,  -999.00,9,   -999.0,-999.0000, -999,9, 1751,   2.2722,  27.6392,   -999.0,9
       RF06-10,  137E,RF-2802,  1,      1,02-18555,2,20061027,0655, 15.0057, 136.9923, 5351,   2021.2,   2.1265,  34.6302,2,   -999.0,9,  34.6303,2,    113.4,2,   139.77,2,  -999.00,9,    37.99,2,     0.00,2,     2.70,2, -999.000,9, -999.000,9,  -999.00,9,   2325.7,3,   -999.0,9,   7.5374,2,     25.0, TS,  -999.00,9,   -999.0,  -999.00,9,  -999.00,9,  -999.00,9,  -999.00,9,   -999.0,-999.0000, -999,9, 2000,   1.9863,  27.6765,   -999.0,9