BOTTLE,20130510GEMDJMAYT
EXPOCODE,SECT_ID,STNNBR,CASTNO,SAMPNO,BTLNBR,BTLNBR_FLAG_W,DATE,TIME,LATITUDE,LONGITUDE,DEPTH,CTDPRS,CTDTMP,CTDSAL,CTDSAL_FLAG_W,CTDOXY,CTDOXY_FLAG_W,SALNTY,SALNTY_FLAG_W,OXYGEN,OXYGEN_FLAG_W,SILCAT,SILCAT_FLAG_W,NITRAT,NITRAT_FLAG_W,NO2+NO3,NO2+NO3_FLAG_W,NITRIT,NITRIT_FLAG_W,PHSPHT,PHSPHT_FLAG_W,CFC-11,CFC-11_FLAG_W,CFC-12,CFC-12_FLAG_W,DELC13,DELC13_FLAG_W,TCARBN,TCARBN_FLAG_W,ALKALI,ALKALI_FLAG_W,PH,PH_FLAG_W,PH_TMP,PH_SCALE,PH_NBS,PH_NBS_FLAG_W,C13ERR,TOTALP,TOTALP_FLAG_W,AMMONI,AMMONI_FLAG_W,CHLORA,CHLORA_FLAG_W,PPHYTN,PPHYTN_FLAG_W,REVPRS,REVTMP,DEPTH_,DEPTH_FLAG,CTDDEP,THETA,SIGTHT,DOC,DOC_FLAG_W
,,,,,,,GMT,GMT,,,METER,DBAR,ITS-90,PSS-78,,UMOL/KG,,PSS-78,,UMOL/KG,,UMOL/KG,,UMOL/KG,,UMOL/KG,,UMOL/KG,,UMOL/KG,,PMOL/KG,,PMOL/KG,,/MILLE,,UMOL/KG,,UMOL/KG,,25_DEG_C,,DEG_C,,,,/MILLE,UMOL/KG,,UMOL/KG,,UG/L,,UG/L,,DBAR,ITS-90,METERS,,METERS,DEG_C,,UMOL/L,
       RF07-01,  142E,RF-2885,  1,     -9,      -9,5,20070221,0148, -0.0003, 141.9988, 3389,      0.0,  29.0078,  34.4158,2,   -999.0,9,-999.0000,9,    196.1,2,     1.43,2,  -999.00,9,     0.00,2,     0.00,2,     0.08,2, -999.000,9, -999.000,9,  -999.00,9,   1928.3,3,   -999.0,9,   8.1050,2,     25.0, TS,  -999.00,9,   -999.0,  -999.00,9,  -999.00,9,     0.10,2,     0.03,2,   -999.0,-999.0000, -999,9,    0,  29.0076,  21.6230,   -999.0,9
       RF07-01,  142E,RF-2885,  1,     21,02-18575,2,20070221,0200, -0.0003, 141.9988, 3389,     11.8,  28.7318,  34.4166,2,   -999.0,9,  34.4223,4,    196.5,2,     1.40,2,  -999.00,9,     0.00,2,     0.00,2,     0.07,2, -999.000,9, -999.000,9,  -999.00,9,   1928.3,3,   -999.0,9,   8.1070,2,     25.0, TS,  -999.00,9,   -999.0,  -999.00,9,  -999.00,9,     0.11,2,     0.05,2,   -999.0,-999.0000, -999,9,   12,  28.7290,  21.7162,   -999.0,9
       RF07-01,  142E,RF-2885,  1,     20,02-18574,2,20070221,0159, -0.0003, 141.9988, 3389,     26.2,  28.8177,  34.5097,2,   -999.0,9,-999.0000,9,    196.0,2,     1.38,2,  -999.00,9,     0.00,2,     0.00,2,     0.09,2, -999.000,9, -999.000,9,  -999.00,9,   1929.4,3,   -999.0,9,   8.1069,2,     25.0, TS,  -999.00,9,   -999.0,  -999.00,9,  -999.00,9,     0.13,2,     0.06,2,   -999.0,-999.0000, -999,9,   26,  28.8114,  21.7588,   -999.0,9
       RF07-01,  142E,RF-2885,  1,     19,02-18573,2,20070221,0158, -0.0003, 141.9988, 3389,     51.6,  28.7660,  34.5044,2,   -999.0,9,-999.0000,9,    200.0,2,     1.48,2,  -999.00,9,     0.00,2,     0.00,2,     0.07,2, -999.000,9, -999.000,9,  -999.00,9,   1933.8,3,   -999.0,9,   8.1062,2,     25.0, TS,  -999.00,9,   -999.0,  -999.00,9,  -999.00,9,     0.19,2,     0.08,2,   -999.0,-999.0000, -999,9,   51,  28.7536,  21.7740,   -999.0,9
       RF07-01,  142E,RF-2885,  1,     18,02-18572,2,20070221,0157, -0.0003, 141.9988, 3389,     78.0,  28.1436,  34.5753,2,   -999.0,9,-999.0000,9,    188.3,2,     1.21,2,  -999.00,9,     0.89,2,     0.09,2,     0.15,2, -999.000,9, -999.000,9,  -999.00,9,   1958.6,3,   -999.0,9,   8.0839,2,     25.0, TS,  -999.00,9,   -999.0,  -999.00,9,  -999.00,9,     0.55,2,     0.26,2,   -999.0,-999.0000, -999,9,   78,  28.1252,  22.0344,   -999.0,9
       RF07-01,  142E,RF-2885,  1,     17,02-18571,2,20070221,0156, -0.0003, 141.9988, 3389,    102.8,  24.6231,  35.4195,2,   -999.0,9,  35.4223,4,    125.8,2,     4.32,2,  -999.00,9,     9.98,2,     0.07,2,     0.70,2, -999.000,9, -999.000,9,  -999.00,9,   2074.9,3,   -999.0,9,   7.9476,2,     25.0, TS,  -999.00,9,   -999.0,  -999.00,9,  -999.00,9,     0.09,2,     0.21,2,   -999.0,-999.0000, -999,9,  102,  24.6010,  23.7792,   -999.0,9
       RF07-01,  142E,RF-2885,  1,     16,02-18570,2,20070221,0155, -0.0003, 141.9988, 3389,    126.9,  21.7348,  35.2860,2,   -999.0,9,-999.0000,9,    135.2,2,     6.83,2,  -999.00,9,    10.76,2,     0.01,2,     0.75,2, -999.000,9, -999.000,9,  -999.00,9,   2081.5,3,   -999.0,9,   7.9097,2,     25.0, TS,  -999.00,9,   -999.0,  -999.00,9,  -999.00,9,     0.03,2,     0.06,2,   -999.0,-999.0000, -999,9,  126,  21.7099,  24.5162,   -999.0,9
       RF07-01,  142E,RF-2885,  1,     15,02-18569,2,20070221,0154, -0.0003, 141.9988, 3389,    152.5,  20.4396,  35.1751,2,   -999.0,9,-999.0000,9,    137.1,2,     7.57,2,  -999.00,9,    10.82,2,     0.01,2,     0.76,2, -999.000,9, -999.000,9,  -999.00,9,   2087.7,3,   -999.0,9,   7.9046,2,     25.0, TS,  -999.00,9,   -999.0,  -999.00,9,  -999.00,9,     0.01,2,     0.04,2,   -999.0,-999.0000, -999,9,  152,  20.4110,  24.7862,   -999.0,9
       RF07-01,  142E,RF-2885,  1,     14,02-18568,2,20070221,0153, -0.0003, 141.9988, 3389,    203.2,  19.4041,  35.4887,2,   -999.0,9,  35.4897,2,    131.9,2,     5.75,2,  -999.00,9,    12.23,2,     0.00,2,     0.88,2, -999.000,9, -999.000,9,  -999.00,9,   2116.0,3,   -999.0,9,   7.8815,2,     25.0, TS,  -999.00,9,   -999.0,  -999.00,9,  -999.00,9,     0.00,2,     0.02,2,   -999.0,-999.0000, -999,9,  202,  19.3672,  25.3002,   -999.0,9
       RF07-01,  142E,RF-2885,  1,     13,02-18567,2,20070221,0151, -0.0003, 141.9988, 3389,    253.5,  14.5310,  35.1254,2,   -999.0,9,-999.0000,9,    143.2,2,    11.49,2,  -999.00,9,    17.03,2,     0.00,2,     1.18,2, -999.000,9, -999.000,9,  -999.00,9,   2137.0,3,   -999.0,9,   7.7989,2,     25.0, TS,  -999.00,9,   -999.0,  -999.00,9,  -999.00,9,  -999.00,9,  -999.00,9,   -999.0,-999.0000, -999,9,  252,  14.4933,  26.1790,   -999.0,9
       RF07-01,  142E,RF-2885,  1,     12,02-18348,2,20070221,0149, -0.0003, 141.9988, 3389,    302.8,  11.4274,  34.8185,2,   -999.0,9,  34.8201,2,    135.4,2,    22.49,2,  -999.00,9,    22.61,2,     0.00,2,     1.55,2, -999.000,9, -999.000,9,  -999.00,9,   2165.7,3,   -999.0,9,   7.7197,2,     25.0, TS,  -999.00,9,   -999.0,  -999.00,9,  -999.00,9,  -999.00,9,  -999.00,9,   -999.0,-999.0000, -999,9,  301,  11.3890,  26.5630,   -999.0,9
       RF07-01,  142E,RF-2885,  1,     11,02-18565,2,20070221,0147, -0.0003, 141.9988, 3389,    405.2,   9.8181,  34.7171,2,   -999.0,9,  34.7172,2,    103.4,2,    28.71,2,  -999.00,9,    28.91,2,     0.00,2,     1.97,2, -999.000,9, -999.000,9,  -999.00,9,   2201.2,3,   -999.0,9,   7.6218,2,     25.0, TS,  -999.00,9,   -999.0,  -999.00,9,  -999.00,9,  -999.00,9,  -999.00,9,   -999.0,-999.0000, -999,9,  403,   9.7713,  26.7698,   -999.0,9
       RF07-01,  142E,RF-2885,  1,     10,02-18564,2,20070221,0145, -0.0003, 141.9988, 3389,    505.6,   7.9211,  34.5924,2,   -999.0,9,-999.0000,9,    122.8,2,    36.87,2,  -999.00,9,    30.67,2,     0.00,2,     2.10,2, -999.000,9, -999.000,9,  -999.00,9,   2203.9,3,   -999.0,9,   7.6113,2,     25.0, TS,  -999.00,9,   -999.0,  -999.00,9,  -999.00,9,  -999.00,9,  -999.00,9,   -999.0,-999.0000, -999,9,  502,   7.8695,  26.9731,   -999.0,9
       RF07-01,  142E,RF-2885,  1,      9,02-18563,2,20070221,0143, -0.0003, 141.9988, 3389,    605.5,   7.2441,  34.5708,2,   -999.0,9,  34.5703,2,    101.9,2,    45.37,2,  -999.00,9,    34.11,2,     0.00,2,     2.38,2, -999.000,9, -999.000,9,  -999.00,9,   2233.1,3,   -999.0,9,   7.5597,3,     25.0, TS,  -999.00,9,   -999.0,  -999.00,9,  -999.00,9,  -999.00,9,  -999.00,9,   -999.0,-999.0000, -999,9,  601,   7.1850,  27.0548,   -999.0,9
       RF07-01,  142E,RF-2885,  1,      8,02-18562,2,20070221,0141, -0.0003, 141.9988, 3389,    706.7,   6.0345,  34.5400,2,   -999.0,9,-999.0000,9,    104.4,2,    58.37,2,  -999.00,9,    35.86,2,     0.00,2,     2.52,2, -999.000,9, -999.000,9,  -999.00,9,   2250.0,3,   -999.0,9,   7.5437,2,     25.0, TS,  -999.00,9,   -999.0,  -999.00,9,  -999.00,9,  -999.00,9,  -999.00,9,   -999.0,-999.0000, -999,9,  702,   5.9715,  27.1928,   -999.0,9
       RF07-01,  142E,RF-2885,  1,      7,02-18561,2,20070221,0138, -0.0003, 141.9988, 3389,    807.7,   5.6909,  34.5394,2,   -999.0,9,  34.5390,2,     96.8,2,    66.01,2,  -999.00,9,    37.14,2,     0.00,2,     2.62,2, -999.000,9, -999.000,9,  -999.00,9,   2262.8,3,   -999.0,9,   7.5124,2,     25.0, TS,  -999.00,9,   -999.0,  -999.00,9,  -999.00,9,  -999.00,9,  -999.00,9,   -999.0,-999.0000, -999,9,  802,   5.6204,  27.2361,   -999.0,9
       RF07-01,  142E,RF-2885,  1,      6,02-18560,2,20070221,0136, -0.0003, 141.9988, 3389,    908.3,   4.9556,  34.5415,2,   -999.0,9,-999.0000,9,    104.8,2,    78.49,2,  -999.00,9,    37.08,2,     0.00,2,     2.63,2, -999.000,9, -999.000,9,  -999.00,9,   2275.6,3,   -999.0,9,   7.5337,2,     25.0, TS,  -999.00,9,   -999.0,  -999.00,9,  -999.00,9,  -999.00,9,  -999.00,9,   -999.0,-999.0000, -999,9,  901,   4.8808,  27.3254,   -999.0,9
       RF07-01,  142E,RF-2885,  1,      5,02-18559,2,20070221,0134, -0.0003, 141.9988, 3389,   1009.7,   4.4909,  34.5513,2,   -999.0,9,  34.5512,2,    102.5,2,    89.15,2,  -999.00,9,    37.75,2,     0.00,2,     2.68,2, -999.000,9, -999.000,9,  -999.00,9,   2288.1,3,   -999.0,9,   7.5290,2,     25.0, TS,  -999.00,9,   -999.0,  -999.00,9,  -999.00,9,  -999.00,9,  -999.00,9,   -999.0,-999.0000, -999,9, 1002,   4.4106,  27.3856,   -999.0,9
       RF07-01,  142E,RF-2885,  1,      4,02-18558,2,20070221,0129, -0.0003, 141.9988, 3389,   1263.3,   3.7017,  34.5775,2,   -999.0,9,  34.5771,2,     98.5,2,   107.80,2,  -999.00,9,    38.74,2,     0.00,2,     2.78,2, -999.000,9, -999.000,9,  -999.00,9,   2304.2,3,   -999.0,9,-999.0000,9,   -999.0,  9,  -999.00,9,   -999.0,  -999.00,9,  -999.00,9,  -999.00,9,  -999.00,9,   -999.0,-999.0000, -999,9, 1253,   3.6064,  27.4900,   -999.0,9
       RF07-01,  142E,RF-2885,  1,      3,02-18557,2,20070221,0124, -0.0003, 141.9988, 3389,   1515.0,   3.0515,  34.6007,2,   -999.0,9,  34.6010,2,    103.6,2,   121.43,2,  -999.00,9,    38.77,2,     0.00,2,     2.76,2, -999.000,9, -999.000,9,  -999.00,9,   2323.5,3,   -999.0,9,-999.0000,9,   -999.0,  9,  -999.00,9,   -999.0,  -999.00,9,  -999.00,9,  -999.00,9,  -999.00,9,   -999.0,-999.0000, -999,9, 1501,   2.9418,  27.5717,   -999.0,9
       RF07-01,  142E,RF-2885,  1,      2,02-18556,2,20070221,0119, -0.0003, 141.9988, 3389,   1769.3,   2.5834,  34.6214,2,   -999.0,9,  34.6220,2,    112.9,2,   129.96,2,  -999.00,9,    38.26,2,     0.00,2,     2.72,2, -999.000,9, -999.000,9,  -999.00,9,   2329.7,3,   -999.0,9,-999.0000,9,   -999.0,  9,  -999.00,9,   -999.0,  -999.00,9,  -999.00,9,  -999.00,9,  -999.00,9,   -999.0,-999.0000, -999,9, 1752,   2.4580,  27.6307,   -999.0,9
       RF07-01,  142E,RF-2885,  1,      1,02-18555,2,20070221,0114, -0.0003, 141.9988, 3389,   2020.9,   2.2359,  34.6389,2,   -999.0,9,  34.6385,2,    117.3,2,   137.11,2,  -999.00,9,    38.23,2,     0.00,2,     2.70,2, -999.000,9, -999.000,9,  -999.00,9,   2332.1,3,   -999.0,9,   7.5436,6,     25.0, TS,  -999.00,9,   -999.0,  -999.00,9,  -999.00,9,  -999.00,9,  -999.00,9,   -999.0,-999.0000, -999,9, 2000,   2.0941,  27.6749,   -999.0,9