BOTTLE,20130510GEMDJMAYT
EXPOCODE,SECT_ID,STNNBR,CASTNO,SAMPNO,BTLNBR,BTLNBR_FLAG_W,DATE,TIME,LATITUDE,LONGITUDE,DEPTH,CTDPRS,CTDTMP,CTDSAL,CTDSAL_FLAG_W,CTDOXY,CTDOXY_FLAG_W,SALNTY,SALNTY_FLAG_W,OXYGEN,OXYGEN_FLAG_W,SILCAT,SILCAT_FLAG_W,NITRAT,NITRAT_FLAG_W,NO2+NO3,NO2+NO3_FLAG_W,NITRIT,NITRIT_FLAG_W,PHSPHT,PHSPHT_FLAG_W,CFC-11,CFC-11_FLAG_W,CFC-12,CFC-12_FLAG_W,DELC13,DELC13_FLAG_W,TCARBN,TCARBN_FLAG_W,ALKALI,ALKALI_FLAG_W,PH,PH_FLAG_W,PH_TMP,PH_SCALE,PH_NBS,PH_NBS_FLAG_W,C13ERR,TOTALP,TOTALP_FLAG_W,AMMONI,AMMONI_FLAG_W,CHLORA,CHLORA_FLAG_W,PPHYTN,PPHYTN_FLAG_W,REVPRS,REVTMP,DEPTH_,DEPTH_FLAG,CTDDEP,THETA,SIGTHT,DOC,DOC_FLAG_W
,,,,,,,GMT,GMT,,,METER,DBAR,ITS-90,PSS-78,,UMOL/KG,,PSS-78,,UMOL/KG,,UMOL/KG,,UMOL/KG,,UMOL/KG,,UMOL/KG,,UMOL/KG,,PMOL/KG,,PMOL/KG,,/MILLE,,UMOL/KG,,UMOL/KG,,25_DEG_C,,DEG_C,,,,/MILLE,UMOL/KG,,UMOL/KG,,UG/L,,UG/L,,DBAR,ITS-90,METERS,,METERS,DEG_C,,UMOL/L,
       RF07-01, EQPAC,RF-2878,  1,     -9,      -9,5,20070218,0243, -0.0110, 154.9885, 2481,      0.0,  29.6085,  34.0620,2,   -999.0,9,-999.0000,9,    194.0,2,     1.20,2,  -999.00,9,     0.00,2,     0.00,2,     0.06,2, -999.000,9, -999.000,9,  -999.00,9,   1891.2,2,   -999.0,9,-999.0000,9,   -999.0,  9,  -999.00,9,   -999.0,  -999.00,9,  -999.00,9,     0.12,2,     0.04,2,   -999.0,-999.0000, -999,9,    0,  29.6083,  21.1560,   -999.0,9
       RF07-01, EQPAC,RF-2878,  1,     21,02-18575,2,20070218,0300, -0.0110, 154.9885, 2481,     11.6,  29.5991,  34.0617,2,   -999.0,9,  34.0605,2,    196.4,2,     1.20,2,  -999.00,9,     0.00,2,     0.00,2,     0.06,2, -999.000,9, -999.000,9,  -999.00,9,   1890.1,2,   -999.0,9,-999.0000,9,   -999.0,  9,  -999.00,9,   -999.0,  -999.00,9,  -999.00,9,     0.12,2,     0.04,2,   -999.0,-999.0000, -999,9,   12,  29.5963,  21.1598,   -999.0,9
       RF07-01, EQPAC,RF-2878,  1,     20,02-18574,2,20070218,0259, -0.0110, 154.9885, 2481,     26.1,  29.6009,  34.0625,2,   -999.0,9,-999.0000,9,    193.9,2,     1.22,2,  -999.00,9,     0.00,2,     0.00,2,     0.06,2, -999.000,9, -999.000,9,  -999.00,9,   1889.9,2,   -999.0,9,-999.0000,9,   -999.0,  9,  -999.00,9,   -999.0,  -999.00,9,  -999.00,9,     0.12,2,     0.05,2,   -999.0,-999.0000, -999,9,   26,  29.5945,  21.1610,   -999.0,9
       RF07-01, EQPAC,RF-2878,  1,     19,02-18573,2,20070218,0258, -0.0110, 154.9885, 2481,     53.1,  29.6045,  34.0736,2,   -999.0,9,-999.0000,9,    194.6,2,     1.18,2,  -999.00,9,     0.00,2,     0.00,2,     0.06,2, -999.000,9, -999.000,9,  -999.00,9,   1893.0,2,   -999.0,9,-999.0000,9,   -999.0,  9,  -999.00,9,   -999.0,  -999.00,9,  -999.00,9,     0.16,2,     0.06,2,   -999.0,-999.0000, -999,9,   53,  29.5915,  21.1704,   -999.0,9
       RF07-01, EQPAC,RF-2878,  1,     18,02-18572,2,20070218,0257, -0.0110, 154.9885, 2481,     77.4,  29.6395,  34.4349,2,   -999.0,9,-999.0000,9,    192.0,2,     1.26,2,  -999.00,9,     0.10,2,     0.00,2,     0.12,2, -999.000,9, -999.000,9,  -999.00,9,   1923.0,2,   -999.0,9,-999.0000,9,   -999.0,  9,  -999.00,9,   -999.0,  -999.00,9,  -999.00,9,     0.24,2,     0.13,2,   -999.0,-999.0000, -999,9,   77,  29.6205,  21.4315,   -999.0,9
       RF07-01, EQPAC,RF-2878,  1,     17,02-18571,2,20070218,0256, -0.0110, 154.9885, 2481,    103.6,  26.4177,  35.2746,2,   -999.0,9,  35.2614,4,    152.8,2,     3.31,2,  -999.00,9,     6.19,2,     0.31,2,     0.54,2, -999.000,9, -999.000,9,  -999.00,9,   2035.9,2,   -999.0,9,-999.0000,9,   -999.0,  9,  -999.00,9,   -999.0,  -999.00,9,  -999.00,9,     0.23,2,     0.48,2,   -999.0,-999.0000, -999,9,  103,  26.3943,  23.1169,   -999.0,9
       RF07-01, EQPAC,RF-2878,  1,     16,02-18570,2,20070218,0255, -0.0110, 154.9885, 2481,    129.2,  23.2792,  34.9584,2,   -999.0,9,-999.0000,9,    147.5,2,     5.22,2,  -999.00,9,     7.53,2,     0.03,2,     0.57,2, -999.000,9, -999.000,9,  -999.00,9,   2046.5,2,   -999.0,9,-999.0000,9,   -999.0,  9,  -999.00,9,   -999.0,  -999.00,9,  -999.00,9,     0.08,2,     0.25,2,   -999.0,-999.0000, -999,9,  128,  23.2526,  23.8290,   -999.0,9
       RF07-01, EQPAC,RF-2878,  1,     15,02-18569,2,20070218,0253, -0.0110, 154.9885, 2481,    153.8,  21.5440,  35.4949,2,   -999.0,9,-999.0000,9,    132.1,2,     5.59,2,  -999.00,9,    11.16,2,     0.01,2,     0.84,2, -999.000,9, -999.000,9,  -999.00,9,   2098.3,2,   -999.0,9,-999.0000,9,   -999.0,  9,  -999.00,9,   -999.0,  -999.00,9,  -999.00,9,     0.01,2,     0.05,2,   -999.0,-999.0000, -999,9,  153,  21.5140,  24.7295,   -999.0,9
       RF07-01, EQPAC,RF-2878,  1,     14,02-18568,2,20070218,0252, -0.0110, 154.9885, 2481,    201.5,  15.6731,  35.0983,2,   -999.0,9,  35.1212,4,    137.8,2,    11.56,2,  -999.00,9,    15.65,2,     0.00,2,     1.11,2, -999.000,9, -999.000,9,  -999.00,9,   2129.3,2,   -999.0,9,-999.0000,9,   -999.0,  9,  -999.00,9,   -999.0,  -999.00,9,  -999.00,9,     0.00,2,     0.03,2,   -999.0,-999.0000, -999,9,  200,  15.6416,  25.9048,   -999.0,9
       RF07-01, EQPAC,RF-2878,  1,     13,02-18567,2,20070218,0250, -0.0110, 154.9885, 2481,    253.0,  12.7702,  34.9245,2,   -999.0,9,-999.0000,9,    137.6,2,    17.76,2,  -999.00,9,    20.32,2,     0.00,2,     1.42,2, -999.000,9, -999.000,9,  -999.00,9,   2154.7,2,   -999.0,9,-999.0000,9,   -999.0,  9,  -999.00,9,   -999.0,  -999.00,9,  -999.00,9,  -999.00,9,  -999.00,9,   -999.0,-999.0000, -999,9,  251,  12.7358,  26.3871,   -999.0,9
       RF07-01, EQPAC,RF-2878,  1,     12,02-18348,2,20070218,0248, -0.0110, 154.9885, 2481,    303.8,  11.8661,  34.8420,2,   -999.0,9,  34.8419,2,    128.7,2,    21.16,2,  -999.00,9,    22.77,2,     0.00,2,     1.58,2, -999.000,9, -999.000,9,  -999.00,9,   2167.4,2,   -999.0,9,-999.0000,9,   -999.0,  9,  -999.00,9,   -999.0,  -999.00,9,  -999.00,9,  -999.00,9,  -999.00,9,   -999.0,-999.0000, -999,9,  302,  11.8266,  26.4993,   -999.0,9
       RF07-01, EQPAC,RF-2878,  1,     11,02-18565,2,20070218,0246, -0.0110, 154.9885, 2481,    405.3,   9.7047,  34.7035,2,   -999.0,9,  34.7010,2,     79.2,2,    32.04,2,  -999.00,9,    31.45,2,     0.00,2,     2.16,2, -999.000,9, -999.000,9,  -999.00,9,   2221.5,4,   -999.0,9,-999.0000,9,   -999.0,  9,  -999.00,9,   -999.0,  -999.00,9,  -999.00,9,  -999.00,9,  -999.00,9,   -999.0,-999.0000, -999,9,  403,   9.6582,  26.7781,   -999.0,9
       RF07-01, EQPAC,RF-2878,  1,     10,02-18564,2,20070218,0243, -0.0110, 154.9885, 2481,    504.7,   7.7208,  34.5888,2,   -999.0,9,-999.0000,9,    122.5,2,    35.77,2,  -999.00,9,    31.06,2,     0.00,2,     2.14,2, -999.000,9, -999.000,9,  -999.00,9,   2212.0,2,   -999.0,9,-999.0000,9,   -999.0,  9,  -999.00,9,   -999.0,  -999.00,9,  -999.00,9,  -999.00,9,  -999.00,9,   -999.0,-999.0000, -999,9,  501,   7.6701,  26.9996,   -999.0,9
       RF07-01, EQPAC,RF-2878,  1,      9,02-18563,2,20070218,0241, -0.0110, 154.9885, 2481,    605.6,   7.1849,  34.5784,2,   -999.0,9,  34.5776,2,     78.0,2,    48.16,2,  -999.00,9,    36.32,2,     0.00,2,     2.55,2, -999.000,9, -999.000,9,  -999.00,9,   2249.3,2,   -999.0,9,-999.0000,9,   -999.0,  9,  -999.00,9,   -999.0,  -999.00,9,  -999.00,9,  -999.00,9,  -999.00,9,   -999.0,-999.0000, -999,9,  601,   7.1261,  27.0691,   -999.0,9
       RF07-01, EQPAC,RF-2878,  1,      8,02-18562,2,20070218,0239, -0.0110, 154.9885, 2481,    706.5,   6.1437,  34.5495,2,   -999.0,9,-999.0000,9,     83.9,2,    59.40,2,  -999.00,9,    37.50,2,     0.00,2,     2.65,2, -999.000,9, -999.000,9,  -999.00,9,   2261.8,2,   -999.0,9,-999.0000,9,   -999.0,  9,  -999.00,9,   -999.0,  -999.00,9,  -999.00,9,  -999.00,9,  -999.00,9,   -999.0,-999.0000, -999,9,  701,   6.0801,  27.1865,   -999.0,9
       RF07-01, EQPAC,RF-2878,  1,      7,02-18561,2,20070218,0236, -0.0110, 154.9885, 2481,    807.5,   5.4450,  34.5405,2,   -999.0,9,  34.5410,2,     95.4,2,    68.95,2,  -999.00,9,    37.33,2,     0.00,2,     2.66,2, -999.000,9, -999.000,9,  -999.00,9,   2267.4,2,   -999.0,9,-999.0000,9,   -999.0,  9,  -999.00,9,   -999.0,  -999.00,9,  -999.00,9,  -999.00,9,  -999.00,9,   -999.0,-999.0000, -999,9,  801,   5.3761,  27.2666,   -999.0,9
       RF07-01, EQPAC,RF-2878,  1,      6,02-18560,2,20070218,0234, -0.0110, 154.9885, 2481,    909.0,   5.1955,  34.5424,2,   -999.0,9,-999.0000,9,     92.6,2,    74.17,2,  -999.00,9,    37.99,2,     0.00,2,     2.71,2, -999.000,9, -999.000,9,  -999.00,9,   2277.3,2,   -999.0,9,-999.0000,9,   -999.0,  9,  -999.00,9,   -999.0,  -999.00,9,  -999.00,9,  -999.00,9,  -999.00,9,   -999.0,-999.0000, -999,9,  902,   5.1190,  27.2986,   -999.0,9
       RF07-01, EQPAC,RF-2878,  1,      5,02-18559,2,20070218,0231, -0.0110, 154.9885, 2481,   1010.1,   4.2574,  34.5601,2,   -999.0,9,  34.5600,2,     94.3,2,    93.05,2,  -999.00,9,    38.54,2,     0.00,2,     2.75,2, -999.000,9, -999.000,9,  -999.00,9,   2293.4,2,   -999.0,9,-999.0000,9,   -999.0,  9,  -999.00,9,   -999.0,  -999.00,9,  -999.00,9,  -999.00,9,  -999.00,9,   -999.0,-999.0000, -999,9, 1002,   4.1788,  27.4175,   -999.0,9
       RF07-01, EQPAC,RF-2878,  1,      4,02-18558,2,20070218,0226, -0.0110, 154.9885, 2481,   1263.7,   3.5923,  34.5811,2,   -999.0,9,  34.5825,2,     96.4,2,   107.94,2,  -999.00,9,    38.86,2,     0.00,2,     2.78,2, -999.000,9, -999.000,9,  -999.00,9,   2318.2,2,   -999.0,9,-999.0000,9,   -999.0,  9,  -999.00,9,   -999.0,  -999.00,9,  -999.00,9,  -999.00,9,  -999.00,9,   -999.0,-999.0000, -999,9, 1253,   3.4980,  27.5035,   -999.0,9
       RF07-01, EQPAC,RF-2878,  1,      3,02-18557,2,20070218,0221, -0.0110, 154.9885, 2481,   1515.4,   2.9689,  34.6045,2,   -999.0,9,  34.6035,2,    103.4,2,   120.86,2,  -999.00,9,    38.74,2,     0.00,2,     2.76,2, -999.000,9, -999.000,9,  -999.00,9,   2323.1,2,   -999.0,9,-999.0000,9,   -999.0,  9,  -999.00,9,   -999.0,  -999.00,9,  -999.00,9,  -999.00,9,  -999.00,9,   -999.0,-999.0000, -999,9, 1502,   2.8601,  27.5821,   -999.0,9
       RF07-01, EQPAC,RF-2878,  1,      2,02-18556,2,20070218,0216, -0.0110, 154.9885, 2481,   1769.2,   2.4907,  34.6265,2,   -999.0,9,  34.6254,2,    112.4,2,   130.62,2,  -999.00,9,    38.53,2,     0.00,2,     2.72,2, -999.000,9, -999.000,9,  -999.00,9,   2329.2,2,   -999.0,9,-999.0000,9,   -999.0,  9,  -999.00,9,   -999.0,  -999.00,9,  -999.00,9,  -999.00,9,  -999.00,9,   -999.0,-999.0000, -999,9, 1752,   2.3666,  27.6426,   -999.0,9
       RF07-01, EQPAC,RF-2878,  1,      1,02-18555,2,20070218,0211, -0.0110, 154.9885, 2481,   2021.3,   2.2033,  34.6409,2,   -999.0,9,  34.6402,2,    118.6,2,   135.98,2,  -999.00,9,    38.12,2,     0.00,2,     2.69,2, -999.000,9, -999.000,9,  -999.00,9,   2328.7,2,   -999.0,9,-999.0000,9,   -999.0,  9,  -999.00,9,   -999.0,  -999.00,9,  -999.00,9,  -999.00,9,  -999.00,9,   -999.0,-999.0000, -999,9, 2001,   2.0619,  27.6790,   -999.0,9