BOTTLE,20130510GEMDJMAYT
EXPOCODE,SECT_ID,STNNBR,CASTNO,SAMPNO,BTLNBR,BTLNBR_FLAG_W,DATE,TIME,LATITUDE,LONGITUDE,DEPTH,CTDPRS,CTDTMP,CTDSAL,CTDSAL_FLAG_W,CTDOXY,CTDOXY_FLAG_W,SALNTY,SALNTY_FLAG_W,OXYGEN,OXYGEN_FLAG_W,SILCAT,SILCAT_FLAG_W,NITRAT,NITRAT_FLAG_W,NO2+NO3,NO2+NO3_FLAG_W,NITRIT,NITRIT_FLAG_W,PHSPHT,PHSPHT_FLAG_W,CFC-11,CFC-11_FLAG_W,CFC-12,CFC-12_FLAG_W,DELC13,DELC13_FLAG_W,TCARBN,TCARBN_FLAG_W,ALKALI,ALKALI_FLAG_W,PH,PH_FLAG_W,PH_TMP,PH_SCALE,PH_NBS,PH_NBS_FLAG_W,C13ERR,TOTALP,TOTALP_FLAG_W,AMMONI,AMMONI_FLAG_W,CHLORA,CHLORA_FLAG_W,PPHYTN,PPHYTN_FLAG_W,REVPRS,REVTMP,DEPTH_,DEPTH_FLAG,CTDDEP,THETA,SIGTHT,DOC,DOC_FLAG_W
,,,,,,,GMT,GMT,,,METER,DBAR,ITS-90,PSS-78,,UMOL/KG,,PSS-78,,UMOL/KG,,UMOL/KG,,UMOL/KG,,UMOL/KG,,UMOL/KG,,UMOL/KG,,PMOL/KG,,PMOL/KG,,/MILLE,,UMOL/KG,,UMOL/KG,,25_DEG_C,,DEG_C,,,,/MILLE,UMOL/KG,,UMOL/KG,,UG/L,,UG/L,,DBAR,ITS-90,METERS,,METERS,DEG_C,,UMOL/L,
       RF07-01,  165E,RF-2850,  1,     -9,      -9,5,20070129,1021, 17.9882, 164.9842, 5440,      0.0,  26.5167,  34.9987,2,   -999.0,9,-999.0000,9,    200.8,2,     1.40,2,  -999.00,9,     0.00,2,     0.00,2,     0.01,2, -999.000,9, -999.000,9,  -999.00,9,   -999.0,9,   -999.0,9,-999.0000,9,   -999.0,  9,  -999.00,9,   -999.0,  -999.00,9,  -999.00,9,     0.07,2,     0.02,2,   -999.0,-999.0000, -999,9,    0,  26.5165,  22.8703,   -999.0,9
       RF07-01,  165E,RF-2850,  1,     21,02-18575,2,20070129,1040, 17.9882, 164.9842, 5440,     12.6,  26.5295,  34.9994,2,   -999.0,9,  34.9979,2,    199.7,2,     1.42,2,  -999.00,9,     0.00,2,     0.00,2,     0.01,2, -999.000,9, -999.000,9,  -999.00,9,   -999.0,9,   -999.0,9,-999.0000,9,   -999.0,  9,  -999.00,9,   -999.0,  -999.00,9,  -999.00,9,     0.06,2,     0.02,2,   -999.0,-999.0000, -999,9,   13,  26.5266,  22.8676,   -999.0,9
       RF07-01,  165E,RF-2850,  1,     20,02-18574,2,20070129,1039, 17.9882, 164.9842, 5440,     27.8,  26.5339,  34.9991,2,   -999.0,9,-999.0000,9,    200.0,2,     1.33,2,  -999.00,9,     0.00,2,     0.00,2,     0.01,2, -999.000,9, -999.000,9,  -999.00,9,   -999.0,9,   -999.0,9,-999.0000,9,   -999.0,  9,  -999.00,9,   -999.0,  -999.00,9,  -999.00,9,     0.07,2,     0.02,2,   -999.0,-999.0000, -999,9,   28,  26.5276,  22.8671,   -999.0,9
       RF07-01,  165E,RF-2850,  1,     19,02-18573,2,20070129,1038, 17.9882, 164.9842, 5440,     50.8,  26.5341,  34.9990,2,   -999.0,9,-999.0000,9,    198.6,2,     1.29,2,  -999.00,9,     0.00,2,     0.00,2,     0.01,2, -999.000,9, -999.000,9,  -999.00,9,   -999.0,9,   -999.0,9,-999.0000,9,   -999.0,  9,  -999.00,9,   -999.0,  -999.00,9,  -999.00,9,     0.06,2,     0.02,2,   -999.0,-999.0000, -999,9,   50,  26.5226,  22.8686,   -999.0,9
       RF07-01,  165E,RF-2850,  1,     18,02-18572,2,20070129,1036, 17.9882, 164.9842, 5440,     77.7,  26.5375,  34.9992,2,   -999.0,9,-999.0000,9,    200.4,2,     1.27,2,  -999.00,9,     0.00,2,     0.00,2,     0.01,2, -999.000,9, -999.000,9,  -999.00,9,   -999.0,9,   -999.0,9,-999.0000,9,   -999.0,  9,  -999.00,9,   -999.0,  -999.00,9,  -999.00,9,     0.06,2,     0.02,2,   -999.0,-999.0000, -999,9,   77,  26.5199,  22.8696,   -999.0,9
       RF07-01,  165E,RF-2850,  1,     17,02-18571,2,20070129,1035, 17.9882, 164.9842, 5440,    101.9,  26.5232,  35.0298,2,   -999.0,9,  35.0315,2,    203.9,2,     1.27,2,  -999.00,9,     0.00,2,     0.00,2,     0.00,2, -999.000,9, -999.000,9,  -999.00,9,   -999.0,9,   -999.0,9,-999.0000,9,   -999.0,  9,  -999.00,9,   -999.0,  -999.00,9,  -999.00,9,     0.12,2,     0.05,2,   -999.0,-999.0000, -999,9,  101,  26.5001,  22.8990,   -999.0,9
       RF07-01,  165E,RF-2850,  1,     16,02-18570,2,20070129,1034, 17.9882, 164.9842, 5440,    129.2,  26.1104,  35.1612,2,   -999.0,9,-999.0000,9,    204.6,2,     1.41,2,  -999.00,9,     0.00,2,     0.00,2,     0.00,2, -999.000,9, -999.000,9,  -999.00,9,   -999.0,9,   -999.0,9,-999.0000,9,   -999.0,  9,  -999.00,9,   -999.0,  -999.00,9,  -999.00,9,     0.19,2,     0.13,2,   -999.0,-999.0000, -999,9,  128,  26.0815,  23.1295,   -999.0,9
       RF07-01,  165E,RF-2850,  1,     15,02-18569,2,20070129,1033, 17.9882, 164.9842, 5440,    153.5,  24.1664,  35.2139,2,   -999.0,9,-999.0000,9,    196.2,2,     1.69,2,  -999.00,9,     0.07,2,     0.04,2,     0.01,2, -999.000,9, -999.000,9,  -999.00,9,   -999.0,9,   -999.0,9,-999.0000,9,   -999.0,  9,  -999.00,9,   -999.0,  -999.00,9,  -999.00,9,     0.13,2,     0.25,2,   -999.0,-999.0000, -999,9,  153,  24.1339,  23.7635,   -999.0,9
       RF07-01,  165E,RF-2850,  1,     14,02-18568,2,20070129,1031, 17.9882, 164.9842, 5440,    204.8,  19.9472,  35.0002,2,   -999.0,9,  35.0078,4,    185.5,2,     3.07,2,  -999.00,9,     2.27,2,     0.00,2,     0.16,2, -999.000,9, -999.000,9,  -999.00,9,   -999.0,9,   -999.0,9,-999.0000,9,   -999.0,  9,  -999.00,9,   -999.0,  -999.00,9,  -999.00,9,     0.03,2,     0.07,2,   -999.0,-999.0000, -999,9,  203,  19.9094,  24.7857,   -999.0,9
       RF07-01,  165E,RF-2850,  1,     13,02-18567,3,20070129,1029, 17.9882, 164.9842, 5440,    254.5,  17.0693,  34.7578,2,   -999.0,9,-999.0000,9,    197.1,2,     5.31,2,  -999.00,9,     5.42,2,     0.00,2,     0.34,2, -999.000,9, -999.000,9,  -999.00,9,   -999.0,9,   -999.0,9,-999.0000,9,   -999.0,  9,  -999.00,9,   -999.0,  -999.00,9,  -999.00,9,  -999.00,9,  -999.00,9,   -999.0,-999.0000, -999,9,  253,  17.0272,  25.3219,   -999.0,9
       RF07-01,  165E,RF-2850,  1,     12,02-18348,2,20070129,1027, 17.9882, 164.9842, 5440,    305.0,  15.0393,  34.5667,2,   -999.0,9,  34.5728,4,    195.4,2,     8.50,2,  -999.00,9,     8.19,2,     0.00,2,     0.51,2, -999.000,9, -999.000,9,  -999.00,9,   -999.0,9,   -999.0,9,-999.0000,9,   -999.0,  9,  -999.00,9,   -999.0,  -999.00,9,  -999.00,9,  -999.00,9,  -999.00,9,   -999.0,-999.0000, -999,9,  303,  14.9930,  25.6394,   -999.0,9
       RF07-01,  165E,RF-2850,  1,     11,02-18565,2,20070129,1024, 17.9882, 164.9842, 5440,    405.9,  11.1115,  34.2507,2,   -999.0,9,  34.2550,2,    189.6,2,    20.73,2,  -999.00,9,    16.04,2,     0.00,2,     1.06,2, -999.000,9, -999.000,9,  -999.00,9,   -999.0,9,   -999.0,9,-999.0000,9,   -999.0,  9,  -999.00,9,   -999.0,  -999.00,9,  -999.00,9,  -999.00,9,  -999.00,9,   -999.0,-999.0000, -999,9,  403,  11.0611,  26.1810,   -999.0,9
       RF07-01,  165E,RF-2850,  1,     10,02-18564,2,20070129,1021, 17.9882, 164.9842, 5440,    508.7,   8.2259,  34.2333,2,   -999.0,9,-999.0000,9,     94.8,2,    48.00,2,  -999.00,9,    29.91,2,     0.00,2,     2.13,2, -999.000,9, -999.000,9,  -999.00,9,   -999.0,9,   -999.0,9,-999.0000,9,   -999.0,  9,  -999.00,9,   -999.0,  -999.00,9,  -999.00,9,  -999.00,9,  -999.00,9,   -999.0,-999.0000, -999,9,  505,   8.1731,  26.6458,   -999.0,9
       RF07-01,  165E,RF-2850,  1,      9,02-18563,2,20070129,1018, 17.9882, 164.9842, 5440,    608.3,   6.2803,  34.2845,2,   -999.0,9,  34.2826,2,   -999.0,4,    74.77,2,  -999.00,9,    36.77,2,     0.00,2,     2.67,2, -999.000,9, -999.000,9,  -999.00,9,   -999.0,9,   -999.0,9,-999.0000,9,   -999.0,  9,  -999.00,9,   -999.0,  -999.00,9,  -999.00,9,  -999.00,9,  -999.00,9,   -999.0,-999.0000, -999,9,  604,   6.2256,  26.9584,   -999.0,9
       RF07-01,  165E,RF-2850,  1,      8,02-18562,2,20070129,1015, 17.9882, 164.9842, 5440,    707.8,   5.4315,  34.3739,2,   -999.0,9,-999.0000,9,     57.9,2,    88.93,2,  -999.00,9,    38.22,2,     0.00,2,     2.77,2, -999.000,9, -999.000,9,  -999.00,9,   -999.0,9,   -999.0,9,-999.0000,9,   -999.0,  9,  -999.00,9,   -999.0,  -999.00,9,  -999.00,9,  -999.00,9,  -999.00,9,   -999.0,-999.0000, -999,9,  702,   5.3718,  27.1352,   -999.0,9
       RF07-01,  165E,RF-2850,  1,      7,02-18561,2,20070129,1012, 17.9882, 164.9842, 5440,    810.0,   5.0259,  34.4526,2,   -999.0,9,  34.4518,2,     63.5,2,    95.41,2,  -999.00,9,    38.63,2,     0.00,2,     2.78,2, -999.000,9, -999.000,9,  -999.00,9,   -999.0,9,   -999.0,9,-999.0000,9,   -999.0,  9,  -999.00,9,   -999.0,  -999.00,9,  -999.00,9,  -999.00,9,  -999.00,9,   -999.0,-999.0000, -999,9,  804,   4.9594,  27.2460,   -999.0,9
       RF07-01,  165E,RF-2850,  1,      6,02-18560,2,20070129,1009, 17.9882, 164.9842, 5440,    911.8,   4.5983,  34.4955,2,   -999.0,9,-999.0000,9,     66.6,2,   102.50,2,  -999.00,9,    38.96,2,     0.00,2,     2.81,2, -999.000,9, -999.000,9,  -999.00,9,   -999.0,9,   -999.0,9,-999.0000,9,   -999.0,  9,  -999.00,9,   -999.0,  -999.00,9,  -999.00,9,  -999.00,9,  -999.00,9,   -999.0,-999.0000, -999,9,  904,   4.5257,  27.3287,   -999.0,9
       RF07-01,  165E,RF-2850,  1,      5,02-18559,2,20070129,1007, 17.9882, 164.9842, 5440,   1010.2,   4.2160,  34.5195,2,   -999.0,9,  34.5188,2,     69.9,2,   109.42,2,  -999.00,9,    39.39,2,     0.00,2,     2.84,2, -999.000,9, -999.000,9,  -999.00,9,   -999.0,9,   -999.0,9,-999.0000,9,   -999.0,  9,  -999.00,9,   -999.0,  -999.00,9,  -999.00,9,  -999.00,9,  -999.00,9,   -999.0,-999.0000, -999,9, 1002,   4.1378,  27.3895,   -999.0,9
       RF07-01,  165E,RF-2850,  1,      4,02-18558,2,20070129,1001, 17.9882, 164.9842, 5440,   1264.6,   3.3062,  34.5576,2,   -999.0,9,  34.5569,2,     78.1,2,   126.37,2,  -999.00,9,    39.61,2,     0.00,2,     2.84,2, -999.000,9, -999.000,9,  -999.00,9,   -999.0,9,   -999.0,9,-999.0000,9,   -999.0,  9,  -999.00,9,   -999.0,  -999.00,9,  -999.00,9,  -999.00,9,  -999.00,9,   -999.0,-999.0000, -999,9, 1253,   3.2146,  27.5120,   -999.0,9
       RF07-01,  165E,RF-2850,  1,      3,02-18557,2,20070129,0956, 17.9882, 164.9842, 5440,   1514.0,   2.7927,  34.5823,2,   -999.0,9,  34.5818,2,     84.6,2,   135.32,2,  -999.00,9,    39.52,2,     0.00,2,     2.82,2, -999.000,9, -999.000,9,  -999.00,9,   -999.0,9,   -999.0,9,-999.0000,9,   -999.0,  9,  -999.00,9,   -999.0,  -999.00,9,  -999.00,9,  -999.00,9,  -999.00,9,   -999.0,-999.0000, -999,9, 1500,   2.6861,  27.5798,   -999.0,9
       RF07-01,  165E,RF-2850,  1,      2,02-18556,2,20070129,0951, 17.9882, 164.9842, 5440,   1768.3,   2.3729,  34.6037,2,   -999.0,9,  34.6031,2,     92.7,2,   142.58,2,  -999.00,9,    39.24,2,     0.00,2,     2.78,2, -999.000,9, -999.000,9,  -999.00,9,   -999.0,9,   -999.0,9,-999.0000,9,   -999.0,  9,  -999.00,9,   -999.0,  -999.00,9,  -999.00,9,  -999.00,9,  -999.00,9,   -999.0,-999.0000, -999,9, 1750,   2.2505,  27.6340,   -999.0,9
       RF07-01,  165E,RF-2850,  1,      1,02-18555,2,20070129,0946, 17.9882, 164.9842, 5440,   2023.9,   2.0743,  34.6278,2,   -999.0,9,  34.6280,2,    102.9,2,   147.44,2,  -999.00,9,    38.85,2,     0.00,2,     2.74,2, -999.000,9, -999.000,9,  -999.00,9,   -999.0,9,   -999.0,9,-999.0000,9,   -999.0,  9,  -999.00,9,   -999.0,  -999.00,9,  -999.00,9,  -999.00,9,  -999.00,9,   -999.0,-999.0000, -999,9, 2002,   1.9347,  27.6787,   -999.0,9