BOTTLE,20130510GEMDJMAYT
EXPOCODE,SECT_ID,STNNBR,CASTNO,SAMPNO,BTLNBR,BTLNBR_FLAG_W,DATE,TIME,LATITUDE,LONGITUDE,DEPTH,CTDPRS,CTDTMP,CTDSAL,CTDSAL_FLAG_W,CTDOXY,CTDOXY_FLAG_W,SALNTY,SALNTY_FLAG_W,OXYGEN,OXYGEN_FLAG_W,SILCAT,SILCAT_FLAG_W,NITRAT,NITRAT_FLAG_W,NO2+NO3,NO2+NO3_FLAG_W,NITRIT,NITRIT_FLAG_W,PHSPHT,PHSPHT_FLAG_W,CFC-11,CFC-11_FLAG_W,CFC-12,CFC-12_FLAG_W,DELC13,DELC13_FLAG_W,TCARBN,TCARBN_FLAG_W,ALKALI,ALKALI_FLAG_W,PH,PH_FLAG_W,PH_TMP,PH_SCALE,PH_NBS,PH_NBS_FLAG_W,C13ERR,TOTALP,TOTALP_FLAG_W,AMMONI,AMMONI_FLAG_W,CHLORA,CHLORA_FLAG_W,PPHYTN,PPHYTN_FLAG_W,REVPRS,REVTMP,DEPTH_,DEPTH_FLAG,CTDDEP,THETA,SIGTHT,DOC,DOC_FLAG_W
,,,,,,,GMT,GMT,,,METER,DBAR,ITS-90,PSS-78,,UMOL/KG,,PSS-78,,UMOL/KG,,UMOL/KG,,UMOL/KG,,UMOL/KG,,UMOL/KG,,UMOL/KG,,PMOL/KG,,PMOL/KG,,/MILLE,,UMOL/KG,,UMOL/KG,,25_DEG_C,,DEG_C,,,,/MILLE,UMOL/KG,,UMOL/KG,,UG/L,,UG/L,,DBAR,ITS-90,METERS,,METERS,DEG_C,,UMOL/L,
       RF07-01,  165E,RF-2855,  1,     -9,      -9,5,20070130,1835, 12.9937, 164.9828, 5204,      0.0,  27.0739,  34.4568,2,   -999.0,9,-999.0000,9,    197.7,2,     1.27,2,  -999.00,9,     0.00,2,     0.00,2,     0.07,2, -999.000,9, -999.000,9,  -999.00,9,   -999.0,9,   -999.0,9,-999.0000,9,   -999.0,  9,  -999.00,9,   -999.0,  -999.00,9,  -999.00,9,     0.04,2,     0.01,2,   -999.0,-999.0000, -999,9,    0,  27.0737,  22.2852,   -999.0,9
       RF07-01,  165E,RF-2855,  1,     21,02-18575,2,20070130,1850, 12.9937, 164.9828, 5204,     11.4,  27.0732,  34.4552,2,   -999.0,9,  34.4534,2,    200.1,2,     1.27,2,  -999.00,9,     0.00,2,     0.00,2,     0.07,2, -999.000,9, -999.000,9,  -999.00,9,   -999.0,9,   -999.0,9,-999.0000,9,   -999.0,  9,  -999.00,9,   -999.0,  -999.00,9,  -999.00,9,     0.04,2,     0.01,2,   -999.0,-999.0000, -999,9,   11,  27.0706,  22.2850,   -999.0,9
       RF07-01,  165E,RF-2855,  1,     20,02-18574,2,20070130,1849, 12.9937, 164.9828, 5204,     26.4,  27.0774,  34.4547,2,   -999.0,9,-999.0000,9,    197.7,2,     1.33,2,  -999.00,9,     0.00,2,     0.00,2,     0.07,2, -999.000,9, -999.000,9,  -999.00,9,   -999.0,9,   -999.0,9,-999.0000,9,   -999.0,  9,  -999.00,9,   -999.0,  -999.00,9,  -999.00,9,     0.04,2,     0.01,2,   -999.0,-999.0000, -999,9,   26,  27.0713,  22.2843,   -999.0,9
       RF07-01,  165E,RF-2855,  1,     19,02-18573,2,20070130,1848, 12.9937, 164.9828, 5204,     53.0,  27.1632,  34.5320,2,   -999.0,9,-999.0000,9,    198.5,2,     1.24,2,  -999.00,9,     0.00,2,     0.00,2,     0.07,2, -999.000,9, -999.000,9,  -999.00,9,   -999.0,9,   -999.0,9,-999.0000,9,   -999.0,  9,  -999.00,9,   -999.0,  -999.00,9,  -999.00,9,     0.05,2,     0.01,2,   -999.0,-999.0000, -999,9,   53,  27.1510,  22.3171,   -999.0,9
       RF07-01,  165E,RF-2855,  1,     18,02-18572,2,20070130,1847, 12.9937, 164.9828, 5204,     76.7,  27.2134,  34.5777,2,   -999.0,9,-999.0000,9,    198.4,2,     1.17,2,  -999.00,9,     0.00,2,     0.00,2,     0.07,2, -999.000,9, -999.000,9,  -999.00,9,   -999.0,9,   -999.0,9,-999.0000,9,   -999.0,  9,  -999.00,9,   -999.0,  -999.00,9,  -999.00,9,     0.06,2,     0.02,2,   -999.0,-999.0000, -999,9,   76,  27.1957,  22.3372,   -999.0,9
       RF07-01,  165E,RF-2855,  1,     17,02-18571,2,20070130,1846, 12.9937, 164.9828, 5204,    102.7,  26.6850,  34.9296,2,   -999.0,9,  34.9402,4,    201.8,2,     1.30,2,  -999.00,9,     0.00,2,     0.00,2,     0.03,2, -999.000,9, -999.000,9,  -999.00,9,   -999.0,9,   -999.0,9,-999.0000,9,   -999.0,  9,  -999.00,9,   -999.0,  -999.00,9,  -999.00,9,     0.12,2,     0.06,2,   -999.0,-999.0000, -999,9,  102,  26.6617,  22.7723,   -999.0,9
       RF07-01,  165E,RF-2855,  1,     16,02-18570,2,20070130,1844, 12.9937, 164.9828, 5204,    128.8,  24.6503,  35.1789,2,   -999.0,9,-999.0000,9,    189.7,2,     1.49,2,  -999.00,9,     0.01,2,     0.01,2,     0.04,2, -999.000,9, -999.000,9,  -999.00,9,   -999.0,9,   -999.0,9,-999.0000,9,   -999.0,  9,  -999.00,9,   -999.0,  -999.00,9,  -999.00,9,     0.17,2,     0.27,2,   -999.0,-999.0000, -999,9,  128,  24.6226,  23.5907,   -999.0,9
       RF07-01,  165E,RF-2855,  1,     15,02-18569,2,20070130,1843, 12.9937, 164.9828, 5204,    154.5,  22.2850,  35.1291,2,   -999.0,9,-999.0000,9,    179.1,2,     2.08,2,  -999.00,9,     1.46,2,     0.02,2,     0.15,2, -999.000,9, -999.000,9,  -999.00,9,   -999.0,9,   -999.0,9,-999.0000,9,   -999.0,  9,  -999.00,9,   -999.0,  -999.00,9,  -999.00,9,     0.09,2,     0.27,2,   -999.0,-999.0000, -999,9,  154,  22.2541,  24.2444,   -999.0,9
       RF07-01,  165E,RF-2855,  1,     14,02-18568,2,20070130,1841, 12.9937, 164.9828, 5204,    203.0,  19.4999,  34.9485,2,   -999.0,9,  34.9454,2,    177.8,2,     3.63,2,  -999.00,9,     3.79,2,     0.01,2,     0.28,2, -999.000,9, -999.000,9,  -999.00,9,   -999.0,9,   -999.0,9,-999.0000,9,   -999.0,  9,  -999.00,9,   -999.0,  -999.00,9,  -999.00,9,     0.03,2,     0.12,2,   -999.0,-999.0000, -999,9,  202,  19.4630,  24.8628,   -999.0,9
       RF07-01,  165E,RF-2855,  1,     13,02-18567,2,20070130,1840, 12.9937, 164.9828, 5204,    252.5,  14.7215,  34.4817,2,   -999.0,9,-999.0000,9,    153.2,2,    11.41,2,  -999.00,9,    12.07,2,     0.00,2,     0.89,2, -999.000,9, -999.000,9,  -999.00,9,   -999.0,9,   -999.0,9,-999.0000,9,   -999.0,  9,  -999.00,9,   -999.0,  -999.00,9,  -999.00,9,  -999.00,9,  -999.00,9,   -999.0,-999.0000, -999,9,  251,  14.6838,  25.6410,   -999.0,9
       RF07-01,  165E,RF-2855,  1,     12,02-18348,2,20070130,1838, 12.9937, 164.9828, 5204,    305.8,  11.0165,  34.3257,2,   -999.0,9,  34.3242,2,    113.1,2,    26.87,2,  -999.00,9,    22.84,2,     0.00,2,     1.67,2, -999.000,9, -999.000,9,  -999.00,9,   -999.0,9,   -999.0,9,-999.0000,9,   -999.0,  9,  -999.00,9,   -999.0,  -999.00,9,  -999.00,9,  -999.00,9,  -999.00,9,   -999.0,-999.0000, -999,9,  304,  10.9789,  26.2542,   -999.0,9
       RF07-01,  165E,RF-2855,  1,     11,02-18565,2,20070130,1835, 12.9937, 164.9828, 5204,    406.6,   8.2520,  34.3959,2,   -999.0,9,  34.4004,2,     55.4,2,    49.70,2,  -999.00,9,    33.50,2,     0.00,2,     2.43,2, -999.000,9, -999.000,9,  -999.00,9,   -999.0,9,   -999.0,9,-999.0000,9,   -999.0,  9,  -999.00,9,   -999.0,  -999.00,9,  -999.00,9,  -999.00,9,  -999.00,9,   -999.0,-999.0000, -999,9,  404,   8.2099,  26.7678,   -999.0,9
       RF07-01,  165E,RF-2855,  1,     10,02-18564,2,20070130,1832, 12.9937, 164.9828, 5204,    509.1,   7.2808,  34.4324,2,   -999.0,9,-999.0000,9,     48.3,2,    61.10,2,  -999.00,9,    36.08,2,     0.00,2,     2.64,2, -999.000,9, -999.000,9,  -999.00,9,   -999.0,9,   -999.0,9,-999.0000,9,   -999.0,  9,  -999.00,9,   -999.0,  -999.00,9,  -999.00,9,  -999.00,9,  -999.00,9,   -999.0,-999.0000, -999,9,  506,   7.2314,  26.9394,   -999.0,9
       RF07-01,  165E,RF-2855,  1,      9,02-18563,2,20070130,1829, 12.9937, 164.9828, 5204,    608.5,   6.4390,  34.4726,2,   -999.0,9,  34.4716,2,     52.7,2,    71.23,2,  -999.00,9,    37.49,2,     0.00,2,     2.74,2, -999.000,9, -999.000,9,  -999.00,9,   -999.0,9,   -999.0,9,-999.0000,9,   -999.0,  9,  -999.00,9,   -999.0,  -999.00,9,  -999.00,9,  -999.00,9,  -999.00,9,   -999.0,-999.0000, -999,9,  604,   6.3834,  27.0864,   -999.0,9
       RF07-01,  165E,RF-2855,  1,      8,02-18562,2,20070130,1826, 12.9937, 164.9828, 5204,    711.3,   5.9213,  34.4912,2,   -999.0,9,-999.0000,9,     58.2,2,    77.62,2,  -999.00,9,    38.14,2,     0.00,2,     2.78,2, -999.000,9, -999.000,9,  -999.00,9,   -999.0,9,   -999.0,9,-999.0000,9,   -999.0,  9,  -999.00,9,   -999.0,  -999.00,9,  -999.00,9,  -999.00,9,  -999.00,9,   -999.0,-999.0000, -999,9,  706,   5.8585,  27.1685,   -999.0,9
       RF07-01,  165E,RF-2855,  1,      7,02-18561,2,20070130,1823, 12.9937, 164.9828, 5204,    809.6,   5.4179,  34.5005,2,   -999.0,9,  34.4996,2,     61.8,2,    85.52,2,  -999.00,9,    38.56,2,     0.00,2,     2.80,2, -999.000,9, -999.000,9,  -999.00,9,   -999.0,9,   -999.0,9,-999.0000,9,   -999.0,  9,  -999.00,9,   -999.0,  -999.00,9,  -999.00,9,  -999.00,9,  -999.00,9,   -999.0,-999.0000, -999,9,  803,   5.3490,  27.2382,   -999.0,9
       RF07-01,  165E,RF-2855,  1,      6,02-18560,2,20070130,1821, 12.9937, 164.9828, 5204,    911.4,   4.9059,  34.5212,2,   -999.0,9,-999.0000,9,     61.6,2,    94.54,2,  -999.00,9,    39.40,2,     0.00,2,     2.87,2, -999.000,9, -999.000,9,  -999.00,9,   -999.0,9,   -999.0,9,-999.0000,9,   -999.0,  9,  -999.00,9,   -999.0,  -999.00,9,  -999.00,9,  -999.00,9,  -999.00,9,   -999.0,-999.0000, -999,9,  904,   4.8312,  27.3150,   -999.0,9
       RF07-01,  165E,RF-2855,  1,      5,02-18559,2,20070130,1818, 12.9937, 164.9828, 5204,   1010.8,   4.4576,  34.5370,2,   -999.0,9,  34.5354,2,     63.5,2,   102.73,2,  -999.00,9,    39.81,2,     0.00,2,     2.90,2, -999.000,9, -999.000,9,  -999.00,9,   -999.0,9,   -999.0,9,-999.0000,9,   -999.0,  9,  -999.00,9,   -999.0,  -999.00,9,  -999.00,9,  -999.00,9,  -999.00,9,   -999.0,-999.0000, -999,9, 1003,   4.3774,  27.3779,   -999.0,9
       RF07-01,  165E,RF-2855,  1,      4,02-18558,2,20070130,1813, 12.9937, 164.9828, 5204,   1261.7,   3.4907,  34.5707,2,   -999.0,9,  34.5697,2,     72.4,2,   121.31,2,  -999.00,9,    40.09,2,     0.00,2,     2.91,2, -999.000,9, -999.000,9,  -999.00,9,   -999.0,9,   -999.0,9,-999.0000,9,   -999.0,  9,  -999.00,9,   -999.0,  -999.00,9,  -999.00,9,  -999.00,9,  -999.00,9,   -999.0,-999.0000, -999,9, 1251,   3.3975,  27.5050,   -999.0,9
       RF07-01,  165E,RF-2855,  1,      3,02-18557,2,20070130,1808, 12.9937, 164.9828, 5204,   1516.5,   2.9242,  34.5963,2,   -999.0,9,  34.5949,2,     82.0,2,   131.80,2,  -999.00,9,    39.70,2,     0.00,2,     2.86,2, -999.000,9, -999.000,9,  -999.00,9,   -999.0,9,   -999.0,9,-999.0000,9,   -999.0,  9,  -999.00,9,   -999.0,  -999.00,9,  -999.00,9,  -999.00,9,  -999.00,9,   -999.0,-999.0000, -999,9, 1502,   2.8158,  27.5795,   -999.0,9
       RF07-01,  165E,RF-2855,  1,      2,02-18556,2,20070130,1803, 12.9937, 164.9828, 5204,   1770.5,   2.4658,  34.6183,2,   -999.0,9,  34.6168,2,     95.5,2,   139.85,2,  -999.00,9,    39.24,2,     0.00,2,     2.80,2, -999.000,9, -999.000,9,  -999.00,9,   -999.0,9,   -999.0,9,-999.0000,9,   -999.0,  9,  -999.00,9,   -999.0,  -999.00,9,  -999.00,9,  -999.00,9,  -999.00,9,   -999.0,-999.0000, -999,9, 1753,   2.3419,  27.6381,   -999.0,9
       RF07-01,  165E,RF-2855,  1,      1,02-18555,2,20070130,1758, 12.9937, 164.9828, 5204,   2019.5,   2.1427,  34.6378,2,   -999.0,9,  34.6361,2,    102.9,2,   145.47,2,  -999.00,9,    38.61,2,     0.00,2,     2.74,2, -999.000,9, -999.000,9,  -999.00,9,   -999.0,9,   -999.0,9,-999.0000,9,   -999.0,  9,  -999.00,9,   -999.0,  -999.00,9,  -999.00,9,  -999.00,9,  -999.00,9,   -999.0,-999.0000, -999,9, 1998,   2.0024,  27.6813,   -999.0,9