BOTTLE,20130510GEMDJMAYT
EXPOCODE,SECT_ID,STNNBR,CASTNO,SAMPNO,BTLNBR,BTLNBR_FLAG_W,DATE,TIME,LATITUDE,LONGITUDE,DEPTH,CTDPRS,CTDTMP,CTDSAL,CTDSAL_FLAG_W,CTDOXY,CTDOXY_FLAG_W,SALNTY,SALNTY_FLAG_W,OXYGEN,OXYGEN_FLAG_W,SILCAT,SILCAT_FLAG_W,NITRAT,NITRAT_FLAG_W,NO2+NO3,NO2+NO3_FLAG_W,NITRIT,NITRIT_FLAG_W,PHSPHT,PHSPHT_FLAG_W,CFC-11,CFC-11_FLAG_W,CFC-12,CFC-12_FLAG_W,DELC13,DELC13_FLAG_W,TCARBN,TCARBN_FLAG_W,ALKALI,ALKALI_FLAG_W,PH,PH_FLAG_W,PH_TMP,PH_SCALE,PH_NBS,PH_NBS_FLAG_W,C13ERR,TOTALP,TOTALP_FLAG_W,AMMONI,AMMONI_FLAG_W,CHLORA,CHLORA_FLAG_W,PPHYTN,PPHYTN_FLAG_W,REVPRS,REVTMP,DEPTH_,DEPTH_FLAG,CTDDEP,THETA,SIGTHT,DOC,DOC_FLAG_W
,,,,,,,GMT,GMT,,,METER,DBAR,ITS-90,PSS-78,,UMOL/KG,,PSS-78,,UMOL/KG,,UMOL/KG,,UMOL/KG,,UMOL/KG,,UMOL/KG,,UMOL/KG,,PMOL/KG,,PMOL/KG,,/MILLE,,UMOL/KG,,UMOL/KG,,25_DEG_C,,DEG_C,,,,/MILLE,UMOL/KG,,UMOL/KG,,UG/L,,UG/L,,DBAR,ITS-90,METERS,,METERS,DEG_C,,UMOL/L,
       RF07-01,  165E,RF-2868,  1,     -9,      -9,5,20070213,0239, -0.0907, 164.9787, 4374,      0.0,  29.9402,  34.4741,2,   -999.0,9,-999.0000,9,    193.2,2,     1.36,2,  -999.00,9,     0.02,2,     0.00,2,     0.08,2, -999.000,9, -999.000,9,  -999.00,9,   1912.6,3,   -999.0,9,-999.0000,9,   -999.0,  9,  -999.00,9,   -999.0,  -999.00,9,  -999.00,9,     0.05,2,     0.02,2,   -999.0,-999.0000, -999,9,    0,  29.9400,  21.3524,   -999.0,9
       RF07-01,  165E,RF-2868,  1,     21,02-18575,2,20070213,0303, -0.0907, 164.9787, 4374,     11.2,  29.9177,  34.4730,2,   -999.0,9,  34.4717,2,    192.8,2,     1.33,2,  -999.00,9,     0.01,2,     0.00,2,     0.08,2, -999.000,9, -999.000,9,  -999.00,9,   1910.1,3,   -999.0,9,-999.0000,9,   -999.0,  9,  -999.00,9,   -999.0,  -999.00,9,  -999.00,9,     0.06,2,     0.02,2,   -999.0,-999.0000, -999,9,   11,  29.9149,  21.3601,   -999.0,9
       RF07-01,  165E,RF-2868,  1,     20,02-18574,2,20070213,0302, -0.0907, 164.9787, 4374,     26.9,  29.8549,  34.4737,2,   -999.0,9,-999.0000,9,    193.7,2,     1.33,2,  -999.00,9,     0.00,2,     0.00,2,     0.07,2, -999.000,9, -999.000,9,  -999.00,9,   1909.7,3,   -999.0,9,-999.0000,9,   -999.0,  9,  -999.00,9,   -999.0,  -999.00,9,  -999.00,9,     0.10,2,     0.03,2,   -999.0,-999.0000, -999,9,   27,  29.8483,  21.3833,   -999.0,9
       RF07-01,  165E,RF-2868,  1,     19,02-18573,2,20070213,0300, -0.0907, 164.9787, 4374,     50.8,  29.8361,  34.4751,2,   -999.0,9,-999.0000,9,    192.1,2,     1.38,2,  -999.00,9,     0.00,2,     0.00,2,     0.07,2, -999.000,9, -999.000,9,  -999.00,9,   1908.8,3,   -999.0,9,-999.0000,9,   -999.0,  9,  -999.00,9,   -999.0,  -999.00,9,  -999.00,9,     0.08,2,     0.03,2,   -999.0,-999.0000, -999,9,   51,  29.8236,  21.3928,   -999.0,9
       RF07-01,  165E,RF-2868,  1,     18,02-18572,2,20070213,0259, -0.0907, 164.9787, 4374,     75.9,  29.7631,  34.7617,2,   -999.0,9,-999.0000,9,    192.5,2,     1.40,2,  -999.00,9,     0.02,2,     0.00,2,     0.09,2, -999.000,9, -999.000,9,  -999.00,9,   1928.1,3,   -999.0,9,-999.0000,9,   -999.0,  9,  -999.00,9,   -999.0,  -999.00,9,  -999.00,9,     0.13,2,     0.07,2,   -999.0,-999.0000, -999,9,   76,  29.7444,  21.6345,   -999.0,9
       RF07-01,  165E,RF-2868,  1,     17,02-18571,2,20070213,0258, -0.0907, 164.9787, 4374,    104.8,  23.3432,  35.3408,2,   -999.0,9,  35.3279,4,    126.6,2,     5.20,2,  -999.00,9,    10.41,2,     0.01,2,     0.66,2, -999.000,9, -999.000,9,  -999.00,9,   2074.1,3,   -999.0,9,-999.0000,9,   -999.0,  9,  -999.00,9,   -999.0,  -999.00,9,  -999.00,9,     0.30,2,     0.35,2,   -999.0,-999.0000, -999,9,  104,  23.3215,  24.0989,   -999.0,9
       RF07-01,  165E,RF-2868,  1,     16,02-18570,2,20070213,0256, -0.0907, 164.9787, 4374,    128.8,  21.6198,  35.3190,2,   -999.0,9,-999.0000,9,    128.9,2,     6.01,2,  -999.00,9,    10.98,2,     0.00,2,     0.72,2, -999.000,9, -999.000,9,  -999.00,9,   2083.0,3,   -999.0,9,-999.0000,9,   -999.0,  9,  -999.00,9,   -999.0,  -999.00,9,  -999.00,9,     0.11,2,     0.23,2,   -999.0,-999.0000, -999,9,  128,  21.5946,  24.5733,   -999.0,9
       RF07-01,  165E,RF-2868,  1,     15,02-18569,2,20070213,0254, -0.0907, 164.9787, 4374,    154.2,  20.5640,  35.2499,2,   -999.0,9,-999.0000,9,    131.0,2,     6.90,2,  -999.00,9,    11.35,2,     0.00,2,     0.76,2, -999.000,9, -999.000,9,  -999.00,9,   2092.8,3,   -999.0,9,-999.0000,9,   -999.0,  9,  -999.00,9,   -999.0,  -999.00,9,  -999.00,9,     0.04,2,     0.09,2,   -999.0,-999.0000, -999,9,  153,  20.5349,  24.8099,   -999.0,9
       RF07-01,  165E,RF-2868,  1,     14,02-18568,2,20070213,0252, -0.0907, 164.9787, 4374,    202.0,  18.1741,  35.3808,2,   -999.0,9,  35.3292,4,    132.0,2,     8.16,2,  -999.00,9,    13.77,2,     0.00,2,     0.94,2, -999.000,9, -999.000,9,  -999.00,9,   2116.9,3,   -999.0,9,-999.0000,9,   -999.0,  9,  -999.00,9,   -999.0,  -999.00,9,  -999.00,9,  -999.00,4,     0.02,4,   -999.0,-999.0000, -999,9,  201,  18.1391,  25.5293,   -999.0,9
       RF07-01,  165E,RF-2868,  1,     13,02-18567,2,20070213,0247, -0.0907, 164.9787, 4374,    252.7,  13.7149,  34.9725,2,   -999.0,9,-999.0000,9,    135.7,2,    16.54,2,  -999.00,9,    18.88,2,     0.00,2,     1.26,2, -999.000,9, -999.000,9,  -999.00,9,   2144.2,3,   -999.0,9,-999.0000,9,   -999.0,  9,  -999.00,9,   -999.0,  -999.00,9,  -999.00,9,  -999.00,9,  -999.00,9,   -999.0,-999.0000, -999,9,  251,  13.6788,  26.2330,   -999.0,9
       RF07-01,  165E,RF-2868,  1,     12,02-18348,2,20070213,0246, -0.0907, 164.9787, 4374,    303.7,  12.5398,  34.9014,2,   -999.0,9,  34.9025,2,    122.5,2,    19.37,2,  -999.00,9,    22.08,2,     0.00,2,     1.46,2, -999.000,9, -999.000,9,  -999.00,9,   2158.4,3,   -999.0,9,-999.0000,9,   -999.0,  9,  -999.00,9,   -999.0,  -999.00,9,  -999.00,9,  -999.00,9,  -999.00,9,   -999.0,-999.0000, -999,9,  302,  12.4989,  26.4159,   -999.0,9
       RF07-01,  165E,RF-2868,  1,     11,02-18565,2,20070213,0243, -0.0907, 164.9787, 4374,    404.8,   9.7912,  34.7138,2,   -999.0,9,  34.7141,2,     70.3,2,    32.35,2,  -999.00,9,    32.12,2,     0.00,2,     2.18,2, -999.000,9, -999.000,9,  -999.00,9,   2223.9,4,   -999.0,9,-999.0000,9,   -999.0,  9,  -999.00,9,   -999.0,  -999.00,9,  -999.00,9,  -999.00,9,  -999.00,9,   -999.0,-999.0000, -999,9,  402,   9.7445,  26.7717,   -999.0,9
       RF07-01,  165E,RF-2868,  1,     10,02-18564,2,20070213,0240, -0.0907, 164.9787, 4374,    505.3,   8.3209,  34.6217,2,   -999.0,9,-999.0000,9,    105.2,2,    35.89,2,  -999.00,9,    31.55,2,     0.00,2,     2.13,2, -999.000,9, -999.000,9,  -999.00,9,   2215.9,3,   -999.0,9,-999.0000,9,   -999.0,  9,  -999.00,9,   -999.0,  -999.00,9,  -999.00,9,  -999.00,9,  -999.00,9,   -999.0,-999.0000, -999,9,  502,   8.2678,  26.9363,   -999.0,9
       RF07-01,  165E,RF-2868,  1,      9,02-18563,2,20070213,0238, -0.0907, 164.9787, 4374,    606.5,   7.5356,  34.5914,2,   -999.0,9,  34.5933,2,     76.8,2,    45.69,2,  -999.00,9,    35.91,2,     0.00,2,     2.49,2, -999.000,9, -999.000,9,  -999.00,9,   2247.0,3,   -999.0,9,-999.0000,9,   -999.0,  9,  -999.00,9,   -999.0,  -999.00,9,  -999.00,9,  -999.00,9,  -999.00,9,   -999.0,-999.0000, -999,9,  602,   7.4751,  27.0298,   -999.0,9
       RF07-01,  165E,RF-2868,  1,      8,02-18562,2,20070213,0235, -0.0907, 164.9787, 4374,    708.8,   6.4171,  34.5584,2,   -999.0,9,-999.0000,9,     75.2,2,    58.16,2,  -999.00,9,    37.98,2,     0.00,2,     2.68,2, -999.000,9, -999.000,9,  -999.00,9,   2262.2,3,   -999.0,9,-999.0000,9,   -999.0,  9,  -999.00,9,   -999.0,  -999.00,9,  -999.00,9,  -999.00,9,  -999.00,9,   -999.0,-999.0000, -999,9,  704,   6.3518,  27.1583,   -999.0,9
       RF07-01,  165E,RF-2868,  1,      7,02-18561,2,20070213,0233, -0.0907, 164.9787, 4374,    809.0,   5.5611,  34.5406,2,   -999.0,9,  34.5413,2,     93.7,2,    67.75,2,  -999.00,9,    37.45,2,     0.00,2,     2.65,2, -999.000,9, -999.000,9,  -999.00,9,   2263.4,3,   -999.0,9,-999.0000,9,   -999.0,  9,  -999.00,9,   -999.0,  -999.00,9,  -999.00,9,  -999.00,9,  -999.00,9,   -999.0,-999.0000, -999,9,  803,   5.4913,  27.2528,   -999.0,9
       RF07-01,  165E,RF-2868,  1,      6,02-18560,2,20070213,0230, -0.0907, 164.9787, 4374,    908.4,   5.0943,  34.5454,2,   -999.0,9,-999.0000,9,     89.8,2,    77.44,2,  -999.00,9,    38.34,2,     0.00,2,     2.75,2, -999.000,9, -999.000,9,  -999.00,9,   2271.4,3,   -999.0,9,-999.0000,9,   -999.0,  9,  -999.00,9,   -999.0,  -999.00,9,  -999.00,9,  -999.00,9,  -999.00,9,   -999.0,-999.0000, -999,9,  901,   5.0185,  27.3127,   -999.0,9
       RF07-01,  165E,RF-2868,  1,      5,02-18559,2,20070213,0226, -0.0907, 164.9787, 4374,   1010.3,   4.5936,  34.5535,2,   -999.0,9,  34.5535,2,     94.3,2,    87.75,2,  -999.00,9,    38.68,2,     0.00,2,     2.76,2, -999.000,9, -999.000,9,  -999.00,9,   2290.9,3,   -999.0,9,-999.0000,9,   -999.0,  9,  -999.00,9,   -999.0,  -999.00,9,  -999.00,9,  -999.00,9,  -999.00,9,   -999.0,-999.0000, -999,9, 1002,   4.5124,  27.3763,   -999.0,9
       RF07-01,  165E,RF-2868,  1,      4,02-18558,2,20070213,0220, -0.0907, 164.9787, 4374,   1262.1,   3.6489,  34.5805,2,   -999.0,9,  34.5797,2,     92.8,2,   108.86,2,  -999.00,9,    39.22,2,     0.00,2,     2.82,2, -999.000,9, -999.000,9,  -999.00,9,   2312.9,3,   -999.0,9,-999.0000,9,   -999.0,  9,  -999.00,9,   -999.0,  -999.00,9,  -999.00,9,  -999.00,9,  -999.00,9,   -999.0,-999.0000, -999,9, 1251,   3.5542,  27.4976,   -999.0,9
       RF07-01,  165E,RF-2868,  1,      3,02-18557,2,20070213,0214, -0.0907, 164.9787, 4374,   1516.5,   2.9793,  34.6056,2,   -999.0,9,  34.6061,2,     99.4,2,   123.02,2,  -999.00,9,    39.15,2,     0.00,2,     2.81,2, -999.000,9, -999.000,9,  -999.00,9,   2324.8,3,   -999.0,9,-999.0000,9,   -999.0,  9,  -999.00,9,   -999.0,  -999.00,9,  -999.00,9,  -999.00,9,  -999.00,9,   -999.0,-999.0000, -999,9, 1503,   2.8702,  27.5821,   -999.0,9
       RF07-01,  165E,RF-2868,  1,      2,02-18556,2,20070213,0207, -0.0907, 164.9787, 4374,   1768.7,   2.5049,  34.6251,2,   -999.0,9,  34.6260,2,    114.5,2,   129.53,2,  -999.00,9,    38.29,2,     0.00,2,     2.71,2, -999.000,9, -999.000,9,  -999.00,9,   2325.4,3,   -999.0,9,-999.0000,9,   -999.0,  9,  -999.00,9,   -999.0,  -999.00,9,  -999.00,9,  -999.00,9,  -999.00,9,   -999.0,-999.0000, -999,9, 1752,   2.3806,  27.6403,   -999.0,9
       RF07-01,  165E,RF-2868,  1,      1,02-18555,2,20070213,0202, -0.0907, 164.9787, 4374,   2022.4,   2.2929,  34.6385,2,   -999.0,9,  34.6400,2,    111.3,2,   137.16,2,  -999.00,9,    38.64,2,     0.00,2,     2.74,2, -999.000,9, -999.000,9,  -999.00,9,   2335.9,6,   -999.0,9,-999.0000,9,   -999.0,  9,  -999.00,9,   -999.0,  -999.00,9,  -999.00,9,  -999.00,9,  -999.00,9,   -999.0,-999.0000, -999,9, 2002,   2.1501,  27.6701,   -999.0,9