BOTTLE,20130510GEMDJMAYT
EXPOCODE,SECT_ID,STNNBR,CASTNO,SAMPNO,BTLNBR,BTLNBR_FLAG_W,DATE,TIME,LATITUDE,LONGITUDE,DEPTH,CTDPRS,CTDTMP,CTDSAL,CTDSAL_FLAG_W,CTDOXY,CTDOXY_FLAG_W,SALNTY,SALNTY_FLAG_W,OXYGEN,OXYGEN_FLAG_W,SILCAT,SILCAT_FLAG_W,NITRAT,NITRAT_FLAG_W,NO2+NO3,NO2+NO3_FLAG_W,NITRIT,NITRIT_FLAG_W,PHSPHT,PHSPHT_FLAG_W,CFC-11,CFC-11_FLAG_W,CFC-12,CFC-12_FLAG_W,DELC13,DELC13_FLAG_W,TCARBN,TCARBN_FLAG_W,ALKALI,ALKALI_FLAG_W,PH,PH_FLAG_W,PH_TMP,PH_SCALE,PH_NBS,PH_NBS_FLAG_W,C13ERR,TOTALP,TOTALP_FLAG_W,AMMONI,AMMONI_FLAG_W,CHLORA,CHLORA_FLAG_W,PPHYTN,PPHYTN_FLAG_W,REVPRS,REVTMP,DEPTH_,DEPTH_FLAG,CTDDEP,THETA,SIGTHT,DOC,DOC_FLAG_W
,,,,,,,GMT,GMT,,,METER,DBAR,ITS-90,PSS-78,,UMOL/KG,,PSS-78,,UMOL/KG,,UMOL/KG,,UMOL/KG,,UMOL/KG,,UMOL/KG,,UMOL/KG,,PMOL/KG,,PMOL/KG,,/MILLE,,UMOL/KG,,UMOL/KG,,25_DEG_C,,DEG_C,,,,/MILLE,UMOL/KG,,UMOL/KG,,UG/L,,UG/L,,DBAR,ITS-90,METERS,,METERS,DEG_C,,UMOL/L,
       RF07-01,  165E,RF-2871,  1,     -9,      -9,5,20070214,1028, -4.9930, 165.0017, 2373,      0.0,  30.2138,  34.8242,2,   -999.0,9,-999.0000,9,    196.1,2,     1.61,2,  -999.00,9,     0.02,2,     0.00,2,     0.14,2, -999.000,9, -999.000,9,  -999.00,9,   -999.0,9,   -999.0,9,-999.0000,9,   -999.0,  9,  -999.00,9,   -999.0,  -999.00,9,  -999.00,9,     0.05,2,     0.02,2,   -999.0,-999.0000, -999,9,    0,  30.2136,  21.5213,   -999.0,9
       RF07-01,  165E,RF-2871,  1,     21,02-18575,2,20070214,1047, -4.9930, 165.0017, 2373,     12.1,  29.8237,  34.8234,2,   -999.0,9,  34.8208,4,    193.3,2,     1.58,2,  -999.00,9,     0.02,2,     0.00,2,     0.14,2, -999.000,9, -999.000,9,  -999.00,9,   -999.0,9,   -999.0,9,-999.0000,9,   -999.0,  9,  -999.00,9,   -999.0,  -999.00,9,  -999.00,9,     0.05,2,     0.02,2,   -999.0,-999.0000, -999,9,   12,  29.8207,  21.6549,   -999.0,9
       RF07-01,  165E,RF-2871,  1,     20,02-18574,2,20070214,1046, -4.9930, 165.0017, 2373,     26.3,  29.7676,  34.8205,2,   -999.0,9,-999.0000,9,    194.4,2,     1.56,2,  -999.00,9,     0.02,2,     0.00,2,     0.13,2, -999.000,9, -999.000,9,  -999.00,9,   -999.0,9,   -999.0,9,-999.0000,9,   -999.0,  9,  -999.00,9,   -999.0,  -999.00,9,  -999.00,9,     0.05,2,     0.02,2,   -999.0,-999.0000, -999,9,   26,  29.7611,  21.6729,   -999.0,9
       RF07-01,  165E,RF-2871,  1,     19,02-18573,2,20070214,1044, -4.9930, 165.0017, 2373,     51.6,  29.6529,  34.8320,2,   -999.0,9,-999.0000,9,    192.9,2,     1.56,2,  -999.00,9,     0.02,2,     0.00,2,     0.14,2, -999.000,9, -999.000,9,  -999.00,9,   -999.0,9,   -999.0,9,-999.0000,9,   -999.0,  9,  -999.00,9,   -999.0,  -999.00,9,  -999.00,9,     0.10,2,     0.06,2,   -999.0,-999.0000, -999,9,   51,  29.6402,  21.7225,   -999.0,9
       RF07-01,  165E,RF-2871,  1,     18,02-18572,2,20070214,1042, -4.9930, 165.0017, 2373,     76.1,  29.6772,  35.3128,2,   -999.0,9,-999.0000,9,    195.8,2,     1.72,2,  -999.00,9,     0.14,2,     0.00,2,     0.19,2, -999.000,9, -999.000,9,  -999.00,9,   -999.0,9,   -999.0,9,-999.0000,9,   -999.0,  9,  -999.00,9,   -999.0,  -999.00,9,  -999.00,9,     0.27,2,     0.18,2,   -999.0,-999.0000, -999,9,   76,  29.6585,  22.0771,   -999.0,9
       RF07-01,  165E,RF-2871,  1,     17,02-18571,2,20070214,1041, -4.9930, 165.0017, 2373,    101.9,  29.0674,  35.4912,2,   -999.0,9,  35.5243,4,    176.2,2,     2.06,2,  -999.00,9,     3.30,2,     1.29,2,     0.35,2, -999.000,9, -999.000,9,  -999.00,9,   -999.0,9,   -999.0,9,-999.0000,9,   -999.0,  9,  -999.00,9,   -999.0,  -999.00,9,  -999.00,9,     0.22,2,     0.27,2,   -999.0,-999.0000, -999,9,  101,  29.0427,  22.4186,   -999.0,9
       RF07-01,  165E,RF-2871,  1,     16,02-18570,2,20070214,1039, -4.9930, 165.0017, 2373,    127.0,  28.7622,  35.5636,2,   -999.0,9,-999.0000,9,    168.6,2,     2.18,2,  -999.00,9,     4.69,2,     1.71,2,     0.43,2, -999.000,9, -999.000,9,  -999.00,9,   -999.0,9,   -999.0,9,-999.0000,9,   -999.0,  9,  -999.00,9,   -999.0,  -999.00,9,  -999.00,9,     0.18,2,     0.24,2,   -999.0,-999.0000, -999,9,  126,  28.7316,  22.5770,   -999.0,9
       RF07-01,  165E,RF-2871,  1,     15,02-18569,2,20070214,1038, -4.9930, 165.0017, 2373,    151.5,  27.0685,  35.8329,2,   -999.0,9,-999.0000,9,    147.9,2,     2.36,2,  -999.00,9,     7.29,2,     0.48,2,     0.60,2, -999.000,9, -999.000,9,  -999.00,9,   -999.0,9,   -999.0,9,-999.0000,9,   -999.0,  9,  -999.00,9,   -999.0,  -999.00,9,  -999.00,9,     0.09,2,     0.15,2,   -999.0,-999.0000, -999,9,  151,  27.0336,  23.3346,   -999.0,9
       RF07-01,  165E,RF-2871,  1,     14,02-18568,2,20070214,1036, -4.9930, 165.0017, 2373,    202.2,  20.5842,  35.7788,2,   -999.0,9,  35.6933,4,    116.9,2,     5.71,2,  -999.00,9,    13.24,2,     0.00,2,     1.00,2, -999.000,9, -999.000,9,  -999.00,9,   -999.0,9,   -999.0,9,-999.0000,9,   -999.0,  9,  -999.00,9,   -999.0,  -999.00,9,  -999.00,9,     0.02,2,     0.04,2,   -999.0,-999.0000, -999,9,  201,  20.5459,  25.2102,   -999.0,9
       RF07-01,  165E,RF-2871,  1,     13,02-18567,2,20070214,1034, -4.9930, 165.0017, 2373,    252.3,  14.2682,  35.1321,2,   -999.0,9,-999.0000,9,     89.2,2,    15.31,2,  -999.00,9,    23.03,2,     0.00,2,     1.63,2, -999.000,9, -999.000,9,  -999.00,9,   -999.0,9,   -999.0,9,-999.0000,9,   -999.0,  9,  -999.00,9,   -999.0,  -999.00,9,  -999.00,9,  -999.00,9,  -999.00,9,   -999.0,-999.0000, -999,9,  251,  14.2312,  26.2403,   -999.0,9
       RF07-01,  165E,RF-2871,  1,     12,02-18348,2,20070214,1032, -4.9930, 165.0017, 2373,    303.5,  11.2843,  34.8570,2,   -999.0,9,  34.8564,2,     84.5,2,    22.41,2,  -999.00,9,    27.81,2,     0.00,2,     1.91,2, -999.000,9, -999.000,9,  -999.00,9,   -999.0,9,   -999.0,9,-999.0000,9,   -999.0,  9,  -999.00,9,   -999.0,  -999.00,9,  -999.00,9,  -999.00,9,  -999.00,9,   -999.0,-999.0000, -999,9,  302,  11.2461,  26.6193,   -999.0,9
       RF07-01,  165E,RF-2871,  1,     11,02-18565,2,20070214,1029, -4.9930, 165.0017, 2373,    403.9,   9.4155,  34.7050,2,   -999.0,9,  34.7041,2,    101.8,2,    27.95,2,  -999.00,9,    30.01,2,     0.00,2,     2.02,2, -999.000,9, -999.000,9,  -999.00,9,   -999.0,9,   -999.0,9,-999.0000,9,   -999.0,  9,  -999.00,9,   -999.0,  -999.00,9,  -999.00,9,  -999.00,9,  -999.00,9,   -999.0,-999.0000, -999,9,  401,   9.3700,  26.8271,   -999.0,9
       RF07-01,  165E,RF-2871,  1,     10,02-18564,2,20070214,1026, -4.9930, 165.0017, 2373,    504.1,   8.4305,  34.6410,2,   -999.0,9,-999.0000,9,     87.2,2,    35.08,2,  -999.00,9,    33.28,2,     0.00,2,     2.26,2, -999.000,9, -999.000,9,  -999.00,9,   -999.0,9,   -999.0,9,-999.0000,9,   -999.0,  9,  -999.00,9,   -999.0,  -999.00,9,  -999.00,9,  -999.00,9,  -999.00,9,   -999.0,-999.0000, -999,9,  501,   8.3771,  26.9347,   -999.0,9
       RF07-01,  165E,RF-2871,  1,      9,02-18563,2,20070214,1023, -4.9930, 165.0017, 2373,    604.9,   7.6044,  34.5951,2,   -999.0,9,  34.5954,2,     90.7,2,    40.28,2,  -999.00,9,    34.71,2,     0.00,2,     2.38,2, -999.000,9, -999.000,9,  -999.00,9,   -999.0,9,   -999.0,9,-999.0000,9,   -999.0,  9,  -999.00,9,   -999.0,  -999.00,9,  -999.00,9,  -999.00,9,  -999.00,9,   -999.0,-999.0000, -999,9,  601,   7.5437,  27.0229,   -999.0,9
       RF07-01,  165E,RF-2871,  1,      8,02-18562,2,20070214,1021, -4.9930, 165.0017, 2373,    706.3,   6.5028,  34.5511,2,   -999.0,9,-999.0000,9,     94.2,2,    50.89,2,  -999.00,9,    36.30,2,     0.00,2,     2.53,2, -999.000,9, -999.000,9,  -999.00,9,   -999.0,9,   -999.0,9,-999.0000,9,   -999.0,  9,  -999.00,9,   -999.0,  -999.00,9,  -999.00,9,  -999.00,9,  -999.00,9,   -999.0,-999.0000, -999,9,  701,   6.4373,  27.1412,   -999.0,9
       RF07-01,  165E,RF-2871,  1,      7,02-18561,2,20070214,1018, -4.9930, 165.0017, 2373,    806.8,   5.9832,  34.5388,2,   -999.0,9,  34.5387,2,     98.4,2,    57.52,2,  -999.00,9,    36.71,2,     0.00,2,     2.58,2, -999.000,9, -999.000,9,  -999.00,9,   -999.0,9,   -999.0,9,-999.0000,9,   -999.0,  9,  -999.00,9,   -999.0,  -999.00,9,  -999.00,9,  -999.00,9,  -999.00,9,   -999.0,-999.0000, -999,9,  801,   5.9110,  27.1995,   -999.0,9
       RF07-01,  165E,RF-2871,  1,      6,02-18560,2,20070214,1015, -4.9930, 165.0017, 2373,    908.0,   5.3660,  34.5258,2,   -999.0,9,-999.0000,9,    112.5,2,    64.62,2,  -999.00,9,    36.17,2,     0.00,2,     2.53,2, -999.000,9, -999.000,9,  -999.00,9,   -999.0,9,   -999.0,9,-999.0000,9,   -999.0,  9,  -999.00,9,   -999.0,  -999.00,9,  -999.00,9,  -999.00,9,  -999.00,9,   -999.0,-999.0000, -999,9,  901,   5.2884,  27.2655,   -999.0,9
       RF07-01,  165E,RF-2871,  1,      5,02-18559,2,20070214,1013, -4.9930, 165.0017, 2373,   1009.5,   4.7028,  34.5345,2,   -999.0,9,  34.5335,2,    113.9,2,    76.44,2,  -999.00,9,    36.75,2,     0.00,2,     2.59,2, -999.000,9, -999.000,9,  -999.00,9,   -999.0,9,   -999.0,9,-999.0000,9,   -999.0,  9,  -999.00,9,   -999.0,  -999.00,9,  -999.00,9,  -999.00,9,  -999.00,9,   -999.0,-999.0000, -999,9, 1001,   4.6209,  27.3492,   -999.0,9
       RF07-01,  165E,RF-2871,  1,      4,02-18558,2,20070214,1008, -4.9930, 165.0017, 2373,   1261.2,   3.7795,  34.5625,2,   -999.0,9,  34.5639,2,    107.6,2,    97.56,2,  -999.00,9,    38.15,2,     0.00,2,     2.72,2, -999.000,9, -999.000,9,  -999.00,9,   -999.0,9,   -999.0,9,-999.0000,9,   -999.0,  9,  -999.00,9,   -999.0,  -999.00,9,  -999.00,9,  -999.00,9,  -999.00,9,   -999.0,-999.0000, -999,9, 1250,   3.6836,  27.4704,   -999.0,9
       RF07-01,  165E,RF-2871,  1,      3,02-18557,2,20070214,1002, -4.9930, 165.0017, 2373,   1515.1,   2.9085,  34.6005,2,   -999.0,9,  34.6006,2,    117.7,2,   115.95,2,  -999.00,9,    38.02,2,     0.00,2,     2.69,2, -999.000,9, -999.000,9,  -999.00,9,   -999.0,9,   -999.0,9,-999.0000,9,   -999.0,  9,  -999.00,9,   -999.0,  -999.00,9,  -999.00,9,  -999.00,9,  -999.00,9,   -999.0,-999.0000, -999,9, 1501,   2.8004,  27.5842,   -999.0,9
       RF07-01,  165E,RF-2871,  1,      2,02-18556,2,20070214,0958, -4.9930, 165.0017, 2373,   1768.1,   2.4989,  34.6233,2,   -999.0,9,  34.6238,2,    121.0,2,   125.72,2,  -999.00,9,    37.89,2,     0.00,2,     2.70,2, -999.000,9, -999.000,9,  -999.00,9,   -999.0,9,   -999.0,9,-999.0000,9,   -999.0,  9,  -999.00,9,   -999.0,  -999.00,9,  -999.00,9,  -999.00,9,  -999.00,9,   -999.0,-999.0000, -999,9, 1751,   2.3748,  27.6393,   -999.0,9
       RF07-01,  165E,RF-2871,  1,      1,02-18555,2,20070214,0952, -4.9930, 165.0017, 2373,   2021.4,   2.2066,  34.6408,2,   -999.0,9,  34.6410,2,    123.2,2,   132.99,2,  -999.00,9,    37.79,2,     0.00,2,     2.67,2, -999.000,9, -999.000,9,  -999.00,9,   -999.0,9,   -999.0,9,-999.0000,9,   -999.0,  9,  -999.00,9,   -999.0,  -999.00,9,  -999.00,9,  -999.00,9,  -999.00,9,   -999.0,-999.0000, -999,9, 2001,   2.0652,  27.6787,   -999.0,9