BOTTLE,20130510GEMDJMAYT
EXPOCODE,SECT_ID,STNNBR,CASTNO,SAMPNO,BTLNBR,BTLNBR_FLAG_W,DATE,TIME,LATITUDE,LONGITUDE,DEPTH,CTDPRS,CTDTMP,CTDSAL,CTDSAL_FLAG_W,CTDOXY,CTDOXY_FLAG_W,SALNTY,SALNTY_FLAG_W,OXYGEN,OXYGEN_FLAG_W,SILCAT,SILCAT_FLAG_W,NITRAT,NITRAT_FLAG_W,NO2+NO3,NO2+NO3_FLAG_W,NITRIT,NITRIT_FLAG_W,PHSPHT,PHSPHT_FLAG_W,CFC-11,CFC-11_FLAG_W,CFC-12,CFC-12_FLAG_W,DELC13,DELC13_FLAG_W,TCARBN,TCARBN_FLAG_W,ALKALI,ALKALI_FLAG_W,PH,PH_FLAG_W,PH_TMP,PH_SCALE,PH_NBS,PH_NBS_FLAG_W,C13ERR,TOTALP,TOTALP_FLAG_W,AMMONI,AMMONI_FLAG_W,CHLORA,CHLORA_FLAG_W,PPHYTN,PPHYTN_FLAG_W,REVPRS,REVTMP,DEPTH_,DEPTH_FLAG,CTDDEP,THETA,SIGTHT,DOC,DOC_FLAG_W
,,,,,,,GMT,GMT,,,METER,DBAR,ITS-90,PSS-78,,UMOL/KG,,PSS-78,,UMOL/KG,,UMOL/KG,,UMOL/KG,,UMOL/KG,,UMOL/KG,,UMOL/KG,,PMOL/KG,,PMOL/KG,,/MILLE,,UMOL/KG,,UMOL/KG,,25_DEG_C,,DEG_C,,,,/MILLE,UMOL/KG,,UMOL/KG,,UG/L,,UG/L,,DBAR,ITS-90,METERS,,METERS,DEG_C,,UMOL/L,
       RF07-01,  165E,RF-2845,  1,     -9,      -9,5,20070128,0225, 23.0005, 164.9797, 5809,      0.0,  25.4723,  35.2439,2,   -999.0,9,-999.0000,9,    204.2,2,     1.64,2,  -999.00,9,     0.00,2,     0.00,2,     0.01,2, -999.000,9, -999.000,9,  -999.00,9,   -999.0,9,   -999.0,9,-999.0000,9,   -999.0,  9,  -999.00,9,   -999.0,  -999.00,9,  -999.00,9,     0.07,2,     0.02,2,   -999.0,-999.0000, -999,9,    0,  25.4721,  23.3810,   -999.0,9
       RF07-01,  165E,RF-2845,  1,     21,02-18575,2,20070128,0244, 23.0005, 164.9797, 5809,     10.8,  25.4761,  35.2437,2,   -999.0,9,  35.2430,2,    205.6,2,     1.59,2,  -999.00,9,     0.00,2,     0.00,2,  -999.00,4, -999.000,9, -999.000,9,  -999.00,9,   -999.0,9,   -999.0,9,-999.0000,9,   -999.0,  9,  -999.00,9,   -999.0,  -999.00,9,  -999.00,9,     0.06,2,     0.02,2,   -999.0,-999.0000, -999,9,   11,  25.4737,  23.3804,   -999.0,9
       RF07-01,  165E,RF-2845,  1,     20,02-18574,3,20070128,0242, 23.0005, 164.9797, 5809,     26.4,  25.4385,  35.2431,2,   -999.0,9,-999.0000,9,    204.8,2,     1.60,2,  -999.00,9,     0.00,2,     0.00,2,  -999.00,4, -999.000,9, -999.000,9,  -999.00,9,   -999.0,9,   -999.0,9,-999.0000,9,   -999.0,  9,  -999.00,9,   -999.0,  -999.00,9,  -999.00,9,     0.06,2,     0.02,2,   -999.0,-999.0000, -999,9,   26,  25.4327,  23.3926,   -999.0,9
       RF07-01,  165E,RF-2845,  1,     19,02-18573,2,20070128,0241, 23.0005, 164.9797, 5809,     51.6,  25.3852,  35.2444,2,   -999.0,9,-999.0000,9,    205.3,2,     1.67,2,  -999.00,9,     0.00,2,     0.00,2,     0.00,2, -999.000,9, -999.000,9,  -999.00,9,   -999.0,9,   -999.0,9,-999.0000,9,   -999.0,  9,  -999.00,9,   -999.0,  -999.00,9,  -999.00,9,     0.07,2,     0.02,2,   -999.0,-999.0000, -999,9,   51,  25.3739,  23.4116,   -999.0,9
       RF07-01,  165E,RF-2845,  1,     18,02-18572,2,20070128,0240, 23.0005, 164.9797, 5809,     77.4,  25.3693,  35.2424,2,   -999.0,9,-999.0000,9,    204.5,2,     1.64,2,  -999.00,9,     0.00,2,     0.00,2,     0.00,2, -999.000,9, -999.000,9,  -999.00,9,   -999.0,9,   -999.0,9,-999.0000,9,   -999.0,  9,  -999.00,9,   -999.0,  -999.00,9,  -999.00,9,     0.08,2,     0.02,2,   -999.0,-999.0000, -999,9,   77,  25.3523,  23.4167,   -999.0,9
       RF07-01,  165E,RF-2845,  1,     17,02-18571,2,20070128,0238, 23.0005, 164.9797, 5809,    101.0,  25.3623,  35.2443,2,   -999.0,9,  35.2441,2,    208.1,2,     1.66,2,  -999.00,9,     0.00,2,     0.00,2,     0.00,2, -999.000,9, -999.000,9,  -999.00,9,   -999.0,9,   -999.0,9,-999.0000,9,   -999.0,  9,  -999.00,9,   -999.0,  -999.00,9,  -999.00,9,     0.10,2,     0.03,2,   -999.0,-999.0000, -999,9,  100,  25.3402,  23.4219,   -999.0,9
       RF07-01,  165E,RF-2845,  1,     16,02-18570,2,20070128,0237, 23.0005, 164.9797, 5809,    127.0,  24.6136,  35.2476,2,   -999.0,9,-999.0000,9,    202.5,2,     1.99,2,  -999.00,9,     0.00,2,     0.00,2,     0.00,2, -999.000,9, -999.000,9,  -999.00,9,   -999.0,9,   -999.0,9,-999.0000,9,   -999.0,  9,  -999.00,9,   -999.0,  -999.00,9,  -999.00,9,     0.17,2,     0.22,2,   -999.0,-999.0000, -999,9,  126,  24.5863,  23.6536,   -999.0,9
       RF07-01,  165E,RF-2845,  1,     15,02-18569,2,20070128,0235, 23.0005, 164.9797, 5809,    153.7,  21.5384,  35.0259,2,   -999.0,9,-999.0000,9,    203.1,2,     2.71,2,  -999.00,9,     0.45,2,     0.14,2,     0.03,2, -999.000,9, -999.000,9,  -999.00,9,   -999.0,9,   -999.0,9,-999.0000,9,   -999.0,  9,  -999.00,9,   -999.0,  -999.00,9,  -999.00,9,     0.08,2,     0.21,2,   -999.0,-999.0000, -999,9,  153,  21.5085,  24.3743,   -999.0,9
       RF07-01,  165E,RF-2845,  1,     14,02-18568,2,20070128,0234, 23.0005, 164.9797, 5809,    202.0,  18.2369,  34.8339,2,   -999.0,9,  34.8326,2,    203.1,2,     4.10,2,  -999.00,9,     2.78,2,     0.00,2,     0.17,2, -999.000,9, -999.000,9,  -999.00,9,   -999.0,9,   -999.0,9,-999.0000,9,   -999.0,  9,  -999.00,9,   -999.0,  -999.00,9,  -999.00,9,     0.01,2,     0.03,2,   -999.0,-999.0000, -999,9,  201,  18.2019,  25.0949,   -999.0,9
       RF07-01,  165E,RF-2845,  1,     13,02-18567,2,20070128,0232, 23.0005, 164.9797, 5809,    254.3,  17.3135,  34.7728,2,   -999.0,9,-999.0000,9,    214.5,2,     4.77,2,  -999.00,9,     4.16,2,     0.00,2,     0.21,2, -999.000,9, -999.000,9,  -999.00,9,   -999.0,9,   -999.0,9,-999.0000,9,   -999.0,  9,  -999.00,9,   -999.0,  -999.00,9,  -999.00,9,  -999.00,9,  -999.00,9,   -999.0,-999.0000, -999,9,  253,  17.2710,  25.2752,   -999.0,9
       RF07-01,  165E,RF-2845,  1,     12,02-18348,2,20070128,0230, 23.0005, 164.9797, 5809,    304.6,  16.2665,  34.6931,2,   -999.0,9,  34.6943,2,    199.4,2,     7.15,2,  -999.00,9,     6.71,2,     0.00,2,     0.37,2, -999.000,9, -999.000,9,  -999.00,9,   -999.0,9,   -999.0,9,-999.0000,9,   -999.0,  9,  -999.00,9,   -999.0,  -999.00,9,  -999.00,9,  -999.00,9,  -999.00,9,   -999.0,-999.0000, -999,9,  302,  16.2177,  25.4616,   -999.0,9
       RF07-01,  165E,RF-2845,  1,     11,02-18565,2,20070128,0227, 23.0005, 164.9797, 5809,    405.3,  13.3897,  34.4374,2,   -999.0,9,  34.4390,2,    195.4,2,    13.44,2,  -999.00,9,    11.16,2,     0.00,2,     0.69,2, -999.000,9, -999.000,9,  -999.00,9,   -999.0,9,   -999.0,9,-999.0000,9,   -999.0,  9,  -999.00,9,   -999.0,  -999.00,9,  -999.00,9,  -999.00,9,  -999.00,9,   -999.0,-999.0000, -999,9,  402,  13.3327,  25.8899,   -999.0,9
       RF07-01,  165E,RF-2845,  1,     10,02-18564,2,20070128,0224, 23.0005, 164.9797, 5809,    506.7,  10.0915,  34.1930,2,   -999.0,9,-999.0000,9,    177.7,2,    27.26,2,  -999.00,9,    18.88,2,     0.00,2,     1.28,2, -999.000,9, -999.000,9,  -999.00,9,   -999.0,9,   -999.0,9,-999.0000,9,   -999.0,  9,  -999.00,9,   -999.0,  -999.00,9,  -999.00,9,  -999.00,9,  -999.00,9,   -999.0,-999.0000, -999,9,  503,  10.0320,  26.3163,   -999.0,9
       RF07-01,  165E,RF-2845,  1,      9,02-18563,2,20070128,0221, 23.0005, 164.9797, 5809,    604.7,   7.5715,  34.0966,2,   -999.0,9,  34.0969,2,    132.3,2,    51.36,2,  -999.00,9,    28.34,2,     0.00,2,     2.06,2, -999.000,9, -999.000,9,  -999.00,9,   -999.0,9,   -999.0,9,-999.0000,9,   -999.0,  9,  -999.00,9,   -999.0,  -999.00,9,  -999.00,9,  -999.00,9,  -999.00,9,   -999.0,-999.0000, -999,9,  600,   7.5114,  26.6354,   -999.0,9
       RF07-01,  165E,RF-2845,  1,      8,02-18562,2,20070128,0218, 23.0005, 164.9797, 5809,    707.2,   6.1079,  34.1472,2,   -999.0,9,-999.0000,9,     75.9,2,    74.62,2,  -999.00,9,    35.39,2,     0.00,2,     2.75,2, -999.000,9, -999.000,9,  -999.00,9,   -999.0,9,   -999.0,9,-999.0000,9,   -999.0,  9,  -999.00,9,   -999.0,  -999.00,9,  -999.00,9,  -999.00,9,  -999.00,9,   -999.0,-999.0000, -999,9,  702,   6.0449,  26.8731,   -999.0,9
       RF07-01,  165E,RF-2845,  1,      7,02-18561,2,20070128,0215, 23.0005, 164.9797, 5809,    806.8,   5.2557,  34.2393,2,   -999.0,9,  34.2390,2,     50.3,2,    91.66,2,  -999.00,9,    38.84,2,     0.00,2,     2.77,2, -999.000,9, -999.000,9,  -999.00,9,   -999.0,9,   -999.0,9,-999.0000,9,   -999.0,  9,  -999.00,9,   -999.0,  -999.00,9,  -999.00,9,  -999.00,9,  -999.00,9,   -999.0,-999.0000, -999,9,  800,   5.1884,  27.0503,   -999.0,9
       RF07-01,  165E,RF-2845,  1,      6,02-18560,2,20070128,0212, 23.0005, 164.9797, 5809,    907.4,   4.7030,  34.3331,2,   -999.0,9,-999.0000,9,     43.5,2,   103.06,2,  -999.00,9,    40.56,2,     0.00,2,     2.93,2, -999.000,9, -999.000,9,  -999.00,9,   -999.0,9,   -999.0,9,-999.0000,9,   -999.0,  9,  -999.00,9,   -999.0,  -999.00,9,  -999.00,9,  -999.00,9,  -999.00,9,   -999.0,-999.0000, -999,9,  900,   4.6303,  27.1883,   -999.0,9
       RF07-01,  165E,RF-2845,  1,      5,02-18559,2,20070128,0209, 23.0005, 164.9797, 5809,   1010.4,   4.3619,  34.4348,2,   -999.0,9,  34.4338,2,     48.9,2,   109.53,2,  -999.00,9,    40.69,2,     0.00,2,     2.96,2, -999.000,9, -999.000,9,  -999.00,9,   -999.0,9,   -999.0,9,-999.0000,9,   -999.0,  9,  -999.00,9,   -999.0,  -999.00,9,  -999.00,9,  -999.00,9,  -999.00,9,   -999.0,-999.0000, -999,9, 1002,   4.2827,  27.3068,   -999.0,9
       RF07-01,  165E,RF-2845,  1,      4,02-18558,2,20070128,0203, 23.0005, 164.9797, 5809,   1262.0,   3.4146,  34.5055,2,   -999.0,9,  34.5056,2,     62.6,2,   127.30,2,  -999.00,9,    40.55,2,     0.00,2,     2.95,2, -999.000,9, -999.000,9,  -999.00,9,   -999.0,9,   -999.0,9,-999.0000,9,   -999.0,  9,  -999.00,9,   -999.0,  -999.00,9,  -999.00,9,  -999.00,9,  -999.00,9,   -999.0,-999.0000, -999,9, 1250,   3.3223,  27.4603,   -999.0,9
       RF07-01,  165E,RF-2845,  1,      3,02-18557,2,20070128,0157, 23.0005, 164.9797, 5809,   1515.6,   2.8759,  34.5501,2,   -999.0,9,  34.5499,2,     74.4,2,   136.33,2,  -999.00,9,    40.11,2,     0.00,2,     2.85,2, -999.000,9, -999.000,9,  -999.00,9,   -999.0,9,   -999.0,9,-999.0000,9,   -999.0,  9,  -999.00,9,   -999.0,  -999.00,9,  -999.00,9,  -999.00,9,  -999.00,9,   -999.0,-999.0000, -999,9, 1501,   2.7683,  27.5468,   -999.0,9
       RF07-01,  165E,RF-2845,  1,      2,02-18556,2,20070128,0152, 23.0005, 164.9797, 5809,   1768.1,   2.4017,  34.5838,2,   -999.0,9,  34.5844,2,     85.5,2,   144.27,2,  -999.00,9,    39.90,2,     0.00,2,     2.81,2, -999.000,9, -999.000,9,  -999.00,9,   -999.0,9,   -999.0,9,-999.0000,9,   -999.0,  9,  -999.00,9,   -999.0,  -999.00,9,  -999.00,9,  -999.00,9,  -999.00,9,   -999.0,-999.0000, -999,9, 1750,   2.2790,  27.6157,   -999.0,9
       RF07-01,  165E,RF-2845,  1,      1,02-18555,2,20070128,0146, 23.0005, 164.9797, 5809,   2022.4,   2.0642,  34.6144,2,   -999.0,9,  34.6150,2,     95.7,2,   149.27,2,  -999.00,9,    39.30,2,     0.00,2,     2.76,2, -999.000,9, -999.000,9,  -999.00,9,   -999.0,9,   -999.0,9,-999.0000,9,   -999.0,  9,  -999.00,9,   -999.0,  -999.00,9,  -999.00,9,  -999.00,9,  -999.00,9,   -999.0,-999.0000, -999,9, 2000,   1.9249,  27.6686,   -999.0,9