BOTTLE,20130510GEMDJMAYT
EXPOCODE,SECT_ID,STNNBR,CASTNO,SAMPNO,BTLNBR,BTLNBR_FLAG_W,DATE,TIME,LATITUDE,LONGITUDE,DEPTH,CTDPRS,CTDTMP,CTDSAL,CTDSAL_FLAG_W,CTDOXY,CTDOXY_FLAG_W,SALNTY,SALNTY_FLAG_W,OXYGEN,OXYGEN_FLAG_W,SILCAT,SILCAT_FLAG_W,NITRAT,NITRAT_FLAG_W,NO2+NO3,NO2+NO3_FLAG_W,NITRIT,NITRIT_FLAG_W,PHSPHT,PHSPHT_FLAG_W,CFC-11,CFC-11_FLAG_W,CFC-12,CFC-12_FLAG_W,DELC13,DELC13_FLAG_W,TCARBN,TCARBN_FLAG_W,ALKALI,ALKALI_FLAG_W,PH,PH_FLAG_W,PH_TMP,PH_SCALE,PH_NBS,PH_NBS_FLAG_W,C13ERR,TOTALP,TOTALP_FLAG_W,AMMONI,AMMONI_FLAG_W,CHLORA,CHLORA_FLAG_W,PPHYTN,PPHYTN_FLAG_W,REVPRS,REVTMP,DEPTH_,DEPTH_FLAG,CTDDEP,THETA,SIGTHT,DOC,DOC_FLAG_W
,,,,,,,GMT,GMT,,,METER,DBAR,ITS-90,PSS-78,,UMOL/KG,,PSS-78,,UMOL/KG,,UMOL/KG,,UMOL/KG,,UMOL/KG,,UMOL/KG,,UMOL/KG,,PMOL/KG,,PMOL/KG,,/MILLE,,UMOL/KG,,UMOL/KG,,25_DEG_C,,DEG_C,,,,/MILLE,UMOL/KG,,UMOL/KG,,UG/L,,UG/L,,DBAR,ITS-90,METERS,,METERS,DEG_C,,UMOL/L,
       RF07-01,  165E,RF-2840,  1,     -9,      -9,5,20070126,1817, 27.9872, 165.0127, 5634,      0.0,  22.0547,  35.1336,2,   -999.0,9,-999.0000,9,    215.3,2,     1.90,2,  -999.00,9,     0.01,2,     0.00,2,     0.00,2, -999.000,9, -999.000,9,  -999.00,9,   1995.9,2,   -999.0,9,   8.0692,2,     25.0, TS,  -999.00,9,   -999.0,  -999.00,9,  -999.00,9,     0.12,2,     0.05,2,   -999.0,-999.0000, -999,9,    0,  22.0545,  24.3040,   -999.0,9
       RF07-01,  165E,RF-2840,  1,     21,02-18575,2,20070126,1835, 27.9872, 165.0127, 5634,     11.2,  22.0664,  35.1839,2,   -999.0,9,  35.1829,2,    214.7,2,     1.92,2,  -999.00,9,     0.00,2,     0.00,2,     0.00,2, -999.000,9, -999.000,9,  -999.00,9,   1990.5,2,   -999.0,9,   8.0655,2,     25.0, TS,  -999.00,9,   -999.0,  -999.00,9,  -999.00,9,     0.12,2,     0.05,2,   -999.0,-999.0000, -999,9,   11,  22.0642,  24.3395,   -999.0,9
       RF07-01,  165E,RF-2840,  1,     20,02-18574,2,20070126,1834, 27.9872, 165.0127, 5634,     26.5,  22.0704,  35.1833,2,   -999.0,9,-999.0000,9,    218.0,2,     1.97,2,  -999.00,9,     0.00,2,     0.00,2,     0.00,2, -999.000,9, -999.000,9,  -999.00,9,   1987.7,2,   -999.0,9,   8.0723,2,     25.0, TS,  -999.00,9,   -999.0,  -999.00,9,  -999.00,9,     0.12,2,     0.04,2,   -999.0,-999.0000, -999,9,   26,  22.0652,  24.3388,   -999.0,9
       RF07-01,  165E,RF-2840,  1,     19,02-18573,2,20070126,1833, 27.9872, 165.0127, 5634,     49.6,  22.0774,  35.1828,2,   -999.0,9,-999.0000,9,    214.8,2,     2.09,2,  -999.00,9,     0.00,2,     0.00,2,     0.00,2, -999.000,9, -999.000,9,  -999.00,9,   1986.0,2,   -999.0,9,   8.0706,2,     25.0, TS,  -999.00,9,   -999.0,  -999.00,9,  -999.00,9,     0.11,2,     0.04,2,   -999.0,-999.0000, -999,9,   49,  22.0676,  24.3378,   -999.0,9
       RF07-01,  165E,RF-2840,  1,     18,02-18572,2,20070126,1831, 27.9872, 165.0127, 5634,     74.9,  22.0585,  35.1753,2,   -999.0,9,-999.0000,9,    214.4,2,     2.17,2,  -999.00,9,     0.00,2,     0.00,2,     0.00,2, -999.000,9, -999.000,9,  -999.00,9,   -999.0,9,   -999.0,9,   8.0710,2,     25.0, TS,  -999.00,9,   -999.0,  -999.00,9,  -999.00,9,     0.12,2,     0.05,2,   -999.0,-999.0000, -999,9,   74,  22.0437,  24.3388,   -999.0,9
       RF07-01,  165E,RF-2840,  1,     17,02-18571,2,20070126,1830, 27.9872, 165.0127, 5634,    101.3,  22.1041,  35.1884,2,   -999.0,9,  35.1875,2,    214.8,2,     2.17,2,  -999.00,9,     0.00,2,     0.00,2,     0.00,2, -999.000,9, -999.000,9,  -999.00,9,   1992.2,2,   -999.0,9,   8.0725,2,     25.0, TS,  -999.00,9,   -999.0,  -999.00,9,  -999.00,9,     0.11,2,     0.04,2,   -999.0,-999.0000, -999,9,  101,  22.0840,  24.3374,   -999.0,9
       RF07-01,  165E,RF-2840,  1,     16,02-18570,2,20070126,1829, 27.9872, 165.0127, 5634,    126.1,  21.0892,  34.9606,2,   -999.0,9,-999.0000,9,    214.2,2,     2.88,2,  -999.00,9,     0.58,2,     0.06,2,     0.02,2, -999.000,9, -999.000,9,  -999.00,9,   1999.5,3,   -999.0,9,   8.0347,2,     25.0, TS,  -999.00,9,   -999.0,  -999.00,9,  -999.00,9,     0.12,2,     0.18,2,   -999.0,-999.0000, -999,9,  125,  21.0650,  24.4462,   -999.0,9
       RF07-01,  165E,RF-2840,  1,     15,02-18569,4,20070126,1827, 27.9872, 165.0127, 5634,    152.4,  18.8296,  34.8122,2,   -999.0,9,-999.0000,9,   -999.0,4,     3.88,4,  -999.00,9,     2.15,4,     0.03,4,     0.11,4, -999.000,9, -999.000,9,  -999.00,9,   -999.0,4,   -999.0,9,-999.0000,9,   -999.0,  9,  -999.00,9,   -999.0,  -999.00,9,  -999.00,9,     0.06,4,     0.16,4,   -999.0,-999.0000, -999,9,  151,  18.8026,  24.9277,   -999.0,9
       RF07-01,  165E,RF-2840,  1,     14,02-18568,2,20070126,1825, 27.9872, 165.0127, 5634,    205.4,  17.6349,  34.7940,2,   -999.0,9,  34.7944,2,    210.5,2,     4.37,2,  -999.00,9,     4.00,2,     0.01,2,     0.20,2, -999.000,9, -999.000,9,  -999.00,9,   2022.8,3,   -999.0,9,   7.9847,2,     25.0, TS,  -999.00,9,   -999.0,  -999.00,9,  -999.00,9,     0.00,2,     0.01,2,   -999.0,-999.0000, -999,9,  204,  17.6002,  25.2120,   -999.0,9
       RF07-01,  165E,RF-2840,  1,     13,02-18567,2,20070126,1823, 27.9872, 165.0127, 5634,    255.2,  17.2044,  34.7729,2,   -999.0,9,-999.0000,9,    212.6,2,     4.94,2,  -999.00,9,     4.53,2,     0.00,2,     0.22,2, -999.000,9, -999.000,9,  -999.00,9,   2024.4,3,   -999.0,9,   7.9776,2,     25.0, TS,  -999.00,9,   -999.0,  -999.00,9,  -999.00,9,  -999.00,9,  -999.00,9,   -999.0,-999.0000, -999,9,  253,  17.1619,  25.3014,   -999.0,9
       RF07-01,  165E,RF-2840,  1,     12,02-18348,2,20070126,1821, 27.9872, 165.0127, 5634,    305.6,  16.4720,  34.7120,2,   -999.0,9,  34.7138,2,    200.8,2,     6.95,2,  -999.00,9,     6.55,2,     0.00,2,     0.34,2, -999.000,9, -999.000,9,  -999.00,9,   2044.2,3,   -999.0,9,   7.9416,2,     25.0, TS,  -999.00,9,   -999.0,  -999.00,9,  -999.00,9,  -999.00,9,  -999.00,9,   -999.0,-999.0000, -999,9,  303,  16.4226,  25.4287,   -999.0,9
       RF07-01,  165E,RF-2840,  1,     11,02-18565,2,20070126,1818, 27.9872, 165.0127, 5634,    407.0,  14.1495,  34.5282,2,   -999.0,9,  34.5289,2,    203.2,2,    11.98,2,  -999.00,9,     9.88,2,     0.00,2,     0.58,2, -999.000,9, -999.000,9,  -999.00,9,   2069.6,3,   -999.0,9,   7.8839,2,     25.0, TS,  -999.00,9,   -999.0,  -999.00,9,  -999.00,9,  -999.00,9,  -999.00,9,   -999.0,-999.0000, -999,9,  404,  14.0901,  25.8035,   -999.0,9
       RF07-01,  165E,RF-2840,  1,     10,02-18564,2,20070126,1815, 27.9872, 165.0127, 5634,    507.6,  11.5340,  34.3219,2,   -999.0,9,-999.0000,9,    202.8,2,    19.91,2,  -999.00,9,    14.32,2,     0.00,2,     0.88,2, -999.000,9, -999.000,9,  -999.00,9,   2098.5,3,   -999.0,9,   7.8153,2,     25.0, TS,  -999.00,9,   -999.0,  -999.00,9,  -999.00,9,  -999.00,9,  -999.00,9,   -999.0,-999.0000, -999,9,  504,  11.4691,  26.1619,   -999.0,9
       RF07-01,  165E,RF-2840,  1,      9,02-18563,2,20070126,1812, 27.9872, 165.0127, 5634,    607.7,   8.7818,  34.1203,2,   -999.0,9,  34.1222,2,    177.7,2,    36.11,2,  -999.00,9,    21.51,2,     0.00,2,     1.40,2, -999.000,9, -999.000,9,  -999.00,9,   2146.7,3,   -999.0,9,   7.7028,2,     25.0, TS,  -999.00,9,   -999.0,  -999.00,9,  -999.00,9,  -999.00,9,  -999.00,9,   -999.0,-999.0000, -999,9,  603,   8.7160,  26.4740,   -999.0,9
       RF07-01,  165E,RF-2840,  1,      8,02-18562,2,20070126,1809, 27.9872, 165.0127, 5634,    706.5,   6.7474,  34.0429,2,   -999.0,9,-999.0000,9,    135.8,2,    58.50,2,  -999.00,9,    29.00,2,     0.00,2,     1.98,2, -999.000,9, -999.000,9,  -999.00,9,   2207.5,3,   -999.0,9,   7.5788,2,     25.0, TS,  -999.00,9,   -999.0,  -999.00,9,  -999.00,9,  -999.00,9,  -999.00,9,   -999.0,-999.0000, -999,9,  701,   6.6812,  26.7080,   -999.0,9
       RF07-01,  165E,RF-2840,  1,      7,02-18561,2,20070126,1806, 27.9872, 165.0127, 5634,    810.2,   5.2541,  34.1061,2,   -999.0,9,  34.1049,2,     81.5,2,    85.79,2,  -999.00,9,    36.31,2,     0.00,2,     2.53,2, -999.000,9, -999.000,9,  -999.00,9,   2276.7,3,   -999.0,9,   7.4544,2,     25.0, TS,  -999.00,9,   -999.0,  -999.00,9,  -999.00,9,  -999.00,9,  -999.00,9,   -999.0,-999.0000, -999,9,  803,   5.1867,  26.9450,   -999.0,9
       RF07-01,  165E,RF-2840,  1,      6,02-18560,2,20070126,1804, 27.9872, 165.0127, 5634,    909.6,   4.4603,  34.1769,2,   -999.0,9,-999.0000,9,     56.5,2,   104.73,2,  -999.00,9,    39.42,2,     0.00,2,     2.78,2, -999.000,9, -999.000,9,  -999.00,9,   2314.1,3,   -999.0,9,-999.0000,9,   -999.0,  9,  -999.00,9,   -999.0,  -999.00,9,  -999.00,9,  -999.00,9,  -999.00,9,   -999.0,-999.0000, -999,9,  902,   4.3894,  27.0904,   -999.0,9
       RF07-01,  165E,RF-2840,  1,      5,02-18559,2,20070126,1801, 27.9872, 165.0127, 5634,   1009.0,   4.0120,  34.2518,2,   -999.0,9,  34.2518,2,     40.5,2,   116.63,2,  -999.00,9,    41.06,2,     0.00,2,     2.90,2, -999.000,9, -999.000,9,  -999.00,9,   2336.2,3,   -999.0,9,   7.3758,2,     25.0, TS,  -999.00,9,   -999.0,  -999.00,9,  -999.00,9,  -999.00,9,  -999.00,9,   -999.0,-999.0000, -999,9, 1000,   3.9359,  27.1976,   -999.0,9
       RF07-01,  165E,RF-2840,  1,      4,02-18558,2,20070126,1755, 27.9872, 165.0127, 5634,   1263.0,   3.1511,  34.4282,2,   -999.0,9,  34.4277,2,     34.5,2,   138.31,2,  -999.00,9,    42.45,2,     0.00,2,     3.00,2, -999.000,9, -999.000,9,  -999.00,9,   2369.7,3,   -999.0,9,   7.3816,2,     25.0, TS,  -999.00,9,   -999.0,  -999.00,9,  -999.00,9,  -999.00,9,  -999.00,9,   -999.0,-999.0000, -999,9, 1251,   3.0614,  27.4230,   -999.0,9
       RF07-01,  165E,RF-2840,  1,      3,02-18557,2,20070126,1750, 27.9872, 165.0127, 5634,   1516.5,   2.5560,  34.5057,2,   -999.0,9,  34.5044,2,     41.6,2,   152.13,2,  -999.00,9,    42.54,2,     0.00,2,     2.99,2, -999.000,9, -999.000,9,  -999.00,9,   2382.1,2,   -999.0,9,   7.3927,2,     25.0, TS,  -999.00,9,   -999.0,  -999.00,9,  -999.00,9,  -999.00,9,  -999.00,9,   -999.0,-999.0000, -999,9, 1501,   2.4521,  27.5387,   -999.0,9
       RF07-01,  165E,RF-2840,  1,      2,02-18556,2,20070126,1745, 27.9872, 165.0127, 5634,   1766.2,   2.1786,  34.5617,2,   -999.0,9,  34.5619,2,     54.8,2,   159.11,2,  -999.00,9,    41.86,2,     0.00,2,     2.93,2, -999.000,9, -999.000,9,  -999.00,9,   2380.8,2,   -999.0,9,   7.4155,2,     25.0, TS,  -999.00,9,   -999.0,  -999.00,9,  -999.00,9,  -999.00,9,  -999.00,9,   -999.0,-999.0000, -999,9, 1747,   2.0591,  27.6159,   -999.0,9
       RF07-01,  165E,RF-2840,  1,      1,02-18555,2,20070126,1740, 27.9872, 165.0127, 5634,   2023.1,   1.9507,  34.6012,2,   -999.0,9,  34.6010,2,     78.6,2,   159.89,2,  -999.00,9,    40.81,2,     0.00,2,     2.83,2, -999.000,9, -999.000,9,  -999.00,9,   2368.7,2,   -999.0,9,   7.4611,6,     25.0, TS,  -999.00,9,   -999.0,  -999.00,9,  -999.00,9,  -999.00,9,  -999.00,9,   -999.0,-999.0000, -999,9, 2000,   1.8132,  27.6667,   -999.0,9