BOTTLE,20130510GEMDJMAYT
EXPOCODE,SECT_ID,STNNBR,CASTNO,SAMPNO,BTLNBR,BTLNBR_FLAG_W,DATE,TIME,LATITUDE,LONGITUDE,DEPTH,CTDPRS,CTDTMP,CTDSAL,CTDSAL_FLAG_W,CTDOXY,CTDOXY_FLAG_W,SALNTY,SALNTY_FLAG_W,OXYGEN,OXYGEN_FLAG_W,SILCAT,SILCAT_FLAG_W,NITRAT,NITRAT_FLAG_W,NO2+NO3,NO2+NO3_FLAG_W,NITRIT,NITRIT_FLAG_W,PHSPHT,PHSPHT_FLAG_W,CFC-11,CFC-11_FLAG_W,CFC-12,CFC-12_FLAG_W,DELC13,DELC13_FLAG_W,TCARBN,TCARBN_FLAG_W,ALKALI,ALKALI_FLAG_W,PH,PH_FLAG_W,PH_TMP,PH_SCALE,PH_NBS,PH_NBS_FLAG_W,C13ERR,TOTALP,TOTALP_FLAG_W,AMMONI,AMMONI_FLAG_W,CHLORA,CHLORA_FLAG_W,PPHYTN,PPHYTN_FLAG_W,REVPRS,REVTMP,DEPTH_,DEPTH_FLAG,CTDDEP,THETA,SIGTHT,DOC,DOC_FLAG_W
,,,,,,,GMT,GMT,,,METER,DBAR,ITS-90,PSS-78,,UMOL/KG,,PSS-78,,UMOL/KG,,UMOL/KG,,UMOL/KG,,UMOL/KG,,UMOL/KG,,UMOL/KG,,PMOL/KG,,PMOL/KG,,/MILLE,,UMOL/KG,,UMOL/KG,,25_DEG_C,,DEG_C,,,,/MILLE,UMOL/KG,,UMOL/KG,,UG/L,,UG/L,,DBAR,ITS-90,METERS,,METERS,DEG_C,,UMOL/L,
       RF07-01,  165E,RF-2865,  1,     -9,      -9,5,20070212,0123,  3.0035, 164.9890, 4227,      0.0,  29.8487,  34.3043,2,   -999.0,9,-999.0000,9,    194.8,2,     1.59,2,  -999.00,9,     0.01,2,     0.00,2,     0.10,2, -999.000,9, -999.000,9,  -999.00,9,   -999.0,9,   -999.0,9,-999.0000,9,   -999.0,  9,  -999.00,9,   -999.0,  -999.00,9,  -999.00,9,  -999.00,9,  -999.00,9,   -999.0,-999.0000, -999,9,    0,  29.8485,  21.2563,   -999.0,9
       RF07-01,  165E,RF-2865,  1,     21,02-18575,2,20070212,0139,  3.0035, 164.9890, 4227,     11.5,  29.6260,  34.3007,2,   -999.0,9,  34.3001,2,    195.2,2,     1.63,2,  -999.00,9,     0.00,2,     0.00,2,     0.06,2, -999.000,9, -999.000,9,  -999.00,9,   -999.0,9,   -999.0,9,-999.0000,9,   -999.0,  9,  -999.00,9,   -999.0,  -999.00,9,  -999.00,9,  -999.00,9,  -999.00,9,   -999.0,-999.0000, -999,9,   11,  29.6232,  21.3299,   -999.0,9
       RF07-01,  165E,RF-2865,  1,     20,02-18574,2,20070212,0138,  3.0035, 164.9890, 4227,     26.5,  29.6113,  34.3171,2,   -999.0,9,-999.0000,9,    195.0,2,     1.62,2,  -999.00,9,     0.00,2,     0.00,2,     0.06,2, -999.000,9, -999.000,9,  -999.00,9,   -999.0,9,   -999.0,9,-999.0000,9,   -999.0,  9,  -999.00,9,   -999.0,  -999.00,9,  -999.00,9,  -999.00,9,  -999.00,9,   -999.0,-999.0000, -999,9,   26,  29.6048,  21.3484,   -999.0,9
       RF07-01,  165E,RF-2865,  1,     19,02-18573,2,20070212,0137,  3.0035, 164.9890, 4227,     51.1,  29.6804,  34.6162,2,   -999.0,9,-999.0000,9,    193.1,2,     1.61,2,  -999.00,9,     0.00,2,     0.00,2,     0.10,2, -999.000,9, -999.000,9,  -999.00,9,   -999.0,9,   -999.0,9,-999.0000,9,   -999.0,  9,  -999.00,9,   -999.0,  -999.00,9,  -999.00,9,  -999.00,9,  -999.00,9,   -999.0,-999.0000, -999,9,   51,  29.6678,  21.5514,   -999.0,9
       RF07-01,  165E,RF-2865,  1,     18,02-18572,2,20070212,0136,  3.0035, 164.9890, 4227,     75.5,  29.4193,  35.1652,2,   -999.0,9,-999.0000,9,    189.1,2,     1.85,2,  -999.00,9,     0.67,2,     0.09,2,     0.20,2, -999.000,9, -999.000,9,  -999.00,9,   -999.0,9,   -999.0,9,-999.0000,9,   -999.0,  9,  -999.00,9,   -999.0,  -999.00,9,  -999.00,9,  -999.00,9,  -999.00,9,   -999.0,-999.0000, -999,9,   75,  29.4008,  22.0535,   -999.0,9
       RF07-01,  165E,RF-2865,  1,     17,02-18571,2,20070212,0135,  3.0035, 164.9890, 4227,    101.6,  28.1912,  35.2921,2,   -999.0,9,  35.2961,4,    171.2,2,     2.44,2,  -999.00,9,     4.00,2,     0.59,2,     0.35,2, -999.000,9, -999.000,9,  -999.00,9,   -999.0,9,   -999.0,9,-999.0000,9,   -999.0,  9,  -999.00,9,   -999.0,  -999.00,9,  -999.00,9,  -999.00,9,  -999.00,9,   -999.0,-999.0000, -999,9,  101,  28.1671,  22.5596,   -999.0,9
       RF07-01,  165E,RF-2865,  1,     16,02-18570,2,20070212,0134,  3.0035, 164.9890, 4227,    127.1,  25.3559,  35.0563,2,   -999.0,9,-999.0000,9,    143.4,2,     3.64,2,  -999.00,9,     7.51,2,     0.07,2,     0.51,2, -999.000,9, -999.000,9,  -999.00,9,   -999.0,9,   -999.0,9,-999.0000,9,   -999.0,  9,  -999.00,9,   -999.0,  -999.00,9,  -999.00,9,  -999.00,9,  -999.00,9,   -999.0,-999.0000, -999,9,  126,  25.3281,  23.2836,   -999.0,9
       RF07-01,  165E,RF-2865,  1,     15,02-18569,3,20070212,0133,  3.0035, 164.9890, 4227,    152.6,  23.3443,  35.1158,2,   -999.0,9,-999.0000,9,    129.2,2,     5.62,2,  -999.00,9,    10.05,2,     0.01,2,     0.66,2, -999.000,9, -999.000,9,  -999.00,9,   -999.0,9,   -999.0,9,-999.0000,9,   -999.0,  9,  -999.00,9,   -999.0,  -999.00,9,  -999.00,9,  -999.00,9,  -999.00,9,   -999.0,-999.0000, -999,9,  152,  23.3128,  23.9308,   -999.0,9
       RF07-01,  165E,RF-2865,  1,     14,02-18568,2,20070212,0131,  3.0035, 164.9890, 4227,    202.8,  14.6813,  34.7019,2,   -999.0,9,  34.7036,2,    132.9,2,    19.23,2,  -999.00,9,    17.94,2,     0.00,2,     1.17,2, -999.000,9, -999.000,9,  -999.00,9,   -999.0,9,   -999.0,9,-999.0000,9,   -999.0,  9,  -999.00,9,   -999.0,  -999.00,9,  -999.00,9,  -999.00,9,  -999.00,9,   -999.0,-999.0000, -999,9,  202,  14.6511,  25.8180,   -999.0,9
       RF07-01,  165E,RF-2865,  1,     13,02-18567,3,20070212,0130,  3.0035, 164.9890, 4227,    253.0,  11.8204,  34.8296,2,   -999.0,9,-999.0000,9,    123.9,2,    20.79,2,  -999.00,9,    23.09,2,     0.00,2,     1.55,2, -999.000,9, -999.000,9,  -999.00,9,   -999.0,9,   -999.0,9,-999.0000,9,   -999.0,  9,  -999.00,9,   -999.0,  -999.00,9,  -999.00,9,  -999.00,9,  -999.00,9,   -999.0,-999.0000, -999,9,  251,  11.7877,  26.4971,   -999.0,9
       RF07-01,  165E,RF-2865,  1,     12,02-18348,2,20070212,0128,  3.0035, 164.9890, 4227,    303.9,  10.9979,  34.7925,2,   -999.0,9,  34.7921,2,    100.6,2,    23.82,2,  -999.00,9,    26.82,2,     0.00,2,     1.79,2, -999.000,9, -999.000,9,  -999.00,9,   -999.0,9,   -999.0,9,-999.0000,9,   -999.0,  9,  -999.00,9,   -999.0,  -999.00,9,  -999.00,9,  -999.00,9,  -999.00,9,   -999.0,-999.0000, -999,9,  302,  10.9603,  26.6211,   -999.0,9
       RF07-01,  165E,RF-2865,  1,     11,02-18565,2,20070212,0126,  3.0035, 164.9890, 4227,    404.6,   9.5559,  34.6816,2,   -999.0,9,  34.6809,2,    104.7,2,    29.87,2,  -999.00,9,    29.09,2,     0.00,2,     1.96,2, -999.000,9, -999.000,9,  -999.00,9,   -999.0,9,   -999.0,9,-999.0000,9,   -999.0,  9,  -999.00,9,   -999.0,  -999.00,9,  -999.00,9,  -999.00,9,  -999.00,9,   -999.0,-999.0000, -999,9,  402,   9.5100,  26.7857,   -999.0,9
       RF07-01,  165E,RF-2865,  1,     10,02-18564,2,20070212,0124,  3.0035, 164.9890, 4227,    504.5,   8.5274,  34.6152,2,   -999.0,9,-999.0000,9,    111.3,2,    34.83,2,  -999.00,9,    30.46,2,     0.00,2,     2.06,2, -999.000,9, -999.000,9,  -999.00,9,   -999.0,9,   -999.0,9,-999.0000,9,   -999.0,  9,  -999.00,9,   -999.0,  -999.00,9,  -999.00,9,  -999.00,9,  -999.00,9,   -999.0,-999.0000, -999,9,  501,   8.4736,  26.8996,   -999.0,9
       RF07-01,  165E,RF-2865,  1,      9,02-18563,2,20070212,0121,  3.0035, 164.9890, 4227,    605.1,   7.1285,  34.5753,2,   -999.0,9,  34.5754,2,     72.7,2,    48.63,2,  -999.00,9,    36.84,2,     0.00,2,     2.57,2, -999.000,9, -999.000,9,  -999.00,9,   -999.0,9,   -999.0,9,-999.0000,9,   -999.0,  9,  -999.00,9,   -999.0,  -999.00,9,  -999.00,9,  -999.00,9,  -999.00,9,   -999.0,-999.0000, -999,9,  601,   7.0700,  27.0745,   -999.0,9
       RF07-01,  165E,RF-2865,  1,      8,02-18562,2,20070212,0119,  3.0035, 164.9890, 4227,    706.7,   6.4703,  34.5476,2,   -999.0,9,-999.0000,9,     84.7,2,    56.03,2,  -999.00,9,    36.66,2,     0.00,2,     2.58,2, -999.000,9, -999.000,9,  -999.00,9,   -999.0,9,   -999.0,9,-999.0000,9,   -999.0,  9,  -999.00,9,   -999.0,  -999.00,9,  -999.00,9,  -999.00,9,  -999.00,9,   -999.0,-999.0000, -999,9,  702,   6.4050,  27.1428,   -999.0,9
       RF07-01,  165E,RF-2865,  1,      7,02-18561,2,20070212,0117,  3.0035, 164.9890, 4227,    807.4,   5.5428,  34.5434,2,   -999.0,9,  34.5428,2,     87.7,2,    68.33,2,  -999.00,9,    37.99,2,     0.00,2,     2.69,2, -999.000,9, -999.000,9,  -999.00,9,   -999.0,9,   -999.0,9,-999.0000,9,   -999.0,  9,  -999.00,9,   -999.0,  -999.00,9,  -999.00,9,  -999.00,9,  -999.00,9,   -999.0,-999.0000, -999,9,  801,   5.4733,  27.2572,   -999.0,9
       RF07-01,  165E,RF-2865,  1,      6,02-18560,2,20070212,0114,  3.0035, 164.9890, 4227,    908.2,   4.9686,  34.5447,2,   -999.0,9,-999.0000,9,     99.3,2,    79.29,2,  -999.00,9,    37.28,2,     0.00,2,     2.63,2, -999.000,9, -999.000,9,  -999.00,9,   -999.0,9,   -999.0,9,-999.0000,9,   -999.0,  9,  -999.00,9,   -999.0,  -999.00,9,  -999.00,9,  -999.00,9,  -999.00,9,   -999.0,-999.0000, -999,9,  901,   4.8937,  27.3265,   -999.0,9
       RF07-01,  165E,RF-2865,  1,      5,02-18559,2,20070212,0112,  3.0035, 164.9890, 4227,   1010.0,   4.5227,  34.5548,2,   -999.0,9,  34.5554,2,     92.1,2,    87.55,2,  -999.00,9,    38.46,2,     0.00,2,     2.74,2, -999.000,9, -999.000,9,  -999.00,9,   -999.0,9,   -999.0,9,-999.0000,9,   -999.0,  9,  -999.00,9,   -999.0,  -999.00,9,  -999.00,9,  -999.00,9,  -999.00,9,   -999.0,-999.0000, -999,9, 1002,   4.4421,  27.3850,   -999.0,9
       RF07-01,  165E,RF-2865,  1,      4,02-18558,2,20070212,0107,  3.0035, 164.9890, 4227,   1261.6,   3.6943,  34.5794,2,   -999.0,9,  34.5793,2,     89.5,2,   106.97,2,  -999.00,9,    39.18,2,     0.00,2,     2.80,2, -999.000,9, -999.000,9,  -999.00,9,   -999.0,9,   -999.0,9,-999.0000,9,   -999.0,  9,  -999.00,9,   -999.0,  -999.00,9,  -999.00,9,  -999.00,9,  -999.00,9,   -999.0,-999.0000, -999,9, 1251,   3.5992,  27.4923,   -999.0,9
       RF07-01,  165E,RF-2865,  1,      3,02-18557,2,20070212,0102,  3.0035, 164.9890, 4227,   1515.1,   3.0559,  34.6016,2,   -999.0,9,  34.6015,2,     96.6,2,   121.09,2,  -999.00,9,    39.17,2,     0.00,2,     2.79,2, -999.000,9, -999.000,9,  -999.00,9,   -999.0,9,   -999.0,9,-999.0000,9,   -999.0,  9,  -999.00,9,   -999.0,  -999.00,9,  -999.00,9,  -999.00,9,  -999.00,9,   -999.0,-999.0000, -999,9, 1501,   2.9461,  27.5720,   -999.0,9
       RF07-01,  165E,RF-2865,  1,      2,02-18556,2,20070212,0057,  3.0035, 164.9890, 4227,   1769.7,   2.6206,  34.6212,2,   -999.0,9,  34.6212,2,    104.6,2,   129.04,2,  -999.00,9,    38.86,2,     0.00,2,     2.74,2, -999.000,9, -999.000,9,  -999.00,9,   -999.0,9,   -999.0,9,-999.0000,9,   -999.0,  9,  -999.00,9,   -999.0,  -999.00,9,  -999.00,9,  -999.00,9,  -999.00,9,   -999.0,-999.0000, -999,9, 1752,   2.4947,  27.6275,   -999.0,9
       RF07-01,  165E,RF-2865,  1,      1,02-18555,2,20070212,0053,  3.0035, 164.9890, 4227,   2023.6,   2.2835,  34.6371,2,   -999.0,9,  34.6371,2,    111.0,2,   137.48,2,  -999.00,9,    38.58,2,     0.00,2,     2.71,2, -999.000,9, -999.000,9,  -999.00,9,   -999.0,9,   -999.0,9,-999.0000,9,   -999.0,  9,  -999.00,9,   -999.0,  -999.00,9,  -999.00,9,  -999.00,9,  -999.00,9,   -999.0,-999.0000, -999,9, 2003,   2.1407,  27.6697,   -999.0,9