BOTTLE,20130510GEMDJMAYT
EXPOCODE,SECT_ID,STNNBR,CASTNO,SAMPNO,BTLNBR,BTLNBR_FLAG_W,DATE,TIME,LATITUDE,LONGITUDE,DEPTH,CTDPRS,CTDTMP,CTDSAL,CTDSAL_FLAG_W,CTDOXY,CTDOXY_FLAG_W,SALNTY,SALNTY_FLAG_W,OXYGEN,OXYGEN_FLAG_W,SILCAT,SILCAT_FLAG_W,NITRAT,NITRAT_FLAG_W,NO2+NO3,NO2+NO3_FLAG_W,NITRIT,NITRIT_FLAG_W,PHSPHT,PHSPHT_FLAG_W,CFC-11,CFC-11_FLAG_W,CFC-12,CFC-12_FLAG_W,DELC13,DELC13_FLAG_W,TCARBN,TCARBN_FLAG_W,ALKALI,ALKALI_FLAG_W,PH,PH_FLAG_W,PH_TMP,PH_SCALE,PH_NBS,PH_NBS_FLAG_W,C13ERR,TOTALP,TOTALP_FLAG_W,AMMONI,AMMONI_FLAG_W,CHLORA,CHLORA_FLAG_W,PPHYTN,PPHYTN_FLAG_W,REVPRS,REVTMP,DEPTH_,DEPTH_FLAG,CTDDEP,THETA,SIGTHT,DOC,DOC_FLAG_W
,,,,,,,GMT,GMT,,,METER,DBAR,ITS-90,PSS-78,,UMOL/KG,,PSS-78,,UMOL/KG,,UMOL/KG,,UMOL/KG,,UMOL/KG,,UMOL/KG,,UMOL/KG,,PMOL/KG,,PMOL/KG,,/MILLE,,UMOL/KG,,UMOL/KG,,25_DEG_C,,DEG_C,,,,/MILLE,UMOL/KG,,UMOL/KG,,UG/L,,UG/L,,DBAR,ITS-90,METERS,,METERS,DEG_C,,UMOL/L,
       RF07-01,  165E,RF-2863,  1,     -9,      -9,5,20070202,0000,  4.9025, 164.9803, 4749,      0.0,  29.0092,  34.0684,2,   -999.0,9,-999.0000,9,    193.1,2,     1.98,2,  -999.00,9,     0.00,2,     0.00,2,     0.09,2, -999.000,9, -999.000,9,  -999.00,9,   -999.0,9,   -999.0,9,-999.0000,9,   -999.0,  9,  -999.00,9,   -999.0,  -999.00,9,  -999.00,9,     0.14,2,     0.07,2,   -999.0,-999.0000, -999,9,    0,  29.0090,  21.3618,   -999.0,9
       RF07-01,  165E,RF-2863,  1,     21,02-18575,2,20070202,0017,  4.9025, 164.9803, 4749,     11.6,  29.0115,  34.0683,2,   -999.0,9,  34.0664,2,    194.3,2,     2.17,2,  -999.00,9,     0.00,2,     0.00,2,     0.05,2, -999.000,9, -999.000,9,  -999.00,9,   -999.0,9,   -999.0,9,-999.0000,9,   -999.0,  9,  -999.00,9,   -999.0,  -999.00,9,  -999.00,9,     0.14,2,     0.07,2,   -999.0,-999.0000, -999,9,   11,  29.0087,  21.3618,   -999.0,9
       RF07-01,  165E,RF-2863,  1,     20,02-18574,2,20070202,0016,  4.9025, 164.9803, 4749,     25.6,  29.0138,  34.0672,2,   -999.0,9,-999.0000,9,    192.5,2,     1.92,2,  -999.00,9,     0.00,2,     0.00,2,     0.04,2, -999.000,9, -999.000,9,  -999.00,9,   -999.0,9,   -999.0,9,-999.0000,9,   -999.0,  9,  -999.00,9,   -999.0,  -999.00,9,  -999.00,9,     0.15,2,     0.07,2,   -999.0,-999.0000, -999,9,   26,  29.0076,  21.3613,   -999.0,9
       RF07-01,  165E,RF-2863,  1,     19,02-18573,2,20070202,0014,  4.9025, 164.9803, 4749,     50.8,  29.0171,  34.0667,2,   -999.0,9,-999.0000,9,    195.0,2,     1.95,2,  -999.00,9,     0.00,2,     0.00,2,     0.05,2, -999.000,9, -999.000,9,  -999.00,9,   -999.0,9,   -999.0,9,-999.0000,9,   -999.0,  9,  -999.00,9,   -999.0,  -999.00,9,  -999.00,9,     0.14,2,     0.08,2,   -999.0,-999.0000, -999,9,   50,  29.0049,  21.3619,   -999.0,9
       RF07-01,  165E,RF-2863,  1,     18,02-18572,2,20070202,0013,  4.9025, 164.9803, 4749,     78.4,  29.0226,  34.0668,2,   -999.0,9,-999.0000,9,    192.2,2,     1.70,2,  -999.00,9,     0.00,2,     0.00,2,     0.04,2, -999.000,9, -999.000,9,  -999.00,9,   -999.0,9,   -999.0,9,-999.0000,9,   -999.0,  9,  -999.00,9,   -999.0,  -999.00,9,  -999.00,9,     0.15,2,     0.08,2,   -999.0,-999.0000, -999,9,   78,  29.0037,  21.3623,   -999.0,9
       RF07-01,  165E,RF-2863,  1,     17,02-18571,2,20070202,0012,  4.9025, 164.9803, 4749,    102.7,  28.9423,  34.0724,2,   -999.0,9,  34.0729,2,    193.9,2,     1.57,2,  -999.00,9,     0.00,2,     0.00,2,     0.05,2, -999.000,9, -999.000,9,  -999.00,9,   -999.0,9,   -999.0,9,-999.0000,9,   -999.0,  9,  -999.00,9,   -999.0,  -999.00,9,  -999.00,9,     0.15,2,     0.08,2,   -999.0,-999.0000, -999,9,  102,  28.9176,  21.3952,   -999.0,9
       RF07-01,  165E,RF-2863,  1,     16,02-18570,2,20070202,0010,  4.9025, 164.9803, 4749,    127.9,  25.4200,  34.5917,2,   -999.0,9,-999.0000,9,    173.4,2,     3.51,2,  -999.00,9,     1.42,2,     0.19,2,     0.18,2, -999.000,9, -999.000,9,  -999.00,9,   -999.0,9,   -999.0,9,-999.0000,9,   -999.0,  9,  -999.00,9,   -999.0,  -999.00,9,  -999.00,9,     0.12,2,     0.27,2,   -999.0,-999.0000, -999,9,  127,  25.3920,  22.9131,   -999.0,9
       RF07-01,  165E,RF-2863,  1,     15,02-18569,2,20070202,0009,  4.9025, 164.9803, 4749,    151.1,  20.5939,  34.7639,2,   -999.0,9,-999.0000,9,    145.5,2,     8.00,2,  -999.00,9,     8.31,2,     0.02,2,     0.58,2, -999.000,9, -999.000,9,  -999.00,9,   -999.0,9,   -999.0,9,-999.0000,9,   -999.0,  9,  -999.00,9,   -999.0,  -999.00,9,  -999.00,9,     0.05,2,     0.22,2,   -999.0,-999.0000, -999,9,  150,  20.5654,  24.4315,   -999.0,9
       RF07-01,  165E,RF-2863,  1,     14,02-18568,2,20070202,0007,  4.9025, 164.9803, 4749,    203.1,  13.6850,  34.5910,2,   -999.0,9,  34.5951,2,    116.3,2,    21.95,2,  -999.00,9,    19.50,2,     0.00,2,     1.34,2, -999.000,9, -999.000,9,  -999.00,9,   -999.0,9,   -999.0,9,-999.0000,9,   -999.0,  9,  -999.00,9,   -999.0,  -999.00,9,  -999.00,9,     0.00,2,     0.02,2,   -999.0,-999.0000, -999,9,  202,  13.6562,  25.9426,   -999.0,9
       RF07-01,  165E,RF-2863,  1,     13,02-18567,2,20070202,0005,  4.9025, 164.9803, 4749,    253.2,  10.4704,  34.5437,2,   -999.0,9,-999.0000,9,     75.3,2,    35.72,2,  -999.00,9,    28.93,2,     0.00,2,     2.07,2, -999.000,9, -999.000,9,  -999.00,9,   -999.0,9,   -999.0,9,-999.0000,9,   -999.0,  9,  -999.00,9,   -999.0,  -999.00,9,  -999.00,9,  -999.00,9,  -999.00,9,   -999.0,-999.0000, -999,9,  252,  10.4402,  26.5196,   -999.0,9
       RF07-01,  165E,RF-2863,  1,     12,02-18348,2,20070202,0003,  4.9025, 164.9803, 4749,    303.4,   9.0601,  34.5939,2,   -999.0,9,  34.5898,2,     75.4,2,    40.85,2,  -999.00,9,    31.56,2,     0.00,2,     2.24,2, -999.000,9, -999.000,9,  -999.00,9,   -999.0,9,   -999.0,9,-999.0000,9,   -999.0,  9,  -999.00,9,   -999.0,  -999.00,9,  -999.00,9,  -999.00,9,  -999.00,9,   -999.0,-999.0000, -999,9,  301,   9.0270,  26.7958,   -999.0,9
       RF07-01,  165E,RF-2863,  1,     11,02-18565,2,20070202,0000,  4.9025, 164.9803, 4749,    406.8,   8.2526,  34.6026,2,   -999.0,9,  34.6006,2,     91.9,2,    40.75,2,  -999.00,9,    31.96,2,     0.00,2,     2.25,2, -999.000,9, -999.000,9,  -999.00,9,   -999.0,9,   -999.0,9,-999.0000,9,   -999.0,  9,  -999.00,9,   -999.0,  -999.00,9,  -999.00,9,  -999.00,9,  -999.00,9,   -999.0,-999.0000, -999,9,  404,   8.2103,  26.9300,   -999.0,9
       RF07-01,  165E,RF-2863,  1,     10,02-18564,2,20070201,2357,  4.9025, 164.9803, 4749,    506.1,   7.6362,  34.5802,2,   -999.0,9,-999.0000,9,     76.6,2,    47.63,2,  -999.00,9,    34.48,2,     0.00,2,     2.46,2, -999.000,9, -999.000,9,  -999.00,9,   -999.0,9,   -999.0,9,-999.0000,9,   -999.0,  9,  -999.00,9,   -999.0,  -999.00,9,  -999.00,9,  -999.00,9,  -999.00,9,   -999.0,-999.0000, -999,9,  503,   7.5856,  27.0051,   -999.0,9
       RF07-01,  165E,RF-2863,  1,      9,02-18563,2,20070201,2354,  4.9025, 164.9803, 4749,    607.0,   7.1212,  34.5592,2,   -999.0,9,  34.5581,2,     90.2,2,    50.35,2,  -999.00,9,    34.29,2,     0.00,2,     2.45,2, -999.000,9, -999.000,9,  -999.00,9,   -999.0,9,   -999.0,9,-999.0000,9,   -999.0,  9,  -999.00,9,   -999.0,  -999.00,9,  -999.00,9,  -999.00,9,  -999.00,9,   -999.0,-999.0000, -999,9,  603,   7.0625,  27.0628,   -999.0,9
       RF07-01,  165E,RF-2863,  1,      8,02-18562,2,20070201,2350,  4.9025, 164.9803, 4749,    705.6,   6.5734,  34.5516,2,   -999.0,9,-999.0000,9,     60.9,2,    62.91,2,  -999.00,9,    37.90,2,     0.00,2,     2.76,2, -999.000,9, -999.000,9,  -999.00,9,   -999.0,9,   -999.0,9,-999.0000,9,   -999.0,  9,  -999.00,9,   -999.0,  -999.00,9,  -999.00,9,  -999.00,9,  -999.00,9,   -999.0,-999.0000, -999,9,  700,   6.5076,  27.1323,   -999.0,9
       RF07-01,  165E,RF-2863,  1,      7,02-18561,2,20070201,2347,  4.9025, 164.9803, 4749,    808.3,   5.7239,  34.5423,2,   -999.0,9,  34.5404,2,     63.5,2,    76.50,2,  -999.00,9,    38.74,2,     0.00,2,     2.84,2, -999.000,9, -999.000,9,  -999.00,9,   -999.0,9,   -999.0,9,-999.0000,9,   -999.0,  9,  -999.00,9,   -999.0,  -999.00,9,  -999.00,9,  -999.00,9,  -999.00,9,   -999.0,-999.0000, -999,9,  802,   5.6532,  27.2344,   -999.0,9
       RF07-01,  165E,RF-2863,  1,      6,02-18560,2,20070201,2344,  4.9025, 164.9803, 4749,    907.8,   5.1410,  34.5456,2,   -999.0,9,-999.0000,9,     78.9,2,    83.61,2,  -999.00,9,    38.12,2,     0.00,2,     2.78,2, -999.000,9, -999.000,9,  -999.00,9,   -999.0,9,   -999.0,9,-999.0000,9,   -999.0,  9,  -999.00,9,   -999.0,  -999.00,9,  -999.00,9,  -999.00,9,  -999.00,9,   -999.0,-999.0000, -999,9,  901,   5.0649,  27.3074,   -999.0,9
       RF07-01,  165E,RF-2863,  1,      5,02-18559,2,20070201,2338,  4.9025, 164.9803, 4749,   1013.9,   4.5719,  34.5559,2,   -999.0,9,  34.5538,2,     73.2,2,    96.87,2,  -999.00,9,    39.28,2,     0.00,2,     2.87,2, -999.000,9, -999.000,9,  -999.00,9,   -999.0,9,   -999.0,9,-999.0000,9,   -999.0,  9,  -999.00,9,   -999.0,  -999.00,9,  -999.00,9,  -999.00,9,  -999.00,9,   -999.0,-999.0000, -999,9, 1006,   4.4906,  27.3806,   -999.0,9
       RF07-01,  165E,RF-2863,  1,      4,02-18558,2,20070201,2332,  4.9025, 164.9803, 4749,   1264.1,   3.6702,  34.5806,2,   -999.0,9,  34.5786,2,     79.1,2,   114.08,2,  -999.00,9,    39.65,2,     0.00,2,     2.91,2, -999.000,9, -999.000,9,  -999.00,9,   -999.0,9,   -999.0,9,-999.0000,9,   -999.0,  9,  -999.00,9,   -999.0,  -999.00,9,  -999.00,9,  -999.00,9,  -999.00,9,   -999.0,-999.0000, -999,9, 1253,   3.5751,  27.4956,   -999.0,9
       RF07-01,  165E,RF-2863,  1,      3,02-18557,2,20070201,2326,  4.9025, 164.9803, 4749,   1516.8,   2.9944,  34.6042,2,   -999.0,9,  34.6021,2,     90.7,2,   127.79,2,  -999.00,9,    39.34,2,     0.00,2,     2.88,2, -999.000,9, -999.000,9,  -999.00,9,   -999.0,9,   -999.0,9,-999.0000,9,   -999.0,  9,  -999.00,9,   -999.0,  -999.00,9,  -999.00,9,  -999.00,9,  -999.00,9,   -999.0,-999.0000, -999,9, 1503,   2.8852,  27.5796,   -999.0,9
       RF07-01,  165E,RF-2863,  1,      2,02-18556,2,20070201,2321,  4.9025, 164.9803, 4749,   1767.0,   2.6052,  34.6205,2,   -999.0,9,  34.6200,2,    102.6,2,   133.08,2,  -999.00,9,    38.58,2,     0.00,2,     2.78,2, -999.000,9, -999.000,9,  -999.00,9,   -999.0,9,   -999.0,9,-999.0000,9,   -999.0,  9,  -999.00,9,   -999.0,  -999.00,9,  -999.00,9,  -999.00,9,  -999.00,9,   -999.0,-999.0000, -999,9, 1750,   2.4797,  27.6282,   -999.0,9
       RF07-01,  165E,RF-2863,  1,      1,02-18555,2,20070201,2315,  4.9025, 164.9803, 4749,   2021.3,   2.2992,  34.6367,2,   -999.0,9,  34.6361,2,    105.7,2,   141.03,2,  -999.00,9,    38.74,2,     0.00,2,     2.78,2, -999.000,9, -999.000,9,  -999.00,9,   -999.0,9,   -999.0,9,-999.0000,9,   -999.0,  9,  -999.00,9,   -999.0,  -999.00,9,  -999.00,9,  -999.00,9,  -999.00,9,   -999.0,-999.0000, -999,9, 2000,   2.1564,  27.6681,   -999.0,9