BOTTLE,20130510GEMDJMAYT
EXPOCODE,SECT_ID,STNNBR,CASTNO,SAMPNO,BTLNBR,BTLNBR_FLAG_W,DATE,TIME,LATITUDE,LONGITUDE,DEPTH,CTDPRS,CTDTMP,CTDSAL,CTDSAL_FLAG_W,CTDOXY,CTDOXY_FLAG_W,SALNTY,SALNTY_FLAG_W,OXYGEN,OXYGEN_FLAG_W,SILCAT,SILCAT_FLAG_W,NITRAT,NITRAT_FLAG_W,NO2+NO3,NO2+NO3_FLAG_W,NITRIT,NITRIT_FLAG_W,PHSPHT,PHSPHT_FLAG_W,CFC-11,CFC-11_FLAG_W,CFC-12,CFC-12_FLAG_W,DELC13,DELC13_FLAG_W,TCARBN,TCARBN_FLAG_W,ALKALI,ALKALI_FLAG_W,PH,PH_FLAG_W,PH_TMP,PH_SCALE,PH_NBS,PH_NBS_FLAG_W,C13ERR,TOTALP,TOTALP_FLAG_W,AMMONI,AMMONI_FLAG_W,CHLORA,CHLORA_FLAG_W,PPHYTN,PPHYTN_FLAG_W,REVPRS,REVTMP,DEPTH_,DEPTH_FLAG,CTDDEP,THETA,SIGTHT,DOC,DOC_FLAG_W
,,,,,,,GMT,GMT,,,METER,DBAR,ITS-90,PSS-78,,UMOL/KG,,PSS-78,,UMOL/KG,,UMOL/KG,,UMOL/KG,,UMOL/KG,,UMOL/KG,,UMOL/KG,,PMOL/KG,,PMOL/KG,,/MILLE,,UMOL/KG,,UMOL/KG,,25_DEG_C,,DEG_C,,,,/MILLE,UMOL/KG,,UMOL/KG,,UG/L,,UG/L,,DBAR,ITS-90,METERS,,METERS,DEG_C,,UMOL/L,
       RF07-01,  NONE,RF-2831,  1,     -9,      -9,5,20070123,0125, 27.9910, 147.0090, 5778,      0.0,  20.9656,  34.6898,2,   -999.0,9,-999.0000,9,    223.0,2,     2.34,2,  -999.00,9,     0.09,2,     0.02,2,     0.01,2, -999.000,9, -999.000,9,  -999.00,9,   -999.0,9,   -999.0,9,-999.0000,9,   -999.0,  9,  -999.00,9,   -999.0,  -999.00,9,  -999.00,9,  -999.00,9,  -999.00,9,   -999.0,-999.0000, -999,9,    0,  20.9655,  24.2671,   -999.0,9
       RF07-01,  NONE,RF-2831,  1,     21,02-18575,2,20070123,0141, 27.9910, 147.0090, 5778,     11.1,  20.9632,  34.6928,2,   -999.0,9,  34.6922,2,    222.5,2,     2.33,2,  -999.00,9,     0.05,2,     0.01,2,     0.00,2, -999.000,9, -999.000,9,  -999.00,9,   -999.0,9,   -999.0,9,-999.0000,9,   -999.0,  9,  -999.00,9,   -999.0,  -999.00,9,  -999.00,9,  -999.00,9,  -999.00,9,   -999.0,-999.0000, -999,9,   11,  20.9611,  24.2706,   -999.0,9
       RF07-01,  NONE,RF-2831,  1,     20,02-18574,2,20070123,0140, 27.9910, 147.0090, 5778,     25.3,  20.9477,  34.6916,2,   -999.0,9,-999.0000,9,    224.0,2,     2.34,2,  -999.00,9,     0.06,2,     0.02,2,     0.00,2, -999.000,9, -999.000,9,  -999.00,9,   -999.0,9,   -999.0,9,-999.0000,9,   -999.0,  9,  -999.00,9,   -999.0,  -999.00,9,  -999.00,9,  -999.00,9,  -999.00,9,   -999.0,-999.0000, -999,9,   25,  20.9429,  24.2747,   -999.0,9
       RF07-01,  NONE,RF-2831,  1,     19,02-18573,2,20070123,0138, 27.9910, 147.0090, 5778,     51.0,  20.7368,  34.6630,2,   -999.0,9,-999.0000,9,    221.2,2,     2.49,2,  -999.00,9,     0.07,2,     0.04,2,     0.00,2, -999.000,9, -999.000,9,  -999.00,9,   -999.0,9,   -999.0,9,-999.0000,9,   -999.0,  9,  -999.00,9,   -999.0,  -999.00,9,  -999.00,9,  -999.00,9,  -999.00,9,   -999.0,-999.0000, -999,9,   51,  20.7272,  24.3111,   -999.0,9
       RF07-01,  NONE,RF-2831,  1,     18,02-18572,2,20070123,0137, 27.9910, 147.0090, 5778,     77.8,  20.5399,  34.6484,2,   -999.0,9,-999.0000,9,    223.2,2,     2.63,2,  -999.00,9,     0.16,2,     0.11,2,     0.01,2, -999.000,9, -999.000,9,  -999.00,9,   -999.0,9,   -999.0,9,-999.0000,9,   -999.0,  9,  -999.00,9,   -999.0,  -999.00,9,  -999.00,9,  -999.00,9,  -999.00,9,   -999.0,-999.0000, -999,9,   77,  20.5253,  24.3542,   -999.0,9
       RF07-01,  NONE,RF-2831,  1,     17,02-18571,2,20070123,0136, 27.9910, 147.0090, 5778,    102.9,  20.4193,  34.6330,2,   -999.0,9,  34.6326,2,    221.3,2,     2.78,2,  -999.00,9,     0.48,2,     0.29,2,     0.02,2, -999.000,9, -999.000,9,  -999.00,9,   -999.0,9,   -999.0,9,-999.0000,9,   -999.0,  9,  -999.00,9,   -999.0,  -999.00,9,  -999.00,9,  -999.00,9,  -999.00,9,   -999.0,-999.0000, -999,9,  102,  20.4001,  24.3759,   -999.0,9
       RF07-01,  NONE,RF-2831,  1,     16,02-18570,2,20070123,0135, 27.9910, 147.0090, 5778,    126.1,  20.1030,  34.6423,2,   -999.0,9,-999.0000,9,    222.8,2,     3.03,2,  -999.00,9,     1.02,2,     0.32,2,     0.05,2, -999.000,9, -999.000,9,  -999.00,9,   -999.0,9,   -999.0,9,-999.0000,9,   -999.0,  9,  -999.00,9,   -999.0,  -999.00,9,  -999.00,9,  -999.00,9,  -999.00,9,   -999.0,-999.0000, -999,9,  125,  20.0797,  24.4679,   -999.0,9
       RF07-01,  NONE,RF-2831,  1,     15,02-18569,2,20070123,0133, 27.9910, 147.0090, 5778,    152.8,  19.2620,  34.8294,2,   -999.0,9,-999.0000,9,    194.9,2,     4.67,2,  -999.00,9,     3.52,2,     0.01,2,     0.19,2, -999.000,9, -999.000,9,  -999.00,9,   -999.0,9,   -999.0,9,-999.0000,9,   -999.0,  9,  -999.00,9,   -999.0,  -999.00,9,  -999.00,9,  -999.00,9,  -999.00,9,   -999.0,-999.0000, -999,9,  152,  19.2345,  24.8307,   -999.0,9
       RF07-01,  NONE,RF-2831,  1,     14,02-18568,2,20070123,0131, 27.9910, 147.0090, 5778,    203.7,  18.0264,  34.8080,2,   -999.0,9,  34.8105,2,    202.5,2,     4.97,2,  -999.00,9,     4.08,2,     0.01,2,     0.21,2, -999.000,9, -999.000,9,  -999.00,9,   -999.0,9,   -999.0,9,-999.0000,9,   -999.0,  9,  -999.00,9,   -999.0,  -999.00,9,  -999.00,9,  -999.00,9,  -999.00,9,   -999.0,-999.0000, -999,9,  202,  17.9914,  25.1271,   -999.0,9
       RF07-01,  NONE,RF-2831,  1,     13,02-18567,3,20070123,0129, 27.9910, 147.0090, 5778,    253.2,  17.5983,  34.8020,2,   -999.0,9,-999.0000,9,    208.6,2,     4.80,2,  -999.00,9,     4.30,2,     0.00,2,     0.22,2, -999.000,9, -999.000,9,  -999.00,9,   -999.0,9,   -999.0,9,-999.0000,9,   -999.0,  9,  -999.00,9,   -999.0,  -999.00,9,  -999.00,9,  -999.00,9,  -999.00,9,   -999.0,-999.0000, -999,9,  251,  17.5555,  25.2290,   -999.0,9
       RF07-01,  NONE,RF-2831,  1,     12,02-18348,2,20070123,0127, 27.9910, 147.0090, 5778,    305.9,  17.1098,  34.7668,2,   -999.0,9,  34.7676,2,    204.3,2,     5.88,2,  -999.00,9,     5.40,2,     0.00,2,     0.29,2, -999.000,9, -999.000,9,  -999.00,9,   -999.0,9,   -999.0,9,-999.0000,9,   -999.0,  9,  -999.00,9,   -999.0,  -999.00,9,  -999.00,9,  -999.00,9,  -999.00,9,   -999.0,-999.0000, -999,9,  304,  17.0590,  25.3213,   -999.0,9
       RF07-01,  NONE,RF-2831,  1,     11,02-18565,2,20070123,0124, 27.9910, 147.0090, 5778,    404.3,  15.5226,  34.6371,2,   -999.0,9,  34.6374,2,    186.7,2,    11.06,2,  -999.00,9,     9.54,2,     0.00,2,     0.55,2, -999.000,9, -999.000,9,  -999.00,9,   -999.0,9,   -999.0,9,-999.0000,9,   -999.0,  9,  -999.00,9,   -999.0,  -999.00,9,  -999.00,9,  -999.00,9,  -999.00,9,   -999.0,-999.0000, -999,9,  401,  15.4597,  25.5904,   -999.0,9
       RF07-01,  NONE,RF-2831,  1,     10,02-18564,2,20070123,0121, 27.9910, 147.0090, 5778,    507.6,  12.3278,  34.4044,2,   -999.0,9,-999.0000,9,    188.7,2,    20.42,2,  -999.00,9,    14.55,2,     0.00,2,     0.90,2, -999.000,9, -999.000,9,  -999.00,9,   -999.0,9,   -999.0,9,-999.0000,9,   -999.0,  9,  -999.00,9,   -999.0,  -999.00,9,  -999.00,9,  -999.00,9,  -999.00,9,   -999.0,-999.0000, -999,9,  504,  12.2600,  26.0767,   -999.0,9
       RF07-01,  NONE,RF-2831,  1,      9,02-18563,2,20070123,0118, 27.9910, 147.0090, 5778,    607.9,   8.8858,  34.1364,2,   -999.0,9,  34.1381,2,    181.0,2,    37.83,2,  -999.00,9,    21.36,2,     0.00,2,     1.42,2, -999.000,9, -999.000,9,  -999.00,9,   -999.0,9,   -999.0,9,-999.0000,9,   -999.0,  9,  -999.00,9,   -999.0,  -999.00,9,  -999.00,9,  -999.00,9,  -999.00,9,   -999.0,-999.0000, -999,9,  603,   8.8195,  26.4704,   -999.0,9
       RF07-01,  NONE,RF-2831,  1,      8,02-18562,2,20070123,0116, 27.9910, 147.0090, 5778,    708.7,   6.3483,  34.0294,2,   -999.0,9,-999.0000,9,    137.4,2,    63.40,2,  -999.00,9,    29.86,2,     0.00,2,     2.06,2, -999.000,9, -999.000,9,  -999.00,9,   -999.0,9,   -999.0,9,-999.0000,9,   -999.0,  9,  -999.00,9,   -999.0,  -999.00,9,  -999.00,9,  -999.00,9,  -999.00,9,   -999.0,-999.0000, -999,9,  703,   6.2840,  26.7495,   -999.0,9
       RF07-01,  NONE,RF-2831,  1,      7,02-18561,2,20070123,0113, 27.9910, 147.0090, 5778,    811.0,   5.0295,  34.0907,2,   -999.0,9,  34.0879,2,     89.4,2,    88.53,2,  -999.00,9,    36.15,2,     0.00,2,     2.55,2, -999.000,9, -999.000,9,  -999.00,9,   -999.0,9,   -999.0,9,-999.0000,9,   -999.0,  9,  -999.00,9,   -999.0,  -999.00,9,  -999.00,9,  -999.00,9,  -999.00,9,   -999.0,-999.0000, -999,9,  804,   4.9634,  26.9585,   -999.0,9
       RF07-01,  NONE,RF-2831,  1,      6,02-18560,2,20070123,0110, 27.9910, 147.0090, 5778,    907.8,   4.3385,  34.1953,2,   -999.0,9,-999.0000,9,     56.5,2,   108.36,2,  -999.00,9,    39.69,2,     0.00,2,     2.83,2, -999.000,9, -999.000,9,  -999.00,9,   -999.0,9,   -999.0,9,-999.0000,9,   -999.0,  9,  -999.00,9,   -999.0,  -999.00,9,  -999.00,9,  -999.00,9,  -999.00,9,   -999.0,-999.0000, -999,9,  900,   4.2685,  27.1179,   -999.0,9
       RF07-01,  NONE,RF-2831,  1,      5,02-18559,2,20070123,0107, 27.9910, 147.0090, 5778,   1012.4,   3.8663,  34.2837,2,   -999.0,9,  34.2817,2,     43.4,2,   121.23,2,  -999.00,9,    41.31,2,     0.00,2,     2.95,2, -999.000,9, -999.000,9,  -999.00,9,   -999.0,9,   -999.0,9,-999.0000,9,   -999.0,  9,  -999.00,9,   -999.0,  -999.00,9,  -999.00,9,  -999.00,9,  -999.00,9,   -999.0,-999.0000, -999,9, 1003,   3.7910,  27.2376,   -999.0,9
       RF07-01,  NONE,RF-2831,  1,      4,02-18558,2,20070123,0101, 27.9910, 147.0090, 5778,   1264.5,   3.0726,  34.4257,2,   -999.0,9,  34.4243,2,     37.1,2,   141.28,2,  -999.00,9,    42.64,2,     0.00,2,     3.05,2, -999.000,9, -999.000,9,  -999.00,9,   -999.0,9,   -999.0,9,-999.0000,9,   -999.0,  9,  -999.00,9,   -999.0,  -999.00,9,  -999.00,9,  -999.00,9,  -999.00,9,   -999.0,-999.0000, -999,9, 1252,   2.9836,  27.4281,   -999.0,9
       RF07-01,  NONE,RF-2831,  1,      3,02-18557,2,20070123,0056, 27.9910, 147.0090, 5778,   1516.9,   2.5386,  34.5169,2,   -999.0,9,  34.5162,2,     49.6,2,   152.50,2,  -999.00,9,    42.21,2,     0.00,2,     3.00,2, -999.000,9, -999.000,9,  -999.00,9,   -999.0,9,   -999.0,9,-999.0000,9,   -999.0,  9,  -999.00,9,   -999.0,  -999.00,9,  -999.00,9,  -999.00,9,  -999.00,9,   -999.0,-999.0000, -999,9, 1501,   2.4349,  27.5491,   -999.0,9
       RF07-01,  NONE,RF-2831,  1,      2,02-18556,2,20070123,0051, 27.9910, 147.0090, 5778,   1769.2,   2.2006,  34.5683,2,   -999.0,9,  34.5695,2,     68.8,2,   155.97,2,  -999.00,9,    41.14,2,     0.00,2,     2.89,2, -999.000,9, -999.000,9,  -999.00,9,   -999.0,9,   -999.0,9,-999.0000,9,   -999.0,  9,  -999.00,9,   -999.0,  -999.00,9,  -999.00,9,  -999.00,9,  -999.00,9,   -999.0,-999.0000, -999,9, 1750,   2.0806,  27.6194,   -999.0,9
       RF07-01,  NONE,RF-2831,  1,      1,02-18555,2,20070123,0046, 27.9910, 147.0090, 5778,   2024.6,   1.9507,  34.6062,2,   -999.0,9,  34.6064,2,     92.0,2,   154.63,2,  -999.00,9,    39.89,2,     0.00,2,     2.78,2, -999.000,9, -999.000,9,  -999.00,9,   -999.0,9,   -999.0,9,-999.0000,9,   -999.0,  9,  -999.00,9,   -999.0,  -999.00,9,  -999.00,9,  -999.00,9,  -999.00,9,   -999.0,-999.0000, -999,9, 2001,   1.8130,  27.6708,   -999.0,9