BOTTLE,20130510GEMDJMAYT
EXPOCODE,SECT_ID,STNNBR,CASTNO,SAMPNO,BTLNBR,BTLNBR_FLAG_W,DATE,TIME,LATITUDE,LONGITUDE,DEPTH,CTDPRS,CTDTMP,CTDSAL,CTDSAL_FLAG_W,CTDOXY,CTDOXY_FLAG_W,SALNTY,SALNTY_FLAG_W,OXYGEN,OXYGEN_FLAG_W,SILCAT,SILCAT_FLAG_W,NITRAT,NITRAT_FLAG_W,NO2+NO3,NO2+NO3_FLAG_W,NITRIT,NITRIT_FLAG_W,PHSPHT,PHSPHT_FLAG_W,CFC-11,CFC-11_FLAG_W,CFC-12,CFC-12_FLAG_W,DELC13,DELC13_FLAG_W,TCARBN,TCARBN_FLAG_W,ALKALI,ALKALI_FLAG_W,PH,PH_FLAG_W,PH_TMP,PH_SCALE,PH_NBS,PH_NBS_FLAG_W,C13ERR,TOTALP,TOTALP_FLAG_W,AMMONI,AMMONI_FLAG_W,CHLORA,CHLORA_FLAG_W,PPHYTN,PPHYTN_FLAG_W,REVPRS,REVTMP,DEPTH_,DEPTH_FLAG,CTDDEP,THETA,SIGTHT,DOC,DOC_FLAG_W
,,,,,,,GMT,GMT,,,METER,DBAR,ITS-90,PSS-78,,UMOL/KG,,PSS-78,,UMOL/KG,,UMOL/KG,,UMOL/KG,,UMOL/KG,,UMOL/KG,,UMOL/KG,,PMOL/KG,,PMOL/KG,,/MILLE,,UMOL/KG,,UMOL/KG,,25_DEG_C,,DEG_C,,,,/MILLE,UMOL/KG,,UMOL/KG,,UG/L,,UG/L,,DBAR,ITS-90,METERS,,METERS,DEG_C,,UMOL/L,
       RF07-01,  NONE,RF-2827,  1,     -9,      -9,5,20070121,1755, 29.9958, 145.0000, 5901,      0.0,  20.6501,  34.2851,2,   -999.0,9,-999.0000,9,    222.7,2,     3.26,2,  -999.00,9,     0.15,2,     0.02,2,     0.02,2, -999.000,9, -999.000,9,  -999.00,9,   -999.0,9,   -999.0,9,-999.0000,9,   -999.0,  9,  -999.00,9,   -999.0,  -999.00,9,  -999.00,9,  -999.00,9,  -999.00,9,   -999.0,-999.0000, -999,9,    0,  20.6500,  24.0441,   -999.0,9
       RF07-01,  NONE,RF-2827,  1,     21,02-18575,2,20070121,1813, 29.9958, 145.0000, 5901,     12.3,  20.7522,  34.6734,2,   -999.0,9,  34.6730,2,    218.5,2,     2.99,2,  -999.00,9,     0.08,2,     0.03,2,     0.00,2, -999.000,9, -999.000,9,  -999.00,9,   -999.0,9,   -999.0,9,-999.0000,9,   -999.0,  9,  -999.00,9,   -999.0,  -999.00,9,  -999.00,9,  -999.00,9,  -999.00,9,   -999.0,-999.0000, -999,9,   12,  20.7499,  24.3129,   -999.0,9
       RF07-01,  NONE,RF-2827,  1,     20,02-18574,2,20070121,1812, 29.9958, 145.0000, 5901,     26.3,  20.6082,  34.6723,2,   -999.0,9,-999.0000,9,    221.5,2,     2.81,2,  -999.00,9,     0.15,2,     0.07,2,     0.00,2, -999.000,9, -999.000,9,  -999.00,9,   -999.0,9,   -999.0,9,-999.0000,9,   -999.0,  9,  -999.00,9,   -999.0,  -999.00,9,  -999.00,9,  -999.00,9,  -999.00,9,   -999.0,-999.0000, -999,9,   26,  20.6033,  24.3515,   -999.0,9
       RF07-01,  NONE,RF-2827,  1,     19,02-18573,2,20070121,1811, 29.9958, 145.0000, 5901,     50.9,  20.3313,  34.6604,2,   -999.0,9,-999.0000,9,    221.4,2,     2.87,2,  -999.00,9,     0.65,2,     0.26,2,     0.02,2, -999.000,9, -999.000,9,  -999.00,9,   -999.0,9,   -999.0,9,-999.0000,9,   -999.0,  9,  -999.00,9,   -999.0,  -999.00,9,  -999.00,9,  -999.00,9,  -999.00,9,   -999.0,-999.0000, -999,9,   51,  20.3218,  24.4176,   -999.0,9
       RF07-01,  NONE,RF-2827,  1,     18,02-18572,2,20070121,1809, 29.9958, 145.0000, 5901,     77.2,  20.2669,  34.6638,2,   -999.0,9,-999.0000,9,    219.3,2,     2.80,2,  -999.00,9,     0.71,2,     0.26,2,     0.03,2, -999.000,9, -999.000,9,  -999.00,9,   -999.0,9,   -999.0,9,-999.0000,9,   -999.0,  9,  -999.00,9,   -999.0,  -999.00,9,  -999.00,9,  -999.00,9,  -999.00,9,   -999.0,-999.0000, -999,9,   77,  20.2525,  24.4386,   -999.0,9
       RF07-01,  NONE,RF-2827,  1,     17,02-18571,2,20070121,1808, 29.9958, 145.0000, 5901,    102.5,  20.2498,  34.6765,2,   -999.0,9,  34.6770,2,    220.2,2,     2.56,2,  -999.00,9,     1.01,2,     0.31,2,     0.04,2, -999.000,9, -999.000,9,  -999.00,9,   -999.0,9,   -999.0,9,-999.0000,9,   -999.0,  9,  -999.00,9,   -999.0,  -999.00,9,  -999.00,9,  -999.00,9,  -999.00,9,   -999.0,-999.0000, -999,9,  102,  20.2307,  24.4541,   -999.0,9
       RF07-01,  NONE,RF-2827,  1,     16,02-18570,2,20070121,1806, 29.9958, 145.0000, 5901,    127.2,  20.2482,  34.6834,2,   -999.0,9,-999.0000,9,    218.2,2,     2.44,2,  -999.00,9,     1.50,2,     0.40,2,     0.07,2, -999.000,9, -999.000,9,  -999.00,9,   -999.0,9,   -999.0,9,-999.0000,9,   -999.0,  9,  -999.00,9,   -999.0,  -999.00,9,  -999.00,9,  -999.00,9,  -999.00,9,   -999.0,-999.0000, -999,9,  126,  20.2245,  24.4610,   -999.0,9
       RF07-01,  NONE,RF-2827,  1,     15,02-18569,2,20070121,1805, 29.9958, 145.0000, 5901,    151.6,  19.2230,  34.8435,2,   -999.0,9,-999.0000,9,    201.6,2,     2.40,2,  -999.00,9,     2.37,2,     0.03,2,     0.13,2, -999.000,9, -999.000,9,  -999.00,9,   -999.0,9,   -999.0,9,-999.0000,9,   -999.0,  9,  -999.00,9,   -999.0,  -999.00,9,  -999.00,9,  -999.00,9,  -999.00,9,   -999.0,-999.0000, -999,9,  151,  19.1958,  24.8514,   -999.0,9
       RF07-01,  NONE,RF-2827,  1,     14,02-18568,2,20070121,1803, 29.9958, 145.0000, 5901,    202.9,  18.1943,  34.8209,2,   -999.0,9,  34.8205,2,    204.2,2,     2.92,2,  -999.00,9,     3.77,2,     0.01,2,     0.20,2, -999.000,9, -999.000,9,  -999.00,9,   -999.0,9,   -999.0,9,-999.0000,9,   -999.0,  9,  -999.00,9,   -999.0,  -999.00,9,  -999.00,9,  -999.00,9,  -999.00,9,   -999.0,-999.0000, -999,9,  201,  18.1592,  25.0956,   -999.0,9
       RF07-01,  NONE,RF-2827,  1,     13,02-18567,2,20070121,1801, 29.9958, 145.0000, 5901,    252.0,  17.6568,  34.8026,2,   -999.0,9,-999.0000,9,    203.1,2,     3.66,2,  -999.00,9,     4.48,2,     0.01,2,     0.23,2, -999.000,9, -999.000,9,  -999.00,9,   -999.0,9,   -999.0,9,-999.0000,9,   -999.0,  9,  -999.00,9,   -999.0,  -999.00,9,  -999.00,9,  -999.00,9,  -999.00,9,   -999.0,-999.0000, -999,9,  250,  17.6141,  25.2152,   -999.0,9
       RF07-01,  NONE,RF-2827,  1,     12,02-18348,2,20070121,1759, 29.9958, 145.0000, 5901,    303.4,  17.1001,  34.7546,2,   -999.0,9,  34.7569,2,    196.5,2,     5.68,2,  -999.00,9,     6.34,2,     0.00,2,     0.35,2, -999.000,9, -999.000,9,  -999.00,9,   -999.0,9,   -999.0,9,-999.0000,9,   -999.0,  9,  -999.00,9,   -999.0,  -999.00,9,  -999.00,9,  -999.00,9,  -999.00,9,   -999.0,-999.0000, -999,9,  301,  17.0498,  25.3140,   -999.0,9
       RF07-01,  NONE,RF-2827,  1,     11,02-18565,2,20070121,1756, 29.9958, 145.0000, 5901,    404.5,  15.3772,  34.6234,2,   -999.0,9,  34.6256,2,    187.8,2,     9.43,2,  -999.00,9,     9.30,2,     0.00,2,     0.55,2, -999.000,9, -999.000,9,  -999.00,9,   -999.0,9,   -999.0,9,-999.0000,9,   -999.0,  9,  -999.00,9,   -999.0,  -999.00,9,  -999.00,9,  -999.00,9,  -999.00,9,   -999.0,-999.0000, -999,9,  401,  15.3147,  25.6122,   -999.0,9
       RF07-01,  NONE,RF-2827,  1,     10,02-18564,2,20070121,1754, 29.9958, 145.0000, 5901,    505.2,  12.9190,  34.4426,2,   -999.0,9,-999.0000,9,    185.9,2,    17.95,2,  -999.00,9,    14.03,2,     0.00,2,     0.88,2, -999.000,9, -999.000,9,  -999.00,9,   -999.0,9,   -999.0,9,-999.0000,9,   -999.0,  9,  -999.00,9,   -999.0,  -999.00,9,  -999.00,9,  -999.00,9,  -999.00,9,   -999.0,-999.0000, -999,9,  501,  12.8494,  25.9910,   -999.0,9
       RF07-01,  NONE,RF-2827,  1,      9,02-18563,2,20070121,1751, 29.9958, 145.0000, 5901,    605.5,  10.0213,  34.2392,2,   -999.0,9,  34.2442,4,    169.8,2,    32.22,2,  -999.00,9,    20.07,2,     0.01,2,     1.33,2, -999.000,9, -999.000,9,  -999.00,9,   -999.0,9,   -999.0,9,-999.0000,9,   -999.0,  9,  -999.00,9,   -999.0,  -999.00,9,  -999.00,9,  -999.00,9,  -999.00,9,   -999.0,-999.0000, -999,9,  600,   9.9502,  26.3663,   -999.0,9
       RF07-01,  NONE,RF-2827,  1,      8,02-18562,2,20070121,1748, 29.9958, 145.0000, 5901,    707.7,   7.1016,  34.0580,2,   -999.0,9,-999.0000,9,    149.9,2,    53.45,2,  -999.00,9,    27.16,2,     0.01,2,     1.87,2, -999.000,9, -999.000,9,  -999.00,9,   -999.0,9,   -999.0,9,-999.0000,9,   -999.0,  9,  -999.00,9,   -999.0,  -999.00,9,  -999.00,9,  -999.00,9,  -999.00,9,   -999.0,-999.0000, -999,9,  702,   7.0334,  26.6721,   -999.0,9
       RF07-01,  NONE,RF-2827,  1,      7,02-18561,2,20070121,1746, 29.9958, 145.0000, 5901,    807.0,   5.5823,  34.0597,2,   -999.0,9,  34.0616,2,    110.7,2,    75.72,2,  -999.00,9,    33.27,2,     0.02,2,     2.36,2, -999.000,9, -999.000,9,  -999.00,9,   -999.0,9,   -999.0,9,-999.0000,9,   -999.0,  9,  -999.00,9,   -999.0,  -999.00,9,  -999.00,9,  -999.00,9,  -999.00,9,   -999.0,-999.0000, -999,9,  800,   5.5132,  26.8696,   -999.0,9
       RF07-01,  NONE,RF-2827,  1,      6,02-18560,2,20070121,1743, 29.9958, 145.0000, 5901,    908.8,   4.7614,  34.1366,2,   -999.0,9,-999.0000,9,     74.5,2,    94.60,2,  -999.00,9,    37.57,2,     0.01,2,     2.67,2, -999.000,9, -999.000,9,  -999.00,9,   -999.0,9,   -999.0,9,-999.0000,9,   -999.0,  9,  -999.00,9,   -999.0,  -999.00,9,  -999.00,9,  -999.00,9,  -999.00,9,   -999.0,-999.0000, -999,9,  901,   4.6885,  27.0258,   -999.0,9
       RF07-01,  NONE,RF-2827,  1,      5,02-18559,2,20070121,1741, 29.9958, 145.0000, 5901,   1010.5,   4.2110,  34.2236,2,   -999.0,9,  34.2246,2,     53.4,2,   110.21,2,  -999.00,9,    39.99,2,     0.01,2,     2.85,2, -999.000,9, -999.000,9,  -999.00,9,   -999.0,9,   -999.0,9,-999.0000,9,   -999.0,  9,  -999.00,9,   -999.0,  -999.00,9,  -999.00,9,  -999.00,9,  -999.00,9,   -999.0,-999.0000, -999,9, 1001,   4.1333,  27.1547,   -999.0,9
       RF07-01,  NONE,RF-2827,  1,      4,02-18558,2,20070121,1736, 29.9958, 145.0000, 5901,   1262.4,   3.2346,  34.3926,2,   -999.0,9,  34.3923,2,     37.1,2,   135.60,2,  -999.00,9,    42.28,2,     0.01,2,     3.02,2, -999.000,9, -999.000,9,  -999.00,9,   -999.0,9,   -999.0,9,-999.0000,9,   -999.0,  9,  -999.00,9,   -999.0,  -999.00,9,  -999.00,9,  -999.00,9,  -999.00,9,   -999.0,-999.0000, -999,9, 1250,   3.1443,  27.3870,   -999.0,9
       RF07-01,  NONE,RF-2827,  1,      3,02-18557,2,20070121,1731, 29.9958, 145.0000, 5901,   1518.2,   2.6667,  34.4882,2,   -999.0,9,  34.4897,2,     43.5,2,   148.75,2,  -999.00,9,    42.35,2,     0.01,2,     3.02,2, -999.000,9, -999.000,9,  -999.00,9,   -999.0,9,   -999.0,9,-999.0000,9,   -999.0,  9,  -999.00,9,   -999.0,  -999.00,9,  -999.00,9,  -999.00,9,  -999.00,9,   -999.0,-999.0000, -999,9, 1502,   2.5615,  27.5154,   -999.0,9
       RF07-01,  NONE,RF-2827,  1,      2,02-18556,2,20070121,1726, 29.9958, 145.0000, 5901,   1771.2,   2.2810,  34.5465,2,   -999.0,9,  34.5478,2,     56.4,2,   155.81,2,  -999.00,9,    41.75,2,     0.01,2,     2.96,2, -999.000,9, -999.000,9,  -999.00,9,   -999.0,9,   -999.0,9,-999.0000,9,   -999.0,  9,  -999.00,9,   -999.0,  -999.00,9,  -999.00,9,  -999.00,9,  -999.00,9,   -999.0,-999.0000, -999,9, 1752,   2.1598,  27.5956,   -999.0,9
       RF07-01,  NONE,RF-2827,  1,      1,02-18555,2,20070121,1721, 29.9958, 145.0000, 5901,   2025.2,   2.0243,  34.5894,2,   -999.0,9,  34.5896,2,     74.8,2,   157.69,2,  -999.00,9,    40.83,2,     0.01,2,     2.86,2, -999.000,9, -999.000,9,  -999.00,9,   -999.0,9,   -999.0,9,-999.0000,9,   -999.0,  9,  -999.00,9,   -999.0,  -999.00,9,  -999.00,9,  -999.00,9,  -999.00,9,   -999.0,-999.0000, -999,9, 2002,   1.8855,  27.6516,   -999.0,9