BOTTLE,20130510GEMDJMAYT
EXPOCODE,SECT_ID,STNNBR,CASTNO,SAMPNO,BTLNBR,BTLNBR_FLAG_W,DATE,TIME,LATITUDE,LONGITUDE,DEPTH,CTDPRS,CTDTMP,CTDSAL,CTDSAL_FLAG_W,CTDOXY,CTDOXY_FLAG_W,SALNTY,SALNTY_FLAG_W,OXYGEN,OXYGEN_FLAG_W,SILCAT,SILCAT_FLAG_W,NITRAT,NITRAT_FLAG_W,NO2+NO3,NO2+NO3_FLAG_W,NITRIT,NITRIT_FLAG_W,PHSPHT,PHSPHT_FLAG_W,CFC-11,CFC-11_FLAG_W,CFC-12,CFC-12_FLAG_W,DELC13,DELC13_FLAG_W,TCARBN,TCARBN_FLAG_W,ALKALI,ALKALI_FLAG_W,PH,PH_FLAG_W,PH_TMP,PH_SCALE,PH_NBS,PH_NBS_FLAG_W,C13ERR,TOTALP,TOTALP_FLAG_W,AMMONI,AMMONI_FLAG_W,CHLORA,CHLORA_FLAG_W,PPHYTN,PPHYTN_FLAG_W,REVPRS,REVTMP,DEPTH_,DEPTH_FLAG,CTDDEP,THETA,SIGTHT,DOC,DOC_FLAG_W
,,,,,,,GMT,GMT,,,METER,DBAR,ITS-90,PSS-78,,UMOL/KG,,PSS-78,,UMOL/KG,,UMOL/KG,,UMOL/KG,,UMOL/KG,,UMOL/KG,,UMOL/KG,,PMOL/KG,,PMOL/KG,,/MILLE,,UMOL/KG,,UMOL/KG,,25_DEG_C,,DEG_C,,,,/MILLE,UMOL/KG,,UMOL/KG,,UG/L,,UG/L,,DBAR,ITS-90,METERS,,METERS,DEG_C,,UMOL/L,
       RF07-01,  165E,RF-2860,  1,     -9,      -9,5,20070201,0331,  7.9917, 163.9932, 5140,      0.0,  28.6543,  33.9739,2,   -999.0,9,-999.0000,9,    197.7,2,     1.53,2,  -999.00,9,     0.00,2,     0.00,2,     0.01,2, -999.000,9, -999.000,9,  -999.00,9,   -999.0,9,   -999.0,9,-999.0000,9,   -999.0,  9,  -999.00,9,   -999.0,  -999.00,9,  -999.00,9,     0.08,2,     0.03,2,   -999.0,-999.0000, -999,9,    0,  28.6541,  21.4087,   -999.0,9
       RF07-01,  165E,RF-2860,  1,     21,02-18575,2,20070201,0349,  7.9917, 163.9932, 5140,     11.5,  28.6575,  33.9742,2,   -999.0,9,  33.9728,2,    192.5,2,     1.53,2,  -999.00,9,     0.00,2,     0.00,2,     0.02,2, -999.000,9, -999.000,9,  -999.00,9,   -999.0,9,   -999.0,9,-999.0000,9,   -999.0,  9,  -999.00,9,   -999.0,  -999.00,9,  -999.00,9,     0.08,2,     0.03,2,   -999.0,-999.0000, -999,9,   11,  28.6548,  21.4087,   -999.0,9
       RF07-01,  165E,RF-2860,  1,     20,02-18574,2,20070201,0348,  7.9917, 163.9932, 5140,     26.0,  28.6274,  33.9735,2,   -999.0,9,-999.0000,9,    197.1,2,     1.48,2,  -999.00,9,     0.00,2,     0.00,2,     0.01,2, -999.000,9, -999.000,9,  -999.00,9,   -999.0,9,   -999.0,9,-999.0000,9,   -999.0,  9,  -999.00,9,   -999.0,  -999.00,9,  -999.00,9,     0.09,2,     0.03,2,   -999.0,-999.0000, -999,9,   26,  28.6212,  21.4192,   -999.0,9
       RF07-01,  165E,RF-2860,  1,     19,02-18573,2,20070201,0346,  7.9917, 163.9932, 5140,     53.3,  28.6211,  33.9732,2,   -999.0,9,-999.0000,9,    193.7,2,     1.51,2,  -999.00,9,     0.00,2,     0.00,2,     0.01,2, -999.000,9, -999.000,9,  -999.00,9,   -999.0,9,   -999.0,9,-999.0000,9,   -999.0,  9,  -999.00,9,   -999.0,  -999.00,9,  -999.00,9,     0.10,2,     0.03,2,   -999.0,-999.0000, -999,9,   53,  28.6084,  21.4232,   -999.0,9
       RF07-01,  165E,RF-2860,  1,     18,02-18572,2,20070201,0345,  7.9917, 163.9932, 5140,     75.9,  28.6108,  33.9720,2,   -999.0,9,-999.0000,9,    193.6,2,     1.47,2,  -999.00,9,     0.00,2,     0.00,2,     0.01,2, -999.000,9, -999.000,9,  -999.00,9,   -999.0,9,   -999.0,9,-999.0000,9,   -999.0,  9,  -999.00,9,   -999.0,  -999.00,9,  -999.00,9,     0.12,2,     0.05,2,   -999.0,-999.0000, -999,9,   76,  28.5927,  21.4275,   -999.0,9
       RF07-01,  165E,RF-2860,  1,     17,02-18571,2,20070201,0344,  7.9917, 163.9932, 5140,    103.1,  24.7340,  34.8341,2,   -999.0,9,  34.8080,4,    192.7,2,     2.52,2,  -999.00,9,     0.29,2,     0.01,2,     0.12,2, -999.000,9, -999.000,9,  -999.00,9,   -999.0,9,   -999.0,9,-999.0000,9,   -999.0,  9,  -999.00,9,   -999.0,  -999.00,9,  -999.00,9,     0.22,2,     0.21,2,   -999.0,-999.0000, -999,9,  102,  24.7118,  23.3031,   -999.0,9
       RF07-01,  165E,RF-2860,  1,     16,02-18570,2,20070201,0342,  7.9917, 163.9932, 5140,    127.2,  21.2924,  34.8076,2,   -999.0,9,-999.0000,9,    159.7,2,     5.73,2,  -999.00,9,     5.01,2,     0.36,2,     0.43,2, -999.000,9, -999.000,9,  -999.00,9,   -999.0,9,   -999.0,9,-999.0000,9,   -999.0,  9,  -999.00,9,   -999.0,  -999.00,9,  -999.00,9,     0.14,2,     0.31,2,   -999.0,-999.0000, -999,9,  126,  21.2678,  24.2743,   -999.0,9
       RF07-01,  165E,RF-2860,  1,     15,02-18569,2,20070201,0341,  7.9917, 163.9932, 5140,    152.6,  16.7371,  34.6630,2,   -999.0,9,-999.0000,9,    130.9,2,    11.41,2,  -999.00,9,    12.54,2,     0.04,2,     0.91,2, -999.000,9, -999.000,9,  -999.00,9,   -999.0,9,   -999.0,9,-999.0000,9,   -999.0,  9,  -999.00,9,   -999.0,  -999.00,9,  -999.00,9,     0.06,2,     0.20,2,   -999.0,-999.0000, -999,9,  152,  16.7123,  25.3235,   -999.0,9
       RF07-01,  165E,RF-2860,  1,     14,02-18568,2,20070201,0339,  7.9917, 163.9932, 5140,    203.0,  11.5447,  34.5195,2,   -999.0,9,  34.5192,2,     62.8,2,    29.62,2,  -999.00,9,    27.39,2,     0.00,2,     1.99,2, -999.000,9, -999.000,9,  -999.00,9,   -999.0,9,   -999.0,9,-999.0000,9,   -999.0,  9,  -999.00,9,   -999.0,  -999.00,9,  -999.00,9,     0.01,2,     0.03,2,   -999.0,-999.0000, -999,9,  202,  11.5190,  26.3063,   -999.0,9
       RF07-01,  165E,RF-2860,  1,     13,02-18567,2,20070201,0338,  7.9917, 163.9932, 5140,    253.0,  10.4235,  34.6089,2,   -999.0,9,-999.0000,9,     35.7,2,    36.14,2,  -999.00,9,    32.49,2,     0.00,2,     2.33,2, -999.000,9, -999.000,9,  -999.00,9,   -999.0,9,   -999.0,9,-999.0000,9,   -999.0,  9,  -999.00,9,   -999.0,  -999.00,9,  -999.00,9,  -999.00,9,  -999.00,9,   -999.0,-999.0000, -999,9,  251,  10.3934,  26.5787,   -999.0,9
       RF07-01,  165E,RF-2860,  1,     12,02-18348,2,20070201,0336,  7.9917, 163.9932, 5140,    304.3,   9.8380,  34.6386,2,   -999.0,9,  34.6366,2,     37.9,2,    38.54,2,  -999.00,9,    33.47,2,     0.00,2,     2.39,2, -999.000,9, -999.000,9,  -999.00,9,   -999.0,9,   -999.0,9,-999.0000,9,   -999.0,  9,  -999.00,9,   -999.0,  -999.00,9,  -999.00,9,  -999.00,9,  -999.00,9,   -999.0,-999.0000, -999,9,  302,   9.8030,  26.7032,   -999.0,9
       RF07-01,  165E,RF-2860,  1,     11,02-18565,2,20070201,0333,  7.9917, 163.9932, 5140,    405.7,   8.9456,  34.6185,2,   -999.0,9,  34.6167,2,     49.8,2,    42.43,2,  -999.00,9,    34.10,2,     0.00,2,     2.42,2, -999.000,9, -999.000,9,  -999.00,9,   -999.0,9,   -999.0,9,-999.0000,9,   -999.0,  9,  -999.00,9,   -999.0,  -999.00,9,  -999.00,9,  -999.00,9,  -999.00,9,   -999.0,-999.0000, -999,9,  403,   8.9014,  26.8352,   -999.0,9
       RF07-01,  165E,RF-2860,  1,     10,02-18564,2,20070201,0330,  7.9917, 163.9932, 5140,    504.3,   8.2359,  34.5958,2,   -999.0,9,-999.0000,9,     57.5,2,    46.42,2,  -999.00,9,    34.79,2,     0.00,2,     2.48,2, -999.000,9, -999.000,9,  -999.00,9,   -999.0,9,   -999.0,9,-999.0000,9,   -999.0,  9,  -999.00,9,   -999.0,  -999.00,9,  -999.00,9,  -999.00,9,  -999.00,9,   -999.0,-999.0000, -999,9,  501,   8.1833,  26.9288,   -999.0,9
       RF07-01,  165E,RF-2860,  1,      9,02-18563,2,20070201,0328,  7.9917, 163.9932, 5140,    605.3,   7.3931,  34.5665,2,   -999.0,9,  34.5652,2,     51.6,2,    55.42,2,  -999.00,9,    36.88,2,     0.00,2,     2.67,2, -999.000,9, -999.000,9,  -999.00,9,   -999.0,9,   -999.0,9,-999.0000,9,   -999.0,  9,  -999.00,9,   -999.0,  -999.00,9,  -999.00,9,  -999.00,9,  -999.00,9,   -999.0,-999.0000, -999,9,  601,   7.3334,  27.0305,   -999.0,9
       RF07-01,  165E,RF-2860,  1,      8,02-18562,2,20070201,0325,  7.9917, 163.9932, 5140,    706.8,   6.4532,  34.5453,2,   -999.0,9,-999.0000,9,     50.9,2,    67.50,2,  -999.00,9,    38.54,2,     0.00,2,     2.81,2, -999.000,9, -999.000,9,  -999.00,9,   -999.0,9,   -999.0,9,-999.0000,9,   -999.0,  9,  -999.00,9,   -999.0,  -999.00,9,  -999.00,9,  -999.00,9,  -999.00,9,   -999.0,-999.0000, -999,9,  702,   6.3880,  27.1431,   -999.0,9
       RF07-01,  165E,RF-2860,  1,      7,02-18561,2,20070201,0322,  7.9917, 163.9932, 5140,    807.9,   5.6972,  34.5408,2,   -999.0,9,  34.5389,2,     58.6,2,    78.11,2,  -999.00,9,    39.03,2,     0.00,2,     2.84,2, -999.000,9, -999.000,9,  -999.00,9,   -999.0,9,   -999.0,9,-999.0000,9,   -999.0,  9,  -999.00,9,   -999.0,  -999.00,9,  -999.00,9,  -999.00,9,  -999.00,9,   -999.0,-999.0000, -999,9,  802,   5.6267,  27.2365,   -999.0,9
       RF07-01,  165E,RF-2860,  1,      6,02-18560,2,20070201,0320,  7.9917, 163.9932, 5140,    907.8,   5.1493,  34.5465,2,   -999.0,9,-999.0000,9,     59.7,2,    86.96,2,  -999.00,9,    39.80,2,     0.00,2,     2.90,2, -999.000,9, -999.000,9,  -999.00,9,   -999.0,9,   -999.0,9,-999.0000,9,   -999.0,  9,  -999.00,9,   -999.0,  -999.00,9,  -999.00,9,  -999.00,9,  -999.00,9,   -999.0,-999.0000, -999,9,  901,   5.0732,  27.3073,   -999.0,9
       RF07-01,  165E,RF-2860,  1,      5,02-18559,2,20070201,0317,  7.9917, 163.9932, 5140,   1010.6,   4.6243,  34.5543,2,   -999.0,9,  34.5531,2,     72.9,2,    96.47,2,  -999.00,9,    39.04,2,     0.00,2,     2.84,2, -999.000,9, -999.000,9,  -999.00,9,   -999.0,9,   -999.0,9,-999.0000,9,   -999.0,  9,  -999.00,9,   -999.0,  -999.00,9,  -999.00,9,  -999.00,9,  -999.00,9,   -999.0,-999.0000, -999,9, 1003,   4.5428,  27.3736,   -999.0,9
       RF07-01,  165E,RF-2860,  1,      4,02-18558,2,20070201,0312,  7.9917, 163.9932, 5140,   1263.1,   3.7542,  34.5753,2,   -999.0,9,  34.5740,2,     85.1,2,   113.31,2,  -999.00,9,    38.71,2,     0.00,2,     2.80,2, -999.000,9, -999.000,9,  -999.00,9,   -999.0,9,   -999.0,9,-999.0000,9,   -999.0,  9,  -999.00,9,   -999.0,  -999.00,9,  -999.00,9,  -999.00,9,  -999.00,9,   -999.0,-999.0000, -999,9, 1252,   3.6584,  27.4831,   -999.0,9
       RF07-01,  165E,RF-2860,  1,      3,02-18557,2,20070201,0307,  7.9917, 163.9932, 5140,   1517.1,   3.0310,  34.5980,2,   -999.0,9,  34.5974,2,     91.6,2,   127.74,2,  -999.00,9,    38.87,2,     0.00,2,     2.80,2, -999.000,9, -999.000,9,  -999.00,9,   -999.0,9,   -999.0,9,-999.0000,9,   -999.0,  9,  -999.00,9,   -999.0,  -999.00,9,  -999.00,9,  -999.00,9,  -999.00,9,   -999.0,-999.0000, -999,9, 1503,   2.9213,  27.5714,   -999.0,9
       RF07-01,  165E,RF-2860,  1,      2,02-18556,2,20070201,0302,  7.9917, 163.9932, 5140,   1769.0,   2.5602,  34.6194,2,   -999.0,9,  34.6195,2,     95.5,2,   137.45,2,  -999.00,9,    38.85,2,     0.00,2,     2.80,2, -999.000,9, -999.000,9,  -999.00,9,   -999.0,9,   -999.0,9,-999.0000,9,   -999.0,  9,  -999.00,9,   -999.0,  -999.00,9,  -999.00,9,  -999.00,9,  -999.00,9,   -999.0,-999.0000, -999,9, 1752,   2.4352,  27.6311,   -999.0,9
       RF07-01,  165E,RF-2860,  1,      1,02-18555,2,20070201,0257,  7.9917, 163.9932, 5140,   2022.9,   2.2322,  34.6366,2,   -999.0,9,  34.6356,2,    104.5,2,   143.16,2,  -999.00,9,    38.54,2,     0.00,2,     2.75,2, -999.000,9, -999.000,9,  -999.00,9,   -999.0,9,   -999.0,9,-999.0000,9,   -999.0,  9,  -999.00,9,   -999.0,  -999.00,9,  -999.00,9,  -999.00,9,  -999.00,9,   -999.0,-999.0000, -999,9, 2002,   2.0903,  27.6734,   -999.0,9