BOTTLE,20130510GEMDJMAYT
EXPOCODE,SECT_ID,STNNBR,CASTNO,SAMPNO,BTLNBR,BTLNBR_FLAG_W,DATE,TIME,LATITUDE,LONGITUDE,DEPTH,CTDPRS,CTDTMP,CTDSAL,CTDSAL_FLAG_W,CTDOXY,CTDOXY_FLAG_W,SALNTY,SALNTY_FLAG_W,OXYGEN,OXYGEN_FLAG_W,SILCAT,SILCAT_FLAG_W,NITRAT,NITRAT_FLAG_W,NO2+NO3,NO2+NO3_FLAG_W,NITRIT,NITRIT_FLAG_W,PHSPHT,PHSPHT_FLAG_W,CFC-11,CFC-11_FLAG_W,CFC-12,CFC-12_FLAG_W,DELC13,DELC13_FLAG_W,TCARBN,TCARBN_FLAG_W,ALKALI,ALKALI_FLAG_W,PH,PH_FLAG_W,PH_TMP,PH_SCALE,PH_NBS,PH_NBS_FLAG_W,C13ERR,TOTALP,TOTALP_FLAG_W,AMMONI,AMMONI_FLAG_W,CHLORA,CHLORA_FLAG_W,PPHYTN,PPHYTN_FLAG_W,REVPRS,REVTMP,DEPTH_,DEPTH_FLAG,CTDDEP,THETA,SIGTHT,DOC,DOC_FLAG_W
,,,,,,,GMT,GMT,,,METER,DBAR,ITS-90,PSS-78,,UMOL/KG,,PSS-78,,UMOL/KG,,UMOL/KG,,UMOL/KG,,UMOL/KG,,UMOL/KG,,UMOL/KG,,PMOL/KG,,PMOL/KG,,/MILLE,,UMOL/KG,,UMOL/KG,,25_DEG_C,,DEG_C,,,,/MILLE,UMOL/KG,,UMOL/KG,,UG/L,,UG/L,,DBAR,ITS-90,METERS,,METERS,DEG_C,,UMOL/L,
       RF07-01, EQPAC,RF-2883,  1,     -9,      -9,5,20070220,0944, -0.0082, 144.9888, 3719,      0.0,  29.0857,  34.3334,2,   -999.0,9,-999.0000,9,    200.9,2,     0.62,2,  -999.00,9,     0.01,2,     0.00,2,     0.02,2, -999.000,9, -999.000,9,  -999.00,9,   -999.0,9,   -999.0,9,-999.0000,9,   -999.0,  9,  -999.00,9,   -999.0,  -999.00,9,  -999.00,9,     0.27,2,     0.06,2,   -999.0,-999.0000, -999,9,    0,  29.0855,  21.5351,   -999.0,9
       RF07-01, EQPAC,RF-2883,  1,     21,02-18575,2,20070220,1001, -0.0082, 144.9888, 3719,     10.8,  29.1078,  34.3380,2,   -999.0,9,  34.3400,2,    200.7,2,     0.63,2,  -999.00,9,     0.00,2,     0.00,2,     0.02,2, -999.000,9, -999.000,9,  -999.00,9,   -999.0,9,   -999.0,9,-999.0000,9,   -999.0,  9,  -999.00,9,   -999.0,  -999.00,9,  -999.00,9,     0.34,2,     0.07,2,   -999.0,-999.0000, -999,9,   11,  29.1052,  21.5320,   -999.0,9
       RF07-01, EQPAC,RF-2883,  1,     20,02-18574,2,20070220,1000, -0.0082, 144.9888, 3719,     26.4,  28.9849,  34.3919,2,   -999.0,9,-999.0000,9,    197.7,2,     0.70,2,  -999.00,9,     0.20,2,     0.06,2,     0.05,2, -999.000,9, -999.000,9,  -999.00,9,   -999.0,9,   -999.0,9,-999.0000,9,   -999.0,  9,  -999.00,9,   -999.0,  -999.00,9,  -999.00,9,     0.62,2,     0.14,2,   -999.0,-999.0000, -999,9,   26,  28.9785,  21.6147,   -999.0,9
       RF07-01, EQPAC,RF-2883,  1,     19,02-18573,2,20070220,0958, -0.0082, 144.9888, 3719,     50.7,  28.1006,  34.6283,2,   -999.0,9,-999.0000,9,    180.1,2,     1.55,2,  -999.00,9,     2.32,2,     0.67,2,     0.20,2, -999.000,9, -999.000,9,  -999.00,9,   -999.0,9,   -999.0,9,-999.0000,9,   -999.0,  9,  -999.00,9,   -999.0,  -999.00,9,  -999.00,9,     0.24,2,     0.13,2,   -999.0,-999.0000, -999,9,   50,  28.0886,  22.0861,   -999.0,9
       RF07-01, EQPAC,RF-2883,  1,     18,02-18572,2,20070220,0957, -0.0082, 144.9888, 3719,     77.8,  25.3836,  35.0562,2,   -999.0,9,-999.0000,9,    142.4,2,     3.96,2,  -999.00,9,     7.46,2,     0.24,2,     0.54,2, -999.000,9, -999.000,9,  -999.00,9,   -999.0,9,   -999.0,9,-999.0000,9,   -999.0,  9,  -999.00,9,   -999.0,  -999.00,9,  -999.00,9,     0.08,2,     0.25,2,   -999.0,-999.0000, -999,9,   77,  25.3665,  23.2717,   -999.0,9
       RF07-01, EQPAC,RF-2883,  1,     17,02-18571,2,20070220,0956, -0.0082, 144.9888, 3719,    102.3,  23.7279,  35.3999,2,   -999.0,9,  35.4140,4,    126.6,2,     4.56,2,  -999.00,9,    10.22,2,     0.04,2,     0.73,2, -999.000,9, -999.000,9,  -999.00,9,   -999.0,9,   -999.0,9,-999.0000,9,   -999.0,  9,  -999.00,9,   -999.0,  -999.00,9,  -999.00,9,     0.02,2,     0.11,2,   -999.0,-999.0000, -999,9,  102,  23.7065,  24.0309,   -999.0,9
       RF07-01, EQPAC,RF-2883,  1,     16,02-18570,2,20070220,0954, -0.0082, 144.9888, 3719,    126.5,  22.4272,  35.5070,2,   -999.0,9,-999.0000,9,    125.6,2,     4.91,2,  -999.00,9,    10.98,2,     0.03,2,     0.80,2, -999.000,9, -999.000,9,  -999.00,9,   -999.0,9,   -999.0,9,-999.0000,9,   -999.0,  9,  -999.00,9,   -999.0,  -999.00,9,  -999.00,9,     0.01,2,     0.06,2,   -999.0,-999.0000, -999,9,  126,  22.4018,  24.4896,   -999.0,9
       RF07-01, EQPAC,RF-2883,  1,     15,02-18569,2,20070220,0953, -0.0082, 144.9888, 3719,    152.7,  19.9042,  35.2280,2,   -999.0,9,-999.0000,9,    137.7,2,     7.96,2,  -999.00,9,    11.37,2,     0.01,2,     0.80,2, -999.000,9, -999.000,9,  -999.00,9,   -999.0,9,   -999.0,9,-999.0000,9,   -999.0,  9,  -999.00,9,   -999.0,  -999.00,9,  -999.00,9,     0.01,2,     0.04,2,   -999.0,-999.0000, -999,9,  152,  19.8760,  24.9683,   -999.0,9
       RF07-01, EQPAC,RF-2883,  1,     14,02-18568,2,20070220,0951, -0.0082, 144.9888, 3719,    203.3,  17.0570,  35.2848,2,   -999.0,9,  35.2865,2,    137.7,2,     8.70,2,  -999.00,9,    14.14,2,     0.00,2,     1.01,2, -999.000,9, -999.000,9,  -999.00,9,   -999.0,9,   -999.0,9,-999.0000,9,   -999.0,  9,  -999.00,9,   -999.0,  -999.00,9,  -999.00,9,     0.00,2,     0.03,2,   -999.0,-999.0000, -999,9,  202,  17.0233,  25.7273,   -999.0,9
       RF07-01, EQPAC,RF-2883,  1,     13,02-18567,2,20070220,0949, -0.0082, 144.9888, 3719,    253.1,  13.0167,  34.9079,2,   -999.0,9,-999.0000,9,    136.0,2,    19.98,2,  -999.00,9,    20.08,2,     0.00,2,     1.38,2, -999.000,9, -999.000,9,  -999.00,9,   -999.0,9,   -999.0,9,-999.0000,9,   -999.0,  9,  -999.00,9,   -999.0,  -999.00,9,  -999.00,9,  -999.00,9,  -999.00,9,   -999.0,-999.0000, -999,9,  252,  12.9818,  26.3252,   -999.0,9
       RF07-01, EQPAC,RF-2883,  1,     12,02-18348,2,20070220,0947, -0.0082, 144.9888, 3719,    303.9,  11.5817,  34.8319,2,   -999.0,9,  34.8308,2,    130.8,2,    21.84,2,  -999.00,9,    22.92,2,     0.00,2,     1.58,2, -999.000,9, -999.000,9,  -999.00,9,   -999.0,9,   -999.0,9,-999.0000,9,   -999.0,  9,  -999.00,9,   -999.0,  -999.00,9,  -999.00,9,  -999.00,9,  -999.00,9,   -999.0,-999.0000, -999,9,  302,  11.5429,  26.5448,   -999.0,9
       RF07-01, EQPAC,RF-2883,  1,     11,02-18565,2,20070220,0944, -0.0082, 144.9888, 3719,    405.0,   9.2529,  34.6730,2,   -999.0,9,  34.6714,2,    106.4,2,    31.86,2,  -999.00,9,    29.56,2,     0.00,2,     2.04,2, -999.000,9, -999.000,9,  -999.00,9,   -999.0,9,   -999.0,9,-999.0000,9,   -999.0,  9,  -999.00,9,   -999.0,  -999.00,9,  -999.00,9,  -999.00,9,  -999.00,9,   -999.0,-999.0000, -999,9,  402,   9.2078,  26.8286,   -999.0,9
       RF07-01, EQPAC,RF-2883,  1,     10,02-18564,2,20070220,0941, -0.0082, 144.9888, 3719,    504.8,   7.5175,  34.5749,2,   -999.0,9,-999.0000,9,    129.0,2,    37.42,2,  -999.00,9,    30.71,2,     0.00,2,     2.11,2, -999.000,9, -999.000,9,  -999.00,9,   -999.0,9,   -999.0,9,-999.0000,9,   -999.0,  9,  -999.00,9,   -999.0,  -999.00,9,  -999.00,9,  -999.00,9,  -999.00,9,   -999.0,-999.0000, -999,9,  501,   7.4675,  27.0180,   -999.0,9
       RF07-01, EQPAC,RF-2883,  1,      9,02-18563,2,20070220,0938, -0.0082, 144.9888, 3719,    606.8,   6.8833,  34.5562,2,   -999.0,9,  34.5556,2,    112.9,2,    45.12,2,  -999.00,9,    33.65,2,     0.00,2,     2.34,2, -999.000,9, -999.000,9,  -999.00,9,   -999.0,9,   -999.0,9,-999.0000,9,   -999.0,  9,  -999.00,9,   -999.0,  -999.00,9,  -999.00,9,  -999.00,9,  -999.00,9,   -999.0,-999.0000, -999,9,  603,   6.8257,  27.0931,   -999.0,9
       RF07-01, EQPAC,RF-2883,  1,      8,02-18562,2,20070220,0935, -0.0082, 144.9888, 3719,    707.8,   6.1330,  34.5457,2,   -999.0,9,-999.0000,9,     94.0,2,    59.06,2,  -999.00,9,    36.60,2,     0.00,2,     2.59,2, -999.000,9, -999.000,9,  -999.00,9,   -999.0,9,   -999.0,9,-999.0000,9,   -999.0,  9,  -999.00,9,   -999.0,  -999.00,9,  -999.00,9,  -999.00,9,  -999.00,9,   -999.0,-999.0000, -999,9,  703,   6.0694,  27.1848,   -999.0,9
       RF07-01, EQPAC,RF-2883,  1,      7,02-18561,2,20070220,0932, -0.0082, 144.9888, 3719,    807.8,   5.7194,  34.5414,2,   -999.0,9,  34.5398,2,     94.6,2,    65.98,2,  -999.00,9,    37.16,2,     0.00,2,     2.64,2, -999.000,9, -999.000,9,  -999.00,9,   -999.0,9,   -999.0,9,-999.0000,9,   -999.0,  9,  -999.00,9,   -999.0,  -999.00,9,  -999.00,9,  -999.00,9,  -999.00,9,   -999.0,-999.0000, -999,9,  802,   5.6487,  27.2342,   -999.0,9
       RF07-01, EQPAC,RF-2883,  1,      6,02-18560,2,20070220,0930, -0.0082, 144.9888, 3719,    908.9,   5.1413,  34.5393,2,   -999.0,9,-999.0000,9,    104.0,2,    74.59,2,  -999.00,9,    36.71,2,     0.00,2,     2.61,2, -999.000,9, -999.000,9,  -999.00,9,   -999.0,9,   -999.0,9,-999.0000,9,   -999.0,  9,  -999.00,9,   -999.0,  -999.00,9,  -999.00,9,  -999.00,9,  -999.00,9,   -999.0,-999.0000, -999,9,  902,   5.0651,  27.3024,   -999.0,9
       RF07-01, EQPAC,RF-2883,  1,      5,02-18559,2,20070220,0927, -0.0082, 144.9888, 3719,   1010.2,   4.6959,  34.5459,2,   -999.0,9,  34.5449,2,    104.3,2,    83.82,2,  -999.00,9,    37.19,2,     0.00,2,     2.65,2, -999.000,9, -999.000,9,  -999.00,9,   -999.0,9,   -999.0,9,-999.0000,9,   -999.0,  9,  -999.00,9,   -999.0,  -999.00,9,  -999.00,9,  -999.00,9,  -999.00,9,   -999.0,-999.0000, -999,9, 1002,   4.6139,  27.3590,   -999.0,9
       RF07-01, EQPAC,RF-2883,  1,      4,02-18558,2,20070220,0921, -0.0082, 144.9888, 3719,   1262.4,   3.7298,  34.5772,2,   -999.0,9,  34.5781,2,     96.2,2,   107.42,2,  -999.00,9,    38.75,2,     0.00,2,     2.78,2, -999.000,9, -999.000,9,  -999.00,9,   -999.0,9,   -999.0,9,-999.0000,9,   -999.0,  9,  -999.00,9,   -999.0,  -999.00,9,  -999.00,9,  -999.00,9,  -999.00,9,   -999.0,-999.0000, -999,9, 1252,   3.6343,  27.4870,   -999.0,9
       RF07-01, EQPAC,RF-2883,  1,      3,02-18557,2,20070220,0916, -0.0082, 144.9888, 3719,   1515.7,   2.9249,  34.6063,2,   -999.0,9,  34.6075,2,    106.7,2,   122.88,2,  -999.00,9,    38.59,2,     0.00,2,     2.75,2, -999.000,9, -999.000,9,  -999.00,9,   -999.0,9,   -999.0,9,-999.0000,9,   -999.0,  9,  -999.00,9,   -999.0,  -999.00,9,  -999.00,9,  -999.00,9,  -999.00,9,   -999.0,-999.0000, -999,9, 1502,   2.8165,  27.5874,   -999.0,9
       RF07-01, EQPAC,RF-2883,  1,      2,02-18556,2,20070220,0911, -0.0082, 144.9888, 3719,   1769.2,   2.4672,  34.6272,2,   -999.0,9,  34.6267,2,    113.8,2,   131.93,2,  -999.00,9,    38.23,2,     0.00,2,     2.71,2, -999.000,9, -999.000,9,  -999.00,9,   -999.0,9,   -999.0,9,-999.0000,9,   -999.0,  9,  -999.00,9,   -999.0,  -999.00,9,  -999.00,9,  -999.00,9,  -999.00,9,   -999.0,-999.0000, -999,9, 1752,   2.3434,  27.6451,   -999.0,9
       RF07-01, EQPAC,RF-2883,  1,      1,02-18555,2,20070220,0905, -0.0082, 144.9888, 3719,   2021.8,   2.2874,  34.6366,2,   -999.0,9,  34.6360,2,    115.9,2,   136.06,2,  -999.00,9,    38.14,2,     0.00,2,     2.71,2, -999.000,9, -999.000,9,  -999.00,9,   -999.0,9,   -999.0,9,-999.0000,9,   -999.0,  9,  -999.00,9,   -999.0,  -999.00,9,  -999.00,9,  -999.00,9,  -999.00,9,   -999.0,-999.0000, -999,9, 2001,   2.1447,  27.6689,   -999.0,9