BOTTLE,20130510GEMDJMAYT
EXPOCODE,SECT_ID,STNNBR,CASTNO,SAMPNO,BTLNBR,BTLNBR_FLAG_W,DATE,TIME,LATITUDE,LONGITUDE,DEPTH,CTDPRS,CTDTMP,CTDSAL,CTDSAL_FLAG_W,CTDOXY,CTDOXY_FLAG_W,SALNTY,SALNTY_FLAG_W,OXYGEN,OXYGEN_FLAG_W,SILCAT,SILCAT_FLAG_W,NITRAT,NITRAT_FLAG_W,NO2+NO3,NO2+NO3_FLAG_W,NITRIT,NITRIT_FLAG_W,PHSPHT,PHSPHT_FLAG_W,CFC-11,CFC-11_FLAG_W,CFC-12,CFC-12_FLAG_W,DELC13,DELC13_FLAG_W,TCARBN,TCARBN_FLAG_W,ALKALI,ALKALI_FLAG_W,PH,PH_FLAG_W,PH_TMP,PH_SCALE,PH_NBS,PH_NBS_FLAG_W,C13ERR,TOTALP,TOTALP_FLAG_W,AMMONI,AMMONI_FLAG_W,CHLORA,CHLORA_FLAG_W,PPHYTN,PPHYTN_FLAG_W,REVPRS,REVTMP,DEPTH_,DEPTH_FLAG,CTDDEP,THETA,SIGTHT,DOC,DOC_FLAG_W
,,,,,,,GMT,GMT,,,METER,DBAR,ITS-90,PSS-78,,UMOL/KG,,PSS-78,,UMOL/KG,,UMOL/KG,,UMOL/KG,,UMOL/KG,,UMOL/KG,,UMOL/KG,,PMOL/KG,,PMOL/KG,,/MILLE,,UMOL/KG,,UMOL/KG,,25_DEG_C,,DEG_C,,,,/MILLE,UMOL/KG,,UMOL/KG,,UG/L,,UG/L,,DBAR,ITS-90,METERS,,METERS,DEG_C,,UMOL/L,
       RF07-01,  142E,RF-2820,  1,     -9,      -9,5,20070120,0657, 33.5130, 141.4807, 5525,      0.0,  20.0181,  34.6653,2,   -999.0,9,-999.0000,9,    218.8,2,     2.93,2,  -999.00,9,     1.03,2,     0.30,2,     0.07,2, -999.000,9, -999.000,9,  -999.00,9,   -999.0,9,   -999.0,9,-999.0000,9,   -999.0,  9,  -999.00,9,   -999.0,  -999.00,9,  -999.00,9,     0.25,2,     0.14,2,   -999.0,-999.0000, -999,9,    0,  20.0180,  24.5018,   -999.0,9
       RF07-01,  142E,RF-2820,  1,     21,02-18575,2,20070120,0720, 33.5130, 141.4807, 5525,     12.5,  20.0350,  34.6741,2,   -999.0,9,  34.6763,2,    218.6,2,     2.86,2,  -999.00,9,     0.89,2,     0.28,2,     0.05,2, -999.000,9, -999.000,9,  -999.00,9,   -999.0,9,   -999.0,9,-999.0000,9,   -999.0,  9,  -999.00,9,   -999.0,  -999.00,9,  -999.00,9,     0.20,2,     0.10,2,   -999.0,-999.0000, -999,9,   12,  20.0327,  24.5045,   -999.0,9
       RF07-01,  142E,RF-2820,  1,     20,02-18574,2,20070120,0719, 33.5130, 141.4807, 5525,     26.7,  20.0240,  34.6765,2,   -999.0,9,-999.0000,9,    218.7,2,     2.81,2,  -999.00,9,     0.91,2,     0.29,2,     0.05,2, -999.000,9, -999.000,9,  -999.00,9,   -999.0,9,   -999.0,9,-999.0000,9,   -999.0,  9,  -999.00,9,   -999.0,  -999.00,9,  -999.00,9,     0.23,2,     0.12,2,   -999.0,-999.0000, -999,9,   27,  20.0191,  24.5099,   -999.0,9
       RF07-01,  142E,RF-2820,  1,     19,02-18573,2,20070120,0718, 33.5130, 141.4807, 5525,     53.2,  20.0366,  34.6762,2,   -999.0,9,-999.0000,9,    220.1,2,     2.75,2,  -999.00,9,     0.91,2,     0.28,2,     0.05,2, -999.000,9, -999.000,9,  -999.00,9,   -999.0,9,   -999.0,9,-999.0000,9,   -999.0,  9,  -999.00,9,   -999.0,  -999.00,9,  -999.00,9,     0.22,2,     0.11,2,   -999.0,-999.0000, -999,9,   53,  20.0268,  24.5077,   -999.0,9
       RF07-01,  142E,RF-2820,  1,     18,02-18572,2,20070120,0716, 33.5130, 141.4807, 5525,     76.7,  20.0414,  34.6760,2,   -999.0,9,-999.0000,9,    217.4,2,     2.70,2,  -999.00,9,     0.91,2,     0.28,2,     0.04,2, -999.000,9, -999.000,9,  -999.00,9,   -999.0,9,   -999.0,9,-999.0000,9,   -999.0,  9,  -999.00,9,   -999.0,  -999.00,9,  -999.00,9,     0.23,2,     0.11,2,   -999.0,-999.0000, -999,9,   76,  20.0272,  24.5074,   -999.0,9
       RF07-01,  142E,RF-2820,  1,     17,02-18571,2,20070120,0715, 33.5130, 141.4807, 5525,    100.6,  20.0521,  34.6755,2,   -999.0,9,  34.6756,2,    216.9,2,     2.66,2,  -999.00,9,     0.90,2,     0.28,2,     0.04,2, -999.000,9, -999.000,9,  -999.00,9,   -999.0,9,   -999.0,9,-999.0000,9,   -999.0,  9,  -999.00,9,   -999.0,  -999.00,9,  -999.00,9,     0.23,2,     0.12,2,   -999.0,-999.0000, -999,9,  100,  20.0335,  24.5054,   -999.0,9
       RF07-01,  142E,RF-2820,  1,     16,02-18570,2,20070120,0714, 33.5130, 141.4807, 5525,    127.8,  20.0629,  34.6760,2,   -999.0,9,-999.0000,9,    218.3,2,     2.71,2,  -999.00,9,     0.90,2,     0.28,2,     0.04,2, -999.000,9, -999.000,9,  -999.00,9,   -999.0,9,   -999.0,9,-999.0000,9,   -999.0,  9,  -999.00,9,   -999.0,  -999.00,9,  -999.00,9,     0.22,2,     0.11,2,   -999.0,-999.0000, -999,9,  127,  20.0393,  24.5043,   -999.0,9
       RF07-01,  142E,RF-2820,  1,     15,02-18569,2,20070120,0713, 33.5130, 141.4807, 5525,    153.7,  20.0581,  34.6822,2,   -999.0,9,-999.0000,9,    218.4,2,     2.72,2,  -999.00,9,     0.98,2,     0.28,2,     0.04,2, -999.000,9, -999.000,9,  -999.00,9,   -999.0,9,   -999.0,9,-999.0000,9,   -999.0,  9,  -999.00,9,   -999.0,  -999.00,9,  -999.00,9,     0.17,2,     0.09,2,   -999.0,-999.0000, -999,9,  153,  20.0297,  24.5115,   -999.0,9
       RF07-01,  142E,RF-2820,  1,     14,02-18568,2,20070120,0711, 33.5130, 141.4807, 5525,    202.9,  18.6347,  34.8297,2,   -999.0,9,  34.8345,4,    202.1,2,     3.98,2,  -999.00,9,     3.39,2,     0.01,2,     0.18,2, -999.000,9, -999.000,9,  -999.00,9,   -999.0,9,   -999.0,9,-999.0000,9,   -999.0,  9,  -999.00,9,   -999.0,  -999.00,9,  -999.00,9,     0.00,2,     0.01,2,   -999.0,-999.0000, -999,9,  201,  18.5990,  24.9925,   -999.0,9
       RF07-01,  142E,RF-2820,  1,     13,02-18567,2,20070120,0709, 33.5130, 141.4807, 5525,    255.4,  17.7517,  34.8095,2,   -999.0,9,-999.0000,9,    206.9,2,     4.46,2,  -999.00,9,     4.06,2,     0.00,2,     0.21,2, -999.000,9, -999.000,9,  -999.00,9,   -999.0,9,   -999.0,9,-999.0000,9,   -999.0,  9,  -999.00,9,   -999.0,  -999.00,9,  -999.00,9,  -999.00,9,  -999.00,9,   -999.0,-999.0000, -999,9,  253,  17.7083,  25.1976,   -999.0,9
       RF07-01,  142E,RF-2820,  1,     12,02-18348,2,20070120,0708, 33.5130, 141.4807, 5525,    306.8,  17.3210,  34.7851,2,   -999.0,9,  34.7876,2,    204.8,2,     4.97,2,  -999.00,9,     4.72,2,     0.00,2,     0.25,2, -999.000,9, -999.000,9,  -999.00,9,   -999.0,9,   -999.0,9,-999.0000,9,   -999.0,  9,  -999.00,9,   -999.0,  -999.00,9,  -999.00,9,  -999.00,9,  -999.00,9,   -999.0,-999.0000, -999,9,  304,  17.2696,  25.2849,   -999.0,9
       RF07-01,  142E,RF-2820,  1,     11,02-18565,2,20070120,0705, 33.5130, 141.4807, 5525,    408.2,  15.8259,  34.6621,2,   -999.0,9,  34.6697,4,    186.2,2,    10.71,2,  -999.00,9,     8.90,2,     0.00,2,     0.53,2, -999.000,9, -999.000,9,  -999.00,9,   -999.0,9,   -999.0,9,-999.0000,9,   -999.0,  9,  -999.00,9,   -999.0,  -999.00,9,  -999.00,9,  -999.00,9,  -999.00,9,   -999.0,-999.0000, -999,9,  405,  15.7616,  25.5419,   -999.0,9
       RF07-01,  142E,RF-2820,  1,     10,02-18564,2,20070120,0702, 33.5130, 141.4807, 5525,    506.1,  13.6033,  34.5059,2,   -999.0,9,-999.0000,9,    175.4,2,    19.90,2,  -999.00,9,    13.63,2,     0.00,2,     0.86,2, -999.000,9, -999.000,9,  -999.00,9,   -999.0,9,   -999.0,9,-999.0000,9,   -999.0,  9,  -999.00,9,   -999.0,  -999.00,9,  -999.00,9,  -999.00,9,  -999.00,9,   -999.0,-999.0000, -999,9,  502,  13.5311,  25.9025,   -999.0,9
       RF07-01,  142E,RF-2820,  1,      9,02-18563,2,20070120,0659, 33.5130, 141.4807, 5525,    606.0,  10.1558,  34.2995,2,   -999.0,9,  34.3002,2,    153.6,2,    39.92,2,  -999.00,9,    21.53,2,     0.00,2,     1.44,2, -999.000,9, -999.000,9,  -999.00,9,   -999.0,9,   -999.0,9,-999.0000,9,   -999.0,  9,  -999.00,9,   -999.0,  -999.00,9,  -999.00,9,  -999.00,9,  -999.00,9,   -999.0,-999.0000, -999,9,  601,  10.0840,  26.3906,   -999.0,9
       RF07-01,  142E,RF-2820,  1,      8,02-18562,2,20070120,0656, 33.5130, 141.4807, 5525,    707.6,   8.0862,  34.2315,2,   -999.0,9,-999.0000,9,    128.2,2,    59.22,2,  -999.00,9,    27.26,2,     0.00,2,     1.88,2, -999.000,9, -999.000,9,  -999.00,9,   -999.0,9,   -999.0,9,-999.0000,9,   -999.0,  9,  -999.00,9,   -999.0,  -999.00,9,  -999.00,9,  -999.00,9,  -999.00,9,   -999.0,-999.0000, -999,9,  701,   8.0126,  26.6684,   -999.0,9
       RF07-01,  142E,RF-2820,  1,      7,02-18561,2,20070120,0654, 33.5130, 141.4807, 5525,    810.1,   5.9938,  34.2724,2,   -999.0,9,  34.2732,2,     91.6,2,    89.92,2,  -999.00,9,    33.93,2,     0.00,2,     2.39,2, -999.000,9, -999.000,9,  -999.00,9,   -999.0,9,   -999.0,9,-999.0000,9,   -999.0,  9,  -999.00,9,   -999.0,  -999.00,9,  -999.00,9,  -999.00,9,  -999.00,9,   -999.0,-999.0000, -999,9,  803,   5.9216,  26.9876,   -999.0,9
       RF07-01,  142E,RF-2820,  1,      6,02-18560,2,20070120,0651, 33.5130, 141.4807, 5525,    909.8,   4.4215,  34.2104,2,   -999.0,9,-999.0000,9,     64.4,2,   108.24,2,  -999.00,9,    38.72,2,     0.00,2,     2.77,2, -999.000,9, -999.000,9,  -999.00,9,   -999.0,9,   -999.0,9,-999.0000,9,   -999.0,  9,  -999.00,9,   -999.0,  -999.00,9,  -999.00,9,  -999.00,9,  -999.00,9,   -999.0,-999.0000, -999,9,  901,   4.3508,  27.1212,   -999.0,9
       RF07-01,  142E,RF-2820,  1,      5,02-18559,2,20070120,0648, 33.5130, 141.4807, 5525,   1011.5,   4.1648,  34.3343,2,   -999.0,9,  34.3345,2,     63.7,2,   117.57,2,  -999.00,9,    38.96,2,     0.00,2,     2.77,2, -999.000,9, -999.000,9,  -999.00,9,   -999.0,9,   -999.0,9,-999.0000,9,   -999.0,  9,  -999.00,9,   -999.0,  -999.00,9,  -999.00,9,  -999.00,9,  -999.00,9,   -999.0,-999.0000, -999,9, 1002,   4.0872,  27.2476,   -999.0,9
       RF07-01,  142E,RF-2820,  1,      4,02-18558,2,20070120,0643, 33.5130, 141.4807, 5525,   1263.3,   3.0885,  34.4192,2,   -999.0,9,  34.4190,2,     43.5,2,   140.23,2,  -999.00,9,    41.85,2,     0.01,2,     2.99,2, -999.000,9, -999.000,9,  -999.00,9,   -999.0,9,   -999.0,9,-999.0000,9,   -999.0,  9,  -999.00,9,   -999.0,  -999.00,9,  -999.00,9,  -999.00,9,  -999.00,9,   -999.0,-999.0000, -999,9, 1251,   2.9995,  27.4215,   -999.0,9
       RF07-01,  142E,RF-2820,  1,      3,02-18557,2,20070120,0638, 33.5130, 141.4807, 5525,   1519.3,   2.5293,  34.5050,2,   -999.0,9,  34.5048,2,     52.8,2,   150.58,2,  -999.00,9,    41.61,2,     0.00,2,     2.97,2, -999.000,9, -999.000,9,  -999.00,9,   -999.0,9,   -999.0,9,-999.0000,9,   -999.0,  9,  -999.00,9,   -999.0,  -999.00,9,  -999.00,9,  -999.00,9,  -999.00,9,   -999.0,-999.0000, -999,9, 1503,   2.4255,  27.5404,   -999.0,9
       RF07-01,  142E,RF-2820,  1,      2,02-18556,2,20070120,0633, 33.5130, 141.4807, 5525,   1772.0,   2.1764,  34.5592,2,   -999.0,9,  34.5592,2,     62.5,2,   156.85,2,  -999.00,9,    41.26,2,     0.00,2,     2.93,2, -999.000,9, -999.000,9,  -999.00,9,   -999.0,9,   -999.0,9,-999.0000,9,   -999.0,  9,  -999.00,9,   -999.0,  -999.00,9,  -999.00,9,  -999.00,9,  -999.00,9,   -999.0,-999.0000, -999,9, 1752,   2.0565,  27.6141,   -999.0,9
       RF07-01,  142E,RF-2820,  1,      1,02-18555,2,20070120,0629, 33.5130, 141.4807, 5525,   2024.5,   1.9618,  34.5968,2,   -999.0,9,  34.5990,2,     78.6,2,   158.06,2,  -999.00,9,    40.48,2,     0.00,2,     2.85,2, -999.000,9, -999.000,9,  -999.00,9,   -999.0,9,   -999.0,9,-999.0000,9,   -999.0,  9,  -999.00,9,   -999.0,  -999.00,9,  -999.00,9,  -999.00,9,  -999.00,9,   -999.0,-999.0000, -999,9, 2000,   1.8240,  27.6624,   -999.0,9