BOTTLE,20130510GEMDJMAYT
EXPOCODE,SECT_ID,STNNBR,CASTNO,SAMPNO,BTLNBR,BTLNBR_FLAG_W,DATE,TIME,LATITUDE,LONGITUDE,DEPTH,CTDPRS,CTDTMP,CTDSAL,CTDSAL_FLAG_W,CTDOXY,CTDOXY_FLAG_W,SALNTY,SALNTY_FLAG_W,OXYGEN,OXYGEN_FLAG_W,SILCAT,SILCAT_FLAG_W,NITRAT,NITRAT_FLAG_W,NO2+NO3,NO2+NO3_FLAG_W,NITRIT,NITRIT_FLAG_W,PHSPHT,PHSPHT_FLAG_W,CFC-11,CFC-11_FLAG_W,CFC-12,CFC-12_FLAG_W,DELC13,DELC13_FLAG_W,TCARBN,TCARBN_FLAG_W,ALKALI,ALKALI_FLAG_W,PH,PH_FLAG_W,PH_TMP,PH_SCALE,PH_NBS,PH_NBS_FLAG_W,C13ERR,TOTALP,TOTALP_FLAG_W,AMMONI,AMMONI_FLAG_W,CHLORA,CHLORA_FLAG_W,PPHYTN,PPHYTN_FLAG_W,REVPRS,REVTMP,DEPTH_,DEPTH_FLAG,CTDDEP,THETA,SIGTHT,DOC,DOC_FLAG_W
,,,,,,,GMT,GMT,,,METER,DBAR,ITS-90,PSS-78,,UMOL/KG,,PSS-78,,UMOL/KG,,UMOL/KG,,UMOL/KG,,UMOL/KG,,UMOL/KG,,UMOL/KG,,PMOL/KG,,PMOL/KG,,/MILLE,,UMOL/KG,,UMOL/KG,,25_DEG_C,,DEG_C,,,,/MILLE,UMOL/KG,,UMOL/KG,,UG/L,,UG/L,,DBAR,ITS-90,METERS,,METERS,DEG_C,,UMOL/L,
       RF07-01,  NONE,RF-2836,  1,     -9,      -9,5,20070125,0255, 28.0285, 157.0100, 6118,      0.0,  21.8614,  34.9304,2,   -999.0,9,-999.0000,9,    216.3,2,     2.53,2,  -999.00,9,     0.07,2,     0.00,2,     0.02,2, -999.000,9, -999.000,9,  -999.00,9,   -999.0,9,   -999.0,9,-999.0000,9,   -999.0,  9,  -999.00,9,   -999.0,  -999.00,9,  -999.00,9,     0.12,2,     0.04,2,   -999.0,-999.0000, -999,9,    0,  21.8612,  24.2037,   -999.0,9
       RF07-01,  NONE,RF-2836,  1,     21,02-18575,2,20070125,0312, 28.0285, 157.0100, 6118,     11.6,  21.8576,  34.9306,2,   -999.0,9,  34.9299,2,    216.9,2,     2.54,2,  -999.00,9,     0.03,2,     0.00,2,     0.07,2, -999.000,9, -999.000,9,  -999.00,9,   -999.0,9,   -999.0,9,-999.0000,9,   -999.0,  9,  -999.00,9,   -999.0,  -999.00,9,  -999.00,9,     0.12,2,     0.04,2,   -999.0,-999.0000, -999,9,   12,  21.8553,  24.2055,   -999.0,9
       RF07-01,  NONE,RF-2836,  1,     20,02-18574,2,20070125,0311, 28.0285, 157.0100, 6118,     25.9,  21.8578,  34.9307,2,   -999.0,9,-999.0000,9,    216.9,2,     2.59,2,  -999.00,9,     0.05,2,     0.00,2,     0.08,2, -999.000,9, -999.000,9,  -999.00,9,   -999.0,9,   -999.0,9,-999.0000,9,   -999.0,  9,  -999.00,9,   -999.0,  -999.00,9,  -999.00,9,     0.13,2,     0.04,2,   -999.0,-999.0000, -999,9,   26,  21.8527,  24.2063,   -999.0,9
       RF07-01,  NONE,RF-2836,  1,     19,02-18573,2,20070125,0310, 28.0285, 157.0100, 6118,     51.3,  21.8415,  34.9284,2,   -999.0,9,-999.0000,9,    217.1,2,     2.66,2,  -999.00,9,     0.03,2,     0.03,2,     0.04,2, -999.000,9, -999.000,9,  -999.00,9,   -999.0,9,   -999.0,9,-999.0000,9,   -999.0,  9,  -999.00,9,   -999.0,  -999.00,9,  -999.00,9,     0.13,2,     0.05,2,   -999.0,-999.0000, -999,9,   51,  21.8314,  24.2105,   -999.0,9
       RF07-01,  NONE,RF-2836,  1,     18,02-18572,2,20070125,0308, 28.0285, 157.0100, 6118,     76.1,  21.8412,  34.9281,2,   -999.0,9,-999.0000,9,    218.3,2,     2.66,2,  -999.00,9,     0.02,2,     0.00,2,     0.04,2, -999.000,9, -999.000,9,  -999.00,9,   -999.0,9,   -999.0,9,-999.0000,9,   -999.0,  9,  -999.00,9,   -999.0,  -999.00,9,  -999.00,9,     0.14,2,     0.04,2,   -999.0,-999.0000, -999,9,   76,  21.8262,  24.2117,   -999.0,9
       RF07-01,  NONE,RF-2836,  1,     17,02-18571,2,20070125,0307, 28.0285, 157.0100, 6118,    102.4,  21.8324,  34.9254,2,   -999.0,9,  34.9261,2,    215.9,2,     2.74,2,  -999.00,9,     0.00,2,     0.00,2,     0.05,2, -999.000,9, -999.000,9,  -999.00,9,   -999.0,9,   -999.0,9,-999.0000,9,   -999.0,  9,  -999.00,9,   -999.0,  -999.00,9,  -999.00,9,     0.17,2,     0.06,2,   -999.0,-999.0000, -999,9,  102,  21.8123,  24.2136,   -999.0,9
       RF07-01,  NONE,RF-2836,  1,     16,02-18570,2,20070125,0306, 28.0285, 157.0100, 6118,    127.6,  20.8757,  34.8914,2,   -999.0,9,-999.0000,9,    209.5,2,     3.54,2,  -999.00,9,     1.09,2,     0.08,2,     0.11,2, -999.000,9, -999.000,9,  -999.00,9,   -999.0,9,   -999.0,9,-999.0000,9,   -999.0,  9,  -999.00,9,   -999.0,  -999.00,9,  -999.00,9,     0.15,2,     0.25,2,   -999.0,-999.0000, -999,9,  127,  20.8514,  24.4515,   -999.0,9
       RF07-01,  NONE,RF-2836,  1,     15,02-18569,2,20070125,0304, 28.0285, 157.0100, 6118,    151.9,  18.8120,  34.8166,2,   -999.0,9,-999.0000,9,    210.2,2,     4.02,2,  -999.00,9,     1.72,2,     0.03,2,     0.17,2, -999.000,9, -999.000,9,  -999.00,9,   -999.0,9,   -999.0,9,-999.0000,9,   -999.0,  9,  -999.00,9,   -999.0,  -999.00,9,  -999.00,9,     0.06,2,     0.16,2,   -999.0,-999.0000, -999,9,  151,  18.7851,  24.9355,   -999.0,9
       RF07-01,  NONE,RF-2836,  1,     14,02-18568,2,20070125,0302, 28.0285, 157.0100, 6118,    201.6,  17.7940,  34.7950,2,   -999.0,9,  34.7940,2,    209.7,2,     4.50,2,  -999.00,9,     3.61,2,     0.01,2,     0.25,2, -999.000,9, -999.000,9,  -999.00,9,   -999.0,9,   -999.0,9,-999.0000,9,   -999.0,  9,  -999.00,9,   -999.0,  -999.00,9,  -999.00,9,     0.01,2,     0.02,2,   -999.0,-999.0000, -999,9,  200,  17.7597,  25.1740,   -999.0,9
       RF07-01,  NONE,RF-2836,  1,     13,02-18567,2,20070125,0300, 28.0285, 157.0100, 6118,    255.3,  17.2486,  34.7716,2,   -999.0,9,-999.0000,9,    207.5,2,     5.33,2,  -999.00,9,     4.72,2,     0.00,2,     0.30,2, -999.000,9, -999.000,9,  -999.00,9,   -999.0,9,   -999.0,9,-999.0000,9,   -999.0,  9,  -999.00,9,   -999.0,  -999.00,9,  -999.00,9,  -999.00,9,  -999.00,9,   -999.0,-999.0000, -999,9,  253,  17.2060,  25.2898,   -999.0,9
       RF07-01,  NONE,RF-2836,  1,     12,02-18348,2,20070125,0258, 28.0285, 157.0100, 6118,    306.2,  16.5085,  34.7159,2,   -999.0,9,  34.7205,2,    199.7,2,     7.48,2,  -999.00,9,     6.66,2,     0.00,2,     0.43,2, -999.000,9, -999.000,9,  -999.00,9,   -999.0,9,   -999.0,9,-999.0000,9,   -999.0,  9,  -999.00,9,   -999.0,  -999.00,9,  -999.00,9,  -999.00,9,  -999.00,9,   -999.0,-999.0000, -999,9,  304,  16.4589,  25.4233,   -999.0,9
       RF07-01,  NONE,RF-2836,  1,     11,02-18565,2,20070125,0254, 28.0285, 157.0100, 6118,    406.0,  14.7727,  34.5782,2,   -999.0,9,  34.5798,2,    196.5,2,    12.04,2,  -999.00,9,     9.58,2,     0.00,2,     0.63,2, -999.000,9, -999.000,9,  -999.00,9,   -999.0,9,   -999.0,9,-999.0000,9,   -999.0,  9,  -999.00,9,   -999.0,  -999.00,9,  -999.00,9,  -999.00,9,  -999.00,9,   -999.0,-999.0000, -999,9,  403,  14.7117,  25.7095,   -999.0,9
       RF07-01,  NONE,RF-2836,  1,     10,02-18564,2,20070125,0251, 28.0285, 157.0100, 6118,    505.7,  11.7599,  34.3664,2,   -999.0,9,-999.0000,9,    191.0,2,    24.19,2,  -999.00,9,    15.39,2,     0.00,2,     1.02,2, -999.000,9, -999.000,9,  -999.00,9,   -999.0,9,   -999.0,9,-999.0000,9,   -999.0,  9,  -999.00,9,   -999.0,  -999.00,9,  -999.00,9,  -999.00,9,  -999.00,9,   -999.0,-999.0000, -999,9,  502,  11.6944,  26.1546,   -999.0,9
       RF07-01,  NONE,RF-2836,  1,      9,02-18563,2,20070125,0248, 28.0285, 157.0100, 6118,    608.0,   8.0742,  34.0799,2,   -999.0,9,  34.0818,2,    174.1,2,    44.77,2,  -999.00,9,    23.02,2,     0.00,2,     1.60,2, -999.000,9, -999.000,9,  -999.00,9,   -999.0,9,   -999.0,9,-999.0000,9,   -999.0,  9,  -999.00,9,   -999.0,  -999.00,9,  -999.00,9,  -999.00,9,  -999.00,9,   -999.0,-999.0000, -999,9,  603,   8.0116,  26.5495,   -999.0,9
       RF07-01,  NONE,RF-2836,  1,      8,02-18562,2,20070125,0244, 28.0285, 157.0100, 6118,    711.6,   5.8297,  34.0254,2,   -999.0,9,-999.0000,9,    123.9,2,    73.53,2,  -999.00,9,    31.63,2,     0.00,2,     2.22,2, -999.000,9, -999.000,9,  -999.00,9,   -999.0,9,   -999.0,9,-999.0000,9,   -999.0,  9,  -999.00,9,   -999.0,  -999.00,9,  -999.00,9,  -999.00,9,  -999.00,9,   -999.0,-999.0000, -999,9,  706,   5.7679,  26.8114,   -999.0,9
       RF07-01,  NONE,RF-2836,  1,      7,02-18561,2,20070125,0240, 28.0285, 157.0100, 6118,    811.1,   4.8641,  34.0901,2,   -999.0,9,  34.0891,2,     88.6,2,    95.82,2,  -999.00,9,    36.02,2,     0.00,2,     2.56,2, -999.000,9, -999.000,9,  -999.00,9,   -999.0,9,   -999.0,9,-999.0000,9,   -999.0,  9,  -999.00,9,   -999.0,  -999.00,9,  -999.00,9,  -999.00,9,  -999.00,9,   -999.0,-999.0000, -999,9,  804,   4.7990,  26.9766,   -999.0,9
       RF07-01,  NONE,RF-2836,  1,      6,02-18560,2,20070125,0237, 28.0285, 157.0100, 6118,    910.4,   4.1385,  34.2136,2,   -999.0,9,-999.0000,9,     52.0,2,   117.92,2,  -999.00,9,    39.96,2,     0.00,2,     2.85,2, -999.000,9, -999.000,9,  -999.00,9,   -999.0,9,   -999.0,9,-999.0000,9,   -999.0,  9,  -999.00,9,   -999.0,  -999.00,9,  -999.00,9,  -999.00,9,  -999.00,9,   -999.0,-999.0000, -999,9,  902,   4.0697,  27.1534,   -999.0,9
       RF07-01,  NONE,RF-2836,  1,      5,02-18559,2,20070125,0234, 28.0285, 157.0100, 6118,   1011.7,   3.7287,  34.2992,2,   -999.0,9,  34.2985,2,     38.8,2,   130.45,2,  -999.00,9,    41.36,2,     0.00,2,     2.93,2, -999.000,9, -999.000,9,  -999.00,9,   -999.0,9,   -999.0,9,-999.0000,9,   -999.0,  9,  -999.00,9,   -999.0,  -999.00,9,  -999.00,9,  -999.00,9,  -999.00,9,   -999.0,-999.0000, -999,9, 1003,   3.6545,  27.2635,   -999.0,9
       RF07-01,  NONE,RF-2836,  1,      4,02-18558,2,20070125,0228, 28.0285, 157.0100, 6118,   1266.5,   3.0428,  34.4337,2,   -999.0,9,  34.4332,2,     37.4,2,   147.59,2,  -999.00,9,    42.19,2,     0.00,2,     3.02,2, -999.000,9, -999.000,9,  -999.00,9,   -999.0,9,   -999.0,9,-999.0000,9,   -999.0,  9,  -999.00,9,   -999.0,  -999.00,9,  -999.00,9,  -999.00,9,  -999.00,9,   -999.0,-999.0000, -999,9, 1254,   2.9539,  27.4372,   -999.0,9
       RF07-01,  NONE,RF-2836,  1,      3,02-18557,2,20070125,0223, 28.0285, 157.0100, 6118,   1516.6,   2.4816,  34.5120,2,   -999.0,9,  34.5127,2,     44.6,2,   160.46,2,  -999.00,9,    42.08,2,     0.00,2,     2.98,2, -999.000,9, -999.000,9,  -999.00,9,   -999.0,9,   -999.0,9,-999.0000,9,   -999.0,  9,  -999.00,9,   -999.0,  -999.00,9,  -999.00,9,  -999.00,9,  -999.00,9,   -999.0,-999.0000, -999,9, 1501,   2.3786,  27.5500,   -999.0,9
       RF07-01,  NONE,RF-2836,  1,      2,02-18556,2,20070125,0218, 28.0285, 157.0100, 6118,   1770.4,   2.1761,  34.5796,2,   -999.0,9,  34.5792,2,     74.8,2,   159.76,2,  -999.00,9,    40.44,2,     0.00,2,     2.84,2, -999.000,9, -999.000,9,  -999.00,9,   -999.0,9,   -999.0,9,-999.0000,9,   -999.0,  9,  -999.00,9,   -999.0,  -999.00,9,  -999.00,9,  -999.00,9,  -999.00,9,   -999.0,-999.0000, -999,9, 1751,   2.0563,  27.6304,   -999.0,9
       RF07-01,  NONE,RF-2836,  1,      1,02-18555,2,20070125,0213, 28.0285, 157.0100, 6118,   2022.5,   1.9373,  34.6138,2,   -999.0,9,-999.0000,9,     92.7,2,   159.90,2,  -999.00,9,    39.50,2,     0.00,2,     2.72,2, -999.000,9, -999.000,9,  -999.00,9,   -999.0,9,   -999.0,9,-999.0000,9,   -999.0,  9,  -999.00,9,   -999.0,  -999.00,9,  -999.00,9,  -999.00,9,  -999.00,9,   -999.0,-999.0000, -999,9, 1999,   1.8000,  27.6778,   -999.0,9