BOTTLE,20130510GEMDJMAYT
EXPOCODE,SECT_ID,STNNBR,CASTNO,SAMPNO,BTLNBR,BTLNBR_FLAG_W,DATE,TIME,LATITUDE,LONGITUDE,DEPTH,CTDPRS,CTDTMP,CTDSAL,CTDSAL_FLAG_W,CTDOXY,CTDOXY_FLAG_W,SALNTY,SALNTY_FLAG_W,OXYGEN,OXYGEN_FLAG_W,SILCAT,SILCAT_FLAG_W,NITRAT,NITRAT_FLAG_W,NO2+NO3,NO2+NO3_FLAG_W,NITRIT,NITRIT_FLAG_W,PHSPHT,PHSPHT_FLAG_W,CFC-11,CFC-11_FLAG_W,CFC-12,CFC-12_FLAG_W,DELC13,DELC13_FLAG_W,TCARBN,TCARBN_FLAG_W,ALKALI,ALKALI_FLAG_W,PH,PH_FLAG_W,PH_TMP,PH_SCALE,PH_NBS,PH_NBS_FLAG_W,C13ERR,TOTALP,TOTALP_FLAG_W,AMMONI,AMMONI_FLAG_W,CHLORA,CHLORA_FLAG_W,PPHYTN,PPHYTN_FLAG_W,REVPRS,REVTMP,DEPTH_,DEPTH_FLAG,CTDDEP,THETA,SIGTHT,DOC,DOC_FLAG_W
,,,,,,,GMT,GMT,,,METER,DBAR,ITS-90,PSS-78,,UMOL/KG,,PSS-78,,UMOL/KG,,UMOL/KG,,UMOL/KG,,UMOL/KG,,UMOL/KG,,UMOL/KG,,PMOL/KG,,PMOL/KG,,/MILLE,,UMOL/KG,,UMOL/KG,,25_DEG_C,,DEG_C,,,,/MILLE,UMOL/KG,,UMOL/KG,,UG/L,,UG/L,,DBAR,ITS-90,METERS,,METERS,DEG_C,,UMOL/L,
     RF07-06-1,  165E,RF-2942,  1,     -9,      -9,5,20070614,1218, 39.9953, 164.9913, 5463,      0.0,  15.4461,  34.3822,2,   -999.0,9,-999.0000,9,    256.6,2,    11.48,2,  -999.00,9,     4.43,2,     0.08,2,     0.32,2, -999.000,9, -999.000,9,  -999.00,9,   2037.8,3,   -999.0,9,-999.0000,9,   -999.0,  9,  -999.00,9,   -999.0,  -999.00,9,  -999.00,9,     0.13,2,     0.03,2,   -999.0,-999.0000, -999,9,    0,  15.4460,  25.3972,   -999.0,9
     RF07-06-1,  165E,RF-2942,  1,     21,02-18575,2,20070614,1234, 39.9953, 164.9913, 5463,     11.4,  14.9381,  34.3728,2,   -999.0,9,  34.3674,4,    261.8,2,    11.43,2,  -999.00,9,     4.35,2,     0.08,2,     0.31,2, -999.000,9, -999.000,9,  -999.00,9,   2029.8,3,   -999.0,9,-999.0000,9,   -999.0,  9,  -999.00,9,   -999.0,  -999.00,9,  -999.00,9,     0.21,2,     0.05,2,   -999.0,-999.0000, -999,9,   11,  14.9364,  25.5022,   -999.0,9
     RF07-06-1,  165E,RF-2942,  1,     20,02-18574,2,20070614,1233, 39.9953, 164.9913, 5463,     26.1,  14.1550,  34.3284,2,   -999.0,9,-999.0000,9,    267.2,2,    11.86,2,  -999.00,9,     4.87,2,     0.10,2,     0.34,2, -999.000,9, -999.000,9,  -999.00,9,   2032.5,3,   -999.0,9,-999.0000,9,   -999.0,  9,  -999.00,9,   -999.0,  -999.00,9,  -999.00,9,     0.32,2,     0.08,2,   -999.0,-999.0000, -999,9,   26,  14.1512,  25.6363,   -999.0,9
     RF07-06-1,  165E,RF-2942,  1,     19,02-18573,2,20070614,1231, 39.9953, 164.9913, 5463,     52.1,  13.1217,  34.4141,2,   -999.0,9,-999.0000,9,    241.8,2,    13.22,2,  -999.00,9,     8.90,2,     0.16,2,     0.57,2, -999.000,9, -999.000,9,  -999.00,9,   2059.7,3,   -999.0,9,-999.0000,9,   -999.0,  9,  -999.00,9,   -999.0,  -999.00,9,  -999.00,9,     0.45,2,     0.19,2,   -999.0,-999.0000, -999,9,   52,  13.1146,  25.9160,   -999.0,9
     RF07-06-1,  165E,RF-2942,  1,     18,02-18572,2,20070614,1230, 39.9953, 164.9913, 5463,     76.4,  12.3060,  34.3872,2,   -999.0,9,-999.0000,9,    231.7,2,    15.90,2,  -999.00,9,    10.97,2,     0.07,2,     0.70,2, -999.000,9, -999.000,9,  -999.00,9,   2073.4,3,   -999.0,9,-999.0000,9,   -999.0,  9,  -999.00,9,   -999.0,  -999.00,9,  -999.00,9,     0.17,2,     0.08,2,   -999.0,-999.0000, -999,9,   76,  12.2960,  26.0564,   -999.0,9
     RF07-06-1,  165E,RF-2942,  1,     17,02-18571,2,20070614,1229, 39.9953, 164.9913, 5463,    102.3,  11.5390,  34.3233,2,   -999.0,9,  34.3218,2,    241.1,2,    17.71,2,  -999.00,9,    11.62,2,     0.07,2,     0.76,2, -999.000,9, -999.000,9,  -999.00,9,   -999.0,9,   -999.0,9,-999.0000,9,   -999.0,  9,  -999.00,9,   -999.0,  -999.00,9,  -999.00,9,     0.10,2,     0.08,2,   -999.0,-999.0000, -999,9,  102,  11.5261,  26.1524,   -999.0,9
     RF07-06-1,  165E,RF-2942,  1,     16,02-18570,3,20070614,1227, 39.9953, 164.9913, 5463,    126.7,  10.8731,  34.2855,2,   -999.0,9,-999.0000,9,    237.1,2,    20.04,2,  -999.00,9,    13.09,2,     0.01,2,     0.87,2, -999.000,9, -999.000,9,  -999.00,9,   2094.4,3,   -999.0,9,-999.0000,9,   -999.0,  9,  -999.00,9,   -999.0,  -999.00,9,  -999.00,9,     0.05,2,     0.05,2,   -999.0,-999.0000, -999,9,  126,  10.8578,  26.2446,   -999.0,9
     RF07-06-1,  165E,RF-2942,  1,     15,02-18569,2,20070614,1226, 39.9953, 164.9913, 5463,    152.9,  10.1879,  34.2216,2,   -999.0,9,-999.0000,9,    233.2,2,    23.27,2,  -999.00,9,    14.77,2,     0.01,2,     0.99,2, -999.000,9, -999.000,9,  -999.00,9,   2102.3,3,   -999.0,9,-999.0000,9,   -999.0,  9,  -999.00,9,   -999.0,  -999.00,9,  -999.00,9,     0.01,2,     0.05,2,   -999.0,-999.0000, -999,9,  152,  10.1702,  26.3151,   -999.0,9
     RF07-06-1,  165E,RF-2942,  1,     14,02-18568,2,20070614,1224, 39.9953, 164.9913, 5463,    202.6,   8.8066,  34.0849,2,   -999.0,9,  34.0693,4,    225.6,2,    29.19,2,  -999.00,9,    17.69,2,     0.01,2,     1.22,2, -999.000,9, -999.000,9,  -999.00,9,   2120.0,3,   -999.0,9,-999.0000,9,   -999.0,  9,  -999.00,9,   -999.0,  -999.00,9,  -999.00,9,     0.00,2,     0.05,2,   -999.0,-999.0000, -999,9,  201,   8.7851,  26.4354,   -999.0,9
     RF07-06-1,  165E,RF-2942,  1,     13,02-18567,2,20070614,1223, 39.9953, 164.9913, 5463,    253.1,   7.7407,  33.9882,2,   -999.0,9,-999.0000,9,    217.2,2,    35.42,2,  -999.00,9,    20.50,2,     0.00,2,     1.42,2, -999.000,9, -999.000,9,  -999.00,9,   2138.8,3,   -999.0,9,-999.0000,9,   -999.0,  9,  -999.00,9,   -999.0,  -999.00,9,  -999.00,9,     0.00,2,     0.05,2,   -999.0,-999.0000, -999,9,  251,   7.7159,  26.5208,   -999.0,9
     RF07-06-1,  165E,RF-2942,  1,     12,02-18348,2,20070614,1221, 39.9953, 164.9913, 5463,    303.8,   6.9060,  33.9727,2,   -999.0,9,  33.9735,2,    185.5,2,    47.21,2,  -999.00,9,    24.72,2,     0.00,2,     1.74,2, -999.000,9, -999.000,9,  -999.00,9,   2182.2,3,   -999.0,9,-999.0000,9,   -999.0,  9,  -999.00,9,   -999.0,  -999.00,9,  -999.00,9,     0.00,2,     0.05,2,   -999.0,-999.0000, -999,9,  301,   6.8780,  26.6262,   -999.0,9
     RF07-06-1,  165E,RF-2942,  1,     11,02-18565,2,20070614,1219, 39.9953, 164.9913, 5463,    404.6,   5.3084,  33.9275,2,   -999.0,9,  33.9362,4,    142.1,2,    68.81,2,  -999.00,9,    31.46,2,     0.00,2,     2.29,2, -999.000,9, -999.000,9,  -999.00,9,   2233.6,3,   -999.0,9,-999.0000,9,   -999.0,  9,  -999.00,9,   -999.0,  -999.00,9,  -999.00,9,  -999.00,9,  -999.00,9,   -999.0,-999.0000, -999,9,  401,   5.2759,  26.7931,   -999.0,9
     RF07-06-1,  165E,RF-2942,  1,     10,02-18564,2,20070614,1216, 39.9953, 164.9913, 5463,    505.3,   4.5571,  34.0178,2,   -999.0,9,-999.0000,9,     96.2,2,    88.94,2,  -999.00,9,    36.41,2,     0.00,2,     2.67,2, -999.000,9, -999.000,9,  -999.00,9,   2279.3,3,   -999.0,9,-999.0000,9,   -999.0,  9,  -999.00,9,   -999.0,  -999.00,9,  -999.00,9,  -999.00,9,  -999.00,9,   -999.0,-999.0000, -999,9,  501,   4.5190,  26.9501,   -999.0,9
     RF07-06-1,  165E,RF-2942,  1,      9,02-18563,2,20070614,1214, 39.9953, 164.9913, 5463,    606.5,   4.2461,  34.1175,2,   -999.0,9,  34.1191,2,     69.1,2,   102.77,2,  -999.00,9,    38.81,2,     0.00,2,     2.85,2, -999.000,9, -999.000,9,  -999.00,9,   2312.4,3,   -999.0,9,-999.0000,9,   -999.0,  9,  -999.00,9,   -999.0,  -999.00,9,  -999.00,9,  -999.00,9,  -999.00,9,   -999.0,-999.0000, -999,9,  601,   4.2012,  27.0632,   -999.0,9
     RF07-06-1,  165E,RF-2942,  1,      8,02-18562,2,20070614,1211, 39.9953, 164.9913, 5463,    707.9,   3.9707,  34.2165,2,   -999.0,9,-999.0000,9,     50.5,2,   114.44,2,  -999.00,9,    40.49,2,     0.00,2,     2.96,2, -999.000,9, -999.000,9,  -999.00,9,   2332.6,3,   -999.0,9,-999.0000,9,   -999.0,  9,  -999.00,9,   -999.0,  -999.00,9,  -999.00,9,  -999.00,9,  -999.00,9,   -999.0,-999.0000, -999,9,  701,   3.9192,  27.1712,   -999.0,9
     RF07-06-1,  165E,RF-2942,  1,      7,02-18561,2,20070614,1209, 39.9953, 164.9913, 5463,    808.4,   3.6648,  34.2737,2,   -999.0,9,  34.2728,2,     41.8,2,   123.46,2,  -999.00,9,    41.42,2,     0.00,2,     3.05,2, -999.000,9, -999.000,9,  -999.00,9,   2346.4,3,   -999.0,9,-999.0000,9,   -999.0,  9,  -999.00,9,   -999.0,  -999.00,9,  -999.00,9,  -999.00,9,  -999.00,9,   -999.0,-999.0000, -999,9,  801,   3.6072,  27.2479,   -999.0,9
     RF07-06-1,  165E,RF-2942,  1,      6,02-18560,2,20070614,1206, 39.9953, 164.9913, 5463,    911.5,   3.3970,  34.3188,2,   -999.0,9,-999.0000,9,     36.6,2,   131.07,2,  -999.00,9,    42.19,2,     0.00,2,     3.11,2, -999.000,9, -999.000,9,  -999.00,9,   2354.9,3,   -999.0,9,-999.0000,9,   -999.0,  9,  -999.00,9,   -999.0,  -999.00,9,  -999.00,9,  -999.00,9,  -999.00,9,   -999.0,-999.0000, -999,9,  903,   3.3332,  27.3103,   -999.0,9
     RF07-06-1,  165E,RF-2942,  1,      5,02-18559,2,20070614,1204, 39.9953, 164.9913, 5463,   1011.9,   3.1628,  34.3613,2,   -999.0,9,  34.3605,2,     34.4,2,   137.24,2,  -999.00,9,    42.41,2,     0.00,2,     3.13,2, -999.000,9, -999.000,9,  -999.00,9,   2360.8,3,   -999.0,9,-999.0000,9,   -999.0,  9,  -999.00,9,   -999.0,  -999.00,9,  -999.00,9,  -999.00,9,  -999.00,9,   -999.0,-999.0000, -999,9, 1002,   3.0930,  27.3667,   -999.0,9
     RF07-06-1,  165E,RF-2942,  1,      4,02-18558,2,20070614,1158, 39.9953, 164.9913, 5463,   1265.5,   2.6623,  34.4477,2,   -999.0,9,  34.4469,2,     34.3,2,   150.09,2,  -999.00,9,    42.93,2,     0.00,2,     3.16,2, -999.000,9, -999.000,9,  -999.00,9,   2380.6,3,   -999.0,9,-999.0000,9,   -999.0,  9,  -999.00,9,   -999.0,  -999.00,9,  -999.00,9,  -999.00,9,  -999.00,9,   -999.0,-999.0000, -999,9, 1252,   2.5772,  27.4816,   -999.0,9
     RF07-06-1,  165E,RF-2942,  1,      3,02-18557,2,20070614,1153, 39.9953, 164.9913, 5463,   1518.6,   2.3599,  34.5045,2,   -999.0,9,  34.5050,2,     41.1,2,   157.21,2,  -999.00,9,    42.70,2,     0.00,2,     3.13,2, -999.000,9, -999.000,9,  -999.00,9,   2383.4,3,   -999.0,9,-999.0000,9,   -999.0,  9,  -999.00,9,   -999.0,  -999.00,9,  -999.00,9,  -999.00,9,  -999.00,9,   -999.0,-999.0000, -999,9, 1502,   2.2582,  27.5539,   -999.0,9
     RF07-06-1,  165E,RF-2942,  1,      2,02-18556,2,20070614,1148, 39.9953, 164.9913, 5463,   1772.5,   2.1348,  34.5521,2,   -999.0,9,  34.5514,2,     52.2,2,   161.10,2,  -999.00,9,    42.16,2,     0.00,2,     3.08,2, -999.000,9, -999.000,9,  -999.00,9,   2381.3,3,   -999.0,9,-999.0000,9,   -999.0,  9,  -999.00,9,   -999.0,  -999.00,9,  -999.00,9,  -999.00,9,  -999.00,9,   -999.0,-999.0000, -999,9, 1751,   2.0155,  27.6116,   -999.0,9
     RF07-06-1,  165E,RF-2942,  1,      1,02-18555,2,20070614,1143, 39.9953, 164.9913, 5463,   2026.3,   1.9493,  34.5897,2,   -999.0,9,  34.5891,2,     67.0,2,   163.13,2,  -999.00,9,    41.31,2,     0.00,2,     2.99,2, -999.000,9, -999.000,9,  -999.00,9,   2373.4,3,   -999.0,9,-999.0000,9,   -999.0,  9,  -999.00,9,   -999.0,  -999.00,9,  -999.00,9,  -999.00,9,  -999.00,9,   -999.0,-999.0000, -999,9, 2001,   1.8116,  27.6576,   -999.0,9