BOTTLE,20130510GEMDJMAYT
EXPOCODE,SECT_ID,STNNBR,CASTNO,SAMPNO,BTLNBR,BTLNBR_FLAG_W,DATE,TIME,LATITUDE,LONGITUDE,DEPTH,CTDPRS,CTDTMP,CTDSAL,CTDSAL_FLAG_W,CTDOXY,CTDOXY_FLAG_W,SALNTY,SALNTY_FLAG_W,OXYGEN,OXYGEN_FLAG_W,SILCAT,SILCAT_FLAG_W,NITRAT,NITRAT_FLAG_W,NO2+NO3,NO2+NO3_FLAG_W,NITRIT,NITRIT_FLAG_W,PHSPHT,PHSPHT_FLAG_W,CFC-11,CFC-11_FLAG_W,CFC-12,CFC-12_FLAG_W,DELC13,DELC13_FLAG_W,TCARBN,TCARBN_FLAG_W,ALKALI,ALKALI_FLAG_W,PH,PH_FLAG_W,PH_TMP,PH_SCALE,PH_NBS,PH_NBS_FLAG_W,C13ERR,TOTALP,TOTALP_FLAG_W,AMMONI,AMMONI_FLAG_W,CHLORA,CHLORA_FLAG_W,PPHYTN,PPHYTN_FLAG_W,REVPRS,REVTMP,DEPTH_,DEPTH_FLAG,CTDDEP,THETA,SIGTHT,DOC,DOC_FLAG_W
,,,,,,,GMT,GMT,,,METER,DBAR,ITS-90,PSS-78,,UMOL/KG,,PSS-78,,UMOL/KG,,UMOL/KG,,UMOL/KG,,UMOL/KG,,UMOL/KG,,UMOL/KG,,PMOL/KG,,PMOL/KG,,/MILLE,,UMOL/KG,,UMOL/KG,,25_DEG_C,,DEG_C,,,,/MILLE,UMOL/KG,,UMOL/KG,,UG/L,,UG/L,,DBAR,ITS-90,METERS,,METERS,DEG_C,,UMOL/L,
     RF07-06-1,  165E,RF-2967,  1,     -9,      -9,5,20070621,0640, 14.9947, 164.9922, 5217,      0.0,  28.7281,  34.1543,2,   -999.0,9,-999.0000,9,    196.4,2,     1.86,2,  -999.00,9,     0.01,2,     0.00,2,     0.03,2, -999.000,9, -999.000,9,  -999.00,9,   1902.8,3,   -999.0,9,-999.0000,9,   -999.0,  9,  -999.00,9,   -999.0,  -999.00,9,  -999.00,9,     0.05,2,     0.02,2,   -999.0,-999.0000, -999,9,    0,  28.7279,  21.5196,   -999.0,9
     RF07-06-1,  165E,RF-2967,  1,     21,02-18575,2,20070621,0700, 14.9947, 164.9922, 5217,     10.8,  28.7309,  34.1544,2,   -999.0,9,  34.1537,2,    196.8,2,     1.80,2,  -999.00,9,     0.00,2,     0.00,2,     0.04,2, -999.000,9, -999.000,9,  -999.00,9,   1899.0,3,   -999.0,9,-999.0000,9,   -999.0,  9,  -999.00,9,   -999.0,  -999.00,9,  -999.00,9,     0.06,2,     0.02,2,   -999.0,-999.0000, -999,9,   11,  28.7283,  21.5196,   -999.0,9
     RF07-06-1,  165E,RF-2967,  1,     20,02-18574,2,20070621,0659, 14.9947, 164.9922, 5217,     25.1,  28.7361,  34.1538,2,   -999.0,9,-999.0000,9,    196.6,2,     1.69,2,  -999.00,9,     0.00,2,     0.00,2,     0.03,2, -999.000,9, -999.000,9,  -999.00,9,   1901.1,3,   -999.0,9,-999.0000,9,   -999.0,  9,  -999.00,9,   -999.0,  -999.00,9,  -999.00,9,     0.05,2,     0.02,2,   -999.0,-999.0000, -999,9,   25,  28.7301,  21.5186,   -999.0,9
     RF07-06-1,  165E,RF-2967,  1,     19,02-18573,2,20070621,0658, 14.9947, 164.9922, 5217,     50.5,  28.7370,  34.1589,2,   -999.0,9,-999.0000,9,    197.4,2,     1.60,2,  -999.00,9,     0.00,2,     0.00,2,     0.04,2, -999.000,9, -999.000,9,  -999.00,9,   1899.9,3,   -999.0,9,-999.0000,9,   -999.0,  9,  -999.00,9,   -999.0,  -999.00,9,  -999.00,9,     0.06,2,     0.02,2,   -999.0,-999.0000, -999,9,   50,  28.7249,  21.5241,   -999.0,9
     RF07-06-1,  165E,RF-2967,  1,     18,02-18572,2,20070621,0657, 14.9947, 164.9922, 5217,     75.8,  27.7766,  34.9205,2,   -999.0,9,-999.0000,9,    207.5,2,     1.48,2,  -999.00,9,     0.00,2,     0.00,2,     0.05,2, -999.000,9, -999.000,9,  -999.00,9,   1947.8,3,   -999.0,9,-999.0000,9,   -999.0,  9,  -999.00,9,   -999.0,  -999.00,9,  -999.00,9,     0.09,2,     0.03,2,   -999.0,-999.0000, -999,9,   75,  27.7589,  22.4134,   -999.0,9
     RF07-06-1,  165E,RF-2967,  1,     17,02-18571,2,20070621,0655, 14.9947, 164.9922, 5217,    100.8,  27.0764,  35.0885,2,   -999.0,9,  35.0865,4,    208.6,2,     1.48,2,  -999.00,9,     0.00,2,     0.00,2,     0.03,2, -999.000,9, -999.000,9,  -999.00,9,   1950.9,3,   -999.0,9,-999.0000,9,   -999.0,  9,  -999.00,9,   -999.0,  -999.00,9,  -999.00,9,     0.15,2,     0.06,2,   -999.0,-999.0000, -999,9,  100,  27.0532,  22.7674,   -999.0,9
     RF07-06-1,  165E,RF-2967,  1,     16,02-18570,2,20070621,0654, 14.9947, 164.9922, 5217,    125.6,  26.2241,  35.1742,2,   -999.0,9,-999.0000,9,    204.7,2,     1.52,2,  -999.00,9,     0.00,2,     0.00,2,     0.03,2, -999.000,9, -999.000,9,  -999.00,9,   1965.4,3,   -999.0,9,-999.0000,9,   -999.0,  9,  -999.00,9,   -999.0,  -999.00,9,  -999.00,9,     0.23,2,     0.14,2,   -999.0,-999.0000, -999,9,  125,  26.1959,  23.1035,   -999.0,9
     RF07-06-1,  165E,RF-2967,  1,     15,02-18569,2,20070621,0652, 14.9947, 164.9922, 5217,    149.9,  25.4069,  35.2394,2,   -999.0,9,-999.0000,9,    202.6,2,     1.61,2,  -999.00,9,     0.00,2,     0.00,2,     0.02,2, -999.000,9, -999.000,9,  -999.00,9,   1972.5,3,   -999.0,9,-999.0000,9,   -999.0,  9,  -999.00,9,   -999.0,  -999.00,9,  -999.00,9,     0.24,2,     0.27,2,   -999.0,-999.0000, -999,9,  149,  25.3740,  23.4078,   -999.0,9
     RF07-06-1,  165E,RF-2967,  1,     14,02-18568,2,20070621,0650, 14.9947, 164.9922, 5217,    202.8,  22.3698,  35.1359,2,   -999.0,9,  35.1336,2,    182.9,2,     2.50,2,  -999.00,9,     1.20,2,     0.02,2,     0.16,2, -999.000,9, -999.000,9,  -999.00,9,   2019.1,3,   -999.0,9,-999.0000,9,   -999.0,  9,  -999.00,9,   -999.0,  -999.00,9,  -999.00,9,     0.06,2,     0.23,2,   -999.0,-999.0000, -999,9,  201,  22.3292,  24.2284,   -999.0,9
     RF07-06-1,  165E,RF-2967,  1,     13,02-18567,2,20070621,0649, 14.9947, 164.9922, 5217,    251.4,  18.0619,  34.8284,2,   -999.0,9,-999.0000,9,    194.6,2,     4.53,2,  -999.00,9,     4.35,2,     0.00,2,     0.31,2, -999.000,9, -999.000,9,  -999.00,9,   2036.1,3,   -999.0,9,-999.0000,9,   -999.0,  9,  -999.00,9,   -999.0,  -999.00,9,  -999.00,9,  -999.00,9,  -999.00,9,   -999.0,-999.0000, -999,9,  250,  18.0186,  25.1360,   -999.0,9
     RF07-06-1,  165E,RF-2967,  1,     12,02-18348,2,20070621,0647, 14.9947, 164.9922, 5217,    302.7,  16.0669,  34.6593,2,   -999.0,9,  34.6550,4,    194.0,2,     7.22,2,  -999.00,9,     7.29,2,     0.00,2,     0.50,2, -999.000,9, -999.000,9,  -999.00,9,   2048.8,3,   -999.0,9,-999.0000,9,   -999.0,  9,  -999.00,9,   -999.0,  -999.00,9,  -999.00,9,  -999.00,9,  -999.00,9,   -999.0,-999.0000, -999,9,  301,  16.0188,  25.4812,   -999.0,9
     RF07-06-1,  165E,RF-2967,  1,     11,02-18565,2,20070621,0644, 14.9947, 164.9922, 5217,    403.9,  10.8577,  34.2640,2,   -999.0,9,  34.2653,2,    147.6,2,    24.62,2,  -999.00,9,    20.04,2,     0.00,2,     1.42,2, -999.000,9, -999.000,9,  -999.00,9,   2134.4,3,   -999.0,9,-999.0000,9,   -999.0,  9,  -999.00,9,   -999.0,  -999.00,9,  -999.00,9,  -999.00,9,  -999.00,9,   -999.0,-999.0000, -999,9,  401,  10.8083,  26.2367,   -999.0,9
     RF07-06-1,  165E,RF-2967,  1,     10,02-18564,2,20070621,0642, 14.9947, 164.9922, 5217,    504.3,   7.6067,  34.2318,2,   -999.0,9,-999.0000,9,     78.2,2,    53.93,2,  -999.00,9,    32.37,2,     0.00,2,     2.32,2, -999.000,9, -999.000,9,  -999.00,9,   2230.7,3,   -999.0,9,-999.0000,9,   -999.0,  9,  -999.00,9,   -999.0,  -999.00,9,  -999.00,9,  -999.00,9,  -999.00,9,   -999.0,-999.0000, -999,9,  501,   7.5567,  26.7353,   -999.0,9
     RF07-06-1,  165E,RF-2967,  1,      9,02-18563,2,20070621,0639, 14.9947, 164.9922, 5217,    605.5,   6.4885,  34.3594,2,   -999.0,9,  34.3553,2,     49.2,2,    69.95,2,  -999.00,9,    37.02,2,     0.00,2,     2.67,2, -999.000,9, -999.000,9,  -999.00,9,   2274.9,3,   -999.0,9,-999.0000,9,   -999.0,  9,  -999.00,9,   -999.0,  -999.00,9,  -999.00,9,  -999.00,9,  -999.00,9,   -999.0,-999.0000, -999,9,  601,   6.4330,  26.9905,   -999.0,9
     RF07-06-1,  165E,RF-2967,  1,      8,02-18562,2,20070621,0637, 14.9947, 164.9922, 5217,    706.1,   5.4898,  34.4460,2,   -999.0,9,-999.0000,9,     51.1,2,    84.90,2,  -999.00,9,    39.11,2,     0.00,2,     2.80,2, -999.000,9, -999.000,9,  -999.00,9,   2296.6,3,   -999.0,9,-999.0000,9,   -999.0,  9,  -999.00,9,   -999.0,  -999.00,9,  -999.00,9,  -999.00,9,  -999.00,9,   -999.0,-999.0000, -999,9,  701,   5.4299,  27.1854,   -999.0,9
     RF07-06-1,  165E,RF-2967,  1,      7,02-18561,2,20070621,0634, 14.9947, 164.9922, 5217,    806.6,   4.9675,  34.4924,2,   -999.0,9,  34.4926,2,     56.5,2,    93.06,2,  -999.00,9,    39.48,2,     0.00,2,     2.81,2, -999.000,9, -999.000,9,  -999.00,9,   2304.4,3,   -999.0,9,-999.0000,9,   -999.0,  9,  -999.00,9,   -999.0,  -999.00,9,  -999.00,9,  -999.00,9,  -999.00,9,   -999.0,-999.0000, -999,9,  800,   4.9016,  27.2841,   -999.0,9
     RF07-06-1,  165E,RF-2967,  1,      6,02-18560,2,20070621,0631, 14.9947, 164.9922, 5217,    908.1,   4.4919,  34.5210,2,   -999.0,9,-999.0000,9,     62.2,2,   100.90,2,  -999.00,9,    39.75,2,     0.00,2,     2.82,2, -999.000,9, -999.000,9,  -999.00,9,   2313.1,3,   -999.0,9,-999.0000,9,   -999.0,  9,  -999.00,9,   -999.0,  -999.00,9,  -999.00,9,  -999.00,9,  -999.00,9,   -999.0,-999.0000, -999,9,  901,   4.4204,  27.3605,   -999.0,9
     RF07-06-1,  165E,RF-2967,  1,      5,02-18559,2,20070621,0629, 14.9947, 164.9922, 5217,   1010.4,   4.0530,  34.5378,2,   -999.0,9,  34.5362,2,     67.1,2,   109.04,2,  -999.00,9,    39.80,2,     0.00,2,     2.82,2, -999.000,9, -999.000,9,  -999.00,9,   2319.6,3,   -999.0,9,-999.0000,9,   -999.0,  9,  -999.00,9,   -999.0,  -999.00,9,  -999.00,9,  -999.00,9,  -999.00,9,   -999.0,-999.0000, -999,9, 1002,   3.9760,  27.4210,   -999.0,9
     RF07-06-1,  165E,RF-2967,  1,      4,02-18558,2,20070621,0623, 14.9947, 164.9922, 5217,   1262.8,   3.3023,  34.5649,2,   -999.0,9,  34.5642,2,     78.5,2,   123.26,2,  -999.00,9,    39.78,2,     0.00,2,     2.79,2, -999.000,9, -999.000,9,  -999.00,9,   2331.4,3,   -999.0,9,-999.0000,9,   -999.0,  9,  -999.00,9,   -999.0,  -999.00,9,  -999.00,9,  -999.00,9,  -999.00,9,   -999.0,-999.0000, -999,9, 1252,   3.2109,  27.5182,   -999.0,9
     RF07-06-1,  165E,RF-2967,  1,      3,02-18557,2,20070621,0617, 14.9947, 164.9922, 5217,   1515.3,   2.7281,  34.5916,2,   -999.0,9,  34.5911,2,     86.3,2,   133.63,2,  -999.00,9,    39.52,2,     0.00,2,     2.75,2, -999.000,9, -999.000,9,  -999.00,9,   2338.3,3,   -999.0,9,-999.0000,9,   -999.0,  9,  -999.00,9,   -999.0,  -999.00,9,  -999.00,9,  -999.00,9,  -999.00,9,   -999.0,-999.0000, -999,9, 1501,   2.6221,  27.5928,   -999.0,9
     RF07-06-1,  165E,RF-2967,  1,      2,02-18556,2,20070621,0611, 14.9947, 164.9922, 5217,   1767.8,   2.2932,  34.6153,2,   -999.0,9,  34.6151,2,     96.3,2,   141.36,2,  -999.00,9,    39.14,2,     0.00,2,     2.71,2, -999.000,9, -999.000,9,  -999.00,9,   2338.5,6,   -999.0,9,-999.0000,9,   -999.0,  9,  -999.00,9,   -999.0,  -999.00,9,  -999.00,9,  -999.00,9,  -999.00,9,   -999.0,-999.0000, -999,9, 1750,   2.1719,  27.6496,   -999.0,9
     RF07-06-1,  165E,RF-2967,  1,      1,02-18555,2,20070621,0605, 14.9947, 164.9922, 5217,   2022.6,   2.0104,  34.6384,2,   -999.0,9,  34.6381,2,    107.6,2,   144.93,2,  -999.00,9,    38.61,2,     0.00,2,     2.65,2, -999.000,9, -999.000,9,  -999.00,9,   2333.2,3,   -999.0,9,-999.0000,9,   -999.0,  9,  -999.00,9,   -999.0,  -999.00,9,  -999.00,9,  -999.00,9,  -999.00,9,   -999.0,-999.0000, -999,9, 2001,   1.8719,  27.6920,   -999.0,9