BOTTLE,20130510GEMDJMAYT
EXPOCODE,SECT_ID,STNNBR,CASTNO,SAMPNO,BTLNBR,BTLNBR_FLAG_W,DATE,TIME,LATITUDE,LONGITUDE,DEPTH,CTDPRS,CTDTMP,CTDSAL,CTDSAL_FLAG_W,CTDOXY,CTDOXY_FLAG_W,SALNTY,SALNTY_FLAG_W,OXYGEN,OXYGEN_FLAG_W,SILCAT,SILCAT_FLAG_W,NITRAT,NITRAT_FLAG_W,NO2+NO3,NO2+NO3_FLAG_W,NITRIT,NITRIT_FLAG_W,PHSPHT,PHSPHT_FLAG_W,CFC-11,CFC-11_FLAG_W,CFC-12,CFC-12_FLAG_W,DELC13,DELC13_FLAG_W,TCARBN,TCARBN_FLAG_W,ALKALI,ALKALI_FLAG_W,PH,PH_FLAG_W,PH_TMP,PH_SCALE,PH_NBS,PH_NBS_FLAG_W,C13ERR,TOTALP,TOTALP_FLAG_W,AMMONI,AMMONI_FLAG_W,CHLORA,CHLORA_FLAG_W,PPHYTN,PPHYTN_FLAG_W,REVPRS,REVTMP,DEPTH_,DEPTH_FLAG,CTDDEP,THETA,SIGTHT,DOC,DOC_FLAG_W
,,,,,,,GMT,GMT,,,METER,DBAR,ITS-90,PSS-78,,UMOL/KG,,PSS-78,,UMOL/KG,,UMOL/KG,,UMOL/KG,,UMOL/KG,,UMOL/KG,,UMOL/KG,,PMOL/KG,,PMOL/KG,,/MILLE,,UMOL/KG,,UMOL/KG,,25_DEG_C,,DEG_C,,,,/MILLE,UMOL/KG,,UMOL/KG,,UG/L,,UG/L,,DBAR,ITS-90,METERS,,METERS,DEG_C,,UMOL/L,
     RF07-06-1,  165E,RF-2979,  1,     -9,      -9,5,20070704,2315,  3.0018, 164.9937, 4238,      0.0,  29.9014,  34.5846,2,   -999.0,9,-999.0000,9,    193.1,2,     1.48,2,  -999.00,9,     0.00,2,     0.00,2,     0.11,2, -999.000,9, -999.000,9,  -999.00,9,   -999.0,9,   -999.0,9,-999.0000,9,   -999.0,  9,  -999.00,9,   -999.0,  -999.00,9,  -999.00,9,     0.08,2,     0.04,2,   -999.0,-999.0000, -999,9,    0,  29.9012,  21.4485,   -999.0,9
     RF07-06-1,  165E,RF-2979,  1,     21,02-18575,2,20070704,2324,  3.0018, 164.9937, 4238,     12.0,  29.8634,  34.5842,2,   -999.0,9,  34.5838,2,    193.4,2,     1.44,2,  -999.00,9,     0.00,2,     0.00,2,     0.11,2, -999.000,9, -999.000,9,  -999.00,9,   -999.0,9,   -999.0,9,-999.0000,9,   -999.0,  9,  -999.00,9,   -999.0,  -999.00,9,  -999.00,9,     0.08,2,     0.04,2,   -999.0,-999.0000, -999,9,   12,  29.8604,  21.4620,   -999.0,9
     RF07-06-1,  165E,RF-2979,  1,     20,02-18574,2,20070704,2322,  3.0018, 164.9937, 4238,     26.8,  29.8542,  34.5935,2,   -999.0,9,-999.0000,9,    193.3,2,     1.38,2,  -999.00,9,     0.00,2,     0.00,2,     0.11,2, -999.000,9, -999.000,9,  -999.00,9,   -999.0,9,   -999.0,9,-999.0000,9,   -999.0,  9,  -999.00,9,   -999.0,  -999.00,9,  -999.00,9,     0.09,2,     0.05,2,   -999.0,-999.0000, -999,9,   27,  29.8476,  21.4734,   -999.0,9
     RF07-06-1,  165E,RF-2979,  1,     19,02-18573,2,20070704,2321,  3.0018, 164.9937, 4238,     52.4,  29.8701,  34.6368,2,   -999.0,9,-999.0000,9,    193.5,2,     1.40,2,  -999.00,9,     0.00,2,     0.00,2,     0.11,2, -999.000,9, -999.000,9,  -999.00,9,   -999.0,9,   -999.0,9,-999.0000,9,   -999.0,  9,  -999.00,9,   -999.0,  -999.00,9,  -999.00,9,     0.13,2,     0.08,2,   -999.0,-999.0000, -999,9,   52,  29.8571,  21.5026,   -999.0,9
     RF07-06-1,  165E,RF-2979,  1,     18,02-18572,2,20070704,2320,  3.0018, 164.9937, 4238,     75.3,  29.8856,  34.6676,2,   -999.0,9,-999.0000,9,    193.3,2,     1.42,2,  -999.00,9,     0.00,2,     0.00,2,     0.11,2, -999.000,9, -999.000,9,  -999.00,9,   -999.0,9,   -999.0,9,-999.0000,9,   -999.0,  9,  -999.00,9,   -999.0,  -999.00,9,  -999.00,9,     0.18,2,     0.11,2,   -999.0,-999.0000, -999,9,   75,  29.8670,  21.5223,   -999.0,9
     RF07-06-1,  165E,RF-2979,  1,     17,02-18571,2,20070704,2319,  3.0018, 164.9937, 4238,    103.3,  29.0234,  34.9089,2,   -999.0,9,  34.8917,4,    187.4,2,     1.71,2,  -999.00,9,     0.10,2,     0.02,2,     0.18,2, -999.000,9, -999.000,9,  -999.00,9,   -999.0,9,   -999.0,9,-999.0000,9,   -999.0,  9,  -999.00,9,   -999.0,  -999.00,9,  -999.00,9,     0.23,2,     0.23,2,   -999.0,-999.0000, -999,9,  103,  28.9984,  21.9962,   -999.0,9
     RF07-06-1,  165E,RF-2979,  1,     16,02-18570,2,20070704,2317,  3.0018, 164.9937, 4238,    127.6,  25.2200,  34.7510,2,   -999.0,9,-999.0000,9,    159.2,2,     3.73,2,  -999.00,9,     4.88,2,     0.15,2,     0.37,2, -999.000,9, -999.000,9,  -999.00,9,   -999.0,9,   -999.0,9,-999.0000,9,   -999.0,  9,  -999.00,9,   -999.0,  -999.00,9,  -999.00,9,     0.09,2,     0.28,2,   -999.0,-999.0000, -999,9,  127,  25.1922,  23.0945,   -999.0,9
     RF07-06-1,  165E,RF-2979,  1,     15,02-18569,2,20070704,2316,  3.0018, 164.9937, 4238,    153.4,  20.5701,  34.7385,2,   -999.0,9,-999.0000,9,    146.2,2,     8.17,2,  -999.00,9,     8.48,2,     0.01,2,     0.61,2, -999.000,9, -999.000,9,  -999.00,9,   -999.0,9,   -999.0,9,-999.0000,9,   -999.0,  9,  -999.00,9,   -999.0,  -999.00,9,  -999.00,9,     0.03,2,     0.05,2,   -999.0,-999.0000, -999,9,  152,  20.5412,  24.4186,   -999.0,9
     RF07-06-1,  165E,RF-2979,  1,     14,02-18568,2,20070704,2314,  3.0018, 164.9937, 4238,    203.8,  12.2567,  34.5130,2,   -999.0,9,  34.5130,2,    117.4,2,    27.22,2,  -999.00,9,    22.05,2,     0.00,2,     1.52,2, -999.000,9, -999.000,9,  -999.00,9,   -999.0,9,   -999.0,9,-999.0000,9,   -999.0,  9,  -999.00,9,   -999.0,  -999.00,9,  -999.00,9,     0.00,2,     0.02,2,   -999.0,-999.0000, -999,9,  203,  12.2299,  26.1668,   -999.0,9
     RF07-06-1,  165E,RF-2979,  1,     13,02-18567,2,20070704,2312,  3.0018, 164.9937, 4238,    254.1,   9.9374,  34.5373,2,   -999.0,9,-999.0000,9,     81.3,2,    38.54,2,  -999.00,9,    29.77,2,     0.00,2,     2.07,2, -999.000,9, -999.000,9,  -999.00,9,   -999.0,9,   -999.0,9,-999.0000,9,   -999.0,  9,  -999.00,9,   -999.0,  -999.00,9,  -999.00,9,  -999.00,9,  -999.00,9,   -999.0,-999.0000, -999,9,  253,   9.9081,  26.6062,   -999.0,9
     RF07-06-1,  165E,RF-2979,  1,     12,02-18348,2,20070704,2310,  3.0018, 164.9937, 4238,    304.9,   9.1978,  34.5883,2,   -999.0,9,  34.5898,2,     65.0,2,    40.81,2,  -999.00,9,    32.77,2,     0.00,2,     2.29,2, -999.000,9, -999.000,9,  -999.00,9,   -999.0,9,   -999.0,9,-999.0000,9,   -999.0,  9,  -999.00,9,   -999.0,  -999.00,9,  -999.00,9,  -999.00,9,  -999.00,9,   -999.0,-999.0000, -999,9,  303,   9.1642,  26.7693,   -999.0,9
     RF07-06-1,  165E,RF-2979,  1,     11,02-18565,2,20070704,2308,  3.0018, 164.9937, 4238,    404.5,   8.3144,  34.5936,2,   -999.0,9,  34.5939,2,     97.2,2,    40.82,2,  -999.00,9,    31.71,2,     0.00,2,     2.20,2, -999.000,9, -999.000,9,  -999.00,9,   -999.0,9,   -999.0,9,-999.0000,9,   -999.0,  9,  -999.00,9,   -999.0,  -999.00,9,  -999.00,9,  -999.00,9,  -999.00,9,   -999.0,-999.0000, -999,9,  402,   8.2722,  26.9136,   -999.0,9
     RF07-06-1,  165E,RF-2979,  1,     10,02-18564,2,20070704,2305,  3.0018, 164.9937, 4238,    506.0,   7.5498,  34.5738,2,   -999.0,9,-999.0000,9,     82.1,2,    47.10,2,  -999.00,9,    34.62,2,     0.00,2,     2.42,2, -999.000,9, -999.000,9,  -999.00,9,   -999.0,9,   -999.0,9,-999.0000,9,   -999.0,  9,  -999.00,9,   -999.0,  -999.00,9,  -999.00,9,  -999.00,9,  -999.00,9,   -999.0,-999.0000, -999,9,  503,   7.4996,  27.0125,   -999.0,9
     RF07-06-1,  165E,RF-2979,  1,      9,02-18563,2,20070704,2302,  3.0018, 164.9937, 4238,    604.6,   6.5266,  34.5495,2,   -999.0,9,  34.5484,2,     75.5,2,    58.78,2,  -999.00,9,    37.10,2,     0.00,2,     2.64,2, -999.000,9, -999.000,9,  -999.00,9,   -999.0,9,   -999.0,9,-999.0000,9,   -999.0,  9,  -999.00,9,   -999.0,  -999.00,9,  -999.00,9,  -999.00,9,  -999.00,9,   -999.0,-999.0000, -999,9,  600,   6.4709,  27.1356,   -999.0,9
     RF07-06-1,  165E,RF-2979,  1,      8,02-18562,2,20070704,2259,  3.0018, 164.9937, 4238,    707.6,   5.8978,  34.5424,2,   -999.0,9,-999.0000,9,     77.0,2,    68.21,2,  -999.00,9,    37.96,2,     0.00,2,     2.71,2, -999.000,9, -999.000,9,  -999.00,9,   -999.0,9,   -999.0,9,-999.0000,9,   -999.0,  9,  -999.00,9,   -999.0,  -999.00,9,  -999.00,9,  -999.00,9,  -999.00,9,   -999.0,-999.0000, -999,9,  702,   5.8355,  27.2118,   -999.0,9
     RF07-06-1,  165E,RF-2979,  1,      7,02-18561,2,20070704,2256,  3.0018, 164.9937, 4238,    809.3,   5.2988,  34.5429,2,   -999.0,9,  34.5426,2,     88.1,2,    75.83,2,  -999.00,9,    37.85,2,     0.00,2,     2.70,2, -999.000,9, -999.000,9,  -999.00,9,   -999.0,9,   -999.0,9,-999.0000,9,   -999.0,  9,  -999.00,9,   -999.0,  -999.00,9,  -999.00,9,  -999.00,9,  -999.00,9,   -999.0,-999.0000, -999,9,  803,   5.2306,  27.2859,   -999.0,9
     RF07-06-1,  165E,RF-2979,  1,      6,02-18560,2,20070704,2253,  3.0018, 164.9937, 4238,    908.4,   4.9116,  34.5480,2,   -999.0,9,-999.0000,9,     90.2,2,    82.55,2,  -999.00,9,    38.26,2,     0.00,2,     2.73,2, -999.000,9, -999.000,9,  -999.00,9,   -999.0,9,   -999.0,9,-999.0000,9,   -999.0,  9,  -999.00,9,   -999.0,  -999.00,9,  -999.00,9,  -999.00,9,  -999.00,9,   -999.0,-999.0000, -999,9,  901,   4.8371,  27.3356,   -999.0,9
     RF07-06-1,  165E,RF-2979,  1,      5,02-18559,2,20070704,2250,  3.0018, 164.9937, 4238,   1009.2,   4.4550,  34.5581,2,   -999.0,9,  34.5577,2,     86.9,2,    93.54,2,  -999.00,9,    38.79,2,     0.00,2,     2.78,2, -999.000,9, -999.000,9,  -999.00,9,   -999.0,9,   -999.0,9,-999.0000,9,   -999.0,  9,  -999.00,9,   -999.0,  -999.00,9,  -999.00,9,  -999.00,9,  -999.00,9,   -999.0,-999.0000, -999,9, 1001,   4.3750,  27.3949,   -999.0,9
     RF07-06-1,  165E,RF-2979,  1,      4,02-18558,2,20070704,2245,  3.0018, 164.9937, 4238,   1260.8,   3.6339,  34.5813,2,   -999.0,9,  34.5810,2,     90.5,2,   109.49,2,  -999.00,9,    39.27,2,     0.00,2,     2.82,2, -999.000,9, -999.000,9,  -999.00,9,   -999.0,9,   -999.0,9,-999.0000,9,   -999.0,  9,  -999.00,9,   -999.0,  -999.00,9,  -999.00,9,  -999.00,9,  -999.00,9,   -999.0,-999.0000, -999,9, 1250,   3.5394,  27.4996,   -999.0,9
     RF07-06-1,  165E,RF-2979,  1,      3,02-18557,2,20070704,2240,  3.0018, 164.9937, 4238,   1515.0,   2.9707,  34.6054,2,   -999.0,9,  34.6066,2,     97.7,2,   123.89,2,  -999.00,9,    39.07,2,     0.00,2,     2.79,2, -999.000,9, -999.000,9,  -999.00,9,   -999.0,9,   -999.0,9,-999.0000,9,   -999.0,  9,  -999.00,9,   -999.0,  -999.00,9,  -999.00,9,  -999.00,9,  -999.00,9,   -999.0,-999.0000, -999,9, 1501,   2.8619,  27.5826,   -999.0,9
     RF07-06-1,  165E,RF-2979,  1,      2,02-18556,2,20070704,2235,  3.0018, 164.9937, 4238,   1767.7,   2.5578,  34.6229,2,   -999.0,9,  34.6224,2,    106.7,2,   131.67,2,  -999.00,9,    38.70,2,     0.00,2,     2.74,2, -999.000,9, -999.000,9,  -999.00,9,   -999.0,9,   -999.0,9,-999.0000,9,   -999.0,  9,  -999.00,9,   -999.0,  -999.00,9,  -999.00,9,  -999.00,9,  -999.00,9,   -999.0,-999.0000, -999,9, 1751,   2.4329,  27.6341,   -999.0,9
     RF07-06-1,  165E,RF-2979,  1,      1,02-18555,2,20070704,2229,  3.0018, 164.9937, 4238,   2023.2,   2.1692,  34.6426,2,   -999.0,9,  34.6442,2,    112.8,2,   139.67,2,  -999.00,9,    38.48,2,     0.00,2,     2.71,2, -999.000,9, -999.000,9,  -999.00,9,   -999.0,9,   -999.0,9,-999.0000,9,   -999.0,  9,  -999.00,9,   -999.0,  -999.00,9,  -999.00,9,  -999.00,9,  -999.00,9,   -999.0,-999.0000, -999,9, 2002,   2.0282,  27.6831,   -999.0,9