BOTTLE,20130510GEMDJMAYT
# 05/09/2013: Correct the error of converted time from JST to GMT.
#BOTTLE,20121206MIRCJHATS
# 12/06/2012: Change BTLNBR_FLAG_W: 8 to 5 at lines of BTLNBR = -9.
# 08/15/2008: JMA TCARBN data to be reported
# 08/15/2008: MRI TCARBN data reported by M. Ishii
# 08/14/2008: pH(TOTAL HYDROGEN SCALE) data reported
# 08/20/2008: SECT_ID was revised for the stations RF-2972,2974
# 08/28/2008: TCARBN data updated
# 02/19/2009 : pH scale specified in header.
# 02/19/2009 : NO2+NO3 label corrected in header.
# 04/23/2009 : TCARBN data measured by JMA revised according to the check by N.Ito (JMA).
# 10/01/2009 : QF of TCARBN at RF-3018, RF-3020, RF-3023, RF-3030, RF-3035 and OXYGEN at RF-3018, RF-3033 revised.
# 04/05/2010 : Separate csvfile 49RY20070606 -> 49RY20070606 & 49RY20070724
# 04/05/2010 : pH scale specified in header, corrected for QF of CTDSAL (5 -> 2), converted time from JST to GMT
EXPOCODE,SECT_ID,STNNBR,CASTNO,SAMPNO,BTLNBR,BTLNBR_FLAG_W,DATE,TIME,LATITUDE,LONGITUDE,DEPTH,CTDPRS,CTDTMP,CTDSAL,CTDSAL_FLAG_W,CTDOXY,CTDOXY_FLAG_W,SALNTY,SALNTY_FLAG_W,OXYGEN,OXYGEN_FLAG_W,SILCAT,SILCAT_FLAG_W,NITRAT,NITRAT_FLAG_W,NO2+NO3,NO2+NO3_FLAG_W,NITRIT,NITRIT_FLAG_W,PHSPHT,PHSPHT_FLAG_W,CFC-11,CFC-11_FLAG_W,CFC-12,CFC-12_FLAG_W,DELC13,DELC13_FLAG_W,TCARBN,TCARBN_FLAG_W,ALKALI,ALKALI_FLAG_W,PH,PH_FLAG_W,PH_TMP,PH_SCALE,PH_NBS,PH_NBS_FLAG_W,C13ERR,TOTALP,TOTALP_FLAG_W,AMMONI,AMMONI_FLAG_W,CHLORA,CHLORA_FLAG_W,PPHYTN,PPHYTN_FLAG_W,REVPRS,REVTMP,DEPTH_,DEPTH_FLAG,CTDDEP,THETA,SIGTHT,DOC,DOC_FLAG_W
,,,,,,,GMT,GMT,,,METER,DBAR,ITS-90,PSS-78,,UMOL/KG,,PSS-78,,UMOL/KG,,UMOL/KG,,UMOL/KG,,UMOL/KG,,UMOL/KG,,UMOL/KG,,PMOL/KG,,PMOL/KG,,/MILLE,,UMOL/KG,,UMOL/KG,,25_DEG_C,,DEG_C,,,,/MILLE,UMOL/KG,,UMOL/KG,,UG/L,,UG/L,,DBAR,ITS-90,METERS,,METERS,DEG_C,,UMOL/L,
     RF07-06-1,  165E,RF-2932,  1,     -9,      -9,5,20070611,0759, 50.0128, 165.0097, 5527,      0.0,   5.3956,  33.0498,2,   -999.0,9,-999.0000,9,    320.7,2,    51.56,2,  -999.00,9,    23.69,2,     0.27,2,     1.80,2, -999.000,9, -999.000,9,  -999.00,9,   2098.5,2,   -999.0,9,-999.0000,9,   -999.0,  9,  -999.00,9,   -999.0,  -999.00,9,  -999.00,9,     0.31,2,     0.13,2,   -999.0,-999.0000, -999,9,    0,   5.3955,  26.0842,   -999.0,9
     RF07-06-1,  165E,RF-2932,  1,     24,02-18578,2,20070611,0814, 50.0128, 165.0097, 5527,     11.7,   5.3919,  33.0498,2,   -999.0,9,  33.0525,2,    321.8,2,    51.67,2,  -999.00,9,    23.75,2,     0.27,2,     1.80,2, -999.000,9, -999.000,9,  -999.00,9,   2100.9,2,   -999.0,9,-999.0000,9,   -999.0,  9,  -999.00,9,   -999.0,  -999.00,9,  -999.00,9,  -999.00,9,  -999.00,9,   -999.0,-999.0000, -999,9,   12,   5.3910,  26.0847,   -999.0,9
     RF07-06-1,  165E,RF-2932,  1,     23,02-18577,2,20070611,0813, 50.0128, 165.0097, 5527,     26.7,   4.9781,  33.0528,2,   -999.0,9,-999.0000,9,    325.4,2,    52.06,2,  -999.00,9,    24.01,2,     0.27,2,     1.83,2, -999.000,9, -999.000,9,  -999.00,9,   2100.9,2,   -999.0,9,-999.0000,9,   -999.0,  9,  -999.00,9,   -999.0,  -999.00,9,  -999.00,9,     0.38,2,     0.26,2,   -999.0,-999.0000, -999,9,   26,   4.9761,  26.1343,   -999.0,9
     RF07-06-1,  165E,RF-2932,  1,     22,02-18576,2,20070611,0810, 50.0128, 165.0097, 5527,     52.2,   3.3786,  33.0687,2,   -999.0,9,-999.0000,9,    321.6,2,    53.43,2,  -999.00,9,    25.96,2,     0.44,2,     1.96,2, -999.000,9, -999.000,9,  -999.00,9,   2122.9,2,   -999.0,9,-999.0000,9,   -999.0,  9,  -999.00,9,   -999.0,  -999.00,9,  -999.00,9,     0.27,2,     0.18,2,   -999.0,-999.0000, -999,9,   52,   3.3754,  26.3098,   -999.0,9
     RF07-06-1,  165E,RF-2932,  1,     21,02-18575,2,20070611,0809, 50.0128, 165.0097, 5527,     78.1,   3.1121,  33.0865,2,   -999.0,9,-999.0000,9,    317.9,2,    54.80,2,  -999.00,9,    26.89,2,     0.09,2,     2.02,2, -999.000,9, -999.000,9,  -999.00,9,   2129.0,2,   -999.0,9,-999.0000,9,   -999.0,  9,  -999.00,9,   -999.0,  -999.00,9,  -999.00,9,     0.05,2,     0.12,2,   -999.0,-999.0000, -999,9,   77,   3.1075,  26.3482,   -999.0,9
     RF07-06-1,  165E,RF-2932,  1,     20,02-18574,2,20070611,0807, 50.0128, 165.0097, 5527,    102.3,   3.0401,  33.1145,2,   -999.0,9,  33.1171,2,    314.5,2,    56.35,2,  -999.00,9,    27.53,2,     0.00,2,     2.07,2, -999.000,9, -999.000,9,  -999.00,9,   2135.9,2,   -999.0,9,-999.0000,9,   -999.0,  9,  -999.00,9,   -999.0,  -999.00,9,  -999.00,9,     0.05,2,     0.06,2,   -999.0,-999.0000, -999,9,  101,   3.0341,  26.3771,   -999.0,9
     RF07-06-1,  165E,RF-2932,  1,     19,02-18573,2,20070611,0806, 50.0128, 165.0097, 5527,    112.5,   3.0264,  33.1245,2,   -999.0,9,-999.0000,9,    312.6,2,    57.04,2,  -999.00,9,    27.83,2,     0.00,2,     2.08,2, -999.000,9, -999.000,9,  -999.00,9,   2138.4,2,   -999.0,9,-999.0000,9,   -999.0,  9,  -999.00,9,   -999.0,  -999.00,9,  -999.00,9,  -999.00,9,  -999.00,9,   -999.0,-999.0000, -999,9,  112,   3.0198,  26.3863,   -999.0,9
     RF07-06-1,  165E,RF-2932,  1,     18,02-18572,2,20070611,0804, 50.0128, 165.0097, 5527,    123.2,   2.9968,  33.1361,2,   -999.0,9,-999.0000,9,    309.1,2,    57.86,2,  -999.00,9,    28.22,2,     0.00,2,     2.10,2, -999.000,9, -999.000,9,  -999.00,9,   2142.1,2,   -999.0,9,-999.0000,9,   -999.0,  9,  -999.00,9,   -999.0,  -999.00,9,  -999.00,9,  -999.00,9,  -999.00,9,   -999.0,-999.0000, -999,9,  122,   2.9896,  26.3982,   -999.0,9
     RF07-06-1,  165E,RF-2932,  1,     17,02-18571,2,20070611,0804, 50.0128, 165.0097, 5527,    128.0,   3.0215,  33.1436,2,   -999.0,9,-999.0000,9,    307.8,2,    58.08,2,  -999.00,9,    28.23,2,     0.00,2,     2.11,2, -999.000,9, -999.000,9,  -999.00,9,   2138.0,2,   -999.0,9,-999.0000,9,   -999.0,  9,  -999.00,9,   -999.0,  -999.00,9,  -999.00,9,     0.03,2,     0.05,2,   -999.0,-999.0000, -999,9,  127,   3.0140,  26.4020,   -999.0,9
     RF07-06-1,  165E,RF-2932,  1,     16,02-18570,2,20070611,0802, 50.0128, 165.0097, 5527,    131.5,   3.1383,  33.1730,2,   -999.0,9,-999.0000,9,    286.8,2,    60.32,2,  -999.00,9,    29.34,2,     0.00,2,     2.18,2, -999.000,9, -999.000,9,  -999.00,9,   2158.3,2,   -999.0,9,-999.0000,9,   -999.0,  9,  -999.00,9,   -999.0,  -999.00,9,  -999.00,9,  -999.00,9,  -999.00,9,   -999.0,-999.0000, -999,9,  130,   3.1304,  26.4153,   -999.0,9
     RF07-06-1,  165E,RF-2932,  1,     15,02-18569,2,20070611,0801, 50.0128, 165.0097, 5527,    153.1,   3.8153,  33.3556,2,   -999.0,9,-999.0000,9,    206.2,2,    70.35,2,  -999.00,9,    33.35,2,     0.00,2,     2.45,2, -999.000,9, -999.000,9,  -999.00,9,   2206.3,2,   -999.0,9,-999.0000,9,   -999.0,  9,  -999.00,9,   -999.0,  -999.00,9,  -999.00,9,     0.01,2,     0.05,2,   -999.0,-999.0000, -999,9,  152,   3.8052,  26.4975,   -999.0,9
     RF07-06-1,  165E,RF-2932,  1,     14,02-18568,2,20070611,0759, 50.0128, 165.0097, 5527,    203.4,   4.1301,  33.5311,2,   -999.0,9,  33.5334,2,    152.4,2,    78.88,2,  -999.00,9,    35.91,2,     0.00,2,     2.63,2, -999.000,9, -999.000,9,  -999.00,9,   2242.7,2,   -999.0,9,-999.0000,9,   -999.0,  9,  -999.00,9,   -999.0,  -999.00,9,  -999.00,9,     0.00,2,     0.02,2,   -999.0,-999.0000, -999,9,  202,   4.1161,  26.6059,   -999.0,9
     RF07-06-1,  165E,RF-2932,  1,     13,02-18567,2,20070611,0757, 50.0128, 165.0097, 5527,    253.7,   4.1214,  33.6678,2,   -999.0,9,-999.0000,9,    114.0,2,    85.53,2,  -999.00,9,    38.19,2,     0.00,2,     2.79,2, -999.000,9, -999.000,9,  -999.00,9,   2272.0,2,   -999.0,9,-999.0000,9,   -999.0,  9,  -999.00,9,   -999.0,  -999.00,9,  -999.00,9,     0.00,2,     0.02,2,   -999.0,-999.0000, -999,9,  251,   4.1038,  26.7158,   -999.0,9
     RF07-06-1,  165E,RF-2932,  1,     12,02-18348,3,20070611,0755, 50.0128, 165.0097, 5527,    304.9,   3.9307,  33.7740,2,   -999.0,9,-999.0000,9,    134.5,2,    85.03,2,  -999.00,9,    37.87,2,     0.01,2,     2.78,2, -999.000,9, -999.000,9,  -999.00,9,   -999.0,9,   -999.0,9,-999.0000,9,   -999.0,  9,  -999.00,9,   -999.0,  -999.00,9,  -999.00,9,     0.03,2,     0.03,2,   -999.0,-999.0000, -999,9,  302,   3.9098,  26.8200,   -999.0,9
     RF07-06-1,  165E,RF-2932,  1,     11,02-18565,2,20070611,0752, 50.0128, 165.0097, 5527,    406.2,   3.9012,  33.9545,2,   -999.0,9,  33.9539,2,     35.2,2,   103.00,2,  -999.00,9,    43.08,2,     0.00,2,     3.15,2, -999.000,9, -999.000,9,  -999.00,9,   2326.9,2,   -999.0,9,-999.0000,9,   -999.0,  9,  -999.00,9,   -999.0,  -999.00,9,  -999.00,9,  -999.00,9,  -999.00,9,   -999.0,-999.0000, -999,9,  402,   3.8730,  26.9674,   -999.0,9
     RF07-06-1,  165E,RF-2932,  1,     10,02-18564,2,20070611,0749, 50.0128, 165.0097, 5527,    507.3,   3.7647,  34.0615,2,   -999.0,9,-999.0000,9,     26.8,2,   112.78,2,  -999.00,9,    43.65,2,     0.00,2,     3.22,2, -999.000,9, -999.000,9,  -999.00,9,   2348.7,2,   -999.0,9,-999.0000,9,   -999.0,  9,  -999.00,9,   -999.0,  -999.00,9,  -999.00,9,  -999.00,9,  -999.00,9,   -999.0,-999.0000, -999,9,  502,   3.7295,  27.0668,   -999.0,9
     RF07-06-1,  165E,RF-2932,  1,      9,02-18563,2,20070611,0746, 50.0128, 165.0097, 5527,    608.7,   3.6196,  34.1400,2,   -999.0,9,  34.1487,4,     19.6,2,   120.65,2,  -999.00,9,    43.67,2,     0.00,2,     3.23,2, -999.000,9, -999.000,9,  -999.00,9,   2359.8,2,   -999.0,9,-999.0000,9,   -999.0,  9,  -999.00,9,   -999.0,  -999.00,9,  -999.00,9,  -999.00,9,  -999.00,9,   -999.0,-999.0000, -999,9,  603,   3.5775,  27.1443,   -999.0,9
     RF07-06-1,  165E,RF-2932,  1,      8,02-18562,2,20070611,0743, 50.0128, 165.0097, 5527,    710.0,   3.4145,  34.2195,2,   -999.0,9,-999.0000,9,     17.4,2,   129.26,2,  -999.00,9,    43.50,2,     0.00,2,     3.22,2, -999.000,9, -999.000,9,  -999.00,9,   2365.9,2,   -999.0,9,-999.0000,9,   -999.0,  9,  -999.00,9,   -999.0,  -999.00,9,  -999.00,9,  -999.00,9,  -999.00,9,   -999.0,-999.0000, -999,9,  703,   3.3659,  27.2280,   -999.0,9
     RF07-06-1,  165E,RF-2932,  1,      7,02-18561,2,20070611,0740, 50.0128, 165.0097, 5527,    811.2,   3.2457,  34.2749,2,   -999.0,9,  34.2734,2,     16.5,2,   135.30,2,  -999.00,9,    43.68,2,     0.00,2,     3.24,2, -999.000,9, -999.000,9,  -999.00,9,   2375.2,2,   -999.0,9,-999.0000,9,   -999.0,  9,  -999.00,9,   -999.0,  -999.00,9,  -999.00,9,  -999.00,9,  -999.00,9,   -999.0,-999.0000, -999,9,  803,   3.1906,  27.2887,   -999.0,9
     RF07-06-1,  165E,RF-2932,  1,      6,02-18560,2,20070611,0737, 50.0128, 165.0097, 5527,    911.6,   3.0793,  34.3217,2,   -999.0,9,-999.0000,9,     16.5,2,   140.96,2,  -999.00,9,    43.78,2,     0.00,2,     3.26,2, -999.000,9, -999.000,9,  -999.00,9,   2380.4,2,   -999.0,9,-999.0000,9,   -999.0,  9,  -999.00,9,   -999.0,  -999.00,9,  -999.00,9,  -999.00,9,  -999.00,9,   -999.0,-999.0000, -999,9,  902,   3.0178,  27.3420,   -999.0,9
     RF07-06-1,  165E,RF-2932,  1,      5,02-18559,2,20070611,0734, 50.0128, 165.0097, 5527,   1013.5,   2.9256,  34.3612,2,   -999.0,9,  34.3604,2,     17.2,2,   145.57,2,  -999.00,9,    43.73,2,     0.00,2,     3.25,2, -999.000,9, -999.000,9,  -999.00,9,   2380.7,2,   -999.0,9,-999.0000,9,   -999.0,  9,  -999.00,9,   -999.0,  -999.00,9,  -999.00,9,  -999.00,9,  -999.00,9,   -999.0,-999.0000, -999,9, 1002,   2.8575,  27.3880,   -999.0,9
     RF07-06-1,  165E,RF-2932,  1,      4,02-18558,2,20070611,0725, 50.0128, 165.0097, 5527,   1267.5,   2.5801,  34.4428,2,   -999.0,9,  34.4434,2,     22.5,2,   154.81,2,  -999.00,9,    43.57,2,     0.00,2,     3.22,2, -999.000,9, -999.000,9,  -999.00,9,   2394.0,2,   -999.0,9,-999.0000,9,   -999.0,  9,  -999.00,9,   -999.0,  -999.00,9,  -999.00,9,  -999.00,9,  -999.00,9,   -999.0,-999.0000, -999,9, 1253,   2.4957,  27.4847,   -999.0,9
     RF07-06-1,  165E,RF-2932,  1,      3,02-18557,2,20070611,0720, 50.0128, 165.0097, 5527,   1520.5,   2.2489,  34.5152,2,   -999.0,9,  34.5142,2,     34.8,2,   162.54,2,  -999.00,9,    42.88,2,     0.00,2,     3.14,2, -999.000,9, -999.000,9,  -999.00,9,   2398.5,2,   -999.0,9,-999.0000,9,   -999.0,  9,  -999.00,9,   -999.0,  -999.00,9,  -999.00,9,  -999.00,9,  -999.00,9,   -999.0,-999.0000, -999,9, 1502,   2.1483,  27.5714,   -999.0,9
     RF07-06-1,  165E,RF-2932,  1,      2,02-18556,2,20070611,0714, 50.0128, 165.0097, 5527,   1775.0,   2.0553,  34.5600,2,   -999.0,9,  34.5586,2,     50.5,2,   165.25,2,  -999.00,9,    42.11,2,     0.00,2,     3.09,2, -999.000,9, -999.000,9,  -999.00,9,   2393.1,2,   -999.0,9,-999.0000,9,   -999.0,  9,  -999.00,9,   -999.0,  -999.00,9,  -999.00,9,  -999.00,9,  -999.00,9,   -999.0,-999.0000, -999,9, 1752,   1.9368,  27.6241,   -999.0,9
     RF07-06-1,  165E,RF-2932,  1,      1,02-18555,2,20070611,0705, 50.0128, 165.0097, 5527,   2028.5,   1.9015,  34.5955,2,   -999.0,9,  34.5948,2,     67.0,2,   165.41,2,  -999.00,9,    41.05,2,     0.00,2,     3.01,2, -999.000,9, -999.000,9,  -999.00,9,   2379.3,2,   -999.0,9,-999.0000,9,   -999.0,  9,  -999.00,9,   -999.0,  -999.00,9,  -999.00,9,  -999.00,9,  -999.00,9,   -999.0,-999.0000, -999,9, 2001,   1.7643,  27.6659,   -999.0,9