BOTTLE,20130510GEMDJMAYT
EXPOCODE,SECT_ID,STNNBR,CASTNO,SAMPNO,BTLNBR,BTLNBR_FLAG_W,DATE,TIME,LATITUDE,LONGITUDE,DEPTH,CTDPRS,CTDTMP,CTDSAL,CTDSAL_FLAG_W,CTDOXY,CTDOXY_FLAG_W,SALNTY,SALNTY_FLAG_W,OXYGEN,OXYGEN_FLAG_W,SILCAT,SILCAT_FLAG_W,NITRAT,NITRAT_FLAG_W,NO2+NO3,NO2+NO3_FLAG_W,NITRIT,NITRIT_FLAG_W,PHSPHT,PHSPHT_FLAG_W,CFC-11,CFC-11_FLAG_W,CFC-12,CFC-12_FLAG_W,DELC13,DELC13_FLAG_W,TCARBN,TCARBN_FLAG_W,ALKALI,ALKALI_FLAG_W,PH,PH_FLAG_W,PH_TMP,PH_SCALE,PH_NBS,PH_NBS_FLAG_W,C13ERR,TOTALP,TOTALP_FLAG_W,AMMONI,AMMONI_FLAG_W,CHLORA,CHLORA_FLAG_W,PPHYTN,PPHYTN_FLAG_W,REVPRS,REVTMP,DEPTH_,DEPTH_FLAG,CTDDEP,THETA,SIGTHT,DOC,DOC_FLAG_W
,,,,,,,GMT,GMT,,,METER,DBAR,ITS-90,PSS-78,,UMOL/KG,,PSS-78,,UMOL/KG,,UMOL/KG,,UMOL/KG,,UMOL/KG,,UMOL/KG,,UMOL/KG,,PMOL/KG,,PMOL/KG,,/MILLE,,UMOL/KG,,UMOL/KG,,25_DEG_C,,DEG_C,,,,/MILLE,UMOL/KG,,UMOL/KG,,UG/L,,UG/L,,DBAR,ITS-90,METERS,,METERS,DEG_C,,UMOL/L,
     RF07-06-1,  165E,RF-2969,  1,     -9,      -9,5,20070702,0630, 13.0110, 164.9740, 5195,      0.0,  28.8618,  34.3150,2,   -999.0,9,-999.0000,9,    196.1,2,     1.20,2,  -999.00,9,     0.03,2,     0.00,2,     0.03,2, -999.000,9, -999.000,9,  -999.00,9,   1917.9,2,   -999.0,9,-999.0000,9,   -999.0,  9,  -999.00,9,   -999.0,  -999.00,9,  -999.00,9,     0.04,2,     0.01,2,   -999.0,-999.0000, -999,9,    0,  28.8616,  21.5959,   -999.0,9
     RF07-06-1,  165E,RF-2969,  1,     21,02-18575,2,20070702,0647, 13.0110, 164.9740, 5195,      9.6,  28.8595,  34.3150,2,   -999.0,9,  34.3152,2,    196.8,2,     1.16,2,  -999.00,9,     0.00,2,     0.00,2,     0.03,2, -999.000,9, -999.000,9,  -999.00,9,   1912.8,2,   -999.0,9,-999.0000,9,   -999.0,  9,  -999.00,9,   -999.0,  -999.00,9,  -999.00,9,     0.04,2,     0.01,2,   -999.0,-999.0000, -999,9,   10,  28.8572,  21.5974,   -999.0,9
     RF07-06-1,  165E,RF-2969,  1,     20,02-18574,2,20070702,0646, 13.0110, 164.9740, 5195,     27.3,  28.7813,  34.3162,2,   -999.0,9,-999.0000,9,    196.5,2,     1.21,2,  -999.00,9,     0.01,2,     0.00,2,     0.02,2, -999.000,9, -999.000,9,  -999.00,9,   1914.4,2,   -999.0,9,-999.0000,9,   -999.0,  9,  -999.00,9,   -999.0,  -999.00,9,  -999.00,9,     0.04,2,     0.01,2,   -999.0,-999.0000, -999,9,   27,  28.7747,  21.6257,   -999.0,9
     RF07-06-1,  165E,RF-2969,  1,     19,02-18573,3,20070702,0645, 13.0110, 164.9740, 5195,     50.8,  28.6394,  34.4537,2,   -999.0,9,-999.0000,9,    196.4,2,     1.15,2,  -999.00,9,     0.00,2,     0.00,2,     0.02,2, -999.000,9, -999.000,9,  -999.00,9,   1919.8,2,   -999.0,9,-999.0000,9,   -999.0,  9,  -999.00,9,   -999.0,  -999.00,9,  -999.00,9,     0.05,2,     0.02,2,   -999.0,-999.0000, -999,9,   51,  28.6272,  21.7778,   -999.0,9
     RF07-06-1,  165E,RF-2969,  1,     18,02-18572,2,20070702,0643, 13.0110, 164.9740, 5195,     77.3,  27.4776,  34.7603,2,   -999.0,9,-999.0000,9,    205.5,2,     1.02,2,  -999.00,9,     0.00,2,     0.00,2,     0.05,2, -999.000,9, -999.000,9,  -999.00,9,   1950.9,2,   -999.0,9,-999.0000,9,   -999.0,  9,  -999.00,9,   -999.0,  -999.00,9,  -999.00,9,     0.07,2,     0.02,2,   -999.0,-999.0000, -999,9,   77,  27.4596,  22.3898,   -999.0,9
     RF07-06-1,  165E,RF-2969,  1,     17,02-18571,2,20070702,0642, 13.0110, 164.9740, 5195,    101.6,  26.7272,  34.9515,2,   -999.0,9,  34.9537,2,    204.9,2,     1.03,2,  -999.00,9,     0.01,2,     0.00,2,     0.06,2, -999.000,9, -999.000,9,  -999.00,9,   1964.3,2,   -999.0,9,-999.0000,9,   -999.0,  9,  -999.00,9,   -999.0,  -999.00,9,  -999.00,9,     0.12,2,     0.06,2,   -999.0,-999.0000, -999,9,  101,  26.7041,  22.7754,   -999.0,9
     RF07-06-1,  165E,RF-2969,  1,     16,02-18570,2,20070702,0641, 13.0110, 164.9740, 5195,    126.6,  25.9461,  34.9831,2,   -999.0,9,-999.0000,9,    201.6,2,     1.11,2,  -999.00,9,     0.00,2,     0.00,2,     0.06,2, -999.000,9, -999.000,9,  -999.00,9,   1971.3,2,   -999.0,9,-999.0000,9,   -999.0,  9,  -999.00,9,   -999.0,  -999.00,9,  -999.00,9,     0.21,2,     0.16,2,   -999.0,-999.0000, -999,9,  126,  25.9179,  23.0462,   -999.0,9
     RF07-06-1,  165E,RF-2969,  1,     15,02-18569,2,20070702,0640, 13.0110, 164.9740, 5195,    151.5,  23.9808,  34.9834,2,   -999.0,9,-999.0000,9,    191.8,2,     1.75,2,  -999.00,9,     0.13,2,     0.06,2,     0.09,2, -999.000,9, -999.000,9,  -999.00,9,   2004.5,2,   -999.0,9,-999.0000,9,   -999.0,  9,  -999.00,9,   -999.0,  -999.00,9,  -999.00,9,     0.16,2,     0.32,2,   -999.0,-999.0000, -999,9,  151,  23.9489,  23.6439,   -999.0,9
     RF07-06-1,  165E,RF-2969,  1,     14,02-18568,2,20070702,0638, 13.0110, 164.9740, 5195,    204.5,  18.7090,  34.8164,2,   -999.0,9,  34.8311,4,    170.1,2,     4.55,2,  -999.00,9,     5.33,2,     0.01,2,     0.36,2, -999.000,9, -999.000,9,  -999.00,9,   2064.9,2,   -999.0,9,-999.0000,9,   -999.0,  9,  -999.00,9,   -999.0,  -999.00,9,  -999.00,9,     0.03,2,     0.11,2,   -999.0,-999.0000, -999,9,  203,  18.6729,  24.9637,   -999.0,9
     RF07-06-1,  165E,RF-2969,  1,     13,02-18567,3,20070702,0636, 13.0110, 164.9740, 5195,    254.4,  14.4060,  34.4766,2,   -999.0,9,-999.0000,9,    166.6,2,    11.34,2,  -999.00,9,    11.87,2,     0.00,2,     0.76,2, -999.000,9, -999.000,9,  -999.00,9,   2093.3,2,   -999.0,9,-999.0000,9,   -999.0,  9,  -999.00,9,   -999.0,  -999.00,9,  -999.00,9,  -999.00,9,  -999.00,9,   -999.0,-999.0000, -999,9,  253,  14.3686,  25.7047,   -999.0,9
     RF07-06-1,  165E,RF-2969,  1,     12,02-18348,2,20070702,0634, 13.0110, 164.9740, 5195,    304.4,  11.3774,  34.2791,2,   -999.0,9,  34.2791,2,    171.0,2,    20.46,2,  -999.00,9,    17.05,2,     0.00,2,     1.11,2, -999.000,9, -999.000,9,  -999.00,9,   2115.2,2,   -999.0,9,-999.0000,9,   -999.0,  9,  -999.00,9,   -999.0,  -999.00,9,  -999.00,9,  -999.00,9,  -999.00,9,   -999.0,-999.0000, -999,9,  302,  11.3392,  26.1525,   -999.0,9
     RF07-06-1,  165E,RF-2969,  1,     11,02-18565,2,20070702,0631, 13.0110, 164.9740, 5195,    407.0,   8.5161,  34.3742,2,   -999.0,9,  34.3704,2,     60.4,2,    47.13,2,  -999.00,9,    32.67,2,     0.00,2,     2.38,2, -999.000,9, -999.000,9,  -999.00,9,   2239.4,3,   -999.0,9,-999.0000,9,   -999.0,  9,  -999.00,9,   -999.0,  -999.00,9,  -999.00,9,  -999.00,9,  -999.00,9,   -999.0,-999.0000, -999,9,  404,   8.4732,  26.7106,   -999.0,9
     RF07-06-1,  165E,RF-2969,  1,     10,02-18564,2,20070702,0628, 13.0110, 164.9740, 5195,    508.3,   7.3069,  34.4688,2,   -999.0,9,-999.0000,9,     50.3,2,    59.42,2,  -999.00,9,    36.24,2,     0.00,2,     2.63,2, -999.000,9, -999.000,9,  -999.00,9,   2268.7,3,   -999.0,9,-999.0000,9,   -999.0,  9,  -999.00,9,   -999.0,  -999.00,9,  -999.00,9,  -999.00,9,  -999.00,9,   -999.0,-999.0000, -999,9,  505,   7.2575,  26.9644,   -999.0,9
     RF07-06-1,  165E,RF-2969,  1,      9,02-18563,2,20070702,0625, 13.0110, 164.9740, 5195,    608.2,   6.6365,  34.4959,2,   -999.0,9,  34.4951,2,     58.1,2,    66.45,2,  -999.00,9,    37.25,2,     0.00,2,     2.70,2, -999.000,9, -999.000,9,  -999.00,9,   2267.3,3,   -999.0,9,-999.0000,9,   -999.0,  9,  -999.00,9,   -999.0,  -999.00,9,  -999.00,9,  -999.00,9,  -999.00,9,   -999.0,-999.0000, -999,9,  604,   6.5800,  27.0787,   -999.0,9
     RF07-06-1,  165E,RF-2969,  1,      8,02-18562,2,20070702,0622, 13.0110, 164.9740, 5195,    706.5,   5.8722,  34.4999,2,   -999.0,9,-999.0000,9,     58.7,2,    77.32,2,  -999.00,9,    38.46,2,     0.00,2,     2.77,2, -999.000,9, -999.000,9,  -999.00,9,   2289.2,3,   -999.0,9,-999.0000,9,   -999.0,  9,  -999.00,9,   -999.0,  -999.00,9,  -999.00,9,  -999.00,9,  -999.00,9,   -999.0,-999.0000, -999,9,  701,   5.8101,  27.1814,   -999.0,9
     RF07-06-1,  165E,RF-2969,  1,      7,02-18561,2,20070702,0620, 13.0110, 164.9740, 5195,    808.1,   5.3574,  34.5194,2,   -999.0,9,  34.5217,2,     58.0,2,    85.20,2,  -999.00,9,    39.48,2,     0.00,2,     2.86,2, -999.000,9, -999.000,9,  -999.00,9,   2300.3,3,   -999.0,9,-999.0000,9,   -999.0,  9,  -999.00,9,   -999.0,  -999.00,9,  -999.00,9,  -999.00,9,  -999.00,9,   -999.0,-999.0000, -999,9,  802,   5.2890,  27.2603,   -999.0,9
     RF07-06-1,  165E,RF-2969,  1,      6,02-18560,2,20070702,0617, 13.0110, 164.9740, 5195,    910.5,   4.8000,  34.5352,2,   -999.0,9,-999.0000,9,     58.2,2,    95.04,2,  -999.00,9,    40.21,2,     0.00,2,     2.92,2, -999.000,9, -999.000,9,  -999.00,9,   2304.9,3,   -999.0,9,-999.0000,9,   -999.0,  9,  -999.00,9,   -999.0,  -999.00,9,  -999.00,9,  -999.00,9,  -999.00,9,   -999.0,-999.0000, -999,9,  903,   4.7261,  27.3380,   -999.0,9
     RF07-06-1,  165E,RF-2969,  1,      5,02-18559,2,20070702,0614, 13.0110, 164.9740, 5195,   1010.5,   4.4901,  34.5477,2,   -999.0,9,  34.5465,2,     57.5,2,   100.77,2,  -999.00,9,    40.84,2,     0.00,2,     2.98,2, -999.000,9, -999.000,9,  -999.00,9,   2312.3,3,   -999.0,9,-999.0000,9,   -999.0,  9,  -999.00,9,   -999.0,  -999.00,9,  -999.00,9,  -999.00,9,  -999.00,9,   -999.0,-999.0000, -999,9, 1002,   4.4097,  27.3829,   -999.0,9
     RF07-06-1,  165E,RF-2969,  1,      4,02-18558,2,20070702,0609, 13.0110, 164.9740, 5195,   1263.1,   3.5622,  34.5746,2,   -999.0,9,  34.5733,2,     70.3,2,   118.95,2,  -999.00,9,    40.49,2,     0.00,2,     2.95,2, -999.000,9, -999.000,9,  -999.00,9,   2329.4,3,   -999.0,9,-999.0000,9,   -999.0,  9,  -999.00,9,   -999.0,  -999.00,9,  -999.00,9,  -999.00,9,  -999.00,9,   -999.0,-999.0000, -999,9, 1252,   3.4682,  27.5013,   -999.0,9
     RF07-06-1,  165E,RF-2969,  1,      3,02-18557,2,20070702,0603, 13.0110, 164.9740, 5195,   1517.4,   2.8243,  34.6025,2,   -999.0,9,  34.6009,2,     85.2,2,   132.76,2,  -999.00,9,    39.76,2,     0.00,2,     2.87,2, -999.000,9, -999.000,9,  -999.00,9,   2339.1,3,   -999.0,9,-999.0000,9,   -999.0,  9,  -999.00,9,   -999.0,  -999.00,9,  -999.00,9,  -999.00,9,  -999.00,9,   -999.0,-999.0000, -999,9, 1503,   2.7170,  27.5932,   -999.0,9
     RF07-06-1,  165E,RF-2969,  1,      2,02-18556,2,20070702,0557, 13.0110, 164.9740, 5195,   1771.8,   2.3999,  34.6227,2,   -999.0,9,  34.6215,2,     96.2,2,   140.06,2,  -999.00,9,    39.28,2,     0.00,2,     2.79,2, -999.000,9, -999.000,9,  -999.00,9,   2349.8,3,   -999.0,9,-999.0000,9,   -999.0,  9,  -999.00,9,   -999.0,  -999.00,9,  -999.00,9,  -999.00,9,  -999.00,9,   -999.0,-999.0000, -999,9, 1754,   2.2768,  27.6470,   -999.0,9
     RF07-06-1,  165E,RF-2969,  1,      1,02-18555,2,20070702,0541, 13.0110, 164.9740, 5195,   2021.0,   2.1502,  34.6382,2,   -999.0,9,  34.6370,2,    104.9,2,   143.82,2,  -999.00,9,    38.87,2,     0.00,2,     2.76,2, -999.000,9, -999.000,9,  -999.00,9,   2337.6,3,   -999.0,9,-999.0000,9,   -999.0,  9,  -999.00,9,   -999.0,  -999.00,9,  -999.00,9,  -999.00,9,  -999.00,9,   -999.0,-999.0000, -999,9, 2000,   2.0097,  27.6810,   -999.0,9