BOTTLE,20130510GEMDJMAYT
EXPOCODE,SECT_ID,STNNBR,CASTNO,SAMPNO,BTLNBR,BTLNBR_FLAG_W,DATE,TIME,LATITUDE,LONGITUDE,DEPTH,CTDPRS,CTDTMP,CTDSAL,CTDSAL_FLAG_W,CTDOXY,CTDOXY_FLAG_W,SALNTY,SALNTY_FLAG_W,OXYGEN,OXYGEN_FLAG_W,SILCAT,SILCAT_FLAG_W,NITRAT,NITRAT_FLAG_W,NO2+NO3,NO2+NO3_FLAG_W,NITRIT,NITRIT_FLAG_W,PHSPHT,PHSPHT_FLAG_W,CFC-11,CFC-11_FLAG_W,CFC-12,CFC-12_FLAG_W,DELC13,DELC13_FLAG_W,TCARBN,TCARBN_FLAG_W,ALKALI,ALKALI_FLAG_W,PH,PH_FLAG_W,PH_TMP,PH_SCALE,PH_NBS,PH_NBS_FLAG_W,C13ERR,TOTALP,TOTALP_FLAG_W,AMMONI,AMMONI_FLAG_W,CHLORA,CHLORA_FLAG_W,PPHYTN,PPHYTN_FLAG_W,REVPRS,REVTMP,DEPTH_,DEPTH_FLAG,CTDDEP,THETA,SIGTHT,DOC,DOC_FLAG_W
,,,,,,,GMT,GMT,,,METER,DBAR,ITS-90,PSS-78,,UMOL/KG,,PSS-78,,UMOL/KG,,UMOL/KG,,UMOL/KG,,UMOL/KG,,UMOL/KG,,UMOL/KG,,PMOL/KG,,PMOL/KG,,/MILLE,,UMOL/KG,,UMOL/KG,,25_DEG_C,,DEG_C,,,,/MILLE,UMOL/KG,,UMOL/KG,,UG/L,,UG/L,,DBAR,ITS-90,METERS,,METERS,DEG_C,,UMOL/L,
     RF07-06-1,  165E,RF-2937,  1,     -9,      -9,5,20070613,0450, 44.9897, 165.0218, 5914,      0.0,   6.6699,  33.0506,2,   -999.0,9,-999.0000,9,    316.0,2,    28.00,2,  -999.00,9,    13.24,2,     0.17,2,     1.09,2, -999.000,9, -999.000,9,  -999.00,9,   2061.1,2,   -999.0,9,-999.0000,9,   -999.0,  9,  -999.00,9,   -999.0,  -999.00,9,  -999.00,9,     0.58,2,     0.10,2,   -999.0,-999.0000, -999,9,    0,   6.6698,  25.9272,   -999.0,9
     RF07-06-1,  165E,RF-2937,  1,     21,02-18575,2,20070613,0516, 44.9897, 165.0218, 5914,     10.4,   6.6367,  33.0507,2,   -999.0,9,  33.0549,2,    317.6,2,    27.97,2,  -999.00,9,    13.28,2,     0.16,2,     1.11,2, -999.000,9, -999.000,9,  -999.00,9,   2057.9,2,   -999.0,9,-999.0000,9,   -999.0,  9,  -999.00,9,   -999.0,  -999.00,9,  -999.00,9,     0.57,2,     0.10,2,   -999.0,-999.0000, -999,9,   10,   6.6358,  25.9317,   -999.0,9
     RF07-06-1,  165E,RF-2937,  1,     20,02-18574,2,20070613,0512, 44.9897, 165.0218, 5914,     25.5,   6.4591,  33.0491,2,   -999.0,9,-999.0000,9,    317.9,2,    28.06,2,  -999.00,9,    13.41,2,     0.17,2,     1.11,2, -999.000,9, -999.000,9,  -999.00,9,   2062.1,2,   -999.0,9,-999.0000,9,   -999.0,  9,  -999.00,9,   -999.0,  -999.00,9,  -999.00,9,     0.63,2,     0.16,2,   -999.0,-999.0000, -999,9,   25,   6.4569,  25.9537,   -999.0,9
     RF07-06-1,  165E,RF-2937,  1,     19,02-18573,2,20070613,0508, 44.9897, 165.0218, 5914,     51.1,   4.3785,  33.1312,2,   -999.0,9,-999.0000,9,    314.6,2,    29.66,2,  -999.00,9,    16.91,2,     0.47,2,     1.33,2, -999.000,9, -999.000,9,  -999.00,9,   2090.2,2,   -999.0,9,-999.0000,9,   -999.0,  9,  -999.00,9,   -999.0,  -999.00,9,  -999.00,9,     0.23,2,     0.11,2,   -999.0,-999.0000, -999,9,   51,   4.3750,  26.2614,   -999.0,9
     RF07-06-1,  165E,RF-2937,  1,     18,02-18572,2,20070613,0507, 44.9897, 165.0218, 5914,     76.1,   4.2654,  33.1851,2,   -999.0,9,-999.0000,9,    312.1,2,    29.40,2,  -999.00,9,    17.25,2,     0.35,2,     1.32,2, -999.000,9, -999.000,9,  -999.00,9,   2091.0,2,   -999.0,9,-999.0000,9,   -999.0,  9,  -999.00,9,   -999.0,  -999.00,9,  -999.00,9,     0.06,2,     0.05,2,   -999.0,-999.0000, -999,9,   75,   4.2602,  26.3161,   -999.0,9
     RF07-06-1,  165E,RF-2937,  1,     17,02-18571,2,20070613,0505, 44.9897, 165.0218, 5914,    100.1,   3.7573,  33.1985,2,   -999.0,9,  33.2036,4,    313.7,2,    31.15,2,  -999.00,9,    18.46,2,     0.20,2,     1.41,2, -999.000,9, -999.000,9,  -999.00,9,   2100.6,2,   -999.0,9,-999.0000,9,   -999.0,  9,  -999.00,9,   -999.0,  -999.00,9,  -999.00,9,     0.05,2,     0.07,2,   -999.0,-999.0000, -999,9,   99,   3.7508,  26.3778,   -999.0,9
     RF07-06-1,  165E,RF-2937,  1,     16,02-18570,2,20070613,0504, 44.9897, 165.0218, 5914,    126.6,   4.0170,  33.3760,2,   -999.0,9,-999.0000,9,    286.4,2,    37.43,2,  -999.00,9,    21.26,2,     0.00,2,     1.59,2, -999.000,9, -999.000,9,  -999.00,9,   2118.5,2,   -999.0,9,-999.0000,9,   -999.0,  9,  -999.00,9,   -999.0,  -999.00,9,  -999.00,9,     0.02,2,     0.04,2,   -999.0,-999.0000, -999,9,  126,   4.0085,  26.4935,   -999.0,9
     RF07-06-1,  165E,RF-2937,  1,     15,02-18569,2,20070613,0503, 44.9897, 165.0218, 5914,    152.8,   4.7695,  33.6262,2,   -999.0,9,-999.0000,9,    237.6,2,    47.47,2,  -999.00,9,    25.09,2,     0.00,2,     1.82,2, -999.000,9, -999.000,9,  -999.00,9,   2167.8,2,   -999.0,9,-999.0000,9,   -999.0,  9,  -999.00,9,   -999.0,  -999.00,9,  -999.00,9,     0.00,2,     0.03,2,   -999.0,-999.0000, -999,9,  152,   4.7582,  26.6131,   -999.0,9
     RF07-06-1,  165E,RF-2937,  1,     14,02-18568,2,20070613,0501, 44.9897, 165.0218, 5914,    202.6,   4.1976,  33.6812,2,   -999.0,9,  33.6842,2,    193.0,2,    61.99,2,  -999.00,9,    29.89,2,     0.00,2,     2.18,2, -999.000,9, -999.000,9,  -999.00,9,   2201.5,2,   -999.0,9,-999.0000,9,   -999.0,  9,  -999.00,9,   -999.0,  -999.00,9,  -999.00,9,     0.00,2,     0.03,2,   -999.0,-999.0000, -999,9,  201,   4.1835,  26.7183,   -999.0,9
     RF07-06-1,  165E,RF-2937,  1,     13,02-18567,2,20070613,0459, 44.9897, 165.0218, 5914,    253.4,   3.8148,  33.7604,2,   -999.0,9,-999.0000,9,    144.7,2,    77.26,2,  -999.00,9,    34.43,2,     0.00,2,     2.52,2, -999.000,9, -999.000,9,  -999.00,9,   2251.6,2,   -999.0,9,-999.0000,9,   -999.0,  9,  -999.00,9,   -999.0,  -999.00,9,  -999.00,9,     0.00,2,     0.02,2,   -999.0,-999.0000, -999,9,  251,   3.7978,  26.8204,   -999.0,9
     RF07-06-1,  165E,RF-2937,  1,     12,02-18348,2,20070613,0458, 44.9897, 165.0218, 5914,    304.1,   3.8285,  33.8398,2,   -999.0,9,  33.8394,2,    117.9,2,    85.29,2,  -999.00,9,    36.35,2,     0.00,2,     2.68,2, -999.000,9, -999.000,9,  -999.00,9,   2268.3,2,   -999.0,9,-999.0000,9,   -999.0,  9,  -999.00,9,   -999.0,  -999.00,9,  -999.00,9,     0.00,2,     0.02,2,   -999.0,-999.0000, -999,9,  301,   3.8079,  26.8826,   -999.0,9
     RF07-06-1,  165E,RF-2937,  1,     11,02-18565,2,20070613,0455, 44.9897, 165.0218, 5914,    405.0,   3.8504,  34.0003,2,   -999.0,9,  34.0063,4,     73.5,2,   100.96,2,  -999.00,9,    39.58,2,     0.00,2,     2.92,2, -999.000,9, -999.000,9,  -999.00,9,   2303.6,2,   -999.0,9,-999.0000,9,   -999.0,  9,  -999.00,9,   -999.0,  -999.00,9,  -999.00,9,  -999.00,9,  -999.00,9,   -999.0,-999.0000, -999,9,  401,   3.8224,  27.0088,   -999.0,9
     RF07-06-1,  165E,RF-2937,  1,     10,02-18564,2,20070613,0453, 44.9897, 165.0218, 5914,    505.7,   3.8969,  34.1365,2,   -999.0,9,-999.0000,9,     53.4,2,   111.20,2,  -999.00,9,    40.75,2,     0.00,2,     3.00,2, -999.000,9, -999.000,9,  -999.00,9,   2323.6,2,   -999.0,9,-999.0000,9,   -999.0,  9,  -999.00,9,   -999.0,  -999.00,9,  -999.00,9,  -999.00,9,  -999.00,9,   -999.0,-999.0000, -999,9,  501,   3.8613,  27.1134,   -999.0,9
     RF07-06-1,  165E,RF-2937,  1,      9,02-18563,2,20070613,0450, 44.9897, 165.0218, 5914,    607.3,   3.6147,  34.2123,2,   -999.0,9,  34.2119,2,     40.3,2,   121.79,2,  -999.00,9,    41.74,2,     0.00,2,     3.10,2, -999.000,9, -999.000,9,  -999.00,9,   2335.3,2,   -999.0,9,-999.0000,9,   -999.0,  9,  -999.00,9,   -999.0,  -999.00,9,  -999.00,9,  -999.00,9,  -999.00,9,   -999.0,-999.0000, -999,9,  601,   3.5727,  27.2024,   -999.0,9
     RF07-06-1,  165E,RF-2937,  1,      8,02-18562,2,20070613,0447, 44.9897, 165.0218, 5914,    707.9,   3.3688,  34.2672,2,   -999.0,9,-999.0000,9,     34.8,2,   129.72,2,  -999.00,9,    42.35,2,     0.00,2,     3.14,2, -999.000,9, -999.000,9,  -999.00,9,   2356.7,2,   -999.0,9,-999.0000,9,   -999.0,  9,  -999.00,9,   -999.0,  -999.00,9,  -999.00,9,  -999.00,9,  -999.00,9,   -999.0,-999.0000, -999,9,  701,   3.3206,  27.2704,   -999.0,9
     RF07-06-1,  165E,RF-2937,  1,      7,02-18561,2,20070613,0444, 44.9897, 165.0218, 5914,    809.5,   3.1902,  34.3245,2,   -999.0,9,  34.3240,2,     32.3,2,   135.75,2,  -999.00,9,    42.60,2,     0.00,2,     3.17,2, -999.000,9, -999.000,9,  -999.00,9,   2358.9,2,   -999.0,9,-999.0000,9,   -999.0,  9,  -999.00,9,   -999.0,  -999.00,9,  -999.00,9,  -999.00,9,  -999.00,9,   -999.0,-999.0000, -999,9,  801,   3.1355,  27.3334,   -999.0,9
     RF07-06-1,  165E,RF-2937,  1,      6,02-18560,2,20070613,0441, 44.9897, 165.0218, 5914,    911.1,   3.0151,  34.3647,2,   -999.0,9,-999.0000,9,     33.5,2,   140.55,2,  -999.00,9,    42.76,2,     0.00,2,     3.18,2, -999.000,9, -999.000,9,  -999.00,9,   2365.8,2,   -999.0,9,-999.0000,9,   -999.0,  9,  -999.00,9,   -999.0,  -999.00,9,  -999.00,9,  -999.00,9,  -999.00,9,   -999.0,-999.0000, -999,9,  902,   2.9540,  27.3821,   -999.0,9
     RF07-06-1,  165E,RF-2937,  1,      5,02-18559,2,20070613,0438, 44.9897, 165.0218, 5914,   1012.6,   2.8479,  34.4024,2,   -999.0,9,  34.4049,4,     34.1,2,   145.19,2,  -999.00,9,    42.89,2,     0.00,2,     3.18,2, -999.000,9, -999.000,9,  -999.00,9,   2374.2,2,   -999.0,9,-999.0000,9,   -999.0,  9,  -999.00,9,   -999.0,  -999.00,9,  -999.00,9,  -999.00,9,  -999.00,9,   -999.0,-999.0000, -999,9, 1002,   2.7804,  27.4277,   -999.0,9
     RF07-06-1,  165E,RF-2937,  1,      4,02-18558,2,20070613,0433, 44.9897, 165.0218, 5914,   1265.8,   2.4816,  34.4614,2,   -999.0,9,  34.4606,2,     36.4,2,   154.78,2,  -999.00,9,    42.96,2,     0.00,2,     3.20,2, -999.000,9, -999.000,9,  -999.00,9,   2381.4,2,   -999.0,9,-999.0000,9,   -999.0,  9,  -999.00,9,   -999.0,  -999.00,9,  -999.00,9,  -999.00,9,  -999.00,9,   -999.0,-999.0000, -999,9, 1252,   2.3982,  27.5078,   -999.0,9
     RF07-06-1,  165E,RF-2937,  1,      3,02-18557,2,20070613,0427, 44.9897, 165.0218, 5914,   1518.6,   2.2572,  34.5171,2,   -999.0,9,  34.5162,2,     44.3,2,   159.46,2,  -999.00,9,    42.51,2,     0.00,2,     3.15,2, -999.000,9, -999.000,9,  -999.00,9,   2384.3,2,   -999.0,9,-999.0000,9,   -999.0,  9,  -999.00,9,   -999.0,  -999.00,9,  -999.00,9,  -999.00,9,  -999.00,9,   -999.0,-999.0000, -999,9, 1501,   2.1566,  27.5723,   -999.0,9
     RF07-06-1,  165E,RF-2937,  1,      2,02-18556,2,20070613,0422, 44.9897, 165.0218, 5914,   1771.6,   2.0969,  34.5577,2,   -999.0,9,  34.5575,2,     54.8,2,   162.20,2,  -999.00,9,    42.07,2,     0.00,2,     3.10,2, -999.000,9, -999.000,9,  -999.00,9,   2387.3,2,   -999.0,9,-999.0000,9,   -999.0,  9,  -999.00,9,   -999.0,  -999.00,9,  -999.00,9,  -999.00,9,  -999.00,9,   -999.0,-999.0000, -999,9, 1750,   1.9781,  27.6190,   -999.0,9
     RF07-06-1,  165E,RF-2937,  1,      1,02-18555,2,20070613,0416, 44.9897, 165.0218, 5914,   2026.8,   1.9416,  34.5906,2,   -999.0,9,  34.5902,2,     66.4,2,   164.07,2,  -999.00,9,    41.39,2,     0.00,2,     3.03,2, -999.000,9, -999.000,9,  -999.00,9,   2374.4,2,   -999.0,9,-999.0000,9,   -999.0,  9,  -999.00,9,   -999.0,  -999.00,9,  -999.00,9,  -999.00,9,  -999.00,9,   -999.0,-999.0000, -999,9, 2001,   1.8039,  27.6589,   -999.0,9