BOTTLE,20130510GEMDJMAYT
EXPOCODE,SECT_ID,STNNBR,CASTNO,SAMPNO,BTLNBR,BTLNBR_FLAG_W,DATE,TIME,LATITUDE,LONGITUDE,DEPTH,CTDPRS,CTDTMP,CTDSAL,CTDSAL_FLAG_W,CTDOXY,CTDOXY_FLAG_W,SALNTY,SALNTY_FLAG_W,OXYGEN,OXYGEN_FLAG_W,SILCAT,SILCAT_FLAG_W,NITRAT,NITRAT_FLAG_W,NO2+NO3,NO2+NO3_FLAG_W,NITRIT,NITRIT_FLAG_W,PHSPHT,PHSPHT_FLAG_W,CFC-11,CFC-11_FLAG_W,CFC-12,CFC-12_FLAG_W,DELC13,DELC13_FLAG_W,TCARBN,TCARBN_FLAG_W,ALKALI,ALKALI_FLAG_W,PH,PH_FLAG_W,PH_TMP,PH_SCALE,PH_NBS,PH_NBS_FLAG_W,C13ERR,TOTALP,TOTALP_FLAG_W,AMMONI,AMMONI_FLAG_W,CHLORA,CHLORA_FLAG_W,PPHYTN,PPHYTN_FLAG_W,REVPRS,REVTMP,DEPTH_,DEPTH_FLAG,CTDDEP,THETA,SIGTHT,DOC,DOC_FLAG_W
,,,,,,,GMT,GMT,,,METER,DBAR,ITS-90,PSS-78,,UMOL/KG,,PSS-78,,UMOL/KG,,UMOL/KG,,UMOL/KG,,UMOL/KG,,UMOL/KG,,UMOL/KG,,PMOL/KG,,PMOL/KG,,/MILLE,,UMOL/KG,,UMOL/KG,,25_DEG_C,,DEG_C,,,,/MILLE,UMOL/KG,,UMOL/KG,,UG/L,,UG/L,,DBAR,ITS-90,METERS,,METERS,DEG_C,,UMOL/L,
     RF07-06-1, EQPAC,RF-2992,  1,     -9,      -9,5,20070710,1840, -0.0140, 155.0033, 2499,      0.0,  29.5417,  34.5485,2,   -999.0,9,-999.0000,9,    193.5,2,     1.45,2,  -999.00,9,     0.03,2,     0.00,2,     0.04,2, -999.000,9, -999.000,9,  -999.00,9,   1919.9,3,   -999.0,9,-999.0000,9,   -999.0,  9,  -999.00,9,   -999.0,  -999.00,9,  -999.00,9,     0.07,2,     0.03,2,   -999.0,-999.0000, -999,9,    0,  29.5415,  21.5433,   -999.0,9
     RF07-06-1, EQPAC,RF-2992,  1,     21,02-18575,2,20070710,1858, -0.0140, 155.0033, 2499,     11.9,  29.5468,  34.5492,2,   -999.0,9,  34.5481,2,    193.5,2,     1.45,2,  -999.00,9,     0.02,2,     0.00,2,     0.03,2, -999.000,9, -999.000,9,  -999.00,9,   1916.0,3,   -999.0,9,-999.0000,9,   -999.0,  9,  -999.00,9,   -999.0,  -999.00,9,  -999.00,9,     0.08,2,     0.03,2,   -999.0,-999.0000, -999,9,   12,  29.5439,  21.5431,   -999.0,9
     RF07-06-1, EQPAC,RF-2992,  1,     20,02-18574,2,20070710,1857, -0.0140, 155.0033, 2499,     26.8,  29.5570,  34.5534,2,   -999.0,9,-999.0000,9,    194.7,2,     1.42,2,  -999.00,9,     0.02,2,     0.00,2,     0.03,2, -999.000,9, -999.000,9,  -999.00,9,   1914.8,3,   -999.0,9,-999.0000,9,   -999.0,  9,  -999.00,9,   -999.0,  -999.00,9,  -999.00,9,     0.08,2,     0.03,2,   -999.0,-999.0000, -999,9,   27,  29.5504,  21.5440,   -999.0,9
     RF07-06-1, EQPAC,RF-2992,  1,     19,02-18573,2,20070710,1856, -0.0140, 155.0033, 2499,     52.1,  29.7048,  34.7490,2,   -999.0,9,-999.0000,9,    194.1,2,     1.44,2,  -999.00,9,     0.02,2,     0.00,2,     0.05,2, -999.000,9, -999.000,9,  -999.00,9,   1930.5,3,   -999.0,9,-999.0000,9,   -999.0,  9,  -999.00,9,   -999.0,  -999.00,9,  -999.00,9,     0.11,2,     0.05,2,   -999.0,-999.0000, -999,9,   52,  29.6920,  21.6428,   -999.0,9
     RF07-06-1, EQPAC,RF-2992,  1,     18,02-18572,2,20070710,1854, -0.0140, 155.0033, 2499,     77.2,  29.7250,  34.8734,2,   -999.0,9,-999.0000,9,    194.8,2,     1.46,2,  -999.00,9,     0.02,2,     0.00,2,     0.06,2, -999.000,9, -999.000,9,  -999.00,9,   1948.4,3,   -999.0,9,-999.0000,9,   -999.0,  9,  -999.00,9,   -999.0,  -999.00,9,  -999.00,9,     0.20,2,     0.12,2,   -999.0,-999.0000, -999,9,   77,  29.7060,  21.7313,   -999.0,9
     RF07-06-1, EQPAC,RF-2992,  1,     17,02-18571,2,20070710,1853, -0.0140, 155.0033, 2499,    101.6,  28.9236,  35.4399,2,   -999.0,9,  35.3794,4,    173.0,2,     2.20,2,  -999.00,9,     3.81,2,     0.82,2,     0.29,2, -999.000,9, -999.000,9,  -999.00,9,   2009.5,3,   -999.0,9,-999.0000,9,   -999.0,  9,  -999.00,9,   -999.0,  -999.00,9,  -999.00,9,     0.29,2,     0.38,2,   -999.0,-999.0000, -999,9,  101,  28.8990,  22.4282,   -999.0,9
     RF07-06-1, EQPAC,RF-2992,  1,     16,02-18570,2,20070710,1852, -0.0140, 155.0033, 2499,    127.8,  26.5177,  34.9387,2,   -999.0,9,-999.0000,9,    150.0,2,     3.42,2,  -999.00,9,     6.18,2,     0.31,2,     0.38,2, -999.000,9, -999.000,9,  -999.00,9,   2019.2,3,   -999.0,9,-999.0000,9,   -999.0,  9,  -999.00,9,   -999.0,  -999.00,9,  -999.00,9,     0.12,2,     0.30,2,   -999.0,-999.0000, -999,9,  127,  26.4888,  22.8338,   -999.0,9
     RF07-06-1, EQPAC,RF-2992,  1,     15,02-18569,2,20070710,1851, -0.0140, 155.0033, 2499,    151.4,  24.0792,  34.9632,2,   -999.0,9,-999.0000,9,    132.5,2,     6.15,2,  -999.00,9,     9.37,2,     0.01,2,     0.55,2, -999.000,9, -999.000,9,  -999.00,9,   2045.5,3,   -999.0,9,-999.0000,9,   -999.0,  9,  -999.00,9,   -999.0,  -999.00,9,  -999.00,9,     0.03,2,     0.05,2,   -999.0,-999.0000, -999,9,  150,  24.0472,  23.5995,   -999.0,9
     RF07-06-1, EQPAC,RF-2992,  1,     14,02-18568,2,20070710,1849, -0.0140, 155.0033, 2499,    202.7,  18.3172,  35.2701,2,   -999.0,9,  35.2654,2,    134.7,2,     8.77,2,  -999.00,9,    13.13,2,     0.00,2,     0.83,2, -999.000,9, -999.000,9,  -999.00,9,   2104.0,3,   -999.0,9,-999.0000,9,   -999.0,  9,  -999.00,9,   -999.0,  -999.00,9,  -999.00,9,     0.00,2,     0.02,2,   -999.0,-999.0000, -999,9,  201,  18.2819,  25.4090,   -999.0,9
     RF07-06-1, EQPAC,RF-2992,  1,     13,02-18567,2,20070710,1847, -0.0140, 155.0033, 2499,    254.3,  13.1791,  34.9491,2,   -999.0,9,-999.0000,9,    140.9,2,    16.14,2,  -999.00,9,    18.97,2,     0.00,2,     1.21,2, -999.000,9, -999.000,9,  -999.00,9,   2142.6,3,   -999.0,9,-999.0000,9,   -999.0,  9,  -999.00,9,   -999.0,  -999.00,9,  -999.00,9,  -999.00,9,  -999.00,9,   -999.0,-999.0000, -999,9,  253,  13.1438,  26.3245,   -999.0,9
     RF07-06-1, EQPAC,RF-2992,  1,     12,02-18348,2,20070710,1845, -0.0140, 155.0033, 2499,    305.2,  11.1153,  34.8056,2,   -999.0,9,  34.8060,2,    117.2,2,    23.25,2,  -999.00,9,    24.92,2,     0.00,2,     1.61,2, -999.000,9, -999.000,9,  -999.00,9,   2177.6,3,   -999.0,9,-999.0000,9,   -999.0,  9,  -999.00,9,   -999.0,  -999.00,9,  -999.00,9,  -999.00,9,  -999.00,9,   -999.0,-999.0000, -999,9,  303,  11.0773,  26.6101,   -999.0,9
     RF07-06-1, EQPAC,RF-2992,  1,     11,02-18565,2,20070710,1842, -0.0140, 155.0033, 2499,    407.6,   9.3361,  34.6864,2,   -999.0,9,  34.6866,2,    113.9,2,    28.05,2,  -999.00,9,    28.70,2,     0.00,2,     1.87,2, -999.000,9, -999.000,9,  -999.00,9,   2199.3,3,   -999.0,9,-999.0000,9,   -999.0,  9,  -999.00,9,   -999.0,  -999.00,9,  -999.00,9,  -999.00,9,  -999.00,9,   -999.0,-999.0000, -999,9,  405,   9.2905,  26.8256,   -999.0,9
     RF07-06-1, EQPAC,RF-2992,  1,     10,02-18564,2,20070710,1839, -0.0140, 155.0033, 2499,    505.3,   8.3768,  34.6144,2,   -999.0,9,-999.0000,9,    116.4,2,    35.08,2,  -999.00,9,    30.15,2,     0.00,2,     1.99,2, -999.000,9, -999.000,9,  -999.00,9,   2205.5,3,   -999.0,9,-999.0000,9,   -999.0,  9,  -999.00,9,   -999.0,  -999.00,9,  -999.00,9,  -999.00,9,  -999.00,9,   -999.0,-999.0000, -999,9,  502,   8.3235,  26.9221,   -999.0,9
     RF07-06-1, EQPAC,RF-2992,  1,      9,02-18563,2,20070710,1836, -0.0140, 155.0033, 2499,    606.8,   6.9119,  34.5616,2,   -999.0,9,  34.5599,2,     97.8,2,    48.06,2,  -999.00,9,    35.02,2,     0.00,2,     2.38,2, -999.000,9, -999.000,9,  -999.00,9,   2237.5,3,   -999.0,9,-999.0000,9,   -999.0,  9,  -999.00,9,   -999.0,  -999.00,9,  -999.00,9,  -999.00,9,  -999.00,9,   -999.0,-999.0000, -999,9,  603,   6.8542,  27.0935,   -999.0,9
     RF07-06-1, EQPAC,RF-2992,  1,      8,02-18562,2,20070710,1833, -0.0140, 155.0033, 2499,    706.0,   6.0037,  34.5411,2,   -999.0,9,-999.0000,9,     97.2,2,    59.37,2,  -999.00,9,    36.38,2,     0.00,2,     2.49,2, -999.000,9, -999.000,9,  -999.00,9,   2248.5,3,   -999.0,9,-999.0000,9,   -999.0,  9,  -999.00,9,   -999.0,  -999.00,9,  -999.00,9,  -999.00,9,  -999.00,9,   -999.0,-999.0000, -999,9,  701,   5.9409,  27.1976,   -999.0,9
     RF07-06-1, EQPAC,RF-2992,  1,      7,02-18561,2,20070710,1830, -0.0140, 155.0033, 2499,    809.0,   5.4989,  34.5380,2,   -999.0,9,  34.5374,2,     99.0,2,    67.68,2,  -999.00,9,    36.91,2,     0.00,2,     2.54,2, -999.000,9, -999.000,9,  -999.00,9,   2258.5,3,   -999.0,9,-999.0000,9,   -999.0,  9,  -999.00,9,   -999.0,  -999.00,9,  -999.00,9,  -999.00,9,  -999.00,9,   -999.0,-999.0000, -999,9,  803,   5.4295,  27.2582,   -999.0,9
     RF07-06-1, EQPAC,RF-2992,  1,      6,02-18560,2,20070710,1827, -0.0140, 155.0033, 2499,    911.0,   4.7850,  34.5447,2,   -999.0,9,-999.0000,9,    104.2,2,    81.63,2,  -999.00,9,    37.17,2,     0.00,2,     2.57,2, -999.000,9, -999.000,9,  -999.00,9,   2272.9,3,   -999.0,9,-999.0000,9,   -999.0,  9,  -999.00,9,   -999.0,  -999.00,9,  -999.00,9,  -999.00,9,  -999.00,9,   -999.0,-999.0000, -999,9,  904,   4.7111,  27.3472,   -999.0,9
     RF07-06-1, EQPAC,RF-2992,  1,      5,02-18559,2,20070710,1825, -0.0140, 155.0033, 2499,   1012.3,   4.4082,  34.5528,2,   -999.0,9,  34.5518,2,    102.2,2,    89.21,2,  -999.00,9,    37.81,2,     0.00,2,     2.61,2, -999.000,9, -999.000,9,  -999.00,9,   2287.4,3,   -999.0,9,-999.0000,9,   -999.0,  9,  -999.00,9,   -999.0,  -999.00,9,  -999.00,9,  -999.00,9,  -999.00,9,   -999.0,-999.0000, -999,9, 1004,   4.3283,  27.3958,   -999.0,9
     RF07-06-1, EQPAC,RF-2992,  1,      4,02-18558,2,20070710,1819, -0.0140, 155.0033, 2499,   1263.1,   3.5792,  34.5803,2,   -999.0,9,  34.5793,2,     99.7,2,   108.31,2,  -999.00,9,    38.70,2,     0.00,2,     2.70,2, -999.000,9, -999.000,9,  -999.00,9,   2305.2,3,   -999.0,9,-999.0000,9,   -999.0,  9,  -999.00,9,   -999.0,  -999.00,9,  -999.00,9,  -999.00,9,  -999.00,9,   -999.0,-999.0000, -999,9, 1252,   3.4851,  27.5041,   -999.0,9
     RF07-06-1, EQPAC,RF-2992,  1,      3,02-18557,2,20070710,1814, -0.0140, 155.0033, 2499,   1515.2,   2.8980,  34.6064,2,   -999.0,9,  34.6060,2,    108.4,2,   121.71,2,  -999.00,9,    38.44,2,     0.00,2,     2.67,2, -999.000,9, -999.000,9,  -999.00,9,   2316.1,3,   -999.0,9,-999.0000,9,   -999.0,  9,  -999.00,9,   -999.0,  -999.00,9,  -999.00,9,  -999.00,9,  -999.00,9,   -999.0,-999.0000, -999,9, 1501,   2.7900,  27.5899,   -999.0,9
     RF07-06-1, EQPAC,RF-2992,  1,      2,02-18556,2,20070710,1809, -0.0140, 155.0033, 2499,   1767.3,   2.5465,  34.6226,2,   -999.0,9,  34.6223,2,    112.2,2,   129.77,2,  -999.00,9,    38.29,2,     0.00,2,     2.66,2, -999.000,9, -999.000,9,  -999.00,9,   2327.5,3,   -999.0,9,-999.0000,9,   -999.0,  9,  -999.00,9,   -999.0,  -999.00,9,  -999.00,9,  -999.00,9,  -999.00,9,   -999.0,-999.0000, -999,9, 1750,   2.4218,  27.6348,   -999.0,9
     RF07-06-1, EQPAC,RF-2992,  1,      1,02-18555,2,20070710,1804, -0.0140, 155.0033, 2499,   2021.0,   2.1838,  34.6410,2,   -999.0,9,  34.6403,2,    119.4,2,   136.38,2,  -999.00,9,    38.08,2,     0.00,2,     2.62,2, -999.000,9, -999.000,9,  -999.00,9,   2327.1,3,   -999.0,9,-999.0000,9,   -999.0,  9,  -999.00,9,   -999.0,  -999.00,9,  -999.00,9,  -999.00,9,  -999.00,9,   -999.0,-999.0000, -999,9, 2000,   2.0427,  27.6806,   -999.0,9