BOTTLE,20130510GEMDJMAYT
EXPOCODE,SECT_ID,STNNBR,CASTNO,SAMPNO,BTLNBR,BTLNBR_FLAG_W,DATE,TIME,LATITUDE,LONGITUDE,DEPTH,CTDPRS,CTDTMP,CTDSAL,CTDSAL_FLAG_W,CTDOXY,CTDOXY_FLAG_W,SALNTY,SALNTY_FLAG_W,OXYGEN,OXYGEN_FLAG_W,SILCAT,SILCAT_FLAG_W,NITRAT,NITRAT_FLAG_W,NO2+NO3,NO2+NO3_FLAG_W,NITRIT,NITRIT_FLAG_W,PHSPHT,PHSPHT_FLAG_W,CFC-11,CFC-11_FLAG_W,CFC-12,CFC-12_FLAG_W,DELC13,DELC13_FLAG_W,TCARBN,TCARBN_FLAG_W,ALKALI,ALKALI_FLAG_W,PH,PH_FLAG_W,PH_TMP,PH_SCALE,PH_NBS,PH_NBS_FLAG_W,C13ERR,TOTALP,TOTALP_FLAG_W,AMMONI,AMMONI_FLAG_W,CHLORA,CHLORA_FLAG_W,PPHYTN,PPHYTN_FLAG_W,REVPRS,REVTMP,DEPTH_,DEPTH_FLAG,CTDDEP,THETA,SIGTHT,DOC,DOC_FLAG_W
,,,,,,,GMT,GMT,,,METER,DBAR,ITS-90,PSS-78,,UMOL/KG,,PSS-78,,UMOL/KG,,UMOL/KG,,UMOL/KG,,UMOL/KG,,UMOL/KG,,UMOL/KG,,PMOL/KG,,PMOL/KG,,/MILLE,,UMOL/KG,,UMOL/KG,,25_DEG_C,,DEG_C,,,,/MILLE,UMOL/KG,,UMOL/KG,,UG/L,,UG/L,,DBAR,ITS-90,METERS,,METERS,DEG_C,,UMOL/L,
     RF07-06-1,  165E,RF-2947,  1,     -9,      -9,5,20070615,2055, 34.9827, 165.0250, 5868,      0.0,  19.0182,  34.5347,2,   -999.0,9,-999.0000,9,    238.5,2,     2.84,2,  -999.00,9,     0.02,2,     0.00,2,     0.02,2, -999.000,9, -999.000,9,  -999.00,9,   1981.8,2,   -999.0,9,-999.0000,9,   -999.0,  9,  -999.00,9,   -999.0,  -999.00,9,  -999.00,9,     0.20,2,     0.03,2,   -999.0,-999.0000, -999,9,    0,  19.0181,  24.6609,   -999.0,9
     RF07-06-1,  165E,RF-2947,  1,     21,02-18575,2,20070615,2103, 34.9827, 165.0250, 5868,     11.9,  18.8227,  34.5567,2,   -999.0,9,  34.5547,2,    234.2,2,     2.89,2,  -999.00,9,     0.00,2,     0.00,2,     0.01,2, -999.000,9, -999.000,9,  -999.00,9,   1993.0,2,   -999.0,9,-999.0000,9,   -999.0,  9,  -999.00,9,   -999.0,  -999.00,9,  -999.00,9,     0.22,2,     0.04,2,   -999.0,-999.0000, -999,9,   12,  18.8206,  24.7278,   -999.0,9
     RF07-06-1,  165E,RF-2947,  1,     20,02-18574,2,20070615,2102, 34.9827, 165.0250, 5868,     26.4,  17.9252,  34.5533,2,   -999.0,9,-999.0000,9,    247.9,2,     3.85,2,  -999.00,9,     0.32,2,     0.01,2,     0.03,2, -999.000,9, -999.000,9,  -999.00,9,   1996.2,2,   -999.0,9,-999.0000,9,   -999.0,  9,  -999.00,9,   -999.0,  -999.00,9,  -999.00,9,     0.53,2,     0.12,2,   -999.0,-999.0000, -999,9,   26,  17.9207,  24.9494,   -999.0,9
     RF07-06-1,  165E,RF-2947,  1,     19,02-18573,2,20070615,2100, 34.9827, 165.0250, 5868,     51.3,  15.5039,  34.4902,2,   -999.0,9,-999.0000,9,    250.9,2,     5.90,2,  -999.00,9,     2.21,2,     0.12,2,     0.14,2, -999.000,9, -999.000,9,  -999.00,9,   2013.9,2,   -999.0,9,-999.0000,9,   -999.0,  9,  -999.00,9,   -999.0,  -999.00,9,  -999.00,9,     0.57,2,     0.24,2,   -999.0,-999.0000, -999,9,   51,  15.4960,  25.4692,   -999.0,9
     RF07-06-1,  165E,RF-2947,  1,     18,02-18572,2,20070615,2059, 34.9827, 165.0250, 5868,     77.4,  15.1717,  34.5061,2,   -999.0,9,-999.0000,9,    241.8,2,     7.61,2,  -999.00,9,     4.45,2,     0.38,2,     0.24,2, -999.000,9, -999.000,9,  -999.00,9,   2031.3,2,   -999.0,9,-999.0000,9,   -999.0,  9,  -999.00,9,   -999.0,  -999.00,9,  -999.00,9,     0.22,2,     0.11,2,   -999.0,-999.0000, -999,9,   77,  15.1600,  25.5560,   -999.0,9
     RF07-06-1,  165E,RF-2947,  1,     17,02-18571,2,20070615,2058, 34.9827, 165.0250, 5868,    102.1,  14.5650,  34.5256,2,   -999.0,9,  34.5235,2,    234.7,2,     9.37,2,  -999.00,9,     6.78,2,     0.04,2,     0.36,2, -999.000,9, -999.000,9,  -999.00,9,   2035.7,2,   -999.0,9,-999.0000,9,   -999.0,  9,  -999.00,9,   -999.0,  -999.00,9,  -999.00,9,     0.12,2,     0.06,2,   -999.0,-999.0000, -999,9,  101,  14.5499,  25.7038,   -999.0,9
     RF07-06-1,  165E,RF-2947,  1,     16,02-18570,2,20070615,2056, 34.9827, 165.0250, 5868,    127.6,  13.8707,  34.4735,2,   -999.0,9,-999.0000,9,    238.9,2,    10.17,2,  -999.00,9,     7.34,2,     0.01,2,     0.39,2, -999.000,9, -999.000,9,  -999.00,9,   2049.1,2,   -999.0,9,-999.0000,9,   -999.0,  9,  -999.00,9,   -999.0,  -999.00,9,  -999.00,9,     0.06,2,     0.05,2,   -999.0,-999.0000, -999,9,  127,  13.8525,  25.8110,   -999.0,9
     RF07-06-1,  165E,RF-2947,  1,     15,02-18569,2,20070615,2055, 34.9827, 165.0250, 5868,    152.5,  13.6284,  34.4725,2,   -999.0,9,-999.0000,9,    235.9,2,    10.74,2,  -999.00,9,     7.92,2,     0.00,2,     0.44,2, -999.000,9, -999.000,9,  -999.00,9,   2052.1,2,   -999.0,9,-999.0000,9,   -999.0,  9,  -999.00,9,   -999.0,  -999.00,9,  -999.00,9,     0.03,2,     0.04,2,   -999.0,-999.0000, -999,9,  151,  13.6069,  25.8610,   -999.0,9
     RF07-06-1,  165E,RF-2947,  1,     14,02-18568,2,20070615,2053, 34.9827, 165.0250, 5868,    203.2,  13.1591,  34.4485,2,   -999.0,9,  34.4468,2,    231.2,2,    12.78,2,  -999.00,9,     9.21,2,     0.00,2,     0.54,2, -999.000,9, -999.000,9,  -999.00,9,   2061.3,2,   -999.0,9,-999.0000,9,   -999.0,  9,  -999.00,9,   -999.0,  -999.00,9,  -999.00,9,     0.01,2,     0.04,2,   -999.0,-999.0000, -999,9,  202,  13.1311,  25.9393,   -999.0,9
     RF07-06-1,  165E,RF-2947,  1,     13,02-18567,3,20070615,2052, 34.9827, 165.0250, 5868,    253.9,  12.0415,  34.3733,2,   -999.0,9,-999.0000,9,    226.9,2,    17.39,2,  -999.00,9,    11.69,2,     0.00,2,     0.71,2, -999.000,9, -999.000,9,  -999.00,9,   2080.9,2,   -999.0,9,-999.0000,9,   -999.0,  9,  -999.00,9,   -999.0,  -999.00,9,  -999.00,9,     0.01,2,     0.05,2,   -999.0,-999.0000, -999,9,  252,  12.0084,  26.1007,   -999.0,9
     RF07-06-1,  165E,RF-2947,  1,     12,02-18348,2,20070615,2049, 34.9827, 165.0250, 5868,    304.5,  10.9755,  34.2968,2,   -999.0,9,  34.2994,2,    210.3,2,    23.11,2,  -999.00,9,    15.00,2,     0.00,2,     0.95,2, -999.000,9, -999.000,9,  -999.00,9,   2099.5,2,   -999.0,9,-999.0000,9,   -999.0,  9,  -999.00,9,   -999.0,  -999.00,9,  -999.00,9,     0.01,2,     0.04,2,   -999.0,-999.0000, -999,9,  302,  10.9381,  26.2390,   -999.0,9
     RF07-06-1,  165E,RF-2947,  1,     11,02-18565,2,20070615,2046, 34.9827, 165.0250, 5868,    405.1,   8.4723,  34.0717,2,   -999.0,9,  34.0731,2,    207.2,2,    33.71,2,  -999.00,9,    19.57,2,     0.00,2,     1.32,2, -999.000,9, -999.000,9,  -999.00,9,   2132.9,2,   -999.0,9,-999.0000,9,   -999.0,  9,  -999.00,9,   -999.0,  -999.00,9,  -999.00,9,  -999.00,9,  -999.00,9,   -999.0,-999.0000, -999,9,  402,   8.4299,  26.4801,   -999.0,9
     RF07-06-1,  165E,RF-2947,  1,     10,02-18564,2,20070615,2043, 34.9827, 165.0250, 5868,    506.1,   6.2737,  33.9603,2,   -999.0,9,-999.0000,9,    167.3,2,    55.54,2,  -999.00,9,    27.30,2,     0.00,2,     1.97,2, -999.000,9, -999.000,9,  -999.00,9,   2190.0,3,   -999.0,9,-999.0000,9,   -999.0,  9,  -999.00,9,   -999.0,  -999.00,9,  -999.00,9,  -999.00,9,  -999.00,9,   -999.0,-999.0000, -999,9,  502,   6.2288,  26.7020,   -999.0,9
     RF07-06-1,  165E,RF-2947,  1,      9,02-18563,2,20070615,2040, 34.9827, 165.0250, 5868,    606.9,   5.2719,  34.0209,2,   -999.0,9,  34.0211,2,    116.8,2,    76.84,2,  -999.00,9,    33.23,2,     0.00,2,     2.43,2, -999.000,9, -999.000,9,  -999.00,9,   2249.9,3,   -999.0,9,-999.0000,9,   -999.0,  9,  -999.00,9,   -999.0,  -999.00,9,  -999.00,9,  -999.00,9,  -999.00,9,   -999.0,-999.0000, -999,9,  602,   5.2223,  26.8733,   -999.0,9
     RF07-06-1,  165E,RF-2947,  1,      8,02-18562,2,20070615,2037, 34.9827, 165.0250, 5868,    708.6,   4.6164,  34.1136,2,   -999.0,9,-999.0000,9,     78.2,2,    95.20,2,  -999.00,9,    37.26,2,     0.00,2,     2.78,2, -999.000,9, -999.000,9,  -999.00,9,   2281.5,3,   -999.0,9,-999.0000,9,   -999.0,  9,  -999.00,9,   -999.0,  -999.00,9,  -999.00,9,  -999.00,9,  -999.00,9,   -999.0,-999.0000, -999,9,  702,   4.5614,  27.0215,   -999.0,9
     RF07-06-1,  165E,RF-2947,  1,      7,02-18561,2,20070615,2035, 34.9827, 165.0250, 5868,    809.7,   4.2171,  34.1933,2,   -999.0,9,  34.1925,2,     58.2,2,   107.78,2,  -999.00,9,    39.23,2,     0.00,2,     2.94,2, -999.000,9, -999.000,9,  -999.00,9,   2314.0,3,   -999.0,9,-999.0000,9,   -999.0,  9,  -999.00,9,   -999.0,  -999.00,9,  -999.00,9,  -999.00,9,  -999.00,9,   -999.0,-999.0000, -999,9,  802,   4.1561,  27.1282,   -999.0,9
     RF07-06-1,  165E,RF-2947,  1,      6,02-18560,2,20070615,2032, 34.9827, 165.0250, 5868,    911.2,   3.7617,  34.2673,2,   -999.0,9,-999.0000,9,     42.7,2,   120.64,2,  -999.00,9,    41.14,2,     0.00,2,     3.08,2, -999.000,9, -999.000,9,  -999.00,9,   2346.6,2,   -999.0,9,-999.0000,9,   -999.0,  9,  -999.00,9,   -999.0,  -999.00,9,  -999.00,9,  -999.00,9,  -999.00,9,   -999.0,-999.0000, -999,9,  903,   3.6954,  27.2341,   -999.0,9
     RF07-06-1,  165E,RF-2947,  1,      5,02-18559,2,20070615,2029, 34.9827, 165.0250, 5868,   1013.3,   3.4088,  34.3248,2,   -999.0,9,  34.3235,2,     36.7,2,   130.13,2,  -999.00,9,    41.81,2,     0.00,2,     3.14,2, -999.000,9, -999.000,9,  -999.00,9,   2354.2,2,   -999.0,9,-999.0000,9,   -999.0,  9,  -999.00,9,   -999.0,  -999.00,9,  -999.00,9,  -999.00,9,  -999.00,9,   -999.0,-999.0000, -999,9, 1004,   3.3370,  27.3147,   -999.0,9
     RF07-06-1,  165E,RF-2947,  1,      4,02-18558,2,20070615,2024, 34.9827, 165.0250, 5868,   1265.4,   2.8340,  34.4348,2,   -999.0,9,  34.4339,2,     33.4,2,   144.73,2,  -999.00,9,    42.55,2,     0.00,2,     3.20,2, -999.000,9, -999.000,9,  -999.00,9,   2371.0,2,   -999.0,9,-999.0000,9,   -999.0,  9,  -999.00,9,   -999.0,  -999.00,9,  -999.00,9,  -999.00,9,  -999.00,9,   -999.0,-999.0000, -999,9, 1252,   2.7472,  27.4566,   -999.0,9
     RF07-06-1,  165E,RF-2947,  1,      3,02-18557,2,20070615,2019, 34.9827, 165.0250, 5868,   1518.7,   2.4376,  34.4994,2,   -999.0,9,  34.4994,2,     38.6,2,   154.32,2,  -999.00,9,    42.53,2,     0.00,2,     3.18,2, -999.000,9, -999.000,9,  -999.00,9,   2387.8,2,   -999.0,9,-999.0000,9,   -999.0,  9,  -999.00,9,   -999.0,  -999.00,9,  -999.00,9,  -999.00,9,  -999.00,9,   -999.0,-999.0000, -999,9, 1502,   2.3350,  27.5435,   -999.0,9
     RF07-06-1,  165E,RF-2947,  1,      2,02-18556,2,20070615,2014, 34.9827, 165.0250, 5868,   1771.7,   2.1777,  34.5557,2,   -999.0,9,  34.5554,2,     52.5,2,   158.48,2,  -999.00,9,    41.82,2,     0.00,2,     3.11,2, -999.000,9, -999.000,9,  -999.00,9,   2378.8,2,   -999.0,9,-999.0000,9,   -999.0,  9,  -999.00,9,   -999.0,  -999.00,9,  -999.00,9,  -999.00,9,  -999.00,9,   -999.0,-999.0000, -999,9, 1751,   2.0578,  27.6111,   -999.0,9
     RF07-06-1,  165E,RF-2947,  1,      1,02-18555,2,20070615,2009, 34.9827, 165.0250, 5868,   2026.1,   1.9585,  34.5942,2,   -999.0,9,  34.5931,2,     69.8,2,   160.35,2,  -999.00,9,    40.92,2,     0.00,2,     3.03,2, -999.000,9, -999.000,9,  -999.00,9,   2368.2,2,   -999.0,9,-999.0000,9,   -999.0,  9,  -999.00,9,   -999.0,  -999.00,9,  -999.00,9,  -999.00,9,  -999.00,9,   -999.0,-999.0000, -999,9, 2002,   1.8206,  27.6605,   -999.0,9