BOTTLE,20130510GEMDJMAYT
EXPOCODE,SECT_ID,STNNBR,CASTNO,SAMPNO,BTLNBR,BTLNBR_FLAG_W,DATE,TIME,LATITUDE,LONGITUDE,DEPTH,CTDPRS,CTDTMP,CTDSAL,CTDSAL_FLAG_W,CTDOXY,CTDOXY_FLAG_W,SALNTY,SALNTY_FLAG_W,OXYGEN,OXYGEN_FLAG_W,SILCAT,SILCAT_FLAG_W,NITRAT,NITRAT_FLAG_W,NO2+NO3,NO2+NO3_FLAG_W,NITRIT,NITRIT_FLAG_W,PHSPHT,PHSPHT_FLAG_W,CFC-11,CFC-11_FLAG_W,CFC-12,CFC-12_FLAG_W,DELC13,DELC13_FLAG_W,TCARBN,TCARBN_FLAG_W,ALKALI,ALKALI_FLAG_W,PH,PH_FLAG_W,PH_TMP,PH_SCALE,PH_NBS,PH_NBS_FLAG_W,C13ERR,TOTALP,TOTALP_FLAG_W,AMMONI,AMMONI_FLAG_W,CHLORA,CHLORA_FLAG_W,PPHYTN,PPHYTN_FLAG_W,REVPRS,REVTMP,DEPTH_,DEPTH_FLAG,CTDDEP,THETA,SIGTHT,DOC,DOC_FLAG_W
,,,,,,,GMT,GMT,,,METER,DBAR,ITS-90,PSS-78,,UMOL/KG,,PSS-78,,UMOL/KG,,UMOL/KG,,UMOL/KG,,UMOL/KG,,UMOL/KG,,UMOL/KG,,PMOL/KG,,PMOL/KG,,/MILLE,,UMOL/KG,,UMOL/KG,,25_DEG_C,,DEG_C,,,,/MILLE,UMOL/KG,,UMOL/KG,,UG/L,,UG/L,,DBAR,ITS-90,METERS,,METERS,DEG_C,,UMOL/L,
     RF07-06-1,  165E,RF-2987,  1,     -9,      -9,5,20070707,0428, -4.9980, 164.9928, 2348,      0.0,  29.9226,  34.7330,2,   -999.0,9,-999.0000,9,    193.0,2,     1.30,2,  -999.00,9,     0.04,2,     0.00,2,     0.13,2, -999.000,9, -999.000,9,  -999.00,9,   -999.0,9,   -999.0,9,-999.0000,9,   -999.0,  9,  -999.00,9,   -999.0,  -999.00,9,  -999.00,9,     0.06,2,     0.02,2,   -999.0,-999.0000, -999,9,    0,  29.9224,  21.5525,   -999.0,9
     RF07-06-1,  165E,RF-2987,  1,     21,02-18575,2,20070707,0446, -4.9980, 164.9928, 2348,     12.1,  29.9193,  34.7315,2,   -999.0,9,  34.7297,2,    193.8,2,     1.26,2,  -999.00,9,     0.01,2,     0.00,2,     0.13,2, -999.000,9, -999.000,9,  -999.00,9,   -999.0,9,   -999.0,9,-999.0000,9,   -999.0,  9,  -999.00,9,   -999.0,  -999.00,9,  -999.00,9,     0.06,2,     0.02,2,   -999.0,-999.0000, -999,9,   12,  29.9163,  21.5534,   -999.0,9
     RF07-06-1,  165E,RF-2987,  1,     20,02-18574,2,20070707,0444, -4.9980, 164.9928, 2348,     27.0,  29.8985,  34.7362,2,   -999.0,9,-999.0000,9,    193.4,2,     1.24,2,  -999.00,9,     0.01,2,     0.00,2,     0.13,2, -999.000,9, -999.000,9,  -999.00,9,   -999.0,9,   -999.0,9,-999.0000,9,   -999.0,  9,  -999.00,9,   -999.0,  -999.00,9,  -999.00,9,     0.07,2,     0.02,2,   -999.0,-999.0000, -999,9,   27,  29.8918,  21.5653,   -999.0,9
     RF07-06-1,  165E,RF-2987,  1,     19,02-18573,2,20070707,0443, -4.9980, 164.9928, 2348,     53.2,  30.0334,  34.8815,2,   -999.0,9,-999.0000,9,    194.2,2,     1.28,2,  -999.00,9,     0.01,2,     0.00,2,     0.15,2, -999.000,9, -999.000,9,  -999.00,9,   -999.0,9,   -999.0,9,-999.0000,9,   -999.0,  9,  -999.00,9,   -999.0,  -999.00,9,  -999.00,9,     0.12,2,     0.05,2,   -999.0,-999.0000, -999,9,   53,  30.0202,  21.6305,   -999.0,9
     RF07-06-1,  165E,RF-2987,  1,     18,02-18572,2,20070707,0442, -4.9980, 164.9928, 2348,     76.6,  30.0301,  34.9692,2,   -999.0,9,-999.0000,9,    194.7,2,     1.29,2,  -999.00,9,     0.00,2,     0.00,2,     0.16,2, -999.000,9, -999.000,9,  -999.00,9,   -999.0,9,   -999.0,9,-999.0000,9,   -999.0,  9,  -999.00,9,   -999.0,  -999.00,9,  -999.00,9,     0.16,2,     0.09,2,   -999.0,-999.0000, -999,9,   76,  30.0111,  21.6993,   -999.0,9
     RF07-06-1,  165E,RF-2987,  1,     17,02-18571,2,20070707,0440, -4.9980, 164.9928, 2348,    102.4,  29.1935,  35.5447,2,   -999.0,9,  35.5488,2,    185.2,2,     2.01,2,  -999.00,9,     2.63,2,     0.46,2,     0.39,2, -999.000,9, -999.000,9,  -999.00,9,   -999.0,9,   -999.0,9,-999.0000,9,   -999.0,  9,  -999.00,9,   -999.0,  -999.00,9,  -999.00,9,     0.28,2,     0.39,2,   -999.0,-999.0000, -999,9,  102,  29.1686,  22.4166,   -999.0,9
     RF07-06-1,  165E,RF-2987,  1,     16,02-18570,2,20070707,0439, -4.9980, 164.9928, 2348,    126.6,  27.8898,  35.5940,2,   -999.0,9,-999.0000,9,    146.2,2,     2.29,2,  -999.00,9,     7.02,2,     0.43,2,     0.63,2, -999.000,9, -999.000,9,  -999.00,9,   -999.0,9,   -999.0,9,-999.0000,9,   -999.0,  9,  -999.00,9,   -999.0,  -999.00,9,  -999.00,9,     0.14,2,     0.29,2,   -999.0,-999.0000, -999,9,  126,  27.8600,  22.8872,   -999.0,9
     RF07-06-1,  165E,RF-2987,  1,     15,02-18569,2,20070707,0438, -4.9980, 164.9928, 2348,    152.3,  23.8703,  36.1277,2,   -999.0,9,-999.0000,9,    133.4,2,     2.29,2,  -999.00,9,     8.05,2,     0.00,2,     0.74,2, -999.000,9, -999.000,9,  -999.00,9,   -999.0,9,   -999.0,9,-999.0000,9,   -999.0,  9,  -999.00,9,   -999.0,  -999.00,9,  -999.00,9,     0.03,2,     0.04,2,   -999.0,-999.0000, -999,9,  151,  23.8382,  24.5435,   -999.0,9
     RF07-06-1,  165E,RF-2987,  1,     14,02-18568,2,20070707,0436, -4.9980, 164.9928, 2348,    203.3,  17.3672,  35.4486,2,   -999.0,9,  35.4393,4,    105.4,2,     8.04,2,  -999.00,9,    16.04,2,     0.00,2,     1.28,2, -999.000,9, -999.000,9,  -999.00,9,   -999.0,9,   -999.0,9,-999.0000,9,   -999.0,  9,  -999.00,9,   -999.0,  -999.00,9,  -999.00,9,     0.00,2,     0.01,2,   -999.0,-999.0000, -999,9,  202,  17.3330,  25.7787,   -999.0,9
     RF07-06-1,  165E,RF-2987,  1,     13,02-18567,2,20070707,0434, -4.9980, 164.9928, 2348,    253.5,  12.9424,  35.0069,2,   -999.0,9,-999.0000,9,     95.1,2,    16.85,2,  -999.00,9,    23.75,2,     0.00,2,     1.71,2, -999.000,9, -999.000,9,  -999.00,9,   -999.0,9,   -999.0,9,-999.0000,9,   -999.0,  9,  -999.00,9,   -999.0,  -999.00,9,  -999.00,9,  -999.00,9,  -999.00,9,   -999.0,-999.0000, -999,9,  252,  12.9076,  26.4168,   -999.0,9
     RF07-06-1,  165E,RF-2987,  1,     12,02-18348,2,20070707,0432, -4.9980, 164.9928, 2348,    303.8,  10.9995,  34.8312,2,   -999.0,9,  34.8342,2,    106.4,2,    20.98,2,  -999.00,9,    26.08,2,     0.00,2,     1.82,2, -999.000,9, -999.000,9,  -999.00,9,   -999.0,9,   -999.0,9,-999.0000,9,   -999.0,  9,  -999.00,9,   -999.0,  -999.00,9,  -999.00,9,  -999.00,9,  -999.00,9,   -999.0,-999.0000, -999,9,  302,  10.9619,  26.6509,   -999.0,9
     RF07-06-1,  165E,RF-2987,  1,     11,02-18565,2,20070707,0429, -4.9980, 164.9928, 2348,    405.5,   9.3115,  34.6952,2,   -999.0,9,  34.6970,2,     94.7,2,    29.25,2,  -999.00,9,    30.59,2,     0.00,2,     2.10,2, -999.000,9, -999.000,9,  -999.00,9,   -999.0,9,   -999.0,9,-999.0000,9,   -999.0,  9,  -999.00,9,   -999.0,  -999.00,9,  -999.00,9,  -999.00,9,  -999.00,9,   -999.0,-999.0000, -999,9,  403,   9.2662,  26.8364,   -999.0,9
     RF07-06-1,  165E,RF-2987,  1,     10,02-18564,2,20070707,0427, -4.9980, 164.9928, 2348,    505.8,   8.3009,  34.6318,2,   -999.0,9,-999.0000,9,     85.9,2,    36.65,2,  -999.00,9,    33.37,2,     0.00,2,     2.31,2, -999.000,9, -999.000,9,  -999.00,9,   -999.0,9,   -999.0,9,-999.0000,9,   -999.0,  9,  -999.00,9,   -999.0,  -999.00,9,  -999.00,9,  -999.00,9,  -999.00,9,   -999.0,-999.0000, -999,9,  502,   8.2478,  26.9473,   -999.0,9
     RF07-06-1,  165E,RF-2987,  1,      9,02-18563,2,20070707,0424, -4.9980, 164.9928, 2348,    605.9,   7.4065,  34.5879,2,   -999.0,9,  34.5877,2,     82.4,2,    43.36,2,  -999.00,9,    35.59,2,     0.00,2,     2.48,2, -999.000,9, -999.000,9,  -999.00,9,   -999.0,9,   -999.0,9,-999.0000,9,   -999.0,  9,  -999.00,9,   -999.0,  -999.00,9,  -999.00,9,  -999.00,9,  -999.00,9,   -999.0,-999.0000, -999,9,  602,   7.3466,  27.0455,   -999.0,9
     RF07-06-1,  165E,RF-2987,  1,      8,02-18562,2,20070707,0422, -4.9980, 164.9928, 2348,    707.3,   6.3876,  34.5487,2,   -999.0,9,-999.0000,9,     92.0,2,    52.53,2,  -999.00,9,    36.51,2,     0.00,2,     2.57,2, -999.000,9, -999.000,9,  -999.00,9,   -999.0,9,   -999.0,9,-999.0000,9,   -999.0,  9,  -999.00,9,   -999.0,  -999.00,9,  -999.00,9,  -999.00,9,  -999.00,9,   -999.0,-999.0000, -999,9,  702,   6.3226,  27.1544,   -999.0,9
     RF07-06-1,  165E,RF-2987,  1,      7,02-18561,2,20070707,0419, -4.9980, 164.9928, 2348,    807.6,   5.8898,  34.5367,2,   -999.0,9,  34.5374,2,     99.3,2,    58.32,2,  -999.00,9,    36.60,2,     0.00,2,     2.58,2, -999.000,9, -999.000,9,  -999.00,9,   -999.0,9,   -999.0,9,-999.0000,9,   -999.0,  9,  -999.00,9,   -999.0,  -999.00,9,  -999.00,9,  -999.00,9,  -999.00,9,   -999.0,-999.0000, -999,9,  802,   5.8181,  27.2095,   -999.0,9
     RF07-06-1,  165E,RF-2987,  1,      6,02-18560,2,20070707,0416, -4.9980, 164.9928, 2348,    908.9,   5.2006,  34.5157,2,   -999.0,9,-999.0000,9,    130.7,2,    61.99,2,  -999.00,9,    34.65,2,     0.00,2,     2.43,2, -999.000,9, -999.000,9,  -999.00,9,   -999.0,9,   -999.0,9,-999.0000,9,   -999.0,  9,  -999.00,9,   -999.0,  -999.00,9,  -999.00,9,  -999.00,9,  -999.00,9,   -999.0,-999.0000, -999,9,  902,   5.1241,  27.2769,   -999.0,9
     RF07-06-1,  165E,RF-2987,  1,      5,02-18559,2,20070707,0414, -4.9980, 164.9928, 2348,   1009.6,   4.5225,  34.5336,2,   -999.0,9,  34.5336,2,    118.2,2,    77.70,2,  -999.00,9,    36.54,2,     0.00,2,     2.58,2, -999.000,9, -999.000,9,  -999.00,9,   -999.0,9,   -999.0,9,-999.0000,9,   -999.0,  9,  -999.00,9,   -999.0,  -999.00,9,  -999.00,9,  -999.00,9,  -999.00,9,   -999.0,-999.0000, -999,9, 1002,   4.4419,  27.3681,   -999.0,9
     RF07-06-1,  165E,RF-2987,  1,      4,02-18558,2,20070707,0408, -4.9980, 164.9928, 2348,   1262.5,   3.4906,  34.5753,2,   -999.0,9,  34.5741,2,    107.0,2,   103.41,2,  -999.00,9,    38.35,2,     0.00,2,     2.73,2, -999.000,9, -999.000,9,  -999.00,9,   -999.0,9,   -999.0,9,-999.0000,9,   -999.0,  9,  -999.00,9,   -999.0,  -999.00,9,  -999.00,9,  -999.00,9,  -999.00,9,   -999.0,-999.0000, -999,9, 1252,   3.3974,  27.5087,   -999.0,9
     RF07-06-1,  165E,RF-2987,  1,      3,02-18557,2,20070707,0403, -4.9980, 164.9928, 2348,   1514.4,   2.8154,  34.6051,2,   -999.0,9,  34.6068,2,    117.0,2,   118.30,2,  -999.00,9,    37.86,2,     0.00,2,     2.70,2, -999.000,9, -999.000,9,  -999.00,9,   -999.0,9,   -999.0,9,-999.0000,9,   -999.0,  9,  -999.00,9,   -999.0,  -999.00,9,  -999.00,9,  -999.00,9,  -999.00,9,   -999.0,-999.0000, -999,9, 1501,   2.7084,  27.5961,   -999.0,9
     RF07-06-1,  165E,RF-2987,  1,      2,02-18556,2,20070707,0358, -4.9980, 164.9928, 2348,   1767.1,   2.3653,  34.6301,2,   -999.0,9,  34.6297,2,    123.3,2,   128.72,2,  -999.00,9,    37.61,2,     0.00,2,     2.67,2, -999.000,9, -999.000,9,  -999.00,9,   -999.0,9,   -999.0,9,-999.0000,9,   -999.0,  9,  -999.00,9,   -999.0,  -999.00,9,  -999.00,9,  -999.00,9,  -999.00,9,   -999.0,-999.0000, -999,9, 1750,   2.2430,  27.6557,   -999.0,9
     RF07-06-1,  165E,RF-2987,  1,      1,02-18555,2,20070707,0353, -4.9980, 164.9928, 2348,   2022.3,   2.1158,  34.6449,2,   -999.0,9,  34.6454,2,    127.2,2,   134.88,2,  -999.00,9,    37.42,2,     0.00,2,     2.65,2, -999.000,9, -999.000,9,  -999.00,9,   -999.0,9,   -999.0,9,-999.0000,9,   -999.0,  9,  -999.00,9,   -999.0,  -999.00,9,  -999.00,9,  -999.00,9,  -999.00,9,   -999.0,-999.0000, -999,9, 2001,   1.9757,  27.6891,   -999.0,9