BOTTLE,20130510GEMDJMAYT
EXPOCODE,SECT_ID,STNNBR,CASTNO,SAMPNO,BTLNBR,BTLNBR_FLAG_W,DATE,TIME,LATITUDE,LONGITUDE,DEPTH,CTDPRS,CTDTMP,CTDSAL,CTDSAL_FLAG_W,CTDOXY,CTDOXY_FLAG_W,SALNTY,SALNTY_FLAG_W,OXYGEN,OXYGEN_FLAG_W,SILCAT,SILCAT_FLAG_W,NITRAT,NITRAT_FLAG_W,NO2+NO3,NO2+NO3_FLAG_W,NITRIT,NITRIT_FLAG_W,PHSPHT,PHSPHT_FLAG_W,CFC-11,CFC-11_FLAG_W,CFC-12,CFC-12_FLAG_W,DELC13,DELC13_FLAG_W,TCARBN,TCARBN_FLAG_W,ALKALI,ALKALI_FLAG_W,PH,PH_FLAG_W,PH_TMP,PH_SCALE,PH_NBS,PH_NBS_FLAG_W,C13ERR,TOTALP,TOTALP_FLAG_W,AMMONI,AMMONI_FLAG_W,CHLORA,CHLORA_FLAG_W,PPHYTN,PPHYTN_FLAG_W,REVPRS,REVTMP,DEPTH_,DEPTH_FLAG,CTDDEP,THETA,SIGTHT,DOC,DOC_FLAG_W
,,,,,,,GMT,GMT,,,METER,DBAR,ITS-90,PSS-78,,UMOL/KG,,PSS-78,,UMOL/KG,,UMOL/KG,,UMOL/KG,,UMOL/KG,,UMOL/KG,,UMOL/KG,,PMOL/KG,,PMOL/KG,,/MILLE,,UMOL/KG,,UMOL/KG,,25_DEG_C,,DEG_C,,,,/MILLE,UMOL/KG,,UMOL/KG,,UG/L,,UG/L,,DBAR,ITS-90,METERS,,METERS,DEG_C,,UMOL/L,
     RF07-06-1,  142E,RF-3001,  1,     -9,      -9,5,20070714,2340, -0.0058, 142.0073, 3378,      0.0,  29.5742,  34.2057,2,   -999.0,9,-999.0000,9,    196.0,2,     1.48,2,  -999.00,9,     0.00,2,     0.00,2,     0.00,2, -999.000,9, -999.000,9,  -999.00,9,   1902.1,2,   -999.0,9,   8.1318,2,     25.0, TS,  -999.00,9,   -999.0,  -999.00,9,  -999.00,9,     0.31,2,     0.06,2,   -999.0,-999.0000, -999,9,    0,  29.5740,  21.2752,   -999.0,9
     RF07-06-1,  142E,RF-3001,  1,     21,02-18575,2,20070714,2347, -0.0058, 142.0073, 3378,     11.7,  29.5549,  34.2051,2,   -999.0,9,  34.2040,2,    195.9,2,     1.49,2,  -999.00,9,     0.00,2,     0.00,2,     0.00,2, -999.000,9, -999.000,9,  -999.00,9,   1900.8,2,   -999.0,9,   8.1290,2,     25.0, TS,  -999.00,9,   -999.0,  -999.00,9,  -999.00,9,     0.24,2,     0.06,2,   -999.0,-999.0000, -999,9,   12,  29.5520,  21.2822,   -999.0,9
     RF07-06-1,  142E,RF-3001,  1,     20,02-18574,2,20070714,2346, -0.0058, 142.0073, 3378,     27.0,  29.5510,  34.2137,2,   -999.0,9,-999.0000,9,    195.0,2,     1.45,2,  -999.00,9,     0.00,2,     0.00,2,     0.00,2, -999.000,9, -999.000,9,  -999.00,9,   1905.2,2,   -999.0,9,   8.1303,2,     25.0, TS,  -999.00,9,   -999.0,  -999.00,9,  -999.00,9,     0.19,2,     0.08,2,   -999.0,-999.0000, -999,9,   27,  29.5444,  21.2913,   -999.0,9
     RF07-06-1,  142E,RF-3001,  1,     19,02-18573,2,20070714,2344, -0.0058, 142.0073, 3378,     52.2,  29.7018,  34.4707,2,   -999.0,9,-999.0000,9,    193.9,2,     1.30,2,  -999.00,9,     0.00,2,     0.00,2,     0.00,2, -999.000,9, -999.000,9,  -999.00,9,   1915.1,2,   -999.0,9,   8.1225,2,     25.0, TS,  -999.00,9,   -999.0,  -999.00,9,  -999.00,9,     0.22,2,     0.13,2,   -999.0,-999.0000, -999,9,   52,  29.6890,  21.4351,   -999.0,9
     RF07-06-1,  142E,RF-3001,  1,     18,02-18572,2,20070714,2343, -0.0058, 142.0073, 3378,     77.1,  29.8510,  34.6675,2,   -999.0,9,-999.0000,9,    193.8,2,     1.26,2,  -999.00,9,     0.00,2,     0.00,2,     0.01,2, -999.000,9, -999.000,9,  -999.00,9,   1931.1,2,   -999.0,9,   8.1227,2,     25.0, TS,  -999.00,9,   -999.0,  -999.00,9,  -999.00,9,     0.26,2,     0.17,2,   -999.0,-999.0000, -999,9,   77,  29.8320,  21.5342,   -999.0,9
     RF07-06-1,  142E,RF-3001,  1,     17,02-18571,2,20070714,2342, -0.0058, 142.0073, 3378,    102.6,  27.9687,  35.4144,2,   -999.0,9,  35.4024,4,    159.0,2,     2.46,2,  -999.00,9,     5.44,2,     0.10,2,     0.33,2, -999.000,9, -999.000,9,  -999.00,9,   2028.9,2,   -999.0,9,   8.0228,2,     25.0, TS,  -999.00,9,   -999.0,  -999.00,9,  -999.00,9,     0.16,2,     0.32,2,   -999.0,-999.0000, -999,9,  102,  27.9445,  22.7245,   -999.0,9
     RF07-06-1,  142E,RF-3001,  1,     16,02-18570,2,20070714,2340, -0.0058, 142.0073, 3378,    128.1,  25.8449,  35.4852,2,   -999.0,9,-999.0000,9,    137.0,2,     2.74,2,  -999.00,9,     8.09,2,     0.01,2,     0.49,2, -999.000,9, -999.000,9,  -999.00,9,   2052.7,2,   -999.0,9,   7.9793,2,     25.0, TS,  -999.00,9,   -999.0,  -999.00,9,  -999.00,9,     0.04,2,     0.10,2,   -999.0,-999.0000, -999,9,  127,  25.8164,  23.4567,   -999.0,9
     RF07-06-1,  142E,RF-3001,  1,     15,02-18569,2,20070714,2339, -0.0058, 142.0073, 3378,    153.6,  22.9526,  35.4948,2,   -999.0,9,-999.0000,9,    130.5,2,     3.88,2,  -999.00,9,     9.66,2,     0.00,2,     0.59,2, -999.000,9, -999.000,9,  -999.00,9,   2078.4,2,   -999.0,9,   7.9388,2,     25.0, TS,  -999.00,9,   -999.0,  -999.00,9,  -999.00,9,     0.01,2,     0.02,2,   -999.0,-999.0000, -999,9,  153,  22.9212,  24.3317,   -999.0,9
     RF07-06-1,  142E,RF-3001,  1,     14,02-18568,2,20070714,2337, -0.0058, 142.0073, 3378,    204.9,  15.2359,  34.7444,2,   -999.0,9,  34.7533,4,    134.1,2,    16.68,2,  -999.00,9,    16.11,2,     0.00,2,     0.97,2, -999.000,9, -999.000,9,  -999.00,9,   2124.6,2,   -999.0,9,   7.7917,2,     25.0, TS,  -999.00,9,   -999.0,  -999.00,9,  -999.00,9,     0.00,2,     0.02,2,   -999.0,-999.0000, -999,9,  204,  15.2046,  25.7298,   -999.0,9
     RF07-06-1,  142E,RF-3001,  1,     13,02-18567,2,20070714,2335, -0.0058, 142.0073, 3378,    253.1,  15.1240,  35.2049,2,   -999.0,9,-999.0000,9,    148.9,2,     8.38,2,  -999.00,9,    15.30,2,     0.00,2,     0.96,2, -999.000,9, -999.000,9,  -999.00,9,   2127.7,2,   -999.0,9,   7.8217,2,     25.0, TS,  -999.00,9,   -999.0,  -999.00,9,  -999.00,9,  -999.00,9,  -999.00,9,   -999.0,-999.0000, -999,9,  252,  15.0853,  26.1111,   -999.0,9
     RF07-06-1,  142E,RF-3001,  1,     12,02-18348,2,20070714,2333, -0.0058, 142.0073, 3378,    302.4,  11.8711,  34.9090,2,   -999.0,9,  34.9088,2,    149.7,2,    14.84,2,  -999.00,9,    20.37,2,     0.00,2,     1.29,2, -999.000,9, -999.000,9,  -999.00,9,   2153.6,2,   -999.0,9,   7.7564,2,     25.0, TS,  -999.00,9,   -999.0,  -999.00,9,  -999.00,9,  -999.00,9,  -999.00,9,   -999.0,-999.0000, -999,9,  300,  11.8318,  26.5505,   -999.0,9
     RF07-06-1,  142E,RF-3001,  1,     11,02-18565,2,20070714,2330, -0.0058, 142.0073, 3378,    404.0,   8.9577,  34.6383,2,   -999.0,9,  34.6356,2,    116.5,2,    34.03,2,  -999.00,9,    28.96,2,     0.00,2,     1.88,2, -999.000,9, -999.000,9,  -999.00,9,   2205.8,2,   -999.0,9,   7.6229,2,     25.0, TS,  -999.00,9,   -999.0,  -999.00,9,  -999.00,9,  -999.00,9,  -999.00,9,   -999.0,-999.0000, -999,9,  401,   8.9136,  26.8487,   -999.0,9
     RF07-06-1,  142E,RF-3001,  1,     10,02-18564,2,20070714,2328, -0.0058, 142.0073, 3378,    505.2,   7.5505,  34.5692,2,   -999.0,9,-999.0000,9,    132.4,2,    36.87,2,  -999.00,9,    30.23,2,     0.00,2,     1.98,2, -999.000,9, -999.000,9,  -999.00,9,   2202.3,4,   -999.0,9,   7.6143,2,     25.0, TS,  -999.00,9,   -999.0,  -999.00,9,  -999.00,9,  -999.00,9,  -999.00,9,   -999.0,-999.0000, -999,9,  502,   7.5004,  27.0088,   -999.0,9
     RF07-06-1,  142E,RF-3001,  1,      9,02-18563,2,20070714,2325, -0.0058, 142.0073, 3378,    605.4,   6.4620,  34.5083,2,   -999.0,9,  34.5116,2,    159.6,2,    37.45,2,  -999.00,9,    29.92,2,     0.00,2,     1.95,2, -999.000,9, -999.000,9,  -999.00,9,   2199.4,4,   -999.0,9,   7.6255,2,     25.0, TS,  -999.00,9,   -999.0,  -999.00,9,  -999.00,9,  -999.00,9,  -999.00,9,   -999.0,-999.0000, -999,9,  601,   6.4065,  27.1115,   -999.0,9
     RF07-06-1,  142E,RF-3001,  1,      8,02-18562,2,20070714,2322, -0.0058, 142.0073, 3378,    706.2,   5.8031,  34.5369,2,   -999.0,9,-999.0000,9,    102.3,2,    61.17,2,  -999.00,9,    36.12,2,     0.00,2,     2.48,2, -999.000,9, -999.000,9,  -999.00,9,   2256.9,2,   -999.0,9,   7.5351,2,     25.0, TS,  -999.00,9,   -999.0,  -999.00,9,  -999.00,9,  -999.00,9,  -999.00,9,   -999.0,-999.0000, -999,9,  701,   5.7414,  27.2192,   -999.0,9
     RF07-06-1,  142E,RF-3001,  1,      7,02-18561,2,20070714,2320, -0.0058, 142.0073, 3378,    808.2,   5.4827,  34.5339,2,   -999.0,9,  34.5347,2,    106.0,2,    66.37,2,  -999.00,9,    36.17,2,     0.00,2,     2.48,2, -999.000,9, -999.000,9,  -999.00,9,   2257.7,2,   -999.0,9,   7.5422,2,     25.0, TS,  -999.00,9,   -999.0,  -999.00,9,  -999.00,9,  -999.00,9,  -999.00,9,   -999.0,-999.0000, -999,9,  802,   5.4135,  27.2570,   -999.0,9
     RF07-06-1,  142E,RF-3001,  1,      6,02-18560,2,20070714,2317, -0.0058, 142.0073, 3378,    908.6,   4.7843,  34.5478,2,   -999.0,9,-999.0000,9,    102.1,2,    83.97,2,  -999.00,9,    37.10,2,     0.00,2,     2.57,2, -999.000,9, -999.000,9,  -999.00,9,   2282.2,2,   -999.0,9,   7.5242,2,     25.0, TS,  -999.00,9,   -999.0,  -999.00,9,  -999.00,9,  -999.00,9,  -999.00,9,   -999.0,-999.0000, -999,9,  902,   4.7106,  27.3497,   -999.0,9
     RF07-06-1,  142E,RF-3001,  1,      5,02-18559,2,20070714,2315, -0.0058, 142.0073, 3378,   1009.9,   4.3383,  34.5561,2,   -999.0,9,  34.5559,2,    100.3,2,    91.83,2,  -999.00,9,    37.71,2,     0.00,2,     2.63,2, -999.000,9, -999.000,9,  -999.00,9,   2292.2,2,   -999.0,9,   7.5286,2,     25.0, TS,  -999.00,9,   -999.0,  -999.00,9,  -999.00,9,  -999.00,9,  -999.00,9,   -999.0,-999.0000, -999,9, 1002,   4.2591,  27.4057,   -999.0,9
     RF07-06-1,  142E,RF-3001,  1,      4,02-18558,2,20070714,2309, -0.0058, 142.0073, 3378,   1262.1,   3.8315,  34.5727,2,   -999.0,9,  34.5725,2,     98.7,2,   104.27,2,  -999.00,9,    38.27,2,     0.00,2,     2.68,2, -999.000,9, -999.000,9,  -999.00,9,   2304.9,2,   -999.0,9,   7.5293,2,     25.0, TS,  -999.00,9,   -999.0,  -999.00,9,  -999.00,9,  -999.00,9,  -999.00,9,   -999.0,-999.0000, -999,9, 1251,   3.7350,  27.4733,   -999.0,9
     RF07-06-1,  142E,RF-3001,  1,      3,02-18557,2,20070714,2304, -0.0058, 142.0073, 3378,   1514.8,   3.0177,  34.6016,2,   -999.0,9,  34.6028,2,    106.8,2,   119.88,2,  -999.00,9,    38.27,2,     0.00,2,     2.67,2, -999.000,9, -999.000,9,  -999.00,9,   2323.1,2,   -999.0,9,   7.5269,2,     25.0, TS,  -999.00,9,   -999.0,  -999.00,9,  -999.00,9,  -999.00,9,  -999.00,9,   -999.0,-999.0000, -999,9, 1501,   2.9084,  27.5754,   -999.0,9
     RF07-06-1,  142E,RF-3001,  1,      2,02-18556,2,20070714,2259, -0.0058, 142.0073, 3378,   1768.4,   2.5746,  34.6209,2,   -999.0,9,  34.6220,2,    112.2,2,   128.87,2,  -999.00,9,    38.05,2,     0.00,2,     2.64,2, -999.000,9, -999.000,9,  -999.00,9,   2331.2,6,   -999.0,9,   7.5480,2,     25.0, TS,  -999.00,9,   -999.0,  -999.00,9,  -999.00,9,  -999.00,9,  -999.00,9,   -999.0,-999.0000, -999,9, 1751,   2.4494,  27.6311,   -999.0,9
     RF07-06-1,  142E,RF-3001,  1,      1,02-18555,2,20070714,2254, -0.0058, 142.0073, 3378,   2021.5,   2.2437,  34.6373,2,   -999.0,9,  34.6379,2,    117.8,2,   136.53,2,  -999.00,9,    38.00,2,     0.00,2,     2.62,2, -999.000,9, -999.000,9,  -999.00,9,   2335.7,2,   -999.0,9,   7.5517,6,     25.0, TS,  -999.00,9,   -999.0,  -999.00,9,  -999.00,9,  -999.00,9,  -999.00,9,   -999.0,-999.0000, -999,9, 2001,   2.1017,  27.6730,   -999.0,9