BOTTLE,20130510GEMDJMAYT
EXPOCODE,SECT_ID,STNNBR,CASTNO,SAMPNO,BTLNBR,BTLNBR_FLAG_W,DATE,TIME,LATITUDE,LONGITUDE,DEPTH,CTDPRS,CTDTMP,CTDSAL,CTDSAL_FLAG_W,CTDOXY,CTDOXY_FLAG_W,SALNTY,SALNTY_FLAG_W,OXYGEN,OXYGEN_FLAG_W,SILCAT,SILCAT_FLAG_W,NITRAT,NITRAT_FLAG_W,NO2+NO3,NO2+NO3_FLAG_W,NITRIT,NITRIT_FLAG_W,PHSPHT,PHSPHT_FLAG_W,CFC-11,CFC-11_FLAG_W,CFC-12,CFC-12_FLAG_W,DELC13,DELC13_FLAG_W,TCARBN,TCARBN_FLAG_W,ALKALI,ALKALI_FLAG_W,PH,PH_FLAG_W,PH_TMP,PH_SCALE,PH_NBS,PH_NBS_FLAG_W,C13ERR,TOTALP,TOTALP_FLAG_W,AMMONI,AMMONI_FLAG_W,CHLORA,CHLORA_FLAG_W,PPHYTN,PPHYTN_FLAG_W,REVPRS,REVTMP,DEPTH_,DEPTH_FLAG,CTDDEP,THETA,SIGTHT,DOC,DOC_FLAG_W
,,,,,,,GMT,GMT,,,METER,DBAR,ITS-90,PSS-78,,UMOL/KG,,PSS-78,,UMOL/KG,,UMOL/KG,,UMOL/KG,,UMOL/KG,,UMOL/KG,,UMOL/KG,,PMOL/KG,,PMOL/KG,,/MILLE,,UMOL/KG,,UMOL/KG,,25_DEG_C,,DEG_C,,,,/MILLE,UMOL/KG,,UMOL/KG,,UG/L,,UG/L,,DBAR,ITS-90,METERS,,METERS,DEG_C,,UMOL/L,
     RF07-06-1,  165E,RF-2982,  1,     -9,      -9,5,20070705,1925,  0.0803, 164.9713, 4401,      0.0,  29.4182,  35.0931,2,   -999.0,9,-999.0000,9,    195.5,2,     1.14,2,  -999.00,9,     0.27,2,     0.05,2,     0.15,2, -999.000,9, -999.000,9,  -999.00,9,   1957.7,3,   -999.0,9,-999.0000,9,   -999.0,  9,  -999.00,9,   -999.0,  -999.00,9,  -999.00,9,     0.20,2,     0.07,2,   -999.0,-999.0000, -999,9,    0,  29.4180,  21.9936,   -999.0,9
     RF07-06-1,  165E,RF-2982,  1,     21,02-18575,3,20070705,1940,  0.0803, 164.9713, 4401,     10.3,  29.4295,  35.0958,2,   -999.0,9,  35.1032,4,    196.1,2,     1.14,2,  -999.00,9,     0.30,2,     0.06,2,     0.15,2, -999.000,9, -999.000,9,  -999.00,9,   1961.1,3,   -999.0,9,-999.0000,9,   -999.0,  9,  -999.00,9,   -999.0,  -999.00,9,  -999.00,9,     0.20,2,     0.09,2,   -999.0,-999.0000, -999,9,   10,  29.4270,  21.9926,   -999.0,9
     RF07-06-1,  165E,RF-2982,  1,     20,02-18574,2,20070705,1938,  0.0803, 164.9713, 4401,     25.8,  29.3473,  35.2702,2,   -999.0,9,-999.0000,9,    191.7,2,     1.37,2,  -999.00,9,     1.21,2,     0.25,2,     0.22,2, -999.000,9, -999.000,9,  -999.00,9,   1975.9,3,   -999.0,9,-999.0000,9,   -999.0,  9,  -999.00,9,   -999.0,  -999.00,9,  -999.00,9,     0.27,2,     0.15,2,   -999.0,-999.0000, -999,9,   26,  29.3410,  22.1525,   -999.0,9
     RF07-06-1,  165E,RF-2982,  1,     19,02-18573,2,20070705,1937,  0.0803, 164.9713, 4401,     52.2,  28.6352,  35.4626,2,   -999.0,9,-999.0000,9,    174.1,2,     2.19,2,  -999.00,9,     4.13,2,     0.74,2,     0.37,2, -999.000,9, -999.000,9,  -999.00,9,   2009.1,3,   -999.0,9,-999.0000,9,   -999.0,  9,  -999.00,9,   -999.0,  -999.00,9,  -999.00,9,     0.26,2,     0.29,2,   -999.0,-999.0000, -999,9,   52,  28.6227,  22.5373,   -999.0,9
     RF07-06-1,  165E,RF-2982,  1,     18,02-18572,2,20070705,1934,  0.0803, 164.9713, 4401,     78.9,  28.4163,  35.4527,2,   -999.0,9,-999.0000,9,    170.8,2,     2.32,2,  -999.00,9,     4.90,2,     0.68,2,     0.42,2, -999.000,9, -999.000,9,  -999.00,9,   2021.7,3,   -999.0,9,-999.0000,9,   -999.0,  9,  -999.00,9,   -999.0,  -999.00,9,  -999.00,9,     0.20,2,     0.25,2,   -999.0,-999.0000, -999,9,   78,  28.3975,  22.6044,   -999.0,9
     RF07-06-1,  165E,RF-2982,  1,     17,02-18571,2,20070705,1932,  0.0803, 164.9713, 4401,    105.7,  25.4060,  35.2631,2,   -999.0,9,  35.2700,4,    139.7,2,     3.98,2,  -999.00,9,     8.21,2,     0.12,2,     0.59,2, -999.000,9, -999.000,9,  -999.00,9,   2043.0,3,   -999.0,9,-999.0000,9,   -999.0,  9,  -999.00,9,   -999.0,  -999.00,9,  -999.00,9,     0.08,2,     0.25,2,   -999.0,-999.0000, -999,9,  105,  25.3828,  23.4230,   -999.0,9
     RF07-06-1,  165E,RF-2982,  1,     16,02-18570,2,20070705,1929,  0.0803, 164.9713, 4401,    129.5,  23.3674,  35.3231,2,   -999.0,9,-999.0000,9,    130.8,2,     5.20,2,  -999.00,9,     9.80,2,     0.01,2,     0.67,2, -999.000,9, -999.000,9,  -999.00,9,   2064.5,3,   -999.0,9,-999.0000,9,   -999.0,  9,  -999.00,9,   -999.0,  -999.00,9,  -999.00,9,     0.04,2,     0.07,2,   -999.0,-999.0000, -999,9,  129,  23.3406,  24.0799,   -999.0,9
     RF07-06-1,  165E,RF-2982,  1,     15,02-18569,2,20070705,1927,  0.0803, 164.9713, 4401,    155.0,  21.8027,  35.3962,2,   -999.0,9,-999.0000,9,    130.5,2,     5.78,2,  -999.00,9,    10.50,2,     0.01,2,     0.73,2, -999.000,9, -999.000,9,  -999.00,9,   2080.1,3,   -999.0,9,-999.0000,9,   -999.0,  9,  -999.00,9,   -999.0,  -999.00,9,  -999.00,9,     0.01,2,     0.03,2,   -999.0,-999.0000, -999,9,  154,  21.7722,  24.5827,   -999.0,9
     RF07-06-1,  165E,RF-2982,  1,     14,02-18568,2,20070705,1924,  0.0803, 164.9713, 4401,    205.0,  16.8464,  35.2296,2,   -999.0,9,  35.2439,4,    134.4,2,     9.51,2,  -999.00,9,    14.23,2,     0.00,2,     0.97,2, -999.000,9, -999.000,9,  -999.00,9,   2114.5,3,   -999.0,9,-999.0000,9,   -999.0,  9,  -999.00,9,   -999.0,  -999.00,9,  -999.00,9,     0.00,2,     0.01,2,   -999.0,-999.0000, -999,9,  204,  16.8127,  25.7350,   -999.0,9
     RF07-06-1,  165E,RF-2982,  1,     13,02-18567,3,20070705,1921,  0.0803, 164.9713, 4401,    253.7,  13.2971,  34.9272,2,   -999.0,9,-999.0000,9,    142.4,2,    17.40,2,  -999.00,9,    19.02,2,     0.00,2,     1.29,2, -999.000,9, -999.000,9,  -999.00,9,   2139.0,3,   -999.0,9,-999.0000,9,   -999.0,  9,  -999.00,9,   -999.0,  -999.00,9,  -999.00,9,  -999.00,9,  -999.00,9,   -999.0,-999.0000, -999,9,  252,  13.2616,  26.2836,   -999.0,9
     RF07-06-1,  165E,RF-2982,  1,     12,02-18348,2,20070705,1919,  0.0803, 164.9713, 4401,    305.8,  11.5980,  34.8314,2,   -999.0,9,  34.8314,2,     97.6,2,    23.74,2,  -999.00,9,    26.10,2,     0.00,2,     1.76,2, -999.000,9, -999.000,9,  -999.00,9,   2178.8,3,   -999.0,9,-999.0000,9,   -999.0,  9,  -999.00,9,   -999.0,  -999.00,9,  -999.00,9,  -999.00,9,  -999.00,9,   -999.0,-999.0000, -999,9,  304,  11.5589,  26.5414,   -999.0,9
     RF07-06-1,  165E,RF-2982,  1,     11,02-18565,2,20070705,1915,  0.0803, 164.9713, 4401,    406.2,   9.5366,  34.6926,2,   -999.0,9,  34.6934,2,     85.9,2,    32.20,2,  -999.00,9,    30.95,2,     0.00,2,     2.10,2, -999.000,9, -999.000,9,  -999.00,9,   2215.8,3,   -999.0,9,-999.0000,9,   -999.0,  9,  -999.00,9,   -999.0,  -999.00,9,  -999.00,9,  -999.00,9,  -999.00,9,   -999.0,-999.0000, -999,9,  404,   9.4905,  26.7976,   -999.0,9
     RF07-06-1,  165E,RF-2982,  1,     10,02-18564,2,20070705,1912,  0.0803, 164.9713, 4401,    506.7,   7.6212,  34.5838,2,   -999.0,9,-999.0000,9,    117.5,2,    38.08,2,  -999.00,9,    31.70,2,     0.00,2,     2.16,2, -999.000,9, -999.000,9,  -999.00,9,   2207.8,4,   -999.0,9,-999.0000,9,   -999.0,  9,  -999.00,9,   -999.0,  -999.00,9,  -999.00,9,  -999.00,9,  -999.00,9,   -999.0,-999.0000, -999,9,  503,   7.5706,  27.0101,   -999.0,9
     RF07-06-1,  165E,RF-2982,  1,      9,02-18563,2,20070705,1909,  0.0803, 164.9713, 4401,    607.6,   7.0252,  34.5692,2,   -999.0,9,  34.5693,2,     88.0,2,    48.02,2,  -999.00,9,    35.69,2,     0.00,2,     2.48,2, -999.000,9, -999.000,9,  -999.00,9,   2240.3,3,   -999.0,9,-999.0000,9,   -999.0,  9,  -999.00,9,   -999.0,  -999.00,9,  -999.00,9,  -999.00,9,  -999.00,9,   -999.0,-999.0000, -999,9,  603,   6.9669,  27.0840,   -999.0,9
     RF07-06-1,  165E,RF-2982,  1,      8,02-18562,2,20070705,1906,  0.0803, 164.9713, 4401,    708.6,   6.0681,  34.5460,2,   -999.0,9,-999.0000,9,     89.4,2,    60.47,2,  -999.00,9,    37.10,2,     0.00,2,     2.61,2, -999.000,9, -999.000,9,  -999.00,9,   2255.2,3,   -999.0,9,-999.0000,9,   -999.0,  9,  -999.00,9,   -999.0,  -999.00,9,  -999.00,9,  -999.00,9,  -999.00,9,   -999.0,-999.0000, -999,9,  704,   6.0047,  27.1933,   -999.0,9
     RF07-06-1,  165E,RF-2982,  1,      7,02-18561,2,20070705,1903,  0.0803, 164.9713, 4401,    808.1,   5.5222,  34.5406,2,   -999.0,9,  34.5440,2,     94.2,2,    68.50,2,  -999.00,9,    37.32,2,     0.00,2,     2.64,2, -999.000,9, -999.000,9,  -999.00,9,   2259.5,3,   -999.0,9,-999.0000,9,   -999.0,  9,  -999.00,9,   -999.0,  -999.00,9,  -999.00,9,  -999.00,9,  -999.00,9,   -999.0,-999.0000, -999,9,  802,   5.4527,  27.2575,   -999.0,9
     RF07-06-1,  165E,RF-2982,  1,      6,02-18560,2,20070705,1901,  0.0803, 164.9713, 4401,    910.3,   5.0762,  34.5420,2,   -999.0,9,-999.0000,9,     99.1,2,    76.55,2,  -999.00,9,    37.37,2,     0.00,2,     2.65,2, -999.000,9, -999.000,9,  -999.00,9,   2263.5,3,   -999.0,9,-999.0000,9,   -999.0,  9,  -999.00,9,   -999.0,  -999.00,9,  -999.00,9,  -999.00,9,  -999.00,9,   -999.0,-999.0000, -999,9,  903,   5.0004,  27.3121,   -999.0,9
     RF07-06-1,  165E,RF-2982,  1,      5,02-18559,2,20070705,1858,  0.0803, 164.9713, 4401,   1007.7,   4.6304,  34.5486,2,   -999.0,9,  34.5520,2,    100.8,2,    85.04,2,  -999.00,9,    37.69,2,     0.00,2,     2.69,2, -999.000,9, -999.000,9,  -999.00,9,   2278.2,3,   -999.0,9,-999.0000,9,   -999.0,  9,  -999.00,9,   -999.0,  -999.00,9,  -999.00,9,  -999.00,9,  -999.00,9,   -999.0,-999.0000, -999,9, 1000,   4.5492,  27.3683,   -999.0,9
     RF07-06-1,  165E,RF-2982,  1,      4,02-18558,2,20070705,1854,  0.0803, 164.9713, 4401,   1261.5,   3.6143,  34.5804,2,   -999.0,9,  34.5807,2,     95.6,2,   108.32,2,  -999.00,9,    39.03,2,     0.00,2,     2.80,2, -999.000,9, -999.000,9,  -999.00,9,   2309.2,3,   -999.0,9,-999.0000,9,   -999.0,  9,  -999.00,9,   -999.0,  -999.00,9,  -999.00,9,  -999.00,9,  -999.00,9,   -999.0,-999.0000, -999,9, 1251,   3.5200,  27.5009,   -999.0,9
     RF07-06-1,  165E,RF-2982,  1,      3,02-18557,2,20070705,1849,  0.0803, 164.9713, 4401,   1513.0,   2.9835,  34.6049,2,   -999.0,9,  34.6066,2,    100.0,2,   122.36,2,  -999.00,9,    39.14,2,     0.00,2,     2.79,2, -999.000,9, -999.000,9,  -999.00,9,   2322.1,3,   -999.0,9,-999.0000,9,   -999.0,  9,  -999.00,9,   -999.0,  -999.00,9,  -999.00,9,  -999.00,9,  -999.00,9,   -999.0,-999.0000, -999,9, 1499,   2.8747,  27.5811,   -999.0,9
     RF07-06-1,  165E,RF-2982,  1,      2,02-18556,2,20070705,1844,  0.0803, 164.9713, 4401,   1767.9,   2.5381,  34.6232,2,   -999.0,9,  34.6237,2,    113.5,2,   128.50,2,  -999.00,9,    38.47,2,     0.00,2,     2.71,2, -999.000,9, -999.000,9,  -999.00,9,   2326.5,2,   -999.0,9,-999.0000,9,   -999.0,  9,  -999.00,9,   -999.0,  -999.00,9,  -999.00,9,  -999.00,9,  -999.00,9,   -999.0,-999.0000, -999,9, 1751,   2.4135,  27.6359,   -999.0,9
     RF07-06-1,  165E,RF-2982,  1,      1,02-18555,2,20070705,1839,  0.0803, 164.9713, 4401,   2022.3,   2.2682,  34.6387,2,   -999.0,9,  34.6401,2,    113.7,2,   136.31,2,  -999.00,9,    38.52,2,     0.00,2,     2.71,2, -999.000,9, -999.000,9,  -999.00,9,   2337.3,2,   -999.0,9,-999.0000,9,   -999.0,  9,  -999.00,9,   -999.0,  -999.00,9,  -999.00,9,  -999.00,9,  -999.00,9,   -999.0,-999.0000, -999,9, 2001,   2.1258,  27.6721,   -999.0,9