BOTTLE,20130510GEMDJMAYT
EXPOCODE,SECT_ID,STNNBR,CASTNO,SAMPNO,BTLNBR,BTLNBR_FLAG_W,DATE,TIME,LATITUDE,LONGITUDE,DEPTH,CTDPRS,CTDTMP,CTDSAL,CTDSAL_FLAG_W,CTDOXY,CTDOXY_FLAG_W,SALNTY,SALNTY_FLAG_W,OXYGEN,OXYGEN_FLAG_W,SILCAT,SILCAT_FLAG_W,NITRAT,NITRAT_FLAG_W,NO2+NO3,NO2+NO3_FLAG_W,NITRIT,NITRIT_FLAG_W,PHSPHT,PHSPHT_FLAG_W,CFC-11,CFC-11_FLAG_W,CFC-12,CFC-12_FLAG_W,DELC13,DELC13_FLAG_W,TCARBN,TCARBN_FLAG_W,ALKALI,ALKALI_FLAG_W,PH,PH_FLAG_W,PH_TMP,PH_SCALE,PH_NBS,PH_NBS_FLAG_W,C13ERR,TOTALP,TOTALP_FLAG_W,AMMONI,AMMONI_FLAG_W,CHLORA,CHLORA_FLAG_W,PPHYTN,PPHYTN_FLAG_W,REVPRS,REVTMP,DEPTH_,DEPTH_FLAG,CTDDEP,THETA,SIGTHT,DOC,DOC_FLAG_W
,,,,,,,GMT,GMT,,,METER,DBAR,ITS-90,PSS-78,,UMOL/KG,,PSS-78,,UMOL/KG,,UMOL/KG,,UMOL/KG,,UMOL/KG,,UMOL/KG,,UMOL/KG,,PMOL/KG,,PMOL/KG,,/MILLE,,UMOL/KG,,UMOL/KG,,25_DEG_C,,DEG_C,,,,/MILLE,UMOL/KG,,UMOL/KG,,UG/L,,UG/L,,DBAR,ITS-90,METERS,,METERS,DEG_C,,UMOL/L,
     RF07-06-1,  165E,RF-2962,  1,     -9,      -9,5,20070619,2304, 20.0117, 164.9873, 5360,      0.0,  28.8345,  34.7553,2,   -999.0,9,-999.0000,9,    197.1,2,     1.31,2,  -999.00,9,     0.01,2,     0.00,2,     0.03,2, -999.000,9, -999.000,9,  -999.00,9,   1939.4,3,   -999.0,9,-999.0000,9,   -999.0,  9,  -999.00,9,   -999.0,  -999.00,9,  -999.00,9,     0.07,2,     0.02,2,   -999.0,-999.0000, -999,9,    0,  28.8343,  21.9356,   -999.0,9
     RF07-06-1,  165E,RF-2962,  1,     21,02-18575,2,20070619,2313, 20.0117, 164.9873, 5360,     11.1,  28.8112,  34.7543,2,   -999.0,9,  34.7536,2,    196.8,2,     1.37,2,  -999.00,9,     0.02,2,     0.00,2,     0.04,2, -999.000,9, -999.000,9,  -999.00,9,   1938.4,3,   -999.0,9,-999.0000,9,   -999.0,  9,  -999.00,9,   -999.0,  -999.00,9,  -999.00,9,     0.06,2,     0.02,2,   -999.0,-999.0000, -999,9,   11,  28.8085,  21.9434,   -999.0,9
     RF07-06-1,  165E,RF-2962,  1,     20,02-18574,2,20070619,2312, 20.0117, 164.9873, 5360,     25.1,  28.7904,  34.7541,2,   -999.0,9,-999.0000,9,    196.5,2,     1.37,2,  -999.00,9,     0.01,2,     0.00,2,     0.04,2, -999.000,9, -999.000,9,  -999.00,9,   1940.5,3,   -999.0,9,-999.0000,9,   -999.0,  9,  -999.00,9,   -999.0,  -999.00,9,  -999.00,9,     0.06,2,     0.02,2,   -999.0,-999.0000, -999,9,   25,  28.7844,  21.9513,   -999.0,9
     RF07-06-1,  165E,RF-2962,  1,     19,02-18573,2,20070619,2310, 20.0117, 164.9873, 5360,     52.3,  28.7791,  34.7901,2,   -999.0,9,-999.0000,9,    198.1,2,     1.38,2,  -999.00,9,     0.00,2,     0.00,2,     0.04,2, -999.000,9, -999.000,9,  -999.00,9,   1935.7,3,   -999.0,9,-999.0000,9,   -999.0,  9,  -999.00,9,   -999.0,  -999.00,9,  -999.00,9,     0.08,2,     0.03,2,   -999.0,-999.0000, -999,9,   52,  28.7665,  21.9843,   -999.0,9
     RF07-06-1,  165E,RF-2962,  1,     18,02-18572,2,20070619,2309, 20.0117, 164.9873, 5360,     75.9,  27.5019,  35.1056,2,   -999.0,9,-999.0000,9,    208.8,2,     1.27,2,  -999.00,9,     0.00,2,     0.00,2,     0.01,2, -999.000,9, -999.000,9,  -999.00,9,   1951.5,3,   -999.0,9,-999.0000,9,   -999.0,  9,  -999.00,9,   -999.0,  -999.00,9,  -999.00,9,     0.13,2,     0.05,2,   -999.0,-999.0000, -999,9,   75,  27.4842,  22.6417,   -999.0,9
     RF07-06-1,  165E,RF-2962,  1,     17,02-18571,2,20070619,2308, 20.0117, 164.9873, 5360,    101.9,  26.6582,  35.1931,2,   -999.0,9,  35.1929,2,    208.8,2,     1.39,2,  -999.00,9,     0.00,2,     0.00,2,     0.01,2, -999.000,9, -999.000,9,  -999.00,9,   1960.6,3,   -999.0,9,-999.0000,9,   -999.0,  9,  -999.00,9,   -999.0,  -999.00,9,  -999.00,9,     0.16,2,     0.08,2,   -999.0,-999.0000, -999,9,  101,  26.6350,  22.9794,   -999.0,9
     RF07-06-1,  165E,RF-2962,  1,     16,02-18570,2,20070619,2307, 20.0117, 164.9873, 5360,    126.8,  25.8556,  35.2455,2,   -999.0,9,-999.0000,9,    210.3,2,     1.36,2,  -999.00,9,     0.00,2,     0.00,2,     0.01,2, -999.000,9, -999.000,9,  -999.00,9,   1969.3,3,   -999.0,9,-999.0000,9,   -999.0,  9,  -999.00,9,   -999.0,  -999.00,9,  -999.00,9,     0.26,2,     0.17,2,   -999.0,-999.0000, -999,9,  126,  25.8274,  23.2723,   -999.0,9
     RF07-06-1,  165E,RF-2962,  1,     15,02-18569,2,20070619,2306, 20.0117, 164.9873, 5360,    152.6,  25.0876,  35.2554,2,   -999.0,9,-999.0000,9,    206.7,2,     1.36,2,  -999.00,9,     0.00,2,     0.00,2,     0.02,2, -999.000,9, -999.000,9,  -999.00,9,   1977.4,3,   -999.0,9,-999.0000,9,   -999.0,  9,  -999.00,9,   -999.0,  -999.00,9,  -999.00,9,     0.18,2,     0.15,2,   -999.0,-999.0000, -999,9,  152,  25.0544,  23.5177,   -999.0,9
     RF07-06-1,  165E,RF-2962,  1,     14,02-18568,2,20070619,2304, 20.0117, 164.9873, 5360,    203.4,  21.0583,  34.9897,2,   -999.0,9,  34.9933,2,    180.1,2,     2.90,2,  -999.00,9,     2.36,2,     0.01,2,     0.25,2, -999.000,9, -999.000,9,  -999.00,9,   2038.1,3,   -999.0,9,-999.0000,9,   -999.0,  9,  -999.00,9,   -999.0,  -999.00,9,  -999.00,9,     0.02,2,     0.07,2,   -999.0,-999.0000, -999,9,  202,  21.0193,  24.4808,   -999.0,9
     RF07-06-1,  165E,RF-2962,  1,     13,02-18567,2,20070619,2302, 20.0117, 164.9873, 5360,    254.9,  18.0910,  34.8078,2,   -999.0,9,-999.0000,9,    183.4,2,     4.80,2,  -999.00,9,     5.09,2,     0.00,2,     0.39,2, -999.000,9, -999.000,9,  -999.00,9,   2046.9,3,   -999.0,9,-999.0000,9,   -999.0,  9,  -999.00,9,   -999.0,  -999.00,9,  -999.00,9,  -999.00,9,  -999.00,9,   -999.0,-999.0000, -999,9,  253,  18.0471,  25.1133,   -999.0,9
     RF07-06-1,  165E,RF-2962,  1,     12,02-18348,2,20070619,2300, 20.0117, 164.9873, 5360,    305.0,  15.4031,  34.5856,2,   -999.0,9,  34.5868,2,    190.9,2,     7.99,2,  -999.00,9,     8.25,2,     0.00,2,     0.57,2, -999.000,9, -999.000,9,  -999.00,9,   2059.8,3,   -999.0,9,-999.0000,9,   -999.0,  9,  -999.00,9,   -999.0,  -999.00,9,  -999.00,9,  -999.00,9,  -999.00,9,   -999.0,-999.0000, -999,9,  303,  15.3561,  25.5739,   -999.0,9
     RF07-06-1,  165E,RF-2962,  1,     11,02-18565,2,20070619,2258, 20.0117, 164.9873, 5360,    405.8,  11.5194,  34.2744,2,   -999.0,9,  34.2750,2,    180.1,2,    18.99,2,  -999.00,9,    15.90,2,     0.00,2,     1.09,2, -999.000,9, -999.000,9,  -999.00,9,   2104.5,3,   -999.0,9,-999.0000,9,   -999.0,  9,  -999.00,9,   -999.0,  -999.00,9,  -999.00,9,  -999.00,9,  -999.00,9,   -999.0,-999.0000, -999,9,  403,  11.4678,  26.1252,   -999.0,9
     RF07-06-1,  165E,RF-2962,  1,     10,02-18564,2,20070619,2255, 20.0117, 164.9873, 5360,    506.8,   8.5201,  34.1794,2,   -999.0,9,-999.0000,9,    116.8,2,    41.89,2,  -999.00,9,    27.32,2,     0.00,2,     1.93,2, -999.000,9, -999.000,9,  -999.00,9,   2186.0,3,   -999.0,9,-999.0000,9,   -999.0,  9,  -999.00,9,   -999.0,  -999.00,9,  -999.00,9,  -999.00,9,  -999.00,9,   -999.0,-999.0000, -999,9,  503,   8.4665,  26.5589,   -999.0,9
     RF07-06-1,  165E,RF-2962,  1,      9,02-18563,2,20070619,2253, 20.0117, 164.9873, 5360,    606.3,   6.6778,  34.1785,2,   -999.0,9,  34.1791,2,     77.7,2,    64.53,2,  -999.00,9,    34.01,2,     0.00,2,     2.42,2, -999.000,9, -999.000,9,  -999.00,9,   2253.2,3,   -999.0,9,-999.0000,9,   -999.0,  9,  -999.00,9,   -999.0,  -999.00,9,  -999.00,9,  -999.00,9,  -999.00,9,   -999.0,-999.0000, -999,9,  602,   6.6216,  26.8228,   -999.0,9
     RF07-06-1,  165E,RF-2962,  1,      8,02-18562,2,20070619,2250, 20.0117, 164.9873, 5360,    708.0,   5.5771,  34.2610,2,   -999.0,9,-999.0000,9,     53.0,2,    83.34,2,  -999.00,9,    38.13,2,     0.00,2,     2.73,2, -999.000,9, -999.000,9,  -999.00,9,   2288.1,3,   -999.0,9,-999.0000,9,   -999.0,  9,  -999.00,9,   -999.0,  -999.00,9,  -999.00,9,  -999.00,9,  -999.00,9,   -999.0,-999.0000, -999,9,  703,   5.5168,  27.0285,   -999.0,9
     RF07-06-1,  165E,RF-2962,  1,      7,02-18561,2,20070619,2247, 20.0117, 164.9873, 5360,    807.6,   5.0106,  34.3649,2,   -999.0,9,  34.3644,2,     48.6,2,    94.23,2,  -999.00,9,    39.57,2,     0.00,2,     2.82,2, -999.000,9, -999.000,9,  -999.00,9,   2304.7,3,   -999.0,9,-999.0000,9,   -999.0,  9,  -999.00,9,   -999.0,  -999.00,9,  -999.00,9,  -999.00,9,  -999.00,9,   -999.0,-999.0000, -999,9,  801,   4.9446,  27.1781,   -999.0,9
     RF07-06-1,  165E,RF-2962,  1,      6,02-18560,2,20070619,2245, 20.0117, 164.9873, 5360,    909.8,   4.6624,  34.4306,2,   -999.0,9,-999.0000,9,     56.1,2,   100.60,2,  -999.00,9,    39.62,2,     0.00,2,     2.80,2, -999.000,9, -999.000,9,  -999.00,9,   2312.0,3,   -999.0,9,-999.0000,9,   -999.0,  9,  -999.00,9,   -999.0,  -999.00,9,  -999.00,9,  -999.00,9,  -999.00,9,   -999.0,-999.0000, -999,9,  902,   4.5897,  27.2701,   -999.0,9
     RF07-06-1,  165E,RF-2962,  1,      5,02-18559,2,20070619,2242, 20.0117, 164.9873, 5360,   1009.8,   4.2370,  34.4785,2,   -999.0,9,  34.4776,2,     64.8,2,   107.92,2,  -999.00,9,    39.61,2,     0.00,2,     2.77,2, -999.000,9, -999.000,9,  -999.00,9,   2320.3,3,   -999.0,9,-999.0000,9,   -999.0,  9,  -999.00,9,   -999.0,  -999.00,9,  -999.00,9,  -999.00,9,  -999.00,9,   -999.0,-999.0000, -999,9, 1001,   4.1587,  27.3548,   -999.0,9
     RF07-06-1,  165E,RF-2962,  1,      4,02-18558,2,20070619,2237, 20.0117, 164.9873, 5360,   1263.4,   3.3565,  34.5443,2,   -999.0,9,  34.5436,2,     73.9,2,   123.84,2,  -999.00,9,    39.83,2,     0.00,2,     2.78,2, -999.000,9, -999.000,9,  -999.00,9,   2330.0,3,   -999.0,9,-999.0000,9,   -999.0,  9,  -999.00,9,   -999.0,  -999.00,9,  -999.00,9,  -999.00,9,  -999.00,9,   -999.0,-999.0000, -999,9, 1252,   3.2646,  27.4967,   -999.0,9
     RF07-06-1,  165E,RF-2962,  1,      3,02-18557,2,20070619,2230, 20.0117, 164.9873, 5360,   1515.8,   2.7816,  34.5776,2,   -999.0,9,  34.5773,2,     83.1,2,   134.03,2,  -999.00,9,    39.51,2,     0.00,2,     2.75,2, -999.000,9, -999.000,9,  -999.00,9,   2341.9,3,   -999.0,9,-999.0000,9,   -999.0,  9,  -999.00,9,   -999.0,  -999.00,9,  -999.00,9,  -999.00,9,  -999.00,9,   -999.0,-999.0000, -999,9, 1501,   2.6750,  27.5770,   -999.0,9
     RF07-06-1,  165E,RF-2962,  1,      2,02-18556,2,20070619,2225, 20.0117, 164.9873, 5360,   1771.3,   2.3539,  34.6015,2,   -999.0,9,  34.6012,2,     91.4,2,   141.84,2,  -999.00,9,    39.36,2,     0.00,2,     2.72,2, -999.000,9, -999.000,9,  -999.00,9,   2347.0,6,   -999.0,9,-999.0000,9,   -999.0,  9,  -999.00,9,   -999.0,  -999.00,9,  -999.00,9,  -999.00,9,  -999.00,9,   -999.0,-999.0000, -999,9, 1753,   2.2315,  27.6337,   -999.0,9
     RF07-06-1,  165E,RF-2962,  1,      1,02-18555,2,20070619,2218, 20.0117, 164.9873, 5360,   2023.6,   2.0663,  34.6257,2,   -999.0,9,  34.6247,2,    103.0,2,   145.51,2,  -999.00,9,    38.79,2,     0.00,2,     2.67,2, -999.000,9, -999.000,9,  -999.00,9,   2349.3,3,   -999.0,9,-999.0000,9,   -999.0,  9,  -999.00,9,   -999.0,  -999.00,9,  -999.00,9,  -999.00,9,  -999.00,9,   -999.0,-999.0000, -999,9, 2002,   1.9269,  27.6775,   -999.0,9