BOTTLE,20130510GEMDJMAYT
EXPOCODE,SECT_ID,STNNBR,CASTNO,SAMPNO,BTLNBR,BTLNBR_FLAG_W,DATE,TIME,LATITUDE,LONGITUDE,DEPTH,CTDPRS,CTDTMP,CTDSAL,CTDSAL_FLAG_W,CTDOXY,CTDOXY_FLAG_W,SALNTY,SALNTY_FLAG_W,OXYGEN,OXYGEN_FLAG_W,SILCAT,SILCAT_FLAG_W,NITRAT,NITRAT_FLAG_W,NO2+NO3,NO2+NO3_FLAG_W,NITRIT,NITRIT_FLAG_W,PHSPHT,PHSPHT_FLAG_W,CFC-11,CFC-11_FLAG_W,CFC-12,CFC-12_FLAG_W,DELC13,DELC13_FLAG_W,TCARBN,TCARBN_FLAG_W,ALKALI,ALKALI_FLAG_W,PH,PH_FLAG_W,PH_TMP,PH_SCALE,PH_NBS,PH_NBS_FLAG_W,C13ERR,TOTALP,TOTALP_FLAG_W,AMMONI,AMMONI_FLAG_W,CHLORA,CHLORA_FLAG_W,PPHYTN,PPHYTN_FLAG_W,REVPRS,REVTMP,DEPTH_,DEPTH_FLAG,CTDDEP,THETA,SIGTHT,DOC,DOC_FLAG_W
,,,,,,,GMT,GMT,,,METER,DBAR,ITS-90,PSS-78,,UMOL/KG,,PSS-78,,UMOL/KG,,UMOL/KG,,UMOL/KG,,UMOL/KG,,UMOL/KG,,UMOL/KG,,PMOL/KG,,PMOL/KG,,/MILLE,,UMOL/KG,,UMOL/KG,,25_DEG_C,,DEG_C,,,,/MILLE,UMOL/KG,,UMOL/KG,,UG/L,,UG/L,,DBAR,ITS-90,METERS,,METERS,DEG_C,,UMOL/L,
     RF07-06-1,  165E,RF-2974,  1,     -9,      -9,5,20070703,1520,  7.9968, 163.9838, 5139,      0.0,  28.8836,  34.0573,2,   -999.0,9,-999.0000,9,    195.6,2,     1.59,2,  -999.00,9,     0.01,2,     0.00,2,     0.09,2, -999.000,9, -999.000,9,  -999.00,9,   1899.8,2,   -999.0,9,-999.0000,9,   -999.0,  9,  -999.00,9,   -999.0,  -999.00,9,  -999.00,9,     0.05,2,     0.02,2,   -999.0,-999.0000, -999,9,    0,  28.8835,  21.3953,   -999.0,9
     RF07-06-1,  165E,RF-2974,  1,     21,02-18575,2,20070703,1539,  7.9968, 163.9838, 5139,     11.9,  28.8938,  34.0566,2,   -999.0,9,  34.0551,2,    195.4,2,     1.52,2,  -999.00,9,     0.00,2,     0.00,2,     0.06,2, -999.000,9, -999.000,9,  -999.00,9,   1895.2,2,   -999.0,9,-999.0000,9,   -999.0,  9,  -999.00,9,   -999.0,  -999.00,9,  -999.00,9,     0.05,2,     0.02,2,   -999.0,-999.0000, -999,9,   12,  28.8909,  21.3922,   -999.0,9
     RF07-06-1,  165E,RF-2974,  1,     20,02-18574,2,20070703,1537,  7.9968, 163.9838, 5139,     26.3,  28.8896,  34.0567,2,   -999.0,9,-999.0000,9,    195.6,2,     1.52,2,  -999.00,9,     0.00,2,     0.00,2,     0.06,2, -999.000,9, -999.000,9,  -999.00,9,   1895.5,2,   -999.0,9,-999.0000,9,   -999.0,  9,  -999.00,9,   -999.0,  -999.00,9,  -999.00,9,     0.05,2,     0.02,2,   -999.0,-999.0000, -999,9,   26,  28.8833,  21.3949,   -999.0,9
     RF07-06-1,  165E,RF-2974,  1,     19,02-18573,2,20070703,1536,  7.9968, 163.9838, 5139,     51.2,  28.9174,  34.1278,2,   -999.0,9,-999.0000,9,    196.0,2,     1.53,2,  -999.00,9,     0.00,2,     0.00,2,     0.06,2, -999.000,9, -999.000,9,  -999.00,9,   1902.3,2,   -999.0,9,-999.0000,9,   -999.0,  9,  -999.00,9,   -999.0,  -999.00,9,  -999.00,9,     0.06,2,     0.02,2,   -999.0,-999.0000, -999,9,   51,  28.9051,  21.4410,   -999.0,9
     RF07-06-1,  165E,RF-2974,  1,     18,02-18572,2,20070703,1534,  7.9968, 163.9838, 5139,     76.0,  28.9356,  34.4515,2,   -999.0,9,-999.0000,9,    197.4,2,     1.63,2,  -999.00,9,     0.00,2,     0.00,2,     0.10,2, -999.000,9, -999.000,9,  -999.00,9,   1925.1,2,   -999.0,9,-999.0000,9,   -999.0,  9,  -999.00,9,   -999.0,  -999.00,9,  -999.00,9,     0.12,2,     0.07,2,   -999.0,-999.0000, -999,9,   76,  28.9173,  21.6799,   -999.0,9
     RF07-06-1,  165E,RF-2974,  1,     17,02-18571,2,20070703,1533,  7.9968, 163.9838, 5139,    102.5,  25.6206,  34.7688,2,   -999.0,9,  34.7833,4,    190.0,2,     2.09,2,  -999.00,9,     0.34,2,     0.17,2,     0.14,2, -999.000,9, -999.000,9,  -999.00,9,   1978.4,2,   -999.0,9,-999.0000,9,   -999.0,  9,  -999.00,9,   -999.0,  -999.00,9,  -999.00,9,     0.22,2,     0.39,2,   -999.0,-999.0000, -999,9,  102,  25.5980,  22.9835,   -999.0,9
     RF07-06-1,  165E,RF-2974,  1,     16,02-18570,2,20070703,1532,  7.9968, 163.9838, 5139,    126.4,  22.7346,  34.8801,2,   -999.0,9,-999.0000,9,    178.2,2,     3.51,2,  -999.00,9,     2.22,2,     0.35,2,     0.27,2, -999.000,9, -999.000,9,  -999.00,9,   2034.0,2,   -999.0,9,-999.0000,9,   -999.0,  9,  -999.00,9,   -999.0,  -999.00,9,  -999.00,9,     0.14,2,     0.33,2,   -999.0,-999.0000, -999,9,  126,  22.7090,  23.9262,   -999.0,9
     RF07-06-1,  165E,RF-2974,  1,     15,02-18569,2,20070703,1531,  7.9968, 163.9838, 5139,    152.6,  17.7653,  34.7144,2,   -999.0,9,-999.0000,9,    153.5,2,     8.18,2,  -999.00,9,     9.12,2,     0.01,2,     0.67,2, -999.000,9, -999.000,9,  -999.00,9,   2085.9,2,   -999.0,9,-999.0000,9,   -999.0,  9,  -999.00,9,   -999.0,  -999.00,9,  -999.00,9,     0.06,2,     0.20,2,   -999.0,-999.0000, -999,9,  152,  17.7394,  25.1172,   -999.0,9
     RF07-06-1,  165E,RF-2974,  1,     14,02-18568,2,20070703,1529,  7.9968, 163.9838, 5139,    202.8,  11.9431,  34.5314,2,   -999.0,9,  34.5323,2,     67.4,2,    27.94,2,  -999.00,9,    26.96,2,     0.00,2,     1.92,2, -999.000,9, -999.000,9,  -999.00,9,   2192.0,2,   -999.0,9,-999.0000,9,   -999.0,  9,  -999.00,9,   -999.0,  -999.00,9,  -999.00,9,     0.01,2,     0.03,2,   -999.0,-999.0000, -999,9,  202,  11.9168,  26.2409,   -999.0,9
     RF07-06-1,  165E,RF-2974,  1,     13,02-18567,2,20070703,1527,  7.9968, 163.9838, 5139,    253.5,  10.4138,  34.6153,2,   -999.0,9,-999.0000,9,     37.9,2,    35.77,2,  -999.00,9,    32.78,2,     0.00,2,     2.32,2, -999.000,9, -999.000,9,  -999.00,9,   2237.2,2,   -999.0,9,-999.0000,9,   -999.0,  9,  -999.00,9,   -999.0,  -999.00,9,  -999.00,9,  -999.00,9,  -999.00,9,   -999.0,-999.0000, -999,9,  252,  10.3837,  26.5853,   -999.0,9
     RF07-06-1,  165E,RF-2974,  1,     12,02-18348,2,20070703,1525,  7.9968, 163.9838, 5139,    302.6,   9.9371,  34.6318,2,   -999.0,9,  34.6305,2,     37.6,2,    37.68,2,  -999.00,9,    33.78,2,     0.00,2,     2.38,2, -999.000,9, -999.000,9,  -999.00,9,   2247.1,2,   -999.0,9,-999.0000,9,   -999.0,  9,  -999.00,9,   -999.0,  -999.00,9,  -999.00,9,  -999.00,9,  -999.00,9,   -999.0,-999.0000, -999,9,  301,   9.9021,  26.6811,   -999.0,9
     RF07-06-1,  165E,RF-2974,  1,     11,02-18565,2,20070703,1522,  7.9968, 163.9838, 5139,    404.1,   9.0108,  34.6164,2,   -999.0,9,  34.6138,2,     57.7,2,    41.17,2,  -999.00,9,    33.81,2,     0.00,2,     2.37,2, -999.000,9, -999.000,9,  -999.00,9,   2244.6,2,   -999.0,9,-999.0000,9,   -999.0,  9,  -999.00,9,   -999.0,  -999.00,9,  -999.00,9,  -999.00,9,  -999.00,9,   -999.0,-999.0000, -999,9,  401,   8.9666,  26.8231,   -999.0,9
     RF07-06-1,  165E,RF-2974,  1,     10,02-18564,2,20070703,1519,  7.9968, 163.9838, 5139,    505.6,   8.2450,  34.5852,2,   -999.0,9,-999.0000,9,     50.2,2,    47.55,2,  -999.00,9,    35.67,2,     0.00,2,     2.53,2, -999.000,9, -999.000,9,  -999.00,9,   2257.0,2,   -999.0,9,-999.0000,9,   -999.0,  9,  -999.00,9,   -999.0,  -999.00,9,  -999.00,9,  -999.00,9,  -999.00,9,   -999.0,-999.0000, -999,9,  502,   8.1922,  26.9191,   -999.0,9
     RF07-06-1,  165E,RF-2974,  1,      9,02-18563,2,20070703,1516,  7.9968, 163.9838, 5139,    606.5,   7.2977,  34.5552,2,   -999.0,9,  34.5549,2,     54.8,2,    56.42,2,  -999.00,9,    36.98,2,     0.00,2,     2.65,2, -999.000,9, -999.000,9,  -999.00,9,   2269.9,3,   -999.0,9,-999.0000,9,   -999.0,  9,  -999.00,9,   -999.0,  -999.00,9,  -999.00,9,  -999.00,9,  -999.00,9,   -999.0,-999.0000, -999,9,  602,   7.2383,  27.0351,   -999.0,9
     RF07-06-1,  165E,RF-2974,  1,      8,02-18562,2,20070703,1513,  7.9968, 163.9838, 5139,    707.3,   6.4920,  34.5356,2,   -999.0,9,-999.0000,9,     57.1,2,    66.88,2,  -999.00,9,    37.85,2,     0.00,2,     2.74,2, -999.000,9, -999.000,9,  -999.00,9,   2275.5,3,   -999.0,9,-999.0000,9,   -999.0,  9,  -999.00,9,   -999.0,  -999.00,9,  -999.00,9,  -999.00,9,  -999.00,9,   -999.0,-999.0000, -999,9,  702,   6.4265,  27.1304,   -999.0,9
     RF07-06-1,  165E,RF-2974,  1,      7,02-18561,2,20070703,1511,  7.9968, 163.9838, 5139,    807.2,   5.7684,  34.5344,2,   -999.0,9,  34.5372,2,     60.2,2,    77.18,2,  -999.00,9,    38.98,2,     0.00,2,     2.80,2, -999.000,9, -999.000,9,  -999.00,9,   2284.6,3,   -999.0,9,-999.0000,9,   -999.0,  9,  -999.00,9,   -999.0,  -999.00,9,  -999.00,9,  -999.00,9,  -999.00,9,   -999.0,-999.0000, -999,9,  801,   5.6975,  27.2227,   -999.0,9
     RF07-06-1,  165E,RF-2974,  1,      6,02-18560,2,20070703,1508,  7.9968, 163.9838, 5139,    908.2,   5.0776,  34.5429,2,   -999.0,9,-999.0000,9,     67.5,2,    88.13,2,  -999.00,9,    39.35,2,     0.00,2,     2.83,2, -999.000,9, -999.000,9,  -999.00,9,   2297.1,3,   -999.0,9,-999.0000,9,   -999.0,  9,  -999.00,9,   -999.0,  -999.00,9,  -999.00,9,  -999.00,9,  -999.00,9,   -999.0,-999.0000, -999,9,  901,   5.0019,  27.3126,   -999.0,9
     RF07-06-1,  165E,RF-2974,  1,      5,02-18559,2,20070703,1505,  7.9968, 163.9838, 5139,   1010.0,   4.6005,  34.5528,2,   -999.0,9,  34.5527,2,     73.4,2,    96.21,2,  -999.00,9,    39.11,2,     0.00,2,     2.82,2, -999.000,9, -999.000,9,  -999.00,9,   2304.4,3,   -999.0,9,-999.0000,9,   -999.0,  9,  -999.00,9,   -999.0,  -999.00,9,  -999.00,9,  -999.00,9,  -999.00,9,   -999.0,-999.0000, -999,9, 1002,   4.5193,  27.3749,   -999.0,9
     RF07-06-1,  165E,RF-2974,  1,      4,02-18558,2,20070703,1500,  7.9968, 163.9838, 5139,   1262.6,   3.6681,  34.5775,2,   -999.0,9,  34.5761,2,     87.4,2,   113.63,2,  -999.00,9,    38.81,2,     0.00,2,     2.79,2, -999.000,9, -999.000,9,  -999.00,9,   2322.8,3,   -999.0,9,-999.0000,9,   -999.0,  9,  -999.00,9,   -999.0,  -999.00,9,  -999.00,9,  -999.00,9,  -999.00,9,   -999.0,-999.0000, -999,9, 1252,   3.5731,  27.4933,   -999.0,9
     RF07-06-1,  165E,RF-2974,  1,      3,02-18557,2,20070703,1454,  7.9968, 163.9838, 5139,   1516.3,   3.0089,  34.5995,2,   -999.0,9,  34.5985,2,     91.7,2,   126.87,2,  -999.00,9,    39.22,2,     0.00,2,     2.80,2, -999.000,9, -999.000,9,  -999.00,9,   2323.7,3,   -999.0,9,-999.0000,9,   -999.0,  9,  -999.00,9,   -999.0,  -999.00,9,  -999.00,9,  -999.00,9,  -999.00,9,   -999.0,-999.0000, -999,9, 1502,   2.8995,  27.5746,   -999.0,9
     RF07-06-1,  165E,RF-2974,  1,      2,02-18556,2,20070703,1449,  7.9968, 163.9838, 5139,   1768.4,   2.5227,  34.6215,2,   -999.0,9,  34.6207,2,     96.2,2,   137.11,2,  -999.00,9,    39.30,2,     0.00,2,     2.79,2, -999.000,9, -999.000,9,  -999.00,9,   2339.8,3,   -999.0,9,-999.0000,9,   -999.0,  9,  -999.00,9,   -999.0,  -999.00,9,  -999.00,9,  -999.00,9,  -999.00,9,   -999.0,-999.0000, -999,9, 1751,   2.3982,  27.6359,   -999.0,9
     RF07-06-1,  165E,RF-2974,  1,      1,02-18555,2,20070703,1443,  7.9968, 163.9838, 5139,   2022.0,   2.2025,  34.6404,2,   -999.0,9,  34.6393,2,    104.5,2,   142.99,2,  -999.00,9,    38.92,2,     0.00,2,     2.74,2, -999.000,9, -999.000,9,  -999.00,9,   2346.4,3,   -999.0,9,-999.0000,9,   -999.0,  9,  -999.00,9,   -999.0,  -999.00,9,  -999.00,9,  -999.00,9,  -999.00,9,   -999.0,-999.0000, -999,9, 2001,   2.0611,  27.6787,   -999.0,9