BOTTLE,20130510GEMDJMAYT
EXPOCODE,SECT_ID,STNNBR,CASTNO,SAMPNO,BTLNBR,BTLNBR_FLAG_W,DATE,TIME,LATITUDE,LONGITUDE,DEPTH,CTDPRS,CTDTMP,CTDSAL,CTDSAL_FLAG_W,CTDOXY,CTDOXY_FLAG_W,SALNTY,SALNTY_FLAG_W,OXYGEN,OXYGEN_FLAG_W,SILCAT,SILCAT_FLAG_W,NITRAT,NITRAT_FLAG_W,NO2+NO3,NO2+NO3_FLAG_W,NITRIT,NITRIT_FLAG_W,PHSPHT,PHSPHT_FLAG_W,CFC-11,CFC-11_FLAG_W,CFC-12,CFC-12_FLAG_W,DELC13,DELC13_FLAG_W,TCARBN,TCARBN_FLAG_W,ALKALI,ALKALI_FLAG_W,PH,PH_FLAG_W,PH_TMP,PH_SCALE,PH_NBS,PH_NBS_FLAG_W,C13ERR,TOTALP,TOTALP_FLAG_W,AMMONI,AMMONI_FLAG_W,CHLORA,CHLORA_FLAG_W,PPHYTN,PPHYTN_FLAG_W,REVPRS,REVTMP,DEPTH_,DEPTH_FLAG,CTDDEP,THETA,SIGTHT,DOC,DOC_FLAG_W
,,,,,,,GMT,GMT,,,METER,DBAR,ITS-90,PSS-78,,UMOL/KG,,PSS-78,,UMOL/KG,,UMOL/KG,,UMOL/KG,,UMOL/KG,,UMOL/KG,,UMOL/KG,,PMOL/KG,,PMOL/KG,,/MILLE,,UMOL/KG,,UMOL/KG,,25_DEG_C,,DEG_C,,,,/MILLE,UMOL/KG,,UMOL/KG,,UG/L,,UG/L,,DBAR,ITS-90,METERS,,METERS,DEG_C,,UMOL/L,
     RF07-06-1,  165E,RF-2957,  1,     -9,      -9,5,20070618,1406, 25.0070, 164.9723, 5950,      0.0,  28.8479,  35.3955,2,   -999.0,9,-999.0000,9,    196.8,2,     1.38,2,  -999.00,9,     0.02,2,     0.00,2,     0.03,2, -999.000,9, -999.000,9,  -999.00,9,   1986.2,2,   -999.0,9,-999.0000,9,   -999.0,  9,  -999.00,9,   -999.0,  -999.00,9,  -999.00,9,     0.04,2,     0.01,2,   -999.0,-999.0000, -999,9,    0,  28.8477,  22.4120,   -999.0,9
     RF07-06-1,  165E,RF-2957,  1,     21,02-18575,2,20070618,1423, 25.0070, 164.9723, 5950,     11.6,  28.8447,  35.3923,2,   -999.0,9,  33.4278,4,    199.1,2,     1.41,2,  -999.00,9,     0.02,2,     0.00,2,     0.00,2, -999.000,9, -999.000,9,  -999.00,9,   1985.5,2,   -999.0,9,-999.0000,9,   -999.0,  9,  -999.00,9,   -999.0,  -999.00,9,  -999.00,9,     0.04,2,     0.01,2,   -999.0,-999.0000, -999,9,   12,  28.8419,  22.4115,   -999.0,9
     RF07-06-1,  165E,RF-2957,  1,     20,02-18574,2,20070618,1422, 25.0070, 164.9723, 5950,     26.6,  26.7046,  35.2839,2,   -999.0,9,-999.0000,9,    211.1,2,     1.37,2,  -999.00,9,     0.02,2,     0.00,2,     0.00,2, -999.000,9, -999.000,9,  -999.00,9,   1972.0,2,   -999.0,9,-999.0000,9,   -999.0,  9,  -999.00,9,   -999.0,  -999.00,9,  -999.00,9,     0.06,2,     0.02,2,   -999.0,-999.0000, -999,9,   26,  26.6985,  23.0277,   -999.0,9
     RF07-06-1,  165E,RF-2957,  1,     19,02-18573,2,20070618,1421, 25.0070, 164.9723, 5950,     50.9,  24.3697,  35.2271,2,   -999.0,9,-999.0000,9,    219.1,2,     1.56,2,  -999.00,9,     0.00,2,     0.00,2,     0.00,2, -999.000,9, -999.000,9,  -999.00,9,   1980.1,2,   -999.0,9,-999.0000,9,   -999.0,  9,  -999.00,9,   -999.0,  -999.00,9,  -999.00,9,     0.05,2,     0.02,2,   -999.0,-999.0000, -999,9,   51,  24.3589,  23.7064,   -999.0,9
     RF07-06-1,  165E,RF-2957,  1,     18,02-18572,2,20070618,1419, 25.0070, 164.9723, 5950,     75.9,  23.2871,  35.2547,2,   -999.0,9,-999.0000,9,    222.4,2,     1.75,2,  -999.00,9,     0.00,2,     0.00,2,     0.00,2, -999.000,9, -999.000,9,  -999.00,9,   1985.0,2,   -999.0,9,-999.0000,9,   -999.0,  9,  -999.00,9,   -999.0,  -999.00,9,  -999.00,9,     0.08,2,     0.03,2,   -999.0,-999.0000, -999,9,   75,  23.2715,  24.0481,   -999.0,9
     RF07-06-1,  165E,RF-2957,  1,     17,02-18571,2,20070618,1418, 25.0070, 164.9723, 5950,    101.0,  20.8423,  35.0025,2,   -999.0,9,  34.9990,4,    224.9,2,     2.23,2,  -999.00,9,     0.02,2,     0.00,2,     0.00,2, -999.000,9, -999.000,9,  -999.00,9,   1992.0,3,   -999.0,9,-999.0000,9,   -999.0,  9,  -999.00,9,   -999.0,  -999.00,9,  -999.00,9,     0.20,2,     0.11,2,   -999.0,-999.0000, -999,9,  100,  20.8231,  24.5438,   -999.0,9
     RF07-06-1,  165E,RF-2957,  1,     16,02-18570,2,20070618,1417, 25.0070, 164.9723, 5950,    127.3,  20.0101,  34.9611,2,   -999.0,9,-999.0000,9,    225.6,2,     2.10,2,  -999.00,9,     0.01,2,     0.00,2,     0.00,2, -999.000,9, -999.000,9,  -999.00,9,   1992.3,3,   -999.0,9,-999.0000,9,   -999.0,  9,  -999.00,9,   -999.0,  -999.00,9,  -999.00,9,     0.20,2,     0.26,2,   -999.0,-999.0000, -999,9,  126,  19.9866,  24.7356,   -999.0,9
     RF07-06-1,  165E,RF-2957,  1,     15,02-18569,2,20070618,1416, 25.0070, 164.9723, 5950,    151.5,  19.3293,  34.9074,2,   -999.0,9,-999.0000,9,    214.3,2,     2.48,2,  -999.00,9,     0.61,2,     0.07,2,     0.03,2, -999.000,9, -999.000,9,  -999.00,9,   2002.2,3,   -999.0,9,-999.0000,9,   -999.0,  9,  -999.00,9,   -999.0,  -999.00,9,  -999.00,9,     0.19,2,     0.37,2,   -999.0,-999.0000, -999,9,  151,  19.3020,  24.8730,   -999.0,9
     RF07-06-1,  165E,RF-2957,  1,     14,02-18568,2,20070618,1414, 25.0070, 164.9723, 5950,    202.7,  17.6894,  34.8006,2,   -999.0,9,  34.7983,4,    199.2,2,     3.90,2,  -999.00,9,     4.41,2,     0.00,2,     0.20,2, -999.000,9, -999.000,9,  -999.00,9,   2029.6,3,   -999.0,9,-999.0000,9,   -999.0,  9,  -999.00,9,   -999.0,  -999.00,9,  -999.00,9,     0.03,2,     0.07,2,   -999.0,-999.0000, -999,9,  201,  17.6550,  25.2037,   -999.0,9
     RF07-06-1,  165E,RF-2957,  1,     13,02-18567,2,20070618,1412, 25.0070, 164.9723, 5950,    254.6,  16.4671,  34.7084,2,   -999.0,9,-999.0000,9,    199.9,2,     6.20,2,  -999.00,9,     6.68,2,     0.00,2,     0.33,2, -999.000,9, -999.000,9,  -999.00,9,   2043.1,3,   -999.0,9,-999.0000,9,   -999.0,  9,  -999.00,9,   -999.0,  -999.00,9,  -999.00,9,  -999.00,9,  -999.00,9,   -999.0,-999.0000, -999,9,  253,  16.4260,  25.4252,   -999.0,9
     RF07-06-1,  165E,RF-2957,  1,     12,02-18348,2,20070618,1410, 25.0070, 164.9723, 5950,    304.5,  15.3207,  34.6088,2,   -999.0,9,  34.6114,2,    197.3,2,     8.33,2,  -999.00,9,     8.38,2,     0.00,2,     0.46,2, -999.000,9, -999.000,9,  -999.00,9,   2050.7,3,   -999.0,9,-999.0000,9,   -999.0,  9,  -999.00,9,   -999.0,  -999.00,9,  -999.00,9,  -999.00,9,  -999.00,9,   -999.0,-999.0000, -999,9,  302,  15.2739,  25.6100,   -999.0,9
     RF07-06-1,  165E,RF-2957,  1,     11,02-18565,2,20070618,1407, 25.0070, 164.9723, 5950,    403.9,  12.5560,  34.3929,2,   -999.0,9,  34.3934,2,    197.9,2,    15.88,2,  -999.00,9,    12.93,2,     0.00,2,     0.79,2, -999.000,9, -999.000,9,  -999.00,9,   2084.1,3,   -999.0,9,-999.0000,9,   -999.0,  9,  -999.00,9,   -999.0,  -999.00,9,  -999.00,9,  -999.00,9,  -999.00,9,   -999.0,-999.0000, -999,9,  401,  12.5016,  26.0209,   -999.0,9
     RF07-06-1,  165E,RF-2957,  1,     10,02-18564,2,20070618,1404, 25.0070, 164.9723, 5950,    505.5,   9.7679,  34.1872,2,   -999.0,9,-999.0000,9,    182.9,2,    28.76,2,  -999.00,9,    19.28,2,     0.00,2,     1.26,2, -999.000,9, -999.000,9,  -999.00,9,   2126.9,3,   -999.0,9,-999.0000,9,   -999.0,  9,  -999.00,9,   -999.0,  -999.00,9,  -999.00,9,  -999.00,9,  -999.00,9,   -999.0,-999.0000, -999,9,  502,   9.7098,  26.3660,   -999.0,9
     RF07-06-1,  165E,RF-2957,  1,      9,02-18563,2,20070618,1401, 25.0070, 164.9723, 5950,    606.0,   7.0427,  34.0633,2,   -999.0,9,  34.0626,2,    137.6,2,    53.92,2,  -999.00,9,    28.28,2,     0.00,2,     1.98,2, -999.000,9, -999.000,9,  -999.00,9,   2199.1,3,   -999.0,9,-999.0000,9,   -999.0,  9,  -999.00,9,   -999.0,  -999.00,9,  -999.00,9,  -999.00,9,  -999.00,9,   -999.0,-999.0000, -999,9,  601,   6.9849,  26.6830,   -999.0,9
     RF07-06-1,  165E,RF-2957,  1,      8,02-18562,2,20070618,1358, 25.0070, 164.9723, 5950,    709.0,   5.5990,  34.0708,2,   -999.0,9,-999.0000,9,     98.8,2,    75.78,2,  -999.00,9,    34.02,2,     0.00,2,     2.45,2, -999.000,9, -999.000,9,  -999.00,9,   2250.7,3,   -999.0,9,-999.0000,9,   -999.0,  9,  -999.00,9,   -999.0,  -999.00,9,  -999.00,9,  -999.00,9,  -999.00,9,   -999.0,-999.0000, -999,9,  703,   5.5387,  26.8752,   -999.0,9
     RF07-06-1,  165E,RF-2957,  1,      7,02-18561,2,20070618,1354, 25.0070, 164.9723, 5950,    809.3,   4.8371,  34.1588,2,   -999.0,9,  34.1578,2,     64.7,2,    93.99,2,  -999.00,9,    38.00,2,     0.00,2,     2.77,2, -999.000,9, -999.000,9,  -999.00,9,   2289.9,3,   -999.0,9,-999.0000,9,   -999.0,  9,  -999.00,9,   -999.0,  -999.00,9,  -999.00,9,  -999.00,9,  -999.00,9,   -999.0,-999.0000, -999,9,  803,   4.7723,  27.0341,   -999.0,9
     RF07-06-1,  165E,RF-2957,  1,      6,02-18560,2,20070618,1351, 25.0070, 164.9723, 5950,    909.5,   4.2387,  34.2601,2,   -999.0,9,-999.0000,9,     44.3,2,   109.17,2,  -999.00,9,    40.37,2,     0.00,2,     2.97,2, -999.000,9, -999.000,9,  -999.00,9,   2326.1,3,   -999.0,9,-999.0000,9,   -999.0,  9,  -999.00,9,   -999.0,  -999.00,9,  -999.00,9,  -999.00,9,  -999.00,9,   -999.0,-999.0000, -999,9,  902,   4.1692,  27.1800,   -999.0,9
     RF07-06-1,  165E,RF-2957,  1,      5,02-18559,2,20070618,1348, 25.0070, 164.9723, 5950,   1015.3,   3.7237,  34.3763,2,   -999.0,9,  34.3745,2,     39.8,2,   121.73,2,  -999.00,9,    41.37,2,     0.00,2,     3.07,2, -999.000,9, -999.000,9,  -999.00,9,   2338.4,3,   -999.0,9,-999.0000,9,   -999.0,  9,  -999.00,9,   -999.0,  -999.00,9,  -999.00,9,  -999.00,9,  -999.00,9,   -999.0,-999.0000, -999,9, 1006,   3.6491,  27.3255,   -999.0,9
     RF07-06-1,  165E,RF-2957,  1,      4,02-18558,2,20070618,1342, 25.0070, 164.9723, 5950,   1267.1,   3.0805,  34.4972,2,   -999.0,9,  34.4951,4,     56.2,2,   134.09,2,  -999.00,9,    40.92,2,     0.00,2,     3.01,2, -999.000,9, -999.000,9,  -999.00,9,   2345.6,3,   -999.0,9,-999.0000,9,   -999.0,  9,  -999.00,9,   -999.0,  -999.00,9,  -999.00,9,  -999.00,9,  -999.00,9,   -999.0,-999.0000, -999,9, 1255,   2.9911,  27.4845,   -999.0,9
     RF07-06-1,  165E,RF-2957,  1,      3,02-18557,2,20070618,1336, 25.0070, 164.9723, 5950,   1518.2,   2.5693,  34.5542,2,   -999.0,9,  34.5528,2,     71.1,2,   142.96,2,  -999.00,9,    40.35,2,     0.00,2,     2.94,2, -999.000,9, -999.000,9,  -999.00,9,   2340.0,4,   -999.0,9,-999.0000,9,   -999.0,  9,  -999.00,9,   -999.0,  -999.00,9,  -999.00,9,  -999.00,9,  -999.00,9,   -999.0,-999.0000, -999,9, 1503,   2.4650,  27.5764,   -999.0,9
     RF07-06-1,  165E,RF-2957,  1,      2,02-18556,2,20070618,1332, 25.0070, 164.9723, 5950,   1771.0,   2.2277,  34.5918,2,   -999.0,9,  34.5907,2,     86.7,2,   147.19,2,  -999.00,9,    39.61,2,     0.00,2,     2.85,2, -999.000,9, -999.000,9,  -999.00,9,   2351.7,3,   -999.0,9,-999.0000,9,   -999.0,  9,  -999.00,9,   -999.0,  -999.00,9,  -999.00,9,  -999.00,9,  -999.00,9,   -999.0,-999.0000, -999,9, 1752,   2.1071,  27.6361,   -999.0,9
     RF07-06-1,  165E,RF-2957,  1,      1,02-18555,2,20070618,1327, 25.0070, 164.9723, 5950,   2024.0,   2.0067,  34.6165,2,   -999.0,9,  34.6165,2,     98.6,2,   149.72,2,  -999.00,9,    39.04,2,     0.00,2,     2.80,2, -999.000,9, -999.000,9,  -999.00,9,   2347.5,3,   -999.0,9,-999.0000,9,   -999.0,  9,  -999.00,9,   -999.0,  -999.00,9,  -999.00,9,  -999.00,9,  -999.00,9,   -999.0,-999.0000, -999,9, 2001,   1.8682,  27.6747,   -999.0,9