BOTTLE,20130510GEMDJMAYT
EXPOCODE,SECT_ID,STNNBR,CASTNO,SAMPNO,BTLNBR,BTLNBR_FLAG_W,DATE,TIME,LATITUDE,LONGITUDE,DEPTH,CTDPRS,CTDTMP,CTDSAL,CTDSAL_FLAG_W,CTDOXY,CTDOXY_FLAG_W,SALNTY,SALNTY_FLAG_W,OXYGEN,OXYGEN_FLAG_W,SILCAT,SILCAT_FLAG_W,NITRAT,NITRAT_FLAG_W,NO2+NO3,NO2+NO3_FLAG_W,NITRIT,NITRIT_FLAG_W,PHSPHT,PHSPHT_FLAG_W,CFC-11,CFC-11_FLAG_W,CFC-12,CFC-12_FLAG_W,DELC13,DELC13_FLAG_W,TCARBN,TCARBN_FLAG_W,ALKALI,ALKALI_FLAG_W,PH,PH_FLAG_W,PH_TMP,PH_SCALE,PH_NBS,PH_NBS_FLAG_W,C13ERR,TOTALP,TOTALP_FLAG_W,AMMONI,AMMONI_FLAG_W,CHLORA,CHLORA_FLAG_W,PPHYTN,PPHYTN_FLAG_W,REVPRS,REVTMP,DEPTH_,DEPTH_FLAG,CTDDEP,THETA,SIGTHT,DOC,DOC_FLAG_W
,,,,,,,GMT,GMT,,,METER,DBAR,ITS-90,PSS-78,,UMOL/KG,,PSS-78,,UMOL/KG,,UMOL/KG,,UMOL/KG,,UMOL/KG,,UMOL/KG,,UMOL/KG,,PMOL/KG,,PMOL/KG,,/MILLE,,UMOL/KG,,UMOL/KG,,25_DEG_C,,DEG_C,,,,/MILLE,UMOL/KG,,UMOL/KG,,UG/L,,UG/L,,DBAR,ITS-90,METERS,,METERS,DEG_C,,UMOL/L,
     RF07-06-1,  165E,RF-2952,  1,     -9,      -9,5,20070617,0550, 30.0102, 164.9995, 5809,      0.0,  23.1787,  34.3496,2,   -999.0,9,-999.0000,9,    219.5,2,     1.94,2,  -999.00,9,     0.02,2,     0.00,2,     0.02,2, -999.000,9, -999.000,9,  -999.00,9,   1966.7,2,   -999.0,9,-999.0000,9,   -999.0,  9,  -999.00,9,   -999.0,  -999.00,9,  -999.00,9,     0.12,2,     0.01,2,   -999.0,-999.0000, -999,9,    0,  23.1785,  23.3889,   -999.0,9
     RF07-06-1,  165E,RF-2952,  1,     21,02-18575,2,20070617,0606, 30.0102, 164.9995, 5809,     11.1,  22.3535,  34.4208,2,   -999.0,9,  34.5227,4,    226.6,2,     1.93,2,  -999.00,9,     0.01,2,     0.00,2,     0.01,2, -999.000,9, -999.000,9,  -999.00,9,   1975.2,3,   -999.0,9,-999.0000,9,   -999.0,  9,  -999.00,9,   -999.0,  -999.00,9,  -999.00,9,     0.11,2,     0.03,2,   -999.0,-999.0000, -999,9,   11,  22.3513,  23.6791,   -999.0,9
     RF07-06-1,  165E,RF-2952,  1,     20,02-18574,2,20070617,0605, 30.0102, 164.9995, 5809,     26.1,  20.7838,  34.6326,2,   -999.0,9,-999.0000,9,    233.2,2,     2.08,2,  -999.00,9,     0.00,2,     0.00,2,     0.02,2, -999.000,9, -999.000,9,  -999.00,9,   1984.5,3,   -999.0,9,-999.0000,9,   -999.0,  9,  -999.00,9,   -999.0,  -999.00,9,  -999.00,9,     0.10,2,     0.04,2,   -999.0,-999.0000, -999,9,   26,  20.7789,  24.2740,   -999.0,9
     RF07-06-1,  165E,RF-2952,  1,     19,02-18573,2,20070617,0603, 30.0102, 164.9995, 5809,     51.3,  19.5664,  34.8918,2,   -999.0,9,-999.0000,9,    231.1,2,     2.44,2,  -999.00,9,     0.00,2,     0.00,2,     0.03,2, -999.000,9, -999.000,9,  -999.00,9,   2000.6,3,   -999.0,9,-999.0000,9,   -999.0,  9,  -999.00,9,   -999.0,  -999.00,9,  -999.00,9,     0.16,2,     0.10,2,   -999.0,-999.0000, -999,9,   51,  19.5571,  24.7951,   -999.0,9
     RF07-06-1,  165E,RF-2952,  1,     18,02-18572,2,20070617,0602, 30.0102, 164.9995, 5809,     76.3,  18.7245,  34.8290,2,   -999.0,9,-999.0000,9,    221.0,2,     2.87,2,  -999.00,9,     0.67,2,     0.08,2,     0.10,2, -999.000,9, -999.000,9,  -999.00,9,   2001.6,3,   -999.0,9,-999.0000,9,   -999.0,  9,  -999.00,9,   -999.0,  -999.00,9,  -999.00,9,     0.35,2,     0.41,2,   -999.0,-999.0000, -999,9,   76,  18.7111,  24.9637,   -999.0,9
     RF07-06-1,  165E,RF-2952,  1,     17,02-18571,2,20070617,0601, 30.0102, 164.9995, 5809,    102.0,  18.0542,  34.7893,2,   -999.0,9,  34.7876,2,    217.5,2,     3.13,2,  -999.00,9,     2.10,2,     0.08,2,     0.16,2, -999.000,9, -999.000,9,  -999.00,9,   2015.0,3,   -999.0,9,-999.0000,9,   -999.0,  9,  -999.00,9,   -999.0,  -999.00,9,  -999.00,9,     0.18,2,     0.30,2,   -999.0,-999.0000, -999,9,  101,  18.0367,  25.1016,   -999.0,9
     RF07-06-1,  165E,RF-2952,  1,     16,02-18570,2,20070617,0600, 30.0102, 164.9995, 5809,    126.9,  17.8356,  34.7872,2,   -999.0,9,-999.0000,9,    220.8,2,     3.14,2,  -999.00,9,     2.35,2,     0.03,2,     0.17,2, -999.000,9, -999.000,9,  -999.00,9,   2017.9,3,   -999.0,9,-999.0000,9,   -999.0,  9,  -999.00,9,   -999.0,  -999.00,9,  -999.00,9,     0.07,2,     0.11,2,   -999.0,-999.0000, -999,9,  126,  17.8140,  25.1547,   -999.0,9
     RF07-06-1,  165E,RF-2952,  1,     15,02-18569,2,20070617,0559, 30.0102, 164.9995, 5809,    152.2,  17.7757,  34.8069,2,   -999.0,9,-999.0000,9,    221.2,2,     3.16,2,  -999.00,9,     2.58,2,     0.01,2,     0.18,2, -999.000,9, -999.000,9,  -999.00,9,   2019.2,3,   -999.0,9,-999.0000,9,   -999.0,  9,  -999.00,9,   -999.0,  -999.00,9,  -999.00,9,     0.03,2,     0.04,2,   -999.0,-999.0000, -999,9,  151,  17.7499,  25.1855,   -999.0,9
     RF07-06-1,  165E,RF-2952,  1,     14,02-18568,2,20070617,0557, 30.0102, 164.9995, 5809,    202.1,  17.3801,  34.7607,2,   -999.0,9,  34.7618,2,    220.2,2,     3.85,2,  -999.00,9,     3.52,2,     0.00,2,     0.23,2, -999.000,9, -999.000,9,  -999.00,9,   2013.5,4,   -999.0,9,-999.0000,9,   -999.0,  9,  -999.00,9,   -999.0,  -999.00,9,  -999.00,9,     0.01,2,     0.02,2,   -999.0,-999.0000, -999,9,  201,  17.3463,  25.2478,   -999.0,9
     RF07-06-1,  165E,RF-2952,  1,     13,02-18567,2,20070617,0555, 30.0102, 164.9995, 5809,    252.7,  17.0347,  34.7399,2,   -999.0,9,-999.0000,9,    207.9,2,     5.48,2,  -999.00,9,     5.45,2,     0.00,2,     0.35,2, -999.000,9, -999.000,9,  -999.00,9,   2032.3,3,   -999.0,9,-999.0000,9,   -999.0,  9,  -999.00,9,   -999.0,  -999.00,9,  -999.00,9,  -999.00,9,  -999.00,9,   -999.0,-999.0000, -999,9,  251,  16.9929,  25.3163,   -999.0,9
     RF07-06-1,  165E,RF-2952,  1,     12,02-18348,2,20070617,0553, 30.0102, 164.9995, 5809,    302.8,  16.0629,  34.6725,2,   -999.0,9,  34.6803,4,    197.5,2,     7.94,2,  -999.00,9,     7.71,2,     0.00,2,     0.50,2, -999.000,9, -999.000,9,  -999.00,9,   2049.0,3,   -999.0,9,-999.0000,9,   -999.0,  9,  -999.00,9,   -999.0,  -999.00,9,  -999.00,9,  -999.00,9,  -999.00,9,   -999.0,-999.0000, -999,9,  300,  16.0148,  25.4923,   -999.0,9
     RF07-06-1,  165E,RF-2952,  1,     11,02-18565,2,20070617,0551, 30.0102, 164.9995, 5809,    403.8,  14.2214,  34.5393,2,   -999.0,9,  34.5412,2,    216.8,4,    11.75,2,  -999.00,9,     8.90,2,     0.00,2,     0.60,2, -999.000,9, -999.000,9,  -999.00,9,   2055.4,3,   -999.0,9,-999.0000,9,   -999.0,  9,  -999.00,9,   -999.0,  -999.00,9,  -999.00,9,  -999.00,9,  -999.00,9,   -999.0,-999.0000, -999,9,  401,  14.1623,  25.7969,   -999.0,9
     RF07-06-1,  165E,RF-2952,  1,     10,02-18564,2,20070617,0548, 30.0102, 164.9995, 5809,    505.9,  11.5758,  34.3376,2,   -999.0,9,-999.0000,9,    202.0,2,    22.70,2,  -999.00,9,    14.92,2,     0.00,2,     1.01,2, -999.000,9, -999.000,9,  -999.00,9,   2099.0,3,   -999.0,9,-999.0000,9,   -999.0,  9,  -999.00,9,   -999.0,  -999.00,9,  -999.00,9,  -999.00,9,  -999.00,9,   -999.0,-999.0000, -999,9,  502,  11.5109,  26.1663,   -999.0,9
     RF07-06-1,  165E,RF-2952,  1,      9,02-18563,2,20070617,0546, 30.0102, 164.9995, 5809,    606.1,   8.0516,  34.0747,2,   -999.0,9,  34.0797,4,    179.7,2,    41.66,2,  -999.00,9,    22.86,2,     0.00,2,     1.62,2, -999.000,9, -999.000,9,  -999.00,9,   2156.1,3,   -999.0,9,-999.0000,9,   -999.0,  9,  -999.00,9,   -999.0,  -999.00,9,  -999.00,9,  -999.00,9,  -999.00,9,   -999.0,-999.0000, -999,9,  601,   7.9893,  26.5487,   -999.0,9
     RF07-06-1,  165E,RF-2952,  1,      8,02-18562,2,20070617,0543, 30.0102, 164.9995, 5809,    706.9,   5.8144,  34.0048,2,   -999.0,9,-999.0000,9,    134.2,2,    67.55,2,  -999.00,9,    31.04,2,     0.00,2,     2.25,2, -999.000,9, -999.000,9,  -999.00,9,   2228.5,3,   -999.0,9,-999.0000,9,   -999.0,  9,  -999.00,9,   -999.0,  -999.00,9,  -999.00,9,  -999.00,9,  -999.00,9,   -999.0,-999.0000, -999,9,  701,   5.7532,  26.7969,   -999.0,9
     RF07-06-1,  165E,RF-2952,  1,      7,02-18561,2,20070617,0541, 30.0102, 164.9995, 5809,    808.7,   4.8069,  34.0931,2,   -999.0,9,  34.0958,2,     85.1,2,    90.95,2,  -999.00,9,    36.66,2,     0.00,2,     2.68,2, -999.000,9, -999.000,9,  -999.00,9,   2279.1,3,   -999.0,9,-999.0000,9,   -999.0,  9,  -999.00,9,   -999.0,  -999.00,9,  -999.00,9,  -999.00,9,  -999.00,9,   -999.0,-999.0000, -999,9,  802,   4.7424,  26.9853,   -999.0,9
     RF07-06-1,  165E,RF-2952,  1,      6,02-18560,2,20070617,0538, 30.0102, 164.9995, 5809,    908.9,   4.2222,  34.2001,2,   -999.0,9,-999.0000,9,     59.7,2,   108.45,2,  -999.00,9,    39.35,2,     0.00,2,     2.88,2, -999.000,9, -999.000,9,  -999.00,9,   2312.4,3,   -999.0,9,-999.0000,9,   -999.0,  9,  -999.00,9,   -999.0,  -999.00,9,  -999.00,9,  -999.00,9,  -999.00,9,   -999.0,-999.0000, -999,9,  901,   4.1530,  27.1340,   -999.0,9
     RF07-06-1,  165E,RF-2952,  1,      5,02-18559,2,20070617,0535, 30.0102, 164.9995, 5809,   1010.2,   3.7634,  34.2824,2,   -999.0,9,  34.2821,2,     45.3,2,   121.23,2,  -999.00,9,    41.07,2,     0.00,2,     3.01,2, -999.000,9, -999.000,9,  -999.00,9,   2339.3,3,   -999.0,9,-999.0000,9,   -999.0,  9,  -999.00,9,   -999.0,  -999.00,9,  -999.00,9,  -999.00,9,  -999.00,9,   -999.0,-999.0000, -999,9, 1001,   3.6891,  27.2468,   -999.0,9
     RF07-06-1,  165E,RF-2952,  1,      4,02-18558,2,20070617,0530, 30.0102, 164.9995, 5809,   1262.6,   2.9787,  34.4124,2,   -999.0,9,  34.4124,2,     35.0,2,   141.34,2,  -999.00,9,    42.65,2,     0.00,2,     3.11,2, -999.000,9, -999.000,9,  -999.00,9,   2367.8,3,   -999.0,9,-999.0000,9,   -999.0,  9,  -999.00,9,   -999.0,  -999.00,9,  -999.00,9,  -999.00,9,  -999.00,9,   -999.0,-999.0000, -999,9, 1250,   2.8908,  27.4259,   -999.0,9
     RF07-06-1,  165E,RF-2952,  1,      3,02-18557,2,20070617,0525, 30.0102, 164.9995, 5809,   1517.5,   2.4991,  34.4991,2,   -999.0,9,  34.4986,2,     40.5,2,   152.62,2,  -999.00,9,    42.60,2,     0.00,2,     3.10,2, -999.000,9, -999.000,9,  -999.00,9,   2381.9,3,   -999.0,9,-999.0000,9,   -999.0,  9,  -999.00,9,   -999.0,  -999.00,9,  -999.00,9,  -999.00,9,  -999.00,9,   -999.0,-999.0000, -999,9, 1502,   2.3958,  27.5382,   -999.0,9
     RF07-06-1,  165E,RF-2952,  1,      2,02-18556,2,20070617,0519, 30.0102, 164.9995, 5809,   1769.6,   2.1563,  34.5600,2,   -999.0,9,  34.5604,2,     56.5,2,   158.31,2,  -999.00,9,    41.91,2,     0.00,2,     3.03,2, -999.000,9, -999.000,9,  -999.00,9,   2376.2,6,   -999.0,9,-999.0000,9,   -999.0,  9,  -999.00,9,   -999.0,  -999.00,9,  -999.00,9,  -999.00,9,  -999.00,9,   -999.0,-999.0000, -999,9, 1750,   2.0369,  27.6162,   -999.0,9
     RF07-06-1,  165E,RF-2952,  1,      1,02-18555,2,20070617,0514, 30.0102, 164.9995, 5809,   2025.9,   1.9215,  34.6024,2,   -999.0,9,  34.6016,2,     75.6,2,   159.80,2,  -999.00,9,    40.81,2,     0.00,2,     2.93,2, -999.000,9, -999.000,9,  -999.00,9,   2373.8,3,   -999.0,9,-999.0000,9,   -999.0,  9,  -999.00,9,   -999.0,  -999.00,9,  -999.00,9,  -999.00,9,  -999.00,9,   -999.0,-999.0000, -999,9, 2002,   1.7842,  27.6699,   -999.0,9