BOTTLE,20130510GEMDJMAYT
EXPOCODE,SECT_ID,STNNBR,CASTNO,SAMPNO,BTLNBR,BTLNBR_FLAG_W,DATE,TIME,LATITUDE,LONGITUDE,DEPTH,CTDPRS,CTDTMP,CTDSAL,CTDSAL_FLAG_W,CTDOXY,CTDOXY_FLAG_W,SALNTY,SALNTY_FLAG_W,OXYGEN,OXYGEN_FLAG_W,SILCAT,SILCAT_FLAG_W,NITRAT,NITRAT_FLAG_W,NO2+NO3,NO2+NO3_FLAG_W,NITRIT,NITRIT_FLAG_W,PHSPHT,PHSPHT_FLAG_W,CFC-11,CFC-11_FLAG_W,CFC-12,CFC-12_FLAG_W,DELC13,DELC13_FLAG_W,TCARBN,TCARBN_FLAG_W,ALKALI,ALKALI_FLAG_W,PH,PH_FLAG_W,PH_TMP,PH_SCALE,PH_NBS,PH_NBS_FLAG_W,C13ERR,TOTALP,TOTALP_FLAG_W,AMMONI,AMMONI_FLAG_W,CHLORA,CHLORA_FLAG_W,PPHYTN,PPHYTN_FLAG_W,REVPRS,REVTMP,DEPTH_,DEPTH_FLAG,CTDDEP,THETA,SIGTHT,DOC,DOC_FLAG_W
,,,,,,,GMT,GMT,,,METER,DBAR,ITS-90,PSS-78,,UMOL/KG,,PSS-78,,UMOL/KG,,UMOL/KG,,UMOL/KG,,UMOL/KG,,UMOL/KG,,UMOL/KG,,PMOL/KG,,PMOL/KG,,/MILLE,,UMOL/KG,,UMOL/KG,,25_DEG_C,,DEG_C,,,,/MILLE,UMOL/KG,,UMOL/KG,,UG/L,,UG/L,,DBAR,ITS-90,METERS,,METERS,DEG_C,,UMOL/L,
       RF08-01,  142E,RF-3145,  1,     -9,      -9,5,20080217,0420, -2.0113, 142.0080, 3607,      0.0,  29.0890,  34.2194,2,   -999.0,9,-999.0000,9,    195.7,2,     1.48,2,  -999.00,9,     0.00,2,     0.00,2,     0.09,2, -999.000,9, -999.000,9,  -999.00,9,   1917.0,2,   -999.0,9,-999.0000,9,   -999.0,  9,  -999.00,9,   -999.0,  -999.00,9,  -999.00,9,     0.15,2,     0.04,2,   -999.0,-999.0000, -999,9,    0,  29.0888,  21.4484,   -999.0,9
       RF08-01,  142E,RF-3145,  1,     24,02-18578,2,20080217,0436, -2.0113, 142.0080, 3607,     12.0,  28.9748,  34.2856,2,   -999.0,9,  34.2983,4,    197.3,2,     1.44,2,  -999.00,9,     0.00,2,     0.00,2,     0.09,2, -999.000,9, -999.000,9,  -999.00,9,   -999.0,9,   -999.0,9,-999.0000,9,   -999.0,  9,  -999.00,9,   -999.0,  -999.00,9,  -999.00,9,     0.17,2,     0.05,2,   -999.0,-999.0000, -999,9,   12,  28.9719,  21.5372,   -999.0,9
       RF08-01,  142E,RF-3145,  1,     23,02-18577,2,20080217,0435, -2.0113, 142.0080, 3607,     27.2,  29.0265,  34.3659,2,   -999.0,9,-999.0000,9,    196.7,2,     1.45,2,  -999.00,9,     0.00,2,     0.01,2,     0.10,2, -999.000,9, -999.000,9,  -999.00,9,   -999.0,9,   -999.0,9,-999.0000,9,   -999.0,  9,  -999.00,9,   -999.0,  -999.00,9,  -999.00,9,     0.23,2,     0.08,2,   -999.0,-999.0000, -999,9,   27,  29.0199,  21.5814,   -999.0,9
       RF08-01,  142E,RF-3145,  1,     22,02-18576,2,20080217,0434, -2.0113, 142.0080, 3607,     51.5,  28.9982,  34.7119,2,   -999.0,9,-999.0000,9,    190.6,2,     1.83,2,  -999.00,9,     0.48,2,     0.27,2,     0.16,2, -999.000,9, -999.000,9,  -999.00,9,   -999.0,9,   -999.0,9,-999.0000,9,   -999.0,  9,  -999.00,9,   -999.0,  -999.00,9,  -999.00,9,     0.73,2,     0.30,2,   -999.0,-999.0000, -999,9,   51,  28.9858,  21.8525,   -999.0,9
       RF08-01,  142E,RF-3145,  1,     21,02-18575,2,20080217,0432, -2.0113, 142.0080, 3607,     76.6,  28.7979,  34.8136,2,   -999.0,9,-999.0000,9,    183.9,2,     2.02,2,  -999.00,9,     1.37,2,     0.40,2,     0.23,2, -999.000,9, -999.000,9,  -999.00,9,   -999.0,9,   -999.0,9,-999.0000,9,   -999.0,  9,  -999.00,9,   -999.0,  -999.00,9,  -999.00,9,     0.41,2,     0.21,2,   -999.0,-999.0000, -999,9,   76,  28.7795,  21.9976,   -999.0,9
       RF08-01,  142E,RF-3145,  1,     20,02-18574,2,20080217,0431, -2.0113, 142.0080, 3607,    102.2,  28.3077,  35.3559,2,   -999.0,9,  35.3552,2,    172.9,2,     2.47,2,  -999.00,9,     3.56,2,     0.12,2,     0.40,2, -999.000,9, -999.000,9,  -999.00,9,   -999.0,9,   -999.0,9,-999.0000,9,   -999.0,  9,  -999.00,9,   -999.0,  -999.00,9,  -999.00,9,     0.17,2,     0.17,2,   -999.0,-999.0000, -999,9,  102,  28.2834,  22.5693,   -999.0,9
       RF08-01,  142E,RF-3145,  1,     19,02-18573,2,20080217,0430, -2.0113, 142.0080, 3607,    127.2,  27.5807,  35.4964,2,   -999.0,9,-999.0000,9,    163.8,2,     2.76,2,  -999.00,9,     5.13,2,     0.05,2,     0.50,2, -999.000,9, -999.000,9,  -999.00,9,   -999.0,9,   -999.0,9,-999.0000,9,   -999.0,  9,  -999.00,9,   -999.0,  -999.00,9,  -999.00,9,     0.05,2,     0.06,2,   -999.0,-999.0000, -999,9,  126,  27.5510,  22.9142,   -999.0,9
       RF08-01,  142E,RF-3145,  1,     18,02-18572,2,20080217,0428, -2.0113, 142.0080, 3607,    151.3,  25.1646,  35.5682,2,   -999.0,9,-999.0000,9,    139.8,2,     3.40,2,  -999.00,9,     8.22,2,     0.02,2,     0.67,2, -999.000,9, -999.000,9,  -999.00,9,   -999.0,9,   -999.0,9,-999.0000,9,   -999.0,  9,  -999.00,9,   -999.0,  -999.00,9,  -999.00,9,     0.03,2,     0.06,2,   -999.0,-999.0000, -999,9,  150,  25.1315,  23.7306,   -999.0,9
       RF08-01,  142E,RF-3145,  1,     17,02-18571,2,20080217,0427, -2.0113, 142.0080, 3607,    202.6,  21.2407,  35.5583,2,   -999.0,9,  35.5558,2,    132.5,2,     4.41,2,  -999.00,9,    10.40,2,     0.01,2,     0.79,2, -999.000,9, -999.000,9,  -999.00,9,   -999.0,9,   -999.0,9,-999.0000,9,   -999.0,  9,  -999.00,9,   -999.0,  -999.00,9,  -999.00,9,     0.00,2,     0.04,2,   -999.0,-999.0000, -999,9,  201,  21.2015,  24.8639,   -999.0,9
       RF08-01,  142E,RF-3145,  1,     16,02-18570,2,20080217,0425, -2.0113, 142.0080, 3607,    253.2,  16.0561,  35.2950,2,   -999.0,9,-999.0000,9,    148.2,2,     7.05,2,  -999.00,9,    13.81,2,     0.00,2,     0.99,2, -999.000,9, -999.000,9,  -999.00,9,   -999.0,9,   -999.0,9,-999.0000,9,   -999.0,  9,  -999.00,9,   -999.0,  -999.00,9,  -999.00,9,  -999.00,9,  -999.00,9,   -999.0,-999.0000, -999,9,  252,  16.0158,  25.9710,   -999.0,9
       RF08-01,  142E,RF-3145,  1,     15,02-18569,2,20080217,0423, -2.0113, 142.0080, 3607,    303.4,  13.7746,  35.0850,2,   -999.0,9,  35.0812,4,    148.1,2,    10.83,2,  -999.00,9,    17.56,2,     0.00,2,     1.23,2, -999.000,9, -999.000,9,  -999.00,9,   -999.0,9,   -999.0,9,-999.0000,9,   -999.0,  9,  -999.00,9,   -999.0,  -999.00,9,  -999.00,9,  -999.00,9,  -999.00,9,   -999.0,-999.0000, -999,9,  302,  13.7310,  26.3091,   -999.0,9
       RF08-01,  142E,RF-3145,  1,     14,02-18568,2,20080217,0420, -2.0113, 142.0080, 3607,    403.5,  10.2782,  34.7460,2,   -999.0,9,-999.0000,9,    126.6,2,    24.76,2,  -999.00,9,    25.75,2,     0.00,2,     1.75,2, -999.000,9, -999.000,9,  -999.00,9,   -999.0,9,   -999.0,9,-999.0000,9,   -999.0,  9,  -999.00,9,   -999.0,  -999.00,9,  -999.00,9,  -999.00,9,  -999.00,9,   -999.0,-999.0000, -999,9,  401,  10.2302,  26.7141,   -999.0,9
       RF08-01,  142E,RF-3145,  1,     13,02-18567,2,20080217,0418, -2.0113, 142.0080, 3607,    504.7,   9.3345,  34.6849,2,   -999.0,9,  34.6825,2,    148.1,2,    23.88,2,  -999.00,9,    25.58,2,     0.00,2,     1.73,2, -999.000,9, -999.000,9,  -999.00,9,   -999.0,9,   -999.0,9,-999.0000,9,   -999.0,  9,  -999.00,9,   -999.0,  -999.00,9,  -999.00,9,  -999.00,9,  -999.00,9,   -999.0,-999.0000, -999,9,  501,   9.2777,  26.8265,   -999.0,9
       RF08-01,  142E,RF-3145,  1,     12,02-18348,3,20080217,0415, -2.0113, 142.0080, 3607,    605.2,   6.9333,  34.5441,2,   -999.0,9,-999.0000,9,    146.0,2,    37.62,2,  -999.00,9,    30.41,2,     0.00,2,     2.07,2, -999.000,9, -999.000,9,  -999.00,9,   -999.0,9,   -999.0,9,-999.0000,9,   -999.0,  9,  -999.00,9,   -999.0,  -999.00,9,  -999.00,9,  -999.00,9,  -999.00,9,   -999.0,-999.0000, -999,9,  601,   6.8757,  27.0767,   -999.0,9
       RF08-01,  142E,RF-3145,  1,     11,02-18565,2,20080217,0412, -2.0113, 142.0080, 3607,    706.3,   6.3687,  34.5306,2,   -999.0,9,  34.5304,2,    125.9,2,    47.74,2,  -999.00,9,    33.33,2,     0.00,2,     2.31,2, -999.000,9, -999.000,9,  -999.00,9,   -999.0,9,   -999.0,9,-999.0000,9,   -999.0,  9,  -999.00,9,   -999.0,  -999.00,9,  -999.00,9,  -999.00,9,  -999.00,9,   -999.0,-999.0000, -999,9,  701,   6.3040,  27.1426,   -999.0,9
       RF08-01,  142E,RF-3145,  1,     10,02-18564,2,20080217,0410, -2.0113, 142.0080, 3607,    807.0,   5.5422,  34.5320,2,   -999.0,9,-999.0000,9,    109.8,2,    64.04,2,  -999.00,9,    36.05,2,     0.00,2,     2.51,2, -999.000,9, -999.000,9,  -999.00,9,   -999.0,9,   -999.0,9,-999.0000,9,   -999.0,  9,  -999.00,9,   -999.0,  -999.00,9,  -999.00,9,  -999.00,9,  -999.00,9,   -999.0,-999.0000, -999,9,  801,   5.4727,  27.2483,   -999.0,9
       RF08-01,  142E,RF-3145,  1,      9,02-18563,2,20080217,0407, -2.0113, 142.0080, 3607,    908.8,   5.1161,  34.5324,2,   -999.0,9,-999.0000,9,    115.7,2,    70.50,2,  -999.00,9,    35.91,2,     0.00,2,     2.52,2, -999.000,9, -999.000,9,  -999.00,9,   -999.0,9,   -999.0,9,-999.0000,9,   -999.0,  9,  -999.00,9,   -999.0,  -999.00,9,  -999.00,9,  -999.00,9,  -999.00,9,   -999.0,-999.0000, -999,9,  902,   5.0401,  27.2999,   -999.0,9
       RF08-01,  142E,RF-3145,  1,      8,02-18562,2,20080217,0404, -2.0113, 142.0080, 3607,   1008.9,   4.6166,  34.5448,2,   -999.0,9,  34.5462,2,    110.1,2,    82.19,2,  -999.00,9,    36.75,2,     0.00,2,     2.60,2, -999.000,9, -999.000,9,  -999.00,9,   -999.0,9,   -999.0,9,-999.0000,9,   -999.0,  9,  -999.00,9,   -999.0,  -999.00,9,  -999.00,9,  -999.00,9,  -999.00,9,   -999.0,-999.0000, -999,9, 1001,   4.5354,  27.3668,   -999.0,9
       RF08-01,  142E,RF-3145,  1,      7,02-18561,2,20080217,0359, -2.0113, 142.0080, 3607,   1262.1,   3.8064,  34.5723,2,   -999.0,9,  34.5719,2,    103.8,2,   101.36,2,  -999.00,9,    38.01,2,     0.00,2,     2.69,2, -999.000,9, -999.000,9,  -999.00,9,   -999.0,9,   -999.0,9,-999.0000,9,   -999.0,  9,  -999.00,9,   -999.0,  -999.00,9,  -999.00,9,  -999.00,9,  -999.00,9,   -999.0,-999.0000, -999,9, 1251,   3.7102,  27.4755,   -999.0,9
       RF08-01,  142E,RF-3145,  1,      6,02-18560,2,20080217,0354, -2.0113, 142.0080, 3607,   1513.6,   2.8772,  34.6076,2,   -999.0,9,  34.6071,2,    108.7,2,   121.48,2,  -999.00,9,    38.34,2,     0.00,2,     2.71,2, -999.000,9, -999.000,9,  -999.00,9,   -999.0,9,   -999.0,9,-999.0000,9,   -999.0,  9,  -999.00,9,   -999.0,  -999.00,9,  -999.00,9,  -999.00,9,  -999.00,9,   -999.0,-999.0000, -999,9, 1500,   2.7696,  27.5926,   -999.0,9
       RF08-01,  142E,RF-3145,  1,      5,02-18559,2,20080217,0348, -2.0113, 142.0080, 3607,   1767.8,   2.5651,  34.6222,2,   -999.0,9,  34.6217,2,    113.5,2,   127.95,2,  -999.00,9,    38.18,2,     0.00,2,     2.70,2, -999.000,9, -999.000,9,  -999.00,9,   -999.0,9,   -999.0,9,-999.0000,9,   -999.0,  9,  -999.00,9,   -999.0,  -999.00,9,  -999.00,9,  -999.00,9,  -999.00,9,   -999.0,-999.0000, -999,9, 1751,   2.4401,  27.6329,   -999.0,9
       RF08-01,  142E,RF-3145,  1,      4,02-18558,2,20080217,0343, -2.0113, 142.0080, 3607,   2022.6,   2.2585,  34.6375,2,   -999.0,9,  34.6411,2,    118.3,2,   134.39,2,  -999.00,9,    38.03,2,     0.00,2,     2.67,2, -999.000,9, -999.000,9,  -999.00,9,   -999.0,9,   -999.0,9,-999.0000,9,   -999.0,  9,  -999.00,9,   -999.0,  -999.00,9,  -999.00,9,  -999.00,9,  -999.00,9,   -999.0,-999.0000, -999,9, 2002,   2.1162,  27.6720,   -999.0,9
       RF08-01,  142E,RF-3145,  1,      3,02-18557,2,20080217,0333, -2.0113, 142.0080, 3607,   2530.0,   1.7226,  34.6660,2,   -999.0,9,  34.6647,2,   -999.0,4,   142.53,2,  -999.00,9,    37.13,2,     0.00,2,     2.58,2, -999.000,9, -999.000,9,  -999.00,9,   -999.0,9,   -999.0,9,-999.0000,9,   -999.0,  9,  -999.00,9,   -999.0,  -999.00,9,  -999.00,9,  -999.00,9,  -999.00,9,   -999.0,-999.0000, -999,9, 2501,   1.5448,  27.7388,   -999.0,9
       RF08-01,  142E,RF-3145,  1,      2,02-18556,2,20080217,0324, -2.0113, 142.0080, 3607,   3039.7,   1.6244,  34.6736,2,   -999.0,9,  34.6730,2,    141.4,2,   142.48,2,  -999.00,9,    36.76,2,     0.00,2,     2.54,2, -999.000,9, -999.000,9,  -999.00,9,   -999.0,9,   -999.0,9,-999.0000,9,   -999.0,  9,  -999.00,9,   -999.0,  -999.00,9,  -999.00,9,  -999.00,9,  -999.00,9,   -999.0,-999.0000, -999,9, 3001,   1.4011,  27.7554,   -999.0,9
       RF08-01,  142E,RF-3145,  1,      1,02-18555,2,20080217,0315, -2.0113, 142.0080, 3607,   3558.0,   1.5856,  34.6789,2,   -999.0,9,  34.6782,2,    145.9,2,   142.66,2,  -999.00,9,    36.43,2,     0.00,2,     2.52,2, -999.000,9, -999.000,9,  -999.00,9,   -999.0,9,   -999.0,9,-999.0000,9,   -999.0,  9,  -999.00,9,   -999.0,  -999.00,9,  -999.00,9,  -999.00,9,  -999.00,9,   -999.0,-999.0000, -999,9, 3509,   1.3114,  27.7660,   -999.0,9