BOTTLE,20130510GEMDJMAYT
EXPOCODE,SECT_ID,STNNBR,CASTNO,SAMPNO,BTLNBR,BTLNBR_FLAG_W,DATE,TIME,LATITUDE,LONGITUDE,DEPTH,CTDPRS,CTDTMP,CTDSAL,CTDSAL_FLAG_W,CTDOXY,CTDOXY_FLAG_W,SALNTY,SALNTY_FLAG_W,OXYGEN,OXYGEN_FLAG_W,SILCAT,SILCAT_FLAG_W,NITRAT,NITRAT_FLAG_W,NO2+NO3,NO2+NO3_FLAG_W,NITRIT,NITRIT_FLAG_W,PHSPHT,PHSPHT_FLAG_W,CFC-11,CFC-11_FLAG_W,CFC-12,CFC-12_FLAG_W,DELC13,DELC13_FLAG_W,TCARBN,TCARBN_FLAG_W,ALKALI,ALKALI_FLAG_W,PH,PH_FLAG_W,PH_TMP,PH_SCALE,PH_NBS,PH_NBS_FLAG_W,C13ERR,TOTALP,TOTALP_FLAG_W,AMMONI,AMMONI_FLAG_W,CHLORA,CHLORA_FLAG_W,PPHYTN,PPHYTN_FLAG_W,REVPRS,REVTMP,DEPTH_,DEPTH_FLAG,CTDDEP,THETA,SIGTHT,DOC,DOC_FLAG_W
,,,,,,,GMT,GMT,,,METER,DBAR,ITS-90,PSS-78,,UMOL/KG,,PSS-78,,UMOL/KG,,UMOL/KG,,UMOL/KG,,UMOL/KG,,UMOL/KG,,UMOL/KG,,PMOL/KG,,PMOL/KG,,/MILLE,,UMOL/KG,,UMOL/KG,,25_DEG_C,,DEG_C,,,,/MILLE,UMOL/KG,,UMOL/KG,,UG/L,,UG/L,,DBAR,ITS-90,METERS,,METERS,DEG_C,,UMOL/L,
       RF08-01,  137E,RF-3116,  1,     -9,      -9,5,20080129,0635, 23.0207, 136.9933, 3502,      0.0,  24.7651,  34.7061,2,   -999.0,9,-999.0000,9,    209.9,2,     1.32,2,  -999.00,9,     0.03,2,     0.00,2,     0.00,2, -999.000,9, -999.000,9,  -999.00,9,   1942.2,2,   -999.0,9,   8.1061,3,     25.0, TS,  -999.00,9,   -999.0,  -999.00,9,  -999.00,9,     0.08,2,     0.03,2,   -999.0,-999.0000, -999,9,    0,  24.7650,  23.1903,   -999.0,9
       RF08-01,  137E,RF-3116,  1,     21,02-18575,2,20080129,0652, 23.0207, 136.9933, 3502,     11.8,  24.7383,  34.7036,2,   -999.0,9,  34.7022,2,    209.6,2,     1.38,2,  -999.00,9,     0.00,2,     0.00,2,     0.00,2, -999.000,9, -999.000,9,  -999.00,9,   -999.0,9,   -999.0,9,-999.0000,9,   -999.0,  9,  -999.00,9,   -999.0,  -999.00,9,  -999.00,9,     0.10,2,     0.03,2,   -999.0,-999.0000, -999,9,   12,  24.7358,  23.1972,   -999.0,9
       RF08-01,  137E,RF-3116,  1,     20,02-18574,2,20080129,0651, 23.0207, 136.9933, 3502,     25.7,  24.4999,  34.6981,2,   -999.0,9,-999.0000,9,    210.5,2,     1.40,2,  -999.00,9,     0.00,2,     0.00,2,     0.00,2, -999.000,9, -999.000,9,  -999.00,9,   -999.0,9,   -999.0,9,-999.0000,9,   -999.0,  9,  -999.00,9,   -999.0,  -999.00,9,  -999.00,9,     0.07,2,     0.03,2,   -999.0,-999.0000, -999,9,   26,  24.4944,  23.2656,   -999.0,9
       RF08-01,  137E,RF-3116,  1,     19,02-18573,2,20080129,0649, 23.0207, 136.9933, 3502,     51.6,  24.3806,  34.7637,2,   -999.0,9,-999.0000,9,    203.5,2,     1.60,2,  -999.00,9,     0.02,2,     0.00,2,     0.01,2, -999.000,9, -999.000,9,  -999.00,9,   -999.0,9,   -999.0,9,-999.0000,9,   -999.0,  9,  -999.00,9,   -999.0,  -999.00,9,  -999.00,9,     0.21,2,     0.19,2,   -999.0,-999.0000, -999,9,   51,  24.3696,  23.3525,   -999.0,9
       RF08-01,  137E,RF-3116,  1,     18,02-18572,2,20080129,0648, 23.0207, 136.9933, 3502,     76.3,  22.7911,  34.8146,2,   -999.0,9,-999.0000,9,    210.9,2,     1.65,2,  -999.00,9,     0.02,2,     0.01,2,     0.00,2, -999.000,9, -999.000,9,  -999.00,9,   -999.0,9,   -999.0,9,-999.0000,9,   -999.0,  9,  -999.00,9,   -999.0,  -999.00,9,  -999.00,9,     0.34,2,     0.27,2,   -999.0,-999.0000, -999,9,   76,  22.7757,  23.8574,   -999.0,9
       RF08-01,  137E,RF-3116,  1,     17,02-18571,2,20080129,0647, 23.0207, 136.9933, 3502,    101.7,  22.4483,  34.8222,2,   -999.0,9,  34.8423,4,    207.4,2,     1.73,2,  -999.00,9,     0.19,2,     0.03,2,     0.01,2, -999.000,9, -999.000,9,  -999.00,9,   -999.0,9,   -999.0,9,-999.0000,9,   -999.0,  9,  -999.00,9,   -999.0,  -999.00,9,  -999.00,9,     0.29,2,     0.34,2,   -999.0,-999.0000, -999,9,  101,  22.4279,  23.9622,   -999.0,9
       RF08-01,  137E,RF-3116,  1,     16,02-18570,2,20080129,0646, 23.0207, 136.9933, 3502,    127.0,  21.7381,  34.9128,2,   -999.0,9,-999.0000,9,    196.1,2,     2.03,2,  -999.00,9,     1.04,2,     0.04,2,     0.07,2, -999.000,9, -999.000,9,  -999.00,9,   -999.0,9,   -999.0,9,-999.0000,9,   -999.0,  9,  -999.00,9,   -999.0,  -999.00,9,  -999.00,9,     0.11,2,     0.20,2,   -999.0,-999.0000, -999,9,  126,  21.7132,  24.2315,   -999.0,9
       RF08-01,  137E,RF-3116,  1,     15,02-18569,2,20080129,0645, 23.0207, 136.9933, 3502,    151.3,  20.7061,  34.9235,2,   -999.0,9,-999.0000,9,    191.6,2,     2.60,2,  -999.00,9,     2.04,2,     0.02,2,     0.15,2, -999.000,9, -999.000,9,  -999.00,9,   -999.0,9,   -999.0,9,-999.0000,9,   -999.0,  9,  -999.00,9,   -999.0,  -999.00,9,  -999.00,9,     0.04,2,     0.07,2,   -999.0,-999.0000, -999,9,  150,  20.6774,  24.5229,   -999.0,9
       RF08-01,  137E,RF-3116,  1,     14,02-18568,2,20080129,0643, 23.0207, 136.9933, 3502,    202.6,  18.8977,  34.8441,2,   -999.0,9,  34.8422,2,    196.1,2,     3.39,2,  -999.00,9,     3.62,2,     0.01,2,     0.21,2, -999.000,9, -999.000,9,  -999.00,9,   -999.0,9,   -999.0,9,-999.0000,9,   -999.0,  9,  -999.00,9,   -999.0,  -999.00,9,  -999.00,9,     0.01,2,     0.03,2,   -999.0,-999.0000, -999,9,  201,  18.8617,  24.9372,   -999.0,9
       RF08-01,  137E,RF-3116,  1,     13,02-18567,2,20080129,0641, 23.0207, 136.9933, 3502,    253.3,  18.0469,  34.8079,2,   -999.0,9,-999.0000,9,    197.0,2,     4.31,2,  -999.00,9,     4.74,2,     0.00,2,     0.28,2, -999.000,9, -999.000,9,  -999.00,9,   -999.0,9,   -999.0,9,-999.0000,9,   -999.0,  9,  -999.00,9,   -999.0,  -999.00,9,  -999.00,9,  -999.00,9,  -999.00,9,   -999.0,-999.0000, -999,9,  252,  18.0033,  25.1241,   -999.0,9
       RF08-01,  137E,RF-3116,  1,     12,02-18348,2,20080129,0639, 23.0207, 136.9933, 3502,    303.9,  16.9326,  34.7436,2,   -999.0,9,  34.7453,2,    196.9,2,     5.88,2,  -999.00,9,     6.44,2,     0.00,2,     0.38,2, -999.000,9, -999.000,9,  -999.00,9,   -999.0,9,   -999.0,9,-999.0000,9,   -999.0,  9,  -999.00,9,   -999.0,  -999.00,9,  -999.00,9,  -999.00,9,  -999.00,9,   -999.0,-999.0000, -999,9,  302,  16.8825,  25.3452,   -999.0,9
       RF08-01,  137E,RF-3116,  1,     11,02-18565,2,20080129,0637, 23.0207, 136.9933, 3502,    404.4,  14.1896,  34.5185,2,   -999.0,9,  34.5193,2,    188.1,2,    12.41,2,  -999.00,9,    11.38,2,     0.00,2,     0.72,2, -999.000,9, -999.000,9,  -999.00,9,   -999.0,9,   -999.0,9,-999.0000,9,   -999.0,  9,  -999.00,9,   -999.0,  -999.00,9,  -999.00,9,  -999.00,9,  -999.00,9,   -999.0,-999.0000, -999,9,  401,  14.1305,  25.7876,   -999.0,9
       RF08-01,  137E,RF-3116,  1,     10,02-18564,2,20080129,0634, 23.0207, 136.9933, 3502,    506.4,  10.5115,  34.2526,2,   -999.0,9,-999.0000,9,    168.9,2,    26.18,2,  -999.00,9,    19.34,2,     0.00,2,     1.30,2, -999.000,9, -999.000,9,  -999.00,9,   -999.0,9,   -999.0,9,-999.0000,9,   -999.0,  9,  -999.00,9,   -999.0,  -999.00,9,  -999.00,9,  -999.00,9,  -999.00,9,   -999.0,-999.0000, -999,9,  503,  10.4505,  26.2908,   -999.0,9
       RF08-01,  137E,RF-3116,  1,      9,02-18563,2,20080129,0631, 23.0207, 136.9933, 3502,    607.2,   8.3190,  34.1462,2,   -999.0,9,  34.1471,2,    143.9,2,    44.31,2,  -999.00,9,    25.83,2,     0.00,2,     1.77,2, -999.000,9, -999.000,9,  -999.00,9,   -999.0,9,   -999.0,9,-999.0000,9,   -999.0,  9,  -999.00,9,   -999.0,  -999.00,9,  -999.00,9,  -999.00,9,  -999.00,9,   -999.0,-999.0000, -999,9,  603,   8.2553,  26.5651,   -999.0,9
       RF08-01,  137E,RF-3116,  1,      8,02-18562,2,20080129,0628, 23.0207, 136.9933, 3502,    708.4,   5.9988,  34.1361,2,   -999.0,9,-999.0000,9,     97.4,2,    75.10,2,  -999.00,9,    33.82,2,     0.00,2,     2.39,2, -999.000,9, -999.000,9,  -999.00,9,   -999.0,9,   -999.0,9,-999.0000,9,   -999.0,  9,  -999.00,9,   -999.0,  -999.00,9,  -999.00,9,  -999.00,9,  -999.00,9,   -999.0,-999.0000, -999,9,  703,   5.9363,  26.8780,   -999.0,9
       RF08-01,  137E,RF-3116,  1,      7,02-18561,2,20080129,0625, 23.0207, 136.9933, 3502,    808.2,   5.0335,  34.1960,2,   -999.0,9,  34.1963,2,     74.8,2,    93.65,2,  -999.00,9,    37.12,2,     0.00,2,     2.65,2, -999.000,9, -999.000,9,  -999.00,9,   -999.0,9,   -999.0,9,-999.0000,9,   -999.0,  9,  -999.00,9,   -999.0,  -999.00,9,  -999.00,9,  -999.00,9,  -999.00,9,   -999.0,-999.0000, -999,9,  802,   4.9675,  27.0416,   -999.0,9
       RF08-01,  137E,RF-3116,  1,      6,02-18560,2,20080129,0623, 23.0207, 136.9933, 3502,    910.1,   4.3662,  34.2716,2,   -999.0,9,-999.0000,9,     59.9,2,   107.99,2,  -999.00,9,    39.29,2,     0.00,2,     2.81,2, -999.000,9, -999.000,9,  -999.00,9,   -999.0,9,   -999.0,9,-999.0000,9,   -999.0,  9,  -999.00,9,   -999.0,  -999.00,9,  -999.00,9,  -999.00,9,  -999.00,9,   -999.0,-999.0000, -999,9,  902,   4.2957,  27.1757,   -999.0,9
       RF08-01,  137E,RF-3116,  1,      5,02-18559,2,20080129,0620, 23.0207, 136.9933, 3502,   1010.4,   3.7613,  34.3521,2,   -999.0,9,  34.3519,2,     55.2,2,   121.17,2,  -999.00,9,    40.38,2,     0.00,2,     2.89,2, -999.000,9, -999.000,9,  -999.00,9,   -999.0,9,   -999.0,9,-999.0000,9,   -999.0,  9,  -999.00,9,   -999.0,  -999.00,9,  -999.00,9,  -999.00,9,  -999.00,9,   -999.0,-999.0000, -999,9, 1002,   3.6869,  27.3025,   -999.0,9
       RF08-01,  137E,RF-3116,  1,      4,02-18558,2,20080129,0614, 23.0207, 136.9933, 3502,   1263.2,   2.9777,  34.4742,2,   -999.0,9,  34.4734,2,     64.7,2,   135.47,2,  -999.00,9,    40.57,2,     0.00,2,     2.89,2, -999.000,9, -999.000,9,  -999.00,9,   -999.0,9,   -999.0,9,-999.0000,9,   -999.0,  9,  -999.00,9,   -999.0,  -999.00,9,  -999.00,9,  -999.00,9,  -999.00,9,   -999.0,-999.0000, -999,9, 1251,   2.8896,  27.4754,   -999.0,9
       RF08-01,  137E,RF-3116,  1,      3,02-18557,2,20080129,0608, 23.0207, 136.9933, 3502,   1516.5,   2.5558,  34.5449,2,   -999.0,9,  34.5707,4,     85.0,2,   139.87,2,  -999.00,9,    39.72,2,     0.00,2,     2.81,2, -999.000,9, -999.000,9,  -999.00,9,   -999.0,9,   -999.0,9,-999.0000,9,   -999.0,  9,  -999.00,9,   -999.0,  -999.00,9,  -999.00,9,  -999.00,9,  -999.00,9,   -999.0,-999.0000, -999,9, 1501,   2.4518,  27.5701,   -999.0,9
       RF08-01,  137E,RF-3116,  1,      2,02-18556,2,20080129,0602, 23.0207, 136.9933, 3502,   1770.7,   2.2276,  34.5893,2,   -999.0,9,  34.5915,2,    102.6,2,   142.31,2,  -999.00,9,    38.82,2,     0.00,2,     2.73,2, -999.000,9, -999.000,9,  -999.00,9,   -999.0,9,   -999.0,9,-999.0000,9,   -999.0,  9,  -999.00,9,   -999.0,  -999.00,9,  -999.00,9,  -999.00,9,  -999.00,9,   -999.0,-999.0000, -999,9, 1752,   2.1070,  27.6341,   -999.0,9
       RF08-01,  137E,RF-3116,  1,      1,02-18555,2,20080129,0556, 23.0207, 136.9933, 3502,   2023.2,   2.0074,  34.6184,2,   -999.0,9,  34.6197,2,    114.9,2,   143.39,2,  -999.00,9,    38.27,2,     0.00,2,     2.68,2, -999.000,9, -999.000,9,  -999.00,9,   -999.0,9,   -999.0,9,-999.0000,9,   -999.0,  9,  -999.00,9,   -999.0,  -999.00,9,  -999.00,9,  -999.00,9,  -999.00,9,   -999.0,-999.0000, -999,9, 2001,   1.8689,  27.6762,   -999.0,9