BOTTLE,20130510GEMDJMAYT
EXPOCODE,SECT_ID,STNNBR,CASTNO,SAMPNO,BTLNBR,BTLNBR_FLAG_W,DATE,TIME,LATITUDE,LONGITUDE,DEPTH,CTDPRS,CTDTMP,CTDSAL,CTDSAL_FLAG_W,CTDOXY,CTDOXY_FLAG_W,SALNTY,SALNTY_FLAG_W,OXYGEN,OXYGEN_FLAG_W,SILCAT,SILCAT_FLAG_W,NITRAT,NITRAT_FLAG_W,NO2+NO3,NO2+NO3_FLAG_W,NITRIT,NITRIT_FLAG_W,PHSPHT,PHSPHT_FLAG_W,CFC-11,CFC-11_FLAG_W,CFC-12,CFC-12_FLAG_W,DELC13,DELC13_FLAG_W,TCARBN,TCARBN_FLAG_W,ALKALI,ALKALI_FLAG_W,PH,PH_FLAG_W,PH_TMP,PH_SCALE,PH_NBS,PH_NBS_FLAG_W,C13ERR,TOTALP,TOTALP_FLAG_W,AMMONI,AMMONI_FLAG_W,CHLORA,CHLORA_FLAG_W,PPHYTN,PPHYTN_FLAG_W,REVPRS,REVTMP,DEPTH_,DEPTH_FLAG,CTDDEP,THETA,SIGTHT,DOC,DOC_FLAG_W
,,,,,,,GMT,GMT,,,METER,DBAR,ITS-90,PSS-78,,UMOL/KG,,PSS-78,,UMOL/KG,,UMOL/KG,,UMOL/KG,,UMOL/KG,,UMOL/KG,,UMOL/KG,,PMOL/KG,,PMOL/KG,,/MILLE,,UMOL/KG,,UMOL/KG,,25_DEG_C,,DEG_C,,,,/MILLE,UMOL/KG,,UMOL/KG,,UG/L,,UG/L,,DBAR,ITS-90,METERS,,METERS,DEG_C,,UMOL/L,
       RF08-01,  137E,RF-3131,  1,     -9,      -9,5,20080202,1940,  7.9872, 136.9743, 2967,      0.0,  28.3472,  33.9805,2,   -999.0,9,-999.0000,9,   -999.0,4,     1.85,2,  -999.00,9,     0.02,2,     0.00,2,     0.04,2, -999.000,9, -999.000,9,  -999.00,9,   1900.7,2,   -999.0,9,   8.1200,2,     25.0, TS,  -999.00,9,   -999.0,  -999.00,9,  -999.00,9,     0.08,2,     0.04,2,   -999.0,-999.0000, -999,9,    0,  28.3470,  21.5147,   -999.0,9
       RF08-01,  137E,RF-3131,  1,     24,02-18578,2,20080202,1954,  7.9872, 136.9743, 2967,     12.8,  28.3560,  33.9797,2,   -999.0,9,  33.9796,2,    197.0,2,     1.81,2,  -999.00,9,     0.00,2,     0.00,2,     0.03,2, -999.000,9, -999.000,9,  -999.00,9,   -999.0,9,   -999.0,9,-999.0000,9,   -999.0,  9,  -999.00,9,   -999.0,  -999.00,9,  -999.00,9,     0.07,2,     0.03,2,   -999.0,-999.0000, -999,9,   13,  28.3530,  21.5122,   -999.0,9
       RF08-01,  137E,RF-3131,  1,     23,02-18577,2,20080202,1953,  7.9872, 136.9743, 2967,     27.3,  28.3639,  33.9794,2,   -999.0,9,-999.0000,9,    197.1,2,     1.80,2,  -999.00,9,     0.00,2,     0.00,2,     0.03,2, -999.000,9, -999.000,9,  -999.00,9,   -999.0,9,   -999.0,9,-999.0000,9,   -999.0,  9,  -999.00,9,   -999.0,  -999.00,9,  -999.00,9,     0.07,2,     0.03,2,   -999.0,-999.0000, -999,9,   27,  28.3574,  21.5105,   -999.0,9
       RF08-01,  137E,RF-3131,  1,     22,02-18576,2,20080202,1952,  7.9872, 136.9743, 2967,     51.1,  28.3656,  33.9784,2,   -999.0,9,-999.0000,9,    197.3,2,     1.80,2,  -999.00,9,     0.00,2,     0.00,2,     0.03,2, -999.000,9, -999.000,9,  -999.00,9,   -999.0,9,   -999.0,9,-999.0000,9,   -999.0,  9,  -999.00,9,   -999.0,  -999.00,9,  -999.00,9,     0.07,2,     0.03,2,   -999.0,-999.0000, -999,9,   51,  28.3535,  21.5110,   -999.0,9
       RF08-01,  137E,RF-3131,  1,     21,02-18575,2,20080202,1950,  7.9872, 136.9743, 2967,     77.0,  27.1830,  34.5614,2,   -999.0,9,-999.0000,9,    184.0,2,     2.75,2,  -999.00,9,     0.13,2,     0.02,2,     0.14,2, -999.000,9, -999.000,9,  -999.00,9,   -999.0,9,   -999.0,9,-999.0000,9,   -999.0,  9,  -999.00,9,   -999.0,  -999.00,9,  -999.00,9,     0.22,2,     0.23,2,   -999.0,-999.0000, -999,9,   77,  27.1653,  22.3346,   -999.0,9
       RF08-01,  137E,RF-3131,  1,     20,02-18574,2,20080202,1949,  7.9872, 136.9743, 2967,    102.3,  25.0130,  34.6838,2,   -999.0,9,  34.6936,4,    166.7,2,     3.93,2,  -999.00,9,     2.61,2,     0.24,2,     0.31,2, -999.000,9, -999.000,9,  -999.00,9,   -999.0,9,   -999.0,9,-999.0000,9,   -999.0,  9,  -999.00,9,   -999.0,  -999.00,9,  -999.00,9,     0.29,2,     0.51,2,   -999.0,-999.0000, -999,9,  102,  24.9908,  23.1051,   -999.0,9
       RF08-01,  137E,RF-3131,  1,     19,02-18573,2,20080202,1948,  7.9872, 136.9743, 2967,    127.6,  21.6475,  34.7584,2,   -999.0,9,-999.0000,9,    156.7,2,     6.09,2,  -999.00,9,     5.78,2,     0.11,2,     0.50,2, -999.000,9, -999.000,9,  -999.00,9,   -999.0,9,   -999.0,9,-999.0000,9,   -999.0,  9,  -999.00,9,   -999.0,  -999.00,9,  -999.00,9,     0.12,2,     0.29,2,   -999.0,-999.0000, -999,9,  127,  21.6226,  24.1393,   -999.0,9
       RF08-01,  137E,RF-3131,  1,     18,02-18572,2,20080202,1946,  7.9872, 136.9743, 2967,    155.4,  18.7960,  34.7265,2,   -999.0,9,-999.0000,9,    149.4,2,     9.02,2,  -999.00,9,     9.20,2,     0.02,2,     0.70,2, -999.000,9, -999.000,9,  -999.00,9,   -999.0,9,   -999.0,9,-999.0000,9,   -999.0,  9,  -999.00,9,   -999.0,  -999.00,9,  -999.00,9,     0.06,2,     0.16,2,   -999.0,-999.0000, -999,9,  154,  18.7686,  24.8709,   -999.0,9
       RF08-01,  137E,RF-3131,  1,     17,02-18571,2,20080202,1944,  7.9872, 136.9743, 2967,    204.8,  12.5112,  34.5106,2,   -999.0,9,  34.5105,2,    113.4,2,    23.69,2,  -999.00,9,    21.28,2,     0.00,2,     1.50,2, -999.000,9, -999.000,9,  -999.00,9,   -999.0,9,   -999.0,9,-999.0000,9,   -999.0,  9,  -999.00,9,   -999.0,  -999.00,9,  -999.00,9,     0.01,2,     0.03,2,   -999.0,-999.0000, -999,9,  204,  12.4839,  26.1157,   -999.0,9
       RF08-01,  137E,RF-3131,  1,     16,02-18570,2,20080202,1943,  7.9872, 136.9743, 2967,    254.1,  10.8331,  34.5042,2,   -999.0,9,-999.0000,9,     88.4,2,    32.52,2,  -999.00,9,    27.12,2,     0.00,2,     1.97,2, -999.000,9, -999.000,9,  -999.00,9,   -999.0,9,   -999.0,9,-999.0000,9,   -999.0,  9,  -999.00,9,   -999.0,  -999.00,9,  -999.00,9,  -999.00,9,  -999.00,9,   -999.0,-999.0000, -999,9,  253,  10.8022,  26.4249,   -999.0,9
       RF08-01,  137E,RF-3131,  1,     15,02-18569,2,20080202,1940,  7.9872, 136.9743, 2967,    306.3,   9.4836,  34.5421,2,   -999.0,9,  34.5346,4,     72.9,2,    39.31,2,  -999.00,9,    31.06,2,     0.00,2,     2.20,2, -999.000,9, -999.000,9,  -999.00,9,   -999.0,9,   -999.0,9,-999.0000,9,   -999.0,  9,  -999.00,9,   -999.0,  -999.00,9,  -999.00,9,  -999.00,9,  -999.00,9,   -999.0,-999.0000, -999,9,  304,   9.4492,  26.6866,   -999.0,9
       RF08-01,  137E,RF-3131,  1,     14,02-18568,2,20080202,1937,  7.9872, 136.9743, 2967,    406.5,   8.2308,  34.5579,2,   -999.0,9,-999.0000,9,     68.8,2,    46.61,2,  -999.00,9,    34.07,2,     0.00,2,     2.45,2, -999.000,9, -999.000,9,  -999.00,9,   -999.0,9,   -999.0,9,-999.0000,9,   -999.0,  9,  -999.00,9,   -999.0,  -999.00,9,  -999.00,9,  -999.00,9,  -999.00,9,   -999.0,-999.0000, -999,9,  404,   8.1887,  26.8982,   -999.0,9
       RF08-01,  137E,RF-3131,  1,     13,02-18567,2,20080202,1933,  7.9872, 136.9743, 2967,    506.1,   7.5844,  34.5435,2,   -999.0,9,  34.5432,2,     74.5,2,    51.46,2,  -999.00,9,    34.69,2,     0.00,2,     2.46,2, -999.000,9, -999.000,9,  -999.00,9,   -999.0,9,   -999.0,9,-999.0000,9,   -999.0,  9,  -999.00,9,   -999.0,  -999.00,9,  -999.00,9,  -999.00,9,  -999.00,9,   -999.0,-999.0000, -999,9,  503,   7.5341,  26.9837,   -999.0,9
       RF08-01,  137E,RF-3131,  1,     12,02-18348,2,20080202,1930,  7.9872, 136.9743, 2967,    607.2,   6.7351,  34.5293,2,   -999.0,9,-999.0000,9,     79.7,2,    60.23,2,  -999.00,9,    35.71,2,     0.00,2,     2.56,2, -999.000,9, -999.000,9,  -999.00,9,   -999.0,9,   -999.0,9,-999.0000,9,   -999.0,  9,  -999.00,9,   -999.0,  -999.00,9,  -999.00,9,  -999.00,9,  -999.00,9,   -999.0,-999.0000, -999,9,  603,   6.6782,  27.0920,   -999.0,9
       RF08-01,  137E,RF-3131,  1,     11,02-18565,2,20080202,1926,  7.9872, 136.9743, 2967,    709.8,   6.4174,  34.5280,2,   -999.0,9,  34.5340,4,     79.5,2,    64.39,2,  -999.00,9,    36.36,2,     0.00,2,     2.61,2, -999.000,9, -999.000,9,  -999.00,9,   -999.0,9,   -999.0,9,-999.0000,9,   -999.0,  9,  -999.00,9,   -999.0,  -999.00,9,  -999.00,9,  -999.00,9,  -999.00,9,   -999.0,-999.0000, -999,9,  705,   6.3521,  27.1343,   -999.0,9
       RF08-01,  137E,RF-3131,  1,     10,02-18564,2,20080202,1923,  7.9872, 136.9743, 2967,    806.5,   5.6865,  34.5299,2,   -999.0,9,-999.0000,9,     82.6,2,    74.97,2,  -999.00,9,    37.18,2,     0.00,2,     2.68,2, -999.000,9, -999.000,9,  -999.00,9,   -999.0,9,   -999.0,9,-999.0000,9,   -999.0,  9,  -999.00,9,   -999.0,  -999.00,9,  -999.00,9,  -999.00,9,  -999.00,9,   -999.0,-999.0000, -999,9,  800,   5.6162,  27.2291,   -999.0,9
       RF08-01,  137E,RF-3131,  1,      9,02-18563,2,20080202,1920,  7.9872, 136.9743, 2967,    910.0,   5.0165,  34.5392,2,   -999.0,9,-999.0000,9,     82.5,2,    86.91,2,  -999.00,9,    37.92,2,     0.00,2,     2.75,2, -999.000,9, -999.000,9,  -999.00,9,   -999.0,9,   -999.0,9,-999.0000,9,   -999.0,  9,  -999.00,9,   -999.0,  -999.00,9,  -999.00,9,  -999.00,9,  -999.00,9,   -999.0,-999.0000, -999,9,  903,   4.9411,  27.3167,   -999.0,9
       RF08-01,  137E,RF-3131,  1,      8,02-18562,2,20080202,1917,  7.9872, 136.9743, 2967,   1010.7,   4.5054,  34.5508,2,   -999.0,9,  34.5492,2,     85.8,2,    96.43,2,  -999.00,9,    38.26,2,     0.00,2,     2.75,2, -999.000,9, -999.000,9,  -999.00,9,   -999.0,9,   -999.0,9,-999.0000,9,   -999.0,  9,  -999.00,9,   -999.0,  -999.00,9,  -999.00,9,  -999.00,9,  -999.00,9,   -999.0,-999.0000, -999,9, 1003,   4.4249,  27.3837,   -999.0,9
       RF08-01,  137E,RF-3131,  1,      7,02-18561,2,20080202,1910,  7.9872, 136.9743, 2967,   1263.1,   3.6504,  34.5755,2,   -999.0,9,  34.5735,2,     92.5,2,   112.37,2,  -999.00,9,    38.64,2,     0.00,2,     2.80,2, -999.000,9, -999.000,9,  -999.00,9,   -999.0,9,   -999.0,9,-999.0000,9,   -999.0,  9,  -999.00,9,   -999.0,  -999.00,9,  -999.00,9,  -999.00,9,  -999.00,9,   -999.0,-999.0000, -999,9, 1252,   3.5556,  27.4934,   -999.0,9
       RF08-01,  137E,RF-3131,  1,      6,02-18560,2,20080202,1904,  7.9872, 136.9743, 2967,   1514.5,   2.9706,  34.5988,2,   -999.0,9,  34.5981,2,    100.0,2,   125.30,2,  -999.00,9,    38.62,2,     0.00,2,     2.79,2, -999.000,9, -999.000,9,  -999.00,9,   -999.0,9,   -999.0,9,-999.0000,9,   -999.0,  9,  -999.00,9,   -999.0,  -999.00,9,  -999.00,9,  -999.00,9,  -999.00,9,   -999.0,-999.0000, -999,9, 1501,   2.8618,  27.5774,   -999.0,9
       RF08-01,  137E,RF-3131,  1,      5,02-18559,2,20080202,1858,  7.9872, 136.9743, 2967,   1766.3,   2.5293,  34.6189,2,   -999.0,9,  34.6179,2,    107.6,2,   133.05,2,  -999.00,9,    38.41,2,     0.00,2,     2.81,2, -999.000,9, -999.000,9,  -999.00,9,   -999.0,9,   -999.0,9,-999.0000,9,   -999.0,  9,  -999.00,9,   -999.0,  -999.00,9,  -999.00,9,  -999.00,9,  -999.00,9,   -999.0,-999.0000, -999,9, 1749,   2.4049,  27.6333,   -999.0,9
       RF08-01,  137E,RF-3131,  1,      4,02-18558,2,20080202,1852,  7.9872, 136.9743, 2967,   2019.9,   2.1887,  34.6361,2,   -999.0,9,  34.6354,2,    116.6,2,   137.81,2,  -999.00,9,    38.02,2,     0.00,2,     2.67,2, -999.000,9, -999.000,9,  -999.00,9,   -999.0,9,   -999.0,9,-999.0000,9,   -999.0,  9,  -999.00,9,   -999.0,  -999.00,9,  -999.00,9,  -999.00,9,  -999.00,9,   -999.0,-999.0000, -999,9, 1999,   2.0477,  27.6764,   -999.0,9
       RF08-01,  137E,RF-3131,  1,      3,02-18557,2,20080202,1847,  7.9872, 136.9743, 2967,   2273.9,   1.9199,  34.6512,2,   -999.0,9,  34.6504,2,    125.3,2,   141.03,2,  -999.00,9,    37.47,2,     0.00,2,     2.63,2, -999.000,9, -999.000,9,  -999.00,9,   -999.0,9,   -999.0,9,-999.0000,9,   -999.0,  9,  -999.00,9,   -999.0,  -999.00,9,  -999.00,9,  -999.00,9,  -999.00,9,   -999.0,-999.0000, -999,9, 2249,   1.7612,  27.7108,   -999.0,9
       RF08-01,  137E,RF-3131,  1,      2,02-18556,2,20080202,1842,  7.9872, 136.9743, 2967,   2529.5,   1.7725,  34.6606,2,   -999.0,9,  34.6595,2,    133.2,2,   141.71,2,  -999.00,9,    37.19,2,     0.00,2,     2.59,2, -999.000,9, -999.000,9,  -999.00,9,   -999.0,9,   -999.0,9,-999.0000,9,   -999.0,  9,  -999.00,9,   -999.0,  -999.00,9,  -999.00,9,  -999.00,9,  -999.00,9,   -999.0,-999.0000, -999,9, 2500,   1.5938,  27.7309,   -999.0,9
       RF08-01,  137E,RF-3131,  1,      1,02-18555,2,20080202,1836,  7.9872, 136.9743, 2967,   2864.8,   1.6635,  34.6682,2,   -999.0,9,  34.6675,2,    138.7,2,   142.57,2,  -999.00,9,    36.80,2,     0.00,2,     2.55,2, -999.000,9, -999.000,9,  -999.00,9,   -999.0,9,   -999.0,9,-999.0000,9,   -999.0,  9,  -999.00,9,   -999.0,  -999.00,9,  -999.00,9,  -999.00,9,  -999.00,9,   -999.0,-999.0000, -999,9, 2830,   1.4560,  27.7471,   -999.0,9