BOTTLE,20130510GEMDJMAYT
EXPOCODE,SECT_ID,STNNBR,CASTNO,SAMPNO,BTLNBR,BTLNBR_FLAG_W,DATE,TIME,LATITUDE,LONGITUDE,DEPTH,CTDPRS,CTDTMP,CTDSAL,CTDSAL_FLAG_W,CTDOXY,CTDOXY_FLAG_W,SALNTY,SALNTY_FLAG_W,OXYGEN,OXYGEN_FLAG_W,SILCAT,SILCAT_FLAG_W,NITRAT,NITRAT_FLAG_W,NO2+NO3,NO2+NO3_FLAG_W,NITRIT,NITRIT_FLAG_W,PHSPHT,PHSPHT_FLAG_W,CFC-11,CFC-11_FLAG_W,CFC-12,CFC-12_FLAG_W,DELC13,DELC13_FLAG_W,TCARBN,TCARBN_FLAG_W,ALKALI,ALKALI_FLAG_W,PH,PH_FLAG_W,PH_TMP,PH_SCALE,PH_NBS,PH_NBS_FLAG_W,C13ERR,TOTALP,TOTALP_FLAG_W,AMMONI,AMMONI_FLAG_W,CHLORA,CHLORA_FLAG_W,PPHYTN,PPHYTN_FLAG_W,REVPRS,REVTMP,DEPTH_,DEPTH_FLAG,CTDDEP,THETA,SIGTHT,DOC,DOC_FLAG_W
,,,,,,,GMT,GMT,,,METER,DBAR,ITS-90,PSS-78,,UMOL/KG,,PSS-78,,UMOL/KG,,UMOL/KG,,UMOL/KG,,UMOL/KG,,UMOL/KG,,UMOL/KG,,PMOL/KG,,PMOL/KG,,/MILLE,,UMOL/KG,,UMOL/KG,,25_DEG_C,,DEG_C,,,,/MILLE,UMOL/KG,,UMOL/KG,,UG/L,,UG/L,,DBAR,ITS-90,METERS,,METERS,DEG_C,,UMOL/L,
       RF08-01,  137E,RF-3111,  1,     -9,      -9,5,20080127,2207, 28.0017, 136.9818, 4200,      0.0,  21.3191,  34.8365,2,   -999.0,9,-999.0000,9,    219.5,2,     1.85,2,  -999.00,9,     0.06,2,     0.00,2,     0.01,2, -999.000,9, -999.000,9,  -999.00,9,   1970.8,2,   -999.0,9,   8.0731,2,     25.0, TS,  -999.00,9,   -999.0,  -999.00,9,  -999.00,9,     0.26,2,     0.14,2,   -999.0,-999.0000, -999,9,    0,  21.3189,  24.2823,   -999.0,9
       RF08-01,  137E,RF-3111,  1,     21,02-18575,2,20080127,2223, 28.0017, 136.9818, 4200,     10.1,  21.3348,  34.8373,2,   -999.0,9,  34.8357,2,   -999.0,4,     1.80,2,  -999.00,9,     0.00,2,     0.00,2,     0.00,2, -999.000,9, -999.000,9,  -999.00,9,   -999.0,9,   -999.0,9,-999.0000,9,   -999.0,  9,  -999.00,9,   -999.0,  -999.00,9,  -999.00,9,     0.24,2,     0.12,2,   -999.0,-999.0000, -999,9,   10,  21.3328,  24.2791,   -999.0,9
       RF08-01,  137E,RF-3111,  1,     20,02-18574,2,20080127,2222, 28.0017, 136.9818, 4200,     26.4,  21.3227,  34.8360,2,   -999.0,9,-999.0000,9,    218.7,2,     1.71,2,  -999.00,9,     0.00,2,     0.00,2,     0.00,2, -999.000,9, -999.000,9,  -999.00,9,   -999.0,9,   -999.0,9,-999.0000,9,   -999.0,  9,  -999.00,9,   -999.0,  -999.00,9,  -999.00,9,     0.26,2,     0.12,2,   -999.0,-999.0000, -999,9,   26,  21.3176,  24.2823,   -999.0,9
       RF08-01,  137E,RF-3111,  1,     19,02-18573,2,20080127,2221, 28.0017, 136.9818, 4200,     52.0,  21.1949,  34.8267,2,   -999.0,9,-999.0000,9,    219.4,2,     1.78,2,  -999.00,9,     0.00,2,     0.00,2,     0.00,2, -999.000,9, -999.000,9,  -999.00,9,   -999.0,9,   -999.0,9,-999.0000,9,   -999.0,  9,  -999.00,9,   -999.0,  -999.00,9,  -999.00,9,     0.25,2,     0.13,2,   -999.0,-999.0000, -999,9,   52,  21.1849,  24.3116,   -999.0,9
       RF08-01,  137E,RF-3111,  1,     18,02-18572,2,20080127,2219, 28.0017, 136.9818, 4200,     77.4,  21.1834,  34.8252,2,   -999.0,9,-999.0000,9,    219.6,2,     1.81,2,  -999.00,9,     0.00,2,     0.00,2,     0.00,2, -999.000,9, -999.000,9,  -999.00,9,   -999.0,9,   -999.0,9,-999.0000,9,   -999.0,  9,  -999.00,9,   -999.0,  -999.00,9,  -999.00,9,     0.29,2,     0.14,2,   -999.0,-999.0000, -999,9,   77,  21.1685,  24.3150,   -999.0,9
       RF08-01,  137E,RF-3111,  1,     17,02-18571,2,20080127,2218, 28.0017, 136.9818, 4200,    102.2,  21.1600,  34.8226,2,   -999.0,9,  34.8224,2,    219.1,2,     1.93,2,  -999.00,9,     0.08,2,     0.01,2,     0.01,2, -999.000,9, -999.000,9,  -999.00,9,   -999.0,9,   -999.0,9,-999.0000,9,   -999.0,  9,  -999.00,9,   -999.0,  -999.00,9,  -999.00,9,     0.25,2,     0.13,2,   -999.0,-999.0000, -999,9,  102,  21.1404,  24.3207,   -999.0,9
       RF08-01,  137E,RF-3111,  1,     16,02-18570,2,20080127,2216, 28.0017, 136.9818, 4200,    127.8,  20.2505,  34.8259,2,   -999.0,9,-999.0000,9,    203.2,2,     2.71,2,  -999.00,9,     1.69,2,     0.04,2,     0.10,2, -999.000,9, -999.000,9,  -999.00,9,   -999.0,9,   -999.0,9,-999.0000,9,   -999.0,  9,  -999.00,9,   -999.0,  -999.00,9,  -999.00,9,     0.07,2,     0.15,2,   -999.0,-999.0000, -999,9,  127,  20.2267,  24.5690,   -999.0,9
       RF08-01,  137E,RF-3111,  1,     15,02-18569,2,20080127,2215, 28.0017, 136.9818, 4200,    152.7,  19.7394,  34.8302,2,   -999.0,9,-999.0000,9,    200.1,2,     2.90,2,  -999.00,9,     2.29,2,     0.02,2,     0.14,2, -999.000,9, -999.000,9,  -999.00,9,   -999.0,9,   -999.0,9,-999.0000,9,   -999.0,  9,  -999.00,9,   -999.0,  -999.00,9,  -999.00,9,     0.05,2,     0.12,2,   -999.0,-999.0000, -999,9,  152,  19.7115,  24.7078,   -999.0,9
       RF08-01,  137E,RF-3111,  1,     14,02-18568,2,20080127,2213, 28.0017, 136.9818, 4200,    201.7,  18.6560,  34.8174,2,   -999.0,9,  34.8176,2,    198.6,2,     3.69,2,  -999.00,9,     3.84,2,     0.00,2,     0.22,2, -999.000,9, -999.000,9,  -999.00,9,   -999.0,9,   -999.0,9,-999.0000,9,   -999.0,  9,  -999.00,9,   -999.0,  -999.00,9,  -999.00,9,     0.00,2,     0.02,2,   -999.0,-999.0000, -999,9,  200,  18.6205,  24.9777,   -999.0,9
       RF08-01,  137E,RF-3111,  1,     13,02-18567,2,20080127,2211, 28.0017, 136.9818, 4200,    254.1,  17.6957,  34.7786,2,   -999.0,9,-999.0000,9,    200.7,2,     4.82,2,  -999.00,9,     5.00,2,     0.00,2,     0.30,2, -999.000,9, -999.000,9,  -999.00,9,   -999.0,9,   -999.0,9,-999.0000,9,   -999.0,  9,  -999.00,9,   -999.0,  -999.00,9,  -999.00,9,  -999.00,9,  -999.00,9,   -999.0,-999.0000, -999,9,  252,  17.6526,  25.1875,   -999.0,9
       RF08-01,  137E,RF-3111,  1,     12,02-18348,2,20080127,2209, 28.0017, 136.9818, 4200,    305.0,  16.7990,  34.7299,2,   -999.0,9,  34.7326,2,    195.7,2,     6.89,2,  -999.00,9,     6.82,2,     0.00,2,     0.41,2, -999.000,9, -999.000,9,  -999.00,9,   -999.0,9,   -999.0,9,-999.0000,9,   -999.0,  9,  -999.00,9,   -999.0,  -999.00,9,  -999.00,9,  -999.00,9,  -999.00,9,   -999.0,-999.0000, -999,9,  303,  16.7490,  25.3662,   -999.0,9
       RF08-01,  137E,RF-3111,  1,     11,02-18565,2,20080127,2207, 28.0017, 136.9818, 4200,    404.4,  14.7456,  34.5820,2,   -999.0,9,  34.5833,2,    184.8,2,    14.01,2,  -999.00,9,    11.20,2,     0.00,2,     0.71,2, -999.000,9, -999.000,9,  -999.00,9,   -999.0,9,   -999.0,9,-999.0000,9,   -999.0,  9,  -999.00,9,   -999.0,  -999.00,9,  -999.00,9,  -999.00,9,  -999.00,9,   -999.0,-999.0000, -999,9,  401,  14.6849,  25.7182,   -999.0,9
       RF08-01,  137E,RF-3111,  1,     10,02-18564,2,20080127,2204, 28.0017, 136.9818, 4200,    504.6,  12.1720,  34.4019,2,   -999.0,9,-999.0000,9,    174.9,2,    24.85,2,  -999.00,9,    16.32,2,     0.00,2,     1.07,2, -999.000,9, -999.000,9,  -999.00,9,   -999.0,9,   -999.0,9,-999.0000,9,   -999.0,  9,  -999.00,9,   -999.0,  -999.00,9,  -999.00,9,  -999.00,9,  -999.00,9,   -999.0,-999.0000, -999,9,  501,  12.1051,  26.1045,   -999.0,9
       RF08-01,  137E,RF-3111,  1,      9,02-18563,2,20080127,2201, 28.0017, 136.9818, 4200,    605.2,   9.2175,  34.2174,2,   -999.0,9,  34.2182,2,    157.8,2,    43.18,2,  -999.00,9,    22.99,2,     0.00,2,     1.57,2, -999.000,9, -999.000,9,  -999.00,9,   -999.0,9,   -999.0,9,-999.0000,9,   -999.0,  9,  -999.00,9,   -999.0,  -999.00,9,  -999.00,9,  -999.00,9,  -999.00,9,   -999.0,-999.0000, -999,9,  600,   9.1499,  26.4813,   -999.0,9
       RF08-01,  137E,RF-3111,  1,      8,02-18562,2,20080127,2158, 28.0017, 136.9818, 4200,    706.2,   6.5455,  34.1024,2,   -999.0,9,-999.0000,9,    127.5,2,    67.79,2,  -999.00,9,    30.30,2,     0.00,2,     2.13,2, -999.000,9, -999.000,9,  -999.00,9,   -999.0,9,   -999.0,9,-999.0000,9,   -999.0,  9,  -999.00,9,   -999.0,  -999.00,9,  -999.00,9,  -999.00,9,  -999.00,9,   -999.0,-999.0000, -999,9,  700,   6.4803,  26.7816,   -999.0,9
       RF08-01,  137E,RF-3111,  1,      7,02-18561,2,20080127,2155, 28.0017, 136.9818, 4200,    807.8,   5.3227,  34.1567,2,   -999.0,9,  34.1535,4,     93.0,2,    89.08,2,  -999.00,9,    35.11,2,     0.00,2,     2.49,2, -999.000,9, -999.000,9,  -999.00,9,   -999.0,9,   -999.0,9,-999.0000,9,   -999.0,  9,  -999.00,9,   -999.0,  -999.00,9,  -999.00,9,  -999.00,9,  -999.00,9,   -999.0,-999.0000, -999,9,  801,   5.2550,  26.9771,   -999.0,9
       RF08-01,  137E,RF-3111,  1,      6,02-18560,2,20080127,2153, 28.0017, 136.9818, 4200,    907.3,   4.4301,  34.2399,2,   -999.0,9,-999.0000,9,     66.7,2,   108.21,2,  -999.00,9,    38.56,2,     0.00,2,     2.76,2, -999.000,9, -999.000,9,  -999.00,9,   -999.0,9,   -999.0,9,-999.0000,9,   -999.0,  9,  -999.00,9,   -999.0,  -999.00,9,  -999.00,9,  -999.00,9,  -999.00,9,   -999.0,-999.0000, -999,9,  899,   4.3595,  27.1438,   -999.0,9
       RF08-01,  137E,RF-3111,  1,      5,02-18559,2,20080127,2150, 28.0017, 136.9818, 4200,   1009.3,   3.8370,  34.3159,2,   -999.0,9,  34.3174,2,     54.8,2,   121.40,2,  -999.00,9,    40.19,2,     0.00,2,     2.88,2, -999.000,9, -999.000,9,  -999.00,9,   -999.0,9,   -999.0,9,-999.0000,9,   -999.0,  9,  -999.00,9,   -999.0,  -999.00,9,  -999.00,9,  -999.00,9,  -999.00,9,   -999.0,-999.0000, -999,9, 1000,   3.7621,  27.2661,   -999.0,9
       RF08-01,  137E,RF-3111,  1,      4,02-18558,2,20080127,2144, 28.0017, 136.9818, 4200,   1263.8,   3.0162,  34.4343,2,   -999.0,9,  34.4341,2,     50.4,2,   139.08,2,  -999.00,9,    41.51,2,     0.00,2,     2.98,2, -999.000,9, -999.000,9,  -999.00,9,   -999.0,9,   -999.0,9,-999.0000,9,   -999.0,  9,  -999.00,9,   -999.0,  -999.00,9,  -999.00,9,  -999.00,9,  -999.00,9,   -999.0,-999.0000, -999,9, 1252,   2.9278,  27.4400,   -999.0,9
       RF08-01,  137E,RF-3111,  1,      3,02-18557,2,20080127,2139, 28.0017, 136.9818, 4200,   1514.4,   2.5227,  34.5246,2,   -999.0,9,  34.5242,2,     72.9,2,   144.68,2,  -999.00,9,    40.46,2,     0.00,2,     2.88,2, -999.000,9, -999.000,9,  -999.00,9,   -999.0,9,   -999.0,9,-999.0000,9,   -999.0,  9,  -999.00,9,   -999.0,  -999.00,9,  -999.00,9,  -999.00,9,  -999.00,9,   -999.0,-999.0000, -999,9, 1499,   2.4193,  27.5566,   -999.0,9
       RF08-01,  137E,RF-3111,  1,      2,02-18556,2,20080127,2133, 28.0017, 136.9818, 4200,   1770.0,   2.1850,  34.5743,2,   -999.0,9,  34.5741,2,     91.3,2,   147.03,2,  -999.00,9,    39.54,2,     0.00,2,     2.79,2, -999.000,9, -999.000,9,  -999.00,9,   -999.0,9,   -999.0,9,-999.0000,9,   -999.0,  9,  -999.00,9,   -999.0,  -999.00,9,  -999.00,9,  -999.00,9,  -999.00,9,   -999.0,-999.0000, -999,9, 1751,   2.0651,  27.6254,   -999.0,9
       RF08-01,  137E,RF-3111,  1,      1,02-18555,2,20080127,2128, 28.0017, 136.9818, 4200,   2023.4,   1.9317,  34.6128,2,   -999.0,9,  34.6123,2,    110.2,2,   146.51,2,  -999.00,9,    38.62,2,     0.00,2,     2.71,2, -999.000,9, -999.000,9,  -999.00,9,   -999.0,9,   -999.0,9,-999.0000,9,   -999.0,  9,  -999.00,9,   -999.0,  -999.00,9,  -999.00,9,  -999.00,9,  -999.00,9,   -999.0,-999.0000, -999,9, 2000,   1.7944,  27.6774,   -999.0,9