BOTTLE,20130510GEMDJMAYT
EXPOCODE,SECT_ID,STNNBR,CASTNO,SAMPNO,BTLNBR,BTLNBR_FLAG_W,DATE,TIME,LATITUDE,LONGITUDE,DEPTH,CTDPRS,CTDTMP,CTDSAL,CTDSAL_FLAG_W,CTDOXY,CTDOXY_FLAG_W,SALNTY,SALNTY_FLAG_W,OXYGEN,OXYGEN_FLAG_W,SILCAT,SILCAT_FLAG_W,NITRAT,NITRAT_FLAG_W,NO2+NO3,NO2+NO3_FLAG_W,NITRIT,NITRIT_FLAG_W,PHSPHT,PHSPHT_FLAG_W,CFC-11,CFC-11_FLAG_W,CFC-12,CFC-12_FLAG_W,DELC13,DELC13_FLAG_W,TCARBN,TCARBN_FLAG_W,ALKALI,ALKALI_FLAG_W,PH,PH_FLAG_W,PH_TMP,PH_SCALE,PH_NBS,PH_NBS_FLAG_W,C13ERR,TOTALP,TOTALP_FLAG_W,AMMONI,AMMONI_FLAG_W,CHLORA,CHLORA_FLAG_W,PPHYTN,PPHYTN_FLAG_W,REVPRS,REVTMP,DEPTH_,DEPTH_FLAG,CTDDEP,THETA,SIGTHT,DOC,DOC_FLAG_W
,,,,,,,GMT,GMT,,,METER,DBAR,ITS-90,PSS-78,,UMOL/KG,,PSS-78,,UMOL/KG,,UMOL/KG,,UMOL/KG,,UMOL/KG,,UMOL/KG,,UMOL/KG,,PMOL/KG,,PMOL/KG,,/MILLE,,UMOL/KG,,UMOL/KG,,25_DEG_C,,DEG_C,,,,/MILLE,UMOL/KG,,UMOL/KG,,UG/L,,UG/L,,DBAR,ITS-90,METERS,,METERS,DEG_C,,UMOL/L,
       RF08-01,  137E,RF-3136,  1,     -9,      -9,5,20080206,0105,  2.9798, 136.9782, 4464,      0.0,  29.0280,  34.0448,2,   -999.0,9,-999.0000,9,    194.5,2,     1.66,2,  -999.00,9,     0.00,2,     0.00,2,     0.10,2, -999.000,9, -999.000,9,  -999.00,9,   1913.0,2,   -999.0,9,   8.1273,2,     25.0, TS,  -999.00,9,   -999.0,  -999.00,9,  -999.00,9,     0.16,2,     0.06,2,   -999.0,-999.0000, -999,9,    0,  29.0278,  21.3378,   -999.0,9
       RF08-01,  137E,RF-3136,  1,     24,02-18578,2,20080206,0123,  2.9798, 136.9782, 4464,     11.1,  29.0483,  34.3301,2,   -999.0,9,  34.3292,2,    194.8,2,     1.64,2,  -999.00,9,     0.00,2,     0.00,2,     0.10,2, -999.000,9, -999.000,9,  -999.00,9,   1915.0,2,   -999.0,9,-999.0000,9,   -999.0,  9,  -999.00,9,   -999.0,  -999.00,9,  -999.00,9,     0.15,2,     0.06,2,   -999.0,-999.0000, -999,9,   11,  29.0456,  21.5459,   -999.0,9
       RF08-01,  137E,RF-3136,  1,     23,02-18577,2,20080206,0121,  2.9798, 136.9782, 4464,     27.1,  29.0426,  34.3377,2,   -999.0,9,-999.0000,9,    194.9,2,     1.64,2,  -999.00,9,     0.00,2,     0.00,2,     0.10,2, -999.000,9, -999.000,9,  -999.00,9,   1915.2,2,   -999.0,9,-999.0000,9,   -999.0,  9,  -999.00,9,   -999.0,  -999.00,9,  -999.00,9,     0.19,2,     0.08,2,   -999.0,-999.0000, -999,9,   27,  29.0361,  21.5548,   -999.0,9
       RF08-01,  137E,RF-3136,  1,     22,02-18576,2,20080206,0120,  2.9798, 136.9782, 4464,     52.7,  29.1792,  34.4883,2,   -999.0,9,-999.0000,9,    194.5,2,     1.63,2,  -999.00,9,     0.00,2,     0.00,2,     0.11,2, -999.000,9, -999.000,9,  -999.00,9,   1924.6,2,   -999.0,9,-999.0000,9,   -999.0,  9,  -999.00,9,   -999.0,  -999.00,9,  -999.00,9,     0.26,2,     0.12,2,   -999.0,-999.0000, -999,9,   52,  29.1664,  21.6243,   -999.0,9
       RF08-01,  137E,RF-3136,  1,     21,02-18575,2,20080206,0119,  2.9798, 136.9782, 4464,     77.6,  29.3190,  35.0030,2,   -999.0,9,-999.0000,9,    186.3,2,     1.73,2,  -999.00,9,     0.07,2,     0.10,2,     0.23,2, -999.000,9, -999.000,9,  -999.00,9,   1969.2,2,   -999.0,9,-999.0000,9,   -999.0,  9,  -999.00,9,   -999.0,  -999.00,9,  -999.00,9,     0.34,2,     0.31,2,   -999.0,-999.0000, -999,9,   77,  29.3001,  21.9657,   -999.0,9
       RF08-01,  137E,RF-3136,  1,     20,02-18574,2,20080206,0117,  2.9798, 136.9782, 4464,    102.7,  28.1314,  35.3285,2,   -999.0,9,  35.3226,4,    166.4,2,     2.40,2,  -999.00,9,     3.60,2,     0.20,2,     0.45,2, -999.000,9, -999.000,9,  -999.00,9,   2014.3,2,   -999.0,9,-999.0000,9,   -999.0,  9,  -999.00,9,   -999.0,  -999.00,9,  -999.00,9,     0.14,2,     0.30,2,   -999.0,-999.0000, -999,9,  102,  28.1071,  22.6066,   -999.0,9
       RF08-01,  137E,RF-3136,  1,     19,02-18573,2,20080206,0116,  2.9798, 136.9782, 4464,    127.2,  27.2490,  35.3763,2,   -999.0,9,-999.0000,9,    159.3,2,     2.81,2,  -999.00,9,     5.09,2,     0.06,2,     0.54,2, -999.000,9, -999.000,9,  -999.00,9,   -999.0,9,   -999.0,9,-999.0000,9,   -999.0,  9,  -999.00,9,   -999.0,  -999.00,9,  -999.00,9,     0.09,2,     0.23,2,   -999.0,-999.0000, -999,9,  127,  27.2196,  22.9308,   -999.0,9
       RF08-01,  137E,RF-3136,  1,     18,02-18572,2,20080206,0115,  2.9798, 136.9782, 4464,    153.6,  25.2674,  35.0844,2,   -999.0,9,-999.0000,9,    148.1,2,     3.74,2,  -999.00,9,     6.11,2,     0.04,2,     0.58,2, -999.000,9, -999.000,9,  -999.00,9,   2037.3,2,   -999.0,9,-999.0000,9,   -999.0,  9,  -999.00,9,   -999.0,  -999.00,9,  -999.00,9,     0.04,2,     0.11,2,   -999.0,-999.0000, -999,9,  153,  25.2338,  23.3337,   -999.0,9
       RF08-01,  137E,RF-3136,  1,     17,02-18571,2,20080206,0113,  2.9798, 136.9782, 4464,    203.9,  18.7619,  34.7814,2,   -999.0,9,  34.7750,4,    149.6,2,    11.58,2,  -999.00,9,    10.22,2,     0.01,2,     0.78,2, -999.000,9, -999.000,9,  -999.00,9,   2074.2,2,   -999.0,9,-999.0000,9,   -999.0,  9,  -999.00,9,   -999.0,  -999.00,9,  -999.00,9,     0.01,2,     0.04,2,   -999.0,-999.0000, -999,9,  203,  18.7259,  24.9236,   -999.0,9
       RF08-01,  137E,RF-3136,  1,     16,02-18570,2,20080206,0111,  2.9798, 136.9782, 4464,    253.9,  13.8018,  34.5832,2,   -999.0,9,-999.0000,9,    128.0,2,    22.25,2,  -999.00,9,    18.73,2,     0.00,2,     1.40,2, -999.000,9, -999.000,9,  -999.00,9,   2139.7,2,   -999.0,9,-999.0000,9,   -999.0,  9,  -999.00,9,   -999.0,  -999.00,9,  -999.00,9,  -999.00,9,  -999.00,9,   -999.0,-999.0000, -999,9,  252,  13.7655,  25.9139,   -999.0,9
       RF08-01,  137E,RF-3136,  1,     15,02-18569,2,20080206,0109,  2.9798, 136.9782, 4464,    304.4,  10.0507,  34.5588,2,   -999.0,9,  34.5605,2,     77.5,2,    36.69,2,  -999.00,9,    29.69,2,     0.00,2,     2.15,2, -999.000,9, -999.000,9,  -999.00,9,   2216.6,2,   -999.0,9,-999.0000,9,   -999.0,  9,  -999.00,9,   -999.0,  -999.00,9,  -999.00,9,  -999.00,9,  -999.00,9,   -999.0,-999.0000, -999,9,  302,  10.0153,  26.6048,   -999.0,9
       RF08-01,  137E,RF-3136,  1,     14,02-18568,2,20080206,0106,  2.9798, 136.9782, 4464,    405.3,   8.3793,  34.5842,2,   -999.0,9,-999.0000,9,     78.2,2,    43.04,2,  -999.00,9,    32.92,2,     0.00,2,     2.27,2, -999.000,9, -999.000,9,  -999.00,9,   2237.9,2,   -999.0,9,-999.0000,9,   -999.0,  9,  -999.00,9,   -999.0,  -999.00,9,  -999.00,9,  -999.00,9,  -999.00,9,   -999.0,-999.0000, -999,9,  403,   8.3368,  26.8964,   -999.0,9
       RF08-01,  137E,RF-3136,  1,     13,02-18567,2,20080206,0104,  2.9798, 136.9782, 4464,    505.2,   7.3299,  34.5566,2,   -999.0,9,  34.5554,2,    110.9,2,    46.24,2,  -999.00,9,    32.30,2,     0.00,2,     2.22,2, -999.000,9, -999.000,9,  -999.00,9,   2230.0,2,   -999.0,9,-999.0000,9,   -999.0,  9,  -999.00,9,   -999.0,  -999.00,9,  -999.00,9,  -999.00,9,  -999.00,9,   -999.0,-999.0000, -999,9,  502,   7.2806,  27.0302,   -999.0,9
       RF08-01,  137E,RF-3136,  1,     12,02-18348,2,20080206,0101,  2.9798, 136.9782, 4464,    606.1,   6.8324,  34.5430,2,   -999.0,9,-999.0000,9,    115.8,2,    48.71,2,  -999.00,9,    32.86,2,     0.00,2,     2.27,2, -999.000,9, -999.000,9,  -999.00,9,   2230.7,2,   -999.0,9,-999.0000,9,   -999.0,  9,  -999.00,9,   -999.0,  -999.00,9,  -999.00,9,  -999.00,9,  -999.00,9,   -999.0,-999.0000, -999,9,  602,   6.7751,  27.0896,   -999.0,9
       RF08-01,  137E,RF-3136,  1,     11,02-18565,2,20080206,0058,  2.9798, 136.9782, 4464,    707.3,   6.4169,  34.5373,2,   -999.0,9,  34.5366,2,    103.1,2,    55.93,2,  -999.00,9,    34.67,2,     0.00,2,     2.40,2, -999.000,9, -999.000,9,  -999.00,9,   2248.2,2,   -999.0,9,-999.0000,9,   -999.0,  9,  -999.00,9,   -999.0,  -999.00,9,  -999.00,9,  -999.00,9,  -999.00,9,   -999.0,-999.0000, -999,9,  702,   6.3518,  27.1416,   -999.0,9
       RF08-01,  137E,RF-3136,  1,     10,02-18564,2,20080206,0056,  2.9798, 136.9782, 4464,    808.4,   6.0200,  34.5360,2,   -999.0,9,-999.0000,9,     93.3,2,    63.96,2,  -999.00,9,    36.13,2,     0.00,2,     2.53,2, -999.000,9, -999.000,9,  -999.00,9,   2260.0,2,   -999.0,9,-999.0000,9,   -999.0,  9,  -999.00,9,   -999.0,  -999.00,9,  -999.00,9,  -999.00,9,  -999.00,9,   -999.0,-999.0000, -999,9,  802,   5.9475,  27.1926,   -999.0,9
       RF08-01,  137E,RF-3136,  1,      9,02-18563,2,20080206,0053,  2.9798, 136.9782, 4464,    908.0,   5.4807,  34.5403,2,   -999.0,9,-999.0000,9,     96.9,2,    74.58,2,  -999.00,9,    36.50,2,     0.00,2,     2.56,2, -999.000,9, -999.000,9,  -999.00,9,   2270.3,2,   -999.0,9,-999.0000,9,   -999.0,  9,  -999.00,9,   -999.0,  -999.00,9,  -999.00,9,  -999.00,9,  -999.00,9,   -999.0,-999.0000, -999,9,  901,   5.4023,  27.2634,   -999.0,9
       RF08-01,  137E,RF-3136,  1,      8,02-18562,2,20080206,0051,  2.9798, 136.9782, 4464,   1008.9,   4.9654,  34.5464,2,   -999.0,9,  34.5451,2,     91.6,2,    84.28,2,  -999.00,9,    37.49,2,     0.00,2,     2.65,2, -999.000,9, -999.000,9,  -999.00,9,   2287.2,2,   -999.0,9,-999.0000,9,   -999.0,  9,  -999.00,9,   -999.0,  -999.00,9,  -999.00,9,  -999.00,9,  -999.00,9,   -999.0,-999.0000, -999,9, 1001,   4.8815,  27.3293,   -999.0,9
       RF08-01,  137E,RF-3136,  1,      7,02-18561,2,20080206,0046,  2.9798, 136.9782, 4464,   1260.1,   3.7833,  34.5766,2,   -999.0,9,  34.5752,2,     95.7,2,   107.95,2,  -999.00,9,    38.37,2,     0.00,2,     2.72,2, -999.000,9, -999.000,9,  -999.00,9,   2316.9,2,   -999.0,9,-999.0000,9,   -999.0,  9,  -999.00,9,   -999.0,  -999.00,9,  -999.00,9,  -999.00,9,  -999.00,9,   -999.0,-999.0000, -999,9, 1249,   3.6874,  27.4812,   -999.0,9
       RF08-01,  137E,RF-3136,  1,      6,02-18560,2,20080206,0041,  2.9798, 136.9782, 4464,   1515.0,   3.0484,  34.6000,2,   -999.0,9,  34.5985,2,    100.1,2,   122.06,2,  -999.00,9,    38.83,2,     0.00,2,     2.74,2, -999.000,9, -999.000,9,  -999.00,9,   2327.7,2,   -999.0,9,-999.0000,9,   -999.0,  9,  -999.00,9,   -999.0,  -999.00,9,  -999.00,9,  -999.00,9,  -999.00,9,   -999.0,-999.0000, -999,9, 1501,   2.9387,  27.5714,   -999.0,9
       RF08-01,  137E,RF-3136,  1,      5,02-18559,2,20080206,0035,  2.9798, 136.9782, 4464,   1768.7,   2.5717,  34.6197,2,   -999.0,9,  34.6185,2,    107.8,2,   131.19,2,  -999.00,9,    38.54,2,     0.00,2,     2.71,2, -999.000,9, -999.000,9,  -999.00,9,   -999.0,9,   -999.0,9,-999.0000,9,   -999.0,  9,  -999.00,9,   -999.0,  -999.00,9,  -999.00,9,  -999.00,9,  -999.00,9,   -999.0,-999.0000, -999,9, 1752,   2.4465,  27.6304,   -999.0,9
       RF08-01,  137E,RF-3136,  1,      4,02-18558,2,20080206,0030,  2.9798, 136.9782, 4464,   2021.8,   2.2482,  34.6358,2,   -999.0,9,  34.6346,2,    115.0,2,   136.99,2,  -999.00,9,    38.27,2,     0.00,2,     2.68,2, -999.000,9, -999.000,9,  -999.00,9,   2339.6,2,   -999.0,9,-999.0000,9,   -999.0,  9,  -999.00,9,   -999.0,  -999.00,9,  -999.00,9,  -999.00,9,  -999.00,9,   -999.0,-999.0000, -999,9, 2001,   2.1061,  27.6714,   -999.0,9
       RF08-01,  137E,RF-3136,  1,      3,02-18557,2,20080206,0012,  2.9798, 136.9782, 4464,   3041.6,   1.6003,  34.6732,2,   -999.0,9,  34.6713,4,    142.4,2,   142.96,2,  -999.00,9,    36.66,2,     0.00,2,     2.53,2, -999.000,9, -999.000,9,  -999.00,9,   -999.0,9,   -999.0,9,-999.0000,9,   -999.0,  9,  -999.00,9,   -999.0,  -999.00,9,  -999.00,9,  -999.00,9,  -999.00,9,   -999.0,-999.0000, -999,9, 3003,   1.3773,  27.7567,   -999.0,9
       RF08-01,  137E,RF-3136,  1,      2,02-18556,2,20080205,2354,  2.9798, 136.9782, 4464,   4063.8,   1.5159,  34.6866,2,   -999.0,9,  34.6851,4,    154.2,2,   142.59,2,  -999.00,9,    36.05,2,     0.00,2,     2.47,2, -999.000,9, -999.000,9,  -999.00,9,   -999.0,9,   -999.0,9,-999.0000,9,   -999.0,  9,  -999.00,9,   -999.0,  -999.00,9,  -999.00,9,  -999.00,9,  -999.00,9,   -999.0,-999.0000, -999,9, 4003,   1.1896,  27.7806,   -999.0,9
       RF08-01,  137E,RF-3136,  1,      1,02-18555,2,20080205,2346,  2.9798, 136.9782, 4464,   4455.3,   1.5181,  34.6889,2,   -999.0,9,  34.6814,4,    154.5,2,   134.41,2,  -999.00,9,    35.05,2,     0.00,2,     2.40,2, -999.000,9, -999.000,9,  -999.00,9,   -999.0,9,   -999.0,9,-999.0000,9,   -999.0,  9,  -999.00,9,   -999.0,  -999.00,9,  -999.00,9,  -999.00,9,  -999.00,9,   -999.0,-999.0000, -999,9, 4385,   1.1477,  27.7854,   -999.0,9