BOTTLE,20130510GEMDJMAYT
EXPOCODE,SECT_ID,STNNBR,CASTNO,SAMPNO,BTLNBR,BTLNBR_FLAG_W,DATE,TIME,LATITUDE,LONGITUDE,DEPTH,CTDPRS,CTDTMP,CTDSAL,CTDSAL_FLAG_W,CTDOXY,CTDOXY_FLAG_W,SALNTY,SALNTY_FLAG_W,OXYGEN,OXYGEN_FLAG_W,SILCAT,SILCAT_FLAG_W,NITRAT,NITRAT_FLAG_W,NO2+NO3,NO2+NO3_FLAG_W,NITRIT,NITRIT_FLAG_W,PHSPHT,PHSPHT_FLAG_W,CFC-11,CFC-11_FLAG_W,CFC-12,CFC-12_FLAG_W,DELC13,DELC13_FLAG_W,TCARBN,TCARBN_FLAG_W,ALKALI,ALKALI_FLAG_W,PH,PH_FLAG_W,PH_TMP,PH_SCALE,PH_NBS,PH_NBS_FLAG_W,C13ERR,TOTALP,TOTALP_FLAG_W,AMMONI,AMMONI_FLAG_W,CHLORA,CHLORA_FLAG_W,PPHYTN,PPHYTN_FLAG_W,REVPRS,REVTMP,DEPTH_,DEPTH_FLAG,CTDDEP,THETA,SIGTHT,DOC,DOC_FLAG_W
,,,,,,,GMT,GMT,,,METER,DBAR,ITS-90,PSS-78,,UMOL/KG,,PSS-78,,UMOL/KG,,UMOL/KG,,UMOL/KG,,UMOL/KG,,UMOL/KG,,UMOL/KG,,PMOL/KG,,PMOL/KG,,/MILLE,,UMOL/KG,,UMOL/KG,,25_DEG_C,,DEG_C,,,,/MILLE,UMOL/KG,,UMOL/KG,,UG/L,,UG/L,,DBAR,ITS-90,METERS,,METERS,DEG_C,,UMOL/L,
       RF08-01,  137E,RF-3121,  1,     -9,      -9,5,20080130,1440, 18.0052, 136.9927, 5020,      0.0,  27.7108,  34.3274,2,   -999.0,9,-999.0000,9,    200.8,2,     1.21,2,  -999.00,9,     0.04,2,     0.00,2,     0.00,2, -999.000,9, -999.000,9,  -999.00,9,   1912.3,2,   -999.0,9,   8.1322,2,     25.0, TS,  -999.00,9,   -999.0,  -999.00,9,  -999.00,9,     0.06,2,     0.02,2,   -999.0,-999.0000, -999,9,    0,  27.7106,  21.9829,   -999.0,9
       RF08-01,  137E,RF-3121,  1,     21,02-18575,2,20080130,1458, 18.0052, 136.9927, 5020,     10.7,  27.7142,  34.3271,2,   -999.0,9,  34.3262,2,    200.4,2,     1.20,2,  -999.00,9,     0.04,2,     0.00,2,     0.00,2, -999.000,9, -999.000,9,  -999.00,9,   -999.0,9,   -999.0,9,-999.0000,9,   -999.0,  9,  -999.00,9,   -999.0,  -999.00,9,  -999.00,9,     0.06,2,     0.03,2,   -999.0,-999.0000, -999,9,   11,  27.7117,  21.9824,   -999.0,9
       RF08-01,  137E,RF-3121,  1,     20,02-18574,2,20080130,1456, 18.0052, 136.9927, 5020,     27.5,  27.7199,  34.3269,2,   -999.0,9,-999.0000,9,    200.1,2,     1.24,2,  -999.00,9,     0.01,2,     0.00,2,     0.00,2, -999.000,9, -999.000,9,  -999.00,9,   -999.0,9,   -999.0,9,-999.0000,9,   -999.0,  9,  -999.00,9,   -999.0,  -999.00,9,  -999.00,9,     0.06,2,     0.02,2,   -999.0,-999.0000, -999,9,   27,  27.7135,  21.9817,   -999.0,9
       RF08-01,  137E,RF-3121,  1,     19,02-18573,2,20080130,1455, 18.0052, 136.9927, 5020,     51.4,  27.7225,  34.3275,2,   -999.0,9,-999.0000,9,    201.0,2,     1.16,2,  -999.00,9,     0.00,2,     0.00,2,     0.00,2, -999.000,9, -999.000,9,  -999.00,9,   -999.0,9,   -999.0,9,-999.0000,9,   -999.0,  9,  -999.00,9,   -999.0,  -999.00,9,  -999.00,9,     0.06,2,     0.03,2,   -999.0,-999.0000, -999,9,   51,  27.7105,  21.9831,   -999.0,9
       RF08-01,  137E,RF-3121,  1,     18,02-18572,2,20080130,1454, 18.0052, 136.9927, 5020,     76.0,  27.6994,  34.3273,2,   -999.0,9,-999.0000,9,    200.2,2,     1.14,2,  -999.00,9,     0.01,2,     0.00,2,     0.00,2, -999.000,9, -999.000,9,  -999.00,9,   -999.0,9,   -999.0,9,-999.0000,9,   -999.0,  9,  -999.00,9,   -999.0,  -999.00,9,  -999.00,9,     0.09,2,     0.03,2,   -999.0,-999.0000, -999,9,   76,  27.6817,  21.9923,   -999.0,9
       RF08-01,  137E,RF-3121,  1,     17,02-18571,2,20080130,1453, 18.0052, 136.9927, 5020,    101.9,  27.6999,  34.3660,2,   -999.0,9,  34.4939,4,    201.9,2,     1.13,2,  -999.00,9,     0.01,2,     0.00,2,     0.00,2, -999.000,9, -999.000,9,  -999.00,9,   -999.0,9,   -999.0,9,-999.0000,9,   -999.0,  9,  -999.00,9,   -999.0,  -999.00,9,  -999.00,9,     0.14,2,     0.08,2,   -999.0,-999.0000, -999,9,  101,  27.6761,  22.0232,   -999.0,9
       RF08-01,  137E,RF-3121,  1,     16,02-18570,2,20080130,1452, 18.0052, 136.9927, 5020,    127.8,  26.3548,  34.9446,2,   -999.0,9,-999.0000,9,    192.0,2,     1.28,2,  -999.00,9,     0.09,2,     0.08,2,     0.04,2, -999.000,9, -999.000,9,  -999.00,9,   -999.0,9,   -999.0,9,-999.0000,9,   -999.0,  9,  -999.00,9,   -999.0,  -999.00,9,  -999.00,9,     0.20,2,     0.40,2,   -999.0,-999.0000, -999,9,  127,  26.3260,  22.8895,   -999.0,9
       RF08-01,  137E,RF-3121,  1,     15,02-18569,2,20080130,1450, 18.0052, 136.9927, 5020,    152.1,  24.9641,  34.9451,2,   -999.0,9,-999.0000,9,    183.4,2,     1.61,2,  -999.00,9,     0.54,2,     0.20,2,     0.08,2, -999.000,9, -999.000,9,  -999.00,9,   -999.0,9,   -999.0,9,-999.0000,9,   -999.0,  9,  -999.00,9,   -999.0,  -999.00,9,  -999.00,9,     0.10,2,     0.29,2,   -999.0,-999.0000, -999,9,  151,  24.9312,  23.3206,   -999.0,9
       RF08-01,  137E,RF-3121,  1,     14,02-18568,2,20080130,1448, 18.0052, 136.9927, 5020,    202.6,  21.5290,  34.9601,2,   -999.0,9,  34.9499,4,    167.0,2,     3.62,2,  -999.00,9,     3.83,2,     0.01,2,     0.31,2, -999.000,9, -999.000,9,  -999.00,9,   -999.0,9,   -999.0,9,-999.0000,9,   -999.0,  9,  -999.00,9,   -999.0,  -999.00,9,  -999.00,9,     0.01,2,     0.03,2,   -999.0,-999.0000, -999,9,  201,  21.4895,  24.3295,   -999.0,9
       RF08-01,  137E,RF-3121,  1,     13,02-18567,2,20080130,1446, 18.0052, 136.9927, 5020,    252.6,  18.4497,  34.8173,2,   -999.0,9,-999.0000,9,    176.6,2,     5.16,2,  -999.00,9,     5.93,2,     0.00,2,     0.41,2, -999.000,9, -999.000,9,  -999.00,9,   -999.0,9,   -999.0,9,-999.0000,9,   -999.0,  9,  -999.00,9,   -999.0,  -999.00,9,  -999.00,9,  -999.00,9,  -999.00,9,   -999.0,-999.0000, -999,9,  251,  18.4056,  25.0315,   -999.0,9
       RF08-01,  137E,RF-3121,  1,     12,02-18348,2,20080130,1445, 18.0052, 136.9927, 5020,    303.6,  16.0294,  34.6296,2,   -999.0,9,  34.6334,4,    163.1,2,     9.46,2,  -999.00,9,    10.40,2,     0.00,2,     0.73,2, -999.000,9, -999.000,9,  -999.00,9,   -999.0,9,   -999.0,9,-999.0000,9,   -999.0,  9,  -999.00,9,   -999.0,  -999.00,9,  -999.00,9,  -999.00,9,  -999.00,9,   -999.0,-999.0000, -999,9,  302,  15.9813,  25.4669,   -999.0,9
       RF08-01,  137E,RF-3121,  1,     11,02-18565,2,20080130,1442, 18.0052, 136.9927, 5020,    403.6,  11.6702,  34.3378,2,   -999.0,9,  34.3433,4,    162.5,2,    21.37,2,  -999.00,9,    17.58,2,     0.00,2,     1.21,2, -999.000,9, -999.000,9,  -999.00,9,   -999.0,9,   -999.0,9,-999.0000,9,   -999.0,  9,  -999.00,9,   -999.0,  -999.00,9,  -999.00,9,  -999.00,9,  -999.00,9,   -999.0,-999.0000, -999,9,  401,  11.6184,  26.1465,   -999.0,9
       RF08-01,  137E,RF-3121,  1,     10,02-18564,2,20080130,1440, 18.0052, 136.9927, 5020,    503.9,   8.7394,  34.2109,2,   -999.0,9,-999.0000,9,    124.0,2,    41.10,2,  -999.00,9,    26.52,2,     0.00,2,     1.86,2, -999.000,9, -999.000,9,  -999.00,9,   -999.0,9,   -999.0,9,-999.0000,9,   -999.0,  9,  -999.00,9,   -999.0,  -999.00,9,  -999.00,9,  -999.00,9,  -999.00,9,   -999.0,-999.0000, -999,9,  500,   8.6852,  26.5498,   -999.0,9
       RF08-01,  137E,RF-3121,  1,      9,02-18563,2,20080130,1437, 18.0052, 136.9927, 5020,    604.7,   6.7643,  34.2743,2,   -999.0,9,  34.2737,2,     76.3,2,    65.73,2,  -999.00,9,    34.39,2,     0.00,2,     2.46,2, -999.000,9, -999.000,9,  -999.00,9,   -999.0,9,   -999.0,9,-999.0000,9,   -999.0,  9,  -999.00,9,   -999.0,  -999.00,9,  -999.00,9,  -999.00,9,  -999.00,9,   -999.0,-999.0000, -999,9,  600,   6.7077,  26.8869,   -999.0,9
       RF08-01,  137E,RF-3121,  1,      8,02-18562,2,20080130,1434, 18.0052, 136.9927, 5020,    706.3,   5.5805,  34.3308,2,   -999.0,9,-999.0000,9,     68.9,2,    84.87,2,  -999.00,9,    37.02,2,     0.00,2,     2.65,2, -999.000,9, -999.000,9,  -999.00,9,   -999.0,9,   -999.0,9,-999.0000,9,   -999.0,  9,  -999.00,9,   -999.0,  -999.00,9,  -999.00,9,  -999.00,9,  -999.00,9,   -999.0,-999.0000, -999,9,  701,   5.5202,  27.0833,   -999.0,9
       RF08-01,  137E,RF-3121,  1,      7,02-18561,2,20080130,1432, 18.0052, 136.9927, 5020,    806.8,   5.1636,  34.4436,2,   -999.0,9,  34.4431,2,     74.3,2,    90.67,2,  -999.00,9,    37.60,2,     0.00,2,     2.69,2, -999.000,9, -999.000,9,  -999.00,9,   -999.0,9,   -999.0,9,-999.0000,9,   -999.0,  9,  -999.00,9,   -999.0,  -999.00,9,  -999.00,9,  -999.00,9,  -999.00,9,   -999.0,-999.0000, -999,9,  800,   5.0966,  27.2229,   -999.0,9
       RF08-01,  137E,RF-3121,  1,      6,02-18560,2,20080130,1429, 18.0052, 136.9927, 5020,    908.7,   4.5675,  34.4894,2,   -999.0,9,-999.0000,9,     79.4,2,   100.82,2,  -999.00,9,    38.18,2,     0.00,2,     2.73,2, -999.000,9, -999.000,9,  -999.00,9,   -999.0,9,   -999.0,9,-999.0000,9,   -999.0,  9,  -999.00,9,   -999.0,  -999.00,9,  -999.00,9,  -999.00,9,  -999.00,9,   -999.0,-999.0000, -999,9,  901,   4.4954,  27.3272,   -999.0,9
       RF08-01,  137E,RF-3121,  1,      5,02-18559,2,20080130,1426, 18.0052, 136.9927, 5020,   1009.5,   4.0889,  34.5134,2,   -999.0,9,  34.5119,2,     83.5,2,   109.83,2,  -999.00,9,    38.32,2,     0.00,2,     2.74,2, -999.000,9, -999.000,9,  -999.00,9,   -999.0,9,   -999.0,9,-999.0000,9,   -999.0,  9,  -999.00,9,   -999.0,  -999.00,9,  -999.00,9,  -999.00,9,  -999.00,9,   -999.0,-999.0000, -999,9, 1001,   4.0117,  27.3979,   -999.0,9
       RF08-01,  137E,RF-3121,  1,      4,02-18558,2,20080130,1421, 18.0052, 136.9927, 5020,   1262.9,   3.3485,  34.5540,2,   -999.0,9,  34.5528,2,     93.9,2,   123.20,2,  -999.00,9,    38.30,2,     0.00,2,     2.73,2, -999.000,9, -999.000,9,  -999.00,9,   -999.0,9,   -999.0,9,-999.0000,9,   -999.0,  9,  -999.00,9,   -999.0,  -999.00,9,  -999.00,9,  -999.00,9,  -999.00,9,   -999.0,-999.0000, -999,9, 1252,   3.2567,  27.5051,   -999.0,9
       RF08-01,  137E,RF-3121,  1,      3,02-18557,2,20080130,1415, 18.0052, 136.9927, 5020,   1515.4,   2.8258,  34.5809,2,   -999.0,9,  34.5792,2,     96.0,2,   130.94,2,  -999.00,9,    38.82,2,     0.00,2,     2.75,2, -999.000,9, -999.000,9,  -999.00,9,   -999.0,9,   -999.0,9,-999.0000,9,   -999.0,  9,  -999.00,9,   -999.0,  -999.00,9,  -999.00,9,  -999.00,9,  -999.00,9,   -999.0,-999.0000, -999,9, 1501,   2.7187,  27.5758,   -999.0,9
       RF08-01,  137E,RF-3121,  1,      2,02-18556,2,20080130,1410, 18.0052, 136.9927, 5020,   1769.5,   2.4210,  34.6030,2,   -999.0,9,  34.6022,2,    103.7,2,   137.63,2,  -999.00,9,    38.70,2,     0.00,2,     2.72,2, -999.000,9, -999.000,9,  -999.00,9,   -999.0,9,   -999.0,9,-999.0000,9,   -999.0,  9,  -999.00,9,   -999.0,  -999.00,9,  -999.00,9,  -999.00,9,  -999.00,9,   -999.0,-999.0000, -999,9, 1751,   2.2979,  27.6295,   -999.0,9
       RF08-01,  137E,RF-3121,  1,      1,02-18555,2,20080130,1405, 18.0052, 136.9927, 5020,   2022.8,   2.1013,  34.6251,2,   -999.0,9,  34.6242,2,    113.1,2,   142.34,2,  -999.00,9,    38.36,2,     0.00,2,     2.70,2, -999.000,9, -999.000,9,  -999.00,9,   -999.0,9,   -999.0,9,-999.0000,9,   -999.0,  9,  -999.00,9,   -999.0,  -999.00,9,  -999.00,9,  -999.00,9,  -999.00,9,   -999.0,-999.0000, -999,9, 2001,   1.9614,  27.6743,   -999.0,9