BOTTLE,20130510GEMDJMAYT
EXPOCODE,SECT_ID,STNNBR,CASTNO,SAMPNO,BTLNBR,BTLNBR_FLAG_W,DATE,TIME,LATITUDE,LONGITUDE,DEPTH,CTDPRS,CTDTMP,CTDSAL,CTDSAL_FLAG_W,CTDOXY,CTDOXY_FLAG_W,SALNTY,SALNTY_FLAG_W,OXYGEN,OXYGEN_FLAG_W,SILCAT,SILCAT_FLAG_W,NITRAT,NITRAT_FLAG_W,NO2+NO3,NO2+NO3_FLAG_W,NITRIT,NITRIT_FLAG_W,PHSPHT,PHSPHT_FLAG_W,CFC-11,CFC-11_FLAG_W,CFC-12,CFC-12_FLAG_W,DELC13,DELC13_FLAG_W,TCARBN,TCARBN_FLAG_W,ALKALI,ALKALI_FLAG_W,PH,PH_FLAG_W,PH_TMP,PH_SCALE,PH_NBS,PH_NBS_FLAG_W,C13ERR,TOTALP,TOTALP_FLAG_W,AMMONI,AMMONI_FLAG_W,CHLORA,CHLORA_FLAG_W,PPHYTN,PPHYTN_FLAG_W,REVPRS,REVTMP,DEPTH_,DEPTH_FLAG,CTDDEP,THETA,SIGTHT,DOC,DOC_FLAG_W
,,,,,,,GMT,GMT,,,METER,DBAR,ITS-90,PSS-78,,UMOL/KG,,PSS-78,,UMOL/KG,,UMOL/KG,,UMOL/KG,,UMOL/KG,,UMOL/KG,,UMOL/KG,,PMOL/KG,,PMOL/KG,,/MILLE,,UMOL/KG,,UMOL/KG,,25_DEG_C,,DEG_C,,,,/MILLE,UMOL/KG,,UMOL/KG,,UG/L,,UG/L,,DBAR,ITS-90,METERS,,METERS,DEG_C,,UMOL/L,
       RF08-01,  137E,RF-3104,  1,     -9,      -9,5,20080126,1150, 31.9887, 137.0100, 4224,      0.0,  20.5720,  34.7408,2,   -999.0,9,-999.0000,9,    219.4,2,     2.08,2,  -999.00,9,     0.58,2,     0.29,2,     0.04,2, -999.000,9, -999.000,9,  -999.00,9,   1979.7,2,   -999.0,9,   8.0577,2,     25.0, TS,  -999.00,9,   -999.0,  -999.00,9,  -999.00,9,     0.29,2,     0.16,2,   -999.0,-999.0000, -999,9,    0,  20.5719,  24.4121,   -999.0,9
       RF08-01,  137E,RF-3104,  1,     21,02-18575,2,20080126,1206, 31.9887, 137.0100, 4224,     10.8,  20.5724,  34.7420,2,   -999.0,9,  34.7411,2,    218.7,2,     2.15,2,  -999.00,9,     0.57,2,     0.28,2,     0.04,2, -999.000,9, -999.000,9,  -999.00,9,   -999.0,9,   -999.0,9,-999.0000,9,   -999.0,  9,  -999.00,9,   -999.0,  -999.00,9,  -999.00,9,     0.27,2,     0.14,2,   -999.0,-999.0000, -999,9,   11,  20.5704,  24.4135,   -999.0,9
       RF08-01,  137E,RF-3104,  1,     20,02-18574,2,20080126,1204, 31.9887, 137.0100, 4224,     25.5,  20.5786,  34.7423,2,   -999.0,9,-999.0000,9,    218.6,2,     2.10,2,  -999.00,9,     0.57,2,     0.29,2,     0.04,2, -999.000,9, -999.000,9,  -999.00,9,   -999.0,9,   -999.0,9,-999.0000,9,   -999.0,  9,  -999.00,9,   -999.0,  -999.00,9,  -999.00,9,     0.27,2,     0.14,2,   -999.0,-999.0000, -999,9,   25,  20.5738,  24.4128,   -999.0,9
       RF08-01,  137E,RF-3104,  1,     19,02-18573,2,20080126,1203, 31.9887, 137.0100, 4224,     51.9,  20.5905,  34.7421,2,   -999.0,9,-999.0000,9,    218.4,2,     2.13,2,  -999.00,9,     0.64,2,     0.28,2,     0.05,2, -999.000,9, -999.000,9,  -999.00,9,   -999.0,9,   -999.0,9,-999.0000,9,   -999.0,  9,  -999.00,9,   -999.0,  -999.00,9,  -999.00,9,     0.25,2,     0.14,2,   -999.0,-999.0000, -999,9,   52,  20.5807,  24.4107,   -999.0,9
       RF08-01,  137E,RF-3104,  1,     18,02-18572,2,20080126,1201, 31.9887, 137.0100, 4224,     77.5,  20.5521,  34.7490,2,   -999.0,9,-999.0000,9,    216.7,2,     2.18,2,  -999.00,9,     0.72,2,     0.24,2,     0.05,2, -999.000,9, -999.000,9,  -999.00,9,   -999.0,9,   -999.0,9,-999.0000,9,   -999.0,  9,  -999.00,9,   -999.0,  -999.00,9,  -999.00,9,     0.22,2,     0.12,2,   -999.0,-999.0000, -999,9,   77,  20.5375,  24.4275,   -999.0,9
       RF08-01,  137E,RF-3104,  1,     17,02-18571,2,20080126,1200, 31.9887, 137.0100, 4224,    101.7,  20.4971,  34.7374,2,   -999.0,9,  34.7369,2,    219.0,2,     2.13,2,  -999.00,9,     0.60,2,     0.28,2,     0.04,2, -999.000,9, -999.000,9,  -999.00,9,   -999.0,9,   -999.0,9,-999.0000,9,   -999.0,  9,  -999.00,9,   -999.0,  -999.00,9,  -999.00,9,     0.28,2,     0.15,2,   -999.0,-999.0000, -999,9,  101,  20.4780,  24.4346,   -999.0,9
       RF08-01,  137E,RF-3104,  1,     16,02-18570,2,20080126,1159, 31.9887, 137.0100, 4224,    126.1,  20.5088,  34.7447,2,   -999.0,9,-999.0000,9,    217.6,2,     2.16,2,  -999.00,9,     0.70,2,     0.25,2,     0.05,2, -999.000,9, -999.000,9,  -999.00,9,   -999.0,9,   -999.0,9,-999.0000,9,   -999.0,  9,  -999.00,9,   -999.0,  -999.00,9,  -999.00,9,     0.24,2,     0.13,2,   -999.0,-999.0000, -999,9,  125,  20.4851,  24.4383,   -999.0,9
       RF08-01,  137E,RF-3104,  1,     15,02-18569,2,20080126,1157, 31.9887, 137.0100, 4224,    152.4,  20.5119,  34.7593,2,   -999.0,9,-999.0000,9,    214.0,2,     2.25,2,  -999.00,9,     0.93,2,     0.20,2,     0.06,2, -999.000,9, -999.000,9,  -999.00,9,   -999.0,9,   -999.0,9,-999.0000,9,   -999.0,  9,  -999.00,9,   -999.0,  -999.00,9,  -999.00,9,     0.15,2,     0.09,2,   -999.0,-999.0000, -999,9,  151,  20.4833,  24.4500,   -999.0,9
       RF08-01,  137E,RF-3104,  1,     14,02-18568,2,20080126,1156, 31.9887, 137.0100, 4224,    202.9,  20.3228,  34.7877,2,   -999.0,9,  34.7883,2,    207.0,2,     2.65,2,  -999.00,9,     1.52,2,     0.10,2,     0.10,2, -999.000,9, -999.000,9,  -999.00,9,   -999.0,9,   -999.0,9,-999.0000,9,   -999.0,  9,  -999.00,9,   -999.0,  -999.00,9,  -999.00,9,     0.04,2,     0.05,2,   -999.0,-999.0000, -999,9,  201,  20.2849,  24.5245,   -999.0,9
       RF08-01,  137E,RF-3104,  1,     13,02-18567,2,20080126,1154, 31.9887, 137.0100, 4224,    253.7,  19.0088,  34.8088,2,   -999.0,9,-999.0000,9,    201.4,2,     3.50,2,  -999.00,9,     3.17,2,     0.01,2,     0.19,2, -999.000,9, -999.000,9,  -999.00,9,   -999.0,9,   -999.0,9,-999.0000,9,   -999.0,  9,  -999.00,9,   -999.0,  -999.00,9,  -999.00,9,  -999.00,9,  -999.00,9,   -999.0,-999.0000, -999,9,  252,  18.9635,  24.8843,   -999.0,9
       RF08-01,  137E,RF-3104,  1,     12,02-18348,2,20080126,1152, 31.9887, 137.0100, 4224,    302.8,  18.4619,  34.8016,2,   -999.0,9,  34.8039,2,    205.3,2,     3.54,2,  -999.00,9,     3.46,2,     0.01,2,     0.20,2, -999.000,9, -999.000,9,  -999.00,9,   -999.0,9,   -999.0,9,-999.0000,9,   -999.0,  9,  -999.00,9,   -999.0,  -999.00,9,  -999.00,9,  -999.00,9,  -999.00,9,   -999.0,-999.0000, -999,9,  300,  18.4089,  25.0186,   -999.0,9
       RF08-01,  137E,RF-3104,  1,     11,02-18565,2,20080126,1149, 31.9887, 137.0100, 4224,    404.9,  17.1738,  34.7577,2,   -999.0,9,  34.7611,4,    195.8,2,     5.97,2,  -999.00,9,     6.26,2,     0.00,2,     0.38,2, -999.000,9, -999.000,9,  -999.00,9,   -999.0,9,   -999.0,9,-999.0000,9,   -999.0,  9,  -999.00,9,   -999.0,  -999.00,9,  -999.00,9,  -999.00,9,  -999.00,9,   -999.0,-999.0000, -999,9,  402,  17.1063,  25.3030,   -999.0,9
       RF08-01,  137E,RF-3104,  1,     10,02-18564,2,20080126,1146, 31.9887, 137.0100, 4224,    507.6,  14.8502,  34.5903,2,   -999.0,9,-999.0000,9,    186.3,2,    13.30,2,  -999.00,9,    10.70,2,     0.00,2,     0.68,2, -999.000,9, -999.000,9,  -999.00,9,   -999.0,9,   -999.0,9,-999.0000,9,   -999.0,  9,  -999.00,9,   -999.0,  -999.00,9,  -999.00,9,  -999.00,9,  -999.00,9,   -999.0,-999.0000, -999,9,  503,  14.7734,  25.7054,   -999.0,9
       RF08-01,  137E,RF-3104,  1,      9,02-18563,2,20080126,1144, 31.9887, 137.0100, 4224,    606.0,  12.2154,  34.3968,2,   -999.0,9,  34.3984,2,    172.2,2,    23.10,2,  -999.00,9,    16.41,2,     0.00,2,     1.08,2, -999.000,9, -999.000,9,  -999.00,9,   -999.0,9,   -999.0,9,-999.0000,9,   -999.0,  9,  -999.00,9,   -999.0,  -999.00,9,  -999.00,9,  -999.00,9,  -999.00,9,   -999.0,-999.0000, -999,9,  601,  12.1346,  26.0949,   -999.0,9
       RF08-01,  137E,RF-3104,  1,      8,02-18562,2,20080126,1141, 31.9887, 137.0100, 4224,    708.7,  10.0673,  34.3477,2,   -999.0,9,-999.0000,9,    138.3,2,    43.83,2,  -999.00,9,    23.26,2,     0.00,2,     1.59,2, -999.000,9, -999.000,9,  -999.00,9,   -999.0,9,   -999.0,9,-999.0000,9,   -999.0,  9,  -999.00,9,   -999.0,  -999.00,9,  -999.00,9,  -999.00,9,  -999.00,9,   -999.0,-999.0000, -999,9,  703,   9.9833,  26.4454,   -999.0,9
       RF08-01,  137E,RF-3104,  1,      7,02-18561,2,20080126,1138, 31.9887, 137.0100, 4224,    809.4,   7.5450,  34.2208,2,   -999.0,9,  34.2254,4,    121.1,2,    63.65,2,  -999.00,9,    28.98,2,     0.00,2,     2.03,2, -999.000,9, -999.000,9,  -999.00,9,   -999.0,9,   -999.0,9,-999.0000,9,   -999.0,  9,  -999.00,9,   -999.0,  -999.00,9,  -999.00,9,  -999.00,9,  -999.00,9,   -999.0,-999.0000, -999,9,  802,   7.4635,  26.7400,   -999.0,9
       RF08-01,  137E,RF-3104,  1,      6,02-18560,2,20080126,1136, 31.9887, 137.0100, 4224,    909.1,   6.0188,  34.2313,2,   -999.0,9,-999.0000,9,     94.8,2,    84.14,2,  -999.00,9,    33.64,2,     0.00,2,     2.38,2, -999.000,9, -999.000,9,  -999.00,9,   -999.0,9,   -999.0,9,-999.0000,9,   -999.0,  9,  -999.00,9,   -999.0,  -999.00,9,  -999.00,9,  -999.00,9,  -999.00,9,   -999.0,-999.0000, -999,9,  901,   5.9370,  26.9531,   -999.0,9
       RF08-01,  137E,RF-3104,  1,      5,02-18559,2,20080126,1133, 31.9887, 137.0100, 4224,   1012.1,   4.8214,  34.2815,2,   -999.0,9,  34.2821,2,     72.1,2,   102.83,2,  -999.00,9,    37.33,2,     0.00,2,     2.67,2, -999.000,9, -999.000,9,  -999.00,9,   -999.0,9,   -999.0,9,-999.0000,9,   -999.0,  9,  -999.00,9,   -999.0,  -999.00,9,  -999.00,9,  -999.00,9,  -999.00,9,   -999.0,-999.0000, -999,9, 1003,   4.7387,  27.1353,   -999.0,9
       RF08-01,  137E,RF-3104,  1,      4,02-18558,2,20080126,1128, 31.9887, 137.0100, 4224,   1263.5,   3.4603,  34.4186,2,   -999.0,9,  34.4211,2,     62.0,2,   128.05,2,  -999.00,9,    39.84,2,     0.00,2,     2.85,2, -999.000,9, -999.000,9,  -999.00,9,   -999.0,9,   -999.0,9,-999.0000,9,   -999.0,  9,  -999.00,9,   -999.0,  -999.00,9,  -999.00,9,  -999.00,9,  -999.00,9,   -999.0,-999.0000, -999,9, 1251,   3.3676,  27.3866,   -999.0,9
       RF08-01,  137E,RF-3104,  1,      3,02-18557,2,20080126,1123, 31.9887, 137.0100, 4224,   1515.6,   2.8280,  34.4968,2,   -999.0,9,  34.4979,2,     72.5,2,   137.71,2,  -999.00,9,    39.85,2,     0.00,2,     2.84,2, -999.000,9, -999.000,9,  -999.00,9,   -999.0,9,   -999.0,9,-999.0000,9,   -999.0,  9,  -999.00,9,   -999.0,  -999.00,9,  -999.00,9,  -999.00,9,  -999.00,9,   -999.0,-999.0000, -999,9, 1500,   2.7211,  27.5084,   -999.0,9
       RF08-01,  137E,RF-3104,  1,      2,02-18556,2,20080126,1118, 31.9887, 137.0100, 4224,   1770.4,   2.4031,  34.5495,2,   -999.0,9,  34.5508,2,     85.1,2,   143.16,2,  -999.00,9,    39.45,2,     0.00,2,     2.79,2, -999.000,9, -999.000,9,  -999.00,9,   -999.0,9,   -999.0,9,-999.0000,9,   -999.0,  9,  -999.00,9,   -999.0,  -999.00,9,  -999.00,9,  -999.00,9,  -999.00,9,   -999.0,-999.0000, -999,9, 1751,   2.2803,  27.5881,   -999.0,9
       RF08-01,  137E,RF-3104,  1,      1,02-18555,2,20080126,1113, 31.9887, 137.0100, 4224,   2024.6,   2.1289,  34.5887,2,   -999.0,9,  34.5891,2,    101.0,2,   144.02,2,  -999.00,9,    38.65,2,     0.00,2,     2.72,2, -999.000,9, -999.000,9,  -999.00,9,   -999.0,9,   -999.0,9,-999.0000,9,   -999.0,  9,  -999.00,9,   -999.0,  -999.00,9,  -999.00,9,  -999.00,9,  -999.00,9,   -999.0,-999.0000, -999,9, 2001,   1.9886,  27.6431,   -999.0,9