BOTTLE,20130510GEMDJMAYT
EXPOCODE,SECT_ID,STNNBR,CASTNO,SAMPNO,BTLNBR,BTLNBR_FLAG_W,DATE,TIME,LATITUDE,LONGITUDE,DEPTH,CTDPRS,CTDTMP,CTDSAL,CTDSAL_FLAG_W,CTDOXY,CTDOXY_FLAG_W,SALNTY,SALNTY_FLAG_W,OXYGEN,OXYGEN_FLAG_W,SILCAT,SILCAT_FLAG_W,NITRAT,NITRAT_FLAG_W,NO2+NO3,NO2+NO3_FLAG_W,NITRIT,NITRIT_FLAG_W,PHSPHT,PHSPHT_FLAG_W,CFC-11,CFC-11_FLAG_W,CFC-12,CFC-12_FLAG_W,DELC13,DELC13_FLAG_W,TCARBN,TCARBN_FLAG_W,ALKALI,ALKALI_FLAG_W,PH,PH_FLAG_W,PH_TMP,PH_SCALE,PH_NBS,PH_NBS_FLAG_W,C13ERR,TOTALP,TOTALP_FLAG_W,AMMONI,AMMONI_FLAG_W,CHLORA,CHLORA_FLAG_W,PPHYTN,PPHYTN_FLAG_W,REVPRS,REVTMP,DEPTH_,DEPTH_FLAG,CTDDEP,THETA,SIGTHT,DOC,DOC_FLAG_W
,,,,,,,GMT,GMT,,,METER,DBAR,ITS-90,PSS-78,,UMOL/KG,,PSS-78,,UMOL/KG,,UMOL/KG,,UMOL/KG,,UMOL/KG,,UMOL/KG,,UMOL/KG,,PMOL/KG,,PMOL/KG,,/MILLE,,UMOL/KG,,UMOL/KG,,25_DEG_C,,DEG_C,,,,/MILLE,UMOL/KG,,UMOL/KG,,UG/L,,UG/L,,DBAR,ITS-90,METERS,,METERS,DEG_C,,UMOL/L,
       RF08-01,  142E,RF-3141,  1,     -9,      -9,5,20080215,2240,  1.9912, 141.9800, 2566,      0.0,  29.5748,  34.8357,2,   -999.0,9,-999.0000,9,    194.9,2,     1.44,2,  -999.00,9,     0.00,2,     0.00,2,     0.14,2, -999.000,9, -999.000,9,  -999.00,9,   1948.2,2,   -999.0,9,-999.0000,9,   -999.0,  9,  -999.00,9,   -999.0,  -999.00,9,  -999.00,9,     0.09,2,     0.04,2,   -999.0,-999.0000, -999,9,    0,  29.5746,  21.7475,   -999.0,9
       RF08-01,  142E,RF-3141,  1,     24,02-18578,2,20080215,2255,  1.9912, 141.9800, 2566,     11.2,  29.5841,  34.8346,2,   -999.0,9,  34.8361,2,    195.1,2,     1.50,2,  -999.00,9,     0.00,2,     0.00,2,     0.14,2, -999.000,9, -999.000,9,  -999.00,9,   -999.0,9,   -999.0,9,-999.0000,9,   -999.0,  9,  -999.00,9,   -999.0,  -999.00,9,  -999.00,9,     0.09,2,     0.04,2,   -999.0,-999.0000, -999,9,   11,  29.5814,  21.7444,   -999.0,9
       RF08-01,  142E,RF-3141,  1,     23,02-18577,2,20080215,2254,  1.9912, 141.9800, 2566,     26.0,  29.5725,  34.8430,2,   -999.0,9,-999.0000,9,    195.0,2,     1.50,2,  -999.00,9,     0.00,2,     0.00,2,     0.14,2, -999.000,9, -999.000,9,  -999.00,9,   -999.0,9,   -999.0,9,-999.0000,9,   -999.0,  9,  -999.00,9,   -999.0,  -999.00,9,  -999.00,9,     0.09,2,     0.04,2,   -999.0,-999.0000, -999,9,   26,  29.5661,  21.7559,   -999.0,9
       RF08-01,  142E,RF-3141,  1,     22,02-18576,2,20080215,2253,  1.9912, 141.9800, 2566,     52.4,  29.4446,  34.8716,2,   -999.0,9,-999.0000,9,    197.5,2,     1.47,2,  -999.00,9,     0.00,2,     0.00,2,     0.14,2, -999.000,9, -999.000,9,  -999.00,9,   -999.0,9,   -999.0,9,-999.0000,9,   -999.0,  9,  -999.00,9,   -999.0,  -999.00,9,  -999.00,9,     0.13,2,     0.05,2,   -999.0,-999.0000, -999,9,   52,  29.4318,  21.8227,   -999.0,9
       RF08-01,  142E,RF-3141,  1,     21,02-18575,2,20080215,2251,  1.9912, 141.9800, 2566,     76.7,  29.3971,  34.9286,2,   -999.0,9,-999.0000,9,    194.5,2,     1.45,2,  -999.00,9,     0.05,2,     0.02,2,     0.17,2, -999.000,9, -999.000,9,  -999.00,9,   -999.0,9,   -999.0,9,-999.0000,9,   -999.0,  9,  -999.00,9,   -999.0,  -999.00,9,  -999.00,9,     0.21,2,     0.12,2,   -999.0,-999.0000, -999,9,   76,  29.3784,  21.8835,   -999.0,9
       RF08-01,  142E,RF-3141,  1,     20,02-18574,2,20080215,2250,  1.9912, 141.9800, 2566,    102.5,  29.2304,  35.1138,2,   -999.0,9,  35.1522,4,    184.7,2,     1.61,2,  -999.00,9,     1.35,2,     0.59,2,     0.26,2, -999.000,9, -999.000,9,  -999.00,9,   -999.0,9,   -999.0,9,-999.0000,9,   -999.0,  9,  -999.00,9,   -999.0,  -999.00,9,  -999.00,9,     0.35,2,     0.34,2,   -999.0,-999.0000, -999,9,  102,  29.2055,  22.0807,   -999.0,9
       RF08-01,  142E,RF-3141,  1,     19,02-18573,2,20080215,2249,  1.9912, 141.9800, 2566,    127.1,  27.7556,  35.3915,2,   -999.0,9,-999.0000,9,    163.7,2,     2.42,2,  -999.00,9,     4.97,2,     0.11,2,     0.47,2, -999.000,9, -999.000,9,  -999.00,9,   -999.0,9,   -999.0,9,-999.0000,9,   -999.0,  9,  -999.00,9,   -999.0,  -999.00,9,  -999.00,9,     0.09,2,     0.16,2,   -999.0,-999.0000, -999,9,  126,  27.7258,  22.7785,   -999.0,9
       RF08-01,  142E,RF-3141,  1,     18,02-18572,2,20080215,2248,  1.9912, 141.9800, 2566,    152.2,  26.0567,  35.2998,2,   -999.0,9,-999.0000,9,    146.5,2,     3.47,2,  -999.00,9,     7.08,2,     0.03,2,     0.58,2, -999.000,9, -999.000,9,  -999.00,9,   -999.0,9,   -999.0,9,-999.0000,9,   -999.0,  9,  -999.00,9,   -999.0,  -999.00,9,  -999.00,9,     0.03,2,     0.08,2,   -999.0,-999.0000, -999,9,  151,  26.0226,  23.2524,   -999.0,9
       RF08-01,  142E,RF-3141,  1,     17,02-18571,2,20080215,2246,  1.9912, 141.9800, 2566,    202.1,  17.5880,  34.7337,2,   -999.0,9,  34.7347,2,    149.6,2,    12.51,2,  -999.00,9,    11.81,2,     0.01,2,     0.81,2, -999.000,9, -999.000,9,  -999.00,9,   -999.0,9,   -999.0,9,-999.0000,9,   -999.0,  9,  -999.00,9,   -999.0,  -999.00,9,  -999.00,9,     0.00,2,     0.04,2,   -999.0,-999.0000, -999,9,  201,  17.5539,  25.1770,   -999.0,9
       RF08-01,  142E,RF-3141,  1,     16,02-18570,2,20080215,2245,  1.9912, 141.9800, 2566,    252.1,  12.0874,  34.5417,2,   -999.0,9,-999.0000,9,    114.2,2,    28.65,2,  -999.00,9,    23.35,2,     0.00,2,     1.62,2, -999.000,9, -999.000,9,  -999.00,9,   -999.0,9,   -999.0,9,-999.0000,9,   -999.0,  9,  -999.00,9,   -999.0,  -999.00,9,  -999.00,9,  -999.00,9,  -999.00,9,   -999.0,-999.0000, -999,9,  251,  12.0544,  26.2227,   -999.0,9
       RF08-01,  142E,RF-3141,  1,     15,02-18569,2,20080215,2243,  1.9912, 141.9800, 2566,    302.9,  10.6801,  34.6878,2,   -999.0,9,  34.6947,4,    122.5,2,    29.54,2,  -999.00,9,    25.24,2,     0.00,2,     1.73,2, -999.000,9, -999.000,9,  -999.00,9,   -999.0,9,   -999.0,9,-999.0000,9,   -999.0,  9,  -999.00,9,   -999.0,  -999.00,9,  -999.00,9,  -999.00,9,  -999.00,9,   -999.0,-999.0000, -999,9,  301,  10.6434,  26.5962,   -999.0,9
       RF08-01,  142E,RF-3141,  1,     14,02-18568,2,20080215,2241,  1.9912, 141.9800, 2566,    404.4,   9.7140,  34.7033,2,   -999.0,9,-999.0000,9,    121.9,2,    26.76,2,  -999.00,9,    27.22,2,     0.00,2,     1.85,2, -999.000,9, -999.000,9,  -999.00,9,   -999.0,9,   -999.0,9,-999.0000,9,   -999.0,  9,  -999.00,9,   -999.0,  -999.00,9,  -999.00,9,  -999.00,9,  -999.00,9,   -999.0,-999.0000, -999,9,  402,   9.6676,  26.7764,   -999.0,9
       RF08-01,  142E,RF-3141,  1,     13,02-18567,2,20080215,2238,  1.9912, 141.9800, 2566,    505.0,   8.7310,  34.6282,2,   -999.0,9,  34.6270,2,    114.9,2,    34.39,2,  -999.00,9,    29.70,2,     0.00,2,     2.04,2, -999.000,9, -999.000,9,  -999.00,9,   -999.0,9,   -999.0,9,-999.0000,9,   -999.0,  9,  -999.00,9,   -999.0,  -999.00,9,  -999.00,9,  -999.00,9,  -999.00,9,   -999.0,-999.0000, -999,9,  502,   8.6764,  26.8783,   -999.0,9
       RF08-01,  142E,RF-3141,  1,     12,02-18348,2,20080215,2236,  1.9912, 141.9800, 2566,    606.2,   7.4928,  34.5650,2,   -999.0,9,-999.0000,9,    117.7,2,    41.25,2,  -999.00,9,    31.76,2,     0.00,2,     2.18,2, -999.000,9, -999.000,9,  -999.00,9,   -999.0,9,   -999.0,9,-999.0000,9,   -999.0,  9,  -999.00,9,   -999.0,  -999.00,9,  -999.00,9,  -999.00,9,  -999.00,9,   -999.0,-999.0000, -999,9,  602,   7.4325,  27.0152,   -999.0,9
       RF08-01,  142E,RF-3141,  1,     11,02-18565,2,20080215,2233,  1.9912, 141.9800, 2566,    706.2,   6.4805,  34.5365,2,   -999.0,9,  34.5379,2,    114.5,2,    49.59,2,  -999.00,9,    33.83,2,     0.00,2,     2.35,2, -999.000,9, -999.000,9,  -999.00,9,   -999.0,9,   -999.0,9,-999.0000,9,   -999.0,  9,  -999.00,9,   -999.0,  -999.00,9,  -999.00,9,  -999.00,9,  -999.00,9,   -999.0,-999.0000, -999,9,  701,   6.4152,  27.1327,   -999.0,9
       RF08-01,  142E,RF-3141,  1,     10,02-18564,2,20080215,2231,  1.9912, 141.9800, 2566,    807.1,   6.0084,  34.5328,2,   -999.0,9,-999.0000,9,    104.8,2,    60.54,2,  -999.00,9,    35.40,2,     0.00,2,     2.47,2, -999.000,9, -999.000,9,  -999.00,9,   -999.0,9,   -999.0,9,-999.0000,9,   -999.0,  9,  -999.00,9,   -999.0,  -999.00,9,  -999.00,9,  -999.00,9,  -999.00,9,   -999.0,-999.0000, -999,9,  801,   5.9361,  27.1916,   -999.0,9
       RF08-01,  142E,RF-3141,  1,      9,02-18563,2,20080215,2228,  1.9912, 141.9800, 2566,    907.9,   5.1538,  34.5431,2,   -999.0,9,-999.0000,9,     89.7,2,    79.21,2,  -999.00,9,    37.91,2,     0.00,2,     2.67,2, -999.000,9, -999.000,9,  -999.00,9,   -999.0,9,   -999.0,9,-999.0000,9,   -999.0,  9,  -999.00,9,   -999.0,  -999.00,9,  -999.00,9,  -999.00,9,  -999.00,9,   -999.0,-999.0000, -999,9,  901,   5.0776,  27.3040,   -999.0,9
       RF08-01,  142E,RF-3141,  1,      8,02-18562,2,20080215,2226,  1.9912, 141.9800, 2566,   1008.2,   4.4865,  34.5568,2,   -999.0,9,  34.5577,2,     93.7,2,    92.85,2,  -999.00,9,    38.00,2,     0.00,2,     2.70,2, -999.000,9, -999.000,9,  -999.00,9,   -999.0,9,   -999.0,9,-999.0000,9,   -999.0,  9,  -999.00,9,   -999.0,  -999.00,9,  -999.00,9,  -999.00,9,  -999.00,9,   -999.0,-999.0000, -999,9, 1000,   4.4063,  27.3905,   -999.0,9
       RF08-01,  142E,RF-3141,  1,      7,02-18561,2,20080215,2221,  1.9912, 141.9800, 2566,   1261.0,   3.6360,  34.5813,2,   -999.0,9,  34.5810,2,     98.2,2,   109.53,2,  -999.00,9,    38.51,2,     0.00,2,     2.72,2, -999.000,9, -999.000,9,  -999.00,9,   -999.0,9,   -999.0,9,-999.0000,9,   -999.0,  9,  -999.00,9,   -999.0,  -999.00,9,  -999.00,9,  -999.00,9,  -999.00,9,   -999.0,-999.0000, -999,9, 1250,   3.5415,  27.4994,   -999.0,9
       RF08-01,  142E,RF-3141,  1,      6,02-18560,2,20080215,2215,  1.9912, 141.9800, 2566,   1515.5,   2.9683,  34.6036,2,   -999.0,9,  34.6033,2,    100.4,2,   123.70,2,  -999.00,9,    38.94,2,     0.00,2,     2.76,2, -999.000,9, -999.000,9,  -999.00,9,   -999.0,9,   -999.0,9,-999.0000,9,   -999.0,  9,  -999.00,9,   -999.0,  -999.00,9,  -999.00,9,  -999.00,9,  -999.00,9,   -999.0,-999.0000, -999,9, 1502,   2.8595,  27.5814,   -999.0,9
       RF08-01,  142E,RF-3141,  1,      5,02-18559,2,20080215,2210,  1.9912, 141.9800, 2566,   1767.7,   2.4873,  34.6241,2,   -999.0,9,  34.6242,2,    109.3,2,   133.38,2,  -999.00,9,    38.71,2,     0.00,2,     2.72,2, -999.000,9, -999.000,9,  -999.00,9,   -999.0,9,   -999.0,9,-999.0000,9,   -999.0,  9,  -999.00,9,   -999.0,  -999.00,9,  -999.00,9,  -999.00,9,  -999.00,9,   -999.0,-999.0000, -999,9, 1751,   2.3634,  27.6409,   -999.0,9
       RF08-01,  142E,RF-3141,  1,      4,02-18558,2,20080215,2205,  1.9912, 141.9800, 2566,   2022.2,   2.1294,  34.6424,2,   -999.0,9,  34.6409,2,    117.4,2,   139.54,2,  -999.00,9,    38.32,2,     0.00,2,     2.68,2, -999.000,9, -999.000,9,  -999.00,9,   -999.0,9,   -999.0,9,-999.0000,9,   -999.0,  9,  -999.00,9,   -999.0,  -999.00,9,  -999.00,9,  -999.00,9,  -999.00,9,   -999.0,-999.0000, -999,9, 2001,   1.9891,  27.6860,   -999.0,9
       RF08-01,  142E,RF-3141,  1,      3,02-18557,2,20080215,2200,  1.9912, 141.9800, 2566,   2275.5,   1.8685,  34.6566,2,   -999.0,9,  34.6563,2,    125.0,2,   144.00,2,  -999.00,9,    37.83,2,     0.00,2,     2.64,2, -999.000,9, -999.000,9,  -999.00,9,   -999.0,9,   -999.0,9,-999.0000,9,   -999.0,  9,  -999.00,9,   -999.0,  -999.00,9,  -999.00,9,  -999.00,9,  -999.00,9,   -999.0,-999.0000, -999,9, 2251,   1.7106,  27.7189,   -999.0,9
       RF08-01,  142E,RF-3141,  1,      2,02-18556,2,20080215,2155,  1.9912, 141.9800, 2566,   2502.8,   1.7462,  34.6635,2,   -999.0,9,  34.6626,2,    132.6,2,   143.68,2,  -999.00,9,    37.43,2,     0.00,2,     2.60,2, -999.000,9, -999.000,9,  -999.00,9,   -999.0,9,   -999.0,9,-999.0000,9,   -999.0,  9,  -999.00,9,   -999.0,  -999.00,9,  -999.00,9,  -999.00,9,  -999.00,9,   -999.0,-999.0000, -999,9, 2474,   1.5704,  27.7350,   -999.0,9