BOTTLE,20130510GEMDJMAYT
EXPOCODE,SECT_ID,STNNBR,CASTNO,SAMPNO,BTLNBR,BTLNBR_FLAG_W,DATE,TIME,LATITUDE,LONGITUDE,DEPTH,CTDPRS,CTDTMP,CTDSAL,CTDSAL_FLAG_W,CTDOXY,CTDOXY_FLAG_W,SALNTY,SALNTY_FLAG_W,OXYGEN,OXYGEN_FLAG_W,SILCAT,SILCAT_FLAG_W,NITRAT,NITRAT_FLAG_W,NO2+NO3,NO2+NO3_FLAG_W,NITRIT,NITRIT_FLAG_W,PHSPHT,PHSPHT_FLAG_W,CFC-11,CFC-11_FLAG_W,CFC-12,CFC-12_FLAG_W,DELC13,DELC13_FLAG_W,TCARBN,TCARBN_FLAG_W,ALKALI,ALKALI_FLAG_W,PH,PH_FLAG_W,PH_TMP,PH_SCALE,PH_NBS,PH_NBS_FLAG_W,C13ERR,TOTALP,TOTALP_FLAG_W,AMMONI,AMMONI_FLAG_W,CHLORA,CHLORA_FLAG_W,PPHYTN,PPHYTN_FLAG_W,REVPRS,REVTMP,DEPTH_,DEPTH_FLAG,CTDDEP,THETA,SIGTHT,DOC,DOC_FLAG_W
,,,,,,,GMT,GMT,,,METER,DBAR,ITS-90,PSS-78,,UMOL/KG,,PSS-78,,UMOL/KG,,UMOL/KG,,UMOL/KG,,UMOL/KG,,UMOL/KG,,UMOL/KG,,PMOL/KG,,PMOL/KG,,/MILLE,,UMOL/KG,,UMOL/KG,,25_DEG_C,,DEG_C,,,,/MILLE,UMOL/KG,,UMOL/KG,,UG/L,,UG/L,,DBAR,ITS-90,METERS,,METERS,DEG_C,,UMOL/L,
       RF08-01,  137E,RF-3137,  1,     -9,      -9,5,20080214,1630,  2.7790, 137.9737, 4451,      0.0,  29.6626,  34.4966,2,   -999.0,9,-999.0000,9,    194.1,2,     1.83,2,  -999.00,9,     0.00,2,     0.00,2,     0.11,2, -999.000,9, -999.000,9,  -999.00,9,   1923.8,2,   -999.0,9,   8.1262,2,     25.0, TS,  -999.00,9,   -999.0,  -999.00,9,  -999.00,9,     0.06,2,     0.02,2,   -999.0,-999.0000, -999,9,    0,  29.6624,  21.4635,   -999.0,9
       RF08-01,  137E,RF-3137,  1,     24,02-18578,2,20080214,1647,  2.7790, 137.9737, 4451,     11.8,  29.5834,  34.5057,2,   -999.0,9,  34.5784,4,    194.3,2,     1.79,2,  -999.00,9,     0.00,2,     0.00,2,     0.14,2, -999.000,9, -999.000,9,  -999.00,9,   -999.0,9,   -999.0,9,-999.0000,9,   -999.0,  9,  -999.00,9,   -999.0,  -999.00,9,  -999.00,9,     0.06,2,     0.03,2,   -999.0,-999.0000, -999,9,   12,  29.5805,  21.4981,   -999.0,9
       RF08-01,  137E,RF-3137,  1,     23,02-18577,2,20080214,1646,  2.7790, 137.9737, 4451,     24.9,  29.4092,  34.6630,2,   -999.0,9,-999.0000,9,    194.7,2,     1.87,2,  -999.00,9,     0.00,2,     0.00,2,     0.15,2, -999.000,9, -999.000,9,  -999.00,9,   -999.0,9,   -999.0,9,-999.0000,9,   -999.0,  9,  -999.00,9,   -999.0,  -999.00,9,  -999.00,9,     0.06,2,     0.03,2,   -999.0,-999.0000, -999,9,   25,  29.4031,  21.6759,   -999.0,9
       RF08-01,  137E,RF-3137,  1,     22,02-18576,2,20080214,1645,  2.7790, 137.9737, 4451,     51.5,  29.2984,  34.6397,2,   -999.0,9,-999.0000,9,    194.3,2,     1.96,2,  -999.00,9,     0.00,2,     0.00,2,     0.14,2, -999.000,9, -999.000,9,  -999.00,9,   -999.0,9,   -999.0,9,-999.0000,9,   -999.0,  9,  -999.00,9,   -999.0,  -999.00,9,  -999.00,9,     0.11,2,     0.07,2,   -999.0,-999.0000, -999,9,   51,  29.2859,  21.6979,   -999.0,9
       RF08-01,  137E,RF-3137,  1,     21,02-18575,2,20080214,1643,  2.7790, 137.9737, 4451,     77.0,  28.7994,  35.2098,2,   -999.0,9,-999.0000,9,    172.6,2,     2.58,2,  -999.00,9,     2.77,2,     0.28,2,     0.40,2, -999.000,9, -999.000,9,  -999.00,9,   -999.0,9,   -999.0,9,-999.0000,9,   -999.0,  9,  -999.00,9,   -999.0,  -999.00,9,  -999.00,9,     0.34,2,     0.41,2,   -999.0,-999.0000, -999,9,   77,  28.7809,  22.2947,   -999.0,9
       RF08-01,  137E,RF-3137,  1,     20,02-18574,2,20080214,1642,  2.7790, 137.9737, 4451,    100.2,  27.7440,  35.3295,2,   -999.0,9,  35.3303,2,    162.3,2,     2.94,2,  -999.00,9,     4.64,2,     0.03,2,     0.48,2, -999.000,9, -999.000,9,  -999.00,9,   -999.0,9,   -999.0,9,-999.0000,9,   -999.0,  9,  -999.00,9,   -999.0,  -999.00,9,  -999.00,9,     0.16,2,     0.39,2,   -999.0,-999.0000, -999,9,  100,  27.7205,  22.7336,   -999.0,9
       RF08-01,  137E,RF-3137,  1,     19,02-18573,2,20080214,1641,  2.7790, 137.9737, 4451,    126.1,  26.9372,  35.3058,2,   -999.0,9,-999.0000,9,    152.1,2,     3.26,2,  -999.00,9,     5.98,2,     0.03,2,     0.57,2, -999.000,9, -999.000,9,  -999.00,9,   -999.0,9,   -999.0,9,-999.0000,9,   -999.0,  9,  -999.00,9,   -999.0,  -999.00,9,  -999.00,9,     0.08,2,     0.16,2,   -999.0,-999.0000, -999,9,  125,  26.9083,  22.9774,   -999.0,9
       RF08-01,  137E,RF-3137,  1,     18,02-18572,2,20080214,1639,  2.7790, 137.9737, 4451,    149.7,  25.7224,  35.2002,2,   -999.0,9,-999.0000,9,    142.6,2,     3.82,2,  -999.00,9,     7.22,2,     0.02,2,     0.63,2, -999.000,9, -999.000,9,  -999.00,9,   -999.0,9,   -999.0,9,-999.0000,9,   -999.0,  9,  -999.00,9,   -999.0,  -999.00,9,  -999.00,9,     0.02,2,     0.05,2,   -999.0,-999.0000, -999,9,  149,  25.6892,  23.2810,   -999.0,9
       RF08-01,  137E,RF-3137,  1,     17,02-18571,2,20080214,1637,  2.7790, 137.9737, 4451,    203.2,  21.4105,  34.9053,2,   -999.0,9,  34.9535,4,    145.4,2,     7.37,2,  -999.00,9,     8.60,2,     0.01,2,     0.66,2, -999.000,9, -999.000,9,  -999.00,9,   -999.0,9,   -999.0,9,-999.0000,9,   -999.0,  9,  -999.00,9,   -999.0,  -999.00,9,  -999.00,9,     0.01,2,     0.03,2,   -999.0,-999.0000, -999,9,  202,  21.3711,  24.3204,   -999.0,9
       RF08-01,  137E,RF-3137,  1,     16,02-18570,3,20080214,1635,  2.7790, 137.9737, 4451,    252.3,  14.4122,  34.5928,2,   -999.0,9,-999.0000,9,    134.8,2,    19.85,2,  -999.00,9,    17.29,2,     0.00,2,     1.21,2, -999.000,9, -999.000,9,  -999.00,9,   -999.0,9,   -999.0,9,-999.0000,9,   -999.0,  9,  -999.00,9,   -999.0,  -999.00,9,  -999.00,9,  -999.00,9,  -999.00,9,   -999.0,-999.0000, -999,9,  251,  14.3751,  25.7931,   -999.0,9
       RF08-01,  137E,RF-3137,  1,     15,02-18569,2,20080214,1633,  2.7790, 137.9737, 4451,    302.3,  10.5417,  34.5334,2,   -999.0,9,  34.5349,2,     97.1,2,    34.42,2,  -999.00,9,    27.21,2,     0.00,2,     1.91,2, -999.000,9, -999.000,9,  -999.00,9,   -999.0,9,   -999.0,9,-999.0000,9,   -999.0,  9,  -999.00,9,   -999.0,  -999.00,9,  -999.00,9,  -999.00,9,  -999.00,9,   -999.0,-999.0000, -999,9,  300,  10.5054,  26.5002,   -999.0,9
       RF08-01,  137E,RF-3137,  1,     14,02-18568,2,20080214,1631,  2.7790, 137.9737, 4451,    404.6,   8.5234,  34.6171,2,   -999.0,9,-999.0000,9,    120.8,2,    35.87,2,  -999.00,9,    29.36,2,     0.00,2,     2.03,2, -999.000,9, -999.000,9,  -999.00,9,   -999.0,9,   -999.0,9,-999.0000,9,   -999.0,  9,  -999.00,9,   -999.0,  -999.00,9,  -999.00,9,  -999.00,9,  -999.00,9,   -999.0,-999.0000, -999,9,  402,   8.4806,  26.9000,   -999.0,9
       RF08-01,  137E,RF-3137,  1,     13,02-18567,2,20080214,1628,  2.7790, 137.9737, 4451,    503.5,   7.8445,  34.5834,2,   -999.0,9,  34.5840,2,   -999.0,4,    40.08,2,  -999.00,9,    31.89,2,     0.00,2,     2.20,2, -999.000,9, -999.000,9,  -999.00,9,   -999.0,9,   -999.0,9,-999.0000,9,   -999.0,  9,  -999.00,9,   -999.0,  -999.00,9,  -999.00,9,  -999.00,9,  -999.00,9,   -999.0,-999.0000, -999,9,  500,   7.7934,  26.9773,   -999.0,9
       RF08-01,  137E,RF-3137,  1,     12,02-18348,2,20080214,1625,  2.7790, 137.9737, 4451,    605.4,   7.1990,  34.5589,2,   -999.0,9,-999.0000,9,    120.1,2,    41.32,2,  -999.00,9,    32.15,2,     0.00,2,     2.23,2, -999.000,9, -999.000,9,  -999.00,9,   -999.0,9,   -999.0,9,-999.0000,9,   -999.0,  9,  -999.00,9,   -999.0,  -999.00,9,  -999.00,9,  -999.00,9,  -999.00,9,   -999.0,-999.0000, -999,9,  601,   7.1401,  27.0518,   -999.0,9
       RF08-01,  137E,RF-3137,  1,     11,02-18565,2,20080214,1622,  2.7790, 137.9737, 4451,    706.1,   6.5702,  34.5383,2,   -999.0,9,  34.5385,2,    107.9,2,    52.48,2,  -999.00,9,    34.13,2,     0.00,2,     2.39,2, -999.000,9, -999.000,9,  -999.00,9,   -999.0,9,   -999.0,9,-999.0000,9,   -999.0,  9,  -999.00,9,   -999.0,  -999.00,9,  -999.00,9,  -999.00,9,  -999.00,9,   -999.0,-999.0000, -999,9,  701,   6.5044,  27.1223,   -999.0,9
       RF08-01,  137E,RF-3137,  1,     10,02-18564,3,20080214,1619,  2.7790, 137.9737, 4451,    807.3,   5.7059,  34.5379,2,   -999.0,9,-999.0000,9,     90.8,2,    68.04,2,  -999.00,9,    36.96,2,     0.00,2,     2.61,2, -999.000,9, -999.000,9,  -999.00,9,   -999.0,9,   -999.0,9,-999.0000,9,   -999.0,  9,  -999.00,9,   -999.0,  -999.00,9,  -999.00,9,  -999.00,9,  -999.00,9,   -999.0,-999.0000, -999,9,  801,   5.6354,  27.2331,   -999.0,9
       RF08-01,  137E,RF-3137,  1,      9,02-18563,2,20080214,1616,  2.7790, 137.9737, 4451,    907.4,   5.1610,  34.5429,2,   -999.0,9,-999.0000,9,     91.9,2,    77.15,2,  -999.00,9,    37.57,2,     0.00,2,     2.67,2, -999.000,9, -999.000,9,  -999.00,9,   -999.0,9,   -999.0,9,-999.0000,9,   -999.0,  9,  -999.00,9,   -999.0,  -999.00,9,  -999.00,9,  -999.00,9,  -999.00,9,   -999.0,-999.0000, -999,9,  900,   5.0848,  27.3030,   -999.0,9
       RF08-01,  137E,RF-3137,  1,      8,02-18562,2,20080214,1613,  2.7790, 137.9737, 4451,   1011.3,   4.6875,  34.5520,2,   -999.0,9,  34.5529,2,     92.3,2,    85.87,2,  -999.00,9,    38.09,2,     0.00,2,     2.70,2, -999.000,9, -999.000,9,  -999.00,9,   -999.0,9,   -999.0,9,-999.0000,9,   -999.0,  9,  -999.00,9,   -999.0,  -999.00,9,  -999.00,9,  -999.00,9,  -999.00,9,   -999.0,-999.0000, -999,9, 1003,   4.6055,  27.3648,   -999.0,9
       RF08-01,  137E,RF-3137,  1,      7,02-18561,2,20080214,1608,  2.7790, 137.9737, 4451,   1262.7,   3.6957,  34.5791,2,   -999.0,9,  34.5820,2,     95.8,2,   107.55,2,  -999.00,9,    38.61,2,     0.00,2,     2.74,2, -999.000,9, -999.000,9,  -999.00,9,   -999.0,9,   -999.0,9,-999.0000,9,   -999.0,  9,  -999.00,9,   -999.0,  -999.00,9,  -999.00,9,  -999.00,9,  -999.00,9,   -999.0,-999.0000, -999,9, 1252,   3.6005,  27.4919,   -999.0,9
       RF08-01,  137E,RF-3137,  1,      6,02-18560,2,20080214,1602,  2.7790, 137.9737, 4451,   1516.6,   3.0092,  34.6021,2,   -999.0,9,  34.6017,2,    102.5,2,   120.80,2,  -999.00,9,    38.70,2,     0.00,2,     2.73,2, -999.000,9, -999.000,9,  -999.00,9,   -999.0,9,   -999.0,9,-999.0000,9,   -999.0,  9,  -999.00,9,   -999.0,  -999.00,9,  -999.00,9,  -999.00,9,  -999.00,9,   -999.0,-999.0000, -999,9, 1503,   2.8998,  27.5766,   -999.0,9
       RF08-01,  137E,RF-3137,  1,      5,02-18559,2,20080214,1556,  2.7790, 137.9737, 4451,   1769.7,   2.5000,  34.6242,2,   -999.0,9,  34.6235,2,    108.4,2,   131.09,2,  -999.00,9,    38.54,2,     0.00,2,     2.71,2, -999.000,9, -999.000,9,  -999.00,9,   -999.0,9,   -999.0,9,-999.0000,9,   -999.0,  9,  -999.00,9,   -999.0,  -999.00,9,  -999.00,9,  -999.00,9,  -999.00,9,   -999.0,-999.0000, -999,9, 1752,   2.3757,  27.6399,   -999.0,9
       RF08-01,  137E,RF-3137,  1,      4,02-18558,2,20080214,1551,  2.7790, 137.9737, 4451,   2022.6,   2.0941,  34.6446,2,   -999.0,9,  34.6452,2,    118.6,2,   138.34,2,  -999.00,9,    38.10,2,     0.00,2,     2.67,2, -999.000,9, -999.000,9,  -999.00,9,   -999.0,9,   -999.0,9,-999.0000,9,   -999.0,  9,  -999.00,9,   -999.0,  -999.00,9,  -999.00,9,  -999.00,9,  -999.00,9,   -999.0,-999.0000, -999,9, 2002,   1.9543,  27.6906,   -999.0,9
       RF08-01,  137E,RF-3137,  1,      3,02-18557,2,20080214,1441,  2.7790, 137.9737, 4451,   3041.2,   1.5834,  34.6749,2,   -999.0,9,  34.6747,2,    143.8,2,   141.58,2,  -999.00,9,    36.56,2,     0.00,2,     2.54,2, -999.000,9, -999.000,9,  -999.00,9,   -999.0,9,   -999.0,9,-999.0000,9,   -999.0,  9,  -999.00,9,   -999.0,  -999.00,9,  -999.00,9,  -999.00,9,  -999.00,9,   -999.0,-999.0000, -999,9, 3003,   1.3608,  27.7593,   -999.0,9
       RF08-01,  137E,RF-3137,  1,      2,02-18556,2,20080214,1423,  2.7790, 137.9737, 4451,   4060.1,   1.5050,  34.6886,2,   -999.0,9,  34.6887,2,    155.0,2,   140.75,2,  -999.00,9,    35.88,2,     0.00,2,     2.46,2, -999.000,9, -999.000,9,  -999.00,9,   -999.0,9,   -999.0,9,-999.0000,9,   -999.0,  9,  -999.00,9,   -999.0,  -999.00,9,  -999.00,9,  -999.00,9,  -999.00,9,   -999.0,-999.0000, -999,9, 3999,   1.1794,  27.7830,   -999.0,9
       RF08-01,  137E,RF-3137,  1,      1,02-18555,2,20080214,1416,  2.7790, 137.9737, 4451,   4419.4,   1.5360,  34.6889,2,   -999.0,9,  34.6963,4,    156.2,2,   140.29,2,  -999.00,9,    35.83,2,     0.00,2,     2.46,2, -999.000,9, -999.000,9,  -999.00,9,   -999.0,9,   -999.0,9,-999.0000,9,   -999.0,  9,  -999.00,9,   -999.0,  -999.00,9,  -999.00,9,  -999.00,9,  -999.00,9,   -999.0,-999.0000, -999,9, 4350,   1.1692,  27.7839,   -999.0,9