BOTTLE,20130510GEMDJMAYT
EXPOCODE,SECT_ID,STNNBR,CASTNO,SAMPNO,BTLNBR,BTLNBR_FLAG_W,DATE,TIME,LATITUDE,LONGITUDE,DEPTH,CTDPRS,CTDTMP,CTDSAL,CTDSAL_FLAG_W,CTDOXY,CTDOXY_FLAG_W,SALNTY,SALNTY_FLAG_W,OXYGEN,OXYGEN_FLAG_W,SILCAT,SILCAT_FLAG_W,NITRAT,NITRAT_FLAG_W,NO2+NO3,NO2+NO3_FLAG_W,NITRIT,NITRIT_FLAG_W,PHSPHT,PHSPHT_FLAG_W,CFC-11,CFC-11_FLAG_W,CFC-12,CFC-12_FLAG_W,DELC13,DELC13_FLAG_W,TCARBN,TCARBN_FLAG_W,ALKALI,ALKALI_FLAG_W,PH,PH_FLAG_W,PH_TMP,PH_SCALE,PH_NBS,PH_NBS_FLAG_W,C13ERR,TOTALP,TOTALP_FLAG_W,AMMONI,AMMONI_FLAG_W,CHLORA,CHLORA_FLAG_W,PPHYTN,PPHYTN_FLAG_W,REVPRS,REVTMP,DEPTH_,DEPTH_FLAG,CTDDEP,THETA,SIGTHT,DOC,DOC_FLAG_W
,,,,,,,GMT,GMT,,,METER,DBAR,ITS-90,PSS-78,,UMOL/KG,,PSS-78,,UMOL/KG,,UMOL/KG,,UMOL/KG,,UMOL/KG,,UMOL/KG,,UMOL/KG,,PMOL/KG,,PMOL/KG,,/MILLE,,UMOL/KG,,UMOL/KG,,25_DEG_C,,DEG_C,,,,/MILLE,UMOL/KG,,UMOL/KG,,UG/L,,UG/L,,DBAR,ITS-90,METERS,,METERS,DEG_C,,UMOL/L,
       RF08-01,  137E,RF-3107,  1,     -9,      -9,5,20080127,0120, 30.9682, 137.0103, 4240,      0.0,  19.6687,  34.7813,2,   -999.0,9,-999.0000,9,    221.7,2,     2.42,2,  -999.00,9,     0.48,2,     0.19,2,     0.03,2, -999.000,9, -999.000,9,  -999.00,9,   1986.0,2,   -999.0,9,   8.0493,2,     25.0, TS,  -999.00,9,   -999.0,  -999.00,9,  -999.00,9,     0.26,2,     0.15,2,   -999.0,-999.0000, -999,9,    0,  19.6686,  24.6817,   -999.0,9
       RF08-01,  137E,RF-3107,  1,     21,02-18575,2,20080127,0137, 30.9682, 137.0103, 4240,     12.1,  19.6774,  34.7812,2,   -999.0,9,  34.7810,2,    222.4,2,     2.43,2,  -999.00,9,     0.44,2,     0.20,2,     0.02,2, -999.000,9, -999.000,9,  -999.00,9,   -999.0,9,   -999.0,9,-999.0000,9,   -999.0,  9,  -999.00,9,   -999.0,  -999.00,9,  -999.00,9,     0.26,2,     0.15,2,   -999.0,-999.0000, -999,9,   12,  19.6752,  24.6799,   -999.0,9
       RF08-01,  137E,RF-3107,  1,     20,02-18574,2,20080127,0135, 30.9682, 137.0103, 4240,     25.6,  19.6893,  34.7808,2,   -999.0,9,-999.0000,9,    222.5,2,     2.38,2,  -999.00,9,     0.44,2,     0.20,2,     0.02,2, -999.000,9, -999.000,9,  -999.00,9,   -999.0,9,   -999.0,9,-999.0000,9,   -999.0,  9,  -999.00,9,   -999.0,  -999.00,9,  -999.00,9,     0.27,2,     0.15,2,   -999.0,-999.0000, -999,9,   25,  19.6846,  24.6772,   -999.0,9
       RF08-01,  137E,RF-3107,  1,     19,02-18573,2,20080127,0134, 30.9682, 137.0103, 4240,     52.2,  19.6948,  34.7807,2,   -999.0,9,-999.0000,9,    222.1,2,     2.33,2,  -999.00,9,     0.45,2,     0.19,2,     0.02,2, -999.000,9, -999.000,9,  -999.00,9,   -999.0,9,   -999.0,9,-999.0000,9,   -999.0,  9,  -999.00,9,   -999.0,  -999.00,9,  -999.00,9,     0.24,2,     0.15,2,   -999.0,-999.0000, -999,9,   52,  19.6853,  24.6769,   -999.0,9
       RF08-01,  137E,RF-3107,  1,     18,02-18572,2,20080127,0133, 30.9682, 137.0103, 4240,     76.5,  19.7007,  34.7808,2,   -999.0,9,-999.0000,9,    222.3,2,     2.24,2,  -999.00,9,     0.46,2,     0.19,2,     0.03,2, -999.000,9, -999.000,9,  -999.00,9,   -999.0,9,   -999.0,9,-999.0000,9,   -999.0,  9,  -999.00,9,   -999.0,  -999.00,9,  -999.00,9,     0.26,2,     0.15,2,   -999.0,-999.0000, -999,9,   76,  19.6867,  24.6766,   -999.0,9
       RF08-01,  137E,RF-3107,  1,     17,02-18571,2,20080127,0131, 30.9682, 137.0103, 4240,    102.2,  19.7003,  34.7811,2,   -999.0,9,  34.7807,2,    221.7,2,     2.29,2,  -999.00,9,     0.47,2,     0.19,2,     0.03,2, -999.000,9, -999.000,9,  -999.00,9,   -999.0,9,   -999.0,9,-999.0000,9,   -999.0,  9,  -999.00,9,   -999.0,  -999.00,9,  -999.00,9,     0.24,2,     0.15,2,   -999.0,-999.0000, -999,9,  101,  19.6817,  24.6782,   -999.0,9
       RF08-01,  137E,RF-3107,  1,     16,02-18570,2,20080127,0130, 30.9682, 137.0103, 4240,    127.9,  19.6922,  34.7821,2,   -999.0,9,-999.0000,9,    220.4,2,     2.30,2,  -999.00,9,     0.59,2,     0.18,2,     0.03,2, -999.000,9, -999.000,9,  -999.00,9,   -999.0,9,   -999.0,9,-999.0000,9,   -999.0,  9,  -999.00,9,   -999.0,  -999.00,9,  -999.00,9,     0.17,2,     0.11,2,   -999.0,-999.0000, -999,9,  127,  19.6689,  24.6823,   -999.0,9
       RF08-01,  137E,RF-3107,  1,     15,02-18569,2,20080127,0129, 30.9682, 137.0103, 4240,    153.7,  19.5428,  34.7947,2,   -999.0,9,-999.0000,9,    212.4,2,     2.58,2,  -999.00,9,     1.39,2,     0.06,2,     0.07,2, -999.000,9, -999.000,9,  -999.00,9,   -999.0,9,   -999.0,9,-999.0000,9,   -999.0,  9,  -999.00,9,   -999.0,  -999.00,9,  -999.00,9,     0.04,2,     0.04,2,   -999.0,-999.0000, -999,9,  153,  19.5149,  24.7319,   -999.0,9
       RF08-01,  137E,RF-3107,  1,     14,02-18568,2,20080127,0127, 30.9682, 137.0103, 4240,    201.5,  19.2109,  34.8104,2,   -999.0,9,  34.8111,2,    207.9,2,     2.86,2,  -999.00,9,     2.17,2,     0.01,2,     0.13,2, -999.000,9, -999.000,9,  -999.00,9,   -999.0,9,   -999.0,9,-999.0000,9,   -999.0,  9,  -999.00,9,   -999.0,  -999.00,9,  -999.00,9,     0.00,2,     0.02,2,   -999.0,-999.0000, -999,9,  200,  19.1747,  24.8316,   -999.0,9
       RF08-01,  137E,RF-3107,  1,     13,02-18567,2,20080127,0125, 30.9682, 137.0103, 4240,    252.3,  19.0133,  34.8160,2,   -999.0,9,-999.0000,9,    208.7,2,     2.87,2,  -999.00,9,     2.27,2,     0.01,2,     0.13,2, -999.000,9, -999.000,9,  -999.00,9,   -999.0,9,   -999.0,9,-999.0000,9,   -999.0,  9,  -999.00,9,   -999.0,  -999.00,9,  -999.00,9,  -999.00,9,  -999.00,9,   -999.0,-999.0000, -999,9,  250,  18.9683,  24.8886,   -999.0,9
       RF08-01,  137E,RF-3107,  1,     12,02-18348,2,20080127,0123, 30.9682, 137.0103, 4240,    304.2,  18.7790,  34.8268,2,   -999.0,9,  34.8268,2,    204.8,2,     3.26,2,  -999.00,9,     3.01,2,     0.00,2,     0.16,2, -999.000,9, -999.000,9,  -999.00,9,   -999.0,9,   -999.0,9,-999.0000,9,   -999.0,  9,  -999.00,9,   -999.0,  -999.00,9,  -999.00,9,  -999.00,9,  -999.00,9,   -999.0,-999.0000, -999,9,  302,  18.7251,  24.9585,   -999.0,9
       RF08-01,  137E,RF-3107,  1,     11,02-18565,2,20080127,0120, 30.9682, 137.0103, 4240,    405.0,  17.8851,  34.8122,2,   -999.0,9,  34.8127,2,    203.2,2,     4.42,2,  -999.00,9,     4.50,2,     0.00,2,     0.24,2, -999.000,9, -999.000,9,  -999.00,9,   -999.0,9,   -999.0,9,-999.0000,9,   -999.0,  9,  -999.00,9,   -999.0,  -999.00,9,  -999.00,9,  -999.00,9,  -999.00,9,   -999.0,-999.0000, -999,9,  402,  17.8156,  25.1735,   -999.0,9
       RF08-01,  137E,RF-3107,  1,     10,02-18564,2,20080127,0117, 30.9682, 137.0103, 4240,    508.1,  16.9492,  34.7492,2,   -999.0,9,-999.0000,9,    202.6,2,     6.18,2,  -999.00,9,     6.04,2,     0.00,2,     0.34,2, -999.000,9, -999.000,9,  -999.00,9,   -999.0,9,   -999.0,9,-999.0000,9,   -999.0,  9,  -999.00,9,   -999.0,  -999.00,9,  -999.00,9,  -999.00,9,  -999.00,9,   -999.0,-999.0000, -999,9,  504,  16.8650,  25.3537,   -999.0,9
       RF08-01,  137E,RF-3107,  1,      9,02-18563,2,20080127,0114, 30.9682, 137.0103, 4240,    606.9,  14.8931,  34.5890,2,   -999.0,9,  34.5907,2,    184.5,2,    12.91,2,  -999.00,9,    10.93,2,     0.00,2,     0.67,2, -999.000,9, -999.000,9,  -999.00,9,   -999.0,9,   -999.0,9,-999.0000,9,   -999.0,  9,  -999.00,9,   -999.0,  -999.00,9,  -999.00,9,  -999.00,9,  -999.00,9,   -999.0,-999.0000, -999,9,  602,  14.8008,  25.6985,   -999.0,9
       RF08-01,  137E,RF-3107,  1,      8,02-18562,2,20080127,0110, 30.9682, 137.0103, 4240,    706.5,  11.8966,  34.3809,2,   -999.0,9,-999.0000,9,    171.4,2,    26.10,2,  -999.00,9,    17.22,2,     0.00,2,     1.12,2, -999.000,9, -999.000,9,  -999.00,9,   -999.0,9,   -999.0,9,-999.0000,9,   -999.0,  9,  -999.00,9,   -999.0,  -999.00,9,  -999.00,9,  -999.00,9,  -999.00,9,   -999.0,-999.0000, -999,9,  700,  11.8036,  26.1454,   -999.0,9
       RF08-01,  137E,RF-3107,  1,      7,02-18561,2,20080127,0107, 30.9682, 137.0103, 4240,    808.4,   8.7625,  34.2036,2,   -999.0,9,  34.2046,2,    149.7,2,    46.91,2,  -999.00,9,    24.52,2,     0.00,2,     1.67,2, -999.000,9, -999.000,9,  -999.00,9,   -999.0,9,   -999.0,9,-999.0000,9,   -999.0,  9,  -999.00,9,   -999.0,  -999.00,9,  -999.00,9,  -999.00,9,  -999.00,9,   -999.0,-999.0000, -999,9,  801,   8.6739,  26.5458,   -999.0,9
       RF08-01,  137E,RF-3107,  1,      6,02-18560,2,20080127,0104, 30.9682, 137.0103, 4240,    909.3,   6.6800,  34.1742,2,   -999.0,9,-999.0000,9,    113.4,2,    71.47,2,  -999.00,9,    31.34,2,     0.00,2,     2.18,2, -999.000,9, -999.000,9,  -999.00,9,   -999.0,9,   -999.0,9,-999.0000,9,   -999.0,  9,  -999.00,9,   -999.0,  -999.00,9,  -999.00,9,  -999.00,9,  -999.00,9,   -999.0,-999.0000, -999,9,  901,   6.5938,  26.8232,   -999.0,9
       RF08-01,  137E,RF-3107,  1,      5,02-18559,2,20080127,0101, 30.9682, 137.0103, 4240,   1013.5,   5.5509,  34.2295,2,   -999.0,9,  34.2290,2,     86.8,2,    90.07,2,  -999.00,9,    35.34,2,     0.00,2,     2.49,2, -999.000,9, -999.000,9,  -999.00,9,   -999.0,9,   -999.0,9,-999.0000,9,   -999.0,  9,  -999.00,9,   -999.0,  -999.00,9,  -999.00,9,  -999.00,9,  -999.00,9,   -999.0,-999.0000, -999,9, 1004,   5.4626,  27.0100,   -999.0,9
       RF08-01,  137E,RF-3107,  1,      4,02-18558,2,20080127,0054, 30.9682, 137.0103, 4240,   1263.8,   3.7374,  34.3955,2,   -999.0,9,  34.3950,2,     62.7,2,   123.99,2,  -999.00,9,    39.73,2,     0.00,2,     2.82,2, -999.000,9, -999.000,9,  -999.00,9,   -999.0,9,   -999.0,9,-999.0000,9,   -999.0,  9,  -999.00,9,   -999.0,  -999.00,9,  -999.00,9,  -999.00,9,  -999.00,9,   -999.0,-999.0000, -999,9, 1251,   3.6421,  27.3415,   -999.0,9
       RF08-01,  137E,RF-3107,  1,      3,02-18557,2,20080127,0049, 30.9682, 137.0103, 4240,   1516.9,   2.8988,  34.4881,2,   -999.0,9,  34.4885,2,     70.7,2,   137.90,2,  -999.00,9,    40.13,2,     0.00,2,     2.84,2, -999.000,9, -999.000,9,  -999.00,9,   -999.0,9,   -999.0,9,-999.0000,9,   -999.0,  9,  -999.00,9,   -999.0,  -999.00,9,  -999.00,9,  -999.00,9,  -999.00,9,   -999.0,-999.0000, -999,9, 1501,   2.7910,  27.4953,   -999.0,9
       RF08-01,  137E,RF-3107,  1,      2,02-18556,2,20080127,0043, 30.9682, 137.0103, 4240,   1767.2,   2.4401,  34.5433,2,   -999.0,9,  34.5421,2,     81.8,2,   144.25,2,  -999.00,9,    39.95,2,     0.00,2,     2.81,2, -999.000,9, -999.000,9,  -999.00,9,   -999.0,9,   -999.0,9,-999.0000,9,   -999.0,  9,  -999.00,9,   -999.0,  -999.00,9,  -999.00,9,  -999.00,9,  -999.00,9,   -999.0,-999.0000, -999,9, 1748,   2.3171,  27.5801,   -999.0,9
       RF08-01,  137E,RF-3107,  1,      1,02-18555,2,20080127,0038, 30.9682, 137.0103, 4240,   2024.2,   2.1590,  34.5849,2,   -999.0,9,  34.5849,2,     99.6,2,   144.92,2,  -999.00,9,    38.96,2,     0.00,2,     2.72,2, -999.000,9, -999.000,9,  -999.00,9,   -999.0,9,   -999.0,9,-999.0000,9,   -999.0,  9,  -999.00,9,   -999.0,  -999.00,9,  -999.00,9,  -999.00,9,  -999.00,9,   -999.0,-999.0000, -999,9, 2001,   2.0182,  27.6376,   -999.0,9