BOTTLE,20091206MIRCJHATS
EXPOCODE,STNNBR,CASTNO,SAMPNO,BTLNBR,BTLNBR_FLAG_W,DATE,TIME,LATITUDE,LONGITUDE,DEPTH,CTDPRS,CTDTMP,CTDSAL,CTDSAL_FLAG_W,SALNTY,SALNTY_FLAG_W,OXYGEN,OXYGEN_FLAG_W,NO2+NO3,NO2+NO3_FLAG_W,NITRIT,NITRIT_FLAG_W,SILCAT,SILCAT_FLAG_W,PHSPHT,PHSPHT_FLAG_W,PH,PH_FLAG_W,PH_SCALE,PH_SCALE_FLAG_W,ALKALI,ALKALI_FLAG_W,TCARBN,TCARBN_FLAG_W,CHLORA,CHLORA_FLAG_W
,,,,,,,,,,METERS,DBARS,IPTS68,,,,,UMOL/KG,,UMOL/KG,,UMOL/KG,,UMOL/KG,,UMOL/KG,,,,,,UMOL/KG,,UMOL/KG,,UG/KG,
  49WA19960516,    43,  1,      1,      1,2,19960525,1033, 37.0130, 151.9487, -999,   2001.1,   1.8756,  34.6067,2,  34.6056,2,     83.6,2,  -999.00,9,  -999.00,9,  -999.00,9,  -999.00,9,    7.451,1, TS,1,   2389.0,2,   2356.0,2,  -999.00,9
  49WA19960516,    43,  1,      2,      2,2,19960525,1033, 37.0130, 151.9487, -999,   1750.1,   2.0388,  34.5772,2,  34.5753,2,     69.8,2,  -999.00,9,  -999.00,9,  -999.00,9,  -999.00,9,    7.415,1, TS,1,   2383.0,2,   2362.0,2,  -999.00,9
  49WA19960516,    43,  1,      3,      3,2,19960525,1033, 37.0130, 151.9487, -999,   1500.1,   2.2587,  34.5347,2,  34.5353,2,     57.1,2,  -999.00,9,  -999.00,9,  -999.00,9,  -999.00,9,    7.391,1, TS,1,   2376.0,2,   2363.0,2,  -999.00,9
  49WA19960516,    43,  1,      4,      4,2,19960525,1033, 37.0130, 151.9487, -999,   1250.5,   2.5709,  34.4758,2,  34.4750,2,     45.2,2,  -999.00,9,  -999.00,9,  -999.00,9,  -999.00,9,    7.368,1, TS,1,   2366.0,2,   2361.0,2,  -999.00,9
  49WA19960516,    43,  1,      5,      5,2,19960525,1033, 37.0130, 151.9487, -999,   1000.4,   2.9953,  34.4004,2,  34.4002,2,     44.1,2,  -999.00,9,  -999.00,9,  -999.00,9,  -999.00,9,    7.355,1, TS,1,   2353.0,2,   2353.0,2,  -999.00,9
  49WA19960516,    43,  1,      6,      6,2,19960525,1033, 37.0130, 151.9487, -999,    900.4,   3.2237,  34.3572,2,  34.3558,2,     44.8,2,  -999.00,9,  -999.00,9,  -999.00,9,  -999.00,9,    7.349,1, TS,1,   2341.0,2,   2343.0,2,  -999.00,9
  49WA19960516,    43,  1,      7,      7,2,19960525,1033, 37.0130, 151.9487, -999,    800.3,   3.4398,  34.3128,2,  34.3121,2,     47.7,2,  -999.00,9,  -999.00,9,  -999.00,9,  -999.00,9,    7.355,1, TS,1,   2333.0,2,   2333.0,2,  -999.00,9
  49WA19960516,    43,  1,      8,      8,2,19960525,1033, 37.0130, 151.9487, -999,    700.0,   3.8285,  34.2685,2,  34.2695,2,     55.3,2,  -999.00,9,  -999.00,9,  -999.00,9,  -999.00,9,    7.372,1, TS,1,   2322.0,2,   2316.0,2,  -999.00,9
  49WA19960516,    43,  1,      9,      9,2,19960525,1033, 37.0130, 151.9487, -999,    600.2,   4.1284,  34.2022,2,  34.2028,2,     62.6,2,  -999.00,9,  -999.00,9,  -999.00,9,  -999.00,9,    7.389,1, TS,1,   2309.0,2,   2297.0,2,  -999.00,9
  49WA19960516,    43,  1,     10,     10,2,19960525,1033, 37.0130, 151.9487, -999,    500.9,   4.4863,  34.0803,2,  34.0770,2,     90.1,2,  -999.00,9,  -999.00,9,  -999.00,9,  -999.00,9,    7.424,1, TS,1,   2290.0,2,   2267.0,2,  -999.00,9
  49WA19960516,    43,  1,     12,     12,2,19960525,1033, 37.0130, 151.9487, -999,    400.0,   5.2252,  34.0043,2,  34.0082,2,    125.3,2,  -999.00,9,  -999.00,9,  -999.00,9,  -999.00,9,    7.504,1, TS,1,   2270.0,2,   2221.0,2,  -999.00,9
  49WA19960516,    43,  1,     24,     24,2,19960525,1033, 37.0130, 151.9487, -999,    380.0,   5.4587,  34.0001,2,  34.0031,2,    132.5,2,  -999.00,9,  -999.00,9,  -999.00,9,  -999.00,9,    7.529,1, TS,1,   2274.0,2,   2217.0,2,  -999.00,9
  49WA19960516,    43,  1,     13,     13,2,19960525,1033, 37.0130, 151.9487, -999,    300.7,   8.1179,  34.1947,2,  34.1948,2,    144.4,2,  -999.00,9,  -999.00,9,  -999.00,9,  -999.00,9,    7.641,1, TS,1,   2262.0,2,   2165.0,2,     0.03,2
  49WA19960516,    43,  1,     14,     14,2,19960525,1033, 37.0130, 151.9487, -999,    249.2,   8.8902,  34.1936,2,  34.1952,2,    173.7,2,  -999.00,9,  -999.00,9,  -999.00,9,  -999.00,9,    7.711,1, TS,1,   2253.0,2,   2130.0,2,     0.03,2
  49WA19960516,    43,  1,     15,     15,2,19960525,1033, 37.0130, 151.9487, -999,    200.6,   9.5943,  34.2143,2,  34.2148,2,    241.3,2,  -999.00,9,  -999.00,9,  -999.00,9,  -999.00,9,    7.827,1, TS,1,   2246.0,2,   2075.0,2,     0.04,2
  49WA19960516,    43,  1,     16,     16,2,19960525,1033, 37.0130, 151.9487, -999,    174.3,  10.0935,  34.2581,2,  34.2554,2,    249.6,2,  -999.00,9,  -999.00,9,  -999.00,9,  -999.00,9,    7.849,1, TS,1,   2243.0,2,   2063.0,2,     0.08,2
  49WA19960516,    43,  1,     17,     17,2,19960525,1033, 37.0130, 151.9487, -999,    149.4,  10.4871,  34.2869,2,  34.2878,2,    228.1,2,  -999.00,9,  -999.00,9,  -999.00,9,  -999.00,9,    7.828,1, TS,1,   2248.0,2,   2076.0,2,     0.08,2
  49WA19960516,    43,  1,     18,     18,2,19960525,1033, 37.0130, 151.9487, -999,    125.7,  10.8536,  34.3169,2,  34.3225,2,    238.0,2,  -999.00,9,  -999.00,9,  -999.00,9,  -999.00,9,    7.849,1, TS,1,   2248.0,2,   2067.0,2,     0.08,2
  49WA19960516,    43,  1,     19,     19,2,19960525,1033, 37.0130, 151.9487, -999,    100.1,  11.4624,  34.3790,2,  34.3743,2,    234.0,2,  -999.00,9,  -999.00,9,  -999.00,9,  -999.00,9,    7.861,1, TS,1,   2251.0,2,   2065.0,2,     0.08,2
  49WA19960516,    43,  1,     20,     20,2,19960525,1033, 37.0130, 151.9487, -999,     75.2,  12.4128,  34.4848,2,  34.4887,2,    215.4,2,  -999.00,9,  -999.00,9,  -999.00,9,  -999.00,9,    7.866,1, TS,1,   2256.0,2,   2066.0,2,     0.07,2
  49WA19960516,    43,  1,     21,     21,2,19960525,1033, 37.0130, 151.9487, -999,     49.8,  13.3698,  34.5434,2,  34.5474,2,    232.7,2,  -999.00,9,  -999.00,9,  -999.00,9,  -999.00,9,    7.913,1, TS,1,   2258.0,2,   2045.0,2,     0.12,2
  49WA19960516,    43,  1,     22,     22,2,19960525,1033, 37.0130, 151.9487, -999,     30.2,  15.2659,  34.6967,2,  34.7077,3,    248.5,2,  -999.00,9,  -999.00,9,  -999.00,9,  -999.00,9,    7.992,1, TS,1,   2264.0,2,   2010.0,2,     0.36,2
  49WA19960516,    43,  1,     23,     23,2,19960525,1033, 37.0130, 151.9487, -999,      9.7,  16.7415,  34.7157,2,  34.7172,2,    239.6,2,  -999.00,9,  -999.00,9,  -999.00,9,  -999.00,9,    8.016,1, TS,1,   2262.0,2,   1996.0,2,     0.72,2
  49WA19960516,    42,  1,      1,      1,2,19960525,1928, 36.6413, 152.0378, -999,   2008.4,   1.8828,  34.6058,2,  34.6052,2,     84.3,2,    41.16,2,     0.07,2,  -999.00,9,     2.87,2,    7.452,1, TS,1,   2356.0,2,   2322.0,2,  -999.00,9
  49WA19960516,    42,  1,      2,      2,2,19960525,1928, 36.6413, 152.0378, -999,   1751.3,   2.0639,  34.5731,2,  34.5728,2,     68.6,2,  -999.00,9,     0.06,2,  -999.00,9,     2.82,2,    7.418,1, TS,1,   2351.0,2,   2329.0,2,  -999.00,9
  49WA19960516,    42,  1,      3,      3,2,19960525,1928, 36.6413, 152.0378, -999,   1501.2,   2.2646,  34.5339,2,  34.5270,2,     54.5,2,    41.19,2,     0.02,2,  -999.00,9,     3.05,2,    7.387,1, TS,1,   2344.0,2,   2333.0,2,  -999.00,9
  49WA19960516,    42,  1,      4,      4,2,19960525,1928, 36.6413, 152.0378, -999,   1249.4,   2.5728,  34.4762,2,  34.4765,2,     44.1,2,    42.96,2,    -0.01,3,  -999.00,9,     3.10,2,    7.377,1, TS,1,   2333.0,2,   2325.0,2,  -999.00,9
  49WA19960516,    42,  1,      5,      5,2,19960525,1928, 36.6413, 152.0378, -999,   1000.5,   3.0538,  34.3977,2,  34.3974,2,     47.8,2,    39.93,2,     0.06,2,  -999.00,9,     3.06,2,    7.367,1, TS,1,   2314.0,2,   2309.0,2,  -999.00,9
  49WA19960516,    42,  1,      6,      6,2,19960525,1928, 36.6413, 152.0378, -999,    899.3,   3.2939,  34.3618,2,  34.3623,2,     47.4,2,    42.51,2,     0.02,2,  -999.00,9,     3.00,2,    7.365,1, TS,1,   2304.0,2,   2300.0,2,  -999.00,9
  49WA19960516,    42,  1,      7,      7,2,19960525,1928, 36.6413, 152.0378, -999,    801.1,   3.5548,  34.3200,2,  34.3184,2,     51.9,2,    41.89,2,     0.03,2,  -999.00,9,     2.99,2,    7.374,1, TS,1,   2298.0,2,   2291.0,2,  -999.00,9
  49WA19960516,    42,  1,      8,      8,2,19960525,1928, 36.6413, 152.0378, -999,    701.9,   3.8825,  34.2606,2,  34.2693,3,     57.0,2,    40.59,2,     0.05,2,  -999.00,9,     2.90,2,    7.381,1, TS,1,   2285.0,2,   2276.0,2,  -999.00,9
  49WA19960516,    42,  1,      9,      9,2,19960525,1928, 36.6413, 152.0378, -999,    601.1,   4.2620,  34.1711,2,  34.1701,2,     68.9,2,    39.35,2,     0.01,2,  -999.00,9,     2.83,2,    7.388,1, TS,1,   2264.0,2,   2253.0,2,  -999.00,9
  49WA19960516,    42,  1,     10,     10,2,19960525,1928, 36.6413, 152.0378, -999,    501.0,   4.8362,  34.1222,2,  34.1178,2,     89.6,2,    36.58,2,     0.00,2,  -999.00,9,     2.65,2,    7.440,1, TS,1,   2250.0,2,   2222.0,2,  -999.00,9
  49WA19960516,    42,  1,     12,     12,2,19960525,1928, 36.6413, 152.0378, -999,    400.9,   4.7361,  33.9322,2,  33.9330,2,    129.3,2,    33.56,2,     0.02,2,  -999.00,9,     2.45,2,    7.487,1, TS,1,   2225.0,2,   2182.0,2,  -999.00,9
  49WA19960516,    42,  1,     24,     24,2,19960525,1928, 36.6413, 152.0378, -999,    330.7,   7.0792,  34.1685,2,  34.1515,3,    132.0,2,    28.98,2,     0.04,2,  -999.00,9,     2.11,2,    7.593,1, TS,1,   2233.0,2,   2153.0,2,  -999.00,9
  49WA19960516,    42,  1,     13,     13,2,19960525,1928, 36.6413, 152.0378, -999,    301.3,   6.0710,  33.9005,2,  33.8987,2,    178.4,2,    26.96,2,     0.04,2,  -999.00,9,     1.98,2,    7.617,1, TS,1,   2208.0,2,   2121.0,2,     0.03,2
  49WA19960516,    42,  1,     14,     14,2,19960525,1928, 36.6413, 152.0378, -999,    251.4,   8.0005,  34.1030,2,  34.1140,3,    170.3,2,    23.77,2,     0.03,2,  -999.00,9,     1.72,2,    7.683,1, TS,1,   2213.0,2,   2102.0,2,     0.02,2
  49WA19960516,    42,  1,     15,     15,2,19960525,1928, 36.6413, 152.0378, -999,    201.2,   8.0449,  34.0108,2,  34.0125,2,    260.3,2,    15.14,2,     0.06,2,  -999.00,9,     1.15,2,    7.814,1, TS,1,   2199.0,2,   2037.0,2,     0.03,2
  49WA19960516,    42,  1,     16,     16,2,19960525,1928, 36.6413, 152.0378, -999,    175.3,   8.6741,  34.1057,2,  34.1097,2,    263.2,2,    14.24,2,     0.04,2,  -999.00,9,     1.08,2,    7.832,1, TS,1,   2199.0,2,   2029.0,2,     0.03,2
  49WA19960516,    42,  1,     17,     17,2,19960525,1928, 36.6413, 152.0378, -999,    150.8,   9.0637,  34.1644,2,  34.1699,2,    263.5,2,    13.17,2,     0.07,2,  -999.00,9,     1.01,2,    7.846,1, TS,1,   2197.0,2,   2021.0,2,     0.03,2
  49WA19960516,    42,  1,     18,     18,2,19960525,1928, 36.6413, 152.0378, -999,    126.1,   9.4416,  34.2143,2,  34.2142,2,    266.7,2,    12.77,2,     0.01,2,  -999.00,9,     0.95,2,    7.860,1, TS,1,   2197.0,2,   2015.0,2,     0.04,2
  49WA19960516,    42,  1,     19,     19,2,19960525,1928, 36.6413, 152.0378, -999,    100.1,  10.0841,  34.2569,2,  34.2813,3,    259.3,2,    11.87,2,     0.17,2,  -999.00,9,     0.89,2,    7.868,1, TS,1,   2201.0,2,   2014.0,2,     0.05,2
  49WA19960516,    42,  1,     20,     20,2,19960525,1928, 36.6413, 152.0378, -999,     76.0,  10.5627,  34.2836,2,  34.2844,2,    266.3,2,    10.42,2,     0.37,2,  -999.00,9,     0.82,2,    7.886,1, TS,1,   2206.0,2,   2011.0,2,     0.08,2
  49WA19960516,    42,  1,     21,     21,2,19960525,1928, 36.6413, 152.0378, -999,     50.9,  10.9620,  34.3114,2,  34.3084,2,    266.4,2,     9.72,2,     0.32,2,  -999.00,9,     0.80,2,    7.895,1, TS,1,   2204.0,2,   2006.0,2,     0.18,2
  49WA19960516,    42,  1,     22,     22,2,19960525,1928, 36.6413, 152.0378, -999,     30.8,  11.5899,  34.2892,2,  34.3091,3,    279.5,2,     8.05,2,     0.22,2,  -999.00,9,     0.65,2,    7.928,1, TS,1,   2208.0,2,   1994.0,2,     0.35,2
  49WA19960516,    42,  1,     23,     23,2,19960525,1928, 36.6413, 152.0378, -999,     10.4,  15.3165,  34.5591,2,  34.5653,3,    261.1,2,     3.13,2,     0.16,2,  -999.00,9,     0.27,2,    8.009,1, TS,1,   2215.0,2,   1957.0,2,     0.84,2
  49WA19960516,    41,  1,      1,      1,2,19960526,0043, 36.3447, 151.9870, -999,   2000.4,   1.9188,  34.5997,2,  34.5997,2,     81.9,2,    40.81,2,     0.21,2,  -999.00,9,     2.85,2,    7.448,1, TS,1,   2385.0,2,   2352.0,2,  -999.00,9
  49WA19960516,    41,  1,      2,      2,2,19960526,0043, 36.3447, 151.9870, -999,   1750.4,   2.1187,  34.5606,2,  34.5610,2,     61.1,2,    41.80,2,     0.19,2,  -999.00,9,     2.91,2,    7.405,1, TS,1,   2379.0,2,   2362.0,2,  -999.00,9
  49WA19960516,    41,  1,      3,      3,2,19960526,0043, 36.3447, 151.9870, -999,   1501.0,   2.3387,  34.5202,2,  34.5201,2,     51.4,2,    42.55,2,     0.18,2,  -999.00,9,     2.97,2,    7.387,1, TS,1,   2374.0,2,   2363.0,2,  -999.00,9
  49WA19960516,    41,  1,      4,      4,2,19960526,0043, 36.3447, 151.9870, -999,   1250.2,   2.6724,  34.4593,2,  34.4595,2,     43.1,2,    42.66,2,     0.21,2,  -999.00,9,     2.96,2,    7.368,1, TS,1,   2361.0,2,   2356.0,2,  -999.00,9
  49WA19960516,    41,  1,      5,      5,2,19960526,0043, 36.3447, 151.9870, -999,    999.4,   3.1704,  34.3780,2,  34.3776,2,     44.0,2,    41.04,2,     0.20,2,  -999.00,9,     2.97,2,    7.365,1, TS,1,   2344.0,2,   2340.0,2,  -999.00,9
  49WA19960516,    41,  1,      6,      6,2,19960526,0043, 36.3447, 151.9870, -999,    900.7,   3.3483,  34.3323,2,  34.3321,2,     45.7,2,    41.88,2,     0.20,2,  -999.00,9,     2.94,2,    7.366,1, TS,1,   2335.0,2,   2331.0,2,  -999.00,9
  49WA19960516,    41,  1,      7,      7,2,19960526,0043, 36.3447, 151.9870, -999,    800.2,   3.7196,  34.2708,2,  34.2740,2,     50.3,2,    40.82,2,     0.21,2,  -999.00,9,     2.92,2,    7.374,1, TS,1,   2321.0,2,   2315.0,2,  -999.00,9
  49WA19960516,    41,  1,      8,      8,2,19960526,0043, 36.3447, 151.9870, -999,    700.1,   4.1398,  34.1976,2,  34.1981,2,     63.0,2,    39.28,2,     0.18,2,  -999.00,9,     2.77,2,    7.387,1, TS,1,   2307.0,2,   2296.0,2,  -999.00,9
  49WA19960516,    41,  1,      9,      9,2,19960526,0043, 36.3447, 151.9870, -999,    600.5,   4.2928,  34.0857,2,  34.0864,2,     80.8,2,    37.94,2,     0.22,2,  -999.00,9,     2.65,2,    7.403,1, TS,1,   2288.0,2,   2272.0,2,  -999.00,9
  49WA19960516,    41,  1,     10,     10,2,19960526,0043, 36.3447, 151.9870, -999,    500.5,   5.0394,  34.0329,2,  34.0290,2,    113.2,2,    33.91,2,     0.18,2,  -999.00,9,     2.39,2,    7.481,1, TS,1,   2275.0,2,   2233.0,2,  -999.00,9
  49WA19960516,    41,  1,     24,     24,2,19960526,0043, 36.3447, 151.9870, -999,    444.6,   4.8350,  33.8655,2,  33.8676,2,    152.9,2,    32.18,2,     0.19,2,  -999.00,9,     2.20,2,    7.519,1, TS,1,   2262.0,2,   2208.0,2,  -999.00,9
  49WA19960516,    41,  1,     13,     13,2,19960526,0043, 36.3447, 151.9870, -999,    299.7,   7.8340,  33.9859,2,  33.9661,3,    233.1,2,    18.57,2,     0.21,2,  -999.00,9,     1.31,2,    7.758,1, TS,1,   2239.0,2,   2099.0,2,     0.02,2
  49WA19960516,    41,  1,     14,     14,2,19960526,0043, 36.3447, 151.9870, -999,    249.4,   9.1745,  34.1638,2,  34.1666,2,    264.6,2,    13.04,2,     0.23,2,  -999.00,9,     0.94,2,    7.841,1, TS,1,   2240.0,2,   2065.0,2,     0.02,2
  49WA19960516,    41,  1,     15,     15,2,19960526,0043, 36.3447, 151.9870, -999,    200.2,  10.7404,  34.3240,2,  34.3148,3,    267.7,2,    10.03,2,     0.44,2,  -999.00,9,     0.77,2,    7.884,1, TS,1,   2248.0,2,   2052.0,2,     0.03,2
  49WA19960516,    41,  1,     16,     16,2,19960526,0043, 36.3447, 151.9870, -999,    174.7,  11.0459,  34.2850,2,  34.2883,2,    273.6,2,     9.07,2,     0.43,2,  -999.00,9,     0.71,2,    7.895,1, TS,1,   2247.0,2,   2045.0,2,     0.03,2
  49WA19960516,    41,  1,     17,     17,2,19960526,0043, 36.3447, 151.9870, -999,    150.2,  12.3608,  34.4780,2,  34.4789,2,    205.7,2,    13.13,2,     0.24,2,  -999.00,9,     0.89,2,    7.855,1, TS,1,   2258.0,2,   2073.0,2,     0.04,2
  49WA19960516,    41,  1,     18,     18,2,19960526,0043, 36.3447, 151.9870, -999,    125.2,  13.3865,  34.5577,2,  34.5580,2,    209.8,2,    11.27,2,     0.22,2,  -999.00,9,     0.76,2,    7.889,1, TS,1,   2254.0,2,   2054.0,2,     0.04,2
  49WA19960516,    41,  1,     19,     19,2,19960526,0043, 36.3447, 151.9870, -999,    100.5,  14.4163,  34.5885,2,  34.5891,2,    192.7,2,    11.01,2,     0.22,2,  -999.00,9,     0.76,2,    7.894,1, TS,1,   2254.0,2,   2051.0,2,     0.09,2
  49WA19960516,    41,  1,     20,     20,2,19960526,0043, 36.3447, 151.9870, -999,     74.7,  15.3381,  34.6384,2,  34.6390,2,    191.1,2,    10.00,2,     0.26,2,  -999.00,9,     0.70,2,    7.911,1, TS,1,   2256.0,2,   2044.0,2,     0.12,2
  49WA19960516,    41,  1,     21,     21,2,19960526,0043, 36.3447, 151.9870, -999,     50.1,  16.1288,  34.6555,2,  34.6574,2,    201.2,2,     7.47,2,     0.33,2,  -999.00,9,     0.52,2,    7.948,1, TS,1,   2256.0,2,   2026.0,2,     0.11,2
  49WA19960516,    41,  1,     22,     22,2,19960526,0043, 36.3447, 151.9870, -999,     30.1,  17.3944,  34.7317,2,  34.7331,2,    230.0,2,     2.78,2,     0.52,2,  -999.00,9,     0.23,2,    8.018,1, TS,1,   2261.0,2,   1993.0,2,     0.73,2
  49WA19960516,    41,  1,     23,     23,2,19960526,0043, 36.3447, 151.9870, -999,      9.9,  17.5684,  34.7053,2,  34.7054,2,    239.7,2,     1.15,2,     0.34,2,  -999.00,9,     0.14,2,    8.037,1, TS,1,   2259.0,2,   1981.0,2,     0.95,2