BOTTLE,20091206MIRCJHATS
EXPOCODE,STNNBR,CASTNO,SAMPNO,BTLNBR,BTLNBR_FLAG_W,DATE,TIME,LATITUDE,LONGITUDE,DEPTH,CTDPRS,CTDTMP,CTDSAL,CTDSAL_FLAG_W,SALNTY,SALNTY_FLAG_W,OXYGEN,OXYGEN_FLAG_W,NO2+NO3,NO2+NO3_FLAG_W,NITRIT,NITRIT_FLAG_W,SILCAT,SILCAT_FLAG_W,PHSPHT,PHSPHT_FLAG_W,PH,PH_FLAG_W,PH_SCALE,PH_SCALE_FLAG_W,ALKALI,ALKALI_FLAG_W,TCARBN,TCARBN_FLAG_W,CHLORA,CHLORA_FLAG_W
,,,,,,,,,,METERS,DBARS,IPTS68,,,,,UMOL/KG,,UMOL/KG,,UMOL/KG,,UMOL/KG,,UMOL/KG,,,,,,UMOL/KG,,UMOL/KG,,UG/KG,
  49WA19960516,    14,  1,      1,      1,2,19960520,1223, 32.4982, 146.7470, -999,   2004.3,   1.9671,  34.5941,2,  34.5938,2,     78.8,2,    41.61,2,     0.01,2,  -999.00,9,     2.89,2,    7.439,1, TS,1,   2400.0,2,   2370.0,2,  -999.00,9
  49WA19960516,    14,  1,      2,      2,2,19960520,1223, 32.4982, 146.7470, -999,   1750.3,   2.1656,  34.5569,2,  34.5938,3,     62.1,2,    42.28,2,    -0.00,3,  -999.00,9,     2.97,2,    7.404,1, TS,1,   2397.0,2,   2379.0,2,  -999.00,9
  49WA19960516,    14,  1,      3,      3,2,19960520,1223, 32.4982, 146.7470, -999,   1500.9,   2.4628,  34.5011,2,  34.4995,2,     48.4,2,    43.49,2,     0.02,2,  -999.00,9,     3.05,2,    7.371,1, TS,1,   2385.0,2,   2380.0,2,  -999.00,9
  49WA19960516,    14,  1,      4,      4,2,19960520,1223, 32.4982, 146.7470, -999,   1246.7,   2.9754,  34.4147,2,  34.4145,2,     47.6,2,    43.54,2,     0.04,2,  -999.00,9,     3.07,2,    7.356,1, TS,1,   2367.0,2,   2367.0,2,  -999.00,9
  49WA19960516,    14,  1,      5,      5,2,19960520,1223, 32.4982, 146.7470, -999,   1001.4,   3.7783,  34.2839,2,  34.2832,2,     55.0,2,    40.81,2,     0.03,2,  -999.00,9,     2.94,2,    7.375,1, TS,1,   2337.0,2,   2330.0,2,  -999.00,9
  49WA19960516,    14,  1,      6,      6,2,19960520,1223, 32.4982, 146.7470, -999,    901.8,   4.2496,  34.2060,2,  34.2048,2,     65.0,2,    39.56,2,     0.02,2,  -999.00,9,     2.80,2,    7.392,1, TS,1,   2320.0,2,   2307.0,2,  -999.00,9
  49WA19960516,    14,  1,      7,      7,2,19960520,1223, 32.4982, 146.7470, -999,    799.8,   4.8053,  34.1193,2,  34.1209,2,     93.0,2,    36.86,2,     0.04,2,  -999.00,9,     2.60,2,    7.438,1, TS,1,   2305.0,2,   2278.0,2,  -999.00,9
  49WA19960516,    14,  1,     24,     24,2,19960520,1223, 32.4982, 146.7470, -999,    717.4,   5.6073,  34.0530,2,  34.0533,2,     49.4,2,    32.18,2,     0.01,2,  -999.00,9,     2.30,2,    7.524,1, TS,1,   2284.0,2,   2228.0,2,  -999.00,9
  49WA19960516,    14,  1,      8,      8,2,19960520,1223, 32.4982, 146.7470, -999,    699.8,   5.9175,  34.0502,2,  34.0501,2,     48.7,2,    31.02,2,     0.01,2,  -999.00,9,     2.19,2,    7.538,1, TS,1,   2283.0,2,   2222.0,2,  -999.00,9
  49WA19960516,    14,  1,      9,      9,2,19960520,1223, 32.4982, 146.7470, -999,    601.3,   8.4710,  34.1704,2,  34.1705,2,    161.9,2,    24.22,2,     0.02,2,  -999.00,9,     1.65,2,    7.665,1, TS,1,   2272.0,2,   2166.0,2,  -999.00,9
  49WA19960516,    14,  1,     10,     10,2,19960520,1223, 32.4982, 146.7470, -999,    500.5,  11.5554,  34.3742,2,  34.3751,2,    184.0,2,    16.09,2,     0.01,2,  -999.00,9,     1.05,2,    7.794,1, TS,1,   2266.0,2,   2108.0,2,  -999.00,9
  49WA19960516,    14,  1,     12,     12,2,19960520,1223, 32.4982, 146.7470, -999,    397.9,  14.4535,  34.5927,2,  34.5987,3,    190.2,2,    10.79,2,     0.03,2,  -999.00,9,     0.67,2,    7.886,1, TS,1,   2267.0,2,   2067.0,2,  -999.00,9
  49WA19960516,    14,  1,     13,     13,2,19960520,1223, 32.4982, 146.7470, -999,    299.4,  16.8519,  34.8371,2,  34.8369,2,    229.6,2,     3.54,2,     0.03,2,  -999.00,9,     0.21,2,    8.002,1, TS,1,   2268.0,2,   2008.0,2,     0.02,2
  49WA19960516,    14,  1,     14,     14,2,19960520,1223, 32.4982, 146.7470, -999,    250.5,  16.9780,  34.8404,2,  34.8391,2,    233.4,2,     3.43,2,    -0.02,3,  -999.00,9,     0.19,2,    8.005,1, TS,1,   2274.0,2,   2011.0,2,     0.01,2
  49WA19960516,    14,  1,     15,     15,2,19960520,1223, 32.4982, 146.7470, -999,    199.9,  17.0873,  34.8476,2,  34.8465,2,    227.7,2,     3.60,2,     0.01,2,  -999.00,9,     0.18,2,    8.009,1, TS,1,   2271.0,2,   2007.0,2,     0.00,2
  49WA19960516,    14,  1,     16,     16,2,19960520,1223, 32.4982, 146.7470, -999,    175.1,  17.1860,  34.8505,2,  34.8491,2,    226.7,2,     3.10,2,     0.03,2,  -999.00,9,     0.17,2,    8.007,1, TS,1,   2268.0,2,   2005.0,2,     0.00,2
  49WA19960516,    14,  1,     17,     17,2,19960520,1223, 32.4982, 146.7470, -999,    149.2,  17.3153,  34.8560,2,  34.8556,2,    223.6,2,     3.15,2,     0.03,2,  -999.00,9,     0.16,2,    8.007,1, TS,1,   2276.0,2,   2013.0,2,     0.00,2
  49WA19960516,    14,  1,     18,     18,2,19960520,1223, 32.4982, 146.7470, -999,    122.9,  17.4953,  34.8654,2,  34.8652,2,    224.7,2,     3.12,2,     0.03,2,  -999.00,9,     0.15,2,    8.007,1, TS,1,   2270.0,2,   2007.0,2,     0.01,2
  49WA19960516,    14,  1,     19,     19,2,19960520,1223, 32.4982, 146.7470, -999,     97.1,  17.7549,  34.8814,2,  34.8829,2,    223.1,2,     2.59,2,     0.05,2,  -999.00,9,     0.12,2,    8.017,1, TS,1,   2273.0,2,   2004.0,2,     0.04,2
  49WA19960516,    14,  1,     20,     20,2,19960520,1223, 32.4982, 146.7470, -999,     74.4,  17.9954,  34.9038,2,  34.9028,2,    224.4,2,     2.22,2,    -0.01,3,  -999.00,9,     0.09,2,    8.022,1, TS,1,   2275.0,2,   2002.0,2,     0.15,2
  49WA19960516,    14,  1,     21,     21,2,19960520,1223, 32.4982, 146.7470, -999,     50.4,  18.4836,  34.8596,2,  34.8585,2,    237.7,2,    -0.04,3,    -0.01,3,  -999.00,9,    -0.00,3,    8.054,1, TS,1,   2273.0,2,   1983.0,2,     0.45,2
  49WA19960516,    14,  1,     22,     22,2,19960520,1223, 32.4982, 146.7470, -999,     29.2,  18.5114,  34.8594,2,  34.8578,2,    237.6,2,     0.03,2,     0.06,2,  -999.00,9,    -0.03,3,    8.051,1, TS,1,   2270.0,2,   1982.0,2,     0.39,2
  49WA19960516,    14,  1,     23,     23,2,19960520,1223, 32.4982, 146.7470, -999,      9.3,  18.5596,  34.8597,2,  34.8597,2,    238.4,2,    -0.13,3,     0.03,2,  -999.00,9,    -0.01,3,    8.049,1, TS,1,   2272.0,2,   1984.0,2,     0.34,2
  49WA19960516,    15,  1,      1,      1,2,19960520,1717, 32.9995, 146.7518, -999,   2001.6,   1.9241,  34.6042,2,  34.6001,2,     85.5,2,    41.33,2,     0.01,2,  -999.00,9,     2.87,2,    7.475,1, TS,1,   2413.0,2,   2371.0,2,  -999.00,9
  49WA19960516,    15,  1,      2,      2,2,19960520,1717, 32.9995, 146.7518, -999,   1750.2,   2.1120,  34.5674,2,  34.5661,2,     66.5,2,    42.05,2,     0.01,2,  -999.00,9,     2.99,2,    7.404,1, TS,1,   2408.0,2,   2391.0,2,  -999.00,9
  49WA19960516,    15,  1,      3,      3,2,19960520,1717, 32.9995, 146.7518, -999,   1499.4,   2.3909,  34.5158,2,  34.5137,2,     50.8,2,    43.19,2,     0.04,2,  -999.00,9,     3.07,2,    7.373,1, TS,1,   2393.0,2,   2387.0,2,  -999.00,9
  49WA19960516,    15,  1,      4,      4,2,19960520,1717, 32.9995, 146.7518, -999,   1250.2,   2.8234,  34.4413,2,  34.4398,2,     45.6,2,    42.12,2,     0.00,2,  -999.00,9,     3.07,2,    7.359,1, TS,1,   2385.0,2,   2383.0,2,  -999.00,9
  49WA19960516,    15,  1,      5,      5,2,19960520,1717, 32.9995, 146.7518, -999,    999.2,   3.4945,  34.3469,2,  34.3464,2,     51.2,2,    41.31,2,     0.01,2,  -999.00,9,     2.97,2,    7.376,1, TS,1,   2360.0,2,   2353.0,2,  -999.00,9
  49WA19960516,    15,  1,      6,      6,2,19960520,1717, 32.9995, 146.7518, -999,    898.5,   3.8323,  34.2379,2,  34.2362,2,     53.6,2,    41.28,2,    -0.01,3,  -999.00,9,     2.95,2,    7.360,1, TS,1,   2341.0,2,   2340.0,2,  -999.00,9
  49WA19960516,    15,  1,      7,      7,2,19960520,1717, 32.9995, 146.7518, -999,    801.4,   5.0679,  34.2212,2,  34.2299,3,     82.1,2,    36.67,2,     0.02,2,  -999.00,9,     2.64,2,    7.448,1, TS,1,   2328.0,2,   2297.0,2,  -999.00,9
  49WA19960516,    15,  1,     13,     13,2,19960520,1717, 32.9995, 146.7518, -999,    743.8,   4.3773,  34.0509,2,  34.0492,2,     89.3,2,    37.60,2,     0.02,2,  -999.00,9,     2.71,2,    7.416,1, TS,1,   -999.0,9,   -999.0,9,  -999.00,9
  49WA19960516,    15,  1,      8,      8,2,19960520,1717, 32.9995, 146.7518, -999,    703.3,   5.1929,  34.1024,2,  34.1268,3,    103.4,2,    34.31,2,     0.01,2,  -999.00,9,     2.50,2,    7.481,1, TS,1,   2311.0,2,   2269.0,2,  -999.00,9
  49WA19960516,    15,  1,     14,     14,2,19960520,1717, 32.9995, 146.7518, -999,    648.5,   5.3954,  33.9552,2,  33.9583,2,    143.6,2,    31.29,2,     0.03,2,  -999.00,9,     2.26,2,    7.532,1, TS,1,   2292.0,2,   2233.0,2,  -999.00,9
  49WA19960516,    15,  1,      9,      9,2,19960520,1717, 32.9995, 146.7518, -999,    600.6,   6.8414,  34.1021,2,  34.1025,2,    141.2,2,    28.45,2,     0.01,2,  -999.00,9,     2.02,2,    7.584,1, TS,1,   2288.0,2,   2211.0,2,  -999.00,9
  49WA19960516,    15,  1,     24,     24,2,19960520,1717, 32.9995, 146.7518, -999,    534.8,   6.7158,  33.8179,2,  33.8208,2,    239.7,2,    18.21,2,     0.06,2,  -999.00,9,     1.30,2,    7.735,1, TS,1,   2265.0,2,   2134.0,2,  -999.00,9
  49WA19960516,    15,  1,     10,     10,2,19960520,1717, 32.9995, 146.7518, -999,    500.4,   8.5694,  34.0433,2,  34.0533,3,    246.7,2,    10.92,2,     0.03,2,  -999.00,9,     0.75,2,    7.811,1, TS,1,   2271.0,2,   2107.0,2,  -999.00,9
  49WA19960516,    15,  1,     12,     12,2,19960520,1717, 32.9995, 146.7518, -999,    349.9,  13.8776,  34.5644,2,  34.5698,2,    191.5,2,    12.01,2,     0.04,2,  -999.00,9,     0.79,2,    7.867,1, TS,1,   2285.0,2,   2092.0,2,     0.01,2
  49WA19960516,    15,  1,     15,     15,2,19960520,1717, 32.9995, 146.7518, -999,    198.2,  17.6031,  34.8430,2,  34.8414,2,    205.6,2,     4.51,2,     0.05,2,  -999.00,9,     0.26,2,    7.991,1, TS,1,   2286.0,2,   2030.0,2,     0.02,2
  49WA19960516,    15,  1,     16,     16,2,19960520,1717, 32.9995, 146.7518, -999,    173.4,  18.0377,  34.8668,2,  34.8705,2,    212.5,2,     3.41,2,     0.04,2,  -999.00,9,     0.19,2,    8.006,1, TS,1,   2289.0,2,   2024.0,2,     0.02,2
  49WA19960516,    15,  1,     17,     17,2,19960520,1717, 32.9995, 146.7518, -999,    149.3,  18.2620,  34.8713,2,  34.8672,2,    214.2,2,     2.94,2,     0.04,2,  -999.00,9,     0.15,2,    8.011,1, TS,1,   2289.0,2,   2022.0,2,     0.03,2
  49WA19960516,    15,  1,     18,     18,2,19960520,1717, 32.9995, 146.7518, -999,    124.0,  18.5478,  34.8733,2,  34.8725,2,    211.1,2,     2.66,2,     0.06,2,  -999.00,9,     0.16,2,    8.017,1, TS,1,   2286.0,2,   2016.0,2,     0.06,2
  49WA19960516,    15,  1,     19,     19,2,19960520,1717, 32.9995, 146.7518, -999,     99.5,  19.3881,  34.8556,2,  34.8566,2,    222.4,2,     1.11,2,     0.12,2,  -999.00,9,     0.05,2,    8.046,1, TS,1,   2288.0,2,   2001.0,2,     0.22,2
  49WA19960516,    15,  1,     20,     20,2,19960520,1717, 32.9995, 146.7518, -999,     73.9,  19.5915,  34.8555,2,  34.8536,2,    227.5,2,     0.23,2,     0.09,2,  -999.00,9,     0.02,2,    8.059,1, TS,1,   2289.0,2,   1995.0,2,     0.37,2
  49WA19960516,    15,  1,     21,     21,2,19960520,1717, 32.9995, 146.7518, -999,     48.6,  19.6125,  34.8547,2,  34.8530,2,    227.2,2,     0.05,2,     0.05,2,  -999.00,9,     0.01,2,    8.058,1, TS,1,   2285.0,2,   1992.0,2,     0.48,2
  49WA19960516,    15,  1,     22,     22,2,19960520,1717, 32.9995, 146.7518, -999,     29.1,  19.6517,  34.8544,2,  34.8523,2,    230.1,2,     0.18,2,     0.02,2,  -999.00,9,     0.01,2,    8.060,1, TS,1,   2288.0,2,   1993.0,2,     0.53,2
  49WA19960516,    15,  1,     23,     23,2,19960520,1717, 32.9995, 146.7518, -999,      8.7,  19.6449,  34.8549,2,  34.8517,2,    229.2,2,    -0.02,3,     0.04,2,  -999.00,9,    -0.02,3,    8.056,1, TS,1,   2288.0,2,   1996.0,2,     0.51,2
  49WA19960516,    16,  1,      1,      1,2,19960521,0003, 33.3340, 146.7602, -999,   2000.4,   1.8835,  34.6082,2,  34.6069,2,     90.8,2,    39.90,2,    -0.20,3,  -999.00,9,     2.89,2,    7.451,1, TS,1,   2405.0,2,   2371.0,2,  -999.00,9
  49WA19960516,    16,  1,      2,      2,2,19960521,0003, 33.3340, 146.7602, -999,   1751.9,   2.0812,  34.5707,2,  34.5737,2,     67.4,2,    41.42,2,    -0.19,3,  -999.00,9,     3.01,2,    7.414,1, TS,1,   2402.0,2,   2382.0,2,  -999.00,9
  49WA19960516,    16,  1,      3,      3,2,19960521,0003, 33.3340, 146.7602, -999,   1500.7,   2.3152,  34.5269,2,  34.5262,2,   -999.0,9,    42.35,2,    -0.14,3,  -999.00,9,     3.06,2,    7.369,1, TS,1,   2397.0,2,   2391.0,2,  -999.00,9
  49WA19960516,    16,  1,      4,      4,2,19960521,0003, 33.3340, 146.7602, -999,   1251.1,   2.6089,  34.4721,2,  34.4718,2,     46.2,2,    42.39,2,    -0.17,3,  -999.00,9,     3.10,2,    7.361,1, TS,1,   2384.0,2,   2381.0,2,  -999.00,9
  49WA19960516,    16,  1,      5,      5,2,19960521,0003, 33.3340, 146.7602, -999,   1000.8,   3.2460,  34.4009,2,  34.3990,2,     52.0,2,    41.06,2,    -0.19,3,  -999.00,9,     3.00,2,    7.383,1, TS,1,   2366.0,2,   2356.0,2,  -999.00,9
  49WA19960516,    16,  1,      6,      6,2,19960521,0003, 33.3340, 146.7602, -999,    903.8,   3.7198,  34.3674,2,  34.3651,2,     62.3,2,    39.91,2,    -0.17,3,  -999.00,9,     2.94,2,    7.400,1, TS,1,   2358.0,2,   2342.0,2,  -999.00,9
  49WA19960516,    16,  1,      7,      7,2,19960521,0003, 33.3340, 146.7602, -999,    798.8,   4.0044,  34.2868,2,  34.2858,2,     63.3,2,    38.52,2,    -0.20,3,  -999.00,9,     2.87,2,    7.388,1, TS,1,   2343.0,2,   2331.0,2,  -999.00,9
  49WA19960516,    16,  1,      8,      8,2,19960521,0003, 33.3340, 146.7602, -999,    701.4,   4.4304,  34.2339,2,  34.2326,2,     73.9,2,    38.07,2,    -0.09,3,  -999.00,9,     2.80,2,    7.407,1, TS,1,   2336.0,2,   2318.0,2,  -999.00,9
  49WA19960516,    16,  1,      9,      9,2,19960521,0003, 33.3340, 146.7602, -999,    601.7,   4.9773,  34.1862,2,  34.2142,3,     86.6,2,    34.77,2,    -0.09,3,  -999.00,9,     2.59,2,    7.458,1, TS,1,   2318.0,2,   2284.0,2,  -999.00,9
  49WA19960516,    16,  1,     24,     24,2,19960521,0003, 33.3340, 146.7602, -999,    543.7,   3.1878,  33.7851,2,  33.7803,2,    109.2,2,    37.34,2,    -0.12,3,  -999.00,9,     2.79,2,    7.367,1, TS,1,   2294.0,2,   2290.0,2,  -999.00,9
  49WA19960516,    16,  1,     10,     10,2,19960521,0003, 33.3340, 146.7602, -999,    499.0,   5.4947,  34.0292,2,  34.0337,2,    123.0,2,    29.78,2,    -0.07,3,  -999.00,9,     2.07,2,    7.502,1, TS,1,   2296.0,2,   2247.0,2,  -999.00,9
  49WA19960516,    16,  1,     12,     12,2,19960521,0003, 33.3340, 146.7602, -999,    399.1,   9.4554,  34.3035,2,  34.3027,2,    148.0,2,    22.50,2,    -0.11,3,  -999.00,9,     1.58,2,    7.684,1, TS,1,   2287.0,2,   2173.0,2,  -999.00,9
  49WA19960516,    16,  1,     13,     13,2,19960521,0003, 33.3340, 146.7602, -999,    302.4,  11.8635,  34.4255,2,  34.4253,2,    169.3,2,    16.90,2,    -0.20,3,  -999.00,9,     1.19,2,    7.786,1, TS,1,   2280.0,2,   2125.0,2,     0.00,2
  49WA19960516,    16,  1,     14,     14,2,19960521,0003, 33.3340, 146.7602, -999,    247.5,  13.7737,  34.5377,2,  34.5390,2,    181.1,2,    12.49,2,    -0.19,3,  -999.00,9,     0.87,2,    7.911,1, TS,1,   2277.0,2,   2064.0,2,     0.00,2
  49WA19960516,    16,  1,     15,     15,2,19960521,0003, 33.3340, 146.7602, -999,    199.1,  15.4394,  34.6526,2,  34.6551,2,    190.6,2,     9.27,2,    -0.17,3,  -999.00,9,     0.66,2,    7.911,1, TS,1,   2281.0,2,   2067.0,2,     0.01,2
  49WA19960516,    16,  1,     16,     16,2,19960521,0003, 33.3340, 146.7602, -999,    175.1,  15.8813,  34.6727,2,  34.6700,2,    199.1,2,     7.63,2,    -0.05,3,  -999.00,9,     0.55,2,    7.937,1, TS,1,   2277.0,2,   2051.0,2,     0.03,2
  49WA19960516,    16,  1,     17,     17,2,19960521,0003, 33.3340, 146.7602, -999,    151.8,  16.8372,  34.7020,2,  34.7449,3,    216.3,2,     4.19,2,     0.12,2,  -999.00,9,     0.30,2,    7.990,1, TS,1,   2281.0,2,   2027.0,2,     0.11,2
  49WA19960516,    16,  1,     18,     18,2,19960521,0003, 33.3340, 146.7602, -999,    121.2,  18.0298,  34.8597,2,  34.8611,2,    210.0,2,     4.13,2,     0.13,2,  -999.00,9,     0.31,2,    8.005,1, TS,1,   2282.0,2,   2019.0,2,     0.08,2
  49WA19960516,    16,  1,     19,     19,2,19960521,0003, 33.3340, 146.7602, -999,     99.6,  18.2380,  34.8610,2,  34.8609,2,    210.8,2,     3.29,2,    -0.16,3,  -999.00,9,     0.23,2,    8.008,1, TS,1,   2285.0,2,   2020.0,2,     0.09,2
  49WA19960516,    16,  1,     20,     20,2,19960521,0003, 33.3340, 146.7602, -999,     73.6,  18.7780,  34.8758,2,  34.8755,2,    216.9,2,     3.05,2,     0.05,2,  -999.00,9,     0.21,2,    8.027,1, TS,1,   2286.0,2,   2010.0,2,     0.16,2
  49WA19960516,    16,  1,     21,     21,2,19960521,0003, 33.3340, 146.7602, -999,     49.7,  19.5755,  34.8550,2,  34.8507,2,    216.9,2,     1.39,2,     0.17,2,  -999.00,9,     0.10,2,    8.039,1, TS,1,   2287.0,2,   2005.0,2,     0.22,2
  49WA19960516,    16,  1,     22,     22,2,19960521,0003, 33.3340, 146.7602, -999,     28.5,  19.7769,  34.8633,2,  34.8619,2,    228.0,2,    -0.05,3,    -0.00,3,  -999.00,9,     0.03,2,    8.066,1, TS,1,   2284.0,2,   1986.0,2,     0.51,2
  49WA19960516,    16,  1,     23,     23,2,19960521,0003, 33.3340, 146.7602, -999,      8.8,  19.9031,  34.8621,2,  34.8603,2,    229.0,2,    -0.07,3,     0.01,2,  -999.00,9,     0.05,2,    8.066,1, TS,1,   2286.0,2,   1988.0,2,     0.46,2