BOTTLE,20091206MIRCJHATS
EXPOCODE,STNNBR,CASTNO,SAMPNO,BTLNBR,BTLNBR_FLAG_W,DATE,TIME,LATITUDE,LONGITUDE,DEPTH,CTDPRS,CTDTMP,CTDSAL,CTDSAL_FLAG_W,SALNTY,SALNTY_FLAG_W,OXYGEN,OXYGEN_FLAG_W,NO2+NO3,NO2+NO3_FLAG_W,NITRIT,NITRIT_FLAG_W,SILCAT,SILCAT_FLAG_W,PHSPHT,PHSPHT_FLAG_W,PH,PH_FLAG_W,PH_SCALE,PH_SCALE_FLAG_W,ALKALI,ALKALI_FLAG_W,TCARBN,TCARBN_FLAG_W,CHLORA,CHLORA_FLAG_W
,,,,,,,,,,METERS,DBARS,IPTS68,,,,,UMOL/KG,,UMOL/KG,,UMOL/KG,,UMOL/KG,,UMOL/KG,,,,,,UMOL/KG,,UMOL/KG,,UG/KG,
  49WA19960516,    23,  1,      1,      1,2,19960522,1952, 36.0005, 146.7540, -999,   2000.8,   1.9457,  34.5955,2,  34.5940,2,     78.1,2,    41.74,2,     0.15,2,  -999.00,9,     2.88,2,    7.431,1, TS,1,   2386.0,2,   2359.0,2,  -999.00,9
  49WA19960516,    23,  1,      2,      2,2,19960522,1952, 36.0005, 146.7540, -999,   1750.3,   2.0951,  34.5656,2,  34.5645,2,     66.3,2,    43.44,2,     0.09,2,  -999.00,9,     2.94,2,    7.395,1, TS,1,   2382.0,2,   2367.0,2,  -999.00,9
  49WA19960516,    23,  1,      3,      3,2,19960522,1952, 36.0005, 146.7540, -999,   1501.7,   2.3015,  34.5293,2,  34.5262,2,     55.4,2,    43.71,2,     0.04,2,  -999.00,9,     3.02,2,    7.372,1, TS,1,   2372.0,2,   2365.0,2,  -999.00,9
  49WA19960516,    23,  1,      4,      4,2,19960522,1952, 36.0005, 146.7540, -999,   1250.5,   2.5765,  34.4676,2,  34.4634,2,     46.0,2,    43.83,2,     0.09,2,  -999.00,9,     3.02,2,    7.355,1, TS,1,   2364.0,2,   2364.0,2,  -999.00,9
  49WA19960516,    23,  1,      5,      5,2,19960522,1952, 36.0005, 146.7540, -999,   1000.9,   3.0951,  34.4001,2,  34.3984,2,     49.0,2,    43.34,2,     0.08,2,  -999.00,9,     2.99,2,    7.365,1, TS,1,   -999.0,9,   -999.0,9,  -999.00,9
  49WA19960516,    23,  1,      6,      6,2,19960522,1952, 36.0005, 146.7540, -999,    901.0,   3.3175,  34.3608,2,  34.3592,2,     48.4,2,    42.60,2,     0.12,2,  -999.00,9,     3.02,2,    7.358,1, TS,1,   2337.0,2,   2335.0,2,  -999.00,9
  49WA19960516,    23,  1,      7,      7,2,19960522,1952, 36.0005, 146.7540, -999,    800.7,   3.6006,  34.3149,2,  34.3142,2,     51.7,2,    42.92,2,     0.03,2,  -999.00,9,     2.90,2,    7.361,1, TS,1,   2328.0,2,   2326.0,2,  -999.00,9
  49WA19960516,    23,  1,      8,      8,2,19960522,1952, 36.0005, 146.7540, -999,    700.1,   3.9724,  34.2570,2,  34.2546,2,     58.0,2,    40.91,2,     0.09,2,  -999.00,9,     2.84,2,    7.383,1, TS,1,   2316.0,2,   2306.0,2,  -999.00,9
  49WA19960516,    23,  1,      9,      9,2,19960522,1952, 36.0005, 146.7540, -999,    600.2,   4.1984,  34.1643,2,  34.1650,2,     66.6,2,    39.92,2,     0.06,2,  -999.00,9,     2.81,2,    7.382,1, TS,1,   2299.0,2,   2290.0,2,  -999.00,9
  49WA19960516,    23,  1,     10,     10,2,19960522,1952, 36.0005, 146.7540, -999,    500.3,   5.3354,  34.1714,2,  34.1697,2,     94.9,2,    35.92,2,     0.14,2,  -999.00,9,     2.50,2,    7.472,1, TS,1,   2290.0,2,   2251.0,2,  -999.00,9
  49WA19960516,    23,  1,     12,     12,2,19960522,1952, 36.0005, 146.7540, -999,    400.6,   5.6997,  33.9898,2,  33.9894,2,    141.6,2,    31.76,2,     0.10,2,  -999.00,9,     2.20,2,    7.538,1, TS,1,   2265.0,2,   2204.0,2,  -999.00,9
  49WA19960516,    23,  1,     13,     13,2,19960522,1952, 36.0005, 146.7540, -999,    300.6,   6.8602,  33.9507,2,  33.9485,2,    185.1,2,    25.24,2,     0.07,2,  -999.00,9,     1.76,2,    7.651,1, TS,1,   2247.0,2,   2148.0,2,     0.02,2
  49WA19960516,    23,  1,     24,     24,2,19960522,1952, 36.0005, 146.7540, -999,    280.0,   7.1504,  33.9495,2,  33.9506,2,    198.4,2,    23.15,2,     0.13,2,  -999.00,9,     1.65,2,    7.686,1, TS,1,   2246.0,2,   2133.0,2,  -999.00,9
  49WA19960516,    23,  1,     14,     14,2,19960522,1952, 36.0005, 146.7540, -999,    249.6,   8.1472,  34.0305,2,  34.0278,2,    214.0,2,    19.46,2,     0.12,2,  -999.00,9,     1.38,2,    7.738,1, TS,1,   2239.0,2,   2107.0,2,     0.02,2
  49WA19960516,    23,  1,     15,     15,2,19960522,1952, 36.0005, 146.7540, -999,    200.3,   9.2608,  34.1585,2,  34.1515,3,    221.5,2,    16.85,2,     0.10,2,  -999.00,9,     1.19,2,    7.787,1, TS,1,   2240.0,2,   2088.0,2,     0.02,2
  49WA19960516,    23,  1,     16,     16,2,19960522,1952, 36.0005, 146.7540, -999,    175.3,  10.3693,  34.2489,2,  34.2315,3,    213.4,2,    15.96,2,     0.18,2,  -999.00,9,     1.13,2,    7.804,1, TS,1,   2242.0,2,   2082.0,2,     0.03,2
  49WA19960516,    23,  1,     17,     17,2,19960522,1952, 36.0005, 146.7540, -999,    149.4,  11.6474,  34.3968,2,  34.3825,3,    208.2,2,    14.63,2,     0.14,2,  -999.00,9,     1.02,2,    7.829,1, TS,1,   2244.0,2,   2072.0,2,     0.03,2
  49WA19960516,    23,  1,     18,     18,2,19960522,1952, 36.0005, 146.7540, -999,    125.4,  12.6216,  34.4860,2,  34.4879,2,    221.4,2,    11.81,2,     0.26,2,  -999.00,9,     0.80,2,    7.874,1, TS,1,   2246.0,2,   2053.0,2,     0.04,2
  49WA19960516,    23,  1,     19,     19,2,19960522,1952, 36.0005, 146.7540, -999,    100.1,  13.4521,  34.5552,2,  34.5567,2,    221.3,2,    10.53,2,     0.19,2,  -999.00,9,     0.72,2,    7.896,1, TS,1,   2250.0,2,   2046.0,2,     0.06,2
  49WA19960516,    23,  1,     20,     20,2,19960522,1952, 36.0005, 146.7540, -999,     75.3,  14.3516,  34.6039,2,  34.6073,2,    217.8,2,     9.31,2,     0.39,2,  -999.00,9,     0.64,2,    7.913,1, TS,1,   2251.0,2,   2039.0,2,     0.07,2
  49WA19960516,    23,  1,     21,     21,2,19960522,1952, 36.0005, 146.7540, -999,     49.6,  15.4025,  34.6341,2,  34.6335,2,    209.7,2,     8.28,2,     0.34,2,  -999.00,9,     0.60,2,    7.932,1, TS,1,   2251.0,2,   2030.0,2,     0.15,2
  49WA19960516,    23,  1,     22,     22,2,19960522,1952, 36.0005, 146.7540, -999,     30.0,  17.2068,  34.7215,2,  34.7233,2,    244.6,2,     0.93,2,     0.21,2,  -999.00,9,     0.17,2,    8.025,1, TS,1,   2261.0,2,   1990.0,2,     0.51,2
  49WA19960516,    23,  1,     23,     23,2,19960522,1952, 36.0005, 146.7540, -999,     10.1,  17.8501,  34.7616,2,  34.7624,2,    246.4,2,     0.16,2,     0.19,2,  -999.00,9,     0.10,2,    8.035,1, TS,1,   2258.0,2,   1981.0,2,     0.81,2
  49WA19960516,    24,  1,      1,      1,2,19960523,0005, 36.4963, 146.7527, -999,   2000.6,   1.9677,  34.5921,2,  34.5901,2,     76.6,2,    42.22,2,     0.06,2,  -999.00,9,     2.88,2,    7.428,1, TS,1,   2388.0,2,   2362.0,2,  -999.00,9
  49WA19960516,    24,  1,      2,      2,2,19960523,0005, 36.4963, 146.7527, -999,   1750.7,   2.1656,  34.5554,2,  34.5539,2,     60.0,2,    43.45,2,     0.08,2,  -999.00,9,     2.97,2,    7.395,1, TS,1,   2382.0,2,   2367.0,2,  -999.00,9
  49WA19960516,    24,  1,      3,      3,2,19960523,0005, 36.4963, 146.7527, -999,   1500.2,   2.3854,  34.5125,2,  34.5288,3,     55.2,2,    43.45,2,     0.09,2,  -999.00,9,     3.01,2,    7.370,1, TS,1,   2377.0,2,   2371.0,2,  -999.00,9
  49WA19960516,    24,  1,      4,      4,2,19960523,0005, 36.4963, 146.7527, -999,   1249.8,   2.6428,  34.4646,2,  34.4634,2,     44.2,2,    44.00,2,     0.04,2,  -999.00,9,     3.02,2,    7.349,1, TS,1,   2365.0,2,   2366.0,2,  -999.00,9
  49WA19960516,    24,  1,      5,      5,2,19960523,0005, 36.4963, 146.7527, -999,    999.9,   3.0896,  34.3879,2,  34.3967,3,     44.9,2,    43.64,2,     0.11,2,  -999.00,9,     2.98,2,    7.358,1, TS,1,   2348.0,2,   2346.0,2,  -999.00,9
  49WA19960516,    24,  1,      6,      6,2,19960523,0005, 36.4963, 146.7527, -999,    899.8,   3.3073,  34.3429,2,  34.3470,2,     45.5,2,    43.32,2,     0.10,2,  -999.00,9,     2.97,2,    7.344,1, TS,1,   2342.0,2,   2345.0,2,  -999.00,9
  49WA19960516,    24,  1,      7,      7,2,19960523,0005, 36.4963, 146.7527, -999,    799.6,   3.3191,  34.2544,2,  34.2542,2,     37.0,2,    44.15,2,     0.10,2,  -999.00,9,     3.08,2,    7.310,1, TS,1,   2331.0,2,   2346.0,2,  -999.00,9
  49WA19960516,    24,  1,      8,      8,2,19960523,0005, 36.4963, 146.7527, -999,    699.5,   3.3847,  34.1640,2,  34.1562,3,     34.8,2,    43.40,2,     0.08,2,  -999.00,9,     3.05,2,    7.288,1, TS,1,   2316.0,2,   2339.0,2,  -999.00,9
  49WA19960516,    24,  1,      9,      9,2,19960523,0005, 36.4963, 146.7527, -999,    599.8,   3.5985,  34.0673,2,  34.0770,3,     55.0,2,    42.37,2,     0.07,2,  -999.00,9,     2.98,2,    7.307,1, TS,1,   2299.0,2,   2315.0,2,  -999.00,9
  49WA19960516,    24,  1,     10,     10,2,19960523,0005, 36.4963, 146.7527, -999,    500.6,   4.2146,  34.0210,2,  34.0023,3,     90.4,2,    39.41,2,     0.07,2,  -999.00,9,     2.72,2,    7.382,1, TS,1,   2284.0,2,   2275.0,2,  -999.00,9
  49WA19960516,    24,  1,     12,     12,2,19960523,0005, 36.4963, 146.7527, -999,    400.2,   5.4849,  34.0177,2,  34.0182,2,    127.5,2,    32.92,2,     0.10,2,  -999.00,9,     2.34,2,    7.506,1, TS,1,   2272.0,2,   2223.0,2,  -999.00,9
  49WA19960516,    24,  1,     13,     13,2,19960523,0005, 36.4963, 146.7527, -999,    300.2,   6.1702,  33.8813,2,  33.8731,3,    190.3,2,    26.35,2,     0.14,2,  -999.00,9,     1.86,2,    7.623,1, TS,1,   2251.0,2,   2162.0,2,  -999.00,9
  49WA19960516,    24,  1,     24,     24,2,19960523,0005, 36.4963, 146.7527, -999,    273.4,   4.9034,  33.6124,2,  33.6136,2,    249.4,2,    21.68,2,     0.12,2,  -999.00,9,     1.59,2,    7.680,1, TS,1,   2243.0,2,   2134.0,2,     0.04,2
  49WA19960516,    24,  1,     14,     14,2,19960523,0005, 36.4963, 146.7527, -999,    249.7,   5.1277,  33.6178,2,  33.6175,2,    254.8,2,    20.52,2,     0.15,2,  -999.00,9,     1.54,2,    7.698,1, TS,1,   2231.0,2,   2116.0,2,     0.04,2
  49WA19960516,    24,  1,     15,     15,2,19960523,0005, 36.4963, 146.7527, -999,    199.6,   8.7110,  34.0622,2,  34.0229,3,    214.5,2,    18.85,2,     0.33,2,  -999.00,9,     1.35,2,    7.749,1, TS,1,   2250.0,2,   2113.0,2,     0.10,2
  49WA19960516,    24,  1,     16,     16,2,19960523,0005, 36.4963, 146.7527, -999,    174.5,   8.8968,  34.0070,2,  34.0153,3,    230.3,2,    15.02,2,     0.26,2,  -999.00,9,     1.17,2,    7.794,1, TS,1,   2247.0,2,   2092.0,2,     0.15,2
  49WA19960516,    24,  1,     17,     17,2,19960523,0005, 36.4963, 146.7527, -999,    150.0,   9.3342,  33.9785,2,  33.9896,3,    249.3,2,    12.45,2,     0.29,2,  -999.00,9,     1.04,2,    7.829,1, TS,1,   2250.0,2,   2080.0,2,     0.14,2
  49WA19960516,    24,  1,     18,     18,2,19960523,0005, 36.4963, 146.7527, -999,    125.5,  10.1465,  34.0505,2,  34.0648,3,    250.0,2,    10.75,2,     0.35,2,  -999.00,9,     0.93,2,    7.857,1, TS,1,   2252.0,2,   2069.0,2,     0.11,2
  49WA19960516,    24,  1,     19,     19,2,19960523,0005, 36.4963, 146.7527, -999,    100.0,  11.3260,  34.2207,2,  34.2160,2,   -999.0,9,     9.03,2,     0.36,2,  -999.00,9,     0.77,2,    7.889,1, TS,1,   2258.0,2,   2059.0,2,     0.20,2
  49WA19960516,    24,  1,     20,     20,2,19960523,0005, 36.4963, 146.7527, -999,     74.9,  12.5810,  34.3915,2,  34.3806,3,    256.5,2,     8.12,2,     0.40,2,  -999.00,9,     0.70,2,    7.909,1, TS,1,   2266.0,2,   2056.0,2,     0.19,2
  49WA19960516,    24,  1,     21,     21,2,19960523,0005, 36.4963, 146.7527, -999,     50.1,  13.6921,  34.4702,2,  34.4712,2,    253.5,2,     6.40,2,     0.35,2,  -999.00,9,     0.54,2,    7.937,1, TS,1,   2264.0,2,   2040.0,2,     0.23,2
  49WA19960516,    24,  1,     22,     22,2,19960523,0005, 36.4963, 146.7527, -999,     29.8,  14.7895,  34.5441,2,  34.5586,3,    248.8,2,     4.50,2,     0.28,2,  -999.00,9,     0.40,2,    7.971,1, TS,1,   2266.0,2,   2024.0,2,     0.47,2
  49WA19960516,    24,  1,     23,     23,2,19960523,0005, 36.4963, 146.7527, -999,     10.4,  16.6309,  34.6936,2,  34.6950,2,    257.7,2,     0.54,2,     0.20,2,  -999.00,9,     0.18,2,    8.029,1, TS,1,   2272.0,2,   1997.0,2,     0.83,2
  49WA19960516,    25,  1,      1,      1,2,19960523,0355, 37.0017, 146.7568, -999,   2002.2,   1.8929,  34.6041,2,  34.6038,2,   -999.0,9,    41.66,2,     0.12,2,  -999.00,9,     2.83,2,    7.443,1, TS,1,   2388.0,2,   2357.0,2,  -999.00,9
  49WA19960516,    25,  1,      2,      2,2,19960523,0355, 37.0017, 146.7568, -999,   1749.6,   2.0615,  34.5720,2,  34.5734,2,     68.0,2,    41.62,2,     0.04,2,  -999.00,9,     2.90,2,    7.403,1, TS,1,   2384.0,2,   2367.0,2,  -999.00,9
  49WA19960516,    25,  1,      3,      3,2,19960523,0355, 37.0017, 146.7568, -999,   1499.7,   2.2860,  34.5256,2,  34.5254,2,     53.7,2,    43.08,2,     0.05,2,  -999.00,9,     2.97,2,    7.373,1, TS,1,   2377.0,2,   2370.0,2,  -999.00,9
  49WA19960516,    25,  1,      4,      4,2,19960523,0355, 37.0017, 146.7568, -999,   1248.7,   2.5755,  34.4771,2,  34.4765,2,     48.6,2,    42.94,2,     0.06,2,  -999.00,9,     3.00,2,    7.359,1, TS,1,   2365.0,2,   2363.0,2,  -999.00,9
  49WA19960516,    25,  1,      5,      5,2,19960523,0355, 37.0017, 146.7568, -999,   1000.6,   3.0245,  34.4030,2,  34.4008,2,     46.0,2,    42.41,2,     0.08,2,  -999.00,9,     2.95,2,    7.363,1, TS,1,   2349.0,2,   2346.0,2,  -999.00,9
  49WA19960516,    25,  1,      6,      6,2,19960523,0355, 37.0017, 146.7568, -999,    899.4,   3.2218,  34.3690,2,  34.3656,2,     45.6,2,    42.10,2,     0.04,2,  -999.00,9,     2.97,2,    7.349,1, TS,1,   2342.0,2,   2343.0,2,  -999.00,9
  49WA19960516,    25,  1,      7,      7,2,19960523,0355, 37.0017, 146.7568, -999,    799.6,   3.4593,  34.3229,2,  34.3219,2,     48.9,2,    42.17,2,     0.08,2,  -999.00,9,     2.97,2,    7.350,1, TS,1,   2333.0,2,   2335.0,2,  -999.00,9
  49WA19960516,    25,  1,      8,      8,2,19960523,0355, 37.0017, 146.7568, -999,    699.6,   3.8127,  34.2899,2,  34.2899,2,     55.1,2,    40.82,2,     0.08,2,  -999.00,9,     2.88,2,    7.379,1, TS,1,   2326.0,2,   2318.0,2,  -999.00,9
  49WA19960516,    25,  1,      9,      9,2,19960523,0355, 37.0017, 146.7568, -999,    599.5,   4.3433,  34.2466,2,  34.2475,2,     68.3,2,    39.12,2,     0.09,2,  -999.00,9,     2.75,2,    7.399,1, TS,1,   2316.0,2,   2301.0,2,  -999.00,9
  49WA19960516,    25,  1,     10,     10,2,19960523,0355, 37.0017, 146.7568, -999,    499.8,   4.8265,  34.1935,2,  34.1932,2,     81.2,2,    36.48,2,     0.06,2,  -999.00,9,     2.61,2,    7.437,1, TS,1,   2301.0,2,   2274.0,2,  -999.00,9
  49WA19960516,    25,  1,     12,     12,2,19960523,0355, 37.0017, 146.7568, -999,    399.6,   4.2763,  33.9210,2,  33.9222,2,    113.2,2,    35.65,2,     0.04,2,  -999.00,9,     2.56,2,    7.425,1, TS,1,   2275.0,2,   2252.0,2,  -999.00,9
  49WA19960516,    25,  1,     24,     24,2,19960523,0355, 37.0017, 146.7568, -999,    332.5,   4.1459,  33.7556,2,  33.7507,2,    164.1,2,    31.99,2,     0.08,2,  -999.00,9,     2.30,2,    7.508,1, TS,1,   2258.0,2,   2209.0,2,  -999.00,9
  49WA19960516,    25,  1,     13,     13,2,19960523,0355, 37.0017, 146.7568, -999,    299.4,   4.9665,  33.7989,2,  33.7907,3,    174.7,2,    29.07,2,     0.10,2,  -999.00,9,     2.12,2,    7.553,1, TS,1,   2255.0,2,   2191.0,2,     0.02,2
  49WA19960516,    25,  1,     14,     14,2,19960523,0355, 37.0017, 146.7568, -999,    250.1,   4.7368,  33.6672,2,  33.6893,3,    213.3,2,    25.28,2,     0.05,2,  -999.00,9,     1.88,2,    7.614,1, TS,1,   2240.0,2,   2155.0,2,     0.02,2
  49WA19960516,    25,  1,     15,     15,2,19960523,0355, 37.0017, 146.7568, -999,    199.6,   6.1249,  33.7766,2,  33.7864,3,    222.4,2,    21.99,2,     0.03,2,  -999.00,9,     1.61,2,    7.686,1, TS,1,   2241.0,2,   2130.0,2,     0.03,2
  49WA19960516,    25,  1,     16,     16,2,19960523,0355, 37.0017, 146.7568, -999,    174.5,   7.2121,  33.9209,2,  33.8997,3,    213.7,2,    20.88,2,     0.09,2,  -999.00,9,     1.54,2,    7.703,1, TS,1,   2241.0,2,   2123.0,2,     0.04,2
  49WA19960516,    25,  1,     17,     17,2,19960523,0355, 37.0017, 146.7568, -999,    148.9,   7.9313,  33.9845,2,  34.0010,3,    217.3,2,    18.67,2,     0.11,2,  -999.00,9,     1.38,2,    7.742,1, TS,1,   2246.0,2,   2112.0,2,     0.04,2
  49WA19960516,    25,  1,     18,     18,2,19960523,0355, 37.0017, 146.7568, -999,    123.8,   7.9657,  33.9184,2,  33.9130,2,    250.1,2,    15.10,2,     0.29,2,  -999.00,9,     1.16,2,    7.792,1, TS,1,   2240.0,2,   2086.0,2,     0.05,2
  49WA19960516,    25,  1,     19,     19,2,19960523,0355, 37.0017, 146.7568, -999,     99.7,   7.6855,  33.7635,2,  33.7419,3,    277.9,2,    12.21,2,     0.30,2,  -999.00,9,     1.10,2,    7.826,1, TS,1,   2235.0,2,   2069.0,2,     0.08,2
  49WA19960516,    25,  1,     20,     20,2,19960523,0355, 37.0017, 146.7568, -999,     74.7,   9.8142,  33.9949,2,  33.9965,2,    261.0,2,    10.76,2,     0.35,2,  -999.00,9,     0.94,2,    7.860,1, TS,1,   2243.0,2,   2060.0,2,     0.16,2
  49WA19960516,    25,  1,     21,     21,2,19960523,0355, 37.0017, 146.7568, -999,     49.9,  12.2726,  34.2093,2,  34.2195,3,    269.4,2,     6.66,2,     0.26,2,  -999.00,9,     0.63,2,    7.928,1, TS,1,   2249.0,2,   2032.0,2,     0.28,2
  49WA19960516,    25,  1,     22,     22,2,19960523,0355, 37.0017, 146.7568, -999,     29.5,  13.3993,  34.3705,2,  34.3568,3,    266.0,2,     5.66,2,     0.26,2,  -999.00,9,     0.50,2,    7.945,1, TS,1,   2256.0,2,   2029.0,2,     0.55,2
  49WA19960516,    25,  1,     23,     23,2,19960523,0355, 37.0017, 146.7568, -999,     10.3,  16.1275,  34.6532,2,  34.6523,2,    255.0,2,     2.03,2,     0.20,2,  -999.00,9,     0.00,2,    8.005,1, TS,1,   2263.0,2,   2002.0,2,     0.76,2