BOTTLE,20091206MIRCJHATS
EXPOCODE,STNNBR,CASTNO,SAMPNO,BTLNBR,BTLNBR_FLAG_W,DATE,TIME,LATITUDE,LONGITUDE,DEPTH,CTDPRS,CTDTMP,CTDSAL,CTDSAL_FLAG_W,SALNTY,SALNTY_FLAG_W,OXYGEN,OXYGEN_FLAG_W,NO2+NO3,NO2+NO3_FLAG_W,NITRIT,NITRIT_FLAG_W,SILCAT,SILCAT_FLAG_W,PHSPHT,PHSPHT_FLAG_W,PH,PH_FLAG_W,PH_SCALE,PH_SCALE_FLAG_W,ALKALI,ALKALI_FLAG_W,TCARBN,TCARBN_FLAG_W,CHLORA,CHLORA_FLAG_W
,,,,,,,,,,METERS,DBARS,IPTS68,,,,,UMOL/KG,,UMOL/KG,,UMOL/KG,,UMOL/KG,,UMOL/KG,,,,,,UMOL/KG,,UMOL/KG,,UG/KG,
  49WA19960516,    29,  1,      1,      1,2,19960523,2154, 39.0078, 146.7633, -999,   2001.9,   1.9560,  34.5912,2,  34.5877,2,     74.7,2,    41.10,2,     0.03,2,  -999.00,9,     2.86,2,    7.426,1, TS,1,   2393.0,2,   2368.0,2,  -999.00,9
  49WA19960516,    29,  1,      2,      2,2,19960523,2154, 39.0078, 146.7633, -999,   1752.3,   2.1080,  34.5563,2,  34.5557,2,     62.0,2,    43.06,2,     0.02,2,  -999.00,9,     2.92,2,    7.400,1, TS,1,   2388.0,2,   2372.0,2,  -999.00,9
  49WA19960516,    29,  1,      3,      3,2,19960523,2154, 39.0078, 146.7633, -999,   1501.0,   2.2960,  34.5107,2,  34.5099,2,     49.5,2,    42.27,2,     0.03,2,  -999.00,9,     2.99,2,    7.375,1, TS,1,   2382.0,2,   2375.0,2,  -999.00,9
  49WA19960516,    29,  1,      4,      4,2,19960523,2154, 39.0078, 146.7633, -999,   1251.0,   2.4983,  34.4479,2,  34.4495,2,     37.3,2,    43.97,2,     0.02,2,  -999.00,9,     3.04,2,    7.355,1, TS,1,   2370.0,2,   2370.0,2,  -999.00,9
  49WA19960516,    29,  1,      5,      5,2,19960523,2154, 39.0078, 146.7633, -999,    999.6,   2.8392,  34.3557,2,  34.3578,2,     31.1,2,    44.15,2,     0.00,2,  -999.00,9,     3.04,2,    7.312,1, TS,1,   2357.0,2,   2371.0,2,  -999.00,9
  49WA19960516,    29,  1,      6,      6,2,19960523,2154, 39.0078, 146.7633, -999,    900.7,   3.1034,  34.3296,2,  34.3299,2,     37.8,2,    43.86,2,     0.04,2,  -999.00,9,     3.02,2,    7.311,1, TS,1,   2346.0,2,   2361.0,2,  -999.00,9
  49WA19960516,    29,  1,      7,      7,2,19960523,2154, 39.0078, 146.7633, -999,    800.7,   3.2553,  34.2736,2,  34.2725,2,     36.4,2,    41.76,2,     0.04,2,  -999.00,9,     3.01,2,    7.311,1, TS,1,   2335.0,2,   2350.0,2,  -999.00,9
  49WA19960516,    29,  1,      8,      8,2,19960523,2154, 39.0078, 146.7633, -999,    699.5,   3.8853,  34.2457,2,  34.2442,2,     55.7,2,    41.40,2,     0.03,2,  -999.00,9,     2.81,2,    7.360,1, TS,1,   2323.0,2,   2321.0,2,  -999.00,9
  49WA19960516,    29,  1,      9,      9,2,19960523,2154, 39.0078, 146.7633, -999,    600.3,   4.2019,  34.1663,2,  34.1668,2,     68.3,2,    40.06,2,     0.03,2,  -999.00,9,     2.78,2,    7.389,1, TS,1,   2310.0,2,   2298.0,2,  -999.00,9
  49WA19960516,    29,  1,     10,     10,2,19960523,2154, 39.0078, 146.7633, -999,    500.7,   4.7366,  34.0770,2,  34.0776,2,     96.1,2,    36.54,2,     0.00,2,  -999.00,9,     2.55,2,    7.442,1, TS,1,   2286.0,2,   2257.0,2,  -999.00,9
  49WA19960516,    29,  1,     12,     12,2,19960523,2154, 39.0078, 146.7633, -999,    399.9,   5.4387,  34.0113,2,  33.8948,3,    192.9,2,    32.51,2,     0.03,2,  -999.00,9,     2.28,2,    7.509,1, TS,1,   2272.0,2,   2221.0,2,  -999.00,9
  49WA19960516,    29,  1,     24,     24,2,19960523,2154, 39.0078, 146.7633, -999,    330.0,   6.3272,  34.0167,2,  34.0268,3,    149.1,2,    29.36,2,     0.02,2,  -999.00,9,     2.02,2,    7.576,1, TS,1,   2266.0,2,   2192.0,2,  -999.00,9
  49WA19960516,    29,  1,     13,     13,2,19960523,2154, 39.0078, 146.7633, -999,    300.5,   6.6876,  33.9240,2,  33.8934,3,    194.3,2,    24.26,2,     0.00,2,  -999.00,9,     1.71,2,    7.635,1, TS,1,   2250.0,2,   2157.0,2,     0.02,2
  49WA19960516,    29,  1,     14,     14,2,19960523,2154, 39.0078, 146.7633, -999,    249.9,   7.5045,  33.9796,2,  33.9786,2,    200.7,2,    21.22,2,     0.04,2,  -999.00,9,     1.52,2,    7.688,1, TS,1,   2250.0,2,   2137.0,2,     0.02,2
  49WA19960516,    29,  1,     15,     15,2,19960523,2154, 39.0078, 146.7633, -999,    200.8,   9.5647,  34.1792,2,  34.1834,2,    229.0,2,    15.30,2,     0.02,2,  -999.00,9,     1.02,2,    7.794,1, TS,1,   2248.0,2,   2092.0,2,     0.02,2
  49WA19960516,    29,  1,     16,     16,2,19960523,2154, 39.0078, 146.7633, -999,    175.4,   9.8277,  34.1828,2,  34.1877,2,    230.4,2,    14.54,2,     0.10,2,  -999.00,9,     0.99,2,    7.804,1, TS,1,   2249.0,2,   2089.0,2,     0.03,2
  49WA19960516,    29,  1,     17,     17,2,19960523,2154, 39.0078, 146.7633, -999,    150.4,  10.2089,  34.1054,2,  34.1242,3,    228.8,2,    13.81,2,     0.33,2,  -999.00,9,     1.02,2,    7.816,1, TS,1,   2246.0,2,   2081.0,2,     0.06,2
  49WA19960516,    29,  1,     18,     18,2,19960523,2154, 39.0078, 146.7633, -999,    124.7,   9.8215,  33.9534,2,  33.9555,2,    254.3,2,    11.19,2,     0.25,2,  -999.00,9,     0.95,2,    7.849,1, TS,1,   2243.0,2,   2065.0,2,     0.06,2
  49WA19960516,    29,  1,     19,     19,2,19960523,2154, 39.0078, 146.7633, -999,    100.5,  11.1445,  34.1032,2,  34.0980,2,    249.1,2,    10.12,2,     0.32,2,  -999.00,9,     0.83,2,    7.873,1, TS,1,   2246.0,2,   2056.0,2,     0.06,2
  49WA19960516,    29,  1,     20,     20,2,19960523,2154, 39.0078, 146.7633, -999,     75.0,  14.3907,  34.6367,2,  34.6390,2,    273.5,2,     5.77,2,     0.25,2,  -999.00,9,     0.41,2,    7.946,1, TS,1,   2259.0,2,   2030.0,2,     0.16,2
  49WA19960516,    29,  1,     21,     21,2,19960523,2154, 39.0078, 146.7633, -999,     49.8,  14.4815,  34.6520,2,  34.6519,2,   -999.0,9,     5.63,2,     0.27,2,  -999.00,9,     0.42,2,    7.945,1, TS,1,   2259.0,2,   2030.0,2,     0.20,2
  49WA19960516,    29,  1,     22,     22,2,19960523,2154, 39.0078, 146.7633, -999,     29.6,  14.8410,  34.6619,2,  34.6645,2,   -999.0,9,     4.08,2,     0.23,2,  -999.00,9,     0.33,2,    7.964,1, TS,1,   2265.0,2,   2026.0,2,     0.80,2
  49WA19960516,    29,  1,     23,     23,2,19960523,2154, 39.0078, 146.7633, -999,      9.9,  14.8514,  34.6621,2,  34.6635,2,    255.6,2,     3.94,2,     0.22,2,  -999.00,9,     0.34,2,    7.964,1, TS,1,   2260.0,2,   2022.0,2,     0.89,2
  49WA19960516,    45,  1,      1,      1,2,19960525,0017, 37.6617, 152.0528, -999,   2001.8,   1.9267,  34.5979,2,  34.5957,2,     78.2,2,  -999.00,9,  -999.00,9,  -999.00,9,  -999.00,9,    7.440,1, TS,1,   2376.0,2,   2347.0,2,  -999.00,9
  49WA19960516,    45,  1,      2,      2,2,19960525,0017, 37.6617, 152.0528, -999,   1748.9,   2.1014,  34.5658,2,  34.5643,2,     63.9,2,  -999.00,9,  -999.00,9,  -999.00,9,  -999.00,9,    7.405,1, TS,1,   2373.0,2,   2355.0,2,  -999.00,9
  49WA19960516,    45,  1,      3,      3,2,19960525,0017, 37.6617, 152.0528, -999,   1499.7,   2.2952,  34.5279,2,  34.4897,3,     52.0,2,  -999.00,9,  -999.00,9,  -999.00,9,  -999.00,9,    7.384,1, TS,1,   2366.0,2,   2355.0,2,  -999.00,9
  49WA19960516,    45,  1,      4,      4,2,19960525,0017, 37.6617, 152.0528, -999,   1248.7,   2.6248,  34.4598,2,  34.4585,2,     41.6,2,  -999.00,9,  -999.00,9,  -999.00,9,  -999.00,9,    7.359,1, TS,1,   2352.0,2,   2350.0,2,  -999.00,9
  49WA19960516,    45,  1,      5,      5,2,19960525,0017, 37.6617, 152.0528, -999,   1000.3,   3.0680,  34.3853,2,  34.3853,2,     41.1,2,  -999.00,9,  -999.00,9,  -999.00,9,  -999.00,9,    7.350,1, TS,1,   2335.0,2,   2337.0,2,  -999.00,9
  49WA19960516,    45,  1,      6,      6,2,19960525,0017, 37.6617, 152.0528, -999,    900.1,   3.2548,  34.3332,2,  34.3344,2,     41.8,2,  -999.00,9,  -999.00,9,  -999.00,9,  -999.00,9,    7.350,1, TS,1,   2327.0,2,   2328.0,2,  -999.00,9
  49WA19960516,    45,  1,      7,      7,2,19960525,0017, 37.6617, 152.0528, -999,    800.3,   3.5683,  34.2884,2,  34.2887,2,     47.1,2,  -999.00,9,  -999.00,9,  -999.00,9,  -999.00,9,    7.356,1, TS,1,   2316.0,2,   2316.0,2,  -999.00,9
  49WA19960516,    45,  1,      8,      8,2,19960525,0017, 37.6617, 152.0528, -999,    698.1,   4.0047,  34.2271,2,  34.2268,2,     58.2,2,  -999.00,9,  -999.00,9,  -999.00,9,  -999.00,9,    7.375,1, TS,1,   2300.0,2,   2293.0,2,  -999.00,9
  49WA19960516,    45,  1,      9,      9,2,19960525,0017, 37.6617, 152.0528, -999,    599.6,   4.3427,  34.1699,2,  34.1734,2,     71.0,2,  -999.00,9,  -999.00,9,  -999.00,9,  -999.00,9,    7.399,1, TS,1,   2289.0,2,   2275.0,2,  -999.00,9
  49WA19960516,    45,  1,     10,     10,2,19960525,0017, 37.6617, 152.0528, -999,    499.9,   4.9409,  34.0751,2,  34.0780,2,    102.3,2,  -999.00,9,  -999.00,9,  -999.00,9,  -999.00,9,    7.457,1, TS,1,   2268.0,2,   2234.0,2,  -999.00,9
  49WA19960516,    45,  1,     12,     12,2,19960525,0017, 37.6617, 152.0528, -999,    400.4,   5.2887,  33.8990,2,  33.8997,2,    153.8,2,  -999.00,9,  -999.00,9,  -999.00,9,  -999.00,9,    7.542,1, TS,1,   2245.0,2,   2183.0,2,  -999.00,9
  49WA19960516,    45,  1,     24,     24,2,19960525,0017, 37.6617, 152.0528, -999,    349.8,   5.5530,  33.7817,2,  33.7791,2,    199.0,2,  -999.00,9,  -999.00,9,  -999.00,9,  -999.00,9,    7.626,1, TS,1,   2232.0,2,   2142.0,2,  -999.00,9
  49WA19960516,    45,  1,     13,     13,2,19960525,0017, 37.6617, 152.0528, -999,    299.7,   5.9297,  33.7049,2,  33.7095,2,    275.1,2,  -999.00,9,  -999.00,9,  -999.00,9,  -999.00,9,    7.755,1, TS,1,   2213.0,2,   2077.0,2,     0.03,2
  49WA19960516,    45,  1,     14,     14,2,19960525,0017, 37.6617, 152.0528, -999,    249.4,   8.6122,  34.1036,2,  34.1125,3,    227.1,2,  -999.00,9,  -999.00,9,  -999.00,9,  -999.00,9,    7.775,1, TS,1,   2228.0,2,   2081.0,2,     0.01,2
  49WA19960516,    45,  1,     15,     15,2,19960525,0017, 37.6617, 152.0528, -999,    200.5,   9.8907,  34.2472,2,  34.2844,3,    244.9,2,  -999.00,9,  -999.00,9,  -999.00,9,  -999.00,9,    7.825,1, TS,1,   2233.0,2,   2064.0,2,     0.01,2
  49WA19960516,    45,  1,     16,     16,2,19960525,0017, 37.6617, 152.0528, -999,    175.1,  10.3402,  34.2882,2,  34.2831,2,    241.3,2,  -999.00,9,  -999.00,9,  -999.00,9,  -999.00,9,    7.849,1, TS,1,   2233.0,2,   2054.0,2,     0.02,2
  49WA19960516,    45,  1,     17,     17,2,19960525,0017, 37.6617, 152.0528, -999,    150.5,  11.2623,  34.3778,2,  34.3759,2,    242.7,2,  -999.00,9,  -999.00,9,  -999.00,9,  -999.00,9,    7.873,1, TS,1,   2232.0,2,   2041.0,2,     0.03,2
  49WA19960516,    45,  1,     18,     18,2,19960525,0017, 37.6617, 152.0528, -999,    124.7,  12.0697,  34.4673,2,  34.4679,2,    246.6,2,  -999.00,9,  -999.00,9,  -999.00,9,  -999.00,9,    7.898,1, TS,1,   2233.0,2,   2030.0,2,     0.03,2
  49WA19960516,    45,  1,     19,     19,2,19960525,0017, 37.6617, 152.0528, -999,    100.3,  12.3033,  34.4722,2,  34.4724,2,    260.4,2,  -999.00,9,  -999.00,9,  -999.00,9,  -999.00,9,    7.919,1, TS,1,   2237.0,2,   2023.0,2,     0.09,2
  49WA19960516,    45,  1,     20,     20,2,19960525,0017, 37.6617, 152.0528, -999,     74.8,  12.4259,  34.4898,2,  34.4909,2,    262.7,2,  -999.00,9,  -999.00,9,  -999.00,9,  -999.00,9,    7.927,1, TS,1,   2238.0,2,   2021.0,2,     0.16,2
  49WA19960516,    45,  1,     21,     21,2,19960525,0017, 37.6617, 152.0528, -999,     49.4,  12.5851,  34.5027,2,  34.5036,2,    266.4,2,  -999.00,9,  -999.00,9,  -999.00,9,  -999.00,9,    7.932,1, TS,1,   2238.0,2,   2019.0,2,     0.26,2
  49WA19960516,    45,  1,     22,     22,2,19960525,0017, 37.6617, 152.0528, -999,     30.4,  12.6439,  34.5055,2,  34.5062,2,    268.1,2,  -999.00,9,  -999.00,9,  -999.00,9,  -999.00,9,    7.935,1, TS,1,   2237.0,2,   2016.0,2,     0.37,2
  49WA19960516,    45,  1,     23,     23,2,19960525,0017, 37.6617, 152.0528, -999,     10.2,  12.7901,  34.5018,2,  34.5036,2,    264.9,2,  -999.00,9,  -999.00,9,  -999.00,9,  -999.00,9,    7.931,1, TS,1,   2239.0,2,   2019.0,2,     0.36,2
  49WA19960516,    44,  1,      1,      1,2,19960525,0509, 37.3595, 152.0185, -999,   2000.7,   1.9048,  34.6012,2,  34.5991,2,     80.1,2,  -999.00,9,  -999.00,9,  -999.00,9,  -999.00,9,    7.434,1, TS,1,   2391.0,2,   2363.0,2,  -999.00,9
  49WA19960516,    44,  1,      2,      2,2,19960525,0509, 37.3595, 152.0185, -999,   1749.9,   2.0855,  34.5676,2,  34.5679,2,     64.4,2,  -999.00,9,  -999.00,9,  -999.00,9,  -999.00,9,    7.406,1, TS,1,   2387.0,2,   2369.0,2,  -999.00,9
  49WA19960516,    44,  1,      3,      3,2,19960525,0509, 37.3595, 152.0185, -999,   1500.1,   2.3097,  34.5236,2,  34.5247,2,     50.7,2,  -999.00,9,  -999.00,9,  -999.00,9,  -999.00,9,    7.372,1, TS,1,   2382.0,2,   2375.0,2,  -999.00,9
  49WA19960516,    44,  1,      4,      4,2,19960525,0509, 37.3595, 152.0185, -999,   1249.0,   2.6280,  34.4646,2,  34.4655,2,     44.5,2,  -999.00,9,  -999.00,9,  -999.00,9,  -999.00,9,    7.362,1, TS,1,   2371.0,2,   2369.0,2,  -999.00,9
  49WA19960516,    44,  1,      5,      5,2,19960525,0509, 37.3595, 152.0185, -999,    999.7,   3.0370,  34.3887,2,  34.3884,2,     45.4,2,  -999.00,9,  -999.00,9,  -999.00,9,  -999.00,9,    7.353,1, TS,1,   2355.0,2,   2356.0,2,  -999.00,9
  49WA19960516,    44,  1,      6,      6,2,19960525,0509, 37.3595, 152.0185, -999,    900.0,   3.2410,  34.3569,2,  34.3535,2,   -999.0,9,  -999.00,9,  -999.00,9,  -999.00,9,  -999.00,9,    7.350,1, TS,1,   2349.0,2,   2351.0,2,  -999.00,9
  49WA19960516,    44,  1,      7,      7,2,19960525,0509, 37.3595, 152.0185, -999,    800.2,   3.5126,  34.3123,2,  34.3123,2,     48.9,2,  -999.00,9,  -999.00,9,  -999.00,9,  -999.00,9,    7.351,1, TS,1,   2340.0,2,   2341.0,2,  -999.00,9
  49WA19960516,    44,  1,      8,      8,2,19960525,0509, 37.3595, 152.0185, -999,    700.9,   3.8212,  34.2520,2,  34.2503,2,     52.1,2,  -999.00,9,  -999.00,9,  -999.00,9,  -999.00,9,    7.353,1, TS,1,   2326.0,2,   2327.0,2,  -999.00,9
  49WA19960516,    44,  1,      9,      9,2,19960525,0509, 37.3595, 152.0185, -999,    600.3,   4.1060,  34.1631,2,  34.1689,2,     65.8,2,  -999.00,9,  -999.00,9,  -999.00,9,  -999.00,9,    7.371,1, TS,1,   2312.0,2,   2307.0,2,  -999.00,9
  49WA19960516,    44,  1,     10,     10,2,19960525,0509, 37.3595, 152.0185, -999,    500.9,   4.6399,  34.0732,2,  34.0735,2,     94.9,2,  -999.00,9,  -999.00,9,  -999.00,9,  -999.00,9,    7.427,1, TS,1,   2296.0,2,   2272.0,2,  -999.00,9
  49WA19960516,    44,  1,     12,     12,2,19960525,0509, 37.3595, 152.0185, -999,    400.2,   5.3300,  33.9781,2,  33.9782,2,    136.0,2,  -999.00,9,  -999.00,9,  -999.00,9,  -999.00,9,    7.507,1, TS,1,   2275.0,2,   2225.0,2,  -999.00,9
  49WA19960516,    44,  1,     13,     13,2,19960525,0509, 37.3595, 152.0185, -999,    299.9,   7.0713,  34.0211,2,  34.0211,2,    168.6,2,  -999.00,9,  -999.00,9,  -999.00,9,  -999.00,9,    7.624,1, TS,1,   2262.0,2,   2172.0,2,     0.01,2
  49WA19960516,    44,  1,     14,     14,2,19960525,0509, 37.3595, 152.0185, -999,    250.5,   7.8235,  34.0276,2,  34.0292,2,    206.1,2,  -999.00,9,  -999.00,9,  -999.00,9,  -999.00,9,    7.709,1, TS,1,   2256.0,2,   2134.0,2,     0.03,2
  49WA19960516,    44,  1,     24,     24,2,19960525,0509, 37.3595, 152.0185, -999,    219.8,   7.7939,  33.9580,2,  33.9324,3,    250.7,2,  -999.00,9,  -999.00,9,  -999.00,9,  -999.00,9,    7.772,1, TS,1,   2253.0,2,   2107.0,2,  -999.00,9
  49WA19960516,    44,  1,     15,     15,2,19960525,0509, 37.3595, 152.0185, -999,    199.8,   8.5048,  34.0318,2,  34.0204,3,    255.6,2,  -999.00,9,  -999.00,9,  -999.00,9,  -999.00,9,    7.801,1, TS,1,   2251.0,2,   2093.0,2,     0.03,2
  49WA19960516,    44,  1,     16,     16,2,19960525,0509, 37.3595, 152.0185, -999,    174.7,   9.7857,  34.2427,2,  34.2275,3,    260.7,2,  -999.00,9,  -999.00,9,  -999.00,9,  -999.00,9,    7.847,1, TS,1,   2254.0,2,   2075.0,2,     0.02,2
  49WA19960516,    44,  1,     17,     17,2,19960525,0509, 37.3595, 152.0185, -999,    149.9,  10.2047,  34.3210,2,  34.3215,2,    263.6,2,  -999.00,9,  -999.00,9,  -999.00,9,  -999.00,9,    7.862,1, TS,1,   2256.0,2,   2069.0,2,     0.05,2
  49WA19960516,    44,  1,     18,     18,2,19960525,0509, 37.3595, 152.0185, -999,    125.8,  10.5607,  34.3139,2,  34.3164,2,    234.1,2,  -999.00,9,  -999.00,9,  -999.00,9,  -999.00,9,    7.831,1, TS,1,   2256.0,2,   2083.0,2,     0.01,2
  49WA19960516,    44,  1,     19,     19,2,19960525,0509, 37.3595, 152.0185, -999,    100.2,  10.9412,  34.3522,2,  34.3507,2,    234.0,2,  -999.00,9,  -999.00,9,  -999.00,9,  -999.00,9,    7.841,1, TS,1,   2258.0,2,   2080.0,2,     0.02,2
  49WA19960516,    44,  1,     20,     20,2,19960525,0509, 37.3595, 152.0185, -999,     75.1,  11.5117,  34.3971,2,  34.3849,3,    248.0,2,  -999.00,9,  -999.00,9,  -999.00,9,  -999.00,9,    7.870,1, TS,1,   2256.0,2,   2066.0,2,     0.09,2
  49WA19960516,    44,  1,     21,     21,2,19960525,0509, 37.3595, 152.0185, -999,     50.2,  12.1193,  34.4451,2,  34.4481,2,    265.8,2,  -999.00,9,  -999.00,9,  -999.00,9,  -999.00,9,    7.909,1, TS,1,   2257.0,2,   2047.0,2,     0.21,2
  49WA19960516,    44,  1,     22,     22,2,19960525,0509, 37.3595, 152.0185, -999,     29.7,  12.6828,  34.4891,2,  34.4816,3,    266.6,2,  -999.00,9,  -999.00,9,  -999.00,9,  -999.00,9,    7.917,1, TS,1,   2258.0,2,   2044.0,2,     0.25,2
  49WA19960516,    44,  1,     23,     23,2,19960525,0509, 37.3595, 152.0185, -999,      9.7,  13.4071,  34.5344,2,  34.5364,2,    264.1,2,  -999.00,9,  -999.00,9,  -999.00,9,  -999.00,9,    7.937,1, TS,1,   2263.0,2,   2038.0,2,     0.36,2