BOTTLE,20091206MIRCJHATS
EXPOCODE,STNNBR,CASTNO,SAMPNO,BTLNBR,BTLNBR_FLAG_W,DATE,TIME,LATITUDE,LONGITUDE,DEPTH,CTDPRS,CTDTMP,CTDSAL,CTDSAL_FLAG_W,SALNTY,SALNTY_FLAG_W,OXYGEN,OXYGEN_FLAG_W,NO2+NO3,NO2+NO3_FLAG_W,NITRIT,NITRIT_FLAG_W,SILCAT,SILCAT_FLAG_W,PHSPHT,PHSPHT_FLAG_W,PH,PH_FLAG_W,PH_SCALE,PH_SCALE_FLAG_W,ALKALI,ALKALI_FLAG_W,TCARBN,TCARBN_FLAG_W,CHLORA,CHLORA_FLAG_W
,,,,,,,,,,METERS,DBARS,IPTS68,,,,,UMOL/KG,,UMOL/KG,,UMOL/KG,,UMOL/KG,,UMOL/KG,,,,,,UMOL/KG,,UMOL/KG,,UG/KG,
  49WA19960516,    26,  1,      1,      1,2,19960523,0834, 37.4988, 146.7507, -999,   2003.5,   1.9080,  34.6017,2,  34.5967,2,     82.4,2,    41.87,2,     0.06,2,  -999.00,9,     2.88,2,    7.445,1, TS,1,   2394.0,2,   2363.0,2,  -999.00,9
  49WA19960516,    26,  1,      2,      2,2,19960523,0834, 37.4988, 146.7507, -999,   1750.4,   2.0764,  34.5706,2,  34.5696,2,     69.8,2,    42.94,2,     0.07,2,  -999.00,9,     2.97,2,    7.399,1, TS,1,   2386.0,2,   2371.0,2,  -999.00,9
  49WA19960516,    26,  1,      3,      3,2,19960523,0834, 37.4988, 146.7507, -999,   1500.6,   2.2785,  34.5327,2,  34.5309,2,     54.3,2,    43.31,2,     0.08,2,  -999.00,9,     3.02,2,    7.393,1, TS,1,   2380.0,2,   2367.0,2,  -999.00,9
  49WA19960516,    26,  1,      4,      4,2,19960523,0834, 37.4988, 146.7507, -999,   1248.9,   2.5474,  34.4828,2,  34.4816,2,     48.2,2,    42.92,2,     0.08,2,  -999.00,9,     3.04,2,    7.380,1, TS,1,   2372.0,2,   2363.0,2,  -999.00,9
  49WA19960516,    26,  1,      5,      5,2,19960523,0834, 37.4988, 146.7507, -999,    999.8,   2.9903,  34.4085,2,  34.4080,2,     43.5,2,    43.22,2,     0.05,2,  -999.00,9,     3.03,2,    7.356,1, TS,1,   2353.0,2,   2353.0,2,  -999.00,9
  49WA19960516,    26,  1,      6,      6,2,19960523,0834, 37.4988, 146.7507, -999,    900.2,   3.1695,  34.3708,2,  34.3698,2,     45.9,2,    42.26,2,     0.08,2,  -999.00,9,     3.00,2,    7.369,1, TS,1,   2347.0,2,   2342.0,2,  -999.00,9
  49WA19960516,    26,  1,      7,      7,2,19960523,0834, 37.4988, 146.7507, -999,    801.6,   3.4200,  34.3264,2,  34.3264,2,     45.9,2,    41.40,2,     0.05,2,  -999.00,9,     3.01,2,    7.352,1, TS,1,   2339.0,2,   2340.0,2,  -999.00,9
  49WA19960516,    26,  1,      8,      8,2,19960523,0834, 37.4988, 146.7507, -999,    699.4,   3.5496,  34.2404,2,  34.2413,2,     45.3,2,    41.33,2,     0.02,2,  -999.00,9,     2.98,2,    7.335,1, TS,1,   2325.0,2,   2332.0,2,  -999.00,9
  49WA19960516,    26,  1,      9,      9,2,19960523,0834, 37.4988, 146.7507, -999,    599.2,   4.0182,  34.2151,2,  34.2152,2,     69.2,2,    40.77,2,     0.02,2,  -999.00,9,     2.91,2,    7.387,1, TS,1,   2316.0,2,   2305.0,2,  -999.00,9
  49WA19960516,    26,  1,     10,     10,2,19960523,0834, 37.4988, 146.7507, -999,    500.1,   3.6994,  34.0226,2,  34.0231,2,     64.5,2,    41.26,2,     0.04,2,  -999.00,9,     2.94,2,    7.349,1, TS,1,   2295.0,2,   2297.0,2,  -999.00,9
  49WA19960516,    26,  1,     12,     12,2,19960523,0834, 37.4988, 146.7507, -999,    400.0,   4.4572,  34.0066,2,  34.0072,2,    101.5,2,    37.27,2,     0.07,2,  -999.00,9,     2.62,2,    7.426,1, TS,1,   2284.0,2,   2261.0,2,  -999.00,9
  49WA19960516,    26,  1,     13,     13,2,19960523,0834, 37.4988, 146.7507, -999,    300.3,   3.5761,  33.7395,2,  33.7396,2,    140.2,2,    35.19,2,     0.04,2,  -999.00,9,     2.57,2,    7.441,1, TS,1,   2261.0,2,   2234.0,2,     0.02,2
  49WA19960516,    26,  1,     24,     24,2,19960523,0834, 37.4988, 146.7507, -999,    270.3,   6.3200,  34.0746,2,  33.7646,3,    135.2,2,    30.44,2,     0.05,2,  -999.00,9,     2.20,2,    7.541,1, TS,1,   2284.0,2,   2223.0,2,  -999.00,9
  49WA19960516,    26,  1,     14,     14,2,19960523,0834, 37.4988, 146.7507, -999,    248.6,   4.7472,  33.7615,2,  33.6338,3,    183.2,2,    28.80,2,     0.08,2,  -999.00,9,     2.12,2,    7.560,1, TS,1,   2251.0,2,   2184.0,2,     0.02,2
  49WA19960516,    26,  1,     15,     15,2,19960523,0834, 37.4988, 146.7507, -999,    199.6,   4.4122,  33.6344,2,  33.5438,3,    224.5,2,    25.00,2,     0.05,2,  -999.00,9,     1.88,2,    7.609,1, TS,1,   2243.0,2,   2161.0,2,     0.04,2
  49WA19960516,    26,  1,     16,     16,2,19960523,0834, 37.4988, 146.7507, -999,    175.9,   3.9497,  33.5427,2,  33.4582,3,   -999.0,9,    24.69,2,     0.04,2,  -999.00,9,     1.86,2,    7.622,1, TS,1,   2239.0,2,   2152.0,2,     0.04,2
  49WA19960516,    26,  1,     17,     17,2,19960523,0834, 37.4988, 146.7507, -999,    149.8,   3.7256,  33.4515,2,  33.5481,3,    267.4,2,    21.84,2,     0.07,2,  -999.00,9,     1.68,2,    7.666,1, TS,1,   2234.0,2,   2131.0,2,     0.05,2
  49WA19960516,    26,  1,     18,     18,2,19960523,0834, 37.4988, 146.7507, -999,    124.4,   4.7661,  33.5442,2,  34.0952,3,    267.1,2,    20.48,2,     0.17,2,  -999.00,9,     1.59,2,    7.694,1, TS,1,   2235.0,2,   2120.0,2,     0.05,2
  49WA19960516,    26,  1,     19,     19,2,19960523,0834, 37.4988, 146.7507, -999,    100.2,   8.7144,  34.1220,2,  33.7500,3,    192.2,2,    20.43,2,     0.28,2,  -999.00,9,     1.49,2,    7.707,1, TS,1,   2261.0,2,   2142.0,2,     0.05,2
  49WA19960516,    26,  1,     20,     20,2,19960523,0834, 37.4988, 146.7507, -999,     75.0,   7.2197,  33.7162,2,  33.9949,3,    264.7,2,    14.13,2,     0.30,2,  -999.00,9,     1.21,2,    7.792,1, TS,1,   2244.0,2,   2090.0,2,     0.06,2
  49WA19960516,    26,  1,     21,     21,2,19960523,0834, 37.4988, 146.7507, -999,     50.2,   9.8298,  33.9749,2,  34.2179,3,    263.1,2,    10.18,2,     0.31,2,  -999.00,9,     0.90,2,    7.860,1, TS,1,   2254.0,2,   2068.0,2,     0.25,2
  49WA19960516,    26,  1,     22,     22,2,19960523,0834, 37.4988, 146.7507, -999,     29.6,  12.2526,  34.2111,2,  34.1350,3,    268.0,2,     6.92,2,     0.22,2,  -999.00,9,     0.63,2,    7.914,1, TS,1,   2263.0,2,   2052.0,2,     0.33,2
  49WA19960516,    26,  1,     23,     23,2,19960523,0834, 37.4988, 146.7507, -999,     10.6,  12.8349,  34.1392,2,  34.0401,3,    271.8,2,     5.81,2,     0.22,2,  -999.00,9,     0.56,2,    7.927,1, TS,1,   2259.0,2,   2043.0,2,     0.43,2
  49WA19960516,    27,  1,      1,      1,2,19960523,1234, 37.9995, 146.7488, -999,   1998.9,   1.9348,  34.5958,2,  34.5963,2,     76.2,2,    42.55,2,     0.04,2,  -999.00,9,     2.86,2,    7.435,1, TS,1,   2395.0,2,   2367.0,2,  -999.00,9
  49WA19960516,    27,  1,      2,      2,2,19960523,1234, 37.9995, 146.7488, -999,   1750.2,   2.0904,  34.5664,2,  34.2199,3,     62.9,2,    42.99,2,     0.05,2,  -999.00,9,     2.91,2,    7.411,1, TS,1,   2392.0,2,   2372.0,2,  -999.00,9
  49WA19960516,    27,  1,      3,      3,2,19960523,1234, 37.9995, 146.7488, -999,   1498.9,   2.3310,  34.5229,2,  34.5225,2,     50.9,2,    42.68,2,     0.04,2,  -999.00,9,     3.00,2,    7.370,1, TS,1,   2383.0,2,   2378.0,2,  -999.00,9
  49WA19960516,    27,  1,      4,      4,2,19960523,1234, 37.9995, 146.7488, -999,   1249.0,   2.6480,  34.4655,2,  34.4661,2,     44.0,2,    43.97,2,     0.06,2,  -999.00,9,     3.01,2,    7.350,1, TS,1,   2375.0,2,   2376.0,2,  -999.00,9
  49WA19960516,    27,  1,      5,      5,2,19960523,1234, 37.9995, 146.7488, -999,   1001.8,   3.1021,  34.3894,2,  34.3892,2,     43.2,2,    42.97,2,     0.04,2,  -999.00,9,     2.99,2,    7.363,1, TS,1,   2354.0,2,   2351.0,2,  -999.00,9
  49WA19960516,    27,  1,      6,      6,2,19960523,1234, 37.9995, 146.7488, -999,    899.7,   3.3528,  34.3492,2,  34.3484,2,     46.3,2,    43.55,2,     0.07,2,  -999.00,9,     3.03,2,    7.350,1, TS,1,   2348.0,2,   2350.0,2,  -999.00,9
  49WA19960516,    27,  1,      7,      7,2,19960523,1234, 37.9995, 146.7488, -999,    799.7,   3.6662,  34.3021,2,  34.3017,2,     50.3,2,    42.29,2,     0.06,2,  -999.00,9,     2.98,2,    7.358,1, TS,1,   2339.0,2,   2337.0,2,  -999.00,9
  49WA19960516,    27,  1,      8,      8,2,19960523,1234, 37.9995, 146.7488, -999,    701.1,   4.0515,  34.2346,2,  34.2348,2,     59.6,2,    40.35,2,     0.03,2,  -999.00,9,     2.84,2,    7.370,1, TS,1,   2322.0,2,   2317.0,2,  -999.00,9
  49WA19960516,    27,  1,      9,      9,2,19960523,1234, 37.9995, 146.7488, -999,    599.3,   4.2699,  34.1320,2,  34.1338,2,     73.4,2,    39.69,2,     0.06,2,  -999.00,9,     2.82,2,    7.381,1, TS,1,   2307.0,2,   2298.0,2,  -999.00,9
  49WA19960516,    27,  1,     10,     10,2,19960523,1234, 37.9995, 146.7488, -999,    500.7,   4.9962,  34.0675,2,  34.0693,2,    103.7,2,    36.02,2,     0.04,2,  -999.00,9,     2.52,2,    7.449,1, TS,1,   2289.0,2,   2258.0,2,  -999.00,9
  49WA19960516,    27,  1,     12,     12,2,19960523,1234, 37.9995, 146.7488, -999,    400.1,   5.8522,  33.9765,2,  33.9778,2,    149.1,2,    30.18,2,     0.05,2,  -999.00,9,     2.11,2,    7.544,1, TS,1,   2272.0,2,   2210.0,2,  -999.00,9
  49WA19960516,    27,  1,     24,     24,2,19960523,1234, 37.9995, 146.7488, -999,    354.4,   6.3500,  33.9631,2,  33.9598,2,    164.9,2,    27.58,2,     0.01,2,  -999.00,9,     1.95,2,    7.568,1, TS,1,   2272.0,2,   2201.0,2,  -999.00,9
  49WA19960516,    27,  1,     13,     13,2,19960523,1234, 37.9995, 146.7488, -999,    299.3,   7.6019,  34.0429,2,  34.0517,3,    179.1,2,    23.43,2,     0.05,2,  -999.00,9,     1.64,2,    7.661,1, TS,1,   2258.0,2,   2155.0,2,     0.01,2
  49WA19960516,    27,  1,     14,     14,2,19960523,1234, 37.9995, 146.7488, -999,    249.9,   9.3564,  34.2518,2,  34.2415,3,    174.5,2,    21.40,2,     0.05,2,  -999.00,9,     1.48,2,    7.705,1, TS,1,   2267.0,2,   2146.0,2,     0.01,2
  49WA19960516,    27,  1,     15,     15,2,19960523,1234, 37.9995, 146.7488, -999,    199.4,  10.0370,  34.2846,2,  34.2874,2,    248.2,2,    12.85,2,     0.05,2,  -999.00,9,     0.87,2, -999.000,9, TS,1,   2254.0,2,   -999.0,9,     0.02,2
  49WA19960516,    27,  1,     16,     16,2,19960523,1234, 37.9995, 146.7488, -999,    175.8,  10.2445,  34.2842,2,  34.2827,2,    236.2,2,    13.52,2,     0.19,2,  -999.00,9,     0.94,2,    7.815,1, TS,1,   2255.0,2,   2089.0,2,     0.02,2
  49WA19960516,    27,  1,     17,     17,2,19960523,1234, 37.9995, 146.7488, -999,    151.1,  10.6424,  34.3069,2,  34.3097,2,    210.9,2,    15.28,2,     0.05,2,  -999.00,9,     1.00,2,    7.798,1, TS,1,   2258.0,2,   2099.0,2,     0.01,2
  49WA19960516,    27,  1,     18,     18,2,19960523,1234, 37.9995, 146.7488, -999,    124.9,  11.4482,  34.3872,2,  34.3906,2,    206.3,2,    14.61,2,     0.07,2,  -999.00,9,     0.99,2,    7.808,1, TS,1,   2264.0,2,   2100.0,2,     0.03,2
  49WA19960516,    27,  1,     19,     19,2,19960523,1234, 37.9995, 146.7488, -999,    100.3,  12.5744,  34.4857,2,  34.3910,3,    205.9,2,    12.15,2,     0.06,2,  -999.00,9,     0.81,2,    7.852,1, TS,1,   2261.0,2,   2078.0,2,     0.05,2
  49WA19960516,    27,  1,     20,     20,2,19960523,1234, 37.9995, 146.7488, -999,     75.7,  14.1233,  34.6314,2,  34.6293,2,    244.2,2,     6.64,2,     0.33,2,  -999.00,9,     0.47,2,    7.928,1, TS,1,   2269.0,2,   2048.0,2,     0.23,2
  49WA19960516,    27,  1,     21,     21,2,19960523,1234, 37.9995, 146.7488, -999,     50.5,  14.7140,  34.6980,2,  34.6979,2,    249.6,2,     4.76,2,     0.32,2,  -999.00,9,     0.33,2,    7.952,1, TS,1,   2270.0,2,   2037.0,2,     0.36,2
  49WA19960516,    27,  1,     22,     22,2,19960523,1234, 37.9995, 146.7488, -999,     29.4,  14.9716,  34.6922,2,  34.6932,2,    255.2,2,     3.63,2,     0.24,2,  -999.00,9,     0.26,2,    7.964,1, TS,1,   2276.0,2,   2036.0,2,     0.71,2
  49WA19960516,    27,  1,     23,     23,2,19960523,1234, 37.9995, 146.7488, -999,     10.2,  14.9864,  34.6914,2,  34.6926,2,    256.5,2,     3.64,2,     0.24,2,  -999.00,9,     0.00,2,    7.943,1, TS,1,   2272.0,2,   2043.0,2,     0.76,2
  49WA19960516,    28,  1,      1,      1,2,19960523,1700, 38.5003, 146.7562, -999,   2000.1,   1.9776,  34.5895,2,  34.5889,2,     74.0,2,    42.79,2,     0.05,2,  -999.00,9,     2.91,2,    7.429,1, TS,1,   2394.0,2,   2368.0,2,  -999.00,9
  49WA19960516,    28,  1,      2,      2,2,19960523,1700, 38.5003, 146.7562, -999,   1751.0,   2.1650,  34.5535,2,  34.5541,2,     59.8,2,    43.40,2,     0.00,2,  -999.00,9,     2.98,2,    7.388,1, TS,1,   2390.0,2,   2378.0,2,  -999.00,9
  49WA19960516,    28,  1,      3,      3,2,19960523,1700, 38.5003, 146.7562, -999,   1499.0,   2.3766,  34.5065,2,  34.5042,2,     47.0,2,    44.26,2,     0.03,2,  -999.00,9,     3.05,2,    7.356,1, TS,1,   2379.0,2,   2379.0,2,  -999.00,9
  49WA19960516,    28,  1,      4,      4,2,19960523,1700, 38.5003, 146.7562, -999,   1250.1,   2.6965,  34.4462,2,  34.4457,2,     44.9,2,    43.37,2,     0.04,2,  -999.00,9,     3.03,2,    7.347,1, TS,1,   2369.0,2,   2371.0,2,  -999.00,9
  49WA19960516,    28,  1,      5,      5,2,19960523,1700, 38.5003, 146.7562, -999,   1000.6,   3.1759,  34.3547,2,  34.3539,2,     44.1,2,    43.49,2,     0.03,2,  -999.00,9,     3.05,2,    7.356,1, TS,1,   2353.0,2,   2353.0,2,  -999.00,9
  49WA19960516,    28,  1,      6,      6,2,19960523,1700, 38.5003, 146.7562, -999,    899.5,   3.5101,  34.3187,2,  34.3150,2,     49.6,2,    42.52,2,     0.02,2,  -999.00,9,     2.97,2,    7.352,1, TS,1,   2340.0,2,   2341.0,2,  -999.00,9
  49WA19960516,    28,  1,      7,      7,2,19960523,1700, 38.5003, 146.7562, -999,    820.2,   3.5545,  34.2455,2,  34.2460,2,     46.4,2,    42.77,2,     0.01,2,  -999.00,9,     3.00,2,    7.338,1, TS,1,   2333.0,2,   2338.0,2,  -999.00,9
  49WA19960516,    28,  1,      8,      8,2,19960523,1700, 38.5003, 146.7562, -999,    699.4,   4.0337,  34.1867,2,  34.1866,2,     60.4,2,    40.58,2,     0.02,2,  -999.00,9,     2.85,2,    7.377,1, TS,1,   2320.0,2,   2312.0,2,  -999.00,9
  49WA19960516,    28,  1,      9,      9,2,19960523,1700, 38.5003, 146.7562, -999,    599.9,   4.5311,  34.1190,2,  34.1207,2,     82.1,2,    38.62,2,     0.05,2,  -999.00,9,     2.71,2,    7.413,1, TS,1,   2301.0,2,   2282.0,2,  -999.00,9
  49WA19960516,    28,  1,     10,     10,2,19960523,1700, 38.5003, 146.7562, -999,    499.5,   5.6209,  34.0028,2,  34.1301,3,    163.7,2,    21.76,2,     0.14,2,  -999.00,9,     1.54,2,    7.668,1, TS,1,   2274.0,2,   2167.0,2,  -999.00,9
  49WA19960516,    28,  1,     12,     12,2,19960523,1700, 38.5003, 146.7562, -999,    400.1,   6.3399,  33.9055,2,  33.9011,2,    191.1,2,    25.28,2,     0.06,2,  -999.00,9,     1.77,2,    7.635,1, TS,1,   2258.0,2,   2164.0,2,  -999.00,9
  49WA19960516,    28,  1,     24,     24,2,19960523,1700, 38.5003, 146.7562, -999,    349.8,   6.6807,  33.8218,2,  33.8226,2,    232.2,2,    20.02,2,     0.17,2,  -999.00,9,     1.49,2,    7.712,1, TS,1,   2256.0,2,   2134.0,2,  -999.00,9
  49WA19960516,    28,  1,     13,     13,2,19960523,1700, 38.5003, 146.7562, -999,    298.7,   7.4421,  33.8908,2,  33.8909,2,    238.8,2,    17.78,2,     0.17,2,  -999.00,9,     1.32,2,    7.753,1, TS,1,   2247.0,2,   2109.0,2,     0.02,2
  49WA19960516,    28,  1,     14,     14,2,19960523,1700, 38.5003, 146.7562, -999,    249.6,   8.7679,  34.0431,2,  34.0439,2,    236.2,2,    15.60,2,     0.10,2,  -999.00,9,     1.13,2,    7.792,1, TS,1,   2248.0,2,   2094.0,2,     0.03,2
  49WA19960516,    28,  1,     15,     15,2,19960523,1700, 38.5003, 146.7562, -999,    198.2,  10.5341,  34.2758,2,  34.2807,2,    217.9,2,    14.94,2,     0.04,2,  -999.00,9,     1.02,2,    7.812,1, TS,1,   2259.0,2,   2094.0,2,     0.02,2
  49WA19960516,    28,  1,     16,     16,2,19960523,1700, 38.5003, 146.7562, -999,    175.3,  12.4888,  34.4881,2,  34.4879,2,    213.4,2,    12.70,2,     0.08,2,  -999.00,9,     0.87,2,    7.853,1, TS,1,   2263.0,2,   2079.0,2,     0.03,2
  49WA19960516,    28,  1,     17,     17,2,19960523,1700, 38.5003, 146.7562, -999,    150.0,  12.9712,  34.5345,2,  34.5382,2,    210.7,2,    11.86,2,     0.09,2,  -999.00,9,     0.82,2,    7.863,1, TS,1,   2263.0,2,   2074.0,2,     0.04,2
  49WA19960516,    28,  1,     18,     18,2,19960523,1700, 38.5003, 146.7562, -999,    124.5,  14.4063,  34.6597,2,  34.6690,3,    238.7,2,     7.05,2,     0.51,2,  -999.00,9,     0.51,2,    7.933,1, TS,1,   2269.0,2,   2045.0,2,     0.21,2
  49WA19960516,    28,  1,     19,     19,2,19960523,1700, 38.5003, 146.7562, -999,    101.3,  14.5792,  34.6790,2,  34.6802,2,    241.8,2,     6.48,2,     0.55,2,  -999.00,9,     0.48,2,    7.941,1, TS,1,   2269.0,2,   2041.0,2,     0.27,2
  49WA19960516,    28,  1,     20,     20,2,19960523,1700, 38.5003, 146.7562, -999,     75.0,  14.7240,  34.7002,2,  34.7026,2,    243.5,2,     5.39,2,     0.42,2,  -999.00,9,     0.41,2,    7.955,1, TS,1,   2269.0,2,   2034.0,2,     0.26,2
  49WA19960516,    28,  1,     21,     21,2,19960523,1700, 38.5003, 146.7562, -999,     51.5,  14.8917,  34.7228,2,  34.7229,2,    242.2,2,     4.96,2,     0.42,2,  -999.00,9,     0.37,2,    7.963,1, TS,1,   2270.0,2,   2031.0,2,     0.29,2
  49WA19960516,    28,  1,     22,     22,2,19960523,1700, 38.5003, 146.7562, -999,     30.6,  14.8982,  34.7240,2,  34.7237,2,    244.5,2,     4.84,2,     0.41,2,  -999.00,9,     0.37,2,    7.963,1, TS,1,   2270.0,2,   2031.0,2,     0.29,2
  49WA19960516,    28,  1,     23,     23,2,19960523,1700, 38.5003, 146.7562, -999,     10.7,  15.1497,  34.6913,2,  34.6908,2,    256.5,2,     3.68,2,     0.26,2,  -999.00,9,     0.30,2,    7.973,1, TS,1,   2274.0,2,   2030.0,2,  -999.00,9