BOTTLE,20091206MIRCJHATS
EXPOCODE,STNNBR,CASTNO,SAMPNO,BTLNBR,BTLNBR_FLAG_W,DATE,TIME,LATITUDE,LONGITUDE,DEPTH,CTDPRS,CTDTMP,CTDSAL,CTDSAL_FLAG_W,SALNTY,SALNTY_FLAG_W,OXYGEN,OXYGEN_FLAG_W,NO2+NO3,NO2+NO3_FLAG_W,NITRIT,NITRIT_FLAG_W,SILCAT,SILCAT_FLAG_W,PHSPHT,PHSPHT_FLAG_W,PH,PH_FLAG_W,PH_SCALE,PH_SCALE_FLAG_W,ALKALI,ALKALI_FLAG_W,TCARBN,TCARBN_FLAG_W,CHLORA,CHLORA_FLAG_W
,,,,,,,,,,METERS,DBARS,IPTS68,,,,,UMOL/KG,,UMOL/KG,,UMOL/KG,,UMOL/KG,,UMOL/KG,,,,,,UMOL/KG,,UMOL/KG,,UG/KG,
  49WA19960516,     8,  1,      1,      1,2,19960517,1703, 32.4157, 143.7458, -999,   2000.8,   2.1592,  34.5609,2,  34.5616,2,     62.4,2,    42.02,2,     0.03,2,  -999.00,9,     3.01,2,    7.429,1, TS,1,   2401.0,2,   2375.0,2,  -999.00,9
  49WA19960516,     8,  1,      2,      2,2,19960517,1703, 32.4157, 143.7458, -999,   1749.8,   2.4425,  34.5088,2,  34.5084,2,     49.7,2,    41.90,2,     0.00,2,  -999.00,9,     3.03,2,    7.388,1, TS,1,   2398.0,2,   2386.0,2,  -999.00,9
  49WA19960516,     8,  1,      3,      3,2,19960517,1703, 32.4157, 143.7458, -999,   1499.6,   2.8457,  34.4432,2,  34.4408,2,     47.2,2,    40.99,2,     0.00,2,  -999.00,9,     3.05,2,    7.380,1, TS,1,   2382.0,2,   2373.0,2,  -999.00,9
  49WA19960516,     8,  1,      4,      4,2,19960517,1703, 32.4157, 143.7458, -999,   1249.5,   3.4794,  34.3608,2,  34.3596,2,     52.3,2,    40.98,2,     0.00,2,  -999.00,9,     2.98,2,    7.383,1, TS,1,   2358.0,2,   2348.0,2,  -999.00,9
  49WA19960516,     8,  1,      5,      5,2,19960517,1703, 32.4157, 143.7458, -999,    999.7,   4.2818,  34.1860,2,  34.1850,2,     68.3,2,    38.58,2,     0.00,2,  -999.00,9,     2.80,2,    7.404,1, TS,1,   2324.0,2,   2308.0,2,  -999.00,9
  49WA19960516,     8,  1,      6,      6,2,19960517,1703, 32.4157, 143.7458, -999,    900.8,   4.8230,  34.0491,2,  34.0488,2,    103.9,2,    34.78,2,     0.00,2,  -999.00,9,     2.54,2,    7.456,1, TS,1,   2302.0,2,   2269.0,2,  -999.00,9
  49WA19960516,     8,  1,     24,     24,2,19960517,1703, 32.4157, 143.7458, -999,    889.2,   4.7832,  34.0337,2,  34.0325,2,    106.4,2,    34.30,2,     0.00,2,  -999.00,9,     2.55,2,    7.480,1, TS,1,   2301.0,2,   2260.0,2,  -999.00,9
  49WA19960516,     8,  1,      7,      7,2,19960517,1703, 32.4157, 143.7458, -999,    799.6,   6.4714,  34.0792,2,  34.0891,3,    135.9,2,    28.90,2,     0.00,2,  -999.00,9,     2.10,2,    7.572,1, TS,1,   2291.0,2,   2218.0,2,  -999.00,9
  49WA19960516,     8,  1,      8,      8,2,19960517,1703, 32.4157, 143.7458, -999,    699.8,   9.2987,  34.2537,2,  34.2603,3,    154.7,2,    22.56,2,     0.00,2,  -999.00,9,     1.59,2,    7.699,1, TS,1,   2285.0,2,   2165.0,2,  -999.00,9
  49WA19960516,     8,  1,      9,      9,2,19960517,1703, 32.4157, 143.7458, -999,    600.1,  12.0665,  34.4171,2,  34.4180,2,    178.3,2,    15.42,2,     0.00,2,  -999.00,9,     1.06,2,    7.810,1, TS,1,   2278.0,2,   2112.0,2,  -999.00,9
  49WA19960516,     8,  1,     10,     10,2,19960517,1703, 32.4157, 143.7458, -999,    499.5,  14.5846,  34.5922,2,  34.5910,2,    184.1,2,    11.44,2,     0.03,2,  -999.00,9,     0.72,2,    7.885,1, TS,1,   2273.0,2,   2073.0,2,  -999.00,9
  49WA19960516,     8,  1,     12,     12,2,19960517,1703, 32.4157, 143.7458, -999,    399.6,  16.2346,  34.7270,2,  34.7239,2,    196.8,2,     7.20,2,     0.00,2,  -999.00,9,     0.47,2,    7.942,1, TS,1,   -999.0,9,   -999.0,9,  -999.00,9
  49WA19960516,     8,  1,     13,     13,2,19960517,1703, 32.4157, 143.7458, -999,    300.4,  17.2802,  34.8478,2,  34.8481,2,    218.3,2,     3.46,2,     0.00,2,  -999.00,9,     0.21,2,    8.007,1, TS,1,   -999.0,9,   -999.0,9,     0.02,2
  49WA19960516,     8,  1,     14,     14,2,19960517,1703, 32.4157, 143.7458, -999,    249.8,  17.6421,  34.8863,2,  34.8865,2,    224.3,2,     3.84,2,     0.01,2,  -999.00,9,     0.18,2,    8.026,1, TS,1,   2283.0,2,   2008.0,2,     0.01,2
  49WA19960516,     8,  1,     15,     15,2,19960517,1703, 32.4157, 143.7458, -999,    200.0,  17.8116,  34.8851,2,  34.8849,2,    225.9,2,     3.04,2,     0.06,2,  -999.00,9,     0.13,2,    8.036,1, TS,1,   2286.0,2,   2005.0,2,     0.03,2
  49WA19960516,     8,  1,     16,     16,2,19960517,1703, 32.4157, 143.7458, -999,    174.9,  17.8751,  34.8818,2,  34.8821,2,    226.7,2,     1.90,2,     0.09,2,  -999.00,9,     0.10,2,    8.037,1, TS,1,   2286.0,2,   2004.0,2,     0.04,2
  49WA19960516,     8,  1,     17,     17,2,19960517,1703, 32.4157, 143.7458, -999,    150.1,  17.9675,  34.8891,2,  34.8877,2,    224.8,2,     2.46,2,     0.10,2,  -999.00,9,     0.13,2,    8.036,1, TS,1,   2289.0,2,   2008.0,2,     0.05,2
  49WA19960516,     8,  1,     18,     18,2,19960517,1703, 32.4157, 143.7458, -999,    125.5,  18.1694,  34.9036,2,  34.9018,2,    225.9,2,     1.45,2,     0.17,2,  -999.00,9,     0.06,2,    8.041,1, TS,1,   2287.0,2,   2003.0,2,     0.07,2
  49WA19960516,     8,  1,     19,     19,2,19960517,1703, 32.4157, 143.7458, -999,    100.4,  18.2203,  34.8939,2,  34.8957,2,    228.1,2,     1.29,2,     0.36,2,  -999.00,9,     0.04,2,    8.044,1, TS,1,   2287.0,2,   2002.0,2,     0.09,2
  49WA19960516,     8,  1,     20,     20,2,19960517,1703, 32.4157, 143.7458, -999,     74.7,  18.7008,  34.9102,2,  34.9091,2,    232.7,2,     0.30,2,     0.17,2,  -999.00,9,     0.02,2,    8.056,1, TS,1,   2290.0,2,   1997.0,2,     0.26,2
  49WA19960516,     8,  1,     21,     21,2,19960517,1703, 32.4157, 143.7458, -999,     49.6,  18.8199,  34.9133,2,  34.9115,2,    234.7,2,     0.00,2,     0.01,2,  -999.00,9,     0.01,2,    8.065,1, TS,1,   2289.0,2,   1991.0,2,     0.25,2
  49WA19960516,     8,  1,     22,     22,2,19960517,1703, 32.4157, 143.7458, -999,     29.5,  18.8683,  34.9111,2,  34.9095,2,    234.1,2,     0.00,2,     0.00,2,  -999.00,9,     0.01,2,    8.061,1, TS,1,   2289.0,2,   1993.0,2,     0.24,2
  49WA19960516,     8,  1,     23,     23,2,19960517,1703, 32.4157, 143.7458, -999,     10.4,  18.9048,  34.9140,2,  34.9122,2,    235.9,2,     0.00,2,     0.00,2,  -999.00,9,     0.01,2,    8.065,1, TS,1,   2289.0,2,   1991.0,2,     0.20,2
  49WA19960516,    10,  1,      1,      1,2,19960518,0328, 32.7103, 145.2470, -999,   2000.3,   2.0088,  34.5866,2,  34.5539,3,     61.8,2,    43.10,2,     0.15,2,  -999.00,9,     2.97,2,    7.417,1, TS,1,   2400.0,2,   2378.0,2,  -999.00,9
  49WA19960516,    10,  1,      2,      2,2,19960518,0328, 32.7103, 145.2470, -999,   1750.6,   2.2354,  34.5451,2,  34.5427,2,     59.1,2,    42.90,2,     0.13,2,  -999.00,9,     3.06,2, -999.000,9, TS,1,   -999.0,9,   -999.0,9,  -999.00,9
  49WA19960516,    10,  1,      3,      3,2,19960518,0328, 32.7103, 145.2470, -999,   1500.9,   2.5225,  34.4805,2,  34.4809,2,     45.4,2,    44.37,2,     0.11,2,  -999.00,9,     3.04,2,    7.363,1, TS,1,   2388.0,2,   2385.0,2,  -999.00,9
  49WA19960516,    10,  1,      4,      4,2,19960518,0328, 32.7103, 145.2470, -999,   1251.5,   3.0568,  34.3998,2,  34.3984,2,     46.4,2,    42.71,2,     0.10,2,  -999.00,9,     3.15,2,    7.366,1, TS,1,   2371.0,2,   2367.0,2,  -999.00,9
  49WA19960516,    10,  1,      5,      5,2,19960518,0328, 32.7103, 145.2470, -999,   1000.4,   3.8910,  34.2454,2,  34.2438,2,     55.0,2,    40.86,2,     0.13,2,  -999.00,9,     3.00,2,    7.378,1, TS,1,   2343.0,2,   2335.0,2,  -999.00,9
  49WA19960516,    10,  1,      6,      6,2,19960518,0328, 32.7103, 145.2470, -999,    900.2,   3.9977,  34.1145,2,  34.1136,2,     64.5,2,    41.86,2,     0.12,2,  -999.00,9,     2.97,2,    7.363,1, TS,1,   2321.0,2,   2318.0,2,  -999.00,9
  49WA19960516,    10,  1,     24,     24,2,19960518,0328, 32.7103, 145.2470, -999,    844.9,   3.6860,  33.9885,2,  33.9896,2,     72.2,2,    40.48,2,     0.14,2,  -999.00,9,     2.95,2,    7.370,1, TS,1,   2308.0,2,   2303.0,2,  -999.00,9
  49WA19960516,    10,  1,      7,      7,2,19960518,0328, 32.7103, 145.2470, -999,    799.5,   5.5255,  34.2208,2,  34.2236,2,     91.8,2,    35.56,2,     0.17,2,  -999.00,9,     2.52,2,    7.477,1, TS,1,   2318.0,2,   2277.0,2,  -999.00,9
  49WA19960516,    10,  1,      8,      8,2,19960518,0328, 32.7103, 145.2470, -999,    703.6,   4.1445,  33.7578,2,  33.7590,2,    162.3,2,    31.83,2,     0.12,2,  -999.00,9,     2.39,2,    7.507,1, TS,1,   2286.0,2,   2236.0,2,  -999.00,9
  49WA19960516,    10,  1,      9,      9,2,19960518,0328, 32.7103, 145.2470, -999,    600.4,   8.4201,  34.1990,2,  34.1989,2,    152.9,2,    25.05,2,     0.09,2,  -999.00,9,     1.73,2,    7.659,1, TS,1,   2291.0,2,   2186.0,2,  -999.00,9
  49WA19960516,    10,  1,     10,     10,2,19960518,0328, 32.7103, 145.2470, -999,    500.1,  11.8338,  34.4387,2,  34.4377,2,    165.7,2,    18.04,2,     0.14,2,  -999.00,9,     0.98,2,    7.779,1, TS,1,   2283.0,2,   2130.0,2,  -999.00,9
  49WA19960516,    10,  1,     12,     12,2,19960518,0328, 32.7103, 145.2470, -999,    399.7,  14.3612,  34.5820,2,  34.5773,2,    181.9,2,    12.98,2,     0.14,2,  -999.00,9,     0.77,2,    7.876,1, TS,1,   2277.0,2,   2081.0,2,  -999.00,9
  49WA19960516,    10,  1,     13,     13,2,19960518,0328, 32.7103, 145.2470, -999,    299.3,  17.0031,  34.8168,2,  34.8013,3,    209.4,2,     5.42,2,     0.09,2,  -999.00,9,     0.31,2,    7.983,1, TS,1,   2288.0,2,   2036.0,2,     0.00,2
  49WA19960516,    10,  1,     14,     14,2,19960518,0328, 32.7103, 145.2470, -999,    250.2,  17.3980,  34.8660,2,  34.8648,2,    221.9,2,     4.58,2,     0.18,2,  -999.00,9,     0.00,2,    8.015,1, TS,1,   2286.0,2,   2017.0,2,     0.01,2
  49WA19960516,    10,  1,     15,     15,2,19960518,0328, 32.7103, 145.2470, -999,    200.4,  17.7358,  34.8814,2,  34.8804,2,    218.1,2,     3.94,2,     0.13,2,  -999.00,9,     0.04,2,    8.017,1, TS,1,   2292.0,2,   2021.0,2,     0.01,2
  49WA19960516,    10,  1,     16,     16,2,19960518,0328, 32.7103, 145.2470, -999,    174.8,  17.9586,  34.9074,2,  34.9073,2,    225.0,2,     3.17,2,     0.12,2,  -999.00,9,     0.14,2,    8.032,1, TS,1,   2289.0,2,   2009.0,2,     0.01,2
  49WA19960516,    10,  1,     17,     17,2,19960518,0328, 32.7103, 145.2470, -999,    150.1,  18.2037,  34.9090,2,  34.9079,2,    222.5,2,     2.95,2,     0.19,2,  -999.00,9,     0.11,2,    8.039,1, TS,1,   2290.0,2,   2007.0,2,     0.04,2
  49WA19960516,    10,  1,     18,     18,2,19960518,0328, 32.7103, 145.2470, -999,    124.8,  18.6052,  34.9037,2,  34.9026,2,    230.3,2,     0.47,2,     0.31,2,  -999.00,9,     0.02,2,    8.054,1, TS,1,   2289.0,2,   1997.0,2,     0.10,2
  49WA19960516,    10,  1,     19,     19,2,19960518,0328, 32.7103, 145.2470, -999,     99.5,  18.8462,  34.8866,2,  34.8975,3,    229.9,2,     1.06,2,     0.43,2,  -999.00,9,    -0.00,3,    8.056,1, TS,1,   2288.0,2,   1996.0,2,     0.13,2
  49WA19960516,    10,  1,     20,     20,2,19960518,0328, 32.7103, 145.2470, -999,     74.4,  19.1538,  34.8545,2,  34.8623,3,    212.7,2,     4.03,2,     0.26,2,  -999.00,9,     0.00,2,    8.037,1, TS,1,   2283.0,2,   2001.0,2,     0.16,2
  49WA19960516,    10,  1,     21,     21,2,19960518,0328, 32.7103, 145.2470, -999,     49.1,  19.7056,  34.8497,2,  34.8487,2,    228.1,2,     0.97,2,     0.17,2,  -999.00,9,     0.01,2,    8.070,1, TS,1,   2283.0,2,   1983.0,2,     0.26,2
  49WA19960516,    10,  1,     22,     22,2,19960518,0328, 32.7103, 145.2470, -999,     29.3,  19.7267,  34.8531,2,  34.8523,2,    228.9,2,     0.86,2,     0.16,2,  -999.00,9,     0.02,2,    8.071,1, TS,1,   2281.0,2,   1980.0,2,     0.25,2
  49WA19960516,    12,  1,      1,      1,2,19960518,1156, 32.2560, 146.2473, -999,   2001.9,   1.9992,  34.5901,2,  34.5902,2,     75.7,2,    42.37,2,     0.06,2,  -999.00,9,     2.98,2,    7.446,1, TS,1,   2406.0,2,   2374.0,2,  -999.00,9
  49WA19960516,    12,  1,      2,      2,2,19960518,1156, 32.2560, 146.2473, -999,   1753.2,   2.2469,  34.5478,2,  34.5464,2,     61.5,2,    43.22,2,     0.07,2,  -999.00,9,     3.07,2,    7.407,1, TS,1,   2402.0,2,   2383.0,2,  -999.00,9
  49WA19960516,    12,  1,      3,      3,2,19960518,1156, 32.2560, 146.2473, -999,   1502.3,   2.5466,  34.4885,2,  34.4889,2,     46.0,2,    43.46,2,     0.04,2,  -999.00,9,     3.13,2,    7.376,1, TS,1,   2394.0,2,   2386.0,2,  -999.00,9
  49WA19960516,    12,  1,      4,      4,2,19960518,1156, 32.2560, 146.2473, -999,   1251.4,   3.0303,  34.4086,2,  34.4094,2,     45.8,2,    43.02,2,     0.04,2,  -999.00,9,     3.08,2,    7.366,1, TS,1,   2375.0,2,   2371.0,2,  -999.00,9
  49WA19960516,    12,  1,      5,      5,2,19960518,1156, 32.2560, 146.2473, -999,   1001.4,   3.7199,  34.2969,2,  34.2989,2,     53.8,2,    41.92,2,     0.07,2,  -999.00,9,     3.02,2,    7.382,1, TS,1,   2348.0,2,   2339.0,2,  -999.00,9
  49WA19960516,    12,  1,      6,      6,2,19960518,1156, 32.2560, 146.2473, -999,    899.1,   4.0749,  34.2350,2,  34.2346,2,     60.9,2,    39.81,2,     0.05,2,  -999.00,9,     2.91,2,    7.388,1, TS,1,   2335.0,2,   2323.0,2,  -999.00,9
  49WA19960516,    12,  1,      7,      7,2,19960518,1156, 32.2560, 146.2473, -999,    801.1,   4.6881,  34.1348,2,  34.1354,2,     86.4,2,    37.82,2,     0.08,2,  -999.00,9,     2.71,2,    7.436,1, TS,1,   2318.0,2,   2291.0,2,  -999.00,9
  49WA19960516,    12,  1,      8,      8,2,19960518,1156, 32.2560, 146.2473, -999,    700.0,   5.7518,  34.1017,2,  34.1015,2,    119.9,2,    32.96,2,     0.08,2,  -999.00,9,     2.37,2,    7.519,1, TS,1,   2303.0,2,   2248.0,2,  -999.00,9
  49WA19960516,    12,  1,      9,      9,2,19960518,1156, 32.2560, 146.2473, -999,    600.7,   7.4998,  34.1642,2,  34.1662,2,    139.0,2,    27.58,2,     0.05,2,  -999.00,9,     1.95,2,    7.614,1, TS,1,   2289.0,2,   2201.0,2,  -999.00,9
  49WA19960516,    12,  1,     24,     24,2,19960518,1156, 32.2560, 146.2473, -999,    550.0,   7.4276,  33.9292,2,  33.9269,2,    222.4,2,    20.15,2,     0.09,2,  -999.00,9,     1.45,2,    7.745,1, TS,1,   2265.0,2,   2129.0,2,  -999.00,9
  49WA19960516,    12,  1,     10,     10,2,19960518,1156, 32.2560, 146.2473, -999,    500.0,   9.7666,  34.2508,2,  34.2597,3,    179.9,2,    20.56,2,     0.06,2,  -999.00,9,     1.40,2,    7.749,1, TS,1,   2280.0,2,   2141.0,2,  -999.00,9
  49WA19960516,    12,  1,     12,     12,2,19960518,1156, 32.2560, 146.2473, -999,    399.7,  12.7541,  34.4852,2,  34.4924,3,    187.8,2,    14.65,2,     0.11,2,  -999.00,9,     0.98,2,    7.844,1, TS,1,   2281.0,2,   2100.0,2,  -999.00,9
  49WA19960516,    12,  1,     13,     13,2,19960518,1156, 32.2560, 146.2473, -999,    300.1,  15.9029,  34.7015,2,  34.7022,2,    194.0,2,     9.47,2,     0.10,2,  -999.00,9,     0.57,2,    7.937,1, TS,1,   2280.0,2,   2053.0,2,     0.01,2
  49WA19960516,    12,  1,     14,     14,2,19960518,1156, 32.2560, 146.2473, -999,    249.9,  17.0998,  34.8447,2,  34.8444,2,    220.6,2,     3.95,2,     0.05,2,  -999.00,9,     0.21,2,    8.010,1, TS,1,   2282.0,2,   2016.0,2,     0.01,2
  49WA19960516,    12,  1,     15,     15,2,19960518,1156, 32.2560, 146.2473, -999,    201.1,  17.3557,  34.8728,2,  34.8700,2,    226.5,2,     2.54,2,    -0.01,3,  -999.00,9,     0.15,2,    8.027,1, TS,1,   2289.0,2,   2013.0,2,     0.01,2
  49WA19960516,    12,  1,     16,     16,2,19960518,1156, 32.2560, 146.2473, -999,    174.7,  17.4549,  34.8197,2,  34.8222,2,    209.5,2,     5.53,2,     0.05,2,  -999.00,9,     0.24,2,    8.000,1, TS,1,   2289.0,2,   2028.0,2,     0.01,2
  49WA19960516,    12,  1,     17,     17,2,19960518,1156, 32.2560, 146.2473, -999,    151.4,  17.9928,  34.8744,2,  34.8727,2,    218.4,2,     3.24,2,     0.03,2,  -999.00,9,     0.18,2,    8.020,1, TS,1,   2288.0,2,   2015.0,2,     0.01,2
  49WA19960516,    12,  1,     18,     18,2,19960518,1156, 32.2560, 146.2473, -999,    124.1,  18.1207,  34.8769,2,  34.8857,3,    218.6,2,     2.57,2,     0.04,2,  -999.00,9,     0.16,2,    8.031,1, TS,1,   2289.0,2,   2011.0,2,     0.02,2
  49WA19960516,    12,  1,     19,     19,2,19960518,1156, 32.2560, 146.2473, -999,    100.8,  18.5321,  34.8756,2,  34.8741,2,    217.0,2,     2.63,2,     0.13,2,  -999.00,9,     0.14,2,    8.034,1, TS,1,   2286.0,2,   2007.0,2,     0.05,2
  49WA19960516,    12,  1,     20,     20,2,19960518,1156, 32.2560, 146.2473, -999,     74.7,  19.0077,  34.8277,2,  34.8294,2,    216.8,2,     2.47,2,     0.26,2,  -999.00,9,     0.07,2,    8.037,1, TS,1,   2282.0,2,   2001.0,2,     0.17,2
  49WA19960516,    12,  1,     21,     21,2,19960518,1156, 32.2560, 146.2473, -999,     50.4,  19.8361,  34.8601,2,  34.8595,2,    228.7,2,     0.07,2,     0.06,2,  -999.00,9,     0.01,2,    8.077,1, TS,1,   2285.0,2,   1981.0,2,     0.42,2
  49WA19960516,    12,  1,     22,     22,2,19960518,1156, 32.2560, 146.2473, -999,     29.6,  19.8945,  34.8586,2,  34.8585,2,    231.2,2,    -0.09,3,     0.04,2,  -999.00,9,     0.01,2,    8.080,1, TS,1,   2285.0,2,   1979.0,2,     0.43,2
  49WA19960516,    12,  1,     23,     23,2,19960518,1156, 32.2560, 146.2473, -999,     10.4,  19.8963,  34.8571,2,  34.8564,2,    231.0,2,     0.04,2,     0.08,2,  -999.00,9,     0.05,2,    8.080,1, TS,1,   2282.0,2,   1976.0,2,     0.45,2