BOTTLE,20120716MIRCJHATS
EXPOCODE,SECT_ID,STNNBR,CASTNO,SAMPNO,BTLNBR,BTLNBR_FLAG_W,DATE,TIME,LATITUDE,LONGITUDE,DEPTH,CTDPRS,CTDTMP,CTDSAL,CTDSAL_FLAG_W,SALNTY,SALNTY_FLAG_W,OXYGEN,OXYGEN_FLAG_W,SILCAT,SILCAT_FLAG_W,NITRAT,NITRAT_FLAG_W,NITRIT,NITRIT_FLAG_W,PHSPHT,PHSPHT_FLAG_W,CFC-11,CFC-11_FLAG_W,CFC-12,CFC-12_FLAG_W,TRITUM,TRITUM_FLAG_W,DELC13,DELC13_FLAG_W,O18O16,O18O16_FLAG_W,TCARBN,TCARBN_FLAG_W,ALKALI,ALKALI_FLAG_W,PH,PH_FLAG_W,THETA
,,,,,,,,,,,,DBAR,IPTS-68,PSS-78,,PSS-78,,UMOL/KG,,UMOL/KG,,UMOL/KG,,UMOL/KG,,UMOL/KG,,PMOL/KG,,PMOL/KG,,TU,,/MILLE,,/MILLE,,UMOL/KG,,UMOL/KG,,,,DEG
    90BM9316_1,  P01W,     8,  1,    156,     23,2,19930905,1105, 47.5098, 150.9795, 3378,      3.0,   8.5770,  32.8299,2,  32.8513,2,    312.1,2,    16.50,2,     6.36,2,     0.14,2,     0.84,2,    4.958,3,    2.360,3, -999.000,9,  -999.00,9,  -999.00,9,   2042.4,2,   2241.2,2,     8.03,2,  8.5767
    90BM9316_1,  P01W,     8,  1,    157,     22,2,19930905,1105, 47.5098, 150.9795, 3378,     49.9,   2.7190,  33.1861,2,  33.1874,2,    279.6,2,    45.30,2,    22.03,2,     0.17,2,     1.93,2,    5.619,3,    2.656,3, -999.000,9,  -999.00,9,  -999.00,9,   2149.5,2,   2256.1,2,     7.81,2,  2.7162
    90BM9316_1,  P01W,     8,  1,    158,     21,2,19930905,1105, 47.5098, 150.9795, 3378,    101.6,   2.0140,  33.3179,2,  33.3122,2,    251.0,2,    56.90,2,    26.17,2,     0.13,2,     2.22,2,    5.004,3,    2.375,3, -999.000,9,  -999.00,9,  -999.00,9,   2178.3,2,   2260.0,2,     7.74,2,  2.0089
    90BM9316_1,  P01W,     8,  1,    159,     20,2,19930905,1105, 47.5098, 150.9795, 3378,    150.7,   2.0650,  33.3851,2,  33.3670,2,    237.8,2,    61.70,2,    27.96,2,     0.14,2,     2.32,2,    4.723,3,    2.214,3, -999.000,9,  -999.00,9,  -999.00,9,   2190.4,2,   2266.7,2,     7.73,2,  2.0572
    90BM9316_1,  P01W,     8,  1,    160,     19,2,19930905,1105, 47.5098, 150.9795, 3378,    200.9,   2.0770,  33.4173,2,  33.3980,2,    228.9,2,    64.00,2,    28.47,2,     0.13,2,     2.37,2,    4.653,3,    2.127,3, -999.000,9,  -999.00,9,  -999.00,9,   2196.2,2,   2271.7,2,     7.72,2,  2.0665
    90BM9316_1,  P01W,     8,  1,    161,     18,2,19930905,1105, 47.5098, 150.9795, 3378,    300.3,   1.3210,  33.4132,2,  33.4068,2,    225.8,2,    63.00,2,    28.89,2,     0.01,2,     2.37,2,    4.701,3,    2.222,3, -999.000,9,  -999.00,9,  -999.00,9,   2205.7,2,   2269.6,2,     7.70,2,  1.3070
    90BM9316_1,  P01W,     8,  1,    162,     17,2,19930905,1105, 47.5098, 150.9795, 3378,    400.6,   1.2710,  33.4797,2,  33.4565,2,    213.6,2,    67.00,2,    30.70,2,     0.00,2,     2.52,2,    4.548,3,    2.153,3, -999.000,9,  -999.00,9,  -999.00,9,   2221.6,2,   2269.7,2,     7.66,2,  1.2521
    90BM9316_1,  P01W,     8,  1,    163,     16,2,19930905,1105, 47.5098, 150.9795, 3378,    600.1,   1.7250,  33.6711,2,  33.6522,2,    159.8,2,    84.20,2,    33.20,2,     0.00,2,     2.67,2,    3.479,3,    1.691,3, -999.000,9,  -999.00,9,  -999.00,9,   2256.1,2,   2288.7,2,     7.61,2,  1.6932
    90BM9316_1,  P01W,     8,  1,    164,     15,2,19930905,1105, 47.5098, 150.9795, 3378,    800.1,   2.0560,  33.9732,2,  33.9580,2,     91.7,2,   120.50,2,    38.50,2,     0.00,2,     2.92,2,    1.777,3,    0.841,3, -999.000,9,  -999.00,9,  -999.00,9,   2316.0,2,   2325.4,2,     7.54,2,  2.0097
    90BM9316_1,  P01W,     8,  1,    165,     14,2,19930905,1105, 47.5098, 150.9795, 3378,   1001.5,   2.2920,  34.2084,2,  34.1937,2,     54.2,2,   146.10,2,    37.30,2,  -999.00,9,     3.14,2,    0.692,3,    0.383,3, -999.000,9,  -999.00,9,  -999.00,9,   2352.8,2,   2360.3,2,     7.53,2,  2.2301
    90BM9316_1,  P01W,     8,  1,    166,     13,2,19930905,1105, 47.5098, 150.9795, 3378,   1201.4,   2.3000,  34.3864,2,  34.3731,2,     49.0,2,   154.30,2,    38.50,2,  -999.00,9,     3.19,2,    0.286,3,    0.132,3, -999.000,9,  -999.00,9,  -999.00,9,   2364.9,2,   2377.6,2,     7.55,2,  2.2234
    90BM9316_1,  P01W,     8,  1,    167,     12,2,19930905,1105, 47.5098, 150.9795, 3378,   1401.5,   2.1580,  34.4586,2,  34.4450,2,     56.8,2,   159.60,2,    38.20,2,  -999.00,9,     3.20,2,    0.179,3,    0.061,3, -999.000,9,  -999.00,9,  -999.00,9,   2369.4,2,   2386.4,2,     7.57,2,  2.0677
    90BM9316_1,  P01W,     8,  1,    168,     11,2,19930905,1105, 47.5098, 150.9795, 3378,   1600.9,   2.0940,  34.5026,2,  34.4892,2,     59.2,2,   161.40,2,    38.20,2,  -999.00,9,     3.19,2,    0.075,3,    0.079,3, -999.000,9,  -999.00,9,  -999.00,9,   2371.6,2,   2397.7,2,     7.58,2,  1.9890
    90BM9316_1,  P01W,     8,  1,    169,     10,2,19930905,1105, 47.5098, 150.9795, 3378,   1800.1,   2.0280,  34.5294,2,  34.5168,2,     65.4,2,   162.80,2,    38.00,2,  -999.00,9,     3.16,2,    0.052,3,    0.048,3, -999.000,9,  -999.00,9,  -999.00,9,   2367.7,2,   2402.3,2,     7.60,2,  1.9080
    90BM9316_1,  P01W,     8,  1,    170,      9,2,19930905,1105, 47.5098, 150.9795, 3378,   2001.6,   1.9730,  34.5557,2,  34.5429,2,     70.2,2,   164.30,2,    38.00,2,  -999.00,9,     3.15,2,    0.010,3,    0.027,3, -999.000,9,  -999.00,9,  -999.00,9,   2368.3,2,   2406.2,2,     7.62,2,  1.8371
    90BM9316_1,  P01W,     8,  1,    171,      8,2,19930905,1105, 47.5098, 150.9795, 3378,   2199.5,   1.9210,  34.5747,2,  34.5616,2,     75.0,2,   166.70,2,    37.90,2,  -999.00,9,     3.14,2, -999.000,9, -999.000,9, -999.000,9,  -999.00,9,  -999.00,9,   2368.1,2,   2409.2,2,     7.62,2,  1.7691
    90BM9316_1,  P01W,     8,  1,    172,      7,2,19930905,1105, 47.5098, 150.9795, 3378,   2400.3,   1.8830,  34.5899,2,  34.5768,2,     78.8,2,   167.70,2,    37.90,2,  -999.00,9,     3.10,2, -999.000,9, -999.000,9, -999.000,9,  -999.00,9,  -999.00,9,   2366.8,2,   2414.2,2,     7.62,2,  1.7141
    90BM9316_1,  P01W,     8,  1,    173,      6,2,19930905,1105, 47.5098, 150.9795, 3378,   2598.9,   1.8720,  34.5984,2,  34.5848,2,     81.7,2,   170.30,2,    38.10,2,  -999.00,9,     3.10,2, -999.000,9, -999.000,9, -999.000,9,  -999.00,9,  -999.00,9,   2365.9,2,   2414.3,2,     7.62,2,  1.6854
    90BM9316_1,  P01W,     8,  1,    174,      5,2,19930905,1105, 47.5098, 150.9795, 3378,   2800.0,   1.8610,  34.6068,2,  34.5929,2,     84.7,2,   168.80,2,    38.10,2,  -999.00,9,     3.07,2, -999.000,9, -999.000,9, -999.000,9,  -999.00,9,  -999.00,9,   2365.6,2,   2410.6,2,     7.63,2,  1.6558
    90BM9316_1,  P01W,     8,  1,    175,      4,2,19930905,1105, 47.5098, 150.9795, 3378,   2999.6,   1.8520,  34.6140,2,  34.6008,2,     87.3,2,   170.20,2,    38.00,2,  -999.00,9,     3.05,2, -999.000,9, -999.000,9, -999.000,9,  -999.00,9,  -999.00,9,   2364.4,2,   2414.5,2,     7.63,2,  1.6278
    90BM9316_1,  P01W,     8,  1,    176,      3,2,19930905,1105, 47.5098, 150.9795, 3378,   3199.6,   1.8500,  34.6209,2,  34.6062,2,     88.3,2,   177.00,2,    38.30,2,  -999.00,9,     3.04,2, -999.000,9, -999.000,9, -999.000,9,  -999.00,9,  -999.00,9,   2364.5,2,   2420.3,2,     7.65,2,  1.6061
    90BM9316_1,  P01W,     8,  1,    178,      1,2,19930905,1105, 47.5098, 150.9795, 3378,   3350.1,   1.8500,  34.6246,2,  34.6094,2,     93.8,2,   166.60,2,    38.40,2,  -999.00,9,     2.89,2,    0.000,3,    0.000,3, -999.000,9,  -999.00,9,  -999.00,9,   2358.8,2,   2417.6,2,     7.65,2,  1.5909
    90BM9316_1,  P01W,     8,  1,    177,      2,2,19930905,1105, 47.5098, 150.9795, 3378,   3351.4,   1.8500,  34.6246,2,  34.6102,2,     92.6,2,   167.20,2,    38.00,2,  -999.00,9,     2.94,2,    0.000,3,    0.074,3, -999.000,9,  -999.00,9,  -999.00,9,   2364.1,2,   2418.5,2,     7.65,2,  1.5907
    90BM9316_1,  P01W,     9,  1,    179,     23,2,19930905,1557, 48.0032, 150.7015, 3330,      9.4,  11.9400,  32.4984,2,  32.4948,2,    286.5,2,     8.80,2,     0.20,2,     0.00,2,     0.32,2,    4.319,3,    1.982,3, -999.000,9,  -999.00,9,    -0.82,2,   1922.2,2,   2224.6,2,     8.09,2, 11.9388
    90BM9316_1,  P01W,     9,  1,    180,     22,2,19930905,1557, 48.0032, 150.7015, 3330,     50.3,   2.1910,  33.1063,2,  33.0944,2,   -999.0,5,    36.60,2,    18.01,2,     0.19,2,     1.79,2,    5.794,3,    2.671,3, -999.000,9,  -999.00,9,    -0.68,2,   2139.4,2,   2251.0,2,     7.82,2,  2.1884
    90BM9316_1,  P01W,     9,  1,    181,     21,2,19930905,1557, 48.0032, 150.7015, 3330,    100.0,   1.7680,  33.2583,2,  33.2398,2,    265.6,2,    48.40,2,    22.58,2,     0.02,2,     2.06,2,    5.464,3,    2.533,3, -999.000,9,  -999.00,9,    -0.79,2,   2176.0,2,   2263.6,2,     7.75,2,  1.7632
    90BM9316_1,  P01W,     9,  1,    182,     20,2,19930905,1557, 48.0032, 150.7015, 3330,    150.1,   1.5340,  33.3206,2,  33.3062,2,    252.9,2,    53.70,2,    24.30,2,     0.00,2,     2.22,2,    5.074,3,    2.289,3, -999.000,9,  -999.00,9,    -0.64,2,   2185.3,2,   2263.5,2,     7.74,2,  1.5270
    90BM9316_1,  P01W,     9,  1,    183,     19,2,19930905,1557, 48.0032, 150.7015, 3330,    199.6,   1.5590,  33.3868,2,  33.3683,2,    216.1,2,    59.80,2,    26.60,2,     0.00,2,     2.37,2,    4.831,3,    2.238,3, -999.000,9,  -999.00,9,    -0.73,2,   2201.2,2,   2268.1,2,     7.70,2,  1.5495
    90BM9316_1,  P01W,     9,  1,    184,     18,2,19930905,1557, 48.0032, 150.7015, 3330,    300.9,   1.5280,  33.4839,2,  33.4645,2,    212.4,2,    67.50,2,    28.10,2,     0.00,2,     2.50,2,    4.443,3,    2.095,3, -999.000,9,  -999.00,9,    -0.76,2,   2218.1,2,   2275.0,2,     7.68,2,  1.5134
    90BM9316_1,  P01W,     9,  1,    185,     17,2,19930905,1557, 48.0032, 150.7015, 3330,    400.1,   1.5130,  33.5438,2,  33.5302,2,    192.4,2,    72.40,2,    30.00,2,     0.00,2,     2.61,2,    4.098,3,    1.966,3, -999.000,9,  -999.00,9,    -0.78,2,   2237.0,2,   2282.7,2,     7.64,2,  1.4933
    90BM9316_1,  P01W,     9,  1,    186,     16,2,19930905,1557, 48.0032, 150.7015, 3330,    599.4,   1.5290,  33.7162,2,  33.7032,2,    143.5,2,    91.60,2,    32.60,2,     0.00,2,     2.83,2,    3.290,3,    1.499,3, -999.000,9,  -999.00,9,    -0.83,2,   2279.3,2,   2299.0,2,     7.57,2,  1.4981
    90BM9316_1,  P01W,     9,  1,    187,     15,2,19930905,1557, 48.0032, 150.7015, 3330,    800.4,   2.1210,  34.0558,2,  34.0454,2,     78.5,2,   129.90,2,    37.10,2,     0.00,2,     3.06,2,    1.488,3,    0.734,3, -999.000,9,  -999.00,9,    -0.57,2,   2333.8,2,   2345.3,2,     7.53,2,  2.0741
    90BM9316_1,  P01W,     9,  1,    188,     14,2,19930905,1557, 48.0032, 150.7015, 3330,   1000.9,   2.3120,  34.2593,2,  34.2484,2,     48.5,2,   151.10,2,    38.90,2,     0.00,2,     3.15,2,    0.567,3,    0.348,3, -999.000,9,  -999.00,9,    -0.50,2,   2370.4,2,   2368.4,2,     7.53,2,  2.2499
    90BM9316_1,  P01W,     9,  1,    189,     13,2,19930905,1557, 48.0032, 150.7015, 3330,   1198.7,   2.2470,  34.3828,2,  34.3718,2,     49.4,2,   155.80,2,    39.30,2,     0.00,2,     3.16,2,    0.270,3,    0.162,3, -999.000,9,  -999.00,9,    -0.45,2,   2368.5,2,   2392.6,2,     7.54,2,  2.1711
    90BM9316_1,  P01W,     9,  1,    190,     12,2,19930905,1557, 48.0032, 150.7015, 3330,   1397.5,   2.1720,  34.4598,2,  34.4472,2,     52.3,2,   159.70,2,    38.80,2,     0.00,2,     3.15,2,    0.128,3,    0.092,3, -999.000,9,  -999.00,9,    -0.49,2,   2374.4,2,   2398.5,2,     7.57,2,  2.0819
    90BM9316_1,  P01W,     9,  1,    191,     11,2,19930905,1557, 48.0032, 150.7015, 3330,   1599.2,   2.0950,  34.4963,2,  34.4866,2,     59.0,2,   161.70,2,    39.20,2,     0.00,2,     3.09,2,    0.099,3,    0.069,3, -999.000,9,  -999.00,9,    -0.50,2,   2369.0,2,   2400.2,2,     7.58,2,  1.9902
    90BM9316_1,  P01W,     9,  1,    193,      9,2,19930905,1557, 48.0032, 150.7015, 3330,   1798.6,   2.0400,  34.5301,2,  34.5188,2,     63.7,2,   163.20,2,    39.20,2,     0.00,2,     3.02,2,    0.044,3,    0.066,3, -999.000,9,  -999.00,9,    -0.45,2,   2371.9,2,   2404.2,2,     7.58,2,  1.9199
    90BM9316_1,  P01W,     9,  1,    192,     10,2,19930905,1557, 48.0032, 150.7015, 3330,   1799.0,   2.0410,  34.5298,2,  34.5186,2,     62.2,2,   163.00,2,    38.90,2,     0.00,2,     3.04,2,    0.048,3,    0.067,3, -999.000,9,  -999.00,9,    -0.51,2,   2371.3,2,   2405.0,2,     7.58,2,  1.9209
    90BM9316_1,  P01W,     9,  1,    194,      8,3,19930905,1557, 48.0032, 150.7015, 3330,   2000.1,   1.9930,  34.5491,2,  34.5360,2,     67.6,2,   163.70,2,    39.00,2,     0.00,2,     3.05,2,    0.024,3,    0.103,3, -999.000,9,  -999.00,9,    -0.51,2,   2370.4,2,   2411.2,2,     7.60,2,  1.8570
    90BM9316_1,  P01W,     9,  1,    195,      7,2,19930905,1557, 48.0032, 150.7015, 3330,   2200.8,   1.9370,  34.5701,2,  34.5598,2,     74.2,2,   164.50,2,    39.20,2,     0.00,2,     3.01,2,    0.022,3,    0.049,3, -999.000,9,  -999.00,9,    -0.53,2,   2368.0,2,   2413.3,2,     7.62,2,  1.7847
    90BM9316_1,  P01W,     9,  1,    196,      6,2,19930905,1557, 48.0032, 150.7015, 3330,   2400.0,   1.8950,  34.5868,2,  34.5739,2,     79.2,2,   165.40,2,    38.90,2,     0.00,2,     2.95,2,    0.265,3,    0.074,3, -999.000,9,  -999.00,9,    -0.53,2,   2369.7,2,   2413.3,2,     7.63,2,  1.7259
    90BM9316_1,  P01W,     9,  1,    197,      5,2,19930905,1557, 48.0032, 150.7015, 3330,   2599.8,   1.8720,  34.5983,2,  34.5868,2,     82.6,2,   165.80,2,    39.10,2,     0.00,2,     2.95,2,    0.003,3,    0.005,3, -999.000,9,  -999.00,9,    -0.41,2,   2367.0,2,   2418.1,2,     7.62,2,  1.6853
    90BM9316_1,  P01W,     9,  1,    198,      4,2,19930905,1557, 48.0032, 150.7015, 3330,   2801.0,   1.8590,  34.6079,2,  34.5962,2,     84.9,2,   166.10,2,    38.70,2,     0.00,2,     2.94,2,    0.176,3,    0.062,3, -999.000,9,  -999.00,9,    -0.47,2,   2365.1,2,   2419.0,2,     7.64,2,  1.6537
    90BM9316_1,  P01W,     9,  1,    199,      3,2,19930905,1557, 48.0032, 150.7015, 3330,   2998.7,   1.8560,  34.6128,2,  34.6010,2,     87.3,2,   168.00,2,    38.80,2,     0.00,2,     2.97,2,    0.003,3,    0.053,3, -999.000,9,  -999.00,9,    -0.44,2,   2367.0,2,   2419.0,2,     7.64,2,  1.6318
    90BM9316_1,  P01W,     9,  1,    200,      2,2,19930905,1557, 48.0032, 150.7015, 3330,   3200.0,   1.8560,  34.6184,2,  34.6066,2,     89.1,2,   169.50,2,    38.40,2,     0.00,2,     2.97,2,    0.000,3,    0.104,3, -999.000,9,  -999.00,9,    -0.42,2,   2365.3,2,   2421.0,2,     7.62,3,  1.6119
    90BM9316_1,  P01W,     9,  1,    201,      1,4,19930905,1557, 48.0032, 150.7015, 3330,   3251.7,   1.8560,  34.6198,2,-999.0000,9,   -999.0,9,  -999.00,9,  -999.00,9,  -999.00,9,  -999.00,9, -999.000,9, -999.000,9, -999.000,9,  -999.00,9,  -999.00,9,   -999.0,9,   -999.0,9,  -999.00,9,  1.6067
    90BM9316_1,  P01W,    10,  1,    202,     18,2,19930906,1720, 48.5038, 150.3130, 2185,     10.4,  12.1080,  32.4516,2,  32.4590,2,    282.5,2,     8.70,2,     0.03,2,     0.07,2,     0.47,3,    4.264,3,    1.920,3, -999.000,9,  -999.00,9,  -999.00,9,   1998.1,2,   2202.8,2,     8.10,2, 12.1067
    90BM9316_1,  P01W,    10,  1,    203,     17,2,19930906,1720, 48.5038, 150.3130, 2185,     51.1,   2.2810,  32.9559,2,  32.9420,2,    331.9,2,    27.00,2,    14.26,2,     0.44,2,     1.24,3,    6.115,3,    2.845,3, -999.000,9,  -999.00,9,  -999.00,9,   2109.3,2,   2244.0,2,     7.88,2,  2.2784
    90BM9316_1,  P01W,    10,  1,    204,     16,2,19930906,1720, 48.5038, 150.3130, 2185,    100.5,   1.0020,  33.1863,2,  33.1720,2,    286.1,2,    42.30,2,    22.98,2,     0.02,2,     1.58,3,    5.832,3,    2.733,3, -999.000,9,  -999.00,9,  -999.00,9,   2157.4,2,   2258.1,2,     7.77,2,  0.9978
    90BM9316_1,  P01W,    10,  1,    205,     15,2,19930906,1720, 48.5038, 150.3130, 2185,    151.9,   1.1120,  33.3302,2,  33.2990,2,    257.7,2,    52.90,2,    26.29,2,     0.01,2,     2.03,3,    5.438,3,    2.484,3, -999.000,9,  -999.00,9,  -999.00,9,   2195.2,2,   2267.7,2,     7.73,2,  1.1054
    90BM9316_1,  P01W,    10,  1,    206,     14,2,19930906,1720, 48.5038, 150.3130, 2185,    201.4,   1.4950,  33.4184,2,  33.3980,2,    232.7,2,    66.50,2,    30.49,2,     0.01,2,     2.12,3,    4.911,3,    2.465,3, -999.000,9,  -999.00,9,  -999.00,9,   2205.1,2,   2269.7,2,     7.70,2,  1.4855
    90BM9316_1,  P01W,    10,  1,    207,     13,2,19930906,1720, 48.5038, 150.3130, 2185,    302.5,   1.1180,  33.4631,2,  33.4450,2,    202.5,2,    67.00,2,    32.49,2,     0.01,2,     2.22,3,    4.885,3,    2.390,3, -999.000,9,  -999.00,9,  -999.00,9,   2229.0,2,   2269.8,2,     7.64,2,  1.1044
    90BM9316_1,  P01W,    10,  1,    208,     12,2,19930906,1720, 48.5038, 150.3130, 2185,    401.9,   1.1630,  33.5483,2,  33.5290,2,    185.6,2,    71.60,2,    32.59,2,     0.01,2,     2.35,3,    4.562,3,    2.174,3, -999.000,9,  -999.00,9,  -999.00,9,   2239.5,2,   2279.9,2,     7.62,2,  1.1443
    90BM9316_1,  P01W,    10,  1,    209,     11,2,19930906,1720, 48.5038, 150.3130, 2185,    602.1,   1.8820,  33.8596,2,  33.8500,2,    115.0,2,   107.70,2,    37.99,2,     0.01,2,     2.56,3,    2.502,3,    1.225,3, -999.000,9,  -999.00,9,  -999.00,9,   2295.4,2,   2311.4,2,     7.57,2,  1.8491
    90BM9316_1,  P01W,    10,  1,    210,     10,2,19930906,1720, 48.5038, 150.3130, 2185,    801.5,   2.1880,  34.1237,2,  34.1100,2,     67.2,2,   137.50,2,    41.79,2,     0.01,2,     2.93,3,    1.201,3,    0.552,3, -999.000,9,  -999.00,9,  -999.00,9,   2342.6,2,   2351.1,2,     7.53,2,  2.1405
    90BM9316_1,  P01W,    10,  1,    211,      9,2,19930906,1720, 48.5038, 150.3130, 2185,   1001.3,   2.3240,  34.2959,2,  34.2820,2,     47.5,2,   150.90,2,    42.29,2,     0.01,2,     2.99,3,    0.486,3,    0.276,3, -999.000,9,  -999.00,9,  -999.00,9,   2363.6,2,   2371.4,2,     7.53,2,  2.2617
    90BM9316_1,  P01W,    10,  1,    212,      8,2,19930906,1720, 48.5038, 150.3130, 2185,   1201.4,   2.3200,  34.4102,2,  34.3970,2,     46.4,2,   157.40,2,    43.39,2,     0.01,2,     2.89,3,    0.184,3,    0.121,3, -999.000,9,  -999.00,9,  -999.00,9,   2371.1,2,   2380.2,2,     7.56,2,  2.2431
    90BM9316_1,  P01W,    10,  1,    214,      6,2,19930906,1720, 48.5038, 150.3130, 2185,   1400.3,   2.2000,  34.4702,2,  34.4560,2,     52.6,2,   160.50,2,    42.69,2,     0.01,2,     2.79,3,    0.103,3,    0.102,3, -999.000,9,  -999.00,9,  -999.00,9,   2371.1,2,   -999.0,2,     7.57,2,  2.1093
    90BM9316_1,  P01W,    10,  1,    213,      7,2,19930906,1720, 48.5038, 150.3130, 2185,   1400.5,   2.2000,  34.4708,2,  34.4560,2,     54.4,2,   160.00,2,    42.59,2,     0.01,2,     2.80,3,    0.124,3,    0.184,3, -999.000,9,  -999.00,9,  -999.00,9,   2373.1,2,   2394.2,2,     7.57,2,  2.1093
    90BM9316_1,  P01W,    10,  1,    215,      5,2,19930906,1720, 48.5038, 150.3130, 2185,   1600.1,   2.0920,  34.5076,2,  34.4930,2,     59.5,2,   162.60,2,    39.29,2,     0.01,2,     2.84,3,    0.120,3,    0.183,3, -999.000,9,  -999.00,9,  -999.00,9,   2371.9,2,   2396.1,2,     7.58,2,  1.9871
    90BM9316_1,  P01W,    10,  1,    216,      4,2,19930906,1720, 48.5038, 150.3130, 2185,   1798.5,   2.0090,  34.5417,2,  34.5270,2,     66.5,2,   164.70,2,    39.09,2,     0.01,2,     2.89,3,    0.095,3,    0.073,3, -999.000,9,  -999.00,9,  -999.00,9,   2369.3,2,   2399.7,2,     7.60,2,  1.8893
    90BM9316_1,  P01W,    10,  1,    217,      3,2,19930906,1720, 48.5038, 150.3130, 2185,   1999.3,   1.9560,  34.5651,2,  34.5500,2,     70.9,2,   166.60,2,    39.29,2,     0.01,2,     2.89,3,    0.059,3,    0.113,3, -999.000,9,  -999.00,9,  -999.00,9,   2372.6,2,   2406.5,2,     7.60,2,  1.8205
    90BM9316_1,  P01W,    10,  1,    218,      2,2,19930906,1720, 48.5038, 150.3130, 2185,   2097.6,   1.9150,  34.5789,2,  34.5630,2,     74.8,2,   167.30,2,    38.89,2,     0.01,2,     2.85,3,    0.031,3,    0.207,3, -999.000,9,  -999.00,9,  -999.00,9,   2371.0,2,   2406.6,2,     7.60,2,  1.7719
    90BM9316_1,  P01W,    10,  1,    219,      1,2,19930906,1720, 48.5038, 150.3130, 2185,   2100.2,   1.9160,  34.5798,2,  34.5630,2,     75.1,2,   168.00,2,    36.99,2,     0.01,2,     2.86,3,    0.019,3,    0.044,3, -999.000,9,  -999.00,9,  -999.00,9,   2366.2,2,   2410.8,2,     7.60,2,  1.7726