BOTTLE,20120716MIRCJHATS
EXPOCODE,SECT_ID,STNNBR,CASTNO,SAMPNO,BTLNBR,BTLNBR_FLAG_W,DATE,TIME,LATITUDE,LONGITUDE,DEPTH,CTDPRS,CTDTMP,CTDSAL,CTDSAL_FLAG_W,SALNTY,SALNTY_FLAG_W,OXYGEN,OXYGEN_FLAG_W,SILCAT,SILCAT_FLAG_W,NITRAT,NITRAT_FLAG_W,NITRIT,NITRIT_FLAG_W,PHSPHT,PHSPHT_FLAG_W,CFC-11,CFC-11_FLAG_W,CFC-12,CFC-12_FLAG_W,TRITUM,TRITUM_FLAG_W,DELC13,DELC13_FLAG_W,O18O16,O18O16_FLAG_W,TCARBN,TCARBN_FLAG_W,ALKALI,ALKALI_FLAG_W,PH,PH_FLAG_W,THETA
,,,,,,,,,,,,DBAR,IPTS-68,PSS-78,,PSS-78,,UMOL/KG,,UMOL/KG,,UMOL/KG,,UMOL/KG,,UMOL/KG,,PMOL/KG,,PMOL/KG,,TU,,/MILLE,,/MILLE,,UMOL/KG,,UMOL/KG,,,,DEG
    90BM9316_1,  P01W,    31,  1,    392,      5,2,19930912,1904, 57.5002, 142.0438,  155,      9.7,  10.5530,  32.6572,2,  32.6630,2,    291.1,2,     8.70,2,     0.20,2,     0.10,3,     0.31,3, -999.000,9, -999.000,9, -999.000,9,  -999.00,9,  -999.00,9,   1988.1,2,   -999.0,9,     8.15,2, 10.5519
    90BM9316_1,  P01W,    31,  1,    391,      6,2,19930912,1904, 57.5002, 142.0438,  155,     10.0,  10.6110,  32.6547,2,  32.6640,2,    292.5,2,     8.70,2,     0.26,2,     0.04,3,     0.36,3, -999.000,9, -999.000,9, -999.000,9,  -999.00,9,  -999.00,9,   1987.0,2,   -999.0,9,     8.15,2, 10.6098
    90BM9316_1,  P01W,    31,  1,    393,      4,2,19930912,1904, 57.5002, 142.0438,  155,     50.3,  -1.5670,  33.1798,2,  33.1420,2,    282.1,2,    41.50,2,    25.06,2,     0.04,3,     2.24,3, -999.000,9, -999.000,9, -999.000,9,  -999.00,9,  -999.00,9,   2202.4,2,   -999.0,9,     7.67,2, -1.5680
    90BM9316_1,  P01W,    31,  1,    394,      3,2,19930912,1904, 57.5002, 142.0438,  155,     75.1,  -1.6560,  33.2497,2,  33.2110,2,    278.9,2,    44.60,2,    26.25,2,     0.05,3,     2.26,3, -999.000,9, -999.000,9, -999.000,9,  -999.00,9,  -999.00,9,   2204.5,2,   -999.0,9,     7.66,2, -1.6574
    90BM9316_1,  P01W,    31,  1,    395,      2,2,19930912,1904, 57.5002, 142.0438,  155,    100.0,  -1.6010,  33.3079,2,  33.2690,2,    272.4,2,    47.40,2,    26.46,2,     0.04,3,     2.37,3, -999.000,9, -999.000,9, -999.000,9,  -999.00,9,  -999.00,9,   2211.7,2,   -999.0,9,     7.66,2, -1.6030
    90BM9316_1,  P01W,    31,  1,    396,      1,2,19930912,1904, 57.5002, 142.0438,  155,    125.8,  -1.7080,  33.5646,2,  33.5140,2,    255.3,2,    56.50,2,    23.75,2,     0.05,3,     2.54,3, -999.000,9, -999.000,9, -999.000,9,  -999.00,9,  -999.00,9,   2256.1,2,   -999.0,9,     7.59,2, -1.7104
    90BM9316_1,  P01W,    32,  1,    398,      7,2,19930913,0038, 56.5033, 142.2660,  230,     10.7,  11.6350,  31.0719,2,  31.0720,2,    286.1,2,     4.20,2,     0.16,2,     0.04,3,     0.21,3, -999.000,9, -999.000,9, -999.000,9,  -999.00,9,  -999.00,9,   1924.8,2,   -999.0,9,     8.13,2, 11.6337
    90BM9316_1,  P01W,    32,  1,    399,      6,2,19930913,0038, 56.5033, 142.2660,  230,     50.6,  -0.3030,  33.1658,2,  33.1280,2,    278.4,2,    48.70,2,    26.23,2,     0.07,3,     2.09,3, -999.000,9, -999.000,9, -999.000,9,  -999.00,9,  -999.00,9,   2180.6,2,   -999.0,9,     7.71,2, -0.3045
    90BM9316_1,  P01W,    32,  1,    401,      4,2,19930913,0038, 56.5033, 142.2660,  230,    100.0,  -0.3860,  33.2858,2,  33.2430,2,    246.3,2,    58.70,2,    30.26,2,     0.04,3,     2.36,3, -999.000,9, -999.000,9, -999.000,9,  -999.00,9,  -999.00,9,   2210.4,2,   -999.0,9,     7.63,2, -0.3890
    90BM9316_1,  P01W,    32,  1,    403,      2,2,19930913,0038, 56.5033, 142.2660,  230,    149.9,  -0.8300,  33.3588,2,  33.3110,2,    215.5,2,    66.60,2,    33.46,2,     0.04,3,     2.56,3, -999.000,9, -999.000,9, -999.000,9,  -999.00,9,  -999.00,9,   2231.9,2,   -999.0,9,     7.58,2, -0.8340
    90BM9316_1,  P01W,    32,  1,    402,      3,2,19930913,0038, 56.5033, 142.2660,  230,    150.3,  -0.8100,  33.3555,2,  33.3110,2,    215.4,2,    66.90,2,    33.56,2,     0.04,3,     2.47,3, -999.000,9, -999.000,9, -999.000,9,  -999.00,9,  -999.00,9,   2232.0,2,   -999.0,9,     7.58,2, -0.8141
    90BM9316_1,  P01W,    32,  1,    404,      1,2,19930913,0038, 56.5033, 142.2660,  230,    200.0,  -0.2480,-999.0000,2,  33.3590,2,    194.7,2,    74.40,2,    35.46,2,     0.04,3,     2.68,3, -999.000,9, -999.000,9, -999.000,9,  -999.00,9,  -999.00,9,   2254.6,2,   -999.0,9,     7.54,2,-999.0000
    90BM9316_1,  P01W,    33,  1,    405,     15,2,19930913,0632, 55.4995, 142.4510,  300,      9.6,  10.1360,  30.6318,2,  30.8250,2,    303.7,2,     5.00,2,     2.46,2,     0.04,3,     0.51,3, -999.000,9, -999.000,9, -999.000,9,  -999.00,9,    -1.85,9,   1939.2,2,   -999.0,9,     8.07,2, 10.1349
    90BM9316_1,  P01W,    33,  1,    406,     14,2,19930913,0632, 55.4995, 142.4510,  300,     50.0,  -0.4720,  33.0537,2,  33.0320,2,    304.4,2,    40.40,2,    22.29,2,     0.11,3,     1.92,3, -999.000,9, -999.000,9, -999.000,9,  -999.00,9,    -0.93,9,   2158.9,2,   -999.0,9,     7.75,2, -0.4734
    90BM9316_1,  P01W,    33,  1,    408,     12,2,19930913,0632, 55.4995, 142.4510,  300,     99.7,  -0.8250,  33.2537,2,  33.2120,2,    265.0,2,    52.60,2,    26.94,2,     0.06,3,     2.26,3, -999.000,9, -999.000,9, -999.000,9,  -999.00,9,  -999.00,9,   2204.6,2,   -999.0,9,     7.67,2, -0.8276
    90BM9316_1,  P01W,    33,  1,    409,     11,2,19930913,0632, 55.4995, 142.4510,  300,    150.2,  -0.1770,  33.3580,2,  33.3180,2,    220.8,2,    65.20,2,    30.25,2,     0.05,3,     2.47,3, -999.000,9, -999.000,9, -999.000,9,  -999.00,9,  -999.00,9,   2234.9,2,   -999.0,9,     7.59,2, -0.1819
    90BM9316_1,  P01W,    33,  1,    410,     10,2,19930913,0632, 55.4995, 142.4510,  300,    150.2,  -0.1740,  33.3491,2,  33.3200,2,   -999.0,5,    66.70,2,    30.86,2,     0.04,3,     2.53,3, -999.000,9, -999.000,9, -999.000,9,  -999.00,9,  -999.00,9,   2235.4,2,   -999.0,9,     7.59,2, -0.1789
    90BM9316_1,  P01W,    33,  1,    411,      9,2,19930913,0632, 55.4995, 142.4510,  300,    199.6,  -0.7270,  33.3423,2,  33.3170,2,    209.7,2,    67.80,2,    31.35,2,     0.05,3,     2.65,3, -999.000,9, -999.000,9, -999.000,9,  -999.00,9,  -999.00,9,   2259.3,2,   -999.0,9,     7.55,2, -0.7326
    90BM9316_1,  P01W,    33,  1,    412,      8,2,19930913,0632, 55.4995, 142.4510,  300,    279.9,  -1.5350,  33.4301,2,  33.3810,2,    233.5,2,    60.10,2,    28.54,2,     0.06,3,     2.63,3, -999.000,9, -999.000,9, -999.000,9,  -999.00,9,  -999.00,9,   2281.2,2,   -999.0,9,     7.57,2, -1.5412
    90BM9316_1,  P01W,    34,  1,    413,     20,2,19930913,0939, 54.9997, 142.5843,  110,      4.5,  10.3530,  30.8083,2,  31.1860,2,    318.0,2,     2.30,2,     0.87,2,     0.03,3,     0.40,3, -999.000,9, -999.000,9, -999.000,9,  -999.00,9,    -1.78,9,   1976.7,2,   -999.0,9,     8.09,2, 10.3525
    90BM9316_1,  P01W,    34,  1,    414,     19,2,19930913,0939, 54.9997, 142.5843,  110,      9.8,   2.5050,  32.8269,2,  32.8860,2,    383.5,2,     5.70,2,     7.44,2,     0.16,3,     0.92,3, -999.000,9, -999.000,9, -999.000,9,  -999.00,9,    -1.09,9,   2077.7,2,   -999.0,9,     7.98,2,  2.5045
    90BM9316_1,  P01W,    34,  1,    415,     18,2,19930913,0939, 54.9997, 142.5843,  110,     49.5,  -1.3610,  33.3584,2,  33.3510,2,    261.1,2,    44.80,2,    25.61,2,     0.09,3,     2.21,3, -999.000,9, -999.000,9, -999.000,9,  -999.00,9,    -0.99,9,   2227.6,2,   -999.0,9,     7.64,2, -1.3621
    90BM9316_1,  P01W,    34,  1,    416,     17,2,19930913,0939, 54.9997, 142.5843,  110,     90.7,  -1.2790,  33.4825,2,  33.4270,2,    277.1,2,    39.40,2,    21.27,2,     0.13,3,     2.11,3, -999.000,9, -999.000,9, -999.000,9,  -999.00,9,  -999.00,9,   2221.8,2,   -999.0,9,     7.67,2, -1.2811
    90BM9316_1,  P01W,    35,  1,    417,      4,2,19930913,1228, 54.6708, 142.6640,   72,      4.8,   8.9880,  31.9339,2,  31.9230,2,    318.7,2,     2.80,2,     0.07,2,     0.03,3,     0.32,3, -999.000,9, -999.000,9, -999.000,9,  -999.00,9,    -1.42,9,   1976.7,2,   -999.0,9,     8.10,2,  8.9875
    90BM9316_1,  P01W,    35,  1,    418,      3,2,19930913,1228, 54.6708, 142.6640,   72,      9.8,   8.9930,  31.9618,2,  31.9800,2,    312.4,2,     3.00,2,     0.08,2,     0.02,3,     0.35,3, -999.000,9, -999.000,9, -999.000,9,  -999.00,9,    -1.47,9,   1979.4,2,   -999.0,9,     8.10,2,  8.9920
    90BM9316_1,  P01W,    35,  1,    419,      2,2,19930913,1228, 54.6708, 142.6640,   72,     30.3,   1.2260,  33.1722,2,  33.1730,2,    308.8,2,    19.90,2,     9.51,2,     0.39,3,     1.36,3, -999.000,9, -999.000,9, -999.000,9,  -999.00,9,    -1.20,9,   2137.0,2,   -999.0,9,     7.87,2,  1.2247
    90BM9316_1,  P01W,    35,  1,    420,      1,2,19930913,1228, 54.6708, 142.6640,   72,     56.7,   0.2400,  33.3340,2,  33.2900,2,    305.1,2,    20.60,2,     9.50,2,     0.30,3,     1.51,3, -999.000,9, -999.000,9, -999.000,9,  -999.00,9,    -1.17,9,   2168.3,2,   -999.0,9,     7.82,2,  0.2380
    90BM9316_1,  P01W,    36,  1,    422,      9,2,19930913,2331, 54.6750, 143.9340,  552,     10.2,  10.2390,  30.8236,2,  30.8250,2,    300.1,2,     2.60,2,     0.90,2,     0.20,3,     0.30,3, -999.000,9, -999.000,9, -999.000,9,  -999.00,9,  -999.00,9,   1921.5,2,   -999.0,9,     8.12,2, 10.2379
    90BM9316_1,  P01W,    36,  1,    421,     10,2,19930913,2331, 54.6750, 143.9340,  552,     10.4,  10.2470,  30.8247,2,  30.8240,2,    299.7,2,     2.80,2,     1.18,2,     0.02,3,     0.31,3, -999.000,9, -999.000,9, -999.000,9,  -999.00,9,  -999.00,9,   1921.4,2,   -999.0,9,     8.12,2, 10.2458
    90BM9316_1,  P01W,    36,  1,    423,      8,2,19930913,2331, 54.6750, 143.9340,  552,     49.9,   2.5870,  32.6281,2,  32.6200,2,    331.2,2,    16.00,2,    13.36,2,     0.14,3,     1.29,3, -999.000,9, -999.000,9, -999.000,9,  -999.00,9,  -999.00,9,   2084.3,2,   -999.0,9,     7.91,2,  2.5843
    90BM9316_1,  P01W,    36,  1,    424,      7,2,19930913,2331, 54.6750, 143.9340,  552,     74.6,   1.4800,  32.8657,2,  32.7460,2,    320.4,2,    24.20,2,    17.39,2,     0.11,3,     1.54,3, -999.000,9, -999.000,9, -999.000,9,  -999.00,9,  -999.00,9,   2116.3,2,   -999.0,9,     7.86,2,  1.4767
    90BM9316_1,  P01W,    36,  1,    425,      6,2,19930913,2331, 54.6750, 143.9340,  552,    100.2,   0.9150,  32.9803,2,  32.9700,2,    313.0,2,    29.90,2,    20.43,2,     0.07,3,     1.67,3, -999.000,9, -999.000,9, -999.000,9,  -999.00,9,  -999.00,9,   2138.1,2,   -999.0,9,     7.82,2,  0.9109
    90BM9316_1,  P01W,    36,  1,    426,      5,2,19930913,2331, 54.6750, 143.9340,  552,    150.1,   0.0660,  33.2047,2,  33.1750,2,    270.3,2,    46.30,2,    26.03,2,     0.07,3,     2.07,3, -999.000,9, -999.000,9, -999.000,9,  -999.00,9,  -999.00,9,   2185.6,2,   -999.0,9,     7.71,2,  0.0609
    90BM9316_1,  P01W,    36,  1,    427,      4,2,19930913,2331, 54.6750, 143.9340,  552,    200.3,   0.1930,  33.3370,2,  33.3040,2,   -999.0,5,    59.40,2,    30.04,2,     0.06,3,     2.29,3, -999.000,9, -999.000,9, -999.000,9,  -999.00,9,  -999.00,9,   2216.6,2,   -999.0,9,     7.64,2,  0.1858
    90BM9316_1,  P01W,    36,  1,    428,      3,2,19930913,2331, 54.6750, 143.9340,  552,    300.0,   0.3340,  33.4109,2,  33.3790,2,    205.8,2,    68.70,2,    32.42,2,     0.08,3,     2.43,3, -999.000,9, -999.000,9, -999.000,9,  -999.00,9,  -999.00,9,   2239.2,2,   -999.0,9,     7.59,2,  0.3225
    90BM9316_1,  P01W,    36,  1,    429,      2,2,19930913,2331, 54.6750, 143.9340,  552,    400.6,   0.3260,  33.4750,2,  33.4410,2,    186.4,2,    76.40,2,    33.06,2,     0.04,3,     2.54,3, -999.000,9, -999.000,9, -999.000,9,  -999.00,9,  -999.00,9,   2258.7,2,   -999.0,9,     7.55,2,  0.3103
    90BM9316_1,  P01W,    36,  1,    430,      1,2,19930913,2331, 54.6750, 143.9340,  552,    541.2,   1.8890,  33.9224,2,  33.8970,2,     93.2,2,   121.70,2,    41.06,2,     0.04,3,     2.73,3, -999.000,9, -999.000,9, -999.000,9,  -999.00,9,  -999.00,9,   2321.9,2,   -999.0,9,     7.51,2,  1.8596
    90BM9316_1,  P01W,    23,  1,    431,     13,2,19930914,0412, 55.0148, 145.0042, 1310,     10.6,   9.3550,  31.4202,2,  31.5030,2,    315.4,2,     3.20,2,     2.54,2,     0.06,2,     0.47,3,    4.991,3,    2.258,3, -999.000,9,  -999.00,9,    -1.63,2,   1970.6,2,   2166.9,2,     8.08,2,  9.3539
    90BM9316_1,  P01W,    23,  1,    432,     12,2,19930914,0412, 55.0148, 145.0042, 1310,     51.7,  -0.0860,  32.9846,2,  32.9450,2,    343.9,2,    17.10,2,    15.49,2,     0.31,2,     1.54,3,    7.217,3,    3.278,3, -999.000,9,  -999.00,9,    -0.62,2,   2123.9,2,   2244.8,2,     7.84,2, -0.0876
    90BM9316_1,  P01W,    23,  1,    433,     11,2,19930914,0412, 55.0148, 145.0042, 1310,    102.0,  -0.5290,  33.1118,2,  33.0810,2,    327.6,2,    36.90,2,    22.90,2,     0.00,2,     1.79,3,    6.854,3,    3.125,3, -999.000,9,  -999.00,9,    -0.93,2,   2145.4,2,   2244.7,2,     7.79,2, -0.5319
    90BM9316_1,  P01W,    23,  1,    434,     10,2,19930914,0412, 55.0148, 145.0042, 1310,    152.8,   0.9120,  33.3430,2,  33.3180,2,    242.1,2,    58.40,2,    30.30,2,     0.00,2,     2.24,3,    5.307,3,    2.421,3, -999.000,9,  -999.00,9,    -0.85,2,   2202.4,2,   2260.9,2,     7.67,2,  0.9056
    90BM9316_1,  P01W,    23,  1,    435,      9,2,19930914,0412, 55.0148, 145.0042, 1310,    203.0,   0.9350,  33.4075,2,  33.3730,2,    215.7,2,    63.60,2,    32.20,2,     0.00,2,     2.35,3,    5.012,3,    2.253,3, -999.000,9,  -999.00,9,    -0.84,2,   2219.7,2,   2264.8,2,     7.63,2,  0.9264
    90BM9316_1,  P01W,    23,  1,    436,      8,2,19930914,0412, 55.0148, 145.0042, 1310,    302.3,   1.0690,  33.4829,2,  33.4570,2,    181.2,2,    71.70,2,    34.70,2,     0.00,2,     2.50,3,    4.439,3,    1.963,3, -999.000,9,  -999.00,9,    -0.83,2,   2246.1,2,   2267.6,2,     7.59,2,  1.0555
    90BM9316_1,  P01W,    23,  1,    438,      6,2,19930914,0412, 55.0148, 145.0042, 1310,    402.2,   1.4370,  33.6295,2,  33.6070,2,    141.4,2,    87.10,2,    36.40,2,     0.00,2,     2.57,3,    3.615,3,    1.628,3, -999.000,9,  -999.00,9,    -0.75,2,   2271.8,2,   2284.0,2,     7.55,2,  1.4173
    90BM9316_1,  P01W,    23,  1,    437,      7,2,19930914,0412, 55.0148, 145.0042, 1310,    405.9,   1.4390,  33.6291,2,  33.6060,2,    141.0,2,    86.20,2,    36.20,2,     0.00,2,     2.58,3,    3.660,3,    1.631,3, -999.000,9,  -999.00,9,    -0.86,2,   2272.1,2,   2284.0,2,     7.56,2,  1.4191
    90BM9316_1,  P01W,    23,  1,    439,      5,2,19930914,0412, 55.0148, 145.0042, 1310,    602.0,   2.0210,  33.9857,2,  33.9650,2,     84.4,2,   126.60,2,    39.70,2,     0.00,2,     2.69,3,    1.861,3,    0.800,3, -999.000,9,  -999.00,9,    -0.58,2,   2323.6,2,   2329.4,2,     7.52,2,  1.9873
    90BM9316_1,  P01W,    23,  1,    440,      4,2,19930914,0412, 55.0148, 145.0042, 1310,    798.8,   2.2310,  34.1988,2,  34.1790,2,     53.0,2,   152.20,2,    41.80,2,     0.00,2,     2.79,3,    0.899,3,    0.334,3, -999.000,9,  -999.00,9,    -0.48,2,   2358.8,2,   2355.5,2,     7.51,2,  2.1833
    90BM9316_1,  P01W,    23,  1,    441,      3,2,19930914,0412, 55.0148, 145.0042, 1310,    996.7,   2.3070,  34.2835,2,  34.2630,2,     42.0,2,   164.10,2,    42.60,2,     0.00,2,     2.78,3,    0.594,3,    0.220,3, -999.000,9,  -999.00,9,    -0.55,2,   2368.7,2,   2371.9,2,     7.52,2,  2.2452
    90BM9316_1,  P01W,    23,  1,    442,      2,2,19930914,0412, 55.0148, 145.0042, 1310,   1197.2,   2.3290,  34.3992,2,  34.3780,2,     30.8,2,   183.20,2,    42.60,2,     0.00,2,     2.85,3,    0.226,3,    0.068,3, -999.000,9,  -999.00,9,    -0.49,2,   2384.9,2,   2383.5,2,     7.52,2,  2.2524
    90BM9316_1,  P01W,    23,  1,    443,      1,2,19930914,0412, 55.0148, 145.0042, 1310,   1251.4,   2.3320,  34.4010,2,  34.3760,2,     30.6,2,   184.90,2,    42.70,2,     0.00,2,     2.83,3,    0.211,3,    0.040,3, -999.000,9,  -999.00,9,    -0.50,2,   2384.3,2,   2386.5,2,     7.51,3,  2.2513
    90BM9316_1,  P01W,    22,  1,    444,     15,2,19930914,0836, 54.5090, 145.3945, 1540,     10.8,  10.6330,  31.4676,2,  31.4760,2,    294.2,2,     2.20,2,     1.15,2,     0.05,2,     0.36,2,    4.350,3,    2.007,3, -999.000,9,  -999.00,9,  -999.00,9,   1956.5,2,   2177.9,2,     8.10,2, 10.6318
    90BM9316_1,  P01W,    22,  1,    445,     14,2,19930914,0836, 54.5090, 145.3945, 1540,     50.5,   0.3460,  32.9333,2,  32.9010,2,    354.0,2,     9.70,2,    13.05,2,     0.25,2,     1.45,2,    7.049,3,    3.251,3, -999.000,9,  -999.00,9,  -999.00,9,   2113.7,2,   2245.9,2,     7.88,2,  0.3442
    90BM9316_1,  P01W,    22,  1,    446,     13,2,19930914,0836, 54.5090, 145.3945, 1540,    100.0,  -0.7220,  33.1020,2,  33.0660,2,    328.6,2,    33.90,2,    21.78,2,     0.02,2,     1.78,2,    7.126,3,    3.280,3, -999.000,9,  -999.00,9,  -999.00,9,   2146.6,2,   2245.8,2,     7.80,2, -0.7247
    90BM9316_1,  P01W,    22,  1,    447,     12,2,19930914,0836, 54.5090, 145.3945, 1540,    150.0,   0.4890,  33.3088,2,  33.2830,2,    251.2,2,    54.80,2,    28.78,2,     0.02,2,     2.29,2,    5.617,3,    2.583,3, -999.000,9,  -999.00,9,  -999.00,9,   2199.6,2,   2261.1,2,     7.67,2,  0.4833
    90BM9316_1,  P01W,    22,  1,    448,     11,2,19930914,0836, 54.5090, 145.3945, 1540,    203.3,   1.0500,  33.4185,2,  33.3920,2,    208.8,2,    65.40,2,    32.48,2,     0.02,2,     2.52,2,    4.894,3,    2.234,3, -999.000,9,  -999.00,9,  -999.00,9,   2227.8,2,   2263.9,2,     7.62,2,  1.0412
    90BM9316_1,  P01W,    22,  1,    449,     10,2,19930914,0836, 54.5090, 145.3945, 1540,    301.0,   1.1650,  33.5160,2,  33.4930,2,    162.6,2,    76.10,2,    35.04,2,     0.06,3,     2.73,2,    4.241,3,    1.887,3, -999.000,9,  -999.00,9,  -999.00,9,   2260.9,2,   2272.6,2,     7.55,2,  1.1513
    90BM9316_1,  P01W,    22,  1,    450,      9,2,19930914,0836, 54.5090, 145.3945, 1540,    401.9,   1.4420,  33.6340,2,  33.6130,2,    139.5,2,    86.60,2,    35.48,2,     0.02,2,     2.71,2,    3.547,3,    1.587,3, -999.000,9,  -999.00,9,  -999.00,9,   2276.4,2,   2289.0,2,     7.54,2,  1.4223
    90BM9316_1,  P01W,    22,  1,    451,      8,2,19930914,0836, 54.5090, 145.3945, 1540,    601.8,   2.0960,  33.9411,2,  33.9250,2,     87.0,2,   117.50,2,    39.37,2,     0.03,2,     2.89,2,    1.850,3,    0.776,3, -999.000,9,  -999.00,9,  -999.00,9,   2320.1,2,   2323.8,2,     7.52,2,  2.0620
    90BM9316_1,  P01W,    22,  1,    452,      7,2,19930914,0836, 54.5090, 145.3945, 1540,    799.6,   2.3350,  34.1756,2,  34.1590,2,     48.4,2,   144.50,2,    42.08,2,     0.02,2,     3.04,2,    0.813,3,    0.322,3, -999.000,9,  -999.00,9,  -999.00,9,   2356.8,2,   2353.7,2,     7.52,2,  2.2867
    90BM9316_1,  P01W,    22,  1,    453,      6,2,19930914,0836, 54.5090, 145.3945, 1540,    998.9,   2.3600,  34.3333,2,  34.3180,2,     34.0,2,   165.40,2,    42.98,2,     0.02,2,     3.03,2,    0.311,3,    0.111,3, -999.000,9,  -999.00,9,  -999.00,9,   2375.8,2,   2378.9,2,     7.50,2,  2.2975
    90BM9316_1,  P01W,    22,  1,    454,      5,2,19930914,0836, 54.5090, 145.3945, 1540,   1195.7,   2.3330,  34.4072,2,  34.3900,2,     31.7,2,   178.60,2,    43.29,2,     0.01,2,     3.06,2,    0.165,3,    0.000,3, -999.000,9,  -999.00,9,  -999.00,9,   2383.5,2,   2385.6,2,     7.53,2,  2.2564
    90BM9316_1,  P01W,    22,  1,    455,      4,2,19930914,0836, 54.5090, 145.3945, 1540,   1198.0,   2.3330,  34.4077,2,  34.3910,2,     31.6,2,   178.60,2,    43.47,2,     0.03,3,     3.09,2,    0.165,3,    0.055,3, -999.000,9,  -999.00,9,  -999.00,9,   2385.6,2,   2392.5,2,     7.53,2,  2.2563
    90BM9316_1,  P01W,    22,  1,    456,      3,2,19930914,0836, 54.5090, 145.3945, 1540,   1398.5,   2.3210,  34.4334,2,  34.4170,2,     29.9,2,   189.80,2,    43.57,2,     0.03,3,     3.12,2,    0.117,3,    0.000,3, -999.000,9,  -999.00,9,  -999.00,9,   2389.5,2,   2399.4,2,     7.51,2,  2.2293
    90BM9316_1,  P01W,    22,  1,    457,      1,2,19930914,0836, 54.5090, 145.3945, 1540,   1501.7,   2.3230,  34.4435,2,  34.4240,2,     27.3,2,   212.20,2,    43.55,2,     0.05,3,     3.14,2,    0.129,3,    0.024,3, -999.000,9,  -999.00,9,  -999.00,9,   2394.9,2,   2397.5,2,     7.53,2,  2.2232