BOTTLE,20120716MIRCJHATS
EXPOCODE,SECT_ID,STNNBR,CASTNO,SAMPNO,BTLNBR,BTLNBR_FLAG_W,DATE,TIME,LATITUDE,LONGITUDE,DEPTH,CTDPRS,CTDTMP,CTDSAL,CTDSAL_FLAG_W,SALNTY,SALNTY_FLAG_W,OXYGEN,OXYGEN_FLAG_W,SILCAT,SILCAT_FLAG_W,NITRAT,NITRAT_FLAG_W,NITRIT,NITRIT_FLAG_W,PHSPHT,PHSPHT_FLAG_W,CFC-11,CFC-11_FLAG_W,CFC-12,CFC-12_FLAG_W,TRITUM,TRITUM_FLAG_W,DELC13,DELC13_FLAG_W,O18O16,O18O16_FLAG_W,TCARBN,TCARBN_FLAG_W,ALKALI,ALKALI_FLAG_W,PH,PH_FLAG_W,THETA
,,,,,,,,,,,,DBAR,IPTS-68,PSS-78,,PSS-78,,UMOL/KG,,UMOL/KG,,UMOL/KG,,UMOL/KG,,UMOL/KG,,PMOL/KG,,PMOL/KG,,TU,,/MILLE,,/MILLE,,UMOL/KG,,UMOL/KG,,,,DEG
    90BM9316_1,  P01W,     3,  1,     47,     23,2,19930904,0804, 44.9982, 152.8092, 6760,      8.4,  13.3930,  32.8367,2,  32.8707,2,    290.9,2,     2.70,2,     4.19,2,     0.11,2,     0.67,2,    3.942,3,    1.992,3, -999.000,9,  -999.00,9,    -0.93,2,   1986.3,2,   2241.4,2,     8.13,2, 13.3919
    90BM9316_1,  P01W,     3,  1,     48,     22,2,19930904,0804, 44.9982, 152.8092, 6760,     50.2,   2.1940,  33.1520,2,  33.1362,2,    305.9,2,    38.10,2,    22.22,2,     0.68,2,     1.95,2,    6.039,3,    2.904,3, -999.000,9,  -999.00,9,    -0.89,2,   2135.1,2,   2251.6,2,     7.82,2,  2.1914
    90BM9316_1,  P01W,     3,  1,     49,     21,2,19930904,0804, 44.9982, 152.8092, 6760,    101.0,   1.4240,  33.2738,2,  33.2542,2,    274.7,2,    52.40,2,    27.66,2,     0.04,2,     2.23,2,    5.411,3,    2.587,3, -999.000,9,  -999.00,9,    -0.71,2,   2169.1,2,   2255.6,2,     7.74,2,  1.4194
    90BM9316_1,  P01W,     3,  1,     50,     20,2,19930904,0804, 44.9982, 152.8092, 6760,    150.1,   1.4610,  33.3588,2,  33.3372,2,    248.7,2,    59.10,2,    29.17,2,     0.03,2,     2.35,2,    5.176,3,    2.475,3, -999.000,9,  -999.00,9,    -0.57,2,   2189.4,2,   2266.9,2,     7.71,2,  1.4540
    90BM9316_1,  P01W,     3,  1,     51,     19,4,19930904,0804, 44.9982, 152.8092, 6760,    198.7,   1.5520,  33.4242,2,-999.0000,9,   -999.0,9,  -999.00,9,  -999.00,9,  -999.00,9,  -999.00,9, -999.000,9, -999.000,9, -999.000,9,  -999.00,9,  -999.00,9,   -999.0,9,   -999.0,9,  -999.00,9,  1.5425
    90BM9316_1,  P01W,     3,  1,     52,     18,2,19930904,0804, 44.9982, 152.8092, 6760,    298.8,   1.8090,  33.5283,2,  33.5104,2,    194.8,2,    72.50,2,    32.58,2,     0.02,2,     2.59,2,    4.123,3,    1.999,3, -999.000,9,  -999.00,9,    -0.52,2,   2321.2,3,   2282.3,2,     7.64,2,  1.7938
    90BM9316_1,  P01W,     3,  1,     53,     17,2,19930904,0804, 44.9982, 152.8092, 6760,    394.9,   2.1980,  33.6565,2,  33.6410,2,    154.1,2,    82.80,2,    35.69,2,     0.01,2,     2.75,2,    3.449,3,    1.539,3, -999.000,9,  -999.00,9,    -0.35,2,   2258.2,4,   2292.8,2,     7.60,2,  2.1762
    90BM9316_1,  P01W,     3,  1,     54,     16,2,19930904,0804, 44.9982, 152.8092, 6760,    598.4,   2.9560,  33.9659,2,  33.9510,2,     64.6,2,   106.90,2,    41.49,2,     0.01,2,     3.11,2,    1.525,3,    0.697,3, -999.000,9,  -999.00,9,    -0.32,2,   2320.5,2,   2322.6,2,     7.52,2,  2.9180
    90BM9316_1,  P01W,     3,  1,     55,     15,2,19930904,0804, 44.9982, 152.8092, 6760,    599.1,   2.9550,  33.9638,2,  33.9514,2,     64.6,2,   106.90,2,    41.49,2,     0.01,2,     3.10,2,    1.470,3,    0.801,3, -999.000,9,  -999.00,9,    -0.33,2,   2320.5,2,   2318.7,2,     7.52,2,  2.9170
    90BM9316_1,  P01W,     3,  1,     56,     14,2,19930904,0804, 44.9982, 152.8092, 6760,    799.5,   2.9890,  34.1762,2,  34.1643,2,     35.6,2,   126.60,2,    42.99,2,     0.01,2,     3.16,2,    0.611,3,    0.274,3, -999.000,9,  -999.00,9,    -0.24,2,   2350.2,2,   2341.9,2,     7.51,2,  2.9365
    90BM9316_1,  P01W,     3,  1,     57,     13,2,19930904,0804, 44.9982, 152.8092, 6760,    999.1,   2.7290,  34.2907,2,  34.2766,2,     34.2,2,   140.00,2,    43.09,2,     0.01,2,     3.18,2,    0.388,3,    0.261,3, -999.000,9,  -999.00,9,    -0.33,2,   2364.1,2,   2373.2,2,     7.51,2,  2.6637
    90BM9316_1,  P01W,     3,  1,     58,     12,2,19930904,0804, 44.9982, 152.8092, 6760,   1199.4,   2.5700,  34.3938,2,  34.3796,2,     33.6,2,   149.80,2,    43.19,2,     0.01,2,     3.17,2,    0.166,3,    0.042,3, -999.000,9,  -999.00,9,    -0.16,2,   2373.8,2,   2381.7,2,     7.53,2,  2.4910
    90BM9316_1,  P01W,     3,  1,     59,     11,2,19930904,0804, 44.9982, 152.8092, 6760,   1399.6,   2.3950,  34.4591,2,  34.4457,2,     40.1,2,   156.30,2,    42.69,2,     0.01,2,     3.12,2,    0.080,3,    0.089,3, -999.000,9,  -999.00,9,    -0.19,2,   2377.6,2,   2390.4,2,     7.54,2,  2.3023
    90BM9316_1,  P01W,     3,  1,     60,     10,2,19930904,0804, 44.9982, 152.8092, 6760,   1601.3,   2.2440,  34.5091,2,  34.4932,2,     46.0,2,   160.00,2,    42.39,2,     0.01,2,     3.07,2,    0.037,3,    0.021,3, -999.000,9,  -999.00,9,    -0.14,2,   2377.0,2,   2397.1,2,     7.55,2,  2.1371
    90BM9316_1,  P01W,     3,  1,     61,      9,2,19930904,0804, 44.9982, 152.8092, 6760,   1798.2,   2.1280,  34.5467,2,  34.5306,2,     56.5,2,   161.00,2,    41.59,2,     0.01,2,     3.02,2,    0.010,3,    0.119,3, -999.000,9,  -999.00,9,    -0.14,2,   2376.5,2,   2403.0,2,     7.58,2,  2.0067
    90BM9316_1,  P01W,     3,  1,     62,      8,2,19930904,0804, 44.9982, 152.8092, 6760,   1998.6,   2.0460,  34.5782,2,  34.5648,2,     66.6,2,   159.30,2,    41.10,2,     0.00,2,     2.92,2,    0.000,3,    0.035,3, -999.000,9,  -999.00,9,     0.05,2,   2372.7,2,   2406.8,2,     7.60,2,  1.9092
    90BM9316_1,  P01W,     3,  1,     63,      7,2,19930904,0804, 44.9982, 152.8092, 6760,   2201.4,   1.9220,  34.6083,2,  34.5951,2,     78.3,2,   160.50,2,    40.70,2,     0.00,2,     2.88,2, -999.000,9, -999.000,9, -999.000,9,  -999.00,9,     0.11,2,   2367.7,2,   2412.7,2,     7.61,2,  1.7698
    90BM9316_1,  P01W,     3,  1,     64,      6,2,19930904,0804, 44.9982, 152.8092, 6760,   2401.9,   1.8180,  34.6260,2,  34.6132,2,     86.8,2,   161.80,2,    40.00,2,     0.00,2,     2.83,2, -999.000,9, -999.000,9, -999.000,9,  -999.00,9,     0.08,2,   2362.6,2,   2412.7,2,     7.64,2,  1.6500
    90BM9316_1,  P01W,     3,  1,     65,      5,2,19930904,0804, 44.9982, 152.8092, 6760,   2600.7,   1.7540,  34.6421,2,  34.6277,2,    100.8,2,   157.40,2,    39.20,2,     0.00,2,     2.79,2, -999.000,9, -999.000,9, -999.000,9,  -999.00,9,    -0.21,2,   2353.1,2,   2418.6,2,     7.66,2,  1.5693
    90BM9316_1,  P01W,     3,  1,     66,      4,2,19930904,0804, 44.9982, 152.8092, 6760,   2800.2,   1.6810,  34.6550,2,  34.6420,2,    110.8,2,   156.10,2,    38.50,2,     0.00,2,     2.76,2, -999.000,9, -999.000,9, -999.000,9,  -999.00,9,    -0.21,2,   2348.5,2,   2416.8,2,     7.67,2,  1.4793
    90BM9316_1,  P01W,     3,  1,     67,      3,2,19930904,0804, 44.9982, 152.8092, 6760,   2997.5,   1.6260,  34.6639,2,  34.6498,2,    117.3,2,   156.10,2,    38.10,2,     0.00,2,     2.73,2, -999.000,9, -999.000,9, -999.000,9,  -999.00,9,    -0.23,2,   2347.2,2,   2418.5,2,     7.68,2,  1.4068
    90BM9316_1,  P01W,     3,  1,     68,      2,2,19930904,0804, 44.9982, 152.8092, 6760,   3200.6,   1.5860,  34.6723,2,  34.6577,2,    125.8,2,   154.20,2,    37.50,2,     0.00,2,     2.69,2, -999.000,9, -999.000,9, -999.000,9,  -999.00,9,    -0.16,2,   2341.9,2,   2419.4,2,     7.69,2,  1.3479
    90BM9316_1,  P01W,     3,  1,     69,      1,2,19930904,0804, 44.9982, 152.8092, 6760,   3400.1,   1.5500,  34.6797,2,  34.6630,2,    132.4,2,   152.60,2,    37.10,2,     0.00,2,     2.68,2,    0.000,3,    0.001,3, -999.000,9,  -999.00,9,    -0.14,2,   2333.4,2,   2423.3,2,     7.71,2,  1.2928
    90BM9316_1,  P01W,     4,  1,     70,     23,2,19930904,1336, 45.5218, 152.5130, 6460,      8.5,  14.7650,  32.9783,2,  33.0019,2,    270.5,2,     1.90,2,     1.83,2,     0.07,2,     0.48,2,    3.595,3,    1.641,3, -999.000,9,  -999.00,9,  -999.00,9,   1979.8,2,   2241.0,2,     8.15,2, 14.7638
    90BM9316_1,  P01W,     4,  1,     71,     22,2,19930904,1336, 45.5218, 152.5130, 6460,     48.9,   2.4070,  33.1416,2,  33.1386,2,    298.7,2,    39.50,2,    22.84,2,     0.36,2,     1.95,2,    5.929,3,    2.792,3, -999.000,9,  -999.00,9,  -999.00,9,   2134.3,2,   2255.2,2,     7.83,2,  2.4044
    90BM9316_1,  P01W,     4,  1,     72,     21,2,19930904,1336, 45.5218, 152.5130, 6460,     99.3,   1.3540,  33.2370,2,  33.2215,2,    289.2,2,    51.20,2,    27.66,2,     0.04,2,     2.20,2,    5.895,3,    2.812,3, -999.000,9,  -999.00,9,  -999.00,9,   2158.9,2,   2261.3,2,     7.77,2,  1.3495
    90BM9316_1,  P01W,     4,  1,     73,     20,2,19930904,1336, 45.5218, 152.5130, 6460,    149.0,   1.7390,  33.3940,2,  33.3838,2,    231.9,2,    63.40,2,    30.67,2,     0.03,2,     2.39,2,    4.789,3,    2.210,3, -999.000,9,  -999.00,9,  -999.00,9,   2199.6,2,   2274.9,2,     7.68,2,  1.7317
    90BM9316_1,  P01W,     4,  1,     74,     19,2,19930904,1336, 45.5218, 152.5130, 6460,    200.2,   1.9550,  33.5272,2,  33.5127,2,    192.5,2,    73.40,2,    32.87,2,     0.03,2,     2.58,2,    4.054,3,    1.813,3, -999.000,9,  -999.00,9,  -999.00,9,   2228.8,2,   2285.3,2,     7.63,2,  1.9447
    90BM9316_1,  P01W,     4,  1,     75,     18,2,19930904,1336, 45.5218, 152.5130, 6460,    299.6,   2.3360,  33.7167,2,  33.7034,2,    135.1,2,    88.00,2,    36.18,2,     0.02,2,     2.81,2,    2.962,3,    1.390,3, -999.000,9,  -999.00,9,  -999.00,9,   2269.4,2,   2298.7,2,     7.58,2,  2.3194
    90BM9316_1,  P01W,     4,  1,     76,     17,2,19930904,1336, 45.5218, 152.5130, 6460,    399.9,   2.5630,  33.8782,2,  33.8686,2,     92.0,2,   101.20,2,    38.19,2,     0.01,2,     2.89,2,    2.098,3,    0.973,3, -999.000,9,  -999.00,9,  -999.00,9,   2302.7,2,   2312.6,2,     7.52,2,  2.5396
    90BM9316_1,  P01W,     4,  1,     77,     16,2,19930904,1336, 45.5218, 152.5130, 6460,    599.9,   2.9420,  34.1424,2,  34.1349,2,     39.9,2,   124.10,2,    41.09,2,     0.01,2,     3.09,2,    0.746,3,    0.419,3, -999.000,9,  -999.00,9,  -999.00,9,   2333.1,2,   2352.0,2,     7.48,2,  2.9038
    90BM9316_1,  P01W,     4,  1,     78,     15,2,19930904,1336, 45.5218, 152.5130, 6460,    800.0,   2.8510,  34.2859,2,  34.2750,2,     29.0,2,   138.10,2,    42.59,2,     0.01,2,     3.15,2,    0.283,3,    0.072,3, -999.000,9,  -999.00,9,  -999.00,9,   2359.3,2,   2372.4,2,     7.50,2,  2.7992
    90BM9316_1,  P01W,     4,  1,     79,     14,2,19930904,1336, 45.5218, 152.5130, 6460,    999.7,   2.5300,  34.3758,2,  34.3634,2,     37.8,2,   149.20,2,    42.09,2,     0.01,2,     3.12,2,    0.220,3,    0.138,3, -999.000,9,  -999.00,9,  -999.00,9,   2366.7,2,   2387.1,2,     7.52,2,  2.4660
    90BM9316_1,  P01W,     4,  1,     80,     13,2,19930904,1336, 45.5218, 152.5130, 6460,   1201.9,   2.4230,  34.4485,2,  34.4359,2,     36.8,2,   155.60,2,    42.39,2,     0.01,2,     3.08,2,    0.080,3,    0.039,3, -999.000,9,  -999.00,9,  -999.00,9,   2376.2,2,   2394.6,2,     7.54,2,  2.3450
    90BM9316_1,  P01W,     4,  1,     81,     12,2,19930904,1336, 45.5218, 152.5130, 6460,   1401.2,   2.2600,  34.4957,2,  34.4833,2,     47.3,2,   158.90,2,    41.39,2,     0.01,2,     3.01,2,    0.050,3,    0.018,3, -999.000,9,  -999.00,9,  -999.00,9,   2388.0,3,   2412.1,2,     7.56,2,  2.1685
    90BM9316_1,  P01W,     4,  1,     82,     11,2,19930904,1336, 45.5218, 152.5130, 6460,   1602.5,   2.0760,  34.5187,2,  34.5064,2,     60.9,2,   161.00,2,    40.29,2,     0.01,2,     2.95,2,    0.107,3,    1.037,3, -999.000,9,  -999.00,9,  -999.00,9,   2363.4,3,   2411.3,2,     7.58,2,  1.9711
    90BM9316_1,  P01W,     4,  1,     83,     10,2,19930904,1336, 45.5218, 152.5130, 6460,   1801.9,   2.0860,  34.5583,2,  34.5455,2,     62.0,2,   161.20,2,    40.09,2,     0.01,2,     2.92,2,    0.001,3,    0.054,3, -999.000,9,  -999.00,9,  -999.00,9,   2374.5,2,   2411.3,2,     7.59,2,  1.9649
    90BM9316_1,  P01W,     4,  1,     84,      9,2,19930904,1336, 45.5218, 152.5130, 6460,   2000.6,   1.9580,  34.5842,2,  34.5707,2,     70.7,2,   163.70,2,    39.39,2,     0.01,2,     2.89,2,    0.000,3,    0.052,3, -999.000,9,  -999.00,9,  -999.00,9,   2368.0,2,   2427.9,3,     7.61,2,  1.8223
    90BM9316_1,  P01W,     4,  1,     85,      8,2,19930904,1336, 45.5218, 152.5130, 6460,   2199.3,   1.8680,  34.6139,2,  34.6004,2,     82.3,2,   161.70,2,    39.09,2,     0.01,2,     2.86,2,    0.000,3,    0.054,3, -999.000,9,  -999.00,9,  -999.00,9,   -999.0,9,   2423.9,2,     7.62,2,  1.7168
    90BM9316_1,  P01W,     4,  1,     86,      7,2,19930904,1336, 45.5218, 152.5130, 6460,   2397.9,   1.7520,  34.6387,2,  34.6265,2,     97.5,2,   158.40,2,    38.09,2,     0.01,2,     2.79,2, -999.000,9, -999.000,9, -999.000,9,  -999.00,9,  -999.00,9,   2355.5,2,   2434.1,3,     7.66,2,  1.5855
    90BM9316_1,  P01W,     4,  1,     87,      6,2,19930904,1336, 45.5218, 152.5130, 6460,   2400.1,   1.7690,  34.6342,2,  34.6227,2,     95.5,2,   160.00,2,    38.49,2,     0.01,2,     2.83,2, -999.000,9, -999.000,9, -999.000,9,  -999.00,9,  -999.00,9,   2344.8,3,   2424.9,2,     7.65,2,  1.6020
    90BM9316_1,  P01W,     4,  1,     88,      5,2,19930904,1336, 45.5218, 152.5130, 6460,   2599.9,   1.6860,  34.6504,2,  34.6356,2,    108.1,2,   157.30,2,    37.49,2,     0.01,2,     2.77,2, -999.000,9, -999.000,9, -999.000,9,  -999.00,9,  -999.00,9,   2351.8,2,   2421.0,2,     7.68,2,  1.5026
    90BM9316_1,  P01W,     4,  1,     89,      4,2,19930904,1336, 45.5218, 152.5130, 6460,   2800.7,   1.6200,  34.6616,2,  34.6500,2,    118.5,2,   156.60,2,    36.89,2,     0.01,2,     2.73,2, -999.000,9, -999.000,9, -999.000,9,  -999.00,9,  -999.00,9,   2349.9,2,   2425.0,2,     7.69,2,  1.4195
    90BM9316_1,  P01W,     4,  1,     90,      3,2,19930904,1336, 45.5218, 152.5130, 6460,   2999.8,   1.5710,  34.6704,2,  34.6571,2,    127.1,2,   153.80,2,    36.49,2,     0.01,2,     2.70,2, -999.000,9, -999.000,9, -999.000,9,  -999.00,9,  -999.00,9,   2344.3,2,   2421.1,2,     7.70,2,  1.3527
    90BM9316_1,  P01W,     4,  1,     91,      2,2,19930904,1336, 45.5218, 152.5130, 6460,   3200.3,   1.5400,  34.6767,2,  34.6648,2,    133.3,2,   152.90,2,    35.89,2,     0.01,2,     2.68,2, -999.000,9, -999.000,9, -999.000,9,  -999.00,9,  -999.00,9,   2341.6,2,   2425.3,2,     7.71,2,  1.3029
    90BM9316_1,  P01W,     4,  1,     92,      1,2,19930904,1336, 45.5218, 152.5130, 6460,   3400.4,   1.5200,  34.6823,2,  34.6684,2,    137.8,2,   151.70,2,    35.89,2,     0.01,2,     2.64,2,    0.034,3,    0.195,3, -999.000,9,  -999.00,9,  -999.00,9,   2338.1,2,   2425.2,2,     7.71,2,  1.2635