BOTTLE,20120716MIRCJHATS
EXPOCODE,SECT_ID,STNNBR,CASTNO,SAMPNO,BTLNBR,BTLNBR_FLAG_W,DATE,TIME,LATITUDE,LONGITUDE,DEPTH,CTDPRS,CTDTMP,CTDSAL,CTDSAL_FLAG_W,SALNTY,SALNTY_FLAG_W,OXYGEN,OXYGEN_FLAG_W,SILCAT,SILCAT_FLAG_W,NITRAT,NITRAT_FLAG_W,NITRIT,NITRIT_FLAG_W,PHSPHT,PHSPHT_FLAG_W,CFC-11,CFC-11_FLAG_W,CFC-12,CFC-12_FLAG_W,TRITUM,TRITUM_FLAG_W,DELC13,DELC13_FLAG_W,O18O16,O18O16_FLAG_W,TCARBN,TCARBN_FLAG_W,ALKALI,ALKALI_FLAG_W,PH,PH_FLAG_W,THETA
,,,,,,,,,,,,DBAR,IPTS-68,PSS-78,,PSS-78,,UMOL/KG,,UMOL/KG,,UMOL/KG,,UMOL/KG,,UMOL/KG,,PMOL/KG,,PMOL/KG,,TU,,/MILLE,,/MILLE,,UMOL/KG,,UMOL/KG,,,,DEG
    90BM9316_1,  P01W,    21,  1,    458,     14,2,19930914,1323, 54.0147, 145.7853, 1640,     10.6,  12.0550,  31.8903,2,  31.8970,2,    280.5,2,     0.20,2,     0.10,2,     0.00,2,     0.28,2,    4.017,3,    1.832,3, -999.000,9,  -999.00,9,  -999.00,9,   1969.3,2,   2192.9,2,     8.11,2, 12.0537
    90BM9316_1,  P01W,    21,  1,    459,     13,2,19930914,1323, 54.0147, 145.7853, 1640,     50.1,   0.1140,  32.9073,2,  32.8680,2,    363.3,2,    15.50,2,    12.83,2,     0.27,2,     1.30,2,    7.284,3,    3.251,3, -999.000,9,  -999.00,9,  -999.00,9,   2109.1,2,   2236.2,2,     7.88,2,  0.1123
    90BM9316_1,  P01W,    21,  1,    461,     11,2,19930914,1323, 54.0147, 145.7853, 1640,    101.4,  -1.0520,  33.0739,2,  33.0340,2,    335.1,2,    31.40,2,    20.79,2,     0.01,2,     1.69,2,    7.101,3,    3.143,3, -999.000,9,  -999.00,9,  -999.00,9,   2140.0,2,   2245.6,2,     7.82,2, -1.0544
    90BM9316_1,  P01W,    21,  1,    460,     12,2,19930914,1323, 54.0147, 145.7853, 1640,    102.9,  -1.0770,  33.0650,2,  33.0270,2,    337.3,2,    29.30,2,    20.48,2,     0.02,2,     1.64,2,    7.096,3,    3.221,3, -999.000,9,  -999.00,9,  -999.00,9,   2140.5,2,   2244.6,2,     7.81,2, -1.0794
    90BM9316_1,  P01W,    21,  1,    462,     10,2,19930914,1323, 54.0147, 145.7853, 1640,    152.0,   0.3710,  33.3271,2,  33.2950,2,    242.2,2,    56.20,2,    30.18,2,     0.02,2,     2.31,2,    5.499,3,    2.455,3, -999.000,9,  -999.00,9,  -999.00,9,   2207.5,2,   2260.8,2,     7.66,2,  0.3654
    90BM9316_1,  P01W,    21,  1,    463,      9,2,19930914,1323, 54.0147, 145.7853, 1640,    202.2,   0.8610,  33.4350,2,  33.4100,2,    175.2,2,  -999.00,9,  -999.00,9,  -999.00,9,  -999.00,9,    4.919,3,    2.217,3, -999.000,9,  -999.00,9,  -999.00,9,   2235.8,2,   2266.5,2,     7.59,2,  0.8525
    90BM9316_1,  P01W,    21,  1,    464,      8,2,19930914,1323, 54.0147, 145.7853, 1640,    301.5,   1.1030,  33.5320,2,  33.5090,2,    154.5,2,    78.00,2,    36.59,2,     0.01,2,     2.77,2,    4.212,3,    1.834,3, -999.000,9,  -999.00,9,  -999.00,9,   2264.6,2,   2273.3,2,     7.54,2,  1.0894
    90BM9316_1,  P01W,    21,  1,    465,      7,2,19930914,1323, 54.0147, 145.7853, 1640,    403.1,   1.5500,  33.6771,2,  33.6570,2,    134.8,2,    90.10,2,    36.79,2,     0.01,2,     2.73,2,    3.412,3,    1.526,3, -999.000,9,  -999.00,9,  -999.00,9,   2279.0,2,   2290.7,2,     7.54,2,  1.5299
    90BM9316_1,  P01W,    21,  1,    466,      6,2,19930914,1323, 54.0147, 145.7853, 1640,    601.9,   2.1390,  33.9731,2,  33.9550,2,     81.4,2,   121.60,2,    40.59,2,     0.01,2,     2.90,2,    1.768,3,    0.733,3, -999.000,9,  -999.00,9,  -999.00,9,   2322.0,2,   2323.4,2,     7.53,2,  2.1047
    90BM9316_1,  P01W,    21,  1,    467,      5,2,19930914,1323, 54.0147, 145.7853, 1640,    802.4,   2.3670,  34.2156,2,  34.1970,2,     43.1,2,   148.30,2,    42.99,2,     0.01,2,     3.04,2,    0.701,3,    0.245,3, -999.000,9,  -999.00,9,  -999.00,9,   2357.2,2,   2357.2,2,     7.50,2,  2.3182
    90BM9316_1,  P01W,    21,  1,    468,      4,2,19930914,1323, 54.0147, 145.7853, 1640,   1001.4,   2.3610,  34.3522,2,  34.3360,2,     33.1,2,   167.20,2,    43.59,2,     0.01,2,     3.06,2,    0.256,3,    0.132,3, -999.000,9,  -999.00,9,  -999.00,9,   2375.8,2,   2376.4,2,     7.51,2,  2.2983
    90BM9316_1,  P01W,    21,  1,    469,      3,2,19930914,1323, 54.0147, 145.7853, 1640,   1201.2,   2.3250,  34.4129,2,  34.3920,2,     30.8,2,   178.90,2,    43.89,2,     0.01,2,     3.08,2,    0.124,3,    0.008,3, -999.000,9,  -999.00,9,  -999.00,9,   2381.8,2,   2385.3,2,     7.53,2,  2.2481
    90BM9316_1,  P01W,    21,  1,    470,      2,2,19930914,1323, 54.0147, 145.7853, 1640,   1399.3,   2.3130,  34.4369,2,  34.4200,2,     28.0,2,   191.90,2,    44.18,2,     0.02,2,     3.10,2,    0.083,3,    0.000,3, -999.000,9,  -999.00,9,  -999.00,9,   2389.7,2,   2392.1,2,     7.53,2,  2.2213
    90BM9316_1,  P01W,    21,  1,    471,      1,2,19930914,1323, 54.0147, 145.7853, 1640,   1600.1,   2.3260,  34.4488,2,  34.4300,2,     25.3,2,   217.50,2,    43.38,2,     0.02,2,     3.18,2,    0.149,3,    0.069,3, -999.000,9,  -999.00,9,  -999.00,9,   2396.7,2,   2398.9,2,     7.53,2,  2.2184
    90BM9316_1,  P01W,    20,  1,    472,     15,2,19930914,2102, 53.4987, 146.2993, 1740,     10.4,  11.2960,  32.5984,2,  32.6000,2,    284.4,2,     3.00,2,     1.18,2,     0.02,2,     0.44,2,    4.283,3,    1.939,3, -999.000,9,  -999.00,9,  -999.00,9,   2021.9,2,   2230.7,2,     8.09,2, 11.2947
    90BM9316_1,  P01W,    20,  1,    473,     14,2,19930914,2102, 53.4987, 146.2993, 1740,     50.7,  -0.3780,  32.9181,2,  32.8930,2,    349.5,2,    15.30,2,    14.52,2,     0.38,2,     1.52,2,    7.323,3,    3.366,3, -999.000,9,  -999.00,9,  -999.00,9,   2126.9,2,   2236.1,2,     7.84,2, -0.3795
    90BM9316_1,  P01W,    20,  1,    474,     13,2,19930914,2102, 53.4987, 146.2993, 1740,     99.9,  -1.0750,  33.1398,2,  33.1090,2,    318.0,2,    33.00,2,    21.58,2,     0.02,2,     1.78,2,    6.701,3,    3.192,3, -999.000,9,  -999.00,9,  -999.00,9,   2153.0,2,   2251.3,2,     7.78,2, -1.0774
    90BM9316_1,  P01W,    20,  1,    475,     12,2,19930914,2102, 53.4987, 146.2993, 1740,    150.7,   0.4740,  33.3582,2,  33.3460,2,    220.2,2,    61.80,2,    31.09,2,     0.01,2,     2.50,2,    5.083,3,    2.398,3, -999.000,9,  -999.00,9,  -999.00,9,   2219.5,2,   2262.7,2,     7.64,2,  0.4683
    90BM9316_1,  P01W,    20,  1,    476,     11,2,19930914,2102, 53.4987, 146.2993, 1740,    199.6,   0.8600,  33.4489,2,  33.4270,2,    186.9,2,    69.70,2,    33.88,2,     0.02,2,     2.67,2,    4.628,3,    2.118,3, -999.000,9,  -999.00,9,  -999.00,9,   2240.8,2,   2265.6,2,     7.57,2,  0.8516
    90BM9316_1,  P01W,    20,  1,    477,     10,2,19930914,2102, 53.4987, 146.2993, 1740,    299.2,   1.1650,  33.5569,2,  33.5350,2,    133.9,2,    79.90,2,    35.99,2,     0.01,2,     2.82,2,    3.838,3,    1.729,3, -999.000,9,  -999.00,9,  -999.00,9,   2267.4,2,   2279.1,2,     7.53,2,  1.1514
    90BM9316_1,  P01W,    20,  1,    478,      9,2,19930914,2102, 53.4987, 146.2993, 1740,    374.6,   1.3890,  33.6490,2,  33.6290,2,    132.1,2,    87.90,2,    36.18,2,     0.02,2,     2.81,2,    3.415,3,    1.598,3, -999.000,9,  -999.00,9,  -999.00,9,   2276.9,2,   2287.8,2,     7.53,2,  1.3709
    90BM9316_1,  P01W,    20,  1,    479,      8,2,19930914,2102, 53.4987, 146.2993, 1740,    599.5,   2.1360,  34.0003,2,  33.9830,2,     74.7,2,   124.40,2,    39.58,2,     0.02,2,     2.95,2,    1.528,3,    0.645,3, -999.000,9,  -999.00,9,  -999.00,9,   2324.0,2,   2323.4,2,     7.52,2,  2.1019
    90BM9316_1,  P01W,    20,  1,    481,      6,2,19930914,2102, 53.4987, 146.2993, 1740,    799.8,   2.3210,  34.2002,2,  34.1840,2,     46.0,2,   147.90,2,    41.68,2,     0.02,2,     3.05,2,    0.698,3,    0.275,3, -999.000,9,  -999.00,9,  -999.00,9,   2354.9,2,   2353.5,2,  -999.00,9,  2.2727
    90BM9316_1,  P01W,    20,  1,    480,      7,2,19930914,2102, 53.4987, 146.2993, 1740,    800.0,   2.3210,  34.1997,2,  34.1830,2,     46.7,2,   148.90,2,    41.27,2,     0.03,2,     3.06,2,    0.712,3,    0.320,3, -999.000,9,  -999.00,9,  -999.00,9,   2356.4,2,   2355.4,2,     7.50,2,  2.2727
    90BM9316_1,  P01W,    20,  1,    482,      5,2,19930914,2102, 53.4987, 146.2993, 1740,    999.6,   2.3630,  34.3406,2,  34.3230,2,     32.3,2,   164.30,2,    42.45,2,     0.05,2,     3.09,2,    0.243,3,    0.101,3, -999.000,9,  -999.00,9,  -999.00,9,   2374.0,2,   2376.7,2,     7.51,2,  2.3004
    90BM9316_1,  P01W,    20,  1,    483,      4,2,19930914,2102, 53.4987, 146.2993, 1740,   1199.5,   2.3260,  34.4110,2,  34.3940,2,     30.0,2,   178.70,2,    42.36,2,     0.04,2,     3.09,2,    0.119,3,    0.010,3, -999.000,9,  -999.00,9,  -999.00,9,   2380.2,2,   2389.2,2,     7.53,2,  2.2492
    90BM9316_1,  P01W,    20,  1,    484,      3,2,19930914,2102, 53.4987, 146.2993, 1740,   1399.4,   2.3140,  34.4348,2,  34.4190,2,     27.9,2,   190.90,2,    42.37,2,     0.03,2,     3.12,2,    0.071,3,    0.000,3, -999.000,9,  -999.00,9,  -999.00,9,   2384.3,2,   2396.1,2,     7.53,2,  2.2223
    90BM9316_1,  P01W,    20,  1,    485,      2,2,19930914,2102, 53.4987, 146.2993, 1740,   1599.4,   2.3260,  34.4474,2,  34.4310,2,     22.2,2,   218.00,2,    42.20,2,     0.00,2,     3.22,2,    0.064,3,    0.025,3, -999.000,9,  -999.00,9,  -999.00,9,   2396.5,2,   2399.1,2,     7.53,2,  2.2184
    90BM9316_1,  P01W,    20,  1,    486,      1,2,19930914,2102, 53.4987, 146.2993, 1740,   1660.1,   2.3320,  34.4493,2,  34.4320,2,     21.9,2,   221.60,2,    42.10,2,     0.00,2,     3.19,2,    0.132,3,    0.000,3, -999.000,9,  -999.00,9,  -999.00,9,   2395.8,2,   2403.0,2,     7.52,2,  2.2195
    90BM9316_1,  P01W,    37,  1,    492,     18,2,19930916,2349, 48.0090, 147.6497, 2020,   1499.3,   2.1320,  34.5015,2,  34.4800,2,     56.2,2,  -999.00,9,  -999.00,9,  -999.00,9,  -999.00,9,    0.381,3,    0.020,3, -999.000,9,  -999.00,9,  -999.00,9,   -999.0,9,   -999.0,9,  -999.00,9,  2.0345
    90BM9316_1,  P01W,    37,  1,    488,     22,2,19930916,2349, 48.0090, 147.6497, 2020,   1499.4,   2.1320,  34.5004,2,  34.4810,2,     56.3,2,  -999.00,9,  -999.00,9,  -999.00,9,  -999.00,9,    0.086,3,    0.053,3, -999.000,9,  -999.00,9,  -999.00,9,   -999.0,9,   -999.0,9,  -999.00,9,  2.0345
    90BM9316_1,  P01W,    37,  1,    487,     23,2,19930916,2349, 48.0090, 147.6497, 2020,   1500.0,   2.1320,  34.5005,2,  34.4800,2,     56.3,2,  -999.00,9,  -999.00,9,  -999.00,9,  -999.00,9,    0.095,3,    0.067,3, -999.000,9,  -999.00,9,  -999.00,9,   -999.0,9,   -999.0,9,  -999.00,9,  2.0344
    90BM9316_1,  P01W,    37,  1,    489,     21,2,19930916,2349, 48.0090, 147.6497, 2020,   1500.0,-999.0000,-999.0000,9,  34.4810,2,     56.3,2,  -999.00,9,  -999.00,9,  -999.00,9,  -999.00,9,    0.116,3,    0.043,3, -999.000,9,  -999.00,9,  -999.00,9,   -999.0,9,   -999.0,9,  -999.00,9,-999.0000
    90BM9316_1,  P01W,    37,  1,    497,     13,2,19930916,2349, 48.0090, 147.6497, 2020,   1500.0,-999.0000,-999.0000,9,  34.4790,2,     55.3,2,  -999.00,9,  -999.00,9,  -999.00,9,  -999.00,9,    0.133,3,    0.081,3, -999.000,9,  -999.00,9,  -999.00,9,   -999.0,9,   -999.0,9,  -999.00,9,-999.0000
    90BM9316_1,  P01W,    37,  1,    493,     17,2,19930916,2349, 48.0090, 147.6497, 2020,   1500.3,   2.1330,  34.5007,2,  34.4790,2,     55.9,2,  -999.00,9,  -999.00,9,  -999.00,9,  -999.00,9,    0.105,3,    0.069,3, -999.000,9,  -999.00,9,  -999.00,9,   -999.0,9,   -999.0,9,  -999.00,9,  2.0354
    90BM9316_1,  P01W,    37,  1,    494,     16,2,19930916,2349, 48.0090, 147.6497, 2020,   1500.3,   2.1320,  34.5016,2,  34.4800,2,     55.7,2,  -999.00,9,  -999.00,9,  -999.00,9,  -999.00,9,    0.111,3,    0.041,3, -999.000,9,  -999.00,9,  -999.00,9,   -999.0,9,   -999.0,9,  -999.00,9,  2.0344
    90BM9316_1,  P01W,    37,  1,    504,      6,2,19930916,2349, 48.0090, 147.6497, 2020,   1500.3,   2.1320,  34.5027,2,  34.4800,2,     55.1,2,  -999.00,9,  -999.00,9,  -999.00,9,  -999.00,9,    0.069,3,    0.014,3, -999.000,9,  -999.00,9,  -999.00,9,   -999.0,9,   -999.0,9,  -999.00,9,  2.0344
    90BM9316_1,  P01W,    37,  1,    502,      8,2,19930916,2349, 48.0090, 147.6497, 2020,   1500.7,   2.1330,  34.5020,2,  34.4790,2,     55.0,2,  -999.00,9,  -999.00,9,  -999.00,9,  -999.00,9,    0.095,3,    0.007,3, -999.000,9,  -999.00,9,  -999.00,9,   -999.0,9,   -999.0,9,  -999.00,9,  2.0354
    90BM9316_1,  P01W,    37,  1,    490,     20,2,19930916,2349, 48.0090, 147.6497, 2020,   1500.8,   2.1320,  34.5008,2,  34.4810,2,     56.2,2,  -999.00,9,  -999.00,9,  -999.00,9,  -999.00,9,    0.111,3,    0.047,3, -999.000,9,  -999.00,9,  -999.00,9,   -999.0,9,   -999.0,9,  -999.00,9,  2.0344
    90BM9316_1,  P01W,    37,  1,    495,     15,2,19930916,2349, 48.0090, 147.6497, 2020,   1501.1,   2.1330,  34.5009,2,  34.4790,2,     55.7,2,  -999.00,9,  -999.00,9,  -999.00,9,  -999.00,9,    0.111,3,    0.160,3, -999.000,9,  -999.00,9,  -999.00,9,   -999.0,9,   -999.0,9,  -999.00,9,  2.0353
    90BM9316_1,  P01W,    37,  1,    500,     10,2,19930916,2349, 48.0090, 147.6497, 2020,   1501.2,   2.1330,  34.5020,2,  34.4810,2,     54.7,2,  -999.00,9,  -999.00,9,  -999.00,9,  -999.00,9,    0.073,3,    0.051,3, -999.000,9,  -999.00,9,  -999.00,9,   -999.0,9,   -999.0,9,  -999.00,9,  2.0353
    90BM9316_1,  P01W,    37,  1,    505,      5,2,19930916,2349, 48.0090, 147.6497, 2020,   1501.3,   2.1320,  34.5027,2,  34.4810,2,     55.1,2,  -999.00,9,  -999.00,9,  -999.00,9,  -999.00,9,    0.070,3,    0.023,3, -999.000,9,  -999.00,9,  -999.00,9,   -999.0,9,   -999.0,9,  -999.00,9,  2.0343
    90BM9316_1,  P01W,    37,  1,    491,     19,2,19930916,2349, 48.0090, 147.6497, 2020,   1501.4,   2.1310,  34.5008,2,  34.4810,2,     56.3,2,  -999.00,9,  -999.00,9,  -999.00,9,  -999.00,9,    0.109,3,    0.054,3, -999.000,9,  -999.00,9,  -999.00,9,   -999.0,9,   -999.0,9,  -999.00,9,  2.0333
    90BM9316_1,  P01W,    37,  1,    506,      4,2,19930916,2349, 48.0090, 147.6497, 2020,   1501.5,   2.1320,  34.5031,2,  34.4820,2,     55.2,2,  -999.00,9,  -999.00,9,  -999.00,9,  -999.00,9,    0.095,3,    0.035,3, -999.000,9,  -999.00,9,  -999.00,9,   -999.0,9,   -999.0,9,  -999.00,9,  2.0343
    90BM9316_1,  P01W,    37,  1,    498,     12,2,19930916,2349, 48.0090, 147.6497, 2020,   1501.6,   2.1330,  34.5014,2,  34.4790,2,     55.5,2,  -999.00,9,  -999.00,9,  -999.00,9,  -999.00,9,    0.109,3,    0.038,3, -999.000,9,  -999.00,9,  -999.00,9,   -999.0,9,   -999.0,9,  -999.00,9,  2.0353
    90BM9316_1,  P01W,    37,  1,    499,     11,2,19930916,2349, 48.0090, 147.6497, 2020,   1501.8,   2.1330,  34.5013,2,  34.4790,2,     55.5,2,  -999.00,9,  -999.00,9,  -999.00,9,  -999.00,9,    0.101,3,    0.065,3, -999.000,9,  -999.00,9,  -999.00,9,   -999.0,9,   -999.0,9,  -999.00,9,  2.0353
    90BM9316_1,  P01W,    37,  1,    509,      1,2,19930916,2349, 48.0090, 147.6497, 2020,   1501.8,   2.1320,  34.5036,2,  34.4810,2,     55.5,2,  -999.00,9,  -999.00,9,  -999.00,9,  -999.00,9,    0.112,3,    0.024,3, -999.000,9,  -999.00,9,  -999.00,9,   -999.0,9,   -999.0,9,  -999.00,9,  2.0343
    90BM9316_1,  P01W,    37,  1,    496,     14,2,19930916,2349, 48.0090, 147.6497, 2020,   1501.9,   2.1320,  34.5012,2,  34.4790,2,     55.7,2,  -999.00,9,  -999.00,9,  -999.00,9,  -999.00,9,    0.088,3,    0.034,3, -999.000,9,  -999.00,9,  -999.00,9,   -999.0,9,   -999.0,9,  -999.00,9,  2.0343
    90BM9316_1,  P01W,    37,  1,    507,      3,2,19930916,2349, 48.0090, 147.6497, 2020,   1502.3,   2.1320,  34.5031,2,  34.4790,2,     55.5,2,  -999.00,9,  -999.00,9,  -999.00,9,  -999.00,9,    0.076,3,    0.015,3, -999.000,9,  -999.00,9,  -999.00,9,   -999.0,9,   -999.0,9,  -999.00,9,  2.0342
    90BM9316_1,  P01W,    37,  1,    501,      9,2,19930916,2349, 48.0090, 147.6497, 2020,   1502.8,   2.1330,  34.5023,2,  34.4820,2,     55.9,2,  -999.00,9,  -999.00,9,  -999.00,9,  -999.00,9,    0.080,3,    0.015,3, -999.000,9,  -999.00,9,  -999.00,9,   -999.0,9,   -999.0,9,  -999.00,9,  2.0352
    90BM9316_1,  P01W,    37,  1,    503,      7,2,19930916,2349, 48.0090, 147.6497, 2020,   1503.0,-999.0000,-999.0000,9,  34.4760,2,     55.1,2,  -999.00,9,  -999.00,9,  -999.00,9,  -999.00,9,    0.094,3,    0.086,3, -999.000,9,  -999.00,9,  -999.00,9,   -999.0,9,   -999.0,9,  -999.00,9,-999.0000
    90BM9316_1,  P01W,    37,  1,    508,      2,2,19930916,2349, 48.0090, 147.6497, 2020,   1503.1,   2.1320,  34.5028,2,  34.4810,2,     55.4,2,  -999.00,9,  -999.00,9,  -999.00,9,  -999.00,9,    0.100,3,    0.000,3, -999.000,9,  -999.00,9,  -999.00,9,   -999.0,9,   -999.0,9,  -999.00,9,  2.0342