BOTTLE,20120716MIRCJHATS
EXPOCODE,SECT_ID,STNNBR,CASTNO,SAMPNO,BTLNBR,BTLNBR_FLAG_W,DATE,TIME,LATITUDE,LONGITUDE,DEPTH,CTDPRS,CTDTMP,CTDSAL,CTDSAL_FLAG_W,SALNTY,SALNTY_FLAG_W,OXYGEN,OXYGEN_FLAG_W,SILCAT,SILCAT_FLAG_W,NITRAT,NITRAT_FLAG_W,NITRIT,NITRIT_FLAG_W,PHSPHT,PHSPHT_FLAG_W,CFC-11,CFC-11_FLAG_W,CFC-12,CFC-12_FLAG_W,TRITUM,TRITUM_FLAG_W,DELC13,DELC13_FLAG_W,O18O16,O18O16_FLAG_W,TCARBN,TCARBN_FLAG_W,ALKALI,ALKALI_FLAG_W,PH,PH_FLAG_W,THETA
,,,,,,,,,,,,DBAR,IPTS-68,PSS-78,,PSS-78,,UMOL/KG,,UMOL/KG,,UMOL/KG,,UMOL/KG,,UMOL/KG,,PMOL/KG,,PMOL/KG,,TU,,/MILLE,,/MILLE,,UMOL/KG,,UMOL/KG,,,,DEG
    90BM9316_1,  P01W,    38,  1,    510,     22,2,19930917,0542, 47.4892, 147.0355, 3290,      8.7,  14.3730,  32.0143,2,  32.0690,2,    275.6,2,     0.60,2,    -0.61,2,     0.71,2,     0.09,2,    4.004,3,    1.748,3, -999.000,9,  -999.00,9,  -999.00,9,   1950.0,2,   -999.0,9,     8.13,2, 14.3718
    90BM9316_1,  P01W,    38,  1,    511,     21,2,19930917,0542, 47.4892, 147.0355, 3290,     49.6,  -0.6660,  32.9677,2,  32.9440,2,    336.5,2,     4.80,2,    17.85,2,     0.25,2,     1.59,2,    7.154,3,    3.281,3, -999.000,9,  -999.00,9,  -999.00,9,   2134.6,2,   -999.0,9,     7.81,2, -0.6673
    90BM9316_1,  P01W,    38,  1,    512,     20,2,19930917,0542, 47.4892, 147.0355, 3290,     99.8,  -0.4770,  33.2029,2,  33.1830,2,    295.6,2,    21.30,2,    22.28,2,     0.02,3,     1.92,2,    6.381,3,    2.945,3, -999.000,9,  -999.00,9,  -999.00,9,   2168.1,2,   -999.0,9,     7.74,2, -0.4799
    90BM9316_1,  P01W,    38,  1,    513,     19,2,19930917,0542, 47.4892, 147.0355, 3290,    151.5,   0.3550,  33.3412,2,  33.3180,2,    255.1,2,    38.70,2,    26.08,2,     0.02,3,     2.14,2,    5.669,3,    2.509,3, -999.000,9,  -999.00,9,  -999.00,9,   2190.8,2,   -999.0,9,     7.68,2,  0.3494
    90BM9316_1,  P01W,    38,  1,    514,     18,2,19930917,0542, 47.4892, 147.0355, 3290,    201.3,   0.4880,  33.3948,2,  33.3780,2,    223.7,2,    49.10,2,    29.77,2,     0.03,3,     2.42,2,    5.150,3,    2.438,3, -999.000,9,  -999.00,9,  -999.00,9,   2244.2,2,   -999.0,9,     7.63,2,  0.4802
    90BM9316_1,  P01W,    38,  1,    515,     17,2,19930917,0542, 47.4892, 147.0355, 3290,    301.6,   0.9230,  33.4923,2,  33.4810,2,    171.5,2,    59.20,2,    31.87,2,     0.03,3,     2.64,2,    4.699,3,    2.151,3, -999.000,9,  -999.00,9,  -999.00,9,   2245.7,2,   -999.0,9,     7.58,2,  0.9099
    90BM9316_1,  P01W,    38,  1,    516,     16,2,19930917,0542, 47.4892, 147.0355, 3290,    404.0,   0.7910,  33.5640,2,  33.5420,2,    174.3,2,    68.30,2,    33.17,2,     0.03,3,     2.74,2,    4.146,3,    1.939,3, -999.000,9,  -999.00,9,  -999.00,9,   2258.1,2,   -999.0,9,     7.56,2,  0.7735
    90BM9316_1,  P01W,    38,  1,    517,     15,2,19930917,0542, 47.4892, 147.0355, 3290,    601.1,   1.8540,  33.8792,2,  33.8590,2,    104.2,2,    79.80,2,    37.07,2,     0.03,3,     2.94,2,    2.333,3,    1.083,3, -999.000,9,  -999.00,9,  -999.00,9,   2308.5,2,   -999.0,9,     7.53,2,  1.8213
    90BM9316_1,  P01W,    38,  1,    518,     14,2,19930917,0542, 47.4892, 147.0355, 3290,    802.5,   2.2330,  34.1304,2,  34.1140,2,     59.4,2,   111.30,2,    41.47,2,     0.03,3,     3.11,2,    1.064,3,    0.462,3, -999.000,9,  -999.00,9,  -999.00,9,   2344.6,2,   -999.0,9,     7.50,2,  2.1852
    90BM9316_1,  P01W,    38,  1,    520,     12,2,19930917,0542, 47.4892, 147.0355, 3290,   1000.0,   2.2990,  34.2891,2,  34.2720,2,     48.1,2,   151.30,2,    40.97,2,     0.03,3,     3.13,2,    0.549,3,    0.245,3, -999.000,9,  -999.00,9,  -999.00,9,   2365.8,2,   -999.0,9,     7.53,2,  2.2370
    90BM9316_1,  P01W,    38,  1,    519,     13,2,19930917,0542, 47.4892, 147.0355, 3290,   1002.5,   2.3000,  34.2898,2,  34.2720,2,     48.3,2,   141.60,2,    40.77,2,     0.03,3,     3.13,2,    0.552,3,    0.289,3, -999.000,9,  -999.00,9,  -999.00,9,   2366.0,2,   -999.0,9,  -999.00,9,  2.2378
    90BM9316_1,  P01W,    38,  1,    521,     11,2,19930917,0542, 47.4892, 147.0355, 3290,   1200.0,   2.2380,  34.4055,2,  34.3890,2,     49.1,2,   157.80,2,    41.06,2,     0.04,3,     3.09,2,    0.234,3,    0.099,3, -999.000,9,  -999.00,9,  -999.00,9,   2372.4,2,   -999.0,9,     7.53,2,  2.1620
    90BM9316_1,  P01W,    38,  1,    522,     10,2,19930917,0542, 47.4892, 147.0355, 3290,   1400.3,   2.1520,  34.4777,2,  34.4630,2,     53.0,2,   160.70,2,    41.45,2,     0.05,3,     3.03,2,    0.090,3,    0.105,3, -999.000,9,  -999.00,9,  -999.00,9,   2386.3,2,   -999.0,9,     7.55,2,  2.0618
    90BM9316_1,  P01W,    38,  1,    523,      9,2,19930917,0542, 47.4892, 147.0355, 3290,   1600.9,   2.0860,  34.5139,2,  34.4980,2,     59.3,2,   160.70,2,    41.25,3,     0.05,3,     2.89,2,    0.061,3,    0.107,3, -999.000,9,  -999.00,9,  -999.00,9,   2374.8,2,   -999.0,9,     7.55,2,  1.9811
    90BM9316_1,  P01W,    38,  1,    524,      8,2,19930917,0542, 47.4892, 147.0355, 3290,   1798.8,   2.0210,  34.5395,2,  34.5250,2,     63.6,2,   163.50,2,    39.63,3,     0.07,3,     2.89,2,    0.030,3,    0.000,3, -999.000,9,  -999.00,9,  -999.00,9,   2380.4,2,   -999.0,9,     7.57,2,  1.9011
    90BM9316_1,  P01W,    38,  1,    525,      7,2,19930917,0542, 47.4892, 147.0355, 3290,   1999.8,   1.9600,  34.5629,2,  34.5460,2,     71.1,2,   163.70,2,    40.44,3,     0.06,3,     2.86,2,    0.013,3,    0.000,3, -999.000,9,  -999.00,9,  -999.00,9,   2373.8,2,   -999.0,9,     7.59,2,  1.8245
    90BM9316_1,  P01W,    38,  1,    526,      6,2,19930917,0542, 47.4892, 147.0355, 3290,   2202.2,   1.9130,  34.5810,2,  34.5650,2,     76.5,2,   165.80,2,    39.03,3,     0.07,3,     2.84,2, -999.000,9, -999.000,9, -999.000,9,  -999.00,9,  -999.00,9,   2379.2,2,   -999.0,9,     7.60,2,  1.7610
    90BM9316_1,  P01W,    38,  1,    527,      5,2,19930917,0542, 47.4892, 147.0355, 3290,   2397.7,   1.8780,  34.5956,2,  34.5790,2,     81.8,2,   166.10,2,    41.33,3,     0.07,3,     2.84,2, -999.000,9, -999.000,9, -999.000,9,  -999.00,9,  -999.00,9,   2374.8,2,   -999.0,9,     7.61,2,  1.7094
    90BM9316_1,  P01W,    38,  1,    528,      4,2,19930917,0542, 47.4892, 147.0355, 3290,   2595.7,   1.8580,  34.6055,2,  34.5900,2,     82.6,2,   168.60,2,    39.94,3,     0.06,3,     2.85,2, -999.000,9, -999.000,9, -999.000,9,  -999.00,9,  -999.00,9,   2372.4,2,   -999.0,9,     7.61,2,  1.6719
    90BM9316_1,  P01W,    38,  1,    529,      3,2,19930917,0542, 47.4892, 147.0355, 3290,   2799.5,   1.8470,  34.6134,2,  34.5970,2,     85.9,2,   169.30,2,    40.03,3,     0.07,3,     2.84,2, -999.000,9, -999.000,9, -999.000,9,  -999.00,9,  -999.00,9,   2367.1,2,   -999.0,9,     7.61,2,  1.6421
    90BM9316_1,  P01W,    38,  1,    530,      2,2,19930917,0542, 47.4892, 147.0355, 3290,   2996.6,   1.8470,  34.6182,2,  34.6020,2,     88.0,2,   169.70,2,    39.03,3,     0.07,3,     2.87,2,    0.000,3,    0.000,3, -999.000,9,  -999.00,9,  -999.00,9,   2365.7,2,   -999.0,9,     7.62,2,  1.6232
    90BM9316_1,  P01W,    38,  1,    531,      1,2,19930917,0542, 47.4892, 147.0355, 3290,   3200.8,   1.8530,  34.6224,2,  34.6070,2,     88.5,2,   172.20,2,    40.83,3,     0.07,3,     2.88,2, -999.000,9, -999.000,9, -999.000,9,  -999.00,9,  -999.00,9,   2367.6,2,   -999.0,9,     7.62,2,  1.6089