BOTTLE,20120716MIRCJHATS
EXPOCODE,SECT_ID,STNNBR,CASTNO,SAMPNO,BTLNBR,BTLNBR_FLAG_W,DATE,TIME,LATITUDE,LONGITUDE,DEPTH,CTDPRS,CTDTMP,CTDSAL,CTDSAL_FLAG_W,SALNTY,SALNTY_FLAG_W,OXYGEN,OXYGEN_FLAG_W,SILCAT,SILCAT_FLAG_W,NITRAT,NITRAT_FLAG_W,NITRIT,NITRIT_FLAG_W,PHSPHT,PHSPHT_FLAG_W,CFC-11,CFC-11_FLAG_W,CFC-12,CFC-12_FLAG_W,TRITUM,TRITUM_FLAG_W,DELC13,DELC13_FLAG_W,O18O16,O18O16_FLAG_W,TCARBN,TCARBN_FLAG_W,ALKALI,ALKALI_FLAG_W,PH,PH_FLAG_W,THETA
,,,,,,,,,,,,DBAR,IPTS-68,PSS-78,,PSS-78,,UMOL/KG,,UMOL/KG,,UMOL/KG,,UMOL/KG,,UMOL/KG,,PMOL/KG,,PMOL/KG,,TU,,/MILLE,,/MILLE,,UMOL/KG,,UMOL/KG,,,,DEG
    90BM9316_1,  P01W,    15,  1,    272,     14,2,19930909,0619, 51.0352, 148.3365, 1310,      8.9,  12.1310,  32.4162,2,  32.4250,2,    282.8,2,     5.50,2,     0.20,2,     0.00,2,     0.27,3,    4.070,3,    1.870,3, -999.000,9,  -999.00,9,    -1.25,2,   1974.9,2,   2215.7,2,     8.12,2, 12.1299
    90BM9316_1,  P01W,    15,  1,    273,     13,4,19930909,0619, 51.0352, 148.3365, 1310,     51.1,   0.4520,  32.9030,2,-999.0000,9,   -999.0,9,  -999.00,9,  -999.00,9,  -999.00,9,  -999.00,9, -999.000,9, -999.000,9, -999.000,9,  -999.00,9,  -999.00,9,   -999.0,9,   -999.0,9,  -999.00,9,  0.4502
    90BM9316_1,  P01W,    15,  1,    274,     12,2,19930909,0619, 51.0352, 148.3365, 1310,     74.3,  -0.3260,  33.0427,2,  33.0120,2,    333.1,2,    30.00,2,    19.93,2,     0.07,2,     1.79,3,    6.709,3,    3.192,3, -999.000,9,  -999.00,9,    -1.07,2,   2136.3,2,   2238.1,2,     7.82,2, -0.3282
    90BM9316_1,  P01W,    15,  1,    276,     10,2,19930909,0619, 51.0352, 148.3365, 1310,    103.2,  -0.0440,  33.1698,2,  33.1300,2,    316.1,2,    39.20,2,    22.69,2,     0.01,2,     1.99,3,    6.507,3,    3.075,3, -999.000,9,  -999.00,9,    -1.08,2,   2154.4,2,   2248.6,2,     7.79,2, -0.0474
    90BM9316_1,  P01W,    15,  1,    275,     11,2,19930909,0619, 51.0352, 148.3365, 1310,    104.3,  -0.1570,  33.1670,2,  33.1300,2,    316.3,2,    39.20,2,    22.69,2,     0.01,2,     1.99,3,    6.496,3,    3.004,3, -999.000,9,  -999.00,9,    -1.01,2,   2153.2,2,   2251.5,2,     7.78,2, -0.1603
    90BM9316_1,  P01W,    15,  1,    277,      9,2,19930909,0619, 51.0352, 148.3365, 1310,    151.1,   0.3700,  33.3101,2,  33.2860,2,    257.8,2,    50.60,2,    27.59,2,     0.01,2,     2.35,3,    5.652,3,    2.638,3, -999.000,9,  -999.00,9,    -1.03,2,   2191.9,2,   2259.1,2,     7.72,2,  0.3644
    90BM9316_1,  P01W,    15,  1,    278,      8,2,19930909,0619, 51.0352, 148.3365, 1310,    199.6,   0.8030,  33.4111,2,  33.3850,2,    213.0,2,    61.80,2,    31.19,2,     0.01,2,     2.62,3,    5.104,3,    2.389,3, -999.000,9,  -999.00,9,    -0.96,2,   2224.4,2,   2265.0,2,     7.64,2,  0.7947
    90BM9316_1,  P01W,    15,  1,    279,      7,2,19930909,0619, 51.0352, 148.3365, 1310,    303.7,   1.1820,  33.5481,2,  33.5250,2,    159.2,2,    77.10,2,    35.09,2,     0.01,2,     2.91,3,    4.183,3,    1.915,3, -999.000,9,  -999.00,9,    -0.88,2,   2261.7,2,   2275.4,2,     7.56,3,  1.1681
    90BM9316_1,  P01W,    15,  1,    280,      6,2,19930909,0619, 51.0352, 148.3365, 1310,    402.8,   1.5180,  33.7018,2,  33.6750,2,    135.8,2,    90.40,2,    35.29,2,     0.01,2,     2.90,3,    3.273,3,    1.456,3, -999.000,9,  -999.00,9,    -0.71,2,   2280.0,2,   2288.9,2,     7.56,2,  1.4980
    90BM9316_1,  P01W,    15,  1,    281,      5,4,19930909,0619, 51.0352, 148.3365, 1310,    601.8,   2.1420,  34.0047,2,-999.0000,9,   -999.0,9,  -999.00,9,  -999.00,9,  -999.00,9,  -999.00,9, -999.000,9, -999.000,9, -999.000,9,  -999.00,9,  -999.00,9,   -999.0,9,   -999.0,9,  -999.00,9,  2.1080
    90BM9316_1,  P01W,    15,  1,    282,      4,2,19930909,0619, 51.0352, 148.3365, 1310,    802.0,   2.3290,  34.1979,2,  34.1800,2,     49.7,2,   144.40,2,    41.09,2,     0.01,2,     3.16,3,    0.768,3,    0.285,3, -999.000,9,  -999.00,9,    -0.50,2,   2353.2,2,   2361.3,2,     7.52,2,  2.2805
    90BM9316_1,  P01W,    15,  1,    283,      3,2,19930909,0619, 51.0352, 148.3365, 1310,   1001.6,   2.3540,  34.3355,2,  34.3160,2,     36.7,2,   162.40,2,    41.89,2,     0.01,2,     3.23,3,    0.302,3,    0.116,3, -999.000,9,  -999.00,9,    -0.41,2,   2372.0,2,   2378.7,2,     7.53,2,  2.2914
    90BM9316_1,  P01W,    15,  1,    284,      2,2,19930909,0619, 51.0352, 148.3365, 1310,   1201.0,   2.2970,  34.4294,2,  34.4100,2,     37.8,2,   170.50,2,    41.79,2,     0.01,2,     3.20,3,    0.155,3,    0.039,3, -999.000,9,  -999.00,9,    -0.45,2,   2380.6,2,   2385.4,2,     7.55,2,  2.2203
    90BM9316_1,  P01W,    15,  1,    285,      1,2,19930909,0619, 51.0352, 148.3365, 1310,   1248.2,   2.2650,  34.4514,2,  34.4330,2,     41.2,2,   173.50,2,    40.79,2,     0.01,2,     3.28,3,    0.202,3,    0.025,3, -999.000,9,  -999.00,9,    -0.44,2,   2378.3,2,   2392.1,2,     7.55,2,  2.1851
    90BM9316_1,  P01W,    16,  1,    286,     14,2,19930909,1153, 51.5070, 147.8102, 1330,      9.9,  12.0740,  32.5755,2,  32.5840,2,    283.3,2,    10.10,2,     0.20,2,     0.00,2,     0.31,3,    4.146,3,    1.960,3, -999.000,9,  -999.00,9,  -999.00,9,   1990.4,2,   2229.3,2,     8.13,2, 12.0727
    90BM9316_1,  P01W,    16,  1,    287,     13,2,19930909,1153, 51.5070, 147.8102, 1330,     48.3,  -0.0080,  32.9325,2,  32.8720,2,    353.9,2,    22.00,2,    13.92,2,     0.48,2,     1.60,3,    7.303,3,    3.537,3, -999.000,9,  -999.00,9,  -999.00,9,   2117.7,2,   2239.5,2,     7.86,2, -0.0096
    90BM9316_1,  P01W,    16,  1,    288,     12,2,19930909,1153, 51.5070, 147.8102, 1330,     76.0,  -0.2980,  33.0476,2,  33.0100,2,    336.7,2,    31.90,2,    19.59,2,     0.01,2,     1.82,3,    7.113,3,    3.483,3, -999.000,9,  -999.00,9,  -999.00,9,   2135.2,2,   2243.2,2,     7.81,2, -0.3003
    90BM9316_1,  P01W,    16,  1,    289,     11,2,19930909,1153, 51.5070, 147.8102, 1330,     99.8,  -0.4890,  33.1247,2,  33.1000,2,    306.4,2,    36.30,2,    21.49,2,     0.01,2,     1.94,3,    6.552,3,    3.177,3, -999.000,9,  -999.00,9,  -999.00,9,   2155.2,2,   2249.8,2,     7.79,2, -0.4919
    90BM9316_1,  P01W,    16,  1,    290,     10,2,19930909,1153, 51.5070, 147.8102, 1330,    151.3,   0.6010,  33.3464,2,  33.3190,2,    242.6,2,    56.20,2,    28.49,2,     0.01,2,     2.44,3,    5.294,3,    2.583,3, -999.000,9,  -999.00,9,  -999.00,9,   2203.4,2,   2260.7,2,     7.69,2,  0.5951
    90BM9316_1,  P01W,    16,  1,    291,      9,2,19930909,1153, 51.5070, 147.8102, 1330,    201.3,   0.7680,  33.4276,2,  33.3940,2,    204.6,2,    64.70,2,    31.69,2,     0.01,2,     2.69,3,    4.937,3,    2.404,3, -999.000,9,  -999.00,9,  -999.00,9,   2232.8,2,   2266.4,2,     7.63,2,  0.7597
    90BM9316_1,  P01W,    16,  1,    292,      8,2,19930909,1153, 51.5070, 147.8102, 1330,    302.3,   0.9560,  33.5223,2,  33.4970,2,    169.3,2,    73.90,2,    33.19,2,     0.01,2,     2.89,3,    4.353,3,    2.160,3, -999.000,9,  -999.00,9,  -999.00,9,   2257.6,2,   2275.1,2,     7.58,2,  0.9428
    90BM9316_1,  P01W,    16,  1,    294,      6,2,19930909,1153, 51.5070, 147.8102, 1330,    400.8,   1.3450,  33.6418,2,  33.6190,2,    147.9,2,    84.10,2,    33.49,2,     0.01,2,     2.90,3,    3.742,3,    1.880,3, -999.000,9,  -999.00,9,  -999.00,9,   2275.6,2,   2290.7,2,     7.58,2,  1.3257
    90BM9316_1,  P01W,    16,  1,    293,      7,2,19930909,1153, 51.5070, 147.8102, 1330,    401.3,   1.3420,  33.6417,2,  33.6190,2,    147.9,2,    84.60,2,    33.99,2,     0.01,2,     2.85,3,    3.586,3,    1.749,3, -999.000,9,  -999.00,9,  -999.00,9,   2273.6,2,   2288.7,2,     7.57,2,  1.3227
    90BM9316_1,  P01W,    16,  1,    295,      5,2,19930909,1153, 51.5070, 147.8102, 1330,    601.1,   2.1340,  33.9684,2,  33.9500,2,     77.2,2,   119.70,2,    37.99,2,     0.01,2,     3.06,3,    1.727,3,    0.901,3, -999.000,9,  -999.00,9,  -999.00,9,   2324.1,2,   2329.7,2,     7.54,2,  2.0998
    90BM9316_1,  P01W,    16,  1,    296,      4,2,19930909,1153, 51.5070, 147.8102, 1330,    798.9,   2.3190,  34.1930,2,  34.1750,2,     48.5,2,   144.00,2,    39.99,2,     0.01,2,     3.10,3,    0.803,3,    0.448,3, -999.000,9,  -999.00,9,  -999.00,9,   2356.0,2,   2354.3,2,     7.52,2,  2.2708
    90BM9316_1,  P01W,    16,  1,    297,      3,2,19930909,1153, 51.5070, 147.8102, 1330,    998.3,   2.3580,  34.3362,2,  34.3190,2,     37.4,2,   159.80,2,    42.29,2,     0.01,2,     3.15,3,    0.296,3,    0.250,3, -999.000,9,  -999.00,9,  -999.00,9,   2371.8,2,   2377.5,2,     7.53,2,  2.2956
    90BM9316_1,  P01W,    16,  1,    298,      2,2,19930909,1153, 51.5070, 147.8102, 1330,   1198.8,   2.3140,  34.4166,2,  34.3990,2,     35.3,2,   172.80,2,    42.19,2,     0.01,2,     3.19,3,    0.137,3,    0.161,3, -999.000,9,  -999.00,9,  -999.00,9,   2381.4,2,   2393.1,2,     7.53,2,  2.2374
    90BM9316_1,  P01W,    16,  1,    299,      1,2,19930909,1153, 51.5070, 147.8102, 1330,   1279.3,   2.2500,  34.4612,2,  34.4420,2,     42.5,2,   171.20,2,    41.99,2,     0.01,2,     3.17,3,    0.160,3,    0.161,3, -999.000,9,  -999.00,9,  -999.00,9,   2383.6,2,   2393.9,2,     7.54,2,  2.1679
    90BM9316_1,  P01W,    17,  1,    300,     14,2,19930910,1720, 52.0120, 147.5290, 1320,      9.2,  11.6210,  32.5786,2,  32.5920,2,    287.9,2,     6.40,2,     0.38,2,     0.02,2,     0.30,3,    4.224,3,    1.935,3, -999.000,9,  -999.00,9,  -999.00,9,   1992.4,2,   2221.3,2,     8.07,2, 11.6199
    90BM9316_1,  P01W,    17,  1,    301,     13,2,19930910,1720, 52.0120, 147.5290, 1320,     50.9,   0.1630,  32.9448,2,  32.9120,2,    324.4,2,    26.50,2,    15.83,2,     0.67,2,     1.58,3,    7.044,3,    3.252,3, -999.000,9,  -999.00,9,  -999.00,9,   2128.9,2,   2236.1,2,     7.83,2,  0.1613
    90BM9316_1,  P01W,    17,  1,    302,     12,2,19930910,1720, 52.0120, 147.5290, 1320,     75.7,  -0.5020,  33.0379,2,  33.0110,2,    336.2,2,    31.20,2,    19.38,2,     0.02,2,     1.77,3,    6.754,3,    3.190,3, -999.000,9,  -999.00,9,  -999.00,9,   2137.2,2,   2240.9,2,     7.80,2, -0.5042
    90BM9316_1,  P01W,    17,  1,    303,     11,2,19930910,1720, 52.0120, 147.5290, 1320,    101.1,   0.1060,  33.1828,2,  33.1540,2,    314.1,2,    42.10,2,    23.69,2,     0.01,2,     2.04,3,    6.362,3,    2.973,3, -999.000,9,  -999.00,9,  -999.00,9,   2157.2,2,   2248.6,2,     7.78,2,  0.1025
    90BM9316_1,  P01W,    17,  1,    304,     10,2,19930910,1720, 52.0120, 147.5290, 1320,    150.6,   0.4870,  33.3209,2,  33.2940,2,    257.0,2,    53.50,2,    28.39,2,     0.01,2,     2.37,3,    5.554,3,    2.610,3, -999.000,9,  -999.00,9,  -999.00,9,   2195.2,2,   2255.1,2,     7.69,2,  0.4813
    90BM9316_1,  P01W,    17,  1,    305,      9,2,19930910,1720, 52.0120, 147.5290, 1320,    202.5,   0.7040,  33.4036,2,  33.3800,2,    210.7,2,    63.80,2,    31.69,2,     0.01,2,     2.65,3,    5.038,3,    2.411,3, -999.000,9,  -999.00,9,  -999.00,9,   2229.6,2,   2266.7,2,     7.62,2,  0.6958
    90BM9316_1,  P01W,    17,  1,    306,      8,2,19930910,1720, 52.0120, 147.5290, 1320,    301.2,   1.1290,  33.5324,2,  33.5060,2,    159.3,2,    76.50,2,    35.39,2,     0.01,2,     2.91,3, -999.000,9, -999.000,9, -999.000,9,  -999.00,9,  -999.00,9,   2264.0,2,   2267.6,2,     7.55,2,  1.1154
    90BM9316_1,  P01W,    17,  1,    307,      7,2,19930910,1720, 52.0120, 147.5290, 1320,    403.0,   1.5010,  33.6587,2,  33.6380,2,    142.2,2,    87.30,2,    35.69,2,     0.01,2,     2.88,3, -999.000,9, -999.000,9, -999.000,9,  -999.00,9,  -999.00,9,   2273.6,2,   2288.9,2,     7.55,2,  1.4811
    90BM9316_1,  P01W,    17,  1,    308,      6,2,19930910,1720, 52.0120, 147.5290, 1320,    602.9,   2.1580,  33.9772,2,  33.9580,2,     82.2,2,   119.90,2,    40.19,2,     0.01,2,     3.06,3,    1.767,3,    0.911,3, -999.000,9,  -999.00,9,  -999.00,9,   2323.5,2,   2319.8,2,     7.53,2,  2.1236
    90BM9316_1,  P01W,    17,  1,    310,      4,2,19930910,1720, 52.0120, 147.5290, 1320,    801.8,   2.3020,  34.1922,2,  34.1750,2,     48.5,2,   146.80,2,    41.19,2,     0.01,2,     3.18,3,    0.794,3,    0.430,3, -999.000,9,  -999.00,9,  -999.00,9,   2357.9,2,   2353.6,2,     7.51,2,  2.2537
    90BM9316_1,  P01W,    17,  1,    309,      5,2,19930910,1720, 52.0120, 147.5290, 1320,    802.7,   2.3030,  34.1933,2,  34.1750,2,     48.6,2,   146.80,2,    40.29,2,     0.01,2,     3.17,3,    0.786,3,    0.429,3, -999.000,9,  -999.00,9,  -999.00,9,   2358.1,2,   2355.5,2,     7.53,2,  2.2546
    90BM9316_1,  P01W,    17,  1,    311,      3,2,19930910,1720, 52.0120, 147.5290, 1320,    999.9,   2.3610,  34.3219,2,  34.3030,2,     36.5,2,   159.70,2,    41.89,2,     0.01,2,     3.24,3,    0.335,3,    0.246,3, -999.000,9,  -999.00,9,  -999.00,9,   2371.4,2,   2371.2,2,     7.50,3,  2.2985
    90BM9316_1,  P01W,    17,  1,    312,      2,2,19930910,1720, 52.0120, 147.5290, 1320,   1200.0,   2.3200,  34.4118,2,  34.3950,2,     36.6,2,   170.30,2,    42.59,2,     0.01,2,     3.18,3,    0.165,3,    0.139,3, -999.000,9,  -999.00,9,  -999.00,9,   2377.9,2,   2389.8,2,     7.53,2,  2.2432
    90BM9316_1,  P01W,    17,  1,    313,      1,2,19930910,1720, 52.0120, 147.5290, 1320,   1259.0,   2.2670,  34.4182,2,  34.4190,2,     35.8,2,   187.80,2,    41.29,2,     0.01,2,     3.18,3,    0.065,3,    0.054,3, -999.000,9,  -999.00,9,  -999.00,9,   2383.8,2,   2396.4,2,     7.54,2,  2.1863
    90BM9316_1,  P01W,    18,  1,    314,     15,2,19930910,0231, 52.4950, 147.1300, 1470,      9.2,  12.2590,  32.6707,2,  32.6860,2,    280.4,2,     1.50,2,     0.58,2,     0.02,2,     0.50,3,    4.051,3,    1.903,3, -999.000,9,  -999.00,9,  -999.00,9,   2006.0,2,   -999.0,9,     8.10,2, 12.2578
    90BM9316_1,  P01W,    18,  1,    315,     14,2,19930910,0231, 52.4950, 147.1300, 1470,     50.8,   0.0400,  32.9548,2,  32.8530,2,    358.5,2,    20.40,2,    13.57,2,     0.43,2,     1.50,3,    7.322,3,    3.416,3, -999.000,9,  -999.00,9,  -999.00,9,   2112.8,2,   2237.8,2,     7.88,2,  0.0383
    90BM9316_1,  P01W,    18,  1,    316,     13,2,19930910,0231, 52.4950, 147.1300, 1470,     73.5,  -0.7720,  32.9640,2,  32.9320,2,    346.3,2,    25.80,2,    17.25,2,     0.15,2,     1.65,3,    7.230,3,    3.328,3, -999.000,9,  -999.00,9,  -999.00,9,   2124.5,2,   2240.1,2,     7.83,2, -0.7739
    90BM9316_1,  P01W,    18,  1,    317,     12,2,19930910,0231, 52.4950, 147.1300, 1470,     99.8,  -0.8700,  33.0918,2,  33.0550,2,    328.8,2,    31.90,2,    20.19,2,     0.01,2,     1.88,3,    6.903,3,    3.336,3, -999.000,9,  -999.00,9,  -999.00,9,   2145.9,2,   2244.8,2,     7.79,2, -0.8726
    90BM9316_1,  P01W,    18,  1,    318,     11,2,19930910,0231, 52.4950, 147.1300, 1470,    150.4,   0.1440,  33.3162,2,  33.2810,2,    248.2,2,    56.40,2,    28.19,2,     0.01,2,     2.45,3,    5.491,3,    2.601,3, -999.000,9,  -999.00,9,  -999.00,9,   2200.4,2,   2255.5,2,     7.67,2,  0.1387
    90BM9316_1,  P01W,    18,  1,    319,     10,2,19930910,0231, 52.4950, 147.1300, 1470,    200.6,   0.6630,  33.4158,2,  33.3960,2,    195.0,2,    67.20,2,    33.39,2,     0.01,2,     2.79,3,    4.833,3,    2.536,3, -999.000,9,  -999.00,9,  -999.00,9,   2236.6,2,   2264.2,2,     7.60,2,  0.6549
    90BM9316_1,  P01W,    18,  1,    320,      9,2,19930910,0231, 52.4950, 147.1300, 1470,    301.5,   0.9960,  33.5256,2,  33.5030,2,    155.4,2,    77.50,2,    35.89,2,     0.01,2,     2.98,3,    4.179,3,    2.021,3, -999.000,9,  -999.00,9,  -999.00,9,   2265.2,2,   2276.7,2,     7.54,2,  0.9827
    90BM9316_1,  P01W,    18,  1,    321,      8,2,19930910,0231, 52.4950, 147.1300, 1470,    400.9,   1.3990,  33.6625,2,  33.6440,2,    133.4,2,    89.70,2,    36.19,2,     0.01,2,     2.96,3,    3.536,3,    1.648,3, -999.000,9,  -999.00,9,  -999.00,9,   2279.9,2,   2285.2,2,     7.54,2,  1.3795
    90BM9316_1,  P01W,    18,  1,    323,      6,2,19930910,0231, 52.4950, 147.1300, 1470,    601.0,   2.1430,  34.0036,2,  33.9880,2,     74.0,2,   123.80,2,    40.29,2,     0.01,2,     3.11,3,    1.512,3,    0.754,3, -999.000,9,  -999.00,9,  -999.00,9,   2327.7,2,   2330.0,2,     7.50,2,  2.1088
    90BM9316_1,  P01W,    18,  1,    322,      7,2,19930910,0231, 52.4950, 147.1300, 1470,    603.8,   2.1470,  34.0060,2,  33.9900,2,     73.5,2,   123.80,2,    40.29,2,     0.01,2,     3.12,3,    1.530,3,    0.786,3, -999.000,9,  -999.00,9,  -999.00,9,   2326.9,2,   2324.2,2,     7.50,2,  2.1126
    90BM9316_1,  P01W,    18,  1,    324,      5,2,19930910,0231, 52.4950, 147.1300, 1470,    801.9,   2.3270,  34.1989,2,  34.1820,2,     45.8,2,   146.80,2,    41.09,2,     0.01,2,     3.21,3,    0.740,3,    0.487,3, -999.000,9,  -999.00,9,  -999.00,9,   2357.6,2,   2356.2,2,     7.50,2,  2.2785
    90BM9316_1,  P01W,    18,  1,    325,      4,2,19930910,0231, 52.4950, 147.1300, 1470,    999.4,   2.3640,  34.3357,2,  34.3210,2,     33.2,2,   163.60,2,    42.89,2,     0.01,2,  -999.00,9,    0.308,3,    0.227,3, -999.000,9,  -999.00,9,  -999.00,9,   2374.2,2,   2373.8,2,     7.50,2,  2.3014
    90BM9316_1,  P01W,    18,  1,    326,      3,2,19930910,0231, 52.4950, 147.1300, 1470,   1199.9,   2.3250,  34.4106,2,  34.3970,2,     31.3,2,   175.20,2,    42.39,2,     0.01,2,     3.23,3,    0.134,3,    0.157,3, -999.000,9,  -999.00,9,  -999.00,9,   2380.4,2,   2387.6,2,     7.51,2,  2.2482
    90BM9316_1,  P01W,    18,  1,    327,      2,2,19930910,0231, 52.4950, 147.1300, 1470,   1399.7,   2.3000,  34.4454,2,  34.4300,2,     29.8,2,   198.90,2,    42.49,2,     0.01,2,     3.26,3,    0.107,3,    0.231,3, -999.000,9,  -999.00,9,  -999.00,9,   2386.9,2,   2395.5,2,     7.51,2,  2.2084
    90BM9316_1,  P01W,    18,  1,    328,      1,2,19930910,0231, 52.4950, 147.1300, 1470,   1400.3,   2.3000,  34.4449,2,  34.4280,2,     30.1,2,   198.40,2,    42.09,2,     0.01,2,     3.24,3,    0.104,3,    0.149,3, -999.000,9,  -999.00,9,  -999.00,9,   2389.2,2,   2397.8,2,     7.52,2,  2.2083