BOTTLE,20120716MIRCJHATS
EXPOCODE,SECT_ID,STNNBR,CASTNO,SAMPNO,BTLNBR,BTLNBR_FLAG_W,DATE,TIME,LATITUDE,LONGITUDE,DEPTH,CTDPRS,CTDTMP,CTDSAL,CTDSAL_FLAG_W,SALNTY,SALNTY_FLAG_W,OXYGEN,OXYGEN_FLAG_W,SILCAT,SILCAT_FLAG_W,NITRAT,NITRAT_FLAG_W,NITRIT,NITRIT_FLAG_W,PHSPHT,PHSPHT_FLAG_W,CFC-11,CFC-11_FLAG_W,CFC-12,CFC-12_FLAG_W,TRITUM,TRITUM_FLAG_W,DELC13,DELC13_FLAG_W,O18O16,O18O16_FLAG_W,TCARBN,TCARBN_FLAG_W,ALKALI,ALKALI_FLAG_W,PH,PH_FLAG_W,THETA
,,,,,,,,,,,,DBAR,IPTS-68,PSS-78,,PSS-78,,UMOL/KG,,UMOL/KG,,UMOL/KG,,UMOL/KG,,UMOL/KG,,PMOL/KG,,PMOL/KG,,TU,,/MILLE,,/MILLE,,UMOL/KG,,UMOL/KG,,,,DEG
    90BM9316_1,  P01W,    11,  1,    220,     14,2,19930907,2100, 48.9832, 149.8053, 1350,      9.2,  10.9300,  32.6199,2,  32.6293,2,    291.2,2,    10.30,2,     1.72,2,     0.08,2,     0.43,3,    4.159,3,    2.078,3, -999.000,9,  -999.00,9,    -1.13,2,   2012.7,2,   2235.5,2,     8.07,2, 10.9289
    90BM9316_1,  P01W,    11,  1,    221,     13,2,19930907,2100, 48.9832, 149.8053, 1350,     50.1,   0.7640,  33.0151,2,  32.9902,2,    336.4,2,    30.40,2,    16.82,2,     0.28,2,     1.52,3,    7.276,3,    3.415,3, -999.000,9,  -999.00,9,    -0.92,2,   2128.2,2,   2250.1,2,     7.84,2,  0.7620
    90BM9316_1,  P01W,    11,  1,    222,     12,2,19930907,2100, 48.9832, 149.8053, 1350,    101.7,   0.4380,  33.1948,2,  33.1634,2,    314.3,2,    42.70,2,    22.27,2,     0.03,2,     1.84,3,    6.787,3,    3.207,3, -999.000,9,  -999.00,9,    -0.87,2,   2162.7,2,   2259.6,2,     7.78,2,  0.4342
    90BM9316_1,  P01W,    11,  1,    223,     11,2,19930907,2100, 48.9832, 149.8053, 1350,    150.4,   0.7220,  33.3214,2,  33.2942,2,    266.1,2,    52.70,2,    25.90,2,     0.00,2,     2.10,3,    5.726,3,    2.650,3, -999.000,9,  -999.00,9,    -0.86,2,   2187.9,2,   2266.3,2,     7.71,2,  0.7160
    90BM9316_1,  P01W,    11,  1,    225,      9,2,19930907,2100, 48.9832, 149.8053, 1350,    200.1,   1.0470,  33.4081,2,  33.3819,2,    226.9,2,    61.60,2,    29.00,2,     0.00,2,     2.26,3,    4.615,3,    2.665,3, -999.000,9,  -999.00,9,    -0.79,2,   2213.5,2,   2272.2,2,     7.65,2,  1.0383
    90BM9316_1,  P01W,    11,  1,    224,     10,2,19930907,2100, 48.9832, 149.8053, 1350,    201.1,   1.0610,  33.4115,2,  33.3837,2,    225.4,2,    61.60,2,    28.60,2,     0.00,2,     2.26,3,    4.842,3,    2.239,3, -999.000,9,  -999.00,9,    -0.76,2,   2215.7,2,   2273.1,2,     7.65,2,  1.0522
    90BM9316_1,  P01W,    11,  1,    226,      8,2,19930907,2100, 48.9832, 149.8053, 1350,    303.7,   1.2650,  33.5112,2,  33.4864,2,    184.4,2,    71.70,2,    32.00,2,     0.00,2,     2.48,3,    4.643,3,    2.305,3, -999.000,9,  -999.00,9,    -0.81,2,   2242.6,2,   2279.1,2,     7.61,2,  1.2509
    90BM9316_1,  P01W,    11,  1,    227,      7,2,19930907,2100, 48.9832, 149.8053, 1350,    403.5,   1.5600,  33.6248,2,  33.6014,2,    165.9,2,    79.90,2,    32.30,2,     0.00,2,     2.45,3,    3.982,3,    1.893,3, -999.000,9,  -999.00,9,    -0.74,2,   2251.9,2,   2296.8,2,     7.59,2,  1.5399
    90BM9316_1,  P01W,    11,  1,    228,      6,2,19930907,2100, 48.9832, 149.8053, 1350,    601.8,   2.1550,  33.9047,2,  33.8846,2,    102.2,2,   108.80,2,    36.70,2,     0.00,2,     2.66,3,    2.250,3,    1.113,3, -999.000,9,  -999.00,9,    -0.71,2,   2304.4,2,   2309.7,2,     7.54,2,  2.1208
    90BM9316_1,  P01W,    11,  1,    229,      5,2,19930907,2100, 48.9832, 149.8053, 1350,    802.5,   2.4290,  34.1725,2,  34.1513,2,     54.8,2,   136.90,2,    40.10,2,     0.00,2,     2.81,3,    0.937,3,    0.435,3, -999.000,9,  -999.00,9,    -0.69,2,   2347.7,2,   2350.0,2,     7.52,2,  2.3799
    90BM9316_1,  P01W,    11,  1,    230,      4,2,19930907,2100, 48.9832, 149.8053, 1350,    999.2,   2.3740,  34.3364,2,  34.3175,2,     40.4,2,   160.00,2,    41.20,2,     0.00,2,     2.82,3,    0.429,3,    0.192,3, -999.000,9,  -999.00,9,    -0.60,2,   2371.0,2,   2376.1,2,     7.51,2,  2.3114
    90BM9316_1,  P01W,    11,  1,    231,      3,2,19930907,2100, 48.9832, 149.8053, 1350,   1197.2,   2.3450,  34.3853,2,  34.3664,2,     54.0,2,   166.00,2,    41.40,2,     0.00,2,     2.87,3,    0.211,3,    0.134,3, -999.000,9,  -999.00,9,    -0.58,2,   2375.1,2,   2379.0,2,     7.52,2,  2.2683
    90BM9316_1,  P01W,    11,  1,    232,      2,2,19930907,2100, 48.9832, 149.8053, 1350,   1198.6,   2.3460,  34.3852,2,  34.3671,2,     39.3,2,   165.70,2,    42.20,2,     0.00,2,     2.86,3,    0.205,3,    0.165,3, -999.000,9,  -999.00,9,    -0.58,2,   2376.0,2,   2382.0,2,     7.53,2,  2.2691
    90BM9316_1,  P01W,    11,  1,    233,      1,2,19930907,2100, 48.9832, 149.8053, 1350,   1296.7,   2.3220,  34.4305,2,  34.4096,2,     57.0,2,   166.80,2,    41.80,2,     0.00,2,     2.80,3,    0.135,3,    0.098,3, -999.000,9,  -999.00,9,    -0.60,2,   2373.6,2,   2386.0,2,     7.54,2,  2.2380
    90BM9316_1,  P01W,    12,  1,    234,     13,2,19930908,1659, 49.4993, 149.5108,  975,      9.6,  11.0870,  32.4346,2,  32.4945,2,    301.3,2,    10.80,2,     0.06,2,     0.14,2,     0.34,3,    4.387,3,    2.045,3, -999.000,9,  -999.00,9,  -999.00,9,   2004.2,2,   2227.5,2,     8.08,2, 11.0859
    90BM9316_1,  P01W,    12,  1,    235,     12,2,19930908,1659, 49.4993, 149.5108,  975,     49.8,   0.3930,  33.0334,2,  33.0058,2,    329.8,2,    32.10,2,    18.42,2,     0.18,2,     1.45,3,    6.507,3,    2.940,3, -999.000,9,  -999.00,9,  -999.00,9,   2134.1,2,   2242.3,2,     7.82,2,  0.3912
    90BM9316_1,  P01W,    12,  1,    236,     11,2,19930908,1659, 49.4993, 149.5108,  975,     98.8,   0.4970,  33.2412,2,  33.2127,2,    298.9,2,    47.60,2,    25.16,2,     0.14,2,     2.13,3,    5.995,3,    2.851,3, -999.000,9,  -999.00,9,  -999.00,9,   2171.4,2,   2256.8,2,     7.76,2,  0.4933
    90BM9316_1,  P01W,    12,  1,    237,     10,2,19930908,1659, 49.4993, 149.5108,  975,    149.9,   0.9680,  33.3755,2,  33.3505,2,    242.4,2,    59.50,2,    28.90,2,     0.00,2,     2.15,3,    5.172,3,    2.449,3, -999.000,9,  -999.00,9,  -999.00,9,   2204.6,2,   2265.4,2,     7.69,2,  0.9617
    90BM9316_1,  P01W,    12,  1,    238,      9,2,19930908,1659, 49.4993, 149.5108,  975,    200.3,   1.1570,  33.4432,2,  33.4190,2,    210.4,2,    67.00,2,    30.90,2,     0.00,2,     2.30,3,    4.563,3,    2.104,3, -999.000,9,  -999.00,9,  -999.00,9,   2227.2,2,   2272.5,2,     7.65,2,  1.1481
    90BM9316_1,  P01W,    12,  1,    240,      7,2,19930908,1659, 49.4993, 149.5108,  975,    299.7,   1.1120,  33.5300,2,  33.5049,2,    172.9,2,    74.60,2,    32.70,2,     0.00,2,     2.53,3,    4.159,3,    1.908,3, -999.000,9,  -999.00,9,  -999.00,9,   2256.3,2,   2276.3,2,     7.59,2,  1.0985
    90BM9316_1,  P01W,    12,  1,    239,      8,2,19930908,1659, 49.4993, 149.5108,  975,    300.8,   1.1130,  33.5302,2,  33.5046,2,    172.7,2,    77.20,2,    32.80,2,     0.00,2,     2.50,3,    4.211,3,    1.958,3, -999.000,9,  -999.00,9,  -999.00,9,   2253.9,2,   2272.4,2,     7.59,2,  1.0994
    90BM9316_1,  P01W,    12,  1,    241,      6,2,19930908,1659, 49.4993, 149.5108,  975,    400.4,   1.5720,  33.6733,2,  33.6509,2,    148.9,2,    86.90,2,    33.80,2,     0.00,2,     2.55,3,    3.439,3,    1.536,3, -999.000,9,  -999.00,9,  -999.00,9,   2266.4,2,   2286.8,2,     7.57,2,  1.5520
    90BM9316_1,  P01W,    12,  1,    242,      5,2,19930908,1659, 49.4993, 149.5108,  975,    600.3,   2.1480,  33.9663,2,  33.9482,2,     83.7,2,   119.10,2,    37.80,2,     0.00,2,     2.76,3,    1.690,3,    0.768,3, -999.000,9,  -999.00,9,  -999.00,9,   2316.6,2,   2332.2,2,     7.53,2,  2.1138
    90BM9316_1,  P01W,    12,  1,    243,      4,2,19930908,1659, 49.4993, 149.5108,  975,    799.9,   2.4890,  34.2254,2,  34.2106,2,     48.6,2,   140.10,2,    40.60,2,     0.00,2,     2.90,3,    0.758,3,    0.320,3, -999.000,9,  -999.00,9,  -999.00,9,   2357.6,2,   2354.3,2,     7.53,2,  2.4396
    90BM9316_1,  P01W,    12,  1,    244,      3,2,19930908,1659, 49.4993, 149.5108,  975,    898.8,   2.4600,  34.3085,2,  34.2881,2,     44.0,2,   147.90,2,    40.50,2,     0.00,2,     2.91,3,    0.450,3,    0.256,3, -999.000,9,  -999.00,9,  -999.00,9,   2363.2,2,   2371.9,2,     7.52,2,  2.4038
    90BM9316_1,  P01W,    12,  1,    245,      2,2,19930908,1659, 49.4993, 149.5108,  975,    900.0,   2.4610,-999.0000,9,-999.0000,9,   -999.0,9,  -999.00,9,  -999.00,9,  -999.00,9,  -999.00,9, -999.000,9, -999.000,9, -999.000,9,  -999.00,9,  -999.00,9,   -999.0,9,   -999.0,9,  -999.00,9,  2.4560
    90BM9316_1,  P01W,    12,  1,    246,      1,4,19930908,1659, 49.4993, 149.5108,  975,    900.0,   2.4620,-999.0000,9,-999.0000,9,   -999.0,9,  -999.00,9,  -999.00,9,  -999.00,9,  -999.00,9, -999.000,9, -999.000,9, -999.000,9,  -999.00,9,  -999.00,9,   -999.0,9,   -999.0,9,  -999.00,9,  2.4570
    90BM9316_1,  P01W,    13,  1,    247,     12,2,19930908,2055, 49.9928, 149.1095, 1110,      9.5,  11.5070,  32.4732,2,  32.5090,2,    290.4,2,    11.40,2,     0.35,2,     0.05,2,     0.41,3,    4.363,3,    2.019,3, -999.000,9,  -999.00,9,  -999.00,9,   2004.9,2,   2221.4,2,     8.08,2, 11.5058
    90BM9316_1,  P01W,    13,  1,    248,     11,2,19930908,2055, 49.9928, 149.1095, 1110,     49.0,   0.5790,  32.9895,2,  32.9792,2,    336.4,2,    31.40,2,    17.55,2,     0.15,2,     1.53,3,    6.791,3,    3.178,3, -999.000,9,  -999.00,9,  -999.00,9,   2126.9,2,   2240.8,2,     7.83,2,  0.5772
    90BM9316_1,  P01W,    13,  1,    249,     10,2,19930908,2055, 49.9928, 149.1095, 1110,    100.0,   0.3720,  33.1965,2,  33.1694,2,    311.3,2,    45.00,2,    22.59,2,     0.01,2,     1.88,3,    6.430,3,    2.962,3, -999.000,9,  -999.00,9,  -999.00,9,   2157.4,2,   2248.3,2,     7.77,2,  0.3684
    90BM9316_1,  P01W,    13,  1,    250,      9,2,19930908,2055, 49.9928, 149.1095, 1110,    150.1,   0.2390,  33.2939,2,  33.2643,2,    271.2,2,    49.50,2,    24.70,2,     0.00,2,     2.07,3,    5.718,3,    2.703,3, -999.000,9,  -999.00,9,  -999.00,9,   2185.2,2,   2255.9,2,     7.72,2,  0.2336
    90BM9316_1,  P01W,    13,  1,    251,      8,2,19930908,2055, 49.9928, 149.1095, 1110,    199.3,   1.0430,  33.4447,2,  33.3986,2,    202.9,2,    63.80,2,    28.80,2,     0.00,2,     2.34,3,    4.858,3,    2.296,3, -999.000,9,  -999.00,9,  -999.00,9,   2216.1,2,   2269.3,2,     7.65,2,  1.0343
    90BM9316_1,  P01W,    13,  1,    252,      7,2,19930908,2055, 49.9928, 149.1095, 1110,    299.5,   1.3950,  33.5333,2,  33.5137,2,    179.9,2,    75.00,2,    31.60,2,     0.00,2,     2.54,3,    4.302,3,    1.959,3, -999.000,9,  -999.00,9,  -999.00,9,   2245.4,2,   2271.1,2,     7.59,2,  1.3808
    90BM9316_1,  P01W,    13,  1,    253,      6,2,19930908,2055, 49.9928, 149.1095, 1110,    399.1,   1.5110,  33.6188,2,  33.5976,2,    157.5,2,    81.50,2,    32.40,2,     0.00,2,     2.66,3,    3.807,3,    1.816,3, -999.000,9,  -999.00,9,  -999.00,9,   2263.8,2,   2283.3,2,     7.58,2,  1.4913
    90BM9316_1,  P01W,    13,  1,    254,      5,2,19930908,2055, 49.9928, 149.1095, 1110,    599.8,   2.0900,  33.9178,2,  33.8965,2,     95.9,2,   112.80,2,    36.20,2,     0.00,2,     2.74,3,    2.070,3,    0.933,3, -999.000,9,  -999.00,9,  -999.00,9,   2310.1,2,   2311.2,2,     7.53,2,  2.0562
    90BM9316_1,  P01W,    13,  1,    255,      4,2,19930908,2055, 49.9928, 149.1095, 1110,    799.3,   2.4000,  34.1966,2,  34.1776,2,     51.0,2,   141.20,2,    38.60,2,     0.00,2,     2.89,3,    0.794,3,    0.295,3, -999.000,9,  -999.00,9,  -999.00,9,   2351.7,2,   2353.7,2,     7.51,2,  2.3512
    90BM9316_1,  P01W,    13,  1,    256,      3,2,19930908,2055, 49.9928, 149.1095, 1110,    997.7,   2.3750,  34.3523,2,  34.3327,2,     39.9,2,   157.70,2,    39.10,2,     0.00,2,     2.95,3,    0.295,3,    0.126,3, -999.000,9,  -999.00,9,  -999.00,9,   2371.4,2,   2376.4,2,     7.53,2,  2.3125
    90BM9316_1,  P01W,    13,  1,    257,      2,2,19930908,2055, 49.9928, 149.1095, 1110,   1062.1,   2.3220,  34.4071,2,  34.3839,2,     40.4,2,   166.80,2,    39.00,2,     0.00,2,     2.94,3,    0.201,3,    0.075,3, -999.000,9,  -999.00,9,  -999.00,9,   2373.6,2,   2387.9,2,     7.53,2,  2.2552
    90BM9316_1,  P01W,    13,  1,    258,      1,2,19930908,2055, 49.9928, 149.1095, 1110,   1062.3,   2.3230,  34.4064,2,  34.3844,2,     41.3,2,   165.90,2,    39.30,2,     0.00,2,     2.92,3,    0.212,3,    0.000,3, -999.000,9,  -999.00,9,  -999.00,9,   2373.9,2,   2386.1,2,     7.54,2,  2.2562
    90BM9316_1,  P01W,    14,  1,    259,     21,2,19930909,0108, 50.5203, 148.6990, 1250,     10.1,  11.8810,  32.3135,2,  32.3250,2,    284.3,2,     1.90,2,     0.20,2,     0.00,2,     0.16,3,    4.235,3,    1.952,3, -999.000,9,  -999.00,9,  -999.00,9,   1958.3,2,   2224.2,2,     8.17,2, 11.8797
    90BM9316_1,  P01W,    14,  1,    260,     19,2,19930909,0108, 50.5203, 148.6990, 1250,     51.0,  -0.0930,  32.9019,2,  32.8710,2,    346.0,2,    25.70,2,    14.96,2,     0.54,2,     1.40,3,    7.022,3,    3.207,3, -999.000,9,  -999.00,9,  -999.00,9,   2117.3,2,   2237.5,2,     7.85,2, -0.0946
    90BM9316_1,  P01W,    14,  1,    261,     18,2,19930909,0108, 50.5203, 148.6990, 1250,     77.7,  -0.3470,  33.0551,2,  33.0140,2,    329.2,2,    31.80,2,    17.69,2,     0.01,2,     1.58,3,    6.598,3,    3.075,3, -999.000,9,  -999.00,9,  -999.00,9,   2135.4,2,   2242.8,2,     7.82,2, -0.3493
    90BM9316_1,  P01W,    14,  1,    262,     16,2,19930909,0108, 50.5203, 148.6990, 1250,    101.6,  -0.3310,  33.1785,2,  33.1620,2,    310.2,2,    38.10,2,    20.70,2,     0.00,2,     1.78,3,    6.537,3,    3.000,3, -999.000,9,  -999.00,9,  -999.00,9,   2157.4,2,   2254.5,2,     7.79,2, -0.3341
    90BM9316_1,  P01W,    14,  1,    263,     15,2,19930909,0108, 50.5203, 148.6990, 1250,    153.8,  -0.3890,  33.2994,2,  33.2650,2,    264.5,2,    49.70,2,    24.80,2,     0.00,2,     2.07,3,    5.950,3,    2.865,3, -999.000,9,  -999.00,9,  -999.00,9,   2188.1,2,   2258.2,2,     7.72,2, -0.3937
    90BM9316_1,  P01W,    14,  1,    265,     13,2,19930909,0108, 50.5203, 148.6990, 1250,    206.4,   0.6650,  33.4007,2,  33.3720,2,    219.9,2,    60.70,2,    27.80,2,     0.00,2,     2.33,3,    5.177,3,    2.343,3, -999.000,9,  -999.00,9,  -999.00,9,   2219.5,2,   2265.8,2,     7.64,2,  0.6567
    90BM9316_1,  P01W,    14,  1,    264,     14,2,19930909,0108, 50.5203, 148.6990, 1250,    210.1,   0.6880,  33.4067,2,  33.3780,2,    217.3,2,    61.50,2,    28.00,2,     0.00,2,     2.33,3,    5.323,3,    2.550,3, -999.000,9,  -999.00,9,  -999.00,9,   2221.9,2,   2261.8,2,     7.64,2,  0.6795
    90BM9316_1,  P01W,    14,  1,    266,     11,2,19930909,0108, 50.5203, 148.6990, 1250,    304.2,   1.0040,  33.5256,2,  33.5020,2,    173.4,2,    73.00,2,    31.10,2,     0.00,2,     2.60,3,    4.463,3,    2.051,3, -999.000,9,  -999.00,9,  -999.00,9,   2252.9,2,   2275.3,2,     7.59,2,  0.9905
    90BM9316_1,  P01W,    14,  1,    267,     10,2,19930909,0108, 50.5203, 148.6990, 1250,    402.6,   1.4300,  33.6606,2,  33.6440,2,    147.1,2,    86.50,2,    31.50,2,     0.00,2,     2.58,3,    3.586,3,    1.632,3, -999.000,9,  -999.00,9,  -999.00,9,   2271.1,2,   2289.1,2,     7.58,2,  1.4103
    90BM9316_1,  P01W,    14,  1,    268,      8,2,19930909,0108, 50.5203, 148.6990, 1250,    602.2,   2.0900,  33.9780,2,  33.9600,2,     84.1,2,   121.50,2,    35.80,2,     0.00,2,     2.74,3,    1.773,3,    0.803,3, -999.000,9,  -999.00,9,  -999.00,9,   2323.9,2,   2324.9,2,     7.55,2,  2.0560
    90BM9316_1,  P01W,    14,  1,    269,      7,2,19930909,0108, 50.5203, 148.6990, 1250,    798.8,   2.3080,  34.1836,2,  34.1620,2,     53.1,2,   144.50,2,    37.80,2,     0.00,2,     2.88,3,    0.867,3,    0.337,3, -999.000,9,  -999.00,9,  -999.00,9,   2353.6,2,   2349.0,2,     7.54,2,  2.2599
    90BM9316_1,  P01W,    14,  1,    270,      5,2,19930909,0108, 50.5203, 148.6990, 1250,    998.7,   2.3770,  34.3354,2,  34.3160,2,     40.7,2,   156.00,2,    38.50,2,     0.00,2,     2.88,3,    0.391,3,    0.100,3, -999.000,9,  -999.00,9,  -999.00,9,   2377.3,2,   2371.8,2,     7.53,2,  2.3144
    90BM9316_1,  P01W,    14,  1,    271,      3,2,19930909,0108, 50.5203, 148.6990, 1250,   1199.1,   2.2880,  34.4385,2,  34.4160,2,     41.2,2,   170.40,2,    38.30,2,     0.00,2,     2.92,3,    0.162,3,    0.051,3, -999.000,9,  -999.00,9,  -999.00,9,   2378.8,2,   2391.9,2,     7.55,2,  2.2115