BOTTLE,20120716MIRCJHATS
EXPOCODE,SECT_ID,STNNBR,CASTNO,SAMPNO,BTLNBR,BTLNBR_FLAG_W,DATE,TIME,LATITUDE,LONGITUDE,DEPTH,CTDPRS,CTDTMP,CTDSAL,CTDSAL_FLAG_W,SALNTY,SALNTY_FLAG_W,OXYGEN,OXYGEN_FLAG_W,SILCAT,SILCAT_FLAG_W,NITRAT,NITRAT_FLAG_W,NITRIT,NITRIT_FLAG_W,PHSPHT,PHSPHT_FLAG_W,CFC-11,CFC-11_FLAG_W,CFC-12,CFC-12_FLAG_W,TRITUM,TRITUM_FLAG_W,DELC13,DELC13_FLAG_W,O18O16,O18O16_FLAG_W,TCARBN,TCARBN_FLAG_W,ALKALI,ALKALI_FLAG_W,PH,PH_FLAG_W,THETA
,,,,,,,,,,,,DBAR,IPTS-68,PSS-78,,PSS-78,,UMOL/KG,,UMOL/KG,,UMOL/KG,,UMOL/KG,,UMOL/KG,,PMOL/KG,,PMOL/KG,,TU,,/MILLE,,/MILLE,,UMOL/KG,,UMOL/KG,,,,DEG
    90BM9316_1,  P01W,    19,  1,    329,     15,2,19930910,0722, 53.0042, 146.6980, 1670,     11.0,  12.3560,  32.1992,2,  32.2380,2,    282.5,2,     1.90,2,     0.48,2,     0.02,2,     0.34,2,    4.093,3,    1.969,3, -999.000,9,  -999.00,9,    -1.32,2,   1982.5,2,   2209.4,2,     8.09,2, 12.3546
    90BM9316_1,  P01W,    19,  1,    330,     14,2,19930910,0722, 53.0042, 146.6980, 1670,     50.6,  -0.5970,  32.9053,2,  32.8750,2,    358.0,2,    22.80,2,    15.15,2,     0.45,2,     1.53,2,    7.417,3,    3.607,3, -999.000,9,  -999.00,9,    -1.13,2,   2118.4,2,   2235.6,2,     7.84,2, -0.5984
    90BM9316_1,  P01W,    19,  1,    331,     13,2,19930910,0722, 53.0042, 146.6980, 1670,     76.8,  -0.8780,  33.0288,2,  32.9840,2,    340.4,2,    30.20,2,    19.46,2,     0.04,2,     1.69,2,    7.121,3,    3.477,3, -999.000,9,  -999.00,9,    -1.05,2,   2133.2,2,   2239.5,2,     7.80,2, -0.8799
    90BM9316_1,  P01W,    19,  1,    332,     12,2,19930910,0722, 53.0042, 146.6980, 1670,    101.1,  -1.0160,  33.1251,2,  33.0870,2,    323.2,2,    33.80,2,    21.37,2,     0.03,2,     1.85,2,    6.740,3,    3.265,3, -999.000,9,  -999.00,9,    -1.06,2,   2148.5,2,   2246.3,2,     7.78,2, -1.0185
    90BM9316_1,  P01W,    19,  1,    333,     11,2,19930910,0722, 53.0042, 146.6980, 1670,    146.2,   0.1060,  33.3072,2,  33.2860,2,    245.6,2,    55.70,2,    28.78,2,     0.02,2,     2.40,2,    5.719,3,    2.778,3, -999.000,9,  -999.00,9,    -1.00,2,   2206.4,2,   2257.2,2,     7.66,2,  0.1009
    90BM9316_1,  P01W,    19,  1,    334,     10,2,19930910,0722, 53.0042, 146.6980, 1670,    199.2,   0.6650,  33.4124,2,  33.3910,2,    199.4,2,    66.70,2,    32.59,2,     0.01,2,     2.64,2,    5.070,3,    2.467,3, -999.000,9,  -999.00,9,    -0.77,2,   2237.2,2,   2265.1,2,     7.61,2,  0.6570
    90BM9316_1,  P01W,    19,  1,    335,      9,2,19930910,0722, 53.0042, 146.6980, 1670,    299.0,   0.9950,  33.5279,2,  33.5080,2,    154.4,2,    78.30,2,    35.79,2,     0.01,2,     2.86,2,    4.352,3,    2.084,3, -999.000,9,  -999.00,9,    -0.73,2,   2265.6,2,   2272.9,2,     7.55,2,  0.9818
    90BM9316_1,  P01W,    19,  1,    336,      8,2,19930910,0722, 53.0042, 146.6980, 1670,    394.9,   1.3660,  33.6580,2,  33.6390,2,    135.8,2,    89.90,2,    35.89,2,     0.01,2,     2.88,2,    3.586,3,    1.775,3, -999.000,9,  -999.00,9,    -0.68,2,   2280.8,2,   2285.5,2,  -999.00,9,  1.3469
    90BM9316_1,  P01W,    19,  1,    337,      7,2,19930910,0722, 53.0042, 146.6980, 1670,    600.9,   2.1070,  33.9783,2,  33.9630,2,     78.7,2,   122.30,2,    39.59,2,     0.01,2,     2.98,2,    1.752,3,    0.878,3, -999.000,9,  -999.00,9,    -0.58,2,   2325.6,2,   2328.6,2,     7.53,2,  2.0730
    90BM9316_1,  P01W,    19,  1,    338,      6,2,19930910,0722, 53.0042, 146.6980, 1670,    802.1,   2.3220,  34.1898,2,  34.1730,2,     47.2,2,   145.30,2,    41.79,2,     0.01,2,     3.11,2,    0.784,3,    0.555,3, -999.000,9,  -999.00,9,    -0.37,2,   2353.5,2,   2353.0,2,     7.52,2,  2.2736
    90BM9316_1,  P01W,    19,  1,    340,      4,2,19930910,0722, 53.0042, 146.6980, 1670,    997.6,   2.3680,  34.3299,2,  34.3140,2,     33.6,2,   160.70,2,    42.49,2,     0.01,2,     3.06,2,    0.332,3,    0.367,3, -999.000,9,  -999.00,9,    -0.53,2,   2371.1,2,   2371.9,2,  -999.00,9,  2.3056
    90BM9316_1,  P01W,    19,  1,    339,      5,2,19930910,0722, 53.0042, 146.6980, 1670,    998.1,   2.3680,  34.3297,2,  34.3150,2,     33.6,2,   161.30,2,    42.29,2,     0.01,2,     3.09,2,    0.273,3,    0.037,3, -999.000,9,  -999.00,9,    -0.48,2,   2372.2,2,   2371.0,2,     7.51,2,  2.3055
    90BM9316_1,  P01W,    19,  1,    341,      3,2,19930910,0722, 53.0042, 146.6980, 1670,   1200.0,   2.3300,  34.4073,2,  34.3910,2,     29.9,2,   176.50,2,    42.59,2,     0.01,2,     3.09,2,    0.148,3,    0.082,3, -999.000,9,  -999.00,9,    -0.56,2,   2382.4,2,   2386.7,2,     7.53,2,  2.2531
    90BM9316_1,  P01W,    19,  1,    342,      2,2,19930910,0722, 53.0042, 146.6980, 1670,   1398.8,   2.3180,  34.4318,2,  34.4170,2,     28.6,2,   187.20,2,    41.99,2,     0.01,2,     3.12,2,    0.087,3,    0.053,3, -999.000,9,  -999.00,9,    -0.53,2,   2387.4,2,   2393.6,2,     7.53,2,  2.2263
    90BM9316_1,  P01W,    19,  1,    343,      1,2,19930910,0722, 53.0042, 146.6980, 1670,   1600.9,   2.3250,  34.4464,2,  34.4310,2,     24.2,2,   210.70,2,    42.19,2,     0.01,2,     3.21,2,    0.120,3,    0.110,3, -999.000,9,  -999.00,9,    -0.53,2,   2394.9,2,   2398.6,2,     7.53,2,  2.2173
    90BM9316_1,  P01W,    24,  1,    344,      9,2,19930910,1406, 55.5132, 144.5837,  390,      9.0,   6.9650,  32.2891,2,  32.2890,2,    317.8,2,    10.00,2,     5.88,2,     0.12,2,     0.85,2,    5.434,3,    2.695,3, -999.000,9,  -999.00,9,  -999.00,9,   2024.6,2,   2215.2,2,     8.02,2,  6.9642
    90BM9316_1,  P01W,    24,  1,    345,      8,2,19930910,1406, 55.5132, 144.5837,  390,     50.8,  -0.5440,  33.0669,2,  33.0290,2,    332.6,2,    31.90,2,    19.71,2,     0.09,2,     1.84,2,    7.309,3,    5.305,3, -999.000,9,  -999.00,9,  -999.00,9,   2141.4,2,   2243.5,2,     7.81,2, -0.5454
    90BM9316_1,  P01W,    24,  1,    346,      7,2,19930910,1406, 55.5132, 144.5837,  390,     75.6,  -0.1830,  33.2159,2,  33.0330,2,    288.7,2,    47.10,2,    24.46,2,     0.14,2,     2.40,2,    6.352,3,    3.139,3, -999.000,9,  -999.00,9,  -999.00,9,   2179.6,2,   2253.2,2,     7.73,2, -0.1854
    90BM9316_1,  P01W,    24,  1,    348,      5,2,19930910,1406, 55.5132, 144.5837,  390,    101.1,   0.5680,  33.3586,2,  33.3260,2,    231.5,2,    60.30,2,    29.07,2,     0.03,2,     2.51,2,    5.479,3,    2.635,3, -999.000,9,  -999.00,9,  -999.00,9,   2215.2,2,   2264.0,2,     7.65,2,  0.5641
    90BM9316_1,  P01W,    24,  1,    347,      6,2,19930910,1406, 55.5132, 144.5837,  390,    102.7,   0.6320,  33.3593,2,  33.3320,2,    229.0,2,    61.30,2,    29.27,2,     0.03,2,     2.49,2,    5.408,3,    2.656,3, -999.000,9,  -999.00,9,  -999.00,9,   2216.8,2,   2263.7,2,     7.65,2,  0.6280
    90BM9316_1,  P01W,    24,  1,    349,      4,2,19930910,1406, 55.5132, 144.5837,  390,    150.8,   1.0470,  33.4440,2,  33.4270,2,    185.2,2,    72.40,2,    32.30,2,     0.00,2,     2.77,2,    4.728,3,    2.200,3, -999.000,9,  -999.00,9,  -999.00,9,   2260.2,2,   2273.0,2,     7.59,2,  1.0405
    90BM9316_1,  P01W,    24,  1,    350,      3,2,19930910,1406, 55.5132, 144.5837,  390,    199.7,   1.4300,  33.5935,2,  33.5720,2,    134.4,2,    93.10,2,    35.00,2,     0.00,2,     2.91,2,    3.772,3,    1.763,3, -999.000,9,  -999.00,9,  -999.00,9,   2282.8,2,   2282.5,2,     7.52,2,  1.4206
    90BM9316_1,  P01W,    24,  1,    351,      2,2,19930910,1406, 55.5132, 144.5837,  390,    298.0,   1.6870,  33.7586,2,  33.7380,2,    118.7,2,   102.80,2,    36.10,2,     0.00,2,     2.90,2,    2.907,3,    1.364,3, -999.000,9,  -999.00,9,  -999.00,9,   2297.4,2,   2299.6,2,     7.55,2,  1.6720
    90BM9316_1,  P01W,    24,  1,    352,      1,2,19930910,1406, 55.5132, 144.5837,  390,    349.7,   1.7120,  33.7728,2,  33.7540,2,    115.9,2,   104.40,2,    36.20,2,     0.00,2,     2.91,2,    3.085,3,    1.586,3, -999.000,9,  -999.00,9,  -999.00,9,   2299.6,2,   2306.7,2,     7.55,2,  1.6942
    90BM9316_1,  P01W,    25,  1,    354,      7,2,19930911,1800, 55.9963, 144.2060,  330,     10.5,  10.6700,  31.1501,2,  31.1540,2,    292.1,2,     2.70,2,     0.88,2,     0.02,2,     0.27,2,    4.092,3,    2.142,3, -999.000,9,  -999.00,9,  -999.00,9,   1930.4,2,   2162.6,2,     8.13,2, 10.6688
    90BM9316_1,  P01W,    25,  1,    353,      8,2,19930911,1800, 55.9963, 144.2060,  330,     10.8,  10.6780,  31.1502,2,  31.1550,2,    292.3,2,     3.20,2,     0.98,2,     0.02,2,     0.28,2,    4.036,3,    2.098,3, -999.000,9,  -999.00,9,  -999.00,9,   1930.3,2,   2159.0,2,     8.12,2, 10.6768
    90BM9316_1,  P01W,    25,  1,    355,      6,2,19930911,1800, 55.9963, 144.2060,  330,     50.4,   1.2510,  32.9905,2,  33.0000,2,    312.8,2,    27.60,2,    17.28,2,     0.02,2,     1.87,2,    6.167,3,    2.964,3, -999.000,9,  -999.00,9,  -999.00,9,   2140.6,2,   2252.3,2,     7.82,2,  1.2488
    90BM9316_1,  P01W,    25,  1,    356,      5,2,19930911,1800, 55.9963, 144.2060,  330,     73.6,   0.1760,  33.1333,2,  33.1050,2,    306.1,2,    37.60,2,    21.48,2,     0.02,2,     1.99,2,    6.344,3,    3.235,3, -999.000,9,  -999.00,9,  -999.00,9,   2158.8,2,   2252.1,2,     7.78,2,  0.1735
    90BM9316_1,  P01W,    25,  1,    357,      4,2,19930911,1800, 55.9963, 144.2060,  330,     98.1,   0.0310,  33.1806,2,  33.1480,2,    295.7,2,    42.50,2,    23.08,2,     0.02,2,     2.10,2,    6.126,3,    2.944,3, -999.000,9,  -999.00,9,  -999.00,9,   2173.4,2,   2255.8,2,     7.75,2,  0.0277
    90BM9316_1,  P01W,    25,  1,    358,      3,2,19930911,1800, 55.9963, 144.2060,  330,    150.2,   0.2920,  33.2942,2,  33.2650,2,    255.2,2,    54.50,2,    27.18,2,     0.02,2,     2.38,2,    5.619,3,    2.726,3, -999.000,9,  -999.00,9,  -999.00,9,   2199.7,2,   2261.5,2,     7.68,2,  0.2865
    90BM9316_1,  P01W,    25,  1,    359,      2,2,19930911,1800, 55.9963, 144.2060,  330,    198.6,   0.7830,  33.3981,2,  33.3700,2,    200.2,2,    70.80,2,    31.18,2,     0.02,2,     2.70,2,    4.737,3,    2.420,3, -999.000,9,  -999.00,9,  -999.00,9,   2242.9,2,   2268.5,2,     7.61,2,  0.7748
    90BM9316_1,  P01W,    25,  1,    360,      1,2,19930911,1800, 55.9963, 144.2060,  330,    300.7,   1.2720,  33.5737,2,  33.5450,2,    142.4,2,    92.40,2,    34.48,2,     0.02,2,     2.91,2,    3.967,3,    1.972,3, -999.000,9,  -999.00,9,  -999.00,9,   2276.4,2,   2285.9,2,     7.53,2,  1.2580
    90BM9316_1,  P01W,    26,  1,    361,      8,2,19930911,2125, 56.4935, 143.8068,  270,     10.9,  11.1990,  31.7778,2,  31.7840,2,    290.8,2,     4.30,2,     0.07,2,     0.13,2,     0.20,2,    4.098,3,    1.817,3, -999.000,9,  -999.00,9,  -999.00,9,   1955.9,2,   2196.2,2,     8.14,2, 11.1977
    90BM9316_1,  P01W,    26,  1,    362,      7,2,19930911,2125, 56.4935, 143.8068,  270,     48.9,  -0.4520,  33.0695,2,  33.0340,2,    313.6,2,    35.60,2,    18.50,2,     0.20,2,     2.08,2,    6.574,3,    3.022,3, -999.000,9,  -999.00,9,  -999.00,9,   2161.3,2,   2252.1,2,     7.78,2, -0.4534
    90BM9316_1,  P01W,    26,  1,    364,      5,2,19930911,2125, 56.4935, 143.8068,  270,     75.6,  -1.0910,  33.2127,2,  33.1730,2,    270.5,2,    49.90,2,    25.36,2,     0.14,2,     2.38,2,    6.339,3,    3.037,3, -999.000,9,  -999.00,9,  -999.00,9,   2198.0,2,   2255.9,2,     7.68,2, -1.0928
    90BM9316_1,  P01W,    26,  1,    363,      6,2,19930911,2125, 56.4935, 143.8068,  270,     76.0,  -1.0890,  33.2178,2,  33.1720,2,    269.3,2,    50.40,2,    24.84,2,     0.16,2,     2.36,2,    6.196,3,    2.893,3, -999.000,9,  -999.00,9,  -999.00,9,   2197.5,2,   2256.8,2,     7.68,2, -1.0908
    90BM9316_1,  P01W,    26,  1,    365,      4,2,19930911,2125, 56.4935, 143.8068,  270,     98.9,  -1.3970,  33.2166,2,  33.1760,2,    275.7,2,    48.40,2,    25.46,2,     0.14,2,     2.32,2,    6.599,3,    2.984,3, -999.000,9,  -999.00,9,  -999.00,9,   2197.2,2,   2257.8,2,     7.67,2, -1.3991
    90BM9316_1,  P01W,    26,  1,    366,      3,2,19930911,2125, 56.4935, 143.8068,  270,    150.6,  -0.9590,  33.2851,2,  33.2440,2,    234.7,2,    60.70,2,    28.40,2,     0.00,2,     2.59,2,    6.006,3,    2.870,3, -999.000,9,  -999.00,9,  -999.00,9,   2228.8,2,   2261.6,2,     7.59,2, -0.9629
    90BM9316_1,  P01W,    26,  1,    367,      2,2,19930911,2125, 56.4935, 143.8068,  270,    200.7,  -0.9230,  33.3194,2,  33.2800,2,    221.0,2,    64.80,2,    29.06,2,     0.04,2,     2.67,2,    5.924,3,    3.116,3, -999.000,9,  -999.00,9,  -999.00,9,   2241.2,2,   2264.5,2,     7.58,2, -0.9283
    90BM9316_1,  P01W,    26,  1,    368,      1,2,19930911,2125, 56.4935, 143.8068,  270,    240.4,  -0.8160,  33.4200,2,  33.3750,2,    194.7,2,    74.20,2,    29.66,2,     0.04,2,     2.80,2,    5.876,3,    2.943,3, -999.000,9,  -999.00,9,  -999.00,9,   2268.1,2,   2271.3,2,     7.57,2, -0.8227
    90BM9316_1,  P01W,    27,  1,    369,     13,2,19930912,0142, 56.9978, 143.3060,  130,     10.7,   6.4210,  32.1655,2,  32.1470,2,    323.7,2,     7.00,2,     5.47,2,     0.13,2,     0.91,2,    5.412,3,    2.265,3, -999.000,9,  -999.00,9,    -1.30,2,   2017.3,2,   2207.4,2,     8.02,2,  6.4201
    90BM9316_1,  P01W,    27,  1,    370,     12,2,19930912,0142, 56.9978, 143.3060,  130,     49.9,   1.1250,  32.9628,2,  32.9300,2,    279.2,2,    39.80,2,    19.20,2,     0.10,2,     2.04,2,    5.893,3,    2.596,3, -999.000,9,  -999.00,9,    -0.91,2,   2160.0,2,   2243.5,2,     7.76,2,  1.1229
    90BM9316_1,  P01W,    27,  1,    371,     11,2,19930912,0142, 56.9978, 143.3060,  130,     73.9,   0.3700,  33.0699,2,  33.0240,2,    272.8,2,    43.60,2,    21.86,2,     0.14,2,     2.22,2,    6.051,3,    2.709,3, -999.000,9,  -999.00,9,    -0.85,2,   2179.2,2,   2253.3,2,     7.71,2,  0.3673
    90BM9316_1,  P01W,    27,  1,    372,     10,2,19930912,0142, 56.9978, 143.3060,  130,    100.5,  -0.0260,  33.1508,2,  33.0980,2,    261.5,2,    49.90,2,    24.37,2,     0.03,2,     2.37,2,    5.993,3,    2.590,3, -999.000,9,  -999.00,9,    -0.98,2,   2197.2,2,   2257.3,2,     7.68,2, -0.0293
    90BM9316_1,  P01W,    27,  1,    373,      9,2,19930912,0142, 56.9978, 143.3060,  130,    101.3,  -0.0240,  33.1524,2,  33.0970,2,    261.9,2,    49.40,2,    25.18,2,     0.02,2,     2.33,2,    6.109,3,    2.729,3, -999.000,9,  -999.00,9,    -0.96,2,   2197.4,2,   2257.5,2,     7.68,2, -0.0273
    90BM9316_1,  P01W,    28,  1,    374,     23,2,19930912,0537, 57.4962, 142.8107,  190,     10.6,  11.1500,  32.0594,2,  32.0670,2,    294.2,2,     7.00,2,     0.15,2,     0.05,3,     0.22,3,    4.321,3,    2.688,3, -999.000,9,  -999.00,9,  -999.00,9,   1963.8,2,   2207.6,2,     8.14,2, 11.1487
    90BM9316_1,  P01W,    28,  1,    375,     20,2,19930912,0537, 57.4962, 142.8107,  190,     50.9,  -1.1160,  33.2334,2,  33.1920,2,    270.3,2,    51.70,2,    24.85,2,     0.05,3,     2.20,3,    6.493,3,    3.840,3, -999.000,9,  -999.00,9,  -999.00,9,   2202.2,2,   2251.9,2,     7.66,2, -1.1172
    90BM9316_1,  P01W,    28,  1,    376,     19,2,19930912,0537, 57.4962, 142.8107,  190,     75.8,  -1.3190,  33.2710,2,  33.2320,2,    262.1,2,    53.10,2,    25.96,2,     0.04,3,     2.25,3,    6.055,3,    3.528,3, -999.000,9,  -999.00,9,  -999.00,9,   2210.9,2,   2254.8,2,     7.64,2, -1.3207
    90BM9316_1,  P01W,    28,  1,    377,     17,2,19930912,0537, 57.4962, 142.8107,  190,     99.3,  -1.3010,  33.2978,2,  33.2490,2,    242.2,2,    58.70,2,    27.85,2,     0.05,3,     2.37,3,    6.374,3,    3.658,3, -999.000,9,  -999.00,9,  -999.00,9,   2224.8,2,   2257.5,2,     7.58,2, -1.3032
    90BM9316_1,  P01W,    28,  1,    378,     16,2,19930912,0537, 57.4962, 142.8107,  190,    151.1,  -1.7130,  33.5315,2,  33.4770,2,    263.2,2,    54.10,2,    22.94,2,     0.06,3,     2.36,3,    6.866,3,    3.869,3, -999.000,9,  -999.00,9,  -999.00,9,   2241.8,2,   2283.2,2,     7.61,2, -1.7160
    90BM9316_1,  P01W,    28,  1,    379,     15,2,19930912,0537, 57.4962, 142.8107,  190,    151.1,  -1.7130,  33.5300,2,  33.4740,2,    262.4,2,    54.50,2,    23.34,2,     0.06,3,     2.41,3,    7.019,3,    3.867,3, -999.000,9,  -999.00,9,  -999.00,9,   2242.9,2,   2283.8,2,     7.61,2, -1.7160
    90BM9316_1,  P01W,    29,  1,    380,      6,2,19930912,0932, 57.9997, 142.2978,  148,     10.2,  10.9920,  32.8451,2,  32.7980,2,    293.9,2,    10.70,2,     0.14,2,     0.06,3,     0.41,3,    4.455,3,    2.678,3, -999.000,9,  -999.00,9,  -999.00,9,   1992.4,2,   2245.2,2,     8.14,2, 10.9908
    90BM9316_1,  P01W,    29,  1,    382,      4,2,19930912,0932, 57.9997, 142.2978,  148,     49.5,  -1.5070,  33.2254,2,  33.1710,2,    276.4,2,    46.60,2,    25.64,2,     0.06,3,     2.24,3,    6.788,3,    3.886,3, -999.000,9,  -999.00,9,  -999.00,9,   2203.5,2,   2252.6,2,     7.65,2, -1.5080
    90BM9316_1,  P01W,    29,  1,    381,      5,2,19930912,0932, 57.9997, 142.2978,  148,     49.9,  -1.4850,  33.2051,2,  33.1690,2,    276.9,2,    47.00,2,    25.54,2,     0.06,3,     2.21,3,    6.647,3,    3.717,3, -999.000,9,  -999.00,9,  -999.00,9,   2203.5,2,   2250.7,2,     7.66,2, -1.4860
    90BM9316_1,  P01W,    29,  1,    383,      3,2,19930912,0932, 57.9997, 142.2978,  148,     74.7,  -1.2050,  33.2747,2,  33.2330,2,    255.5,2,    54.80,2,    27.74,2,     0.06,3,     2.37,3,    6.450,3,    3.734,3, -999.000,9,  -999.00,9,  -999.00,9,   2215.5,2,   2260.1,2,     7.63,2, -1.2067
    90BM9316_1,  P01W,    29,  1,    384,      2,2,19930912,0932, 57.9997, 142.2978,  148,     99.3,  -1.2440,  33.3116,2,  33.2590,2,    225.5,2,    56.90,2,    28.63,2,     0.07,3,     2.43,3,    6.417,3,    3.678,3, -999.000,9,  -999.00,9,  -999.00,9,   2224.9,2,   2260.1,2,     7.61,2, -1.2463
    90BM9316_1,  P01W,    29,  1,    385,      1,2,19930912,0932, 57.9997, 142.2978,  148,    125.9,  -1.6900,  33.4833,2,  33.4080,2,    250.0,2,    58.70,2,    24.46,2,     0.04,3,     2.52,3,    6.931,3,    3.938,3, -999.000,9,  -999.00,9,  -999.00,9,   2248.9,2,   2274.5,2,     7.58,2, -1.6925
    90BM9316_1,  P01W,    30,  1,    386,     11,2,19930912,1311, 58.4987, 141.8043,   90,      9.3,   9.2830,  32.3686,2,  32.5460,2,    303.4,2,     2.20,2,     0.16,2,     0.04,3,     0.23,3,    4.683,3,    2.664,3, -999.000,9,  -999.00,9,    -1.13,2,   1960.6,2,   2225.2,2,     8.16,2,  9.2820
    90BM9316_1,  P01W,    30,  1,    387,     10,2,19930912,1311, 58.4987, 141.8043,   90,     29.7,   0.5230,  32.9807,2,  32.9600,2,    374.6,2,     6.70,2,     5.21,2,     0.09,3,     1.02,3,    6.939,3,    3.671,3, -999.000,9,  -999.00,9,    -1.05,2,   2100.1,2,   2253.0,2,     7.94,2,  0.5219
    90BM9316_1,  P01W,    30,  1,    389,      8,2,19930912,1311, 58.4987, 141.8043,   90,     49.5,  -0.6850,  33.0340,2,  32.9890,2,    343.0,2,    11.70,2,    10.46,2,     0.04,3,     1.52,3,    7.003,3,    3.795,3, -999.000,9,  -999.00,9,    -1.06,2,   2146.0,2,   2260.6,2,     7.82,2, -0.6863
    90BM9316_1,  P01W,    30,  1,    388,      9,2,19930912,1311, 58.4987, 141.8043,   90,     49.7,  -0.6850,  33.0324,2,  32.9890,2,    342.2,2,    11.50,2,    10.31,2,     0.09,3,     1.52,3,    7.154,3,    3.837,3, -999.000,9,  -999.00,9,    -1.08,2,   2147.2,2,   2261.5,2,     7.82,2, -0.6863
    90BM9316_1,  P01W,    30,  1,    390,      7,2,19930912,1311, 58.4987, 141.8043,   90,     69.8,  -0.6640,  33.0381,2,  32.9900,2,    341.1,2,    11.70,2,    10.70,2,     0.10,3,     1.46,3,    6.881,3,    3.653,3, -999.000,9,  -999.00,9,    -1.05,2,   2147.1,2,   2260.8,2,     7.82,2, -0.6659