BOTTLE,20131125MIRCJHATS
EXPOCODE,SECT_ID,STNNBR,CASTNO,SAMPNO,BTLNBR,BTLNBR_FLAG_W,DATE,TIME,LATITUDE,LONGITUDE,DEPTH,CTDPRS,CTDTMP,CTDSAL,CTDSAL_FLAG_W,SALNTY,SALNTY_FLAG_W,CTDOXY,CTDOXY_FLAG_W,OXYGEN,OXYGEN_FLAG_W,SILCAT,SILCAT_FLAG_W,NITRAT,NITRAT_FLAG_W,NITRIT,NITRIT_FLAG_W,PHSPHT,PHSPHT_FLAG_W,CFC-11,CFC-11_FLAG_W,CFC-12,CFC-12_FLAG_W,TRITUM,TRITUM_FLAG_W,HELIUM,HELIUM_FLAG_W,DELHE3,DELHE3_FLAG_W,TCARBN,TCARBN_FLAG_W,ALKALI,ALKALI_FLAG_W,PH,PH_FLAG_W,HELIER,DELHER,THETA,TRITER
,,,,,,,,,,,,DBAR,ITS-90,PSS-78,,PSS-78,,UMOL/KG,,UMOL/KG,,UMOL/KG,,UMOL/KG,,UMOL/KG,,UMOL/KG,,PMOL/KG,,PMOL/KG,,TU,,NMOL/KG,,PERCNT,,UMOL/KG,,UMOL/KG,,25_DEG,,NMOL/KG,PERCNT,DEG C,TU
      325023_1,  P14N,    79,  1,     36,     36,2,19930727,2143, 23.0057, 178.9975, 5714,      3.0,  27.9367,  35.1021,2,  35.1042,2,   -999.0,9,    200.4,2,     2.72,2,     0.04,2,     0.00,2,     0.07,2,    1.669,3,    0.903,3, -999.000,9,-999.0000,9,  -999.00,9,   1959.7,2,   2300.7,2,     8.12,2,-999.0000,-999.000, 27.9360,-999.000
      325023_1,  P14N,    79,  1,     35,     35,2,19930727,2143, 23.0057, 178.9975, 5714,     38.2,  27.7387,  35.0974,2,  35.0991,2,   -999.0,9,    201.2,2,     2.23,2,     0.04,2,     0.00,2,     0.07,2,    1.760,2,    0.950,2, -999.000,9,-999.0000,9,  -999.00,9,   1958.9,2,   2306.0,2,  -999.00,9,-999.0000,-999.000, 27.7298,-999.000
      325023_1,  P14N,    79,  1,     34,     34,2,19930727,2143, 23.0057, 178.9975, 5714,     68.8,  25.4086,  35.0910,2,  35.0951,2,   -999.0,9,    217.9,2,     1.95,2,     0.04,2,     0.00,2,     0.04,2,    1.869,3,    1.012,3, -999.000,9,-999.0000,9,  -999.00,9,   1964.3,2,   2310.8,2,     8.12,2,-999.0000,-999.000, 25.3935,-999.000
      325023_1,  P14N,    79,  1,     33,     33,2,19930727,2143, 23.0057, 178.9975, 5714,     98.5,  24.2119,  35.1771,2,  35.1728,2,   -999.0,9,    214.5,2,     2.11,2,     0.04,2,     0.00,2,     0.05,2,    2.014,2,    1.078,2, -999.000,9,-999.0000,9,  -999.00,9,   1974.6,2,   2311.0,2,  -999.00,9,-999.0000,-999.000, 24.1911,-999.000
      325023_1,  P14N,    79,  1,     32,     32,2,19930727,2143, 23.0057, 178.9975, 5714,    127.7,  22.6906,  35.2767,2,  35.2761,2,   -999.0,9,    208.8,2,     2.05,2,     0.04,2,     0.00,2,     0.05,2,    2.018,3,    1.083,3, -999.000,9,-999.0000,9,  -999.00,9,   1992.6,2,   2320.4,2,     8.08,2,-999.0000,-999.000, 22.6648,-999.000
      325023_1,  P14N,    79,  1,     31,     31,2,19930727,2143, 23.0057, 178.9975, 5714,    158.1,  21.4488,  35.2732,2,  35.2710,2,   -999.0,9,    212.0,2,     1.98,2,     0.01,2,     0.03,2,     0.07,2,    2.230,2,    1.158,2, -999.000,9,-999.0000,9,  -999.00,9,   2003.0,2,   2322.8,2,  -999.00,9,-999.0000,-999.000, 21.4181,-999.000
      325023_1,  P14N,    79,  1,     30,     30,2,19930727,2143, 23.0057, 178.9975, 5714,    209.1,  18.5583,  34.9802,2,  34.9592,2,   -999.0,9,    195.8,2,     3.63,2,     3.00,2,     0.01,2,     0.31,2,    2.432,2,    1.219,2, -999.000,9,-999.0000,9,  -999.00,9,   2035.6,2,   2295.6,2,  -999.00,9,-999.0000,-999.000, 18.5216,-999.000
      325023_1,  P14N,    79,  1,     29,     29,2,19930727,2143, 23.0057, 178.9975, 5714,    259.7,  16.3406,  34.7486,2,  34.7473,2,   -999.0,9,    197.1,2,     5.49,2,     5.49,2,     0.01,2,     0.47,2,    2.519,2,    1.254,2, -999.000,9,-999.0000,9,  -999.00,9,   2046.4,2,   -999.0,9,     7.94,2,-999.0000,-999.000, 16.2989,-999.000
      325023_1,  P14N,    79,  1,     28,     28,2,19930727,2143, 23.0057, 178.9975, 5714,    309.7,  14.8832,  34.5948,2,  34.5969,2,   -999.0,9,    201.5,2,     7.14,2,     7.25,2,     0.01,2,     0.58,2,    2.423,2,    1.208,2, -999.000,9,-999.0000,9,  -999.00,9,   2052.5,2,   2282.4,2,  -999.00,9,-999.0000,-999.000, 14.8365,-999.000
      325023_1,  P14N,    79,  1,     27,     27,2,19930727,2143, 23.0057, 178.9975, 5714,    410.7,  11.5844,  34.2988,2,  34.2982,2,   -999.0,9,    197.8,2,    16.05,2,    13.30,2,     0.00,2,     0.99,2,    2.363,2,    1.119,2, -999.000,9,-999.0000,9,  -999.00,9,   2089.9,2,   2266.4,2,     7.68,2,-999.0000,-999.000, 11.5320,-999.000
      325023_1,  P14N,    79,  1,     26,     26,2,19930727,2143, 23.0057, 178.9975, 5714,    511.2,   8.9183,  34.1370,2,  34.1360,2,   -999.0,9,    163.8,2,    32.01,2,    21.70,2,     0.00,2,     1.57,2,    1.512,3,    0.697,3, -999.000,9,-999.0000,9,  -999.00,9,   2149.3,2,   2272.3,2,  -999.00,9,-999.0000,-999.000,  8.8627,-999.000
      325023_1,  P14N,    79,  1,     25,     25,2,19930727,2143, 23.0057, 178.9975, 5714,    611.9,   6.5497,  34.0824,2,  34.0816,2,   -999.0,9,    111.9,2,    59.09,2,    30.76,2,     0.00,2,     2.22,2,    0.809,2,    0.375,2, -999.000,9,-999.0000,9,  -999.00,9,   2224.8,2,   2289.3,2,     7.52,2,-999.0000,-999.000,  6.4936,-999.000
      325023_1,  P14N,    79,  1,     24,     24,2,19930727,2143, 23.0057, 178.9975, 5714,    711.9,   5.5316,  34.1423,2,  34.1411,2,   -999.0,9,     70.6,2,    78.10,2,    36.42,2,     0.00,2,     2.62,2,    0.302,2,    0.131,2, -999.000,9,-999.0000,9,  -999.00,9,   2275.6,2,   2313.2,2,     7.43,2,-999.0000,-999.000,  5.4713,-999.000
      325023_1,  P14N,    79,  1,     23,     23,2,19930727,2143, 23.0057, 178.9975, 5714,    812.3,   4.7834,  34.2012,2,  34.1993,2,   -999.0,9,     51.0,2,    93.73,2,    39.25,2,     0.00,2,     2.81,2,    0.134,2,    0.066,2, -999.000,9,-999.0000,9,  -999.00,9,   2310.6,2,   2331.0,2,     7.38,2,-999.0000,-999.000,  4.7186,-999.000
      325023_1,  P14N,    79,  1,     22,     22,2,19930727,2143, 23.0057, 178.9975, 5714,    913.4,   4.1856,  34.3127,2,  34.3086,2,   -999.0,9,     38.2,2,   109.01,2,    41.47,2,     0.00,2,     2.95,2,    0.029,2,    0.008,2, -999.000,9,-999.0000,9,  -999.00,9,   2338.3,2,   2358.5,2,     7.36,2,-999.0000,-999.000,  4.1160,-999.000
      325023_1,  P14N,    79,  1,     21,     21,2,19930727,2143, 23.0057, 178.9975, 5714,   1015.2,   3.8341,  34.4084,2,  34.4066,2,   -999.0,9,     42.0,2,   117.84,2,    41.72,2,     0.00,2,     2.97,2,    0.004,2,    0.002,2, -999.000,9,-999.0000,9,  -999.00,9,   2350.1,2,   2366.6,2,  -999.00,9,-999.0000,-999.000,  3.7586,-999.000
      325023_1,  P14N,    79,  1,     20,     20,2,19930727,2143, 23.0057, 178.9975, 5714,   1216.7,   3.2956,  34.5140,2,  34.5126,2,   -999.0,9,     61.9,2,   128.24,2,    41.00,2,     0.00,2,     2.89,2,    0.000,2,    0.001,2, -999.000,9,-999.0000,9,  -999.00,9,   2352.0,2,   -999.0,9,     8.12,4,-999.0000,-999.000,  3.2082,-999.000
      325023_1,  P14N,    79,  1,     19,     19,2,19930727,2143, 23.0057, 178.9975, 5714,   1419.6,   2.9044,  34.5506,2,  34.5483,2,   -999.0,9,     71.5,2,   136.29,2,    40.58,2,     0.00,2,     2.86,2, -999.000,5, -999.000,5, -999.000,9,-999.0000,9,  -999.00,9,   2358.7,2,   2394.8,2,  -999.00,9,-999.0000,-999.000,  2.8043,-999.000
      325023_1,  P14N,    79,  1,     18,     18,2,19930727,2143, 23.0057, 178.9975, 5714,   1623.2,   2.5733,  34.5793,2,  34.5768,2,   -999.0,9,     80.7,2,   142.82,2,    40.21,2,     0.00,2,     2.82,2,    0.000,2,    0.004,2, -999.000,9,-999.0000,9,  -999.00,9,   2357.6,2,   2406.1,2,     7.46,2,-999.0000,-999.000,  2.4604,-999.000
      325023_1,  P14N,    79,  1,     17,     17,2,19930727,2143, 23.0057, 178.9975, 5714,   1825.9,   2.2429,  34.6030,2,  34.6011,2,   -999.0,9,     90.5,2,   149.39,2,    39.69,2,     0.00,2,     2.78,2, -999.000,5, -999.000,5, -999.000,9,-999.0000,9,  -999.00,9,   2357.0,2,   2414.3,2,  -999.00,9,-999.0000,-999.000,  2.1175,-999.000
      325023_1,  P14N,    79,  1,     16,     16,2,19930727,2143, 23.0057, 178.9975, 5714,   2028.8,   2.0156,  34.6209,2,  34.6191,2,   -999.0,9,     98.9,2,   153.53,2,    39.18,2,     0.00,2,     2.73,2, -999.000,5, -999.000,5, -999.000,9,-999.0000,9,  -999.00,9,   2358.4,2,   2411.8,2,  -999.00,9,-999.0000,-999.000,  1.8766,-999.000
      325023_1,  P14N,    79,  1,     15,     15,2,19930727,2143, 23.0057, 178.9975, 5714,   2232.6,   1.8505,  34.6345,2,  34.6333,2,   -999.0,9,    106.7,2,   156.56,2,    38.72,2,     0.00,2,     2.69,2,   -0.003,2,    0.001,2, -999.000,9,-999.0000,9,  -999.00,9,   2355.6,2,   2420.3,2,  -999.00,9,-999.0000,-999.000,  1.6967,-999.000
      325023_1,  P14N,    79,  1,     14,     14,2,19930727,2143, 23.0057, 178.9975, 5714,   2435.6,   1.7574,  34.6443,2,  34.6435,2,   -999.0,9,    114.4,2,   156.46,2,    38.35,2,     0.00,2,     2.66,2, -999.000,5, -999.000,5, -999.000,9,-999.0000,9,  -999.00,9,   2351.6,2,   2419.5,2,     7.51,2,-999.0000,-999.000,  1.5874,-999.000
      325023_1,  P14N,    79,  1,     13,     13,2,19930727,2143, 23.0057, 178.9975, 5714,   2639.2,   1.6838,  34.6509,2,  34.6515,2,   -999.0,9,    118.5,2,   157.70,2,    37.89,2,     0.00,2,     2.63,2, -999.000,5, -999.000,5, -999.000,9,-999.0000,9,  -999.00,9,   2348.8,2,   2419.8,2,  -999.00,9,-999.0000,-999.000,  1.4968,-999.000
      325023_1,  P14N,    79,  1,     12,     12,2,19930727,2143, 23.0057, 178.9975, 5714,   2842.9,   1.6173,  34.6589,2,  34.6594,2,   -999.0,9,    124.6,2,   157.60,2,    37.61,2,     0.00,2,     2.60,2, -999.000,5, -999.000,5, -999.000,9,-999.0000,9,  -999.00,9,   2350.4,2,   2419.9,2,  -999.00,9,-999.0000,-999.000,  1.4129,-999.000
      325023_1,  P14N,    79,  1,     11,     11,2,19930727,2143, 23.0057, 178.9975, 5714,   3047.3,   1.5795,  34.6637,2,  34.6635,2,   -999.0,9,    129.4,2,   157.50,2,    37.29,2,     0.00,2,     2.60,2,    0.006,4,    0.003,2, -999.000,9,-999.0000,9,  -999.00,9,   -999.0,9,   -999.0,9,  -999.00,9,-999.0000,-999.000,  1.3565,-999.000
      325023_1,  P14N,    79,  1,     10,     10,2,19930727,2143, 23.0057, 178.9975, 5714,   3354.5,   1.5106,  34.6725,2,  34.6730,2,   -999.0,9,    139.5,2,   154.26,2,    36.22,3,     0.00,2,     2.53,2, -999.000,5, -999.000,5, -999.000,9,-999.0000,9,  -999.00,9,   2338.0,2,   2419.2,2,     7.56,2,-999.0000,-999.000,  1.2589,-999.000
      325023_1,  P14N,    79,  1,      9,      9,2,19930727,2143, 23.0057, 178.9975, 5714,   3662.2,   1.4684,  34.6789,2,  34.6785,2,   -999.0,9,    147.4,2,   151.93,2,    35.95,2,     0.00,2,     2.49,2, -999.000,5, -999.000,5, -999.000,9,-999.0000,9,  -999.00,9,   2331.9,2,   2417.4,2,  -999.00,9,-999.0000,-999.000,  1.1864,-999.000
      325023_1,  P14N,    79,  1,      8,      8,2,19930727,2143, 23.0057, 178.9975, 5714,   3969.8,   1.4451,  34.6838,2,  34.6836,2,   -999.0,9,    154.2,2,   148.93,2,    35.59,2,     0.00,2,     2.45,2, -999.000,5, -999.000,5, -999.000,9,-999.0000,9,  -999.00,9,   2323.2,2,   2416.4,2,  -999.00,9,-999.0000,-999.000,  1.1311,-999.000
      325023_1,  P14N,    79,  1,      7,      7,2,19930727,2143, 23.0057, 178.9975, 5714,   4277.5,   1.4317,  34.6879,2,  34.6875,2,   -999.0,9,    160.2,2,   146.16,2,    35.08,2,     0.00,2,     2.42,2,   -0.002,2,    0.004,2, -999.000,9,-999.0000,9,  -999.00,9,   2318.7,2,   2413.0,2,  -999.00,9,-999.0000,-999.000,  1.0841,-999.000
      325023_1,  P14N,    79,  1,      6,      6,2,19930727,2143, 23.0057, 178.9975, 5714,   4585.7,   1.4159,  34.6919,2,  34.6917,2,   -999.0,9,    167.6,2,   141.86,2,    34.63,2,     0.00,2,     2.39,2, -999.000,5, -999.000,5, -999.000,9,-999.0000,9,  -999.00,9,   2307.8,2,   2408.2,2,     7.59,2,-999.0000,-999.000,  1.0336,-999.000
      325023_1,  P14N,    79,  1,      5,      5,2,19930727,2143, 23.0057, 178.9975, 5714,   4894.0,   1.4171,  34.6946,2,  34.6954,2,   -999.0,9,    173.0,2,   138.23,2,    34.22,2,     0.00,2,     2.36,2, -999.000,5, -999.000,5, -999.000,9,-999.0000,9,  -999.00,9,   2311.9,2,   2404.8,2,  -999.00,9,-999.0000,-999.000,  0.9984,-999.000
      325023_1,  P14N,    79,  1,      4,      4,2,19930727,2143, 23.0057, 178.9975, 5714,   5203.0,   1.4346,  34.6968,2,  34.6964,2,   -999.0,9,    176.3,2,   136.59,2,    33.95,2,     0.00,2,     2.36,3, -999.000,5, -999.000,5, -999.000,9,-999.0000,9,  -999.00,9,   2304.4,2,   2403.1,2,  -999.00,9,-999.0000,-999.000,  0.9777,-999.000
      325023_1,  P14N,    79,  1,      3,      3,2,19930727,2143, 23.0057, 178.9975, 5714,   5512.6,   1.4637,  34.6970,2,  34.6964,2,   -999.0,9,    177.8,2,   135.62,2,    33.87,2,     0.00,2,     2.36,3,   -0.003,2,    0.003,2, -999.000,9,-999.0000,9,  -999.00,9,   2302.0,2,   2400.7,2,  -999.00,9,-999.0000,-999.000,  0.9668,-999.000
      325023_1,  P14N,    79,  1,      1,      1,2,19930727,2143, 23.0057, 178.9975, 5714,   5802.6,   1.4955,  34.6977,2,  34.6974,2,   -999.0,9,    178.8,2,   134.99,2,    33.79,2,     0.00,2,     2.32,2,   -0.003,2,    0.002,2, -999.000,9,-999.0000,9,  -999.00,9,   2300.6,2,   2399.6,2,  -999.00,9,-999.0000,-999.000,  0.9599,-999.000
      325023_1,  P14N,    79,  1,      2,      2,2,19930727,2143, 23.0057, 178.9975, 5714,   5802.8,   1.4953,  34.6979,2,  34.6984,2,   -999.0,9,    179.1,2,   134.86,2,    33.78,2,     0.00,2,     2.32,2, -999.000,5, -999.000,5, -999.000,9,-999.0000,9,  -999.00,9,   2300.2,2,   2400.2,2,     7.60,2,-999.0000,-999.000,  0.9597,-999.000