BOTTLE,20131125MIRCJHATS
EXPOCODE,SECT_ID,STNNBR,CASTNO,SAMPNO,BTLNBR,BTLNBR_FLAG_W,DATE,TIME,LATITUDE,LONGITUDE,DEPTH,CTDPRS,CTDTMP,CTDSAL,CTDSAL_FLAG_W,SALNTY,SALNTY_FLAG_W,CTDOXY,CTDOXY_FLAG_W,OXYGEN,OXYGEN_FLAG_W,SILCAT,SILCAT_FLAG_W,NITRAT,NITRAT_FLAG_W,NITRIT,NITRIT_FLAG_W,PHSPHT,PHSPHT_FLAG_W,CFC-11,CFC-11_FLAG_W,CFC-12,CFC-12_FLAG_W,TRITUM,TRITUM_FLAG_W,HELIUM,HELIUM_FLAG_W,DELHE3,DELHE3_FLAG_W,TCARBN,TCARBN_FLAG_W,ALKALI,ALKALI_FLAG_W,PH,PH_FLAG_W,HELIER,DELHER,THETA,TRITER
,,,,,,,,,,,,DBAR,ITS-90,PSS-78,,PSS-78,,UMOL/KG,,UMOL/KG,,UMOL/KG,,UMOL/KG,,UMOL/KG,,UMOL/KG,,PMOL/KG,,PMOL/KG,,TU,,NMOL/KG,,PERCNT,,UMOL/KG,,UMOL/KG,,25_DEG,,NMOL/KG,PERCNT,DEG C,TU
      325023_1,  P14N,    87,  1,     36,     36,2,19930729,1916, 19.0037, 178.9985, 4814,      2.8,  27.6736,  35.0130,2,  35.0175,2,   -999.0,9,    201.2,2,     3.10,2,     0.03,2,     0.00,2,     0.08,2,    1.647,2,    0.890,2, -999.000,9,-999.0000,9,  -999.00,9,   -999.0,9,   -999.0,9,  -999.00,9,-999.0000,-999.000, 27.6729,-999.000
      325023_1,  P14N,    87,  1,     35,     35,2,19930729,1916, 19.0037, 178.9985, 4814,     39.0,  27.5158,  35.0280,2,  35.0277,2,   -999.0,9,    202.7,2,     2.81,2,     0.03,2,     0.00,2,     0.07,2,    1.761,2,    0.946,2, -999.000,9,-999.0000,9,  -999.00,9,   -999.0,9,   -999.0,9,  -999.00,9,-999.0000,-999.000, 27.5067,-999.000
      325023_1,  P14N,    87,  1,     34,     34,2,19930729,1916, 19.0037, 178.9985, 4814,     68.9,  24.8081,  35.1430,2,  35.1486,2,   -999.0,9,    216.0,2,     2.53,2,     0.02,2,     0.00,2,     0.05,2,    1.623,4,    0.953,4, -999.000,9,-999.0000,9,  -999.00,9,   -999.0,9,   -999.0,9,  -999.00,9,-999.0000,-999.000, 24.7932,-999.000
      325023_1,  P14N,    87,  1,     33,     33,2,19930729,1916, 19.0037, 178.9985, 4814,     99.1,  23.5878,  35.2958,2,  35.3036,2,   -999.0,9,    218.6,2,     2.46,2,     0.02,2,     0.00,2,     0.03,2,    2.076,2,    1.105,2, -999.000,9,-999.0000,9,  -999.00,9,   -999.0,9,   -999.0,9,  -999.00,9,-999.0000,-999.000, 23.5672,-999.000
      325023_1,  P14N,    87,  1,     32,     32,2,19930729,1916, 19.0037, 178.9985, 4814,    129.6,  22.3776,  35.3171,2,  35.3140,2,   -999.0,9,    213.2,2,     2.60,2,     0.02,2,     0.00,2,     0.04,2,    2.126,2,    1.127,2, -999.000,9,-999.0000,9,  -999.00,9,   -999.0,9,   -999.0,9,  -999.00,9,-999.0000,-999.000, 22.3516,-999.000
      325023_1,  P14N,    87,  1,     31,     31,2,19930729,1916, 19.0037, 178.9985, 4814,    159.9,  20.5442,  35.1989,2,  35.1989,2,   -999.0,9,    204.8,2,     2.96,2,     0.46,2,     0.08,2,     0.12,2,    2.218,2,    1.167,2, -999.000,9,-999.0000,9,  -999.00,9,   -999.0,9,   -999.0,9,  -999.00,9,-999.0000,-999.000, 20.5141,-999.000
      325023_1,  P14N,    87,  1,     30,     30,2,19930729,1916, 19.0037, 178.9985, 4814,    209.5,  17.7089,  34.8716,2,  34.8750,2,   -999.0,9,    206.7,2,     4.18,2,     2.93,2,     0.01,2,     0.27,2,    2.455,2,    1.268,2, -999.000,9,-999.0000,9,  -999.00,9,   -999.0,9,   -999.0,9,  -999.00,9,-999.0000,-999.000, 17.6734,-999.000
      325023_1,  P14N,    87,  1,     29,     29,2,19930729,1916, 19.0037, 178.9985, 4814,    260.2,  16.0289,  34.7079,2,  34.7066,2,   -999.0,9,    209.1,2,     6.26,2,     5.52,2,     0.01,2,     0.42,2,    1.825,4,    1.089,4, -999.000,9,-999.0000,9,  -999.00,9,   -999.0,9,   -999.0,9,  -999.00,9,-999.0000,-999.000, 15.9877,-999.000
      325023_1,  P14N,    87,  1,     28,     28,2,19930729,1916, 19.0037, 178.9985, 4814,    307.8,  15.1058,  34.6170,2,  34.6134,2,   -999.0,9,    208.0,2,     8.12,2,     6.99,2,     0.00,2,     0.52,2,    2.531,2,    1.279,2, -999.000,9,-999.0000,9,  -999.00,9,   -999.0,9,   -999.0,9,  -999.00,9,-999.0000,-999.000, 15.0589,-999.000
      325023_1,  P14N,    87,  1,     27,     27,2,19930729,1916, 19.0037, 178.9985, 4814,    408.6,  11.1311,  34.2671,2,  34.2676,2,   -999.0,9,    185.6,2,    19.45,2,    15.35,2,     0.00,2,     1.13,2,    2.199,2,    1.029,2, -999.000,9,-999.0000,9,  -999.00,9,   -999.0,9,   -999.0,9,  -999.00,9,-999.0000,-999.000, 11.0803,-999.000
      325023_1,  P14N,    87,  1,     26,     26,2,19930729,1916, 19.0037, 178.9985, 4814,    507.7,   8.2637,  34.1325,2,  34.1333,2,   -999.0,9,    136.5,2,    40.89,2,    25.54,2,     0.00,2,     1.85,2,    1.146,2,    0.525,2, -999.000,9,-999.0000,9,  -999.00,9,   -999.0,9,   -999.0,9,  -999.00,9,-999.0000,-999.000,  8.2109,-999.000
      325023_1,  P14N,    87,  1,     25,     25,2,19930729,1916, 19.0037, 178.9985, 4814,    609.5,   6.5870,  34.2187,2,  34.2194,2,   -999.0,9,     63.0,2,    65.80,2,    35.30,2,     0.00,2,     2.56,2,    0.232,2,    0.113,2, -999.000,9,-999.0000,9,  -999.00,9,   -999.0,9,   -999.0,9,  -999.00,9,-999.0000,-999.000,  6.5308,-999.000
      325023_1,  P14N,    87,  1,     24,     24,2,19930729,1916, 19.0037, 178.9985, 4814,    709.7,   5.7776,  34.3341,2,  34.3344,2,   -999.0,9,     44.4,2,    80.18,2,    39.00,2,     0.00,2,     2.80,2,    0.008,4,   -0.001,4, -999.000,9,-999.0000,9,  -999.00,9,   -999.0,9,   -999.0,9,  -999.00,9,-999.0000,-999.000,  5.7160,-999.000
      325023_1,  P14N,    87,  1,     23,     23,2,19930729,1916, 19.0037, 178.9985, 4814,    810.7,   5.2548,  34.4377,2,  34.4373,2,   -999.0,9,     50.5,2,    88.54,2,    39.72,2,     0.00,2,     2.80,2,    0.009,2,    0.007,2, -999.000,9,-999.0000,9,  -999.00,9,   -999.0,9,   -999.0,9,  -999.00,9,-999.0000,-999.000,  5.1869,-999.000
      325023_1,  P14N,    87,  1,     22,     22,2,19930729,1916, 19.0037, 178.9985, 4814,    910.9,   4.7806,  34.4712,2,  34.4718,2,   -999.0,9,     60.6,2,    96.69,2,    39.75,2,     0.00,2,     2.80,2,    0.006,2,    0.003,2, -999.000,9,-999.0000,9,  -999.00,9,   -999.0,9,   -999.0,9,  -999.00,9,-999.0000,-999.000,  4.7069,-999.000
      325023_1,  P14N,    87,  1,     21,     21,2,19930729,1916, 19.0037, 178.9985, 4814,   1014.0,   4.2876,  34.5031,2,  34.5031,2,   -999.0,9,     66.7,2,   106.40,2,    39.93,2,     0.00,2,     2.81,2,   -0.001,2,    0.000,2, -999.000,9,-999.0000,9,  -999.00,9,   -999.0,9,   -999.0,9,  -999.00,9,-999.0000,-999.000,  4.2085,-999.000
      325023_1,  P14N,    87,  1,     20,     20,2,19930729,1916, 19.0037, 178.9985, 4814,   1217.9,   3.6288,  34.5379,2,  34.5365,2,   -999.0,9,     70.9,2,   119.87,2,    40.37,2,     0.00,2,     2.83,2, -999.000,5, -999.000,5, -999.000,9,-999.0000,9,  -999.00,9,   -999.0,9,   -999.0,9,  -999.00,9,-999.0000,-999.000,  3.5381,-999.000
      325023_1,  P14N,    87,  1,     19,     19,2,19930729,1916, 19.0037, 178.9985, 4814,   1420.7,   3.0758,  34.5622,2,  34.5621,2,   -999.0,9,     76.9,2,   131.45,2,    40.41,2,     0.00,2,     2.82,2, -999.000,5, -999.000,5, -999.000,9,-999.0000,9,  -999.00,9,   -999.0,9,   -999.0,9,  -999.00,9,-999.0000,-999.000,  2.9737,-999.000
      325023_1,  P14N,    87,  1,     18,     18,2,19930729,1916, 19.0037, 178.9985, 4814,   1622.6,   2.6774,  34.5836,2,  34.5833,2,   -999.0,9,     83.7,2,   139.78,2,    40.21,2,     0.00,2,     2.80,2,    0.003,2,   -0.006,2, -999.000,9,-999.0000,9,  -999.00,9,   -999.0,9,   -999.0,9,  -999.00,9,-999.0000,-999.000,  2.5633,-999.000
      325023_1,  P14N,    87,  1,     17,     17,2,19930729,1916, 19.0037, 178.9985, 4814,   1827.5,   2.3629,  34.6031,2,  34.6029,2,   -999.0,9,     92.4,2,   146.14,2,    39.69,2,     0.00,2,     2.76,2, -999.000,5, -999.000,5, -999.000,9,-999.0000,9,  -999.00,9,   -999.0,9,   -999.0,9,  -999.00,9,-999.0000,-999.000,  2.2357,-999.000
      325023_1,  P14N,    87,  1,     16,     16,2,19930729,1916, 19.0037, 178.9985, 4814,   2030.3,   2.1037,  34.6203,2,  34.6210,2,   -999.0,9,    100.9,2,   150.73,2,    39.17,2,     0.00,2,     2.72,2, -999.000,5, -999.000,5, -999.000,9,-999.0000,9,  -999.00,9,   -999.0,9,   -999.0,9,  -999.00,9,-999.0000,-999.000,  1.9631,-999.000
      325023_1,  P14N,    87,  1,     15,     15,2,19930729,1916, 19.0037, 178.9985, 4814,   2233.5,   1.9114,  34.6350,2,  34.6339,2,   -999.0,9,    108.9,2,   153.99,2,    38.88,2,     0.00,2,     2.68,2, -999.000,5, -999.000,5, -999.000,9,-999.0000,9,  -999.00,9,   -999.0,9,   -999.0,9,  -999.00,9,-999.0000,-999.000,  1.7565,-999.000
      325023_1,  P14N,    87,  1,     14,     14,2,19930729,1916, 19.0037, 178.9985, 4814,   2437.6,   1.7522,  34.6467,2,  34.6457,2,   -999.0,9,    117.1,2,   156.80,2,    38.36,2,     0.00,2,     2.64,2,    0.000,2,   -0.001,2, -999.000,9,-999.0000,9,  -999.00,9,   -999.0,9,   -999.0,9,  -999.00,9,-999.0000,-999.000,  1.5821,-999.000
      325023_1,  P14N,    87,  1,     13,     13,2,19930729,1916, 19.0037, 178.9985, 4814,   2641.7,   1.6827,  34.6541,2,  34.6531,2,   -999.0,9,    122.9,2,   156.92,2,    37.99,2,     0.00,2,     2.60,2, -999.000,5, -999.000,5, -999.000,9,-999.0000,9,  -999.00,9,   -999.0,9,   -999.0,9,  -999.00,9,-999.0000,-999.000,  1.4955,-999.000
      325023_1,  P14N,    87,  1,     12,     12,2,19930729,1916, 19.0037, 178.9985, 4814,   2846.7,   1.6039,  34.6608,2,  34.6616,2,   -999.0,9,    129.4,2,   156.80,2,    37.56,2,     0.00,2,     2.57,2, -999.000,5, -999.000,5, -999.000,9,-999.0000,9,  -999.00,9,   -999.0,9,   -999.0,9,  -999.00,9,-999.0000,-999.000,  1.3994,-999.000
      325023_1,  P14N,    87,  1,     11,     11,2,19930729,1916, 19.0037, 178.9985, 4814,   3051.0,   1.5581,  34.6661,2,  34.6659,2,   -999.0,9,    134.7,2,   155.57,2,    37.19,2,     0.00,2,     2.56,2, -999.000,5, -999.000,5, -999.000,9,-999.0000,9,  -999.00,9,   -999.0,9,   -999.0,9,  -999.00,9,-999.0000,-999.000,  1.3352,-999.000
      325023_1,  P14N,    87,  1,     10,     10,2,19930729,1916, 19.0037, 178.9985, 4814,   3255.4,   1.5176,  34.6713,2,  34.6717,2,   -999.0,9,    140.6,2,   154.78,2,    36.82,2,     0.00,2,     2.52,2,   -0.001,2,   -0.003,2, -999.000,9,-999.0000,9,  -999.00,9,   -999.0,9,   -999.0,9,  -999.00,9,-999.0000,-999.000,  1.2756,-999.000
      325023_1,  P14N,    87,  1,      9,      9,2,19930729,1916, 19.0037, 178.9985, 4814,   3459.9,   1.5107,  34.6739,2,  34.6739,2,   -999.0,9,    143.4,2,   153.32,2,    36.58,2,     0.00,2,     2.50,2, -999.000,5, -999.000,5, -999.000,9,-999.0000,9,  -999.00,9,   -999.0,9,   -999.0,9,  -999.00,9,-999.0000,-999.000,  1.2484,-999.000
      325023_1,  P14N,    87,  1,      8,      8,2,19930729,1916, 19.0037, 178.9985, 4814,   3665.0,   1.4964,  34.6767,2,  34.6768,2,   -999.0,9,    146.5,2,   152.54,2,    36.34,2,     0.00,2,     2.48,2, -999.000,5, -999.000,5, -999.000,9,-999.0000,9,  -999.00,9,   -999.0,9,   -999.0,9,  -999.00,9,-999.0000,-999.000,  1.2133,-999.000
      325023_1,  P14N,    87,  1,      7,      7,2,19930729,1916, 19.0037, 178.9985, 4814,   3869.3,   1.4819,  34.6798,2,  34.6798,2,   -999.0,9,    150.5,2,   150.86,2,    36.02,2,     0.00,2,     2.47,2, -999.000,5, -999.000,5, -999.000,9,-999.0000,9,  -999.00,9,   -999.0,9,   -999.0,9,  -999.00,9,-999.0000,-999.000,  1.1776,-999.000
      325023_1,  P14N,    87,  1,      6,      6,2,19930729,1916, 19.0037, 178.9985, 4814,   4074.9,   1.4782,  34.6816,2,  34.6839,4,   -999.0,9,    153.3,2,   149.85,2,    35.87,2,     0.00,2,     2.46,2,   -0.002,4,   -0.005,4, -999.000,9,-999.0000,9,  -999.00,9,   -999.0,9,   -999.0,9,  -999.00,9,-999.0000,-999.000,  1.1518,-999.000
      325023_1,  P14N,    87,  1,      5,      5,2,19930729,1916, 19.0037, 178.9985, 4814,   4280.5,   1.4868,  34.6835,2,  34.6837,2,   -999.0,9,    155.2,2,   149.07,2,    35.68,2,     0.00,2,     2.44,2, -999.000,5, -999.000,5, -999.000,9,-999.0000,9,  -999.00,9,   -999.0,9,   -999.0,9,  -999.00,9,-999.0000,-999.000,  1.1373,-999.000
      325023_1,  P14N,    87,  1,      4,      4,2,19930729,1916, 19.0037, 178.9985, 4814,   4485.2,   1.4985,  34.6840,2,  34.6829,2,   -999.0,9,    156.7,2,   147.84,2,    35.71,2,     0.00,2,     2.43,2, -999.000,5, -999.000,5, -999.000,9,-999.0000,9,  -999.00,9,   -999.0,9,   -999.0,9,  -999.00,9,-999.0000,-999.000,  1.1253,-999.000
      325023_1,  P14N,    87,  1,      3,      3,2,19930729,1916, 19.0037, 178.9985, 4814,   4690.2,   1.5138,  34.6851,2,  34.6856,2,   -999.0,9,    158.0,2,   147.07,2,    35.52,2,     0.00,2,     2.43,2, -999.000,5, -999.000,5, -999.000,9,-999.0000,9,  -999.00,9,   -999.0,9,   -999.0,9,  -999.00,9,-999.0000,-999.000,  1.1162,-999.000
      325023_1,  P14N,    87,  1,      2,      2,2,19930729,1916, 19.0037, 178.9985, 4814,   4889.2,   1.5327,  34.6860,2,  34.6860,2,   -999.0,9,    158.7,2,   146.96,2,    35.38,2,     0.00,2,     2.42,2,    0.001,2,    0.004,2, -999.000,9,-999.0000,9,  -999.00,9,   -999.0,9,   -999.0,9,  -999.00,9,-999.0000,-999.000,  1.1108,-999.000
      325023_1,  P14N,    87,  1,      1,      1,2,19930729,1916, 19.0037, 178.9985, 4814,   4889.8,   1.5327,  34.6860,2,  34.6864,2,   -999.0,9,   -999.0,9,   146.85,2,    35.37,2,     0.00,2,     2.43,2, -999.000,5, -999.000,5, -999.000,9,-999.0000,9,  -999.00,9,   -999.0,9,   -999.0,9,  -999.00,9,-999.0000,-999.000,  1.1107,-999.000