BOTTLE,20131125MIRCJHATS
EXPOCODE,SECT_ID,STNNBR,CASTNO,SAMPNO,BTLNBR,BTLNBR_FLAG_W,DATE,TIME,LATITUDE,LONGITUDE,DEPTH,CTDPRS,CTDTMP,CTDSAL,CTDSAL_FLAG_W,SALNTY,SALNTY_FLAG_W,CTDOXY,CTDOXY_FLAG_W,OXYGEN,OXYGEN_FLAG_W,SILCAT,SILCAT_FLAG_W,NITRAT,NITRAT_FLAG_W,NITRIT,NITRIT_FLAG_W,PHSPHT,PHSPHT_FLAG_W,CFC-11,CFC-11_FLAG_W,CFC-12,CFC-12_FLAG_W,TRITUM,TRITUM_FLAG_W,HELIUM,HELIUM_FLAG_W,DELHE3,DELHE3_FLAG_W,TCARBN,TCARBN_FLAG_W,ALKALI,ALKALI_FLAG_W,PH,PH_FLAG_W,HELIER,DELHER,THETA,TRITER
,,,,,,,,,,,,DBAR,ITS-90,PSS-78,,PSS-78,,UMOL/KG,,UMOL/KG,,UMOL/KG,,UMOL/KG,,UMOL/KG,,UMOL/KG,,PMOL/KG,,PMOL/KG,,TU,,NMOL/KG,,PERCNT,,UMOL/KG,,UMOL/KG,,25_DEG,,NMOL/KG,PERCNT,DEG C,TU
      325023_1,  P14N,    43,  1,     36,     36,2,19930718,0638, 40.9900, 179.0047, 5547,      4.7,  14.3602,  34.2242,2,  34.2250,2,   -999.0,9,    259.2,2,     9.27,2,     2.57,2,     0.07,2,     0.37,3,    3.251,2,    1.695,2, -999.000,9,-999.0000,9,  -999.00,9,   2012.6,2,   2260.5,2,     7.97,2,-999.0000,-999.000, 14.3595,-999.000
      325023_1,  P14N,    43,  1,     35,     35,2,19930718,0638, 40.9900, 179.0047, 5547,     40.7,  13.6755,  34.2749,2,  34.2546,2,   -999.0,9,    261.2,2,     9.40,2,     2.83,2,     0.08,2,     0.39,3,    3.233,2,    1.622,2, -999.000,9,-999.0000,9,  -999.00,9,   2016.5,2,   2265.8,2,     7.97,2,-999.0000,-999.000, 13.6698,-999.000
      325023_1,  P14N,    43,  1,     34,     34,2,19930718,0638, 40.9900, 179.0047, 5547,     71.8,  11.9291,  34.3296,2,  34.3263,2,   -999.0,9,    252.8,2,    13.64,2,     8.21,2,     0.11,2,     0.73,3,    3.357,2,    1.740,2, -999.000,9,-999.0000,9,  -999.00,9,   2054.8,2,   2269.3,2,     7.90,2,-999.0000,-999.000, 11.9199,-999.000
      325023_1,  P14N,    43,  1,     33,     33,2,19930718,0638, 40.9900, 179.0047, 5547,    101.7,  11.7081,  34.3356,2,  34.3364,2,   -999.0,9,    249.5,2,    13.77,2,     8.99,2,     0.03,2,     0.76,3,    3.316,2,    1.618,2, -999.000,9,-999.0000,9,  -999.00,9,   2056.8,2,   2277.3,2,     7.89,2,-999.0000,-999.000, 11.6952,-999.000
      325023_1,  P14N,    43,  1,     32,     32,2,19930718,0638, 40.9900, 179.0047, 5547,    132.0,  11.4111,  34.3154,2,  34.3165,2,   -999.0,9,    249.3,2,    14.62,2,     9.56,2,     0.02,2,     0.80,3,    3.292,2,    1.653,2, -999.000,9,-999.0000,9,  -999.00,9,   2062.8,2,   2270.0,2,     7.88,2,-999.0000,-999.000, 11.3946,-999.000
      325023_1,  P14N,    43,  1,     31,     31,2,19930718,0638, 40.9900, 179.0047, 5547,    161.7,  11.1357,  34.3015,2,  34.3043,2,   -999.0,9,    246.4,2,    15.47,2,    10.26,2,     0.02,2,     0.86,3,    3.433,2,    1.791,3, -999.000,9,-999.0000,9,  -999.00,9,   2067.4,2,   2270.8,2,     7.87,2,-999.0000,-999.000, 11.1158,-999.000
      325023_1,  P14N,    43,  1,     30,     30,2,19930718,0638, 40.9900, 179.0047, 5547,    212.3,  10.5736,  34.2573,2,  34.2583,2,   -999.0,9,    242.0,2,    17.92,2,    11.96,2,     0.02,2,     0.97,3,    3.228,2,    1.674,2, -999.000,9,-999.0000,9,  -999.00,9,   2077.8,2,   2267.2,2,     7.85,2,-999.0000,-999.000, 10.5483,-999.000
      325023_1,  P14N,    43,  1,     29,     29,2,19930718,0638, 40.9900, 179.0047, 5547,    262.3,   9.7102,  34.1628,2,  34.1655,2,   -999.0,9,    248.5,2,    20.37,2,    13.13,2,     0.02,2,     1.07,3,    3.427,2,    1.623,2, -999.000,9,-999.0000,9,  -999.00,9,   2086.6,2,   2270.0,2,     7.83,2,-999.0000,-999.000,  9.6805,-999.000
      325023_1,  P14N,    43,  1,     28,     28,2,19930718,0638, 40.9900, 179.0047, 5547,    312.6,   8.8056,  34.0602,2,  34.0578,2,   -999.0,9,    254.2,2,    23.01,2,    14.35,2,     0.01,2,     1.18,3, -999.000,5, -999.000,5, -999.000,9,-999.0000,9,  -999.00,9,   2091.7,2,   2261.1,2,     7.81,2,-999.0000,-999.000,  8.7723,-999.000
      325023_1,  P14N,    43,  1,     27,     27,2,19930718,0638, 40.9900, 179.0047, 5547,    413.0,   7.6908,  34.0340,2,  34.0346,2,   -999.0,9,    193.6,2,    37.95,2,    21.63,2,     0.01,2,     1.67,3,    2.682,2,    1.312,2, -999.000,9,-999.0000,9,  -999.00,9,   2149.5,2,   2275.4,2,     7.69,2,-999.0000,-999.000,  7.6500,-999.000
      325023_1,  P14N,    43,  1,     26,     26,2,19930718,0638, 40.9900, 179.0047, 5547,    513.4,   6.0392,  33.9848,2,  33.9855,2,   -999.0,9,    152.7,2,    57.40,2,    28.32,2,     0.00,2,     2.16,3,    2.053,6,    0.989,6, -999.000,9,-999.0000,9,  -999.00,9,   2203.9,2,   2272.8,2,     7.58,2,-999.0000,-999.000,  5.9945,-999.000
      325023_1,  P14N,    43,  1,     25,     25,2,19930718,0638, 40.9900, 179.0047, 5547,    613.3,   4.9564,  33.9999,2,  34.0007,2,   -999.0,9,    114.5,2,    75.34,2,    33.52,2,     0.00,2,     2.53,3,    1.495,2,    0.680,2, -999.000,9,-999.0000,9,  -999.00,9,   2247.1,2,   2297.9,2,     7.48,2,-999.0000,-999.000,  4.9077,-999.000
      325023_1,  P14N,    43,  1,     24,     24,2,19930718,0638, 40.9900, 179.0047, 5547,    713.7,   4.4951,  34.0951,2,  34.0915,2,   -999.0,9,     80.4,2,    91.07,2,    37.00,2,     0.00,2,     2.76,3, -999.000,5, -999.000,5, -999.000,9,-999.0000,9,  -999.00,9,   2284.6,2,   2317.7,2,     7.41,2,-999.0000,-999.000,  4.4404,-999.000
      325023_1,  P14N,    43,  1,     23,     23,2,19930718,0638, 40.9900, 179.0047, 5547,    814.3,   4.0609,  34.1693,2,  34.1676,2,   -999.0,9,     57.4,2,   105.31,2,    39.43,2,     0.00,2,     2.94,3,    0.641,3,    0.216,2, -999.000,9,-999.0000,9,  -999.00,9,   2312.1,2,   2333.8,2,     7.37,2,-999.0000,-999.000,  4.0005,-999.000
      325023_1,  P14N,    43,  1,     22,     22,2,19930718,0638, 40.9900, 179.0047, 5547,    914.8,   3.7469,  34.2444,2,  34.2436,2,   -999.0,9,     44.9,2,   116.38,2,    40.77,2,     0.00,2,     3.01,3,    0.238,2,    0.112,2, -999.000,9,-999.0000,9,  -999.00,9,   2333.2,2,   2345.9,2,     7.35,2,-999.0000,-999.000,  3.6805,-999.000
      325023_1,  P14N,    43,  1,     21,     21,2,19930718,0638, 40.9900, 179.0047, 5547,   1015.7,   3.4410,  34.2998,2,  34.2994,2,   -999.0,9,     37.3,2,   125.88,2,    41.61,2,     0.00,2,     3.07,3,    0.138,3,    0.051,2, -999.000,9,-999.0000,9,  -999.00,9,   2351.8,2,   2358.6,2,     7.34,2,-999.0000,-999.000,  3.3688,-999.000
      325023_1,  P14N,    43,  1,     20,     20,2,19930718,0638, 40.9900, 179.0047, 5547,   1217.6,   2.9242,  34.3870,2,  34.3868,2,   -999.0,9,     30.8,2,   141.62,2,    42.60,2,     0.00,2,     3.13,3,    0.046,2,    0.036,2, -999.000,9,-999.0000,9,  -999.00,9,   2370.9,2,   2379.0,2,     7.34,2,-999.0000,-999.000,  2.8404,-999.000
      325023_1,  P14N,    43,  1,     19,     19,2,19930718,0638, 40.9900, 179.0047, 5547,   1420.6,   2.6282,  34.4511,2,  34.4519,2,   -999.0,9,     29.1,2,   152.44,2,    43.00,2,     0.00,2,     3.15,3,    0.013,2,    0.013,2, -999.000,9,-999.0000,9,  -999.00,9,   2380.6,2,   2388.9,2,     7.34,2,-999.0000,-999.000,  2.5313,-999.000
      325023_1,  P14N,    43,  1,     18,     18,2,19930718,0638, 40.9900, 179.0047, 5547,   1623.2,   2.3710,  34.4975,2,  34.4987,2,   -999.0,9,     35.7,2,   159.67,2,    42.73,2,     0.00,2,     3.12,3, -999.000,5, -999.000,5, -999.000,9,-999.0000,9,  -999.00,9,   2386.0,2,   2396.6,2,     7.35,2,-999.0000,-999.000,  2.2608,-999.000
      325023_1,  P14N,    43,  1,     17,     17,2,19930718,0638, 40.9900, 179.0047, 5547,   1826.2,   2.1844,  34.5364,2,  34.5364,2,   -999.0,9,     42.6,2,   165.00,2,    42.42,2,     0.00,2,     3.09,3,    0.020,4,    0.022,4, -999.000,9,-999.0000,9,  -999.00,9,   2389.5,2,   2404.9,2,     7.37,2,-999.0000,-999.000,  2.0600,-999.000
      325023_1,  P14N,    43,  1,     16,     16,2,19930718,0638, 40.9900, 179.0047, 5547,   2029.0,   2.0213,  34.5710,2,  34.5720,2,   -999.0,9,     54.7,2,   167.96,2,    41.75,2,     0.00,2,     3.03,3, -999.000,5, -999.000,5, -999.000,9,-999.0000,9,  -999.00,9,   2375.3,2,   2410.1,2,  -999.00,9,-999.0000,-999.000,  1.8823,-999.000
      325023_1,  P14N,    43,  1,     15,     15,2,19930718,0638, 40.9900, 179.0047, 5547,   2232.0,   1.9002,  34.5955,2,  34.5968,2,   -999.0,9,     66.6,2,   168.52,2,    40.95,2,     0.00,2,     2.97,3, -999.000,5, -999.000,5, -999.000,9,-999.0000,9,  -999.00,9,   2373.9,2,   2416.0,2,  -999.00,9,-999.0000,-999.000,  1.7457,-999.000
      325023_1,  P14N,    43,  1,     14,     14,2,19930718,0638, 40.9900, 179.0047, 5547,   2435.4,   1.7950,  34.6163,2,  34.6166,2,   -999.0,9,     79.9,2,   169.08,2,    40.24,2,     0.00,2,     2.91,3, -999.000,5, -999.000,5, -999.000,9,-999.0000,9,  -999.00,9,   2365.7,2,   2406.4,2,  -999.00,9,-999.0000,-999.000,  1.6244,-999.000
      325023_1,  P14N,    43,  1,     13,     13,2,19930718,0638, 40.9900, 179.0047, 5547,   2639.4,   1.7129,  34.6311,2,  34.6321,2,   -999.0,9,     91.5,2,   168.03,2,    39.58,2,     0.00,2,     2.86,3, -999.000,5, -999.000,5, -999.000,9,-999.0000,9,  -999.00,9,   2360.4,2,   2423.3,2,  -999.00,9,-999.0000,-999.000,  1.5255,-999.000
      325023_1,  P14N,    43,  1,     12,     12,2,19930718,0638, 40.9900, 179.0047, 5547,   2843.4,   1.6368,  34.6438,2,  34.6452,2,   -999.0,9,    104.6,2,   165.79,2,    38.74,2,     0.00,2,     2.80,3, -999.000,5, -999.000,5, -999.000,9,-999.0000,9,  -999.00,9,   2354.7,2,   2426.6,2,  -999.00,9,-999.0000,-999.000,  1.4320,-999.000
      325023_1,  P14N,    43,  1,     11,     11,2,19930718,0638, 40.9900, 179.0047, 5547,   3047.9,   1.5829,  34.6528,2,  34.6552,2,   -999.0,9,    114.9,2,   163.95,2,    38.04,2,     0.00,2,     2.76,3, -999.000,5, -999.000,5, -999.000,9,-999.0000,9,  -999.00,9,   2345.3,2,   2426.5,2,  -999.00,9,-999.0000,-999.000,  1.3598,-999.000
      325023_1,  P14N,    43,  1,     10,     10,2,19930718,0638, 40.9900, 179.0047, 5547,   3353.9,   1.5260,  34.6646,2,  34.6662,2,   -999.0,9,    128.0,2,   160.33,2,    37.15,2,     0.00,2,     2.69,3, -999.000,5, -999.000,5, -999.000,9,-999.0000,9,  -999.00,9,   2335.6,2,   2422.8,2,  -999.00,9,-999.0000,-999.000,  1.2741,-999.000
      325023_1,  P14N,    43,  1,      9,      9,2,19930718,0638, 40.9900, 179.0047, 5547,   3660.1,   1.4895,  34.6722,2,  34.6739,2,   -999.0,9,    137.6,2,   158.11,2,    36.63,2,     0.00,2,     2.63,3,   -0.002,2,    0.002,2, -999.000,9,-999.0000,9,  -999.00,9,   2330.0,2,   2420.8,2,  -999.00,9,-999.0000,-999.000,  1.2072,-999.000
      325023_1,  P14N,    43,  1,      8,      8,2,19930718,0638, 40.9900, 179.0047, 5547,   3966.3,   1.4737,  34.6778,2,  34.6797,2,   -999.0,9,    144.4,2,   156.69,2,    36.24,2,     0.00,2,     2.60,3, -999.000,5, -999.000,5, -999.000,9,-999.0000,9,  -999.00,9,   2329.2,2,   2421.2,2,  -999.00,9,-999.0000,-999.000,  1.1593,-999.000
      325023_1,  P14N,    43,  1,      7,      7,2,19930718,0638, 40.9900, 179.0047, 5547,   4273.2,   1.4751,  34.6820,2,  34.6835,2,   -999.0,9,    149.2,2,   155.67,2,    35.89,2,     0.00,2,     2.58,3, -999.000,5, -999.000,5, -999.000,9,-999.0000,9,  -999.00,9,   2323.2,2,   2421.7,2,  -999.00,9,-999.0000,-999.000,  1.1267,-999.000
      325023_1,  P14N,    43,  1,      6,      6,2,19930718,0638, 40.9900, 179.0047, 5547,   4582.6,   1.4929,  34.6833,2,  34.6858,2,   -999.0,9,    151.2,2,   157.20,2,    35.76,2,     0.00,2,     2.57,3, -999.000,5, -999.000,5, -999.000,9,-999.0000,9,  -999.00,9,   2327.5,2,   -999.0,9,  -999.00,9,-999.0000,-999.000,  1.1086,-999.000
      325023_1,  P14N,    43,  1,      5,      5,2,19930718,0638, 40.9900, 179.0047, 5547,   4891.1,   1.5236,  34.6853,2,  34.6868,2,   -999.0,9,    152.0,2,   157.95,2,    35.76,2,     0.00,2,     2.56,3,   -0.004,2,   -0.004,3, -999.000,9,-999.0000,9,  -999.00,9,   2324.6,2,   2422.7,2,  -999.00,9,-999.0000,-999.000,  1.1018,-999.000
      325023_1,  P14N,    43,  1,      4,      4,2,19930718,0638, 40.9900, 179.0047, 5547,   5199.5,   1.5618,  34.6849,2,  34.6870,2,   -999.0,9,    152.3,2,   158.11,2,    35.76,2,     0.00,2,     2.56,3, -999.000,5, -999.000,5, -999.000,9,-999.0000,9,  -999.00,9,   2322.7,2,   2419.6,2,  -999.00,9,-999.0000,-999.000,  1.1010,-999.000
      325023_1,  P14N,    43,  1,      3,      3,2,19930718,0638, 40.9900, 179.0047, 5547,   5510.3,   1.6001,  34.6842,2,  34.6870,2,   -999.0,9,    152.7,2,   157.48,2,    35.72,2,     0.00,2,     2.55,3,   -0.004,2,    0.000,2, -999.000,9,-999.0000,9,  -999.00,9,   2323.3,2,   2422.1,2,  -999.00,9,-999.0000,-999.000,  1.0986,-999.000
      325023_1,  P14N,    43,  1,      2,      2,2,19930718,0638, 40.9900, 179.0047, 5547,   5736.3,   1.6308,  34.6847,2,  34.6868,2,   -999.0,9,    152.8,2,   157.64,2,    35.77,2,     0.00,2,     2.55,3,    0.005,2,   -0.001,2, -999.000,9,-999.0000,9,  -999.00,9,   2322.7,2,   2419.2,2,  -999.00,9,-999.0000,-999.000,  1.0989,-999.000
      325023_1,  P14N,    43,  1,      1,      1,2,19930718,0638, 40.9900, 179.0047, 5547,   5736.7,   1.6309,  34.6850,2,  34.6878,2,   -999.0,9,    152.6,2,   157.60,2,    35.77,2,     0.00,2,     2.55,3, -999.000,5, -999.000,5, -999.000,9,-999.0000,9,  -999.00,9,   2323.9,2,   2421.5,2,  -999.00,9,-999.0000,-999.000,  1.0989,-999.000