BOTTLE,20131125MIRCJHATS
EXPOCODE,SECT_ID,STNNBR,CASTNO,SAMPNO,BTLNBR,BTLNBR_FLAG_W,DATE,TIME,LATITUDE,LONGITUDE,DEPTH,CTDPRS,CTDTMP,CTDSAL,CTDSAL_FLAG_W,SALNTY,SALNTY_FLAG_W,CTDOXY,CTDOXY_FLAG_W,OXYGEN,OXYGEN_FLAG_W,SILCAT,SILCAT_FLAG_W,NITRAT,NITRAT_FLAG_W,NITRIT,NITRIT_FLAG_W,PHSPHT,PHSPHT_FLAG_W,CFC-11,CFC-11_FLAG_W,CFC-12,CFC-12_FLAG_W,TRITUM,TRITUM_FLAG_W,HELIUM,HELIUM_FLAG_W,DELHE3,DELHE3_FLAG_W,TCARBN,TCARBN_FLAG_W,ALKALI,ALKALI_FLAG_W,PH,PH_FLAG_W,HELIER,DELHER,THETA,TRITER
,,,,,,,,,,,,DBAR,ITS-90,PSS-78,,PSS-78,,UMOL/KG,,UMOL/KG,,UMOL/KG,,UMOL/KG,,UMOL/KG,,UMOL/KG,,PMOL/KG,,PMOL/KG,,TU,,NMOL/KG,,PERCNT,,UMOL/KG,,UMOL/KG,,25_DEG,,NMOL/KG,PERCNT,DEG C,TU
      325023_1,  P14N,    72,  1,     36,     36,2,19930726,0314, 26.4997, 179.0000, 5569,      2.4,  27.9390,  35.5217,2,  35.5234,2,   -999.0,9,    206.1,2,     3.39,2,     0.00,2,     0.00,2,     0.02,2, -999.000,5, -999.000,5, -999.000,9,-999.0000,9,  -999.00,9,   -999.0,9,   -999.0,9,  -999.00,9,-999.0000,-999.000, 27.9384,-999.000
      325023_1,  P14N,    72,  1,     35,     35,2,19930726,0314, 26.4997, 179.0000, 5569,     37.0,  22.8555,  35.0079,4,  35.0891,2,   -999.0,9,    236.3,2,     3.56,2,     0.00,2,     0.00,2,     0.02,2, -999.000,5, -999.000,5, -999.000,9,-999.0000,9,  -999.00,9,   -999.0,9,   -999.0,9,  -999.00,9,-999.0000,-999.000, 22.8480,-999.000
      325023_1,  P14N,    72,  1,     34,     34,2,19930726,0314, 26.4997, 179.0000, 5569,     68.4,  20.2062,  35.0884,2,  35.0856,2,   -999.0,9,    229.5,2,     3.51,2,     0.00,2,     0.00,2,     0.05,2, -999.000,5, -999.000,5, -999.000,9,-999.0000,9,  -999.00,9,   -999.0,9,   -999.0,9,  -999.00,9,-999.0000,-999.000, 20.1935,-999.000
      325023_1,  P14N,    72,  1,     33,     33,2,19930726,0314, 26.4997, 179.0000, 5569,     98.2,  18.4327,  34.9465,2,  34.9346,2,   -999.0,9,    214.5,2,     4.13,2,     0.57,2,     0.05,2,     0.15,2, -999.000,5, -999.000,5, -999.000,9,-999.0000,9,  -999.00,9,   -999.0,9,   -999.0,9,  -999.00,9,-999.0000,-999.000, 18.4156,-999.000
      325023_1,  P14N,    72,  1,     32,     32,2,19930726,0314, 26.4997, 179.0000, 5569,    129.1,  17.4077,  34.8185,2,  34.8215,2,   -999.0,9,    220.3,2,     4.30,2,     1.98,2,     0.09,2,     0.21,2, -999.000,5, -999.000,5, -999.000,9,-999.0000,9,  -999.00,9,   -999.0,9,   -999.0,9,  -999.00,9,-999.0000,-999.000, 17.3861,-999.000
      325023_1,  P14N,    72,  1,     31,     31,2,19930726,0314, 26.4997, 179.0000, 5569,    159.3,  16.8290,  34.7666,2,  34.7651,2,   -999.0,9,    216.8,2,     5.13,2,     3.68,2,     0.02,2,     0.30,2, -999.000,5, -999.000,5, -999.000,9,-999.0000,9,  -999.00,9,   -999.0,9,   -999.0,9,  -999.00,9,-999.0000,-999.000, 16.8029,-999.000
      325023_1,  P14N,    72,  1,     30,     30,2,19930726,0314, 26.4997, 179.0000, 5569,    209.4,  15.9482,  34.6940,2,  34.6873,2,   -999.0,9,    213.1,2,     6.62,2,     5.45,2,     0.01,2,     0.42,2, -999.000,5, -999.000,5, -999.000,9,-999.0000,9,  -999.00,9,   -999.0,9,   -999.0,9,  -999.00,9,-999.0000,-999.000, 15.9152,-999.000
      325023_1,  P14N,    72,  1,     29,     29,2,19930726,0314, 26.4997, 179.0000, 5569,    259.7,  14.9001,  34.5963,2,  34.5922,2,   -999.0,9,    206.5,2,     8.55,2,     7.39,2,     0.01,2,     0.56,2, -999.000,5, -999.000,5, -999.000,9,-999.0000,9,  -999.00,9,   -999.0,9,   -999.0,9,  -999.00,9,-999.0000,-999.000, 14.8610,-999.000
      325023_1,  P14N,    72,  1,     28,     28,2,19930726,0314, 26.4997, 179.0000, 5569,    309.9,  13.7613,  34.5030,2,  34.5004,2,   -999.0,9,    208.5,2,    11.13,2,     9.25,2,     0.01,2,     0.69,2, -999.000,5, -999.000,5, -999.000,9,-999.0000,9,  -999.00,9,   -999.0,9,   -999.0,9,  -999.00,9,-999.0000,-999.000, 13.7170,-999.000
      325023_1,  P14N,    72,  1,     27,     27,2,19930726,0314, 26.4997, 179.0000, 5569,    410.4,  11.4111,  34.3068,2,  34.3063,2,   -999.0,9,    205.5,2,    17.66,2,    13.43,2,     0.00,2,     0.97,2, -999.000,5, -999.000,5, -999.000,9,-999.0000,9,  -999.00,9,   -999.0,9,   -999.0,9,  -999.00,9,-999.0000,-999.000, 11.3592,-999.000
      325023_1,  P14N,    72,  1,     26,     26,2,19930726,0314, 26.4997, 179.0000, 5569,    510.3,   8.8737,  34.1381,2,  34.1395,2,   -999.0,9,    181.1,2,    32.08,2,    20.36,2,     0.00,2,     1.45,2, -999.000,5, -999.000,5, -999.000,9,-999.0000,9,  -999.00,9,   -999.0,9,   -999.0,9,  -999.00,9,-999.0000,-999.000,  8.8184,-999.000
      325023_1,  P14N,    72,  1,     25,     25,2,19930726,0314, 26.4997, 179.0000, 5569,    610.7,   6.6361,  34.0420,2,  34.0410,2,   -999.0,9,    143.9,2,    55.04,2,    27.93,2,     0.00,2,     2.00,2, -999.000,5, -999.000,5, -999.000,9,-999.0000,9,  -999.00,9,   -999.0,9,   -999.0,9,  -999.00,9,-999.0000,-999.000,  6.5797,-999.000
      325023_1,  P14N,    72,  1,     24,     24,2,19930726,0314, 26.4997, 179.0000, 5569,    711.7,   5.1385,  34.0775,2,  34.0756,2,   -999.0,9,     91.5,2,    82.22,2,    35.09,2,     0.00,2,     2.51,2, -999.000,5, -999.000,5, -999.000,9,-999.0000,9,  -999.00,9,   -999.0,9,   -999.0,9,  -999.00,9,-999.0000,-999.000,  5.0804,-999.000
      325023_1,  P14N,    72,  1,     23,     23,2,19930726,0314, 26.4997, 179.0000, 5569,    812.8,   4.4038,  34.1707,2,  34.1680,2,   -999.0,9,     68.0,2,   102.23,2,    39.32,2,     0.00,2,     2.80,2, -999.000,5, -999.000,5, -999.000,9,-999.0000,9,  -999.00,9,   -999.0,9,   -999.0,9,  -999.00,9,-999.0000,-999.000,  4.3414,-999.000
      325023_1,  P14N,    72,  1,     22,     22,2,19930726,0314, 26.4997, 179.0000, 5569,    913.4,   3.9151,  34.2666,2,  34.2633,2,   -999.0,9,     36.3,2,   117.00,2,    41.40,2,     0.00,2,     2.95,2, -999.000,5, -999.000,5, -999.000,9,-999.0000,9,  -999.00,9,   -999.0,9,   -999.0,9,  -999.00,9,-999.0000,-999.000,  3.8476,-999.000
      325023_1,  P14N,    72,  1,     21,     21,2,19930726,0314, 26.4997, 179.0000, 5569,   1014.2,   3.6586,  34.3462,2,  34.3441,2,   -999.0,9,     32.0,2,   124.24,2,    42.03,2,     0.00,2,     3.01,2, -999.000,5, -999.000,5, -999.000,9,-999.0000,9,  -999.00,9,   -999.0,9,   -999.0,9,  -999.00,9,-999.0000,-999.000,  3.5847,-999.000
      325023_1,  P14N,    72,  1,     20,     20,2,19930726,0314, 26.4997, 179.0000, 5569,   1216.3,   3.0486,  34.4592,2,  34.4562,2,   -999.0,9,     37.4,2,   139.83,2,    42.30,2,     0.00,2,     3.01,2, -999.000,5, -999.000,5, -999.000,9,-999.0000,9,  -999.00,9,   -999.0,9,   -999.0,9,  -999.00,9,-999.0000,-999.000,  2.9636,-999.000
      325023_1,  P14N,    72,  1,     19,     19,2,19930726,0314, 26.4997, 179.0000, 5569,   1418.7,   2.5802,  34.5245,2,  34.5222,2,   -999.0,9,     49.6,2,   150.11,2,    41.71,2,     0.00,2,     2.96,2, -999.000,5, -999.000,5, -999.000,9,-999.0000,9,  -999.00,9,   -999.0,9,   -999.0,9,  -999.00,9,-999.0000,-999.000,  2.4838,-999.000
      325023_1,  P14N,    72,  1,     18,     18,2,19930726,0314, 26.4997, 179.0000, 5569,   1621.6,   2.2697,  34.5659,2,  34.5630,2,   -999.0,9,     63.9,2,   155.89,2,    40.94,2,     0.00,2,     2.90,2, -999.000,5, -999.000,5, -999.000,9,-999.0000,9,  -999.00,9,   -999.0,9,   -999.0,9,  -999.00,9,-999.0000,-999.000,  2.1607,-999.000
      325023_1,  P14N,    72,  1,     17,     17,2,19930726,0314, 26.4997, 179.0000, 5569,   1825.9,   2.0249,  34.5982,2,  34.5963,2,   -999.0,9,     81.2,2,   159.62,2,    39.98,2,     0.00,2,     2.83,2, -999.000,5, -999.000,5, -999.000,9,-999.0000,9,  -999.00,9,   -999.0,9,   -999.0,9,  -999.00,9,-999.0000,-999.000,  1.9026,-999.000
      325023_1,  P14N,    72,  1,     16,     16,2,19930726,0314, 26.4997, 179.0000, 5569,   2029.0,   1.8800,  34.6172,2,  34.6155,2,   -999.0,9,     90.8,2,   161.76,2,    39.44,2,     0.00,2,     2.78,2, -999.000,5, -999.000,5, -999.000,9,-999.0000,9,  -999.00,9,   -999.0,9,   -999.0,9,  -999.00,9,-999.0000,-999.000,  1.7430,-999.000
      325023_1,  P14N,    72,  1,     15,     15,2,19930726,0314, 26.4997, 179.0000, 5569,   2232.6,   1.7518,  34.6341,2,  34.6327,2,   -999.0,9,    103.0,2,   161.83,2,    38.67,2,     0.00,2,     2.72,2, -999.000,5, -999.000,5, -999.000,9,-999.0000,9,  -999.00,9,   -999.0,9,   -999.0,9,  -999.00,9,-999.0000,-999.000,  1.5996,-999.000
      325023_1,  P14N,    72,  1,     14,     14,2,19930726,0314, 26.4997, 179.0000, 5569,   2436.9,   1.6759,  34.6452,2,  34.6441,2,   -999.0,9,    112.1,2,   161.45,2,    38.45,2,     0.00,2,     2.67,2, -999.000,5, -999.000,5, -999.000,9,-999.0000,9,  -999.00,9,   -999.0,9,   -999.0,9,  -999.00,9,-999.0000,-999.000,  1.5072,-999.000
      325023_1,  P14N,    72,  1,     13,     13,2,19930726,0314, 26.4997, 179.0000, 5569,   2641.7,   1.6003,  34.6553,2,  34.6544,2,   -999.0,9,    120.9,2,   160.61,2,    37.59,2,     0.00,2,     2.63,2, -999.000,5, -999.000,5, -999.000,9,-999.0000,9,  -999.00,9,   -999.0,9,   -999.0,9,  -999.00,9,-999.0000,-999.000,  1.4148,-999.000
      325023_1,  P14N,    72,  1,     12,     12,2,19930726,0314, 26.4997, 179.0000, 5569,   2845.8,   1.5486,  34.6626,2,  34.6625,2,   -999.0,9,    127.7,2,   158.85,2,    37.10,2,     0.00,2,     2.60,2, -999.000,5, -999.000,5, -999.000,9,-999.0000,9,  -999.00,9,   -999.0,9,   -999.0,9,  -999.00,9,-999.0000,-999.000,  1.3453,-999.000
      325023_1,  P14N,    72,  1,     11,     11,2,19930726,0314, 26.4997, 179.0000, 5569,   3049.8,   1.5158,  34.6678,2,  34.6664,2,   -999.0,9,    133.2,2,   157.33,2,    36.69,2,     0.00,2,     2.56,2, -999.000,5, -999.000,5, -999.000,9,-999.0000,9,  -999.00,9,   -999.0,9,   -999.0,9,  -999.00,9,-999.0000,-999.000,  1.2939,-999.000
      325023_1,  P14N,    72,  1,     10,     10,2,19930726,0314, 26.4997, 179.0000, 5569,   3356.8,   1.4843,  34.6738,2,  34.6726,2,   -999.0,9,    139.9,2,   156.04,2,    36.29,2,     0.00,2,     2.53,2, -999.000,5, -999.000,5, -999.000,9,-999.0000,9,  -999.00,9,   -999.0,9,   -999.0,9,  -999.00,9,-999.0000,-999.000,  1.2331,-999.000
      325023_1,  P14N,    72,  1,      9,      9,2,19930726,0314, 26.4997, 179.0000, 5569,   3663.5,   1.4607,  34.6788,2,  34.6771,2,   -999.0,9,    146.2,2,   154.99,2,    35.89,2,     0.00,2,     2.50,2, -999.000,5, -999.000,5, -999.000,9,-999.0000,9,  -999.00,9,   -999.0,9,   -999.0,9,  -999.00,9,-999.0000,-999.000,  1.1788,-999.000
      325023_1,  P14N,    72,  1,      8,      8,2,19930726,0314, 26.4997, 179.0000, 5569,   3970.6,   1.4516,  34.6825,2,  34.6812,2,   -999.0,9,    151.2,2,   152.79,2,    35.53,2,     0.00,2,     2.48,2, -999.000,5, -999.000,5, -999.000,9,-999.0000,9,  -999.00,9,   -999.0,9,   -999.0,9,  -999.00,9,-999.0000,-999.000,  1.1373,-999.000
      325023_1,  P14N,    72,  1,      7,      7,2,19930726,0314, 26.4997, 179.0000, 5569,   4279.9,   1.4425,  34.6870,2,  34.6858,2,   -999.0,9,    157.2,2,   149.71,2,    35.08,2,     0.00,2,     2.45,2, -999.000,5, -999.000,5, -999.000,9,-999.0000,9,  -999.00,9,   -999.0,9,   -999.0,9,  -999.00,9,-999.0000,-999.000,  1.0944,-999.000
      325023_1,  P14N,    72,  1,      6,      6,2,19930726,0314, 26.4997, 179.0000, 5569,   4588.6,   1.4345,  34.6898,2,  34.6903,2,   -999.0,9,    163.7,2,   145.28,2,    34.68,2,     0.00,2,     2.41,2, -999.000,5, -999.000,5, -999.000,9,-999.0000,9,  -999.00,9,   -999.0,9,   -999.0,9,  -999.00,9,-999.0000,-999.000,  1.0513,-999.000
      325023_1,  P14N,    72,  1,      5,      5,2,19930726,0314, 26.4997, 179.0000, 5569,   4897.6,   1.4418,  34.6927,2,  34.6891,2,   -999.0,9,    168.5,2,   141.99,2,    34.32,2,     0.00,2,     2.40,2, -999.000,5, -999.000,5, -999.000,9,-999.0000,9,  -999.00,9,   -999.0,9,   -999.0,9,  -999.00,9,-999.0000,-999.000,  1.0219,-999.000
      325023_1,  P14N,    72,  1,      4,      4,2,19930726,0314, 26.4997, 179.0000, 5569,   5206.3,   1.4587,  34.6944,2,  34.6914,2,   -999.0,9,    172.0,2,   139.61,2,    34.10,2,     0.00,2,     2.38,2, -999.000,5, -999.000,5, -999.000,9,-999.0000,9,  -999.00,9,   -999.0,9,   -999.0,9,  -999.00,9,-999.0000,-999.000,  1.0005,-999.000
      325023_1,  P14N,    72,  1,      3,      3,2,19930726,0314, 26.4997, 179.0000, 5569,   5515.6,   1.4788,  34.6956,2,  34.6938,2,   -999.0,9,    175.4,2,   136.57,2,    33.87,2,     0.00,2,     2.35,2, -999.000,5, -999.000,5, -999.000,9,-999.0000,9,  -999.00,9,   -999.0,9,   -999.0,9,  -999.00,9,-999.0000,-999.000,  0.9810,-999.000
      325023_1,  P14N,    72,  1,      2,      2,2,19930726,0314, 26.4997, 179.0000, 5569,   5647.4,   1.4875,  34.6966,2,  34.6957,2,   -999.0,9,    176.6,2,   136.21,2,    33.78,2,     0.00,2,     2.35,2, -999.000,5, -999.000,5, -999.000,9,-999.0000,9,  -999.00,9,   -999.0,9,   -999.0,9,  -999.00,9,-999.0000,-999.000,  0.9724,-999.000
      325023_1,  P14N,    72,  1,      1,      1,2,19930726,0314, 26.4997, 179.0000, 5569,   5648.8,   1.4878,  34.6965,2,  34.6959,2,   -999.0,9,    176.3,2,   136.30,2,    33.78,2,     0.00,2,     2.35,2, -999.000,5, -999.000,5, -999.000,9,-999.0000,9,  -999.00,9,   -999.0,9,   -999.0,9,  -999.00,9,-999.0000,-999.000,  0.9725,-999.000