BOTTLE,20131125MIRCJHATS
EXPOCODE,SECT_ID,STNNBR,CASTNO,SAMPNO,BTLNBR,BTLNBR_FLAG_W,DATE,TIME,LATITUDE,LONGITUDE,DEPTH,CTDPRS,CTDTMP,CTDSAL,CTDSAL_FLAG_W,SALNTY,SALNTY_FLAG_W,CTDOXY,CTDOXY_FLAG_W,OXYGEN,OXYGEN_FLAG_W,SILCAT,SILCAT_FLAG_W,NITRAT,NITRAT_FLAG_W,NITRIT,NITRIT_FLAG_W,PHSPHT,PHSPHT_FLAG_W,CFC-11,CFC-11_FLAG_W,CFC-12,CFC-12_FLAG_W,TRITUM,TRITUM_FLAG_W,HELIUM,HELIUM_FLAG_W,DELHE3,DELHE3_FLAG_W,TCARBN,TCARBN_FLAG_W,ALKALI,ALKALI_FLAG_W,PH,PH_FLAG_W,HELIER,DELHER,THETA,TRITER
,,,,,,,,,,,,DBAR,ITS-90,PSS-78,,PSS-78,,UMOL/KG,,UMOL/KG,,UMOL/KG,,UMOL/KG,,UMOL/KG,,UMOL/KG,,PMOL/KG,,PMOL/KG,,TU,,NMOL/KG,,PERCNT,,UMOL/KG,,UMOL/KG,,25_DEG,,NMOL/KG,PERCNT,DEG C,TU
      325024_1,  P14N,   173,  1,     36,     36,2,19930826,1906,-10.0020, 179.0007, 4755,      1.8,  28.6092,  34.3902,2,  34.3903,2,   -999.0,9,    196.8,2,     2.76,2,     0.07,2,     0.00,3,     0.19,2,    1.635,2,    0.899,2, -999.000,9,-999.0000,9,  -999.00,9,   1906.0,2,   2266.0,2,     8.12,2,-999.0000,-999.000, 28.6087,-999.000
      325024_1,  P14N,   173,  1,     35,     35,2,19930826,1906,-10.0020, 179.0007, 4755,     37.3,  28.3513,  34.6651,2,  34.6699,2,   -999.0,9,    198.5,2,     2.32,2,     0.07,2,     0.00,3,     0.19,2,    1.644,2,    0.881,2, -999.000,9,-999.0000,9,  -999.00,9,   1923.0,2,   2284.0,2,     8.11,2,-999.0000,-999.000, 28.3424,-999.000
      325024_1,  P14N,   173,  1,     34,     34,2,19930826,1906,-10.0020, 179.0007, 4755,     67.0,  28.1506,  34.9800,4,  35.0144,2,   -999.0,9,    192.5,2,     2.47,2,     0.33,2,     0.04,3,     0.26,2,    1.615,2,    0.881,2, -999.000,9,-999.0000,9,  -999.00,9,   1951.0,2,   2303.0,2,     8.10,2,-999.0000,-999.000, 28.1347,-999.000
      325024_1,  P14N,   173,  1,     33,     33,2,19930826,1906,-10.0020, 179.0007, 4755,     96.9,  26.7025,  36.0569,2,  36.0792,2,   -999.0,9,    150.7,2,     2.81,2,     4.17,2,     0.70,3,     0.62,2,    1.663,2,    0.890,2, -999.000,9,-999.0000,9,  -999.00,9,   2065.0,2,   2374.0,2,     8.01,2,-999.0000,-999.000, 26.6804,-999.000
      325024_1,  P14N,   173,  1,     32,     32,2,19930826,1906,-10.0020, 179.0007, 4755,    127.1,  24.6544,  36.1504,2,  36.1527,2,   -999.0,9,    137.6,2,     2.77,2,     7.21,2,     0.35,3,     0.75,2,    1.737,2,    0.927,2, -999.000,9,-999.0000,9,  -999.00,9,   2097.0,2,   2376.0,2,     7.96,2,-999.0000,-999.000, 24.6269,-999.000
      325024_1,  P14N,   173,  1,     31,     31,2,19930826,1906,-10.0020, 179.0007, 4755,    157.3,  21.8683,  36.0165,4,  36.0423,2,   -999.0,9,    144.3,2,     2.33,2,     7.25,2,     0.02,3,     0.74,2,    1.751,2,    0.898,2, -999.000,9,-999.0000,9,  -999.00,9,   2110.0,2,   2367.0,2,     7.88,2,-999.0000,-999.000, 21.8371,-999.000
      325024_1,  P14N,   173,  1,     30,     30,2,19930826,1906,-10.0020, 179.0007, 4755,    207.0,  18.5577,  35.6050,4,  35.5777,2,   -999.0,9,    137.1,2,     4.45,2,    10.17,2,     0.01,3,     0.96,2,    1.499,2,    0.775,2, -999.000,9,-999.0000,9,  -999.00,9,   2127.0,2,   2339.0,2,     7.86,2,-999.0000,-999.000, 18.5212,-999.000
      325024_1,  P14N,   173,  1,     29,     29,2,19930826,1906,-10.0020, 179.0007, 4755,    256.1,  15.2606,  35.1977,2,  35.2039,2,   -999.0,9,    115.9,2,     8.55,2,    15.74,2,     0.01,3,     1.34,2,    1.059,2,    0.546,2, -999.000,9,-999.0000,9,  -999.00,9,   2155.0,2,   2323.0,2,     7.75,2,-999.0000,-999.000, 15.2213,-999.000
      325024_1,  P14N,   173,  1,     28,     28,2,19930826,1906,-10.0020, 179.0007, 4755,    307.2,  12.8096,  34.9472,2,  34.9425,2,   -999.0,9,     93.4,2,    14.44,2,    22.00,2,     0.01,3,     1.75,2,    0.604,2,    0.308,2, -999.000,9,-999.0000,9,  -999.00,9,   2186.0,2,   2312.0,2,     7.67,2,-999.0000,-999.000, 12.7676,-999.000
      325024_1,  P14N,   173,  1,     27,     27,2,19930826,1906,-10.0020, 179.0007, 4755,    407.2,   9.2549,  34.6635,2,  34.6716,2,   -999.0,9,    124.1,2,    21.72,2,    26.57,2,     0.01,3,     1.94,2,    0.231,2,    0.119,2, -999.000,9,-999.0000,9,  -999.00,9,   2192.0,2,   2301.0,2,     7.61,2,-999.0000,-999.000,  9.2095,-999.000
      325024_1,  P14N,   173,  1,     26,     26,2,19930826,1906,-10.0020, 179.0007, 4755,    507.5,   7.4121,  34.5540,2,  34.5549,2,   -999.0,9,    138.0,2,    29.81,2,    29.50,2,     0.00,3,     2.11,2,    0.118,6,    0.052,6, -999.000,9,-999.0000,9,  -999.00,9,   2207.0,2,   2300.0,2,     7.58,2,-999.0000,-999.000,  7.3622,-999.000
      325024_1,  P14N,   173,  1,     25,     25,2,19930826,1906,-10.0020, 179.0007, 4755,    607.3,   6.3565,  34.5255,2,  34.5262,2,   -999.0,9,    123.9,2,    41.08,2,    32.97,2,     0.01,3,     2.34,2,    0.036,2,    0.017,2, -999.000,9,-999.0000,9,  -999.00,9,   2231.0,2,   2310.0,2,     7.53,2,-999.0000,-999.000,  6.3013,-999.000
      325024_1,  P14N,   173,  1,     24,     24,2,19930826,1906,-10.0020, 179.0007, 4755,    707.5,   5.7396,  34.5096,2,  34.5098,2,   -999.0,9,    124.1,2,    48.02,2,    34.22,2,     0.01,3,     2.42,2,    0.014,2,    0.011,2, -999.000,9,-999.0000,9,  -999.00,9,   2240.0,2,   2317.0,2,     7.53,2,-999.0000,-999.000,  5.6782,-999.000
      325024_1,  P14N,   173,  1,     23,     23,2,19930826,1906,-10.0020, 179.0007, 4755,    807.3,   5.2441,  34.5078,2,  34.5078,2,   -999.0,9,    121.7,2,    55.56,2,    35.29,2,     0.01,3,     2.50,2,    0.007,2,    0.003,2, -999.000,9,-999.0000,9,  -999.00,9,   2252.0,2,   2325.0,2,     7.51,2,-999.0000,-999.000,  5.1765,-999.000
      325024_1,  P14N,   173,  1,     22,     22,2,19930826,1906,-10.0020, 179.0007, 4755,    907.2,   4.7311,  34.5112,2,  34.5117,2,   -999.0,9,    123.1,2,    63.53,2,    35.80,2,     0.01,3,     2.54,2,    0.003,2,    0.000,2, -999.000,9,-999.0000,9,  -999.00,9,   2262.0,2,   2331.0,2,     7.51,2,-999.0000,-999.000,  4.6580,-999.000
      325024_1,  P14N,   173,  1,     21,     21,2,19930826,1906,-10.0020, 179.0007, 4755,   1007.8,   4.3835,  34.5205,2,  34.5227,2,   -999.0,9,    123.0,2,    70.53,2,    36.04,2,     0.00,3,     2.56,2,   -0.002,2,    0.001,2, -999.000,9,-999.0000,9,  -999.00,9,   2271.0,2,   2341.0,2,     7.51,2,-999.0000,-999.000,  4.3042,-999.000
      325024_1,  P14N,   173,  1,     20,     20,2,19930826,1906,-10.0020, 179.0007, 4755,   1209.3,   3.6706,  34.5460,2,  34.5468,2,   -999.0,9,    128.5,2,    84.57,2,    36.10,2,     0.00,3,     2.57,2,    0.000,2,    0.004,2, -999.000,9,-999.0000,9,  -999.00,9,   2284.0,2,   2356.0,2,     7.53,2,-999.0000,-999.000,  3.5802,-999.000
      325024_1,  P14N,   173,  1,     19,     19,2,19930826,1906,-10.0020, 179.0007, 4755,   1409.8,   3.0618,  34.5764,2,  34.5765,2,   -999.0,9,    132.9,2,    97.10,2,    35.98,2,     0.00,3,     2.57,2, -999.000,5, -999.000,5, -999.000,9,-999.0000,9,  -999.00,9,   2297.0,2,   2371.0,2,     7.51,2,-999.0000,-999.000,  2.9607,-999.000
      325024_1,  P14N,   173,  1,     18,     18,2,19930826,1906,-10.0020, 179.0007, 4755,   1611.2,   2.6901,  34.5957,2,  34.5959,2,   -999.0,9,    139.5,2,   103.82,2,    35.73,2,     0.01,3,     2.55,2,   -0.001,2,    0.000,2, -999.000,9,-999.0000,9,  -999.00,9,   2301.0,2,   2381.0,2,     7.53,2,-999.0000,-999.000,  2.5767,-999.000
      325024_1,  P14N,   173,  1,     17,     17,2,19930826,1906,-10.0020, 179.0007, 4755,   1813.1,   2.4422,  34.6159,2,  34.6169,2,   -999.0,9,    137.2,2,   112.82,2,    36.02,2,     0.01,3,     2.57,2,   -0.003,2,   -0.001,2, -999.000,9,-999.0000,9,  -999.00,9,   2312.0,2,   2390.0,2,     7.52,2,-999.0000,-999.000,  2.3151,-999.000
      325024_1,  P14N,   173,  1,     16,     16,2,19930826,1906,-10.0020, 179.0007, 4755,   2015.2,   2.2205,  34.6305,2,  34.6310,2,   -999.0,9,    141.0,2,   118.19,2,    35.95,2,     0.01,3,     2.56,2, -999.000,5, -999.000,5, -999.000,9,-999.0000,9,  -999.00,9,   2315.0,2,   2409.0,3,     7.55,2,-999.0000,-999.000,  2.0794,-999.000
      325024_1,  P14N,   173,  1,     15,     15,2,19930826,1906,-10.0020, 179.0007, 4755,   2217.6,   2.0546,  34.6434,2,  34.6432,2,   -999.0,9,    140.4,2,   124.42,2,    35.96,2,     0.01,3,     2.57,2, -999.000,5, -999.000,5, -999.000,9,-999.0000,9,  -999.00,9,   2323.0,2,   2405.0,2,     7.53,2,-999.0000,-999.000,  1.8986,-999.000
      325024_1,  P14N,   173,  1,     14,     14,2,19930826,1906,-10.0020, 179.0007, 4755,   2419.7,   1.9353,  34.6519,2,  34.6524,2,   -999.0,9,    141.6,2,   128.60,2,    35.94,2,     0.01,3,     2.55,2, -999.000,5, -999.000,5, -999.000,9,-999.0000,9,  -999.00,9,   2325.0,2,   2407.0,2,     7.53,2,-999.0000,-999.000,  1.7634,-999.000
      325024_1,  P14N,   173,  1,     13,     13,2,19930826,1906,-10.0020, 179.0007, 4755,   2622.1,   1.8273,  34.6593,2,  34.6601,2,   -999.0,9,    140.2,2,   133.64,2,    36.13,2,     0.01,3,     2.57,2, -999.000,5, -999.000,5, -999.000,9,-999.0000,9,  -999.00,9,   2331.0,2,   2416.0,2,     7.54,2,-999.0000,-999.000,  1.6391,-999.000
      325024_1,  P14N,   173,  1,     12,     12,2,19930826,1906,-10.0020, 179.0007, 4755,   2824.3,   1.7312,  34.6653,2,  34.6661,2,   -999.0,9,    141.6,2,   137.04,2,    36.15,2,     0.01,3,     2.57,2, -999.000,5, -999.000,5, -999.000,9,-999.0000,9,  -999.00,9,   2332.0,2,   2416.0,2,     7.53,2,-999.0000,-999.000,  1.5261,-999.000
      325024_1,  P14N,   173,  1,     11,     11,2,19930826,1906,-10.0020, 179.0007, 4755,   3027.4,   1.6457,  34.6707,2,  34.6711,2,   -999.0,9,    145.4,2,   138.56,2,    35.90,2,     0.00,3,     2.55,2,    0.000,2,    0.000,2, -999.000,9,-999.0000,9,  -999.00,9,   2330.0,2,   2410.0,2,     7.53,2,-999.0000,-999.000,  1.4231,-999.000
      325024_1,  P14N,   173,  1,     10,     10,2,19930826,1906,-10.0020, 179.0007, 4755,   3229.9,   1.5700,  34.6761,2,  34.6767,2,   -999.0,9,    151.0,2,   137.14,2,    35.66,2,     0.00,3,     2.52,2, -999.000,5, -999.000,5, -999.000,9,-999.0000,9,  -999.00,9,   2325.0,2,   2413.0,2,     7.55,2,-999.0000,-999.000,  1.3294,-999.000
      325024_1,  P14N,   173,  1,      9,      9,2,19930826,1906,-10.0020, 179.0007, 4755,   3432.8,   1.5135,  34.6815,2,  34.6809,2,   -999.0,9,    157.1,2,   137.20,2,    35.27,2,     0.00,3,     2.48,2, -999.000,5, -999.000,5, -999.000,9,-999.0000,9,  -999.00,9,   2320.0,2,   2407.0,2,     7.56,2,-999.0000,-999.000,  1.2538,-999.000
      325024_1,  P14N,   173,  1,      8,      8,2,19930826,1906,-10.0020, 179.0007, 4755,   3636.5,   1.4524,  34.6869,2,  34.6866,2,   -999.0,9,    164.5,2,   135.36,2,    34.85,2,     0.00,3,     2.43,2, -999.000,5, -999.000,5, -999.000,9,-999.0000,9,  -999.00,9,   2313.0,2,   2405.0,2,     7.56,2,-999.0000,-999.000,  1.1734,-999.000
      325024_1,  P14N,   173,  1,      7,      7,2,19930826,1906,-10.0020, 179.0007, 4755,   3839.8,   1.3852,  34.6926,2,  34.6930,2,   -999.0,9,    173.9,2,   131.44,2,    34.16,2,     0.00,3,     2.39,2,    0.000,2,    0.004,2, -999.000,9,-999.0000,9,  -999.00,9,   2302.0,2,   2400.0,2,     7.58,2,-999.0000,-999.000,  1.0866,-999.000
      325024_1,  P14N,   173,  1,      6,      6,2,19930826,1906,-10.0020, 179.0007, 4755,   4044.3,   1.3157,  34.6980,2,  34.6986,2,   -999.0,9,    182.7,2,   127.52,2,    33.43,2,     0.00,3,     2.33,2, -999.000,5, -999.000,5, -999.000,9,-999.0000,9,  -999.00,9,   2292.0,2,   2387.0,2,     7.57,2,-999.0000,-999.000,  0.9972,-999.000
      325024_1,  P14N,   173,  1,      5,      5,2,19930826,1906,-10.0020, 179.0007, 4755,   4247.7,   1.2916,  34.7005,2,  34.7011,2,   -999.0,9,    187.2,2,   125.48,2,    33.05,2,     0.00,3,     2.30,2, -999.000,5, -999.000,5, -999.000,9,-999.0000,9,  -999.00,9,   2286.0,2,   2385.0,2,     7.59,2,-999.0000,-999.000,  0.9515,-999.000
      325024_1,  P14N,   173,  1,      4,      4,2,19930826,1906,-10.0020, 179.0007, 4755,   4451.2,   1.2812,  34.7018,2,  34.7023,2,   -999.0,9,    190.4,2,   123.86,2,    32.84,2,     0.00,3,     2.28,2, -999.000,5, -999.000,5, -999.000,9,-999.0000,9,  -999.00,9,   2283.0,2,   2380.0,2,     7.58,2,-999.0000,-999.000,  0.9184,-999.000
      325024_1,  P14N,   173,  1,      2,      2,2,19930826,1906,-10.0020, 179.0007, 4755,   4655.1,   1.2815,  34.7032,2,  34.7031,2,   -999.0,9,    192.2,2,   123.32,2,    32.66,2,     0.00,3,     2.28,2, -999.000,5, -999.000,5, -999.000,9,-999.0000,9,  -999.00,9,   2281.0,2,   2380.0,2,     7.58,2,-999.0000,-999.000,  0.8953,-999.000
      325024_1,  P14N,   173,  1,      3,      3,2,19930826,1906,-10.0020, 179.0007, 4755,   4655.3,   1.2817,  34.7033,2,  34.7037,2,   -999.0,9,    192.3,2,   123.28,2,    32.64,2,     0.00,3,     2.28,2,   -0.001,2,   -0.001,2, -999.000,9,-999.0000,9,  -999.00,9,   2280.0,2,   2380.0,2,     7.59,2,-999.0000,-999.000,  0.8955,-999.000
      325024_1,  P14N,   173,  1,      1,      1,2,19930826,1906,-10.0020, 179.0007, 4755,   4821.3,   1.2776,  34.7037,2,  34.7039,2,   -999.0,9,    192.8,2,   123.37,2,    32.63,2,     0.00,3,     2.28,2,   -0.001,2,    0.002,2, -999.000,9,-999.0000,9,  -999.00,9,   2278.0,2,   2382.0,2,     7.60,2,-999.0000,-999.000,  0.8721,-999.000