BOTTLE,20131125MIRCJHATS
EXPOCODE,SECT_ID,STNNBR,CASTNO,SAMPNO,BTLNBR,BTLNBR_FLAG_W,DATE,TIME,LATITUDE,LONGITUDE,DEPTH,CTDPRS,CTDTMP,CTDSAL,CTDSAL_FLAG_W,SALNTY,SALNTY_FLAG_W,CTDOXY,CTDOXY_FLAG_W,OXYGEN,OXYGEN_FLAG_W,SILCAT,SILCAT_FLAG_W,NITRAT,NITRAT_FLAG_W,NITRIT,NITRIT_FLAG_W,PHSPHT,PHSPHT_FLAG_W,CFC-11,CFC-11_FLAG_W,CFC-12,CFC-12_FLAG_W,TRITUM,TRITUM_FLAG_W,HELIUM,HELIUM_FLAG_W,DELHE3,DELHE3_FLAG_W,TCARBN,TCARBN_FLAG_W,ALKALI,ALKALI_FLAG_W,PH,PH_FLAG_W,HELIER,DELHER,THETA,TRITER
,,,,,,,,,,,,DBAR,ITS-90,PSS-78,,PSS-78,,UMOL/KG,,UMOL/KG,,UMOL/KG,,UMOL/KG,,UMOL/KG,,UMOL/KG,,PMOL/KG,,PMOL/KG,,TU,,NMOL/KG,,PERCNT,,UMOL/KG,,UMOL/KG,,25_DEG,,NMOL/KG,PERCNT,DEG C,TU
      325023_1,  P14N,    16,  1,     36,     36,2,19930710,1004, 52.0683,-179.3835, 2907,      2.5,   5.2728,  33.1416,2,  33.1413,2,   -999.0,9,    288.6,2,    49.15,2,    24.03,2,     0.25,2,     1.94,2, -999.000,5, -999.000,5, -999.000,9,-999.0000,9,  -999.00,9,   -999.0,9,   -999.0,9,  -999.00,9,-999.0000,-999.000,  5.2726,-999.000
      325023_1,  P14N,    16,  1,     35,     35,2,19930710,1004, 52.0683,-179.3835, 2907,     37.9,   4.9384,  33.1876,2,  33.1949,2,   -999.0,9,    257.5,2,    53.77,2,    26.15,2,     0.26,2,     2.11,2, -999.000,5, -999.000,5, -999.000,9,-999.0000,9,  -999.00,9,   -999.0,9,   -999.0,9,  -999.00,9,-999.0000,-999.000,  4.9356,-999.000
      325023_1,  P14N,    16,  1,     34,     34,2,19930710,1004, 52.0683,-179.3835, 2907,     67.5,   4.4532,  33.2835,2,  33.2910,2,   -999.0,9,    224.8,2,    60.49,2,    28.65,2,     0.26,2,     2.26,2, -999.000,5, -999.000,5, -999.000,9,-999.0000,9,  -999.00,9,   -999.0,9,   -999.0,9,  -999.00,9,-999.0000,-999.000,  4.4485,-999.000
      325023_1,  P14N,    16,  1,     33,     33,2,19930710,1004, 52.0683,-179.3835, 2907,     98.4,   4.2895,  33.3678,2,  33.3702,2,   -999.0,9,    199.7,2,    66.04,2,    30.39,2,     0.24,2,     2.36,2, -999.000,5, -999.000,5, -999.000,9,-999.0000,9,  -999.00,9,   -999.0,9,   -999.0,9,  -999.00,9,-999.0000,-999.000,  4.2827,-999.000
      325023_1,  P14N,    16,  1,     32,     32,2,19930710,1004, 52.0683,-179.3835, 2907,    128.4,   4.1486,  33.4667,2,  33.4658,2,   -999.0,9,    173.5,2,    72.06,2,    32.36,2,     0.22,2,     2.48,2, -999.000,5, -999.000,5, -999.000,9,-999.0000,9,  -999.00,9,   -999.0,9,   -999.0,9,  -999.00,9,-999.0000,-999.000,  4.1398,-999.000
      325023_1,  P14N,    16,  1,     31,     31,2,19930710,1004, 52.0683,-179.3835, 2907,    158.5,   4.0718,  33.5018,2,  33.5018,2,   -999.0,9,    166.4,2,    74.57,2,    33.14,2,     0.21,2,     2.52,2, -999.000,5, -999.000,5, -999.000,9,-999.0000,9,  -999.00,9,   -999.0,9,   -999.0,9,  -999.00,9,-999.0000,-999.000,  4.0610,-999.000
      325023_1,  P14N,    16,  1,     30,     30,2,19930710,1004, 52.0683,-179.3835, 2907,    208.9,   3.8647,  33.6085,2,  33.5942,2,   -999.0,9,    144.8,2,    81.77,2,    35.45,2,     0.14,2,     2.65,2, -999.000,5, -999.000,5, -999.000,9,-999.0000,9,  -999.00,9,   -999.0,9,   -999.0,9,  -999.00,9,-999.0000,-999.000,  3.8507,-999.000
      325023_1,  P14N,    16,  1,     29,     29,2,19930710,1004, 52.0683,-179.3835, 2907,    259.5,   3.7596,  33.7132,2,  33.7053,2,   -999.0,9,    120.3,2,    89.44,2,    37.38,2,     0.08,2,     2.76,2, -999.000,5, -999.000,5, -999.000,9,-999.0000,9,  -999.00,9,   -999.0,9,   -999.0,9,  -999.00,9,-999.0000,-999.000,  3.7423,-999.000
      325023_1,  P14N,    16,  1,     28,     28,2,19930710,1004, 52.0683,-179.3835, 2907,    310.1,   3.6504,  33.8193,2,  33.8178,2,   -999.0,9,     98.3,2,    98.31,2,    38.86,2,     0.07,2,     2.86,2, -999.000,5, -999.000,5, -999.000,9,-999.0000,9,  -999.00,9,   -999.0,9,   -999.0,9,  -999.00,9,-999.0000,-999.000,  3.6298,-999.000
      325023_1,  P14N,    16,  1,     27,     27,2,19930710,1004, 52.0683,-179.3835, 2907,    360.7,   3.5998,  33.8766,2,  33.8784,2,   -999.0,9,     86.7,2,   103.65,2,    39.73,2,     0.06,2,     2.91,2, -999.000,5, -999.000,5, -999.000,9,-999.0000,9,  -999.00,9,   -999.0,9,   -999.0,9,  -999.00,9,-999.0000,-999.000,  3.5758,-999.000
      325023_1,  P14N,    16,  1,     26,     26,2,19930710,1004, 52.0683,-179.3835, 2907,    411.3,   3.5096,  33.9654,2,  33.9705,2,   -999.0,9,     68.5,2,   111.83,2,    40.89,2,     0.05,2,     2.99,2, -999.000,5, -999.000,5, -999.000,9,-999.0000,9,  -999.00,9,   -999.0,9,   -999.0,9,  -999.00,9,-999.0000,-999.000,  3.4823,-999.000
      325023_1,  P14N,    16,  1,     25,     25,2,19930710,1004, 52.0683,-179.3835, 2907,    461.5,   3.4778,  34.0351,2,  34.0356,2,   -999.0,9,     49.2,2,   116.48,2,    42.30,2,     0.02,2,     3.07,2, -999.000,5, -999.000,5, -999.000,9,-999.0000,9,  -999.00,9,   -999.0,9,   -999.0,9,  -999.00,9,-999.0000,-999.000,  3.4471,-999.000
      325023_1,  P14N,    16,  1,     24,     24,2,19930710,1004, 52.0683,-179.3835, 2907,    512.3,   3.4486,  34.0620,2,  34.0612,2,   -999.0,9,     44.9,2,   119.00,2,    42.72,2,     0.02,2,     3.09,2, -999.000,5, -999.000,5, -999.000,9,-999.0000,9,  -999.00,9,   -999.0,9,   -999.0,9,  -999.00,9,-999.0000,-999.000,  3.4144,-999.000
      325023_1,  P14N,    16,  1,     23,     23,2,19930710,1004, 52.0683,-179.3835, 2907,    612.9,   3.3034,  34.1419,2,  34.1411,2,   -999.0,9,     36.6,2,   130.80,2,    43.28,2,     0.01,2,     3.10,2, -999.000,5, -999.000,5, -999.000,9,-999.0000,9,  -999.00,9,   -999.0,9,   -999.0,9,  -999.00,9,-999.0000,-999.000,  3.2626,-999.000
      325023_1,  P14N,    16,  1,     22,     22,2,19930710,1004, 52.0683,-179.3835, 2907,    714.3,   3.1993,  34.2094,2,  34.2084,2,   -999.0,9,     27.9,2,   133.09,2,    43.60,2,     0.01,2,     3.11,2, -999.000,5, -999.000,5, -999.000,9,-999.0000,9,  -999.00,9,   -999.0,9,   -999.0,9,  -999.00,9,-999.0000,-999.000,  3.1516,-999.000
      325023_1,  P14N,    16,  1,     21,     21,2,19930710,1004, 52.0683,-179.3835, 2907,    815.6,   3.0292,  34.2762,2,  34.2754,2,   -999.0,9,     25.4,2,   140.89,2,    43.88,2,     0.00,2,     3.13,2, -999.000,5, -999.000,5, -999.000,9,-999.0000,9,  -999.00,9,   -999.0,9,   -999.0,9,  -999.00,9,-999.0000,-999.000,  2.9751,-999.000
      325023_1,  P14N,    16,  1,     20,     20,2,19930710,1004, 52.0683,-179.3835, 2907,    917.2,   2.9518,  34.3043,2,  34.3028,2,   -999.0,9,     24.3,2,   145.12,2,    43.92,2,     0.00,2,     3.13,2, -999.000,5, -999.000,5, -999.000,9,-999.0000,9,  -999.00,9,   -999.0,9,   -999.0,9,  -999.00,9,-999.0000,-999.000,  2.8907,-999.000
      325023_1,  P14N,    16,  1,     19,     19,2,19930710,1004, 52.0683,-179.3835, 2907,   1018.6,   2.8285,  34.3479,2,  34.3476,2,   -999.0,9,     22.6,2,   151.27,2,    43.91,2,     0.00,2,     3.14,2, -999.000,5, -999.000,5, -999.000,9,-999.0000,9,  -999.00,9,   -999.0,9,   -999.0,9,  -999.00,9,-999.0000,-999.000,  2.7609,-999.000
      325023_1,  P14N,    16,  1,     18,     18,2,19930710,1004, 52.0683,-179.3835, 2907,   1119.9,   2.7386,  34.3682,2,  34.3672,2,   -999.0,9,     26.3,2,   154.56,2,    43.57,2,     0.00,2,     3.12,2, -999.000,5, -999.000,5, -999.000,9,-999.0000,9,  -999.00,9,   -999.0,9,   -999.0,9,  -999.00,9,-999.0000,-999.000,  2.6641,-999.000
      325023_1,  P14N,    16,  1,     17,     17,2,19930710,1004, 52.0683,-179.3835, 2907,   1220.8,   2.6830,  34.3893,2,  34.3889,2,   -999.0,9,     23.8,2,   159.06,2,    43.80,2,     0.00,2,     3.13,2, -999.000,5, -999.000,5, -999.000,9,-999.0000,9,  -999.00,9,   -999.0,9,   -999.0,9,  -999.00,9,-999.0000,-999.000,  2.6013,-999.000
      325023_1,  P14N,    16,  1,     16,     16,2,19930710,1004, 52.0683,-179.3835, 2907,   1318.0,   2.5885,  34.4158,2,  34.4146,2,   -999.0,9,     25.0,2,   163.08,2,    43.75,2,     0.00,2,     3.13,2, -999.000,5, -999.000,5, -999.000,9,-999.0000,9,  -999.00,9,   -999.0,9,   -999.0,9,  -999.00,9,-999.0000,-999.000,  2.5002,-999.000
      325023_1,  P14N,    16,  1,     15,     15,2,19930710,1004, 52.0683,-179.3835, 2907,   1417.2,   2.4891,  34.4455,2,  34.4454,2,   -999.0,9,     23.2,2,   168.33,2,    43.84,3,     0.00,2,     3.15,3, -999.000,5, -999.000,5, -999.000,9,-999.0000,9,  -999.00,9,   -999.0,9,   -999.0,9,  -999.00,9,-999.0000,-999.000,  2.3940,-999.000
      325023_1,  P14N,    16,  1,     14,     14,2,19930710,1004, 52.0683,-179.3835, 2907,   1517.0,   2.3222,  34.4833,2,  34.4824,2,   -999.0,9,     29.3,2,   176.30,2,    43.36,2,     0.00,2,     3.12,2, -999.000,5, -999.000,5, -999.000,9,-999.0000,9,  -999.00,9,   -999.0,9,   -999.0,9,  -999.00,9,-999.0000,-999.000,  2.2211,-999.000
      325023_1,  P14N,    16,  1,     13,     13,2,19930710,1004, 52.0683,-179.3835, 2907,   1619.2,   2.2157,  34.5080,2,  34.5083,2,   -999.0,9,     34.0,2,   182.59,2,    42.94,2,     0.00,2,     3.11,2, -999.000,5, -999.000,5, -999.000,9,-999.0000,9,  -999.00,9,   -999.0,9,   -999.0,9,  -999.00,9,-999.0000,-999.000,  2.1077,-999.000
      325023_1,  P14N,    16,  1,     12,     12,2,19930710,1004, 52.0683,-179.3835, 2907,   1721.1,   2.1052,  34.5327,2,  34.5324,2,   -999.0,9,     39.6,2,   188.17,2,    42.51,2,     0.00,2,     3.10,2, -999.000,5, -999.000,5, -999.000,9,-999.0000,9,  -999.00,9,   -999.0,9,   -999.0,9,  -999.00,9,-999.0000,-999.000,  1.9904,-999.000
      325023_1,  P14N,    16,  1,     11,     11,2,19930710,1004, 52.0683,-179.3835, 2907,   1823.1,   2.0209,  34.5516,2,  34.5514,2,   -999.0,9,     45.2,2,   192.29,2,    42.05,2,     0.00,2,     3.08,2, -999.000,5, -999.000,5, -999.000,9,-999.0000,9,  -999.00,9,   -999.0,9,   -999.0,9,  -999.00,9,-999.0000,-999.000,  1.8990,-999.000
      325023_1,  P14N,    16,  1,     10,     10,2,19930710,1004, 52.0683,-179.3835, 2907,   1925.6,   1.9592,  34.5661,2,  34.5659,2,   -999.0,9,     48.8,2,   195.67,2,    41.71,2,     0.00,2,     3.07,2, -999.000,5, -999.000,5, -999.000,9,-999.0000,9,  -999.00,9,   -999.0,9,   -999.0,9,  -999.00,9,-999.0000,-999.000,  1.8297,-999.000
      325023_1,  P14N,    16,  1,      9,      9,2,19930710,1004, 52.0683,-179.3835, 2907,   2028.4,   1.8924,  34.5812,2,  34.5812,2,   -999.0,9,     53.4,2,   200.81,2,    41.48,2,     0.00,2,     3.06,2, -999.000,5, -999.000,5, -999.000,9,-999.0000,9,  -999.00,9,   -999.0,9,   -999.0,9,  -999.00,9,-999.0000,-999.000,  1.7554,-999.000
      325023_1,  P14N,    16,  1,      8,      8,2,19930710,1004, 52.0683,-179.3835, 2907,   2131.1,   1.8476,  34.5924,2,  34.5927,2,   -999.0,9,     56.8,2,   203.97,2,    41.10,2,     0.00,2,     3.05,2, -999.000,5, -999.000,5, -999.000,9,-999.0000,9,  -999.00,9,   -999.0,9,   -999.0,9,  -999.00,9,-999.0000,-999.000,  1.7027,-999.000
      325023_1,  P14N,    16,  1,      7,      7,2,19930710,1004, 52.0683,-179.3835, 2907,   2233.9,   1.7940,  34.6043,2,  34.6043,2,   -999.0,9,     62.3,2,   206.88,2,    40.73,2,     0.00,2,     3.03,2, -999.000,5, -999.000,5, -999.000,9,-999.0000,9,  -999.00,9,   -999.0,9,   -999.0,9,  -999.00,9,-999.0000,-999.000,  1.6411,-999.000
      325023_1,  P14N,    16,  1,      6,      6,2,19930710,1004, 52.0683,-179.3835, 2907,   2336.5,   1.7611,  34.6121,2,  34.6123,2,   -999.0,9,     66.0,2,   209.30,2,    40.44,2,     0.00,2,     3.02,2, -999.000,5, -999.000,5, -999.000,9,-999.0000,9,  -999.00,9,   -999.0,9,   -999.0,9,  -999.00,9,-999.0000,-999.000,  1.5999,-999.000
      325023_1,  P14N,    16,  1,      5,      5,2,19930710,1004, 52.0683,-179.3835, 2907,   2439.9,   1.7386,  34.6180,2,  34.6182,2,   -999.0,9,     69.1,2,   210.71,2,    40.21,2,     0.00,2,     3.01,2, -999.000,5, -999.000,5, -999.000,9,-999.0000,9,  -999.00,9,   -999.0,9,   -999.0,9,  -999.00,9,-999.0000,-999.000,  1.5687,-999.000
      325023_1,  P14N,    16,  1,      4,      4,2,19930710,1004, 52.0683,-179.3835, 2907,   2543.7,   1.7206,  34.6232,2,  34.6250,2,   -999.0,9,     71.4,2,   211.87,2,    39.97,2,     0.00,2,     3.00,2, -999.000,5, -999.000,5, -999.000,9,-999.0000,9,  -999.00,9,   -999.0,9,   -999.0,9,  -999.00,9,-999.0000,-999.000,  1.5418,-999.000
      325023_1,  P14N,    16,  1,      3,      3,2,19930710,1004, 52.0683,-179.3835, 2907,   2646.9,   1.6489,  34.6381,2,  34.6384,2,   -999.0,9,     80.3,2,   216.33,2,    39.27,2,     0.00,2,     2.97,2, -999.000,5, -999.000,5, -999.000,9,-999.0000,9,  -999.00,9,   -999.0,9,   -999.0,9,  -999.00,9,-999.0000,-999.000,  1.4620,-999.000
      325023_1,  P14N,    16,  1,      2,      2,2,19930710,1004, 52.0683,-179.3835, 2907,   2853.1,   1.6071,  34.6488,2,  34.6490,2,   -999.0,9,     86.9,2,   219.79,2,    38.76,2,     0.00,2,     2.95,2, -999.000,5, -999.000,5, -999.000,9,-999.0000,9,  -999.00,9,   -999.0,9,   -999.0,9,  -999.00,9,-999.0000,-999.000,  1.4020,-999.000
      325023_1,  P14N,    16,  1,      1,      1,2,19930710,1004, 52.0683,-179.3835, 2907,   3006.5,   1.6150,  34.6503,2,  34.6505,2,   -999.0,9,     87.7,2,   220.45,2,    38.11,2,     0.00,2,     2.95,2, -999.000,5, -999.000,5, -999.000,9,-999.0000,9,  -999.00,9,   -999.0,9,   -999.0,9,  -999.00,9,-999.0000,-999.000,  1.3952,-999.000