BOTTLE,20131125MIRCJHATS
EXPOCODE,SECT_ID,STNNBR,CASTNO,SAMPNO,BTLNBR,BTLNBR_FLAG_W,DATE,TIME,LATITUDE,LONGITUDE,DEPTH,CTDPRS,CTDTMP,CTDSAL,CTDSAL_FLAG_W,SALNTY,SALNTY_FLAG_W,CTDOXY,CTDOXY_FLAG_W,OXYGEN,OXYGEN_FLAG_W,SILCAT,SILCAT_FLAG_W,NITRAT,NITRAT_FLAG_W,NITRIT,NITRIT_FLAG_W,PHSPHT,PHSPHT_FLAG_W,CFC-11,CFC-11_FLAG_W,CFC-12,CFC-12_FLAG_W,TRITUM,TRITUM_FLAG_W,HELIUM,HELIUM_FLAG_W,DELHE3,DELHE3_FLAG_W,TCARBN,TCARBN_FLAG_W,ALKALI,ALKALI_FLAG_W,PH,PH_FLAG_W,HELIER,DELHER,THETA,TRITER
,,,,,,,,,,,,DBAR,ITS-90,PSS-78,,PSS-78,,UMOL/KG,,UMOL/KG,,UMOL/KG,,UMOL/KG,,UMOL/KG,,UMOL/KG,,PMOL/KG,,PMOL/KG,,TU,,NMOL/KG,,PERCNT,,UMOL/KG,,UMOL/KG,,25_DEG,,NMOL/KG,PERCNT,DEG C,TU
      325023_1,  P14N,    24,  1,     36,     36,2,19930712,0236, 50.2390, 179.1315, 6861,      3.1,   7.8624,  32.7273,2,  32.7291,2,   -999.0,9,    313.5,2,    30.42,2,    16.44,2,     0.18,2,     1.49,2, -999.000,5, -999.000,5, -999.000,9,-999.0000,9,  -999.00,9,   -999.0,9,   -999.0,9,  -999.00,9,-999.0000,-999.000,  7.8621,-999.000
      325023_1,  P14N,    24,  1,     35,     35,2,19930712,0236, 50.2390, 179.1315, 6861,     42.9,   6.0241,  32.7701,2,  32.7681,2,   -999.0,9,    317.1,2,    37.10,2,    18.79,2,     0.20,2,     1.67,2, -999.000,5, -999.000,5, -999.000,9,-999.0000,9,  -999.00,9,   -999.0,9,   -999.0,9,  -999.00,9,-999.0000,-999.000,  6.0206,-999.000
      325023_1,  P14N,    24,  1,     34,     34,2,19930712,0236, 50.2390, 179.1315, 6861,     73.2,   3.6056,  32.8544,2,  32.8533,2,   -999.0,9,    318.8,2,    43.21,2,    22.05,2,     0.52,2,     1.92,2, -999.000,5, -999.000,5, -999.000,9,-999.0000,9,  -999.00,9,   -999.0,9,   -999.0,9,  -999.00,9,-999.0000,-999.000,  3.6010,-999.000
      325023_1,  P14N,    24,  1,     33,     33,2,19930712,0236, 50.2390, 179.1315, 6861,    103.6,   3.1370,  32.9131,2,  32.9135,2,   -999.0,9,    307.0,2,    45.85,2,    24.81,2,     0.03,2,     2.01,2, -999.000,5, -999.000,5,    1.896,2,-999.0000,9,  -999.00,9,   -999.0,9,   -999.0,9,  -999.00,9,-999.0000,-999.000,  3.1309,   0.019
      325023_1,  P14N,    24,  1,     32,     32,2,19930712,0236, 50.2390, 179.1315, 6861,    133.7,   3.1963,  33.0774,2,  33.0718,2,   -999.0,9,    263.4,2,    52.92,2,    28.09,2,     0.02,2,     2.21,2, -999.000,5, -999.000,5, -999.000,9,-999.0000,9,  -999.00,9,   -999.0,9,   -999.0,9,  -999.00,9,-999.0000,-999.000,  3.1883,-999.000
      325023_1,  P14N,    24,  1,     31,     31,2,19930712,0236, 50.2390, 179.1315, 6861,    163.8,   3.4873,  33.4494,2,  33.4550,2,   -999.0,9,    151.5,2,    71.58,2,    35.97,2,     0.02,2,     2.69,2, -999.000,5, -999.000,5, -999.000,9,-999.0000,9,  -999.00,9,   -999.0,9,   -999.0,9,  -999.00,9,-999.0000,-999.000,  3.4769,-999.000
      325023_1,  P14N,    24,  1,     30,     30,2,19930712,0236, 50.2390, 179.1315, 6861,    213.7,   3.7595,  33.8567,2,  33.8564,2,   -999.0,9,     38.7,2,    93.65,2,    43.83,2,     0.01,2,     3.16,2, -999.000,5, -999.000,5, -999.000,9,-999.0000,9,  -999.00,9,   -999.0,9,   -999.0,9,  -999.00,9,-999.0000,-999.000,  3.7453,-999.000
      325023_1,  P14N,    24,  1,     29,     29,2,19930712,0236, 50.2390, 179.1315, 6861,    263.8,   3.7638,  33.9780,2,  33.9758,2,   -999.0,9,     18.0,2,   103.18,2,    44.75,2,     0.00,2,     3.22,2, -999.000,5, -999.000,5, -999.000,9,-999.0000,9,  -999.00,9,   -999.0,9,   -999.0,9,  -999.00,9,-999.0000,-999.000,  3.7461,-999.000
      325023_1,  P14N,    24,  1,     28,     28,2,19930712,0236, 50.2390, 179.1315, 6861,    313.6,   3.6837,  34.0809,2,  34.0809,2,   -999.0,9,     16.7,2,   112.96,2,    44.28,2,     0.00,2,     3.19,2, -999.000,5, -999.000,5,    1.963,2,-999.0000,9,  -999.00,9,   -999.0,9,   -999.0,9,  -999.00,9,-999.0000,-999.000,  3.6626,   0.020
      325023_1,  P14N,    24,  1,     27,     27,2,19930712,0236, 50.2390, 179.1315, 6861,    414.8,   3.3724,  34.2293,2,  34.2291,2,   -999.0,9,     14.1,2,   129.21,2,    44.05,2,     0.00,2,     3.17,2, -999.000,5, -999.000,5, -999.000,9,-999.0000,9,  -999.00,9,   -999.0,9,   -999.0,9,  -999.00,9,-999.0000,-999.000,  3.3451,-999.000
      325023_1,  P14N,    24,  1,     26,     26,2,19930712,0236, 50.2390, 179.1315, 6861,    515.4,   3.1108,  34.3069,2,  34.3070,2,   -999.0,9,     14.7,2,   139.82,2,    43.99,2,     0.00,2,     3.17,2, -999.000,5, -999.000,5,    1.332,2,-999.0000,9,  -999.00,9,   -999.0,9,   -999.0,9,  -999.00,9,-999.0000,-999.000,  3.0775,   0.013
      325023_1,  P14N,    24,  1,     25,     25,2,19930712,0236, 50.2390, 179.1315, 6861,    616.9,   2.8958,  34.3593,2,  34.3589,2,   -999.0,9,     16.6,2,   147.48,2,    43.94,2,     0.00,2,     3.17,2, -999.000,5, -999.000,5, -999.000,9,-999.0000,9,  -999.00,9,   -999.0,9,   -999.0,9,  -999.00,9,-999.0000,-999.000,  2.8564,-999.000
      325023_1,  P14N,    24,  1,     24,     24,2,19930712,0236, 50.2390, 179.1315, 6861,    718.4,   2.7517,  34.3932,2,  34.3979,2,   -999.0,9,     17.9,2,   152.75,2,    43.94,2,     0.00,2,     3.15,2, -999.000,5, -999.000,5,    0.587,2,-999.0000,9,  -999.00,9,   -999.0,9,   -999.0,9,  -999.00,9,-999.0000,-999.000,  2.7061,   0.008
      325023_1,  P14N,    24,  1,     23,     23,2,19930712,0236, 50.2390, 179.1315, 6861,    819.8,   2.6257,  34.4229,2,  34.4232,2,   -999.0,9,     19.5,2,   156.80,2,    43.80,2,     0.00,2,     3.15,2, -999.000,5, -999.000,5, -999.000,9,-999.0000,9,  -999.00,9,   -999.0,9,   -999.0,9,  -999.00,9,-999.0000,-999.000,  2.5737,-999.000
      325023_1,  P14N,    24,  1,     22,     22,2,19930712,0236, 50.2390, 179.1315, 6861,    920.8,   2.4574,  34.4597,2,  34.4592,2,   -999.0,9,     24.3,2,   161.71,2,    43.66,2,     0.00,2,     3.14,2, -999.000,5, -999.000,5,    0.347,2,-999.0000,9,  -999.00,9,   -999.0,9,   -999.0,9,  -999.00,9,-999.0000,-999.000,  2.3995,   0.008
      325023_1,  P14N,    24,  1,     21,     21,2,19930712,0236, 50.2390, 179.1315, 6861,   1021.8,   2.3415,  34.4852,2,  34.4855,2,   -999.0,9,     28.5,2,   164.55,2,    43.42,2,     0.00,2,     3.11,2, -999.000,5, -999.000,5, -999.000,9,-999.0000,9,  -999.00,9,   -999.0,9,   -999.0,9,  -999.00,9,-999.0000,-999.000,  2.2772,-999.000
      325023_1,  P14N,    24,  1,     20,     20,2,19930712,0236, 50.2390, 179.1315, 6861,   1224.5,   2.1376,  34.5306,2,  34.5302,2,   -999.0,9,     40.0,2,   169.09,2,    42.82,2,     0.00,2,     3.05,2, -999.000,5, -999.000,5,    0.124,2,-999.0000,9,  -999.00,9,   -999.0,9,   -999.0,9,  -999.00,9,-999.0000,-999.000,  2.0605,   0.008
      325023_1,  P14N,    24,  1,     19,     19,2,19930712,0236, 50.2390, 179.1315, 6861,   1427.6,   1.9915,  34.5625,2,  34.5625,2,   -999.0,9,     51.5,2,   171.54,2,    42.12,2,     0.00,2,     3.00,2, -999.000,5, -999.000,5, -999.000,9,-999.0000,9,  -999.00,9,   -999.0,9,   -999.0,9,  -999.00,9,-999.0000,-999.000,  1.9009,-999.000
      325023_1,  P14N,    24,  1,     18,     18,2,19930712,0236, 50.2390, 179.1315, 6861,   1631.2,   1.8620,  34.5891,2,  34.5894,2,   -999.0,9,     66.9,2,   172.31,2,    41.39,2,     0.00,2,     2.95,2, -999.000,5, -999.000,5, -999.000,9,-999.0000,9,  -999.00,9,   -999.0,9,   -999.0,9,  -999.00,9,-999.0000,-999.000,  1.7573,-999.000
      325023_1,  P14N,    24,  1,     17,     17,2,19930712,0236, 50.2390, 179.1315, 6861,   1834.9,   1.7691,  34.6078,2,  34.6080,2,   -999.0,9,     78.1,2,   172.66,2,    40.65,2,     0.00,2,     2.90,2, -999.000,5, -999.000,5,    0.008,2,-999.0000,9,  -999.00,9,   -999.0,9,   -999.0,9,  -999.00,9,-999.0000,-999.000,  1.6496,   0.008
      325023_1,  P14N,    24,  1,     16,     16,2,19930712,0236, 50.2390, 179.1315, 6861,   2039.0,   1.6843,  34.6247,2,  34.6245,2,   -999.0,9,     87.8,2,   171.95,2,    39.96,2,     0.00,2,     2.85,2, -999.000,5, -999.000,5, -999.000,9,-999.0000,9,  -999.00,9,   -999.0,9,   -999.0,9,  -999.00,9,-999.0000,-999.000,  1.5495,-999.000
      325023_1,  P14N,    24,  1,     15,     15,2,19930712,0236, 50.2390, 179.1315, 6861,   2243.1,   1.6359,  34.6349,2,  34.6351,2,   -999.0,9,     96.0,2,   171.03,2,    39.41,2,     0.00,2,     2.81,2, -999.000,5, -999.000,5,    0.025,2,-999.0000,9,  -999.00,9,   -999.0,9,   -999.0,9,  -999.00,9,-999.0000,-999.000,  1.4848,   0.008
      325023_1,  P14N,    24,  1,     14,     14,2,19930712,0236, 50.2390, 179.1315, 6861,   2447.9,   1.5880,  34.6444,2,  34.6449,2,   -999.0,9,    104.8,2,   169.69,2,    38.91,2,     0.00,2,     2.77,2, -999.000,5, -999.000,5,    0.003,2,-999.0000,9,  -999.00,9,   -999.0,9,   -999.0,9,  -999.00,9,-999.0000,-999.000,  1.4201,   0.008
      325023_1,  P14N,    24,  1,     13,     13,2,19930712,0236, 50.2390, 179.1315, 6861,   2652.1,   1.5448,  34.6531,2,  34.6539,2,   -999.0,9,    113.7,2,   168.14,2,    38.27,2,     0.00,2,     2.72,2, -999.000,5, -999.000,5,    0.004,2,-999.0000,9,  -999.00,9,   -999.0,9,   -999.0,9,  -999.00,9,-999.0000,-999.000,  1.3594,   0.008
      325023_1,  P14N,    24,  1,     12,     12,2,19930712,0236, 50.2390, 179.1315, 6861,   2856.4,   1.5114,  34.6601,2,  34.6604,2,   -999.0,9,    121.0,2,   166.39,2,    37.81,2,     0.00,2,     2.68,2, -999.000,5, -999.000,5, -999.000,9,-999.0000,9,  -999.00,9,   -999.0,9,   -999.0,9,  -999.00,9,-999.0000,-999.000,  1.3079,-999.000
      325023_1,  P14N,    24,  1,     11,     11,2,19930712,0236, 50.2390, 179.1315, 6861,   3061.6,   1.4789,  34.6670,2,  34.6682,2,   -999.0,9,    128.7,2,   164.64,2,    37.35,2,     0.00,2,     2.65,2, -999.000,5, -999.000,5,    0.002,2,-999.0000,9,  -999.00,9,   -999.0,9,   -999.0,9,  -999.00,9,-999.0000,-999.000,  1.2567,   0.008
      325023_1,  P14N,    24,  1,     10,     10,2,19930712,0236, 50.2390, 179.1315, 6861,   3368.4,   1.4452,  34.6751,2,  34.6761,2,   -999.0,9,    138.6,2,   161.65,2,    36.76,2,     0.00,2,     2.60,2, -999.000,5, -999.000,5,    0.004,2,-999.0000,9,  -999.00,9,   -999.0,9,   -999.0,9,  -999.00,9,-999.0000,-999.000,  1.1938,   0.008
      325023_1,  P14N,    24,  1,      9,      9,2,19930712,0236, 50.2390, 179.1315, 6861,   3678.7,   1.4311,  34.6805,2,  34.6814,2,   -999.0,9,    145.5,2,   159.29,2,    36.30,2,     0.00,2,     2.56,2, -999.000,5, -999.000,5,    0.001,2,-999.0000,9,  -999.00,9,   -999.0,9,   -999.0,9,  -999.00,9,-999.0000,-999.000,  1.1484,   0.008
      325023_1,  P14N,    24,  1,      8,      8,2,19930712,0236, 50.2390, 179.1315, 6861,   3987.0,   1.4333,  34.6840,2,  34.6851,2,   -999.0,9,    150.3,2,   157.77,2,    35.93,2,     0.00,2,     2.55,2, -999.000,5, -999.000,5,    0.001,2,-999.0000,9,  -999.00,9,   -999.0,9,   -999.0,9,  -999.00,9,-999.0000,-999.000,  1.1177,   0.008
      325023_1,  P14N,    24,  1,      7,      7,2,19930712,0236, 50.2390, 179.1315, 6861,   4295.9,   1.4471,  34.6866,2,  34.6867,2,   -999.0,9,    153.5,2,   156.25,2,    35.75,2,     0.00,2,     2.52,2, -999.000,5, -999.000,5,    0.001,2,-999.0000,9,  -999.00,9,   -999.0,9,   -999.0,9,  -999.00,9,-999.0000,-999.000,  1.0970,   0.008
      325023_1,  P14N,    24,  1,      6,      6,2,19930712,0236, 50.2390, 179.1315, 6861,   4604.9,   1.4678,  34.6881,2,  34.6888,2,   -999.0,9,    155.8,2,   154.33,2,    35.52,2,     0.00,2,     2.51,2, -999.000,5, -999.000,5,    0.001,2,-999.0000,9,  -999.00,9,   -999.0,9,   -999.0,9,  -999.00,9,-999.0000,-999.000,  1.0817,   0.008
      325023_1,  P14N,    24,  1,      5,      5,2,19930712,0236, 50.2390, 179.1315, 6861,   4913.1,   1.4929,  34.6889,2,  34.6900,2,   -999.0,9,    158.2,2,   152.61,2,    35.43,2,     0.00,2,     2.50,2, -999.000,5, -999.000,5,    0.001,2,-999.0000,9,  -999.00,9,   -999.0,9,   -999.0,9,  -999.00,9,-999.0000,-999.000,  1.0694,   0.008
      325023_1,  P14N,    24,  1,      4,      4,2,19930712,0236, 50.2390, 179.1315, 6861,   5221.5,   1.5245,  34.6898,2,  34.6906,2,   -999.0,9,    159.2,2,   152.13,2,    35.38,2,     0.00,2,     2.50,2, -999.000,5, -999.000,5,    0.001,2,-999.0000,9,  -999.00,9,   -999.0,9,   -999.0,9,  -999.00,9,-999.0000,-999.000,  1.0621,   0.008
      325023_1,  P14N,    24,  1,      3,      3,2,19930712,0236, 50.2390, 179.1315, 6861,   5532.0,   1.5650,  34.6895,2,  34.6905,2,   -999.0,9,    159.2,2,   151.85,2,    35.29,2,     0.00,2,     2.49,2, -999.000,5, -999.000,5,    0.001,2,-999.0000,9,  -999.00,9,   -999.0,9,   -999.0,9,  -999.00,9,-999.0000,-999.000,  1.0620,   0.008
      325023_1,  P14N,    24,  1,      2,      2,2,19930712,0236, 50.2390, 179.1315, 6861,   5842.0,   1.6070,  34.6897,2,  34.6960,4,   -999.0,9,    159.2,2,   151.78,2,    35.33,2,     0.00,2,     2.49,2, -999.000,5, -999.000,5,    0.005,2,-999.0000,9,  -999.00,9,   -999.0,9,   -999.0,9,  -999.00,9,-999.0000,-999.000,  1.0620,   0.008
      325023_1,  P14N,    24,  1,      1,      1,2,19930712,0236, 50.2390, 179.1315, 6861,   6152.5,   1.6500,  34.6899,2,  34.6947,4,   -999.0,9,    159.3,2,   151.71,2,    35.33,2,     0.00,2,     2.49,2, -999.000,5, -999.000,5,    0.001,2,-999.0000,9,  -999.00,9,   -999.0,9,   -999.0,9,  -999.00,9,-999.0000,-999.000,  1.0617,   0.008