BOTTLE,20131125MIRCJHATS
EXPOCODE,SECT_ID,STNNBR,CASTNO,SAMPNO,BTLNBR,BTLNBR_FLAG_W,DATE,TIME,LATITUDE,LONGITUDE,DEPTH,CTDPRS,CTDTMP,CTDSAL,CTDSAL_FLAG_W,SALNTY,SALNTY_FLAG_W,CTDOXY,CTDOXY_FLAG_W,OXYGEN,OXYGEN_FLAG_W,SILCAT,SILCAT_FLAG_W,NITRAT,NITRAT_FLAG_W,NITRIT,NITRIT_FLAG_W,PHSPHT,PHSPHT_FLAG_W,CFC-11,CFC-11_FLAG_W,CFC-12,CFC-12_FLAG_W,TRITUM,TRITUM_FLAG_W,HELIUM,HELIUM_FLAG_W,DELHE3,DELHE3_FLAG_W,TCARBN,TCARBN_FLAG_W,ALKALI,ALKALI_FLAG_W,PH,PH_FLAG_W,HELIER,DELHER,THETA,TRITER
,,,,,,,,,,,,DBAR,ITS-90,PSS-78,,PSS-78,,UMOL/KG,,UMOL/KG,,UMOL/KG,,UMOL/KG,,UMOL/KG,,UMOL/KG,,PMOL/KG,,PMOL/KG,,TU,,NMOL/KG,,PERCNT,,UMOL/KG,,UMOL/KG,,25_DEG,,NMOL/KG,PERCNT,DEG C,TU
      325024_1,  P14N,   163,  1,     36,     36,2,19930823,1240, -5.0035, 179.0007, 5475,      2.9,  29.8133,  34.3182,2,  34.3237,2,   -999.0,9,    194.6,2,     2.50,2,     0.03,2,     0.00,2,     0.19,2,    1.536,2,    0.849,2, -999.000,9,-999.0000,9,    -1.37,2,   -999.0,9,   -999.0,9,  -999.00,9,-999.0000,   0.150, 29.8126,-999.000
      325024_1,  P14N,   163,  1,     35,     35,2,19930823,1240, -5.0035, 179.0007, 5475,     31.5,  29.8065,  34.3228,2,  34.3307,2,   -999.0,9,    194.7,2,     2.24,2,     0.03,2,     0.00,2,     0.20,2,    1.502,2,    0.840,2, -999.000,9,-999.0000,9,  -999.00,9,   -999.0,9,   -999.0,9,  -999.00,9,-999.0000,-999.000, 29.7988,-999.000
      325024_1,  P14N,   163,  1,     34,     34,2,19930823,1240, -5.0035, 179.0007, 5475,     61.2,  29.7608,  34.3290,2,  34.3347,2,   -999.0,9,    194.8,2,     1.99,2,     0.00,2,     0.00,2,     0.20,2,    1.553,2,    0.836,2, -999.000,9,-999.0000,9,  -999.00,9,   -999.0,9,   -999.0,9,  -999.00,9,-999.0000,-999.000, 29.7457,-999.000
      325024_1,  P14N,   163,  1,     33,     33,2,19930823,1240, -5.0035, 179.0007, 5475,    100.7,  28.6562,  35.3420,2,  35.3575,2,   -999.0,9,    179.2,2,     1.93,2,     1.96,2,     0.62,2,     0.47,2,    1.588,2,    0.870,2, -999.000,9,-999.0000,9,  -999.00,9,   -999.0,9,   -999.0,9,  -999.00,9,-999.0000,-999.000, 28.6320,-999.000
      325024_1,  P14N,   163,  1,     32,     32,2,19930823,1240, -5.0035, 179.0007, 5475,    120.1,  27.4966,  35.5461,2,  35.5544,2,   -999.0,9,    159.1,2,     2.27,2,     4.27,2,     1.69,2,     0.68,2,    1.635,2,    0.866,2, -999.000,9,-999.0000,9,  -999.00,9,   -999.0,9,   -999.0,9,  -999.00,9,-999.0000,-999.000, 27.4686,-999.000
      325024_1,  P14N,   163,  1,     31,     31,2,19930823,1240, -5.0035, 179.0007, 5475,    152.0,  24.2669,  35.9050,2,  35.8834,2,   -999.0,9,    137.8,2,     2.80,2,     8.68,2,     0.20,2,     0.89,2,    1.734,2,    0.916,2, -999.000,9,-999.0000,9,  -999.00,9,   -999.0,9,   -999.0,9,  -999.00,9,-999.0000,-999.000, 24.2345,-999.000
      325024_1,  P14N,   163,  1,     30,     30,2,19930823,1240, -5.0035, 179.0007, 5475,    202.5,  17.6546,  35.4914,2,  35.4675,2,   -999.0,9,    108.6,2,     7.24,2,    15.01,2,     0.01,2,     1.30,2,    1.339,6,    0.691,6, -999.000,9,-999.0000,9,  -999.00,9,   -999.0,9,   -999.0,9,  -999.00,9,-999.0000,-999.000, 17.6202,-999.000
      325024_1,  P14N,   163,  1,     29,     29,2,19930823,1240, -5.0035, 179.0007, 5475,    252.7,  13.4052,  35.0464,2,  34.9821,2,   -999.0,9,     86.7,2,    17.17,2,    23.73,2,     0.00,2,     1.81,2,    0.558,2,    0.296,2, -999.000,9,-999.0000,9,  -999.00,9,   -999.0,9,   -999.0,9,  -999.00,9,-999.0000,-999.000, 13.3696,-999.000
      325024_1,  P14N,   163,  1,     28,     28,2,19930823,1240, -5.0035, 179.0007, 5475,    302.9,  10.8032,  34.8087,2,  34.8063,2,   -999.0,9,     91.0,2,    21.23,2,    26.91,2,     0.00,2,     1.97,2,    0.285,2,    0.145,2, -999.000,9,-999.0000,9,  -999.00,9,   -999.0,9,   -999.0,9,  -999.00,9,-999.0000,-999.000, 10.7662,-999.000
      325024_1,  P14N,   163,  1,     27,     27,2,19930823,1240, -5.0035, 179.0007, 5475,    402.4,   9.2235,  34.6890,2,  34.6871,2,   -999.0,9,     98.2,2,    26.65,2,    29.38,2,     0.00,2,     2.11,2,    0.165,2,    0.085,2, -999.000,9,-999.0000,9,  -999.00,9,   -999.0,9,   -999.0,9,  -999.00,9,-999.0000,-999.000,  9.1787,-999.000
      325024_1,  P14N,   163,  1,     26,     26,2,19930823,1240, -5.0035, 179.0007, 5475,    502.6,   8.1838,  34.6271,2,  34.6271,2,   -999.0,9,     82.1,2,    34.02,2,    33.38,2,     0.00,2,     2.35,2,    0.063,2,    0.033,2, -999.000,9,-999.0000,9,  -999.00,9,   -999.0,9,   -999.0,9,  -999.00,9,-999.0000,-999.000,  8.1315,-999.000
      325024_1,  P14N,   163,  1,     25,     25,2,19930823,1240, -5.0035, 179.0007, 5475,    602.6,   7.1418,  34.5735,2,  34.5637,2,   -999.0,9,    101.3,2,    40.03,2,    33.86,2,     0.00,2,     2.39,2,    0.045,2,    0.023,2, -999.000,9,-999.0000,9,  -999.00,9,   -999.0,9,   -999.0,9,  -999.00,9,-999.0000,-999.000,  7.0835,-999.000
      325024_1,  P14N,   163,  1,     24,     24,2,19930823,1240, -5.0035, 179.0007, 5475,    707.4,   6.3256,  34.5431,2,  34.5418,2,   -999.0,9,     97.6,2,    48.78,2,    35.80,2,     0.00,2,     2.53,2,    0.015,2,    0.007,2, -999.000,9,-999.0000,9,  -999.00,9,   -999.0,9,   -999.0,9,  -999.00,9,-999.0000,-999.000,  6.2610,-999.000
      325024_1,  P14N,   163,  1,     23,     23,2,19930823,1240, -5.0035, 179.0007, 5475,    807.5,   5.6199,  34.5259,2,  34.5259,2,   -999.0,9,    108.2,2,    56.75,2,    35.94,2,     0.00,2,     2.55,2,    0.014,2,    0.007,2, -999.000,9,-999.0000,9,  -999.00,9,   -999.0,9,   -999.0,9,  -999.00,9,-999.0000,-999.000,  5.5499,-999.000
      325024_1,  P14N,   163,  1,     22,     22,2,19930823,1240, -5.0035, 179.0007, 5475,    907.7,   5.1300,  34.5267,2,  34.5249,2,   -999.0,9,    111.1,2,    64.53,2,    36.21,2,     0.00,2,     2.58,2,    0.006,2,    0.007,2, -999.000,9,-999.0000,9,  -999.00,9,   -999.0,9,   -999.0,9,  -999.00,9,-999.0000,-999.000,  5.0540,-999.000
      325024_1,  P14N,   163,  1,     21,     21,2,19930823,1240, -5.0035, 179.0007, 5475,   1008.1,   4.6517,  34.5365,2,  34.5365,2,   -999.0,9,    100.0,2,    75.28,2,    38.03,2,     0.00,2,     2.70,2,    0.005,2,    0.003,2, -999.000,9,-999.0000,9,  -999.00,9,   -999.0,9,   -999.0,9,  -999.00,9,-999.0000,-999.000,  4.5702,-999.000
      325024_1,  P14N,   163,  1,     20,     20,2,19930823,1240, -5.0035, 179.0007, 5475,   1108.4,   4.1679,  34.5480,2,  34.5471,2,   -999.0,9,    104.3,2,    85.67,2,    38.04,2,     0.00,2,     2.71,2,   -0.001,2,    0.000,2, -999.000,9,-999.0000,9,  -999.00,9,   -999.0,9,   -999.0,9,  -999.00,9,-999.0000,-999.000,  4.0816,-999.000
      325024_1,  P14N,   163,  1,     19,     19,2,19930823,1240, -5.0035, 179.0007, 5475,   1208.9,   3.7168,  34.5628,2,  34.5612,2,   -999.0,9,    110.1,2,    94.90,2,    37.69,2,     0.00,2,     2.70,2,    0.004,4,    0.003,2, -999.000,9,-999.0000,9,  -999.00,9,   -999.0,9,   -999.0,9,  -999.00,9,-999.0000,-999.000,  3.6259,-999.000
      325024_1,  P14N,   163,  1,     18,     18,2,19930823,1240, -5.0035, 179.0007, 5475,   1414.9,   3.2234,  34.5844,2,  34.5835,2,   -999.0,9,    112.2,2,   107.17,2,    37.83,2,     0.00,2,     2.71,2, -999.000,5, -999.000,5, -999.000,9,-999.0000,9,  -999.00,9,   -999.0,9,   -999.0,9,  -999.00,9,-999.0000,-999.000,  3.1201,-999.000
      325024_1,  P14N,   163,  1,     17,     17,2,19930823,1240, -5.0035, 179.0007, 5475,   1616.1,   2.8092,  34.6051,2,  34.6027,2,   -999.0,9,    114.7,2,   117.12,2,    37.83,2,     0.00,2,     2.71,2, -999.000,5, -999.000,5, -999.000,9,-999.0000,9,  -999.00,9,   -999.0,9,   -999.0,9,  -999.00,9,-999.0000,-999.000,  2.6938,-999.000
      325024_1,  P14N,   163,  1,     16,     16,2,19930823,1240, -5.0035, 179.0007, 5475,   1817.7,   2.4469,  34.6252,2,  34.6231,2,   -999.0,9,    118.2,2,   126.53,2,    37.75,2,     0.00,2,     2.68,2,    0.046,4,    0.011,4, -999.000,9,-999.0000,9,  -999.00,9,   -999.0,9,   -999.0,9,  -999.00,9,-999.0000,-999.000,  2.3193,-999.000
      325024_1,  P14N,   163,  1,     15,     15,2,19930823,1240, -5.0035, 179.0007, 5475,   2025.0,   2.2477,  34.6369,2,  34.6355,2,   -999.0,9,    120.7,2,   132.74,2,    37.66,2,     0.00,2,     2.68,2, -999.000,5, -999.000,5, -999.000,9,-999.0000,9,  -999.00,9,   -999.0,9,   -999.0,9,  -999.00,9,-999.0000,-999.000,  2.1054,-999.000
      325024_1,  P14N,   163,  1,     14,     14,2,19930823,1240, -5.0035, 179.0007, 5475,   2226.7,   2.0883,  34.6461,2,  34.6433,2,   -999.0,9,    125.7,2,   135.50,2,    37.36,2,     0.00,2,     2.64,2, -999.000,5, -999.000,5, -999.000,9,-999.0000,9,  -999.00,9,   -999.0,9,   -999.0,9,  -999.00,9,-999.0000,-999.000,  1.9309,-999.000
      325024_1,  P14N,   163,  1,     13,     13,2,19930823,1240, -5.0035, 179.0007, 5475,   2428.9,   1.9608,  34.6534,2,  34.6519,2,   -999.0,9,    129.4,2,   138.89,2,    37.10,2,     0.00,2,     2.63,2,   -0.001,2,    0.004,2, -999.000,9,-999.0000,9,  -999.00,9,   -999.0,9,   -999.0,9,  -999.00,9,-999.0000,-999.000,  1.7876,-999.000
      325024_1,  P14N,   163,  1,     12,     12,2,19930823,1240, -5.0035, 179.0007, 5475,   2631.4,   1.8477,  34.6601,2,  34.6590,2,   -999.0,9,    133.3,2,   140.85,2,    36.97,2,     0.00,2,     2.60,2, -999.000,5, -999.000,5, -999.000,9,-999.0000,9,  -999.00,9,   -999.0,9,   -999.0,9,  -999.00,9,-999.0000,-999.000,  1.6583,-999.000
      325024_1,  P14N,   163,  1,     11,     11,2,19930823,1240, -5.0035, 179.0007, 5475,   2833.7,   1.7512,  34.6662,2,  34.6649,2,   -999.0,9,    139.2,2,   141.16,2,    36.57,2,     0.00,2,     2.57,2, -999.000,5, -999.000,5, -999.000,9,-999.0000,9,  -999.00,9,   -999.0,9,   -999.0,9,  -999.00,9,-999.0000,-999.000,  1.5448,-999.000
      325024_1,  P14N,   163,  1,     10,     10,2,19930823,1240, -5.0035, 179.0007, 5475,   3041.9,   1.6555,  34.6727,2,  34.6714,2,   -999.0,9,    145.4,2,   141.27,2,    36.27,2,     0.00,2,     2.54,2, -999.000,5, -999.000,5, -999.000,9,-999.0000,9,  -999.00,9,   -999.0,9,   -999.0,9,  -999.00,9,-999.0000,-999.000,  1.4312,-999.000
      325024_1,  P14N,   163,  1,      9,      9,2,19930823,1240, -5.0035, 179.0007, 5475,   3345.9,   1.5483,  34.6800,2,  34.6782,2,   -999.0,9,    153.5,2,   141.58,2,    35.70,2,     0.00,2,     2.50,2,   -0.003,2,    0.002,2, -999.000,9,-999.0000,9,  -999.00,9,   -999.0,9,   -999.0,9,  -999.00,9,-999.0000,-999.000,  1.2965,-999.000
      325024_1,  P14N,   163,  1,      8,      8,2,19930823,1240, -5.0035, 179.0007, 5475,   3651.9,   1.4736,  34.6853,2,  34.6835,2,   -999.0,9,    159.3,2,   140.66,2,    35.40,2,     0.00,2,     2.47,2, -999.000,5, -999.000,5, -999.000,9,-999.0000,9,  -999.00,9,   -999.0,9,   -999.0,9,  -999.00,9,-999.0000,-999.000,  1.1925,-999.000
      325024_1,  P14N,   163,  1,      7,      7,2,19930823,1240, -5.0035, 179.0007, 5475,   3957.1,   1.4201,  34.6899,2,  34.6888,2,   -999.0,9,    166.2,2,   138.51,2,    34.75,2,     0.00,2,     2.43,2, -999.000,5, -999.000,5, -999.000,9,-999.0000,9,  -999.00,9,   -999.0,9,   -999.0,9,  -999.00,9,-999.0000,-999.000,  1.1080,-999.000
      325024_1,  P14N,   163,  1,      6,      6,2,19930823,1240, -5.0035, 179.0007, 5475,   4267.7,   1.3380,  34.6959,2,  34.6957,2,   -999.0,9,    177.4,2,   133.51,2,    33.92,2,     0.00,2,     2.38,2, -999.000,5, -999.000,5, -999.000,9,-999.0000,9,  -999.00,9,   -999.0,9,   -999.0,9,  -999.00,9,-999.0000,-999.000,  0.9943,-999.000
      325024_1,  P14N,   163,  1,      5,      5,2,19930823,1240, -5.0035, 179.0007, 5475,   4573.5,   1.2600,  34.7025,2,  34.7018,2,   -999.0,9,    191.5,2,   124.89,2,    32.79,2,     0.00,2,     2.30,2,   -0.001,2,    0.001,2, -999.000,9,-999.0000,9,  -999.00,9,   -999.0,9,   -999.0,9,  -999.00,9,-999.0000,-999.000,  0.8839,-999.000
      325024_1,  P14N,   163,  1,      4,      4,2,19930823,1240, -5.0035, 179.0007, 5475,   4882.6,   1.2384,  34.7038,2,  34.7037,2,   -999.0,9,    195.3,2,   123.99,2,    32.54,2,     0.00,2,     2.27,2, -999.000,5, -999.000,5, -999.000,9,-999.0000,9,  -999.00,9,   -999.0,9,   -999.0,9,  -999.00,9,-999.0000,-999.000,  0.8269,-999.000
      325024_1,  P14N,   163,  1,      3,      3,2,19930823,1240, -5.0035, 179.0007, 5475,   5192.3,   1.2606,  34.7044,2,  34.7037,2,   -999.0,9,    196.1,2,   123.90,2,    32.54,2,     0.00,2,     2.26,2,    0.001,2,    0.001,2, -999.000,9,-999.0000,9,  -999.00,9,   -999.0,9,   -999.0,9,  -999.00,9,-999.0000,-999.000,  0.8110,-999.000
      325024_1,  P14N,   163,  1,      2,      2,2,19930823,1240, -5.0035, 179.0007, 5475,   5473.3,   1.2916,  34.7046,2,  34.7041,2,   -999.0,9,    196.6,2,   124.21,2,    32.50,2,     0.00,2,     2.26,2, -999.000,5, -999.000,5, -999.000,9,-999.0000,9,  -999.00,9,   -999.0,9,   -999.0,9,  -999.00,9,-999.0000,-999.000,  0.8059,-999.000
      325024_1,  P14N,   163,  1,      1,      1,2,19930823,1240, -5.0035, 179.0007, 5475,   5580.1,   1.3057,  34.7050,2,  34.7043,2,   -999.0,9,    195.3,2,   124.32,2,    32.55,2,     0.00,2,     2.26,2,   -0.001,2,    0.001,2, -999.000,9,-999.0000,9,  -999.00,9,   -999.0,9,   -999.0,9,  -999.00,9,-999.0000,-999.000,  0.8060,-999.000