BOTTLE,20131125MIRCJHATS
EXPOCODE,SECT_ID,STNNBR,CASTNO,SAMPNO,BTLNBR,BTLNBR_FLAG_W,DATE,TIME,LATITUDE,LONGITUDE,DEPTH,CTDPRS,CTDTMP,CTDSAL,CTDSAL_FLAG_W,SALNTY,SALNTY_FLAG_W,CTDOXY,CTDOXY_FLAG_W,OXYGEN,OXYGEN_FLAG_W,SILCAT,SILCAT_FLAG_W,NITRAT,NITRAT_FLAG_W,NITRIT,NITRIT_FLAG_W,PHSPHT,PHSPHT_FLAG_W,CFC-11,CFC-11_FLAG_W,CFC-12,CFC-12_FLAG_W,TRITUM,TRITUM_FLAG_W,HELIUM,HELIUM_FLAG_W,DELHE3,DELHE3_FLAG_W,TCARBN,TCARBN_FLAG_W,ALKALI,ALKALI_FLAG_W,PH,PH_FLAG_W,HELIER,DELHER,THETA,TRITER
,,,,,,,,,,,,DBAR,ITS-90,PSS-78,,PSS-78,,UMOL/KG,,UMOL/KG,,UMOL/KG,,UMOL/KG,,UMOL/KG,,UMOL/KG,,PMOL/KG,,PMOL/KG,,TU,,NMOL/KG,,PERCNT,,UMOL/KG,,UMOL/KG,,25_DEG,,NMOL/KG,PERCNT,DEG C,TU
      325024_1,  P14N,   148,  1,     36,     36,2,19930819,2350, -1.2473, 178.9975, 5447,      3.3,  30.0314,  34.6395,2,  34.6452,2,   -999.0,9,    198.7,2,     2.51,2,     0.03,2,     0.00,2,     0.21,2, -999.000,5, -999.000,5, -999.000,9,-999.0000,9,  -999.00,9,   -999.0,9,   -999.0,9,  -999.00,9,-999.0000,-999.000, 30.0306,-999.000
      325024_1,  P14N,   148,  1,     35,     35,2,19930819,2350, -1.2473, 178.9975, 5447,     38.1,  29.9596,  34.8741,2,  34.8809,2,   -999.0,9,    197.5,2,     2.27,2,     0.03,2,     0.00,2,     0.21,2, -999.000,5, -999.000,5, -999.000,9,-999.0000,9,  -999.00,9,   -999.0,9,   -999.0,9,  -999.00,9,-999.0000,-999.000, 29.9502,-999.000
      325024_1,  P14N,   148,  1,     34,     34,2,19930819,2350, -1.2473, 178.9975, 5447,     68.1,  29.4295,  35.1764,4,  35.2017,2,   -999.0,9,    193.9,2,     2.41,2,     0.00,2,     0.29,2,     0.33,2, -999.000,5, -999.000,5, -999.000,9,-999.0000,9,  -999.00,9,   -999.0,9,   -999.0,9,  -999.00,9,-999.0000,-999.000, 29.4129,-999.000
      325024_1,  P14N,   148,  1,     33,     33,2,19930819,2350, -1.2473, 178.9975, 5447,     98.6,  26.3309,  35.6106,2,  35.6109,2,   -999.0,9,    152.3,2,     2.35,2,     0.00,2,     1.02,2,     0.71,2, -999.000,5, -999.000,5, -999.000,9,-999.0000,9,  -999.00,9,   -999.0,9,   -999.0,9,  -999.00,9,-999.0000,-999.000, 26.3086,-999.000
      325024_1,  P14N,   148,  1,     32,     32,2,19930819,2350, -1.2473, 178.9975, 5447,    128.9,  22.3585,  35.4812,2,  35.4876,2,   -999.0,9,    134.2,2,     3.67,2,     8.22,2,     0.03,2,     0.73,2, -999.000,5, -999.000,5, -999.000,9,-999.0000,9,  -999.00,9,   -999.0,9,   -999.0,9,  -999.00,9,-999.0000,-999.000, 22.3327,-999.000
      325024_1,  P14N,   148,  1,     31,     31,2,19930819,2350, -1.2473, 178.9975, 5447,    159.2,  19.5738,  35.4819,2,  35.4856,2,   -999.0,9,    132.8,2,     4.98,2,    10.56,2,     0.01,2,     0.89,2, -999.000,5, -999.000,5, -999.000,9,-999.0000,9,  -999.00,9,   -999.0,9,   -999.0,9,  -999.00,9,-999.0000,-999.000, 19.5448,-999.000
      325024_1,  P14N,   148,  1,     30,     30,2,19930819,2350, -1.2473, 178.9975, 5447,    209.9,  15.3104,  35.2011,2,  35.2125,2,   -999.0,9,    133.2,2,     9.01,2,    15.32,2,     0.01,2,     1.19,2, -999.000,5, -999.000,5, -999.000,9,-999.0000,9,  -999.00,9,   -999.0,9,   -999.0,9,  -999.00,9,-999.0000,-999.000, 15.2781,-999.000
      325024_1,  P14N,   148,  1,     29,     29,2,19930819,2350, -1.2473, 178.9975, 5447,    260.1,  12.6523,  34.9094,2,  34.9074,2,   -999.0,9,    125.5,2,    16.75,2,    20.46,2,     0.00,2,     1.51,2, -999.000,5, -999.000,5, -999.000,9,-999.0000,9,  -999.00,9,   -999.0,9,   -999.0,9,  -999.00,9,-999.0000,-999.000, 12.6172,-999.000
      325024_1,  P14N,   148,  1,     28,     28,2,19930819,2350, -1.2473, 178.9975, 5447,    310.5,  10.9334,  34.7835,2,  34.7821,2,   -999.0,9,     62.2,2,    26.82,2,    29.87,2,     0.00,2,     2.10,2, -999.000,5, -999.000,5, -999.000,9,-999.0000,9,  -999.00,9,   -999.0,9,   -999.0,9,  -999.00,9,-999.0000,-999.000, 10.8952,-999.000
      325024_1,  P14N,   148,  1,     27,     27,2,19930819,2350, -1.2473, 178.9975, 5447,    410.7,   9.6200,  34.7010,2,  34.6991,2,   -999.0,9,     74.2,2,    30.46,2,    31.32,2,     0.00,2,     2.19,2, -999.000,5, -999.000,5, -999.000,9,-999.0000,9,  -999.00,9,   -999.0,9,   -999.0,9,  -999.00,9,-999.0000,-999.000,  9.5732,-999.000
      325024_1,  P14N,   148,  1,     26,     26,2,19930819,2350, -1.2473, 178.9975, 5447,    510.4,   7.5772,  34.5952,2,  34.5945,2,   -999.0,9,     83.7,2,    40.13,2,    34.80,2,     0.00,2,     2.43,2, -999.000,5, -999.000,5, -999.000,9,-999.0000,9,  -999.00,9,   -999.0,9,   -999.0,9,  -999.00,9,-999.0000,-999.000,  7.5264,-999.000
      325024_1,  P14N,   148,  1,     25,     25,2,19930819,2350, -1.2473, 178.9975, 5447,    609.9,   6.7585,  34.5686,2,  34.5686,2,   -999.0,9,     65.5,2,    52.73,2,    38.27,2,     0.00,2,     2.70,2, -999.000,5, -999.000,5, -999.000,9,-999.0000,9,  -999.00,9,   -999.0,9,   -999.0,9,  -999.00,9,-999.0000,-999.000,  6.7012,-999.000
      325024_1,  P14N,   148,  1,     24,     24,2,19930819,2350, -1.2473, 178.9975, 5447,    711.3,   6.0251,  34.5505,2,  34.5486,2,   -999.0,9,     79.3,2,    59.30,2,    38.09,2,     0.00,2,     2.69,2, -999.000,5, -999.000,5, -999.000,9,-999.0000,9,  -999.00,9,   -999.0,9,   -999.0,9,  -999.00,9,-999.0000,-999.000,  5.9617,-999.000
      325024_1,  P14N,   148,  1,     23,     23,2,19930819,2350, -1.2473, 178.9975, 5447,    811.8,   5.5102,  34.5411,2,  34.5422,2,   -999.0,9,     88.3,2,    65.28,2,    37.82,2,     0.00,2,     2.68,2, -999.000,5, -999.000,5, -999.000,9,-999.0000,9,  -999.00,9,   -999.0,9,   -999.0,9,  -999.00,9,-999.0000,-999.000,  5.4404,-999.000
      325024_1,  P14N,   148,  1,     22,     22,2,19930819,2350, -1.2473, 178.9975, 5447,    913.2,   4.7477,  34.5457,2,  34.5455,2,   -999.0,9,     92.2,2,    78.32,2,    38.30,2,     0.00,2,     2.72,2, -999.000,5, -999.000,5, -999.000,9,-999.0000,9,  -999.00,9,   -999.0,9,   -999.0,9,  -999.00,9,-999.0000,-999.000,  4.6739,-999.000
      325024_1,  P14N,   148,  1,     21,     21,2,19930819,2350, -1.2473, 178.9975, 5447,   1014.1,   4.3978,  34.5548,2,  34.5561,2,   -999.0,9,     89.2,2,    87.07,2,    38.88,2,     0.00,2,     2.76,2, -999.000,5, -999.000,5, -999.000,9,-999.0000,9,  -999.00,9,   -999.0,9,   -999.0,9,  -999.00,9,-999.0000,-999.000,  4.3178,-999.000
      325024_1,  P14N,   148,  1,     20,     20,2,19930819,2350, -1.2473, 178.9975, 5447,   1216.4,   3.7863,  34.5718,2,  34.5708,2,   -999.0,9,     95.8,2,    99.82,2,    38.79,2,     0.00,2,     2.76,2, -999.000,5, -999.000,5, -999.000,9,-999.0000,9,  -999.00,9,   -999.0,9,   -999.0,9,  -999.00,9,-999.0000,-999.000,  3.6942,-999.000
      325024_1,  P14N,   148,  1,     19,     19,2,19930819,2350, -1.2473, 178.9975, 5447,   1418.4,   3.2331,  34.5943,2,  34.5935,2,   -999.0,9,     94.1,2,   114.85,2,    39.37,2,     0.00,2,     2.80,2, -999.000,5, -999.000,5, -999.000,9,-999.0000,9,  -999.00,9,   -999.0,9,   -999.0,9,  -999.00,9,-999.0000,-999.000,  3.1294,-999.000
      325024_1,  P14N,   148,  1,     18,     18,2,19930819,2350, -1.2473, 178.9975, 5447,   1621.3,   2.7362,  34.6130,2,  34.6120,2,   -999.0,9,    107.3,2,   123.58,2,    38.51,2,     0.00,2,     2.73,2, -999.000,5, -999.000,5, -999.000,9,-999.0000,9,  -999.00,9,   -999.0,9,   -999.0,9,  -999.00,9,-999.0000,-999.000,  2.6213,-999.000
      325024_1,  P14N,   148,  1,     17,     17,2,19930819,2350, -1.2473, 178.9975, 5447,   1824.1,   2.4639,  34.6264,2,  34.6257,2,   -999.0,9,    112.4,2,   129.33,2,    38.24,2,     0.00,2,     2.71,2, -999.000,5, -999.000,5, -999.000,9,-999.0000,9,  -999.00,9,   -999.0,9,   -999.0,9,  -999.00,9,-999.0000,-999.000,  2.3355,-999.000
      325024_1,  P14N,   148,  1,     16,     16,2,19930819,2350, -1.2473, 178.9975, 5447,   2026.5,   2.2059,  34.6421,2,  34.6422,2,   -999.0,9,    114.3,2,   138.17,2,    38.32,2,     0.00,2,     2.68,2, -999.000,5, -999.000,5, -999.000,9,-999.0000,9,  -999.00,9,   -999.0,9,   -999.0,9,  -999.00,9,-999.0000,-999.000,  2.0640,-999.000
      325024_1,  P14N,   148,  1,     15,     15,2,19930819,2350, -1.2473, 178.9975, 5447,   2230.3,   2.0213,  34.6516,2,  34.6518,2,   -999.0,9,    120.7,2,   140.11,2,    37.79,2,     0.00,2,     2.66,2, -999.000,5, -999.000,5, -999.000,9,-999.0000,9,  -999.00,9,   -999.0,9,   -999.0,9,  -999.00,9,-999.0000,-999.000,  1.8647,-999.000
      325024_1,  P14N,   148,  1,     14,     14,2,19930819,2350, -1.2473, 178.9975, 5447,   2434.0,   1.8978,  34.6573,2,  34.6576,2,   -999.0,9,    126.3,2,   141.84,2,    37.34,2,     0.00,2,     2.63,2, -999.000,5, -999.000,5, -999.000,9,-999.0000,9,  -999.00,9,   -999.0,9,   -999.0,9,  -999.00,9,-999.0000,-999.000,  1.7253,-999.000
      325024_1,  P14N,   148,  1,     13,     13,2,19930819,2350, -1.2473, 178.9975, 5447,   2636.9,   1.7908,  34.6636,2,  34.6643,2,   -999.0,9,    128.4,2,   145.43,2,    37.34,2,     0.00,2,     2.60,2, -999.000,5, -999.000,5, -999.000,9,-999.0000,9,  -999.00,9,   -999.0,9,   -999.0,9,  -999.00,9,-999.0000,-999.000,  1.6019,-999.000
      325024_1,  P14N,   148,  1,     12,     12,2,19930819,2350, -1.2473, 178.9975, 5447,   2841.8,   1.6948,  34.6679,2,  34.6672,2,   -999.0,9,    134.5,2,   145.32,2,    36.89,2,     0.00,2,     2.58,2, -999.000,5, -999.000,5, -999.000,9,-999.0000,9,  -999.00,9,   -999.0,9,   -999.0,9,  -999.00,9,-999.0000,-999.000,  1.4889,-999.000
      325024_1,  P14N,   148,  1,     11,     11,2,19930819,2350, -1.2473, 178.9975, 5447,   3045.8,   1.6364,  34.6714,2,  34.6716,2,   -999.0,9,    138.4,2,   145.41,2,    36.67,2,     0.00,2,     2.55,2, -999.000,5, -999.000,5, -999.000,9,-999.0000,9,  -999.00,9,   -999.0,9,   -999.0,9,  -999.00,9,-999.0000,-999.000,  1.4122,-999.000
      325024_1,  P14N,   148,  1,     10,     10,2,19930819,2350, -1.2473, 178.9975, 5447,   3352.0,   1.5718,  34.6765,2,  34.6767,2,   -999.0,9,    145.0,2,   144.48,2,    36.22,2,     0.00,2,     2.51,2, -999.000,5, -999.000,5, -999.000,9,-999.0000,9,  -999.00,9,   -999.0,9,   -999.0,9,  -999.00,9,-999.0000,-999.000,  1.3189,-999.000
      325024_1,  P14N,   148,  1,      9,      9,2,19930819,2350, -1.2473, 178.9975, 5447,   3658.5,   1.4897,  34.6839,2,  34.6841,2,   -999.0,9,    155.2,2,   141.71,2,    35.48,2,     0.00,2,     2.47,2, -999.000,5, -999.000,5, -999.000,9,-999.0000,9,  -999.00,9,   -999.0,9,   -999.0,9,  -999.00,9,-999.0000,-999.000,  1.2075,-999.000
      325024_1,  P14N,   148,  1,      8,      8,2,19930819,2350, -1.2473, 178.9975, 5447,   3965.3,   1.4244,  34.6902,2,  34.6900,2,   -999.0,9,    163.5,2,   139.76,2,    34.91,2,     0.00,2,     2.42,2, -999.000,5, -999.000,5, -999.000,9,-999.0000,9,  -999.00,9,   -999.0,9,   -999.0,9,  -999.00,9,-999.0000,-999.000,  1.1114,-999.000
      325024_1,  P14N,   148,  1,      7,      7,2,19930819,2350, -1.2473, 178.9975, 5447,   4273.2,   1.3154,  34.6978,2,  34.6978,2,   -999.0,9,    178.1,2,   133.24,2,    33.86,2,     0.00,2,     2.34,2, -999.000,5, -999.000,5, -999.000,9,-999.0000,9,  -999.00,9,   -999.0,9,   -999.0,9,  -999.00,9,-999.0000,-999.000,  0.9717,-999.000
      325024_1,  P14N,   148,  1,      6,      6,2,19930819,2350, -1.2473, 178.9975, 5447,   4580.5,   1.2402,  34.7026,2,  34.7021,2,   -999.0,9,    189.3,2,   127.69,2,    32.99,2,     0.00,2,     2.28,2, -999.000,5, -999.000,5, -999.000,9,-999.0000,9,  -999.00,9,   -999.0,9,   -999.0,9,  -999.00,9,-999.0000,-999.000,  0.8640,-999.000
      325024_1,  P14N,   148,  1,      5,      5,2,19930819,2350, -1.2473, 178.9975, 5447,   4889.9,   1.2477,  34.7038,2,  34.7037,2,   -999.0,9,    192.1,2,   126.49,2,    32.75,2,     0.00,2,     2.28,2, -999.000,5, -999.000,5, -999.000,9,-999.0000,9,  -999.00,9,   -999.0,9,   -999.0,9,  -999.00,9,-999.0000,-999.000,  0.8350,-999.000
      325024_1,  P14N,   148,  1,      4,      4,2,19930819,2350, -1.2473, 178.9975, 5447,   5198.5,   1.2718,  34.7046,2,  34.7047,2,   -999.0,9,    193.3,2,   126.39,2,    32.66,2,     0.00,2,     2.28,2, -999.000,5, -999.000,5, -999.000,9,-999.0000,9,  -999.00,9,   -999.0,9,   -999.0,9,  -999.00,9,-999.0000,-999.000,  0.8210,-999.000
      325024_1,  P14N,   148,  1,      3,      3,2,19930819,2350, -1.2473, 178.9975, 5447,   5259.3,   1.2772,  34.7042,2,  34.7045,2,   -999.0,9,    193.9,2,   124.88,2,    32.53,2,     0.00,2,     2.27,2, -999.000,5, -999.000,5, -999.000,9,-999.0000,9,  -999.00,9,   -999.0,9,   -999.0,9,  -999.00,9,-999.0000,-999.000,  0.8187,-999.000
      325024_1,  P14N,   148,  1,      2,      2,2,19930819,2350, -1.2473, 178.9975, 5447,   5531.3,   1.3032,  34.7053,2,  34.7059,2,   -999.0,9,    195.2,2,   125.18,2,    32.56,2,     0.00,2,     2.26,2, -999.000,5, -999.000,5, -999.000,9,-999.0000,9,  -999.00,9,   -999.0,9,   -999.0,9,  -999.00,9,-999.0000,-999.000,  0.8098,-999.000
      325024_1,  P14N,   148,  1,      1,      1,2,19930819,2350, -1.2473, 178.9975, 5447,   5531.3,   1.3033,  34.7053,2,  34.7053,2,   -999.0,9,    193.2,2,   125.08,2,    32.64,2,     0.00,2,     2.26,2, -999.000,5, -999.000,5, -999.000,9,-999.0000,9,  -999.00,9,   -999.0,9,   -999.0,9,  -999.00,9,-999.0000,-999.000,  0.8099,-999.000