BOTTLE,20131125MIRCJHATS
EXPOCODE,SECT_ID,STNNBR,CASTNO,SAMPNO,BTLNBR,BTLNBR_FLAG_W,DATE,TIME,LATITUDE,LONGITUDE,DEPTH,CTDPRS,CTDTMP,CTDSAL,CTDSAL_FLAG_W,SALNTY,SALNTY_FLAG_W,CTDOXY,CTDOXY_FLAG_W,OXYGEN,OXYGEN_FLAG_W,SILCAT,SILCAT_FLAG_W,NITRAT,NITRAT_FLAG_W,NITRIT,NITRIT_FLAG_W,PHSPHT,PHSPHT_FLAG_W,CFC-11,CFC-11_FLAG_W,CFC-12,CFC-12_FLAG_W,TRITUM,TRITUM_FLAG_W,HELIUM,HELIUM_FLAG_W,DELHE3,DELHE3_FLAG_W,TCARBN,TCARBN_FLAG_W,ALKALI,ALKALI_FLAG_W,PH,PH_FLAG_W,HELIER,DELHER,THETA,TRITER
,,,,,,,,,,,,DBAR,ITS-90,PSS-78,,PSS-78,,UMOL/KG,,UMOL/KG,,UMOL/KG,,UMOL/KG,,UMOL/KG,,UMOL/KG,,PMOL/KG,,PMOL/KG,,TU,,NMOL/KG,,PERCNT,,UMOL/KG,,UMOL/KG,,25_DEG,,NMOL/KG,PERCNT,DEG C,TU
      325023_1,  P14N,   103,  1,     36,     36,2,19930803,0651, 11.0035, 178.9998, 5234,      2.0,  28.1717,  34.3825,2,  34.3838,2,   -999.0,9,    198.5,2,     1.37,2,     0.04,2,     0.00,2,     0.15,2, -999.000,5, -999.000,5, -999.000,9,-999.0000,9,  -999.00,9,   1913.3,2,   2258.8,2,     8.13,2,-999.0000,-999.000, 28.1712,-999.000
      325023_1,  P14N,   103,  1,     35,     35,2,19930803,0651, 11.0035, 178.9998, 5234,      2.1,  28.1677,  34.3783,2,  34.3797,2,   -999.0,9,    198.5,2,     0.90,2,     0.00,2,     0.00,2,     0.15,2,    1.651,2,    0.897,2, -999.000,9,-999.0000,9,  -999.00,9,   1913.6,2,   2259.0,2,  -999.00,9,-999.0000,-999.000, 28.1672,-999.000
      325023_1,  P14N,   103,  1,     34,     34,2,19930803,0651, 11.0035, 178.9998, 5234,     37.6,  28.0822,  34.5288,2,  34.5326,2,   -999.0,9,    198.7,2,     0.85,2,     0.00,2,     0.00,2,     0.15,2,    1.644,2,    0.902,2, -999.000,9,-999.0000,9,  -999.00,9,   1926.0,2,   2267.7,2,     8.13,2,-999.0000,-999.000, 28.0734,-999.000
      325023_1,  P14N,   103,  1,     33,     33,2,19930803,0651, 11.0035, 178.9998, 5234,     67.2,  27.8055,  34.5529,2,  34.5551,2,   -999.0,9,    208.1,2,     0.81,2,     0.00,2,     0.00,2,     0.15,2,    1.696,2,    0.920,2, -999.000,9,-999.0000,9,  -999.00,9,   1928.0,2,   2269.2,2,     8.13,2,-999.0000,-999.000, 27.7898,-999.000
      325023_1,  P14N,   103,  1,     32,     32,2,19930803,0651, 11.0035, 178.9998, 5234,     97.5,  25.6315,  34.6307,2,  34.6238,2,   -999.0,9,    209.2,2,     0.55,2,     0.00,2,     0.00,2,     0.13,2,    1.819,2,    0.945,2, -999.000,9,-999.0000,9,  -999.00,9,   1944.2,2,   2275.8,2,  -999.00,9,-999.0000,-999.000, 25.6100,-999.000
      325023_1,  P14N,   103,  1,     31,     31,2,19930803,0651, 11.0035, 178.9998, 5234,    128.0,  20.6931,  34.8420,2,  34.8530,2,   -999.0,9,    188.1,2,     2.01,2,     0.86,2,     0.10,2,     0.33,2,    2.088,2,    1.066,2, -999.000,9,-999.0000,9,  -999.00,9,   2036.0,2,   2300.1,2,     7.99,2,-999.0000,-999.000, 20.6689,-999.000
      325023_1,  P14N,   103,  1,     30,     30,2,19930803,0651, 11.0035, 178.9998, 5234,    158.7,  17.6508,  34.7861,2,  34.7804,2,   -999.0,9,    162.6,2,     4.77,2,     7.18,2,     0.04,2,     0.64,2,    2.108,2,    1.064,2, -999.000,9,-999.0000,9,  -999.00,9,   2076.7,2,   2292.6,2,  -999.00,9,-999.0000,-999.000, 17.6240,-999.000
      325023_1,  P14N,   103,  1,     29,     29,2,19930803,0651, 11.0035, 178.9998, 5234,    209.3,  12.3507,  34.4274,2,  34.4190,2,   -999.0,9,     99.2,2,    20.89,2,    22.16,2,     0.01,2,     1.68,2,    1.214,2,    0.580,2, -999.000,9,-999.0000,9,  -999.00,9,   2169.6,2,   2280.5,2,     7.64,2,-999.0000,-999.000, 12.3230,-999.000
      325023_1,  P14N,   103,  1,     28,     28,2,19930803,0651, 11.0035, 178.9998, 5234,    259.7,   9.8514,  34.4178,2,  34.4122,2,   -999.0,9,     72.0,2,    34.43,2,    28.97,2,     0.00,2,     2.14,2,    0.537,3,    0.227,2, -999.000,9,-999.0000,9,  -999.00,9,   2217.9,2,   2288.4,2,  -999.00,9,-999.0000,-999.000,  9.8217,-999.000
      325023_1,  P14N,   103,  1,     27,     27,2,19930803,0651, 11.0035, 178.9998, 5234,    309.8,   9.3494,  34.5554,2,  34.5539,2,   -999.0,9,     43.0,2,    38.47,2,    33.32,2,     0.00,2,     2.39,2,    0.156,2,    0.075,2, -999.000,9,-999.0000,9,  -999.00,9,   2251.1,2,   2302.1,2,     7.48,2,-999.0000,-999.000,  9.3149,-999.000
      325023_1,  P14N,   103,  1,     26,     26,2,19930803,0651, 11.0035, 178.9998, 5234,    410.5,   8.4841,  34.5728,2,  34.5725,2,   -999.0,9,     41.6,2,    44.03,2,    35.35,2,     0.00,2,     2.52,2,    0.053,2,    0.026,2, -999.000,9,-999.0000,9,  -999.00,9,   2261.7,2,   2307.3,2,     7.46,2,-999.0000,-999.000,  8.4407,-999.000
      325023_1,  P14N,   103,  1,     25,     25,2,19930803,0651, 11.0035, 178.9998, 5234,    510.9,   7.6892,  34.5564,2,  34.5535,2,   -999.0,9,     41.5,2,    51.54,2,    36.84,2,     0.00,2,     2.64,2,    0.014,2,    0.007,2, -999.000,9,-999.0000,9,  -999.00,9,   2274.7,2,   2316.4,2,     7.45,2,-999.0000,-999.000,  7.6380,-999.000
      325023_1,  P14N,   103,  1,     24,     24,2,19930803,0651, 11.0035, 178.9998, 5234,    610.7,   6.8854,  34.5331,2,  34.5325,2,   -999.0,9,     45.0,2,    59.48,2,    38.03,2,     0.00,2,     2.73,2,    0.011,2,    0.004,2, -999.000,9,-999.0000,9,  -999.00,9,   2283.9,2,   2322.9,2,     7.44,2,-999.0000,-999.000,  6.8275,-999.000
      325023_1,  P14N,   103,  1,     23,     23,2,19930803,0651, 11.0035, 178.9998, 5234,    712.4,   6.1959,  34.5251,2,  34.5262,2,   -999.0,9,     48.1,2,    67.65,2,    39.14,2,     0.00,2,     2.80,2,    0.005,2,    0.003,2, -999.000,9,-999.0000,9,  -999.00,9,   2295.0,2,   2331.9,2,  -999.00,9,-999.0000,-999.000,  6.1315,-999.000
      325023_1,  P14N,   103,  1,     22,     22,2,19930803,0651, 11.0035, 178.9998, 5234,    813.3,   5.6566,  34.5316,2,  34.5315,2,   -999.0,9,     41.6,2,    76.48,2,    40.96,2,     0.00,2,     2.91,2,   -0.003,2,    0.001,2, -999.000,9,-999.0000,9,  -999.00,9,   2309.3,2,   2345.9,2,  -999.00,9,-999.0000,-999.000,  5.5858,-999.000
      325023_1,  P14N,   103,  1,     21,     21,2,19930803,0651, 11.0035, 178.9998, 5234,    914.2,   5.0912,  34.5387,2,  34.5387,2,   -999.0,9,     43.8,2,    85.54,2,    41.71,2,     0.00,2,     2.96,2,    0.004,2,    0.006,2, -999.000,9,-999.0000,9,  -999.00,9,   2321.3,2,   2350.6,2,  -999.00,9,-999.0000,-999.000,  5.0149,-999.000
      325023_1,  P14N,   103,  1,     20,     20,2,19930803,0651, 11.0035, 178.9998, 5234,   1015.0,   4.5855,  34.5477,2,  34.5481,2,   -999.0,9,     57.2,2,    94.41,2,    41.09,2,     0.00,2,     2.92,2,   -0.001,2,    0.002,2, -999.000,9,-999.0000,9,  -999.00,9,   2324.9,2,   2360.7,2,  -999.00,9,-999.0000,-999.000,  4.5040,-999.000
      325023_1,  P14N,   103,  1,     19,     19,2,19930803,0651, 11.0035, 178.9998, 5234,   1217.1,   3.8851,  34.5645,2,  34.5640,2,   -999.0,9,     68.6,2,   108.77,2,    40.62,2,     0.00,2,     2.88,2, -999.000,5, -999.000,5, -999.000,9,-999.0000,9,  -999.00,9,   2332.6,2,   2376.1,2,     7.45,2,-999.0000,-999.000,  3.7920,-999.000
      325023_1,  P14N,   103,  1,     18,     18,2,19930803,0651, 11.0035, 178.9998, 5234,   1418.9,   3.2278,  34.5879,2,  34.5858,2,   -999.0,9,     75.3,2,   123.01,2,    40.53,2,     0.00,2,     2.87,2, -999.000,5, -999.000,5, -999.000,9,-999.0000,9,  -999.00,9,   2345.2,2,   2391.6,2,  -999.00,9,-999.0000,-999.000,  3.1241,-999.000
      325023_1,  P14N,   103,  1,     17,     17,2,19930803,0651, 11.0035, 178.9998, 5234,   1621.6,   2.7981,  34.6020,2,  34.6018,2,   -999.0,9,     85.1,2,   133.15,2,    39.96,2,     0.00,2,     2.82,2, -999.000,5, -999.000,5, -999.000,9,-999.0000,9,  -999.00,9,   2350.4,2,   2401.6,2,  -999.00,9,-999.0000,-999.000,  2.6824,-999.000
      325023_1,  P14N,   103,  1,     16,     16,2,19930803,0651, 11.0035, 178.9998, 5234,   1825.0,   2.3975,  34.6224,2,  34.6226,2,   -999.0,9,     94.4,2,   142.23,2,    39.59,2,     0.00,2,     2.77,2, -999.000,5, -999.000,5, -999.000,9,-999.0000,9,  -999.00,9,   2352.6,2,   2411.4,2,     7.49,2,-999.0000,-999.000,  2.2700,-999.000
      325023_1,  P14N,   103,  1,     15,     15,2,19930803,0651, 11.0035, 178.9998, 5234,   2028.2,   2.1695,  34.6352,2,  34.6344,2,   -999.0,9,    102.3,2,   146.65,2,    39.12,2,     0.00,2,     2.73,2,   -0.002,2,    0.004,2, -999.000,9,-999.0000,9,  -999.00,9,   2352.9,2,   2416.1,2,  -999.00,9,-999.0000,-999.000,  2.0281,-999.000
      325023_1,  P14N,   103,  1,     14,     14,2,19930803,0651, 11.0035, 178.9998, 5234,   2230.7,   2.0124,  34.6451,2,  34.6454,2,   -999.0,9,    108.1,2,   150.42,2,    38.75,2,     0.00,2,     2.69,2, -999.000,5, -999.000,5, -999.000,9,-999.0000,9,  -999.00,9,   2353.3,2,   2420.8,2,  -999.00,9,-999.0000,-999.000,  1.8560,-999.000
      325023_1,  P14N,   103,  1,     13,     13,2,19930803,0651, 11.0035, 178.9998, 5234,   2434.8,   1.8857,  34.6538,2,  34.6548,2,   -999.0,9,    114.3,2,   152.39,2,    38.33,2,     0.00,2,     2.66,2, -999.000,5, -999.000,5, -999.000,9,-999.0000,9,  -999.00,9,   2352.5,2,   2422.4,2,     7.52,2,-999.0000,-999.000,  1.7134,-999.000
      325023_1,  P14N,   103,  1,     12,     12,2,19930803,0651, 11.0035, 178.9998, 5234,   2638.8,   1.7973,  34.6600,2,  34.6614,2,   -999.0,9,    118.9,2,   153.91,2,    38.01,2,     0.00,2,     2.63,2, -999.000,5, -999.000,5, -999.000,9,-999.0000,9,  -999.00,9,   2352.2,2,   2428.8,2,  -999.00,9,-999.0000,-999.000,  1.6081,-999.000
      325023_1,  P14N,   103,  1,     11,     11,2,19930803,0651, 11.0035, 178.9998, 5234,   2842.7,   1.7193,  34.6646,2,  34.6659,2,   -999.0,9,    124.3,2,   154.53,2,    37.69,2,     0.00,2,     2.60,2, -999.000,5, -999.000,5, -999.000,9,-999.0000,9,  -999.00,9,   2349.4,2,   2431.1,2,  -999.00,9,-999.0000,-999.000,  1.5128,-999.000
      325023_1,  P14N,   103,  1,     10,     10,2,19930803,0651, 11.0035, 178.9998, 5234,   3046.7,   1.6416,  34.6700,2,  34.6710,2,   -999.0,9,    130.0,2,   155.38,2,    37.27,2,     0.00,2,     2.57,2,    0.000,2,    0.004,2, -999.000,9,-999.0000,9,  -999.00,9,   2346.4,2,   2428.0,2,  -999.00,9,-999.0000,-999.000,  1.4172,-999.000
      325023_1,  P14N,   103,  1,      9,      9,2,19930803,0651, 11.0035, 178.9998, 5234,   3353.8,   1.5281,  34.6776,2,  34.6708,4,   -999.0,9,    140.2,2,   153.96,2,    36.54,2,     0.00,2,     2.52,2, -999.000,5, -999.000,5, -999.000,9,-999.0000,9,  -999.00,9,   2336.0,2,   2410.2,2,  -999.00,9,-999.0000,-999.000,  1.2761,-999.000
      325023_1,  P14N,   103,  1,      8,      8,2,19930803,0651, 11.0035, 178.9998, 5234,   3660.8,   1.4527,  34.6846,2,  34.6857,2,   -999.0,9,    152.1,2,   149.18,2,    35.72,2,     0.00,2,     2.46,2, -999.000,5, -999.000,5, -999.000,9,-999.0000,9,  -999.00,9,   2329.9,2,   2422.0,2,  -999.00,9,-999.0000,-999.000,  1.1712,-999.000
      325023_1,  P14N,   103,  1,      7,      7,2,19930803,0651, 11.0035, 178.9998, 5234,   3968.7,   1.3884,  34.6894,2,  34.6898,2,   -999.0,9,    162.5,2,   144.86,2,    35.04,2,     0.00,2,     2.39,2, -999.000,5, -999.000,5, -999.000,9,-999.0000,9,  -999.00,9,   2318.4,2,   2415.4,2,     7.59,2,-999.0000,-999.000,  1.0760,-999.000
      325023_1,  P14N,   103,  1,      6,      6,2,19930803,0651, 11.0035, 178.9998, 5234,   4277.2,   1.3315,  34.6943,2,  34.6957,2,   -999.0,9,    173.0,2,   138.99,2,    34.23,2,     0.00,2,     2.34,2,    0.001,2,    0.000,2, -999.000,9,-999.0000,9,  -999.00,9,   2307.8,2,   2406.3,2,  -999.00,9,-999.0000,-999.000,  0.9869,-999.000
      325023_1,  P14N,   103,  1,      5,      5,2,19930803,0651, 11.0035, 178.9998, 5234,   4583.7,   1.3028,  34.6984,2,  34.6990,2,   -999.0,9,    181.4,2,   134.71,2,    33.65,2,     0.00,2,     2.32,2, -999.000,5, -999.000,5, -999.000,9,-999.0000,9,  -999.00,9,   2298.2,2,   2399.3,2,  -999.00,9,-999.0000,-999.000,  0.9243,-999.000
      325023_1,  P14N,   103,  1,      4,      4,2,19930803,0651, 11.0035, 178.9998, 5234,   4890.5,   1.3031,  34.7004,2,  34.7020,2,   -999.0,9,    186.0,2,   131.99,2,    33.28,2,     0.00,2,     2.28,2, -999.000,5, -999.000,5, -999.000,9,-999.0000,9,  -999.00,9,   2291.4,2,   2393.9,2,     7.61,2,-999.0000,-999.000,  0.8886,-999.000
      325023_1,  P14N,   103,  1,      3,      3,2,19930803,0651, 11.0035, 178.9998, 5234,   5196.6,   1.3203,  34.7019,2,  34.7023,2,   -999.0,9,    188.6,2,   129.94,2,    33.10,2,     0.00,2,     2.26,2, -999.000,5, -999.000,5, -999.000,9,-999.0000,9,  -999.00,9,   2289.3,2,   2390.9,2,  -999.00,9,-999.0000,-999.000,  0.8681,-999.000
      325023_1,  P14N,   103,  1,      1,      1,2,19930803,0651, 11.0035, 178.9998, 5234,   5291.9,   1.3241,  34.7023,2,  34.7027,2,   -999.0,9,    187.6,2,   130.06,2,    33.01,2,     0.00,2,     2.26,2, -999.000,5, -999.000,5, -999.000,9,-999.0000,9,  -999.00,9,   2289.3,2,   2390.7,2,  -999.00,9,-999.0000,-999.000,  0.8600,-999.000
      325023_1,  P14N,   103,  1,      2,      2,2,19930803,0651, 11.0035, 178.9998, 5234,   5292.7,   1.3239,  34.7022,2,  34.7031,2,   -999.0,9,    189.4,2,   129.89,2,    33.01,2,     0.00,2,     2.26,2,   -0.004,2,    0.002,2, -999.000,9,-999.0000,9,  -999.00,9,   2287.3,2,   2392.4,2,  -999.00,9,-999.0000,-999.000,  0.8597,-999.000