BOTTLE,20131125MIRCJHATS
EXPOCODE,SECT_ID,STNNBR,CASTNO,SAMPNO,BTLNBR,BTLNBR_FLAG_W,DATE,TIME,LATITUDE,LONGITUDE,DEPTH,CTDPRS,CTDTMP,CTDSAL,CTDSAL_FLAG_W,SALNTY,SALNTY_FLAG_W,CTDOXY,CTDOXY_FLAG_W,OXYGEN,OXYGEN_FLAG_W,SILCAT,SILCAT_FLAG_W,NITRAT,NITRAT_FLAG_W,NITRIT,NITRIT_FLAG_W,PHSPHT,PHSPHT_FLAG_W,CFC-11,CFC-11_FLAG_W,CFC-12,CFC-12_FLAG_W,TRITUM,TRITUM_FLAG_W,HELIUM,HELIUM_FLAG_W,DELHE3,DELHE3_FLAG_W,TCARBN,TCARBN_FLAG_W,ALKALI,ALKALI_FLAG_W,PH,PH_FLAG_W,HELIER,DELHER,THETA,TRITER
,,,,,,,,,,,,DBAR,ITS-90,PSS-78,,PSS-78,,UMOL/KG,,UMOL/KG,,UMOL/KG,,UMOL/KG,,UMOL/KG,,UMOL/KG,,PMOL/KG,,PMOL/KG,,TU,,NMOL/KG,,PERCNT,,UMOL/KG,,UMOL/KG,,25_DEG,,NMOL/KG,PERCNT,DEG C,TU
      325024_1,  P14N,   135,  1,     36,     36,2,19930816,0116,  1.9990, 179.0028, 5587,      1.5,  30.3623,  33.8091,4,  33.8912,2,   -999.0,9,    195.7,2,     3.08,2,     0.00,2,     0.00,2,     0.11,2,    1.608,2,    0.897,2, -999.000,9,-999.0000,9,  -999.00,9,   -999.0,9,   -999.0,9,  -999.00,9,-999.0000,-999.000, 30.3619,-999.000
      325024_1,  P14N,   135,  1,     35,     35,2,19930816,0116,  1.9990, 179.0028, 5587,     38.2,  29.9043,  34.0999,2,  34.1118,2,   -999.0,9,    197.2,2,     3.03,2,     0.00,2,     0.00,2,     0.15,2,    1.567,2,    0.860,2, -999.000,9,-999.0000,9,  -999.00,9,   -999.0,9,   -999.0,9,  -999.00,9,-999.0000,-999.000, 29.8948,-999.000
      325024_1,  P14N,   135,  1,     34,     34,2,19930816,0116,  1.9990, 179.0028, 5587,     68.2,  29.3959,  34.8662,2,  34.8950,2,   -999.0,9,    201.2,2,     3.18,2,     0.02,2,     0.00,2,     0.23,2,    1.609,2,    0.881,2, -999.000,9,-999.0000,9,  -999.00,9,   -999.0,9,   -999.0,9,  -999.00,9,-999.0000,-999.000, 29.3793,-999.000
      325024_1,  P14N,   135,  1,     33,     33,2,19930816,0116,  1.9990, 179.0028, 5587,     98.8,  25.1773,  34.8466,2,  34.8811,2,   -999.0,9,    155.3,2,     5.37,2,     4.76,2,     0.32,2,     0.50,2,    1.612,2,    0.868,2, -999.000,9,-999.0000,9,  -999.00,9,   -999.0,9,   -999.0,9,  -999.00,9,-999.0000,-999.000, 25.1558,-999.000
      325024_1,  P14N,   135,  1,     32,     32,2,19930816,0116,  1.9990, 179.0028, 5587,    129.2,  21.1716,  34.8549,2,  34.8469,2,   -999.0,9,    139.4,2,    10.01,2,     9.70,2,     0.03,2,     0.77,2,    1.641,2,    0.859,2, -999.000,9,-999.0000,9,  -999.00,9,   -999.0,9,   -999.0,9,  -999.00,9,-999.0000,-999.000, 21.1467,-999.000
      325024_1,  P14N,   135,  1,     31,     31,2,19930816,0116,  1.9990, 179.0028, 5587,    159.6,  17.9816,  34.7719,2,  34.7956,2,   -999.0,9,    141.7,2,    12.81,2,    11.76,2,     0.02,2,     1.01,2,    1.729,2,    0.875,2, -999.000,9,-999.0000,9,  -999.00,9,   -999.0,9,   -999.0,9,  -999.00,9,-999.0000,-999.000, 17.9543,-999.000
      325024_1,  P14N,   135,  1,     30,     30,2,19930816,0116,  1.9990, 179.0028, 5587,    210.1,  13.7374,  34.5762,2,  34.5712,2,   -999.0,9,    126.3,2,    23.77,2,    19.14,2,     0.01,2,     1.41,2,    1.237,6,    0.615,6, -999.000,9,-999.0000,9,  -999.00,9,   -999.0,9,   -999.0,9,  -999.00,9,-999.0000,-999.000, 13.7075,-999.000
      325024_1,  P14N,   135,  1,     29,     29,2,19930816,0116,  1.9990, 179.0028, 5587,    260.3,  11.6596,  34.7722,2,  34.7732,2,   -999.0,9,    112.3,2,    24.51,2,    23.42,2,     0.00,2,     1.69,2,    0.657,2,    0.337,2, -999.000,9,-999.0000,9,  -999.00,9,   -999.0,9,   -999.0,9,  -999.00,9,-999.0000,-999.000, 11.6263,-999.000
      325024_1,  P14N,   135,  1,     28,     28,2,19930816,0116,  1.9990, 179.0028, 5587,    310.8,  10.9277,  34.7576,2,  34.7559,2,   -999.0,9,     76.1,2,    28.11,2,    28.45,2,     0.01,2,     2.02,2,    0.382,2,    0.194,2, -999.000,9,-999.0000,9,  -999.00,9,   -999.0,9,   -999.0,9,  -999.00,9,-999.0000,-999.000, 10.8895,-999.000
      325024_1,  P14N,   135,  1,     27,     27,2,19930816,0116,  1.9990, 179.0028, 5587,    411.3,   9.5917,  34.6925,2,  34.6916,2,   -999.0,9,     65.5,2,    32.93,2,    31.83,2,     0.00,2,     2.25,2,    0.182,2,    0.084,2, -999.000,9,-999.0000,9,  -999.00,9,   -999.0,9,   -999.0,9,  -999.00,9,-999.0000,-999.000,  9.5449,-999.000
      325024_1,  P14N,   135,  1,     26,     26,2,19930816,0116,  1.9990, 179.0028, 5587,    511.9,   8.0022,  34.6027,2,  34.6019,2,   -999.0,9,     75.0,2,    41.61,2,    34.08,2,     0.00,2,     2.41,2,    0.070,2,    0.029,2, -999.000,9,-999.0000,9,  -999.00,9,   -999.0,9,   -999.0,9,  -999.00,9,-999.0000,-999.000,  7.9496,-999.000
      325024_1,  P14N,   135,  1,     25,     25,2,19930816,0116,  1.9990, 179.0028, 5587,    611.2,   6.6862,  34.5637,2,  34.5634,2,   -999.0,9,     73.8,2,    53.14,2,    37.11,2,     0.00,2,     2.63,2,    0.015,2,    0.011,2, -999.000,9,-999.0000,9,  -999.00,9,   -999.0,9,   -999.0,9,  -999.00,9,-999.0000,-999.000,  6.6291,-999.000
      325024_1,  P14N,   135,  1,     24,     24,2,19930816,0116,  1.9990, 179.0028, 5587,    712.0,   5.9967,  34.5512,2,  34.5511,2,   -999.0,9,     72.2,2,    62.02,2,    38.54,2,     0.00,2,     2.74,2,    0.005,2,    0.003,2, -999.000,9,-999.0000,9,  -999.00,9,   -999.0,9,   -999.0,9,  -999.00,9,-999.0000,-999.000,  5.9334,-999.000
      325024_1,  P14N,   135,  1,     23,     23,2,19930816,0116,  1.9990, 179.0028, 5587,    812.1,   5.6128,  34.5465,2,  34.5457,2,   -999.0,9,     76.8,2,    67.63,2,    38.67,2,     0.00,2,     2.76,2, -999.000,5, -999.000,5, -999.000,9,-999.0000,9,  -999.00,9,   -999.0,9,   -999.0,9,  -999.00,9,-999.0000,-999.000,  5.5424,-999.000
      325024_1,  P14N,   135,  1,     22,     22,2,19930816,0116,  1.9990, 179.0028, 5587,    913.0,   5.0405,  34.5454,2,  34.5451,2,   -999.0,9,     83.1,2,    79.18,2,    38.49,2,     0.00,2,     2.74,2,    0.004,2,    0.007,2, -999.000,9,-999.0000,9,  -999.00,9,   -999.0,9,   -999.0,9,  -999.00,9,-999.0000,-999.000,  4.9647,-999.000
      325024_1,  P14N,   135,  1,     21,     21,2,19930816,0116,  1.9990, 179.0028, 5587,   1013.6,   4.5319,  34.5537,2,  34.5541,2,   -999.0,9,     86.3,2,    88.08,2,    38.89,2,     0.00,2,     2.78,2,   -0.001,2,    0.003,2, -999.000,9,-999.0000,9,  -999.00,9,   -999.0,9,   -999.0,9,  -999.00,9,-999.0000,-999.000,  4.4509,-999.000
      325024_1,  P14N,   135,  1,     20,     20,2,19930816,0116,  1.9990, 179.0028, 5587,   1215.1,   3.8925,  34.5717,2,  34.5708,2,   -999.0,9,     91.2,2,   103.19,2,    38.84,2,     0.00,2,     2.78,2,    0.000,2,    0.001,2, -999.000,9,-999.0000,9,  -999.00,9,   -999.0,9,   -999.0,9,  -999.00,9,-999.0000,-999.000,  3.7995,-999.000
      325024_1,  P14N,   135,  1,     19,     19,2,19930816,0116,  1.9990, 179.0028, 5587,   1417.7,   3.3624,  34.5889,2,  34.5894,2,   -999.0,9,     91.6,2,   114.86,2,    39.25,2,     0.00,2,     2.80,2,   -0.005,2,    0.000,2, -999.000,9,-999.0000,9,  -999.00,9,   -999.0,9,   -999.0,9,  -999.00,9,-999.0000,-999.000,  3.2574,-999.000
      325024_1,  P14N,   135,  1,     18,     18,2,19930816,0116,  1.9990, 179.0028, 5587,   1620.3,   2.8080,  34.6100,2,  34.6094,2,   -999.0,9,    100.7,2,   127.24,2,    38.65,2,     0.00,2,     2.76,2, -999.000,5, -999.000,5, -999.000,9,-999.0000,9,  -999.00,9,   -999.0,9,   -999.0,9,  -999.00,9,-999.0000,-999.000,  2.6923,-999.000
      325024_1,  P14N,   135,  1,     17,     17,2,19930816,0116,  1.9990, 179.0028, 5587,   1823.0,   2.5393,  34.6228,2,  34.6221,2,   -999.0,9,    106.4,2,   132.34,2,    38.38,2,     0.00,2,     2.74,2, -999.000,5, -999.000,5, -999.000,9,-999.0000,9,  -999.00,9,   -999.0,9,   -999.0,9,  -999.00,9,-999.0000,-999.000,  2.4100,-999.000
      325024_1,  P14N,   135,  1,     16,     16,2,19930816,0116,  1.9990, 179.0028, 5587,   2025.5,   2.2853,  34.6353,2,  34.6349,2,   -999.0,9,    109.4,2,   138.94,2,    38.38,2,     0.00,2,     2.71,2,   -0.001,2,    0.001,2, -999.000,9,-999.0000,9,  -999.00,9,   -999.0,9,   -999.0,9,  -999.00,9,-999.0000,-999.000,  2.1423,-999.000
      325024_1,  P14N,   135,  1,     15,     15,2,19930816,0116,  1.9990, 179.0028, 5587,   2228.8,   2.0188,  34.6497,2,  34.6496,2,   -999.0,9,    116.9,2,   144.52,2,    37.79,2,     0.00,2,     2.67,2, -999.000,5, -999.000,5, -999.000,9,-999.0000,9,  -999.00,9,   -999.0,9,   -999.0,9,  -999.00,9,-999.0000,-999.000,  1.8624,-999.000
      325024_1,  P14N,   135,  1,     14,     14,2,19930816,0116,  1.9990, 179.0028, 5587,   2431.8,   1.9109,  34.6565,2,  34.6556,2,   -999.0,9,    120.6,2,   146.70,2,    37.56,2,     0.00,2,     2.64,2, -999.000,5, -999.000,5, -999.000,9,-999.0000,9,  -999.00,9,   -999.0,9,   -999.0,9,  -999.00,9,-999.0000,-999.000,  1.7384,-999.000
      325024_1,  P14N,   135,  1,     13,     13,2,19930816,0116,  1.9990, 179.0028, 5587,   2634.2,   1.8317,  34.6619,2,  34.6623,2,   -999.0,9,    123.2,2,   149.75,2,    37.56,2,     0.00,2,     2.63,2, -999.000,5, -999.000,5, -999.000,9,-999.0000,9,  -999.00,9,   -999.0,9,   -999.0,9,  -999.00,9,-999.0000,-999.000,  1.6423,-999.000
      325024_1,  P14N,   135,  1,     12,     12,2,19930816,0116,  1.9990, 179.0028, 5587,   2837.8,   1.7372,  34.6663,2,  34.6664,2,   -999.0,9,    129.0,2,   149.81,2,    37.16,2,     0.00,2,     2.59,2, -999.000,5, -999.000,5, -999.000,9,-999.0000,9,  -999.00,9,   -999.0,9,   -999.0,9,  -999.00,9,-999.0000,-999.000,  1.5307,-999.000
      325024_1,  P14N,   135,  1,     11,     11,3,19930816,0116,  1.9990, 179.0028, 5587,   3040.6,   1.6639,  34.6710,2,  34.6662,4,   -999.0,9,    129.7,4,   148.80,2,    36.84,2,     0.00,2,     2.59,2,    0.005,3,    0.001,2, -999.000,9,-999.0000,9,  -999.00,9,   -999.0,9,   -999.0,9,  -999.00,9,-999.0000,-999.000,  1.4396,-999.000
      325024_1,  P14N,   135,  1,     10,     10,2,19930816,0116,  1.9990, 179.0028, 5587,   3346.3,   1.5622,  34.6770,2,  34.6766,2,   -999.0,9,    144.4,2,   148.65,2,    36.17,2,     0.00,2,     2.51,2, -999.000,5, -999.000,5, -999.000,9,-999.0000,9,  -999.00,9,   -999.0,9,   -999.0,9,  -999.00,9,-999.0000,-999.000,  1.3102,-999.000
      325024_1,  P14N,   135,  1,      9,      9,2,19930816,0116,  1.9990, 179.0028, 5587,   3654.3,   1.4791,  34.6839,2,  34.6832,2,   -999.0,9,    154.5,2,   145.95,2,    35.47,2,     0.00,2,     2.46,2, -999.000,5, -999.000,5, -999.000,9,-999.0000,9,  -999.00,9,   -999.0,9,   -999.0,9,  -999.00,9,-999.0000,-999.000,  1.1976,-999.000
      325024_1,  P14N,   135,  1,      8,      8,2,19930816,0116,  1.9990, 179.0028, 5587,   3962.1,   1.4119,  34.6903,2,  34.6893,2,   -999.0,9,    164.0,2,   142.00,2,    34.76,2,     0.00,2,     2.41,2,    0.001,2,    0.002,2, -999.000,9,-999.0000,9,  -999.00,9,   -999.0,9,   -999.0,9,  -999.00,9,-999.0000,-999.000,  1.0995,-999.000
      325024_1,  P14N,   135,  1,      7,      7,2,19930816,0116,  1.9990, 179.0028, 5587,   4270.2,   1.3296,  34.6961,2,  34.6956,2,   -999.0,9,    176.2,2,   136.38,2,    33.97,2,     0.00,2,     2.36,2, -999.000,5, -999.000,5, -999.000,9,-999.0000,9,  -999.00,9,   -999.0,9,   -999.0,9,  -999.00,9,-999.0000,-999.000,  0.9858,-999.000
      325024_1,  P14N,   135,  1,      6,      6,2,19930816,0116,  1.9990, 179.0028, 5587,   4578.8,   1.2468,  34.7017,2,  34.7014,2,   -999.0,9,    187.5,2,   130.39,2,    33.06,2,     0.00,2,     2.30,2, -999.000,5, -999.000,5, -999.000,9,-999.0000,9,  -999.00,9,   -999.0,9,   -999.0,9,  -999.00,9,-999.0000,-999.000,  0.8706,-999.000
      325024_1,  P14N,   135,  1,      5,      5,2,19930816,0116,  1.9990, 179.0028, 5587,   4887.9,   1.2511,  34.7031,2,  34.7030,2,   -999.0,9,    190.9,2,   128.79,2,    32.79,2,     0.00,2,     2.28,2, -999.000,5, -999.000,5, -999.000,9,-999.0000,9,  -999.00,9,   -999.0,9,   -999.0,9,  -999.00,9,-999.0000,-999.000,  0.8386,-999.000
      325024_1,  P14N,   135,  1,      4,      4,2,19930816,0116,  1.9990, 179.0028, 5587,   5197.3,   1.2834,  34.7037,2,  34.7034,2,   -999.0,9,    191.9,2,   128.24,2,    32.70,2,     0.00,2,     2.27,2,    0.002,2,    0.003,2, -999.000,9,-999.0000,9,  -999.00,9,   -999.0,9,   -999.0,9,  -999.00,9,-999.0000,-999.000,  0.8323,-999.000
      325024_1,  P14N,   135,  1,      3,      3,2,19930816,0116,  1.9990, 179.0028, 5587,   5507.1,   1.3155,  34.7041,2,  34.7039,2,   -999.0,9,    193.2,2,   127.27,2,    32.61,2,     0.00,2,     2.26,2, -999.000,5, -999.000,5, -999.000,9,-999.0000,9,  -999.00,9,   -999.0,9,   -999.0,9,  -999.00,9,-999.0000,-999.000,  0.8247,-999.000
      325024_1,  P14N,   135,  1,      2,      2,2,19930816,0116,  1.9990, 179.0028, 5587,   5667.6,   1.3338,  34.7039,2,  34.7039,2,   -999.0,9,    193.4,2,   126.93,2,    32.52,2,     0.00,2,     2.25,2,    0.004,2,    0.004,2, -999.000,9,-999.0000,9,  -999.00,9,   -999.0,9,   -999.0,9,  -999.00,9,-999.0000,-999.000,  0.8218,-999.000
      325024_1,  P14N,   135,  1,      1,      1,2,19930816,0116,  1.9990, 179.0028, 5587,   5667.8,   1.3337,  34.7039,2,  34.7045,2,   -999.0,9,    193.5,2,   127.21,2,    32.61,2,     0.00,2,     2.26,2, -999.000,5, -999.000,5, -999.000,9,-999.0000,9,  -999.00,9,   -999.0,9,   -999.0,9,  -999.00,9,-999.0000,-999.000,  0.8217,-999.000