BOTTLE,20131125MIRCJHATS
EXPOCODE,SECT_ID,STNNBR,CASTNO,SAMPNO,BTLNBR,BTLNBR_FLAG_W,DATE,TIME,LATITUDE,LONGITUDE,DEPTH,CTDPRS,CTDTMP,CTDSAL,CTDSAL_FLAG_W,SALNTY,SALNTY_FLAG_W,CTDOXY,CTDOXY_FLAG_W,OXYGEN,OXYGEN_FLAG_W,SILCAT,SILCAT_FLAG_W,NITRAT,NITRAT_FLAG_W,NITRIT,NITRIT_FLAG_W,PHSPHT,PHSPHT_FLAG_W,CFC-11,CFC-11_FLAG_W,CFC-12,CFC-12_FLAG_W,TRITUM,TRITUM_FLAG_W,HELIUM,HELIUM_FLAG_W,DELHE3,DELHE3_FLAG_W,TCARBN,TCARBN_FLAG_W,ALKALI,ALKALI_FLAG_W,PH,PH_FLAG_W,HELIER,DELHER,THETA,TRITER
,,,,,,,,,,,,DBAR,ITS-90,PSS-78,,PSS-78,,UMOL/KG,,UMOL/KG,,UMOL/KG,,UMOL/KG,,UMOL/KG,,UMOL/KG,,PMOL/KG,,PMOL/KG,,TU,,NMOL/KG,,PERCNT,,UMOL/KG,,UMOL/KG,,25_DEG,,NMOL/KG,PERCNT,DEG C,TU
      325023_1,  P14N,    60,  1,     36,     36,2,19930722,1303, 32.4842, 178.9963, 5334,      3.4,  23.0978,  34.7333,2,  34.7337,2,   -999.0,9,    219.1,2,     3.68,2,     0.00,2,     0.00,2,     0.04,2, -999.000,5, -999.000,5, -999.000,9,-999.0000,9,  -999.00,9,   1979.2,2,   2281.5,2,     8.05,2,-999.0000,-999.000, 23.0971,-999.000
      325023_1,  P14N,    60,  1,     35,     35,2,19930722,1303, 32.4842, 178.9963, 5334,     31.7,  20.9729,  34.5098,2,  34.4965,2,   -999.0,9,    231.9,2,     4.41,2,     0.00,2,     0.00,2,     0.07,2, -999.000,5, -999.000,5, -999.000,9,-999.0000,9,  -999.00,9,   1979.9,2,   2269.4,2,     8.04,2,-999.0000,-999.000, 20.9668,-999.000
      325023_1,  P14N,    60,  1,     34,     34,2,19930722,1303, 32.4842, 178.9963, 5334,     61.0,  17.1909,  34.6941,2,  34.6933,2,   -999.0,9,    239.7,2,     4.35,2,     0.71,2,     0.17,2,     0.18,2, -999.000,5, -999.000,5, -999.000,9,-999.0000,9,  -999.00,9,   2002.3,2,   2281.9,2,     8.02,2,-999.0000,-999.000, 17.1809,-999.000
      325023_1,  P14N,    60,  1,     33,     33,2,19930722,1303, 32.4842, 178.9963, 5334,     91.6,  16.5200,  34.7120,2,  34.7117,2,   -999.0,9,    223.4,2,     5.66,2,     3.75,2,     0.21,2,     0.33,2, -999.000,5, -999.000,5, -999.000,9,-999.0000,9,  -999.00,9,   2019.5,2,   2280.5,2,  -999.00,9,-999.0000,-999.000, 16.5052,-999.000
      325023_1,  P14N,    60,  1,     32,     32,2,19930722,1303, 32.4842, 178.9963, 5334,    122.2,  15.8987,  34.6731,2,  34.6495,2,   -999.0,9,    224.4,2,     6.58,2,     4.73,2,     0.20,2,     0.39,2, -999.000,5, -999.000,5, -999.000,9,-999.0000,9,  -999.00,9,   2022.5,2,   2277.7,2,     7.97,2,-999.0000,-999.000, 15.8795,-999.000
      325023_1,  P14N,    60,  1,     31,     31,2,19930722,1303, 32.4842, 178.9963, 5334,    153.1,  14.5720,  34.5412,2,  34.5383,2,   -999.0,9,    229.6,2,     8.28,2,     5.90,2,     0.05,2,     0.47,2, -999.000,5, -999.000,5, -999.000,9,-999.0000,9,  -999.00,9,   2033.9,2,   2272.5,2,  -999.00,9,-999.0000,-999.000, 14.5494,-999.000
      325023_1,  P14N,    60,  1,     30,     30,2,19930722,1303, 32.4842, 178.9963, 5334,    203.9,  13.3792,  34.4563,2,  34.4512,2,   -999.0,9,    229.0,2,    10.95,2,     7.69,2,     0.02,2,     0.59,2, -999.000,5, -999.000,5, -999.000,9,-999.0000,9,  -999.00,9,   2049.2,2,   2270.4,2,     7.91,2,-999.0000,-999.000, 13.3507,-999.000
      325023_1,  P14N,    60,  1,     29,     29,2,19930722,1303, 32.4842, 178.9963, 5334,    253.3,  12.5471,  34.3922,2,  34.3959,2,   -999.0,9,    235.2,2,    11.86,2,     8.41,2,     0.02,2,     0.66,2, -999.000,5, -999.000,5, -999.000,9,-999.0000,9,  -999.00,9,   2052.4,2,   2268.3,2,  -999.00,9,-999.0000,-999.000, 12.5132,-999.000
      325023_1,  P14N,    60,  1,     28,     28,2,19930722,1303, 32.4842, 178.9963, 5334,    304.7,  11.8488,  34.3690,2,  34.3636,2,   -999.0,9,    228.7,2,    11.03,2,    10.53,2,     0.02,2,     0.79,2, -999.000,5, -999.000,5, -999.000,9,-999.0000,9,  -999.00,9,   2067.1,2,   2270.8,2,     7.87,2,-999.0000,-999.000, 11.8094,-999.000
      325023_1,  P14N,    60,  1,     27,     27,2,19930722,1303, 32.4842, 178.9963, 5334,    402.3,  10.1965,  34.2329,2,  34.2345,2,   -999.0,9,    213.9,2,    22.83,2,    15.04,2,     0.01,2,     1.11,2, -999.000,5, -999.000,5, -999.000,9,-999.0000,9,  -999.00,9,   2099.2,2,   2272.0,2,  -999.00,9,-999.0000,-999.000, 10.1492,-999.000
      325023_1,  P14N,    60,  1,     26,     26,2,19930722,1303, 32.4842, 178.9963, 5334,    504.4,   8.0759,  34.0897,2,  34.0879,2,   -999.0,9,    180.2,2,    38.32,2,    22.13,2,     0.00,2,     1.62,2, -999.000,5, -999.000,5, -999.000,9,-999.0000,9,  -999.00,9,   2151.7,2,   2276.8,2,     7.68,2,-999.0000,-999.000,  8.0242,-999.000
      325023_1,  P14N,    60,  1,     25,     25,2,19930722,1303, 32.4842, 178.9963, 5334,    606.9,   6.0894,  34.0169,2,  34.0170,2,   -999.0,9,    140.7,2,    60.25,2,    29.19,2,     0.00,2,     2.14,2, -999.000,5, -999.000,5, -999.000,9,-999.0000,9,  -999.00,9,   2211.7,2,   2290.4,2,     7.56,2,-999.0000,-999.000,  6.0359,-999.000
      325023_1,  P14N,    60,  1,     24,     24,2,19930722,1303, 32.4842, 178.9963, 5334,    707.4,   4.8065,  34.0672,2,  34.0591,2,   -999.0,9,     96.3,2,    83.45,2,    35.05,2,     0.00,2,     2.55,2, -999.000,5, -999.000,5, -999.000,9,-999.0000,9,  -999.00,9,   2265.0,2,   2310.9,2,     7.45,2,-999.0000,-999.000,  4.7506,-999.000
      325023_1,  P14N,    60,  1,     23,     23,2,19930722,1303, 32.4842, 178.9963, 5334,    808.0,   4.2194,  34.1671,2,  34.1655,2,   -999.0,9,     58.5,2,   103.29,2,    39.08,2,     0.00,2,     2.82,2, -999.000,5, -999.000,5, -999.000,9,-999.0000,9,  -999.00,9,   2311.5,2,   2330.2,2,     7.38,2,-999.0000,-999.000,  4.1586,-999.000
      325023_1,  P14N,    60,  1,     22,     22,2,19930722,1303, 32.4842, 178.9963, 5334,    909.3,   3.7845,  34.2446,2,  34.2434,2,   -999.0,9,     37.4,2,   117.54,2,    41.32,2,     0.00,2,     2.96,2, -999.000,5, -999.000,5, -999.000,9,-999.0000,9,  -999.00,9,   2343.7,2,   2349.5,2,  -999.00,9,-999.0000,-999.000,  3.7182,-999.000
      325023_1,  P14N,    60,  1,     21,     21,2,19930722,1303, 32.4842, 178.9963, 5334,   1011.8,   3.4423,  34.3149,2,  34.3132,2,   -999.0,9,     28.1,2,   130.53,2,    42.39,2,     0.00,2,     3.04,2, -999.000,5, -999.000,5, -999.000,9,-999.0000,9,  -999.00,9,   2359.2,2,   2368.9,2,     7.33,2,-999.0000,-999.000,  3.3704,-999.000
      325023_1,  P14N,    60,  1,     20,     20,2,19930722,1303, 32.4842, 178.9963, 5334,   1213.8,   2.9017,  34.4188,2,  34.4176,2,   -999.0,9,     26.7,2,   145.10,2,    43.01,2,     0.00,2,     3.07,2, -999.000,5, -999.000,5, -999.000,9,-999.0000,9,  -999.00,9,   2381.1,2,   2382.6,2,  -999.00,9,-999.0000,-999.000,  2.8184,-999.000
      325023_1,  P14N,    60,  1,     19,     19,2,19930722,1303, 32.4842, 178.9963, 5334,   1414.4,   2.5722,  34.4822,2,  34.4801,2,   -999.0,9,     32.2,2,   154.91,2,    42.98,2,     0.00,2,     3.05,2, -999.000,5, -999.000,5, -999.000,9,-999.0000,9,  -999.00,9,   2387.5,2,   2400.7,2,     7.34,2,-999.0000,-999.000,  2.4764,-999.000
      325023_1,  P14N,    60,  1,     18,     18,2,19930722,1303, 32.4842, 178.9963, 5334,   1622.3,   2.3099,  34.5331,2,  34.5315,2,   -999.0,9,     41.6,2,   161.69,2,    42.54,2,     0.00,2,     3.01,2, -999.000,5, -999.000,5, -999.000,9,-999.0000,9,  -999.00,9,   2391.7,2,   2404.4,2,  -999.00,9,-999.0000,-999.000,  2.2005,-999.000
      325023_1,  P14N,    60,  1,     17,     17,2,19930722,1303, 32.4842, 178.9963, 5334,   1823.1,   2.0679,  34.5750,2,  34.5730,2,   -999.0,9,     57.5,2,   165.56,2,    41.56,2,     0.00,2,     2.94,2, -999.000,5, -999.000,5, -999.000,9,-999.0000,9,  -999.00,9,   2387.8,2,   2416.5,2,     7.40,2,-999.0000,-999.000,  1.9453,-999.000
      325023_1,  P14N,    60,  1,     16,     16,2,19930722,1303, 32.4842, 178.9963, 5334,   2025.1,   1.8915,  34.6031,2,  34.6009,2,   -999.0,9,     73.5,2,   167.13,2,    40.63,2,     0.00,2,     2.86,2, -999.000,5, -999.000,5, -999.000,9,-999.0000,9,  -999.00,9,   2380.8,2,   2419.3,2,  -999.00,9,-999.0000,-999.000,  1.7547,-999.000
      325023_1,  P14N,    60,  1,     15,     15,2,19930722,1303, 32.4842, 178.9963, 5334,   2226.6,   1.7852,  34.6216,2,  34.6201,2,   -999.0,9,     85.7,2,   166.80,2,    39.78,2,     0.00,2,     2.80,2, -999.000,5, -999.000,5, -999.000,9,-999.0000,9,  -999.00,9,   2372.0,2,   2418.1,2,     7.46,2,-999.0000,-999.000,  1.6330,-999.000
      325023_1,  P14N,    60,  1,     14,     14,2,19930722,1303, 32.4842, 178.9963, 5334,   2427.3,   1.6907,  34.6358,2,  34.6346,2,   -999.0,9,     98.6,2,   165.41,2,    38.99,2,     0.00,2,     2.73,2, -999.000,5, -999.000,5, -999.000,9,-999.0000,9,  -999.00,9,   2367.0,2,   2423.2,2,  -999.00,9,-999.0000,-999.000,  1.5227,-999.000
      325023_1,  P14N,    60,  1,     13,     13,2,19930722,1303, 32.4842, 178.9963, 5334,   2637.9,   1.6068,  34.6491,2,  34.6477,2,   -999.0,9,    109.7,2,   164.66,2,    38.37,2,     0.00,2,     2.68,2, -999.000,5, -999.000,5, -999.000,9,-999.0000,9,  -999.00,9,   2361.7,2,   2426.3,2,     7.50,2,-999.0000,-999.000,  1.4215,-999.000
      325023_1,  P14N,    60,  1,     12,     12,2,19930722,1303, 32.4842, 178.9963, 5334,   2840.7,   1.5620,  34.6569,2,  34.6559,2,   -999.0,9,    118.8,2,   162.02,2,    37.67,2,     0.00,2,     2.62,2, -999.000,5, -999.000,5, -999.000,9,-999.0000,9,  -999.00,9,   2356.5,2,   2420.6,2,  -999.00,9,-999.0000,-999.000,  1.3590,-999.000
      325023_1,  P14N,    60,  1,     11,     11,2,19930722,1303, 32.4842, 178.9963, 5334,   3043.9,   1.5224,  34.6641,2,  34.6628,2,   -999.0,9,    126.3,2,   160.23,2,    37.19,2,     0.00,2,     2.59,2, -999.000,5, -999.000,5, -999.000,9,-999.0000,9,  -999.00,9,   2350.5,2,   2421.2,2,  -999.00,9,-999.0000,-999.000,  1.3010,-999.000
      325023_1,  P14N,    60,  1,     10,     10,2,19930722,1303, 32.4842, 178.9963, 5334,   3353.2,   1.4774,  34.6727,2,  34.6708,2,   -999.0,9,    135.7,2,   158.65,2,    36.66,2,     0.00,2,     2.54,2, -999.000,5, -999.000,5, -999.000,9,-999.0000,9,  -999.00,9,   2341.6,2,   -999.0,9,     7.55,2,-999.0000,-999.000,  1.2267,-999.000
      325023_1,  P14N,    60,  1,      9,      9,2,19930722,1303, 32.4842, 178.9963, 5334,   3658.4,   1.4612,  34.6781,2,  34.6765,2,   -999.0,9,    142.2,2,   157.50,2,    36.23,2,     0.00,2,     2.51,2, -999.000,5, -999.000,5, -999.000,9,-999.0000,9,  -999.00,9,   2335.9,2,   2421.7,2,  -999.00,9,-999.0000,-999.000,  1.1798,-999.000
      325023_1,  P14N,    60,  1,      8,      8,2,19930722,1303, 32.4842, 178.9963, 5334,   3963.3,   1.4631,  34.6814,2,  34.6798,2,   -999.0,9,    146.4,2,   155.93,2,    35.98,2,     0.00,2,     2.47,2, -999.000,5, -999.000,5, -999.000,9,-999.0000,9,  -999.00,9,   2338.0,2,   2419.4,2,  -999.00,9,-999.0000,-999.000,  1.1493,-999.000
      325023_1,  P14N,    60,  1,      7,      7,2,19930722,1303, 32.4842, 178.9963, 5334,   4273.3,   1.4738,  34.6845,2,  34.6830,2,   -999.0,9,    149.6,2,   155.40,2,    35.64,2,     0.00,2,     2.46,2, -999.000,5, -999.000,5, -999.000,9,-999.0000,9,  -999.00,9,   2335.6,2,   2421.1,2,     7.58,2,-999.0000,-999.000,  1.1255,-999.000
      325023_1,  P14N,    60,  1,      6,      6,2,19930722,1303, 32.4842, 178.9963, 5334,   4583.8,   1.4876,  34.6866,2,  34.6847,2,   -999.0,9,    153.2,2,   153.42,2,    35.48,2,     0.00,2,     2.44,2, -999.000,5, -999.000,5, -999.000,9,-999.0000,9,  -999.00,9,   2333.6,2,   2420.3,2,  -999.00,9,-999.0000,-999.000,  1.1033,-999.000
      325023_1,  P14N,    60,  1,      5,      5,2,19930722,1303, 32.4842, 178.9963, 5334,   4890.4,   1.4974,  34.6890,2,  34.6863,2,   -999.0,9,    158.1,2,   149.18,2,    35.09,2,     0.00,2,     2.41,2, -999.000,5, -999.000,5, -999.000,9,-999.0000,9,  -999.00,9,   2327.8,2,   2416.2,2,  -999.00,9,-999.0000,-999.000,  1.0765,-999.000
      325023_1,  P14N,    60,  1,      3,      3,2,19930722,1303, 32.4842, 178.9963, 5334,   5172.1,   1.5080,  34.6913,2,  34.6882,2,   -999.0,9,    162.2,2,   145.27,2,    34.85,2,     0.00,2,     2.38,2, -999.000,5, -999.000,5, -999.000,9,-999.0000,9,  -999.00,9,   2321.8,2,   2416.1,2,  -999.00,9,-999.0000,-999.000,  1.0523,-999.000
      325023_1,  P14N,    60,  1,      4,      4,2,19930722,1303, 32.4842, 178.9963, 5334,   5172.4,   1.5084,  34.6913,2,  34.6888,2,   -999.0,9,    162.1,2,   145.38,2,    34.79,2,     0.00,2,     2.38,2, -999.000,5, -999.000,5, -999.000,9,-999.0000,9,  -999.00,9,   2322.5,2,   2415.2,2,     7.59,2,-999.0000,-999.000,  1.0527,-999.000
      325023_1,  P14N,    60,  1,      1,      1,2,19930722,1303, 32.4842, 178.9963, 5334,   5418.7,   1.5136,  34.6937,2,  34.6919,2,   -999.0,9,    167.0,2,   142.19,2,    34.57,2,     0.00,2,     2.35,2, -999.000,5, -999.000,5, -999.000,9,-999.0000,9,  -999.00,9,   2315.5,2,   2410.0,2,  -999.00,9,-999.0000,-999.000,  1.0268,-999.000
      325023_1,  P14N,    60,  1,      2,      2,2,19930722,1303, 32.4842, 178.9963, 5334,   5418.9,   1.5136,  34.6936,2,  34.6911,2,   -999.0,9,    167.0,2,   142.10,2,    34.56,2,     0.00,2,     2.35,2, -999.000,5, -999.000,5, -999.000,9,-999.0000,9,  -999.00,9,   2314.6,2,   2410.0,2,  -999.00,9,-999.0000,-999.000,  1.0268,-999.000