BOTTLE,20131125MIRCJHATS
EXPOCODE,SECT_ID,STNNBR,CASTNO,SAMPNO,BTLNBR,BTLNBR_FLAG_W,DATE,TIME,LATITUDE,LONGITUDE,DEPTH,CTDPRS,CTDTMP,CTDSAL,CTDSAL_FLAG_W,SALNTY,SALNTY_FLAG_W,CTDOXY,CTDOXY_FLAG_W,OXYGEN,OXYGEN_FLAG_W,SILCAT,SILCAT_FLAG_W,NITRAT,NITRAT_FLAG_W,NITRIT,NITRIT_FLAG_W,PHSPHT,PHSPHT_FLAG_W,CFC-11,CFC-11_FLAG_W,CFC-12,CFC-12_FLAG_W,TRITUM,TRITUM_FLAG_W,HELIUM,HELIUM_FLAG_W,DELHE3,DELHE3_FLAG_W,TCARBN,TCARBN_FLAG_W,ALKALI,ALKALI_FLAG_W,PH,PH_FLAG_W,HELIER,DELHER,THETA,TRITER
,,,,,,,,,,,,DBAR,ITS-90,PSS-78,,PSS-78,,UMOL/KG,,UMOL/KG,,UMOL/KG,,UMOL/KG,,UMOL/KG,,UMOL/KG,,PMOL/KG,,PMOL/KG,,TU,,NMOL/KG,,PERCNT,,UMOL/KG,,UMOL/KG,,25_DEG,,NMOL/KG,PERCNT,DEG C,TU
      325024_1,  P14N,   179,  1,     36,     36,2,19930827,2235,-13.0002, 178.9943, 1538,      2.2,  27.5419,  34.3952,2,  34.4005,2,   -999.0,9,    200.3,2,     2.34,2,     0.00,2,     0.00,2,     0.20,2,    1.670,2,    0.897,2, -999.000,9,-999.0000,9,  -999.00,9,   -999.0,9,   -999.0,9,  -999.00,9,-999.0000,-999.000, 27.5414,-999.000
      325024_1,  P14N,   179,  1,     35,     35,2,19930827,2235,-13.0002, 178.9943, 1538,     34.5,  27.4792,  34.6746,2,  34.6882,2,   -999.0,9,    198.9,2,     2.11,2,     0.00,2,     0.00,2,     0.21,2, -999.000,5, -999.000,5, -999.000,9,-999.0000,9,  -999.00,9,   -999.0,9,   -999.0,9,  -999.00,9,-999.0000,-999.000, 27.4712,-999.000
      325024_1,  P14N,   179,  1,     34,     34,2,19930827,2235,-13.0002, 178.9943, 1538,     64.0,  27.2670,  35.0894,2,  35.0716,2,   -999.0,9,    197.2,2,     1.87,2,     0.03,2,     0.00,2,     0.22,2,    1.671,2,    0.873,2, -999.000,9,-999.0000,9,  -999.00,9,   -999.0,9,   -999.0,9,  -999.00,9,-999.0000,-999.000, 27.2522,-999.000
      325024_1,  P14N,   179,  1,     33,     33,2,19930827,2235,-13.0002, 178.9943, 1538,     84.1,  26.6930,  35.3299,2,  35.3884,2,   -999.0,9,    197.5,2,     1.64,2,     0.10,2,     0.02,2,     0.22,2, -999.000,5, -999.000,5, -999.000,9,-999.0000,9,  -999.00,9,   -999.0,9,   -999.0,9,  -999.00,9,-999.0000,-999.000, 26.6738,-999.000
      325024_1,  P14N,   179,  1,     32,     32,2,19930827,2235,-13.0002, 178.9943, 1538,    104.9,  26.5156,  36.0248,2,  36.0358,2,   -999.0,9,    163.1,2,     1.81,2,     1.97,2,     0.41,2,     0.49,2,    1.676,2,    0.891,2, -999.000,9,-999.0000,9,  -999.00,9,   -999.0,9,   -999.0,9,  -999.00,9,-999.0000,-999.000, 26.4918,-999.000
      325024_1,  P14N,   179,  1,     31,     31,2,19930827,2235,-13.0002, 178.9943, 1538,    125.3,  25.3309,  36.1239,2,  36.1397,2,   -999.0,9,    151.5,2,     1.77,2,     4.17,2,     0.13,2,     0.59,2,    1.870,2,    0.990,2, -999.000,9,-999.0000,9,  -999.00,9,   -999.0,9,   -999.0,9,  -999.00,9,-999.0000,-999.000, 25.3034,-999.000
      325024_1,  P14N,   179,  1,     30,     30,2,19930827,2235,-13.0002, 178.9943, 1538,    145.6,  23.7571,  36.1414,2,  35.9107,4,   -999.0,9,    146.1,2,     1.74,2,     5.86,2,     0.03,2,     0.68,2, -999.000,5, -999.000,5, -999.000,9,-999.0000,9,  -999.00,9,   -999.0,9,   -999.0,9,  -999.00,9,-999.0000,-999.000, 23.7265,-999.000
      325024_1,  P14N,   179,  1,     29,     29,2,19930827,2235,-13.0002, 178.9943, 1538,    166.0,  22.4194,  36.0602,2,  36.0611,2,   -999.0,9,    145.3,2,     1.91,2,     6.42,2,     0.02,2,     0.71,2,    1.722,2,    0.906,2, -999.000,9,-999.0000,9,  -999.00,9,   -999.0,9,   -999.0,9,  -999.00,9,-999.0000,-999.000, 22.3859,-999.000
      325024_1,  P14N,   179,  1,     28,     28,2,19930827,2235,-13.0002, 178.9943, 1538,    185.3,  21.1594,  35.9379,2,  35.9105,2,   -999.0,9,    145.2,2,     2.07,2,     7.37,2,     0.01,2,     0.78,2, -999.000,5, -999.000,5, -999.000,9,-999.0000,9,  -999.00,9,   -999.0,9,   -999.0,9,  -999.00,9,-999.0000,-999.000, 21.1235,-999.000
      325024_1,  P14N,   179,  1,     27,     27,2,19930827,2235,-13.0002, 178.9943, 1538,    205.1,  19.6332,  35.7454,2,  35.7322,2,   -999.0,9,    143.2,2,     2.84,2,     8.52,2,     0.01,2,     0.87,2,    1.603,2,    0.831,2, -999.000,9,-999.0000,9,  -999.00,9,   -999.0,9,   -999.0,9,  -999.00,9,-999.0000,-999.000, 19.5956,-999.000
      325024_1,  P14N,   179,  1,     26,     26,2,19930827,2235,-13.0002, 178.9943, 1538,    255.4,  17.8055,  35.5134,2,  35.4936,2,   -999.0,9,    133.8,2,     4.61,2,    11.13,2,     0.01,2,     1.04,2,    1.379,2,    0.710,2, -999.000,9,-999.0000,9,  -999.00,9,   -999.0,9,   -999.0,9,  -999.00,9,-999.0000,-999.000, 17.7618,-999.000
      325024_1,  P14N,   179,  1,     25,     25,2,19930827,2235,-13.0002, 178.9943, 1538,    305.4,  14.6690,  35.1265,2,  35.1422,2,   -999.0,9,    121.7,2,     8.17,2,    15.92,2,     0.01,2,     1.35,2,    1.002,2,    0.500,2, -999.000,9,-999.0000,9,  -999.00,9,   -999.0,9,   -999.0,9,  -999.00,9,-999.0000,-999.000, 14.6233,-999.000
      325024_1,  P14N,   179,  1,     24,     24,2,19930827,2235,-13.0002, 178.9943, 1538,    357.4,  11.5485,  34.8224,2,  34.8203,2,   -999.0,9,    120.3,2,    14.13,2,    22.00,2,     0.01,2,     1.70,2,    0.522,2,    0.251,2, -999.000,9,-999.0000,9,  -999.00,9,   -999.0,9,   -999.0,9,  -999.00,9,-999.0000,-999.000, 11.5028,-999.000
      325024_1,  P14N,   179,  1,     23,     23,2,19930827,2235,-13.0002, 178.9943, 1538,    406.9,   9.8255,  34.6783,2,  34.6782,2,   -999.0,9,    139.3,2,    15.69,2,    23.59,2,     0.00,2,     1.76,2, -999.000,5, -999.000,5, -999.000,9,-999.0000,9,  -999.00,9,   -999.0,9,   -999.0,9,  -999.00,9,-999.0000,-999.000,  9.7785,-999.000
      325024_1,  P14N,   179,  1,     22,     22,2,19930827,2235,-13.0002, 178.9943, 1538,    457.9,   8.6001,  34.5650,2,  34.5633,2,   -999.0,9,    163.5,2,    15.46,2,    24.23,2,     0.00,2,     1.76,2,    0.401,2,    0.198,2, -999.000,9,-999.0000,9,  -999.00,9,   -999.0,9,   -999.0,9,  -999.00,9,-999.0000,-999.000,  8.5513,-999.000
      325024_1,  P14N,   179,  1,     21,     21,2,19930827,2235,-13.0002, 178.9943, 1538,    508.4,   7.2210,  34.4732,2,  34.4757,2,   -999.0,9,    169.8,2,    20.61,2,    27.11,2,     0.00,2,     1.93,2, -999.000,5, -999.000,5, -999.000,9,-999.0000,9,  -999.00,9,   -999.0,9,   -999.0,9,  -999.00,9,-999.0000,-999.000,  7.1718,-999.000
      325024_1,  P14N,   179,  1,     20,     20,2,19930827,2235,-13.0002, 178.9943, 1538,    558.6,   6.6259,  34.4372,2,  34.4390,2,   -999.0,9,    175.7,2,    22.77,2,    27.97,2,     0.00,2,     1.97,2,    0.192,2,    0.099,2, -999.000,9,-999.0000,9,  -999.00,9,   -999.0,9,   -999.0,9,  -999.00,9,-999.0000,-999.000,  6.5742,-999.000
      325024_1,  P14N,   179,  1,     19,     19,2,19930827,2235,-13.0002, 178.9943, 1538,    608.6,   5.8918,  34.4234,2,  34.4259,2,   -999.0,9,    170.3,2,    30.92,2,    30.13,2,     0.00,2,     2.10,2, -999.000,5, -999.000,5, -999.000,9,-999.0000,9,  -999.00,9,   -999.0,9,   -999.0,9,  -999.00,9,-999.0000,-999.000,  5.8387,-999.000
      325024_1,  P14N,   179,  1,     18,     18,2,19930827,2235,-13.0002, 178.9943, 1538,    659.4,   5.3609,  34.4312,2,  34.4328,2,   -999.0,9,    164.1,2,    39.07,2,    31.61,2,     0.00,2,     2.21,2,    0.050,2,    0.025,2, -999.000,9,-999.0000,9,  -999.00,9,   -999.0,9,   -999.0,9,  -999.00,9,-999.0000,-999.000,  5.3058,-999.000
      325024_1,  P14N,   179,  1,     17,     17,2,19930827,2235,-13.0002, 178.9943, 1538,    709.8,   4.9831,  34.4443,2,  34.4455,2,   -999.0,9,    158.1,2,    46.42,2,    32.79,2,     0.00,2,     2.29,2, -999.000,5, -999.000,5, -999.000,9,-999.0000,9,  -999.00,9,   -999.0,9,   -999.0,9,  -999.00,9,-999.0000,-999.000,  4.9256,-999.000
      325024_1,  P14N,   179,  1,     16,     16,2,19930827,2235,-13.0002, 178.9943, 1538,    760.5,   4.6262,  34.4618,2,  34.4618,2,   -999.0,9,    153.1,2,    54.37,2,    33.66,2,     0.00,2,     2.35,2,    0.015,2,    0.008,2, -999.000,9,-999.0000,9,  -999.00,9,   -999.0,9,   -999.0,9,  -999.00,9,-999.0000,-999.000,  4.5664,-999.000
      325024_1,  P14N,   179,  1,     15,     15,2,19930827,2235,-13.0002, 178.9943, 1538,    810.9,   4.5406,  34.4789,2,  34.4810,2,   -999.0,9,    146.2,2,    59.73,2,    34.32,2,     0.00,2,     2.40,2, -999.000,5, -999.000,5, -999.000,9,-999.0000,9,  -999.00,9,   -999.0,9,   -999.0,9,  -999.00,9,-999.0000,-999.000,  4.4771,-999.000
      325024_1,  P14N,   179,  1,     14,     14,2,19930827,2235,-13.0002, 178.9943, 1538,    860.6,   4.4623,  34.4834,2,  34.4853,2,   -999.0,9,    145.6,2,    61.69,2,    34.44,2,     0.00,2,     2.41,2,    0.009,2,    0.004,2, -999.000,9,-999.0000,9,  -999.00,9,   -999.0,9,   -999.0,9,  -999.00,9,-999.0000,-999.000,  4.3950,-999.000
      325024_1,  P14N,   179,  1,     13,     13,2,19930827,2235,-13.0002, 178.9943, 1538,    911.6,   4.2389,  34.4929,2,  34.4939,2,   -999.0,9,    144.1,2,    66.04,2,    34.78,2,     0.00,2,     2.43,2, -999.000,5, -999.000,5, -999.000,9,-999.0000,9,  -999.00,9,   -999.0,9,   -999.0,9,  -999.00,9,-999.0000,-999.000,  4.1689,-999.000
      325024_1,  P14N,   179,  1,     12,     12,2,19930827,2235,-13.0002, 178.9943, 1538,    961.2,   4.0100,  34.5029,2,  34.5037,2,   -999.0,9,    144.0,2,    70.81,2,    35.00,2,     0.00,2,     2.45,2,    0.002,2,    0.003,2, -999.000,9,-999.0000,9,  -999.00,9,   -999.0,9,   -999.0,9,  -999.00,9,-999.0000,-999.000,  3.9375,-999.000
      325024_1,  P14N,   179,  1,     11,     11,2,19930827,2235,-13.0002, 178.9943, 1538,   1011.5,   3.8820,  34.5194,2,  34.5202,2,   -999.0,9,    138.7,2,    76.18,2,    35.57,2,     0.00,2,     2.50,2,    0.005,2,    0.003,2, -999.000,9,-999.0000,9,  -999.00,9,   -999.0,9,   -999.0,9,  -999.00,9,-999.0000,-999.000,  3.8062,-999.000
      325024_1,  P14N,   179,  1,     10,     10,2,19930827,2235,-13.0002, 178.9943, 1538,   1061.9,   3.7593,  34.5236,2,  34.5236,2,   -999.0,9,    140.1,2,    78.34,2,    35.60,2,     0.00,2,     2.49,2, -999.000,5, -999.000,5, -999.000,9,-999.0000,9,  -999.00,9,   -999.0,9,   -999.0,9,  -999.00,9,-999.0000,-999.000,  3.6804,-999.000
      325024_1,  P14N,   179,  1,      9,      9,2,19930827,2235,-13.0002, 178.9943, 1538,   1112.9,   3.6198,  34.5299,2,  34.5310,2,   -999.0,9,    140.8,2,    81.70,2,    35.64,2,     0.00,2,     2.49,2, -999.000,5, -999.000,5, -999.000,9,-999.0000,9,  -999.00,9,   -999.0,9,   -999.0,9,  -999.00,9,-999.0000,-999.000,  3.5379,-999.000
      325024_1,  P14N,   179,  1,      8,      8,2,19930827,2235,-13.0002, 178.9943, 1538,   1162.7,   3.5061,  34.5378,2,  34.5381,2,   -999.0,9,    140.3,2,    84.87,2,    35.67,2,     0.00,2,     2.50,2,   -0.001,2,   -0.001,2, -999.000,9,-999.0000,9,  -999.00,9,   -999.0,9,   -999.0,9,  -999.00,9,-999.0000,-999.000,  3.4211,-999.000
      325024_1,  P14N,   179,  1,      7,      7,2,19930827,2235,-13.0002, 178.9943, 1538,   1213.4,   3.4179,  34.5490,2,  34.5508,2,   -999.0,9,    137.3,2,    88.85,2,    36.02,2,     0.00,2,     2.52,2, -999.000,5, -999.000,5, -999.000,9,-999.0000,9,  -999.00,9,   -999.0,9,   -999.0,9,  -999.00,9,-999.0000,-999.000,  3.3294,-999.000
      325024_1,  P14N,   179,  1,      6,      6,2,19930827,2235,-13.0002, 178.9943, 1538,   1264.9,   3.2741,  34.5568,2,  34.5581,2,   -999.0,9,    137.2,2,    91.82,2,    36.10,2,     0.00,2,     2.52,2, -999.000,5, -999.000,5, -999.000,9,-999.0000,9,  -999.00,9,   -999.0,9,   -999.0,9,  -999.00,9,-999.0000,-999.000,  3.1829,-999.000
      325024_1,  P14N,   179,  1,      5,      5,2,19930827,2235,-13.0002, 178.9943, 1538,   1315.2,   3.1367,  34.5634,2,  34.5622,2,   -999.0,9,    140.0,2,    94.39,2,    35.96,2,     0.00,2,     2.51,2,   -0.003,2,   -0.001,2, -999.000,9,-999.0000,9,  -999.00,9,   -999.0,9,   -999.0,9,  -999.00,9,-999.0000,-999.000,  3.0427,-999.000
      325024_1,  P14N,   179,  1,      4,      4,2,19930827,2235,-13.0002, 178.9943, 1538,   1416.1,   2.8572,  34.5781,2,  34.5787,2,   -999.0,9,    143.2,2,   100.41,2,    35.86,2,     0.00,2,     2.50,2, -999.000,5, -999.000,5, -999.000,9,-999.0000,9,  -999.00,9,   -999.0,9,   -999.0,9,  -999.00,9,-999.0000,-999.000,  2.7579,-999.000
      325024_1,  P14N,   179,  1,      3,      3,2,19930827,2235,-13.0002, 178.9943, 1538,   1516.4,   2.7479,  34.5867,2,  34.5865,2,   -999.0,9,    143.8,2,   104.00,2,    35.80,2,     0.00,2,     2.51,2, -999.000,5, -999.000,5, -999.000,9,-999.0000,9,  -999.00,9,   -999.0,9,   -999.0,9,  -999.00,9,-999.0000,-999.000,  2.6416,-999.000
      325024_1,  P14N,   179,  1,      1,      1,2,19930827,2235,-13.0002, 178.9943, 1538,   1552.5,   2.7139,  34.5898,2,  34.5899,2,   -999.0,9,    143.7,2,   105.31,2,    35.88,2,     0.00,2,     2.50,2,    0.000,2,   -0.001,2, -999.000,9,-999.0000,9,  -999.00,9,   -999.0,9,   -999.0,9,  -999.00,9,-999.0000,-999.000,  2.6051,-999.000
      325024_1,  P14N,   179,  1,      2,      2,2,19930827,2235,-13.0002, 178.9943, 1538,   1552.7,   2.7140,  34.5897,2,  34.5901,2,   -999.0,9,    143.9,2,   104.76,2,    35.89,2,     0.00,2,     2.51,2, -999.000,5, -999.000,5, -999.000,9,-999.0000,9,  -999.00,9,   -999.0,9,   -999.0,9,  -999.00,9,-999.0000,-999.000,  2.6051,-999.000