BOTTLE,20131125MIRCJHATS
EXPOCODE,SECT_ID,STNNBR,CASTNO,SAMPNO,BTLNBR,BTLNBR_FLAG_W,DATE,TIME,LATITUDE,LONGITUDE,DEPTH,CTDPRS,CTDTMP,CTDSAL,CTDSAL_FLAG_W,SALNTY,SALNTY_FLAG_W,CTDOXY,CTDOXY_FLAG_W,OXYGEN,OXYGEN_FLAG_W,SILCAT,SILCAT_FLAG_W,NITRAT,NITRAT_FLAG_W,NITRIT,NITRIT_FLAG_W,PHSPHT,PHSPHT_FLAG_W,CFC-11,CFC-11_FLAG_W,CFC-12,CFC-12_FLAG_W,TRITUM,TRITUM_FLAG_W,HELIUM,HELIUM_FLAG_W,DELHE3,DELHE3_FLAG_W,TCARBN,TCARBN_FLAG_W,ALKALI,ALKALI_FLAG_W,PH,PH_FLAG_W,HELIER,DELHER,THETA,TRITER
,,,,,,,,,,,,DBAR,ITS-90,PSS-78,,PSS-78,,UMOL/KG,,UMOL/KG,,UMOL/KG,,UMOL/KG,,UMOL/KG,,UMOL/KG,,PMOL/KG,,PMOL/KG,,TU,,NMOL/KG,,PERCNT,,UMOL/KG,,UMOL/KG,,25_DEG,,NMOL/KG,PERCNT,DEG C,TU
      325023_1,  P14N,   102,  1,     36,     36,2,19930803,0112, 11.5077, 179.0017, 5104,      3.2,  28.3853,  34.5487,2,  34.5524,2,   -999.0,9,    198.5,2,     2.32,2,     0.00,2,     0.00,2,     0.15,2, -999.000,5, -999.000,5, -999.000,9,-999.0000,9,  -999.00,9,   -999.0,9,   -999.0,9,  -999.00,9,-999.0000,-999.000, 28.3845,-999.000
      325023_1,  P14N,   102,  1,     35,     35,2,19930803,0112, 11.5077, 179.0017, 5104,     38.2,  28.0393,  34.5465,2,  34.5504,2,   -999.0,9,    199.0,2,     2.05,2,     0.00,2,     0.00,2,     0.15,2, -999.000,5, -999.000,5, -999.000,9,-999.0000,9,  -999.00,9,   -999.0,9,   -999.0,9,  -999.00,9,-999.0000,-999.000, 28.0303,-999.000
      325023_1,  P14N,   102,  1,     34,     34,2,19930803,0112, 11.5077, 179.0017, 5104,     68.1,  27.9609,  34.5602,2,  34.5636,2,   -999.0,9,    199.1,2,     1.99,2,     0.00,2,     0.00,2,     0.16,2, -999.000,5, -999.000,5, -999.000,9,-999.0000,9,  -999.00,9,   -999.0,9,   -999.0,9,  -999.00,9,-999.0000,-999.000, 27.9449,-999.000
      325023_1,  P14N,   102,  1,     33,     33,2,19930803,0112, 11.5077, 179.0017, 5104,     98.1,  24.8621,  34.7121,2,  34.7003,2,   -999.0,9,    212.7,2,     1.93,2,     0.00,2,     0.00,2,     0.13,2, -999.000,5, -999.000,5, -999.000,9,-999.0000,9,  -999.00,9,   -999.0,9,   -999.0,9,  -999.00,9,-999.0000,-999.000, 24.8410,-999.000
      325023_1,  P14N,   102,  1,     32,     32,2,19930803,0112, 11.5077, 179.0017, 5104,    128.3,  21.8868,  34.9119,2,  34.8993,2,   -999.0,9,    200.0,2,     2.30,2,     0.00,2,     0.01,2,     0.22,2, -999.000,5, -999.000,5, -999.000,9,-999.0000,9,  -999.00,9,   -999.0,9,   -999.0,9,  -999.00,9,-999.0000,-999.000, 21.8615,-999.000
      325023_1,  P14N,   102,  1,     31,     31,2,19930803,0112, 11.5077, 179.0017, 5104,    159.2,  18.7461,  34.8412,2,  34.8410,2,   -999.0,9,    171.2,2,     4.16,2,     4.91,2,     0.04,2,     0.51,2, -999.000,5, -999.000,5, -999.000,9,-999.0000,9,  -999.00,9,   -999.0,9,   -999.0,9,  -999.00,9,-999.0000,-999.000, 18.7180,-999.000
      325023_1,  P14N,   102,  1,     30,     30,2,19930803,0112, 11.5077, 179.0017, 5104,    210.2,  12.7541,  34.3807,2,  34.3849,2,   -999.0,9,    153.0,2,    14.96,2,    15.08,2,     0.01,2,     1.17,2,    1.895,2,    0.922,2, -999.000,9,-999.0000,9,  -999.00,9,   -999.0,9,   -999.0,9,  -999.00,9,-999.0000,-999.000, 12.7257,-999.000
      325023_1,  P14N,   102,  1,     29,     29,2,19930803,0112, 11.5077, 179.0017, 5104,    260.5,  10.2588,  34.3929,2,  34.3935,2,   -999.0,9,     78.8,2,    31.50,2,    27.05,2,     0.00,2,     2.03,2,    0.670,2,    0.321,2, -999.000,9,-999.0000,9,  -999.00,9,   -999.0,9,   -999.0,9,  -999.00,9,-999.0000,-999.000, 10.2282,-999.000
      325023_1,  P14N,   102,  1,     28,     28,2,19930803,0112, 11.5077, 179.0017, 5104,    311.1,   9.1251,  34.4714,2,  34.4679,2,   -999.0,9,     50.1,2,    40.16,2,    31.91,2,     0.00,2,     2.36,2,    0.244,2,    0.122,2, -999.000,9,-999.0000,9,  -999.00,9,   -999.0,9,   -999.0,9,  -999.00,9,-999.0000,-999.000,  9.0910,-999.000
      325023_1,  P14N,   102,  1,     27,     27,2,19930803,0112, 11.5077, 179.0017, 5104,    411.4,   7.9249,  34.5279,2,  34.5291,2,   -999.0,9,     50.9,2,    49.45,2,    35.02,2,     0.00,2,     2.51,2,    0.058,2,    0.025,2, -999.000,9,-999.0000,9,  -999.00,9,   -999.0,9,   -999.0,9,  -999.00,9,-999.0000,-999.000,  7.8832,-999.000
      325023_1,  P14N,   102,  1,     26,     26,2,19930803,0112, 11.5077, 179.0017, 5104,    511.9,   7.1762,  34.5309,2,  34.5300,2,   -999.0,9,     50.8,2,    56.41,2,    36.45,2,     0.00,2,     2.62,2,    0.021,2,    0.010,2, -999.000,9,-999.0000,9,  -999.00,9,   -999.0,9,   -999.0,9,  -999.00,9,-999.0000,-999.000,  7.1268,-999.000
      325023_1,  P14N,   102,  1,     25,     25,2,19930803,0112, 11.5077, 179.0017, 5104,    612.2,   6.4636,  34.5101,2,  34.5090,2,   -999.0,9,     61.3,2,    64.64,2,    36.91,2,     0.00,2,     2.64,2, -999.000,5, -999.000,5, -999.000,9,-999.0000,9,  -999.00,9,   -999.0,9,   -999.0,9,  -999.00,9,-999.0000,-999.000,  6.4074,-999.000
      325023_1,  P14N,   102,  1,     24,     24,2,19930803,0112, 11.5077, 179.0017, 5104,    712.1,   5.7732,  34.5115,2,  34.5116,2,   -999.0,9,     63.9,2,    73.96,2,    37.86,2,     0.00,2,     2.70,2,    0.010,2,    0.004,2, -999.000,9,-999.0000,9,  -999.00,9,   -999.0,9,   -999.0,9,  -999.00,9,-999.0000,-999.000,  5.7112,-999.000
      325023_1,  P14N,   102,  1,     23,     23,2,19930803,0112, 11.5077, 179.0017, 5104,    812.8,   5.3327,  34.5207,2,  34.5204,2,   -999.0,9,     65.8,2,    80.93,2,    38.50,2,     0.00,2,     2.75,2, -999.000,5, -999.000,5, -999.000,9,-999.0000,9,  -999.00,9,   -999.0,9,   -999.0,9,  -999.00,9,-999.0000,-999.000,  5.2640,-999.000
      325023_1,  P14N,   102,  1,     22,     22,2,19930803,0112, 11.5077, 179.0017, 5104,    913.3,   4.8564,  34.5379,2,  34.5378,2,   -999.0,9,     60.7,2,    89.19,2,    39.84,2,     0.00,2,     2.84,2, -999.000,5, -999.000,5, -999.000,9,-999.0000,9,  -999.00,9,   -999.0,9,   -999.0,9,  -999.00,9,-999.0000,-999.000,  4.7818,-999.000
      325023_1,  P14N,   102,  1,     21,     21,2,19930803,0112, 11.5077, 179.0017, 5104,   1013.8,   4.4699,  34.5493,2,  34.5494,2,   -999.0,9,     61.2,2,    96.83,2,    40.30,2,     0.00,2,     2.88,2, -999.000,5, -999.000,5, -999.000,9,-999.0000,9,  -999.00,9,   -999.0,9,   -999.0,9,  -999.00,9,-999.0000,-999.000,  4.3893,-999.000
      325023_1,  P14N,   102,  1,     20,     20,2,19930803,0112, 11.5077, 179.0017, 5104,   1214.9,   3.7493,  34.5700,2,  34.5695,2,   -999.0,9,     69.3,2,   111.61,2,    40.26,2,     0.00,2,     2.85,2, -999.000,5, -999.000,5, -999.000,9,-999.0000,9,  -999.00,9,   -999.0,9,   -999.0,9,  -999.00,9,-999.0000,-999.000,  3.6577,-999.000
      325023_1,  P14N,   102,  1,     19,     19,2,19930803,0112, 11.5077, 179.0017, 5104,   1417.9,   3.2215,  34.5868,2,  34.5860,2,   -999.0,9,     76.8,2,   122.58,2,    40.03,2,     0.00,2,     2.83,2, -999.000,5, -999.000,5, -999.000,9,-999.0000,9,  -999.00,9,   -999.0,9,   -999.0,9,  -999.00,9,-999.0000,-999.000,  3.1180,-999.000
      325023_1,  P14N,   102,  1,     18,     18,2,19930803,0112, 11.5077, 179.0017, 5104,   1622.1,   2.7657,  34.6047,2,  34.6048,2,   -999.0,9,     84.2,2,   132.96,2,    39.66,2,     0.00,2,     2.81,2, -999.000,5, -999.000,5, -999.000,9,-999.0000,9,  -999.00,9,   -999.0,9,   -999.0,9,  -999.00,9,-999.0000,-999.000,  2.6504,-999.000
      325023_1,  P14N,   102,  1,     17,     17,2,19930803,0112, 11.5077, 179.0017, 5104,   1826.2,   2.4383,  34.6204,2,  34.6203,2,   -999.0,9,     92.1,2,   140.10,2,    39.29,2,     0.00,2,     2.76,2, -999.000,5, -999.000,5, -999.000,9,-999.0000,9,  -999.00,9,   -999.0,9,   -999.0,9,  -999.00,9,-999.0000,-999.000,  2.3101,-999.000
      325023_1,  P14N,   102,  1,     16,     16,2,19930803,0112, 11.5077, 179.0017, 5104,   2028.8,   2.1899,  34.6340,2,  34.6336,2,   -999.0,9,    100.6,2,   144.84,2,    38.74,2,     0.00,2,     2.71,2, -999.000,5, -999.000,5, -999.000,9,-999.0000,9,  -999.00,9,   -999.0,9,   -999.0,9,  -999.00,9,-999.0000,-999.000,  2.0481,-999.000
      325023_1,  P14N,   102,  1,     15,     15,2,19930803,0112, 11.5077, 179.0017, 5104,   2231.9,   2.0157,  34.6449,2,  34.6451,2,   -999.0,9,    107.5,2,   148.72,2,    38.28,2,     0.00,2,     2.69,2, -999.000,5, -999.000,5, -999.000,9,-999.0000,9,  -999.00,9,   -999.0,9,   -999.0,9,  -999.00,9,-999.0000,-999.000,  1.8591,-999.000
      325023_1,  P14N,   102,  1,     14,     14,2,19930803,0112, 11.5077, 179.0017, 5104,   2433.9,   1.8897,  34.6538,2,  34.6536,2,   -999.0,9,    113.7,2,   150.60,2,    37.83,2,     0.00,2,     2.64,2, -999.000,5, -999.000,5, -999.000,9,-999.0000,9,  -999.00,9,   -999.0,9,   -999.0,9,  -999.00,9,-999.0000,-999.000,  1.7174,-999.000
      325023_1,  P14N,   102,  1,     13,     13,2,19930803,0112, 11.5077, 179.0017, 5104,   2636.9,   1.8079,  34.6600,2,  34.6602,2,   -999.0,9,    118.1,2,   152.49,2,    37.56,2,     0.00,2,     2.61,2, -999.000,5, -999.000,5, -999.000,9,-999.0000,9,  -999.00,9,   -999.0,9,   -999.0,9,  -999.00,9,-999.0000,-999.000,  1.6187,-999.000
      325023_1,  P14N,   102,  1,     12,     12,2,19930803,0112, 11.5077, 179.0017, 5104,   2837.6,   1.7154,  34.6651,2,  34.6657,2,   -999.0,9,    123.6,2,   152.82,2,    37.29,2,     0.00,2,     2.59,2, -999.000,5, -999.000,5, -999.000,9,-999.0000,9,  -999.00,9,   -999.0,9,   -999.0,9,  -999.00,9,-999.0000,-999.000,  1.5094,-999.000
      325023_1,  P14N,   102,  1,     11,     11,2,19930803,0112, 11.5077, 179.0017, 5104,   3033.3,   1.6284,  34.6698,2,  34.6698,2,   -999.0,9,    130.4,2,   153.37,2,    36.83,2,     0.00,2,     2.55,2, -999.000,5, -999.000,5, -999.000,9,-999.0000,9,  -999.00,9,   -999.0,9,   -999.0,9,  -999.00,9,-999.0000,-999.000,  1.4056,-999.000
      325023_1,  P14N,   102,  1,     10,     10,2,19930803,0112, 11.5077, 179.0017, 5104,   3228.9,   1.5612,  34.6747,2,  34.6749,2,   -999.0,9,    136.4,2,   152.82,2,    36.43,2,     0.00,2,     2.52,2, -999.000,5, -999.000,5, -999.000,9,-999.0000,9,  -999.00,9,   -999.0,9,   -999.0,9,  -999.00,9,-999.0000,-999.000,  1.3209,-999.000
      325023_1,  P14N,   102,  1,      9,      9,2,19930803,0112, 11.5077, 179.0017, 5104,   3429.4,   1.5098,  34.6793,2,  34.6784,2,   -999.0,9,    142.6,2,   152.26,2,    36.02,2,     0.00,2,     2.50,2, -999.000,5, -999.000,5, -999.000,9,-999.0000,9,  -999.00,9,   -999.0,9,   -999.0,9,  -999.00,9,-999.0000,-999.000,  1.2506,-999.000
      325023_1,  P14N,   102,  1,      8,      8,2,19930803,0112, 11.5077, 179.0017, 5104,   3635.4,   1.4564,  34.6830,2,  34.6827,2,   -999.0,9,    152.0,2,   149.93,2,    35.53,2,     0.00,2,     2.46,2, -999.000,5, -999.000,5, -999.000,9,-999.0000,9,  -999.00,9,   -999.0,9,   -999.0,9,  -999.00,9,-999.0000,-999.000,  1.1775,-999.000
      325023_1,  P14N,   102,  1,      7,      7,2,19930803,0112, 11.5077, 179.0017, 5104,   3841.4,   1.4203,  34.6864,2,  34.6854,2,   -999.0,9,    155.1,2,   147.39,2,    35.08,2,     0.00,2,     2.41,2, -999.000,5, -999.000,5, -999.000,9,-999.0000,9,  -999.00,9,   -999.0,9,   -999.0,9,  -999.00,9,-999.0000,-999.000,  1.1206,-999.000
      325023_1,  P14N,   102,  1,      6,      6,2,19930803,0112, 11.5077, 179.0017, 5104,   4049.6,   1.3802,  34.6898,2,  34.6903,2,   -999.0,9,    163.1,2,   143.09,2,    34.59,2,     0.00,2,     2.40,2, -999.000,5, -999.000,5, -999.000,9,-999.0000,9,  -999.00,9,   -999.0,9,   -999.0,9,  -999.00,9,-999.0000,-999.000,  1.0592,-999.000
      325023_1,  P14N,   102,  1,      5,      5,2,19930803,0112, 11.5077, 179.0017, 5104,   4256.8,   1.3175,  34.6953,2,  34.6954,2,   -999.0,9,    173.3,2,   136.62,2,    33.79,2,     0.00,2,     2.33,2, -999.000,5, -999.000,5, -999.000,9,-999.0000,9,  -999.00,9,   -999.0,9,   -999.0,9,  -999.00,9,-999.0000,-999.000,  0.9756,-999.000
      325023_1,  P14N,   102,  1,      4,      4,2,19930803,0112, 11.5077, 179.0017, 5104,   4464.5,   1.2997,  34.6977,2,  34.6975,2,   -999.0,9,    179.7,2,   133.24,2,    33.44,2,     0.00,2,     2.30,2, -999.000,5, -999.000,5, -999.000,9,-999.0000,9,  -999.00,9,   -999.0,9,   -999.0,9,  -999.00,9,-999.0000,-999.000,  0.9350,-999.000
      325023_1,  P14N,   102,  1,      3,      3,2,19930803,0112, 11.5077, 179.0017, 5104,   4673.3,   1.2895,  34.7000,2,  34.6998,2,   -999.0,9,    184.0,2,   130.52,2,    33.13,2,     0.00,2,     2.28,2, -999.000,5, -999.000,5, -999.000,9,-999.0000,9,  -999.00,9,   -999.0,9,   -999.0,9,  -999.00,9,-999.0000,-999.000,  0.9011,-999.000
      325023_1,  P14N,   102,  1,      2,      2,2,19930803,0112, 11.5077, 179.0017, 5104,   4881.8,   1.3112,  34.7001,2,  34.7006,2,   -999.0,9,    184.4,2,   129.98,2,    33.04,2,     0.00,2,     2.27,2, -999.000,5, -999.000,5, -999.000,9,-999.0000,9,  -999.00,9,   -999.0,9,   -999.0,9,  -999.00,9,-999.0000,-999.000,  0.8975,-999.000
      325023_1,  P14N,   102,  1,      1,      1,2,19930803,0112, 11.5077, 179.0017, 5104,   5195.2,   1.3268,  34.7014,2,  34.7015,2,   -999.0,9,    185.6,2,   128.79,2,    32.78,2,     0.00,2,     2.25,2, -999.000,5, -999.000,5, -999.000,9,-999.0000,9,  -999.00,9,   -999.0,9,   -999.0,9,  -999.00,9,-999.0000,-999.000,  0.8746,-999.000