BOTTLE,20131125MIRCJHATS
EXPOCODE,SECT_ID,STNNBR,CASTNO,SAMPNO,BTLNBR,BTLNBR_FLAG_W,DATE,TIME,LATITUDE,LONGITUDE,DEPTH,CTDPRS,CTDTMP,CTDSAL,CTDSAL_FLAG_W,SALNTY,SALNTY_FLAG_W,CTDOXY,CTDOXY_FLAG_W,OXYGEN,OXYGEN_FLAG_W,SILCAT,SILCAT_FLAG_W,NITRAT,NITRAT_FLAG_W,NITRIT,NITRIT_FLAG_W,PHSPHT,PHSPHT_FLAG_W,CFC-11,CFC-11_FLAG_W,CFC-12,CFC-12_FLAG_W,TRITUM,TRITUM_FLAG_W,HELIUM,HELIUM_FLAG_W,DELHE3,DELHE3_FLAG_W,TCARBN,TCARBN_FLAG_W,ALKALI,ALKALI_FLAG_W,PH,PH_FLAG_W,HELIER,DELHER,THETA,TRITER
,,,,,,,,,,,,DBAR,ITS-90,PSS-78,,PSS-78,,UMOL/KG,,UMOL/KG,,UMOL/KG,,UMOL/KG,,UMOL/KG,,UMOL/KG,,PMOL/KG,,PMOL/KG,,TU,,NMOL/KG,,PERCNT,,UMOL/KG,,UMOL/KG,,25_DEG,,NMOL/KG,PERCNT,DEG C,TU
      325023_1,  P14N,    19,  1,     35,     35,2,19930710,2301, 51.3978, 179.9010, 1532,      2.1,   5.1076,  33.0982,2,  33.0995,2,   -999.0,9,    282.0,2,    46.82,2,    23.59,2,     0.24,2,     1.93,2, -999.000,5, -999.000,5, -999.000,9,-999.0000,9,  -999.00,9,   -999.0,9,   -999.0,9,  -999.00,9,-999.0000,-999.000,  5.1074,-999.000
      325023_1,  P14N,    19,  1,     34,     34,2,19930710,2301, 51.3978, 179.9010, 1532,      3.0,   5.0621,  33.1000,2,  33.0990,2,   -999.0,9,    281.2,2,    47.01,2,    23.72,2,     0.24,2,     1.93,2,    4.850,2,    2.329,2, -999.000,9,-999.0000,9,  -999.00,9,   -999.0,9,   -999.0,9,  -999.00,9,-999.0000,-999.000,  5.0619,-999.000
      325023_1,  P14N,    19,  1,     33,     33,2,19930710,2301, 51.3978, 179.9010, 1532,     35.9,   4.3937,  33.2038,2,  33.2103,2,   -999.0,9,    251.1,2,    54.73,2,    26.84,2,     0.22,2,     2.14,2, -999.000,5, -999.000,5, -999.000,9,-999.0000,9,  -999.00,9,   -999.0,9,   -999.0,9,  -999.00,9,-999.0000,-999.000,  4.3912,-999.000
      325023_1,  P14N,    19,  1,     32,     32,2,19930710,2301, 51.3978, 179.9010, 1532,     66.1,   4.2953,  33.2540,2,  33.2575,2,   -999.0,9,    238.6,2,    57.88,2,    27.96,2,     0.20,2,     2.20,2,    4.378,2,    2.097,2, -999.000,9,-999.0000,9,  -999.00,9,   -999.0,9,   -999.0,9,  -999.00,9,-999.0000,-999.000,  4.2907,-999.000
      325023_1,  P14N,    19,  1,     31,     31,2,19930710,2301, 51.3978, 179.9010, 1532,     86.0,   4.1773,  33.2768,2,  33.2771,2,   -999.0,9,    235.7,2,    59.44,2,    28.54,2,     0.19,2,     2.24,2, -999.000,5, -999.000,5, -999.000,9,-999.0000,9,  -999.00,9,   -999.0,9,   -999.0,9,  -999.00,9,-999.0000,-999.000,  4.1714,-999.000
      325023_1,  P14N,    19,  1,     29,     29,2,19930710,2301, 51.3978, 179.9010, 1532,    119.6,   4.0127,  33.3037,2,  33.3044,2,   -999.0,9,    230.0,2,    61.46,2,    29.46,2,     0.15,2,     2.28,2, -999.000,5, -999.000,5, -999.000,9,-999.0000,9,  -999.00,9,   -999.0,9,   -999.0,9,  -999.00,9,-999.0000,-999.000,  4.0047,-999.000
      325023_1,  P14N,    19,  1,     28,     28,2,19930710,2301, 51.3978, 179.9010, 1532,    122.4,   4.0061,  33.3064,2,  33.3065,2,   -999.0,9,    229.1,2,    61.65,2,    29.49,2,     0.16,2,     2.29,2,    4.188,2,    2.029,2, -999.000,9,-999.0000,9,  -999.00,9,   -999.0,9,   -999.0,9,  -999.00,9,-999.0000,-999.000,  3.9979,-999.000
      325023_1,  P14N,    19,  1,     27,     27,2,19930710,2301, 51.3978, 179.9010, 1532,    143.1,   4.0013,  33.3313,2,  33.3334,2,   -999.0,9,    220.0,2,    63.67,2,    30.15,2,     0.15,2,     2.33,2, -999.000,5, -999.000,5, -999.000,9,-999.0000,9,  -999.00,9,   -999.0,9,   -999.0,9,  -999.00,9,-999.0000,-999.000,  3.9917,-999.000
      325023_1,  P14N,    19,  1,     26,     26,2,19930710,2301, 51.3978, 179.9010, 1532,    166.7,   3.8420,  33.3982,2,  33.4001,2,   -999.0,9,    204.1,2,    67.75,2,    31.60,2,     0.12,2,     2.41,2, -999.000,5, -999.000,5, -999.000,9,-999.0000,9,  -999.00,9,   -999.0,9,   -999.0,9,  -999.00,9,-999.0000,-999.000,  3.8310,-999.000
      325023_1,  P14N,    19,  1,     25,     25,2,19930710,2301, 51.3978, 179.9010, 1532,    186.6,   3.7535,  33.4939,2,  33.4977,2,   -999.0,9,    179.0,2,    74.34,2,    33.54,2,     0.09,2,     2.52,2, -999.000,5, -999.000,5, -999.000,9,-999.0000,9,  -999.00,9,   -999.0,9,   -999.0,9,  -999.00,9,-999.0000,-999.000,  3.7413,-999.000
      325023_1,  P14N,    19,  1,     24,     24,2,19930710,2301, 51.3978, 179.9010, 1532,    206.2,   3.7379,  33.5493,2,  33.5535,2,   -999.0,9,    163.6,2,    78.19,2,    34.57,2,     0.08,2,     2.58,2,    3.094,2,    1.493,2, -999.000,9,-999.0000,9,  -999.00,9,   -999.0,9,   -999.0,9,  -999.00,9,-999.0000,-999.000,  3.7244,-999.000
      325023_1,  P14N,    19,  1,     23,     23,2,19930710,2301, 51.3978, 179.9010, 1532,    257.9,   3.6224,  33.7216,2,  33.7281,2,   -999.0,9,    119.3,2,    90.75,2,    37.60,2,     0.05,2,     2.77,2,    2.345,2,    1.119,2, -999.000,9,-999.0000,9,  -999.00,9,   -999.0,9,   -999.0,9,  -999.00,9,-999.0000,-999.000,  3.6055,-999.000
      325023_1,  P14N,    19,  1,     22,     22,2,19930710,2301, 51.3978, 179.9010, 1532,    308.3,   3.5950,  33.7972,2,  33.7961,2,   -999.0,9,    101.4,2,    95.77,2,    38.82,2,     0.04,2,     2.83,2, -999.000,5, -999.000,5, -999.000,9,-999.0000,9,  -999.00,9,   -999.0,9,   -999.0,9,  -999.00,9,-999.0000,-999.000,  3.5747,-999.000
      325023_1,  P14N,    19,  1,     21,     21,2,19930710,2301, 51.3978, 179.9010, 1532,    359.5,   3.5675,  33.8249,2,  33.8273,2,   -999.0,9,     94.5,2,    98.03,2,    39.35,2,     0.04,2,     2.86,2,    1.874,2,    0.878,2, -999.000,9,-999.0000,9,  -999.00,9,   -999.0,9,   -999.0,9,  -999.00,9,-999.0000,-999.000,  3.5437,-999.000
      325023_1,  P14N,    19,  1,     20,     20,2,19930710,2301, 51.3978, 179.9010, 1532,    410.4,   3.5204,  33.8977,2,  33.9012,2,   -999.0,9,     79.3,2,   103.52,2,    40.25,2,     0.03,2,     2.91,2, -999.000,5, -999.000,5, -999.000,9,-999.0000,9,  -999.00,9,   -999.0,9,   -999.0,9,  -999.00,9,-999.0000,-999.000,  3.4932,-999.000
      325023_1,  P14N,    19,  1,     19,     19,2,19930710,2301, 51.3978, 179.9010, 1532,    460.4,   3.5104,  33.9556,2,  33.9585,2,   -999.0,9,     64.9,2,   107.87,2,    41.02,2,     0.02,2,     2.97,2,    1.311,2,    0.624,2, -999.000,9,-999.0000,9,  -999.00,9,   -999.0,9,   -999.0,9,  -999.00,9,-999.0000,-999.000,  3.4797,-999.000
      325023_1,  P14N,    19,  1,     18,     18,2,19930710,2301, 51.3978, 179.9010, 1532,    510.3,   3.4951,  33.9900,2,  33.9907,2,   -999.0,9,     58.5,2,   110.37,2,    41.47,2,     0.02,2,     2.98,2, -999.000,5, -999.000,5, -999.000,9,-999.0000,9,  -999.00,9,   -999.0,9,   -999.0,9,  -999.00,9,-999.0000,-999.000,  3.4609,-999.000
      325023_1,  P14N,    19,  1,     17,     17,3,19930710,2301, 51.3978, 179.9010, 1532,    560.8,   3.4663,  34.0104,2,  34.0995,4,   -999.0,9,     44.5,4,   124.94,4,    42.24,4,     0.01,4,     3.04,4,    0.650,4,    0.300,4, -999.000,9,-999.0000,9,  -999.00,9,   -999.0,9,   -999.0,9,  -999.00,9,-999.0000,-999.000,  3.4286,-999.000
      325023_1,  P14N,    19,  1,     16,     16,2,19930710,2301, 51.3978, 179.9010, 1532,    610.9,   3.4267,  34.0418,2,-999.0000,9,   -999.0,9,   -999.0,9,  -999.00,9,  -999.00,9,  -999.00,9,  -999.00,9, -999.000,5, -999.000,5, -999.000,9,-999.0000,9,  -999.00,9,   -999.0,9,   -999.0,9,  -999.00,9,-999.0000,-999.000,  3.3856,-999.000
      325023_1,  P14N,    19,  1,     15,     15,2,19930710,2301, 51.3978, 179.9010, 1532,    662.2,   3.3862,  34.0780,2,  34.0766,2,   -999.0,9,     45.7,2,   119.10,2,    42.37,2,     0.01,2,     3.03,2,    0.866,2,    0.400,2, -999.000,9,-999.0000,9,  -999.00,9,   -999.0,9,   -999.0,9,  -999.00,9,-999.0000,-999.000,  3.3414,-999.000
      325023_1,  P14N,    19,  1,     14,     14,2,19930710,2301, 51.3978, 179.9010, 1532,    713.0,   3.3138,  34.1161,2,  34.1134,2,   -999.0,9,     42.7,2,   122.55,2,    42.41,2,     0.01,2,     3.05,2, -999.000,5, -999.000,5, -999.000,9,-999.0000,9,  -999.00,9,   -999.0,9,   -999.0,9,  -999.00,9,-999.0000,-999.000,  3.2657,-999.000
      325023_1,  P14N,    19,  1,     13,     13,2,19930710,2301, 51.3978, 179.9010, 1532,    762.7,   3.2740,  34.1435,2,  34.1433,2,   -999.0,9,     39.9,2,   125.30,2,    42.58,2,     0.01,2,     3.05,2,    0.679,2,    0.319,2, -999.000,9,-999.0000,9,  -999.00,9,   -999.0,9,   -999.0,9,  -999.00,9,-999.0000,-999.000,  3.2225,-999.000
      325023_1,  P14N,    19,  1,     12,     12,2,19930710,2301, 51.3978, 179.9010, 1532,    811.5,   3.2154,  34.1738,2,  34.1750,2,   -999.0,9,     36.7,2,   128.53,2,    42.71,2,     0.01,2,     3.07,2, -999.000,5, -999.000,5, -999.000,9,-999.0000,9,  -999.00,9,   -999.0,9,   -999.0,9,  -999.00,9,-999.0000,-999.000,  3.1606,-999.000
      325023_1,  P14N,    19,  1,     11,     11,2,19930710,2301, 51.3978, 179.9010, 1532,    862.4,   3.1451,  34.2111,2,  34.2089,2,   -999.0,9,     33.2,2,   132.46,2,    42.93,2,     0.01,2,     3.08,2,    0.488,2,    0.241,2, -999.000,9,-999.0000,9,  -999.00,9,   -999.0,9,   -999.0,9,  -999.00,9,-999.0000,-999.000,  3.0870,-999.000
      325023_1,  P14N,    19,  1,     10,     10,2,19930710,2301, 51.3978, 179.9010, 1532,    914.6,   3.0847,  34.2452,2,  34.2435,2,   -999.0,9,     28.6,2,   136.87,2,    43.19,2,     0.01,2,     3.09,2, -999.000,5, -999.000,5, -999.000,9,-999.0000,9,  -999.00,9,   -999.0,9,   -999.0,9,  -999.00,9,-999.0000,-999.000,  3.0230,-999.000
      325023_1,  P14N,    19,  1,      9,      9,2,19930710,2301, 51.3978, 179.9010, 1532,    966.0,   3.0020,  34.2769,2,  34.2758,2,   -999.0,9,     27.1,2,   141.05,2,    43.27,2,     0.01,2,     3.10,2,    0.295,2,    0.131,2, -999.000,9,-999.0000,9,  -999.00,9,   -999.0,9,   -999.0,9,  -999.00,9,-999.0000,-999.000,  2.9371,-999.000
      325023_1,  P14N,    19,  1,      8,      8,2,19930710,2301, 51.3978, 179.9010, 1532,   1016.9,   2.9736,  34.2872,2,  34.2870,2,   -999.0,9,     27.2,2,   142.19,2,    43.26,2,     0.01,2,     3.10,2, -999.000,5, -999.000,5, -999.000,9,-999.0000,9,  -999.00,9,   -999.0,9,   -999.0,9,  -999.00,9,-999.0000,-999.000,  2.9051,-999.000
      325023_1,  P14N,    19,  1,      7,      7,2,19930710,2301, 51.3978, 179.9010, 1532,   1116.7,   2.7214,  34.3706,2,  34.3706,2,   -999.0,9,     27.3,2,   151.58,2,    43.25,2,     0.01,2,     3.09,2,    0.154,2,    0.068,2, -999.000,9,-999.0000,9,  -999.00,9,   -999.0,9,   -999.0,9,  -999.00,9,-999.0000,-999.000,  2.6473,-999.000
      325023_1,  P14N,    19,  1,      6,      6,2,19930710,2301, 51.3978, 179.9010, 1532,   1215.1,   2.5436,  34.4253,2,  34.4261,2,   -999.0,9,     29.1,2,   157.94,3,    43.24,2,     0.01,2,     3.09,2, -999.000,5, -999.000,5, -999.000,9,-999.0000,9,  -999.00,9,   -999.0,9,   -999.0,9,  -999.00,9,-999.0000,-999.000,  2.4636,-999.000
      325023_1,  P14N,    19,  1,      5,      5,2,19930710,2301, 51.3978, 179.9010, 1532,   1315.2,   2.5094,  34.4369,2,  34.4370,2,   -999.0,9,     30.2,2,   158.62,2,    42.96,2,     0.01,2,     3.09,2,    0.072,2,    0.019,2, -999.000,9,-999.0000,9,  -999.00,9,   -999.0,9,   -999.0,9,  -999.00,9,-999.0000,-999.000,  2.4220,-999.000
      325023_1,  P14N,    19,  1,      4,      4,2,19930710,2301, 51.3978, 179.9010, 1532,   1418.5,   2.3559,  34.4805,2,  34.4780,2,   -999.0,9,     33.8,2,   161.91,2,    43.00,2,     0.01,2,     3.05,2, -999.000,5, -999.000,5, -999.000,9,-999.0000,9,  -999.00,9,   -999.0,9,   -999.0,9,  -999.00,9,-999.0000,-999.000,  2.2621,-999.000
      325023_1,  P14N,    19,  1,      3,      3,2,19930710,2301, 51.3978, 179.9010, 1532,   1521.4,   2.2730,  34.5008,2,  34.5005,2,   -999.0,9,     38.5,2,   164.26,2,    42.76,2,     0.01,2,     3.05,2, -999.000,5, -999.000,5, -999.000,9,-999.0000,9,  -999.00,9,   -999.0,9,   -999.0,9,  -999.00,9,-999.0000,-999.000,  2.1721,-999.000
      325023_1,  P14N,    19,  1,      1,      1,2,19930710,2301, 51.3978, 179.9010, 1532,   1538.9,   2.2731,  34.5009,2,  34.5009,2,   -999.0,9,     38.5,2,   164.44,2,    42.79,2,     0.01,2,     3.05,2, -999.000,5, -999.000,5, -999.000,9,-999.0000,9,  -999.00,9,   -999.0,9,   -999.0,9,  -999.00,9,-999.0000,-999.000,  2.1708,-999.000
      325023_1,  P14N,    19,  1,      2,      2,2,19930710,2301, 51.3978, 179.9010, 1532,   1539.1,   2.2711,  34.5015,2,  34.5007,2,   -999.0,9,     38.7,2,   164.23,2,    42.66,2,     0.01,2,     3.05,2,    0.016,2,    0.004,2, -999.000,9,-999.0000,9,  -999.00,9,   -999.0,9,   -999.0,9,  -999.00,9,-999.0000,-999.000,  2.1688,-999.000