BOTTLE,20131125MIRCJHATS
EXPOCODE,SECT_ID,STNNBR,CASTNO,SAMPNO,BTLNBR,BTLNBR_FLAG_W,DATE,TIME,LATITUDE,LONGITUDE,DEPTH,CTDPRS,CTDTMP,CTDSAL,CTDSAL_FLAG_W,SALNTY,SALNTY_FLAG_W,CTDOXY,CTDOXY_FLAG_W,OXYGEN,OXYGEN_FLAG_W,SILCAT,SILCAT_FLAG_W,NITRAT,NITRAT_FLAG_W,NITRIT,NITRIT_FLAG_W,PHSPHT,PHSPHT_FLAG_W,CFC-11,CFC-11_FLAG_W,CFC-12,CFC-12_FLAG_W,TRITUM,TRITUM_FLAG_W,HELIUM,HELIUM_FLAG_W,DELHE3,DELHE3_FLAG_W,TCARBN,TCARBN_FLAG_W,ALKALI,ALKALI_FLAG_W,PH,PH_FLAG_W,HELIER,DELHER,THETA,TRITER
,,,,,,,,,,,,DBAR,ITS-90,PSS-78,,PSS-78,,UMOL/KG,,UMOL/KG,,UMOL/KG,,UMOL/KG,,UMOL/KG,,UMOL/KG,,PMOL/KG,,PMOL/KG,,TU,,NMOL/KG,,PERCNT,,UMOL/KG,,UMOL/KG,,25_DEG,,NMOL/KG,PERCNT,DEG C,TU
      325023_1,  P14N,   121,  1,     36,     36,2,19930807,0641,  5.4932, 178.9993, 5705,      2.5,  29.7188,  34.0689,2,  34.0713,2,   -999.0,9,    195.4,2,     1.92,2,     0.03,2,     0.00,2,     0.17,2,    1.568,2,    0.870,2, -999.000,9,-999.0000,9,  -999.00,9,   1888.3,2,   2239.0,2,     8.15,2,-999.0000,-999.000, 29.7182,-999.000
      325023_1,  P14N,   121,  1,     35,     35,2,19930807,0641,  5.4932, 178.9993, 5705,     38.1,  29.1068,  34.0836,2,  34.0873,2,   -999.0,9,    196.3,2,     1.48,2,     0.03,2,     0.00,2,     0.16,2,    1.583,2,    0.898,2, -999.000,9,-999.0000,9,  -999.00,9,   1891.1,2,   2237.2,2,     8.15,2,-999.0000,-999.000, 29.0976,-999.000
      325023_1,  P14N,   121,  1,     34,     34,2,19930807,0641,  5.4932, 178.9993, 5705,     68.8,  27.2111,  34.4881,2,  34.4629,2,   -999.0,9,    192.4,2,     1.81,2,     0.03,2,     0.00,2,     0.14,2,    1.663,2,    0.915,2, -999.000,9,-999.0000,9,  -999.00,9,   1938.4,2,   2262.7,2,     8.10,2,-999.0000,-999.000, 27.1952,-999.000
      325023_1,  P14N,   121,  1,     33,     33,2,19930807,0641,  5.4932, 178.9993, 5705,     99.4,  24.3800,  34.8291,2,  34.8366,2,   -999.0,9,    158.4,2,     3.31,2,     3.06,2,     0.31,2,     0.43,2,    1.620,2,    0.884,2, -999.000,9,-999.0000,9,  -999.00,9,   2011.2,2,   2285.3,2,  -999.00,9,-999.0000,-999.000, 24.3588,-999.000
      325023_1,  P14N,   121,  1,     32,     32,2,19930807,0641,  5.4932, 178.9993, 5705,    129.4,  18.3093,  34.7303,2,  34.7377,2,   -999.0,9,    141.7,2,     8.69,2,     9.70,2,     0.11,2,     0.81,2,    1.701,6,    0.887,6, -999.000,9,-999.0000,9,  -999.00,9,   2075.7,2,   2289.6,2,     7.88,2,-999.0000,-999.000, 18.2869,-999.000
      325023_1,  P14N,   121,  1,     31,     31,2,19930807,0641,  5.4932, 178.9993, 5705,    159.6,  13.9189,  34.5892,2,  34.5909,2,   -999.0,9,    104.0,2,    18.54,2,    19.59,2,     0.01,2,     1.46,2,    1.231,2,    0.616,2, -999.000,9,-999.0000,9,  -999.00,9,   2145.5,2,   2286.6,2,  -999.00,9,-999.0000,-999.000, 13.8960,-999.000
      325023_1,  P14N,   121,  1,     30,     30,2,19930807,0641,  5.4932, 178.9993, 5705,    209.7,  10.8215,  34.6375,2,  34.6367,2,   -999.0,9,     52.9,2,    30.70,2,    30.41,2,     0.00,2,     2.17,2,    0.326,2,    0.161,2, -999.000,9,-999.0000,9,  -999.00,9,   2222.7,2,   -999.0,9,     7.54,2,-999.0000,-999.000, 10.7960,-999.000
      325023_1,  P14N,   121,  1,     29,     29,2,19930807,0641,  5.4932, 178.9993, 5705,    258.4,   9.8611,  34.6575,2,  34.6577,2,   -999.0,9,     55.8,2,    33.36,2,    32.02,2,     0.00,2,     2.27,2,    0.181,2,    0.093,2, -999.000,9,-999.0000,9,  -999.00,9,   2231.1,2,   2303.8,2,  -999.00,9,-999.0000,-999.000,  9.8314,-999.000
      325023_1,  P14N,   121,  1,     28,     28,2,19930807,0641,  5.4932, 178.9993, 5705,    307.8,   9.2824,  34.6487,2,  34.6489,2,   -999.0,9,     60.9,2,    34.67,2,    32.81,2,     0.00,2,     2.30,2,    0.132,2,    0.067,2, -999.000,9,-999.0000,9,  -999.00,9,   2235.7,2,   2305.8,2,     7.52,2,-999.0000,-999.000,  9.2483,-999.000
      325023_1,  P14N,   121,  1,     27,     27,2,19930807,0641,  5.4932, 178.9993, 5705,    407.5,   8.6100,  34.6289,2,  34.6288,2,   -999.0,9,     55.0,2,    38.49,2,    34.84,2,     0.00,2,     2.44,2,    0.067,2,    0.028,2, -999.000,9,-999.0000,9,  -999.00,9,   2244.9,2,   2310.6,2,     7.49,2,-999.0000,-999.000,  8.5666,-999.000
      325023_1,  P14N,   121,  1,     26,     26,2,19930807,0641,  5.4932, 178.9993, 5705,    507.1,   7.7794,  34.5971,2,  34.5968,2,   -999.0,9,     40.5,2,    46.39,2,    37.83,2,     0.00,2,     2.68,2,    0.017,2,    0.012,2, -999.000,9,-999.0000,9,  -999.00,9,   2268.5,2,   2315.0,2,     7.44,2,-999.0000,-999.000,  7.7282,-999.000
      325023_1,  P14N,   121,  1,     25,     25,2,19930807,0641,  5.4932, 178.9993, 5705,    607.4,   6.8638,  34.5654,2,  34.5650,2,   -999.0,9,     37.1,2,    56.83,2,    39.93,2,     0.00,2,     2.83,2,    0.013,2,    0.008,2, -999.000,9,-999.0000,9,  -999.00,9,   2286.5,2,   2325.2,2,     7.42,2,-999.0000,-999.000,  6.8063,-999.000
      325023_1,  P14N,   121,  1,     24,     24,2,19930807,0641,  5.4932, 178.9993, 5705,    710.2,   5.9042,  34.5488,2,  34.5479,2,   -999.0,9,     44.4,2,    68.46,2,    41.23,2,     0.00,2,     2.91,2,   -0.001,2,    0.003,2, -999.000,9,-999.0000,9,  -999.00,9,   2300.0,2,   2334.2,2,     7.42,2,-999.0000,-999.000,  5.8415,-999.000
      325023_1,  P14N,   121,  1,     23,     23,2,19930807,0641,  5.4932, 178.9993, 5705,    813.2,   5.2562,  34.5452,2,  34.5443,2,   -999.0,9,     60.5,2,    78.16,2,    40.45,2,     0.00,2,     2.86,2,    0.002,2,    0.001,2, -999.000,9,-999.0000,9,  -999.00,9,   2301.7,2,   2347.0,2,     7.44,2,-999.0000,-999.000,  5.1879,-999.000
      325023_1,  P14N,   121,  1,     22,     22,2,19930807,0641,  5.4932, 178.9993, 5705,    913.3,   4.7335,  34.5515,2,  34.5512,2,   -999.0,9,     72.5,2,    85.94,2,    39.95,2,     0.00,2,     2.82,2,    0.004,2,    0.006,2, -999.000,9,-999.0000,9,  -999.00,9,   2310.1,2,   2354.0,2,  -999.00,9,-999.0000,-999.000,  4.6598,-999.000
      325023_1,  P14N,   121,  1,     21,     21,2,19930807,0641,  5.4932, 178.9993, 5705,   1012.4,   4.3609,  34.5592,2,  34.5590,2,   -999.0,9,     75.6,2,    93.54,2,    39.96,2,     0.00,2,     2.82,2,    0.001,2,   -0.001,2, -999.000,9,-999.0000,9,  -999.00,9,   2314.9,2,   2363.0,2,  -999.00,9,-999.0000,-999.000,  4.2814,-999.000
      325023_1,  P14N,   121,  1,     20,     20,2,19930807,0641,  5.4932, 178.9993, 5705,   1213.7,   3.7291,  34.5777,2,  34.5772,2,   -999.0,9,     83.6,2,   105.72,2,    39.83,2,     0.00,2,     2.83,2, -999.000,5, -999.000,5, -999.000,9,-999.0000,9,  -999.00,9,   2324.2,2,   2375.1,2,  -999.00,9,-999.0000,-999.000,  3.6377,-999.000
      325023_1,  P14N,   121,  1,     19,     19,2,19930807,0641,  5.4932, 178.9993, 5705,   1416.3,   3.2398,  34.5961,2,  34.5956,2,   -999.0,9,     81.2,2,   119.21,2,    40.48,2,     0.00,2,     2.86,2, -999.000,5, -999.000,5, -999.000,9,-999.0000,9,  -999.00,9,   2339.0,2,   2391.2,2,  -999.00,9,-999.0000,-999.000,  3.1362,-999.000
      325023_1,  P14N,   121,  1,     18,     18,2,19930807,0641,  5.4932, 178.9993, 5705,   1619.9,   2.8066,  34.6130,2,  34.6120,2,   -999.0,9,     88.6,2,   129.40,2,    40.07,2,     0.00,2,     2.83,2, -999.000,5, -999.000,5, -999.000,9,-999.0000,9,  -999.00,9,   2344.8,2,   2400.5,2,  -999.00,9,-999.0000,-999.000,  2.6909,-999.000
      325023_1,  P14N,   121,  1,     17,     17,2,19930807,0641,  5.4932, 178.9993, 5705,   1823.1,   2.4434,  34.6290,2,  34.6287,2,   -999.0,9,     97.8,2,   137.03,2,    39.43,2,     0.00,2,     2.78,2, -999.000,5, -999.000,5, -999.000,9,-999.0000,9,  -999.00,9,   2349.4,2,   2413.4,2,     7.49,2,-999.0000,-999.000,  2.3154,-999.000
      325023_1,  P14N,   121,  1,     16,     16,2,19930807,0641,  5.4932, 178.9993, 5705,   2026.6,   2.1939,  34.6427,2,  34.6418,2,   -999.0,9,    104.8,2,   142.67,2,    39.07,2,     0.00,2,     2.73,2,    0.006,2,    0.001,2, -999.000,9,-999.0000,9,  -999.00,9,   2352.8,2,   2419.5,2,  -999.00,9,-999.0000,-999.000,  2.0522,-999.000
      325023_1,  P14N,   121,  1,     15,     15,2,19930807,0641,  5.4932, 178.9993, 5705,   2229.9,   2.0173,  34.6523,2,  34.6520,2,   -999.0,9,    109.7,2,   146.91,2,    38.67,2,     0.00,2,     2.71,2, -999.000,5, -999.000,5, -999.000,9,-999.0000,9,  -999.00,9,   2354.7,2,   2423.0,2,  -999.00,9,-999.0000,-999.000,  1.8608,-999.000
      325023_1,  P14N,   121,  1,     14,     14,2,19930807,0641,  5.4932, 178.9993, 5705,   2432.2,   1.8844,  34.6597,2,  34.6600,2,   -999.0,9,    115.2,2,   149.51,2,    38.26,2,     0.00,2,     2.67,2, -999.000,5, -999.000,5, -999.000,9,-999.0000,9,  -999.00,9,   2350.1,2,   2426.0,2,  -999.00,9,-999.0000,-999.000,  1.7123,-999.000
      325023_1,  P14N,   121,  1,     13,     13,2,19930807,0641,  5.4932, 178.9993, 5705,   2635.7,   1.7976,  34.6631,2,  34.6635,2,   -999.0,9,    123.1,2,   148.19,2,    37.82,2,     0.00,2,     2.63,2, -999.000,5, -999.000,5, -999.000,9,-999.0000,9,  -999.00,9,   2349.3,2,   -999.0,9,     7.54,2,-999.0000,-999.000,  1.6087,-999.000
      325023_1,  P14N,   121,  1,     12,     12,2,19930807,0641,  5.4932, 178.9993, 5705,   2840.0,   1.7247,  34.6675,2,  34.6680,2,   -999.0,9,    127.1,2,   149.35,2,    37.55,2,     0.00,2,     2.60,2, -999.000,5, -999.000,5, -999.000,9,-999.0000,9,  -999.00,9,   2347.0,2,   2428.1,2,  -999.00,9,-999.0000,-999.000,  1.5183,-999.000
      325023_1,  P14N,   121,  1,     11,     11,2,19930807,0641,  5.4932, 178.9993, 5705,   3043.4,   1.6512,  34.6714,2,  34.6711,2,   -999.0,9,    133.6,2,   148.24,2,    37.06,2,     0.00,2,     2.57,2,    0.001,2,   -0.001,2, -999.000,9,-999.0000,9,  -999.00,9,   2341.8,2,   2423.9,2,  -999.00,9,-999.0000,-999.000,  1.4269,-999.000
      325023_1,  P14N,   121,  1,     10,     10,2,19930807,0641,  5.4932, 178.9993, 5705,   3350.2,   1.5599,  34.6777,2,  34.6775,2,   -999.0,9,    143.2,2,   146.31,2,    36.26,2,     0.00,2,     2.51,2, -999.000,5, -999.000,5, -999.000,9,-999.0000,9,  -999.00,9,   2335.9,2,   2422.2,2,  -999.00,9,-999.0000,-999.000,  1.3075,-999.000
      325023_1,  P14N,   121,  1,      9,      9,2,19930807,0641,  5.4932, 178.9993, 5705,   3657.2,   1.4628,  34.6845,2,  34.6841,2,   -999.0,9,    153.6,2,   143.97,2,    35.51,2,     0.00,2,     2.45,2, -999.000,5, -999.000,5, -999.000,9,-999.0000,9,  -999.00,9,   2324.7,2,   2416.9,2,  -999.00,9,-999.0000,-999.000,  1.1814,-999.000
      325023_1,  P14N,   121,  1,      8,      8,2,19930807,0641,  5.4932, 178.9993, 5705,   3965.1,   1.3684,  34.6915,2,  34.6916,2,   -999.0,9,    166.2,2,   139.40,2,    34.76,2,     0.00,2,     2.40,2, -999.000,5, -999.000,5, -999.000,9,-999.0000,9,  -999.00,9,   2313.7,2,   2411.8,2,  -999.00,9,-999.0000,-999.000,  1.0569,-999.000
      325023_1,  P14N,   121,  1,      7,      7,2,19930807,0641,  5.4932, 178.9993, 5705,   4273.2,   1.2854,  34.6977,2,  34.6976,2,   -999.0,9,    176.6,2,   134.24,2,    33.97,2,     0.00,2,     2.34,2, -999.000,5, -999.000,5, -999.000,9,-999.0000,9,  -999.00,9,   2301.4,2,   2403.6,2,  -999.00,9,-999.0000,-999.000,  0.9425,-999.000
      325023_1,  P14N,   121,  1,      6,      6,2,19930807,0641,  5.4932, 178.9993, 5705,   4579.2,   1.2528,  34.7011,2,  34.7019,2,   -999.0,9,    185.9,2,   129.51,2,    33.40,2,     0.00,2,     2.29,2, -999.000,5, -999.000,5, -999.000,9,-999.0000,9,  -999.00,9,   2289.8,2,   2395.1,2,  -999.00,9,-999.0000,-999.000,  0.8763,-999.000
      325023_1,  P14N,   121,  1,      5,      5,2,19930807,0641,  5.4932, 178.9993, 5705,   4888.9,   1.2701,  34.7027,2,  34.7025,2,   -999.0,9,    188.3,2,   128.83,2,    33.28,2,     0.00,2,     2.28,2, -999.000,5, -999.000,5, -999.000,9,-999.0000,9,  -999.00,9,   2289.0,2,   2391.1,2,  -999.00,9,-999.0000,-999.000,  0.8568,-999.000
      325023_1,  P14N,   121,  1,      4,      4,2,19930807,0641,  5.4932, 178.9993, 5705,   5196.2,   1.2958,  34.7031,2,  34.7032,2,   -999.0,9,    189.9,2,   127.55,2,    33.15,2,     0.00,2,     2.26,2, -999.000,5, -999.000,5, -999.000,9,-999.0000,9,  -999.00,9,   2288.5,2,   2390.3,2,     7.61,2,-999.0000,-999.000,  0.8445,-999.000
      325023_1,  P14N,   121,  1,      3,      3,2,19930807,0641,  5.4932, 178.9993, 5705,   5505.7,   1.3283,  34.7035,2,  34.7036,2,   -999.0,9,    191.0,2,   126.67,2,    33.07,2,     0.00,2,     2.26,2, -999.000,5, -999.000,5, -999.000,9,-999.0000,9,  -999.00,9,   2287.6,2,   2369.5,3,  -999.00,9,-999.0000,-999.000,  0.8372,-999.000
      325023_1,  P14N,   121,  1,      2,      2,2,19930807,0641,  5.4932, 178.9993, 5705,   5814.7,   1.3671,  34.7036,2,  34.7037,2,   -999.0,9,    191.2,2,   126.19,2,    32.98,2,     0.00,2,     2.26,2, -999.000,5, -999.000,5, -999.000,9,-999.0000,9,  -999.00,9,   2286.6,2,   2393.7,2,  -999.00,9,-999.0000,-999.000,  0.8347,-999.000
      325023_1,  P14N,   121,  1,      1,      1,2,19930807,0641,  5.4932, 178.9993, 5705,   5870.9,   1.3740,  34.7038,2,  34.7043,2,   -999.0,9,    189.5,4,   126.32,2,    33.03,2,     0.00,2,     2.26,2,    0.000,2,    0.000,2, -999.000,9,-999.0000,9,  -999.00,9,   2285.5,2,   2393.7,2,     7.58,2,-999.0000,-999.000,  0.8340,-999.000