BOTTLE,20131125MIRCJHATS
EXPOCODE,SECT_ID,STNNBR,CASTNO,SAMPNO,BTLNBR,BTLNBR_FLAG_W,DATE,TIME,LATITUDE,LONGITUDE,DEPTH,CTDPRS,CTDTMP,CTDSAL,CTDSAL_FLAG_W,SALNTY,SALNTY_FLAG_W,CTDOXY,CTDOXY_FLAG_W,OXYGEN,OXYGEN_FLAG_W,SILCAT,SILCAT_FLAG_W,NITRAT,NITRAT_FLAG_W,NITRIT,NITRIT_FLAG_W,PHSPHT,PHSPHT_FLAG_W,CFC-11,CFC-11_FLAG_W,CFC-12,CFC-12_FLAG_W,TRITUM,TRITUM_FLAG_W,HELIUM,HELIUM_FLAG_W,DELHE3,DELHE3_FLAG_W,TCARBN,TCARBN_FLAG_W,ALKALI,ALKALI_FLAG_W,PH,PH_FLAG_W,HELIER,DELHER,THETA,TRITER
,,,,,,,,,,,,DBAR,ITS-90,PSS-78,,PSS-78,,UMOL/KG,,UMOL/KG,,UMOL/KG,,UMOL/KG,,UMOL/KG,,UMOL/KG,,PMOL/KG,,PMOL/KG,,TU,,NMOL/KG,,PERCNT,,UMOL/KG,,UMOL/KG,,25_DEG,,NMOL/KG,PERCNT,DEG C,TU
      325023_1,  P14N,    13,  1,     34,     34,4,19930709,2013, 53.0012,-178.5973, 3709,      4.0,   6.5519,  33.0614,2,  33.0614,2,   -999.0,9,    315.8,2,    30.11,2,    18.98,2,     0.24,2,     1.67,2,    5.057,2,    2.463,2, -999.000,9,-999.0000,9,  -999.00,9,   2068.9,2,   2238.7,2,  -999.00,9,-999.0000,-999.000,  6.5516,-999.000
      325023_1,  P14N,    13,  1,     35,     35,4,19930709,2013, 53.0012,-178.5973, 3709,      4.2,   6.5512,  33.0615,2,  33.0616,2,   -999.0,9,    315.9,2,    31.13,2,    19.08,2,     0.24,2,     1.67,2, -999.000,5, -999.000,5, -999.000,9,-999.0000,9,  -999.00,9,   2066.6,2,   2240.2,2,  -999.00,9,-999.0000,-999.000,  6.5508,-999.000
      325023_1,  P14N,    13,  1,     33,     33,4,19930709,2013, 53.0012,-178.5973, 3709,     36.3,   3.8937,  33.1542,2,  33.1711,2,   -999.0,9,    315.1,2,    46.84,2,    23.81,2,     0.46,2,     2.07,2, -999.000,5, -999.000,5, -999.000,9,-999.0000,9,  -999.00,9,   2121.3,2,   2248.2,2,  -999.00,9,-999.0000,-999.000,  3.8914,-999.000
      325023_1,  P14N,    13,  1,     32,     32,4,19930709,2013, 53.0012,-178.5973, 3709,     66.6,   2.6039,  33.2009,2,  33.2032,2,   -999.0,9,    313.3,2,    58.11,2,    28.68,2,     0.03,2,     2.26,2,    5.712,2,    2.770,2, -999.000,9,-999.0000,9,  -999.00,9,   -999.0,9,   -999.0,9,  -999.00,9,-999.0000,-999.000,  2.6002,-999.000
      325023_1,  P14N,    13,  1,     31,     31,4,19930709,2013, 53.0012,-178.5973, 3709,     97.1,   2.5395,  33.2237,2,  33.2241,2,   -999.0,9,    307.1,2,    58.96,2,    29.25,2,     0.08,2,     2.29,2,    5.643,2,    2.747,2, -999.000,9,-999.0000,9,  -999.00,9,   -999.0,9,   -999.0,9,  -999.00,9,-999.0000,-999.000,  2.5342,-999.000
      325023_1,  P14N,    13,  1,     30,     30,3,19930709,2013, 53.0012,-178.5973, 3709,    127.2,   2.8300,  33.3011,2,  34.6467,4,   -999.0,9,     88.6,4,   211.16,4,    37.98,4,     0.00,4,     2.92,4,    0.003,4,    0.006,4, -999.000,9,-999.0000,9,  -999.00,9,   -999.0,9,   -999.0,9,  -999.00,9,-999.0000,-999.000,  2.8227,-999.000
      325023_1,  P14N,    13,  1,     29,     29,4,19930709,2013, 53.0012,-178.5973, 3709,    157.2,   3.2596,  33.4267,2,  33.4144,2,   -999.0,9,    218.9,2,    71.98,2,    33.28,2,     0.01,2,     2.53,2,    4.095,2,    1.958,2, -999.000,9,-999.0000,9,  -999.00,9,   -999.0,9,   -999.0,9,  -999.00,9,-999.0000,-999.000,  3.2499,-999.000
      325023_1,  P14N,    13,  1,     28,     28,4,19930709,2013, 53.0012,-178.5973, 3709,    207.7,   3.6418,  33.6293,2,  33.6296,2,   -999.0,9,    133.5,2,    85.33,2,    37.68,2,     0.01,2,     2.78,2,    1.914,3,    1.128,2, -999.000,9,-999.0000,9,  -999.00,9,   -999.0,9,   -999.0,9,  -999.00,9,-999.0000,-999.000,  3.6283,-999.000
      325023_1,  P14N,    13,  1,     27,     27,4,19930709,2013, 53.0012,-178.5973, 3709,    256.6,   3.7328,  33.7653,2,  33.7677,2,   -999.0,9,     89.8,2,    93.72,2,    40.10,2,     0.01,2,     2.91,2, -999.000,5, -999.000,5, -999.000,9,-999.0000,9,  -999.00,9,   -999.0,9,   -999.0,9,  -999.00,9,-999.0000,-999.000,  3.7158,-999.000
      325023_1,  P14N,    13,  1,     26,     26,4,19930709,2013, 53.0012,-178.5973, 3709,    305.1,   3.7156,  33.8499,2,  33.8527,2,   -999.0,9,     68.5,2,    99.97,2,    41.28,2,     0.01,2,     2.99,2,    1.615,2,    0.790,2, -999.000,9,-999.0000,9,  -999.00,9,   -999.0,9,   -999.0,9,  -999.00,9,-999.0000,-999.000,  3.6951,-999.000
      325023_1,  P14N,    13,  1,     25,     25,4,19930709,2013, 53.0012,-178.5973, 3709,    356.6,   3.6625,  33.9352,2,  33.9348,2,   -999.0,9,     52.6,2,   106.47,2,    42.19,2,     0.01,2,     3.05,2, -999.000,5, -999.000,5, -999.000,9,-999.0000,9,  -999.00,9,   -999.0,9,   -999.0,9,  -999.00,9,-999.0000,-999.000,  3.6386,-999.000
      325023_1,  P14N,    13,  1,     24,     24,4,19930709,2013, 53.0012,-178.5973, 3709,    405.9,   3.5994,  33.9971,2,  33.9966,2,   -999.0,9,     40.9,2,   111.77,2,    42.86,2,     0.01,2,     3.09,2,    0.969,2,    0.464,2, -999.000,9,-999.0000,9,  -999.00,9,   -999.0,9,   -999.0,9,  -999.00,9,-999.0000,-999.000,  3.5722,-999.000
      325023_1,  P14N,    13,  1,     23,     23,4,19930709,2013, 53.0012,-178.5973, 3709,    458.1,   3.5350,  34.0587,2,  34.0602,2,   -999.0,9,     31.3,2,   117.31,2,    43.25,2,     0.01,2,     3.12,2, -999.000,5, -999.000,5, -999.000,9,-999.0000,9,  -999.00,9,   -999.0,9,   -999.0,9,  -999.00,9,-999.0000,-999.000,  3.5042,-999.000
      325023_1,  P14N,    13,  1,     22,     22,4,19930709,2013, 53.0012,-178.5973, 3709,    509.8,   3.4295,  34.1111,2,  34.1098,2,   -999.0,9,     28.3,2,   123.57,2,    43.33,2,     0.00,2,     3.11,2,    0.580,2,    0.284,2, -999.000,9,-999.0000,9,  -999.00,9,   -999.0,9,   -999.0,9,  -999.00,9,-999.0000,-999.000,  3.3955,-999.000
      325023_1,  P14N,    13,  1,     21,     21,4,19930709,2013, 53.0012,-178.5973, 3709,    610.5,   3.3260,  34.1806,2,  34.1875,2,   -999.0,9,     20.6,2,   129.12,2,    43.72,2,     0.00,2,     3.15,2, -999.000,5, -999.000,5, -999.000,9,-999.0000,9,  -999.00,9,   -999.0,9,   -999.0,9,  -999.00,9,-999.0000,-999.000,  3.2852,-999.000
      325023_1,  P14N,    13,  1,     20,     20,4,19930709,2013, 53.0012,-178.5973, 3709,    708.7,   3.1972,  34.2419,2,  34.2414,2,   -999.0,9,     18.1,2,   135.87,2,    43.84,2,     0.00,2,     3.15,2,    0.206,2,    0.090,2, -999.000,9,-999.0000,9,  -999.00,9,   -999.0,9,   -999.0,9,  -999.00,9,-999.0000,-999.000,  3.1499,-999.000
      325023_1,  P14N,    13,  1,     19,     19,4,19930709,2013, 53.0012,-178.5973, 3709,    813.0,   3.0293,  34.3023,2,  34.3013,2,   -999.0,9,     16.8,2,   142.87,2,    43.82,2,     0.00,2,     3.15,2, -999.000,5, -999.000,5, -999.000,9,-999.0000,9,  -999.00,9,   -999.0,9,   -999.0,9,  -999.00,9,-999.0000,-999.000,  2.9754,-999.000
      325023_1,  P14N,    13,  1,     18,     18,4,19930709,2013, 53.0012,-178.5973, 3709,    911.6,   2.9051,  34.3381,2,  34.3381,2,   -999.0,9,     17.4,2,   148.68,2,    43.70,2,     0.00,2,     3.14,2,    0.094,2,    0.045,2, -999.000,9,-999.0000,9,  -999.00,9,   -999.0,9,   -999.0,9,  -999.00,9,-999.0000,-999.000,  2.8448,-999.000
      325023_1,  P14N,    13,  1,     17,     17,4,19930709,2013, 53.0012,-178.5973, 3709,   1011.0,   2.8012,  34.3657,2,  34.3628,2,   -999.0,9,     17.8,2,   153.06,2,    43.68,2,     0.00,2,     3.14,2, -999.000,5, -999.000,5, -999.000,9,-999.0000,9,  -999.00,9,   -999.0,9,   -999.0,9,  -999.00,9,-999.0000,-999.000,  2.7342,-999.000
      325023_1,  P14N,    13,  1,     16,     16,4,19930709,2013, 53.0012,-178.5973, 3709,   1114.0,   2.7076,  34.3893,2,  34.3884,2,   -999.0,9,     18.0,2,   157.68,2,    43.66,2,     0.00,2,     3.14,2,    0.051,2,    0.043,3, -999.000,9,-999.0000,9,  -999.00,9,   -999.0,9,   -999.0,9,  -999.00,9,-999.0000,-999.000,  2.6338,-999.000
      325023_1,  P14N,    13,  1,     15,     15,4,19930709,2013, 53.0012,-178.5973, 3709,   1216.9,   2.5911,  34.4211,2,  34.4196,2,   -999.0,9,     20.1,2,   161.83,2,    43.55,2,     0.00,2,     3.15,2, -999.000,5, -999.000,5, -999.000,9,-999.0000,9,  -999.00,9,   -999.0,9,   -999.0,9,  -999.00,9,-999.0000,-999.000,  2.5105,-999.000
      325023_1,  P14N,    13,  1,     14,     14,4,19930709,2013, 53.0012,-178.5973, 3709,   1319.2,   2.4566,  34.4525,2,  34.4513,2,   -999.0,9,     22.6,2,   167.19,2,    43.48,2,     0.00,2,     3.13,2,    0.018,2,    0.011,2, -999.000,9,-999.0000,9,  -999.00,9,   -999.0,9,   -999.0,9,  -999.00,9,-999.0000,-999.000,  2.3694,-999.000
      325023_1,  P14N,    13,  1,     13,     13,4,19930709,2013, 53.0012,-178.5973, 3709,   1421.1,   2.3317,  34.4822,2,  34.4824,2,   -999.0,9,     26.5,2,   172.57,2,    43.05,2,     0.00,2,     3.11,2, -999.000,5, -999.000,5, -999.000,9,-999.0000,9,  -999.00,9,   -999.0,9,   -999.0,9,  -999.00,9,-999.0000,-999.000,  2.2379,-999.000
      325023_1,  P14N,    13,  1,     12,     12,4,19930709,2013, 53.0012,-178.5973, 3709,   1523.5,   2.2181,  34.5088,2,  34.5093,2,   -999.0,9,     31.6,2,   177.47,2,    42.66,2,     0.00,2,     3.09,2,    0.009,2,    0.009,2, -999.000,9,-999.0000,9,  -999.00,9,   -999.0,9,   -999.0,9,  -999.00,9,-999.0000,-999.000,  2.1176,-999.000
      325023_1,  P14N,    13,  1,     11,     11,4,19930709,2013, 53.0012,-178.5973, 3709,   1626.5,   2.1419,  34.5259,2,  34.5255,2,   -999.0,9,     36.0,2,   181.65,2,    42.36,2,     0.00,2,     3.08,2,    0.007,2,    0.011,2, -999.000,9,-999.0000,9,  -999.00,9,   -999.0,9,   -999.0,9,  -999.00,9,-999.0000,-999.000,  2.0343,-999.000
      325023_1,  P14N,    13,  1,     10,     10,2,19930709,2013, 53.0012,-178.5973, 3709,   1829.8,   1.9851,  34.5613,2,-999.0000,9,   -999.0,9,   -999.0,9,  -999.00,9,  -999.00,9,  -999.00,9,  -999.00,9, -999.000,5, -999.000,5, -999.000,9,-999.0000,9,  -999.00,9,   -999.0,9,   -999.0,9,  -999.00,9,-999.0000,-999.000,  1.8632,-999.000
      325023_1,  P14N,    13,  1,      9,      9,4,19930709,2013, 53.0012,-178.5973, 3709,   2033.6,   1.8666,  34.5871,2,  34.5869,2,   -999.0,9,     54.4,2,   197.95,2,    40.78,2,     0.00,2,     3.04,2, -999.000,5, -999.000,5, -999.000,9,-999.0000,9,  -999.00,9,   -999.0,9,   -999.0,9,     7.39,2,-999.0000,-999.000,  1.7296,-999.000
      325023_1,  P14N,    13,  1,      8,      8,4,19930709,2013, 53.0012,-178.5973, 3709,   2237.2,   1.7960,  34.6039,2,  34.6036,2,   -999.0,9,     61.5,2,   202.69,2,    40.26,2,     0.00,2,     3.01,2,    0.005,2,    0.001,2, -999.000,9,-999.0000,9,  -999.00,9,   -999.0,9,   -999.0,9,  -999.00,9,-999.0000,-999.000,  1.6428,-999.000
      325023_1,  P14N,    13,  1,      7,      7,4,19930709,2013, 53.0012,-178.5973, 3709,   2440.6,   1.7194,  34.6214,2,  34.6234,2,   -999.0,9,     70.3,2,   206.95,2,    39.60,2,     0.00,2,     2.98,2, -999.000,5, -999.000,5, -999.000,9,-999.0000,9,  -999.00,9,   -999.0,9,   -999.0,9,  -999.00,9,-999.0000,-999.000,  1.5498,-999.000
      325023_1,  P14N,    13,  1,      6,      6,4,19930709,2013, 53.0012,-178.5973, 3709,   2645.7,   1.6607,  34.6356,2,  34.6355,2,   -999.0,9,     78.3,2,   210.21,2,    39.03,2,     0.00,2,     2.95,2,    0.002,2,    0.005,2, -999.000,9,-999.0000,9,  -999.00,9,   -999.0,9,   -999.0,9,  -999.00,9,-999.0000,-999.000,  1.4737,-999.000
      325023_1,  P14N,    13,  1,      5,      5,4,19930709,2013, 53.0012,-178.5973, 3709,   2851.2,   1.6287,  34.6447,2,  34.6439,2,   -999.0,9,     84.3,2,   212.47,2,    38.42,2,     0.00,2,     2.92,2,    0.005,2,    0.001,2, -999.000,9,-999.0000,9,  -999.00,9,   -999.0,9,   -999.0,9,  -999.00,9,-999.0000,-999.000,  1.4233,-999.000
      325023_1,  P14N,    13,  1,      1,      1,4,19930709,2013, 53.0012,-178.5973, 3709,   3056.6,   1.6047,  34.6524,2,  34.6531,2,   -999.0,9,     89.7,2,   213.97,2,    37.99,2,     0.00,2,     2.90,2,   -0.001,2,    0.007,2, -999.000,9,-999.0000,9,  -999.00,9,   -999.0,9,   -999.0,9,  -999.00,9,-999.0000,-999.000,  1.3803,-999.000
      325023_1,  P14N,    13,  1,     36,     36,4,19930709,2013, 53.0012,-178.5973, 3709,   3255.5,   1.5918,  34.6581,2,  34.6566,2,   -999.0,9,     93.9,2,   212.91,4,    37.53,2,     0.00,2,     2.90,2,    0.001,4,    0.008,4, -999.000,9,-999.0000,9,  -999.00,9,   -999.0,9,   -999.0,9,  -999.00,9,-999.0000,-999.000,  1.3482,-999.000
      325023_1,  P14N,    13,  1,      2,      2,4,19930709,2013, 53.0012,-178.5973, 3709,   3462.5,   1.5920,  34.6619,2,  34.6617,2,   -999.0,9,     96.0,2,   218.01,4,    37.55,2,     0.00,2,     2.87,2,    0.004,2,    0.007,2, -999.000,9,-999.0000,9,  -999.00,9,   -999.0,9,   -999.0,9,  -999.00,9,-999.0000,-999.000,  1.3275,-999.000
      325023_1,  P14N,    13,  1,      3,      3,4,19930709,2013, 53.0012,-178.5973, 3709,   3723.4,   1.5950,  34.6672,2,  34.6670,2,   -999.0,9,     98.6,2,   229.75,2,    37.38,2,     0.00,2,     2.87,2,    0.013,2,    0.007,2, -999.000,9,-999.0000,9,  -999.00,9,   -999.0,9,   -999.0,9,  -999.00,9,-999.0000,-999.000,  1.3033,-999.000
      325023_1,  P14N,    13,  1,      4,      4,4,19930709,2013, 53.0012,-178.5973, 3709,   3760.3,   1.5993,  34.6673,2,  34.6671,2,   -999.0,9,     98.9,2,   228.74,2,    37.36,2,     0.00,2,     2.87,2,    0.013,2,    0.001,2, -999.000,9,-999.0000,9,  -999.00,9,   -999.0,9,   -999.0,9,  -999.00,9,-999.0000,-999.000,  1.3036,-999.000