BOTTLE,20131125MIRCJHATS
EXPOCODE,SECT_ID,STNNBR,CASTNO,SAMPNO,BTLNBR,BTLNBR_FLAG_W,DATE,TIME,LATITUDE,LONGITUDE,DEPTH,CTDPRS,CTDTMP,CTDSAL,CTDSAL_FLAG_W,SALNTY,SALNTY_FLAG_W,CTDOXY,CTDOXY_FLAG_W,OXYGEN,OXYGEN_FLAG_W,SILCAT,SILCAT_FLAG_W,NITRAT,NITRAT_FLAG_W,NITRIT,NITRIT_FLAG_W,PHSPHT,PHSPHT_FLAG_W,CFC-11,CFC-11_FLAG_W,CFC-12,CFC-12_FLAG_W,TRITUM,TRITUM_FLAG_W,HELIUM,HELIUM_FLAG_W,DELHE3,DELHE3_FLAG_W,TCARBN,TCARBN_FLAG_W,ALKALI,ALKALI_FLAG_W,PH,PH_FLAG_W,HELIER,DELHER,THETA,TRITER
,,,,,,,,,,,,DBAR,ITS-90,PSS-78,,PSS-78,,UMOL/KG,,UMOL/KG,,UMOL/KG,,UMOL/KG,,UMOL/KG,,UMOL/KG,,PMOL/KG,,PMOL/KG,,TU,,NMOL/KG,,PERCNT,,UMOL/KG,,UMOL/KG,,25_DEG,,NMOL/KG,PERCNT,DEG C,TU
      325024_1,  P14N,   140,  1,     36,     36,2,19930817,0234,  0.7390, 178.9958, 5525,      1.8,  30.2041,  34.1224,2,  34.1402,2,   -999.0,9,    197.1,2,     2.53,2,     0.03,2,     0.00,2,     0.16,2, -999.000,5, -999.000,5, -999.000,9,-999.0000,9,  -999.00,9,   1887.0,2,   2248.0,2,     8.12,2,-999.0000,-999.000, 30.2037,-999.000
      325024_1,  P14N,   140,  1,     35,     35,2,19930817,0234,  0.7390, 178.9958, 5525,     43.6,  30.0326,  34.2606,2,  34.2806,2,   -999.0,9,    196.9,2,     2.44,2,     0.03,2,     0.00,2,     0.17,2, -999.000,5, -999.000,5, -999.000,9,-999.0000,9,  -999.00,9,   1895.0,2,   2258.0,2,     8.13,2,-999.0000,-999.000, 30.0218,-999.000
      325024_1,  P14N,   140,  1,     34,     34,2,19930817,0234,  0.7390, 178.9958, 5525,     74.2,  29.9753,  34.8078,2,  34.8375,2,   -999.0,9,    202.3,2,     2.35,2,     0.03,2,     0.00,2,     0.22,2, -999.000,5, -999.000,5, -999.000,9,-999.0000,9,  -999.00,9,   1936.0,2,   2293.0,2,     8.11,2,-999.0000,-999.000, 29.9569,-999.000
      325024_1,  P14N,   140,  1,     33,     33,2,19930817,0234,  0.7390, 178.9958, 5525,    104.0,  22.8146,  35.0123,2,  35.0402,2,   -999.0,9,    137.6,2,     6.08,2,     8.51,2,     0.16,2,     0.71,2, -999.000,5, -999.000,5, -999.000,9,-999.0000,9,  -999.00,9,   2049.0,2,   2302.0,2,     7.93,2,-999.0000,-999.000, 22.7935,-999.000
      325024_1,  P14N,   140,  1,     32,     32,2,19930817,0234,  0.7390, 178.9958, 5525,    134.2,  22.1485,  35.1417,2,  35.1381,2,   -999.0,9,    137.6,2,     6.20,2,     8.90,2,     0.06,2,     0.73,2, -999.000,5, -999.000,5, -999.000,9,-999.0000,9,  -999.00,9,   2062.0,2,   2312.0,2,     7.92,2,-999.0000,-999.000, 22.1218,-999.000
      325024_1,  P14N,   140,  1,     31,     31,2,19930817,0234,  0.7390, 178.9958, 5525,    164.4,  20.7770,  35.1066,2,  35.1051,2,   -999.0,9,    136.6,2,     7.51,2,     9.85,2,     0.02,2,     0.79,2, -999.000,5, -999.000,5, -999.000,9,-999.0000,9,  -999.00,9,   2070.0,2,   2309.0,2,     7.91,2,-999.0000,-999.000, 20.7458,-999.000
      325024_1,  P14N,   140,  1,     30,     30,2,19930817,0234,  0.7390, 178.9958, 5525,    215.7,  15.1721,  34.9597,2,  34.9380,2,   -999.0,9,    135.7,2,    15.46,2,    15.77,2,     0.00,2,     1.20,2, -999.000,5, -999.000,5, -999.000,9,-999.0000,9,  -999.00,9,   2124.0,2,   2316.0,2,     7.78,2,-999.0000,-999.000, 15.1392,-999.000
      325024_1,  P14N,   140,  1,     29,     29,2,19930817,0234,  0.7390, 178.9958, 5525,    265.6,  13.0088,  34.8433,2,  34.8406,2,   -999.0,9,    129.5,2,    18.78,2,    19.50,2,     0.00,2,     1.45,2, -999.000,5, -999.000,5, -999.000,9,-999.0000,9,  -999.00,9,   2149.0,2,   2306.0,2,     7.74,2,-999.0000,-999.000, 12.9722,-999.000
      325024_1,  P14N,   140,  1,     28,     28,2,19930817,0234,  0.7390, 178.9958, 5525,    315.2,  11.4842,  34.7900,2,  34.7824,2,   -999.0,9,     98.7,2,    24.11,2,    25.20,2,     0.00,2,     1.82,2, -999.000,5, -999.000,5, -999.000,9,-999.0000,9,  -999.00,9,   2189.0,2,   2307.0,2,     7.62,2,-999.0000,-999.000, 11.4441,-999.000
      325024_1,  P14N,   140,  1,     27,     27,2,19930817,0234,  0.7390, 178.9958, 5525,    413.7,   9.5130,  34.6870,2,  34.6814,2,   -999.0,9,     70.5,2,    32.44,2,    31.78,2,     0.00,2,     2.24,2, -999.000,5, -999.000,5, -999.000,9,-999.0000,9,  -999.00,9,   2230.0,2,   2307.0,2,     7.54,2,-999.0000,-999.000,  9.4661,-999.000
      325024_1,  P14N,   140,  1,     26,     26,2,19930817,0234,  0.7390, 178.9958, 5525,    513.6,   7.6426,  34.5879,2,  34.5860,2,   -999.0,9,    103.7,2,    38.37,2,    32.16,2,     0.00,2,     2.28,2, -999.000,5, -999.000,5, -999.000,9,-999.0000,9,  -999.00,9,   2229.0,2,   2312.0,2,     7.53,2,-999.0000,-999.000,  7.5912,-999.000
      325024_1,  P14N,   140,  1,     25,     25,2,19930817,0234,  0.7390, 178.9958, 5525,    613.4,   6.7859,  34.5669,2,  34.5668,2,   -999.0,9,     74.0,2,    50.53,2,    36.76,2,     0.00,2,     2.62,2, -999.000,5, -999.000,5, -999.000,9,-999.0000,9,  -999.00,9,   2262.0,2,   2321.0,2,     7.49,2,-999.0000,-999.000,  6.7281,-999.000
      325024_1,  P14N,   140,  1,     24,     24,2,19930817,0234,  0.7390, 178.9958, 5525,    710.4,   6.0550,  34.5542,2,  34.5542,2,   -999.0,9,     69.3,2,    60.69,2,    38.80,2,     0.00,2,     2.75,2, -999.000,5, -999.000,5, -999.000,9,-999.0000,9,  -999.00,9,   2278.0,2,   2330.0,2,     7.44,2,-999.0000,-999.000,  5.9915,-999.000
      325024_1,  P14N,   140,  1,     23,     23,2,19930817,0234,  0.7390, 178.9958, 5525,    811.6,   5.4599,  34.5456,2,  34.5456,2,   -999.0,9,     79.4,2,    68.44,2,    38.57,2,     0.00,2,     2.75,2, -999.000,5, -999.000,5, -999.000,9,-999.0000,9,  -999.00,9,   2282.0,2,   2338.0,2,     7.48,2,-999.0000,-999.000,  5.3905,-999.000
      325024_1,  P14N,   140,  1,     22,     22,2,19930817,0234,  0.7390, 178.9958, 5525,    912.0,   5.0515,  34.5469,2,  34.5463,2,   -999.0,9,     84.1,2,    76.20,2,    38.53,2,     0.00,2,     2.76,2, -999.000,5, -999.000,5, -999.000,9,-999.0000,9,  -999.00,9,   2292.0,2,   2349.0,2,     7.44,2,-999.0000,-999.000,  4.9757,-999.000
      325024_1,  P14N,   140,  1,     21,     21,2,19930817,0234,  0.7390, 178.9958, 5525,   1013.3,   4.5404,  34.5547,2,  34.5551,2,   -999.0,9,     83.6,2,    86.41,2,    38.98,2,     0.00,2,     2.80,2, -999.000,5, -999.000,5, -999.000,9,-999.0000,9,  -999.00,9,   2300.0,2,   2363.0,2,     7.47,2,-999.0000,-999.000,  4.4594,-999.000
      325024_1,  P14N,   140,  1,     20,     20,2,19930817,0234,  0.7390, 178.9958, 5525,   1216.3,   3.8899,  34.5710,2,  34.5714,2,   -999.0,9,     89.4,2,   100.93,2,    38.89,2,     0.00,2,     2.80,2, -999.000,5, -999.000,5, -999.000,9,-999.0000,9,  -999.00,9,   2315.0,2,   2377.0,2,     7.46,2,-999.0000,-999.000,  3.7968,-999.000
      325024_1,  P14N,   140,  1,     19,     19,2,19930817,0234,  0.7390, 178.9958, 5525,   1418.4,   3.3161,  34.5915,2,  34.5908,2,   -999.0,9,     91.9,2,   113.30,2,    39.16,2,     0.00,2,     2.81,2, -999.000,5, -999.000,5, -999.000,9,-999.0000,9,  -999.00,9,   2326.0,2,   2387.0,2,     7.49,2,-999.0000,-999.000,  3.2116,-999.000
      325024_1,  P14N,   140,  1,     18,     18,2,19930817,0234,  0.7390, 178.9958, 5525,   1618.9,   2.8285,  34.6099,2,  34.6096,2,   -999.0,9,     99.0,2,   124.52,2,    38.76,2,     0.00,2,     2.77,2, -999.000,5, -999.000,5, -999.000,9,-999.0000,9,  -999.00,9,   2335.0,2,   2401.0,2,     7.47,2,-999.0000,-999.000,  2.7127,-999.000
      325024_1,  P14N,   140,  1,     17,     17,2,19930817,0234,  0.7390, 178.9958, 5525,   1821.9,   2.5139,  34.6261,2,  34.6251,2,   -999.0,9,    104.5,2,   131.87,2,    38.53,2,     0.00,2,     2.75,2, -999.000,5, -999.000,5, -999.000,9,-999.0000,9,  -999.00,9,   2341.0,2,   2409.0,2,     7.50,2,-999.0000,-999.000,  2.3850,-999.000
      325024_1,  P14N,   140,  1,     16,     16,2,19930817,0234,  0.7390, 178.9958, 5525,   2024.6,   2.2115,  34.6400,2,  34.6392,2,   -999.0,9,    111.9,2,   139.06,2,    38.13,2,     0.00,2,     2.70,2, -999.000,5, -999.000,5, -999.000,9,-999.0000,9,  -999.00,9,   2342.0,2,   2421.0,2,     7.50,2,-999.0000,-999.000,  2.0697,-999.000
      325024_1,  P14N,   140,  1,     15,     15,2,19930817,0234,  0.7390, 178.9958, 5525,   2225.0,   1.9988,  34.6511,2,  34.6504,2,   -999.0,9,    118.3,2,   143.13,2,    37.78,2,     0.00,2,     2.67,2, -999.000,5, -999.000,5, -999.000,9,-999.0000,9,  -999.00,9,   2342.0,2,   2417.0,2,     7.53,2,-999.0000,-999.000,  1.8431,-999.000
      325024_1,  P14N,   140,  1,     14,     14,2,19930817,0234,  0.7390, 178.9958, 5525,   2427.3,   1.8797,  34.6580,2,  34.6572,2,   -999.0,9,    122.0,2,   145.95,2,    37.73,2,     0.00,2,     2.65,2, -999.000,5, -999.000,5, -999.000,9,-999.0000,9,  -999.00,9,   2344.0,2,   2429.0,2,     7.52,2,-999.0000,-999.000,  1.7082,-999.000
      325024_1,  P14N,   140,  1,     13,     13,2,19930817,0234,  0.7390, 178.9958, 5525,   2628.8,   1.7907,  34.6635,2,  34.6633,2,   -999.0,9,    127.8,2,   146.45,2,    37.25,2,     0.00,2,     2.61,2, -999.000,5, -999.000,5, -999.000,9,-999.0000,9,  -999.00,9,   2340.0,2,   2425.0,2,     7.55,2,-999.0000,-999.000,  1.6026,-999.000
      325024_1,  P14N,   140,  1,     12,     12,2,19930817,0234,  0.7390, 178.9958, 5525,   2833.0,   1.6930,  34.6683,2,  34.6682,2,   -999.0,9,    133.2,2,   146.95,2,    36.85,2,     0.00,2,     2.58,2, -999.000,5, -999.000,5, -999.000,9,-999.0000,9,  -999.00,9,   2339.0,2,   2428.0,2,     7.53,2,-999.0000,-999.000,  1.4879,-999.000
      325024_1,  P14N,   140,  1,     11,     11,2,19930817,0234,  0.7390, 178.9958, 5525,   3036.2,   1.6343,  34.6716,2,  34.6707,2,   -999.0,9,    138.0,2,   146.40,2,    36.55,2,     0.00,2,     2.56,2, -999.000,5, -999.000,5, -999.000,9,-999.0000,9,  -999.00,9,   2338.0,2,   2424.0,2,     7.55,2,-999.0000,-999.000,  1.4111,-999.000
      325024_1,  P14N,   140,  1,     10,     10,2,19930817,0234,  0.7390, 178.9958, 5525,   3342.0,   1.5592,  34.6773,2,  34.6764,2,   -999.0,9,    145.3,2,   145.22,2,    35.98,2,     0.00,2,     2.52,2, -999.000,5, -999.000,5, -999.000,9,-999.0000,9,  -999.00,9,   2333.0,2,   2426.0,2,     7.54,2,-999.0000,-999.000,  1.3077,-999.000
      325024_1,  P14N,   140,  1,      9,      9,2,19930817,0234,  0.7390, 178.9958, 5525,   3647.6,   1.4946,  34.6833,2,  34.6815,2,   -999.0,9,    153.3,2,   143.19,2,    35.45,2,     0.00,2,     2.47,2, -999.000,5, -999.000,5, -999.000,9,-999.0000,9,  -999.00,9,   2325.0,2,   2424.0,2,     7.55,2,-999.0000,-999.000,  1.2134,-999.000
      325024_1,  P14N,   140,  1,      8,      8,2,19930817,0234,  0.7390, 178.9958, 5525,   3953.7,   1.4151,  34.6905,2,  34.6895,2,   -999.0,9,    164.8,2,   139.92,2,    34.71,2,     0.00,2,     2.42,2, -999.000,5, -999.000,5, -999.000,9,-999.0000,9,  -999.00,9,   2318.0,2,   2419.0,2,     7.58,2,-999.0000,-999.000,  1.1035,-999.000
      325024_1,  P14N,   140,  1,      7,      7,2,19930817,0234,  0.7390, 178.9958, 5525,   4259.9,   1.3210,  34.6966,2,  34.6965,2,   -999.0,9,    177.0,2,   134.36,2,    33.81,2,     0.00,2,     2.35,2, -999.000,5, -999.000,5, -999.000,9,-999.0000,9,  -999.00,9,   2304.0,2,   2407.0,2,     7.59,2,-999.0000,-999.000,  0.9786,-999.000
      325024_1,  P14N,   140,  1,      6,      6,2,19930817,0234,  0.7390, 178.9958, 5525,   4566.1,   1.2608,  34.7011,2,  34.7012,2,   -999.0,9,    186.5,2,   129.87,2,    33.12,2,     0.00,2,     2.30,2, -999.000,5, -999.000,5, -999.000,9,-999.0000,9,  -999.00,9,   2291.0,2,   2400.0,2,     7.58,2,-999.0000,-999.000,  0.8856,-999.000
      325024_1,  P14N,   140,  1,      5,      5,2,19930817,0234,  0.7390, 178.9958, 5525,   4874.5,   1.2456,  34.7038,2,  34.7030,2,   -999.0,9,    191.3,2,   127.47,2,    32.77,2,     0.00,2,     2.27,2, -999.000,5, -999.000,5, -999.000,9,-999.0000,9,  -999.00,9,   2286.0,2,   2393.0,2,     7.60,2,-999.0000,-999.000,  0.8348,-999.000
      325024_1,  P14N,   140,  1,      4,      4,2,19930817,0234,  0.7390, 178.9958, 5525,   5183.7,   1.2695,  34.7047,2,  34.7041,2,   -999.0,9,    193.2,2,   126.52,2,    32.65,2,     0.00,2,     2.26,2, -999.000,5, -999.000,5, -999.000,9,-999.0000,9,  -999.00,9,   2284.0,2,   2393.0,2,     7.59,2,-999.0000,-999.000,  0.8206,-999.000
      325024_1,  P14N,   140,  1,      3,      3,2,19930817,0234,  0.7390, 178.9958, 5525,   5493.0,   1.3051,  34.7048,2,  34.7041,2,   -999.0,9,    193.9,2,   126.81,2,    32.52,2,     0.00,2,     2.25,2, -999.000,5, -999.000,5, -999.000,9,-999.0000,9,  -999.00,9,   2283.0,2,   2390.0,2,     7.59,2,-999.0000,-999.000,  0.8164,-999.000
      325024_1,  P14N,   140,  1,      1,      1,2,19930817,0234,  0.7390, 178.9958, 5525,   5614.0,   1.3201,  34.7050,2,  34.7053,2,   -999.0,9,    193.0,2,   127.18,2,    32.60,2,     0.00,2,     2.26,2, -999.000,5, -999.000,5, -999.000,9,-999.0000,9,  -999.00,9,   2282.0,2,   2387.0,2,     7.60,2,-999.0000,-999.000,  0.8155,-999.000
      325024_1,  P14N,   140,  1,      2,      2,2,19930817,0234,  0.7390, 178.9958, 5525,   5614.2,   1.3200,  34.7051,2,  34.7041,2,   -999.0,9,    194.2,2,   127.10,2,    32.56,2,     0.00,2,     2.26,2, -999.000,5, -999.000,5, -999.000,9,-999.0000,9,  -999.00,9,   2282.0,2,   2391.0,2,     7.58,2,-999.0000,-999.000,  0.8154,-999.000