BOTTLE,20131125MIRCJHATS
EXPOCODE,SECT_ID,STNNBR,CASTNO,SAMPNO,BTLNBR,BTLNBR_FLAG_W,DATE,TIME,LATITUDE,LONGITUDE,DEPTH,CTDPRS,CTDTMP,CTDSAL,CTDSAL_FLAG_W,SALNTY,SALNTY_FLAG_W,CTDOXY,CTDOXY_FLAG_W,OXYGEN,OXYGEN_FLAG_W,SILCAT,SILCAT_FLAG_W,NITRAT,NITRAT_FLAG_W,NITRIT,NITRIT_FLAG_W,PHSPHT,PHSPHT_FLAG_W,CFC-11,CFC-11_FLAG_W,CFC-12,CFC-12_FLAG_W,TRITUM,TRITUM_FLAG_W,HELIUM,HELIUM_FLAG_W,DELHE3,DELHE3_FLAG_W,TCARBN,TCARBN_FLAG_W,ALKALI,ALKALI_FLAG_W,PH,PH_FLAG_W,HELIER,DELHER,THETA,TRITER
,,,,,,,,,,,,DBAR,ITS-90,PSS-78,,PSS-78,,UMOL/KG,,UMOL/KG,,UMOL/KG,,UMOL/KG,,UMOL/KG,,UMOL/KG,,PMOL/KG,,PMOL/KG,,TU,,NMOL/KG,,PERCNT,,UMOL/KG,,UMOL/KG,,25_DEG,,NMOL/KG,PERCNT,DEG C,TU
      325023_1,  P14N,   120,  1,     36,     36,2,19930807,0055,  5.7485, 178.9973, 5774,      2.9,  29.5688,  34.0682,2,  34.0711,2,   -999.0,9,    194.3,2,     1.94,2,     0.03,2,     0.00,2,     0.18,2, -999.000,5, -999.000,5, -999.000,9,-999.0000,9,    -1.60,2,   -999.0,9,   -999.0,9,  -999.00,9,-999.0000,   0.150, 29.5681,-999.000
      325023_1,  P14N,   120,  1,     35,     35,2,19930807,0055,  5.7485, 178.9973, 5774,     38.1,  29.2236,  34.1146,2,  34.1204,2,   -999.0,9,    195.8,2,     2.08,2,     0.03,2,     0.00,2,     0.18,2, -999.000,5, -999.000,5, -999.000,9,-999.0000,9,  -999.00,9,   -999.0,9,   -999.0,9,  -999.00,9,-999.0000,-999.000, 29.2144,-999.000
      325023_1,  P14N,   120,  1,     34,     34,2,19930807,0055,  5.7485, 178.9973, 5774,     68.3,  29.0761,  34.2592,2,  34.2420,2,   -999.0,9,    196.3,2,     2.03,2,     0.03,2,     0.00,2,     0.19,2, -999.000,5, -999.000,5, -999.000,9,-999.0000,9,  -999.00,9,   -999.0,9,   -999.0,9,  -999.00,9,-999.0000,-999.000, 29.0596,-999.000
      325023_1,  P14N,   120,  1,     33,     33,2,19930807,0055,  5.7485, 178.9973, 5774,     97.7,  26.2574,  34.5533,4,  34.5132,2,   -999.0,9,    189.1,2,     2.17,2,     0.03,2,     0.01,2,     0.20,2, -999.000,5, -999.000,5, -999.000,9,-999.0000,9,  -999.00,9,   -999.0,9,   -999.0,9,  -999.00,9,-999.0000,-999.000, 26.2355,-999.000
      325023_1,  P14N,   120,  1,     32,     32,2,19930807,0055,  5.7485, 178.9973, 5774,    129.4,  19.4150,  34.7486,2,  34.7621,2,   -999.0,9,    152.7,2,     7.02,2,     7.07,2,     0.22,2,     0.69,2, -999.000,5, -999.000,5, -999.000,9,-999.0000,9,  -999.00,9,   -999.0,9,   -999.0,9,  -999.00,9,-999.0000,-999.000, 19.3917,-999.000
      325023_1,  P14N,   120,  1,     31,     31,2,19930807,0055,  5.7485, 178.9973, 5774,    159.5,  14.4221,  34.6087,2,  34.6120,2,   -999.0,9,    108.7,2,    17.74,2,    18.44,2,     0.01,2,     1.41,2, -999.000,5, -999.000,5, -999.000,9,-999.0000,9,  -999.00,9,   -999.0,9,   -999.0,9,  -999.00,9,-999.0000,-999.000, 14.3987,-999.000
      325023_1,  P14N,   120,  1,     30,     30,2,19930807,0055,  5.7485, 178.9973, 5774,    210.3,  10.8762,  34.6210,2,  34.6144,2,   -999.0,9,     65.7,2,    30.60,2,    28.80,2,     0.01,2,     2.11,2, -999.000,5, -999.000,5, -999.000,9,-999.0000,9,     4.30,2,   -999.0,9,   -999.0,9,  -999.00,9,-999.0000,   0.150, 10.8505,-999.000
      325023_1,  P14N,   120,  1,     29,     29,2,19930807,0055,  5.7485, 178.9973, 5774,    260.9,   9.8131,  34.6550,2,  34.6554,2,   -999.0,9,     59.9,2,    33.68,2,    31.78,2,     0.01,2,     2.28,2, -999.000,5, -999.000,5, -999.000,9,-999.0000,9,  -999.00,9,   -999.0,9,   -999.0,9,  -999.00,9,-999.0000,-999.000,  9.7833,-999.000
      325023_1,  P14N,   120,  1,     28,     28,2,19930807,0055,  5.7485, 178.9973, 5774,    311.5,   9.3277,  34.6496,2,  34.6495,2,   -999.0,9,     58.5,2,    35.77,2,    32.97,2,     0.01,2,     2.35,2, -999.000,5, -999.000,5, -999.000,9,-999.0000,9,  -999.00,9,   -999.0,9,   -999.0,9,  -999.00,9,-999.0000,-999.000,  9.2931,-999.000
      325023_1,  P14N,   120,  1,     27,     27,2,19930807,0055,  5.7485, 178.9973, 5774,    411.4,   8.6227,  34.6279,2,  34.6253,2,   -999.0,9,     51.5,2,    39.42,2,    35.08,2,     0.01,2,     2.50,2, -999.000,5, -999.000,5, -999.000,9,-999.0000,9,  -999.00,9,   -999.0,9,   -999.0,9,  -999.00,9,-999.0000,-999.000,  8.5788,-999.000
      325023_1,  P14N,   120,  1,     26,     26,2,19930807,0055,  5.7485, 178.9973, 5774,    511.9,   7.7877,  34.5971,2,  34.5959,2,   -999.0,9,     40.0,2,    47.00,2,    37.81,2,     0.00,2,     2.72,2, -999.000,5, -999.000,5, -999.000,9,-999.0000,9,  -999.00,9,   -999.0,9,   -999.0,9,  -999.00,9,-999.0000,-999.000,  7.7360,-999.000
      325023_1,  P14N,   120,  1,     25,     25,2,19930807,0055,  5.7485, 178.9973, 5774,    612.2,   6.7911,  34.5620,2,  34.5606,2,   -999.0,9,     37.0,2,    58.50,2,    40.04,2,     0.00,2,     2.89,2, -999.000,5, -999.000,5, -999.000,9,-999.0000,9,     7.50,2,   -999.0,9,   -999.0,9,  -999.00,9,-999.0000,   0.150,  6.7334,-999.000
      325023_1,  P14N,   120,  1,     24,     24,2,19930807,0055,  5.7485, 178.9973, 5774,    713.5,   6.0021,  34.5491,2,  34.5488,2,   -999.0,9,     40.5,2,    67.86,2,    41.29,2,     0.00,2,     2.97,2, -999.000,5, -999.000,5, -999.000,9,-999.0000,9,  -999.00,9,   -999.0,9,   -999.0,9,  -999.00,9,-999.0000,-999.000,  5.9386,-999.000
      325023_1,  P14N,   120,  1,     23,     23,2,19930807,0055,  5.7485, 178.9973, 5774,    813.6,   5.2537,  34.5474,2,  34.5465,2,   -999.0,9,     56.6,2,    78.22,2,    41.12,2,     0.00,2,     2.94,2, -999.000,5, -999.000,5, -999.000,9,-999.0000,9,  -999.00,9,   -999.0,9,   -999.0,9,  -999.00,9,-999.0000,-999.000,  5.1854,-999.000
      325023_1,  P14N,   120,  1,     22,     22,2,19930807,0055,  5.7485, 178.9973, 5774,    914.9,   4.6946,  34.5515,2,  34.5512,2,   -999.0,9,     73.8,2,    87.03,2,    39.88,2,     0.00,2,     2.86,2, -999.000,5, -999.000,5, -999.000,9,-999.0000,9,  -999.00,9,   -999.0,9,   -999.0,9,  -999.00,9,-999.0000,-999.000,  4.6210,-999.000
      325023_1,  P14N,   120,  1,     21,     21,2,19930807,0055,  5.7485, 178.9973, 5774,   1015.5,   4.3557,  34.5591,2,  34.5582,2,   -999.0,9,     76.1,2,    93.88,2,    40.16,2,     0.00,2,     2.86,2, -999.000,5, -999.000,5, -999.000,9,-999.0000,9,    15.10,2,   -999.0,9,   -999.0,9,  -999.00,9,-999.0000,   0.150,  4.2758,-999.000
      325023_1,  P14N,   120,  1,     20,     20,2,19930807,0055,  5.7485, 178.9973, 5774,   1218.6,   3.7255,  34.5802,2,  34.5780,2,   -999.0,9,     72.7,2,   108.54,2,    40.90,2,     0.00,2,     2.94,2, -999.000,5, -999.000,5, -999.000,9,-999.0000,9,    17.40,2,   -999.0,9,   -999.0,9,  -999.00,9,-999.0000,   0.150,  3.6337,-999.000
      325023_1,  P14N,   120,  1,     19,     19,2,19930807,0055,  5.7485, 178.9973, 5774,   1420.8,   3.2193,  34.5973,2,  34.5947,2,   -999.0,9,     80.5,2,   119.91,2,    40.36,2,     0.00,2,     2.91,2, -999.000,5, -999.000,5, -999.000,9,-999.0000,9,    19.70,2,   -999.0,9,   -999.0,9,  -999.00,9,-999.0000,   0.150,  3.1156,-999.000
      325023_1,  P14N,   120,  1,     18,     18,2,19930807,0055,  5.7485, 178.9973, 5774,   1623.5,   2.7901,  34.6106,2,  34.6100,2,   -999.0,9,     92.2,2,   129.13,2,    39.72,2,     0.00,2,     2.84,2, -999.000,5, -999.000,5, -999.000,9,-999.0000,9,    22.80,2,   -999.0,9,   -999.0,9,  -999.00,9,-999.0000,   0.150,  2.6743,-999.000
      325023_1,  P14N,   120,  1,     17,     17,2,19930807,0055,  5.7485, 178.9973, 5774,   1825.6,   2.4694,  34.6255,2,  34.6251,2,   -999.0,9,     98.6,2,   135.76,2,    39.27,2,     0.00,2,     2.80,2, -999.000,5, -999.000,5, -999.000,9,-999.0000,9,    23.50,2,   -999.0,9,   -999.0,9,  -999.00,9,-999.0000,   0.150,  2.3408,-999.000
      325023_1,  P14N,   120,  1,     16,     16,2,19930807,0055,  5.7485, 178.9973, 5774,   2029.0,   2.2195,  34.6411,2,  34.6404,2,   -999.0,9,    104.5,2,   142.23,2,    39.04,2,     0.00,2,     2.77,2, -999.000,5, -999.000,5, -999.000,9,-999.0000,9,    25.40,2,   -999.0,9,   -999.0,9,  -999.00,9,-999.0000,   0.150,  2.0772,-999.000
      325023_1,  P14N,   120,  1,     15,     15,2,19930807,0055,  5.7485, 178.9973, 5774,   2232.4,   2.0368,  34.6504,2,  34.6500,2,   -999.0,9,    108.5,2,   147.08,2,    38.78,2,     0.00,2,     2.73,2, -999.000,5, -999.000,5, -999.000,9,-999.0000,9,    27.10,2,   -999.0,9,   -999.0,9,  -999.00,9,-999.0000,   0.150,  1.8798,-999.000
      325023_1,  P14N,   120,  1,     14,     14,2,19930807,0055,  5.7485, 178.9973, 5774,   2434.5,   1.9028,  34.6585,2,  34.6580,2,   -999.0,9,    114.3,2,   149.47,2,    38.47,2,     0.00,2,     2.70,2, -999.000,5, -999.000,5, -999.000,9,-999.0000,9,  -999.00,9,   -999.0,9,   -999.0,9,  -999.00,9,-999.0000,-999.000,  1.7302,-999.000
      325023_1,  P14N,   120,  1,     13,     13,2,19930807,0055,  5.7485, 178.9973, 5774,   2638.8,   1.8096,  34.6630,2,  34.6623,2,   -999.0,9,    121.1,2,   149.36,2,    37.97,2,     0.00,2,     2.67,2, -999.000,5, -999.000,5, -999.000,9,-999.0000,9,  -999.00,9,   -999.0,9,   -999.0,9,  -999.00,9,-999.0000,-999.000,  1.6202,-999.000
      325023_1,  P14N,   120,  1,     12,     12,2,19930807,0055,  5.7485, 178.9973, 5774,   2840.4,   1.7278,  34.6665,2,  34.6674,2,   -999.0,9,    128.0,2,   148.22,2,    37.22,3,     0.00,2,     2.62,2, -999.000,5, -999.000,5, -999.000,9,-999.0000,9,    24.10,2,   -999.0,9,   -999.0,9,  -999.00,9,-999.0000,   0.150,  1.5213,-999.000
      325023_1,  P14N,   120,  1,     11,     11,2,19930807,0055,  5.7485, 178.9973, 5774,   3046.2,   1.6523,  34.6709,2,  34.6710,2,   -999.0,9,    134.1,2,   147.70,2,    37.04,2,     0.00,2,     2.59,2, -999.000,5, -999.000,5, -999.000,9,-999.0000,9,  -999.00,9,   -999.0,9,   -999.0,9,  -999.00,9,-999.0000,-999.000,  1.4277,-999.000
      325023_1,  P14N,   120,  1,     10,     10,2,19930807,0055,  5.7485, 178.9973, 5774,   3351.6,   1.5686,  34.6770,2,  34.6765,2,   -999.0,9,    142.7,2,   146.77,2,    36.42,2,     0.00,2,     2.55,2, -999.000,5, -999.000,5, -999.000,9,-999.0000,9,  -999.00,9,   -999.0,9,   -999.0,9,  -999.00,9,-999.0000,-999.000,  1.3159,-999.000
      325023_1,  P14N,   120,  1,      9,      9,2,19930807,0055,  5.7485, 178.9973, 5774,   3658.3,   1.4624,  34.6846,2,  34.6839,2,   -999.0,9,    153.7,2,   144.19,2,    35.80,2,     0.00,2,     2.49,2, -999.000,5, -999.000,5, -999.000,9,-999.0000,9,    17.70,2,   -999.0,9,   -999.0,9,  -999.00,9,-999.0000,   0.150,  1.1809,-999.000
      325023_1,  P14N,   120,  1,      8,      8,2,19930807,0055,  5.7485, 178.9973, 5774,   3965.5,   1.3814,  34.6907,2,  34.6900,2,   -999.0,9,    167.3,2,   140.39,2,    34.96,2,     0.00,2,     2.43,2, -999.000,5, -999.000,5, -999.000,9,-999.0000,9,  -999.00,9,   -999.0,9,   -999.0,9,  -999.00,9,-999.0000,-999.000,  1.0695,-999.000
      325023_1,  P14N,   120,  1,      7,      7,2,19930807,0055,  5.7485, 178.9973, 5774,   4273.3,   1.3037,  34.6963,2,  34.6963,2,   -999.0,9,    175.9,2,   134.57,2,    34.13,2,     0.00,2,     2.37,2, -999.000,5, -999.000,5, -999.000,9,-999.0000,9,  -999.00,9,   -999.0,9,   -999.0,9,  -999.00,9,-999.0000,-999.000,  0.9604,-999.000
      325023_1,  P14N,   120,  1,      6,      6,2,19930807,0055,  5.7485, 178.9973, 5774,   4580.0,   1.2642,  34.7003,2,  34.7010,2,   -999.0,9,    184.0,2,   130.61,2,    33.52,2,     0.00,2,     2.33,2, -999.000,5, -999.000,5, -999.000,9,-999.0000,9,    12.40,2,   -999.0,9,   -999.0,9,  -999.00,9,-999.0000,   0.150,  0.8873,-999.000
      325023_1,  P14N,   120,  1,      5,      5,2,19930807,0055,  5.7485, 178.9973, 5774,   4887.9,   1.2709,  34.7022,2,  34.7025,2,   -999.0,9,    187.9,2,   128.89,2,    33.26,2,     0.00,2,     2.31,2, -999.000,5, -999.000,5, -999.000,9,-999.0000,9,    12.10,2,   -999.0,9,   -999.0,9,  -999.00,9,-999.0000,   0.150,  0.8577,-999.000
      325023_1,  P14N,   120,  1,      4,      4,2,19930807,0055,  5.7485, 178.9973, 5774,   5195.9,   1.2932,  34.7029,2,  34.7033,2,   -999.0,9,    189.3,2,   127.37,2,    33.13,2,     0.00,2,     2.30,2, -999.000,5, -999.000,5, -999.000,9,-999.0000,9,  -999.00,9,   -999.0,9,   -999.0,9,  -999.00,9,-999.0000,-999.000,  0.8421,-999.000
      325023_1,  P14N,   120,  1,      3,      3,2,19930807,0055,  5.7485, 178.9973, 5774,   5504.0,   1.3261,  34.7036,2,  34.7033,2,   -999.0,9,    190.7,2,   126.87,2,    32.96,2,     0.00,2,     2.29,2, -999.000,5, -999.000,5, -999.000,9,-999.0000,9,    11.80,2,   -999.0,9,   -999.0,9,  -999.00,9,-999.0000,   0.150,  0.8353,-999.000
      325023_1,  P14N,   120,  1,      2,      2,2,19930807,0055,  5.7485, 178.9973, 5774,   5781.8,   1.3622,  34.7039,2,  34.7039,2,   -999.0,9,    190.9,2,   126.37,2,    33.01,2,     0.00,2,     2.29,2, -999.000,5, -999.000,5, -999.000,9,-999.0000,9,    12.30,2,   -999.0,9,   -999.0,9,  -999.00,9,-999.0000,   0.150,  0.8343,-999.000
      325023_1,  P14N,   120,  1,      1,      1,2,19930807,0055,  5.7485, 178.9973, 5774,   5782.4,   1.3622,  34.7040,2,  34.7043,2,   -999.0,9,    189.7,2,   126.68,2,    33.06,2,     0.00,2,     2.29,2, -999.000,5, -999.000,5, -999.000,9,-999.0000,9,  -999.00,9,   -999.0,9,   -999.0,9,  -999.00,9,-999.0000,-999.000,  0.8342,-999.000