BOTTLE,20131125MIRCJHATS
EXPOCODE,SECT_ID,STNNBR,CASTNO,SAMPNO,BTLNBR,BTLNBR_FLAG_W,DATE,TIME,LATITUDE,LONGITUDE,DEPTH,CTDPRS,CTDTMP,CTDSAL,CTDSAL_FLAG_W,SALNTY,SALNTY_FLAG_W,CTDOXY,CTDOXY_FLAG_W,OXYGEN,OXYGEN_FLAG_W,SILCAT,SILCAT_FLAG_W,NITRAT,NITRAT_FLAG_W,NITRIT,NITRIT_FLAG_W,PHSPHT,PHSPHT_FLAG_W,CFC-11,CFC-11_FLAG_W,CFC-12,CFC-12_FLAG_W,TRITUM,TRITUM_FLAG_W,HELIUM,HELIUM_FLAG_W,DELHE3,DELHE3_FLAG_W,TCARBN,TCARBN_FLAG_W,ALKALI,ALKALI_FLAG_W,PH,PH_FLAG_W,HELIER,DELHER,THETA,TRITER
,,,,,,,,,,,,DBAR,ITS-90,PSS-78,,PSS-78,,UMOL/KG,,UMOL/KG,,UMOL/KG,,UMOL/KG,,UMOL/KG,,UMOL/KG,,PMOL/KG,,PMOL/KG,,TU,,NMOL/KG,,PERCNT,,UMOL/KG,,UMOL/KG,,25_DEG,,NMOL/KG,PERCNT,DEG C,TU
      325023_1,  P14N,   100,  1,     36,     36,2,19930802,1243, 12.5013, 179.0038, 5976,      2.2,  27.9814,  34.5927,2,  34.5966,2,   -999.0,9,    198.4,2,     2.94,2,     0.00,2,     0.00,2,     0.15,2, -999.000,5, -999.000,5, -999.000,9,-999.0000,9,  -999.00,9,   1929.0,2,   2277.0,2,     8.13,2,-999.0000,-999.000, 27.9809,-999.000
      325023_1,  P14N,   100,  1,     35,     35,2,19930802,1243, 12.5013, 179.0038, 5976,     37.8,  27.9894,  34.6249,2,  34.6299,2,   -999.0,9,    198.8,2,     2.85,2,     0.00,2,     0.00,2,     0.16,2, -999.000,5, -999.000,5, -999.000,9,-999.0000,9,  -999.00,9,   1932.6,2,   2274.3,2,  -999.00,9,-999.0000,-999.000, 27.9805,-999.000
      325023_1,  P14N,   100,  1,     34,     34,2,19930802,1243, 12.5013, 179.0038, 5976,     67.4,  27.9123,  34.6361,2,  34.6329,2,   -999.0,9,    199.2,2,     2.54,2,     0.00,2,     0.00,2,     0.15,2, -999.000,5, -999.000,5, -999.000,9,-999.0000,9,  -999.00,9,   1932.1,2,   2279.9,2,     8.13,2,-999.0000,-999.000, 27.8964,-999.000
      325023_1,  P14N,   100,  1,     33,     33,2,19930802,1243, 12.5013, 179.0038, 5976,     97.3,  26.7115,  34.6410,2,  34.6360,2,   -999.0,9,    207.0,2,     2.44,2,     0.00,2,     0.00,2,     0.13,2, -999.000,5, -999.000,5, -999.000,9,-999.0000,9,  -999.00,9,   1936.7,2,   2275.3,2,  -999.00,9,-999.0000,-999.000, 26.6894,-999.000
      325023_1,  P14N,   100,  1,     32,     32,2,19930802,1243, 12.5013, 179.0038, 5976,    127.8,  22.5988,  34.8900,2,  34.8819,2,   -999.0,9,    210.8,2,     2.35,2,     0.00,2,     0.00,2,     0.16,2, -999.000,5, -999.000,5, -999.000,9,-999.0000,9,  -999.00,9,   2000.4,2,   2305.6,2,     8.05,2,-999.0000,-999.000, 22.5730,-999.000
      325023_1,  P14N,   100,  1,     31,     31,2,19930802,1243, 12.5013, 179.0038, 5976,    158.2,  19.2769,  34.8473,2,  34.8356,2,   -999.0,9,    175.1,2,     4.42,2,     3.71,2,     0.07,2,     0.47,2, -999.000,5, -999.000,5, -999.000,9,-999.0000,9,  -999.00,9,   2060.8,2,   2297.5,2,  -999.00,9,-999.0000,-999.000, 19.2485,-999.000
      325023_1,  P14N,   100,  1,     30,     30,2,19930802,1243, 12.5013, 179.0038, 5976,    208.8,  13.6460,  34.4319,2,  34.4348,2,   -999.0,9,    132.7,2,    14.06,2,    15.41,2,     0.01,2,     1.22,2,    1.871,2,    0.925,2, -999.000,9,-999.0000,9,  -999.00,9,   2124.0,2,   2275.6,2,     7.75,2,-999.0000,-999.000, 13.6165,-999.000
      325023_1,  P14N,   100,  1,     29,     29,2,19930802,1243, 12.5013, 179.0038, 5976,    259.5,  11.2671,  34.3761,2,  34.3743,2,   -999.0,9,     85.8,2,    26.29,2,    24.38,2,     0.00,2,     1.90,2,    1.072,2,    0.508,2, -999.000,9,-999.0000,9,  -999.00,9,   2186.6,2,   2274.2,2,  -999.00,9,-999.0000,-999.000, 11.2348,-999.000
      325023_1,  P14N,   100,  1,     28,     28,2,19930802,1243, 12.5013, 179.0038, 5976,    309.7,   9.7156,  34.4231,2,  34.4221,2,   -999.0,9,     53.4,2,    37.21,2,    30.16,2,     0.00,2,     2.29,2,    0.412,3,    0.171,3, -999.000,9,-999.0000,9,  -999.00,9,   2231.9,2,   2287.6,2,     7.49,2,-999.0000,-999.000,  9.6803,-999.000
      325023_1,  P14N,   100,  1,     27,     27,2,19930802,1243, 12.5013, 179.0038, 5976,    410.1,   8.3377,  34.4933,2,  34.4909,2,   -999.0,9,     30.4,2,    48.55,2,    35.37,2,     0.00,2,     2.62,2,    0.065,2,    0.031,2, -999.000,9,-999.0000,9,  -999.00,9,   2268.6,2,   2306.9,2,  -999.00,9,-999.0000,-999.000,  8.2949,-999.000
      325023_1,  P14N,   100,  1,     26,     26,2,19930802,1243, 12.5013, 179.0038, 5976,    510.2,   7.2741,  34.4884,2,  34.4828,2,   -999.0,9,     30.1,2,    59.26,2,    37.56,2,     0.00,2,     2.77,2,    0.018,2,    0.009,2, -999.000,9,-999.0000,9,  -999.00,9,   2285.0,2,   2316.4,2,     7.41,2,-999.0000,-999.000,  7.2246,-999.000
      325023_1,  P14N,   100,  1,     25,     25,2,19930802,1243, 12.5013, 179.0038, 5976,    610.0,   6.5008,  34.4973,2,  34.4966,2,   -999.0,9,     38.9,2,    67.80,2,    38.90,2,     0.00,2,     2.82,2,    0.007,2,    0.013,4, -999.000,9,-999.0000,9,  -999.00,9,   2292.5,2,   2330.5,2,     7.42,2,-999.0000,-999.000,  6.4448,-999.000
      325023_1,  P14N,   100,  1,     24,     24,2,19930802,1243, 12.5013, 179.0038, 5976,    710.6,   5.7628,  34.5039,2,  34.5028,2,   -999.0,9,     40.3,2,    78.51,2,    40.49,2,     0.00,2,     2.90,2, -999.000,5, -999.000,5, -999.000,9,-999.0000,9,  -999.00,9,   2308.4,2,   2339.7,2,     7.41,2,-999.0000,-999.000,  5.7010,-999.000
      325023_1,  P14N,   100,  1,     23,     23,2,19930802,1243, 12.5013, 179.0038, 5976,    811.5,   5.2313,  34.5136,2,  34.5128,2,   -999.0,9,     39.3,2,    87.72,2,    41.53,2,     0.00,2,     2.97,2, -999.000,5, -999.000,5, -999.000,9,-999.0000,9,  -999.00,9,   2319.8,2,   2353.0,2,     7.40,2,-999.0000,-999.000,  5.1634,-999.000
      325023_1,  P14N,   100,  1,     22,     22,2,19930802,1243, 12.5013, 179.0038, 5976,    911.9,   4.7073,  34.5364,2,  34.5362,2,   -999.0,9,     54.8,2,    94.99,2,    41.16,2,     0.00,2,     2.92,2, -999.000,5, -999.000,5, -999.000,9,-999.0000,9,  -999.00,9,   2321.7,2,   2358.8,2,     7.43,2,-999.0000,-999.000,  4.6339,-999.000
      325023_1,  P14N,   100,  1,     21,     21,2,19930802,1243, 12.5013, 179.0038, 5976,   1012.5,   4.3414,  34.5475,2,  34.5466,2,   -999.0,9,     60.1,2,   102.71,2,    41.07,2,     0.00,2,     2.92,2, -999.000,5, -999.000,5, -999.000,9,-999.0000,9,  -999.00,9,   2327.6,2,   2367.9,2,     7.43,2,-999.0000,-999.000,  4.2619,-999.000
      325023_1,  P14N,   100,  1,     20,     20,2,19930802,1243, 12.5013, 179.0038, 5976,   1214.3,   3.6376,  34.5696,2,  34.5689,2,   -999.0,9,     73.2,2,   116.37,2,    40.60,2,     0.00,2,     2.87,2, -999.000,5, -999.000,5, -999.000,9,-999.0000,9,  -999.00,9,   2337.2,2,   2382.2,2,  -999.00,9,-999.0000,-999.000,  3.5470,-999.000
      325023_1,  P14N,   100,  1,     19,     19,2,19930802,1243, 12.5013, 179.0038, 5976,   1418.0,   3.0465,  34.5893,2,  34.5891,2,   -999.0,9,     81.1,2,   129.23,2,    40.37,2,     0.00,2,     2.84,2, -999.000,5, -999.000,5, -999.000,9,-999.0000,9,  -999.00,9,   2346.7,2,   2398.5,2,  -999.00,9,-999.0000,-999.000,  2.9449,-999.000
      325023_1,  P14N,   100,  1,     18,     18,2,19930802,1243, 12.5013, 179.0038, 5976,   1621.9,   2.6626,  34.6073,2,  34.6038,2,   -999.0,9,     89.7,2,   138.18,2,    40.00,2,     0.00,2,     2.79,2, -999.000,5, -999.000,5, -999.000,9,-999.0000,9,  -999.00,9,   2349.0,2,   2404.5,2,     7.48,2,-999.0000,-999.000,  2.5485,-999.000
      325023_1,  P14N,   100,  1,     17,     17,2,19930802,1243, 12.5013, 179.0038, 5976,   1826.1,   2.3451,  34.6225,2,  34.6225,2,   -999.0,9,     97.7,2,   144.48,2,    39.49,2,     0.00,2,     2.74,2, -999.000,5, -999.000,5, -999.000,9,-999.0000,9,  -999.00,9,   2352.5,2,   2413.0,2,  -999.00,9,-999.0000,-999.000,  2.2182,-999.000
      325023_1,  P14N,   100,  1,     16,     16,2,19930802,1243, 12.5013, 179.0038, 5976,   2028.6,   2.1475,  34.6342,2,  34.6334,2,   -999.0,9,    104.3,2,   148.80,2,    39.17,2,     0.00,2,     2.71,2, -999.000,5, -999.000,5, -999.000,9,-999.0000,9,  -999.00,9,   2353.8,2,   2417.0,2,  -999.00,9,-999.0000,-999.000,  2.0064,-999.000
      325023_1,  P14N,   100,  1,     15,     15,2,19930802,1243, 12.5013, 179.0038, 5976,   2232.0,   1.9965,  34.6438,2,  34.6440,2,   -999.0,9,    109.8,2,   151.55,2,    38.85,2,     0.00,2,     2.69,2, -999.000,5, -999.000,5, -999.000,9,-999.0000,9,  -999.00,9,   2352.8,2,   2420.8,2,     7.51,2,-999.0000,-999.000,  1.8403,-999.000
      325023_1,  P14N,   100,  1,     14,     14,2,19930802,1243, 12.5013, 179.0038, 5976,   2436.2,   1.8738,  34.6519,2,  34.6519,2,   -999.0,9,    115.1,2,   153.41,2,    38.44,2,     0.00,2,     2.65,2, -999.000,5, -999.000,5, -999.000,9,-999.0000,9,  -999.00,9,   2353.5,2,   2423.3,2,  -999.00,9,-999.0000,-999.000,  1.7016,-999.000
      325023_1,  P14N,   100,  1,     13,     13,2,19930802,1243, 12.5013, 179.0038, 5976,   2639.8,   1.7756,  34.6589,2,  34.6599,2,   -999.0,9,    120.3,2,   155.04,2,    38.12,2,     0.00,2,     2.62,2, -999.000,5, -999.000,5, -999.000,9,-999.0000,9,  -999.00,9,   2351.1,2,   2425.0,2,  -999.00,9,-999.0000,-999.000,  1.5868,-999.000
      325023_1,  P14N,   100,  1,     12,     12,2,19930802,1243, 12.5013, 179.0038, 5976,   2843.8,   1.6911,  34.6639,2,  34.6652,2,   -999.0,9,    125.1,2,   156.67,2,    37.89,2,     0.00,2,     2.59,2, -999.000,5, -999.000,5, -999.000,9,-999.0000,9,  -999.00,9,   2348.7,2,   2426.5,2,     7.54,2,-999.0000,-999.000,  1.4850,-999.000
      325023_1,  P14N,   100,  1,     11,     11,2,19930802,1243, 12.5013, 179.0038, 5976,   3047.5,   1.6181,  34.6694,2,  34.6697,2,   -999.0,9,    131.1,2,   156.73,2,    37.48,2,     0.00,2,     2.57,2, -999.000,5, -999.000,5, -999.000,9,-999.0000,9,  -999.00,9,   2345.9,2,   2425.5,2,  -999.00,9,-999.0000,-999.000,  1.3942,-999.000
      325023_1,  P14N,   100,  1,     10,     10,2,19930802,1243, 12.5013, 179.0038, 5976,   3353.0,   1.5378,  34.6768,2,  34.6774,2,   -999.0,9,    139.1,2,   155.65,2,    36.94,2,     0.00,2,     2.53,2, -999.000,5, -999.000,5, -999.000,9,-999.0000,9,  -999.00,9,   2334.6,2,   2425.2,2,  -999.00,9,-999.0000,-999.000,  1.2856,-999.000
      325023_1,  P14N,   100,  1,      9,      9,2,19930802,1243, 12.5013, 179.0038, 5976,   3660.6,   1.4677,  34.6819,2,  34.6819,2,   -999.0,9,    148.3,2,   153.23,2,    36.26,2,     0.00,2,     2.48,2, -999.000,5, -999.000,5, -999.000,9,-999.0000,9,  -999.00,9,   2327.9,2,   2421.7,2,     7.57,2,-999.0000,-999.000,  1.1858,-999.000
      325023_1,  P14N,   100,  1,      8,      8,2,19930802,1243, 12.5013, 179.0038, 5976,   3967.5,   1.4221,  34.6867,2,  34.6872,2,   -999.0,9,    157.0,2,   149.03,2,    35.67,2,     0.00,2,     2.44,2, -999.000,5, -999.000,5, -999.000,9,-999.0000,9,  -999.00,9,   2320.7,2,   2417.2,2,  -999.00,9,-999.0000,-999.000,  1.1089,-999.000
      325023_1,  P14N,   100,  1,      7,      7,2,19930802,1243, 12.5013, 179.0038, 5976,   4275.7,   1.3599,  34.6929,2,  34.6939,2,   -999.0,9,    168.6,2,   141.73,2,    34.76,2,     0.00,2,     2.38,2, -999.000,5, -999.000,5, -999.000,9,-999.0000,9,  -999.00,9,   2306.2,2,   -999.0,9,  -999.00,9,-999.0000,-999.000,  1.0146,-999.000
      325023_1,  P14N,   100,  1,      6,      6,2,19930802,1243, 12.5013, 179.0038, 5976,   4584.6,   1.3230,  34.6975,2,  34.6982,2,   -999.0,9,    178.6,2,   136.02,2,    34.14,2,     0.00,2,     2.33,2, -999.000,5, -999.000,5, -999.000,9,-999.0000,9,  -999.00,9,   2295.7,2,   2400.8,2,     7.60,2,-999.0000,-999.000,  0.9438,-999.000
      325023_1,  P14N,   100,  1,      5,      5,2,19930802,1243, 12.5013, 179.0038, 5976,   4891.5,   1.3182,  34.7002,2,  34.7005,2,   -999.0,9,    183.7,2,   133.43,2,    33.73,2,     0.00,2,     2.30,2, -999.000,5, -999.000,5, -999.000,9,-999.0000,9,  -999.00,9,   2290.3,2,   -999.0,9,  -999.00,9,-999.0000,-999.000,  0.9031,-999.000
      325023_1,  P14N,   100,  1,      4,      4,2,19930802,1243, 12.5013, 179.0038, 5976,   5200.9,   1.3317,  34.7013,2,  34.7033,2,   -999.0,9,    187.2,2,   133.28,2,    33.42,2,     0.00,2,     2.27,2, -999.000,5, -999.000,5, -999.000,9,-999.0000,9,  -999.00,9,   2286.5,2,   2393.9,2,  -999.00,9,-999.0000,-999.000,  0.8786,-999.000
      325023_1,  P14N,   100,  1,      3,      3,2,19930802,1243, 12.5013, 179.0038, 5976,   5509.9,   1.3614,  34.7021,2,  34.7021,2,   -999.0,9,    188.8,2,   130.69,2,    33.33,2,     0.00,2,     2.27,2, -999.000,5, -999.000,5, -999.000,9,-999.0000,9,  -999.00,9,   2284.1,2,   2391.9,2,     7.61,2,-999.0000,-999.000,  0.8685,-999.000
      325023_1,  P14N,   100,  1,      2,      2,2,19930802,1243, 12.5013, 179.0038, 5976,   5819.5,   1.3959,  34.7023,2,  34.7027,2,   -999.0,9,    189.2,2,   130.76,2,    33.29,2,     0.00,2,     2.27,2, -999.000,5, -999.000,5, -999.000,9,-999.0000,9,  -999.00,9,   2284.3,2,   2392.3,2,  -999.00,9,-999.0000,-999.000,  0.8618,-999.000
      325023_1,  P14N,   100,  1,      1,      1,2,19930802,1243, 12.5013, 179.0038, 5976,   6077.4,   1.4291,  34.7023,2,  34.7029,2,   -999.0,9,    187.3,2,   130.38,2,    33.30,2,     0.00,2,     2.28,2, -999.000,5, -999.000,5, -999.000,9,-999.0000,9,  -999.00,9,   2284.6,2,   2397.3,2,  -999.00,9,-999.0000,-999.000,  0.8596,-999.000