BOTTLE,20131125MIRCJHATS
EXPOCODE,SECT_ID,STNNBR,CASTNO,SAMPNO,BTLNBR,BTLNBR_FLAG_W,DATE,TIME,LATITUDE,LONGITUDE,DEPTH,CTDPRS,CTDTMP,CTDSAL,CTDSAL_FLAG_W,SALNTY,SALNTY_FLAG_W,CTDOXY,CTDOXY_FLAG_W,OXYGEN,OXYGEN_FLAG_W,SILCAT,SILCAT_FLAG_W,NITRAT,NITRAT_FLAG_W,NITRIT,NITRIT_FLAG_W,PHSPHT,PHSPHT_FLAG_W,CFC-11,CFC-11_FLAG_W,CFC-12,CFC-12_FLAG_W,TRITUM,TRITUM_FLAG_W,HELIUM,HELIUM_FLAG_W,DELHE3,DELHE3_FLAG_W,TCARBN,TCARBN_FLAG_W,ALKALI,ALKALI_FLAG_W,PH,PH_FLAG_W,HELIER,DELHER,THETA,TRITER
,,,,,,,,,,,,DBAR,ITS-90,PSS-78,,PSS-78,,UMOL/KG,,UMOL/KG,,UMOL/KG,,UMOL/KG,,UMOL/KG,,UMOL/KG,,PMOL/KG,,PMOL/KG,,TU,,NMOL/KG,,PERCNT,,UMOL/KG,,UMOL/KG,,25_DEG,,NMOL/KG,PERCNT,DEG C,TU
      325023_1,  P14N,   112,  1,     36,     36,2,19930805,0847,  7.7552, 179.0000, 5927,      2.9,  28.7217,  34.2724,2,  34.2773,2,   -999.0,9,    200.9,2,     2.63,2,     0.04,2,     0.00,2,     0.21,2, -999.000,5, -999.000,5, -999.000,9,-999.0000,9,  -999.00,9,   -999.0,9,   -999.0,9,  -999.00,9,-999.0000,-999.000, 28.7210,-999.000
      325023_1,  P14N,   112,  1,     35,     35,2,19930805,0847,  7.7552, 179.0000, 5927,     40.1,  28.7145,  34.3286,2,  34.3252,2,   -999.0,9,    197.3,2,     2.19,2,     0.04,2,     0.00,2,     0.21,2, -999.000,5, -999.000,5, -999.000,9,-999.0000,9,  -999.00,9,   -999.0,9,   -999.0,9,  -999.00,9,-999.0000,-999.000, 28.7049,-999.000
      325023_1,  P14N,   112,  1,     34,     34,2,19930805,0847,  7.7552, 179.0000, 5927,     69.6,  28.0292,  34.5779,2,  34.5826,2,   -999.0,9,    200.2,2,     2.14,2,     0.03,2,     0.00,2,     0.20,2, -999.000,5, -999.000,5, -999.000,9,-999.0000,9,  -999.00,9,   -999.0,9,   -999.0,9,  -999.00,9,-999.0000,-999.000, 28.0128,-999.000
      325023_1,  P14N,   112,  1,     33,     33,2,19930805,0847,  7.7552, 179.0000, 5927,    101.5,  20.5048,  34.7592,2,  34.7607,2,   -999.0,9,    163.6,2,     5.48,2,     3.95,2,     0.24,2,     0.56,2, -999.000,5, -999.000,5, -999.000,9,-999.0000,9,  -999.00,9,   -999.0,9,   -999.0,9,  -999.00,9,-999.0000,-999.000, 20.4858,-999.000
      325023_1,  P14N,   112,  1,     32,     32,2,19930805,0847,  7.7552, 179.0000, 5927,    130.8,  15.2287,  34.6171,2,  34.6171,2,   -999.0,9,    116.9,2,    14.60,2,    15.82,2,     0.03,2,     1.25,2, -999.000,5, -999.000,5, -999.000,9,-999.0000,9,  -999.00,9,   -999.0,9,   -999.0,9,  -999.00,9,-999.0000,-999.000, 15.2088,-999.000
      325023_1,  P14N,   112,  1,     31,     31,2,19930805,0847,  7.7552, 179.0000, 5927,    162.6,  12.1779,  34.5498,2,  34.5420,2,   -999.0,9,     72.6,2,    25.31,2,    25.47,2,     0.00,2,     1.90,2, -999.000,5, -999.000,5, -999.000,9,-999.0000,9,  -999.00,9,   -999.0,9,   -999.0,9,  -999.00,9,-999.0000,-999.000, 12.1566,-999.000
      325023_1,  P14N,   112,  1,     30,     30,2,19930805,0847,  7.7552, 179.0000, 5927,    212.2,  10.7342,  34.6598,2,  34.6557,2,   -999.0,9,     24.1,2,    32.83,2,    33.39,2,     0.00,2,     2.42,2, -999.000,5, -999.000,5, -999.000,9,-999.0000,9,  -999.00,9,   -999.0,9,   -999.0,9,  -999.00,9,-999.0000,-999.000, 10.7085,-999.000
      325023_1,  P14N,   112,  1,     29,     29,2,19930805,0847,  7.7552, 179.0000, 5927,    262.0,  10.1078,  34.6756,2,  34.6761,2,   -999.0,9,     20.8,2,    35.16,2,    34.92,2,     0.00,2,     2.48,2, -999.000,5, -999.000,5, -999.000,9,-999.0000,9,  -999.00,9,   -999.0,9,   -999.0,9,  -999.00,9,-999.0000,-999.000, 10.0772,-999.000
      325023_1,  P14N,   112,  1,     28,     28,2,19930805,0847,  7.7552, 179.0000, 5927,    312.1,   9.6068,  34.6670,2,  34.6676,2,   -999.0,9,     19.1,2,    37.30,2,    36.05,2,     0.00,2,     2.56,2, -999.000,5, -999.000,5, -999.000,9,-999.0000,9,  -999.00,9,   -999.0,9,   -999.0,9,  -999.00,9,-999.0000,-999.000,  9.5714,-999.000
      325023_1,  P14N,   112,  1,     27,     27,2,19930805,0847,  7.7552, 179.0000, 5927,    412.9,   8.7669,  34.6238,2,  34.6235,2,   -999.0,9,     25.4,2,    42.63,2,    36.95,2,     0.00,2,     2.65,2, -999.000,5, -999.000,5, -999.000,9,-999.0000,9,  -999.00,9,   -999.0,9,   -999.0,9,  -999.00,9,-999.0000,-999.000,  8.7224,-999.000
      325023_1,  P14N,   112,  1,     26,     26,2,19930805,0847,  7.7552, 179.0000, 5927,    513.3,   7.7838,  34.5778,2,  34.5783,2,   -999.0,9,     36.2,2,    49.75,2,    37.91,2,     0.00,2,     2.72,2, -999.000,5, -999.000,5, -999.000,9,-999.0000,9,  -999.00,9,   -999.0,9,   -999.0,9,  -999.00,9,-999.0000,-999.000,  7.7319,-999.000
      325023_1,  P14N,   112,  1,     25,     25,2,19930805,0847,  7.7552, 179.0000, 5927,    613.3,   6.7372,  34.5511,2,  34.5503,2,   -999.0,9,     35.8,2,    61.27,2,    40.32,2,     0.00,2,     2.88,2, -999.000,5, -999.000,5, -999.000,9,-999.0000,9,  -999.00,9,   -999.0,9,   -999.0,9,  -999.00,9,-999.0000,-999.000,  6.6797,-999.000
      325023_1,  P14N,   112,  1,     24,     24,2,19930805,0847,  7.7552, 179.0000, 5927,    713.8,   5.9137,  34.5403,2,  34.5409,2,   -999.0,9,     41.7,2,    71.21,2,    41.49,2,     0.00,2,     2.93,2, -999.000,5, -999.000,5, -999.000,9,-999.0000,9,  -999.00,9,   -999.0,9,   -999.0,9,  -999.00,9,-999.0000,-999.000,  5.8507,-999.000
      325023_1,  P14N,   112,  1,     23,     23,2,19930805,0847,  7.7552, 179.0000, 5927,    815.0,   5.2934,  34.5427,2,  34.5428,2,   -999.0,9,     49.8,2,    80.37,2,    41.77,2,     0.00,2,     2.95,2, -999.000,5, -999.000,5, -999.000,9,-999.0000,9,  -999.00,9,   -999.0,9,   -999.0,9,  -999.00,9,-999.0000,-999.000,  5.2247,-999.000
      325023_1,  P14N,   112,  1,     22,     22,2,19930805,0847,  7.7552, 179.0000, 5927,    916.3,   4.7532,  34.5513,2,  34.5516,2,   -999.0,9,     57.1,2,    89.35,2,    41.76,2,     0.00,2,     2.95,2, -999.000,5, -999.000,5, -999.000,9,-999.0000,9,  -999.00,9,   -999.0,9,   -999.0,9,  -999.00,9,-999.0000,-999.000,  4.6791,-999.000
      325023_1,  P14N,   112,  1,     21,     21,2,19930805,0847,  7.7552, 179.0000, 5927,   1016.6,   4.3829,  34.5585,2,  34.5583,2,   -999.0,9,     62.7,2,    96.75,2,    41.75,2,     0.00,2,     2.94,2, -999.000,5, -999.000,5, -999.000,9,-999.0000,9,  -999.00,9,   -999.0,9,   -999.0,9,  -999.00,9,-999.0000,-999.000,  4.3028,-999.000
      325023_1,  P14N,   112,  1,     20,     20,2,19930805,0847,  7.7552, 179.0000, 5927,   1217.7,   3.6029,  34.5818,2,  34.5806,2,   -999.0,9,     72.3,2,   113.12,2,    41.56,2,     0.00,2,     2.91,2, -999.000,5, -999.000,5, -999.000,9,-999.0000,9,  -999.00,9,   -999.0,9,   -999.0,9,  -999.00,9,-999.0000,-999.000,  3.5124,-999.000
      325023_1,  P14N,   112,  1,     19,     19,2,19930805,0847,  7.7552, 179.0000, 5927,   1420.8,   3.1122,  34.5978,2,  34.5961,2,   -999.0,9,     82.1,2,   123.69,2,    41.03,2,     0.00,2,     2.87,2, -999.000,5, -999.000,5, -999.000,9,-999.0000,9,  -999.00,9,   -999.0,9,   -999.0,9,  -999.00,9,-999.0000,-999.000,  3.0096,-999.000
      325023_1,  P14N,   112,  1,     18,     18,2,19930805,0847,  7.7552, 179.0000, 5927,   1624.2,   2.6773,  34.6149,2,  34.6145,2,   -999.0,9,     92.1,2,   132.70,2,    40.27,2,     0.00,2,     2.82,2, -999.000,5, -999.000,5, -999.000,9,-999.0000,9,  -999.00,9,   -999.0,9,   -999.0,9,  -999.00,9,-999.0000,-999.000,  2.5629,-999.000
      325023_1,  P14N,   112,  1,     17,     17,2,19930805,0847,  7.7552, 179.0000, 5927,   1827.0,   2.4170,  34.6272,2,  34.6272,2,   -999.0,9,     97.8,2,   138.85,2,    40.02,2,     0.00,2,     2.79,2, -999.000,5, -999.000,5, -999.000,9,-999.0000,9,  -999.00,9,   -999.0,9,   -999.0,9,  -999.00,9,-999.0000,-999.000,  2.2891,-999.000
      325023_1,  P14N,   112,  1,     16,     16,2,19930805,0847,  7.7552, 179.0000, 5927,   2028.0,   2.1965,  34.6391,2,  34.6398,2,   -999.0,9,    102.9,2,   144.20,2,    39.78,2,     0.00,2,     2.76,2, -999.000,5, -999.000,5, -999.000,9,-999.0000,9,  -999.00,9,   -999.0,9,   -999.0,9,  -999.00,9,-999.0000,-999.000,  2.0546,-999.000
      325023_1,  P14N,   112,  1,     15,     15,2,19930805,0847,  7.7552, 179.0000, 5927,   2228.9,   2.0434,  34.6489,2,  34.6492,2,   -999.0,9,    107.9,2,   147.68,2,    39.31,2,     0.00,2,     2.74,2, -999.000,5, -999.000,5, -999.000,9,-999.0000,9,  -999.00,9,   -999.0,9,   -999.0,9,  -999.00,9,-999.0000,-999.000,  1.8866,-999.000
      325023_1,  P14N,   112,  1,     14,     14,2,19930805,0847,  7.7552, 179.0000, 5927,   2429.8,   1.9173,  34.6553,2,  34.6554,2,   -999.0,9,    113.8,2,   149.50,2,    39.02,2,     0.00,2,     2.70,2, -999.000,5, -999.000,5, -999.000,9,-999.0000,9,  -999.00,9,   -999.0,9,   -999.0,9,  -999.00,9,-999.0000,-999.000,  1.7449,-999.000
      325023_1,  P14N,   112,  1,     13,     13,2,19930805,0847,  7.7552, 179.0000, 5927,   2631.0,   1.8244,  34.6616,2,  34.6621,2,   -999.0,9,    118.4,2,   151.52,2,    38.59,2,     0.00,2,     2.67,2, -999.000,5, -999.000,5, -999.000,9,-999.0000,9,  -999.00,9,   -999.0,9,   -999.0,9,  -999.00,9,-999.0000,-999.000,  1.6354,-999.000
      325023_1,  P14N,   112,  1,     12,     12,2,19930805,0847,  7.7552, 179.0000, 5927,   2836.4,   1.7440,  34.6667,2,  34.6674,2,   -999.0,9,    124.0,2,   151.44,2,    38.22,2,     0.00,2,     2.64,2, -999.000,5, -999.000,5, -999.000,9,-999.0000,9,  -999.00,9,   -999.0,9,   -999.0,9,  -999.00,9,-999.0000,-999.000,  1.5375,-999.000
      325023_1,  P14N,   112,  1,     11,     11,2,19930805,0847,  7.7552, 179.0000, 5927,   3040.6,   1.6685,  34.6716,2,  34.6713,2,   -999.0,9,    129.4,2,   151.36,2,    37.79,2,     0.00,2,     2.61,2, -999.000,5, -999.000,5, -999.000,9,-999.0000,9,  -999.00,9,   -999.0,9,   -999.0,9,  -999.00,9,-999.0000,-999.000,  1.4441,-999.000
      325023_1,  P14N,   112,  1,     10,     10,2,19930805,0847,  7.7552, 179.0000, 5927,   3343.9,   1.5674,  34.6774,2,  34.6777,2,   -999.0,9,    139.8,2,   149.80,2,    37.28,2,     0.00,2,     2.55,2, -999.000,5, -999.000,5, -999.000,9,-999.0000,9,  -999.00,9,   -999.0,9,   -999.0,9,  -999.00,9,-999.0000,-999.000,  1.3155,-999.000
      325023_1,  P14N,   112,  1,      9,      9,2,19930805,0847,  7.7552, 179.0000, 5927,   3658.4,   1.4640,  34.6845,2,  34.6840,2,   -999.0,9,    151.4,2,   146.99,2,    36.36,2,     0.00,2,     2.49,2, -999.000,5, -999.000,5, -999.000,9,-999.0000,9,  -999.00,9,   -999.0,9,   -999.0,9,  -999.00,9,-999.0000,-999.000,  1.1825,-999.000
      325023_1,  P14N,   112,  1,      8,      8,2,19930805,0847,  7.7552, 179.0000, 5927,   3963.5,   1.3745,  34.6909,2,  34.6909,2,   -999.0,9,    164.6,2,   141.05,2,    35.35,2,     0.00,2,     2.42,2, -999.000,5, -999.000,5, -999.000,9,-999.0000,9,  -999.00,9,   -999.0,9,   -999.0,9,  -999.00,9,-999.0000,-999.000,  1.0630,-999.000
      325023_1,  P14N,   112,  1,      7,      7,2,19930805,0847,  7.7552, 179.0000, 5927,   4269.9,   1.3123,  34.6961,2,  34.6957,2,   -999.0,9,    174.9,2,   136.40,2,    34.62,2,     0.00,2,     2.37,2, -999.000,5, -999.000,5, -999.000,9,-999.0000,9,  -999.00,9,   -999.0,9,   -999.0,9,  -999.00,9,-999.0000,-999.000,  0.9691,-999.000
      325023_1,  P14N,   112,  1,      6,      6,2,19930805,0847,  7.7552, 179.0000, 5927,   4577.4,   1.2851,  34.6991,2,  34.6997,2,   -999.0,9,    182.2,2,   132.18,2,    33.94,2,     0.00,2,     2.33,2, -999.000,5, -999.000,5, -999.000,9,-999.0000,9,  -999.00,9,   -999.0,9,   -999.0,9,  -999.00,9,-999.0000,-999.000,  0.9078,-999.000
      325023_1,  P14N,   112,  1,      5,      5,2,19930805,0847,  7.7552, 179.0000, 5927,   4885.9,   1.2918,  34.7014,2,  34.7014,2,   -999.0,9,    186.8,2,   129.63,2,    33.66,2,     0.00,2,     2.30,2, -999.000,5, -999.000,5, -999.000,9,-999.0000,9,  -999.00,9,   -999.0,9,   -999.0,9,  -999.00,9,-999.0000,-999.000,  0.8782,-999.000
      325023_1,  P14N,   112,  1,      4,      4,2,19930805,0847,  7.7552, 179.0000, 5927,   5192.2,   1.3072,  34.7024,2,  34.7028,2,   -999.0,9,    189.3,2,   128.32,2,    33.61,2,     0.00,2,     2.29,2, -999.000,5, -999.000,5, -999.000,9,-999.0000,9,  -999.00,9,   -999.0,9,   -999.0,9,  -999.00,9,-999.0000,-999.000,  0.8560,-999.000
      325023_1,  P14N,   112,  1,      3,      3,2,19930805,0847,  7.7552, 179.0000, 5927,   5499.4,   1.3370,  34.7032,2,  34.7037,2,   -999.0,9,    190.5,2,   128.04,2,    33.47,2,     0.00,2,     2.29,2, -999.000,5, -999.000,5, -999.000,9,-999.0000,9,  -999.00,9,   -999.0,9,   -999.0,9,  -999.00,9,-999.0000,-999.000,  0.8464,-999.000
      325023_1,  P14N,   112,  1,      2,      2,2,19930805,0847,  7.7552, 179.0000, 5927,   5805.9,   1.3736,  34.7034,2,  34.7033,2,   -999.0,9,    190.7,2,   127.97,2,    33.46,2,     0.00,2,     2.29,2, -999.000,5, -999.000,5, -999.000,9,-999.0000,9,  -999.00,9,   -999.0,9,   -999.0,9,  -999.00,9,-999.0000,-999.000,  0.8421,-999.000
      325023_1,  P14N,   112,  1,      1,      1,2,19930805,0847,  7.7552, 179.0000, 5927,   5956.4,   1.3941,  34.7035,2,  34.7033,2,   -999.0,9,    189.2,2,   128.10,2,    33.45,2,     0.00,2,     2.28,2, -999.000,5, -999.000,5, -999.000,9,-999.0000,9,  -999.00,9,   -999.0,9,   -999.0,9,  -999.00,9,-999.0000,-999.000,  0.8420,-999.000