BOTTLE,20131125MIRCJHATS
EXPOCODE,SECT_ID,STNNBR,CASTNO,SAMPNO,BTLNBR,BTLNBR_FLAG_W,DATE,TIME,LATITUDE,LONGITUDE,DEPTH,CTDPRS,CTDTMP,CTDSAL,CTDSAL_FLAG_W,SALNTY,SALNTY_FLAG_W,CTDOXY,CTDOXY_FLAG_W,OXYGEN,OXYGEN_FLAG_W,SILCAT,SILCAT_FLAG_W,NITRAT,NITRAT_FLAG_W,NITRIT,NITRIT_FLAG_W,PHSPHT,PHSPHT_FLAG_W,CFC-11,CFC-11_FLAG_W,CFC-12,CFC-12_FLAG_W,TRITUM,TRITUM_FLAG_W,HELIUM,HELIUM_FLAG_W,DELHE3,DELHE3_FLAG_W,TCARBN,TCARBN_FLAG_W,ALKALI,ALKALI_FLAG_W,PH,PH_FLAG_W,HELIER,DELHER,THETA,TRITER
,,,,,,,,,,,,DBAR,ITS-90,PSS-78,,PSS-78,,UMOL/KG,,UMOL/KG,,UMOL/KG,,UMOL/KG,,UMOL/KG,,UMOL/KG,,PMOL/KG,,PMOL/KG,,TU,,NMOL/KG,,PERCNT,,UMOL/KG,,UMOL/KG,,25_DEG,,NMOL/KG,PERCNT,DEG C,TU
      325024_1,  P14N,   800,  1,     36,     36,2,19930818,0145,  0.0008, 179.9997, 5262,      1.9,  31.1966,  34.5077,2,  34.5020,2,   -999.0,9,    196.0,2,     2.58,2,     0.03,2,     0.00,2,     0.18,2,    1.573,2,    0.851,2, -999.000,9,-999.0000,9,    -0.50,2,   1911.0,2,   2270.0,2,     8.12,2,-999.0000,   0.150, 31.1961,-999.000
      325024_1,  P14N,   800,  1,     35,     35,2,19930818,0145,  0.0008, 179.9997, 5262,      1.9,  30.7933,  34.4779,2,  34.4989,2,   -999.0,9,    195.4,2,     2.45,2,     0.03,2,     0.00,2,     0.19,2, -999.000,5, -999.000,5, -999.000,9,-999.0000,9,  -999.00,9,   1910.0,2,   2271.0,2,     8.11,2,-999.0000,-999.000, 30.7929,-999.000
      325024_1,  P14N,   800,  1,     34,     34,2,19930818,0145,  0.0008, 179.9997, 5262,     42.0,  30.1777,  34.5432,2,  34.5506,2,   -999.0,9,    195.6,2,     2.33,2,     0.02,2,     0.00,2,     0.19,2,    1.718,2,    0.924,2, -999.000,9,-999.0000,9,  -999.00,9,   1881.0,2,   2276.0,2,     8.12,2,-999.0000,-999.000, 30.1673,-999.000
      325024_1,  P14N,   800,  1,     33,     33,2,19930818,0145,  0.0008, 179.9997, 5262,     72.5,  30.0686,  34.8033,2,  34.8147,2,   -999.0,9,    196.9,2,     2.21,2,     0.02,2,     0.00,2,     0.20,2,    1.586,2,    0.856,2, -999.000,9,-999.0000,9,  -999.00,9,   1930.0,2,   2272.0,2,     8.09,2,-999.0000,-999.000, 30.0506,-999.000
      325024_1,  P14N,   800,  1,     32,     32,2,19930818,0145,  0.0008, 179.9997, 5262,    102.8,  23.5215,  35.1526,2,  35.1544,2,   -999.0,9,    145.0,2,     5.44,2,     7.57,2,     0.32,2,     0.66,2,    1.593,2,    0.852,2, -999.000,9,-999.0000,9,  -999.00,9,   2047.0,2,   2311.0,2,     7.93,2,-999.0000,-999.000, 23.5001,-999.000
      325024_1,  P14N,   800,  1,     31,     31,2,19930818,0145,  0.0008, 179.9997, 5262,    132.5,  22.0863,  35.2391,2,  35.2406,2,   -999.0,9,    138.2,2,     5.71,2,     8.78,2,     0.08,2,     0.72,2,    1.530,2,    0.803,2, -999.000,9,-999.0000,9,  -999.00,9,   2064.0,2,   2313.0,2,     7.92,2,-999.0000,-999.000, 22.0600,-999.000
      325024_1,  P14N,   800,  1,     30,     30,2,19930818,0145,  0.0008, 179.9997, 5262,    162.9,  20.3680,  34.9916,2,  34.9864,2,   -999.0,9,    138.5,2,     8.94,2,    10.06,2,     0.03,2,     0.79,2,    1.595,6,    0.826,6, -999.000,9,-999.0000,9,  -999.00,9,   2070.0,2,   2302.0,2,     7.88,2,-999.0000,-999.000, 20.3375,-999.000
      325024_1,  P14N,   800,  1,     29,     29,2,19930818,0145,  0.0008, 179.9997, 5262,    213.6,  16.3575,  35.0526,2,  35.0137,3,   -999.0,9,    137.5,2,    13.74,2,    14.38,2,     0.02,2,     1.10,2,    1.271,2,    0.660,2, -999.000,9,-999.0000,9,  -999.00,9,   2114.0,2,   2309.0,2,     7.80,2,-999.0000,-999.000, 16.3232,-999.000
      325024_1,  P14N,   800,  1,     28,     28,2,19930818,0145,  0.0008, 179.9997, 5262,    263.8,  13.6339,  34.8893,2,  34.8826,2,   -999.0,9,    133.6,2,    17.96,2,    18.12,2,     0.01,2,     1.34,2,    1.012,2,    0.498,2, -999.000,9,-999.0000,9,  -999.00,9,   2141.0,2,   2309.0,2,     7.75,2,-999.0000,-999.000, 13.5964,-999.000
      325024_1,  P14N,   800,  1,     27,     27,2,19930818,0145,  0.0008, 179.9997, 5262,    314.7,  11.5772,  34.7903,2,  34.7958,2,   -999.0,9,    102.0,2,    23.75,2,    24.75,2,     0.01,2,     1.77,2,    0.593,2,    0.280,2, -999.000,9,-999.0000,9,  -999.00,9,   2181.0,2,   2302.0,2,     7.66,2,-999.0000,-999.000, 11.5370,-999.000
      325024_1,  P14N,   800,  1,     26,     26,2,19930818,0145,  0.0008, 179.9997, 5262,    414.6,   9.2295,  34.6704,2,  34.6696,2,   -999.0,9,     83.8,2,    32.49,2,    30.65,2,     0.00,2,     2.17,2,    0.178,3,    0.069,2, -999.000,9,-999.0000,9,     4.80,2,   2222.0,2,   2312.0,2,     7.55,2,-999.0000,   0.150,  9.1834,-999.000
      325024_1,  P14N,   800,  1,     25,     25,2,19930818,0145,  0.0008, 179.9997, 5262,    514.9,   8.1014,  34.6118,2,  34.6072,2,   -999.0,9,    101.5,2,    35.72,2,    31.32,2,     0.00,2,     2.22,2,    0.122,2,    0.067,3, -999.000,9,-999.0000,9,  -999.00,9,   2223.0,2,   2308.0,2,     7.55,2,-999.0000,-999.000,  8.0481,-999.000
      325024_1,  P14N,   800,  1,     24,     24,2,19930818,0145,  0.0008, 179.9997, 5262,    615.0,   6.9573,  34.5680,2,  34.5674,2,   -999.0,9,     83.0,2,    48.02,2,    35.25,2,     0.00,2,     2.52,2,    0.035,2,    0.016,2, -999.000,9,-999.0000,9,  -999.00,9,   2254.0,2,   2327.0,2,     7.51,2,-999.0000,-999.000,  6.8986,-999.000
      325024_1,  P14N,   800,  1,     23,     23,2,19930818,0145,  0.0008, 179.9997, 5262,    715.2,   5.8233,  34.5509,2,  34.5507,2,   -999.0,9,     72.1,2,    63.90,2,    38.41,2,     0.00,2,     2.76,2,    0.009,2,    0.003,2, -999.000,9,-999.0000,9,  -999.00,9,   2282.0,2,   2331.0,2,     7.46,2,-999.0000,-999.000,  5.7606,-999.000
      325024_1,  P14N,   800,  1,     22,     22,2,19930818,0145,  0.0008, 179.9997, 5262,    815.9,   5.3267,  34.5445,2,  34.5442,2,   -999.0,9,     82.1,2,    70.70,2,    37.98,2,     0.00,2,     2.73,2,    0.005,2,    0.003,2, -999.000,9,-999.0000,9,  -999.00,9,   2283.0,2,   2341.0,2,     7.46,2,-999.0000,-999.000,  5.2577,-999.000
      325024_1,  P14N,   800,  1,     21,     21,2,19930818,0145,  0.0008, 179.9997, 5262,    915.7,   4.9111,  34.5476,2,  34.5472,2,   -999.0,9,     84.4,2,    78.30,2,    38.23,2,     0.00,2,     2.75,2,    0.002,2,    0.003,2, -999.000,9,-999.0000,9,  -999.00,9,   2292.0,2,   2350.0,2,     7.49,2,-999.0000,-999.000,  4.8359,-999.000
      325024_1,  P14N,   800,  1,     20,     20,2,19930818,0145,  0.0008, 179.9997, 5262,   1018.0,   4.5563,  34.5541,2,  34.5546,2,   -999.0,9,     84.5,2,    87.12,2,    38.49,2,     0.00,2,     2.78,2,    0.000,2,    0.001,2, -999.000,9,-999.0000,9,    13.40,2,   2301.0,2,   2358.0,2,     7.47,2,-999.0000,   0.150,  4.4747,-999.000
      325024_1,  P14N,   800,  1,     19,     19,3,19930818,0145,  0.0008, 179.9997, 5262,   1220.0,   3.8033,  34.5735,2,  34.6937,4,   -999.0,9,    169.3,4,   138.20,4,    34.04,4,     0.00,4,     2.38,4,    0.005,4,    0.001,4, -999.000,9,-999.0000,9,    20.90,2,   2313.0,4,   2414.0,4,     7.58,4,-999.0000,   0.150,  3.7107,-999.000
      325024_1,  P14N,   800,  1,     18,     18,2,19930818,0145,  0.0008, 179.9997, 5262,   1420.2,   3.2626,  34.5932,2,  34.6270,3,   -999.0,9,     92.9,2,   116.36,2,    38.77,2,     0.00,2,     2.80,2,   -0.004,2,    0.000,2, -999.000,9,-999.0000,9,    23.30,2,   2330.0,2,   2391.0,2,     7.48,2,-999.0000,   0.150,  3.1584,-999.000
      325024_1,  P14N,   800,  1,     17,     17,2,19930818,0145,  0.0008, 179.9997, 5262,   1623.5,   2.7852,  34.6129,2,  34.6118,2,   -999.0,9,     99.9,2,   127.21,2,    38.34,2,     0.00,2,     2.76,2,   -0.002,2,   -0.002,2, -999.000,9,-999.0000,9,    23.00,2,   2338.0,2,   2404.0,2,     7.47,2,-999.0000,   0.150,  2.6695,-999.000
      325024_1,  P14N,   800,  1,     16,     16,2,19930818,0145,  0.0008, 179.9997, 5262,   1826.4,   2.4951,  34.6265,2,  34.6258,2,   -999.0,9,    104.9,2,   133.61,2,    38.14,2,     0.00,2,     2.73,2, -999.000,5, -999.000,5, -999.000,9,-999.0000,9,  -999.00,9,   2343.0,2,   2412.0,2,     7.50,2,-999.0000,-999.000,  2.3661,-999.000
      325024_1,  P14N,   800,  1,     15,     15,2,19930818,0145,  0.0008, 179.9997, 5262,   2030.0,   2.2279,  34.6407,2,  34.6393,2,   -999.0,9,    111.3,2,   139.85,2,    37.76,2,     0.00,2,     2.70,2,   -0.001,2,    0.002,2, -999.000,9,-999.0000,9,    24.00,2,   2345.0,2,   2421.0,2,     7.49,2,-999.0000,   0.150,  2.0854,-999.000
      325024_1,  P14N,   800,  1,     14,     14,2,19930818,0145,  0.0008, 179.9997, 5262,   2234.0,   2.0387,  34.6508,2,  34.6501,2,   -999.0,9,    116.2,2,   143.21,2,    37.38,2,     0.00,2,     2.67,2, -999.000,5, -999.000,5, -999.000,9,-999.0000,9,  -999.00,9,   2348.0,2,   2421.0,2,     7.52,2,-999.0000,-999.000,  1.8815,-999.000
      325024_1,  P14N,   800,  1,     13,     13,2,19930818,0145,  0.0008, 179.9997, 5262,   2437.7,   1.9203,  34.6558,2,  34.6558,2,   -999.0,9,    121.4,2,   144.92,2,    37.04,2,     0.00,2,     2.64,2, -999.000,5, -999.000,5, -999.000,9,-999.0000,9,  -999.00,9,   2345.0,2,   2425.0,2,     7.53,2,-999.0000,-999.000,  1.7471,-999.000
      325024_1,  P14N,   800,  1,     12,     12,2,19930818,0145,  0.0008, 179.9997, 5262,   2641.0,   1.8006,  34.6639,2,  34.6632,2,   -999.0,9,    125.8,2,   147.05,2,    36.66,2,     0.00,2,     2.61,2, -999.000,5, -999.000,5, -999.000,9,-999.0000,9,    24.70,2,   2344.0,2,   2426.0,2,     7.53,2,-999.0000,   0.150,  1.6111,-999.000
      325024_1,  P14N,   800,  1,     11,     11,2,19930818,0145,  0.0008, 179.9997, 5262,   2844.9,   1.7170,  34.6676,2,  34.6673,2,   -999.0,9,    131.9,2,   147.10,2,    36.28,2,     0.00,2,     2.59,2, -999.000,5, -999.000,5, -999.000,9,-999.0000,9,    23.80,2,   2338.0,2,   -999.0,9,  -999.00,9,-999.0000,   0.150,  1.5103,-999.000
      325024_1,  P14N,   800,  1,     10,     10,2,19930818,0145,  0.0008, 179.9997, 5262,   3049.3,   1.6481,  34.6708,2,  34.6708,2,   -999.0,9,    137.7,2,   146.94,2,    36.08,2,     0.00,2,     2.53,2,    0.001,2,   -0.002,2, -999.000,9,-999.0000,9,  -999.00,9,   2337.0,2,   2425.0,2,     7.55,2,-999.0000,-999.000,  1.4233,-999.000
      325024_1,  P14N,   800,  1,      9,      9,2,19930818,0145,  0.0008, 179.9997, 5262,   3355.1,   1.5592,  34.6776,2,  34.6767,2,   -999.0,9,    145.4,2,   145.97,2,    35.65,2,     0.01,2,     2.52,2, -999.000,5, -999.000,5, -999.000,9,-999.0000,9,  -999.00,9,   2331.0,2,   2426.0,2,     7.54,2,-999.0000,-999.000,  1.3063,-999.000
      325024_1,  P14N,   800,  1,      8,      8,2,19930818,0145,  0.0008, 179.9997, 5262,   3661.6,   1.4901,  34.6839,2,  34.6832,2,   -999.0,9,    153.8,2,   143.09,2,    34.88,2,     0.00,2,     2.45,2, -999.000,5, -999.000,5, -999.000,9,-999.0000,9,  -999.00,9,   2324.0,2,   2424.0,2,     7.56,2,-999.0000,-999.000,  1.2075,-999.000
      325024_1,  P14N,   800,  1,      7,      7,2,19930818,0145,  0.0008, 179.9997, 5262,   3967.9,   1.4000,  34.6911,2,  34.6912,2,   -999.0,9,    164.0,2,   140.03,2,    34.19,2,     0.00,2,     2.40,2, -999.000,5, -999.000,5, -999.000,9,-999.0000,9,  -999.00,9,   2316.0,2,   2417.0,2,     7.58,2,-999.0000,-999.000,  1.0873,-999.000
      325024_1,  P14N,   800,  1,      6,      6,2,19930818,0145,  0.0008, 179.9997, 5262,   4276.4,   1.3262,  34.6968,2,  34.6979,2,   -999.0,9,    176.0,2,   134.51,2,    33.46,2,     0.00,2,     2.33,2,    0.000,2,    0.000,2, -999.000,9,-999.0000,9,    13.90,2,   2303.0,2,   2408.0,2,     7.59,2,-999.0000,   0.150,  0.9818,-999.000
      325024_1,  P14N,   800,  1,      5,      5,2,19930818,0145,  0.0008, 179.9997, 5262,   4584.4,   1.2620,  34.7017,2,  34.7014,2,   -999.0,9,    185.8,2,   130.26,2,    32.78,2,     0.00,2,     2.29,2, -999.000,5, -999.000,5, -999.000,9,-999.0000,9,  -999.00,9,   2288.0,2,   2403.0,2,     7.59,2,-999.0000,-999.000,  0.8846,-999.000
      325024_1,  P14N,   800,  1,      4,      4,2,19930818,0145,  0.0008, 179.9997, 5262,   4892.2,   1.2412,  34.7037,2,  34.7043,2,   -999.0,9,    192.1,2,   127.65,2,    32.53,2,     0.00,2,     2.26,2, -999.000,5, -999.000,5, -999.000,9,-999.0000,9,  -999.00,9,   2283.0,2,   2393.0,2,     7.58,2,-999.0000,-999.000,  0.8285,-999.000
      325024_1,  P14N,   800,  1,      3,      3,2,19930818,0145,  0.0008, 179.9997, 5262,   5201.2,   1.2703,  34.7043,2,  34.7041,2,   -999.0,9,    193.1,2,   127.29,2,    32.47,2,     0.00,2,     2.25,2, -999.000,5, -999.000,5, -999.000,9,-999.0000,9,  -999.00,9,   2282.0,2,   2390.0,2,     7.59,2,-999.0000,-999.000,  0.8192,-999.000
      325024_1,  P14N,   800,  1,      2,      2,2,19930818,0145,  0.0008, 179.9997, 5262,   5342.3,   1.2856,  34.7044,2,  34.7047,2,   -999.0,9,   -999.0,9,   127.14,2,    32.31,2,     0.00,2,     2.25,2,    0.000,2,   -0.001,2, -999.000,9,-999.0000,9,  -999.00,9,   2281.0,2,   2388.0,2,     7.60,2,-999.0000,-999.000,  0.8165,-999.000
      325024_1,  P14N,   800,  1,      1,      1,2,19930818,0145,  0.0008, 179.9997, 5262,   5342.4,   1.2857,  34.7046,2,  34.7037,2,   -999.0,9,    189.8,2,   126.99,2,    32.38,2,     0.00,2,     2.24,2, -999.000,5, -999.000,5, -999.000,9,-999.0000,9,  -999.00,9,   2281.0,2,   2387.0,2,     7.58,2,-999.0000,-999.000,  0.8166,-999.000