BOTTLE,20131125MIRCJHATS
EXPOCODE,SECT_ID,STNNBR,CASTNO,SAMPNO,BTLNBR,BTLNBR_FLAG_W,DATE,TIME,LATITUDE,LONGITUDE,DEPTH,CTDPRS,CTDTMP,CTDSAL,CTDSAL_FLAG_W,SALNTY,SALNTY_FLAG_W,CTDOXY,CTDOXY_FLAG_W,OXYGEN,OXYGEN_FLAG_W,SILCAT,SILCAT_FLAG_W,NITRAT,NITRAT_FLAG_W,NITRIT,NITRIT_FLAG_W,PHSPHT,PHSPHT_FLAG_W,CFC-11,CFC-11_FLAG_W,CFC-12,CFC-12_FLAG_W,TRITUM,TRITUM_FLAG_W,HELIUM,HELIUM_FLAG_W,DELHE3,DELHE3_FLAG_W,TCARBN,TCARBN_FLAG_W,ALKALI,ALKALI_FLAG_W,PH,PH_FLAG_W,HELIER,DELHER,THETA,TRITER
,,,,,,,,,,,,DBAR,ITS-90,PSS-78,,PSS-78,,UMOL/KG,,UMOL/KG,,UMOL/KG,,UMOL/KG,,UMOL/KG,,UMOL/KG,,PMOL/KG,,PMOL/KG,,TU,,NMOL/KG,,PERCNT,,UMOL/KG,,UMOL/KG,,25_DEG,,NMOL/KG,PERCNT,DEG C,TU
      325023_1,  P14N,    70,  1,     36,     36,2,19930725,0858, 27.4992, 179.0063, 5343,      2.7,  27.4484,  35.1705,2,  35.1661,2,   -999.0,9,    209.0,2,     3.97,2,     0.00,2,     0.00,2,     0.01,2, -999.000,5, -999.000,5, -999.000,9,-999.0000,9,  -999.00,9,   1987.4,2,   2308.6,2,     8.08,2,-999.0000,-999.000, 27.4478,-999.000
      325023_1,  P14N,    70,  1,     35,     35,2,19930725,0858, 27.4992, 179.0063, 5343,     37.6,  20.0855,  34.7945,2,  34.7851,2,   -999.0,9,    244.1,2,     3.91,2,     0.00,2,     0.00,2,     0.03,2, -999.000,5, -999.000,5, -999.000,9,-999.0000,9,  -999.00,9,   1987.4,2,   2284.5,2,  -999.00,9,-999.0000,-999.000, 20.0785,-999.000
      325023_1,  P14N,    70,  1,     34,     34,2,19930725,0858, 27.4992, 179.0063, 5343,     67.8,  18.1496,  34.8282,2,  34.8260,2,   -999.0,9,    245.7,2,     3.85,2,     0.00,2,     0.00,2,     0.05,2, -999.000,5, -999.000,5, -999.000,9,-999.0000,9,  -999.00,9,   1994.1,2,   2288.3,2,     8.04,2,-999.0000,-999.000, 18.1380,-999.000
      325023_1,  P14N,    70,  1,     33,     33,2,19930725,0858, 27.4992, 179.0063, 5343,     91.6,  17.4932,  34.8158,2,  34.8061,2,   -999.0,9,    240.2,2,     4.24,2,     0.21,2,     0.06,2,     0.11,2, -999.000,5, -999.000,5, -999.000,9,-999.0000,9,  -999.00,9,   2009.3,2,   2287.0,2,  -999.00,9,-999.0000,-999.000, 17.4779,-999.000
      325023_1,  P14N,    70,  1,     32,     32,2,19930725,0858, 27.4992, 179.0063, 5343,     98.0,  17.2844,  34.8009,2,  34.8059,2,   -999.0,9,    235.1,2,     4.18,2,     0.20,2,     0.06,2,     0.12,2, -999.000,5, -999.000,5, -999.000,9,-999.0000,9,  -999.00,9,   2008.9,2,   2285.3,2,     8.02,2,-999.0000,-999.000, 17.2681,-999.000
      325023_1,  P14N,    70,  1,     31,     31,2,19930725,0858, 27.4992, 179.0063, 5343,    128.2,  16.6256,  34.7559,2,  34.7582,2,   -999.0,9,    221.0,2,     4.56,2,     3.40,2,     0.03,2,     0.28,2, -999.000,5, -999.000,5, -999.000,9,-999.0000,9,  -999.00,9,   2022.0,2,   2284.0,2,  -999.00,9,-999.0000,-999.000, 16.6048,-999.000
      325023_1,  P14N,    70,  1,     30,     30,2,19930725,0858, 27.4992, 179.0063, 5343,    157.9,  16.2744,  34.7238,2,  34.7223,2,   -999.0,9,    221.4,2,     5.39,2,     4.27,2,     0.01,2,     0.33,2, -999.000,5, -999.000,5, -999.000,9,-999.0000,9,  -999.00,9,   2024.9,2,   2281.3,2,     7.98,2,-999.0000,-999.000, 16.2492,-999.000
      325023_1,  P14N,    70,  1,     29,     29,2,19930725,0858, 27.4992, 179.0063, 5343,    208.4,  15.4674,  34.6500,2,  34.6511,2,   -999.0,9,    211.1,2,     7.33,2,     6.36,2,     0.00,2,     0.47,2, -999.000,5, -999.000,5, -999.000,9,-999.0000,9,  -999.00,9,   2039.5,2,   2279.0,2,  -999.00,9,-999.0000,-999.000, 15.4353,-999.000
      325023_1,  P14N,    70,  1,     28,     28,2,19930725,0858, 27.4992, 179.0063, 5343,    258.8,  14.5305,  34.5665,2,  34.5645,2,   -999.0,9,    206.8,2,     9.48,2,     8.19,2,     0.00,2,     0.60,2, -999.000,5, -999.000,5, -999.000,9,-999.0000,9,  -999.00,9,   2051.4,2,   2274.5,2,     7.92,2,-999.0000,-999.000, 14.4923,-999.000
      325023_1,  P14N,    70,  1,     27,     27,2,19930725,0858, 27.4992, 179.0063, 5343,    308.7,  13.2771,  34.4675,2,  34.4681,2,   -999.0,9,    208.6,2,    12.52,2,    10.03,2,     0.00,2,     0.74,2, -999.000,5, -999.000,5, -999.000,9,-999.0000,9,  -999.00,9,   2071.1,2,   2273.3,2,  -999.00,9,-999.0000,-999.000, 13.2341,-999.000
      325023_1,  P14N,    70,  1,     26,     26,2,19930725,0858, 27.4992, 179.0063, 5343,    409.8,  11.1326,  34.3079,2,  34.3127,2,   -999.0,9,    204.2,2,    19.33,2,    14.04,2,     0.00,2,     1.01,2, -999.000,5, -999.000,5, -999.000,9,-999.0000,9,  -999.00,9,   2095.2,2,   2272.4,2,     7.82,2,-999.0000,-999.000, 11.0816,-999.000
      325023_1,  P14N,    70,  1,     25,     25,2,19930725,0858, 27.4992, 179.0063, 5343,    510.5,   8.5842,  34.1258,2,  34.1247,2,   -999.0,9,    182.4,2,    33.88,2,    20.92,2,     0.00,2,     1.50,2, -999.000,5, -999.000,5, -999.000,9,-999.0000,9,  -999.00,9,   2145.7,2,   2274.6,2,  -999.00,9,-999.0000,-999.000,  8.5300,-999.000
      325023_1,  P14N,    70,  1,     24,     24,2,19930725,0858, 27.4992, 179.0063, 5343,    611.4,   6.3591,  34.0391,2,  34.0380,2,   -999.0,9,    136.3,2,    57.08,2,    28.98,2,     0.00,2,     2.09,2, -999.000,5, -999.000,5, -999.000,9,-999.0000,9,  -999.00,9,   2211.9,2,   2289.5,2,     7.56,2,-999.0000,-999.000,  6.3040,-999.000
      325023_1,  P14N,    70,  1,     23,     23,2,19930725,0858, 27.4992, 179.0063, 5343,    711.8,   5.2063,  34.1041,2,  34.1040,2,   -999.0,9,     79.9,2,    81.01,2,    35.93,2,     0.00,2,     2.58,2, -999.000,5, -999.000,5, -999.000,9,-999.0000,9,  -999.00,9,   2276.3,2,   2311.1,2,     7.43,2,-999.0000,-999.000,  5.1479,-999.000
      325023_1,  P14N,    70,  1,     22,     22,2,19930725,0858, 27.4992, 179.0063, 5343,    812.9,   4.3613,  34.1870,2,  34.1834,2,   -999.0,9,     51.9,2,   101.49,2,    39.57,2,     0.00,2,     2.83,2, -999.000,5, -999.000,5, -999.000,9,-999.0000,9,  -999.00,9,   2316.3,2,   2332.7,2,     7.37,2,-999.0000,-999.000,  4.2991,-999.000
      325023_1,  P14N,    70,  1,     21,     21,2,19930725,0858, 27.4992, 179.0063, 5343,    914.1,   3.8562,  34.2626,2,  34.2623,2,   -999.0,9,     35.9,2,   116.69,2,    41.49,2,     0.00,2,     2.96,2, -999.000,5, -999.000,5, -999.000,9,-999.0000,9,  -999.00,9,   2341.6,2,   2350.5,2,     7.34,2,-999.0000,-999.000,  3.7890,-999.000
      325023_1,  P14N,    70,  1,     20,     20,2,19930725,0858, 27.4992, 179.0063, 5343,   1015.1,   3.4799,  34.3467,2,  34.3456,2,   -999.0,9,     28.5,2,   128.37,2,    42.55,2,     0.00,2,     3.02,2, -999.000,5, -999.000,5, -999.000,9,-999.0000,9,  -999.00,9,   2362.5,2,   2365.8,2,     7.33,2,-999.0000,-999.000,  3.4073,-999.000
      325023_1,  P14N,    70,  1,     19,     19,2,19930725,0858, 27.4992, 179.0063, 5343,   1217.2,   2.9785,  34.4536,2,  34.4539,2,   -999.0,9,     32.9,2,   143.10,2,    42.74,2,     0.00,2,     3.03,2, -999.000,5, -999.000,5, -999.000,9,-999.0000,9,  -999.00,9,   2377.0,2,   2387.5,2,  -999.00,9,-999.0000,-999.000,  2.8941,-999.000
      325023_1,  P14N,    70,  1,     18,     18,2,19930725,0858, 27.4992, 179.0063, 5343,   1420.3,   2.5861,  34.5195,2,  34.5192,2,   -999.0,9,     45.6,2,   151.74,2,    42.19,2,     0.00,2,     2.98,2, -999.000,5, -999.000,5, -999.000,9,-999.0000,9,  -999.00,9,   2378.8,2,   2400.3,2,  -999.00,9,-999.0000,-999.000,  2.4895,-999.000
      325023_1,  P14N,    70,  1,     17,     17,2,19930725,0858, 27.4992, 179.0063, 5343,   1623.5,   2.2602,  34.5650,2,  34.5649,2,   -999.0,9,     60.8,2,   157.66,2,    41.32,2,     0.00,2,     2.91,2, -999.000,5, -999.000,5, -999.000,9,-999.0000,9,  -999.00,9,   2378.6,2,   2407.5,2,  -999.00,9,-999.0000,-999.000,  2.1512,-999.000
      325023_1,  P14N,    70,  1,     16,     16,2,19930725,0858, 27.4992, 179.0063, 5343,   1826.3,   2.0451,  34.5934,2,  34.5943,2,   -999.0,9,     74.5,2,   160.36,2,    40.41,2,     0.00,2,     2.85,2, -999.000,5, -999.000,5, -999.000,9,-999.0000,9,  -999.00,9,   2374.7,2,   2414.2,2,     7.43,2,-999.0000,-999.000,  1.9225,-999.000
      325023_1,  P14N,    70,  1,     15,     15,2,19930725,0858, 27.4992, 179.0063, 5343,   2029.5,   1.8883,  34.6147,2,  34.6153,2,   -999.0,9,     87.7,2,   160.51,2,    39.59,2,     0.00,2,     2.78,2, -999.000,5, -999.000,5, -999.000,9,-999.0000,9,  -999.00,9,   2368.5,2,   2416.9,2,  -999.00,9,-999.0000,-999.000,  1.7512,-999.000
      325023_1,  P14N,    70,  1,     14,     14,2,19930725,0858, 27.4992, 179.0063, 5343,   2232.7,   1.7629,  34.6303,2,  34.6314,2,   -999.0,9,     98.7,2,   160.66,2,    38.87,2,     0.00,2,     2.73,2, -999.000,5, -999.000,5, -999.000,9,-999.0000,9,  -999.00,9,   2364.9,2,   2416.9,2,  -999.00,9,-999.0000,-999.000,  1.6106,-999.000
      325023_1,  P14N,    70,  1,     13,     13,2,19930725,0858, 27.4992, 179.0063, 5343,   2436.6,   1.6751,  34.6428,2,  34.6437,2,   -999.0,9,    108.3,2,   160.35,2,    38.28,2,     0.00,2,     2.68,2, -999.000,5, -999.000,5, -999.000,9,-999.0000,9,  -999.00,9,   2360.0,2,   2420.8,2,     7.50,2,-999.0000,-999.000,  1.5065,-999.000
      325023_1,  P14N,    70,  1,     12,     12,2,19930725,0858, 27.4992, 179.0063, 5343,   2640.0,   1.6028,  34.6523,2,  34.6537,2,   -999.0,9,    116.5,2,   159.81,2,    37.69,2,     0.00,2,     2.64,2, -999.000,5, -999.000,5, -999.000,9,-999.0000,9,  -999.00,9,   2353.5,2,   2422.2,2,  -999.00,9,-999.0000,-999.000,  1.4174,-999.000
      325023_1,  P14N,    70,  1,     11,     11,2,19930725,0858, 27.4992, 179.0063, 5343,   2843.8,   1.5493,  34.6600,2,  34.6612,2,   -999.0,9,    123.8,2,   159.03,2,    37.20,2,     0.00,2,     2.61,2, -999.000,5, -999.000,5, -999.000,9,-999.0000,9,  -999.00,9,   2346.3,2,   2420.9,2,  -999.00,9,-999.0000,-999.000,  1.3462,-999.000
      325023_1,  P14N,    70,  1,     10,     10,2,19930725,0858, 27.4992, 179.0063, 5343,   3048.6,   1.5095,  34.6666,2,  34.6676,2,   -999.0,9,    130.5,2,   157.80,2,    36.79,2,     0.00,2,     2.57,2, -999.000,5, -999.000,5, -999.000,9,-999.0000,9,  -999.00,9,   2345.4,2,   -999.0,9,     7.54,2,-999.0000,-999.000,  1.2879,-999.000
      325023_1,  P14N,    70,  1,      9,      9,2,19930725,0858, 27.4992, 179.0063, 5343,   3354.6,   1.4710,  34.6734,2,  34.6745,2,   -999.0,9,    138.2,2,   156.56,2,    36.30,2,     0.00,2,     2.53,2, -999.000,5, -999.000,5, -999.000,9,-999.0000,9,  -999.00,9,   2335.7,2,   2426.1,2,  -999.00,9,-999.0000,-999.000,  1.2203,-999.000
      325023_1,  P14N,    70,  1,      8,      8,2,19930725,0858, 27.4992, 179.0063, 5343,   3661.6,   1.4554,  34.6786,2,  34.6794,2,   -999.0,9,    143.8,2,   155.33,2,    35.94,2,     0.00,2,     2.46,3, -999.000,5, -999.000,5, -999.000,9,-999.0000,9,  -999.00,9,   2337.3,2,   2421.8,2,  -999.00,9,-999.0000,-999.000,  1.1738,-999.000
      325023_1,  P14N,    70,  1,      7,      7,2,19930725,0858, 27.4992, 179.0063, 5343,   3969.4,   1.4483,  34.6823,2,  34.6839,2,   -999.0,9,    149.3,2,   154.33,2,    35.63,2,     0.00,2,     2.48,2, -999.000,5, -999.000,5, -999.000,9,-999.0000,9,  -999.00,9,   2333.4,2,   2420.2,2,  -999.00,9,-999.0000,-999.000,  1.1342,-999.000
      325023_1,  P14N,    70,  1,      6,      6,2,19930725,0858, 27.4992, 179.0063, 5343,   4277.1,   1.4506,  34.6859,2,  34.6878,2,   -999.0,9,    153.4,2,   152.18,2,    35.36,2,     0.00,2,     2.45,2, -999.000,5, -999.000,5, -999.000,9,-999.0000,9,  -999.00,9,   2327.4,2,   2403.9,2,     7.58,2,-999.0000,-999.000,  1.1025,-999.000
      325023_1,  P14N,    70,  1,      5,      5,2,19930725,0858, 27.4992, 179.0063, 5343,   4585.9,   1.4531,  34.6888,2,  34.6902,2,   -999.0,9,    158.9,2,   148.88,2,    34.96,2,     0.00,2,     2.42,2, -999.000,5, -999.000,5, -999.000,9,-999.0000,9,  -999.00,9,   2323.2,2,   2415.5,2,  -999.00,9,-999.0000,-999.000,  1.0697,-999.000
      325023_1,  P14N,    70,  1,      4,      4,2,19930725,0858, 27.4992, 179.0063, 5343,   4895.0,   1.4572,  34.6914,2,  34.6929,2,   -999.0,9,    164.7,2,   145.14,2,    34.64,2,     0.00,2,     2.39,2, -999.000,5, -999.000,5, -999.000,9,-999.0000,9,  -999.00,9,   2316.5,2,   2412.4,2,  -999.00,9,-999.0000,-999.000,  1.0371,-999.000
      325023_1,  P14N,    70,  1,      3,      3,2,19930725,0858, 27.4992, 179.0063, 5343,   5204.1,   1.4604,  34.6942,2,  34.6955,2,   -999.0,9,    170.9,2,   140.04,2,    34.15,2,     0.00,2,     2.35,2, -999.000,5, -999.000,5, -999.000,9,-999.0000,9,  -999.00,9,   2308.4,2,   2407.8,2,  -999.00,9,-999.0000,-999.000,  1.0025,-999.000
      325023_1,  P14N,    70,  1,      1,      1,2,19930725,0858, 27.4992, 179.0063, 5343,   5429.6,   1.4709,  34.6956,2,  34.6972,2,   -999.0,9,    174.5,2,   136.70,2,    33.84,2,     0.00,2,     2.35,2, -999.000,5, -999.000,5, -999.000,9,-999.0000,9,  -999.00,9,   2304.4,2,   2403.3,2,  -999.00,9,-999.0000,-999.000,  0.9843,-999.000
      325023_1,  P14N,    70,  1,      2,      2,2,19930725,0858, 27.4992, 179.0063, 5343,   5429.7,   1.4708,  34.6955,2,  34.6976,2,   -999.0,9,    174.4,2,   137.00,2,    33.84,2,     0.00,2,     2.34,2, -999.000,5, -999.000,5, -999.000,9,-999.0000,9,  -999.00,9,   2305.6,2,   2402.8,2,     7.60,2,-999.0000,-999.000,  0.9842,-999.000