BOTTLE,20131125MIRCJHATS
EXPOCODE,SECT_ID,STNNBR,CASTNO,SAMPNO,BTLNBR,BTLNBR_FLAG_W,DATE,TIME,LATITUDE,LONGITUDE,DEPTH,CTDPRS,CTDTMP,CTDSAL,CTDSAL_FLAG_W,SALNTY,SALNTY_FLAG_W,CTDOXY,CTDOXY_FLAG_W,OXYGEN,OXYGEN_FLAG_W,SILCAT,SILCAT_FLAG_W,NITRAT,NITRAT_FLAG_W,NITRIT,NITRIT_FLAG_W,PHSPHT,PHSPHT_FLAG_W,CFC-11,CFC-11_FLAG_W,CFC-12,CFC-12_FLAG_W,TRITUM,TRITUM_FLAG_W,HELIUM,HELIUM_FLAG_W,DELHE3,DELHE3_FLAG_W,TCARBN,TCARBN_FLAG_W,ALKALI,ALKALI_FLAG_W,PH,PH_FLAG_W,HELIER,DELHER,THETA,TRITER
,,,,,,,,,,,,DBAR,ITS-90,PSS-78,,PSS-78,,UMOL/KG,,UMOL/KG,,UMOL/KG,,UMOL/KG,,UMOL/KG,,UMOL/KG,,PMOL/KG,,PMOL/KG,,TU,,NMOL/KG,,PERCNT,,UMOL/KG,,UMOL/KG,,25_DEG,,NMOL/KG,PERCNT,DEG C,TU
      325023_1,  P14N,    84,  1,     34,     34,2,19930729,0312, 20.5048, 179.0012, 3435,      2.2,  27.8888,  35.1911,2,  35.1932,2,   -999.0,9,    200.9,2,     2.61,2,     0.03,2,     0.00,2,     0.05,2, -999.000,5, -999.000,5, -999.000,9,-999.0000,9,  -999.00,9,   -999.0,9,   -999.0,9,  -999.00,9,-999.0000,-999.000, 27.8882,-999.000
      325023_1,  P14N,    84,  1,     33,     33,2,19930729,0312, 20.5048, 179.0012, 3435,      2.3,  27.8928,  35.1909,2,  35.1930,2,   -999.0,9,    201.0,2,     2.36,2,     0.02,2,     0.00,2,     0.05,2, -999.000,5, -999.000,5, -999.000,9,-999.0000,9,  -999.00,9,   -999.0,9,   -999.0,9,  -999.00,9,-999.0000,-999.000, 27.8922,-999.000
      325023_1,  P14N,    84,  1,     32,     32,2,19930729,0312, 20.5048, 179.0012, 3435,     36.1,  27.8557,  35.2198,2,  35.2233,2,   -999.0,9,    201.7,2,     2.11,2,     0.02,2,     0.00,2,     0.05,2, -999.000,5, -999.000,5, -999.000,9,-999.0000,9,  -999.00,9,   -999.0,9,   -999.0,9,  -999.00,9,-999.0000,-999.000, 27.8473,-999.000
      325023_1,  P14N,    84,  1,     31,     31,2,19930729,0312, 20.5048, 179.0012, 3435,     66.3,  25.1768,  35.2840,2,  35.2788,2,   -999.0,9,    223.5,2,     2.09,2,     0.02,2,     0.00,2,     0.02,2, -999.000,5, -999.000,5, -999.000,9,-999.0000,9,  -999.00,9,   -999.0,9,   -999.0,9,  -999.00,9,-999.0000,-999.000, 25.1623,-999.000
      325023_1,  P14N,    84,  1,     30,     30,2,19930729,0312, 20.5048, 179.0012, 3435,     96.5,  23.2403,  35.2865,2,  35.2879,2,   -999.0,9,    220.4,2,     2.06,2,     0.02,2,     0.00,2,     0.04,2, -999.000,5, -999.000,5, -999.000,9,-999.0000,9,  -999.00,9,   -999.0,9,   -999.0,9,  -999.00,9,-999.0000,-999.000, 23.2204,-999.000
      325023_1,  P14N,    84,  1,     29,     29,2,19930729,0312, 20.5048, 179.0012, 3435,    126.8,  22.2511,  35.2783,2,  35.2770,2,   -999.0,9,    220.4,2,     2.03,2,     0.02,2,     0.00,2,     0.04,2, -999.000,5, -999.000,5, -999.000,9,-999.0000,9,  -999.00,9,   -999.0,9,   -999.0,9,  -999.00,9,-999.0000,-999.000, 22.2258,-999.000
      325023_1,  P14N,    84,  1,     28,     28,2,19930729,0312, 20.5048, 179.0012, 3435,    157.1,  20.6559,  35.1951,2,  35.2048,2,   -999.0,9,    215.8,2,     2.22,2,     0.01,2,     0.01,2,     0.06,2, -999.000,5, -999.000,5, -999.000,9,-999.0000,9,  -999.00,9,   -999.0,9,   -999.0,9,  -999.00,9,-999.0000,-999.000, 20.6262,-999.000
      325023_1,  P14N,    84,  1,     27,     27,2,19930729,0312, 20.5048, 179.0012, 3435,    207.5,  17.3658,  34.8528,2,  34.8543,2,   -999.0,9,    201.0,2,     4.14,2,     3.78,2,     0.01,2,     0.34,2, -999.000,5, -999.000,5, -999.000,9,-999.0000,9,  -999.00,9,   -999.0,9,   -999.0,9,  -999.00,9,-999.0000,-999.000, 17.3311,-999.000
      325023_1,  P14N,    84,  1,     26,     26,2,19930729,0312, 20.5048, 179.0012, 3435,    257.7,  15.5270,  34.6598,2,  34.6584,2,   -999.0,9,    208.2,2,     6.49,2,     6.06,2,     0.01,2,     0.48,2, -999.000,5, -999.000,5, -999.000,9,-999.0000,9,  -999.00,9,   -999.0,9,   -999.0,9,  -999.00,9,-999.0000,-999.000, 15.4871,-999.000
      325023_1,  P14N,    84,  1,     25,     25,2,19930729,0312, 20.5048, 179.0012, 3435,    307.9,  13.4164,  34.4601,2,  34.4526,2,   -999.0,9,    201.2,2,    10.80,2,     9.78,2,     0.01,2,     0.74,2, -999.000,5, -999.000,5, -999.000,9,-999.0000,9,  -999.00,9,   -999.0,9,   -999.0,9,  -999.00,9,-999.0000,-999.000, 13.3732,-999.000
      325023_1,  P14N,    84,  1,     24,     24,2,19930729,0312, 20.5048, 179.0012, 3435,    357.8,  11.8568,  34.3195,2,  34.3182,2,   -999.0,9,   -999.0,9,    15.31,2,    12.99,2,     0.01,2,     0.97,2, -999.000,5, -999.000,5, -999.000,9,-999.0000,9,  -999.00,9,   -999.0,9,   -999.0,9,  -999.00,9,-999.0000,-999.000, 11.8105,-999.000
      325023_1,  P14N,    84,  1,     23,     23,2,19930729,0312, 20.5048, 179.0012, 3435,    408.6,  10.3642,  34.2142,2,  34.2144,2,   -999.0,9,    187.9,2,    21.99,2,    16.70,2,     0.00,2,     1.22,2, -999.000,5, -999.000,5, -999.000,9,-999.0000,9,  -999.00,9,   -999.0,9,   -999.0,9,  -999.00,9,-999.0000,-999.000, 10.3157,-999.000
      325023_1,  P14N,    84,  1,     22,     22,2,19930729,0312, 20.5048, 179.0012, 3435,    458.3,   8.8328,  34.1328,2,  34.1316,2,   -999.0,9,    167.5,2,    32.55,2,    21.63,2,     0.00,2,     1.56,2, -999.000,5, -999.000,5, -999.000,9,-999.0000,9,  -999.00,9,   -999.0,9,   -999.0,9,  -999.00,9,-999.0000,-999.000,  8.7834,-999.000
      325023_1,  P14N,    84,  1,     21,     21,2,19930729,0312, 20.5048, 179.0012, 3435,    508.6,   7.5494,  34.0961,2,  34.0942,2,   -999.0,9,    137.5,2,    46.35,2,    26.74,2,     0.00,2,     1.93,2, -999.000,5, -999.000,5, -999.000,9,-999.0000,9,  -999.00,9,   -999.0,9,   -999.0,9,  -999.00,9,-999.0000,-999.000,  7.4993,-999.000
      325023_1,  P14N,    84,  1,     20,     20,2,19930729,0312, 20.5048, 179.0012, 3435,    609.7,   5.8803,  34.1393,2,  34.1404,2,   -999.0,9,     74.5,2,    72.73,2,    35.45,2,     0.00,2,     2.54,2, -999.000,5, -999.000,5, -999.000,9,-999.0000,9,  -999.00,9,   -999.0,9,   -999.0,9,  -999.00,9,-999.0000,-999.000,  5.8274,-999.000
      325023_1,  P14N,    84,  1,     19,     19,2,19930729,0312, 20.5048, 179.0012, 3435,    709.5,   5.1377,  34.2778,2,  34.2777,2,   -999.0,9,     46.2,2,    89.17,2,    39.46,2,     0.00,2,     2.83,2, -999.000,5, -999.000,5, -999.000,9,-999.0000,9,  -999.00,9,   -999.0,9,   -999.0,9,  -999.00,9,-999.0000,-999.000,  5.0796,-999.000
      325023_1,  P14N,    84,  1,     18,     18,2,19930729,0312, 20.5048, 179.0012, 3435,    809.8,   4.6460,  34.3420,2,  34.3421,2,   -999.0,9,     42.7,2,    99.56,2,    40.75,2,     0.00,2,     2.89,2, -999.000,5, -999.000,5, -999.000,9,-999.0000,9,  -999.00,9,   -999.0,9,   -999.0,9,  -999.00,9,-999.0000,-999.000,  4.5820,-999.000
      325023_1,  P14N,    84,  1,     17,     17,2,19930729,0312, 20.5048, 179.0012, 3435,    909.0,   4.4251,  34.4515,2,  34.4511,2,   -999.0,9,     51.3,2,   103.62,2,    40.52,2,     0.00,2,     2.88,2, -999.000,5, -999.000,5, -999.000,9,-999.0000,9,  -999.00,9,   -999.0,9,   -999.0,9,  -999.00,9,-999.0000,-999.000,  4.3541,-999.000
      325023_1,  P14N,    84,  1,     16,     16,2,19930729,0312, 20.5048, 179.0012, 3435,   1010.0,   4.0933,  34.4960,2,  34.4954,2,   -999.0,9,     57.7,2,   109.87,2,    40.60,2,     0.00,2,     2.87,2, -999.000,5, -999.000,5, -999.000,9,-999.0000,9,  -999.00,9,   -999.0,9,   -999.0,9,  -999.00,9,-999.0000,-999.000,  4.0161,-999.000
      325023_1,  P14N,    84,  1,     15,     15,2,19930729,0312, 20.5048, 179.0012, 3435,   1110.4,   3.7835,  34.5164,2,  34.5150,2,   -999.0,9,     61.8,2,   116.14,2,    40.52,2,     0.00,2,     2.87,2, -999.000,5, -999.000,5, -999.000,9,-999.0000,9,  -999.00,9,   -999.0,9,   -999.0,9,  -999.00,9,-999.0000,-999.000,  3.7004,-999.000
      325023_1,  P14N,    84,  1,     14,     14,2,19930729,0312, 20.5048, 179.0012, 3435,   1211.0,   3.4477,  34.5398,2,  34.5379,2,   -999.0,9,     67.0,2,   123.08,2,    40.50,2,     0.00,2,     2.86,2, -999.000,5, -999.000,5, -999.000,9,-999.0000,9,  -999.00,9,   -999.0,9,   -999.0,9,  -999.00,9,-999.0000,-999.000,  3.3593,-999.000
      325023_1,  P14N,    84,  1,     13,     13,2,19930729,0312, 20.5048, 179.0012, 3435,   1312.5,   3.1719,  34.5529,2,  34.5515,2,   -999.0,9,     71.2,2,   129.16,2,    40.37,2,     0.00,2,     2.84,2, -999.000,5, -999.000,5, -999.000,9,-999.0000,9,  -999.00,9,   -999.0,9,   -999.0,9,  -999.00,9,-999.0000,-999.000,  3.0778,-999.000
      325023_1,  P14N,    84,  1,     12,     12,2,19930729,0312, 20.5048, 179.0012, 3435,   1413.3,   2.9121,  34.5661,2,  34.5658,2,   -999.0,9,     75.8,2,   134.37,2,    40.15,2,     0.00,2,     2.81,2, -999.000,5, -999.000,5, -999.000,9,-999.0000,9,  -999.00,9,   -999.0,9,   -999.0,9,  -999.00,9,-999.0000,-999.000,  2.8124,-999.000
      325023_1,  P14N,    84,  1,     11,     11,2,19930729,0312, 20.5048, 179.0012, 3435,   1517.0,   2.6643,  34.5793,2,  34.5799,2,   -999.0,9,     80.8,2,   139.37,2,    39.88,2,     0.00,2,     2.79,2, -999.000,5, -999.000,5, -999.000,9,-999.0000,9,  -999.00,9,   -999.0,9,   -999.0,9,  -999.00,9,-999.0000,-999.000,  2.5589,-999.000
      325023_1,  P14N,    84,  1,     10,     10,2,19930729,0312, 20.5048, 179.0012, 3435,   1619.7,   2.5284,  34.5883,2,  34.5883,2,   -999.0,9,     84.4,2,   142.82,2,    39.81,2,     0.00,2,     2.79,2, -999.000,5, -999.000,5, -999.000,9,-999.0000,9,  -999.00,9,   -999.0,9,   -999.0,9,  -999.00,9,-999.0000,-999.000,  2.4162,-999.000
      325023_1,  P14N,    84,  1,      9,      9,2,19930729,0312, 20.5048, 179.0012, 3435,   1817.6,   2.2186,  34.6095,2,  34.6103,2,   -999.0,9,     93.8,2,   148.73,2,    39.25,2,     0.00,2,     2.74,2, -999.000,5, -999.000,5, -999.000,9,-999.0000,9,  -999.00,9,   -999.0,9,   -999.0,9,  -999.00,9,-999.0000,-999.000,  2.0942,-999.000
      325023_1,  P14N,    84,  1,      8,      8,2,19930729,0312, 20.5048, 179.0012, 3435,   2018.9,   1.9897,  34.6266,2,  34.6262,2,   -999.0,9,    102.2,2,   153.32,2,    38.89,2,     0.00,2,     2.70,2, -999.000,5, -999.000,5, -999.000,9,-999.0000,9,  -999.00,9,   -999.0,9,   -999.0,9,  -999.00,9,-999.0000,-999.000,  1.8519,-999.000
      325023_1,  P14N,    84,  1,      7,      7,2,19930729,0312, 20.5048, 179.0012, 3435,   2226.9,   1.8318,  34.6382,2,  34.6393,2,   -999.0,9,    110.8,2,   155.22,2,    38.29,2,     0.00,2,     2.65,2, -999.000,5, -999.000,5, -999.000,9,-999.0000,9,  -999.00,9,   -999.0,9,   -999.0,9,  -999.00,9,-999.0000,-999.000,  1.6788,-999.000
      325023_1,  P14N,    84,  1,      6,      6,2,19930729,0312, 20.5048, 179.0012, 3435,   2433.8,   1.7339,  34.6478,2,  34.6482,2,   -999.0,9,    117.0,2,   155.77,2,    37.88,2,     0.00,2,     2.62,2, -999.000,5, -999.000,5, -999.000,9,-999.0000,9,  -999.00,9,   -999.0,9,   -999.0,9,  -999.00,9,-999.0000,-999.000,  1.5645,-999.000
      325023_1,  P14N,    84,  1,      5,      5,2,19930729,0312, 20.5048, 179.0012, 3435,   2637.3,   1.6550,  34.6550,2,  34.6550,2,   -999.0,9,    123.3,2,   155.64,2,    37.48,2,     0.00,2,     2.59,2, -999.000,5, -999.000,5, -999.000,9,-999.0000,9,  -999.00,9,   -999.0,9,   -999.0,9,  -999.00,9,-999.0000,-999.000,  1.4688,-999.000
      325023_1,  P14N,    84,  1,      4,      4,2,19930729,0312, 20.5048, 179.0012, 3435,   2839.8,   1.6110,  34.6599,2,  34.6603,2,   -999.0,9,    127.8,2,   155.51,2,    37.17,2,     0.00,2,     2.56,2, -999.000,5, -999.000,5, -999.000,9,-999.0000,9,  -999.00,9,   -999.0,9,   -999.0,9,  -999.00,9,-999.0000,-999.000,  1.4070,-999.000
      325023_1,  P14N,    84,  1,      3,      3,2,19930729,0312, 20.5048, 179.0012, 3435,   3249.5,   1.5221,  34.6717,2,  34.6725,2,   -999.0,9,    139.9,2,   152.69,2,    36.38,2,     0.00,2,     2.50,2, -999.000,5, -999.000,5, -999.000,9,-999.0000,9,  -999.00,9,   -999.0,9,   -999.0,9,  -999.00,9,-999.0000,-999.000,  1.2806,-999.000
      325023_1,  P14N,    84,  1,      2,      2,2,19930729,0312, 20.5048, 179.0012, 3435,   3426.0,   1.5001,  34.6751,2,  34.6760,2,   -999.0,9,    144.0,2,   151.45,2,    36.12,2,     0.00,2,     2.49,2, -999.000,5, -999.000,5, -999.000,9,-999.0000,9,  -999.00,9,   -999.0,9,   -999.0,9,  -999.00,9,-999.0000,-999.000,  1.2415,-999.000
      325023_1,  P14N,    84,  1,      1,      1,2,19930729,0312, 20.5048, 179.0012, 3435,   3426.2,   1.5001,  34.6750,2,  34.6748,2,   -999.0,9,    143.8,2,   151.55,2,    36.10,2,     0.00,2,     2.48,2, -999.000,5, -999.000,5, -999.000,9,-999.0000,9,  -999.00,9,   -999.0,9,   -999.0,9,  -999.00,9,-999.0000,-999.000,  1.2415,-999.000