BOTTLE,20131125MIRCJHATS
EXPOCODE,SECT_ID,STNNBR,CASTNO,SAMPNO,BTLNBR,BTLNBR_FLAG_W,DATE,TIME,LATITUDE,LONGITUDE,DEPTH,CTDPRS,CTDTMP,CTDSAL,CTDSAL_FLAG_W,SALNTY,SALNTY_FLAG_W,CTDOXY,CTDOXY_FLAG_W,OXYGEN,OXYGEN_FLAG_W,SILCAT,SILCAT_FLAG_W,NITRAT,NITRAT_FLAG_W,NITRIT,NITRIT_FLAG_W,PHSPHT,PHSPHT_FLAG_W,CFC-11,CFC-11_FLAG_W,CFC-12,CFC-12_FLAG_W,TRITUM,TRITUM_FLAG_W,HELIUM,HELIUM_FLAG_W,DELHE3,DELHE3_FLAG_W,TCARBN,TCARBN_FLAG_W,ALKALI,ALKALI_FLAG_W,PH,PH_FLAG_W,HELIER,DELHER,THETA,TRITER
,,,,,,,,,,,,DBAR,ITS-90,PSS-78,,PSS-78,,UMOL/KG,,UMOL/KG,,UMOL/KG,,UMOL/KG,,UMOL/KG,,UMOL/KG,,PMOL/KG,,PMOL/KG,,TU,,NMOL/KG,,PERCNT,,UMOL/KG,,UMOL/KG,,25_DEG,,NMOL/KG,PERCNT,DEG C,TU
      325023_1,  P14N,   128,  1,     36,     36,2,19930808,1645,  3.7418, 179.0012, 5639,      3.8,  29.7727,  33.9318,2,  33.9370,2,   -999.0,9,    195.2,2,     3.07,2,     0.07,2,     0.00,3,     0.11,2, -999.000,5, -999.000,5, -999.000,9,-999.0000,9,  -999.00,9,   -999.0,9,   -999.0,9,  -999.00,9,-999.0000,-999.000, 29.7718,-999.000
      325023_1,  P14N,   128,  1,     35,     35,2,19930808,1645,  3.7418, 179.0012, 5639,     33.5,  29.4568,  33.9579,2,  33.9518,2,   -999.0,9,    196.9,2,     2.88,2,     0.07,2,     0.00,3,     0.13,2, -999.000,5, -999.000,5, -999.000,9,-999.0000,9,  -999.00,9,   -999.0,9,   -999.0,9,  -999.00,9,-999.0000,-999.000, 29.4486,-999.000
      325023_1,  P14N,   128,  1,     34,     34,2,19930808,1645,  3.7418, 179.0012, 5639,     61.4,  28.6763,  34.6318,2,  34.5787,2,   -999.0,9,    194.6,2,     3.07,2,     0.00,2,     0.00,3,     0.19,2, -999.000,5, -999.000,5, -999.000,9,-999.0000,9,  -999.00,9,   -999.0,9,   -999.0,9,  -999.00,9,-999.0000,-999.000, 28.6616,-999.000
      325023_1,  P14N,   128,  1,     33,     33,2,19930808,1645,  3.7418, 179.0012, 5639,    101.8,  24.0178,  34.7730,2,  34.7665,2,   -999.0,9,    159.5,2,     5.75,2,     3.83,2,     0.40,3,     0.44,2, -999.000,5, -999.000,5, -999.000,9,-999.0000,9,  -999.00,9,   -999.0,9,   -999.0,9,  -999.00,9,-999.0000,-999.000, 23.9964,-999.000
      325023_1,  P14N,   128,  1,     32,     32,2,19930808,1645,  3.7418, 179.0012, 5639,    120.9,  20.7330,  34.7679,2,  34.7694,2,   -999.0,9,    151.0,2,     8.05,2,     6.78,2,     0.04,3,     0.61,2, -999.000,5, -999.000,5, -999.000,9,-999.0000,9,  -999.00,9,   -999.0,9,   -999.0,9,  -999.00,9,-999.0000,-999.000, 20.7101,-999.000
      325023_1,  P14N,   128,  1,     31,     31,2,19930808,1645,  3.7418, 179.0012, 5639,    151.7,  17.2804,  34.7194,2,  34.7206,2,   -999.0,9,    146.7,2,    13.42,2,    11.18,2,     0.03,3,     0.88,2, -999.000,5, -999.000,5, -999.000,9,-999.0000,9,  -999.00,9,   -999.0,9,   -999.0,9,  -999.00,9,-999.0000,-999.000, 17.2552,-999.000
      325023_1,  P14N,   128,  1,     30,     30,2,19930808,1645,  3.7418, 179.0012, 5639,    202.7,  12.0945,  34.5337,2,  34.5277,2,   -999.0,9,    117.6,2,    27.42,2,    21.41,2,     0.02,3,     1.59,2, -999.000,5, -999.000,5, -999.000,9,-999.0000,9,  -999.00,9,   -999.0,9,   -999.0,9,  -999.00,9,-999.0000,-999.000, 12.0680,-999.000
      325023_1,  P14N,   128,  1,     29,     29,2,19930808,1645,  3.7418, 179.0012, 5639,    252.6,  10.2803,  34.6238,2,  34.6234,2,   -999.0,9,     58.0,2,    34.71,2,    30.58,2,     0.02,3,     2.23,2, -999.000,5, -999.000,5, -999.000,9,-999.0000,9,  -999.00,9,   -999.0,9,   -999.0,9,  -999.00,9,-999.0000,-999.000, 10.2505,-999.000
      325023_1,  P14N,   128,  1,     28,     28,2,19930808,1645,  3.7418, 179.0012, 5639,    304.9,   9.4333,  34.6049,2,  34.6042,2,   -999.0,9,     91.4,2,    36.63,2,    29.11,2,     0.02,3,     2.11,2, -999.000,5, -999.000,5, -999.000,9,-999.0000,9,  -999.00,9,   -999.0,9,   -999.0,9,  -999.00,9,-999.0000,-999.000,  9.3992,-999.000
      325023_1,  P14N,   128,  1,     27,     27,2,19930808,1645,  3.7418, 179.0012, 5639,    405.4,   8.4493,  34.6170,2,  34.6162,2,   -999.0,9,     65.1,2,    40.66,2,    33.96,2,     0.02,3,     2.43,2, -999.000,5, -999.000,5, -999.000,9,-999.0000,9,  -999.00,9,   -999.0,9,   -999.0,9,  -999.00,9,-999.0000,-999.000,  8.4066,-999.000
      325023_1,  P14N,   128,  1,     26,     26,2,19930808,1645,  3.7418, 179.0012, 5639,    505.3,   7.6189,  34.5883,2,  34.5877,2,   -999.0,9,     57.1,2,    47.38,2,    36.55,2,     0.02,3,     2.62,2, -999.000,5, -999.000,5, -999.000,9,-999.0000,9,  -999.00,9,   -999.0,9,   -999.0,9,  -999.00,9,-999.0000,-999.000,  7.5685,-999.000
      325023_1,  P14N,   128,  1,     25,     25,2,19930808,1645,  3.7418, 179.0012, 5639,    606.4,   6.7844,  34.5618,2,  34.5622,2,   -999.0,9,     66.7,2,    54.31,2,    37.45,2,     0.02,3,     2.68,2, -999.000,5, -999.000,5, -999.000,9,-999.0000,9,  -999.00,9,   -999.0,9,   -999.0,9,  -999.00,9,-999.0000,-999.000,  6.7273,-999.000
      325023_1,  P14N,   128,  1,     24,     24,2,19930808,1645,  3.7418, 179.0012, 5639,    708.1,   6.0929,  34.5501,2,  34.5499,2,   -999.0,9,     58.6,2,    64.32,2,    39.64,2,     0.02,3,     2.83,2, -999.000,5, -999.000,5, -999.000,9,-999.0000,9,  -999.00,9,   -999.0,9,   -999.0,9,  -999.00,9,-999.0000,-999.000,  6.0295,-999.000
      325023_1,  P14N,   128,  1,     23,     23,2,19930808,1645,  3.7418, 179.0012, 5639,    809.5,   5.4738,  34.5432,2,  34.5428,2,   -999.0,9,     75.1,2,    72.44,2,    38.73,2,     0.02,3,     2.77,2, -999.000,5, -999.000,5, -999.000,9,-999.0000,9,  -999.00,9,   -999.0,9,   -999.0,9,  -999.00,9,-999.0000,-999.000,  5.4045,-999.000
      325023_1,  P14N,   128,  1,     22,     22,2,19930808,1645,  3.7418, 179.0012, 5639,    910.8,   5.0930,  34.5449,2,  34.5470,2,   -999.0,9,     83.0,2,    76.31,2,    38.29,2,     0.01,3,     2.75,2, -999.000,5, -999.000,5, -999.000,9,-999.0000,9,  -999.00,9,   -999.0,9,   -999.0,9,  -999.00,9,-999.0000,-999.000,  5.0170,-999.000
      325023_1,  P14N,   128,  1,     21,     21,2,19930808,1645,  3.7418, 179.0012, 5639,   1011.0,   4.6954,  34.5517,2,  34.5501,2,   -999.0,9,     81.5,2,    86.78,2,    38.88,2,     0.01,3,     2.81,2, -999.000,5, -999.000,5, -999.000,9,-999.0000,9,  -999.00,9,   -999.0,9,   -999.0,9,  -999.00,9,-999.0000,-999.000,  4.6134,-999.000
      325023_1,  P14N,   128,  1,     20,     20,2,19930808,1645,  3.7418, 179.0012, 5639,   1208.0,   3.6941,  34.5779,2,  34.5764,2,   -999.0,9,     85.9,2,   108.30,2,    39.48,2,     0.01,3,     2.85,2, -999.000,5, -999.000,5, -999.000,9,-999.0000,9,  -999.00,9,   -999.0,9,   -999.0,9,  -999.00,9,-999.0000,-999.000,  3.6035,-999.000
      325023_1,  P14N,   128,  1,     19,     19,2,19930808,1645,  3.7418, 179.0012, 5639,   1411.0,   3.0425,  34.5994,2,  34.5991,2,   -999.0,9,     98.1,2,   121.57,2,    38.85,2,     0.01,3,     2.79,2, -999.000,5, -999.000,5, -999.000,9,-999.0000,9,  -999.00,9,   -999.0,9,   -999.0,9,  -999.00,9,-999.0000,-999.000,  2.9415,-999.000
      325023_1,  P14N,   128,  1,     18,     18,2,19930808,1645,  3.7418, 179.0012, 5639,   1615.0,   2.7008,  34.6146,2,  34.6136,2,   -999.0,9,    100.3,2,   130.16,2,    38.94,2,     0.01,3,     2.79,2, -999.000,5, -999.000,5, -999.000,9,-999.0000,9,  -999.00,9,   -999.0,9,   -999.0,9,  -999.00,9,-999.0000,-999.000,  2.5869,-999.000
      325023_1,  P14N,   128,  1,     17,     17,2,19930808,1645,  3.7418, 179.0012, 5639,   1817.1,   2.4398,  34.6270,2,  34.6260,2,   -999.0,9,    106.8,2,   135.60,2,    38.59,2,     0.01,3,     2.76,2, -999.000,5, -999.000,5, -999.000,9,-999.0000,9,  -999.00,9,   -999.0,9,   -999.0,9,  -999.00,9,-999.0000,-999.000,  2.3124,-999.000
      325023_1,  P14N,   128,  1,     16,     16,2,19930808,1645,  3.7418, 179.0012, 5639,   2021.3,   2.2412,  34.6383,2,  34.6378,2,   -999.0,9,    106.4,2,   142.69,2,    38.82,2,     0.01,3,     2.76,2, -999.000,5, -999.000,5, -999.000,9,-999.0000,9,  -999.00,9,   -999.0,9,   -999.0,9,  -999.00,9,-999.0000,-999.000,  2.0992,-999.000
      325023_1,  P14N,   128,  1,     15,     15,2,19930808,1645,  3.7418, 179.0012, 5639,   2224.2,   2.0222,  34.6509,2,  34.6503,2,   -999.0,9,    110.8,2,   149.43,2,    38.55,2,     0.01,3,     2.74,2, -999.000,5, -999.000,5, -999.000,9,-999.0000,9,  -999.00,9,   -999.0,9,   -999.0,9,  -999.00,9,-999.0000,-999.000,  1.8662,-999.000
      325023_1,  P14N,   128,  1,     14,     14,2,19930808,1645,  3.7418, 179.0012, 5639,   2427.1,   1.8992,  34.6578,2,  34.6576,2,   -999.0,9,    118.0,2,   150.66,2,    38.06,2,     0.01,3,     2.70,2, -999.000,5, -999.000,5, -999.000,9,-999.0000,9,  -999.00,9,   -999.0,9,   -999.0,9,  -999.00,9,-999.0000,-999.000,  1.7273,-999.000
      325023_1,  P14N,   128,  1,     13,     13,2,19930808,1645,  3.7418, 179.0012, 5639,   2631.1,   1.8076,  34.6625,2,  34.6623,2,   -999.0,9,    123.2,2,   151.69,2,    37.70,2,     0.01,3,     2.66,2, -999.000,5, -999.000,5, -999.000,9,-999.0000,9,  -999.00,9,   -999.0,9,   -999.0,9,  -999.00,9,-999.0000,-999.000,  1.6189,-999.000
      325023_1,  P14N,   128,  1,     12,     12,2,19930808,1645,  3.7418, 179.0012, 5639,   2833.0,   1.7296,  34.6664,2,  34.6662,2,   -999.0,9,    128.7,2,   151.69,2,    37.43,2,     0.01,3,     2.64,2, -999.000,5, -999.000,5, -999.000,9,-999.0000,9,  -999.00,9,   -999.0,9,   -999.0,9,  -999.00,9,-999.0000,-999.000,  1.5238,-999.000
      325023_1,  P14N,   128,  1,     11,     11,2,19930808,1645,  3.7418, 179.0012, 5639,   3037.2,   1.6443,  34.6713,2,  34.6709,2,   -999.0,9,    135.9,2,   150.67,2,    36.90,2,     0.01,3,     2.59,2, -999.000,5, -999.000,5, -999.000,9,-999.0000,9,  -999.00,9,   -999.0,9,   -999.0,9,  -999.00,9,-999.0000,-999.000,  1.4208,-999.000
      325023_1,  P14N,   128,  1,     10,     10,2,19930808,1645,  3.7418, 179.0012, 5639,   3241.0,   1.5842,  34.6755,2,  34.6748,2,   -999.0,9,    141.1,2,   150.46,2,    36.59,2,     0.01,3,     2.57,2, -999.000,5, -999.000,5, -999.000,9,-999.0000,9,  -999.00,9,   -999.0,9,   -999.0,9,  -999.00,9,-999.0000,-999.000,  1.3421,-999.000
      325023_1,  P14N,   128,  1,      9,      9,2,19930808,1645,  3.7418, 179.0012, 5639,   3650.5,   1.5123,  34.6818,2,  34.6811,2,   -999.0,9,    150.9,2,   148.00,2,    35.88,2,     0.01,3,     2.51,2, -999.000,5, -999.000,5, -999.000,9,-999.0000,9,  -999.00,9,   -999.0,9,   -999.0,9,  -999.00,9,-999.0000,-999.000,  1.2303,-999.000
      325023_1,  P14N,   128,  1,      8,      8,2,19930808,1645,  3.7418, 179.0012, 5639,   3956.7,   1.4174,  34.6889,2,  34.6886,2,   -999.0,9,    162.2,2,   144.53,2,    35.21,2,     0.01,3,     2.46,2, -999.000,5, -999.000,5, -999.000,9,-999.0000,9,  -999.00,9,   -999.0,9,   -999.0,9,  -999.00,9,-999.0000,-999.000,  1.1054,-999.000
      325023_1,  P14N,   128,  1,      7,      7,2,19930808,1645,  3.7418, 179.0012, 5639,   4265.0,   1.2942,  34.6971,2,  34.6970,2,   -999.0,9,    177.0,2,   138.44,2,    34.02,2,     0.01,3,     2.37,2, -999.000,5, -999.000,5, -999.000,9,-999.0000,9,  -999.00,9,   -999.0,9,   -999.0,9,  -999.00,9,-999.0000,-999.000,  0.9521,-999.000
      325023_1,  P14N,   128,  1,      6,      6,2,19930808,1645,  3.7418, 179.0012, 5639,   4573.7,   1.2560,  34.7008,2,  34.7009,2,   -999.0,9,    185.5,2,   137.42,2,    33.54,2,     0.01,3,     2.33,2, -999.000,5, -999.000,5, -999.000,9,-999.0000,9,  -999.00,9,   -999.0,9,   -999.0,9,  -999.00,9,-999.0000,-999.000,  0.8801,-999.000
      325023_1,  P14N,   128,  1,      5,      5,2,19930808,1645,  3.7418, 179.0012, 5639,   4888.4,   1.2641,  34.7027,2,  34.7023,2,   -999.0,9,    188.5,2,   135.61,2,    33.23,2,     0.01,3,     2.32,2, -999.000,5, -999.000,5, -999.000,9,-999.0000,9,  -999.00,9,   -999.0,9,   -999.0,9,  -999.00,9,-999.0000,-999.000,  0.8511,-999.000
      325023_1,  P14N,   128,  1,      4,      4,2,19930808,1645,  3.7418, 179.0012, 5639,   5196.2,   1.2912,  34.7033,2,  34.7033,2,   -999.0,9,    190.4,2,   135.00,2,    33.06,2,     0.01,3,     2.30,2, -999.000,5, -999.000,5, -999.000,9,-999.0000,9,  -999.00,9,   -999.0,9,   -999.0,9,  -999.00,9,-999.0000,-999.000,  0.8401,-999.000
      325023_1,  P14N,   128,  1,      3,      3,2,19930808,1645,  3.7418, 179.0012, 5639,   5505.6,   1.3228,  34.7040,2,  34.7023,2,   -999.0,9,    191.9,2,   128.37,2,    32.89,2,     0.00,3,     2.29,2, -999.000,5, -999.000,5, -999.000,9,-999.0000,9,  -999.00,9,   -999.0,9,   -999.0,9,  -999.00,9,-999.0000,-999.000,  0.8319,-999.000
      325023_1,  P14N,   128,  1,      2,      2,2,19930808,1645,  3.7418, 179.0012, 5639,   5601.5,   1.3353,  34.7041,2,  34.7031,2,   -999.0,9,    192.0,2,   128.37,2,    32.94,2,     0.00,3,     2.30,2, -999.000,5, -999.000,5, -999.000,9,-999.0000,9,  -999.00,9,   -999.0,9,   -999.0,9,  -999.00,9,-999.0000,-999.000,  0.8317,-999.000
      325023_1,  P14N,   128,  1,      1,      1,2,19930808,1645,  3.7418, 179.0012, 5639,   5602.5,   1.3354,  34.7042,2,  34.7043,2,   -999.0,9,    196.7,2,   128.37,2,    32.94,2,     0.00,3,     2.30,2, -999.000,5, -999.000,5, -999.000,9,-999.0000,9,  -999.00,9,   -999.0,9,   -999.0,9,  -999.00,9,-999.0000,-999.000,  0.8317,-999.000