BOTTLE,20131125MIRCJHATS
EXPOCODE,SECT_ID,STNNBR,CASTNO,SAMPNO,BTLNBR,BTLNBR_FLAG_W,DATE,TIME,LATITUDE,LONGITUDE,DEPTH,CTDPRS,CTDTMP,CTDSAL,CTDSAL_FLAG_W,SALNTY,SALNTY_FLAG_W,CTDOXY,CTDOXY_FLAG_W,OXYGEN,OXYGEN_FLAG_W,SILCAT,SILCAT_FLAG_W,NITRAT,NITRAT_FLAG_W,NITRIT,NITRIT_FLAG_W,PHSPHT,PHSPHT_FLAG_W,CFC-11,CFC-11_FLAG_W,CFC-12,CFC-12_FLAG_W,TRITUM,TRITUM_FLAG_W,HELIUM,HELIUM_FLAG_W,DELHE3,DELHE3_FLAG_W,TCARBN,TCARBN_FLAG_W,ALKALI,ALKALI_FLAG_W,PH,PH_FLAG_W,HELIER,DELHER,THETA,TRITER
,,,,,,,,,,,,DBAR,ITS-90,PSS-78,,PSS-78,,UMOL/KG,,UMOL/KG,,UMOL/KG,,UMOL/KG,,UMOL/KG,,UMOL/KG,,PMOL/KG,,PMOL/KG,,TU,,NMOL/KG,,PERCNT,,UMOL/KG,,UMOL/KG,,25_DEG,,NMOL/KG,PERCNT,DEG C,TU
      325024_1,  P14N,   153,  1,     36,     36,2,19930821,1113, -2.5003, 178.9995, 4822,      2.0,  30.0578,  34.6806,2,  34.6854,2,   -999.0,9,    194.2,2,     2.72,2,     0.04,2,     0.00,2,     0.21,2,    1.534,2,    0.832,2, -999.000,9,-999.0000,9,  -999.00,9,   -999.0,9,   -999.0,9,  -999.00,9,-999.0000,-999.000, 30.0573,-999.000
      325024_1,  P14N,   153,  1,     35,     35,2,19930821,1113, -2.5003, 178.9995, 4822,     30.8,  30.0415,  34.6923,4,  34.7412,2,   -999.0,9,    195.7,2,     2.65,2,     0.04,2,     0.00,2,     0.20,2,    1.521,2,    0.841,2, -999.000,9,-999.0000,9,  -999.00,9,   -999.0,9,   -999.0,9,  -999.00,9,-999.0000,-999.000, 30.0339,-999.000
      325024_1,  P14N,   153,  1,     34,     34,2,19930821,1113, -2.5003, 178.9995, 4822,     61.4,  29.9820,  34.8940,2,  34.9063,2,   -999.0,9,    195.8,2,     2.39,2,     0.04,2,     0.00,2,     0.20,2,    1.520,2,    0.836,2, -999.000,9,-999.0000,9,  -999.00,9,   -999.0,9,   -999.0,9,  -999.00,9,-999.0000,-999.000, 29.9668,-999.000
      325024_1,  P14N,   153,  1,     33,     33,2,19930821,1113, -2.5003, 178.9995, 4822,     91.4,  29.6533,  35.0784,2,  35.1317,2,   -999.0,9,    196.5,2,     2.33,2,     0.09,2,     0.08,2,     0.28,2,    1.554,2,    0.859,2, -999.000,9,-999.0000,9,  -999.00,9,   -999.0,9,   -999.0,9,  -999.00,9,-999.0000,-999.000, 29.6308,-999.000
      325024_1,  P14N,   153,  1,     32,     32,2,19930821,1113, -2.5003, 178.9995, 4822,    120.4,  27.2091,  35.5324,4,  35.5812,2,   -999.0,9,    155.5,2,     4.09,2,     6.91,2,     0.00,2,     0.74,2,    1.644,2,    0.873,2, -999.000,9,-999.0000,9,  -999.00,9,   -999.0,9,   -999.0,9,  -999.00,9,-999.0000,-999.000, 27.1813,-999.000
      325024_1,  P14N,   153,  1,     31,     31,2,19930821,1113, -2.5003, 178.9995, 4822,    150.4,  22.1078,  35.8858,4,  35.9199,2,   -999.0,9,    128.6,2,     3.60,2,     9.70,2,     0.11,2,     0.95,2,    1.684,2,    0.892,2, -999.000,9,-999.0000,9,  -999.00,9,   -999.0,9,   -999.0,9,  -999.00,9,-999.0000,-999.000, 22.0778,-999.000
      325024_1,  P14N,   153,  1,     30,     30,2,19930821,1113, -2.5003, 178.9995, 4822,    200.3,  14.9566,  35.1622,2,  35.1608,2,   -999.0,9,    133.0,2,    10.31,2,    15.98,2,     0.01,2,     1.26,2,    0.981,2,    0.494,2, -999.000,9,-999.0000,9,  -999.00,9,   -999.0,9,   -999.0,9,  -999.00,9,-999.0000,-999.000, 14.9263,-999.000
      325024_1,  P14N,   153,  1,     29,     29,2,19930821,1113, -2.5003, 178.9995, 4822,    252.4,  11.0733,  34.8121,2,  34.8107,2,   -999.0,9,    112.8,2,    21.00,2,    24.47,2,     0.00,2,     1.78,2,    0.473,2,    0.241,2, -999.000,9,-999.0000,9,  -999.00,9,   -999.0,9,   -999.0,9,  -999.00,9,-999.0000,-999.000, 11.0420,-999.000
      325024_1,  P14N,   153,  1,     28,     28,2,19930821,1113, -2.5003, 178.9995, 4822,    302.3,  10.3891,  34.7582,2,  34.7555,2,   -999.0,9,     98.5,2,    24.91,2,    27.18,2,     0.00,2,     1.95,2,    0.334,2,    0.171,2, -999.000,9,-999.0000,9,  -999.00,9,   -999.0,9,   -999.0,9,  -999.00,9,-999.0000,-999.000, 10.3531,-999.000
      325024_1,  P14N,   153,  1,     27,     27,2,19930821,1113, -2.5003, 178.9995, 4822,    402.3,   9.4713,  34.6942,2,  34.6901,2,   -999.0,9,     95.0,2,    28.62,2,    29.46,2,     0.00,2,     2.10,2,    0.215,2,    0.113,2, -999.000,9,-999.0000,9,  -999.00,9,   -999.0,9,   -999.0,9,  -999.00,9,-999.0000,-999.000,  9.4258,-999.000
      325024_1,  P14N,   153,  1,     26,     26,2,19930821,1113, -2.5003, 178.9995, 4822,    502.4,   8.1740,  34.6247,2,  34.6230,2,   -999.0,9,     86.4,2,    35.12,2,    33.17,2,     0.00,2,     2.34,2,    0.083,6,    0.040,6, -999.000,9,-999.0000,9,  -999.00,9,   -999.0,9,   -999.0,9,  -999.00,9,-999.0000,-999.000,  8.1218,-999.000
      325024_1,  P14N,   153,  1,     25,     25,2,19930821,1113, -2.5003, 178.9995, 4822,    605.7,   6.8784,  34.5635,2,  34.5615,2,   -999.0,9,     89.1,2,    46.59,2,    35.56,2,     0.00,2,     2.52,2,    0.042,2,    0.022,2, -999.000,9,-999.0000,9,  -999.00,9,   -999.0,9,   -999.0,9,  -999.00,9,-999.0000,-999.000,  6.8210,-999.000
      325024_1,  P14N,   153,  1,     24,     24,2,19930821,1113, -2.5003, 178.9995, 4822,    707.3,   6.1751,  34.5515,2,  34.5499,2,   -999.0,9,     77.9,2,    57.06,2,    37.97,2,     0.00,2,     2.71,2,    0.008,2,    0.005,2, -999.000,9,-999.0000,9,  -999.00,9,   -999.0,9,   -999.0,9,  -999.00,9,-999.0000,-999.000,  6.1113,-999.000
      325024_1,  P14N,   153,  1,     23,     23,2,19930821,1113, -2.5003, 178.9995, 4822,    806.9,   5.8357,  34.5455,2,  34.5426,2,   -999.0,9,     84.7,2,    60.97,2,    37.79,2,     0.00,2,     2.71,2,    0.013,2,    0.005,2, -999.000,9,-999.0000,9,  -999.00,9,   -999.0,9,   -999.0,9,  -999.00,9,-999.0000,-999.000,  5.7644,-999.000
      325024_1,  P14N,   153,  1,     22,     22,2,19930821,1113, -2.5003, 178.9995, 4822,    907.4,   5.2465,  34.5391,2,  34.5366,2,   -999.0,9,     92.0,2,    68.46,2,    38.10,2,     0.00,2,     2.70,2,    0.005,2,    0.003,2, -999.000,9,-999.0000,9,  -999.00,9,   -999.0,9,   -999.0,9,  -999.00,9,-999.0000,-999.000,  5.1698,-999.000
      325024_1,  P14N,   153,  1,     21,     21,2,19930821,1113, -2.5003, 178.9995, 4822,   1009.4,   4.7702,  34.5439,2,  34.5430,2,   -999.0,9,     91.7,2,    77.97,2,    38.60,2,     0.00,2,     2.77,2,    0.005,2,    0.002,2, -999.000,9,-999.0000,9,  -999.00,9,   -999.0,9,   -999.0,9,  -999.00,9,-999.0000,-999.000,  4.6877,-999.000
      325024_1,  P14N,   153,  1,     20,     20,2,19930821,1113, -2.5003, 178.9995, 4822,   1213.3,   3.9563,  34.5633,2,  34.5617,2,   -999.0,9,     96.5,2,    94.94,2,    38.87,2,     0.00,2,     2.79,2, -999.000,5, -999.000,5, -999.000,9,-999.0000,9,  -999.00,9,   -999.0,9,   -999.0,9,  -999.00,9,-999.0000,-999.000,  3.8629,-999.000
      325024_1,  P14N,   153,  1,     19,     19,2,19930821,1113, -2.5003, 178.9995, 4822,   1414.2,   3.3245,  34.5870,2,  34.5842,2,   -999.0,9,    101.9,2,   110.42,2,    38.73,2,     0.00,2,     2.77,2, -999.000,5, -999.000,5, -999.000,9,-999.0000,9,  -999.00,9,   -999.0,9,   -999.0,9,  -999.00,9,-999.0000,-999.000,  3.2202,-999.000
      325024_1,  P14N,   153,  1,     18,     18,2,19930821,1113, -2.5003, 178.9995, 4822,   1615.5,   2.8360,  34.6063,2,  34.6042,2,   -999.0,9,    110.2,2,   120.71,2,    38.41,2,     0.00,2,     2.74,2, -999.000,5, -999.000,5, -999.000,9,-999.0000,9,  -999.00,9,   -999.0,9,   -999.0,9,  -999.00,9,-999.0000,-999.000,  2.7204,-999.000
      325024_1,  P14N,   153,  1,     17,     17,2,19930821,1113, -2.5003, 178.9995, 4822,   1819.5,   2.4524,  34.6245,2,  34.6203,2,   -999.0,9,    117.7,2,   128.39,2,    38.08,2,     0.00,2,     2.70,2, -999.000,5, -999.000,5, -999.000,9,-999.0000,9,  -999.00,9,   -999.0,9,   -999.0,9,  -999.00,9,-999.0000,-999.000,  2.3246,-999.000
      325024_1,  P14N,   153,  1,     16,     16,2,19930821,1113, -2.5003, 178.9995, 4822,   2021.8,   2.2067,  34.6404,2,  34.6391,2,   -999.0,9,    115.3,2,   138.62,2,    38.49,2,     0.00,2,     2.72,2, -999.000,5, -999.000,5, -999.000,9,-999.0000,9,  -999.00,9,   -999.0,9,   -999.0,9,  -999.00,9,-999.0000,-999.000,  2.0652,-999.000
      325024_1,  P14N,   153,  1,     15,     15,2,19930821,1113, -2.5003, 178.9995, 4822,   2226.5,   2.0731,  34.6472,2,  34.6452,2,   -999.0,9,    121.2,2,   140.37,2,    37.99,2,     0.00,2,     2.68,2, -999.000,5, -999.000,5, -999.000,9,-999.0000,9,  -999.00,9,   -999.0,9,   -999.0,9,  -999.00,9,-999.0000,-999.000,  1.9160,-999.000
      325024_1,  P14N,   153,  1,     14,     14,2,19930821,1113, -2.5003, 178.9995, 4822,   2429.3,   1.9239,  34.6562,2,  34.6546,2,   -999.0,9,    126.1,2,   143.16,2,    37.67,2,     0.00,2,     2.65,2,   -0.003,2,    0.002,2, -999.000,9,-999.0000,9,  -999.00,9,   -999.0,9,   -999.0,9,  -999.00,9,-999.0000,-999.000,  1.7514,-999.000
      325024_1,  P14N,   153,  1,     13,     13,2,19930821,1113, -2.5003, 178.9995, 4822,   2631.4,   1.8441,  34.6601,2,  34.6587,2,   -999.0,9,    129.1,2,   144.29,2,    37.48,2,     0.00,2,     2.64,2, -999.000,5, -999.000,5, -999.000,9,-999.0000,9,  -999.00,9,   -999.0,9,   -999.0,9,  -999.00,9,-999.0000,-999.000,  1.6548,-999.000
      325024_1,  P14N,   153,  1,     12,     12,2,19930821,1113, -2.5003, 178.9995, 4822,   2838.0,   1.7357,  34.6653,2,  34.6638,2,   -999.0,9,    133.3,2,   145.63,2,    37.17,2,     0.00,2,     2.61,2, -999.000,5, -999.000,5, -999.000,9,-999.0000,9,  -999.00,9,   -999.0,9,   -999.0,9,  -999.00,9,-999.0000,-999.000,  1.5293,-999.000
      325024_1,  P14N,   153,  1,     11,     11,2,19930821,1113, -2.5003, 178.9995, 4822,   3041.3,   1.6433,  34.6708,2,  34.6693,2,   -999.0,9,    139.4,2,   145.50,2,    36.80,2,     0.00,2,     2.57,2, -999.000,5, -999.000,5, -999.000,9,-999.0000,9,  -999.00,9,   -999.0,9,   -999.0,9,  -999.00,9,-999.0000,-999.000,  1.4194,-999.000
      325024_1,  P14N,   153,  1,     10,     10,2,19930821,1113, -2.5003, 178.9995, 4822,   3243.9,   1.5783,  34.6756,2,  34.6731,2,   -999.0,9,    143.6,2,   145.59,2,    36.40,2,     0.00,2,     2.55,2, -999.000,5, -999.000,5, -999.000,9,-999.0000,9,  -999.00,9,   -999.0,9,   -999.0,9,  -999.00,9,-999.0000,-999.000,  1.3361,-999.000
      325024_1,  P14N,   153,  1,      9,      9,2,19930821,1113, -2.5003, 178.9995, 4822,   3446.1,   1.5178,  34.6811,2,  34.6784,2,   -999.0,9,    151.9,2,   142.55,2,    35.90,2,     0.00,2,     2.51,2, -999.000,5, -999.000,5, -999.000,9,-999.0000,9,  -999.00,9,   -999.0,9,   -999.0,9,  -999.00,9,-999.0000,-999.000,  1.2567,-999.000
      325024_1,  P14N,   153,  1,      8,      8,2,19930821,1113, -2.5003, 178.9995, 4822,   3651.9,   1.4652,  34.6857,2,  34.6827,3,   -999.0,9,    158.7,2,   140.76,2,    35.37,2,     0.00,2,     2.46,2,   -0.002,2,    0.002,2, -999.000,9,-999.0000,9,  -999.00,9,   -999.0,9,   -999.0,9,  -999.00,9,-999.0000,-999.000,  1.1843,-999.000
      325024_1,  P14N,   153,  1,      7,      7,2,19930821,1113, -2.5003, 178.9995, 4822,   3855.4,   1.4078,  34.6905,2,  34.6886,2,   -999.0,9,    164.7,2,   140.22,2,    35.01,2,     0.00,2,     2.43,2, -999.000,5, -999.000,5, -999.000,9,-999.0000,9,  -999.00,9,   -999.0,9,   -999.0,9,  -999.00,9,-999.0000,-999.000,  1.1069,-999.000
      325024_1,  P14N,   153,  1,      6,      6,2,19930821,1113, -2.5003, 178.9995, 4822,   4059.7,   1.3662,  34.6936,2,  34.6915,2,   -999.0,9,    171.1,2,   138.03,2,    34.61,2,     0.00,2,     2.40,2, -999.000,5, -999.000,5, -999.000,9,-999.0000,9,  -999.00,9,   -999.0,9,   -999.0,9,  -999.00,9,-999.0000,-999.000,  1.0445,-999.000
      325024_1,  P14N,   153,  1,      5,      5,2,19930821,1113, -2.5003, 178.9995, 4822,   4267.0,   1.3290,  34.6964,2,  34.6956,2,   -999.0,9,    177.0,2,   135.64,2,    34.21,2,     0.00,2,     2.37,2, -999.000,5, -999.000,5, -999.000,9,-999.0000,9,  -999.00,9,   -999.0,9,   -999.0,9,  -999.00,9,-999.0000,-999.000,  0.9856,-999.000
      325024_1,  P14N,   153,  1,      4,      4,2,19930821,1113, -2.5003, 178.9995, 4822,   4470.7,   1.2991,  34.6989,2,  34.6982,2,   -999.0,9,    182.2,2,   132.84,2,    33.77,2,     0.00,2,     2.34,2, -999.000,5, -999.000,5, -999.000,9,-999.0000,9,  -999.00,9,   -999.0,9,   -999.0,9,  -999.00,9,-999.0000,-999.000,  0.9337,-999.000
      325024_1,  P14N,   153,  1,      3,      3,2,19930821,1113, -2.5003, 178.9995, 4822,   4675.4,   1.2483,  34.7029,2,  34.7013,2,   -999.0,9,    190.9,2,   127.59,2,    33.10,2,     0.00,2,     2.30,2, -999.000,5, -999.000,5, -999.000,9,-999.0000,9,  -999.00,9,   -999.0,9,   -999.0,9,  -999.00,9,-999.0000,-999.000,  0.8608,-999.000
      325024_1,  P14N,   153,  1,      2,      2,2,19930821,1113, -2.5003, 178.9995, 4822,   4860.2,   1.2508,  34.7036,2,  34.7025,2,   -999.0,9,    192.5,2,   126.45,2,    32.93,2,     0.00,2,     2.28,2, -999.000,5, -999.000,5, -999.000,9,-999.0000,9,  -999.00,9,   -999.0,9,   -999.0,9,  -999.00,9,-999.0000,-999.000,  0.8416,-999.000
      325024_1,  P14N,   153,  1,      1,      1,2,19930821,1113, -2.5003, 178.9995, 4822,   5114.6,   1.2483,  34.7046,2,  34.7047,2,   -999.0,9,    194.2,2,   125.11,2,    32.70,2,     0.00,2,     2.27,2,   -0.001,2,    0.001,2, -999.000,9,-999.0000,9,  -999.00,9,   -999.0,9,   -999.0,9,  -999.00,9,-999.0000,-999.000,  0.8086,-999.000