BOTTLE,20131125MIRCJHATS
EXPOCODE,SECT_ID,STNNBR,CASTNO,SAMPNO,BTLNBR,BTLNBR_FLAG_W,DATE,TIME,LATITUDE,LONGITUDE,DEPTH,CTDPRS,CTDTMP,CTDSAL,CTDSAL_FLAG_W,SALNTY,SALNTY_FLAG_W,CTDOXY,CTDOXY_FLAG_W,OXYGEN,OXYGEN_FLAG_W,SILCAT,SILCAT_FLAG_W,NITRAT,NITRAT_FLAG_W,NITRIT,NITRIT_FLAG_W,PHSPHT,PHSPHT_FLAG_W,CFC-11,CFC-11_FLAG_W,CFC-12,CFC-12_FLAG_W,TRITUM,TRITUM_FLAG_W,HELIUM,HELIUM_FLAG_W,DELHE3,DELHE3_FLAG_W,TCARBN,TCARBN_FLAG_W,ALKALI,ALKALI_FLAG_W,PH,PH_FLAG_W,HELIER,DELHER,THETA,TRITER
,,,,,,,,,,,,DBAR,ITS-90,PSS-78,,PSS-78,,UMOL/KG,,UMOL/KG,,UMOL/KG,,UMOL/KG,,UMOL/KG,,UMOL/KG,,PMOL/KG,,PMOL/KG,,TU,,NMOL/KG,,PERCNT,,UMOL/KG,,UMOL/KG,,25_DEG,,NMOL/KG,PERCNT,DEG C,TU
      325023_1,  P14N,    78,  1,     36,     36,2,19930727,1550, 23.5020, 178.9983, 5743,      2.5,  27.7505,  35.5743,2,  35.5780,2,   -999.0,9,    201.4,2,     2.76,2,     0.04,2,     0.00,2,     0.02,2, -999.000,5, -999.000,5, -999.000,9,-999.0000,9,  -999.00,9,   -999.0,9,   -999.0,9,  -999.00,9,-999.0000,-999.000, 27.7499,-999.000
      325023_1,  P14N,    78,  1,     35,     35,2,19930727,1550, 23.5020, 178.9983, 5743,     39.2,  26.0400,  35.4049,2,  35.4146,2,   -999.0,9,    217.8,2,     2.50,2,     0.04,2,     0.00,2,     0.02,2, -999.000,5, -999.000,5, -999.000,9,-999.0000,9,  -999.00,9,   -999.0,9,   -999.0,9,  -999.00,9,-999.0000,-999.000, 26.0312,-999.000
      325023_1,  P14N,    78,  1,     34,     34,2,19930727,1550, 23.5020, 178.9983, 5743,     69.6,  23.4416,  35.3316,2,  35.3366,2,   -999.0,9,    228.2,2,     2.45,2,     0.04,2,     0.00,2,     0.02,2, -999.000,5, -999.000,5, -999.000,9,-999.0000,9,  -999.00,9,   -999.0,9,   -999.0,9,  -999.00,9,-999.0000,-999.000, 23.4271,-999.000
      325023_1,  P14N,    78,  1,     33,     33,2,19930727,1550, 23.5020, 178.9983, 5743,    100.2,  22.0270,  35.3271,2,  35.3295,2,   -999.0,9,    219.7,2,     2.39,2,     0.04,2,     0.00,2,     0.04,2, -999.000,5, -999.000,5, -999.000,9,-999.0000,9,  -999.00,9,   -999.0,9,   -999.0,9,  -999.00,9,-999.0000,-999.000, 22.0071,-999.000
      325023_1,  P14N,    78,  1,     32,     32,2,19930727,1550, 23.5020, 178.9983, 5743,    129.6,  21.1511,  35.2819,2,  35.2864,2,   -999.0,9,    215.5,2,     2.34,2,     0.04,2,     0.00,2,     0.05,2, -999.000,5, -999.000,5, -999.000,9,-999.0000,9,  -999.00,9,   -999.0,9,   -999.0,9,  -999.00,9,-999.0000,-999.000, 21.1261,-999.000
      325023_1,  P14N,    78,  1,     31,     31,2,19930727,1550, 23.5020, 178.9983, 5743,    159.8,  20.1798,  35.2010,2,  35.2026,2,   -999.0,9,    209.3,2,     2.50,2,     0.29,2,     0.12,2,     0.10,2, -999.000,5, -999.000,5, -999.000,9,-999.0000,9,  -999.00,9,   -999.0,9,   -999.0,9,  -999.00,9,-999.0000,-999.000, 20.1500,-999.000
      325023_1,  P14N,    78,  1,     30,     30,2,19930727,1550, 23.5020, 178.9983, 5743,    210.5,  17.7840,  34.8979,2,  34.9048,2,   -999.0,9,    208.6,2,     3.72,2,     2.61,2,     0.02,2,     0.25,2, -999.000,5, -999.000,5, -999.000,9,-999.0000,9,  -999.00,9,   -999.0,9,   -999.0,9,  -999.00,9,-999.0000,-999.000, 17.7482,-999.000
      325023_1,  P14N,    78,  1,     29,     29,2,19930727,1550, 23.5020, 178.9983, 5743,    259.6,  16.4507,  34.7576,2,  34.7601,2,   -999.0,9,    207.1,2,     4.94,2,     4.76,2,     0.01,2,     0.38,2, -999.000,5, -999.000,5, -999.000,9,-999.0000,9,  -999.00,9,   -999.0,9,   -999.0,9,  -999.00,9,-999.0000,-999.000, 16.4088,-999.000
      325023_1,  P14N,    78,  1,     28,     28,2,19930727,1550, 23.5020, 178.9983, 5743,    310.5,  15.2891,  34.6382,2,  34.6477,2,   -999.0,9,    206.8,2,     6.58,2,     6.35,2,     0.01,2,     0.49,2, -999.000,5, -999.000,5, -999.000,9,-999.0000,9,  -999.00,9,   -999.0,9,   -999.0,9,  -999.00,9,-999.0000,-999.000, 15.2415,-999.000
      325023_1,  P14N,    78,  1,     27,     27,2,19930727,1550, 23.5020, 178.9983, 5743,    410.5,  12.3405,  34.3676,2,  34.3691,2,   -999.0,9,    202.2,2,    13.52,2,    11.66,2,     0.01,2,     0.85,2, -999.000,5, -999.000,5, -999.000,9,-999.0000,9,  -999.00,9,   -999.0,9,   -999.0,9,  -999.00,9,-999.0000,-999.000, 12.2859,-999.000
      325023_1,  P14N,    78,  1,     26,     26,2,19930727,1550, 23.5020, 178.9983, 5743,    510.5,   9.0840,  34.1427,2,  34.1438,2,   -999.0,9,    168.3,2,    29.77,2,    20.98,2,     0.00,2,     1.51,2,    1.690,2,    0.799,2, -999.000,9,-999.0000,9,  -999.00,9,   -999.0,9,   -999.0,9,  -999.00,9,-999.0000,-999.000,  9.0279,-999.000
      325023_1,  P14N,    78,  1,     25,     25,2,19930727,1550, 23.5020, 178.9983, 5743,    610.6,   6.9975,  34.0851,2,  34.0845,2,   -999.0,9,    118.9,2,    52.61,2,    29.67,2,     0.00,2,     2.11,2,    0.874,2,    0.404,2, -999.000,9,-999.0000,9,  -999.00,9,   -999.0,9,   -999.0,9,  -999.00,9,-999.0000,-999.000,  6.9395,-999.000
      325023_1,  P14N,    78,  1,     24,     24,2,19930727,1550, 23.5020, 178.9983, 5743,    713.2,   5.5428,  34.1192,2,  34.1160,2,   -999.0,9,     78.6,2,    75.93,2,    35.94,2,     0.00,2,     2.53,2,    0.381,2,    0.177,2, -999.000,9,-999.0000,9,  -999.00,9,   -999.0,9,   -999.0,9,  -999.00,9,-999.0000,-999.000,  5.4823,-999.000
      325023_1,  P14N,    78,  1,     23,     23,2,19930727,1550, 23.5020, 178.9983, 5743,    814.0,   4.8531,  34.2351,2,  34.2329,2,   -999.0,9,     47.7,2,    92.95,2,    39.87,2,     0.00,2,     2.83,2,    0.093,2,    0.047,2, -999.000,9,-999.0000,9,  -999.00,9,   -999.0,9,   -999.0,9,  -999.00,9,-999.0000,-999.000,  4.7876,-999.000
      325023_1,  P14N,    78,  1,     22,     22,2,19930727,1550, 23.5020, 178.9983, 5743,    915.1,   4.3848,  34.3447,2,  34.3392,2,   -999.0,9,     40.8,2,   105.11,2,    41.36,2,     0.00,2,     2.92,2,    0.020,2,    0.006,2, -999.000,9,-999.0000,9,  -999.00,9,   -999.0,9,   -999.0,9,  -999.00,9,-999.0000,-999.000,  4.3137,-999.000
      325023_1,  P14N,    78,  1,     21,     21,2,19930727,1550, 23.5020, 178.9983, 5743,   1013.6,   4.0232,  34.4145,2,  34.4119,2,   -999.0,9,     44.7,2,   112.80,2,    41.65,2,     0.00,2,     2.92,2, -999.000,5, -999.000,5, -999.000,9,-999.0000,9,  -999.00,9,   -999.0,9,   -999.0,9,  -999.00,9,-999.0000,-999.000,  3.9463,-999.000
      325023_1,  P14N,    78,  1,     20,     20,2,19930727,1550, 23.5020, 178.9983, 5743,   1211.0,   3.4220,  34.5096,2,  34.5072,2,   -999.0,9,     60.8,2,   124.43,2,    41.07,2,     0.00,2,     2.87,2, -999.000,5, -999.000,5, -999.000,9,-999.0000,9,  -999.00,9,   -999.0,9,   -999.0,9,  -999.00,9,-999.0000,-999.000,  3.3339,-999.000
      325023_1,  P14N,    78,  1,     19,     19,2,19930727,1550, 23.5020, 178.9983, 5743,   1413.8,   2.9796,  34.5477,2,  34.5448,2,   -999.0,9,     70.5,2,   133.51,2,    40.64,2,     0.00,2,     2.84,2, -999.000,5, -999.000,5, -999.000,9,-999.0000,9,  -999.00,9,   -999.0,9,   -999.0,9,  -999.00,9,-999.0000,-999.000,  2.8792,-999.000
      325023_1,  P14N,    78,  1,     18,     18,2,19930727,1550, 23.5020, 178.9983, 5743,   1618.8,   2.5807,  34.5753,2,  34.5734,2,   -999.0,9,     79.7,2,   142.22,2,    40.35,2,     0.00,2,     2.81,2, -999.000,5, -999.000,5, -999.000,9,-999.0000,9,  -999.00,9,   -999.0,9,   -999.0,9,  -999.00,9,-999.0000,-999.000,  2.4681,-999.000
      325023_1,  P14N,    78,  1,     17,     17,2,19930727,1550, 23.5020, 178.9983, 5743,   1824.0,   2.2713,  34.6000,2,  34.5983,2,   -999.0,9,     88.7,2,   148.33,2,    39.82,4,     0.00,2,     2.77,2, -999.000,5, -999.000,5, -999.000,9,-999.0000,9,  -999.00,9,   -999.0,9,   -999.0,9,  -999.00,9,-999.0000,-999.000,  2.1457,-999.000
      325023_1,  P14N,    78,  1,     16,     16,2,19930727,1550, 23.5020, 178.9983, 5743,   2028.2,   2.0068,  34.6206,2,  34.6187,2,   -999.0,9,     98.6,2,   153.35,2,    39.35,2,     0.00,2,     2.72,2, -999.000,5, -999.000,5, -999.000,9,-999.0000,9,  -999.00,9,   -999.0,9,   -999.0,9,  -999.00,9,-999.0000,-999.000,  1.8679,-999.000
      325023_1,  P14N,    78,  1,     15,     15,2,19930727,1550, 23.5020, 178.9983, 5743,   2233.1,   1.8548,  34.6336,2,  34.6326,2,   -999.0,9,    105.6,2,   155.73,2,    38.87,2,     0.00,2,     2.68,2, -999.000,5, -999.000,5, -999.000,9,-999.0000,9,  -999.00,9,   -999.0,9,   -999.0,9,  -999.00,9,-999.0000,-999.000,  1.7009,-999.000
      325023_1,  P14N,    78,  1,     14,     14,2,19930727,1550, 23.5020, 178.9983, 5743,   2437.8,   1.7420,  34.6443,2,  34.6434,2,   -999.0,9,    113.4,2,   156.99,2,    38.35,2,     0.00,2,     2.66,2, -999.000,5, -999.000,5, -999.000,9,-999.0000,9,  -999.00,9,   -999.0,9,   -999.0,9,  -999.00,9,-999.0000,-999.000,  1.5721,-999.000
      325023_1,  P14N,    78,  1,     13,     13,2,19930727,1550, 23.5020, 178.9983, 5743,   2641.1,   1.6717,  34.6515,2,  34.6510,2,   -999.0,9,    119.0,2,   157.36,2,    38.11,2,     0.00,2,     2.62,2, -999.000,5, -999.000,5, -999.000,9,-999.0000,9,  -999.00,9,   -999.0,9,   -999.0,9,  -999.00,9,-999.0000,-999.000,  1.4848,-999.000
      325023_1,  P14N,    78,  1,     12,     12,2,19930727,1550, 23.5020, 178.9983, 5743,   2844.3,   1.6075,  34.6586,2,  34.6587,2,   -999.0,9,    124.8,2,   157.51,2,    37.78,2,     0.00,2,     2.59,2, -999.000,5, -999.000,5, -999.000,9,-999.0000,9,  -999.00,9,   -999.0,9,   -999.0,9,  -999.00,9,-999.0000,-999.000,  1.4032,-999.000
      325023_1,  P14N,    78,  1,     11,     11,2,19930727,1550, 23.5020, 178.9983, 5743,   3048.4,   1.5600,  34.6647,2,  34.6638,2,   -999.0,9,    130.6,2,   156.99,2,    37.36,2,     0.00,2,     2.56,2, -999.000,5, -999.000,5, -999.000,9,-999.0000,9,  -999.00,9,   -999.0,9,   -999.0,9,  -999.00,9,-999.0000,-999.000,  1.3373,-999.000
      325023_1,  P14N,    78,  1,     10,     10,2,19930727,1550, 23.5020, 178.9983, 5743,   3355.2,   1.4966,  34.6731,2,  34.6730,2,   -999.0,9,    140.0,2,   155.13,2,    36.65,2,     0.00,2,     2.51,2, -999.000,5, -999.000,5, -999.000,9,-999.0000,9,  -999.00,9,   -999.0,9,   -999.0,9,  -999.00,9,-999.0000,-999.000,  1.2452,-999.000
      325023_1,  P14N,    78,  1,      9,      9,2,19930727,1550, 23.5020, 178.9983, 5743,   3664.4,   1.4739,  34.6781,2,  34.6773,2,   -999.0,9,    145.8,2,   153.72,2,    36.37,2,     0.00,2,     2.49,2, -999.000,5, -999.000,5, -999.000,9,-999.0000,9,  -999.00,9,   -999.0,9,   -999.0,9,  -999.00,9,-999.0000,-999.000,  1.1915,-999.000
      325023_1,  P14N,    78,  1,      8,      8,2,19930727,1550, 23.5020, 178.9983, 5743,   3973.0,   1.4483,  34.6832,2,  34.6824,2,   -999.0,9,    152.8,2,   150.77,2,    35.90,2,     0.00,2,     2.45,2, -999.000,5, -999.000,5, -999.000,9,-999.0000,9,  -999.00,9,   -999.0,9,   -999.0,9,  -999.00,9,-999.0000,-999.000,  1.1338,-999.000
      325023_1,  P14N,    78,  1,      7,      7,2,19930727,1550, 23.5020, 178.9983, 5743,   4280.6,   1.4310,  34.6877,2,  34.6871,2,   -999.0,9,    159.7,2,   146.93,2,    35.34,2,     0.00,2,     2.42,2, -999.000,5, -999.000,5, -999.000,9,-999.0000,9,  -999.00,9,   -999.0,9,   -999.0,9,  -999.00,9,-999.0000,-999.000,  1.0831,-999.000
      325023_1,  P14N,    78,  1,      6,      6,2,19930727,1550, 23.5020, 178.9983, 5743,   4587.8,   1.4260,  34.6907,2,  34.6922,2,   -999.0,9,    165.9,2,   142.67,2,    34.78,2,     0.00,2,     2.38,2, -999.000,5, -999.000,5, -999.000,9,-999.0000,9,  -999.00,9,   -999.0,9,   -999.0,9,  -999.00,9,-999.0000,-999.000,  1.0432,-999.000
      325023_1,  P14N,    78,  1,      5,      5,2,19930727,1550, 23.5020, 178.9983, 5743,   4894.8,   1.4290,  34.6933,2,  34.6925,2,   -999.0,9,    171.2,2,   139.52,2,    34.50,2,     0.00,2,     2.35,2, -999.000,5, -999.000,5, -999.000,9,-999.0000,9,  -999.00,9,   -999.0,9,   -999.0,9,  -999.00,9,-999.0000,-999.000,  1.0099,-999.000
      325023_1,  P14N,    78,  1,      4,      4,2,19930727,1550, 23.5020, 178.9983, 5743,   5200.8,   1.4388,  34.6957,2,  34.6943,2,   -999.0,9,    175.4,2,   136.60,2,    34.27,2,     0.00,2,     2.33,2, -999.000,5, -999.000,5, -999.000,9,-999.0000,9,  -999.00,9,   -999.0,9,   -999.0,9,  -999.00,9,-999.0000,-999.000,  0.9820,-999.000
      325023_1,  P14N,    78,  1,      3,      3,2,19930727,1550, 23.5020, 178.9983, 5743,   5510.6,   1.4626,  34.6966,2,  34.6963,2,   -999.0,9,    177.9,2,   134.78,2,    34.04,2,     0.00,2,     2.32,2, -999.000,5, -999.000,5, -999.000,9,-999.0000,9,  -999.00,9,   -999.0,9,   -999.0,9,  -999.00,9,-999.0000,-999.000,  0.9660,-999.000
      325023_1,  P14N,    78,  1,      2,      2,2,19930727,1550, 23.5020, 178.9983, 5743,   5830.1,   1.4974,  34.6975,2,  34.6978,2,   -999.0,9,    178.9,2,   134.49,2,    33.90,2,     0.00,2,     2.31,2, -999.000,5, -999.000,5, -999.000,9,-999.0000,9,  -999.00,9,   -999.0,9,   -999.0,9,  -999.00,9,-999.0000,-999.000,  0.9581,-999.000
      325023_1,  P14N,    78,  1,      1,      1,2,19930727,1550, 23.5020, 178.9983, 5743,   5832.4,   1.4976,  34.6976,2,  34.6978,2,   -999.0,9,    178.9,2,   134.64,2,    34.00,2,     0.00,2,     2.32,2, -999.000,5, -999.000,5, -999.000,9,-999.0000,9,  -999.00,9,   -999.0,9,   -999.0,9,  -999.00,9,-999.0000,-999.000,  0.9580,-999.000