BOTTLE,20131125MIRCJHATS
EXPOCODE,SECT_ID,STNNBR,CASTNO,SAMPNO,BTLNBR,BTLNBR_FLAG_W,DATE,TIME,LATITUDE,LONGITUDE,DEPTH,CTDPRS,CTDTMP,CTDSAL,CTDSAL_FLAG_W,SALNTY,SALNTY_FLAG_W,CTDOXY,CTDOXY_FLAG_W,OXYGEN,OXYGEN_FLAG_W,SILCAT,SILCAT_FLAG_W,NITRAT,NITRAT_FLAG_W,NITRIT,NITRIT_FLAG_W,PHSPHT,PHSPHT_FLAG_W,CFC-11,CFC-11_FLAG_W,CFC-12,CFC-12_FLAG_W,TRITUM,TRITUM_FLAG_W,HELIUM,HELIUM_FLAG_W,DELHE3,DELHE3_FLAG_W,TCARBN,TCARBN_FLAG_W,ALKALI,ALKALI_FLAG_W,PH,PH_FLAG_W,HELIER,DELHER,THETA,TRITER
,,,,,,,,,,,,DBAR,ITS-90,PSS-78,,PSS-78,,UMOL/KG,,UMOL/KG,,UMOL/KG,,UMOL/KG,,UMOL/KG,,UMOL/KG,,PMOL/KG,,PMOL/KG,,TU,,NMOL/KG,,PERCNT,,UMOL/KG,,UMOL/KG,,25_DEG,,NMOL/KG,PERCNT,DEG C,TU
      325023_1,  P14N,   653,  1,     36,     36,2,19930724,0421, 29.7390, 179.0417, 2163,      2.3,  26.5681,  35.0904,2,  35.0916,2,   -999.0,9,    207.6,2,     3.94,2,     0.04,2,     0.00,2,     0.04,2, -999.000,5, -999.000,5, -999.000,9,-999.0000,9,  -999.00,9,   -999.0,9,   -999.0,9,  -999.00,9,-999.0000,-999.000, 26.5675,-999.000
      325023_1,  P14N,   653,  1,     35,     35,2,19930724,0421, 29.7390, 179.0417, 2163,     36.0,  23.8632,  34.9256,2,  34.9118,2,   -999.0,9,    229.7,2,     3.71,2,     0.04,2,     0.00,2,     0.03,2, -999.000,5, -999.000,5, -999.000,9,-999.0000,9,  -999.00,9,   -999.0,9,   -999.0,9,  -999.00,9,-999.0000,-999.000, 23.8556,-999.000
      325023_1,  P14N,   653,  1,     34,     34,2,19930724,0421, 29.7390, 179.0417, 2163,     65.6,  18.8047,  34.8141,2,  34.8055,2,   -999.0,9,    258.3,2,     4.07,2,     0.04,2,     0.00,2,     0.06,2, -999.000,5, -999.000,5, -999.000,9,-999.0000,9,  -999.00,9,   -999.0,9,   -999.0,9,  -999.00,9,-999.0000,-999.000, 18.7931,-999.000
      325023_1,  P14N,   653,  1,     33,     33,2,19930724,0421, 29.7390, 179.0417, 2163,     86.6,  16.9665,  34.7799,2,  34.7700,2,   -999.0,9,    249.8,2,     4.24,2,     0.04,2,     0.00,2,     0.10,2, -999.000,5, -999.000,5, -999.000,9,-999.0000,9,  -999.00,9,   -999.0,9,   -999.0,9,  -999.00,9,-999.0000,-999.000, 16.9522,-999.000
      325023_1,  P14N,   653,  1,     32,     32,2,19930724,0421, 29.7390, 179.0417, 2163,    107.2,  15.9005,  34.7025,2,  34.6899,2,   -999.0,9,    222.3,2,     5.21,2,     3.58,2,     0.11,2,     0.33,2, -999.000,5, -999.000,5, -999.000,9,-999.0000,9,  -999.00,9,   -999.0,9,   -999.0,9,  -999.00,9,-999.0000,-999.000, 15.8836,-999.000
      325023_1,  P14N,   653,  1,     31,     31,2,19930724,0421, 29.7390, 179.0417, 2163,    127.4,  15.4118,  34.6521,2,  34.6461,2,   -999.0,9,    217.9,2,     6.37,2,     5.00,2,     0.03,2,     0.41,2, -999.000,5, -999.000,5, -999.000,9,-999.0000,9,  -999.00,9,   -999.0,9,   -999.0,9,  -999.00,9,-999.0000,-999.000, 15.3923,-999.000
      325023_1,  P14N,   653,  1,     30,     30,2,19930724,0421, 29.7390, 179.0417, 2163,    147.7,  14.9521,  34.6056,2,  34.6035,2,   -999.0,9,    215.8,2,     7.14,2,     6.01,2,     0.01,2,     0.48,2, -999.000,5, -999.000,5, -999.000,9,-999.0000,9,  -999.00,9,   -999.0,9,   -999.0,9,  -999.00,9,-999.0000,-999.000, 14.9299,-999.000
      325023_1,  P14N,   653,  1,     29,     29,2,19930724,0421, 29.7390, 179.0417, 2163,    168.5,  14.6492,  34.5771,2,  34.5751,2,   -999.0,9,    213.7,2,     7.90,2,     6.78,2,     0.01,2,     0.53,2, -999.000,5, -999.000,5, -999.000,9,-999.0000,9,  -999.00,9,   -999.0,9,   -999.0,9,  -999.00,9,-999.0000,-999.000, 14.6242,-999.000
      325023_1,  P14N,   653,  1,     28,     28,2,19930724,0421, 29.7390, 179.0417, 2163,    187.7,  14.3666,  34.5520,2,  34.5484,2,   -999.0,9,    212.7,2,     8.66,2,     7.46,2,     0.01,2,     0.57,2, -999.000,5, -999.000,5, -999.000,9,-999.0000,9,  -999.00,9,   -999.0,9,   -999.0,9,  -999.00,9,-999.0000,-999.000, 14.3391,-999.000
      325023_1,  P14N,   653,  1,     27,     27,2,19930724,0421, 29.7390, 179.0417, 2163,    206.5,  14.0325,  34.5243,2,  34.5223,2,   -999.0,9,    211.7,2,     9.23,2,     8.18,2,     0.01,2,     0.62,2,    2.745,2,    1.375,2, -999.000,9,-999.0000,9,  -999.00,9,   -999.0,9,   -999.0,9,  -999.00,9,-999.0000,-999.000, 14.0028,-999.000
      325023_1,  P14N,   653,  1,     26,     26,2,19930724,0421, 29.7390, 179.0417, 2163,    251.5,  13.2585,  34.4614,2,  34.4590,2,   -999.0,9,    213.2,2,    11.19,2,     9.40,2,     0.01,2,     0.70,2, -999.000,5, -999.000,5, -999.000,9,-999.0000,9,  -999.00,9,   -999.0,9,   -999.0,9,  -999.00,9,-999.0000,-999.000, 13.2236,-999.000
      325023_1,  P14N,   653,  1,     25,     25,2,19930724,0421, 29.7390, 179.0417, 2163,    300.1,  12.3412,  34.3876,2,  34.3861,2,   -999.0,9,    215.4,2,    13.35,2,    10.71,2,     0.01,2,     0.80,2,    2.863,2,    1.443,2, -999.000,9,-999.0000,9,  -999.00,9,   -999.0,9,   -999.0,9,  -999.00,9,-999.0000,-999.000, 12.3014,-999.000
      325023_1,  P14N,   653,  1,     24,     24,2,19930724,0421, 29.7390, 179.0417, 2163,    353.0,  11.5500,  34.3253,2,  34.3238,2,   -999.0,9,    214.8,2,    15.70,2,    12.16,2,     0.01,2,     0.90,2, -999.000,5, -999.000,5, -999.000,9,-999.0000,9,  -999.00,9,   -999.0,9,   -999.0,9,  -999.00,9,-999.0000,-999.000, 11.5051,-999.000
      325023_1,  P14N,   653,  1,     23,     23,2,19930724,0421, 29.7390, 179.0417, 2163,    404.7,  10.5687,  34.2473,2,  34.2458,2,   -999.0,9,    210.8,2,    20.05,2,    14.47,2,     0.01,2,     1.06,2, -999.000,5, -999.000,5, -999.000,9,-999.0000,9,  -999.00,9,   -999.0,9,   -999.0,9,  -999.00,9,-999.0000,-999.000, 10.5200,-999.000
      325023_1,  P14N,   653,  1,     22,     22,2,19930724,0421, 29.7390, 179.0417, 2163,    457.5,   9.3873,  34.1633,2,  34.1618,2,   -999.0,9,    196.8,2,    26.99,2,    18.08,2,     0.01,2,     1.31,2,    2.761,2,    1.315,2, -999.000,9,-999.0000,9,  -999.00,9,   -999.0,9,   -999.0,9,  -999.00,9,-999.0000,-999.000,  9.3361,-999.000
      325023_1,  P14N,   653,  1,     21,     21,2,19930724,0421, 29.7390, 179.0417, 2163,    506.6,   8.2657,  34.0926,2,  34.0900,2,   -999.0,9,    183.5,2,    35.13,2,    21.48,2,     0.01,2,     1.56,2, -999.000,5, -999.000,5, -999.000,9,-999.0000,9,  -999.00,9,   -999.0,9,   -999.0,9,  -999.00,9,-999.0000,-999.000,  8.2131,-999.000
      325023_1,  P14N,   653,  1,     20,     20,2,19930724,0421, 29.7390, 179.0417, 2163,    554.3,   7.4013,  34.0457,2,  34.0434,2,   -999.0,9,    170.1,2,    42.86,2,    24.34,2,     0.01,2,     1.77,2,    2.039,2,    0.936,2, -999.000,9,-999.0000,9,  -999.00,9,   -999.0,9,   -999.0,9,  -999.00,9,-999.0000,-999.000,  7.3472,-999.000
      325023_1,  P14N,   653,  1,     19,     19,2,19930724,0421, 29.7390, 179.0417, 2163,    604.7,   6.3578,  34.0112,2,  34.0099,2,   -999.0,9,    146.4,2,    55.39,2,    28.57,2,     0.01,2,     2.09,2, -999.000,5, -999.000,5, -999.000,9,-999.0000,9,  -999.00,9,   -999.0,9,   -999.0,9,  -999.00,9,-999.0000,-999.000,  6.3034,-999.000
      325023_1,  P14N,   653,  1,     18,     18,2,19930724,0421, 29.7390, 179.0417, 2163,    654.2,   5.5123,  34.0237,2,  34.0230,2,   -999.0,9,    111.6,2,    70.54,2,    32.99,2,     0.01,2,     2.40,2,    1.034,2,    0.443,2, -999.000,9,-999.0000,9,  -999.00,9,   -999.0,9,   -999.0,9,  -999.00,9,-999.0000,-999.000,  5.4573,-999.000
      325023_1,  P14N,   653,  1,     17,     17,2,19930724,0421, 29.7390, 179.0417, 2163,    703.1,   4.9819,  34.0608,2,  34.0586,2,   -999.0,9,     84.3,2,    83.13,2,    36.26,2,     0.00,2,     2.63,2, -999.000,5, -999.000,5, -999.000,9,-999.0000,9,  -999.00,9,   -999.0,9,   -999.0,9,  -999.00,9,-999.0000,-999.000,  4.9254,-999.000
      325023_1,  P14N,   653,  1,     16,     16,2,19930724,0421, 29.7390, 179.0417, 2163,    752.5,   4.6450,  34.1041,2,  34.0960,4,   -999.0,9,     72.4,2,    91.32,2,    37.60,2,     0.00,2,     2.74,2,    0.470,2,    0.207,3, -999.000,9,-999.0000,9,  -999.00,9,   -999.0,9,   -999.0,9,  -999.00,9,-999.0000,-999.000,  4.5862,-999.000
      325023_1,  P14N,   653,  1,     15,     15,2,19930724,0421, 29.7390, 179.0417, 2163,    803.6,   4.4629,  34.1338,2,  34.1312,2,   -999.0,9,     61.1,2,    98.12,2,    38.68,2,     0.00,2,     2.82,2, -999.000,5, -999.000,5, -999.000,9,-999.0000,9,  -999.00,9,   -999.0,9,   -999.0,9,  -999.00,9,-999.0000,-999.000,  4.4009,-999.000
      325023_1,  P14N,   653,  1,     14,     14,2,19930724,0421, 29.7390, 179.0417, 2163,    860.1,   4.1978,  34.1777,2,  34.1813,2,   -999.0,9,     48.1,2,   106.57,2,    39.98,2,     0.00,2,     2.92,2, -999.000,5, -999.000,5, -999.000,9,-999.0000,9,  -999.00,9,   -999.0,9,   -999.0,9,  -999.00,9,-999.0000,-999.000,  4.1327,-999.000
      325023_1,  P14N,   653,  1,     13,     13,2,19930724,0421, 29.7390, 179.0417, 2163,    906.1,   3.9043,  34.2321,2,  34.2306,2,   -999.0,9,     39.3,2,   114.85,2,    41.01,2,     0.00,2,     2.99,2,    0.134,2,    0.049,3, -999.000,9,-999.0000,9,  -999.00,9,   -999.0,9,   -999.0,9,  -999.00,9,-999.0000,-999.000,  3.8375,-999.000
      325023_1,  P14N,   653,  1,     12,     12,2,19930724,0421, 29.7390, 179.0417, 2163,    952.8,   3.6958,  34.2807,2,  34.2784,2,   -999.0,9,     31.7,2,   121.33,2,    41.82,2,     0.00,2,     3.05,2, -999.000,5, -999.000,5, -999.000,9,-999.0000,9,  -999.00,9,   -999.0,9,   -999.0,9,  -999.00,9,-999.0000,-999.000,  3.6266,-999.000
      325023_1,  P14N,   653,  1,     11,     11,2,19930724,0421, 29.7390, 179.0417, 2163,    997.4,   3.6149,  34.2991,2,  34.2964,2,   -999.0,9,     29.6,2,   124.33,2,    42.06,2,     0.00,2,     3.07,2,    0.055,2,    0.022,2, -999.000,9,-999.0000,9,  -999.00,9,   -999.0,9,   -999.0,9,  -999.00,9,-999.0000,-999.000,  3.5428,-999.000
      325023_1,  P14N,   653,  1,     10,     10,2,19930724,0421, 29.7390, 179.0417, 2163,   1096.7,   3.3237,  34.3605,2,  34.3599,2,   -999.0,9,     24.4,2,   133.54,2,    42.82,2,     0.00,2,     3.10,2, -999.000,5, -999.000,5, -999.000,9,-999.0000,9,  -999.00,9,   -999.0,9,   -999.0,9,  -999.00,9,-999.0000,-999.000,  3.2459,-999.000
      325023_1,  P14N,   653,  1,      9,      9,2,19930724,0421, 29.7390, 179.0417, 2163,   1197.0,   3.2300,  34.3887,2,  34.3875,2,   -999.0,9,     25.5,2,   136.99,3,    42.79,2,     0.00,2,     3.11,2, -999.000,5, -999.000,5, -999.000,9,-999.0000,9,  -999.00,9,   -999.0,9,   -999.0,9,  -999.00,9,-999.0000,-999.000,  3.1450,-999.000
      325023_1,  P14N,   653,  1,      8,      8,2,19930724,0421, 29.7390, 179.0417, 2163,   1298.0,   2.9542,  34.4447,2,  34.4443,2,   -999.0,9,     28.0,2,   144.83,2,    42.80,2,     0.00,2,     3.10,2, -999.000,5, -999.000,5, -999.000,9,-999.0000,9,  -999.00,9,   -999.0,9,   -999.0,9,  -999.00,9,-999.0000,-999.000,  2.8636,-999.000
      325023_1,  P14N,   653,  1,      7,      7,2,19930724,0421, 29.7390, 179.0417, 2163,   1400.1,   2.7500,  34.4838,2,  34.4831,2,   -999.0,9,     33.8,2,   149.36,2,    42.58,2,     0.00,2,     3.08,2, -999.000,5, -999.000,5, -999.000,9,-999.0000,9,  -999.00,9,   -999.0,9,   -999.0,9,  -999.00,9,-999.0000,-999.000,  2.6533,-999.000
      325023_1,  P14N,   653,  1,      6,      6,2,19930724,0421, 29.7390, 179.0417, 2163,   1503.2,   2.5411,  34.5174,2,  34.5184,2,   -999.0,9,     41.3,2,   153.91,2,    42.13,2,     0.00,2,     3.04,2, -999.000,5, -999.000,5, -999.000,9,-999.0000,9,  -999.00,9,   -999.0,9,   -999.0,9,  -999.00,9,-999.0000,-999.000,  2.4385,-999.000
      325023_1,  P14N,   653,  1,      5,      5,2,19930724,0421, 29.7390, 179.0417, 2163,   1606.5,   2.4297,  34.5350,2,  34.5343,2,   -999.0,9,     46.8,2,   155.94,2,    41.95,2,     0.00,2,     3.02,2, -999.000,5, -999.000,5, -999.000,9,-999.0000,9,  -999.00,9,   -999.0,9,   -999.0,9,  -999.00,9,-999.0000,-999.000,  2.3200,-999.000
      325023_1,  P14N,   653,  1,      4,      4,2,19930724,0421, 29.7390, 179.0417, 2163,   1710.1,   2.2657,  34.5592,2,  34.5586,2,   -999.0,9,     55.0,2,   159.25,2,    41.55,2,     0.00,2,     2.98,2, -999.000,5, -999.000,5, -999.000,9,-999.0000,9,  -999.00,9,   -999.0,9,   -999.0,9,  -999.00,9,-999.0000,-999.000,  2.1497,-999.000
      325023_1,  P14N,   653,  1,      3,      3,2,19930724,0421, 29.7390, 179.0417, 2163,   1913.7,   2.0293,  34.5927,2,  34.5919,2,   -999.0,9,     70.4,2,   162.78,2,    40.53,2,     0.00,2,     2.89,2, -999.000,5, -999.000,5, -999.000,9,-999.0000,9,  -999.00,9,   -999.0,9,   -999.0,9,  -999.00,9,-999.0000,-999.000,  1.8997,-999.000
      325023_1,  P14N,   653,  1,      2,      2,2,19930724,0421, 29.7390, 179.0417, 2163,   2120.5,   1.8784,  34.6136,2,  34.6137,2,   -999.0,9,     83.2,2,   163.12,2,    39.76,2,     0.00,2,     2.82,2, -999.000,5, -999.000,5, -999.000,9,-999.0000,9,  -999.00,9,   -999.0,9,   -999.0,9,  -999.00,9,-999.0000,-999.000,  1.7338,-999.000
      325023_1,  P14N,   653,  1,      1,      1,2,19930724,0421, 29.7390, 179.0417, 2163,   2277.9,   1.7654,  34.6290,2,  34.6278,2,   -999.0,9,     94.5,2,   162.81,2,    39.17,2,     0.00,2,     2.78,2, -999.000,5, -999.000,5, -999.000,9,-999.0000,9,  -999.00,9,   -999.0,9,   -999.0,9,  -999.00,9,-999.0000,-999.000,  1.6091,-999.000