BOTTLE,20131125MIRCJHATS
EXPOCODE,SECT_ID,STNNBR,CASTNO,SAMPNO,BTLNBR,BTLNBR_FLAG_W,DATE,TIME,LATITUDE,LONGITUDE,DEPTH,CTDPRS,CTDTMP,CTDSAL,CTDSAL_FLAG_W,SALNTY,SALNTY_FLAG_W,CTDOXY,CTDOXY_FLAG_W,OXYGEN,OXYGEN_FLAG_W,SILCAT,SILCAT_FLAG_W,NITRAT,NITRAT_FLAG_W,NITRIT,NITRIT_FLAG_W,PHSPHT,PHSPHT_FLAG_W,CFC-11,CFC-11_FLAG_W,CFC-12,CFC-12_FLAG_W,TRITUM,TRITUM_FLAG_W,HELIUM,HELIUM_FLAG_W,DELHE3,DELHE3_FLAG_W,TCARBN,TCARBN_FLAG_W,ALKALI,ALKALI_FLAG_W,PH,PH_FLAG_W,HELIER,DELHER,THETA,TRITER
,,,,,,,,,,,,DBAR,ITS-90,PSS-78,,PSS-78,,UMOL/KG,,UMOL/KG,,UMOL/KG,,UMOL/KG,,UMOL/KG,,UMOL/KG,,PMOL/KG,,PMOL/KG,,TU,,NMOL/KG,,PERCNT,,UMOL/KG,,UMOL/KG,,25_DEG,,NMOL/KG,PERCNT,DEG C,TU
      325023_1,  P14N,    27,  1,     36,     36,2,19930712,2008, 48.9953, 178.9955, 4764,      4.2,   7.8081,  32.7155,2,  32.7155,2,   -999.0,9,    313.1,2,    31.12,2,    16.15,2,     0.18,2,     1.43,2,    4.874,2,    2.336,2, -999.000,9,-999.0000,9,  -999.00,9,   2037.4,2,   2211.8,2,     7.85,2,-999.0000,-999.000,  7.8077,-999.000
      325023_1,  P14N,    27,  1,     35,     35,2,19930712,2008, 48.9953, 178.9955, 4764,     38.6,   5.0104,  32.8978,2,  32.8798,2,   -999.0,9,    314.1,2,    32.98,2,    19.61,2,     0.21,2,     1.79,2,    5.472,2,    2.621,2, -999.000,9,-999.0000,9,  -999.00,9,   2080.3,2,   2213.9,2,  -999.00,9,-999.0000,-999.000,  5.0075,-999.000
      325023_1,  P14N,    27,  1,     34,     34,2,19930712,2008, 48.9953, 178.9955, 4764,     69.2,   3.4742,  32.9591,2,  32.9544,2,   -999.0,9,    317.4,2,    42.83,2,    22.46,2,     0.28,2,     1.94,2, -999.000,5, -999.000,5, -999.000,9,-999.0000,9,  -999.00,9,   2101.1,2,   2212.7,2,     7.71,2,-999.0000,-999.000,  3.4699,-999.000
      325023_1,  P14N,    27,  1,     33,     33,2,19930712,2008, 48.9953, 178.9955, 4764,     98.7,   3.0288,  33.4189,2,  33.4157,2,   -999.0,9,    181.1,2,    69.87,2,    34.51,2,     0.03,2,     2.59,2, -999.000,5, -999.000,5, -999.000,9,-999.0000,9,  -999.00,9,   2218.5,2,   2259.9,2,  -999.00,9,-999.0000,-999.000,  3.0230,-999.000
      325023_1,  P14N,    27,  1,     32,     32,2,19930712,2008, 48.9953, 178.9955, 4764,    129.4,   3.2202,  33.7851,2,  33.7810,2,   -999.0,9,     70.4,2,    93.75,2,    42.25,2,     0.02,2,     3.05,2,    2.174,2,    0.970,2, -999.000,9,-999.0000,9,  -999.00,9,   2306.0,2,   2275.5,2,     7.28,2,-999.0000,-999.000,  3.2122,-999.000
      325023_1,  P14N,    27,  1,     31,     31,2,19930712,2008, 48.9953, 178.9955, 4764,    159.7,   3.3237,  33.8634,2,  33.8570,2,   -999.0,9,     48.6,2,    99.59,2,    43.59,2,     0.01,2,     3.13,2,    1.636,2,    0.719,2, -999.000,9,-999.0000,9,  -999.00,9,   2321.4,2,   -999.0,9,  -999.00,9,-999.0000,-999.000,  3.3137,-999.000
      325023_1,  P14N,    27,  1,     30,     30,2,19930712,2008, 48.9953, 178.9955, 4764,    210.0,   3.4288,  33.9532,2,  33.9506,2,   -999.0,9,     29.5,2,   107.03,2,    44.56,2,     0.01,2,     3.19,2,    1.185,2,    0.515,2, -999.000,9,-999.0000,9,  -999.00,9,   2336.3,2,   2299.9,2,     7.24,2,-999.0000,-999.000,  3.4154,-999.000
      325023_1,  P14N,    27,  1,     29,     29,2,19930712,2008, 48.9953, 178.9955, 4764,    260.8,   3.4670,  34.0359,2,  34.0301,2,   -999.0,9,     22.1,2,   113.91,2,    44.65,2,     0.01,2,     3.20,2,    0.789,2,    0.348,2, -999.000,9,-999.0000,9,  -999.00,9,   2344.3,2,   2317.0,2,  -999.00,9,-999.0000,-999.000,  3.4501,-999.000
      325023_1,  P14N,    27,  1,     28,     28,2,19930712,2008, 48.9953, 178.9955, 4764,    311.9,   3.4604,  34.0921,2,  34.0880,2,   -999.0,9,     19.4,2,   118.61,2,    44.60,2,     0.01,2,     3.19,2,    0.566,2,    0.248,2, -999.000,9,-999.0000,9,  -999.00,9,   2350.3,2,   2326.7,2,     7.25,2,-999.0000,-999.000,  3.4400,-999.000
      325023_1,  P14N,    27,  1,     27,     27,2,19930712,2008, 48.9953, 178.9955, 4764,    412.2,   3.3255,  34.2024,2,  34.2001,2,   -999.0,9,     16.6,2,   129.18,2,    44.37,2,     0.01,2,     3.15,2,    0.258,2,    0.118,2, -999.000,9,-999.0000,9,  -999.00,9,   2361.8,2,   2341.5,2,  -999.00,9,-999.0000,-999.000,  3.2986,-999.000
      325023_1,  P14N,    27,  1,     26,     26,2,19930712,2008, 48.9953, 178.9955, 4764,    512.4,   3.1973,  34.2486,2,  34.2454,2,   -999.0,9,     16.9,2,   134.96,2,    44.27,2,     0.01,2,     3.16,2,    0.195,2,    0.082,2, -999.000,9,-999.0000,9,  -999.00,9,   2368.5,2,   2351.7,2,     7.28,2,-999.0000,-999.000,  3.1639,-999.000
      325023_1,  P14N,    27,  1,     25,     25,2,19930712,2008, 48.9953, 178.9955, 4764,    613.3,   3.1035,  34.2828,2,  34.2806,2,   -999.0,9,     17.3,2,   139.75,2,    44.18,2,     0.01,2,     3.16,2,    0.145,6,    0.083,2, -999.000,9,-999.0000,9,  -999.00,9,   2371.0,2,   2356.1,2,  -999.00,9,-999.0000,-999.000,  3.0634,-999.000
      325023_1,  P14N,    27,  1,     24,     24,2,19930712,2008, 48.9953, 178.9955, 4764,    713.6,   3.0133,  34.3152,2,  34.3123,2,   -999.0,9,     17.6,2,   143.12,2,    44.22,2,     0.00,2,     3.16,2,    0.106,2,    0.051,2, -999.000,9,-999.0000,9,  -999.00,9,   2375.4,2,   2364.7,2,     7.29,2,-999.0000,-999.000,  2.9666,-999.000
      325023_1,  P14N,    27,  1,     23,     23,2,19930712,2008, 48.9953, 178.9955, 4764,    814.2,   2.9180,  34.3434,2,  34.3409,2,   -999.0,9,     18.5,2,   146.50,2,    44.17,2,     0.00,2,     3.16,2,    0.080,2,    0.031,2, -999.000,9,-999.0000,9,  -999.00,9,   2378.8,2,   2357.0,2,  -999.00,9,-999.0000,-999.000,  2.8646,-999.000
      325023_1,  P14N,    27,  1,     22,     22,2,19930712,2008, 48.9953, 178.9955, 4764,    915.3,   2.7708,  34.3814,2,  34.3790,2,   -999.0,9,     20.6,2,   151.97,2,    43.89,2,     0.00,2,     3.16,2,    0.054,2,    0.025,2, -999.000,9,-999.0000,9,  -999.00,9,   2381.8,2,   2000.7,4,     7.31,2,-999.0000,-999.000,  2.7111,-999.000
      325023_1,  P14N,    27,  1,     21,     21,2,19930712,2008, 48.9953, 178.9955, 4764,   1017.4,   2.6372,  34.4146,2,  34.4107,2,   -999.0,9,     23.3,2,   156.64,2,    43.84,2,     0.00,2,     3.15,2,    0.036,2,    0.019,2, -999.000,9,-999.0000,9,  -999.00,9,   2384.5,2,   2376.5,2,  -999.00,9,-999.0000,-999.000,  2.5710,-999.000
      325023_1,  P14N,    27,  1,     20,     20,2,19930712,2008, 48.9953, 178.9955, 4764,   1219.2,   2.3525,  34.4826,2,  34.4809,2,   -999.0,9,     32.2,2,   164.90,2,    43.37,2,     0.01,2,     3.11,2,    0.021,2,    0.010,2, -999.000,9,-999.0000,9,  -999.00,9,   2389.5,2,   2411.8,3,     7.34,2,-999.0000,-999.000,  2.2738,-999.000
      325023_1,  P14N,    27,  1,     19,     19,2,19930712,2008, 48.9953, 178.9955, 4764,   1423.9,   2.1975,  34.5206,2,  34.5177,2,   -999.0,9,     39.9,2,   169.22,2,    42.91,2,     0.00,2,     3.08,2, -999.000,5, -999.000,5, -999.000,9,-999.0000,9,  -999.00,9,   2388.3,2,   2400.0,2,  -999.00,9,-999.0000,-999.000,  2.1049,-999.000
      325023_1,  P14N,    27,  1,     18,     18,2,19930712,2008, 48.9953, 178.9955, 4764,   1628.1,   2.0453,  34.5562,2,  34.5540,2,   -999.0,9,     51.0,2,   172.07,2,    42.35,2,     0.00,2,     3.04,2,    0.010,2,    0.008,2, -999.000,9,-999.0000,9,  -999.00,9,   2385.4,2,   -999.0,9,     7.38,2,-999.0000,-999.000,  1.9386,-999.000
      325023_1,  P14N,    27,  1,     17,     17,2,19930712,2008, 48.9953, 178.9955, 4764,   1831.7,   1.9236,  34.5820,2,  34.5799,2,   -999.0,9,     62.0,2,   173.87,2,    41.66,2,     0.00,2,     2.99,2, -999.000,5, -999.000,5, -999.000,9,-999.0000,9,  -999.00,9,   2382.5,2,   2409.7,2,  -999.00,9,-999.0000,-999.000,  1.8023,-999.000
      325023_1,  P14N,    27,  1,     16,     16,2,19930712,2008, 48.9953, 178.9955, 4764,   2036.2,   1.8022,  34.6063,2,  34.6030,2,   -999.0,9,     75.9,2,   174.17,2,    40.78,2,     0.00,2,     2.93,2,   -0.001,2,    0.000,2, -999.000,9,-999.0000,9,  -999.00,9,   2375.2,2,   2422.8,2,     7.43,2,-999.0000,-999.000,  1.6658,-999.000
      325023_1,  P14N,    27,  1,     15,     15,2,19930712,2008, 48.9953, 178.9955, 4764,   2241.0,   1.7197,  34.6223,2,  34.6205,2,   -999.0,9,     86.9,2,   174.04,2,    40.18,2,     0.00,2,     2.87,2, -999.000,5, -999.000,5, -999.000,9,-999.0000,9,  -999.00,9,   2369.4,2,   2413.8,2,  -999.00,9,-999.0000,-999.000,  1.5674,-999.000
      325023_1,  P14N,    27,  1,     14,     14,2,19930712,2008, 48.9953, 178.9955, 4764,   2445.4,   1.6572,  34.6348,2,  34.6325,2,   -999.0,9,     97.2,2,   172.85,2,    39.54,2,     0.00,2,     2.82,2, -999.000,5, -999.000,5, -999.000,9,-999.0000,9,  -999.00,9,   2364.0,2,   2415.7,2,     7.47,2,-999.0000,-999.000,  1.4882,-999.000
      325023_1,  P14N,    27,  1,     13,     13,2,19930712,2008, 48.9953, 178.9955, 4764,   2649.6,   1.6013,  34.6463,2,  34.6454,2,   -999.0,9,    107.0,2,   171.03,2,    38.89,2,     0.00,2,     2.78,2,    0.000,2,    0.006,2, -999.000,9,-999.0000,9,  -999.00,9,   2358.1,2,   2417.7,2,  -999.00,9,-999.0000,-999.000,  1.4151,-999.000
      325023_1,  P14N,    27,  1,     12,     12,2,19930712,2008, 48.9953, 178.9955, 4764,   2854.0,   1.5520,  34.6557,2,  34.6550,2,   -999.0,9,    116.5,2,   168.57,2,    38.39,2,     0.00,2,     2.72,2, -999.000,5, -999.000,5, -999.000,9,-999.0000,9,  -999.00,9,   2361.9,2,   2419.5,2,     7.51,2,-999.0000,-999.000,  1.3479,-999.000
      325023_1,  P14N,    27,  1,     11,     11,2,19930712,2008, 48.9953, 178.9955, 4764,   3058.3,   1.5111,  34.6631,2,  34.6601,2,   -999.0,9,    125.7,2,   165.91,2,    37.88,2,     0.00,2,     2.68,2, -999.000,5, -999.000,5, -999.000,9,-999.0000,9,  -999.00,9,   2354.1,2,   2416.9,2,  -999.00,9,-999.0000,-999.000,  1.2885,-999.000
      325023_1,  P14N,    27,  1,     10,     10,2,19930712,2008, 48.9953, 178.9955, 4764,   3262.6,   1.4844,  34.6691,2,  34.6680,2,   -999.0,9,    132.0,2,   163.47,2,    37.42,2,     0.00,2,     2.65,2,    0.006,2,    0.003,2, -999.000,9,-999.0000,9,  -999.00,9,   2347.5,2,   2416.9,2,     7.54,2,-999.0000,-999.000,  1.2426,-999.000
      325023_1,  P14N,    27,  1,      9,      9,2,19930712,2008, 48.9953, 178.9955, 4764,   3467.4,   1.4667,  34.6733,2,  34.6707,2,   -999.0,9,    137.8,2,   161.67,2,    37.06,2,     0.00,2,     2.61,2, -999.000,5, -999.000,5, -999.000,9,-999.0000,9,  -999.00,9,   -999.0,9,   -999.0,9,  -999.00,9,-999.0000,-999.000,  1.2048,-999.000
      325023_1,  P14N,    27,  1,      8,      8,2,19930712,2008, 48.9953, 178.9955, 4764,   3673.2,   1.4547,  34.6779,2,  34.6748,2,   -999.0,9,    142.1,2,   161.14,2,    36.74,2,     0.00,2,     2.59,2, -999.000,5, -999.000,5, -999.000,9,-999.0000,9,  -999.00,9,   2343.5,2,   2415.4,2,     7.56,2,-999.0000,-999.000,  1.1719,-999.000
      325023_1,  P14N,    27,  1,      7,      7,2,19930712,2008, 48.9953, 178.9955, 4764,   3878.8,   1.4491,  34.6811,2,  34.6799,2,   -999.0,9,    145.9,2,   160.60,2,    36.50,2,     0.00,2,     2.58,2,   -0.003,2,    0.003,2, -999.000,9,-999.0000,9,  -999.00,9,   2336.9,2,   2415.6,2,  -999.00,9,-999.0000,-999.000,  1.1447,-999.000
      325023_1,  P14N,    27,  1,      6,      6,2,19930712,2008, 48.9953, 178.9955, 4764,   4084.0,   1.4515,  34.6834,2,  34.6811,2,   -999.0,9,    148.7,2,   160.90,2,    36.32,2,     0.00,2,     2.56,2, -999.000,5, -999.000,5, -999.000,9,-999.0000,9,  -999.00,9,   2335.5,2,   2420.3,2,     7.57,2,-999.0000,-999.000,  1.1248,-999.000
      325023_1,  P14N,    27,  1,      5,      5,2,19930712,2008, 48.9953, 178.9955, 4764,   4289.7,   1.4601,  34.6853,2,  34.6827,2,   -999.0,9,    150.7,2,   162.04,2,    36.23,2,     0.00,2,     2.56,2, -999.000,5, -999.000,5, -999.000,9,-999.0000,9,  -999.00,9,   2332.1,2,   -999.0,9,  -999.00,9,-999.0000,-999.000,  1.1103,-999.000
      325023_1,  P14N,    27,  1,      4,      4,2,19930712,2008, 48.9953, 178.9955, 4764,   4495.9,   1.4767,  34.6864,2,  34.6825,3,   -999.0,9,    151.7,2,   163.18,3,    36.18,2,     0.00,2,     2.54,2,    0.003,2,    0.006,2, -999.000,9,-999.0000,9,  -999.00,9,   -999.0,9,   2417.1,2,     7.58,2,-999.0000,-999.000,  1.1029,-999.000
      325023_1,  P14N,    27,  1,      3,      3,2,19930712,2008, 48.9953, 178.9955, 4764,   4702.5,   1.4982,  34.6868,2,  34.6831,3,   -999.0,9,    152.1,2,   162.85,2,    36.13,2,     0.00,2,     2.55,2, -999.000,5, -999.000,5, -999.000,9,-999.0000,9,  -999.00,9,   2336.2,2,   2413.8,2,  -999.00,9,-999.0000,-999.000,  1.0997,-999.000
      325023_1,  P14N,    27,  1,      1,      1,2,19930712,2008, 48.9953, 178.9955, 4764,   4842.4,   1.5146,  34.6865,2,  34.6858,2,   -999.0,9,    151.9,2,   163.87,2,    36.13,2,     0.00,2,     2.55,2, -999.000,5, -999.000,5, -999.000,9,-999.0000,9,  -999.00,9,   2336.6,2,   2417.9,2,  -999.00,9,-999.0000,-999.000,  1.0989,-999.000
      325023_1,  P14N,    27,  1,      2,      2,2,19930712,2008, 48.9953, 178.9955, 4764,   4842.5,   1.5147,  34.6863,2,  34.6847,2,   -999.0,9,    152.2,2,   163.15,2,    36.13,2,     0.00,2,     2.55,2,    0.006,2,    0.002,4, -999.000,9,-999.0000,9,  -999.00,9,   2336.2,2,   -999.0,9,     7.58,2,-999.0000,-999.000,  1.0990,-999.000