BOTTLE,20131125MIRCJHATS
EXPOCODE,SECT_ID,STNNBR,CASTNO,SAMPNO,BTLNBR,BTLNBR_FLAG_W,DATE,TIME,LATITUDE,LONGITUDE,DEPTH,CTDPRS,CTDTMP,CTDSAL,CTDSAL_FLAG_W,SALNTY,SALNTY_FLAG_W,CTDOXY,CTDOXY_FLAG_W,OXYGEN,OXYGEN_FLAG_W,SILCAT,SILCAT_FLAG_W,NITRAT,NITRAT_FLAG_W,NITRIT,NITRIT_FLAG_W,PHSPHT,PHSPHT_FLAG_W,CFC-11,CFC-11_FLAG_W,CFC-12,CFC-12_FLAG_W,TRITUM,TRITUM_FLAG_W,HELIUM,HELIUM_FLAG_W,DELHE3,DELHE3_FLAG_W,TCARBN,TCARBN_FLAG_W,ALKALI,ALKALI_FLAG_W,PH,PH_FLAG_W,HELIER,DELHER,THETA,TRITER
,,,,,,,,,,,,DBAR,ITS-90,PSS-78,,PSS-78,,UMOL/KG,,UMOL/KG,,UMOL/KG,,UMOL/KG,,UMOL/KG,,UMOL/KG,,PMOL/KG,,PMOL/KG,,TU,,NMOL/KG,,PERCNT,,UMOL/KG,,UMOL/KG,,25_DEG,,NMOL/KG,PERCNT,DEG C,TU
      325023_1,  P14N,    37,  1,     36,     36,2,19930715,1214, 43.9988, 178.9945, 5633,      3.1,  11.2067,  33.7305,2,  33.7252,2,   -999.0,9,    276.8,2,    17.99,2,     9.46,2,     0.15,2,     0.89,2,    3.832,4,    2.129,4, -999.000,9,-999.0000,9,  -999.00,9,   2046.0,2,   2249.4,2,     7.88,2,-999.0000,-999.000, 11.2063,-999.000
      325023_1,  P14N,    37,  1,     35,     35,2,19930715,1214, 43.9988, 178.9945, 5633,     38.5,  10.2709,  33.8272,2,  33.8206,2,   -999.0,9,    284.5,2,    18.31,2,     9.82,2,     0.16,2,     0.93,2,    4.026,2,    1.989,2, -999.000,9,-999.0000,9,  -999.00,9,   2057.3,2,   -999.0,9,     7.88,2,-999.0000,-999.000, 10.2664,-999.000
      325023_1,  P14N,    37,  1,     34,     34,2,19930715,1214, 43.9988, 178.9945, 5633,     69.1,   7.7884,  33.8121,2,  33.8096,2,   -999.0,9,    295.1,2,    22.18,2,    12.52,2,     0.37,2,     1.11,2,    4.276,4,    2.231,4, -999.000,9,-999.0000,9,  -999.00,9,   2073.8,2,   2261.1,2,     7.83,2,-999.0000,-999.000,  7.7817,-999.000
      325023_1,  P14N,    37,  1,     33,     33,2,19930715,1214, 43.9988, 178.9945, 5633,    100.0,   7.8223,  33.8798,2,  33.8754,2,   -999.0,9,    282.5,2,    22.71,2,    13.98,2,     0.01,2,     1.16,2,    4.201,4,    2.278,4, -999.000,9,-999.0000,9,  -999.00,9,   2082.9,2,   2258.9,2,     7.81,2,-999.0000,-999.000,  7.8125,-999.000
      325023_1,  P14N,    37,  1,     32,     32,2,19930715,1214, 43.9988, 178.9945, 5633,    129.8,   7.9860,  33.9259,2,  33.9244,2,   -999.0,9,    280.3,2,    22.84,2,    13.99,2,     0.01,2,     1.14,2,    3.955,4,    2.106,4, -999.000,9,-999.0000,9,  -999.00,9,   2084.1,2,   2258.8,2,     7.81,2,-999.0000,-999.000,  7.9731,-999.000
      325023_1,  P14N,    37,  1,     31,     31,2,19930715,1214, 43.9988, 178.9945, 5633,    159.6,   7.8923,  33.9270,2,  33.9248,2,   -999.0,9,    280.2,2,    22.77,2,    14.03,2,     0.00,2,     1.14,2,    4.113,2,    2.044,2, -999.000,9,-999.0000,9,  -999.00,9,   2083.0,2,   2251.4,2,     7.81,2,-999.0000,-999.000,  7.8766,-999.000
      325023_1,  P14N,    37,  1,     30,     30,2,19930715,1214, 43.9988, 178.9945, 5633,    209.6,   7.7655,  33.9268,2,  33.9251,2,   -999.0,9,    280.4,2,    22.70,2,    14.04,2,     0.00,2,     1.14,2,    4.079,4,    2.238,4, -999.000,9,-999.0000,9,  -999.00,9,   2083.4,2,   2246.1,2,     7.81,2,-999.0000,-999.000,  7.7450,-999.000
      325023_1,  P14N,    37,  1,     29,     29,3,19930715,1214, 43.9988, 178.9945, 5633,    260.3,   7.6015,  33.9389,2,  34.6453,4,   -999.0,9,    120.0,4,   166.68,4,    39.30,4,     0.00,4,     2.77,4,   -0.006,4,   -0.004,4, -999.000,9,-999.0000,9,  -999.00,9,   -999.0,9,   -999.0,9,  -999.00,9,-999.0000,-999.000,  7.5762,-999.000
      325023_1,  P14N,    37,  1,     28,     28,2,19930715,1214, 43.9988, 178.9945, 5633,    310.4,   6.7810,  33.9551,2,  33.9507,2,   -999.0,9,    197.3,2,    44.02,2,    23.24,2,     0.00,2,     1.76,2,    2.997,2,    1.456,2, -999.000,9,-999.0000,9,  -999.00,9,   -999.0,9,   -999.0,9,  -999.00,9,-999.0000,-999.000,  6.7527,-999.000
      325023_1,  P14N,    37,  1,     27,     27,2,19930715,1214, 43.9988, 178.9945, 5633,    411.8,   5.1468,  33.9495,2,  33.9457,2,   -999.0,9,    132.7,2,    70.60,2,    32.34,2,     0.00,2,     2.39,2,    1.994,2,    0.911,2, -999.000,9,-999.0000,9,  -999.00,9,   -999.0,9,   -999.0,9,  -999.00,9,-999.0000,-999.000,  5.1141,-999.000
      325023_1,  P14N,    37,  1,     26,     26,2,19930715,1214, 43.9988, 178.9945, 5633,    512.7,   4.5673,  34.0248,2,  34.0198,2,   -999.0,9,     96.3,2,    86.40,2,    36.23,2,     0.00,2,     2.65,2,    1.261,4,    0.549,4, -999.000,9,-999.0000,9,  -999.00,9,   -999.0,9,   -999.0,9,  -999.00,9,-999.0000,-999.000,  4.5286,-999.000
      325023_1,  P14N,    37,  1,     25,     25,2,19930715,1214, 43.9988, 178.9945, 5633,    613.5,   4.2057,  34.1095,2,  34.1057,2,   -999.0,9,     67.5,2,   100.90,2,    39.30,2,     0.00,2,     2.85,2,    0.765,4,    0.363,4, -999.000,9,-999.0000,9,  -999.00,9,   -999.0,9,   -999.0,9,  -999.00,9,-999.0000,-999.000,  4.1605,-999.000
      325023_1,  P14N,    37,  1,     24,     24,2,19930715,1214, 43.9988, 178.9945, 5633,    714.2,   3.8696,  34.1924,2,  34.1839,2,   -999.0,9,     49.6,2,   113.29,2,    41.04,2,     0.00,2,     2.97,2,    0.392,4,    0.230,4, -999.000,9,-999.0000,9,  -999.00,9,   -999.0,9,   -999.0,9,  -999.00,9,-999.0000,-999.000,  3.8182,-999.000
      325023_1,  P14N,    37,  1,     23,     23,2,19930715,1214, 43.9988, 178.9945, 5633,    815.4,   3.6019,  34.2572,2,  34.2524,2,   -999.0,9,     39.5,2,   123.76,2,    42.12,2,     0.00,2,     3.03,2, -999.000,5, -999.000,5, -999.000,9,-999.0000,9,  -999.00,9,   -999.0,9,   -999.0,9,  -999.00,9,-999.0000,-999.000,  3.5442,-999.000
      325023_1,  P14N,    37,  1,     22,     22,2,19930715,1214, 43.9988, 178.9945, 5633,    916.7,   3.3248,  34.3123,2,  34.3094,2,   -999.0,9,     33.1,2,   133.08,2,    42.84,2,     0.00,2,     3.08,2,    0.104,4,    0.048,4, -999.000,9,-999.0000,9,  -999.00,9,   -999.0,9,   -999.0,9,  -999.00,9,-999.0000,-999.000,  3.2611,-999.000
      325023_1,  P14N,    37,  1,     21,     21,2,19930715,1214, 43.9988, 178.9945, 5633,   1017.8,   3.1069,  34.3554,2,  34.3479,3,   -999.0,9,     30.1,2,   140.62,2,    43.27,2,     0.00,2,     3.11,2,    0.066,2,    0.032,2, -999.000,9,-999.0000,9,  -999.00,9,   -999.0,9,   -999.0,9,  -999.00,9,-999.0000,-999.000,  3.0370,-999.000
      325023_1,  P14N,    37,  1,     20,     20,2,19930715,1214, 43.9988, 178.9945, 5633,   1219.8,   2.7507,  34.4227,2,  34.4159,3,   -999.0,9,     28.0,2,   152.82,2,    43.75,2,     0.00,2,     3.15,2,    0.015,2,    0.007,2, -999.000,9,-999.0000,9,  -999.00,9,   -999.0,9,   -999.0,9,  -999.00,9,-999.0000,-999.000,  2.6683,-999.000
      325023_1,  P14N,    37,  1,     19,     19,2,19930715,1214, 43.9988, 178.9945, 5633,   1424.1,   2.4798,  34.4752,2,  34.4711,2,   -999.0,9,     30.6,2,   161.16,2,    43.89,2,     0.00,2,     3.13,2,    0.012,4,   -0.002,4, -999.000,9,-999.0000,9,  -999.00,9,   -999.0,9,   -999.0,9,  -999.00,9,-999.0000,-999.000,  2.3842,-999.000
      325023_1,  P14N,    37,  1,     18,     18,2,19930715,1214, 43.9988, 178.9945, 5633,   1627.3,   2.2672,  34.5204,2,  34.5161,2,   -999.0,9,     37.7,2,   166.80,2,    43.48,2,     0.00,2,     3.10,2,    0.002,4,    0.001,4, -999.000,9,-999.0000,9,  -999.00,9,   -999.0,9,   -999.0,9,  -999.00,9,-999.0000,-999.000,  2.1580,-999.000
      325023_1,  P14N,    37,  1,     17,     17,2,19930715,1214, 43.9988, 178.9945, 5633,   1831.5,   2.1102,  34.5542,2,  34.5502,2,   -999.0,9,     47.9,2,   170.14,2,    42.92,2,     0.00,2,     3.05,2,   -0.005,2,   -0.001,2, -999.000,9,-999.0000,9,  -999.00,9,   -999.0,9,   -999.0,9,  -999.00,9,-999.0000,-999.000,  1.9864,-999.000
      325023_1,  P14N,    37,  1,     16,     16,2,19930715,1214, 43.9988, 178.9945, 5633,   2034.8,   1.9782,  34.5814,2,  34.5772,3,   -999.0,9,     60.0,2,   172.19,2,    42.22,2,     0.00,2,     3.00,2, -999.000,5, -999.000,5, -999.000,9,-999.0000,9,  -999.00,9,   -999.0,9,   -999.0,9,  -999.00,9,-999.0000,-999.000,  1.8394,-999.000
      325023_1,  P14N,    37,  1,     15,     15,2,19930715,1214, 43.9988, 178.9945, 5633,   2237.9,   1.8656,  34.6029,2,  34.5998,2,   -999.0,9,     73.7,2,   173.39,2,    41.43,2,     0.00,2,     2.94,2,   -0.001,2,   -0.001,2, -999.000,9,-999.0000,9,  -999.00,9,   -999.0,9,   -999.0,9,  -999.00,9,-999.0000,-999.000,  1.7112,-999.000
      325023_1,  P14N,    37,  1,     14,     14,2,19930715,1214, 43.9988, 178.9945, 5633,   2438.7,   1.7721,  34.6235,2,  34.6174,3,   -999.0,9,     84.0,2,   173.08,2,    40.68,2,     0.00,2,     2.90,2, -999.000,5, -999.000,5, -999.000,9,-999.0000,9,  -999.00,9,   -999.0,9,   -999.0,9,  -999.00,9,-999.0000,-999.000,  1.6016,-999.000
      325023_1,  P14N,    37,  1,     13,     13,2,19930715,1214, 43.9988, 178.9945, 5633,   2632.6,   1.6967,  34.6354,2,  34.6330,2,   -999.0,9,     94.8,2,   171.92,2,    39.94,2,     0.00,2,     2.85,2, -999.000,5, -999.000,5, -999.000,9,-999.0000,9,  -999.00,9,   -999.0,9,   -999.0,9,  -999.00,9,-999.0000,-999.000,  1.5102,-999.000
      325023_1,  P14N,    37,  1,     12,     12,2,19930715,1214, 43.9988, 178.9945, 5633,   2838.3,   1.6408,  34.6474,2,  34.6434,3,   -999.0,9,    104.3,2,   170.54,2,    39.39,2,     0.00,2,     2.79,2, -999.000,5, -999.000,5, -999.000,9,-999.0000,9,  -999.00,9,   -999.0,9,   -999.0,9,  -999.00,9,-999.0000,-999.000,  1.4364,-999.000
      325023_1,  P14N,    37,  1,     11,     11,2,19930715,1214, 43.9988, 178.9945, 5633,   3055.2,   1.5887,  34.6568,2,  34.6529,3,   -999.0,9,    114.7,2,   168.10,2,    38.69,2,     0.00,2,     2.79,4, -999.000,5, -999.000,5, -999.000,9,-999.0000,9,  -999.00,9,   -999.0,9,   -999.0,9,  -999.00,9,-999.0000,-999.000,  1.3648,-999.000
      325023_1,  P14N,    37,  1,     10,     10,2,19930715,1214, 43.9988, 178.9945, 5633,   3362.0,   1.5317,  34.6685,2,  34.6641,3,   -999.0,9,    126.7,2,   164.81,2,    38.00,2,     0.00,2,     2.68,2, -999.000,5, -999.000,5, -999.000,9,-999.0000,9,  -999.00,9,   -999.0,9,   -999.0,9,  -999.00,9,-999.0000,-999.000,  1.2788,-999.000
      325023_1,  P14N,    37,  1,      9,      9,2,19930715,1214, 43.9988, 178.9945, 5633,   3670.5,   1.4892,  34.6748,2,  34.6719,2,   -999.0,9,    138.0,2,   161.96,2,    37.21,2,     0.00,2,     2.62,2, -999.000,5, -999.000,5, -999.000,9,-999.0000,9,  -999.00,9,   -999.0,9,   -999.0,9,  -999.00,9,-999.0000,-999.000,  1.2058,-999.000
      325023_1,  P14N,    37,  1,      8,      8,2,19930715,1214, 43.9988, 178.9945, 5633,   3977.4,   1.4744,  34.6803,2,  34.6781,2,   -999.0,9,    144.4,2,   160.61,2,    36.80,2,     0.00,2,     2.59,2, -999.000,5, -999.000,5, -999.000,9,-999.0000,9,  -999.00,9,   -999.0,9,   -999.0,9,  -999.00,9,-999.0000,-999.000,  1.1587,-999.000
      325023_1,  P14N,    37,  1,      7,      7,2,19930715,1214, 43.9988, 178.9945, 5633,   4284.2,   1.4751,  34.6841,2,  34.6824,2,   -999.0,9,    148.9,2,   160.52,2,    36.58,2,     0.00,2,     2.56,2, -999.000,5, -999.000,5, -999.000,9,-999.0000,9,  -999.00,9,   -999.0,9,   -999.0,9,  -999.00,9,-999.0000,-999.000,  1.1255,-999.000
      325023_1,  P14N,    37,  1,      6,      6,2,19930715,1214, 43.9988, 178.9945, 5633,   4591.1,   1.4936,  34.6865,2,  34.6849,2,   -999.0,9,    151.0,2,   161.70,2,    36.53,2,     0.00,2,     2.55,2, -999.000,5, -999.000,5, -999.000,9,-999.0000,9,  -999.00,9,   -999.0,9,   -999.0,9,  -999.00,9,-999.0000,-999.000,  1.1083,-999.000
      325023_1,  P14N,    37,  1,      5,      5,2,19930715,1214, 43.9988, 178.9945, 5633,   4900.7,   1.5227,  34.6875,2,  34.6851,2,   -999.0,9,    152.0,2,   162.46,2,    36.40,2,     0.00,2,     2.55,2, -999.000,5, -999.000,5, -999.000,9,-999.0000,9,  -999.00,9,   -999.0,9,   -999.0,9,  -999.00,9,-999.0000,-999.000,  1.0997,-999.000
      325023_1,  P14N,    37,  1,      4,      4,2,19930715,1214, 43.9988, 178.9945, 5633,   5213.2,   1.5621,  34.6872,2,  34.6852,2,   -999.0,9,    152.4,2,   163.01,2,    36.32,2,     0.00,2,     2.55,2, -999.000,5, -999.000,5, -999.000,9,-999.0000,9,  -999.00,9,   -999.0,9,   -999.0,9,  -999.00,9,-999.0000,-999.000,  1.0996,-999.000
      325023_1,  P14N,    37,  1,      3,      3,2,19930715,1214, 43.9988, 178.9945, 5633,   5525.2,   1.6032,  34.6876,2,  34.6852,2,   -999.0,9,    152.2,2,   163.35,2,    36.37,2,     0.00,2,     2.55,2,    0.002,2,    0.005,2, -999.000,9,-999.0000,9,  -999.00,9,   -999.0,9,   -999.0,9,  -999.00,9,-999.0000,-999.000,  1.0997,-999.000
      325023_1,  P14N,    37,  1,      1,      1,2,19930715,1214, 43.9988, 178.9945, 5633,   5735.5,   1.6319,  34.6869,2,  34.6865,2,   -999.0,9,    152.2,2,   162.97,2,    36.38,2,     0.00,2,     2.55,2, -999.000,5, -999.000,5, -999.000,9,-999.0000,9,  -999.00,9,   -999.0,9,   -999.0,9,  -999.00,9,-999.0000,-999.000,  1.1000,-999.000
      325023_1,  P14N,    37,  1,      2,      2,2,19930715,1214, 43.9988, 178.9945, 5633,   5736.0,   1.6320,  34.6868,2,  34.6859,2,   -999.0,9,    152.5,2,   163.05,2,    36.38,2,     0.00,2,     2.55,2,    0.005,4,    0.002,4, -999.000,9,-999.0000,9,  -999.00,9,   -999.0,9,   -999.0,9,  -999.00,9,-999.0000,-999.000,  1.1000,-999.000