BOTTLE,20131125MIRCJHATS
EXPOCODE,SECT_ID,STNNBR,CASTNO,SAMPNO,BTLNBR,BTLNBR_FLAG_W,DATE,TIME,LATITUDE,LONGITUDE,DEPTH,CTDPRS,CTDTMP,CTDSAL,CTDSAL_FLAG_W,SALNTY,SALNTY_FLAG_W,CTDOXY,CTDOXY_FLAG_W,OXYGEN,OXYGEN_FLAG_W,SILCAT,SILCAT_FLAG_W,NITRAT,NITRAT_FLAG_W,NITRIT,NITRIT_FLAG_W,PHSPHT,PHSPHT_FLAG_W,CFC-11,CFC-11_FLAG_W,CFC-12,CFC-12_FLAG_W,TRITUM,TRITUM_FLAG_W,HELIUM,HELIUM_FLAG_W,DELHE3,DELHE3_FLAG_W,TCARBN,TCARBN_FLAG_W,ALKALI,ALKALI_FLAG_W,PH,PH_FLAG_W,HELIER,DELHER,THETA,TRITER
,,,,,,,,,,,,DBAR,ITS-90,PSS-78,,PSS-78,,UMOL/KG,,UMOL/KG,,UMOL/KG,,UMOL/KG,,UMOL/KG,,UMOL/KG,,PMOL/KG,,PMOL/KG,,TU,,NMOL/KG,,PERCNT,,UMOL/KG,,UMOL/KG,,25_DEG,,NMOL/KG,PERCNT,DEG C,TU
      325023_1,  P14N,    10,  1,     36,     36,2,19930709,0337, 54.4940,-177.5593, 3794,      2.0,   7.2308,  33.0215,2,  33.0225,2,   -999.0,9,    307.2,2,    15.13,2,    15.30,2,     0.20,2,     1.49,2, -999.000,5, -999.000,5, -999.000,9,-999.0000,9,  -999.00,9,   -999.0,9,   -999.0,9,  -999.00,9,-999.0000,-999.000,  7.2306,-999.000
      325023_1,  P14N,    10,  1,     35,     35,2,19930709,0337, 54.4940,-177.5593, 3794,     34.9,   3.5421,  33.0844,2,  33.0926,2,   -999.0,9,    313.2,2,    47.86,2,    22.45,2,     0.45,2,     2.06,2, -999.000,5, -999.000,5, -999.000,9,-999.0000,9,  -999.00,9,   -999.0,9,   -999.0,9,  -999.00,9,-999.0000,-999.000,  3.5399,-999.000
      325023_1,  P14N,    10,  1,     34,     34,2,19930709,0337, 54.4940,-177.5593, 3794,     65.9,   3.0542,  33.1958,2,  33.1960,2,   -999.0,9,    309.2,2,    57.83,2,    27.85,2,     0.48,2,     2.25,2, -999.000,5, -999.000,5, -999.000,9,-999.0000,9,  -999.00,9,   -999.0,9,   -999.0,9,  -999.00,9,-999.0000,-999.000,  3.0503,-999.000
      325023_1,  P14N,    10,  1,     33,     33,2,19930709,0337, 54.4940,-177.5593, 3794,     96.4,   2.7914,  33.2031,2,  33.2046,2,   -999.0,9,    319.0,2,    57.97,2,    28.33,2,     0.08,2,     2.23,2, -999.000,5, -999.000,5, -999.000,9,-999.0000,9,  -999.00,9,   -999.0,9,   -999.0,9,  -999.00,9,-999.0000,-999.000,  2.7859,-999.000
      325023_1,  P14N,    10,  1,     32,     32,2,19930709,0337, 54.4940,-177.5593, 3794,    126.7,   2.6140,  33.2008,2,  33.2010,2,   -999.0,9,    319.3,2,    58.11,2,    28.52,2,     0.02,2,     2.24,2, -999.000,5, -999.000,5, -999.000,9,-999.0000,9,  -999.00,9,   -999.0,9,   -999.0,9,  -999.00,9,-999.0000,-999.000,  2.6070,-999.000
      325023_1,  P14N,    10,  1,     31,     31,2,19930709,0337, 54.4940,-177.5593, 3794,    156.7,   2.5860,  33.2038,2,  33.2049,2,   -999.0,9,    318.3,2,    58.02,2,    28.51,2,     0.02,2,     2.24,2, -999.000,5, -999.000,5, -999.000,9,-999.0000,9,  -999.00,9,   -999.0,9,   -999.0,9,  -999.00,9,-999.0000,-999.000,  2.5773,-999.000
      325023_1,  P14N,    10,  1,     30,     30,2,19930709,0337, 54.4940,-177.5593, 3794,    207.3,   2.6511,  33.2439,2,  33.2468,2,   -999.0,9,    298.6,2,    60.07,2,    29.53,2,     0.04,2,     2.30,2, -999.000,5, -999.000,5, -999.000,9,-999.0000,9,  -999.00,9,   -999.0,9,   -999.0,9,  -999.00,9,-999.0000,-999.000,  2.6393,-999.000
      325023_1,  P14N,    10,  1,     28,     28,2,19930709,0337, 54.4940,-177.5593, 3794,    307.8,   3.6615,  33.6007,2,  33.6070,2,   -999.0,9,    143.1,2,    82.07,2,    36.81,2,     0.01,2,     2.72,2, -999.000,5, -999.000,5, -999.000,9,-999.0000,9,  -999.00,9,   -999.0,9,   -999.0,9,  -999.00,9,-999.0000,-999.000,  3.6411,-999.000
      325023_1,  P14N,    10,  1,     29,     29,2,19930709,0337, 54.4940,-177.5593, 3794,    307.9,   3.6642,  33.6028,2,  33.5959,2,   -999.0,9,    147.1,2,    81.23,2,    36.59,2,     0.01,2,     2.70,2, -999.000,5, -999.000,5, -999.000,9,-999.0000,9,  -999.00,9,   -999.0,9,   -999.0,9,  -999.00,9,-999.0000,-999.000,  3.6438,-999.000
      325023_1,  P14N,    10,  1,     27,     27,2,19930709,0337, 54.4940,-177.5593, 3794,    358.9,   3.7514,  33.7267,2,  33.7211,2,   -999.0,9,    105.7,2,    89.61,2,    38.78,2,     0.01,2,     2.84,2, -999.000,5, -999.000,5, -999.000,9,-999.0000,9,  -999.00,9,   -999.0,9,   -999.0,9,  -999.00,9,-999.0000,-999.000,  3.7272,-999.000
      325023_1,  P14N,    10,  1,     26,     26,2,19930709,0337, 54.4940,-177.5593, 3794,    459.9,   3.6826,  33.9197,2,  33.9233,2,   -999.0,9,     54.3,2,   103.37,2,    41.99,2,     0.01,2,     3.04,2, -999.000,5, -999.000,5, -999.000,9,-999.0000,9,  -999.00,9,   -999.0,9,   -999.0,9,  -999.00,9,-999.0000,-999.000,  3.6513,-999.000
      325023_1,  P14N,    10,  1,     25,     25,2,19930709,0337, 54.4940,-177.5593, 3794,    509.8,   3.6225,  33.9921,2,  33.9915,2,   -999.0,9,     41.8,2,   109.00,2,    42.81,2,     0.01,2,     3.07,2, -999.000,5, -999.000,5, -999.000,9,-999.0000,9,  -999.00,9,   -999.0,9,   -999.0,9,  -999.00,9,-999.0000,-999.000,  3.5878,-999.000
      325023_1,  P14N,    10,  1,     24,     24,2,19930709,0337, 54.4940,-177.5593, 3794,    611.3,   3.4884,  34.0942,2,  34.0958,2,   -999.0,9,     28.0,2,   118.48,2,    43.54,2,     0.01,2,     3.12,2, -999.000,5, -999.000,5, -999.000,9,-999.0000,9,  -999.00,9,   -999.0,9,   -999.0,9,  -999.00,9,-999.0000,-999.000,  3.4468,-999.000
      325023_1,  P14N,    10,  1,     23,     23,2,19930709,0337, 54.4940,-177.5593, 3794,    662.7,   3.4176,  34.1330,2,  34.1284,2,   -999.0,9,     25.0,2,   123.40,2,    43.58,2,     0.01,2,     3.13,2, -999.000,5, -999.000,5, -999.000,9,-999.0000,9,  -999.00,9,   -999.0,9,   -999.0,9,  -999.00,9,-999.0000,-999.000,  3.3725,-999.000
      325023_1,  P14N,    10,  1,     22,     22,2,19930709,0337, 54.4940,-177.5593, 3794,    712.3,   3.3647,  34.1683,2,  34.1713,2,   -999.0,9,     21.6,2,   126.87,2,    43.80,2,     0.01,2,     3.14,2, -999.000,5, -999.000,5, -999.000,9,-999.0000,9,  -999.00,9,   -999.0,9,   -999.0,9,  -999.00,9,-999.0000,-999.000,  3.3163,-999.000
      325023_1,  P14N,    10,  1,     21,     21,2,19930709,0337, 54.4940,-177.5593, 3794,    812.7,   3.2285,  34.2265,2,  34.2259,2,   -999.0,9,     18.4,2,   133.49,2,    43.83,2,     0.01,2,     3.16,2, -999.000,5, -999.000,5, -999.000,9,-999.0000,9,  -999.00,9,   -999.0,9,   -999.0,9,  -999.00,9,-999.0000,-999.000,  3.1734,-999.000
      325023_1,  P14N,    10,  1,     20,     20,2,19930709,0337, 54.4940,-177.5593, 3794,    911.7,   3.0756,  34.2820,2,  34.2828,2,   -999.0,9,     17.1,2,   140.36,2,    43.91,2,     0.00,2,     3.16,2, -999.000,5, -999.000,5, -999.000,9,-999.0000,9,  -999.00,9,   -999.0,9,   -999.0,9,  -999.00,9,-999.0000,-999.000,  3.0141,-999.000
      325023_1,  P14N,    10,  1,     19,     19,2,19930709,0337, 54.4940,-177.5593, 3794,   1005.2,   2.9243,  34.3284,2,  34.3286,2,   -999.0,9,     17.2,2,   146.75,2,    43.76,2,     0.00,2,     3.16,2, -999.000,5, -999.000,5, -999.000,9,-999.0000,9,  -999.00,9,   -999.0,9,   -999.0,9,  -999.00,9,-999.0000,-999.000,  2.8569,-999.000
      325023_1,  P14N,    10,  1,     18,     18,2,19930709,0337, 54.4940,-177.5593, 3794,   1097.4,   2.8061,  34.3618,2,  34.3605,2,   -999.0,9,     17.9,2,   151.70,2,    43.75,2,     0.00,2,     3.16,2, -999.000,5, -999.000,5, -999.000,9,-999.0000,9,  -999.00,9,   -999.0,9,   -999.0,9,  -999.00,9,-999.0000,-999.000,  2.7326,-999.000
      325023_1,  P14N,    10,  1,     17,     17,2,19930709,0337, 54.4940,-177.5593, 3794,   1184.2,   2.7029,  34.3904,2,  34.3883,2,   -999.0,9,     18.3,2,   156.66,2,    43.83,2,     0.00,2,     3.16,2, -999.000,5, -999.000,5, -999.000,9,-999.0000,9,  -999.00,9,   -999.0,9,   -999.0,9,  -999.00,9,-999.0000,-999.000,  2.6238,-999.000
      325023_1,  P14N,    10,  1,     16,     16,2,19930709,0337, 54.4940,-177.5593, 3794,   1286.3,   2.5784,  34.4219,2,  34.4204,2,   -999.0,9,     19.5,2,   162.61,2,    43.63,2,     0.00,2,     3.15,2, -999.000,5, -999.000,5, -999.000,9,-999.0000,9,  -999.00,9,   -999.0,9,   -999.0,9,  -999.00,9,-999.0000,-999.000,  2.4926,-999.000
      325023_1,  P14N,    10,  1,     15,     15,2,19930709,0337, 54.4940,-177.5593, 3794,   1401.0,   2.4355,  34.4575,2,  34.4541,2,   -999.0,9,     22.6,2,   168.33,2,    43.39,2,     0.00,2,     3.14,2, -999.000,5, -999.000,5, -999.000,9,-999.0000,9,  -999.00,9,   -999.0,9,   -999.0,9,  -999.00,9,-999.0000,-999.000,  2.3423,-999.000
      325023_1,  P14N,    10,  1,     14,     14,2,19930709,0337, 54.4940,-177.5593, 3794,   1514.6,   2.3218,  34.4847,2,  34.4817,2,   -999.0,9,     26.3,2,   173.33,2,    43.10,2,     0.00,2,     3.13,2, -999.000,5, -999.000,5, -999.000,9,-999.0000,9,  -999.00,9,   -999.0,9,   -999.0,9,  -999.00,9,-999.0000,-999.000,  2.2209,-999.000
      325023_1,  P14N,    10,  1,     13,     13,2,19930709,0337, 54.4940,-177.5593, 3794,   1621.6,   2.2152,  34.5101,2,  34.5085,2,   -999.0,9,     30.6,2,   178.09,2,    42.76,2,     0.00,2,     3.12,2, -999.000,5, -999.000,5, -999.000,9,-999.0000,9,  -999.00,9,   -999.0,9,   -999.0,9,  -999.00,9,-999.0000,-999.000,  2.1070,-999.000
      325023_1,  P14N,    10,  1,     12,     12,2,19930709,0337, 54.4940,-177.5593, 3794,   1816.8,   2.0449,  34.5488,2,  34.5460,2,   -999.0,9,     40.2,2,   186.60,2,    42.01,2,     0.00,2,     3.09,2, -999.000,5, -999.000,5, -999.000,9,-999.0000,9,  -999.00,9,   -999.0,9,   -999.0,9,  -999.00,9,-999.0000,-999.000,  1.9232,-999.000
      325023_1,  P14N,    10,  1,     11,     11,2,19930709,0337, 54.4940,-177.5593, 3794,   2022.4,   1.9054,  34.5794,2,  34.5775,2,   -999.0,9,     50.4,2,   194.41,2,    41.17,2,     0.00,2,     3.06,2, -999.000,5, -999.000,5, -999.000,9,-999.0000,9,  -999.00,9,   -999.0,9,   -999.0,9,  -999.00,9,-999.0000,-999.000,  1.7687,-999.000
      325023_1,  P14N,    10,  1,     10,     10,2,19930709,0337, 54.4940,-177.5593, 3794,   2236.7,   1.8012,  34.6033,2,  34.6010,2,   -999.0,9,     60.2,2,   201.26,2,    40.33,2,     0.00,2,     3.03,2, -999.000,5, -999.000,5, -999.000,9,-999.0000,9,  -999.00,9,   -999.0,9,   -999.0,9,  -999.00,9,-999.0000,-999.000,  1.6479,-999.000
      325023_1,  P14N,    10,  1,      9,      9,2,19930709,0337, 54.4940,-177.5593, 3794,   2438.6,   1.7351,  34.6189,2,  34.6151,2,   -999.0,9,     68.3,2,   205.61,2,    39.77,2,     0.00,2,     3.01,2, -999.000,5, -999.000,5, -999.000,9,-999.0000,9,  -999.00,9,   -999.0,9,   -999.0,9,  -999.00,9,-999.0000,-999.000,  1.5654,-999.000
      325023_1,  P14N,    10,  1,      8,      8,2,19930709,0337, 54.4940,-177.5593, 3794,   2644.3,   1.6722,  34.6339,2,  34.6325,2,   -999.0,9,     77.1,2,   208.95,2,    39.07,2,     0.00,2,     2.97,2,    0.000,2,    0.004,2, -999.000,9,-999.0000,9,  -999.00,9,   -999.0,9,   -999.0,9,  -999.00,9,-999.0000,-999.000,  1.4851,-999.000
      325023_1,  P14N,    10,  1,      7,      7,2,19930709,0337, 54.4940,-177.5593, 3794,   2852.5,   1.6326,  34.6441,2,  34.6435,2,   -999.0,9,     83.8,2,   211.54,2,    38.56,2,     0.00,2,     3.02,3,    0.001,2,    0.001,2, -999.000,9,-999.0000,9,  -999.00,9,   -999.0,9,   -999.0,9,  -999.00,9,-999.0000,-999.000,  1.4270,-999.000
      325023_1,  P14N,    10,  1,      6,      6,2,19930709,0337, 54.4940,-177.5593, 3794,   3055.0,   1.6084,  34.6516,2,  34.6507,2,   -999.0,9,     88.9,2,   213.63,2,    38.13,2,     0.00,2,     2.92,2,    0.000,2,    0.001,2, -999.000,9,-999.0000,9,  -999.00,9,   -999.0,9,   -999.0,9,  -999.00,9,-999.0000,-999.000,  1.3841,-999.000
      325023_1,  P14N,    10,  1,      5,      5,2,19930709,0337, 54.4940,-177.5593, 3794,   3258.8,   1.5944,  34.6580,2,  34.6567,2,   -999.0,9,     93.3,2,   214.95,2,    37.80,2,     0.00,2,     2.91,2,   -0.001,2,   -0.001,2, -999.000,9,-999.0000,9,  -999.00,9,   -999.0,9,   -999.0,9,  -999.00,9,-999.0000,-999.000,  1.3504,-999.000
      325023_1,  P14N,    10,  1,      4,      4,2,19930709,0337, 54.4940,-177.5593, 3794,   3461.5,   1.5912,  34.6620,2,  34.6603,2,   -999.0,9,     96.2,2,   216.79,2,    37.52,2,     0.00,2,     2.90,2,   -0.004,2,   -0.001,2, -999.000,9,-999.0000,9,  -999.00,9,   -999.0,9,   -999.0,9,  -999.00,9,-999.0000,-999.000,  1.3268,-999.000
      325023_1,  P14N,    10,  1,      3,      3,2,19930709,0337, 54.4940,-177.5593, 3794,   3719.6,   1.5953,  34.6659,2,  34.6647,2,   -999.0,9,     99.0,2,   222.22,2,    37.51,2,     0.00,2,     2.89,2,    0.006,2,    0.003,2, -999.000,9,-999.0000,9,  -999.00,9,   -999.0,9,   -999.0,9,  -999.00,9,-999.0000,-999.000,  1.3040,-999.000
      325023_1,  P14N,    10,  1,      2,      2,2,19930709,0337, 54.4940,-177.5593, 3794,   3822.8,   1.6040,  34.6674,2,  34.6655,2,   -999.0,9,     99.6,2,   226.64,2,    37.50,2,     0.00,2,     2.88,2,    0.013,2,    0.005,2, -999.000,9,-999.0000,9,  -999.00,9,   -999.0,9,   -999.0,9,  -999.00,9,-999.0000,-999.000,  1.3015,-999.000
      325023_1,  P14N,    10,  1,      1,      1,2,19930709,0337, 54.4940,-177.5593, 3794,   3843.6,   1.6064,  34.6675,2,  34.6670,2,   -999.0,9,     99.5,2,   227.46,2,    37.49,2,     0.00,2,     2.88,2,    0.017,2,    0.008,2, -999.000,9,-999.0000,9,  -999.00,9,   -999.0,9,   -999.0,9,  -999.00,9,-999.0000,-999.000,  1.3016,-999.000