BOTTLE,20131125MIRCJHATS
EXPOCODE,SECT_ID,STNNBR,CASTNO,SAMPNO,BTLNBR,BTLNBR_FLAG_W,DATE,TIME,LATITUDE,LONGITUDE,DEPTH,CTDPRS,CTDTMP,CTDSAL,CTDSAL_FLAG_W,SALNTY,SALNTY_FLAG_W,CTDOXY,CTDOXY_FLAG_W,OXYGEN,OXYGEN_FLAG_W,SILCAT,SILCAT_FLAG_W,NITRAT,NITRAT_FLAG_W,NITRIT,NITRIT_FLAG_W,PHSPHT,PHSPHT_FLAG_W,CFC-11,CFC-11_FLAG_W,CFC-12,CFC-12_FLAG_W,TRITUM,TRITUM_FLAG_W,HELIUM,HELIUM_FLAG_W,DELHE3,DELHE3_FLAG_W,TCARBN,TCARBN_FLAG_W,ALKALI,ALKALI_FLAG_W,PH,PH_FLAG_W,HELIER,DELHER,THETA,TRITER
,,,,,,,,,,,,DBAR,ITS-90,PSS-78,,PSS-78,,UMOL/KG,,UMOL/KG,,UMOL/KG,,UMOL/KG,,UMOL/KG,,UMOL/KG,,PMOL/KG,,PMOL/KG,,TU,,NMOL/KG,,PERCNT,,UMOL/KG,,UMOL/KG,,25_DEG,,NMOL/KG,PERCNT,DEG C,TU
      325024_1,  P14N,   900,  5,     18,     18,2,19930825,2301, -8.6143, 178.9737, 3216,      2.5,  29.1772,  34.2485,2,  34.2551,2,   -999.0,9,    195.4,2,     2.28,2,     0.00,2,     0.00,2,     0.17,2,    1.594,2,    0.901,2, -999.000,9,-999.0000,9,  -999.00,9,   -999.0,9,   -999.0,9,  -999.00,9,-999.0000,-999.000, 29.1766,-999.000
      325024_1,  P14N,   900,  5,     17,     17,2,19930825,2301, -8.6143, 178.9737, 3216,     34.9,  29.1257,  34.3154,2,  34.3249,2,   -999.0,9,    196.0,2,     2.04,2,     0.00,2,     0.00,2,     0.16,2,    1.593,2,    0.884,2, -999.000,9,-999.0000,9,  -999.00,9,   -999.0,9,   -999.0,9,  -999.00,9,-999.0000,-999.000, 29.1173,-999.000
      325024_1,  P14N,   900,  5,     16,     16,2,19930825,2301, -8.6143, 178.9737, 3216,     64.9,  29.2517,  34.7845,2,  34.8951,2,   -999.0,9,    197.4,2,     1.81,2,     0.02,2,     0.02,2,     0.23,2,    1.602,2,    0.895,2, -999.000,9,-999.0000,9,  -999.00,9,   -999.0,9,   -999.0,9,  -999.00,9,-999.0000,-999.000, 29.2359,-999.000
      325024_1,  P14N,   900,  5,     15,     15,2,19930825,2301, -8.6143, 178.9737, 3216,     95.1,  27.4961,  35.7149,2,  35.7215,2,   -999.0,9,    160.2,2,     2.19,2,     3.79,2,     0.36,2,     0.55,2,    1.625,2,    0.873,2, -999.000,9,-999.0000,9,  -999.00,9,   -999.0,9,   -999.0,9,  -999.00,9,-999.0000,-999.000, 27.4739,-999.000
      325024_1,  P14N,   900,  5,     14,     14,2,19930825,2301, -8.6143, 178.9737, 3216,    124.8,  26.1006,  36.0420,2,  36.0541,2,   -999.0,9,    141.6,2,     2.16,2,     5.99,2,     0.98,2,     0.71,2,    1.715,2,    0.918,2, -999.000,9,-999.0000,9,  -999.00,9,   2277.0,2,   2345.0,2,     7.50,2,-999.0000,-999.000, 26.0726,-999.000
      325024_1,  P14N,   900,  5,     13,     13,2,19930825,2301, -8.6143, 178.9737, 3216,    155.0,  23.4669,  36.0900,2,  36.0928,2,   -999.0,9,    138.2,2,     2.13,2,     7.68,2,     0.12,2,     0.77,2,    1.749,2,    0.924,2, -999.000,9,-999.0000,9,  -999.00,9,   -999.0,9,   -999.0,9,  -999.00,9,-999.0000,-999.000, 23.4346,-999.000
      325024_1,  P14N,   900,  5,     12,     12,2,19930825,2301, -8.6143, 178.9737, 3216,    205.8,  18.5154,  35.6003,2,  35.6018,2,   -999.0,9,    124.6,2,     5.00,2,    11.86,2,     0.01,2,     1.05,2,    1.489,2,    0.766,2, -999.000,9,-999.0000,9,  -999.00,9,   -999.0,9,   -999.0,9,  -999.00,9,-999.0000,-999.000, 18.4792,-999.000
      325024_1,  P14N,   900,  5,     11,     11,2,19930825,2301, -8.6143, 178.9737, 3216,    305.7,  11.7638,  34.8657,2,  34.8642,2,   -999.0,9,     82.6,2,    17.79,2,    25.08,2,     0.01,2,     1.91,2,    0.425,2,    0.216,2, -999.000,9,-999.0000,9,  -999.00,9,   -999.0,9,   -999.0,9,  -999.00,9,-999.0000,-999.000, 11.7243,-999.000
      325024_1,  P14N,   900,  5,     10,     10,2,19930825,2301, -8.6143, 178.9737, 3216,    405.1,   9.4695,  34.7005,2,  34.6997,2,   -999.0,9,     99.0,2,    24.57,2,    28.83,2,     0.00,2,     2.05,2,    0.164,2,    0.081,2, -999.000,9,-999.0000,9,  -999.00,9,   -999.0,9,   -999.0,9,  -999.00,9,-999.0000,-999.000,  9.4237,-999.000
      325024_1,  P14N,   900,  5,      9,      9,2,19930825,2301, -8.6143, 178.9737, 3216,    504.4,   7.6660,  34.5901,2,  34.5908,2,   -999.0,9,    106.5,2,    33.21,2,    32.20,2,     0.00,2,     2.24,2, -999.000,5, -999.000,5, -999.000,9,-999.0000,9,  -999.00,9,   -999.0,9,   -999.0,9,  -999.00,9,-999.0000,-999.000,  7.6155,-999.000
      325024_1,  P14N,   900,  5,      8,      8,2,19930825,2301, -8.6143, 178.9737, 3216,    604.6,   6.5633,  34.5421,2,  34.5439,2,   -999.0,9,    107.9,2,    42.04,2,    34.62,2,     0.01,2,     2.40,2,    0.016,2,    0.006,2, -999.000,9,-999.0000,9,  -999.00,9,   2312.0,2,   2383.0,2,     7.51,2,-999.0000,-999.000,  6.5074,-999.000
      325024_1,  P14N,   900,  5,      7,      7,3,19930825,2301, -8.6143, 178.9737, 3216,    806.2,   5.2869,  34.5176,2,  34.5760,4,   -999.0,9,    109.3,4,    54.39,4,    35.19,4,     0.00,4,     2.47,4, -999.000,5, -999.000,5, -999.000,9,-999.0000,9,  -999.00,9,   -999.0,9,   -999.0,9,  -999.00,9,-999.0000,-999.000,  5.2191,-999.000
      325024_1,  P14N,   900,  5,      6,      6,2,19930825,2301, -8.6143, 178.9737, 3216,   1005.7,   4.3331,  34.5320,2,  34.5335,2,   -999.0,9,    116.6,2,    75.66,2,    36.95,2,     0.00,2,     2.59,2,    0.010,4,    0.004,2, -999.000,9,-999.0000,9,  -999.00,9,   -999.0,9,   -999.0,9,  -999.00,9,-999.0000,-999.000,  4.2543,-999.000
      325024_1,  P14N,   900,  5,      5,      5,2,19930825,2301, -8.6143, 178.9737, 3216,   1508.9,   2.8269,  34.5953,2,  34.5966,2,   -999.0,9,    127.0,2,   108.97,2,    37.08,2,     0.00,2,     2.60,2, -999.000,5, -999.000,5, -999.000,9,-999.0000,9,  -999.00,9,   -999.0,9,   -999.0,9,  -999.00,9,-999.0000,-999.000,  2.7203,-999.000
      325024_1,  P14N,   900,  5,      4,      4,2,19930825,2301, -8.6143, 178.9737, 3216,   2012.6,   2.1897,  34.6361,2,  34.6370,2,   -999.0,9,    131.9,2,   126.41,2,    37.03,2,     0.00,2,     2.59,2, -999.000,5, -999.000,5, -999.000,9,-999.0000,9,  -999.00,9,   -999.0,9,   -999.0,9,  -999.00,9,-999.0000,-999.000,  2.0493,-999.000
      325024_1,  P14N,   900,  5,      3,      3,2,19930825,2301, -8.6143, 178.9737, 3216,   2514.7,   1.8136,  34.6605,2,  34.6629,2,   -999.0,9,    138.6,2,   135.26,2,    36.46,2,     0.00,2,     2.54,2, -999.000,5, -999.000,5, -999.000,9,-999.0000,9,  -999.00,9,   2324.0,2,   2401.0,2,     7.52,2,-999.0000,-999.000,  1.6354,-999.000
      325024_1,  P14N,   900,  5,      2,      2,2,19930825,2301, -8.6143, 178.9737, 3216,   3023.7,   1.6598,  34.6708,2,  34.6731,2,   -999.0,9,    146.3,2,   139.00,2,    36.11,2,     0.00,2,     2.52,2, -999.000,5, -999.000,5, -999.000,9,-999.0000,9,  -999.00,9,   -999.0,9,   -999.0,9,  -999.00,9,-999.0000,-999.000,  1.4372,-999.000
      325024_1,  P14N,   900,  5,      1,      1,2,19930825,2301, -8.6143, 178.9737, 3216,   3281.4,   1.6302,  34.6746,2,  34.6758,2,   -999.0,9,    149.7,2,   140.60,2,    36.02,2,     0.00,2,     2.53,2, -999.000,5, -999.000,5, -999.000,9,-999.0000,9,  -999.00,9,   -999.0,9,   -999.0,9,  -999.00,9,-999.0000,-999.000,  1.3830,-999.000
      325024_1,  P14N,   900,  6,     18,     18,2,19930826,0302, -8.6100, 178.9728, 3204,      0.9,  29.2888,  34.2524,2,  34.2589,2,   -999.0,9,    195.7,2,     2.17,2,     0.03,2,     0.00,2,     0.18,2,    1.597,2,    0.873,2, -999.000,9,-999.0000,9,  -999.00,9,   -999.0,9,   -999.0,9,  -999.00,9,-999.0000,-999.000, 29.2886,-999.000
      325024_1,  P14N,   900,  6,     17,     17,2,19930826,0302, -8.6100, 178.9728, 3204,     34.3,  29.0907,  34.2923,2,  34.3114,2,   -999.0,9,    196.1,2,     2.13,2,     0.03,2,     0.00,2,     0.18,2,    1.601,2,    0.845,2, -999.000,9,-999.0000,9,  -999.00,9,   -999.0,9,   -999.0,9,  -999.00,9,-999.0000,-999.000, 29.0824,-999.000
      325024_1,  P14N,   900,  6,     16,     16,2,19930826,0302, -8.6100, 178.9728, 3204,     64.3,  28.3973,  35.5121,2,  35.4985,2,   -999.0,9,    177.3,2,     2.30,2,     2.56,2,     0.39,2,     0.48,2,    1.612,2,    0.866,2, -999.000,9,-999.0000,9,  -999.00,9,   -999.0,9,   -999.0,9,  -999.00,9,-999.0000,-999.000, 28.3819,-999.000
      325024_1,  P14N,   900,  6,     15,     15,2,19930826,0302, -8.6100, 178.9728, 3204,     94.0,  26.5022,  35.9213,2,  35.9304,2,   -999.0,9,    141.0,2,     2.47,2,     6.13,2,     0.85,2,     0.73,2,    1.637,2,    0.862,2, -999.000,9,-999.0000,9,  -999.00,9,   -999.0,9,   -999.0,9,  -999.00,9,-999.0000,-999.000, 26.4809,-999.000
      325024_1,  P14N,   900,  6,     14,     14,2,19930826,0302, -8.6100, 178.9728, 3204,    124.3,  24.2173,  36.1118,2,  36.1157,2,   -999.0,9,    139.4,2,     2.22,2,     7.27,2,     0.28,2,     0.76,2,    1.743,2,    0.918,2, -999.000,9,-999.0000,9,  -999.00,9,   -999.0,9,   -999.0,9,  -999.00,9,-999.0000,-999.000, 24.1909,-999.000
      325024_1,  P14N,   900,  6,     13,     13,2,19930826,0302, -8.6100, 178.9728, 3204,    154.0,  21.9314,  35.9906,2,  35.9797,2,   -999.0,9,    137.6,2,     2.38,2,     8.43,2,     0.02,2,     0.83,2,    1.735,2,    0.899,2, -999.000,9,-999.0000,9,  -999.00,9,   2333.0,2,   2413.0,2,     7.54,2,-999.0000,-999.000, 21.9008,-999.000
      325024_1,  P14N,   900,  6,     12,     12,2,19930826,0302, -8.6100, 178.9728, 3204,    204.7,  17.5850,  35.4739,2,  35.5010,4,   -999.0,9,    119.1,2,     5.88,2,    13.10,2,     0.01,2,     1.15,2, -999.000,5, -999.000,5, -999.000,9,-999.0000,9,  -999.00,9,   -999.0,9,   -999.0,9,  -999.00,9,-999.0000,-999.000, 17.5503,-999.000
      325024_1,  P14N,   900,  6,     11,     11,2,19930826,0302, -8.6100, 178.9728, 3204,    304.8,  11.7329,  34.8604,2,  34.8650,2,   -999.0,9,     82.9,2,    17.68,2,    25.06,2,     0.00,2,     1.90,2, -999.000,5, -999.000,5, -999.000,9,-999.0000,9,  -999.00,9,   -999.0,9,   -999.0,9,  -999.00,9,-999.0000,-999.000, 11.6936,-999.000
      325024_1,  P14N,   900,  6,     10,     10,2,19930826,0302, -8.6100, 178.9728, 3204,    405.5,   9.1816,  34.6807,2,  34.6809,2,   -999.0,9,     98.7,2,    25.95,2,    29.50,2,     0.00,2,     2.09,2, -999.000,5, -999.000,5, -999.000,9,-999.0000,9,  -999.00,9,   -999.0,9,   -999.0,9,  -999.00,9,-999.0000,-999.000,  9.1366,-999.000
      325024_1,  P14N,   900,  6,      9,      9,2,19930826,0302, -8.6100, 178.9728, 3204,    505.2,   7.5680,  34.5787,2,  34.5854,2,   -999.0,9,    107.8,2,    34.02,2,    32.22,2,     0.00,2,     2.24,2, -999.000,5, -999.000,5, -999.000,9,-999.0000,9,  -999.00,9,   -999.0,9,   -999.0,9,  -999.00,9,-999.0000,-999.000,  7.5178,-999.000
      325024_1,  P14N,   900,  6,      8,      8,2,19930826,0302, -8.6100, 178.9728, 3204,    605.4,   6.3327,  34.5319,2,  34.5350,2,   -999.0,9,    109.4,2,    44.16,2,    34.59,2,     0.00,2,     2.40,2, -999.000,5, -999.000,5, -999.000,9,-999.0000,9,  -999.00,9,   2323.0,2,   2415.0,2,     7.54,2,-999.0000,-999.000,  6.2778,-999.000
      325024_1,  P14N,   900,  6,      7,      7,2,19930826,0302, -8.6100, 178.9728, 3204,    805.7,   5.2086,  34.5204,2,  34.5211,2,   -999.0,9,    109.0,2,    61.19,2,    36.73,2,     0.00,2,     2.55,2, -999.000,5, -999.000,5, -999.000,9,-999.0000,9,  -999.00,9,   -999.0,9,   -999.0,9,  -999.00,9,-999.0000,-999.000,  5.1413,-999.000
      325024_1,  P14N,   900,  6,      6,      6,2,19930826,0302, -8.6100, 178.9728, 3204,   1006.3,   4.2693,  34.5333,2,  34.5342,2,   -999.0,9,    117.3,2,    77.43,2,    36.83,2,     0.00,2,     2.59,2, -999.000,5, -999.000,5, -999.000,9,-999.0000,9,  -999.00,9,   2320.0,2,   2412.0,2,     7.56,2,-999.0000,-999.000,  4.1910,-999.000
      325024_1,  P14N,   900,  6,      5,      5,2,19930826,0302, -8.6100, 178.9728, 3204,   1509.6,   2.7743,  34.5983,2,  34.5991,2,   -999.0,9,    127.5,2,   111.06,2,    36.97,2,     0.00,2,     2.60,2, -999.000,5, -999.000,5, -999.000,9,-999.0000,9,  -999.00,9,   -999.0,9,   -999.0,9,  -999.00,9,-999.0000,-999.000,  2.6682,-999.000
      325024_1,  P14N,   900,  6,      4,      4,2,19930826,0302, -8.6100, 178.9728, 3204,   2014.0,   2.1687,  34.6361,2,  34.6387,2,   -999.0,9,    133.4,2,   127.21,2,    36.84,2,     0.00,2,     2.57,2, -999.000,5, -999.000,5, -999.000,9,-999.0000,9,  -999.00,9,   -999.0,9,   -999.0,9,  -999.00,9,-999.0000,-999.000,  2.0285,-999.000
      325024_1,  P14N,   900,  6,      3,      3,2,19930826,0302, -8.6100, 178.9728, 3204,   2520.2,   1.7830,  34.6619,2,  34.6637,2,   -999.0,9,    139.3,2,   138.34,2,    36.50,2,     0.00,2,     2.54,2, -999.000,5, -999.000,5, -999.000,9,-999.0000,9,  -999.00,9,   -999.0,9,   -999.0,9,  -999.00,9,-999.0000,-999.000,  1.6049,-999.000
      325024_1,  P14N,   900,  6,      2,      2,2,19930826,0302, -8.6100, 178.9728, 3204,   3026.7,   1.6449,  34.6718,2,  34.6737,2,   -999.0,9,    147.1,2,   139.58,2,    35.98,2,     0.00,2,     2.51,2, -999.000,5, -999.000,5, -999.000,9,-999.0000,9,  -999.00,9,   -999.0,9,   -999.0,9,  -999.00,9,-999.0000,-999.000,  1.4224,-999.000
      325024_1,  P14N,   900,  6,      1,      1,2,19930826,0302, -8.6100, 178.9728, 3204,   3315.1,   1.5956,  34.6764,2,  34.6778,2,   -999.0,9,    151.3,2,   139.96,2,    35.54,2,     0.00,2,     2.48,2, -999.000,5, -999.000,5, -999.000,9,-999.0000,9,  -999.00,9,   -999.0,9,   -999.0,9,  -999.00,9,-999.0000,-999.000,  1.3459,-999.000