BOTTLE,20131125MIRCJHATS
EXPOCODE,SECT_ID,STNNBR,CASTNO,SAMPNO,BTLNBR,BTLNBR_FLAG_W,DATE,TIME,LATITUDE,LONGITUDE,DEPTH,CTDPRS,CTDTMP,CTDSAL,CTDSAL_FLAG_W,SALNTY,SALNTY_FLAG_W,CTDOXY,CTDOXY_FLAG_W,OXYGEN,OXYGEN_FLAG_W,SILCAT,SILCAT_FLAG_W,NITRAT,NITRAT_FLAG_W,NITRIT,NITRIT_FLAG_W,PHSPHT,PHSPHT_FLAG_W,CFC-11,CFC-11_FLAG_W,CFC-12,CFC-12_FLAG_W,TRITUM,TRITUM_FLAG_W,HELIUM,HELIUM_FLAG_W,DELHE3,DELHE3_FLAG_W,TCARBN,TCARBN_FLAG_W,ALKALI,ALKALI_FLAG_W,PH,PH_FLAG_W,HELIER,DELHER,THETA,TRITER
,,,,,,,,,,,,DBAR,ITS-90,PSS-78,,PSS-78,,UMOL/KG,,UMOL/KG,,UMOL/KG,,UMOL/KG,,UMOL/KG,,UMOL/KG,,PMOL/KG,,PMOL/KG,,TU,,NMOL/KG,,PERCNT,,UMOL/KG,,UMOL/KG,,25_DEG,,NMOL/KG,PERCNT,DEG C,TU
      325023_1,  P14N,    53,  1,     36,     36,2,19930720,2333, 35.9965, 178.9997, 4487,      2.7,  21.5799,  34.4636,2,  34.4671,2,   -999.0,9,    226.2,2,     2.88,2,     0.03,2,     0.00,2,     0.08,2,    2.333,2,    1.231,2, -999.000,9,-999.0000,9,  -999.00,9,   -999.0,9,   -999.0,9,  -999.00,9,-999.0000,-999.000, 21.5794,-999.000
      325023_1,  P14N,    53,  1,     35,     35,2,19930720,2333, 35.9965, 178.9997, 4487,      3.2,  21.5765,  34.4638,2,  34.4675,2,   -999.0,9,    226.4,2,     2.66,2,     0.03,2,     0.00,2,     0.08,2, -999.000,5, -999.000,5, -999.000,9,-999.0000,9,  -999.00,9,   -999.0,9,   -999.0,9,  -999.00,9,-999.0000,-999.000, 21.5759,-999.000
      325023_1,  P14N,    53,  1,     34,     34,2,19930720,2333, 35.9965, 178.9997, 4487,     39.3,  16.7403,  34.4616,2,  34.4707,2,   -999.0,9,    267.9,2,     2.62,2,     0.03,2,     0.00,2,     0.12,2,    3.057,2,    1.562,2, -999.000,9,-999.0000,9,  -999.00,9,   -999.0,9,   -999.0,9,  -999.00,9,-999.0000,-999.000, 16.7339,-999.000
      325023_1,  P14N,    53,  1,     33,     33,2,19930720,2333, 35.9965, 178.9997, 4487,     68.9,  14.7933,  34.4709,2,  34.4744,2,   -999.0,9,    252.1,2,     4.26,2,     2.70,2,     0.35,2,     0.35,2,    3.270,2,    1.665,2, -999.000,9,-999.0000,9,  -999.00,9,   -999.0,9,   -999.0,9,  -999.00,9,-999.0000,-999.000, 14.7831,-999.000
      325023_1,  P14N,    53,  1,     32,     32,2,19930720,2333, 35.9965, 178.9997, 4487,     99.6,  13.9761,  34.5063,2,  34.5049,2,   -999.0,9,    220.6,2,     8.16,2,     8.04,2,     0.08,2,     0.61,2,    2.749,2,    1.407,2, -999.000,9,-999.0000,9,  -999.00,9,   -999.0,9,   -999.0,9,  -999.00,9,-999.0000,-999.000, 13.9619,-999.000
      325023_1,  P14N,    53,  1,     31,     31,2,19930720,2333, 35.9965, 178.9997, 4487,    129.7,  13.2151,  34.4549,2,  34.4535,2,   -999.0,9,    227.3,2,     9.43,2,     8.36,2,     0.01,2,     0.64,2,    2.930,2,    1.457,2, -999.000,9,-999.0000,9,  -999.00,9,   -999.0,9,   -999.0,9,  -999.00,9,-999.0000,-999.000, 13.1972,-999.000
      325023_1,  P14N,    53,  1,     30,     30,2,19930720,2333, 35.9965, 178.9997, 4487,    159.7,  12.8577,  34.4347,2,  34.4317,2,   -999.0,9,    226.2,2,    10.14,2,     9.02,2,     0.01,2,     0.69,2, -999.000,5, -999.000,5, -999.000,9,-999.0000,9,  -999.00,9,   -999.0,9,   -999.0,9,  -999.00,9,-999.0000,-999.000, 12.8360,-999.000
      325023_1,  P14N,    53,  1,     29,     29,2,19930720,2333, 35.9965, 178.9997, 4487,    209.8,  12.2573,  34.3890,2,  34.3896,2,   -999.0,9,    243.4,2,     9.35,2,     8.19,2,     0.01,2,     0.64,2,    3.255,3,    1.638,2, -999.000,9,-999.0000,9,  -999.00,9,   -999.0,9,   -999.0,9,  -999.00,9,-999.0000,-999.000, 12.2298,-999.000
      325023_1,  P14N,    53,  1,     28,     28,2,19930720,2333, 35.9965, 178.9997, 4487,    260.3,  11.7567,  34.3547,2,  34.3523,2,   -999.0,9,    236.9,2,    11.38,2,     9.85,2,     0.01,2,     0.75,2,    3.160,2,    1.554,2, -999.000,9,-999.0000,9,  -999.00,9,   -999.0,9,   -999.0,9,  -999.00,9,-999.0000,-999.000, 11.7233,-999.000
      325023_1,  P14N,    53,  1,     27,     27,2,19930720,2333, 35.9965, 178.9997, 4487,    310.6,  11.0043,  34.2964,2,  34.2958,2,   -999.0,9,    230.7,2,    14.52,2,    11.98,2,     0.01,2,     0.89,2,    3.160,2,    1.584,2, -999.000,9,-999.0000,9,  -999.00,9,   -999.0,9,   -999.0,9,  -999.00,9,-999.0000,-999.000, 10.9661,-999.000
      325023_1,  P14N,    53,  1,     26,     26,2,19930720,2333, 35.9965, 178.9997, 4487,    411.2,   8.9412,  34.1454,2,  34.1376,2,   -999.0,9,    194.2,2,    30.03,2,    19.41,2,     0.01,2,     1.43,2,    2.521,2,    1.179,2, -999.000,9,-999.0000,9,  -999.00,9,   -999.0,9,   -999.0,9,  -999.00,9,-999.0000,-999.000,  8.8967,-999.000
      325023_1,  P14N,    53,  1,     25,     25,2,19930720,2333, 35.9965, 178.9997, 4487,    511.8,   7.1322,  34.0445,2,  34.0446,2,   -999.0,9,    165.9,2,    45.37,2,    25.13,2,     0.01,2,     1.84,2,    2.083,6,    0.961,6, -999.000,9,-999.0000,9,  -999.00,9,   -999.0,9,   -999.0,9,  -999.00,9,-999.0000,-999.000,  7.0834,-999.000
      325023_1,  P14N,    53,  1,     24,     24,2,19930720,2333, 35.9965, 178.9997, 4487,    612.9,   5.6034,  34.0168,2,  34.0185,2,   -999.0,9,    127.1,2,    65.82,2,    31.31,2,     0.01,2,     2.29,2,    1.530,2,    0.668,2, -999.000,9,-999.0000,9,  -999.00,9,   -999.0,9,   -999.0,9,  -999.00,9,-999.0000,-999.000,  5.5517,-999.000
      325023_1,  P14N,    53,  1,     23,     23,2,19930720,2333, 35.9965, 178.9997, 4487,    714.0,   4.7582,  34.0740,2,  34.0760,2,   -999.0,9,     91.0,2,    84.30,2,    35.73,2,     0.01,2,     2.60,2,    0.968,2,    0.430,2, -999.000,9,-999.0000,9,  -999.00,9,   -999.0,9,   -999.0,9,  -999.00,9,-999.0000,-999.000,  4.7020,-999.000
      325023_1,  P14N,    53,  1,     22,     22,2,19930720,2333, 35.9965, 178.9997, 4487,    813.9,   4.2403,  34.1652,2,  34.1659,2,   -999.0,9,     62.4,2,   101.22,2,    38.81,2,     0.00,2,     2.81,2,    0.500,2,    0.221,2, -999.000,9,-999.0000,9,  -999.00,9,   -999.0,9,   -999.0,9,  -999.00,9,-999.0000,-999.000,  4.1788,-999.000
      325023_1,  P14N,    53,  1,     21,     21,2,19930720,2333, 35.9965, 178.9997, 4487,    912.6,   3.8424,  34.2410,2,  34.2399,2,   -999.0,9,     44.7,2,   113.87,2,    40.70,2,     0.00,2,     2.94,2, -999.000,5, -999.000,5, -999.000,9,-999.0000,9,  -999.00,9,   -999.0,9,   -999.0,9,  -999.00,9,-999.0000,-999.000,  3.7754,-999.000
      325023_1,  P14N,    53,  1,     20,     20,2,19930720,2333, 35.9965, 178.9997, 4487,   1010.0,   3.5567,  34.2940,2,  34.2929,2,   -999.0,9,     36.5,2,   122.95,2,    41.62,2,     0.00,2,     2.99,2,    0.131,2,    0.043,2, -999.000,9,-999.0000,9,  -999.00,9,   -999.0,9,   -999.0,9,  -999.00,9,-999.0000,-999.000,  3.4840,-999.000
      325023_1,  P14N,    53,  1,     19,     19,2,19930720,2333, 35.9965, 178.9997, 4487,   1211.0,   2.9972,  34.3989,2,  34.3987,2,   -999.0,9,     26.3,2,   140.82,2,    42.94,2,     0.00,2,     3.09,2,    0.030,2,    0.004,2, -999.000,9,-999.0000,9,  -999.00,9,   -999.0,9,   -999.0,9,  -999.00,9,-999.0000,-999.000,  2.9133,-999.000
      325023_1,  P14N,    53,  1,     18,     18,2,19930720,2333, 35.9965, 178.9997, 4487,   1420.1,   2.6178,  34.4720,2,  34.4717,2,   -999.0,9,     28.2,2,   152.78,2,    43.18,2,     0.00,2,     3.08,2,    0.035,4,    0.003,4, -999.000,9,-999.0000,9,  -999.00,9,   -999.0,9,   -999.0,9,  -999.00,9,-999.0000,-999.000,  2.5210,-999.000
      325023_1,  P14N,    53,  1,     17,     17,2,19930720,2333, 35.9965, 178.9997, 4487,   1623.9,   2.3360,  34.5220,2,  34.5221,2,   -999.0,9,     39.9,2,   160.24,2,    42.56,2,     0.00,2,     3.02,2,    0.020,2,    0.000,2, -999.000,9,-999.0000,9,  -999.00,9,   -999.0,9,   -999.0,9,  -999.00,9,-999.0000,-999.000,  2.2261,-999.000
      325023_1,  P14N,    53,  1,     16,     16,2,19930720,2333, 35.9965, 178.9997, 4487,   1828.4,   2.1311,  34.5592,2,  34.5591,2,   -999.0,9,     51.7,2,   164.88,2,    41.99,2,     0.00,2,     2.97,2, -999.000,5, -999.000,5, -999.000,9,-999.0000,9,  -999.00,9,   -999.0,9,   -999.0,9,  -999.00,9,-999.0000,-999.000,  2.0072,-999.000
      325023_1,  P14N,    53,  1,     15,     15,2,19930720,2333, 35.9965, 178.9997, 4487,   2031.1,   1.9683,  34.5893,2,  34.5890,2,   -999.0,9,     66.2,2,   166.26,2,    41.06,2,     0.00,2,     2.91,2, -999.000,5, -999.000,5, -999.000,9,-999.0000,9,  -999.00,9,   -999.0,9,   -999.0,9,  -999.00,9,-999.0000,-999.000,  1.8299,-999.000
      325023_1,  P14N,    53,  1,     14,     14,2,19930720,2333, 35.9965, 178.9997, 4487,   2234.5,   1.8200,  34.6123,2,  34.6123,2,   -999.0,9,     80.8,2,   167.01,2,    40.09,2,     0.00,2,     2.84,2,   -0.001,2,    0.000,2, -999.000,9,-999.0000,9,  -999.00,9,   -999.0,9,   -999.0,9,  -999.00,9,-999.0000,-999.000,  1.6666,-999.000
      325023_1,  P14N,    53,  1,     13,     13,2,19930720,2333, 35.9965, 178.9997, 4487,   2434.6,   1.7123,  34.6303,2,  34.6301,2,   -999.0,9,     92.1,2,   168.18,2,    39.43,2,     0.00,2,     2.79,2, -999.000,5, -999.000,5, -999.000,9,-999.0000,9,  -999.00,9,   -999.0,9,   -999.0,9,  -999.00,9,-999.0000,-999.000,  1.5433,-999.000
      325023_1,  P14N,    53,  1,     12,     12,2,19930720,2333, 35.9965, 178.9997, 4487,   2638.8,   1.6354,  34.6432,2,  34.6440,2,   -999.0,9,    103.3,2,   166.67,2,    38.73,2,     0.00,2,     2.74,2, -999.000,5, -999.000,5, -999.000,9,-999.0000,9,  -999.00,9,   -999.0,9,   -999.0,9,  -999.00,9,-999.0000,-999.000,  1.4495,-999.000
      325023_1,  P14N,    53,  1,     11,     11,2,19930720,2333, 35.9965, 178.9997, 4487,   2847.5,   1.5718,  34.6544,2,  34.6542,2,   -999.0,9,    114.1,2,   164.95,2,    38.03,2,     0.00,2,     2.68,2,    0.001,2,   -0.003,3, -999.000,9,-999.0000,9,  -999.00,9,   -999.0,9,   -999.0,9,  -999.00,9,-999.0000,-999.000,  1.3680,-999.000
      325023_1,  P14N,    53,  1,     10,     10,2,19930720,2333, 35.9965, 178.9997, 4487,   3046.8,   1.5255,  34.6624,2,  34.6622,2,   -999.0,9,    123.9,2,   162.42,2,    37.42,2,     0.00,2,     2.63,2, -999.000,5, -999.000,5, -999.000,9,-999.0000,9,  -999.00,9,   -999.0,9,   -999.0,9,  -999.00,9,-999.0000,-999.000,  1.3037,-999.000
      325023_1,  P14N,    53,  1,      9,      9,2,19930720,2333, 35.9965, 178.9997, 4487,   3256.5,   1.4804,  34.6702,2,  34.6696,2,   -999.0,9,    133.8,2,   160.10,2,    36.77,2,     0.00,2,     2.57,2, -999.000,5, -999.000,5, -999.000,9,-999.0000,9,  -999.00,9,   -999.0,9,   -999.0,9,  -999.00,9,-999.0000,-999.000,  1.2392,-999.000
      325023_1,  P14N,    53,  1,      8,      8,2,19930720,2333, 35.9965, 178.9997, 4487,   3462.5,   1.4599,  34.6746,2,  34.6748,2,   -999.0,9,    139.8,2,   157.79,2,    36.38,2,     0.00,2,     2.55,2,   -0.007,2,    0.002,2, -999.000,9,-999.0000,9,  -999.00,9,   -999.0,9,   -999.0,9,  -999.00,9,-999.0000,-999.000,  1.1986,-999.000
      325023_1,  P14N,    53,  1,      7,      7,2,19930720,2333, 35.9965, 178.9997, 4487,   3662.5,   1.4473,  34.6790,2,  34.6785,2,   -999.0,9,    144.3,2,   156.51,2,    36.09,2,     0.00,2,     2.52,2, -999.000,5, -999.000,5, -999.000,9,-999.0000,9,  -999.00,9,   -999.0,9,   -999.0,9,  -999.00,9,-999.0000,-999.000,  1.1658,-999.000
      325023_1,  P14N,    53,  1,      6,      6,2,19930720,2333, 35.9965, 178.9997, 4487,   3858.7,   1.4411,  34.6822,2,  34.6814,2,   -999.0,9,    148.0,2,   155.83,2,    35.88,2,     0.00,2,     2.50,2, -999.000,5, -999.000,5, -999.000,9,-999.0000,9,  -999.00,9,   -999.0,9,   -999.0,9,  -999.00,9,-999.0000,-999.000,  1.1391,-999.000
      325023_1,  P14N,    53,  1,      5,      5,2,19930720,2333, 35.9965, 178.9997, 4487,   4062.4,   1.4450,  34.6842,2,  34.6837,2,   -999.0,9,    150.5,2,   155.57,2,    35.76,2,     0.00,2,     2.48,2,   -0.002,2,    0.005,2, -999.000,9,-999.0000,9,  -999.00,9,   -999.0,9,   -999.0,9,  -999.00,9,-999.0000,-999.000,  1.1209,-999.000
      325023_1,  P14N,    53,  1,      4,      4,2,19930720,2333, 35.9965, 178.9997, 4487,   4271.4,   1.4562,  34.6858,2,  34.6846,2,   -999.0,9,    151.9,2,   156.52,2,    35.55,2,     0.00,2,     2.48,2, -999.000,5, -999.000,5, -999.000,9,-999.0000,9,  -999.00,9,   -999.0,9,   -999.0,9,  -999.00,9,-999.0000,-999.000,  1.1086,-999.000
      325023_1,  P14N,    53,  1,      3,      3,2,19930720,2333, 35.9965, 178.9997, 4487,   4477.2,   1.4698,  34.6871,2,  34.6862,2,   -999.0,9,    153.0,2,   156.45,2,    35.57,2,     0.00,2,     2.48,2, -999.000,5, -999.000,5, -999.000,9,-999.0000,9,  -999.00,9,   -999.0,9,   -999.0,9,  -999.00,9,-999.0000,-999.000,  1.0984,-999.000
      325023_1,  P14N,    53,  1,      1,      1,2,19930720,2333, 35.9965, 178.9997, 4487,   4560.1,   1.4765,  34.6877,2,  34.6874,2,   -999.0,9,    153.4,2,   157.13,2,    35.55,2,     0.00,2,     2.45,2,   -0.002,2,    0.000,2, -999.000,9,-999.0000,9,  -999.00,9,   -999.0,9,   -999.0,9,  -999.00,9,-999.0000,-999.000,  1.0953,-999.000
      325023_1,  P14N,    53,  1,      2,      2,2,19930720,2333, 35.9965, 178.9997, 4487,   4560.3,   1.4766,  34.6874,2,  34.6867,2,   -999.0,9,    153.8,2,   156.59,2,    35.54,2,     0.00,2,     2.45,2, -999.000,5, -999.000,5, -999.000,9,-999.0000,9,  -999.00,9,   -999.0,9,   -999.0,9,  -999.00,9,-999.0000,-999.000,  1.0954,-999.000