BOTTLE,20131125MIRCJHATS
EXPOCODE,SECT_ID,STNNBR,CASTNO,SAMPNO,BTLNBR,BTLNBR_FLAG_W,DATE,TIME,LATITUDE,LONGITUDE,DEPTH,CTDPRS,CTDTMP,CTDSAL,CTDSAL_FLAG_W,SALNTY,SALNTY_FLAG_W,CTDOXY,CTDOXY_FLAG_W,OXYGEN,OXYGEN_FLAG_W,SILCAT,SILCAT_FLAG_W,NITRAT,NITRAT_FLAG_W,NITRIT,NITRIT_FLAG_W,PHSPHT,PHSPHT_FLAG_W,CFC-11,CFC-11_FLAG_W,CFC-12,CFC-12_FLAG_W,TRITUM,TRITUM_FLAG_W,HELIUM,HELIUM_FLAG_W,DELHE3,DELHE3_FLAG_W,TCARBN,TCARBN_FLAG_W,ALKALI,ALKALI_FLAG_W,PH,PH_FLAG_W,HELIER,DELHER,THETA,TRITER
,,,,,,,,,,,,DBAR,ITS-90,PSS-78,,PSS-78,,UMOL/KG,,UMOL/KG,,UMOL/KG,,UMOL/KG,,UMOL/KG,,UMOL/KG,,PMOL/KG,,PMOL/KG,,TU,,NMOL/KG,,PERCNT,,UMOL/KG,,UMOL/KG,,25_DEG,,NMOL/KG,PERCNT,DEG C,TU
      325023_1,  P14N,    46,  1,     36,     36,2,19930719,0129, 39.4842, 179.0040, 5613,      4.2,  15.1090,  34.0248,2,  34.0215,2,   -999.0,9,    259.3,2,     9.88,3,     3.73,3,     0.10,3,     0.43,3, -999.000,5, -999.000,5,    1.898,2,-999.0000,9,  -999.00,9,   -999.0,9,   -999.0,9,  -999.00,9,-999.0000,-999.000, 15.1083,   0.019
      325023_1,  P14N,    46,  1,     35,     35,2,19930719,0129, 39.4842, 179.0040, 5613,     41.4,  12.4378,  34.1772,2,  34.1739,2,   -999.0,9,    274.9,2,    12.63,3,     5.95,3,     0.14,3,     0.60,3, -999.000,5, -999.000,5, -999.000,9,-999.0000,9,  -999.00,9,   -999.0,9,   -999.0,9,  -999.00,9,-999.0000,-999.000, 12.4324,-999.000
      325023_1,  P14N,    46,  1,     34,     34,2,19930719,0129, 39.4842, 179.0040, 5613,     71.2,  10.6133,  34.2175,2,  34.2129,2,   -999.0,9,    268.4,2,    15.74,3,     8.87,3,     0.47,3,     0.79,3, -999.000,5, -999.000,5,    1.789,2,-999.0000,9,  -999.00,9,   -999.0,9,   -999.0,9,  -999.00,9,-999.0000,-999.000, 10.6048,   0.018
      325023_1,  P14N,    46,  1,     33,     33,2,19930719,0129, 39.4842, 179.0040, 5613,    101.9,  10.3484,  34.2194,2,  34.2190,2,   -999.0,9,    256.7,2,    16.91,3,    10.86,3,     0.05,3,     0.86,3, -999.000,5, -999.000,5, -999.000,9,-999.0000,9,  -999.00,9,   -999.0,9,   -999.0,9,  -999.00,9,-999.0000,-999.000, 10.3365,-999.000
      325023_1,  P14N,    46,  1,     32,     32,2,19930719,0129, 39.4842, 179.0040, 5613,    130.4,   9.9835,  34.1844,2,  34.1839,2,   -999.0,9,    254.6,2,    18.43,3,    11.77,3,     0.04,3,     0.92,3, -999.000,5, -999.000,5, -999.000,9,-999.0000,9,  -999.00,9,   -999.0,9,   -999.0,9,  -999.00,9,-999.0000,-999.000,  9.9686,-999.000
      325023_1,  P14N,    46,  1,     31,     31,2,19930719,0129, 39.4842, 179.0040, 5613,    160.8,   9.6293,  34.1460,2,  34.1462,2,   -999.0,9,    258.2,2,    18.72,3,    12.12,3,     0.03,3,     0.95,3, -999.000,5, -999.000,5,    1.842,2,-999.0000,9,  -999.00,9,   -999.0,9,   -999.0,9,  -999.00,9,-999.0000,-999.000,  9.6113,   0.018
      325023_1,  P14N,    46,  1,     30,     30,2,19930719,0129, 39.4842, 179.0040, 5613,    211.3,   9.1581,  34.0957,2,  34.0943,2,   -999.0,9,    260.5,2,    20.06,3,    12.85,3,     0.03,3,     1.00,3, -999.000,5, -999.000,5, -999.000,9,-999.0000,9,  -999.00,9,   -999.0,9,   -999.0,9,  -999.00,9,-999.0000,-999.000,  9.1352,-999.000
      325023_1,  P14N,    46,  1,     29,     29,2,19930719,0129, 39.4842, 179.0040, 5613,    260.7,   8.5832,  34.0446,2,  34.0409,2,   -999.0,9,    250.3,2,    23.53,3,    14.74,3,     0.02,3,     1.13,3, -999.000,5, -999.000,5, -999.000,9,-999.0000,9,  -999.00,9,   -999.0,9,   -999.0,9,  -999.00,9,-999.0000,-999.000,  8.5560,-999.000
      325023_1,  P14N,    46,  1,     28,     28,2,19930719,0129, 39.4842, 179.0040, 5613,    311.6,   8.0085,  34.0423,2,  34.0392,2,   -999.0,9,    203.7,2,    33.71,3,    19.76,3,     0.01,3,     1.45,3, -999.000,5, -999.000,5, -999.000,9,-999.0000,9,  -999.00,9,   -999.0,9,   -999.0,9,  -999.00,9,-999.0000,-999.000,  7.9772,-999.000
      325023_1,  P14N,    46,  1,     27,     27,2,19930719,0129, 39.4842, 179.0040, 5613,    409.7,   6.3245,  33.9819,2,  33.9795,2,   -999.0,9,    161.2,2,    52.23,3,    26.63,3,     0.01,3,     1.91,3, -999.000,5, -999.000,5,    1.474,2,-999.0000,9,  -999.00,9,   -999.0,9,   -999.0,9,  -999.00,9,-999.0000,-999.000,  6.2883,   0.015
      325023_1,  P14N,    46,  1,     26,     26,2,19930719,0129, 39.4842, 179.0040, 5613,    505.9,   5.1541,  33.9957,2,  33.9942,2,   -999.0,9,    121.2,2,    71.38,3,    32.07,3,     0.01,3,     2.29,3, -999.000,5, -999.000,5, -999.000,9,-999.0000,9,  -999.00,9,   -999.0,9,   -999.0,9,  -999.00,9,-999.0000,-999.000,  5.1136,-999.000
      325023_1,  P14N,    46,  1,     25,     25,2,19930719,0129, 39.4842, 179.0040, 5613,    601.6,   4.5547,  34.0752,2,  34.0719,2,   -999.0,9,     83.4,2,    88.16,3,    36.20,3,     0.01,3,     2.56,3, -999.000,5, -999.000,5, -999.000,9,-999.0000,9,  -999.00,9,   -999.0,9,   -999.0,9,  -999.00,9,-999.0000,-999.000,  4.5089,-999.000
      325023_1,  P14N,    46,  1,     24,     24,2,19930719,0129, 39.4842, 179.0040, 5613,    698.9,   4.1272,  34.1622,2,  34.1580,2,   -999.0,9,     57.3,2,   103.67,3,    38.88,3,     0.00,3,     2.73,3, -999.000,5, -999.000,5,    0.332,2,-999.0000,9,  -999.00,9,   -999.0,9,   -999.0,9,  -999.00,9,-999.0000,-999.000,  4.0756,   0.008
      325023_1,  P14N,    46,  1,     23,     23,2,19930719,0129, 39.4842, 179.0040, 5613,    795.5,   3.8204,  34.2234,2,  34.2197,2,   -999.0,9,     45.4,2,   113.85,3,    40.12,3,     0.00,3,     2.81,3, -999.000,5, -999.000,5, -999.000,9,-999.0000,9,  -999.00,9,   -999.0,9,   -999.0,9,  -999.00,9,-999.0000,-999.000,  3.7629,-999.000
      325023_1,  P14N,    46,  1,     22,     22,2,19930719,0129, 39.4842, 179.0040, 5613,    892.2,   3.5234,  34.2762,2,  34.2718,2,   -999.0,9,     36.2,2,   123.41,3,    41.18,3,     0.00,3,     2.86,3, -999.000,5, -999.000,5, -999.000,9,-999.0000,9,  -999.00,9,   -999.0,9,   -999.0,9,  -999.00,9,-999.0000,-999.000,  3.4602,-999.000
      325023_1,  P14N,    46,  1,     21,     21,2,19930719,0129, 39.4842, 179.0040, 5613,    988.3,   3.2462,  34.3277,2,  34.3243,2,   -999.0,9,     29.8,2,   132.50,3,    41.94,3,     0.00,3,     2.92,3, -999.000,5, -999.000,5,    0.058,2,-999.0000,9,  -999.00,9,   -999.0,9,   -999.0,9,  -999.00,9,-999.0000,-999.000,  3.1775,   0.008
      325023_1,  P14N,    46,  1,     20,     20,2,19930719,0129, 39.4842, 179.0040, 5613,   1178.0,   2.8851,  34.3987,2,  34.3962,2,   -999.0,9,     26.9,2,   144.39,3,    42.43,3,     0.00,3,     2.95,3, -999.000,5, -999.000,5, -999.000,9,-999.0000,9,  -999.00,9,   -999.0,9,   -999.0,9,  -999.00,9,-999.0000,-999.000,  2.8048,-999.000
      325023_1,  P14N,    46,  1,     19,     19,2,19930719,0129, 39.4842, 179.0040, 5613,   1373.3,   2.5794,  34.4544,2,  34.4544,2,   -999.0,9,     30.9,2,   153.97,3,    42.35,3,     0.00,3,     2.93,3, -999.000,5, -999.000,5,    0.040,2,-999.0000,9,  -999.00,9,   -999.0,9,   -999.0,9,  -999.00,9,-999.0000,-999.000,  2.4868,   0.008
      325023_1,  P14N,    46,  1,     18,     18,2,19930719,0129, 39.4842, 179.0040, 5613,   1571.7,   2.3423,  34.5047,2,  34.5022,2,   -999.0,9,     35.0,2,   160.74,3,    42.31,3,     0.00,3,     2.92,3, -999.000,5, -999.000,5, -999.000,9,-999.0000,9,  -999.00,9,   -999.0,9,   -999.0,9,  -999.00,9,-999.0000,-999.000,  2.2366,-999.000
      325023_1,  P14N,    46,  1,     17,     17,2,19930719,0129, 39.4842, 179.0040, 5613,   1769.8,   2.1798,  34.5456,2,  34.5423,2,   -999.0,9,     41.5,2,   165.80,3,    42.18,3,     0.00,3,     2.89,3, -999.000,5, -999.000,5, -999.000,9,-999.0000,9,  -999.00,9,   -999.0,9,   -999.0,9,  -999.00,9,-999.0000,-999.000,  2.0601,-999.000
      325023_1,  P14N,    46,  1,     16,     16,2,19930719,0129, 39.4842, 179.0040, 5613,   1969.7,   2.0147,  34.5761,2,  34.5744,2,   -999.0,9,     53.5,2,   169.30,3,    41.47,3,     0.00,3,     2.85,3, -999.000,5, -999.000,5, -999.000,9,-999.0000,9,  -999.00,9,   -999.0,9,   -999.0,9,  -999.00,9,-999.0000,-999.000,  1.8808,-999.000
      325023_1,  P14N,    46,  1,     15,     15,2,19930719,0129, 39.4842, 179.0040, 5613,   2166.7,   1.8816,  34.6012,2,  34.5982,2,   -999.0,9,     66.0,2,   171.02,3,    40.73,3,     0.00,3,     2.80,3, -999.000,5, -999.000,5,    0.006,2,-999.0000,9,  -999.00,9,   -999.0,9,   -999.0,9,  -999.00,9,-999.0000,-999.000,  1.7330,   0.008
      325023_1,  P14N,    46,  1,     14,     14,2,19930719,0129, 39.4842, 179.0040, 5613,   2367.5,   1.7776,  34.6189,2,  34.6182,2,   -999.0,9,     80.9,2,   169.93,3,    39.80,3,     0.00,3,     2.73,3, -999.000,5, -999.000,5, -999.000,9,-999.0000,9,  -999.00,9,   -999.0,9,   -999.0,9,  -999.00,9,-999.0000,-999.000,  1.6133,-999.000
      325023_1,  P14N,    46,  1,     13,     13,2,19930719,0129, 39.4842, 179.0040, 5613,   2571.2,   1.6951,  34.6332,2,  34.6333,2,   -999.0,9,     93.5,2,   168.04,3,    38.97,3,     0.00,3,     2.67,3, -999.000,5, -999.000,5,    0.001,2,-999.0000,9,  -999.00,9,   -999.0,9,   -999.0,9,  -999.00,9,-999.0000,-999.000,  1.5143,   0.008
      325023_1,  P14N,    46,  1,     12,     12,2,19930719,0129, 39.4842, 179.0040, 5613,   2771.4,   1.6325,  34.6440,2,  34.6437,2,   -999.0,9,    103.3,2,   166.76,3,    38.40,3,     0.00,3,     2.65,3, -999.000,5, -999.000,5, -999.000,9,-999.0000,9,  -999.00,9,   -999.0,9,   -999.0,9,  -999.00,9,-999.0000,-999.000,  1.4345,-999.000
      325023_1,  P14N,    46,  1,     11,     11,2,19930719,0129, 39.4842, 179.0040, 5613,   2974.1,   1.5768,  34.6547,2,  34.6524,2,   -999.0,9,    114.0,2,   164.89,3,    37.75,3,     0.00,3,     2.59,3, -999.000,5, -999.000,5,    0.001,2,-999.0000,9,  -999.00,9,   -999.0,9,   -999.0,9,  -999.00,9,-999.0000,-999.000,  1.3609,   0.008
      325023_1,  P14N,    46,  1,     10,     10,2,19930719,0129, 39.4842, 179.0040, 5613,   3280.5,   1.5194,  34.6643,2,  34.6630,2,   -999.0,9,    127.3,2,   161.04,3,    36.92,3,     0.00,3,     2.53,3, -999.000,5, -999.000,5,    0.002,2,-999.0000,9,  -999.00,9,   -999.0,9,   -999.0,9,  -999.00,9,-999.0000,-999.000,  1.2750,   0.008
      325023_1,  P14N,    46,  1,      9,      9,2,19930719,0129, 39.4842, 179.0040, 5613,   3587.5,   1.4805,  34.6727,2,  34.6710,2,   -999.0,9,    138.1,2,   157.81,3,    36.18,3,     0.00,3,     2.48,3, -999.000,5, -999.000,5,    0.001,2,-999.0000,9,  -999.00,9,   -999.0,9,   -999.0,9,  -999.00,9,-999.0000,-999.000,  1.2059,   0.008
      325023_1,  P14N,    46,  1,      8,      8,2,19930719,0129, 39.4842, 179.0040, 5613,   3889.8,   1.4667,  34.6775,2,  34.6777,2,   -999.0,9,    144.9,2,   155.97,3,    35.75,3,     0.00,3,     2.45,3, -999.000,5, -999.000,5,    0.003,2,-999.0000,9,  -999.00,9,   -999.0,9,   -999.0,9,  -999.00,9,-999.0000,-999.000,  1.1607,   0.008
      325023_1,  P14N,    46,  1,      7,      7,2,19930719,0129, 39.4842, 179.0040, 5613,   4195.7,   1.4661,  34.6822,2,  34.6822,2,   -999.0,9,    149.5,2,   155.50,3,    35.49,3,     0.00,3,     2.42,3, -999.000,5, -999.000,5,    0.001,2,-999.0000,9,  -999.00,9,   -999.0,9,   -999.0,9,  -999.00,9,-999.0000,-999.000,  1.1267,   0.008
      325023_1,  P14N,    46,  1,      6,      6,2,19930719,0129, 39.4842, 179.0040, 5613,   4511.5,   1.4844,  34.6837,2,  34.6840,2,   -999.0,9,    151.8,2,   155.41,3,    35.32,3,     0.00,3,     2.41,3, -999.000,5, -999.000,5,    0.001,2,-999.0000,9,  -999.00,9,   -999.0,9,   -999.0,9,  -999.00,9,-999.0000,-999.000,  1.1086,   0.008
      325023_1,  P14N,    46,  1,      5,      5,2,19930719,0129, 39.4842, 179.0040, 5613,   4822.6,   1.5137,  34.6843,2,  34.6848,2,   -999.0,9,    152.7,2,   156.70,3,    35.37,3,     0.00,3,     2.40,3, -999.000,5, -999.000,5,    0.001,2,-999.0000,9,  -999.00,9,   -999.0,9,   -999.0,9,  -999.00,9,-999.0000,-999.000,  1.1004,   0.008
      325023_1,  P14N,    46,  1,      4,      4,2,19930719,0129, 39.4842, 179.0040, 5613,   5136.0,   1.5475,  34.6851,2,  34.6850,2,   -999.0,9,    153.6,2,   156.62,3,    35.29,3,     0.00,3,     2.40,3, -999.000,5, -999.000,5,    0.001,2,-999.0000,9,  -999.00,9,   -999.0,9,   -999.0,9,  -999.00,9,-999.0000,-999.000,  1.0950,   0.008
      325023_1,  P14N,    46,  1,      3,      3,2,19930719,0129, 39.4842, 179.0040, 5613,   5448.1,   1.5863,  34.6862,2,  34.6854,2,   -999.0,9,    153.9,2,   156.54,3,    35.34,3,     0.00,3,     2.40,3, -999.000,5, -999.000,5,    0.001,2,-999.0000,9,  -999.00,9,   -999.0,9,   -999.0,9,  -999.00,9,-999.0000,-999.000,  1.0933,   0.008
      325023_1,  P14N,    46,  1,      2,      2,2,19930719,0129, 39.4842, 179.0040, 5613,   5699.1,   1.6192,  34.6841,2,  34.6858,2,   -999.0,9,    154.1,2,   156.85,3,    35.34,3,     0.00,3,     2.40,3, -999.000,5, -999.000,5, -999.000,9,-999.0000,9,  -999.00,9,   -999.0,9,   -999.0,9,  -999.00,9,-999.0000,-999.000,  1.0926,   0.008
      325023_1,  P14N,    46,  1,      1,      1,2,19930719,0129, 39.4842, 179.0040, 5613,   5703.6,   1.6198,  34.6865,2,  34.6872,2,   -999.0,9,    153.9,2,   140.95,3,    35.85,3,     0.04,3,     2.58,3, -999.000,5, -999.000,5, -999.000,9,-999.0000,9,  -999.00,9,   -999.0,9,   -999.0,9,  -999.00,9,-999.0000,-999.000,  1.0926,-999.000