BOTTLE,20131125MIRCJHATS
EXPOCODE,SECT_ID,STNNBR,CASTNO,SAMPNO,BTLNBR,BTLNBR_FLAG_W,DATE,TIME,LATITUDE,LONGITUDE,DEPTH,CTDPRS,CTDTMP,CTDSAL,CTDSAL_FLAG_W,SALNTY,SALNTY_FLAG_W,CTDOXY,CTDOXY_FLAG_W,OXYGEN,OXYGEN_FLAG_W,SILCAT,SILCAT_FLAG_W,NITRAT,NITRAT_FLAG_W,NITRIT,NITRIT_FLAG_W,PHSPHT,PHSPHT_FLAG_W,CFC-11,CFC-11_FLAG_W,CFC-12,CFC-12_FLAG_W,TRITUM,TRITUM_FLAG_W,HELIUM,HELIUM_FLAG_W,DELHE3,DELHE3_FLAG_W,TCARBN,TCARBN_FLAG_W,ALKALI,ALKALI_FLAG_W,PH,PH_FLAG_W,HELIER,DELHER,THETA,TRITER
,,,,,,,,,,,,DBAR,ITS-90,PSS-78,,PSS-78,,UMOL/KG,,UMOL/KG,,UMOL/KG,,UMOL/KG,,UMOL/KG,,UMOL/KG,,PMOL/KG,,PMOL/KG,,TU,,NMOL/KG,,PERCNT,,UMOL/KG,,UMOL/KG,,25_DEG,,NMOL/KG,PERCNT,DEG C,TU
      325023_1,  P14N,    63,  1,     36,     36,2,19930723,0711, 30.9940, 178.9945, 5323,      1.5,  26.5192,  35.0355,2,  35.0381,2,   -999.0,9,    209.0,2,     3.64,2,     0.04,2,     0.00,2,     0.03,2,    1.884,2,    1.051,2, -999.000,9,-999.0000,9,  -999.00,9,   1990.0,2,   2304.8,2,     8.07,2,-999.0000,-999.000, 26.5189,-999.000
      325023_1,  P14N,    63,  1,     35,     35,2,19930723,0711, 30.9940, 178.9945, 5323,      2.0,  26.5115,  35.0367,2,  35.0381,2,   -999.0,9,    207.1,2,     3.41,2,     0.04,2,     0.00,2,     0.02,2, -999.000,5, -999.000,5, -999.000,9,-999.0000,9,  -999.00,9,   1988.6,2,   -999.0,9,     8.07,2,-999.0000,-999.000, 26.5111,-999.000
      325023_1,  P14N,    63,  1,     34,     34,2,19930723,0711, 30.9940, 178.9945, 5323,     39.5,  21.0765,  34.8690,2,  34.8697,2,   -999.0,9,    239.7,2,     3.57,2,     0.03,2,     0.00,2,     0.03,2,    2.397,2,    1.270,2, -999.000,9,-999.0000,9,  -999.00,9,   1984.6,2,   2290.8,2,     8.06,2,-999.0000,-999.000, 21.0689,-999.000
      325023_1,  P14N,    63,  1,     33,     33,2,19930723,0711, 30.9940, 178.9945, 5323,     69.8,  17.9219,  34.7995,2,  34.7941,2,   -999.0,9,    248.1,2,     3.34,2,     0.00,2,     0.00,2,     0.07,2,    2.577,2,    1.341,2, -999.000,9,-999.0000,9,  -999.00,9,   1997.3,2,   2286.1,2,  -999.00,9,-999.0000,-999.000, 17.9100,-999.000
      325023_1,  P14N,    63,  1,     32,     32,2,19930723,0711, 30.9940, 178.9945, 5323,     99.6,  16.9267,  34.7648,2,  34.7641,2,   -999.0,9,    231.6,2,     3.50,2,     0.99,2,     0.23,2,     0.18,2,    2.621,2,    1.354,2, -999.000,9,-999.0000,9,  -999.00,9,   2011.9,2,   2283.7,2,     8.00,2,-999.0000,-999.000, 16.9103,-999.000
      325023_1,  P14N,    63,  1,     31,     31,2,19930723,0711, 30.9940, 178.9945, 5323,    130.2,  16.5754,  34.7519,2,  34.7527,2,   -999.0,9,    225.6,2,     4.65,2,     3.07,2,     0.04,2,     0.28,2,    2.634,2,    1.367,2, -999.000,9,-999.0000,9,  -999.00,9,   2014.8,2,   2283.8,2,  -999.00,9,-999.0000,-999.000, 16.5543,-999.000
      325023_1,  P14N,    63,  1,     30,     30,2,19930723,0711, 30.9940, 178.9945, 5323,    160.4,  16.3164,  34.7329,2,  34.7313,2,   -999.0,9,    225.5,2,     5.01,2,     3.53,2,     0.02,2,     0.30,2,    2.620,2,    1.363,2, -999.000,9,-999.0000,9,  -999.00,9,   2017.0,2,   2283.8,2,     7.99,2,-999.0000,-999.000, 16.2908,-999.000
      325023_1,  P14N,    63,  1,     29,     29,2,19930723,0711, 30.9940, 178.9945, 5323,    210.3,  15.8085,  34.6900,2,  34.6883,2,   -999.0,9,    224.4,2,     5.17,2,     4.16,2,     0.01,2,     0.35,2,    2.663,2,    1.365,2, -999.000,9,-999.0000,9,  -999.00,9,   2027.8,2,   2284.8,2,  -999.00,9,-999.0000,-999.000, 15.7755,-999.000
      325023_1,  P14N,    63,  1,     28,     28,2,19930723,0711, 30.9940, 178.9945, 5323,    260.5,  15.0413,  34.6069,2,  34.6016,2,   -999.0,9,    218.8,2,     7.10,2,     6.05,2,     0.01,2,     0.48,2,    2.638,2,    1.392,2, -999.000,9,-999.0000,9,  -999.00,9,   2039.1,2,   2276.4,2,  -999.00,9,-999.0000,-999.000, 15.0018,-999.000
      325023_1,  P14N,    63,  1,     27,     27,2,19930723,0711, 30.9940, 178.9945, 5323,    310.8,  14.2958,  34.5437,2,  34.5432,2,   -999.0,9,    215.9,2,     8.65,2,     7.34,2,     0.01,2,     0.57,2,    2.686,2,    1.349,2, -999.000,9,-999.0000,9,  -999.00,9,   2047.8,2,   2273.7,2,  -999.00,9,-999.0000,-999.000, 14.2502,-999.000
      325023_1,  P14N,    63,  1,     26,     26,2,19930723,0711, 30.9940, 178.9945, 5323,    411.7,  12.2823,  34.3895,2,  34.3869,2,   -999.0,9,    214.0,2,    14.73,2,    11.18,2,     0.01,2,     0.83,2,    2.679,6,    1.324,6, -999.000,9,-999.0000,9,  -999.00,9,   2072.0,2,   2271.1,2,     7.86,2,-999.0000,-999.000, 12.2277,-999.000
      325023_1,  P14N,    63,  1,     25,     25,2,19930723,0711, 30.9940, 178.9945, 5323,    512.4,   9.8623,  34.2047,2,  34.1983,2,   -999.0,9,    196.8,2,    25.54,2,    17.37,2,     0.01,2,     1.26,2,    2.442,2,    1.194,2, -999.000,9,-999.0000,9,  -999.00,9,   2119.6,2,   2271.6,2,     7.77,2,-999.0000,-999.000,  9.8030,-999.000
      325023_1,  P14N,    63,  1,     24,     24,2,19930723,0711, 30.9940, 178.9945, 5323,    611.6,   7.6567,  34.0784,2,  34.0768,2,   -999.0,9,    160.8,2,    42.89,2,    24.59,2,     0.01,2,     1.78,2,    1.703,2,    0.804,2, -999.000,9,-999.0000,9,  -999.00,9,   2167.6,2,   2278.4,2,     7.64,2,-999.0000,-999.000,  7.5955,-999.000
      325023_1,  P14N,    63,  1,     23,     23,2,19930723,0711, 30.9940, 178.9945, 5323,    711.9,   5.9550,  34.0435,2,  34.0427,2,   -999.0,9,    121.3,2,    65.24,2,    31.19,2,     0.01,2,     2.26,2,    1.127,2,    0.520,2, -999.000,9,-999.0000,9,  -999.00,9,   2230.8,2,   2296.1,2,     7.53,2,-999.0000,-999.000,  5.8925,-999.000
      325023_1,  P14N,    63,  1,     22,     22,2,19930723,0711, 30.9940, 178.9945, 5323,    811.1,   4.7751,  34.0765,2,  34.0762,2,   -999.0,9,     86.9,2,    87.73,2,    36.17,2,     0.01,2,     2.61,2,    0.788,3,    0.333,3, -999.000,9,-999.0000,9,  -999.00,9,   2278.3,2,   2313.4,2,     7.43,2,-999.0000,-999.000,  4.7106,-999.000
      325023_1,  P14N,    63,  1,     21,     21,2,19930723,0711, 30.9940, 178.9945, 5323,    910.0,   4.1790,  34.1770,2,  34.1748,2,   -999.0,9,     56.7,2,   108.63,2,    39.39,2,     0.01,2,     2.83,2,    0.386,2,    0.168,2, -999.000,9,-999.0000,9,  -999.00,9,   2318.0,2,   2334.0,2,     7.37,2,-999.0000,-999.000,  4.1100,-999.000
      325023_1,  P14N,    63,  1,     20,     20,2,19930723,0711, 30.9940, 178.9945, 5323,   1008.8,   3.7252,  34.2658,2,  34.2635,2,   -999.0,9,     38.4,2,   121.83,2,    41.46,2,     0.00,2,     2.97,2,    0.133,2,    0.080,2, -999.000,9,-999.0000,9,  -999.00,9,   2345.3,2,   2350.9,2,  -999.00,9,-999.0000,-999.000,  3.6513,-999.000
      325023_1,  P14N,    63,  1,     19,     19,2,19930723,0711, 30.9940, 178.9945, 5323,   1209.8,   3.1490,  34.3965,2,  34.3947,2,   -999.0,9,     25.2,2,   140.56,2,    43.12,2,     0.00,2,     3.08,2,    0.014,2,    0.008,2, -999.000,9,-999.0000,9,  -999.00,9,   2371.9,2,   2378.2,2,     7.33,2,-999.0000,-999.000,  3.0637,-999.000
      325023_1,  P14N,    63,  1,     18,     18,2,19930723,0711, 30.9940, 178.9945, 5323,   1411.4,   2.7870,  34.4764,2,  34.4747,2,   -999.0,9,     31.2,2,   151.84,2,    43.14,2,     0.00,2,     3.07,2,    0.002,2,    0.003,2, -999.000,9,-999.0000,9,  -999.00,9,   2384.0,2,   2391.9,2,  -999.00,9,-999.0000,-999.000,  2.6890,-999.000
      325023_1,  P14N,    63,  1,     17,     17,2,19930723,0711, 30.9940, 178.9945, 5323,   1615.3,   2.4438,  34.5347,2,  34.5329,2,   -999.0,9,     44.0,2,   159.45,2,    42.56,2,     0.00,2,     3.02,2,    0.011,3,    0.006,3, -999.000,9,-999.0000,9,  -999.00,9,   2383.5,2,   2405.5,2,     7.38,2,-999.0000,-999.000,  2.3332,-999.000
      325023_1,  P14N,    63,  1,     16,     16,2,19930723,0711, 30.9940, 178.9945, 5323,   1818.6,   2.1700,  34.5744,2,  34.5733,2,   -999.0,9,     57.6,2,   166.28,2,    41.81,2,     0.00,2,     2.95,2, -999.000,5, -999.000,5, -999.000,9,-999.0000,9,  -999.00,9,   2382.0,2,   2412.3,2,  -999.00,9,-999.0000,-999.000,  2.0463,-999.000
      325023_1,  P14N,    63,  1,     15,     15,2,19930723,0711, 30.9940, 178.9945, 5323,   2022.3,   1.9785,  34.6000,2,  34.5996,2,   -999.0,9,     71.0,2,   168.86,2,    40.91,2,     0.00,2,     2.89,2, -999.000,5, -999.000,5, -999.000,9,-999.0000,9,  -999.00,9,   2378.5,2,   2416.4,2,     7.43,2,-999.0000,-999.000,  1.8407,-999.000
      325023_1,  P14N,    63,  1,     14,     14,2,19930723,0711, 30.9940, 178.9945, 5323,   2226.4,   1.8358,  34.6200,2,  34.6192,2,   -999.0,9,     83.3,2,   170.15,2,    40.11,2,     0.00,2,     2.83,2,    0.006,2,    0.007,2, -999.000,9,-999.0000,9,  -999.00,9,   2374.3,2,   2418.0,2,  -999.00,9,-999.0000,-999.000,  1.6828,-999.000
      325023_1,  P14N,    63,  1,     13,     13,2,19930723,0711, 30.9940, 178.9945, 5323,   2429.4,   1.7222,  34.6345,2,  34.6349,2,   -999.0,9,     95.9,2,   169.51,2,    39.49,2,     0.00,2,     2.77,2, -999.000,5, -999.000,5, -999.000,9,-999.0000,9,  -999.00,9,   2366.9,2,   2421.0,2,     7.48,2,-999.0000,-999.000,  1.5535,-999.000
      325023_1,  P14N,    63,  1,     12,     12,2,19930723,0711, 30.9940, 178.9945, 5323,   2632.9,   1.6308,  34.6473,2,  34.6474,2,   -999.0,9,    107.6,2,   167.80,2,    38.60,2,     0.00,2,     2.71,2, -999.000,5, -999.000,5, -999.000,9,-999.0000,9,  -999.00,9,   2358.3,2,   2419.3,2,  -999.00,9,-999.0000,-999.000,  1.4455,-999.000
      325023_1,  P14N,    63,  1,     11,     11,2,19930723,0711, 30.9940, 178.9945, 5323,   2836.7,   1.5694,  34.6566,2,  34.6572,2,   -999.0,9,    117.4,2,   165.23,2,    37.85,2,     0.00,2,     2.66,2, -999.000,5, -999.000,5, -999.000,9,-999.0000,9,  -999.00,9,   2350.8,2,   2423.7,2,  -999.00,9,-999.0000,-999.000,  1.3666,-999.000
      325023_1,  P14N,    63,  1,     10,     10,2,19930723,0711, 30.9940, 178.9945, 5323,   3041.5,   1.5311,  34.6636,2,  34.6639,2,   -999.0,9,    124.7,2,   163.31,2,    37.32,2,     0.00,2,     2.63,2,    0.004,4,    0.015,4, -999.000,9,-999.0000,9,  -999.00,9,   2348.7,2,   2422.2,2,     7.53,2,-999.0000,-999.000,  1.3097,-999.000
      325023_1,  P14N,    63,  1,      9,      9,2,19930723,0711, 30.9940, 178.9945, 5323,   3348.3,   1.4926,  34.6713,2,  34.6721,2,   -999.0,9,    133.6,2,   161.60,2,    36.80,2,     0.00,2,     2.59,2, -999.000,5, -999.000,5, -999.000,9,-999.0000,9,  -999.00,9,   2342.7,2,   2423.2,2,  -999.00,9,-999.0000,-999.000,  1.2420,-999.000
      325023_1,  P14N,    63,  1,      8,      8,2,19930723,0711, 30.9940, 178.9945, 5323,   3656.0,   1.4618,  34.6783,2,  34.6788,2,   -999.0,9,    144.1,3,   159.48,2,    36.36,2,     0.00,2,     2.54,2, -999.000,5, -999.000,5, -999.000,9,-999.0000,9,  -999.00,9,   2335.4,2,   2420.7,2,  -999.00,9,-999.0000,-999.000,  1.1806,-999.000
      325023_1,  P14N,    63,  1,      7,      7,2,19930723,0711, 30.9940, 178.9945, 5323,   3963.2,   1.4574,  34.6825,2,  34.6855,2,   -999.0,9,    146.8,2,   158.42,2,    35.97,2,     0.00,2,     2.52,2,   -0.001,3,    0.000,3, -999.000,9,-999.0000,9,  -999.00,9,   2333.7,2,   2420.6,2,     7.57,2,-999.0000,-999.000,  1.1437,-999.000
      325023_1,  P14N,    63,  1,      6,      6,2,19930723,0711, 30.9940, 178.9945, 5323,   4272.4,   1.4680,  34.6851,2,  34.6853,2,   -999.0,9,    150.2,2,   157.79,2,    35.90,2,     0.00,2,     2.50,2, -999.000,5, -999.000,5, -999.000,9,-999.0000,9,  -999.00,9,   2328.3,2,   -999.0,9,  -999.00,9,-999.0000,-999.000,  1.1199,-999.000
      325023_1,  P14N,    63,  1,      5,      5,2,19930723,0711, 30.9940, 178.9945, 5323,   4581.5,   1.4771,  34.6878,2,  34.6874,2,   -999.0,9,    154.5,2,   154.40,2,    35.55,2,     0.00,2,     2.47,2, -999.000,5, -999.000,5, -999.000,9,-999.0000,9,  -999.00,9,   2326.7,2,   2422.1,2,  -999.00,9,-999.0000,-999.000,  1.0934,-999.000
      325023_1,  P14N,    63,  1,      4,      4,2,19930723,0711, 30.9940, 178.9945, 5323,   4890.9,   1.4870,  34.6894,2,  34.6900,2,   -999.0,9,    159.4,2,   149.55,2,    35.12,2,     0.00,2,     2.45,2, -999.000,5, -999.000,5, -999.000,9,-999.0000,9,  -999.00,9,   2321.7,2,   2418.1,2,     7.59,2,-999.0000,-999.000,  1.0664,-999.000
      325023_1,  P14N,    63,  1,      3,      3,2,19930723,0711, 30.9940, 178.9945, 5323,   5199.5,   1.5091,  34.6914,2,  34.6913,2,   -999.0,9,    162.4,2,   146.19,2,    34.82,2,     0.00,2,     2.43,2,   -0.002,2,    0.003,2, -999.000,9,-999.0000,9,  -999.00,9,   2318.0,2,   2414.6,2,  -999.00,9,-999.0000,-999.000,  1.0500,-999.000
      325023_1,  P14N,    63,  1,      2,      2,2,19930723,0711, 30.9940, 178.9945, 5323,   5409.9,   1.5117,  34.6932,2,  34.6945,2,   -999.0,9,    166.6,2,   142.21,2,    34.47,2,     0.00,2,     2.41,2,    0.003,2,    0.004,2, -999.000,9,-999.0000,9,  -999.00,9,   2313.5,2,   2408.6,2,  -999.00,9,-999.0000,-999.000,  1.0261,-999.000
      325023_1,  P14N,    63,  1,      1,      1,2,19930723,0711, 30.9940, 178.9945, 5323,   5410.0,   1.5116,  34.6932,2,  34.6935,2,   -999.0,9,    166.6,2,   142.42,2,    34.49,2,     0.00,2,     2.41,2, -999.000,5, -999.000,5, -999.000,9,-999.0000,9,  -999.00,9,   2313.1,2,   2410.3,2,  -999.00,9,-999.0000,-999.000,  1.0260,-999.000