BOTTLE,20131125MIRCJHATS
EXPOCODE,SECT_ID,STNNBR,CASTNO,SAMPNO,BTLNBR,BTLNBR_FLAG_W,DATE,TIME,LATITUDE,LONGITUDE,DEPTH,CTDPRS,CTDTMP,CTDSAL,CTDSAL_FLAG_W,SALNTY,SALNTY_FLAG_W,CTDOXY,CTDOXY_FLAG_W,OXYGEN,OXYGEN_FLAG_W,SILCAT,SILCAT_FLAG_W,NITRAT,NITRAT_FLAG_W,NITRIT,NITRIT_FLAG_W,PHSPHT,PHSPHT_FLAG_W,CFC-11,CFC-11_FLAG_W,CFC-12,CFC-12_FLAG_W,TRITUM,TRITUM_FLAG_W,HELIUM,HELIUM_FLAG_W,DELHE3,DELHE3_FLAG_W,TCARBN,TCARBN_FLAG_W,ALKALI,ALKALI_FLAG_W,PH,PH_FLAG_W,HELIER,DELHER,THETA,TRITER
,,,,,,,,,,,,DBAR,ITS-90,PSS-78,,PSS-78,,UMOL/KG,,UMOL/KG,,UMOL/KG,,UMOL/KG,,UMOL/KG,,UMOL/KG,,PMOL/KG,,PMOL/KG,,TU,,NMOL/KG,,PERCNT,,UMOL/KG,,UMOL/KG,,25_DEG,,NMOL/KG,PERCNT,DEG C,TU
      325023_1,  P14N,   127,  1,     36,     36,2,19930808,1215,  3.9918, 179.0057, 5774,      2.3,  29.7909,  33.9455,2,  33.9491,2,   -999.0,9,    194.7,2,     2.15,2,     0.00,2,     0.00,2,     0.14,2,    1.551,2,    0.866,2, -999.000,9,-999.0000,9,  -999.00,9,   -999.0,9,   -999.0,9,  -999.00,9,-999.0000,-999.000, 29.7904,-999.000
      325023_1,  P14N,   127,  1,     35,     35,2,19930808,1215,  3.9918, 179.0057, 5774,     33.3,  29.2903,  33.9037,2,  33.9065,2,   -999.0,9,    195.9,2,     2.06,2,     0.00,2,     0.00,2,     0.19,2,    1.580,2,    0.897,2, -999.000,9,-999.0000,9,  -999.00,9,   -999.0,9,   -999.0,9,  -999.00,9,-999.0000,-999.000, 29.2822,-999.000
      325023_1,  P14N,   127,  1,     34,     34,2,19930808,1215,  3.9918, 179.0057, 5774,     63.6,  28.8366,  34.4047,2,  34.3974,2,   -999.0,9,    198.5,2,     1.57,2,     0.00,2,     0.00,2,     0.16,2,    1.574,6,    0.867,6, -999.000,9,-999.0000,9,  -999.00,9,   -999.0,9,   -999.0,9,  -999.00,9,-999.0000,-999.000, 28.8213,-999.000
      325023_1,  P14N,   127,  1,     33,     33,2,19930808,1215,  3.9918, 179.0057, 5774,     94.1,  24.9437,  34.6820,2,  34.6845,2,   -999.0,9,    172.0,2,     3.81,2,     1.31,2,     0.25,2,     0.30,2,    1.657,2,    0.911,2, -999.000,9,-999.0000,9,  -999.00,9,   -999.0,9,   -999.0,9,  -999.00,9,-999.0000,-999.000, 24.9234,-999.000
      325023_1,  P14N,   127,  1,     32,     32,2,19930808,1215,  3.9918, 179.0057, 5774,    124.4,  18.6804,  34.7397,2,  34.7370,2,   -999.0,9,    145.9,2,    10.30,2,     9.74,2,     0.03,2,     0.80,2,    1.675,2,    0.897,2, -999.000,9,-999.0000,9,  -999.00,9,   -999.0,9,   -999.0,9,  -999.00,9,-999.0000,-999.000, 18.6586,-999.000
      325023_1,  P14N,   127,  1,     31,     31,2,19930808,1215,  3.9918, 179.0057, 5774,    155.7,  15.1126,  34.6348,2,  34.6256,2,   -999.0,9,    137.6,2,    17.18,2,    15.00,2,     0.02,2,     1.15,2,    1.459,2,    0.762,2, -999.000,9,-999.0000,9,  -999.00,9,   -999.0,9,   -999.0,9,  -999.00,9,-999.0000,-999.000, 15.0890,-999.000
      325023_1,  P14N,   127,  1,     30,     30,2,19930808,1215,  3.9918, 179.0057, 5774,    205.7,  11.5055,  34.5749,2,  34.5722,2,   -999.0,9,     74.1,2,    28.52,2,    26.69,2,     0.02,2,     1.99,2,    0.635,2,    0.314,2, -999.000,9,-999.0000,9,  -999.00,9,   -999.0,9,   -999.0,9,  -999.00,9,-999.0000,-999.000, 11.4795,-999.000
      325023_1,  P14N,   127,  1,     29,     29,2,19930808,1215,  3.9918, 179.0057, 5774,    255.6,   9.6579,  34.6061,2,  34.5962,2,   -999.0,9,     86.9,2,    35.39,2,    29.21,2,     0.01,2,     2.13,2,    0.374,2,    0.176,2, -999.000,9,-999.0000,9,  -999.00,9,   -999.0,9,   -999.0,9,  -999.00,9,-999.0000,-999.000,  9.6289,-999.000
      325023_1,  P14N,   127,  1,     28,     28,2,19930808,1215,  3.9918, 179.0057, 5774,    306.2,   9.1610,  34.6368,2,  34.6378,2,   -999.0,9,     61.5,2,    36.05,2,    32.77,2,     0.01,2,     2.35,2,    0.137,2,    0.068,2, -999.000,9,-999.0000,9,  -999.00,9,   -999.0,9,   -999.0,9,  -999.00,9,-999.0000,-999.000,  9.1273,-999.000
      325023_1,  P14N,   127,  1,     27,     27,2,19930808,1215,  3.9918, 179.0057, 5774,    406.7,   8.3736,  34.6124,2,  34.6123,2,   -999.0,9,     67.7,2,    39.42,2,    33.87,2,     0.01,2,     2.43,2,    0.090,2,    0.045,2, -999.000,9,-999.0000,9,  -999.00,9,   -999.0,9,   -999.0,9,  -999.00,9,-999.0000,-999.000,  8.3310,-999.000
      325023_1,  P14N,   127,  1,     26,     26,2,19930808,1215,  3.9918, 179.0057, 5774,    506.7,   7.7331,  34.5925,2,  34.5928,2,   -999.0,9,     53.7,2,    45.32,2,    36.68,2,     0.01,2,     2.63,2,    0.029,2,    0.011,2, -999.000,9,-999.0000,9,  -999.00,9,   -999.0,9,   -999.0,9,  -999.00,9,-999.0000,-999.000,  7.6821,-999.000
      325023_1,  P14N,   127,  1,     25,     25,2,19930808,1215,  3.9918, 179.0057, 5774,    606.0,   6.9140,  34.5692,2,  34.5679,2,   -999.0,9,     48.6,2,    54.12,2,    38.95,2,     0.01,2,     2.80,2,    0.011,2,    0.000,2, -999.000,9,-999.0000,9,  -999.00,9,   -999.0,9,   -999.0,9,  -999.00,9,-999.0000,-999.000,  6.8564,-999.000
      325023_1,  P14N,   127,  1,     24,     24,2,19930808,1215,  3.9918, 179.0057, 5774,    710.6,   6.0539,  34.5483,2,  34.5483,2,   -999.0,9,     55.2,2,    64.87,2,    39.87,2,     0.01,2,     2.86,2,    0.008,2,    0.000,2, -999.000,9,-999.0000,9,  -999.00,9,   -999.0,9,   -999.0,9,  -999.00,9,-999.0000,-999.000,  5.9904,-999.000
      325023_1,  P14N,   127,  1,     23,     23,2,19930808,1215,  3.9918, 179.0057, 5774,    810.2,   5.4360,  34.5410,2,  34.5407,2,   -999.0,9,     86.3,2,    69.21,2,    37.71,2,     0.01,2,     2.71,2,    0.013,2,    0.006,2, -999.000,9,-999.0000,9,  -999.00,9,   -999.0,9,   -999.0,9,  -999.00,9,-999.0000,-999.000,  5.3669,-999.000
      325023_1,  P14N,   127,  1,     22,     22,2,19930808,1215,  3.9918, 179.0057, 5774,    909.6,   4.9902,  34.5468,2,  34.5471,2,   -999.0,9,     76.0,2,    79.99,2,    39.35,2,     0.01,2,     2.82,2,    0.005,2,    0.002,2, -999.000,9,-999.0000,9,  -999.00,9,   -999.0,9,   -999.0,9,  -999.00,9,-999.0000,-999.000,  4.9150,-999.000
      325023_1,  P14N,   127,  1,     21,     21,2,19930808,1215,  3.9918, 179.0057, 5774,   1008.8,   4.4442,  34.5570,2,  34.5556,2,   -999.0,9,     79.9,2,    90.80,2,    39.38,2,     0.01,2,     2.85,2,    0.004,2,   -0.001,2, -999.000,9,-999.0000,9,  -999.00,9,   -999.0,9,   -999.0,9,  -999.00,9,-999.0000,-999.000,  4.3643,-999.000
      325023_1,  P14N,   127,  1,     20,     20,2,19930808,1215,  3.9918, 179.0057, 5774,   1212.9,   3.6727,  34.5774,2,  34.5768,2,   -999.0,9,     92.1,2,   106.01,2,    38.96,2,     0.01,2,     2.80,2,    0.001,2,    0.004,2, -999.000,9,-999.0000,9,  -999.00,9,   -999.0,9,   -999.0,9,  -999.00,9,-999.0000,-999.000,  3.5819,-999.000
      325023_1,  P14N,   127,  1,     19,     19,2,19930808,1215,  3.9918, 179.0057, 5774,   1414.0,   3.0656,  34.5996,2,  34.5991,2,   -999.0,9,     93.8,2,   120.96,2,    39.23,2,     0.00,2,     2.82,2, -999.000,5, -999.000,5, -999.000,9,-999.0000,9,  -999.00,9,   -999.0,9,   -999.0,9,  -999.00,9,-999.0000,-999.000,  2.9641,-999.000
      325023_1,  P14N,   127,  1,     18,     18,2,19930808,1215,  3.9918, 179.0057, 5774,   1614.3,   2.6797,  34.6162,2,  34.6160,2,   -999.0,9,     96.7,2,   130.43,2,    39.40,2,     0.00,2,     2.80,2,   -0.003,2,    0.004,2, -999.000,9,-999.0000,9,  -999.00,9,   -999.0,9,   -999.0,9,  -999.00,9,-999.0000,-999.000,  2.5661,-999.000
      325023_1,  P14N,   127,  1,     17,     17,2,19930808,1215,  3.9918, 179.0057, 5774,   1820.6,   2.4145,  34.6279,2,  34.6270,2,   -999.0,9,    107.0,2,   134.51,2,    38.62,2,     0.00,2,     2.75,2, -999.000,5, -999.000,5, -999.000,9,-999.0000,9,  -999.00,9,   -999.0,9,   -999.0,9,  -999.00,9,-999.0000,-999.000,  2.2871,-999.000
      325023_1,  P14N,   127,  1,     16,     16,2,19930808,1215,  3.9918, 179.0057, 5774,   2021.7,   2.2118,  34.6398,2,  34.6389,2,   -999.0,9,    109.9,2,   140.23,2,    38.61,2,     0.00,2,     2.74,2,    0.000,2,   -0.001,2, -999.000,9,-999.0000,9,  -999.00,9,   -999.0,9,   -999.0,9,  -999.00,9,-999.0000,-999.000,  2.0702,-999.000
      325023_1,  P14N,   127,  1,     15,     15,2,19930808,1215,  3.9918, 179.0057, 5774,   2226.4,   1.9800,  34.6528,2,  34.6529,2,   -999.0,9,    113.3,2,   147.41,2,    38.42,2,     0.00,2,     2.71,2, -999.000,5, -999.000,5, -999.000,9,-999.0000,9,  -999.00,9,   -999.0,9,   -999.0,9,  -999.00,9,-999.0000,-999.000,  1.8245,-999.000
      325023_1,  P14N,   127,  1,     14,     14,2,19930808,1215,  3.9918, 179.0057, 5774,   2428.6,   1.8723,  34.6589,2,  34.6587,2,   -999.0,9,    119.4,2,   148.06,2,    37.95,2,     0.00,2,     2.68,2,    0.003,2,    0.002,2, -999.000,9,-999.0000,9,  -999.00,9,   -999.0,9,   -999.0,9,  -999.00,9,-999.0000,-999.000,  1.7008,-999.000
      325023_1,  P14N,   127,  1,     13,     13,2,19930808,1215,  3.9918, 179.0057, 5774,   2629.8,   1.7882,  34.6630,2,  34.6631,2,   -999.0,9,    125.3,2,   148.30,2,    37.54,2,     0.00,2,     2.65,2, -999.000,5, -999.000,5, -999.000,9,-999.0000,9,  -999.00,9,   -999.0,9,   -999.0,9,  -999.00,9,-999.0000,-999.000,  1.6000,-999.000
      325023_1,  P14N,   127,  1,     12,     12,2,19930808,1215,  3.9918, 179.0057, 5774,   2827.3,   1.7309,  34.6663,2,  34.6666,2,   -999.0,9,    128.5,2,   148.95,2,    37.39,2,     0.00,2,     2.63,2, -999.000,5, -999.000,5, -999.000,9,-999.0000,9,  -999.00,9,   -999.0,9,   -999.0,9,  -999.00,9,-999.0000,-999.000,  1.5256,-999.000
      325023_1,  P14N,   127,  1,     11,     11,2,19930808,1215,  3.9918, 179.0057, 5774,   3037.0,   1.6643,  34.6706,2,  34.6701,2,   -999.0,9,    134.3,2,   148.37,2,    36.93,2,     0.00,2,     2.60,2, -999.000,5, -999.000,5, -999.000,9,-999.0000,9,  -999.00,9,   -999.0,9,   -999.0,9,  -999.00,9,-999.0000,-999.000,  1.4403,-999.000
      325023_1,  P14N,   127,  1,     10,     10,2,19930808,1215,  3.9918, 179.0057, 5774,   3344.2,   1.5706,  34.6768,2,  34.6764,2,   -999.0,9,    143.6,2,   146.56,2,    36.20,2,     0.00,2,     2.55,2,   -0.001,2,    0.004,2, -999.000,9,-999.0000,9,  -999.00,9,   -999.0,9,   -999.0,9,  -999.00,9,-999.0000,-999.000,  1.3186,-999.000
      325023_1,  P14N,   127,  1,      9,      9,2,19930808,1215,  3.9918, 179.0057, 5774,   3647.3,   1.5038,  34.6821,2,  34.6817,2,   -999.0,9,    151.6,2,   144.14,2,    35.70,2,     0.00,2,     2.55,2, -999.000,5, -999.000,5, -999.000,9,-999.0000,9,  -999.00,9,   -999.0,9,   -999.0,9,  -999.00,9,-999.0000,-999.000,  1.2224,-999.000
      325023_1,  P14N,   127,  1,      8,      8,2,19930808,1215,  3.9918, 179.0057, 5774,   3955.4,   1.4234,  34.6887,2,  34.6886,2,   -999.0,9,    161.7,2,   141.33,2,    34.98,2,     0.00,2,     2.45,2, -999.000,5, -999.000,5, -999.000,9,-999.0000,9,  -999.00,9,   -999.0,9,   -999.0,9,  -999.00,9,-999.0000,-999.000,  1.1115,-999.000
      325023_1,  P14N,   127,  1,      7,      7,2,19930808,1215,  3.9918, 179.0057, 5774,   4266.2,   1.2976,  34.6965,2,  34.6974,2,   -999.0,9,    176.8,2,   135.50,2,    33.95,2,     0.00,2,     2.37,2, -999.000,5, -999.000,5, -999.000,9,-999.0000,9,  -999.00,9,   -999.0,9,   -999.0,9,  -999.00,9,-999.0000,-999.000,  0.9552,-999.000
      325023_1,  P14N,   127,  1,      6,      6,2,19930808,1215,  3.9918, 179.0057, 5774,   4568.8,   1.2507,  34.7011,2,  34.7017,2,   -999.0,9,    185.8,2,   130.71,2,    33.41,2,     0.00,2,     2.32,2,    0.000,2,    0.000,2, -999.000,9,-999.0000,9,  -999.00,9,   -999.0,9,   -999.0,9,  -999.00,9,-999.0000,-999.000,  0.8755,-999.000
      325023_1,  P14N,   127,  1,      5,      5,2,19930808,1215,  3.9918, 179.0057, 5774,   4877.8,   1.2638,  34.7026,2,  34.7027,2,   -999.0,9,    189.0,2,   127.74,2,    33.05,2,     0.00,2,     2.30,2, -999.000,5, -999.000,5, -999.000,9,-999.0000,9,  -999.00,9,   -999.0,9,   -999.0,9,  -999.00,9,-999.0000,-999.000,  0.8520,-999.000
      325023_1,  P14N,   127,  1,      4,      4,2,19930808,1215,  3.9918, 179.0057, 5774,   5187.0,   1.2914,  34.7033,2,  34.7031,2,   -999.0,9,    190.4,2,   127.58,2,    33.00,2,     0.00,2,     2.30,2, -999.000,5, -999.000,5, -999.000,9,-999.0000,9,  -999.00,9,   -999.0,9,   -999.0,9,  -999.00,9,-999.0000,-999.000,  0.8414,-999.000
      325023_1,  P14N,   127,  1,      3,      3,3,19930808,1215,  3.9918, 179.0057, 5774,   5499.1,   1.3244,  34.7037,2,  34.6951,4,   -999.0,9,    179.2,4,   131.23,4,    33.83,4,     0.00,4,     2.36,4, -999.000,5, -999.000,5, -999.000,9,-999.0000,9,  -999.00,9,   -999.0,9,   -999.0,9,  -999.00,9,-999.0000,-999.000,  0.8343,-999.000
      325023_1,  P14N,   127,  1,      2,      2,2,19930808,1215,  3.9918, 179.0057, 5774,   5655.7,   1.3441,  34.7038,2,  34.7039,2,   -999.0,9,    191.8,2,   126.86,2,    32.89,2,     0.00,2,     2.30,2, -999.000,5, -999.000,5, -999.000,9,-999.0000,9,  -999.00,9,   -999.0,9,   -999.0,9,  -999.00,9,-999.0000,-999.000,  0.8332,-999.000
      325023_1,  P14N,   127,  1,      1,      1,2,19930808,1215,  3.9918, 179.0057, 5774,   5656.6,   1.3442,  34.7039,2,  34.7047,2,   -999.0,9,    190.0,2,   126.71,2,    32.93,2,     0.00,2,     2.29,2, -999.000,5, -999.000,5, -999.000,9,-999.0000,9,  -999.00,9,   -999.0,9,   -999.0,9,  -999.00,9,-999.0000,-999.000,  0.8332,-999.000