BOTTLE,20131125MIRCJHATS
EXPOCODE,SECT_ID,STNNBR,CASTNO,SAMPNO,BTLNBR,BTLNBR_FLAG_W,DATE,TIME,LATITUDE,LONGITUDE,DEPTH,CTDPRS,CTDTMP,CTDSAL,CTDSAL_FLAG_W,SALNTY,SALNTY_FLAG_W,CTDOXY,CTDOXY_FLAG_W,OXYGEN,OXYGEN_FLAG_W,SILCAT,SILCAT_FLAG_W,NITRAT,NITRAT_FLAG_W,NITRIT,NITRIT_FLAG_W,PHSPHT,PHSPHT_FLAG_W,CFC-11,CFC-11_FLAG_W,CFC-12,CFC-12_FLAG_W,TRITUM,TRITUM_FLAG_W,HELIUM,HELIUM_FLAG_W,DELHE3,DELHE3_FLAG_W,TCARBN,TCARBN_FLAG_W,ALKALI,ALKALI_FLAG_W,PH,PH_FLAG_W,HELIER,DELHER,THETA,TRITER
,,,,,,,,,,,,DBAR,ITS-90,PSS-78,,PSS-78,,UMOL/KG,,UMOL/KG,,UMOL/KG,,UMOL/KG,,UMOL/KG,,UMOL/KG,,PMOL/KG,,PMOL/KG,,TU,,NMOL/KG,,PERCNT,,UMOL/KG,,UMOL/KG,,25_DEG,,NMOL/KG,PERCNT,DEG C,TU
      325023_1,  P14N,    36,  1,     36,     36,2,19930715,0606, 44.5008, 179.0158, 5674,      3.2,  10.5030,  33.3401,2,  33.3394,2,   -999.0,9,    283.8,2,    22.53,2,    11.37,2,     0.20,2,     1.12,2, -999.000,5, -999.000,5, -999.000,9,-999.0000,9,  -999.00,9,   -999.0,9,   -999.0,9,  -999.00,9,-999.0000,-999.000, 10.5026,-999.000
      325023_1,  P14N,    36,  1,     35,     35,2,19930715,0606, 44.5008, 179.0158, 5674,     38.2,  10.0539,  33.5480,2,  33.5383,2,   -999.0,9,    285.5,2,    21.69,2,    10.96,2,     0.19,2,     1.07,2, -999.000,5, -999.000,5, -999.000,9,-999.0000,9,  -999.00,9,   -999.0,9,   -999.0,9,  -999.00,9,-999.0000,-999.000, 10.0495,-999.000
      325023_1,  P14N,    36,  1,     34,     34,2,19930715,0606, 44.5008, 179.0158, 5674,     69.1,   7.8618,  33.8105,2,  33.8135,2,   -999.0,9,    293.0,2,    22.21,2,    12.50,2,     0.34,2,     1.11,2, -999.000,5, -999.000,5, -999.000,9,-999.0000,9,  -999.00,9,   -999.0,9,   -999.0,9,  -999.00,9,-999.0000,-999.000,  7.8550,-999.000
      325023_1,  P14N,    36,  1,     33,     33,2,19930715,0606, 44.5008, 179.0158, 5674,     98.9,   7.3092,  33.7707,2,  33.7721,2,   -999.0,9,    287.1,2,    23.89,2,    14.23,2,     0.02,2,     1.20,2, -999.000,5, -999.000,5, -999.000,9,-999.0000,9,  -999.00,9,   -999.0,9,   -999.0,9,  -999.00,9,-999.0000,-999.000,  7.3000,-999.000
      325023_1,  P14N,    36,  1,     32,     32,2,19930715,0606, 44.5008, 179.0158, 5674,    128.8,   7.3217,  33.7966,2,  33.7957,2,   -999.0,9,    285.7,2,    23.83,2,    14.23,2,     0.01,2,     1.19,2, -999.000,5, -999.000,5, -999.000,9,-999.0000,9,  -999.00,9,   -999.0,9,   -999.0,9,  -999.00,9,-999.0000,-999.000,  7.3096,-999.000
      325023_1,  P14N,    36,  1,     31,     31,2,19930715,0606, 44.5008, 179.0158, 5674,    159.6,   7.3374,  33.8132,2,  33.8152,2,   -999.0,9,    284.7,2,    23.76,2,    14.24,2,     0.00,2,     1.20,2, -999.000,5, -999.000,5, -999.000,9,-999.0000,9,  -999.00,9,   -999.0,9,   -999.0,9,  -999.00,9,-999.0000,-999.000,  7.3224,-999.000
      325023_1,  P14N,    36,  1,     30,     30,2,19930715,0606, 44.5008, 179.0158, 5674,    210.2,   7.4408,  33.8639,2,  33.8607,2,   -999.0,9,    277.2,2,    23.70,2,    14.59,2,     0.01,2,     1.20,2, -999.000,5, -999.000,5, -999.000,9,-999.0000,9,  -999.00,9,   -999.0,9,   -999.0,9,  -999.00,9,-999.0000,-999.000,  7.4207,-999.000
      325023_1,  P14N,    36,  1,     29,     29,2,19930715,0606, 44.5008, 179.0158, 5674,    260.5,   7.0283,  33.9125,2,  33.9100,2,   -999.0,9,    233.1,2,    34.44,2,    19.21,2,     0.00,2,     1.50,2, -999.000,5, -999.000,5, -999.000,9,-999.0000,9,  -999.00,9,   -999.0,9,   -999.0,9,  -999.00,9,-999.0000,-999.000,  7.0041,-999.000
      325023_1,  P14N,    36,  1,     28,     28,2,19930715,0606, 44.5008, 179.0158, 5674,    310.6,   6.0030,  33.9114,2,  33.9125,2,   -999.0,9,    178.4,2,    52.13,2,    26.34,2,     0.00,2,     1.98,2, -999.000,5, -999.000,5, -999.000,9,-999.0000,9,  -999.00,9,   -999.0,9,   -999.0,9,  -999.00,9,-999.0000,-999.000,  5.9766,-999.000
      325023_1,  P14N,    36,  1,     27,     27,2,19930715,0606, 44.5008, 179.0158, 5674,    411.2,   4.8743,  33.9575,2,  33.9549,2,   -999.0,9,    124.0,2,    73.55,2,    33.23,2,     0.00,2,     2.45,2, -999.000,5, -999.000,5, -999.000,9,-999.0000,9,  -999.00,9,   -999.0,9,   -999.0,9,  -999.00,9,-999.0000,-999.000,  4.8426,-999.000
      325023_1,  P14N,    36,  1,     26,     26,2,19930715,0606, 44.5008, 179.0158, 5674,    512.4,   4.3256,  34.0391,2,  34.0339,2,   -999.0,9,     87.3,2,    90.82,2,    37.15,2,     0.00,2,     2.72,2, -999.000,5, -999.000,5, -999.000,9,-999.0000,9,  -999.00,9,   -999.0,9,   -999.0,9,  -999.00,9,-999.0000,-999.000,  4.2878,-999.000
      325023_1,  P14N,    36,  1,     25,     25,2,19930715,0606, 44.5008, 179.0158, 5674,    612.5,   4.0115,  34.1347,2,  34.1323,2,   -999.0,9,     59.2,2,   105.26,2,    39.84,2,     0.00,2,     2.90,2, -999.000,5, -999.000,5, -999.000,9,-999.0000,9,  -999.00,9,   -999.0,9,   -999.0,9,  -999.00,9,-999.0000,-999.000,  3.9672,-999.000
      325023_1,  P14N,    36,  1,     24,     24,2,19930715,0606, 44.5008, 179.0158, 5674,    713.4,   3.7555,  34.2079,2,  34.2065,2,   -999.0,9,     45.6,2,   116.27,2,    41.23,2,     0.00,2,     2.96,2, -999.000,5, -999.000,5, -999.000,9,-999.0000,9,  -999.00,9,   -999.0,9,   -999.0,9,  -999.00,9,-999.0000,-999.000,  3.7048,-999.000
      325023_1,  P14N,    36,  1,     23,     23,2,19930715,0606, 44.5008, 179.0158, 5674,    814.3,   3.4687,  34.2650,2,  34.2639,2,   -999.0,9,     37.4,2,   126.16,2,    42.11,2,     0.00,2,     3.02,2, -999.000,5, -999.000,5, -999.000,9,-999.0000,9,  -999.00,9,   -999.0,9,   -999.0,9,  -999.00,9,-999.0000,-999.000,  3.4120,-999.000
      325023_1,  P14N,    36,  1,     22,     22,2,19930715,0606, 44.5008, 179.0158, 5674,    915.4,   3.2320,  34.3177,2,  34.3161,2,   -999.0,9,     33.9,2,   134.52,2,    42.53,2,     0.00,2,     3.05,2, -999.000,5, -999.000,5, -999.000,9,-999.0000,9,  -999.00,9,   -999.0,9,   -999.0,9,  -999.00,9,-999.0000,-999.000,  3.1691,-999.000
      325023_1,  P14N,    36,  1,     21,     21,2,19930715,0606, 44.5008, 179.0158, 5674,   1016.9,   2.9880,  34.3611,2,  34.3596,2,   -999.0,9,     30.9,2,   142.35,2,    42.94,2,     0.00,2,     3.07,2, -999.000,5, -999.000,5, -999.000,9,-999.0000,9,  -999.00,9,   -999.0,9,   -999.0,9,  -999.00,9,-999.0000,-999.000,  2.9192,-999.000
      325023_1,  P14N,    36,  1,     20,     20,2,19930715,0606, 44.5008, 179.0158, 5674,   1218.7,   2.7008,  34.4315,2,  34.4315,2,   -999.0,9,     28.6,2,   152.29,2,    43.45,2,     0.00,2,     3.09,2, -999.000,5, -999.000,5, -999.000,9,-999.0000,9,  -999.00,9,   -999.0,9,   -999.0,9,  -999.00,9,-999.0000,-999.000,  2.6190,-999.000
      325023_1,  P14N,    36,  1,     19,     19,2,19930715,0606, 44.5008, 179.0158, 5674,   1420.6,   2.4374,  34.4821,2,  34.4815,2,   -999.0,9,     33.8,2,   160.07,2,    43.30,2,     0.00,2,     3.08,2, -999.000,5, -999.000,5, -999.000,9,-999.0000,9,  -999.00,9,   -999.0,9,   -999.0,9,  -999.00,9,-999.0000,-999.000,  2.3425,-999.000
      325023_1,  P14N,    36,  1,     18,     18,3,19930715,0606, 44.5008, 179.0158, 5674,   1623.4,   2.2460,  34.5234,2,  34.3964,4,   -999.0,9,   -999.0,9,   145.14,4,    39.88,4,     0.01,4,     2.86,4, -999.000,5, -999.000,5, -999.000,9,-999.0000,9,  -999.00,9,   -999.0,9,   -999.0,9,  -999.00,9,-999.0000,-999.000,  2.1372,-999.000
      325023_1,  P14N,    36,  1,     17,     17,2,19930715,0606, 44.5008, 179.0158, 5674,   1824.4,   2.0966,  34.5528,2,  34.5520,2,   -999.0,9,     49.3,2,   168.04,2,    42.44,2,     0.00,2,     3.01,2, -999.000,5, -999.000,5, -999.000,9,-999.0000,9,  -999.00,9,   -999.0,9,   -999.0,9,  -999.00,9,-999.0000,-999.000,  1.9735,-999.000
      325023_1,  P14N,    36,  1,     16,     16,2,19930715,0606, 44.5008, 179.0158, 5674,   2024.3,   1.9622,  34.5819,2,  34.5800,2,   -999.0,9,     61.0,2,   170.05,2,    41.69,2,     0.00,2,     2.96,2, -999.000,5, -999.000,5, -999.000,9,-999.0000,9,  -999.00,9,   -999.0,9,   -999.0,9,  -999.00,9,-999.0000,-999.000,  1.8244,-999.000
      325023_1,  P14N,    36,  1,     15,     15,2,19930715,0606, 44.5008, 179.0158, 5674,   2227.1,   1.8535,  34.6000,2,  34.6022,2,   -999.0,9,     72.2,2,   170.59,2,    41.07,2,     0.00,2,     2.90,2, -999.000,5, -999.000,5, -999.000,9,-999.0000,9,  -999.00,9,   -999.0,9,   -999.0,9,  -999.00,9,-999.0000,-999.000,  1.7003,-999.000
      325023_1,  P14N,    36,  1,     14,     14,2,19930715,0606, 44.5008, 179.0158, 5674,   2430.7,   1.7655,  34.6171,2,  34.6198,2,   -999.0,9,     84.7,2,   169.65,2,    40.27,2,     0.00,2,     2.84,2, -999.000,5, -999.000,5, -999.000,9,-999.0000,9,  -999.00,9,   -999.0,9,   -999.0,9,  -999.00,9,-999.0000,-999.000,  1.5959,-999.000
      325023_1,  P14N,    36,  1,     13,     13,2,19930715,0606, 44.5008, 179.0158, 5674,   2636.4,   1.6860,  34.6303,4,  34.6349,2,   -999.0,9,     96.4,2,   166.81,2,    39.43,2,     0.00,2,     2.80,2, -999.000,5, -999.000,5, -999.000,9,-999.0000,9,  -999.00,9,   -999.0,9,   -999.0,9,  -999.00,9,-999.0000,-999.000,  1.4993,-999.000
      325023_1,  P14N,    36,  1,     12,     12,2,19930715,0606, 44.5008, 179.0158, 5674,   2841.4,   1.6285,  34.6418,4,  34.6457,2,   -999.0,9,    106.4,2,   166.09,2,    38.82,2,     0.00,2,     2.75,2, -999.000,5, -999.000,5, -999.000,9,-999.0000,9,  -999.00,9,   -999.0,9,   -999.0,9,  -999.00,9,-999.0000,-999.000,  1.4241,-999.000
      325023_1,  P14N,    36,  1,     11,     11,2,19930715,0606, 44.5008, 179.0158, 5674,   3047.2,   1.5837,  34.6516,2,  34.6543,2,   -999.0,9,    114.7,2,   164.95,2,    38.30,2,     0.00,2,     2.71,2, -999.000,5, -999.000,5, -999.000,9,-999.0000,9,  -999.00,9,   -999.0,9,   -999.0,9,  -999.00,9,-999.0000,-999.000,  1.3607,-999.000
      325023_1,  P14N,    36,  1,     10,     10,2,19930715,0606, 44.5008, 179.0158, 5674,   3354.7,   1.5294,  34.6624,2,  34.6646,2,   -999.0,9,    127.0,2,   161.93,2,    37.55,2,     0.00,2,     2.64,2, -999.000,5, -999.000,5, -999.000,9,-999.0000,9,  -999.00,9,   -999.0,9,   -999.0,9,  -999.00,9,-999.0000,-999.000,  1.2773,-999.000
      325023_1,  P14N,    36,  1,      9,      9,2,19930715,0606, 44.5008, 179.0158, 5674,   3663.2,   1.4979,  34.6676,4,  34.6725,2,   -999.0,9,    136.2,2,   159.96,2,    36.94,2,     0.00,2,     2.60,2, -999.000,5, -999.000,5, -999.000,9,-999.0000,9,  -999.00,9,   -999.0,9,   -999.0,9,  -999.00,9,-999.0000,-999.000,  1.2151,-999.000
      325023_1,  P14N,    36,  1,      8,      8,2,19930715,0606, 44.5008, 179.0158, 5674,   3970.9,   1.4790,  34.6730,4,  34.6775,2,   -999.0,9,    143.4,2,   158.00,2,    36.52,2,     0.00,2,     2.56,2, -999.000,5, -999.000,5, -999.000,9,-999.0000,9,  -999.00,9,   -999.0,9,   -999.0,9,  -999.00,9,-999.0000,-999.000,  1.1639,-999.000
      325023_1,  P14N,    36,  1,      7,      7,2,19930715,0606, 44.5008, 179.0158, 5674,   4280.2,   1.4792,  34.6828,2,  34.6828,2,   -999.0,9,    148.4,2,   157.49,2,    36.10,2,     0.00,2,     2.54,2, -999.000,5, -999.000,5, -999.000,9,-999.0000,9,  -999.00,9,   -999.0,9,   -999.0,9,  -999.00,9,-999.0000,-999.000,  1.1299,-999.000
      325023_1,  P14N,    36,  1,      6,      6,2,19930715,0606, 44.5008, 179.0158, 5674,   4589.5,   1.4949,  34.6852,2,  34.6854,2,   -999.0,9,    150.8,2,   158.85,2,    35.96,2,     0.00,2,     2.52,2, -999.000,5, -999.000,5, -999.000,9,-999.0000,9,  -999.00,9,   -999.0,9,   -999.0,9,  -999.00,9,-999.0000,-999.000,  1.1097,-999.000
      325023_1,  P14N,    36,  1,      5,      5,2,19930715,0606, 44.5008, 179.0158, 5674,   4898.6,   1.5227,  34.6868,2,  34.6865,2,   -999.0,9,    152.1,2,   161.04,2,    35.95,2,     0.00,2,     2.52,2, -999.000,5, -999.000,5, -999.000,9,-999.0000,9,  -999.00,9,   -999.0,9,   -999.0,9,  -999.00,9,-999.0000,-999.000,  1.1000,-999.000
      325023_1,  P14N,    36,  1,      4,      4,2,19930715,0606, 44.5008, 179.0158, 5674,   5207.7,   1.5615,  34.6870,2,  34.6865,2,   -999.0,9,    152.1,2,   161.16,2,    35.94,2,     0.00,2,     2.51,2, -999.000,5, -999.000,5, -999.000,9,-999.0000,9,  -999.00,9,   -999.0,9,   -999.0,9,  -999.00,9,-999.0000,-999.000,  1.0997,-999.000
      325023_1,  P14N,    36,  1,      3,      3,2,19930715,0606, 44.5008, 179.0158, 5674,   5516.9,   1.6020,  34.6869,2,  34.6867,2,   -999.0,9,    152.2,2,   161.06,2,    35.98,2,     0.00,2,     2.51,2, -999.000,5, -999.000,5, -999.000,9,-999.0000,9,  -999.00,9,   -999.0,9,   -999.0,9,  -999.00,9,-999.0000,-999.000,  1.0996,-999.000
      325023_1,  P14N,    36,  1,      1,      1,2,19930715,0606, 44.5008, 179.0158, 5674,   5784.7,   1.6383,  34.6870,2,  34.6868,2,   -999.0,9,    152.2,2,   160.88,2,    35.93,2,     0.00,2,     2.51,2, -999.000,5, -999.000,5, -999.000,9,-999.0000,9,  -999.00,9,   -999.0,9,   -999.0,9,  -999.00,9,-999.0000,-999.000,  1.0997,-999.000
      325023_1,  P14N,    36,  1,      2,      2,2,19930715,0606, 44.5008, 179.0158, 5674,   5785.9,   1.6385,  34.6868,2,  34.6861,2,   -999.0,9,    152.3,2,   160.97,2,    35.93,2,     0.00,2,     2.51,2, -999.000,5, -999.000,5, -999.000,9,-999.0000,9,  -999.00,9,   -999.0,9,   -999.0,9,  -999.00,9,-999.0000,-999.000,  1.0997,-999.000