BOTTLE,20131125MIRCJHATS
EXPOCODE,SECT_ID,STNNBR,CASTNO,SAMPNO,BTLNBR,BTLNBR_FLAG_W,DATE,TIME,LATITUDE,LONGITUDE,DEPTH,CTDPRS,CTDTMP,CTDSAL,CTDSAL_FLAG_W,SALNTY,SALNTY_FLAG_W,CTDOXY,CTDOXY_FLAG_W,OXYGEN,OXYGEN_FLAG_W,SILCAT,SILCAT_FLAG_W,NITRAT,NITRAT_FLAG_W,NITRIT,NITRIT_FLAG_W,PHSPHT,PHSPHT_FLAG_W,CFC-11,CFC-11_FLAG_W,CFC-12,CFC-12_FLAG_W,TRITUM,TRITUM_FLAG_W,HELIUM,HELIUM_FLAG_W,DELHE3,DELHE3_FLAG_W,TCARBN,TCARBN_FLAG_W,ALKALI,ALKALI_FLAG_W,PH,PH_FLAG_W,HELIER,DELHER,THETA,TRITER
,,,,,,,,,,,,DBAR,ITS-90,PSS-78,,PSS-78,,UMOL/KG,,UMOL/KG,,UMOL/KG,,UMOL/KG,,UMOL/KG,,UMOL/KG,,PMOL/KG,,PMOL/KG,,TU,,NMOL/KG,,PERCNT,,UMOL/KG,,UMOL/KG,,25_DEG,,NMOL/KG,PERCNT,DEG C,TU
      325024_1,  P14N,   157,  1,     36,     36,2,19930822,0705, -3.4967, 179.0068, 5235,      2.5,  30.0464,  34.6136,2,  34.6209,2,   -999.0,9,    195.2,2,     2.73,2,     0.03,2,     0.00,2,     0.19,2,    1.546,2,    0.855,2, -999.000,9,-999.0000,9,  -999.00,9,   -999.0,9,   -999.0,9,  -999.00,9,-999.0000,-999.000, 30.0458,-999.000
      325024_1,  P14N,   157,  1,     35,     35,2,19930822,0705, -3.4967, 179.0068, 5235,     32.4,  30.0461,  34.7849,2,  34.7839,2,   -999.0,9,    194.5,2,     2.48,2,     0.03,2,     0.00,2,     0.19,2,    1.697,2,    0.928,2, -999.000,9,-999.0000,9,  -999.00,9,   -999.0,9,   -999.0,9,  -999.00,9,-999.0000,-999.000, 30.0381,-999.000
      325024_1,  P14N,   157,  1,     34,     34,2,19930822,0705, -3.4967, 179.0068, 5235,     61.5,  29.9774,  34.8483,2,  34.8567,2,   -999.0,9,    195.7,2,     2.43,2,     0.03,2,     0.00,2,     0.20,2,    1.732,2,    0.935,2, -999.000,9,-999.0000,9,  -999.00,9,   -999.0,9,   -999.0,9,  -999.00,9,-999.0000,-999.000, 29.9622,-999.000
      325024_1,  P14N,   157,  1,     33,     33,2,19930822,0705, -3.4967, 179.0068, 5235,     91.3,  29.7681,  35.0541,2,  35.0701,2,   -999.0,9,    201.9,2,     2.18,2,     0.07,2,     0.00,2,     0.24,2,    1.545,2,    0.843,2, -999.000,9,-999.0000,9,  -999.00,9,   -999.0,9,   -999.0,9,  -999.00,9,-999.0000,-999.000, 29.7456,-999.000
      325024_1,  P14N,   157,  1,     32,     32,2,19930822,0705, -3.4967, 179.0068, 5235,    121.6,  28.0375,  35.4369,2,  35.4407,2,   -999.0,9,    165.7,2,     2.13,2,     3.00,2,     1.99,2,     0.60,2,    1.629,6,    0.878,6, -999.000,9,-999.0000,9,  -999.00,9,   -999.0,9,   -999.0,9,  -999.00,9,-999.0000,-999.000, 28.0088,-999.000
      325024_1,  P14N,   157,  1,     31,     31,2,19930822,0705, -3.4967, 179.0068, 5235,    152.1,  23.6736,  36.0458,2,  36.0332,2,   -999.0,9,    136.9,2,     2.07,2,     7.86,2,     0.29,2,     0.85,2,    1.920,2,    0.993,2, -999.000,9,-999.0000,9,  -999.00,9,   -999.0,9,   -999.0,9,  -999.00,9,-999.0000,-999.000, 23.6418,-999.000
      325024_1,  P14N,   157,  1,     30,     30,2,19930822,0705, -3.4967, 179.0068, 5235,    202.6,  15.4735,  35.2504,2,  35.2298,2,   -999.0,9,     94.4,2,    11.06,2,    19.08,2,     0.01,2,     1.53,2,    0.966,2,    0.498,2, -999.000,9,-999.0000,9,  -999.00,9,   -999.0,9,   -999.0,9,  -999.00,9,-999.0000,-999.000, 15.4421,-999.000
      325024_1,  P14N,   157,  1,     29,     29,2,19930822,0705, -3.4967, 179.0068, 5235,    252.8,  11.3587,  34.8500,2,  34.8546,2,   -999.0,9,     93.0,2,    19.26,2,    25.56,2,     0.00,2,     1.88,2,    0.402,2,    0.195,2, -999.000,9,-999.0000,9,  -999.00,9,   -999.0,9,   -999.0,9,  -999.00,9,-999.0000,-999.000, 11.3269,-999.000
      325024_1,  P14N,   157,  1,     28,     28,2,19930822,0705, -3.4967, 179.0068, 5235,    302.4,   9.9975,  34.7423,2,  34.7411,2,   -999.0,9,     91.1,2,    24.90,2,    28.80,2,     0.00,2,     2.05,2,    0.235,2,    0.120,2, -999.000,9,-999.0000,9,  -999.00,9,   -999.0,9,   -999.0,9,  -999.00,9,-999.0000,-999.000,  9.9623,-999.000
      325024_1,  P14N,   157,  1,     27,     27,2,19930822,0705, -3.4967, 179.0068, 5235,    402.7,   8.8898,  34.6649,2,  34.6667,2,   -999.0,9,     83.4,2,    30.54,2,    32.03,2,     0.00,2,     2.23,2,    0.115,2,    0.054,2, -999.000,9,-999.0000,9,  -999.00,9,   -999.0,9,   -999.0,9,  -999.00,9,-999.0000,-999.000,  8.8461,-999.000
      325024_1,  P14N,   157,  1,     26,     26,2,19930822,0705, -3.4967, 179.0068, 5235,    507.7,   7.8651,  34.6137,2,  34.6118,2,   -999.0,9,     73.0,2,    38.73,2,    35.61,2,     0.00,2,     2.46,2,    0.044,2,    0.024,2, -999.000,9,-999.0000,9,  -999.00,9,   -999.0,9,   -999.0,9,  -999.00,9,-999.0000,-999.000,  7.8134,-999.000
      325024_1,  P14N,   157,  1,     25,     25,2,19930822,0705, -3.4967, 179.0068, 5235,    607.7,   6.9666,  34.5754,2,  34.5739,2,   -999.0,9,     74.7,2,    46.13,2,    37.43,2,     0.00,2,     2.58,2,    0.018,2,    0.007,2, -999.000,9,-999.0000,9,  -999.00,9,   -999.0,9,   -999.0,9,  -999.00,9,-999.0000,-999.000,  6.9085,-999.000
      325024_1,  P14N,   157,  1,     24,     24,2,19930822,0705, -3.4967, 179.0068, 5235,    707.5,   6.1367,  34.5516,2,  34.5519,2,   -999.0,9,     76.4,2,    55.30,2,    38.78,2,     0.00,2,     2.68,2,    0.010,2,    0.005,2, -999.000,9,-999.0000,9,  -999.00,9,   -999.0,9,   -999.0,9,  -999.00,9,-999.0000,-999.000,  6.0731,-999.000
      325024_1,  P14N,   157,  1,     23,     23,2,19930822,0705, -3.4967, 179.0068, 5235,    807.5,   5.5727,  34.5406,2,  34.5411,2,   -999.0,9,     87.6,2,    62.91,2,    38.46,2,     0.00,2,     2.68,2,    0.014,2,    0.004,2, -999.000,9,-999.0000,9,  -999.00,9,   -999.0,9,   -999.0,9,  -999.00,9,-999.0000,-999.000,  5.5030,-999.000
      325024_1,  P14N,   157,  1,     22,     22,2,19930822,0705, -3.4967, 179.0068, 5235,    907.3,   5.0679,  34.5410,2,  34.5418,2,   -999.0,9,     88.9,2,    71.71,2,    38.96,2,     0.00,2,     2.72,2,    0.007,2,    0.003,2, -999.000,9,-999.0000,9,  -999.00,9,   -999.0,9,   -999.0,9,  -999.00,9,-999.0000,-999.000,  4.9924,-999.000
      325024_1,  P14N,   157,  1,     21,     21,2,19930822,0705, -3.4967, 179.0068, 5235,   1007.9,   4.5977,  34.5460,2,  34.5477,2,   -999.0,9,     92.9,2,    79.93,2,    38.91,2,     0.00,2,     2.73,2,    0.003,2,   -0.002,2, -999.000,9,-999.0000,9,  -999.00,9,   -999.0,9,   -999.0,9,  -999.00,9,-999.0000,-999.000,  4.5167,-999.000
      325024_1,  P14N,   157,  1,     20,     20,2,19930822,0705, -3.4967, 179.0068, 5235,   1113.4,   4.2369,  34.5559,2,  34.5585,2,   -999.0,9,     92.6,2,    88.77,2,    39.22,2,     0.00,2,     2.77,2,    0.005,2,    0.000,2, -999.000,9,-999.0000,9,  -999.00,9,   -999.0,9,   -999.0,9,  -999.00,9,-999.0000,-999.000,  4.1496,-999.000
      325024_1,  P14N,   157,  1,     19,     19,2,19930822,0705, -3.4967, 179.0068, 5235,   1213.2,   3.9564,  34.5642,2,  34.5639,2,   -999.0,9,     95.0,2,    94.44,2,    39.27,2,     0.00,2,     2.77,2, -999.000,5, -999.000,5, -999.000,9,-999.0000,9,  -999.00,9,   -999.0,9,   -999.0,9,  -999.00,9,-999.0000,-999.000,  3.8630,-999.000
      325024_1,  P14N,   157,  1,     18,     18,2,19930822,0705, -3.4967, 179.0068, 5235,   1414.9,   3.4197,  34.5815,2,  34.5810,2,   -999.0,9,    103.4,2,   105.33,2,    38.81,2,     0.00,2,     2.74,2, -999.000,5, -999.000,5, -999.000,9,-999.0000,9,  -999.00,9,   -999.0,9,   -999.0,9,  -999.00,9,-999.0000,-999.000,  3.3144,-999.000
      325024_1,  P14N,   157,  1,     17,     17,2,19930822,0705, -3.4967, 179.0068, 5235,   1616.7,   2.8707,  34.6009,2,  34.6007,2,   -999.0,9,    116.8,2,   113.87,2,    37.95,2,     0.00,2,     2.67,2,    0.001,2,    0.001,2, -999.000,9,-999.0000,9,  -999.00,9,   -999.0,9,   -999.0,9,  -999.00,9,-999.0000,-999.000,  2.7546,-999.000
      325024_1,  P14N,   157,  1,     16,     16,2,19930822,0705, -3.4967, 179.0068, 5235,   1818.3,   2.4426,  34.6250,2,  34.6248,2,   -999.0,9,    119.1,2,   125.70,2,    38.04,2,     0.00,2,     2.66,2, -999.000,5, -999.000,5, -999.000,9,-999.0000,9,  -999.00,9,   -999.0,9,   -999.0,9,  -999.00,9,-999.0000,-999.000,  2.3150,-999.000
      325024_1,  P14N,   157,  1,     15,     15,2,19930822,0705, -3.4967, 179.0068, 5235,   2025.3,   2.1669,  34.6414,2,  34.6415,2,   -999.0,9,    121.0,2,   134.78,2,    38.08,2,     0.00,2,     2.67,2, -999.000,5, -999.000,5, -999.000,9,-999.0000,9,  -999.00,9,   -999.0,9,   -999.0,9,  -999.00,9,-999.0000,-999.000,  2.0257,-999.000
      325024_1,  P14N,   157,  1,     14,     14,2,19930822,0705, -3.4967, 179.0068, 5235,   2227.3,   2.0167,  34.6495,2,  34.6497,2,   -999.0,9,    126.2,2,   137.75,2,    37.85,2,     0.00,2,     2.63,2, -999.000,5, -999.000,5, -999.000,9,-999.0000,9,  -999.00,9,   -999.0,9,   -999.0,9,  -999.00,9,-999.0000,-999.000,  1.8605,-999.000
      325024_1,  P14N,   157,  1,     13,     13,2,19930822,0705, -3.4967, 179.0068, 5235,   2430.1,   1.8938,  34.6570,2,  34.6569,2,   -999.0,9,    129.7,2,   140.94,2,    37.62,2,     0.00,2,     2.60,2, -999.000,5, -999.000,5, -999.000,9,-999.0000,9,  -999.00,9,   -999.0,9,   -999.0,9,  -999.00,9,-999.0000,-999.000,  1.7218,-999.000
      325024_1,  P14N,   157,  1,     12,     12,2,19930822,0705, -3.4967, 179.0068, 5235,   2632.3,   1.7868,  34.6622,2,  34.6626,2,   -999.0,9,    131.9,2,   143.72,2,    37.49,2,     0.00,2,     2.59,2, -999.000,5, -999.000,5, -999.000,9,-999.0000,9,  -999.00,9,   -999.0,9,   -999.0,9,  -999.00,9,-999.0000,-999.000,  1.5984,-999.000
      325024_1,  P14N,   157,  1,     11,     11,2,19930822,0705, -3.4967, 179.0068, 5235,   2835.2,   1.7065,  34.6682,2,  34.6683,2,   -999.0,9,    137.9,2,   143.61,2,    37.04,2,     0.00,2,     2.56,2, -999.000,5, -999.000,5, -999.000,9,-999.0000,9,  -999.00,9,   -999.0,9,   -999.0,9,  -999.00,9,-999.0000,-999.000,  1.5009,-999.000
      325024_1,  P14N,   157,  1,     10,     10,2,19930822,0705, -3.4967, 179.0068, 5235,   3040.3,   1.6383,  34.6728,2,  34.6729,2,   -999.0,9,    143.0,2,   143.50,2,    36.64,2,     0.00,2,     2.53,2,    0.002,2,   -0.002,2, -999.000,9,-999.0000,9,  -999.00,9,   -999.0,9,   -999.0,9,  -999.00,9,-999.0000,-999.000,  1.4146,-999.000
      325024_1,  P14N,   157,  1,      9,      9,2,19930822,0705, -3.4967, 179.0068, 5235,   3344.6,   1.5379,  34.6797,2,  34.6790,2,   -999.0,9,    150.5,2,   142.98,2,    36.23,2,     0.00,2,     2.49,2, -999.000,5, -999.000,5, -999.000,9,-999.0000,9,  -999.00,9,   -999.0,9,   -999.0,9,  -999.00,9,-999.0000,-999.000,  1.2865,-999.000
      325024_1,  P14N,   157,  1,      8,      8,2,19930822,0705, -3.4967, 179.0068, 5235,   3652.3,   1.4566,  34.6868,2,  34.6864,2,   -999.0,9,    160.2,2,   140.60,2,    35.66,2,     0.00,2,     2.44,2, -999.000,5, -999.000,5, -999.000,9,-999.0000,9,  -999.00,9,   -999.0,9,   -999.0,9,  -999.00,9,-999.0000,-999.000,  1.1759,-999.000
      325024_1,  P14N,   157,  1,      7,      7,2,19930822,0705, -3.4967, 179.0068, 5235,   3962.1,   1.4016,  34.6911,2,  34.6911,2,   -999.0,9,    166.8,2,   139.06,2,    35.12,2,     0.00,2,     2.40,2, -999.000,5, -999.000,5, -999.000,9,-999.0000,9,  -999.00,9,   -999.0,9,   -999.0,9,  -999.00,9,-999.0000,-999.000,  1.0895,-999.000
      325024_1,  P14N,   157,  1,      6,      6,2,19930822,0705, -3.4967, 179.0068, 5235,   4268.3,   1.3291,  34.6966,2,  34.6968,2,   -999.0,9,    176.9,2,   134.24,2,    34.33,2,     0.00,2,     2.35,2, -999.000,5, -999.000,5, -999.000,9,-999.0000,9,  -999.00,9,   -999.0,9,   -999.0,9,  -999.00,9,-999.0000,-999.000,  0.9856,-999.000
      325024_1,  P14N,   157,  1,      5,      5,2,19930822,0705, -3.4967, 179.0068, 5235,   4573.7,   1.2663,  34.7009,2,  34.7009,2,   -999.0,9,    187.5,2,   128.64,2,    33.50,2,     0.00,2,     2.31,2, -999.000,5, -999.000,5, -999.000,9,-999.0000,9,  -999.00,9,   -999.0,9,   -999.0,9,  -999.00,9,-999.0000,-999.000,  0.8900,-999.000
      325024_1,  P14N,   157,  1,      4,      4,2,19930822,0705, -3.4967, 179.0068, 5235,   4880.6,   1.2344,  34.7047,2,  34.7036,2,   -999.0,9,    193.1,2,   125.10,2,    32.97,2,     0.00,2,     2.26,2, -999.000,5, -999.000,5, -999.000,9,-999.0000,9,  -999.00,9,   -999.0,9,   -999.0,9,  -999.00,9,-999.0000,-999.000,  0.8233,-999.000
      325024_1,  P14N,   157,  1,      3,      3,2,19930822,0705, -3.4967, 179.0068, 5235,   5166.9,   1.2538,  34.7046,2,  34.7045,2,   -999.0,9,    196.2,2,   124.79,2,    32.88,2,     0.00,2,     2.25,2, -999.000,5, -999.000,5, -999.000,9,-999.0000,9,  -999.00,9,   -999.0,9,   -999.0,9,  -999.00,9,-999.0000,-999.000,  0.8075,-999.000
      325024_1,  P14N,   157,  1,      1,      1,2,19930822,0705, -3.4967, 179.0068, 5235,   5304.4,   1.2712,  34.7050,2,  34.7039,2,   -999.0,9,    194.7,2,   127.42,3,    32.92,2,     0.00,2,     2.25,2, -999.000,5, -999.000,5, -999.000,9,-999.0000,9,  -999.00,9,   -999.0,9,   -999.0,9,  -999.00,9,-999.0000,-999.000,  0.8073,-999.000
      325024_1,  P14N,   157,  1,      2,      2,2,19930822,0705, -3.4967, 179.0068, 5235,   5304.5,   1.2713,  34.7051,2,  34.7047,2,   -999.0,9,    196.3,2,   124.69,2,    32.88,2,     0.00,2,     2.25,2,    0.002,2,    0.001,2, -999.000,9,-999.0000,9,  -999.00,9,   -999.0,9,   -999.0,9,  -999.00,9,-999.0000,-999.000,  0.8074,-999.000