BOTTLE,20131125MIRCJHATS
EXPOCODE,SECT_ID,STNNBR,CASTNO,SAMPNO,BTLNBR,BTLNBR_FLAG_W,DATE,TIME,LATITUDE,LONGITUDE,DEPTH,CTDPRS,CTDTMP,CTDSAL,CTDSAL_FLAG_W,SALNTY,SALNTY_FLAG_W,CTDOXY,CTDOXY_FLAG_W,OXYGEN,OXYGEN_FLAG_W,SILCAT,SILCAT_FLAG_W,NITRAT,NITRAT_FLAG_W,NITRIT,NITRIT_FLAG_W,PHSPHT,PHSPHT_FLAG_W,CFC-11,CFC-11_FLAG_W,CFC-12,CFC-12_FLAG_W,TRITUM,TRITUM_FLAG_W,HELIUM,HELIUM_FLAG_W,DELHE3,DELHE3_FLAG_W,TCARBN,TCARBN_FLAG_W,ALKALI,ALKALI_FLAG_W,PH,PH_FLAG_W,HELIER,DELHER,THETA,TRITER
,,,,,,,,,,,,DBAR,ITS-90,PSS-78,,PSS-78,,UMOL/KG,,UMOL/KG,,UMOL/KG,,UMOL/KG,,UMOL/KG,,UMOL/KG,,PMOL/KG,,PMOL/KG,,TU,,NMOL/KG,,PERCNT,,UMOL/KG,,UMOL/KG,,25_DEG,,NMOL/KG,PERCNT,DEG C,TU
      325023_1,  P14N,   118,  1,     35,     35,4,19930806,1449,  6.2422, 178.9960, 5791,      1.9,  29.1892,  34.1782,2,  34.1845,2,   -999.0,9,    195.4,2,     2.48,2,     0.04,2,     0.00,2,     0.19,2, -999.000,5, -999.000,5, -999.000,9,-999.0000,9,  -999.00,9,   1898.6,2,   2248.0,2,     8.15,2,-999.0000,-999.000, 29.1888,-999.000
      325023_1,  P14N,   118,  1,     34,     34,4,19930806,1449,  6.2422, 178.9960, 5791,     37.5,  28.8657,  34.2346,2,  34.2366,2,   -999.0,9,    196.5,2,     2.21,2,     0.04,2,     0.00,2,     0.18,2, -999.000,5, -999.000,5, -999.000,9,-999.0000,9,  -999.00,9,   1903.3,2,   2251.4,2,     8.14,2,-999.0000,-999.000, 28.8567,-999.000
      325023_1,  P14N,   118,  1,     33,     33,4,19930806,1449,  6.2422, 178.9960, 5791,     68.3,  28.6023,  34.5779,2,  34.5650,2,   -999.0,9,    197.1,2,     1.76,2,     0.03,2,     0.00,2,     0.22,2, -999.000,5, -999.000,5, -999.000,9,-999.0000,9,  -999.00,9,   1928.9,2,   2276.3,2,  -999.00,9,-999.0000,-999.000, 28.5859,-999.000
      325023_1,  P14N,   118,  1,     32,     32,4,19930806,1449,  6.2422, 178.9960, 5791,     98.8,  23.4025,  34.7292,2,  34.7096,2,   -999.0,9,    173.3,2,     3.47,2,     1.68,2,     0.26,2,     0.37,2, -999.000,5, -999.000,5, -999.000,9,-999.0000,9,  -999.00,9,   2004.8,2,   2284.4,2,     8.02,2,-999.0000,-999.000, 23.3822,-999.000
      325023_1,  P14N,   118,  1,     31,     31,4,19930806,1449,  6.2422, 178.9960, 5791,    129.5,  16.4984,  34.6780,2,  34.6758,2,   -999.0,9,    131.1,2,    12.70,2,    13.03,2,     0.03,2,     0.99,2, -999.000,5, -999.000,5, -999.000,9,-999.0000,9,  -999.00,9,   2102.6,2,   2298.1,2,  -999.00,9,-999.0000,-999.000, 16.4775,-999.000
      325023_1,  P14N,   118,  1,     30,     30,4,19930806,1449,  6.2422, 178.9960, 5791,    159.5,  12.8526,  34.5911,2,  34.5876,2,   -999.0,9,     90.3,2,    22.72,2,    22.77,2,     0.01,2,     1.64,2, -999.000,5, -999.000,5, -999.000,9,-999.0000,9,  -999.00,9,   2167.7,2,   2287.0,2,     7.67,2,-999.0000,-999.000, 12.8309,-999.000
      325023_1,  P14N,   118,  1,     29,     29,4,19930806,1449,  6.2422, 178.9960, 5791,    209.9,  10.5385,  34.6491,2,  34.6453,2,   -999.0,9,     52.0,2,    32.54,2,    31.23,2,     0.00,2,     2.18,2, -999.000,5, -999.000,5, -999.000,9,-999.0000,9,  -999.00,9,   2229.7,2,   2301.8,2,  -999.00,9,-999.0000,-999.000, 10.5134,-999.000
      325023_1,  P14N,   118,  1,     28,     28,4,19930806,1449,  6.2422, 178.9960, 5791,    259.8,   9.7097,  34.6598,2,  34.6582,2,   -999.0,9,     51.5,2,    34.64,2,    33.05,2,     0.00,2,     2.29,2, -999.000,5, -999.000,5, -999.000,9,-999.0000,9,  -999.00,9,   2236.7,2,   2303.7,2,     7.51,2,-999.0000,-999.000,  9.6801,-999.000
      325023_1,  P14N,   118,  1,     27,     27,4,19930806,1449,  6.2422, 178.9960, 5791,    309.8,   9.1673,  34.6474,2,  34.6466,2,   -999.0,9,     54.8,2,    36.35,2,    33.98,2,     0.00,2,     2.36,2, -999.000,5, -999.000,5, -999.000,9,-999.0000,9,  -999.00,9,   2239.0,2,   2306.9,2,     7.50,2,-999.0000,-999.000,  9.1332,-999.000
      325023_1,  P14N,   118,  1,     26,     26,4,19930806,1449,  6.2422, 178.9960, 5791,    409.3,   8.3745,  34.6188,2,  34.6174,2,   -999.0,9,     52.3,2,    41.22,2,    35.96,2,     0.00,2,     2.50,2, -999.000,5, -999.000,5, -999.000,9,-999.0000,9,  -999.00,9,   2250.4,2,   2311.2,2,     7.49,2,-999.0000,-999.000,  8.3316,-999.000
      325023_1,  P14N,   118,  1,     25,     25,4,19930806,1449,  6.2422, 178.9960, 5791,    509.8,   7.7186,  34.5927,2,  34.5915,2,   -999.0,9,     49.7,2,    46.69,2,    37.65,2,     0.00,2,     2.61,2, -999.000,5, -999.000,5, -999.000,9,-999.0000,9,  -999.00,9,   2263.4,2,   2318.4,2,     7.46,2,-999.0000,-999.000,  7.6674,-999.000
      325023_1,  P14N,   118,  1,     24,     24,4,19930806,1449,  6.2422, 178.9960, 5791,    610.4,   6.8848,  34.5655,2,  34.5645,2,   -999.0,9,     35.3,2,    57.89,2,    40.55,2,     0.00,2,     2.88,2, -999.000,5, -999.000,5, -999.000,9,-999.0000,9,  -999.00,9,   2287.6,2,   2343.2,2,     7.42,2,-999.0000,-999.000,  6.8269,-999.000
      325023_1,  P14N,   118,  1,     23,     23,4,19930806,1449,  6.2422, 178.9960, 5791,    710.9,   6.0010,  34.5492,2,  34.5482,2,   -999.0,9,     41.7,2,    68.52,2,    41.87,2,     0.00,2,     2.95,2, -999.000,5, -999.000,5, -999.000,9,-999.0000,9,  -999.00,9,   2297.9,2,   -999.0,9,     7.42,2,-999.0000,-999.000,  5.9378,-999.000
      325023_1,  P14N,   118,  1,     22,     22,4,19930806,1449,  6.2422, 178.9960, 5791,    811.0,   5.2461,  34.5468,2,  34.5458,2,   -999.0,9,     57.2,2,    79.38,2,    41.68,2,     0.00,2,     2.93,2, -999.000,5, -999.000,5, -999.000,9,-999.0000,9,  -999.00,9,   2302.9,2,   2345.7,2,  -999.00,9,-999.0000,-999.000,  5.1781,-999.000
      325023_1,  P14N,   118,  1,     21,     21,4,19930806,1449,  6.2422, 178.9960, 5791,    911.6,   4.7957,  34.5505,2,  34.5494,2,   -999.0,9,     69.5,2,    87.07,2,    40.79,2,     0.00,2,     2.87,2, -999.000,5, -999.000,5, -999.000,9,-999.0000,9,  -999.00,9,   2305.1,2,   2354.0,2,  -999.00,9,-999.0000,-999.000,  4.7217,-999.000
      325023_1,  P14N,   118,  1,     20,     20,4,19930806,1449,  6.2422, 178.9960, 5791,   1012.2,   4.4720,  34.5571,2,  34.5564,2,   -999.0,9,     72.6,2,    92.98,2,    40.88,2,     0.00,2,     2.87,2, -999.000,5, -999.000,5, -999.000,9,-999.0000,9,  -999.00,9,   2311.1,2,   2347.6,2,     7.46,2,-999.0000,-999.000,  4.3916,-999.000
      325023_1,  P14N,   118,  1,     19,     19,4,19930806,1449,  6.2422, 178.9960, 5791,   1214.0,   3.7854,  34.5784,2,  34.5769,2,   -999.0,9,     72.2,2,   109.17,2,    41.58,2,     0.00,2,     2.94,2, -999.000,5, -999.000,5, -999.000,9,-999.0000,9,  -999.00,9,   2329.8,2,   2380.7,2,  -999.00,9,-999.0000,-999.000,  3.6935,-999.000
      325023_1,  P14N,   118,  1,     18,     18,4,19930806,1449,  6.2422, 178.9960, 5791,   1415.6,   3.1945,  34.5958,2,  34.5941,2,   -999.0,9,     83.1,2,   121.45,2,    40.92,2,     0.00,2,     2.88,2, -999.000,5, -999.000,5, -999.000,9,-999.0000,9,  -999.00,9,   2338.7,2,   2394.1,2,  -999.00,9,-999.0000,-999.000,  3.0915,-999.000
      325023_1,  P14N,   118,  1,     17,     17,4,19930806,1449,  6.2422, 178.9960, 5791,   1620.4,   2.7817,  34.6109,2,  34.6098,2,   -999.0,9,     91.0,2,   130.96,2,    40.45,2,     0.00,2,     2.84,2, -999.000,5, -999.000,5, -999.000,9,-999.0000,9,  -999.00,9,   2344.9,2,   2413.3,2,     7.48,2,-999.0000,-999.000,  2.6663,-999.000
      325023_1,  P14N,   118,  1,     16,     16,4,19930806,1449,  6.2422, 178.9960, 5791,   1822.9,   2.3906,  34.6289,2,  34.6279,2,   -999.0,9,     99.9,2,   140.14,2,    39.94,2,     0.00,2,     2.79,2, -999.000,5, -999.000,5, -999.000,9,-999.0000,9,  -999.00,9,   2349.0,2,   2411.7,2,  -999.00,9,-999.0000,-999.000,  2.2634,-999.000
      325023_1,  P14N,   118,  1,     15,     15,4,19930806,1449,  6.2422, 178.9960, 5791,   2027.2,   2.1690,  34.6423,2,  34.6412,2,   -999.0,9,    104.6,2,   145.44,2,    39.66,2,     0.00,2,     2.77,2, -999.000,5, -999.000,5, -999.000,9,-999.0000,9,  -999.00,9,   2351.6,2,   2417.8,2,  -999.00,9,-999.0000,-999.000,  2.0276,-999.000
      325023_1,  P14N,   118,  1,     14,     14,4,19930806,1449,  6.2422, 178.9960, 5791,   2230.5,   2.0233,  34.6512,2,  34.6508,2,   -999.0,9,    109.1,2,   149.09,2,    39.47,2,     0.00,2,     2.73,2, -999.000,5, -999.000,5, -999.000,9,-999.0000,9,  -999.00,9,   2353.1,2,   2423.6,2,     7.52,2,-999.0000,-999.000,  1.8667,-999.000
      325023_1,  P14N,   118,  1,     13,     13,4,19930806,1449,  6.2422, 178.9960, 5791,   2433.9,   1.8962,  34.6591,2,  34.6589,2,   -999.0,9,    114.7,2,   151.49,2,    39.06,2,     0.00,2,     2.70,2, -999.000,5, -999.000,5, -999.000,9,-999.0000,9,  -999.00,9,   2355.7,2,   2425.3,2,  -999.00,9,-999.0000,-999.000,  1.7238,-999.000
      325023_1,  P14N,   118,  1,     12,     12,4,19930806,1449,  6.2422, 178.9960, 5791,   2637.2,   1.8048,  34.6640,2,  34.6642,2,   -999.0,9,    120.1,2,   152.22,2,    38.64,2,     0.00,2,     2.67,2, -999.000,5, -999.000,5, -999.000,9,-999.0000,9,  -999.00,9,   2349.8,2,   2427.0,2,  -999.00,9,-999.0000,-999.000,  1.6156,-999.000
      325023_1,  P14N,   118,  1,     11,     11,4,19930806,1449,  6.2422, 178.9960, 5791,   2842.0,   1.7178,  34.6683,2,  34.6683,2,   -999.0,9,    126.8,2,   152.11,2,    38.23,2,     0.00,2,     2.63,2, -999.000,5, -999.000,5, -999.000,9,-999.0000,9,  -999.00,9,   2346.8,2,   2424.2,2,     7.55,2,-999.0000,-999.000,  1.5114,-999.000
      325023_1,  P14N,   118,  1,     10,     10,4,19930806,1449,  6.2422, 178.9960, 5791,   3045.3,   1.6282,  34.6729,2,  34.6728,2,   -999.0,9,    134.3,2,   151.17,2,    37.68,2,     0.00,2,     2.60,2, -999.000,5, -999.000,5, -999.000,9,-999.0000,9,  -999.00,9,   2341.1,2,   2424.8,2,  -999.00,9,-999.0000,-999.000,  1.4042,-999.000
      325023_1,  P14N,   118,  1,      9,      9,4,19930806,1449,  6.2422, 178.9960, 5791,   3352.1,   1.5476,  34.6790,2,  34.6771,2,   -999.0,9,    142.7,2,   149.59,2,    37.08,2,     0.00,2,     2.54,2, -999.000,5, -999.000,5, -999.000,9,-999.0000,9,  -999.00,9,   2336.5,2,   2422.8,2,  -999.00,9,-999.0000,-999.000,  1.2952,-999.000
      325023_1,  P14N,   118,  1,      8,      8,4,19930806,1449,  6.2422, 178.9960, 5791,   3658.3,   1.4592,  34.6851,2,  34.6848,2,   -999.0,9,    153.3,2,   146.98,2,    36.35,2,     0.00,2,     2.49,2, -999.000,5, -999.000,5, -999.000,9,-999.0000,9,  -999.00,9,   2327.3,2,   2419.6,2,     7.58,2,-999.0000,-999.000,  1.1778,-999.000
      325023_1,  P14N,   118,  1,      7,      7,4,19930806,1449,  6.2422, 178.9960, 5791,   3965.1,   1.3672,  34.6915,2,  34.6913,2,   -999.0,9,    165.5,2,   141.89,2,    35.45,2,     0.00,2,     2.43,2, -999.000,5, -999.000,5, -999.000,9,-999.0000,9,  -999.00,9,   2313.6,2,   2412.9,2,  -999.00,9,-999.0000,-999.000,  1.0558,-999.000
      325023_1,  P14N,   118,  1,      6,      6,4,19930806,1449,  6.2422, 178.9960, 5791,   4271.0,   1.2951,  34.6972,2,  34.6980,2,   -999.0,9,    177.5,2,   135.80,2,    34.59,2,     0.00,2,     2.37,2, -999.000,5, -999.000,5, -999.000,9,-999.0000,9,  -999.00,9,   2302.5,2,   2403.3,2,  -999.00,9,-999.0000,-999.000,  0.9523,-999.000
      325023_1,  P14N,   118,  1,     36,     36,2,19930806,1449,  6.2422, 178.9960, 5791,   4578.0,   1.3243,  34.7004,2,-999.0000,9,   -999.0,9,   -999.0,9,  -999.00,9,  -999.00,9,  -999.00,9,  -999.00,9, -999.000,5, -999.000,5, -999.000,9,-999.0000,9,  -999.00,9,   -999.0,9,   -999.0,9,  -999.00,9,-999.0000,-999.000,  0.8340,-999.000
      325023_1,  P14N,   118,  1,      5,      5,2,19930806,1449,  6.2422, 178.9960, 5791,   4885.7,   1.2668,  34.7023,2,  34.7007,2,   -999.0,9,    184.6,2,   132.41,2,    34.10,2,     0.00,2,     2.32,2, -999.000,5, -999.000,5, -999.000,9,-999.0000,9,  -999.00,9,   2293.2,2,   2397.3,2,     7.61,2,-999.0000,-999.000,  0.8900,-999.000
      325023_1,  P14N,   118,  1,      4,      4,2,19930806,1449,  6.2422, 178.9960, 5791,   5192.4,   1.2755,  34.7032,2,  34.7021,2,   -999.0,9,    187.7,2,   130.26,2,    33.83,2,     0.00,2,     2.31,2, -999.000,5, -999.000,5, -999.000,9,-999.0000,9,  -999.00,9,   2289.9,2,   2392.4,2,  -999.00,9,-999.0000,-999.000,  0.8624,-999.000
      325023_1,  P14N,   118,  1,      3,      3,2,19930806,1449,  6.2422, 178.9960, 5791,   5500.3,   1.2929,  34.7039,2,  34.7031,2,   -999.0,9,    190.6,2,   128.32,2,    33.52,2,     0.00,2,     2.30,2, -999.000,5, -999.000,5, -999.000,9,-999.0000,9,  -999.00,9,   2284.7,2,   2389.2,2,  -999.00,9,-999.0000,-999.000,  0.8422,-999.000
      325023_1,  P14N,   118,  1,      2,      2,2,19930806,1449,  6.2422, 178.9960, 5791,   5808.6,   1.3642,  34.7038,2,  34.7033,2,   -999.0,9,    191.9,2,   128.01,2,    33.25,2,     0.00,2,     2.29,2, -999.000,5, -999.000,5, -999.000,9,-999.0000,9,  -999.00,9,   2280.9,2,   2388.4,2,  -999.00,9,-999.0000,-999.000,  0.8327,-999.000
      325023_1,  P14N,   118,  1,      1,      1,2,19930806,1449,  6.2422, 178.9960, 5791,   5874.4,   1.3732,  34.7036,2,  34.7035,2,   -999.0,9,    191.2,2,   127.91,2,    33.34,2,     0.00,2,     2.29,2, -999.000,5, -999.000,5, -999.000,9,-999.0000,9,  -999.00,9,   2282.3,2,   2386.4,2,  -999.00,9,-999.0000,-999.000,  0.8328,-999.000