BOTTLE,20131125MIRCJHATS
EXPOCODE,SECT_ID,STNNBR,CASTNO,SAMPNO,BTLNBR,BTLNBR_FLAG_W,DATE,TIME,LATITUDE,LONGITUDE,DEPTH,CTDPRS,CTDTMP,CTDSAL,CTDSAL_FLAG_W,SALNTY,SALNTY_FLAG_W,CTDOXY,CTDOXY_FLAG_W,OXYGEN,OXYGEN_FLAG_W,SILCAT,SILCAT_FLAG_W,NITRAT,NITRAT_FLAG_W,NITRIT,NITRIT_FLAG_W,PHSPHT,PHSPHT_FLAG_W,CFC-11,CFC-11_FLAG_W,CFC-12,CFC-12_FLAG_W,TRITUM,TRITUM_FLAG_W,HELIUM,HELIUM_FLAG_W,DELHE3,DELHE3_FLAG_W,TCARBN,TCARBN_FLAG_W,ALKALI,ALKALI_FLAG_W,PH,PH_FLAG_W,HELIER,DELHER,THETA,TRITER
,,,,,,,,,,,,DBAR,ITS-90,PSS-78,,PSS-78,,UMOL/KG,,UMOL/KG,,UMOL/KG,,UMOL/KG,,UMOL/KG,,UMOL/KG,,PMOL/KG,,PMOL/KG,,TU,,NMOL/KG,,PERCNT,,UMOL/KG,,UMOL/KG,,25_DEG,,NMOL/KG,PERCNT,DEG C,TU
      325023_1,  P14N,    12,  1,     35,     35,4,19930709,1435, 53.4963,-178.2538, 3771,      3.7,   6.9788,  32.9896,2,  32.9894,2,   -999.0,9,    308.0,2,    30.49,2,    15.75,2,     0.17,2,     1.53,2, -999.000,5, -999.000,5,    2.016,2,-999.0000,9,  -999.00,9,   2063.3,2,   2238.8,2,     7.84,2,-999.0000,-999.000,  6.9785,   0.020
      325023_1,  P14N,    12,  1,     34,     34,4,19930709,1435, 53.4963,-178.2538, 3771,     36.0,   3.6151,  33.1734,2,  33.1665,2,   -999.0,9,    303.1,2,    47.44,2,    23.84,2,     0.42,2,     2.12,2, -999.000,5, -999.000,5,    2.522,2,-999.0000,9,  -999.00,9,   2126.3,2,   2249.4,2,     7.71,2,-999.0000,-999.000,  3.6129,   0.025
      325023_1,  P14N,    12,  1,     33,     33,4,19930709,1435, 53.4963,-178.2538, 3771,     66.6,   2.6840,  33.1875,2,  33.1865,2,   -999.0,9,    318.1,2,    58.38,2,    28.40,2,     0.41,2,     2.28,2, -999.000,5, -999.000,5, -999.000,9,-999.0000,9,  -999.00,9,   2137.0,2,   2230.9,2,     7.67,2,-999.0000,-999.000,  2.6803,-999.000
      325023_1,  P14N,    12,  1,     32,     32,4,19930709,1435, 53.4963,-178.2538, 3771,     96.7,   2.5105,  33.2011,2,  33.2039,2,   -999.0,9,    314.6,2,    59.72,2,    29.31,2,     0.03,2,     2.32,2, -999.000,5, -999.000,5,    2.164,2,-999.0000,9,  -999.00,9,   2142.5,2,   2246.5,2,     7.65,2,-999.0000,-999.000,  2.5052,   0.022
      325023_1,  P14N,    12,  1,     31,     31,4,19930709,1435, 53.4963,-178.2538, 3771,    127.1,   2.5455,  33.2367,2,  33.2384,2,   -999.0,9,    303.7,2,    61.76,2,    30.18,2,     0.02,2,     2.36,2, -999.000,5, -999.000,5, -999.000,9,-999.0000,9,  -999.00,9,   2152.8,2,   2242.6,2,     7.63,2,-999.0000,-999.000,  2.5386,-999.000
      325023_1,  P14N,    12,  1,     30,     30,4,19930709,1435, 53.4963,-178.2538, 3771,    157.4,   3.1467,  33.3751,2,  33.3990,2,   -999.0,9,    225.0,2,    72.43,2,    33.62,2,     0.02,2,     2.57,2, -999.000,5, -999.000,5,    2.088,2,-999.0000,9,  -999.00,9,   -999.0,9,   -999.0,9,  -999.00,9,-999.0000,-999.000,  3.1372,   0.021
      325023_1,  P14N,    12,  1,     29,     29,4,19930709,1435, 53.4963,-178.2538, 3771,    206.8,   3.6202,  33.6039,2,  33.6055,2,   -999.0,9,    144.2,2,    84.78,2,    37.68,2,     0.02,2,     2.79,2, -999.000,5, -999.000,5, -999.000,9,-999.0000,9,  -999.00,9,   -999.0,9,   -999.0,9,  -999.00,9,-999.0000,-999.000,  3.6068,-999.000
      325023_1,  P14N,    12,  1,     28,     28,4,19930709,1435, 53.4963,-178.2538, 3771,    256.4,   3.7400,  33.7397,2,  33.7405,2,   -999.0,9,     98.2,2,    94.25,2,    40.31,2,     0.02,2,     2.94,2, -999.000,5, -999.000,5,    1.406,2,-999.0000,9,  -999.00,9,   -999.0,9,   -999.0,9,  -999.00,9,-999.0000,-999.000,  3.7230,   0.014
      325023_1,  P14N,    12,  1,     27,     27,4,19930709,1435, 53.4963,-178.2538, 3771,    307.7,   3.7054,  33.8409,2,  33.8407,2,   -999.0,9,     75.3,2,   101.56,2,    41.66,2,     0.01,2,     3.02,2, -999.000,5, -999.000,5, -999.000,9,-999.0000,9,  -999.00,9,   -999.0,9,   -999.0,9,  -999.00,9,-999.0000,-999.000,  3.6848,-999.000
      325023_1,  P14N,    12,  1,     26,     26,4,19930709,1435, 53.4963,-178.2538, 3771,    358.7,   3.6707,  33.9228,2,  33.9230,2,   -999.0,9,     55.4,2,   106.95,2,    42.76,2,     0.01,2,     3.09,2, -999.000,5, -999.000,5,    1.588,2,-999.0000,9,  -999.00,9,   -999.0,9,   -999.0,9,  -999.00,9,-999.0000,-999.000,  3.6466,   0.016
      325023_1,  P14N,    12,  1,     25,     25,4,19930709,1435, 53.4963,-178.2538, 3771,    409.2,   3.6122,  33.9781,2,  33.9811,2,   -999.0,9,     46.2,2,   111.86,2,    43.30,2,     0.01,2,     3.12,2, -999.000,5, -999.000,5, -999.000,9,-999.0000,9,  -999.00,9,   -999.0,9,   -999.0,9,  -999.00,9,-999.0000,-999.000,  3.5847,-999.000
      325023_1,  P14N,    12,  1,     24,     24,4,19930709,1435, 53.4963,-178.2538, 3771,    459.3,   3.5422,  34.0386,2,  34.0390,2,   -999.0,9,     37.6,2,   117.73,2,    43.61,2,     0.01,2,     3.15,2, -999.000,5, -999.000,5,    1.471,2,-999.0000,9,  -999.00,9,   -999.0,9,   -999.0,9,  -999.00,9,-999.0000,-999.000,  3.5113,   0.015
      325023_1,  P14N,    12,  1,     23,     23,4,19930709,1435, 53.4963,-178.2538, 3771,    509.9,   3.4831,  34.0825,2,  34.0828,2,   -999.0,9,     31.5,2,   121.68,2,    43.96,2,     0.00,2,     3.17,2, -999.000,5, -999.000,5, -999.000,9,-999.0000,9,  -999.00,9,   -999.0,9,   -999.0,9,  -999.00,9,-999.0000,-999.000,  3.4489,-999.000
      325023_1,  P14N,    12,  1,     22,     22,4,19930709,1435, 53.4963,-178.2538, 3771,    611.3,   3.3482,  34.1658,2,  34.1650,2,   -999.0,9,     22.8,2,   130.70,2,    44.41,2,     0.00,2,     3.19,2, -999.000,5, -999.000,5,    1.189,2,-999.0000,9,  -999.00,9,   -999.0,9,   -999.0,9,  -999.00,9,-999.0000,-999.000,  3.3072,   0.012
      325023_1,  P14N,    12,  1,     21,     21,4,19930709,1435, 53.4963,-178.2538, 3771,    711.3,   3.2225,  34.2247,2,  34.2230,2,   -999.0,9,     19.3,2,   136.35,2,    44.53,2,     0.00,2,     3.21,2, -999.000,5, -999.000,5, -999.000,9,-999.0000,9,  -999.00,9,   -999.0,9,   -999.0,9,  -999.00,9,-999.0000,-999.000,  3.1749,-999.000
      325023_1,  P14N,    12,  1,     20,     20,4,19930709,1435, 53.4963,-178.2538, 3771,    812.3,   3.0718,  34.2785,2,  34.2778,2,   -999.0,9,     17.3,2,   143.70,2,    44.55,2,     0.00,2,     3.21,2, -999.000,5, -999.000,5,    0.856,2,-999.0000,9,  -999.00,9,   -999.0,9,   -999.0,9,  -999.00,9,-999.0000,-999.000,  3.0177,   0.009
      325023_1,  P14N,    12,  1,     19,     19,4,19930709,1435, 53.4963,-178.2538, 3771,    912.1,   2.9274,  34.3231,2,  34.3224,2,   -999.0,9,     17.3,2,   150.10,2,    44.47,2,     0.00,2,     3.20,2, -999.000,5, -999.000,5,    0.786,2,-999.0000,9,  -999.00,9,   -999.0,9,   -999.0,9,  -999.00,9,-999.0000,-999.000,  2.8669,   0.008
      325023_1,  P14N,    12,  1,     18,     18,4,19930709,1435, 53.4963,-178.2538, 3771,   1012.1,   2.7876,  34.3642,2,  34.3636,2,   -999.0,9,     17.6,2,   156.52,2,    44.45,2,     0.00,2,     3.20,2, -999.000,5, -999.000,5,    0.978,2,-999.0000,9,  -999.00,9,   -999.0,9,   -999.0,9,  -999.00,9,-999.0000,-999.000,  2.7207,   0.010
      325023_1,  P14N,    12,  1,     17,     17,4,19930709,1435, 53.4963,-178.2538, 3771,   1117.1,   2.6557,  34.4000,2,  34.3986,2,   -999.0,9,     18.6,2,   162.21,2,    44.38,2,     0.00,2,     3.20,2, -999.000,5, -999.000,5, -999.000,9,-999.0000,9,  -999.00,9,   -999.0,9,   -999.0,9,  -999.00,9,-999.0000,-999.000,  2.5820,-999.000
      325023_1,  P14N,    12,  1,     16,     16,4,19930709,1435, 53.4963,-178.2538, 3771,   1218.9,   2.5604,  34.4256,2,  34.4243,2,   -999.0,9,     19.6,2,   166.94,2,    44.26,2,     0.00,2,     3.19,2, -999.000,5, -999.000,5,    0.649,2,-999.0000,9,  -999.00,9,   -999.0,9,   -999.0,9,  -999.00,9,-999.0000,-999.000,  2.4799,   0.008
      325023_1,  P14N,    12,  1,     15,     15,4,19930709,1435, 53.4963,-178.2538, 3771,   1318.7,   2.4587,  34.4507,2,  34.4498,2,   -999.0,9,     21.6,2,   171.43,2,    44.05,2,     0.00,2,     3.19,2, -999.000,5, -999.000,5, -999.000,9,-999.0000,9,  -999.00,9,   -999.0,9,   -999.0,9,  -999.00,9,-999.0000,-999.000,  2.3715,-999.000
      325023_1,  P14N,    12,  1,     14,     14,4,19930709,1435, 53.4963,-178.2538, 3771,   1420.3,   2.3432,  34.4779,2,  34.4780,2,   -999.0,9,     25.2,2,   177.16,2,    43.79,2,     0.00,2,     3.17,2, -999.000,5, -999.000,5,    0.519,2,-999.0000,9,  -999.00,9,   -999.0,9,   -999.0,9,  -999.00,9,-999.0000,-999.000,  2.2494,   0.008
      325023_1,  P14N,    12,  1,     13,     13,4,19930709,1435, 53.4963,-178.2538, 3771,   1523.9,   2.2456,  34.5005,2,  34.5011,2,   -999.0,9,     29.2,2,   182.42,2,    43.39,2,     0.00,2,     3.16,2, -999.000,5, -999.000,5,    0.386,2,-999.0000,9,  -999.00,9,   -999.0,9,   -999.0,9,  -999.00,9,-999.0000,-999.000,  2.1448,   0.008
      325023_1,  P14N,    12,  1,     12,     12,4,19930709,1435, 53.4963,-178.2538, 3771,   1626.6,   2.1518,  34.5229,2,  34.5215,2,   -999.0,9,     33.5,2,   186.94,2,    43.08,2,     0.00,2,     3.15,2, -999.000,5, -999.000,5,    0.348,2,-999.0000,9,  -999.00,9,   -999.0,9,   -999.0,9,  -999.00,9,-999.0000,-999.000,  2.0440,   0.008
      325023_1,  P14N,    12,  1,     11,     11,4,19930709,1435, 53.4963,-178.2538, 3771,   1830.0,   1.9968,  34.5592,2,  34.5582,2,   -999.0,9,     43.3,2,   193.98,2,    42.31,2,     0.00,2,     3.12,2, -999.000,5, -999.000,5,    0.304,2,   1.7810,2,    16.10,2,   -999.0,9,   -999.0,9,  -999.00,9,  0.2000,   0.150,  1.8747,   0.008
      325023_1,  P14N,    12,  1,     10,     10,4,19930709,1435, 53.4963,-178.2538, 3771,   2031.8,   1.8897,  34.5832,2,  34.5825,2,   -999.0,9,     51.5,2,   200.30,2,    41.68,2,     0.00,2,     3.09,2, -999.000,5, -999.000,5, -999.000,9,-999.0000,9,  -999.00,9,   -999.0,9,   -999.0,9,  -999.00,9,-999.0000,-999.000,  1.7525,-999.000
      325023_1,  P14N,    12,  1,      9,      9,4,19930709,1435, 53.4963,-178.2538, 3771,   2236.6,   1.7910,  34.6052,2,  34.6049,2,   -999.0,9,     61.2,2,   206.91,2,    40.87,2,     0.00,2,     3.07,2, -999.000,5, -999.000,5,    0.283,2,-999.0000,9,    17.60,2,   -999.0,9,   -999.0,9,  -999.00,9,-999.0000,   0.150,  1.6379,   0.008
      325023_1,  P14N,    12,  1,      8,      8,4,19930709,1435, 53.4963,-178.2538, 3771,   2434.0,   1.7267,  34.6206,2,  34.6205,2,   -999.0,9,     68.8,2,   211.00,2,    40.29,2,     0.00,2,     3.04,2, -999.000,5, -999.000,5,    0.483,2,-999.0000,9,    18.10,2,   -999.0,9,   -999.0,9,  -999.00,9,-999.0000,   0.150,  1.5575,   0.008
      325023_1,  P14N,    12,  1,      7,      7,4,19930709,1435, 53.4963,-178.2538, 3771,   2621.5,   1.6756,  34.6329,2,  34.6335,2,   -999.0,9,     76.2,2,   213.83,2,    39.62,2,     0.00,2,     3.01,2, -999.000,5, -999.000,5, -999.000,9,-999.0000,9,    18.40,2,   -999.0,9,   -999.0,9,  -999.00,9,-999.0000,   0.150,  1.4905,-999.000
      325023_1,  P14N,    12,  1,      6,      6,4,19930709,1435, 53.4963,-178.2538, 3771,   2817.6,   1.6351,  34.6434,2,  34.6470,4,   -999.0,9,     82.7,2,   216.41,2,    39.14,2,     0.00,2,     2.98,2, -999.000,5, -999.000,5, -999.000,9,   1.8160,2,    18.67,2,   -999.0,9,   -999.0,9,  -999.00,9,  0.2000,   0.150,  1.4327,-999.000
      325023_1,  P14N,    12,  1,      5,      5,4,19930709,1435, 53.4963,-178.2538, 3771,   3047.9,   1.6041,  34.6525,2,  34.6527,2,   -999.0,9,     88.5,2,   218.22,2,    38.70,2,     0.00,2,     2.96,2, -999.000,5, -999.000,5,    0.598,2,   1.7720,2,    18.70,2,   -999.0,9,   -999.0,9,  -999.00,9,  0.2000,   0.150,  1.3805,   0.008
      325023_1,  P14N,    12,  1,      4,      4,4,19930709,1435, 53.4963,-178.2538, 3771,   3261.4,   1.5912,  34.6586,2,  34.6584,2,   -999.0,9,     93.7,2,   220.29,2,    38.26,2,     0.00,2,     2.94,2,    0.003,2,    0.003,2,    0.622,2,   4.0000,2,    18.82,2,   -999.0,9,   -999.0,9,  -999.00,9,  0.2000,   0.150,  1.3470,   0.008
      325023_1,  P14N,    12,  1,      3,      3,4,19930709,1435, 53.4963,-178.2538, 3771,   3465.3,   1.5869,  34.6629,2,  34.6629,2,   -999.0,9,     96.4,2,   222.88,2,    38.20,2,     0.00,2,     2.92,2,    0.004,2,    0.006,2, -999.000,9,-999.0000,9,  -999.00,9,   -999.0,9,   -999.0,9,  -999.00,9,-999.0000,-999.000,  1.3223,-999.000
      325023_1,  P14N,    12,  1,      2,      2,4,19930709,1435, 53.4963,-178.2538, 3771,   3669.3,   1.5894,  34.6663,2,  34.6680,2,   -999.0,9,     99.6,2,   226.25,2,    37.90,2,     0.00,2,     2.91,2,    0.006,2,    0.001,2, -999.000,9,-999.0000,9,  -999.00,9,   -999.0,9,   -999.0,9,  -999.00,9,-999.0000,-999.000,  1.3036,-999.000
      325023_1,  P14N,    12,  1,      1,      1,2,19930709,1435, 53.4963,-178.2538, 3771,   3822.0,   1.5982,  34.6679,2,  34.6695,2,   -999.0,9,    102.2,2,   226.52,2,    37.74,2,     0.00,2,     2.90,2,    0.017,2,    0.015,2,    0.586,2,   1.8210,2,    15.66,2,   -999.0,9,   -999.0,9,  -999.00,9,  0.2000,   0.150,  1.2959,   0.008