BOTTLE,20131125MIRCJHATS
EXPOCODE,SECT_ID,STNNBR,CASTNO,SAMPNO,BTLNBR,BTLNBR_FLAG_W,DATE,TIME,LATITUDE,LONGITUDE,DEPTH,CTDPRS,CTDTMP,CTDSAL,CTDSAL_FLAG_W,SALNTY,SALNTY_FLAG_W,CTDOXY,CTDOXY_FLAG_W,OXYGEN,OXYGEN_FLAG_W,SILCAT,SILCAT_FLAG_W,NITRAT,NITRAT_FLAG_W,NITRIT,NITRIT_FLAG_W,PHSPHT,PHSPHT_FLAG_W,CFC-11,CFC-11_FLAG_W,CFC-12,CFC-12_FLAG_W,TRITUM,TRITUM_FLAG_W,HELIUM,HELIUM_FLAG_W,DELHE3,DELHE3_FLAG_W,TCARBN,TCARBN_FLAG_W,ALKALI,ALKALI_FLAG_W,PH,PH_FLAG_W,HELIER,DELHER,THETA,TRITER
,,,,,,,,,,,,DBAR,ITS-90,PSS-78,,PSS-78,,UMOL/KG,,UMOL/KG,,UMOL/KG,,UMOL/KG,,UMOL/KG,,UMOL/KG,,PMOL/KG,,PMOL/KG,,TU,,NMOL/KG,,PERCNT,,UMOL/KG,,UMOL/KG,,25_DEG,,NMOL/KG,PERCNT,DEG C,TU
      325024_1,  P14N,   149,  1,     36,     36,2,19930820,0512, -1.5535, 178.9983, 5495,      1.8,  30.1254,  34.5095,2,  34.5275,2,   -999.0,9,    193.9,2,     2.22,2,     0.00,2,     0.00,2,     0.19,2,    1.536,2,    0.824,2, -999.000,9,-999.0000,9,    -0.80,2,   -999.0,9,   -999.0,9,  -999.00,9,-999.0000,   0.150, 30.1249,-999.000
      325024_1,  P14N,   149,  1,     35,     35,2,19930820,0512, -1.5535, 178.9983, 5495,     37.3,  30.0319,  34.8909,2,  34.8980,2,   -999.0,9,    195.6,2,     2.16,2,     0.00,2,     0.00,2,     0.20,2,    1.558,2,    0.848,2, -999.000,9,-999.0000,9,  -999.00,9,   -999.0,9,   -999.0,9,  -999.00,9,-999.0000,-999.000, 30.0227,-999.000
      325024_1,  P14N,   149,  1,     34,     34,2,19930820,0512, -1.5535, 178.9983, 5495,     67.2,  29.9066,  34.9070,2,  34.9184,2,   -999.0,9,    195.6,2,     1.90,2,     0.03,2,     0.00,2,     0.20,2,    1.546,2,    0.843,2, -999.000,9,-999.0000,9,  -999.00,9,   -999.0,9,   -999.0,9,  -999.00,9,-999.0000,-999.000, 29.8900,-999.000
      325024_1,  P14N,   149,  1,     33,     33,2,19930820,0512, -1.5535, 178.9983, 5495,     97.8,  28.8222,  35.3079,2,  35.3601,4,   -999.0,9,    181.3,2,     2.23,2,     1.70,2,     0.56,2,     0.42,2,    1.593,2,    0.861,2, -999.000,9,-999.0000,9,  -999.00,9,   -999.0,9,   -999.0,9,  -999.00,9,-999.0000,-999.000, 28.7986,-999.000
      325024_1,  P14N,   149,  1,     32,     32,2,19930820,0512, -1.5535, 178.9983, 5495,    127.5,  23.7617,  35.3908,2,  35.3583,2,   -999.0,9,    129.1,2,     3.72,2,     9.18,2,     0.06,2,     0.78,2,    1.576,2,    0.824,2, -999.000,9,-999.0000,9,  -999.00,9,   -999.0,9,   -999.0,9,  -999.00,9,-999.0000,-999.000, 23.7350,-999.000
      325024_1,  P14N,   149,  1,     31,     31,2,19930820,0512, -1.5535, 178.9983, 5495,    157.7,  21.3349,  35.5188,2,  35.5197,2,   -999.0,9,    132.6,2,     3.85,2,     9.10,2,     0.01,2,     0.78,2,    1.507,2,    0.779,2, -999.000,9,-999.0000,9,  -999.00,9,   -999.0,9,   -999.0,9,  -999.00,9,-999.0000,-999.000, 21.3043,-999.000
      325024_1,  P14N,   149,  1,     30,     30,2,19930820,0512, -1.5535, 178.9983, 5495,    207.9,  15.7915,  35.1768,2,  35.1763,2,   -999.0,9,    136.5,2,     9.84,2,    14.68,2,     0.00,2,     1.14,2,    1.134,6,    0.585,6, -999.000,9,-999.0000,9,     1.50,2,   -999.0,9,   -999.0,9,  -999.00,9,-999.0000,   0.150, 15.7588,-999.000
      325024_1,  P14N,   149,  1,     29,     29,2,19930820,0512, -1.5535, 178.9983, 5495,    259.1,  12.3823,  34.9077,2,  34.9078,2,   -999.0,9,    124.2,2,    16.79,2,    20.98,2,     0.00,2,     1.53,2,    0.709,2,    0.342,2, -999.000,9,-999.0000,9,  -999.00,9,   -999.0,9,   -999.0,9,  -999.00,9,-999.0000,-999.000, 12.3478,-999.000
      325024_1,  P14N,   149,  1,     28,     28,2,19930820,0512, -1.5535, 178.9983, 5495,    309.0,  10.8845,  34.7829,2,  34.7843,2,   -999.0,9,     80.8,2,    24.92,2,    28.20,2,     0.00,2,     1.98,2,    0.340,2,    0.170,2, -999.000,9,-999.0000,9,  -999.00,9,   -999.0,9,   -999.0,9,  -999.00,9,-999.0000,-999.000, 10.8465,-999.000
      325024_1,  P14N,   149,  1,     27,     27,2,19930820,0512, -1.5535, 178.9983, 5495,    409.0,   9.6307,  34.7011,2,  34.7011,2,   -999.0,9,     76.9,2,    29.73,2,    31.14,2,     0.00,2,     2.17,2,    0.192,2,    0.097,2, -999.000,9,-999.0000,9,     3.90,2,   -999.0,9,   -999.0,9,  -999.00,9,-999.0000,   0.150,  9.5840,-999.000
      325024_1,  P14N,   149,  1,     26,     26,2,19930820,0512, -1.5535, 178.9983, 5495,    509.6,   7.7693,  34.6048,2,  34.6047,2,   -999.0,9,     83.1,2,    38.24,2,    34.65,2,     0.00,2,     2.40,2,    0.059,2,    0.029,2, -999.000,9,-999.0000,9,  -999.00,9,   -999.0,9,   -999.0,9,  -999.00,9,-999.0000,-999.000,  7.7179,-999.000
      325024_1,  P14N,   149,  1,     25,     25,2,19930820,0512, -1.5535, 178.9983, 5495,    609.5,   6.6491,  34.5685,2,  34.5675,2,   -999.0,9,     66.2,2,    52.62,2,    38.55,2,     0.00,2,     2.68,2,    0.015,2,    0.006,2, -999.000,9,-999.0000,9,     6.80,2,   -999.0,9,   -999.0,9,  -999.00,9,-999.0000,   0.150,  6.5923,-999.000
      325024_1,  P14N,   149,  1,     24,     24,2,19930820,0512, -1.5535, 178.9983, 5495,    710.2,   6.0711,  34.5523,2,  34.5522,2,   -999.0,9,     74.6,2,    59.79,2,    38.90,2,     0.00,2,     2.71,2,    0.010,2,    0.001,2, -999.000,9,-999.0000,9,  -999.00,9,   -999.0,9,   -999.0,9,  -999.00,9,-999.0000,-999.000,  6.0075,-999.000
      325024_1,  P14N,   149,  1,     23,     23,2,19930820,0512, -1.5535, 178.9983, 5495,    811.0,   5.5696,  34.5423,2,  34.5435,2,   -999.0,9,     85.8,2,    64.80,2,    38.45,2,     0.00,2,     2.69,2,    0.006,2,    0.003,2, -999.000,9,-999.0000,9,    10.20,2,   -999.0,9,   -999.0,9,  -999.00,9,-999.0000,   0.150,  5.4996,-999.000
      325024_1,  P14N,   149,  1,     22,     22,2,19930820,0512, -1.5535, 178.9983, 5495,    911.7,   4.8665,  34.5432,2,  34.5439,2,   -999.0,9,     95.2,2,    76.30,2,    38.40,2,     0.00,2,     2.70,2,    0.002,2,    0.003,2, -999.000,9,-999.0000,9,  -999.00,9,   -999.0,9,   -999.0,9,  -999.00,9,-999.0000,-999.000,  4.7920,-999.000
      325024_1,  P14N,   149,  1,     21,     21,2,19930820,0512, -1.5535, 178.9983, 5495,   1013.1,   4.4655,  34.5504,2,  34.5522,2,   -999.0,9,     92.9,2,    84.09,2,    39.02,2,     0.00,2,     2.74,2,    0.004,2,    0.003,2, -999.000,9,-999.0000,9,    13.30,2,   -999.0,9,   -999.0,9,  -999.00,9,-999.0000,   0.150,  4.3850,-999.000
      325024_1,  P14N,   149,  1,     20,     20,2,19930820,0512, -1.5535, 178.9983, 5495,   1214.9,   3.9053,  34.5657,2,  34.5655,2,   -999.0,9,     96.5,2,    96.06,2,    39.01,2,     0.00,2,     2.77,2,    0.000,2,    0.002,2, -999.000,9,-999.0000,9,    20.10,2,   -999.0,9,   -999.0,9,  -999.00,9,-999.0000,   0.150,  3.8122,-999.000
      325024_1,  P14N,   149,  1,     19,     19,2,19930820,0512, -1.5535, 178.9983, 5495,   1417.1,   3.3609,  34.5888,2,  34.5888,2,   -999.0,9,     93.4,2,   112.30,2,    39.64,2,     0.00,2,     2.79,2,    0.001,2,    0.001,2, -999.000,9,-999.0000,9,    23.80,2,   -999.0,9,   -999.0,9,  -999.00,9,-999.0000,   0.150,  3.2560,-999.000
      325024_1,  P14N,   149,  1,     18,     18,2,19930820,0512, -1.5535, 178.9983, 5495,   1620.1,   2.8508,  34.6071,2,  34.6067,2,   -999.0,9,    106.7,2,   120.64,2,    38.86,2,     0.00,2,     2.73,2, -999.000,5, -999.000,5, -999.000,9,-999.0000,9,    23.00,2,   -999.0,9,   -999.0,9,  -999.00,9,-999.0000,   0.150,  2.7346,-999.000
      325024_1,  P14N,   149,  1,     17,     17,2,19930820,0512, -1.5535, 178.9983, 5495,   1823.3,   2.4682,  34.6261,2,  34.6263,2,   -999.0,9,    111.3,2,   130.67,2,    38.68,2,     0.00,2,     2.71,2, -999.000,5, -999.000,5, -999.000,9,-999.0000,9,    23.40,2,   -999.0,9,   -999.0,9,  -999.00,9,-999.0000,   0.150,  2.3398,-999.000
      325024_1,  P14N,   149,  1,     16,     16,2,19930820,0512, -1.5535, 178.9983, 5495,   2026.5,   2.2828,  34.6382,2,  34.6388,2,   -999.0,9,    112.2,2,   137.30,2,    38.71,2,     0.00,2,     2.72,2, -999.000,5, -999.000,5, -999.000,9,-999.0000,9,  -999.00,9,   -999.0,9,   -999.0,9,  -999.00,9,-999.0000,-999.000,  2.1398,-999.000
      325024_1,  P14N,   149,  1,     15,     15,2,19930820,0512, -1.5535, 178.9983, 5495,   2229.3,   2.0624,  34.6498,2,  34.6504,2,   -999.0,9,    117.9,2,   141.71,2,    38.35,2,     0.00,2,     2.68,2, -999.000,5, -999.000,5, -999.000,9,-999.0000,9,    25.30,2,   -999.0,9,   -999.0,9,  -999.00,9,-999.0000,   0.150,  1.9052,-999.000
      325024_1,  P14N,   149,  1,     14,     14,2,19930820,0512, -1.5535, 178.9983, 5495,   2433.4,   1.8796,  34.6577,2,  34.6588,2,   -999.0,9,    126.6,2,   143.46,2,    37.76,2,     0.00,2,     2.61,2, -999.000,5, -999.000,5, -999.000,9,-999.0000,9,    24.80,2,   -999.0,9,   -999.0,9,  -999.00,9,-999.0000,   0.150,  1.7075,-999.000
      325024_1,  P14N,   149,  1,     12,     12,2,19930820,0512, -1.5535, 178.9983, 5495,   2636.8,   1.7816,  34.6629,2,  34.6631,2,   -999.0,9,    130.2,2,   145.53,2,    37.61,2,     0.00,2,     2.59,2, -999.000,5, -999.000,5, -999.000,9,-999.0000,9,    25.40,2,   -999.0,9,   -999.0,9,  -999.00,9,-999.0000,   0.150,  1.5929,-999.000
      325024_1,  P14N,   149,  1,     13,     13,2,19930820,0512, -1.5535, 178.9983, 5495,   2637.4,   1.7870,  34.6626,2,  34.6627,2,   -999.0,9,    129.5,2,   145.84,2,    37.53,2,     0.00,2,     2.59,2, -999.000,5, -999.000,5, -999.000,9,-999.0000,9,  -999.00,9,   -999.0,9,   -999.0,9,  -999.00,9,-999.0000,-999.000,  1.5982,-999.000
      325024_1,  P14N,   149,  1,     11,     11,2,19930820,0512, -1.5535, 178.9983, 5495,   2840.8,   1.6933,  34.6681,2,  34.6686,2,   -999.0,9,    134.3,2,   146.46,2,    37.21,2,     0.00,2,     2.56,2, -999.000,5, -999.000,5, -999.000,9,-999.0000,9,    21.30,2,   -999.0,9,   -999.0,9,  -999.00,9,-999.0000,   0.150,  1.4875,-999.000
      325024_1,  P14N,   149,  1,     10,     10,2,19930820,0512, -1.5535, 178.9983, 5495,   3045.2,   1.6270,  34.6729,2,  34.6731,2,   -999.0,9,    141.0,2,   144.92,2,    36.71,2,     0.00,2,     2.53,2,    0.006,4,    0.002,2, -999.000,9,-999.0000,9,    20.20,2,   -999.0,9,   -999.0,9,  -999.00,9,-999.0000,   0.150,  1.4031,-999.000
      325024_1,  P14N,   149,  1,      9,      9,2,19930820,0512, -1.5535, 178.9983, 5495,   3350.6,   1.5763,  34.6762,2,  34.6759,2,   -999.0,9,    144.0,2,   144.82,2,    36.48,2,     0.00,2,     2.52,2, -999.000,5, -999.000,5, -999.000,9,-999.0000,9,    17.40,2,   -999.0,9,   -999.0,9,  -999.00,9,-999.0000,   0.150,  1.3235,-999.000
      325024_1,  P14N,   149,  1,      8,      8,2,19930820,0512, -1.5535, 178.9983, 5495,   3658.3,   1.4827,  34.6842,2,  34.6845,2,   -999.0,9,    155.2,2,   142.25,2,    35.69,2,     0.00,2,     2.47,2, -999.000,5, -999.000,5, -999.000,9,-999.0000,9,  -999.00,9,   -999.0,9,   -999.0,9,  -999.00,9,-999.0000,-999.000,  1.2007,-999.000
      325024_1,  P14N,   149,  1,      7,      7,2,19930820,0512, -1.5535, 178.9983, 5495,   3964.1,   1.4329,  34.6900,2,  34.6898,2,   -999.0,9,    162.9,2,   141.13,2,    35.24,2,     0.00,2,     2.43,2, -999.000,5, -999.000,5, -999.000,9,-999.0000,9,    16.60,2,   -999.0,9,   -999.0,9,  -999.00,9,-999.0000,   0.150,  1.1198,-999.000
      325024_1,  P14N,   149,  1,      6,      6,2,19930820,0512, -1.5535, 178.9983, 5495,   4272.8,   1.3586,  34.6955,2,  34.6951,2,   -999.0,9,    173.2,2,   137.14,2,    34.45,2,     0.00,2,     2.36,2, -999.000,5, -999.000,5, -999.000,9,-999.0000,9,    14.90,2,   -999.0,9,   -999.0,9,  -999.00,9,-999.0000,   0.150,  1.0137,-999.000
      325024_1,  P14N,   149,  1,      5,      5,2,19930820,0512, -1.5535, 178.9983, 5495,   4580.2,   1.2636,  34.7011,2,  34.7018,2,   -999.0,9,    186.9,2,   130.33,2,    33.44,2,     0.00,2,     2.29,2, -999.000,5, -999.000,5, -999.000,9,-999.0000,9,  -999.00,9,   -999.0,9,   -999.0,9,  -999.00,9,-999.0000,-999.000,  0.8867,-999.000
      325024_1,  P14N,   149,  1,      4,      4,2,19930820,0512, -1.5535, 178.9983, 5495,   4887.8,   1.2549,  34.7032,2,  34.7045,2,   -999.0,9,    190.7,2,   128.42,2,    33.18,2,     0.00,2,     2.25,2, -999.000,5, -999.000,5, -999.000,9,-999.0000,9,    11.80,2,   -999.0,9,   -999.0,9,  -999.00,9,-999.0000,   0.150,  0.8423,-999.000
      325024_1,  P14N,   149,  1,      3,      3,2,19930820,0512, -1.5535, 178.9983, 5495,   5195.7,   1.2729,  34.7040,2,  34.7043,2,   -999.0,9,    193.1,2,   127.31,2,    32.96,2,     0.00,2,     2.25,2, -999.000,5, -999.000,5, -999.000,9,-999.0000,9,  -999.00,9,   -999.0,9,   -999.0,9,  -999.00,9,-999.0000,-999.000,  0.8224,-999.000
      325024_1,  P14N,   149,  1,      2,      2,2,19930820,0512, -1.5535, 178.9983, 5495,   5504.6,   1.2993,  34.7049,2,  34.7057,2,   -999.0,9,    195.0,2,   126.21,2,    32.65,2,     0.00,2,     2.24,2, -999.000,5, -999.000,5, -999.000,9,-999.0000,9,  -999.00,9,   -999.0,9,   -999.0,9,  -999.00,9,-999.0000,-999.000,  0.8094,-999.000
      325024_1,  P14N,   149,  1,      1,      1,2,19930820,0512, -1.5535, 178.9983, 5495,   5535.7,   1.3034,  34.7049,2,  34.7053,2,   -999.0,9,    193.1,2,   125.91,2,    32.77,2,     0.00,2,     2.24,2,    0.001,2,    0.002,2, -999.000,9,-999.0000,9,    11.40,2,   -999.0,9,   -999.0,9,  -999.00,9,-999.0000,   0.150,  0.8094,-999.000