BOTTLE,20131125MIRCJHATS
EXPOCODE,SECT_ID,STNNBR,CASTNO,SAMPNO,BTLNBR,BTLNBR_FLAG_W,DATE,TIME,LATITUDE,LONGITUDE,DEPTH,CTDPRS,CTDTMP,CTDSAL,CTDSAL_FLAG_W,SALNTY,SALNTY_FLAG_W,CTDOXY,CTDOXY_FLAG_W,OXYGEN,OXYGEN_FLAG_W,SILCAT,SILCAT_FLAG_W,NITRAT,NITRAT_FLAG_W,NITRIT,NITRIT_FLAG_W,PHSPHT,PHSPHT_FLAG_W,CFC-11,CFC-11_FLAG_W,CFC-12,CFC-12_FLAG_W,TRITUM,TRITUM_FLAG_W,HELIUM,HELIUM_FLAG_W,DELHE3,DELHE3_FLAG_W,TCARBN,TCARBN_FLAG_W,ALKALI,ALKALI_FLAG_W,PH,PH_FLAG_W,HELIER,DELHER,THETA,TRITER
,,,,,,,,,,,,DBAR,ITS-90,PSS-78,,PSS-78,,UMOL/KG,,UMOL/KG,,UMOL/KG,,UMOL/KG,,UMOL/KG,,UMOL/KG,,PMOL/KG,,PMOL/KG,,TU,,NMOL/KG,,PERCNT,,UMOL/KG,,UMOL/KG,,25_DEG,,NMOL/KG,PERCNT,DEG C,TU
      325023_1,  P14N,    94,  1,     36,     36,2,19930731,1456, 15.5057, 178.9993, 5335,      3.7,  27.5697,  34.7643,2,  34.7682,2,   -999.0,9,    200.5,2,     3.13,2,     0.00,2,     0.00,2,     0.11,2, -999.000,5, -999.000,5, -999.000,9,-999.0000,9,  -999.00,9,   1945.0,2,   2297.1,2,     8.12,2,-999.0000,-999.000, 27.5689,-999.000
      325023_1,  P14N,    94,  1,     35,     35,2,19930731,1456, 15.5057, 178.9993, 5335,     38.7,  27.5794,  34.7627,2,  34.7668,2,   -999.0,9,    200.2,2,     2.87,2,     0.00,2,     0.00,2,     0.11,2, -999.000,5, -999.000,5, -999.000,9,-999.0000,9,  -999.00,9,   1945.3,2,   2286.9,2,  -999.00,9,-999.0000,-999.000, 27.5704,-999.000
      325023_1,  P14N,    94,  1,     34,     34,2,19930731,1456, 15.5057, 178.9993, 5335,     68.8,  25.9667,  34.7630,2,  34.7593,2,   -999.0,9,    214.9,2,     2.82,2,     0.00,2,     0.00,2,     0.09,2, -999.000,5, -999.000,5, -999.000,9,-999.0000,9,  -999.00,9,   1947.0,2,   2285.4,2,     8.12,2,-999.0000,-999.000, 25.9514,-999.000
      325023_1,  P14N,    94,  1,     33,     33,2,19930731,1456, 15.5057, 178.9993, 5335,     90.4,  25.4231,  34.7737,2,  34.7654,2,   -999.0,9,    212.1,2,     2.78,2,     0.00,2,     0.00,2,     0.11,2, -999.000,5, -999.000,5, -999.000,9,-999.0000,9,    -0.20,2,   -999.0,9,   -999.0,9,  -999.00,9,-999.0000,   0.150, 25.4033,-999.000
      325023_1,  P14N,    94,  1,     32,     32,2,19930731,1456, 15.5057, 178.9993, 5335,    100.1,  25.2343,  34.7640,2,  34.7651,2,   -999.0,9,    212.1,2,     2.51,2,     0.00,2,     0.00,2,     0.11,2, -999.000,5, -999.000,5, -999.000,9,-999.0000,9,  -999.00,9,   1952.6,2,   2296.7,2,     8.11,2,-999.0000,-999.000, 25.2125,-999.000
      325023_1,  P14N,    94,  1,     31,     31,2,19930731,1456, 15.5057, 178.9993, 5335,    130.4,  24.7628,  34.7713,2,  34.7726,2,   -999.0,9,    208.0,2,     2.25,2,     0.00,2,     0.00,2,     0.12,2, -999.000,5, -999.000,5, -999.000,9,   1.7540,2,     0.00,2,   1957.9,2,   2286.7,2,  -999.00,9,  0.2000,   0.150, 24.7347,-999.000
      325023_1,  P14N,    94,  1,     30,     30,2,19930731,1456, 15.5057, 178.9993, 5335,    160.9,  23.9650,  34.8745,2,  34.8554,2,   -999.0,9,    202.7,2,     2.20,2,     0.00,2,     0.15,2,     0.12,2, -999.000,5, -999.000,5, -999.000,9,-999.0000,9,  -999.00,9,   1974.5,2,   2303.6,2,     8.08,2,-999.0000,-999.000, 23.9311,-999.000
      325023_1,  P14N,    94,  1,     29,     29,2,19930731,1456, 15.5057, 178.9993, 5335,    210.9,  21.4176,  35.0103,2,  35.0129,2,   -999.0,9,    191.0,2,     2.59,2,     1.19,2,     0.02,2,     0.23,2, -999.000,5, -999.000,5, -999.000,9,-999.0000,9,  -999.00,9,   2021.4,2,   2310.0,2,  -999.00,9,-999.0000,-999.000, 21.3766,-999.000
      325023_1,  P14N,    94,  1,     28,     28,2,19930731,1456, 15.5057, 178.9993, 5335,    261.9,  16.6986,  34.6790,2,  34.7061,2,   -999.0,9,    162.9,2,     7.11,2,     7.89,2,     0.01,2,     0.69,2,    2.175,2,    1.008,2, -999.000,9,-999.0000,9,     0.14,2,   2080.8,2,   2291.4,2,     7.88,2,-999.0000,   0.150, 16.6559,-999.000
      325023_1,  P14N,    94,  1,     27,     27,2,19930731,1456, 15.5057, 178.9993, 5335,    312.0,  12.2655,  34.3681,2,  34.3669,2,   -999.0,9,    115.7,2,    19.65,2,    19.52,2,     0.00,2,     1.52,2,    1.541,2,    0.697,2, -999.000,9,-999.0000,9,  -999.00,9,   2152.5,2,   2269.9,2,  -999.00,9,-999.0000,-999.000, 12.2243,-999.000
      325023_1,  P14N,    94,  1,     26,     26,2,19930731,1456, 15.5057, 178.9993, 5335,    412.5,   9.2222,  34.3982,2,  34.3960,2,   -999.0,9,     59.4,2,    39.57,2,    30.59,2,     0.00,2,     2.30,2,    0.387,2,    0.178,2, -999.000,9,-999.0000,9,     8.00,2,   2232.1,2,   2298.6,2,     7.50,2,-999.0000,   0.150,  9.1765,-999.000
      325023_1,  P14N,    94,  1,     25,     25,2,19930731,1456, 15.5057, 178.9993, 5335,    511.8,   7.9456,  34.4742,2,  34.4726,2,   -999.0,9,     30.5,2,    52.97,2,    36.16,2,     0.00,2,     2.66,2,    0.048,2,    0.017,2, -999.000,9,-999.0000,9,  -999.00,9,   2273.9,2,   2307.1,2,  -999.00,9,-999.0000,-999.000,  7.8934,-999.000
      325023_1,  P14N,    94,  1,     24,     24,2,19930731,1456, 15.5057, 178.9993, 5335,    613.8,   6.8528,  34.4743,2,  34.4693,2,   -999.0,9,     31.7,2,    65.51,2,    38.53,2,     0.00,2,     2.81,2,    0.010,2,    0.004,2, -999.000,9,-999.0000,9,     4.90,2,   2290.6,2,   2324.5,2,     7.41,2,-999.0000,   0.150,  6.7947,-999.000
      325023_1,  P14N,    94,  1,     23,     23,2,19930731,1456, 15.5057, 178.9993, 5335,    713.8,   6.2241,  34.4908,2,  34.4902,2,   -999.0,9,     35.8,2,    73.05,2,    39.67,2,     0.00,2,     2.86,2, -999.000,5, -999.000,5, -999.000,9,-999.0000,9,    10.40,2,   2301.7,2,   2331.8,2,     7.41,2,-999.0000,   0.150,  6.1594,-999.000
      325023_1,  P14N,    94,  1,     22,     22,2,19930731,1456, 15.5057, 178.9993, 5335,    813.2,   5.7447,  34.5021,2,  34.5016,2,   -999.0,9,     37.3,2,    80.16,2,    40.74,2,     0.00,2,     2.92,2, -999.000,5, -999.000,5, -999.000,9,-999.0000,9,  -999.00,9,   2310.0,2,   2341.2,2,     7.41,2,-999.0000,-999.000,  5.6735,-999.000
      325023_1,  P14N,    94,  1,     21,     21,2,19930731,1456, 15.5057, 178.9993, 5335,    910.0,   5.1862,  34.5088,2,  34.5082,2,   -999.0,9,     40.5,2,    89.46,2,    41.44,2,     0.00,2,     2.96,2, -999.000,5, -999.000,5, -999.000,9,-999.0000,9,  -999.00,9,   2322.9,2,   2349.4,2,     7.40,2,-999.0000,-999.000,  5.1096,-999.000
      325023_1,  P14N,    94,  1,     20,     20,3,19930731,1456, 15.5057, 178.9993, 5335,   1013.1,   4.6910,  34.5234,2,-999.0000,9,   -999.0,9,   -999.0,9,    72.59,4,    32.48,4,     0.00,4,     2.39,4, -999.000,5, -999.000,5, -999.000,9,-999.0000,9,  -999.00,9,   -999.0,9,   -999.0,9,  -999.00,9,-999.0000,-999.000,  4.6089,-999.000
      325023_1,  P14N,    94,  1,     19,     19,2,19930731,1456, 15.5057, 178.9993, 5335,   1215.7,   3.9926,  34.5487,2,  34.5474,2,   -999.0,9,     60.8,2,   111.20,2,    41.21,2,     0.00,2,     2.92,2, -999.000,5, -999.000,5, -999.000,9,-999.0000,9,  -999.00,9,   2333.9,2,   -999.0,9,     7.43,2,-999.0000,-999.000,  3.8986,-999.000
      325023_1,  P14N,    94,  1,     18,     18,2,19930731,1456, 15.5057, 178.9993, 5335,   1418.5,   3.3777,  34.5720,2,  34.5711,2,   -999.0,9,     67.9,2,   124.35,2,    41.20,2,     0.00,2,     2.90,2, -999.000,5, -999.000,5, -999.000,9,-999.0000,9,    18.80,2,   2345.4,2,   2390.6,2,  -999.00,9,-999.0000,   0.150,  3.2725,-999.000
      325023_1,  P14N,    94,  1,     17,     17,2,19930731,1456, 15.5057, 178.9993, 5335,   1623.1,   2.9100,  34.5895,2,  34.5893,2,   -999.0,9,     78.0,2,   134.70,2,    40.64,2,     0.00,2,     2.85,2, -999.000,5, -999.000,5, -999.000,9,   1.7630,2,    22.90,2,   2351.7,2,   2402.9,2,  -999.00,9,  0.2000,   0.150,  2.7929,-999.000
      325023_1,  P14N,    94,  1,     16,     16,2,19930731,1456, 15.5057, 178.9993, 5335,   1820.4,   2.5274,  34.6079,2,  34.6083,2,   -999.0,9,     88.3,2,   142.41,2,    40.03,2,     0.00,2,     2.80,2, -999.000,5, -999.000,5, -999.000,9,-999.0000,9,    21.40,2,   2354.2,2,   2410.4,2,  -999.00,9,-999.0000,   0.150,  2.3985,-999.000
      325023_1,  P14N,    94,  1,     15,     15,2,19930731,1456, 15.5057, 178.9993, 5335,   2018.3,   2.2826,  34.6226,2,  34.6227,2,   -999.0,9,     96.6,2,   147.69,2,    39.52,2,     0.00,2,     2.76,2, -999.000,5, -999.000,5, -999.000,9,-999.0000,9,    25.30,2,   2354.8,2,   2413.3,2,     7.49,2,-999.0000,   0.150,  2.1404,-999.000
      325023_1,  P14N,    94,  1,     14,     14,2,19930731,1456, 15.5057, 178.9993, 5335,   2226.4,   2.0791,  34.6350,2,  34.6351,2,   -999.0,9,    104.1,2,   151.40,2,    39.15,2,     0.00,2,     2.71,2, -999.000,5, -999.000,5, -999.000,9,-999.0000,9,    24.60,2,   2353.6,2,   2423.2,2,  -999.00,9,-999.0000,   0.150,  1.9219,-999.000
      325023_1,  P14N,    94,  1,     13,     13,2,19930731,1456, 15.5057, 178.9993, 5335,   2435.7,   1.9241,  34.6446,2,  34.6452,2,   -999.0,9,    110.8,2,   154.44,2,    38.73,2,     0.00,2,     2.68,2, -999.000,5, -999.000,5, -999.000,9,-999.0000,9,  -999.00,9,   2350.2,2,   2423.0,2,  -999.00,9,-999.0000,-999.000,  1.7510,-999.000
      325023_1,  P14N,    94,  1,     12,     12,2,19930731,1456, 15.5057, 178.9993, 5335,   2639.2,   1.8193,  34.6541,2,  34.6544,2,   -999.0,9,    116.3,2,   155.91,2,    38.32,2,     0.00,2,     2.64,2, -999.000,5, -999.000,5, -999.000,9,-999.0000,9,    23.50,2,   2349.0,2,   2427.0,2,     7.52,2,-999.0000,   0.150,  1.6297,-999.000
      325023_1,  P14N,    94,  1,     11,     11,2,19930731,1456, 15.5057, 178.9993, 5335,   2845.0,   1.7329,  34.6591,2,  34.6599,2,   -999.0,9,    121.6,2,   156.92,2,    37.95,2,     0.00,2,     2.63,2, -999.000,5, -999.000,5, -999.000,9,-999.0000,9,    23.10,2,   2347.9,2,   2426.6,2,  -999.00,9,-999.0000,   0.150,  1.5259,-999.000
      325023_1,  P14N,    94,  1,     10,     10,2,19930731,1456, 15.5057, 178.9993, 5335,   3050.4,   1.6668,  34.6657,2,  34.6659,2,   -999.0,9,    128.0,2,   157.48,2,    37.67,2,     0.00,2,     2.59,2, -999.000,5, -999.000,5, -999.000,9,-999.0000,9,    19.90,2,   2341.1,2,   2426.5,2,  -999.00,9,-999.0000,   0.150,  1.4415,-999.000
      325023_1,  P14N,    94,  1,      9,      9,2,19930731,1456, 15.5057, 178.9993, 5335,   3359.0,   1.5728,  34.6731,2,  34.6732,2,   -999.0,9,    137.6,2,   157.13,2,    37.04,2,     0.00,2,     2.55,2, -999.000,5, -999.000,5, -999.000,9,-999.0000,9,    18.90,2,   2337.8,2,   2429.5,2,  -999.00,9,-999.0000,   0.150,  1.3192,-999.000
      325023_1,  P14N,    94,  1,      8,      8,2,19930731,1456, 15.5057, 178.9993, 5335,   3664.6,   1.5191,  34.6780,2,  34.6788,2,   -999.0,9,    143.2,2,   156.33,2,    36.63,2,     0.00,2,     2.51,2, -999.000,5, -999.000,5, -999.000,9,-999.0000,9,    14.40,2,   2331.7,2,   2423.7,2,  -999.00,9,-999.0000,   0.150,  1.2355,-999.000
      325023_1,  P14N,    94,  1,      7,      7,2,19930731,1456, 15.5057, 178.9993, 5335,   3970.8,   1.4785,  34.6826,2,  34.6833,2,   -999.0,9,    150.5,2,   153.73,2,    36.13,2,     0.00,2,     2.47,2, -999.000,5, -999.000,5, -999.000,9,   1.8520,2,    14.40,2,   2327.4,2,   2421.6,2,  -999.00,9,  0.2000,   0.150,  1.1634,-999.000
      325023_1,  P14N,    94,  1,      6,      6,2,19930731,1456, 15.5057, 178.9993, 5335,   4273.8,   1.4500,  34.6873,2,  34.6876,2,   -999.0,9,    157.2,2,   149.78,2,    35.67,2,     0.00,2,     2.44,2, -999.000,5, -999.000,5, -999.000,9,-999.0000,9,  -999.00,9,   2320.1,2,   2418.5,2,  -999.00,9,-999.0000,-999.000,  1.1023,-999.000
      325023_1,  P14N,    94,  1,      5,      5,2,19930731,1456, 15.5057, 178.9993, 5335,   4573.1,   1.4065,  34.6923,2,  34.6934,2,   -999.0,9,    179.2,4,   143.40,2,    34.82,2,     0.00,2,     2.38,2, -999.000,5, -999.000,5, -999.000,9,   1.8570,2,    13.70,2,   2308.2,2,   2411.6,2,  -999.00,9,  0.2000,   0.150,  1.0259,-999.000
      325023_1,  P14N,    94,  1,      4,      4,2,19930731,1456, 15.5057, 178.9993, 5335,   4869.1,   1.3577,  34.6977,2,  34.6983,2,   -999.0,9,    179.1,2,   136.38,2,    33.97,2,     0.00,2,     2.32,2, -999.000,5, -999.000,5, -999.000,9,   1.8250,2,    13.80,2,   2293.4,2,   2401.4,2,     7.60,2,  0.2000,   0.150,  0.9439,-999.000
      325023_1,  P14N,    94,  1,      3,      3,2,19930731,1456, 15.5057, 178.9993, 5335,   5193.0,   1.3493,  34.7007,2,  34.7012,2,   -999.0,9,    185.7,2,   133.39,2,    33.52,2,     0.00,2,     2.29,2, -999.000,5, -999.000,5, -999.000,9,   1.8480,2,    13.10,2,   2289.3,2,   2396.8,2,  -999.00,9,  0.2000,   0.150,  0.8965,-999.000
      325023_1,  P14N,    94,  1,      1,      1,2,19930731,1456, 15.5057, 178.9993, 5335,   5419.7,   1.3606,  34.7025,2,  34.7021,2,   -999.0,9,    186.4,2,   131.18,2,    33.30,2,     0.00,2,     2.27,2, -999.000,5, -999.000,5, -999.000,9,-999.0000,9,  -999.00,9,   2286.8,2,   2394.2,2,  -999.00,9,-999.0000,-999.000,  0.8792,-999.000
      325023_1,  P14N,    94,  1,      2,      2,2,19930731,1456, 15.5057, 178.9993, 5335,   5420.3,   1.3607,  34.7027,2,  34.7026,2,   -999.0,9,    188.0,2,   131.29,2,    33.30,2,     0.00,2,     2.27,2, -999.000,5, -999.000,5, -999.000,9,   1.7800,2,    13.50,2,   2285.0,2,   2392.7,2,  -999.00,9,  0.2000,   0.150,  0.8792,-999.000