BOTTLE,20131125MIRCJHATS
EXPOCODE,SECT_ID,STNNBR,CASTNO,SAMPNO,BTLNBR,BTLNBR_FLAG_W,DATE,TIME,LATITUDE,LONGITUDE,DEPTH,CTDPRS,CTDTMP,CTDSAL,CTDSAL_FLAG_W,SALNTY,SALNTY_FLAG_W,CTDOXY,CTDOXY_FLAG_W,OXYGEN,OXYGEN_FLAG_W,SILCAT,SILCAT_FLAG_W,NITRAT,NITRAT_FLAG_W,NITRIT,NITRIT_FLAG_W,PHSPHT,PHSPHT_FLAG_W,CFC-11,CFC-11_FLAG_W,CFC-12,CFC-12_FLAG_W,TRITUM,TRITUM_FLAG_W,HELIUM,HELIUM_FLAG_W,DELHE3,DELHE3_FLAG_W,TCARBN,TCARBN_FLAG_W,ALKALI,ALKALI_FLAG_W,PH,PH_FLAG_W,HELIER,DELHER,THETA,TRITER
,,,,,,,,,,,,DBAR,ITS-90,PSS-78,,PSS-78,,UMOL/KG,,UMOL/KG,,UMOL/KG,,UMOL/KG,,UMOL/KG,,UMOL/KG,,PMOL/KG,,PMOL/KG,,TU,,NMOL/KG,,PERCNT,,UMOL/KG,,UMOL/KG,,25_DEG,,NMOL/KG,PERCNT,DEG C,TU
      325023_1,  P14N,   115,  1,     35,     35,4,19930805,2331,  7.0038, 178.9978, 5575,      1.8,  28.8133,  34.2113,2,  34.2152,2,   -999.0,9,    196.1,2,     1.62,2,     0.03,2,     0.00,2,     0.19,2,    1.619,2,    0.890,2, -999.000,9,-999.0000,9,  -999.00,9,   -999.0,9,   -999.0,9,  -999.00,9,-999.0000,-999.000, 28.8128,-999.000
      325023_1,  P14N,   115,  1,     34,     34,4,19930805,2331,  7.0038, 178.9978, 5575,      2.4,  28.7912,  34.2094,2,  34.2136,2,   -999.0,9,    196.1,2,     1.57,2,     0.03,2,     0.00,2,     0.19,2,    1.635,2,    0.926,2, -999.000,9,-999.0000,9,  -999.00,9,   -999.0,9,   -999.0,9,  -999.00,9,-999.0000,-999.000, 28.7907,-999.000
      325023_1,  P14N,   115,  1,     33,     33,4,19930805,2331,  7.0038, 178.9978, 5575,     38.5,  28.7297,  34.2231,2,  34.2255,2,   -999.0,9,    196.1,2,     1.33,2,     0.03,2,     0.00,2,     0.19,2,    1.636,6,    0.921,6, -999.000,9,-999.0000,9,  -999.00,9,   -999.0,9,   -999.0,9,  -999.00,9,-999.0000,-999.000, 28.7205,-999.000
      325023_1,  P14N,   115,  1,     32,     32,4,19930805,2331,  7.0038, 178.9978, 5575,     66.4,  28.5774,  34.4480,2,  34.4310,2,   -999.0,9,    198.3,2,     1.28,2,     0.03,2,     0.00,2,     0.19,2,    1.664,2,    0.933,2, -999.000,9,-999.0000,9,  -999.00,9,   -999.0,9,   -999.0,9,  -999.00,9,-999.0000,-999.000, 28.5615,-999.000
      325023_1,  P14N,   115,  1,     31,     31,4,19930805,2331,  7.0038, 178.9978, 5575,     98.4,  22.9872,  34.7265,2,  34.7236,2,   -999.0,9,    171.4,2,     3.42,2,     2.15,2,     0.44,2,     0.41,2,    1.829,2,    0.956,2, -999.000,9,-999.0000,9,  -999.00,9,   -999.0,9,   -999.0,9,  -999.00,9,-999.0000,-999.000, 22.9671,-999.000
      325023_1,  P14N,   115,  1,     30,     30,4,19930805,2331,  7.0038, 178.9978, 5575,    129.4,  15.5897,  34.6428,2,  34.6362,2,   -999.0,9,    115.4,2,    15.24,2,    16.46,2,     0.02,2,     1.26,2,    1.403,2,    0.704,2, -999.000,9,-999.0000,9,  -999.00,9,   -999.0,9,   -999.0,9,  -999.00,9,-999.0000,-999.000, 15.5697,-999.000
      325023_1,  P14N,   115,  1,     29,     29,4,19930805,2331,  7.0038, 178.9978, 5575,    160.0,  12.7810,  34.5743,2,  34.5732,2,   -999.0,9,     78.9,2,    23.31,2,    24.01,2,     0.01,2,     1.79,2,    0.887,2,    0.439,2, -999.000,9,-999.0000,9,  -999.00,9,   -999.0,9,   -999.0,9,  -999.00,9,-999.0000,-999.000, 12.7594,-999.000
      325023_1,  P14N,   115,  1,     28,     28,4,19930805,2331,  7.0038, 178.9978, 5575,    210.6,  10.4682,  34.6542,2,  34.6532,2,   -999.0,9,     41.4,2,    32.74,2,    32.30,2,     0.01,2,     2.32,2,    0.207,2,    0.116,2, -999.000,9,-999.0000,9,  -999.00,9,   -999.0,9,   -999.0,9,  -999.00,9,-999.0000,-999.000, 10.4431,-999.000
      325023_1,  P14N,   115,  1,     27,     27,4,19930805,2331,  7.0038, 178.9978, 5575,    261.6,   9.7614,  34.6593,2,  34.6581,2,   -999.0,9,     43.4,2,    34.86,2,    33.44,2,     0.01,2,     2.36,2,    0.125,2,    0.059,2, -999.000,9,-999.0000,9,  -999.00,9,   -999.0,9,   -999.0,9,  -999.00,9,-999.0000,-999.000,  9.7315,-999.000
      325023_1,  P14N,   115,  1,     26,     26,4,19930805,2331,  7.0038, 178.9978, 5575,    311.3,   9.2315,  34.6487,2,  34.6471,2,   -999.0,9,     51.5,2,    36.38,2,    33.88,2,     0.01,2,     2.37,2,    0.102,2,    0.059,2, -999.000,9,-999.0000,9,  -999.00,9,   -999.0,9,   -999.0,9,  -999.00,9,-999.0000,-999.000,  9.1970,-999.000
      325023_1,  P14N,   115,  1,     25,     25,4,19930805,2331,  7.0038, 178.9978, 5575,    412.2,   8.4663,  34.6201,2,  34.6182,2,   -999.0,9,     40.8,2,    42.05,2,    36.51,2,     0.01,2,     2.56,2,    0.033,2,    0.018,2, -999.000,9,-999.0000,9,  -999.00,9,   -999.0,9,   -999.0,9,  -999.00,9,-999.0000,-999.000,  8.4228,-999.000
      325023_1,  P14N,   115,  1,     24,     24,4,19930805,2331,  7.0038, 178.9978, 5575,    511.7,   7.7067,  34.5895,2,  34.5888,2,   -999.0,9,     32.9,2,    49.70,2,    38.41,2,     0.01,2,     2.74,2,    0.011,2,    0.011,2, -999.000,9,-999.0000,9,  -999.00,9,   -999.0,9,   -999.0,9,  -999.00,9,-999.0000,-999.000,  7.6553,-999.000
      325023_1,  P14N,   115,  1,     23,     23,4,19930805,2331,  7.0038, 178.9978, 5575,    612.4,   6.8158,  34.5596,2,  34.5586,2,   -999.0,9,     31.1,2,    59.73,2,    40.48,2,     0.01,2,     2.89,2,    0.002,2,    0.000,2, -999.000,9,-999.0000,9,  -999.00,9,   -999.0,9,   -999.0,9,  -999.00,9,-999.0000,-999.000,  6.7579,-999.000
      325023_1,  P14N,   115,  1,     22,     22,4,19930805,2331,  7.0038, 178.9978, 5575,    711.7,   6.0001,  34.5463,2,  34.5450,2,   -999.0,9,     36.0,2,    69.78,2,    41.78,2,     0.01,2,     2.96,2,   -0.001,2,    0.002,2, -999.000,9,-999.0000,9,  -999.00,9,   -999.0,9,   -999.0,9,  -999.00,9,-999.0000,-999.000,  5.9368,-999.000
      325023_1,  P14N,   115,  1,     21,     21,4,19930805,2331,  7.0038, 178.9978, 5575,    811.4,   5.3663,  34.5480,2,  34.5471,2,   -999.0,9,     41.0,2,    78.64,2,    42.63,2,     0.00,2,     3.01,2, -999.000,5, -999.000,5, -999.000,9,-999.0000,9,  -999.00,9,   -999.0,9,   -999.0,9,  -999.00,9,-999.0000,-999.000,  5.2974,-999.000
      325023_1,  P14N,   115,  1,     20,     20,4,19930805,2331,  7.0038, 178.9978, 5575,    911.5,   4.8939,  34.5512,2,  34.5497,2,   -999.0,9,     53.8,2,    86.13,2,    41.87,2,     0.00,2,     2.95,2, -999.000,5, -999.000,5, -999.000,9,-999.0000,9,  -999.00,9,   -999.0,9,   -999.0,9,  -999.00,9,-999.0000,-999.000,  4.8192,-999.000
      325023_1,  P14N,   115,  1,     19,     19,4,19930805,2331,  7.0038, 178.9978, 5575,   1011.9,   4.4868,  34.5595,2,  34.5583,2,   -999.0,9,     55.7,2,    95.44,2,    42.20,2,     0.00,2,     2.98,2,    0.001,2,    0.001,2, -999.000,9,-999.0000,9,  -999.00,9,   -999.0,9,   -999.0,9,  -999.00,9,-999.0000,-999.000,  4.4062,-999.000
      325023_1,  P14N,   115,  1,     18,     18,4,19930805,2331,  7.0038, 178.9978, 5575,   1214.0,   3.7662,  34.5763,2,  34.5751,2,   -999.0,9,     72.4,2,   109.82,2,    41.12,2,     0.00,2,     2.89,2,    0.001,2,    0.001,2, -999.000,9,-999.0000,9,  -999.00,9,   -999.0,9,   -999.0,9,  -999.00,9,-999.0000,-999.000,  3.6745,-999.000
      325023_1,  P14N,   115,  1,     17,     17,4,19930805,2331,  7.0038, 178.9978, 5575,   1418.3,   3.2199,  34.5935,2,  34.5921,2,   -999.0,9,     81.2,2,   121.48,2,    40.57,2,     0.00,2,     2.85,2, -999.000,5, -999.000,5, -999.000,9,-999.0000,9,  -999.00,9,   -999.0,9,   -999.0,9,  -999.00,9,-999.0000,-999.000,  3.1164,-999.000
      325023_1,  P14N,   115,  1,     16,     16,4,19930805,2331,  7.0038, 178.9978, 5575,   1622.0,   2.8305,  34.6090,2,  34.6076,2,   -999.0,9,     87.7,2,   129.75,2,    40.24,2,     0.00,2,     2.83,2,    0.000,2,    0.008,2, -999.000,9,-999.0000,9,  -999.00,9,   -999.0,9,   -999.0,9,  -999.00,9,-999.0000,-999.000,  2.7144,-999.000
      325023_1,  P14N,   115,  1,     15,     15,4,19930805,2331,  7.0038, 178.9978, 5575,   1825.4,   2.4949,  34.6240,2,  34.6227,2,   -999.0,9,     95.2,2,   137.25,2,    39.78,2,     0.00,2,     2.79,2, -999.000,5, -999.000,5, -999.000,9,-999.0000,9,  -999.00,9,   -999.0,9,   -999.0,9,  -999.00,9,-999.0000,-999.000,  2.3660,-999.000
      325023_1,  P14N,   115,  1,     14,     14,4,19930805,2331,  7.0038, 178.9978, 5575,   2028.2,   2.2437,  34.6371,2,  34.6360,2,   -999.0,9,    100.7,2,   143.77,2,    39.41,2,     0.00,2,     2.76,2, -999.000,5, -999.000,5, -999.000,9,-999.0000,9,  -999.00,9,   -999.0,9,   -999.0,9,  -999.00,9,-999.0000,-999.000,  2.1011,-999.000
      325023_1,  P14N,   115,  1,     13,     13,4,19930805,2331,  7.0038, 178.9978, 5575,   2231.5,   2.0449,  34.6494,2,  34.6481,2,   -999.0,9,    107.5,2,   148.02,2,    39.04,2,     0.00,2,     2.71,2, -999.000,5, -999.000,5, -999.000,9,-999.0000,9,  -999.00,9,   -999.0,9,   -999.0,9,  -999.00,9,-999.0000,-999.000,  1.8878,-999.000
      325023_1,  P14N,   115,  1,     12,     12,4,19930805,2331,  7.0038, 178.9978, 5575,   2434.8,   1.9174,  34.6577,2,  34.6573,2,   -999.0,9,    112.5,2,   150.21,2,    38.72,2,     0.00,2,     2.69,2,    0.009,3,    0.006,2, -999.000,9,-999.0000,9,  -999.00,9,   -999.0,9,   -999.0,9,  -999.00,9,-999.0000,-999.000,  1.7445,-999.000
      325023_1,  P14N,   115,  1,     11,     11,4,19930805,2331,  7.0038, 178.9978, 5575,   2639.4,   1.8202,  34.6634,2,  34.6622,2,   -999.0,9,    117.9,2,   151.56,2,    38.35,2,     0.00,2,     2.65,2, -999.000,5, -999.000,5, -999.000,9,-999.0000,9,  -999.00,9,   -999.0,9,   -999.0,9,  -999.00,9,-999.0000,-999.000,  1.6305,-999.000
      325023_1,  P14N,   115,  1,     10,     10,4,19930805,2331,  7.0038, 178.9978, 5575,   2843.0,   1.7358,  34.6674,2,  34.6665,2,   -999.0,9,    124.4,2,   151.65,2,    37.90,2,     0.00,2,     2.63,2, -999.000,5, -999.000,5, -999.000,9,-999.0000,9,  -999.00,9,   -999.0,9,   -999.0,9,  -999.00,9,-999.0000,-999.000,  1.5289,-999.000
      325023_1,  P14N,   115,  1,      9,      9,3,19930805,2331,  7.0038, 178.9978, 5575,   3048.4,   1.6450,  34.6721,2,  34.6559,4,   -999.0,9,    120.6,4,   144.66,4,    37.94,4,     0.00,4,     2.63,4, -999.000,5, -999.000,5, -999.000,9,-999.0000,9,  -999.00,9,   -999.0,9,   -999.0,9,  -999.00,9,-999.0000,-999.000,  1.4204,-999.000
      325023_1,  P14N,   115,  1,      8,      8,4,19930805,2331,  7.0038, 178.9978, 5575,   3353.9,   1.5409,  34.6789,2,  34.6774,2,   -999.0,9,    143.1,2,   147.87,2,    36.59,2,     0.00,2,     2.52,2,    0.002,2,    0.003,2, -999.000,9,-999.0000,9,  -999.00,9,   -999.0,9,   -999.0,9,  -999.00,9,-999.0000,-999.000,  1.2885,-999.000
      325023_1,  P14N,   115,  1,      7,      7,4,19930805,2331,  7.0038, 178.9978, 5575,   3660.9,   1.4616,  34.6848,2,  34.6833,2,   -999.0,9,    151.9,2,   145.89,2,    36.00,2,     0.00,2,     2.47,2, -999.000,5, -999.000,5, -999.000,9,-999.0000,9,  -999.00,9,   -999.0,9,   -999.0,9,  -999.00,9,-999.0000,-999.000,  1.1799,-999.000
      325023_1,  P14N,   115,  1,      6,      6,4,19930805,2331,  7.0038, 178.9978, 5575,   3965.7,   1.3799,  34.6908,2,  34.6909,2,   -999.0,9,    164.0,2,   141.43,2,    35.11,2,     0.00,2,     2.40,2, -999.000,5, -999.000,5, -999.000,9,-999.0000,9,  -999.00,9,   -999.0,9,   -999.0,9,  -999.00,9,-999.0000,-999.000,  1.0680,-999.000
      325023_1,  P14N,   115,  1,      5,      5,4,19930805,2331,  7.0038, 178.9978, 5575,   4271.1,   1.3137,  34.6961,2,  34.6950,2,   -999.0,9,    174.0,2,   136.58,2,    34.44,2,     0.00,2,     2.35,2, -999.000,5, -999.000,5, -999.000,9,-999.0000,9,  -999.00,9,   -999.0,9,   -999.0,9,  -999.00,9,-999.0000,-999.000,  0.9703,-999.000
      325023_1,  P14N,   115,  1,      4,      4,4,19930805,2331,  7.0038, 178.9978, 5575,   4576.5,   1.2777,  34.7001,2,  34.6995,2,   -999.0,9,    183.5,2,   131.56,2,    33.64,2,     0.00,2,     2.31,2,    0.002,2,    0.009,2, -999.000,9,-999.0000,9,  -999.00,9,   -999.0,9,   -999.0,9,  -999.00,9,-999.0000,-999.000,  0.9007,-999.000
      325023_1,  P14N,   115,  1,      3,      3,4,19930805,2331,  7.0038, 178.9978, 5575,   4886.4,   1.2863,  34.7021,2,  34.7012,2,   -999.0,9,    187.2,2,   129.21,2,    33.51,2,     0.00,2,     2.30,2, -999.000,5, -999.000,5, -999.000,9,-999.0000,9,  -999.00,9,   -999.0,9,   -999.0,9,  -999.00,9,-999.0000,-999.000,  0.8728,-999.000
      325023_1,  P14N,   115,  1,      2,      2,4,19930805,2331,  7.0038, 178.9978, 5575,   5195.1,   1.3005,  34.7026,2,  34.7022,2,   -999.0,9,    189.9,2,   128.08,2,    33.25,2,     0.00,2,     2.27,2, -999.000,5, -999.000,5, -999.000,9,-999.0000,9,  -999.00,9,   -999.0,9,   -999.0,9,  -999.00,9,-999.0000,-999.000,  0.8492,-999.000
      325023_1,  P14N,   115,  1,      1,      1,4,19930805,2331,  7.0038, 178.9978, 5575,   5504.3,   1.3287,  34.7034,2,  34.7014,2,   -999.0,9,    189.2,2,   127.98,2,    33.20,2,     0.00,2,     2.27,2,   -0.003,2,    0.006,2, -999.000,9,-999.0000,9,  -999.00,9,   -999.0,9,   -999.0,9,  -999.00,9,-999.0000,-999.000,  0.8378,-999.000
      325023_1,  P14N,   115,  1,     36,     36,2,19930805,2331,  7.0038, 178.9978, 5575,   5602.0,   1.3378,  34.7033,2,-999.0000,9,   -999.0,9,   -999.0,9,  -999.00,9,  -999.00,9,  -999.00,9,  -999.00,9, -999.000,5, -999.000,5, -999.000,9,-999.0000,9,  -999.00,9,   -999.0,9,   -999.0,9,  -999.00,9,-999.0000,-999.000,  0.8341,-999.000