BOTTLE,20131125MIRCJHATS
EXPOCODE,SECT_ID,STNNBR,CASTNO,SAMPNO,BTLNBR,BTLNBR_FLAG_W,DATE,TIME,LATITUDE,LONGITUDE,DEPTH,CTDPRS,CTDTMP,CTDSAL,CTDSAL_FLAG_W,SALNTY,SALNTY_FLAG_W,CTDOXY,CTDOXY_FLAG_W,OXYGEN,OXYGEN_FLAG_W,SILCAT,SILCAT_FLAG_W,NITRAT,NITRAT_FLAG_W,NITRIT,NITRIT_FLAG_W,PHSPHT,PHSPHT_FLAG_W,CFC-11,CFC-11_FLAG_W,CFC-12,CFC-12_FLAG_W,TRITUM,TRITUM_FLAG_W,HELIUM,HELIUM_FLAG_W,DELHE3,DELHE3_FLAG_W,TCARBN,TCARBN_FLAG_W,ALKALI,ALKALI_FLAG_W,PH,PH_FLAG_W,HELIER,DELHER,THETA,TRITER
,,,,,,,,,,,,DBAR,ITS-90,PSS-78,,PSS-78,,UMOL/KG,,UMOL/KG,,UMOL/KG,,UMOL/KG,,UMOL/KG,,UMOL/KG,,PMOL/KG,,PMOL/KG,,TU,,NMOL/KG,,PERCNT,,UMOL/KG,,UMOL/KG,,25_DEG,,NMOL/KG,PERCNT,DEG C,TU
      325023_1,  P14N,    65,  1,     36,     36,2,19930723,1833, 29.9968, 178.9980, 4700,      3.2,  26.6752,  35.0763,2,  35.0747,2,   -999.0,9,    207.3,2,     4.21,2,     0.02,2,     0.00,2,     0.04,2,    1.862,2,    1.045,2, -999.000,9,-999.0000,9,  -999.00,9,   -999.0,9,   -999.0,9,  -999.00,9,-999.0000,-999.000, 26.6745,-999.000
      325023_1,  P14N,    65,  1,     35,     35,2,19930723,1833, 29.9968, 178.9980, 4700,     37.5,  22.0081,  34.8888,2,  34.8931,2,   -999.0,9,    239.4,2,     4.16,2,     0.02,2,     0.00,2,     0.05,2, -999.000,5, -999.000,5, -999.000,9,-999.0000,9,  -999.00,9,   -999.0,9,   -999.0,9,  -999.00,9,-999.0000,-999.000, 22.0007,-999.000
      325023_1,  P14N,    65,  1,     34,     34,2,19930723,1833, 29.9968, 178.9980, 4700,     68.4,  17.6260,  34.8434,2,  34.8420,2,   -999.0,9,    250.0,2,     4.11,2,     0.02,2,     0.00,2,     0.09,2,    2.351,4,    1.434,2, -999.000,9,-999.0000,9,  -999.00,9,   -999.0,9,   -999.0,9,  -999.00,9,-999.0000,-999.000, 17.6145,-999.000
      325023_1,  P14N,    65,  1,     33,     33,2,19930723,1833, 29.9968, 178.9980, 4700,     98.6,  16.4289,  34.7615,2,  34.7642,2,   -999.0,9,    228.3,2,     4.46,2,     1.93,2,     0.28,2,     0.24,2,    2.702,2,    1.410,2, -999.000,9,-999.0000,9,  -999.00,9,   -999.0,9,   -999.0,9,  -999.00,9,-999.0000,-999.000, 16.4131,-999.000
      325023_1,  P14N,    65,  1,     32,     32,2,19930723,1833, 29.9968, 178.9980, 4700,    128.6,  16.0986,  34.7295,2,  34.7234,2,   -999.0,9,    224.8,2,     5.41,2,     3.51,2,     0.05,2,     0.31,2,    2.684,2,    1.403,2, -999.000,9,-999.0000,9,  -999.00,9,   -999.0,9,   -999.0,9,  -999.00,9,-999.0000,-999.000, 16.0783,-999.000
      325023_1,  P14N,    65,  1,     31,     31,2,19930723,1833, 29.9968, 178.9980, 4700,    158.0,  15.4874,  34.6630,2,  34.6596,2,   -999.0,9,    220.9,2,     5.96,2,     4.84,2,     0.02,2,     0.40,2,    2.712,2,    1.389,2, -999.000,9,-999.0000,9,  -999.00,9,   -999.0,9,   -999.0,9,  -999.00,9,-999.0000,-999.000, 15.4630,-999.000
      325023_1,  P14N,    65,  1,     30,     30,2,19930723,1833, 29.9968, 178.9980, 4700,    208.0,  14.4898,  34.5625,2,  34.5601,2,   -999.0,9,    214.3,2,     8.31,2,     7.32,2,     0.01,2,     0.56,2,    2.671,2,    1.358,2, -999.000,9,-999.0000,9,  -999.00,9,   -999.0,9,   -999.0,9,  -999.00,9,-999.0000,-999.000, 14.4591,-999.000
      325023_1,  P14N,    65,  1,     29,     29,2,19930723,1833, 29.9968, 178.9980, 4700,    257.4,  13.5449,  34.4824,2,  34.4813,2,   -999.0,9,    214.2,2,    10.66,2,     8.98,2,     0.01,2,     0.67,2,    2.754,2,    1.395,2, -999.000,9,-999.0000,9,  -999.00,9,   -999.0,9,   -999.0,9,  -999.00,9,-999.0000,-999.000, 13.5086,-999.000
      325023_1,  P14N,    65,  1,     28,     28,2,19930723,1833, 29.9968, 178.9980, 4700,    308.0,  12.8092,  34.4243,2,  34.4217,2,   -999.0,9,    215.8,2,    12.40,2,    10.05,2,     0.01,2,     0.75,2,    2.729,2,    1.385,2, -999.000,9,-999.0000,9,  -999.00,9,   -999.0,9,   -999.0,9,  -999.00,9,-999.0000,-999.000, 12.7673,-999.000
      325023_1,  P14N,    65,  1,     27,     27,2,19930723,1833, 29.9968, 178.9980, 4700,    407.8,  10.9607,  34.2796,2,  34.2716,2,   -999.0,9,    216.2,2,    18.55,2,    13.56,2,     0.01,2,     1.00,2,    2.844,2,    1.422,2, -999.000,9,-999.0000,9,  -999.00,9,   -999.0,9,   -999.0,9,  -999.00,9,-999.0000,-999.000, 10.9105,-999.000
      325023_1,  P14N,    65,  1,     26,     26,2,19930723,1833, 29.9968, 178.9980, 4700,    509.0,   8.8079,  34.1236,2,  34.1214,2,   -999.0,9,    191.0,2,    31.48,2,    20.04,2,     0.01,2,     1.44,2,    2.409,2,    1.148,2, -999.000,9,-999.0000,9,  -999.00,9,   -999.0,9,   -999.0,9,  -999.00,9,-999.0000,-999.000,  8.7530,-999.000
      325023_1,  P14N,    65,  1,     25,     25,2,19930723,1833, 29.9968, 178.9980, 4700,    609.8,   6.7154,  34.0231,2,  34.0208,2,   -999.0,9,    156.9,2,    51.23,2,    27.05,2,     0.00,2,     1.96,2,    1.863,2,    0.882,2, -999.000,9,-999.0000,9,  -999.00,9,   -999.0,9,   -999.0,9,  -999.00,9,-999.0000,-999.000,  6.6588,-999.000
      325023_1,  P14N,    65,  1,     24,     24,2,19930723,1833, 29.9968, 178.9980, 4700,    710.8,   5.2473,  34.0396,2,  34.0396,2,   -999.0,9,     97.3,2,    76.44,2,    34.77,2,     0.00,2,     2.50,2,    0.796,2,    0.363,2, -999.000,9,-999.0000,9,  -999.00,9,   -999.0,9,   -999.0,9,  -999.00,9,-999.0000,-999.000,  5.1888,-999.000
      325023_1,  P14N,    65,  1,     23,     23,2,19930723,1833, 29.9968, 178.9980, 4700,    811.2,   4.4852,  34.1252,2,  34.1209,2,   -999.0,9,     65.4,2,    95.76,2,    38.62,2,     0.00,2,     2.77,2,    0.439,2,    0.200,2, -999.000,9,-999.0000,9,  -999.00,9,   -999.0,9,   -999.0,9,  -999.00,9,-999.0000,-999.000,  4.4224,-999.000
      325023_1,  P14N,    65,  1,     22,     22,2,19930723,1833, 29.9968, 178.9980, 4700,    910.4,   3.9722,  34.2205,2,  34.2184,2,   -999.0,9,     41.2,2,   112.38,2,    41.16,2,     0.00,2,     2.95,2,    0.165,4,    0.067,2, -999.000,9,-999.0000,9,  -999.00,9,   -999.0,9,   -999.0,9,  -999.00,9,-999.0000,-999.000,  3.9046,-999.000
      325023_1,  P14N,    65,  1,     21,     21,2,19930723,1833, 29.9968, 178.9980, 4700,   1010.7,   3.6200,  34.2998,2,  34.2975,2,   -999.0,9,     29.5,2,   124.00,2,    42.56,2,     0.00,2,     3.04,2,    0.057,2,    0.029,2, -999.000,9,-999.0000,9,  -999.00,9,   -999.0,9,   -999.0,9,  -999.00,9,-999.0000,-999.000,  3.5468,-999.000
      325023_1,  P14N,    65,  1,     20,     20,2,19930723,1833, 29.9968, 178.9980, 4700,   1213.0,   3.0927,  34.4208,2,  34.4186,2,   -999.0,9,     25.7,2,   140.32,2,    43.41,2,     0.00,2,     3.09,2,    0.006,2,    0.006,2, -999.000,9,-999.0000,9,  -999.00,9,   -999.0,9,   -999.0,9,  -999.00,9,-999.0000,-999.000,  3.0076,-999.000
      325023_1,  P14N,    65,  1,     19,     19,2,19930723,1833, 29.9968, 178.9980, 4700,   1415.3,   2.6933,  34.4973,2,  34.4950,2,   -999.0,9,     36.4,2,   150.75,2,    43.04,2,     0.00,2,     3.05,2,    0.001,2,    0.002,2, -999.000,9,-999.0000,9,  -999.00,9,   -999.0,9,   -999.0,9,  -999.00,9,-999.0000,-999.000,  2.5960,-999.000
      325023_1,  P14N,    65,  1,     18,     18,2,19930723,1833, 29.9968, 178.9980, 4700,   1618.6,   2.3696,  34.5444,2,  34.5428,2,   -999.0,9,     47.8,2,   158.94,2,    42.45,2,     0.00,2,     2.99,2, -999.000,5, -999.000,5, -999.000,9,-999.0000,9,  -999.00,9,   -999.0,9,   -999.0,9,  -999.00,9,-999.0000,-999.000,  2.2596,-999.000
      325023_1,  P14N,    65,  1,     17,     17,2,19930723,1833, 29.9968, 178.9980, 4700,   1822.7,   2.1187,  34.5798,2,  34.5783,2,   -999.0,9,     61.0,2,   163.98,2,    41.62,2,     0.00,2,     2.93,2,    0.000,2,   -0.002,2, -999.000,9,-999.0000,9,  -999.00,9,   -999.0,9,   -999.0,9,  -999.00,9,-999.0000,-999.000,  1.9954,-999.000
      325023_1,  P14N,    65,  1,     16,     16,2,19930723,1833, 29.9968, 178.9980, 4700,   2028.7,   1.9259,  34.6055,2,  34.6046,2,   -999.0,9,     75.0,2,   167.32,2,    40.99,2,     0.00,2,     2.86,2, -999.000,5, -999.000,5, -999.000,9,-999.0000,9,  -999.00,9,   -999.0,9,   -999.0,9,  -999.00,9,-999.0000,-999.000,  1.7883,-999.000
      325023_1,  P14N,    65,  1,     15,     15,2,19930723,1833, 29.9968, 178.9980, 4700,   2233.2,   1.7997,  34.6247,2,  34.6238,2,   -999.0,9,     88.9,2,   167.44,2,    40.16,2,     0.00,2,     2.80,2, -999.000,5, -999.000,5, -999.000,9,-999.0000,9,  -999.00,9,   -999.0,9,   -999.0,9,  -999.00,9,-999.0000,-999.000,  1.6467,-999.000
      325023_1,  P14N,    65,  1,     14,     14,2,19930723,1833, 29.9968, 178.9980, 4700,   2433.6,   1.6877,  34.6394,2,  34.6384,2,   -999.0,9,    100.6,2,   167.77,2,    39.48,2,     0.00,2,     2.73,2, -999.000,5, -999.000,5, -999.000,9,-999.0000,9,  -999.00,9,   -999.0,9,   -999.0,9,  -999.00,9,-999.0000,-999.000,  1.5191,-999.000
      325023_1,  P14N,    65,  1,     13,     13,2,19930723,1833, 29.9968, 178.9980, 4700,   2630.3,   1.6167,  34.6496,2,  34.6488,2,   -999.0,9,    110.4,2,   167.24,2,    38.89,2,     0.00,2,     2.69,2,    0.006,2,    0.003,2, -999.000,9,-999.0000,9,  -999.00,9,   -999.0,9,   -999.0,9,  -999.00,9,-999.0000,-999.000,  1.4319,-999.000
      325023_1,  P14N,    65,  1,     12,     12,2,19930723,1833, 29.9968, 178.9980, 4700,   2829.9,   1.5626,  34.6577,2,  34.6580,2,   -999.0,9,    119.0,2,   165.63,2,    38.30,2,     0.00,2,     2.65,2, -999.000,5, -999.000,5, -999.000,9,-999.0000,9,  -999.00,9,   -999.0,9,   -999.0,9,  -999.00,9,-999.0000,-999.000,  1.3606,-999.000
      325023_1,  P14N,    65,  1,     11,     11,2,19930723,1833, 29.9968, 178.9980, 4700,   3032.6,   1.5182,  34.6651,2,  34.6637,2,   -999.0,9,    127.0,2,   164.46,2,    37.76,2,     0.00,2,     2.62,2, -999.000,5, -999.000,5, -999.000,9,-999.0000,9,  -999.00,9,   -999.0,9,   -999.0,9,  -999.00,9,-999.0000,-999.000,  1.2979,-999.000
      325023_1,  P14N,    65,  1,     10,     10,2,19930723,1833, 29.9968, 178.9980, 4700,   3239.5,   1.4884,  34.6703,2,  34.6700,2,   -999.0,9,    133.4,2,   162.00,2,    37.27,2,     0.00,2,     2.59,2, -999.000,5, -999.000,5, -999.000,9,-999.0000,9,  -999.00,9,   -999.0,9,   -999.0,9,  -999.00,9,-999.0000,-999.000,  1.2487,-999.000
      325023_1,  P14N,    65,  1,      9,      9,2,19930723,1833, 29.9968, 178.9980, 4700,   3445.5,   1.4655,  34.6754,2,  34.6744,2,   -999.0,9,    139.4,2,   160.20,2,    36.86,2,     0.00,2,     2.54,2,   -0.002,2,   -0.005,3, -999.000,9,-999.0000,9,  -999.00,9,   -999.0,9,   -999.0,9,  -999.00,9,-999.0000,-999.000,  1.2058,-999.000
      325023_1,  P14N,    65,  1,      8,      8,2,19930723,1833, 29.9968, 178.9980, 4700,   3652.2,   1.4526,  34.6795,2,  34.6785,2,   -999.0,9,    143.8,2,   158.18,2,    36.41,2,     0.00,2,     2.52,2, -999.000,5, -999.000,5, -999.000,9,-999.0000,9,  -999.00,9,   -999.0,9,   -999.0,9,  -999.00,9,-999.0000,-999.000,  1.1720,-999.000
      325023_1,  P14N,    65,  1,      7,      7,2,19930723,1833, 29.9968, 178.9980, 4700,   3859.8,   1.4471,  34.6820,2,  34.6819,2,   -999.0,9,    147.6,2,   156.60,2,    36.19,2,     0.00,2,     2.50,2, -999.000,5, -999.000,5, -999.000,9,-999.0000,9,  -999.00,9,   -999.0,9,   -999.0,9,  -999.00,9,-999.0000,-999.000,  1.1448,-999.000
      325023_1,  P14N,    65,  1,      6,      6,2,19930723,1833, 29.9968, 178.9980, 4700,   4066.7,   1.4480,  34.6843,2,  34.6840,2,   -999.0,9,    150.6,2,   155.23,2,    35.97,2,     0.00,2,     2.49,2, -999.000,5, -999.000,5, -999.000,9,-999.0000,9,  -999.00,9,   -999.0,9,   -999.0,9,  -999.00,9,-999.0000,-999.000,  1.1233,-999.000
      325023_1,  P14N,    65,  1,      5,      5,2,19930723,1833, 29.9968, 178.9980, 4700,   4274.4,   1.4487,  34.6869,2,  34.6853,2,   -999.0,9,    154.2,2,   153.23,2,    35.75,2,     0.00,2,     2.47,2,    0.001,2,   -0.001,2, -999.000,9,-999.0000,9,  -999.00,9,   -999.0,9,   -999.0,9,  -999.00,9,-999.0000,-999.000,  1.1010,-999.000
      325023_1,  P14N,    65,  1,      4,      4,2,19930723,1833, 29.9968, 178.9980, 4700,   4481.1,   1.4498,  34.6889,2,  34.6877,2,   -999.0,9,    157.8,2,   150.18,2,    35.35,2,     0.00,2,     2.45,2, -999.000,5, -999.000,5, -999.000,9,-999.0000,9,  -999.00,9,   -999.0,9,   -999.0,9,  -999.00,9,-999.0000,-999.000,  1.0786,-999.000
      325023_1,  P14N,    65,  1,      3,      3,2,19930723,1833, 29.9968, 178.9980, 4700,   4689.2,   1.4568,  34.6904,2,  34.6894,2,   -999.0,9,    161.0,2,   147.98,2,    35.22,2,     0.00,2,     2.43,2, -999.000,5, -999.000,5, -999.000,9,-999.0000,9,  -999.00,9,   -999.0,9,   -999.0,9,  -999.00,9,-999.0000,-999.000,  1.0612,-999.000
      325023_1,  P14N,    65,  1,      2,      2,2,19930723,1833, 29.9968, 178.9980, 4700,   4754.1,   1.4562,  34.6910,2,  34.6906,2,   -999.0,9,    162.1,2,   146.84,2,    35.04,2,     0.00,2,     2.42,2, -999.000,5, -999.000,5, -999.000,9,-999.0000,9,  -999.00,9,   -999.0,9,   -999.0,9,  -999.00,9,-999.0000,-999.000,  1.0529,-999.000
      325023_1,  P14N,    65,  1,      1,      1,2,19930723,1833, 29.9968, 178.9980, 4700,   4755.7,   1.4567,  34.6912,2,  34.6898,2,   -999.0,9,    162.7,2,   146.75,2,    35.10,2,     0.00,2,     2.41,2,    0.010,3,    0.003,2, -999.000,9,-999.0000,9,  -999.00,9,   -999.0,9,   -999.0,9,  -999.00,9,-999.0000,-999.000,  1.0532,-999.000