BOTTLE,20131125MIRCJHATS
EXPOCODE,SECT_ID,STNNBR,CASTNO,SAMPNO,BTLNBR,BTLNBR_FLAG_W,DATE,TIME,LATITUDE,LONGITUDE,DEPTH,CTDPRS,CTDTMP,CTDSAL,CTDSAL_FLAG_W,SALNTY,SALNTY_FLAG_W,CTDOXY,CTDOXY_FLAG_W,OXYGEN,OXYGEN_FLAG_W,SILCAT,SILCAT_FLAG_W,NITRAT,NITRAT_FLAG_W,NITRIT,NITRIT_FLAG_W,PHSPHT,PHSPHT_FLAG_W,CFC-11,CFC-11_FLAG_W,CFC-12,CFC-12_FLAG_W,TRITUM,TRITUM_FLAG_W,HELIUM,HELIUM_FLAG_W,DELHE3,DELHE3_FLAG_W,TCARBN,TCARBN_FLAG_W,ALKALI,ALKALI_FLAG_W,PH,PH_FLAG_W,HELIER,DELHER,THETA,TRITER
,,,,,,,,,,,,DBAR,ITS-90,PSS-78,,PSS-78,,UMOL/KG,,UMOL/KG,,UMOL/KG,,UMOL/KG,,UMOL/KG,,UMOL/KG,,PMOL/KG,,PMOL/KG,,TU,,NMOL/KG,,PERCNT,,UMOL/KG,,UMOL/KG,,25_DEG,,NMOL/KG,PERCNT,DEG C,TU
      325023_1,  P14N,    83,  1,     36,     36,2,19930728,2150, 21.0015, 178.9972, 2804,      2.1,  27.8529,  35.2454,2,  35.2485,2,   -999.0,9,    202.1,2,     3.24,2,     0.01,2,     0.00,2,     0.03,2,    1.710,2,    0.946,2, -999.000,9,-999.0000,9,  -999.00,9,   -999.0,9,   -999.0,9,  -999.00,9,-999.0000,-999.000, 27.8524,-999.000
      325023_1,  P14N,    83,  1,     35,     35,2,19930728,2150, 21.0015, 178.9972, 2804,     34.9,  27.5905,  35.2547,2,  35.2499,2,   -999.0,9,    205.4,2,     2.61,2,     0.01,2,     0.00,2,     0.03,2,    1.774,2,    0.961,2, -999.000,9,-999.0000,9,  -999.00,9,   -999.0,9,   -999.0,9,  -999.00,9,-999.0000,-999.000, 27.5824,-999.000
      325023_1,  P14N,    83,  1,     34,     34,2,19930728,2150, 21.0015, 178.9972, 2804,     65.4,  23.7099,  35.2838,2,  35.2821,2,   -999.0,9,    219.3,2,     3.47,2,     0.02,2,     0.00,2,     0.03,2,    2.097,2,    1.096,2, -999.000,9,-999.0000,9,  -999.00,9,   -999.0,9,   -999.0,9,  -999.00,9,-999.0000,-999.000, 23.6963,-999.000
      325023_1,  P14N,    83,  1,     33,     33,2,19930728,2150, 21.0015, 178.9972, 2804,     95.7,  22.0487,  35.2667,2,  35.2636,2,   -999.0,9,    209.0,2,     3.26,2,     0.01,2,     0.00,2,     0.06,2,    2.153,2,    1.136,2, -999.000,9,-999.0000,9,  -999.00,9,   -999.0,9,   -999.0,9,  -999.00,9,-999.0000,-999.000, 22.0297,-999.000
      325023_1,  P14N,    83,  1,     32,     32,2,19930728,2150, 21.0015, 178.9972, 2804,    125.7,  19.9451,  35.1267,2,  35.1180,2,   -999.0,9,    202.5,2,     4.55,2,     0.85,2,     0.03,3,     0.17,2,    2.300,2,    1.181,2, -999.000,9,-999.0000,9,  -999.00,9,   -999.0,9,   -999.0,9,  -999.00,9,-999.0000,-999.000, 19.9219,-999.000
      325023_1,  P14N,    83,  1,     31,     31,2,19930728,2150, 21.0015, 178.9972, 2804,    156.0,  18.0036,  34.9247,2,  34.9243,2,   -999.0,9,    199.8,2,     5.85,2,     2.77,2,     0.01,3,     0.30,2,    2.454,2,    1.236,2, -999.000,9,-999.0000,9,  -999.00,9,   -999.0,9,   -999.0,9,  -999.00,9,-999.0000,-999.000, 17.9769,-999.000
      325023_1,  P14N,    83,  1,     30,     30,2,19930728,2150, 21.0015, 178.9972, 2804,    206.2,  16.6905,  34.7836,2,  34.7829,2,   -999.0,9,    205.1,2,     7.14,2,     4.20,2,     0.01,3,     0.38,2,    2.547,2,    1.303,2, -999.000,9,-999.0000,9,  -999.00,9,   -999.0,9,   -999.0,9,  -999.00,9,-999.0000,-999.000, 16.6569,-999.000
      325023_1,  P14N,    83,  1,     29,     29,2,19930728,2150, 21.0015, 178.9972, 2804,    256.9,  14.7071,  34.5812,2,  34.5778,2,   -999.0,9,    207.3,2,    10.59,2,     7.21,2,     0.01,2,     0.58,2,    2.607,6,    1.311,6, -999.000,9,-999.0000,9,  -999.00,9,   -999.0,9,   -999.0,9,  -999.00,9,-999.0000,-999.000, 14.6688,-999.000
      325023_1,  P14N,    83,  1,     28,     28,2,19930728,2150, 21.0015, 178.9972, 2804,    307.2,  13.1350,  34.4409,2,  34.4400,2,   -999.0,9,    205.2,2,    13.18,2,     9.80,2,     0.01,2,     0.76,2,    2.554,2,    1.265,2, -999.000,9,-999.0000,9,  -999.00,9,   -999.0,9,   -999.0,9,  -999.00,9,-999.0000,-999.000, 13.0925,-999.000
      325023_1,  P14N,    83,  1,     27,     27,2,19930728,2150, 21.0015, 178.9972, 2804,    357.6,  11.6050,  34.3134,2,  34.3138,2,   -999.0,9,    199.4,2,    18.35,2,    13.11,2,     0.00,2,     0.99,2,    2.379,2,    1.150,2, -999.000,9,-999.0000,9,  -999.00,9,   -999.0,9,   -999.0,9,  -999.00,9,-999.0000,-999.000, 11.5594,-999.000
      325023_1,  P14N,    83,  1,     26,     26,2,19930728,2150, 21.0015, 178.9972, 2804,    407.9,  10.0492,  34.2043,2,  34.2021,2,   -999.0,9,    187.1,2,    26.10,2,    17.42,2,     0.00,2,     1.28,2,    2.071,2,    0.987,2, -999.000,9,-999.0000,9,  -999.00,9,   -999.0,9,   -999.0,9,  -999.00,9,-999.0000,-999.000, 10.0016,-999.000
      325023_1,  P14N,    83,  1,     25,     25,2,19930728,2150, 21.0015, 178.9972, 2804,    458.5,   8.7418,  34.1286,2,  34.1279,2,   -999.0,9,    164.1,2,    35.80,2,    22.14,2,     0.00,2,     1.61,2, -999.000,5, -999.000,5, -999.000,9,-999.0000,9,  -999.00,9,   -999.0,9,   -999.0,9,  -999.00,9,-999.0000,-999.000,  8.6927,-999.000
      325023_1,  P14N,    83,  1,     24,     24,2,19930728,2150, 21.0015, 178.9972, 2804,    509.1,   7.8388,  34.0994,2,  34.0995,2,   -999.0,9,    143.4,2,    45.51,2,    25.96,2,     0.00,2,     1.86,2,    1.254,2,    0.578,2, -999.000,9,-999.0000,9,  -999.00,9,   -999.0,9,   -999.0,9,  -999.00,9,-999.0000,-999.000,  7.7875,-999.000
      325023_1,  P14N,    83,  1,     23,     23,2,19930728,2150, 21.0015, 178.9972, 2804,    609.9,   6.1815,  34.1284,2,  34.1283,2,   -999.0,9,     85.5,2,    69.48,2,    34.37,2,     0.00,2,     2.46,2,    0.445,2,    0.205,2, -999.000,9,-999.0000,9,  -999.00,9,   -999.0,9,   -999.0,9,  -999.00,9,-999.0000,-999.000,  6.1273,-999.000
      325023_1,  P14N,    83,  1,     22,     22,2,19930728,2150, 21.0015, 178.9972, 2804,    710.0,   5.3048,  34.2574,2,  34.2571,2,   -999.0,9,     48.6,2,    88.13,2,    39.63,2,     0.00,2,     2.80,2,    0.082,2,    0.030,2, -999.000,9,-999.0000,9,  -999.00,9,   -999.0,9,   -999.0,9,  -999.00,9,-999.0000,-999.000,  5.2458,-999.000
      325023_1,  P14N,    83,  1,     21,     21,2,19930728,2150, 21.0015, 178.9972, 2804,    808.2,   4.8040,  34.3657,2,  34.3662,2,   -999.0,9,     44.1,2,    98.60,2,    41.07,2,     0.00,2,     2.89,2,    0.015,2,    0.008,2, -999.000,9,-999.0000,9,  -999.00,9,   -999.0,9,   -999.0,9,  -999.00,9,-999.0000,-999.000,  4.7392,-999.000
      325023_1,  P14N,    83,  1,     20,     20,2,19930728,2150, 21.0015, 178.9972, 2804,    905.2,   4.5066,  34.4478,2,  34.4735,4,   -999.0,9,     50.6,2,   104.29,2,    41.31,2,     0.00,2,     2.88,2,    0.002,2,    0.000,2, -999.000,9,-999.0000,9,  -999.00,9,   -999.0,9,   -999.0,9,  -999.00,9,-999.0000,-999.000,  4.4353,-999.000
      325023_1,  P14N,    83,  1,     19,     19,2,19930728,2150, 21.0015, 178.9972, 2804,   1003.4,   4.1169,  34.4750,2,  34.4741,2,   -999.0,9,     55.7,2,   112.20,2,    41.30,2,     0.00,2,     2.87,2,   -0.001,2,    0.000,2, -999.000,9,-999.0000,9,  -999.00,9,   -999.0,9,   -999.0,9,  -999.00,9,-999.0000,-999.000,  4.0401,-999.000
      325023_1,  P14N,    83,  1,     18,     18,2,19930728,2150, 21.0015, 178.9972, 2804,   1103.9,   3.7133,  34.5071,2,  34.5068,2,   -999.0,9,     61.9,2,   119.92,2,    41.24,2,     0.00,2,     2.87,2, -999.000,5, -999.000,5, -999.000,9,-999.0000,9,  -999.00,9,   -999.0,9,   -999.0,9,  -999.00,9,-999.0000,-999.000,  3.6313,-999.000
      325023_1,  P14N,    83,  1,     17,     17,2,19930728,2150, 21.0015, 178.9972, 2804,   1210.7,   3.3829,  34.5316,2,  34.5311,2,   -999.0,9,     67.3,2,   126.57,2,    41.28,2,     0.00,2,     2.85,2,   -0.002,2,   -0.001,2, -999.000,9,-999.0000,9,  -999.00,9,   -999.0,9,   -999.0,9,  -999.00,9,-999.0000,-999.000,  3.2950,-999.000
      325023_1,  P14N,    83,  1,     16,     16,2,19930728,2150, 21.0015, 178.9972, 2804,   1314.1,   3.1161,  34.5491,2,  34.5492,2,   -999.0,9,     72.6,2,   131.92,2,    41.07,2,     0.00,2,     2.84,2, -999.000,5, -999.000,5, -999.000,9,-999.0000,9,  -999.00,9,   -999.0,9,   -999.0,9,  -999.00,9,-999.0000,-999.000,  3.0223,-999.000
      325023_1,  P14N,    83,  1,     15,     15,2,19930728,2150, 21.0015, 178.9972, 2804,   1412.0,   2.8975,  34.5625,2,  34.5633,2,   -999.0,9,     76.5,2,   136.62,2,    40.91,2,     0.00,2,     2.84,2, -999.000,5, -999.000,5, -999.000,9,-999.0000,9,  -999.00,9,   -999.0,9,   -999.0,9,  -999.00,9,-999.0000,-999.000,  2.7981,-999.000
      325023_1,  P14N,    83,  1,     14,     14,2,19930728,2150, 21.0015, 178.9972, 2804,   1506.2,   2.7075,  34.5711,2,  34.5709,2,   -999.0,9,     78.9,2,   141.11,2,    40.90,2,     0.00,2,     2.82,2,   -0.002,2,   -0.003,2, -999.000,9,-999.0000,9,  -999.00,9,   -999.0,9,   -999.0,9,  -999.00,9,-999.0000,-999.000,  2.6026,-999.000
      325023_1,  P14N,    83,  1,     13,     13,2,19930728,2150, 21.0015, 178.9972, 2804,   1599.8,   2.5911,  34.5790,2,  34.5791,2,   -999.0,9,     82.2,2,   143.38,2,    40.84,2,     0.00,2,     2.81,2, -999.000,5, -999.000,5, -999.000,9,-999.0000,9,  -999.00,9,   -999.0,9,   -999.0,9,  -999.00,9,-999.0000,-999.000,  2.4799,-999.000
      325023_1,  P14N,    83,  1,     12,     12,2,19930728,2150, 21.0015, 178.9972, 2804,   1700.2,   2.4241,  34.5907,2,  34.5917,2,   -999.0,9,     86.3,2,   146.78,2,    40.58,2,     0.00,2,     2.78,2,   -0.003,2,   -0.003,2, -999.000,9,-999.0000,9,  -999.00,9,   -999.0,9,   -999.0,9,  -999.00,9,-999.0000,-999.000,  2.3067,-999.000
      325023_1,  P14N,    83,  1,     11,     11,3,19930728,2150, 21.0015, 178.9972, 2804,   1805.0,   2.2711,  34.6015,2,  34.6189,2,   -999.0,9,     89.3,2,   109.09,4,    31.88,4,     0.00,4,     2.19,4, -999.000,5, -999.000,5, -999.000,9,-999.0000,9,  -999.00,9,   -999.0,9,   -999.0,9,  -999.00,9,-999.0000,-999.000,  2.1471,-999.000
      325023_1,  P14N,    83,  1,     10,     10,2,19930728,2150, 21.0015, 178.9972, 2804,   1909.2,   2.1120,  34.6141,2,  34.6152,2,   -999.0,9,     96.3,2,   152.47,2,    40.11,2,     0.00,2,     2.74,2, -999.000,5, -999.000,5, -999.000,9,-999.0000,9,  -999.00,9,   -999.0,9,   -999.0,9,  -999.00,9,-999.0000,-999.000,  1.9816,-999.000
      325023_1,  P14N,    83,  1,      9,      9,3,19930728,2150, 21.0015, 178.9972, 2804,   2012.3,   2.0059,  34.6236,2,  34.6469,2,   -999.0,9,    101.4,2,   136.34,4,    36.14,4,     0.00,4,     2.45,4, -999.000,5, -999.000,5, -999.000,9,-999.0000,9,  -999.00,9,   -999.0,9,   -999.0,9,  -999.00,9,-999.0000,-999.000,  1.8684,-999.000
      325023_1,  P14N,    83,  1,      8,      8,2,19930728,2150, 21.0015, 178.9972, 2804,   2115.7,   1.9157,  34.6305,2,  34.6310,2,   -999.0,9,    105.2,2,   155.47,2,    39.58,2,     0.00,2,     2.69,2,    0.003,2,    0.002,2, -999.000,9,-999.0000,9,  -999.00,9,   -999.0,9,   -999.0,9,  -999.00,9,-999.0000,-999.000,  1.7708,-999.000
      325023_1,  P14N,    83,  1,      7,      7,2,19930728,2150, 21.0015, 178.9972, 2804,   2219.7,   1.8395,  34.6376,2,  34.6375,2,   -999.0,9,    110.0,2,   156.64,2,    39.22,2,     0.00,2,     2.67,2, -999.000,5, -999.000,5, -999.000,9,-999.0000,9,  -999.00,9,   -999.0,9,   -999.0,9,  -999.00,9,-999.0000,-999.000,  1.6870,-999.000
      325023_1,  P14N,    83,  1,      6,      6,2,19930728,2150, 21.0015, 178.9972, 2804,   2324.1,   1.7478,  34.6460,2,  34.6465,2,   -999.0,9,    116.0,2,   156.90,2,    38.86,2,     0.00,2,     2.65,2, -999.000,5, -999.000,5, -999.000,9,-999.0000,9,  -999.00,9,   -999.0,9,   -999.0,9,  -999.00,9,-999.0000,-999.000,  1.5878,-999.000
      325023_1,  P14N,    83,  1,      5,      5,2,19930728,2150, 21.0015, 178.9972, 2804,   2427.9,   1.7061,  34.6499,2,  34.6506,2,   -999.0,9,    119.0,2,   156.70,2,    38.75,2,     0.00,2,     2.63,2,   -0.003,2,   -0.002,2, -999.000,9,-999.0000,9,  -999.00,9,   -999.0,9,   -999.0,9,  -999.00,9,-999.0000,-999.000,  1.5377,-999.000
      325023_1,  P14N,    83,  1,      4,      4,2,19930728,2150, 21.0015, 178.9972, 2804,   2531.6,   1.6713,  34.6536,2,  34.6537,2,   -999.0,9,    122.0,2,   156.28,2,    38.38,2,     0.00,2,     2.61,2, -999.000,5, -999.000,5, -999.000,9,-999.0000,9,  -999.00,9,   -999.0,9,   -999.0,9,  -999.00,9,-999.0000,-999.000,  1.4943,-999.000
      325023_1,  P14N,    83,  1,      3,      3,2,19930728,2150, 21.0015, 178.9972, 2804,   2637.2,   1.6333,  34.6575,2,  34.6582,2,   -999.0,9,    125.3,2,   155.86,2,    38.37,2,     0.00,2,     2.60,2, -999.000,5, -999.000,5, -999.000,9,-999.0000,9,  -999.00,9,   -999.0,9,   -999.0,9,  -999.00,9,-999.0000,-999.000,  1.4475,-999.000
      325023_1,  P14N,    83,  1,      2,      2,2,19930728,2150, 21.0015, 178.9972, 2804,   2847.3,   1.5857,  34.6633,2,  34.6649,2,   -999.0,9,    130.5,2,   155.21,2,    37.91,2,     0.00,2,     2.58,2, -999.000,5, -999.000,5, -999.000,9,-999.0000,9,  -999.00,9,   -999.0,9,   -999.0,9,  -999.00,9,-999.0000,-999.000,  1.3815,-999.000
      325023_1,  P14N,    83,  1,      1,      1,2,19930728,2150, 21.0015, 178.9972, 2804,   2848.2,   1.5860,  34.6634,2,  34.6637,2,   -999.0,9,    130.2,2,   155.02,2,    37.90,2,     0.00,2,     2.59,2,   -0.002,2,    0.000,2, -999.000,9,-999.0000,9,  -999.00,9,   -999.0,9,   -999.0,9,  -999.00,9,-999.0000,-999.000,  1.3818,-999.000