BOTTLE,20131125MIRCJHATS
EXPOCODE,SECT_ID,STNNBR,CASTNO,SAMPNO,BTLNBR,BTLNBR_FLAG_W,DATE,TIME,LATITUDE,LONGITUDE,DEPTH,CTDPRS,CTDTMP,CTDSAL,CTDSAL_FLAG_W,SALNTY,SALNTY_FLAG_W,CTDOXY,CTDOXY_FLAG_W,OXYGEN,OXYGEN_FLAG_W,SILCAT,SILCAT_FLAG_W,NITRAT,NITRAT_FLAG_W,NITRIT,NITRIT_FLAG_W,PHSPHT,PHSPHT_FLAG_W,CFC-11,CFC-11_FLAG_W,CFC-12,CFC-12_FLAG_W,TRITUM,TRITUM_FLAG_W,HELIUM,HELIUM_FLAG_W,DELHE3,DELHE3_FLAG_W,TCARBN,TCARBN_FLAG_W,ALKALI,ALKALI_FLAG_W,PH,PH_FLAG_W,HELIER,DELHER,THETA,TRITER
,,,,,,,,,,,,DBAR,ITS-90,PSS-78,,PSS-78,,UMOL/KG,,UMOL/KG,,UMOL/KG,,UMOL/KG,,UMOL/KG,,UMOL/KG,,PMOL/KG,,PMOL/KG,,TU,,NMOL/KG,,PERCNT,,UMOL/KG,,UMOL/KG,,25_DEG,,NMOL/KG,PERCNT,DEG C,TU
      325023_1,  P14N,    86,  1,     36,     36,2,19930729,1350, 19.5075, 179.0027, 4771,      2.5,  27.6161,  35.0193,2,  35.0226,2,   -999.0,9,    201.2,2,     3.23,2,     0.07,2,     0.00,2,     0.06,2, -999.000,5, -999.000,5, -999.000,9,-999.0000,9,  -999.00,9,   -999.0,9,   -999.0,9,  -999.00,9,-999.0000,-999.000, 27.6156,-999.000
      325023_1,  P14N,    86,  1,     35,     35,2,19930729,1350, 19.5075, 179.0027, 4771,     38.8,  27.3506,  35.0715,2,  35.0762,2,   -999.0,9,    205.8,2,     2.73,2,     0.06,2,     0.00,2,     0.05,2, -999.000,5, -999.000,5, -999.000,9,-999.0000,9,  -999.00,9,   -999.0,9,   -999.0,9,  -999.00,9,-999.0000,-999.000, 27.3417,-999.000
      325023_1,  P14N,    86,  1,     34,     34,2,19930729,1350, 19.5075, 179.0027, 4771,     68.6,  25.2527,  35.2141,2,  35.2168,2,   -999.0,9,    219.4,2,     2.67,2,     0.06,2,     0.00,2,     0.04,2, -999.000,5, -999.000,5, -999.000,9,-999.0000,9,  -999.00,9,   -999.0,9,   -999.0,9,  -999.00,9,-999.0000,-999.000, 25.2377,-999.000
      325023_1,  P14N,    86,  1,     33,     33,2,19930729,1350, 19.5075, 179.0027, 4771,     98.8,  23.8163,  35.2961,2,  35.2988,2,   -999.0,9,    220.3,2,     2.61,2,     0.06,2,     0.00,2,     0.03,2, -999.000,5, -999.000,5, -999.000,9,-999.0000,9,  -999.00,9,   -999.0,9,   -999.0,9,  -999.00,9,-999.0000,-999.000, 23.7956,-999.000
      325023_1,  P14N,    86,  1,     32,     32,2,19930729,1350, 19.5075, 179.0027, 4771,    128.0,  22.4876,  35.3190,2,  35.3193,2,   -999.0,9,    214.6,2,     2.56,2,     0.06,2,     0.00,2,     0.03,2, -999.000,5, -999.000,5, -999.000,9,-999.0000,9,  -999.00,9,   -999.0,9,   -999.0,9,  -999.00,9,-999.0000,-999.000, 22.4618,-999.000
      325023_1,  P14N,    86,  1,     31,     31,2,19930729,1350, 19.5075, 179.0027, 4771,    158.6,  21.1342,  35.2528,2,  35.2567,2,   -999.0,9,    206.1,2,     2.71,2,     0.04,2,     0.15,2,     0.08,2, -999.000,5, -999.000,5, -999.000,9,-999.0000,9,  -999.00,9,   -999.0,9,   -999.0,9,  -999.00,9,-999.0000,-999.000, 21.1036,-999.000
      325023_1,  P14N,    86,  1,     30,     30,2,19930729,1350, 19.5075, 179.0027, 4771,    209.4,  18.6616,  34.9642,2,  34.9605,2,   -999.0,9,    209.5,2,     3.74,2,     1.62,2,     0.02,2,     0.19,2, -999.000,5, -999.000,5, -999.000,9,-999.0000,9,  -999.00,9,   -999.0,9,   -999.0,9,  -999.00,9,-999.0000,-999.000, 18.6247,-999.000
      325023_1,  P14N,    86,  1,     29,     29,2,19930729,1350, 19.5075, 179.0027, 4771,    259.0,  16.2934,  34.7424,2,  34.7297,2,   -999.0,9,    206.8,2,     6.05,2,     5.34,2,     0.01,2,     0.42,2,    2.532,2,    1.291,2, -999.000,9,-999.0000,9,  -999.00,9,   -999.0,9,   -999.0,9,  -999.00,9,-999.0000,-999.000, 16.2519,-999.000
      325023_1,  P14N,    86,  1,     28,     28,2,19930729,1350, 19.5075, 179.0027, 4771,    309.7,  14.0736,  34.5121,2,  34.5120,2,   -999.0,9,    197.1,2,     9.88,2,     9.15,2,     0.00,2,     0.68,2,    2.404,2,    1.195,2, -999.000,9,-999.0000,9,  -999.00,9,   -999.0,9,   -999.0,9,  -999.00,9,-999.0000,-999.000, 14.0287,-999.000
      325023_1,  P14N,    86,  1,     27,     27,2,19930729,1350, 19.5075, 179.0027, 4771,    409.9,  10.4824,  34.2308,2,  34.2265,2,   -999.0,9,    167.5,2,    23.64,2,    18.35,2,     0.00,2,     1.34,2,    1.809,2,    0.859,2, -999.000,9,-999.0000,9,  -999.00,9,   -999.0,9,   -999.0,9,  -999.00,9,-999.0000,-999.000, 10.4333,-999.000
      325023_1,  P14N,    86,  1,     26,     26,2,19930729,1350, 19.5075, 179.0027, 4771,    510.8,   7.9418,  34.1737,2,  34.1731,2,   -999.0,9,    106.7,2,    46.24,2,    28.46,2,     0.00,2,     2.07,2,    0.768,2,    0.360,2, -999.000,9,-999.0000,9,  -999.00,9,   -999.0,9,   -999.0,9,  -999.00,9,-999.0000,-999.000,  7.8899,-999.000
      325023_1,  P14N,    86,  1,     25,     25,2,19930729,1350, 19.5075, 179.0027, 4771,    611.0,   6.5965,  34.2190,2,  34.2202,2,   -999.0,9,     63.0,2,    65.62,2,    35.15,2,     0.00,2,     2.53,2, -999.000,5, -999.000,5, -999.000,9,-999.0000,9,  -999.00,9,   -999.0,9,   -999.0,9,  -999.00,9,-999.0000,-999.000,  6.5401,-999.000
      325023_1,  P14N,    86,  1,     24,     24,2,19930729,1350, 19.5075, 179.0027, 4771,    712.1,   5.6818,  34.3517,2,  34.3497,2,   -999.0,9,     44.8,2,    81.34,2,    38.86,2,     0.00,2,     2.76,2,    0.032,2,    0.016,2, -999.000,9,-999.0000,9,  -999.00,9,   -999.0,9,   -999.0,9,  -999.00,9,-999.0000,-999.000,  5.6204,-999.000
      325023_1,  P14N,    86,  1,     23,     23,2,19930729,1350, 19.5075, 179.0027, 4771,    811.2,   5.1203,  34.4309,2,  34.4312,2,   -999.0,9,     53.6,2,    90.79,2,    39.33,2,     0.00,2,     2.77,2, -999.000,5, -999.000,5, -999.000,9,-999.0000,9,  -999.00,9,   -999.0,9,   -999.0,9,  -999.00,9,-999.0000,-999.000,  5.0532,-999.000
      325023_1,  P14N,    86,  1,     22,     22,2,19930729,1350, 19.5075, 179.0027, 4771,    911.1,   4.6418,  34.4727,2,  34.4720,2,   -999.0,9,     60.4,2,    99.61,2,    39.51,2,     0.00,2,     2.77,2, -999.000,5, -999.000,5, -999.000,9,-999.0000,9,  -999.00,9,   -999.0,9,   -999.0,9,  -999.00,9,-999.0000,-999.000,  4.5690,-999.000
      325023_1,  P14N,    86,  1,     21,     21,2,19930729,1350, 19.5075, 179.0027, 4771,   1012.4,   4.2116,  34.4951,2,  34.4953,2,   -999.0,9,     59.0,2,   108.24,2,    40.27,2,     0.00,2,     2.82,2, -999.000,5, -999.000,5, -999.000,9,-999.0000,9,  -999.00,9,   -999.0,9,   -999.0,9,  -999.00,9,-999.0000,-999.000,  4.1333,-999.000
      325023_1,  P14N,    86,  1,     20,     20,2,19930729,1350, 19.5075, 179.0027, 4771,   1212.3,   3.5466,  34.5397,2,  34.5386,2,   -999.0,9,     69.7,2,   121.29,2,    40.12,2,     0.00,2,     2.80,2, -999.000,5, -999.000,5, -999.000,9,-999.0000,9,  -999.00,9,   -999.0,9,   -999.0,9,  -999.00,9,-999.0000,-999.000,  3.4571,-999.000
      325023_1,  P14N,    86,  1,     19,     19,2,19930729,1350, 19.5075, 179.0027, 4771,   1410.8,   3.0659,  34.5634,2,  34.5635,2,   -999.0,9,     76.5,2,   131.33,2,    40.01,2,     0.00,2,     2.79,2, -999.000,5, -999.000,5, -999.000,9,-999.0000,9,  -999.00,9,   -999.0,9,   -999.0,9,  -999.00,9,-999.0000,-999.000,  2.9647,-999.000
      325023_1,  P14N,    86,  1,     18,     18,2,19930729,1350, 19.5075, 179.0027, 4771,   1611.2,   2.6319,  34.5838,2,  34.5831,2,   -999.0,9,     83.2,2,   140.97,2,    39.82,2,     0.00,2,     2.76,2, -999.000,5, -999.000,5, -999.000,9,-999.0000,9,  -999.00,9,   -999.0,9,   -999.0,9,  -999.00,9,-999.0000,-999.000,  2.5192,-999.000
      325023_1,  P14N,    86,  1,     17,     17,2,19930729,1350, 19.5075, 179.0027, 4771,   1810.6,   2.3521,  34.6022,2,  34.6016,2,   -999.0,9,     91.3,2,   146.42,2,    39.43,2,     0.00,2,     2.73,2, -999.000,5, -999.000,5, -999.000,9,-999.0000,9,  -999.00,9,   -999.0,9,   -999.0,9,  -999.00,9,-999.0000,-999.000,  2.2265,-999.000
      325023_1,  P14N,    86,  1,     16,     16,2,19930729,1350, 19.5075, 179.0027, 4771,   2010.1,   2.1110,  34.6182,2,  34.6021,4,   -999.0,9,     99.6,2,   150.99,2,    38.99,2,     0.00,2,     2.68,2, -999.000,5, -999.000,5, -999.000,9,-999.0000,9,  -999.00,9,   -999.0,9,   -999.0,9,  -999.00,9,-999.0000,-999.000,  1.9721,-999.000
      325023_1,  P14N,    86,  1,     15,     15,2,19930729,1350, 19.5075, 179.0027, 4771,   2209.1,   1.8939,  34.6339,2,  34.6345,2,   -999.0,9,    108.6,2,   154.89,2,    38.46,2,     0.00,2,     2.64,2, -999.000,5, -999.000,5, -999.000,9,-999.0000,9,  -999.00,9,   -999.0,9,   -999.0,9,  -999.00,9,-999.0000,-999.000,  1.7414,-999.000
      325023_1,  P14N,    86,  1,     14,     14,2,19930729,1350, 19.5075, 179.0027, 4771,   2412.0,   1.7827,  34.6430,2,  34.6437,2,   -999.0,9,    114.6,2,   156.78,2,    37.98,2,     0.00,2,     2.60,2, -999.000,5, -999.000,5, -999.000,9,-999.0000,9,  -999.00,9,   -999.0,9,   -999.0,9,  -999.00,9,-999.0000,-999.000,  1.6143,-999.000
      325023_1,  P14N,    86,  1,     13,     13,2,19930729,1350, 19.5075, 179.0027, 4771,   2617.5,   1.6781,  34.6524,2,  34.6529,2,   -999.0,9,    121.9,2,   156.86,2,    37.69,2,     0.00,2,     2.57,2, -999.000,5, -999.000,5, -999.000,9,-999.0000,9,  -999.00,9,   -999.0,9,   -999.0,9,  -999.00,9,-999.0000,-999.000,  1.4932,-999.000
      325023_1,  P14N,    86,  1,     12,     12,2,19930729,1350, 19.5075, 179.0027, 4771,   2818.1,   1.6122,  34.6593,2,  34.6561,2,   -999.0,9,    128.1,2,   156.49,2,    37.26,2,     0.00,2,     2.53,2, -999.000,5, -999.000,5, -999.000,9,-999.0000,9,  -999.00,9,   -999.0,9,   -999.0,9,  -999.00,9,-999.0000,-999.000,  1.4102,-999.000
      325023_1,  P14N,    86,  1,     11,     11,2,19930729,1350, 19.5075, 179.0027, 4771,   3022.1,   1.5643,  34.6649,2,  34.6651,2,   -999.0,9,    133.8,2,   155.67,2,    37.02,2,     0.00,2,     2.52,2, -999.000,5, -999.000,5, -999.000,9,-999.0000,9,  -999.00,9,   -999.0,9,   -999.0,9,  -999.00,9,-999.0000,-999.000,  1.3441,-999.000
      325023_1,  P14N,    86,  1,     10,     10,2,19930729,1350, 19.5075, 179.0027, 4771,   3226.9,   1.5268,  34.6697,2,  34.6700,2,   -999.0,9,    138.7,2,   154.41,2,    36.59,2,     0.00,2,     2.49,2, -999.000,5, -999.000,5, -999.000,9,-999.0000,9,  -999.00,9,   -999.0,9,   -999.0,9,  -999.00,9,-999.0000,-999.000,  1.2874,-999.000
      325023_1,  P14N,    86,  1,      9,      9,2,19930729,1350, 19.5075, 179.0027, 4771,   3433.0,   1.5075,  34.6735,2,  34.6731,2,   -999.0,9,    143.0,2,   153.14,2,    36.30,2,     0.00,2,     2.46,2, -999.000,5, -999.000,5, -999.000,9,-999.0000,9,  -999.00,9,   -999.0,9,   -999.0,9,  -999.00,9,-999.0000,-999.000,  1.2480,-999.000
      325023_1,  P14N,    86,  1,      8,      8,2,19930729,1350, 19.5075, 179.0027, 4771,   3640.2,   1.4861,  34.6772,2,  34.6768,2,   -999.0,9,    147.4,2,   151.21,2,    35.87,2,     0.00,2,     2.44,2, -999.000,5, -999.000,5, -999.000,9,-999.0000,9,  -999.00,9,   -999.0,9,   -999.0,9,  -999.00,9,-999.0000,-999.000,  1.2059,-999.000
      325023_1,  P14N,    86,  1,      7,      7,2,19930729,1350, 19.5075, 179.0027, 4771,   3845.6,   1.4798,  34.6793,2,  34.6798,2,   -999.0,9,    150.4,2,   149.95,2,    35.73,2,     0.00,2,     2.39,2, -999.000,5, -999.000,5, -999.000,9,-999.0000,9,  -999.00,9,   -999.0,9,   -999.0,9,  -999.00,9,-999.0000,-999.000,  1.1781,-999.000
      325023_1,  P14N,    86,  1,      6,      6,2,19930729,1350, 19.5075, 179.0027, 4771,   4052.9,   1.4732,  34.6818,2,  34.6825,2,   -999.0,9,    153.5,2,   148.70,2,    35.49,2,     0.00,2,     2.40,2, -999.000,5, -999.000,5, -999.000,9,-999.0000,9,  -999.00,9,   -999.0,9,   -999.0,9,  -999.00,9,-999.0000,-999.000,  1.1493,-999.000
      325023_1,  P14N,    86,  1,      5,      5,2,19930729,1350, 19.5075, 179.0027, 4771,   4259.6,   1.4778,  34.6834,2,  34.6837,2,   -999.0,9,    156.1,2,   147.45,2,    35.25,2,     0.00,2,     2.39,2, -999.000,5, -999.000,5, -999.000,9,-999.0000,9,  -999.00,9,   -999.0,9,   -999.0,9,  -999.00,9,-999.0000,-999.000,  1.1309,-999.000
      325023_1,  P14N,    86,  1,      4,      4,2,19930729,1350, 19.5075, 179.0027, 4771,   4464.3,   1.4893,  34.6845,2,  34.6851,2,   -999.0,9,    157.7,2,   146.86,2,    35.24,2,     0.00,2,     2.39,2, -999.000,5, -999.000,5, -999.000,9,-999.0000,9,  -999.00,9,   -999.0,9,   -999.0,9,  -999.00,9,-999.0000,-999.000,  1.1188,-999.000
      325023_1,  P14N,    86,  1,      3,      3,2,19930729,1350, 19.5075, 179.0027, 4771,   4669.9,   1.5054,  34.6850,2,  34.6856,2,   -999.0,9,    159.0,2,   146.28,2,    35.14,2,     0.00,2,     2.39,2, -999.000,5, -999.000,5, -999.000,9,-999.0000,9,  -999.00,9,   -999.0,9,   -999.0,9,  -999.00,9,-999.0000,-999.000,  1.1105,-999.000
      325023_1,  P14N,    86,  1,      2,      2,2,19930729,1350, 19.5075, 179.0027, 4771,   4841.0,   1.5178,  34.6862,2,  34.6866,2,   -999.0,9,    159.9,2,   145.92,2,    35.14,2,     0.00,2,     2.38,2, -999.000,5, -999.000,5, -999.000,9,-999.0000,9,  -999.00,9,   -999.0,9,   -999.0,9,  -999.00,9,-999.0000,-999.000,  1.1022,-999.000
      325023_1,  P14N,    86,  1,      1,      1,2,19930729,1350, 19.5075, 179.0027, 4771,   4841.2,   1.5178,  34.6864,2,  34.6862,2,   -999.0,9,    159.8,2,   146.23,2,    35.13,2,     0.00,2,     2.38,2, -999.000,5, -999.000,5, -999.000,9,-999.0000,9,  -999.00,9,   -999.0,9,   -999.0,9,  -999.00,9,-999.0000,-999.000,  1.1021,-999.000