BOTTLE,20131125MIRCJHATS
EXPOCODE,SECT_ID,STNNBR,CASTNO,SAMPNO,BTLNBR,BTLNBR_FLAG_W,DATE,TIME,LATITUDE,LONGITUDE,DEPTH,CTDPRS,CTDTMP,CTDSAL,CTDSAL_FLAG_W,SALNTY,SALNTY_FLAG_W,CTDOXY,CTDOXY_FLAG_W,OXYGEN,OXYGEN_FLAG_W,SILCAT,SILCAT_FLAG_W,NITRAT,NITRAT_FLAG_W,NITRIT,NITRIT_FLAG_W,PHSPHT,PHSPHT_FLAG_W,CFC-11,CFC-11_FLAG_W,CFC-12,CFC-12_FLAG_W,TRITUM,TRITUM_FLAG_W,HELIUM,HELIUM_FLAG_W,DELHE3,DELHE3_FLAG_W,TCARBN,TCARBN_FLAG_W,ALKALI,ALKALI_FLAG_W,PH,PH_FLAG_W,HELIER,DELHER,THETA,TRITER
,,,,,,,,,,,,DBAR,ITS-90,PSS-78,,PSS-78,,UMOL/KG,,UMOL/KG,,UMOL/KG,,UMOL/KG,,UMOL/KG,,UMOL/KG,,PMOL/KG,,PMOL/KG,,TU,,NMOL/KG,,PERCNT,,UMOL/KG,,UMOL/KG,,25_DEG,,NMOL/KG,PERCNT,DEG C,TU
      325023_1,  P14N,    82,  2,     36,     36,2,19930728,1652, 21.5065, 178.9938, 2675,      2.6,  27.6096,  35.2266,2,-999.0000,9,   -999.0,9,    203.0,2,  -999.00,9,  -999.00,9,  -999.00,9,  -999.00,9, -999.000,5, -999.000,5,    1.849,2,-999.0000,9,  -999.00,9,   2368.5,4,   2317.7,2,    10.30,4,-999.0000,-999.000, 27.6090,   0.018
      325023_1,  P14N,    82,  2,     35,     35,2,19930728,1652, 21.5065, 178.9938, 2675,     36.3,  27.5692,  35.2887,2,  35.2896,2,   -999.0,9,    203.2,2,     4.59,2,     0.03,4,     0.00,2,     0.04,2, -999.000,5, -999.000,5,    1.880,2,-999.0000,9,  -999.00,9,   1968.1,2,   2313.1,2,     8.12,2,-999.0000,-999.000, 27.5608,   0.019
      325023_1,  P14N,    82,  2,     34,     34,2,19930728,1652, 21.5065, 178.9938, 2675,     65.7,  24.6946,  35.1942,2,  35.2081,2,   -999.0,9,    221.2,2,     4.31,2,     0.03,4,     0.00,2,     0.04,2, -999.000,5, -999.000,5,    1.718,2,-999.0000,9,  -999.00,9,   1968.9,2,   2320.1,2,  -999.00,9,-999.0000,-999.000, 24.6804,   0.017
      325023_1,  P14N,    82,  2,     33,     33,2,19930728,1652, 21.5065, 178.9938, 2675,     95.5,  23.0885,  35.2373,2,  35.2338,2,   -999.0,9,    209.9,2,     4.26,2,     0.03,4,     0.00,2,     0.06,2, -999.000,5, -999.000,5,    1.909,2,-999.0000,9,  -999.00,9,   1989.3,2,   2315.5,2,     8.08,2,-999.0000,-999.000, 23.0689,   0.019
      325023_1,  P14N,    82,  2,     32,     32,2,19930728,1652, 21.5065, 178.9938, 2675,    125.2,  20.6889,  35.0854,2,  35.0764,2,   -999.0,9,    187.0,2,     4.86,2,     0.36,4,     0.04,2,     0.26,2, -999.000,5, -999.000,5,    1.717,2,-999.0000,9,  -999.00,9,   2032.3,2,   2307.3,2,  -999.00,9,-999.0000,-999.000, 20.6652,   0.017
      325023_1,  P14N,    82,  2,     31,     31,2,19930728,1652, 21.5065, 178.9938, 2675,    156.5,  19.0018,  34.9787,2,  34.9765,2,   -999.0,9,    185.0,2,     5.89,2,     1.43,4,     0.02,2,     0.36,2, -999.000,5, -999.000,5,    1.532,2,-999.0000,9,  -999.00,9,   2040.9,2,   2299.9,2,     7.96,2,-999.0000,-999.000, 18.9739,   0.015
      325023_1,  P14N,    82,  2,     30,     30,2,19930728,1652, 21.5065, 178.9938, 2675,    207.9,  17.2573,  34.8480,2,  34.8520,2,   -999.0,9,    199.6,2,     6.49,2,     2.02,4,     0.01,2,     0.35,2, -999.000,5, -999.000,5,    1.543,2,-999.0000,9,  -999.00,9,   2040.0,2,   2288.0,2,  -999.00,9,-999.0000,-999.000, 17.2227,   0.015
      325023_1,  P14N,    82,  2,     29,     29,2,19930728,1652, 21.5065, 178.9938, 2675,    256.8,  14.9360,  34.6011,2,  34.5964,2,   -999.0,9,    202.3,2,     9.48,2,     5.18,4,     0.00,2,     0.55,2, -999.000,5, -999.000,5,    1.384,2,-999.0000,9,  -999.00,9,   2049.0,2,   2281.4,2,     7.91,2,-999.0000,-999.000, 14.8973,   0.014
      325023_1,  P14N,    82,  2,     28,     28,2,19930728,1652, 21.5065, 178.9938, 2675,    307.2,  13.4203,  34.4565,2,  34.4550,2,   -999.0,9,    202.9,2,    12.26,2,     7.70,4,     0.01,2,     0.71,2, -999.000,5, -999.000,5,    1.449,2,-999.0000,9,  -999.00,9,   2063.0,2,   2270.9,2,  -999.00,9,-999.0000,-999.000, 13.3772,   0.014
      325023_1,  P14N,    82,  2,     27,     27,2,19930728,1652, 21.5065, 178.9938, 2675,    358.6,  11.8684,  34.3284,2,  34.3293,2,   -999.0,9,    200.1,2,    16.56,2,    11.11,4,     0.00,2,     0.92,2, -999.000,5, -999.000,5,    1.512,2,-999.0000,9,  -999.00,9,   2083.8,2,   2275.9,2,     7.83,2,-999.0000,-999.000, 11.8219,   0.015
      325023_1,  P14N,    82,  2,     26,     26,2,19930728,1652, 21.5065, 178.9938, 2675,    408.7,  10.6158,  34.2290,2,  34.2290,2,   -999.0,9,    186.8,2,    21.94,2,    15.10,4,     0.00,2,     1.17,2,    2.142,2,    1.027,2,    1.362,2,-999.0000,9,  -999.00,9,   2107.6,2,   2267.1,2,  -999.00,9,-999.0000,-999.000, 10.5664,   0.014
      325023_1,  P14N,    82,  2,     25,     25,2,19930728,1652, 21.5065, 178.9938, 2675,    457.8,   9.4871,  34.1642,2,  34.1627,2,   -999.0,9,    177.8,2,    28.63,2,    18.76,4,     0.00,2,     1.39,2, -999.000,5, -999.000,5, -999.000,9,-999.0000,9,  -999.00,9,   2131.7,2,   2271.2,2,     7.72,2,-999.0000,-999.000,  9.4355,-999.000
      325023_1,  P14N,    82,  2,     24,     24,2,19930728,1652, 21.5065, 178.9938, 2675,    507.9,   8.1738,  34.1069,2,  34.1063,2,   -999.0,9,    155.1,2,    39.89,2,    24.06,4,     0.00,2,     1.71,2,    1.415,2,    0.655,2,    1.122,2,-999.0000,9,  -999.00,9,   2167.4,2,   2275.3,2,     7.65,2,-999.0000,-999.000,  8.1214,   0.011
      325023_1,  P14N,    82,  2,     23,     23,2,19930728,1652, 21.5065, 178.9938, 2675,    607.2,   6.2954,  34.1334,2,  34.1321,2,   -999.0,9,     83.7,2,    67.07,2,    35.34,4,     0.00,2,     2.41,2,    0.412,2,    0.194,2,    0.838,2,-999.0000,9,  -999.00,9,   2249.3,2,   2300.8,2,     7.46,2,-999.0000,-999.000,  6.2409,   0.008
      325023_1,  P14N,    82,  2,     22,     22,2,19930728,1652, 21.5065, 178.9938, 2675,    707.3,   5.4239,  34.2395,2,  34.2385,2,   -999.0,9,     50.4,2,    85.13,2,    40.70,4,     0.00,2,     2.75,2,    0.099,2,    0.048,2,    0.486,2,-999.0000,9,  -999.00,9,   2298.9,2,   2322.2,2,     7.39,2,-999.0000,-999.000,  5.3645,   0.008
      325023_1,  P14N,    82,  2,     21,     21,2,19930728,1652, 21.5065, 178.9938, 2675,    806.6,   4.8234,  34.3379,2,  34.3393,2,   -999.0,9,     44.3,2,    97.55,2,    42.67,4,     0.00,2,     2.85,2, -999.000,5, -999.000,5,    0.227,2,-999.0000,9,  -999.00,9,   2319.5,2,   2343.7,2,     7.39,2,-999.0000,-999.000,  4.7586,   0.008
      325023_1,  P14N,    82,  2,     20,     20,2,19930728,1652, 21.5065, 178.9938, 2675,    906.1,   4.4953,  34.4123,2,  34.4094,2,   -999.0,9,     47.6,2,   104.27,2,    43.12,4,     0.00,2,     2.85,2,    0.008,2,    0.005,2,    0.056,2,-999.0000,9,  -999.00,9,   2327.4,2,   2354.6,2,     7.40,2,-999.0000,-999.000,  4.4240,   0.008
      325023_1,  P14N,    82,  2,     19,     19,2,19930728,1652, 21.5065, 178.9938, 2675,   1006.1,   4.1125,  34.4675,2,  34.4647,2,   -999.0,9,     55.1,2,   112.11,2,    43.14,4,     0.00,2,     2.85,2, -999.000,5, -999.000,5, -999.000,9,-999.0000,9,  -999.00,9,   2335.9,2,   2369.1,2,  -999.00,9,-999.0000,-999.000,  4.0355,-999.000
      325023_1,  P14N,    82,  2,     18,     18,2,19930728,1652, 21.5065, 178.9938, 2675,   1105.4,   3.7763,  34.5034,2,  34.5028,2,   -999.0,9,     61.1,2,   118.65,2,    43.00,4,     0.00,2,     2.84,2, -999.000,5, -999.000,5, -999.000,9,-999.0000,9,  -999.00,9,   2341.5,2,   2376.5,2,  -999.00,9,-999.0000,-999.000,  3.6937,-999.000
      325023_1,  P14N,    82,  2,     17,     17,2,19930728,1652, 21.5065, 178.9938, 2675,   1207.8,   3.5640,  34.5183,2,  34.5179,2,   -999.0,9,     64.2,2,   122.98,2,    43.02,4,     0.00,2,     2.84,2, -999.000,5, -999.000,5, -999.000,9,-999.0000,9,  -999.00,9,   2347.6,2,   2381.7,2,  -999.00,9,-999.0000,-999.000,  3.4747,-999.000
      325023_1,  P14N,    82,  2,     16,     16,2,19930728,1652, 21.5065, 178.9938, 2675,   1308.0,   3.2794,  34.5358,2,  34.5355,2,   -999.0,9,     69.0,2,   128.88,2,    42.83,4,     0.00,2,     2.82,2, -999.000,5, -999.000,5, -999.000,9,-999.0000,9,  -999.00,9,   2347.1,2,   2386.2,2,  -999.00,9,-999.0000,-999.000,  3.1846,-999.000
      325023_1,  P14N,    82,  2,     15,     15,2,19930728,1652, 21.5065, 178.9938, 2675,   1408.8,   3.0243,  34.5499,2,  34.5499,2,   -999.0,9,     73.2,2,   134.35,2,    42.69,4,     0.00,2,     2.81,2, -999.000,5, -999.000,5, -999.000,9,-999.0000,9,  -999.00,9,   2351.0,2,   2392.8,2,     7.44,2,-999.0000,-999.000,  2.9238,-999.000
      325023_1,  P14N,    82,  2,     14,     14,2,19930728,1652, 21.5065, 178.9938, 2675,   1510.6,   2.7631,  34.5662,2,  34.5661,2,   -999.0,9,     78.2,2,   139.61,2,    42.49,4,     0.00,2,     2.80,2, -999.000,5, -999.000,5, -999.000,9,-999.0000,9,  -999.00,9,   2354.1,2,   2398.9,2,  -999.00,9,-999.0000,-999.000,  2.6571,-999.000
      325023_1,  P14N,    82,  2,     13,     13,2,19930728,1652, 21.5065, 178.9938, 2675,   1611.7,   2.5586,  34.5803,2,  34.5808,2,   -999.0,9,     83.1,2,   143.31,2,    42.24,4,     0.00,2,     2.77,2, -999.000,5, -999.000,5, -999.000,9,-999.0000,9,  -999.00,9,   2355.0,2,   2403.3,2,  -999.00,9,-999.0000,-999.000,  2.4468,-999.000
      325023_1,  P14N,    82,  2,     12,     12,2,19930728,1652, 21.5065, 178.9938, 2675,   1712.6,   2.4295,  34.5898,2,  34.5896,2,   -999.0,9,     85.8,2,   146.56,2,    42.16,4,     0.00,2,     2.76,2, -999.000,5, -999.000,5, -999.000,9,-999.0000,9,  -999.00,9,   2357.2,2,   2408.1,2,  -999.00,9,-999.0000,-999.000,  2.3110,-999.000
      325023_1,  P14N,    82,  2,     11,     11,2,19930728,1652, 21.5065, 178.9938, 2675,   1812.5,   2.3085,  34.5997,2,  34.6001,2,   -999.0,9,     90.5,2,   148.70,2,    41.86,4,     0.00,2,     2.73,2, -999.000,5, -999.000,5, -999.000,9,-999.0000,9,  -999.00,9,   2356.5,2,   2409.8,2,     7.47,2,-999.0000,-999.000,  2.1833,-999.000
      325023_1,  P14N,    82,  2,     10,     10,2,19930728,1652, 21.5065, 178.9938, 2675,   1911.6,   2.1359,  34.6114,2,  34.6114,2,   -999.0,9,     95.5,2,   152.19,2,    41.56,4,     0.00,2,     2.71,2, -999.000,5, -999.000,5, -999.000,9,-999.0000,9,  -999.00,9,   2357.0,2,   2412.7,2,  -999.00,9,-999.0000,-999.000,  2.0049,-999.000
      325023_1,  P14N,    82,  2,      9,      9,2,19930728,1652, 21.5065, 178.9938, 2675,   2011.9,   1.9850,  34.6231,2,  34.6241,2,   -999.0,9,    102.0,2,   154.33,2,    41.10,4,     0.00,2,     2.68,2, -999.000,5, -999.000,5, -999.000,9,-999.0000,9,  -999.00,9,   2355.0,2,   2414.5,2,  -999.00,9,-999.0000,-999.000,  1.8479,-999.000
      325023_1,  P14N,    82,  2,      8,      8,2,19930728,1652, 21.5065, 178.9938, 2675,   2112.0,   1.9032,  34.6302,2,  34.6309,2,   -999.0,9,    106.2,2,   155.80,2,    40.86,4,     0.00,2,     2.66,2, -999.000,5, -999.000,5, -999.000,9,-999.0000,9,  -999.00,9,   2354.5,2,   2416.2,2,  -999.00,9,-999.0000,-999.000,  1.7588,-999.000
      325023_1,  P14N,    82,  2,      7,      7,2,19930728,1652, 21.5065, 178.9938, 2675,   2212.9,   1.8298,  34.6359,2,  34.6370,2,   -999.0,9,    109.4,2,   157.03,2,    40.61,4,     0.00,2,     2.65,2, -999.000,5, -999.000,5, -999.000,9,-999.0000,9,  -999.00,9,   2352.7,2,   2417.8,2,     7.50,2,-999.0000,-999.000,  1.6781,-999.000
      325023_1,  P14N,    82,  2,      6,      6,2,19930728,1652, 21.5065, 178.9938, 2675,   2312.3,   1.7884,  34.6410,2,  34.6420,2,   -999.0,9,    113.5,2,   156.46,2,    40.37,4,     0.00,2,     2.64,2, -999.000,5, -999.000,5, -999.000,9,-999.0000,9,  -999.00,9,   2351.9,2,   2418.2,2,  -999.00,9,-999.0000,-999.000,  1.6287,-999.000
      325023_1,  P14N,    82,  2,      5,      5,2,19930728,1652, 21.5065, 178.9938, 2675,   2410.8,   1.7404,  34.6459,2,  34.6467,2,   -999.0,9,    117.5,2,   156.79,2,    40.02,4,     0.00,2,     2.61,2, -999.000,5, -999.000,5, -999.000,9,-999.0000,9,  -999.00,9,   2350.0,2,   2418.7,2,  -999.00,9,-999.0000,-999.000,  1.5729,-999.000
      325023_1,  P14N,    82,  2,      4,      4,2,19930728,1652, 21.5065, 178.9938, 2675,   2509.4,   1.6962,  34.6505,2,  34.6509,2,   -999.0,9,    120.6,2,   157.34,2,    39.88,4,     0.00,2,     2.60,2, -999.000,5, -999.000,5, -999.000,9,-999.0000,9,  -999.00,9,   2348.9,2,   2418.7,2,  -999.00,9,-999.0000,-999.000,  1.5208,-999.000
      325023_1,  P14N,    82,  2,      3,      3,2,19930728,1652, 21.5065, 178.9938, 2675,   2607.7,   1.6460,  34.6549,2,  34.6554,2,   -999.0,9,    124.3,2,   157.44,2,    39.59,4,     0.00,2,     2.57,2, -999.000,5, -999.000,5, -999.000,9,-999.0000,9,  -999.00,9,   2346.4,2,   2419.0,2,     7.53,2,-999.0000,-999.000,  1.4626,-999.000
      325023_1,  P14N,    82,  2,      2,      2,2,19930728,1652, 21.5065, 178.9938, 2675,   2704.3,   1.6043,  34.6590,2,  34.6602,2,   -999.0,9,    127.9,2,   156.87,2,    39.24,4,     0.00,2,     2.56,2, -999.000,5, -999.000,5, -999.000,9,-999.0000,9,  -999.00,9,   2344.3,2,   2419.2,2,  -999.00,9,-999.0000,-999.000,  1.4130,-999.000
      325023_1,  P14N,    82,  2,      1,      1,2,19930728,1652, 21.5065, 178.9938, 2675,   2707.7,   1.6040,  34.6593,2,  34.6594,2,   -999.0,9,    127.5,2,   156.52,2,    39.32,4,     0.00,2,     2.56,2, -999.000,5, -999.000,5, -999.000,9,-999.0000,9,  -999.00,9,   2343.7,2,   2421.2,2,  -999.00,9,-999.0000,-999.000,  1.4124,-999.000