BOTTLE,20131125MIRCJHATS
EXPOCODE,SECT_ID,STNNBR,CASTNO,SAMPNO,BTLNBR,BTLNBR_FLAG_W,DATE,TIME,LATITUDE,LONGITUDE,DEPTH,CTDPRS,CTDTMP,CTDSAL,CTDSAL_FLAG_W,SALNTY,SALNTY_FLAG_W,CTDOXY,CTDOXY_FLAG_W,OXYGEN,OXYGEN_FLAG_W,SILCAT,SILCAT_FLAG_W,NITRAT,NITRAT_FLAG_W,NITRIT,NITRIT_FLAG_W,PHSPHT,PHSPHT_FLAG_W,CFC-11,CFC-11_FLAG_W,CFC-12,CFC-12_FLAG_W,TRITUM,TRITUM_FLAG_W,HELIUM,HELIUM_FLAG_W,DELHE3,DELHE3_FLAG_W,TCARBN,TCARBN_FLAG_W,ALKALI,ALKALI_FLAG_W,PH,PH_FLAG_W,HELIER,DELHER,THETA,TRITER
,,,,,,,,,,,,DBAR,ITS-90,PSS-78,,PSS-78,,UMOL/KG,,UMOL/KG,,UMOL/KG,,UMOL/KG,,UMOL/KG,,UMOL/KG,,PMOL/KG,,PMOL/KG,,TU,,NMOL/KG,,PERCNT,,UMOL/KG,,UMOL/KG,,25_DEG,,NMOL/KG,PERCNT,DEG C,TU
      325024_1,  P14N,   144,  1,     36,     36,2,19930819,0416, -0.2457, 178.9937, 5392,      1.7,  30.1267,  34.3320,2,  34.3378,2,   -999.0,9,    193.7,2,     2.50,2,     0.04,2,     0.00,2,     0.17,2, -999.000,5, -999.000,5, -999.000,9,-999.0000,9,  -999.00,9,   1897.0,2,   2260.0,2,     8.13,2,-999.0000,-999.000, 30.1263,-999.000
      325024_1,  P14N,   144,  1,     35,     35,2,19930819,0416, -0.2457, 178.9937, 5392,      1.8,  30.1294,  34.3318,2,  34.3382,2,   -999.0,9,    193.6,2,     2.22,2,     0.04,2,     0.00,2,     0.17,2, -999.000,5, -999.000,5, -999.000,9,-999.0000,9,  -999.00,9,   1897.0,2,   2260.0,2,     8.13,2,-999.0000,-999.000, 30.1289,-999.000
      325024_1,  P14N,   144,  1,     34,     34,2,19930819,0416, -0.2457, 178.9937, 5392,     36.8,  30.0874,  34.3647,2,  34.3685,2,   -999.0,9,    194.3,2,     2.14,2,     0.00,2,     0.00,2,     0.17,2, -999.000,5, -999.000,5, -999.000,9,-999.0000,9,  -999.00,9,   -999.0,9,   -999.0,9,  -999.00,9,-999.0000,-999.000, 30.0782,-999.000
      325024_1,  P14N,   144,  1,     33,     33,2,19930819,0416, -0.2457, 178.9937, 5392,     67.4,  30.0852,  34.7866,2,  34.7580,2,   -999.0,9,    195.2,2,     2.06,2,     0.00,2,     0.00,2,     0.20,2, -999.000,5, -999.000,5, -999.000,9,-999.0000,9,  -999.00,9,   1931.0,2,   2285.0,2,     8.12,2,-999.0000,-999.000, 30.0684,-999.000
      325024_1,  P14N,   144,  1,     32,     32,2,19930819,0416, -0.2457, 178.9937, 5392,     97.6,  25.8785,  35.4180,2,  35.3881,2,   -999.0,9,    147.3,2,     3.35,2,     7.36,2,     0.48,2,     0.72,2, -999.000,5, -999.000,5, -999.000,9,-999.0000,9,  -999.00,9,   -999.0,9,   -999.0,9,  -999.00,9,-999.0000,-999.000, 25.8568,-999.000
      325024_1,  P14N,   144,  1,     31,     31,2,19930819,0416, -0.2457, 178.9937, 5392,    126.4,  22.1467,  35.2939,2,  35.2980,2,   -999.0,9,    137.8,2,     4.63,2,     8.66,2,     0.04,2,     0.73,2, -999.000,5, -999.000,5, -999.000,9,-999.0000,9,  -999.00,9,   2062.0,2,   2320.0,2,     7.92,2,-999.0000,-999.000, 22.1216,-999.000
      325024_1,  P14N,   144,  1,     30,     30,2,19930819,0416, -0.2457, 178.9937, 5392,    155.0,  20.1788,  35.1555,2,  35.1809,2,   -999.0,9,    136.5,2,     7.10,2,    10.25,2,     0.02,2,     0.83,2, -999.000,5, -999.000,5, -999.000,9,-999.0000,9,  -999.00,9,   2080.0,2,   2314.0,2,     7.88,2,-999.0000,-999.000, 20.1499,-999.000
      325024_1,  P14N,   144,  1,     29,     29,2,19930819,0416, -0.2457, 178.9937, 5392,    205.7,  15.1349,  34.9897,2,  35.0006,2,   -999.0,9,    137.4,2,    15.22,2,    15.57,2,     0.01,2,     1.19,2, -999.000,5, -999.000,5, -999.000,9,-999.0000,9,  -999.00,9,   2119.0,2,   2312.0,2,     7.79,2,-999.0000,-999.000, 15.1035,-999.000
      325024_1,  P14N,   144,  1,     28,     28,2,19930819,0416, -0.2457, 178.9937, 5392,    256.7,  13.0463,  34.8789,2,  34.8888,2,   -999.0,9,    129.6,2,    18.46,2,    19.32,2,     0.00,2,     1.43,2, -999.000,5, -999.000,5, -999.000,9,-999.0000,9,  -999.00,9,   2148.0,2,   2308.0,2,     7.72,2,-999.0000,-999.000, 13.0108,-999.000
      325024_1,  P14N,   144,  1,     27,     27,2,19930819,0416, -0.2457, 178.9937, 5392,    308.4,  11.5780,  34.8185,2,  34.8179,2,   -999.0,9,     94.8,2,    23.26,2,    25.20,2,     0.00,2,     1.82,2, -999.000,5, -999.000,5, -999.000,9,-999.0000,9,  -999.00,9,   2188.0,2,   2308.0,2,     7.64,2,-999.0000,-999.000, 11.5386,-999.000
      325024_1,  P14N,   144,  1,     26,     26,2,19930819,0416, -0.2457, 178.9937, 5392,    409.8,   9.1385,  34.6673,2,  34.6654,2,   -999.0,9,     88.0,2,    32.16,2,    30.48,2,     0.00,2,     2.16,2, -999.000,5, -999.000,5, -999.000,9,-999.0000,9,  -999.00,9,   2218.0,2,   2307.0,2,     7.54,2,-999.0000,-999.000,  9.0932,-999.000
      325024_1,  P14N,   144,  1,     25,     25,2,19930819,0416, -0.2457, 178.9937, 5392,    510.2,   7.9140,  34.6032,2,  34.6012,2,   -999.0,9,    104.9,2,    36.17,2,    31.24,2,     0.00,2,     2.22,2, -999.000,5, -999.000,5, -999.000,9,-999.0000,9,  -999.00,9,   2219.0,2,   2311.0,2,     7.57,2,-999.0000,-999.000,  7.8620,-999.000
      325024_1,  P14N,   144,  1,     24,     24,2,19930819,0416, -0.2457, 178.9937, 5392,    610.4,   6.8902,  34.5687,2,  34.5686,2,   -999.0,9,     78.1,2,    49.56,2,    35.89,2,     0.00,2,     2.56,2, -999.000,5, -999.000,5, -999.000,9,-999.0000,9,  -999.00,9,   2253.0,2,   2321.0,2,     7.47,2,-999.0000,-999.000,  6.8323,-999.000
      325024_1,  P14N,   144,  1,     23,     23,2,19930819,0416, -0.2457, 178.9937, 5392,    710.7,   5.8652,  34.5514,2,  34.5506,2,   -999.0,9,     71.2,2,    63.95,2,    38.67,2,     0.00,2,     2.76,2, -999.000,5, -999.000,5, -999.000,9,-999.0000,9,  -999.00,9,   2276.0,2,   2332.0,2,     7.47,2,-999.0000,-999.000,  5.8027,-999.000
      325024_1,  P14N,   144,  1,     22,     22,2,19930819,0416, -0.2457, 178.9937, 5392,    811.5,   5.2696,  34.5433,2,  34.5429,2,   -999.0,9,     85.7,2,    71.50,2,    38.10,2,     0.00,2,     2.72,2, -999.000,5, -999.000,5, -999.000,9,-999.0000,9,  -999.00,9,   2280.0,2,   2343.0,2,     7.46,2,-999.0000,-999.000,  5.2014,-999.000
      325024_1,  P14N,   144,  1,     21,     21,2,19930819,0416, -0.2457, 178.9937, 5392,    912.2,   4.9878,  34.5460,2,  34.5454,2,   -999.0,9,     86.0,2,    77.09,2,    38.19,2,     0.00,2,     2.74,2, -999.000,5, -999.000,5, -999.000,9,-999.0000,9,  -999.00,9,   2284.0,2,   2347.0,2,     7.48,2,-999.0000,-999.000,  4.9124,-999.000
      325024_1,  P14N,   144,  1,     20,     20,2,19930819,0416, -0.2457, 178.9937, 5392,   1013.8,   4.6564,  34.5522,2,  34.5523,2,   -999.0,9,     82.9,2,    85.05,2,    38.91,2,     0.00,2,     2.80,2, -999.000,5, -999.000,5, -999.000,9,-999.0000,9,  -999.00,9,   2295.0,2,   2355.0,2,     7.45,2,-999.0000,-999.000,  4.5744,-999.000
      325024_1,  P14N,   144,  1,     19,     19,2,19930819,0416, -0.2457, 178.9937, 5392,   1215.3,   3.8511,  34.5712,2,  34.5703,2,   -999.0,9,     93.0,2,   101.56,2,    38.43,2,     0.00,2,     2.77,2, -999.000,5, -999.000,5, -999.000,9,-999.0000,9,  -999.00,9,   2313.0,2,   2375.0,2,     7.49,2,-999.0000,-999.000,  3.7584,-999.000
      325024_1,  P14N,   144,  1,     18,     18,2,19930819,0416, -0.2457, 178.9937, 5392,   1416.3,   3.2868,  34.5921,2,  34.5920,2,   -999.0,9,     91.8,2,   115.21,2,    39.01,2,     0.00,2,     2.82,2, -999.000,5, -999.000,5, -999.000,9,-999.0000,9,  -999.00,9,   2327.0,2,   2389.0,2,     7.46,2,-999.0000,-999.000,  3.1828,-999.000
      325024_1,  P14N,   144,  1,     17,     17,2,19930819,0416, -0.2457, 178.9937, 5392,   1620.0,   2.8049,  34.6112,2,  34.6099,2,   -999.0,9,    101.0,2,   125.35,2,    38.39,2,     0.00,2,     2.77,2, -999.000,5, -999.000,5, -999.000,9,-999.0000,9,  -999.00,9,   2333.0,2,   2402.0,2,     7.50,2,-999.0000,-999.000,  2.6892,-999.000
      325024_1,  P14N,   144,  1,     16,     16,2,19930819,0416, -0.2457, 178.9937, 5392,   1822.3,   2.4515,  34.6279,2,  34.6275,2,   -999.0,9,    106.7,2,   133.53,2,    38.18,2,     0.00,2,     2.73,2, -999.000,5, -999.000,5, -999.000,9,-999.0000,9,  -999.00,9,   2342.0,2,   2408.0,2,     7.48,2,-999.0000,-999.000,  2.3235,-999.000
      325024_1,  P14N,   144,  1,     15,     15,2,19930819,0416, -0.2457, 178.9937, 5392,   2025.2,   2.1891,  34.6415,2,  34.6404,2,   -999.0,9,    112.5,2,   139.52,2,    37.83,2,     0.00,2,     2.71,2, -999.000,5, -999.000,5, -999.000,9,-999.0000,9,  -999.00,9,   2342.0,2,   2417.0,2,     7.51,2,-999.0000,-999.000,  2.0476,-999.000
      325024_1,  P14N,   144,  1,     14,     14,2,19930819,0416, -0.2457, 178.9937, 5392,   2229.1,   2.0131,  34.6514,2,  34.6512,2,   -999.0,9,    117.5,2,   143.69,2,    37.62,2,     0.00,2,     2.68,2, -999.000,5, -999.000,5, -999.000,9,-999.0000,9,  -999.00,9,   2345.0,2,   2432.0,2,     7.52,2,-999.0000,-999.000,  1.8568,-999.000
      325024_1,  P14N,   144,  1,     13,     13,2,19930819,0416, -0.2457, 178.9937, 5392,   2432.4,   1.8919,  34.6566,2,  34.6563,2,   -999.0,9,    123.8,2,   144.98,2,    37.18,2,     0.00,2,     2.64,2, -999.000,5, -999.000,5, -999.000,9,-999.0000,9,  -999.00,9,   2344.0,2,   2431.0,2,     7.51,2,-999.0000,-999.000,  1.7197,-999.000
      325024_1,  P14N,   144,  1,     12,     12,2,19930819,0416, -0.2457, 178.9937, 5392,   2635.8,   1.7818,  34.6636,2,  34.6643,2,   -999.0,9,    127.9,2,   147.52,2,    37.01,2,     0.00,2,     2.61,2, -999.000,5, -999.000,5, -999.000,9,-999.0000,9,  -999.00,9,   2343.0,2,   2427.0,2,     7.53,2,-999.0000,-999.000,  1.5932,-999.000
      325024_1,  P14N,   144,  1,     11,     11,2,19930819,0416, -0.2457, 178.9937, 5392,   2839.3,   1.7186,  34.6666,2,  34.6658,2,   -999.0,9,    131.9,2,   148.20,2,    36.75,2,     0.00,2,     2.58,2, -999.000,5, -999.000,5, -999.000,9,-999.0000,9,  -999.00,9,   2341.0,2,   2431.0,2,     7.53,2,-999.0000,-999.000,  1.5124,-999.000
      325024_1,  P14N,   144,  1,     10,     10,2,19930819,0416, -0.2457, 178.9937, 5392,   3043.3,   1.6544,  34.6698,2,  34.6702,2,   -999.0,9,    137.2,2,   147.84,2,    36.41,2,     0.00,2,     2.56,2, -999.000,5, -999.000,5, -999.000,9,-999.0000,9,  -999.00,9,   2337.0,2,   2426.0,2,     7.55,2,-999.0000,-999.000,  1.4300,-999.000
      325024_1,  P14N,   144,  1,      9,      9,2,19930819,0416, -0.2457, 178.9937, 5392,   3349.1,   1.5528,  34.6775,2,  34.6762,2,   -999.0,9,    145.7,2,   146.87,2,    35.72,2,     0.00,2,     2.51,2, -999.000,5, -999.000,5, -999.000,9,-999.0000,9,  -999.00,9,   2331.0,2,   2418.0,2,     7.54,2,-999.0000,-999.000,  1.3006,-999.000
      325024_1,  P14N,   144,  1,      8,      8,2,19930819,0416, -0.2457, 178.9937, 5392,   3655.4,   1.4813,  34.6841,2,  34.6833,2,   -999.0,9,    155.4,2,   143.84,2,    35.20,2,     0.00,2,     2.47,2, -999.000,5, -999.000,5, -999.000,9,-999.0000,9,  -999.00,9,   2322.0,2,   2420.0,2,     7.58,2,-999.0000,-999.000,  1.1996,-999.000
      325024_1,  P14N,   144,  1,      7,      7,2,19930819,0416, -0.2457, 178.9937, 5392,   3962.4,   1.4050,  34.6905,2,  34.6901,2,   -999.0,9,    165.2,2,   140.62,2,    34.47,2,     0.00,2,     2.41,2, -999.000,5, -999.000,5, -999.000,9,-999.0000,9,  -999.00,9,   2314.0,2,   2413.0,2,     7.56,2,-999.0000,-999.000,  1.0928,-999.000
      325024_1,  P14N,   144,  1,      6,      6,2,19930819,0416, -0.2457, 178.9937, 5392,   4269.3,   1.3290,  34.6964,2,  34.6964,2,   -999.0,9,    176.1,2,   135.38,2,    33.61,2,     0.00,2,     2.36,2, -999.000,5, -999.000,5, -999.000,9,-999.0000,9,  -999.00,9,   2302.0,2,   2410.0,2,     7.59,2,-999.0000,-999.000,  0.9853,-999.000
      325024_1,  P14N,   144,  1,      5,      5,2,19930819,0416, -0.2457, 178.9937, 5392,   4575.9,   1.2616,  34.7010,2,  34.7008,2,   -999.0,9,    187.0,2,   129.36,2,    32.80,2,     0.00,2,     2.30,2, -999.000,5, -999.000,5, -999.000,9,-999.0000,9,  -999.00,9,   2291.0,2,   2399.0,2,     7.59,2,-999.0000,-999.000,  0.8852,-999.000
      325024_1,  P14N,   144,  1,      4,      4,2,19930819,0416, -0.2457, 178.9937, 5392,   4883.0,   1.2404,  34.7039,2,  34.7030,2,   -999.0,9,    191.4,2,   127.20,2,    32.42,2,     0.00,2,     2.26,2, -999.000,5, -999.000,5, -999.000,9,-999.0000,9,  -999.00,9,   2285.0,2,   2387.0,2,     7.59,2,-999.0000,-999.000,  0.8288,-999.000
      325024_1,  P14N,   144,  1,      3,      3,2,19930819,0416, -0.2457, 178.9937, 5392,   5189.2,   1.2683,  34.7043,2,  34.7034,2,   -999.0,9,    193.5,2,   126.46,2,    32.39,2,     0.00,2,     2.27,2, -999.000,5, -999.000,5, -999.000,9,-999.0000,9,  -999.00,9,   2275.0,2,   2384.0,2,     7.58,2,-999.0000,-999.000,  0.8188,-999.000
      325024_1,  P14N,   144,  1,      1,      1,2,19930819,0416, -0.2457, 178.9937, 5392,   5510.5,   1.3046,  34.7040,2,  34.7045,2,   -999.0,9,    193.5,2,   126.39,2,    32.40,2,     0.00,2,     2.26,2, -999.000,5, -999.000,5, -999.000,9,-999.0000,9,  -999.00,9,   2276.0,2,   2384.0,2,     7.58,2,-999.0000,-999.000,  0.8138,-999.000
      325024_1,  P14N,   144,  1,      2,      2,2,19930819,0416, -0.2457, 178.9937, 5392,   5510.9,   1.3047,  34.7038,2,  34.7041,2,   -999.0,9,    194.3,2,   126.33,2,    32.31,2,     0.00,2,     2.26,2, -999.000,5, -999.000,5, -999.000,9,-999.0000,9,  -999.00,9,   2278.0,2,   2384.0,2,     7.59,2,-999.0000,-999.000,  0.8138,-999.000