BOTTLE,20131125MIRCJHATS
EXPOCODE,SECT_ID,STNNBR,CASTNO,SAMPNO,BTLNBR,BTLNBR_FLAG_W,DATE,TIME,LATITUDE,LONGITUDE,DEPTH,CTDPRS,CTDTMP,CTDSAL,CTDSAL_FLAG_W,SALNTY,SALNTY_FLAG_W,CTDOXY,CTDOXY_FLAG_W,OXYGEN,OXYGEN_FLAG_W,SILCAT,SILCAT_FLAG_W,NITRAT,NITRAT_FLAG_W,NITRIT,NITRIT_FLAG_W,PHSPHT,PHSPHT_FLAG_W,CFC-11,CFC-11_FLAG_W,CFC-12,CFC-12_FLAG_W,TRITUM,TRITUM_FLAG_W,HELIUM,HELIUM_FLAG_W,DELHE3,DELHE3_FLAG_W,TCARBN,TCARBN_FLAG_W,ALKALI,ALKALI_FLAG_W,PH,PH_FLAG_W,HELIER,DELHER,THETA,TRITER
,,,,,,,,,,,,DBAR,ITS-90,PSS-78,,PSS-78,,UMOL/KG,,UMOL/KG,,UMOL/KG,,UMOL/KG,,UMOL/KG,,UMOL/KG,,PMOL/KG,,PMOL/KG,,TU,,NMOL/KG,,PERCNT,,UMOL/KG,,UMOL/KG,,25_DEG,,NMOL/KG,PERCNT,DEG C,TU
      325023_1,  P14N,    45,  1,     36,     36,2,19930718,1840, 40.0005, 179.0013, 5494,      6.3,  15.0615,  34.0353,2,  34.0340,2,   -999.0,9,    258.4,2,    10.37,3,     4.02,3,     0.09,2,     0.46,3,    3.140,2,    1.560,2, -999.000,9,-999.0000,9,  -999.00,9,   -999.0,9,   -999.0,9,  -999.00,9,-999.0000,-999.000, 15.0605,-999.000
      325023_1,  P14N,    45,  1,     35,     35,2,19930718,1840, 40.0005, 179.0013, 5494,     38.8,  12.9199,  34.1731,2,  34.1789,2,   -999.0,9,    273.2,2,    12.31,3,     5.16,3,     0.11,2,     0.57,3,    3.884,2,    1.867,2, -999.000,9,-999.0000,9,  -999.00,9,   -999.0,9,   -999.0,9,  -999.00,9,-999.0000,-999.000, 12.9146,-999.000
      325023_1,  P14N,    45,  1,     34,     34,2,19930718,1840, 40.0005, 179.0013, 5494,     69.0,  11.7098,  34.3345,2,  34.3336,2,   -999.0,9,    250.4,2,    14.44,3,     8.97,3,     0.07,2,     0.74,3,    3.362,2,    1.647,2, -999.000,9,-999.0000,9,  -999.00,9,   -999.0,9,   -999.0,9,  -999.00,9,-999.0000,-999.000, 11.7011,-999.000
      325023_1,  P14N,    45,  1,     33,     33,2,19930718,1840, 40.0005, 179.0013, 5494,     99.0,  11.0734,  34.2844,2,  34.2819,2,   -999.0,9,    251.1,2,    16.56,3,    10.46,3,     0.05,2,     0.85,3,    3.415,4,    1.577,4, -999.000,9,-999.0000,9,  -999.00,9,   -999.0,9,   -999.0,9,  -999.00,9,-999.0000,-999.000, 11.0613,-999.000
      325023_1,  P14N,    45,  1,     32,     32,2,19930718,1840, 40.0005, 179.0013, 5494,    129.8,  10.5763,  34.2380,2,  34.2367,2,   -999.0,9,    257.4,2,    17.21,3,    10.95,3,     0.04,2,     0.87,3,    3.532,6,    1.770,6, -999.000,9,-999.0000,9,  -999.00,9,   -999.0,9,   -999.0,9,  -999.00,9,-999.0000,-999.000, 10.5609,-999.000
      325023_1,  P14N,    45,  1,     31,     31,2,19930718,1840, 40.0005, 179.0013, 5494,    158.5,  10.1862,  34.2026,2,  34.2033,2,   -999.0,9,    257.2,2,    18.23,3,    11.77,3,     0.02,2,     0.92,3,    3.658,2,    1.808,2, -999.000,9,-999.0000,9,  -999.00,9,   -999.0,9,   -999.0,9,  -999.00,9,-999.0000,-999.000, 10.1678,-999.000
      325023_1,  P14N,    45,  1,     30,     30,2,19930718,1840, 40.0005, 179.0013, 5494,    208.9,   9.4635,  34.1329,2,  34.1322,2,   -999.0,9,    257.3,2,    21.09,3,    13.29,3,     0.01,2,     1.03,3,    3.646,2,    1.801,2, -999.000,9,-999.0000,9,  -999.00,9,   -999.0,9,   -999.0,9,  -999.00,9,-999.0000,-999.000,  9.4403,-999.000
      325023_1,  P14N,    45,  1,     29,     29,2,19930718,1840, 40.0005, 179.0013, 5494,    259.0,   8.8072,  34.0663,2,  34.0663,2,   -999.0,9,    254.4,2,    23.21,3,    14.72,3,     0.01,2,     1.14,3,    3.526,2,    1.774,2, -999.000,9,-999.0000,9,  -999.00,9,   -999.0,9,   -999.0,9,  -999.00,9,-999.0000,-999.000,  8.7797,-999.000
      325023_1,  P14N,    45,  1,     28,     28,2,19930718,1840, 40.0005, 179.0013, 5494,    310.5,   8.0291,  34.0446,2,  34.0413,2,   -999.0,9,    206.6,2,    35.10,3,    20.42,3,     0.01,2,     1.51,3,    3.029,2,    1.405,3, -999.000,9,-999.0000,9,  -999.00,9,   -999.0,9,   -999.0,9,  -999.00,9,-999.0000,-999.000,  7.9978,-999.000
      325023_1,  P14N,    45,  1,     27,     27,2,19930718,1840, 40.0005, 179.0013, 5494,    411.9,   6.3463,  33.9951,2,  33.9950,2,   -999.0,9,    156.3,2,    55.88,3,    28.33,3,     0.00,2,     2.05,3,    2.240,2,    1.021,2, -999.000,9,-999.0000,9,  -999.00,9,   -999.0,9,   -999.0,9,  -999.00,9,-999.0000,-999.000,  6.3098,-999.000
      325023_1,  P14N,    45,  1,     26,     26,2,19930718,1840, 40.0005, 179.0013, 5494,    512.6,   5.2618,  33.9917,2,  33.9907,2,   -999.0,9,    124.9,2,    72.47,3,    33.00,3,     0.00,2,     2.38,3,    1.595,2,    0.719,2, -999.000,9,-999.0000,9,  -999.00,9,   -999.0,9,   -999.0,9,  -999.00,9,-999.0000,-999.000,  5.2203,-999.000
      325023_1,  P14N,    45,  1,     25,     25,2,19930718,1840, 40.0005, 179.0013, 5494,    613.4,   4.5186,  34.0762,2,  34.0725,2,   -999.0,9,     78.4,2,    93.48,3,    38.38,3,     0.00,2,     2.72,3,    0.842,2,    0.369,2, -999.000,9,-999.0000,9,  -999.00,9,   -999.0,9,   -999.0,9,  -999.00,9,-999.0000,-999.000,  4.4719,-999.000
      325023_1,  P14N,    45,  1,     24,     24,2,19930718,1840, 40.0005, 179.0013, 5494,    714.4,   4.0929,  34.1575,2,  34.1541,2,   -999.0,9,     54.1,2,   108.48,3,    40.98,3,     0.00,2,     2.88,3,    0.412,2,    0.183,2, -999.000,9,-999.0000,9,  -999.00,9,   -999.0,9,   -999.0,9,  -999.00,9,-999.0000,-999.000,  4.0403,-999.000
      325023_1,  P14N,    45,  1,     23,     23,2,19930718,1840, 40.0005, 179.0013, 5494,    814.8,   3.7929,  34.2313,2,  34.2278,2,   -999.0,9,     43.1,2,   119.64,3,    42.07,3,     0.00,2,     2.96,3,    0.223,2,    0.105,2, -999.000,9,-999.0000,9,  -999.00,9,   -999.0,9,   -999.0,9,  -999.00,9,-999.0000,-999.000,  3.7341,-999.000
      325023_1,  P14N,    45,  1,     22,     22,2,19930718,1840, 40.0005, 179.0013, 5494,    915.8,   3.5110,  34.2865,2,  34.2831,2,   -999.0,9,     35.3,2,   128.78,3,    42.99,3,     0.00,2,     3.01,3, -999.000,5, -999.000,5, -999.000,9,-999.0000,9,  -999.00,9,   -999.0,9,   -999.0,9,  -999.00,9,-999.0000,-999.000,  3.4461,-999.000
      325023_1,  P14N,    45,  1,     21,     21,2,19930718,1840, 40.0005, 179.0013, 5494,   1017.1,   3.2347,  34.3322,2,  34.3297,2,   -999.0,9,     32.9,2,   138.21,3,    43.40,3,     0.00,2,     3.05,3,    0.083,2,    0.037,2, -999.000,9,-999.0000,9,  -999.00,9,   -999.0,9,   -999.0,9,  -999.00,9,-999.0000,-999.000,  3.1639,-999.000
      325023_1,  P14N,    45,  1,     20,     20,2,19930718,1840, 40.0005, 179.0013, 5494,   1219.8,   2.8210,  34.4139,2,  34.4113,2,   -999.0,9,     27.1,2,   152.13,3,    44.27,3,     0.00,2,     3.09,3,    0.033,2,    0.004,3, -999.000,9,-999.0000,9,  -999.00,9,   -999.0,9,   -999.0,9,  -999.00,9,-999.0000,-999.000,  2.7379,-999.000
      325023_1,  P14N,    45,  1,     19,     19,2,19930718,1840, 40.0005, 179.0013, 5494,   1421.4,   2.5340,  34.4758,2,  34.4742,2,   -999.0,9,     26.0,2,   162.27,3,    44.73,3,     0.00,2,     3.11,3,   -0.005,4,   -0.001,2, -999.000,9,-999.0000,9,  -999.00,9,   -999.0,9,   -999.0,9,  -999.00,9,-999.0000,-999.000,  2.4381,-999.000
      325023_1,  P14N,    45,  1,     18,     18,2,19930718,1840, 40.0005, 179.0013, 5494,   1622.3,   2.2942,  34.5181,2,  34.5172,2,   -999.0,9,     35.1,2,   169.49,3,    44.22,3,     0.00,2,     3.07,3,    0.019,4,    0.016,4, -999.000,9,-999.0000,9,  -999.00,9,   -999.0,9,   -999.0,9,  -999.00,9,-999.0000,-999.000,  2.1850,-999.000
      325023_1,  P14N,    45,  1,     17,     17,2,19930718,1840, 40.0005, 179.0013, 5494,   1823.5,   2.1162,  34.5548,2,  34.5535,2,   -999.0,9,     45.6,2,   173.89,3,    43.66,3,     0.00,2,     3.02,3,   -0.002,2,    0.001,2, -999.000,9,-999.0000,9,  -999.00,9,   -999.0,9,   -999.0,9,  -999.00,9,-999.0000,-999.000,  1.9930,-999.000
      325023_1,  P14N,    45,  1,     16,     16,2,19930718,1840, 40.0005, 179.0013, 5494,   2029.6,   1.9716,  34.5853,2,  34.5831,2,   -999.0,9,     58.3,2,   176.04,3,    42.83,3,     0.00,2,     2.95,3, -999.000,5, -999.000,5, -999.000,9,-999.0000,9,  -999.00,9,   -999.0,9,   -999.0,9,  -999.00,9,-999.0000,-999.000,  1.8333,-999.000
      325023_1,  P14N,    45,  1,     15,     15,2,19930718,1840, 40.0005, 179.0013, 5494,   2233.7,   1.8417,  34.6085,2,  34.6075,2,   -999.0,9,     71.8,2,   176.95,3,    41.91,3,     0.00,2,     2.90,3,   -0.004,2,    0.003,2, -999.000,9,-999.0000,9,  -999.00,9,   -999.0,9,   -999.0,9,  -999.00,9,-999.0000,-999.000,  1.6881,-999.000
      325023_1,  P14N,    45,  1,     14,     14,2,19930718,1840, 40.0005, 179.0013, 5494,   2429.9,   1.7444,  34.6257,2,  34.6242,2,   -999.0,9,     83.6,2,   177.24,3,    41.22,3,     0.00,2,     2.84,3, -999.000,5, -999.000,5, -999.000,9,-999.0000,9,  -999.00,9,   -999.0,9,   -999.0,9,  -999.00,9,-999.0000,-999.000,  1.5752,-999.000
      325023_1,  P14N,    45,  1,     13,     13,2,19930718,1840, 40.0005, 179.0013, 5494,   2633.0,   1.6605,  34.6393,2,  34.6391,2,   -999.0,9,     96.3,2,   175.45,3,    40.39,3,     0.00,2,     2.78,3, -999.000,5, -999.000,5, -999.000,9,-999.0000,9,  -999.00,9,   -999.0,9,   -999.0,9,  -999.00,9,-999.0000,-999.000,  1.4746,-999.000
      325023_1,  P14N,    45,  1,     12,     12,2,19930718,1840, 40.0005, 179.0013, 5494,   2842.1,   1.6076,  34.6483,2,  34.6488,2,   -999.0,9,    108.0,2,   172.85,3,    39.57,3,     0.00,2,     2.73,3,    0.003,2,    0.004,2, -999.000,9,-999.0000,9,  -999.00,9,   -999.0,9,   -999.0,9,  -999.00,9,-999.0000,-999.000,  1.4035,-999.000
      325023_1,  P14N,    45,  1,     11,     11,2,19930718,1840, 40.0005, 179.0013, 5494,   3051.1,   1.5521,  34.6583,2,  34.6580,2,   -999.0,9,    118.9,2,   169.64,3,    38.88,3,     0.00,2,     2.68,3, -999.000,5, -999.000,5, -999.000,9,-999.0000,9,  -999.00,9,   -999.0,9,   -999.0,9,  -999.00,9,-999.0000,-999.000,  1.3293,-999.000
      325023_1,  P14N,    45,  1,     10,     10,2,19930718,1840, 40.0005, 179.0013, 5494,   3359.2,   1.4984,  34.6688,2,  34.6680,2,   -999.0,9,    132.1,2,   165.43,3,    37.92,3,     0.00,2,     2.61,3, -999.000,5, -999.000,5, -999.000,9,-999.0000,9,  -999.00,9,   -999.0,9,   -999.0,9,  -999.00,9,-999.0000,-999.000,  1.2466,-999.000
      325023_1,  P14N,    45,  1,      9,      9,2,19930718,1840, 40.0005, 179.0013, 5494,   3666.4,   1.4645,  34.6757,2,  34.6755,2,   -999.0,9,    142.1,2,   162.46,3,    37.29,3,     0.00,2,     2.56,3,   -0.001,2,    0.002,2, -999.000,9,-999.0000,9,  -999.00,9,   -999.0,9,   -999.0,9,  -999.00,9,-999.0000,-999.000,  1.1822,-999.000
      325023_1,  P14N,    45,  1,      8,      8,2,19930718,1840, 40.0005, 179.0013, 5494,   3970.3,   1.4562,  34.6810,2,  34.6801,2,   -999.0,9,    147.9,2,   161.33,3,    36.92,3,     0.00,2,     2.53,3, -999.000,5, -999.000,5, -999.000,9,-999.0000,9,  -999.00,9,   -999.0,9,   -999.0,9,  -999.00,9,-999.0000,-999.000,  1.1418,-999.000
      325023_1,  P14N,    45,  1,      7,      7,2,19930718,1840, 40.0005, 179.0013, 5494,   4269.3,   1.4646,  34.6835,2,  34.6829,2,   -999.0,9,    151.1,2,   160.61,3,    36.60,3,     0.00,2,     2.50,3, -999.000,5, -999.000,5, -999.000,9,-999.0000,9,  -999.00,9,   -999.0,9,   -999.0,9,  -999.00,9,-999.0000,-999.000,  1.1170,-999.000
      325023_1,  P14N,    45,  1,      6,      6,2,19930718,1840, 40.0005, 179.0013, 5494,   4573.4,   1.4867,  34.6844,2,  34.6856,2,   -999.0,9,    152.6,2,   161.50,3,    36.55,3,     0.00,2,     2.50,3,   -0.001,2,    0.002,2, -999.000,9,-999.0000,9,  -999.00,9,   -999.0,9,   -999.0,9,  -999.00,9,-999.0000,-999.000,  1.1037,-999.000
      325023_1,  P14N,    45,  1,      5,      5,2,19930718,1840, 40.0005, 179.0013, 5494,   4889.7,   1.5184,  34.6868,2,  34.6868,2,   -999.0,9,    153.3,2,   162.39,3,    36.51,3,     0.00,2,     2.49,3, -999.000,5, -999.000,5, -999.000,9,-999.0000,9,  -999.00,9,   -999.0,9,   -999.0,9,  -999.00,9,-999.0000,-999.000,  1.0969,-999.000
      325023_1,  P14N,    45,  1,      4,      4,2,19930718,1840, 40.0005, 179.0013, 5494,   5205.8,   1.5558,  34.6867,2,  34.6869,2,   -999.0,9,    153.7,2,   162.27,3,    36.50,3,     0.00,2,     2.49,3, -999.000,5, -999.000,5, -999.000,9,-999.0000,9,  -999.00,9,   -999.0,9,   -999.0,9,  -999.00,9,-999.0000,-999.000,  1.0944,-999.000
      325023_1,  P14N,    45,  1,      3,      3,2,19930718,1840, 40.0005, 179.0013, 5494,   5520.8,   1.5959,  34.6858,2,  34.6871,2,   -999.0,9,    154.1,2,   162.15,3,    36.46,3,     0.00,2,     2.49,3,    0.001,2,    0.003,2, -999.000,9,-999.0000,9,  -999.00,9,   -999.0,9,   -999.0,9,  -999.00,9,-999.0000,-999.000,  1.0932,-999.000
      325023_1,  P14N,    45,  1,      2,      2,2,19930718,1840, 40.0005, 179.0013, 5494,   5603.2,   1.6070,  34.6868,2,  34.6871,2,   -999.0,9,    154.0,2,   162.64,3,    36.50,3,     0.00,2,     2.49,3, -999.000,5, -999.000,5, -999.000,9,-999.0000,9,  -999.00,9,   -999.0,9,   -999.0,9,  -999.00,9,-999.0000,-999.000,  1.0933,-999.000
      325023_1,  P14N,    45,  1,      1,      1,2,19930718,1840, 40.0005, 179.0013, 5494,   5605.1,   1.6074,  34.6870,2,  34.6878,2,   -999.0,9,    154.0,2,   162.32,3,    36.50,3,     0.00,2,     2.48,3,    0.002,2,   -0.002,2, -999.000,9,-999.0000,9,  -999.00,9,   -999.0,9,   -999.0,9,  -999.00,9,-999.0000,-999.000,  1.0934,-999.000