BOTTLE,20131125MIRCJHATS
EXPOCODE,SECT_ID,STNNBR,CASTNO,SAMPNO,BTLNBR,BTLNBR_FLAG_W,DATE,TIME,LATITUDE,LONGITUDE,DEPTH,CTDPRS,CTDTMP,CTDSAL,CTDSAL_FLAG_W,SALNTY,SALNTY_FLAG_W,CTDOXY,CTDOXY_FLAG_W,OXYGEN,OXYGEN_FLAG_W,SILCAT,SILCAT_FLAG_W,NITRAT,NITRAT_FLAG_W,NITRIT,NITRIT_FLAG_W,PHSPHT,PHSPHT_FLAG_W,CFC-11,CFC-11_FLAG_W,CFC-12,CFC-12_FLAG_W,TRITUM,TRITUM_FLAG_W,HELIUM,HELIUM_FLAG_W,DELHE3,DELHE3_FLAG_W,TCARBN,TCARBN_FLAG_W,ALKALI,ALKALI_FLAG_W,PH,PH_FLAG_W,HELIER,DELHER,THETA,TRITER
,,,,,,,,,,,,DBAR,ITS-90,PSS-78,,PSS-78,,UMOL/KG,,UMOL/KG,,UMOL/KG,,UMOL/KG,,UMOL/KG,,UMOL/KG,,PMOL/KG,,PMOL/KG,,TU,,NMOL/KG,,PERCNT,,UMOL/KG,,UMOL/KG,,25_DEG,,NMOL/KG,PERCNT,DEG C,TU
      325023_1,  P14N,    22,  1,     36,     36,2,19930711,1448, 50.6997, 179.4168, 4537,      3.5,   7.6776,  32.8101,2,  32.8141,2,   -999.0,9,    304.8,2,     5.73,2,    14.61,2,     0.24,2,     1.44,2, -999.000,5, -999.000,5, -999.000,9,-999.0000,9,  -999.00,9,   2042.7,2,   2217.6,2,  -999.00,9,-999.0000,-999.000,  7.6773,-999.000
      325023_1,  P14N,    22,  1,     35,     35,2,19930711,1448, 50.6997, 179.4168, 4537,     36.5,   6.6355,  32.8388,2,  32.8386,2,   -999.0,9,    310.6,2,    11.10,2,    15.95,2,     0.24,2,     1.54,2, -999.000,5, -999.000,5, -999.000,9,-999.0000,9,  -999.00,9,   2053.7,2,   2222.5,2,  -999.00,9,-999.0000,-999.000,  6.6323,-999.000
      325023_1,  P14N,    22,  1,     34,     34,2,19930711,1448, 50.6997, 179.4168, 4537,     66.2,   3.7823,  32.9214,2,  32.9214,2,   -999.0,9,    319.9,2,    42.21,2,    22.48,2,     0.23,2,     1.95,2, -999.000,5, -999.000,5, -999.000,9,-999.0000,9,  -999.00,9,   -999.0,9,   -999.0,9,  -999.00,9,-999.0000,-999.000,  3.7781,-999.000
      325023_1,  P14N,    22,  1,     33,     33,2,19930711,1448, 50.6997, 179.4168, 4537,     96.0,   3.4956,  32.9505,2,  32.9498,2,   -999.0,9,    318.7,2,    43.29,2,    23.36,2,     0.38,2,     1.98,2, -999.000,5, -999.000,5, -999.000,9,-999.0000,9,  -999.00,9,   2106.4,2,   2223.3,2,  -999.00,9,-999.0000,-999.000,  3.4896,-999.000
      325023_1,  P14N,    22,  1,     32,     32,2,19930711,1448, 50.6997, 179.4168, 4537,    125.7,   3.2079,  33.5576,2,  33.5473,2,   -999.0,9,    136.1,2,    76.93,2,    37.58,2,     0.04,2,     2.77,2, -999.000,5, -999.000,5, -999.000,9,-999.0000,9,  -999.00,9,   -999.0,9,   -999.0,9,  -999.00,9,-999.0000,-999.000,  3.2002,-999.000
      325023_1,  P14N,    22,  1,     31,     31,2,19930711,1448, 50.6997, 179.4168, 4537,    155.1,   3.3449,  33.7921,2,  33.7924,2,   -999.0,9,     62.3,2,    91.87,2,    42.76,2,     0.03,2,     3.06,2, -999.000,5, -999.000,5, -999.000,9,-999.0000,9,  -999.00,9,   2309.6,2,   2285.3,2,  -999.00,9,-999.0000,-999.000,  3.3352,-999.000
      325023_1,  P14N,    22,  1,     29,     29,2,19930711,1448, 50.6997, 179.4168, 4537,    205.4,   3.4698,  33.9215,2,  33.9206,2,   -999.0,9,     28.6,2,   102.03,2,    44.77,2,     0.01,2,     3.18,2, -999.000,5, -999.000,5, -999.000,9,-999.0000,9,  -999.00,9,   -999.0,9,   -999.0,9,  -999.00,9,-999.0000,-999.000,  3.4566,-999.000
      325023_1,  P14N,    22,  1,     30,     30,2,19930711,1448, 50.6997, 179.4168, 4537,    205.7,   3.4704,  33.9193,2,  33.9208,2,   -999.0,9,     29.1,2,   102.07,2,    44.72,2,     0.01,2,     3.18,2, -999.000,5, -999.000,5, -999.000,9,-999.0000,9,  -999.00,9,   -999.0,9,   -999.0,9,  -999.00,9,-999.0000,-999.000,  3.4572,-999.000
      325023_1,  P14N,    22,  1,     28,     28,2,19930711,1448, 50.6997, 179.4168, 4537,    256.2,   3.4942,  33.9959,2,  33.9955,2,   -999.0,9,     22.1,2,   108.37,2,    44.72,2,     0.01,2,     3.18,2, -999.000,5, -999.000,5, -999.000,9,-999.0000,9,  -999.00,9,   2343.6,2,   2309.1,2,  -999.00,9,-999.0000,-999.000,  3.4775,-999.000
      325023_1,  P14N,    22,  1,     27,     27,2,19930711,1448, 50.6997, 179.4168, 4537,    306.6,   3.5162,  34.0536,2,  34.0532,2,   -999.0,9,     19.4,2,   113.36,2,    44.54,2,     0.01,2,     3.18,2, -999.000,5, -999.000,5, -999.000,9,-999.0000,9,  -999.00,9,   -999.0,9,   -999.0,9,  -999.00,9,-999.0000,-999.000,  3.4960,-999.000
      325023_1,  P14N,    22,  1,     26,     26,2,19930711,1448, 50.6997, 179.4168, 4537,    408.8,   3.4191,  34.1453,2,  34.1446,2,   -999.0,9,     18.8,2,   122.27,2,    44.13,2,     0.00,2,     3.13,2, -999.000,5, -999.000,5, -999.000,9,-999.0000,9,  -999.00,9,   -999.0,9,   -999.0,9,  -999.00,9,-999.0000,-999.000,  3.3922,-999.000
      325023_1,  P14N,    22,  1,     25,     25,3,19930711,1448, 50.6997, 179.4168, 4537,    509.7,   3.2967,  34.2141,2,  34.4658,4,   -999.0,9,    141.9,4,   144.19,4,    42.14,4,     0.00,4,     2.98,4, -999.000,5, -999.000,5, -999.000,9,-999.0000,9,  -999.00,9,   -999.0,9,   -999.0,9,  -999.00,9,-999.0000,-999.000,  3.2631,-999.000
      325023_1,  P14N,    22,  1,     24,     24,2,19930711,1448, 50.6997, 179.4168, 4537,    610.5,   3.1357,  34.2750,2,  34.2736,2,   -999.0,9,     17.0,2,   137.19,2,    43.95,2,     0.00,2,     3.13,2, -999.000,5, -999.000,5, -999.000,9,-999.0000,9,  -999.00,9,   -999.0,9,   -999.0,9,  -999.00,9,-999.0000,-999.000,  3.0957,-999.000
      325023_1,  P14N,    22,  1,     23,     23,2,19930711,1448, 50.6997, 179.4168, 4537,    711.4,   2.9912,  34.3212,2,  34.3207,2,   -999.0,9,     17.5,2,   142.96,2,    43.86,2,     0.00,2,     3.13,2, -999.000,5, -999.000,5, -999.000,9,-999.0000,9,  -999.00,9,   -999.0,9,   -999.0,9,  -999.00,9,-999.0000,-999.000,  2.9448,-999.000
      325023_1,  P14N,    22,  1,     22,     22,2,19930711,1448, 50.6997, 179.4168, 4537,    812.0,   2.8632,  34.3565,2,  34.3552,2,   -999.0,9,     19.1,2,   147.11,2,    43.77,2,     0.00,2,     3.11,2, -999.000,5, -999.000,5, -999.000,9,-999.0000,9,  -999.00,9,   2382.0,2,   2370.1,2,  -999.00,9,-999.0000,-999.000,  2.8104,-999.000
      325023_1,  P14N,    22,  1,     21,     21,2,19930711,1448, 50.6997, 179.4168, 4537,    913.9,   2.7406,  34.3896,2,  34.3885,2,   -999.0,9,     20.0,2,   151.27,2,    43.81,2,     0.00,2,     3.11,2, -999.000,5, -999.000,5, -999.000,9,-999.0000,9,  -999.00,9,   -999.0,9,   -999.0,9,  -999.00,9,-999.0000,-999.000,  2.6812,-999.000
      325023_1,  P14N,    22,  1,     20,     20,2,19930711,1448, 50.6997, 179.4168, 4537,   1016.0,   2.6124,  34.4240,2,  34.4234,2,   -999.0,9,     21.1,2,   155.44,2,    43.77,2,     0.00,2,     3.10,2, -999.000,5, -999.000,5, -999.000,9,-999.0000,9,  -999.00,9,   -999.0,9,   -999.0,9,  -999.00,9,-999.0000,-999.000,  2.5465,-999.000
      325023_1,  P14N,    22,  1,     19,     19,2,19930711,1448, 50.6997, 179.4168, 4537,   1218.9,   2.3791,  34.4800,2,  34.4778,2,   -999.0,9,     27.5,2,   162.22,2,    43.59,2,     0.00,2,     3.08,2, -999.000,5, -999.000,5, -999.000,9,-999.0000,9,  -999.00,9,   2396.2,2,   2394.8,2,  -999.00,9,-999.0000,-999.000,  2.3002,-999.000
      325023_1,  P14N,    22,  1,     18,     18,2,19930711,1448, 50.6997, 179.4168, 4537,   1422.8,   2.1775,  34.5258,2,  34.5251,2,   -999.0,9,     38.0,2,   166.67,2,    42.94,2,     0.00,2,     3.02,2, -999.000,5, -999.000,5, -999.000,9,-999.0000,9,  -999.00,9,   -999.0,9,   -999.0,9,  -999.00,9,-999.0000,-999.000,  2.0852,-999.000
      325023_1,  P14N,    22,  1,     17,     17,2,19930711,1448, 50.6997, 179.4168, 4537,   1626.6,   2.0280,  34.5591,2,  34.5586,2,   -999.0,9,     49.3,2,   169.47,2,    42.39,2,     0.00,2,     2.97,2, -999.000,5, -999.000,5, -999.000,9,-999.0000,9,  -999.00,9,   -999.0,9,   -999.0,9,  -999.00,9,-999.0000,-999.000,  1.9217,-999.000
      325023_1,  P14N,    22,  1,     16,     16,2,19930711,1448, 50.6997, 179.4168, 4537,   1829.4,   1.9069,  34.5841,2,  34.5833,2,   -999.0,9,     61.7,2,   170.37,2,    41.66,2,     0.00,2,     2.92,2, -999.000,5, -999.000,5, -999.000,9,-999.0000,9,  -999.00,9,   2385.6,2,   2405.0,2,  -999.00,9,-999.0000,-999.000,  1.7860,-999.000
      325023_1,  P14N,    22,  1,     15,     15,2,19930711,1448, 50.6997, 179.4168, 4537,   2032.9,   1.8099,  34.6043,2,  34.6005,2,   -999.0,9,     72.7,2,   170.80,2,    41.02,2,     0.00,2,     2.87,2, -999.000,5, -999.000,5, -999.000,9,-999.0000,9,  -999.00,9,   -999.0,9,   -999.0,9,  -999.00,9,-999.0000,-999.000,  1.6737,-999.000
      325023_1,  P14N,    22,  1,     14,     14,2,19930711,1448, 50.6997, 179.4168, 4537,   2237.6,   1.7321,  34.6193,2,  34.6178,2,   -999.0,9,     83.5,2,   170.75,2,    40.19,2,     0.00,2,     2.83,2, -999.000,5, -999.000,5, -999.000,9,-999.0000,9,  -999.00,9,   -999.0,9,   -999.0,9,  -999.00,9,-999.0000,-999.000,  1.5799,-999.000
      325023_1,  P14N,    22,  1,     13,     13,2,19930711,1448, 50.6997, 179.4168, 4537,   2441.4,   1.6599,  34.6334,2,  34.6305,2,   -999.0,9,     94.5,2,   169.75,2,    39.64,2,     0.00,2,     2.77,2, -999.000,5, -999.000,5, -999.000,9,-999.0000,9,  -999.00,9,   2368.5,2,   2419.0,2,  -999.00,9,-999.0000,-999.000,  1.4912,-999.000
      325023_1,  P14N,    22,  1,     12,     12,2,19930711,1448, 50.6997, 179.4168, 4537,   2644.9,   1.6094,  34.6432,2,  34.6425,2,   -999.0,9,    103.8,2,   168.76,2,    39.01,2,     0.00,2,     2.74,2, -999.000,5, -999.000,5, -999.000,9,-999.0000,9,  -999.00,9,   -999.0,9,   -999.0,9,  -999.00,9,-999.0000,-999.000,  1.4235,-999.000
      325023_1,  P14N,    22,  1,     11,     11,2,19930711,1448, 50.6997, 179.4168, 4537,   2848.3,   1.5550,  34.6537,2,  34.6523,2,   -999.0,9,    114.3,2,   167.29,2,    38.37,2,     0.00,2,     2.68,2, -999.000,5, -999.000,5, -999.000,9,-999.0000,9,  -999.00,9,   -999.0,9,   -999.0,9,  -999.00,9,-999.0000,-999.000,  1.3514,-999.000
      325023_1,  P14N,    22,  1,     10,     10,2,19930711,1448, 50.6997, 179.4168, 4537,   3052.1,   1.5196,  34.6617,2,  34.6609,2,   -999.0,9,    122.6,2,   165.58,2,    37.82,2,     0.00,2,     2.63,2, -999.000,5, -999.000,5, -999.000,9,-999.0000,9,  -999.00,9,   2353.1,2,   2416.6,2,  -999.00,9,-999.0000,-999.000,  1.2974,-999.000
      325023_1,  P14N,    22,  1,      9,      9,2,19930711,1448, 50.6997, 179.4168, 4537,   3255.0,   1.4906,  34.6677,2,  34.6618,4,   -999.0,9,    129.8,2,   164.12,2,    37.37,2,     0.00,2,     2.60,2, -999.000,5, -999.000,5, -999.000,9,-999.0000,9,  -999.00,9,   -999.0,9,   -999.0,9,  -999.00,9,-999.0000,-999.000,  1.2494,-999.000
      325023_1,  P14N,    22,  1,      8,      8,2,19930711,1448, 50.6997, 179.4168, 4537,   3457.4,   1.4672,  34.6730,2,  34.6714,2,   -999.0,9,    136.1,2,   162.42,2,    36.96,2,     0.00,2,     2.57,2, -999.000,5, -999.000,5, -999.000,9,-999.0000,9,  -999.00,9,   -999.0,9,   -999.0,9,  -999.00,9,-999.0000,-999.000,  1.2063,-999.000
      325023_1,  P14N,    22,  1,      7,      7,2,19930711,1448, 50.6997, 179.4168, 4537,   3657.9,   1.4502,  34.6781,2,  34.7882,4,   -999.0,9,    141.7,2,   161.18,2,    36.55,2,     0.00,2,     2.54,2, -999.000,5, -999.000,5, -999.000,9,-999.0000,9,  -999.00,9,   2816.8,4,   2417.8,2,  -999.00,9,-999.0000,-999.000,  1.1691,-999.000
      325023_1,  P14N,    22,  1,      6,      6,2,19930711,1448, 50.6997, 179.4168, 4537,   3858.0,   1.4454,  34.6812,2,  34.6806,2,   -999.0,9,    145.9,2,   162.09,3,    36.28,2,     0.00,2,     2.53,2, -999.000,5, -999.000,5, -999.000,9,-999.0000,9,  -999.00,9,   -999.0,9,   -999.0,9,  -999.00,9,-999.0000,-999.000,  1.1434,-999.000
      325023_1,  P14N,    22,  1,      5,      5,2,19930711,1448, 50.6997, 179.4168, 4537,   4063.2,   1.4480,  34.6831,2,  34.6828,2,   -999.0,9,    148.8,2,   158.74,2,    36.06,2,     0.00,2,     2.53,2, -999.000,5, -999.000,5, -999.000,9,-999.0000,9,  -999.00,9,   -999.0,9,   -999.0,9,  -999.00,9,-999.0000,-999.000,  1.1237,-999.000
      325023_1,  P14N,    22,  1,      4,      4,2,19930711,1448, 50.6997, 179.4168, 4537,   4271.8,   1.4559,  34.6849,2,  34.7956,4,   -999.0,9,    151.2,2,   157.51,2,    35.83,2,     0.00,2,     2.49,2,    0.004,2,    0.004,2, -999.000,9,-999.0000,9,  -999.00,9,   2806.9,4,   2415.9,2,  -999.00,9,-999.0000,-999.000,  1.1083,-999.000
      325023_1,  P14N,    22,  1,      3,      3,2,19930711,1448, 50.6997, 179.4168, 4537,   4481.9,   1.4657,  34.6865,2,  34.6863,2,   -999.0,9,    153.4,2,   157.00,2,    35.70,2,     0.00,2,     2.48,2,    0.004,2,    0.002,2, -999.000,9,-999.0000,9,  -999.00,9,   -999.0,9,   -999.0,9,  -999.00,9,-999.0000,-999.000,  1.0939,-999.000
      325023_1,  P14N,    22,  1,      2,      2,2,19930711,1448, 50.6997, 179.4168, 4537,   4626.8,   1.4617,  34.6885,2,  34.6884,2,   -999.0,9,    157.0,2,   154.61,2,    35.43,2,     0.00,2,     2.46,2,    0.003,2,   -0.001,2, -999.000,9,-999.0000,9,  -999.00,9,   -999.0,9,   -999.0,9,  -999.00,9,-999.0000,-999.000,  1.0732,-999.000
      325023_1,  P14N,    22,  1,      1,      1,2,19930711,1448, 50.6997, 179.4168, 4537,   4627.0,   1.4622,  34.6885,2,  34.6945,4,   -999.0,9,    157.0,2,   154.56,2,    35.43,2,     0.00,2,     2.46,2,    0.002,2,    0.004,2, -999.000,9,-999.0000,9,  -999.00,9,   2324.4,2,   2410.1,2,  -999.00,9,-999.0000,-999.000,  1.0737,-999.000