BOTTLE,20131125MIRCJHATS
EXPOCODE,SECT_ID,STNNBR,CASTNO,SAMPNO,BTLNBR,BTLNBR_FLAG_W,DATE,TIME,LATITUDE,LONGITUDE,DEPTH,CTDPRS,CTDTMP,CTDSAL,CTDSAL_FLAG_W,SALNTY,SALNTY_FLAG_W,CTDOXY,CTDOXY_FLAG_W,OXYGEN,OXYGEN_FLAG_W,SILCAT,SILCAT_FLAG_W,NITRAT,NITRAT_FLAG_W,NITRIT,NITRIT_FLAG_W,PHSPHT,PHSPHT_FLAG_W,CFC-11,CFC-11_FLAG_W,CFC-12,CFC-12_FLAG_W,TRITUM,TRITUM_FLAG_W,HELIUM,HELIUM_FLAG_W,DELHE3,DELHE3_FLAG_W,TCARBN,TCARBN_FLAG_W,ALKALI,ALKALI_FLAG_W,PH,PH_FLAG_W,HELIER,DELHER,THETA,TRITER
,,,,,,,,,,,,DBAR,ITS-90,PSS-78,,PSS-78,,UMOL/KG,,UMOL/KG,,UMOL/KG,,UMOL/KG,,UMOL/KG,,UMOL/KG,,PMOL/KG,,PMOL/KG,,TU,,NMOL/KG,,PERCNT,,UMOL/KG,,UMOL/KG,,25_DEG,,NMOL/KG,PERCNT,DEG C,TU
      325023_1,  P14N,    40,  1,     36,     36,2,19930717,0544, 42.4820, 179.0108, 5781,     13.3,  11.4648,  33.7942,2,  33.7937,2,   -999.0,9,    278.6,2,    16.09,2,     8.79,2,     0.17,3,     0.82,2,    3.666,2,    1.897,2,    2.013,2,-999.0000,9,  -999.00,9,   2047.1,2,   2252.2,2,  -999.00,9,-999.0000,-999.000, 11.4631,   0.020
      325023_1,  P14N,    40,  1,     35,     35,2,19930717,0544, 42.4820, 179.0108, 5781,     39.2,  11.3973,  33.7972,2,  33.7987,2,   -999.0,9,    278.5,2,    16.03,2,     8.79,2,     0.17,3,     0.82,2, -999.000,5, -999.000,5, -999.000,9,-999.0000,9,  -999.00,9,   2046.1,2,   2252.8,2,  -999.00,9,-999.0000,-999.000, 11.3925,-999.000
      325023_1,  P14N,    40,  1,     34,     34,2,19930717,0544, 42.4820, 179.0108, 5781,     69.1,   8.9299,  33.9540,2,-999.0000,9,   -999.0,9,   -999.0,9,  -999.00,9,  -999.00,9,  -999.00,9,  -999.00,9, -999.000,5, -999.000,5, -999.000,9,-999.0000,9,  -999.00,9,   -999.0,9,   -999.0,9,  -999.00,9,-999.0000,-999.000,  8.9226,-999.000
      325023_1,  P14N,    40,  1,     33,     33,2,19930717,0544, 42.4820, 179.0108, 5781,     99.6,   8.4820,  33.9676,2,  33.9686,2,   -999.0,9,    275.2,2,    21.29,2,    13.19,2,     0.04,3,     1.08,2, -999.000,5, -999.000,5, -999.000,9,-999.0000,9,  -999.00,9,   2081.0,2,   2262.3,2,  -999.00,9,-999.0000,-999.000,  8.4718,-999.000
      325023_1,  P14N,    40,  1,     32,     32,2,19930717,0544, 42.4820, 179.0108, 5781,    128.9,   8.2816,  33.9512,2,  33.9496,2,   -999.0,9,    274.7,2,    21.97,2,    13.74,2,     0.02,3,     1.11,2, -999.000,5, -999.000,5,    1.853,2,-999.0000,9,  -999.00,9,   2085.8,2,   2260.0,2,  -999.00,9,-999.0000,-999.000,  8.2685,   0.019
      325023_1,  P14N,    40,  1,     31,     31,2,19930717,0544, 42.4820, 179.0108, 5781,    159.7,   8.2023,  33.9627,2,  33.9619,2,   -999.0,9,    270.8,2,    22.82,2,    14.01,2,     0.01,3,     1.13,2,    3.828,2,    1.933,2, -999.000,9,-999.0000,9,  -999.00,9,   2085.0,2,   2262.9,2,  -999.00,9,-999.0000,-999.000,  8.1862,-999.000
      325023_1,  P14N,    40,  1,     30,     30,2,19930717,0544, 42.4820, 179.0108, 5781,    209.3,   7.8168,  33.9276,2,  33.9247,2,   -999.0,9,    274.2,2,    22.76,2,    14.23,2,     0.01,3,     1.15,2,    4.007,2,    2.020,2, -999.000,9,-999.0000,9,  -999.00,9,   2094.1,2,   2260.1,2,  -999.00,9,-999.0000,-999.000,  7.7962,-999.000
      325023_1,  P14N,    40,  1,     29,     29,2,19930717,0544, 42.4820, 179.0108, 5781,    260.5,   7.5809,  33.9548,2,  33.9523,2,   -999.0,9,    241.2,2,    29.67,2,    17.56,2,     0.01,3,     1.36,2, -999.000,5, -999.000,5, -999.000,9,-999.0000,9,  -999.00,9,   2112.6,2,   2266.3,2,  -999.00,9,-999.0000,-999.000,  7.5557,-999.000
      325023_1,  P14N,    40,  1,     28,     28,2,19930717,0544, 42.4820, 179.0108, 5781,    310.7,   6.6244,  33.9577,2,  33.9542,2,   -999.0,9,    186.0,2,    46.13,2,    24.25,2,     0.01,3,     1.84,2, -999.000,5, -999.000,5, -999.000,9,-999.0000,9,  -999.00,9,   2165.0,2,   -999.0,9,  -999.00,9,-999.0000,-999.000,  6.5964,-999.000
      325023_1,  P14N,    40,  1,     27,     27,2,19930717,0544, 42.4820, 179.0108, 5781,    411.9,   5.4462,  33.9605,2,  33.9585,2,   -999.0,9,    142.1,2,    64.66,2,    30.31,2,     0.01,3,     2.27,2,    2.040,2,    0.921,2,    1.273,2,-999.0000,9,  -999.00,9,   2221.1,2,   2295.3,2,  -999.00,9,-999.0000,-999.000,  5.4126,   0.013
      325023_1,  P14N,    40,  1,     26,     26,2,19930717,0544, 42.4820, 179.0108, 5781,    512.0,   4.6373,  34.0100,2,  34.0060,2,   -999.0,9,    105.7,2,    81.80,2,    34.79,2,     0.01,3,     2.60,2,    1.469,2,    0.631,2, -999.000,9,-999.0000,9,  -999.00,9,   -999.0,9,   -999.0,9,  -999.00,9,-999.0000,-999.000,  4.5983,-999.000
      325023_1,  P14N,    40,  1,     25,     25,2,19930717,0544, 42.4820, 179.0108, 5781,    612.3,   4.2972,  34.1175,2,  34.1140,2,   -999.0,9,     72.4,2,    97.38,2,    37.94,2,     0.00,3,     2.81,2, -999.000,5, -999.000,5, -999.000,9,-999.0000,9,  -999.00,9,   2294.3,2,   2322.3,2,  -999.00,9,-999.0000,-999.000,  4.2516,-999.000
      325023_1,  P14N,    40,  1,     24,     24,2,19930717,0544, 42.4820, 179.0108, 5781,    713.5,   3.9424,  34.2063,2,  34.2033,2,   -999.0,9,     51.4,2,   111.24,2,    40.04,2,     0.00,3,     2.94,2, -999.000,5, -999.000,5,    0.254,2,-999.0000,9,  -999.00,9,   2323.2,2,   2337.2,2,     7.90,4,-999.0000,-999.000,  3.8907,   0.008
      325023_1,  P14N,    40,  1,     23,     23,2,19930717,0544, 42.4820, 179.0108, 5781,    814.5,   3.6173,  34.2719,2,  34.2696,2,   -999.0,9,     40.9,2,   121.82,2,    41.25,2,     0.01,3,     3.03,2, -999.000,5, -999.000,5, -999.000,9,-999.0000,9,  -999.00,9,   2344.5,2,   -999.0,9,  -999.00,9,-999.0000,-999.000,  3.5596,-999.000
      325023_1,  P14N,    40,  1,     22,     22,2,19930717,0544, 42.4820, 179.0108, 5781,    914.0,   3.3450,  34.3178,2,-999.0000,9,   -999.0,9,   -999.0,9,  -999.00,9,  -999.00,9,  -999.00,9,  -999.00,9, -999.000,5, -999.000,5, -999.000,9,-999.0000,9,  -999.00,9,   -999.0,9,   -999.0,9,  -999.00,9,-999.0000,-999.000,  3.2814,-999.000
      325023_1,  P14N,    40,  1,     21,     21,2,19930717,0544, 42.4820, 179.0108, 5781,   1013.9,   3.1567,  34.3537,2,  34.3507,2,   -999.0,9,     26.7,2,   136.78,2,    42.79,2,     0.00,3,     3.12,2, -999.000,5, -999.000,5,    0.141,2,-999.0000,9,  -999.00,9,   2370.9,2,   2381.3,2,  -999.00,9,-999.0000,-999.000,  3.0868,   0.008
      325023_1,  P14N,    40,  1,     20,     20,2,19930717,0544, 42.4820, 179.0108, 5781,   1210.4,   2.7692,  34.4201,2,  34.4183,2,   -999.0,9,     30.5,2,   148.85,2,    42.76,2,     0.00,3,     3.12,2, -999.000,5, -999.000,5,    0.044,2,-999.0000,9,  -999.00,9,   2380.0,2,   2377.4,2,     7.75,4,-999.0000,-999.000,  2.6874,   0.008
      325023_1,  P14N,    40,  1,     19,     19,2,19930717,0544, 42.4820, 179.0108, 5781,   1416.9,   2.4897,  34.4718,2,  34.4700,2,   -999.0,9,     34.3,2,   157.71,2,    42.69,2,     0.00,3,     3.11,2, -999.000,5, -999.000,5, -999.000,9,-999.0000,9,  -999.00,9,   2383.7,2,   2385.0,2,  -999.00,9,-999.0000,-999.000,  2.3945,-999.000
      325023_1,  P14N,    40,  1,     18,     18,2,19930717,0544, 42.4820, 179.0108, 5781,   1619.4,   2.2903,  34.5144,2,  34.5122,2,   -999.0,9,     38.7,2,   164.06,2,    42.65,2,     0.00,3,     3.09,2, -999.000,5, -999.000,5,    0.039,2,-999.0000,9,  -999.00,9,   2386.3,2,   2409.0,2,  -999.00,9,-999.0000,-999.000,  2.1814,   0.008
      325023_1,  P14N,    40,  1,     17,     17,2,19930717,0544, 42.4820, 179.0108, 5781,   1820.1,   2.1142,  34.5512,2,  34.5490,2,   -999.0,9,     48.0,2,   168.01,2,    42.18,2,     0.00,3,     3.05,2, -999.000,5, -999.000,5, -999.000,9,-999.0000,9,  -999.00,9,   2389.0,2,   2403.5,2,  -999.00,9,-999.0000,-999.000,  1.9913,-999.000
      325023_1,  P14N,    40,  1,     16,     16,2,19930717,0544, 42.4820, 179.0108, 5781,   2019.6,   1.9845,  34.5780,2,  34.5759,2,   -999.0,9,     59.4,2,   169.95,2,    41.47,2,     0.00,3,     2.99,2, -999.000,5, -999.000,5,    0.010,2,-999.0000,9,  -999.00,9,   -999.0,9,   -999.0,9,  -999.00,9,-999.0000,-999.000,  1.8469,   0.008
      325023_1,  P14N,    40,  1,     15,     15,2,19930717,0544, 42.4820, 179.0108, 5781,   2216.5,   1.8744,  34.6006,2,  34.5988,2,   -999.0,9,     71.2,2,   170.25,2,    40.77,2,     0.00,3,     2.94,2, -999.000,5, -999.000,5, -999.000,9,-999.0000,9,  -999.00,9,   -999.0,9,   -999.0,9,  -999.00,9,-999.0000,-999.000,  1.7217,-999.000
      325023_1,  P14N,    40,  1,     14,     14,2,19930717,0544, 42.4820, 179.0108, 5781,   2415.2,   1.7883,  34.6167,2,  34.6152,2,   -999.0,9,     82.5,2,   170.35,2,    40.15,2,     0.01,3,     2.90,2, -999.000,5, -999.000,5,    0.001,2,-999.0000,9,  -999.00,9,   -999.0,9,   -999.0,9,  -999.00,9,-999.0000,-999.000,  1.6197,   0.008
      325023_1,  P14N,    40,  1,     13,     13,2,19930717,0544, 42.4820, 179.0108, 5781,   2625.7,   1.7009,  34.6331,2,  34.6327,2,   -999.0,9,     95.0,2,   169.22,2,    39.32,2,     0.01,3,     2.84,2, -999.000,5, -999.000,5, -999.000,9,-999.0000,9,  -999.00,9,   -999.0,9,   -999.0,9,  -999.00,9,-999.0000,-999.000,  1.5150,-999.000
      325023_1,  P14N,    40,  1,     12,     12,2,19930717,0544, 42.4820, 179.0108, 5781,   2833.8,   1.6306,  34.6453,2,  34.6452,2,   -999.0,9,    107.1,2,   166.67,2,    38.45,2,     0.00,3,     2.77,2, -999.000,5, -999.000,5,    0.002,2,-999.0000,9,  -999.00,9,   -999.0,9,   -999.0,9,  -999.00,9,-999.0000,-999.000,  1.4268,   0.008
      325023_1,  P14N,    40,  1,     11,     11,2,19930717,0544, 42.4820, 179.0108, 5781,   3039.4,   1.5754,  34.6551,2,  34.6542,2,   -999.0,9,    117.3,2,   164.54,2,    37.97,2,     0.01,3,     2.73,2, -999.000,5, -999.000,5,    0.000,2,-999.0000,9,  -999.00,9,   -999.0,9,   -999.0,9,  -999.00,9,-999.0000,-999.000,  1.3533,   0.008
      325023_1,  P14N,    40,  1,     10,     10,2,19930717,0544, 42.4820, 179.0108, 5781,   3351.3,   1.5147,  34.6671,2,  34.6652,2,   -999.0,9,    130.3,2,   161.21,2,    37.09,2,     0.01,3,     2.66,2,    0.001,2,   -0.005,2,    0.000,2,-999.0000,9,  -999.00,9,   -999.0,9,   -999.0,9,  -999.00,9,-999.0000,-999.000,  1.2633,   0.008
      325023_1,  P14N,    40,  1,      9,      9,2,19930717,0544, 42.4820, 179.0108, 5781,   3662.0,   1.4830,  34.6753,2,  34.6728,2,   -999.0,9,    139.8,2,   158.29,2,    36.57,2,     0.00,3,     2.61,2,   -0.002,2,    0.009,2,    0.002,2,-999.0000,9,  -999.00,9,   -999.0,9,   -999.0,9,  -999.00,9,-999.0000,-999.000,  1.2006,   0.008
      325023_1,  P14N,    40,  1,      8,      8,2,19930717,0544, 42.4820, 179.0108, 5781,   3971.6,   1.4676,  34.6802,2,  34.6791,2,   -999.0,9,    146.1,2,   156.99,2,    36.19,2,     0.01,3,     2.58,2, -999.000,5, -999.000,5,    0.000,2,-999.0000,9,  -999.00,9,   -999.0,9,   -999.0,9,  -999.00,9,-999.0000,-999.000,  1.1527,   0.008
      325023_1,  P14N,    40,  1,      7,      7,2,19930717,0544, 42.4820, 179.0108, 5781,   4280.9,   1.4751,  34.6834,2,  34.6832,2,   -999.0,9,    149.8,2,   157.09,2,    35.98,2,     0.00,3,     2.56,2,    0.003,2,    0.005,2,    0.002,2,-999.0000,9,  -999.00,9,   -999.0,9,   -999.0,9,  -999.00,9,-999.0000,-999.000,  1.1259,   0.008
      325023_1,  P14N,    40,  1,      6,      6,2,19930717,0544, 42.4820, 179.0108, 5781,   4587.6,   1.4931,  34.6856,2,  34.6855,2,   -999.0,9,    151.6,2,   157.79,2,    35.82,2,     0.00,3,     2.56,2, -999.000,5, -999.000,5, -999.000,9,-999.0000,9,  -999.00,9,   -999.0,9,   -999.0,9,  -999.00,9,-999.0000,-999.000,  1.1082,-999.000
      325023_1,  P14N,    40,  1,      5,      5,2,19930717,0544, 42.4820, 179.0108, 5781,   4894.5,   1.5242,  34.6858,2,  34.6857,2,   -999.0,9,    152.4,2,   159.09,2,    35.83,2,     0.00,3,     2.55,2, -999.000,5, -999.000,5,    0.000,2,-999.0000,9,  -999.00,9,   -999.0,9,   -999.0,9,  -999.00,9,-999.0000,-999.000,  1.1019,   0.008
      325023_1,  P14N,    40,  1,      4,      4,2,19930717,0544, 42.4820, 179.0108, 5781,   5201.7,   1.5602,  34.6871,2,  34.6859,2,   -999.0,9,    152.7,2,   159.39,2,    35.62,2,     0.00,3,     2.54,2, -999.000,5, -999.000,5,    0.001,2,-999.0000,9,  -999.00,9,   -999.0,9,   -999.0,9,  -999.00,9,-999.0000,-999.000,  1.0992,   0.008
      325023_1,  P14N,    40,  1,      3,      3,2,19930717,0544, 42.4820, 179.0108, 5781,   5507.4,   1.5997,  34.6865,2,  34.6859,2,   -999.0,9,    153.0,2,   159.09,2,    35.81,2,     0.00,3,     2.54,2, -999.000,5, -999.000,5,    0.002,2,-999.0000,9,  -999.00,9,   -999.0,9,   -999.0,9,  -999.00,9,-999.0000,-999.000,  1.0986,   0.008
      325023_1,  P14N,    40,  1,      2,      2,2,19930717,0544, 42.4820, 179.0108, 5781,   5819.3,   1.6409,  34.6866,2,  34.6863,2,   -999.0,9,    153.1,2,   158.99,2,    35.74,2,     0.00,3,     2.54,2, -999.000,5, -999.000,5, -999.000,9,-999.0000,9,  -999.00,9,   -999.0,9,   -999.0,9,  -999.00,9,-999.0000,-999.000,  1.0976,-999.000
      325023_1,  P14N,    40,  1,      1,      1,2,19930717,0544, 42.4820, 179.0108, 5781,   5934.5,   1.6570,  34.6869,2,  34.6868,2,   -999.0,9,    153.4,2,   159.09,2,    35.84,2,     0.00,3,     2.53,2,   -0.002,2,    0.003,2,    0.000,2,-999.0000,9,  -999.00,9,   -999.0,9,   -999.0,9,  -999.00,9,-999.0000,-999.000,  1.0978,   0.008