BOTTLE,20131125MIRCJHATS
EXPOCODE,SECT_ID,STNNBR,CASTNO,SAMPNO,BTLNBR,BTLNBR_FLAG_W,DATE,TIME,LATITUDE,LONGITUDE,DEPTH,CTDPRS,CTDTMP,CTDSAL,CTDSAL_FLAG_W,SALNTY,SALNTY_FLAG_W,CTDOXY,CTDOXY_FLAG_W,OXYGEN,OXYGEN_FLAG_W,SILCAT,SILCAT_FLAG_W,NITRAT,NITRAT_FLAG_W,NITRIT,NITRIT_FLAG_W,PHSPHT,PHSPHT_FLAG_W,CFC-11,CFC-11_FLAG_W,CFC-12,CFC-12_FLAG_W,TRITUM,TRITUM_FLAG_W,HELIUM,HELIUM_FLAG_W,DELHE3,DELHE3_FLAG_W,TCARBN,TCARBN_FLAG_W,ALKALI,ALKALI_FLAG_W,PH,PH_FLAG_W,HELIER,DELHER,THETA,TRITER
,,,,,,,,,,,,DBAR,ITS-90,PSS-78,,PSS-78,,UMOL/KG,,UMOL/KG,,UMOL/KG,,UMOL/KG,,UMOL/KG,,UMOL/KG,,PMOL/KG,,PMOL/KG,,TU,,NMOL/KG,,PERCNT,,UMOL/KG,,UMOL/KG,,25_DEG,,NMOL/KG,PERCNT,DEG C,TU
      325023_1,  P14N,   107,  1,     36,     36,2,19930804,0716,  9.0050, 178.9977, 5911,      2.5,  28.4570,  34.3644,2,  34.3690,2,   -999.0,9,    199.5,2,     5.98,2,     0.00,2,     0.00,2,     0.18,2,    1.643,2,    0.905,2, -999.000,9,-999.0000,9,  -999.00,9,   -999.0,9,   -999.0,9,  -999.00,9,-999.0000,-999.000, 28.4564,-999.000
      325023_1,  P14N,   107,  1,     35,     35,2,19930804,0716,  9.0050, 178.9977, 5911,     33.0,  28.4785,  34.3707,2,  34.3742,2,   -999.0,9,    197.4,2,     5.99,2,     0.00,2,     0.00,2,     0.17,2,    1.655,2,    0.919,2, -999.000,9,-999.0000,9,  -999.00,9,   -999.0,9,   -999.0,9,  -999.00,9,-999.0000,-999.000, 28.4707,-999.000
      325023_1,  P14N,   107,  1,     34,     34,2,19930804,0716,  9.0050, 178.9977, 5911,     63.0,  27.8997,  34.5101,2,  34.5140,2,   -999.0,9,    201.1,2,     6.01,2,     0.00,2,     0.00,2,     0.14,2,    1.694,2,    0.931,2, -999.000,9,-999.0000,9,  -999.00,9,   -999.0,9,   -999.0,9,  -999.00,9,-999.0000,-999.000, 27.8849,-999.000
      325023_1,  P14N,   107,  1,     33,     33,2,19930804,0716,  9.0050, 178.9977, 5911,     93.6,  25.0974,  34.5877,2,  34.5798,2,   -999.0,9,    196.4,2,     6.24,2,     0.00,2,     0.00,2,     0.24,2,    1.771,2,    0.965,2, -999.000,9,-999.0000,9,  -999.00,9,   -999.0,9,   -999.0,9,  -999.00,9,-999.0000,-999.000, 25.0771,-999.000
      325023_1,  P14N,   107,  1,     32,     32,2,19930804,0716,  9.0050, 178.9977, 5911,    124.4,  17.4929,  34.6333,2,  34.6277,2,   -999.0,9,    138.0,2,    14.39,2,    10.20,2,     0.65,2,     0.96,2,    1.718,6,    0.866,6, -999.000,9,-999.0000,9,  -999.00,9,   -999.0,9,   -999.0,9,  -999.00,9,-999.0000,-999.000, 17.4721,-999.000
      325023_1,  P14N,   107,  1,     31,     31,2,19930804,0716,  9.0050, 178.9977, 5911,    154.4,  12.7879,  34.5633,2,  34.5602,2,   -999.0,9,     63.9,2,    26.86,2,    25.00,2,     0.02,2,     1.87,2,    0.877,2,    0.426,2, -999.000,9,-999.0000,9,  -999.00,9,   -999.0,9,   -999.0,9,  -999.00,9,-999.0000,-999.000, 12.7670,-999.000
      325023_1,  P14N,   107,  1,     30,     30,2,19930804,0716,  9.0050, 178.9977, 5911,    204.3,  11.2956,  34.6722,2,  34.6710,2,   -999.0,9,     17.0,2,    34.91,2,    32.67,2,     0.00,2,     2.38,2,    0.232,2,    0.115,2, -999.000,9,-999.0000,9,  -999.00,9,   -999.0,9,   -999.0,9,  -999.00,9,-999.0000,-999.000, 11.2701,-999.000
      325023_1,  P14N,   107,  1,     29,     29,2,19930804,0716,  9.0050, 178.9977, 5911,    254.9,  10.4776,  34.6917,2,  34.6902,2,   -999.0,9,     14.7,2,    38.15,2,    34.21,2,     0.00,2,     2.46,2,    0.091,2,    0.041,2, -999.000,9,-999.0000,9,  -999.00,9,   -999.0,9,   -999.0,9,  -999.00,9,-999.0000,-999.000, 10.4472,-999.000
      325023_1,  P14N,   107,  1,     28,     28,2,19930804,0716,  9.0050, 178.9977, 5911,    305.2,   9.9292,  34.6792,2,  34.6788,2,   -999.0,9,     16.9,2,    40.13,2,    34.85,2,     0.00,2,     2.50,2,    0.062,2,    0.047,2, -999.000,9,-999.0000,9,  -999.00,9,   -999.0,9,   -999.0,9,  -999.00,9,-999.0000,-999.000,  9.8939,-999.000
      325023_1,  P14N,   107,  1,     27,     27,2,19930804,0716,  9.0050, 178.9977, 5911,    405.0,   8.9638,  34.6358,2,  34.6356,2,   -999.0,9,     18.5,2,    45.81,2,    36.36,2,     0.00,2,     2.63,2,    0.017,2,    0.019,2, -999.000,9,-999.0000,9,  -999.00,9,   -999.0,9,   -999.0,9,  -999.00,9,-999.0000,-999.000,  8.9196,-999.000
      325023_1,  P14N,   107,  1,     26,     26,2,19930804,0716,  9.0050, 178.9977, 5911,    505.8,   8.0773,  34.5898,2,  34.5885,2,   -999.0,9,     21.7,2,    53.10,2,    37.42,2,     0.00,2,     2.75,2,    0.010,2,    0.014,2, -999.000,9,-999.0000,9,  -999.00,9,   -999.0,9,   -999.0,9,  -999.00,9,-999.0000,-999.000,  8.0251,-999.000
      325023_1,  P14N,   107,  1,     25,     25,2,19930804,0716,  9.0050, 178.9977, 5911,    606.2,   7.0694,  34.5484,2,  34.5474,2,   -999.0,9,     26.3,2,    63.02,2,    39.00,2,     0.00,2,     2.85,2,    0.010,2,    0.003,2, -999.000,9,-999.0000,9,  -999.00,9,   -999.0,9,   -999.0,9,  -999.00,9,-999.0000,-999.000,  7.0111,-999.000
      325023_1,  P14N,   107,  1,     24,     24,2,19930804,0716,  9.0050, 178.9977, 5911,    706.0,   6.1741,  34.5323,2,  34.5314,2,   -999.0,9,     31.1,2,    73.51,2,    40.69,2,     0.00,2,     2.92,2,   -0.001,2,   -0.001,2, -999.000,9,-999.0000,9,  -999.00,9,   -999.0,9,   -999.0,9,  -999.00,9,-999.0000,-999.000,  6.1104,-999.000
      325023_1,  P14N,   107,  1,     23,     23,2,19930804,0716,  9.0050, 178.9977, 5911,    807.6,   5.4112,  34.5388,2,  34.5375,2,   -999.0,9,     43.2,2,    82.12,2,    41.26,2,     0.00,2,     2.92,2,    0.003,2,   -0.003,2, -999.000,9,-999.0000,9,  -999.00,9,   -999.0,9,   -999.0,9,  -999.00,9,-999.0000,-999.000,  5.3425,-999.000
      325023_1,  P14N,   107,  1,     22,     22,2,19930804,0716,  9.0050, 178.9977, 5911,    908.8,   4.8527,  34.5445,2,  34.5438,2,   -999.0,9,     49.6,2,    92.56,2,    41.36,2,     0.00,2,     2.94,2,    0.004,2,   -0.002,2, -999.000,9,-999.0000,9,  -999.00,9,   -999.0,9,   -999.0,9,  -999.00,9,-999.0000,-999.000,  4.7785,-999.000
      325023_1,  P14N,   107,  1,     21,     21,2,19930804,0716,  9.0050, 178.9977, 5911,   1009.0,   4.3665,  34.5553,2,  34.5543,2,   -999.0,9,     60.8,2,   100.30,2,    40.89,2,     0.00,2,     2.90,2,    0.008,3,    0.001,2, -999.000,9,-999.0000,9,  -999.00,9,   -999.0,9,   -999.0,9,  -999.00,9,-999.0000,-999.000,  4.2872,-999.000
      325023_1,  P14N,   107,  1,     20,     20,2,19930804,0716,  9.0050, 178.9977, 5911,   1212.1,   3.6185,  34.5767,2,  34.5751,2,   -999.0,9,     70.5,2,   115.87,2,    40.66,2,     0.00,2,     2.88,2, -999.000,5, -999.000,5, -999.000,9,-999.0000,9,  -999.00,9,   -999.0,9,   -999.0,9,  -999.00,9,-999.0000,-999.000,  3.5283,-999.000
      325023_1,  P14N,   107,  1,     19,     19,2,19930804,0716,  9.0050, 178.9977, 5911,   1414.4,   3.1229,  34.5954,2,  34.5937,2,   -999.0,9,     82.7,2,   124.23,2,    40.01,2,     0.00,2,     2.81,2, -999.000,5, -999.000,5, -999.000,9,-999.0000,9,  -999.00,9,   -999.0,9,   -999.0,9,  -999.00,9,-999.0000,-999.000,  3.0208,-999.000
      325023_1,  P14N,   107,  1,     18,     18,2,19930804,0716,  9.0050, 178.9977, 5911,   1618.4,   2.6730,  34.6124,2,  34.6108,2,   -999.0,9,     92.2,2,   133.43,2,    39.41,2,     0.00,2,     2.76,2, -999.000,5, -999.000,5, -999.000,9,-999.0000,9,  -999.00,9,   -999.0,9,   -999.0,9,  -999.00,9,-999.0000,-999.000,  2.5591,-999.000
      325023_1,  P14N,   107,  1,     17,     17,2,19930804,0716,  9.0050, 178.9977, 5911,   1815.8,   2.4087,  34.6255,2,  34.6239,2,   -999.0,9,     98.0,2,   139.94,2,    39.13,2,     0.00,2,     2.73,2, -999.000,5, -999.000,5, -999.000,9,-999.0000,9,  -999.00,9,   -999.0,9,   -999.0,9,  -999.00,9,-999.0000,-999.000,  2.2818,-999.000
      325023_1,  P14N,   107,  1,     16,     16,2,19930804,0716,  9.0050, 178.9977, 5911,   2018.2,   2.1734,  34.6368,2,  34.6355,2,   -999.0,9,    103.3,2,   145.19,2,    39.00,2,     0.00,2,     2.70,2,   -0.001,2,    0.001,2, -999.000,9,-999.0000,9,  -999.00,9,   -999.0,9,   -999.0,9,  -999.00,9,-999.0000,-999.000,  2.0328,-999.000
      325023_1,  P14N,   107,  1,     15,     15,2,19930804,0716,  9.0050, 178.9977, 5911,   2223.6,   2.0370,  34.6465,2,  34.6447,2,   -999.0,9,    108.4,2,   148.34,2,    38.63,2,     0.00,2,     2.67,2, -999.000,5, -999.000,5, -999.000,9,-999.0000,9,  -999.00,9,   -999.0,9,   -999.0,9,  -999.00,9,-999.0000,-999.000,  1.8808,-999.000
      325023_1,  P14N,   107,  1,     14,     14,2,19930804,0716,  9.0050, 178.9977, 5911,   2426.9,   1.9149,  34.6556,2,  34.6549,2,   -999.0,9,    112.9,2,   151.69,2,    38.31,2,     0.00,2,     2.65,2, -999.000,5, -999.000,5, -999.000,9,-999.0000,9,  -999.00,9,   -999.0,9,   -999.0,9,  -999.00,9,-999.0000,-999.000,  1.7428,-999.000
      325023_1,  P14N,   107,  1,     13,     13,2,19930804,0716,  9.0050, 178.9977, 5911,   2630.0,   1.8334,  34.6615,2,  34.6605,2,   -999.0,9,    116.9,2,   152.72,2,    38.04,2,     0.00,2,     2.62,2, -999.000,5, -999.000,5, -999.000,9,-999.0000,9,  -999.00,9,   -999.0,9,   -999.0,9,  -999.00,9,-999.0000,-999.000,  1.6444,-999.000
      325023_1,  P14N,   107,  1,     12,     12,2,19930804,0716,  9.0050, 178.9977, 5911,   2838.5,   1.7585,  34.6669,2,  34.6658,2,   -999.0,9,    122.0,2,   153.33,2,    37.68,2,     0.00,2,     2.60,2,    0.001,2,    0.007,2, -999.000,9,-999.0000,9,  -999.00,9,   -999.0,9,   -999.0,9,  -999.00,9,-999.0000,-999.000,  1.5515,-999.000
      325023_1,  P14N,   107,  1,     11,     11,2,19930804,0716,  9.0050, 178.9977, 5911,   3043.4,   1.6913,  34.6711,2,  34.6689,2,   -999.0,9,    127.4,2,   153.10,2,    37.31,2,     0.00,2,     2.56,2, -999.000,5, -999.000,5, -999.000,9,-999.0000,9,  -999.00,9,   -999.0,9,   -999.0,9,  -999.00,9,-999.0000,-999.000,  1.4662,-999.000
      325023_1,  P14N,   107,  1,     10,     10,2,19930804,0716,  9.0050, 178.9977, 5911,   3349.4,   1.5835,  34.6771,2,  34.6760,2,   -999.0,9,    137.8,2,   151.19,2,    36.63,2,     0.00,2,     2.51,2, -999.000,5, -999.000,5, -999.000,9,-999.0000,9,  -999.00,9,   -999.0,9,   -999.0,9,  -999.00,9,-999.0000,-999.000,  1.3306,-999.000
      325023_1,  P14N,   107,  1,      9,      9,2,19930804,0716,  9.0050, 178.9977, 5911,   3656.2,   1.4979,  34.6825,2,  34.6815,2,   -999.0,9,    148.2,2,   148.68,2,    35.86,2,     0.00,2,     2.46,2, -999.000,5, -999.000,5, -999.000,9,-999.0000,9,  -999.00,9,   -999.0,9,   -999.0,9,  -999.00,9,-999.0000,-999.000,  1.2157,-999.000
      325023_1,  P14N,   107,  1,      8,      8,2,19930804,0716,  9.0050, 178.9977, 5911,   3972.4,   1.4044,  34.6887,2,  34.6879,2,   -999.0,9,    161.1,2,   144.33,2,    34.99,2,     0.00,2,     2.40,2, -999.000,5, -999.000,5, -999.000,9,-999.0000,9,  -999.00,9,   -999.0,9,   -999.0,9,  -999.00,9,-999.0000,-999.000,  1.0911,-999.000
      325023_1,  P14N,   107,  1,      7,      7,2,19930804,0716,  9.0050, 178.9977, 5911,   4270.8,   1.3346,  34.6941,2,  34.6934,2,   -999.0,9,    172.7,2,   137.18,2,    34.14,2,     0.00,2,     2.34,2, -999.000,5, -999.000,5, -999.000,9,-999.0000,9,  -999.00,9,   -999.0,9,   -999.0,9,  -999.00,9,-999.0000,-999.000,  0.9906,-999.000
      325023_1,  P14N,   107,  1,      6,      6,2,19930804,0716,  9.0050, 178.9977, 5911,   4579.9,   1.2986,  34.6982,2,  34.6979,2,   -999.0,9,    180.9,2,   133.33,2,    33.60,2,     0.00,2,     2.30,2, -999.000,5, -999.000,5, -999.000,9,-999.0000,9,  -999.00,9,   -999.0,9,   -999.0,9,  -999.00,9,-999.0000,-999.000,  0.9207,-999.000
      325023_1,  P14N,   107,  1,      5,      5,2,19930804,0716,  9.0050, 178.9977, 5911,   4885.4,   1.2942,  34.7008,2,  34.7006,2,   -999.0,9,    186.2,2,   129.92,2,    33.20,2,     0.00,2,     2.27,2, -999.000,5, -999.000,5, -999.000,9,-999.0000,9,  -999.00,9,   -999.0,9,   -999.0,9,  -999.00,9,-999.0000,-999.000,  0.8806,-999.000
      325023_1,  P14N,   107,  1,      4,      4,2,19930804,0716,  9.0050, 178.9977, 5911,   5197.6,   1.3105,  34.7024,2,  34.7012,2,   -999.0,9,    189.4,2,   128.54,2,    32.88,2,     0.00,2,     2.25,2, -999.000,5, -999.000,5, -999.000,9,-999.0000,9,  -999.00,9,   -999.0,9,   -999.0,9,  -999.00,9,-999.0000,-999.000,  0.8585,-999.000
      325023_1,  P14N,   107,  1,      3,      3,2,19930804,0716,  9.0050, 178.9977, 5911,   5507.0,   1.3435,  34.7023,2,  34.7014,2,   -999.0,9,    190.3,2,   127.96,2,    32.98,2,     0.00,2,     2.25,2, -999.000,5, -999.000,5, -999.000,9,-999.0000,9,  -999.00,9,   -999.0,9,   -999.0,9,  -999.00,9,-999.0000,-999.000,  0.8517,-999.000
      325023_1,  P14N,   107,  1,      2,      2,2,19930804,0716,  9.0050, 178.9977, 5911,   5817.1,   1.3758,  34.7027,2,  34.7021,2,   -999.0,9,    191.0,2,   127.18,2,    32.80,2,     0.00,2,     2.25,2,   -0.001,2,    0.002,2, -999.000,9,-999.0000,9,  -999.00,9,   -999.0,9,   -999.0,9,  -999.00,9,-999.0000,-999.000,  0.8428,-999.000
      325023_1,  P14N,   107,  1,      1,      1,2,19930804,0716,  9.0050, 178.9977, 5911,   6007.5,   1.4005,  34.7027,2,  34.6599,4,   -999.0,9,    189.1,2,   126.81,2,    32.76,2,     0.00,2,     2.24,2,   -0.002,2,    0.003,2, -999.000,9,-999.0000,9,  -999.00,9,   -999.0,9,   -999.0,9,  -999.00,9,-999.0000,-999.000,  0.8414,-999.000