BOTTLE,20131125MIRCJHATS
EXPOCODE,SECT_ID,STNNBR,CASTNO,SAMPNO,BTLNBR,BTLNBR_FLAG_W,DATE,TIME,LATITUDE,LONGITUDE,DEPTH,CTDPRS,CTDTMP,CTDSAL,CTDSAL_FLAG_W,SALNTY,SALNTY_FLAG_W,CTDOXY,CTDOXY_FLAG_W,OXYGEN,OXYGEN_FLAG_W,SILCAT,SILCAT_FLAG_W,NITRAT,NITRAT_FLAG_W,NITRIT,NITRIT_FLAG_W,PHSPHT,PHSPHT_FLAG_W,CFC-11,CFC-11_FLAG_W,CFC-12,CFC-12_FLAG_W,TRITUM,TRITUM_FLAG_W,HELIUM,HELIUM_FLAG_W,DELHE3,DELHE3_FLAG_W,TCARBN,TCARBN_FLAG_W,ALKALI,ALKALI_FLAG_W,PH,PH_FLAG_W,HELIER,DELHER,THETA,TRITER
,,,,,,,,,,,,DBAR,ITS-90,PSS-78,,PSS-78,,UMOL/KG,,UMOL/KG,,UMOL/KG,,UMOL/KG,,UMOL/KG,,UMOL/KG,,PMOL/KG,,PMOL/KG,,TU,,NMOL/KG,,PERCNT,,UMOL/KG,,UMOL/KG,,25_DEG,,NMOL/KG,PERCNT,DEG C,TU
      325023_1,  P14N,     9,  1,     36,     36,2,19930708,2143, 54.9998,-177.1992, 3777,      2.1,   7.2727,  33.0212,2,  33.0217,2,   -999.0,9,    306.0,2,    15.79,2,    15.04,2,     0.17,2,     1.43,2,    4.803,2,    2.354,2, -999.000,9,-999.0000,9,  -999.00,9,   2061.5,2,   2241.9,2,  -999.00,9,-999.0000,-999.000,  7.2726,-999.000
      325023_1,  P14N,     9,  1,     35,     35,2,19930708,2143, 54.9998,-177.1992, 3777,     36.4,   6.1679,  33.0722,4,  33.1042,2,   -999.0,9,    305.2,2,    29.44,2,    19.44,2,     0.33,2,     1.79,2, -999.000,5, -999.000,5, -999.000,9,-999.0000,9,  -999.00,9,   2092.9,2,   2249.4,2,  -999.00,9,-999.0000,-999.000,  6.1649,-999.000
      325023_1,  P14N,     9,  1,     34,     34,2,19930708,2143, 54.9998,-177.1992, 3777,     66.6,   3.2274,  33.2093,2,  33.2168,2,   -999.0,9,    286.6,2,    56.29,2,    27.80,2,     0.38,2,     2.26,2, -999.000,5, -999.000,5, -999.000,9,-999.0000,9,  -999.00,9,   -999.0,9,   -999.0,9,  -999.00,9,-999.0000,-999.000,  3.2234,-999.000
      325023_1,  P14N,     9,  1,     33,     33,2,19930708,2143, 54.9998,-177.1992, 3777,     97.2,   2.6299,  33.2127,2,  33.2131,2,   -999.0,9,    306.5,2,    58.63,2,    29.09,2,     0.17,2,     2.30,2, -999.000,5, -999.000,5, -999.000,9,-999.0000,9,  -999.00,9,   -999.0,9,   -999.0,9,  -999.00,9,-999.0000,-999.000,  2.6245,-999.000
      325023_1,  P14N,     9,  1,     32,     32,2,19930708,2143, 54.9998,-177.1992, 3777,    127.5,   2.6135,  33.2454,2,  33.2321,2,   -999.0,9,    304.1,2,    59.99,2,    29.35,2,     0.03,2,     2.30,2,    5.627,2,    2.720,2, -999.000,9,-999.0000,9,  -999.00,9,   -999.0,9,   -999.0,9,  -999.00,9,-999.0000,-999.000,  2.6064,-999.000
      325023_1,  P14N,     9,  1,     31,     31,2,19930708,2143, 54.9998,-177.1992, 3777,    157.9,   1.9511,  33.1985,2,  33.1995,2,   -999.0,9,    321.4,2,    56.21,2,    28.17,2,     0.02,2,     2.23,2,    6.018,2,    2.935,2, -999.000,9,-999.0000,9,  -999.00,9,   -999.0,9,   -999.0,9,  -999.00,9,-999.0000,-999.000,  1.9431,-999.000
      325023_1,  P14N,     9,  1,     30,     30,3,19930708,2143, 54.9998,-177.1992, 3777,    208.2,   2.5154,  33.3477,2,  33.9106,4,   -999.0,9,     56.8,4,   103.79,4,    41.59,4,     0.01,4,     3.03,4, -999.000,5, -999.000,5, -999.000,9,-999.0000,9,  -999.00,9,   -999.0,9,   -999.0,9,  -999.00,9,-999.0000,-999.000,  2.5038,-999.000
      325023_1,  P14N,     9,  1,     29,     29,2,19930708,2143, 54.9998,-177.1992, 3777,    258.4,   3.6582,  33.6455,2,  33.6462,2,   -999.0,9,    124.1,2,    85.51,2,    37.94,2,     0.01,2,     2.80,2,    2.658,2,    1.268,2, -999.000,9,-999.0000,9,  -999.00,9,   -999.0,9,   -999.0,9,  -999.00,9,-999.0000,-999.000,  3.6412,-999.000
      325023_1,  P14N,     9,  1,     28,     28,2,19930708,2143, 54.9998,-177.1992, 3777,    309.1,   3.7463,  33.7448,2,  33.7495,2,   -999.0,9,     95.6,2,    92.21,2,    39.30,2,     0.01,2,     2.89,2,    2.119,2,    1.018,2, -999.000,9,-999.0000,9,  -999.00,9,   -999.0,9,   -999.0,9,  -999.00,9,-999.0000,-999.000,  3.7256,-999.000
      325023_1,  P14N,     9,  1,     27,     27,2,19930708,2143, 54.9998,-177.1992, 3777,    358.8,   3.7180,  33.8360,2,  33.8372,2,   -999.0,9,     72.8,2,    97.69,2,    40.76,2,     0.01,2,     2.97,2, -999.000,5, -999.000,5, -999.000,9,-999.0000,9,  -999.00,9,   -999.0,9,   -999.0,9,  -999.00,9,-999.0000,-999.000,  3.6938,-999.000
      325023_1,  P14N,     9,  1,     26,     26,2,19930708,2143, 54.9998,-177.1992, 3777,    407.3,   3.6664,  33.9097,2,  33.9108,2,   -999.0,9,     56.7,2,   103.40,2,    41.62,2,     0.01,2,     3.03,2,    1.345,2,    0.628,2, -999.000,9,-999.0000,9,  -999.00,9,   -999.0,9,   -999.0,9,  -999.00,9,-999.0000,-999.000,  3.6389,-999.000
      325023_1,  P14N,     9,  1,     25,     25,2,19930708,2143, 54.9998,-177.1992, 3777,    459.6,   3.5947,  33.9857,2,  33.9859,2,   -999.0,9,     43.6,2,   109.35,2,    42.34,2,     0.01,2,     3.07,2, -999.000,5, -999.000,5, -999.000,9,-999.0000,9,  -999.00,9,   -999.0,9,   -999.0,9,  -999.00,9,-999.0000,-999.000,  3.5637,-999.000
      325023_1,  P14N,     9,  1,     24,     24,2,19930708,2143, 54.9998,-177.1992, 3777,    511.1,   3.5088,  34.0479,2,  34.0484,2,   -999.0,9,     34.3,2,   115.31,2,    42.88,2,     0.01,2,     3.10,2,    0.783,2,    0.395,2, -999.000,9,-999.0000,9,  -999.00,9,   -999.0,9,   -999.0,9,  -999.00,9,-999.0000,-999.000,  3.4744,-999.000
      325023_1,  P14N,     9,  1,     23,     23,2,19930708,2143, 54.9998,-177.1992, 3777,    610.6,   3.3947,  34.1330,2,  34.1321,2,   -999.0,9,     23.7,2,   122.73,2,    43.28,2,     0.00,2,     3.14,2,    0.475,2,    0.215,2, -999.000,9,-999.0000,9,  -999.00,9,   -999.0,9,   -999.0,9,  -999.00,9,-999.0000,-999.000,  3.3536,-999.000
      325023_1,  P14N,     9,  1,     22,     22,2,19930708,2143, 54.9998,-177.1992, 3777,    711.7,   3.2665,  34.2111,2,  34.2086,2,   -999.0,9,     18.2,2,   130.16,2,    43.58,2,     0.00,2,     3.16,2, -999.000,5, -999.000,5, -999.000,9,-999.0000,9,  -999.00,9,   -999.0,9,   -999.0,9,  -999.00,9,-999.0000,-999.000,  3.2186,-999.000
      325023_1,  P14N,     9,  1,     21,     21,2,19930708,2143, 54.9998,-177.1992, 3777,    812.0,   3.1195,  34.2679,2,  34.2652,2,   -999.0,9,     17.3,2,   137.84,2,    43.70,2,     0.00,2,     3.17,2,    0.172,2,    0.040,4, -999.000,9,-999.0000,9,  -999.00,9,   -999.0,9,   -999.0,9,  -999.00,9,-999.0000,-999.000,  3.0652,-999.000
      325023_1,  P14N,     9,  1,     20,     20,2,19930708,2143, 54.9998,-177.1992, 3777,    914.6,   2.9732,  34.3140,2,  34.3111,2,   -999.0,9,     16.6,2,   144.55,2,    43.68,2,     0.00,2,     3.16,2, -999.000,5, -999.000,5, -999.000,9,-999.0000,9,  -999.00,9,   -999.0,9,   -999.0,9,  -999.00,9,-999.0000,-999.000,  2.9122,-999.000
      325023_1,  P14N,     9,  1,     19,     19,2,19930708,2143, 54.9998,-177.1992, 3777,   1017.4,   2.8461,  34.3502,2,  34.3481,2,   -999.0,9,     16.5,2,   150.53,2,    43.71,2,     0.00,2,     3.16,2,    0.076,2,    0.037,2, -999.000,9,-999.0000,9,  -999.00,9,   -999.0,9,   -999.0,9,  -999.00,9,-999.0000,-999.000,  2.7784,-999.000
      325023_1,  P14N,     9,  1,     18,     18,2,19930708,2143, 54.9998,-177.1992, 3777,   1119.3,   2.7038,  34.3887,2,  34.3877,2,   -999.0,9,     17.8,2,   156.76,2,    43.64,2,     0.00,2,     3.16,2,    0.045,2,    0.017,2, -999.000,9,-999.0000,9,  -999.00,9,   -999.0,9,   -999.0,9,  -999.00,9,-999.0000,-999.000,  2.6296,-999.000
      325023_1,  P14N,     9,  1,     17,     17,2,19930708,2143, 54.9998,-177.1992, 3777,   1220.7,   2.5777,  34.4212,2,  34.4184,2,   -999.0,9,     19.5,2,   162.01,2,    43.39,2,     0.00,2,     3.15,2, -999.000,5, -999.000,5, -999.000,9,-999.0000,9,  -999.00,9,   -999.0,9,   -999.0,9,  -999.00,9,-999.0000,-999.000,  2.4969,-999.000
      325023_1,  P14N,     9,  1,     16,     16,2,19930708,2143, 54.9998,-177.1992, 3777,   1321.8,   2.4783,  34.4459,2,  34.4430,2,   -999.0,9,     21.6,2,   167.02,2,    43.42,2,     0.00,2,     3.15,2,    0.022,2,    0.016,2, -999.000,9,-999.0000,9,  -999.00,9,   -999.0,9,   -999.0,9,  -999.00,9,-999.0000,-999.000,  2.3907,-999.000
      325023_1,  P14N,     9,  1,     15,     15,2,19930708,2143, 54.9998,-177.1992, 3777,   1424.0,   2.3715,  34.4725,2,  34.4687,2,   -999.0,9,     24.5,2,   171.79,2,    43.21,2,     0.00,2,     3.13,2, -999.000,5, -999.000,5, -999.000,9,-999.0000,9,  -999.00,9,   -999.0,9,   -999.0,9,  -999.00,9,-999.0000,-999.000,  2.2771,-999.000
      325023_1,  P14N,     9,  1,     14,     14,2,19930708,2143, 54.9998,-177.1992, 3777,   1523.6,   2.2704,  34.4956,2,  34.4933,2,   -999.0,9,     28.1,2,   177.31,2,    42.82,2,     0.00,2,     3.12,2,    0.015,2,    0.011,2, -999.000,9,-999.0000,9,  -999.00,9,   -999.0,9,   -999.0,9,  -999.00,9,-999.0000,-999.000,  2.1694,-999.000
      325023_1,  P14N,     9,  1,     13,     13,2,19930708,2143, 54.9998,-177.1992, 3777,   1625.7,   2.1663,  34.5194,2,  34.5199,2,   -999.0,9,     33.3,2,   182.85,2,    42.48,2,     0.00,2,     3.10,2, -999.000,5, -999.000,5, -999.000,9,-999.0000,9,  -999.00,9,   -999.0,9,   -999.0,9,  -999.00,9,-999.0000,-999.000,  2.0584,-999.000
      325023_1,  P14N,     9,  1,     12,     12,2,19930708,2143, 54.9998,-177.1992, 3777,   1831.3,   2.0065,  34.5553,2,  34.5550,2,   -999.0,9,     42.5,2,   191.44,2,    41.72,2,     0.00,2,     3.07,2, -999.000,5, -999.000,5, -999.000,9,-999.0000,9,  -999.00,9,   -999.0,9,   -999.0,9,  -999.00,9,-999.0000,-999.000,  1.8842,-999.000
      325023_1,  P14N,     9,  1,     11,     11,2,19930708,2143, 54.9998,-177.1992, 3777,   2034.9,   1.8881,  34.5823,2,  34.5802,2,   -999.0,9,     51.8,2,   199.31,2,    40.97,2,     0.00,2,     3.06,2, -999.000,5, -999.000,5, -999.000,9,-999.0000,9,  -999.00,9,   -999.0,9,   -999.0,9,  -999.00,9,-999.0000,-999.000,  1.7506,-999.000
      325023_1,  P14N,     9,  1,     10,     10,2,19930708,2143, 54.9998,-177.1992, 3777,   2239.7,   1.7964,  34.6033,2,  34.6014,2,   -999.0,9,     60.7,2,   204.92,2,    40.22,2,     0.00,2,     3.02,2,    0.005,2,    0.001,2, -999.000,9,-999.0000,9,  -999.00,9,   -999.0,9,   -999.0,9,  -999.00,9,-999.0000,-999.000,  1.6430,-999.000
      325023_1,  P14N,     9,  1,      9,      9,2,19930708,2143, 54.9998,-177.1992, 3777,   2546.1,   1.7021,  34.6260,2,  34.6243,2,   -999.0,9,     72.4,2,   210.04,2,    39.33,2,     0.00,2,     2.98,2, -999.000,5, -999.000,5, -999.000,9,-999.0000,9,  -999.00,9,   -999.0,9,   -999.0,9,  -999.00,9,-999.0000,-999.000,  1.5234,-999.000
      325023_1,  P14N,     9,  1,      8,      8,2,19930708,2143, 54.9998,-177.1992, 3777,   2849.5,   1.6354,  34.6426,2,  34.6415,2,   -999.0,9,     83.3,2,   214.40,2,    38.54,2,     0.00,2,     2.94,2,    0.008,2,    0.003,2, -999.000,9,-999.0000,9,  -999.00,9,   -999.0,9,   -999.0,9,  -999.00,9,-999.0000,-999.000,  1.4301,-999.000
      325023_1,  P14N,     9,  1,      7,      7,2,19930708,2143, 54.9998,-177.1992, 3777,   3049.3,   1.6090,  34.6508,2,  34.6501,2,   -999.0,9,     88.7,2,   216.18,2,    38.16,2,     0.00,2,     2.92,2, -999.000,5, -999.000,5, -999.000,9,-999.0000,9,  -999.00,9,   -999.0,9,   -999.0,9,  -999.00,9,-999.0000,-999.000,  1.3852,-999.000
      325023_1,  P14N,     9,  1,      6,      6,2,19930708,2143, 54.9998,-177.1992, 3777,   3052.8,   1.6085,  34.6506,2,  34.6508,2,   -999.0,9,     88.8,2,   215.90,2,    38.19,2,     0.00,2,     2.92,2,    0.007,2,    0.001,2, -999.000,9,-999.0000,9,  -999.00,9,   -999.0,9,   -999.0,9,  -999.00,9,-999.0000,-999.000,  1.3844,-999.000
      325023_1,  P14N,     9,  1,      5,      5,2,19930708,2143, 54.9998,-177.1992, 3777,   3256.4,   1.5955,  34.6565,2,  34.6555,2,   -999.0,9,     93.1,2,   216.91,2,    37.90,2,     0.00,2,     2.90,2,    0.006,2,    0.001,2, -999.000,9,-999.0000,9,  -999.00,9,   -999.0,9,   -999.0,9,  -999.00,9,-999.0000,-999.000,  1.3517,-999.000
      325023_1,  P14N,     9,  1,      4,      4,2,19930708,2143, 54.9998,-177.1992, 3777,   3465.5,   1.5920,  34.6606,2,  34.6591,2,   -999.0,9,     96.0,2,   218.95,2,    37.70,2,     0.00,2,     2.89,2,    0.007,2,    0.003,2, -999.000,9,-999.0000,9,  -999.00,9,   -999.0,9,   -999.0,9,  -999.00,9,-999.0000,-999.000,  1.3272,-999.000
      325023_1,  P14N,     9,  1,      3,      3,2,19930708,2143, 54.9998,-177.1992, 3777,   3671.4,   1.5941,  34.6649,2,  34.6634,2,   -999.0,9,     97.6,2,   226.19,2,    37.64,2,     0.00,2,     2.89,2,    0.008,6,    0.002,6, -999.000,9,-999.0000,9,  -999.00,9,   -999.0,9,   -999.0,9,  -999.00,9,-999.0000,-999.000,  1.3079,-999.000
      325023_1,  P14N,     9,  1,      2,      2,2,19930708,2143, 54.9998,-177.1992, 3777,   3819.8,   1.6076,  34.6663,2,  34.6647,2,   -999.0,9,     97.0,2,   233.75,2,    37.62,2,     0.00,2,     2.90,2,    0.020,2,    0.005,2, -999.000,9,-999.0000,9,  -999.00,9,   -999.0,9,   -999.0,9,  -999.00,9,-999.0000,-999.000,  1.3053,-999.000
      325023_1,  P14N,     9,  1,      1,      1,2,19930708,2143, 54.9998,-177.1992, 3777,   3829.9,   1.6088,  34.6662,2,  34.6659,2,   -999.0,9,     97.2,2,   233.45,2,    37.60,2,     0.00,2,     2.89,2,    0.015,2,    0.002,2, -999.000,9,-999.0000,9,  -999.00,9,   -999.0,9,   -999.0,9,  -999.00,9,-999.0000,-999.000,  1.3054,-999.000