BOTTLE,20131125MIRCJHATS
EXPOCODE,SECT_ID,STNNBR,CASTNO,SAMPNO,BTLNBR,BTLNBR_FLAG_W,DATE,TIME,LATITUDE,LONGITUDE,DEPTH,CTDPRS,CTDTMP,CTDSAL,CTDSAL_FLAG_W,SALNTY,SALNTY_FLAG_W,CTDOXY,CTDOXY_FLAG_W,OXYGEN,OXYGEN_FLAG_W,SILCAT,SILCAT_FLAG_W,NITRAT,NITRAT_FLAG_W,NITRIT,NITRIT_FLAG_W,PHSPHT,PHSPHT_FLAG_W,CFC-11,CFC-11_FLAG_W,CFC-12,CFC-12_FLAG_W,TRITUM,TRITUM_FLAG_W,HELIUM,HELIUM_FLAG_W,DELHE3,DELHE3_FLAG_W,TCARBN,TCARBN_FLAG_W,ALKALI,ALKALI_FLAG_W,PH,PH_FLAG_W,HELIER,DELHER,THETA,TRITER
,,,,,,,,,,,,DBAR,ITS-90,PSS-78,,PSS-78,,UMOL/KG,,UMOL/KG,,UMOL/KG,,UMOL/KG,,UMOL/KG,,UMOL/KG,,PMOL/KG,,PMOL/KG,,TU,,NMOL/KG,,PERCNT,,UMOL/KG,,UMOL/KG,,25_DEG,,NMOL/KG,PERCNT,DEG C,TU
      325024_1,  P14N,   156,  1,     36,     36,2,19930822,0202, -3.2447, 179.0047, 4914,      1.6,  30.1216,  34.5053,2,  34.5120,2,   -999.0,9,    195.6,2,     2.16,2,     0.00,2,     0.00,2,     0.20,2, -999.000,5, -999.000,5, -999.000,9,-999.0000,9,  -999.00,9,   -999.0,9,   -999.0,9,  -999.00,9,-999.0000,-999.000, 30.1212,-999.000
      325024_1,  P14N,   156,  1,     35,     35,2,19930822,0202, -3.2447, 179.0047, 4914,     37.0,  30.0021,  34.6443,2,  34.6464,2,   -999.0,9,    195.3,2,     2.11,2,     0.00,2,     0.00,2,     0.20,2, -999.000,5, -999.000,5, -999.000,9,-999.0000,9,  -999.00,9,   -999.0,9,   -999.0,9,  -999.00,9,-999.0000,-999.000, 29.9930,-999.000
      325024_1,  P14N,   156,  1,     34,     34,2,19930822,0202, -3.2447, 179.0047, 4914,     66.5,  30.0040,  34.8513,2,  34.8605,2,   -999.0,9,    198.5,2,     2.06,2,     0.00,2,     0.00,2,     0.21,2, -999.000,5, -999.000,5, -999.000,9,-999.0000,9,  -999.00,9,   -999.0,9,   -999.0,9,  -999.00,9,-999.0000,-999.000, 29.9875,-999.000
      325024_1,  P14N,   156,  1,     33,     33,2,19930822,0202, -3.2447, 179.0047, 4914,     96.0,  29.8222,  34.9716,2,  34.9677,2,   -999.0,9,    197.2,2,     1.82,2,     0.00,2,     0.00,2,     0.22,2, -999.000,5, -999.000,5, -999.000,9,-999.0000,9,  -999.00,9,   -999.0,9,   -999.0,9,  -999.00,9,-999.0000,-999.000, 29.7985,-999.000
      325024_1,  P14N,   156,  1,     32,     32,2,19930822,0202, -3.2447, 179.0047, 4914,    126.5,  28.1614,  35.4185,2,  35.4437,2,   -999.0,9,    165.6,2,     2.36,2,     3.03,2,     2.02,2,     0.61,2, -999.000,5, -999.000,5, -999.000,9,-999.0000,9,  -999.00,9,   -999.0,9,   -999.0,9,  -999.00,9,-999.0000,-999.000, 28.1314,-999.000
      325024_1,  P14N,   156,  1,     31,     31,2,19930822,0202, -3.2447, 179.0047, 4914,    156.1,  25.5541,  35.8523,2,  35.8498,2,   -999.0,9,    142.5,2,     2.31,2,     7.12,2,     0.70,2,     0.80,2, -999.000,5, -999.000,5, -999.000,9,-999.0000,9,  -999.00,9,   -999.0,9,   -999.0,9,  -999.00,9,-999.0000,-999.000, 25.5196,-999.000
      325024_1,  P14N,   156,  1,     30,     30,2,19930822,0202, -3.2447, 179.0047, 4914,    207.5,  15.8955,  35.2852,2,  35.2571,2,   -999.0,9,     93.5,2,    11.24,2,    18.95,2,     0.01,2,     1.53,2, -999.000,5, -999.000,5, -999.000,9,-999.0000,9,  -999.00,9,   -999.0,9,   -999.0,9,  -999.00,9,-999.0000,-999.000, 15.8627,-999.000
      325024_1,  P14N,   156,  1,     29,     29,2,19930822,0202, -3.2447, 179.0047, 4914,    257.1,  12.0347,  34.9199,2,  34.9036,2,   -999.0,9,    112.1,2,    16.66,2,    22.91,2,     0.00,2,     1.71,2, -999.000,5, -999.000,5, -999.000,9,-999.0000,9,  -999.00,9,   -999.0,9,   -999.0,9,  -999.00,9,-999.0000,-999.000, 12.0011,-999.000
      325024_1,  P14N,   156,  1,     28,     28,2,19930822,0202, -3.2447, 179.0047, 4914,    307.7,  10.1776,  34.7532,2,  34.7550,2,   -999.0,9,    110.5,2,    22.27,2,    26.29,2,     0.00,2,     1.90,2, -999.000,5, -999.000,5, -999.000,9,-999.0000,9,  -999.00,9,   -999.0,9,   -999.0,9,  -999.00,9,-999.0000,-999.000, 10.1414,-999.000
      325024_1,  P14N,   156,  1,     27,     27,2,19930822,0202, -3.2447, 179.0047, 4914,    407.6,   9.0383,  34.6741,2,  34.6729,2,   -999.0,9,     83.7,2,    30.22,2,    31.57,2,     0.00,2,     2.22,2, -999.000,5, -999.000,5, -999.000,9,-999.0000,9,  -999.00,9,   -999.0,9,   -999.0,9,  -999.00,9,-999.0000,-999.000,  8.9936,-999.000
      325024_1,  P14N,   156,  1,     26,     26,2,19930822,0202, -3.2447, 179.0047, 4914,    507.7,   7.9439,  34.6195,2,  34.6197,2,   -999.0,9,     65.7,2,    38.76,2,    35.97,2,     0.00,2,     2.51,2, -999.000,5, -999.000,5, -999.000,9,-999.0000,9,  -999.00,9,   -999.0,9,   -999.0,9,  -999.00,9,-999.0000,-999.000,  7.8920,-999.000
      325024_1,  P14N,   156,  1,     25,     25,2,19930822,0202, -3.2447, 179.0047, 4914,    607.1,   6.8712,  34.5658,2,  34.5683,2,   -999.0,9,     81.2,2,    45.15,2,    36.58,2,     0.00,2,     2.56,2, -999.000,5, -999.000,5, -999.000,9,-999.0000,9,  -999.00,9,   -999.0,9,   -999.0,9,  -999.00,9,-999.0000,-999.000,  6.8137,-999.000
      325024_1,  P14N,   156,  1,     24,     24,2,19930822,0202, -3.2447, 179.0047, 4914,    707.1,   6.0919,  34.5501,2,  34.5495,2,   -999.0,9,     75.3,2,    56.62,2,    38.86,2,     0.00,2,     2.72,2, -999.000,5, -999.000,5, -999.000,9,-999.0000,9,  -999.00,9,   -999.0,9,   -999.0,9,  -999.00,9,-999.0000,-999.000,  6.0286,-999.000
      325024_1,  P14N,   156,  1,     23,     23,2,19930822,0202, -3.2447, 179.0047, 4914,    807.6,   5.4590,  34.5395,2,  34.5405,2,   -999.0,9,     87.9,2,    64.98,2,    38.27,2,     0.00,2,     2.70,2, -999.000,5, -999.000,5, -999.000,9,-999.0000,9,  -999.00,9,   -999.0,9,   -999.0,9,  -999.00,9,-999.0000,-999.000,  5.3900,-999.000
      325024_1,  P14N,   156,  1,     22,     22,2,19930822,0202, -3.2447, 179.0047, 4914,    907.2,   4.9476,  34.5430,2,  34.5422,2,   -999.0,9,     87.2,2,    74.13,2,    38.94,2,     0.00,2,     2.77,2, -999.000,5, -999.000,5, -999.000,9,-999.0000,9,  -999.00,9,   -999.0,9,   -999.0,9,  -999.00,9,-999.0000,-999.000,  4.8729,-999.000
      325024_1,  P14N,   156,  1,     21,     21,2,19930822,0202, -3.2447, 179.0047, 4914,   1007.9,   4.5658,  34.5466,2,  34.5469,2,   -999.0,9,     93.2,2,    80.35,2,    38.70,2,     0.00,2,     2.76,2, -999.000,5, -999.000,5, -999.000,9,-999.0000,9,  -999.00,9,   -999.0,9,   -999.0,9,  -999.00,9,-999.0000,-999.000,  4.4851,-999.000
      325024_1,  P14N,   156,  1,     20,     20,2,19930822,0202, -3.2447, 179.0047, 4914,   1208.5,   3.9956,  34.5629,2,  34.5616,2,   -999.0,9,     94.9,2,    93.50,2,    38.92,2,     0.00,2,     2.77,2, -999.000,5, -999.000,5, -999.000,9,-999.0000,9,  -999.00,9,   -999.0,9,   -999.0,9,  -999.00,9,-999.0000,-999.000,  3.9022,-999.000
      325024_1,  P14N,   156,  1,     19,     19,2,19930822,0202, -3.2447, 179.0047, 4914,   1410.0,   3.4429,  34.5794,2,  34.5782,2,   -999.0,9,    105.9,2,   104.14,2,    38.24,2,     0.00,2,     2.72,2, -999.000,5, -999.000,5, -999.000,9,-999.0000,9,  -999.00,9,   -999.0,9,   -999.0,9,  -999.00,9,-999.0000,-999.000,  3.3377,-999.000
      325024_1,  P14N,   156,  1,     18,     18,2,19930822,0202, -3.2447, 179.0047, 4914,   1611.1,   2.9397,  34.5997,2,  34.5984,2,   -999.0,9,    113.5,2,   116.85,2,    37.88,2,     0.00,2,     2.69,2, -999.000,5, -999.000,5, -999.000,9,-999.0000,9,  -999.00,9,   -999.0,9,   -999.0,9,  -999.00,9,-999.0000,-999.000,  2.8232,-999.000
      325024_1,  P14N,   156,  1,     17,     17,2,19930822,0202, -3.2447, 179.0047, 4914,   1811.3,   2.4668,  34.6238,2,  34.6221,2,   -999.0,9,    117.9,2,   125.43,2,    37.74,2,     0.00,2,     2.68,2, -999.000,5, -999.000,5, -999.000,9,-999.0000,9,  -999.00,9,   -999.0,9,   -999.0,9,  -999.00,9,-999.0000,-999.000,  2.3395,-999.000
      325024_1,  P14N,   156,  1,     16,     16,2,19930822,0202, -3.2447, 179.0047, 4914,   2011.5,   2.2151,  34.6390,2,  34.6376,2,   -999.0,9,    119.9,2,   133.25,2,    37.77,2,     0.00,2,     2.66,2, -999.000,5, -999.000,5, -999.000,9,-999.0000,9,  -999.00,9,   -999.0,9,   -999.0,9,  -999.00,9,-999.0000,-999.000,  2.0744,-999.000
      325024_1,  P14N,   156,  1,     15,     15,2,19930822,0202, -3.2447, 179.0047, 4914,   2211.1,   2.0784,  34.6471,2,  34.6453,2,   -999.0,9,    121.0,2,   137.24,2,    37.77,2,     0.00,2,     2.66,2, -999.000,5, -999.000,5, -999.000,9,-999.0000,9,  -999.00,9,   -999.0,9,   -999.0,9,  -999.00,9,-999.0000,-999.000,  1.9225,-999.000
      325024_1,  P14N,   156,  1,     14,     14,2,19930822,0202, -3.2447, 179.0047, 4914,   2410.8,   1.9278,  34.6553,2,  34.6543,2,   -999.0,9,    126.3,2,   140.22,2,    37.49,2,     0.00,2,     2.63,2, -999.000,5, -999.000,5, -999.000,9,-999.0000,9,  -999.00,9,   -999.0,9,   -999.0,9,  -999.00,9,-999.0000,-999.000,  1.7569,-999.000
      325024_1,  P14N,   156,  1,     13,     13,2,19930822,0202, -3.2447, 179.0047, 4914,   2611.5,   1.8197,  34.6614,2,  34.6601,2,   -999.0,9,    129.3,2,   143.61,2,    37.35,2,     0.00,2,     2.62,2, -999.000,5, -999.000,5, -999.000,9,-999.0000,9,  -999.00,9,   -999.0,9,   -999.0,9,  -999.00,9,-999.0000,-999.000,  1.6326,-999.000
      325024_1,  P14N,   156,  1,     12,     12,2,19930822,0202, -3.2447, 179.0047, 4914,   2814.5,   1.7233,  34.6669,2,  34.6666,2,   -999.0,9,    134.6,2,   144.13,2,    36.95,2,     0.00,2,     2.57,2, -999.000,5, -999.000,5, -999.000,9,-999.0000,9,  -999.00,9,   -999.0,9,   -999.0,9,  -999.00,9,-999.0000,-999.000,  1.5193,-999.000
      325024_1,  P14N,   156,  1,     11,     11,2,19930822,0202, -3.2447, 179.0047, 4914,   3017.8,   1.6738,  34.6707,2,  34.6695,2,   -999.0,9,    140.1,2,   143.83,2,    36.59,2,     0.00,2,     2.56,2, -999.000,5, -999.000,5, -999.000,9,-999.0000,9,  -999.00,9,   -999.0,9,   -999.0,9,  -999.00,9,-999.0000,-999.000,  1.4515,-999.000
      325024_1,  P14N,   156,  1,     10,     10,2,19930822,0202, -3.2447, 179.0047, 4914,   3219.7,   1.5811,  34.6764,2,  34.6754,2,   -999.0,9,    144.9,2,   143.53,2,    36.23,2,     0.00,2,     2.52,2, -999.000,5, -999.000,5, -999.000,9,-999.0000,9,  -999.00,9,   -999.0,9,   -999.0,9,  -999.00,9,-999.0000,-999.000,  1.3412,-999.000
      325024_1,  P14N,   156,  1,      9,      9,2,19930822,0202, -3.2447, 179.0047, 4914,   3422.0,   1.5106,  34.6822,2,  34.6809,2,   -999.0,9,    153.0,2,   141.79,2,    35.65,2,     0.00,2,     2.48,2, -999.000,5, -999.000,5, -999.000,9,-999.0000,9,  -999.00,9,   -999.0,9,   -999.0,9,  -999.00,9,-999.0000,-999.000,  1.2521,-999.000
      325024_1,  P14N,   156,  1,      8,      8,2,19930822,0202, -3.2447, 179.0047, 4914,   3626.0,   1.4770,  34.6852,2,  34.6840,2,   -999.0,9,    156.3,2,   141.28,2,    35.38,2,     0.00,2,     2.47,2, -999.000,5, -999.000,5, -999.000,9,-999.0000,9,  -999.00,9,   -999.0,9,   -999.0,9,  -999.00,9,-999.0000,-999.000,  1.1985,-999.000
      325024_1,  P14N,   156,  1,      7,      7,2,19930822,0202, -3.2447, 179.0047, 4914,   3828.6,   1.4325,  34.6893,2,  34.6883,2,   -999.0,9,    162.8,2,   140.37,2,    35.07,2,     0.00,2,     2.43,2, -999.000,5, -999.000,5, -999.000,9,-999.0000,9,  -999.00,9,   -999.0,9,   -999.0,9,  -999.00,9,-999.0000,-999.000,  1.1339,-999.000
      325024_1,  P14N,   156,  1,      6,      6,2,19930822,0202, -3.2447, 179.0047, 4914,   4032.0,   1.4022,  34.6917,2,  34.6908,2,   -999.0,9,    166.8,2,   138.84,2,    34.76,2,     0.00,2,     2.41,2, -999.000,5, -999.000,5, -999.000,9,-999.0000,9,  -999.00,9,   -999.0,9,   -999.0,9,  -999.00,9,-999.0000,-999.000,  1.0825,-999.000
      325024_1,  P14N,   156,  1,      5,      5,2,19930822,0202, -3.2447, 179.0047, 4914,   4235.9,   1.3517,  34.6951,2,  34.6943,2,   -999.0,9,    174.5,2,   135.08,2,    34.23,2,     0.00,2,     2.38,2, -999.000,5, -999.000,5, -999.000,9,-999.0000,9,  -999.00,9,   -999.0,9,   -999.0,9,  -999.00,9,-999.0000,-999.000,  1.0111,-999.000
      325024_1,  P14N,   156,  1,      4,      4,2,19930822,0202, -3.2447, 179.0047, 4914,   4438.9,   1.2970,  34.6994,2,  34.6986,2,   -999.0,9,    182.6,2,   131.13,2,    33.57,2,     0.00,2,     2.33,2, -999.000,5, -999.000,5, -999.000,9,-999.0000,9,  -999.00,9,   -999.0,9,   -999.0,9,  -999.00,9,-999.0000,-999.000,  0.9353,-999.000
      325024_1,  P14N,   156,  1,      3,      3,2,19930822,0202, -3.2447, 179.0047, 4914,   4643.1,   1.2627,  34.7014,2,  34.7000,2,   -999.0,9,    188.4,2,   129.01,2,    33.17,2,     0.00,2,     2.30,2, -999.000,5, -999.000,5, -999.000,9,-999.0000,9,  -999.00,9,   -999.0,9,   -999.0,9,  -999.00,9,-999.0000,-999.000,  0.8785,-999.000
      325024_1,  P14N,   156,  1,      2,      2,2,19930822,0202, -3.2447, 179.0047, 4914,   4847.9,   1.2517,  34.7030,2,  34.7025,2,   -999.0,9,    192.2,2,   126.70,2,    32.82,2,     0.00,2,     2.27,2, -999.000,5, -999.000,5, -999.000,9,-999.0000,9,  -999.00,9,   -999.0,9,   -999.0,9,  -999.00,9,-999.0000,-999.000,  0.8439,-999.000
      325024_1,  P14N,   156,  1,      1,      1,2,19930822,0202, -3.2447, 179.0047, 4914,   5165.6,   1.2577,  34.7047,2,  34.7037,2,   -999.0,9,    194.7,2,   124.80,2,    32.60,2,     0.00,2,     2.25,2, -999.000,5, -999.000,5, -999.000,9,-999.0000,9,  -999.00,9,   -999.0,9,   -999.0,9,  -999.00,9,-999.0000,-999.000,  0.8114,-999.000