BOTTLE,20131125MIRCJHATS
EXPOCODE,SECT_ID,STNNBR,CASTNO,SAMPNO,BTLNBR,BTLNBR_FLAG_W,DATE,TIME,LATITUDE,LONGITUDE,DEPTH,CTDPRS,CTDTMP,CTDSAL,CTDSAL_FLAG_W,SALNTY,SALNTY_FLAG_W,CTDOXY,CTDOXY_FLAG_W,OXYGEN,OXYGEN_FLAG_W,SILCAT,SILCAT_FLAG_W,NITRAT,NITRAT_FLAG_W,NITRIT,NITRIT_FLAG_W,PHSPHT,PHSPHT_FLAG_W,CFC-11,CFC-11_FLAG_W,CFC-12,CFC-12_FLAG_W,TRITUM,TRITUM_FLAG_W,HELIUM,HELIUM_FLAG_W,DELHE3,DELHE3_FLAG_W,TCARBN,TCARBN_FLAG_W,ALKALI,ALKALI_FLAG_W,PH,PH_FLAG_W,HELIER,DELHER,THETA,TRITER
,,,,,,,,,,,,DBAR,ITS-90,PSS-78,,PSS-78,,UMOL/KG,,UMOL/KG,,UMOL/KG,,UMOL/KG,,UMOL/KG,,UMOL/KG,,PMOL/KG,,PMOL/KG,,TU,,NMOL/KG,,PERCNT,,UMOL/KG,,UMOL/KG,,25_DEG,,NMOL/KG,PERCNT,DEG C,TU
      325023_1,  P14N,    96,  1,     36,     36,2,19930801,0316, 14.5035, 178.9922, 5481,      2.4,  27.7358,  34.7172,2,  34.7211,2,   -999.0,9,    201.7,2,     2.86,2,     0.00,2,     0.00,3,     0.12,2, -999.000,5, -999.000,5, -999.000,9,-999.0000,9,  -999.00,9,   -999.0,9,   -999.0,9,  -999.00,9,-999.0000,-999.000, 27.7352,-999.000
      325023_1,  P14N,    96,  1,     35,     35,2,19930801,0316, 14.5035, 178.9922, 5481,     40.0,  27.5581,  34.7165,2,  34.7194,2,   -999.0,9,    201.5,2,     2.57,2,     0.00,2,     0.00,3,     0.10,2, -999.000,5, -999.000,5, -999.000,9,-999.0000,9,  -999.00,9,   -999.0,9,   -999.0,9,  -999.00,9,-999.0000,-999.000, 27.5488,-999.000
      325023_1,  P14N,    96,  1,     34,     34,2,19930801,0316, 14.5035, 178.9922, 5481,     70.3,  25.7456,  34.7343,2,  34.7211,2,   -999.0,9,    215.1,2,     2.50,2,     0.00,2,     0.00,3,     0.07,2, -999.000,5, -999.000,5, -999.000,9,-999.0000,9,  -999.00,9,   -999.0,9,   -999.0,9,  -999.00,9,-999.0000,-999.000, 25.7300,-999.000
      325023_1,  P14N,    96,  1,     33,     33,2,19930801,0316, 14.5035, 178.9922, 5481,    100.2,  24.9003,  34.7585,2,  34.7608,2,   -999.0,9,    211.2,2,     2.22,2,     0.00,2,     0.00,3,     0.09,2, -999.000,5, -999.000,5, -999.000,9,-999.0000,9,  -999.00,9,   -999.0,9,   -999.0,9,  -999.00,9,-999.0000,-999.000, 24.8787,-999.000
      325023_1,  P14N,    96,  1,     32,     32,2,19930801,0316, 14.5035, 178.9922, 5481,    130.0,  24.2409,  34.8473,2,  34.8450,2,   -999.0,9,    205.2,2,     2.15,2,     0.00,2,     0.02,3,     0.09,2, -999.000,5, -999.000,5, -999.000,9,-999.0000,9,  -999.00,9,   -999.0,9,   -999.0,9,  -999.00,9,-999.0000,-999.000, 24.2134,-999.000
      325023_1,  P14N,    96,  1,     31,     31,2,19930801,0316, 14.5035, 178.9922, 5481,    159.6,  23.3557,  34.9724,2,  34.9709,2,   -999.0,9,    200.6,2,     2.08,2,     0.14,2,     0.19,3,     0.11,2, -999.000,5, -999.000,5, -999.000,9,-999.0000,9,  -999.00,9,   -999.0,9,   -999.0,9,  -999.00,9,-999.0000,-999.000, 23.3228,-999.000
      325023_1,  P14N,    96,  1,     30,     30,2,19930801,0316, 14.5035, 178.9922, 5481,    209.4,  20.4014,  34.9769,2,  34.9718,2,   -999.0,9,    183.1,2,     3.07,2,     2.45,2,     0.02,3,     0.32,2, -999.000,5, -999.000,5, -999.000,9,-999.0000,9,  -999.00,9,   -999.0,9,   -999.0,9,  -999.00,9,-999.0000,-999.000, 20.3621,-999.000
      325023_1,  P14N,    96,  1,     29,     29,2,19930801,0316, 14.5035, 178.9922, 5481,    260.2,  15.6298,  34.6091,2,  34.6077,2,   -999.0,9,    157.7,2,     8.75,2,    10.20,2,     0.01,3,     0.84,2,    2.225,2,    1.034,2, -999.000,9,-999.0000,9,  -999.00,9,   -999.0,9,   -999.0,9,  -999.00,9,-999.0000,-999.000, 15.5893,-999.000
      325023_1,  P14N,    96,  1,     28,     28,2,19930801,0316, 14.5035, 178.9922, 5481,    311.2,  11.9291,  34.4844,2,  34.4723,2,   -999.0,9,     62.7,2,    25.30,2,    25.30,2,     0.01,3,     2.00,2,    0.965,2,    0.453,2, -999.000,9,-999.0000,9,  -999.00,9,   -999.0,9,   -999.0,9,  -999.00,9,-999.0000,-999.000, 11.8887,-999.000
      325023_1,  P14N,    96,  1,     27,     27,2,19930801,0316, 14.5035, 178.9922, 5481,    412.4,   9.3790,  34.4789,2,  34.4765,2,   -999.0,9,     35.7,2,    40.34,2,    32.24,2,     0.01,3,     2.45,2,    0.241,2,    0.105,2, -999.000,9,-999.0000,9,  -999.00,9,   -999.0,9,   -999.0,9,  -999.00,9,-999.0000,-999.000,  9.3328,-999.000
      325023_1,  P14N,    96,  1,     26,     26,2,19930801,0316, 14.5035, 178.9922, 5481,    513.4,   8.0351,  34.5159,2,  34.5160,2,   -999.0,9,     45.5,2,    49.43,2,    35.31,2,     0.01,3,     2.53,2,    0.052,2,    0.019,2, -999.000,9,-999.0000,9,  -999.00,9,   -999.0,9,   -999.0,9,  -999.00,9,-999.0000,-999.000,  7.9823,-999.000
      325023_1,  P14N,    96,  1,     25,     25,2,19930801,0316, 14.5035, 178.9922, 5481,    612.8,   6.9423,  34.4839,2,  34.4833,2,   -999.0,9,     32.0,2,    62.58,2,    38.16,2,     0.01,3,     2.78,2,    0.013,3,    0.005,2, -999.000,9,-999.0000,9,  -999.00,9,   -999.0,9,   -999.0,9,  -999.00,9,-999.0000,-999.000,  6.8839,-999.000
      325023_1,  P14N,    96,  1,     24,     24,2,19930801,0316, 14.5035, 178.9922, 5481,    712.6,   6.3511,  34.5002,2,  34.4988,2,   -999.0,9,     40.3,2,    69.33,2,    39.12,2,     0.01,3,     2.81,2, -999.000,5, -999.000,5, -999.000,9,-999.0000,9,  -999.00,9,   -999.0,9,   -999.0,9,  -999.00,9,-999.0000,-999.000,  6.2859,-999.000
      325023_1,  P14N,    96,  1,     23,     23,2,19930801,0316, 14.5035, 178.9922, 5481,    814.0,   5.6752,  34.5051,2,  34.5050,2,   -999.0,9,     39.6,2,    79.94,2,    40.45,2,     0.01,3,     2.91,2, -999.000,5, -999.000,5, -999.000,9,-999.0000,9,  -999.00,9,   -999.0,9,   -999.0,9,  -999.00,9,-999.0000,-999.000,  5.6043,-999.000
      325023_1,  P14N,    96,  1,     22,     22,2,19930801,0316, 14.5035, 178.9922, 5481,    914.3,   5.1675,  34.5146,2,  34.5142,2,   -999.0,9,     39.1,2,    88.43,2,    41.29,2,     0.01,3,     2.97,2, -999.000,5, -999.000,5, -999.000,9,-999.0000,9,  -999.00,9,   -999.0,9,   -999.0,9,  -999.00,9,-999.0000,-999.000,  5.0907,-999.000
      325023_1,  P14N,    96,  1,     21,     21,2,19930801,0316, 14.5035, 178.9922, 5481,   1011.6,   4.7708,  34.5276,2,  34.5266,2,   -999.0,9,     43.6,2,    95.22,2,    41.80,2,     0.01,3,     2.97,2, -999.000,5, -999.000,5, -999.000,9,-999.0000,9,  -999.00,9,   -999.0,9,   -999.0,9,  -999.00,9,-999.0000,-999.000,  4.6882,-999.000
      325023_1,  P14N,    96,  1,     20,     20,2,19930801,0316, 14.5035, 178.9922, 5481,   1194.2,   4.0510,  34.5557,2,  34.5554,2,   -999.0,9,     62.4,2,   108.07,2,    41.00,2,     0.01,3,     2.90,2, -999.000,5, -999.000,5, -999.000,9,-999.0000,9,  -999.00,9,   -999.0,9,   -999.0,9,  -999.00,9,-999.0000,-999.000,  3.9584,-999.000
      325023_1,  P14N,    96,  1,     19,     19,2,19930801,0316, 14.5035, 178.9922, 5481,   1405.6,   3.3802,  34.5755,2,  34.5752,2,   -999.0,9,     70.8,2,   123.18,2,    40.71,2,     0.01,3,     2.88,2, -999.000,5, -999.000,5, -999.000,9,-999.0000,9,  -999.00,9,   -999.0,9,   -999.0,9,  -999.00,9,-999.0000,-999.000,  3.2760,-999.000
      325023_1,  P14N,    96,  1,     18,     18,2,19930801,0316, 14.5035, 178.9922, 5481,   1616.4,   2.8991,  34.5939,2,  34.5938,2,   -999.0,9,     80.2,2,   133.58,2,    40.01,2,     0.01,3,     2.83,2, -999.000,5, -999.000,5, -999.000,9,-999.0000,9,  -999.00,9,   -999.0,9,   -999.0,9,  -999.00,9,-999.0000,-999.000,  2.7827,-999.000
      325023_1,  P14N,    96,  1,     17,     17,2,19930801,0316, 14.5035, 178.9922, 5481,   1825.3,   2.5389,  34.6102,2,  34.6103,2,   -999.0,9,     89.1,2,   140.96,2,    39.83,2,     0.01,3,     2.80,2, -999.000,5, -999.000,5, -999.000,9,-999.0000,9,  -999.00,9,   -999.0,9,   -999.0,9,  -999.00,9,-999.0000,-999.000,  2.4095,-999.000
      325023_1,  P14N,    96,  1,     16,     16,2,19930801,0316, 14.5035, 178.9922, 5481,   2028.8,   2.2350,  34.6275,2,  34.6275,2,   -999.0,9,     99.1,2,   146.83,2,    39.22,2,     0.01,3,     2.74,2, -999.000,5, -999.000,5, -999.000,9,-999.0000,9,  -999.00,9,   -999.0,9,   -999.0,9,  -999.00,9,-999.0000,-999.000,  2.0925,-999.000
      325023_1,  P14N,    96,  1,     15,     15,2,19930801,0316, 14.5035, 178.9922, 5481,   2228.5,   2.0613,  34.6392,2,  34.6389,2,   -999.0,9,    106.0,2,   150.27,2,    38.80,2,     0.01,3,     2.70,2, -999.000,5, -999.000,5, -999.000,9,-999.0000,9,  -999.00,9,   -999.0,9,   -999.0,9,  -999.00,9,-999.0000,-999.000,  1.9042,-999.000
      325023_1,  P14N,    96,  1,     14,     14,2,19930801,0316, 14.5035, 178.9922, 5481,   2434.4,   1.9322,  34.6479,2,  34.6485,2,   -999.0,9,    119.8,4,   153.28,2,    38.43,2,     0.01,3,     2.66,2, -999.000,5, -999.000,5, -999.000,9,-999.0000,9,  -999.00,9,   -999.0,9,   -999.0,9,  -999.00,9,-999.0000,-999.000,  1.7591,-999.000
      325023_1,  P14N,    96,  1,     13,     13,2,19930801,0316, 14.5035, 178.9922, 5481,   2639.0,   1.8320,  34.6546,2,  34.6552,2,   -999.0,9,    117.0,2,   154.96,2,    38.20,2,     0.01,3,     2.63,2, -999.000,5, -999.000,5, -999.000,9,-999.0000,9,  -999.00,9,   -999.0,9,   -999.0,9,  -999.00,9,-999.0000,-999.000,  1.6422,-999.000
      325023_1,  P14N,    96,  1,     12,     12,2,19930801,0316, 14.5035, 178.9922, 5481,   2842.9,   1.7461,  34.6607,2,  34.6616,2,   -999.0,9,    121.7,2,   156.19,2,    37.83,2,     0.00,3,     2.60,2, -999.000,5, -999.000,5, -999.000,9,-999.0000,9,  -999.00,9,   -999.0,9,   -999.0,9,  -999.00,9,-999.0000,-999.000,  1.5390,-999.000
      325023_1,  P14N,    96,  1,     11,     11,2,19930801,0316, 14.5035, 178.9922, 5481,   3046.4,   1.6605,  34.6655,2,  34.6651,2,   -999.0,9,    127.2,2,   157.42,2,    37.47,2,     0.00,3,     2.57,2, -999.000,5, -999.000,5, -999.000,9,-999.0000,9,  -999.00,9,   -999.0,9,   -999.0,9,  -999.00,9,-999.0000,-999.000,  1.4357,-999.000
      325023_1,  P14N,    96,  1,     10,     10,2,19930801,0316, 14.5035, 178.9922, 5481,   3353.1,   1.5787,  34.6727,2,  34.6722,2,   -999.0,9,    135.1,2,   157.09,2,    36.96,2,     0.00,3,     2.53,2, -999.000,5, -999.000,5, -999.000,9,-999.0000,9,  -999.00,9,   -999.0,9,   -999.0,9,  -999.00,9,-999.0000,-999.000,  1.3256,-999.000
      325023_1,  P14N,    96,  1,      9,      9,2,19930801,0316, 14.5035, 178.9922, 5481,   3663.9,   1.5167,  34.6777,2,  34.6779,2,   -999.0,9,    142.6,2,   156.08,2,    36.42,2,     0.00,3,     2.49,2, -999.000,5, -999.000,5, -999.000,9,-999.0000,9,  -999.00,9,   -999.0,9,   -999.0,9,  -999.00,9,-999.0000,-999.000,  1.2332,-999.000
      325023_1,  P14N,    96,  1,      8,      8,2,19930801,0316, 14.5035, 178.9922, 5481,   3969.5,   1.4749,  34.6827,2,  34.6828,2,   -999.0,9,    150.1,2,   153.30,2,    35.92,2,     0.00,3,     2.45,2, -999.000,5, -999.000,5, -999.000,9,-999.0000,9,  -999.00,9,   -999.0,9,   -999.0,9,  -999.00,9,-999.0000,-999.000,  1.1600,-999.000
      325023_1,  P14N,    96,  1,      7,      7,2,19930801,0316, 14.5035, 178.9922, 5481,   4274.2,   1.4373,  34.6876,2,  34.6871,2,   -999.0,9,    158.9,2,   148.74,2,    35.29,2,     0.00,3,     2.40,2, -999.000,5, -999.000,5, -999.000,9,-999.0000,9,  -999.00,9,   -999.0,9,   -999.0,9,  -999.00,9,-999.0000,-999.000,  1.0899,-999.000
      325023_1,  P14N,    96,  1,      6,      6,2,19930801,0316, 14.5035, 178.9922, 5481,   4577.7,   1.3908,  34.6930,2,  34.6935,2,   -999.0,9,    170.3,2,   141.56,2,    34.39,2,     0.00,3,     2.35,2, -999.000,5, -999.000,5, -999.000,9,-999.0000,9,  -999.00,9,   -999.0,9,   -999.0,9,  -999.00,9,-999.0000,-999.000,  1.0102,-999.000
      325023_1,  P14N,    96,  1,      5,      5,2,19930801,0316, 14.5035, 178.9922, 5481,   4889.1,   1.3448,  34.6986,2,  34.6992,2,   -999.0,9,    181.7,2,   134.42,2,    33.55,2,     0.00,3,     2.29,2, -999.000,5, -999.000,5, -999.000,9,-999.0000,9,  -999.00,9,   -999.0,9,   -999.0,9,  -999.00,9,-999.0000,-999.000,  0.9291,-999.000
      325023_1,  P14N,    96,  1,      4,      4,2,19930801,0316, 14.5035, 178.9922, 5481,   5193.5,   1.3432,  34.7010,2,  34.7010,2,   -999.0,9,    186.6,2,   131.47,2,    33.19,2,     0.00,3,     2.26,2, -999.000,5, -999.000,5, -999.000,9,-999.0000,9,  -999.00,9,   -999.0,9,   -999.0,9,  -999.00,9,-999.0000,-999.000,  0.8906,-999.000
      325023_1,  P14N,    96,  1,      3,      3,2,19930801,0316, 14.5035, 178.9922, 5481,   5508.8,   1.3752,  34.7014,2,  34.7018,2,   -999.0,9,    187.7,2,   130.94,2,    33.05,2,     0.00,3,     2.26,2, -999.000,5, -999.000,5, -999.000,9,-999.0000,9,  -999.00,9,   -999.0,9,   -999.0,9,  -999.00,9,-999.0000,-999.000,  0.8820,-999.000
      325023_1,  P14N,    96,  1,      2,      2,2,19930801,0316, 14.5035, 178.9922, 5481,   5575.2,   1.3802,  34.7015,2,  34.7021,2,   -999.0,9,    188.1,2,   130.40,2,    33.05,2,     0.00,3,     2.26,2, -999.000,5, -999.000,5, -999.000,9,-999.0000,9,  -999.00,9,   -999.0,9,   -999.0,9,  -999.00,9,-999.0000,-999.000,  0.8783,-999.000
      325023_1,  P14N,    96,  1,      1,      1,2,19930801,0316, 14.5035, 178.9922, 5481,   5575.8,   1.3803,  34.7015,2,  34.7019,2,   -999.0,9,    186.2,2,   130.29,2,    33.05,2,     0.00,3,     2.26,2, -999.000,5, -999.000,5, -999.000,9,-999.0000,9,  -999.00,9,   -999.0,9,   -999.0,9,  -999.00,9,-999.0000,-999.000,  0.8783,-999.000