BOTTLE,20131125MIRCJHATS
EXPOCODE,SECT_ID,STNNBR,CASTNO,SAMPNO,BTLNBR,BTLNBR_FLAG_W,DATE,TIME,LATITUDE,LONGITUDE,DEPTH,CTDPRS,CTDTMP,CTDSAL,CTDSAL_FLAG_W,SALNTY,SALNTY_FLAG_W,CTDOXY,CTDOXY_FLAG_W,OXYGEN,OXYGEN_FLAG_W,SILCAT,SILCAT_FLAG_W,NITRAT,NITRAT_FLAG_W,NITRIT,NITRIT_FLAG_W,PHSPHT,PHSPHT_FLAG_W,CFC-11,CFC-11_FLAG_W,CFC-12,CFC-12_FLAG_W,TRITUM,TRITUM_FLAG_W,HELIUM,HELIUM_FLAG_W,DELHE3,DELHE3_FLAG_W,TCARBN,TCARBN_FLAG_W,ALKALI,ALKALI_FLAG_W,PH,PH_FLAG_W,HELIER,DELHER,THETA,TRITER
,,,,,,,,,,,,DBAR,ITS-90,PSS-78,,PSS-78,,UMOL/KG,,UMOL/KG,,UMOL/KG,,UMOL/KG,,UMOL/KG,,UMOL/KG,,PMOL/KG,,PMOL/KG,,TU,,NMOL/KG,,PERCNT,,UMOL/KG,,UMOL/KG,,25_DEG,,NMOL/KG,PERCNT,DEG C,TU
      325023_1,  P14N,   109,  1,     36,     36,2,19930804,1720,  8.4963, 178.9923, 6091,      2.7,  28.5161,  34.3864,2,  34.3903,2,   -999.0,9,    197.1,2,     1.75,2,     0.08,2,     0.00,2,     0.19,2,    1.653,2,    0.924,2, -999.000,9,-999.0000,9,  -999.00,9,   1911.6,2,   2259.7,2,     8.14,2,-999.0000,-999.000, 28.5155,-999.000
      325023_1,  P14N,   109,  1,     35,     35,2,19930804,1720,  8.4963, 178.9923, 6091,     38.5,  28.5245,  34.3872,2,  34.3903,2,   -999.0,9,    197.1,2,     1.55,2,     0.08,2,     0.00,2,     0.19,2, -999.000,5, -999.000,5, -999.000,9,-999.0000,9,  -999.00,9,   1915.5,2,   2258.2,2,     8.13,2,-999.0000,-999.000, 28.5154,-999.000
      325023_1,  P14N,   109,  1,     34,     34,2,19930804,1720,  8.4963, 178.9923, 6091,     68.3,  27.8148,  34.5391,2,  34.5351,2,   -999.0,9,    201.2,2,     1.55,2,     0.03,2,     0.00,2,     0.18,2,    1.720,2,    0.951,2, -999.000,9,-999.0000,9,  -999.00,9,   2000.6,3,   2268.8,2,     8.13,2,-999.0000,-999.000, 27.7988,-999.000
      325023_1,  P14N,   109,  1,     33,     33,2,19930804,1720,  8.4963, 178.9923, 6091,     98.7,  23.3051,  34.6365,2,  34.6310,2,   -999.0,9,    180.8,2,     3.32,2,     1.60,2,     0.06,2,     0.43,2, -999.000,5, -999.000,5, -999.000,9,-999.0000,9,  -999.00,9,   2117.7,3,   2283.0,2,     8.02,2,-999.0000,-999.000, 23.2848,-999.000
      325023_1,  P14N,   109,  1,     32,     32,2,19930804,1720,  8.4963, 178.9923, 6091,    129.3,  16.4973,  34.5892,2,  34.5882,2,   -999.0,9,    118.4,2,    11.84,2,    13.78,2,     0.65,2,     1.21,2,    1.589,2,    0.828,2, -999.000,9,-999.0000,9,  -999.00,9,   2199.7,2,   2284.0,2,  -999.00,9,-999.0000,-999.000, 16.4765,-999.000
      325023_1,  P14N,   109,  1,     31,     31,2,19930804,1720,  8.4963, 178.9923, 6091,    159.2,  12.6585,  34.5735,2,  34.5720,2,   -999.0,9,     49.2,2,    24.11,2,    27.08,2,     0.01,2,     2.04,2,    0.763,2,    0.367,2, -999.000,9,-999.0000,9,  -999.00,9,   2243.5,2,   2286.4,2,  -999.00,9,-999.0000,-999.000, 12.6372,-999.000
      325023_1,  P14N,   109,  1,     30,     30,2,19930804,1720,  8.4963, 178.9923, 6091,    207.7,  11.2395,  34.6783,2,  34.6779,2,   -999.0,9,     18.1,2,    31.02,2,    32.84,2,     0.00,2,     2.39,2,    0.219,2,    0.128,2, -999.000,9,-999.0000,9,  -999.00,9,   2255.2,2,   2296.9,2,  -999.00,9,-999.0000,-999.000, 11.2137,-999.000
      325023_1,  P14N,   109,  1,     29,     29,2,19930804,1720,  8.4963, 178.9923, 6091,    258.6,  10.4109,  34.6904,2,  34.6886,2,   -999.0,9,     15.5,2,    34.17,2,    34.44,2,     0.00,2,     2.47,2,    0.090,2,    0.051,2, -999.000,9,-999.0000,9,  -999.00,9,   2260.3,2,   2302.2,2,     7.45,2,-999.0000,-999.000, 10.3802,-999.000
      325023_1,  P14N,   109,  1,     28,     28,2,19930804,1720,  8.4963, 178.9923, 6091,    308.2,   9.8533,  34.6719,2,  34.6725,2,   -999.0,9,     17.1,2,    36.14,2,    35.19,2,     0.00,2,     2.51,2,    0.053,2,    0.031,2, -999.000,9,-999.0000,9,  -999.00,9,   2276.2,2,   2304.9,2,  -999.00,9,-999.0000,-999.000,  9.8178,-999.000
      325023_1,  P14N,   109,  1,     27,     27,2,19930804,1720,  8.4963, 178.9923, 6091,    409.6,   8.8401,  34.6259,2,  34.6247,2,   -999.0,9,     14.8,2,    43.44,2,    36.76,2,     0.00,2,     2.70,2,    0.011,2,    0.010,2, -999.000,9,-999.0000,9,  -999.00,9,   2280.0,2,   2310.4,2,     7.41,2,-999.0000,-999.000,  8.7958,-999.000
      325023_1,  P14N,   109,  1,     26,     26,2,19930804,1720,  8.4963, 178.9923, 6091,    509.6,   7.7567,  34.5755,2,  34.5764,2,   -999.0,9,     28.0,2,    51.15,2,    37.76,2,     0.00,2,     2.76,2,    0.009,2,    0.008,2, -999.000,9,-999.0000,9,  -999.00,9,   2294.0,2,   2317.1,2,  -999.00,9,-999.0000,-999.000,  7.7053,-999.000
      325023_1,  P14N,   109,  1,     25,     25,2,19930804,1720,  8.4963, 178.9923, 6091,    609.2,   6.7462,  34.5420,2,  34.5423,2,   -999.0,9,     32.6,2,    62.43,2,    39.54,2,     0.00,2,     2.86,2,    0.001,2,    0.010,2, -999.000,9,-999.0000,9,  -999.00,9,   2029.7,4,   2327.7,2,     7.41,2,-999.0000,-999.000,  6.6890,-999.000
      325023_1,  P14N,   109,  1,     24,     24,2,19930804,1720,  8.4963, 178.9923, 6091,    705.7,   5.9156,  34.5315,2,  34.5328,2,   -999.0,9,     32.0,2,    74.13,2,    41.30,2,     0.00,2,     2.97,2,   -0.002,2,    0.000,2, -999.000,9,-999.0000,9,  -999.00,9,   2306.5,2,   2339.3,2,     7.39,2,-999.0000,-999.000,  5.8534,-999.000
      325023_1,  P14N,   109,  1,     23,     23,2,19930804,1720,  8.4963, 178.9923, 6091,    801.0,   5.3588,  34.5386,2,  34.5383,2,   -999.0,9,     46.3,2,    80.67,2,    41.16,2,     0.00,2,     2.93,2,    0.003,2,    0.010,2, -999.000,9,-999.0000,9,  -999.00,9,   2314.7,2,   2346.2,2,  -999.00,9,-999.0000,-999.000,  5.2909,-999.000
      325023_1,  P14N,   109,  1,     22,     22,2,19930804,1720,  8.4963, 178.9923, 6091,    898.1,   4.8065,  34.5464,2,  34.5459,2,   -999.0,9,     55.2,2,    89.82,2,    41.17,2,     0.00,2,     2.93,2,    0.000,2,    0.001,2, -999.000,9,-999.0000,9,  -999.00,9,   2320.7,2,   2357.7,2,  -999.00,9,-999.0000,-999.000,  4.7336,-999.000
      325023_1,  P14N,   109,  1,     21,     21,2,19930804,1720,  8.4963, 178.9923, 6091,    997.8,   4.3279,  34.5563,2,  34.5561,2,   -999.0,9,     59.7,2,    99.60,2,    41.17,2,     0.00,2,     2.94,2,    0.002,2,    0.000,2, -999.000,9,-999.0000,9,  -999.00,9,   2331.6,2,   -999.0,9,     7.43,2,-999.0000,-999.000,  4.2498,-999.000
      325023_1,  P14N,   109,  1,     20,     20,2,19930804,1720,  8.4963, 178.9923, 6091,   1200.4,   3.6810,  34.5772,2,  34.5757,2,   -999.0,9,     72.1,2,   112.07,2,    40.61,2,     0.00,2,     2.89,2, -999.000,5, -999.000,5, -999.000,9,-999.0000,9,  -999.00,9,   2337.1,2,   2380.6,2,  -999.00,9,-999.0000,-999.000,  3.5911,-999.000
      325023_1,  P14N,   109,  1,     19,     19,2,19930804,1720,  8.4963, 178.9923, 6091,   1403.4,   3.1739,  34.5934,2,  34.5924,2,   -999.0,9,     81.2,2,   122.58,2,    40.19,2,     0.00,2,     2.86,2,    0.001,2,    0.002,2, -999.000,9,-999.0000,9,  -999.00,9,   2342.2,2,   2391.5,2,  -999.00,9,-999.0000,-999.000,  3.0721,-999.000
      325023_1,  P14N,   109,  1,     18,     18,2,19930804,1720,  8.4963, 178.9923, 6091,   1607.9,   2.7906,  34.6071,2,  34.6098,2,   -999.0,9,     89.1,2,   130.93,2,    39.73,2,     0.00,2,     2.81,2, -999.000,5, -999.000,5, -999.000,9,-999.0000,9,  -999.00,9,   2346.9,2,   2404.7,2,     7.48,2,-999.0000,-999.000,  2.6761,-999.000
      325023_1,  P14N,   109,  1,     17,     17,2,19930804,1720,  8.4963, 178.9923, 6091,   1811.6,   2.5041,  34.6210,2,  34.6204,2,   -999.0,9,     96.3,2,   137.05,2,    39.36,2,     0.00,2,     2.77,2, -999.000,5, -999.000,5, -999.000,9,-999.0000,9,  -999.00,9,   2346.0,2,   2429.0,3,  -999.00,9,-999.0000,-999.000,  2.3762,-999.000
      325023_1,  P14N,   109,  1,     16,     16,2,19930804,1720,  8.4963, 178.9923, 6091,   2014.4,   2.2528,  34.6339,2,  34.6333,2,   -999.0,9,    103.1,2,   142.58,2,    38.91,2,     0.00,2,     2.73,2, -999.000,5, -999.000,5, -999.000,9,-999.0000,9,  -999.00,9,   2348.2,2,   2422.4,2,  -999.00,9,-999.0000,-999.000,  2.1113,-999.000
      325023_1,  P14N,   109,  1,     15,     15,2,19930804,1720,  8.4963, 178.9923, 6091,   2218.8,   2.0525,  34.6458,2,  34.6453,2,   -999.0,9,    108.6,2,   147.10,2,    38.63,2,     0.00,2,     2.69,2, -999.000,5, -999.000,5, -999.000,9,-999.0000,9,  -999.00,9,   2352.4,2,   2423.3,2,     7.51,2,-999.0000,-999.000,  1.8964,-999.000
      325023_1,  P14N,   109,  1,     14,     14,2,19930804,1720,  8.4963, 178.9923, 6091,   2424.4,   1.9292,  34.6539,2,  34.6535,2,   -999.0,9,    113.5,2,   150.38,2,    38.36,2,     0.00,2,     2.67,2, -999.000,5, -999.000,5, -999.000,9,-999.0000,9,  -999.00,9,   2357.4,2,   2429.8,2,  -999.00,9,-999.0000,-999.000,  1.7570,-999.000
      325023_1,  P14N,   109,  1,     13,     13,2,19930804,1720,  8.4963, 178.9923, 6091,   2628.8,   1.8378,  34.6607,2,  34.6609,2,   -999.0,9,    116.9,2,   153.05,2,    38.13,2,     0.00,2,     2.65,2, -999.000,5, -999.000,5, -999.000,9,-999.0000,9,  -999.00,9,   2352.1,2,   -999.0,9,     7.56,2,-999.0000,-999.000,  1.6488,-999.000
      325023_1,  P14N,   109,  1,     12,     12,2,19930804,1720,  8.4963, 178.9923, 6091,   2834.1,   1.7462,  34.6666,2,  34.6670,2,   -999.0,9,    122.5,2,   154.03,2,    37.73,2,     0.00,2,     2.62,2, -999.000,5, -999.000,5, -999.000,9,-999.0000,9,  -999.00,9,   2348.1,2,   2430.9,2,  -999.00,9,-999.0000,-999.000,  1.5399,-999.000
      325023_1,  P14N,   109,  1,     11,     11,2,19930804,1720,  8.4963, 178.9923, 6091,   3038.8,   1.6963,  34.6706,2,  34.6703,2,   -999.0,9,    127.3,2,   153.76,2,    37.45,2,     0.00,2,     2.59,2, -999.000,5, -999.000,5, -999.000,9,-999.0000,9,  -999.00,9,   2341.1,2,   2433.8,2,     7.55,2,-999.0000,-999.000,  1.4715,-999.000
      325023_1,  P14N,   109,  1,     10,     10,2,19930804,1720,  8.4963, 178.9923, 6091,   3346.6,   1.5846,  34.6771,2,  34.6770,2,   -999.0,9,    138.5,2,   151.81,2,    36.69,2,     0.00,2,     2.54,2, -999.000,5, -999.000,5, -999.000,9,-999.0000,9,  -999.00,9,   2330.3,2,   2427.1,2,  -999.00,9,-999.0000,-999.000,  1.3320,-999.000
      325023_1,  P14N,   109,  1,      9,      9,2,19930804,1720,  8.4963, 178.9923, 6091,   3656.6,   1.4813,  34.6834,2,  34.6828,2,   -999.0,9,    149.6,2,   149.24,2,    35.97,2,     0.00,2,     2.48,2, -999.000,5, -999.000,5, -999.000,9,-999.0000,9,  -999.00,9,   2317.0,2,   2424.5,2,  -999.00,9,-999.0000,-999.000,  1.1995,-999.000
      325023_1,  P14N,   109,  1,      8,      8,2,19930804,1720,  8.4963, 178.9923, 6091,   3966.2,   1.3809,  34.6898,2,  34.6901,2,   -999.0,9,    163.6,2,   143.56,2,    35.03,2,     0.00,2,     2.40,2, -999.000,5, -999.000,5, -999.000,9,-999.0000,9,  -999.00,9,   2305.0,2,   2414.5,2,  -999.00,9,-999.0000,-999.000,  1.0690,-999.000
      325023_1,  P14N,   109,  1,      7,      7,2,19930804,1720,  8.4963, 178.9923, 6091,   4275.6,   1.3212,  34.6952,2,  34.6961,2,   -999.0,9,    174.3,2,   137.71,2,    34.23,2,     0.00,2,     2.35,2, -999.000,5, -999.000,5, -999.000,9,-999.0000,9,  -999.00,9,   2298.0,2,   2412.7,2,     7.60,2,-999.0000,-999.000,  0.9771,-999.000
      325023_1,  P14N,   109,  1,      6,      6,2,19930804,1720,  8.4963, 178.9923, 6091,   4584.1,   1.2892,  34.6987,2,  34.6993,2,   -999.0,9,    182.4,2,   133.54,2,    33.66,2,     0.00,2,     2.31,2, -999.000,5, -999.000,5, -999.000,9,-999.0000,9,  -999.00,9,   2298.0,2,   2399.2,2,  -999.00,9,-999.0000,-999.000,  0.9111,-999.000
      325023_1,  P14N,   109,  1,      5,      5,2,19930804,1720,  8.4963, 178.9923, 6091,   4893.1,   1.2924,  34.7011,2,  34.7008,2,   -999.0,9,    186.8,2,   131.23,2,    33.31,2,     0.00,2,     2.27,2, -999.000,5, -999.000,5, -999.000,9,-999.0000,9,  -999.00,9,   2290.8,2,   2395.0,2,  -999.00,9,-999.0000,-999.000,  0.8780,-999.000
      325023_1,  P14N,   109,  1,      4,      4,2,19930804,1720,  8.4963, 178.9923, 6091,   5199.4,   1.3077,  34.7023,2,  34.7020,2,   -999.0,9,    189.5,2,   128.52,2,    33.04,2,     0.00,2,     2.25,2, -999.000,5, -999.000,5, -999.000,9,-999.0000,9,  -999.00,9,   2287.0,2,   2390.8,2,  -999.00,9,-999.0000,-999.000,  0.8556,-999.000
      325023_1,  P14N,   109,  1,      3,      3,2,19930804,1720,  8.4963, 178.9923, 6091,   5509.1,   1.3371,  34.7028,2,  34.7024,2,   -999.0,9,    190.7,2,   128.47,2,    33.04,2,     0.00,2,     2.25,2, -999.000,5, -999.000,5, -999.000,9,-999.0000,9,  -999.00,9,   2285.6,2,   2388.6,2,     7.61,2,-999.0000,-999.000,  0.8452,-999.000
      325023_1,  P14N,   109,  1,      2,      2,2,19930804,1720,  8.4963, 178.9923, 6091,   5818.4,   1.3726,  34.7029,2,  34.7033,2,   -999.0,9,    191.2,2,   128.41,2,    33.00,2,     0.00,2,     2.25,2,    0.002,2,    0.000,2, -999.000,9,-999.0000,9,  -999.00,9,   2284.5,2,   2388.1,2,  -999.00,9,-999.0000,-999.000,  0.8395,-999.000
      325023_1,  P14N,   109,  1,      1,      1,2,19930804,1720,  8.4963, 178.9923, 6091,   6125.3,   1.4136,  34.7029,2,  34.7039,2,   -999.0,9,    189.8,2,   127.75,2,    33.00,2,     0.00,2,     2.25,2,   -0.001,2,    0.011,2, -999.000,9,-999.0000,9,  -999.00,9,   2285.0,2,   2391.2,2,  -999.00,9,-999.0000,-999.000,  0.8382,-999.000