BOTTLE,20131125MIRCJHATS
EXPOCODE,SECT_ID,STNNBR,CASTNO,SAMPNO,BTLNBR,BTLNBR_FLAG_W,DATE,TIME,LATITUDE,LONGITUDE,DEPTH,CTDPRS,CTDTMP,CTDSAL,CTDSAL_FLAG_W,SALNTY,SALNTY_FLAG_W,CTDOXY,CTDOXY_FLAG_W,OXYGEN,OXYGEN_FLAG_W,SILCAT,SILCAT_FLAG_W,NITRAT,NITRAT_FLAG_W,NITRIT,NITRIT_FLAG_W,PHSPHT,PHSPHT_FLAG_W,CFC-11,CFC-11_FLAG_W,CFC-12,CFC-12_FLAG_W,TRITUM,TRITUM_FLAG_W,HELIUM,HELIUM_FLAG_W,DELHE3,DELHE3_FLAG_W,TCARBN,TCARBN_FLAG_W,ALKALI,ALKALI_FLAG_W,PH,PH_FLAG_W,HELIER,DELHER,THETA,TRITER
,,,,,,,,,,,,DBAR,ITS-90,PSS-78,,PSS-78,,UMOL/KG,,UMOL/KG,,UMOL/KG,,UMOL/KG,,UMOL/KG,,UMOL/KG,,PMOL/KG,,PMOL/KG,,TU,,NMOL/KG,,PERCNT,,UMOL/KG,,UMOL/KG,,25_DEG,,NMOL/KG,PERCNT,DEG C,TU
      325023_1,  P14N,    49,  1,     36,     36,2,19930719,2229, 37.9962, 179.0098, 5325,      2.3,  16.0737,  34.2747,2,  34.2792,2,   -999.0,9,    256.9,2,     5.29,2,     0.27,2,     0.02,2,     0.17,3,    2.968,2,    1.543,2, -999.000,9,-999.0000,9,  -999.00,9,   -999.0,9,   -999.0,9,  -999.00,9,-999.0000,-999.000, 16.0734,-999.000
      325023_1,  P14N,    49,  1,     35,     35,2,19930719,2229, 37.9962, 179.0098, 5325,      2.9,  16.0692,  34.1777,4,  34.2804,2,   -999.0,9,    257.2,2,     5.22,2,     0.27,2,     0.02,2,     0.17,3, -999.000,5, -999.000,5, -999.000,9,-999.0000,9,  -999.00,9,   -999.0,9,   -999.0,9,  -999.00,9,-999.0000,-999.000, 16.0688,-999.000
      325023_1,  P14N,    49,  1,     34,     34,2,19930719,2229, 37.9962, 179.0098, 5325,     39.9,  14.8093,  34.3363,4,  34.3045,2,   -999.0,9,    258.5,2,     5.34,2,     1.14,2,     0.06,2,     0.24,3,    3.005,2,    1.550,2, -999.000,9,-999.0000,9,  -999.00,9,   -999.0,9,   -999.0,9,  -999.00,9,-999.0000,-999.000, 14.8034,-999.000
      325023_1,  P14N,    49,  1,     33,     33,2,19930719,2229, 37.9962, 179.0098, 5325,     70.6,  12.7543,  34.3989,2,  34.3991,2,   -999.0,9,    253.7,2,    10.88,2,     7.11,2,     0.35,2,     0.40,3,    3.219,2,    1.639,2, -999.000,9,-999.0000,9,  -999.00,9,   -999.0,9,   -999.0,9,  -999.00,9,-999.0000,-999.000, 12.7448,-999.000
      325023_1,  P14N,    49,  1,     32,     32,2,19930719,2229, 37.9962, 179.0098, 5325,    100.6,  12.2952,  34.3942,2,  34.3956,2,   -999.0,9,    245.9,2,    12.26,2,     8.39,2,     0.03,2,     0.67,3,    3.224,2,    1.641,2, -999.000,9,-999.0000,9,  -999.00,9,   -999.0,9,   -999.0,9,  -999.00,9,-999.0000,-999.000, 12.2820,-999.000
      325023_1,  P14N,    49,  1,     31,     31,2,19930719,2229, 37.9962, 179.0098, 5325,    130.8,  11.9946,  34.3777,2,  34.3784,2,   -999.0,9,    245.5,2,    12.74,2,     9.01,2,     0.02,2,     0.71,3,    3.273,2,    1.660,2, -999.000,9,-999.0000,9,  -999.00,9,   -999.0,9,   -999.0,9,  -999.00,9,-999.0000,-999.000, 11.9777,-999.000
      325023_1,  P14N,    49,  1,     30,     30,2,19930719,2229, 37.9962, 179.0098, 5325,    160.6,  11.6641,  34.3565,2,  34.3572,2,   -999.0,9,    241.3,2,    14.30,2,    10.02,2,     0.02,2,     0.78,3,    3.193,6,    1.603,6, -999.000,9,-999.0000,9,  -999.00,9,   -999.0,9,   -999.0,9,  -999.00,9,-999.0000,-999.000, 11.6437,-999.000
      325023_1,  P14N,    49,  1,     29,     29,2,19930719,2229, 37.9962, 179.0098, 5325,    211.5,  10.9157,  34.2873,2,  34.2883,2,   -999.0,9,    233.9,2,    17.48,2,    12.08,2,     0.01,2,     0.93,3,    3.202,2,    1.613,2, -999.000,9,-999.0000,9,  -999.00,9,   -999.0,9,   -999.0,9,  -999.00,9,-999.0000,-999.000, 10.8899,-999.000
      325023_1,  P14N,    49,  1,     28,     28,2,19930719,2229, 37.9962, 179.0098, 5325,    261.0,  10.2573,  34.2271,2,  34.2285,2,   -999.0,9,    228.7,2,    20.31,2,    12.26,2,     0.01,2,     1.06,3,    3.039,2,    1.492,2, -999.000,9,-999.0000,9,  -999.00,9,   -999.0,9,   -999.0,9,  -999.00,9,-999.0000,-999.000, 10.2267,-999.000
      325023_1,  P14N,    49,  1,     27,     27,2,19930719,2229, 37.9962, 179.0098, 5325,    310.1,   9.2468,  34.1280,2,  34.1302,2,   -999.0,9,    240.5,2,    22.95,2,    13.10,2,     0.01,2,     1.14,3,    3.370,2,    1.670,2, -999.000,9,-999.0000,9,  -999.00,9,   -999.0,9,   -999.0,9,  -999.00,9,-999.0000,-999.000,  9.2127,-999.000
      325023_1,  P14N,    49,  1,     26,     26,2,19930719,2229, 37.9962, 179.0098, 5325,    409.7,   7.9577,  34.0494,2,  34.0490,2,   -999.0,9,    199.5,2,    35.53,2,    17.44,2,     0.01,2,     2.00,3,    2.741,2,    1.338,2, -999.000,9,-999.0000,9,  -999.00,9,   -999.0,9,   -999.0,9,  -999.00,9,-999.0000,-999.000,  7.9164,-999.000
      325023_1,  P14N,    49,  1,     25,     25,2,19930719,2229, 37.9962, 179.0098, 5325,    512.7,   6.0730,  33.9850,2,  33.9864,2,   -999.0,9,    153.3,2,    58.09,2,    28.58,2,     0.00,2,     2.15,3,    2.131,2,    0.976,2, -999.000,9,-999.0000,9,  -999.00,9,   -999.0,9,   -999.0,9,  -999.00,9,-999.0000,-999.000,  6.0283,-999.000
      325023_1,  P14N,    49,  1,     24,     24,2,19930719,2229, 37.9962, 179.0098, 5325,    609.9,   4.9357,  34.0129,2,  34.0119,2,   -999.0,9,    111.4,2,    78.03,2,    34.25,2,     0.00,2,     2.55,3,    1.397,2,    0.627,2, -999.000,9,-999.0000,9,  -999.00,9,   -999.0,9,   -999.0,9,  -999.00,9,-999.0000,-999.000,  4.8874,-999.000
      325023_1,  P14N,    49,  1,     23,     23,2,19930719,2229, 37.9962, 179.0098, 5325,    710.5,   4.3610,  34.1149,2,  34.1136,2,   -999.0,9,     71.9,2,    88.21,2,    38.41,2,     0.00,2,     2.84,3,    0.708,3,    0.311,2, -999.000,9,-999.0000,9,  -999.00,9,   -999.0,9,   -999.0,9,  -999.00,9,-999.0000,-999.000,  4.3073,-999.000
      325023_1,  P14N,    49,  1,     22,     22,2,19930719,2229, 37.9962, 179.0098, 5325,    813.2,   3.9552,  34.2039,2,  34.2025,2,   -999.0,9,     50.1,2,   112.77,2,    40.80,2,     0.00,2,     3.00,3,    0.332,2,    0.137,2, -999.000,9,-999.0000,9,  -999.00,9,   -999.0,9,   -999.0,9,  -999.00,9,-999.0000,-999.000,  3.8955,-999.000
      325023_1,  P14N,    49,  1,     21,     21,2,19930719,2229, 37.9962, 179.0098, 5325,    908.2,   3.6273,  34.2685,2,  34.2667,2,   -999.0,9,     43.2,2,   123.22,2,    41.58,2,     0.00,2,     3.06,3,    0.229,2,    0.096,2, -999.000,9,-999.0000,9,  -999.00,9,   -999.0,9,   -999.0,9,  -999.00,9,-999.0000,-999.000,  3.5622,-999.000
      325023_1,  P14N,    49,  1,     20,     20,2,19930719,2229, 37.9962, 179.0098, 5325,   1001.7,   3.3864,  34.3143,2,  34.3131,2,   -999.0,9,     37.1,2,   131.49,2,    42.36,2,     0.00,2,     3.12,3,    0.129,2,    0.048,2, -999.000,9,-999.0000,9,  -999.00,9,   -999.0,9,   -999.0,9,  -999.00,9,-999.0000,-999.000,  3.3156,-999.000
      325023_1,  P14N,    49,  1,     19,     19,2,19930719,2229, 37.9962, 179.0098, 5325,   1206.0,   2.9202,  34.4001,2,  34.3997,2,   -999.0,9,     31.4,2,   146.84,2,    43.27,2,     0.00,2,     3.18,3, -999.000,5, -999.000,5, -999.000,9,-999.0000,9,  -999.00,9,   -999.0,9,   -999.0,9,  -999.00,9,-999.0000,-999.000,  2.8373,-999.000
      325023_1,  P14N,    49,  1,     18,     18,2,19930719,2229, 37.9962, 179.0098, 5325,   1413.2,   2.6209,  34.4641,2,  34.4632,2,   -999.0,9,     24.2,2,   158.15,2,    44.01,2,     0.00,2,     3.21,3,    0.007,2,   -0.004,2, -999.000,9,-999.0000,9,  -999.00,9,   -999.0,9,   -999.0,9,  -999.00,9,-999.0000,-999.000,  2.5246,-999.000
      325023_1,  P14N,    49,  1,     17,     17,2,19930719,2229, 37.9962, 179.0098, 5325,   1618.9,   2.3493,  34.5122,2,  34.5118,2,   -999.0,9,     31.1,2,   166.64,2,    43.75,2,     0.00,2,     3.17,3,    0.007,2,    0.002,2, -999.000,9,-999.0000,9,  -999.00,9,   -999.0,9,   -999.0,9,  -999.00,9,-999.0000,-999.000,  2.2397,-999.000
      325023_1,  P14N,    49,  1,     16,     16,3,19930719,2229, 37.9962, 179.0098, 5325,   1822.2,   2.1322,  34.5514,2,-999.0000,9,   -999.0,9,   -999.0,9,    93.64,4,    30.29,4,     0.02,4,     2.25,4, -999.000,5, -999.000,5, -999.000,9,-999.0000,9,  -999.00,9,   -999.0,9,   -999.0,9,  -999.00,9,-999.0000,-999.000,  2.0089,-999.000
      325023_1,  P14N,    49,  1,     15,     15,2,19930719,2229, 37.9962, 179.0098, 5325,   2025.1,   1.9876,  34.5818,2,  34.5815,2,   -999.0,9,     53.5,2,   175.14,2,    42.58,2,     0.00,2,     3.07,3,   -0.002,2,   -0.006,3, -999.000,9,-999.0000,9,  -999.00,9,   -999.0,9,   -999.0,9,  -999.00,9,-999.0000,-999.000,  1.8494,-999.000
      325023_1,  P14N,    49,  1,     14,     14,2,19930719,2229, 37.9962, 179.0098, 5325,   2228.1,   1.8634,  34.6059,2,  34.6060,2,   -999.0,9,     66.4,2,   176.87,2,    42.23,2,     0.00,2,     3.01,3, -999.000,5, -999.000,5, -999.000,9,-999.0000,9,  -999.00,9,   -999.0,9,   -999.0,9,  -999.00,9,-999.0000,-999.000,  1.7099,-999.000
      325023_1,  P14N,    49,  1,     13,     13,2,19930719,2229, 37.9962, 179.0098, 5325,   2431.9,   1.7491,  34.6260,2,  34.6266,2,   -999.0,9,     84.2,2,   174.50,2,    40.65,2,     0.00,2,     2.93,3,    0.000,4,   -0.003,2, -999.000,9,-999.0000,9,    18.70,2,   -999.0,9,   -999.0,9,  -999.00,9,-999.0000,   0.150,  1.5797,-999.000
      325023_1,  P14N,    49,  1,     12,     12,2,19930719,2229, 37.9962, 179.0098, 5325,   2637.5,   1.6755,  34.6383,2,  34.6391,2,   -999.0,9,     96.9,2,   172.14,2,    39.76,2,     0.00,2,     2.87,3, -999.000,5, -999.000,5, -999.000,9,-999.0000,9,  -999.00,9,   -999.0,9,   -999.0,9,  -999.00,9,-999.0000,-999.000,  1.4889,-999.000
      325023_1,  P14N,    49,  1,     11,     11,2,19930719,2229, 37.9962, 179.0098, 5325,   2844.3,   1.5940,  34.6514,2,  34.6517,2,   -999.0,9,    112.4,2,   168.98,2,    38.73,2,     0.00,2,     2.80,3, -999.000,5, -999.000,5, -999.000,9,-999.0000,9,  -999.00,9,   -999.0,9,   -999.0,9,  -999.00,9,-999.0000,-999.000,  1.3900,-999.000
      325023_1,  P14N,    49,  1,     10,     10,2,19930719,2229, 37.9962, 179.0098, 5325,   3049.4,   1.5445,  34.6605,2,  34.6605,2,   -999.0,9,    122.0,2,   166.45,2,    38.15,2,     0.00,2,     2.77,3, -999.000,5, -999.000,5, -999.000,9,-999.0000,9,  -999.00,9,   -999.0,9,   -999.0,9,  -999.00,9,-999.0000,-999.000,  1.3220,-999.000
      325023_1,  P14N,    49,  1,      9,      9,2,19930719,2229, 37.9962, 179.0098, 5325,   3358.8,   1.4872,  34.6708,2,  34.6717,2,   -999.0,9,    134.6,2,   162.53,2,    37.71,3,     0.00,2,     2.67,3, -999.000,5, -999.000,5, -999.000,9,-999.0000,9,  -999.00,9,   -999.0,9,   -999.0,9,  -999.00,9,-999.0000,-999.000,  1.2357,-999.000
      325023_1,  P14N,    49,  1,      8,      8,2,19930719,2229, 37.9962, 179.0098, 5325,   3665.6,   1.4628,  34.6776,2,  34.6782,2,   -999.0,9,    142.4,2,   160.22,2,    36.69,2,     0.00,2,     2.65,3, -999.000,5, -999.000,5, -999.000,9,-999.0000,9,  -999.00,9,   -999.0,9,   -999.0,9,  -999.00,9,-999.0000,-999.000,  1.1806,-999.000
      325023_1,  P14N,    49,  1,      7,      7,2,19930719,2229, 37.9962, 179.0098, 5325,   3972.7,   1.4498,  34.6827,2,  34.6839,2,   -999.0,9,    148.9,2,   158.72,2,    36.29,2,     0.00,2,     2.61,3,   -0.005,3,   -0.003,2, -999.000,9,-999.0000,9,  -999.00,9,   -999.0,9,   -999.0,9,  -999.00,9,-999.0000,-999.000,  1.1353,-999.000
      325023_1,  P14N,    49,  1,      6,      6,2,19930719,2229, 37.9962, 179.0098, 5325,   4282.6,   1.4617,  34.6851,2,  34.6862,2,   -999.0,9,    151.7,2,   158.42,2,    36.21,2,     0.00,2,     2.59,3, -999.000,5, -999.000,5, -999.000,9,-999.0000,9,  -999.00,9,   -999.0,9,   -999.0,9,  -999.00,9,-999.0000,-999.000,  1.1127,-999.000
      325023_1,  P14N,    49,  1,      5,      5,2,19930719,2229, 37.9962, 179.0098, 5325,   4592.0,   1.4832,  34.6865,2,  34.6876,2,   -999.0,9,    153.6,2,   159.30,2,    36.13,2,     0.00,2,     2.59,3, -999.000,5, -999.000,5, -999.000,9,-999.0000,9,  -999.00,9,   -999.0,9,   -999.0,9,  -999.00,9,-999.0000,-999.000,  1.0981,-999.000
      325023_1,  P14N,    49,  1,      4,      4,2,19930719,2229, 37.9962, 179.0098, 5325,   4902.5,   1.5150,  34.6879,2,  34.6886,2,   -999.0,9,    154.2,2,   160.19,2,    36.14,2,     0.00,2,     2.59,3,    0.008,3,    0.003,2, -999.000,9,-999.0000,9,  -999.00,9,   -999.0,9,   -999.0,9,  -999.00,9,-999.0000,-999.000,  1.0921,-999.000
      325023_1,  P14N,    49,  1,      3,      3,2,19930719,2229, 37.9962, 179.0098, 5325,   5213.0,   1.5537,  34.6880,2,  34.6886,2,   -999.0,9,    154.2,2,   160.08,2,    36.15,2,     0.00,2,     2.59,3, -999.000,5, -999.000,5, -999.000,9,-999.0000,9,    16.40,2,   -999.0,9,   -999.0,9,  -999.00,9,-999.0000,   0.150,  1.0914,-999.000
      325023_1,  P14N,    49,  1,      1,      1,2,19930719,2229, 37.9962, 179.0098, 5325,   5424.9,   1.5819,  34.6877,2,  34.6888,2,   -999.0,9,    154.3,2,   160.26,2,    36.16,2,     0.00,2,     2.59,3,    0.016,4,    0.015,4, -999.000,9,-999.0000,9,  -999.00,9,   -999.0,9,   -999.0,9,  -999.00,9,-999.0000,-999.000,  1.0920,-999.000
      325023_1,  P14N,    49,  1,      2,      2,2,19930719,2229, 37.9962, 179.0098, 5325,   5425.0,   1.5817,  34.6870,2,  34.6890,2,   -999.0,9,    154.5,2,   160.17,2,    36.11,2,     0.00,2,     2.59,3, -999.000,5, -999.000,5, -999.000,9,-999.0000,9,  -999.00,9,   -999.0,9,   -999.0,9,  -999.00,9,-999.0000,-999.000,  1.0918,-999.000