BOTTLE,20131125MIRCJHATS
EXPOCODE,SECT_ID,STNNBR,CASTNO,SAMPNO,BTLNBR,BTLNBR_FLAG_W,DATE,TIME,LATITUDE,LONGITUDE,DEPTH,CTDPRS,CTDTMP,CTDSAL,CTDSAL_FLAG_W,SALNTY,SALNTY_FLAG_W,CTDOXY,CTDOXY_FLAG_W,OXYGEN,OXYGEN_FLAG_W,SILCAT,SILCAT_FLAG_W,NITRAT,NITRAT_FLAG_W,NITRIT,NITRIT_FLAG_W,PHSPHT,PHSPHT_FLAG_W,CFC-11,CFC-11_FLAG_W,CFC-12,CFC-12_FLAG_W,TRITUM,TRITUM_FLAG_W,HELIUM,HELIUM_FLAG_W,DELHE3,DELHE3_FLAG_W,TCARBN,TCARBN_FLAG_W,ALKALI,ALKALI_FLAG_W,PH,PH_FLAG_W,HELIER,DELHER,THETA,TRITER
,,,,,,,,,,,,DBAR,ITS-90,PSS-78,,PSS-78,,UMOL/KG,,UMOL/KG,,UMOL/KG,,UMOL/KG,,UMOL/KG,,UMOL/KG,,PMOL/KG,,PMOL/KG,,TU,,NMOL/KG,,PERCNT,,UMOL/KG,,UMOL/KG,,25_DEG,,NMOL/KG,PERCNT,DEG C,TU
      325024_1,  P14N,   150,  1,     27,     27,2,19930820,1047, -1.7455, 178.9968, 5455,    409.6,   9.5379,  34.6988,2,  34.6937,2,   -999.0,9,     90.8,2,    29.79,2,    29.89,2,     0.00,2,     2.10,2, -999.000,5, -999.000,5, -999.000,9,-999.0000,9,  -999.00,9,   -999.0,9,   -999.0,9,  -999.00,9,-999.0000,-999.000,  9.4915,-999.000
      325024_1,  P14N,   150,  1,     26,     26,2,19930820,1047, -1.7455, 178.9968, 5455,    510.3,   7.0205,  34.5719,2,  34.5718,2,   -999.0,9,     79.5,2,    48.45,2,    36.11,2,     0.00,2,     2.53,2, -999.000,5, -999.000,5, -999.000,9,-999.0000,9,  -999.00,9,   -999.0,9,   -999.0,9,  -999.00,9,-999.0000,-999.000,  6.9718,-999.000
      325024_1,  P14N,   150,  1,     25,     25,2,19930820,1047, -1.7455, 178.9968, 5455,    610.7,   6.4994,  34.5634,2,  34.5636,2,   -999.0,9,     64.7,2,    56.37,2,    38.86,2,     0.00,2,     2.73,2, -999.000,5, -999.000,5, -999.000,9,-999.0000,9,  -999.00,9,   -999.0,9,   -999.0,9,  -999.00,9,-999.0000,-999.000,  6.4432,-999.000
      325024_1,  P14N,   150,  1,     24,     24,2,19930820,1047, -1.7455, 178.9968, 5455,    710.9,   6.0294,  34.5511,2,  34.5508,2,   -999.0,9,     76.0,2,    60.96,2,    38.54,2,     0.00,2,     2.72,2, -999.000,5, -999.000,5, -999.000,9,-999.0000,9,  -999.00,9,   -999.0,9,   -999.0,9,  -999.00,9,-999.0000,-999.000,  5.9660,-999.000
      325024_1,  P14N,   150,  1,     23,     23,2,19930820,1047, -1.7455, 178.9968, 5455,    811.5,   5.6953,  34.5449,2,  34.5449,2,   -999.0,9,     83.2,2,    64.76,2,    38.27,2,     0.00,2,     2.69,2, -999.000,5, -999.000,5, -999.000,9,-999.0000,9,  -999.00,9,   -999.0,9,   -999.0,9,  -999.00,9,-999.0000,-999.000,  5.6244,-999.000
      325024_1,  P14N,   150,  1,     22,     22,2,19930820,1047, -1.7455, 178.9968, 5455,    912.0,   5.1451,  34.5390,2,  34.5398,2,   -999.0,9,     95.2,2,    71.70,2,    37.82,2,     0.00,2,     2.65,2, -999.000,5, -999.000,5, -999.000,9,-999.0000,9,  -999.00,9,   -999.0,9,   -999.0,9,  -999.00,9,-999.0000,-999.000,  5.0686,-999.000
      325024_1,  P14N,   150,  1,     21,     21,2,19930820,1047, -1.7455, 178.9968, 5455,   1012.8,   4.5006,  34.5501,2,  34.5506,2,   -999.0,9,     94.6,2,    83.97,2,    38.48,2,     0.00,2,     2.72,2, -999.000,5, -999.000,5, -999.000,9,-999.0000,9,  -999.00,9,   -999.0,9,   -999.0,9,  -999.00,9,-999.0000,-999.000,  4.4199,-999.000
      325024_1,  P14N,   150,  1,     20,     20,2,19930820,1047, -1.7455, 178.9968, 5455,   1114.0,   4.1141,  34.5590,2,  34.5592,2,   -999.0,9,     95.9,2,    92.52,2,    38.56,2,     0.00,2,     2.73,2, -999.000,5, -999.000,5, -999.000,9,-999.0000,9,  -999.00,9,   -999.0,9,   -999.0,9,  -999.00,9,-999.0000,-999.000,  4.0278,-999.000
      325024_1,  P14N,   150,  1,     19,     19,2,19930820,1047, -1.7455, 178.9968, 5455,   1214.2,   3.8524,  34.5682,2,  34.5684,2,   -999.0,9,     97.7,2,    98.93,2,    38.60,2,     0.00,2,     2.73,2, -999.000,5, -999.000,5, -999.000,9,-999.0000,9,  -999.00,9,   -999.0,9,   -999.0,9,  -999.00,9,-999.0000,-999.000,  3.7598,-999.000
      325024_1,  P14N,   150,  1,     18,     18,2,19930820,1047, -1.7455, 178.9968, 5455,   1416.8,   3.3538,  34.5875,2,  34.5872,2,   -999.0,9,     98.3,2,   111.33,2,    39.00,2,     0.00,2,     2.76,2, -999.000,5, -999.000,5, -999.000,9,-999.0000,9,  -999.00,9,   -999.0,9,   -999.0,9,  -999.00,9,-999.0000,-999.000,  3.2490,-999.000
      325024_1,  P14N,   150,  1,     17,     17,2,19930820,1047, -1.7455, 178.9968, 5455,   1619.8,   2.7935,  34.6097,2,  34.6096,2,   -999.0,9,    106.9,2,   123.43,2,    38.64,2,     0.00,2,     2.71,2, -999.000,5, -999.000,5, -999.000,9,-999.0000,9,  -999.00,9,   -999.0,9,   -999.0,9,  -999.00,9,-999.0000,-999.000,  2.6780,-999.000
      325024_1,  P14N,   150,  1,     16,     16,2,19930820,1047, -1.7455, 178.9968, 5455,   1822.5,   2.4536,  34.6275,2,  34.6280,2,   -999.0,9,    110.8,2,   132.80,2,    38.50,2,     0.00,2,     2.70,2, -999.000,5, -999.000,5, -999.000,9,-999.0000,9,  -999.00,9,   -999.0,9,   -999.0,9,  -999.00,9,-999.0000,-999.000,  2.3255,-999.000
      325024_1,  P14N,   150,  1,     15,     15,2,19930820,1047, -1.7455, 178.9968, 5455,   2024.4,   2.2044,  34.6424,2,  34.6427,2,   -999.0,9,    113.1,2,   140.40,2,    38.49,2,     0.00,2,     2.68,2, -999.000,5, -999.000,5, -999.000,9,-999.0000,9,  -999.00,9,   -999.0,9,   -999.0,9,  -999.00,9,-999.0000,-999.000,  2.0627,-999.000
      325024_1,  P14N,   150,  1,     14,     14,2,19930820,1047, -1.7455, 178.9968, 5455,   2229.2,   2.0403,  34.6506,2,  34.6509,2,   -999.0,9,    119.8,2,   142.70,2,    38.13,2,     0.00,2,     2.65,2, -999.000,5, -999.000,5, -999.000,9,-999.0000,9,  -999.00,9,   -999.0,9,   -999.0,9,  -999.00,9,-999.0000,-999.000,  1.8835,-999.000
      325024_1,  P14N,   150,  1,     13,     13,2,19930820,1047, -1.7455, 178.9968, 5455,   2432.0,   1.9069,  34.6574,2,  34.6574,2,   -999.0,9,    126.7,2,   142.96,2,    37.59,2,     0.00,2,     2.61,2, -999.000,5, -999.000,5, -999.000,9,-999.0000,9,  -999.00,9,   -999.0,9,   -999.0,9,  -999.00,9,-999.0000,-999.000,  1.7345,-999.000
      325024_1,  P14N,   150,  1,     12,     12,2,19930820,1047, -1.7455, 178.9968, 5455,   2635.8,   1.8017,  34.6623,2,  34.6627,2,   -999.0,9,    130.4,2,   144.85,2,    37.23,2,     0.00,2,     2.59,2, -999.000,5, -999.000,5, -999.000,9,-999.0000,9,  -999.00,9,   -999.0,9,   -999.0,9,  -999.00,9,-999.0000,-999.000,  1.6127,-999.000
      325024_1,  P14N,   150,  1,     11,     11,3,19930820,1047, -1.7455, 178.9968, 5455,   2839.4,   1.7055,  34.6671,2,  34.6775,4,   -999.0,9,    127.9,4,   110.35,4,    34.06,4,     0.01,4,     2.38,4, -999.000,5, -999.000,5, -999.000,9,-999.0000,9,  -999.00,9,   -999.0,9,   -999.0,9,  -999.00,9,-999.0000,-999.000,  1.4996,-999.000
      325024_1,  P14N,   150,  1,     10,     10,2,19930820,1047, -1.7455, 178.9968, 5455,   3043.5,   1.6211,  34.6737,2,  34.6746,2,   -999.0,9,    143.2,2,   144.13,2,    36.42,2,     0.00,2,     2.52,2, -999.000,5, -999.000,5, -999.000,9,-999.0000,9,  -999.00,9,   -999.0,9,   -999.0,9,  -999.00,9,-999.0000,-999.000,  1.3975,-999.000
      325024_1,  P14N,   150,  1,      9,      9,2,19930820,1047, -1.7455, 178.9968, 5455,   3350.0,   1.5417,  34.6784,2,  34.6789,2,   -999.0,9,    147.5,2,   145.00,2,    36.11,2,     0.00,2,     2.50,2, -999.000,5, -999.000,5, -999.000,9,-999.0000,9,  -999.00,9,   -999.0,9,   -999.0,9,  -999.00,9,-999.0000,-999.000,  1.2897,-999.000
      325024_1,  P14N,   150,  1,      8,      8,2,19930820,1047, -1.7455, 178.9968, 5455,   3656.8,   1.4733,  34.6849,2,  34.6852,2,   -999.0,9,    157.0,2,   142.38,2,    35.49,2,     0.00,2,     2.44,2, -999.000,5, -999.000,5, -999.000,9,-999.0000,9,  -999.00,9,   -999.0,9,   -999.0,9,  -999.00,9,-999.0000,-999.000,  1.1917,-999.000
      325024_1,  P14N,   150,  1,      7,      7,2,19930820,1047, -1.7455, 178.9968, 5455,   3964.0,   1.4283,  34.6903,2,  34.6908,2,   -999.0,9,    164.2,2,   140.38,2,    35.00,2,     0.00,2,     2.41,2, -999.000,5, -999.000,5, -999.000,9,-999.0000,9,  -999.00,9,   -999.0,9,   -999.0,9,  -999.00,9,-999.0000,-999.000,  1.1153,-999.000
      325024_1,  P14N,   150,  1,      6,      6,2,19930820,1047, -1.7455, 178.9968, 5455,   4271.4,   1.3476,  34.6960,2,  34.6967,2,   -999.0,9,    174.7,2,   135.95,2,    34.13,2,     0.00,2,     2.35,2, -999.000,5, -999.000,5, -999.000,9,-999.0000,9,  -999.00,9,   -999.0,9,   -999.0,9,  -999.00,9,-999.0000,-999.000,  1.0031,-999.000
      325024_1,  P14N,   150,  1,      5,      5,2,19930820,1047, -1.7455, 178.9968, 5455,   4578.7,   1.2645,  34.7018,2,  34.7030,2,   -999.0,9,    188.0,2,   128.72,2,    33.13,2,     0.00,2,     2.28,2, -999.000,5, -999.000,5, -999.000,9,-999.0000,9,  -999.00,9,   -999.0,9,   -999.0,9,  -999.00,9,-999.0000,-999.000,  0.8877,-999.000
      325024_1,  P14N,   150,  1,      4,      4,2,19930820,1047, -1.7455, 178.9968, 5455,   4887.3,   1.2557,  34.7033,2,  34.7037,2,   -999.0,9,    190.8,2,   127.96,2,    32.91,2,     0.00,2,     2.26,2, -999.000,5, -999.000,5, -999.000,9,-999.0000,9,  -999.00,9,   -999.0,9,   -999.0,9,  -999.00,9,-999.0000,-999.000,  0.8431,-999.000
      325024_1,  P14N,   150,  1,      3,      3,2,19930820,1047, -1.7455, 178.9968, 5455,   5194.6,   1.2693,  34.7046,2,  34.7053,2,   -999.0,9,    194.4,2,   126.41,2,    32.78,2,     0.00,2,     2.26,2, -999.000,5, -999.000,5, -999.000,9,-999.0000,9,  -999.00,9,   -999.0,9,   -999.0,9,  -999.00,9,-999.0000,-999.000,  0.8191,-999.000
      325024_1,  P14N,   150,  1,      1,      1,2,19930820,1047, -1.7455, 178.9968, 5455,   5544.2,   1.3031,  34.7045,2,  34.7055,2,   -999.0,9,    195.5,2,   126.52,2,    32.64,2,     0.00,2,     2.24,2, -999.000,5, -999.000,5, -999.000,9,-999.0000,9,  -999.00,9,   -999.0,9,   -999.0,9,  -999.00,9,-999.0000,-999.000,  0.8080,-999.000
      325024_1,  P14N,   150,  1,      2,      2,2,19930820,1047, -1.7455, 178.9968, 5455,   5544.3,   1.3032,  34.7045,2,  34.7057,2,   -999.0,9,    195.5,2,   126.26,2,    32.69,2,     0.00,2,     2.24,2, -999.000,5, -999.000,5, -999.000,9,-999.0000,9,  -999.00,9,   -999.0,9,   -999.0,9,  -999.00,9,-999.0000,-999.000,  0.8081,-999.000