BOTTLE,20131125MIRCJHATS
EXPOCODE,SECT_ID,STNNBR,CASTNO,SAMPNO,BTLNBR,BTLNBR_FLAG_W,DATE,TIME,LATITUDE,LONGITUDE,DEPTH,CTDPRS,CTDTMP,CTDSAL,CTDSAL_FLAG_W,SALNTY,SALNTY_FLAG_W,CTDOXY,CTDOXY_FLAG_W,OXYGEN,OXYGEN_FLAG_W,SILCAT,SILCAT_FLAG_W,NITRAT,NITRAT_FLAG_W,NITRIT,NITRIT_FLAG_W,PHSPHT,PHSPHT_FLAG_W,CFC-11,CFC-11_FLAG_W,CFC-12,CFC-12_FLAG_W,TRITUM,TRITUM_FLAG_W,HELIUM,HELIUM_FLAG_W,DELHE3,DELHE3_FLAG_W,TCARBN,TCARBN_FLAG_W,ALKALI,ALKALI_FLAG_W,PH,PH_FLAG_W,HELIER,DELHER,THETA,TRITER
,,,,,,,,,,,,DBAR,ITS-90,PSS-78,,PSS-78,,UMOL/KG,,UMOL/KG,,UMOL/KG,,UMOL/KG,,UMOL/KG,,UMOL/KG,,PMOL/KG,,PMOL/KG,,TU,,NMOL/KG,,PERCNT,,UMOL/KG,,UMOL/KG,,25_DEG,,NMOL/KG,PERCNT,DEG C,TU
      325023_1,  P14N,    90,  1,     36,     36,2,19930730,1227, 17.5045, 179.0015, 4883,      2.9,  27.6455,  34.7370,2,  34.7427,2,   -999.0,9,    200.7,2,     3.01,2,     0.00,2,     0.00,2,     0.13,2, -999.000,5, -999.000,5, -999.000,9,-999.0000,9,  -999.00,9,   -999.0,9,   -999.0,9,  -999.00,9,-999.0000,-999.000, 27.6448,-999.000
      325023_1,  P14N,    90,  1,     35,     35,2,19930730,1227, 17.5045, 179.0015, 4883,     38.6,  27.6767,  34.7574,2,  34.7595,2,   -999.0,9,    200.7,2,     2.53,2,     0.00,2,     0.00,2,     0.12,2, -999.000,5, -999.000,5, -999.000,9,-999.0000,9,  -999.00,9,   -999.0,9,   -999.0,9,  -999.00,9,-999.0000,-999.000, 27.6677,-999.000
      325023_1,  P14N,    90,  1,     34,     34,2,19930730,1227, 17.5045, 179.0015, 4883,     69.3,  26.8033,  34.9573,2,  34.9647,2,   -999.0,9,    212.7,2,     2.26,2,     0.00,2,     0.00,2,     0.06,2, -999.000,5, -999.000,5, -999.000,9,-999.0000,9,  -999.00,9,   -999.0,9,   -999.0,9,  -999.00,9,-999.0000,-999.000, 26.7875,-999.000
      325023_1,  P14N,    90,  1,     33,     33,2,19930730,1227, 17.5045, 179.0015, 4883,     98.9,  25.0802,  35.0535,2,  35.0514,2,   -999.0,9,    214.8,2,     2.21,2,     0.00,2,     0.00,2,     0.06,2, -999.000,5, -999.000,5, -999.000,9,-999.0000,9,  -999.00,9,   -999.0,9,   -999.0,9,  -999.00,9,-999.0000,-999.000, 25.0587,-999.000
      325023_1,  P14N,    90,  1,     32,     32,2,19930730,1227, 17.5045, 179.0015, 4883,    127.9,  24.1949,  35.1676,2,  35.1642,2,   -999.0,9,    210.5,2,     2.15,2,     0.00,2,     0.00,2,     0.05,2, -999.000,5, -999.000,5, -999.000,9,-999.0000,9,  -999.00,9,   -999.0,9,   -999.0,9,  -999.00,9,-999.0000,-999.000, 24.1678,-999.000
      325023_1,  P14N,    90,  1,     31,     31,2,19930730,1227, 17.5045, 179.0015, 4883,    158.4,  22.8715,  35.2489,2,  35.2464,2,   -999.0,9,    200.5,2,     2.10,2,     0.00,2,     0.07,2,     0.08,2, -999.000,5, -999.000,5, -999.000,9,-999.0000,9,  -999.00,9,   -999.0,9,   -999.0,9,  -999.00,9,-999.0000,-999.000, 22.8393,-999.000
      325023_1,  P14N,    90,  1,     30,     30,2,19930730,1227, 17.5045, 179.0015, 4883,    208.3,  19.3531,  35.0480,2,  35.0371,2,   -999.0,9,    192.7,2,     3.33,2,     2.52,2,     0.02,2,     0.28,2, -999.000,5, -999.000,5, -999.000,9,-999.0000,9,  -999.00,9,   -999.0,9,   -999.0,9,  -999.00,9,-999.0000,-999.000, 19.3155,-999.000
      325023_1,  P14N,    90,  1,     29,     29,2,19930730,1227, 17.5045, 179.0015, 4883,    258.9,  16.4549,  34.7634,2,  34.7596,2,   -999.0,9,    198.8,2,     5.62,2,     5.43,2,     0.01,2,     0.46,2, -999.000,5, -999.000,5, -999.000,9,-999.0000,9,  -999.00,9,   -999.0,9,   -999.0,9,  -999.00,9,-999.0000,-999.000, 16.4131,-999.000
      325023_1,  P14N,    90,  1,     28,     28,2,19930730,1227, 17.5045, 179.0015, 4883,    309.5,  13.9333,  34.4999,2,  34.4973,2,   -999.0,9,    195.2,2,    10.06,2,     9.53,2,     0.00,2,     0.74,2,    2.551,2,    1.230,2, -999.000,9,-999.0000,9,  -999.00,9,   -999.0,9,   -999.0,9,  -999.00,9,-999.0000,-999.000, 13.8887,-999.000
      325023_1,  P14N,    90,  1,     27,     27,2,19930730,1227, 17.5045, 179.0015, 4883,    411.2,   9.9336,  34.2117,2,  34.2102,2,   -999.0,9,    155.3,2,    27.30,2,    20.43,2,     0.00,2,     1.52,2,    1.611,2,    0.754,2, -999.000,9,-999.0000,9,  -999.00,9,   -999.0,9,   -999.0,9,  -999.00,9,-999.0000,-999.000,  9.8860,-999.000
      325023_1,  P14N,    90,  1,     26,     26,2,19930730,1227, 17.5045, 179.0015, 4883,    510.3,   7.7299,  34.1880,2,  34.1871,2,   -999.0,9,     94.3,2,    49.46,2,    30.13,2,     0.00,2,     2.26,2,    0.613,2,    0.284,2, -999.000,9,-999.0000,9,  -999.00,9,   -999.0,9,   -999.0,9,  -999.00,9,-999.0000,-999.000,  7.6789,-999.000
      325023_1,  P14N,    90,  1,     25,     25,2,19930730,1227, 17.5045, 179.0015, 4883,    609.9,   6.4208,  34.2784,2,  34.2804,2,   -999.0,9,     49.1,2,    69.29,2,    36.89,2,     0.00,2,     2.72,2,    0.118,3,    0.052,2, -999.000,9,-999.0000,9,  -999.00,9,   -999.0,9,   -999.0,9,  -999.00,9,-999.0000,-999.000,  6.3653,-999.000
      325023_1,  P14N,    90,  1,     24,     24,2,19930730,1227, 17.5045, 179.0015, 4883,    711.3,   5.7617,  34.3677,2,  34.3682,2,   -999.0,9,     39.9,2,    80.36,2,    39.38,2,     0.00,2,     2.88,2,    0.022,2,    0.006,2, -999.000,9,-999.0000,9,  -999.00,9,   -999.0,9,   -999.0,9,  -999.00,9,-999.0000,-999.000,  5.7000,-999.000
      325023_1,  P14N,    90,  1,     23,     23,2,19930730,1227, 17.5045, 179.0015, 4883,    812.5,   5.2845,  34.4334,2,  34.4324,2,   -999.0,9,     44.5,2,    87.80,2,    40.11,2,     0.00,2,     2.92,2,    0.006,2,    0.004,2, -999.000,9,-999.0000,9,  -999.00,9,   -999.0,9,   -999.0,9,  -999.00,9,-999.0000,-999.000,  5.2162,-999.000
      325023_1,  P14N,    90,  1,     22,     22,2,19930730,1227, 17.5045, 179.0015, 4883,    912.5,   4.7929,  34.4810,2,  34.4820,2,   -999.0,9,     57.1,2,    95.89,2,    39.83,2,     0.00,2,     2.87,2, -999.000,5, -999.000,5, -999.000,9,-999.0000,9,  -999.00,9,   -999.0,9,   -999.0,9,  -999.00,9,-999.0000,-999.000,  4.7189,-999.000
      325023_1,  P14N,    90,  1,     21,     21,2,19930730,1227, 17.5045, 179.0015, 4883,   1012.6,   4.3542,  34.5067,2,  34.5076,2,   -999.0,9,     64.3,2,   104.87,2,    40.06,2,     0.00,2,     2.87,2, -999.000,5, -999.000,5, -999.000,9,-999.0000,9,  -999.00,9,   -999.0,9,   -999.0,9,  -999.00,9,-999.0000,-999.000,  4.2747,-999.000
      325023_1,  P14N,    90,  1,     20,     20,2,19930730,1227, 17.5045, 179.0015, 4883,   1214.3,   3.5607,  34.5460,2,  34.5454,2,   -999.0,9,     70.9,2,   121.29,2,    40.51,2,     0.00,2,     2.90,2, -999.000,5, -999.000,5, -999.000,9,-999.0000,9,  -999.00,9,   -999.0,9,   -999.0,9,  -999.00,9,-999.0000,-999.000,  3.4708,-999.000
      325023_1,  P14N,    90,  1,     19,     19,2,19930730,1227, 17.5045, 179.0015, 4883,   1416.4,   2.9928,  34.5704,2,  34.5705,2,   -999.0,9,     78.0,2,   133.45,2,    40.32,2,     0.00,2,     2.88,2, -999.000,5, -999.000,5, -999.000,9,-999.0000,9,  -999.00,9,   -999.0,9,   -999.0,9,  -999.00,9,-999.0000,-999.000,  2.8920,-999.000
      325023_1,  P14N,    90,  1,     18,     18,2,19930730,1227, 17.5045, 179.0015, 4883,   1618.5,   2.5755,  34.5931,2,  34.5932,2,   -999.0,9,     86.5,2,   141.94,2,    40.04,2,     0.00,2,     2.84,2, -999.000,5, -999.000,5, -999.000,9,-999.0000,9,  -999.00,9,   -999.0,9,   -999.0,9,  -999.00,9,-999.0000,-999.000,  2.4629,-999.000
      325023_1,  P14N,    90,  1,     17,     17,2,19930730,1227, 17.5045, 179.0015, 4883,   1819.8,   2.3439,  34.6074,2,  34.6071,2,   -999.0,9,     93.2,2,   146.48,2,    39.67,2,     0.00,2,     2.81,2, -999.000,5, -999.000,5, -999.000,9,-999.0000,9,  -999.00,9,   -999.0,9,   -999.0,9,  -999.00,9,-999.0000,-999.000,  2.2176,-999.000
      325023_1,  P14N,    90,  1,     16,     16,2,19930730,1227, 17.5045, 179.0015, 4883,   2023.6,   2.1385,  34.6208,2,  34.6210,2,   -999.0,9,    100.5,2,   150.59,2,    39.26,2,     0.00,2,     2.78,2, -999.000,5, -999.000,5, -999.000,9,-999.0000,9,  -999.00,9,   -999.0,9,   -999.0,9,  -999.00,9,-999.0000,-999.000,  1.9980,-999.000
      325023_1,  P14N,    90,  1,     15,     15,2,19930730,1227, 17.5045, 179.0015, 4883,   2226.1,   1.9252,  34.6355,2,  34.6359,2,   -999.0,9,    109.1,2,   154.71,2,    38.75,2,     0.00,2,     2.73,2, -999.000,5, -999.000,5, -999.000,9,-999.0000,9,  -999.00,9,   -999.0,9,   -999.0,9,  -999.00,9,-999.0000,-999.000,  1.7707,-999.000
      325023_1,  P14N,    90,  1,     14,     14,2,19930730,1227, 17.5045, 179.0015, 4883,   2430.4,   1.7825,  34.6464,2,  34.6460,2,   -999.0,9,    116.5,2,   156.60,2,    38.29,2,     0.00,2,     2.69,2, -999.000,5, -999.000,5, -999.000,9,-999.0000,9,  -999.00,9,   -999.0,9,   -999.0,9,  -999.00,9,-999.0000,-999.000,  1.6125,-999.000
      325023_1,  P14N,    90,  1,     13,     13,2,19930730,1227, 17.5045, 179.0015, 4883,   2632.8,   1.7133,  34.6541,2,  34.6543,2,   -999.0,9,    121.6,2,   157.15,2,    37.97,2,     0.00,2,     2.67,2, -999.000,5, -999.000,5, -999.000,9,-999.0000,9,  -999.00,9,   -999.0,9,   -999.0,9,  -999.00,9,-999.0000,-999.000,  1.5264,-999.000
      325023_1,  P14N,    90,  1,     12,     12,2,19930730,1227, 17.5045, 179.0015, 4883,   2835.7,   1.6311,  34.6617,2,  34.6631,2,   -999.0,9,    127.9,2,   157.26,2,    37.42,2,     0.00,2,     2.63,2, -999.000,5, -999.000,5, -999.000,9,-999.0000,9,  -999.00,9,   -999.0,9,   -999.0,9,  -999.00,9,-999.0000,-999.000,  1.4271,-999.000
      325023_1,  P14N,    90,  1,     11,     11,2,19930730,1227, 17.5045, 179.0015, 4883,   3038.1,   1.5836,  34.6651,2,  34.6652,2,   -999.0,9,    132.9,2,   156.46,2,    37.23,2,     0.00,2,     2.61,2, -999.000,5, -999.000,5, -999.000,9,-999.0000,9,  -999.00,9,   -999.0,9,   -999.0,9,  -999.00,9,-999.0000,-999.000,  1.3614,-999.000
      325023_1,  P14N,    90,  1,     10,     10,2,19930730,1227, 17.5045, 179.0015, 4883,   3241.3,   1.5548,  34.6711,2,  34.6716,2,   -999.0,9,    136.3,2,   157.24,2,    37.05,2,     0.00,2,     2.58,2, -999.000,5, -999.000,5, -999.000,9,-999.0000,9,  -999.00,9,   -999.0,9,   -999.0,9,  -999.00,9,-999.0000,-999.000,  1.3133,-999.000
      325023_1,  P14N,    90,  1,      9,      9,2,19930730,1227, 17.5045, 179.0015, 4883,   3445.9,   1.5171,  34.6749,2,  34.6745,2,   -999.0,9,    141.2,2,   156.23,2,    36.73,2,     0.00,2,     2.57,2, -999.000,5, -999.000,5, -999.000,9,-999.0000,9,  -999.00,9,   -999.0,9,   -999.0,9,  -999.00,9,-999.0000,-999.000,  1.2561,-999.000
      325023_1,  P14N,    90,  1,      8,      8,2,19930730,1227, 17.5045, 179.0015, 4883,   3649.4,   1.4832,  34.6785,2,  34.6790,2,   -999.0,9,    146.0,2,   154.99,2,    36.37,2,     0.00,2,     2.54,2, -999.000,5, -999.000,5, -999.000,9,-999.0000,9,  -999.00,9,   -999.0,9,   -999.0,9,  -999.00,9,-999.0000,-999.000,  1.2021,-999.000
      325023_1,  P14N,    90,  1,      7,      7,2,19930730,1227, 17.5045, 179.0015, 4883,   3855.2,   1.4547,  34.6825,2,  34.6827,2,   -999.0,9,    151.7,2,   152.65,2,    35.96,2,     0.00,2,     2.51,2, -999.000,5, -999.000,5, -999.000,9,-999.0000,9,  -999.00,9,   -999.0,9,   -999.0,9,  -999.00,9,-999.0000,-999.000,  1.1527,-999.000
      325023_1,  P14N,    90,  1,      6,      6,2,19930730,1227, 17.5045, 179.0015, 4883,   4058.3,   1.4451,  34.6849,2,  34.6856,2,   -999.0,9,    155.6,2,   150.97,2,    35.70,2,     0.00,2,     2.48,2, -999.000,5, -999.000,5, -999.000,9,-999.0000,9,  -999.00,9,   -999.0,9,   -999.0,9,  -999.00,9,-999.0000,-999.000,  1.1214,-999.000
      325023_1,  P14N,    90,  1,      5,      5,2,19930730,1227, 17.5045, 179.0015, 4883,   4262.9,   1.4135,  34.6885,2,  34.6891,2,   -999.0,9,    162.1,2,   146.87,2,    35.20,2,     0.00,2,     2.44,2, -999.000,5, -999.000,5, -999.000,9,-999.0000,9,  -999.00,9,   -999.0,9,   -999.0,9,  -999.00,9,-999.0000,-999.000,  1.0680,-999.000
      325023_1,  P14N,    90,  1,      4,      4,2,19930730,1227, 17.5045, 179.0015, 4883,   4469.1,   1.3754,  34.6929,2,  34.6928,2,   -999.0,9,    170.5,2,   141.24,2,    34.53,2,     0.00,2,     2.40,2, -999.000,5, -999.000,5, -999.000,9,-999.0000,9,  -999.00,9,   -999.0,9,   -999.0,9,  -999.00,9,-999.0000,-999.000,  1.0078,-999.000
      325023_1,  P14N,    90,  1,      3,      3,2,19930730,1227, 17.5045, 179.0015, 4883,   4677.2,   1.3353,  34.6971,2,  34.6979,2,   -999.0,9,    179.5,2,   135.86,2,    33.91,2,     0.00,2,     2.34,2, -999.000,5, -999.000,5, -999.000,9,-999.0000,9,  -999.00,9,   -999.0,9,   -999.0,9,  -999.00,9,-999.0000,-999.000,  0.9449,-999.000
      325023_1,  P14N,    90,  1,      2,      2,2,19930730,1227, 17.5045, 179.0015, 4883,   4880.6,   1.3237,  34.6996,2,  34.6988,2,   -999.0,9,    184.3,2,   133.12,2,    33.51,2,     0.00,2,     2.32,2, -999.000,5, -999.000,5, -999.000,9,-999.0000,9,  -999.00,9,   -999.0,9,   -999.0,9,  -999.00,9,-999.0000,-999.000,  0.9097,-999.000
      325023_1,  P14N,    90,  1,      1,      1,2,19930730,1227, 17.5045, 179.0015, 4883,   4947.9,   1.3271,  34.7000,2,  34.7004,2,   -999.0,9,    184.3,2,   132.80,2,    33.50,2,     0.00,2,     2.32,2, -999.000,5, -999.000,5, -999.000,9,-999.0000,9,  -999.00,9,   -999.0,9,   -999.0,9,  -999.00,9,-999.0000,-999.000,  0.9049,-999.000