BOTTLE,20131125MIRCJHATS
EXPOCODE,SECT_ID,STNNBR,CASTNO,SAMPNO,BTLNBR,BTLNBR_FLAG_W,DATE,TIME,LATITUDE,LONGITUDE,DEPTH,CTDPRS,CTDTMP,CTDSAL,CTDSAL_FLAG_W,SALNTY,SALNTY_FLAG_W,CTDOXY,CTDOXY_FLAG_W,OXYGEN,OXYGEN_FLAG_W,SILCAT,SILCAT_FLAG_W,NITRAT,NITRAT_FLAG_W,NITRIT,NITRIT_FLAG_W,PHSPHT,PHSPHT_FLAG_W,CFC-11,CFC-11_FLAG_W,CFC-12,CFC-12_FLAG_W,TRITUM,TRITUM_FLAG_W,HELIUM,HELIUM_FLAG_W,DELHE3,DELHE3_FLAG_W,TCARBN,TCARBN_FLAG_W,ALKALI,ALKALI_FLAG_W,PH,PH_FLAG_W,HELIER,DELHER,THETA,TRITER
,,,,,,,,,,,,DBAR,ITS-90,PSS-78,,PSS-78,,UMOL/KG,,UMOL/KG,,UMOL/KG,,UMOL/KG,,UMOL/KG,,UMOL/KG,,PMOL/KG,,PMOL/KG,,TU,,NMOL/KG,,PERCNT,,UMOL/KG,,UMOL/KG,,25_DEG,,NMOL/KG,PERCNT,DEG C,TU
      325023_1,  P14N,    18,  1,     34,     34,4,19930710,1744, 51.6285,-179.9392, 1888,      3.3,   5.3887,  33.0365,2,  33.0363,2,   -999.0,9,    299.6,2,    41.28,2,    21.66,2,     0.25,2,     1.79,2, -999.000,5, -999.000,5, -999.000,9,-999.0000,9,  -999.00,9,   -999.0,9,   -999.0,9,  -999.00,9,-999.0000,-999.000,  5.3885,-999.000
      325023_1,  P14N,    18,  1,     33,     33,4,19930710,1744, 51.6285,-179.9392, 1888,     35.4,   4.9926,  33.1917,2,  33.1932,2,   -999.0,9,    256.8,2,    50.85,2,    25.06,2,     0.28,2,     2.03,2, -999.000,5, -999.000,5, -999.000,9,-999.0000,9,  -999.00,9,   -999.0,9,   -999.0,9,  -999.00,9,-999.0000,-999.000,  4.9900,-999.000
      325023_1,  P14N,    18,  1,     32,     32,4,19930710,1744, 51.6285,-179.9392, 1888,     65.9,   4.5891,  33.2783,2,  33.2686,2,   -999.0,9,    232.8,2,    57.68,2,    27.14,2,     0.29,2,     2.17,2, -999.000,5, -999.000,5, -999.000,9,-999.0000,9,  -999.00,9,   -999.0,9,   -999.0,9,  -999.00,9,-999.0000,-999.000,  4.5844,-999.000
      325023_1,  P14N,    18,  1,     35,     35,2,19930710,1744, 51.6285,-179.9392, 1888,     85.5,   4.3432,  33.3646,2,-999.0000,9,   -999.0,9,   -999.0,9,  -999.00,9,  -999.00,9,  -999.00,9,  -999.00,9, -999.000,5, -999.000,5, -999.000,9,-999.0000,9,  -999.00,9,   -999.0,9,   -999.0,9,  -999.00,9,-999.0000,-999.000,  4.3372,-999.000
      325023_1,  P14N,    18,  1,     31,     31,4,19930710,1744, 51.6285,-179.9392, 1888,    106.1,   4.3075,  33.3949,2,  33.3928,2,   -999.0,9,    212.7,2,    66.34,2,    30.11,2,     0.22,2,     2.33,2, -999.000,5, -999.000,5, -999.000,9,-999.0000,9,  -999.00,9,   -999.0,9,   -999.0,9,  -999.00,9,-999.0000,-999.000,  4.3001,-999.000
      325023_1,  P14N,    18,  1,     30,     30,4,19930710,1744, 51.6285,-179.9392, 1888,    126.6,   4.2504,  33.4024,2,  33.4026,2,   -999.0,9,    205.7,2,    67.66,2,    30.59,2,     0.24,2,     2.36,2, -999.000,5, -999.000,5, -999.000,9,-999.0000,9,  -999.00,9,   -999.0,9,   -999.0,9,  -999.00,9,-999.0000,-999.000,  4.2417,-999.000
      325023_1,  P14N,    18,  1,     29,     29,4,19930710,1744, 51.6285,-179.9392, 1888,    146.9,   4.0894,  33.4305,2,  33.4254,2,   -999.0,9,    198.8,2,    69.43,2,    31.40,2,     0.23,2,     2.38,2, -999.000,5, -999.000,5, -999.000,9,-999.0000,9,  -999.00,9,   -999.0,9,   -999.0,9,  -999.00,9,-999.0000,-999.000,  4.0794,-999.000
      325023_1,  P14N,    18,  1,     28,     28,4,19930710,1744, 51.6285,-179.9392, 1888,    167.2,   3.8793,  33.4882,2,  33.4917,2,   -999.0,9,    181.2,2,    73.74,2,    33.26,2,     0.17,2,     2.49,2, -999.000,5, -999.000,5, -999.000,9,-999.0000,9,  -999.00,9,   -999.0,9,   -999.0,9,  -999.00,9,-999.0000,-999.000,  3.8681,-999.000
      325023_1,  P14N,    18,  1,     27,     27,4,19930710,1744, 51.6285,-179.9392, 1888,    187.4,   3.8129,  33.5281,2,  33.5296,2,   -999.0,9,    170.5,2,    75.74,2,    34.14,2,     0.14,2,     2.53,2, -999.000,5, -999.000,5, -999.000,9,-999.0000,9,  -999.00,9,   -999.0,9,   -999.0,9,  -999.00,9,-999.0000,-999.000,  3.8005,-999.000
      325023_1,  P14N,    18,  1,     26,     26,4,19930710,1744, 51.6285,-179.9392, 1888,    207.3,   3.7904,  33.6006,2,  33.6015,2,   -999.0,9,    148.7,2,    80.51,2,    35.62,2,     0.10,2,     2.62,2, -999.000,5, -999.000,5, -999.000,9,-999.0000,9,  -999.00,9,   -999.0,9,   -999.0,9,  -999.00,9,-999.0000,-999.000,  3.7766,-999.000
      325023_1,  P14N,    18,  1,     25,     25,4,19930710,1744, 51.6285,-179.9392, 1888,    257.8,   3.7488,  33.7183,2,  33.7163,2,   -999.0,9,    115.1,2,    87.81,2,    38.02,2,     0.05,2,     2.75,2, -999.000,5, -999.000,5, -999.000,9,-999.0000,9,  -999.00,9,   -999.0,9,   -999.0,9,  -999.00,9,-999.0000,-999.000,  3.7317,-999.000
      325023_1,  P14N,    18,  1,     24,     24,4,19930710,1744, 51.6285,-179.9392, 1888,    308.5,   3.7098,  33.8052,2,  33.8044,2,   -999.0,9,     93.4,2,    93.98,2,    39.49,2,     0.03,2,     2.84,2, -999.000,5, -999.000,5, -999.000,9,-999.0000,9,  -999.00,9,   -999.0,9,   -999.0,9,  -999.00,9,-999.0000,-999.000,  3.6891,-999.000
      325023_1,  P14N,    18,  1,     23,     23,4,19930710,1744, 51.6285,-179.9392, 1888,    358.5,   3.6514,  33.8587,2,  33.8591,2,   -999.0,9,     82.6,2,    98.76,2,    40.26,2,     0.03,2,     2.88,2, -999.000,5, -999.000,5, -999.000,9,-999.0000,9,  -999.00,9,   -999.0,9,   -999.0,9,  -999.00,9,-999.0000,-999.000,  3.6274,-999.000
      325023_1,  P14N,    18,  1,     22,     22,4,19930710,1744, 51.6285,-179.9392, 1888,    409.0,   3.5955,  33.9363,2,  33.9387,2,   -999.0,9,     65.5,2,   105.17,2,    41.36,2,     0.02,2,     2.95,2, -999.000,5, -999.000,5, -999.000,9,-999.0000,9,  -999.00,9,   -999.0,9,   -999.0,9,  -999.00,9,-999.0000,-999.000,  3.5681,-999.000
      325023_1,  P14N,    18,  1,     21,     21,4,19930710,1744, 51.6285,-179.9392, 1888,    459.5,   3.5567,  33.9726,2,  33.9720,2,   -999.0,9,     59.6,2,   108.82,2,    41.72,2,     0.02,2,     2.98,2, -999.000,5, -999.000,5, -999.000,9,-999.0000,9,  -999.00,9,   -999.0,9,   -999.0,9,  -999.00,9,-999.0000,-999.000,  3.5258,-999.000
      325023_1,  P14N,    18,  1,     20,     20,4,19930710,1744, 51.6285,-179.9392, 1888,    510.0,   3.5129,  34.0135,2,  34.0177,2,   -999.0,9,     52.5,2,   112.69,2,    42.26,2,     0.02,2,     3.00,2, -999.000,5, -999.000,5, -999.000,9,-999.0000,9,  -999.00,9,   -999.0,9,   -999.0,9,  -999.00,9,-999.0000,-999.000,  3.4786,-999.000
      325023_1,  P14N,    18,  1,     19,     19,4,19930710,1744, 51.6285,-179.9392, 1888,    560.2,   3.4675,  34.0493,2,  34.0500,2,   -999.0,9,     47.1,2,   116.34,2,    42.45,2,     0.01,2,     3.02,2, -999.000,5, -999.000,5, -999.000,9,-999.0000,9,  -999.00,9,   -999.0,9,   -999.0,9,  -999.00,9,-999.0000,-999.000,  3.4298,-999.000
      325023_1,  P14N,    18,  1,     18,     18,4,19930710,1744, 51.6285,-179.9392, 1888,    609.9,   3.3935,  34.0965,2,  34.0972,2,   -999.0,9,     41.3,2,   121.16,2,    42.95,2,     0.01,2,     3.04,2, -999.000,5, -999.000,5, -999.000,9,-999.0000,9,  -999.00,9,   -999.0,9,   -999.0,9,  -999.00,9,-999.0000,-999.000,  3.3525,-999.000
      325023_1,  P14N,    18,  1,     17,     17,4,19930710,1744, 51.6285,-179.9392, 1888,    659.9,   3.2471,  34.1722,2,  34.1723,2,   -999.0,9,     34.2,2,   128.80,2,    43.32,2,     0.01,2,     3.07,2, -999.000,5, -999.000,5, -999.000,9,-999.0000,9,  -999.00,9,   -999.0,9,   -999.0,9,  -999.00,9,-999.0000,-999.000,  3.2031,-999.000
      325023_1,  P14N,    18,  1,     16,     16,4,19930710,1744, 51.6285,-179.9392, 1888,    710.6,   3.1530,  34.2175,2,  34.2195,2,   -999.0,9,     30.7,2,   133.88,2,    43.49,2,     0.01,2,     3.09,2, -999.000,5, -999.000,5, -999.000,9,-999.0000,9,  -999.00,9,   -999.0,9,   -999.0,9,  -999.00,9,-999.0000,-999.000,  3.1059,-999.000
      325023_1,  P14N,    18,  1,     15,     15,4,19930710,1744, 51.6285,-179.9392, 1888,    760.2,   2.9860,  34.2783,2,  34.2714,3,   -999.0,9,     28.8,2,   141.56,3,    43.43,2,     0.01,2,     3.09,2, -999.000,5, -999.000,5, -999.000,9,-999.0000,9,  -999.00,9,   -999.0,9,   -999.0,9,  -999.00,9,-999.0000,-999.000,  2.9362,-999.000
      325023_1,  P14N,    18,  1,     14,     14,4,19930710,1744, 51.6285,-179.9392, 1888,    807.7,   2.9496,  34.2914,2,  34.2904,2,   -999.0,9,     28.6,2,   143.14,2,    43.53,2,     0.01,2,     3.08,2, -999.000,5, -999.000,5, -999.000,9,-999.0000,9,  -999.00,9,   -999.0,9,   -999.0,9,  -999.00,9,-999.0000,-999.000,  2.8966,-999.000
      325023_1,  P14N,    18,  1,     36,     36,2,19930710,1744, 51.6285,-179.9392, 1888,    859.0,   2.9063,  34.3075,2,-999.0000,9,   -999.0,9,   -999.0,9,  -999.00,9,  -999.00,9,  -999.00,9,  -999.00,9, -999.000,5, -999.000,5, -999.000,9,-999.0000,9,  -999.00,9,   -999.0,9,   -999.0,9,  -999.00,9,-999.0000,-999.000,  2.8498,-999.000
      325023_1,  P14N,    18,  1,     13,     13,2,19930710,1744, 51.6285,-179.9392, 1888,    911.9,   2.8193,  34.3376,2,  34.3364,2,   -999.0,9,     27.5,2,   148.97,2,    43.52,2,     0.01,2,     3.08,2, -999.000,5, -999.000,5, -999.000,9,-999.0000,9,  -999.00,9,   -999.0,9,   -999.0,9,  -999.00,9,-999.0000,-999.000,  2.7595,-999.000
      325023_1,  P14N,    18,  1,     12,     12,2,19930710,1744, 51.6285,-179.9392, 1888,    963.8,   2.7710,  34.3538,2,  34.3533,2,   -999.0,9,     27.6,2,   151.03,2,    43.65,2,     0.01,2,     3.08,2, -999.000,5, -999.000,5, -999.000,9,-999.0000,9,  -999.00,9,   -999.0,9,   -999.0,9,  -999.00,9,-999.0000,-999.000,  2.7078,-999.000
      325023_1,  P14N,    18,  1,     11,     11,2,19930710,1744, 51.6285,-179.9392, 1888,   1012.1,   2.7399,  34.3649,2,  34.3741,3,   -999.0,9,     27.9,2,   152.14,2,    43.60,2,     0.01,2,     3.08,2, -999.000,5, -999.000,5, -999.000,9,-999.0000,9,  -999.00,9,   -999.0,9,   -999.0,9,  -999.00,9,-999.0000,-999.000,  2.6734,-999.000
      325023_1,  P14N,    18,  1,     10,     10,2,19930710,1744, 51.6285,-179.9392, 1888,   1108.8,   2.6784,  34.3853,2,  34.3827,2,   -999.0,9,     28.6,2,   154.21,2,    43.46,2,     0.01,2,     3.08,2, -999.000,5, -999.000,5, -999.000,9,-999.0000,9,  -999.00,9,   -999.0,9,   -999.0,9,  -999.00,9,-999.0000,-999.000,  2.6052,-999.000
      325023_1,  P14N,    18,  1,      9,      9,2,19930710,1744, 51.6285,-179.9392, 1888,   1210.8,   2.6343,  34.3992,2,  34.3987,2,   -999.0,9,     29.4,2,   156.51,2,    43.45,2,     0.01,2,     3.08,2, -999.000,5, -999.000,5, -999.000,9,-999.0000,9,  -999.00,9,   -999.0,9,   -999.0,9,  -999.00,9,-999.0000,-999.000,  2.5537,-999.000
      325023_1,  P14N,    18,  1,      8,      8,2,19930710,1744, 51.6285,-179.9392, 1888,   1318.8,   2.6048,  34.4103,2,  34.4111,2,   -999.0,9,     29.4,2,   158.10,2,    43.45,2,     0.01,2,     3.06,2, -999.000,5, -999.000,5, -999.000,9,-999.0000,9,  -999.00,9,   -999.0,9,   -999.0,9,  -999.00,9,-999.0000,-999.000,  2.5162,-999.000
      325023_1,  P14N,    18,  1,      7,      7,2,19930710,1744, 51.6285,-179.9392, 1888,   1419.7,   2.6014,  34.4137,2,  34.4142,2,   -999.0,9,     30.0,2,   158.27,2,    43.50,2,     0.00,2,     3.06,2, -999.000,5, -999.000,5, -999.000,9,-999.0000,9,  -999.00,9,   -999.0,9,   -999.0,9,  -999.00,9,-999.0000,-999.000,  2.5050,-999.000
      325023_1,  P14N,    18,  1,      6,      6,2,19930710,1744, 51.6285,-179.9392, 1888,   1518.7,   2.6014,  34.4163,2,  34.4238,3,   -999.0,9,     29.6,2,   159.14,2,    43.45,2,     0.00,2,     3.06,2, -999.000,5, -999.000,5, -999.000,9,-999.0000,9,  -999.00,9,   -999.0,9,   -999.0,9,  -999.00,9,-999.0000,-999.000,  2.4971,-999.000
      325023_1,  P14N,    18,  1,      5,      5,2,19930710,1744, 51.6285,-179.9392, 1888,   1621.2,   2.5973,  34.4197,2,  34.4240,2,   -999.0,9,     29.9,2,   159.55,2,    43.44,2,     0.01,2,     3.06,2, -999.000,5, -999.000,5, -999.000,9,-999.0000,9,  -999.00,9,   -999.0,9,   -999.0,9,  -999.00,9,-999.0000,-999.000,  2.4847,-999.000
      325023_1,  P14N,    18,  1,      4,      4,2,19930710,1744, 51.6285,-179.9392, 1888,   1726.1,   2.6016,  34.4208,2,  34.4230,2,   -999.0,9,     30.3,2,   161.62,3,    43.39,2,     0.00,2,     3.05,2, -999.000,5, -999.000,5, -999.000,9,-999.0000,9,  -999.00,9,   -999.0,9,   -999.0,9,  -999.00,9,-999.0000,-999.000,  2.4802,-999.000
      325023_1,  P14N,    18,  1,      3,      3,2,19930710,1744, 51.6285,-179.9392, 1888,   1828.4,   2.6023,  34.4235,2,  34.4225,2,   -999.0,9,     30.4,2,   159.16,2,    43.39,2,     0.00,2,     3.06,2, -999.000,5, -999.000,5, -999.000,9,-999.0000,9,  -999.00,9,   -999.0,9,   -999.0,9,  -999.00,9,-999.0000,-999.000,  2.4723,-999.000
      325023_1,  P14N,    18,  1,      2,      2,2,19930710,1744, 51.6285,-179.9392, 1888,   1897.1,   2.6015,  34.4250,2,  34.4246,2,   -999.0,9,     30.5,2,   159.57,2,    43.38,2,     0.01,2,     3.05,2, -999.000,5, -999.000,5, -999.000,9,-999.0000,9,  -999.00,9,   -999.0,9,   -999.0,9,  -999.00,9,-999.0000,-999.000,  2.4656,-999.000
      325023_1,  P14N,    18,  1,      1,      1,2,19930710,1744, 51.6285,-179.9392, 1888,   1897.4,   2.6017,  34.4252,2,  34.4242,2,   -999.0,9,     30.5,2,   159.49,2,    43.38,2,     0.01,2,     3.06,2, -999.000,5, -999.000,5, -999.000,9,-999.0000,9,  -999.00,9,   -999.0,9,   -999.0,9,  -999.00,9,-999.0000,-999.000,  2.4658,-999.000