BOTTLE,20131125MIRCJHATS
EXPOCODE,SECT_ID,STNNBR,CASTNO,SAMPNO,BTLNBR,BTLNBR_FLAG_W,DATE,TIME,LATITUDE,LONGITUDE,DEPTH,CTDPRS,CTDTMP,CTDSAL,CTDSAL_FLAG_W,SALNTY,SALNTY_FLAG_W,CTDOXY,CTDOXY_FLAG_W,OXYGEN,OXYGEN_FLAG_W,SILCAT,SILCAT_FLAG_W,NITRAT,NITRAT_FLAG_W,NITRIT,NITRIT_FLAG_W,PHSPHT,PHSPHT_FLAG_W,CFC-11,CFC-11_FLAG_W,CFC-12,CFC-12_FLAG_W,TRITUM,TRITUM_FLAG_W,HELIUM,HELIUM_FLAG_W,DELHE3,DELHE3_FLAG_W,TCARBN,TCARBN_FLAG_W,ALKALI,ALKALI_FLAG_W,PH,PH_FLAG_W,HELIER,DELHER,THETA,TRITER
,,,,,,,,,,,,DBAR,ITS-90,PSS-78,,PSS-78,,UMOL/KG,,UMOL/KG,,UMOL/KG,,UMOL/KG,,UMOL/KG,,UMOL/KG,,PMOL/KG,,PMOL/KG,,TU,,NMOL/KG,,PERCNT,,UMOL/KG,,UMOL/KG,,25_DEG,,NMOL/KG,PERCNT,DEG C,TU
      325024_1,  P14N,   145,  1,     36,     36,2,19930819,0913, -0.4957, 178.9988, 5464,      2.6,  30.0342,  34.2850,2,  34.2920,2,   -999.0,9,    195.7,2,     2.77,2,     0.00,2,     0.01,2,     0.16,2,    1.534,2,    0.837,2, -999.000,9,-999.0000,9,  -999.00,9,   -999.0,9,   -999.0,9,  -999.00,9,-999.0000,-999.000, 30.0336,-999.000
      325024_1,  P14N,   145,  1,     35,     35,2,19930819,0913, -0.4957, 178.9988, 5464,     32.9,  30.0351,  34.4234,2,  34.4487,2,   -999.0,9,    195.1,2,     2.48,2,     0.00,2,     0.01,2,     0.17,2,    1.523,2,    0.845,2, -999.000,9,-999.0000,9,  -999.00,9,   -999.0,9,   -999.0,9,  -999.00,9,-999.0000,-999.000, 30.0270,-999.000
      325024_1,  P14N,   145,  1,     34,     34,2,19930819,0913, -0.4957, 178.9988, 5464,     63.3,  30.0604,  34.8684,2,  34.9003,2,   -999.0,9,    197.1,2,     2.38,2,     0.00,2,     0.01,2,     0.19,2,    1.564,2,    0.846,2, -999.000,9,-999.0000,9,  -999.00,9,   -999.0,9,   -999.0,9,  -999.00,9,-999.0000,-999.000, 30.0446,-999.000
      325024_1,  P14N,   145,  1,     33,     33,2,19930819,0913, -0.4957, 178.9988, 5464,     93.5,  29.2242,  35.1183,2,  35.2600,2,   -999.0,9,    182.0,2,     2.68,2,     2.06,2,     0.24,2,     0.40,2,    1.584,2,    0.852,2, -999.000,9,-999.0000,9,  -999.00,9,   -999.0,9,   -999.0,9,  -999.00,9,-999.0000,-999.000, 29.2015,-999.000
      325024_1,  P14N,   145,  1,     32,     32,2,19930819,0913, -0.4957, 178.9988, 5464,    123.4,  22.4509,  35.2983,2,  35.2970,2,   -999.0,9,    138.7,2,     4.54,2,     8.30,2,     0.04,2,     0.72,2,    1.557,2,    0.821,2, -999.000,9,-999.0000,9,  -999.00,9,   -999.0,9,   -999.0,9,  -999.00,9,-999.0000,-999.000, 22.4261,-999.000
      325024_1,  P14N,   145,  1,     31,     31,2,19930819,0913, -0.4957, 178.9988, 5464,    153.9,  21.6482,  35.2795,2,  35.2869,2,   -999.0,9,    137.0,2,     5.04,2,     8.96,2,     0.04,2,     0.74,2,    1.543,2,    0.805,2, -999.000,9,-999.0000,9,  -999.00,9,   -999.0,9,   -999.0,9,  -999.00,9,-999.0000,-999.000, 21.6181,-999.000
      325024_1,  P14N,   145,  1,     30,     30,2,19930819,0913, -0.4957, 178.9988, 5464,    204.3,  16.9813,  35.1915,2,  35.1337,2,   -999.0,9,    137.6,2,    10.63,2,    13.90,2,     0.01,2,     1.08,2,    1.209,6,    0.614,6, -999.000,9,-999.0000,9,  -999.00,9,   -999.0,9,   -999.0,9,  -999.00,9,-999.0000,-999.000, 16.9475,-999.000
      325024_1,  P14N,   145,  1,     29,     29,2,19930819,0913, -0.4957, 178.9988, 5464,    254.7,  13.4522,  34.9244,2,  34.9173,2,   -999.0,9,    132.5,2,    16.43,2,    18.47,2,     0.00,2,     1.37,2,    0.906,2,    0.464,2, -999.000,9,-999.0000,9,  -999.00,9,   -999.0,9,   -999.0,9,  -999.00,9,-999.0000,-999.000, 13.4163,-999.000
      325024_1,  P14N,   145,  1,     28,     28,2,19930819,0913, -0.4957, 178.9988, 5464,    304.7,  11.6286,  34.8187,2,  34.8183,2,   -999.0,9,     98.4,2,    22.02,2,    24.78,2,     0.00,2,     1.77,2,    0.503,2,    0.254,2, -999.000,9,-999.0000,9,  -999.00,9,   -999.0,9,   -999.0,9,  -999.00,9,-999.0000,-999.000, 11.5896,-999.000
      325024_1,  P14N,   145,  1,     27,     27,2,19930819,0913, -0.4957, 178.9988, 5464,    405.5,   9.2350,  34.6732,2,  34.6731,2,   -999.0,9,     89.2,2,    30.35,2,    30.32,2,     0.00,2,     2.14,2,    0.185,2,    0.088,2, -999.000,9,-999.0000,9,  -999.00,9,   -999.0,9,   -999.0,9,  -999.00,9,-999.0000,-999.000,  9.1899,-999.000
      325024_1,  P14N,   145,  1,     26,     26,2,19930819,0913, -0.4957, 178.9988, 5464,    510.7,   8.0002,  34.6037,2,  34.6036,2,   -999.0,9,    107.7,2,    34.17,2,    30.99,2,     0.00,2,     2.18,2,    0.121,2,    0.066,2, -999.000,9,-999.0000,9,  -999.00,9,   -999.0,9,   -999.0,9,  -999.00,9,-999.0000,-999.000,  7.9478,-999.000
      325024_1,  P14N,   145,  1,     25,     25,2,19930819,0913, -0.4957, 178.9988, 5464,    611.2,   6.9956,  34.5698,2,  34.5696,2,   -999.0,9,     80.5,2,    47.22,2,    35.97,2,     0.00,2,     2.52,2,    0.030,2,    0.008,2, -999.000,9,-999.0000,9,  -999.00,9,   -999.0,9,   -999.0,9,  -999.00,9,-999.0000,-999.000,  6.9370,-999.000
      325024_1,  P14N,   145,  1,     24,     24,2,19930819,0913, -0.4957, 178.9988, 5464,    712.1,   6.3545,  34.5604,2,  34.5588,2,   -999.0,9,     65.5,2,    57.71,2,    39.55,2,     0.00,2,     2.75,2,    0.004,2,    0.001,2, -999.000,9,-999.0000,9,  -999.00,9,   -999.0,9,   -999.0,9,  -999.00,9,-999.0000,-999.000,  6.2893,-999.000
      325024_1,  P14N,   145,  1,     23,     23,2,19930819,0913, -0.4957, 178.9988, 5464,    812.3,   5.4729,  34.5446,2,  34.5449,2,   -999.0,9,     82.2,2,    68.03,2,    39.04,2,     0.00,2,     2.75,2,    0.003,2,    0.004,2, -999.000,9,-999.0000,9,  -999.00,9,   -999.0,9,   -999.0,9,  -999.00,9,-999.0000,-999.000,  5.4033,-999.000
      325024_1,  P14N,   145,  1,     22,     22,2,19930819,0913, -0.4957, 178.9988, 5464,    914.1,   4.9568,  34.5465,2,  34.5453,2,   -999.0,9,     86.4,2,    76.38,2,    39.07,2,     0.00,2,     2.74,2,    0.002,2,    0.001,2, -999.000,9,-999.0000,9,  -999.00,9,   -999.0,9,   -999.0,9,  -999.00,9,-999.0000,-999.000,  4.8814,-999.000
      325024_1,  P14N,   145,  1,     21,     21,2,19930819,0913, -0.4957, 178.9988, 5464,   1014.3,   4.6905,  34.5509,2,  34.5511,2,   -999.0,9,     83.6,2,    82.97,2,    39.51,2,     0.00,2,     2.81,2,    0.002,2,    0.001,2, -999.000,9,-999.0000,9,  -999.00,9,   -999.0,9,   -999.0,9,  -999.00,9,-999.0000,-999.000,  4.6083,-999.000
      325024_1,  P14N,   145,  1,     20,     20,2,19930819,0913, -0.4957, 178.9988, 5464,   1116.0,   4.2574,  34.5610,2,  34.5609,2,   -999.0,9,     85.0,2,    92.76,2,    39.72,2,     0.00,2,     2.80,2,   -0.002,2,    0.001,2, -999.000,9,-999.0000,9,  -999.00,9,   -999.0,9,   -999.0,9,  -999.00,9,-999.0000,-999.000,  4.1697,-999.000
      325024_1,  P14N,   145,  1,     19,     19,2,19930819,0913, -0.4957, 178.9988, 5464,   1216.7,   3.9750,  34.5686,2,  34.5670,2,   -999.0,9,     90.4,2,    99.58,2,    39.30,2,     0.00,2,     2.79,2,    0.001,2,    0.000,2, -999.000,9,-999.0000,9,  -999.00,9,   -999.0,9,   -999.0,9,  -999.00,9,-999.0000,-999.000,  3.8811,-999.000
      325024_1,  P14N,   145,  1,     18,     18,2,19930819,0913, -0.4957, 178.9988, 5464,   1419.5,   3.3174,  34.5914,2,  34.5905,2,   -999.0,9,     91.6,2,   115.67,2,    39.69,2,     0.00,2,     2.82,2,   -0.001,2,   -0.001,2, -999.000,9,-999.0000,9,  -999.00,9,   -999.0,9,   -999.0,9,  -999.00,9,-999.0000,-999.000,  3.2128,-999.000
      325024_1,  P14N,   145,  1,     17,     17,2,19930819,0913, -0.4957, 178.9988, 5464,   1621.4,   2.8247,  34.6096,2,  34.6091,2,   -999.0,9,    102.8,2,   125.63,2,    38.95,2,     0.00,2,     2.76,2, -999.000,5, -999.000,5, -999.000,9,-999.0000,9,  -999.00,9,   -999.0,9,   -999.0,9,  -999.00,9,-999.0000,-999.000,  2.7088,-999.000
      325024_1,  P14N,   145,  1,     16,     16,2,19930819,0913, -0.4957, 178.9988, 5464,   1824.8,   2.4794,  34.6279,2,  34.6273,2,   -999.0,9,    105.0,2,   135.46,2,    39.12,2,     0.00,2,     2.75,2, -999.000,5, -999.000,5, -999.000,9,-999.0000,9,  -999.00,9,   -999.0,9,   -999.0,9,  -999.00,9,-999.0000,-999.000,  2.3507,-999.000
      325024_1,  P14N,   145,  1,     15,     15,2,19930819,0913, -0.4957, 178.9988, 5464,   2027.1,   2.2123,  34.6409,2,  34.6395,2,   -999.0,9,    112.0,2,   141.05,2,    38.52,2,     0.00,2,     2.70,2, -999.000,5, -999.000,5, -999.000,9,-999.0000,9,  -999.00,9,   -999.0,9,   -999.0,9,  -999.00,9,-999.0000,-999.000,  2.0703,-999.000
      325024_1,  P14N,   145,  1,     14,     14,2,19930819,0913, -0.4957, 178.9988, 5464,   2230.6,   2.0342,  34.6509,2,  34.6508,2,   -999.0,9,    117.0,2,   145.43,2,    38.20,2,     0.00,2,     2.68,2, -999.000,5, -999.000,5, -999.000,9,-999.0000,9,  -999.00,9,   -999.0,9,   -999.0,9,  -999.00,9,-999.0000,-999.000,  1.8774,-999.000
      325024_1,  P14N,   145,  1,     13,     13,2,19930819,0913, -0.4957, 178.9988, 5464,   2434.6,   1.8921,  34.6569,2,  34.6561,2,   -999.0,9,    124.8,2,   145.88,2,    37.70,2,     0.00,2,     2.64,2, -999.000,5, -999.000,5, -999.000,9,-999.0000,9,  -999.00,9,   -999.0,9,   -999.0,9,  -999.00,9,-999.0000,-999.000,  1.7197,-999.000
      325024_1,  P14N,   145,  1,     12,     12,2,19930819,0913, -0.4957, 178.9988, 5464,   2637.9,   1.7905,  34.6636,2,  34.6633,2,   -999.0,9,    127.1,2,   148.62,2,    37.46,2,     0.00,2,     2.62,2, -999.000,5, -999.000,5, -999.000,9,-999.0000,9,  -999.00,9,   -999.0,9,   -999.0,9,  -999.00,9,-999.0000,-999.000,  1.6015,-999.000
      325024_1,  P14N,   145,  1,     11,     11,2,19930819,0913, -0.4957, 178.9988, 5464,   2841.0,   1.7171,  34.6669,2,  34.6658,2,   -999.0,9,    132.2,2,   148.24,2,    37.09,2,     0.00,2,     2.58,2, -999.000,5, -999.000,5, -999.000,9,-999.0000,9,  -999.00,9,   -999.0,9,   -999.0,9,  -999.00,9,-999.0000,-999.000,  1.5108,-999.000
      325024_1,  P14N,   145,  1,     10,     10,2,19930819,0913, -0.4957, 178.9988, 5464,   3045.4,   1.6676,  34.6707,2,  34.6723,2,   -999.0,9,    135.9,2,   148.28,2,    36.69,2,     0.00,2,     2.57,2, -999.000,5, -999.000,5, -999.000,9,-999.0000,9,  -999.00,9,   -999.0,9,   -999.0,9,  -999.00,9,-999.0000,-999.000,  1.4427,-999.000
      325024_1,  P14N,   145,  1,      9,      9,2,19930819,0913, -0.4957, 178.9988, 5464,   3350.7,   1.5590,  34.6776,2,  34.6766,2,   -999.0,9,    145.5,2,   146.67,2,    36.19,2,     0.00,2,     2.52,2, -999.000,5, -999.000,5, -999.000,9,-999.0000,9,  -999.00,9,   -999.0,9,   -999.0,9,  -999.00,9,-999.0000,-999.000,  1.3066,-999.000
      325024_1,  P14N,   145,  1,      8,      8,2,19930819,0913, -0.4957, 178.9988, 5464,   3657.0,   1.4953,  34.6835,2,  34.6831,2,   -999.0,9,    154.3,2,   144.03,2,    35.57,2,     0.00,2,     2.47,2, -999.000,5, -999.000,5, -999.000,9,-999.0000,9,  -999.00,9,   -999.0,9,   -999.0,9,  -999.00,9,-999.0000,-999.000,  1.2131,-999.000
      325024_1,  P14N,   145,  1,      7,      7,2,19930819,0913, -0.4957, 178.9988, 5464,   3963.9,   1.4385,  34.6891,2,  34.6885,2,   -999.0,9,    161.9,2,   142.21,2,    35.12,2,     0.00,2,     2.43,2, -999.000,5, -999.000,5, -999.000,9,-999.0000,9,  -999.00,9,   -999.0,9,   -999.0,9,  -999.00,9,-999.0000,-999.000,  1.1252,-999.000
      325024_1,  P14N,   145,  1,      6,      6,2,19930819,0913, -0.4957, 178.9988, 5464,   4270.9,   1.3349,  34.6965,2,  34.6964,2,   -999.0,9,    175.6,2,   136.31,2,    34.11,2,     0.00,2,     2.35,2, -999.000,5, -999.000,5, -999.000,9,-999.0000,9,  -999.00,9,   -999.0,9,   -999.0,9,  -999.00,9,-999.0000,-999.000,  0.9909,-999.000
      325024_1,  P14N,   145,  1,      5,      5,2,19930819,0913, -0.4957, 178.9988, 5464,   4578.0,   1.2653,  34.7014,2,  34.7012,2,   -999.0,9,    186.2,2,   131.06,2,    33.33,2,     0.00,2,     2.31,2, -999.000,5, -999.000,5, -999.000,9,-999.0000,9,  -999.00,9,   -999.0,9,   -999.0,9,  -999.00,9,-999.0000,-999.000,  0.8886,-999.000
      325024_1,  P14N,   145,  1,      4,      4,2,19930819,0913, -0.4957, 178.9988, 5464,   4887.0,   1.2430,  34.7036,2,  34.7040,2,   -999.0,9,    192.2,2,   128.47,2,    32.89,2,     0.00,2,     2.27,2, -999.000,5, -999.000,5, -999.000,9,-999.0000,9,  -999.00,9,   -999.0,9,   -999.0,9,  -999.00,9,-999.0000,-999.000,  0.8309,-999.000
      325024_1,  P14N,   145,  1,      3,      3,2,19930819,0913, -0.4957, 178.9988, 5464,   5194.9,   1.2698,  34.7044,2,  34.7037,2,   -999.0,9,    193.6,2,   127.31,2,    32.66,2,     0.00,2,     2.27,2, -999.000,5, -999.000,5, -999.000,9,-999.0000,9,  -999.00,9,   -999.0,9,   -999.0,9,  -999.00,9,-999.0000,-999.000,  0.8195,-999.000
      325024_1,  P14N,   145,  1,      2,      2,2,19930819,0913, -0.4957, 178.9988, 5464,   5545.0,   1.3091,  34.7048,2,  34.7039,2,   -999.0,9,    194.4,2,   127.15,2,    32.69,2,     0.00,2,     2.26,2, -999.000,5, -999.000,5, -999.000,9,-999.0000,9,  -999.00,9,   -999.0,9,   -999.0,9,  -999.00,9,-999.0000,-999.000,  0.8137,-999.000
      325024_1,  P14N,   145,  1,      1,      1,2,19930819,0913, -0.4957, 178.9988, 5464,   5545.2,   1.3092,  34.7048,2,  34.7051,2,   -999.0,9,    192.8,2,   127.00,2,    32.68,2,     0.00,2,     2.25,2, -999.000,5, -999.000,5, -999.000,9,-999.0000,9,  -999.00,9,   -999.0,9,   -999.0,9,  -999.00,9,-999.0000,-999.000,  0.8138,-999.000