BOTTLE,20131125MIRCJHATS
EXPOCODE,SECT_ID,STNNBR,CASTNO,SAMPNO,BTLNBR,BTLNBR_FLAG_W,DATE,TIME,LATITUDE,LONGITUDE,DEPTH,CTDPRS,CTDTMP,CTDSAL,CTDSAL_FLAG_W,SALNTY,SALNTY_FLAG_W,CTDOXY,CTDOXY_FLAG_W,OXYGEN,OXYGEN_FLAG_W,SILCAT,SILCAT_FLAG_W,NITRAT,NITRAT_FLAG_W,NITRIT,NITRIT_FLAG_W,PHSPHT,PHSPHT_FLAG_W,CFC-11,CFC-11_FLAG_W,CFC-12,CFC-12_FLAG_W,TRITUM,TRITUM_FLAG_W,HELIUM,HELIUM_FLAG_W,DELHE3,DELHE3_FLAG_W,TCARBN,TCARBN_FLAG_W,ALKALI,ALKALI_FLAG_W,PH,PH_FLAG_W,HELIER,DELHER,THETA,TRITER
,,,,,,,,,,,,DBAR,ITS-90,PSS-78,,PSS-78,,UMOL/KG,,UMOL/KG,,UMOL/KG,,UMOL/KG,,UMOL/KG,,UMOL/KG,,PMOL/KG,,PMOL/KG,,TU,,NMOL/KG,,PERCNT,,UMOL/KG,,UMOL/KG,,25_DEG,,NMOL/KG,PERCNT,DEG C,TU
      325023_1,  P14N,    52,  1,     36,     36,2,19930720,1756, 36.5023, 178.9988, 4535,      4.9,  21.0438,  34.4839,2,  34.4801,2,   -999.0,9,    227.7,2,     5.00,2,     0.04,2,     0.00,2,     0.12,2, -999.000,5, -999.000,5, -999.000,9,-999.0000,9,  -999.00,9,   -999.0,9,   -999.0,9,  -999.00,9,-999.0000,-999.000, 21.0428,-999.000
      325023_1,  P14N,    52,  1,     35,     35,2,19930720,1756, 36.5023, 178.9988, 4535,      5.0,  21.0469,  34.4844,2,  34.4842,2,   -999.0,9,    227.9,2,     4.71,2,     0.04,2,     0.00,2,     0.12,2, -999.000,5, -999.000,5, -999.000,9,-999.0000,9,  -999.00,9,   -999.0,9,   -999.0,9,  -999.00,9,-999.0000,-999.000, 21.0459,-999.000
      325023_1,  P14N,    52,  1,     34,     34,2,19930720,1756, 36.5023, 178.9988, 4535,     38.5,  16.9753,  34.5216,2,  34.5126,2,   -999.0,9,    264.2,2,     4.42,2,     0.04,2,     0.00,2,     0.13,2, -999.000,5, -999.000,5, -999.000,9,-999.0000,9,  -999.00,9,   -999.0,9,   -999.0,9,  -999.00,9,-999.0000,-999.000, 16.9690,-999.000
      325023_1,  P14N,    52,  1,     33,     33,2,19930720,1756, 36.5023, 178.9988, 4535,     69.2,  14.8515,  34.5001,2,  34.4932,2,   -999.0,9,    255.6,2,     5.60,2,     2.71,2,     0.31,2,     0.36,2, -999.000,5, -999.000,5, -999.000,9,-999.0000,9,  -999.00,9,   -999.0,9,   -999.0,9,  -999.00,9,-999.0000,-999.000, 14.8412,-999.000
      325023_1,  P14N,    52,  1,     32,     32,2,19930720,1756, 36.5023, 178.9988, 4535,     98.7,  13.9301,  34.4786,2,  34.4761,2,   -999.0,9,    230.1,2,     9.72,2,     7.46,2,     0.09,2,     0.61,2, -999.000,5, -999.000,5, -999.000,9,-999.0000,9,  -999.00,9,   -999.0,9,   -999.0,9,  -999.00,9,-999.0000,-999.000, 13.9160,-999.000
      325023_1,  P14N,    52,  1,     31,     31,2,19930720,1756, 36.5023, 178.9988, 4535,    129.0,  13.2356,  34.4430,2,  34.4424,2,   -999.0,9,    229.9,2,    11.08,2,     8.47,2,     0.03,2,     0.67,2, -999.000,5, -999.000,5, -999.000,9,-999.0000,9,  -999.00,9,   -999.0,9,   -999.0,9,  -999.00,9,-999.0000,-999.000, 13.2178,-999.000
      325023_1,  P14N,    52,  1,     30,     30,2,19930720,1756, 36.5023, 178.9988, 4535,    159.0,  12.7199,  34.4164,2,  34.4128,2,   -999.0,9,    232.0,2,    11.71,2,     8.88,2,     0.01,2,     0.69,2, -999.000,5, -999.000,5, -999.000,9,-999.0000,9,  -999.00,9,   -999.0,9,   -999.0,9,  -999.00,9,-999.0000,-999.000, 12.6985,-999.000
      325023_1,  P14N,    52,  1,     29,     29,2,19930720,1756, 36.5023, 178.9988, 4535,    209.1,  12.1318,  34.3894,2,  34.3822,2,   -999.0,9,    228.6,2,    13.45,2,    10.13,2,     0.01,2,     0.77,2, -999.000,5, -999.000,5, -999.000,9,-999.0000,9,  -999.00,9,   -999.0,9,   -999.0,9,  -999.00,9,-999.0000,-999.000, 12.1045,-999.000
      325023_1,  P14N,    52,  1,     28,     28,2,19930720,1756, 36.5023, 178.9988, 4535,    260.1,  11.4057,  34.3325,2,  34.3200,2,   -999.0,9,    216.4,2,    17.02,2,    12.71,2,     0.01,2,     0.95,2, -999.000,5, -999.000,5, -999.000,9,-999.0000,9,  -999.00,9,   -999.0,9,   -999.0,9,  -999.00,9,-999.0000,-999.000, 11.3730,-999.000
      325023_1,  P14N,    52,  1,     27,     27,2,19930720,1756, 36.5023, 178.9988, 4535,    309.7,  10.6321,  34.2712,2,  34.2658,2,   -999.0,9,    212.1,2,    20.97,2,    14.61,2,     0.01,2,     1.09,2, -999.000,5, -999.000,5, -999.000,9,-999.0000,9,  -999.00,9,   -999.0,9,   -999.0,9,  -999.00,9,-999.0000,-999.000, 10.5949,-999.000
      325023_1,  P14N,    52,  1,     26,     26,2,19930720,1756, 36.5023, 178.9988, 4535,    411.0,   8.5257,  34.1199,2,  34.1164,2,   -999.0,9,    185.7,2,    35.23,2,    20.98,2,     0.01,2,     1.53,2, -999.000,5, -999.000,5, -999.000,9,-999.0000,9,  -999.00,9,   -999.0,9,   -999.0,9,  -999.00,9,-999.0000,-999.000,  8.4824,-999.000
      325023_1,  P14N,    52,  1,     25,     25,2,19930720,1756, 36.5023, 178.9988, 4535,    511.9,   6.4012,  34.0100,2,  34.0132,2,   -999.0,9,    155.2,2,    54.52,2,    27.56,2,     0.01,2,     2.02,2, -999.000,5, -999.000,5, -999.000,9,-999.0000,9,  -999.00,9,   -999.0,9,   -999.0,9,  -999.00,9,-999.0000,-999.000,  6.3553,-999.000
      325023_1,  P14N,    52,  1,     24,     24,2,19930720,1756, 36.5023, 178.9988, 4535,    612.8,   5.0389,  34.0246,2,  34.0314,2,   -999.0,9,    111.7,2,    77.26,2,    33.70,2,     0.01,2,     2.43,2, -999.000,5, -999.000,5, -999.000,9,-999.0000,9,  -999.00,9,   -999.0,9,   -999.0,9,  -999.00,9,-999.0000,-999.000,  4.9899,-999.000
      325023_1,  P14N,    52,  1,     23,     23,2,19930720,1756, 36.5023, 178.9988, 4535,    710.1,   4.5507,  34.1073,2,  34.1056,2,   -999.0,9,     81.4,2,    92.70,2,    37.06,2,     0.00,2,     2.66,2, -999.000,5, -999.000,5, -999.000,9,-999.0000,9,  -999.00,9,   -999.0,9,   -999.0,9,  -999.00,9,-999.0000,-999.000,  4.4960,-999.000
      325023_1,  P14N,    52,  1,     22,     22,2,19930720,1756, 36.5023, 178.9988, 4535,    807.1,   4.1283,  34.1851,2,  34.1878,2,   -999.0,9,     55.4,2,   107.36,2,    39.78,2,     0.00,2,     2.83,2, -999.000,5, -999.000,5, -999.000,9,-999.0000,9,  -999.00,9,   -999.0,9,   -999.0,9,  -999.00,9,-999.0000,-999.000,  4.0680,-999.000
      325023_1,  P14N,    52,  1,     21,     21,2,19930720,1756, 36.5023, 178.9988, 4535,    909.7,   3.7904,  34.2476,2,  34.2482,2,   -999.0,9,     41.6,2,   118.35,2,    40.79,2,     0.00,2,     2.93,2,    0.166,2,    0.071,2, -999.000,9,-999.0000,9,  -999.00,9,   -999.0,9,   -999.0,9,  -999.00,9,-999.0000,-999.000,  3.7241,-999.000
      325023_1,  P14N,    52,  1,     20,     20,2,19930720,1756, 36.5023, 178.9988, 4535,   1012.8,   3.4151,  34.3193,2,  34.3166,2,   -999.0,9,     30.6,2,   130.83,2,    42.56,2,     0.00,2,     3.01,2,    0.067,2,    0.030,2, -999.000,9,-999.0000,9,  -999.00,9,   -999.0,9,   -999.0,9,  -999.00,9,-999.0000,-999.000,  3.3432,-999.000
      325023_1,  P14N,    52,  1,     19,     19,2,19930720,1756, 36.5023, 178.9988, 4535,   1218.1,   2.9327,  34.4106,2,  34.4089,2,   -999.0,9,     26.9,2,   146.27,2,    43.49,2,     0.00,2,     3.06,2,    0.016,2,    0.004,2, -999.000,9,-999.0000,9,  -999.00,9,   -999.0,9,   -999.0,9,  -999.00,9,-999.0000,-999.000,  2.8487,-999.000
      325023_1,  P14N,    52,  1,     18,     18,2,19930720,1756, 36.5023, 178.9988, 4535,   1422.8,   2.6038,  34.4812,2,  34.4790,2,   -999.0,9,     31.0,2,   156.38,2,    43.61,2,     0.00,2,     3.05,2,   -0.001,2,    0.002,2, -999.000,9,-999.0000,9,  -999.00,9,   -999.0,9,   -999.0,9,  -999.00,9,-999.0000,-999.000,  2.5069,-999.000
      325023_1,  P14N,    52,  1,     17,     17,2,19930720,1756, 36.5023, 178.9988, 4535,   1622.8,   2.3066,  34.5274,2,  34.5253,2,   -999.0,9,     40.7,2,   164.61,2,    42.88,2,     0.00,2,     3.01,2,   -0.001,2,    0.000,2, -999.000,9,-999.0000,9,  -999.00,9,   -999.0,9,   -999.0,9,  -999.00,9,-999.0000,-999.000,  2.1972,-999.000
      325023_1,  P14N,    52,  1,     16,     16,2,19930720,1756, 36.5023, 178.9988, 4535,   1825.5,   2.0979,  34.5638,2,  34.5621,2,   -999.0,9,     51.3,2,   169.25,2,    42.24,2,     0.00,2,     2.95,2, -999.000,5, -999.000,5, -999.000,9,-999.0000,9,  -999.00,9,   -999.0,9,   -999.0,9,  -999.00,9,-999.0000,-999.000,  1.9747,-999.000
      325023_1,  P14N,    52,  1,     15,     15,2,19930720,1756, 36.5023, 178.9988, 4535,   2027.9,   1.9234,  34.5939,2,  34.5915,2,   -999.0,9,     62.4,2,   172.68,2,    41.43,2,     0.00,2,     2.90,2, -999.000,5, -999.000,5, -999.000,9,-999.0000,9,  -999.00,9,   -999.0,9,   -999.0,9,  -999.00,9,-999.0000,-999.000,  1.7859,-999.000
      325023_1,  P14N,    52,  1,     14,     14,2,19930720,1756, 36.5023, 178.9988, 4535,   2232.3,   1.8063,  34.6154,2,  34.6139,2,   -999.0,9,     74.9,2,   173.23,2,    40.57,2,     0.00,2,     2.86,2, -999.000,5, -999.000,5, -999.000,9,-999.0000,9,  -999.00,9,   -999.0,9,   -999.0,9,  -999.00,9,-999.0000,-999.000,  1.6533,-999.000
      325023_1,  P14N,    52,  1,     13,     13,2,19930720,1756, 36.5023, 178.9988, 4535,   2437.6,   1.7098,  34.6316,2,  34.6305,2,   -999.0,9,     89.6,2,   171.30,2,    39.53,2,     0.00,2,     2.78,2, -999.000,5, -999.000,5, -999.000,9,-999.0000,9,  -999.00,9,   -999.0,9,   -999.0,9,  -999.00,9,-999.0000,-999.000,  1.5406,-999.000
      325023_1,  P14N,    52,  1,     12,     12,2,19930720,1756, 36.5023, 178.9988, 4535,   2642.2,   1.6264,  34.6449,2,  34.6440,2,   -999.0,9,    103.5,2,   168.14,2,    38.54,2,     0.00,2,     2.70,2, -999.000,5, -999.000,5, -999.000,9,-999.0000,9,  -999.00,9,   -999.0,9,   -999.0,9,  -999.00,9,-999.0000,-999.000,  1.4404,-999.000
      325023_1,  P14N,    52,  1,     11,     11,2,19930720,1756, 36.5023, 178.9988, 4535,   2847.2,   1.5618,  34.6555,2,  34.6544,2,   -999.0,9,    115.8,2,   165.19,2,    37.77,2,     0.00,2,     2.66,2, -999.000,5, -999.000,5, -999.000,9,-999.0000,9,  -999.00,9,   -999.0,9,   -999.0,9,  -999.00,9,-999.0000,-999.000,  1.3582,-999.000
      325023_1,  P14N,    52,  1,     10,     10,2,19930720,1756, 36.5023, 178.9988, 4535,   3052.6,   1.5166,  34.6638,2,  34.6626,2,   -999.0,9,    125.3,2,   162.47,2,    37.04,2,     0.00,2,     2.61,2, -999.000,5, -999.000,5, -999.000,9,-999.0000,9,  -999.00,9,   -999.0,9,   -999.0,9,  -999.00,9,-999.0000,-999.000,  1.2945,-999.000
      325023_1,  P14N,    52,  1,      9,      9,2,19930720,1756, 36.5023, 178.9988, 4535,   3257.1,   1.4764,  34.6707,2,  34.6699,2,   -999.0,9,    134.5,2,   160.77,2,    36.63,2,     0.00,2,     2.56,2, -999.000,5, -999.000,5,    0.003,2,-999.0000,9,  -999.00,9,   -999.0,9,   -999.0,9,  -999.00,9,-999.0000,-999.000,  1.2353,   0.008
      325023_1,  P14N,    52,  1,      8,      8,2,19930720,1756, 36.5023, 178.9988, 4535,   3462.5,   1.4541,  34.6757,2,  34.6750,2,   -999.0,9,    140.7,2,   158.06,2,    36.17,2,     0.00,2,     2.52,2, -999.000,5, -999.000,5,    0.001,2,-999.0000,9,  -999.00,9,   -999.0,9,   -999.0,9,  -999.00,9,-999.0000,-999.000,  1.1930,   0.008
      325023_1,  P14N,    52,  1,      7,      7,2,19930720,1756, 36.5023, 178.9988, 4535,   3668.6,   1.4411,  34.6800,2,  34.6797,2,   -999.0,9,    145.2,2,   156.98,2,    35.71,2,     0.00,2,     2.50,2, -999.000,5, -999.000,5,    0.001,2,-999.0000,9,  -999.00,9,   -999.0,9,   -999.0,9,  -999.00,9,-999.0000,-999.000,  1.1591,   0.008
      325023_1,  P14N,    52,  1,      6,      6,2,19930720,1756, 36.5023, 178.9988, 4535,   3874.1,   1.4344,  34.6829,2,  34.6824,2,   -999.0,9,    148.9,2,   155.90,2,    35.56,2,     0.00,2,     2.48,2, -999.000,5, -999.000,5, -999.000,9,-999.0000,9,  -999.00,9,   -999.0,9,   -999.0,9,  -999.00,9,-999.0000,-999.000,  1.1309,-999.000
      325023_1,  P14N,    52,  1,      5,      5,2,19930720,1756, 36.5023, 178.9988, 4535,   4079.6,   1.4407,  34.6852,2,  34.6841,2,   -999.0,9,    151.0,2,   155.62,2,    35.37,2,     0.00,2,     2.46,2, -999.000,5, -999.000,5,    0.000,2,-999.0000,9,  -999.00,9,   -999.0,9,   -999.0,9,  -999.00,9,-999.0000,-999.000,  1.1148,   0.008
      325023_1,  P14N,    52,  1,      4,      4,2,19930720,1756, 36.5023, 178.9988, 4535,   4285.9,   1.4482,  34.6871,2,  34.6859,2,   -999.0,9,    153.0,2,   155.15,2,    35.22,2,     0.00,2,     2.44,2, -999.000,5, -999.000,5,    0.001,2,-999.0000,9,  -999.00,9,   -999.0,9,   -999.0,9,  -999.00,9,-999.0000,-999.000,  1.0992,   0.008
      325023_1,  P14N,    52,  1,      3,      3,2,19930720,1756, 36.5023, 178.9988, 4535,   4491.3,   1.4663,  34.6873,2,  34.6869,2,   -999.0,9,    153.7,2,   155.88,2,    35.11,2,     0.00,2,     2.43,2, -999.000,5, -999.000,5,    0.001,2,-999.0000,9,  -999.00,9,   -999.0,9,   -999.0,9,  -999.00,9,-999.0000,-999.000,  1.0934,   0.008
      325023_1,  P14N,    52,  1,      1,      1,2,19930720,1756, 36.5023, 178.9988, 4535,   4603.4,   1.4792,  34.6875,2,  34.6882,2,   -999.0,9,    153.7,2,   156.54,2,    35.12,2,     0.00,2,     2.43,2, -999.000,5, -999.000,5,    0.001,2,-999.0000,9,  -999.00,9,   -999.0,9,   -999.0,9,  -999.00,9,-999.0000,-999.000,  1.0929,   0.008
      325023_1,  P14N,    52,  1,      2,      2,2,19930720,1756, 36.5023, 178.9988, 4535,   4603.7,   1.4791,  34.6876,2,  34.6876,2,   -999.0,9,    153.8,2,   156.42,2,    35.05,2,     0.00,2,     2.43,2, -999.000,5, -999.000,5,    0.001,2,-999.0000,9,  -999.00,9,   -999.0,9,   -999.0,9,  -999.00,9,-999.0000,-999.000,  1.0928,   0.008