BOTTLE,20131125MIRCJHATS
EXPOCODE,SECT_ID,STNNBR,CASTNO,SAMPNO,BTLNBR,BTLNBR_FLAG_W,DATE,TIME,LATITUDE,LONGITUDE,DEPTH,CTDPRS,CTDTMP,CTDSAL,CTDSAL_FLAG_W,SALNTY,SALNTY_FLAG_W,CTDOXY,CTDOXY_FLAG_W,OXYGEN,OXYGEN_FLAG_W,SILCAT,SILCAT_FLAG_W,NITRAT,NITRAT_FLAG_W,NITRIT,NITRIT_FLAG_W,PHSPHT,PHSPHT_FLAG_W,CFC-11,CFC-11_FLAG_W,CFC-12,CFC-12_FLAG_W,TRITUM,TRITUM_FLAG_W,HELIUM,HELIUM_FLAG_W,DELHE3,DELHE3_FLAG_W,TCARBN,TCARBN_FLAG_W,ALKALI,ALKALI_FLAG_W,PH,PH_FLAG_W,HELIER,DELHER,THETA,TRITER
,,,,,,,,,,,,DBAR,ITS-90,PSS-78,,PSS-78,,UMOL/KG,,UMOL/KG,,UMOL/KG,,UMOL/KG,,UMOL/KG,,UMOL/KG,,PMOL/KG,,PMOL/KG,,TU,,NMOL/KG,,PERCNT,,UMOL/KG,,UMOL/KG,,25_DEG,,NMOL/KG,PERCNT,DEG C,TU
      325023_1,  P14N,    67,  1,     36,     36,2,19930724,1501, 28.9942, 178.9982, 5325,      1.7,  26.6955,  35.0802,2,  35.0841,2,   -999.0,9,    206.0,2,     3.99,2,     0.03,2,     0.00,2,     0.04,2, -999.000,5, -999.000,5, -999.000,9,-999.0000,9,  -999.00,9,   1997.0,2,   2304.6,2,     8.06,2,-999.0000,-999.000, 26.6951,-999.000
      325023_1,  P14N,    67,  1,     35,     35,2,19930724,1501, 28.9942, 178.9982, 5325,      2.4,  26.6931,  35.0793,2,  35.0835,2,   -999.0,9,    206.1,2,     3.94,2,     0.03,2,     0.00,2,     0.04,2,    1.897,2,    0.996,3, -999.000,9,-999.0000,9,  -999.00,9,   1997.3,2,   2294.3,2,  -999.00,9,-999.0000,-999.000, 26.6925,-999.000
      325023_1,  P14N,    67,  1,     34,     34,2,19930724,1501, 28.9942, 178.9982, 5325,     37.6,  20.8233,  34.8640,2,  34.8584,2,   -999.0,9,    247.8,2,     3.88,2,     0.03,2,     0.00,2,     0.06,2,    2.469,2,    1.286,2, -999.000,9,-999.0000,9,  -999.00,9,   1989.1,2,   2288.9,2,     8.05,2,-999.0000,-999.000, 20.8162,-999.000
      325023_1,  P14N,    67,  1,     33,     33,2,19930724,1501, 28.9942, 178.9982, 5325,     68.2,  17.3851,  34.8148,2,  34.8142,2,   -999.0,9,    252.4,2,     3.83,2,     0.02,2,     0.00,2,     0.08,2,    2.764,2,    1.455,2, -999.000,9,-999.0000,9,  -999.00,9,   2001.9,2,   2276.6,2,  -999.00,9,-999.0000,-999.000, 17.3738,-999.000
      325023_1,  P14N,    67,  1,     32,     32,2,19930724,1501, 28.9942, 178.9982, 5325,     98.4,  16.1266,  34.7373,2,  34.7370,2,   -999.0,9,    227.3,2,     4.66,2,     1.83,2,     0.18,2,     0.27,2,    2.664,2,    1.358,2, -999.000,9,-999.0000,9,  -999.00,9,   2026.1,2,   2283.9,2,     7.98,2,-999.0000,-999.000, 16.1110,-999.000
      325023_1,  P14N,    67,  1,     31,     31,2,19930724,1501, 28.9942, 178.9982, 5325,    128.3,  15.0507,  34.6209,2,  34.6273,2,   -999.0,9,    216.5,2,     6.37,2,     5.56,2,     0.03,2,     0.45,2,    2.749,2,    1.378,2, -999.000,9,-999.0000,9,  -999.00,9,   2039.3,2,   2277.0,2,  -999.00,9,-999.0000,-999.000, 15.0313,-999.000
      325023_1,  P14N,    67,  1,     30,     30,2,19930724,1501, 28.9942, 178.9982, 5325,    158.8,  14.2868,  34.5459,2,  34.5440,2,   -999.0,9,    213.6,2,     8.30,2,     7.38,2,     0.01,2,     0.57,2,    2.718,2,    1.357,2, -999.000,9,-999.0000,9,  -999.00,9,   2049.9,2,   2277.4,2,     7.92,2,-999.0000,-999.000, 14.2636,-999.000
      325023_1,  P14N,    67,  1,     29,     29,2,19930724,1501, 28.9942, 178.9982, 5325,    208.7,  13.5542,  34.4813,2,  34.4787,2,   -999.0,9,    214.3,2,     9.57,2,     8.70,2,     0.01,2,     0.66,2,    2.922,2,    1.441,2, -999.000,9,-999.0000,9,  -999.00,9,   2060.1,2,   2269.7,2,  -999.00,9,-999.0000,-999.000, 13.5248,-999.000
      325023_1,  P14N,    67,  1,     28,     28,2,19930724,1501, 28.9942, 178.9982, 5325,    259.0,  12.8113,  34.4220,2,  34.4222,2,   -999.0,9,    216.4,2,    11.28,2,     9.60,2,     0.01,2,     0.72,2,    2.802,2,    1.377,2, -999.000,9,-999.0000,9,  -999.00,9,   2066.2,2,   -999.0,9,     7.88,2,-999.0000,-999.000, 12.7761,-999.000
      325023_1,  P14N,    67,  1,     27,     27,2,19930724,1501, 28.9942, 178.9982, 5325,    309.5,  11.8075,  34.3402,2,  34.3405,2,   -999.0,9,    215.8,2,    14.10,2,    11.55,2,     0.01,2,     0.85,2,    2.781,2,    1.375,2, -999.000,9,-999.0000,9,  -999.00,9,   2079.2,2,   2269.8,2,  -999.00,9,-999.0000,-999.000, 11.7676,-999.000
      325023_1,  P14N,    67,  1,     26,     26,2,19930724,1501, 28.9942, 178.9982, 5325,    410.6,   9.9222,  34.1990,2,  34.2038,2,   -999.0,9,    203.2,2,    22.43,2,    16.31,2,     0.01,2,     1.17,2,    2.587,2,    1.266,2, -999.000,9,-999.0000,9,  -999.00,9,   2110.5,2,   2267.9,2,     7.78,2,-999.0000,-999.000,  9.8747,-999.000
      325023_1,  P14N,    67,  1,     25,     25,2,19930724,1501, 28.9942, 178.9982, 5325,    511.4,   7.8171,  34.0671,2,  34.0634,2,   -999.0,9,    175.8,2,    38.27,2,    23.11,2,     0.01,2,     1.65,2,    2.107,2,    0.981,2, -999.000,9,-999.0000,9,  -999.00,9,   2160.1,2,   2273.8,2,  -999.00,9,-999.0000,-999.000,  7.7657,-999.000
      325023_1,  P14N,    67,  1,     24,     24,2,19930724,1501, 28.9942, 178.9982, 5325,    611.8,   6.1916,  34.0118,2,  34.0120,2,   -999.0,9,    142.5,2,    56.33,2,    28.76,2,     0.01,2,     2.05,2,    1.654,2,    0.733,2, -999.000,9,-999.0000,9,  -999.00,9,   2208.5,2,   2286.0,2,     7.57,2,-999.0000,-999.000,  6.1373,-999.000
      325023_1,  P14N,    67,  1,     23,     23,2,19930724,1501, 28.9942, 178.9982, 5325,    712.6,   4.9753,  34.0565,2,  34.0582,2,   -999.0,9,     92.5,2,    81.52,2,    35.21,2,     0.01,2,     2.51,2,    0.851,2,    0.353,3, -999.000,9,-999.0000,9,  -999.00,9,   2270.7,2,   2331.4,2,     7.45,2,-999.0000,-999.000,  4.9181,-999.000
      325023_1,  P14N,    67,  1,     22,     22,2,19930724,1501, 28.9942, 178.9982, 5325,    813.8,   4.2911,  34.1550,2,  34.1564,2,   -999.0,9,     56.0,2,   101.47,2,    39.41,2,     0.00,2,     2.78,2,    0.322,2,    0.143,2, -999.000,9,-999.0000,9,  -999.00,9,   2316.1,2,   2309.3,2,     7.37,2,-999.0000,-999.000,  4.2293,-999.000
      325023_1,  P14N,    67,  1,     21,     21,2,19930724,1501, 28.9942, 178.9982, 5325,    915.5,   3.7849,  34.2587,2,  34.2594,2,   -999.0,9,     32.7,2,   117.74,2,    41.87,2,     0.00,2,     2.97,2,    0.087,2,    0.034,2, -999.000,9,-999.0000,9,  -999.00,9,   2348.2,2,   2350.0,2,     7.33,2,-999.0000,-999.000,  3.7181,-999.000
      325023_1,  P14N,    67,  1,     20,     20,2,19930724,1501, 28.9942, 178.9982, 5325,   1016.2,   3.4410,  34.3352,2,  34.3366,2,   -999.0,9,     25.6,2,   128.91,2,    42.81,2,     0.00,2,     3.03,2,    0.029,2,    0.015,2, -999.000,9,-999.0000,9,  -999.00,9,   2363.8,2,   2368.0,2,     7.33,2,-999.0000,-999.000,  3.3687,-999.000
      325023_1,  P14N,    67,  1,     19,     19,2,19930724,1501, 28.9942, 178.9982, 5325,   1218.2,   2.9600,  34.4480,2,  34.4475,2,   -999.0,9,     29.5,2,   142.66,2,    42.86,2,     0.00,2,     3.03,2,    0.002,2,    0.002,2, -999.000,9,-999.0000,9,  -999.00,9,   2378.9,2,   2387.8,2,  -999.00,9,-999.0000,-999.000,  2.8757,-999.000
      325023_1,  P14N,    67,  1,     18,     18,2,19930724,1501, 28.9942, 178.9982, 5325,   1421.4,   2.6254,  34.5075,2,  34.5070,2,   -999.0,9,     37.4,2,   151.94,2,    42.62,2,     0.00,2,     3.00,2,    0.001,2,    0.003,2, -999.000,9,-999.0000,9,  -999.00,9,   2383.5,2,   -999.0,9,  -999.00,9,-999.0000,-999.000,  2.5283,-999.000
      325023_1,  P14N,    67,  1,     17,     17,2,19930724,1501, 28.9942, 178.9982, 5325,   1624.5,   2.3086,  34.5572,2,  34.5580,2,   -999.0,9,     56.5,2,   156.89,2,    41.65,2,     0.00,2,     2.91,2, -999.000,5, -999.000,5, -999.000,9,-999.0000,9,  -999.00,9,   2378.6,2,   2407.8,2,  -999.00,9,-999.0000,-999.000,  2.1989,-999.000
      325023_1,  P14N,    67,  1,     16,     16,2,19930724,1501, 28.9942, 178.9982, 5325,   1827.1,   2.0805,  34.5869,2,  34.5874,2,   -999.0,9,     69.0,2,   160.71,2,    40.86,2,     0.00,2,     2.85,2,    0.000,2,    0.001,2, -999.000,9,-999.0000,9,  -999.00,9,   2374.9,2,   2414.8,2,     7.43,2,-999.0000,-999.000,  1.9573,-999.000
      325023_1,  P14N,    67,  1,     15,     15,2,19930724,1501, 28.9942, 178.9982, 5325,   2031.6,   1.9273,  34.6079,2,  34.6088,2,   -999.0,9,     80.4,2,   161.99,2,    40.12,2,     0.00,2,     2.80,2, -999.000,5, -999.000,5, -999.000,9,-999.0000,9,  -999.00,9,   2372.8,2,   2418.1,2,  -999.00,9,-999.0000,-999.000,  1.7894,-999.000
      325023_1,  P14N,    67,  1,     14,     14,2,19930724,1501, 28.9942, 178.9982, 5325,   2235.2,   1.8003,  34.6243,2,  34.6255,2,   -999.0,9,     90.2,2,   162.35,2,    39.48,2,     0.00,2,     2.75,2,   -0.010,4,    0.000,4, -999.000,9,-999.0000,9,  -999.00,9,   2366.9,2,   2420.4,2,  -999.00,9,-999.0000,-999.000,  1.6471,-999.000
      325023_1,  P14N,    67,  1,     13,     13,2,19930724,1501, 28.9942, 178.9982, 5325,   2439.1,   1.7044,  34.6376,2,  34.6390,2,   -999.0,9,    100.9,2,   162.24,2,    38.74,2,     0.00,2,     2.70,2, -999.000,5, -999.000,5, -999.000,9,-999.0000,9,  -999.00,9,   2361.7,2,   2421.0,2,     7.49,2,-999.0000,-999.000,  1.5351,-999.000
      325023_1,  P14N,    67,  1,     12,     12,2,19930724,1501, 28.9942, 178.9982, 5325,   2643.6,   1.6282,  34.6481,2,  34.6492,2,   -999.0,9,    110.2,2,   162.13,2,    38.23,2,     0.00,2,     2.66,2, -999.000,5, -999.000,5, -999.000,9,-999.0000,9,  -999.00,9,   2353.0,2,   2423.1,2,  -999.00,9,-999.0000,-999.000,  1.4420,-999.000
      325023_1,  P14N,    67,  1,     11,     11,2,19930724,1501, 28.9942, 178.9982, 5325,   2847.7,   1.5576,  34.6582,2,  34.6592,2,   -999.0,9,    119.7,2,   160.41,2,    37.59,2,     0.00,2,     2.60,2, -999.000,5, -999.000,5, -999.000,9,-999.0000,9,  -999.00,9,   2344.3,2,   2422.6,2,  -999.00,9,-999.0000,-999.000,  1.3540,-999.000
      325023_1,  P14N,    67,  1,     10,     10,2,19930724,1501, 28.9942, 178.9982, 5325,   3043.8,   1.5145,  34.6656,2,  34.6670,2,   -999.0,9,    127.8,2,   159.84,2,    37.27,2,     0.00,2,     2.57,2,    0.012,4,    0.009,4, -999.000,9,-999.0000,9,  -999.00,9,   2344.1,2,   2421.6,2,     7.53,2,-999.0000,-999.000,  1.2932,-999.000
      325023_1,  P14N,    67,  1,      9,      9,3,19930724,1501, 28.9942, 178.9982, 5325,   3348.4,   1.4828,  34.6724,2,  34.6460,4,   -999.0,9,    122.2,4,   156.98,4,    37.41,4,     0.00,4,     2.59,4, -999.000,5, -999.000,5, -999.000,9,-999.0000,9,  -999.00,9,   2347.4,2,   2416.9,2,  -999.00,9,-999.0000,-999.000,  1.2325,-999.000
      325023_1,  P14N,    67,  1,      8,      8,2,19930724,1501, 28.9942, 178.9982, 5325,   3665.7,   1.4631,  34.6783,2,  34.6798,2,   -999.0,9,    142.2,2,   155.95,2,    36.26,2,     0.00,2,     2.50,2, -999.000,5, -999.000,5, -999.000,9,-999.0000,9,  -999.00,9,   2335.1,2,   2420.1,2,  -999.00,9,-999.0000,-999.000,  1.1809,-999.000
      325023_1,  P14N,    67,  1,      7,      7,2,19930724,1501, 28.9942, 178.9982, 5325,   3973.0,   1.4557,  34.6824,2,  34.6841,2,   -999.0,9,    147.4,2,   155.62,2,    35.80,2,     0.00,2,     2.47,2, -999.000,5, -999.000,5, -999.000,9,-999.0000,9,  -999.00,9,   2331.2,2,   2420.1,2,  -999.00,9,-999.0000,-999.000,  1.1410,-999.000
      325023_1,  P14N,    67,  1,      6,      6,2,19930724,1501, 28.9942, 178.9982, 5325,   4280.9,   1.4626,  34.6853,2,  34.6859,2,   -999.0,9,    150.9,2,   154.59,2,    35.67,2,     0.00,2,     2.45,2,    0.002,2,   -0.001,3, -999.000,9,-999.0000,9,  -999.00,9,   2324.6,2,   2420.8,2,     7.57,2,-999.0000,-999.000,  1.1137,-999.000
      325023_1,  P14N,    67,  1,      5,      5,2,19930724,1501, 28.9942, 178.9982, 5325,   4588.8,   1.4710,  34.6878,2,  34.6886,2,   -999.0,9,    155.4,2,   151.28,2,    35.35,2,     0.00,2,     2.42,2, -999.000,5, -999.000,5, -999.000,9,-999.0000,9,  -999.00,9,   2322.8,2,   2417.5,2,  -999.00,9,-999.0000,-999.000,  1.0867,-999.000
      325023_1,  P14N,    67,  1,      4,      4,2,19930724,1501, 28.9942, 178.9982, 5325,   4897.4,   1.4825,  34.6900,2,  34.6911,2,   -999.0,9,    160.1,2,   147.53,2,    34.99,2,     0.00,2,     2.40,2, -999.000,5, -999.000,5, -999.000,9,-999.0000,9,  -999.00,9,   2319.6,2,   2415.5,2,  -999.00,9,-999.0000,-999.000,  1.0613,-999.000
      325023_1,  P14N,    67,  1,      3,      3,2,19930724,1501, 28.9942, 178.9982, 5325,   5205.9,   1.4889,  34.6926,2,  34.6935,2,   -999.0,9,    165.7,2,   142.88,2,    34.62,2,     0.00,2,     2.37,2, -999.000,5, -999.000,5, -999.000,9,-999.0000,9,  -999.00,9,   2313.4,2,   2409.6,2,  -999.00,9,-999.0000,-999.000,  1.0297,-999.000
      325023_1,  P14N,    67,  1,      1,      1,2,19930724,1501, 28.9942, 178.9982, 5325,   5406.2,   1.4835,  34.6953,2,  34.6974,2,   -999.0,9,    171.1,2,   138.60,2,    34.21,2,     0.00,2,     2.34,2, -999.000,5, -999.000,5, -999.000,9,-999.0000,9,  -999.00,9,   2305.7,2,   2405.8,2,  -999.00,9,-999.0000,-999.000,  0.9994,-999.000
      325023_1,  P14N,    67,  1,      2,      2,2,19930724,1501, 28.9942, 178.9982, 5325,   5406.3,   1.4828,  34.6951,2,  34.6970,2,   -999.0,9,    171.3,2,   138.70,2,    34.21,2,     0.00,2,     2.34,2,   -0.001,2,    0.002,2, -999.000,9,-999.0000,9,  -999.00,9,   2304.2,2,   2406.4,2,     7.59,2,-999.0000,-999.000,  0.9987,-999.000