BOTTLE,20131125MIRCJHATS
EXPOCODE,SECT_ID,STNNBR,CASTNO,SAMPNO,BTLNBR,BTLNBR_FLAG_W,DATE,TIME,LATITUDE,LONGITUDE,DEPTH,CTDPRS,CTDTMP,CTDSAL,CTDSAL_FLAG_W,SALNTY,SALNTY_FLAG_W,CTDOXY,CTDOXY_FLAG_W,OXYGEN,OXYGEN_FLAG_W,SILCAT,SILCAT_FLAG_W,NITRAT,NITRAT_FLAG_W,NITRIT,NITRIT_FLAG_W,PHSPHT,PHSPHT_FLAG_W,CFC-11,CFC-11_FLAG_W,CFC-12,CFC-12_FLAG_W,TRITUM,TRITUM_FLAG_W,HELIUM,HELIUM_FLAG_W,DELHE3,DELHE3_FLAG_W,TCARBN,TCARBN_FLAG_W,ALKALI,ALKALI_FLAG_W,PH,PH_FLAG_W,HELIER,DELHER,THETA,TRITER
,,,,,,,,,,,,DBAR,ITS-90,PSS-78,,PSS-78,,UMOL/KG,,UMOL/KG,,UMOL/KG,,UMOL/KG,,UMOL/KG,,UMOL/KG,,PMOL/KG,,PMOL/KG,,TU,,NMOL/KG,,PERCNT,,UMOL/KG,,UMOL/KG,,25_DEG,,NMOL/KG,PERCNT,DEG C,TU
      325024_1,  P14N,   138,  1,     36,     36,2,19930816,1626,  1.2523, 179.0077, 5430,      3.4,  29.9543,  34.0896,2,  34.0946,2,   -999.0,9,    195.5,2,     0.00,2,     0.03,2,     0.00,2,     0.16,2, -999.000,5, -999.000,5, -999.000,9,-999.0000,9,  -999.00,9,   -999.0,9,   -999.0,9,  -999.00,9,-999.0000,-999.000, 29.9535,-999.000
      325024_1,  P14N,   138,  1,     35,     35,2,19930816,1626,  1.2523, 179.0077, 5430,     36.0,  29.8985,  34.0834,2,  34.0946,2,   -999.0,9,    196.4,2,     0.00,2,     0.03,2,     0.00,2,     0.15,2, -999.000,5, -999.000,5, -999.000,9,-999.0000,9,  -999.00,9,   -999.0,9,   -999.0,9,  -999.00,9,-999.0000,-999.000, 29.8896,-999.000
      325024_1,  P14N,   138,  1,     34,     34,2,19930816,1626,  1.2523, 179.0077, 5430,     65.7,  29.5557,  34.7381,2,  34.7563,2,   -999.0,9,    203.2,2,     0.00,2,     0.02,2,     0.00,2,     0.22,2, -999.000,5, -999.000,5, -999.000,9,-999.0000,9,  -999.00,9,   -999.0,9,   -999.0,9,  -999.00,9,-999.0000,-999.000, 29.5396,-999.000
      325024_1,  P14N,   138,  1,     33,     33,2,19930816,1626,  1.2523, 179.0077, 5430,     96.2,  28.4336,  35.0609,2,  35.1362,2,   -999.0,9,    184.8,2,     0.00,2,     2.02,2,     0.34,2,     0.42,2, -999.000,5, -999.000,5, -999.000,9,-999.0000,9,  -999.00,9,   -999.0,9,   -999.0,9,  -999.00,9,-999.0000,-999.000, 28.4107,-999.000
      325024_1,  P14N,   138,  1,     32,     32,2,19930816,1626,  1.2523, 179.0077, 5430,    126.7,  22.5891,  35.0908,2,  35.0613,2,   -999.0,9,    136.8,2,     2.17,2,     8.80,2,     0.11,2,     0.73,2, -999.000,5, -999.000,5, -999.000,9,-999.0000,9,  -999.00,9,   -999.0,9,   -999.0,9,  -999.00,9,-999.0000,-999.000, 22.5635,-999.000
      325024_1,  P14N,   138,  1,     31,     31,2,19930816,1626,  1.2523, 179.0077, 5430,    156.8,  20.4588,  34.9502,2,  34.9393,2,   -999.0,9,    136.2,2,     4.26,2,     9.93,2,     0.02,2,     0.79,2, -999.000,5, -999.000,5, -999.000,9,-999.0000,9,  -999.00,9,   -999.0,9,   -999.0,9,  -999.00,9,-999.0000,-999.000, 20.4294,-999.000
      325024_1,  P14N,   138,  1,     30,     30,2,19930816,1626,  1.2523, 179.0077, 5430,    207.6,  14.2208,  34.7792,2,  34.8026,2,   -999.0,9,    134.6,2,    15.09,2,    17.04,2,     0.00,2,     1.28,2, -999.000,5, -999.000,5, -999.000,9,-999.0000,9,  -999.00,9,   -999.0,9,   -999.0,9,  -999.00,9,-999.0000,-999.000, 14.1905,-999.000
      325024_1,  P14N,   138,  1,     29,     29,2,19930816,1626,  1.2523, 179.0077, 5430,    257.4,  12.3708,  34.8241,2,  34.8227,2,   -999.0,9,    122.6,2,    16.57,2,    21.18,2,     0.00,2,     1.56,2, -999.000,5, -999.000,5, -999.000,9,-999.0000,9,  -999.00,9,   -999.0,9,   -999.0,9,  -999.00,9,-999.0000,-999.000, 12.3365,-999.000
      325024_1,  P14N,   138,  1,     28,     28,2,19930816,1626,  1.2523, 179.0077, 5430,    307.3,  11.3576,  34.7843,2,  34.7877,2,   -999.0,9,     89.3,2,    21.09,2,    26.39,2,     0.00,2,     1.90,2, -999.000,5, -999.000,5, -999.000,9,-999.0000,9,  -999.00,9,   -999.0,9,   -999.0,9,  -999.00,9,-999.0000,-999.000, 11.3188,-999.000
      325024_1,  P14N,   138,  1,     27,     27,2,19930816,1626,  1.2523, 179.0077, 5430,    405.3,   9.8683,  34.7070,2,  34.7039,2,   -999.0,9,     57.6,2,    28.44,2,    32.30,2,     0.00,2,     2.28,2, -999.000,5, -999.000,5, -999.000,9,-999.0000,9,  -999.00,9,   -999.0,9,   -999.0,9,  -999.00,9,-999.0000,-999.000,  9.8213,-999.000
      325024_1,  P14N,   138,  1,     26,     26,2,19930816,1626,  1.2523, 179.0077, 5430,    501.7,   7.9522,  34.5980,2,  34.5951,2,   -999.0,9,     95.1,2,    35.19,2,    32.30,2,     0.00,2,     2.30,2, -999.000,5, -999.000,5, -999.000,9,-999.0000,9,  -999.00,9,   -999.0,9,   -999.0,9,  -999.00,9,-999.0000,-999.000,  7.9009,-999.000
      325024_1,  P14N,   138,  1,     25,     25,2,19930816,1626,  1.2523, 179.0077, 5430,    600.5,   6.7598,  34.5659,2,  34.5639,2,   -999.0,9,     75.3,2,    47.61,2,    36.87,2,     0.00,2,     2.62,2, -999.000,5, -999.000,5, -999.000,9,-999.0000,9,  -999.00,9,   -999.0,9,   -999.0,9,  -999.00,9,-999.0000,-999.000,  6.7034,-999.000
      325024_1,  P14N,   138,  1,     24,     24,2,19930816,1626,  1.2523, 179.0077, 5430,    704.3,   5.8704,  34.5509,2,  34.5490,2,   -999.0,9,     71.2,2,    60.25,2,    38.88,2,     0.00,2,     2.78,2, -999.000,5, -999.000,5, -999.000,9,-999.0000,9,  -999.00,9,   -999.0,9,   -999.0,9,  -999.00,9,-999.0000,-999.000,  5.8085,-999.000
      325024_1,  P14N,   138,  1,     23,     23,2,19930816,1626,  1.2523, 179.0077, 5430,    809.3,   5.5216,  34.5456,2,  34.5435,2,   -999.0,9,     79.1,2,    64.96,2,    38.55,2,     0.00,2,     2.76,2, -999.000,5, -999.000,5, -999.000,9,-999.0000,9,  -999.00,9,   -999.0,9,   -999.0,9,  -999.00,9,-999.0000,-999.000,  5.4520,-999.000
      325024_1,  P14N,   138,  1,     22,     22,2,19930816,1626,  1.2523, 179.0077, 5430,    909.9,   5.1543,  34.5441,2,  34.5419,2,   -999.0,9,     85.0,2,    71.70,2,    38.41,2,     0.00,2,     2.75,2, -999.000,5, -999.000,5, -999.000,9,-999.0000,9,  -999.00,9,   -999.0,9,   -999.0,9,  -999.00,9,-999.0000,-999.000,  5.0779,-999.000
      325024_1,  P14N,   138,  1,     21,     21,2,19930816,1626,  1.2523, 179.0077, 5430,   1011.2,   4.5733,  34.5539,2,  34.5506,2,   -999.0,9,     83.7,2,    83.35,2,    39.17,2,     0.00,2,     2.81,2, -999.000,5, -999.000,5, -999.000,9,-999.0000,9,  -999.00,9,   -999.0,9,   -999.0,9,  -999.00,9,-999.0000,-999.000,  4.4922,-999.000
      325024_1,  P14N,   138,  1,     20,     20,2,19930816,1626,  1.2523, 179.0077, 5430,   1112.5,   4.2681,  34.5617,2,  34.5576,2,   -999.0,9,     85.6,2,    90.12,2,    39.25,2,     0.00,2,     2.82,2, -999.000,5, -999.000,5, -999.000,9,-999.0000,9,  -999.00,9,   -999.0,9,   -999.0,9,  -999.00,9,-999.0000,-999.000,  4.1806,-999.000
      325024_1,  P14N,   138,  1,     19,     19,2,19930816,1626,  1.2523, 179.0077, 5430,   1213.0,   4.0976,  34.5646,2,  34.5629,2,   -999.0,9,     87.7,2,    93.82,2,    39.02,2,     0.00,2,     2.81,2, -999.000,5, -999.000,5, -999.000,9,-999.0000,9,  -999.00,9,   -999.0,9,   -999.0,9,  -999.00,9,-999.0000,-999.000,  4.0029,-999.000
      325024_1,  P14N,   138,  1,     18,     18,2,19930816,1626,  1.2523, 179.0077, 5430,   1415.9,   3.3773,  34.5886,2,  34.5861,2,   -999.0,9,     92.8,2,   110.30,2,    39.06,2,     0.00,2,     2.81,2, -999.000,5, -999.000,5, -999.000,9,-999.0000,9,  -999.00,9,   -999.0,9,   -999.0,9,  -999.00,9,-999.0000,-999.000,  3.2723,-999.000
      325024_1,  P14N,   138,  1,     17,     17,2,19930816,1626,  1.2523, 179.0077, 5430,   1618.8,   2.9091,  34.6063,2,  34.6031,2,   -999.0,9,     98.3,2,   120.88,2,    38.83,2,     0.00,2,     2.79,2, -999.000,5, -999.000,5, -999.000,9,-999.0000,9,  -999.00,9,   -999.0,9,   -999.0,9,  -999.00,9,-999.0000,-999.000,  2.7923,-999.000
      325024_1,  P14N,   138,  1,     16,     16,2,19930816,1626,  1.2523, 179.0077, 5430,   1822.2,   2.5378,  34.6227,2,  34.6192,2,   -999.0,9,    106.5,2,   128.60,2,    38.32,2,     0.00,2,     2.75,2, -999.000,5, -999.000,5, -999.000,9,-999.0000,9,  -999.00,9,   -999.0,9,   -999.0,9,  -999.00,9,-999.0000,-999.000,  2.4086,-999.000
      325024_1,  P14N,   138,  1,     15,     15,2,19930816,1626,  1.2523, 179.0077, 5430,   2025.1,   2.2568,  34.6376,2,  34.6347,2,   -999.0,9,    111.5,2,   135.51,2,    38.09,2,     0.00,2,     2.71,2, -999.000,5, -999.000,5, -999.000,9,-999.0000,9,  -999.00,9,   -999.0,9,   -999.0,9,  -999.00,9,-999.0000,-999.000,  2.1143,-999.000
      325024_1,  P14N,   138,  1,     14,     14,2,19930816,1626,  1.2523, 179.0077, 5430,   2229.1,   2.0398,  34.6495,2,  34.6463,2,   -999.0,9,    118.2,2,   140.15,2,    37.82,2,     0.00,2,     2.67,2, -999.000,5, -999.000,5, -999.000,9,-999.0000,9,  -999.00,9,   -999.0,9,   -999.0,9,  -999.00,9,-999.0000,-999.000,  1.8830,-999.000
      325024_1,  P14N,   138,  1,     13,     13,2,19930816,1626,  1.2523, 179.0077, 5430,   2432.9,   1.9237,  34.6562,2,  34.6542,2,   -999.0,9,    120.3,2,   144.16,2,    37.63,2,     0.00,2,     2.65,2, -999.000,5, -999.000,5, -999.000,9,-999.0000,9,  -999.00,9,   -999.0,9,   -999.0,9,  -999.00,9,-999.0000,-999.000,  1.7509,-999.000
      325024_1,  P14N,   138,  1,     12,     12,2,19930816,1626,  1.2523, 179.0077, 5430,   2600.3,   1.8283,  34.6625,2,  34.6614,2,   -999.0,9,    124.2,2,   145.85,2,    37.45,2,     0.00,2,     2.62,2, -999.000,5, -999.000,5, -999.000,9,-999.0000,9,  -999.00,9,   -999.0,9,   -999.0,9,  -999.00,9,-999.0000,-999.000,  1.6420,-999.000
      325024_1,  P14N,   138,  1,     11,     11,2,19930816,1626,  1.2523, 179.0077, 5430,   2839.2,   1.7165,  34.6677,2,  34.6656,2,   -999.0,9,    131.6,2,   146.26,2,    37.00,2,     0.00,2,     2.60,2, -999.000,5, -999.000,5, -999.000,9,-999.0000,9,  -999.00,9,   -999.0,9,   -999.0,9,  -999.00,9,-999.0000,-999.000,  1.5103,-999.000
      325024_1,  P14N,   138,  1,     10,     10,2,19930816,1626,  1.2523, 179.0077, 5430,   3041.3,   1.6556,  34.6706,2,  34.6683,2,   -999.0,9,    136.7,2,   146.04,2,    36.68,2,     0.00,2,     2.57,2, -999.000,5, -999.000,5, -999.000,9,-999.0000,9,  -999.00,9,   -999.0,9,   -999.0,9,  -999.00,9,-999.0000,-999.000,  1.4314,-999.000
      325024_1,  P14N,   138,  1,      9,      9,2,19930816,1626,  1.2523, 179.0077, 5430,   3343.8,   1.5542,  34.6776,2,  34.6746,2,   -999.0,9,    145.8,2,   144.55,2,    36.01,2,     0.00,2,     2.52,2, -999.000,5, -999.000,5, -999.000,9,-999.0000,9,  -999.00,9,   -999.0,9,   -999.0,9,  -999.00,9,-999.0000,-999.000,  1.3025,-999.000
      325024_1,  P14N,   138,  1,      8,      8,2,19930816,1626,  1.2523, 179.0077, 5430,   3648.0,   1.4746,  34.6847,2,  34.6824,2,   -999.0,9,    155.2,2,   142.00,2,    35.44,2,     0.00,2,     2.46,2, -999.000,5, -999.000,5, -999.000,9,-999.0000,9,  -999.00,9,   -999.0,9,   -999.0,9,  -999.00,9,-999.0000,-999.000,  1.1939,-999.000
      325024_1,  P14N,   138,  1,      7,      7,2,19930816,1626,  1.2523, 179.0077, 5430,   3958.3,   1.3962,  34.6908,2,  34.6897,2,   -999.0,9,    166.0,2,   138.42,2,    34.60,2,     0.00,2,     2.40,2, -999.000,5, -999.000,5, -999.000,9,-999.0000,9,  -999.00,9,   -999.0,9,   -999.0,9,  -999.00,9,-999.0000,-999.000,  1.0847,-999.000
      325024_1,  P14N,   138,  1,      6,      6,2,19930816,1626,  1.2523, 179.0077, 5430,   4263.8,   1.3252,  34.6966,2,  34.6954,2,   -999.0,9,    176.2,2,   133.59,2,    33.81,2,     0.00,2,     2.34,2, -999.000,5, -999.000,5, -999.000,9,-999.0000,9,  -999.00,9,   -999.0,9,   -999.0,9,  -999.00,9,-999.0000,-999.000,  0.9823,-999.000
      325024_1,  P14N,   138,  1,      5,      5,2,19930816,1626,  1.2523, 179.0077, 5430,   4573.9,   1.2511,  34.7019,2,  34.6997,2,   -999.0,9,    186.6,2,   128.37,2,    33.07,2,     0.00,2,     2.29,2, -999.000,5, -999.000,5, -999.000,9,-999.0000,9,  -999.00,9,   -999.0,9,   -999.0,9,  -999.00,9,-999.0000,-999.000,  0.8753,-999.000
      325024_1,  P14N,   138,  1,      4,      4,2,19930816,1626,  1.2523, 179.0077, 5430,   4883.6,   1.2504,  34.7037,2,  34.7017,2,   -999.0,9,    191.0,2,   126.29,2,    32.72,2,     0.00,2,     2.27,2, -999.000,5, -999.000,5, -999.000,9,-999.0000,9,  -999.00,9,   -999.0,9,   -999.0,9,  -999.00,9,-999.0000,-999.000,  0.8384,-999.000
      325024_1,  P14N,   138,  1,      3,      3,2,19930816,1626,  1.2523, 179.0077, 5430,   5191.6,   1.2707,  34.7048,2,  34.7005,2,   -999.0,9,    193.6,2,   125.25,2,    32.58,2,     0.00,2,     2.25,2, -999.000,5, -999.000,5, -999.000,9,-999.0000,9,  -999.00,9,   -999.0,9,   -999.0,9,  -999.00,9,-999.0000,-999.000,  0.8208,-999.000
      325024_1,  P14N,   138,  1,      2,      2,2,19930816,1626,  1.2523, 179.0077, 5430,   5505.6,   1.3102,  34.7042,2,  34.7023,2,   -999.0,9,    193.7,2,   125.46,2,    32.58,2,     0.00,2,     2.25,2, -999.000,5, -999.000,5, -999.000,9,-999.0000,9,  -999.00,9,   -999.0,9,   -999.0,9,  -999.00,9,-999.0000,-999.000,  0.8198,-999.000
      325024_1,  P14N,   138,  1,      1,      1,2,19930816,1626,  1.2523, 179.0077, 5430,   5571.5,   1.3188,  34.7043,2,  34.7025,2,   -999.0,9,    192.7,2,   125.87,2,    32.57,2,     0.00,2,     2.26,2, -999.000,5, -999.000,5, -999.000,9,-999.0000,9,  -999.00,9,   -999.0,9,   -999.0,9,  -999.00,9,-999.0000,-999.000,  0.8197,-999.000