BOTTLE,20131125MIRCJHATS
EXPOCODE,SECT_ID,STNNBR,CASTNO,SAMPNO,BTLNBR,BTLNBR_FLAG_W,DATE,TIME,LATITUDE,LONGITUDE,DEPTH,CTDPRS,CTDTMP,CTDSAL,CTDSAL_FLAG_W,SALNTY,SALNTY_FLAG_W,CTDOXY,CTDOXY_FLAG_W,OXYGEN,OXYGEN_FLAG_W,SILCAT,SILCAT_FLAG_W,NITRAT,NITRAT_FLAG_W,NITRIT,NITRIT_FLAG_W,PHSPHT,PHSPHT_FLAG_W,CFC-11,CFC-11_FLAG_W,CFC-12,CFC-12_FLAG_W,TRITUM,TRITUM_FLAG_W,HELIUM,HELIUM_FLAG_W,DELHE3,DELHE3_FLAG_W,TCARBN,TCARBN_FLAG_W,ALKALI,ALKALI_FLAG_W,PH,PH_FLAG_W,HELIER,DELHER,THETA,TRITER
,,,,,,,,,,,,DBAR,ITS-90,PSS-78,,PSS-78,,UMOL/KG,,UMOL/KG,,UMOL/KG,,UMOL/KG,,UMOL/KG,,UMOL/KG,,PMOL/KG,,PMOL/KG,,TU,,NMOL/KG,,PERCNT,,UMOL/KG,,UMOL/KG,,25_DEG,,NMOL/KG,PERCNT,DEG C,TU
      325024_1,  P14N,   168,  1,     36,     36,2,19930824,1706, -7.4982, 178.9995, 2000,      2.2,  29.3890,  34.2627,4,  34.2687,2,   -999.0,9,    195.3,2,     2.39,2,     0.00,2,     0.00,2,     0.19,2, -999.000,5, -999.000,5, -999.000,9,-999.0000,9,  -999.00,9,   -999.0,9,   -999.0,9,  -999.00,9,-999.0000,-999.000, 29.3885,-999.000
      325024_1,  P14N,   168,  1,     35,     35,2,19930824,1706, -7.4982, 178.9995, 2000,     28.8,  29.3929,  34.2626,4,  34.2687,2,   -999.0,9,    195.3,2,     2.14,2,     0.00,2,     0.00,2,     0.19,2, -999.000,5, -999.000,5, -999.000,9,-999.0000,9,  -999.00,9,   -999.0,9,   -999.0,9,  -999.00,9,-999.0000,-999.000, 29.3859,-999.000
      325024_1,  P14N,   168,  1,     34,     34,2,19930824,1706, -7.4982, 178.9995, 2000,     58.5,  29.0442,  35.4326,2,  35.4223,2,   -999.0,9,    191.1,2,     2.10,2,     0.68,2,     0.15,2,     0.37,2, -999.000,5, -999.000,5, -999.000,9,-999.0000,9,  -999.00,9,   -999.0,9,   -999.0,9,  -999.00,9,-999.0000,-999.000, 29.0300,-999.000
      325024_1,  P14N,   168,  1,     33,     33,2,19930824,1706, -7.4982, 178.9995, 2000,     83.7,  27.6490,  35.7283,2,  35.7273,2,   -999.0,9,    159.5,2,     2.47,2,     3.63,2,     1.13,2,     0.62,2, -999.000,5, -999.000,5, -999.000,9,-999.0000,9,  -999.00,9,   -999.0,9,   -999.0,9,  -999.00,9,-999.0000,-999.000, 27.6294,-999.000
      325024_1,  P14N,   168,  1,     32,     32,2,19930824,1706, -7.4982, 178.9995, 2000,    103.8,  26.5924,  35.9092,2,  35.9164,2,   -999.0,9,    145.1,2,     2.43,2,     5.29,2,     1.35,2,     0.73,2, -999.000,5, -999.000,5, -999.000,9,-999.0000,9,  -999.00,9,   -999.0,9,   -999.0,9,  -999.00,9,-999.0000,-999.000, 26.5687,-999.000
      325024_1,  P14N,   168,  1,     31,     31,2,19930824,1706, -7.4982, 178.9995, 2000,    123.8,  25.9179,  36.0455,2,  36.0609,2,   -999.0,9,    138.0,2,     2.19,2,     6.18,2,     1.13,2,     0.77,2, -999.000,5, -999.000,5, -999.000,9,-999.0000,9,  -999.00,9,   -999.0,9,   -999.0,9,  -999.00,9,-999.0000,-999.000, 25.8903,-999.000
      325024_1,  P14N,   168,  1,     30,     30,2,19930824,1706, -7.4982, 178.9995, 2000,    143.6,  25.1068,  36.1757,2,  36.1964,2,   -999.0,9,    141.4,2,     2.15,2,     6.24,2,     0.36,2,     0.73,2, -999.000,5, -999.000,5, -999.000,9,-999.0000,9,  -999.00,9,   -999.0,9,   -999.0,9,  -999.00,9,-999.0000,-999.000, 25.0754,-999.000
      325024_1,  P14N,   168,  1,     29,     29,2,19930824,1706, -7.4982, 178.9995, 2000,    164.0,  23.6352,  36.1184,2,  36.1111,2,   -999.0,9,    140.7,2,     1.90,2,     7.11,2,     0.16,2,     0.78,2, -999.000,5, -999.000,5, -999.000,9,-999.0000,9,  -999.00,9,   -999.0,9,   -999.0,9,  -999.00,9,-999.0000,-999.000, 23.6009,-999.000
      325024_1,  P14N,   168,  1,     28,     28,2,19930824,1706, -7.4982, 178.9995, 2000,    183.8,  21.2077,  35.8667,4,  35.8951,2,   -999.0,9,    133.0,2,     2.89,2,     9.37,2,     0.03,2,     0.92,2, -999.000,5, -999.000,5, -999.000,9,-999.0000,9,  -999.00,9,   -999.0,9,   -999.0,9,  -999.00,9,-999.0000,-999.000, 21.1721,-999.000
      325024_1,  P14N,   168,  1,     27,     27,2,19930824,1706, -7.4982, 178.9995, 2000,    204.2,  18.7031,  35.6192,4,  35.5925,2,   -999.0,9,    118.5,2,     5.11,2,    12.65,2,     0.01,2,     1.12,2, -999.000,5, -999.000,5, -999.000,9,-999.0000,9,  -999.00,9,   -999.0,9,   -999.0,9,  -999.00,9,-999.0000,-999.000, 18.6669,-999.000
      325024_1,  P14N,   168,  1,     26,     26,2,19930824,1706, -7.4982, 178.9995, 2000,    253.9,  14.1728,  35.0984,2,  35.1072,2,   -999.0,9,     91.9,2,    12.04,2,    19.89,2,     0.01,2,     1.61,2, -999.000,5, -999.000,5, -999.000,9,-999.0000,9,  -999.00,9,   -999.0,9,   -999.0,9,  -999.00,9,-999.0000,-999.000, 14.1357,-999.000
      325024_1,  P14N,   168,  1,     25,     25,2,19930824,1706, -7.4982, 178.9995, 2000,    303.4,  11.7658,  34.8680,2,  34.8665,2,   -999.0,9,     84.2,2,    18.15,2,    24.98,2,     0.00,2,     1.91,2, -999.000,5, -999.000,5, -999.000,9,-999.0000,9,  -999.00,9,   -999.0,9,   -999.0,9,  -999.00,9,-999.0000,-999.000, 11.7266,-999.000
      325024_1,  P14N,   168,  1,     24,     24,2,19930824,1706, -7.4982, 178.9995, 2000,    352.0,   9.8015,  34.7208,2,  34.7206,2,   -999.0,9,     91.3,2,    24.03,2,    28.62,2,     0.00,2,     2.09,2, -999.000,5, -999.000,5, -999.000,9,-999.0000,9,  -999.00,9,   -999.0,9,   -999.0,9,  -999.00,9,-999.0000,-999.000,  9.7610,-999.000
      325024_1,  P14N,   168,  1,     23,     23,2,19930824,1706, -7.4982, 178.9995, 2000,    402.2,   8.8037,  34.6570,2,  34.6567,2,   -999.0,9,     98.9,2,    27.66,2,    30.24,2,     0.00,2,     2.15,2, -999.000,5, -999.000,5, -999.000,9,-999.0000,9,  -999.00,9,   -999.0,9,   -999.0,9,  -999.00,9,-999.0000,-999.000,  8.7603,-999.000
      325024_1,  P14N,   168,  1,     22,     22,2,19930824,1706, -7.4982, 178.9995, 2000,    454.3,   8.1520,  34.6172,2,  34.6178,2,   -999.0,9,    104.0,2,    30.86,2,    31.31,2,     0.00,2,     2.20,2,    0.066,2,    0.037,2, -999.000,9,-999.0000,9,  -999.00,9,   -999.0,9,   -999.0,9,  -999.00,9,-999.0000,-999.000,  8.1050,-999.000
      325024_1,  P14N,   168,  1,     21,     21,2,19930824,1706, -7.4982, 178.9995, 2000,    505.1,   7.5435,  34.5843,2,  34.5851,2,   -999.0,9,    106.5,2,    34.47,2,    32.38,2,     0.00,2,     2.27,2, -999.000,5, -999.000,5, -999.000,9,-999.0000,9,  -999.00,9,   -999.0,9,   -999.0,9,  -999.00,9,-999.0000,-999.000,  7.4934,-999.000
      325024_1,  P14N,   168,  1,     20,     20,2,19930824,1706, -7.4982, 178.9995, 2000,    553.3,   7.2933,  34.5714,2,  34.5702,2,   -999.0,9,    109.6,2,    36.24,2,    32.68,2,     0.00,2,     2.29,2,    0.039,2,    0.023,2, -999.000,9,-999.0000,9,  -999.00,9,   -999.0,9,   -999.0,9,  -999.00,9,-999.0000,-999.000,  7.2393,-999.000
      325024_1,  P14N,   168,  1,     19,     19,2,19930824,1706, -7.4982, 178.9995, 2000,    603.9,   6.8327,  34.5520,2,  34.5519,2,   -999.0,9,    107.6,2,    40.25,2,    33.84,2,     0.00,2,     2.37,2, -999.000,5, -999.000,5, -999.000,9,-999.0000,9,  -999.00,9,   -999.0,9,   -999.0,9,  -999.00,9,-999.0000,-999.000,  6.7756,-999.000
      325024_1,  P14N,   168,  1,     18,     18,2,19930824,1706, -7.4982, 178.9995, 2000,    659.6,   6.5242,  34.5403,2,  34.5402,2,   -999.0,9,    111.2,2,    43.02,2,    34.14,2,     0.00,2,     2.39,2,    0.021,2,    0.009,2, -999.000,9,-999.0000,9,  -999.00,9,   -999.0,9,   -999.0,9,  -999.00,9,-999.0000,-999.000,  6.4632,-999.000
      325024_1,  P14N,   168,  1,     17,     17,2,19930824,1706, -7.4982, 178.9995, 2000,    709.0,   6.1742,  34.5296,2,  34.5284,2,   -999.0,9,    114.8,2,    46.81,2,    34.57,2,     0.00,2,     2.42,2, -999.000,5, -999.000,5, -999.000,9,-999.0000,9,  -999.00,9,   -999.0,9,   -999.0,9,  -999.00,9,-999.0000,-999.000,  6.1103,-999.000
      325024_1,  P14N,   168,  1,     16,     16,2,19930824,1706, -7.4982, 178.9995, 2000,    756.1,   5.7155,  34.5229,2,  34.5229,2,   -999.0,9,    110.8,2,    52.84,2,    35.79,2,     0.00,2,     2.50,2,    0.006,2,    0.002,2, -999.000,9,-999.0000,9,  -999.00,9,   -999.0,9,   -999.0,9,  -999.00,9,-999.0000,-999.000,  5.6496,-999.000
      325024_1,  P14N,   168,  1,     15,     15,2,19930824,1706, -7.4982, 178.9995, 2000,    803.6,   5.4739,  34.5215,2,  34.5212,2,   -999.0,9,    110.5,2,    57.02,2,    36.22,2,     0.00,2,     2.54,2, -999.000,5, -999.000,5, -999.000,9,-999.0000,9,  -999.00,9,   -999.0,9,   -999.0,9,  -999.00,9,-999.0000,-999.000,  5.4052,-999.000
      325024_1,  P14N,   168,  1,     14,     14,2,19930824,1706, -7.4982, 178.9995, 2000,    856.1,   5.1552,  34.5219,2,  34.5224,2,   -999.0,9,    112.1,2,    62.02,2,    36.35,2,     0.00,2,     2.56,2, -999.000,5, -999.000,5, -999.000,9,-999.0000,9,  -999.00,9,   -999.0,9,   -999.0,9,  -999.00,9,-999.0000,-999.000,  5.0837,-999.000
      325024_1,  P14N,   168,  1,     13,     13,2,19930824,1706, -7.4982, 178.9995, 2000,    910.0,   4.8523,  34.5249,2,  34.5249,2,   -999.0,9,    110.1,2,    67.41,2,    36.96,2,     0.00,2,     2.60,2, -999.000,5, -999.000,5, -999.000,9,-999.0000,9,  -999.00,9,   -999.0,9,   -999.0,9,  -999.00,9,-999.0000,-999.000,  4.7780,-999.000
      325024_1,  P14N,   168,  1,     12,     12,2,19930824,1706, -7.4982, 178.9995, 2000,    960.2,   4.7069,  34.5256,2,  34.5267,2,   -999.0,9,    112.2,2,    69.75,2,    36.99,2,     0.00,2,     2.60,2, -999.000,5, -999.000,5, -999.000,9,-999.0000,9,  -999.00,9,   -999.0,9,   -999.0,9,  -999.00,9,-999.0000,-999.000,  4.6293,-999.000
      325024_1,  P14N,   168,  1,     11,     11,2,19930824,1706, -7.4982, 178.9995, 2000,   1009.8,   4.4974,  34.5294,2,  34.5296,2,   -999.0,9,    114.4,2,    73.71,2,    37.03,2,     0.00,2,     2.60,2, -999.000,5, -999.000,5, -999.000,9,-999.0000,9,  -999.00,9,   -999.0,9,   -999.0,9,  -999.00,9,-999.0000,-999.000,  4.4170,-999.000
      325024_1,  P14N,   168,  1,     10,     10,3,19930824,1706, -7.4982, 178.9995, 2000,   1110.1,   4.0162,  34.5436,2,  34.5418,4,   -999.0,9,    126.4,4,    82.36,4,    36.14,4,     0.00,4,     2.54,4, -999.000,5, -999.000,5, -999.000,9,-999.0000,9,  -999.00,9,   -999.0,9,   -999.0,9,  -999.00,9,-999.0000,-999.000,  3.9310,-999.000
      325024_1,  P14N,   168,  1,      9,      9,2,19930824,1706, -7.4982, 178.9995, 2000,   1211.0,   3.7144,  34.5599,2,  34.5598,2,   -999.0,9,    116.0,2,    93.06,2,    37.46,2,     0.00,2,     2.63,2, -999.000,5, -999.000,5, -999.000,9,-999.0000,9,  -999.00,9,   -999.0,9,   -999.0,9,  -999.00,9,-999.0000,-999.000,  3.6234,-999.000
      325024_1,  P14N,   168,  1,      8,      8,2,19930824,1706, -7.4982, 178.9995, 2000,   1311.4,   3.4835,  34.5670,2,  34.5693,2,   -999.0,9,    120.7,2,    97.22,2,    37.14,2,     0.00,2,     2.62,2, -999.000,5, -999.000,5, -999.000,9,-999.0000,9,  -999.00,9,   -999.0,9,   -999.0,9,  -999.00,9,-999.0000,-999.000,  3.3863,-999.000
      325024_1,  P14N,   168,  1,      7,      7,2,19930824,1706, -7.4982, 178.9995, 2000,   1410.6,   3.1661,  34.5804,2,  34.5852,2,   -999.0,9,    122.3,2,   104.47,2,    37.18,2,     0.00,2,     2.62,2, -999.000,5, -999.000,5, -999.000,9,-999.0000,9,  -999.00,9,   -999.0,9,   -999.0,9,  -999.00,9,-999.0000,-999.000,  3.0639,-999.000
      325024_1,  P14N,   168,  1,      6,      6,2,19930824,1706, -7.4982, 178.9995, 2000,   1511.7,   2.9593,  34.5926,2,  34.5916,2,   -999.0,9,    124.8,2,   108.43,2,    37.03,2,     0.00,2,     2.61,2, -999.000,5, -999.000,5, -999.000,9,-999.0000,9,  -999.00,9,   -999.0,9,   -999.0,9,  -999.00,9,-999.0000,-999.000,  2.8509,-999.000
      325024_1,  P14N,   168,  1,      5,      5,2,19930824,1706, -7.4982, 178.9995, 2000,   1613.0,   2.8399,  34.5987,2,  34.5981,2,   -999.0,9,    126.7,2,   110.75,2,    36.98,2,     0.00,2,     2.60,2, -999.000,5, -999.000,5, -999.000,9,-999.0000,9,  -999.00,9,   -999.0,9,   -999.0,9,  -999.00,9,-999.0000,-999.000,  2.7245,-999.000
      325024_1,  P14N,   168,  1,      4,      4,2,19930824,1706, -7.4982, 178.9995, 2000,   1719.5,   2.6996,  34.6066,2,  34.6052,2,   -999.0,9,    128.1,2,   114.51,2,    36.93,2,     0.00,2,     2.59,2, -999.000,5, -999.000,5, -999.000,9,-999.0000,9,  -999.00,9,   -999.0,9,   -999.0,9,  -999.00,9,-999.0000,-999.000,  2.5770,-999.000
      325024_1,  P14N,   168,  1,      3,      3,2,19930824,1706, -7.4982, 178.9995, 2000,   1825.7,   2.4889,  34.6192,2,  34.6185,2,   -999.0,9,    129.0,2,   120.55,2,    37.01,2,     0.00,2,     2.60,2, -999.000,5, -999.000,5, -999.000,9,-999.0000,9,  -999.00,9,   -999.0,9,   -999.0,9,  -999.00,9,-999.0000,-999.000,  2.3600,-999.000
      325024_1,  P14N,   168,  1,      2,      2,2,19930824,1706, -7.4982, 178.9995, 2000,   1935.8,   2.3656,  34.6272,2,  34.6270,2,   -999.0,9,    130.2,2,   123.49,2,    36.96,2,     0.00,2,     2.60,2, -999.000,5, -999.000,5, -999.000,9,-999.0000,9,  -999.00,9,   -999.0,9,   -999.0,9,  -999.00,9,-999.0000,-999.000,  2.2291,-999.000
      325024_1,  P14N,   168,  1,      1,      1,2,19930824,1706, -7.4982, 178.9995, 2000,   2066.0,   2.1311,  34.6425,2,  34.6411,2,   -999.0,9,    133.0,2,   129.13,2,    36.86,2,     0.00,2,     2.58,2, -999.000,5, -999.000,5, -999.000,9,-999.0000,9,  -999.00,9,   -999.0,9,   -999.0,9,  -999.00,9,-999.0000,-999.000,  1.9870,-999.000