BOTTLE,20131125MIRCJHATS
EXPOCODE,SECT_ID,STNNBR,CASTNO,SAMPNO,BTLNBR,BTLNBR_FLAG_W,DATE,TIME,LATITUDE,LONGITUDE,DEPTH,CTDPRS,CTDTMP,CTDSAL,CTDSAL_FLAG_W,SALNTY,SALNTY_FLAG_W,CTDOXY,CTDOXY_FLAG_W,OXYGEN,OXYGEN_FLAG_W,SILCAT,SILCAT_FLAG_W,NITRAT,NITRAT_FLAG_W,NITRIT,NITRIT_FLAG_W,PHSPHT,PHSPHT_FLAG_W,CFC-11,CFC-11_FLAG_W,CFC-12,CFC-12_FLAG_W,TRITUM,TRITUM_FLAG_W,HELIUM,HELIUM_FLAG_W,DELHE3,DELHE3_FLAG_W,TCARBN,TCARBN_FLAG_W,ALKALI,ALKALI_FLAG_W,PH,PH_FLAG_W,HELIER,DELHER,THETA,TRITER
,,,,,,,,,,,,DBAR,ITS-90,PSS-78,,PSS-78,,UMOL/KG,,UMOL/KG,,UMOL/KG,,UMOL/KG,,UMOL/KG,,UMOL/KG,,PMOL/KG,,PMOL/KG,,TU,,NMOL/KG,,PERCNT,,UMOL/KG,,UMOL/KG,,25_DEG,,NMOL/KG,PERCNT,DEG C,TU
      325023_1,  P14N,    59,  1,     36,     36,2,19930722,0724, 32.9793, 178.9912, 4823,      2.9,  23.4337,  34.7750,2,  34.7759,2,   -999.0,9,    218.3,2,     3.03,2,     0.00,2,     0.00,2,     0.04,2,    2.162,2,    1.184,2, -999.000,9,-999.0000,9,  -999.00,9,   -999.0,9,   -999.0,9,  -999.00,9,-999.0000,-999.000, 23.4331,-999.000
      325023_1,  P14N,    59,  1,     35,     35,2,19930722,0724, 32.9793, 178.9912, 4823,     32.7,  22.2217,  34.6813,2,  34.6466,2,   -999.0,9,    226.5,2,     3.19,2,     0.00,2,     0.00,2,     0.06,2,    2.259,2,    1.200,2, -999.000,9,-999.0000,9,  -999.00,9,   -999.0,9,   -999.0,9,  -999.00,9,-999.0000,-999.000, 22.2152,-999.000
      325023_1,  P14N,    59,  1,     34,     34,2,19930722,0724, 32.9793, 178.9912, 4823,     62.6,  17.5089,  34.7683,2,  34.7722,2,   -999.0,9,    218.4,2,     4.33,2,     2.93,2,     0.09,2,     0.27,2,    2.483,2,    1.301,2, -999.000,9,-999.0000,9,  -999.00,9,   -999.0,9,   -999.0,9,  -999.00,9,-999.0000,-999.000, 17.4984,-999.000
      325023_1,  P14N,    59,  1,     33,     33,2,19930722,0724, 32.9793, 178.9912, 4823,     92.6,  16.8544,  34.7750,2,  34.7725,2,   -999.0,9,    223.4,2,     4.10,2,     3.52,2,     0.04,2,     0.29,2,    2.585,2,    1.358,2, -999.000,9,-999.0000,9,  -999.00,9,   -999.0,9,   -999.0,9,  -999.00,9,-999.0000,-999.000, 16.8392,-999.000
      325023_1,  P14N,    59,  1,     32,     32,2,19930722,0724, 32.9793, 178.9912, 4823,    122.2,  16.3711,  34.7319,2,  34.7262,2,   -999.0,9,    218.1,2,     5.43,2,     4.72,2,     0.02,2,     0.37,2,    2.541,2,    1.316,2, -999.000,9,-999.0000,9,  -999.00,9,   -999.0,9,   -999.0,9,  -999.00,9,-999.0000,-999.000, 16.3515,-999.000
      325023_1,  P14N,    59,  1,     31,     31,2,19930722,0724, 32.9793, 178.9912, 4823,    151.0,  15.4979,  34.6522,2,  34.6473,2,   -999.0,9,    209.6,2,     7.73,2,     6.88,2,     0.01,2,     0.52,2,    2.480,2,    1.269,2, -999.000,9,-999.0000,9,  -999.00,9,   -999.0,9,   -999.0,9,  -999.00,9,-999.0000,-999.000, 15.4746,-999.000
      325023_1,  P14N,    59,  1,     30,     30,2,19930722,0724, 32.9793, 178.9912, 4823,    201.7,  13.9060,  34.5099,2,  34.5083,2,   -999.0,9,    216.4,2,    10.82,2,     8.56,2,     0.01,2,     0.66,2,    2.662,2,    1.342,2, -999.000,9,-999.0000,9,  -999.00,9,   -999.0,9,   -999.0,9,  -999.00,9,-999.0000,-999.000, 13.8771,-999.000
      325023_1,  P14N,    59,  1,     29,     29,2,19930722,0724, 32.9793, 178.9912, 4823,    252.0,  12.6764,  34.4106,2,  34.4067,2,   -999.0,9,    233.0,2,    11.36,2,     8.61,2,     0.01,2,     0.68,2,    3.018,6,    1.541,6, -999.000,9,-999.0000,9,  -999.00,9,   -999.0,9,   -999.0,9,  -999.00,9,-999.0000,-999.000, 12.6425,-999.000
      325023_1,  P14N,    59,  1,     28,     28,2,19930722,0724, 32.9793, 178.9912, 4823,    307.1,  12.0077,  34.3677,2,  34.3636,2,   -999.0,9,    229.8,2,    13.08,2,    10.02,2,     0.01,2,     0.77,2,    2.962,2,    1.505,2, -999.000,9,-999.0000,9,  -999.00,9,   -999.0,9,   -999.0,9,  -999.00,9,-999.0000,-999.000, 11.9677,-999.000
      325023_1,  P14N,    59,  1,     27,     27,2,19930722,0724, 32.9793, 178.9912, 4823,    408.3,   9.8833,  34.1968,2,  34.1948,2,   -999.0,9,    216.8,2,    22.80,2,    15.44,2,     0.01,2,     1.15,2,    2.901,2,    1.452,2, -999.000,9,-999.0000,9,  -999.00,9,   -999.0,9,   -999.0,9,  -999.00,9,-999.0000,-999.000,  9.8362,-999.000
      325023_1,  P14N,    59,  1,     26,     26,2,19930722,0724, 32.9793, 178.9912, 4823,    508.4,   7.8507,  34.0688,2,  34.0658,2,   -999.0,9,    181.0,2,    39.54,2,    22.51,2,     0.01,2,     1.68,2,    2.378,2,    1.149,2, -999.000,9,-999.0000,9,  -999.00,9,   -999.0,9,   -999.0,9,  -999.00,9,-999.0000,-999.000,  7.7995,-999.000
      325023_1,  P14N,    59,  1,     25,     25,2,19930722,0724, 32.9793, 178.9912, 4823,    607.5,   6.0569,  34.0169,2,  34.0149,2,   -999.0,9,    140.8,2,    60.42,2,    29.26,2,     0.01,2,     2.17,2,    1.679,2,    0.775,2, -999.000,9,-999.0000,9,  -999.00,9,   -999.0,9,   -999.0,9,  -999.00,9,-999.0000,-999.000,  6.0035,-999.000
      325023_1,  P14N,    59,  1,     24,     24,2,19930722,0724, 32.9793, 178.9912, 4823,    711.2,   4.8483,  34.0702,2,  34.0707,2,   -999.0,9,     90.3,2,    84.93,2,    35.75,2,     0.00,2,     2.61,2,    0.866,2,    0.378,2, -999.000,9,-999.0000,9,  -999.00,9,   -999.0,9,   -999.0,9,  -999.00,9,-999.0000,-999.000,  4.7918,-999.000
      325023_1,  P14N,    59,  1,     23,     23,2,19930722,0724, 32.9793, 178.9912, 4823,    810.5,   4.2718,  34.1539,2,  34.1521,2,   -999.0,9,     59.3,2,   101.91,2,    39.10,2,     0.00,2,     2.84,2,    0.398,2,    0.172,2, -999.000,9,-999.0000,9,  -999.00,9,   -999.0,9,   -999.0,9,  -999.00,9,-999.0000,-999.000,  4.2104,-999.000
      325023_1,  P14N,    59,  1,     22,     22,2,19930722,0724, 32.9793, 178.9912, 4823,    913.9,   3.8436,  34.2358,2,  34.2347,2,   -999.0,9,     43.2,2,   116.64,2,    40.84,2,     0.00,2,     2.97,2,    0.200,2,    0.085,2, -999.000,9,-999.0000,9,  -999.00,9,   -999.0,9,   -999.0,9,  -999.00,9,-999.0000,-999.000,  3.7765,-999.000
      325023_1,  P14N,    59,  1,     21,     21,2,19930722,0724, 32.9793, 178.9912, 4823,   1012.9,   3.4652,  34.3061,2,  34.3046,2,   -999.0,9,     32.8,2,   128.69,2,    42.14,2,     0.00,2,     3.05,2,    0.088,2,    0.035,2, -999.000,9,-999.0000,9,  -999.00,9,   -999.0,9,   -999.0,9,  -999.00,9,-999.0000,-999.000,  3.3930,-999.000
      325023_1,  P14N,    59,  1,     20,     20,2,19930722,0724, 32.9793, 178.9912, 4823,   1212.4,   2.9843,  34.4031,2,  34.4008,2,   -999.0,9,     28.3,2,   143.55,2,    42.89,2,     0.00,2,     3.09,2,    0.022,2,    0.008,2, -999.000,9,-999.0000,9,  -999.00,9,   -999.0,9,   -999.0,9,  -999.00,9,-999.0000,-999.000,  2.9004,-999.000
      325023_1,  P14N,    59,  1,     19,     19,2,19930722,0724, 32.9793, 178.9912, 4823,   1427.2,   2.5905,  34.4793,2,  34.4780,2,   -999.0,9,     31.6,2,   155.30,2,    42.91,2,     0.00,2,     3.09,2,    0.006,2,    0.001,2, -999.000,9,-999.0000,9,  -999.00,9,   -999.0,9,   -999.0,9,  -999.00,9,-999.0000,-999.000,  2.4934,-999.000
      325023_1,  P14N,    59,  1,     18,     18,2,19930722,0724, 32.9793, 178.9912, 4823,   1624.0,   2.2926,  34.5349,2,  34.5345,2,   -999.0,9,     42.2,2,   163.62,2,    42.61,2,     0.00,2,     3.05,2,    0.001,2,    0.006,2, -999.000,9,-999.0000,9,  -999.00,9,   -999.0,9,   -999.0,9,  -999.00,9,-999.0000,-999.000,  2.1832,-999.000
      325023_1,  P14N,    59,  1,     17,     17,2,19930722,0724, 32.9793, 178.9912, 4823,   1828.1,   2.0594,  34.5725,2,  34.5719,2,   -999.0,9,     56.7,2,   167.56,2,    41.77,2,     0.00,2,     2.97,2,    0.005,2,    0.009,2, -999.000,9,-999.0000,9,  -999.00,9,   -999.0,9,   -999.0,9,  -999.00,9,-999.0000,-999.000,  1.9365,-999.000
      325023_1,  P14N,    59,  1,     16,     16,2,19930722,0724, 32.9793, 178.9912, 4823,   2018.2,   1.9036,  34.5996,2,  34.5994,2,   -999.0,9,     71.9,2,   168.33,2,    40.70,2,     0.00,2,     2.91,2, -999.000,5, -999.000,5, -999.000,9,-999.0000,9,  -999.00,9,   -999.0,9,   -999.0,9,  -999.00,9,-999.0000,-999.000,  1.7672,-999.000
      325023_1,  P14N,    59,  1,     15,     15,2,19930722,0724, 32.9793, 178.9912, 4823,   2223.8,   1.7748,  34.6203,2,  34.6200,2,   -999.0,9,     86.4,2,   167.62,2,    39.77,2,     0.00,2,     2.84,2,   -0.002,2,    0.003,2, -999.000,9,-999.0000,9,  -999.00,9,   -999.0,9,   -999.0,9,  -999.00,9,-999.0000,-999.000,  1.6230,-999.000
      325023_1,  P14N,    59,  1,     14,     14,2,19930722,0724, 32.9793, 178.9912, 4823,   2425.3,   1.6868,  34.6340,2,  34.6339,2,   -999.0,9,     97.1,2,   166.48,2,    39.11,2,     0.00,2,     2.78,2, -999.000,5, -999.000,5, -999.000,9,-999.0000,9,  -999.00,9,   -999.0,9,   -999.0,9,  -999.00,9,-999.0000,-999.000,  1.5190,-999.000
      325023_1,  P14N,    59,  1,     13,     13,2,19930722,0724, 32.9793, 178.9912, 4823,   2642.1,   1.6218,  34.6460,2,  34.6459,2,   -999.0,9,    108.3,2,   164.29,2,    38.40,2,     0.00,2,     2.72,2, -999.000,5, -999.000,5, -999.000,9,-999.0000,9,  -999.00,9,   -999.0,9,   -999.0,9,  -999.00,9,-999.0000,-999.000,  1.4359,-999.000
      325023_1,  P14N,    59,  1,     12,     12,2,19930722,0724, 32.9793, 178.9912, 4823,   2844.3,   1.5648,  34.6551,2,  34.6559,2,   -999.0,9,    117.7,2,   162.95,2,    37.83,2,     0.00,2,     2.68,2, -999.000,5, -999.000,5, -999.000,9,-999.0000,9,  -999.00,9,   -999.0,9,   -999.0,9,  -999.00,9,-999.0000,-999.000,  1.3614,-999.000
      325023_1,  P14N,    59,  1,     11,     11,2,19930722,0724, 32.9793, 178.9912, 4823,   3038.9,   1.5291,  34.6619,2,  34.6619,2,   -999.0,9,    124.7,2,   161.82,2,    37.36,2,     0.00,2,     2.65,2,    0.004,2,    0.006,2, -999.000,9,-999.0000,9,  -999.00,9,   -999.0,9,   -999.0,9,  -999.00,9,-999.0000,-999.000,  1.3080,-999.000
      325023_1,  P14N,    59,  1,     10,     10,2,19930722,0724, 32.9793, 178.9912, 4823,   3260.3,   1.5057,  34.6675,2,  34.6676,2,   -999.0,9,    130.5,2,   161.12,2,    36.97,2,     0.00,2,     2.62,2, -999.000,5, -999.000,5, -999.000,9,-999.0000,9,  -999.00,9,   -999.0,9,   -999.0,9,  -999.00,9,-999.0000,-999.000,  1.2636,-999.000
      325023_1,  P14N,    59,  1,      9,      9,2,19930722,0724, 32.9793, 178.9912, 4823,   3458.2,   1.4806,  34.6729,2,  34.6731,2,   -999.0,9,    136.5,2,   159.78,2,    36.59,2,     0.00,2,     2.58,2, -999.000,5, -999.000,5, -999.000,9,-999.0000,9,  -999.00,9,   -999.0,9,   -999.0,9,  -999.00,9,-999.0000,-999.000,  1.2193,-999.000
      325023_1,  P14N,    59,  1,      8,      8,2,19930722,0724, 32.9793, 178.9912, 4823,   3658.9,   1.4701,  34.6764,2,  34.6764,2,   -999.0,9,    140.8,2,   158.87,2,    36.33,2,     0.00,2,     2.56,2, -999.000,5, -999.000,5, -999.000,9,-999.0000,9,  -999.00,9,   -999.0,9,   -999.0,9,  -999.00,9,-999.0000,-999.000,  1.1884,-999.000
      325023_1,  P14N,    59,  1,      7,      7,2,19930722,0724, 32.9793, 178.9912, 4823,   3863.7,   1.4672,  34.6795,2,  34.6794,2,   -999.0,9,    144.0,2,   157.75,2,    36.08,2,     0.00,2,     2.53,2, -999.000,5, -999.000,5, -999.000,9,-999.0000,9,  -999.00,9,   -999.0,9,   -999.0,9,  -999.00,9,-999.0000,-999.000,  1.1640,-999.000
      325023_1,  P14N,    59,  1,      6,      6,2,19930722,0724, 32.9793, 178.9912, 4823,   4070.4,   1.4702,  34.6815,2,  34.6825,2,   -999.0,9,    146.7,2,   157.05,2,    35.88,2,     0.00,2,     2.53,2,    0.002,2,    0.002,2, -999.000,9,-999.0000,9,  -999.00,9,   -999.0,9,   -999.0,9,  -999.00,9,-999.0000,-999.000,  1.1445,-999.000
      325023_1,  P14N,    59,  1,      5,      5,2,19930722,0724, 32.9793, 178.9912, 4823,   4278.8,   1.4794,  34.6831,2,  34.6837,2,   -999.0,9,    148.9,2,   156.56,2,    35.76,2,     0.00,2,     2.51,2, -999.000,5, -999.000,5, -999.000,9,-999.0000,9,  -999.00,9,   -999.0,9,   -999.0,9,  -999.00,9,-999.0000,-999.000,  1.1303,-999.000
      325023_1,  P14N,    59,  1,      4,      4,2,19930722,0724, 32.9793, 178.9912, 4823,   4459.7,   1.4907,  34.6840,2,  34.6849,2,   -999.0,9,    150.4,2,   156.07,2,    35.78,2,     0.00,2,     2.50,2, -999.000,5, -999.000,5, -999.000,9,-999.0000,9,  -999.00,9,   -999.0,9,   -999.0,9,  -999.00,9,-999.0000,-999.000,  1.1207,-999.000
      325023_1,  P14N,    59,  1,      3,      3,2,19930722,0724, 32.9793, 178.9912, 4823,   4665.3,   1.5010,  34.6854,2,  34.6860,2,   -999.0,9,    152.4,2,   154.54,2,    35.67,2,     0.00,2,     2.49,2, -999.000,5, -999.000,5, -999.000,9,-999.0000,9,  -999.00,9,   -999.0,9,   -999.0,9,  -999.00,9,-999.0000,-999.000,  1.1068,-999.000
      325023_1,  P14N,    59,  1,      1,      1,2,19930722,0724, 32.9793, 178.9912, 4823,   4897.3,   1.5097,  34.6883,2,  34.6886,2,   -999.0,9,    155.0,2,   152.32,2,    35.52,2,     0.00,2,     2.47,2, -999.000,5, -999.000,5, -999.000,9,-999.0000,9,  -999.00,9,   -999.0,9,   -999.0,9,  -999.00,9,-999.0000,-999.000,  1.0876,-999.000
      325023_1,  P14N,    59,  1,      2,      2,2,19930722,0724, 32.9793, 178.9912, 4823,   4897.4,   1.5097,  34.6883,2,  34.6882,2,   -999.0,9,    155.5,2,   152.39,2,    35.46,2,     0.00,2,     2.48,2,    0.004,2,    0.008,2, -999.000,9,-999.0000,9,  -999.00,9,   -999.0,9,   -999.0,9,  -999.00,9,-999.0000,-999.000,  1.0875,-999.000