BOTTLE,20131125MIRCJHATS
EXPOCODE,SECT_ID,STNNBR,CASTNO,SAMPNO,BTLNBR,BTLNBR_FLAG_W,DATE,TIME,LATITUDE,LONGITUDE,DEPTH,CTDPRS,CTDTMP,CTDSAL,CTDSAL_FLAG_W,SALNTY,SALNTY_FLAG_W,CTDOXY,CTDOXY_FLAG_W,OXYGEN,OXYGEN_FLAG_W,SILCAT,SILCAT_FLAG_W,NITRAT,NITRAT_FLAG_W,NITRIT,NITRIT_FLAG_W,PHSPHT,PHSPHT_FLAG_W,CFC-11,CFC-11_FLAG_W,CFC-12,CFC-12_FLAG_W,TRITUM,TRITUM_FLAG_W,HELIUM,HELIUM_FLAG_W,DELHE3,DELHE3_FLAG_W,TCARBN,TCARBN_FLAG_W,ALKALI,ALKALI_FLAG_W,PH,PH_FLAG_W,HELIER,DELHER,THETA,TRITER
,,,,,,,,,,,,DBAR,ITS-90,PSS-78,,PSS-78,,UMOL/KG,,UMOL/KG,,UMOL/KG,,UMOL/KG,,UMOL/KG,,UMOL/KG,,PMOL/KG,,PMOL/KG,,TU,,NMOL/KG,,PERCNT,,UMOL/KG,,UMOL/KG,,25_DEG,,NMOL/KG,PERCNT,DEG C,TU
      325023_1,  P14N,    64,  1,     36,     36,2,19930723,1252, 30.4977, 178.9858, 5304,      2.0,  26.0564,  35.1179,2,  35.1230,2,   -999.0,9,    210.6,2,     3.78,2,     0.10,2,     0.00,2,     0.05,2, -999.000,5, -999.000,5, -999.000,9,-999.0000,9,  -999.00,9,   -999.0,9,   -999.0,9,  -999.00,9,-999.0000,-999.000, 26.0559,-999.000
      325023_1,  P14N,    64,  1,     35,     35,2,19930723,1252, 30.4977, 178.9858, 5304,      2.3,  25.9986,  35.1150,2,  35.1201,2,   -999.0,9,    208.9,2,     3.72,2,     0.10,2,     0.00,2,     0.06,2, -999.000,5, -999.000,5, -999.000,9,-999.0000,9,  -999.00,9,   -999.0,9,   -999.0,9,  -999.00,9,-999.0000,-999.000, 25.9980,-999.000
      325023_1,  P14N,    64,  1,     34,     34,2,19930723,1252, 30.4977, 178.9858, 5304,     38.9,  19.7506,  34.8301,2,  34.8176,2,   -999.0,9,    251.1,2,     3.87,2,     0.10,2,     0.00,2,     0.07,2, -999.000,5, -999.000,5, -999.000,9,-999.0000,9,  -999.00,9,   -999.0,9,   -999.0,9,  -999.00,9,-999.0000,-999.000, 19.7435,-999.000
      325023_1,  P14N,    64,  1,     33,     33,2,19930723,1252, 30.4977, 178.9858, 5304,     68.9,  17.6512,  34.8253,2,  34.8244,2,   -999.0,9,    239.3,2,     4.01,2,     0.11,2,     0.00,2,     0.11,2, -999.000,5, -999.000,5, -999.000,9,-999.0000,9,  -999.00,9,   -999.0,9,   -999.0,9,  -999.00,9,-999.0000,-999.000, 17.6396,-999.000
      325023_1,  P14N,    64,  1,     32,     32,2,19930723,1252, 30.4977, 178.9858, 5304,     99.5,  16.7998,  34.7716,2,  34.7722,2,   -999.0,9,    237.2,2,     4.15,2,     0.54,2,     0.08,2,     0.17,2, -999.000,5, -999.000,5, -999.000,9,-999.0000,9,  -999.00,9,   -999.0,9,   -999.0,9,  -999.00,9,-999.0000,-999.000, 16.7836,-999.000
      325023_1,  P14N,    64,  1,     31,     31,2,19930723,1252, 30.4977, 178.9858, 5304,    124.2,  16.2153,  34.7277,2,  34.7313,2,   -999.0,9,    223.1,2,     5.29,2,     3.59,2,     0.08,2,     0.33,2, -999.000,5, -999.000,5, -999.000,9,-999.0000,9,  -999.00,9,   -999.0,9,   -999.0,9,  -999.00,9,-999.0000,-999.000, 16.1956,-999.000
      325023_1,  P14N,    64,  1,     30,     30,2,19930723,1252, 30.4977, 178.9858, 5304,    154.5,  15.8422,  34.6891,2,  34.6899,2,   -999.0,9,    227.0,2,     5.43,2,     4.09,2,     0.02,2,     0.36,2, -999.000,5, -999.000,5, -999.000,9,-999.0000,9,  -999.00,9,   -999.0,9,   -999.0,9,  -999.00,9,-999.0000,-999.000, 15.8180,-999.000
      325023_1,  P14N,    64,  1,     29,     29,2,19930723,1252, 30.4977, 178.9858, 5304,    204.3,  15.0611,  34.6155,2,  34.6161,2,   -999.0,9,    220.5,2,     7.36,2,     5.45,2,     0.02,2,     0.45,2, -999.000,5, -999.000,5, -999.000,9,-999.0000,9,  -999.00,9,   -999.0,9,   -999.0,9,  -999.00,9,-999.0000,-999.000, 15.0301,-999.000
      325023_1,  P14N,    64,  1,     28,     28,2,19930723,1252, 30.4977, 178.9858, 5304,    254.4,  14.4344,  34.5578,2,  34.5596,2,   -999.0,9,    219.8,2,     8.30,2,     6.59,2,     0.01,2,     0.52,2, -999.000,5, -999.000,5, -999.000,9,-999.0000,9,  -999.00,9,   -999.0,9,   -999.0,9,  -999.00,9,-999.0000,-999.000, 14.3969,-999.000
      325023_1,  P14N,    64,  1,     27,     27,2,19930723,1252, 30.4977, 178.9858, 5304,    305.5,  13.5147,  34.4802,2,  34.4772,2,   -999.0,9,    216.0,2,    10.82,2,     8.78,2,     0.01,2,     0.68,2, -999.000,5, -999.000,5, -999.000,9,-999.0000,9,  -999.00,9,   -999.0,9,   -999.0,9,  -999.00,9,-999.0000,-999.000, 13.4717,-999.000
      325023_1,  P14N,    64,  1,     26,     26,2,19930723,1252, 30.4977, 178.9858, 5304,    406.1,  11.5527,  34.3172,2,  34.3175,2,   -999.0,9,    216.3,2,    15.92,2,    12.19,2,     0.01,2,     0.91,2, -999.000,5, -999.000,5, -999.000,9,-999.0000,9,  -999.00,9,   -999.0,9,   -999.0,9,  -999.00,9,-999.0000,-999.000, 11.5009,-999.000
      325023_1,  P14N,    64,  1,     25,     25,2,19930723,1252, 30.4977, 178.9858, 5304,    505.6,   9.5822,  34.1732,2,  34.1715,2,   -999.0,9,    200.0,2,    26.36,2,    17.57,2,     0.01,2,     1.29,2, -999.000,5, -999.000,5, -999.000,9,-999.0000,9,  -999.00,9,   -999.0,9,   -999.0,9,  -999.00,9,-999.0000,-999.000,  9.5248,-999.000
      325023_1,  P14N,    64,  1,     24,     24,2,19930723,1252, 30.4977, 178.9858, 5304,    606.2,   7.5065,  34.0537,2,  34.0508,2,   -999.0,9,    171.8,2,    42.74,2,    23.79,2,     0.01,2,     1.75,2, -999.000,5, -999.000,5, -999.000,9,-999.0000,9,  -999.00,9,   -999.0,9,   -999.0,9,  -999.00,9,-999.0000,-999.000,  7.4467,-999.000
      325023_1,  P14N,    64,  1,     23,     23,2,19930723,1252, 30.4977, 178.9858, 5304,    708.5,   5.6074,  34.0231,2,  34.0224,2,   -999.0,9,    120.1,2,    69.65,2,    31.69,2,     0.01,2,     2.33,2, -999.000,5, -999.000,5, -999.000,9,-999.0000,9,  -999.00,9,   -999.0,9,   -999.0,9,  -999.00,9,-999.0000,-999.000,  5.5471,-999.000
      325023_1,  P14N,    64,  1,     22,     22,2,19930723,1252, 30.4977, 178.9858, 5304,    808.7,   4.7193,  34.0923,2,  34.0928,2,   -999.0,9,     78.5,2,    90.29,2,    36.63,2,     0.00,2,     2.67,2, -999.000,5, -999.000,5, -999.000,9,-999.0000,9,  -999.00,9,   -999.0,9,   -999.0,9,  -999.00,9,-999.0000,-999.000,  4.6554,-999.000
      325023_1,  P14N,    64,  1,     21,     21,2,19930723,1252, 30.4977, 178.9858, 5304,    908.9,   4.2291,  34.1760,2,  34.1747,2,   -999.0,9,     53.7,2,   106.23,2,    39.47,2,     0.00,2,     2.88,2, -999.000,5, -999.000,5, -999.000,9,-999.0000,9,  -999.00,9,   -999.0,9,   -999.0,9,  -999.00,9,-999.0000,-999.000,  4.1599,-999.000
      325023_1,  P14N,    64,  1,     20,     20,2,19930723,1252, 30.4977, 178.9858, 5304,   1010.2,   3.7627,  34.2698,2,  34.2681,2,   -999.0,9,     33.5,2,   121.48,2,    41.57,2,     0.01,2,     3.01,2, -999.000,5, -999.000,5, -999.000,9,-999.0000,9,  -999.00,9,   -999.0,9,   -999.0,9,  -999.00,9,-999.0000,-999.000,  3.6885,-999.000
      325023_1,  P14N,    64,  1,     19,     19,2,19930723,1252, 30.4977, 178.9858, 5304,   1213.1,   3.1577,  34.3946,2,  34.3937,2,   -999.0,9,     24.2,2,   140.62,2,    42.82,2,     0.00,2,     3.10,2, -999.000,5, -999.000,5, -999.000,9,-999.0000,9,  -999.00,9,   -999.0,9,   -999.0,9,  -999.00,9,-999.0000,-999.000,  3.0721,-999.000
      325023_1,  P14N,    64,  1,     18,     18,2,19930723,1252, 30.4977, 178.9858, 5304,   1415.0,   2.7799,  34.4839,2,  34.4830,2,   -999.0,9,     34.2,2,   150.63,2,    42.53,2,     0.00,2,     3.07,2, -999.000,5, -999.000,5, -999.000,9,-999.0000,9,  -999.00,9,   -999.0,9,   -999.0,9,  -999.00,9,-999.0000,-999.000,  2.6817,-999.000
      325023_1,  P14N,    64,  1,     17,     17,2,19930723,1252, 30.4977, 178.9858, 5304,   1615.3,   2.4478,  34.5366,2,  34.5351,2,   -999.0,9,     46.8,2,   158.62,2,    41.92,2,     0.00,2,     3.01,2, -999.000,5, -999.000,5, -999.000,9,-999.0000,9,  -999.00,9,   -999.0,9,   -999.0,9,  -999.00,9,-999.0000,-999.000,  2.3372,-999.000
      325023_1,  P14N,    64,  1,     16,     16,2,19930723,1252, 30.4977, 178.9858, 5304,   1819.0,   2.1809,  34.5751,2,  34.5729,2,   -999.0,9,     59.7,2,   164.77,2,    41.23,2,     0.00,2,     2.95,2, -999.000,5, -999.000,5, -999.000,9,-999.0000,9,  -999.00,9,   -999.0,9,   -999.0,9,  -999.00,9,-999.0000,-999.000,  2.0570,-999.000
      325023_1,  P14N,    64,  1,     15,     15,2,19930723,1252, 30.4977, 178.9858, 5304,   2023.2,   1.9800,  34.6006,2,  34.6000,2,   -999.0,9,     71.9,2,   168.18,2,    40.35,2,     0.00,2,     2.89,2, -999.000,5, -999.000,5, -999.000,9,-999.0000,9,  -999.00,9,   -999.0,9,   -999.0,9,  -999.00,9,-999.0000,-999.000,  1.8421,-999.000
      325023_1,  P14N,    64,  1,     14,     14,2,19930723,1252, 30.4977, 178.9858, 5304,   2226.7,   1.8233,  34.6215,2,  34.6209,2,   -999.0,9,     86.9,2,   168.60,2,    39.48,2,     0.00,2,     2.81,2, -999.000,5, -999.000,5, -999.000,9,-999.0000,9,  -999.00,9,   -999.0,9,   -999.0,9,  -999.00,9,-999.0000,-999.000,  1.6704,-999.000
      325023_1,  P14N,    64,  1,     13,     13,2,19930723,1252, 30.4977, 178.9858, 5304,   2430.7,   1.7238,  34.6355,2,  34.6350,2,   -999.0,9,     97.6,2,   168.16,2,    38.87,2,     0.00,2,     2.76,2, -999.000,5, -999.000,5, -999.000,9,-999.0000,9,  -999.00,9,   -999.0,9,   -999.0,9,  -999.00,9,-999.0000,-999.000,  1.5549,-999.000
      325023_1,  P14N,    64,  1,     12,     12,2,19930723,1252, 30.4977, 178.9858, 5304,   2634.5,   1.6315,  34.6478,2,  34.6474,2,   -999.0,9,    109.1,2,   166.45,2,    38.18,2,     0.00,2,     2.71,2, -999.000,5, -999.000,5, -999.000,9,-999.0000,9,  -999.00,9,   -999.0,9,   -999.0,9,  -999.00,9,-999.0000,-999.000,  1.4460,-999.000
      325023_1,  P14N,    64,  1,     11,     11,2,19930723,1252, 30.4977, 178.9858, 5304,   2836.8,   1.5653,  34.6577,2,  34.6573,2,   -999.0,9,    119.5,2,   164.32,2,    37.44,2,     0.00,2,     2.65,2, -999.000,5, -999.000,5, -999.000,9,-999.0000,9,  -999.00,9,   -999.0,9,   -999.0,9,  -999.00,9,-999.0000,-999.000,  1.3626,-999.000
      325023_1,  P14N,    64,  1,     10,     10,2,19930723,1252, 30.4977, 178.9858, 5304,   3041.9,   1.5265,  34.6640,2,  34.6630,2,   -999.0,9,    126.5,2,   162.63,2,    36.98,2,     0.00,2,     2.63,2, -999.000,5, -999.000,5, -999.000,9,-999.0000,9,  -999.00,9,   -999.0,9,   -999.0,9,  -999.00,9,-999.0000,-999.000,  1.3051,-999.000
      325023_1,  P14N,    64,  1,      9,      9,2,19930723,1252, 30.4977, 178.9858, 5304,   3349.3,   1.4801,  34.6728,2,  34.6720,2,   -999.0,9,    135.9,2,   160.51,2,    36.42,2,     0.00,2,     2.57,2, -999.000,5, -999.000,5, -999.000,9,-999.0000,9,  -999.00,9,   -999.0,9,   -999.0,9,  -999.00,9,-999.0000,-999.000,  1.2297,-999.000
      325023_1,  P14N,    64,  1,      8,      8,2,19930723,1252, 30.4977, 178.9858, 5304,   3656.7,   1.4607,  34.6785,2,  34.6782,2,   -999.0,9,    142.9,2,   158.83,2,    35.73,2,     0.00,2,     2.54,2, -999.000,5, -999.000,5, -999.000,9,-999.0000,9,  -999.00,9,   -999.0,9,   -999.0,9,  -999.00,9,-999.0000,-999.000,  1.1795,-999.000
      325023_1,  P14N,    64,  1,      7,      7,2,19930723,1252, 30.4977, 178.9858, 5304,   3968.2,   1.4592,  34.6820,2,  34.6809,2,   -999.0,9,    147.8,2,   157.36,2,    35.75,2,     0.00,2,     2.52,2, -999.000,5, -999.000,5, -999.000,9,-999.0000,9,  -999.00,9,   -999.0,9,   -999.0,9,  -999.00,9,-999.0000,-999.000,  1.1449,-999.000
      325023_1,  P14N,    64,  1,      6,      6,2,19930723,1252, 30.4977, 178.9858, 5304,   4279.9,   1.4660,  34.6849,2,  34.6852,2,   -999.0,9,    151.7,2,   155.69,2,    35.60,2,     0.00,2,     2.49,2, -999.000,5, -999.000,5, -999.000,9,-999.0000,9,  -999.00,9,   -999.0,9,   -999.0,9,  -999.00,9,-999.0000,-999.000,  1.1171,-999.000
      325023_1,  P14N,    64,  1,      5,      5,2,19930723,1252, 30.4977, 178.9858, 5304,   4585.0,   1.4790,  34.6871,2,  34.6866,2,   -999.0,9,    154.6,2,   153.19,2,    35.31,2,     0.00,2,     2.48,2, -999.000,5, -999.000,5, -999.000,9,-999.0000,9,  -999.00,9,   -999.0,9,   -999.0,9,  -999.00,9,-999.0000,-999.000,  1.0948,-999.000
      325023_1,  P14N,    64,  1,      4,      4,2,19930723,1252, 30.4977, 178.9858, 5304,   4893.9,   1.4825,  34.6901,2,  34.6891,2,   -999.0,9,    160.1,2,   148.42,2,    34.84,2,     0.00,2,     2.45,2, -999.000,5, -999.000,5, -999.000,9,-999.0000,9,  -999.00,9,   -999.0,9,   -999.0,9,  -999.00,9,-999.0000,-999.000,  1.0617,-999.000
      325023_1,  P14N,    64,  1,      3,      3,2,19930723,1252, 30.4977, 178.9858, 5304,   5196.5,   1.4914,  34.6926,2,  34.6922,2,   -999.0,9,    165.7,2,   144.10,2,    34.41,2,     0.00,2,     2.42,2, -999.000,5, -999.000,5, -999.000,9,-999.0000,9,  -999.00,9,   -999.0,9,   -999.0,9,  -999.00,9,-999.0000,-999.000,  1.0333,-999.000
      325023_1,  P14N,    64,  1,      2,      2,2,19930723,1252, 30.4977, 178.9858, 5304,   5380.5,   1.5057,  34.6935,2,  34.6931,2,   -999.0,9,    167.6,2,   143.08,2,    34.35,2,     0.00,2,     2.41,2, -999.000,5, -999.000,5, -999.000,9,-999.0000,9,  -999.00,9,   -999.0,9,   -999.0,9,  -999.00,9,-999.0000,-999.000,  1.0241,-999.000
      325023_1,  P14N,    64,  1,      1,      1,2,19930723,1252, 30.4977, 178.9858, 5304,   5384.2,   1.5058,  34.6935,2,  34.6933,2,   -999.0,9,    167.7,2,   142.89,2,    34.24,2,     0.00,2,     2.40,2, -999.000,5, -999.000,5, -999.000,9,-999.0000,9,  -999.00,9,   -999.0,9,   -999.0,9,  -999.00,9,-999.0000,-999.000,  1.0237,-999.000