BOTTLE,20131125MIRCJHATS
EXPOCODE,SECT_ID,STNNBR,CASTNO,SAMPNO,BTLNBR,BTLNBR_FLAG_W,DATE,TIME,LATITUDE,LONGITUDE,DEPTH,CTDPRS,CTDTMP,CTDSAL,CTDSAL_FLAG_W,SALNTY,SALNTY_FLAG_W,CTDOXY,CTDOXY_FLAG_W,OXYGEN,OXYGEN_FLAG_W,SILCAT,SILCAT_FLAG_W,NITRAT,NITRAT_FLAG_W,NITRIT,NITRIT_FLAG_W,PHSPHT,PHSPHT_FLAG_W,CFC-11,CFC-11_FLAG_W,CFC-12,CFC-12_FLAG_W,TRITUM,TRITUM_FLAG_W,HELIUM,HELIUM_FLAG_W,DELHE3,DELHE3_FLAG_W,TCARBN,TCARBN_FLAG_W,ALKALI,ALKALI_FLAG_W,PH,PH_FLAG_W,HELIER,DELHER,THETA,TRITER
,,,,,,,,,,,,DBAR,ITS-90,PSS-78,,PSS-78,,UMOL/KG,,UMOL/KG,,UMOL/KG,,UMOL/KG,,UMOL/KG,,UMOL/KG,,PMOL/KG,,PMOL/KG,,TU,,NMOL/KG,,PERCNT,,UMOL/KG,,UMOL/KG,,25_DEG,,NMOL/KG,PERCNT,DEG C,TU
      325023_1,  P14N,    81,  1,     36,     36,2,19930728,1008, 22.0063, 179.0005, 3678,      2.4,  27.7661,  35.2354,2,  35.2373,2,   -999.0,9,    201.2,2,     3.21,2,     0.09,2,     0.00,2,     0.05,2,    1.732,2,    0.917,2, -999.000,9,-999.0000,9,  -999.00,9,   -999.0,9,   -999.0,9,  -999.00,9,-999.0000,-999.000, 27.7655,-999.000
      325023_1,  P14N,    81,  1,     35,     35,2,19930728,1008, 22.0063, 179.0005, 3678,     36.3,  27.5717,  35.2704,2,  35.2752,2,   -999.0,9,    202.8,2,     3.15,2,     0.09,2,     0.00,2,     0.04,2,    1.758,2,    0.956,2, -999.000,9,-999.0000,9,  -999.00,9,   -999.0,9,   -999.0,9,  -999.00,9,-999.0000,-999.000, 27.5633,-999.000
      325023_1,  P14N,    81,  1,     34,     34,2,19930728,1008, 22.0063, 179.0005, 3678,     66.7,  26.1687,  35.1346,2,  35.1808,2,   -999.0,9,    220.4,2,     2.88,2,     0.09,2,     0.00,2,     0.03,2,    1.936,2,    1.045,2, -999.000,9,-999.0000,9,  -999.00,9,   -999.0,9,   -999.0,9,  -999.00,9,-999.0000,-999.000, 26.1538,-999.000
      325023_1,  P14N,    81,  1,     33,     33,2,19930728,1008, 22.0063, 179.0005, 3678,     96.9,  23.8730,  35.2668,2,  35.2648,2,   -999.0,9,    220.4,2,     2.82,2,     0.04,2,     0.00,2,     0.03,2,    2.070,2,    1.096,2, -999.000,9,-999.0000,9,  -999.00,9,   -999.0,9,   -999.0,9,  -999.00,9,-999.0000,-999.000, 23.8526,-999.000
      325023_1,  P14N,    81,  1,     32,     32,2,19930728,1008, 22.0063, 179.0005, 3678,    127.1,  22.1554,  35.2609,2,  35.2617,2,   -999.0,9,    211.9,2,     2.77,2,     0.04,2,     0.00,2,     0.07,2,    2.129,2,    1.176,2, -999.000,9,-999.0000,9,  -999.00,9,   -999.0,9,   -999.0,9,  -999.00,9,-999.0000,-999.000, 22.1301,-999.000
      325023_1,  P14N,    81,  1,     31,     31,2,19930728,1008, 22.0063, 179.0005, 3678,    157.1,  21.2491,  35.2578,2,  35.2567,2,   -999.0,9,    210.1,2,     2.92,2,     0.08,2,     0.10,2,     0.08,2,    2.215,2,    1.156,2, -999.000,9,-999.0000,9,  -999.00,9,   -999.0,9,   -999.0,9,  -999.00,9,-999.0000,-999.000, 21.2187,-999.000
      325023_1,  P14N,    81,  1,     30,     30,2,19930728,1008, 22.0063, 179.0005, 3678,    207.8,  18.2017,  34.9513,2,  34.9555,2,   -999.0,9,    194.9,2,     4.38,2,     3.37,2,     0.01,2,     0.31,2,    2.412,2,    1.238,2, -999.000,9,-999.0000,9,  -999.00,9,   -999.0,9,   -999.0,9,  -999.00,9,-999.0000,-999.000, 18.1657,-999.000
      325023_1,  P14N,    81,  1,     29,     29,2,19930728,1008, 22.0063, 179.0005, 3678,    258.6,  15.9506,  34.7083,2,  34.6962,2,   -999.0,9,    203.5,2,     6.69,2,     5.93,2,     0.01,2,     0.47,2,    2.505,2,    1.262,2, -999.000,9,-999.0000,9,  -999.00,9,   -999.0,9,   -999.0,9,  -999.00,9,-999.0000,-999.000, 15.9097,-999.000
      325023_1,  P14N,    81,  1,     28,     28,2,19930728,1008, 22.0063, 179.0005, 3678,    309.0,  14.3675,  34.5416,2,  34.5414,2,   -999.0,9,    198.3,2,     9.44,2,     8.59,2,     0.01,2,     0.66,2,    2.467,2,    1.229,2, -999.000,9,-999.0000,9,  -999.00,9,   -999.0,9,   -999.0,9,  -999.00,9,-999.0000,-999.000, 14.3220,-999.000
      325023_1,  P14N,    81,  1,     27,     27,2,19930728,1008, 22.0063, 179.0005, 3678,    359.5,  12.8634,  34.4063,2,  34.3981,2,   -999.0,9,    198.7,2,    13.05,2,    11.28,2,     0.01,2,     0.83,2,    2.464,2,    1.197,2, -999.000,9,-999.0000,9,  -999.00,9,   -999.0,9,   -999.0,9,  -999.00,9,-999.0000,-999.000, 12.8143,-999.000
      325023_1,  P14N,    81,  1,     26,     26,2,19930728,1008, 22.0063, 179.0005, 3678,    409.5,  11.1143,  34.2682,2,  34.2715,2,   -999.0,9,    195.7,2,    18.81,2,    14.76,2,     0.00,2,     1.07,2,    2.332,2,    1.113,2, -999.000,9,-999.0000,9,  -999.00,9,   -999.0,9,   -999.0,9,  -999.00,9,-999.0000,-999.000, 11.0634,-999.000
      325023_1,  P14N,    81,  1,     25,     25,2,19930728,1008, 22.0063, 179.0005, 3678,    460.2,   9.8805,  34.1896,2,  34.1885,2,   -999.0,9,    171.8,2,    26.52,2,    19.34,2,     0.00,2,     1.40,2,    1.852,2,    0.879,2, -999.000,9,-999.0000,9,  -999.00,9,   -999.0,9,   -999.0,9,  -999.00,9,-999.0000,-999.000,  9.8273,-999.000
      325023_1,  P14N,    81,  1,     24,     24,2,19930728,1008, 22.0063, 179.0005, 3678,    509.9,   8.3933,  34.1160,2,  34.1137,2,   -999.0,9,    162.6,2,    37.25,2,    23.15,2,     0.00,2,     1.65,2,    1.579,2,    0.733,2, -999.000,9,-999.0000,9,  -999.00,9,   -999.0,9,   -999.0,9,  -999.00,9,-999.0000,-999.000,  8.3399,-999.000
      325023_1,  P14N,    81,  1,     23,     23,2,19930728,1008, 22.0063, 179.0005, 3678,    610.2,   6.5166,  34.1134,2,  34.1135,2,   -999.0,9,     95.8,2,    62.89,2,    32.67,2,     0.00,2,     2.34,2,    0.562,2,    0.262,2, -999.000,9,-999.0000,9,  -999.00,9,   -999.0,9,   -999.0,9,  -999.00,9,-999.0000,-999.000,  6.4608,-999.000
      325023_1,  P14N,    81,  1,     22,     22,2,19930728,1008, 22.0063, 179.0005, 3678,    711.1,   5.4577,  34.2006,2,  34.2010,2,   -999.0,9,     57.5,2,    83.19,2,    38.09,2,     0.00,2,     2.72,2,    0.171,2,    0.075,2, -999.000,9,-999.0000,9,  -999.00,9,   -999.0,9,   -999.0,9,  -999.00,9,-999.0000,-999.000,  5.3978,-999.000
      325023_1,  P14N,    81,  1,     21,     21,2,19930728,1008, 22.0063, 179.0005, 3678,    813.0,   4.6251,  34.2979,2,  34.3001,2,   -999.0,9,     42.3,2,   101.20,2,    40.92,2,     0.00,2,     2.90,2,    0.040,2,    0.022,2, -999.000,9,-999.0000,9,  -999.00,9,   -999.0,9,   -999.0,9,  -999.00,9,-999.0000,-999.000,  4.5611,-999.000
      325023_1,  P14N,    81,  1,     20,     20,2,19930728,1008, 22.0063, 179.0005, 3678,    914.4,   4.2575,  34.3705,2,  34.3681,2,   -999.0,9,     42.4,2,   109.87,2,    41.51,2,     0.00,2,     2.94,2,    0.011,2,    0.027,4, -999.000,9,-999.0000,9,  -999.00,9,   -999.0,9,   -999.0,9,  -999.00,9,-999.0000,-999.000,  4.1873,-999.000
      325023_1,  P14N,    81,  1,     19,     19,2,19930728,1008, 22.0063, 179.0005, 3678,   1015.1,   4.0569,  34.4568,2,  34.4567,2,   -999.0,9,     51.7,2,   113.74,2,    41.22,2,     0.00,2,     2.91,2,    0.002,2,    0.002,2, -999.000,9,-999.0000,9,  -999.00,9,   -999.0,9,   -999.0,9,  -999.00,9,-999.0000,-999.000,  3.9797,-999.000
      325023_1,  P14N,    81,  1,     18,     18,2,19930728,1008, 22.0063, 179.0005, 3678,   1116.1,   3.7534,  34.4981,2,  34.4968,2,   -999.0,9,     59.0,2,   119.82,2,    41.07,2,     0.00,2,     2.89,2,    0.000,2,    0.002,2, -999.000,9,-999.0000,9,  -999.00,9,   -999.0,9,   -999.0,9,  -999.00,9,-999.0000,-999.000,  3.6701,-999.000
      325023_1,  P14N,    81,  1,     17,     17,2,19930728,1008, 22.0063, 179.0005, 3678,   1216.6,   3.4670,  34.5202,2,  34.5182,2,   -999.0,9,     64.6,2,   125.48,2,    40.88,2,     0.00,2,     2.87,2,   -0.002,2,    0.002,2, -999.000,9,-999.0000,9,  -999.00,9,   -999.0,9,   -999.0,9,  -999.00,9,-999.0000,-999.000,  3.3779,-999.000
      325023_1,  P14N,    81,  1,     16,     16,2,19930728,1008, 22.0063, 179.0005, 3678,   1316.2,   3.1739,  34.5394,2,  34.5386,2,   -999.0,9,     69.6,2,   131.82,2,    40.79,2,     0.00,2,     2.86,2, -999.000,5, -999.000,5, -999.000,9,-999.0000,9,  -999.00,9,   -999.0,9,   -999.0,9,  -999.00,9,-999.0000,-999.000,  3.0795,-999.000
      325023_1,  P14N,    81,  1,     15,     15,2,19930728,1008, 22.0063, 179.0005, 3678,   1419.2,   2.9536,  34.5546,2,  34.5537,2,   -999.0,9,     74.0,2,   136.41,2,    40.55,2,     0.00,2,     2.84,2, -999.000,5, -999.000,5, -999.000,9,-999.0000,9,  -999.00,9,   -999.0,9,   -999.0,9,  -999.00,9,-999.0000,-999.000,  2.8530,-999.000
      325023_1,  P14N,    81,  1,     14,     14,2,19930728,1008, 22.0063, 179.0005, 3678,   1520.3,   2.7384,  34.5683,2,  34.5680,2,   -999.0,9,     77.7,2,   141.01,2,    40.50,2,     0.00,2,     2.82,2,   -0.001,2,   -0.001,3, -999.000,9,-999.0000,9,  -999.00,9,   -999.0,9,   -999.0,9,  -999.00,9,-999.0000,-999.000,  2.6319,-999.000
      325023_1,  P14N,    81,  1,     13,     13,2,19930728,1008, 22.0063, 179.0005, 3678,   1622.5,   2.5391,  34.5822,2,  34.5811,2,   -999.0,9,     82.6,2,   145.17,2,    40.31,2,     0.00,2,     2.80,2, -999.000,5, -999.000,5, -999.000,9,-999.0000,9,  -999.00,9,   -999.0,9,   -999.0,9,  -999.00,9,-999.0000,-999.000,  2.4267,-999.000
      325023_1,  P14N,    81,  1,     12,     12,2,19930728,1008, 22.0063, 179.0005, 3678,   1825.4,   2.1954,  34.6070,2,  34.6074,2,   -999.0,9,     92.4,2,   152.27,2,    39.78,2,     0.00,2,     2.73,2,    0.000,2,    0.000,2, -999.000,9,-999.0000,9,  -999.00,9,   -999.0,9,   -999.0,9,  -999.00,9,-999.0000,-999.000,  2.0707,-999.000
      325023_1,  P14N,    81,  1,     11,     11,3,19930728,1008, 22.0063, 179.0005, 3678,   2028.2,   1.9970,  34.6226,2,-999.0000,9,   -999.0,9,   -999.0,9,   106.76,4,    30.40,4,     0.01,4,     2.12,4, -999.000,5, -999.000,5, -999.000,9,-999.0000,9,  -999.00,9,   -999.0,9,   -999.0,9,  -999.00,9,-999.0000,-999.000,  1.8583,-999.000
      325023_1,  P14N,    81,  1,     10,     10,2,19930728,1008, 22.0063, 179.0005, 3678,   2230.5,   1.8485,  34.6354,2,  34.6357,2,   -999.0,9,    108.5,2,   157.97,2,    38.78,2,     0.00,2,     2.66,2, -999.000,5, -999.000,5, -999.000,9,-999.0000,9,  -999.00,9,   -999.0,9,   -999.0,9,  -999.00,9,-999.0000,-999.000,  1.6949,-999.000
      325023_1,  P14N,    81,  1,      9,      9,2,19930728,1008, 22.0063, 179.0005, 3678,   2430.9,   1.7607,  34.6437,2,  34.6441,2,   -999.0,9,    113.2,2,   159.92,2,    38.59,2,     0.00,2,     2.64,2, -999.000,5, -999.000,5, -999.000,9,-999.0000,9,  -999.00,9,   -999.0,9,   -999.0,9,  -999.00,9,-999.0000,-999.000,  1.5911,-999.000
      325023_1,  P14N,    81,  1,      8,      8,2,19930728,1008, 22.0063, 179.0005, 3678,   2631.7,   1.6830,  34.6511,2,  34.6511,2,   -999.0,9,    119.0,2,   160.74,2,    38.21,2,     0.00,2,     2.62,2, -999.000,5, -999.000,5, -999.000,9,-999.0000,9,  -999.00,9,   -999.0,9,   -999.0,9,  -999.00,9,-999.0000,-999.000,  1.4967,-999.000
      325023_1,  P14N,    81,  1,      7,      7,2,19930728,1008, 22.0063, 179.0005, 3678,   2835.3,   1.6170,  34.6583,2,  34.6588,2,   -999.0,9,    125.0,2,   160.66,2,    37.88,2,     0.00,2,     2.59,2, -999.000,5, -999.000,5, -999.000,9,-999.0000,9,  -999.00,9,   -999.0,9,   -999.0,9,  -999.00,9,-999.0000,-999.000,  1.4133,-999.000
      325023_1,  P14N,    81,  1,      6,      6,2,19930728,1008, 22.0063, 179.0005, 3678,   3039.3,   1.5721,  34.6644,2,  34.6639,2,   -999.0,9,    130.7,2,   159.66,2,    37.45,2,     0.00,2,     2.56,2,   -0.003,2,    0.025,4, -999.000,9,-999.0000,9,  -999.00,9,   -999.0,9,   -999.0,9,  -999.00,9,-999.0000,-999.000,  1.3500,-999.000
      325023_1,  P14N,    81,  1,      5,      5,2,19930728,1008, 22.0063, 179.0005, 3678,   3244.0,   1.5201,  34.6711,2,  34.6711,2,   -999.0,9,    138.5,2,   157.54,2,    36.98,2,     0.00,2,     2.52,2, -999.000,5, -999.000,5, -999.000,9,-999.0000,9,  -999.00,9,   -999.0,9,   -999.0,9,  -999.00,9,-999.0000,-999.000,  1.2792,-999.000
      325023_1,  P14N,    81,  1,      4,      4,2,19930728,1008, 22.0063, 179.0005, 3678,   3447.8,   1.4903,  34.6756,2,  34.6753,2,   -999.0,9,    143.1,2,   156.55,2,    36.70,2,     0.00,2,     2.50,2, -999.000,5, -999.000,5, -999.000,9,-999.0000,9,  -999.00,9,   -999.0,9,   -999.0,9,  -999.00,9,-999.0000,-999.000,  1.2297,-999.000
      325023_1,  P14N,    81,  1,      3,      3,2,19930728,1008, 22.0063, 179.0005, 3678,   3654.3,   1.4598,  34.6797,2,  34.6796,2,   -999.0,9,    149.3,2,   154.21,2,    36.27,2,     0.00,2,     2.47,2, -999.000,5, -999.000,5, -999.000,9,-999.0000,9,  -999.00,9,   -999.0,9,   -999.0,9,  -999.00,9,-999.0000,-999.000,  1.1788,-999.000
      325023_1,  P14N,    81,  1,      2,      2,2,19930728,1008, 22.0063, 179.0005, 3678,   3725.6,   1.4511,  34.6815,2,  34.6821,2,   -999.0,9,    150.8,2,   153.67,2,    36.09,2,     0.00,2,     2.46,2,    0.003,2,   -0.001,2, -999.000,9,-999.0000,9,  -999.00,9,   -999.0,9,   -999.0,9,  -999.00,9,-999.0000,-999.000,  1.1629,-999.000
      325023_1,  P14N,    81,  1,      1,      1,2,19930728,1008, 22.0063, 179.0005, 3678,   3725.6,   1.4517,  34.6811,2,  34.6811,2,   -999.0,9,    150.6,2,   153.81,2,    36.14,2,     0.00,2,     2.46,2, -999.000,5, -999.000,5, -999.000,9,-999.0000,9,  -999.00,9,   -999.0,9,   -999.0,9,  -999.00,9,-999.0000,-999.000,  1.1635,-999.000