BOTTLE,20131125MIRCJHATS
EXPOCODE,SECT_ID,STNNBR,CASTNO,SAMPNO,BTLNBR,BTLNBR_FLAG_W,DATE,TIME,LATITUDE,LONGITUDE,DEPTH,CTDPRS,CTDTMP,CTDSAL,CTDSAL_FLAG_W,SALNTY,SALNTY_FLAG_W,CTDOXY,CTDOXY_FLAG_W,OXYGEN,OXYGEN_FLAG_W,SILCAT,SILCAT_FLAG_W,NITRAT,NITRAT_FLAG_W,NITRIT,NITRIT_FLAG_W,PHSPHT,PHSPHT_FLAG_W,CFC-11,CFC-11_FLAG_W,CFC-12,CFC-12_FLAG_W,TRITUM,TRITUM_FLAG_W,HELIUM,HELIUM_FLAG_W,DELHE3,DELHE3_FLAG_W,TCARBN,TCARBN_FLAG_W,ALKALI,ALKALI_FLAG_W,PH,PH_FLAG_W,HELIER,DELHER,THETA,TRITER
,,,,,,,,,,,,DBAR,ITS-90,PSS-78,,PSS-78,,UMOL/KG,,UMOL/KG,,UMOL/KG,,UMOL/KG,,UMOL/KG,,UMOL/KG,,PMOL/KG,,PMOL/KG,,TU,,NMOL/KG,,PERCNT,,UMOL/KG,,UMOL/KG,,25_DEG,,NMOL/KG,PERCNT,DEG C,TU
      325023_1,  P14N,   110,  1,     36,     36,2,19930804,2230,  8.2583, 179.0025, 5713,      2.4,  28.7192,  34.2842,2,  34.2886,2,   -999.0,9,    195.4,2,     2.30,2,     0.00,2,     0.00,2,     0.19,2, -999.000,5, -999.000,5, -999.000,9,-999.0000,9,  -999.00,9,   -999.0,9,   -999.0,9,  -999.00,9,-999.0000,-999.000, 28.7186,-999.000
      325023_1,  P14N,   110,  1,     35,     35,2,19930804,2230,  8.2583, 179.0025, 5713,     39.2,  28.6614,  34.3079,2,  34.3102,2,   -999.0,9,    196.1,2,     2.28,2,     0.00,2,     0.00,2,     0.19,2, -999.000,5, -999.000,5, -999.000,9,-999.0000,9,  -999.00,9,   -999.0,9,   -999.0,9,  -999.00,9,-999.0000,-999.000, 28.6520,-999.000
      325023_1,  P14N,   110,  1,     34,     34,2,19930804,2230,  8.2583, 179.0025, 5713,     68.8,  28.4070,  34.4258,2,  34.4203,2,   -999.0,9,    196.8,2,     2.25,2,     0.00,2,     0.00,2,     0.19,2, -999.000,5, -999.000,5, -999.000,9,-999.0000,9,  -999.00,9,   -999.0,9,   -999.0,9,  -999.00,9,-999.0000,-999.000, 28.3906,-999.000
      325023_1,  P14N,   110,  1,     33,     33,2,19930804,2230,  8.2583, 179.0025, 5713,     97.2,  27.4025,  34.5748,2,  34.5681,2,   -999.0,9,    197.4,2,     2.22,2,     0.00,2,     0.00,2,     0.18,2, -999.000,5, -999.000,5, -999.000,9,-999.0000,9,  -999.00,9,   -999.0,9,   -999.0,9,  -999.00,9,-999.0000,-999.000, 27.3799,-999.000
      325023_1,  P14N,   110,  1,     32,     32,2,19930804,2230,  8.2583, 179.0025, 5713,    126.0,  17.8679,  34.6336,2,  34.6312,2,   -999.0,9,    140.9,2,     9.18,2,     9.31,2,     0.60,2,     0.91,2, -999.000,5, -999.000,5, -999.000,9,-999.0000,9,  -999.00,9,   -999.0,9,   -999.0,9,  -999.00,9,-999.0000,-999.000, 17.8465,-999.000
      325023_1,  P14N,   110,  1,     31,     31,2,19930804,2230,  8.2583, 179.0025, 5713,    151.8,  13.1841,  34.5561,2,  34.5537,2,   -999.0,9,     70.3,2,    21.20,2,    23.58,2,     0.03,2,     1.80,2, -999.000,5, -999.000,5, -999.000,9,-999.0000,9,  -999.00,9,   -999.0,9,   -999.0,9,  -999.00,9,-999.0000,-999.000, 13.1632,-999.000
      325023_1,  P14N,   110,  1,     30,     30,2,19930804,2230,  8.2583, 179.0025, 5713,    200.0,  11.1384,  34.6816,2,  34.6742,2,   -999.0,9,     16.3,2,    31.08,2,    32.97,2,     0.01,2,     2.40,2, -999.000,5, -999.000,5, -999.000,9,-999.0000,9,  -999.00,9,   -999.0,9,   -999.0,9,  -999.00,9,-999.0000,-999.000, 11.1136,-999.000
      325023_1,  P14N,   110,  1,     29,     29,2,19930804,2230,  8.2583, 179.0025, 5713,    250.5,  10.3908,  34.6865,2,  34.6854,2,   -999.0,9,     15.9,2,    33.97,2,    33.81,2,     0.00,2,     2.47,2, -999.000,5, -999.000,5, -999.000,9,-999.0000,9,  -999.00,9,   -999.0,9,   -999.0,9,  -999.00,9,-999.0000,-999.000, 10.3611,-999.000
      325023_1,  P14N,   110,  1,     28,     28,2,19930804,2230,  8.2583, 179.0025, 5713,    300.8,   9.9403,  34.6768,2,  34.6753,2,   -999.0,9,     15.1,2,    35.88,2,    35.14,2,     0.00,2,     2.53,2, -999.000,5, -999.000,5, -999.000,9,-999.0000,9,  -999.00,9,   -999.0,9,   -999.0,9,  -999.00,9,-999.0000,-999.000,  9.9055,-999.000
      325023_1,  P14N,   110,  1,     27,     27,2,19930804,2230,  8.2583, 179.0025, 5713,    400.7,   9.0931,  34.6405,2,  34.6398,2,   -999.0,9,     12.7,2,    41.69,2,    36.52,2,     0.00,2,     2.67,2, -999.000,5, -999.000,5, -999.000,9,-999.0000,9,  -999.00,9,   -999.0,9,   -999.0,9,  -999.00,9,-999.0000,-999.000,  9.0490,-999.000
      325023_1,  P14N,   110,  1,     26,     26,2,19930804,2230,  8.2583, 179.0025, 5713,    499.6,   7.9763,  34.5802,2,  34.5796,2,   -999.0,9,     19.1,2,    50.81,2,    37.64,2,     0.00,2,     2.80,2, -999.000,5, -999.000,5, -999.000,9,-999.0000,9,  -999.00,9,   -999.0,9,   -999.0,9,  -999.00,9,-999.0000,-999.000,  7.9252,-999.000
      325023_1,  P14N,   110,  1,     25,     25,2,19930804,2230,  8.2583, 179.0025, 5713,    599.4,   7.0200,  34.5499,2,  34.5498,2,   -999.0,9,     29.9,2,    59.36,2,    39.14,2,     0.00,2,     2.86,2, -999.000,5, -999.000,5, -999.000,9,-999.0000,9,  -999.00,9,   -999.0,9,   -999.0,9,  -999.00,9,-999.0000,-999.000,  6.9625,-999.000
      325023_1,  P14N,   110,  1,     24,     24,2,19930804,2230,  8.2583, 179.0025, 5713,    700.0,   6.1262,  34.5377,2,  34.5370,2,   -999.0,9,     36.9,2,    69.88,2,    40.66,2,     0.00,2,     2.92,2, -999.000,5, -999.000,5, -999.000,9,-999.0000,9,  -999.00,9,   -999.0,9,   -999.0,9,  -999.00,9,-999.0000,-999.000,  6.0634,-999.000
      325023_1,  P14N,   110,  1,     23,     23,2,19930804,2230,  8.2583, 179.0025, 5713,    801.8,   5.5028,  34.5380,2,  34.5362,2,   -999.0,9,     44.3,2,    78.28,2,    41.21,2,     0.00,2,     2.94,2, -999.000,5, -999.000,5, -999.000,9,-999.0000,9,  -999.00,9,   -999.0,9,   -999.0,9,  -999.00,9,-999.0000,-999.000,  5.4340,-999.000
      325023_1,  P14N,   110,  1,     22,     22,2,19930804,2230,  8.2583, 179.0025, 5713,    905.1,   4.7870,  34.5459,2,  34.5442,2,   -999.0,9,     51.6,2,    90.64,2,    41.45,2,     0.00,2,     2.96,2, -999.000,5, -999.000,5, -999.000,9,-999.0000,9,  -999.00,9,   -999.0,9,   -999.0,9,  -999.00,9,-999.0000,-999.000,  4.7136,-999.000
      325023_1,  P14N,   110,  1,     21,     21,2,19930804,2230,  8.2583, 179.0025, 5713,   1007.2,   4.3614,  34.5574,2,  34.5564,2,   -999.0,9,     66.2,2,    97.33,2,    40.48,2,     0.00,2,     2.90,2, -999.000,5, -999.000,5, -999.000,9,-999.0000,9,  -999.00,9,   -999.0,9,   -999.0,9,  -999.00,9,-999.0000,-999.000,  4.2823,-999.000
      325023_1,  P14N,   110,  1,     20,     20,2,19930804,2230,  8.2583, 179.0025, 5713,   1208.6,   3.6660,  34.5778,2,  34.5756,2,   -999.0,9,     72.8,2,   112.21,2,    40.48,2,     0.00,2,     2.89,2, -999.000,5, -999.000,5, -999.000,9,-999.0000,9,  -999.00,9,   -999.0,9,   -999.0,9,  -999.00,9,-999.0000,-999.000,  3.5756,-999.000
      325023_1,  P14N,   110,  1,     19,     19,2,19930804,2230,  8.2583, 179.0025, 5713,   1409.5,   3.2175,  34.5942,2,  34.5930,2,   -999.0,9,     78.5,2,   122.01,2,    40.40,2,     0.00,2,     2.87,2, -999.000,5, -999.000,5, -999.000,9,-999.0000,9,  -999.00,9,   -999.0,9,   -999.0,9,  -999.00,9,-999.0000,-999.000,  3.1147,-999.000
      325023_1,  P14N,   110,  1,     18,     18,2,19930804,2230,  8.2583, 179.0025, 5713,   1613.1,   2.7923,  34.6090,2,  34.6075,2,   -999.0,9,     88.6,2,   131.08,2,    39.80,2,     0.00,2,     2.82,2, -999.000,5, -999.000,5, -999.000,9,-999.0000,9,  -999.00,9,   -999.0,9,   -999.0,9,  -999.00,9,-999.0000,-999.000,  2.6774,-999.000
      325023_1,  P14N,   110,  1,     17,     17,2,19930804,2230,  8.2583, 179.0025, 5713,   1817.3,   2.4790,  34.6229,2,  34.6211,2,   -999.0,9,     95.9,2,   137.77,2,    39.39,2,     0.00,2,     2.78,2, -999.000,5, -999.000,5, -999.000,9,-999.0000,9,  -999.00,9,   -999.0,9,   -999.0,9,  -999.00,9,-999.0000,-999.000,  2.3510,-999.000
      325023_1,  P14N,   110,  1,     16,     16,2,19930804,2230,  8.2583, 179.0025, 5713,   2020.6,   2.2209,  34.6358,2,  34.6342,2,   -999.0,9,    103.9,2,   143.07,2,    38.94,2,     0.00,2,     2.75,2, -999.000,5, -999.000,5, -999.000,9,-999.0000,9,  -999.00,9,   -999.0,9,   -999.0,9,  -999.00,9,-999.0000,-999.000,  2.0793,-999.000
      325023_1,  P14N,   110,  1,     15,     15,2,19930804,2230,  8.2583, 179.0025, 5713,   2225.6,   2.0405,  34.6475,2,  34.6530,4,   -999.0,9,    108.6,2,   147.78,2,    38.62,2,     0.00,2,     2.72,2, -999.000,5, -999.000,5, -999.000,9,-999.0000,9,  -999.00,9,   -999.0,9,   -999.0,9,  -999.00,9,-999.0000,-999.000,  1.8840,-999.000
      325023_1,  P14N,   110,  1,     14,     14,2,19930804,2230,  8.2583, 179.0025, 5713,   2427.1,   1.9281,  34.6549,2,  34.6534,2,   -999.0,9,    113.1,2,   150.23,2,    38.36,2,     0.00,2,     2.69,2, -999.000,5, -999.000,5, -999.000,9,-999.0000,9,  -999.00,9,   -999.0,9,   -999.0,9,  -999.00,9,-999.0000,-999.000,  1.7557,-999.000
      325023_1,  P14N,   110,  1,     13,     13,2,19930804,2230,  8.2583, 179.0025, 5713,   2629.6,   1.8392,  34.6608,2,  34.6599,2,   -999.0,9,    117.2,2,   152.48,2,    38.09,2,     0.00,2,     2.66,2, -999.000,5, -999.000,5, -999.000,9,-999.0000,9,  -999.00,9,   -999.0,9,   -999.0,9,  -999.00,9,-999.0000,-999.000,  1.6501,-999.000
      325023_1,  P14N,   110,  1,     12,     12,2,19930804,2230,  8.2583, 179.0025, 5713,   2830.9,   1.7535,  34.6669,2,  34.6655,2,   -999.0,9,    122.0,2,   153.49,2,    37.73,2,     0.00,2,     2.64,2, -999.000,5, -999.000,5, -999.000,9,-999.0000,9,  -999.00,9,   -999.0,9,   -999.0,9,  -999.00,9,-999.0000,-999.000,  1.5473,-999.000
      325023_1,  P14N,   110,  1,     11,     11,2,19930804,2230,  8.2583, 179.0025, 5713,   3033.2,   1.6805,  34.6711,2,  34.6693,2,   -999.0,9,    128.5,2,   153.88,2,    37.37,2,     0.00,2,     2.60,2, -999.000,5, -999.000,5, -999.000,9,-999.0000,9,  -999.00,9,   -999.0,9,   -999.0,9,  -999.00,9,-999.0000,-999.000,  1.4565,-999.000
      325023_1,  P14N,   110,  1,     10,     10,2,19930804,2230,  8.2583, 179.0025, 5713,   3337.1,   1.5803,  34.6770,2,  34.6755,2,   -999.0,9,    138.4,2,   152.19,2,    36.70,2,     0.00,2,     2.56,2, -999.000,5, -999.000,5, -999.000,9,-999.0000,9,  -999.00,9,   -999.0,9,   -999.0,9,  -999.00,9,-999.0000,-999.000,  1.3287,-999.000
      325023_1,  P14N,   110,  1,      9,      9,2,19930804,2230,  8.2583, 179.0025, 5713,   3642.7,   1.4824,  34.6835,2,  34.6818,2,   -999.0,9,    149.0,2,   149.87,2,    36.03,2,     0.00,2,     2.50,2, -999.000,5, -999.000,5, -999.000,9,-999.0000,9,  -999.00,9,   -999.0,9,   -999.0,9,  -999.00,9,-999.0000,-999.000,  1.2020,-999.000
      325023_1,  P14N,   110,  1,      8,      8,2,19930804,2230,  8.2583, 179.0025, 5713,   3949.6,   1.3821,  34.6902,2,  34.6889,2,   -999.0,9,    163.7,2,   143.03,2,    34.97,2,     0.00,2,     2.42,2, -999.000,5, -999.000,5, -999.000,9,-999.0000,9,  -999.00,9,   -999.0,9,   -999.0,9,  -999.00,9,-999.0000,-999.000,  1.0719,-999.000
      325023_1,  P14N,   110,  1,      7,      7,2,19930804,2230,  8.2583, 179.0025, 5713,   4257.9,   1.3199,  34.6955,2,  34.6947,2,   -999.0,9,    174.0,2,   138.08,2,    34.09,2,     0.00,2,     2.36,2, -999.000,5, -999.000,5, -999.000,9,-999.0000,9,  -999.00,9,   -999.0,9,   -999.0,9,  -999.00,9,-999.0000,-999.000,  0.9778,-999.000
      325023_1,  P14N,   110,  1,      6,      6,2,19930804,2230,  8.2583, 179.0025, 5713,   4566.8,   1.2859,  34.6991,2,  34.6979,2,   -999.0,9,    182.0,2,   133.56,2,    33.61,2,     0.00,2,     2.33,2, -999.000,5, -999.000,5, -999.000,9,-999.0000,9,  -999.00,9,   -999.0,9,   -999.0,9,  -999.00,9,-999.0000,-999.000,  0.9098,-999.000
      325023_1,  P14N,   110,  1,      5,      5,2,19930804,2230,  8.2583, 179.0025, 5713,   4979.3,   1.2926,  34.7019,2,  34.7004,2,   -999.0,9,    187.7,2,   130.28,2,    33.18,2,     0.00,2,     2.30,2, -999.000,5, -999.000,5, -999.000,9,-999.0000,9,  -999.00,9,   -999.0,9,   -999.0,9,  -999.00,9,-999.0000,-999.000,  0.8678,-999.000
      325023_1,  P14N,   110,  1,      4,      4,2,19930804,2230,  8.2583, 179.0025, 5713,   5390.8,   1.3203,  34.7034,2,  34.7020,2,   -999.0,9,    190.3,2,   128.84,2,    33.00,2,     0.00,2,     2.29,2, -999.000,5, -999.000,5, -999.000,9,-999.0000,9,  -999.00,9,   -999.0,9,   -999.0,9,  -999.00,9,-999.0000,-999.000,  0.8440,-999.000
      325023_1,  P14N,   110,  1,      3,      3,2,19930804,2230,  8.2583, 179.0025, 5713,   5802.6,   1.3694,  34.7032,2,  34.7019,2,   -999.0,9,    191.2,2,   128.60,2,    32.87,2,     0.00,2,     2.28,2, -999.000,5, -999.000,5, -999.000,9,-999.0000,9,  -999.00,9,   -999.0,9,   -999.0,9,  -999.00,9,-999.0000,-999.000,  0.8385,-999.000
      325023_1,  P14N,   110,  1,      1,      1,2,19930804,2230,  8.2583, 179.0025, 5713,   6050.2,   1.4032,  34.7034,2,  34.7025,2,   -999.0,9,    190.2,2,   128.75,2,    32.97,2,     0.00,2,     2.28,2, -999.000,5, -999.000,5, -999.000,9,-999.0000,9,  -999.00,9,   -999.0,9,   -999.0,9,  -999.00,9,-999.0000,-999.000,  0.8383,-999.000
      325023_1,  P14N,   110,  1,      2,      2,2,19930804,2230,  8.2583, 179.0025, 5713,   6050.4,   1.4032,  34.7033,2,  34.7015,2,   -999.0,9,    191.0,2,   128.58,2,    32.92,2,     0.00,2,     2.28,2, -999.000,5, -999.000,5, -999.000,9,-999.0000,9,  -999.00,9,   -999.0,9,   -999.0,9,  -999.00,9,-999.0000,-999.000,  0.8383,-999.000