BOTTLE,20131125MIRCJHATS
EXPOCODE,SECT_ID,STNNBR,CASTNO,SAMPNO,BTLNBR,BTLNBR_FLAG_W,DATE,TIME,LATITUDE,LONGITUDE,DEPTH,CTDPRS,CTDTMP,CTDSAL,CTDSAL_FLAG_W,SALNTY,SALNTY_FLAG_W,CTDOXY,CTDOXY_FLAG_W,OXYGEN,OXYGEN_FLAG_W,SILCAT,SILCAT_FLAG_W,NITRAT,NITRAT_FLAG_W,NITRIT,NITRIT_FLAG_W,PHSPHT,PHSPHT_FLAG_W,CFC-11,CFC-11_FLAG_W,CFC-12,CFC-12_FLAG_W,TRITUM,TRITUM_FLAG_W,HELIUM,HELIUM_FLAG_W,DELHE3,DELHE3_FLAG_W,TCARBN,TCARBN_FLAG_W,ALKALI,ALKALI_FLAG_W,PH,PH_FLAG_W,HELIER,DELHER,THETA,TRITER
,,,,,,,,,,,,DBAR,ITS-90,PSS-78,,PSS-78,,UMOL/KG,,UMOL/KG,,UMOL/KG,,UMOL/KG,,UMOL/KG,,UMOL/KG,,PMOL/KG,,PMOL/KG,,TU,,NMOL/KG,,PERCNT,,UMOL/KG,,UMOL/KG,,25_DEG,,NMOL/KG,PERCNT,DEG C,TU
      325023_1,  P14N,    71,  1,     36,     36,2,19930725,2046, 27.0087, 179.0002, 5425,      1.6,  27.6835,  35.5323,2,  35.5343,2,   -999.0,9,    202.5,2,     3.57,2,     0.09,2,     0.00,2,     0.02,2,    1.793,6,    0.973,6, -999.000,9,-999.0000,9,  -999.00,9,   -999.0,9,   -999.0,9,  -999.00,9,-999.0000,-999.000, 27.6831,-999.000
      325023_1,  P14N,    71,  1,     35,     35,2,19930725,2046, 27.0087, 179.0002, 5425,      1.8,  27.6843,  35.5328,2,  35.5347,2,   -999.0,9,    202.4,2,     3.27,2,     0.09,2,     0.00,2,     0.02,2, -999.000,5, -999.000,5, -999.000,9,-999.0000,9,  -999.00,9,   -999.0,9,   -999.0,9,  -999.00,9,-999.0000,-999.000, 27.6839,-999.000
      325023_1,  P14N,    71,  1,     34,     34,2,19930725,2046, 27.0087, 179.0002, 5425,     44.0,  20.8830,  35.1182,2,  35.1138,2,   -999.0,9,    233.0,2,     3.64,2,     0.09,2,     0.00,2,     0.04,2,    2.377,2,    1.227,2, -999.000,9,-999.0000,9,  -999.00,9,   -999.0,9,   -999.0,9,  -999.00,9,-999.0000,-999.000, 20.8747,-999.000
      325023_1,  P14N,    71,  1,     33,     33,2,19930725,2046, 27.0087, 179.0002, 5425,     74.2,  18.9790,  34.9374,2,  34.9292,2,   -999.0,9,    236.2,2,     3.34,2,     0.04,2,     0.00,2,     0.06,2,    2.492,2,    1.277,2, -999.000,9,-999.0000,9,  -999.00,9,   -999.0,9,   -999.0,9,  -999.00,9,-999.0000,-999.000, 18.9658,-999.000
      325023_1,  P14N,    71,  1,     32,     32,2,19930725,2046, 27.0087, 179.0002, 5425,    104.5,  17.7214,  34.8475,2,  34.8369,2,   -999.0,9,    225.4,2,     3.92,2,     0.96,2,     0.14,2,     0.16,2,    2.591,2,    1.311,2, -999.000,9,-999.0000,9,  -999.00,9,   -999.0,9,   -999.0,9,  -999.00,9,-999.0000,-999.000, 17.7037,-999.000
      325023_1,  P14N,    71,  1,     31,     31,2,19930725,2046, 27.0087, 179.0002, 5425,    134.2,  16.9331,  34.7715,2,  34.7737,2,   -999.0,9,    226.7,2,     4.72,2,     2.78,2,     0.04,2,     0.24,2,    2.725,2,    1.390,2, -999.000,9,-999.0000,9,  -999.00,9,   -999.0,9,   -999.0,9,  -999.00,9,-999.0000,-999.000, 16.9110,-999.000
      325023_1,  P14N,    71,  1,     30,     30,2,19930725,2046, 27.0087, 179.0002, 5425,    165.1,  16.5944,  34.7510,2,  34.7503,2,   -999.0,9,    225.9,2,     4.86,2,     3.60,2,     0.01,2,     0.28,2,    2.629,2,    1.331,2, -999.000,9,-999.0000,9,  -999.00,9,   -999.0,9,   -999.0,9,  -999.00,9,-999.0000,-999.000, 16.5677,-999.000
      325023_1,  P14N,    71,  1,     29,     29,2,19930725,2046, 27.0087, 179.0002, 5425,    215.3,  15.8528,  34.6868,2,  34.6883,2,   -999.0,9,    211.3,2,     6.54,2,     5.80,2,     0.01,2,     0.43,2,    2.579,2,    1.292,2, -999.000,9,-999.0000,9,  -999.00,9,   -999.0,9,   -999.0,9,  -999.00,9,-999.0000,-999.000, 15.8190,-999.000
      325023_1,  P14N,    71,  1,     28,     28,2,19930725,2046, 27.0087, 179.0002, 5425,    265.3,  15.0153,  34.6120,2,  34.6106,2,   -999.0,9,    206.3,2,     8.66,2,     7.52,2,     0.00,2,     0.55,2,    2.552,2,    1.272,2, -999.000,9,-999.0000,9,  -999.00,9,   -999.0,9,   -999.0,9,  -999.00,9,-999.0000,-999.000, 14.9751,-999.000
      325023_1,  P14N,    71,  1,     27,     27,2,19930725,2046, 27.0087, 179.0002, 5425,    315.6,  13.9919,  34.5236,2,  34.5221,2,   -999.0,9,    208.2,2,    11.00,2,     8.93,2,     0.00,2,     0.66,2,    2.635,2,    1.271,2, -999.000,9,-999.0000,9,  -999.00,9,   -999.0,9,   -999.0,9,  -999.00,9,-999.0000,-999.000, 13.9464,-999.000
      325023_1,  P14N,    71,  1,     26,     26,2,19930725,2046, 27.0087, 179.0002, 5425,    416.2,  11.5512,  34.3287,2,  34.3328,2,   -999.0,9,    209.6,2,    17.30,2,    12.90,2,     0.00,2,     0.94,2,    2.678,2,    1.299,2, -999.000,9,-999.0000,9,  -999.00,9,   -999.0,9,   -999.0,9,  -999.00,9,-999.0000,-999.000, 11.4981,-999.000
      325023_1,  P14N,    71,  1,     25,     25,2,19930725,2046, 27.0087, 179.0002, 5425,    516.1,   9.0375,  34.1481,2,  34.1495,2,   -999.0,9,    186.4,2,    31.08,2,    19.82,2,     0.00,2,     1.40,2,    2.202,2,    1.028,2, -999.000,9,-999.0000,9,  -999.00,9,   -999.0,9,   -999.0,9,  -999.00,9,-999.0000,-999.000,  8.9809,-999.000
      325023_1,  P14N,    71,  1,     24,     24,2,19930725,2046, 27.0087, 179.0002, 5425,    615.9,   6.6279,  34.0494,2,  34.0491,2,   -999.0,9,    137.3,2,    55.64,2,    28.58,2,     0.00,2,     2.04,2,    1.363,3,    0.616,2, -999.000,9,-999.0000,9,  -999.00,9,   -999.0,9,   -999.0,9,  -999.00,9,-999.0000,-999.000,  6.5711,-999.000
      325023_1,  P14N,    71,  1,     23,     23,2,19930725,2046, 27.0087, 179.0002, 5425,    716.3,   5.1474,  34.0776,2,  34.0749,2,   -999.0,9,     91.6,2,    81.56,2,    35.08,2,     0.00,2,     2.50,2,    0.720,2,    0.325,2, -999.000,9,-999.0000,9,  -999.00,9,   -999.0,9,   -999.0,9,  -999.00,9,-999.0000,-999.000,  5.0889,-999.000
      325023_1,  P14N,    71,  1,     22,     22,2,19930725,2046, 27.0087, 179.0002, 5425,    817.3,   4.5007,  34.1920,2,  34.1874,2,   -999.0,9,     50.9,2,   100.95,2,    39.62,2,     0.00,2,     2.81,2,    0.169,2,    0.074,2, -999.000,9,-999.0000,9,  -999.00,9,   -999.0,9,   -999.0,9,  -999.00,9,-999.0000,-999.000,  4.4372,-999.000
      325023_1,  P14N,    71,  1,     21,     21,2,19930725,2046, 27.0087, 179.0002, 5425,    917.8,   3.9902,  34.2803,2,  34.2789,2,   -999.0,9,     36.8,2,   115.52,2,    41.48,2,     0.00,2,     2.94,2,    0.058,2,    0.031,2, -999.000,9,-999.0000,9,  -999.00,9,   -999.0,9,   -999.0,9,  -999.00,9,-999.0000,-999.000,  3.9217,-999.000
      325023_1,  P14N,    71,  1,     20,     20,2,19930725,2046, 27.0087, 179.0002, 5425,   1018.1,   3.5659,  34.3649,2,  34.3627,2,   -999.0,9,     32.1,2,   127.48,2,    42.35,2,     0.00,2,     2.99,2,    0.014,2,    0.005,2, -999.000,9,-999.0000,9,  -999.00,9,   -999.0,9,   -999.0,9,  -999.00,9,-999.0000,-999.000,  3.4923,-999.000
      325023_1,  P14N,    71,  1,     19,     19,2,19930725,2046, 27.0087, 179.0002, 5425,   1219.9,   3.0255,  34.4633,2,  34.4621,2,   -999.0,9,     37.8,2,   141.78,2,    42.21,2,     0.00,2,     2.99,2,    0.000,2,    0.002,2, -999.000,9,-999.0000,9,  -999.00,9,   -999.0,9,   -999.0,9,  -999.00,9,-999.0000,-999.000,  2.9404,-999.000
      325023_1,  P14N,    71,  1,     18,     18,2,19930725,2046, 27.0087, 179.0002, 5425,   1422.1,   2.6138,  34.5217,2,  34.5213,2,   -999.0,9,     49.0,2,   151.41,2,    42.03,2,     0.00,2,     2.96,2,   -0.002,2,    0.002,2, -999.000,9,-999.0000,9,  -999.00,9,   -999.0,9,   -999.0,9,  -999.00,9,-999.0000,-999.000,  2.5168,-999.000
      325023_1,  P14N,    71,  1,     17,     17,2,19930725,2046, 27.0087, 179.0002, 5425,   1624.4,   2.2667,  34.5661,2,  34.5656,2,   -999.0,9,     63.2,2,   158.80,2,    41.26,2,     0.00,2,     2.89,2, -999.000,5, -999.000,5, -999.000,9,-999.0000,9,  -999.00,9,   -999.0,9,   -999.0,9,  -999.00,9,-999.0000,-999.000,  2.1576,-999.000
      325023_1,  P14N,    71,  1,     16,     16,2,19930725,2046, 27.0087, 179.0002, 5425,   1828.3,   2.0333,  34.5972,2,  34.5959,2,   -999.0,9,     78.7,2,   161.38,2,    40.31,2,     0.00,2,     2.81,2,    0.004,3,    0.000,2, -999.000,9,-999.0000,9,  -999.00,9,   -999.0,9,   -999.0,9,  -999.00,9,-999.0000,-999.000,  1.9107,-999.000
      325023_1,  P14N,    71,  1,     15,     15,2,19930725,2046, 27.0087, 179.0002, 5425,   2032.4,   1.8750,  34.6185,2,  34.6181,2,   -999.0,9,     91.5,2,   161.67,2,    39.55,2,     0.00,2,     2.75,2, -999.000,5, -999.000,5, -999.000,9,-999.0000,9,  -999.00,9,   -999.0,9,   -999.0,9,  -999.00,9,-999.0000,-999.000,  1.7378,-999.000
      325023_1,  P14N,    71,  1,     14,     14,2,19930725,2046, 27.0087, 179.0002, 5425,   2237.0,   1.7561,  34.6327,2,  34.6312,2,   -999.0,9,    101.1,2,   162.88,2,    38.96,2,     0.00,2,     2.71,2, -999.000,5, -999.000,5, -999.000,9,-999.0000,9,  -999.00,9,   -999.0,9,   -999.0,9,  -999.00,9,-999.0000,-999.000,  1.6035,-999.000
      325023_1,  P14N,    71,  1,     13,     13,2,19930725,2046, 27.0087, 179.0002, 5425,   2441.5,   1.6626,  34.6464,2,  34.6453,2,   -999.0,9,    112.4,2,   161.79,2,    38.25,2,     0.00,2,     2.66,2, -999.000,5, -999.000,5, -999.000,9,-999.0000,9,  -999.00,9,   -999.0,9,   -999.0,9,  -999.00,9,-999.0000,-999.000,  1.4938,-999.000
      325023_1,  P14N,    71,  1,     12,     12,2,19930725,2046, 27.0087, 179.0002, 5425,   2646.9,   1.6013,  34.6554,2,  34.6559,2,   -999.0,9,    120.7,2,   160.47,2,    37.71,2,     0.00,2,     2.59,2,   -0.001,2,    0.002,2, -999.000,9,-999.0000,9,  -999.00,9,   -999.0,9,   -999.0,9,  -999.00,9,-999.0000,-999.000,  1.4153,-999.000
      325023_1,  P14N,    71,  1,     11,     11,2,19930725,2046, 27.0087, 179.0002, 5425,   2851.6,   1.5539,  34.6621,2,  34.6618,2,   -999.0,9,    126.9,2,   159.15,2,    37.26,2,     0.00,2,     2.59,2, -999.000,5, -999.000,5, -999.000,9,-999.0000,9,  -999.00,9,   -999.0,9,   -999.0,9,  -999.00,9,-999.0000,-999.000,  1.3499,-999.000
      325023_1,  P14N,    71,  1,     10,     10,2,19930725,2046, 27.0087, 179.0002, 5425,   3055.2,   1.5159,  34.6677,2,  34.6677,2,   -999.0,9,    132.6,2,   157.60,3,    36.86,2,     0.00,2,     2.56,2, -999.000,5, -999.000,5, -999.000,9,-999.0000,9,  -999.00,9,   -999.0,9,   -999.0,9,  -999.00,9,-999.0000,-999.000,  1.2935,-999.000
      325023_1,  P14N,    71,  1,      9,      9,2,19930725,2046, 27.0087, 179.0002, 5425,   3361.0,   1.4727,  34.6748,2,  34.6741,2,   -999.0,9,    140.6,2,   155.61,2,    36.33,2,     0.00,2,     2.52,2, -999.000,5, -999.000,5, -999.000,9,-999.0000,9,  -999.00,9,   -999.0,9,   -999.0,9,  -999.00,9,-999.0000,-999.000,  1.2213,-999.000
      325023_1,  P14N,    71,  1,      8,      8,2,19930725,2046, 27.0087, 179.0002, 5425,   3666.1,   1.4541,  34.6799,2,  34.6796,2,   -999.0,9,    146.2,2,   154.07,2,    35.93,2,     0.00,2,     2.48,2,    0.000,2,    0.019,4, -999.000,9,-999.0000,9,  -999.00,9,   -999.0,9,   -999.0,9,  -999.00,9,-999.0000,-999.000,  1.1721,-999.000
      325023_1,  P14N,    71,  1,      7,      7,2,19930725,2046, 27.0087, 179.0002, 5425,   3969.8,   1.4456,  34.6835,2,  34.6833,2,   -999.0,9,    151.4,2,   152.54,2,    35.57,2,     0.00,2,     2.46,2, -999.000,5, -999.000,5, -999.000,9,-999.0000,9,  -999.00,9,   -999.0,9,   -999.0,9,  -999.00,9,-999.0000,-999.000,  1.1315,-999.000
      325023_1,  P14N,    71,  1,      6,      6,2,19930725,2046, 27.0087, 179.0002, 5425,   4273.7,   1.4356,  34.6872,2,-999.0000,9,   -999.0,9,   -999.0,9,  -999.00,9,  -999.00,9,  -999.00,9,  -999.00,9, -999.000,5, -999.000,5, -999.000,9,-999.0000,9,  -999.00,9,   -999.0,9,   -999.0,9,  -999.00,9,-999.0000,-999.000,  1.0884,-999.000
      325023_1,  P14N,    71,  1,      5,      5,2,19930725,2046, 27.0087, 179.0002, 5425,   4581.3,   1.4326,  34.6906,2,  34.6908,2,   -999.0,9,    163.6,2,   145.12,2,    34.77,2,     0.00,2,     2.40,2, -999.000,5, -999.000,5, -999.000,9,-999.0000,9,  -999.00,9,   -999.0,9,   -999.0,9,  -999.00,9,-999.0000,-999.000,  1.0503,-999.000
      325023_1,  P14N,    71,  1,      4,      4,2,19930725,2046, 27.0087, 179.0002, 5425,   4888.9,   1.4328,  34.6937,2,  34.6939,2,   -999.0,9,    169.6,2,   141.12,2,    34.37,2,     0.00,2,     2.37,2,   -0.001,2,    0.001,2, -999.000,9,-999.0000,9,  -999.00,9,   -999.0,9,   -999.0,9,  -999.00,9,-999.0000,-999.000,  1.0142,-999.000
      325023_1,  P14N,    71,  1,      3,      3,2,19930725,2046, 27.0087, 179.0002, 5425,   5196.4,   1.4487,  34.6953,2,  34.6955,2,   -999.0,9,    173.2,2,   138.93,2,    34.06,2,     0.00,2,     2.35,2, -999.000,5, -999.000,5, -999.000,9,-999.0000,9,  -999.00,9,   -999.0,9,   -999.0,9,  -999.00,9,-999.0000,-999.000,  0.9921,-999.000
      325023_1,  P14N,    71,  1,      2,      2,2,19930725,2046, 27.0087, 179.0002, 5425,   5515.0,   1.4774,  34.6962,2,  34.6968,2,   -999.0,9,    175.5,2,   137.20,2,    33.84,2,     0.00,2,     2.34,2, -999.000,5, -999.000,5, -999.000,9,-999.0000,9,  -999.00,9,   -999.0,9,   -999.0,9,  -999.00,9,-999.0000,-999.000,  0.9797,-999.000
      325023_1,  P14N,    71,  1,      1,      1,2,19930725,2046, 27.0087, 179.0002, 5425,   5516.7,   1.4776,  34.6962,2,  34.6970,2,   -999.0,9,    175.3,2,   136.82,2,    33.89,2,     0.00,2,     2.34,2,    0.003,2,   -0.001,2, -999.000,9,-999.0000,9,  -999.00,9,   -999.0,9,   -999.0,9,  -999.00,9,-999.0000,-999.000,  0.9797,-999.000