BOTTLE,20131125MIRCJHATS
EXPOCODE,SECT_ID,STNNBR,CASTNO,SAMPNO,BTLNBR,BTLNBR_FLAG_W,DATE,TIME,LATITUDE,LONGITUDE,DEPTH,CTDPRS,CTDTMP,CTDSAL,CTDSAL_FLAG_W,SALNTY,SALNTY_FLAG_W,CTDOXY,CTDOXY_FLAG_W,OXYGEN,OXYGEN_FLAG_W,SILCAT,SILCAT_FLAG_W,NITRAT,NITRAT_FLAG_W,NITRIT,NITRIT_FLAG_W,PHSPHT,PHSPHT_FLAG_W,CFC-11,CFC-11_FLAG_W,CFC-12,CFC-12_FLAG_W,TRITUM,TRITUM_FLAG_W,HELIUM,HELIUM_FLAG_W,DELHE3,DELHE3_FLAG_W,TCARBN,TCARBN_FLAG_W,ALKALI,ALKALI_FLAG_W,PH,PH_FLAG_W,HELIER,DELHER,THETA,TRITER
,,,,,,,,,,,,DBAR,ITS-90,PSS-78,,PSS-78,,UMOL/KG,,UMOL/KG,,UMOL/KG,,UMOL/KG,,UMOL/KG,,UMOL/KG,,PMOL/KG,,PMOL/KG,,TU,,NMOL/KG,,PERCNT,,UMOL/KG,,UMOL/KG,,25_DEG,,NMOL/KG,PERCNT,DEG C,TU
      325023_1,  P14N,    50,  1,     36,     36,2,19930720,0518, 37.4945, 178.9978, 5386,      2.6,  16.6116,  34.2458,2,  34.2462,2,   -999.0,9,    256.3,2,     5.55,2,     0.52,2,     0.04,2,     0.19,2, -999.000,5, -999.000,5, -999.000,9,-999.0000,9,  -999.00,9,   1998.0,2,   2263.7,2,  -999.00,9,-999.0000,-999.000, 16.6112,-999.000
      325023_1,  P14N,    50,  1,     35,     35,2,19930720,0518, 37.4945, 178.9978, 5386,      2.8,  16.6121,  34.2461,2,  34.2462,2,   -999.0,9,    256.5,2,     5.46,2,     0.52,2,     0.04,2,     0.19,2, -999.000,5, -999.000,5, -999.000,9,-999.0000,9,  -999.00,9,   1997.7,2,   2251.6,2,  -999.00,9,-999.0000,-999.000, 16.6116,-999.000
      325023_1,  P14N,    50,  1,     34,     34,2,19930720,0518, 37.4945, 178.9978, 5386,     37.8,  14.7430,  34.3242,2,  34.3245,2,   -999.0,9,    265.9,2,     5.38,2,     1.38,2,     0.16,2,     0.27,2, -999.000,5, -999.000,5, -999.000,9,-999.0000,9,  -999.00,9,   -999.0,9,   -999.0,9,  -999.00,9,-999.0000,-999.000, 14.7374,-999.000
      325023_1,  P14N,    50,  1,     33,     33,2,19930720,0518, 37.4945, 178.9978, 5386,     67.8,  13.0618,  34.3950,2,  34.3886,2,   -999.0,9,    248.8,2,     9.13,2,     5.84,2,     0.31,2,     0.54,2, -999.000,5, -999.000,5, -999.000,9,-999.0000,9,  -999.00,9,   2046.5,2,   -999.0,9,  -999.00,9,-999.0000,-999.000, 13.0526,-999.000
      325023_1,  P14N,    50,  1,     32,     32,2,19930720,0518, 37.4945, 178.9978, 5386,     98.5,  12.4959,  34.3881,2,  34.3872,2,   -999.0,9,    240.8,2,    10.68,2,     8.11,2,     0.02,2,     0.65,2, -999.000,5, -999.000,5, -999.000,9,-999.0000,9,  -999.00,9,   -999.0,9,   -999.0,9,  -999.00,9,-999.0000,-999.000, 12.4828,-999.000
      325023_1,  P14N,    50,  1,     31,     31,2,19930720,0518, 37.4945, 178.9978, 5386,    128.1,  11.9970,  34.3600,2,  34.3606,2,   -999.0,9,    245.2,2,    11.33,2,     8.77,2,     0.02,2,     0.69,2, -999.000,5, -999.000,5, -999.000,9,-999.0000,9,  -999.00,9,   2061.5,2,   2265.6,2,  -999.00,9,-999.0000,-999.000, 11.9805,-999.000
      325023_1,  P14N,    50,  1,     30,     30,2,19930720,0518, 37.4945, 178.9978, 5386,    158.0,  11.7678,  34.3470,2,  34.3455,2,   -999.0,9,    253.0,2,    11.43,2,     8.51,2,     0.02,2,     0.67,2, -999.000,5, -999.000,5, -999.000,9,-999.0000,9,  -999.00,9,   -999.0,9,   -999.0,9,  -999.00,9,-999.0000,-999.000, 11.7476,-999.000
      325023_1,  P14N,    50,  1,     29,     29,2,19930720,0518, 37.4945, 178.9978, 5386,    207.8,  11.4435,  34.3300,2,  34.3296,2,   -999.0,9,    249.1,2,    12.44,2,     9.47,2,     0.02,2,     0.75,2, -999.000,5, -999.000,5, -999.000,9,-999.0000,9,  -999.00,9,   2065.5,2,   2269.0,2,  -999.00,9,-999.0000,-999.000, 11.4174,-999.000
      325023_1,  P14N,    50,  1,     28,     28,2,19930720,0518, 37.4945, 178.9978, 5386,    257.3,  10.8578,  34.2874,2,  34.2873,2,   -999.0,9,    241.1,2,    15.27,2,    11.45,2,     0.01,2,     0.87,2, -999.000,5, -999.000,5, -999.000,9,-999.0000,9,  -999.00,9,   -999.0,9,   -999.0,9,  -999.00,9,-999.0000,-999.000, 10.8265,-999.000
      325023_1,  P14N,    50,  1,     27,     27,2,19930720,0518, 37.4945, 178.9978, 5386,    308.3,  10.0197,  34.2056,2,  34.2055,2,   -999.0,9,    224.6,2,    20.28,2,    14.62,2,     0.01,2,     1.09,2, -999.000,5, -999.000,5, -999.000,9,-999.0000,9,  -999.00,9,   2100.9,2,   2267.3,2,  -999.00,9,-999.0000,-999.000,  9.9840,-999.000
      325023_1,  P14N,    50,  1,     26,     26,2,19930720,0518, 37.4945, 178.9978, 5386,    408.6,   8.2489,  34.0770,2,  34.0749,2,   -999.0,9,    197.5,2,    33.14,2,    20.48,2,     0.01,2,     1.51,2, -999.000,5, -999.000,5, -999.000,9,-999.0000,9,  -999.00,9,   2144.2,2,   2274.0,2,  -999.00,9,-999.0000,-999.000,  8.2068,-999.000
      325023_1,  P14N,    50,  1,     25,     25,2,19930720,0518, 37.4945, 178.9978, 5386,    507.9,   6.5575,  34.0073,2,  34.0082,2,   -999.0,9,    160.7,2,    50.38,2,    26.96,2,     0.01,2,     1.98,2, -999.000,5, -999.000,5, -999.000,9,-999.0000,9,  -999.00,9,   2189.8,2,   2281.6,2,  -999.00,9,-999.0000,-999.000,  6.5113,-999.000
      325023_1,  P14N,    50,  1,     24,     24,2,19930720,0518, 37.4945, 178.9978, 5386,    607.3,   5.3319,  34.0113,2,  34.0086,2,   -999.0,9,    120.9,2,    69.88,2,    32.64,2,     0.00,2,     2.40,2, -999.000,5, -999.000,5, -999.000,9,-999.0000,9,  -999.00,9,   2237.0,2,   2290.5,2,  -999.00,9,-999.0000,-999.000,  5.2819,-999.000
      325023_1,  P14N,    50,  1,     23,     23,2,19930720,0518, 37.4945, 178.9978, 5386,    707.8,   4.5927,  34.0843,2,  34.0814,2,   -999.0,9,     82.0,2,    89.15,2,    37.19,2,     0.00,2,     2.71,2, -999.000,5, -999.000,5, -999.000,9,-999.0000,9,  -999.00,9,   2281.2,2,   2313.0,2,  -999.00,9,-999.0000,-999.000,  4.5380,-999.000
      325023_1,  P14N,    50,  1,     22,     22,2,19930720,0518, 37.4945, 178.9978, 5386,    810.2,   4.0683,  34.1784,2,  34.1736,2,   -999.0,9,     54.0,2,   106.77,2,    40.19,2,     0.00,2,     2.92,2, -999.000,5, -999.000,5, -999.000,9,-999.0000,9,  -999.00,9,   2319.3,2,   2338.8,2,  -999.00,9,-999.0000,-999.000,  4.0082,-999.000
      325023_1,  P14N,    50,  1,     21,     21,2,19930720,0518, 37.4945, 178.9978, 5386,    913.8,   3.7092,  34.2482,2,  34.2464,2,   -999.0,9,     40.3,2,   118.74,2,    41.59,2,     0.00,2,     3.02,2, -999.000,5, -999.000,5, -999.000,9,-999.0000,9,  -999.00,9,   2337.0,2,   2350.3,2,  -999.00,9,-999.0000,-999.000,  3.6431,-999.000
      325023_1,  P14N,    50,  1,     20,     20,2,19930720,0518, 37.4945, 178.9978, 5386,   1016.2,   3.4313,  34.3020,2,  34.3011,2,   -999.0,9,     34.2,2,   128.17,2,    42.40,2,     0.00,2,     3.07,2, -999.000,5, -999.000,5, -999.000,9,-999.0000,9,  -999.00,9,   2351.0,2,   2360.8,2,  -999.00,9,-999.0000,-999.000,  3.3591,-999.000
      325023_1,  P14N,    50,  1,     19,     19,2,19930720,0518, 37.4945, 178.9978, 5386,   1218.6,   2.8784,  34.3968,2,  34.3955,2,   -999.0,9,     30.7,2,   145.50,2,    42.89,2,     0.00,2,     3.12,2, -999.000,5, -999.000,5, -999.000,9,-999.0000,9,  -999.00,9,   -999.0,9,   -999.0,9,  -999.00,9,-999.0000,-999.000,  2.7950,-999.000
      325023_1,  P14N,    50,  1,     18,     18,2,19930720,0518, 37.4945, 178.9978, 5386,   1421.4,   2.5865,  34.4549,2,  34.4543,2,   -999.0,9,     32.1,2,   155.45,2,    43.20,2,     0.00,2,     3.12,2, -999.000,5, -999.000,5, -999.000,9,-999.0000,9,  -999.00,9,   -999.0,9,   -999.0,9,  -999.00,9,-999.0000,-999.000,  2.4900,-999.000
      325023_1,  P14N,    50,  1,     17,     17,2,19930720,0518, 37.4945, 178.9978, 5386,   1624.2,   2.3357,  34.5086,2,  34.5074,2,   -999.0,9,     36.7,2,   162.93,2,    43.19,2,     0.00,2,     3.10,2, -999.000,5, -999.000,5, -999.000,9,-999.0000,9,  -999.00,9,   -999.0,9,   -999.0,9,  -999.00,9,-999.0000,-999.000,  2.2258,-999.000
      325023_1,  P14N,    50,  1,     16,     16,2,19930720,0518, 37.4945, 178.9978, 5386,   1828.1,   2.1367,  34.5510,2,  34.5502,2,   -999.0,9,     44.6,2,   168.88,2,    42.81,2,     0.00,2,     3.07,2, -999.000,5, -999.000,5, -999.000,9,-999.0000,9,  -999.00,9,   -999.0,9,   -999.0,9,  -999.00,9,-999.0000,-999.000,  2.0128,-999.000
      325023_1,  P14N,    50,  1,     15,     15,2,19930720,0518, 37.4945, 178.9978, 5386,   2032.8,   1.9671,  34.5867,2,  34.5851,2,   -999.0,9,     56.8,2,   172.22,2,    41.94,2,     0.00,2,     3.01,2, -999.000,5, -999.000,5, -999.000,9,-999.0000,9,  -999.00,9,   -999.0,9,   -999.0,9,  -999.00,9,-999.0000,-999.000,  1.8286,-999.000
      325023_1,  P14N,    50,  1,     14,     14,2,19930720,0518, 37.4945, 178.9978, 5386,   2236.5,   1.8445,  34.6087,2,  34.6085,2,   -999.0,9,     72.7,2,   172.50,2,    41.03,2,     0.00,2,     2.94,2, -999.000,5, -999.000,5, -999.000,9,-999.0000,9,  -999.00,9,   -999.0,9,   -999.0,9,  -999.00,9,-999.0000,-999.000,  1.6906,-999.000
      325023_1,  P14N,    50,  1,     13,     13,2,19930720,0518, 37.4945, 178.9978, 5386,   2440.6,   1.7335,  34.6279,2,  34.6275,2,   -999.0,9,     86.0,2,   171.97,2,    39.90,2,     0.00,2,     2.88,2, -999.000,5, -999.000,5, -999.000,9,-999.0000,9,  -999.00,9,   -999.0,9,   -999.0,9,  -999.00,9,-999.0000,-999.000,  1.5636,-999.000
      325023_1,  P14N,    50,  1,     12,     12,2,19930720,0518, 37.4945, 178.9978, 5386,   2644.2,   1.6595,  34.6405,2,  34.6404,2,   -999.0,9,     99.0,2,   169.59,2,    39.03,2,     0.00,2,     2.81,2, -999.000,5, -999.000,5, -999.000,9,-999.0000,9,  -999.00,9,   -999.0,9,   -999.0,9,  -999.00,9,-999.0000,-999.000,  1.4726,-999.000
      325023_1,  P14N,    50,  1,     11,     11,2,19930720,0518, 37.4945, 178.9978, 5386,   2848.8,   1.5958,  34.6512,2,  34.6510,2,   -999.0,9,    110.1,2,   167.64,2,    38.44,2,     0.00,2,     2.77,2, -999.000,5, -999.000,5, -999.000,9,-999.0000,9,  -999.00,9,   -999.0,9,   -999.0,9,  -999.00,9,-999.0000,-999.000,  1.3913,-999.000
      325023_1,  P14N,    50,  1,     10,     10,2,19930720,0518, 37.4945, 178.9978, 5386,   3053.6,   1.5453,  34.6600,2,  34.6603,2,   -999.0,9,    120.7,2,   164.68,2,    37.67,2,     0.00,2,     2.71,2, -999.000,5, -999.000,5, -999.000,9,-999.0000,9,  -999.00,9,   -999.0,9,   -999.0,9,  -999.00,9,-999.0000,-999.000,  1.3224,-999.000
      325023_1,  P14N,    50,  1,      9,      9,2,19930720,0518, 37.4945, 178.9978, 5386,   3359.5,   1.4912,  34.6700,2,  34.6703,2,   -999.0,9,    133.5,2,   161.14,2,    36.82,2,     0.00,2,     2.65,2, -999.000,5, -999.000,5, -999.000,9,-999.0000,9,  -999.00,9,   -999.0,9,   -999.0,9,  -999.00,9,-999.0000,-999.000,  1.2395,-999.000
      325023_1,  P14N,    50,  1,      8,      8,2,19930720,0518, 37.4945, 178.9978, 5386,   3666.4,   1.4604,  34.6774,2,  34.6777,2,   -999.0,9,    142.7,2,   158.61,2,    36.19,2,     0.00,2,     2.61,2, -999.000,5, -999.000,5, -999.000,9,-999.0000,9,  -999.00,9,   -999.0,9,   -999.0,9,  -999.00,9,-999.0000,-999.000,  1.1782,-999.000
      325023_1,  P14N,    50,  1,      7,      7,2,19930720,0518, 37.4945, 178.9978, 5386,   3973.2,   1.4527,  34.6822,2,  34.6828,2,   -999.0,9,    148.4,2,   157.10,2,    35.82,2,     0.00,2,     2.56,2, -999.000,5, -999.000,5, -999.000,9,-999.0000,9,  -999.00,9,   -999.0,9,   -999.0,9,  -999.00,9,-999.0000,-999.000,  1.1381,-999.000
      325023_1,  P14N,    50,  1,      6,      6,2,19930720,0518, 37.4945, 178.9978, 5386,   4281.6,   1.4630,  34.6847,2,  34.6844,2,   -999.0,9,    151.7,2,   156.38,2,    35.64,2,     0.00,2,     2.54,2, -999.000,5, -999.000,5, -999.000,9,-999.0000,9,  -999.00,9,   -999.0,9,   -999.0,9,  -999.00,9,-999.0000,-999.000,  1.1141,-999.000
      325023_1,  P14N,    50,  1,      5,      5,2,19930720,0518, 37.4945, 178.9978, 5386,   4587.7,   1.4852,  34.6864,2,  34.6856,2,   -999.0,9,    153.3,2,   157.26,2,    35.46,2,     0.00,2,     2.53,2, -999.000,5, -999.000,5, -999.000,9,-999.0000,9,  -999.00,9,   -999.0,9,   -999.0,9,  -999.00,9,-999.0000,-999.000,  1.1005,-999.000
      325023_1,  P14N,    50,  1,      4,      4,2,19930720,0518, 37.4945, 178.9978, 5386,   4895.5,   1.5161,  34.6875,2,  34.6874,2,   -999.0,9,    154.0,2,   157.93,2,    35.54,2,     0.00,2,     2.52,2, -999.000,5, -999.000,5, -999.000,9,-999.0000,9,  -999.00,9,   -999.0,9,   -999.0,9,  -999.00,9,-999.0000,-999.000,  1.0940,-999.000
      325023_1,  P14N,    50,  1,      3,      3,2,19930720,0518, 37.4945, 178.9978, 5386,   5206.0,   1.5540,  34.6878,2,  34.6876,2,   -999.0,9,    154.0,2,   158.01,2,    35.49,2,     0.00,2,     2.53,2, -999.000,5, -999.000,5, -999.000,9,-999.0000,9,  -999.00,9,   -999.0,9,   -999.0,9,  -999.00,9,-999.0000,-999.000,  1.0925,-999.000
      325023_1,  P14N,    50,  1,      1,      1,2,19930720,0518, 37.4945, 178.9978, 5386,   5478.1,   1.5899,  34.6876,2,  34.6884,2,   -999.0,9,    153.8,2,   158.17,2,    35.39,2,     0.00,2,     2.52,2, -999.000,5, -999.000,5, -999.000,9,-999.0000,9,  -999.00,9,   -999.0,9,   -999.0,9,  -999.00,9,-999.0000,-999.000,  1.0929,-999.000
      325023_1,  P14N,    50,  1,      2,      2,2,19930720,0518, 37.4945, 178.9978, 5386,   5478.5,   1.5899,  34.6875,2,  34.6876,2,   -999.0,9,    154.0,2,   157.89,2,    35.44,2,     0.00,2,     2.53,2, -999.000,5, -999.000,5, -999.000,9,-999.0000,9,  -999.00,9,   -999.0,9,   -999.0,9,  -999.00,9,-999.0000,-999.000,  1.0929,-999.000