BOTTLE,20131125MIRCJHATS
EXPOCODE,SECT_ID,STNNBR,CASTNO,SAMPNO,BTLNBR,BTLNBR_FLAG_W,DATE,TIME,LATITUDE,LONGITUDE,DEPTH,CTDPRS,CTDTMP,CTDSAL,CTDSAL_FLAG_W,SALNTY,SALNTY_FLAG_W,CTDOXY,CTDOXY_FLAG_W,OXYGEN,OXYGEN_FLAG_W,SILCAT,SILCAT_FLAG_W,NITRAT,NITRAT_FLAG_W,NITRIT,NITRIT_FLAG_W,PHSPHT,PHSPHT_FLAG_W,CFC-11,CFC-11_FLAG_W,CFC-12,CFC-12_FLAG_W,TRITUM,TRITUM_FLAG_W,HELIUM,HELIUM_FLAG_W,DELHE3,DELHE3_FLAG_W,TCARBN,TCARBN_FLAG_W,ALKALI,ALKALI_FLAG_W,PH,PH_FLAG_W,HELIER,DELHER,THETA,TRITER
,,,,,,,,,,,,DBAR,ITS-90,PSS-78,,PSS-78,,UMOL/KG,,UMOL/KG,,UMOL/KG,,UMOL/KG,,UMOL/KG,,UMOL/KG,,PMOL/KG,,PMOL/KG,,TU,,NMOL/KG,,PERCNT,,UMOL/KG,,UMOL/KG,,25_DEG,,NMOL/KG,PERCNT,DEG C,TU
      325024_1,  P14N,   185,  1,     35,     35,2,19930829,0114,-15.9775, 178.9985, 1470,      2.4,  25.8051,  34.9129,2,  34.9179,2,   -999.0,9,    204.4,2,     1.73,2,     0.00,2,     0.00,2,     0.19,2, -999.000,5, -999.000,5, -999.000,9,-999.0000,9,  -999.00,9,   -999.0,9,   -999.0,9,  -999.00,9,-999.0000,-999.000, 25.8046,-999.000
      325024_1,  P14N,   185,  1,     36,     36,2,19930829,0114,-15.9775, 178.9985, 1470,      2.5,  25.8120,  34.9130,2,  34.9179,2,   -999.0,9,    204.4,2,     1.94,2,     0.00,2,     0.00,2,     0.19,2,    1.802,2,    0.956,2, -999.000,9,-999.0000,9,  -999.00,9,   -999.0,9,   -999.0,9,  -999.00,9,-999.0000,-999.000, 25.8114,-999.000
      325024_1,  P14N,   185,  1,     34,     34,2,19930829,0114,-15.9775, 178.9985, 1470,     33.3,  25.6349,  34.9077,2,  34.9128,2,   -999.0,9,    204.4,2,     1.51,2,     0.00,2,     0.00,2,     0.19,2,    1.828,2,    0.970,2, -999.000,9,-999.0000,9,  -999.00,9,   -999.0,9,   -999.0,9,  -999.00,9,-999.0000,-999.000, 25.6276,-999.000
      325024_1,  P14N,   185,  1,     33,     33,2,19930829,0114,-15.9775, 178.9985, 1470,     63.7,  25.6329,  34.9192,2,  34.9342,2,   -999.0,9,    206.4,2,     1.48,2,     0.00,2,     0.00,2,     0.19,2,    1.836,2,    0.993,2, -999.000,9,-999.0000,9,  -999.00,9,   -999.0,9,   -999.0,9,  -999.00,9,-999.0000,-999.000, 25.6189,-999.000
      325024_1,  P14N,   185,  1,     32,     32,2,19930829,0114,-15.9775, 178.9985, 1470,     83.6,  25.8561,  35.3358,4,  35.4478,2,   -999.0,9,    194.5,2,     1.27,2,     0.03,2,     0.01,2,     0.22,2, -999.000,5, -999.000,5, -999.000,9,-999.0000,9,  -999.00,9,   -999.0,9,   -999.0,9,  -999.00,9,-999.0000,-999.000, 25.8375,-999.000
      325024_1,  P14N,   185,  1,     31,     31,2,19930829,0114,-15.9775, 178.9985, 1470,    103.9,  25.6865,  35.7552,2,  35.7907,2,   -999.0,9,    180.5,2,     1.24,2,     0.71,2,     0.10,2,     0.30,2,    1.789,2,    0.936,2, -999.000,9,-999.0000,9,  -999.00,9,   -999.0,9,   -999.0,9,  -999.00,9,-999.0000,-999.000, 25.6634,-999.000
      325024_1,  P14N,   185,  1,     30,     30,2,19930829,0114,-15.9775, 178.9985, 1470,    124.2,  24.5151,  36.0076,2,  36.0123,2,   -999.0,9,    167.3,2,     1.22,2,     2.49,2,     0.06,2,     0.42,2,    1.822,2,    0.913,2, -999.000,9,-999.0000,9,  -999.00,9,   -999.0,9,   -999.0,9,  -999.00,9,-999.0000,-999.000, 24.4885,-999.000
      325024_1,  P14N,   185,  1,     29,     29,2,19930829,0114,-15.9775, 178.9985, 1470,    144.5,  23.3530,  35.9143,2,  35.9173,2,   -999.0,9,    168.5,2,     1.19,2,     2.75,2,     0.03,2,     0.39,2, -999.000,5, -999.000,5, -999.000,9,-999.0000,9,  -999.00,9,   -999.0,9,   -999.0,9,  -999.00,9,-999.0000,-999.000, 23.3231,-999.000
      325024_1,  P14N,   185,  1,     28,     28,2,19930829,0114,-15.9775, 178.9985, 1470,    164.6,  22.6248,  35.8683,2,  35.8747,2,   -999.0,9,    171.2,2,     0.98,2,     2.96,2,     0.02,2,     0.40,2,    1.885,2,    0.969,2, -999.000,9,-999.0000,9,  -999.00,9,   -999.0,9,   -999.0,9,  -999.00,9,-999.0000,-999.000, 22.5914,-999.000
      325024_1,  P14N,   185,  1,     27,     27,2,19930829,0114,-15.9775, 178.9985, 1470,    184.8,  21.9607,  35.8581,2,  35.8589,2,   -999.0,9,    167.9,2,     0.95,2,     3.53,2,     0.01,2,     0.43,2, -999.000,5, -999.000,5, -999.000,9,-999.0000,9,  -999.00,9,   -999.0,9,   -999.0,9,  -999.00,9,-999.0000,-999.000, 21.9240,-999.000
      325024_1,  P14N,   185,  1,     26,     26,2,19930829,0114,-15.9775, 178.9985, 1470,    204.9,  21.3948,  35.8599,2,  35.8319,2,   -999.0,9,    169.2,2,     0.93,2,     3.94,2,     0.01,2,     0.46,2,    1.891,2,    0.980,2, -999.000,9,-999.0000,9,  -999.00,9,   -999.0,9,   -999.0,9,  -999.00,9,-999.0000,-999.000, 21.3549,-999.000
      325024_1,  P14N,   185,  1,     25,     25,2,19930829,0114,-15.9775, 178.9985, 1470,    255.2,  19.0233,  35.6245,2,  35.6170,2,   -999.0,9,    177.8,2,     1.10,2,     4.62,2,     0.01,2,     0.47,2,    1.886,2,    0.944,2, -999.000,9,-999.0000,9,  -999.00,9,   -999.0,9,   -999.0,9,  -999.00,9,-999.0000,-999.000, 18.9775,-999.000
      325024_1,  P14N,   185,  1,     24,     24,2,19930829,0114,-15.9775, 178.9985, 1470,    305.4,  17.0365,  35.4386,2,  35.4307,2,   -999.0,9,    176.9,2,     1.46,2,     6.93,2,     0.00,2,     0.63,2, -999.000,5, -999.000,5, -999.000,9,-999.0000,9,  -999.00,9,   -999.0,9,   -999.0,9,  -999.00,9,-999.0000,-999.000, 16.9857,-999.000
      325024_1,  P14N,   185,  1,     23,     23,2,19930829,0114,-15.9775, 178.9985, 1470,    356.0,  15.2205,  35.2375,2,  35.2329,2,   -999.0,9,    172.8,2,     2.79,2,     9.88,2,     0.00,2,     0.84,2,    1.507,2,    0.772,2, -999.000,9,-999.0000,9,  -999.00,9,   -999.0,9,   -999.0,9,  -999.00,9,-999.0000,-999.000, 15.1657,-999.000
      325024_1,  P14N,   185,  1,     22,     22,2,19930829,0114,-15.9775, 178.9985, 1470,    406.3,  13.0122,  34.9834,2,  34.9813,2,   -999.0,9,    161.5,2,     6.06,2,    14.85,2,     0.00,2,     1.18,2,    1.085,2,    0.517,2, -999.000,9,-999.0000,9,  -999.00,9,   -999.0,9,   -999.0,9,  -999.00,9,-999.0000,-999.000, 12.9558,-999.000
      325024_1,  P14N,   185,  1,     21,     21,2,19930829,0114,-15.9775, 178.9985, 1470,    457.0,  11.1714,  34.7942,2,  34.7894,2,   -999.0,9,    164.7,2,     8.16,2,    18.13,2,     0.00,2,     1.38,2, -999.000,5, -999.000,5, -999.000,9,-999.0000,9,  -999.00,9,   -999.0,9,   -999.0,9,  -999.00,9,-999.0000,-999.000, 11.1139,-999.000
      325024_1,  P14N,   185,  1,     20,     20,2,19930829,0114,-15.9775, 178.9985, 1470,    507.4,   9.3878,  34.6195,4,  34.6357,2,   -999.0,9,    173.0,2,    11.04,2,    21.13,2,     0.00,2,     1.56,2,    0.634,2,    0.323,2, -999.000,9,-999.0000,9,  -999.00,9,   -999.0,9,   -999.0,9,  -999.00,9,-999.0000,-999.000,  9.3305,-999.000
      325024_1,  P14N,   185,  1,     19,     19,2,19930829,0114,-15.9775, 178.9985, 1470,    557.8,   7.9445,  34.5074,2,  34.5082,2,   -999.0,9,    181.0,2,    14.30,2,    23.97,2,     0.00,2,     1.73,2, -999.000,5, -999.000,5, -999.000,9,-999.0000,9,  -999.00,9,   -999.0,9,   -999.0,9,  -999.00,9,-999.0000,-999.000,  7.8874,-999.000
      325024_1,  P14N,   185,  1,     18,     18,2,19930829,0114,-15.9775, 178.9985, 1470,    608.0,   7.1682,  34.4515,2,  34.4521,2,   -999.0,9,    187.2,2,    16.40,2,    25.36,2,     0.00,2,     1.81,2,    0.362,2,    0.190,2, -999.000,9,-999.0000,9,  -999.00,9,   -999.0,9,   -999.0,9,  -999.00,9,-999.0000,-999.000,  7.1093,-999.000
      325024_1,  P14N,   185,  1,     17,     17,2,19930829,0114,-15.9775, 178.9985, 1470,    658.4,   6.5625,  34.4129,2,  34.4163,2,   -999.0,9,    188.7,2,    19.27,2,    26.74,2,     0.00,2,     1.88,2,    0.258,2,    0.137,2, -999.000,9,-999.0000,9,  -999.00,9,   -999.0,9,   -999.0,9,  -999.00,9,-999.0000,-999.000,  6.5015,-999.000
      325024_1,  P14N,   185,  1,     16,     16,2,19930829,0114,-15.9775, 178.9985, 1470,    709.0,   5.9949,  34.4074,2,  34.4075,2,   -999.0,9,    179.9,2,    26.40,2,    28.84,2,     0.00,2,     2.03,2,    0.139,2,    0.076,2, -999.000,9,-999.0000,9,  -999.00,9,   -999.0,9,   -999.0,9,  -999.00,9,-999.0000,-999.000,  5.9321,-999.000
      325024_1,  P14N,   185,  1,     15,     15,2,19930829,0114,-15.9775, 178.9985, 1470,    759.5,   5.5034,  34.4009,2,  34.4020,2,   -999.0,9,    175.6,2,    32.17,2,    30.24,2,     0.00,2,     2.12,2, -999.000,5, -999.000,5, -999.000,9,-999.0000,9,  -999.00,9,   -999.0,9,   -999.0,9,  -999.00,9,-999.0000,-999.000,  5.4386,-999.000
      325024_1,  P14N,   185,  1,     14,     14,2,19930829,0114,-15.9775, 178.9985, 1470,    809.9,   4.9769,  34.4129,2,  34.4147,2,   -999.0,9,    167.7,2,    41.23,2,    31.77,2,     0.00,2,     2.22,2,    0.039,4,    0.017,2, -999.000,9,-999.0000,9,  -999.00,9,   -999.0,9,   -999.0,9,  -999.00,9,-999.0000,-999.000,  4.9108,-999.000
      325024_1,  P14N,   185,  1,     13,     13,2,19930829,0114,-15.9775, 178.9985, 1470,    860.3,   4.6678,  34.4251,2,  34.4251,2,   -999.0,9,    163.7,2,    47.00,2,    32.69,2,     0.00,2,     2.28,2,    0.020,2,    0.007,2, -999.000,9,-999.0000,9,  -999.00,9,   -999.0,9,   -999.0,9,  -999.00,9,-999.0000,-999.000,  4.5993,-999.000
      325024_1,  P14N,   185,  1,     12,     12,2,19930829,0114,-15.9775, 178.9985, 1470,    910.3,   4.3986,  34.4347,2,  34.4349,2,   -999.0,9,    162.2,2,    51.81,2,    33.06,2,     0.00,2,     2.31,2,    0.011,2,    0.006,2, -999.000,9,-999.0000,9,  -999.00,9,   -999.0,9,   -999.0,9,  -999.00,9,-999.0000,-999.000,  4.3277,-999.000
      325024_1,  P14N,   185,  1,     11,     11,2,19930829,0114,-15.9775, 178.9985, 1470,    960.5,   4.1799,  34.4497,2,  34.4492,2,   -999.0,9,    160.4,2,    57.39,2,    33.43,2,     0.00,2,     2.34,2, -999.000,5, -999.000,5, -999.000,9,-999.0000,9,  -999.00,9,   -999.0,9,   -999.0,9,  -999.00,9,-999.0000,-999.000,  4.1062,-999.000
      325024_1,  P14N,   185,  1,     10,     10,2,19930829,0114,-15.9775, 178.9985, 1470,   1010.8,   4.1054,  34.4614,2,  34.4599,2,   -999.0,9,    157.9,2,    60.46,2,    33.76,2,     0.00,2,     2.35,2,    0.011,2,    0.004,2, -999.000,9,-999.0000,9,  -999.00,9,   -999.0,9,   -999.0,9,  -999.00,9,-999.0000,-999.000,  4.0281,-999.000
      325024_1,  P14N,   185,  1,      9,      9,2,19930829,0114,-15.9775, 178.9985, 1470,   1061.2,   3.8949,  34.4727,2,  34.4705,2,   -999.0,9,    157.5,2,    64.69,2,    34.00,2,     0.00,2,     2.37,2, -999.000,5, -999.000,5, -999.000,9,-999.0000,9,  -999.00,9,   -999.0,9,   -999.0,9,  -999.00,9,-999.0000,-999.000,  3.8151,-999.000
      325024_1,  P14N,   185,  1,      8,      8,2,19930829,0114,-15.9775, 178.9985, 1470,   1111.9,   3.7359,  34.4861,2,  34.4846,2,   -999.0,9,    155.0,2,    69.31,2,    34.25,2,     0.00,2,     2.38,2,    0.003,2,    0.005,2, -999.000,9,-999.0000,9,  -999.00,9,   -999.0,9,   -999.0,9,  -999.00,9,-999.0000,-999.000,  3.6532,-999.000
      325024_1,  P14N,   185,  1,      7,      7,2,19930829,0114,-15.9775, 178.9985, 1470,   1162.3,   3.6223,  34.5002,2,  34.4982,2,   -999.0,9,    153.3,2,    73.93,2,    34.45,2,     0.00,2,     2.39,2, -999.000,5, -999.000,5, -999.000,9,-999.0000,9,  -999.00,9,   -999.0,9,   -999.0,9,  -999.00,9,-999.0000,-999.000,  3.5363,-999.000
      325024_1,  P14N,   185,  1,      6,      6,2,19930829,0114,-15.9775, 178.9985, 1470,   1212.9,   3.5033,  34.5113,2,  34.5099,2,   -999.0,9,    151.7,2,    77.79,2,    34.61,2,     0.00,2,     2.40,2, -999.000,5, -999.000,5, -999.000,9,-999.0000,9,  -999.00,9,   -999.0,9,   -999.0,9,  -999.00,9,-999.0000,-999.000,  3.4142,-999.000
      325024_1,  P14N,   185,  1,      5,      5,2,19930829,0114,-15.9775, 178.9985, 1470,   1263.3,   3.3688,  34.5257,2,  34.5244,2,   -999.0,9,    149.7,2,    82.42,2,    34.81,2,     0.00,2,     2.42,2, -999.000,5, -999.000,5, -999.000,9,-999.0000,9,  -999.00,9,   -999.0,9,   -999.0,9,  -999.00,9,-999.0000,-999.000,  3.2768,-999.000
      325024_1,  P14N,   185,  1,      4,      4,2,19930829,0114,-15.9775, 178.9985, 1470,   1313.3,   3.2378,  34.5369,2,  34.5352,2,   -999.0,9,    149.2,2,    86.09,2,    34.97,2,     0.00,2,     2.43,2,    0.003,2,    0.002,2, -999.000,9,-999.0000,9,  -999.00,9,   -999.0,9,   -999.0,9,  -999.00,9,-999.0000,-999.000,  3.1429,-999.000
      325024_1,  P14N,   185,  1,      3,      3,2,19930829,0114,-15.9775, 178.9985, 1470,   1363.4,   3.0630,  34.5539,2,  34.5527,2,   -999.0,9,    147.6,2,    86.05,3,    34.88,2,     0.00,2,     2.43,2, -999.000,5, -999.000,5, -999.000,9,-999.0000,9,  -999.00,9,   -999.0,9,   -999.0,9,  -999.00,9,-999.0000,-999.000,  2.9658,-999.000
      325024_1,  P14N,   185,  1,      2,      2,2,19930829,0114,-15.9775, 178.9985, 1470,   1413.5,   3.0010,  34.5596,2,  34.5599,2,   -999.0,9,    147.0,2,    94.42,2,    35.04,2,     0.00,2,     2.45,2, -999.000,5, -999.000,5, -999.000,9,-999.0000,9,  -999.00,9,   -999.0,9,   -999.0,9,  -999.00,9,-999.0000,-999.000,  2.9004,-999.000
      325024_1,  P14N,   185,  1,      1,      1,2,19930829,0114,-15.9775, 178.9985, 1470,   1472.1,   2.8380,  34.5752,2,  34.5722,2,   -999.0,9,    146.5,2,    98.89,2,    35.24,2,     0.00,2,     2.46,2,    0.000,2,    0.003,2, -999.000,9,-999.0000,9,  -999.00,9,   -999.0,9,   -999.0,9,  -999.00,9,-999.0000,-999.000,  2.7344,-999.000