BOTTLE,20131125MIRCJHATS
EXPOCODE,SECT_ID,STNNBR,CASTNO,SAMPNO,BTLNBR,BTLNBR_FLAG_W,DATE,TIME,LATITUDE,LONGITUDE,DEPTH,CTDPRS,CTDTMP,CTDSAL,CTDSAL_FLAG_W,SALNTY,SALNTY_FLAG_W,CTDOXY,CTDOXY_FLAG_W,OXYGEN,OXYGEN_FLAG_W,SILCAT,SILCAT_FLAG_W,NITRAT,NITRAT_FLAG_W,NITRIT,NITRIT_FLAG_W,PHSPHT,PHSPHT_FLAG_W,CFC-11,CFC-11_FLAG_W,CFC-12,CFC-12_FLAG_W,TRITUM,TRITUM_FLAG_W,HELIUM,HELIUM_FLAG_W,DELHE3,DELHE3_FLAG_W,TCARBN,TCARBN_FLAG_W,ALKALI,ALKALI_FLAG_W,PH,PH_FLAG_W,HELIER,DELHER,THETA,TRITER
,,,,,,,,,,,,DBAR,ITS-90,PSS-78,,PSS-78,,UMOL/KG,,UMOL/KG,,UMOL/KG,,UMOL/KG,,UMOL/KG,,UMOL/KG,,PMOL/KG,,PMOL/KG,,TU,,NMOL/KG,,PERCNT,,UMOL/KG,,UMOL/KG,,25_DEG,,NMOL/KG,PERCNT,DEG C,TU
      325023_1,  P14N,   122,  1,     36,     36,2,19930807,1125,  5.2413, 178.9975, 5748,      2.1,  29.6549,  34.0963,2,  34.1009,2,   -999.0,9,    194.8,2,     0.69,2,     0.04,4,     0.00,2,     0.17,2, -999.000,5, -999.000,5, -999.000,9,-999.0000,9,  -999.00,9,   -999.0,9,   -999.0,9,  -999.00,9,-999.0000,-999.000, 29.6543,-999.000
      325023_1,  P14N,   122,  1,     35,     35,2,19930807,1125,  5.2413, 178.9975, 5748,     37.1,  29.0776,  34.0927,2,  34.0974,2,   -999.0,9,    196.0,2,     0.48,2,     0.04,4,     0.00,2,     0.17,2, -999.000,5, -999.000,5, -999.000,9,-999.0000,9,  -999.00,9,   -999.0,9,   -999.0,9,  -999.00,9,-999.0000,-999.000, 29.0686,-999.000
      325023_1,  P14N,   122,  1,     34,     34,2,19930807,1125,  5.2413, 178.9975, 5748,     67.3,  28.6672,  34.3537,2,  34.3662,2,   -999.0,9,    197.1,2,     0.47,2,     0.04,4,     0.00,2,     0.16,2, -999.000,5, -999.000,5, -999.000,9,-999.0000,9,  -999.00,9,   -999.0,9,   -999.0,9,  -999.00,9,-999.0000,-999.000, 28.6511,-999.000
      325023_1,  P14N,   122,  1,     33,     33,2,19930807,1125,  5.2413, 178.9975, 5748,     98.3,  23.3555,  34.7891,2,  34.8075,2,   -999.0,9,    153.0,2,     3.96,2,     0.81,4,     0.17,2,     0.51,2, -999.000,5, -999.000,5, -999.000,9,-999.0000,9,  -999.00,9,   -999.0,9,   -999.0,9,  -999.00,9,-999.0000,-999.000, 23.3353,-999.000
      325023_1,  P14N,   122,  1,     32,     32,2,19930807,1125,  5.2413, 178.9975, 5748,    128.7,  19.0416,  34.7646,2,  34.7423,2,   -999.0,9,    145.1,2,     6.88,2,     4.04,4,     0.08,2,     0.80,2, -999.000,5, -999.000,5, -999.000,9,-999.0000,9,  -999.00,9,   -999.0,9,   -999.0,9,  -999.00,9,-999.0000,-999.000, 19.0187,-999.000
      325023_1,  P14N,   122,  1,     31,     31,2,19930807,1125,  5.2413, 178.9975, 5748,    158.8,  14.3253,  34.6013,2,  34.6059,2,   -999.0,9,    107.5,2,    17.00,2,    14.63,4,     0.02,2,     1.42,2, -999.000,5, -999.000,5, -999.000,9,-999.0000,9,  -999.00,9,   -999.0,9,   -999.0,9,  -999.00,9,-999.0000,-999.000, 14.3021,-999.000
      325023_1,  P14N,   122,  1,     30,     30,2,19930807,1125,  5.2413, 178.9975, 5748,    208.9,  10.9342,  34.6264,2,  34.6238,2,   -999.0,9,     60.3,2,    30.43,2,    27.54,4,     0.01,2,     2.14,2, -999.000,5, -999.000,5, -999.000,9,-999.0000,9,  -999.00,9,   -999.0,9,   -999.0,9,  -999.00,9,-999.0000,-999.000, 10.9087,-999.000
      325023_1,  P14N,   122,  1,     29,     29,2,19930807,1125,  5.2413, 178.9975, 5748,    259.8,   9.6749,  34.6564,2,  34.6565,2,   -999.0,9,     54.5,2,    33.52,2,    31.33,4,     0.00,2,     2.32,2, -999.000,5, -999.000,5, -999.000,9,-999.0000,9,  -999.00,9,   -999.0,9,   -999.0,9,  -999.00,9,-999.0000,-999.000,  9.6454,-999.000
      325023_1,  P14N,   122,  1,     28,     28,2,19930807,1125,  5.2413, 178.9975, 5748,    309.8,   9.1095,  34.6473,2,  34.6469,2,   -999.0,9,     60.0,2,    35.05,2,    32.44,4,     0.00,2,     2.36,2, -999.000,5, -999.000,5, -999.000,9,-999.0000,9,  -999.00,9,   -999.0,9,   -999.0,9,  -999.00,9,-999.0000,-999.000,  9.0755,-999.000
      325023_1,  P14N,   122,  1,     27,     27,2,19930807,1125,  5.2413, 178.9975, 5748,    410.1,   8.4258,  34.6215,2,  34.6206,2,   -999.0,9,     51.7,2,    39.90,2,    35.08,4,     0.00,2,     2.53,2, -999.000,5, -999.000,5, -999.000,9,-999.0000,9,  -999.00,9,   -999.0,9,   -999.0,9,  -999.00,9,-999.0000,-999.000,  8.3827,-999.000
      325023_1,  P14N,   122,  1,     26,     26,2,19930807,1125,  5.2413, 178.9975, 5748,    510.4,   7.6616,  34.5914,2,  34.5908,2,   -999.0,9,     43.9,2,    46.70,2,    37.79,4,     0.00,2,     2.72,2, -999.000,5, -999.000,5, -999.000,9,-999.0000,9,  -999.00,9,   -999.0,9,   -999.0,9,  -999.00,9,-999.0000,-999.000,  7.6105,-999.000
      325023_1,  P14N,   122,  1,     25,     25,2,19930807,1125,  5.2413, 178.9975, 5748,    610.8,   6.7599,  34.5644,2,  34.5647,2,   -999.0,9,     32.5,2,    58.37,2,    41.33,4,     0.00,2,     2.94,2, -999.000,5, -999.000,5, -999.000,9,-999.0000,9,  -999.00,9,   -999.0,9,   -999.0,9,  -999.00,9,-999.0000,-999.000,  6.7025,-999.000
      325023_1,  P14N,   122,  1,     24,     24,2,19930807,1125,  5.2413, 178.9975, 5748,    711.2,   5.9504,  34.5448,2,  34.5447,2,   -999.0,9,     52.8,2,    67.33,2,    40.85,4,     0.01,2,     2.88,2, -999.000,5, -999.000,5, -999.000,9,-999.0000,9,  -999.00,9,   -999.0,9,   -999.0,9,  -999.00,9,-999.0000,-999.000,  5.8875,-999.000
      325023_1,  P14N,   122,  1,     23,     23,2,19930807,1125,  5.2413, 178.9975, 5748,    812.3,   5.2551,  34.5449,2,  34.5456,2,   -999.0,9,     56.7,2,    78.65,2,    41.60,4,     0.00,2,     2.91,2, -999.000,5, -999.000,5, -999.000,9,-999.0000,9,  -999.00,9,   -999.0,9,   -999.0,9,  -999.00,9,-999.0000,-999.000,  5.1869,-999.000
      325023_1,  P14N,   122,  1,     22,     22,2,19930807,1125,  5.2413, 178.9975, 5748,    913.4,   4.6608,  34.5526,2,  34.5511,2,   -999.0,9,     70.0,2,    88.04,2,    41.12,4,     0.00,2,     2.87,2, -999.000,5, -999.000,5, -999.000,9,-999.0000,9,  -999.00,9,   -999.0,9,   -999.0,9,  -999.00,9,-999.0000,-999.000,  4.5875,-999.000
      325023_1,  P14N,   122,  1,     21,     21,2,19930807,1125,  5.2413, 178.9975, 5748,   1014.2,   4.3074,  34.5628,2,  34.5621,2,   -999.0,9,     69.0,2,    95.49,2,    41.98,4,     0.00,2,     2.91,2, -999.000,5, -999.000,5, -999.000,9,-999.0000,9,  -999.00,9,   -999.0,9,   -999.0,9,  -999.00,9,-999.0000,-999.000,  4.2280,-999.000
      325023_1,  P14N,   122,  1,     20,     20,2,19930807,1125,  5.2413, 178.9975, 5748,   1216.4,   3.6752,  34.5794,2,  34.5774,2,   -999.0,9,     83.0,2,   104.96,2,    41.01,4,     0.00,2,     2.86,2, -999.000,5, -999.000,5, -999.000,9,-999.0000,9,  -999.00,9,   -999.0,9,   -999.0,9,  -999.00,9,-999.0000,-999.000,  3.5841,-999.000
      325023_1,  P14N,   122,  1,     19,     19,2,19930807,1125,  5.2413, 178.9975, 5748,   1417.3,   3.1730,  34.5985,2,  34.5983,2,   -999.0,9,     81.2,2,   120.88,2,    41.76,4,     0.00,2,     2.90,2, -999.000,5, -999.000,5, -999.000,9,-999.0000,9,  -999.00,9,   -999.0,9,   -999.0,9,  -999.00,9,-999.0000,-999.000,  3.0701,-999.000
      325023_1,  P14N,   122,  1,     18,     18,2,19930807,1125,  5.2413, 178.9975, 5748,   1619.6,   2.7422,  34.6161,2,  34.6148,2,   -999.0,9,     90.1,2,   130.51,2,    41.33,4,     0.00,2,     2.85,2, -999.000,5, -999.000,5, -999.000,9,-999.0000,9,  -999.00,9,   -999.0,9,   -999.0,9,  -999.00,9,-999.0000,-999.000,  2.6274,-999.000
      325023_1,  P14N,   122,  1,     17,     17,2,19930807,1125,  5.2413, 178.9975, 5748,   1821.8,   2.4657,  34.6265,2,  34.6256,2,   -999.0,9,    101.0,2,   134.92,2,    40.52,4,     0.00,2,     2.78,2, -999.000,5, -999.000,5, -999.000,9,-999.0000,9,  -999.00,9,   -999.0,9,   -999.0,9,  -999.00,9,-999.0000,-999.000,  2.3375,-999.000
      325023_1,  P14N,   122,  1,     16,     16,2,19930807,1125,  5.2413, 178.9975, 5748,   2024.5,   2.2001,  34.6420,2,  34.6411,2,   -999.0,9,    104.6,2,   142.82,2,    40.46,4,     0.00,2,     2.76,2, -999.000,5, -999.000,5, -999.000,9,-999.0000,9,  -999.00,9,   -999.0,9,   -999.0,9,  -999.00,9,-999.0000,-999.000,  2.0585,-999.000
      325023_1,  P14N,   122,  1,     15,     15,2,19930807,1125,  5.2413, 178.9975, 5748,   2227.5,   2.0142,  34.6521,2,  34.6497,2,   -999.0,9,    110.6,2,   146.66,2,    40.03,4,     0.00,2,     2.72,2, -999.000,5, -999.000,5, -999.000,9,-999.0000,9,  -999.00,9,   -999.0,9,   -999.0,9,  -999.00,9,-999.0000,-999.000,  1.8580,-999.000
      325023_1,  P14N,   122,  1,     14,     14,2,19930807,1125,  5.2413, 178.9975, 5748,   2430.7,   1.9094,  34.6579,2,  34.6575,2,   -999.0,9,    114.9,2,   149.06,2,    39.82,4,     0.00,2,     2.70,2, -999.000,5, -999.000,5, -999.000,9,-999.0000,9,  -999.00,9,   -999.0,9,   -999.0,9,  -999.00,9,-999.0000,-999.000,  1.7370,-999.000
      325023_1,  P14N,   122,  1,     13,     13,2,19930807,1125,  5.2413, 178.9975, 5748,   2633.1,   1.7984,  34.6635,2,  34.6636,2,   -999.0,9,    121.9,2,   149.61,2,    39.39,4,     0.00,2,     2.67,2, -999.000,5, -999.000,5, -999.000,9,-999.0000,9,  -999.00,9,   -999.0,9,   -999.0,9,  -999.00,9,-999.0000,-999.000,  1.6097,-999.000
      325023_1,  P14N,   122,  1,     12,     12,2,19930807,1125,  5.2413, 178.9975, 5748,   2837.0,   1.7279,  34.6668,2,  34.6667,2,   -999.0,9,    128.3,2,   148.51,2,    38.90,4,     0.00,2,     2.63,2, -999.000,5, -999.000,5, -999.000,9,-999.0000,9,  -999.00,9,   -999.0,9,   -999.0,9,  -999.00,9,-999.0000,-999.000,  1.5217,-999.000
      325023_1,  P14N,   122,  1,     11,     11,2,19930807,1125,  5.2413, 178.9975, 5748,   3040.5,   1.6566,  34.6708,2,  34.6699,2,   -999.0,9,    134.5,2,   147.62,2,    38.58,4,     0.00,2,     2.59,2, -999.000,5, -999.000,5, -999.000,9,-999.0000,9,  -999.00,9,   -999.0,9,   -999.0,9,  -999.00,9,-999.0000,-999.000,  1.4325,-999.000
      325023_1,  P14N,   122,  1,     10,     10,2,19930807,1125,  5.2413, 178.9975, 5748,   3346.4,   1.5636,  34.6772,2,  34.6761,2,   -999.0,9,    142.4,2,   146.11,2,    37.89,4,     0.00,2,     2.53,2, -999.000,5, -999.000,5, -999.000,9,-999.0000,9,  -999.00,9,   -999.0,9,   -999.0,9,  -999.00,9,-999.0000,-999.000,  1.3115,-999.000
      325023_1,  P14N,   122,  1,      9,      9,2,19930807,1125,  5.2413, 178.9975, 5748,   3654.5,   1.4726,  34.6840,2,  34.6826,2,   -999.0,9,    153.9,2,   143.17,2,    37.09,4,     0.00,2,     2.48,2, -999.000,5, -999.000,5, -999.000,9,-999.0000,9,  -999.00,9,   -999.0,9,   -999.0,9,  -999.00,9,-999.0000,-999.000,  1.1912,-999.000
      325023_1,  P14N,   122,  1,      8,      8,2,19930807,1125,  5.2413, 178.9975, 5748,   3960.4,   1.3753,  34.6909,2,  34.6896,2,   -999.0,9,    165.4,2,   140.04,2,    36.29,4,     0.00,2,     2.39,2, -999.000,5, -999.000,5, -999.000,9,-999.0000,9,  -999.00,9,   -999.0,9,   -999.0,9,  -999.00,9,-999.0000,-999.000,  1.0641,-999.000
      325023_1,  P14N,   122,  1,      7,      7,2,19930807,1125,  5.2413, 178.9975, 5748,   4266.6,   1.2849,  34.6973,2,  34.6975,2,   -999.0,9,    178.1,2,   134.07,2,    35.54,4,     0.00,2,     2.36,2, -999.000,5, -999.000,5, -999.000,9,-999.0000,9,  -999.00,9,   -999.0,9,   -999.0,9,  -999.00,9,-999.0000,-999.000,  0.9428,-999.000
      325023_1,  P14N,   122,  1,      6,      6,2,19930807,1125,  5.2413, 178.9975, 5748,   4573.3,   1.2529,  34.7011,2,  34.7014,2,   -999.0,9,    185.7,2,   130.17,2,    34.64,4,     0.00,2,     2.32,2, -999.000,5, -999.000,5, -999.000,9,-999.0000,9,  -999.00,9,   -999.0,9,   -999.0,9,  -999.00,9,-999.0000,-999.000,  0.8771,-999.000
      325023_1,  P14N,   122,  1,      5,      5,2,19930807,1125,  5.2413, 178.9975, 5748,   4880.5,   1.2689,  34.7021,2,  34.7010,2,   -999.0,9,    187.6,2,   128.90,2,    34.64,4,     0.00,2,     2.31,2, -999.000,5, -999.000,5, -999.000,9,-999.0000,9,  -999.00,9,   -999.0,9,   -999.0,9,  -999.00,9,-999.0000,-999.000,  0.8567,-999.000
      325023_1,  P14N,   122,  1,      4,      4,2,19930807,1125,  5.2413, 178.9975, 5748,   5187.0,   1.2936,  34.7029,2,  34.7033,2,   -999.0,9,    190.0,2,   127.63,2,    34.53,4,     0.00,2,     2.31,2, -999.000,5, -999.000,5, -999.000,9,-999.0000,9,  -999.00,9,   -999.0,9,   -999.0,9,  -999.00,9,-999.0000,-999.000,  0.8435,-999.000
      325023_1,  P14N,   122,  1,      3,      3,2,19930807,1125,  5.2413, 178.9975, 5748,   5494.5,   1.3252,  34.7036,2,  34.7027,2,   -999.0,9,    191.4,2,   126.36,2,    34.48,4,     0.00,2,     2.28,2, -999.000,5, -999.000,5, -999.000,9,-999.0000,9,  -999.00,9,   -999.0,9,   -999.0,9,  -999.00,9,-999.0000,-999.000,  0.8356,-999.000
      325023_1,  P14N,   122,  1,      2,      2,2,19930807,1125,  5.2413, 178.9975, 5748,   5787.1,   1.3602,  34.7038,2,  34.7037,2,   -999.0,9,    191.8,2,   125.90,2,    34.53,4,     0.00,2,     2.27,2, -999.000,5, -999.000,5, -999.000,9,-999.0000,9,  -999.00,9,   -999.0,9,   -999.0,9,  -999.00,9,-999.0000,-999.000,  0.8317,-999.000
      325023_1,  P14N,   122,  1,      1,      1,2,19930807,1125,  5.2413, 178.9975, 5748,   5787.2,   1.3602,  34.7039,2,  34.7043,2,   -999.0,9,    191.0,2,   125.84,2,    34.58,4,     0.00,2,     2.28,2, -999.000,5, -999.000,5, -999.000,9,-999.0000,9,  -999.00,9,   -999.0,9,   -999.0,9,  -999.00,9,-999.0000,-999.000,  0.8317,-999.000