BOTTLE,20131125MIRCJHATS
EXPOCODE,SECT_ID,STNNBR,CASTNO,SAMPNO,BTLNBR,BTLNBR_FLAG_W,DATE,TIME,LATITUDE,LONGITUDE,DEPTH,CTDPRS,CTDTMP,CTDSAL,CTDSAL_FLAG_W,SALNTY,SALNTY_FLAG_W,CTDOXY,CTDOXY_FLAG_W,OXYGEN,OXYGEN_FLAG_W,SILCAT,SILCAT_FLAG_W,NITRAT,NITRAT_FLAG_W,NITRIT,NITRIT_FLAG_W,PHSPHT,PHSPHT_FLAG_W,CFC-11,CFC-11_FLAG_W,CFC-12,CFC-12_FLAG_W,TRITUM,TRITUM_FLAG_W,HELIUM,HELIUM_FLAG_W,DELHE3,DELHE3_FLAG_W,TCARBN,TCARBN_FLAG_W,ALKALI,ALKALI_FLAG_W,PH,PH_FLAG_W,HELIER,DELHER,THETA,TRITER
,,,,,,,,,,,,DBAR,ITS-90,PSS-78,,PSS-78,,UMOL/KG,,UMOL/KG,,UMOL/KG,,UMOL/KG,,UMOL/KG,,UMOL/KG,,PMOL/KG,,PMOL/KG,,TU,,NMOL/KG,,PERCNT,,UMOL/KG,,UMOL/KG,,25_DEG,,NMOL/KG,PERCNT,DEG C,TU
      325023_1,  P14N,    85,  1,     36,     36,2,19930729,0820, 20.0012, 179.0012, 4033,      2.5,  27.8013,  35.1465,2,  35.1508,2,   -999.0,9,    202.8,2,     3.14,2,     0.03,2,     0.01,2,     0.06,2,    1.723,2,    0.940,2, -999.000,9,-999.0000,9,  -999.00,9,   1959.6,2,   2311.9,2,     8.13,2,-999.0000,-999.000, 27.8007,-999.000
      325023_1,  P14N,    85,  1,     35,     35,2,19930729,0820, 20.0012, 179.0012, 4033,     36.8,  27.8091,  35.1480,2,  35.1523,2,   -999.0,9,    201.6,2,     2.87,2,     0.03,2,     0.00,2,     0.04,2,    1.684,2,    0.908,2, -999.000,9,-999.0000,9,  -999.00,9,   1960.7,2,   2309.7,2,     8.12,2,-999.0000,-999.000, 27.8005,-999.000
      325023_1,  P14N,    85,  1,     34,     34,2,19930729,0820, 20.0012, 179.0012, 4033,     67.3,  25.4569,  35.2448,2,  35.2459,2,   -999.0,9,    222.4,2,     2.83,2,     0.03,2,     0.00,2,     0.02,2,    1.993,2,    1.056,2, -999.000,9,-999.0000,9,  -999.00,9,   -999.0,9,   -999.0,9,  -999.00,9,-999.0000,-999.000, 25.4421,-999.000
      325023_1,  P14N,    85,  1,     33,     33,2,19930729,0820, 20.0012, 179.0012, 4033,     97.4,  23.1466,  35.2668,2,  35.2672,2,   -999.0,9,    214.2,2,     2.56,2,     0.03,2,     0.01,2,     0.04,2,    2.010,2,    1.065,2, -999.000,9,-999.0000,9,  -999.00,9,   1978.4,2,   2315.1,2,     8.09,2,-999.0000,-999.000, 23.1266,-999.000
      325023_1,  P14N,    85,  1,     32,     32,2,19930729,0820, 20.0012, 179.0012, 4033,    127.7,  21.7632,  35.2553,2,  35.2489,2,   -999.0,9,    214.6,2,     2.52,2,     0.03,2,     0.01,2,     0.05,2,    2.168,2,    1.149,2, -999.000,9,-999.0000,9,  -999.00,9,   2001.5,2,   2317.8,2,  -999.00,9,-999.0000,-999.000, 21.7381,-999.000
      325023_1,  P14N,    85,  1,     31,     31,2,19930729,0820, 20.0012, 179.0012, 4033,    158.0,  20.0371,  35.1281,2,  35.0998,2,   -999.0,9,    205.7,2,     2.91,2,     0.68,2,     0.08,2,     0.14,2,    2.294,2,    1.198,2, -999.000,9,-999.0000,9,  -999.00,9,   2019.3,2,   2307.2,2,  -999.00,9,-999.0000,-999.000, 20.0078,-999.000
      325023_1,  P14N,    85,  1,     30,     30,2,19930729,0820, 20.0012, 179.0012, 4033,    208.2,  17.1472,  34.8298,2,  34.8257,2,   -999.0,9,    204.0,2,     4.38,2,     4.03,2,     0.01,2,     0.34,2,    2.439,6,    1.252,6, -999.000,9,-999.0000,9,  -999.00,9,   2033.4,2,   2292.2,2,  -999.00,9,-999.0000,-999.000, 17.1126,-999.000
      325023_1,  P14N,    85,  1,     29,     29,2,19930729,0820, 20.0012, 179.0012, 4033,    258.1,  15.7999,  34.6892,2,  34.6869,2,   -999.0,9,    206.6,2,     6.08,2,     5.85,2,     0.01,2,     0.45,2,    2.535,2,    1.274,2, -999.000,9,-999.0000,9,  -999.00,9,   2040.8,2,   2279.8,2,     7.94,2,-999.0000,-999.000, 15.7594,-999.000
      325023_1,  P14N,    85,  1,     28,     28,2,19930729,0820, 20.0012, 179.0012, 4033,    309.2,  13.9044,  34.5010,2,  34.4961,2,   -999.0,9,    203.0,2,     9.94,2,     9.08,2,     0.00,2,     0.67,2,    2.512,2,    1.251,2, -999.000,9,-999.0000,9,  -999.00,9,   2061.4,2,   2263.4,2,  -999.00,9,-999.0000,-999.000, 13.8599,-999.000
      325023_1,  P14N,    85,  1,     27,     27,2,19930729,0820, 20.0012, 179.0012, 4033,    359.3,  12.1406,  34.3500,2,  34.3385,2,   -999.0,9,    199.0,2,    14.89,2,    12.67,2,     0.00,2,     0.93,2,    2.408,2,    1.167,2, -999.000,9,-999.0000,9,  -999.00,9,   2086.2,2,   2266.6,2,     7.83,2,-999.0000,-999.000, 12.0934,-999.000
      325023_1,  P14N,    85,  1,     26,     26,2,19930729,0820, 20.0012, 179.0012, 4033,    409.8,  10.2895,  34.2080,2,  34.2073,2,   -999.0,9,    183.3,2,    22.66,2,    17.27,2,     0.00,2,     1.26,2,    2.014,2,    0.952,2, -999.000,9,-999.0000,9,  -999.00,9,   2113.6,2,   2270.4,2,  -999.00,9,-999.0000,-999.000, 10.2410,-999.000
      325023_1,  P14N,    85,  1,     25,     25,2,19930729,0820, 20.0012, 179.0012, 4033,    459.9,   8.8002,  34.1284,2,  34.1274,2,   -999.0,9,    162.5,2,    33.25,2,    22.09,2,     0.00,2,     1.59,2,    1.586,2,    0.742,2, -999.000,9,-999.0000,9,  -999.00,9,   2149.4,2,   2274.3,2,     7.67,2,-999.0000,-999.000,  8.7508,-999.000
      325023_1,  P14N,    85,  1,     24,     24,2,19930729,0820, 20.0012, 179.0012, 4033,    509.8,   8.0111,  34.1060,2,  34.1008,2,   -999.0,9,    142.2,2,    42.52,2,    25.60,2,     0.00,2,     1.84,2,    1.236,2,    0.580,2, -999.000,9,-999.0000,9,  -999.00,9,   -999.0,9,   -999.0,9,     7.61,2,-999.0000,-999.000,  7.9591,-999.000
      325023_1,  P14N,    85,  1,     23,     23,2,19930729,0820, 20.0012, 179.0012, 4033,    609.1,   5.8564,  34.1343,2,  34.1346,2,   -999.0,9,     75.1,2,    72.89,2,    35.19,2,     0.00,2,     2.54,2,    0.343,2,    0.161,2, -999.000,9,-999.0000,9,  -999.00,9,   2268.1,2,   2303.6,2,     7.44,2,-999.0000,-999.000,  5.8037,-999.000
      325023_1,  P14N,    85,  1,     22,     22,2,19930729,0820, 20.0012, 179.0012, 4033,    708.4,   5.0873,  34.2462,2,  34.2468,2,   -999.0,9,     46.9,2,    89.82,2,    39.19,2,     0.00,2,     2.81,2,    0.084,2,    0.040,2, -999.000,9,-999.0000,9,  -999.00,9,   2304.9,2,   -999.0,9,     7.38,2,-999.0000,-999.000,  5.0296,-999.000
      325023_1,  P14N,    85,  1,     21,     21,2,19930729,0820, 20.0012, 179.0012, 4033,    809.8,   4.8406,  34.3598,2,  34.3619,2,   -999.0,9,     42.9,2,    96.06,2,    40.13,2,     0.00,2,     2.89,2,    0.021,2,    0.008,2, -999.000,9,-999.0000,9,  -999.00,9,   2318.6,2,   2342.6,2,     7.38,2,-999.0000,-999.000,  4.7754,-999.000
      325023_1,  P14N,    85,  1,     20,     20,2,19930729,0820, 20.0012, 179.0012, 4033,    911.6,   4.4990,  34.4244,2,  34.4240,2,   -999.0,9,     47.6,2,   102.97,2,    40.36,2,     0.00,2,     2.85,3,    0.006,2,    0.004,2, -999.000,9,-999.0000,9,  -999.00,9,   2327.2,2,   2356.4,2,     7.40,2,-999.0000,-999.000,  4.4272,-999.000
      325023_1,  P14N,    85,  1,     19,     19,2,19930729,0820, 20.0012, 179.0012, 4033,   1012.6,   4.1387,  34.4810,2,  34.4807,2,   -999.0,9,     55.0,2,   109.45,2,    40.39,2,     0.00,2,     2.88,2,    0.002,2,    0.002,2, -999.000,9,-999.0000,9,  -999.00,9,   2331.7,2,   2366.7,2,  -999.00,9,-999.0000,-999.000,  4.0609,-999.000
      325023_1,  P14N,    85,  1,     18,     18,2,19930729,0820, 20.0012, 179.0012, 4033,   1115.8,   3.7879,  34.5104,2,  34.5101,2,   -999.0,9,     60.7,2,   116.39,2,    40.28,2,     0.00,2,     2.87,2,    0.000,2,   -0.001,2, -999.000,9,-999.0000,9,  -999.00,9,   2335.8,2,   2377.0,2,  -999.00,9,-999.0000,-999.000,  3.7043,-999.000
      325023_1,  P14N,    85,  1,     17,     17,2,19930729,0820, 20.0012, 179.0012, 4033,   1217.1,   3.4394,  34.5381,2,  34.5379,2,   -999.0,9,     66.8,2,   123.34,2,    40.22,2,     0.00,2,     2.86,2, -999.000,5, -999.000,5, -999.000,9,-999.0000,9,  -999.00,9,   2342.2,2,   2383.7,2,  -999.00,9,-999.0000,-999.000,  3.3505,-999.000
      325023_1,  P14N,    85,  1,     16,     16,2,19930729,0820, 20.0012, 179.0012, 4033,   1318.3,   3.1408,  34.5541,2,  34.5536,2,   -999.0,9,     71.5,2,   129.87,2,    40.16,2,     0.00,2,     2.83,2, -999.000,5, -999.000,5, -999.000,9,-999.0000,9,  -999.00,9,   2351.4,2,   2392.5,2,  -999.00,9,-999.0000,-999.000,  3.0465,-999.000
      325023_1,  P14N,    85,  1,     15,     15,2,19930729,0820, 20.0012, 179.0012, 4033,   1419.5,   2.9173,  34.5661,2,  34.5657,2,   -999.0,9,     75.3,2,   134.64,2,    40.05,2,     0.00,2,     2.83,2, -999.000,5, -999.000,5, -999.000,9,-999.0000,9,  -999.00,9,   2351.9,2,   2401.7,2,     7.45,2,-999.0000,-999.000,  2.8170,-999.000
      325023_1,  P14N,    85,  1,     14,     14,2,19930729,0820, 20.0012, 179.0012, 4033,   1520.5,   2.6767,  34.5790,2,  34.5791,2,   -999.0,9,     80.8,2,   139.86,2,    39.80,2,     0.00,2,     2.81,2,   -0.002,2,    0.000,2, -999.000,9,-999.0000,9,  -999.00,9,   2353.9,2,   2401.1,2,  -999.00,9,-999.0000,-999.000,  2.5710,-999.000
      325023_1,  P14N,    85,  1,     13,     13,2,19930729,0820, 20.0012, 179.0012, 4033,   1623.0,   2.5176,  34.5874,2,  34.5871,2,   -999.0,9,     84.8,2,   142.86,2,    39.60,2,     0.00,2,     2.79,2, -999.000,5, -999.000,5, -999.000,9,-999.0000,9,  -999.00,9,   2354.1,2,   2409.1,2,  -999.00,9,-999.0000,-999.000,  2.4053,-999.000
      325023_1,  P14N,    85,  1,     12,     12,2,19930729,0820, 20.0012, 179.0012, 4033,   1826.1,   2.2146,  34.6090,2,  34.6089,2,   -999.0,9,     93.3,2,   148.78,2,    39.11,2,     0.00,2,     2.74,2, -999.000,5, -999.000,5, -999.000,9,-999.0000,9,  -999.00,9,   2355.4,2,   2411.9,2,  -999.00,9,-999.0000,-999.000,  2.0896,-999.000
      325023_1,  P14N,    85,  1,     11,     11,2,19930729,0820, 20.0012, 179.0012, 4033,   2029.2,   2.0050,  34.6252,2,  34.6259,2,   -999.0,9,    102.5,2,   152.25,2,    38.62,2,     0.00,2,     2.70,2, -999.000,5, -999.000,5, -999.000,9,-999.0000,9,  -999.00,9,   2352.7,2,   2417.9,2,     7.49,2,-999.0000,-999.000,  1.8661,-999.000
      325023_1,  P14N,    85,  1,     10,     10,2,19930729,0820, 20.0012, 179.0012, 4033,   2233.5,   1.8141,  34.6399,2,  34.6396,2,   -999.0,9,    112.0,2,   154.81,2,    38.04,2,     0.00,2,     2.65,2,    0.001,2,    0.004,2, -999.000,9,-999.0000,9,  -999.00,9,   2352.8,2,   2411.9,2,  -999.00,9,-999.0000,-999.000,  1.6607,-999.000
      325023_1,  P14N,    85,  1,      9,      9,2,19930729,0820, 20.0012, 179.0012, 4033,   2437.4,   1.6904,  34.6504,2,  34.6500,2,   -999.0,9,    119.7,2,   155.80,2,    37.60,2,     0.00,2,     2.61,2, -999.000,5, -999.000,5, -999.000,9,-999.0000,9,  -999.00,9,   2346.7,2,   2417.3,2,  -999.00,9,-999.0000,-999.000,  1.5214,-999.000
      325023_1,  P14N,    85,  1,      8,      8,2,19930729,0820, 20.0012, 179.0012, 4033,   2641.3,   1.6236,  34.6578,2,  34.6577,2,   -999.0,9,    126.2,2,   155.44,2,    37.21,2,     0.00,2,     2.59,2, -999.000,5, -999.000,5, -999.000,9,-999.0000,9,  -999.00,9,   2340.5,2,   2420.4,2,  -999.00,9,-999.0000,-999.000,  1.4376,-999.000
      325023_1,  P14N,    85,  1,      7,      7,2,19930729,0820, 20.0012, 179.0012, 4033,   2845.2,   1.5636,  34.6641,2,  34.6647,2,   -999.0,9,    132.3,2,   154.84,2,    36.77,2,     0.00,2,     2.54,2,    0.005,2,    0.000,2, -999.000,9,-999.0000,9,  -999.00,9,   2348.4,2,   2425.8,2,     7.54,2,-999.0000,-999.000,  1.3601,-999.000
      325023_1,  P14N,    85,  1,      6,      6,2,19930729,0820, 20.0012, 179.0012, 4033,   3049.5,   1.5214,  34.6695,2,  34.6702,2,   -999.0,9,    137.9,2,   153.80,2,    36.39,2,     0.00,2,     2.52,2, -999.000,5, -999.000,5, -999.000,9,-999.0000,9,  -999.00,9,   2337.7,2,   2423.4,2,  -999.00,9,-999.0000,-999.000,  1.2994,-999.000
      325023_1,  P14N,    85,  1,      5,      5,2,19930729,0820, 20.0012, 179.0012, 4033,   3253.5,   1.4867,  34.6739,2,  34.6749,2,   -999.0,9,    143.0,2,   152.31,2,    36.05,2,     0.00,2,     2.49,2, -999.000,5, -999.000,5, -999.000,9,-999.0000,9,  -999.00,9,   2331.2,2,   2418.5,2,  -999.00,9,-999.0000,-999.000,  1.2457,-999.000
      325023_1,  P14N,    85,  1,      4,      4,2,19930729,0820, 20.0012, 179.0012, 4033,   3457.7,   1.4784,  34.6770,2,  34.6770,2,   -999.0,9,    146.1,2,   150.83,2,    35.85,2,     0.00,2,     2.47,2, -999.000,5, -999.000,5, -999.000,9,-999.0000,9,  -999.00,9,   2330.4,2,   -999.0,9,  -999.00,9,-999.0000,-999.000,  1.2171,-999.000
      325023_1,  P14N,    85,  1,      3,      3,2,19930729,0820, 20.0012, 179.0012, 4033,   3661.2,   1.4682,  34.6797,2,  34.6794,2,   -999.0,9,    149.8,2,   149.57,2,    35.60,2,     0.00,2,     2.46,2, -999.000,5, -999.000,5, -999.000,9,-999.0000,9,  -999.00,9,   2327.5,2,   2417.6,2,     7.57,2,-999.0000,-999.000,  1.1863,-999.000
      325023_1,  P14N,    85,  1,      2,      2,2,19930729,0820, 20.0012, 179.0012, 4033,   3865.9,   1.4666,  34.6814,2,  34.6837,2,   -999.0,9,    152.3,2,   148.09,2,    35.36,2,     0.00,2,     2.44,2, -999.000,5, -999.000,5, -999.000,9,-999.0000,9,  -999.00,9,   2324.4,2,   2416.2,2,  -999.00,9,-999.0000,-999.000,  1.1631,-999.000
      325023_1,  P14N,    85,  1,      1,      1,2,19930729,0820, 20.0012, 179.0012, 4033,   4168.2,   1.4782,  34.6839,2,  34.6841,2,   -999.0,9,    153.9,2,   147.51,2,    35.21,2,     0.00,2,     2.43,2,    0.000,2,    0.004,2, -999.000,9,-999.0000,9,  -999.00,9,   2320.9,2,   2417.5,2,  -999.00,9,-999.0000,-999.000,  1.1415,-999.000