BOTTLE,20131125MIRCJHATS
EXPOCODE,SECT_ID,STNNBR,CASTNO,SAMPNO,BTLNBR,BTLNBR_FLAG_W,DATE,TIME,LATITUDE,LONGITUDE,DEPTH,CTDPRS,CTDTMP,CTDSAL,CTDSAL_FLAG_W,SALNTY,SALNTY_FLAG_W,CTDOXY,CTDOXY_FLAG_W,OXYGEN,OXYGEN_FLAG_W,SILCAT,SILCAT_FLAG_W,NITRAT,NITRAT_FLAG_W,NITRIT,NITRIT_FLAG_W,PHSPHT,PHSPHT_FLAG_W,CFC-11,CFC-11_FLAG_W,CFC-12,CFC-12_FLAG_W,TRITUM,TRITUM_FLAG_W,HELIUM,HELIUM_FLAG_W,DELHE3,DELHE3_FLAG_W,TCARBN,TCARBN_FLAG_W,ALKALI,ALKALI_FLAG_W,PH,PH_FLAG_W,HELIER,DELHER,THETA,TRITER
,,,,,,,,,,,,DBAR,ITS-90,PSS-78,,PSS-78,,UMOL/KG,,UMOL/KG,,UMOL/KG,,UMOL/KG,,UMOL/KG,,UMOL/KG,,PMOL/KG,,PMOL/KG,,TU,,NMOL/KG,,PERCNT,,UMOL/KG,,UMOL/KG,,25_DEG,,NMOL/KG,PERCNT,DEG C,TU
      325024_1,  P14N,   900,  2,     18,     18,2,19930825,1104, -8.6155, 178.9692, 3303,      2.5,  29.0700,  34.2341,2,  34.2405,2,   -999.0,9,    195.9,2,     2.29,2,     0.02,2,     0.00,2,     0.20,2, -999.000,5, -999.000,5, -999.000,9,-999.0000,9,  -999.00,9,   -999.0,9,   -999.0,9,  -999.00,9,-999.0000,-999.000, 29.0694,-999.000
      325024_1,  P14N,   900,  2,     17,     17,2,19930825,1104, -8.6155, 178.9692, 3303,     31.3,  29.1201,  34.3219,2,  34.3292,2,   -999.0,9,    196.4,2,     1.89,2,     0.02,2,     0.00,2,     0.20,2,    1.560,2,    0.867,2, -999.000,9,-999.0000,9,  -999.00,9,   -999.0,9,   -999.0,9,  -999.00,9,-999.0000,-999.000, 29.1125,-999.000
      325024_1,  P14N,   900,  2,     16,     16,2,19930825,1104, -8.6155, 178.9692, 3303,     60.8,  28.9218,  34.4087,2,  34.4553,4,   -999.0,9,    196.8,2,     1.48,2,     0.01,2,     0.00,2,     0.20,2,    1.564,2,    0.851,2, -999.000,9,-999.0000,9,  -999.00,9,   -999.0,9,   -999.0,9,  -999.00,9,-999.0000,-999.000, 28.9072,-999.000
      325024_1,  P14N,   900,  2,     15,     15,2,19930825,1104, -8.6155, 178.9692, 3303,     91.0,  27.8143,  35.6252,2,  35.6030,2,   -999.0,9,    165.8,2,     1.50,2,     3.48,2,     0.41,2,     0.55,2,    1.596,2,    0.857,2, -999.000,9,-999.0000,9,  -999.00,9,   2085.0,2,   2372.0,2,     7.97,2,-999.0000,-999.000, 27.7929,-999.000
      325024_1,  P14N,   900,  2,     14,     14,2,19930825,1104, -8.6155, 178.9692, 3303,    120.6,  25.6681,  36.0884,2,  36.0874,2,   -999.0,9,    141.8,2,     1.31,2,     6.10,2,     0.83,2,     0.74,2,    1.653,2,    0.879,2, -999.000,9,-999.0000,9,  -999.00,9,   -999.0,9,   -999.0,9,  -999.00,9,-999.0000,-999.000, 25.6414,-999.000
      325024_1,  P14N,   900,  2,     13,     13,2,19930825,1104, -8.6155, 178.9692, 3303,    150.0,  23.3731,  36.0792,2,  36.0752,2,   -999.0,9,    138.4,2,     1.33,2,     7.76,2,     0.10,2,     0.79,2,    1.722,2,    0.906,2, -999.000,9,-999.0000,9,  -999.00,9,   -999.0,9,   -999.0,9,  -999.00,9,-999.0000,-999.000, 23.3420,-999.000
      325024_1,  P14N,   900,  2,     12,     12,2,19930825,1104, -8.6155, 178.9692, 3303,    202.7,  18.7936,  35.6332,2,  35.6314,2,   -999.0,9,    125.9,2,     3.47,2,    11.52,2,     0.01,2,     1.06,2,    1.462,2,    0.754,2, -999.000,9,-999.0000,9,  -999.00,9,   -999.0,9,   -999.0,9,  -999.00,9,-999.0000,-999.000, 18.7576,-999.000
      325024_1,  P14N,   900,  2,     11,     11,2,19930825,1104, -8.6155, 178.9692, 3303,    303.3,  11.5718,  34.8440,2,  34.8420,2,   -999.0,9,     83.3,2,    18.16,2,    25.72,2,     0.00,2,     1.94,2, -999.000,5, -999.000,5, -999.000,9,-999.0000,9,  -999.00,9,   -999.0,9,   -999.0,9,  -999.00,9,-999.0000,-999.000, 11.5331,-999.000
      325024_1,  P14N,   900,  2,     10,     10,2,19930825,1104, -8.6155, 178.9692, 3303,    403.8,   9.0317,  34.6698,2,  34.6705,2,   -999.0,9,     99.5,2,    26.04,2,    29.97,2,     0.00,2,     2.12,2, -999.000,5, -999.000,5, -999.000,9,-999.0000,9,  -999.00,9,   2106.0,2,   2378.0,2,     7.93,2,-999.0000,-999.000,  8.9873,-999.000
      325024_1,  P14N,   900,  2,      9,      9,2,19930825,1104, -8.6155, 178.9692, 3303,    503.9,   7.7218,  34.5917,2,  34.5958,2,   -999.0,9,    108.2,2,    32.23,2,    32.05,2,     0.00,2,     2.23,2, -999.000,5, -999.000,5, -999.000,9,-999.0000,9,  -999.00,9,   -999.0,9,   -999.0,9,  -999.00,9,-999.0000,-999.000,  7.6712,-999.000
      325024_1,  P14N,   900,  2,      8,      8,2,19930825,1104, -8.6155, 178.9692, 3303,    605.8,   6.4998,  34.5373,2,  34.5376,2,   -999.0,9,    108.2,2,    42.89,2,    34.95,2,     0.00,2,     2.42,2, -999.000,5, -999.000,5, -999.000,9,-999.0000,9,  -999.00,9,   -999.0,9,   -999.0,9,  -999.00,9,-999.0000,-999.000,  6.4441,-999.000
      325024_1,  P14N,   900,  2,      7,      7,2,19930825,1104, -8.6155, 178.9692, 3303,    805.6,   5.2016,  34.5193,2,  34.5205,2,   -999.0,9,    109.1,2,    60.58,2,    36.95,2,     0.00,2,     2.58,2, -999.000,5, -999.000,5, -999.000,9,-999.0000,9,  -999.00,9,   -999.0,9,   -999.0,9,  -999.00,9,-999.0000,-999.000,  5.1344,-999.000
      325024_1,  P14N,   900,  2,      6,      6,2,19930825,1104, -8.6155, 178.9692, 3303,   1011.6,   4.3362,  34.5317,2,  34.5339,2,   -999.0,9,    117.7,2,    76.83,2,    37.13,2,     0.00,2,     2.59,2, -999.000,5, -999.000,5, -999.000,9,-999.0000,9,  -999.00,9,   -999.0,9,   -999.0,9,  -999.00,9,-999.0000,-999.000,  4.2569,-999.000
      325024_1,  P14N,   900,  2,      5,      5,2,19930825,1104, -8.6155, 178.9692, 3303,   1517.3,   2.8434,  34.5940,2,  34.5951,2,   -999.0,9,    127.2,2,   109.75,2,    37.40,2,     0.00,2,     2.60,2, -999.000,5, -999.000,5, -999.000,9,-999.0000,9,  -999.00,9,   -999.0,9,   -999.0,9,  -999.00,9,-999.0000,-999.000,  2.7359,-999.000
      325024_1,  P14N,   900,  2,      4,      4,2,19930825,1104, -8.6155, 178.9692, 3303,   2020.8,   2.0971,  34.6406,2,  34.6422,2,   -999.0,9,    134.2,2,   129.81,2,    37.18,2,     0.00,2,     2.58,2, -999.000,5, -999.000,5, -999.000,9,-999.0000,9,  -999.00,9,   -999.0,9,   -999.0,9,  -999.00,9,-999.0000,-999.000,  1.9574,-999.000
      325024_1,  P14N,   900,  2,      3,      3,2,19930825,1104, -8.6155, 178.9692, 3303,   2531.6,   1.8169,  34.6600,2,  34.6616,2,   -999.0,9,    139.3,2,   137.52,2,    36.96,2,     0.00,2,     2.55,2, -999.000,5, -999.000,5, -999.000,9,-999.0000,9,  -999.00,9,   -999.0,9,   -999.0,9,  -999.00,9,-999.0000,-999.000,  1.6371,-999.000
      325024_1,  P14N,   900,  2,      2,      2,2,19930825,1104, -8.6155, 178.9692, 3303,   3042.4,   1.6783,  34.6702,2,  34.6717,2,   -999.0,9,    145.4,2,   139.30,2,    36.42,2,     0.00,4,     2.51,2, -999.000,5, -999.000,5, -999.000,9,-999.0000,9,  -999.00,9,   2117.0,3,   2363.0,3,     7.90,3,-999.0000,-999.000,  1.4535,-999.000
      325024_1,  P14N,   900,  2,      1,      1,2,19930825,1104, -8.6155, 178.9692, 3303,   3340.2,   1.6035,  34.6760,2,  34.6768,2,   -999.0,9,    151.4,2,   138.88,2,    36.07,2,     0.00,2,     2.49,2, -999.000,5, -999.000,5, -999.000,9,-999.0000,9,  -999.00,9,   -999.0,9,   -999.0,9,  -999.00,9,-999.0000,-999.000,  1.3510,-999.000
      325024_1,  P14N,   900,  3,     18,     18,2,19930825,1504, -8.6127, 178.9743, 3202,      2.4,  29.0578,  34.2509,2,  34.2550,4,   -999.0,9,    195.6,2,     2.83,2,     0.05,2,     0.00,2,     0.19,2,    1.570,2,    0.863,2, -999.000,9,-999.0000,9,  -999.00,9,   -999.0,9,   -999.0,9,  -999.00,9,-999.0000,-999.000, 29.0572,-999.000
      325024_1,  P14N,   900,  3,     17,     17,2,19930825,1504, -8.6127, 178.9743, 3202,     28.8,  29.1060,  34.3252,2,  34.3259,4,   -999.0,9,    195.8,2,     2.48,2,     0.04,2,     0.00,2,     0.19,2,    1.562,2,    0.864,2, -999.000,9,-999.0000,9,  -999.00,9,   -999.0,9,   -999.0,9,  -999.00,9,-999.0000,-999.000, 29.0990,-999.000
      325024_1,  P14N,   900,  3,     16,     16,2,19930825,1504, -8.6127, 178.9743, 3202,     59.5,  29.0645,  35.2950,2,  35.2481,4,   -999.0,9,    194.2,2,     2.55,2,     0.48,2,     0.09,2,     0.33,2,    1.578,2,    0.852,2, -999.000,9,-999.0000,9,  -999.00,9,   -999.0,9,   -999.0,9,  -999.00,9,-999.0000,-999.000, 29.0500,-999.000
      325024_1,  P14N,   900,  3,     15,     15,2,19930825,1504, -8.6127, 178.9743, 3202,     94.6,  25.4449,  36.1121,2,  36.0931,4,   -999.0,9,    140.8,2,     2.61,2,     6.52,2,     0.64,2,     0.76,2,    1.580,2,    0.851,2, -999.000,9,-999.0000,9,  -999.00,9,   2142.0,2,   2336.0,2,     7.81,2,-999.0000,-999.000, 25.4240,-999.000
      325024_1,  P14N,   900,  3,     14,     14,2,19930825,1504, -8.6127, 178.9743, 3202,    124.3,  23.1365,  36.0732,2,  36.0658,4,   -999.0,9,    138.5,2,     2.47,2,     7.81,2,     0.09,2,     0.81,2,    1.725,2,    0.919,2, -999.000,9,-999.0000,9,  -999.00,9,   -999.0,9,   -999.0,9,  -999.00,9,-999.0000,-999.000, 23.1109,-999.000
      325024_1,  P14N,   900,  3,     13,     13,2,19930825,1504, -8.6127, 178.9743, 3202,    154.4,  21.5725,  35.9579,2,  35.9529,4,   -999.0,9,    137.9,2,     2.74,2,     8.40,2,     0.03,2,     0.84,2,    1.703,2,    0.892,2, -999.000,9,-999.0000,9,  -999.00,9,   -999.0,9,   -999.0,9,  -999.00,9,-999.0000,-999.000, 21.5423,-999.000
      325024_1,  P14N,   900,  3,     12,     12,2,19930825,1504, -8.6127, 178.9743, 3202,    204.6,  17.9220,  35.5255,2,  35.5291,4,   -999.0,9,    120.7,2,     5.72,2,    12.79,2,     0.01,2,     1.15,2,    1.404,2,    0.716,2, -999.000,9,-999.0000,9,  -999.00,9,   -999.0,9,   -999.0,9,  -999.00,9,-999.0000,-999.000, 17.8869,-999.000
      325024_1,  P14N,   900,  3,     11,     11,2,19930825,1504, -8.6127, 178.9743, 3202,    299.6,  12.0730,  34.9212,2,  34.8877,4,   -999.0,9,     85.1,2,    17.43,2,    24.46,2,     0.00,2,     1.88,2,    0.459,2,    0.235,2, -999.000,9,-999.0000,9,  -999.00,9,   2195.0,2,   2308.0,2,     7.61,2,-999.0000,-999.000, 12.0336,-999.000
      325024_1,  P14N,   900,  3,     10,     10,2,19930825,1504, -8.6127, 178.9743, 3202,    400.3,   9.0851,  34.6754,2,  34.6687,4,   -999.0,9,     99.5,2,    26.64,2,    29.70,2,     0.00,2,     2.12,2,    0.130,2,    0.067,2, -999.000,9,-999.0000,9,  -999.00,9,   -999.0,9,   -999.0,9,  -999.00,9,-999.0000,-999.000,  9.0411,-999.000
      325024_1,  P14N,   900,  3,      9,      9,2,19930825,1504, -8.6127, 178.9743, 3202,    500.6,   7.6181,  34.5860,2,  34.5867,4,   -999.0,9,    107.3,2,    33.96,2,    32.25,2,     0.00,2,     2.26,2,    0.056,2,    0.031,2, -999.000,9,-999.0000,9,  -999.00,9,   -999.0,9,   -999.0,9,  -999.00,9,-999.0000,-999.000,  7.5682,-999.000
      325024_1,  P14N,   900,  3,      8,      8,2,19930825,1504, -8.6127, 178.9743, 3202,    605.5,   6.5767,  34.5426,2,  34.5312,4,   -999.0,9,    108.0,2,    42.95,2,    34.36,2,     0.00,2,     2.41,2,    0.019,2,    0.008,2, -999.000,9,-999.0000,9,  -999.00,9,   -999.0,9,   -999.0,9,  -999.00,9,-999.0000,-999.000,  6.5207,-999.000
      325024_1,  P14N,   900,  3,      7,      7,2,19930825,1504, -8.6127, 178.9743, 3202,    808.6,   5.2259,  34.5196,2,  34.4841,4,   -999.0,9,    108.8,2,    61.30,2,    36.67,2,     0.00,2,     2.58,2,    0.003,2,    0.003,2, -999.000,9,-999.0000,9,  -999.00,9,   -999.0,9,   -999.0,9,  -999.00,9,-999.0000,-999.000,  5.1583,-999.000
      325024_1,  P14N,   900,  3,      6,      6,2,19930825,1504, -8.6127, 178.9743, 3202,   1011.2,   4.3738,  34.5304,2,  34.3419,4,   -999.0,9,    115.6,2,    75.73,2,    36.85,2,     0.00,2,     2.61,2, -999.000,5, -999.000,5, -999.000,9,-999.0000,9,  -999.00,9,   2213.0,2,   2310.0,2,     7.56,2,-999.0000,-999.000,  4.2943,-999.000
      325024_1,  P14N,   900,  3,      5,      5,2,19930825,1504, -8.6127, 178.9743, 3202,   1512.8,   2.7558,  34.5996,2,  34.5973,4,   -999.0,9,    127.7,2,   111.89,2,    36.94,2,     0.00,2,     2.62,2, -999.000,5, -999.000,5, -999.000,9,-999.0000,9,  -999.00,9,   -999.0,9,   -999.0,9,  -999.00,9,-999.0000,-999.000,  2.6497,-999.000
      325024_1,  P14N,   900,  3,      4,      4,2,19930825,1504, -8.6127, 178.9743, 3202,   2018.9,   2.1835,  34.6358,2,  34.6220,4,   -999.0,9,    133.0,2,   127.65,2,    36.76,2,     0.00,2,     2.58,2, -999.000,5, -999.000,5, -999.000,9,-999.0000,9,  -999.00,9,   -999.0,9,   -999.0,9,  -999.00,9,-999.0000,-999.000,  2.0426,-999.000
      325024_1,  P14N,   900,  3,      3,      3,2,19930825,1504, -8.6127, 178.9743, 3202,   2533.1,   1.7865,  34.6622,2,  34.5803,4,   -999.0,9,    139.2,2,   138.82,2,    36.54,2,     0.00,2,     2.57,2, -999.000,5, -999.000,5, -999.000,9,-999.0000,9,  -999.00,9,   -999.0,9,   -999.0,9,  -999.00,9,-999.0000,-999.000,  1.6072,-999.000
      325024_1,  P14N,   900,  3,      2,      2,2,19930825,1504, -8.6127, 178.9743, 3202,   3040.9,   1.6145,  34.6741,2,  34.6438,4,   -999.0,9,    148.6,2,   139.89,2,    35.84,2,     0.00,2,     2.49,2, -999.000,5, -999.000,5, -999.000,9,-999.0000,9,  -999.00,9,   -999.0,9,   -999.0,9,  -999.00,9,-999.0000,-999.000,  1.3913,-999.000
      325024_1,  P14N,   900,  3,      1,      1,2,19930825,1504, -8.6127, 178.9743, 3202,   3281.1,   1.5696,  34.6782,2,  34.6738,4,   -999.0,9,    153.2,2,   139.89,2,    35.67,2,     0.00,2,     2.49,2, -999.000,5, -999.000,5, -999.000,9,-999.0000,9,  -999.00,9,   -999.0,9,   -999.0,9,  -999.00,9,-999.0000,-999.000,  1.3239,-999.000
      325024_1,  P14N,   900,  4,     18,     18,2,19930825,1901, -8.6163, 178.9767, 3178,      1.9,  29.0682,  34.2561,2,  34.2639,2,   -999.0,9,    195.6,2,     3.19,2,     0.11,2,     0.00,2,     0.19,2,    1.553,2,    0.858,2, -999.000,9,-999.0000,9,  -999.00,9,   2225.0,2,   2309.0,2,     7.53,2,-999.0000,-999.000, 29.0677,-999.000
      325024_1,  P14N,   900,  4,     17,     17,2,19930825,1901, -8.6163, 178.9767, 3178,     34.9,  29.0768,  34.3427,2,  34.3421,2,   -999.0,9,    196.2,2,     2.94,2,     0.11,2,     0.00,2,     0.19,2,    1.577,2,    0.872,2, -999.000,9,-999.0000,9,  -999.00,9,   -999.0,9,   -999.0,9,  -999.00,9,-999.0000,-999.000, 29.0683,-999.000
      325024_1,  P14N,   900,  4,     16,     16,2,19930825,1901, -8.6163, 178.9767, 3178,     64.8,  29.2008,  34.9005,2,  34.9233,2,   -999.0,9,    196.9,2,     2.90,2,     0.18,2,     0.03,2,     0.27,2,    1.571,2,    0.862,2, -999.000,9,-999.0000,9,  -999.00,9,   -999.0,9,   -999.0,9,  -999.00,9,-999.0000,-999.000, 29.1851,-999.000
      325024_1,  P14N,   900,  4,     15,     15,2,19930825,1901, -8.6163, 178.9767, 3178,     94.7,  26.3626,  35.9488,2,  35.9644,2,   -999.0,9,    141.5,2,     3.06,2,     6.16,2,     0.94,2,     0.74,2,    1.664,2,    0.884,2, -999.000,9,-999.0000,9,  -999.00,9,   -999.0,9,   -999.0,9,  -999.00,9,-999.0000,-999.000, 26.3412,-999.000
      325024_1,  P14N,   900,  4,     14,     14,2,19930825,1901, -8.6163, 178.9767, 3178,    125.0,  23.8176,  36.1019,2,  36.1026,2,   -999.0,9,    139.0,2,     3.23,2,     7.60,2,     0.17,2,     0.78,2,    1.714,2,    0.895,2, -999.000,9,-999.0000,9,  -999.00,9,   -999.0,9,   -999.0,9,  -999.00,9,-999.0000,-999.000, 23.7914,-999.000
      325024_1,  P14N,   900,  4,     13,     13,2,19930825,1901, -8.6163, 178.9767, 3178,    154.4,  21.3543,  35.9357,2,  35.9397,2,   -999.0,9,    137.8,2,     3.81,2,     8.71,2,     0.02,2,     0.85,2,    1.685,2,    0.873,2, -999.000,9,-999.0000,9,  -999.00,9,   -999.0,9,   -999.0,9,  -999.00,9,-999.0000,-999.000, 21.3243,-999.000
      325024_1,  P14N,   900,  4,     12,     12,2,19930825,1901, -8.6163, 178.9767, 3178,    204.4,  17.3691,  35.4602,2,  35.4631,2,   -999.0,9,    116.5,2,     7.68,2,    13.86,2,     0.00,2,     1.21,2, -999.000,5, -999.000,5, -999.000,9,-999.0000,9,  -999.00,9,   -999.0,9,   -999.0,9,  -999.00,9,-999.0000,-999.000, 17.3348,-999.000
      325024_1,  P14N,   900,  4,     11,     11,2,19930825,1901, -8.6163, 178.9767, 3178,    304.0,  11.6599,  34.8557,2,  34.8615,2,   -999.0,9,     83.4,2,    18.98,2,    25.24,2,     0.00,2,     1.92,2, -999.000,5, -999.000,5, -999.000,9,-999.0000,9,  -999.00,9,   -999.0,9,   -999.0,9,  -999.00,9,-999.0000,-999.000, 11.6209,-999.000
      325024_1,  P14N,   900,  4,     10,     10,2,19930825,1901, -8.6163, 178.9767, 3178,    403.8,   9.2667,  34.6877,2,  34.6866,2,   -999.0,9,     99.1,2,    26.98,2,    29.45,2,     0.00,2,     2.09,2, -999.000,5, -999.000,5, -999.000,9,-999.0000,9,  -999.00,9,   -999.0,9,   -999.0,9,  -999.00,9,-999.0000,-999.000,  9.2216,-999.000
      325024_1,  P14N,   900,  4,      9,      9,2,19930825,1901, -8.6163, 178.9767, 3178,    502.6,   7.5976,  34.5869,2,  34.5869,2,   -999.0,9,    108.4,2,    34.77,2,    32.31,2,     0.00,2,     2.25,2, -999.000,5, -999.000,5, -999.000,9,-999.0000,9,  -999.00,9,   -999.0,9,   -999.0,9,  -999.00,9,-999.0000,-999.000,  7.5475,-999.000
      325024_1,  P14N,   900,  4,      8,      8,2,19930825,1901, -8.6163, 178.9767, 3178,    601.3,   6.6873,  34.5458,2,  34.5477,2,   -999.0,9,    106.4,2,    42.76,2,    34.47,2,     0.00,2,     2.40,2, -999.000,5, -999.000,5, -999.000,9,-999.0000,9,  -999.00,9,   2240.0,2,   -999.0,9,  -999.00,9,-999.0000,-999.000,  6.6312,-999.000
      325024_1,  P14N,   900,  4,      7,      7,2,19930825,1901, -8.6163, 178.9767, 3178,    799.9,   5.3982,  34.5176,2,  34.5190,2,   -999.0,9,    111.0,2,    58.40,2,    36.54,2,     0.00,2,     2.55,2, -999.000,5, -999.000,5, -999.000,9,-999.0000,9,  -999.00,9,   -999.0,9,   -999.0,9,  -999.00,9,-999.0000,-999.000,  5.3303,-999.000
      325024_1,  P14N,   900,  4,      6,      6,2,19930825,1901, -8.6163, 178.9767, 3178,    999.8,   4.5214,  34.5294,2,  34.5304,2,   -999.0,9,    113.1,2,    74.07,2,    37.08,2,     0.00,2,     2.61,2, -999.000,5, -999.000,5, -999.000,9,-999.0000,9,  -999.00,9,   -999.0,9,   -999.0,9,  -999.00,9,-999.0000,-999.000,  4.4417,-999.000
      325024_1,  P14N,   900,  4,      5,      5,2,19930825,1901, -8.6163, 178.9767, 3178,   1500.8,   2.9616,  34.5874,2,  34.5880,2,   -999.0,9,    126.9,2,   107.16,2,    37.05,2,     0.00,2,     2.60,2, -999.000,5, -999.000,5, -999.000,9,-999.0000,9,  -999.00,9,   -999.0,9,   -999.0,9,  -999.00,9,-999.0000,-999.000,  2.8541,-999.000
      325024_1,  P14N,   900,  4,      4,      4,2,19930825,1901, -8.6163, 178.9767, 3178,   2005.5,   2.2810,  34.6293,2,  34.6306,2,   -999.0,9,    131.8,2,   125.67,2,    37.06,2,     0.00,2,     2.59,2, -999.000,5, -999.000,5, -999.000,9,-999.0000,9,  -999.00,9,   -999.0,9,   -999.0,9,  -999.00,9,-999.0000,-999.000,  2.1399,-999.000
      325024_1,  P14N,   900,  4,      3,      3,2,19930825,1901, -8.6163, 178.9767, 3178,   2505.3,   1.9177,  34.6550,2,  34.6557,2,   -999.0,9,    135.9,2,   137.76,2,    37.03,2,     0.00,2,     2.56,2, -999.000,5, -999.000,5, -999.000,9,-999.0000,9,  -999.00,9,   -999.0,9,   -999.0,9,  -999.00,9,-999.0000,-999.000,  1.7384,-999.000
      325024_1,  P14N,   900,  4,      2,      2,2,19930825,1901, -8.6163, 178.9767, 3178,   3012.9,   1.6714,  34.6705,2,  34.6712,2,   -999.0,9,    145.7,2,   141.13,2,    36.34,2,     0.00,2,     2.52,2, -999.000,5, -999.000,5, -999.000,9,-999.0000,9,  -999.00,9,   -999.0,9,   -999.0,9,  -999.00,9,-999.0000,-999.000,  1.4496,-999.000
      325024_1,  P14N,   900,  4,      1,      1,2,19930825,1901, -8.6163, 178.9767, 3178,   3307.7,   1.6119,  34.6757,2,  34.6762,2,   -999.0,9,    150.5,2,   141.49,2,    36.00,2,     0.00,2,     2.50,2, -999.000,5, -999.000,5, -999.000,9,-999.0000,9,  -999.00,9,   2259.0,2,   2328.0,2,     7.49,2,-999.0000,-999.000,  1.3625,-999.000