BOTTLE,20131125MIRCJHATS
EXPOCODE,SECT_ID,STNNBR,CASTNO,SAMPNO,BTLNBR,BTLNBR_FLAG_W,DATE,TIME,LATITUDE,LONGITUDE,DEPTH,CTDPRS,CTDTMP,CTDSAL,CTDSAL_FLAG_W,SALNTY,SALNTY_FLAG_W,CTDOXY,CTDOXY_FLAG_W,OXYGEN,OXYGEN_FLAG_W,SILCAT,SILCAT_FLAG_W,NITRAT,NITRAT_FLAG_W,NITRIT,NITRIT_FLAG_W,PHSPHT,PHSPHT_FLAG_W,CFC-11,CFC-11_FLAG_W,CFC-12,CFC-12_FLAG_W,TRITUM,TRITUM_FLAG_W,HELIUM,HELIUM_FLAG_W,DELHE3,DELHE3_FLAG_W,TCARBN,TCARBN_FLAG_W,ALKALI,ALKALI_FLAG_W,PH,PH_FLAG_W,HELIER,DELHER,THETA,TRITER
,,,,,,,,,,,,DBAR,ITS-90,PSS-78,,PSS-78,,UMOL/KG,,UMOL/KG,,UMOL/KG,,UMOL/KG,,UMOL/KG,,UMOL/KG,,PMOL/KG,,PMOL/KG,,TU,,NMOL/KG,,PERCNT,,UMOL/KG,,UMOL/KG,,25_DEG,,NMOL/KG,PERCNT,DEG C,TU
      325023_1,  P14N,     8,  1,     36,     36,2,19930708,1615, 55.4983,-176.8410, 3756,      3.6,   7.1839,  33.0628,2,  33.0636,2,   -999.0,9,    313.3,2,    16.30,2,    15.50,2,     0.22,2,     1.47,2, -999.000,5, -999.000,5,    2.488,2,   1.8340,2,    -2.00,2,   2053.6,2,   2246.0,2,     7.88,2,  0.2000,   0.150,  7.1836,   0.025
      325023_1,  P14N,     8,  1,     35,     35,2,19930708,1615, 55.4983,-176.8410, 3756,     67.1,   2.3826,  33.1712,2,  33.1766,2,   -999.0,9,    314.2,2,    58.18,2,    28.45,2,     0.04,2,     2.27,2, -999.000,5, -999.000,5, -999.000,9,-999.0000,9,  -999.00,9,   2136.5,2,   2240.5,2,  -999.00,9,-999.0000,-999.000,  2.3790,-999.000
      325023_1,  P14N,     8,  1,     34,     34,2,19930708,1615, 55.4983,-176.8410, 3756,     97.0,   2.4444,  33.2061,2,  33.2113,2,   -999.0,9,    308.5,2,    60.30,2,    28.92,2,     0.06,2,     2.30,2, -999.000,5, -999.000,5,    2.504,2,   1.7900,2,     1.16,2,   2143.8,2,   2247.6,2,     7.64,2,  0.2000,   0.150,  2.4392,   0.025
      325023_1,  P14N,     8,  1,     33,     33,2,19930708,1615, 55.4983,-176.8410, 3756,    127.3,   2.4342,  33.2416,2,  33.2429,2,   -999.0,9,    303.0,2,    61.66,2,    29.63,2,     0.02,2,     2.33,2, -999.000,5, -999.000,5, -999.000,9,-999.0000,9,  -999.00,9,   2151.9,2,   2245.2,2,  -999.00,9,-999.0000,-999.000,  2.4273,-999.000
      325023_1,  P14N,     8,  1,     32,     32,2,19930708,1615, 55.4983,-176.8410, 3756,    157.6,   3.0079,  33.3848,2,  33.4028,2,   -999.0,9,    226.0,2,    72.24,2,    32.95,2,     0.02,2,     2.54,2, -999.000,5, -999.000,5,    2.314,2,   1.7940,2,     6.16,2,   2198.3,2,   2283.5,2,     7.52,2,  0.2000,   0.150,  2.9986,   0.023
      325023_1,  P14N,     8,  1,     30,     30,2,19930708,1615, 55.4983,-176.8410, 3756,    207.9,   3.6731,  33.6125,2,  33.6233,2,   -999.0,9,    133.0,2,    87.37,2,    37.46,2,     0.02,2,     2.79,2, -999.000,5, -999.000,5, -999.000,9,-999.0000,9,  -999.00,9,   2256.5,2,   2297.2,2,     7.39,2,-999.0000,-999.000,  3.6595,-999.000
      325023_1,  P14N,     8,  1,     31,     31,2,19930708,1615, 55.4983,-176.8410, 3756,    208.3,   3.6742,  33.6133,2,  33.6118,2,   -999.0,9,    137.6,2,    86.29,2,    37.15,2,     0.02,2,     2.77,2, -999.000,5, -999.000,5, -999.000,9,-999.0000,9,  -999.00,9,   2253.1,2,   2274.6,2,  -999.00,9,-999.0000,-999.000,  3.6605,-999.000
      325023_1,  P14N,     8,  1,     29,     29,2,19930708,1615, 55.4983,-176.8410, 3756,    258.4,   3.7419,  33.7446,2,  33.7511,2,   -999.0,9,     93.8,2,    96.41,2,    39.76,2,     0.01,2,     2.92,2, -999.000,5, -999.000,5,    1.747,2,   1.8210,2,    10.06,2,   2286.0,2,   2289.2,2,  -999.00,9,  0.2000,   0.150,  3.7247,   0.017
      325023_1,  P14N,     8,  1,     28,     28,2,19930708,1615, 55.4983,-176.8410, 3756,    309.2,   3.6977,  33.8561,2,  33.8587,2,   -999.0,9,     68.8,2,   104.20,2,    41.18,2,     0.01,2,     3.02,2, -999.000,5, -999.000,5, -999.000,9,-999.0000,9,  -999.00,9,   2305.3,2,   2324.0,2,     7.31,2,-999.0000,-999.000,  3.6770,-999.000
      325023_1,  P14N,     8,  1,     27,     27,2,19930708,1615, 55.4983,-176.8410, 3756,    360.2,   3.6370,  33.9378,2,  33.9372,2,   -999.0,9,     51.1,2,   110.74,2,    42.23,2,     0.01,2,     3.09,2, -999.000,5, -999.000,5,    1.756,2,-999.0000,9,  -999.00,9,   2321.4,2,   -999.0,9,  -999.00,9,-999.0000,-999.000,  3.6129,   0.018
      325023_1,  P14N,     8,  1,     26,     26,2,19930708,1615, 55.4983,-176.8410, 3756,    410.7,   3.5743,  34.0042,2,  34.0044,2,   -999.0,9,     39.2,2,   115.78,2,    42.87,2,     0.01,2,     3.13,2, -999.000,5, -999.000,5,    1.642,2,   1.8430,2,    15.54,2,   2333.1,2,   2343.4,2,     7.28,2,  0.2000,   0.150,  3.5469,   0.016
      325023_1,  P14N,     8,  1,     25,     25,3,19930708,1615, 55.4983,-176.8410, 3756,    461.0,   3.5113,  34.0558,2,  34.0265,4,   -999.0,9,     46.0,4,   118.57,4,    42.63,4,     0.01,4,     3.12,4, -999.000,5, -999.000,5, -999.000,9,-999.0000,9,  -999.00,9,   2320.2,3,   2330.4,2,  -999.00,9,-999.0000,-999.000,  3.4804,-999.000
      325023_1,  P14N,     8,  1,     24,     24,2,19930708,1615, 55.4983,-176.8410, 3756,    510.8,   3.4481,  34.0931,2,  34.0940,2,   -999.0,9,     28.2,2,   124.59,2,    43.36,2,     0.00,2,     3.17,2, -999.000,5, -999.000,5, -999.000,9,-999.0000,9,  -999.00,9,   2346.0,2,   2331.9,2,     7.27,2,-999.0000,-999.000,  3.4140,-999.000
      325023_1,  P14N,     8,  1,     23,     23,2,19930708,1615, 55.4983,-176.8410, 3756,    609.1,   3.3317,  34.1615,2,  34.1606,2,   -999.0,9,     22.1,2,   131.87,2,    43.54,2,     0.00,2,     3.19,2, -999.000,5, -999.000,5,    1.150,2,   1.8660,2,   -15.40,2,   2357.3,2,   2344.4,2,  -999.00,9,  0.2000,   0.150,  3.2910,   0.012
      325023_1,  P14N,     8,  1,     22,     22,2,19930708,1615, 55.4983,-176.8410, 3756,    708.8,   3.1961,  34.2274,2,  34.2264,2,   -999.0,9,     18.1,2,   138.64,2,    43.67,2,     0.00,2,     3.20,2, -999.000,5, -999.000,5, -999.000,9,-999.0000,9,  -999.00,9,   2364.4,2,   2349.7,2,     7.28,2,-999.0000,-999.000,  3.1488,-999.000
      325023_1,  P14N,     8,  1,     21,     21,2,19930708,1615, 55.4983,-176.8410, 3756,    811.4,   3.0459,  34.2835,2,  34.2816,2,   -999.0,9,     16.9,2,   145.68,2,    43.80,2,     0.00,2,     3.20,2, -999.000,5, -999.000,5,    0.995,2,   1.9730,2,    15.20,2,   2373.1,2,   2365.3,2,  -999.00,9,  0.2000,   0.150,  2.9920,   0.010
      325023_1,  P14N,     8,  1,     20,     20,2,19930708,1615, 55.4983,-176.8410, 3756,    915.0,   2.8953,  34.3307,2,  34.3284,2,   -999.0,9,     16.8,2,   152.46,2,    43.78,2,     0.00,2,     3.20,2, -999.000,5, -999.000,5, -999.000,9,-999.0000,9,  -999.00,9,   2378.9,2,   2369.3,2,     7.29,2,-999.0000,-999.000,  2.8348,-999.000
      325023_1,  P14N,     8,  1,     19,     19,2,19930708,1615, 55.4983,-176.8410, 3756,   1017.4,   2.7583,  34.3680,2,  34.3680,2,   -999.0,9,     17.6,2,   158.25,2,    43.59,2,     0.00,2,     3.20,2, -999.000,5, -999.000,5,    1.110,2,   1.7320,2,    16.48,2,   2381.9,2,   2377.2,2,  -999.00,9,  0.2000,   0.150,  2.6912,   0.011
      325023_1,  P14N,     8,  1,     18,     18,2,19930708,1615, 55.4983,-176.8410, 3756,   1115.4,   2.6521,  34.3987,2,  34.3952,2,   -999.0,9,     18.3,2,   163.04,2,    43.53,2,     0.00,2,     3.20,2, -999.000,5, -999.000,5, -999.000,9,-999.0000,9,  -999.00,9,   2385.9,2,   2390.2,2,  -999.00,9,-999.0000,-999.000,  2.5786,-999.000
      325023_1,  P14N,     8,  1,     17,     17,2,19930708,1615, 55.4983,-176.8410, 3756,   1216.9,   2.5412,  34.4276,2,  34.4266,2,   -999.0,9,     20.6,2,   168.33,2,    43.38,2,     0.00,2,     3.19,2, -999.000,5, -999.000,5, -999.000,9,   1.8080,2,    16.60,2,   2388.6,2,   2387.7,2,  -999.00,9,  0.2000,   0.150,  2.4611,-999.000
      325023_1,  P14N,     8,  1,     16,     16,2,19930708,1615, 55.4983,-176.8410, 3756,   1320.5,   2.4293,  34.4555,2,  34.4521,2,   -999.0,9,     22.6,2,   172.87,2,    43.27,2,     0.00,2,     3.18,2, -999.000,5, -999.000,5, -999.000,9,-999.0000,9,  -999.00,9,   2390.4,2,   2393.3,2,     7.31,2,-999.0000,-999.000,  2.3423,-999.000
      325023_1,  P14N,     8,  1,     15,     15,2,19930708,1615, 55.4983,-176.8410, 3756,   1419.8,   2.3175,  34.4818,2,  34.4795,2,   -999.0,9,     26.2,2,   178.68,2,    42.94,2,     0.00,2,     3.17,2, -999.000,5, -999.000,5,    0.738,2,   1.7810,2,    16.37,2,   2377.1,3,   2403.2,2,  -999.00,9,  0.2000,   0.150,  2.2240,   0.008
      325023_1,  P14N,     8,  1,     14,     14,2,19930708,1615, 55.4983,-176.8410, 3756,   1521.4,   2.2208,  34.5041,2,  34.5016,2,   -999.0,9,     30.8,2,   183.48,2,    42.65,2,     0.00,2,     3.16,2, -999.000,5, -999.000,5, -999.000,9,-999.0000,9,  -999.00,9,   2400.7,2,   2403.6,2,     7.33,2,-999.0000,-999.000,  2.1205,-999.000
      325023_1,  P14N,     8,  1,     13,     13,2,19930708,1615, 55.4983,-176.8410, 3756,   1617.7,   2.1306,  34.5254,2,  34.5248,2,   -999.0,9,     35.1,2,   187.27,2,    42.31,2,     0.00,2,     3.14,2, -999.000,5, -999.000,5,    0.700,2,   1.8830,2,    19.80,2,   2398.6,2,   -999.0,9,  -999.00,9,  0.2000,   0.150,  2.0238,   0.008
      325023_1,  P14N,     8,  1,     12,     12,2,19930708,1615, 55.4983,-176.8410, 3756,   1817.0,   1.9838,  34.5597,2,  34.5522,2,   -999.0,9,     43.9,2,   195.43,2,    41.52,2,     0.00,2,     3.11,2, -999.000,5, -999.000,5,    0.661,2,   1.8660,2,    20.50,2,   2398.2,2,   2419.2,2,     7.36,2,  0.2000,   0.150,  1.8629,   0.008
      325023_1,  P14N,     8,  1,     11,     11,2,19930708,1615, 55.4983,-176.8410, 3756,   2020.2,   1.8722,  34.5845,2,  34.5734,2,   -999.0,9,     52.8,2,   202.07,2,    40.68,2,     0.00,2,     3.10,2, -999.000,5, -999.000,5,    0.697,2,   1.7720,2,    17.84,2,   2394.9,2,   2414.5,2,  -999.00,9,  0.2000,   0.150,  1.7362,   0.008
      325023_1,  P14N,     8,  1,     10,     10,2,19930708,1615, 55.4983,-176.8410, 3756,   2227.0,   1.7853,  34.6047,2,  34.6003,2,   -999.0,9,     61.7,2,   208.22,2,    40.07,2,     0.00,2,     3.07,2, -999.000,5, -999.000,5,    0.686,2,   1.7946,2,    18.42,2,   2394.0,2,   2421.9,2,     7.40,2,  0.2000,   0.150,  1.6331,   0.008
      325023_1,  P14N,     8,  1,      9,      9,2,19930708,1615, 55.4983,-176.8410, 3756,   2434.6,   1.7205,  34.6204,2,  34.6144,2,   -999.0,9,     69.4,2,   212.30,2,    39.46,2,     0.00,2,     3.04,2, -999.000,5, -999.000,5,    0.632,2,   1.8030,2,    18.20,2,   2390.7,2,   2424.5,2,  -999.00,9,  0.2000,   0.150,  1.5514,   0.008
      325023_1,  P14N,     8,  1,      8,      8,2,19930708,1615, 55.4983,-176.8410, 3756,   2641.6,   1.6659,  34.6337,2,  34.6311,2,   -999.0,9,     77.0,2,   214.84,2,    39.04,2,     0.00,2,     3.01,2, -999.000,5, -999.000,5,    0.609,2,-999.0000,9,  -999.00,9,   2389.1,2,   2425.6,2,     7.44,2,-999.0000,-999.000,  1.4792,   0.008
      325023_1,  P14N,     8,  1,      7,      7,2,19930708,1615, 55.4983,-176.8410, 3756,   2849.9,   1.6297,  34.6435,2,  34.5346,4,   -999.0,9,     83.6,2,   217.65,2,    38.57,2,     0.00,2,     2.98,2, -999.000,5, -999.000,5,    0.617,2,   1.8480,2,    18.05,2,   2873.7,4,   2427.1,2,  -999.00,9,  0.2000,   0.150,  1.4244,   0.008
      325023_1,  P14N,     8,  1,      6,      6,2,19930708,1615, 55.4983,-176.8410, 3756,   3056.9,   1.6045,  34.6514,2,  34.6527,2,   -999.0,9,     89.5,2,   219.90,2,    38.15,2,     0.00,2,     2.95,2, -999.000,5, -999.000,5,    0.574,2,   1.7940,2,    17.10,2,   2382.9,2,   2429.7,2,     7.46,2,  0.2000,   0.150,  1.3801,   0.008
      325023_1,  P14N,     8,  1,      5,      5,2,19930708,1615, 55.4983,-176.8410, 3756,   3253.1,   1.5941,  34.6568,2,  34.6576,2,   -999.0,9,     92.9,2,   221.65,2,    37.77,2,     0.00,2,     2.94,2, -999.000,5, -999.000,5,    0.553,2,   1.8120,2,    15.78,2,   2381.3,2,   2430.3,2,  -999.00,9,  0.2000,   0.150,  1.3507,   0.008
      325023_1,  P14N,     8,  1,      4,      4,2,19930708,1615, 55.4983,-176.8410, 3756,   3461.7,   1.5916,  34.6607,2,  34.6599,2,   -999.0,9,     95.1,2,   224.19,2,    37.72,2,     0.00,2,     2.94,2,    0.002,2,    0.005,2,    0.559,2,   1.8250,2,    15.90,2,   2381.2,2,   2432.0,2,     7.48,2,  0.2000,   0.150,  1.3272,   0.008
      325023_1,  P14N,     8,  1,      3,      3,2,19930708,1615, 55.4983,-176.8410, 3756,   3669.6,   1.5985,  34.6650,2,  34.6646,2,   -999.0,9,     94.2,2,   240.77,2,    37.62,2,     0.00,2,     2.96,2,    0.014,2,    0.008,2, -999.000,9,-999.0000,9,  -999.00,9,   2385.5,2,   2439.0,2,  -999.00,9,-999.0000,-999.000,  1.3124,-999.000
      325023_1,  P14N,     8,  1,      1,      1,2,19930708,1615, 55.4983,-176.8410, 3756,   3803.4,   1.6076,  34.6661,2,  34.6652,2,   -999.0,9,     96.2,2,   238.70,2,    37.42,2,     0.00,2,     2.95,2,    0.014,2,    0.003,2,    0.526,2,   1.7450,2,    15.30,2,   2382.5,2,   2441.8,2,  -999.00,9,  0.2000,   0.150,  1.3071,   0.008
      325023_1,  P14N,     8,  1,      2,      2,2,19930708,1615, 55.4983,-176.8410, 3756,   3804.2,   1.6078,  34.6660,2,  34.6654,2,   -999.0,9,     96.2,2,   239.60,2,    37.52,2,     0.00,2,     2.95,2,    0.021,2,    0.009,2, -999.000,9,-999.0000,9,  -999.00,9,   2381.5,2,   2436.5,2,     7.48,2,-999.0000,-999.000,  1.3072,-999.000