BOTTLE,20131125MIRCJHATS
EXPOCODE,SECT_ID,STNNBR,CASTNO,SAMPNO,BTLNBR,BTLNBR_FLAG_W,DATE,TIME,LATITUDE,LONGITUDE,DEPTH,CTDPRS,CTDTMP,CTDSAL,CTDSAL_FLAG_W,SALNTY,SALNTY_FLAG_W,CTDOXY,CTDOXY_FLAG_W,OXYGEN,OXYGEN_FLAG_W,SILCAT,SILCAT_FLAG_W,NITRAT,NITRAT_FLAG_W,NITRIT,NITRIT_FLAG_W,PHSPHT,PHSPHT_FLAG_W,CFC-11,CFC-11_FLAG_W,CFC-12,CFC-12_FLAG_W,TRITUM,TRITUM_FLAG_W,HELIUM,HELIUM_FLAG_W,DELHE3,DELHE3_FLAG_W,TCARBN,TCARBN_FLAG_W,ALKALI,ALKALI_FLAG_W,PH,PH_FLAG_W,HELIER,DELHER,THETA,TRITER
,,,,,,,,,,,,DBAR,ITS-90,PSS-78,,PSS-78,,UMOL/KG,,UMOL/KG,,UMOL/KG,,UMOL/KG,,UMOL/KG,,UMOL/KG,,PMOL/KG,,PMOL/KG,,TU,,NMOL/KG,,PERCNT,,UMOL/KG,,UMOL/KG,,25_DEG,,NMOL/KG,PERCNT,DEG C,TU
      325024_1,  P14N,   161,  1,     36,     36,2,19930823,0340, -4.5058, 179.0067, 5599,      3.2,  29.8901,  34.3558,2,  34.3613,2,   -999.0,9,    194.9,2,     2.73,2,     0.03,2,     0.00,2,     0.20,2,    1.583,2,    0.874,2, -999.000,9,-999.0000,9,  -999.00,9,   -999.0,9,   -999.0,9,  -999.00,9,-999.0000,-999.000, 29.8893,-999.000
      325024_1,  P14N,   161,  1,     35,     35,2,19930823,0340, -4.5058, 179.0067, 5599,     37.5,  29.9901,  34.5941,2,  34.6403,2,   -999.0,9,    194.2,2,     2.68,2,     0.03,2,     0.00,2,     0.21,2,    1.535,2,    0.841,2, -999.000,9,-999.0000,9,  -999.00,9,   -999.0,9,   -999.0,9,  -999.00,9,-999.0000,-999.000, 29.9808,-999.000
      325024_1,  P14N,   161,  1,     34,     34,2,19930823,0340, -4.5058, 179.0067, 5599,     67.2,  30.0422,  34.8512,2,  34.8743,2,   -999.0,9,    196.4,2,     2.43,2,     0.02,2,     0.00,2,     0.21,2,    1.530,2,    0.837,2, -999.000,9,-999.0000,9,  -999.00,9,   -999.0,9,   -999.0,9,  -999.00,9,-999.0000,-999.000, 30.0256,-999.000
      325024_1,  P14N,   161,  1,     33,     33,2,19930823,0340, -4.5058, 179.0067, 5599,     97.2,  28.8841,  35.3456,2,  35.3463,2,   -999.0,9,    187.3,2,     2.57,2,     1.12,2,     0.33,2,     0.41,2,    1.604,2,    0.872,2, -999.000,9,-999.0000,9,  -999.00,9,   -999.0,9,   -999.0,9,  -999.00,9,-999.0000,-999.000, 28.8606,-999.000
      325024_1,  P14N,   161,  1,     32,     32,2,19930823,0340, -4.5058, 179.0067, 5599,    126.0,  27.6453,  35.4880,2,  35.4965,2,   -999.0,9,    163.3,2,     2.71,2,     3.89,2,     1.81,2,     0.65,2,    1.665,2,    0.903,2, -999.000,9,-999.0000,9,  -999.00,9,   -999.0,9,   -999.0,9,  -999.00,9,-999.0000,-999.000, 27.6158,-999.000
      325024_1,  P14N,   161,  1,     31,     31,2,19930823,0340, -4.5058, 179.0067, 5599,    157.1,  24.4567,  35.9345,2,  35.9335,2,   -999.0,9,    138.3,2,     2.86,2,     8.11,2,     0.32,2,     0.85,2,    1.111,2,    0.561,2, -999.000,9,-999.0000,9,  -999.00,9,   -999.0,9,   -999.0,9,  -999.00,9,-999.0000,-999.000, 24.4230,-999.000
      325024_1,  P14N,   161,  1,     30,     30,2,19930823,0340, -4.5058, 179.0067, 5599,    207.1,  16.3515,  35.3298,2,  35.3093,2,   -999.0,9,     98.6,2,    10.46,2,    18.10,2,     0.01,2,     1.47,2,    1.125,3,    0.579,3, -999.000,9,-999.0000,9,  -999.00,9,   -999.0,9,   -999.0,9,  -999.00,9,-999.0000,-999.000, 16.3181,-999.000
      325024_1,  P14N,   161,  1,     29,     29,2,19930823,0340, -4.5058, 179.0067, 5599,    257.1,  13.0368,  35.0029,2,  35.0013,2,   -999.0,9,     88.6,2,    16.68,2,    23.35,2,     0.01,2,     1.77,2,    0.630,2,    0.312,2, -999.000,9,-999.0000,9,  -999.00,9,   -999.0,9,   -999.0,9,  -999.00,9,-999.0000,-999.000, 13.0012,-999.000
      325024_1,  P14N,   161,  1,     28,     28,2,19930823,0340, -4.5058, 179.0067, 5599,    307.2,  11.1542,  34.8300,2,  34.8277,2,   -999.0,9,     83.7,2,    20.93,2,    26.79,2,     0.00,2,     1.99,2,    0.328,2,    0.153,2, -999.000,9,-999.0000,9,  -999.00,9,   -999.0,9,   -999.0,9,  -999.00,9,-999.0000,-999.000, 11.1158,-999.000
      325024_1,  P14N,   161,  1,     27,     27,2,19930823,0340, -4.5058, 179.0067, 5599,    407.6,   9.0723,  34.6803,2,  34.6799,2,   -999.0,9,     80.2,2,    29.69,2,    31.81,2,     0.00,2,     2.24,2,    0.113,2,    0.058,2, -999.000,9,-999.0000,9,  -999.00,9,   -999.0,9,   -999.0,9,  -999.00,9,-999.0000,-999.000,  9.0275,-999.000
      325024_1,  P14N,   161,  1,     26,     26,2,19930823,0340, -4.5058, 179.0067, 5599,    507.5,   7.9789,  34.6232,2,  34.6234,2,   -999.0,9,     60.4,2,    39.04,2,    36.68,2,     0.00,2,     2.54,2,    0.028,2,    0.014,2, -999.000,9,-999.0000,9,  -999.00,9,   -999.0,9,   -999.0,9,  -999.00,9,-999.0000,-999.000,  7.9269,-999.000
      325024_1,  P14N,   161,  1,     25,     25,2,19930823,0340, -4.5058, 179.0067, 5599,    607.6,   6.7839,  34.5626,2,  34.5624,2,   -999.0,9,     85.2,2,    45.64,2,    36.77,2,     0.00,2,     2.55,2,    0.016,2,    0.006,2, -999.000,9,-999.0000,9,  -999.00,9,   -999.0,9,   -999.0,9,  -999.00,9,-999.0000,-999.000,  6.7267,-999.000
      325024_1,  P14N,   161,  1,     24,     24,2,19930823,0340, -4.5058, 179.0067, 5599,    707.6,   6.0121,  34.5489,2,  34.5508,2,   -999.0,9,     75.4,2,    57.73,2,    38.88,2,     0.00,2,     2.71,2,    0.013,4,    0.006,2, -999.000,9,-999.0000,9,  -999.00,9,   -999.0,9,   -999.0,9,  -999.00,9,-999.0000,-999.000,  5.9491,-999.000
      325024_1,  P14N,   161,  1,     22,     22,2,19930823,0340, -4.5058, 179.0067, 5599,    807.1,   5.3971,  34.5327,2,  34.5324,2,   -999.0,9,     98.6,2,    63.06,2,    37.30,2,     0.00,2,     2.60,2,    0.007,2,   -0.001,2, -999.000,9,-999.0000,9,  -999.00,9,   -999.0,9,   -999.0,9,  -999.00,9,-999.0000,-999.000,  5.3285,-999.000
      325024_1,  P14N,   161,  1,     23,     23,2,19930823,0340, -4.5058, 179.0067, 5599,    807.3,   5.4098,  34.5321,2,  34.5330,2,   -999.0,9,     98.9,2,    63.34,2,    37.26,2,     0.00,2,     2.62,2,    0.007,2,    0.005,2, -999.000,9,-999.0000,9,  -999.00,9,   -999.0,9,   -999.0,9,  -999.00,9,-999.0000,-999.000,  5.3411,-999.000
      325024_1,  P14N,   161,  1,     21,     21,2,19930823,0340, -4.5058, 179.0067, 5599,    907.7,   4.9924,  34.5358,2,  34.5375,2,   -999.0,9,     98.2,2,    70.84,2,    37.75,2,     0.00,2,     2.65,2,    0.003,2,    0.004,2, -999.000,9,-999.0000,9,  -999.00,9,   -999.0,9,   -999.0,9,  -999.00,9,-999.0000,-999.000,  4.9174,-999.000
      325024_1,  P14N,   161,  1,     20,     20,2,19930823,0340, -4.5058, 179.0067, 5599,   1007.5,   4.6339,  34.5398,2,  34.5410,2,   -999.0,9,    102.7,2,    77.64,2,    37.61,2,     0.00,2,     2.67,2,    0.004,2,    0.000,2, -999.000,9,-999.0000,9,  -999.00,9,   -999.0,9,   -999.0,9,  -999.00,9,-999.0000,-999.000,  4.5526,-999.000
      325024_1,  P14N,   161,  1,     19,     19,2,19930823,0340, -4.5058, 179.0067, 5599,   1207.0,   3.9399,  34.5555,2,  34.5551,2,   -999.0,9,    108.8,2,    89.59,2,    37.74,2,     0.00,2,     2.67,2, -999.000,5, -999.000,5, -999.000,9,-999.0000,9,  -999.00,9,   -999.0,9,   -999.0,9,  -999.00,9,-999.0000,-999.000,  3.8472,-999.000
      325024_1,  P14N,   161,  1,     18,     18,2,19930823,0340, -4.5058, 179.0067, 5599,   1407.8,   3.2361,  34.5839,2,  34.5835,2,   -999.0,9,    113.7,2,   106.19,2,    37.74,2,     0.00,2,     2.68,2, -999.000,5, -999.000,5, -999.000,9,-999.0000,9,  -999.00,9,   -999.0,9,   -999.0,9,  -999.00,9,-999.0000,-999.000,  3.1333,-999.000
      325024_1,  P14N,   161,  1,     17,     17,2,19930823,0340, -4.5058, 179.0067, 5599,   1608.3,   2.8397,  34.6026,2,  34.6018,2,   -999.0,9,    116.6,2,   115.49,2,    37.74,2,     0.00,2,     2.66,2, -999.000,5, -999.000,5, -999.000,9,-999.0000,9,  -999.00,9,   -999.0,9,   -999.0,9,  -999.00,9,-999.0000,-999.000,  2.7247,-999.000
      325024_1,  P14N,   161,  1,     16,     16,2,19930823,0340, -4.5058, 179.0067, 5599,   1810.4,   2.5045,  34.6221,2,  34.6361,4,   -999.0,9,    117.1,2,   125.25,2,    37.92,2,     0.00,2,     2.67,2, -999.000,5, -999.000,5, -999.000,9,-999.0000,9,  -999.00,9,   -999.0,9,   -999.0,9,  -999.00,9,-999.0000,-999.000,  2.3767,-999.000
      325024_1,  P14N,   161,  1,     15,     15,2,19930823,0340, -4.5058, 179.0067, 5599,   2011.3,   2.2494,  34.6361,2,  34.6357,2,   -999.0,9,    122.3,2,   131.42,2,    37.69,2,     0.00,2,     2.64,2,   -0.004,2,    0.000,2, -999.000,9,-999.0000,9,  -999.00,9,   -999.0,9,   -999.0,9,  -999.00,9,-999.0000,-999.000,  2.1082,-999.000
      325024_1,  P14N,   161,  1,     14,     14,2,19930823,0340, -4.5058, 179.0067, 5599,   2213.3,   2.0647,  34.6471,2,  34.6463,2,   -999.0,9,    123.7,2,   137.83,2,    37.64,2,     0.00,2,     2.64,2, -999.000,5, -999.000,5, -999.000,9,-999.0000,9,  -999.00,9,   -999.0,9,   -999.0,9,  -999.00,9,-999.0000,-999.000,  1.9089,-999.000
      325024_1,  P14N,   161,  1,     13,     13,2,19930823,0340, -4.5058, 179.0067, 5599,   2415.9,   1.9436,  34.6542,2,  34.6531,2,   -999.0,9,    128.5,2,   139.75,2,    37.37,2,     0.00,2,     2.60,2, -999.000,5, -999.000,5, -999.000,9,-999.0000,9,  -999.00,9,   -999.0,9,   -999.0,9,  -999.00,9,-999.0000,-999.000,  1.7719,-999.000
      325024_1,  P14N,   161,  1,     12,     12,2,19930823,0340, -4.5058, 179.0067, 5599,   2618.7,   1.8450,  34.6598,2,  34.6606,2,   -999.0,9,    131.6,2,   142.29,2,    37.23,2,     0.00,2,     2.60,2, -999.000,5, -999.000,5, -999.000,9,-999.0000,9,  -999.00,9,   -999.0,9,   -999.0,9,  -999.00,9,-999.0000,-999.000,  1.6568,-999.000
      325024_1,  P14N,   161,  1,     11,     11,2,19930823,0340, -4.5058, 179.0067, 5599,   2821.6,   1.7437,  34.6663,2,  34.6661,2,   -999.0,9,    137.9,2,   142.57,2,    36.83,2,     0.00,2,     2.54,2, -999.000,5, -999.000,5, -999.000,9,-999.0000,9,  -999.00,9,   -999.0,9,   -999.0,9,  -999.00,9,-999.0000,-999.000,  1.5386,-999.000
      325024_1,  P14N,   161,  1,     10,     10,2,19930823,0340, -4.5058, 179.0067, 5599,   3025.3,   1.6457,  34.6737,2,  34.6741,2,   -999.0,9,    146.8,2,   140.59,2,    36.07,2,     0.00,2,     2.49,2,    0.000,2,    0.001,2, -999.000,9,-999.0000,9,  -999.00,9,   -999.0,9,   -999.0,9,  -999.00,9,-999.0000,-999.000,  1.4233,-999.000
      325024_1,  P14N,   161,  1,      9,      9,2,19930823,0340, -4.5058, 179.0067, 5599,   3330.7,   1.5506,  34.6804,2,  34.6798,2,   -999.0,9,    153.4,2,   140.05,2,    35.59,2,     0.00,2,     2.48,2, -999.000,5, -999.000,5, -999.000,9,-999.0000,9,  -999.00,9,   -999.0,9,   -999.0,9,  -999.00,9,-999.0000,-999.000,  1.3003,-999.000
      325024_1,  P14N,   161,  1,      8,      8,2,19930823,0340, -4.5058, 179.0067, 5599,   3636.5,   1.4702,  34.6853,2,  34.6847,2,   -999.0,9,    159.3,2,   139.72,2,    35.19,2,     0.00,2,     2.45,2, -999.000,5, -999.000,5, -999.000,9,-999.0000,9,  -999.00,9,   -999.0,9,   -999.0,9,  -999.00,9,-999.0000,-999.000,  1.1908,-999.000
      325024_1,  P14N,   161,  1,      7,      7,2,19930823,0340, -4.5058, 179.0067, 5599,   3942.5,   1.3998,  34.6910,2,  34.6914,2,   -999.0,9,    166.4,2,   139.18,2,    34.66,2,     0.00,2,     2.41,2, -999.000,5, -999.000,5, -999.000,9,-999.0000,9,  -999.00,9,   -999.0,9,   -999.0,9,  -999.00,9,-999.0000,-999.000,  1.0899,-999.000
      325024_1,  P14N,   161,  1,      6,      6,2,19930823,0340, -4.5058, 179.0067, 5599,   4247.4,   1.3512,  34.6951,2,  34.6959,2,   -999.0,9,    174.3,2,   135.38,2,    34.17,2,     0.00,2,     2.36,2, -999.000,5, -999.000,5, -999.000,9,-999.0000,9,  -999.00,9,   -999.0,9,   -999.0,9,  -999.00,9,-999.0000,-999.000,  1.0093,-999.000
      325024_1,  P14N,   161,  1,      5,      5,2,19930823,0340, -4.5058, 179.0067, 5599,   4554.0,   1.2852,  34.7006,2,  34.7010,2,   -999.0,9,    187.2,2,   127.15,2,    33.08,2,     0.00,2,     2.29,2, -999.000,5, -999.000,5, -999.000,9,-999.0000,9,  -999.00,9,   -999.0,9,   -999.0,9,  -999.00,9,-999.0000,-999.000,  0.9106,-999.000
      325024_1,  P14N,   161,  1,      4,      4,2,19930823,0340, -4.5058, 179.0067, 5599,   4860.2,   1.2314,  34.7045,2,  34.7045,2,   -999.0,9,    195.1,2,   123.60,2,    32.51,2,     0.00,2,     2.25,2, -999.000,5, -999.000,5, -999.000,9,-999.0000,9,  -999.00,9,   -999.0,9,   -999.0,9,  -999.00,9,-999.0000,-999.000,  0.8228,-999.000
      325024_1,  P14N,   161,  1,      3,      3,2,19930823,0340, -4.5058, 179.0067, 5599,   5166.2,   1.2534,  34.7049,2,  34.7045,2,   -999.0,9,    196.4,2,   123.69,2,    32.51,2,     0.00,2,     2.24,2, -999.000,5, -999.000,5, -999.000,9,-999.0000,9,  -999.00,9,   -999.0,9,   -999.0,9,  -999.00,9,-999.0000,-999.000,  0.8072,-999.000
      325024_1,  P14N,   161,  1,      2,      2,2,19930823,0340, -4.5058, 179.0067, 5599,   5473.7,   1.2898,  34.7048,2,  34.7053,2,   -999.0,9,    196.6,2,   123.57,2,    32.46,2,     0.00,2,     2.24,2, -999.000,5, -999.000,5, -999.000,9,-999.0000,9,  -999.00,9,   -999.0,9,   -999.0,9,  -999.00,9,-999.0000,-999.000,  0.8042,-999.000
      325024_1,  P14N,   161,  1,      1,      1,2,19930823,0340, -4.5058, 179.0067, 5599,   5709.8,   1.3178,  34.7047,2,  34.7051,2,   -999.0,9,    194.2,2,   124.25,2,    32.59,2,     0.00,2,     2.25,2,   -0.001,2,    0.001,2, -999.000,9,-999.0000,9,  -999.00,9,   -999.0,9,   -999.0,9,  -999.00,9,-999.0000,-999.000,  0.8009,-999.000