BOTTLE,20131125MIRCJHATS
EXPOCODE,SECT_ID,STNNBR,CASTNO,SAMPNO,BTLNBR,BTLNBR_FLAG_W,DATE,TIME,LATITUDE,LONGITUDE,DEPTH,CTDPRS,CTDTMP,CTDSAL,CTDSAL_FLAG_W,SALNTY,SALNTY_FLAG_W,CTDOXY,CTDOXY_FLAG_W,OXYGEN,OXYGEN_FLAG_W,SILCAT,SILCAT_FLAG_W,NITRAT,NITRAT_FLAG_W,NITRIT,NITRIT_FLAG_W,PHSPHT,PHSPHT_FLAG_W,CFC-11,CFC-11_FLAG_W,CFC-12,CFC-12_FLAG_W,TRITUM,TRITUM_FLAG_W,HELIUM,HELIUM_FLAG_W,DELHE3,DELHE3_FLAG_W,TCARBN,TCARBN_FLAG_W,ALKALI,ALKALI_FLAG_W,PH,PH_FLAG_W,HELIER,DELHER,THETA,TRITER
,,,,,,,,,,,,DBAR,ITS-90,PSS-78,,PSS-78,,UMOL/KG,,UMOL/KG,,UMOL/KG,,UMOL/KG,,UMOL/KG,,UMOL/KG,,PMOL/KG,,PMOL/KG,,TU,,NMOL/KG,,PERCNT,,UMOL/KG,,UMOL/KG,,25_DEG,,NMOL/KG,PERCNT,DEG C,TU
      325023_1,  P14N,   114,  1,     36,     36,2,19930805,1841,  7.2452, 178.9998, 5642,      3.5,  28.7734,  34.2681,2,  34.2732,2,   -999.0,9,    196.6,2,     2.35,2,     0.07,2,     0.00,2,     0.19,2, -999.000,5, -999.000,5, -999.000,9,-999.0000,9,  -999.00,9,   -999.0,9,   -999.0,9,  -999.00,9,-999.0000,-999.000, 28.7726,-999.000
      325023_1,  P14N,   114,  1,     35,     35,2,19930805,1841,  7.2452, 178.9998, 5642,     38.3,  28.7805,  34.2727,2,  34.2769,2,   -999.0,9,    196.3,2,     2.09,2,     0.07,2,     0.00,2,     0.19,2, -999.000,5, -999.000,5, -999.000,9,-999.0000,9,  -999.00,9,   -999.0,9,   -999.0,9,  -999.00,9,-999.0000,-999.000, 28.7714,-999.000
      325023_1,  P14N,   114,  1,     34,     34,2,19930805,1841,  7.2452, 178.9998, 5642,     68.8,  28.4137,  34.5046,2,  34.5060,2,   -999.0,9,    197.1,2,     2.03,2,     0.07,2,     0.00,2,     0.19,2, -999.000,5, -999.000,5, -999.000,9,-999.0000,9,  -999.00,9,   -999.0,9,   -999.0,9,  -999.00,9,-999.0000,-999.000, 28.3973,-999.000
      325023_1,  P14N,   114,  1,     33,     33,2,19930805,1841,  7.2452, 178.9998, 5642,     99.4,  22.8091,  34.7258,2,  34.7115,2,   -999.0,9,    171.9,2,     4.18,2,     1.97,2,     0.42,2,     0.42,2, -999.000,5, -999.000,5, -999.000,9,-999.0000,9,  -999.00,9,   -999.0,9,   -999.0,9,  -999.00,9,-999.0000,-999.000, 22.7890,-999.000
      325023_1,  P14N,   114,  1,     32,     32,2,19930805,1841,  7.2452, 178.9998, 5642,    130.0,  15.9658,  34.6601,2,  34.6605,2,   -999.0,9,    121.6,2,    13.92,2,    14.83,2,     0.03,2,     1.15,2, -999.000,5, -999.000,5, -999.000,9,-999.0000,9,  -999.00,9,   -999.0,9,   -999.0,9,  -999.00,9,-999.0000,-999.000, 15.9454,-999.000
      325023_1,  P14N,   114,  1,     31,     31,2,19930805,1841,  7.2452, 178.9998, 5642,    159.3,  13.4444,  34.5858,2,  34.5877,2,   -999.0,9,     90.2,2,    21.66,2,    21.83,2,     0.01,2,     1.62,2, -999.000,5, -999.000,5, -999.000,9,-999.0000,9,  -999.00,9,   -999.0,9,   -999.0,9,  -999.00,9,-999.0000,-999.000, 13.4221,-999.000
      325023_1,  P14N,   114,  1,     30,     30,2,19930805,1841,  7.2452, 178.9998, 5642,    207.9,  10.7956,  34.6299,2,  34.6276,2,   -999.0,9,     39.3,2,    32.59,2,    31.75,2,     0.01,2,     2.28,2, -999.000,5, -999.000,5, -999.000,9,-999.0000,9,  -999.00,9,   -999.0,9,   -999.0,9,  -999.00,9,-999.0000,-999.000, 10.7704,-999.000
      325023_1,  P14N,   114,  1,     29,     29,2,19930805,1841,  7.2452, 178.9998, 5642,    258.2,   9.9012,  34.6596,2,  34.6582,2,   -999.0,9,     33.3,2,    35.91,2,    34.10,2,     0.00,2,     2.40,2, -999.000,5, -999.000,5, -999.000,9,-999.0000,9,  -999.00,9,   -999.0,9,   -999.0,9,  -999.00,9,-999.0000,-999.000,  9.8715,-999.000
      325023_1,  P14N,   114,  1,     28,     28,2,19930805,1841,  7.2452, 178.9998, 5642,    308.5,   9.4565,  34.6517,2,  34.6507,2,   -999.0,9,     32.0,2,    37.84,2,    35.12,2,     0.00,2,     2.47,2, -999.000,5, -999.000,5, -999.000,9,-999.0000,9,  -999.00,9,   -999.0,9,   -999.0,9,  -999.00,9,-999.0000,-999.000,  9.4219,-999.000
      325023_1,  P14N,   114,  1,     27,     27,2,19930805,1841,  7.2452, 178.9998, 5642,    410.1,   8.7512,  34.6257,2,  34.6242,2,   -999.0,9,     42.7,2,    40.96,2,    35.65,2,     0.00,2,     2.50,2, -999.000,5, -999.000,5, -999.000,9,-999.0000,9,  -999.00,9,   -999.0,9,   -999.0,9,  -999.00,9,-999.0000,-999.000,  8.7070,-999.000
      325023_1,  P14N,   114,  1,     26,     26,2,19930805,1841,  7.2452, 178.9998, 5642,    511.8,   7.9198,  34.5879,2,  34.5864,2,   -999.0,9,     37.4,2,    48.47,2,    37.46,2,     0.00,2,     2.68,2, -999.000,5, -999.000,5, -999.000,9,-999.0000,9,  -999.00,9,   -999.0,9,   -999.0,9,  -999.00,9,-999.0000,-999.000,  7.8676,-999.000
      325023_1,  P14N,   114,  1,     25,     25,2,19930805,1841,  7.2452, 178.9998, 5642,    612.9,   7.1182,  34.5639,2,  34.5626,2,   -999.0,9,     32.8,2,    57.78,2,    39.79,2,     0.00,2,     2.82,2, -999.000,5, -999.000,5, -999.000,9,-999.0000,9,  -999.00,9,   -999.0,9,   -999.0,9,  -999.00,9,-999.0000,-999.000,  7.0590,-999.000
      325023_1,  P14N,   114,  1,     24,     24,2,19930805,1841,  7.2452, 178.9998, 5642,    713.6,   6.2459,  34.5458,2,  34.5462,2,   -999.0,9,     37.0,2,    67.51,2,    41.27,2,     0.00,2,     2.91,2, -999.000,5, -999.000,5, -999.000,9,-999.0000,9,  -999.00,9,   -999.0,9,   -999.0,9,  -999.00,9,-999.0000,-999.000,  6.1811,-999.000
      325023_1,  P14N,   114,  1,     23,     23,2,19930805,1841,  7.2452, 178.9998, 5642,    812.8,   5.5262,  34.5435,2,  34.5434,2,   -999.0,9,     46.5,2,    77.04,2,    41.55,2,     0.00,2,     2.93,2, -999.000,5, -999.000,5, -999.000,9,-999.0000,9,  -999.00,9,   -999.0,9,   -999.0,9,  -999.00,9,-999.0000,-999.000,  5.4562,-999.000
      325023_1,  P14N,   114,  1,     22,     22,2,19930805,1841,  7.2452, 178.9998, 5642,    912.7,   4.9652,  34.5512,2,  34.5501,2,   -999.0,9,     47.4,2,    86.59,2,    42.48,2,     0.00,2,     2.99,2, -999.000,5, -999.000,5, -999.000,9,-999.0000,9,  -999.00,9,   -999.0,9,   -999.0,9,  -999.00,9,-999.0000,-999.000,  4.8899,-999.000
      325023_1,  P14N,   114,  1,     21,     21,2,19930805,1841,  7.2452, 178.9998, 5642,   1014.1,   4.5041,  34.5578,2,  34.5571,2,   -999.0,9,     59.8,2,    94.96,2,    41.68,2,     0.00,2,     2.93,2, -999.000,5, -999.000,5, -999.000,9,-999.0000,9,  -999.00,9,   -999.0,9,   -999.0,9,  -999.00,9,-999.0000,-999.000,  4.4232,-999.000
      325023_1,  P14N,   114,  1,     20,     20,2,19930805,1841,  7.2452, 178.9998, 5642,   1217.2,   3.7463,  34.5790,2,  34.5770,2,   -999.0,9,     65.4,2,   111.48,2,    41.58,2,     0.00,2,     2.94,2, -999.000,5, -999.000,5, -999.000,9,-999.0000,9,  -999.00,9,   -999.0,9,   -999.0,9,  -999.00,9,-999.0000,-999.000,  3.6545,-999.000
      325023_1,  P14N,   114,  1,     19,     19,2,19930805,1841,  7.2452, 178.9998, 5642,   1419.2,   3.2075,  34.5945,2,  34.5930,2,   -999.0,9,     77.8,2,   122.41,2,    40.82,2,     0.00,2,     2.88,2, -999.000,5, -999.000,5, -999.000,9,-999.0000,9,  -999.00,9,   -999.0,9,   -999.0,9,  -999.00,9,-999.0000,-999.000,  3.1040,-999.000
      325023_1,  P14N,   114,  1,     18,     18,2,19930805,1841,  7.2452, 178.9998, 5642,   1620.8,   2.7671,  34.6102,2,  34.6103,2,   -999.0,9,     89.1,2,   131.56,2,    40.16,2,     0.00,2,     2.80,2, -999.000,5, -999.000,5, -999.000,9,-999.0000,9,  -999.00,9,   -999.0,9,   -999.0,9,  -999.00,9,-999.0000,-999.000,  2.6519,-999.000
      325023_1,  P14N,   114,  1,     17,     17,2,19930805,1841,  7.2452, 178.9998, 5642,   1819.2,   2.4531,  34.6259,2,  34.6250,2,   -999.0,9,     97.3,2,   138.48,2,    39.65,2,     0.00,2,     2.76,2, -999.000,5, -999.000,5, -999.000,9,-999.0000,9,  -999.00,9,   -999.0,9,   -999.0,9,  -999.00,9,-999.0000,-999.000,  2.3253,-999.000
      325023_1,  P14N,   114,  1,     16,     16,2,19930805,1841,  7.2452, 178.9998, 5642,   2021.6,   2.2033,  34.6392,2,  34.6383,2,   -999.0,9,    101.7,2,   145.66,2,    39.55,2,     0.00,2,     2.74,2, -999.000,5, -999.000,5, -999.000,9,-999.0000,9,  -999.00,9,   -999.0,9,   -999.0,9,  -999.00,9,-999.0000,-999.000,  2.0619,-999.000
      325023_1,  P14N,   114,  1,     15,     15,2,19930805,1841,  7.2452, 178.9998, 5642,   2225.8,   2.0125,  34.6498,2,  34.6491,2,   -999.0,9,    109.3,2,   149.08,2,    38.95,2,     0.00,2,     2.69,2, -999.000,5, -999.000,5, -999.000,9,-999.0000,9,  -999.00,9,   -999.0,9,   -999.0,9,  -999.00,9,-999.0000,-999.000,  1.8565,-999.000
      325023_1,  P14N,   114,  1,     14,     14,2,19930805,1841,  7.2452, 178.9998, 5642,   2429.5,   1.8883,  34.6566,2,  34.6560,2,   -999.0,9,    115.6,2,   150.20,2,    38.53,2,     0.00,2,     2.66,2, -999.000,5, -999.000,5, -999.000,9,-999.0000,9,  -999.00,9,   -999.0,9,   -999.0,9,  -999.00,9,-999.0000,-999.000,  1.7164,-999.000
      325023_1,  P14N,   114,  1,     13,     13,2,19930805,1841,  7.2452, 178.9998, 5642,   2633.0,   1.8113,  34.6634,2,  34.6627,2,   -999.0,9,    119.2,2,   151.96,2,    38.34,2,     0.00,2,     2.63,2, -999.000,5, -999.000,5, -999.000,9,-999.0000,9,  -999.00,9,   -999.0,9,   -999.0,9,  -999.00,9,-999.0000,-999.000,  1.6224,-999.000
      325023_1,  P14N,   114,  1,     12,     12,2,19930805,1841,  7.2452, 178.9998, 5642,   2838.3,   1.7308,  34.6674,2,  34.6678,2,   -999.0,9,    125.2,2,   152.02,2,    37.93,2,     0.00,2,     2.60,2, -999.000,5, -999.000,5, -999.000,9,-999.0000,9,  -999.00,9,   -999.0,9,   -999.0,9,  -999.00,9,-999.0000,-999.000,  1.5244,-999.000
      325023_1,  P14N,   114,  1,     11,     11,2,19930805,1841,  7.2452, 178.9998, 5642,   3044.0,   1.6558,  34.6716,2,  34.6715,2,   -999.0,9,    131.8,2,   151.88,2,    37.42,2,     0.00,2,     2.57,2, -999.000,5, -999.000,5, -999.000,9,-999.0000,9,  -999.00,9,   -999.0,9,   -999.0,9,  -999.00,9,-999.0000,-999.000,  1.4313,-999.000
      325023_1,  P14N,   114,  1,     10,     10,2,19930805,1841,  7.2452, 178.9998, 5642,   3351.2,   1.5550,  34.6780,2,  34.6774,2,   -999.0,9,    141.7,2,   149.42,2,    36.78,2,     0.00,2,     2.51,2, -999.000,5, -999.000,5, -999.000,9,-999.0000,9,  -999.00,9,   -999.0,9,   -999.0,9,  -999.00,9,-999.0000,-999.000,  1.3025,-999.000
      325023_1,  P14N,   114,  1,      9,      9,2,19930805,1841,  7.2452, 178.9998, 5642,   3658.0,   1.4511,  34.6850,2,  34.6845,2,   -999.0,9,    153.8,2,   146.14,2,    36.01,2,     0.00,2,     2.44,2, -999.000,5, -999.000,5, -999.000,9,-999.0000,9,  -999.00,9,   -999.0,9,   -999.0,9,  -999.00,9,-999.0000,-999.000,  1.1699,-999.000
      325023_1,  P14N,   114,  1,      8,      8,2,19930805,1841,  7.2452, 178.9998, 5642,   3968.4,   1.3754,  34.6909,2,  34.6901,2,   -999.0,9,    164.8,2,   141.41,2,    35.11,2,     0.00,2,     2.39,2, -999.000,5, -999.000,5, -999.000,9,-999.0000,9,  -999.00,9,   -999.0,9,   -999.0,9,  -999.00,9,-999.0000,-999.000,  1.0634,-999.000
      325023_1,  P14N,   114,  1,      7,      7,2,19930805,1841,  7.2452, 178.9998, 5642,   4275.8,   1.3094,  34.6960,2,  34.6956,2,   -999.0,9,    175.5,2,   136.30,2,    34.35,2,     0.00,2,     2.34,2, -999.000,5, -999.000,5, -999.000,9,-999.0000,9,  -999.00,9,   -999.0,9,   -999.0,9,  -999.00,9,-999.0000,-999.000,  0.9656,-999.000
      325023_1,  P14N,   114,  1,      6,      6,2,19930805,1841,  7.2452, 178.9998, 5642,   4583.8,   1.2800,  34.6996,2,  34.7005,2,   -999.0,9,    183.4,2,   132.03,2,    33.76,2,     0.00,2,     2.30,2, -999.000,5, -999.000,5, -999.000,9,-999.0000,9,  -999.00,9,   -999.0,9,   -999.0,9,  -999.00,9,-999.0000,-999.000,  0.9021,-999.000
      325023_1,  P14N,   114,  1,      5,      5,2,19930805,1841,  7.2452, 178.9998, 5642,   4891.4,   1.2895,  34.7016,2,  34.7017,2,   -999.0,9,    186.7,2,   129.44,2,    33.45,2,     0.00,2,     2.28,2, -999.000,5, -999.000,5, -999.000,9,-999.0000,9,  -999.00,9,   -999.0,9,   -999.0,9,  -999.00,9,-999.0000,-999.000,  0.8754,-999.000
      325023_1,  P14N,   114,  1,      4,      4,2,19930805,1841,  7.2452, 178.9998, 5642,   5197.8,   1.3042,  34.7028,2,  34.7031,2,   -999.0,9,    189.9,2,   127.87,2,    33.31,2,     0.00,2,     2.26,2, -999.000,5, -999.000,5, -999.000,9,-999.0000,9,  -999.00,9,   -999.0,9,   -999.0,9,  -999.00,9,-999.0000,-999.000,  0.8524,-999.000
      325023_1,  P14N,   114,  1,      3,      3,2,19930805,1841,  7.2452, 178.9998, 5642,   5505.6,   1.3373,  34.7033,2,  34.7037,2,   -999.0,9,    190.6,2,   127.54,2,    33.13,2,     0.00,2,     2.26,2, -999.000,5, -999.000,5, -999.000,9,-999.0000,9,  -999.00,9,   -999.0,9,   -999.0,9,  -999.00,9,-999.0000,-999.000,  0.8459,-999.000
      325023_1,  P14N,   114,  1,      2,      2,2,19930805,1841,  7.2452, 178.9998, 5642,   5653.7,   1.3490,  34.7033,2,  34.7039,2,   -999.0,9,    191.2,2,   127.20,2,    33.08,2,     0.00,2,     2.25,2, -999.000,5, -999.000,5, -999.000,9,-999.0000,9,  -999.00,9,   -999.0,9,   -999.0,9,  -999.00,9,-999.0000,-999.000,  0.8382,-999.000
      325023_1,  P14N,   114,  1,      1,      1,2,19930805,1841,  7.2452, 178.9998, 5642,   5653.9,   1.3489,  34.7033,2,  34.7041,2,   -999.0,9,    190.4,2,   127.28,2,    33.03,2,     0.00,2,     2.26,2, -999.000,5, -999.000,5, -999.000,9,-999.0000,9,  -999.00,9,   -999.0,9,   -999.0,9,  -999.00,9,-999.0000,-999.000,  0.8381,-999.000