BOTTLE,20131125MIRCJHATS
EXPOCODE,SECT_ID,STNNBR,CASTNO,SAMPNO,BTLNBR,BTLNBR_FLAG_W,DATE,TIME,LATITUDE,LONGITUDE,DEPTH,CTDPRS,CTDTMP,CTDSAL,CTDSAL_FLAG_W,SALNTY,SALNTY_FLAG_W,CTDOXY,CTDOXY_FLAG_W,OXYGEN,OXYGEN_FLAG_W,SILCAT,SILCAT_FLAG_W,NITRAT,NITRAT_FLAG_W,NITRIT,NITRIT_FLAG_W,PHSPHT,PHSPHT_FLAG_W,CFC-11,CFC-11_FLAG_W,CFC-12,CFC-12_FLAG_W,TRITUM,TRITUM_FLAG_W,HELIUM,HELIUM_FLAG_W,DELHE3,DELHE3_FLAG_W,TCARBN,TCARBN_FLAG_W,ALKALI,ALKALI_FLAG_W,PH,PH_FLAG_W,HELIER,DELHER,THETA,TRITER
,,,,,,,,,,,,DBAR,ITS-90,PSS-78,,PSS-78,,UMOL/KG,,UMOL/KG,,UMOL/KG,,UMOL/KG,,UMOL/KG,,UMOL/KG,,PMOL/KG,,PMOL/KG,,TU,,NMOL/KG,,PERCNT,,UMOL/KG,,UMOL/KG,,25_DEG,,NMOL/KG,PERCNT,DEG C,TU
      325023_1,  P14N,   130,  1,     36,     36,2,19930809,0238,  3.2463, 179.0022, 5378,      2.7,  30.0427,  33.9304,2,  33.9258,2,   -999.0,9,    195.2,2,     1.72,2,     0.02,2,     0.00,3,     0.13,2, -999.000,5, -999.000,5, -999.000,9,-999.0000,9,  -999.00,9,   -999.0,9,   -999.0,9,  -999.00,9,-999.0000,-999.000, 30.0421,-999.000
      325023_1,  P14N,   130,  1,     35,     35,2,19930809,0238,  3.2463, 179.0022, 5378,     37.2,  29.7640,  34.0219,2,  34.0314,2,   -999.0,9,    196.1,2,     1.88,2,     0.02,2,     0.00,3,     0.15,2, -999.000,5, -999.000,5, -999.000,9,-999.0000,9,  -999.00,9,   -999.0,9,   -999.0,9,  -999.00,9,-999.0000,-999.000, 29.7549,-999.000
      325023_1,  P14N,   130,  1,     34,     34,2,19930809,0238,  3.2463, 179.0022, 5378,     67.4,  28.9516,  34.8453,2,  34.8475,2,   -999.0,9,    200.0,2,     1.85,2,     0.02,2,     0.00,3,     0.23,2, -999.000,5, -999.000,5, -999.000,9,-999.0000,9,  -999.00,9,   -999.0,9,   -999.0,9,  -999.00,9,-999.0000,-999.000, 28.9353,-999.000
      325023_1,  P14N,   130,  1,     33,     33,2,19930809,0238,  3.2463, 179.0022, 5378,     97.1,  25.5037,  34.9111,2,  34.9176,2,   -999.0,9,    161.2,2,     3.39,2,     3.48,2,     0.36,3,     0.47,2, -999.000,5, -999.000,5, -999.000,9,-999.0000,9,  -999.00,9,   -999.0,9,   -999.0,9,  -999.00,9,-999.0000,-999.000, 25.4823,-999.000
      325023_1,  P14N,   130,  1,     32,     32,2,19930809,0238,  3.2463, 179.0022, 5378,    126.8,  22.2829,  34.9112,2,  34.8899,2,   -999.0,9,    135.4,2,     6.71,2,     8.74,2,     0.06,3,     0.73,2, -999.000,5, -999.000,5, -999.000,9,-999.0000,9,  -999.00,9,   -999.0,9,   -999.0,9,  -999.00,9,-999.0000,-999.000, 22.2576,-999.000
      325023_1,  P14N,   130,  1,     31,     31,2,19930809,0238,  3.2463, 179.0022, 5378,    156.8,  16.0355,  34.6645,2,  34.6694,2,   -999.0,9,    142.9,2,    14.35,2,    13.06,2,     0.03,3,     1.01,2, -999.000,5, -999.000,5, -999.000,9,-999.0000,9,  -999.00,9,   -999.0,9,   -999.0,9,  -999.00,9,-999.0000,-999.000, 16.0108,-999.000
      325023_1,  P14N,   130,  1,     30,     30,2,19930809,0238,  3.2463, 179.0022, 5378,    205.1,  11.6547,  34.5391,2,  34.5384,2,   -999.0,9,    116.3,2,    28.31,2,    22.47,2,     0.02,3,     1.66,2, -999.000,5, -999.000,5, -999.000,9,-999.0000,9,  -999.00,9,   -999.0,9,   -999.0,9,  -999.00,9,-999.0000,-999.000, 11.6286,-999.000
      325023_1,  P14N,   130,  1,     29,     29,2,19930809,0238,  3.2463, 179.0022, 5378,    255.1,  10.7718,  34.6553,2,  34.6402,2,   -999.0,9,    114.6,2,    29.84,2,    24.77,2,     0.02,3,     1.83,2, -999.000,5, -999.000,5, -999.000,9,-999.0000,9,  -999.00,9,   -999.0,9,   -999.0,9,  -999.00,9,-999.0000,-999.000, 10.7408,-999.000
      325023_1,  P14N,   130,  1,     28,     28,2,19930809,0238,  3.2463, 179.0022, 5378,    306.2,  10.0247,  34.6779,2,  34.6588,2,   -999.0,9,    102.1,2,    29.80,2,    27.26,2,     0.01,3,     1.98,2, -999.000,5, -999.000,5, -999.000,9,-999.0000,9,  -999.00,9,   -999.0,9,   -999.0,9,  -999.00,9,-999.0000,-999.000,  9.9890,-999.000
      325023_1,  P14N,   130,  1,     27,     27,2,19930809,0238,  3.2463, 179.0022, 5378,    356.9,   9.2574,  34.6330,2,  34.6356,2,   -999.0,9,     67.1,2,    35.48,2,    31.97,2,     0.02,3,     2.30,2, -999.000,5, -999.000,5, -999.000,9,-999.0000,9,  -999.00,9,   -999.0,9,   -999.0,9,  -999.00,9,-999.0000,-999.000,  9.2177,-999.000
      325023_1,  P14N,   130,  1,     26,     26,2,19930809,0238,  3.2463, 179.0022, 5378,    402.6,   8.5041,  34.6130,2,  34.6138,2,   -999.0,9,     78.3,2,    38.00,2,    32.63,2,     0.02,3,     2.33,2, -999.000,5, -999.000,5, -999.000,9,-999.0000,9,  -999.00,9,   -999.0,9,   -999.0,9,  -999.00,9,-999.0000,-999.000,  8.4615,-999.000
      325023_1,  P14N,   130,  1,     25,     25,2,19930809,0238,  3.2463, 179.0022, 5378,    502.8,   7.7362,  34.5849,2,  34.5848,2,   -999.0,9,     92.7,2,    40.32,2,    32.80,2,     0.01,3,     2.35,2, -999.000,5, -999.000,5, -999.000,9,-999.0000,9,  -999.00,9,   -999.0,9,   -999.0,9,  -999.00,9,-999.0000,-999.000,  7.6856,-999.000
      325023_1,  P14N,   130,  1,     24,     24,2,19930809,0238,  3.2463, 179.0022, 5378,    603.2,   6.7299,  34.5575,2,  34.5583,2,   -999.0,9,     80.9,2,    50.72,2,    36.11,2,     0.02,3,     2.59,2, -999.000,5, -999.000,5, -999.000,9,-999.0000,9,  -999.00,9,   -999.0,9,   -999.0,9,  -999.00,9,-999.0000,-999.000,  6.6734,-999.000
      325023_1,  P14N,   130,  1,     23,     23,2,19930809,0238,  3.2463, 179.0022, 5378,    704.1,   5.9751,  34.5460,2,  34.5473,2,   -999.0,9,     57.8,2,    64.89,2,    39.63,2,     0.02,3,     2.85,2, -999.000,5, -999.000,5, -999.000,9,-999.0000,9,  -999.00,9,   -999.0,9,   -999.0,9,  -999.00,9,-999.0000,-999.000,  5.9127,-999.000
      325023_1,  P14N,   130,  1,     22,     22,2,19930809,0238,  3.2463, 179.0022, 5378,    803.6,   5.4672,  34.5454,2,  34.5453,2,   -999.0,9,     70.1,2,    70.58,2,    39.44,2,     0.02,3,     2.83,2, -999.000,5, -999.000,5, -999.000,9,-999.0000,9,  -999.00,9,   -999.0,9,   -999.0,9,  -999.00,9,-999.0000,-999.000,  5.3985,-999.000
      325023_1,  P14N,   130,  1,     21,     21,2,19930809,0238,  3.2463, 179.0022, 5378,    904.6,   5.1075,  34.5443,2,  34.5443,2,   -999.0,9,     83.8,2,    75.09,2,    38.25,2,     0.02,3,     2.74,2, -999.000,5, -999.000,5, -999.000,9,-999.0000,9,  -999.00,9,   -999.0,9,   -999.0,9,  -999.00,9,-999.0000,-999.000,  5.0320,-999.000
      325023_1,  P14N,   130,  1,     20,     20,2,19930809,0238,  3.2463, 179.0022, 5378,   1006.1,   4.7492,  34.5515,2,  34.5518,2,   -999.0,9,     77.2,2,    83.77,2,    39.39,2,     0.02,3,     2.82,2, -999.000,5, -999.000,5, -999.000,9,-999.0000,9,  -999.00,9,   -999.0,9,   -999.0,9,  -999.00,9,-999.0000,-999.000,  4.6672,-999.000
      325023_1,  P14N,   130,  1,     19,     19,2,19930809,0238,  3.2463, 179.0022, 5378,   1208.1,   3.7334,  34.5765,2,  34.5765,2,   -999.0,9,     85.2,2,   104.48,2,    39.56,2,     0.02,3,     2.85,2, -999.000,5, -999.000,5, -999.000,9,-999.0000,9,  -999.00,9,   -999.0,9,   -999.0,9,  -999.00,9,-999.0000,-999.000,  3.6425,-999.000
      325023_1,  P14N,   130,  1,     18,     18,2,19930809,0238,  3.2463, 179.0022, 5378,   1408.9,   3.1940,  34.5945,2,  34.5945,2,   -999.0,9,     95.3,2,   114.70,2,    39.06,2,     0.01,3,     2.81,2, -999.000,5, -999.000,5, -999.000,9,-999.0000,9,  -999.00,9,   -999.0,9,   -999.0,9,  -999.00,9,-999.0000,-999.000,  3.0916,-999.000
      325023_1,  P14N,   130,  1,     17,     17,2,19930809,0238,  3.2463, 179.0022, 5378,   1614.0,   2.7417,  34.6126,2,  34.6127,2,   -999.0,9,    102.7,2,   124.18,2,    38.69,2,     0.02,3,     2.77,2, -999.000,5, -999.000,5, -999.000,9,-999.0000,9,  -999.00,9,   -999.0,9,   -999.0,9,  -999.00,9,-999.0000,-999.000,  2.6274,-999.000
      325023_1,  P14N,   130,  1,     16,     16,2,19930809,0238,  3.2463, 179.0022, 5378,   1816.2,   2.4800,  34.6251,2,  34.6253,2,   -999.0,9,    105.8,2,   130.44,2,    38.64,2,     0.01,3,     2.76,2, -999.000,5, -999.000,5, -999.000,9,-999.0000,9,  -999.00,9,   -999.0,9,   -999.0,9,  -999.00,9,-999.0000,-999.000,  2.3521,-999.000
      325023_1,  P14N,   130,  1,     15,     15,2,19930809,0238,  3.2463, 179.0022, 5378,   2019.1,   2.2750,  34.6359,2,  34.6358,2,   -999.0,9,    110.4,2,   135.92,2,    38.41,2,     0.02,3,     2.73,2, -999.000,5, -999.000,5, -999.000,9,-999.0000,9,  -999.00,9,   -999.0,9,   -999.0,9,  -999.00,9,-999.0000,-999.000,  2.1328,-999.000
      325023_1,  P14N,   130,  1,     14,     14,2,19930809,0238,  3.2463, 179.0022, 5378,   2222.6,   2.0672,  34.6478,2,  34.6478,2,   -999.0,9,    114.5,2,   140.81,2,    38.18,2,     0.01,3,     2.72,2, -999.000,5, -999.000,5, -999.000,9,-999.0000,9,  -999.00,9,   -999.0,9,   -999.0,9,  -999.00,9,-999.0000,-999.000,  1.9105,-999.000
      325023_1,  P14N,   130,  1,     13,     13,2,19930809,0238,  3.2463, 179.0022, 5378,   2354.5,   1.9806,  34.6531,2,  34.6535,2,   -999.0,9,    116.0,2,   143.43,2,    38.13,2,     0.01,3,     2.70,2, -999.000,5, -999.000,5, -999.000,9,-999.0000,9,  -999.00,9,   -999.0,9,   -999.0,9,  -999.00,9,-999.0000,-999.000,  1.8138,-999.000
      325023_1,  P14N,   130,  1,     12,     12,2,19930809,0238,  3.2463, 179.0022, 5378,   2630.4,   1.8328,  34.6613,2,  34.6625,2,   -999.0,9,    122.0,2,   146.48,2,    37.76,2,     0.01,3,     2.67,2, -999.000,5, -999.000,5, -999.000,9,-999.0000,9,  -999.00,9,   -999.0,9,   -999.0,9,  -999.00,9,-999.0000,-999.000,  1.6438,-999.000
      325023_1,  P14N,   130,  1,     11,     11,2,19930809,0238,  3.2463, 179.0022, 5378,   2832.3,   1.7454,  34.6659,2,  34.6668,2,   -999.0,9,    127.4,2,   146.62,2,    37.36,2,     0.01,3,     2.64,2, -999.000,5, -999.000,5, -999.000,9,-999.0000,9,  -999.00,9,   -999.0,9,   -999.0,9,  -999.00,9,-999.0000,-999.000,  1.5393,-999.000
      325023_1,  P14N,   130,  1,     10,     10,2,19930809,0238,  3.2463, 179.0022, 5378,   3038.6,   1.6793,  34.6699,2,  34.6705,2,   -999.0,9,    132.8,2,   146.76,2,    37.08,2,     0.01,3,     2.61,2, -999.000,5, -999.000,5, -999.000,9,-999.0000,9,  -999.00,9,   -999.0,9,   -999.0,9,  -999.00,9,-999.0000,-999.000,  1.4548,-999.000
      325023_1,  P14N,   130,  1,      9,      9,2,19930809,0238,  3.2463, 179.0022, 5378,   3344.4,   1.5740,  34.6765,2,  34.6766,2,   -999.0,9,    142.6,2,   144.41,2,    36.36,2,     0.01,3,     2.56,2, -999.000,5, -999.000,5, -999.000,9,-999.0000,9,  -999.00,9,   -999.0,9,   -999.0,9,  -999.00,9,-999.0000,-999.000,  1.3219,-999.000
      325023_1,  P14N,   130,  1,      8,      8,2,19930809,0238,  3.2463, 179.0022, 5378,   3651.8,   1.5154,  34.6814,2,  34.6820,2,   -999.0,9,    149.7,2,   143.10,2,    35.87,2,     0.01,3,     2.52,2, -999.000,5, -999.000,5, -999.000,9,-999.0000,9,  -999.00,9,   -999.0,9,   -999.0,9,  -999.00,9,-999.0000,-999.000,  1.2332,-999.000
      325023_1,  P14N,   130,  1,      7,      7,2,19930809,0238,  3.2463, 179.0022, 5378,   3958.2,   1.4283,  34.6883,2,  34.6891,2,   -999.0,9,    161.0,2,   139.72,2,    35.11,2,     0.00,3,     2.44,2, -999.000,5, -999.000,5, -999.000,9,-999.0000,9,  -999.00,9,   -999.0,9,   -999.0,9,  -999.00,9,-999.0000,-999.000,  1.1160,-999.000
      325023_1,  P14N,   130,  1,      6,      6,2,19930809,0238,  3.2463, 179.0022, 5378,   4266.2,   1.2978,  34.6970,2,  34.6977,2,   -999.0,9,    176.6,2,   132.88,2,    33.96,2,     0.00,3,     2.37,2, -999.000,5, -999.000,5, -999.000,9,-999.0000,9,  -999.00,9,   -999.0,9,   -999.0,9,  -999.00,9,-999.0000,-999.000,  0.9554,-999.000
      325023_1,  P14N,   130,  1,      5,      5,2,19930809,0238,  3.2463, 179.0022, 5378,   4572.2,   1.2473,  34.7014,2,  34.7022,2,   -999.0,9,    186.1,2,   128.73,2,    33.34,2,     0.00,3,     2.33,2, -999.000,5, -999.000,5, -999.000,9,-999.0000,9,  -999.00,9,   -999.0,9,   -999.0,9,  -999.00,9,-999.0000,-999.000,  0.8718,-999.000
      325023_1,  P14N,   130,  1,      4,      4,2,19930809,0238,  3.2463, 179.0022, 5378,   4881.0,   1.2619,  34.7029,2,  34.7034,2,   -999.0,9,    188.7,2,   127.64,2,    33.11,2,     0.00,3,     2.32,2, -999.000,5, -999.000,5, -999.000,9,-999.0000,9,  -999.00,9,   -999.0,9,   -999.0,9,  -999.00,9,-999.0000,-999.000,  0.8498,-999.000
      325023_1,  P14N,   130,  1,      3,      3,2,19930809,0238,  3.2463, 179.0022, 5378,   5189.7,   1.2877,  34.7033,2,  34.7041,2,   -999.0,9,    190.7,2,   126.36,2,    32.93,2,     0.01,3,     2.29,2, -999.000,5, -999.000,5, -999.000,9,-999.0000,9,  -999.00,9,   -999.0,9,   -999.0,9,  -999.00,9,-999.0000,-999.000,  0.8375,-999.000
      325023_1,  P14N,   130,  1,      2,      2,2,19930809,0238,  3.2463, 179.0022, 5378,   5472.2,   1.3220,  34.7042,2,  34.7047,2,   -999.0,9,    190.6,2,   126.50,2,    32.89,2,     0.01,3,     2.31,2, -999.000,5, -999.000,5, -999.000,9,-999.0000,9,  -999.00,9,   -999.0,9,   -999.0,9,  -999.00,9,-999.0000,-999.000,  0.8354,-999.000
      325023_1,  P14N,   130,  1,      1,      1,2,19930809,0238,  3.2463, 179.0022, 5378,   5472.2,   1.3222,  34.7043,2,  34.7047,2,   -999.0,9,    189.1,2,   127.46,2,    33.06,2,     0.00,3,     2.31,2, -999.000,5, -999.000,5, -999.000,9,-999.0000,9,  -999.00,9,   -999.0,9,   -999.0,9,  -999.00,9,-999.0000,-999.000,  0.8355,-999.000