BOTTLE,20131125MIRCJHATS
EXPOCODE,SECT_ID,STNNBR,CASTNO,SAMPNO,BTLNBR,BTLNBR_FLAG_W,DATE,TIME,LATITUDE,LONGITUDE,DEPTH,CTDPRS,CTDTMP,CTDSAL,CTDSAL_FLAG_W,SALNTY,SALNTY_FLAG_W,CTDOXY,CTDOXY_FLAG_W,OXYGEN,OXYGEN_FLAG_W,SILCAT,SILCAT_FLAG_W,NITRAT,NITRAT_FLAG_W,NITRIT,NITRIT_FLAG_W,PHSPHT,PHSPHT_FLAG_W,CFC-11,CFC-11_FLAG_W,CFC-12,CFC-12_FLAG_W,TRITUM,TRITUM_FLAG_W,HELIUM,HELIUM_FLAG_W,DELHE3,DELHE3_FLAG_W,TCARBN,TCARBN_FLAG_W,ALKALI,ALKALI_FLAG_W,PH,PH_FLAG_W,HELIER,DELHER,THETA,TRITER
,,,,,,,,,,,,DBAR,ITS-90,PSS-78,,PSS-78,,UMOL/KG,,UMOL/KG,,UMOL/KG,,UMOL/KG,,UMOL/KG,,UMOL/KG,,PMOL/KG,,PMOL/KG,,TU,,NMOL/KG,,PERCNT,,UMOL/KG,,UMOL/KG,,25_DEG,,NMOL/KG,PERCNT,DEG C,TU
      325023_1,  P14N,    48,  1,     36,     36,2,19930719,1532, 38.4823, 179.0085, 5384,      4.2,  15.3916,  34.2122,2,  34.2103,2,   -999.0,9,    259.2,2,     5.69,2,     1.42,2,     0.06,2,     0.24,2, -999.000,5, -999.000,5, -999.000,9,-999.0000,9,  -999.00,9,   -999.0,9,   -999.0,9,  -999.00,9,-999.0000,-999.000, 15.3910,-999.000
      325023_1,  P14N,    48,  1,     35,     35,2,19930719,1532, 38.4823, 179.0085, 5384,     14.0,  15.3971,  34.2126,2,  34.2113,2,   -999.0,9,    259.0,2,     5.59,2,     1.37,2,     0.06,2,     0.24,2, -999.000,5, -999.000,5, -999.000,9,-999.0000,9,  -999.00,9,   -999.0,9,   -999.0,9,  -999.00,9,-999.0000,-999.000, 15.3950,-999.000
      325023_1,  P14N,    48,  1,     34,     34,2,19930719,1532, 38.4823, 179.0085, 5384,     40.2,  13.3531,  34.3525,2,  34.3486,2,   -999.0,9,    261.0,2,     8.43,2,     4.66,2,     0.17,2,     0.53,2, -999.000,5, -999.000,5, -999.000,9,-999.0000,9,  -999.00,9,   -999.0,9,   -999.0,9,  -999.00,9,-999.0000,-999.000, 13.3475,-999.000
      325023_1,  P14N,    48,  1,     33,     33,2,19930719,1532, 38.4823, 179.0085, 5384,     70.3,  11.9667,  34.3560,2,  34.3521,2,   -999.0,9,    250.3,2,    14.19,2,     9.04,2,     0.24,2,     0.74,2, -999.000,5, -999.000,5, -999.000,9,-999.0000,9,  -999.00,9,   -999.0,9,   -999.0,9,  -999.00,9,-999.0000,-999.000, 11.9577,-999.000
      325023_1,  P14N,    48,  1,     32,     32,2,19930719,1532, 38.4823, 179.0085, 5384,    100.6,  11.6463,  34.3326,2,  34.3253,2,   -999.0,9,    247.6,2,    15.56,2,    10.17,2,     0.04,2,     0.80,2, -999.000,5, -999.000,5, -999.000,9,-999.0000,9,  -999.00,9,   -999.0,9,   -999.0,9,  -999.00,9,-999.0000,-999.000, 11.6336,-999.000
      325023_1,  P14N,    48,  1,     31,     31,2,19930719,1532, 38.4823, 179.0085, 5384,    131.0,  11.4280,  34.3336,2,  34.3310,2,   -999.0,9,    239.7,2,    15.46,2,    10.61,2,     0.03,2,     0.83,2, -999.000,5, -999.000,5, -999.000,9,-999.0000,9,  -999.00,9,   -999.0,9,   -999.0,9,  -999.00,9,-999.0000,-999.000, 11.4116,-999.000
      325023_1,  P14N,    48,  1,     30,     30,2,19930719,1532, 38.4823, 179.0085, 5384,    161.2,  11.1639,  34.3078,2,  34.3046,2,   -999.0,9,    236.3,2,    17.01,2,    11.54,2,     0.02,2,     0.89,2, -999.000,5, -999.000,5, -999.000,9,-999.0000,9,  -999.00,9,   -999.0,9,   -999.0,9,  -999.00,9,-999.0000,-999.000, 11.1440,-999.000
      325023_1,  P14N,    48,  1,     29,     29,2,19930719,1532, 38.4823, 179.0085, 5384,    210.6,  10.3074,  34.2320,2,  34.2176,2,   -999.0,9,    233.2,2,    20.39,2,    13.39,2,     0.02,2,     1.03,2,    3.194,2,    1.600,2, -999.000,9,-999.0000,9,  -999.00,9,   -999.0,9,   -999.0,9,  -999.00,9,-999.0000,-999.000, 10.2827,-999.000
      325023_1,  P14N,    48,  1,     28,     28,2,19930719,1532, 38.4823, 179.0085, 5384,    261.0,   9.6132,  34.1716,2,  34.1604,2,   -999.0,9,    221.9,2,    23.94,2,    15.72,2,     0.02,2,     1.19,2,    2.980,2,    1.453,2, -999.000,9,-999.0000,9,  -999.00,9,   -999.0,9,   -999.0,9,  -999.00,9,-999.0000,-999.000,  9.5839,-999.000
      325023_1,  P14N,    48,  1,     27,     27,2,19930719,1532, 38.4823, 179.0085, 5384,    311.7,   8.4098,  34.0357,2,  34.0325,2,   -999.0,9,    244.4,2,    26.03,2,    15.97,2,     0.02,2,     1.24,2,    3.582,2,    1.759,2, -999.000,9,-999.0000,9,  -999.00,9,   -999.0,9,   -999.0,9,  -999.00,9,-999.0000,-999.000,  8.3775,-999.000
      325023_1,  P14N,    48,  1,     26,     26,2,19930719,1532, 38.4823, 179.0085, 5384,    412.9,   6.8819,  33.9938,2,  33.9922,2,   -999.0,9,    180.3,2,    46.22,2,    24.71,2,     0.02,2,     1.85,2,    2.556,2,    1.243,2, -999.000,9,-999.0000,9,  -999.00,9,   -999.0,9,   -999.0,9,  -999.00,9,-999.0000,-999.000,  6.8437,-999.000
      325023_1,  P14N,    48,  1,     25,     25,2,19930719,1532, 38.4823, 179.0085, 5384,    512.9,   5.1744,  33.9557,2,  33.9341,3,   -999.0,9,    133.8,2,    69.96,2,    32.16,2,     0.01,2,     2.40,2,    1.926,2,    0.852,2, -999.000,9,-999.0000,9,  -999.00,9,   -999.0,9,   -999.0,9,  -999.00,9,-999.0000,-999.000,  5.1332,-999.000
      325023_1,  P14N,    48,  1,     24,     24,2,19930719,1532, 38.4823, 179.0085, 5384,    612.1,   4.5668,  34.0333,2,  34.0286,2,   -999.0,9,     97.0,2,    85.72,2,    36.71,2,     0.01,2,     2.68,2, -999.000,5, -999.000,5, -999.000,9,-999.0000,9,  -999.00,9,   -999.0,9,   -999.0,9,  -999.00,9,-999.0000,-999.000,  4.5201,-999.000
      325023_1,  P14N,    48,  1,     23,     23,2,19930719,1532, 38.4823, 179.0085, 5384,    711.2,   4.1548,  34.1392,2,  34.1350,2,   -999.0,9,     65.7,2,   104.41,2,    39.38,2,     0.01,2,     2.89,2, -999.000,5, -999.000,5, -999.000,9,-999.0000,9,  -999.00,9,   -999.0,9,   -999.0,9,  -999.00,9,-999.0000,-999.000,  4.1021,-999.000
      325023_1,  P14N,    48,  1,     22,     22,2,19930719,1532, 38.4823, 179.0085, 5384,    811.8,   3.8272,  34.2258,2,  34.2229,2,   -999.0,9,     44.8,2,   118.23,2,    41.40,2,     0.01,2,     3.02,2, -999.000,5, -999.000,5, -999.000,9,-999.0000,9,  -999.00,9,   -999.0,9,   -999.0,9,  -999.00,9,-999.0000,-999.000,  3.7684,-999.000
      325023_1,  P14N,    48,  1,     21,     21,2,19930719,1532, 38.4823, 179.0085, 5384,    912.3,   3.5225,  34.2780,2,  34.2756,2,   -999.0,9,     35.8,2,   128.58,2,    42.33,2,     0.01,2,     3.09,2, -999.000,5, -999.000,5, -999.000,9,-999.0000,9,  -999.00,9,   -999.0,9,   -999.0,9,  -999.00,9,-999.0000,-999.000,  3.4578,-999.000
      325023_1,  P14N,    48,  1,     20,     20,2,19930719,1532, 38.4823, 179.0085, 5384,   1014.1,   3.2846,  34.3247,2,  34.3216,2,   -999.0,9,     34.1,2,   136.13,2,    42.71,2,     0.01,2,     3.10,2, -999.000,5, -999.000,5, -999.000,9,-999.0000,9,  -999.00,9,   -999.0,9,   -999.0,9,  -999.00,9,-999.0000,-999.000,  3.2137,-999.000
      325023_1,  P14N,    48,  1,     19,     19,2,19930719,1532, 38.4823, 179.0085, 5384,   1216.4,   2.8592,  34.4073,2,  34.4051,2,   -999.0,9,     29.2,2,   150.44,2,    43.47,2,     0.01,2,     3.15,2, -999.000,5, -999.000,5, -999.000,9,-999.0000,9,  -999.00,9,   -999.0,9,   -999.0,9,  -999.00,9,-999.0000,-999.000,  2.7761,-999.000
      325023_1,  P14N,    48,  1,     18,     18,2,19930719,1532, 38.4823, 179.0085, 5384,   1417.4,   2.5435,  34.4671,2,  34.4651,2,   -999.0,9,     30.1,2,   161.62,2,    43.67,2,     0.01,2,     3.16,2, -999.000,5, -999.000,5, -999.000,9,-999.0000,9,  -999.00,9,   -999.0,9,   -999.0,9,  -999.00,9,-999.0000,-999.000,  2.4478,-999.000
      325023_1,  P14N,    48,  1,     17,     17,2,19930719,1532, 38.4823, 179.0085, 5384,   1620.3,   2.2824,  34.5199,2,  34.5182,2,   -999.0,9,     37.7,2,   169.53,2,    43.37,2,     0.01,2,     3.12,2, -999.000,5, -999.000,5, -999.000,9,-999.0000,9,  -999.00,9,   -999.0,9,   -999.0,9,  -999.00,9,-999.0000,-999.000,  2.1735,-999.000
      325023_1,  P14N,    48,  1,     16,     16,2,19930719,1532, 38.4823, 179.0085, 5384,   1822.1,   2.0899,  34.5598,2,  34.5582,2,   -999.0,9,     48.4,2,   174.25,2,    42.81,2,     0.01,2,     3.06,2, -999.000,5, -999.000,5, -999.000,9,-999.0000,9,  -999.00,9,   -999.0,9,   -999.0,9,  -999.00,9,-999.0000,-999.000,  1.9671,-999.000
      325023_1,  P14N,    48,  1,     15,     15,2,19930719,1532, 38.4823, 179.0085, 5384,   2024.0,   1.9392,  34.5891,2,  34.5886,2,   -999.0,9,     61.1,2,   177.35,2,    42.02,2,     0.00,2,     3.00,2, -999.000,5, -999.000,5, -999.000,9,-999.0000,9,  -999.00,9,   -999.0,9,   -999.0,9,  -999.00,9,-999.0000,-999.000,  1.8018,-999.000
      325023_1,  P14N,    48,  1,     14,     14,2,19930719,1532, 38.4823, 179.0085, 5384,   2224.5,   1.8310,  34.6095,2,  34.6083,2,   -999.0,9,     74.6,2,   177.16,2,    41.13,2,     0.00,2,     2.94,2, -999.000,5, -999.000,5, -999.000,9,-999.0000,9,  -999.00,9,   -999.0,9,   -999.0,9,  -999.00,9,-999.0000,-999.000,  1.6783,-999.000
      325023_1,  P14N,    48,  1,     13,     13,2,19930719,1532, 38.4823, 179.0085, 5384,   2426.2,   1.7362,  34.6264,2,  34.6259,2,   -999.0,9,     88.3,2,   175.74,2,    40.08,2,     0.00,2,     2.86,2, -999.000,5, -999.000,5, -999.000,9,-999.0000,9,  -999.00,9,   -999.0,9,   -999.0,9,  -999.00,9,-999.0000,-999.000,  1.5675,-999.000
      325023_1,  P14N,    48,  1,     12,     12,2,19930719,1532, 38.4823, 179.0085, 5384,   2626.9,   1.6506,  34.6413,2,  34.6408,2,   -999.0,9,    101.2,2,   173.09,2,    39.43,2,     0.00,2,     2.81,2, -999.000,5, -999.000,5, -999.000,9,-999.0000,9,  -999.00,9,   -999.0,9,   -999.0,9,  -999.00,9,-999.0000,-999.000,  1.4655,-999.000
      325023_1,  P14N,    48,  1,     11,     11,2,19930719,1532, 38.4823, 179.0085, 5384,   2828.6,   1.5997,  34.6503,2,  34.6503,2,   -999.0,9,    110.6,2,   171.67,2,    38.73,2,     0.00,2,     2.75,2, -999.000,5, -999.000,5, -999.000,9,-999.0000,9,  -999.00,9,   -999.0,9,   -999.0,9,  -999.00,9,-999.0000,-999.000,  1.3970,-999.000
      325023_1,  P14N,    48,  1,     10,     10,2,19930719,1532, 38.4823, 179.0085, 5384,   3030.3,   1.5460,  34.6600,2,  34.6599,2,   -999.0,9,    120.9,2,   168.23,2,    38.18,2,     0.00,2,     2.69,2, -999.000,5, -999.000,5, -999.000,9,-999.0000,9,  -999.00,9,   -999.0,9,   -999.0,9,  -999.00,9,-999.0000,-999.000,  1.3253,-999.000
      325023_1,  P14N,    48,  1,      9,      9,2,19930719,1532, 38.4823, 179.0085, 5384,   3334.9,   1.4893,  34.6702,2,  34.6701,2,   -999.0,9,    133.7,2,   165.62,2,    37.31,2,     0.00,2,     2.63,2, -999.000,5, -999.000,5, -999.000,9,-999.0000,9,  -999.00,9,   -999.0,9,   -999.0,9,  -999.00,9,-999.0000,-999.000,  1.2402,-999.000
      325023_1,  P14N,    48,  1,      8,      8,2,19930719,1532, 38.4823, 179.0085, 5384,   3645.5,   1.4590,  34.6775,2,  34.6777,2,   -999.0,9,    142.7,2,   162.42,2,    36.71,2,     0.00,2,     2.58,2, -999.000,5, -999.000,5, -999.000,9,-999.0000,9,  -999.00,9,   -999.0,9,   -999.0,9,  -999.00,9,-999.0000,-999.000,  1.1790,-999.000
      325023_1,  P14N,    48,  1,      7,      7,2,19930719,1532, 38.4823, 179.0085, 5384,   3954.2,   1.4505,  34.6823,2,  34.6823,2,   -999.0,9,    148.5,2,   160.64,2,    36.29,2,     0.00,2,     2.55,2, -999.000,5, -999.000,5, -999.000,9,-999.0000,9,  -999.00,9,   -999.0,9,   -999.0,9,  -999.00,9,-999.0000,-999.000,  1.1380,-999.000
      325023_1,  P14N,    48,  1,      6,      6,2,19930719,1532, 38.4823, 179.0085, 5384,   4264.9,   1.4593,  34.6851,2,  34.6854,2,   -999.0,9,    151.9,2,   160.26,2,    36.05,2,     0.00,2,     2.53,2, -999.000,5, -999.000,5, -999.000,9,-999.0000,9,  -999.00,9,   -999.0,9,   -999.0,9,  -999.00,9,-999.0000,-999.000,  1.1123,-999.000
      325023_1,  P14N,    48,  1,      5,      5,2,19930719,1532, 38.4823, 179.0085, 5384,   4573.2,   1.4823,  34.6867,2,  34.6850,2,   -999.0,9,    153.5,2,   161.29,2,    35.94,2,     0.00,2,     2.52,2, -999.000,5, -999.000,5, -999.000,9,-999.0000,9,  -999.00,9,   -999.0,9,   -999.0,9,  -999.00,9,-999.0000,-999.000,  1.0994,-999.000
      325023_1,  P14N,    48,  1,      4,      4,2,19930719,1532, 38.4823, 179.0085, 5384,   4880.3,   1.5134,  34.6876,2,  34.6852,2,   -999.0,9,    154.1,2,   161.91,2,    35.92,2,     0.00,2,     2.50,2, -999.000,5, -999.000,5, -999.000,9,-999.0000,9,  -999.00,9,   -999.0,9,   -999.0,9,  -999.00,9,-999.0000,-999.000,  1.0932,-999.000
      325023_1,  P14N,    48,  1,      3,      3,2,19930719,1532, 38.4823, 179.0085, 5384,   5186.6,   1.5515,  34.6876,2,  34.6872,2,   -999.0,9,    154.1,2,   161.73,2,    35.90,2,     0.00,2,     2.51,2, -999.000,5, -999.000,5, -999.000,9,-999.0000,9,  -999.00,9,   -999.0,9,   -999.0,9,  -999.00,9,-999.0000,-999.000,  1.0925,-999.000
      325023_1,  P14N,    48,  1,      2,      2,2,19930719,1532, 38.4823, 179.0085, 5384,   5469.9,   1.5885,  34.6877,2,  34.6856,2,   -999.0,9,    154.2,2,   161.75,2,    35.84,2,     0.00,2,     2.50,2, -999.000,5, -999.000,5, -999.000,9,-999.0000,9,  -999.00,9,   -999.0,9,   -999.0,9,  -999.00,9,-999.0000,-999.000,  1.0926,-999.000
      325023_1,  P14N,    48,  1,      1,      1,2,19930719,1532, 38.4823, 179.0085, 5384,   5469.9,   1.5885,  34.6876,2,  34.6876,2,   -999.0,9,    154.0,2,   161.77,2,    35.87,2,     0.00,2,     2.50,2, -999.000,5, -999.000,5, -999.000,9,-999.0000,9,  -999.00,9,   -999.0,9,   -999.0,9,  -999.00,9,-999.0000,-999.000,  1.0926,-999.000