BOTTLE,20131125MIRCJHATS
EXPOCODE,SECT_ID,STNNBR,CASTNO,SAMPNO,BTLNBR,BTLNBR_FLAG_W,DATE,TIME,LATITUDE,LONGITUDE,DEPTH,CTDPRS,CTDTMP,CTDSAL,CTDSAL_FLAG_W,SALNTY,SALNTY_FLAG_W,CTDOXY,CTDOXY_FLAG_W,OXYGEN,OXYGEN_FLAG_W,SILCAT,SILCAT_FLAG_W,NITRAT,NITRAT_FLAG_W,NITRIT,NITRIT_FLAG_W,PHSPHT,PHSPHT_FLAG_W,CFC-11,CFC-11_FLAG_W,CFC-12,CFC-12_FLAG_W,TRITUM,TRITUM_FLAG_W,HELIUM,HELIUM_FLAG_W,DELHE3,DELHE3_FLAG_W,TCARBN,TCARBN_FLAG_W,ALKALI,ALKALI_FLAG_W,PH,PH_FLAG_W,HELIER,DELHER,THETA,TRITER
,,,,,,,,,,,,DBAR,ITS-90,PSS-78,,PSS-78,,UMOL/KG,,UMOL/KG,,UMOL/KG,,UMOL/KG,,UMOL/KG,,UMOL/KG,,PMOL/KG,,PMOL/KG,,TU,,NMOL/KG,,PERCNT,,UMOL/KG,,UMOL/KG,,25_DEG,,NMOL/KG,PERCNT,DEG C,TU
      325024_1,  P14N,   182,  1,     36,     36,2,19930828,1147,-14.5013, 178.9960, 2112,      3.1,  26.3791,  35.0254,2,  35.0312,2,   -999.0,9,    202.4,2,     2.96,2,     0.00,2,     0.00,2,     0.21,2, -999.000,5, -999.000,5, -999.000,9,-999.0000,9,  -999.00,9,   -999.0,9,   -999.0,9,  -999.00,9,-999.0000,-999.000, 26.3784,-999.000
      325024_1,  P14N,   182,  1,     35,     35,2,19930828,1147,-14.5013, 178.9960, 2112,     34.9,  26.3961,  35.0306,2,  35.0389,2,   -999.0,9,    202.2,2,     2.71,2,     0.00,2,     0.00,2,     0.20,2, -999.000,5, -999.000,5, -999.000,9,-999.0000,9,  -999.00,9,   -999.0,9,   -999.0,9,  -999.00,9,-999.0000,-999.000, 26.3882,-999.000
      325024_1,  P14N,   182,  1,     34,     34,2,19930828,1147,-14.5013, 178.9960, 2112,     64.7,  26.3244,  35.1043,2,  35.1101,2,   -999.0,9,    202.5,2,     2.46,2,     0.00,2,     0.00,2,     0.21,2, -999.000,5, -999.000,5, -999.000,9,-999.0000,9,  -999.00,9,   -999.0,9,   -999.0,9,  -999.00,9,-999.0000,-999.000, 26.3098,-999.000
      325024_1,  P14N,   182,  1,     33,     33,2,19930828,1147,-14.5013, 178.9960, 2112,     95.1,  26.5903,  35.3216,2,  35.1100,4,   -999.0,9,    197.7,2,     2.40,2,     0.00,2,     0.00,2,     0.22,2, -999.000,5, -999.000,5, -999.000,9,-999.0000,9,  -999.00,9,   -999.0,9,   -999.0,9,  -999.00,9,-999.0000,-999.000, 26.5687,-999.000
      325024_1,  P14N,   182,  1,     32,     32,2,19930828,1147,-14.5013, 178.9960, 2112,    125.4,  25.9813,  35.9392,2,  35.4221,4,   -999.0,9,    179.1,2,     2.35,2,     0.41,2,     0.12,2,     0.33,2, -999.000,5, -999.000,5, -999.000,9,-999.0000,9,  -999.00,9,   -999.0,9,   -999.0,9,  -999.00,9,-999.0000,-999.000, 25.9533,-999.000
      325024_1,  P14N,   182,  1,     31,     31,2,19930828,1147,-14.5013, 178.9960, 2112,    154.3,  24.4708,  36.0815,2,  35.9911,4,   -999.0,9,    159.8,2,     2.09,2,     3.16,2,     0.03,2,     0.49,2, -999.000,5, -999.000,5, -999.000,9,-999.0000,9,  -999.00,9,   -999.0,9,   -999.0,9,  -999.00,9,-999.0000,-999.000, 24.4377,-999.000
      325024_1,  P14N,   182,  1,     30,     30,2,19930828,1147,-14.5013, 178.9960, 2112,    204.1,  22.0332,  36.0241,2,  36.0859,4,   -999.0,9,    151.2,2,     2.24,2,     6.13,2,     0.01,2,     0.67,2, -999.000,5, -999.000,5, -999.000,9,-999.0000,9,  -999.00,9,   -999.0,9,   -999.0,9,  -999.00,9,-999.0000,-999.000, 21.9925,-999.000
      325024_1,  P14N,   182,  1,     29,     29,2,19930828,1147,-14.5013, 178.9960, 2112,    255.6,  19.5872,  35.7089,2,  36.0105,4,   -999.0,9,    159.4,2,     2.78,2,     6.46,2,     0.00,2,     0.66,2, -999.000,5, -999.000,5, -999.000,9,-999.0000,9,  -999.00,9,   -999.0,9,   -999.0,9,  -999.00,9,-999.0000,-999.000, 19.5404,-999.000
      325024_1,  P14N,   182,  1,     28,     28,2,19930828,1147,-14.5013, 178.9960, 2112,    306.0,  16.6345,  35.3402,2,  35.3500,2,   -999.0,9,    148.4,2,     5.11,2,    10.63,2,     0.00,2,     0.97,2, -999.000,5, -999.000,5, -999.000,9,-999.0000,9,  -999.00,9,   -999.0,9,   -999.0,9,  -999.00,9,-999.0000,-999.000, 16.5845,-999.000
      325024_1,  P14N,   182,  1,     27,     27,2,19930828,1147,-14.5013, 178.9960, 2112,    355.9,  14.1357,  35.0888,2,  35.0394,2,   -999.0,9,    136.1,2,     8.82,2,    16.04,2,     0.00,2,     1.31,2, -999.000,5, -999.000,5, -999.000,9,-999.0000,9,  -999.00,9,   -999.0,9,   -999.0,9,  -999.00,9,-999.0000,-999.000, 14.0836,-999.000
      325024_1,  P14N,   182,  1,     26,     26,2,19930828,1147,-14.5013, 178.9960, 2112,    406.6,  11.8493,  34.8406,2,  34.8375,2,   -999.0,9,    139.6,2,    11.54,2,    19.31,2,     0.00,2,     1.51,2, -999.000,5, -999.000,5, -999.000,9,-999.0000,9,  -999.00,9,   -999.0,9,   -999.0,9,  -999.00,9,-999.0000,-999.000, 11.7963,-999.000
      325024_1,  P14N,   182,  1,     25,     25,2,19930828,1147,-14.5013, 178.9960, 2112,    508.0,   8.6208,  34.5638,2,  34.5647,2,   -999.0,9,    162.6,2,    16.64,2,    24.16,2,     0.00,2,     1.76,2, -999.000,5, -999.000,5, -999.000,9,-999.0000,9,  -999.00,9,   -999.0,9,   -999.0,9,  -999.00,9,-999.0000,-999.000,  8.5664,-999.000
      325024_1,  P14N,   182,  1,     24,     24,2,19930828,1147,-14.5013, 178.9960, 2112,    557.9,   7.2956,  34.4547,2,  34.4538,2,   -999.0,9,    184.8,2,    16.78,2,    25.44,2,     0.00,2,     1.82,2, -999.000,5, -999.000,5, -999.000,9,-999.0000,9,  -999.00,9,   -999.0,9,   -999.0,9,  -999.00,9,-999.0000,-999.000,  7.2412,-999.000
      325024_1,  P14N,   182,  1,     23,     23,2,19930828,1147,-14.5013, 178.9960, 2112,    608.4,   6.3683,  34.3957,2,  34.3977,2,   -999.0,9,    188.5,2,    20.87,2,    27.34,2,     0.00,2,     1.93,2, -999.000,5, -999.000,5, -999.000,9,-999.0000,9,  -999.00,9,   -999.0,9,   -999.0,9,  -999.00,9,-999.0000,-999.000,  6.3131,-999.000
      325024_1,  P14N,   182,  1,     22,     22,2,19930828,1147,-14.5013, 178.9960, 2112,    658.8,   5.7849,  34.3755,2,  34.3799,2,   -999.0,9,    186.0,2,    26.15,2,    28.92,2,     0.00,2,     2.04,2, -999.000,5, -999.000,5, -999.000,9,-999.0000,9,  -999.00,9,   -999.0,9,   -999.0,9,  -999.00,9,-999.0000,-999.000,  5.7278,-999.000
      325024_1,  P14N,   182,  1,     21,     21,2,19930828,1147,-14.5013, 178.9960, 2112,    709.0,   5.2596,  34.3956,2,  34.3965,2,   -999.0,9,    173.9,2,    35.59,2,    30.84,2,     0.00,2,     2.17,2, -999.000,5, -999.000,5, -999.000,9,-999.0000,9,  -999.00,9,   -999.0,9,   -999.0,9,  -999.00,9,-999.0000,-999.000,  5.2008,-999.000
      325024_1,  P14N,   182,  1,     20,     20,2,19930828,1147,-14.5013, 178.9960, 2112,    759.1,   4.9039,  34.4161,2,  34.4171,2,   -999.0,9,    165.7,2,    42.84,2,    31.97,2,     0.00,2,     2.25,2, -999.000,5, -999.000,5, -999.000,9,-999.0000,9,  -999.00,9,   -999.0,9,   -999.0,9,  -999.00,9,-999.0000,-999.000,  4.8427,-999.000
      325024_1,  P14N,   182,  1,     19,     19,2,19930828,1147,-14.5013, 178.9960, 2112,    810.0,   4.5284,  34.4334,2,  34.4353,2,   -999.0,9,    161.4,2,    50.68,2,    32.94,2,     0.00,2,     2.32,2, -999.000,5, -999.000,5, -999.000,9,-999.0000,9,  -999.00,9,   -999.0,9,   -999.0,9,  -999.00,9,-999.0000,-999.000,  4.4651,-999.000
      325024_1,  P14N,   182,  1,     18,     18,2,19930828,1147,-14.5013, 178.9960, 2112,    860.3,   4.2254,  34.4563,2,  34.4573,2,   -999.0,9,    157.5,2,    58.73,2,    33.57,2,     0.00,2,     2.36,2, -999.000,5, -999.000,5, -999.000,9,-999.0000,9,  -999.00,9,   -999.0,9,   -999.0,9,  -999.00,9,-999.0000,-999.000,  4.1598,-999.000
      325024_1,  P14N,   182,  1,     17,     17,2,19930828,1147,-14.5013, 178.9960, 2112,    911.3,   4.0059,  34.4775,2,  34.4780,2,   -999.0,9,    152.9,2,    65.78,2,    34.12,2,     0.00,2,     2.41,2, -999.000,5, -999.000,5, -999.000,9,-999.0000,9,  -999.00,9,   -999.0,9,   -999.0,9,  -999.00,9,-999.0000,-999.000,  3.9375,-999.000
      325024_1,  P14N,   182,  1,     16,     16,2,19930828,1147,-14.5013, 178.9960, 2112,    961.6,   3.9145,  34.4928,2,  34.4941,2,   -999.0,9,    149.3,2,    70.66,2,    34.54,2,     0.00,2,     2.43,2, -999.000,5, -999.000,5, -999.000,9,-999.0000,9,  -999.00,9,   -999.0,9,   -999.0,9,  -999.00,9,-999.0000,-999.000,  3.8427,-999.000
      325024_1,  P14N,   182,  1,     15,     15,2,19930828,1147,-14.5013, 178.9960, 2112,   1011.8,   3.8464,  34.4967,2,  34.4990,2,   -999.0,9,    148.6,2,    72.16,2,    34.49,2,     0.00,2,     2.43,2, -999.000,5, -999.000,5, -999.000,9,-999.0000,9,  -999.00,9,   -999.0,9,   -999.0,9,  -999.00,9,-999.0000,-999.000,  3.7709,-999.000
      325024_1,  P14N,   182,  1,     14,     14,2,19930828,1147,-14.5013, 178.9960, 2112,   1113.1,   3.5108,  34.5108,2,  34.5127,2,   -999.0,9,    150.6,2,    78.83,2,    34.65,2,     0.00,2,     2.45,2, -999.000,5, -999.000,5, -999.000,9,-999.0000,9,  -999.00,9,   -999.0,9,   -999.0,9,  -999.00,9,-999.0000,-999.000,  3.4298,-999.000
      325024_1,  P14N,   182,  1,     13,     13,2,19930828,1147,-14.5013, 178.9960, 2112,   1214.5,   3.2688,  34.5441,2,  34.5449,2,   -999.0,9,    144.2,2,    89.10,2,    35.25,2,     0.00,2,     2.49,2, -999.000,5, -999.000,5, -999.000,9,-999.0000,9,  -999.00,9,   -999.0,9,   -999.0,9,  -999.00,9,-999.0000,-999.000,  3.1817,-999.000
      325024_1,  P14N,   182,  1,     12,     12,2,19930828,1147,-14.5013, 178.9960, 2112,   1315.3,   3.0680,  34.5613,2,  34.5623,2,   -999.0,9,    142.5,2,    95.60,2,    35.50,2,     0.00,2,     2.51,2, -999.000,5, -999.000,5, -999.000,9,-999.0000,9,  -999.00,9,   -999.0,9,   -999.0,9,  -999.00,9,-999.0000,-999.000,  2.9746,-999.000
      325024_1,  P14N,   182,  1,     11,     11,2,19930828,1147,-14.5013, 178.9960, 2112,   1416.7,   2.9072,  34.5723,2,  34.5743,2,   -999.0,9,    143.5,2,   100.30,2,    35.53,2,     0.00,2,     2.51,2, -999.000,5, -999.000,5, -999.000,9,-999.0000,9,  -999.00,9,   -999.0,9,   -999.0,9,  -999.00,9,-999.0000,-999.000,  2.8073,-999.000
      325024_1,  P14N,   182,  1,     10,     10,2,19930828,1147,-14.5013, 178.9960, 2112,   1517.9,   2.7574,  34.5847,2,  34.5878,2,   -999.0,9,    143.4,2,   104.82,2,    35.57,2,     0.00,2,     2.51,2, -999.000,5, -999.000,5, -999.000,9,-999.0000,9,  -999.00,9,   -999.0,9,   -999.0,9,  -999.00,9,-999.0000,-999.000,  2.6509,-999.000
      325024_1,  P14N,   182,  1,      9,      9,2,19930828,1147,-14.5013, 178.9960, 2112,   1619.7,   2.6609,  34.5922,2,  34.5941,2,   -999.0,9,    143.7,2,   107.53,2,    35.69,2,     0.00,2,     2.51,2, -999.000,5, -999.000,5, -999.000,9,-999.0000,9,  -999.00,9,   -999.0,9,   -999.0,9,  -999.00,9,-999.0000,-999.000,  2.5471,-999.000
      325024_1,  P14N,   182,  1,      8,      8,2,19930828,1147,-14.5013, 178.9960, 2112,   1721.0,   2.5139,  34.6048,2,  34.6056,2,   -999.0,9,    143.9,2,   112.06,2,    35.77,2,     0.00,2,     2.51,2, -999.000,5, -999.000,5, -999.000,9,-999.0000,9,  -999.00,9,   -999.0,9,   -999.0,9,  -999.00,9,-999.0000,-999.000,  2.3935,-999.000
      325024_1,  P14N,   182,  1,      7,      7,2,19930828,1147,-14.5013, 178.9960, 2112,   1822.6,   2.4290,  34.6118,2,  34.6139,2,   -999.0,9,    144.1,2,   114.98,2,    35.76,2,     0.00,2,     2.52,2, -999.000,5, -999.000,5, -999.000,9,-999.0000,9,  -999.00,9,   -999.0,9,   -999.0,9,  -999.00,9,-999.0000,-999.000,  2.3013,-999.000
      325024_1,  P14N,   182,  1,      6,      6,2,19930828,1147,-14.5013, 178.9960, 2112,   1924.2,   2.3374,  34.6196,2,  34.6213,2,   -999.0,9,    143.9,2,   117.90,2,    35.75,2,     0.00,2,     2.52,2, -999.000,5, -999.000,5, -999.000,9,-999.0000,9,  -999.00,9,   -999.0,9,   -999.0,9,  -999.00,9,-999.0000,-999.000,  2.2024,-999.000
      325024_1,  P14N,   182,  1,      5,      5,2,19930828,1147,-14.5013, 178.9960, 2112,   2025.5,   2.2867,  34.6246,2,  34.6256,2,   -999.0,9,    144.7,2,   119.21,2,    35.83,2,     0.00,2,     2.51,2, -999.000,5, -999.000,5, -999.000,9,-999.0000,9,  -999.00,9,   -999.0,9,   -999.0,9,  -999.00,9,-999.0000,-999.000,  2.1438,-999.000
      325024_1,  P14N,   182,  1,      4,      4,2,19930828,1147,-14.5013, 178.9960, 2112,   2127.3,   2.2095,  34.6317,2,  34.6333,2,   -999.0,9,    145.7,2,   121.33,2,    35.69,2,     0.00,2,     2.51,2, -999.000,5, -999.000,5, -999.000,9,-999.0000,9,  -999.00,9,   -999.0,9,   -999.0,9,  -999.00,9,-999.0000,-999.000,  2.0589,-999.000
      325024_1,  P14N,   182,  1,      3,      3,2,19930828,1147,-14.5013, 178.9960, 2112,   2229.1,   2.0884,  34.6419,2,  34.6425,2,   -999.0,9,    145.4,2,   125.68,2,    35.73,2,     0.00,2,     2.50,2, -999.000,5, -999.000,5, -999.000,9,-999.0000,9,  -999.00,9,   -999.0,9,   -999.0,9,  -999.00,9,-999.0000,-999.000,  1.9308,-999.000
      325024_1,  P14N,   182,  1,      2,      2,2,19930828,1147,-14.5013, 178.9960, 2112,   2324.5,   2.0564,  34.6439,2,  34.6458,2,   -999.0,9,    145.3,2,   127.60,2,    35.76,2,     0.00,2,     2.51,2, -999.000,5, -999.000,5, -999.000,9,-999.0000,9,  -999.00,9,   -999.0,9,   -999.0,9,  -999.00,9,-999.0000,-999.000,  1.8909,-999.000
      325024_1,  P14N,   182,  1,      1,      1,2,19930828,1147,-14.5013, 178.9960, 2112,   2324.6,   2.0565,  34.6440,2,  34.6450,2,   -999.0,9,    145.4,2,   127.48,2,    35.84,2,     0.00,2,     2.51,2, -999.000,5, -999.000,5, -999.000,9,-999.0000,9,  -999.00,9,   -999.0,9,   -999.0,9,  -999.00,9,-999.0000,-999.000,  1.8910,-999.000