BOTTLE,20131125MIRCJHATS
EXPOCODE,SECT_ID,STNNBR,CASTNO,SAMPNO,BTLNBR,BTLNBR_FLAG_W,DATE,TIME,LATITUDE,LONGITUDE,DEPTH,CTDPRS,CTDTMP,CTDSAL,CTDSAL_FLAG_W,SALNTY,SALNTY_FLAG_W,CTDOXY,CTDOXY_FLAG_W,OXYGEN,OXYGEN_FLAG_W,SILCAT,SILCAT_FLAG_W,NITRAT,NITRAT_FLAG_W,NITRIT,NITRIT_FLAG_W,PHSPHT,PHSPHT_FLAG_W,CFC-11,CFC-11_FLAG_W,CFC-12,CFC-12_FLAG_W,TRITUM,TRITUM_FLAG_W,HELIUM,HELIUM_FLAG_W,DELHE3,DELHE3_FLAG_W,TCARBN,TCARBN_FLAG_W,ALKALI,ALKALI_FLAG_W,PH,PH_FLAG_W,HELIER,DELHER,THETA,TRITER
,,,,,,,,,,,,DBAR,ITS-90,PSS-78,,PSS-78,,UMOL/KG,,UMOL/KG,,UMOL/KG,,UMOL/KG,,UMOL/KG,,UMOL/KG,,PMOL/KG,,PMOL/KG,,TU,,NMOL/KG,,PERCNT,,UMOL/KG,,UMOL/KG,,25_DEG,,NMOL/KG,PERCNT,DEG C,TU
      325023_1,  P14N,    44,  1,     36,     36,2,19930718,1229, 40.4985, 178.9977, 5876,      3.0,  15.1169,  34.1064,2,  34.1032,2,   -999.0,9,    258.3,2,     9.37,2,     2.90,2,     0.08,2,     0.41,3, -999.000,5, -999.000,5, -999.000,9,-999.0000,9,  -999.00,9,   -999.0,9,   -999.0,9,  -999.00,9,-999.0000,-999.000, 15.1164,-999.000
      325023_1,  P14N,    44,  1,     35,     35,2,19930718,1229, 40.4985, 178.9977, 5876,     40.8,  12.9393,  34.1800,2,  34.1659,2,   -999.0,9,    273.7,2,    12.37,2,     5.16,2,     0.12,2,     0.59,3, -999.000,5, -999.000,5, -999.000,9,-999.0000,9,  -999.00,9,   -999.0,9,   -999.0,9,  -999.00,9,-999.0000,-999.000, 12.9338,-999.000
      325023_1,  P14N,    44,  1,     34,     34,2,19930718,1229, 40.4985, 178.9977, 5876,     70.6,  10.9741,  34.2550,2,  34.2549,2,   -999.0,9,    262.3,2,    15.37,2,     9.01,2,     0.27,2,     0.82,3, -999.000,5, -999.000,5, -999.000,9,-999.0000,9,  -999.00,9,   -999.0,9,   -999.0,9,  -999.00,9,-999.0000,-999.000, 10.9656,-999.000
      325023_1,  P14N,    44,  1,     33,     33,2,19930718,1229, 40.4985, 178.9977, 5876,    100.7,  10.6694,  34.2611,2,  34.2602,2,   -999.0,9,    255.3,2,    16.38,2,    10.71,2,     0.05,2,     0.90,3, -999.000,5, -999.000,5, -999.000,9,-999.0000,9,  -999.00,9,   -999.0,9,   -999.0,9,  -999.00,9,-999.0000,-999.000, 10.6574,-999.000
      325023_1,  P14N,    44,  1,     32,     32,2,19930718,1229, 40.4985, 178.9977, 5876,    130.1,  10.2698,  34.2143,2,  34.2265,2,   -999.0,9,    254.7,2,    17.39,2,    11.33,2,     0.04,2,     0.95,3, -999.000,5, -999.000,5, -999.000,9,-999.0000,9,  -999.00,9,   -999.0,9,   -999.0,9,  -999.00,9,-999.0000,-999.000, 10.2546,-999.000
      325023_1,  P14N,    44,  1,     31,     31,2,19930718,1229, 40.4985, 178.9977, 5876,    161.2,   9.9051,  34.1757,2,  34.1783,2,   -999.0,9,    257.9,2,    18.22,2,    11.86,2,     0.03,2,     0.99,3, -999.000,5, -999.000,5, -999.000,9,-999.0000,9,  -999.00,9,   -999.0,9,   -999.0,9,  -999.00,9,-999.0000,-999.000,  9.8867,-999.000
      325023_1,  P14N,    44,  1,     30,     30,2,19930718,1229, 40.4985, 178.9977, 5876,    211.4,   9.4072,  34.1286,2,  34.1308,2,   -999.0,9,    254.7,2,    19.96,2,    13.08,2,     0.02,2,     1.07,3, -999.000,5, -999.000,5, -999.000,9,-999.0000,9,  -999.00,9,   -999.0,9,   -999.0,9,  -999.00,9,-999.0000,-999.000,  9.3838,-999.000
      325023_1,  P14N,    44,  1,     29,     29,2,19930718,1229, 40.4985, 178.9977, 5876,    261.6,   8.8363,  34.0818,2,  34.0799,2,   -999.0,9,    233.1,2,    25.30,2,    16.09,2,     0.02,2,     1.28,3, -999.000,5, -999.000,5, -999.000,9,-999.0000,9,  -999.00,9,   -999.0,9,   -999.0,9,  -999.00,9,-999.0000,-999.000,  8.8085,-999.000
      325023_1,  P14N,    44,  1,     28,     28,2,19930718,1229, 40.4985, 178.9977, 5876,    311.8,   8.1453,  34.0330,2,  34.0306,2,   -999.0,9,    220.4,2,    30.46,2,    18.57,2,     0.02,2,     1.46,3, -999.000,5, -999.000,5, -999.000,9,-999.0000,9,  -999.00,9,   -999.0,9,   -999.0,9,  -999.00,9,-999.0000,-999.000,  8.1137,-999.000
      325023_1,  P14N,    44,  1,     27,     27,2,19930718,1229, 40.4985, 178.9977, 5876,    412.8,   6.4260,  33.9886,2,  33.9850,2,   -999.0,9,    163.9,2,    51.72,2,    26.83,2,     0.01,2,     2.03,3, -999.000,5, -999.000,5, -999.000,9,-999.0000,9,  -999.00,9,   -999.0,9,   -999.0,9,  -999.00,9,-999.0000,-999.000,  6.3892,-999.000
      325023_1,  P14N,    44,  1,     26,     26,2,19930718,1229, 40.4985, 178.9977, 5876,    513.6,   5.2500,  34.0004,2,  33.9996,2,   -999.0,9,    121.8,2,    70.89,2,    32.63,2,     0.01,2,     2.45,3, -999.000,5, -999.000,5, -999.000,9,-999.0000,9,  -999.00,9,   -999.0,9,   -999.0,9,  -999.00,9,-999.0000,-999.000,  5.2085,-999.000
      325023_1,  P14N,    44,  1,     25,     25,2,19930718,1229, 40.4985, 178.9977, 5876,    614.3,   4.5912,  34.0640,2,  34.0632,2,   -999.0,9,     86.9,2,    87.63,2,    36.66,2,     0.01,2,     2.72,3, -999.000,5, -999.000,5, -999.000,9,-999.0000,9,  -999.00,9,   -999.0,9,   -999.0,9,  -999.00,9,-999.0000,-999.000,  4.5441,-999.000
      325023_1,  P14N,    44,  1,     24,     24,2,19930718,1229, 40.4985, 178.9977, 5876,    715.7,   4.1997,  34.1416,2,  34.1391,2,   -999.0,9,     58.9,2,   101.38,2,    39.51,2,     0.00,2,     2.91,3, -999.000,5, -999.000,5, -999.000,9,-999.0000,9,  -999.00,9,   -999.0,9,   -999.0,9,  -999.00,9,-999.0000,-999.000,  4.1465,-999.000
      325023_1,  P14N,    44,  1,     23,     23,2,19930718,1229, 40.4985, 178.9977, 5876,    816.5,   3.8546,  34.2175,2,  34.2143,2,   -999.0,9,     41.7,2,   113.78,2,    41.30,2,     0.00,2,     3.03,3, -999.000,5, -999.000,5, -999.000,9,-999.0000,9,  -999.00,9,   -999.0,9,   -999.0,9,  -999.00,9,-999.0000,-999.000,  3.7952,-999.000
      325023_1,  P14N,    44,  1,     22,     22,2,19930718,1229, 40.4985, 178.9977, 5876,    918.3,   3.5209,  34.2753,2,  34.2736,2,   -999.0,9,     32.6,2,   127.28,2,    42.28,2,     0.00,2,     3.10,3, -999.000,5, -999.000,5, -999.000,9,-999.0000,9,  -999.00,9,   -999.0,9,   -999.0,9,  -999.00,9,-999.0000,-999.000,  3.4557,-999.000
      325023_1,  P14N,    44,  1,     21,     21,2,19930718,1229, 40.4985, 178.9977, 5876,   1019.2,   3.2577,  34.3265,2,  34.3247,2,   -999.0,9,     25.5,2,   134.83,2,    43.04,2,     0.00,2,     3.16,3, -999.000,5, -999.000,5, -999.000,9,-999.0000,9,  -999.00,9,   -999.0,9,   -999.0,9,  -999.00,9,-999.0000,-999.000,  3.1866,-999.000
      325023_1,  P14N,    44,  1,     20,     20,2,19930718,1229, 40.4985, 178.9977, 5876,   1218.2,   2.9006,  34.4085,2,  34.4097,2,   -999.0,9,     25.0,2,   146.34,2,    43.40,2,     0.00,2,     3.17,3, -999.000,5, -999.000,5, -999.000,9,-999.0000,9,  -999.00,9,   -999.0,9,   -999.0,9,  -999.00,9,-999.0000,-999.000,  2.8169,-999.000
      325023_1,  P14N,    44,  1,     19,     19,2,19930718,1229, 40.4985, 178.9977, 5876,   1413.8,   2.5986,  34.4641,2,  34.4642,2,   -999.0,9,     23.8,2,   156.86,2,    43.80,2,     0.00,2,     3.18,3, -999.000,5, -999.000,5, -999.000,9,-999.0000,9,  -999.00,9,   -999.0,9,   -999.0,9,  -999.00,9,-999.0000,-999.000,  2.5025,-999.000
      325023_1,  P14N,    44,  1,     18,     18,2,19930718,1229, 40.4985, 178.9977, 5876,   1611.1,   2.3245,  34.5101,2,  34.5099,2,   -999.0,9,     35.8,2,   163.93,2,    43.07,2,     0.00,2,     3.13,3, -999.000,5, -999.000,5, -999.000,9,-999.0000,9,  -999.00,9,   -999.0,9,   -999.0,9,  -999.00,9,-999.0000,-999.000,  2.2158,-999.000
      325023_1,  P14N,    44,  1,     17,     17,2,19930718,1229, 40.4985, 178.9977, 5876,   1816.3,   2.1428,  34.5469,2,  34.5461,2,   -999.0,9,     45.2,2,   168.66,2,    42.57,2,     0.00,2,     3.09,3, -999.000,5, -999.000,5, -999.000,9,-999.0000,9,  -999.00,9,   -999.0,9,   -999.0,9,  -999.00,9,-999.0000,-999.000,  2.0198,-999.000
      325023_1,  P14N,    44,  1,     16,     16,2,19930718,1229, 40.4985, 178.9977, 5876,   2026.3,   1.9909,  34.5778,2,  34.5775,2,   -999.0,9,     56.7,2,   171.80,2,    41.93,2,     0.00,2,     3.03,3, -999.000,5, -999.000,5, -999.000,9,-999.0000,9,  -999.00,9,   -999.0,9,   -999.0,9,  -999.00,9,-999.0000,-999.000,  1.8526,-999.000
      325023_1,  P14N,    44,  1,     15,     15,2,19930718,1229, 40.4985, 178.9977, 5876,   2235.7,   1.8773,  34.6007,2,  34.6022,2,   -999.0,9,     68.6,2,   172.72,2,    41.21,2,     0.00,2,     2.98,3, -999.000,5, -999.000,5, -999.000,9,-999.0000,9,  -999.00,9,   -999.0,9,   -999.0,9,  -999.00,9,-999.0000,-999.000,  1.7229,-999.000
      325023_1,  P14N,    44,  1,     14,     14,2,19930718,1229, 40.4985, 178.9977, 5876,   2439.9,   1.7595,  34.6230,2,  34.6222,2,   -999.0,9,     83.1,2,   172.81,2,    40.31,2,     0.00,2,     2.91,3, -999.000,5, -999.000,5, -999.000,9,-999.0000,9,  -999.00,9,   -999.0,9,   -999.0,9,  -999.00,9,-999.0000,-999.000,  1.5892,-999.000
      325023_1,  P14N,    44,  1,     13,     13,2,19930718,1229, 40.4985, 178.9977, 5876,   2639.6,   1.6849,  34.6363,2,  34.6371,2,   -999.0,9,     95.1,2,   171.08,2,    39.54,2,     0.00,2,     2.85,3, -999.000,5, -999.000,5, -999.000,9,-999.0000,9,  -999.00,9,   -999.0,9,   -999.0,9,  -999.00,9,-999.0000,-999.000,  1.4979,-999.000
      325023_1,  P14N,    44,  1,     12,     12,2,19930718,1229, 40.4985, 178.9977, 5876,   2847.9,   1.6200,  34.6475,2,  34.6481,2,   -999.0,9,    107.4,2,   168.34,2,    38.78,2,     0.00,2,     2.79,3, -999.000,5, -999.000,5, -999.000,9,-999.0000,9,  -999.00,9,   -999.0,9,   -999.0,9,  -999.00,9,-999.0000,-999.000,  1.4151,-999.000
      325023_1,  P14N,    44,  1,     11,     11,2,19930718,1229, 40.4985, 178.9977, 5876,   3056.0,   1.5700,  34.6566,2,  34.6561,2,   -999.0,9,    117.1,2,   166.22,2,    38.11,2,     0.00,2,     2.75,3, -999.000,5, -999.000,5, -999.000,9,-999.0000,9,  -999.00,9,   -999.0,9,   -999.0,9,  -999.00,9,-999.0000,-999.000,  1.3464,-999.000
      325023_1,  P14N,    44,  1,     10,     10,2,19930718,1229, 40.4985, 178.9977, 5876,   3362.3,   1.5103,  34.6669,2,  34.6669,2,   -999.0,9,    130.5,2,   162.51,2,    37.13,2,     0.00,2,     2.66,3, -999.000,5, -999.000,5, -999.000,9,-999.0000,9,  -999.00,9,   -999.0,9,   -999.0,9,  -999.00,9,-999.0000,-999.000,  1.2579,-999.000
      325023_1,  P14N,    44,  1,      9,      9,2,19930718,1229, 40.4985, 178.9977, 5876,   3669.0,   1.4806,  34.6753,2,  34.6741,2,   -999.0,9,    139.8,2,   159.61,2,    36.63,2,     0.00,2,     2.62,3, -999.000,5, -999.000,5, -999.000,9,-999.0000,9,  -999.00,9,   -999.0,9,   -999.0,9,  -999.00,9,-999.0000,-999.000,  1.1976,-999.000
      325023_1,  P14N,    44,  1,      8,      8,2,19930718,1229, 40.4985, 178.9977, 5876,   3978.8,   1.4646,  34.6794,2,  34.6802,2,   -999.0,9,    146.7,2,   158.52,2,    36.14,2,     0.00,2,     2.58,3, -999.000,5, -999.000,5, -999.000,9,-999.0000,9,  -999.00,9,   -999.0,9,   -999.0,9,  -999.00,9,-999.0000,-999.000,  1.1491,-999.000
      325023_1,  P14N,    44,  1,      7,      7,2,19930718,1229, 40.4985, 178.9977, 5876,   4286.5,   1.4695,  34.6826,2,  34.6843,2,   -999.0,9,    150.7,2,   157.82,2,    35.87,2,     0.00,2,     2.57,3, -999.000,5, -999.000,5, -999.000,9,-999.0000,9,  -999.00,9,   -999.0,9,   -999.0,9,  -999.00,9,-999.0000,-999.000,  1.1198,-999.000
      325023_1,  P14N,    44,  1,      6,      6,2,19930718,1229, 40.4985, 178.9977, 5876,   4592.3,   1.4917,  34.6853,2,  34.6857,2,   -999.0,9,    152.5,2,   158.32,2,    35.78,2,     0.00,2,     2.56,3, -999.000,5, -999.000,5, -999.000,9,-999.0000,9,  -999.00,9,   -999.0,9,   -999.0,9,  -999.00,9,-999.0000,-999.000,  1.1063,-999.000
      325023_1,  P14N,    44,  1,      5,      5,2,19930718,1229, 40.4985, 178.9977, 5876,   4900.2,   1.5226,  34.6856,2,  34.6851,2,   -999.0,9,    153.2,2,   158.62,2,    35.78,2,     0.00,2,     2.55,3, -999.000,5, -999.000,5, -999.000,9,-999.0000,9,  -999.00,9,   -999.0,9,   -999.0,9,  -999.00,9,-999.0000,-999.000,  1.0997,-999.000
      325023_1,  P14N,    44,  1,      4,      4,2,19930718,1229, 40.4985, 178.9977, 5876,   5211.5,   1.5584,  34.6857,2,  34.6851,2,   -999.0,9,    153.3,2,   159.11,2,    35.73,2,     0.00,2,     2.54,3, -999.000,5, -999.000,5, -999.000,9,-999.0000,9,  -999.00,9,   -999.0,9,   -999.0,9,  -999.00,9,-999.0000,-999.000,  1.0962,-999.000
      325023_1,  P14N,    44,  1,      3,      3,2,19930718,1229, 40.4985, 178.9977, 5876,   5524.7,   1.5984,  34.6859,2,  34.6863,2,   -999.0,9,    153.7,2,   159.21,2,    35.68,2,     0.00,2,     2.54,3, -999.000,5, -999.000,5, -999.000,9,-999.0000,9,  -999.00,9,   -999.0,9,   -999.0,9,  -999.00,9,-999.0000,-999.000,  1.0951,-999.000
      325023_1,  P14N,    44,  1,      2,      2,2,19930718,1229, 40.4985, 178.9977, 5876,   5835.7,   1.6395,  34.6868,2,  34.6874,2,   -999.0,9,    153.9,2,   159.11,2,    35.68,2,     0.00,2,     2.53,3, -999.000,5, -999.000,5, -999.000,9,-999.0000,9,  -999.00,9,   -999.0,9,   -999.0,9,  -999.00,9,-999.0000,-999.000,  1.0941,-999.000
      325023_1,  P14N,    44,  1,      1,      1,2,19930718,1229, 40.4985, 178.9977, 5876,   5985.3,   1.6602,  34.6854,2,  34.6876,2,   -999.0,9,    154.0,2,   159.01,2,    35.71,2,     0.00,2,     2.53,3, -999.000,5, -999.000,5, -999.000,9,-999.0000,9,  -999.00,9,   -999.0,9,   -999.0,9,  -999.00,9,-999.0000,-999.000,  1.0941,-999.000