BOTTLE,20131125MIRCJHATS
EXPOCODE,SECT_ID,STNNBR,CASTNO,SAMPNO,BTLNBR,BTLNBR_FLAG_W,DATE,TIME,LATITUDE,LONGITUDE,DEPTH,CTDPRS,CTDTMP,CTDSAL,CTDSAL_FLAG_W,SALNTY,SALNTY_FLAG_W,CTDOXY,CTDOXY_FLAG_W,OXYGEN,OXYGEN_FLAG_W,SILCAT,SILCAT_FLAG_W,NITRAT,NITRAT_FLAG_W,NITRIT,NITRIT_FLAG_W,PHSPHT,PHSPHT_FLAG_W,CFC-11,CFC-11_FLAG_W,CFC-12,CFC-12_FLAG_W,TRITUM,TRITUM_FLAG_W,HELIUM,HELIUM_FLAG_W,DELHE3,DELHE3_FLAG_W,TCARBN,TCARBN_FLAG_W,ALKALI,ALKALI_FLAG_W,PH,PH_FLAG_W,HELIER,DELHER,THETA,TRITER
,,,,,,,,,,,,DBAR,ITS-90,PSS-78,,PSS-78,,UMOL/KG,,UMOL/KG,,UMOL/KG,,UMOL/KG,,UMOL/KG,,UMOL/KG,,PMOL/KG,,PMOL/KG,,TU,,NMOL/KG,,PERCNT,,UMOL/KG,,UMOL/KG,,25_DEG,,NMOL/KG,PERCNT,DEG C,TU
      325024_1,  P14N,   162,  1,     36,     36,2,19930823,0818, -4.7575, 179.0027, 3439,      2.1,  29.9865,  34.3214,2,  34.3278,2,   -999.0,9,    194.2,2,     2.13,2,     0.00,2,     0.00,2,     0.18,2, -999.000,5, -999.000,5, -999.000,9,-999.0000,9,  -999.00,9,   -999.0,9,   -999.0,9,  -999.00,9,-999.0000,-999.000, 29.9860,-999.000
      325024_1,  P14N,   162,  1,     35,     35,2,19930823,0818, -4.7575, 179.0027, 3439,      2.1,  29.9784,  34.3207,2,  34.3270,2,   -999.0,9,    194.1,2,     1.71,2,     0.00,2,     0.00,2,     0.18,2, -999.000,5, -999.000,5, -999.000,9,-999.0000,9,  -999.00,9,   -999.0,9,   -999.0,9,  -999.00,9,-999.0000,-999.000, 29.9779,-999.000
      325024_1,  P14N,   162,  1,     34,     34,2,19930823,0818, -4.7575, 179.0027, 3439,     30.5,  29.8248,  34.3429,2,  34.3509,2,   -999.0,9,    194.7,2,     1.68,2,     0.00,2,     0.00,2,     0.18,2, -999.000,5, -999.000,5, -999.000,9,-999.0000,9,  -999.00,9,   -999.0,9,   -999.0,9,  -999.00,9,-999.0000,-999.000, 29.8173,-999.000
      325024_1,  P14N,   162,  1,     33,     33,2,19930823,0818, -4.7575, 179.0027, 3439,     59.9,  29.7826,  34.4693,4,  34.4347,2,   -999.0,9,    198.4,2,     1.46,2,     0.00,2,     0.00,2,     0.17,2, -999.000,5, -999.000,5, -999.000,9,-999.0000,9,  -999.00,9,   -999.0,9,   -999.0,9,  -999.00,9,-999.0000,-999.000, 29.7679,-999.000
      325024_1,  P14N,   162,  1,     32,     32,2,19930823,0818, -4.7575, 179.0027, 3439,     89.7,  29.1656,  35.3061,2,  35.2942,2,   -999.0,9,    199.7,2,     1.62,2,     0.12,2,     0.05,2,     0.31,2, -999.000,5, -999.000,5, -999.000,9,-999.0000,9,  -999.00,9,   -999.0,9,   -999.0,9,  -999.00,9,-999.0000,-999.000, 29.1438,-999.000
      325024_1,  P14N,   162,  1,     31,     31,2,19930823,0818, -4.7575, 179.0027, 3439,    119.9,  27.2512,  35.5696,2,  35.5696,2,   -999.0,9,    158.4,2,     1.98,2,     4.57,2,     1.72,2,     0.68,2, -999.000,5, -999.000,5, -999.000,9,-999.0000,9,  -999.00,9,   -999.0,9,   -999.0,9,  -999.00,9,-999.0000,-999.000, 27.2235,-999.000
      325024_1,  P14N,   162,  1,     30,     30,2,19930823,0818, -4.7575, 179.0027, 3439,    150.3,  23.8298,  35.9600,2,  35.9375,2,   -999.0,9,    136.8,2,     2.15,2,     8.77,2,     0.09,2,     0.87,2, -999.000,5, -999.000,5, -999.000,9,-999.0000,9,  -999.00,9,   -999.0,9,   -999.0,9,  -999.00,9,-999.0000,-999.000, 23.7982,-999.000
      325024_1,  P14N,   162,  1,     29,     29,2,19930823,0818, -4.7575, 179.0027, 3439,    200.4,  16.8603,  35.3933,4,  35.3644,2,   -999.0,9,    101.6,2,     8.77,2,    17.22,2,     0.01,2,     1.41,2, -999.000,5, -999.000,5, -999.000,9,-999.0000,9,  -999.00,9,   -999.0,9,   -999.0,9,  -999.00,9,-999.0000,-999.000, 16.8273,-999.000
      325024_1,  P14N,   162,  1,     28,     28,2,19930823,0818, -4.7575, 179.0027, 3439,    256.0,  13.0953,  35.0088,2,  35.0001,2,   -999.0,9,     87.8,2,    15.98,2,    23.67,2,     0.01,2,     1.75,2, -999.000,5, -999.000,5, -999.000,9,-999.0000,9,  -999.00,9,   -999.0,9,   -999.0,9,  -999.00,9,-999.0000,-999.000, 13.0599,-999.000
      325024_1,  P14N,   162,  1,     27,     27,2,19930823,0818, -4.7575, 179.0027, 3439,    305.3,  10.6054,  34.7961,2,  34.7913,2,   -999.0,9,     91.4,2,    21.61,2,    27.60,2,     0.00,2,     1.98,2, -999.000,5, -999.000,5, -999.000,9,-999.0000,9,  -999.00,9,   -999.0,9,   -999.0,9,  -999.00,9,-999.0000,-999.000, 10.5685,-999.000
      325024_1,  P14N,   162,  1,     26,     26,2,19930823,0818, -4.7575, 179.0027, 3439,    355.8,   9.6736,  34.7219,2,  34.7209,2,   -999.0,9,     82.2,2,    26.47,2,    30.49,2,     0.00,2,     2.16,2, -999.000,5, -999.000,5, -999.000,9,-999.0000,9,  -999.00,9,   -999.0,9,   -999.0,9,  -999.00,9,-999.0000,-999.000,  9.6330,-999.000
      325024_1,  P14N,   162,  1,     25,     25,2,19930823,0818, -4.7575, 179.0027, 3439,    406.0,   9.0415,  34.6772,2,  34.6730,2,   -999.0,9,     98.7,2,    27.21,2,    30.31,2,     0.01,2,     2.12,2, -999.000,5, -999.000,5, -999.000,9,-999.0000,9,  -999.00,9,   -999.0,9,   -999.0,9,  -999.00,9,-999.0000,-999.000,  8.9970,-999.000
      325024_1,  P14N,   162,  1,     24,     24,2,19930823,0818, -4.7575, 179.0027, 3439,    455.8,   8.4931,  34.6437,2,  34.6427,2,   -999.0,9,     87.0,2,    31.28,2,    32.74,2,     0.01,2,     2.26,2, -999.000,5, -999.000,5, -999.000,9,-999.0000,9,  -999.00,9,   -999.0,9,   -999.0,9,  -999.00,9,-999.0000,-999.000,  8.4447,-999.000
      325024_1,  P14N,   162,  1,     23,     23,2,19930823,0818, -4.7575, 179.0027, 3439,    505.8,   7.9757,  34.6210,2,  34.6201,2,   -999.0,9,     65.6,2,    37.88,2,    36.18,2,     0.00,2,     2.48,2, -999.000,5, -999.000,5, -999.000,9,-999.0000,9,  -999.00,9,   -999.0,9,   -999.0,9,  -999.00,9,-999.0000,-999.000,  7.9239,-999.000
      325024_1,  P14N,   162,  1,     22,     22,2,19930823,0818, -4.7575, 179.0027, 3439,    606.1,   6.8256,  34.5661,2,  34.5632,2,   -999.0,9,     88.2,2,    44.09,2,    36.18,2,     0.00,2,     2.51,2, -999.000,5, -999.000,5, -999.000,9,-999.0000,9,  -999.00,9,   -999.0,9,   -999.0,9,  -999.00,9,-999.0000,-999.000,  6.7683,-999.000
      325024_1,  P14N,   162,  1,     21,     21,2,19930823,0818, -4.7575, 179.0027, 3439,    705.8,   6.1688,  34.5385,2,  34.5389,2,   -999.0,9,     99.7,2,    49.91,2,    36.22,2,     0.01,2,     2.53,2, -999.000,5, -999.000,5, -999.000,9,-999.0000,9,  -999.00,9,   -999.0,9,   -999.0,9,  -999.00,9,-999.0000,-999.000,  6.1052,-999.000
      325024_1,  P14N,   162,  1,     20,     20,2,19930823,0818, -4.7575, 179.0027, 3439,    806.1,   5.6295,  34.5361,2,  34.5369,2,   -999.0,9,     91.3,2,    60.04,2,    37.83,2,     0.01,2,     2.64,2, -999.000,5, -999.000,5, -999.000,9,-999.0000,9,  -999.00,9,   -999.0,9,   -999.0,9,  -999.00,9,-999.0000,-999.000,  5.5596,-999.000
      325024_1,  P14N,   162,  1,     19,     19,2,19930823,0818, -4.7575, 179.0027, 3439,    906.1,   5.1505,  34.5304,2,  34.5312,2,   -999.0,9,    104.6,2,    65.67,2,    37.17,2,     0.00,2,     2.63,2, -999.000,5, -999.000,5, -999.000,9,-999.0000,9,  -999.00,9,   -999.0,9,   -999.0,9,  -999.00,9,-999.0000,-999.000,  5.0745,-999.000
      325024_1,  P14N,   162,  1,     18,     18,2,19930823,0818, -4.7575, 179.0027, 3439,   1006.6,   4.6445,  34.5325,2,  34.5339,2,   -999.0,9,    111.4,2,    73.27,2,    37.07,2,     0.00,2,     2.62,2, -999.000,5, -999.000,5, -999.000,9,-999.0000,9,  -999.00,9,   -999.0,9,   -999.0,9,  -999.00,9,-999.0000,-999.000,  4.5632,-999.000
      325024_1,  P14N,   162,  1,     17,     17,2,19930823,0818, -4.7575, 179.0027, 3439,   1106.7,   4.2064,  34.5455,2,  34.5458,2,   -999.0,9,    108.0,2,    83.04,2,    37.93,2,     0.00,2,     2.67,2, -999.000,5, -999.000,5, -999.000,9,-999.0000,9,  -999.00,9,   -999.0,9,   -999.0,9,  -999.00,9,-999.0000,-999.000,  4.1200,-999.000
      325024_1,  P14N,   162,  1,     16,     16,2,19930823,0818, -4.7575, 179.0027, 3439,   1212.5,   3.8040,  34.5602,2,  34.5601,2,   -999.0,9,    109.9,2,    92.85,2,    38.06,2,     0.01,2,     2.69,2, -999.000,5, -999.000,5, -999.000,9,-999.0000,9,  -999.00,9,   -999.0,9,   -999.0,9,  -999.00,9,-999.0000,-999.000,  3.7120,-999.000
      325024_1,  P14N,   162,  1,     15,     15,2,19930823,0818, -4.7575, 179.0027, 3439,   1313.3,   3.4471,  34.5734,2,  34.5728,2,   -999.0,9,    113.1,2,   100.52,2,    38.01,2,     0.01,2,     2.67,2, -999.000,5, -999.000,5, -999.000,9,-999.0000,9,  -999.00,9,   -999.0,9,   -999.0,9,  -999.00,9,-999.0000,-999.000,  3.3501,-999.000
      325024_1,  P14N,   162,  1,     14,     14,2,19930823,0818, -4.7575, 179.0027, 3439,   1412.9,   3.1513,  34.5862,2,  34.5861,2,   -999.0,9,    113.9,2,   108.01,2,    38.06,2,     0.00,2,     2.69,2, -999.000,5, -999.000,5, -999.000,9,-999.0000,9,  -999.00,9,   -999.0,9,   -999.0,9,  -999.00,9,-999.0000,-999.000,  3.0490,-999.000
      325024_1,  P14N,   162,  1,     13,     13,2,19930823,0818, -4.7575, 179.0027, 3439,   1512.9,   2.9637,  34.5967,2,  34.5975,2,   -999.0,9,    113.4,2,   114.14,2,    38.38,2,     0.00,2,     2.67,2, -999.000,5, -999.000,5, -999.000,9,-999.0000,9,  -999.00,9,   -999.0,9,   -999.0,9,  -999.00,9,-999.0000,-999.000,  2.8551,-999.000
      325024_1,  P14N,   162,  1,     12,     12,2,19930823,0818, -4.7575, 179.0027, 3439,   1614.4,   2.7806,  34.6059,2,  34.6067,2,   -999.0,9,    114.8,2,   118.48,2,    38.33,2,     0.00,2,     2.69,2, -999.000,5, -999.000,5, -999.000,9,-999.0000,9,  -999.00,9,   -999.0,9,   -999.0,9,  -999.00,9,-999.0000,-999.000,  2.6657,-999.000
      325024_1,  P14N,   162,  1,     11,     11,2,19930823,0818, -4.7575, 179.0027, 3439,   1821.1,   2.4711,  34.6234,2,  34.6237,2,   -999.0,9,    118.2,2,   126.87,2,    38.15,2,     0.00,2,     2.67,2, -999.000,5, -999.000,5, -999.000,9,-999.0000,9,  -999.00,9,   -999.0,9,   -999.0,9,  -999.00,9,-999.0000,-999.000,  2.3429,-999.000
      325024_1,  P14N,   162,  1,     10,     10,2,19930823,0818, -4.7575, 179.0027, 3439,   2022.2,   2.2459,  34.6357,2,  34.6359,2,   -999.0,9,    123.5,2,   130.85,2,    37.88,2,     0.00,2,     2.66,2, -999.000,5, -999.000,5, -999.000,9,-999.0000,9,  -999.00,9,   -999.0,9,   -999.0,9,  -999.00,9,-999.0000,-999.000,  2.1038,-999.000
      325024_1,  P14N,   162,  1,      9,      9,2,19930823,0818, -4.7575, 179.0027, 3439,   2224.8,   2.0991,  34.6445,2,  34.6453,2,   -999.0,9,    125.4,2,   135.04,2,    37.70,2,     0.00,2,     2.63,2, -999.000,5, -999.000,5, -999.000,9,-999.0000,9,  -999.00,9,   -999.0,9,   -999.0,9,  -999.00,9,-999.0000,-999.000,  1.9417,-999.000
      325024_1,  P14N,   162,  1,      8,      8,2,19930823,0818, -4.7575, 179.0027, 3439,   2432.2,   1.9812,  34.6521,2,  34.6523,2,   -999.0,9,    128.7,2,   138.02,2,    37.34,2,     0.00,2,     2.62,2, -999.000,5, -999.000,5, -999.000,9,-999.0000,9,  -999.00,9,   -999.0,9,   -999.0,9,  -999.00,9,-999.0000,-999.000,  1.8075,-999.000
      325024_1,  P14N,   162,  1,      7,      7,2,19930823,0818, -4.7575, 179.0027, 3439,   2633.8,   1.8457,  34.6600,2,  34.6599,2,   -999.0,9,    135.0,2,   138.96,2,    37.12,2,     0.00,2,     2.57,2, -999.000,5, -999.000,5, -999.000,9,-999.0000,9,  -999.00,9,   -999.0,9,   -999.0,9,  -999.00,9,-999.0000,-999.000,  1.6561,-999.000
      325024_1,  P14N,   162,  1,      6,      6,2,19930823,0818, -4.7575, 179.0027, 3439,   2836.9,   1.7376,  34.6675,2,  34.6681,2,   -999.0,9,    141.1,2,   140.31,2,    36.57,2,     0.01,3,     2.52,2, -999.000,5, -999.000,5, -999.000,9,-999.0000,9,  -999.00,9,   -999.0,9,   -999.0,9,  -999.00,9,-999.0000,-999.000,  1.5312,-999.000
      325024_1,  P14N,   162,  1,      5,      5,2,19930823,0818, -4.7575, 179.0027, 3439,   3043.9,   1.6612,  34.6727,2,  34.6730,2,   -999.0,9,    145.4,2,   140.64,2,    36.35,2,     0.00,2,     2.52,2, -999.000,5, -999.000,5, -999.000,9,-999.0000,9,  -999.00,9,   -999.0,9,   -999.0,9,  -999.00,9,-999.0000,-999.000,  1.4366,-999.000
      325024_1,  P14N,   162,  1,      4,      4,2,19930823,0818, -4.7575, 179.0027, 3439,   3246.3,   1.5713,  34.6782,2,  34.6789,2,   -999.0,9,    151.8,2,   140.76,2,    36.00,2,     0.00,2,     2.49,2, -999.000,5, -999.000,5, -999.000,9,-999.0000,9,  -999.00,9,   -999.0,9,   -999.0,9,  -999.00,9,-999.0000,-999.000,  1.3290,-999.000
      325024_1,  P14N,   162,  1,      3,      3,2,19930823,0818, -4.7575, 179.0027, 3439,   3454.5,   1.4844,  34.6837,2,  34.6839,2,   -999.0,9,    157.6,2,   140.67,2,    35.78,2,     0.00,2,     2.45,2, -999.000,5, -999.000,5, -999.000,9,-999.0000,9,  -999.00,9,   -999.0,9,   -999.0,9,  -999.00,9,-999.0000,-999.000,  1.2233,-999.000
      325024_1,  P14N,   162,  1,      2,      2,2,19930823,0818, -4.7575, 179.0027, 3439,   3673.0,   1.4364,  34.6878,2,  34.6880,2,   -999.0,9,    162.1,2,   140.39,2,    35.38,2,     0.00,2,     2.44,2, -999.000,5, -999.000,5, -999.000,9,-999.0000,9,  -999.00,9,   -999.0,9,   -999.0,9,  -999.00,9,-999.0000,-999.000,  1.1541,-999.000
      325024_1,  P14N,   162,  1,      1,      1,2,19930823,0818, -4.7575, 179.0027, 3439,   3673.0,   1.4362,  34.6878,2,  34.6884,2,   -999.0,9,    161.7,2,   140.51,2,    35.42,2,     0.00,2,     2.45,2, -999.000,5, -999.000,5, -999.000,9,-999.0000,9,  -999.00,9,   -999.0,9,   -999.0,9,  -999.00,9,-999.0000,-999.000,  1.1539,-999.000