BOTTLE,20131125MIRCJHATS
EXPOCODE,SECT_ID,STNNBR,CASTNO,SAMPNO,BTLNBR,BTLNBR_FLAG_W,DATE,TIME,LATITUDE,LONGITUDE,DEPTH,CTDPRS,CTDTMP,CTDSAL,CTDSAL_FLAG_W,SALNTY,SALNTY_FLAG_W,CTDOXY,CTDOXY_FLAG_W,OXYGEN,OXYGEN_FLAG_W,SILCAT,SILCAT_FLAG_W,NITRAT,NITRAT_FLAG_W,NITRIT,NITRIT_FLAG_W,PHSPHT,PHSPHT_FLAG_W,CFC-11,CFC-11_FLAG_W,CFC-12,CFC-12_FLAG_W,TRITUM,TRITUM_FLAG_W,HELIUM,HELIUM_FLAG_W,DELHE3,DELHE3_FLAG_W,TCARBN,TCARBN_FLAG_W,ALKALI,ALKALI_FLAG_W,PH,PH_FLAG_W,HELIER,DELHER,THETA,TRITER
,,,,,,,,,,,,DBAR,ITS-90,PSS-78,,PSS-78,,UMOL/KG,,UMOL/KG,,UMOL/KG,,UMOL/KG,,UMOL/KG,,UMOL/KG,,PMOL/KG,,PMOL/KG,,TU,,NMOL/KG,,PERCNT,,UMOL/KG,,UMOL/KG,,25_DEG,,NMOL/KG,PERCNT,DEG C,TU
      325023_1,  P14N,    56,  1,     36,     36,2,19930721,1544, 34.4950, 178.9968, 3163,      2.4,  22.7058,  34.7479,2,  34.7502,2,   -999.0,9,    220.8,2,     3.06,2,     0.06,2,     0.00,2,     0.05,2, -999.000,5, -999.000,5, -999.000,9,-999.0000,9,  -999.00,9,   -999.0,9,   -999.0,9,  -999.00,9,-999.0000,-999.000, 22.7053,-999.000
      325023_1,  P14N,    56,  1,     35,     35,2,19930721,1544, 34.4950, 178.9968, 3163,      2.6,  22.7069,  34.7481,2,  34.7500,2,   -999.0,9,    220.3,2,     3.24,2,     0.05,2,     0.00,2,     0.03,2, -999.000,5, -999.000,5, -999.000,9,-999.0000,9,  -999.00,9,   -999.0,9,   -999.0,9,  -999.00,9,-999.0000,-999.000, 22.7064,-999.000
      325023_1,  P14N,    56,  1,     34,     34,2,19930721,1544, 34.4950, 178.9968, 3163,     36.5,  22.3704,  34.7367,2,  34.7297,2,   -999.0,9,    225.9,2,     3.03,2,     0.05,2,     0.00,2,     0.03,2, -999.000,5, -999.000,5, -999.000,9,-999.0000,9,  -999.00,9,   -999.0,9,   -999.0,9,  -999.00,9,-999.0000,-999.000, 22.3632,-999.000
      325023_1,  P14N,    56,  1,     33,     33,2,19930721,1544, 34.4950, 178.9968, 3163,     67.2,  18.3632,  34.7540,2,  34.7456,2,   -999.0,9,    245.6,2,     3.02,2,     0.05,2,     0.00,2,     0.05,2, -999.000,5, -999.000,5, -999.000,9,-999.0000,9,  -999.00,9,   -999.0,9,   -999.0,9,  -999.00,9,-999.0000,-999.000, 18.3516,-999.000
      325023_1,  P14N,    56,  1,     32,     32,2,19930721,1544, 34.4950, 178.9968, 3163,     95.1,  17.0073,  34.7559,2,  34.7552,2,   -999.0,9,    237.3,2,     3.79,2,     1.21,2,     0.23,2,     0.16,2, -999.000,5, -999.000,5, -999.000,9,-999.0000,9,  -999.00,9,   -999.0,9,   -999.0,9,  -999.00,9,-999.0000,-999.000, 16.9916,-999.000
      325023_1,  P14N,    56,  1,     31,     31,2,19930721,1544, 34.4950, 178.9968, 3163,     97.1,  16.9480,  34.7556,2,  34.7560,2,   -999.0,9,    236.1,2,     3.78,2,     1.41,2,     0.24,2,     0.17,2, -999.000,5, -999.000,5, -999.000,9,-999.0000,9,  -999.00,9,   -999.0,9,   -999.0,9,  -999.00,9,-999.0000,-999.000, 16.9320,-999.000
      325023_1,  P14N,    56,  1,     30,     30,2,19930721,1544, 34.4950, 178.9968, 3163,    125.7,  16.5657,  34.7397,2,  34.7417,2,   -999.0,9,    230.6,2,     3.96,2,     2.93,2,     0.06,2,     0.25,2, -999.000,5, -999.000,5, -999.000,9,-999.0000,9,  -999.00,9,   -999.0,9,   -999.0,9,  -999.00,9,-999.0000,-999.000, 16.5454,-999.000
      325023_1,  P14N,    56,  1,     29,     29,2,19930721,1544, 34.4950, 178.9968, 3163,    127.8,  16.5611,  34.7422,2,  34.7421,2,   -999.0,9,    230.2,2,     4.14,2,     2.94,2,     0.05,2,     0.25,2, -999.000,5, -999.000,5, -999.000,9,-999.0000,9,  -999.00,9,   -999.0,9,   -999.0,9,  -999.00,9,-999.0000,-999.000, 16.5405,-999.000
      325023_1,  P14N,    56,  1,     28,     28,2,19930721,1544, 34.4950, 178.9968, 3163,    158.0,  16.2489,  34.7163,2,  34.7140,2,   -999.0,9,    232.4,2,     4.13,2,     3.19,2,     0.01,2,     0.26,2, -999.000,5, -999.000,5, -999.000,9,-999.0000,9,  -999.00,9,   -999.0,9,   -999.0,9,  -999.00,9,-999.0000,-999.000, 16.2237,-999.000
      325023_1,  P14N,    56,  1,     27,     27,2,19930721,1544, 34.4950, 178.9968, 3163,    208.0,  15.9425,  34.6989,2,  34.6981,2,   -999.0,9,    233.1,2,     4.31,2,     3.58,2,     0.01,2,     0.29,2, -999.000,5, -999.000,5, -999.000,9,-999.0000,9,  -999.00,9,   -999.0,9,   -999.0,9,  -999.00,9,-999.0000,-999.000, 15.9098,-999.000
      325023_1,  P14N,    56,  1,     26,     26,2,19930721,1544, 34.4950, 178.9968, 3163,    257.9,  15.3626,  34.6363,2,  34.6329,2,   -999.0,9,    217.1,2,     7.25,2,     6.28,2,     0.01,2,     0.46,2, -999.000,5, -999.000,5, -999.000,9,-999.0000,9,  -999.00,9,   -999.0,9,   -999.0,9,  -999.00,9,-999.0000,-999.000, 15.3230,-999.000
      325023_1,  P14N,    56,  1,     25,     25,2,19930721,1544, 34.4950, 178.9968, 3163,    308.5,  14.5926,  34.5682,2,  34.5678,2,   -999.0,9,    213.3,2,     9.39,2,     7.76,2,     0.01,2,     0.57,2, -999.000,5, -999.000,5, -999.000,9,-999.0000,9,  -999.00,9,   -999.0,9,   -999.0,9,  -999.00,9,-999.0000,-999.000, 14.5468,-999.000
      325023_1,  P14N,    56,  1,     24,     24,2,19930721,1544, 34.4950, 178.9968, 3163,    359.4,  13.5405,  34.4803,2,  34.4766,2,   -999.0,9,    219.6,2,    10.75,2,     8.55,2,     0.01,2,     0.64,2, -999.000,5, -999.000,5, -999.000,9,-999.0000,9,  -999.00,9,   -999.0,9,   -999.0,9,  -999.00,9,-999.0000,-999.000, 13.4897,-999.000
      325023_1,  P14N,    56,  1,     23,     23,2,19930721,1544, 34.4950, 178.9968, 3163,    410.0,  12.5036,  34.4074,2,  34.4045,2,   -999.0,9,    221.6,2,    13.09,2,     9.99,2,     0.01,2,     0.74,2, -999.000,5, -999.000,5, -999.000,9,-999.0000,9,  -999.00,9,   -999.0,9,   -999.0,9,  -999.00,9,-999.0000,-999.000, 12.4485,-999.000
      325023_1,  P14N,    56,  1,     22,     22,2,19930721,1544, 34.4950, 178.9968, 3163,    460.2,  11.4568,  34.3359,2,  34.3363,2,   -999.0,9,    212.9,2,    17.59,2,    12.61,2,     0.01,2,     0.94,2, -999.000,5, -999.000,5, -999.000,9,-999.0000,9,  -999.00,9,   -999.0,9,   -999.0,9,  -999.00,9,-999.0000,-999.000, 11.3983,-999.000
      325023_1,  P14N,    56,  1,     21,     21,2,19930721,1544, 34.4950, 178.9968, 3163,    510.6,  10.1627,  34.2320,2,  34.2330,2,   -999.0,9,    200.5,2,    24.24,2,    16.28,2,     0.01,2,     1.18,2, -999.000,5, -999.000,5, -999.000,9,-999.0000,9,  -999.00,9,   -999.0,9,   -999.0,9,  -999.00,9,-999.0000,-999.000, 10.1025,-999.000
      325023_1,  P14N,    56,  1,     20,     20,2,19930721,1544, 34.4950, 178.9968, 3163,    610.6,   7.8255,  34.0829,2,  34.0800,2,   -999.0,9,    175.3,2,    41.70,2,    22.80,2,     0.00,2,     1.65,2, -999.000,5, -999.000,5, -999.000,9,-999.0000,9,  -999.00,9,   -999.0,9,   -999.0,9,  -999.00,9,-999.0000,-999.000,  7.7637,-999.000
      325023_1,  P14N,    56,  1,     19,     19,2,19930721,1544, 34.4950, 178.9968, 3163,    710.7,   6.0030,  34.0157,2,  34.0134,2,   -999.0,9,    139.3,2,    61.33,2,    29.27,2,     0.00,2,     2.11,2, -999.000,5, -999.000,5, -999.000,9,-999.0000,9,  -999.00,9,   -999.0,9,   -999.0,9,  -999.00,9,-999.0000,-999.000,  5.9404,-999.000
      325023_1,  P14N,    56,  1,     18,     18,2,19930721,1544, 34.4950, 178.9968, 3163,    811.0,   4.7416,  34.0903,2,  34.0985,2,   -999.0,9,     81.1,2,    88.38,2,    36.31,2,     0.00,2,     2.59,2, -999.000,5, -999.000,5, -999.000,9,-999.0000,9,  -999.00,9,   -999.0,9,   -999.0,9,  -999.00,9,-999.0000,-999.000,  4.6773,-999.000
      325023_1,  P14N,    56,  1,     17,     17,2,19930721,1544, 34.4950, 178.9968, 3163,    911.1,   4.1745,  34.1790,2,  34.1786,2,   -999.0,9,     56.1,2,   105.29,2,    39.18,2,     0.00,2,     2.79,2, -999.000,5, -999.000,5, -999.000,9,-999.0000,9,  -999.00,9,   -999.0,9,   -999.0,9,  -999.00,9,-999.0000,-999.000,  4.1054,-999.000
      325023_1,  P14N,    56,  1,     16,     16,2,19930721,1544, 34.4950, 178.9968, 3163,   1011.4,   3.7897,  34.2531,2,  34.2528,2,   -999.0,9,     43.0,2,   118.11,2,    40.58,2,     0.00,2,     2.89,2, -999.000,5, -999.000,5, -999.000,9,-999.0000,9,  -999.00,9,   -999.0,9,   -999.0,9,  -999.00,9,-999.0000,-999.000,  3.7152,-999.000
      325023_1,  P14N,    56,  1,     15,     15,2,19930721,1544, 34.4950, 178.9968, 3163,   1112.5,   3.4460,  34.3149,2,  34.3131,2,   -999.0,9,     30.2,2,   128.82,2,    41.95,2,     0.00,2,     2.98,2, -999.000,5, -999.000,5, -999.000,9,-999.0000,9,  -999.00,9,   -999.0,9,   -999.0,9,  -999.00,9,-999.0000,-999.000,  3.3660,-999.000
      325023_1,  P14N,    56,  1,     14,     14,2,19930721,1544, 34.4950, 178.9968, 3163,   1214.6,   3.0998,  34.3798,2,  34.3813,2,   -999.0,9,     26.5,2,   139.41,2,    42.46,2,     0.00,2,     3.01,2, -999.000,5, -999.000,5, -999.000,9,-999.0000,9,  -999.00,9,   -999.0,9,   -999.0,9,  -999.00,9,-999.0000,-999.000,  3.0146,-999.000
      325023_1,  P14N,    56,  1,     13,     13,2,19930721,1544, 34.4950, 178.9968, 3163,   1317.5,   2.8830,  34.4202,2,  34.4193,2,   -999.0,9,     27.7,2,   146.59,2,    42.61,2,     0.00,2,     3.01,2, -999.000,5, -999.000,5, -999.000,9,-999.0000,9,  -999.00,9,   -999.0,9,   -999.0,9,  -999.00,9,-999.0000,-999.000,  2.7917,-999.000
      325023_1,  P14N,    56,  1,     12,     12,2,19930721,1544, 34.4950, 178.9968, 3163,   1419.9,   2.6886,  34.4602,2,  34.4590,2,   -999.0,9,     30.0,2,   152.56,2,    42.71,2,     0.00,2,     3.01,2, -999.000,5, -999.000,5, -999.000,9,-999.0000,9,  -999.00,9,   -999.0,9,   -999.0,9,  -999.00,9,-999.0000,-999.000,  2.5911,-999.000
      325023_1,  P14N,    56,  1,     11,     11,2,19930721,1544, 34.4950, 178.9968, 3163,   1522.5,   2.5443,  34.4882,2,  34.4863,2,   -999.0,9,     32.5,2,   156.48,2,    42.50,2,     0.00,2,     3.00,2, -999.000,5, -999.000,5, -999.000,9,-999.0000,9,  -999.00,9,   -999.0,9,   -999.0,9,  -999.00,9,-999.0000,-999.000,  2.4402,-999.000
      325023_1,  P14N,    56,  1,     10,     10,2,19930721,1544, 34.4950, 178.9968, 3163,   1624.3,   2.4244,  34.5119,2,  34.5112,2,   -999.0,9,     37.3,2,   159.14,2,    42.46,2,     0.00,2,     2.98,2, -999.000,5, -999.000,5, -999.000,9,-999.0000,9,  -999.00,9,   -999.0,9,   -999.0,9,  -999.00,9,-999.0000,-999.000,  2.3134,-999.000
      325023_1,  P14N,    56,  1,      9,      9,2,19930721,1544, 34.4950, 178.9968, 3163,   1827.8,   2.1877,  34.5543,2,  34.5533,2,   -999.0,9,     49.8,2,   164.35,2,    41.75,2,     0.00,2,     2.93,2, -999.000,5, -999.000,5, -999.000,9,-999.0000,9,  -999.00,9,   -999.0,9,   -999.0,9,  -999.00,9,-999.0000,-999.000,  2.0631,-999.000
      325023_1,  P14N,    56,  1,      8,      8,2,19930721,1544, 34.4950, 178.9968, 3163,   2030.3,   2.0258,  34.5835,2,  34.5823,2,   -999.0,9,     62.6,2,   166.83,2,    41.00,2,     0.00,2,     2.87,2, -999.000,5, -999.000,5, -999.000,9,-999.0000,9,  -999.00,9,   -999.0,9,   -999.0,9,  -999.00,9,-999.0000,-999.000,  1.8866,-999.000
      325023_1,  P14N,    56,  1,      7,      7,2,19930721,1544, 34.4950, 178.9968, 3163,   2234.5,   1.8642,  34.6088,2,  34.6084,2,   -999.0,9,     78.6,2,   167.19,2,    40.06,2,     0.00,2,     2.80,2, -999.000,5, -999.000,5, -999.000,9,-999.0000,9,  -999.00,9,   -999.0,9,   -999.0,9,  -999.00,9,-999.0000,-999.000,  1.7101,-999.000
      325023_1,  P14N,    56,  1,      6,      6,2,19930721,1544, 34.4950, 178.9968, 3163,   2438.2,   1.7649,  34.6244,2,  34.6239,2,   -999.0,9,     90.7,2,   166.69,2,    39.35,2,     0.00,2,     2.75,2, -999.000,5, -999.000,5, -999.000,9,-999.0000,9,  -999.00,9,   -999.0,9,   -999.0,9,  -999.00,9,-999.0000,-999.000,  1.5946,-999.000
      325023_1,  P14N,    56,  1,      5,      5,2,19930721,1544, 34.4950, 178.9968, 3163,   2641.5,   1.6760,  34.6388,2,  34.6378,2,   -999.0,9,    102.2,2,   165.14,2,    38.60,2,     0.00,2,     2.69,2, -999.000,5, -999.000,5, -999.000,9,-999.0000,9,  -999.00,9,   -999.0,9,   -999.0,9,  -999.00,9,-999.0000,-999.000,  1.4890,-999.000
      325023_1,  P14N,    56,  1,      4,      4,2,19930721,1544, 34.4950, 178.9968, 3163,   2844.6,   1.5915,  34.6519,2,  34.6519,2,   -999.0,9,    114.9,2,   162.95,2,    37.72,2,     0.00,2,     2.62,2, -999.000,5, -999.000,5, -999.000,9,-999.0000,9,  -999.00,9,   -999.0,9,   -999.0,9,  -999.00,9,-999.0000,-999.000,  1.3875,-999.000
      325023_1,  P14N,    56,  1,      3,      3,2,19930721,1544, 34.4950, 178.9968, 3163,   3044.8,   1.5450,  34.6601,2,  34.6598,2,   -999.0,9,    123.2,2,   161.83,2,    37.19,2,     0.00,2,     2.58,2,    0.000,2,   -0.001,2, -999.000,9,-999.0000,9,  -999.00,9,   -999.0,9,   -999.0,9,  -999.00,9,-999.0000,-999.000,  1.3230,-999.000
      325023_1,  P14N,    56,  1,      1,      1,2,19930721,1544, 34.4950, 178.9968, 3163,   3213.2,   1.5142,  34.6665,2,  34.6656,2,   -999.0,9,    129.3,2,   160.44,2,    36.86,2,     0.00,2,     2.55,2, -999.000,5, -999.000,5, -999.000,9,-999.0000,9,  -999.00,9,   -999.0,9,   -999.0,9,  -999.00,9,-999.0000,-999.000,  1.2765,-999.000
      325023_1,  P14N,    56,  1,      2,      2,2,19930721,1544, 34.4950, 178.9968, 3163,   3213.9,   1.5141,  34.6666,2,  34.6652,2,   -999.0,9,    129.6,2,   160.50,2,    36.84,2,     0.00,2,     2.55,2,    0.003,2,    0.001,2, -999.000,9,-999.0000,9,  -999.00,9,   -999.0,9,   -999.0,9,  -999.00,9,-999.0000,-999.000,  1.2763,-999.000