BOTTLE,20131125MIRCJHATS
EXPOCODE,SECT_ID,STNNBR,CASTNO,SAMPNO,BTLNBR,BTLNBR_FLAG_W,DATE,TIME,LATITUDE,LONGITUDE,DEPTH,CTDPRS,CTDTMP,CTDSAL,CTDSAL_FLAG_W,SALNTY,SALNTY_FLAG_W,CTDOXY,CTDOXY_FLAG_W,OXYGEN,OXYGEN_FLAG_W,SILCAT,SILCAT_FLAG_W,NITRAT,NITRAT_FLAG_W,NITRIT,NITRIT_FLAG_W,PHSPHT,PHSPHT_FLAG_W,CFC-11,CFC-11_FLAG_W,CFC-12,CFC-12_FLAG_W,TRITUM,TRITUM_FLAG_W,HELIUM,HELIUM_FLAG_W,DELHE3,DELHE3_FLAG_W,TCARBN,TCARBN_FLAG_W,ALKALI,ALKALI_FLAG_W,PH,PH_FLAG_W,HELIER,DELHER,THETA,TRITER
,,,,,,,,,,,,DBAR,ITS-90,PSS-78,,PSS-78,,UMOL/KG,,UMOL/KG,,UMOL/KG,,UMOL/KG,,UMOL/KG,,UMOL/KG,,PMOL/KG,,PMOL/KG,,TU,,NMOL/KG,,PERCNT,,UMOL/KG,,UMOL/KG,,25_DEG,,NMOL/KG,PERCNT,DEG C,TU
      325023_1,  P14N,    97,  1,     36,     36,2,19930801,0957, 14.0060, 178.9973, 5759,      2.3,  27.6753,  34.6865,2,  34.6921,2,   -999.0,9,    200.8,2,     2.42,2,     0.00,2,     0.00,2,     0.13,2,    1.708,2,    0.915,2, -999.000,9,-999.0000,9,  -999.00,9,   1937.4,2,   2280.8,2,     8.12,2,-999.0000,-999.000, 27.6747,-999.000
      325023_1,  P14N,    97,  1,     35,     35,2,19930801,0957, 14.0060, 178.9973, 5759,     38.3,  27.6151,  34.6912,2,  34.6946,2,   -999.0,9,    200.7,2,     2.17,2,     0.00,2,     0.00,2,     0.13,2,    1.847,2,    0.986,2, -999.000,9,-999.0000,9,  -999.00,9,   1937.3,2,   2282.9,2,     8.12,2,-999.0000,-999.000, 27.6062,-999.000
      325023_1,  P14N,    97,  1,     34,     34,2,19930801,0957, 14.0060, 178.9973, 5759,     68.2,  26.5610,  34.7363,2,  34.7281,2,   -999.0,9,    210.3,2,     1.91,2,     0.00,2,     0.00,2,     0.10,2,    1.858,4,    1.002,4, -999.000,9,-999.0000,9,  -999.00,9,   1939.4,2,   2283.5,2,  -999.00,9,-999.0000,-999.000, 26.5456,-999.000
      325023_1,  P14N,    97,  1,     33,     33,2,19930801,0957, 14.0060, 178.9973, 5759,     98.0,  25.2642,  34.8083,2,  34.8049,2,   -999.0,9,    212.9,2,     1.65,2,     0.00,2,     0.00,2,     0.09,2,    1.913,2,    1.013,2, -999.000,9,-999.0000,9,  -999.00,9,   1947.2,2,   2289.2,2,     8.11,2,-999.0000,-999.000, 25.2428,-999.000
      325023_1,  P14N,    97,  1,     32,     32,2,19930801,0957, 14.0060, 178.9973, 5759,    128.4,  24.1713,  34.8925,2,  34.8930,2,   -999.0,9,    208.8,2,     1.39,2,     0.00,2,     0.00,2,     0.10,2,    1.891,2,    0.973,2, -999.000,9,-999.0000,9,  -999.00,9,   1967.7,2,   2297.1,2,  -999.00,9,-999.0000,-999.000, 24.1442,-999.000
      325023_1,  P14N,    97,  1,     31,     31,2,19930801,0957, 14.0060, 178.9973, 5759,    158.3,  22.2640,  35.0421,2,  35.0413,2,   -999.0,9,    195.9,2,     1.35,2,     0.38,2,     0.11,2,     0.18,2,    2.087,2,    1.077,2, -999.000,9,-999.0000,9,  -999.00,9,   2007.1,2,   2307.4,2,     8.04,2,-999.0000,-999.000, 22.2324,-999.000
      325023_1,  P14N,    97,  1,     30,     30,2,19930801,0957, 14.0060, 178.9973, 5759,    209.0,  17.6341,  34.7818,2,  34.7775,2,   -999.0,9,    168.5,2,     5.13,2,     6.42,2,     0.01,2,     0.61,2,    2.165,2,    1.087,2, -999.000,9,-999.0000,9,  -999.00,9,   2067.8,2,   2291.1,2,  -999.00,9,-999.0000,-999.000, 17.5988,-999.000
      325023_1,  P14N,    97,  1,     29,     29,2,19930801,0957, 14.0060, 178.9973, 5759,    259.0,  13.4516,  34.4403,2,  34.4399,2,   -999.0,9,    122.2,2,    15.29,2,    16.80,2,     0.00,2,     1.34,2,    1.718,2,    0.837,2, -999.000,9,-999.0000,9,  -999.00,9,   2132.9,2,   2272.9,2,     7.72,2,-999.0000,-999.000, 13.4152,-999.000
      325023_1,  P14N,    97,  1,     28,     28,2,19930801,0957, 14.0060, 178.9973, 5759,    309.3,  11.2026,  34.4825,2,  34.4834,2,   -999.0,9,     50.5,2,    29.05,2,    27.79,2,     0.00,2,     2.17,2,    0.649,2,    0.302,2, -999.000,9,-999.0000,9,  -999.00,9,   2216.5,2,   2285.4,2,  -999.00,9,-999.0000,-999.000, 11.1640,-999.000
      325023_1,  P14N,    97,  1,     27,     27,2,19930801,0957, 14.0060, 178.9973, 5759,    409.8,   8.8196,  34.4867,2,  34.4855,2,   -999.0,9,     28.4,2,    43.87,2,    33.60,2,     0.00,2,     2.56,2,    0.104,2,    0.049,2, -999.000,9,-999.0000,9,  -999.00,9,   2263.2,2,   2300.4,2,     7.43,2,-999.0000,-999.000,  8.7754,-999.000
      325023_1,  P14N,    97,  1,     26,     26,2,19930801,0957, 14.0060, 178.9973, 5759,    510.7,   7.6583,  34.4939,2,  34.4908,2,   -999.0,9,     33.0,2,    54.01,2,    36.59,2,     0.00,2,     2.67,2,    0.036,2,    0.014,2, -999.000,9,-999.0000,9,  -999.00,9,   2270.3,2,   2314.5,2,  -999.00,9,-999.0000,-999.000,  7.6072,-999.000
      325023_1,  P14N,    97,  1,     25,     25,2,19930801,0957, 14.0060, 178.9973, 5759,    611.5,   6.7919,  34.5001,2,  34.5002,2,   -999.0,9,     45.0,2,    62.45,2,    37.81,2,     0.00,2,     2.71,2,    0.016,2,    0.002,2, -999.000,9,-999.0000,9,  -999.00,9,   2277.9,2,   2324.9,2,     7.43,2,-999.0000,-999.000,  6.7343,-999.000
      325023_1,  P14N,    97,  1,     24,     24,2,19930801,0957, 14.0060, 178.9973, 5759,    712.1,   6.0805,  34.4990,2,  34.4986,2,   -999.0,9,     38.5,2,    72.60,2,    39.80,2,     0.00,2,     2.84,2,    0.002,2,    0.001,2, -999.000,9,-999.0000,9,  -999.00,9,   2296.8,2,   2333.1,2,     7.41,2,-999.0000,-999.000,  6.0168,-999.000
      325023_1,  P14N,    97,  1,     23,     23,2,19930801,0957, 14.0060, 178.9973, 5759,    813.1,   5.5001,  34.5078,2,  34.5074,2,   -999.0,9,     38.1,2,    81.70,2,    41.05,2,     0.00,2,     2.92,2,    0.003,2,    0.001,2, -999.000,9,-999.0000,9,  -999.00,9,   2307.4,2,   2344.1,2,     7.40,2,-999.0000,-999.000,  5.4303,-999.000
      325023_1,  P14N,    97,  1,     22,     22,2,19930801,0957, 14.0060, 178.9973, 5759,    914.0,   5.0632,  34.5189,2,  34.5185,2,   -999.0,9,     42.0,2,    89.10,2,    41.50,2,     0.00,2,     2.94,2,   -0.003,2,    0.000,2, -999.000,9,-999.0000,9,  -999.00,9,   2319.3,2,   2353.2,2,     7.40,2,-999.0000,-999.000,  4.9872,-999.000
      325023_1,  P14N,    97,  1,     21,     21,2,19930801,0957, 14.0060, 178.9973, 5759,   1014.8,   4.5965,  34.5280,2,  34.5281,2,   -999.0,9,     43.3,2,    98.01,2,    42.01,2,     0.00,2,     2.99,2,    0.000,2,    0.001,2, -999.000,9,-999.0000,9,  -999.00,9,   2330.3,2,   2362.2,2,     7.40,2,-999.0000,-999.000,  4.5149,-999.000
      325023_1,  P14N,    97,  1,     20,     20,2,19930801,0957, 14.0060, 178.9973, 5759,   1216.6,   3.9083,  34.5574,2,  34.5571,2,   -999.0,9,     58.6,2,   110.83,2,    41.42,2,     0.00,2,     2.93,2, -999.000,5, -999.000,5, -999.000,9,-999.0000,9,  -999.00,9,   2332.5,2,   2389.0,2,  -999.00,9,-999.0000,-999.000,  3.8151,-999.000
      325023_1,  P14N,    97,  1,     19,     19,2,19930801,0957, 14.0060, 178.9973, 5759,   1418.9,   3.2726,  34.5811,2,  34.5816,2,   -999.0,9,     75.3,2,   123.51,2,    40.50,2,     0.00,2,     2.83,2, -999.000,5, -999.000,5, -999.000,9,-999.0000,9,  -999.00,9,   2339.1,2,   2391.7,2,     7.46,2,-999.0000,-999.000,  3.1685,-999.000
      325023_1,  P14N,    97,  1,     18,     18,2,19930801,0957, 14.0060, 178.9973, 5759,   1620.5,   2.7844,  34.5988,2,  34.5984,2,   -999.0,9,     82.9,2,   134.74,2,    40.30,2,     0.00,2,     2.82,2, -999.000,5, -999.000,5, -999.000,9,-999.0000,9,  -999.00,9,   2345.9,2,   2407.4,2,     7.47,2,-999.0000,-999.000,  2.6690,-999.000
      325023_1,  P14N,    97,  1,     17,     17,2,19930801,0957, 14.0060, 178.9973, 5759,   1823.1,   2.4675,  34.6143,2,  34.6143,2,   -999.0,9,     91.7,2,   141.44,2,    39.76,2,     0.00,2,     2.78,2, -999.000,5, -999.000,5, -999.000,9,-999.0000,9,  -999.00,9,   2349.4,2,   2409.7,2,  -999.00,9,-999.0000,-999.000,  2.3392,-999.000
      325023_1,  P14N,    97,  1,     16,     16,2,19930801,0957, 14.0060, 178.9973, 5759,   2027.0,   2.2338,  34.6282,2,  34.6278,2,   -999.0,9,     99.8,2,   145.95,2,    39.28,2,     0.00,2,     2.73,2,    0.001,2,    0.000,2, -999.000,9,-999.0000,9,  -999.00,9,   2352.2,2,   2416.8,2,  -999.00,9,-999.0000,-999.000,  2.0915,-999.000
      325023_1,  P14N,    97,  1,     15,     15,2,19930801,0957, 14.0060, 178.9973, 5759,   2229.1,   2.0682,  34.6393,2,  34.6393,2,   -999.0,9,    106.2,2,   148.71,2,    38.89,2,     0.00,2,     2.69,2, -999.000,5, -999.000,5, -999.000,9,-999.0000,9,  -999.00,9,   2353.8,2,   2416.0,2,     7.51,2,-999.0000,-999.000,  1.9110,-999.000
      325023_1,  P14N,    97,  1,     14,     14,2,19930801,0957, 14.0060, 178.9973, 5759,   2432.6,   1.9351,  34.6476,2,  34.6478,2,   -999.0,9,    111.5,2,   151.47,2,    38.46,2,     0.00,2,     2.65,2, -999.000,5, -999.000,5, -999.000,9,-999.0000,9,  -999.00,9,   2354.0,2,   2425.8,2,  -999.00,9,-999.0000,-999.000,  1.7621,-999.000
      325023_1,  P14N,    97,  1,     13,     13,2,19930801,0957, 14.0060, 178.9973, 5759,   2636.3,   1.8425,  34.6545,2,  34.6548,2,   -999.0,9,    116.7,2,   153.13,2,    38.11,2,     0.00,2,     2.64,2, -999.000,5, -999.000,5, -999.000,9,-999.0000,9,  -999.00,9,   -999.0,9,   2426.3,2,     7.52,2,-999.0000,-999.000,  1.6528,-999.000
      325023_1,  P14N,    97,  1,     12,     12,2,19930801,0957, 14.0060, 178.9973, 5759,   2839.4,   1.7558,  34.6602,2,  34.6610,2,   -999.0,9,    121.4,2,   155.01,2,    37.87,2,     0.00,2,     2.61,2, -999.000,5, -999.000,5, -999.000,9,-999.0000,9,  -999.00,9,   2348.4,2,   2437.6,2,  -999.00,9,-999.0000,-999.000,  1.5488,-999.000
      325023_1,  P14N,    97,  1,     11,     11,2,19930801,0957, 14.0060, 178.9973, 5759,   3044.3,   1.6765,  34.6666,2,  34.6661,2,   -999.0,9,    127.4,2,   155.56,2,    37.44,2,     0.00,2,     2.59,2,   -0.001,4,    0.001,4, -999.000,9,-999.0000,9,  -999.00,9,   2345.6,2,   2425.2,2,  -999.00,9,-999.0000,-999.000,  1.4516,-999.000
      325023_1,  P14N,    97,  1,     10,     10,2,19930801,0957, 14.0060, 178.9973, 5759,   3351.5,   1.5694,  34.6743,2,  34.6743,2,   -999.0,9,    136.5,2,   155.45,2,    36.73,2,     0.00,2,     2.54,2, -999.000,5, -999.000,5, -999.000,9,-999.0000,9,  -999.00,9,   2342.6,2,   -999.0,9,  -999.00,9,-999.0000,-999.000,  1.3167,-999.000
      325023_1,  P14N,    97,  1,      9,      9,2,19930801,0957, 14.0060, 178.9973, 5759,   3659.7,   1.5136,  34.6790,2,  34.6796,2,   -999.0,9,    143.6,2,   154.22,2,    36.26,2,     0.00,2,     2.51,2, -999.000,5, -999.000,5, -999.000,9,-999.0000,9,  -999.00,9,   2334.5,2,   2429.2,2,     7.57,2,-999.0000,-999.000,  1.2306,-999.000
      325023_1,  P14N,    97,  1,      8,      8,2,19930801,0957, 14.0060, 178.9973, 5759,   3965.7,   1.4746,  34.6828,2,  34.6829,2,   -999.0,9,    149.8,2,   152.55,2,    35.88,2,     0.00,2,     2.47,2,   -0.005,2,    0.001,2, -999.000,9,-999.0000,9,  -999.00,9,   2332.2,2,   2419.1,2,  -999.00,9,-999.0000,-999.000,  1.1602,-999.000
      325023_1,  P14N,    97,  1,      7,      7,2,19930801,0957, 14.0060, 178.9973, 5759,   4273.3,   1.4375,  34.6877,2,  34.6882,2,   -999.0,9,    159.1,2,   147.80,2,    35.23,2,     0.00,2,     2.43,2, -999.000,5, -999.000,5, -999.000,9,-999.0000,9,  -999.00,9,   2314.3,2,   2415.2,2,  -999.00,9,-999.0000,-999.000,  1.0902,-999.000
      325023_1,  P14N,    97,  1,      6,      6,3,19930801,0957, 14.0060, 178.9973, 5759,   4580.6,   1.3857,  34.6934,2,  34.7492,4,   -999.0,9,    169.8,4,    15.19,4,     7.99,4,     0.01,4,     0.72,4, -999.000,5, -999.000,5, -999.000,9,-999.0000,9,  -999.00,9,   -999.0,9,   -999.0,9,  -999.00,9,-999.0000,-999.000,  1.0049,-999.000
      325023_1,  P14N,    97,  1,      5,      5,2,19930801,0957, 14.0060, 178.9973, 5759,   4889.8,   1.3397,  34.6989,2,  34.6987,2,   -999.0,9,    182.4,2,   132.70,2,    33.48,2,     0.00,2,     2.29,2,   -0.001,2,    0.001,2, -999.000,9,-999.0000,9,  -999.00,9,   2295.7,2,   2401.0,2,     7.60,2,-999.0000,-999.000,  0.9241,-999.000
      325023_1,  P14N,    97,  1,      4,      4,2,19930801,0957, 14.0060, 178.9973, 5759,   5198.6,   1.3435,  34.7008,2,  34.7010,2,   -999.0,9,    186.7,2,   130.64,2,    33.24,2,     0.00,2,     2.27,2, -999.000,5, -999.000,5, -999.000,9,-999.0000,9,  -999.00,9,   2291.8,2,   2390.4,2,  -999.00,9,-999.0000,-999.000,  0.8903,-999.000
      325023_1,  P14N,    97,  1,      3,      3,3,19930801,0957, 14.0060, 178.9973, 5759,   5507.3,   1.3719,  34.7014,2,  34.6584,4,   -999.0,9,    150.1,4,   131.84,4,    35.71,4,     0.00,4,     2.46,4, -999.000,5, -999.000,5, -999.000,9,-999.0000,9,  -999.00,9,   -999.0,9,   -999.0,9,  -999.00,9,-999.0000,-999.000,  0.8790,-999.000
      325023_1,  P14N,    97,  1,      1,      1,2,19930801,0957, 14.0060, 178.9973, 5759,   5820.4,   1.4094,  34.7017,2,  34.7023,2,   -999.0,9,    187.1,2,   129.68,2,    32.97,2,     0.00,2,     2.26,2, -999.000,5, -999.000,5, -999.000,9,-999.0000,9,  -999.00,9,   2289.2,2,   2389.2,2,  -999.00,9,-999.0000,-999.000,  0.8746,-999.000
      325023_1,  P14N,    97,  1,      2,      2,2,19930801,0957, 14.0060, 178.9973, 5759,   5820.6,   1.4092,  34.7018,2,  34.7026,2,   -999.0,9,    188.3,2,   129.78,2,    32.99,2,     0.00,2,     2.26,2,   -0.001,2,   -0.013,2, -999.000,9,-999.0000,9,  -999.00,9,   2289.5,2,   2390.9,2,  -999.00,9,-999.0000,-999.000,  0.8744,-999.000