BOTTLE,20131125MIRCJHATS
EXPOCODE,SECT_ID,STNNBR,CASTNO,SAMPNO,BTLNBR,BTLNBR_FLAG_W,DATE,TIME,LATITUDE,LONGITUDE,DEPTH,CTDPRS,CTDTMP,CTDSAL,CTDSAL_FLAG_W,SALNTY,SALNTY_FLAG_W,CTDOXY,CTDOXY_FLAG_W,OXYGEN,OXYGEN_FLAG_W,SILCAT,SILCAT_FLAG_W,NITRAT,NITRAT_FLAG_W,NITRIT,NITRIT_FLAG_W,PHSPHT,PHSPHT_FLAG_W,CFC-11,CFC-11_FLAG_W,CFC-12,CFC-12_FLAG_W,TRITUM,TRITUM_FLAG_W,HELIUM,HELIUM_FLAG_W,DELHE3,DELHE3_FLAG_W,TCARBN,TCARBN_FLAG_W,ALKALI,ALKALI_FLAG_W,PH,PH_FLAG_W,HELIER,DELHER,THETA,TRITER
,,,,,,,,,,,,DBAR,ITS-90,PSS-78,,PSS-78,,UMOL/KG,,UMOL/KG,,UMOL/KG,,UMOL/KG,,UMOL/KG,,UMOL/KG,,PMOL/KG,,PMOL/KG,,TU,,NMOL/KG,,PERCNT,,UMOL/KG,,UMOL/KG,,25_DEG,,NMOL/KG,PERCNT,DEG C,TU
      325023_1,  P14N,   124,  1,     36,     36,2,19930807,2105,  4.7447, 178.9993, 5857,      2.9,  29.6529,  34.0072,2,  34.0122,2,   -999.0,9,    194.9,2,     1.83,2,     0.03,2,     0.00,2,     0.17,2, -999.000,5, -999.000,5, -999.000,9,-999.0000,9,  -999.00,9,   -999.0,9,   -999.0,9,  -999.00,9,-999.0000,-999.000, 29.6521,-999.000
      325023_1,  P14N,   124,  1,     35,     35,2,19930807,2105,  4.7447, 178.9993, 5857,     39.6,  29.1591,  33.9827,2,  33.9870,2,   -999.0,9,    196.1,2,     1.77,2,     0.03,2,     0.00,2,     0.16,2, -999.000,5, -999.000,5, -999.000,9,-999.0000,9,  -999.00,9,   -999.0,9,   -999.0,9,  -999.00,9,-999.0000,-999.000, 29.1495,-999.000
      325023_1,  P14N,   124,  1,     34,     34,2,19930807,2105,  4.7447, 178.9993, 5857,     69.9,  28.4911,  34.4057,2,  34.3983,2,   -999.0,9,    198.8,2,     1.71,2,     0.03,2,     0.00,2,     0.18,2, -999.000,5, -999.000,5, -999.000,9,-999.0000,9,  -999.00,9,   -999.0,9,   -999.0,9,  -999.00,9,-999.0000,-999.000, 28.4745,-999.000
      325023_1,  P14N,   124,  1,     33,     33,2,19930807,2105,  4.7447, 178.9993, 5857,    100.6,  23.3845,  34.7164,2,  34.7269,2,   -999.0,9,    163.8,2,     4.33,2,     2.52,2,     0.21,2,     0.42,2, -999.000,5, -999.000,5, -999.000,9,-999.0000,9,  -999.00,9,   -999.0,9,   -999.0,9,  -999.00,9,-999.0000,-999.000, 23.3638,-999.000
      325023_1,  P14N,   124,  1,     32,     32,2,19930807,2105,  4.7447, 178.9993, 5857,    131.0,  19.0395,  34.7700,2,  34.7597,2,   -999.0,9,    146.9,2,     9.25,2,     8.68,2,     0.03,2,     0.75,2, -999.000,5, -999.000,5, -999.000,9,-999.0000,9,  -999.00,9,   -999.0,9,   -999.0,9,  -999.00,9,-999.0000,-999.000, 19.0162,-999.000
      325023_1,  P14N,   124,  1,     31,     31,2,19930807,2105,  4.7447, 178.9993, 5857,    161.4,  14.8768,  34.6113,2,  34.6033,2,   -999.0,9,    110.9,2,    17.43,2,    17.97,2,     0.01,2,     1.39,2, -999.000,5, -999.000,5, -999.000,9,-999.0000,9,  -999.00,9,   -999.0,9,   -999.0,9,  -999.00,9,-999.0000,-999.000, 14.8526,-999.000
      325023_1,  P14N,   124,  1,     30,     30,2,19930807,2105,  4.7447, 178.9993, 5857,    211.9,  10.6868,  34.6090,2,  34.6066,2,   -999.0,9,     65.2,2,    31.34,2,    29.32,2,     0.01,2,     2.13,2, -999.000,5, -999.000,5, -999.000,9,-999.0000,9,  -999.00,9,   -999.0,9,   -999.0,9,  -999.00,9,-999.0000,-999.000, 10.6613,-999.000
      325023_1,  P14N,   124,  1,     29,     29,2,19930807,2105,  4.7447, 178.9993, 5857,    262.2,   9.8122,  34.6417,2,  34.6387,2,   -999.0,9,     62.7,2,    33.58,2,    31.29,2,     0.01,2,     2.24,2, -999.000,5, -999.000,5, -999.000,9,-999.0000,9,  -999.00,9,   -999.0,9,   -999.0,9,  -999.00,9,-999.0000,-999.000,  9.7822,-999.000
      325023_1,  P14N,   124,  1,     28,     28,2,19930807,2105,  4.7447, 178.9993, 5857,    312.4,   9.2072,  34.6418,2,  34.6412,2,   -999.0,9,     61.0,2,    35.24,2,    32.95,2,     0.01,2,     2.33,2, -999.000,5, -999.000,5, -999.000,9,-999.0000,9,  -999.00,9,   -999.0,9,   -999.0,9,  -999.00,9,-999.0000,-999.000,  9.1727,-999.000
      325023_1,  P14N,   124,  1,     27,     27,2,19930807,2105,  4.7447, 178.9993, 5857,    413.3,   8.4106,  34.6177,2,  34.6161,2,   -999.0,9,     57.9,2,    39.39,2,    35.08,2,     0.01,2,     2.47,2, -999.000,5, -999.000,5, -999.000,9,-999.0000,9,  -999.00,9,   -999.0,9,   -999.0,9,  -999.00,9,-999.0000,-999.000,  8.3672,-999.000
      325023_1,  P14N,   124,  1,     26,     26,2,19930807,2105,  4.7447, 178.9993, 5857,    513.7,   7.6132,  34.5918,2,  34.5904,2,   -999.0,9,     41.7,2,    47.37,2,    38.15,2,     0.01,2,     2.71,2, -999.000,5, -999.000,5, -999.000,9,-999.0000,9,  -999.00,9,   -999.0,9,   -999.0,9,  -999.00,9,-999.0000,-999.000,  7.5619,-999.000
      325023_1,  P14N,   124,  1,     25,     25,2,19930807,2105,  4.7447, 178.9993, 5857,    614.2,   6.7403,  34.5615,2,  34.5596,2,   -999.0,9,     39.6,2,    57.86,2,    40.20,2,     0.01,2,     2.87,2, -999.000,5, -999.000,5, -999.000,9,-999.0000,9,  -999.00,9,   -999.0,9,   -999.0,9,  -999.00,9,-999.0000,-999.000,  6.6827,-999.000
      325023_1,  P14N,   124,  1,     24,     24,2,19930807,2105,  4.7447, 178.9993, 5857,    714.7,   5.8170,  34.5446,2,  34.5439,2,   -999.0,9,     46.7,2,    69.91,2,    41.22,2,     0.01,2,     2.91,2, -999.000,5, -999.000,5, -999.000,9,-999.0000,9,  -999.00,9,   -999.0,9,   -999.0,9,  -999.00,9,-999.0000,-999.000,  5.7544,-999.000
      325023_1,  P14N,   124,  1,     23,     23,2,19930807,2105,  4.7447, 178.9993, 5857,    815.5,   5.1546,  34.5479,2,  34.5474,2,   -999.0,9,     49.1,2,    80.45,2,    42.11,2,     0.01,2,     2.98,2, -999.000,5, -999.000,5, -999.000,9,-999.0000,9,  -999.00,9,   -999.0,9,   -999.0,9,  -999.00,9,-999.0000,-999.000,  5.0867,-999.000
      325023_1,  P14N,   124,  1,     22,     22,2,19930807,2105,  4.7447, 178.9993, 5857,    916.5,   4.6145,  34.5549,2,  34.5544,2,   -999.0,9,     65.0,2,    87.35,2,    40.85,2,     0.00,2,     2.89,2, -999.000,5, -999.000,5, -999.000,9,-999.0000,9,  -999.00,9,   -999.0,9,   -999.0,9,  -999.00,9,-999.0000,-999.000,  4.5413,-999.000
      325023_1,  P14N,   124,  1,     21,     21,2,19930807,2105,  4.7447, 178.9993, 5857,   1017.3,   4.1983,  34.5632,2,  34.5618,2,   -999.0,9,     77.3,2,    95.64,2,    40.17,2,     0.01,2,     2.85,2, -999.000,5, -999.000,5, -999.000,9,-999.0000,9,  -999.00,9,   -999.0,9,   -999.0,9,  -999.00,9,-999.0000,-999.000,  4.1195,-999.000
      325023_1,  P14N,   124,  1,     20,     20,2,19930807,2105,  4.7447, 178.9993, 5857,   1219.6,   3.7322,  34.5792,2,  34.5781,2,   -999.0,9,     73.9,2,   107.09,2,    41.10,2,     0.00,2,     2.91,2, -999.000,5, -999.000,5, -999.000,9,-999.0000,9,  -999.00,9,   -999.0,9,   -999.0,9,  -999.00,9,-999.0000,-999.000,  3.6403,-999.000
      325023_1,  P14N,   124,  1,     19,     19,2,19930807,2105,  4.7447, 178.9993, 5857,   1421.8,   3.1977,  34.5978,2,  34.5965,2,   -999.0,9,     80.1,2,   119.83,2,    40.79,2,     0.00,2,     2.89,2, -999.000,5, -999.000,5, -999.000,9,-999.0000,9,  -999.00,9,   -999.0,9,   -999.0,9,  -999.00,9,-999.0000,-999.000,  3.0941,-999.000
      325023_1,  P14N,   124,  1,     18,     18,2,19930807,2105,  4.7447, 178.9993, 5857,   1624.8,   2.7775,  34.6142,2,  34.6133,2,   -999.0,9,     90.5,2,   128.30,2,    40.16,2,     0.01,2,     2.83,2, -999.000,5, -999.000,5, -999.000,9,-999.0000,9,  -999.00,9,   -999.0,9,   -999.0,9,  -999.00,9,-999.0000,-999.000,  2.6618,-999.000
      325023_1,  P14N,   124,  1,     17,     17,2,19930807,2105,  4.7447, 178.9993, 5857,   1827.6,   2.4214,  34.6299,2,  34.6278,2,   -999.0,9,     99.8,2,   135.63,2,    39.48,2,     0.00,2,     2.78,2, -999.000,5, -999.000,5, -999.000,9,-999.0000,9,  -999.00,9,   -999.0,9,   -999.0,9,  -999.00,9,-999.0000,-999.000,  2.2933,-999.000
      325023_1,  P14N,   124,  1,     16,     16,2,19930807,2105,  4.7447, 178.9993, 5857,   2030.6,   2.2233,  34.6406,2,  34.6386,2,   -999.0,9,    104.9,2,   140.59,2,    39.18,2,     0.01,2,     2.75,2, -999.000,5, -999.000,5, -999.000,9,-999.0000,9,  -999.00,9,   -999.0,9,   -999.0,9,  -999.00,9,-999.0000,-999.000,  2.0808,-999.000
      325023_1,  P14N,   124,  1,     15,     15,2,19930807,2105,  4.7447, 178.9993, 5857,   2234.1,   2.0083,  34.6520,2,  34.6501,2,   -999.0,9,    111.4,2,   145.38,2,    38.79,2,     0.00,2,     2.71,2, -999.000,5, -999.000,5, -999.000,9,-999.0000,9,  -999.00,9,   -999.0,9,   -999.0,9,  -999.00,9,-999.0000,-999.000,  1.8516,-999.000
      325023_1,  P14N,   124,  1,     14,     14,2,19930807,2105,  4.7447, 178.9993, 5857,   2437.4,   1.8911,  34.6579,2,  34.6568,2,   -999.0,9,    118.6,2,   145.70,2,    38.17,2,     0.00,2,     2.66,2, -999.000,5, -999.000,5, -999.000,9,-999.0000,9,  -999.00,9,   -999.0,9,   -999.0,9,  -999.00,9,-999.0000,-999.000,  1.7185,-999.000
      325023_1,  P14N,   124,  1,     13,     13,2,19930807,2105,  4.7447, 178.9993, 5857,   2641.1,   1.8024,  34.6631,2,  34.6624,2,   -999.0,9,    122.7,2,   147.44,2,    38.01,2,     0.00,2,     2.65,2, -999.000,5, -999.000,5, -999.000,9,-999.0000,9,  -999.00,9,   -999.0,9,   -999.0,9,  -999.00,9,-999.0000,-999.000,  1.6129,-999.000
      325023_1,  P14N,   124,  1,     12,     12,2,19930807,2105,  4.7447, 178.9993, 5857,   2845.1,   1.7200,  34.6671,2,  34.6667,2,   -999.0,9,    129.9,2,   146.95,2,    37.49,2,     0.00,2,     2.60,2, -999.000,5, -999.000,5, -999.000,9,-999.0000,9,  -999.00,9,   -999.0,9,   -999.0,9,  -999.00,9,-999.0000,-999.000,  1.5132,-999.000
      325023_1,  P14N,   124,  1,     11,     11,2,19930807,2105,  4.7447, 178.9993, 5857,   3049.1,   1.6508,  34.6709,2,  34.6704,2,   -999.0,9,    135.3,2,   146.66,2,    37.14,2,     0.00,2,     2.56,2, -999.000,5, -999.000,5, -999.000,9,-999.0000,9,  -999.00,9,   -999.0,9,   -999.0,9,  -999.00,9,-999.0000,-999.000,  1.4260,-999.000
      325023_1,  P14N,   124,  1,     10,     10,2,19930807,2105,  4.7447, 178.9993, 5857,   3355.2,   1.5695,  34.6775,2,  34.6757,2,   -999.0,9,    143.0,2,   145.56,2,    36.58,2,     0.00,2,     2.53,2, -999.000,5, -999.000,5, -999.000,9,-999.0000,9,  -999.00,9,   -999.0,9,   -999.0,9,  -999.00,9,-999.0000,-999.000,  1.3164,-999.000
      325023_1,  P14N,   124,  1,      9,      9,2,19930807,2105,  4.7447, 178.9993, 5857,   3662.3,   1.4917,  34.6829,2,  34.6804,2,   -999.0,9,    152.1,2,   143.44,2,    35.92,2,     0.00,2,     2.49,2, -999.000,5, -999.000,5, -999.000,9,-999.0000,9,  -999.00,9,   -999.0,9,   -999.0,9,  -999.00,9,-999.0000,-999.000,  1.2090,-999.000
      325023_1,  P14N,   124,  1,      8,      8,2,19930807,2105,  4.7447, 178.9993, 5857,   3969.5,   1.3998,  34.6897,2,  34.6886,2,   -999.0,9,    163.1,2,   139.91,2,    35.13,2,     0.00,2,     2.42,2, -999.000,5, -999.000,5, -999.000,9,-999.0000,9,  -999.00,9,   -999.0,9,   -999.0,9,  -999.00,9,-999.0000,-999.000,  1.0870,-999.000
      325023_1,  P14N,   124,  1,      7,      7,2,19930807,2105,  4.7447, 178.9993, 5857,   4277.1,   1.2975,  34.6972,2,  34.6964,2,   -999.0,9,    177.0,2,   133.59,2,    34.11,2,     0.00,2,     2.36,2, -999.000,5, -999.000,5, -999.000,9,-999.0000,9,  -999.00,9,   -999.0,9,   -999.0,9,  -999.00,9,-999.0000,-999.000,  0.9539,-999.000
      325023_1,  P14N,   124,  1,      6,      6,2,19930807,2105,  4.7447, 178.9993, 5857,   4584.7,   1.2608,  34.7008,2,  34.7011,2,   -999.0,9,    184.9,2,   129.11,2,    33.51,2,     0.00,2,     2.31,2, -999.000,5, -999.000,5, -999.000,9,-999.0000,9,  -999.00,9,   -999.0,9,   -999.0,9,  -999.00,9,-999.0000,-999.000,  0.8834,-999.000
      325023_1,  P14N,   124,  1,      5,      5,2,19930807,2105,  4.7447, 178.9993, 5857,   4893.3,   1.2658,  34.7031,2,  34.7024,2,   -999.0,9,    188.6,2,   127.23,2,    33.31,2,     0.00,2,     2.29,2, -999.000,5, -999.000,5, -999.000,9,-999.0000,9,  -999.00,9,   -999.0,9,   -999.0,9,  -999.00,9,-999.0000,-999.000,  0.8521,-999.000
      325023_1,  P14N,   124,  1,      4,      4,2,19930807,2105,  4.7447, 178.9993, 5857,   5202.4,   1.2942,  34.7033,2,  34.7032,2,   -999.0,9,    190.0,2,   126.55,2,    33.12,2,     0.00,2,     2.28,2, -999.000,5, -999.000,5, -999.000,9,-999.0000,9,  -999.00,9,   -999.0,9,   -999.0,9,  -999.00,9,-999.0000,-999.000,  0.8422,-999.000
      325023_1,  P14N,   124,  1,      3,      3,2,19930807,2105,  4.7447, 178.9993, 5857,   5511.8,   1.3252,  34.7034,2,  34.7032,2,   -999.0,9,    191.6,2,   125.68,2,    33.01,2,     0.00,2,     2.26,2, -999.000,5, -999.000,5, -999.000,9,-999.0000,9,  -999.00,9,   -999.0,9,   -999.0,9,  -999.00,9,-999.0000,-999.000,  0.8334,-999.000
      325023_1,  P14N,   124,  1,      2,      2,2,19930807,2105,  4.7447, 178.9993, 5857,   5821.5,   1.3617,  34.7036,2,  34.7035,2,   -999.0,9,    192.4,2,   125.20,2,    32.86,2,     0.00,2,     2.27,2, -999.000,5, -999.000,5, -999.000,9,-999.0000,9,  -999.00,9,   -999.0,9,   -999.0,9,  -999.00,9,-999.0000,-999.000,  0.8286,-999.000
      325023_1,  P14N,   124,  1,      1,      1,2,19930807,2105,  4.7447, 178.9993, 5857,   5956.8,   1.3787,  34.7040,2,  34.7041,2,   -999.0,9,    192.0,2,   125.12,2,    32.89,2,     0.00,2,     2.27,2, -999.000,5, -999.000,5, -999.000,9,-999.0000,9,  -999.00,9,   -999.0,9,   -999.0,9,  -999.00,9,-999.0000,-999.000,  0.8272,-999.000