BOTTLE,20131125MIRCJHATS
EXPOCODE,SECT_ID,STNNBR,CASTNO,SAMPNO,BTLNBR,BTLNBR_FLAG_W,DATE,TIME,LATITUDE,LONGITUDE,DEPTH,CTDPRS,CTDTMP,CTDSAL,CTDSAL_FLAG_W,SALNTY,SALNTY_FLAG_W,CTDOXY,CTDOXY_FLAG_W,OXYGEN,OXYGEN_FLAG_W,SILCAT,SILCAT_FLAG_W,NITRAT,NITRAT_FLAG_W,NITRIT,NITRIT_FLAG_W,PHSPHT,PHSPHT_FLAG_W,CFC-11,CFC-11_FLAG_W,CFC-12,CFC-12_FLAG_W,TRITUM,TRITUM_FLAG_W,HELIUM,HELIUM_FLAG_W,DELHE3,DELHE3_FLAG_W,TCARBN,TCARBN_FLAG_W,ALKALI,ALKALI_FLAG_W,PH,PH_FLAG_W,HELIER,DELHER,THETA,TRITER
,,,,,,,,,,,,DBAR,ITS-90,PSS-78,,PSS-78,,UMOL/KG,,UMOL/KG,,UMOL/KG,,UMOL/KG,,UMOL/KG,,UMOL/KG,,PMOL/KG,,PMOL/KG,,TU,,NMOL/KG,,PERCNT,,UMOL/KG,,UMOL/KG,,25_DEG,,NMOL/KG,PERCNT,DEG C,TU
      325023_1,  P14N,    57,  1,     33,     33,2,19930721,2002, 33.9918, 178.9987, 2256,      4.0,  23.1885,  34.7475,2,  34.7482,2,   -999.0,9,    218.8,2,     3.61,2,     0.00,2,     0.00,2,     0.04,2, -999.000,5, -999.000,5, -999.000,9,-999.0000,9,  -999.00,9,   1982.2,2,   2282.0,2,  -999.00,9,-999.0000,-999.000, 23.1877,-999.000
      325023_1,  P14N,    57,  1,     32,     32,2,19930721,2002, 33.9918, 178.9987, 2256,      4.0,  23.1792,  34.7470,2,  34.7486,2,   -999.0,9,    218.6,2,     3.18,2,     0.00,2,     0.00,2,     0.04,2,    2.164,2,    1.158,2, -999.000,9,-999.0000,9,  -999.00,9,   1980.5,2,   -999.0,9,     8.06,2,-999.0000,-999.000, 23.1784,-999.000
      325023_1,  P14N,    57,  1,     31,     31,2,19930721,2002, 33.9918, 178.9987, 2256,     35.6,  19.8598,  34.7677,2,  34.7599,2,   -999.0,9,    239.6,2,     3.34,2,     0.00,2,     0.00,2,     0.06,2,   -0.002,4,   -0.001,4, -999.000,9,-999.0000,9,  -999.00,9,   1990.6,2,   2271.2,2,  -999.00,9,-999.0000,-999.000, 19.8532,-999.000
      325023_1,  P14N,    57,  1,     30,     30,2,19930721,2002, 33.9918, 178.9987, 2256,     66.0,  17.8045,  34.8051,2,  34.8027,2,   -999.0,9,    242.6,2,     3.49,2,     0.00,2,     0.00,2,     0.08,2,    2.647,2,    1.387,2, -999.000,9,-999.0000,9,  -999.00,9,   1997.9,2,   2285.7,2,     8.04,2,-999.0000,-999.000, 17.7933,-999.000
      325023_1,  P14N,    57,  1,     29,     29,2,19930721,2002, 33.9918, 178.9987, 2256,     96.3,  17.0560,  34.7816,2,  34.7811,2,   -999.0,9,    225.8,2,     4.04,2,     2.55,2,     0.02,2,     0.23,2,    2.843,2,    1.478,2, -999.000,9,-999.0000,9,  -999.00,9,   2015.7,2,   2283.0,2,  -999.00,9,-999.0000,-999.000, 17.0401,-999.000
      325023_1,  P14N,    57,  1,     28,     28,2,19930721,2002, 33.9918, 178.9987, 2256,    126.6,  16.7642,  34.7632,2,  34.7609,2,   -999.0,9,    225.1,2,     4.39,2,     3.26,2,     0.01,2,     0.28,2,    2.574,6,    1.342,6, -999.000,9,-999.0000,9,  -999.00,9,   2020.0,2,   2284.4,2,     8.00,2,-999.0000,-999.000, 16.7436,-999.000
      325023_1,  P14N,    57,  1,     27,     27,2,19930721,2002, 33.9918, 178.9987, 2256,    156.9,  16.5815,  34.7544,2,  34.7549,2,   -999.0,9,    225.3,2,     4.55,2,     3.58,2,     0.01,2,     0.30,2,    2.717,2,    1.416,2, -999.000,9,-999.0000,9,  -999.00,9,   2019.8,2,   -999.0,9,  -999.00,9,-999.0000,-999.000, 16.5561,-999.000
      325023_1,  P14N,    57,  1,     26,     26,2,19930721,2002, 33.9918, 178.9987, 2256,    207.5,  15.9884,  34.6948,2,  34.6941,2,   -999.0,9,    216.2,2,     5.88,2,     5.28,2,     0.01,2,     0.41,2,    2.642,2,    1.360,2, -999.000,9,-999.0000,9,  -999.00,9,   2033.0,2,   2278.4,2,     7.97,2,-999.0000,-999.000, 15.9557,-999.000
      325023_1,  P14N,    57,  1,     25,     25,2,19930721,2002, 33.9918, 178.9987, 2256,    257.1,  15.1722,  34.6210,2,  34.6173,2,   -999.0,9,    210.2,2,     8.57,2,     7.29,2,     0.01,2,     0.55,2,    2.546,2,    1.305,2, -999.000,9,-999.0000,9,  -999.00,9,   2044.6,2,   2276.7,2,  -999.00,9,-999.0000,-999.000, 15.1331,-999.000
      325023_1,  P14N,    57,  1,     24,     24,2,19930721,2002, 33.9918, 178.9987, 2256,    307.8,  13.7377,  34.5009,2,  34.5014,2,   -999.0,9,    212.7,2,    11.08,2,     9.09,2,     0.01,2,     0.67,2,    2.674,2,    1.374,2, -999.000,9,-999.0000,9,  -999.00,9,   2056.9,2,   2274.6,2,     7.90,2,-999.0000,-999.000, 13.6938,-999.000
      325023_1,  P14N,    57,  1,     23,     23,2,19930721,2002, 33.9918, 178.9987, 2256,    358.7,  12.5779,  34.4157,2,  34.4148,2,   -999.0,9,    217.6,2,    13.58,2,    10.49,2,     0.01,2,     0.78,2,    2.788,2,    1.395,2, -999.000,9,-999.0000,9,  -999.00,9,   2069.8,2,   2272.8,2,  -999.00,9,-999.0000,-999.000, 12.5296,-999.000
      325023_1,  P14N,    57,  1,     22,     22,2,19930721,2002, 33.9918, 178.9987, 2256,    409.2,  11.5093,  34.3378,2,  34.3393,2,   -999.0,9,    213.3,2,    17.25,2,    12.69,2,     0.01,2,     0.93,2,    2.749,2,    1.376,2, -999.000,9,-999.0000,9,  -999.00,9,   2084.6,2,   2274.4,2,     7.84,2,-999.0000,-999.000, 11.4572,-999.000
      325023_1,  P14N,    57,  1,     21,     21,2,19930721,2002, 33.9918, 178.9987, 2256,    459.4,  10.8865,  34.2869,2,  34.2854,2,   -999.0,9,    211.8,2,    20.14,2,    14.05,2,     0.01,2,     1.02,2, -999.000,5, -999.000,5, -999.000,9,-999.0000,9,  -999.00,9,   2094.2,2,   2270.1,2,     7.82,2,-999.0000,-999.000, 10.8300,-999.000
      325023_1,  P14N,    57,  1,     20,     20,2,19930721,2002, 33.9918, 178.9987, 2256,    509.8,   9.5280,  34.1830,2,  34.1816,2,   -999.0,9,    197.8,2,    27.91,2,    17.87,2,     0.01,2,     1.29,2,    2.588,2,    1.246,2, -999.000,9,-999.0000,9,  -999.00,9,   2124.5,2,   2272.4,2,     7.76,2,-999.0000,-999.000,  9.4702,-999.000
      325023_1,  P14N,    57,  1,     19,     19,2,19930721,2002, 33.9918, 178.9987, 2256,    609.1,   7.4333,  34.0570,2,  34.0534,2,   -999.0,9,    170.5,2,    44.87,2,    24.30,2,     0.01,2,     1.76,2,    2.119,2,    1.000,2, -999.000,9,-999.0000,9,  -999.00,9,   2173.7,2,   2279.4,2,     7.65,2,-999.0000,-999.000,  7.3734,-999.000
      325023_1,  P14N,    57,  1,     18,     18,2,19930721,2002, 33.9918, 178.9987, 2256,    710.2,   5.6765,  34.0170,2,  34.0158,2,   -999.0,9,    128.9,2,    66.97,2,    31.07,2,     0.01,2,     2.23,2, -999.000,5, -999.000,5, -999.000,9,-999.0000,9,  -999.00,9,   2232.3,2,   2295.1,2,     7.53,2,-999.0000,-999.000,  5.6157,-999.000
      325023_1,  P14N,    57,  1,     17,     17,2,19930721,2002, 33.9918, 178.9987, 2256,    810.7,   4.6823,  34.0904,2,  34.0905,2,   -999.0,9,     82.6,2,    89.58,2,    36.69,2,     0.00,2,     2.62,2,    0.790,2,    0.349,2, -999.000,9,-999.0000,9,  -999.00,9,   2286.7,2,   2314.4,2,     7.42,2,-999.0000,-999.000,  4.6184,-999.000
      325023_1,  P14N,    57,  1,     16,     16,2,19930721,2002, 33.9918, 178.9987, 2256,    911.2,   4.0372,  34.2058,2,  34.2044,2,   -999.0,9,     50.8,2,   110.82,2,    40.22,2,     0.00,2,     2.84,2,    0.298,2,    0.131,2, -999.000,9,-999.0000,9,  -999.00,9,   2327.9,2,   2336.2,2,  -999.00,9,-999.0000,-999.000,  3.9690,-999.000
      325023_1,  P14N,    57,  1,     15,     15,2,19930721,2002, 33.9918, 178.9987, 2256,   1011.5,   3.6386,  34.2774,2,  34.2770,2,   -999.0,9,     36.9,2,   123.23,2,    41.78,2,     0.00,2,     2.94,2,    0.131,2,    0.055,2, -999.000,9,-999.0000,9,  -999.00,9,   2349.2,2,   2355.8,2,     7.34,2,-999.0000,-999.000,  3.5652,-999.000
      325023_1,  P14N,    57,  1,     14,     14,2,19930721,2002, 33.9918, 178.9987, 2256,   1111.7,   3.3390,  34.3348,2,  34.3342,2,   -999.0,9,     31.7,2,   133.11,2,    42.44,2,     0.01,2,     2.99,2,    0.066,2,    0.026,2, -999.000,9,-999.0000,9,  -999.00,9,   2363.1,2,   2362.5,2,  -999.00,9,-999.0000,-999.000,  3.2599,-999.000
      325023_1,  P14N,    57,  1,     13,     13,2,19930721,2002, 33.9918, 178.9987, 2256,   1212.8,   3.0773,  34.3836,2,  34.3830,2,   -999.0,9,     28.6,2,   141.23,2,    42.92,2,     0.01,2,     3.02,2,    0.033,3,    0.009,2, -999.000,9,-999.0000,9,  -999.00,9,   2374.4,2,   2375.8,2,     7.33,2,-999.0000,-999.000,  2.9924,-999.000
      325023_1,  P14N,    57,  1,     12,     12,2,19930721,2002, 33.9918, 178.9987, 2256,   1313.9,   2.8927,  34.4193,2,  34.4182,2,   -999.0,9,     24.6,2,   147.35,2,    43.13,2,     0.00,2,     3.05,2,    0.012,2,    0.006,2, -999.000,9,-999.0000,9,  -999.00,9,   2383.8,2,   2386.4,2,  -999.00,9,-999.0000,-999.000,  2.8016,-999.000
      325023_1,  P14N,    57,  1,     11,     11,2,19930721,2002, 33.9918, 178.9987, 2256,   1415.1,   2.7145,  34.4534,2,  34.4525,2,   -999.0,9,     27.3,2,   151.84,2,    43.25,2,     0.00,2,     3.03,2,    0.024,4,    0.014,4, -999.000,9,-999.0000,9,  -999.00,9,   2386.9,2,   2390.7,2,     7.33,2,-999.0000,-999.000,  2.6171,-999.000
      325023_1,  P14N,    57,  1,     10,     10,2,19930721,2002, 33.9918, 178.9987, 2256,   1516.5,   2.5659,  34.4812,2,  34.4809,2,   -999.0,9,     31.8,2,   155.93,2,    43.05,2,     0.00,2,     3.02,2, -999.000,5, -999.000,5, -999.000,9,-999.0000,9,  -999.00,9,   2388.3,2,   -999.0,9,  -999.00,9,-999.0000,-999.000,  2.4620,-999.000
      325023_1,  P14N,    57,  1,      9,      9,2,19930721,2002, 33.9918, 178.9987, 2256,   1618.1,   2.4412,  34.5042,2,  34.5032,2,   -999.0,9,     36.0,2,   159.63,2,    42.95,2,     0.00,2,     3.00,2,    0.002,2,   -0.004,2, -999.000,9,-999.0000,9,  -999.00,9,   2389.8,2,   -999.0,9,     7.35,2,-999.0000,-999.000,  2.3305,-999.000
      325023_1,  P14N,    57,  1,      8,      8,2,19930721,2002, 33.9918, 178.9987, 2256,   1720.2,   2.3190,  34.5281,2,  34.5281,2,   -999.0,9,     42.0,2,   162.49,2,    42.66,2,     0.00,2,     2.97,2, -999.000,5, -999.000,5, -999.000,9,-999.0000,9,  -999.00,9,   2389.3,2,   2405.4,2,  -999.00,9,-999.0000,-999.000,  2.2015,-999.000
      325023_1,  P14N,    57,  1,      7,      7,2,19930721,2002, 33.9918, 178.9987, 2256,   1822.1,   2.1869,  34.5532,2,  34.5528,2,   -999.0,9,     49.8,2,   164.73,2,    42.23,2,     0.00,2,     2.94,2,   -0.004,2,    0.001,2, -999.000,9,-999.0000,9,  -999.00,9,   2389.1,2,   2407.4,2,     7.38,2,-999.0000,-999.000,  2.0628,-999.000
      325023_1,  P14N,    57,  1,      6,      6,2,19930721,2002, 33.9918, 178.9987, 2256,   1923.8,   2.0587,  34.5761,2,  34.5771,2,   -999.0,9,     59.0,2,   166.77,2,    41.71,2,     0.00,2,     2.89,2, -999.000,5, -999.000,5, -999.000,9,-999.0000,9,  -999.00,9,   2386.8,2,   2409.2,2,  -999.00,9,-999.0000,-999.000,  1.9279,-999.000
      325023_1,  P14N,    57,  1,      5,      5,2,19930721,2002, 33.9918, 178.9987, 2256,   2025.9,   1.9551,  34.5924,2,  34.5920,2,   -999.0,9,     67.9,2,   168.17,2,    41.19,2,     0.00,2,     2.85,2, -999.000,5, -999.000,5, -999.000,9,-999.0000,9,  -999.00,9,   2383.0,2,   2414.7,2,     7.42,2,-999.0000,-999.000,  1.8173,-999.000
      325023_1,  P14N,    57,  1,      4,      4,2,19930721,2002, 33.9918, 178.9987, 2256,   2127.6,   1.8757,  34.6059,2,  34.6051,2,   -999.0,9,     76.4,2,   168.52,2,    40.63,2,     0.00,2,     2.81,2,    0.000,2,   -0.003,2, -999.000,9,-999.0000,9,  -999.00,9,   2378.8,2,   2417.3,2,  -999.00,9,-999.0000,-999.000,  1.7306,-999.000
      325023_1,  P14N,    57,  1,      3,      3,2,19930721,2002, 33.9918, 178.9987, 2256,   2229.8,   1.7952,  34.6178,2,  34.6176,2,   -999.0,9,     85.1,2,   167.80,2,    40.06,2,     0.00,2,     2.77,2, -999.000,5, -999.000,5, -999.000,9,-999.0000,9,  -999.00,9,   2373.2,2,   2416.6,2,     7.45,2,-999.0000,-999.000,  1.6426,-999.000
      325023_1,  P14N,    57,  1,      1,      1,2,19930721,2002, 33.9918, 178.9987, 2256,   2282.6,   1.7721,  34.6222,2,  34.6225,2,   -999.0,9,     87.9,2,   167.00,2,    39.80,2,     0.00,2,     2.75,2,   -0.002,2,    0.004,2, -999.000,9,-999.0000,9,  -999.00,9,   2148.9,4,   2420.8,2,     7.46,2,-999.0000,-999.000,  1.6153,-999.000
      325023_1,  P14N,    57,  1,      2,      2,2,19930721,2002, 33.9918, 178.9987, 2256,   2282.7,   1.7723,  34.6222,2,  34.6237,2,   -999.0,9,     88.1,2,   167.72,2,    39.77,2,     0.00,2,     2.75,2, -999.000,5, -999.000,5, -999.000,9,-999.0000,9,  -999.00,9,   2373.0,2,   2422.1,2,  -999.00,9,-999.0000,-999.000,  1.6155,-999.000