BOTTLE,20131125MIRCJHATS
EXPOCODE,SECT_ID,STNNBR,CASTNO,SAMPNO,BTLNBR,BTLNBR_FLAG_W,DATE,TIME,LATITUDE,LONGITUDE,DEPTH,CTDPRS,CTDTMP,CTDSAL,CTDSAL_FLAG_W,SALNTY,SALNTY_FLAG_W,CTDOXY,CTDOXY_FLAG_W,OXYGEN,OXYGEN_FLAG_W,SILCAT,SILCAT_FLAG_W,NITRAT,NITRAT_FLAG_W,NITRIT,NITRIT_FLAG_W,PHSPHT,PHSPHT_FLAG_W,CFC-11,CFC-11_FLAG_W,CFC-12,CFC-12_FLAG_W,TRITUM,TRITUM_FLAG_W,HELIUM,HELIUM_FLAG_W,DELHE3,DELHE3_FLAG_W,TCARBN,TCARBN_FLAG_W,ALKALI,ALKALI_FLAG_W,PH,PH_FLAG_W,HELIER,DELHER,THETA,TRITER
,,,,,,,,,,,,DBAR,ITS-90,PSS-78,,PSS-78,,UMOL/KG,,UMOL/KG,,UMOL/KG,,UMOL/KG,,UMOL/KG,,UMOL/KG,,PMOL/KG,,PMOL/KG,,TU,,NMOL/KG,,PERCNT,,UMOL/KG,,UMOL/KG,,25_DEG,,NMOL/KG,PERCNT,DEG C,TU
      325023_1,  P14N,   101,  1,     36,     36,2,19930802,1905, 11.9995, 178.9987, 5995,      2.9,  28.0943,  34.5008,2,  34.5079,2,   -999.0,9,    198.8,2,     3.39,2,     0.11,2,     0.00,3,     0.18,2,    1.672,2,    0.921,2, -999.000,9,-999.0000,9,  -999.00,9,   -999.0,9,   -999.0,9,  -999.00,9,-999.0000,-999.000, 28.0937,-999.000
      325023_1,  P14N,   101,  1,     35,     35,2,19930802,1905, 11.9995, 178.9987, 5995,     39.9,  28.0633,  34.5719,2,  34.5769,2,   -999.0,9,    198.6,2,     3.34,2,     0.11,2,     0.00,3,     0.16,2,    1.686,2,    0.936,2, -999.000,9,-999.0000,9,  -999.00,9,   -999.0,9,   -999.0,9,  -999.00,9,-999.0000,-999.000, 28.0539,-999.000
      325023_1,  P14N,   101,  1,     34,     34,2,19930802,1905, 11.9995, 178.9987, 5995,     69.1,  28.0404,  34.5720,2,  34.5763,2,   -999.0,9,    198.6,2,     3.07,2,     0.10,2,     0.00,3,     0.16,2,    1.710,2,    0.917,2, -999.000,9,-999.0000,9,  -999.00,9,   -999.0,9,   -999.0,9,  -999.00,9,-999.0000,-999.000, 28.0241,-999.000
      325023_1,  P14N,   101,  1,     33,     33,2,19930802,1905, 11.9995, 178.9987, 5995,    100.2,  25.5366,  34.6765,2,  34.7009,2,   -999.0,9,    215.8,2,     2.58,2,     0.10,2,     0.00,3,     0.10,2,    1.854,2,    1.005,2, -999.000,9,-999.0000,9,  -999.00,9,   -999.0,9,   -999.0,9,  -999.00,9,-999.0000,-999.000, 25.5146,-999.000
      325023_1,  P14N,   101,  1,     32,     32,2,19930802,1905, 11.9995, 178.9987, 5995,    130.1,  23.1370,  34.9318,2,  34.9271,2,   -999.0,9,    211.2,2,     2.31,2,     0.10,2,     0.00,3,     0.12,2,    2.066,2,    1.058,2, -999.000,9,-999.0000,9,  -999.00,9,   -999.0,9,   -999.0,9,  -999.00,9,-999.0000,-999.000, 23.1103,-999.000
      325023_1,  P14N,   101,  1,     31,     31,2,19930802,1905, 11.9995, 178.9987, 5995,    160.2,  20.2932,  34.9382,2,  34.9465,2,   -999.0,9,    184.5,2,     3.54,2,     1.68,2,     0.06,3,     0.33,2,    2.097,2,    1.073,2, -999.000,9,-999.0000,9,  -999.00,9,   -999.0,9,   -999.0,9,  -999.00,9,-999.0000,-999.000, 20.2633,-999.000
      325023_1,  P14N,   101,  1,     30,     30,2,19930802,1905, 11.9995, 178.9987, 5995,    211.1,  13.2779,  34.4086,2,  34.4171,2,   -999.0,9,    129.1,2,    15.70,2,    16.35,2,     0.00,3,     1.28,2,    1.777,2,    0.868,2, -999.000,9,-999.0000,9,  -999.00,9,   -999.0,9,   -999.0,9,  -999.00,9,-999.0000,-999.000, 13.2486,-999.000
      325023_1,  P14N,   101,  1,     29,     29,2,19930802,1905, 11.9995, 178.9987, 5995,    260.6,  11.1702,  34.3803,2,  34.3820,2,   -999.0,9,     81.5,2,    25.29,2,    25.10,2,     0.00,3,     1.93,2, -999.000,5, -999.000,5, -999.000,9,-999.0000,9,  -999.00,9,   -999.0,9,   -999.0,9,  -999.00,9,-999.0000,-999.000, 11.1379,-999.000
      325023_1,  P14N,   101,  1,     28,     28,2,19930802,1905, 11.9995, 178.9987, 5995,    311.9,   9.5877,  34.4592,2,  34.4606,2,   -999.0,9,     48.8,2,    39.40,2,    31.27,2,     0.00,3,     2.32,2,    0.317,2,    0.145,2, -999.000,9,-999.0000,9,  -999.00,9,   -999.0,9,   -999.0,9,  -999.00,9,-999.0000,-999.000,  9.5525,-999.000
      325023_1,  P14N,   101,  1,     27,     27,2,19930802,1905, 11.9995, 178.9987, 5995,    412.9,   8.2248,  34.5426,2,  34.5425,2,   -999.0,9,     43.2,2,    46.66,2,    35.48,2,     0.00,3,     2.52,2,    0.053,6,    0.021,6, -999.000,9,-999.0000,9,  -999.00,9,   -999.0,9,   -999.0,9,  -999.00,9,-999.0000,-999.000,  8.1820,-999.000
      325023_1,  P14N,   101,  1,     26,     26,2,19930802,1905, 11.9995, 178.9987, 5995,    513.3,   7.0801,  34.5003,2,  34.5019,2,   -999.0,9,     48.4,2,    58.01,2,    37.04,2,     0.00,3,     2.63,2,    0.019,2,    0.013,2, -999.000,9,-999.0000,9,  -999.00,9,   -999.0,9,   -999.0,9,  -999.00,9,-999.0000,-999.000,  7.0310,-999.000
      325023_1,  P14N,   101,  1,     25,     25,2,19930802,1905, 11.9995, 178.9987, 5995,    613.6,   6.4998,  34.5107,2,  34.5125,2,   -999.0,9,     53.2,2,    64.86,2,    38.00,2,     0.00,3,     2.68,2,    0.008,2,   -0.009,4, -999.000,9,-999.0000,9,  -999.00,9,   -999.0,9,   -999.0,9,  -999.00,9,-999.0000,-999.000,  6.4434,-999.000
      325023_1,  P14N,   101,  1,     24,     24,2,19930802,1905, 11.9995, 178.9987, 5995,    713.5,   5.9539,  34.5140,2,  34.5147,2,   -999.0,9,     57.3,2,    71.73,2,    38.75,2,     0.00,3,     2.73,2,    0.009,2,    0.014,2, -999.000,9,-999.0000,9,  -999.00,9,   -999.0,9,   -999.0,9,  -999.00,9,-999.0000,-999.000,  5.8908,-999.000
      325023_1,  P14N,   101,  1,     23,     23,2,19930802,1905, 11.9995, 178.9987, 5995,    814.5,   5.3789,  34.5230,2,  34.5260,2,   -999.0,9,     57.6,2,    80.77,2,    39.83,2,     0.01,3,     2.80,2,    0.005,2,    0.007,2, -999.000,9,-999.0000,9,  -999.00,9,   -999.0,9,   -999.0,9,  -999.00,9,-999.0000,-999.000,  5.3098,-999.000
      325023_1,  P14N,   101,  1,     22,     22,2,19930802,1905, 11.9995, 178.9987, 5995,    915.2,   4.8938,  34.5335,2,  34.5339,2,   -999.0,9,     57.9,2,    89.63,2,    40.45,2,     0.00,3,     2.84,2,   -0.002,2,    0.007,2, -999.000,9,-999.0000,9,  -999.00,9,   -999.0,9,   -999.0,9,  -999.00,9,-999.0000,-999.000,  4.8188,-999.000
      325023_1,  P14N,   101,  1,     21,     21,2,19930802,1905, 11.9995, 178.9987, 5995,   1012.2,   4.4740,  34.5461,2,  34.5454,2,   -999.0,9,     63.1,2,    97.43,2,    40.55,2,     0.00,3,     2.86,2,    0.003,2,    0.009,2, -999.000,9,-999.0000,9,  -999.00,9,   -999.0,9,   -999.0,9,  -999.00,9,-999.0000,-999.000,  4.3936,-999.000
      325023_1,  P14N,   101,  1,     20,     20,2,19930802,1905, 11.9995, 178.9987, 5995,   1212.6,   3.7002,  34.5684,2,  34.5674,2,   -999.0,9,     71.8,2,   114.23,2,    40.52,2,     0.00,3,     2.85,2, -999.000,5, -999.000,5, -999.000,9,-999.0000,9,  -999.00,9,   -999.0,9,   -999.0,9,  -999.00,9,-999.0000,-999.000,  3.6091,-999.000
      325023_1,  P14N,   101,  1,     19,     19,2,19930802,1905, 11.9995, 178.9987, 5995,   1413.3,   3.1584,  34.5880,2,  34.5868,2,   -999.0,9,     78.9,2,   125.66,2,    40.48,2,     0.00,3,     2.81,2, -999.000,5, -999.000,5, -999.000,9,-999.0000,9,  -999.00,9,   -999.0,9,   -999.0,9,  -999.00,9,-999.0000,-999.000,  3.0560,-999.000
      325023_1,  P14N,   101,  1,     18,     18,2,19930802,1905, 11.9995, 178.9987, 5995,   1618.5,   2.7419,  34.6031,2,  34.6028,2,   -999.0,9,     87.9,2,   135.17,2,    39.98,2,     0.00,3,     2.78,2,    0.000,2,   -0.004,2, -999.000,9,-999.0000,9,  -999.00,9,   -999.0,9,   -999.0,9,  -999.00,9,-999.0000,-999.000,  2.6272,-999.000
      325023_1,  P14N,   101,  1,     17,     17,2,19930802,1905, 11.9995, 178.9987, 5995,   1826.9,   2.3720,  34.6227,2,  34.6224,2,   -999.0,9,     96.1,2,   143.64,2,    39.43,2,     0.00,3,     2.75,2, -999.000,5, -999.000,5, -999.000,9,-999.0000,9,  -999.00,9,   -999.0,9,   -999.0,9,  -999.00,9,-999.0000,-999.000,  2.2446,-999.000
      325023_1,  P14N,   101,  1,     16,     16,2,19930802,1905, 11.9995, 178.9987, 5995,   2028.6,   2.1325,  34.6368,2,  34.6371,2,   -999.0,9,    103.6,2,   149.24,2,    39.16,2,     0.00,3,     2.71,2, -999.000,5, -999.000,5, -999.000,9,-999.0000,9,  -999.00,9,   -999.0,9,   -999.0,9,  -999.00,9,-999.0000,-999.000,  1.9916,-999.000
      325023_1,  P14N,   101,  1,     15,     15,2,19930802,1905, 11.9995, 178.9987, 5995,   2233.8,   2.0037,  34.6460,2,  34.6460,2,   -999.0,9,    108.2,2,   151.71,2,    38.90,2,     0.01,3,     2.69,2,    0.000,2,    0.000,2, -999.000,9,-999.0000,9,  -999.00,9,   -999.0,9,   -999.0,9,  -999.00,9,-999.0000,-999.000,  1.8472,-999.000
      325023_1,  P14N,   101,  1,     14,     14,2,19930802,1905, 11.9995, 178.9987, 5995,   2437.5,   1.8765,  34.6558,2,  34.6554,2,   -999.0,9,    114.0,2,   153.96,2,    38.54,2,     0.01,3,     2.63,2, -999.000,5, -999.000,5, -999.000,9,-999.0000,9,  -999.00,9,   -999.0,9,   -999.0,9,  -999.00,9,-999.0000,-999.000,  1.7041,-999.000
      325023_1,  P14N,   101,  1,     13,     13,2,19930802,1905, 11.9995, 178.9987, 5995,   2637.7,   1.7789,  34.6610,2,  34.6620,2,   -999.0,9,    119.9,2,   155.54,2,    38.18,2,     0.01,3,     2.61,2, -999.000,5, -999.000,5, -999.000,9,-999.0000,9,  -999.00,9,   -999.0,9,   -999.0,9,  -999.00,9,-999.0000,-999.000,  1.5902,-999.000
      325023_1,  P14N,   101,  1,     12,     12,2,19930802,1905, 11.9995, 178.9987, 5995,   2834.7,   1.7141,  34.6651,2,  34.6652,2,   -999.0,9,    124.3,2,   156.89,2,    37.91,2,     0.01,3,     2.59,2, -999.000,5, -999.000,5, -999.000,9,-999.0000,9,  -999.00,9,   -999.0,9,   -999.0,9,  -999.00,9,-999.0000,-999.000,  1.5084,-999.000
      325023_1,  P14N,   101,  1,     11,     11,2,19930802,1905, 11.9995, 178.9987, 5995,   3032.4,   1.6501,  34.6695,2,  34.6697,2,   -999.0,9,    129.2,2,   157.11,2,    37.60,2,     0.01,3,     2.56,2, -999.000,5, -999.000,5, -999.000,9,-999.0000,9,  -999.00,9,   -999.0,9,   -999.0,9,  -999.00,9,-999.0000,-999.000,  1.4269,-999.000
      325023_1,  P14N,   101,  1,     10,     10,2,19930802,1905, 11.9995, 178.9987, 5995,   3338.8,   1.5406,  34.6760,2,  34.6755,2,   -999.0,9,    138.7,2,   156.88,2,    36.88,2,     0.01,3,     2.51,2,   -0.004,2,    0.003,2, -999.000,9,-999.0000,9,  -999.00,9,   -999.0,9,   -999.0,9,  -999.00,9,-999.0000,-999.000,  1.2898,-999.000
      325023_1,  P14N,   101,  1,      9,      9,2,19930802,1905, 11.9995, 178.9987, 5995,   3648.2,   1.4678,  34.6818,2,  34.6812,2,   -999.0,9,    148.1,2,   154.61,2,    36.25,2,     0.01,3,     2.47,2, -999.000,5, -999.000,5, -999.000,9,-999.0000,9,  -999.00,9,   -999.0,9,   -999.0,9,  -999.00,9,-999.0000,-999.000,  1.1872,-999.000
      325023_1,  P14N,   101,  1,      8,      8,2,19930802,1905, 11.9995, 178.9987, 5995,   3959.4,   1.4156,  34.6871,2,  34.6871,2,   -999.0,9,    158.0,2,   150.99,2,    35.62,2,     0.01,3,     2.42,2, -999.000,5, -999.000,5, -999.000,9,-999.0000,9,  -999.00,9,   -999.0,9,   -999.0,9,  -999.00,9,-999.0000,-999.000,  1.1034,-999.000
      325023_1,  P14N,   101,  1,      7,      7,2,19930802,1905, 11.9995, 178.9987, 5995,   4273.0,   1.3473,  34.6934,2,  34.6936,2,   -999.0,9,    168.9,2,   142.88,2,    34.63,2,     0.01,3,     2.35,2, -999.000,5, -999.000,5, -999.000,9,-999.0000,9,  -999.00,9,   -999.0,9,   -999.0,9,  -999.00,9,-999.0000,-999.000,  1.0027,-999.000
      325023_1,  P14N,   101,  1,      6,      6,2,19930802,1905, 11.9995, 178.9987, 5995,   4583.3,   1.3052,  34.6983,2,  34.6982,2,   -999.0,9,    180.4,2,   136.38,2,    33.92,2,     0.01,3,     2.30,2, -999.000,5, -999.000,5, -999.000,9,-999.0000,9,  -999.00,9,   -999.0,9,   -999.0,9,  -999.00,9,-999.0000,-999.000,  0.9267,-999.000
      325023_1,  P14N,   101,  1,      5,      5,2,19930802,1905, 11.9995, 178.9987, 5995,   4891.0,   1.3032,  34.7010,2,  34.7004,2,   -999.0,9,    186.4,2,   133.24,2,    33.57,2,     0.01,3,     2.27,2,   -0.003,2,   -0.001,2, -999.000,9,-999.0000,9,  -999.00,9,   -999.0,9,   -999.0,9,  -999.00,9,-999.0000,-999.000,  0.8886,-999.000
      325023_1,  P14N,   101,  1,      4,      4,2,19930802,1905, 11.9995, 178.9987, 5995,   5195.3,   1.3253,  34.7018,2,  34.7020,2,   -999.0,9,    188.5,2,   132.56,2,    33.40,2,     0.01,3,     2.26,2, -999.000,5, -999.000,5, -999.000,9,-999.0000,9,  -999.00,9,   -999.0,9,   -999.0,9,  -999.00,9,-999.0000,-999.000,  0.8731,-999.000
      325023_1,  P14N,   101,  1,      3,      3,2,19930802,1905, 11.9995, 178.9987, 5995,   5498.9,   1.3595,  34.7019,2,  34.7012,2,   -999.0,9,    188.5,2,   132.33,2,    33.37,2,     0.00,3,     2.26,2, -999.000,5, -999.000,5, -999.000,9,-999.0000,9,  -999.00,9,   -999.0,9,   -999.0,9,  -999.00,9,-999.0000,-999.000,  0.8681,-999.000
      325023_1,  P14N,   101,  1,      2,      2,2,19930802,1905, 11.9995, 178.9987, 5995,   5806.3,   1.3950,  34.7019,2,  34.7021,2,   -999.0,9,    189.0,2,   132.32,2,    33.33,2,     0.00,3,     2.26,2, -999.000,5, -999.000,5, -999.000,9,-999.0000,9,  -999.00,9,   -999.0,9,   -999.0,9,  -999.00,9,-999.0000,-999.000,  0.8627,-999.000
      325023_1,  P14N,   101,  1,      1,      1,2,19930802,1905, 11.9995, 178.9987, 5995,   6083.4,   1.4308,  34.7023,2,  34.7015,2,   -999.0,9,    187.0,2,   131.86,2,    33.34,2,     0.00,3,     2.26,2,    0.003,2,   -0.001,2, -999.000,9,-999.0000,9,  -999.00,9,   -999.0,9,   -999.0,9,  -999.00,9,-999.0000,-999.000,  0.8604,-999.000