BOTTLE,20131125MIRCJHATS
EXPOCODE,SECT_ID,STNNBR,CASTNO,SAMPNO,BTLNBR,BTLNBR_FLAG_W,DATE,TIME,LATITUDE,LONGITUDE,DEPTH,CTDPRS,CTDTMP,CTDSAL,CTDSAL_FLAG_W,SALNTY,SALNTY_FLAG_W,CTDOXY,CTDOXY_FLAG_W,OXYGEN,OXYGEN_FLAG_W,SILCAT,SILCAT_FLAG_W,NITRAT,NITRAT_FLAG_W,NITRIT,NITRIT_FLAG_W,PHSPHT,PHSPHT_FLAG_W,CFC-11,CFC-11_FLAG_W,CFC-12,CFC-12_FLAG_W,TRITUM,TRITUM_FLAG_W,HELIUM,HELIUM_FLAG_W,DELHE3,DELHE3_FLAG_W,TCARBN,TCARBN_FLAG_W,ALKALI,ALKALI_FLAG_W,PH,PH_FLAG_W,HELIER,DELHER,THETA,TRITER
,,,,,,,,,,,,DBAR,ITS-90,PSS-78,,PSS-78,,UMOL/KG,,UMOL/KG,,UMOL/KG,,UMOL/KG,,UMOL/KG,,UMOL/KG,,PMOL/KG,,PMOL/KG,,TU,,NMOL/KG,,PERCNT,,UMOL/KG,,UMOL/KG,,25_DEG,,NMOL/KG,PERCNT,DEG C,TU
      325023_1,  P14N,    61,  1,     35,     35,2,19930722,1845, 31.9932, 178.9952, 5171,      2.4,  22.8884,  34.6637,2,  34.6635,2,   -999.0,9,    220.7,2,     3.70,2,     0.05,2,     0.00,2,     0.05,2, -999.000,5, -999.000,5, -999.000,9,-999.0000,9,  -999.00,9,   -999.0,9,   -999.0,9,  -999.00,9,-999.0000,-999.000, 22.8880,-999.000
      325023_1,  P14N,    61,  1,     36,     36,2,19930722,1845, 31.9932, 178.9952, 5171,      2.5,  22.9408,  34.6648,2,  34.6646,2,   -999.0,9,    220.6,2,     3.93,2,     0.05,2,     0.00,2,     0.04,2,    2.204,2,    1.171,2, -999.000,9,-999.0000,9,  -999.00,9,   -999.0,9,   -999.0,9,  -999.00,9,-999.0000,-999.000, 22.9402,-999.000
      325023_1,  P14N,    61,  1,     34,     34,2,19930722,1845, 31.9932, 178.9952, 5171,     38.1,  19.0410,  34.4346,2,  34.4358,2,   -999.0,9,    240.0,2,     4.62,2,     0.01,2,     0.00,2,     0.09,2,    2.666,2,    1.383,2, -999.000,9,-999.0000,9,  -999.00,9,   -999.0,9,   -999.0,9,  -999.00,9,-999.0000,-999.000, 19.0343,-999.000
      325023_1,  P14N,    61,  1,     33,     33,2,19930722,1845, 31.9932, 178.9952, 5171,     69.1,  16.4335,  34.5624,2,  34.5580,2,   -999.0,9,    265.2,2,     4.58,2,     0.00,2,     0.01,2,     0.12,2,    2.774,2,    1.448,2, -999.000,9,-999.0000,9,  -999.00,9,   -999.0,9,   -999.0,9,  -999.00,9,-999.0000,-999.000, 16.4224,-999.000
      325023_1,  P14N,    61,  1,     32,     32,2,19930722,1845, 31.9932, 178.9952, 5171,     99.6,  15.1052,  34.5550,2,  34.5544,2,   -999.0,9,    240.8,2,     7.24,2,     3.74,2,     0.55,2,     0.39,2,    2.822,2,    1.465,2, -999.000,9,-999.0000,9,  -999.00,9,   -999.0,9,   -999.0,9,  -999.00,9,-999.0000,-999.000, 15.0901,-999.000
      325023_1,  P14N,    61,  1,     31,     31,2,19930722,1845, 31.9932, 178.9952, 5171,    129.4,  14.1396,  34.5027,2,  34.5015,2,   -999.0,9,    228.2,2,    10.09,2,     7.16,2,     0.06,2,     0.56,2,    2.869,2,    1.469,2, -999.000,9,-999.0000,9,  -999.00,9,   -999.0,9,   -999.0,9,  -999.00,9,-999.0000,-999.000, 14.1209,-999.000
      325023_1,  P14N,    61,  1,     30,     30,2,19930722,1845, 31.9932, 178.9952, 5171,    159.6,  13.4830,  34.4623,2,  34.4617,2,   -999.0,9,    230.9,2,    10.05,2,     7.23,2,     0.03,2,     0.57,2,    2.887,2,    1.445,2, -999.000,9,-999.0000,9,  -999.00,9,   -999.0,9,   -999.0,9,  -999.00,9,-999.0000,-999.000, 13.4606,-999.000
      325023_1,  P14N,    61,  1,     29,     29,2,19930722,1845, 31.9932, 178.9952, 5171,    209.7,  12.8186,  34.4244,2,  34.4253,2,   -999.0,9,    227.4,2,    12.13,2,     8.64,2,     0.02,2,     0.66,2,    2.858,2,    1.457,2, -999.000,9,-999.0000,9,  -999.00,9,   -999.0,9,   -999.0,9,  -999.00,9,-999.0000,-999.000, 12.7902,-999.000
      325023_1,  P14N,    61,  1,     28,     28,2,19930722,1845, 31.9932, 178.9952, 5171,    259.8,  12.0723,  34.3843,2,  34.3896,2,   -999.0,9,    226.1,2,    14.40,2,    10.27,2,     0.02,2,     0.79,2,    2.875,2,    1.464,2, -999.000,9,-999.0000,9,  -999.00,9,   -999.0,9,   -999.0,9,  -999.00,9,-999.0000,-999.000, 12.0384,-999.000
      325023_1,  P14N,    61,  1,     27,     27,2,19930722,1845, 31.9932, 178.9952, 5171,    310.4,  11.2903,  34.3202,2,  34.3226,2,   -999.0,9,    238.1,2,    15.33,2,    10.59,2,     0.01,2,     0.81,2,    3.076,6,    1.567,6, -999.000,9,-999.0000,9,  -999.00,9,   -999.0,9,   -999.0,9,  -999.00,9,-999.0000,-999.000, 11.2515,-999.000
      325023_1,  P14N,    61,  1,     26,     26,2,19930722,1845, 31.9932, 178.9952, 5171,    411.1,   9.6861,  34.1788,2,  34.1820,2,   -999.0,9,    214.5,2,    24.73,2,    15.98,2,     0.01,2,     1.18,2,    2.892,2,    1.435,2, -999.000,9,-999.0000,9,  -999.00,9,   -999.0,9,   -999.0,9,  -999.00,9,-999.0000,-999.000,  9.6393,-999.000
      325023_1,  P14N,    61,  1,     25,     25,2,19930722,1845, 31.9932, 178.9952, 5171,    511.1,   7.6932,  34.0672,2,  34.0675,2,   -999.0,9,    175.6,2,    42.63,2,    23.06,2,     0.01,2,     1.69,2,    2.230,2,    1.070,2, -999.000,9,-999.0000,9,  -999.00,9,   -999.0,9,   -999.0,9,  -999.00,9,-999.0000,-999.000,  7.6424,-999.000
      325023_1,  P14N,    61,  1,     24,     24,2,19930722,1845, 31.9932, 178.9952, 5171,    610.6,   5.8946,  34.0075,2,  34.0113,2,   -999.0,9,    138.8,2,    62.31,2,    29.55,2,     0.01,2,     2.17,2,    1.832,2,    0.844,2, -999.000,9,-999.0000,9,  -999.00,9,   -999.0,9,   -999.0,9,  -999.00,9,-999.0000,-999.000,  5.8417,-999.000
      325023_1,  P14N,    61,  1,     23,     23,2,19930722,1845, 31.9932, 178.9952, 5171,    711.4,   4.8682,  34.0615,2,  34.0640,2,   -999.0,9,     91.1,2,    83.83,2,    35.38,2,     0.01,2,     2.58,2,    0.855,2,    0.389,2, -999.000,9,-999.0000,9,  -999.00,9,   -999.0,9,   -999.0,9,  -999.00,9,-999.0000,-999.000,  4.8117,-999.000
      325023_1,  P14N,    61,  1,     22,     22,2,19930722,1845, 31.9932, 178.9952, 5171,    812.2,   4.3153,  34.1520,2,  34.1528,2,   -999.0,9,     65.6,2,   100.82,2,    38.30,2,     0.01,2,     2.77,2,    0.537,3,    0.215,2, -999.000,9,-999.0000,9,  -999.00,9,   -999.0,9,   -999.0,9,  -999.00,9,-999.0000,-999.000,  4.2535,-999.000
      325023_1,  P14N,    61,  1,     21,     21,2,19930722,1845, 31.9932, 178.9952, 5171,    912.7,   3.7943,  34.2463,2,  34.2437,2,   -999.0,9,     40.6,2,   117.78,2,    40.93,2,     0.01,2,     2.93,2,    0.177,2,    0.083,2, -999.000,9,-999.0000,9,  -999.00,9,   -999.0,9,   -999.0,9,  -999.00,9,-999.0000,-999.000,  3.7277,-999.000
      325023_1,  P14N,    61,  1,     20,     20,2,19930722,1845, 31.9932, 178.9952, 5171,   1015.0,   3.4515,  34.3112,2,  34.3068,2,   -999.0,9,     32.1,2,   129.13,2,    41.99,2,     0.01,2,     3.01,2,    0.075,2,    0.029,2, -999.000,9,-999.0000,9,  -999.00,9,   -999.0,9,   -999.0,9,  -999.00,9,-999.0000,-999.000,  3.3793,-999.000
      325023_1,  P14N,    61,  1,     19,     19,2,19930722,1845, 31.9932, 178.9952, 5171,   1218.9,   2.9285,  34.4162,2,  34.4094,2,   -999.0,9,     27.9,2,   145.30,2,    42.83,2,     0.01,2,     3.06,2,    0.017,2,    0.005,2, -999.000,9,-999.0000,9,  -999.00,9,   -999.0,9,   -999.0,9,  -999.00,9,-999.0000,-999.000,  2.8445,-999.000
      325023_1,  P14N,    61,  1,     18,     18,2,19930722,1845, 31.9932, 178.9952, 5171,   1422.6,   2.5977,  34.4932,2,  34.4888,2,   -999.0,9,     31.6,2,   155.12,2,    42.90,2,     0.01,2,     3.06,2,    0.000,2,    0.001,2, -999.000,9,-999.0000,9,  -999.00,9,   -999.0,9,   -999.0,9,  -999.00,9,-999.0000,-999.000,  2.5009,-999.000
      325023_1,  P14N,    61,  1,     17,     17,2,19930722,1845, 31.9932, 178.9952, 5171,   1624.5,   2.3087,  34.5429,2,  34.5400,2,   -999.0,9,     44.4,2,   162.34,2,    42.37,2,     0.01,2,     3.01,2,   -0.002,2,   -0.002,3, -999.000,9,-999.0000,9,  -999.00,9,   -999.0,9,   -999.0,9,  -999.00,9,-999.0000,-999.000,  2.1991,-999.000
      325023_1,  P14N,    61,  1,     16,     16,2,19930722,1845, 31.9932, 178.9952, 5171,   1827.8,   2.0781,  34.5774,2,  34.5755,2,   -999.0,9,     58.0,2,   167.10,2,    41.53,2,     0.01,2,     2.95,2, -999.000,5, -999.000,5, -999.000,9,-999.0000,9,  -999.00,9,   -999.0,9,   -999.0,9,  -999.00,9,-999.0000,-999.000,  1.9549,-999.000
      325023_1,  P14N,    61,  1,     15,     15,2,19930722,1845, 31.9932, 178.9952, 5171,   2031.5,   1.9035,  34.6036,2,  34.6026,2,   -999.0,9,     73.4,2,   168.94,2,    40.51,2,     0.00,2,     2.86,2, -999.000,5, -999.000,5, -999.000,9,-999.0000,9,  -999.00,9,   -999.0,9,   -999.0,9,  -999.00,9,-999.0000,-999.000,  1.7660,-999.000
      325023_1,  P14N,    61,  1,     14,     14,2,19930722,1845, 31.9932, 178.9952, 5171,   2235.1,   1.7878,  34.6248,2,  34.6239,2,   -999.0,9,     87.7,2,   167.82,2,    39.54,2,     0.01,2,     2.80,2,   -0.003,2,    0.001,2, -999.000,9,-999.0000,9,  -999.00,9,   -999.0,9,   -999.0,9,  -999.00,9,-999.0000,-999.000,  1.6348,-999.000
      325023_1,  P14N,    61,  1,     13,     13,2,19930722,1845, 31.9932, 178.9952, 5171,   2439.2,   1.6686,  34.6391,2,  34.6385,2,   -999.0,9,    101.4,2,   165.65,2,    38.70,2,     0.00,2,     2.74,2, -999.000,5, -999.000,5, -999.000,9,-999.0000,9,  -999.00,9,   -999.0,9,   -999.0,9,  -999.00,9,-999.0000,-999.000,  1.4999,-999.000
      325023_1,  P14N,    61,  1,     12,     12,2,19930722,1845, 31.9932, 178.9952, 5171,   2644.1,   1.6096,  34.6486,2,  34.6479,2,   -999.0,9,    110.3,2,   164.54,2,    38.22,2,     0.00,2,     2.68,2,    0.001,2,    0.000,2, -999.000,9,-999.0000,9,  -999.00,9,   -999.0,9,   -999.0,9,  -999.00,9,-999.0000,-999.000,  1.4237,-999.000
      325023_1,  P14N,    61,  1,     11,     11,2,19930722,1845, 31.9932, 178.9952, 5171,   2848.3,   1.5667,  34.6562,2,  34.6558,2,   -999.0,9,    118.1,2,   162.60,2,    37.66,2,     0.00,2,     2.64,2, -999.000,5, -999.000,5, -999.000,9,-999.0000,9,  -999.00,9,   -999.0,9,   -999.0,9,  -999.00,9,-999.0000,-999.000,  1.3629,-999.000
      325023_1,  P14N,    61,  1,     10,     10,2,19930722,1845, 31.9932, 178.9952, 5171,   3054.0,   1.5241,  34.6637,2,  34.6634,2,   -999.0,9,    126.0,2,   161.70,2,    37.23,2,     0.00,2,     2.61,2, -999.000,5, -999.000,5, -999.000,9,-999.0000,9,  -999.00,9,   -999.0,9,   -999.0,9,  -999.00,9,-999.0000,-999.000,  1.3016,-999.000
      325023_1,  P14N,    61,  1,      9,      9,2,19930722,1845, 31.9932, 178.9952, 5171,   3360.2,   1.4892,  34.6716,2,  34.6707,2,   -999.0,9,    134.5,2,   160.18,2,    36.67,2,     0.00,2,     2.57,2,    0.002,2,   -0.001,2, -999.000,9,-999.0000,9,  -999.00,9,   -999.0,9,   -999.0,9,  -999.00,9,-999.0000,-999.000,  1.2375,-999.000
      325023_1,  P14N,    61,  1,      8,      8,2,19930722,1845, 31.9932, 178.9952, 5171,   3667.8,   1.4723,  34.6773,2,  34.6770,2,   -999.0,9,    140.9,2,   160.12,2,    36.24,2,     0.00,2,     2.54,2, -999.000,5, -999.000,5, -999.000,9,-999.0000,9,  -999.00,9,   -999.0,9,   -999.0,9,  -999.00,9,-999.0000,-999.000,  1.1896,-999.000
      325023_1,  P14N,    61,  1,      7,      7,2,19930722,1845, 31.9932, 178.9952, 5171,   3976.1,   1.4623,  34.6817,2,  34.6819,2,   -999.0,9,    146.8,2,   156.32,2,    35.94,2,     0.00,2,     2.49,2,    0.013,4,   -0.002,2, -999.000,9,-999.0000,9,  -999.00,9,   -999.0,9,   -999.0,9,  -999.00,9,-999.0000,-999.000,  1.1471,-999.000
      325023_1,  P14N,    61,  1,      6,      6,2,19930722,1845, 31.9932, 178.9952, 5171,   4284.3,   1.4656,  34.6849,2,  34.6850,2,   -999.0,9,    151.3,2,   154.19,2,    35.65,2,     0.00,2,     2.47,2, -999.000,5, -999.000,5, -999.000,9,-999.0000,9,  -999.00,9,   -999.0,9,   -999.0,9,  -999.00,9,-999.0000,-999.000,  1.1163,-999.000
      325023_1,  P14N,    61,  1,      5,      5,2,19930722,1845, 31.9932, 178.9952, 5171,   4593.3,   1.4691,  34.6882,2,  34.6883,2,   -999.0,9,    156.8,2,   150.83,2,    35.22,2,     0.00,2,     2.44,2, -999.000,5, -999.000,5, -999.000,9,-999.0000,9,  -999.00,9,   -999.0,9,   -999.0,9,  -999.00,9,-999.0000,-999.000,  1.0843,-999.000
      325023_1,  P14N,    61,  1,      4,      4,2,19930722,1845, 31.9932, 178.9952, 5171,   4901.5,   1.4761,  34.6900,2,  34.6909,2,   -999.0,9,    161.9,2,   147.28,2,    34.92,2,     0.00,2,     2.41,2,   -0.001,2,   -0.001,2, -999.000,9,-999.0000,9,  -999.00,9,   -999.0,9,   -999.0,9,  -999.00,9,-999.0000,-999.000,  1.0546,-999.000
      325023_1,  P14N,    61,  1,      3,      3,2,19930722,1845, 31.9932, 178.9952, 5171,   5210.9,   1.4852,  34.6928,2,  34.6937,2,   -999.0,9,    167.2,2,   143.13,2,    34.45,2,     0.00,2,     2.38,2, -999.000,5, -999.000,5, -999.000,9,-999.0000,9,  -999.00,9,   -999.0,9,   -999.0,9,  -999.00,9,-999.0000,-999.000,  1.0255,-999.000
      325023_1,  P14N,    61,  1,      2,      2,2,19930722,1845, 31.9932, 178.9952, 5171,   5259.8,   1.4914,  34.6932,2,  34.6933,2,   -999.0,9,    167.1,2,   142.26,2,    34.51,2,     0.00,2,     2.37,2, -999.000,5, -999.000,5, -999.000,9,-999.0000,9,  -999.00,9,   -999.0,9,   -999.0,9,  -999.00,9,-999.0000,-999.000,  1.0254,-999.000
      325023_1,  P14N,    61,  1,      1,      1,2,19930722,1845, 31.9932, 178.9952, 5171,   5259.8,   1.4913,  34.6933,2,  34.6933,2,   -999.0,9,    167.0,2,   142.21,2,    34.53,2,     0.00,2,     2.38,2,    0.001,2,    0.001,2, -999.000,9,-999.0000,9,  -999.00,9,   -999.0,9,   -999.0,9,  -999.00,9,-999.0000,-999.000,  1.0253,-999.000