BOTTLE,20131125MIRCJHATS
EXPOCODE,SECT_ID,STNNBR,CASTNO,SAMPNO,BTLNBR,BTLNBR_FLAG_W,DATE,TIME,LATITUDE,LONGITUDE,DEPTH,CTDPRS,CTDTMP,CTDSAL,CTDSAL_FLAG_W,SALNTY,SALNTY_FLAG_W,CTDOXY,CTDOXY_FLAG_W,OXYGEN,OXYGEN_FLAG_W,SILCAT,SILCAT_FLAG_W,NITRAT,NITRAT_FLAG_W,NITRIT,NITRIT_FLAG_W,PHSPHT,PHSPHT_FLAG_W,CFC-11,CFC-11_FLAG_W,CFC-12,CFC-12_FLAG_W,TRITUM,TRITUM_FLAG_W,HELIUM,HELIUM_FLAG_W,DELHE3,DELHE3_FLAG_W,TCARBN,TCARBN_FLAG_W,ALKALI,ALKALI_FLAG_W,PH,PH_FLAG_W,HELIER,DELHER,THETA,TRITER
,,,,,,,,,,,,DBAR,ITS-90,PSS-78,,PSS-78,,UMOL/KG,,UMOL/KG,,UMOL/KG,,UMOL/KG,,UMOL/KG,,UMOL/KG,,PMOL/KG,,PMOL/KG,,TU,,NMOL/KG,,PERCNT,,UMOL/KG,,UMOL/KG,,25_DEG,,NMOL/KG,PERCNT,DEG C,TU
      325024_1,  P14N,   176,  1,     36,     36,2,19930827,0953,-11.5068, 178.9985, 3104,      1.9,  28.3835,  34.4173,2,  34.4234,2,   -999.0,9,    197.2,2,     2.67,2,     0.04,2,     0.00,2,     0.20,2,    1.603,2,    0.875,2, -999.000,9,-999.0000,9,  -999.00,9,   1906.0,2,   2256.0,2,     8.12,2,-999.0000,-999.000, 28.3830,-999.000
      325024_1,  P14N,   176,  1,     35,     35,2,19930827,0953,-11.5068, 178.9985, 3104,     34.4,  28.2610,  34.4739,2,  34.4848,2,   -999.0,9,    197.4,2,     2.43,2,     0.04,2,     0.00,2,     0.20,2, -999.000,5, -999.000,5, -999.000,9,-999.0000,9,  -999.00,9,   1913.0,2,   2253.0,2,     8.10,2,-999.0000,-999.000, 28.2529,-999.000
      325024_1,  P14N,   176,  1,     34,     34,2,19930827,0953,-11.5068, 178.9985, 3104,     63.9,  28.0912,  34.7106,2,  34.7204,2,   -999.0,9,    197.4,2,     2.19,2,     0.08,2,     0.01,2,     0.20,2, -999.000,5, -999.000,5, -999.000,9,-999.0000,9,  -999.00,9,   1923.0,2,   2264.0,2,     8.10,2,-999.0000,-999.000, 28.0762,-999.000
      325024_1,  P14N,   176,  1,     33,     33,2,19930827,0953,-11.5068, 178.9985, 3104,     94.1,  27.5578,  35.7638,2,  35.8935,2,   -999.0,9,    163.0,2,     2.34,2,     2.58,2,     0.39,2,     0.51,2, -999.000,5, -999.000,5, -999.000,9,-999.0000,9,  -999.00,9,   2038.0,2,   2356.0,2,     8.03,2,-999.0000,-999.000, 27.5359,-999.000
      325024_1,  P14N,   176,  1,     32,     32,2,19930827,0953,-11.5068, 178.9985, 3104,    124.2,  24.9396,  36.1129,2,  36.1288,2,   -999.0,9,    141.9,2,     2.10,2,     6.03,2,     0.30,2,     0.69,2,    1.679,2,    0.898,2, -999.000,9,-999.0000,9,  -999.00,9,   2088.0,2,   2369.0,2,     7.97,2,-999.0000,-999.000, 24.9126,-999.000
      325024_1,  P14N,   176,  1,     31,     31,2,19930827,0953,-11.5068, 178.9985, 3104,    154.0,  23.3632,  36.1467,2,  36.1511,2,   -999.0,9,    143.7,2,     2.06,2,     6.53,2,     0.04,2,     0.70,2, -999.000,5, -999.000,5, -999.000,9,-999.0000,9,  -999.00,9,   2098.0,2,   2372.0,2,     7.95,2,-999.0000,-999.000, 23.3313,-999.000
      325024_1,  P14N,   176,  1,     30,     30,2,19930827,0953,-11.5068, 178.9985, 3104,    203.5,  21.0764,  35.9359,2,  35.9099,2,   -999.0,9,    145.5,2,     2.62,2,     7.41,2,     0.01,2,     0.77,2, -999.000,5, -999.000,5, -999.000,9,-999.0000,9,  -999.00,9,   2109.0,2,   2359.0,2,     7.91,2,-999.0000,-999.000, 21.0371,-999.000
      325024_1,  P14N,   176,  1,     29,     29,2,19930827,0953,-11.5068, 178.9985, 3104,    253.4,  15.9701,  35.2806,2,  35.2761,2,   -999.0,9,    124.4,2,     6.96,2,    14.17,2,     0.00,2,     1.24,2, -999.000,5, -999.000,5, -999.000,9,-999.0000,9,  -999.00,9,   2140.0,2,   2330.0,2,     7.79,2,-999.0000,-999.000, 15.9299,-999.000
      325024_1,  P14N,   176,  1,     28,     28,2,19930827,0953,-11.5068, 178.9985, 3104,    304.2,  13.0557,  34.9572,2,  34.9528,2,   -999.0,9,    112.8,2,    12.29,2,    19.59,2,     0.00,2,     1.59,2,    0.663,2,    0.349,2, -999.000,9,-999.0000,9,  -999.00,9,   2158.0,2,   2303.0,2,     7.68,2,-999.0000,-999.000, 13.0136,-999.000
      325024_1,  P14N,   176,  1,     27,     27,2,19930827,0953,-11.5068, 178.9985, 3104,    354.7,  10.3895,  34.7402,2,  34.7370,2,   -999.0,9,    109.8,2,    19.42,2,    25.33,2,     0.01,2,     1.90,2, -999.000,5, -999.000,5, -999.000,9,-999.0000,9,  -999.00,9,   2200.0,2,   2298.0,2,     7.61,2,-999.0000,-999.000, 10.3472,-999.000
      325024_1,  P14N,   176,  1,     26,     26,2,19930827,0953,-11.5068, 178.9985, 3104,    404.8,   8.9559,  34.6387,2,  34.6380,2,   -999.0,9,    119.1,2,    23.95,2,    27.76,2,     0.01,2,     2.03,2, -999.000,5, -999.000,5, -999.000,9,-999.0000,9,  -999.00,9,   2195.0,2,   2295.0,2,     7.59,2,-999.0000,-999.000,  8.9117,-999.000
      325024_1,  P14N,   176,  1,     25,     25,2,19930827,0953,-11.5068, 178.9985, 3104,    454.6,   7.9098,  34.5810,2,  34.5777,2,   -999.0,9,    121.9,2,    29.28,2,    30.02,2,     0.01,2,     2.14,2, -999.000,5, -999.000,5, -999.000,9,-999.0000,9,  -999.00,9,   2204.0,2,   2302.0,2,     7.58,2,-999.0000,-999.000,  7.8637,-999.000
      325024_1,  P14N,   176,  1,     24,     24,2,19930827,0953,-11.5068, 178.9985, 3104,    504.4,   7.1015,  34.5432,2,  34.5409,2,   -999.0,9,    124.2,2,    34.81,2,    31.66,2,     0.00,2,     2.23,2,    0.054,2,    0.030,2, -999.000,9,-999.0000,9,  -999.00,9,   2215.0,2,   2300.0,2,     7.54,2,-999.0000,-999.000,  7.0532,-999.000
      325024_1,  P14N,   176,  1,     23,     23,2,19930827,0953,-11.5068, 178.9985, 3104,    604.2,   6.3481,  34.5200,2,  34.5201,2,   -999.0,9,    120.1,2,    41.92,2,    33.62,2,     0.00,2,     2.37,2, -999.000,5, -999.000,5, -999.000,9,-999.0000,9,  -999.00,9,   2228.0,2,   2312.0,2,     7.54,2,-999.0000,-999.000,  6.2933,-999.000
      325024_1,  P14N,   176,  1,     22,     22,2,19930827,0953,-11.5068, 178.9985, 3104,    703.6,   5.6044,  34.5086,2,  34.5091,2,   -999.0,9,    117.4,2,    51.03,2,    35.33,2,     0.00,2,     2.48,2, -999.000,5, -999.000,5, -999.000,9,-999.0000,9,  -999.00,9,   2242.0,2,   2314.0,2,     7.51,2,-999.0000,-999.000,  5.5440,-999.000
      325024_1,  P14N,   176,  1,     21,     21,2,19930827,0953,-11.5068, 178.9985, 3104,    808.7,   5.0806,  34.5063,2,  34.5081,2,   -999.0,9,    118.9,2,    58.75,2,    35.95,2,     0.00,2,     2.52,2, -999.000,5, -999.000,5, -999.000,9,-999.0000,9,  -999.00,9,   2257.0,2,   2300.0,2,     7.45,3,-999.0000,-999.000,  5.0139,-999.000
      325024_1,  P14N,   176,  1,     20,     20,2,19930827,0953,-11.5068, 178.9985, 3104,    908.1,   4.7301,  34.5137,2,  34.5154,2,   -999.0,9,    119.2,2,    65.48,2,    36.39,2,     0.00,2,     2.54,2, -999.000,5, -999.000,5, -999.000,9,-999.0000,9,  -999.00,9,   2264.0,2,   2333.0,2,     7.50,2,-999.0000,-999.000,  4.6569,-999.000
      325024_1,  P14N,   176,  1,     19,     19,2,19930827,0953,-11.5068, 178.9985, 3104,   1008.3,   4.3018,  34.5176,2,  34.5189,2,   -999.0,9,    128.7,2,    71.41,2,    35.91,2,     0.00,2,     2.51,2, -999.000,5, -999.000,5, -999.000,9,-999.0000,9,  -999.00,9,   2265.0,2,   2344.0,2,     7.53,2,-999.0000,-999.000,  4.2231,-999.000
      325024_1,  P14N,   176,  1,     18,     18,2,19930827,0953,-11.5068, 178.9985, 3104,   1108.0,   4.0507,  34.5275,2,  34.5273,2,   -999.0,9,    129.2,2,    77.15,2,    36.09,2,     0.00,2,     2.50,2, -999.000,5, -999.000,5, -999.000,9,-999.0000,9,  -999.00,9,   2272.0,2,   2345.0,2,     7.52,2,-999.0000,-999.000,  3.9655,-999.000
      325024_1,  P14N,   176,  1,     17,     17,2,19930827,0953,-11.5068, 178.9985, 3104,   1213.0,   3.7918,  34.5392,2,  34.5387,2,   -999.0,9,    129.5,2,    82.89,2,    36.26,2,     0.00,2,     2.53,2,   -0.002,2,    0.003,2, -999.000,9,-999.0000,9,  -999.00,9,   2279.0,2,   2356.0,2,     7.54,2,-999.0000,-999.000,  3.7000,-999.000
      325024_1,  P14N,   176,  1,     16,     16,2,19930827,0953,-11.5068, 178.9985, 3104,   1312.7,   3.4257,  34.5559,2,  34.5562,2,   -999.0,9,    129.6,2,    91.46,2,    36.62,2,     0.00,2,     2.55,2, -999.000,5, -999.000,5, -999.000,9,-999.0000,9,  -999.00,9,   2289.0,2,   2359.0,2,     7.51,2,-999.0000,-999.000,  3.3290,-999.000
      325024_1,  P14N,   176,  1,     15,     15,2,19930827,0953,-11.5068, 178.9985, 3104,   1416.8,   3.0502,  34.5742,2,  34.5740,2,   -999.0,9,    134.8,2,    99.46,2,    36.31,2,     0.00,2,     2.53,2, -999.000,5, -999.000,5, -999.000,9,-999.0000,9,  -999.00,9,   2293.0,2,   2372.0,2,     7.53,2,-999.0000,-999.000,  2.9487,-999.000
      325024_1,  P14N,   176,  1,     14,     14,2,19930827,0953,-11.5068, 178.9985, 3104,   1516.5,   2.8306,  34.5871,2,  34.5873,2,   -999.0,9,    137.0,2,   103.83,2,    36.22,2,     0.00,2,     2.53,2, -999.000,5, -999.000,5, -999.000,9,-999.0000,9,  -999.00,9,   2298.0,2,   2375.0,2,     7.52,2,-999.0000,-999.000,  2.7234,-999.000
      325024_1,  P14N,   176,  1,     13,     13,2,19930827,0953,-11.5068, 178.9985, 3104,   1615.5,   2.6381,  34.5990,2,  34.5997,2,   -999.0,9,    139.4,2,   109.43,2,    36.09,2,     0.00,2,     2.53,2, -999.000,5, -999.000,5, -999.000,9,-999.0000,9,  -999.00,9,   2304.0,2,   2381.0,2,     7.53,2,-999.0000,-999.000,  2.5249,-999.000
      325024_1,  P14N,   176,  1,     12,     12,2,19930827,0953,-11.5068, 178.9985, 3104,   1716.4,   2.5670,  34.6045,2,  34.6050,2,   -999.0,9,    139.7,2,   110.98,2,    36.27,2,     0.00,2,     2.52,2, -999.000,5, -999.000,5, -999.000,9,-999.0000,9,  -999.00,9,   2305.0,2,   2386.0,2,     7.54,2,-999.0000,-999.000,  2.4464,-999.000
      325024_1,  P14N,   176,  1,     11,     11,2,19930827,0953,-11.5068, 178.9985, 3104,   1817.0,   2.4224,  34.6152,2,  34.6152,2,   -999.0,9,    140.2,2,   115.79,2,    36.14,2,     0.00,2,     2.52,2, -999.000,5, -999.000,5, -999.000,9,-999.0000,9,  -999.00,9,   2307.0,2,   2387.0,2,     7.53,2,-999.0000,-999.000,  2.2953,-999.000
      325024_1,  P14N,   176,  1,     10,     10,2,19930827,0953,-11.5068, 178.9985, 3104,   1921.6,   2.3280,  34.6215,2,  34.6225,2,   -999.0,9,    141.2,2,   117.95,2,    36.10,2,     0.00,2,     2.52,2, -999.000,5, -999.000,5, -999.000,9,-999.0000,9,  -999.00,9,   2311.0,2,   2392.0,2,     7.54,2,-999.0000,-999.000,  2.1933,-999.000
      325024_1,  P14N,   176,  1,      9,      9,2,19930827,0953,-11.5068, 178.9985, 3104,   2022.1,   2.2060,  34.6310,2,  34.6311,2,   -999.0,9,    142.1,2,   121.76,2,    36.10,2,     0.00,2,     2.51,2, -999.000,5, -999.000,5, -999.000,9,-999.0000,9,  -999.00,9,   2313.0,2,   2394.0,2,     7.53,2,-999.0000,-999.000,  2.0645,-999.000
      325024_1,  P14N,   176,  1,      8,      8,2,19930827,0953,-11.5068, 178.9985, 3104,   2123.5,   2.1345,  34.6361,2,  34.6370,2,   -999.0,9,    142.6,2,   124.13,2,    36.10,2,     0.00,2,     2.49,2, -999.000,5, -999.000,5, -999.000,9,-999.0000,9,  -999.00,9,   2316.0,2,   2399.0,2,     7.54,2,-999.0000,-999.000,  1.9855,-999.000
      325024_1,  P14N,   176,  1,      7,      7,2,19930827,0953,-11.5068, 178.9985, 3104,   2225.2,   2.0631,  34.6416,2,  34.6425,2,   -999.0,9,    143.5,2,   126.31,2,    36.06,2,     0.00,2,     2.51,2, -999.000,5, -999.000,5, -999.000,9,-999.0000,9,  -999.00,9,   2317.0,2,   2397.0,2,     7.53,2,-999.0000,-999.000,  1.9063,-999.000
      325024_1,  P14N,   176,  1,      6,      6,2,19930827,0953,-11.5068, 178.9985, 3104,   2428.3,   1.9307,  34.6514,2,  34.6525,2,   -999.0,9,    144.6,2,   130.54,2,    36.06,2,     0.00,2,     2.50,2, -999.000,5, -999.000,5, -999.000,9,-999.0000,9,  -999.00,9,   2320.0,2,   2405.0,2,     7.55,2,-999.0000,-999.000,  1.7582,-999.000
      325024_1,  P14N,   176,  1,      5,      5,2,19930827,0953,-11.5068, 178.9985, 3104,   2632.1,   1.8072,  34.6598,2,  34.6613,2,   -999.0,9,    147.2,2,   133.35,2,    35.93,2,     0.00,2,     2.48,2, -999.000,5, -999.000,5, -999.000,9,-999.0000,9,  -999.00,9,   2321.0,2,   2410.0,2,     7.56,2,-999.0000,-999.000,  1.6184,-999.000
      325024_1,  P14N,   176,  1,      4,      4,2,19930827,0953,-11.5068, 178.9985, 3104,   2835.9,   1.6860,  34.6679,2,  34.6686,2,   -999.0,9,    147.4,2,   137.60,2,    35.97,2,     0.00,2,     2.49,2, -999.000,5, -999.000,5, -999.000,9,-999.0000,9,  -999.00,9,   2322.0,2,   2415.0,2,     7.55,2,-999.0000,-999.000,  1.4807,-999.000
      325024_1,  P14N,   176,  1,      3,      3,2,19930827,0953,-11.5068, 178.9985, 3104,   3040.0,   1.6160,  34.6731,2,  34.6731,2,   -999.0,9,    148.9,2,   139.59,2,    35.89,2,     0.00,2,     2.50,2, -999.000,5, -999.000,5, -999.000,9,-999.0000,9,  -999.00,9,   2326.0,2,   2409.0,2,     7.53,2,-999.0000,-999.000,  1.3928,-999.000
      325024_1,  P14N,   176,  1,      1,      1,2,19930827,0953,-11.5068, 178.9985, 3104,   3135.4,   1.5971,  34.6749,2,  34.6756,2,   -999.0,9,    150.3,2,   139.62,2,    35.80,2,     0.00,2,     2.48,2, -999.000,5, -999.000,5, -999.000,9,-999.0000,9,  -999.00,9,   2326.0,2,   2415.0,2,     7.55,2,-999.0000,-999.000,  1.3651,-999.000
      325024_1,  P14N,   176,  1,      2,      2,2,19930827,0953,-11.5068, 178.9985, 3104,   3135.6,   1.5967,  34.6746,2,  34.6756,2,   -999.0,9,    150.5,2,   139.50,2,    35.84,2,     0.00,2,     2.47,2, -999.000,5, -999.000,5, -999.000,9,-999.0000,9,  -999.00,9,   2325.0,2,   2411.0,2,     7.55,2,-999.0000,-999.000,  1.3647,-999.000