BOTTLE,20131125MIRCJHATS
EXPOCODE,SECT_ID,STNNBR,CASTNO,SAMPNO,BTLNBR,BTLNBR_FLAG_W,DATE,TIME,LATITUDE,LONGITUDE,DEPTH,CTDPRS,CTDTMP,CTDSAL,CTDSAL_FLAG_W,SALNTY,SALNTY_FLAG_W,CTDOXY,CTDOXY_FLAG_W,OXYGEN,OXYGEN_FLAG_W,SILCAT,SILCAT_FLAG_W,NITRAT,NITRAT_FLAG_W,NITRIT,NITRIT_FLAG_W,PHSPHT,PHSPHT_FLAG_W,CFC-11,CFC-11_FLAG_W,CFC-12,CFC-12_FLAG_W,TRITUM,TRITUM_FLAG_W,HELIUM,HELIUM_FLAG_W,DELHE3,DELHE3_FLAG_W,TCARBN,TCARBN_FLAG_W,ALKALI,ALKALI_FLAG_W,PH,PH_FLAG_W,HELIER,DELHER,THETA,TRITER
,,,,,,,,,,,,DBAR,ITS-90,PSS-78,,PSS-78,,UMOL/KG,,UMOL/KG,,UMOL/KG,,UMOL/KG,,UMOL/KG,,UMOL/KG,,PMOL/KG,,PMOL/KG,,TU,,NMOL/KG,,PERCNT,,UMOL/KG,,UMOL/KG,,25_DEG,,NMOL/KG,PERCNT,DEG C,TU
      325024_1,  P14N,   137,  1,     36,     36,2,19930816,1127,  1.5012, 179.0035, 5522,      1.9,  30.2075,  34.1002,2,  34.1068,2,   -999.0,9,    196.7,2,     2.74,2,     0.01,2,     0.00,2,     0.15,2,    1.547,2,    0.858,2, -999.000,9,-999.0000,9,  -999.00,9,   1885.0,2,   2247.0,2,     8.12,2,-999.0000,-999.000, 30.2071,-999.000
      325024_1,  P14N,   137,  1,     35,     35,2,19930816,1127,  1.5012, 179.0035, 5522,     41.1,  29.9122,  34.0912,2,  34.1044,2,   -999.0,9,    197.7,2,     2.48,2,     0.01,2,     0.00,2,     0.16,2,    1.547,2,    0.862,2, -999.000,9,-999.0000,9,  -999.00,9,   1887.0,2,   2243.0,2,     8.12,2,-999.0000,-999.000, 29.9020,-999.000
      325024_1,  P14N,   137,  1,     34,     34,2,19930816,1127,  1.5012, 179.0035, 5522,     60.7,  29.7984,  34.7745,2,  34.7981,2,   -999.0,9,    203.2,2,     2.41,2,     0.01,2,     0.00,2,     0.21,2,    1.545,2,    0.855,2, -999.000,9,-999.0000,9,  -999.00,9,   1936.0,2,   2292.0,2,     8.10,2,-999.0000,-999.000, 29.7835,-999.000
      325024_1,  P14N,   137,  1,     33,     33,2,19930816,1127,  1.5012, 179.0035, 5522,     91.0,  28.5364,  35.0541,2,  35.1109,4,   -999.0,9,    193.2,2,     2.35,2,     1.06,2,     0.20,2,     0.35,2,    1.587,6,    0.869,6, -999.000,9,-999.0000,9,  -999.00,9,   1984.0,2,   2314.0,2,     8.06,2,-999.0000,-999.000, 28.5147,-999.000
      325024_1,  P14N,   137,  1,     32,     32,2,19930816,1127,  1.5012, 179.0035, 5522,    121.2,  22.7515,  34.9964,2,  34.9963,2,   -999.0,9,    133.6,2,     6.32,2,     8.90,2,     0.07,2,     0.72,2,    1.548,2,    0.824,2, -999.000,9,-999.0000,9,  -999.00,9,   2053.0,2,   2305.0,2,     7.91,2,-999.0000,-999.000, 22.7270,-999.000
      325024_1,  P14N,   137,  1,     31,     31,2,19930816,1127,  1.5012, 179.0035, 5522,    150.2,  20.4698,  34.9332,2,  34.9399,2,   -999.0,9,    135.0,2,     8.88,2,    10.13,2,     0.02,2,     0.79,2,    1.553,2,    0.809,2, -999.000,9,-999.0000,9,  -999.00,9,   2067.0,2,   2304.0,2,     7.90,2,-999.0000,-999.000, 20.4416,-999.000
      325024_1,  P14N,   137,  1,     30,     30,2,19930816,1127,  1.5012, 179.0035, 5522,    201.3,  14.4039,  34.8008,2,  34.7792,2,   -999.0,9,    134.5,2,    19.50,2,    17.16,2,     0.00,2,     1.27,2,    1.181,2,    0.610,2, -999.000,9,-999.0000,9,  -999.00,9,   2128.0,2,   2303.0,2,     7.76,2,-999.0000,-999.000, 14.3743,-999.000
      325024_1,  P14N,   137,  1,     29,     29,2,19930816,1127,  1.5012, 179.0035, 5522,    251.7,  12.0390,  34.7952,2,  34.7963,2,   -999.0,9,    118.4,2,    22.45,2,    22.11,2,     0.00,2,     1.60,2,    0.713,2,    0.359,2, -999.000,9,-999.0000,9,  -999.00,9,   2165.0,2,   2303.0,2,     7.69,2,-999.0000,-999.000, 12.0061,-999.000
      325024_1,  P14N,   137,  1,     28,     28,2,19930816,1127,  1.5012, 179.0035, 5522,    302.4,  11.1731,  34.7715,2,  34.7777,2,   -999.0,9,     89.3,2,    25.59,2,    26.57,2,     0.00,2,     1.88,2,    0.461,2,    0.238,2, -999.000,9,-999.0000,9,  -999.00,9,   2197.0,2,   2311.0,2,     7.61,2,-999.0000,-999.000, 11.1353,-999.000
      325024_1,  P14N,   137,  1,     27,     27,2,19930816,1127,  1.5012, 179.0035, 5522,    404.1,   9.8135,  34.7013,2,  34.7029,2,   -999.0,9,     55.4,2,    32.97,2,    32.55,2,     0.00,2,     2.26,2,    0.158,2,    0.077,2, -999.000,9,-999.0000,9,  -999.00,9,   2234.0,2,   2310.0,2,     7.52,2,-999.0000,-999.000,  9.7669,-999.000
      325024_1,  P14N,   137,  1,     26,     26,2,19930816,1127,  1.5012, 179.0035, 5522,    505.5,   7.8641,  34.5983,2,  34.5946,2,   -999.0,9,     78.3,2,    42.15,2,    34.03,2,     0.00,2,     2.40,2,    0.070,2,    0.035,2, -999.000,9,-999.0000,9,  -999.00,9,   2244.0,2,   2319.0,2,     7.51,2,-999.0000,-999.000,  7.8127,-999.000
      325024_1,  P14N,   137,  1,     25,     25,2,19930816,1127,  1.5012, 179.0035, 5522,    605.8,   6.6684,  34.5649,2,  34.5648,2,   -999.0,9,     71.3,2,    53.14,2,    37.51,2,     0.00,2,     2.64,2,    0.021,2,    0.010,2, -999.000,9,-999.0000,9,  -999.00,9,   2265.0,2,   2323.0,2,     7.49,2,-999.0000,-999.000,  6.6119,-999.000
      325024_1,  P14N,   137,  1,     24,     24,2,19930816,1127,  1.5012, 179.0035, 5522,    706.5,   5.8703,  34.5512,2,  34.5507,2,   -999.0,9,     71.2,2,    63.73,2,    39.04,2,     0.00,2,     2.76,2,    0.006,2,    0.004,2, -999.000,9,-999.0000,9,  -999.00,9,   2279.0,2,   2332.0,2,     7.45,2,-999.0000,-999.000,  5.8082,-999.000
      325024_1,  P14N,   137,  1,     23,     23,2,19930816,1127,  1.5012, 179.0035, 5522,    807.0,   5.5634,  34.5463,2,  34.5446,2,   -999.0,9,     77.8,2,    67.26,2,    38.59,2,     0.00,2,     2.74,2,    0.003,2,    0.006,2, -999.000,9,-999.0000,9,  -999.00,9,   2281.0,2,   2341.0,2,     7.48,2,-999.0000,-999.000,  5.4938,-999.000
      325024_1,  P14N,   137,  1,     22,     22,2,19930816,1127,  1.5012, 179.0035, 5522,    908.0,   5.2079,  34.5444,2,  34.5432,2,   -999.0,9,     84.8,2,    72.41,2,    38.24,2,     0.00,2,     2.72,2,    0.002,2,    0.002,2, -999.000,9,-999.0000,9,  -999.00,9,   2284.0,2,   2337.0,2,     7.45,2,-999.0000,-999.000,  5.1314,-999.000
      325024_1,  P14N,   137,  1,     21,     21,2,19930816,1127,  1.5012, 179.0035, 5522,   1008.8,   4.6210,  34.5529,2,  34.5526,2,   -999.0,9,     83.6,2,    84.64,2,    39.14,2,     0.00,2,     2.80,2,    0.000,2,    0.002,2, -999.000,9,-999.0000,9,  -999.00,9,   2298.0,2,   2355.0,2,     7.49,2,-999.0000,-999.000,  4.5397,-999.000
      325024_1,  P14N,   137,  1,     20,     20,2,19930816,1127,  1.5012, 179.0035, 5522,   1109.9,   4.2486,  34.5607,2,  34.5613,2,   -999.0,9,     85.7,2,    92.85,2,    39.19,2,     0.00,2,     2.80,2,   -0.001,2,    0.002,2, -999.000,9,-999.0000,9,  -999.00,9,   2308.0,2,   2367.0,2,     7.46,2,-999.0000,-999.000,  4.1615,-999.000
      325024_1,  P14N,   137,  1,     19,     19,2,19930816,1127,  1.5012, 179.0035, 5522,   1211.1,   3.9406,  34.5694,2,  34.5687,2,   -999.0,9,     89.5,2,    99.65,2,    39.01,2,     0.00,2,     2.78,2,   -0.002,2,    0.004,2, -999.000,9,-999.0000,9,  -999.00,9,   2314.0,2,   2370.0,2,     7.47,2,-999.0000,-999.000,  3.8475,-999.000
      325024_1,  P14N,   137,  1,     18,     18,2,19930816,1127,  1.5012, 179.0035, 5522,   1414.6,   3.3213,  34.5908,2,  34.5905,2,   -999.0,9,     92.3,2,   114.05,2,    39.47,2,     0.00,2,     2.81,2, -999.000,5, -999.000,5, -999.000,9,-999.0000,9,  -999.00,9,   2314.0,2,   2367.0,3,     7.51,2,-999.0000,-999.000,  3.2170,-999.000
      325024_1,  P14N,   137,  1,     17,     17,2,19930816,1127,  1.5012, 179.0035, 5522,   1615.5,   2.8255,  34.6098,2,  34.6083,2,   -999.0,9,     99.8,2,   125.88,2,    39.11,2,     0.00,2,     2.76,2, -999.000,5, -999.000,5, -999.000,9,-999.0000,9,  -999.00,9,   2337.0,2,   2398.0,2,     7.48,2,-999.0000,-999.000,  2.7100,-999.000
      325024_1,  P14N,   137,  1,     16,     16,2,19930816,1127,  1.5012, 179.0035, 5522,   1818.1,   2.5361,  34.6223,2,  34.6219,2,   -999.0,9,    106.4,2,   131.75,2,    38.71,2,     0.00,2,     2.73,2, -999.000,5, -999.000,5, -999.000,9,-999.0000,9,  -999.00,9,   2341.0,2,   2410.0,2,     7.49,2,-999.0000,-999.000,  2.4073,-999.000
      325024_1,  P14N,   137,  1,     15,     15,2,19930816,1127,  1.5012, 179.0035, 5522,   2021.0,   2.2603,  34.6369,2,  34.6364,2,   -999.0,9,    111.3,2,   137.45,2,    38.26,2,     0.00,2,     2.71,2, -999.000,5, -999.000,5, -999.000,9,-999.0000,9,  -999.00,9,   2344.0,2,   2410.0,2,     7.51,2,-999.0000,-999.000,  2.1181,-999.000
      325024_1,  P14N,   137,  1,     14,     14,2,19930816,1127,  1.5012, 179.0035, 5522,   2224.4,   2.0674,  34.6480,2,  34.6470,2,   -999.0,9,    116.2,2,   141.49,2,    38.22,2,     0.00,2,     2.69,2, -999.000,5, -999.000,5, -999.000,9,-999.0000,9,  -999.00,9,   2345.0,2,   -999.0,9,  -999.00,9,-999.0000,-999.000,  1.9106,-999.000
      325024_1,  P14N,   137,  1,     13,     13,2,19930816,1127,  1.5012, 179.0035, 5522,   2428.0,   1.9290,  34.6553,2,  34.6554,2,   -999.0,9,    120.9,2,   144.27,2,    37.65,2,     0.00,2,     2.64,2, -999.000,5, -999.000,5, -999.000,9,-999.0000,9,  -999.00,9,   2347.0,2,   2422.0,2,     7.52,2,-999.0000,-999.000,  1.7565,-999.000
      325024_1,  P14N,   137,  1,     12,     12,2,19930816,1127,  1.5012, 179.0035, 5522,   2631.3,   1.8014,  34.6630,2,  34.6631,2,   -999.0,9,    126.3,2,   146.64,2,    37.38,2,     0.00,2,     2.62,2, -999.000,5, -999.000,5, -999.000,9,-999.0000,9,  -999.00,9,   2344.0,2,   2426.0,2,     7.53,2,-999.0000,-999.000,  1.6128,-999.000
      325024_1,  P14N,   137,  1,     11,     11,2,19930816,1127,  1.5012, 179.0035, 5522,   2834.5,   1.7279,  34.6672,2,  34.6672,2,   -999.0,9,    130.2,2,   147.75,2,    37.16,2,     0.00,2,     2.60,2, -999.000,5, -999.000,5, -999.000,9,-999.0000,9,  -999.00,9,   2345.0,2,   2430.0,2,     7.53,2,-999.0000,-999.000,  1.5219,-999.000
      325024_1,  P14N,   137,  1,     10,     10,2,19930816,1127,  1.5012, 179.0035, 5522,   3038.6,   1.6491,  34.6709,2,  34.6713,2,   -999.0,9,    136.3,2,   147.18,2,    36.72,2,     0.00,2,     2.55,2,   -0.001,2,    0.002,2, -999.000,9,-999.0000,9,  -999.00,9,   2338.0,2,   2365.0,3,     7.52,3,-999.0000,-999.000,  1.4253,-999.000
      325024_1,  P14N,   137,  1,      9,      9,2,19930816,1127,  1.5012, 179.0035, 5522,   3345.2,   1.5664,  34.6769,2,  34.6764,2,   -999.0,9,    144.8,2,   145.97,2,    36.20,2,     0.00,2,     2.53,2, -999.000,5, -999.000,5, -999.000,9,-999.0000,9,  -999.00,9,   2332.0,2,   2367.0,3,     7.50,3,-999.0000,-999.000,  1.3144,-999.000
      325024_1,  P14N,   137,  1,      8,      8,2,19930816,1127,  1.5012, 179.0035, 5522,   3652.0,   1.4807,  34.6841,2,  34.6835,2,   -999.0,9,    154.8,2,   143.51,2,    35.54,2,     0.00,2,     2.48,2, -999.000,5, -999.000,5, -999.000,9,-999.0000,9,  -999.00,9,   2323.0,2,   2421.0,2,     7.57,2,-999.0000,-999.000,  1.1994,-999.000
      325024_1,  P14N,   137,  1,      7,      7,2,19930816,1127,  1.5012, 179.0035, 5522,   3959.2,   1.3850,  34.6914,2,  34.6915,2,   -999.0,9,    167.1,2,   139.17,2,    34.71,2,     0.00,2,     2.41,2, -999.000,5, -999.000,5, -999.000,9,-999.0000,9,  -999.00,9,   2314.0,2,   2418.0,2,     7.58,2,-999.0000,-999.000,  1.0737,-999.000
      325024_1,  P14N,   137,  1,      6,      6,2,19930816,1127,  1.5012, 179.0035, 5522,   4266.7,   1.3185,  34.6969,2,  34.6968,2,   -999.0,9,    176.9,2,   134.86,2,    34.02,2,     0.00,2,     2.37,2, -999.000,5, -999.000,5, -999.000,9,-999.0000,9,  -999.00,9,   2303.0,2,   2407.0,2,     7.59,2,-999.0000,-999.000,  0.9755,-999.000
      325024_1,  P14N,   137,  1,      5,      5,2,19930816,1127,  1.5012, 179.0035, 5522,   4574.2,   1.2621,  34.7010,2,  34.7009,2,   -999.0,9,    185.9,2,   130.57,2,    33.37,2,     0.00,2,     2.32,2, -999.000,5, -999.000,5, -999.000,9,-999.0000,9,  -999.00,9,   2292.0,2,   2402.0,2,     7.58,2,-999.0000,-999.000,  0.8859,-999.000
      325024_1,  P14N,   137,  1,      4,      4,2,19930816,1127,  1.5012, 179.0035, 5522,   4881.4,   1.2478,  34.7033,2,  34.7041,2,   -999.0,9,    191.3,2,   127.13,2,    32.90,2,     0.00,2,     2.30,2, -999.000,5, -999.000,5, -999.000,9,-999.0000,9,  -999.00,9,   2285.0,2,   2395.0,2,     7.59,2,-999.0000,-999.000,  0.8362,-999.000
      325024_1,  P14N,   137,  1,      3,      3,2,19930816,1127,  1.5012, 179.0035, 5522,   5190.2,   1.2759,  34.7039,2,  34.7041,2,   -999.0,9,    192.8,2,   125.96,2,    32.73,2,     0.00,2,     2.30,2, -999.000,5, -999.000,5, -999.000,9,-999.0000,9,  -999.00,9,   2282.0,2,   2389.0,2,     7.60,2,-999.0000,-999.000,  0.8260,-999.000
      325024_1,  P14N,   137,  1,      2,      2,2,19930816,1127,  1.5012, 179.0035, 5522,   5497.6,   1.3079,  34.7043,2,  34.7045,2,   -999.0,9,    194.2,2,   124.59,2,    32.60,2,     0.00,2,     2.28,2, -999.000,5, -999.000,5, -999.000,9,-999.0000,9,  -999.00,9,   2260.0,3,   2390.0,2,     7.59,2,-999.0000,-999.000,  0.8186,-999.000
      325024_1,  P14N,   137,  1,      1,      1,2,19930816,1127,  1.5012, 179.0035, 5522,   5610.4,   1.3227,  34.7045,2,  34.7052,2,   -999.0,9,    192.7,2,   125.06,2,    32.65,2,     0.00,2,     2.25,2,    0.006,2,    0.005,2, -999.000,9,-999.0000,9,  -999.00,9,   2282.0,2,   2388.0,2,     7.60,2,-999.0000,-999.000,  0.8184,-999.000