BOTTLE,20131125MIRCJHATS
EXPOCODE,SECT_ID,STNNBR,CASTNO,SAMPNO,BTLNBR,BTLNBR_FLAG_W,DATE,TIME,LATITUDE,LONGITUDE,DEPTH,CTDPRS,CTDTMP,CTDSAL,CTDSAL_FLAG_W,SALNTY,SALNTY_FLAG_W,CTDOXY,CTDOXY_FLAG_W,OXYGEN,OXYGEN_FLAG_W,SILCAT,SILCAT_FLAG_W,NITRAT,NITRAT_FLAG_W,NITRIT,NITRIT_FLAG_W,PHSPHT,PHSPHT_FLAG_W,CFC-11,CFC-11_FLAG_W,CFC-12,CFC-12_FLAG_W,TRITUM,TRITUM_FLAG_W,HELIUM,HELIUM_FLAG_W,DELHE3,DELHE3_FLAG_W,TCARBN,TCARBN_FLAG_W,ALKALI,ALKALI_FLAG_W,PH,PH_FLAG_W,HELIER,DELHER,THETA,TRITER
,,,,,,,,,,,,DBAR,ITS-90,PSS-78,,PSS-78,,UMOL/KG,,UMOL/KG,,UMOL/KG,,UMOL/KG,,UMOL/KG,,UMOL/KG,,PMOL/KG,,PMOL/KG,,TU,,NMOL/KG,,PERCNT,,UMOL/KG,,UMOL/KG,,25_DEG,,NMOL/KG,PERCNT,DEG C,TU
      325023_1,  P14N,    34,  1,     36,     36,2,19930714,1542, 45.5017, 179.0037, 5820,      3.9,   9.0220,  32.8534,2,  32.8540,2,   -999.0,9,    300.1,2,    33.25,2,    15.02,2,     0.18,2,     1.51,2, -999.000,5, -999.000,5, -999.000,9,-999.0000,9,  -999.00,9,   2050.4,2,   -999.0,9,     7.83,2,-999.0000,-999.000,  9.0215,-999.000
      325023_1,  P14N,    34,  1,     35,     35,2,19930714,1542, 45.5017, 179.0037, 5820,     38.4,   6.9214,  32.9482,2,  32.9385,2,   -999.0,9,    309.6,2,    34.18,2,    15.52,2,     0.16,2,     1.54,2, -999.000,5, -999.000,5, -999.000,9,-999.0000,9,  -999.00,9,   2060.6,2,   -999.0,9,     7.82,2,-999.0000,-999.000,  6.9180,-999.000
      325023_1,  P14N,    34,  1,     34,     34,2,19930714,1542, 45.5017, 179.0037, 5820,     68.3,   3.8338,  33.0228,2,  33.0236,2,   -999.0,9,    320.3,2,    38.11,2,    19.64,2,     0.38,2,     1.76,2, -999.000,5, -999.000,5, -999.000,9,-999.0000,9,  -999.00,9,   2095.9,2,   -999.0,9,     7.74,2,-999.0000,-999.000,  3.8294,-999.000
      325023_1,  P14N,    34,  1,     33,     33,2,19930714,1542, 45.5017, 179.0037, 5820,     98.4,   3.4960,  33.0402,2,  33.0431,2,   -999.0,9,    318.0,2,    39.45,2,    20.91,2,     0.67,2,     1.80,2, -999.000,5, -999.000,5, -999.000,9,-999.0000,9,  -999.00,9,   2101.3,2,   -999.0,9,     7.72,2,-999.0000,-999.000,  3.4899,-999.000
      325023_1,  P14N,    34,  1,     32,     32,2,19930714,1542, 45.5017, 179.0037, 5820,    128.1,   3.1481,  33.1472,2,  33.1493,2,   -999.0,9,    297.8,2,    43.38,2,    23.32,2,     0.01,2,     1.91,2, -999.000,5, -999.000,5, -999.000,9,-999.0000,9,  -999.00,9,   -999.0,9,   -999.0,9,  -999.00,9,-999.0000,-999.000,  3.1405,-999.000
      325023_1,  P14N,    34,  1,     31,     31,2,19930714,1542, 45.5017, 179.0037, 5820,    158.3,   3.6449,  33.5898,2,  33.5940,2,   -999.0,9,    194.1,2,    61.53,2,    30.55,2,     0.00,2,     2.31,2, -999.000,5, -999.000,5, -999.000,9,-999.0000,9,  -999.00,9,   -999.0,9,   -999.0,9,  -999.00,9,-999.0000,-999.000,  3.6346,-999.000
      325023_1,  P14N,    34,  1,     30,     30,2,19930714,1542, 45.5017, 179.0037, 5820,    208.7,   3.5740,  33.7414,2,  33.7454,2,   -999.0,9,    137.3,2,    76.91,2,    35.40,2,     0.00,2,     2.61,2, -999.000,5, -999.000,5, -999.000,9,-999.0000,9,  -999.00,9,   -999.0,9,   -999.0,9,  -999.00,9,-999.0000,-999.000,  3.5605,-999.000
      325023_1,  P14N,    34,  1,     29,     29,2,19930714,1542, 45.5017, 179.0037, 5820,    258.9,   3.5513,  33.8109,2,  33.8117,2,   -999.0,9,    112.9,2,    84.68,2,    37.35,2,     0.00,2,     2.73,2, -999.000,5, -999.000,5, -999.000,9,-999.0000,9,  -999.00,9,   -999.0,9,   -999.0,9,  -999.00,9,-999.0000,-999.000,  3.5344,-999.000
      325023_1,  P14N,    34,  1,     28,     28,2,19930714,1542, 45.5017, 179.0037, 5820,    309.1,   3.6886,  33.9009,2,  33.9009,2,   -999.0,9,     91.2,2,    91.46,2,    38.82,2,     0.00,2,     2.81,2, -999.000,5, -999.000,5, -999.000,9,-999.0000,9,  -999.00,9,   -999.0,9,   -999.0,9,  -999.00,9,-999.0000,-999.000,  3.6679,-999.000
      325023_1,  P14N,    34,  1,     27,     27,2,19930714,1542, 45.5017, 179.0037, 5820,    409.6,   3.5886,  34.0181,2,  34.0188,2,   -999.0,9,     60.3,2,   105.15,2,    41.23,2,     0.00,2,     2.97,2, -999.000,5, -999.000,5, -999.000,9,-999.0000,9,  -999.00,9,   -999.0,9,   -999.0,9,  -999.00,9,-999.0000,-999.000,  3.5612,-999.000
      325023_1,  P14N,    34,  1,     26,     26,2,19930714,1542, 45.5017, 179.0037, 5820,    509.9,   3.5775,  34.1275,2,  34.1261,2,   -999.0,9,     47.2,2,   114.44,2,    41.95,2,     0.00,2,     3.01,2, -999.000,5, -999.000,5, -999.000,9,-999.0000,9,  -999.00,9,   -999.0,9,   -999.0,9,  -999.00,9,-999.0000,-999.000,  3.5429,-999.000
      325023_1,  P14N,    34,  1,     25,     25,2,19930714,1542, 45.5017, 179.0037, 5820,    610.5,   3.4222,  34.2028,2,  34.2056,2,   -999.0,9,     36.3,2,   123.57,2,    42.73,2,     0.00,2,     3.06,2, -999.000,5, -999.000,5, -999.000,9,-999.0000,9,  -999.00,9,   -999.0,9,   -999.0,9,  -999.00,9,-999.0000,-999.000,  3.3809,-999.000
      325023_1,  P14N,    34,  1,     24,     24,2,19930714,1542, 45.5017, 179.0037, 5820,    712.0,   3.2834,  34.2695,2,  34.2712,2,   -999.0,9,     34.4,2,   130.27,2,    42.91,2,     0.00,2,     3.07,2, -999.000,5, -999.000,5, -999.000,9,-999.0000,9,  -999.00,9,   -999.0,9,   -999.0,9,  -999.00,9,-999.0000,-999.000,  3.2354,-999.000
      325023_1,  P14N,    34,  1,     23,     23,2,19930714,1542, 45.5017, 179.0037, 5820,    813.8,   3.0678,  34.3185,2,  34.3194,2,   -999.0,9,     32.0,2,   138.05,2,    43.24,2,     0.00,2,     3.09,2, -999.000,5, -999.000,5, -999.000,9,-999.0000,9,  -999.00,9,   -999.0,9,   -999.0,9,  -999.00,9,-999.0000,-999.000,  3.0135,-999.000
      325023_1,  P14N,    34,  1,     22,     22,2,19930714,1542, 45.5017, 179.0037, 5820,    916.2,   2.8894,  34.3562,2,  34.3574,2,   -999.0,9,     28.8,2,   144.42,2,    43.57,2,     0.00,2,     3.10,2, -999.000,5, -999.000,5, -999.000,9,-999.0000,9,  -999.00,9,   -999.0,9,   -999.0,9,  -999.00,9,-999.0000,-999.000,  2.8288,-999.000
      325023_1,  P14N,    34,  1,     21,     21,2,19930714,1542, 45.5017, 179.0037, 5820,   1017.9,   2.7427,  34.3967,2,  34.3996,2,   -999.0,9,     29.2,2,   149.76,2,    43.65,2,     0.00,2,     3.11,2, -999.000,5, -999.000,5, -999.000,9,-999.0000,9,  -999.00,9,   -999.0,9,   -999.0,9,  -999.00,9,-999.0000,-999.000,  2.6757,-999.000
      325023_1,  P14N,    34,  1,     20,     20,2,19930714,1542, 45.5017, 179.0037, 5820,   1210.0,   2.4861,  34.4500,2,  34.4512,2,   -999.0,9,     32.3,2,   157.26,2,    43.63,2,     0.00,2,     3.10,2, -999.000,5, -999.000,5, -999.000,9,-999.0000,9,  -999.00,9,   -999.0,9,   -999.0,9,  -999.00,9,-999.0000,-999.000,  2.4069,-999.000
      325023_1,  P14N,    34,  1,     19,     19,2,19930714,1542, 45.5017, 179.0037, 5820,   1408.5,   2.2939,  34.4950,2,  34.4971,2,   -999.0,9,     38.2,2,   162.89,2,    43.46,2,     0.00,2,     3.07,2, -999.000,5, -999.000,5, -999.000,9,-999.0000,9,  -999.00,9,   -999.0,9,   -999.0,9,  -999.00,9,-999.0000,-999.000,  2.2015,-999.000
      325023_1,  P14N,    34,  1,     18,     18,2,19930714,1542, 45.5017, 179.0037, 5820,   1613.8,   2.1235,  34.5339,2,  34.5373,2,   -999.0,9,     48.6,2,   166.40,2,    42.70,2,     0.00,2,     3.03,2, -999.000,5, -999.000,5, -999.000,9,-999.0000,9,  -999.00,9,   -999.0,9,   -999.0,9,  -999.00,9,-999.0000,-999.000,  2.0171,-999.000
      325023_1,  P14N,    34,  1,     17,     17,2,19930714,1542, 45.5017, 179.0037, 5820,   1818.6,   1.9962,  34.5638,2,  34.5652,2,   -999.0,9,     58.6,2,   168.85,2,    42.19,2,     0.00,2,     2.98,2, -999.000,5, -999.000,5, -999.000,9,-999.0000,9,  -999.00,9,   -999.0,9,   -999.0,9,  -999.00,9,-999.0000,-999.000,  1.8750,-999.000
      325023_1,  P14N,    34,  1,     16,     16,2,19930714,1542, 45.5017, 179.0037, 5820,   2023.0,   1.8890,  34.5885,2,  34.5883,2,   -999.0,9,     70.0,2,   169.15,2,    41.43,2,     0.00,2,     2.93,2, -999.000,5, -999.000,5, -999.000,9,-999.0000,9,  -999.00,9,   -999.0,9,   -999.0,9,  -999.00,9,-999.0000,-999.000,  1.7525,-999.000
      325023_1,  P14N,    34,  1,     15,     15,2,19930714,1542, 45.5017, 179.0037, 5820,   2227.1,   1.7936,  34.6114,2,  34.6082,2,   -999.0,9,     81.1,2,   169.23,2,    40.82,2,     0.00,2,     2.88,2, -999.000,5, -999.000,5, -999.000,9,-999.0000,9,  -999.00,9,   -999.0,9,   -999.0,9,  -999.00,9,-999.0000,-999.000,  1.6413,-999.000
      325023_1,  P14N,    34,  1,     14,     14,2,19930714,1542, 45.5017, 179.0037, 5820,   2431.3,   1.7188,  34.6262,2,  34.6229,2,   -999.0,9,     91.2,2,   168.45,2,    40.06,2,     0.00,2,     2.84,2, -999.000,5, -999.000,5, -999.000,9,-999.0000,9,  -999.00,9,   -999.0,9,   -999.0,9,  -999.00,9,-999.0000,-999.000,  1.5500,-999.000
      325023_1,  P14N,    34,  1,     13,     13,2,19930714,1542, 45.5017, 179.0037, 5820,   2636.3,   1.6585,  34.6384,2,  34.6359,2,   -999.0,9,    100.4,2,   166.60,2,    39.60,2,     0.00,2,     2.80,2, -999.000,5, -999.000,5, -999.000,9,-999.0000,9,  -999.00,9,   -999.0,9,   -999.0,9,  -999.00,9,-999.0000,-999.000,  1.4724,-999.000
      325023_1,  P14N,    34,  1,     12,     12,2,19930714,1542, 45.5017, 179.0037, 5820,   2843.4,   1.6072,  34.6480,2,  34.6453,2,   -999.0,9,    109.7,2,   165.61,2,    38.90,2,     0.00,2,     2.76,2, -999.000,5, -999.000,5, -999.000,9,-999.0000,9,  -999.00,9,   -999.0,9,   -999.0,9,  -999.00,9,-999.0000,-999.000,  1.4030,-999.000
      325023_1,  P14N,    34,  1,     11,     11,2,19930714,1542, 45.5017, 179.0037, 5820,   3050.6,   1.5638,  34.6561,2,  34.6536,2,   -999.0,9,    118.8,2,   164.20,2,    38.30,2,     0.00,2,     2.71,2, -999.000,5, -999.000,5, -999.000,9,-999.0000,9,  -999.00,9,   -999.0,9,   -999.0,9,  -999.00,9,-999.0000,-999.000,  1.3409,-999.000
      325023_1,  P14N,    34,  1,     10,     10,2,19930714,1542, 45.5017, 179.0037, 5820,   3359.9,   1.5172,  34.6660,2,  34.6632,2,   -999.0,9,    129.9,2,   160.44,2,    37.74,2,     0.00,2,     2.65,2, -999.000,5, -999.000,5, -999.000,9,-999.0000,9,  -999.00,9,   -999.0,9,   -999.0,9,  -999.00,9,-999.0000,-999.000,  1.2649,-999.000
      325023_1,  P14N,    34,  1,      9,      9,2,19930714,1542, 45.5017, 179.0037, 5820,   3668.4,   1.4846,  34.6738,2,  34.6707,2,   -999.0,9,    139.1,2,   157.77,2,    37.04,2,     0.00,2,     2.60,2, -999.000,5, -999.000,5, -999.000,9,-999.0000,9,  -999.00,9,   -999.0,9,   -999.0,9,  -999.00,9,-999.0000,-999.000,  1.2015,-999.000
      325023_1,  P14N,    34,  1,      8,      8,2,19930714,1542, 45.5017, 179.0037, 5820,   3974.9,   1.4692,  34.6788,2,  34.6766,2,   -999.0,9,    145.9,2,   156.79,2,    36.68,2,     0.00,2,     2.56,2, -999.000,5, -999.000,5, -999.000,9,-999.0000,9,  -999.00,9,   -999.0,9,   -999.0,9,  -999.00,9,-999.0000,-999.000,  1.1539,-999.000
      325023_1,  P14N,    34,  1,      7,      7,2,19930714,1542, 45.5017, 179.0037, 5820,   4282.5,   1.4721,  34.6828,2,  34.6807,2,   -999.0,9,    149.8,2,   156.88,2,    36.38,2,     0.00,2,     2.55,2, -999.000,5, -999.000,5, -999.000,9,-999.0000,9,  -999.00,9,   -999.0,9,   -999.0,9,  -999.00,9,-999.0000,-999.000,  1.1228,-999.000
      325023_1,  P14N,    34,  1,      6,      6,2,19930714,1542, 45.5017, 179.0037, 5820,   4591.2,   1.4915,  34.6847,2,  34.6835,2,   -999.0,9,    151.9,2,   157.81,2,    36.26,2,     0.00,2,     2.55,2, -999.000,5, -999.000,5, -999.000,9,-999.0000,9,  -999.00,9,   -999.0,9,   -999.0,9,  -999.00,9,-999.0000,-999.000,  1.1062,-999.000
      325023_1,  P14N,    34,  1,      5,      5,2,19930714,1542, 45.5017, 179.0037, 5820,   4902.0,   1.5221,  34.6863,2,  34.6828,3,   -999.0,9,    152.8,2,   159.38,2,    36.20,2,     0.00,2,     2.53,2, -999.000,5, -999.000,5, -999.000,9,-999.0000,9,  -999.00,9,   -999.0,9,   -999.0,9,  -999.00,9,-999.0000,-999.000,  1.0990,-999.000
      325023_1,  P14N,    34,  1,      4,      4,2,19930714,1542, 45.5017, 179.0037, 5820,   5212.6,   1.5610,  34.6862,2,  34.6832,2,   -999.0,9,    152.8,2,   159.26,2,    36.28,2,     0.00,2,     2.53,2, -999.000,5, -999.000,5, -999.000,9,-999.0000,9,  -999.00,9,   -999.0,9,   -999.0,9,  -999.00,9,-999.0000,-999.000,  1.0986,-999.000
      325023_1,  P14N,    34,  1,      3,      3,2,19930714,1542, 45.5017, 179.0037, 5820,   5521.2,   1.6002,  34.6863,2,  34.6842,2,   -999.0,9,    153.5,2,   158.49,2,    36.27,2,     0.00,2,     2.55,2, -999.000,5, -999.000,5, -999.000,9,-999.0000,9,  -999.00,9,   -999.0,9,   -999.0,9,  -999.00,9,-999.0000,-999.000,  1.0973,-999.000
      325023_1,  P14N,    34,  1,      2,      2,2,19930714,1542, 45.5017, 179.0037, 5820,   5828.7,   1.6400,  34.6861,2,  34.6844,2,   -999.0,9,    161.9,3,   159.00,2,    36.26,2,     0.00,2,     2.54,2, -999.000,5, -999.000,5, -999.000,9,-999.0000,9,  -999.00,9,   -999.0,9,   -999.0,9,  -999.00,9,-999.0000,-999.000,  1.0955,-999.000
      325023_1,  P14N,    34,  1,      1,      1,2,19930714,1542, 45.5017, 179.0037, 5820,   5929.9,   1.6537,  34.6864,2,  34.6842,2,   -999.0,9,    154.0,2,   158.88,2,    36.19,2,     0.00,2,     2.53,2, -999.000,5, -999.000,5, -999.000,9,-999.0000,9,  -999.00,9,   -999.0,9,   -999.0,9,  -999.00,9,-999.0000,-999.000,  1.0953,-999.000