BOTTLE,20131125MIRCJHATS
EXPOCODE,SECT_ID,STNNBR,CASTNO,SAMPNO,BTLNBR,BTLNBR_FLAG_W,DATE,TIME,LATITUDE,LONGITUDE,DEPTH,CTDPRS,CTDTMP,CTDSAL,CTDSAL_FLAG_W,SALNTY,SALNTY_FLAG_W,CTDOXY,CTDOXY_FLAG_W,OXYGEN,OXYGEN_FLAG_W,SILCAT,SILCAT_FLAG_W,NITRAT,NITRAT_FLAG_W,NITRIT,NITRIT_FLAG_W,PHSPHT,PHSPHT_FLAG_W,CFC-11,CFC-11_FLAG_W,CFC-12,CFC-12_FLAG_W,TRITUM,TRITUM_FLAG_W,HELIUM,HELIUM_FLAG_W,DELHE3,DELHE3_FLAG_W,TCARBN,TCARBN_FLAG_W,ALKALI,ALKALI_FLAG_W,PH,PH_FLAG_W,HELIER,DELHER,THETA,TRITER
,,,,,,,,,,,,DBAR,ITS-90,PSS-78,,PSS-78,,UMOL/KG,,UMOL/KG,,UMOL/KG,,UMOL/KG,,UMOL/KG,,UMOL/KG,,PMOL/KG,,PMOL/KG,,TU,,NMOL/KG,,PERCNT,,UMOL/KG,,UMOL/KG,,25_DEG,,NMOL/KG,PERCNT,DEG C,TU
      325023_1,  P14N,     6,  1,     36,     36,2,19930708,0601, 56.5022,-176.0938, 3676,      2.6,   7.7582,  32.4026,2,  32.4040,2,   -999.0,9,    327.8,2,     8.57,2,     1.21,2,     0.09,2,     0.51,2,    4.694,2,    2.313,2, -999.000,9,-999.0000,9,  -999.00,9,   -999.0,9,   -999.0,9,  -999.00,9,-999.0000,-999.000,  7.7580,-999.000
      325023_1,  P14N,     6,  1,     35,     35,2,19930708,0601, 56.5022,-176.0938, 3676,     36.3,   4.5150,  32.6574,2,  32.6668,2,   -999.0,9,    266.9,2,    36.97,2,    19.96,2,     0.29,2,     1.79,2, -999.000,5, -999.000,5, -999.000,9,-999.0000,9,  -999.00,9,   -999.0,9,   -999.0,9,  -999.00,9,-999.0000,-999.000,  4.5124,-999.000
      325023_1,  P14N,     6,  1,     34,     34,2,19930708,0601, 56.5022,-176.0938, 3676,     66.7,   4.0143,  32.8518,2,  32.8557,2,   -999.0,9,    245.2,2,    48.14,2,    25.52,2,     0.02,2,     2.08,2, -999.000,5, -999.000,5, -999.000,9,-999.0000,9,  -999.00,9,   -999.0,9,   -999.0,9,  -999.00,9,-999.0000,-999.000,  4.0099,-999.000
      325023_1,  P14N,     6,  1,     33,     33,2,19930708,0601, 56.5022,-176.0938, 3676,     96.8,   4.1689,  33.0200,2,  33.0232,2,   -999.0,9,    231.4,2,    52.62,2,    26.01,2,     0.34,2,     2.09,2, -999.000,5, -999.000,5, -999.000,9,-999.0000,9,  -999.00,9,   -999.0,9,   -999.0,9,  -999.00,9,-999.0000,-999.000,  4.1623,-999.000
      325023_1,  P14N,     6,  1,     32,     32,2,19930708,0601, 56.5022,-176.0938, 3676,    126.8,   4.0342,  33.1108,2,  33.1101,2,   -999.0,9,    234.9,2,    55.66,2,    26.48,2,     0.27,2,     2.18,2,    3.826,2,    1.845,2, -999.000,9,-999.0000,9,  -999.00,9,   -999.0,9,   -999.0,9,  -999.00,9,-999.0000,-999.000,  4.0257,-999.000
      325023_1,  P14N,     6,  1,     31,     31,2,19930708,0601, 56.5022,-176.0938, 3676,    156.4,   3.5305,  33.1847,2,  33.1865,2,   -999.0,9,    240.5,2,    63.48,2,    29.84,2,     0.04,2,     2.33,2, -999.000,5, -999.000,5, -999.000,9,-999.0000,9,  -999.00,9,   -999.0,9,   -999.0,9,  -999.00,9,-999.0000,-999.000,  3.5206,-999.000
      325023_1,  P14N,     6,  1,     30,     30,2,19930708,0601, 56.5022,-176.0938, 3676,    206.6,   3.5555,  33.3291,2,  33.3346,2,   -999.0,9,    215.3,2,    69.87,2,    31.94,2,     0.02,2,     2.45,2,    3.914,2,    1.891,2, -999.000,9,-999.0000,9,  -999.00,9,   -999.0,9,   -999.0,9,  -999.00,9,-999.0000,-999.000,  3.5422,-999.000
      325023_1,  P14N,     6,  1,     29,     29,2,19930708,0601, 56.5022,-176.0938, 3676,    257.5,   3.7800,  33.4633,2,  33.4684,2,   -999.0,9,    173.1,2,    77.92,2,    34.13,2,     0.02,2,     2.58,2, -999.000,5, -999.000,5, -999.000,9,-999.0000,9,  -999.00,9,   -999.0,9,   -999.0,9,  -999.00,9,-999.0000,-999.000,  3.7629,-999.000
      325023_1,  P14N,     6,  1,     28,     28,2,19930708,0601, 56.5022,-176.0938, 3676,    308.4,   3.7848,  33.5795,2,  33.5806,2,   -999.0,9,    143.9,2,    83.82,2,    35.91,2,     0.01,2,     2.69,2,    2.767,2,    1.334,2, -999.000,9,-999.0000,9,  -999.00,9,   -999.0,9,   -999.0,9,  -999.00,9,-999.0000,-999.000,  3.7641,-999.000
      325023_1,  P14N,     6,  1,     27,     27,2,19930708,0601, 56.5022,-176.0938, 3676,    359.5,   3.7825,  33.6823,2,  33.6882,2,   -999.0,9,    116.3,2,    90.93,2,    37.50,2,     0.01,2,     2.80,2, -999.000,5, -999.000,5, -999.000,9,-999.0000,9,  -999.00,9,   -999.0,9,   -999.0,9,  -999.00,9,-999.0000,-999.000,  3.7582,-999.000
      325023_1,  P14N,     6,  1,     26,     26,2,19930708,0601, 56.5022,-176.0938, 3676,    410.1,   3.7254,  33.7839,2,  33.7876,2,   -999.0,9,     93.0,2,    97.31,2,    39.33,2,     0.01,2,     2.89,2,    1.892,2,    0.913,2, -999.000,9,-999.0000,9,  -999.00,9,   -999.0,9,   -999.0,9,  -999.00,9,-999.0000,-999.000,  3.6976,-999.000
      325023_1,  P14N,     6,  1,     25,     25,2,19930708,0601, 56.5022,-176.0938, 3676,    460.4,   3.6532,  33.8827,2,  33.8842,2,   -999.0,9,     70.8,2,   104.18,2,    40.66,2,     0.01,2,     2.97,2, -999.000,5, -999.000,5, -999.000,9,-999.0000,9,  -999.00,9,   -999.0,9,   -999.0,9,  -999.00,9,-999.0000,-999.000,  3.6220,-999.000
      325023_1,  P14N,     6,  1,     24,     24,2,19930708,0601, 56.5022,-176.0938, 3676,    511.1,   3.5757,  33.9603,2,  33.9598,2,   -999.0,9,     56.4,2,   110.10,2,    41.53,2,     0.00,2,     3.03,2,    1.251,2,    0.600,2, -999.000,9,-999.0000,9,  -999.00,9,   -999.0,9,   -999.0,9,  -999.00,9,-999.0000,-999.000,  3.5412,-999.000
      325023_1,  P14N,     6,  1,     23,     23,2,19930708,0601, 56.5022,-176.0938, 3676,    611.8,   3.4423,  34.0826,2,  34.0813,2,   -999.0,9,     34.1,2,   119.40,2,    42.82,2,     0.00,2,     3.13,2, -999.000,5, -999.000,5, -999.000,9,-999.0000,9,  -999.00,9,   -999.0,9,   -999.0,9,  -999.00,9,-999.0000,-999.000,  3.4010,-999.000
      325023_1,  P14N,     6,  1,     22,     22,2,19930708,0601, 56.5022,-176.0938, 3676,    712.3,   3.2781,  34.1569,2,  34.1568,2,   -999.0,9,     29.2,2,   127.99,2,    42.95,2,     0.00,2,     3.13,2, -999.000,5, -999.000,5, -999.000,9,-999.0000,9,  -999.00,9,   -999.0,9,   -999.0,9,  -999.00,9,-999.0000,-999.000,  3.2303,-999.000
      325023_1,  P14N,     6,  1,     21,     21,2,19930708,0601, 56.5022,-176.0938, 3676,    813.3,   3.1280,  34.2404,2,  34.2392,2,   -999.0,9,     20.0,2,   136.37,2,    43.54,2,     0.00,2,     3.17,2, -999.000,5, -999.000,5, -999.000,9,-999.0000,9,  -999.00,9,   -999.0,9,   -999.0,9,  -999.00,9,-999.0000,-999.000,  3.0736,-999.000
      325023_1,  P14N,     6,  1,     20,     20,2,19930708,0601, 56.5022,-176.0938, 3676,    915.3,   2.9701,  34.2960,2,  34.2937,2,   -999.0,9,     18.7,2,   143.81,2,    43.58,2,     0.00,2,     3.17,2, -999.000,5, -999.000,5, -999.000,9,-999.0000,9,  -999.00,9,   -999.0,9,   -999.0,9,  -999.00,9,-999.0000,-999.000,  2.9092,-999.000
      325023_1,  P14N,     6,  1,     19,     19,2,19930708,0601, 56.5022,-176.0938, 3676,   1017.2,   2.8329,  34.3317,2,  34.3317,2,   -999.0,9,     21.0,2,   151.02,2,    43.43,2,     0.00,2,     3.16,2,    0.160,2,    0.077,2, -999.000,9,-999.0000,9,  -999.00,9,   -999.0,9,   -999.0,9,  -999.00,9,-999.0000,-999.000,  2.7654,-999.000
      325023_1,  P14N,     6,  1,     18,     18,2,19930708,0601, 56.5022,-176.0938, 3676,   1118.5,   2.7265,  34.3672,2,  34.3659,2,   -999.0,9,     20.4,2,   156.79,2,    43.37,2,     0.00,2,     3.17,2, -999.000,5, -999.000,5, -999.000,9,-999.0000,9,  -999.00,9,   -999.0,9,   -999.0,9,  -999.00,9,-999.0000,-999.000,  2.6522,-999.000
      325023_1,  P14N,     6,  1,     17,     17,2,19930708,0601, 56.5022,-176.0938, 3676,   1219.6,   2.6250,  34.3990,2,  34.3976,2,   -999.0,9,     21.0,2,   161.59,2,    43.31,2,     0.00,2,     3.17,2, -999.000,5, -999.000,5, -999.000,9,-999.0000,9,  -999.00,9,   -999.0,9,   -999.0,9,  -999.00,9,-999.0000,-999.000,  2.5439,-999.000
      325023_1,  P14N,     6,  1,     16,     16,2,19930708,0601, 56.5022,-176.0938, 3676,   1321.0,   2.4793,  34.4356,2,  34.4347,2,   -999.0,9,     24.5,2,   168.87,2,    42.98,2,     0.00,2,     3.16,2, -999.000,5, -999.000,5, -999.000,9,-999.0000,9,  -999.00,9,   -999.0,9,   -999.0,9,  -999.00,9,-999.0000,-999.000,  2.3918,-999.000
      325023_1,  P14N,     6,  1,     15,     15,2,19930708,0601, 56.5022,-176.0938, 3676,   1423.0,   2.3514,  34.4710,2,  34.4699,2,   -999.0,9,     26.6,2,   173.95,2,    42.88,2,     0.00,2,     3.15,2, -999.000,5, -999.000,5, -999.000,9,-999.0000,9,  -999.00,9,   -999.0,9,   -999.0,9,  -999.00,9,-999.0000,-999.000,  2.2573,-999.000
      325023_1,  P14N,     6,  1,     14,     14,2,19930708,0601, 56.5022,-176.0938, 3676,   1525.1,   2.2429,  34.4973,2,  34.4958,2,   -999.0,9,     30.8,2,   179.54,2,    42.45,2,     0.00,2,     3.14,2, -999.000,5, -999.000,5, -999.000,9,-999.0000,9,  -999.00,9,   -999.0,9,   -999.0,9,  -999.00,9,-999.0000,-999.000,  2.1420,-999.000
      325023_1,  P14N,     6,  1,     13,     13,2,19930708,0601, 56.5022,-176.0938, 3676,   1627.7,   2.1811,  34.5118,2,  34.5119,2,   -999.0,9,     34.4,2,   183.41,2,    42.16,2,     0.00,2,     3.12,2, -999.000,5, -999.000,5, -999.000,9,-999.0000,9,  -999.00,9,   -999.0,9,   -999.0,9,  -999.00,9,-999.0000,-999.000,  2.0729,-999.000
      325023_1,  P14N,     6,  1,     12,     12,2,19930708,0601, 56.5022,-176.0938, 3676,   1831.1,   2.0064,  34.5526,2,  34.5520,2,   -999.0,9,     44.1,2,   193.56,2,    41.36,2,     0.00,2,     3.10,2, -999.000,5, -999.000,5, -999.000,9,-999.0000,9,  -999.00,9,   -999.0,9,   -999.0,9,  -999.00,9,-999.0000,-999.000,  1.8841,-999.000
      325023_1,  P14N,     6,  1,     11,     11,2,19930708,0601, 56.5022,-176.0938, 3676,   2030.5,   1.8937,  34.5793,2,  34.5791,2,   -999.0,9,     52.2,2,   200.00,2,    40.71,2,     0.00,2,     3.08,2,    0.010,2,    0.005,2, -999.000,9,-999.0000,9,  -999.00,9,   -999.0,9,   -999.0,9,  -999.00,9,-999.0000,-999.000,  1.7565,-999.000
      325023_1,  P14N,     6,  1,     10,     10,2,19930708,0601, 56.5022,-176.0938, 3676,   2233.7,   1.8013,  34.6015,2,  34.6012,2,   -999.0,9,     60.3,2,   204.18,2,    40.19,2,     0.00,2,     3.04,2, -999.000,5, -999.000,5, -999.000,9,-999.0000,9,  -999.00,9,   -999.0,9,   -999.0,9,  -999.00,9,-999.0000,-999.000,  1.6483,-999.000
      325023_1,  P14N,     6,  1,      9,      9,2,19930708,0601, 56.5022,-176.0938, 3676,   2438.8,   1.7371,  34.6177,2,  34.6202,2,   -999.0,9,     67.7,2,   207.61,2,    39.63,2,     0.00,2,     3.02,2, -999.000,5, -999.000,5, -999.000,9,-999.0000,9,  -999.00,9,   -999.0,9,   -999.0,9,  -999.00,9,-999.0000,-999.000,  1.5673,-999.000
      325023_1,  P14N,     6,  1,      8,      8,2,19930708,0601, 56.5022,-176.0938, 3676,   2644.8,   1.6872,  34.6302,2,  34.6295,2,   -999.0,9,     74.6,2,   210.55,2,    39.12,2,     0.00,2,     3.00,2, -999.000,5, -999.000,5, -999.000,9,-999.0000,9,  -999.00,9,   -999.0,9,   -999.0,9,  -999.00,9,-999.0000,-999.000,  1.4998,-999.000
      325023_1,  P14N,     6,  1,      7,      7,2,19930708,0601, 56.5022,-176.0938, 3676,   2852.1,   1.6417,  34.6423,2,  34.6410,2,   -999.0,9,     82.0,2,   213.23,2,    38.51,2,     0.00,2,     2.96,2, -999.000,5, -999.000,5, -999.000,9,-999.0000,9,  -999.00,9,   -999.0,9,   -999.0,9,  -999.00,9,-999.0000,-999.000,  1.4360,-999.000
      325023_1,  P14N,     6,  1,      6,      6,2,19930708,0601, 56.5022,-176.0938, 3676,   3058.2,   1.6174,  34.6495,2,  34.6504,2,   -999.0,9,     87.2,2,   215.40,2,    38.18,2,     0.00,2,     2.94,2, -999.000,5, -999.000,5, -999.000,9,-999.0000,9,  -999.00,9,   -999.0,9,   -999.0,9,  -999.00,9,-999.0000,-999.000,  1.3926,-999.000
      325023_1,  P14N,     6,  1,      5,      5,2,19930708,0601, 56.5022,-176.0938, 3676,   3259.0,   1.5980,  34.6567,2,  34.6567,2,   -999.0,9,     92.0,2,   218.87,2,    37.76,2,     0.00,2,     2.93,2, -999.000,5, -999.000,5, -999.000,9,-999.0000,9,  -999.00,9,   -999.0,9,   -999.0,9,  -999.00,9,-999.0000,-999.000,  1.3539,-999.000
      325023_1,  P14N,     6,  1,      4,      4,2,19930708,0601, 56.5022,-176.0938, 3676,   3458.7,   1.5920,  34.6615,2,  34.6612,2,   -999.0,9,     93.9,2,   222.61,2,    37.75,2,     0.00,2,     2.93,2, -999.000,5, -999.000,5, -999.000,9,-999.0000,9,  -999.00,9,   -999.0,9,   -999.0,9,  -999.00,9,-999.0000,-999.000,  1.3279,-999.000
      325023_1,  P14N,     6,  1,      3,      3,2,19930708,0601, 56.5022,-176.0938, 3676,   3665.4,   1.5977,  34.6648,2,  34.6657,2,   -999.0,9,     93.1,2,   240.24,2,    37.47,2,     0.00,2,     2.94,2,    0.015,2,    0.007,2, -999.000,9,-999.0000,9,  -999.00,9,   -999.0,9,   -999.0,9,  -999.00,9,-999.0000,-999.000,  1.3120,-999.000
      325023_1,  P14N,     6,  1,      2,      2,2,19930708,0601, 56.5022,-176.0938, 3676,   3665.8,   1.5979,  34.6651,2,  34.6649,2,   -999.0,9,     93.1,2,   239.30,2,    37.46,2,     0.00,2,     2.95,2, -999.000,5, -999.000,5, -999.000,9,-999.0000,9,  -999.00,9,   -999.0,9,   -999.0,9,  -999.00,9,-999.0000,-999.000,  1.3122,-999.000
      325023_1,  P14N,     6,  1,      1,      1,2,19930708,0601, 56.5022,-176.0938, 3676,   3724.9,   1.6044,  34.6653,2,  34.6660,2,   -999.0,9,     92.1,2,   242.33,2,    37.36,2,     0.00,2,     2.96,2, -999.000,5, -999.000,5, -999.000,9,-999.0000,9,  -999.00,9,   -999.0,9,   -999.0,9,  -999.00,9,-999.0000,-999.000,  1.3123,-999.000