BOTTLE,20131125MIRCJHATS
EXPOCODE,SECT_ID,STNNBR,CASTNO,SAMPNO,BTLNBR,BTLNBR_FLAG_W,DATE,TIME,LATITUDE,LONGITUDE,DEPTH,CTDPRS,CTDTMP,CTDSAL,CTDSAL_FLAG_W,SALNTY,SALNTY_FLAG_W,CTDOXY,CTDOXY_FLAG_W,OXYGEN,OXYGEN_FLAG_W,SILCAT,SILCAT_FLAG_W,NITRAT,NITRAT_FLAG_W,NITRIT,NITRIT_FLAG_W,PHSPHT,PHSPHT_FLAG_W,CFC-11,CFC-11_FLAG_W,CFC-12,CFC-12_FLAG_W,TRITUM,TRITUM_FLAG_W,HELIUM,HELIUM_FLAG_W,DELHE3,DELHE3_FLAG_W,TCARBN,TCARBN_FLAG_W,ALKALI,ALKALI_FLAG_W,PH,PH_FLAG_W,HELIER,DELHER,THETA,TRITER
,,,,,,,,,,,,DBAR,ITS-90,PSS-78,,PSS-78,,UMOL/KG,,UMOL/KG,,UMOL/KG,,UMOL/KG,,UMOL/KG,,UMOL/KG,,PMOL/KG,,PMOL/KG,,TU,,NMOL/KG,,PERCNT,,UMOL/KG,,UMOL/KG,,25_DEG,,NMOL/KG,PERCNT,DEG C,TU
      325023_1,  P14N,    32,  1,     36,     36,2,19930714,0306, 46.4992, 179.0052, 5567,      3.7,   8.5917,  32.9227,2,  32.9224,2,   -999.0,9,    303.0,2,    35.23,2,    15.69,2,     0.19,2,     1.49,2, -999.000,5, -999.000,5, -999.000,9,-999.0000,9,  -999.00,9,   -999.0,9,   -999.0,9,  -999.00,9,-999.0000,-999.000,  8.5914,-999.000
      325023_1,  P14N,    32,  1,     35,     35,2,19930714,0306, 46.4992, 179.0052, 5567,     38.2,   4.8625,  33.0252,4,  32.9995,2,   -999.0,9,    320.2,2,    37.12,2,    18.48,2,     0.22,2,     1.70,2, -999.000,5, -999.000,5, -999.000,9,-999.0000,9,  -999.00,9,   -999.0,9,   -999.0,9,  -999.00,9,-999.0000,-999.000,  4.8598,-999.000
      325023_1,  P14N,    32,  1,     34,     34,2,19930714,0306, 46.4992, 179.0052, 5567,     68.5,   4.0735,  33.0876,2,  33.0793,2,   -999.0,9,    316.5,2,    35.50,2,    18.79,2,     0.56,2,     1.68,2, -999.000,5, -999.000,5, -999.000,9,-999.0000,9,  -999.00,9,   -999.0,9,   -999.0,9,  -999.00,9,-999.0000,-999.000,  4.0690,-999.000
      325023_1,  P14N,    32,  1,     33,     33,2,19930714,0306, 46.4992, 179.0052, 5567,     99.0,   3.0533,  33.1083,2,  33.1017,2,   -999.0,9,    310.8,2,    42.06,2,    22.86,2,     0.02,2,     1.88,2, -999.000,5, -999.000,5, -999.000,9,-999.0000,9,  -999.00,9,   -999.0,9,   -999.0,9,  -999.00,9,-999.0000,-999.000,  3.0475,-999.000
      325023_1,  P14N,    32,  1,     32,     32,2,19930714,0306, 46.4992, 179.0052, 5567,    129.4,   3.1675,  33.3918,4,  33.3491,2,   -999.0,9,    251.7,2,    53.69,2,    27.36,2,     0.02,2,     2.15,2, -999.000,5, -999.000,5, -999.000,9,-999.0000,9,  -999.00,9,   -999.0,9,   -999.0,9,  -999.00,9,-999.0000,-999.000,  3.1597,-999.000
      325023_1,  P14N,    32,  1,     31,     31,2,19930714,0306, 46.4992, 179.0052, 5567,    159.2,   3.7110,  33.6619,2,  33.6560,2,   -999.0,9,    175.8,2,    65.72,2,    31.62,2,     0.01,2,     2.39,2, -999.000,5, -999.000,5, -999.000,9,-999.0000,9,  -999.00,9,   -999.0,9,   -999.0,9,  -999.00,9,-999.0000,-999.000,  3.7005,-999.000
      325023_1,  P14N,    32,  1,     30,     30,2,19930714,0306, 46.4992, 179.0052, 5567,    209.4,   3.4529,  33.7489,2,  33.7447,2,   -999.0,9,    132.5,2,    78.97,2,    35.68,2,     0.00,2,     2.65,2, -999.000,5, -999.000,5, -999.000,9,-999.0000,9,  -999.00,9,   -999.0,9,   -999.0,9,  -999.00,9,-999.0000,-999.000,  3.4395,-999.000
      325023_1,  P14N,    32,  1,     29,     29,2,19930714,0306, 46.4992, 179.0052, 5567,    259.5,   3.6320,  33.8563,2,  33.8526,2,   -999.0,9,    103.9,2,    87.35,2,    37.37,2,     0.01,2,     2.75,2, -999.000,5, -999.000,5, -999.000,9,-999.0000,9,  -999.00,9,   -999.0,9,   -999.0,9,  -999.00,9,-999.0000,-999.000,  3.6149,-999.000
      325023_1,  P14N,    32,  1,     28,     28,2,19930714,0306, 46.4992, 179.0052, 5567,    308.6,   3.5193,  33.9108,2,  33.9075,2,   -999.0,9,     80.3,2,    95.56,2,    39.44,2,     0.00,2,     2.88,2, -999.000,5, -999.000,5, -999.000,9,-999.0000,9,  -999.00,9,   -999.0,9,   -999.0,9,  -999.00,9,-999.0000,-999.000,  3.4991,-999.000
      325023_1,  P14N,    32,  1,     27,     27,2,19930714,0306, 46.4992, 179.0052, 5567,    406.9,   3.4916,  34.0337,2,  34.0317,2,   -999.0,9,     50.6,2,   109.57,2,    41.47,2,     0.00,2,     3.01,2, -999.000,5, -999.000,5, -999.000,9,-999.0000,9,  -999.00,9,   -999.0,9,   -999.0,9,  -999.00,9,-999.0000,-999.000,  3.4646,-999.000
      325023_1,  P14N,    32,  1,     26,     26,2,19930714,0306, 46.4992, 179.0052, 5567,    506.6,   3.4212,  34.1475,2,  34.1442,2,   -999.0,9,     36.4,2,   120.50,2,    42.19,2,     0.00,2,     3.05,2, -999.000,5, -999.000,5, -999.000,9,-999.0000,9,  -999.00,9,   -999.0,9,   -999.0,9,  -999.00,9,-999.0000,-999.000,  3.3874,-999.000
      325023_1,  P14N,    32,  1,     25,     25,2,19930714,0306, 46.4992, 179.0052, 5567,    606.6,   3.2463,  34.2150,2,  34.2129,2,   -999.0,9,     25.9,2,   129.90,2,    43.05,2,     0.00,2,     3.10,2, -999.000,5, -999.000,5, -999.000,9,-999.0000,9,  -999.00,9,   -999.0,9,   -999.0,9,  -999.00,9,-999.0000,-999.000,  3.2061,-999.000
      325023_1,  P14N,    32,  1,     24,     24,2,19930714,0306, 46.4992, 179.0052, 5567,    706.9,   3.0731,  34.2842,2,  34.2828,2,   -999.0,9,     24.0,2,   138.35,2,    43.19,2,     0.00,2,     3.12,2, -999.000,5, -999.000,5, -999.000,9,-999.0000,9,  -999.00,9,   -999.0,9,   -999.0,9,  -999.00,9,-999.0000,-999.000,  3.0266,-999.000
      325023_1,  P14N,    32,  1,     23,     23,2,19930714,0306, 46.4992, 179.0052, 5567,    808.4,   2.9236,  34.3339,2,  34.3298,2,   -999.0,9,     26.6,2,   143.59,2,    42.91,2,     0.00,2,     3.11,2, -999.000,5, -999.000,5, -999.000,9,-999.0000,9,  -999.00,9,   -999.0,9,   -999.0,9,  -999.00,9,-999.0000,-999.000,  2.8706,-999.000
      325023_1,  P14N,    32,  1,     22,     22,2,19930714,0306, 46.4992, 179.0052, 5567,    908.8,   2.7653,  34.3800,2,  34.3774,2,   -999.0,9,     33.2,4,   149.48,2,    42.91,2,     0.00,2,     3.12,2, -999.000,5, -999.000,5, -999.000,9,-999.0000,9,  -999.00,9,   -999.0,9,   -999.0,9,  -999.00,9,-999.0000,-999.000,  2.7061,-999.000
      325023_1,  P14N,    32,  1,     21,     21,2,19930714,0306, 46.4992, 179.0052, 5567,   1009.1,   2.6417,  34.4128,2,  34.4105,2,   -999.0,9,     29.0,2,   153.33,2,    42.95,3,     0.00,2,     3.11,2, -999.000,5, -999.000,5, -999.000,9,-999.0000,9,  -999.00,9,   -999.0,9,   -999.0,9,  -999.00,9,-999.0000,-999.000,  2.5761,-999.000
      325023_1,  P14N,    32,  1,     20,     20,2,19930714,0306, 46.4992, 179.0052, 5567,   1208.4,   2.4057,  34.4692,2,  34.4677,2,   -999.0,9,     33.5,2,   161.59,2,    42.90,3,     0.00,2,     3.09,2, -999.000,5, -999.000,5, -999.000,9,-999.0000,9,  -999.00,9,   -999.0,9,   -999.0,9,  -999.00,9,-999.0000,-999.000,  2.3274,-999.000
      325023_1,  P14N,    32,  1,     19,     19,2,19930714,0306, 46.4992, 179.0052, 5567,   1408.9,   2.2318,  34.5152,2,  34.5135,2,   -999.0,9,     52.3,3,   165.28,2,    42.44,3,     0.00,2,     3.05,2, -999.000,5, -999.000,5, -999.000,9,-999.0000,9,  -999.00,9,   -999.0,9,   -999.0,9,  -999.00,9,-999.0000,-999.000,  2.1400,-999.000
      325023_1,  P14N,    32,  1,     18,     18,2,19930714,0306, 46.4992, 179.0052, 5567,   1612.8,   2.0973,  34.5472,2,  34.5459,2,   -999.0,9,     51.3,2,   167.51,2,    42.03,3,     0.00,2,     3.01,2, -999.000,5, -999.000,5, -999.000,9,-999.0000,9,  -999.00,9,   -999.0,9,   -999.0,9,  -999.00,9,-999.0000,-999.000,  1.9912,-999.000
      325023_1,  P14N,    32,  1,     17,     17,2,19930714,0306, 46.4992, 179.0052, 5567,   1812.1,   1.9680,  34.5755,2,  34.5729,2,   -999.0,9,     62.0,2,   169.53,2,    41.30,3,     0.00,2,     2.96,2, -999.000,5, -999.000,5, -999.000,9,-999.0000,9,  -999.00,9,   -999.0,9,   -999.0,9,  -999.00,9,-999.0000,-999.000,  1.8477,-999.000
      325023_1,  P14N,    32,  1,     16,     16,2,19930714,0306, 46.4992, 179.0052, 5567,   2011.4,   1.8704,  34.5961,2,  34.5933,2,   -999.0,9,     72.7,2,   169.65,2,    40.71,3,     0.00,2,     2.92,2, -999.000,5, -999.000,5, -999.000,9,-999.0000,9,  -999.00,9,   -999.0,9,   -999.0,9,  -999.00,9,-999.0000,-999.000,  1.7351,-999.000
      325023_1,  P14N,    32,  1,     15,     15,2,19930714,0306, 46.4992, 179.0052, 5567,   2217.5,   1.7863,  34.6134,2,  34.6103,2,   -999.0,9,     82.6,2,   169.55,2,    40.12,3,     0.00,2,     2.87,2, -999.000,5, -999.000,5, -999.000,9,-999.0000,9,  -999.00,9,   -999.0,9,   -999.0,9,  -999.00,9,-999.0000,-999.000,  1.6349,-999.000
      325023_1,  P14N,    32,  1,     14,     14,2,19930714,0306, 46.4992, 179.0052, 5567,   2424.0,   1.7047,  34.6290,2,  34.6268,2,   -999.0,9,     93.3,2,   168.61,2,    39.35,3,     0.00,2,     2.81,2, -999.000,5, -999.000,5, -999.000,9,-999.0000,9,  -999.00,9,   -999.0,9,   -999.0,9,  -999.00,9,-999.0000,-999.000,  1.5368,-999.000
      325023_1,  P14N,    32,  1,     13,     13,2,19930714,0306, 46.4992, 179.0052, 5567,   2628.4,   1.6432,  34.6405,2,  34.6399,2,   -999.0,9,    103.2,2,   167.04,2,    38.85,3,     0.00,2,     2.77,2, -999.000,5, -999.000,5, -999.000,9,-999.0000,9,  -999.00,9,   -999.0,9,   -999.0,9,  -999.00,9,-999.0000,-999.000,  1.4581,-999.000
      325023_1,  P14N,    32,  1,     12,     12,2,19930714,0306, 46.4992, 179.0052, 5567,   2830.3,   1.5899,  34.6504,2,  34.6499,2,   -999.0,9,    112.3,2,   165.89,2,    38.04,3,     0.00,2,     2.72,2, -999.000,5, -999.000,5, -999.000,9,-999.0000,9,  -999.00,9,   -999.0,9,   -999.0,9,  -999.00,9,-999.0000,-999.000,  1.3873,-999.000
      325023_1,  P14N,    32,  1,     11,     11,2,19930714,0306, 46.4992, 179.0052, 5567,   3030.8,   1.5479,  34.6586,2,  34.6564,2,   -999.0,9,    120.3,2,   164.11,2,    37.77,3,     0.00,2,     2.68,2, -999.000,5, -999.000,5, -999.000,9,-999.0000,9,  -999.00,9,   -999.0,9,   -999.0,9,  -999.00,9,-999.0000,-999.000,  1.3272,-999.000
      325023_1,  P14N,    32,  1,     10,     10,2,19930714,0306, 46.4992, 179.0052, 5567,   3331.0,   1.5056,  34.6676,2,  34.6652,2,   -999.0,9,    130.3,2,   161.71,2,    37.10,3,     0.00,2,     2.63,2, -999.000,5, -999.000,5, -999.000,9,-999.0000,9,  -999.00,9,   -999.0,9,   -999.0,9,  -999.00,9,-999.0000,-999.000,  1.2565,-999.000
      325023_1,  P14N,    32,  1,      9,      9,2,19930714,0306, 46.4992, 179.0052, 5567,   3649.8,   1.4764,  34.6748,2,  34.6718,2,   -999.0,9,    139.1,2,   159.52,2,    36.56,3,     0.00,2,     2.59,2, -999.000,5, -999.000,5, -999.000,9,-999.0000,9,  -999.00,9,   -999.0,9,   -999.0,9,  -999.00,9,-999.0000,-999.000,  1.1955,-999.000
      325023_1,  P14N,    32,  1,      8,      8,2,19930714,0306, 46.4992, 179.0052, 5567,   3956.4,   1.4644,  34.6798,2,  34.6779,2,   -999.0,9,    145.7,2,   157.97,2,    36.20,3,     0.00,2,     2.56,2, -999.000,5, -999.000,5, -999.000,9,-999.0000,9,  -999.00,9,   -999.0,9,   -999.0,9,  -999.00,9,-999.0000,-999.000,  1.1513,-999.000
      325023_1,  P14N,    32,  1,      7,      7,2,19930714,0306, 46.4992, 179.0052, 5567,   4266.3,   1.4692,  34.6835,2,  34.6832,2,   -999.0,9,    149.5,2,   157.67,2,    36.06,3,     0.00,2,     2.54,2, -999.000,5, -999.000,5, -999.000,9,-999.0000,9,  -999.00,9,   -999.0,9,   -999.0,9,  -999.00,9,-999.0000,-999.000,  1.1218,-999.000
      325023_1,  P14N,    32,  1,      6,      6,2,19930714,0306, 46.4992, 179.0052, 5567,   4576.2,   1.4891,  34.6859,2,  34.6847,2,   -999.0,9,    151.8,2,   159.04,2,    35.79,3,     0.00,2,     2.53,2, -999.000,5, -999.000,5, -999.000,9,-999.0000,9,  -999.00,9,   -999.0,9,   -999.0,9,  -999.00,9,-999.0000,-999.000,  1.1057,-999.000
      325023_1,  P14N,    32,  1,      5,      5,2,19930714,0306, 46.4992, 179.0052, 5567,   4880.7,   1.5196,  34.6866,2,  34.6857,2,   -999.0,9,    152.0,2,   160.41,2,    35.74,3,     0.00,2,     2.53,2, -999.000,5, -999.000,5, -999.000,9,-999.0000,9,  -999.00,9,   -999.0,9,   -999.0,9,  -999.00,9,-999.0000,-999.000,  1.0991,-999.000
      325023_1,  P14N,    32,  1,      4,      4,2,19930714,0306, 46.4992, 179.0052, 5567,   5192.4,   1.5566,  34.6868,2,  34.6855,2,   -999.0,9,    152.7,2,   160.53,2,    35.74,3,     0.00,2,     2.52,2, -999.000,5, -999.000,5, -999.000,9,-999.0000,9,  -999.00,9,   -999.0,9,   -999.0,9,  -999.00,9,-999.0000,-999.000,  1.0968,-999.000
      325023_1,  P14N,    32,  1,      3,      3,2,19930714,0306, 46.4992, 179.0052, 5567,   5502.9,   1.5971,  34.6869,2,  34.6861,2,   -999.0,9,    152.7,2,   160.44,2,    35.74,3,     0.00,2,     2.52,2, -999.000,5, -999.000,5, -999.000,9,-999.0000,9,  -999.00,9,   -999.0,9,   -999.0,9,  -999.00,9,-999.0000,-999.000,  1.0967,-999.000
      325023_1,  P14N,    32,  1,      1,      1,2,19930714,0306, 46.4992, 179.0052, 5567,   5762.3,   1.6322,  34.6869,2,  34.6882,2,   -999.0,9,    152.5,2,   160.89,2,    35.60,3,     0.00,2,     2.52,2, -999.000,5, -999.000,5, -999.000,9,-999.0000,9,  -999.00,9,   -999.0,9,   -999.0,9,  -999.00,9,-999.0000,-999.000,  1.0968,-999.000
      325023_1,  P14N,    32,  1,      2,      2,2,19930714,0306, 46.4992, 179.0052, 5567,   5762.9,   1.6322,  34.6867,2,  34.6859,2,   -999.0,9,    152.7,2,   160.77,2,    35.69,3,     0.00,2,     2.52,2, -999.000,5, -999.000,5, -999.000,9,-999.0000,9,  -999.00,9,   -999.0,9,   -999.0,9,  -999.00,9,-999.0000,-999.000,  1.0967,-999.000