BOTTLE,20131125MIRCJHATS
EXPOCODE,SECT_ID,STNNBR,CASTNO,SAMPNO,BTLNBR,BTLNBR_FLAG_W,DATE,TIME,LATITUDE,LONGITUDE,DEPTH,CTDPRS,CTDTMP,CTDSAL,CTDSAL_FLAG_W,SALNTY,SALNTY_FLAG_W,CTDOXY,CTDOXY_FLAG_W,OXYGEN,OXYGEN_FLAG_W,SILCAT,SILCAT_FLAG_W,NITRAT,NITRAT_FLAG_W,NITRIT,NITRIT_FLAG_W,PHSPHT,PHSPHT_FLAG_W,CFC-11,CFC-11_FLAG_W,CFC-12,CFC-12_FLAG_W,TRITUM,TRITUM_FLAG_W,HELIUM,HELIUM_FLAG_W,DELHE3,DELHE3_FLAG_W,TCARBN,TCARBN_FLAG_W,ALKALI,ALKALI_FLAG_W,PH,PH_FLAG_W,HELIER,DELHER,THETA,TRITER
,,,,,,,,,,,,DBAR,ITS-90,PSS-78,,PSS-78,,UMOL/KG,,UMOL/KG,,UMOL/KG,,UMOL/KG,,UMOL/KG,,UMOL/KG,,PMOL/KG,,PMOL/KG,,TU,,NMOL/KG,,PERCNT,,UMOL/KG,,UMOL/KG,,25_DEG,,NMOL/KG,PERCNT,DEG C,TU
      325023_1,  P14N,    98,  1,     36,     36,2,19930801,1630, 13.4997, 178.9933, 3440,      1.0,  27.7098,  34.6731,2,  34.6788,2,   -999.0,9,    199.9,2,     2.41,2,     0.02,2,     0.00,2,     0.14,2, -999.000,5, -999.000,5, -999.000,9,-999.0000,9,  -999.00,9,   -999.0,9,   -999.0,9,  -999.00,9,-999.0000,-999.000, 27.7096,-999.000
      325023_1,  P14N,    98,  1,     35,     35,2,19930801,1630, 13.4997, 178.9933, 3440,      2.7,  27.7131,  34.6747,2,  34.6789,2,   -999.0,9,    199.7,2,     2.39,2,     0.02,2,     0.00,2,     0.14,2, -999.000,5, -999.000,5, -999.000,9,-999.0000,9,  -999.00,9,   -999.0,9,   -999.0,9,  -999.00,9,-999.0000,-999.000, 27.7125,-999.000
      325023_1,  P14N,    98,  1,     34,     34,2,19930801,1630, 13.4997, 178.9933, 3440,     35.5,  27.7140,  34.6759,2,  34.6795,2,   -999.0,9,    200.0,2,     2.37,2,     0.02,2,     0.00,2,     0.14,2, -999.000,5, -999.000,5, -999.000,9,-999.0000,9,  -999.00,9,   -999.0,9,   -999.0,9,  -999.00,9,-999.0000,-999.000, 27.7057,-999.000
      325023_1,  P14N,    98,  1,     33,     33,2,19930801,1630, 13.4997, 178.9933, 3440,     65.6,  27.4165,  34.6838,2,  34.6876,2,   -999.0,9,    202.3,2,     2.14,2,     0.01,2,     0.00,2,     0.12,2, -999.000,5, -999.000,5, -999.000,9,-999.0000,9,  -999.00,9,   -999.0,9,   -999.0,9,  -999.00,9,-999.0000,-999.000, 27.4013,-999.000
      325023_1,  P14N,    98,  1,     32,     32,2,19930801,1630, 13.4997, 178.9933, 3440,     96.0,  25.3971,  34.8300,2,  34.8352,2,   -999.0,9,    215.2,2,     1.91,2,     0.01,2,     0.00,2,     0.08,2, -999.000,5, -999.000,5, -999.000,9,-999.0000,9,  -999.00,9,   -999.0,9,   -999.0,9,  -999.00,9,-999.0000,-999.000, 25.3760,-999.000
      325023_1,  P14N,    98,  1,     31,     31,2,19930801,1630, 13.4997, 178.9933, 3440,    126.1,  23.7846,  35.0283,2,  35.0369,2,   -999.0,9,    206.6,2,     1.68,2,     0.01,2,     0.00,2,     0.09,2, -999.000,5, -999.000,5, -999.000,9,-999.0000,9,  -999.00,9,   -999.0,9,   -999.0,9,  -999.00,9,-999.0000,-999.000, 23.7583,-999.000
      325023_1,  P14N,    98,  1,     30,     30,2,19930801,1630, 13.4997, 178.9933, 3440,    156.5,  21.5774,  35.0334,2,  35.0072,2,   -999.0,9,    193.8,2,     2.09,2,     0.54,2,     0.12,2,     0.22,2, -999.000,5, -999.000,5, -999.000,9,-999.0000,9,  -999.00,9,   -999.0,9,   -999.0,9,  -999.00,9,-999.0000,-999.000, 21.5469,-999.000
      325023_1,  P14N,    98,  1,     29,     29,2,19930801,1630, 13.4997, 178.9933, 3440,    206.9,  17.4862,  34.7806,2,  34.7825,2,   -999.0,9,    169.7,2,     5.46,2,     6.66,2,     0.01,2,     0.60,2,    2.239,2,    1.130,2, -999.000,9,-999.0000,9,  -999.00,9,   -999.0,9,   -999.0,9,  -999.00,9,-999.0000,-999.000, 17.4515,-999.000
      325023_1,  P14N,    98,  1,     28,     28,2,19930801,1630, 13.4997, 178.9933, 3440,    257.9,  12.5882,  34.3836,2,  34.3857,2,   -999.0,9,    117.3,2,    17.93,2,    18.67,2,     0.01,2,     1.47,2,    1.619,2,    0.759,2, -999.000,9,-999.0000,9,  -999.00,9,   -999.0,9,   -999.0,9,  -999.00,9,-999.0000,-999.000, 12.5536,-999.000
      325023_1,  P14N,    98,  1,     27,     27,2,19930801,1630, 13.4997, 178.9933, 3440,    308.2,  10.3779,  34.4267,2,  34.4275,2,   -999.0,9,     59.9,2,    32.30,2,    28.10,2,     0.00,2,     2.18,2,    0.617,2,    0.291,2, -999.000,9,-999.0000,9,  -999.00,9,   -999.0,9,   -999.0,9,  -999.00,9,-999.0000,-999.000, 10.3414,-999.000
      325023_1,  P14N,    98,  1,     26,     26,2,19930801,1630, 13.4997, 178.9933, 3440,    358.6,   9.1744,  34.4163,2,  34.4174,2,   -999.0,9,     48.3,2,    40.32,2,    31.25,2,     0.00,2,     2.40,2,    0.324,2,    0.141,2, -999.000,9,-999.0000,9,  -999.00,9,   -999.0,9,   -999.0,9,  -999.00,9,-999.0000,-999.000,  9.1349,-999.000
      325023_1,  P14N,    98,  1,     25,     25,2,19930801,1630, 13.4997, 178.9933, 3440,    407.3,   8.4689,  34.4429,2,  34.4449,2,   -999.0,9,     33.4,2,    46.85,2,    33.93,2,     0.00,2,     2.58,2, -999.000,5, -999.000,5, -999.000,9,-999.0000,9,  -999.00,9,   -999.0,9,   -999.0,9,  -999.00,9,-999.0000,-999.000,  8.4260,-999.000
      325023_1,  P14N,    98,  1,     24,     24,2,19930801,1630, 13.4997, 178.9933, 3440,    457.5,   7.8985,  34.4775,2,  34.4760,2,   -999.0,9,     28.3,2,    52.33,2,    36.06,2,     0.00,2,     2.69,2,    0.038,2,    0.016,2, -999.000,9,-999.0000,9,  -999.00,9,   -999.0,9,   -999.0,9,  -999.00,9,-999.0000,-999.000,  7.8522,-999.000
      325023_1,  P14N,    98,  1,     23,     23,2,19930801,1630, 13.4997, 178.9933, 3440,    506.8,   7.3821,  34.4835,2,  34.4837,2,   -999.0,9,     28.9,2,    57.80,2,    37.29,2,     0.00,2,     2.76,2, -999.000,5, -999.000,5, -999.000,9,-999.0000,9,  -999.00,9,   -999.0,9,   -999.0,9,  -999.00,9,-999.0000,-999.000,  7.3325,-999.000
      325023_1,  P14N,    98,  1,     22,     22,2,19930801,1630, 13.4997, 178.9933, 3440,    605.4,   6.5603,  34.5078,2,  34.5088,2,   -999.0,9,     47.8,2,    65.18,2,    38.07,2,     0.00,2,     2.73,2, -999.000,5, -999.000,5, -999.000,9,-999.0000,9,  -999.00,9,   -999.0,9,   -999.0,9,  -999.00,9,-999.0000,-999.000,  6.5044,-999.000
      325023_1,  P14N,    98,  1,     21,     21,2,19930801,1630, 13.4997, 178.9933, 3440,    705.1,   5.8491,  34.5022,2,  34.5033,2,   -999.0,9,     39.0,2,    76.61,2,    40.06,2,     0.00,2,     2.88,2, -999.000,5, -999.000,5, -999.000,9,-999.0000,9,  -999.00,9,   -999.0,9,   -999.0,9,  -999.00,9,-999.0000,-999.000,  5.7873,-999.000
      325023_1,  P14N,    98,  1,     20,     20,2,19930801,1630, 13.4997, 178.9933, 3440,    805.7,   5.3597,  34.5128,2,  34.5140,2,   -999.0,9,     42.4,2,    84.01,2,    40.66,2,     0.00,2,     2.92,2, -999.000,5, -999.000,5, -999.000,9,-999.0000,9,  -999.00,9,   -999.0,9,   -999.0,9,  -999.00,9,-999.0000,-999.000,  5.2914,-999.000
      325023_1,  P14N,    98,  1,     19,     19,2,19930801,1630, 13.4997, 178.9933, 3440,    904.9,   4.9608,  34.5218,2,  34.5230,2,   -999.0,9,     43.8,2,    91.42,2,    41.41,2,     0.00,2,     2.95,2, -999.000,5, -999.000,5, -999.000,9,-999.0000,9,  -999.00,9,   -999.0,9,   -999.0,9,  -999.00,9,-999.0000,-999.000,  4.8863,-999.000
      325023_1,  P14N,    98,  1,     18,     18,2,19930801,1630, 13.4997, 178.9933, 3440,   1002.5,   4.6262,  34.5314,2,  34.5328,2,   -999.0,9,     47.5,2,    97.57,2,    41.60,2,     0.00,2,     2.96,2, -999.000,5, -999.000,5, -999.000,9,-999.0000,9,  -999.00,9,   -999.0,9,   -999.0,9,  -999.00,9,-999.0000,-999.000,  4.5455,-999.000
      325023_1,  P14N,    98,  1,     17,     17,2,19930801,1630, 13.4997, 178.9933, 3440,   1097.7,   4.3340,  34.5368,2,  34.5363,2,   -999.0,9,     46.5,2,   104.37,2,    42.02,2,     0.00,2,     3.00,2, -999.000,5, -999.000,5, -999.000,9,-999.0000,9,  -999.00,9,   -999.0,9,   -999.0,9,  -999.00,9,-999.0000,-999.000,  4.2472,-999.000
      325023_1,  P14N,    98,  1,     16,     16,2,19930801,1630, 13.4997, 178.9933, 3440,   1190.7,   3.9715,  34.5529,2,  34.5538,2,   -999.0,9,     54.6,2,   111.18,2,    41.64,2,     0.00,2,     2.97,2, -999.000,5, -999.000,5, -999.000,9,-999.0000,9,  -999.00,9,   -999.0,9,   -999.0,9,  -999.00,9,-999.0000,-999.000,  3.8799,-999.000
      325023_1,  P14N,    98,  1,     15,     15,2,19930801,1630, 13.4997, 178.9933, 3440,   1285.1,   3.6740,  34.5644,2,  34.5655,2,   -999.0,9,     63.6,2,   116.94,2,    41.16,2,     0.00,2,     2.93,2, -999.000,5, -999.000,5, -999.000,9,-999.0000,9,  -999.00,9,   -999.0,9,   -999.0,9,  -999.00,9,-999.0000,-999.000,  3.5771,-999.000
      325023_1,  P14N,    98,  1,     14,     14,2,19930801,1630, 13.4997, 178.9933, 3440,   1379.5,   3.3796,  34.5750,2,  34.5761,2,   -999.0,9,     70.4,2,   123.15,2,    40.64,2,     0.00,2,     2.88,2, -999.000,5, -999.000,5, -999.000,9,-999.0000,9,  -999.00,9,   -999.0,9,   -999.0,9,  -999.00,9,-999.0000,-999.000,  3.2777,-999.000
      325023_1,  P14N,    98,  1,     13,     13,2,19930801,1630, 13.4997, 178.9933, 3440,   1474.4,   3.1831,  34.5821,2,  34.5836,2,   -999.0,9,     74.5,2,   127.20,2,    40.55,2,     0.00,2,     2.87,2, -999.000,5, -999.000,5, -999.000,9,-999.0000,9,  -999.00,9,   -999.0,9,   -999.0,9,  -999.00,9,-999.0000,-999.000,  3.0753,-999.000
      325023_1,  P14N,    98,  1,     12,     12,2,19930801,1630, 13.4997, 178.9933, 3440,   1574.8,   2.9310,  34.5911,2,  34.5926,2,   -999.0,9,     78.0,2,   133.23,2,    40.40,2,     0.00,2,     2.85,2, -999.000,5, -999.000,5, -999.000,9,-999.0000,9,  -999.00,9,   -999.0,9,   -999.0,9,  -999.00,9,-999.0000,-999.000,  2.8177,-999.000
      325023_1,  P14N,    98,  1,     11,     11,2,19930801,1630, 13.4997, 178.9933, 3440,   1779.1,   2.5411,  34.6106,2,  34.6120,2,   -999.0,9,     90.7,2,   141.02,2,    39.65,2,     0.00,2,     2.78,2, -999.000,5, -999.000,5, -999.000,9,-999.0000,9,  -999.00,9,   -999.0,9,   -999.0,9,  -999.00,9,-999.0000,-999.000,  2.4156,-999.000
      325023_1,  P14N,    98,  1,     10,     10,2,19930801,1630, 13.4997, 178.9933, 3440,   1987.4,   2.2329,  34.6264,2,  34.6288,2,   -999.0,9,     98.9,2,   147.77,2,    39.14,2,     0.00,2,     2.74,2, -999.000,5, -999.000,5, -999.000,9,-999.0000,9,  -999.00,9,   -999.0,9,   -999.0,9,  -999.00,9,-999.0000,-999.000,  2.0940,-999.000
      325023_1,  P14N,    98,  1,      9,      9,2,19930801,1630, 13.4997, 178.9933, 3440,   2199.8,   2.0563,  34.6376,2,  34.6404,2,   -999.0,9,    106.0,2,   150.78,2,    38.67,2,     0.00,2,     2.70,2, -999.000,5, -999.000,5, -999.000,9,-999.0000,9,  -999.00,9,   -999.0,9,   -999.0,9,  -999.00,9,-999.0000,-999.000,  1.9018,-999.000
      325023_1,  P14N,    98,  1,      8,      8,2,19930801,1630, 13.4997, 178.9933, 3440,   2413.1,   1.9137,  34.6477,2,  34.6502,2,   -999.0,9,    112.5,2,   154.03,2,    38.30,2,     0.00,2,     2.66,2, -999.000,5, -999.000,5, -999.000,9,-999.0000,9,  -999.00,9,   -999.0,9,   -999.0,9,  -999.00,9,-999.0000,-999.000,  1.7429,-999.000
      325023_1,  P14N,    98,  1,      7,      7,2,19930801,1630, 13.4997, 178.9933, 3440,   2625.0,   1.8205,  34.6545,2,  34.6563,2,   -999.0,9,    117.3,2,   155.28,2,    37.93,2,     0.00,2,     2.64,2, -999.000,5, -999.000,5, -999.000,9,-999.0000,9,  -999.00,9,   -999.0,9,   -999.0,9,  -999.00,9,-999.0000,-999.000,  1.6322,-999.000
      325023_1,  P14N,    98,  1,      6,      6,2,19930801,1630, 13.4997, 178.9933, 3440,   2835.1,   1.7462,  34.6600,2,  34.6625,2,   -999.0,9,    122.2,2,   156.32,2,    37.60,2,     0.00,2,     2.61,2, -999.000,5, -999.000,5, -999.000,9,-999.0000,9,  -999.00,9,   -999.0,9,   -999.0,9,  -999.00,9,-999.0000,-999.000,  1.5398,-999.000
      325023_1,  P14N,    98,  1,      5,      5,2,19930801,1630, 13.4997, 178.9933, 3440,   3043.6,   1.6381,  34.6669,2,  34.6698,2,   -999.0,9,    129.8,2,   157.13,2,    36.96,2,     0.00,2,     2.57,2, -999.000,5, -999.000,5, -999.000,9,-999.0000,9,  -999.00,9,   -999.0,9,   -999.0,9,  -999.00,9,-999.0000,-999.000,  1.4141,-999.000
      325023_1,  P14N,    98,  1,      4,      4,2,19930801,1630, 13.4997, 178.9933, 3440,   3249.6,   1.5709,  34.6722,2,  34.6745,2,   -999.0,9,    135.5,2,   156.84,2,    36.77,2,     0.00,2,     2.53,2, -999.000,5, -999.000,5, -999.000,9,-999.0000,9,  -999.00,9,   -999.0,9,   -999.0,9,  -999.00,9,-999.0000,-999.000,  1.3283,-999.000
      325023_1,  P14N,    98,  1,      3,      3,2,19930801,1630, 13.4997, 178.9933, 3440,   3453.6,   1.5268,  34.6762,2,  34.6788,2,   -999.0,9,    140.5,2,   154.11,2,    36.40,2,     0.00,2,     2.51,2, -999.000,5, -999.000,5, -999.000,9,-999.0000,9,  -999.00,9,   -999.0,9,   -999.0,9,  -999.00,9,-999.0000,-999.000,  1.2647,-999.000
      325023_1,  P14N,    98,  1,      2,      2,2,19930801,1630, 13.4997, 178.9933, 3440,   3655.9,   1.4735,  34.6805,2,  34.6829,2,   -999.0,9,    147.9,2,   152.49,2,    35.95,2,     0.00,2,     2.48,2, -999.000,5, -999.000,5, -999.000,9,-999.0000,9,  -999.00,9,   -999.0,9,   -999.0,9,  -999.00,9,-999.0000,-999.000,  1.1920,-999.000
      325023_1,  P14N,    98,  1,      1,      1,2,19930801,1630, 13.4997, 178.9933, 3440,   3657.8,   1.4727,  34.6806,2,  34.6835,2,   -999.0,9,    146.5,2,   152.42,2,    35.94,2,     0.00,2,     2.48,2, -999.000,5, -999.000,5, -999.000,9,-999.0000,9,  -999.00,9,   -999.0,9,   -999.0,9,  -999.00,9,-999.0000,-999.000,  1.1910,-999.000