BOTTLE,20131125MIRCJHATS
EXPOCODE,SECT_ID,STNNBR,CASTNO,SAMPNO,BTLNBR,BTLNBR_FLAG_W,DATE,TIME,LATITUDE,LONGITUDE,DEPTH,CTDPRS,CTDTMP,CTDSAL,CTDSAL_FLAG_W,SALNTY,SALNTY_FLAG_W,CTDOXY,CTDOXY_FLAG_W,OXYGEN,OXYGEN_FLAG_W,SILCAT,SILCAT_FLAG_W,NITRAT,NITRAT_FLAG_W,NITRIT,NITRIT_FLAG_W,PHSPHT,PHSPHT_FLAG_W,CFC-11,CFC-11_FLAG_W,CFC-12,CFC-12_FLAG_W,TRITUM,TRITUM_FLAG_W,HELIUM,HELIUM_FLAG_W,DELHE3,DELHE3_FLAG_W,TCARBN,TCARBN_FLAG_W,ALKALI,ALKALI_FLAG_W,PH,PH_FLAG_W,HELIER,DELHER,THETA,TRITER
,,,,,,,,,,,,DBAR,ITS-90,PSS-78,,PSS-78,,UMOL/KG,,UMOL/KG,,UMOL/KG,,UMOL/KG,,UMOL/KG,,UMOL/KG,,PMOL/KG,,PMOL/KG,,TU,,NMOL/KG,,PERCNT,,UMOL/KG,,UMOL/KG,,25_DEG,,NMOL/KG,PERCNT,DEG C,TU
      325023_1,  P14N,    62,  1,     36,     36,2,19930723,0100, 31.4983, 179.0163, 5039,      2.6,  25.8662,  34.8612,2,  34.8635,2,   -999.0,9,    210.9,2,     3.93,2,     0.01,2,     0.00,2,     0.04,2, -999.000,5, -999.000,5, -999.000,9,-999.0000,9,  -999.00,9,   -999.0,9,   -999.0,9,  -999.00,9,-999.0000,-999.000, 25.8656,-999.000
      325023_1,  P14N,    62,  1,     35,     35,2,19930723,0100, 31.4983, 179.0163, 5039,     38.6,  20.0423,  34.8084,2,  34.8067,2,   -999.0,9,    243.4,2,     3.69,2,     0.01,2,     0.00,2,     0.04,2, -999.000,5, -999.000,5, -999.000,9,-999.0000,9,  -999.00,9,   -999.0,9,   -999.0,9,  -999.00,9,-999.0000,-999.000, 20.0351,-999.000
      325023_1,  P14N,    62,  1,     34,     34,2,19930723,0100, 31.4983, 179.0163, 5039,     68.9,  17.8296,  34.7967,2,  34.7959,2,   -999.0,9,    246.1,2,     3.64,2,     0.05,2,     0.00,2,     0.08,2, -999.000,5, -999.000,5, -999.000,9,-999.0000,9,  -999.00,9,   -999.0,9,   -999.0,9,  -999.00,9,-999.0000,-999.000, 17.8179,-999.000
      325023_1,  P14N,    62,  1,     33,     33,2,19930723,0100, 31.4983, 179.0163, 5039,     98.2,  16.9563,  34.7768,2,  34.7755,2,   -999.0,9,    226.2,2,     4.38,2,     2.75,2,     0.03,2,     0.25,2, -999.000,5, -999.000,5, -999.000,9,-999.0000,9,  -999.00,9,   -999.0,9,   -999.0,9,  -999.00,9,-999.0000,-999.000, 16.9401,-999.000
      325023_1,  P14N,    62,  1,     32,     32,2,19930723,0100, 31.4983, 179.0163, 5039,    128.7,  16.7101,  34.7654,2,  34.7644,2,   -999.0,9,    225.6,2,     4.53,2,     3.34,2,     0.02,2,     0.28,2, -999.000,5, -999.000,5, -999.000,9,-999.0000,9,  -999.00,9,   -999.0,9,   -999.0,9,  -999.00,9,-999.0000,-999.000, 16.6892,-999.000
      325023_1,  P14N,    62,  1,     31,     31,2,19930723,0100, 31.4983, 179.0163, 5039,    159.4,  16.4293,  34.7462,2,  34.7438,2,   -999.0,9,    227.0,2,     4.68,2,     3.30,2,     0.02,2,     0.29,2, -999.000,5, -999.000,5, -999.000,9,-999.0000,9,  -999.00,9,   -999.0,9,   -999.0,9,  -999.00,9,-999.0000,-999.000, 16.4037,-999.000
      325023_1,  P14N,    62,  1,     30,     30,2,19930723,0100, 31.4983, 179.0163, 5039,    209.1,  15.4764,  34.6469,2,  34.6374,2,   -999.0,9,    212.1,2,     7.79,2,     6.57,2,     0.01,2,     0.50,2, -999.000,5, -999.000,5, -999.000,9,-999.0000,9,  -999.00,9,   -999.0,9,   -999.0,9,  -999.00,9,-999.0000,-999.000, 15.4441,-999.000
      325023_1,  P14N,    62,  1,     29,     29,2,19930723,0100, 31.4983, 179.0163, 5039,    260.2,  14.1925,  34.5377,2,  34.5337,2,   -999.0,9,    211.7,2,    10.31,2,     8.29,2,     0.01,2,     0.62,2, -999.000,5, -999.000,5, -999.000,9,-999.0000,9,  -999.00,9,   -999.0,9,   -999.0,9,  -999.00,9,-999.0000,-999.000, 14.1546,-999.000
      325023_1,  P14N,    62,  1,     28,     28,2,19930723,0100, 31.4983, 179.0163, 5039,    310.6,  12.9928,  34.4507,2,  34.4441,2,   -999.0,9,    210.2,2,    14.41,2,    10.42,2,     0.01,2,     0.78,2, -999.000,5, -999.000,5, -999.000,9,-999.0000,9,  -999.00,9,   -999.0,9,   -999.0,9,  -999.00,9,-999.0000,-999.000, 12.9501,-999.000
      325023_1,  P14N,    62,  1,     27,     27,2,19930723,0100, 31.4983, 179.0163, 5039,    411.5,  11.1891,  34.3183,2,  34.3161,2,   -999.0,9,    211.2,2,    23.46,2,    13.35,2,     0.01,2,     0.99,2, -999.000,5, -999.000,5, -999.000,9,-999.0000,9,  -999.00,9,   -999.0,9,   -999.0,9,  -999.00,9,-999.0000,-999.000, 11.1377,-999.000
      325023_1,  P14N,    62,  1,     26,     26,2,19930723,0100, 31.4983, 179.0163, 5039,    512.0,   8.6943,  34.1252,2,  34.1236,2,   -999.0,9,    189.8,2,    33.51,2,    19.87,2,     0.01,2,     1.46,2, -999.000,5, -999.000,5, -999.000,9,-999.0000,9,  -999.00,9,   -999.0,9,   -999.0,9,  -999.00,9,-999.0000,-999.000,  8.6395,-999.000
      325023_1,  P14N,    62,  1,     25,     25,2,19930723,0100, 31.4983, 179.0163, 5039,    612.9,   6.3020,  34.0068,2,  34.0072,2,   -999.0,9,    153.0,2,    56.26,2,    27.53,2,     0.01,2,     2.03,2, -999.000,5, -999.000,5, -999.000,9,-999.0000,9,  -999.00,9,   -999.0,9,   -999.0,9,  -999.00,9,-999.0000,-999.000,  6.2471,-999.000
      325023_1,  P14N,    62,  1,     24,     24,2,19930723,0100, 31.4983, 179.0163, 5039,    712.6,   5.0129,  34.0559,2,  34.0545,2,   -999.0,9,     98.2,2,    79.53,2,    34.36,2,     0.01,2,     2.50,2, -999.000,5, -999.000,5, -999.000,9,-999.0000,9,  -999.00,9,   -999.0,9,   -999.0,9,  -999.00,9,-999.0000,-999.000,  4.9554,-999.000
      325023_1,  P14N,    62,  1,     23,     23,2,19930723,0100, 31.4983, 179.0163, 5039,    813.0,   4.4347,  34.1533,2,  34.1519,2,   -999.0,9,     59.8,2,    97.76,2,    38.54,2,     0.00,2,     2.79,2, -999.000,5, -999.000,5, -999.000,9,-999.0000,9,  -999.00,9,   -999.0,9,   -999.0,9,  -999.00,9,-999.0000,-999.000,  4.3721,-999.000
      325023_1,  P14N,    62,  1,     22,     22,2,19930723,0100, 31.4983, 179.0163, 5039,    915.2,   3.9156,  34.2513,2,  34.2502,2,   -999.0,9,     37.8,2,   113.75,2,    40.99,2,     0.00,2,     2.95,2, -999.000,5, -999.000,5, -999.000,9,-999.0000,9,  -999.00,9,   -999.0,9,   -999.0,9,  -999.00,9,-999.0000,-999.000,  3.8480,-999.000
      325023_1,  P14N,    62,  1,     21,     21,2,19930723,0100, 31.4983, 179.0163, 5039,   1016.0,   3.5220,  34.3182,2,  34.3164,2,   -999.0,9,     28.5,2,   125.40,2,    42.03,2,     0.00,2,     3.02,2, -999.000,5, -999.000,5, -999.000,9,-999.0000,9,  -999.00,9,   -999.0,9,   -999.0,9,  -999.00,9,-999.0000,-999.000,  3.4491,-999.000
      325023_1,  P14N,    62,  1,     20,     20,2,19930723,0100, 31.4983, 179.0163, 5039,   1218.2,   3.0660,  34.4240,2,  34.4222,2,   -999.0,9,     26.8,2,   139.25,2,    42.66,2,     0.00,2,     3.05,2, -999.000,5, -999.000,5, -999.000,9,-999.0000,9,  -999.00,9,   -999.0,9,   -999.0,9,  -999.00,9,-999.0000,-999.000,  2.9807,-999.000
      325023_1,  P14N,    62,  1,     19,     19,2,19930723,0100, 31.4983, 179.0163, 5039,   1420.9,   2.6805,  34.4937,2,  34.4927,2,   -999.0,9,     34.7,2,   149.93,2,    42.51,2,     0.00,2,     3.03,2, -999.000,5, -999.000,5, -999.000,9,-999.0000,9,  -999.00,9,   -999.0,9,   -999.0,9,  -999.00,9,-999.0000,-999.000,  2.5830,-999.000
      325023_1,  P14N,    62,  1,     18,     18,2,19930723,0100, 31.4983, 179.0163, 5039,   1623.3,   2.3751,  34.5452,2,  34.5433,2,   -999.0,9,     46.9,2,   156.92,2,    41.81,2,     0.00,2,     2.97,2, -999.000,5, -999.000,5, -999.000,9,-999.0000,9,  -999.00,9,   -999.0,9,   -999.0,9,  -999.00,9,-999.0000,-999.000,  2.2647,-999.000
      325023_1,  P14N,    62,  1,     17,     17,2,19930723,0100, 31.4983, 179.0163, 5039,   1825.7,   2.1842,  34.5745,2,  34.5735,2,   -999.0,9,     59.4,2,   160.55,2,    41.16,2,     0.00,2,     2.92,2, -999.000,5, -999.000,5, -999.000,9,-999.0000,9,  -999.00,9,   -999.0,9,   -999.0,9,  -999.00,9,-999.0000,-999.000,  2.0597,-999.000
      325023_1,  P14N,    62,  1,     16,     16,2,19930723,0100, 31.4983, 179.0163, 5039,   2028.6,   1.9674,  34.6031,2,  34.6017,2,   -999.0,9,     74.2,2,   163.35,2,    40.05,2,     0.00,2,     2.85,2, -999.000,5, -999.000,5, -999.000,9,-999.0000,9,  -999.00,9,   -999.0,9,   -999.0,9,  -999.00,9,-999.0000,-999.000,  1.8292,-999.000
      325023_1,  P14N,    62,  1,     15,     15,2,19930723,0100, 31.4983, 179.0163, 5039,   2228.9,   1.8138,  34.6219,2,  34.6207,2,   -999.0,9,     86.0,2,   165.08,2,    39.49,2,     0.00,2,     2.79,2, -999.000,5, -999.000,5, -999.000,9,-999.0000,9,  -999.00,9,   -999.0,9,   -999.0,9,  -999.00,9,-999.0000,-999.000,  1.6609,-999.000
      325023_1,  P14N,    62,  1,     14,     14,2,19930723,0100, 31.4983, 179.0163, 5039,   2431.1,   1.7069,  34.6358,2,  34.6350,2,   -999.0,9,     97.7,2,   164.67,2,    38.80,2,     0.00,2,     2.75,2, -999.000,5, -999.000,5, -999.000,9,-999.0000,9,  -999.00,9,   -999.0,9,   -999.0,9,  -999.00,9,-999.0000,-999.000,  1.5383,-999.000
      325023_1,  P14N,    62,  1,     13,     13,2,19930723,0100, 31.4983, 179.0163, 5039,   2632.9,   1.6256,  34.6476,2,  34.6482,2,   -999.0,9,    108.4,2,   163.62,2,    38.10,2,     0.00,2,     2.68,2, -999.000,5, -999.000,5, -999.000,9,-999.0000,9,  -999.00,9,   -999.0,9,   -999.0,9,  -999.00,9,-999.0000,-999.000,  1.4404,-999.000
      325023_1,  P14N,    62,  1,     12,     12,2,19930723,0100, 31.4983, 179.0163, 5039,   2835.2,   1.5707,  34.6562,2,  34.6568,2,   -999.0,9,    117.5,2,   161.71,2,    37.49,2,     0.00,2,     2.63,2, -999.000,5, -999.000,5, -999.000,9,-999.0000,9,  -999.00,9,   -999.0,9,   -999.0,9,  -999.00,9,-999.0000,-999.000,  1.3680,-999.000
      325023_1,  P14N,    62,  1,     11,     11,2,19930723,0100, 31.4983, 179.0163, 5039,   3038.1,   1.5275,  34.6634,2,  34.6628,2,   -999.0,9,    125.2,2,   160.24,2,    37.07,2,     0.00,2,     2.60,2, -999.000,5, -999.000,5, -999.000,9,-999.0000,9,  -999.00,9,   -999.0,9,   -999.0,9,  -999.00,9,-999.0000,-999.000,  1.3065,-999.000
      325023_1,  P14N,    62,  1,     10,     10,2,19930723,0100, 31.4983, 179.0163, 5039,   3241.3,   1.5007,  34.6687,2,-999.0000,9,   -999.0,9,   -999.0,9,  -999.00,9,  -999.00,9,  -999.00,9,  -999.00,9, -999.000,5, -999.000,5, -999.000,9,-999.0000,9,  -999.00,9,   -999.0,9,   -999.0,9,  -999.00,9,-999.0000,-999.000,  1.2606,-999.000
      325023_1,  P14N,    62,  1,      9,      9,2,19930723,0100, 31.4983, 179.0163, 5039,   3447.2,   1.4757,  34.6740,2,  34.6734,2,   -999.0,9,    137.5,2,   158.12,2,    36.28,2,     0.00,2,     2.55,2, -999.000,5, -999.000,5, -999.000,9,-999.0000,9,  -999.00,9,   -999.0,9,   -999.0,9,  -999.00,9,-999.0000,-999.000,  1.2156,-999.000
      325023_1,  P14N,    62,  1,      8,      8,2,19930723,0100, 31.4983, 179.0163, 5039,   3651.5,   1.4609,  34.6780,2,  34.6783,2,   -999.0,9,    142.6,2,   156.44,2,    36.00,2,     0.00,2,     2.51,2, -999.000,5, -999.000,5, -999.000,9,-999.0000,9,  -999.00,9,   -999.0,9,   -999.0,9,  -999.00,9,-999.0000,-999.000,  1.1802,-999.000
      325023_1,  P14N,    62,  1,      7,      7,2,19930723,0100, 31.4983, 179.0163, 5039,   3857.2,   1.4526,  34.6814,2,  34.6816,2,   -999.0,9,    146.6,2,   155.39,2,    35.66,2,     0.00,2,     2.50,2, -999.000,5, -999.000,5, -999.000,9,-999.0000,9,  -999.00,9,   -999.0,9,   -999.0,9,  -999.00,9,-999.0000,-999.000,  1.1504,-999.000
      325023_1,  P14N,    62,  1,      6,      6,2,19930723,0100, 31.4983, 179.0163, 5039,   4061.3,   1.4577,  34.6835,2,  34.6828,2,   -999.0,9,    148.8,2,   154.77,2,    35.60,2,     0.00,2,     2.47,2, -999.000,5, -999.000,5, -999.000,9,-999.0000,9,  -999.00,9,   -999.0,9,   -999.0,9,  -999.00,9,-999.0000,-999.000,  1.1333,-999.000
      325023_1,  P14N,    62,  1,      5,      5,2,19930723,0100, 31.4983, 179.0163, 5039,   4266.6,   1.4613,  34.6854,2,  34.6828,2,   -999.0,9,    151.6,2,   154.15,2,    35.41,2,     0.00,2,     2.46,2, -999.000,5, -999.000,5, -999.000,9,-999.0000,9,  -999.00,9,   -999.0,9,   -999.0,9,  -999.00,9,-999.0000,-999.000,  1.1141,-999.000
      325023_1,  P14N,    62,  1,      4,      4,2,19930723,0100, 31.4983, 179.0163, 5039,   4471.2,   1.4669,  34.6871,2,  34.6843,2,   -999.0,9,    154.5,2,   152.04,2,    35.21,2,     0.00,2,     2.44,2, -999.000,5, -999.000,5, -999.000,9,-999.0000,9,  -999.00,9,   -999.0,9,   -999.0,9,  -999.00,9,-999.0000,-999.000,  1.0963,-999.000
      325023_1,  P14N,    62,  1,      3,      3,2,19930723,0100, 31.4983, 179.0163, 5039,   4675.1,   1.4755,  34.6885,2,  34.6878,2,   -999.0,9,    157.4,2,   149.94,2,    35.02,2,     0.00,2,     2.44,2, -999.000,5, -999.000,5, -999.000,9,-999.0000,9,  -999.00,9,   -999.0,9,   -999.0,9,  -999.00,9,-999.0000,-999.000,  1.0809,-999.000
      325023_1,  P14N,    62,  1,      2,      2,2,19930723,0100, 31.4983, 179.0163, 5039,   4882.3,   1.4814,  34.6897,2,  34.6902,2,   -999.0,9,    160.8,2,   146.36,2,    34.82,2,     0.00,2,     2.41,2, -999.000,5, -999.000,5, -999.000,9,-999.0000,9,  -999.00,9,   -999.0,9,   -999.0,9,  -999.00,9,-999.0000,-999.000,  1.0620,-999.000
      325023_1,  P14N,    62,  1,      1,      1,2,19930723,0100, 31.4983, 179.0163, 5039,   5156.4,   1.5121,  34.6903,2,  34.6903,2,   -999.0,9,    161.3,2,   146.17,2,    34.89,2,     0.00,2,     2.42,2, -999.000,5, -999.000,5, -999.000,9,-999.0000,9,  -999.00,9,   -999.0,9,   -999.0,9,  -999.00,9,-999.0000,-999.000,  1.0583,-999.000