BOTTLE,20131125MIRCJHATS
EXPOCODE,SECT_ID,STNNBR,CASTNO,SAMPNO,BTLNBR,BTLNBR_FLAG_W,DATE,TIME,LATITUDE,LONGITUDE,DEPTH,CTDPRS,CTDTMP,CTDSAL,CTDSAL_FLAG_W,SALNTY,SALNTY_FLAG_W,CTDOXY,CTDOXY_FLAG_W,OXYGEN,OXYGEN_FLAG_W,SILCAT,SILCAT_FLAG_W,NITRAT,NITRAT_FLAG_W,NITRIT,NITRIT_FLAG_W,PHSPHT,PHSPHT_FLAG_W,CFC-11,CFC-11_FLAG_W,CFC-12,CFC-12_FLAG_W,TRITUM,TRITUM_FLAG_W,HELIUM,HELIUM_FLAG_W,DELHE3,DELHE3_FLAG_W,TCARBN,TCARBN_FLAG_W,ALKALI,ALKALI_FLAG_W,PH,PH_FLAG_W,HELIER,DELHER,THETA,TRITER
,,,,,,,,,,,,DBAR,ITS-90,PSS-78,,PSS-78,,UMOL/KG,,UMOL/KG,,UMOL/KG,,UMOL/KG,,UMOL/KG,,UMOL/KG,,PMOL/KG,,PMOL/KG,,TU,,NMOL/KG,,PERCNT,,UMOL/KG,,UMOL/KG,,25_DEG,,NMOL/KG,PERCNT,DEG C,TU
      325023_1,  P14N,    89,  1,     36,     36,2,19930730,0646, 18.0007, 178.9955, 3730,      2.0,  27.7580,  34.9181,2,  34.9222,2,   -999.0,9,    200.8,2,     2.95,2,     0.00,2,     0.00,2,     0.08,2,    1.736,2,    0.921,2, -999.000,9,-999.0000,9,  -999.00,9,   -999.0,9,   -999.0,9,  -999.00,9,-999.0000,-999.000, 27.7575,-999.000
      325023_1,  P14N,    89,  1,     35,     35,2,19930730,0646, 18.0007, 178.9955, 3730,     36.5,  27.7427,  34.9157,2,  34.9190,2,   -999.0,9,    200.9,2,     2.65,2,     0.00,2,     0.00,2,     0.08,2,    1.729,2,    0.937,2, -999.000,9,-999.0000,9,  -999.00,9,   -999.0,9,   -999.0,9,  -999.00,9,-999.0000,-999.000, 27.7342,-999.000
      325023_1,  P14N,    89,  1,     34,     34,2,19930730,0646, 18.0007, 178.9955, 3730,     67.0,  26.8371,  34.9186,2,  34.9163,2,   -999.0,9,    212.6,2,     2.15,2,     0.00,2,     0.00,2,     0.05,2,    1.838,2,    0.965,2, -999.000,9,-999.0000,9,  -999.00,9,   -999.0,9,   -999.0,9,  -999.00,9,-999.0000,-999.000, 26.8219,-999.000
      325023_1,  P14N,    89,  1,     33,     33,2,19930730,0646, 18.0007, 178.9955, 3730,     96.9,  24.1321,  34.8988,2,  34.8829,2,   -999.0,9,    211.7,2,     2.06,2,     0.00,2,     0.00,2,     0.10,2,    1.984,2,    1.035,2, -999.000,9,-999.0000,9,  -999.00,9,   -999.0,9,   -999.0,9,  -999.00,9,-999.0000,-999.000, 24.1117,-999.000
      325023_1,  P14N,    89,  1,     32,     32,2,19930730,0646, 18.0007, 178.9955, 3730,    127.1,  23.1327,  35.0645,2,  35.0699,2,   -999.0,9,    202.0,2,     1.98,2,     0.00,2,     0.01,2,     0.10,2,    2.097,2,    1.093,2, -999.000,9,-999.0000,9,  -999.00,9,   -999.0,9,   -999.0,9,  -999.00,9,-999.0000,-999.000, 23.1066,-999.000
      325023_1,  P14N,    89,  1,     31,     31,2,19930730,0646, 18.0007, 178.9955, 3730,    157.2,  22.1479,  35.1483,2,  35.1482,2,   -999.0,9,    193.8,2,     2.75,2,     0.17,2,     0.20,2,     0.14,2,    2.106,2,    1.077,2, -999.000,9,-999.0000,9,  -999.00,9,   -999.0,9,   -999.0,9,  -999.00,9,-999.0000,-999.000, 22.1166,-999.000
      325023_1,  P14N,    89,  1,     30,     30,2,19930730,0646, 18.0007, 178.9955, 3730,    207.5,  19.0868,  35.0166,2,  35.0045,2,   -999.0,9,    191.2,2,     3.72,2,     3.06,2,     0.01,2,     0.30,2,    2.338,6,    1.183,6, -999.000,9,-999.0000,9,  -999.00,9,   -999.0,9,   -999.0,9,  -999.00,9,-999.0000,-999.000, 19.0497,-999.000
      325023_1,  P14N,    89,  1,     29,     29,2,19930730,0646, 18.0007, 178.9955, 3730,    257.5,  16.1441,  34.7270,2,  34.7242,2,   -999.0,9,    205.0,2,     5.76,2,     5.43,2,     0.01,2,     0.42,2,    2.547,2,    1.280,2, -999.000,9,-999.0000,9,  -999.00,9,   -999.0,9,   -999.0,9,  -999.00,9,-999.0000,-999.000, 16.1031,-999.000
      325023_1,  P14N,    89,  1,     28,     28,2,19930730,0646, 18.0007, 178.9955, 3730,    307.8,  14.2368,  34.5289,2,  34.5226,2,   -999.0,9,    197.4,2,     9.49,2,     8.90,2,     0.01,2,     0.67,2,    2.473,2,    1.206,2, -999.000,9,-999.0000,9,  -999.00,9,   -999.0,9,   -999.0,9,  -999.00,9,-999.0000,-999.000, 14.1918,-999.000
      325023_1,  P14N,    89,  1,     27,     27,2,19930730,0646, 18.0007, 178.9955, 3730,    359.4,  12.2642,  34.3506,2,  34.3491,2,   -999.0,9,    188.1,2,    14.70,2,    13.00,2,     0.00,2,     0.97,2,    2.283,2,    1.091,2, -999.000,9,-999.0000,9,  -999.00,9,   -999.0,9,   -999.0,9,  -999.00,9,-999.0000,-999.000, 12.2167,-999.000
      325023_1,  P14N,    89,  1,     26,     26,2,19930730,0646, 18.0007, 178.9955, 3730,    409.7,  10.4984,  34.2309,2,  34.2289,2,   -999.0,9,    171.3,2,    22.87,2,    17.86,2,     0.00,2,     1.32,2,    1.807,2,    0.845,2, -999.000,9,-999.0000,9,  -999.00,9,   -999.0,9,   -999.0,9,  -999.00,9,-999.0000,-999.000, 10.4493,-999.000
      325023_1,  P14N,    89,  1,     25,     25,2,19930730,0646, 18.0007, 178.9955, 3730,    459.7,   9.0776,  34.1751,2,  34.1744,2,   -999.0,9,    141.0,2,    33.80,2,    23.29,2,     0.00,2,     1.72,2,    1.303,2,    0.617,2, -999.000,9,-999.0000,9,  -999.00,9,   -999.0,9,   -999.0,9,  -999.00,9,-999.0000,-999.000,  9.0272,-999.000
      325023_1,  P14N,    89,  1,     24,     24,2,19930730,0646, 18.0007, 178.9955, 3730,    510.7,   8.0592,  34.1596,2,  34.1584,2,   -999.0,9,    113.0,2,    44.51,2,    27.89,2,     0.00,2,     2.06,2,    0.831,2,    0.381,2, -999.000,9,-999.0000,9,  -999.00,9,   -999.0,9,   -999.0,9,  -999.00,9,-999.0000,-999.000,  8.0069,-999.000
      325023_1,  P14N,    89,  1,     23,     23,2,19930730,0646, 18.0007, 178.9955, 3730,    611.1,   6.2176,  34.1777,2,  34.1791,2,   -999.0,9,     69.0,2,    70.94,2,    35.19,2,     0.00,2,     2.57,2,    0.268,2,    0.125,2, -999.000,9,-999.0000,9,  -999.00,9,   -999.0,9,   -999.0,9,  -999.00,9,-999.0000,-999.000,  6.1630,-999.000
      325023_1,  P14N,    89,  1,     22,     22,2,19930730,0646, 18.0007, 178.9955, 3730,    711.5,   5.2657,  34.3127,2,  34.3146,2,   -999.0,9,     44.5,2,    87.45,3,    39.39,2,     0.00,2,     2.85,2,    0.037,2,    0.016,2, -999.000,9,-999.0000,9,  -999.00,9,   -999.0,9,   -999.0,9,  -999.00,9,-999.0000,-999.000,  5.2067,-999.000
      325023_1,  P14N,    89,  1,     21,     21,2,19930730,0646, 18.0007, 178.9955, 3730,    811.5,   5.0258,  34.4704,2,  34.4708,2,   -999.0,9,     50.4,2,    91.39,2,    39.97,2,     0.00,2,     2.87,2,    0.006,2,    0.003,2, -999.000,9,-999.0000,9,  -999.00,9,   -999.0,9,   -999.0,9,  -999.00,9,-999.0000,-999.000,  4.9591,-999.000
      325023_1,  P14N,    89,  1,     20,     20,2,19930730,0646, 18.0007, 178.9955, 3730,    912.3,   4.6303,  34.4962,2,  34.4967,2,   -999.0,9,     56.7,2,    98.12,2,    40.10,2,     0.00,2,     2.86,3,    0.001,2,    0.000,2, -999.000,9,-999.0000,9,  -999.00,9,   -999.0,9,   -999.0,9,  -999.00,9,-999.0000,-999.000,  4.5574,-999.000
      325023_1,  P14N,    89,  1,     19,     19,2,19930730,0646, 18.0007, 178.9955, 3730,   1013.2,   4.2812,  34.5185,2,  34.5190,2,   -999.0,9,     58.3,2,   104.66,2,    40.46,2,     0.00,2,     2.89,2,    0.000,2,   -0.001,2, -999.000,9,-999.0000,9,  -999.00,9,   -999.0,9,   -999.0,9,  -999.00,9,-999.0000,-999.000,  4.2022,-999.000
      325023_1,  P14N,    89,  1,     18,     18,2,19930730,0646, 18.0007, 178.9955, 3730,   1114.8,   3.9579,  34.5342,2,  34.5341,2,   -999.0,9,     62.9,2,   111.22,2,    40.46,2,     0.00,2,     2.88,2, -999.000,5, -999.000,5, -999.000,9,-999.0000,9,  -999.00,9,   -999.0,9,   -999.0,9,  -999.00,9,-999.0000,-999.000,  3.8729,-999.000
      325023_1,  P14N,    89,  1,     17,     17,2,19930730,0646, 18.0007, 178.9955, 3730,   1215.4,   3.6046,  34.5459,2,  34.5451,2,   -999.0,9,     69.2,2,   118.87,2,    40.27,2,     0.00,2,     2.86,2,    0.005,3,   -0.001,2, -999.000,9,-999.0000,9,  -999.00,9,   -999.0,9,   -999.0,9,  -999.00,9,-999.0000,-999.000,  3.5143,-999.000
      325023_1,  P14N,    89,  1,     16,     16,2,19930730,0646, 18.0007, 178.9955, 3730,   1315.8,   3.2932,  34.5580,2,  34.5574,2,   -999.0,9,     73.1,2,   125.25,2,    40.21,2,     0.00,2,     2.84,2, -999.000,5, -999.000,5, -999.000,9,-999.0000,9,  -999.00,9,   -999.0,9,   -999.0,9,  -999.00,9,-999.0000,-999.000,  3.1976,-999.000
      325023_1,  P14N,    89,  1,     15,     15,2,19930730,0646, 18.0007, 178.9955, 3730,   1417.0,   3.0425,  34.5696,2,  34.5694,2,   -999.0,9,     76.5,2,   130.35,2,    40.16,2,     0.00,2,     2.83,2, -999.000,5, -999.000,5, -999.000,9,-999.0000,9,  -999.00,9,   -999.0,9,   -999.0,9,  -999.00,9,-999.0000,-999.000,  2.9411,-999.000
      325023_1,  P14N,    89,  1,     14,     14,2,19930730,0646, 18.0007, 178.9955, 3730,   1517.8,   2.8085,  34.5801,2,  34.5798,2,   -999.0,9,     81.2,2,   135.46,2,    39.93,2,     0.00,2,     2.81,2,    0.000,2,   -0.001,2, -999.000,9,-999.0000,9,  -999.00,9,   -999.0,9,   -999.0,9,  -999.00,9,-999.0000,-999.000,  2.7014,-999.000
      325023_1,  P14N,    89,  1,     13,     13,2,19930730,0646, 18.0007, 178.9955, 3730,   1619.4,   2.5961,  34.5913,2,  34.5911,2,   -999.0,9,     85.8,2,   140.15,2,    39.74,2,     0.00,2,     2.80,2, -999.000,5, -999.000,5, -999.000,9,-999.0000,9,  -999.00,9,   -999.0,9,   -999.0,9,  -999.00,9,-999.0000,-999.000,  2.4832,-999.000
      325023_1,  P14N,    89,  1,     12,     12,2,19930730,0646, 18.0007, 178.9955, 3730,   1822.5,   2.3256,  34.6079,2,  34.6084,2,   -999.0,9,     93.4,2,   145.52,2,    39.32,2,     0.00,2,     2.76,2, -999.000,5, -999.000,5, -999.000,9,-999.0000,9,  -999.00,9,   -999.0,9,   -999.0,9,  -999.00,9,-999.0000,-999.000,  2.1993,-999.000
      325023_1,  P14N,    89,  1,     11,     11,2,19930730,0646, 18.0007, 178.9955, 3730,   2025.5,   2.0952,  34.6215,2,  34.6209,2,   -999.0,9,    100.9,2,   149.80,2,    38.81,2,     0.00,2,     2.70,2,   -0.003,2,    0.000,2, -999.000,9,-999.0000,9,  -999.00,9,   -999.0,9,   -999.0,9,  -999.00,9,-999.0000,-999.000,  1.9551,-999.000
      325023_1,  P14N,    89,  1,     10,     10,2,19930730,0646, 18.0007, 178.9955, 3730,   2229.0,   1.9240,  34.6360,2,  34.6360,2,   -999.0,9,    108.7,2,   152.55,2,    38.45,2,     0.00,2,     2.68,2, -999.000,5, -999.000,5, -999.000,9,-999.0000,9,  -999.00,9,   -999.0,9,   -999.0,9,  -999.00,9,-999.0000,-999.000,  1.7692,-999.000
      325023_1,  P14N,    89,  1,      9,      9,2,19930730,0646, 18.0007, 178.9955, 3730,   2431.0,   1.7812,  34.6456,2,  34.6460,2,   -999.0,9,    116.0,2,   154.64,2,    37.94,2,     0.00,2,     2.65,2, -999.000,5, -999.000,5, -999.000,9,-999.0000,9,  -999.00,9,   -999.0,9,   -999.0,9,  -999.00,9,-999.0000,-999.000,  1.6112,-999.000
      325023_1,  P14N,    89,  1,      8,      8,2,19930730,0646, 18.0007, 178.9955, 3730,   2633.7,   1.6970,  34.6541,2,  34.6551,2,   -999.0,9,    122.5,2,   155.17,2,    37.62,2,     0.00,2,     2.60,2, -999.000,5, -999.000,5, -999.000,9,-999.0000,9,  -999.00,9,   -999.0,9,   -999.0,9,  -999.00,9,-999.0000,-999.000,  1.5104,-999.000
      325023_1,  P14N,    89,  1,      7,      7,2,19930730,0646, 18.0007, 178.9955, 3730,   2838.5,   1.6182,  34.6615,2,  34.6617,2,   -999.0,9,    129.0,2,   155.26,2,    37.17,2,     0.00,2,     2.57,2, -999.000,5, -999.000,5, -999.000,9,-999.0000,9,  -999.00,9,   -999.0,9,   -999.0,9,  -999.00,9,-999.0000,-999.000,  1.4142,-999.000
      325023_1,  P14N,    89,  1,      6,      6,2,19930730,0646, 18.0007, 178.9955, 3730,   3042.4,   1.5701,  34.6674,2,  34.6684,2,   -999.0,9,    133.7,2,   155.79,2,    36.94,2,     0.00,2,     2.54,2,   -0.001,2,    0.000,2, -999.000,9,-999.0000,9,  -999.00,9,   -999.0,9,   -999.0,9,  -999.00,9,-999.0000,-999.000,  1.3478,-999.000
      325023_1,  P14N,    89,  1,      5,      5,2,19930730,0646, 18.0007, 178.9955, 3730,   3246.3,   1.5297,  34.6723,2,  34.6727,2,   -999.0,9,    138.4,2,   156.55,2,    36.58,2,     0.00,2,     2.53,2, -999.000,5, -999.000,5, -999.000,9,-999.0000,9,  -999.00,9,   -999.0,9,   -999.0,9,  -999.00,9,-999.0000,-999.000,  1.2883,-999.000
      325023_1,  P14N,    89,  1,      4,      4,2,19930730,0646, 18.0007, 178.9955, 3730,   3450.6,   1.5040,  34.6761,2,  34.6766,2,   -999.0,9,    142.2,2,   154.87,2,    36.35,2,     0.00,2,     2.50,2, -999.000,5, -999.000,5, -999.000,9,-999.0000,9,  -999.00,9,   -999.0,9,   -999.0,9,  -999.00,9,-999.0000,-999.000,  1.2428,-999.000
      325023_1,  P14N,    89,  1,      3,      3,2,19930730,0646, 18.0007, 178.9955, 3730,   3656.6,   1.4804,  34.6792,2,  34.6794,2,   -999.0,9,    147.0,2,   152.96,2,    35.99,2,     0.00,2,     2.47,2, -999.000,5, -999.000,5, -999.000,9,-999.0000,9,  -999.00,9,   -999.0,9,   -999.0,9,  -999.00,9,-999.0000,-999.000,  1.1986,-999.000
      325023_1,  P14N,    89,  1,      1,      1,2,19930730,0646, 18.0007, 178.9955, 3730,   3789.2,   1.4841,  34.6805,2,  34.6799,2,   -999.0,9,    147.9,2,   153.14,2,    35.93,2,     0.00,2,     2.46,2, -999.000,5, -999.000,5, -999.000,9,-999.0000,9,  -999.00,9,   -999.0,9,   -999.0,9,  -999.00,9,-999.0000,-999.000,  1.1883,-999.000
      325023_1,  P14N,    89,  1,      2,      2,2,19930730,0646, 18.0007, 178.9955, 3730,   3789.3,   1.4842,  34.6805,2,  34.6805,2,   -999.0,9,    148.1,2,   152.61,2,    35.90,2,     0.00,2,     2.47,2,    0.002,2,    0.003,2, -999.000,9,-999.0000,9,  -999.00,9,   -999.0,9,   -999.0,9,  -999.00,9,-999.0000,-999.000,  1.1884,-999.000