BOTTLE,20131125MIRCJHATS
EXPOCODE,SECT_ID,STNNBR,CASTNO,SAMPNO,BTLNBR,BTLNBR_FLAG_W,DATE,TIME,LATITUDE,LONGITUDE,DEPTH,CTDPRS,CTDTMP,CTDSAL,CTDSAL_FLAG_W,SALNTY,SALNTY_FLAG_W,CTDOXY,CTDOXY_FLAG_W,OXYGEN,OXYGEN_FLAG_W,SILCAT,SILCAT_FLAG_W,NITRAT,NITRAT_FLAG_W,NITRIT,NITRIT_FLAG_W,PHSPHT,PHSPHT_FLAG_W,CFC-11,CFC-11_FLAG_W,CFC-12,CFC-12_FLAG_W,TRITUM,TRITUM_FLAG_W,HELIUM,HELIUM_FLAG_W,DELHE3,DELHE3_FLAG_W,TCARBN,TCARBN_FLAG_W,ALKALI,ALKALI_FLAG_W,PH,PH_FLAG_W,HELIER,DELHER,THETA,TRITER
,,,,,,,,,,,,DBAR,ITS-90,PSS-78,,PSS-78,,UMOL/KG,,UMOL/KG,,UMOL/KG,,UMOL/KG,,UMOL/KG,,UMOL/KG,,PMOL/KG,,PMOL/KG,,TU,,NMOL/KG,,PERCNT,,UMOL/KG,,UMOL/KG,,25_DEG,,NMOL/KG,PERCNT,DEG C,TU
      325024_1,  P14N,   146,  1,     36,     36,2,19930819,1358, -0.7450, 179.0045, 5470,      3.3,  29.8811,  34.1869,4,  34.1265,2,   -999.0,9,    193.5,2,     2.65,2,     0.00,2,     0.00,2,     0.18,2, -999.000,5, -999.000,5, -999.000,9,-999.0000,9,  -999.00,9,   -999.0,9,   -999.0,9,  -999.00,9,-999.0000,-999.000, 29.8802,-999.000
      325024_1,  P14N,   146,  1,     35,     35,2,19930819,1358, -0.7450, 179.0045, 5470,     30.6,  30.0421,  34.7833,2,  34.7906,2,   -999.0,9,    193.6,2,     2.37,2,     0.00,2,     0.00,2,     0.20,2, -999.000,5, -999.000,5, -999.000,9,-999.0000,9,  -999.00,9,   -999.0,9,   -999.0,9,  -999.00,9,-999.0000,-999.000, 30.0346,-999.000
      325024_1,  P14N,   146,  1,     34,     34,2,19930819,1358, -0.7450, 179.0045, 5470,     60.5,  30.0169,  34.9063,2,  34.9304,2,   -999.0,9,    194.9,2,     2.28,2,     0.00,2,     0.00,2,     0.21,2, -999.000,5, -999.000,5, -999.000,9,-999.0000,9,  -999.00,9,   -999.0,9,   -999.0,9,  -999.00,9,-999.0000,-999.000, 30.0019,-999.000
      325024_1,  P14N,   146,  1,     33,     33,2,19930819,1358, -0.7450, 179.0045, 5470,     90.9,  27.3725,  35.3954,4,  35.4447,2,   -999.0,9,    163.7,2,     2.97,2,     4.61,2,     0.66,2,     0.61,2, -999.000,5, -999.000,5, -999.000,9,-999.0000,9,  -999.00,9,   -999.0,9,   -999.0,9,  -999.00,9,-999.0000,-999.000, 27.3515,-999.000
      325024_1,  P14N,   146,  1,     32,     32,2,19930819,1358, -0.7450, 179.0045, 5470,    121.8,  22.4486,  35.2962,2,  35.2971,2,   -999.0,9,    138.7,2,     5.03,2,     8.30,2,     0.03,2,     0.73,2, -999.000,5, -999.000,5, -999.000,9,-999.0000,9,  -999.00,9,   -999.0,9,   -999.0,9,  -999.00,9,-999.0000,-999.000, 22.4241,-999.000
      325024_1,  P14N,   146,  1,     31,     31,2,19930819,1358, -0.7450, 179.0045, 5470,    151.3,  21.1949,  35.3950,2,  35.3823,2,   -999.0,9,    137.9,2,     5.33,2,     9.00,2,     0.02,2,     0.78,2, -999.000,5, -999.000,5, -999.000,9,-999.0000,9,  -999.00,9,   -999.0,9,   -999.0,9,  -999.00,9,-999.0000,-999.000, 21.1657,-999.000
      325024_1,  P14N,   146,  1,     30,     30,2,19930819,1358, -0.7450, 179.0045, 5470,    203.5,  15.8844,  35.1421,4,  35.1132,2,   -999.0,9,    138.6,2,    11.27,2,    14.60,2,     0.01,2,     1.14,2, -999.000,5, -999.000,5, -999.000,9,-999.0000,9,  -999.00,9,   -999.0,9,   -999.0,9,  -999.00,9,-999.0000,-999.000, 15.8523,-999.000
      325024_1,  P14N,   146,  1,     29,     29,2,19930819,1358, -0.7450, 179.0045, 5470,    253.1,  13.4051,  34.9332,2,  34.9273,2,   -999.0,9,    131.8,2,    16.63,2,    18.55,2,     0.00,2,     1.39,2, -999.000,5, -999.000,5, -999.000,9,-999.0000,9,  -999.00,9,   -999.0,9,   -999.0,9,  -999.00,9,-999.0000,-999.000, 13.3695,-999.000
      325024_1,  P14N,   146,  1,     28,     28,2,19930819,1358, -0.7450, 179.0045, 5470,    304.0,  11.6882,  34.8245,2,  34.8222,2,   -999.0,9,    103.7,2,    21.98,2,    24.22,2,     0.00,2,     1.76,2, -999.000,5, -999.000,5, -999.000,9,-999.0000,9,  -999.00,9,   -999.0,9,   -999.0,9,  -999.00,9,-999.0000,-999.000, 11.6491,-999.000
      325024_1,  P14N,   146,  1,     27,     27,2,19930819,1358, -0.7450, 179.0045, 5470,    406.4,   9.5495,  34.6948,2,  34.6935,2,   -999.0,9,     81.6,2,    30.05,2,    30.67,2,     0.00,2,     2.15,2, -999.000,5, -999.000,5, -999.000,9,-999.0000,9,  -999.00,9,   -999.0,9,   -999.0,9,  -999.00,9,-999.0000,-999.000,  9.5034,-999.000
      325024_1,  P14N,   146,  1,     26,     26,2,19930819,1358, -0.7450, 179.0045, 5470,    506.1,   7.9394,  34.6029,2,  34.6003,2,   -999.0,9,    102.4,2,    36.18,2,    32.00,2,     0.00,2,     2.24,2, -999.000,5, -999.000,5, -999.000,9,-999.0000,9,  -999.00,9,   -999.0,9,   -999.0,9,  -999.00,9,-999.0000,-999.000,  7.8877,-999.000
      325024_1,  P14N,   146,  1,     25,     25,2,19930819,1358, -0.7450, 179.0045, 5470,    604.8,   6.9802,  34.5726,2,  34.5715,2,   -999.0,9,     75.1,2,    48.33,2,    36.87,2,     0.00,2,     2.59,2, -999.000,5, -999.000,5, -999.000,9,-999.0000,9,  -999.00,9,   -999.0,9,   -999.0,9,  -999.00,9,-999.0000,-999.000,  6.9224,-999.000
      325024_1,  P14N,   146,  1,     24,     24,2,19930819,1358, -0.7450, 179.0045, 5470,    705.8,   5.9856,  34.5511,2,  34.5501,2,   -999.0,9,     73.5,2,    60.88,2,    38.96,2,     0.00,2,     2.74,2, -999.000,5, -999.000,5, -999.000,9,-999.0000,9,  -999.00,9,   -999.0,9,   -999.0,9,  -999.00,9,-999.0000,-999.000,  5.9229,-999.000
      325024_1,  P14N,   146,  1,     23,     23,2,19930819,1358, -0.7450, 179.0045, 5470,    805.4,   5.4999,  34.5440,2,  34.5430,2,   -999.0,9,     81.8,2,    67.40,2,    38.79,2,     0.00,2,     2.74,2, -999.000,5, -999.000,5, -999.000,9,-999.0000,9,  -999.00,9,   -999.0,9,   -999.0,9,  -999.00,9,-999.0000,-999.000,  5.4308,-999.000
      325024_1,  P14N,   146,  1,     22,     22,2,19930819,1358, -0.7450, 179.0045, 5470,    906.9,   4.9328,  34.5445,2,  34.5434,2,   -999.0,9,     89.4,2,    76.48,2,    38.61,2,     0.00,2,     2.74,2, -999.000,5, -999.000,5, -999.000,9,-999.0000,9,  -999.00,9,   -999.0,9,   -999.0,9,  -999.00,9,-999.0000,-999.000,  4.8583,-999.000
      325024_1,  P14N,   146,  1,     21,     21,2,19930819,1358, -0.7450, 179.0045, 5470,   1007.4,   4.6066,  34.5526,2,  34.5520,2,   -999.0,9,     84.4,2,    84.59,2,    39.42,2,     0.00,2,     2.80,2, -999.000,5, -999.000,5, -999.000,9,-999.0000,9,  -999.00,9,   -999.0,9,   -999.0,9,  -999.00,9,-999.0000,-999.000,  4.5256,-999.000
      325024_1,  P14N,   146,  1,     20,     20,2,19930819,1358, -0.7450, 179.0045, 5470,   1109.1,   4.2196,  34.5611,2,  34.5605,2,   -999.0,9,     86.4,2,    93.12,2,    39.52,2,     0.00,2,     2.80,2, -999.000,5, -999.000,5, -999.000,9,-999.0000,9,  -999.00,9,   -999.0,9,   -999.0,9,  -999.00,9,-999.0000,-999.000,  4.1328,-999.000
      325024_1,  P14N,   146,  1,     19,     19,2,19930819,1358, -0.7450, 179.0045, 5470,   1209.8,   3.8896,  34.5692,2,  34.5675,2,   -999.0,9,     94.8,2,    98.33,2,    38.89,2,     0.00,2,     2.77,2, -999.000,5, -999.000,5, -999.000,9,-999.0000,9,  -999.00,9,   -999.0,9,   -999.0,9,  -999.00,9,-999.0000,-999.000,  3.7971,-999.000
      325024_1,  P14N,   146,  1,     18,     18,2,19930819,1358, -0.7450, 179.0045, 5470,   1412.5,   3.3375,  34.5907,2,  34.5893,2,   -999.0,9,     91.1,2,   113.08,2,    39.75,2,     0.00,2,     2.83,2, -999.000,5, -999.000,5, -999.000,9,-999.0000,9,  -999.00,9,   -999.0,9,   -999.0,9,  -999.00,9,-999.0000,-999.000,  3.2332,-999.000
      325024_1,  P14N,   146,  1,     17,     17,2,19930819,1358, -0.7450, 179.0045, 5470,   1615.7,   2.7737,  34.6129,2,  34.6095,2,   -999.0,9,    100.8,2,   125.36,2,    39.21,2,     0.00,2,     2.78,2, -999.000,5, -999.000,5, -999.000,9,-999.0000,9,  -999.00,9,   -999.0,9,   -999.0,9,  -999.00,9,-999.0000,-999.000,  2.6588,-999.000
      325024_1,  P14N,   146,  1,     16,     16,2,19930819,1358, -0.7450, 179.0045, 5470,   1817.7,   2.4850,  34.6268,2,  34.6250,2,   -999.0,9,    107.0,2,   132.09,2,    38.94,2,     0.00,2,     2.75,2, -999.000,5, -999.000,5, -999.000,9,-999.0000,9,  -999.00,9,   -999.0,9,   -999.0,9,  -999.00,9,-999.0000,-999.000,  2.3569,-999.000
      325024_1,  P14N,   146,  1,     15,     15,2,19930819,1358, -0.7450, 179.0045, 5470,   2021.4,   2.2084,  34.6419,2,  34.6399,2,   -999.0,9,    114.6,2,   137.64,2,    38.45,2,     0.00,2,     2.70,2, -999.000,5, -999.000,5, -999.000,9,-999.0000,9,  -999.00,9,   -999.0,9,   -999.0,9,  -999.00,9,-999.0000,-999.000,  2.0669,-999.000
      325024_1,  P14N,   146,  1,     14,     14,2,19930819,1358, -0.7450, 179.0045, 5470,   2225.1,   2.0036,  34.6514,2,  34.6501,2,   -999.0,9,    119.4,2,   142.81,2,    38.18,2,     0.00,2,     2.67,2, -999.000,5, -999.000,5, -999.000,9,-999.0000,9,  -999.00,9,   -999.0,9,   -999.0,9,  -999.00,9,-999.0000,-999.000,  1.8478,-999.000
      325024_1,  P14N,   146,  1,     13,     13,2,19930819,1358, -0.7450, 179.0045, 5470,   2428.5,   1.8411,  34.6604,2,  34.6593,2,   -999.0,9,    125.9,2,   145.53,2,    37.82,2,     0.00,2,     2.64,2, -999.000,5, -999.000,5, -999.000,9,-999.0000,9,  -999.00,9,   -999.0,9,   -999.0,9,  -999.00,9,-999.0000,-999.000,  1.6702,-999.000
      325024_1,  P14N,   146,  1,     12,     12,2,19930819,1358, -0.7450, 179.0045, 5470,   2632.2,   1.7796,  34.6630,2,  34.6621,2,   -999.0,9,    130.0,2,   145.80,2,    37.47,2,     0.00,2,     2.61,2, -999.000,5, -999.000,5, -999.000,9,-999.0000,9,  -999.00,9,   -999.0,9,   -999.0,9,  -999.00,9,-999.0000,-999.000,  1.5914,-999.000
      325024_1,  P14N,   146,  1,     11,     11,2,19930819,1358, -0.7450, 179.0045, 5470,   2835.4,   1.7087,  34.6671,2,  34.6658,2,   -999.0,9,    134.0,2,   145.66,2,    37.12,2,     0.00,2,     2.58,2, -999.000,5, -999.000,5, -999.000,9,-999.0000,9,  -999.00,9,   -999.0,9,   -999.0,9,  -999.00,9,-999.0000,-999.000,  1.5031,-999.000
      325024_1,  P14N,   146,  1,     10,     10,2,19930819,1358, -0.7450, 179.0045, 5470,   3039.1,   1.6620,  34.6704,2,  34.6684,2,   -999.0,9,    137.1,2,   145.51,2,    36.94,2,     0.00,2,     2.58,2, -999.000,5, -999.000,5, -999.000,9,-999.0000,9,  -999.00,9,   -999.0,9,   -999.0,9,  -999.00,9,-999.0000,-999.000,  1.4379,-999.000
      325024_1,  P14N,   146,  1,      9,      9,2,19930819,1358, -0.7450, 179.0045, 5470,   3345.0,   1.5686,  34.6768,2,  34.6748,2,   -999.0,9,    145.5,2,   144.14,2,    36.37,2,     0.00,2,     2.53,2, -999.000,5, -999.000,5, -999.000,9,-999.0000,9,  -999.00,9,   -999.0,9,   -999.0,9,  -999.00,9,-999.0000,-999.000,  1.3165,-999.000
      325024_1,  P14N,   146,  1,      8,      8,2,19930819,1358, -0.7450, 179.0045, 5470,   3651.7,   1.4897,  34.6836,2,  34.6819,2,   -999.0,9,    154.9,2,   141.95,2,    35.75,2,     0.00,2,     2.48,2, -999.000,5, -999.000,5, -999.000,9,-999.0000,9,  -999.00,9,   -999.0,9,   -999.0,9,  -999.00,9,-999.0000,-999.000,  1.2082,-999.000
      325024_1,  P14N,   146,  1,      7,      7,2,19930819,1358, -0.7450, 179.0045, 5470,   3957.4,   1.4153,  34.6904,2,  34.6884,2,   -999.0,9,    164.6,2,   143.85,2,    35.05,2,     0.00,2,     2.43,2, -999.000,5, -999.000,5, -999.000,9,-999.0000,9,  -999.00,9,   -999.0,9,   -999.0,9,  -999.00,9,-999.0000,-999.000,  1.1033,-999.000
      325024_1,  P14N,   146,  1,      6,      6,2,19930819,1358, -0.7450, 179.0045, 5470,   4265.0,   1.3469,  34.6959,2,  34.6951,2,   -999.0,9,    174.7,2,   135.57,2,    34.40,2,     0.00,2,     2.36,2, -999.000,5, -999.000,5, -999.000,9,-999.0000,9,  -999.00,9,   -999.0,9,   -999.0,9,  -999.00,9,-999.0000,-999.000,  1.0032,-999.000
      325024_1,  P14N,   146,  1,      5,      5,2,19930819,1358, -0.7450, 179.0045, 5470,   4572.4,   1.2705,  34.7008,2,  34.7000,2,   -999.0,9,    186.2,2,   129.38,2,    33.53,2,     0.00,2,     2.31,2, -999.000,5, -999.000,5, -999.000,9,-999.0000,9,  -999.00,9,   -999.0,9,   -999.0,9,  -999.00,9,-999.0000,-999.000,  0.8942,-999.000
      325024_1,  P14N,   146,  1,      4,      4,2,19930819,1358, -0.7450, 179.0045, 5470,   4880.7,   1.2557,  34.7033,2,  34.7019,2,   -999.0,9,    191.5,2,   127.43,2,    33.14,2,     0.00,2,     2.28,2, -999.000,5, -999.000,5, -999.000,9,-999.0000,9,  -999.00,9,   -999.0,9,   -999.0,9,  -999.00,9,-999.0000,-999.000,  0.8439,-999.000
      325024_1,  P14N,   146,  1,      3,      3,2,19930819,1358, -0.7450, 179.0045, 5470,   5194.2,   1.2720,  34.7039,2,  34.7029,2,   -999.0,9,    193.5,2,   126.29,2,    32.97,2,     0.00,2,     2.27,2, -999.000,5, -999.000,5, -999.000,9,-999.0000,9,  -999.00,9,   -999.0,9,   -999.0,9,  -999.00,9,-999.0000,-999.000,  0.8217,-999.000
      325024_1,  P14N,   146,  1,      2,      2,2,19930819,1358, -0.7450, 179.0045, 5470,   5527.6,   1.3066,  34.7049,2,  34.7039,2,   -999.0,9,    194.6,2,   125.36,2,    32.84,2,     0.00,2,     2.25,2, -999.000,5, -999.000,5, -999.000,9,-999.0000,9,  -999.00,9,   -999.0,9,   -999.0,9,  -999.00,9,-999.0000,-999.000,  0.8135,-999.000
      325024_1,  P14N,   146,  1,      1,      1,2,19930819,1358, -0.7450, 179.0045, 5470,   5527.8,   1.3065,  34.7049,2,  34.7033,2,   -999.0,9,    194.0,2,   125.22,2,    32.84,2,     0.00,2,     2.25,2, -999.000,5, -999.000,5, -999.000,9,-999.0000,9,  -999.00,9,   -999.0,9,   -999.0,9,  -999.00,9,-999.0000,-999.000,  0.8134,-999.000