BOTTLE,20131125MIRCJHATS
EXPOCODE,SECT_ID,STNNBR,CASTNO,SAMPNO,BTLNBR,BTLNBR_FLAG_W,DATE,TIME,LATITUDE,LONGITUDE,DEPTH,CTDPRS,CTDTMP,CTDSAL,CTDSAL_FLAG_W,SALNTY,SALNTY_FLAG_W,CTDOXY,CTDOXY_FLAG_W,OXYGEN,OXYGEN_FLAG_W,SILCAT,SILCAT_FLAG_W,NITRAT,NITRAT_FLAG_W,NITRIT,NITRIT_FLAG_W,PHSPHT,PHSPHT_FLAG_W,CFC-11,CFC-11_FLAG_W,CFC-12,CFC-12_FLAG_W,TRITUM,TRITUM_FLAG_W,HELIUM,HELIUM_FLAG_W,DELHE3,DELHE3_FLAG_W,TCARBN,TCARBN_FLAG_W,ALKALI,ALKALI_FLAG_W,PH,PH_FLAG_W,HELIER,DELHER,THETA,TRITER
,,,,,,,,,,,,DBAR,ITS-90,PSS-78,,PSS-78,,UMOL/KG,,UMOL/KG,,UMOL/KG,,UMOL/KG,,UMOL/KG,,UMOL/KG,,PMOL/KG,,PMOL/KG,,TU,,NMOL/KG,,PERCNT,,UMOL/KG,,UMOL/KG,,25_DEG,,NMOL/KG,PERCNT,DEG C,TU
      325024_1,  P14N,   802,  1,     36,     36,2,19930818,1255,  0.0013, 179.4973, 5449,      2.2,  30.4891,  34.4149,2,  34.4256,2,   -999.0,9,    194.8,2,     3.45,2,     0.04,2,     0.00,2,     0.16,2,    1.540,2,    0.846,2, -999.000,9,-999.0000,9,  -999.00,9,   -999.0,9,   -999.0,9,  -999.00,9,-999.0000,-999.000, 30.4885,-999.000
      325024_1,  P14N,   802,  1,     35,     35,2,19930818,1255,  0.0013, 179.4973, 5449,     33.2,  30.2917,  34.5135,2,  34.5138,2,   -999.0,9,    195.0,2,     3.19,2,     0.04,2,     0.00,2,     0.17,2,    1.530,2,    0.841,2, -999.000,9,-999.0000,9,  -999.00,9,   -999.0,9,   -999.0,9,  -999.00,9,-999.0000,-999.000, 30.2834,-999.000
      325024_1,  P14N,   802,  1,     34,     34,2,19930818,1255,  0.0013, 179.4973, 5449,     63.1,  30.1902,  34.7417,2,  34.7274,2,   -999.0,9,    198.6,2,     2.73,2,     0.04,2,     0.00,2,     0.19,2,    1.534,2,    0.845,2, -999.000,9,-999.0000,9,  -999.00,9,   -999.0,9,   -999.0,9,  -999.00,9,-999.0000,-999.000, 30.1745,-999.000
      325024_1,  P14N,   802,  1,     33,     33,2,19930818,1255,  0.0013, 179.4973, 5449,     98.9,  25.1368,  35.3103,2,  35.2515,2,   -999.0,9,    150.8,2,     4.83,2,     7.13,2,     0.42,2,     0.65,2,    1.575,2,    0.826,2, -999.000,9,-999.0000,9,  -999.00,9,   -999.0,9,   -999.0,9,  -999.00,9,-999.0000,-999.000, 25.1152,-999.000
      325024_1,  P14N,   802,  1,     32,     32,2,19930818,1255,  0.0013, 179.4973, 5449,    127.0,  22.3353,  35.2668,2,  35.2558,2,   -999.0,9,    138.5,2,     5.95,2,     8.81,2,     0.08,2,     0.73,2,    1.561,2,    0.829,2, -999.000,9,-999.0000,9,  -999.00,9,   -999.0,9,   -999.0,9,  -999.00,9,-999.0000,-999.000, 22.3099,-999.000
      325024_1,  P14N,   802,  1,     31,     31,2,19930818,1255,  0.0013, 179.4973, 5449,    150.0,  21.7177,  35.1857,2,  35.1932,2,   -999.0,9,    137.3,2,     6.47,2,     8.97,2,     0.05,2,     0.73,2,    1.551,2,    0.817,2, -999.000,9,-999.0000,9,  -999.00,9,   -999.0,9,   -999.0,9,  -999.00,9,-999.0000,-999.000, 21.6883,-999.000
      325024_1,  P14N,   802,  1,     30,     30,2,19930818,1255,  0.0013, 179.4973, 5449,    193.8,  17.8804,  35.2421,2,  35.2243,2,   -999.0,9,    137.9,2,     9.35,2,    12.70,2,     0.01,2,     0.99,2,    1.295,2,    0.669,2, -999.000,9,-999.0000,9,  -999.00,9,   -999.0,9,   -999.0,9,  -999.00,9,-999.0000,-999.000, 17.8472,-999.000
      325024_1,  P14N,   802,  1,     29,     29,2,19930818,1255,  0.0013, 179.4973, 5449,    255.1,  13.6112,  34.8948,2,  34.8886,2,   -999.0,9,    133.7,2,    17.92,2,    18.29,2,     0.01,2,     1.35,2,    0.975,2,    0.488,2, -999.000,9,-999.0000,9,  -999.00,9,   -999.0,9,   -999.0,9,  -999.00,9,-999.0000,-999.000, 13.5750,-999.000
      325024_1,  P14N,   802,  1,     28,     28,2,19930818,1255,  0.0013, 179.4973, 5449,    309.4,  11.5442,  34.7935,2,  34.8046,2,   -999.0,9,     97.1,2,    23.74,2,    25.34,2,     0.00,2,     1.80,2,    0.503,2,    0.260,2, -999.000,9,-999.0000,9,  -999.00,9,   -999.0,9,   -999.0,9,  -999.00,9,-999.0000,-999.000, 11.5047,-999.000
      325024_1,  P14N,   802,  1,     26,     26,2,19930818,1255,  0.0013, 179.4973, 5449,    409.6,   9.2829,  34.6759,2,  34.6744,2,   -999.0,9,     83.6,2,    32.04,2,    31.10,2,     0.00,2,     2.17,2,    0.172,2,    0.098,2, -999.000,9,-999.0000,9,  -999.00,9,   -999.0,9,   -999.0,9,  -999.00,9,-999.0000,-999.000,  9.2372,-999.000
      325024_1,  P14N,   802,  1,     27,     27,2,19930818,1255,  0.0013, 179.4973, 5449,    410.2,   9.2898,  34.6760,2,  34.6750,2,   -999.0,9,     83.3,2,    32.11,2,    31.14,2,     0.01,2,     2.17,2,    0.175,2,    0.089,2, -999.000,9,-999.0000,9,  -999.00,9,   -999.0,9,   -999.0,9,  -999.00,9,-999.0000,-999.000,  9.2440,-999.000
      325024_1,  P14N,   802,  1,     25,     25,2,19930818,1255,  0.0013, 179.4973, 5449,    509.6,   7.9468,  34.6014,2,  34.5999,2,   -999.0,9,    104.2,2,    36.88,2,    31.74,2,     0.01,2,     2.21,2,    0.114,2,    0.056,2, -999.000,9,-999.0000,9,  -999.00,9,   -999.0,9,   -999.0,9,  -999.00,9,-999.0000,-999.000,  7.8947,-999.000
      325024_1,  P14N,   802,  1,     24,     24,2,19930818,1255,  0.0013, 179.4973, 5449,    609.3,   6.9489,  34.5678,2,  34.5669,2,   -999.0,9,     83.3,2,    48.59,2,    35.98,2,     0.00,2,     2.52,2,    0.029,2,    0.011,2, -999.000,9,-999.0000,9,  -999.00,9,   -999.0,9,   -999.0,9,  -999.00,9,-999.0000,-999.000,  6.8908,-999.000
      325024_1,  P14N,   802,  1,     23,     23,2,19930818,1255,  0.0013, 179.4973, 5449,    710.8,   5.8115,  34.5505,2,  34.5501,2,   -999.0,9,     71.4,2,    64.84,2,    39.20,2,     0.00,2,     2.75,2,    0.001,2,    0.000,2, -999.000,9,-999.0000,9,  -999.00,9,   -999.0,9,   -999.0,9,  -999.00,9,-999.0000,-999.000,  5.7493,-999.000
      325024_1,  P14N,   802,  1,     22,     22,2,19930818,1255,  0.0013, 179.4973, 5449,    811.7,   5.3015,  34.5437,2,  34.5428,2,   -999.0,9,     83.8,2,    71.28,2,    38.52,2,     0.00,2,     2.72,2,    0.002,2,    0.000,2, -999.000,9,-999.0000,9,  -999.00,9,   -999.0,9,   -999.0,9,  -999.00,9,-999.0000,-999.000,  5.2330,-999.000
      325024_1,  P14N,   802,  1,     21,     21,2,19930818,1255,  0.0013, 179.4973, 5449,    913.4,   4.9627,  34.5463,2,  34.5473,2,   -999.0,9,     85.0,2,    77.92,2,    38.75,2,     0.00,2,     2.74,2,    0.000,2,    0.001,2, -999.000,9,-999.0000,9,  -999.00,9,   -999.0,9,   -999.0,9,  -999.00,9,-999.0000,-999.000,  4.8874,-999.000
      325024_1,  P14N,   802,  1,     20,     20,2,19930818,1255,  0.0013, 179.4973, 5449,   1014.0,   4.6458,  34.5526,2,  34.5522,2,   -999.0,9,     82.7,2,    85.37,2,    39.20,2,     0.00,2,     2.79,2,    0.003,4,    0.000,2, -999.000,9,-999.0000,9,  -999.00,9,   -999.0,9,   -999.0,9,  -999.00,9,-999.0000,-999.000,  4.5638,-999.000
      325024_1,  P14N,   802,  1,     19,     19,2,19930818,1255,  0.0013, 179.4973, 5449,   1215.3,   3.8630,  34.5708,2,  34.5697,2,   -999.0,9,     93.2,2,   101.01,2,    38.75,2,     0.00,2,     2.76,2, -999.000,5, -999.000,5, -999.000,9,-999.0000,9,  -999.00,9,   -999.0,9,   -999.0,9,  -999.00,9,-999.0000,-999.000,  3.7702,-999.000
      325024_1,  P14N,   802,  1,     18,     18,2,19930818,1255,  0.0013, 179.4973, 5449,   1416.8,   3.4259,  34.5876,2,  34.5866,2,   -999.0,9,     90.6,2,   112.76,2,    39.11,2,     0.00,2,     2.82,2, -999.000,5, -999.000,5, -999.000,9,-999.0000,9,  -999.00,9,   -999.0,9,   -999.0,9,  -999.00,9,-999.0000,-999.000,  3.3203,-999.000
      325024_1,  P14N,   802,  1,     17,     17,2,19930818,1255,  0.0013, 179.4973, 5449,   1618.5,   2.8159,  34.6106,2,  34.6091,2,   -999.0,9,    101.3,2,   125.62,2,    38.79,2,     0.00,2,     2.77,2, -999.000,5, -999.000,5, -999.000,9,-999.0000,9,  -999.00,9,   -999.0,9,   -999.0,9,  -999.00,9,-999.0000,-999.000,  2.7002,-999.000
      325024_1,  P14N,   802,  1,     16,     16,2,19930818,1255,  0.0013, 179.4973, 5449,   1821.6,   2.5281,  34.6254,2,  34.6248,2,   -999.0,9,    103.7,2,   133.91,2,    38.83,2,     0.00,2,     2.76,2,   -0.002,2,    0.001,2, -999.000,9,-999.0000,9,  -999.00,9,   -999.0,9,   -999.0,9,  -999.00,9,-999.0000,-999.000,  2.3990,-999.000
      325024_1,  P14N,   802,  1,     15,     15,2,19930818,1255,  0.0013, 179.4973, 5449,   2025.0,   2.2250,  34.6402,2,  34.6395,2,   -999.0,9,    111.9,2,   139.78,2,    38.29,2,     0.00,2,     2.71,2, -999.000,5, -999.000,5, -999.000,9,-999.0000,9,  -999.00,9,   -999.0,9,   -999.0,9,  -999.00,9,-999.0000,-999.000,  2.0829,-999.000
      325024_1,  P14N,   802,  1,     14,     14,2,19930818,1255,  0.0013, 179.4973, 5449,   2228.8,   2.0457,  34.6501,2,  34.6495,2,   -999.0,9,    116.9,2,   144.03,2,    38.11,2,     0.00,2,     2.68,2, -999.000,5, -999.000,5, -999.000,9,-999.0000,9,  -999.00,9,   -999.0,9,   -999.0,9,  -999.00,9,-999.0000,-999.000,  1.8889,-999.000
      325024_1,  P14N,   802,  1,     13,     13,2,19930818,1255,  0.0013, 179.4973, 5449,   2431.9,   1.9363,  34.6545,2,  34.6548,2,   -999.0,9,    122.3,2,   145.39,2,    37.53,2,     0.00,2,     2.62,2, -999.000,5, -999.000,5, -999.000,9,-999.0000,9,  -999.00,9,   -999.0,9,   -999.0,9,  -999.00,9,-999.0000,-999.000,  1.7633,-999.000
      325024_1,  P14N,   802,  1,     12,     12,2,19930818,1255,  0.0013, 179.4973, 5449,   2634.6,   1.8134,  34.6628,2,  34.6637,2,   -999.0,9,    126.8,2,   148.00,2,    37.35,2,     0.00,2,     2.62,2, -999.000,5, -999.000,5, -999.000,9,-999.0000,9,  -999.00,9,   -999.0,9,   -999.0,9,  -999.00,9,-999.0000,-999.000,  1.6243,-999.000
      325024_1,  P14N,   802,  1,     11,     11,2,19930818,1255,  0.0013, 179.4973, 5449,   2836.5,   1.7478,  34.6655,2,  34.6654,2,   -999.0,9,    130.9,2,   147.71,2,    36.99,2,     0.00,2,     2.58,2, -999.000,5, -999.000,5, -999.000,9,-999.0000,9,  -999.00,9,   -999.0,9,   -999.0,9,  -999.00,9,-999.0000,-999.000,  1.5412,-999.000
      325024_1,  P14N,   802,  1,     10,     10,2,19930818,1255,  0.0013, 179.4973, 5449,   3039.7,   1.6819,  34.6702,2,  34.6697,2,   -999.0,9,    136.0,2,   147.83,2,    36.63,2,     0.00,2,     2.57,2, -999.000,5, -999.000,5, -999.000,9,-999.0000,9,  -999.00,9,   -999.0,9,   -999.0,9,  -999.00,9,-999.0000,-999.000,  1.4573,-999.000
      325024_1,  P14N,   802,  1,      9,      9,2,19930818,1255,  0.0013, 179.4973, 5449,   3347.9,   1.5673,  34.6766,2,  34.6760,2,   -999.0,9,    145.3,2,   146.29,2,    35.92,2,     0.00,2,     2.53,2, -999.000,5, -999.000,5, -999.000,9,-999.0000,9,  -999.00,9,   -999.0,9,   -999.0,9,  -999.00,9,-999.0000,-999.000,  1.3150,-999.000
      325024_1,  P14N,   802,  1,      8,      8,2,19930818,1255,  0.0013, 179.4973, 5449,   3655.8,   1.5130,  34.6819,2,  34.6817,2,   -999.0,9,    152.4,2,   144.96,2,    35.44,2,     0.00,2,     2.49,2,    0.000,2,   -0.002,2, -999.000,9,-999.0000,9,  -999.00,9,   -999.0,9,   -999.0,9,  -999.00,9,-999.0000,-999.000,  1.2304,-999.000
      325024_1,  P14N,   802,  1,      7,      7,2,19930818,1255,  0.0013, 179.4973, 5449,   3961.7,   1.4072,  34.6908,2,  34.6909,2,   -999.0,9,    165.8,2,   140.74,2,    34.60,2,     0.00,2,     2.42,2, -999.000,5, -999.000,5, -999.000,9,-999.0000,9,  -999.00,9,   -999.0,9,   -999.0,9,  -999.00,9,-999.0000,-999.000,  1.0950,-999.000
      325024_1,  P14N,   802,  1,      6,      6,2,19930818,1255,  0.0013, 179.4973, 5449,   4266.9,   1.3269,  34.6969,2,  34.6970,2,   -999.0,9,    176.9,2,   136.34,2,    33.77,2,     0.00,2,     2.36,2, -999.000,5, -999.000,5, -999.000,9,-999.0000,9,  -999.00,9,   -999.0,9,   -999.0,9,  -999.00,9,-999.0000,-999.000,  0.9836,-999.000
      325024_1,  P14N,   802,  1,      5,      5,2,19930818,1255,  0.0013, 179.4973, 5449,   4572.0,   1.2666,  34.7012,2,  34.7013,2,   -999.0,9,    186.0,2,   131.14,2,    33.16,2,     0.00,2,     2.29,2, -999.000,5, -999.000,5, -999.000,9,-999.0000,9,  -999.00,9,   -999.0,9,   -999.0,9,  -999.00,9,-999.0000,-999.000,  0.8905,-999.000
      325024_1,  P14N,   802,  1,      4,      4,2,19930818,1255,  0.0013, 179.4973, 5449,   4879.7,   1.2405,  34.7041,2,  34.7045,2,   -999.0,9,    192.4,2,   128.21,2,    32.68,2,     0.00,2,     2.26,2, -999.000,5, -999.000,5, -999.000,9,-999.0000,9,  -999.00,9,   -999.0,9,   -999.0,9,  -999.00,9,-999.0000,-999.000,  0.8293,-999.000
      325024_1,  P14N,   802,  1,      3,      3,2,19930818,1255,  0.0013, 179.4973, 5449,   5190.2,   1.2678,  34.7039,2,  34.7045,2,   -999.0,9,    193.9,2,   127.72,2,    32.64,2,     0.00,2,     2.25,2, -999.000,5, -999.000,5, -999.000,9,-999.0000,9,  -999.00,9,   -999.0,9,   -999.0,9,  -999.00,9,-999.0000,-999.000,  0.8182,-999.000
      325024_1,  P14N,   802,  1,      1,      1,2,19930818,1255,  0.0013, 179.4973, 5449,   5399.5,   1.2916,  34.7043,2,  34.7049,2,   -999.0,9,    192.2,2,   127.55,2,    32.55,2,     0.00,2,     2.25,2,   -0.003,2,   -0.002,2, -999.000,9,-999.0000,9,  -999.00,9,   -999.0,9,   -999.0,9,  -999.00,9,-999.0000,-999.000,  0.8152,-999.000
      325024_1,  P14N,   802,  1,      2,      2,2,19930818,1255,  0.0013, 179.4973, 5449,   5399.8,   1.2917,  34.7042,2,  34.7049,2,   -999.0,9,    194.2,2,   127.64,2,    32.59,2,     0.00,2,     2.25,2, -999.000,5, -999.000,5, -999.000,9,-999.0000,9,  -999.00,9,   -999.0,9,   -999.0,9,  -999.00,9,-999.0000,-999.000,  0.8153,-999.000