BOTTLE,20131125MIRCJHATS
EXPOCODE,SECT_ID,STNNBR,CASTNO,SAMPNO,BTLNBR,BTLNBR_FLAG_W,DATE,TIME,LATITUDE,LONGITUDE,DEPTH,CTDPRS,CTDTMP,CTDSAL,CTDSAL_FLAG_W,SALNTY,SALNTY_FLAG_W,CTDOXY,CTDOXY_FLAG_W,OXYGEN,OXYGEN_FLAG_W,SILCAT,SILCAT_FLAG_W,NITRAT,NITRAT_FLAG_W,NITRIT,NITRIT_FLAG_W,PHSPHT,PHSPHT_FLAG_W,CFC-11,CFC-11_FLAG_W,CFC-12,CFC-12_FLAG_W,TRITUM,TRITUM_FLAG_W,HELIUM,HELIUM_FLAG_W,DELHE3,DELHE3_FLAG_W,TCARBN,TCARBN_FLAG_W,ALKALI,ALKALI_FLAG_W,PH,PH_FLAG_W,HELIER,DELHER,THETA,TRITER
,,,,,,,,,,,,DBAR,ITS-90,PSS-78,,PSS-78,,UMOL/KG,,UMOL/KG,,UMOL/KG,,UMOL/KG,,UMOL/KG,,UMOL/KG,,PMOL/KG,,PMOL/KG,,TU,,NMOL/KG,,PERCNT,,UMOL/KG,,UMOL/KG,,25_DEG,,NMOL/KG,PERCNT,DEG C,TU
      325023_1,  P14N,    11,  1,     36,     36,2,19930709,0910, 54.0003,-177.9030, 3803,      2.7,   7.0111,  32.9502,2,  32.9515,2,   -999.0,9,    311.7,2,    29.46,2,    15.03,2,     0.16,2,     1.43,2,    4.801,2,    2.351,2, -999.000,9,-999.0000,9,  -999.00,9,   -999.0,9,   -999.0,9,  -999.00,9,-999.0000,-999.000,  7.0108,-999.000
      325023_1,  P14N,    11,  1,     35,     35,2,19930709,0910, 54.0003,-177.9030, 3803,     36.0,   5.9547,  33.0405,4,  33.0732,2,   -999.0,9,    310.7,2,    32.70,2,    18.75,2,     0.32,2,     1.81,2, -999.000,5, -999.000,5, -999.000,9,-999.0000,9,  -999.00,9,   2092.6,2,   2245.9,2,  -999.00,9,-999.0000,-999.000,  5.9518,-999.000
      325023_1,  P14N,    11,  1,     34,     34,2,19930709,0910, 54.0003,-177.9030, 3803,     66.4,   3.1786,  33.1896,2,  33.1953,2,   -999.0,9,    287.4,2,    58.66,2,    28.81,2,     0.22,2,     2.28,2,    5.259,2,    2.522,2, -999.000,9,-999.0000,9,  -999.00,9,   2150.8,2,   2234.1,2,  -999.00,9,-999.0000,-999.000,  3.1747,-999.000
      325023_1,  P14N,    11,  1,     33,     33,2,19930709,0910, 54.0003,-177.9030, 3803,     96.0,   2.5697,  33.1968,2,  33.1975,2,   -999.0,9,    314.6,2,    59.04,2,    28.77,2,     0.06,2,     2.25,2, -999.000,5, -999.000,5, -999.000,9,-999.0000,9,  -999.00,9,   2140.7,2,   -999.0,9,  -999.00,9,-999.0000,-999.000,  2.5645,-999.000
      325023_1,  P14N,    11,  1,     32,     32,2,19930709,0910, 54.0003,-177.9030, 3803,    127.1,   2.6852,  33.2379,2,  33.2435,2,   -999.0,9,    294.9,2,    62.02,2,    30.13,2,     0.02,2,     2.31,2,    5.329,2,    2.592,2, -999.000,9,-999.0000,9,  -999.00,9,   2157.4,2,   -999.0,9,  -999.00,9,-999.0000,-999.000,  2.6781,-999.000
      325023_1,  P14N,    11,  1,     31,     31,2,19930709,0910, 54.0003,-177.9030, 3803,    156.9,   1.9869,  33.2076,2,  33.2150,2,   -999.0,9,    313.1,2,    59.09,2,    29.07,2,     0.02,2,     2.26,2,    5.811,2,    2.802,2, -999.000,9,-999.0000,9,  -999.00,9,   2144.2,2,   2241.7,2,  -999.00,9,-999.0000,-999.000,  1.9790,-999.000
      325023_1,  P14N,    11,  1,     30,     30,2,19930709,0910, 54.0003,-177.9030, 3803,    207.6,   3.1599,  33.4413,2,  33.4625,2,   -999.0,9,    201.1,2,    75.53,2,    34.47,2,     0.02,2,     2.57,2,    3.817,2,    1.840,2, -999.000,9,-999.0000,9,  -999.00,9,   2214.8,2,   2267.7,2,  -999.00,9,-999.0000,-999.000,  3.1473,-999.000
      325023_1,  P14N,    11,  1,     29,     29,2,19930709,0910, 54.0003,-177.9030, 3803,    258.0,   3.7106,  33.6535,2,  33.6554,2,   -999.0,9,    127.6,2,    87.73,2,    38.04,2,     0.01,2,     2.77,2, -999.000,5, -999.000,5, -999.000,9,-999.0000,9,  -999.00,9,   2262.3,2,   2278.9,2,  -999.00,9,-999.0000,-999.000,  3.6935,-999.000
      325023_1,  P14N,    11,  1,     28,     28,2,19930709,0910, 54.0003,-177.9030, 3803,    308.0,   3.7432,  33.7727,2,  33.7781,2,   -999.0,9,     90.1,2,    95.90,2,    40.19,2,     0.00,2,     2.89,2,    1.960,2,    0.938,2, -999.000,9,-999.0000,9,  -999.00,9,   2288.5,2,   2296.6,2,  -999.00,9,-999.0000,-999.000,  3.7226,-999.000
      325023_1,  P14N,    11,  1,     27,     27,2,19930709,0910, 54.0003,-177.9030, 3803,    359.4,   3.7214,  33.8528,2,  33.8553,2,   -999.0,9,     67.8,2,   101.23,2,    41.52,2,     0.00,2,     2.98,2, -999.000,5, -999.000,5, -999.000,9,-999.0000,9,  -999.00,9,   2304.8,2,   2297.4,2,  -999.00,9,-999.0000,-999.000,  3.6971,-999.000
      325023_1,  P14N,    11,  1,     26,     26,2,19930709,0910, 54.0003,-177.9030, 3803,    409.4,   3.6645,  33.9310,2,  33.9310,2,   -999.0,9,     54.6,2,   107.27,2,    42.19,2,     0.00,2,     3.02,2,    1.253,2,    0.567,2, -999.000,9,-999.0000,9,  -999.00,9,   2314.5,2,   2311.1,2,  -999.00,9,-999.0000,-999.000,  3.6368,-999.000
      325023_1,  P14N,    11,  1,     25,     25,2,19930709,0910, 54.0003,-177.9030, 3803,    459.8,   3.6183,  33.9879,2,  33.9902,2,   -999.0,9,     42.3,2,   111.65,2,    43.01,2,     0.00,2,     3.07,2, -999.000,5, -999.000,5, -999.000,9,-999.0000,9,  -999.00,9,   2329.3,2,   2310.9,2,  -999.00,9,-999.0000,-999.000,  3.5872,-999.000
      325023_1,  P14N,    11,  1,     24,     24,2,19930709,0910, 54.0003,-177.9030, 3803,    510.0,   3.5622,  34.0419,2,  34.0438,2,   -999.0,9,     33.8,2,   116.27,2,    43.37,2,     0.00,2,     3.10,2,    0.763,2,    0.372,2, -999.000,9,-999.0000,9,  -999.00,9,   2337.7,2,   2323.5,2,  -999.00,9,-999.0000,-999.000,  3.5276,-999.000
      325023_1,  P14N,    11,  1,     23,     23,2,19930709,0910, 54.0003,-177.9030, 3803,    610.7,   3.4152,  34.1388,2,  34.1389,2,   -999.0,9,     24.1,2,   125.89,2,    43.77,2,     0.00,2,     3.13,2,    0.480,2,    0.211,2, -999.000,9,-999.0000,9,  -999.00,9,   2352.9,2,   2333.8,2,  -999.00,9,-999.0000,-999.000,  3.3739,-999.000
      325023_1,  P14N,    11,  1,     22,     22,2,19930709,0910, 54.0003,-177.9030, 3803,    712.1,   3.2625,  34.2111,2,  34.2090,2,   -999.0,9,     18.8,2,   133.39,2,    43.98,2,     0.00,2,     3.15,2, -999.000,5, -999.000,5, -999.000,9,-999.0000,9,  -999.00,9,   2363.6,2,   2348.8,2,  -999.00,9,-999.0000,-999.000,  3.2146,-999.000
      325023_1,  P14N,    11,  1,     21,     21,2,19930709,0910, 54.0003,-177.9030, 3803,    814.0,   3.1353,  34.2624,2,  34.2619,2,   -999.0,9,     17.1,2,   139.95,2,    44.01,2,     0.00,2,     3.15,2,    0.188,2,    0.077,2, -999.000,9,-999.0000,9,  -999.00,9,   2370.3,2,   2349.4,2,  -999.00,9,-999.0000,-999.000,  3.0807,-999.000
      325023_1,  P14N,    11,  1,     20,     20,2,19930709,0910, 54.0003,-177.9030, 3803,    914.4,   2.9892,  34.3079,2,  34.3066,2,   -999.0,9,     17.3,2,   145.80,2,    44.00,2,     0.00,2,     3.15,2, -999.000,5, -999.000,5, -999.000,9,-999.0000,9,  -999.00,9,   2376.6,2,   2366.8,2,  -999.00,9,-999.0000,-999.000,  2.9281,-999.000
      325023_1,  P14N,    11,  1,     19,     19,2,19930709,0910, 54.0003,-177.9030, 3803,   1015.7,   2.8515,  34.3484,2,  34.3483,2,   -999.0,9,     17.1,2,   152.62,2,    43.94,2,     0.00,2,     3.15,2,    0.093,2,    0.046,2, -999.000,9,-999.0000,9,  -999.00,9,   2382.5,2,   2367.9,2,  -999.00,9,-999.0000,-999.000,  2.7839,-999.000
      325023_1,  P14N,    11,  1,     18,     18,2,19930709,0910, 54.0003,-177.9030, 3803,   1117.0,   2.7139,  34.3876,2,  34.3869,2,   -999.0,9,     17.8,2,   158.74,2,    44.06,2,     0.00,2,     3.15,2,    0.052,2,    0.022,2, -999.000,9,-999.0000,9,  -999.00,9,   2386.0,2,   2376.1,2,  -999.00,9,-999.0000,-999.000,  2.6398,-999.000
      325023_1,  P14N,    11,  1,     17,     17,2,19930709,0910, 54.0003,-177.9030, 3803,   1219.1,   2.5889,  34.4192,2,  34.4173,2,   -999.0,9,     19.2,2,   163.91,2,    43.77,2,     0.00,2,     3.15,2, -999.000,5, -999.000,5, -999.000,9,-999.0000,9,  -999.00,9,   2391.4,2,   2385.3,2,  -999.00,9,-999.0000,-999.000,  2.5081,-999.000
      325023_1,  P14N,    11,  1,     16,     16,2,19930709,0910, 54.0003,-177.9030, 3803,   1319.3,   2.4811,  34.4454,2,  34.4439,2,   -999.0,9,     21.3,2,   169.33,2,    43.66,2,     0.00,2,     3.14,2,    0.029,2,    0.015,2, -999.000,9,-999.0000,9,  -999.00,9,   2392.5,2,   2381.9,2,  -999.00,9,-999.0000,-999.000,  2.3937,-999.000
      325023_1,  P14N,    11,  1,     15,     15,2,19930709,0910, 54.0003,-177.9030, 3803,   1419.2,   2.3794,  34.4708,2,  34.4700,2,   -999.0,9,     24.3,2,   173.79,2,    43.36,2,     0.00,2,     3.13,2, -999.000,5, -999.000,5, -999.000,9,-999.0000,9,  -999.00,9,   2395.7,2,   2387.0,2,  -999.00,9,-999.0000,-999.000,  2.2853,-999.000
      325023_1,  P14N,    11,  1,     14,     14,2,19930709,0910, 54.0003,-177.9030, 3803,   1521.8,   2.2766,  34.4953,2,  34.4941,2,   -999.0,9,     28.0,2,   178.01,2,    43.07,2,     0.00,2,     3.12,2,    0.039,4,   -0.001,4, -999.000,9,-999.0000,9,  -999.00,9,   2397.2,2,   2397.1,2,  -999.00,9,-999.0000,-999.000,  2.1756,-999.000
      325023_1,  P14N,    11,  1,     13,     13,2,19930709,0910, 54.0003,-177.9030, 3803,   1624.6,   2.1831,  34.5170,2,  34.5161,2,   -999.0,9,     32.2,2,   182.73,2,    42.69,2,     0.00,2,     3.11,2, -999.000,5, -999.000,5, -999.000,9,-999.0000,9,  -999.00,9,   2396.8,2,   2395.2,2,  -999.00,9,-999.0000,-999.000,  2.0751,-999.000
      325023_1,  P14N,    11,  1,     12,     12,2,19930709,0910, 54.0003,-177.9030, 3803,   1829.9,   2.0172,  34.5549,2,  34.5547,2,   -999.0,9,     41.9,2,   191.68,2,    42.39,2,     0.00,2,     3.08,2,    0.004,2,    0.002,2, -999.000,9,-999.0000,9,  -999.00,9,   2396.9,2,   2409.8,2,  -999.00,9,-999.0000,-999.000,  1.8948,-999.000
      325023_1,  P14N,    11,  1,     11,     11,2,19930709,0910, 54.0003,-177.9030, 3803,   2035.1,   1.8834,  34.5844,2,  34.5842,2,   -999.0,9,     52.0,2,   200.19,2,    41.04,3,     0.00,2,     3.05,2, -999.000,5, -999.000,5, -999.000,9,-999.0000,9,  -999.00,9,   2395.5,2,   2412.9,2,  -999.00,9,-999.0000,-999.000,  1.7460,-999.000
      325023_1,  P14N,    11,  1,     10,     10,2,19930709,0910, 54.0003,-177.9030, 3803,   2238.8,   1.7939,  34.6056,2,  34.6047,2,   -999.0,9,     60.9,2,   205.50,2,    40.29,2,     0.00,2,     3.03,2,   -0.001,2,   -0.002,2, -999.000,9,-999.0000,9,  -999.00,9,   2393.3,2,   2407.6,2,  -999.00,9,-999.0000,-999.000,  1.6406,-999.000
      325023_1,  P14N,    11,  1,      9,      9,2,19930709,0910, 54.0003,-177.9030, 3803,   2441.8,   1.7209,  34.6219,2,  34.6222,2,   -999.0,9,     69.4,2,   209.82,2,    39.68,2,     0.00,2,     3.00,2, -999.000,5, -999.000,5, -999.000,9,-999.0000,9,  -999.00,9,   2389.4,2,   2418.6,2,  -999.00,9,-999.0000,-999.000,  1.5512,-999.000
      325023_1,  P14N,    11,  1,      8,      8,2,19930709,0910, 54.0003,-177.9030, 3803,   2646.7,   1.6690,  34.6350,2,  34.6352,2,   -999.0,9,     77.4,2,   212.63,2,    39.17,2,     0.00,2,     2.96,2,    0.002,2,    0.000,2, -999.000,9,-999.0000,9,  -999.00,9,   2387.0,2,   2419.5,2,  -999.00,9,-999.0000,-999.000,  1.4817,-999.000
      325023_1,  P14N,    11,  1,      7,      7,2,19930709,0910, 54.0003,-177.9030, 3803,   2849.0,   1.6313,  34.6450,2,  34.6460,2,   -999.0,9,     83.4,2,   214.70,2,    38.65,2,     0.00,2,     2.94,2, -999.000,5, -999.000,5, -999.000,9,-999.0000,9,  -999.00,9,   2384.0,2,   2425.4,2,  -999.00,9,-999.0000,-999.000,  1.4261,-999.000
      325023_1,  P14N,    11,  1,      6,      6,2,19930709,0910, 54.0003,-177.9030, 3803,   3051.3,   1.6073,  34.6526,2,  34.6536,2,   -999.0,9,     88.6,2,   217.01,2,    38.18,2,     0.00,2,     2.93,2,    0.007,2,   -0.002,4, -999.000,9,-999.0000,9,  -999.00,9,   2380.0,2,   2421.8,2,  -999.00,9,-999.0000,-999.000,  1.3833,-999.000
      325023_1,  P14N,    11,  1,      5,      5,2,19930709,0910, 54.0003,-177.9030, 3803,   3259.5,   1.5944,  34.6584,2,  34.6583,2,   -999.0,9,     93.2,2,   218.32,2,    37.85,2,     0.00,2,     2.91,2,    0.006,2,    0.011,3, -999.000,9,-999.0000,9,  -999.00,9,   2380.0,2,   2427.3,2,  -999.00,9,-999.0000,-999.000,  1.3503,-999.000
      325023_1,  P14N,    11,  1,      4,      4,2,19930709,0910, 54.0003,-177.9030, 3803,   3670.1,   1.5928,  34.6664,2,  34.6658,2,   -999.0,9,     98.2,2,   225.76,2,    37.61,2,     0.00,2,     2.89,2,    0.006,2,   -0.003,2, -999.000,9,-999.0000,9,  -999.00,9,   2378.3,2,   2436.9,2,  -999.00,9,-999.0000,-999.000,  1.3068,-999.000
      325023_1,  P14N,    11,  1,      3,      3,2,19930709,0910, 54.0003,-177.9030, 3803,   3799.6,   1.6002,  34.6680,2,  34.6680,2,   -999.0,9,     99.6,2,   229.90,2,    37.50,2,     0.00,2,     2.88,2,    0.014,6,    0.004,6, -999.000,9,-999.0000,9,  -999.00,9,   2378.5,2,   2441.5,2,  -999.00,9,-999.0000,-999.000,  1.3003,-999.000
      325023_1,  P14N,    11,  1,      2,      2,2,19930709,0910, 54.0003,-177.9030, 3803,   3851.1,   1.6020,  34.6680,2,  34.6685,2,   -999.0,9,    102.0,2,   225.31,2,    37.40,2,     0.00,2,     2.87,2,    0.017,2,    0.006,2, -999.000,9,-999.0000,9,  -999.00,9,   2376.3,2,   2431.7,2,  -999.00,9,-999.0000,-999.000,  1.2965,-999.000
      325023_1,  P14N,    11,  1,      1,      1,2,19930709,0910, 54.0003,-177.9030, 3803,   3851.3,   1.6019,  34.6683,2,  34.6701,2,   -999.0,9,    101.2,2,   225.34,2,    37.34,2,     0.00,2,     2.88,2,    0.026,2,    0.021,2, -999.000,9,-999.0000,9,  -999.00,9,   2377.0,2,   2439.2,2,  -999.00,9,-999.0000,-999.000,  1.2964,-999.000