BOTTLE,20131125MIRCJHATS
EXPOCODE,SECT_ID,STNNBR,CASTNO,SAMPNO,BTLNBR,BTLNBR_FLAG_W,DATE,TIME,LATITUDE,LONGITUDE,DEPTH,CTDPRS,CTDTMP,CTDSAL,CTDSAL_FLAG_W,SALNTY,SALNTY_FLAG_W,CTDOXY,CTDOXY_FLAG_W,OXYGEN,OXYGEN_FLAG_W,SILCAT,SILCAT_FLAG_W,NITRAT,NITRAT_FLAG_W,NITRIT,NITRIT_FLAG_W,PHSPHT,PHSPHT_FLAG_W,CFC-11,CFC-11_FLAG_W,CFC-12,CFC-12_FLAG_W,TRITUM,TRITUM_FLAG_W,HELIUM,HELIUM_FLAG_W,DELHE3,DELHE3_FLAG_W,TCARBN,TCARBN_FLAG_W,ALKALI,ALKALI_FLAG_W,PH,PH_FLAG_W,HELIER,DELHER,THETA,TRITER
,,,,,,,,,,,,DBAR,ITS-90,PSS-78,,PSS-78,,UMOL/KG,,UMOL/KG,,UMOL/KG,,UMOL/KG,,UMOL/KG,,UMOL/KG,,PMOL/KG,,PMOL/KG,,TU,,NMOL/KG,,PERCNT,,UMOL/KG,,UMOL/KG,,25_DEG,,NMOL/KG,PERCNT,DEG C,TU
      325024_1,  P14N,   136,  1,     36,     36,2,19930816,0623,  1.7572, 179.0027, 5546,      1.7,  30.2408,  34.0091,2,  34.0128,2,   -999.0,9,    195.3,2,     2.87,2,     0.00,2,     0.00,2,     0.08,2, -999.000,5, -999.000,5, -999.000,9,-999.0000,9,  -999.00,9,   -999.0,9,   -999.0,9,  -999.00,9,-999.0000,-999.000, 30.2404,-999.000
      325024_1,  P14N,   136,  1,     35,     35,2,19930816,0623,  1.7572, 179.0027, 5546,     38.2,  29.9190,  34.0890,2,  34.1044,2,   -999.0,9,    197.2,2,     2.62,2,     0.00,2,     0.00,2,     0.13,2, -999.000,5, -999.000,5, -999.000,9,-999.0000,9,  -999.00,9,   -999.0,9,   -999.0,9,  -999.00,9,-999.0000,-999.000, 29.9096,-999.000
      325024_1,  P14N,   136,  1,     34,     34,2,19930816,0623,  1.7572, 179.0027, 5546,     67.9,  29.5771,  34.8119,2,  34.8475,2,   -999.0,9,    203.5,2,     2.77,2,     0.00,2,     0.00,2,     0.20,2, -999.000,5, -999.000,5, -999.000,9,-999.0000,9,  -999.00,9,   -999.0,9,   -999.0,9,  -999.00,9,-999.0000,-999.000, 29.5605,-999.000
      325024_1,  P14N,   136,  1,     33,     33,2,19930816,0623,  1.7572, 179.0027, 5546,     98.4,  27.1305,  35.1618,2,  35.0654,4,   -999.0,9,    161.9,2,     4.14,2,     4.48,2,     0.58,2,     0.53,2, -999.000,5, -999.000,5, -999.000,9,-999.0000,9,  -999.00,9,   -999.0,9,   -999.0,9,  -999.00,9,-999.0000,-999.000, 27.1078,-999.000
      325024_1,  P14N,   136,  1,     32,     32,2,19930816,0623,  1.7572, 179.0027, 5546,    128.7,  21.4692,  34.7876,2,  34.8689,2,   -999.0,9,    138.8,2,     8.16,2,     8.88,2,     0.04,2,     0.71,2, -999.000,5, -999.000,5, -999.000,9,-999.0000,9,  -999.00,9,   -999.0,9,   -999.0,9,  -999.00,9,-999.0000,-999.000, 21.4442,-999.000
      325024_1,  P14N,   136,  1,     31,     31,2,19930816,0623,  1.7572, 179.0027, 5546,    159.1,  19.6038,  34.8956,2,  34.9139,2,   -999.0,9,    140.0,2,    10.54,2,    10.54,2,     0.01,2,     0.81,2, -999.000,5, -999.000,5, -999.000,9,-999.0000,9,  -999.00,9,   -999.0,9,   -999.0,9,  -999.00,9,-999.0000,-999.000, 19.5749,-999.000
      325024_1,  P14N,   136,  1,     30,     30,2,19930816,0623,  1.7572, 179.0027, 5546,    209.5,  14.1543,  34.6768,2,  34.6459,2,   -999.0,9,    133.1,2,    21.66,2,    17.59,2,     0.01,2,     1.28,2, -999.000,5, -999.000,5, -999.000,9,-999.0000,9,  -999.00,9,   -999.0,9,   -999.0,9,  -999.00,9,-999.0000,-999.000, 14.1239,-999.000
      325024_1,  P14N,   136,  1,     29,     29,2,19930816,0623,  1.7572, 179.0027, 5546,    259.7,  12.0309,  34.7868,2,  34.7830,2,   -999.0,9,    120.1,2,    23.22,2,    22.17,2,     0.00,2,     1.60,2, -999.000,5, -999.000,5, -999.000,9,-999.0000,9,  -999.00,9,   -999.0,9,   -999.0,9,  -999.00,9,-999.0000,-999.000, 11.9970,-999.000
      325024_1,  P14N,   136,  1,     28,     28,2,19930816,0623,  1.7572, 179.0027, 5546,    309.6,  11.0717,  34.7722,2,  34.7697,2,   -999.0,9,     74.4,2,    27.42,2,    28.48,2,     0.00,2,     2.01,2, -999.000,5, -999.000,5, -999.000,9,-999.0000,9,  -999.00,9,   -999.0,9,   -999.0,9,  -999.00,9,-999.0000,-999.000, 11.0333,-999.000
      325024_1,  P14N,   136,  1,     27,     27,2,19930816,0623,  1.7572, 179.0027, 5546,    409.1,  10.0676,  34.7179,2,  34.7173,2,   -999.0,9,     55.5,2,    32.23,2,    32.21,2,     0.00,2,     2.25,2, -999.000,5, -999.000,5, -999.000,9,-999.0000,9,  -999.00,9,   -999.0,9,   -999.0,9,  -999.00,9,-999.0000,-999.000, 10.0196,-999.000
      325024_1,  P14N,   136,  1,     26,     26,2,19930816,0623,  1.7572, 179.0027, 5546,    509.1,   7.6877,  34.5924,2,  34.5897,2,   -999.0,9,     65.8,2,    46.17,2,    35.84,2,     0.00,2,     2.53,2, -999.000,5, -999.000,5, -999.000,9,-999.0000,9,  -999.00,9,   -999.0,9,   -999.0,9,  -999.00,9,-999.0000,-999.000,  7.6367,-999.000
      325024_1,  P14N,   136,  1,     25,     25,2,19930816,0623,  1.7572, 179.0027, 5546,    608.8,   6.7155,  34.5643,2,  34.5648,2,   -999.0,9,     75.0,2,    52.79,2,    37.30,2,     0.00,2,     2.63,2, -999.000,5, -999.000,5, -999.000,9,-999.0000,9,  -999.00,9,   -999.0,9,   -999.0,9,  -999.00,9,-999.0000,-999.000,  6.6585,-999.000
      325024_1,  P14N,   136,  1,     24,     24,2,19930816,0623,  1.7572, 179.0027, 5546,    709.3,   5.9453,  34.5522,2,  34.5524,2,   -999.0,9,     70.1,2,    63.89,2,    39.18,2,     0.00,2,     2.76,2, -999.000,5, -999.000,5, -999.000,9,-999.0000,9,  -999.00,9,   -999.0,9,   -999.0,9,  -999.00,9,-999.0000,-999.000,  5.8826,-999.000
      325024_1,  P14N,   136,  1,     23,     23,2,19930816,0623,  1.7572, 179.0027, 5546,    809.8,   5.6164,  34.5466,2,  34.5467,2,   -999.0,9,     77.0,2,    68.08,2,    38.73,2,     0.00,2,     2.76,2, -999.000,5, -999.000,5, -999.000,9,-999.0000,9,  -999.00,9,   -999.0,9,   -999.0,9,  -999.00,9,-999.0000,-999.000,  5.5462,-999.000
      325024_1,  P14N,   136,  1,     22,     22,2,19930816,0623,  1.7572, 179.0027, 5546,    910.5,   5.1170,  34.5456,2,  34.5453,2,   -999.0,9,     85.0,2,    75.93,2,    38.50,2,     0.00,2,     2.73,2, -999.000,5, -999.000,5, -999.000,9,-999.0000,9,  -999.00,9,   -999.0,9,   -999.0,9,  -999.00,9,-999.0000,-999.000,  5.0409,-999.000
      325024_1,  P14N,   136,  1,     21,     21,2,19930816,0623,  1.7572, 179.0027, 5546,   1010.9,   4.6392,  34.5523,2,  34.5516,2,   -999.0,9,     85.0,2,    85.64,2,    38.81,2,     0.00,2,     2.79,2, -999.000,5, -999.000,5, -999.000,9,-999.0000,9,  -999.00,9,   -999.0,9,   -999.0,9,  -999.00,9,-999.0000,-999.000,  4.5576,-999.000
      325024_1,  P14N,   136,  1,     20,     20,2,19930816,0623,  1.7572, 179.0027, 5546,   1212.2,   3.9607,  34.5690,2,  34.5686,2,   -999.0,9,     90.3,2,   100.70,2,    38.76,2,     0.00,2,     2.79,2, -999.000,5, -999.000,5, -999.000,9,-999.0000,9,  -999.00,9,   -999.0,9,   -999.0,9,  -999.00,9,-999.0000,-999.000,  3.8673,-999.000
      325024_1,  P14N,   136,  1,     19,     19,2,19930816,0623,  1.7572, 179.0027, 5546,   1414.1,   3.3997,  34.5879,2,  34.5875,2,   -999.0,9,     91.5,2,   113.18,2,    39.26,2,     0.00,2,     2.81,2, -999.000,5, -999.000,5, -999.000,9,-999.0000,9,  -999.00,9,   -999.0,9,   -999.0,9,  -999.00,9,-999.0000,-999.000,  3.2946,-999.000
      325024_1,  P14N,   136,  1,     18,     18,2,19930816,0623,  1.7572, 179.0027, 5546,   1616.4,   2.9037,  34.6063,2,  34.6065,2,   -999.0,9,     99.1,2,   124.91,2,    38.80,2,     0.00,2,     2.77,2, -999.000,5, -999.000,5, -999.000,9,-999.0000,9,  -999.00,9,   -999.0,9,   -999.0,9,  -999.00,9,-999.0000,-999.000,  2.7872,-999.000
      325024_1,  P14N,   136,  1,     17,     17,2,19930816,0623,  1.7572, 179.0027, 5546,   1818.9,   2.5938,  34.6200,2,  34.6206,2,   -999.0,9,    104.6,2,   134.21,2,    38.58,2,     0.00,2,     2.74,2, -999.000,5, -999.000,5, -999.000,9,-999.0000,9,  -999.00,9,   -999.0,9,   -999.0,9,  -999.00,9,-999.0000,-999.000,  2.4641,-999.000
      325024_1,  P14N,   136,  1,     16,     16,2,19930816,0623,  1.7572, 179.0027, 5546,   2021.3,   2.2964,  34.6352,2,  34.6349,2,   -999.0,9,    112.1,2,   137.67,2,    38.21,2,     0.00,2,     2.70,2, -999.000,5, -999.000,5, -999.000,9,-999.0000,9,  -999.00,9,   -999.0,9,   -999.0,9,  -999.00,9,-999.0000,-999.000,  2.1536,-999.000
      325024_1,  P14N,   136,  1,     15,     15,2,19930816,0623,  1.7572, 179.0027, 5546,   2226.1,   2.0476,  34.6488,2,  34.6486,2,   -999.0,9,    115.8,2,   144.73,2,    38.21,2,     0.00,2,     2.68,2, -999.000,5, -999.000,5, -999.000,9,-999.0000,9,  -999.00,9,   -999.0,9,   -999.0,9,  -999.00,9,-999.0000,-999.000,  1.8910,-999.000
      325024_1,  P14N,   136,  1,     14,     14,2,19930816,0623,  1.7572, 179.0027, 5546,   2430.1,   1.9014,  34.6571,2,  34.6572,2,   -999.0,9,    120.9,2,   147.99,2,    37.80,2,     0.00,2,     2.66,2, -999.000,5, -999.000,5, -999.000,9,-999.0000,9,  -999.00,9,   -999.0,9,   -999.0,9,  -999.00,9,-999.0000,-999.000,  1.7292,-999.000
      325024_1,  P14N,   136,  1,     13,     13,2,19930816,0623,  1.7572, 179.0027, 5546,   2634.0,   1.8169,  34.6627,2,  34.6629,2,   -999.0,9,    124.4,2,   150.20,2,    37.67,2,     0.00,2,     2.63,2, -999.000,5, -999.000,5, -999.000,9,-999.0000,9,  -999.00,9,   -999.0,9,   -999.0,9,  -999.00,9,-999.0000,-999.000,  1.6278,-999.000
      325024_1,  P14N,   136,  1,     12,     12,2,19930816,0623,  1.7572, 179.0027, 5546,   2838.7,   1.7230,  34.6668,2,  34.6674,2,   -999.0,9,    129.5,2,   150.07,2,    37.26,2,     0.00,2,     2.59,2, -999.000,5, -999.000,5, -999.000,9,-999.0000,9,  -999.00,9,   -999.0,9,   -999.0,9,  -999.00,9,-999.0000,-999.000,  1.5168,-999.000
      325024_1,  P14N,   136,  1,     11,     11,2,19930816,0623,  1.7572, 179.0027, 5546,   3042.7,   1.6534,  34.6708,2,  34.6713,2,   -999.0,9,    135.6,2,   149.30,2,    36.81,2,     0.00,2,     2.56,2, -999.000,5, -999.000,5, -999.000,9,-999.0000,9,  -999.00,9,   -999.0,9,   -999.0,9,  -999.00,9,-999.0000,-999.000,  1.4291,-999.000
      325024_1,  P14N,   136,  1,     10,     10,2,19930816,0623,  1.7572, 179.0027, 5546,   3348.7,   1.5688,  34.6772,2,  34.6762,2,   -999.0,9,    144.3,2,   148.07,2,    36.30,2,     0.00,2,     2.55,2, -999.000,5, -999.000,5, -999.000,9,-999.0000,9,  -999.00,9,   -999.0,9,   -999.0,9,  -999.00,9,-999.0000,-999.000,  1.3163,-999.000
      325024_1,  P14N,   136,  1,      9,      9,2,19930816,0623,  1.7572, 179.0027, 5546,   3655.4,   1.4941,  34.6829,2,  34.6822,2,   -999.0,9,    153.3,2,   145.01,2,    35.61,2,     0.00,2,     2.47,2, -999.000,5, -999.000,5, -999.000,9,-999.0000,9,  -999.00,9,   -999.0,9,   -999.0,9,  -999.00,9,-999.0000,-999.000,  1.2121,-999.000
      325024_1,  P14N,   136,  1,      8,      8,2,19930816,0623,  1.7572, 179.0027, 5546,   3961.6,   1.4105,  34.6898,2,  34.6895,2,   -999.0,9,    167.8,2,   141.50,2,    34.73,2,     0.00,2,     2.42,2, -999.000,5, -999.000,5, -999.000,9,-999.0000,9,  -999.00,9,   -999.0,9,   -999.0,9,  -999.00,9,-999.0000,-999.000,  1.0982,-999.000
      325024_1,  P14N,   136,  1,      7,      7,2,19930816,0623,  1.7572, 179.0027, 5546,   4269.0,   1.3400,  34.6952,2,  34.6952,2,   -999.0,9,    174.9,2,   136.75,2,    34.08,2,     0.00,2,     2.36,2, -999.000,5, -999.000,5, -999.000,9,-999.0000,9,  -999.00,9,   -999.0,9,   -999.0,9,  -999.00,9,-999.0000,-999.000,  0.9961,-999.000
      325024_1,  P14N,   136,  1,      6,      6,2,19930816,0623,  1.7572, 179.0027, 5546,   4576.0,   1.2597,  34.7009,2,  34.7010,2,   -999.0,9,    185.8,2,   131.61,2,    33.29,2,     0.00,2,     2.31,2, -999.000,5, -999.000,5, -999.000,9,-999.0000,9,  -999.00,9,   -999.0,9,   -999.0,9,  -999.00,9,-999.0000,-999.000,  0.8834,-999.000
      325024_1,  P14N,   136,  1,      5,      5,2,19930816,0623,  1.7572, 179.0027, 5546,   4884.0,   1.2506,  34.7034,2,  34.7032,2,   -999.0,9,    191.0,2,   129.40,2,    32.94,2,     0.00,2,     2.30,2, -999.000,5, -999.000,5, -999.000,9,-999.0000,9,  -999.00,9,   -999.0,9,   -999.0,9,  -999.00,9,-999.0000,-999.000,  0.8386,-999.000
      325024_1,  P14N,   136,  1,      4,      4,2,19930816,0623,  1.7572, 179.0027, 5546,   5192.7,   1.2819,  34.7033,2,  34.7035,2,   -999.0,9,    192.1,2,   128.45,2,    32.90,2,     0.00,2,     2.26,2, -999.000,5, -999.000,5, -999.000,9,-999.0000,9,  -999.00,9,   -999.0,9,   -999.0,9,  -999.00,9,-999.0000,-999.000,  0.8315,-999.000
      325024_1,  P14N,   136,  1,      3,      3,2,19930816,0623,  1.7572, 179.0027, 5546,   5502.2,   1.3103,  34.7042,2,  34.7039,2,   -999.0,9,    194.0,2,   127.29,2,    32.68,2,     0.00,2,     2.27,2, -999.000,5, -999.000,5, -999.000,9,-999.0000,9,  -999.00,9,   -999.0,9,   -999.0,9,  -999.00,9,-999.0000,-999.000,  0.8203,-999.000
      325024_1,  P14N,   136,  1,      1,      1,2,19930816,0623,  1.7572, 179.0027, 5546,   5630.0,   1.3256,  34.7043,2,  34.7047,2,   -999.0,9,    193.3,2,   127.26,2,    32.72,2,     0.00,2,     2.26,2, -999.000,5, -999.000,5, -999.000,9,-999.0000,9,  -999.00,9,   -999.0,9,   -999.0,9,  -999.00,9,-999.0000,-999.000,  0.8187,-999.000
      325024_1,  P14N,   136,  1,      2,      2,2,19930816,0623,  1.7572, 179.0027, 5546,   5630.2,   1.3255,  34.7043,2,  34.7047,2,   -999.0,9,    194.0,2,   127.18,2,    32.72,2,     0.00,2,     2.26,2, -999.000,5, -999.000,5, -999.000,9,-999.0000,9,  -999.00,9,   -999.0,9,   -999.0,9,  -999.00,9,-999.0000,-999.000,  0.8186,-999.000