BOTTLE,20131125MIRCJHATS
EXPOCODE,SECT_ID,STNNBR,CASTNO,SAMPNO,BTLNBR,BTLNBR_FLAG_W,DATE,TIME,LATITUDE,LONGITUDE,DEPTH,CTDPRS,CTDTMP,CTDSAL,CTDSAL_FLAG_W,SALNTY,SALNTY_FLAG_W,CTDOXY,CTDOXY_FLAG_W,OXYGEN,OXYGEN_FLAG_W,SILCAT,SILCAT_FLAG_W,NITRAT,NITRAT_FLAG_W,NITRIT,NITRIT_FLAG_W,PHSPHT,PHSPHT_FLAG_W,CFC-11,CFC-11_FLAG_W,CFC-12,CFC-12_FLAG_W,TRITUM,TRITUM_FLAG_W,HELIUM,HELIUM_FLAG_W,DELHE3,DELHE3_FLAG_W,TCARBN,TCARBN_FLAG_W,ALKALI,ALKALI_FLAG_W,PH,PH_FLAG_W,HELIER,DELHER,THETA,TRITER
,,,,,,,,,,,,DBAR,ITS-90,PSS-78,,PSS-78,,UMOL/KG,,UMOL/KG,,UMOL/KG,,UMOL/KG,,UMOL/KG,,UMOL/KG,,PMOL/KG,,PMOL/KG,,TU,,NMOL/KG,,PERCNT,,UMOL/KG,,UMOL/KG,,25_DEG,,NMOL/KG,PERCNT,DEG C,TU
      325024_1,  P14N,   143,  1,     35,     35,2,19930818,2249,  0.0017, 179.0013, 5409,      3.8,  30.1039,  34.1948,2,  34.1935,2,   -999.0,9,    194.0,2,     2.38,2,     0.05,2,     0.00,2,     0.18,2, -999.000,5, -999.000,5, -999.000,9,-999.0000,9,  -999.00,9,   -999.0,9,   -999.0,9,  -999.00,9,-999.0000,-999.000, 30.1029,-999.000
      325024_1,  P14N,   143,  1,     36,     36,2,19930818,2249,  0.0017, 179.0013, 5409,      3.9,  30.0628,  34.1375,2,  34.1218,3,   -999.0,9,    194.2,2,     2.84,2,     0.05,2,     0.00,2,     0.18,2,    1.687,2,    0.915,2, -999.000,9,-999.0000,9,  -999.00,9,   -999.0,9,   -999.0,9,  -999.00,9,-999.0000,-999.000, 30.0618,-999.000
      325024_1,  P14N,   143,  1,     34,     34,2,19930818,2249,  0.0017, 179.0013, 5409,     37.2,  30.0946,  34.3809,2,  34.3860,2,   -999.0,9,    195.0,2,     2.32,2,     0.05,2,     0.00,2,     0.19,2,    1.574,2,    0.877,2, -999.000,9,-999.0000,9,  -999.00,9,   -999.0,9,   -999.0,9,  -999.00,9,-999.0000,-999.000, 30.0853,-999.000
      325024_1,  P14N,   143,  1,     33,     33,2,19930818,2249,  0.0017, 179.0013, 5409,     66.9,  30.0972,  34.6772,2,  34.7223,2,   -999.0,9,    197.4,2,     2.25,2,     0.05,2,     0.00,2,     0.20,2,    1.559,2,    0.847,2, -999.000,9,-999.0000,9,  -999.00,9,   -999.0,9,   -999.0,9,  -999.00,9,-999.0000,-999.000, 30.0806,-999.000
      325024_1,  P14N,   143,  1,     32,     32,2,19930818,2249,  0.0017, 179.0013, 5409,     98.0,  23.9779,  35.3319,2,  35.3213,2,   -999.0,9,    144.8,2,     4.15,2,     7.94,2,     0.34,2,     0.73,2,    1.580,2,    0.850,2, -999.000,9,-999.0000,9,  -999.00,9,   -999.0,9,   -999.0,9,  -999.00,9,-999.0000,-999.000, 23.9572,-999.000
      325024_1,  P14N,   143,  1,     31,     31,2,19930818,2249,  0.0017, 179.0013, 5409,    128.4,  22.1815,  35.2516,2,  35.2591,2,   -999.0,9,    138.4,2,     5.27,2,     8.65,2,     0.04,2,     0.72,2,    1.579,2,    0.795,2, -999.000,9,-999.0000,9,  -999.00,9,   -999.0,9,   -999.0,9,  -999.00,9,-999.0000,-999.000, 22.1559,-999.000
      325024_1,  P14N,   143,  1,     30,     30,2,19930818,2249,  0.0017, 179.0013, 5409,    157.5,  19.9216,  35.1383,2,  35.1580,2,   -999.0,9,    137.6,2,     8.16,2,    10.33,2,     0.02,2,     0.82,2,    1.507,2,    0.803,2, -999.000,9,-999.0000,9,  -999.00,9,   -999.0,9,   -999.0,9,  -999.00,9,-999.0000,-999.000, 19.8925,-999.000
      325024_1,  P14N,   143,  1,     29,     29,2,19930818,2249,  0.0017, 179.0013, 5409,    208.8,  15.1406,  34.9545,2,  34.9345,2,   -999.0,9,    135.8,2,    16.16,2,    15.85,2,     0.01,2,     1.20,2,    1.206,2,    0.614,2, -999.000,9,-999.0000,9,  -999.00,9,   -999.0,9,   -999.0,9,  -999.00,9,-999.0000,-999.000, 15.1087,-999.000
      325024_1,  P14N,   143,  1,     28,     28,2,19930818,2249,  0.0017, 179.0013, 5409,    259.4,  13.1852,  34.8722,2,  34.8787,2,   -999.0,9,    130.8,2,    18.46,2,    19.18,2,     0.01,2,     1.43,2,    0.909,2,    0.458,2, -999.000,9,-999.0000,9,  -999.00,9,   -999.0,9,   -999.0,9,  -999.00,9,-999.0000,-999.000, 13.1492,-999.000
      325024_1,  P14N,   143,  1,     27,     27,2,19930818,2249,  0.0017, 179.0013, 5409,    309.5,  11.5438,  34.8160,2,  34.8135,2,   -999.0,9,     92.7,2,    23.11,2,    25.64,2,     0.01,2,     1.85,2,    0.479,2,    0.249,2, -999.000,9,-999.0000,9,  -999.00,9,   -999.0,9,   -999.0,9,  -999.00,9,-999.0000,-999.000, 11.5043,-999.000
      325024_1,  P14N,   143,  1,     26,     26,2,19930818,2249,  0.0017, 179.0013, 5409,    409.5,   9.3931,  34.6833,2,  34.6810,2,   -999.0,9,     84.9,2,    30.91,2,    30.54,2,     0.01,2,     2.17,2,    0.192,6,    0.102,6, -999.000,9,-999.0000,9,  -999.00,9,   -999.0,9,   -999.0,9,  -999.00,9,-999.0000,-999.000,  9.3471,-999.000
      325024_1,  P14N,   143,  1,     25,     25,2,19930818,2249,  0.0017, 179.0013, 5409,    510.3,   7.9926,  34.6018,2,  34.6013,2,   -999.0,9,    105.0,2,    36.15,2,    31.24,2,     0.00,2,     2.22,2,    0.116,2,    0.065,2, -999.000,9,-999.0000,9,  -999.00,9,   -999.0,9,   -999.0,9,  -999.00,9,-999.0000,-999.000,  7.9402,-999.000
      325024_1,  P14N,   143,  1,     24,     24,2,19930818,2249,  0.0017, 179.0013, 5409,    610.4,   6.8961,  34.5661,2,  34.5656,2,   -999.0,9,     82.6,2,    48.47,2,    35.69,2,     0.00,2,     2.55,2,    0.032,2,    0.013,2, -999.000,9,-999.0000,9,  -999.00,9,   -999.0,9,   -999.0,9,  -999.00,9,-999.0000,-999.000,  6.8381,-999.000
      325024_1,  P14N,   143,  1,     23,     23,2,19930818,2249,  0.0017, 179.0013, 5409,    711.5,   5.8726,  34.5509,2,  34.5499,2,   -999.0,9,     71.8,2,    63.57,2,    38.71,2,     0.00,2,     2.76,2,    0.003,2,    0.003,2, -999.000,9,-999.0000,9,  -999.00,9,   -999.0,9,   -999.0,9,  -999.00,9,-999.0000,-999.000,  5.8100,-999.000
      325024_1,  P14N,   143,  1,     22,     22,2,19930818,2249,  0.0017, 179.0013, 5409,    812.2,   5.3534,  34.5430,2,  34.5436,2,   -999.0,9,     81.6,2,    70.40,2,    38.28,2,     0.00,2,     2.74,2,    0.001,2,    0.000,3, -999.000,9,-999.0000,9,  -999.00,9,   -999.0,9,   -999.0,9,  -999.00,9,-999.0000,-999.000,  5.2846,-999.000
      325024_1,  P14N,   143,  1,     21,     21,2,19930818,2249,  0.0017, 179.0013, 5409,    913.1,   5.0144,  34.5457,2,  34.5454,2,   -999.0,9,     85.5,2,    76.44,2,    38.25,2,     0.00,2,     2.74,2,    0.003,2,    0.001,2, -999.000,9,-999.0000,9,  -999.00,9,   -999.0,9,   -999.0,9,  -999.00,9,-999.0000,-999.000,  4.9387,-999.000
      325024_1,  P14N,   143,  1,     20,     20,2,19930818,2249,  0.0017, 179.0013, 5409,   1013.7,   4.6969,  34.5511,2,  34.5515,2,   -999.0,9,     83.3,2,    83.49,2,    38.84,2,     0.00,2,     2.79,2,    0.000,2,    0.002,2, -999.000,9,-999.0000,9,  -999.00,9,   -999.0,9,   -999.0,9,  -999.00,9,-999.0000,-999.000,  4.6147,-999.000
      325024_1,  P14N,   143,  1,     19,     19,2,19930818,2249,  0.0017, 179.0013, 5409,   1216.3,   3.8601,  34.5703,2,  34.5695,2,   -999.0,9,     93.1,2,   100.72,2,    38.54,2,     0.00,2,     2.79,2,    0.003,2,    0.001,2, -999.000,9,-999.0000,9,  -999.00,9,   -999.0,9,   -999.0,9,  -999.00,9,-999.0000,-999.000,  3.7672,-999.000
      325024_1,  P14N,   143,  1,     18,     18,2,19930818,2249,  0.0017, 179.0013, 5409,   1417.2,   3.2169,  34.5948,2,  34.5932,2,   -999.0,9,     94.1,2,   116.30,2,    38.91,2,     0.00,2,     2.81,2, -999.000,5, -999.000,5, -999.000,9,-999.0000,9,  -999.00,9,   -999.0,9,   -999.0,9,  -999.00,9,-999.0000,-999.000,  3.1135,-999.000
      325024_1,  P14N,   143,  1,     17,     17,2,19930818,2249,  0.0017, 179.0013, 5409,   1620.8,   2.7796,  34.6122,2,  34.6097,2,   -999.0,9,    100.7,2,   126.94,2,    38.70,2,     0.00,2,     2.78,2,   -0.004,2,    0.002,2, -999.000,9,-999.0000,9,  -999.00,9,   -999.0,9,   -999.0,9,  -999.00,9,-999.0000,-999.000,  2.6642,-999.000
      325024_1,  P14N,   143,  1,     16,     16,2,19930818,2249,  0.0017, 179.0013, 5409,   1823.8,   2.4333,  34.6288,2,  34.6277,2,   -999.0,9,    108.3,2,   135.22,2,    38.35,2,     0.00,2,     2.74,2, -999.000,5, -999.000,5, -999.000,9,-999.0000,9,  -999.00,9,   -999.0,9,   -999.0,9,  -999.00,9,-999.0000,-999.000,  2.3054,-999.000
      325024_1,  P14N,   143,  1,     15,     15,2,19930818,2249,  0.0017, 179.0013, 5409,   2027.1,   2.1651,  34.6436,2,  34.6418,2,   -999.0,9,    113.1,2,   141.48,2,    38.14,2,     0.00,2,     2.71,2, -999.000,5, -999.000,5, -999.000,9,-999.0000,9,  -999.00,9,   -999.0,9,   -999.0,9,  -999.00,9,-999.0000,-999.000,  2.0238,-999.000
      325024_1,  P14N,   143,  1,     14,     14,2,19930818,2249,  0.0017, 179.0013, 5409,   2230.1,   2.0039,  34.6521,2,  34.6509,2,   -999.0,9,    117.9,2,   144.67,2,    37.75,2,     0.00,2,     2.69,2,   -0.002,2,   -0.001,2, -999.000,9,-999.0000,9,  -999.00,9,   -999.0,9,   -999.0,9,  -999.00,9,-999.0000,-999.000,  1.8477,-999.000
      325024_1,  P14N,   143,  1,     13,     13,2,19930818,2249,  0.0017, 179.0013, 5409,   2434.1,   1.8849,  34.6572,2,  34.6563,2,   -999.0,9,    124.4,2,   146.00,2,    37.41,2,     0.00,2,     2.65,2, -999.000,5, -999.000,5, -999.000,9,-999.0000,9,  -999.00,9,   -999.0,9,   -999.0,9,  -999.00,9,-999.0000,-999.000,  1.7127,-999.000
      325024_1,  P14N,   143,  1,     12,     12,2,19930818,2249,  0.0017, 179.0013, 5409,   2637.3,   1.7840,  34.6637,2,  34.6628,2,   -999.0,9,    128.0,2,   147.95,2,    37.16,2,     0.00,2,     2.62,2, -999.000,5, -999.000,5, -999.000,9,-999.0000,9,  -999.00,9,   -999.0,9,   -999.0,9,  -999.00,9,-999.0000,-999.000,  1.5952,-999.000
      325024_1,  P14N,   143,  1,     11,     11,2,19930818,2249,  0.0017, 179.0013, 5409,   2840.6,   1.7022,  34.6681,2,  34.6671,2,   -999.0,9,    133.4,2,   147.62,2,    36.73,2,     0.00,2,     2.59,2,   -0.001,2,    0.000,2, -999.000,9,-999.0000,9,  -999.00,9,   -999.0,9,   -999.0,9,  -999.00,9,-999.0000,-999.000,  1.4962,-999.000
      325024_1,  P14N,   143,  1,     10,     10,2,19930818,2249,  0.0017, 179.0013, 5409,   3045.2,   1.6573,  34.6704,2,  34.6687,2,   -999.0,9,    137.5,2,   147.29,2,    36.47,2,     0.00,2,     2.58,2, -999.000,5, -999.000,5, -999.000,9,-999.0000,9,  -999.00,9,   -999.0,9,   -999.0,9,  -999.00,9,-999.0000,-999.000,  1.4327,-999.000
      325024_1,  P14N,   143,  1,      9,      9,2,19930818,2249,  0.0017, 179.0013, 5409,   3350.5,   1.5553,  34.6774,2,  34.6753,2,   -999.0,9,    145.9,2,   146.13,2,    35.91,2,     0.00,2,     2.53,2, -999.000,5, -999.000,5, -999.000,9,-999.0000,9,  -999.00,9,   -999.0,9,   -999.0,9,  -999.00,9,-999.0000,-999.000,  1.3030,-999.000
      325024_1,  P14N,   143,  1,      8,      8,2,19930818,2249,  0.0017, 179.0013, 5409,   3656.1,   1.4846,  34.6837,2,  34.6822,2,   -999.0,9,    154.4,2,   143.73,2,    35.22,2,     0.00,2,     2.48,2, -999.000,5, -999.000,5, -999.000,9,-999.0000,9,  -999.00,9,   -999.0,9,   -999.0,9,  -999.00,9,-999.0000,-999.000,  1.2028,-999.000
      325024_1,  P14N,   143,  1,      7,      7,2,19930818,2249,  0.0017, 179.0013, 5409,   3962.8,   1.4062,  34.6910,2,  34.6894,2,   -999.0,9,    165.0,2,   140.52,2,    34.54,2,     0.00,2,     2.42,2,   -0.002,2,    0.000,2, -999.000,9,-999.0000,9,  -999.00,9,   -999.0,9,   -999.0,9,  -999.00,9,-999.0000,-999.000,  1.0939,-999.000
      325024_1,  P14N,   143,  1,      6,      6,2,19930818,2249,  0.0017, 179.0013, 5409,   4271.1,   1.3305,  34.6961,2,  34.6949,2,   -999.0,9,    175.9,2,   135.68,2,    33.76,2,     0.00,2,     2.37,2, -999.000,5, -999.000,5, -999.000,9,-999.0000,9,  -999.00,9,   -999.0,9,   -999.0,9,  -999.00,9,-999.0000,-999.000,  0.9866,-999.000
      325024_1,  P14N,   143,  1,      5,      5,2,19930818,2249,  0.0017, 179.0013, 5409,   4578.9,   1.2653,  34.7010,2,  34.6996,2,   -999.0,9,    186.6,2,   130.25,2,    33.08,2,     0.00,2,     2.31,2,   -0.001,2,    0.000,2, -999.000,9,-999.0000,9,  -999.00,9,   -999.0,9,   -999.0,9,  -999.00,9,-999.0000,-999.000,  0.8885,-999.000
      325024_1,  P14N,   143,  1,      4,      4,2,19930818,2249,  0.0017, 179.0013, 5409,   4887.5,   1.2386,  34.7040,2,  34.7029,2,   -999.0,9,    192.3,2,   127.49,2,    32.71,2,     0.00,2,     2.28,2, -999.000,5, -999.000,5, -999.000,9,-999.0000,9,  -999.00,9,   -999.0,9,   -999.0,9,  -999.00,9,-999.0000,-999.000,  0.8265,-999.000
      325024_1,  P14N,   143,  1,      3,      3,2,19930818,2249,  0.0017, 179.0013, 5409,   5197.0,   1.2707,  34.7039,2,  34.7029,2,   -999.0,9,    193.2,2,   126.77,2,    32.59,2,     0.00,2,     2.27,2, -999.000,5, -999.000,5, -999.000,9,-999.0000,9,  -999.00,9,   -999.0,9,   -999.0,9,  -999.00,9,-999.0000,-999.000,  0.8201,-999.000
      325024_1,  P14N,   143,  1,      1,      1,2,19930818,2249,  0.0017, 179.0013, 5409,   5493.2,   1.3035,  34.7040,2,  34.7031,2,   -999.0,9,    192.0,2,   126.54,2,    32.48,2,     0.00,2,     2.27,2, -999.000,5, -999.000,5, -999.000,9,-999.0000,9,  -999.00,9,   -999.0,9,   -999.0,9,  -999.00,9,-999.0000,-999.000,  0.8149,-999.000
      325024_1,  P14N,   143,  1,      2,      2,2,19930818,2249,  0.0017, 179.0013, 5409,   5493.6,   1.3033,  34.7044,2,  34.7031,2,   -999.0,9,    194.1,2,   126.65,2,    32.30,2,     0.00,2,     2.28,2,   -0.001,2,    0.000,2, -999.000,9,-999.0000,9,  -999.00,9,   -999.0,9,   -999.0,9,  -999.00,9,-999.0000,-999.000,  0.8146,-999.000