BOTTLE,20131125MIRCJHATS
EXPOCODE,SECT_ID,STNNBR,CASTNO,SAMPNO,BTLNBR,BTLNBR_FLAG_W,DATE,TIME,LATITUDE,LONGITUDE,DEPTH,CTDPRS,CTDTMP,CTDSAL,CTDSAL_FLAG_W,SALNTY,SALNTY_FLAG_W,CTDOXY,CTDOXY_FLAG_W,OXYGEN,OXYGEN_FLAG_W,SILCAT,SILCAT_FLAG_W,NITRAT,NITRAT_FLAG_W,NITRIT,NITRIT_FLAG_W,PHSPHT,PHSPHT_FLAG_W,CFC-11,CFC-11_FLAG_W,CFC-12,CFC-12_FLAG_W,TRITUM,TRITUM_FLAG_W,HELIUM,HELIUM_FLAG_W,DELHE3,DELHE3_FLAG_W,TCARBN,TCARBN_FLAG_W,ALKALI,ALKALI_FLAG_W,PH,PH_FLAG_W,HELIER,DELHER,THETA,TRITER
,,,,,,,,,,,,DBAR,ITS-90,PSS-78,,PSS-78,,UMOL/KG,,UMOL/KG,,UMOL/KG,,UMOL/KG,,UMOL/KG,,UMOL/KG,,PMOL/KG,,PMOL/KG,,TU,,NMOL/KG,,PERCNT,,UMOL/KG,,UMOL/KG,,25_DEG,,NMOL/KG,PERCNT,DEG C,TU
      325023_1,  P14N,   129,  1,     36,     36,2,19930808,2130,  3.4965, 179.0055, 5513,      3.8,  29.7554,  33.9240,2,  33.9309,2,   -999.0,9,    196.5,2,     1.84,2,     0.11,2,     0.00,3,     0.11,2,    1.585,2,    0.897,2, -999.000,9,-999.0000,9,  -999.00,9,   -999.0,9,   -999.0,9,  -999.00,9,-999.0000,-999.000, 29.7545,-999.000
      325023_1,  P14N,   129,  1,     35,     35,2,19930808,2130,  3.4965, 179.0055, 5513,     39.0,  29.5594,  34.0669,2,  34.2402,2,   -999.0,9,    200.0,2,     1.82,2,     0.06,2,     0.00,3,     0.15,2,    1.593,2,    0.897,2, -999.000,9,-999.0000,9,  -999.00,9,   -999.0,9,   -999.0,9,  -999.00,9,-999.0000,-999.000, 29.5499,-999.000
      325023_1,  P14N,   129,  1,     34,     34,2,19930808,2130,  3.4965, 179.0055, 5513,     69.3,  27.9954,  34.8877,2,  34.9031,2,   -999.0,9,    194.8,2,     2.20,2,     0.02,2,     0.00,3,     0.25,2,    1.580,2,    0.885,2, -999.000,9,-999.0000,9,  -999.00,9,   -999.0,9,   -999.0,9,  -999.00,9,-999.0000,-999.000, 27.9791,-999.000
      325023_1,  P14N,   129,  1,     33,     33,2,19930808,2130,  3.4965, 179.0055, 5513,     99.4,  24.8476,  34.8709,2,  34.8707,2,   -999.0,9,    152.2,2,     4.39,2,     4.88,2,     0.47,3,     0.52,2,    1.572,2,    0.868,2, -999.000,9,-999.0000,9,  -999.00,9,   -999.0,9,   -999.0,9,  -999.00,9,-999.0000,-999.000, 24.8262,-999.000
      325023_1,  P14N,   129,  1,     32,     32,2,19930808,2130,  3.4965, 179.0055, 5513,    129.7,  19.6555,  34.7597,2,  34.7535,2,   -999.0,9,    145.7,2,     8.38,2,     8.63,2,     0.05,3,     0.72,2,    1.701,2,    0.863,2, -999.000,9,-999.0000,9,  -999.00,9,   -999.0,9,   -999.0,9,  -999.00,9,-999.0000,-999.000, 19.6319,-999.000
      325023_1,  P14N,   129,  1,     31,     31,2,19930808,2130,  3.4965, 179.0055, 5513,    159.7,  16.6163,  34.6896,2,  34.6916,2,   -999.0,9,    144.5,2,    13.56,2,    12.14,2,     0.03,3,     0.93,2,    1.613,2,    0.815,2, -999.000,9,-999.0000,9,  -999.00,9,   -999.0,9,   -999.0,9,  -999.00,9,-999.0000,-999.000, 16.5904,-999.000
      325023_1,  P14N,   129,  1,     30,     30,2,19930808,2130,  3.4965, 179.0055, 5513,    209.9,  11.7428,  34.5875,2,  34.5863,2,   -999.0,9,    123.3,2,    28.17,2,    21.88,2,     0.03,3,     1.59,2,    0.933,2,    0.441,2, -999.000,9,-999.0000,9,  -999.00,9,   -999.0,9,   -999.0,9,  -999.00,9,-999.0000,-999.000, 11.7159,-999.000
      325023_1,  P14N,   129,  1,     29,     29,2,19930808,2130,  3.4965, 179.0055, 5513,    260.7,   9.8847,  34.5803,2,  34.5753,2,   -999.0,9,    105.5,2,    35.36,2,    26.74,2,     0.03,3,     1.94,2,    0.558,2,    0.279,2, -999.000,9,-999.0000,9,  -999.00,9,   -999.0,9,   -999.0,9,  -999.00,9,-999.0000,-999.000,  9.8547,-999.000
      325023_1,  P14N,   129,  1,     28,     28,2,19930808,2130,  3.4965, 179.0055, 5513,    311.2,   9.2195,  34.6141,2,  34.6139,2,   -999.0,9,     94.3,2,    36.33,2,    29.47,2,     0.03,3,     2.11,2,    0.313,6,    0.153,6, -999.000,9,-999.0000,9,  -999.00,9,   -999.0,9,   -999.0,9,  -999.00,9,-999.0000,-999.000,  9.1851,-999.000
      325023_1,  P14N,   129,  1,     27,     27,2,19930808,2130,  3.4965, 179.0055, 5513,    411.8,   8.4268,  34.6048,2,  34.6033,2,   -999.0,9,     92.5,2,    38.11,2,    31.39,2,     0.03,3,     2.24,2,    0.186,2,    0.098,2, -999.000,9,-999.0000,9,  -999.00,9,   -999.0,9,   -999.0,9,  -999.00,9,-999.0000,-999.000,  8.3835,-999.000
      325023_1,  P14N,   129,  1,     26,     26,2,19930808,2130,  3.4965, 179.0055, 5513,    512.5,   7.6508,  34.5905,2,  34.5874,2,   -999.0,9,     65.5,2,    45.09,2,    35.72,2,     0.03,3,     2.55,2,    0.043,2,    0.023,2, -999.000,9,-999.0000,9,  -999.00,9,   -999.0,9,   -999.0,9,  -999.00,9,-999.0000,-999.000,  7.5995,-999.000
      325023_1,  P14N,   129,  1,     25,     25,2,19930808,2130,  3.4965, 179.0055, 5513,    613.2,   6.6599,  34.5573,2,  34.5575,2,   -999.0,9,     65.3,2,    55.09,2,    37.93,2,     0.03,3,     2.71,2,    0.018,2,    0.008,2, -999.000,9,-999.0000,9,  -999.00,9,   -999.0,9,   -999.0,9,  -999.00,9,-999.0000,-999.000,  6.6028,-999.000
      325023_1,  P14N,   129,  1,     24,     24,2,19930808,2130,  3.4965, 179.0055, 5513,    713.6,   5.9212,  34.5478,2,  34.5473,2,   -999.0,9,     60.8,2,    66.31,2,    39.76,2,     0.03,3,     2.84,2,   -0.001,2,    0.003,2, -999.000,9,-999.0000,9,  -999.00,9,   -999.0,9,   -999.0,9,  -999.00,9,-999.0000,-999.000,  5.8582,-999.000
      325023_1,  P14N,   129,  1,     23,     23,2,19930808,2130,  3.4965, 179.0055, 5513,    814.7,   5.3613,  34.5444,2,  34.5436,2,   -999.0,9,     76.2,2,    72.71,2,    39.07,2,     0.03,3,     2.80,2,    0.003,2,    0.001,2, -999.000,9,-999.0000,9,  -999.00,9,   -999.0,9,   -999.0,9,  -999.00,9,-999.0000,-999.000,  5.2922,-999.000
      325023_1,  P14N,   129,  1,     22,     22,2,19930808,2130,  3.4965, 179.0055, 5513,    915.6,   4.9288,  34.5475,2,  34.5467,2,   -999.0,9,     79.8,2,    80.94,2,    39.21,2,     0.03,3,     2.79,2,    0.000,2,    0.001,2, -999.000,9,-999.0000,9,  -999.00,9,   -999.0,9,   -999.0,9,  -999.00,9,-999.0000,-999.000,  4.8535,-999.000
      325023_1,  P14N,   129,  1,     21,     21,2,19930808,2130,  3.4965, 179.0055, 5513,   1016.2,   4.6147,  34.5536,2,  34.5530,2,   -999.0,9,     78.5,2,    88.98,2,    39.57,2,     0.03,3,     2.83,2,    0.003,2,    0.003,2, -999.000,9,-999.0000,9,  -999.00,9,   -999.0,9,   -999.0,9,  -999.00,9,-999.0000,-999.000,  4.5328,-999.000
      325023_1,  P14N,   129,  1,     20,     20,2,19930808,2130,  3.4965, 179.0055, 5513,   1218.0,   3.6628,  34.5796,2,  34.5783,2,   -999.0,9,     81.4,2,   109.69,2,    40.17,2,     0.03,3,     2.87,2, -999.000,5, -999.000,5, -999.000,9,-999.0000,9,  -999.00,9,   -999.0,9,   -999.0,9,  -999.00,9,-999.0000,-999.000,  3.5716,-999.000
      325023_1,  P14N,   129,  1,     19,     19,2,19930808,2130,  3.4965, 179.0055, 5513,   1420.5,   3.1579,  34.5978,2,  34.5961,2,   -999.0,9,     86.0,2,   121.35,2,    40.13,2,     0.03,3,     2.85,2, -999.000,5, -999.000,5, -999.000,9,-999.0000,9,  -999.00,9,   -999.0,9,   -999.0,9,  -999.00,9,-999.0000,-999.000,  3.0549,-999.000
      325023_1,  P14N,   129,  1,     18,     18,2,19930808,2130,  3.4965, 179.0055, 5513,   1623.5,   2.7287,  34.6136,2,  34.6125,2,   -999.0,9,    102.8,2,   127.50,2,    38.93,2,     0.03,3,     2.76,2, -999.000,5, -999.000,5, -999.000,9,-999.0000,9,  -999.00,9,   -999.0,9,   -999.0,9,  -999.00,9,-999.0000,-999.000,  2.6137,-999.000
      325023_1,  P14N,   129,  1,     17,     17,2,19930808,2130,  3.4965, 179.0055, 5513,   1826.7,   2.4513,  34.6265,2,  34.6253,2,   -999.0,9,    108.2,2,   133.26,2,    38.62,2,     0.03,3,     2.74,2, -999.000,5, -999.000,5, -999.000,9,-999.0000,9,  -999.00,9,   -999.0,9,   -999.0,9,  -999.00,9,-999.0000,-999.000,  2.3229,-999.000
      325023_1,  P14N,   129,  1,     16,     16,2,19930808,2130,  3.4965, 179.0055, 5513,   2029.6,   2.2214,  34.6393,2,  34.6384,2,   -999.0,9,    108.3,2,   141.35,2,    38.71,2,     0.03,3,     2.74,2, -999.000,5, -999.000,5, -999.000,9,-999.0000,9,  -999.00,9,   -999.0,9,   -999.0,9,  -999.00,9,-999.0000,-999.000,  2.0790,-999.000
      325023_1,  P14N,   129,  1,     15,     15,2,19930808,2130,  3.4965, 179.0055, 5513,   2232.2,   2.0310,  34.6496,2,  34.6498,2,   -999.0,9,    114.0,2,   144.86,2,    38.25,2,     0.03,3,     2.70,2,   -0.002,2,    0.008,2, -999.000,9,-999.0000,9,  -999.00,9,   -999.0,9,   -999.0,9,  -999.00,9,-999.0000,-999.000,  1.8741,-999.000
      325023_1,  P14N,   129,  1,     14,     14,2,19930808,2130,  3.4965, 179.0055, 5513,   2436.6,   1.9137,  34.6572,2,  34.6564,2,   -999.0,9,    118.2,2,   147.54,2,    38.21,2,     0.03,3,     2.68,2, -999.000,5, -999.000,5, -999.000,9,-999.0000,9,  -999.00,9,   -999.0,9,   -999.0,9,  -999.00,9,-999.0000,-999.000,  1.7407,-999.000
      325023_1,  P14N,   129,  1,     13,     13,2,19930808,2130,  3.4965, 179.0055, 5513,   2640.6,   1.8158,  34.6621,2,  34.6607,2,   -999.0,9,    123.4,2,   149.38,2,    37.89,2,     0.03,3,     2.65,2, -999.000,5, -999.000,5, -999.000,9,-999.0000,9,  -999.00,9,   -999.0,9,   -999.0,9,  -999.00,9,-999.0000,-999.000,  1.6261,-999.000
      325023_1,  P14N,   129,  1,     12,     12,2,19930808,2130,  3.4965, 179.0055, 5513,   2844.5,   1.7500,  34.6668,2,  34.6666,2,   -999.0,9,    126.3,2,   150.38,2,    37.66,2,     0.03,3,     2.63,2, -999.000,5, -999.000,5, -999.000,9,-999.0000,9,  -999.00,9,   -999.0,9,   -999.0,9,  -999.00,9,-999.0000,-999.000,  1.5426,-999.000
      325023_1,  P14N,   129,  1,     11,     11,2,19930808,2130,  3.4965, 179.0055, 5513,   3048.8,   1.6779,  34.6704,2,  34.6703,2,   -999.0,9,    133.4,2,   149.26,2,    37.12,2,     0.03,3,     2.58,2, -999.000,5, -999.000,5, -999.000,9,-999.0000,9,  -999.00,9,   -999.0,9,   -999.0,9,  -999.00,9,-999.0000,-999.000,  1.4525,-999.000
      325023_1,  P14N,   129,  1,     10,     10,2,19930808,2130,  3.4965, 179.0055, 5513,   3355.0,   1.5764,  34.6767,2,  34.6766,2,   -999.0,9,    143.2,2,   147.30,2,    36.49,2,     0.03,3,     2.53,2,    0.003,2,   -0.004,3, -999.000,9,-999.0000,9,  -999.00,9,   -999.0,9,   -999.0,9,  -999.00,9,-999.0000,-999.000,  1.3231,-999.000
      325023_1,  P14N,   129,  1,      9,      9,2,19930808,2130,  3.4965, 179.0055, 5513,   3661.5,   1.5185,  34.6817,2,  34.6815,2,   -999.0,9,    150.8,2,   144.92,2,    35.95,2,     0.03,3,     2.49,2, -999.000,5, -999.000,5, -999.000,9,-999.0000,9,  -999.00,9,   -999.0,9,   -999.0,9,  -999.00,9,-999.0000,-999.000,  1.2352,-999.000
      325023_1,  P14N,   129,  1,      8,      8,2,19930808,2130,  3.4965, 179.0055, 5513,   3968.9,   1.4148,  34.6894,2,  34.6895,2,   -999.0,9,    162.6,2,   141.71,2,    35.19,2,     0.03,3,     2.43,2, -999.000,5, -999.000,5, -999.000,9,-999.0000,9,  -999.00,9,   -999.0,9,   -999.0,9,  -999.00,9,-999.0000,-999.000,  1.1016,-999.000
      325023_1,  P14N,   129,  1,      7,      7,2,19930808,2130,  3.4965, 179.0055, 5513,   4276.5,   1.2819,  34.6980,2,  34.6985,2,   -999.0,9,    178.8,2,   134.77,2,    34.04,2,     0.03,3,     2.34,2, -999.000,5, -999.000,5, -999.000,9,-999.0000,9,  -999.00,9,   -999.0,9,   -999.0,9,  -999.00,9,-999.0000,-999.000,  0.9388,-999.000
      325023_1,  P14N,   129,  1,      6,      6,2,19930808,2130,  3.4965, 179.0055, 5513,   4584.5,   1.2503,  34.7014,2,  34.7020,2,   -999.0,9,    185.8,2,   130.97,2,    33.46,2,     0.03,3,     2.30,2, -999.000,5, -999.000,5, -999.000,9,-999.0000,9,  -999.00,9,   -999.0,9,   -999.0,9,  -999.00,9,-999.0000,-999.000,  0.8733,-999.000
      325023_1,  P14N,   129,  1,      5,      5,2,19930808,2130,  3.4965, 179.0055, 5513,   4893.1,   1.2618,  34.7030,2,  34.7038,2,   -999.0,9,    189.2,2,   129.26,2,    33.24,2,     0.03,3,     2.30,2, -999.000,5, -999.000,5, -999.000,9,-999.0000,9,  -999.00,9,   -999.0,9,   -999.0,9,  -999.00,9,-999.0000,-999.000,  0.8483,-999.000
      325023_1,  P14N,   129,  1,      4,      4,2,19930808,2130,  3.4965, 179.0055, 5513,   5201.4,   1.2908,  34.7034,2,  34.7035,2,   -999.0,9,    191.2,2,   128.17,2,    33.07,2,     0.03,3,     2.29,2, -999.000,5, -999.000,5, -999.000,9,-999.0000,9,  -999.00,9,   -999.0,9,   -999.0,9,  -999.00,9,-999.0000,-999.000,  0.8391,-999.000
      325023_1,  P14N,   129,  1,      3,      3,2,19930808,2130,  3.4965, 179.0055, 5513,   5407.6,   1.3128,  34.7043,2,  34.7043,2,   -999.0,9,    191.3,2,   127.70,2,    33.02,2,     0.03,3,     2.27,2, -999.000,5, -999.000,5, -999.000,9,-999.0000,9,  -999.00,9,   -999.0,9,   -999.0,9,  -999.00,9,-999.0000,-999.000,  0.8346,-999.000
      325023_1,  P14N,   129,  1,      1,      1,3,19930808,2130,  3.4965, 179.0055, 5513,   5597.8,   1.3378,  34.7041,2,  34.9399,4,   -999.0,9,    198.6,4,     3.70,4,     0.14,4,     0.00,4,     0.25,4, -999.000,5, -999.000,5, -999.000,9,-999.0000,9,  -999.00,9,   -999.0,9,   -999.0,9,  -999.00,9,-999.0000,-999.000,  0.8346,-999.000
      325023_1,  P14N,   129,  1,      2,      2,2,19930808,2130,  3.4965, 179.0055, 5513,   5597.9,   1.3379,  34.7037,2,  34.7045,2,   -999.0,9,    191.2,2,   127.85,2,    32.98,2,     0.03,3,     2.27,2,    0.003,2,    0.003,2, -999.000,9,-999.0000,9,  -999.00,9,   -999.0,9,   -999.0,9,  -999.00,9,-999.0000,-999.000,  0.8347,-999.000