BOTTLE,20131125MIRCJHATS
EXPOCODE,SECT_ID,STNNBR,CASTNO,SAMPNO,BTLNBR,BTLNBR_FLAG_W,DATE,TIME,LATITUDE,LONGITUDE,DEPTH,CTDPRS,CTDTMP,CTDSAL,CTDSAL_FLAG_W,SALNTY,SALNTY_FLAG_W,CTDOXY,CTDOXY_FLAG_W,OXYGEN,OXYGEN_FLAG_W,SILCAT,SILCAT_FLAG_W,NITRAT,NITRAT_FLAG_W,NITRIT,NITRIT_FLAG_W,PHSPHT,PHSPHT_FLAG_W,CFC-11,CFC-11_FLAG_W,CFC-12,CFC-12_FLAG_W,TRITUM,TRITUM_FLAG_W,HELIUM,HELIUM_FLAG_W,DELHE3,DELHE3_FLAG_W,TCARBN,TCARBN_FLAG_W,ALKALI,ALKALI_FLAG_W,PH,PH_FLAG_W,HELIER,DELHER,THETA,TRITER
,,,,,,,,,,,,DBAR,ITS-90,PSS-78,,PSS-78,,UMOL/KG,,UMOL/KG,,UMOL/KG,,UMOL/KG,,UMOL/KG,,UMOL/KG,,PMOL/KG,,PMOL/KG,,TU,,NMOL/KG,,PERCNT,,UMOL/KG,,UMOL/KG,,25_DEG,,NMOL/KG,PERCNT,DEG C,TU
      325024_1,  P14N,   180,  1,     36,     36,2,19930828,0250,-13.4970, 179.0015, 3053,      2.9,  27.3529,  34.6462,2,  34.6521,2,   -999.0,9,    199.7,2,     2.04,2,     0.00,2,     0.00,2,     0.20,2, -999.000,5, -999.000,5, -999.000,9,-999.0000,9,  -999.00,9,   1923.0,2,   2274.0,2,     8.11,2,-999.0000,-999.000, 27.3523,-999.000
      325024_1,  P14N,   180,  1,     35,     35,2,19930828,0250,-13.4970, 179.0015, 3053,     35.0,  27.1283,  34.6817,2,  34.6882,2,   -999.0,9,    200.3,2,     1.82,2,     0.00,2,     0.00,2,     0.20,2, -999.000,5, -999.000,5, -999.000,9,-999.0000,9,  -999.00,9,   1924.0,2,   2276.0,2,     8.11,2,-999.0000,-999.000, 27.1202,-999.000
      325024_1,  P14N,   180,  1,     34,     34,2,19930828,0250,-13.4970, 179.0015, 3053,     65.0,  26.7078,  34.7987,2,  34.8242,2,   -999.0,9,    201.5,2,     1.60,2,     0.00,2,     0.00,2,     0.19,2, -999.000,5, -999.000,5, -999.000,9,-999.0000,9,  -999.00,9,   1933.0,2,   2283.0,2,     8.10,2,-999.0000,-999.000, 26.6930,-999.000
      325024_1,  P14N,   180,  1,     33,     33,2,19930828,0250,-13.4970, 179.0015, 3053,     95.2,  26.9626,  35.6292,2,  35.6980,2,   -999.0,9,    192.6,2,     1.38,2,     0.00,2,     0.01,2,     0.23,2, -999.000,5, -999.000,5, -999.000,9,-999.0000,9,  -999.00,9,   1996.0,2,   2348.0,2,     8.08,2,-999.0000,-999.000, 26.9407,-999.000
      325024_1,  P14N,   180,  1,     32,     32,2,19930828,0250,-13.4970, 179.0015, 3053,    125.3,  26.0059,  36.0543,2,  36.0600,2,   -999.0,9,    170.8,2,     1.36,2,     1.17,2,     0.24,2,     0.38,2, -999.000,5, -999.000,5, -999.000,9,-999.0000,9,  -999.00,9,   2044.0,2,   2371.0,2,     8.03,2,-999.0000,-999.000, 25.9778,-999.000
      325024_1,  P14N,   180,  1,     31,     31,2,19930828,0250,-13.4970, 179.0015, 3053,    155.8,  24.2759,  36.1662,2,  36.1702,2,   -999.0,9,    149.9,2,     1.34,2,     4.79,2,     0.04,2,     0.59,2, -999.000,5, -999.000,5, -999.000,9,-999.0000,9,  -999.00,9,   2085.0,2,   2378.0,2,     7.98,2,-999.0000,-999.000, 24.2426,-999.000
      325024_1,  P14N,   180,  1,     30,     30,2,19930828,0250,-13.4970, 179.0015, 3053,    205.9,  20.8230,  35.8959,2,  35.8905,2,   -999.0,9,    148.9,2,     1.72,2,     6.96,2,     0.01,2,     0.73,2, -999.000,5, -999.000,5, -999.000,9,-999.0000,9,  -999.00,9,   2109.0,2,   2357.0,2,     7.90,2,-999.0000,-999.000, 20.7837,-999.000
      325024_1,  P14N,   180,  1,     29,     29,2,19930828,0250,-13.4970, 179.0015, 3053,    254.9,  17.9540,  35.5194,2,  35.5085,2,   -999.0,9,    144.6,2,     3.30,2,     9.53,2,     0.00,2,     0.91,2, -999.000,5, -999.000,5, -999.000,9,-999.0000,9,  -999.00,9,   2118.0,2,   2335.0,2,     7.85,2,-999.0000,-999.000, 17.9101,-999.000
      325024_1,  P14N,   180,  1,     28,     28,2,19930828,0250,-13.4970, 179.0015, 3053,    304.9,  15.1490,  35.1846,2,  35.1670,2,   -999.0,9,    125.6,2,     7.49,2,    15.21,2,     0.00,2,     1.27,2, -999.000,5, -999.000,5, -999.000,9,-999.0000,9,  -999.00,9,   2145.0,2,   2319.0,2,     7.76,2,-999.0000,-999.000, 15.1023,-999.000
      325024_1,  P14N,   180,  1,     27,     27,2,19930828,0250,-13.4970, 179.0015, 3053,    356.3,  12.3093,  34.8867,2,  34.8760,2,   -999.0,9,    108.6,2,    13.48,2,    21.60,2,     0.00,2,     1.68,2, -999.000,5, -999.000,5, -999.000,9,-999.0000,9,  -999.00,9,   2176.0,2,   2303.0,2,     7.66,2,-999.0000,-999.000, 12.2618,-999.000
      325024_1,  P14N,   180,  1,     26,     26,2,19930828,0250,-13.4970, 179.0015, 3053,    407.4,  10.0163,  34.6963,2,  34.6873,2,   -999.0,9,    131.6,2,    17.07,2,    24.44,2,     0.00,2,     1.80,2, -999.000,5, -999.000,5, -999.000,9,-999.0000,9,  -999.00,9,   2181.0,2,   2298.0,2,     7.64,2,-999.0000,-999.000,  9.9686,-999.000
      325024_1,  P14N,   180,  1,     25,     25,2,19930828,0250,-13.4970, 179.0015, 3053,    458.0,   8.2288,  34.5455,2,  34.5457,2,   -999.0,9,    159.9,2,    17.45,2,    25.51,2,     0.00,2,     1.82,2, -999.000,5, -999.000,5, -999.000,9,-999.0000,9,  -999.00,9,   2176.0,2,   2290.0,2,     7.63,2,-999.0000,-999.000,  8.1812,-999.000
      325024_1,  P14N,   180,  1,     24,     24,2,19930828,0250,-13.4970, 179.0015, 3053,    508.3,   7.0700,  34.4704,2,  34.4667,2,   -999.0,9,    172.3,2,    21.03,2,    27.24,2,     0.00,2,     1.91,2, -999.000,5, -999.000,5, -999.000,9,-999.0000,9,  -999.00,9,   2180.0,2,   2291.0,2,     7.62,2,-999.0000,-999.000,  7.0215,-999.000
      325024_1,  P14N,   180,  1,     23,     23,2,19930828,0250,-13.4970, 179.0015, 3053,    609.0,   5.7849,  34.4156,2,  34.4161,2,   -999.0,9,    172.7,2,    30.83,2,    30.11,2,     0.00,2,     2.10,2, -999.000,5, -999.000,5, -999.000,9,-999.0000,9,  -999.00,9,   2197.0,2,   2296.0,2,     7.59,2,-999.0000,-999.000,  5.7323,-999.000
      325024_1,  P14N,   180,  1,     22,     22,2,19930828,0250,-13.4970, 179.0015, 3053,    709.5,   5.2003,  34.4394,2,  34.4410,2,   -999.0,9,    159.4,2,    42.84,2,    32.38,2,     0.00,2,     2.25,2, -999.000,5, -999.000,5, -999.000,9,-999.0000,9,  -999.00,9,   2218.0,2,   2312.0,2,     7.57,2,-999.0000,-999.000,  5.1417,-999.000
      325024_1,  P14N,   180,  1,     21,     21,2,19930828,0250,-13.4970, 179.0015, 3053,    810.4,   4.8189,  34.4627,2,  34.4651,2,   -999.0,9,    151.6,2,    52.64,2,    33.65,2,     0.00,2,     2.34,2, -999.000,5, -999.000,5, -999.000,9,-999.0000,9,  -999.00,9,   2232.0,2,   2319.0,2,     7.55,2,-999.0000,-999.000,  4.7536,-999.000
      325024_1,  P14N,   180,  1,     20,     20,2,19930828,0250,-13.4970, 179.0015, 3053,    911.2,   4.3028,  34.4878,2,  34.4884,2,   -999.0,9,    145.2,2,    64.47,2,    34.54,2,     0.00,2,     2.38,2, -999.000,5, -999.000,5, -999.000,9,-999.0000,9,  -999.00,9,   2248.0,2,   2332.0,2,     7.55,2,-999.0000,-999.000,  4.2323,-999.000
      325024_1,  P14N,   180,  1,     19,     19,2,19930828,0250,-13.4970, 179.0015, 3053,   1011.3,   3.9925,  34.5073,2,  34.5063,2,   -999.0,9,    142.8,2,    71.69,2,    35.20,2,     0.00,2,     2.45,2, -999.000,5, -999.000,5, -999.000,9,-999.0000,9,  -999.00,9,   2259.0,2,   2339.0,2,     7.53,2,-999.0000,-999.000,  3.9159,-999.000
      325024_1,  P14N,   180,  1,     18,     18,2,19930828,0250,-13.4970, 179.0015, 3053,   1112.3,   3.6947,  34.5248,2,  34.5239,2,   -999.0,9,    141.6,2,    79.12,2,    35.60,2,     0.00,2,     2.47,2, -999.000,5, -999.000,5, -999.000,9,-999.0000,9,  -999.00,9,   2267.0,2,   2350.0,2,     7.55,2,-999.0000,-999.000,  3.6121,-999.000
      325024_1,  P14N,   180,  1,     17,     17,2,19930828,0250,-13.4970, 179.0015, 3053,   1212.9,   3.4061,  34.5506,2,  34.5504,2,   -999.0,9,    137.0,2,    88.39,2,    36.04,2,     0.00,2,     2.52,2, -999.000,5, -999.000,5, -999.000,9,-999.0000,9,  -999.00,9,   2280.0,2,   2357.0,2,     7.52,2,-999.0000,-999.000,  3.3178,-999.000
      325024_1,  P14N,   180,  1,     16,     16,2,19930828,0250,-13.4970, 179.0015, 3053,   1313.3,   3.2222,  34.5577,2,  34.5568,2,   -999.0,9,    140.1,2,    91.40,2,    35.90,2,     0.00,2,     2.50,2, -999.000,5, -999.000,5, -999.000,9,-999.0000,9,  -999.00,9,   2283.0,2,   2363.0,2,     7.54,2,-999.0000,-999.000,  3.1274,-999.000
      325024_1,  P14N,   180,  1,     15,     15,2,19930828,0250,-13.4970, 179.0015, 3053,   1414.6,   3.0073,  34.5684,2,  34.5684,2,   -999.0,9,    142.3,2,    96.64,2,    35.81,2,     0.00,2,     2.48,2, -999.000,5, -999.000,5, -999.000,9,-999.0000,9,  -999.00,9,   2286.0,2,   2366.0,2,     7.53,2,-999.0000,-999.000,  2.9065,-999.000
      325024_1,  P14N,   180,  1,     14,     14,2,19930828,0250,-13.4970, 179.0015, 3053,   1516.6,   2.8431,  34.5818,2,  34.5815,2,   -999.0,9,    142.2,2,   101.70,2,    35.98,2,     0.00,2,     2.50,2, -999.000,5, -999.000,5, -999.000,9,-999.0000,9,  -999.00,9,   2290.0,2,   2373.0,2,     7.54,2,-999.0000,-999.000,  2.7357,-999.000
      325024_1,  P14N,   180,  1,     13,     13,2,19930828,0250,-13.4970, 179.0015, 3053,   1618.5,   2.7009,  34.5924,2,  34.5915,2,   -999.0,9,    142.7,2,   105.74,2,    35.98,2,     0.00,2,     2.50,2, -999.000,5, -999.000,5, -999.000,9,-999.0000,9,  -999.00,9,   2295.0,2,   2376.0,2,     7.53,2,-999.0000,-999.000,  2.5868,-999.000
      325024_1,  P14N,   180,  1,     12,     12,2,19930828,0250,-13.4970, 179.0015, 3053,   1720.1,   2.5567,  34.6034,2,  34.6029,2,   -999.0,9,    142.8,2,   110.20,2,    36.02,2,     0.00,2,     2.51,2,   -0.003,2,    0.000,2, -999.000,9,-999.0000,9,  -999.00,9,   2299.0,2,   2382.0,2,     7.54,2,-999.0000,-999.000,  2.4359,-999.000
      325024_1,  P14N,   180,  1,     11,     11,2,19930828,0250,-13.4970, 179.0015, 3053,   1822.2,   2.4372,  34.6131,2,  34.6119,2,   -999.0,9,    143.9,2,   113.03,2,    35.93,2,     0.00,2,     2.50,2, -999.000,5, -999.000,5, -999.000,9,-999.0000,9,  -999.00,9,   2301.0,2,   2385.0,2,     7.54,2,-999.0000,-999.000,  2.3094,-999.000
      325024_1,  P14N,   180,  1,     10,     10,2,19930828,0250,-13.4970, 179.0015, 3053,   1923.1,   2.3570,  34.6200,2,  34.6196,2,   -999.0,9,    144.0,2,   116.28,2,    36.06,2,     0.00,2,     2.51,2, -999.000,5, -999.000,5, -999.000,9,-999.0000,9,  -999.00,9,   2308.0,2,   2391.0,2,     7.55,2,-999.0000,-999.000,  2.2217,-999.000
      325024_1,  P14N,   180,  1,      9,      9,2,19930828,0250,-13.4970, 179.0015, 3053,   2025.6,   2.2657,  34.6273,2,  34.6268,2,   -999.0,9,    144.0,2,   119.12,2,    36.01,2,     0.00,2,     2.51,2, -999.000,5, -999.000,5, -999.000,9,-999.0000,9,  -999.00,9,   2305.0,2,   2393.0,2,     7.54,2,-999.0000,-999.000,  2.1231,-999.000
      325024_1,  P14N,   180,  1,      8,      8,2,19930828,0250,-13.4970, 179.0015, 3053,   2127.5,   2.1472,  34.6363,2,  34.6354,2,   -999.0,9,    144.1,2,   122.58,2,    36.14,2,     0.00,2,     2.50,2,   -0.002,2,    0.002,2, -999.000,9,-999.0000,9,  -999.00,9,   2312.0,2,   2397.0,2,     7.55,2,-999.0000,-999.000,  1.9976,-999.000
      325024_1,  P14N,   180,  1,      7,      7,3,19930828,0250,-13.4970, 179.0015, 3053,   2229.6,   2.0524,  34.6442,2,  34.6600,4,   -999.0,9,    144.5,4,   119.03,4,    34.98,4,     0.00,4,     2.42,4, -999.000,5, -999.000,5, -999.000,9,-999.0000,9,  -999.00,9,   2307.0,2,   2392.0,2,     7.54,2,-999.0000,-999.000,  1.8954,-999.000
      325024_1,  P14N,   180,  1,      6,      6,2,19930828,0250,-13.4970, 179.0015, 3053,   2331.7,   1.9436,  34.6517,2,  34.6517,2,   -999.0,9,    145.4,2,   130.78,2,    36.27,2,     0.00,2,     2.49,2, -999.000,5, -999.000,5, -999.000,9,-999.0000,9,  -999.00,9,   2316.0,2,   2403.0,2,     7.54,2,-999.0000,-999.000,  1.7794,-999.000
      325024_1,  P14N,   180,  1,      5,      5,2,19930828,0250,-13.4970, 179.0015, 3053,   2433.3,   1.8591,  34.6572,2,  34.6568,2,   -999.0,9,    146.3,2,   133.03,2,    36.18,2,     0.00,2,     2.49,2,   -0.002,2,    0.003,2, -999.000,9,-999.0000,9,  -999.00,9,   2320.0,2,   2401.0,2,     7.54,2,-999.0000,-999.000,  1.6874,-999.000
      325024_1,  P14N,   180,  1,      4,      4,2,19930828,0250,-13.4970, 179.0015, 3053,   2535.5,   1.8061,  34.6609,2,  34.6607,2,   -999.0,9,    147.7,2,   134.44,2,    36.17,2,     0.00,2,     2.51,2,    0.001,4,    0.000,2, -999.000,9,-999.0000,9,  -999.00,9,   2320.0,2,   2406.0,2,     7.55,2,-999.0000,-999.000,  1.6262,-999.000
      325024_1,  P14N,   180,  1,      3,      3,3,19930828,0250,-13.4970, 179.0015, 3053,   2637.0,   1.7825,  34.6629,2,  34.6660,4,   -999.0,9,    147.6,4,   129.61,4,    35.50,4,     0.00,4,     2.46,4, -999.000,5, -999.000,5, -999.000,9,-999.0000,9,  -999.00,9,   2315.0,2,   2398.0,2,     7.54,2,-999.0000,-999.000,  1.5938,-999.000
      325024_1,  P14N,   180,  1,      2,      2,2,19930828,0250,-13.4970, 179.0015, 3053,   2839.9,   1.7500,  34.6660,2,  34.6658,2,   -999.0,9,    149.4,2,   136.02,2,    35.99,2,     0.00,2,     2.48,2, -999.000,5, -999.000,5, -999.000,9,-999.0000,9,  -999.00,9,   2319.0,2,   2400.0,2,     7.53,2,-999.0000,-999.000,  1.5431,-999.000
      325024_1,  P14N,   180,  1,      1,      1,2,19930828,0250,-13.4970, 179.0015, 3053,   3076.5,   1.7295,  34.6690,2,  34.6678,2,   -999.0,9,    149.4,2,   136.60,2,    35.94,2,     0.00,2,     2.49,2,   -0.001,2,    0.001,2, -999.000,9,-999.0000,9,  -999.00,9,   2318.0,2,   2404.0,2,     7.54,2,-999.0000,-999.000,  1.5003,-999.000