BOTTLE,20131125MIRCJHATS
EXPOCODE,SECT_ID,STNNBR,CASTNO,SAMPNO,BTLNBR,BTLNBR_FLAG_W,DATE,TIME,LATITUDE,LONGITUDE,DEPTH,CTDPRS,CTDTMP,CTDSAL,CTDSAL_FLAG_W,SALNTY,SALNTY_FLAG_W,CTDOXY,CTDOXY_FLAG_W,OXYGEN,OXYGEN_FLAG_W,SILCAT,SILCAT_FLAG_W,NITRAT,NITRAT_FLAG_W,NITRIT,NITRIT_FLAG_W,PHSPHT,PHSPHT_FLAG_W,CFC-11,CFC-11_FLAG_W,CFC-12,CFC-12_FLAG_W,TRITUM,TRITUM_FLAG_W,HELIUM,HELIUM_FLAG_W,DELHE3,DELHE3_FLAG_W,TCARBN,TCARBN_FLAG_W,ALKALI,ALKALI_FLAG_W,PH,PH_FLAG_W,HELIER,DELHER,THETA,TRITER
,,,,,,,,,,,,DBAR,ITS-90,PSS-78,,PSS-78,,UMOL/KG,,UMOL/KG,,UMOL/KG,,UMOL/KG,,UMOL/KG,,UMOL/KG,,PMOL/KG,,PMOL/KG,,TU,,NMOL/KG,,PERCNT,,UMOL/KG,,UMOL/KG,,25_DEG,,NMOL/KG,PERCNT,DEG C,TU
      325023_1,  P14N,    80,  1,     36,     36,2,19930728,0415, 22.5088, 179.0037, 5401,      3.1,  27.8053,  35.2273,2,  35.2383,2,   -999.0,9,    202.8,2,     2.96,2,     0.07,2,     0.00,2,     0.05,2, -999.000,5, -999.000,5, -999.000,9,-999.0000,9,  -999.00,9,   -999.0,9,   -999.0,9,  -999.00,9,-999.0000,-999.000, 27.8046,-999.000
      325023_1,  P14N,    80,  1,     35,     35,2,19930728,0415, 22.5088, 179.0037, 5401,      3.4,  27.7753,  35.2370,2,  35.2412,2,   -999.0,9,    202.4,2,     2.66,2,     0.07,2,     0.00,2,     0.03,2, -999.000,5, -999.000,5, -999.000,9,-999.0000,9,  -999.00,9,   -999.0,9,   -999.0,9,  -999.00,9,-999.0000,-999.000, 27.7745,-999.000
      325023_1,  P14N,    80,  1,     34,     34,2,19930728,0415, 22.5088, 179.0037, 5401,     39.8,  27.4689,  35.2713,2,  35.2723,2,   -999.0,9,    204.5,2,     2.57,2,     0.07,2,     0.00,2,     0.02,2, -999.000,5, -999.000,5, -999.000,9,-999.0000,9,  -999.00,9,   -999.0,9,   -999.0,9,  -999.00,9,-999.0000,-999.000, 27.4596,-999.000
      325023_1,  P14N,    80,  1,     33,     33,2,19930728,0415, 22.5088, 179.0037, 5401,     70.4,  24.7296,  35.1689,2,  35.1706,2,   -999.0,9,    221.9,2,     2.48,2,     0.07,2,     0.00,2,     0.02,2, -999.000,5, -999.000,5, -999.000,9,-999.0000,9,  -999.00,9,   -999.0,9,   -999.0,9,  -999.00,9,-999.0000,-999.000, 24.7144,-999.000
      325023_1,  P14N,    80,  1,     32,     32,2,19930728,0415, 22.5088, 179.0037, 5401,    100.7,  23.3842,  35.2198,2,  35.2182,2,   -999.0,9,    216.9,2,     2.39,2,     0.07,2,     0.00,2,     0.04,2, -999.000,5, -999.000,5, -999.000,9,-999.0000,9,  -999.00,9,   -999.0,9,   -999.0,9,  -999.00,9,-999.0000,-999.000, 23.3634,-999.000
      325023_1,  P14N,    80,  1,     31,     31,2,19930728,0415, 22.5088, 179.0037, 5401,    130.3,  22.2141,  35.2630,2,  35.2607,2,   -999.0,9,    212.8,2,     2.52,2,     0.06,2,     0.00,2,     0.05,2, -999.000,5, -999.000,5, -999.000,9,-999.0000,9,  -999.00,9,   -999.0,9,   -999.0,9,  -999.00,9,-999.0000,-999.000, 22.1881,-999.000
      325023_1,  P14N,    80,  1,     30,     30,2,19930728,0415, 22.5088, 179.0037, 5401,    161.1,  20.4188,  35.1598,2,  35.1594,2,   -999.0,9,    197.9,2,     2.86,2,     0.94,2,     0.08,2,     0.17,2, -999.000,5, -999.000,5, -999.000,9,-999.0000,9,  -999.00,9,   -999.0,9,   -999.0,9,  -999.00,9,-999.0000,-999.000, 20.3886,-999.000
      325023_1,  P14N,    80,  1,     29,     29,2,19930728,0415, 22.5088, 179.0037, 5401,    211.5,  18.2126,  34.9524,2,  34.9554,2,   -999.0,9,    195.5,2,     3.85,2,     3.40,2,     0.01,2,     0.32,2, -999.000,5, -999.000,5, -999.000,9,-999.0000,9,  -999.00,9,   -999.0,9,   -999.0,9,  -999.00,9,-999.0000,-999.000, 18.1760,-999.000
      325023_1,  P14N,    80,  1,     28,     28,2,19930728,0415, 22.5088, 179.0037, 5401,    261.1,  15.8417,  34.6970,2,  34.7019,2,   -999.0,9,    199.4,2,     6.35,2,     6.03,2,     0.01,2,     0.48,2, -999.000,5, -999.000,5, -999.000,9,-999.0000,9,  -999.00,9,   -999.0,9,   -999.0,9,  -999.00,9,-999.0000,-999.000, 15.8006,-999.000
      325023_1,  P14N,    80,  1,     27,     27,2,19930728,0415, 22.5088, 179.0037, 5401,    312.0,  14.1544,  34.5210,2,  34.5171,2,   -999.0,9,    199.0,2,     9.49,2,     8.75,2,     0.01,2,     0.67,2, -999.000,5, -999.000,5, -999.000,9,-999.0000,9,  -999.00,9,   -999.0,9,   -999.0,9,  -999.00,9,-999.0000,-999.000, 14.1090,-999.000
      325023_1,  P14N,    80,  1,     26,     26,2,19930728,0415, 22.5088, 179.0037, 5401,    412.5,  11.0236,  34.2586,2,  34.2601,2,   -999.0,9,    195.1,2,    18.45,2,    14.88,2,     0.00,2,     1.08,2, -999.000,5, -999.000,5, -999.000,9,-999.0000,9,  -999.00,9,   -999.0,9,   -999.0,9,  -999.00,9,-999.0000,-999.000, 10.9726,-999.000
      325023_1,  P14N,    80,  1,     25,     25,2,19930728,0415, 22.5088, 179.0037, 5401,    512.6,   8.6751,  34.1263,2,  34.1257,2,   -999.0,9,    171.1,2,    33.43,2,    21.79,2,     0.00,2,     1.56,2, -999.000,5, -999.000,5, -999.000,9,-999.0000,9,  -999.00,9,   -999.0,9,   -999.0,9,  -999.00,9,-999.0000,-999.000,  8.6203,-999.000
      325023_1,  P14N,    80,  1,     24,     24,2,19930728,0415, 22.5088, 179.0037, 5401,    613.4,   6.6135,  34.0922,2,  34.0917,2,   -999.0,9,    109.2,2,    58.98,2,    31.08,2,     0.00,2,     2.25,2, -999.000,5, -999.000,5, -999.000,9,-999.0000,9,  -999.00,9,   -999.0,9,   -999.0,9,  -999.00,9,-999.0000,-999.000,  6.5569,-999.000
      325023_1,  P14N,    80,  1,     23,     23,2,19930728,0415, 22.5088, 179.0037, 5401,    713.5,   5.2091,  34.1410,2,  34.1393,2,   -999.0,9,     68.6,2,    84.61,2,    37.47,2,     0.00,2,     2.66,2, -999.000,5, -999.000,5, -999.000,9,-999.0000,9,  -999.00,9,   -999.0,9,   -999.0,9,  -999.00,9,-999.0000,-999.000,  5.1505,-999.000
      325023_1,  P14N,    80,  1,     22,     22,2,19930728,0415, 22.5088, 179.0037, 5401,    814.3,   4.4264,  34.2582,2,  34.2559,2,   -999.0,9,     42.5,2,   104.08,2,    41.05,2,     0.00,2,     2.90,2, -999.000,5, -999.000,5, -999.000,9,-999.0000,9,  -999.00,9,   -999.0,9,   -999.0,9,  -999.00,9,-999.0000,-999.000,  4.3636,-999.000
      325023_1,  P14N,    80,  1,     21,     21,2,19930728,0415, 22.5088, 179.0037, 5401,    916.1,   4.0108,  34.3673,2,  34.3670,2,   -999.0,9,     40.0,2,   114.89,2,    41.98,2,     0.00,2,     2.96,2, -999.000,5, -999.000,5, -999.000,9,-999.0000,9,  -999.00,9,   -999.0,9,   -999.0,9,  -999.00,9,-999.0000,-999.000,  3.9422,-999.000
      325023_1,  P14N,    80,  1,     20,     20,2,19930728,0415, 22.5088, 179.0037, 5401,   1017.4,   3.7719,  34.4378,2,  34.4372,2,   -999.0,9,     47.1,2,   120.03,2,    41.64,2,     0.00,2,     2.95,2, -999.000,5, -999.000,5, -999.000,9,-999.0000,9,  -999.00,9,   -999.0,9,   -999.0,9,  -999.00,9,-999.0000,-999.000,  3.6967,-999.000
      325023_1,  P14N,    80,  1,     19,     19,2,19930728,0415, 22.5088, 179.0037, 5401,   1213.7,   3.2750,  34.5173,2,  34.5160,2,   -999.0,9,     62.8,2,   128.94,2,    41.02,2,     0.00,2,     2.89,2, -999.000,5, -999.000,5, -999.000,9,-999.0000,9,  -999.00,9,   -999.0,9,   -999.0,9,  -999.00,9,-999.0000,-999.000,  3.1880,-999.000
      325023_1,  P14N,    80,  1,     18,     18,2,19930728,0415, 22.5088, 179.0037, 5401,   1408.8,   2.8573,  34.5552,2,  34.5548,2,   -999.0,9,     73.8,2,   136.79,2,    40.55,2,     0.00,2,     2.85,2, -999.000,5, -999.000,5, -999.000,9,-999.0000,9,  -999.00,9,   -999.0,9,   -999.0,9,  -999.00,9,-999.0000,-999.000,  2.7586,-999.000
      325023_1,  P14N,    80,  1,     17,     17,2,19930728,0415, 22.5088, 179.0037, 5401,   1612.9,   2.4887,  34.5855,2,  34.5852,2,   -999.0,9,     83.8,2,   144.45,2,    40.17,2,     0.00,2,     2.81,2, -999.000,5, -999.000,5, -999.000,9,-999.0000,9,  -999.00,9,   -999.0,9,   -999.0,9,  -999.00,9,-999.0000,-999.000,  2.3776,-999.000
      325023_1,  P14N,    80,  1,     16,     16,2,19930728,0415, 22.5088, 179.0037, 5401,   1819.4,   2.1948,  34.6070,2,  34.6064,2,   -999.0,9,     92.7,2,   150.14,2,    39.79,2,     0.00,2,     2.78,2, -999.000,5, -999.000,5, -999.000,9,-999.0000,9,  -999.00,9,   -999.0,9,   -999.0,9,  -999.00,9,-999.0000,-999.000,  2.0706,-999.000
      325023_1,  P14N,    80,  1,     15,     15,2,19930728,0415, 22.5088, 179.0037, 5401,   2025.5,   1.9701,  34.6242,2,  34.6244,2,   -999.0,9,    101.1,2,   155.63,2,    39.32,2,     0.00,2,     2.73,2, -999.000,5, -999.000,5, -999.000,9,-999.0000,9,  -999.00,9,   -999.0,9,   -999.0,9,  -999.00,9,-999.0000,-999.000,  1.8321,-999.000
      325023_1,  P14N,    80,  1,     14,     14,2,19930728,0415, 22.5088, 179.0037, 5401,   2225.2,   1.8280,  34.6369,2,  34.6366,2,   -999.0,9,    108.6,2,   157.97,2,    38.90,2,     0.00,2,     2.68,2, -999.000,5, -999.000,5, -999.000,9,-999.0000,9,  -999.00,9,   -999.0,9,   -999.0,9,  -999.00,9,-999.0000,-999.000,  1.6751,-999.000
      325023_1,  P14N,    80,  1,     13,     13,2,19930728,0415, 22.5088, 179.0037, 5401,   2417.0,   1.7118,  34.6473,2,  34.6474,2,   -999.0,9,    115.9,2,   159.18,2,    38.43,2,     0.00,2,     2.65,2, -999.000,5, -999.000,5, -999.000,9,-999.0000,9,  -999.00,9,   -999.0,9,   -999.0,9,  -999.00,9,-999.0000,-999.000,  1.5443,-999.000
      325023_1,  P14N,    80,  1,     12,     12,2,19930728,0415, 22.5088, 179.0037, 5401,   2605.4,   1.6607,  34.6534,2,  34.6533,2,   -999.0,9,    120.5,2,   158.82,2,    38.10,2,     0.00,2,     2.64,2, -999.000,5, -999.000,5, -999.000,9,-999.0000,9,  -999.00,9,   -999.0,9,   -999.0,9,  -999.00,9,-999.0000,-999.000,  1.4773,-999.000
      325023_1,  P14N,    80,  1,     11,     11,2,19930728,0415, 22.5088, 179.0037, 5401,   2799.5,   1.6135,  34.6584,2,  34.6586,2,   -999.0,9,    124.9,2,   159.13,2,    37.83,2,     0.00,2,     2.62,2, -999.000,5, -999.000,5, -999.000,9,-999.0000,9,  -999.00,9,   -999.0,9,   -999.0,9,  -999.00,9,-999.0000,-999.000,  1.4132,-999.000
      325023_1,  P14N,    80,  1,     10,     10,2,19930728,0415, 22.5088, 179.0037, 5401,   3008.7,   1.5753,  34.6639,2,  34.6638,2,   -999.0,9,    130.0,2,   158.31,2,    37.50,2,     0.00,2,     2.58,2, -999.000,5, -999.000,5, -999.000,9,-999.0000,9,  -999.00,9,   -999.0,9,   -999.0,9,  -999.00,9,-999.0000,-999.000,  1.3561,-999.000
      325023_1,  P14N,    80,  1,      9,      9,2,19930728,0415, 22.5088, 179.0037, 5401,   3321.1,   1.5238,  34.6712,2,  34.6717,2,   -999.0,9,    138.5,2,   156.14,2,    37.04,2,     0.00,2,     2.55,2, -999.000,5, -999.000,5, -999.000,9,-999.0000,9,  -999.00,9,   -999.0,9,   -999.0,9,  -999.00,9,-999.0000,-999.000,  1.2752,-999.000
      325023_1,  P14N,    80,  1,      8,      8,2,19930728,0415, 22.5088, 179.0037, 5401,   3633.9,   1.4854,  34.6781,2,  34.6784,2,   -999.0,9,    146.4,2,   153.08,2,    36.38,2,     0.00,2,     2.50,2, -999.000,5, -999.000,5, -999.000,9,-999.0000,9,  -999.00,9,   -999.0,9,   -999.0,9,  -999.00,9,-999.0000,-999.000,  1.2059,-999.000
      325023_1,  P14N,    80,  1,      7,      7,2,19930728,0415, 22.5088, 179.0037, 5401,   3945.1,   1.4508,  34.6834,2,  34.6833,2,   -999.0,9,    153.8,2,   150.70,2,    35.92,2,     0.00,2,     2.46,2, -999.000,5, -999.000,5, -999.000,9,-999.0000,9,  -999.00,9,   -999.0,9,   -999.0,9,  -999.00,9,-999.0000,-999.000,  1.1393,-999.000
      325023_1,  P14N,    80,  1,      6,      6,2,19930728,0415, 22.5088, 179.0037, 5401,   4259.0,   1.4132,  34.6891,2,  34.6899,2,   -999.0,9,    163.0,2,   145.20,2,    35.08,2,     0.00,2,     2.41,2, -999.000,5, -999.000,5, -999.000,9,-999.0000,9,  -999.00,9,   -999.0,9,   -999.0,9,  -999.00,9,-999.0000,-999.000,  1.0682,-999.000
      325023_1,  P14N,    80,  1,      5,      5,2,19930728,0415, 22.5088, 179.0037, 5401,   4573.0,   1.3942,  34.6940,2,  34.6935,2,   -999.0,9,    171.2,2,   139.95,2,    34.48,2,     0.00,2,     2.37,2, -999.000,5, -999.000,5, -999.000,9,-999.0000,9,  -999.00,9,   -999.0,9,   -999.0,9,  -999.00,9,-999.0000,-999.000,  1.0140,-999.000
      325023_1,  P14N,    80,  1,      4,      4,2,19930728,0415, 22.5088, 179.0037, 5401,   4884.9,   1.3997,  34.6963,2,  34.6966,2,   -999.0,9,    175.7,2,   137.16,2,    34.20,2,     0.00,2,     2.36,2, -999.000,5, -999.000,5, -999.000,9,-999.0000,9,  -999.00,9,   -999.0,9,   -999.0,9,  -999.00,9,-999.0000,-999.000,  0.9826,-999.000
      325023_1,  P14N,    80,  1,      3,      3,2,19930728,0415, 22.5088, 179.0037, 5401,   5194.5,   1.4274,  34.6971,2,  34.6974,2,   -999.0,9,    177.4,2,   136.36,2,    33.98,2,     0.00,2,     2.34,2, -999.000,5, -999.000,5, -999.000,9,-999.0000,9,  -999.00,9,   -999.0,9,   -999.0,9,  -999.00,9,-999.0000,-999.000,  0.9718,-999.000
      325023_1,  P14N,    80,  1,      2,      2,2,19930728,0415, 22.5088, 179.0037, 5401,   5449.4,   1.4572,  34.6974,2,  34.6988,2,   -999.0,9,    178.0,2,   135.79,2,    33.89,2,     0.00,2,     2.32,2, -999.000,5, -999.000,5, -999.000,9,-999.0000,9,  -999.00,9,   -999.0,9,   -999.0,9,  -999.00,9,-999.0000,-999.000,  0.9686,-999.000
      325023_1,  P14N,    80,  1,      1,      1,2,19930728,0415, 22.5088, 179.0037, 5401,   5452.6,   1.4573,  34.6978,2,  34.6980,2,   -999.0,9,    177.7,2,   136.10,2,    34.04,2,     0.00,2,     2.32,2, -999.000,5, -999.000,5, -999.000,9,-999.0000,9,  -999.00,9,   -999.0,9,   -999.0,9,  -999.00,9,-999.0000,-999.000,  0.9683,-999.000