BOTTLE,20131125MIRCJHATS
EXPOCODE,SECT_ID,STNNBR,CASTNO,SAMPNO,BTLNBR,BTLNBR_FLAG_W,DATE,TIME,LATITUDE,LONGITUDE,DEPTH,CTDPRS,CTDTMP,CTDSAL,CTDSAL_FLAG_W,SALNTY,SALNTY_FLAG_W,CTDOXY,CTDOXY_FLAG_W,OXYGEN,OXYGEN_FLAG_W,SILCAT,SILCAT_FLAG_W,NITRAT,NITRAT_FLAG_W,NITRIT,NITRIT_FLAG_W,PHSPHT,PHSPHT_FLAG_W,CFC-11,CFC-11_FLAG_W,CFC-12,CFC-12_FLAG_W,TRITUM,TRITUM_FLAG_W,HELIUM,HELIUM_FLAG_W,DELHE3,DELHE3_FLAG_W,TCARBN,TCARBN_FLAG_W,ALKALI,ALKALI_FLAG_W,PH,PH_FLAG_W,HELIER,DELHER,THETA,TRITER
,,,,,,,,,,,,DBAR,ITS-90,PSS-78,,PSS-78,,UMOL/KG,,UMOL/KG,,UMOL/KG,,UMOL/KG,,UMOL/KG,,UMOL/KG,,PMOL/KG,,PMOL/KG,,TU,,NMOL/KG,,PERCNT,,UMOL/KG,,UMOL/KG,,25_DEG,,NMOL/KG,PERCNT,DEG C,TU
      325023_1,  P14N,    68,  1,     36,     36,2,19930724,2040, 28.4957, 178.9968, 5399,      2.6,  26.9532,  35.1067,2,  35.1095,2,   -999.0,9,    209.5,4,     5.07,2,     0.04,2,     0.00,2,     0.04,2, -999.000,5, -999.000,5, -999.000,9,-999.0000,9,  -999.00,9,   -999.0,9,   -999.0,9,  -999.00,9,-999.0000,-999.000, 26.9526,-999.000
      325023_1,  P14N,    68,  1,     35,     35,2,19930724,2040, 28.4957, 178.9968, 5399,      2.6,  26.9066,  35.1056,2,  35.1057,2,   -999.0,9,    214.4,2,     5.01,2,     0.04,2,     0.00,2,     0.03,2, -999.000,5, -999.000,5, -999.000,9,-999.0000,9,  -999.00,9,   -999.0,9,   -999.0,9,  -999.00,9,-999.0000,-999.000, 26.9060,-999.000
      325023_1,  P14N,    68,  1,     34,     34,2,19930724,2040, 28.4957, 178.9968, 5399,     38.3,  21.8958,  34.8898,2,  34.8966,2,   -999.0,9,    240.3,2,     4.94,2,     0.04,2,     0.00,2,     0.05,2, -999.000,5, -999.000,5, -999.000,9,-999.0000,9,  -999.00,9,   -999.0,9,   -999.0,9,  -999.00,9,-999.0000,-999.000, 21.8882,-999.000
      325023_1,  P14N,    68,  1,     33,     33,2,19930724,2040, 28.4957, 178.9968, 5399,     68.6,  18.0956,  34.8229,2,  34.8221,2,   -999.0,9,    253.6,2,     4.87,2,     0.03,2,     0.00,2,     0.06,2, -999.000,5, -999.000,5, -999.000,9,-999.0000,9,  -999.00,9,   -999.0,9,   -999.0,9,  -999.00,9,-999.0000,-999.000, 18.0838,-999.000
      325023_1,  P14N,    68,  1,     32,     32,2,19930724,2040, 28.4957, 178.9968, 5399,     98.9,  16.8152,  34.7944,2,  34.7952,2,   -999.0,9,    239.5,2,     4.81,2,     0.09,2,     0.03,2,     0.12,2, -999.000,5, -999.000,5, -999.000,9,-999.0000,9,  -999.00,9,   -999.0,9,   -999.0,9,  -999.00,9,-999.0000,-999.000, 16.7990,-999.000
      325023_1,  P14N,    68,  1,     31,     31,2,19930724,2040, 28.4957, 178.9968, 5399,    129.2,  16.1300,  34.7307,2,  34.7294,2,   -999.0,9,    224.2,2,     5.19,2,     3.25,2,     0.08,2,     0.29,2, -999.000,5, -999.000,5, -999.000,9,-999.0000,9,  -999.00,9,   -999.0,9,   -999.0,9,  -999.00,9,-999.0000,-999.000, 16.1095,-999.000
      325023_1,  P14N,    68,  1,     30,     30,2,19930724,2040, 28.4957, 178.9968, 5399,    159.1,  15.5375,  34.6657,2,  34.6612,2,   -999.0,9,    220.1,2,     6.46,2,     4.79,2,     0.02,2,     0.38,2, -999.000,5, -999.000,5, -999.000,9,-999.0000,9,  -999.00,9,   -999.0,9,   -999.0,9,  -999.00,9,-999.0000,-999.000, 15.5129,-999.000
      325023_1,  P14N,    68,  1,     29,     29,2,19930724,2040, 28.4957, 178.9968, 5399,    209.7,  14.4847,  34.5621,2,  34.5609,2,   -999.0,9,    215.6,2,     8.61,2,     6.94,2,     0.01,2,     0.53,2, -999.000,5, -999.000,5, -999.000,9,-999.0000,9,  -999.00,9,   -999.0,9,   -999.0,9,  -999.00,9,-999.0000,-999.000, 14.4537,-999.000
      325023_1,  P14N,    68,  1,     28,     28,2,19930724,2040, 28.4957, 178.9968, 5399,    259.7,  13.4869,  34.4749,2,  34.4724,2,   -999.0,9,    214.8,2,    10.77,2,     8.77,2,     0.01,2,     0.66,2, -999.000,5, -999.000,5, -999.000,9,-999.0000,9,  -999.00,9,   -999.0,9,   -999.0,9,  -999.00,9,-999.0000,-999.000, 13.4503,-999.000
      325023_1,  P14N,    68,  1,     27,     27,2,19930724,2040, 28.4957, 178.9968, 5399,    309.6,  12.4192,  34.3986,2,  34.3948,2,   -999.0,9,    214.0,2,    14.03,2,    10.83,2,     0.00,2,     0.79,2, -999.000,5, -999.000,5, -999.000,9,-999.0000,9,  -999.00,9,   -999.0,9,   -999.0,9,  -999.00,9,-999.0000,-999.000, 12.3780,-999.000
      325023_1,  P14N,    68,  1,     26,     26,2,19930724,2040, 28.4957, 178.9968, 5399,    411.2,  10.3494,  34.2317,2,  34.2306,2,   -999.0,9,    208.4,2,    21.52,2,    15.16,2,     0.00,2,     1.09,2,    2.796,2,    1.336,2, -999.000,9,-999.0000,9,  -999.00,9,   -999.0,9,   -999.0,9,  -999.00,9,-999.0000,-999.000, 10.3006,-999.000
      325023_1,  P14N,    68,  1,     25,     25,2,19930724,2040, 28.4957, 178.9968, 5399,    511.9,   8.1960,  34.0874,2,  34.0842,2,   -999.0,9,    182.1,2,    35.66,2,    21.82,2,     0.00,2,     1.55,2,    2.313,2,    1.062,2, -999.000,9,-999.0000,9,  -999.00,9,   -999.0,9,   -999.0,9,  -999.00,9,-999.0000,-999.000,  8.1431,-999.000
      325023_1,  P14N,    68,  1,     24,     24,2,19930724,2040, 28.4957, 178.9968, 5399,    612.5,   6.1667,  34.0142,2,  34.0125,2,   -999.0,9,    139.7,2,    58.02,2,    29.13,2,     0.00,2,     2.09,2,    1.534,2,    0.652,3, -999.000,9,-999.0000,9,  -999.00,9,   -999.0,9,   -999.0,9,  -999.00,9,-999.0000,-999.000,  6.1124,-999.000
      325023_1,  P14N,    68,  1,     23,     23,2,19930724,2040, 28.4957, 178.9968, 5399,    712.8,   4.9740,  34.0624,2,  34.0616,2,   -999.0,9,     90.7,2,    82.41,2,    35.45,2,     0.00,2,     2.53,2, -999.000,5, -999.000,5, -999.000,9,-999.0000,9,  -999.00,9,   -999.0,9,   -999.0,9,  -999.00,9,-999.0000,-999.000,  4.9167,-999.000
      325023_1,  P14N,    68,  1,     22,     22,2,19930724,2040, 28.4957, 178.9968, 5399,    813.6,   4.3905,  34.1552,2,  34.1596,2,   -999.0,9,     54.8,2,   101.31,2,    39.41,2,     0.00,2,     2.79,2,    0.287,2,    0.116,3, -999.000,9,-999.0000,9,  -999.00,9,   -999.0,9,   -999.0,9,  -999.00,9,-999.0000,-999.000,  4.3281,-999.000
      325023_1,  P14N,    68,  1,     21,     21,2,19930724,2040, 28.4957, 178.9968, 5399,    914.5,   3.9109,  34.2436,2,  34.2408,2,   -999.0,9,     38.5,2,   114.90,2,    41.11,2,     0.00,2,     2.92,2, -999.000,5, -999.000,5, -999.000,9,-999.0000,9,  -999.00,9,   -999.0,9,   -999.0,9,  -999.00,9,-999.0000,-999.000,  3.8434,-999.000
      325023_1,  P14N,    68,  1,     20,     20,2,19930724,2040, 28.4957, 178.9968, 5399,   1015.0,   3.5411,  34.3257,2,  34.3213,2,   -999.0,9,     29.0,2,   126.51,2,    42.30,2,     0.00,2,     3.00,2,    0.038,2,    0.008,2, -999.000,9,-999.0000,9,  -999.00,9,   -999.0,9,   -999.0,9,  -999.00,9,-999.0000,-999.000,  3.4681,-999.000
      325023_1,  P14N,    68,  1,     19,     19,2,19930724,2040, 28.4957, 178.9968, 5399,   1216.6,   3.0136,  34.4380,2,  34.4314,2,   -999.0,9,     29.2,2,   142.07,2,    42.85,2,     0.00,2,     3.03,2, -999.000,5, -999.000,5, -999.000,9,-999.0000,9,  -999.00,9,   -999.0,9,   -999.0,9,  -999.00,9,-999.0000,-999.000,  2.9290,-999.000
      325023_1,  P14N,    68,  1,     18,     18,2,19930724,2040, 28.4957, 178.9968, 5399,   1419.2,   2.5876,  34.5157,2,  34.5100,2,   -999.0,9,     43.0,2,   152.01,2,    42.16,2,     0.00,2,     2.98,2, -999.000,5, -999.000,5, -999.000,9,-999.0000,9,  -999.00,9,   -999.0,9,   -999.0,9,  -999.00,9,-999.0000,-999.000,  2.4911,-999.000
      325023_1,  P14N,    68,  1,     17,     17,2,19930724,2040, 28.4957, 178.9968, 5399,   1622.6,   2.2733,  34.5631,2,  34.5605,2,   -999.0,9,     59.2,2,   158.77,2,    41.34,2,     0.00,2,     2.90,2, -999.000,5, -999.000,5, -999.000,9,-999.0000,9,  -999.00,9,   -999.0,9,   -999.0,9,  -999.00,9,-999.0000,-999.000,  2.1642,-999.000
      325023_1,  P14N,    68,  1,     16,     16,2,19930724,2040, 28.4957, 178.9968, 5399,   1825.9,   2.0477,  34.5953,2,  34.5925,2,   -999.0,9,     75.5,2,   160.22,2,    40.33,2,     0.00,2,     2.82,2, -999.000,5, -999.000,5, -999.000,9,-999.0000,9,  -999.00,9,   -999.0,9,   -999.0,9,  -999.00,9,-999.0000,-999.000,  1.9251,-999.000
      325023_1,  P14N,    68,  1,     15,     15,2,19930724,2040, 28.4957, 178.9968, 5399,   2029.2,   1.8806,  34.6169,2,  34.6146,2,   -999.0,9,     88.5,2,   160.52,2,    39.37,2,     0.00,2,     2.76,2, -999.000,5, -999.000,5, -999.000,9,-999.0000,9,  -999.00,9,   -999.0,9,   -999.0,9,  -999.00,9,-999.0000,-999.000,  1.7436,-999.000
      325023_1,  P14N,    68,  1,     14,     14,2,19930724,2040, 28.4957, 178.9968, 5399,   2233.5,   1.7654,  34.6311,2,  34.6291,2,   -999.0,9,     97.5,2,   161.51,2,    38.83,2,     0.00,2,     2.72,2, -999.000,5, -999.000,5, -999.000,9,-999.0000,9,  -999.00,9,   -999.0,9,   -999.0,9,  -999.00,9,-999.0000,-999.000,  1.6129,-999.000
      325023_1,  P14N,    68,  1,     13,     13,2,19930724,2040, 28.4957, 178.9968, 5399,   2437.6,   1.6780,  34.6437,2,  34.6416,2,   -999.0,9,    108.2,2,   160.19,2,    38.14,2,     0.00,2,     2.67,2, -999.000,5, -999.000,5, -999.000,9,-999.0000,9,  -999.00,9,   -999.0,9,   -999.0,9,  -999.00,9,-999.0000,-999.000,  1.5093,-999.000
      325023_1,  P14N,    68,  1,     12,     12,2,19930724,2040, 28.4957, 178.9968, 5399,   2640.8,   1.6140,  34.6527,2,  34.6508,2,   -999.0,9,    116.0,2,   159.33,2,    37.65,2,     0.00,2,     2.62,2, -999.000,5, -999.000,5, -999.000,9,-999.0000,9,  -999.00,9,   -999.0,9,   -999.0,9,  -999.00,9,-999.0000,-999.000,  1.4283,-999.000
      325023_1,  P14N,    68,  1,     11,     11,2,19930724,2040, 28.4957, 178.9968, 5399,   2844.6,   1.5615,  34.6602,2,  34.6583,2,   -999.0,9,    122.7,2,   158.94,2,    37.24,2,     0.00,2,     2.59,2, -999.000,5, -999.000,5, -999.000,9,-999.0000,9,  -999.00,9,   -999.0,9,   -999.0,9,  -999.00,9,-999.0000,-999.000,  1.3581,-999.000
      325023_1,  P14N,    68,  1,     10,     10,2,19930724,2040, 28.4957, 178.9968, 5399,   3048.6,   1.5250,  34.6660,2,  34.6643,2,   -999.0,9,    128.6,2,   158.54,2,    37.06,2,     0.00,2,     2.57,2, -999.000,5, -999.000,5, -999.000,9,-999.0000,9,  -999.00,9,   -999.0,9,   -999.0,9,  -999.00,9,-999.0000,-999.000,  1.3030,-999.000
      325023_1,  P14N,    68,  1,      9,      9,3,19930724,2040, 28.4957, 178.9968, 5399,   3353.8,   1.4863,  34.6731,2,  34.6633,4,   -999.0,9,    129.9,4,   157.92,4,    36.83,4,     0.00,4,     2.55,4, -999.000,5, -999.000,5, -999.000,9,-999.0000,9,  -999.00,9,   -999.0,9,   -999.0,9,  -999.00,9,-999.0000,-999.000,  1.2353,-999.000
      325023_1,  P14N,    68,  1,      8,      8,2,19930724,2040, 28.4957, 178.9968, 5399,   3660.6,   1.4654,  34.6786,2,  34.6758,2,   -999.0,9,    142.4,2,   155.92,2,    36.06,2,     0.00,2,     2.49,2, -999.000,5, -999.000,5, -999.000,9,-999.0000,9,  -999.00,9,   -999.0,9,   -999.0,9,  -999.00,9,-999.0000,-999.000,  1.1836,-999.000
      325023_1,  P14N,    68,  1,      7,      7,2,19930724,2040, 28.4957, 178.9968, 5399,   3965.6,   1.4531,  34.6833,2,  34.6825,2,   -999.0,9,    148.3,2,   153.92,2,    35.48,2,     0.00,2,     2.46,2, -999.000,5, -999.000,5, -999.000,9,-999.0000,9,  -999.00,9,   -999.0,9,   -999.0,9,  -999.00,9,-999.0000,-999.000,  1.1393,-999.000
      325023_1,  P14N,    68,  1,      6,      6,2,19930724,2040, 28.4957, 178.9968, 5399,   4271.2,   1.4570,  34.6862,2,  34.6838,2,   -999.0,9,    152.5,2,   151.70,2,    35.52,2,     0.00,2,     2.43,2, -999.000,5, -999.000,5, -999.000,9,-999.0000,9,  -999.00,9,   -999.0,9,   -999.0,9,  -999.00,9,-999.0000,-999.000,  1.1094,-999.000
      325023_1,  P14N,    68,  1,      5,      5,2,19930724,2040, 28.4957, 178.9968, 5399,   4577.6,   1.4572,  34.6894,2,  34.6836,3,   -999.0,9,    158.4,2,   147.88,2,    35.03,2,     0.00,2,     2.40,2, -999.000,5, -999.000,5, -999.000,9,-999.0000,9,  -999.00,9,   -999.0,9,   -999.0,9,  -999.00,9,-999.0000,-999.000,  1.0746,-999.000
      325023_1,  P14N,    68,  1,      4,      4,2,19930724,2040, 28.4957, 178.9968, 5399,   4886.3,   1.4655,  34.6918,2,  34.6861,3,   -999.0,9,    163.1,2,   144.09,2,    34.71,2,     0.00,2,     2.38,2, -999.000,5, -999.000,5, -999.000,9,-999.0000,9,  -999.00,9,   -999.0,9,   -999.0,9,  -999.00,9,-999.0000,-999.000,  1.0462,-999.000
      325023_1,  P14N,    68,  1,      3,      3,2,19930724,2040, 28.4957, 178.9968, 5399,   5199.2,   1.4710,  34.6944,2,  34.6918,2,   -999.0,9,    169.0,2,   139.17,2,    34.08,2,     0.00,2,     2.35,2, -999.000,5, -999.000,5, -999.000,9,-999.0000,9,  -999.00,9,   -999.0,9,   -999.0,9,  -999.00,9,-999.0000,-999.000,  1.0133,-999.000
      325023_1,  P14N,    68,  1,      2,      2,2,19930724,2040, 28.4957, 178.9968, 5399,   5489.1,   1.4808,  34.6963,2,  34.6953,2,   -999.0,9,    173.7,2,   135.63,2,    33.90,2,     0.00,2,     2.32,2, -999.000,5, -999.000,5, -999.000,9,-999.0000,9,  -999.00,9,   -999.0,9,   -999.0,9,  -999.00,9,-999.0000,-999.000,  0.9863,-999.000
      325023_1,  P14N,    68,  1,      1,      1,2,19930724,2040, 28.4957, 178.9968, 5399,   5489.3,   1.4810,  34.6964,2,  34.6957,2,   -999.0,9,    173.6,2,   137.06,2,    33.90,2,     0.00,2,     2.32,2, -999.000,5, -999.000,5, -999.000,9,-999.0000,9,  -999.00,9,   -999.0,9,   -999.0,9,  -999.00,9,-999.0000,-999.000,  0.9864,-999.000