BOTTLE,20131125MIRCJHATS
EXPOCODE,SECT_ID,STNNBR,CASTNO,SAMPNO,BTLNBR,BTLNBR_FLAG_W,DATE,TIME,LATITUDE,LONGITUDE,DEPTH,CTDPRS,CTDTMP,CTDSAL,CTDSAL_FLAG_W,SALNTY,SALNTY_FLAG_W,CTDOXY,CTDOXY_FLAG_W,OXYGEN,OXYGEN_FLAG_W,SILCAT,SILCAT_FLAG_W,NITRAT,NITRAT_FLAG_W,NITRIT,NITRIT_FLAG_W,PHSPHT,PHSPHT_FLAG_W,CFC-11,CFC-11_FLAG_W,CFC-12,CFC-12_FLAG_W,TRITUM,TRITUM_FLAG_W,HELIUM,HELIUM_FLAG_W,DELHE3,DELHE3_FLAG_W,TCARBN,TCARBN_FLAG_W,ALKALI,ALKALI_FLAG_W,PH,PH_FLAG_W,HELIER,DELHER,THETA,TRITER
,,,,,,,,,,,,DBAR,ITS-90,PSS-78,,PSS-78,,UMOL/KG,,UMOL/KG,,UMOL/KG,,UMOL/KG,,UMOL/KG,,UMOL/KG,,PMOL/KG,,PMOL/KG,,TU,,NMOL/KG,,PERCNT,,UMOL/KG,,UMOL/KG,,25_DEG,,NMOL/KG,PERCNT,DEG C,TU
      325024_1,  P14N,   139,  1,     36,     36,2,19930816,2129,  1.0038, 179.0023, 5750,      2.6,  30.0171,  34.1014,2,  34.1068,2,   -999.0,9,    195.7,2,     2.19,2,     0.02,2,     0.00,2,     0.15,2,    1.569,2,    0.820,2, -999.000,9,-999.0000,9,  -999.00,9,   -999.0,9,   -999.0,9,  -999.00,9,-999.0000,-999.000, 30.0165,-999.000
      325024_1,  P14N,   139,  1,     35,     35,2,19930816,2129,  1.0038, 179.0023, 5750,     38.0,  29.9689,  34.1264,2,  34.1351,2,   -999.0,9,    196.8,2,     1.93,2,     0.02,2,     0.00,2,     0.15,2,    1.582,2,    0.875,2, -999.000,9,-999.0000,9,  -999.00,9,   -999.0,9,   -999.0,9,  -999.00,9,-999.0000,-999.000, 29.9595,-999.000
      325024_1,  P14N,   139,  1,     34,     34,2,19930816,2129,  1.0038, 179.0023, 5750,     67.8,  29.6298,  34.5825,2,  34.6427,2,   -999.0,9,    202.4,2,     1.88,2,     0.01,2,     0.00,2,     0.20,2,    1.608,2,    0.880,2, -999.000,9,-999.0000,9,  -999.00,9,   -999.0,9,   -999.0,9,  -999.00,9,-999.0000,-999.000, 29.6132,-999.000
      325024_1,  P14N,   139,  1,     33,     33,2,19930816,2129,  1.0038, 179.0023, 5750,     92.1,  28.7114,  35.0862,2,  35.1048,2,   -999.0,9,    194.6,2,     1.82,2,     0.70,2,     0.14,2,     0.32,2,    1.628,2,    0.893,2, -999.000,9,-999.0000,9,  -999.00,9,   -999.0,9,   -999.0,9,  -999.00,9,-999.0000,-999.000, 28.6893,-999.000
      325024_1,  P14N,   139,  1,     32,     32,2,19930816,2129,  1.0038, 179.0023, 5750,    127.7,  22.7473,  35.1366,2,  35.1506,2,   -999.0,9,    141.7,2,     5.18,2,     8.21,2,     0.22,2,     0.70,2,    1.601,2,    0.835,2, -999.000,9,-999.0000,9,  -999.00,9,   -999.0,9,   -999.0,9,  -999.00,9,-999.0000,-999.000, 22.7214,-999.000
      325024_1,  P14N,   139,  1,     31,     31,2,19930816,2129,  1.0038, 179.0023, 5750,    156.9,  20.6908,  34.9794,2,  34.9566,2,   -999.0,9,    137.1,2,     7.74,2,     9.78,2,     0.03,2,     0.78,2,    1.619,2,    0.816,2, -999.000,9,-999.0000,9,  -999.00,9,   -999.0,9,   -999.0,9,  -999.00,9,-999.0000,-999.000, 20.6611,-999.000
      325024_1,  P14N,   139,  1,     30,     30,2,19930816,2129,  1.0038, 179.0023, 5750,    209.3,  15.3562,  34.9622,2,  34.9807,2,   -999.0,9,    137.0,2,    14.51,2,    15.42,2,     0.01,2,     1.16,2,    1.231,2,    0.634,2, -999.000,9,-999.0000,9,  -999.00,9,   -999.0,9,   -999.0,9,  -999.00,9,-999.0000,-999.000, 15.3240,-999.000
      325024_1,  P14N,   139,  1,     29,     29,2,19930816,2129,  1.0038, 179.0023, 5750,    260.1,  12.7773,  34.8150,2,  34.8273,2,   -999.0,9,    127.7,2,    19.47,2,    20.14,2,     0.00,2,     1.48,2,    0.862,2,    0.431,2, -999.000,9,-999.0000,9,  -999.00,9,   -999.0,9,   -999.0,9,  -999.00,9,-999.0000,-999.000, 12.7419,-999.000
      325024_1,  P14N,   139,  1,     28,     28,2,19930816,2129,  1.0038, 179.0023, 5750,    310.0,  11.3856,  34.7871,2,  34.7875,2,   -999.0,9,     94.1,2,    24.03,2,    25.84,2,     0.00,2,     1.85,2,    0.482,2,    0.251,2, -999.000,9,-999.0000,9,  -999.00,9,   -999.0,9,   -999.0,9,  -999.00,9,-999.0000,-999.000, 11.3464,-999.000
      325024_1,  P14N,   139,  1,     27,     27,2,19930816,2129,  1.0038, 179.0023, 5750,    410.3,   9.8730,  34.7097,2,  34.7041,2,   -999.0,9,     56.3,2,    32.00,2,    32.52,2,     0.00,2,     2.27,2,    0.159,2,    0.086,2, -999.000,9,-999.0000,9,  -999.00,9,   -999.0,9,   -999.0,9,  -999.00,9,-999.0000,-999.000,  9.8254,-999.000
      325024_1,  P14N,   139,  1,     26,     26,2,19930816,2129,  1.0038, 179.0023, 5750,    510.5,   7.6326,  34.5866,2,  34.5846,2,   -999.0,9,     99.0,2,    39.57,2,    32.65,2,     0.00,2,     2.31,2,    0.092,6,    0.045,6, -999.000,9,-999.0000,9,  -999.00,9,   -999.0,9,   -999.0,9,  -999.00,9,-999.0000,-999.000,  7.5816,-999.000
      325024_1,  P14N,   139,  1,     25,     25,2,19930816,2129,  1.0038, 179.0023, 5750,    609.9,   6.9074,  34.5669,2,  34.5658,2,   -999.0,9,     80.3,2,    48.34,2,    36.00,2,     0.00,2,     2.56,2,    0.033,2,    0.013,2, -999.000,9,-999.0000,9,  -999.00,9,   -999.0,9,   -999.0,9,  -999.00,9,-999.0000,-999.000,  6.8494,-999.000
      325024_1,  P14N,   139,  1,     24,     24,2,19930816,2129,  1.0038, 179.0023, 5750,    710.1,   6.1989,  34.5572,2,  34.5560,2,   -999.0,9,     68.3,2,    59.33,2,    38.75,2,     0.00,2,     2.75,2,    0.004,2,    0.004,2, -999.000,9,-999.0000,9,  -999.00,9,   -999.0,9,   -999.0,9,  -999.00,9,-999.0000,-999.000,  6.1347,-999.000
      325024_1,  P14N,   139,  1,     23,     23,2,19930816,2129,  1.0038, 179.0023, 5750,    810.8,   5.4688,  34.5452,2,  34.5442,2,   -999.0,9,     79.5,2,    68.12,2,    38.52,2,     0.00,2,     2.75,2,    0.004,2,   -0.001,2, -999.000,9,-999.0000,9,  -999.00,9,   -999.0,9,   -999.0,9,  -999.00,9,-999.0000,-999.000,  5.3994,-999.000
      325024_1,  P14N,   139,  1,     22,     22,2,19930816,2129,  1.0038, 179.0023, 5750,    911.2,   4.8846,  34.5479,2,  34.5470,2,   -999.0,9,     83.5,2,    78.34,2,    38.78,2,     0.00,2,     2.78,2,   -0.002,2,    0.000,2, -999.000,9,-999.0000,9,  -999.00,9,   -999.0,9,   -999.0,9,  -999.00,9,-999.0000,-999.000,  4.8100,-999.000
      325024_1,  P14N,   139,  1,     21,     21,2,19930816,2129,  1.0038, 179.0023, 5750,   1012.4,   4.5640,  34.5537,2,  34.5526,2,   -999.0,9,     84.5,2,    85.34,2,    38.91,2,     0.00,2,     2.80,2,    0.001,2,    0.001,2, -999.000,9,-999.0000,9,  -999.00,9,   -999.0,9,   -999.0,9,  -999.00,9,-999.0000,-999.000,  4.4829,-999.000
      325024_1,  P14N,   139,  1,     20,     20,2,19930816,2129,  1.0038, 179.0023, 5750,   1214.5,   3.9779,  34.5686,2,  34.5662,2,   -999.0,9,     89.5,2,    97.65,2,    38.86,2,     0.00,2,     2.80,2, -999.000,5, -999.000,5, -999.000,9,-999.0000,9,  -999.00,9,   -999.0,9,   -999.0,9,  -999.00,9,-999.0000,-999.000,  3.8841,-999.000
      325024_1,  P14N,   139,  1,     19,     19,2,19930816,2129,  1.0038, 179.0023, 5750,   1417.2,   3.3232,  34.5904,2,  34.5885,2,   -999.0,9,     93.9,2,   112.08,2,    38.99,2,     0.00,2,     2.81,2,    0.002,2,    0.003,2, -999.000,9,-999.0000,9,  -999.00,9,   -999.0,9,   -999.0,9,  -999.00,9,-999.0000,-999.000,  3.2187,-999.000
      325024_1,  P14N,   139,  1,     18,     18,2,19930816,2129,  1.0038, 179.0023, 5750,   1620.2,   2.8899,  34.6075,2,  34.6062,2,   -999.0,9,     98.3,2,   122.71,2,    39.03,2,     0.00,2,     2.79,2, -999.000,5, -999.000,5, -999.000,9,-999.0000,9,  -999.00,9,   -999.0,9,   -999.0,9,  -999.00,9,-999.0000,-999.000,  2.7732,-999.000
      325024_1,  P14N,   139,  1,     17,     17,2,19930816,2129,  1.0038, 179.0023, 5750,   1823.4,   2.5660,  34.6217,2,  34.6195,2,   -999.0,9,    105.9,2,   130.08,2,    38.40,2,     0.00,2,     2.74,2,   -0.004,2,   -0.003,2, -999.000,9,-999.0000,9,  -999.00,9,   -999.0,9,   -999.0,9,  -999.00,9,-999.0000,-999.000,  2.4363,-999.000
      325024_1,  P14N,   139,  1,     16,     16,2,19930816,2129,  1.0038, 179.0023, 5750,   2026.1,   2.2198,  34.6394,2,  34.6381,2,   -999.0,9,    112.6,2,   138.34,2,    38.04,2,     0.00,2,     2.70,2, -999.000,5, -999.000,5, -999.000,9,-999.0000,9,  -999.00,9,   -999.0,9,   -999.0,9,  -999.00,9,-999.0000,-999.000,  2.0777,-999.000
      325024_1,  P14N,   139,  1,     15,     15,2,19930816,2129,  1.0038, 179.0023, 5750,   2230.0,   2.0372,  34.6491,2,  34.6478,2,   -999.0,9,    117.8,2,   142.02,2,    37.72,2,     0.00,2,     2.67,2, -999.000,5, -999.000,5, -999.000,9,-999.0000,9,  -999.00,9,   -999.0,9,   -999.0,9,  -999.00,9,-999.0000,-999.000,  1.8804,-999.000
      325024_1,  P14N,   139,  1,     14,     14,2,19930816,2129,  1.0038, 179.0023, 5750,   2433.5,   1.9398,  34.6552,2,  34.6537,2,   -999.0,9,    120.5,2,   144.03,2,    37.54,2,     0.00,2,     2.65,2,   -0.002,2,    0.000,3, -999.000,9,-999.0000,9,  -999.00,9,   -999.0,9,   -999.0,9,  -999.00,9,-999.0000,-999.000,  1.7666,-999.000
      325024_1,  P14N,   139,  1,     13,     13,2,19930816,2129,  1.0038, 179.0023, 5750,   2636.9,   1.8247,  34.6621,2,  34.6613,2,   -999.0,9,    125.1,2,   145.83,2,    37.27,2,     0.00,2,     2.62,2, -999.000,5, -999.000,5, -999.000,9,-999.0000,9,  -999.00,9,   -999.0,9,   -999.0,9,  -999.00,9,-999.0000,-999.000,  1.6351,-999.000
      325024_1,  P14N,   139,  1,     12,     12,2,19930816,2129,  1.0038, 179.0023, 5750,   2841.3,   1.7303,  34.6667,2,  34.6662,2,   -999.0,9,    130.9,2,   145.95,2,    36.86,2,     0.00,2,     2.59,2, -999.000,5, -999.000,5, -999.000,9,-999.0000,9,  -999.00,9,   -999.0,9,   -999.0,9,  -999.00,9,-999.0000,-999.000,  1.5237,-999.000
      325024_1,  P14N,   139,  1,     11,     11,2,19930816,2129,  1.0038, 179.0023, 5750,   3045.0,   1.6538,  34.6705,2,  34.6699,2,   -999.0,9,    136.7,2,   145.64,2,    36.51,2,     0.00,2,     2.56,2, -999.000,5, -999.000,5, -999.000,9,-999.0000,9,  -999.00,9,   -999.0,9,   -999.0,9,  -999.00,9,-999.0000,-999.000,  1.4293,-999.000
      325024_1,  P14N,   139,  1,     10,     10,2,19930816,2129,  1.0038, 179.0023, 5750,   3351.4,   1.5566,  34.6777,2,  34.6762,2,   -999.0,9,    145.7,2,   143.86,2,    35.84,2,     0.00,2,     2.51,2,   -0.001,2,   -0.003,3, -999.000,9,-999.0000,9,  -999.00,9,   -999.0,9,   -999.0,9,  -999.00,9,-999.0000,-999.000,  1.3042,-999.000
      325024_1,  P14N,   139,  1,      9,      9,2,19930816,2129,  1.0038, 179.0023, 5750,   3658.0,   1.4731,  34.6844,2,  34.6827,2,   -999.0,9,    155.4,2,   141.45,2,    35.22,2,     0.00,2,     2.46,2, -999.000,5, -999.000,5, -999.000,9,-999.0000,9,  -999.00,9,   -999.0,9,   -999.0,9,  -999.00,9,-999.0000,-999.000,  1.1914,-999.000
      325024_1,  P14N,   139,  1,      8,      8,2,19930816,2129,  1.0038, 179.0023, 5750,   3965.1,   1.3999,  34.6911,2,  34.6899,2,   -999.0,9,    165.8,2,   138.22,2,    34.52,2,     0.00,2,     2.41,2, -999.000,5, -999.000,5, -999.000,9,-999.0000,9,  -999.00,9,   -999.0,9,   -999.0,9,  -999.00,9,-999.0000,-999.000,  1.0875,-999.000
      325024_1,  P14N,   139,  1,      7,      7,2,19930816,2129,  1.0038, 179.0023, 5750,   4272.3,   1.3066,  34.6971,2,  34.6966,2,   -999.0,9,    178.5,2,   132.29,2,    33.52,2,     0.00,2,     2.34,2, -999.000,5, -999.000,5, -999.000,9,-999.0000,9,  -999.00,9,   -999.0,9,   -999.0,9,  -999.00,9,-999.0000,-999.000,  0.9633,-999.000
      325024_1,  P14N,   139,  1,      6,      6,2,19930816,2129,  1.0038, 179.0023, 5750,   4579.8,   1.2584,  34.7014,2,  34.7015,2,   -999.0,9,    187.3,2,   129.08,2,    32.99,2,     0.00,2,     2.29,2,    0.001,2,    0.004,2, -999.000,9,-999.0000,9,  -999.00,9,   -999.0,9,   -999.0,9,  -999.00,9,-999.0000,-999.000,  0.8817,-999.000
      325024_1,  P14N,   139,  1,      5,      5,2,19930816,2129,  1.0038, 179.0023, 5750,   4888.9,   1.2482,  34.7036,2,  34.7029,2,   -999.0,9,    191.6,2,   126.30,2,    32.69,2,     0.00,2,     2.29,2, -999.000,5, -999.000,5, -999.000,9,-999.0000,9,  -999.00,9,   -999.0,9,   -999.0,9,  -999.00,9,-999.0000,-999.000,  0.8356,-999.000
      325024_1,  P14N,   139,  1,      4,      4,2,19930816,2129,  1.0038, 179.0023, 5750,   5197.6,   1.2745,  34.7040,2,  34.7033,2,   -999.0,9,    193.2,2,   125.39,2,    32.55,2,     0.00,2,     2.27,2, -999.000,5, -999.000,5, -999.000,9,-999.0000,9,  -999.00,9,   -999.0,9,   -999.0,9,  -999.00,9,-999.0000,-999.000,  0.8237,-999.000
      325024_1,  P14N,   139,  1,      3,      3,2,19930816,2129,  1.0038, 179.0023, 5750,   5505.9,   1.3092,  34.7044,2,  34.7033,2,   -999.0,9,    194.1,2,   125.30,2,    32.51,2,     0.00,2,     2.26,2,   -0.001,2,   -0.001,2, -999.000,9,-999.0000,9,  -999.00,9,   -999.0,9,   -999.0,9,  -999.00,9,-999.0000,-999.000,  0.8188,-999.000
      325024_1,  P14N,   139,  1,      1,      1,2,19930816,2129,  1.0038, 179.0023, 5750,   5820.6,   1.3498,  34.7044,2,  34.7037,2,   -999.0,9,    190.8,2,   126.15,2,    32.58,2,     0.00,2,     2.26,2,   -0.003,2,    0.001,2, -999.000,9,-999.0000,9,  -999.00,9,   -999.0,9,   -999.0,9,  -999.00,9,-999.0000,-999.000,  0.8173,-999.000
      325024_1,  P14N,   139,  1,      2,      2,2,19930816,2129,  1.0038, 179.0023, 5750,   5820.7,   1.3498,  34.7044,2,  34.7027,2,   -999.0,9,    194.0,2,   126.03,2,    32.63,2,     0.00,2,     2.26,2, -999.000,5, -999.000,5, -999.000,9,-999.0000,9,  -999.00,9,   -999.0,9,   -999.0,9,  -999.00,9,-999.0000,-999.000,  0.8173,-999.000