BOTTLE,20131125MIRCJHATS
EXPOCODE,SECT_ID,STNNBR,CASTNO,SAMPNO,BTLNBR,BTLNBR_FLAG_W,DATE,TIME,LATITUDE,LONGITUDE,DEPTH,CTDPRS,CTDTMP,CTDSAL,CTDSAL_FLAG_W,SALNTY,SALNTY_FLAG_W,CTDOXY,CTDOXY_FLAG_W,OXYGEN,OXYGEN_FLAG_W,SILCAT,SILCAT_FLAG_W,NITRAT,NITRAT_FLAG_W,NITRIT,NITRIT_FLAG_W,PHSPHT,PHSPHT_FLAG_W,CFC-11,CFC-11_FLAG_W,CFC-12,CFC-12_FLAG_W,TRITUM,TRITUM_FLAG_W,HELIUM,HELIUM_FLAG_W,DELHE3,DELHE3_FLAG_W,TCARBN,TCARBN_FLAG_W,ALKALI,ALKALI_FLAG_W,PH,PH_FLAG_W,HELIER,DELHER,THETA,TRITER
,,,,,,,,,,,,DBAR,ITS-90,PSS-78,,PSS-78,,UMOL/KG,,UMOL/KG,,UMOL/KG,,UMOL/KG,,UMOL/KG,,UMOL/KG,,PMOL/KG,,PMOL/KG,,TU,,NMOL/KG,,PERCNT,,UMOL/KG,,UMOL/KG,,25_DEG,,NMOL/KG,PERCNT,DEG C,TU
      325023_1,  P14N,    29,  1,     36,     36,2,19930713,0842, 47.9950, 179.0027, 5314,      3.5,   7.9714,  32.8695,2,  32.8685,2,   -999.0,9,    310.6,2,    32.36,2,    16.27,2,     0.20,2,     1.51,2,    4.772,2,    2.311,2, -999.000,9,-999.0000,9,  -999.00,9,   2050.3,2,   -999.0,9,  -999.00,9,-999.0000,-999.000,  7.9711,-999.000
      325023_1,  P14N,    29,  1,     35,     35,2,19930713,0842, 47.9950, 179.0027, 5314,      3.7,   7.9681,  32.8696,2,  32.8683,2,   -999.0,9,    310.5,2,    32.30,2,    16.23,2,     0.20,2,     1.52,2, -999.000,5, -999.000,5, -999.000,9,-999.0000,9,  -999.00,9,   2050.8,2,   2226.8,2,  -999.00,9,-999.0000,-999.000,  7.9678,-999.000
      325023_1,  P14N,    29,  1,     34,     34,2,19930713,0842, 47.9950, 179.0027, 5314,     37.3,   5.1449,  32.9542,2,  32.9620,2,   -999.0,9,    318.5,2,    40.30,2,    19.83,2,     0.21,2,     1.79,2, -999.000,5, -999.000,5, -999.000,9,-999.0000,9,  -999.00,9,   -999.0,9,   -999.0,9,  -999.00,9,-999.0000,-999.000,  5.1421,-999.000
      325023_1,  P14N,    29,  1,     33,     33,2,19930713,0842, 47.9950, 179.0027, 5314,     67.9,   3.3337,  33.0340,2,  33.0336,2,   -999.0,9,    322.5,2,    43.78,2,    22.31,2,     0.38,2,     1.94,2, -999.000,5, -999.000,5, -999.000,9,-999.0000,9,  -999.00,9,   -999.0,9,   -999.0,9,  -999.00,9,-999.0000,-999.000,  3.3296,-999.000
      325023_1,  P14N,    29,  1,     32,     32,2,19930713,0842, 47.9950, 179.0027, 5314,     97.9,   2.6382,  33.1026,2,  33.1068,2,   -999.0,9,    303.8,2,    49.03,2,    25.93,2,     0.03,2,     2.09,2, -999.000,5, -999.000,5, -999.000,9,-999.0000,9,  -999.00,9,   -999.0,9,   -999.0,9,  -999.00,9,-999.0000,-999.000,  2.6328,-999.000
      325023_1,  P14N,    29,  1,     31,     31,2,19930713,0842, 47.9950, 179.0027, 5314,    128.1,   2.7917,  33.5534,2,  33.5388,2,   -999.0,9,    172.5,2,    73.38,2,    34.72,2,     0.01,2,     2.62,2,    3.696,2,    1.735,2, -999.000,9,-999.0000,9,  -999.00,9,   -999.0,9,   -999.0,9,  -999.00,9,-999.0000,-999.000,  2.7843,-999.000
      325023_1,  P14N,    29,  1,     30,     30,2,19930713,0842, 47.9950, 179.0027, 5314,    158.6,   2.9310,  33.6960,2,  33.6912,2,   -999.0,9,    112.6,2,    86.98,2,    39.09,2,     0.00,2,     2.89,2,    2.820,2,    1.310,2, -999.000,9,-999.0000,9,  -999.00,9,   -999.0,9,   -999.0,9,  -999.00,9,-999.0000,-999.000,  2.9216,-999.000
      325023_1,  P14N,    29,  1,     29,     29,2,19930713,0842, 47.9950, 179.0027, 5314,    209.1,   3.1715,  33.8084,2,  33.8071,2,   -999.0,9,     63.3,2,    96.87,2,    42.66,2,     0.00,2,     3.10,2,    2.004,2,    0.893,2, -999.000,9,-999.0000,9,  -999.00,9,   -999.0,9,   -999.0,9,  -999.00,9,-999.0000,-999.000,  3.1586,-999.000
      325023_1,  P14N,    29,  1,     28,     28,2,19930713,0842, 47.9950, 179.0027, 5314,    259.5,   3.3326,  33.9204,2,  33.9172,2,   -999.0,9,     36.3,2,   105.81,2,    44.19,2,     0.00,2,     3.18,2, -999.000,5, -999.000,5, -999.000,9,-999.0000,9,  -999.00,9,   -999.0,9,   -999.0,9,  -999.00,9,-999.0000,-999.000,  3.3161,-999.000
      325023_1,  P14N,    29,  1,     27,     27,2,19930713,0842, 47.9950, 179.0027, 5314,    309.8,   3.3394,  33.9934,2,  33.9895,2,   -999.0,9,     35.3,2,   111.37,2,    43.68,2,     0.01,2,     3.16,2, -999.000,5, -999.000,5, -999.000,9,-999.0000,9,  -999.00,9,   -999.0,9,   -999.0,9,  -999.00,9,-999.0000,-999.000,  3.3195,-999.000
      325023_1,  P14N,    29,  1,     26,     26,2,19930713,0842, 47.9950, 179.0027, 5314,    411.0,   3.3172,  34.1039,2,  34.1008,2,   -999.0,9,     27.2,2,   121.20,2,    43.59,2,     0.00,2,     3.16,2, -999.000,5, -999.000,5, -999.000,9,-999.0000,9,  -999.00,9,   -999.0,9,   -999.0,9,  -999.00,9,-999.0000,-999.000,  3.2905,-999.000
      325023_1,  P14N,    29,  1,     25,     25,2,19930713,0842, 47.9950, 179.0027, 5314,    511.8,   3.2065,  34.1964,2,  34.1948,2,   -999.0,9,     21.0,2,   130.90,2,    43.69,2,     0.00,2,     3.15,2,    0.344,6,    0.152,6, -999.000,9,-999.0000,9,  -999.00,9,   -999.0,9,   -999.0,9,  -999.00,9,-999.0000,-999.000,  3.1731,-999.000
      325023_1,  P14N,    29,  1,     24,     24,2,19930713,0842, 47.9950, 179.0027, 5314,    612.2,   3.0925,  34.2619,2,  34.2612,2,   -999.0,9,     21.8,2,   137.39,2,    43.55,2,     0.00,2,     3.15,2,    0.208,2,    0.090,2, -999.000,9,-999.0000,9,  -999.00,9,   -999.0,9,   -999.0,9,  -999.00,9,-999.0000,-999.000,  3.0526,-999.000
      325023_1,  P14N,    29,  1,     23,     23,2,19930713,0842, 47.9950, 179.0027, 5314,    713.7,   2.9633,  34.3176,2,  34.3127,2,   -999.0,9,     24.0,2,   142.69,2,    43.32,2,     0.00,2,     3.14,2,    0.135,2,    0.065,2, -999.000,9,-999.0000,9,  -999.00,9,   -999.0,9,   -999.0,9,  -999.00,9,-999.0000,-999.000,  2.9168,-999.000
      325023_1,  P14N,    29,  1,     22,     22,2,19930713,0842, 47.9950, 179.0027, 5314,    815.0,   2.8139,  34.3586,2,  34.3540,2,   -999.0,9,     25.2,2,   148.64,2,    43.19,2,     0.00,2,     3.13,2, -999.000,5, -999.000,5, -999.000,9,-999.0000,9,  -999.00,9,   -999.0,9,   -999.0,9,  -999.00,9,-999.0000,-999.000,  2.7611,-999.000
      325023_1,  P14N,    29,  1,     21,     21,2,19930713,0842, 47.9950, 179.0027, 5314,    916.0,   2.6806,  34.3941,2,  34.3898,2,   -999.0,9,     26.3,2,   153.80,2,    43.14,2,     0.00,2,     3.13,2, -999.000,5, -999.000,5, -999.000,9,-999.0000,9,  -999.00,9,   -999.0,9,   -999.0,9,  -999.00,9,-999.0000,-999.000,  2.6215,-999.000
      325023_1,  P14N,    29,  1,     20,     20,2,19930713,0842, 47.9950, 179.0027, 5314,   1017.0,   2.5620,  34.4252,2,  34.4214,2,   -999.0,9,     28.5,2,   157.93,2,    43.10,2,     0.00,2,     3.12,2,    0.057,2,    0.024,2, -999.000,9,-999.0000,9,  -999.00,9,   -999.0,9,   -999.0,9,  -999.00,9,-999.0000,-999.000,  2.4965,-999.000
      325023_1,  P14N,    29,  1,     19,     19,2,19930713,0842, 47.9950, 179.0027, 5314,   1219.2,   2.3690,  34.4742,2,  34.4723,2,   -999.0,9,     32.9,2,   163.78,2,    42.97,2,     0.00,2,     3.10,2,    0.017,2,    0.005,2, -999.000,9,-999.0000,9,  -999.00,9,   -999.0,9,   -999.0,9,  -999.00,9,-999.0000,-999.000,  2.2902,-999.000
      325023_1,  P14N,    29,  1,     18,     18,2,19930713,0842, 47.9950, 179.0027, 5314,   1422.5,   2.1848,  34.5236,2,  34.5214,2,   -999.0,9,     41.7,2,   168.81,2,    42.60,2,     0.00,2,     3.06,2, -999.000,5, -999.000,5, -999.000,9,-999.0000,9,  -999.00,9,   -999.0,9,   -999.0,9,  -999.00,9,-999.0000,-999.000,  2.0925,-999.000
      325023_1,  P14N,    29,  1,     17,     17,2,19930713,0842, 47.9950, 179.0027, 5314,   1626.0,   2.0412,  34.5575,2,  34.5539,2,   -999.0,9,     52.8,2,   170.88,2,    42.00,2,     0.00,2,     3.01,2, -999.000,5, -999.000,5, -999.000,9,-999.0000,9,  -999.00,9,   -999.0,9,   -999.0,9,  -999.00,9,-999.0000,-999.000,  1.9347,-999.000
      325023_1,  P14N,    29,  1,     16,     16,2,19930713,0842, 47.9950, 179.0027, 5314,   1830.6,   1.9122,  34.5851,2,  34.5833,2,   -999.0,9,     65.0,2,   172.53,2,    41.27,2,     0.00,2,     2.96,2, -999.000,5, -999.000,5, -999.000,9,-999.0000,9,  -999.00,9,   -999.0,9,   -999.0,9,  -999.00,9,-999.0000,-999.000,  1.7911,-999.000
      325023_1,  P14N,    29,  1,     15,     15,2,19930713,0842, 47.9950, 179.0027, 5314,   2034.5,   1.8183,  34.6045,2,  34.6008,2,   -999.0,9,     75.4,2,   172.89,2,    40.68,2,     0.00,2,     2.91,2,   -0.006,2,    0.001,3, -999.000,9,-999.0000,9,  -999.00,9,   -999.0,9,   -999.0,9,  -999.00,9,-999.0000,-999.000,  1.6818,-999.000
      325023_1,  P14N,    29,  1,     14,     14,2,19930713,0842, 47.9950, 179.0027, 5314,   2238.7,   1.7284,  34.6215,2,  34.6180,4,   -999.0,9,     86.5,2,   172.18,2,    40.00,2,     0.00,2,     2.85,2, -999.000,5, -999.000,5, -999.000,9,-999.0000,9,  -999.00,9,   -999.0,9,   -999.0,9,  -999.00,9,-999.0000,-999.000,  1.5762,-999.000
      325023_1,  P14N,    29,  1,     13,     13,2,19930713,0842, 47.9950, 179.0027, 5314,   2443.3,   1.6631,  34.6343,2,  34.6325,2,   -999.0,9,     96.3,2,   170.61,2,    39.45,2,     0.00,2,     2.81,2, -999.000,5, -999.000,5, -999.000,9,-999.0000,9,  -999.00,9,   -999.0,9,   -999.0,9,  -999.00,9,-999.0000,-999.000,  1.4942,-999.000
      325023_1,  P14N,    29,  1,     12,     12,2,19930713,0842, 47.9950, 179.0027, 5314,   2648.0,   1.6081,  34.6454,2,  34.6439,2,   -999.0,9,    106.2,2,   169.26,2,    38.90,2,     0.00,2,     2.76,2,    0.000,2,    0.001,2, -999.000,9,-999.0000,9,  -999.00,9,   -999.0,9,   -999.0,9,  -999.00,9,-999.0000,-999.000,  1.4219,-999.000
      325023_1,  P14N,    29,  1,     11,     11,2,19930713,0842, 47.9950, 179.0027, 5314,   2852.5,   1.5620,  34.6543,2,  34.6515,2,   -999.0,9,    114.8,2,   167.48,2,    38.27,2,     0.00,2,     2.72,2, -999.000,5, -999.000,5, -999.000,9,-999.0000,9,  -999.00,9,   -999.0,9,   -999.0,9,  -999.00,9,-999.0000,-999.000,  1.3579,-999.000
      325023_1,  P14N,    29,  1,     10,     10,2,19930713,0842, 47.9950, 179.0027, 5314,   3057.3,   1.5274,  34.6614,2,  34.6584,2,   -999.0,9,    122.7,2,   165.50,2,    37.77,2,     0.00,2,     2.68,2,    0.001,2,    0.001,2, -999.000,9,-999.0000,9,  -999.00,9,   -999.0,9,   -999.0,9,  -999.00,9,-999.0000,-999.000,  1.3046,-999.000
      325023_1,  P14N,    29,  1,      9,      9,2,19930713,0842, 47.9950, 179.0027, 5314,   3364.3,   1.4872,  34.6699,2,  34.6670,2,   -999.0,9,    133.5,2,   162.47,2,    37.14,2,     0.00,2,     2.63,2, -999.000,5, -999.000,5, -999.000,9,-999.0000,9,  -999.00,9,   -999.0,9,   -999.0,9,  -999.00,9,-999.0000,-999.000,  1.2352,-999.000
      325023_1,  P14N,    29,  1,      8,      8,2,19930713,0842, 47.9950, 179.0027, 5314,   3672.2,   1.4621,  34.6768,2,  34.6743,2,   -999.0,9,    141.6,2,   161.13,2,    36.64,2,     0.00,2,     2.59,2, -999.000,5, -999.000,5, -999.000,9,-999.0000,9,  -999.00,9,   -999.0,9,   -999.0,9,  -999.00,9,-999.0000,-999.000,  1.1792,-999.000
      325023_1,  P14N,    29,  1,      7,      7,2,19930713,0842, 47.9950, 179.0027, 5314,   3980.1,   1.4520,  34.6817,2,  34.6804,2,   -999.0,9,    147.7,2,   160.01,2,    36.19,2,     0.00,2,     2.56,2, -999.000,5, -999.000,5, -999.000,9,-999.0000,9,  -999.00,9,   -999.0,9,   -999.0,9,  -999.00,9,-999.0000,-999.000,  1.1367,-999.000
      325023_1,  P14N,    29,  1,      6,      6,2,19930713,0842, 47.9950, 179.0027, 5314,   4288.3,   1.4631,  34.6847,2,  34.6843,2,   -999.0,9,    150.6,2,   160.79,2,    36.01,2,     0.00,2,     2.54,2,   -0.003,2,    0.012,2, -999.000,9,-999.0000,9,  -999.00,9,   -999.0,9,   -999.0,9,  -999.00,9,-999.0000,-999.000,  1.1134,-999.000
      325023_1,  P14N,    29,  1,      5,      5,2,19930713,0842, 47.9950, 179.0027, 5314,   4596.4,   1.4896,  34.6855,2,  34.6851,2,   -999.0,9,    151.9,2,   161.78,2,    36.02,2,     0.00,2,     2.53,2, -999.000,5, -999.000,5, -999.000,9,-999.0000,9,  -999.00,9,   -999.0,9,   -999.0,9,  -999.00,9,-999.0000,-999.000,  1.1038,-999.000
      325023_1,  P14N,    29,  1,      4,      4,2,19930713,0842, 47.9950, 179.0027, 5314,   4905.9,   1.5213,  34.6867,2,  34.6855,2,   -999.0,9,    152.7,2,   163.20,2,    36.02,2,     0.00,2,     2.53,2, -999.000,5, -999.000,5, -999.000,9,-999.0000,9,  -999.00,9,   -999.0,9,   -999.0,9,  -999.00,9,-999.0000,-999.000,  1.0977,-999.000
      325023_1,  P14N,    29,  1,      3,      3,2,19930713,0842, 47.9950, 179.0027, 5314,   5215.2,   1.5581,  34.6870,2,  34.6853,2,   -999.0,9,    153.2,2,   163.34,2,    35.84,2,     0.00,2,     2.53,2,    0.002,2,    0.001,2, -999.000,9,-999.0000,9,  -999.00,9,   -999.0,9,   -999.0,9,  -999.00,9,-999.0000,-999.000,  1.0954,-999.000
      325023_1,  P14N,    29,  1,      2,      2,2,19930713,0842, 47.9950, 179.0027, 5314,   5420.9,   1.5800,  34.6873,2,  34.6862,2,   -999.0,9,    154.4,2,   161.59,2,    35.75,2,     0.00,2,     2.52,2, -999.000,5, -999.000,5, -999.000,9,-999.0000,9,  -999.00,9,   -999.0,9,   -999.0,9,  -999.00,9,-999.0000,-999.000,  1.0907,-999.000
      325023_1,  P14N,    29,  1,      1,      1,2,19930713,0842, 47.9950, 179.0027, 5314,   5420.9,   1.5800,  34.6874,2,  34.6872,2,   -999.0,9,    154.1,2,   161.73,2,    35.80,2,     0.00,2,     2.52,2,    0.001,2,    0.006,2, -999.000,9,-999.0000,9,  -999.00,9,   -999.0,9,   -999.0,9,  -999.00,9,-999.0000,-999.000,  1.0907,-999.000