BOTTLE,20131125MIRCJHATS
EXPOCODE,SECT_ID,STNNBR,CASTNO,SAMPNO,BTLNBR,BTLNBR_FLAG_W,DATE,TIME,LATITUDE,LONGITUDE,DEPTH,CTDPRS,CTDTMP,CTDSAL,CTDSAL_FLAG_W,SALNTY,SALNTY_FLAG_W,CTDOXY,CTDOXY_FLAG_W,OXYGEN,OXYGEN_FLAG_W,SILCAT,SILCAT_FLAG_W,NITRAT,NITRAT_FLAG_W,NITRIT,NITRIT_FLAG_W,PHSPHT,PHSPHT_FLAG_W,CFC-11,CFC-11_FLAG_W,CFC-12,CFC-12_FLAG_W,TRITUM,TRITUM_FLAG_W,HELIUM,HELIUM_FLAG_W,DELHE3,DELHE3_FLAG_W,TCARBN,TCARBN_FLAG_W,ALKALI,ALKALI_FLAG_W,PH,PH_FLAG_W,HELIER,DELHER,THETA,TRITER
,,,,,,,,,,,,DBAR,ITS-90,PSS-78,,PSS-78,,UMOL/KG,,UMOL/KG,,UMOL/KG,,UMOL/KG,,UMOL/KG,,UMOL/KG,,PMOL/KG,,PMOL/KG,,TU,,NMOL/KG,,PERCNT,,UMOL/KG,,UMOL/KG,,25_DEG,,NMOL/KG,PERCNT,DEG C,TU
      325023_1,  P14N,   119,  1,     36,     36,2,19930806,1928,  6.0000, 178.9932, 5898,      2.8,  29.2880,  34.1400,2,  34.1447,2,   -999.0,9,    194.1,2,     1.98,2,     0.00,2,     0.00,2,     0.21,2,    1.601,2,    0.884,2, -999.000,9,-999.0000,9,  -999.00,9,   -999.0,9,   -999.0,9,  -999.00,9,-999.0000,-999.000, 29.2873,-999.000
      325023_1,  P14N,   119,  1,     35,     35,2,19930806,1928,  6.0000, 178.9932, 5898,     40.1,  28.8787,  34.2015,2,  34.2029,2,   -999.0,9,    195.3,2,     1.73,2,     0.00,2,     0.00,2,     0.20,2,    1.592,2,    0.883,2, -999.000,9,-999.0000,9,  -999.00,9,   -999.0,9,   -999.0,9,  -999.00,9,-999.0000,-999.000, 28.8690,-999.000
      325023_1,  P14N,   119,  1,     34,     34,2,19930806,1928,  6.0000, 178.9932, 5898,     70.2,  28.1947,  34.4799,4,  34.4601,2,   -999.0,9,    194.7,2,     1.68,2,     0.00,2,     0.00,2,     0.20,2,    1.630,2,    0.875,2, -999.000,9,-999.0000,9,  -999.00,9,   -999.0,9,   -999.0,9,  -999.00,9,-999.0000,-999.000, 28.1781,-999.000
      325023_1,  P14N,   119,  1,     33,     33,2,19930806,1928,  6.0000, 178.9932, 5898,    100.8,  22.4205,  34.7435,4,  34.7111,2,   -999.0,9,    178.1,2,     3.40,2,     1.17,2,     0.19,2,     0.38,2,    1.837,2,    0.927,2, -999.000,9,-999.0000,9,  -999.00,9,   -999.0,9,   -999.0,9,  -999.00,9,-999.0000,-999.000, 22.4003,-999.000
      325023_1,  P14N,   119,  1,     32,     32,2,19930806,1928,  6.0000, 178.9932, 5898,    131.6,  15.8689,  34.6661,2,  34.6634,2,   -999.0,9,    128.3,2,    12.99,2,    13.87,2,     0.03,2,     1.12,2,    1.543,2,    0.771,2, -999.000,9,-999.0000,9,  -999.00,9,   -999.0,9,   -999.0,9,  -999.00,9,-999.0000,-999.000, 15.8482,-999.000
      325023_1,  P14N,   119,  1,     31,     31,2,19930806,1928,  6.0000, 178.9932, 5898,    162.0,  12.9925,  34.5941,2,  34.5920,2,   -999.0,9,     91.9,2,    22.57,2,    22.58,2,     0.01,2,     1.68,2,    0.982,2,    0.479,2, -999.000,9,-999.0000,9,  -999.00,9,   -999.0,9,   -999.0,9,  -999.00,9,-999.0000,-999.000, 12.9703,-999.000
      325023_1,  P14N,   119,  1,     30,     30,2,19930806,1928,  6.0000, 178.9932, 5898,    212.4,  10.4175,  34.6507,2,  34.6483,2,   -999.0,9,     55.2,2,    31.96,2,    31.48,2,     0.00,2,     2.24,2,    0.279,2,    0.140,2, -999.000,9,-999.0000,9,  -999.00,9,   -999.0,9,   -999.0,9,  -999.00,9,-999.0000,-999.000, 10.3923,-999.000
      325023_1,  P14N,   119,  1,     29,     29,2,19930806,1928,  6.0000, 178.9932, 5898,    262.3,   9.6512,  34.6550,2,  34.6546,2,   -999.0,9,     57.8,2,    34.07,2,    32.77,2,     0.00,2,     2.31,2,    0.172,6,    0.081,6, -999.000,9,-999.0000,9,  -999.00,9,   -999.0,9,   -999.0,9,  -999.00,9,-999.0000,-999.000,  9.6215,-999.000
      325023_1,  P14N,   119,  1,     28,     28,2,19930806,1928,  6.0000, 178.9932, 5898,    312.3,   9.1390,  34.6454,2,  34.6438,2,   -999.0,9,     52.6,2,    36.78,2,    34.60,2,     0.00,2,     2.41,2,    0.113,2,    0.067,2, -999.000,9,-999.0000,9,  -999.00,9,   -999.0,9,   -999.0,9,  -999.00,9,-999.0000,-999.000,  9.1047,-999.000
      325023_1,  P14N,   119,  1,     27,     27,2,19930806,1928,  6.0000, 178.9932, 5898,    412.6,   8.4426,  34.6221,2,  34.6208,2,   -999.0,9,     50.5,2,    40.86,2,    36.41,2,     0.00,2,     2.54,2,    0.051,2,    0.024,2, -999.000,9,-999.0000,9,  -999.00,9,   -999.0,9,   -999.0,9,  -999.00,9,-999.0000,-999.000,  8.3991,-999.000
      325023_1,  P14N,   119,  1,     26,     26,2,19930806,1928,  6.0000, 178.9932, 5898,    512.3,   7.5707,  34.5874,2,  34.5857,2,   -999.0,9,     46.0,2,    48.09,2,    38.51,2,     0.00,2,     2.71,2,    0.020,2,    0.007,2, -999.000,9,-999.0000,9,  -999.00,9,   -999.0,9,   -999.0,9,  -999.00,9,-999.0000,-999.000,  7.5197,-999.000
      325023_1,  P14N,   119,  1,     25,     25,2,19930806,1928,  6.0000, 178.9932, 5898,    612.0,   6.7700,  34.5628,2,  34.5610,2,   -999.0,9,     36.8,2,    58.48,2,    40.87,2,     0.00,2,     2.90,2,    0.001,2,    0.001,2, -999.000,9,-999.0000,9,  -999.00,9,   -999.0,9,   -999.0,9,  -999.00,9,-999.0000,-999.000,  6.7124,-999.000
      325023_1,  P14N,   119,  1,     24,     24,2,19930806,1928,  6.0000, 178.9932, 5898,    711.7,   5.9120,  34.5478,2,  34.5465,2,   -999.0,9,     44.1,2,    69.09,2,    42.13,2,     0.00,2,     2.96,2,    0.000,2,   -0.001,2, -999.000,9,-999.0000,9,  -999.00,9,   -999.0,9,   -999.0,9,  -999.00,9,-999.0000,-999.000,  5.8492,-999.000
      325023_1,  P14N,   119,  1,     23,     23,2,19930806,1928,  6.0000, 178.9932, 5898,    811.7,   5.2615,  34.5473,2,  34.5449,2,   -999.0,9,     56.1,2,    78.14,2,    41.98,2,     0.00,2,     2.94,2,    0.003,2,   -0.001,2, -999.000,9,-999.0000,9,  -999.00,9,   -999.0,9,   -999.0,9,  -999.00,9,-999.0000,-999.000,  5.1933,-999.000
      325023_1,  P14N,   119,  1,     22,     22,2,19930806,1928,  6.0000, 178.9932, 5898,    911.8,   4.6854,  34.5518,2,  34.5500,2,   -999.0,9,     73.1,2,    88.22,2,    40.68,2,     0.00,2,     2.86,2,   -0.001,2,    0.000,2, -999.000,9,-999.0000,9,  -999.00,9,   -999.0,9,   -999.0,9,  -999.00,9,-999.0000,-999.000,  4.6121,-999.000
      325023_1,  P14N,   119,  1,     21,     21,2,19930806,1928,  6.0000, 178.9932, 5898,   1012.4,   4.3430,  34.5597,2,  34.5580,2,   -999.0,9,     75.4,2,    94.34,2,    40.81,2,     0.00,2,     2.87,2,    0.006,2,   -0.001,2, -999.000,9,-999.0000,9,  -999.00,9,   -999.0,9,   -999.0,9,  -999.00,9,-999.0000,-999.000,  4.2635,-999.000
      325023_1,  P14N,   119,  1,     20,     20,2,19930806,1928,  6.0000, 178.9932, 5898,   1213.2,   3.7477,  34.5799,2,  34.5774,2,   -999.0,9,     73.3,2,   108.71,2,    41.68,2,     0.00,2,     2.93,2,    0.000,3,   -0.003,3, -999.000,9,-999.0000,9,  -999.00,9,   -999.0,9,   -999.0,9,  -999.00,9,-999.0000,-999.000,  3.6562,-999.000
      325023_1,  P14N,   119,  1,     19,     19,2,19930806,1928,  6.0000, 178.9932, 5898,   1414.1,   3.1928,  34.5967,2,  34.5941,2,   -999.0,9,     82.2,2,   120.98,2,    41.15,2,     0.00,2,     2.89,2, -999.000,5, -999.000,5, -999.000,9,-999.0000,9,  -999.00,9,   -999.0,9,   -999.0,9,  -999.00,9,-999.0000,-999.000,  3.0899,-999.000
      325023_1,  P14N,   119,  1,     18,     18,2,19930806,1928,  6.0000, 178.9932, 5898,   1615.5,   2.7837,  34.6117,2,  34.6102,2,   -999.0,9,     91.6,2,   129.88,2,    40.61,2,     0.00,2,     2.83,2,   -0.002,2,   -0.002,3, -999.000,9,-999.0000,9,  -999.00,9,   -999.0,9,   -999.0,9,  -999.00,9,-999.0000,-999.000,  2.6687,-999.000
      325023_1,  P14N,   119,  1,     17,     17,2,19930806,1928,  6.0000, 178.9932, 5898,   1817.9,   2.4717,  34.6257,2,  34.6229,2,   -999.0,9,     98.8,2,   136.80,2,    40.13,2,     0.00,2,     2.80,2, -999.000,5, -999.000,5, -999.000,9,-999.0000,9,  -999.00,9,   -999.0,9,   -999.0,9,  -999.00,9,-999.0000,-999.000,  2.3437,-999.000
      325023_1,  P14N,   119,  1,     16,     16,2,19930806,1928,  6.0000, 178.9932, 5898,   2020.2,   2.2088,  34.6400,2,  34.6376,2,   -999.0,9,    104.5,2,   143.55,2,    39.88,2,     0.00,2,     2.77,2,    0.004,2,   -0.002,2, -999.000,9,-999.0000,9,  -999.00,9,   -999.0,9,   -999.0,9,  -999.00,9,-999.0000,-999.000,  2.0674,-999.000
      325023_1,  P14N,   119,  1,     15,     15,2,19930806,1928,  6.0000, 178.9932, 5898,   2224.3,   2.0217,  34.6517,2,  34.6498,2,   -999.0,9,    109.2,2,   148.06,2,    39.58,2,     0.00,2,     2.74,2, -999.000,5, -999.000,5, -999.000,9,-999.0000,9,  -999.00,9,   -999.0,9,   -999.0,9,  -999.00,9,-999.0000,-999.000,  1.8657,-999.000
      325023_1,  P14N,   119,  1,     14,     14,2,19930806,1928,  6.0000, 178.9932, 5898,   2427.5,   1.9009,  34.6586,2,  34.6571,2,   -999.0,9,    114.3,2,   150.29,2,    39.10,2,     0.00,2,     2.70,2, -999.000,5, -999.000,5, -999.000,9,-999.0000,9,  -999.00,9,   -999.0,9,   -999.0,9,  -999.00,9,-999.0000,-999.000,  1.7290,-999.000
      325023_1,  P14N,   119,  1,     13,     13,2,19930806,1928,  6.0000, 178.9932, 5898,   2631.2,   1.8259,  34.6631,2,  34.6623,2,   -999.0,9,    119.2,2,   150.84,2,    38.76,2,     0.00,2,     2.68,2, -999.000,5, -999.000,5, -999.000,9,-999.0000,9,  -999.00,9,   -999.0,9,   -999.0,9,  -999.00,9,-999.0000,-999.000,  1.6368,-999.000
      325023_1,  P14N,   119,  1,     12,     12,2,19930806,1928,  6.0000, 178.9932, 5898,   2835.6,   1.7478,  34.6664,2,  34.6657,2,   -999.0,9,    124.9,2,   150.57,2,    38.28,2,     0.00,2,     2.64,2,    0.001,2,    0.006,2, -999.000,9,-999.0000,9,  -999.00,9,   -999.0,9,   -999.0,9,  -999.00,9,-999.0000,-999.000,  1.5413,-999.000
      325023_1,  P14N,   119,  1,     11,     11,2,19930806,1928,  6.0000, 178.9932, 5898,   3040.6,   1.6794,  34.6712,2,  34.6692,2,   -999.0,9,    131.0,2,   150.29,2,    37.85,2,     0.00,2,     2.61,2, -999.000,5, -999.000,5, -999.000,9,-999.0000,9,  -999.00,9,   -999.0,9,   -999.0,9,  -999.00,9,-999.0000,-999.000,  1.4547,-999.000
      325023_1,  P14N,   119,  1,     10,     10,2,19930806,1928,  6.0000, 178.9932, 5898,   3347.6,   1.5730,  34.6773,2,  34.6751,2,   -999.0,9,    141.3,2,   148.55,2,    37.20,2,     0.00,2,     2.56,2, -999.000,5, -999.000,5, -999.000,9,-999.0000,9,  -999.00,9,   -999.0,9,   -999.0,9,  -999.00,9,-999.0000,-999.000,  1.3206,-999.000
      325023_1,  P14N,   119,  1,      9,      9,2,19930806,1928,  6.0000, 178.9932, 5898,   3656.9,   1.4737,  34.6843,2,  34.6821,2,   -999.0,9,    152.2,2,   145.99,2,    36.32,2,     0.00,2,     2.50,2, -999.000,5, -999.000,5, -999.000,9,-999.0000,9,  -999.00,9,   -999.0,9,   -999.0,9,  -999.00,9,-999.0000,-999.000,  1.1921,-999.000
      325023_1,  P14N,   119,  1,      8,      8,2,19930806,1928,  6.0000, 178.9932, 5898,   3964.0,   1.3612,  34.6921,2,  34.6904,2,   -999.0,9,    167.0,2,   139.71,2,    35.12,2,     0.00,2,     2.41,2,    0.001,2,   -0.001,2, -999.000,9,-999.0000,9,  -999.00,9,   -999.0,9,   -999.0,9,  -999.00,9,-999.0000,-999.000,  1.0500,-999.000
      325023_1,  P14N,   119,  1,      7,      7,2,19930806,1928,  6.0000, 178.9932, 5898,   4270.4,   1.2860,  34.6978,2,  34.6969,2,   -999.0,9,    178.0,2,   134.91,2,    34.34,2,     0.00,2,     2.35,2, -999.000,5, -999.000,5, -999.000,9,-999.0000,9,  -999.00,9,   -999.0,9,   -999.0,9,  -999.00,9,-999.0000,-999.000,  0.9434,-999.000
      325023_1,  P14N,   119,  1,      6,      6,2,19930806,1928,  6.0000, 178.9932, 5898,   4577.4,   1.2604,  34.7009,2,  34.7008,2,   -999.0,9,    185.0,2,   131.15,2,    33.88,2,     0.00,2,     2.31,2, -999.000,5, -999.000,5, -999.000,9,-999.0000,9,  -999.00,9,   -999.0,9,   -999.0,9,  -999.00,9,-999.0000,-999.000,  0.8839,-999.000
      325023_1,  P14N,   119,  1,      5,      5,2,19930806,1928,  6.0000, 178.9932, 5898,   4886.5,   1.2731,  34.7023,2,  34.7015,2,   -999.0,9,    187.8,2,   129.65,2,    33.60,2,     0.00,2,     2.29,2,    0.004,2,    0.000,2, -999.000,9,-999.0000,9,  -999.00,9,   -999.0,9,   -999.0,9,  -999.00,9,-999.0000,-999.000,  0.8600,-999.000
      325023_1,  P14N,   119,  1,      4,      4,2,19930806,1928,  6.0000, 178.9932, 5898,   5195.9,   1.2975,  34.7031,2,  34.7019,2,   -999.0,9,    189.5,2,   128.77,2,    33.50,2,     0.00,2,     2.28,2, -999.000,5, -999.000,5, -999.000,9,-999.0000,9,  -999.00,9,   -999.0,9,   -999.0,9,  -999.00,9,-999.0000,-999.000,  0.8462,-999.000
      325023_1,  P14N,   119,  1,      3,      3,2,19930806,1928,  6.0000, 178.9932, 5898,   5503.8,   1.3288,  34.7038,2,  34.7023,2,   -999.0,9,    191.1,2,   127.89,2,    33.39,2,     0.00,2,     2.28,2, -999.000,5, -999.000,5, -999.000,9,-999.0000,9,  -999.00,9,   -999.0,9,   -999.0,9,  -999.00,9,-999.0000,-999.000,  0.8379,-999.000
      325023_1,  P14N,   119,  1,      2,      2,2,19930806,1928,  6.0000, 178.9932, 5898,   5812.3,   1.3658,  34.7036,2,  34.7025,2,   -999.0,9,    191.5,2,   127.63,2,    33.33,2,     0.00,2,     2.27,2, -999.000,5, -999.000,5, -999.000,9,-999.0000,9,  -999.00,9,   -999.0,9,   -999.0,9,  -999.00,9,-999.0000,-999.000,  0.8338,-999.000
      325023_1,  P14N,   119,  1,      1,      1,2,19930806,1928,  6.0000, 178.9932, 5898,   5898.0,   1.3777,  34.7040,2,  34.7033,2,   -999.0,9,    189.4,2,   127.36,2,    33.32,2,     0.00,2,     2.27,2,    0.005,2,    0.002,2, -999.000,9,-999.0000,9,  -999.00,9,   -999.0,9,   -999.0,9,  -999.00,9,-999.0000,-999.000,  0.8340,-999.000