BOTTLE,20131125MIRCJHATS
EXPOCODE,SECT_ID,STNNBR,CASTNO,SAMPNO,BTLNBR,BTLNBR_FLAG_W,DATE,TIME,LATITUDE,LONGITUDE,DEPTH,CTDPRS,CTDTMP,CTDSAL,CTDSAL_FLAG_W,SALNTY,SALNTY_FLAG_W,CTDOXY,CTDOXY_FLAG_W,OXYGEN,OXYGEN_FLAG_W,SILCAT,SILCAT_FLAG_W,NITRAT,NITRAT_FLAG_W,NITRIT,NITRIT_FLAG_W,PHSPHT,PHSPHT_FLAG_W,CFC-11,CFC-11_FLAG_W,CFC-12,CFC-12_FLAG_W,TRITUM,TRITUM_FLAG_W,HELIUM,HELIUM_FLAG_W,DELHE3,DELHE3_FLAG_W,TCARBN,TCARBN_FLAG_W,ALKALI,ALKALI_FLAG_W,PH,PH_FLAG_W,HELIER,DELHER,THETA,TRITER
,,,,,,,,,,,,DBAR,ITS-90,PSS-78,,PSS-78,,UMOL/KG,,UMOL/KG,,UMOL/KG,,UMOL/KG,,UMOL/KG,,UMOL/KG,,PMOL/KG,,PMOL/KG,,TU,,NMOL/KG,,PERCNT,,UMOL/KG,,UMOL/KG,,25_DEG,,NMOL/KG,PERCNT,DEG C,TU
      325024_1,  P14N,   155,  1,     36,     36,2,19930821,2044, -2.9960, 179.0025, 5468,      3.2,  29.9927,  34.4618,2,  34.4683,2,   -999.0,9,    194.3,2,     2.68,2,     0.03,2,     0.00,2,     0.20,2,    1.552,2,    0.855,2, -999.000,9,-999.0000,9,  -999.00,9,   -999.0,9,   -999.0,9,  -999.00,9,-999.0000,-999.000, 29.9919,-999.000
      325024_1,  P14N,   155,  1,     35,     35,2,19930821,2044, -2.9960, 179.0025, 5468,     37.2,  29.9185,  34.4659,2,  34.4732,2,   -999.0,9,    194.4,2,     2.22,2,     0.03,2,     0.00,2,     0.20,2,    1.550,2,    0.866,2, -999.000,9,-999.0000,9,  -999.00,9,   -999.0,9,   -999.0,9,  -999.00,9,-999.0000,-999.000, 29.9093,-999.000
      325024_1,  P14N,   155,  1,     34,     34,2,19930821,2044, -2.9960, 179.0025, 5468,     66.5,  29.9459,  34.9115,2,  34.9175,2,   -999.0,9,    196.8,2,     2.16,2,     0.03,2,     0.00,2,     0.22,2,    1.573,2,    0.855,2, -999.000,9,-999.0000,9,  -999.00,9,   -999.0,9,   -999.0,9,  -999.00,9,-999.0000,-999.000, 29.9294,-999.000
      325024_1,  P14N,   155,  1,     33,     33,2,19930821,2044, -2.9960, 179.0025, 5468,     96.0,  29.2071,  35.2407,2,  35.2548,2,   -999.0,9,    194.5,2,     2.29,2,     0.32,2,     0.26,2,     0.34,2,    1.627,2,    0.895,2, -999.000,9,-999.0000,9,  -999.00,9,   -999.0,9,   -999.0,9,  -999.00,9,-999.0000,-999.000, 29.1838,-999.000
      325024_1,  P14N,   155,  1,     32,     32,2,19930821,2044, -2.9960, 179.0025, 5468,    126.3,  26.5602,  35.7009,2,  35.7193,2,   -999.0,9,    148.8,2,     2.63,2,     6.29,2,     1.20,2,     0.77,2,    1.701,2,    0.910,2, -999.000,9,-999.0000,9,  -999.00,9,   -999.0,9,   -999.0,9,  -999.00,9,-999.0000,-999.000, 26.5315,-999.000
      325024_1,  P14N,   155,  1,     31,     31,2,19930821,2044, -2.9960, 179.0025, 5468,    156.6,  22.3192,  35.8798,2,  35.8704,2,   -999.0,9,    129.0,2,     3.55,2,    10.02,2,     0.07,2,     0.98,2,    1.718,2,    0.889,2, -999.000,9,-999.0000,9,  -999.00,9,   -999.0,9,   -999.0,9,  -999.00,9,-999.0000,-999.000, 22.2878,-999.000
      325024_1,  P14N,   155,  1,     30,     30,2,19930821,2044, -2.9960, 179.0025, 5468,    207.2,  14.2390,  35.1274,2,  35.0969,4,   -999.0,9,    108.8,2,    12.56,2,    19.74,2,     0.01,2,     1.54,2,    0.774,2,    0.399,2, -999.000,9,-999.0000,9,  -999.00,9,   -999.0,9,   -999.0,9,  -999.00,9,-999.0000,-999.000, 14.2087,-999.000
      325024_1,  P14N,   155,  1,     29,     29,2,19930821,2044, -2.9960, 179.0025, 5468,    257.5,  11.0974,  34.8292,2,  34.8291,2,   -999.0,9,    120.7,2,    18.40,2,    23.33,2,     0.00,2,     1.73,2,    0.500,2,    0.250,2, -999.000,9,-999.0000,9,  -999.00,9,   -999.0,9,   -999.0,9,  -999.00,9,-999.0000,-999.000, 11.0654,-999.000
      325024_1,  P14N,   155,  1,     28,     28,2,19930821,2044, -2.9960, 179.0025, 5468,    307.1,  10.1843,  34.7483,2,  34.7478,2,   -999.0,9,    113.8,2,    22.67,2,    25.92,2,     0.00,2,     1.88,2,    0.373,2,    0.194,2, -999.000,9,-999.0000,9,  -999.00,9,   -999.0,9,   -999.0,9,  -999.00,9,-999.0000,-999.000, 10.1482,-999.000
      325024_1,  P14N,   155,  1,     27,     27,2,19930821,2044, -2.9960, 179.0025, 5468,    407.2,   9.2522,  34.6803,2,  34.6824,2,   -999.0,9,    104.2,2,    26.94,2,    28.86,2,     0.00,2,     2.07,2,    0.209,2,    0.106,2, -999.000,9,-999.0000,9,  -999.00,9,   -999.0,9,   -999.0,9,  -999.00,9,-999.0000,-999.000,  9.2068,-999.000
      325024_1,  P14N,   155,  1,     26,     26,2,19930821,2044, -2.9960, 179.0025, 5468,    507.1,   7.7635,  34.6104,2,  34.6100,2,   -999.0,9,     67.4,2,    39.88,2,    36.03,2,     0.00,2,     2.54,2,    0.035,2,    0.019,2, -999.000,9,-999.0000,9,  -999.00,9,   -999.0,9,   -999.0,9,  -999.00,9,-999.0000,-999.000,  7.7123,-999.000
      325024_1,  P14N,   155,  1,     25,     25,2,19930821,2044, -2.9960, 179.0025, 5468,    606.5,   6.6887,  34.5560,2,  34.5553,2,   -999.0,9,     96.2,2,    45.72,2,    35.10,2,     0.00,2,     2.49,2,    0.032,2,    0.010,2, -999.000,9,-999.0000,9,  -999.00,9,   -999.0,9,   -999.0,9,  -999.00,9,-999.0000,-999.000,  6.6321,-999.000
      325024_1,  P14N,   155,  1,     24,     24,2,19930821,2044, -2.9960, 179.0025, 5468,    707.2,   5.8736,  34.5359,2,  34.5365,2,   -999.0,9,    100.0,2,    55.51,2,    36.60,2,     0.00,2,     2.58,2,    0.018,2,    0.005,2, -999.000,9,-999.0000,9,  -999.00,9,   -999.0,9,   -999.0,9,  -999.00,9,-999.0000,-999.000,  5.8114,-999.000
      325024_1,  P14N,   155,  1,     23,     23,2,19930821,2044, -2.9960, 179.0025, 5468,    806.8,   5.3622,  34.5392,2,  34.5406,2,   -999.0,9,     89.0,2,    66.69,2,    38.16,2,     0.00,2,     2.71,2,    0.005,6,    0.002,6, -999.000,9,-999.0000,9,  -999.00,9,   -999.0,9,   -999.0,9,  -999.00,9,-999.0000,-999.000,  5.2938,-999.000
      325024_1,  P14N,   155,  1,     22,     22,2,19930821,2044, -2.9960, 179.0025, 5468,    905.7,   4.9669,  34.5421,2,  34.5414,2,   -999.0,9,     89.3,2,    73.54,2,    38.61,2,     0.00,2,     2.75,2,   -0.003,2,    0.002,2, -999.000,9,-999.0000,9,  -999.00,9,   -999.0,9,   -999.0,9,  -999.00,9,-999.0000,-999.000,  4.8922,-999.000
      325024_1,  P14N,   155,  1,     21,     21,2,19930821,2044, -2.9960, 179.0025, 5468,   1005.3,   4.6146,  34.5464,2,  34.5465,2,   -999.0,9,     91.3,2,    80.20,2,    38.74,2,     0.00,2,     2.76,2,    0.001,2,    0.003,2, -999.000,9,-999.0000,9,  -999.00,9,   -999.0,9,   -999.0,9,  -999.00,9,-999.0000,-999.000,  4.5337,-999.000
      325024_1,  P14N,   155,  1,     20,     20,2,19930821,2044, -2.9960, 179.0025, 5468,   1206.3,   3.9542,  34.5642,2,  34.5641,2,   -999.0,9,     96.0,2,    94.85,2,    38.77,2,     0.00,2,     2.79,2,    0.008,2,    0.005,2, -999.000,9,-999.0000,9,  -999.00,9,   -999.0,9,   -999.0,9,  -999.00,9,-999.0000,-999.000,  3.8614,-999.000
      325024_1,  P14N,   155,  1,     19,     19,2,19930821,2044, -2.9960, 179.0025, 5468,   1408.4,   3.3206,  34.5837,2,  34.5823,2,   -999.0,9,    108.4,2,   106.78,2,    38.00,2,     0.00,2,     2.72,2, -999.000,5, -999.000,5, -999.000,9,-999.0000,9,  -999.00,9,   -999.0,9,   -999.0,9,  -999.00,9,-999.0000,-999.000,  3.2169,-999.000
      325024_1,  P14N,   155,  1,     18,     18,2,19930821,2044, -2.9960, 179.0025, 5468,   1610.9,   2.8168,  34.6052,2,  34.6043,2,   -999.0,9,    115.5,2,   117.37,2,    37.91,2,     0.00,2,     2.69,2,   -0.003,2,   -0.002,2, -999.000,9,-999.0000,9,  -999.00,9,   -999.0,9,   -999.0,9,  -999.00,9,-999.0000,-999.000,  2.7018,-999.000
      325024_1,  P14N,   155,  1,     17,     17,2,19930821,2044, -2.9960, 179.0025, 5468,   1812.2,   2.3992,  34.6278,2,  34.6263,2,   -999.0,9,    118.7,2,   128.66,2,    37.85,2,     0.00,2,     2.68,2, -999.000,5, -999.000,5, -999.000,9,-999.0000,9,  -999.00,9,   -999.0,9,   -999.0,9,  -999.00,9,-999.0000,-999.000,  2.2728,-999.000
      325024_1,  P14N,   155,  1,     16,     16,2,19930821,2044, -2.9960, 179.0025, 5468,   2014.6,   2.1742,  34.6416,2,  34.6406,2,   -999.0,9,    118.0,2,   136.76,2,    37.94,2,     0.00,2,     2.68,2,   -0.002,2,    0.001,2, -999.000,9,-999.0000,9,  -999.00,9,   -999.0,9,   -999.0,9,  -999.00,9,-999.0000,-999.000,  2.0338,-999.000
      325024_1,  P14N,   155,  1,     15,     15,2,19930821,2044, -2.9960, 179.0025, 5468,   2216.3,   2.0503,  34.6482,2,  34.6467,2,   -999.0,9,    122.4,2,   138.72,2,    37.75,2,     0.00,2,     2.66,2, -999.000,5, -999.000,5, -999.000,9,-999.0000,9,  -999.00,9,   -999.0,9,   -999.0,9,  -999.00,9,-999.0000,-999.000,  1.8945,-999.000
      325024_1,  P14N,   155,  1,     14,     14,2,19930821,2044, -2.9960, 179.0025, 5468,   2418.5,   1.9406,  34.6540,2,  34.6521,2,   -999.0,9,    126.1,2,   140.88,2,    37.43,2,     0.00,2,     2.64,2, -999.000,5, -999.000,5, -999.000,9,-999.0000,9,  -999.00,9,   -999.0,9,   -999.0,9,  -999.00,9,-999.0000,-999.000,  1.7687,-999.000
      325024_1,  P14N,   155,  1,     13,     13,2,19930821,2044, -2.9960, 179.0025, 5468,   2621.3,   1.8424,  34.6598,2,  34.6588,2,   -999.0,9,    128.9,2,   143.88,2,    37.29,2,     0.00,2,     2.63,2,   -0.002,2,    0.001,2, -999.000,9,-999.0000,9,  -999.00,9,   -999.0,9,   -999.0,9,  -999.00,9,-999.0000,-999.000,  1.6540,-999.000
      325024_1,  P14N,   155,  1,     12,     12,2,19930821,2044, -2.9960, 179.0025, 5468,   2824.2,   1.7478,  34.6661,2,  34.6649,2,   -999.0,9,    135.9,2,   143.15,2,    36.89,2,     0.00,2,     2.59,2, -999.000,5, -999.000,5, -999.000,9,-999.0000,9,  -999.00,9,   -999.0,9,   -999.0,9,  -999.00,9,-999.0000,-999.000,  1.5424,-999.000
      325024_1,  P14N,   155,  1,     11,     11,2,19930821,2044, -2.9960, 179.0025, 5468,   3026.9,   1.6574,  34.6713,2,  34.6702,2,   -999.0,9,    140.9,2,   143.66,2,    36.48,2,     0.00,2,     2.56,2, -999.000,5, -999.000,5, -999.000,9,-999.0000,9,  -999.00,9,   -999.0,9,   -999.0,9,  -999.00,9,-999.0000,-999.000,  1.4345,-999.000
      325024_1,  P14N,   155,  1,     10,     10,2,19930821,2044, -2.9960, 179.0025, 5468,   3330.7,   1.5627,  34.6787,2,  34.6774,2,   -999.0,9,    149.4,2,   142.51,2,    35.94,2,     0.00,2,     2.52,2, -999.000,5, -999.000,5, -999.000,9,-999.0000,9,  -999.00,9,   -999.0,9,   -999.0,9,  -999.00,9,-999.0000,-999.000,  1.3122,-999.000
      325024_1,  P14N,   155,  1,      9,      9,3,19930821,2044, -2.9960, 179.0025, 5468,   3635.6,   1.4828,  34.6846,2,  34.6931,4,   -999.0,9,    134.6,4,   118.29,4,    34.78,4,     0.01,4,     2.45,4, -999.000,5, -999.000,5, -999.000,9,-999.0000,9,  -999.00,9,   -999.0,9,   -999.0,9,  -999.00,9,-999.0000,-999.000,  1.2031,-999.000
      325024_1,  P14N,   155,  1,      8,      8,2,19930821,2044, -2.9960, 179.0025, 5468,   3940.9,   1.4314,  34.6899,2,  34.6890,2,   -999.0,9,    164.0,2,   140.23,2,    34.92,2,     0.00,2,     2.43,2,   -0.002,2,    0.002,2, -999.000,9,-999.0000,9,  -999.00,9,   -999.0,9,   -999.0,9,  -999.00,9,-999.0000,-999.000,  1.1208,-999.000
      325024_1,  P14N,   155,  1,      7,      7,3,19930821,2044, -2.9960, 179.0025, 5468,   4246.8,   1.3383,  34.6961,2,  34.6888,4,   -999.0,9,    164.8,4,   130.89,4,    34.25,4,     0.00,4,     2.39,4, -999.000,5, -999.000,5, -999.000,9,-999.0000,9,  -999.00,9,   -999.0,9,   -999.0,9,  -999.00,9,-999.0000,-999.000,  0.9969,-999.000
      325024_1,  P14N,   155,  1,      6,      6,2,19930821,2044, -2.9960, 179.0025, 5468,   4552.2,   1.2689,  34.7013,2,  34.7012,2,   -999.0,9,    187.2,2,   129.35,2,    33.16,2,     0.00,2,     2.30,2, -999.000,5, -999.000,5, -999.000,9,-999.0000,9,  -999.00,9,   -999.0,9,   -999.0,9,  -999.00,9,-999.0000,-999.000,  0.8950,-999.000
      325024_1,  P14N,   155,  1,      5,      5,2,19930821,2044, -2.9960, 179.0025, 5468,   4859.8,   1.2533,  34.7033,2,  34.7031,2,   -999.0,9,    192.3,2,   126.40,2,    32.76,2,     0.00,2,     2.29,2,    0.000,2,    0.001,2, -999.000,9,-999.0000,9,  -999.00,9,   -999.0,9,   -999.0,9,  -999.00,9,-999.0000,-999.000,  0.8440,-999.000
      325024_1,  P14N,   155,  1,      4,      4,2,19930821,2044, -2.9960, 179.0025, 5468,   5165.6,   1.2570,  34.7049,2,  34.7043,2,   -999.0,9,    195.9,2,   124.06,2,    32.41,2,     0.00,2,     2.27,2, -999.000,5, -999.000,5, -999.000,9,-999.0000,9,  -999.00,9,   -999.0,9,   -999.0,9,  -999.00,9,-999.0000,-999.000,  0.8108,-999.000
      325024_1,  P14N,   155,  1,      3,      3,2,19930821,2044, -2.9960, 179.0025, 5468,   5472.9,   1.2914,  34.7053,2,  34.7037,2,   -999.0,9,    196.4,2,   124.17,2,    32.40,2,     0.00,2,     2.26,2, -999.000,5, -999.000,5, -999.000,9,-999.0000,9,  -999.00,9,   -999.0,9,   -999.0,9,  -999.00,9,-999.0000,-999.000,  0.8058,-999.000
      325024_1,  P14N,   155,  1,      2,      2,2,19930821,2044, -2.9960, 179.0025, 5468,   5544.7,   1.3011,  34.7048,2,  34.7045,2,   -999.0,9,    196.4,2,   124.27,2,    32.40,2,     0.00,2,     2.26,2,    0.002,2,    0.001,2, -999.000,9,-999.0000,9,  -999.00,9,   -999.0,9,   -999.0,9,  -999.00,9,-999.0000,-999.000,  0.8060,-999.000
      325024_1,  P14N,   155,  1,      1,      1,2,19930821,2044, -2.9960, 179.0025, 5468,   5545.0,   1.3012,  34.7048,2,  34.7043,2,   -999.0,9,    195.4,2,   124.37,2,    32.39,2,     0.00,2,     2.25,2, -999.000,5, -999.000,5, -999.000,9,-999.0000,9,  -999.00,9,   -999.0,9,   -999.0,9,  -999.00,9,-999.0000,-999.000,  0.8061,-999.000