BOTTLE,20131125MIRCJHATS
EXPOCODE,SECT_ID,STNNBR,CASTNO,SAMPNO,BTLNBR,BTLNBR_FLAG_W,DATE,TIME,LATITUDE,LONGITUDE,DEPTH,CTDPRS,CTDTMP,CTDSAL,CTDSAL_FLAG_W,SALNTY,SALNTY_FLAG_W,CTDOXY,CTDOXY_FLAG_W,OXYGEN,OXYGEN_FLAG_W,SILCAT,SILCAT_FLAG_W,NITRAT,NITRAT_FLAG_W,NITRIT,NITRIT_FLAG_W,PHSPHT,PHSPHT_FLAG_W,CFC-11,CFC-11_FLAG_W,CFC-12,CFC-12_FLAG_W,TRITUM,TRITUM_FLAG_W,HELIUM,HELIUM_FLAG_W,DELHE3,DELHE3_FLAG_W,TCARBN,TCARBN_FLAG_W,ALKALI,ALKALI_FLAG_W,PH,PH_FLAG_W,HELIER,DELHER,THETA,TRITER
,,,,,,,,,,,,DBAR,ITS-90,PSS-78,,PSS-78,,UMOL/KG,,UMOL/KG,,UMOL/KG,,UMOL/KG,,UMOL/KG,,UMOL/KG,,PMOL/KG,,PMOL/KG,,TU,,NMOL/KG,,PERCNT,,UMOL/KG,,UMOL/KG,,25_DEG,,NMOL/KG,PERCNT,DEG C,TU
      325023_1,  P14N,   106,  1,     36,     36,2,19930804,0106,  9.5047, 178.9997, 5509,      3.4,  28.4373,  34.2697,2,  34.2755,2,   -999.0,9,    196.7,2,     3.76,2,     0.04,2,     0.00,2,     0.19,2, -999.000,5, -999.000,5, -999.000,9,-999.0000,9,  -999.00,9,   1908.0,2,   2250.6,2,     8.13,2,-999.0000,-999.000, 28.4365,-999.000
      325023_1,  P14N,   106,  1,     35,     35,2,19930804,0106,  9.5047, 178.9997, 5509,     38.8,  28.4387,  34.3498,2,  34.3503,2,   -999.0,9,    197.3,2,     3.61,2,     0.04,2,     0.00,2,     0.19,2, -999.000,5, -999.000,5, -999.000,9,-999.0000,9,  -999.00,9,   1911.9,2,   2255.1,2,     8.13,2,-999.0000,-999.000, 28.4295,-999.000
      325023_1,  P14N,   106,  1,     34,     34,2,19930804,0106,  9.5047, 178.9997, 5509,     69.3,  27.9035,  34.4901,2,  34.4922,2,   -999.0,9,    200.1,2,     3.25,2,     0.04,2,     0.00,2,     0.17,2, -999.000,5, -999.000,5, -999.000,9,-999.0000,9,  -999.00,9,   -999.0,9,   2265.9,2,     8.13,2,-999.0000,-999.000, 27.8872,-999.000
      325023_1,  P14N,   106,  1,     33,     33,2,19930804,0106,  9.5047, 178.9997, 5509,     99.2,  25.6366,  34.5787,2,  34.5865,2,   -999.0,9,    200.3,2,     3.75,2,     0.04,2,     0.00,2,     0.26,2, -999.000,5, -999.000,5, -999.000,9,-999.0000,9,  -999.00,9,   1958.9,2,   2274.1,2,     8.09,2,-999.0000,-999.000, 25.6148,-999.000
      325023_1,  P14N,   106,  1,     32,     32,2,19930804,0106,  9.5047, 178.9997, 5509,    129.2,  17.0815,  34.6281,2,  34.6265,2,   -999.0,9,    133.9,2,    11.57,2,    11.34,2,     0.48,2,     1.04,2, -999.000,5, -999.000,5, -999.000,9,-999.0000,9,  -999.00,9,   2098.5,2,   2283.0,2,  -999.00,9,-999.0000,-999.000, 17.0602,-999.000
      325023_1,  P14N,   106,  1,     31,     31,2,19930804,0106,  9.5047, 178.9997, 5509,    159.6,  13.0973,  34.5611,2,  34.5572,2,   -999.0,9,     62.0,2,    22.85,2,    24.87,2,     0.02,2,     1.90,2, -999.000,5, -999.000,5, -999.000,9,-999.0000,9,  -999.00,9,   2186.2,2,   2280.6,2,     7.60,2,-999.0000,-999.000, 13.0754,-999.000
      325023_1,  P14N,   106,  1,     30,     30,2,19930804,0106,  9.5047, 178.9997, 5509,    209.7,  11.4030,  34.6652,2,  34.6645,2,   -999.0,9,     17.9,2,    31.11,2,    32.30,2,     0.01,2,     2.38,2, -999.000,5, -999.000,5, -999.000,9,-999.0000,9,  -999.00,9,   2239.1,2,   2295.3,2,  -999.00,9,-999.0000,-999.000, 11.3766,-999.000
      325023_1,  P14N,   106,  1,     29,     29,2,19930804,0106,  9.5047, 178.9997, 5509,    259.2,  10.5502,  34.6957,2,  34.6953,2,   -999.0,9,     14.5,2,    34.42,2,    34.11,2,     0.01,2,     2.46,2, -999.000,5, -999.000,5, -999.000,9,-999.0000,9,  -999.00,9,   2253.5,2,   2299.8,2,     7.45,2,-999.0000,-999.000, 10.5191,-999.000
      325023_1,  P14N,   106,  1,     28,     28,2,19930804,0106,  9.5047, 178.9997, 5509,    309.4,   9.8915,  34.6720,2,  34.6718,2,   -999.0,9,     19.6,2,    36.42,2,    34.75,2,     0.00,2,     2.50,2, -999.000,5, -999.000,5, -999.000,9,-999.0000,9,  -999.00,9,   2255.5,2,   2306.1,2,     7.45,2,-999.0000,-999.000,  9.8558,-999.000
      325023_1,  P14N,   106,  1,     27,     27,2,19930804,0106,  9.5047, 178.9997, 5509,    408.3,   9.0822,  34.6401,2,  34.6400,2,   -999.0,9,     20.3,2,    41.67,2,    35.94,2,     0.00,2,     2.61,2, -999.000,5, -999.000,5, -999.000,9,-999.0000,9,  -999.00,9,   2265.1,2,   2306.8,2,     7.43,2,-999.0000,-999.000,  9.0373,-999.000
      325023_1,  P14N,   106,  1,     26,     26,2,19930804,0106,  9.5047, 178.9997, 5509,    508.2,   8.1701,  34.5917,2,  34.5921,2,   -999.0,9,     23.1,2,    49.51,2,    37.05,2,     0.00,2,     2.75,2, -999.000,5, -999.000,5, -999.000,9,-999.0000,9,  -999.00,9,   2277.8,2,   2313.0,2,     7.42,2,-999.0000,-999.000,  8.1173,-999.000
      325023_1,  P14N,   106,  1,     25,     25,2,19930804,0106,  9.5047, 178.9997, 5509,    607.5,   7.0886,  34.5466,2,  34.5458,2,   -999.0,9,     25.6,2,    60.60,2,    38.86,2,     0.00,2,     2.88,2, -999.000,5, -999.000,5, -999.000,9,-999.0000,9,  -999.00,9,   2291.5,2,   2322.9,2,     7.40,2,-999.0000,-999.000,  7.0301,-999.000
      325023_1,  P14N,   106,  1,     24,     24,2,19930804,0106,  9.5047, 178.9997, 5509,    707.1,   6.2031,  34.5334,2,  34.5326,2,   -999.0,9,     31.1,2,    70.41,2,    40.50,2,     0.00,2,     2.95,2, -999.000,5, -999.000,5, -999.000,9,-999.0000,9,  -999.00,9,   2303.9,2,   2333.1,2,     7.40,2,-999.0000,-999.000,  6.1392,-999.000
      325023_1,  P14N,   106,  1,     23,     23,2,19930804,0106,  9.5047, 178.9997, 5509,    806.1,   5.4641,  34.5328,2,  34.5326,2,   -999.0,9,     40.8,2,    80.67,2,    41.07,2,     0.00,2,     2.97,2, -999.000,5, -999.000,5, -999.000,9,-999.0000,9,  -999.00,9,   -999.0,9,   -999.0,9,  -999.00,9,-999.0000,-999.000,  5.3952,-999.000
      325023_1,  P14N,   106,  1,     22,     22,2,19930804,0106,  9.5047, 178.9997, 5509,    902.2,   4.9760,  34.5434,2,  34.5424,2,   -999.0,9,     51.1,2,    87.70,2,    40.99,2,     0.00,2,     2.96,2, -999.000,5, -999.000,5, -999.000,9,-999.0000,9,  -999.00,9,   2313.2,2,   2344.3,2,  -999.00,9,-999.0000,-999.000,  4.9016,-999.000
      325023_1,  P14N,   106,  1,     21,     21,2,19930804,0106,  9.5047, 178.9997, 5509,    997.2,   4.5394,  34.5482,2,  34.5481,2,   -999.0,9,     45.2,2,    97.79,2,    41.99,2,     0.00,2,     3.04,2, -999.000,5, -999.000,5, -999.000,9,-999.0000,9,  -999.00,9,   2333.4,2,   2362.2,2,     7.41,2,-999.0000,-999.000,  4.4598,-999.000
      325023_1,  P14N,   106,  1,     20,     20,2,19930804,0106,  9.5047, 178.9997, 5509,   1183.2,   3.8241,  34.5706,2,  34.5702,2,   -999.0,9,     71.8,2,   109.90,2,    40.25,2,     0.00,2,     2.89,2, -999.000,5, -999.000,5, -999.000,9,-999.0000,9,  -999.00,9,   2328.1,2,   2378.4,2,  -999.00,9,-999.0000,-999.000,  3.7344,-999.000
      325023_1,  P14N,   106,  1,     19,     19,2,19930804,0106,  9.5047, 178.9997, 5509,   1404.0,   3.1830,  34.5926,2,  34.5918,2,   -999.0,9,     81.4,2,   123.84,2,    39.51,2,     0.00,2,     2.87,2, -999.000,5, -999.000,5, -999.000,9,-999.0000,9,  -999.00,9,   2339.3,2,   2391.4,2,  -999.00,9,-999.0000,-999.000,  3.0811,-999.000
      325023_1,  P14N,   106,  1,     18,     18,2,19930804,0106,  9.5047, 178.9997, 5509,   1618.5,   2.7139,  34.6100,2,  34.6084,2,   -999.0,9,     91.6,2,   133.45,2,    39.24,2,     0.00,2,     2.80,2, -999.000,5, -999.000,5, -999.000,9,-999.0000,9,  -999.00,9,   2345.1,2,   2401.0,2,     7.49,2,-999.0000,-999.000,  2.5995,-999.000
      325023_1,  P14N,   106,  1,     17,     17,2,19930804,0106,  9.5047, 178.9997, 5509,   1822.8,   2.3976,  34.6255,2,  34.6247,2,   -999.0,9,     98.9,2,   140.20,2,    38.92,2,     0.00,2,     2.77,2, -999.000,5, -999.000,5, -999.000,9,-999.0000,9,  -999.00,9,   2349.6,2,   2409.8,2,  -999.00,9,-999.0000,-999.000,  2.2703,-999.000
      325023_1,  P14N,   106,  1,     16,     16,2,19930804,0106,  9.5047, 178.9997, 5509,   2026.6,   2.2012,  34.6377,2,  34.6370,2,   -999.0,9,    104.0,2,   145.65,2,    38.65,2,     0.00,2,     2.75,2, -999.000,5, -999.000,5, -999.000,9,-999.0000,9,  -999.00,9,   2349.2,2,   2418.6,2,  -999.00,9,-999.0000,-999.000,  2.0594,-999.000
      325023_1,  P14N,   106,  1,     15,     15,2,19930804,0106,  9.5047, 178.9997, 5509,   2231.0,   2.0528,  34.6461,2,  34.6453,2,   -999.0,9,    108.6,2,   149.09,2,    38.47,2,     0.00,2,     2.73,2, -999.000,5, -999.000,5, -999.000,9,-999.0000,9,  -999.00,9,   2353.0,2,   2427.0,2,  -999.00,9,-999.0000,-999.000,  1.8956,-999.000
      325023_1,  P14N,   106,  1,     14,     14,2,19930804,0106,  9.5047, 178.9997, 5509,   2434.0,   1.9257,  34.6538,2,  34.6539,2,   -999.0,9,    114.5,2,   151.63,2,    38.06,2,     0.00,2,     2.69,2, -999.000,5, -999.000,5, -999.000,9,-999.0000,9,  -999.00,9,   2350.2,2,   -999.0,9,  -999.00,9,-999.0000,-999.000,  1.7527,-999.000
      325023_1,  P14N,   106,  1,     13,     13,2,19930804,0106,  9.5047, 178.9997, 5509,   2638.2,   1.8382,  34.6599,2,  34.6609,2,   -999.0,9,    118.4,2,   153.74,2,    37.83,2,     0.00,2,     2.67,2, -999.000,5, -999.000,5, -999.000,9,-999.0000,9,  -999.00,9,   2349.7,2,   2426.4,2,  -999.00,9,-999.0000,-999.000,  1.6484,-999.000
      325023_1,  P14N,   106,  1,     12,     12,2,19930804,0106,  9.5047, 178.9997, 5509,   2841.7,   1.7706,  34.6643,2,  34.6644,2,   -999.0,9,    122.7,2,   154.26,2,    37.56,2,     0.00,2,     2.64,2, -999.000,5, -999.000,5, -999.000,9,-999.0000,9,  -999.00,9,   2346.5,2,   2425.6,2,  -999.00,9,-999.0000,-999.000,  1.5631,-999.000
      325023_1,  P14N,   106,  1,     11,     11,2,19930804,0106,  9.5047, 178.9997, 5509,   3045.7,   1.6945,  34.6700,2,  34.6687,2,   -999.0,9,    128.0,2,   154.78,2,    37.15,2,     0.00,2,     2.61,2, -999.000,5, -999.000,5, -999.000,9,-999.0000,9,  -999.00,9,   2344.7,2,   2428.7,2,     7.55,2,-999.0000,-999.000,  1.4691,-999.000
      325023_1,  P14N,   106,  1,     10,     10,2,19930804,0106,  9.5047, 178.9997, 5509,   3351.3,   1.5886,  34.6764,2,  34.6756,2,   -999.0,9,    138.3,2,   153.26,2,    36.47,2,     0.00,2,     2.57,2, -999.000,5, -999.000,5, -999.000,9,-999.0000,9,  -999.00,9,   2336.4,2,   2424.8,2,  -999.00,9,-999.0000,-999.000,  1.3354,-999.000
      325023_1,  P14N,   106,  1,      9,      9,2,19930804,0106,  9.5047, 178.9997, 5509,   3658.4,   1.5045,  34.6820,2,  34.6807,2,   -999.0,9,    146.8,2,   151.98,2,    35.88,2,     0.00,2,     2.51,2, -999.000,5, -999.000,5, -999.000,9,-999.0000,9,  -999.00,9,   2327.7,2,   2423.4,2,  -999.00,9,-999.0000,-999.000,  1.2219,-999.000
      325023_1,  P14N,   106,  1,      8,      8,2,19930804,0106,  9.5047, 178.9997, 5509,   3964.4,   1.4278,  34.6874,2,  34.6864,2,   -999.0,9,    157.6,2,   147.99,2,    35.16,2,     0.00,2,     2.46,2, -999.000,5, -999.000,5, -999.000,9,-999.0000,9,  -999.00,9,   2320.5,2,   2417.2,2,  -999.00,9,-999.0000,-999.000,  1.1148,-999.000
      325023_1,  P14N,   106,  1,      7,      7,2,19930804,0106,  9.5047, 178.9997, 5509,   4270.8,   1.3756,  34.6921,2,  34.6918,2,   -999.0,9,    167.2,2,   142.67,2,    34.48,2,     0.00,2,     2.42,2, -999.000,5, -999.000,5, -999.000,9,-999.0000,9,  -999.00,9,   2311.1,2,   2409.5,2,     7.60,2,-999.0000,-999.000,  1.0304,-999.000
      325023_1,  P14N,   106,  1,      6,      6,2,19930804,0106,  9.5047, 178.9997, 5509,   4578.2,   1.3272,  34.6967,2,  34.6961,2,   -999.0,9,    176.5,2,   137.37,2,    33.76,2,     0.00,2,     2.37,2, -999.000,5, -999.000,5, -999.000,9,-999.0000,9,  -999.00,9,   2300.9,2,   2403.0,2,  -999.00,9,-999.0000,-999.000,  0.9486,-999.000
      325023_1,  P14N,   106,  1,      5,      5,2,19930804,0106,  9.5047, 178.9997, 5509,   4887.4,   1.3153,  34.6993,2,  34.6985,2,   -999.0,9,    182.3,2,   133.88,2,    33.32,2,     0.00,2,     2.34,2, -999.000,5, -999.000,5, -999.000,9,-999.0000,9,  -999.00,9,   2293.7,2,   2398.3,2,  -999.00,9,-999.0000,-999.000,  0.9008,-999.000
      325023_1,  P14N,   106,  1,      4,      4,2,19930804,0106,  9.5047, 178.9997, 5509,   5196.0,   1.3258,  34.7012,2,  34.6996,2,   -999.0,9,    186.1,2,   131.50,2,    32.96,2,     0.00,2,     2.32,2, -999.000,5, -999.000,5, -999.000,9,-999.0000,9,  -999.00,9,   2291.6,2,   2393.4,2,  -999.00,9,-999.0000,-999.000,  0.8735,-999.000
      325023_1,  P14N,   106,  1,      3,      3,2,19930804,0106,  9.5047, 178.9997, 5509,   5505.5,   1.3444,  34.7025,2,  34.7006,2,   -999.0,9,    188.9,2,   130.01,2,    32.79,2,     0.00,2,     2.29,2, -999.000,5, -999.000,5, -999.000,9,-999.0000,9,  -999.00,9,   2281.9,2,   2390.6,2,     7.61,2,-999.0000,-999.000,  0.8527,-999.000
      325023_1,  P14N,   106,  1,      2,      2,2,19930804,0106,  9.5047, 178.9997, 5509,   5822.6,   1.3798,  34.7028,2,  34.6972,3,   -999.0,9,    190.8,2,   129.41,2,    32.71,2,     0.00,2,     2.29,2, -999.000,5, -999.000,5, -999.000,9,-999.0000,9,  -999.00,9,   2283.2,2,   2389.1,2,  -999.00,9,-999.0000,-999.000,  0.8459,-999.000
      325023_1,  P14N,   106,  1,      1,      1,2,19930804,0106,  9.5047, 178.9997, 5509,   5822.6,   1.3796,  34.7030,2,  34.7033,2,   -999.0,9,    189.0,2,   129.70,2,    32.71,2,     0.00,2,     2.29,2, -999.000,5, -999.000,5, -999.000,9,-999.0000,9,  -999.00,9,   2283.8,2,   2390.8,2,  -999.00,9,-999.0000,-999.000,  0.8457,-999.000