BOTTLE,20131125MIRCJHATS
EXPOCODE,SECT_ID,STNNBR,CASTNO,SAMPNO,BTLNBR,BTLNBR_FLAG_W,DATE,TIME,LATITUDE,LONGITUDE,DEPTH,CTDPRS,CTDTMP,CTDSAL,CTDSAL_FLAG_W,SALNTY,SALNTY_FLAG_W,CTDOXY,CTDOXY_FLAG_W,OXYGEN,OXYGEN_FLAG_W,SILCAT,SILCAT_FLAG_W,NITRAT,NITRAT_FLAG_W,NITRIT,NITRIT_FLAG_W,PHSPHT,PHSPHT_FLAG_W,CFC-11,CFC-11_FLAG_W,CFC-12,CFC-12_FLAG_W,TRITUM,TRITUM_FLAG_W,HELIUM,HELIUM_FLAG_W,DELHE3,DELHE3_FLAG_W,TCARBN,TCARBN_FLAG_W,ALKALI,ALKALI_FLAG_W,PH,PH_FLAG_W,HELIER,DELHER,THETA,TRITER
,,,,,,,,,,,,DBAR,ITS-90,PSS-78,,PSS-78,,UMOL/KG,,UMOL/KG,,UMOL/KG,,UMOL/KG,,UMOL/KG,,UMOL/KG,,PMOL/KG,,PMOL/KG,,TU,,NMOL/KG,,PERCNT,,UMOL/KG,,UMOL/KG,,25_DEG,,NMOL/KG,PERCNT,DEG C,TU
      325023_1,  P14N,    21,  1,     36,     36,2,19930711,0953, 50.9340, 179.5712, 4029,      3.5,   7.2073,  32.5305,2,  32.5218,4,   -999.0,9,    303.3,2,    21.01,2,    11.24,2,     0.18,2,     1.19,2,    4.665,2,    2.285,2, -999.000,9,-999.0000,9,  -999.00,9,   -999.0,9,   -999.0,9,  -999.00,9,-999.0000,-999.000,  7.2070,-999.000
      325023_1,  P14N,    21,  1,     35,     35,2,19930711,0953, 50.9340, 179.5712, 4029,     37.1,   5.1790,  32.8430,2,  32.8353,4,   -999.0,9,    257.9,2,    41.86,2,    20.59,2,     0.22,2,     1.78,2,    4.502,2,    2.199,2, -999.000,9,-999.0000,9,  -999.00,9,   -999.0,9,   -999.0,9,  -999.00,9,-999.0000,-999.000,  5.1762,-999.000
      325023_1,  P14N,    21,  1,     34,     34,2,19930711,0953, 50.9340, 179.5712, 4029,     66.9,   4.8725,  33.1531,2,  33.1417,4,   -999.0,9,    251.5,2,    53.17,2,    25.49,2,     0.24,2,     2.08,2, -999.000,5, -999.000,5, -999.000,9,-999.0000,9,  -999.00,9,   -999.0,9,   -999.0,9,  -999.00,9,-999.0000,-999.000,  4.8676,-999.000
      325023_1,  P14N,    21,  1,     33,     33,2,19930711,0953, 50.9340, 179.5712, 4029,     96.9,   4.7731,  33.1778,2,  33.1687,4,   -999.0,9,    248.7,2,    54.94,2,    26.23,2,     0.24,2,     2.13,2,    4.243,2,    2.074,2, -999.000,9,-999.0000,9,  -999.00,9,   -999.0,9,   -999.0,9,  -999.00,9,-999.0000,-999.000,  4.7661,-999.000
      325023_1,  P14N,    21,  1,     32,     32,2,19930711,0953, 50.9340, 179.5712, 4029,    126.6,   4.3682,  33.2532,2,  33.2407,4,   -999.0,9,    233.1,2,    59.21,2,    28.07,2,     0.21,2,     2.24,2, -999.000,5, -999.000,5, -999.000,9,-999.0000,9,  -999.00,9,   -999.0,9,   -999.0,9,  -999.00,9,-999.0000,-999.000,  4.3594,-999.000
      325023_1,  P14N,    21,  1,     31,     31,2,19930711,0953, 50.9340, 179.5712, 4029,    156.8,   4.0838,  33.4195,2,  33.4089,4,   -999.0,9,    184.6,2,    68.94,2,    31.92,2,     0.17,2,     2.44,2,    3.419,2,    1.626,2, -999.000,9,-999.0000,9,  -999.00,9,   -999.0,9,   -999.0,9,  -999.00,9,-999.0000,-999.000,  4.0732,-999.000
      325023_1,  P14N,    21,  1,     30,     30,2,19930711,0953, 50.9340, 179.5712, 4029,    203.5,   4.2273,  33.5196,2,  33.5079,4,   -999.0,9,    147.6,2,    72.99,2,    33.76,2,     0.11,2,     2.53,2,    2.854,2,    1.378,2, -999.000,9,-999.0000,9,  -999.00,9,   -999.0,9,   -999.0,9,  -999.00,9,-999.0000,-999.000,  4.2131,-999.000
      325023_1,  P14N,    21,  1,     29,     29,2,19930711,0953, 50.9340, 179.5712, 4029,    253.9,   4.0064,  33.7872,2,  33.7660,4,   -999.0,9,     83.2,2,    84.10,2,    39.43,2,     0.04,2,     2.87,2, -999.000,5, -999.000,5, -999.000,9,-999.0000,9,  -999.00,9,   -999.0,9,   -999.0,9,  -999.00,9,-999.0000,-999.000,  3.9889,-999.000
      325023_1,  P14N,    21,  1,     28,     28,2,19930711,0953, 50.9340, 179.5712, 4029,    306.2,   3.6263,  33.8517,2,  33.8417,4,   -999.0,9,     55.8,2,    94.34,2,    42.60,2,     0.02,2,     3.07,2,    1.671,2,    0.753,2, -999.000,9,-999.0000,9,  -999.00,9,   -999.0,9,   -999.0,9,  -999.00,9,-999.0000,-999.000,  3.6060,-999.000
      325023_1,  P14N,    21,  1,     27,     27,2,19930711,0953, 50.9340, 179.5712, 4029,    358.3,   3.5025,  33.9352,2,  33.9241,4,   -999.0,9,     29.1,3,   105.06,3,    44.98,3,     0.01,3,     3.22,3, -999.000,5, -999.000,5, -999.000,9,-999.0000,9,  -999.00,9,   -999.0,9,   -999.0,9,  -999.00,9,-999.0000,-999.000,  3.4789,-999.000
      325023_1,  P14N,    21,  1,     26,     26,2,19930711,0953, 50.9340, 179.5712, 4029,    410.1,   3.5652,  34.0367,2,  34.0240,4,   -999.0,9,     32.4,3,   112.36,3,    43.62,3,     0.01,3,     3.15,3,    0.830,2,    0.383,2, -999.000,9,-999.0000,9,  -999.00,9,   -999.0,9,   -999.0,9,  -999.00,9,-999.0000,-999.000,  3.5377,-999.000
      325023_1,  P14N,    21,  1,     25,     25,2,19930711,0953, 50.9340, 179.5712, 4029,    459.5,   3.5128,  34.0617,2,  34.0501,4,   -999.0,9,     24.8,2,   115.30,2,    44.33,2,     0.00,2,     3.19,2, -999.000,5, -999.000,5, -999.000,9,-999.0000,9,  -999.00,9,   -999.0,9,   -999.0,9,  -999.00,9,-999.0000,-999.000,  3.4820,-999.000
      325023_1,  P14N,    21,  1,     24,     24,2,19930711,0953, 50.9340, 179.5712, 4029,    509.7,   3.4521,  34.1193,2,  34.1069,4,   -999.0,9,     22.9,2,   121.25,2,    44.24,2,     0.00,2,     3.18,2,    0.523,2,    0.243,2, -999.000,9,-999.0000,9,  -999.00,9,   -999.0,9,   -999.0,9,  -999.00,9,-999.0000,-999.000,  3.4180,-999.000
      325023_1,  P14N,    21,  1,     23,     23,2,19930711,0953, 50.9340, 179.5712, 4029,    612.3,   3.3294,  34.1918,2,  34.1702,4,   -999.0,9,     18.4,2,   128.84,2,    44.33,2,     0.00,2,     3.18,2, -999.000,5, -999.000,5, -999.000,9,-999.0000,9,  -999.00,9,   -999.0,9,   -999.0,9,  -999.00,9,-999.0000,-999.000,  3.2884,-999.000
      325023_1,  P14N,    21,  1,     22,     22,2,19930711,0953, 50.9340, 179.5712, 4029,    713.5,   3.1923,  34.2545,2,  34.2434,4,   -999.0,9,     17.7,2,   135.98,2,    44.23,2,     0.00,2,     3.17,2,    0.187,2,    0.089,2, -999.000,9,-999.0000,9,  -999.00,9,   -999.0,9,   -999.0,9,  -999.00,9,-999.0000,-999.000,  3.1447,-999.000
      325023_1,  P14N,    21,  1,     21,     21,2,19930711,0953, 50.9340, 179.5712, 4029,    814.6,   3.0311,  34.3113,2,  34.2950,4,   -999.0,9,     18.0,2,   135.93,3,    44.23,2,     0.00,2,     3.17,2,    0.116,2,    0.043,2, -999.000,9,-999.0000,9,  -999.00,9,   -999.0,9,   -999.0,9,  -999.00,9,-999.0000,-999.000,  2.9771,-999.000
      325023_1,  P14N,    21,  1,     20,     20,2,19930711,0953, 50.9340, 179.5712, 4029,    915.1,   2.8470,  34.3558,2,  34.3436,4,   -999.0,9,     21.8,2,   148.96,2,    44.04,2,     0.00,2,     3.16,2, -999.000,5, -999.000,5, -999.000,9,-999.0000,9,  -999.00,9,   -999.0,9,   -999.0,9,  -999.00,9,-999.0000,-999.000,  2.7868,-999.000
      325023_1,  P14N,    21,  1,     19,     19,2,19930711,0953, 50.9340, 179.5712, 4029,   1014.3,   2.7290,  34.3935,2,  34.3857,4,   -999.0,9,     21.3,2,   153.84,2,    44.14,2,     0.00,2,     3.16,2,    0.045,2,    0.009,4, -999.000,9,-999.0000,9,  -999.00,9,   -999.0,9,   -999.0,9,  -999.00,9,-999.0000,-999.000,  2.6624,-999.000
      325023_1,  P14N,    21,  1,     18,     18,2,19930711,0953, 50.9340, 179.5712, 4029,   1116.5,   2.6348,  34.4194,2,  34.4114,4,   -999.0,9,     22.3,2,   153.79,3,    44.13,2,     0.00,2,     3.16,2,    0.029,2,    0.017,2, -999.000,9,-999.0000,9,  -999.00,9,   -999.0,9,   -999.0,9,  -999.00,9,-999.0000,-999.000,  2.5613,-999.000
      325023_1,  P14N,    21,  1,     17,     17,2,19930711,0953, 50.9340, 179.5712, 4029,   1218.1,   2.5164,  34.4476,2,  34.4323,4,   -999.0,9,     25.2,2,   161.05,2,    44.04,2,     0.00,2,     3.14,2, -999.000,5, -999.000,5, -999.000,9,-999.0000,9,  -999.00,9,   -999.0,9,   -999.0,9,  -999.00,9,-999.0000,-999.000,  2.4363,-999.000
      325023_1,  P14N,    21,  1,     16,     16,2,19930711,0953, 50.9340, 179.5712, 4029,   1319.4,   2.4009,  34.4742,2,  34.4659,4,   -999.0,9,     28.8,2,   164.31,2,    43.76,2,     0.00,2,     3.13,2,    0.016,2,   -0.005,2, -999.000,9,-999.0000,9,  -999.00,9,   -999.0,9,   -999.0,9,  -999.00,9,-999.0000,-999.000,  2.3143,-999.000
      325023_1,  P14N,    21,  1,     15,     15,2,19930711,0953, 50.9340, 179.5712, 4029,   1421.4,   2.2953,  34.4997,2,  34.4915,4,   -999.0,9,     32.2,2,   166.63,2,    43.76,2,     0.00,2,     3.11,2, -999.000,5, -999.000,5, -999.000,9,-999.0000,9,  -999.00,9,   -999.0,9,   -999.0,9,  -999.00,9,-999.0000,-999.000,  2.2019,-999.000
      325023_1,  P14N,    21,  1,     14,     14,2,19930711,0953, 50.9340, 179.5712, 4029,   1522.8,   2.2123,  34.5193,2,  34.5121,4,   -999.0,9,     36.8,2,   168.00,2,    43.53,2,     0.00,2,     3.10,2,    0.002,2,   -0.003,2, -999.000,9,-999.0000,9,  -999.00,9,   -999.0,9,   -999.0,9,  -999.00,9,-999.0000,-999.000,  2.1119,-999.000
      325023_1,  P14N,    21,  1,     13,     13,2,19930711,0953, 50.9340, 179.5712, 4029,   1622.9,   2.1137,  34.5403,2,  34.5354,4,   -999.0,9,     44.7,2,   169.85,2,    43.11,2,     0.00,2,     3.06,2, -999.000,5, -999.000,5, -999.000,9,-999.0000,9,  -999.00,9,   -999.0,9,   -999.0,9,  -999.00,9,-999.0000,-999.000,  2.0067,-999.000
      325023_1,  P14N,    21,  1,     12,     12,2,19930711,0953, 50.9340, 179.5712, 4029,   1819.8,   1.9999,  34.5654,2,  34.5604,4,   -999.0,9,     54.9,2,   171.23,2,    42.41,2,     0.00,2,     3.02,2,    0.004,2,    0.005,2, -999.000,9,-999.0000,9,  -999.00,9,   -999.0,9,   -999.0,9,  -999.00,9,-999.0000,-999.000,  1.8786,-999.000
      325023_1,  P14N,    21,  1,     11,     11,2,19930711,0953, 50.9340, 179.5712, 4029,   2020.4,   1.9164,  34.5836,2,  34.5787,4,   -999.0,9,     63.8,2,   172.36,2,    41.85,2,     0.00,2,     2.97,2,    0.006,2,    0.001,2, -999.000,9,-999.0000,9,  -999.00,9,   -999.0,9,   -999.0,9,  -999.00,9,-999.0000,-999.000,  1.7797,-999.000
      325023_1,  P14N,    21,  1,     10,     10,2,19930711,0953, 50.9340, 179.5712, 4029,   2225.6,   1.8031,  34.6072,2,  34.6015,4,   -999.0,9,     76.1,2,   173.02,2,    41.20,2,     0.00,2,     2.92,2,    0.000,2,    0.001,2, -999.000,9,-999.0000,9,  -999.00,9,   -999.0,9,   -999.0,9,  -999.00,9,-999.0000,-999.000,  1.6507,-999.000
      325023_1,  P14N,    21,  1,      9,      9,2,19930711,0953, 50.9340, 179.5712, 4029,   2431.6,   1.7030,  34.6258,2,  34.6205,4,   -999.0,9,     89.7,2,   172.49,2,    40.37,2,     0.00,2,     2.86,2, -999.000,5, -999.000,5, -999.000,9,-999.0000,9,  -999.00,9,   -999.0,9,   -999.0,9,  -999.00,9,-999.0000,-999.000,  1.5345,-999.000
      325023_1,  P14N,    21,  1,      8,      8,2,19930711,0953, 50.9340, 179.5712, 4029,   2638.2,   1.6476,  34.6360,2,  34.6315,4,   -999.0,9,    100.0,2,   170.52,2,    39.62,2,     0.00,2,     2.81,2,   -0.001,2,   -0.002,4, -999.000,9,-999.0000,9,  -999.00,9,   -999.0,9,   -999.0,9,  -999.00,9,-999.0000,-999.000,  1.4615,-999.000
      325023_1,  P14N,    21,  1,      7,      7,2,19930711,0953, 50.9340, 179.5712, 4029,   2845.3,   1.6054,  34.6459,2,  34.6430,2,   -999.0,9,    107.2,2,   169.99,2,    39.26,2,     0.00,2,     2.77,2,    0.005,2,    0.007,2, -999.000,9,-999.0000,9,  -999.00,9,   -999.0,9,   -999.0,9,  -999.00,9,-999.0000,-999.000,  1.4011,-999.000
      325023_1,  P14N,    21,  1,      6,      6,2,19930711,0953, 50.9340, 179.5712, 4029,   3052.5,   1.5722,  34.6539,2,  34.6521,2,   -999.0,9,    114.7,2,   169.46,2,    38.66,2,     0.00,2,     2.73,2,    0.002,2,   -0.001,2, -999.000,9,-999.0000,9,  -999.00,9,   -999.0,9,   -999.0,9,  -999.00,9,-999.0000,-999.000,  1.3489,-999.000
      325023_1,  P14N,    21,  1,      5,      5,2,19930711,0953, 50.9340, 179.5712, 4029,   3258.9,   1.5258,  34.6626,2,  34.6610,2,   -999.0,9,    124.1,2,   167.26,2,    38.10,2,     0.00,2,     2.70,2, -999.000,5, -999.000,5, -999.000,9,-999.0000,9,  -999.00,9,   -999.0,9,   -999.0,9,  -999.00,9,-999.0000,-999.000,  1.2833,-999.000
      325023_1,  P14N,    21,  1,      4,      4,2,19930711,0953, 50.9340, 179.5712, 4029,   3463.1,   1.5090,  34.6681,2,  34.6654,2,   -999.0,9,    129.6,2,   165.78,2,    37.73,2,     0.00,2,     2.66,2,    0.000,2,   -0.004,2, -999.000,9,-999.0000,9,  -999.00,9,   -999.0,9,   -999.0,9,  -999.00,9,-999.0000,-999.000,  1.2465,-999.000
      325023_1,  P14N,    21,  1,      3,      3,2,19930711,0953, 50.9340, 179.5712, 4029,   3663.7,   1.4950,  34.6727,2,  34.6708,2,   -999.0,9,    134.8,2,   165.01,2,    37.50,2,     0.00,2,     2.64,2,    0.001,6,    0.000,6, -999.000,9,-999.0000,9,  -999.00,9,   -999.0,9,   -999.0,9,  -999.00,9,-999.0000,-999.000,  1.2121,-999.000
      325023_1,  P14N,    21,  1,      2,      2,2,19930711,0953, 50.9340, 179.5712, 4029,   4027.0,   1.4700,  34.6802,2,  34.6778,2,   -999.0,9,    144.4,2,   163.06,2,    36.72,2,     0.00,2,     2.60,2,    0.010,2,   -0.002,2, -999.000,9,-999.0000,9,  -999.00,9,   -999.0,9,   -999.0,9,  -999.00,9,-999.0000,-999.000,  1.1490,-999.000
      325023_1,  P14N,    21,  1,      1,      1,2,19930711,0953, 50.9340, 179.5712, 4029,   4071.1,   1.4512,  34.6835,2,  34.6828,2,   -999.0,9,    148.6,2,   162.06,2,    36.53,2,     0.00,2,     2.57,2,    0.002,2,    0.003,2, -999.000,9,-999.0000,9,  -999.00,9,   -999.0,9,   -999.0,9,  -999.00,9,-999.0000,-999.000,  1.1260,-999.000