BOTTLE,20131125MIRCJHATS
EXPOCODE,SECT_ID,STNNBR,CASTNO,SAMPNO,BTLNBR,BTLNBR_FLAG_W,DATE,TIME,LATITUDE,LONGITUDE,DEPTH,CTDPRS,CTDTMP,CTDSAL,CTDSAL_FLAG_W,SALNTY,SALNTY_FLAG_W,CTDOXY,CTDOXY_FLAG_W,OXYGEN,OXYGEN_FLAG_W,SILCAT,SILCAT_FLAG_W,NITRAT,NITRAT_FLAG_W,NITRIT,NITRIT_FLAG_W,PHSPHT,PHSPHT_FLAG_W,CFC-11,CFC-11_FLAG_W,CFC-12,CFC-12_FLAG_W,TRITUM,TRITUM_FLAG_W,HELIUM,HELIUM_FLAG_W,DELHE3,DELHE3_FLAG_W,TCARBN,TCARBN_FLAG_W,ALKALI,ALKALI_FLAG_W,PH,PH_FLAG_W,HELIER,DELHER,THETA,TRITER
,,,,,,,,,,,,DBAR,ITS-90,PSS-78,,PSS-78,,UMOL/KG,,UMOL/KG,,UMOL/KG,,UMOL/KG,,UMOL/KG,,UMOL/KG,,PMOL/KG,,PMOL/KG,,TU,,NMOL/KG,,PERCNT,,UMOL/KG,,UMOL/KG,,25_DEG,,NMOL/KG,PERCNT,DEG C,TU
      325023_1,  P14N,    42,  2,     36,     36,2,19930718,0002, 41.4898, 178.9943, 4863,      6.5,  13.9895,  34.2084,2,  34.2101,2,   -999.0,9,    259.4,2,    10.66,2,     2.53,2,     0.08,2,     0.39,3, -999.000,5, -999.000,5, -999.000,9,-999.0000,9,  -999.00,9,   -999.0,9,   -999.0,9,  -999.00,9,-999.0000,-999.000, 13.9886,-999.000
      325023_1,  P14N,    42,  2,     35,     35,2,19930718,0002, 41.4898, 178.9943, 4863,     35.7,  13.9056,  34.2100,2,  34.2091,2,   -999.0,9,    259.2,2,    10.25,2,     2.61,2,     0.08,2,     0.40,3, -999.000,5, -999.000,5, -999.000,9,-999.0000,9,  -999.00,9,   -999.0,9,   -999.0,9,  -999.00,9,-999.0000,-999.000, 13.9005,-999.000
      325023_1,  P14N,    42,  2,     34,     34,2,19930718,0002, 41.4898, 178.9943, 4863,     66.4,  12.3397,  34.3165,2,  34.3076,2,   -999.0,9,    260.9,2,    12.52,2,     5.20,2,     0.38,2,     0.58,3, -999.000,5, -999.000,5, -999.000,9,-999.0000,9,  -999.00,9,   -999.0,9,   -999.0,9,  -999.00,9,-999.0000,-999.000, 12.3310,-999.000
      325023_1,  P14N,    42,  2,     33,     33,2,19930718,0002, 41.4898, 178.9943, 4863,     96.6,  11.7012,  34.3390,2,  34.3391,2,   -999.0,9,    254.0,2,    13.36,2,     8.29,2,     0.03,2,     0.72,3, -999.000,5, -999.000,5, -999.000,9,-999.0000,9,  -999.00,9,   -999.0,9,   -999.0,9,  -999.00,9,-999.0000,-999.000, 11.6890,-999.000
      325023_1,  P14N,    42,  2,     32,     32,2,19930718,0002, 41.4898, 178.9943, 4863,    126.9,  11.5067,  34.3325,2,  34.3313,2,   -999.0,9,    255.1,2,    13.49,2,     8.56,2,     0.03,2,     0.74,3, -999.000,5, -999.000,5, -999.000,9,-999.0000,9,  -999.00,9,   -999.0,9,   -999.0,9,  -999.00,9,-999.0000,-999.000, 11.4907,-999.000
      325023_1,  P14N,    42,  2,     31,     31,2,19930718,0002, 41.4898, 178.9943, 4863,    156.7,  11.3573,  34.3268,2,  34.3258,2,   -999.0,9,    254.4,2,    13.97,2,     8.90,2,     0.02,2,     0.77,3, -999.000,5, -999.000,5, -999.000,9,-999.0000,9,  -999.00,9,   -999.0,9,   -999.0,9,  -999.00,9,-999.0000,-999.000, 11.3378,-999.000
      325023_1,  P14N,    42,  2,     30,     30,2,19930718,0002, 41.4898, 178.9943, 4863,    207.4,  11.0223,  34.3035,2,  34.3042,2,   -999.0,9,    251.5,2,    14.82,2,     9.81,2,     0.02,2,     0.82,3, -999.000,5, -999.000,5, -999.000,9,-999.0000,9,  -999.00,9,   -999.0,9,   -999.0,9,  -999.00,9,-999.0000,-999.000, 10.9969,-999.000
      325023_1,  P14N,    42,  2,     29,     29,2,19930718,0002, 41.4898, 178.9943, 4863,    257.8,  10.4679,  34.2493,2,  34.2445,2,   -999.0,9,    245.1,2,    17.98,2,    11.74,2,     0.02,2,     0.95,3, -999.000,5, -999.000,5, -999.000,9,-999.0000,9,  -999.00,9,   -999.0,9,   -999.0,9,  -999.00,9,-999.0000,-999.000, 10.4373,-999.000
      325023_1,  P14N,    42,  2,     28,     28,2,19930718,0002, 41.4898, 178.9943, 4863,    307.7,   9.8460,  34.1875,2,  34.1865,2,   -999.0,9,    239.9,2,    20.97,2,    13.38,2,     0.02,2,     1.07,3, -999.000,5, -999.000,5, -999.000,9,-999.0000,9,  -999.00,9,   -999.0,9,   -999.0,9,  -999.00,9,-999.0000,-999.000,  9.8108,-999.000
      325023_1,  P14N,    42,  2,     27,     27,2,19930718,0002, 41.4898, 178.9943, 4863,    404.1,   8.1412,  34.0572,2,  34.0557,2,   -999.0,9,    202.2,2,    33.98,2,    19.93,2,     0.02,2,     1.54,3, -999.000,5, -999.000,5, -999.000,9,-999.0000,9,  -999.00,9,   -999.0,9,   -999.0,9,  -999.00,9,-999.0000,-999.000,  8.0999,-999.000
      325023_1,  P14N,    42,  2,     26,     26,2,19930718,0002, 41.4898, 178.9943, 4863,    509.0,   6.2629,  33.9936,2,  33.9927,2,   -999.0,9,    155.3,2,    54.73,2,    27.59,2,     0.01,2,     2.09,3, -999.000,5, -999.000,5, -999.000,9,-999.0000,9,  -999.00,9,   -999.0,9,   -999.0,9,  -999.00,9,-999.0000,-999.000,  6.2177,-999.000
      325023_1,  P14N,    42,  2,     25,     25,2,19930718,0002, 41.4898, 178.9943, 4863,    610.4,   5.1064,  33.9970,2,  33.9954,2,   -999.0,9,    119.4,2,    72.88,2,    32.73,2,     0.01,2,     2.47,3, -999.000,5, -999.000,5, -999.000,9,-999.0000,9,  -999.00,9,   -999.0,9,   -999.0,9,  -999.00,9,-999.0000,-999.000,  5.0573,-999.000
      325023_1,  P14N,    42,  2,     24,     24,2,19930718,0002, 41.4898, 178.9943, 4863,    707.3,   4.4923,  34.0789,2,-999.0000,9,   -999.0,9,   -999.0,9,  -999.00,9,  -999.00,9,  -999.00,9,  -999.00,9, -999.000,5, -999.000,5, -999.000,9,-999.0000,9,  -999.00,9,   -999.0,9,   -999.0,9,  -999.00,9,-999.0000,-999.000,  4.4381,-999.000
      325023_1,  P14N,    42,  2,     23,     23,2,19930718,0002, 41.4898, 178.9943, 4863,    810.8,   4.1531,  34.1726,2,  34.1709,2,   -999.0,9,     59.7,2,   103.47,2,    38.92,2,     0.01,2,     2.88,3, -999.000,5, -999.000,5, -999.000,9,-999.0000,9,  -999.00,9,   -999.0,9,   -999.0,9,  -999.00,9,-999.0000,-999.000,  4.0924,-999.000
      325023_1,  P14N,    42,  2,     22,     22,2,19930718,0002, 41.4898, 178.9943, 4863,    913.3,   3.7568,  34.2406,2,  34.2377,2,   -999.0,9,     46.6,2,   115.85,2,    40.43,2,     0.01,2,     2.98,3, -999.000,5, -999.000,5, -999.000,9,-999.0000,9,  -999.00,9,   -999.0,9,   -999.0,9,  -999.00,9,-999.0000,-999.000,  3.6905,-999.000
      325023_1,  P14N,    42,  2,     21,     21,2,19930718,0002, 41.4898, 178.9943, 4863,   1014.3,   3.4841,  34.2995,2,  34.2955,2,   -999.0,9,     39.0,2,   124.81,2,    41.23,2,     0.01,2,     3.04,3, -999.000,5, -999.000,5, -999.000,9,-999.0000,9,  -999.00,9,   -999.0,9,   -999.0,9,  -999.00,9,-999.0000,-999.000,  3.4117,-999.000
      325023_1,  P14N,    42,  2,     20,     20,2,19930718,0002, 41.4898, 178.9943, 4863,   1217.7,   2.9990,  34.3821,2,  34.3799,2,   -999.0,9,     28.4,2,   140.18,2,    42.53,2,     0.01,2,     3.12,3, -999.000,5, -999.000,5, -999.000,9,-999.0000,9,  -999.00,9,   -999.0,9,   -999.0,9,  -999.00,9,-999.0000,-999.000,  2.9145,-999.000
      325023_1,  P14N,    42,  2,     19,     19,2,19930718,0002, 41.4898, 178.9943, 4863,   1421.0,   2.6213,  34.4464,2,  34.4439,2,   -999.0,9,     31.8,2,   152.16,2,    42.58,2,     0.01,2,     3.12,3, -999.000,5, -999.000,5, -999.000,9,-999.0000,9,  -999.00,9,   -999.0,9,   -999.0,9,  -999.00,9,-999.0000,-999.000,  2.5245,-999.000
      325023_1,  P14N,    42,  2,     18,     18,2,19930718,0002, 41.4898, 178.9943, 4863,   1624.7,   2.4086,  34.4944,2,  34.4955,2,   -999.0,9,     32.7,2,   159.00,2,    42.67,2,     0.01,2,     3.11,3, -999.000,5, -999.000,5, -999.000,9,-999.0000,9,  -999.00,9,   -999.0,9,   -999.0,9,  -999.00,9,-999.0000,-999.000,  2.2979,-999.000
      325023_1,  P14N,    42,  2,     17,     17,2,19930718,0002, 41.4898, 178.9943, 4863,   1828.2,   2.2145,  34.5341,2,  34.5323,2,   -999.0,9,     43.6,2,   163.73,2,    42.18,2,     0.01,2,     3.07,3, -999.000,5, -999.000,5, -999.000,9,-999.0000,9,  -999.00,9,   -999.0,9,   -999.0,9,  -999.00,9,-999.0000,-999.000,  2.0895,-999.000
      325023_1,  P14N,    42,  2,     16,     16,2,19930718,0002, 41.4898, 178.9943, 4863,   2032.3,   2.0386,  34.5670,2,  34.5656,2,   -999.0,9,     56.1,2,   167.09,2,    41.34,2,     0.01,2,     3.00,3, -999.000,5, -999.000,5, -999.000,9,-999.0000,9,  -999.00,9,   -999.0,9,   -999.0,9,  -999.00,9,-999.0000,-999.000,  1.8991,-999.000
      325023_1,  P14N,    42,  2,     15,     15,2,19930718,0002, 41.4898, 178.9943, 4863,   2236.3,   1.9165,  34.5931,2,  34.5917,2,   -999.0,9,     66.3,2,   168.86,2,    40.81,2,     0.00,2,     2.96,3, -999.000,5, -999.000,5, -999.000,9,-999.0000,9,  -999.00,9,   -999.0,9,   -999.0,9,  -999.00,9,-999.0000,-999.000,  1.7614,-999.000
      325023_1,  P14N,    42,  2,     14,     14,2,19930718,0002, 41.4898, 178.9943, 4863,   2440.6,   1.8019,  34.6140,2,  34.6125,2,   -999.0,9,     81.4,2,   168.61,2,    39.88,2,     0.00,2,     2.89,3, -999.000,5, -999.000,5, -999.000,9,-999.0000,9,  -999.00,9,   -999.0,9,   -999.0,9,  -999.00,9,-999.0000,-999.000,  1.6308,-999.000
      325023_1,  P14N,    42,  2,     13,     13,2,19930718,0002, 41.4898, 178.9943, 4863,   2644.9,   1.7128,  34.6310,2,  34.6301,2,   -999.0,9,     93.6,2,   167.56,2,    38.99,2,     0.00,2,     2.83,3, -999.000,5, -999.000,5, -999.000,9,-999.0000,9,  -999.00,9,   -999.0,9,   -999.0,9,  -999.00,9,-999.0000,-999.000,  1.5249,-999.000
      325023_1,  P14N,    42,  2,     12,     12,2,19930718,0002, 41.4898, 178.9943, 4863,   2849.7,   1.6499,  34.6422,2,  34.6440,2,   -999.0,9,    104.3,2,   166.11,2,    38.29,2,     0.00,2,     2.78,3, -999.000,5, -999.000,5, -999.000,9,-999.0000,9,  -999.00,9,   -999.0,9,   -999.0,9,  -999.00,9,-999.0000,-999.000,  1.4442,-999.000
      325023_1,  P14N,    42,  2,     11,     11,2,19930718,0002, 41.4898, 178.9943, 4863,   3052.9,   1.5926,  34.6524,2,  34.6528,2,   -999.0,9,    114.7,2,   164.06,2,    37.81,2,     0.00,2,     2.74,3, -999.000,5, -999.000,5, -999.000,9,-999.0000,9,  -999.00,9,   -999.0,9,   -999.0,9,  -999.00,9,-999.0000,-999.000,  1.3688,-999.000
      325023_1,  P14N,    42,  2,     10,     10,2,19930718,0002, 41.4898, 178.9943, 4863,   3256.6,   1.5433,  34.6611,2,  34.6609,2,   -999.0,9,    124.0,2,   162.02,2,    37.28,2,     0.00,2,     2.69,3, -999.000,5, -999.000,5, -999.000,9,-999.0000,9,  -999.00,9,   -999.0,9,   -999.0,9,  -999.00,9,-999.0000,-999.000,  1.3007,-999.000
      325023_1,  P14N,    42,  2,      9,      9,2,19930718,0002, 41.4898, 178.9943, 4863,   3460.6,   1.5150,  34.6675,2,  34.6667,2,   -999.0,9,    130.9,2,   160.18,2,    36.84,2,     0.00,2,     2.65,3, -999.000,5, -999.000,5, -999.000,9,-999.0000,9,  -999.00,9,   -999.0,9,   -999.0,9,  -999.00,9,-999.0000,-999.000,  1.2526,-999.000
      325023_1,  P14N,    42,  2,      8,      8,2,19930718,0002, 41.4898, 178.9943, 4863,   3667.2,   1.4886,  34.6732,2,  34.6724,2,   -999.0,9,    137.7,2,   158.36,2,    36.41,2,     0.00,2,     2.62,3, -999.000,5, -999.000,5, -999.000,9,-999.0000,9,  -999.00,9,   -999.0,9,   -999.0,9,  -999.00,9,-999.0000,-999.000,  1.2056,-999.000
      325023_1,  P14N,    42,  2,      7,      7,2,19930718,0002, 41.4898, 178.9943, 4863,   3872.3,   1.4718,  34.6771,2,  34.6775,2,   -999.0,9,    143.4,2,   156.93,2,    36.02,2,     0.00,2,     2.59,3, -999.000,5, -999.000,5, -999.000,9,-999.0000,9,  -999.00,9,   -999.0,9,   -999.0,9,  -999.00,9,-999.0000,-999.000,  1.1675,-999.000
      325023_1,  P14N,    42,  2,      6,      6,2,19930718,0002, 41.4898, 178.9943, 4863,   4077.4,   1.4702,  34.6801,2,  34.6832,2,   -999.0,9,    147.0,2,   155.90,2,    35.75,2,     0.00,2,     2.57,3, -999.000,5, -999.000,5, -999.000,9,-999.0000,9,  -999.00,9,   -999.0,9,   -999.0,9,  -999.00,9,-999.0000,-999.000,  1.1437,-999.000
      325023_1,  P14N,    42,  2,      5,      5,2,19930718,0002, 41.4898, 178.9943, 4863,   4283.0,   1.4746,  34.6821,2,  34.6845,2,   -999.0,9,    149.3,2,   157.63,2,    35.63,2,     0.00,2,     2.56,3, -999.000,5, -999.000,5, -999.000,9,-999.0000,9,  -999.00,9,   -999.0,9,   -999.0,9,  -999.00,9,-999.0000,-999.000,  1.1252,-999.000
      325023_1,  P14N,    42,  2,      4,      4,2,19930718,0002, 41.4898, 178.9943, 4863,   4487.9,   1.4839,  34.6837,2,  34.6849,2,   -999.0,9,    151.0,2,   157.59,2,    35.58,2,     0.00,2,     2.56,3, -999.000,5, -999.000,5, -999.000,9,-999.0000,9,  -999.00,9,   -999.0,9,   -999.0,9,  -999.00,9,-999.0000,-999.000,  1.1109,-999.000
      325023_1,  P14N,    42,  2,      3,      3,2,19930718,0002, 41.4898, 178.9943, 4863,   4692.3,   1.5020,  34.6848,2,  34.6861,2,   -999.0,9,    151.7,2,   158.34,2,    35.50,2,     0.00,2,     2.55,3, -999.000,5, -999.000,5, -999.000,9,-999.0000,9,  -999.00,9,   -999.0,9,   -999.0,9,  -999.00,9,-999.0000,-999.000,  1.1046,-999.000
      325023_1,  P14N,    42,  2,      2,      2,2,19930718,0002, 41.4898, 178.9943, 4863,   4896.5,   1.5247,  34.6855,2,  34.6859,2,   -999.0,9,    151.9,2,   158.69,2,    35.55,2,     0.00,2,     2.54,3, -999.000,5, -999.000,5, -999.000,9,-999.0000,9,  -999.00,9,   -999.0,9,   -999.0,9,  -999.00,9,-999.0000,-999.000,  1.1022,-999.000
      325023_1,  P14N,    42,  2,      1,      1,2,19930718,0002, 41.4898, 178.9943, 4863,   4942.8,   1.5308,  34.6851,2,  34.6862,2,   -999.0,9,    152.7,2,   158.85,2,    35.55,2,     0.00,2,     2.54,3, -999.000,5, -999.000,5, -999.000,9,-999.0000,9,  -999.00,9,   -999.0,9,   -999.0,9,  -999.00,9,-999.0000,-999.000,  1.1025,-999.000