BOTTLE,20131125MIRCJHATS
EXPOCODE,SECT_ID,STNNBR,CASTNO,SAMPNO,BTLNBR,BTLNBR_FLAG_W,DATE,TIME,LATITUDE,LONGITUDE,DEPTH,CTDPRS,CTDTMP,CTDSAL,CTDSAL_FLAG_W,SALNTY,SALNTY_FLAG_W,CTDOXY,CTDOXY_FLAG_W,OXYGEN,OXYGEN_FLAG_W,SILCAT,SILCAT_FLAG_W,NITRAT,NITRAT_FLAG_W,NITRIT,NITRIT_FLAG_W,PHSPHT,PHSPHT_FLAG_W,CFC-11,CFC-11_FLAG_W,CFC-12,CFC-12_FLAG_W,TRITUM,TRITUM_FLAG_W,HELIUM,HELIUM_FLAG_W,DELHE3,DELHE3_FLAG_W,TCARBN,TCARBN_FLAG_W,ALKALI,ALKALI_FLAG_W,PH,PH_FLAG_W,HELIER,DELHER,THETA,TRITER
,,,,,,,,,,,,DBAR,ITS-90,PSS-78,,PSS-78,,UMOL/KG,,UMOL/KG,,UMOL/KG,,UMOL/KG,,UMOL/KG,,UMOL/KG,,PMOL/KG,,PMOL/KG,,TU,,NMOL/KG,,PERCNT,,UMOL/KG,,UMOL/KG,,25_DEG,,NMOL/KG,PERCNT,DEG C,TU
      325023_1,  P14N,   104,  1,     36,     36,2,19930803,1241, 10.5060, 179.0037, 5471,      2.5,  28.0792,  34.4951,2,  34.4989,2,   -999.0,9,    198.3,2,     7.72,4,     0.00,2,     0.00,2,     0.16,2, -999.000,5, -999.000,5, -999.000,9,-999.0000,9,  -999.00,9,   -999.0,9,   -999.0,9,  -999.00,9,-999.0000,-999.000, 28.0786,-999.000
      325023_1,  P14N,   104,  1,     35,     35,2,19930803,1241, 10.5060, 179.0037, 5471,     37.8,  28.0862,  34.4961,2,  34.4993,2,   -999.0,9,    198.7,2,     7.40,4,     0.00,2,     0.00,2,     0.16,2, -999.000,5, -999.000,5, -999.000,9,-999.0000,9,  -999.00,9,   -999.0,9,   -999.0,9,  -999.00,9,-999.0000,-999.000, 28.0773,-999.000
      325023_1,  P14N,   104,  1,     34,     34,2,19930803,1241, 10.5060, 179.0037, 5471,     67.7,  27.8925,  34.5573,2,  34.5544,2,   -999.0,9,    200.1,2,     7.30,4,     0.00,2,     0.00,2,     0.17,2, -999.000,5, -999.000,5, -999.000,9,-999.0000,9,  -999.00,9,   -999.0,9,   -999.0,9,  -999.00,9,-999.0000,-999.000, 27.8766,-999.000
      325023_1,  P14N,   104,  1,     33,     33,2,19930803,1241, 10.5060, 179.0037, 5471,     98.2,  24.3280,  34.6397,2,  34.6404,2,   -999.0,9,    197.2,2,    10.18,4,     0.00,2,     0.00,2,     0.27,2, -999.000,5, -999.000,5, -999.000,9,-999.0000,9,  -999.00,9,   -999.0,9,   -999.0,9,  -999.00,9,-999.0000,-999.000, 24.3071,-999.000
      325023_1,  P14N,   104,  1,     32,     32,2,19930803,1241, 10.5060, 179.0037, 5471,    129.1,  19.4630,  34.8850,2,  34.8983,2,   -999.0,9,    178.2,2,    11.36,4,     2.40,2,     0.36,2,     0.42,2, -999.000,5, -999.000,5, -999.000,9,-999.0000,9,  -999.00,9,   -999.0,9,   -999.0,9,  -999.00,9,-999.0000,-999.000, 19.4397,-999.000
      325023_1,  P14N,   104,  1,     31,     31,2,19930803,1241, 10.5060, 179.0037, 5471,    159.2,  15.6107,  34.6126,2,  34.6227,2,   -999.0,9,    155.7,2,    16.36,4,    10.19,2,     0.04,2,     0.84,2,    2.057,2,    1.014,2, -999.000,9,-999.0000,9,  -999.00,9,   -999.0,9,   -999.0,9,  -999.00,9,-999.0000,-999.000, 15.5860,-999.000
      325023_1,  P14N,   104,  1,     30,     30,2,19930803,1241, 10.5060, 179.0037, 5471,    209.5,  12.0166,  34.5794,2,  34.5739,2,   -999.0,9,     48.4,2,    34.57,4,    27.80,2,     0.00,2,     2.05,2,    0.628,2,    0.298,2, -999.000,9,-999.0000,9,  -999.00,9,   -999.0,9,   -999.0,9,  -999.00,9,-999.0000,-999.000, 11.9894,-999.000
      325023_1,  P14N,   104,  1,     29,     29,2,19930803,1241, 10.5060, 179.0037, 5471,    259.8,  10.7825,  34.6679,2,  34.6673,2,   -999.0,9,     19.8,2,    41.27,4,    33.02,2,     0.00,2,     2.37,2,    0.153,2,    0.069,2, -999.000,9,-999.0000,9,  -999.00,9,   -999.0,9,   -999.0,9,  -999.00,9,-999.0000,-999.000, 10.7509,-999.000
      325023_1,  P14N,   104,  1,     28,     28,2,19930803,1241, 10.5060, 179.0037, 5471,    309.8,  10.2585,  34.6805,2,  34.6802,2,   -999.0,9,     18.9,2,    43.51,4,    34.04,2,     0.00,2,     2.42,2,    0.082,2,    0.042,2, -999.000,9,-999.0000,9,  -999.00,9,   -999.0,9,   -999.0,9,  -999.00,9,-999.0000,-999.000, 10.2219,-999.000
      325023_1,  P14N,   104,  1,     27,     27,2,19930803,1241, 10.5060, 179.0037, 5471,    409.3,   9.3136,  34.6488,2,  34.6485,2,   -999.0,9,     17.9,2,    49.80,4,    35.71,2,     0.00,2,     2.54,2,    0.031,2,    0.016,2, -999.000,9,-999.0000,9,  -999.00,9,   -999.0,9,   -999.0,9,  -999.00,9,-999.0000,-999.000,  9.2679,-999.000
      325023_1,  P14N,   104,  1,     26,     26,2,19930803,1241, 10.5060, 179.0037, 5471,    509.2,   8.4662,  34.6061,2,  34.6047,2,   -999.0,9,     19.6,2,    56.73,4,    36.65,2,     0.00,2,     2.68,2,    0.011,2,    0.005,2, -999.000,9,-999.0000,9,  -999.00,9,   -999.0,9,   -999.0,9,  -999.00,9,-999.0000,-999.000,  8.4122,-999.000
      325023_1,  P14N,   104,  1,     25,     25,2,19930803,1241, 10.5060, 179.0037, 5471,    609.2,   7.3813,  34.5536,2,  34.5532,2,   -999.0,9,     32.5,2,    66.65,4,    37.61,2,     0.00,2,     2.73,2, -999.000,5, -999.000,5, -999.000,9,-999.0000,9,  -999.00,9,   -999.0,9,   -999.0,9,  -999.00,9,-999.0000,-999.000,  7.3212,-999.000
      325023_1,  P14N,   104,  1,     24,     24,2,19930803,1241, 10.5060, 179.0037, 5471,    708.8,   6.5130,  34.5375,2,  34.5375,2,   -999.0,9,     34.3,2,    76.59,4,    39.49,2,     0.00,2,     2.83,2, -999.000,5, -999.000,5, -999.000,9,-999.0000,9,  -999.00,9,   -999.0,9,   -999.0,9,  -999.00,9,-999.0000,-999.000,  6.4473,-999.000
      325023_1,  P14N,   104,  1,     23,     23,2,19930803,1241, 10.5060, 179.0037, 5471,    810.4,   5.6980,  34.5303,2,  34.5294,2,   -999.0,9,     32.8,2,    90.42,4,    41.21,2,     0.00,2,     2.94,2, -999.000,5, -999.000,5, -999.000,9,-999.0000,9,  -999.00,9,   -999.0,9,   -999.0,9,  -999.00,9,-999.0000,-999.000,  5.6272,-999.000
      325023_1,  P14N,   104,  1,     22,     22,2,19930803,1241, 10.5060, 179.0037, 5471,    911.1,   5.1093,  34.5376,2,  34.5367,2,   -999.0,9,     41.9,2,    99.56,4,    41.44,2,     0.00,2,     2.94,2, -999.000,5, -999.000,5, -999.000,9,-999.0000,9,  -999.00,9,   -999.0,9,   -999.0,9,  -999.00,9,-999.0000,-999.000,  5.0332,-999.000
      325023_1,  P14N,   104,  1,     21,     21,2,19930803,1241, 10.5060, 179.0037, 5471,   1012.1,   4.6144,  34.5467,2,  34.5465,2,   -999.0,9,     43.4,2,   110.25,4,    41.95,2,     0.00,2,     2.99,2, -999.000,5, -999.000,5, -999.000,9,-999.0000,9,  -999.00,9,   -999.0,9,   -999.0,9,  -999.00,9,-999.0000,-999.000,  4.5329,-999.000
      325023_1,  P14N,   104,  1,     20,     20,2,19930803,1241, 10.5060, 179.0037, 5471,   1213.1,   3.9013,  34.5678,2,  34.5665,2,   -999.0,9,     58.9,2,    96.53,4,    41.24,2,     0.00,2,     2.92,2, -999.000,5, -999.000,5, -999.000,9,-999.0000,9,  -999.00,9,   -999.0,9,   -999.0,9,  -999.00,9,-999.0000,-999.000,  3.8084,-999.000
      325023_1,  P14N,   104,  1,     19,     19,2,19930803,1241, 10.5060, 179.0037, 5471,   1415.7,   3.2570,  34.5878,2,  34.5877,2,   -999.0,9,     73.6,2,   110.45,4,    40.29,2,     0.00,2,     2.85,2, -999.000,5, -999.000,5, -999.000,9,-999.0000,9,  -999.00,9,   -999.0,9,   -999.0,9,  -999.00,9,-999.0000,-999.000,  3.1533,-999.000
      325023_1,  P14N,   104,  1,     18,     18,2,19930803,1241, 10.5060, 179.0037, 5471,   1617.3,   2.7409,  34.6074,2,  34.6070,2,   -999.0,9,     83.9,2,   122.07,4,    39.77,2,     0.00,2,     2.81,2, -999.000,5, -999.000,5, -999.000,9,-999.0000,9,  -999.00,9,   -999.0,9,   -999.0,9,  -999.00,9,-999.0000,-999.000,  2.6263,-999.000
      325023_1,  P14N,   104,  1,     17,     17,2,19930803,1241, 10.5060, 179.0037, 5471,   1819.8,   2.3945,  34.6244,2,  34.6238,2,   -999.0,9,     94.1,2,   130.48,4,    39.53,2,     0.00,2,     2.74,2, -999.000,5, -999.000,5, -999.000,9,-999.0000,9,  -999.00,9,   -999.0,9,   -999.0,9,  -999.00,9,-999.0000,-999.000,  2.2675,-999.000
      325023_1,  P14N,   104,  1,     16,     16,2,19930803,1241, 10.5060, 179.0037, 5471,   2021.3,   2.1401,  34.6389,2,  34.6388,2,   -999.0,9,    103.5,2,   138.05,4,    38.96,2,     0.00,2,     2.69,2, -999.000,5, -999.000,5, -999.000,9,-999.0000,9,  -999.00,9,   -999.0,9,   -999.0,9,  -999.00,9,-999.0000,-999.000,  1.9997,-999.000
      325023_1,  P14N,   104,  1,     15,     15,2,19930803,1241, 10.5060, 179.0037, 5471,   2223.5,   1.9850,  34.6490,2,  34.6490,2,   -999.0,9,    108.9,2,   140.57,4,    38.58,2,     0.00,2,     2.65,2, -999.000,5, -999.000,5, -999.000,9,-999.0000,9,  -999.00,9,   -999.0,9,   -999.0,9,  -999.00,9,-999.0000,-999.000,  1.8297,-999.000
      325023_1,  P14N,   104,  1,     14,     14,2,19930803,1241, 10.5060, 179.0037, 5471,   2426.9,   1.8720,  34.6565,2,  34.6568,2,   -999.0,9,    114.4,2,   143.77,4,    38.30,2,     0.00,2,     2.61,2, -999.000,5, -999.000,5, -999.000,9,-999.0000,9,  -999.00,9,   -999.0,9,   -999.0,9,  -999.00,9,-999.0000,-999.000,  1.7007,-999.000
      325023_1,  P14N,   104,  1,     13,     13,2,19930803,1241, 10.5060, 179.0037, 5471,   2630.5,   1.8006,  34.6620,2,  34.6623,2,   -999.0,9,    118.6,2,   145.20,4,    37.97,2,     0.00,2,     2.60,2, -999.000,5, -999.000,5, -999.000,9,-999.0000,9,  -999.00,9,   -999.0,9,   -999.0,9,  -999.00,9,-999.0000,-999.000,  1.6121,-999.000
      325023_1,  P14N,   104,  1,     12,     12,2,19930803,1241, 10.5060, 179.0037, 5471,   2833.7,   1.7290,  34.6664,2,  34.6673,2,   -999.0,9,    123.4,2,   173.81,4,    37.64,2,     0.00,2,     2.57,2, -999.000,5, -999.000,5, -999.000,9,-999.0000,9,  -999.00,9,   -999.0,9,   -999.0,9,  -999.00,9,-999.0000,-999.000,  1.5231,-999.000
      325023_1,  P14N,   104,  1,     11,     11,2,19930803,1241, 10.5060, 179.0037, 5471,   3037.3,   1.6658,  34.6710,2,  34.6704,2,   -999.0,9,    129.1,2,   168.91,4,    37.27,2,     0.00,2,     2.55,2, -999.000,5, -999.000,5, -999.000,9,-999.0000,9,  -999.00,9,   -999.0,9,   -999.0,9,  -999.00,9,-999.0000,-999.000,  1.4418,-999.000
      325023_1,  P14N,   104,  1,     10,     10,2,19930803,1241, 10.5060, 179.0037, 5471,   3344.4,   1.5615,  34.6776,2,  34.6771,2,   -999.0,9,    139.3,2,   158.64,4,    36.62,2,     0.00,2,     2.49,2, -999.000,5, -999.000,5, -999.000,9,-999.0000,9,  -999.00,9,   -999.0,9,   -999.0,9,  -999.00,9,-999.0000,-999.000,  1.3097,-999.000
      325023_1,  P14N,   104,  1,      9,      9,2,19930803,1241, 10.5060, 179.0037, 5471,   3651.3,   1.4941,  34.6823,2,  34.6816,2,   -999.0,9,    147.8,2,   157.18,4,    35.98,2,     0.00,2,     2.45,2, -999.000,5, -999.000,5, -999.000,9,-999.0000,9,  -999.00,9,   -999.0,9,   -999.0,9,  -999.00,9,-999.0000,-999.000,  1.2125,-999.000
      325023_1,  P14N,   104,  1,      8,      8,2,19930803,1241, 10.5060, 179.0037, 5471,   3956.6,   1.4145,  34.6881,2,  34.6875,2,   -999.0,9,    159.3,2,   153.03,4,    35.11,2,     0.00,2,     2.40,2, -999.000,5, -999.000,5, -999.000,9,-999.0000,9,  -999.00,9,   -999.0,9,   -999.0,9,  -999.00,9,-999.0000,-999.000,  1.1026,-999.000
      325023_1,  P14N,   104,  1,      7,      7,2,19930803,1241, 10.5060, 179.0037, 5471,   4262.6,   1.3466,  34.6934,2,  34.6936,2,   -999.0,9,    170.8,2,   148.02,4,    34.24,2,     0.00,2,     2.33,2, -999.000,5, -999.000,5, -999.000,9,-999.0000,9,  -999.00,9,   -999.0,9,   -999.0,9,  -999.00,9,-999.0000,-999.000,  1.0032,-999.000
      325023_1,  P14N,   104,  1,      6,      6,2,19930803,1241, 10.5060, 179.0037, 5471,   4570.4,   1.3081,  34.6981,2,  34.6989,2,   -999.0,9,    180.6,2,   142.80,4,    33.56,2,     0.00,2,     2.28,2, -999.000,5, -999.000,5, -999.000,9,-999.0000,9,  -999.00,9,   -999.0,9,   -999.0,9,  -999.00,9,-999.0000,-999.000,  0.9310,-999.000
      325023_1,  P14N,   104,  1,      5,      5,2,19930803,1241, 10.5060, 179.0037, 5471,   4878.8,   1.3110,  34.7002,2,  34.7005,2,   -999.0,9,    185.1,2,   141.14,4,    33.24,2,     0.00,2,     2.25,2, -999.000,5, -999.000,5, -999.000,9,-999.0000,9,  -999.00,9,   -999.0,9,   -999.0,9,  -999.00,9,-999.0000,-999.000,  0.8976,-999.000
      325023_1,  P14N,   104,  1,      4,      4,2,19930803,1241, 10.5060, 179.0037, 5471,   5188.4,   1.3265,  34.7015,2,  34.7021,2,   -999.0,9,    188.1,2,   140.13,4,    33.01,2,     0.00,2,     2.24,2, -999.000,5, -999.000,5, -999.000,9,-999.0000,9,  -999.00,9,   -999.0,9,   -999.0,9,  -999.00,9,-999.0000,-999.000,  0.8751,-999.000
      325023_1,  P14N,   104,  1,      3,      3,2,19930803,1241, 10.5060, 179.0037, 5471,   5497.3,   1.3426,  34.7025,2,  34.7033,2,   -999.0,9,    190.1,2,   140.01,4,    32.86,2,     0.00,2,     2.21,2, -999.000,5, -999.000,5, -999.000,9,-999.0000,9,  -999.00,9,   -999.0,9,   -999.0,9,  -999.00,9,-999.0000,-999.000,  0.8520,-999.000
      325023_1,  P14N,   104,  1,      1,      1,2,19930803,1241, 10.5060, 179.0037, 5471,   5604.3,   1.3530,  34.7028,2,  34.7033,2,   -999.0,9,    190.1,2,   141.98,4,    32.85,2,     0.00,2,     2.21,2, -999.000,5, -999.000,5, -999.000,9,-999.0000,9,  -999.00,9,   -999.0,9,   -999.0,9,  -999.00,9,-999.0000,-999.000,  0.8484,-999.000
      325023_1,  P14N,   104,  1,      2,      2,2,19930803,1241, 10.5060, 179.0037, 5471,   5604.5,   1.3531,  34.7026,2,  34.7033,2,   -999.0,9,    190.5,2,   140.78,4,    32.86,2,     0.00,2,     2.21,2, -999.000,5, -999.000,5, -999.000,9,-999.0000,9,  -999.00,9,   -999.0,9,   -999.0,9,  -999.00,9,-999.0000,-999.000,  0.8485,-999.000