BOTTLE,20131125MIRCJHATS
EXPOCODE,SECT_ID,STNNBR,CASTNO,SAMPNO,BTLNBR,BTLNBR_FLAG_W,DATE,TIME,LATITUDE,LONGITUDE,DEPTH,CTDPRS,CTDTMP,CTDSAL,CTDSAL_FLAG_W,SALNTY,SALNTY_FLAG_W,CTDOXY,CTDOXY_FLAG_W,OXYGEN,OXYGEN_FLAG_W,SILCAT,SILCAT_FLAG_W,NITRAT,NITRAT_FLAG_W,NITRIT,NITRIT_FLAG_W,PHSPHT,PHSPHT_FLAG_W,CFC-11,CFC-11_FLAG_W,CFC-12,CFC-12_FLAG_W,TRITUM,TRITUM_FLAG_W,HELIUM,HELIUM_FLAG_W,DELHE3,DELHE3_FLAG_W,TCARBN,TCARBN_FLAG_W,ALKALI,ALKALI_FLAG_W,PH,PH_FLAG_W,HELIER,DELHER,THETA,TRITER
,,,,,,,,,,,,DBAR,ITS-90,PSS-78,,PSS-78,,UMOL/KG,,UMOL/KG,,UMOL/KG,,UMOL/KG,,UMOL/KG,,UMOL/KG,,PMOL/KG,,PMOL/KG,,TU,,NMOL/KG,,PERCNT,,UMOL/KG,,UMOL/KG,,25_DEG,,NMOL/KG,PERCNT,DEG C,TU
      325024_1,  P14N,   184,  1,     36,     36,2,19930828,2039,-15.4975, 179.0003, 2604,      3.1,  25.8474,  34.9657,2,  34.9709,2,   -999.0,9,    204.0,2,     1.71,2,     0.00,2,     0.00,2,     0.19,2, -999.000,5, -999.000,5, -999.000,9,-999.0000,9,     0.59,2,   -999.0,9,   -999.0,9,  -999.00,9,-999.0000,   0.150, 25.8467,-999.000
      325024_1,  P14N,   184,  1,     35,     35,2,19930828,2039,-15.4975, 179.0003, 2604,     35.0,  25.8489,  34.9657,2,  34.9717,2,   -999.0,9,    203.4,2,     1.88,2,     0.00,2,     0.00,2,     0.20,2, -999.000,5, -999.000,5, -999.000,9,-999.0000,9,  -999.00,9,   -999.0,9,   -999.0,9,  -999.00,9,-999.0000,-999.000, 25.8411,-999.000
      325024_1,  P14N,   184,  1,     34,     34,2,19930828,2039,-15.4975, 179.0003, 2604,     64.9,  25.8553,  34.9739,2,  34.9837,2,   -999.0,9,    203.4,2,     1.66,2,     0.00,2,     0.00,2,     0.19,2, -999.000,5, -999.000,5, -999.000,9,-999.0000,9,  -999.00,9,   -999.0,9,   -999.0,9,  -999.00,9,-999.0000,-999.000, 25.8409,-999.000
      325024_1,  P14N,   184,  1,     33,     33,2,19930828,2039,-15.4975, 179.0003, 2604,     95.0,  25.9351,  35.1308,2,  35.2716,3,   -999.0,9,    197.2,2,     1.44,2,     0.03,2,     0.00,2,     0.22,2, -999.000,5, -999.000,5, -999.000,9,-999.0000,9,  -999.00,9,   -999.0,9,   -999.0,9,  -999.00,9,-999.0000,-999.000, 25.9140,-999.000
      325024_1,  P14N,   184,  1,     32,     32,2,19930828,2039,-15.4975, 179.0003, 2604,    125.7,  24.9123,  35.9583,2,  35.9584,2,   -999.0,9,    173.5,2,     1.41,2,     1.17,2,     0.11,2,     0.35,2, -999.000,5, -999.000,5, -999.000,9,-999.0000,9,     2.01,2,   -999.0,9,   -999.0,9,  -999.00,9,-999.0000,   0.150, 24.8850,-999.000
      325024_1,  P14N,   184,  1,     31,     31,2,19930828,2039,-15.4975, 179.0003, 2604,    155.7,  23.6237,  35.8764,2,  35.8882,2,   -999.0,9,    172.0,2,     1.38,2,     2.21,2,     0.03,2,     0.37,2, -999.000,5, -999.000,5, -999.000,9,-999.0000,9,  -999.00,9,   -999.0,9,   -999.0,9,  -999.00,9,-999.0000,-999.000, 23.5912,-999.000
      325024_1,  P14N,   184,  1,     30,     30,2,19930828,2039,-15.4975, 179.0003, 2604,    205.1,  21.3633,  35.8076,2,  35.6979,3,   -999.0,9,    171.6,2,     1.16,2,     4.62,3,     0.01,2,     0.49,2, -999.000,5, -999.000,5, -999.000,9,-999.0000,9,     2.55,2,   -999.0,9,   -999.0,9,  -999.00,9,-999.0000,   0.150, 21.3234,-999.000
      325024_1,  P14N,   184,  1,     29,     29,2,19930828,2039,-15.4975, 179.0003, 2604,    254.9,  19.0471,  35.6352,2,  35.6230,2,   -999.0,9,    173.3,2,     1.71,2,     5.15,2,     0.01,2,     0.52,2, -999.000,5, -999.000,5, -999.000,9,-999.0000,9,  -999.00,9,   -999.0,9,   -999.0,9,  -999.00,9,-999.0000,-999.000, 19.0013,-999.000
      325024_1,  P14N,   184,  1,     28,     28,2,19930828,2039,-15.4975, 179.0003, 2604,    305.0,  17.0611,  35.4468,2,  35.4253,2,   -999.0,9,    177.4,2,     2.07,2,     7.00,2,     0.01,2,     0.63,2, -999.000,5, -999.000,5, -999.000,9,-999.0000,9,     0.62,2,   -999.0,9,   -999.0,9,  -999.00,9,-999.0000,   0.150, 17.0103,-999.000
      325024_1,  P14N,   184,  1,     27,     27,2,19930828,2039,-15.4975, 179.0003, 2604,    355.2,  15.1689,  35.2776,2,  35.2562,2,   -999.0,9,    184.0,2,     2.43,2,     8.90,2,     0.00,2,     0.74,2, -999.000,5, -999.000,5, -999.000,9,-999.0000,9,  -999.00,9,   -999.0,9,   -999.0,9,  -999.00,9,-999.0000,-999.000, 15.1144,-999.000
      325024_1,  P14N,   184,  1,     26,     26,2,19930828,2039,-15.4975, 179.0003, 2604,    405.1,  12.5841,  34.9666,2,  34.9439,2,   -999.0,9,    172.9,2,     6.07,2,    14.80,2,     0.00,2,     1.15,2, -999.000,5, -999.000,5, -999.000,9,-999.0000,9,     2.95,2,   -999.0,9,   -999.0,9,  -999.00,9,-999.0000,   0.150, 12.5291,-999.000
      325024_1,  P14N,   184,  1,     25,     25,2,19930828,2039,-15.4975, 179.0003, 2604,    455.4,  10.1759,  34.7187,2,  34.7136,2,   -999.0,9,    178.8,2,     8.75,2,    18.92,2,     0.00,2,     1.40,2, -999.000,5, -999.000,5, -999.000,9,-999.0000,9,  -999.00,9,   -999.0,9,   -999.0,9,  -999.00,9,-999.0000,-999.000, 10.1220,-999.000
      325024_1,  P14N,   184,  1,     24,     24,2,19930828,2039,-15.4975, 179.0003, 2604,    506.0,   8.9829,  34.5981,2,  34.5892,2,   -999.0,9,    189.1,2,     9.31,2,    20.87,2,     0.00,2,     1.51,2, -999.000,5, -999.000,5, -999.000,9,-999.0000,9,     3.70,2,   -999.0,9,   -999.0,9,  -999.00,9,-999.0000,   0.150,  8.9273,-999.000
      325024_1,  P14N,   184,  1,     23,     23,2,19930828,2039,-15.4975, 179.0003, 2604,    556.3,   7.6670,  34.4706,2,  34.4696,2,   -999.0,9,    199.1,2,    10.63,2,    22.98,2,     0.00,2,     1.64,2, -999.000,5, -999.000,5, -999.000,9,-999.0000,9,  -999.00,9,   -999.0,9,   -999.0,9,  -999.00,9,-999.0000,-999.000,  7.6112,-999.000
      325024_1,  P14N,   184,  1,     22,     22,2,19930828,2039,-15.4975, 179.0003, 2604,    607.2,   7.1160,  34.4353,2,  34.4284,2,   -999.0,9,    199.0,2,    13.31,2,    24.53,2,     0.00,2,     1.73,2, -999.000,5, -999.000,5, -999.000,9,-999.0000,9,     7.40,2,   -999.0,9,   -999.0,9,  -999.00,9,-999.0000,   0.150,  7.0575,-999.000
      325024_1,  P14N,   184,  1,     21,     21,2,19930828,2039,-15.4975, 179.0003, 2604,    708.1,   5.5093,  34.3780,2,  34.3794,2,   -999.0,9,    185.1,2,    27.58,2,    29.50,2,     0.00,2,     2.06,2, -999.000,5, -999.000,5, -999.000,9,-999.0000,9,     6.93,2,   -999.0,9,   -999.0,9,  -999.00,9,-999.0000,   0.150,  5.4492,-999.000
      325024_1,  P14N,   184,  1,     20,     20,2,19930828,2039,-15.4975, 179.0003, 2604,    809.4,   5.2043,  34.3910,2,  34.3941,2,   -999.0,9,    176.5,2,    34.31,2,    30.66,2,     0.00,2,     2.14,2, -999.000,5, -999.000,5, -999.000,9,-999.0000,9,     7.20,2,   -999.0,9,   -999.0,9,  -999.00,9,-999.0000,   0.150,  5.1369,-999.000
      325024_1,  P14N,   184,  1,     19,     19,2,19930828,2039,-15.4975, 179.0003, 2604,    910.5,   4.6525,  34.4395,2,  34.4406,2,   -999.0,9,    159.9,2,    49.17,2,    32.75,2,     0.00,2,     2.28,2, -999.000,5, -999.000,5, -999.000,9,-999.0000,9,    12.90,2,   -999.0,9,   -999.0,9,  -999.00,9,-999.0000,   0.150,  4.5797,-999.000
      325024_1,  P14N,   184,  1,     18,     18,2,19930828,2039,-15.4975, 179.0003, 2604,   1011.3,   4.1246,  34.4639,2,  34.4639,2,   -999.0,9,    156.6,2,    60.38,2,    33.63,2,     0.00,2,     2.35,2, -999.000,5, -999.000,5, -999.000,9,-999.0000,9,  -999.00,9,   -999.0,9,   -999.0,9,  -999.00,9,-999.0000,-999.000,  4.0471,-999.000
      325024_1,  P14N,   184,  1,     17,     17,2,19930828,2039,-15.4975, 179.0003, 2604,   1111.0,   3.6980,  34.4920,2,  34.4912,2,   -999.0,9,    153.8,2,    70.44,2,    34.23,2,     0.00,2,     2.39,2, -999.000,5, -999.000,5, -999.000,9,-999.0000,9,    19.80,2,   -999.0,9,   -999.0,9,  -999.00,9,-999.0000,   0.150,  3.6156,-999.000
      325024_1,  P14N,   184,  1,     16,     16,2,19930828,2039,-15.4975, 179.0003, 2604,   1209.9,   3.4919,  34.5155,2,  34.5155,2,   -999.0,9,    150.5,2,    78.19,2,    34.56,2,     0.00,2,     2.42,2, -999.000,5, -999.000,5, -999.000,9,-999.0000,9,    21.10,2,   -999.0,9,   -999.0,9,  -999.00,9,-999.0000,   0.150,  3.4032,-999.000
      325024_1,  P14N,   184,  1,     15,     15,2,19930828,2039,-15.4975, 179.0003, 2604,   1308.1,   3.2638,  34.5387,2,  34.5375,2,   -999.0,9,    147.6,2,    85.76,2,    35.03,2,     0.00,2,     2.45,2, -999.000,5, -999.000,5, -999.000,9,-999.0000,9,  -999.00,9,   -999.0,9,   -999.0,9,  -999.00,9,-999.0000,-999.000,  3.1691,-999.000
      325024_1,  P14N,   184,  1,     14,     14,2,19930828,2039,-15.4975, 179.0003, 2604,   1407.8,   3.0471,  34.5579,2,  34.5569,2,   -999.0,9,    146.8,2,    92.57,2,    35.12,2,     0.00,2,     2.46,2, -999.000,5, -999.000,5, -999.000,9,-999.0000,9,    20.90,2,   -999.0,9,   -999.0,9,  -999.00,9,-999.0000,   0.150,  2.9464,-999.000
      325024_1,  P14N,   184,  1,     13,     13,2,19930828,2039,-15.4975, 179.0003, 2604,   1511.1,   2.8381,  34.5751,2,  34.5747,2,   -999.0,9,    146.2,2,    99.01,2,    35.33,2,     0.00,2,     2.46,2, -999.000,5, -999.000,5, -999.000,9,-999.0000,9,    21.40,2,   -999.0,9,   -999.0,9,  -999.00,9,-999.0000,   0.150,  2.7313,-999.000
      325024_1,  P14N,   184,  1,     12,     12,2,19930828,2039,-15.4975, 179.0003, 2604,   1614.4,   2.7072,  34.5877,2,  34.5869,2,   -999.0,9,    145.6,2,   103.50,2,    35.33,2,     0.00,2,     2.47,2, -999.000,5, -999.000,5, -999.000,9,-999.0000,9,    22.50,2,   -999.0,9,   -999.0,9,  -999.00,9,-999.0000,   0.150,  2.5933,-999.000
      325024_1,  P14N,   184,  1,     11,     11,2,19930828,2039,-15.4975, 179.0003, 2604,   1719.0,   2.6198,  34.5969,2,  34.5959,2,   -999.0,9,    144.7,2,   106.82,2,    35.50,2,     0.00,2,     2.47,2, -999.000,5, -999.000,5, -999.000,9,-999.0000,9,    24.10,2,   -999.0,9,   -999.0,9,  -999.00,9,-999.0000,   0.150,  2.4983,-999.000
      325024_1,  P14N,   184,  1,     10,     10,2,19930828,2039,-15.4975, 179.0003, 2604,   1821.9,   2.5077,  34.6085,2,  34.5940,3,   -999.0,9,    145.0,2,   106.18,3,    35.50,2,     0.00,2,     2.48,2, -999.000,5, -999.000,5, -999.000,9,-999.0000,9,    24.20,2,   -999.0,9,   -999.0,9,  -999.00,9,-999.0000,   0.150,  2.3789,-999.000
      325024_1,  P14N,   184,  1,      9,      9,2,19930828,2039,-15.4975, 179.0003, 2604,   1923.3,   2.4162,  34.6177,2,  34.6167,2,   -999.0,9,    145.9,2,   113.07,2,    35.46,2,     0.00,2,     2.47,2, -999.000,5, -999.000,5, -999.000,9,-999.0000,9,  -999.00,9,   -999.0,9,   -999.0,9,  -999.00,9,-999.0000,-999.000,  2.2801,-999.000
      325024_1,  P14N,   184,  1,      8,      8,2,19930828,2039,-15.4975, 179.0003, 2604,   2024.1,   2.3096,  34.6279,2,  34.6273,2,   -999.0,9,    146.6,2,   115.60,2,    35.41,2,     0.00,2,     2.47,2, -999.000,5, -999.000,5, -999.000,9,-999.0000,9,    27.90,2,   -999.0,9,   -999.0,9,  -999.00,9,-999.0000,   0.150,  2.1664,-999.000
      325024_1,  P14N,   184,  1,      7,      7,2,19930828,2039,-15.4975, 179.0003, 2604,   2124.7,   2.2009,  34.6381,2,  34.6371,2,   -999.0,9,    147.4,2,   118.55,2,    35.28,2,     0.00,2,     2.47,2, -999.000,5, -999.000,5, -999.000,9,-999.0000,9,    29.60,2,   -999.0,9,   -999.0,9,  -999.00,9,-999.0000,   0.150,  2.0506,-999.000
      325024_1,  P14N,   184,  1,      6,      6,2,19930828,2039,-15.4975, 179.0003, 2604,   2224.8,   2.1486,  34.6429,2,  34.6424,2,   -999.0,9,    147.4,2,   120.49,2,    35.27,2,     0.01,2,     2.47,2, -999.000,5, -999.000,5, -999.000,9,-999.0000,9,    28.40,2,   -999.0,9,   -999.0,9,  -999.00,9,-999.0000,   0.150,  1.9904,-999.000
      325024_1,  P14N,   184,  1,      5,      5,2,19930828,2039,-15.4975, 179.0003, 2604,   2326.2,   2.0546,  34.6486,2,  34.6477,2,   -999.0,9,    146.3,2,   124.65,2,    35.45,2,     0.00,2,     2.48,2, -999.000,5, -999.000,5, -999.000,9,-999.0000,9,  -999.00,9,   -999.0,9,   -999.0,9,  -999.00,9,-999.0000,-999.000,  1.8890,-999.000
      325024_1,  P14N,   184,  1,      4,      4,2,19930828,2039,-15.4975, 179.0003, 2604,   2427.4,   1.9902,  34.6526,2,  34.6519,2,   -999.0,9,    145.6,2,   127.61,2,    35.62,2,     0.00,2,     2.49,2, -999.000,5, -999.000,5, -999.000,9,-999.0000,9,    27.10,2,   -999.0,9,   -999.0,9,  -999.00,9,-999.0000,   0.150,  1.8167,-999.000
      325024_1,  P14N,   184,  1,      3,      3,2,19930828,2039,-15.4975, 179.0003, 2604,   2530.0,   1.9424,  34.6554,2,  34.6550,2,   -999.0,9,    145.1,2,   129.77,2,    35.79,2,     0.00,2,     2.48,2, -999.000,5, -999.000,5, -999.000,9,-999.0000,9,  -999.00,9,   -999.0,9,   -999.0,9,  -999.00,9,-999.0000,-999.000,  1.7604,-999.000
      325024_1,  P14N,   184,  1,      2,      2,2,19930828,2039,-15.4975, 179.0003, 2604,   2633.0,   1.9456,  34.6560,2,  34.6558,2,   -999.0,9,    145.1,2,   129.92,2,    35.79,2,     0.00,2,     2.48,2, -999.000,5, -999.000,5, -999.000,9,-999.0000,9,    27.70,2,   -999.0,9,   -999.0,9,  -999.00,9,-999.0000,   0.150,  1.7541,-999.000
      325024_1,  P14N,   184,  1,      1,      1,2,19930828,2039,-15.4975, 179.0003, 2604,   2633.0,   1.9458,  34.6558,2,  34.6558,2,   -999.0,9,    145.2,2,   130.28,2,    35.79,2,     0.00,2,     2.47,2, -999.000,5, -999.000,5, -999.000,9,-999.0000,9,  -999.00,9,   -999.0,9,   -999.0,9,  -999.00,9,-999.0000,-999.000,  1.7543,-999.000