BOTTLE,20131125MIRCJHATS
EXPOCODE,SECT_ID,STNNBR,CASTNO,SAMPNO,BTLNBR,BTLNBR_FLAG_W,DATE,TIME,LATITUDE,LONGITUDE,DEPTH,CTDPRS,CTDTMP,CTDSAL,CTDSAL_FLAG_W,SALNTY,SALNTY_FLAG_W,CTDOXY,CTDOXY_FLAG_W,OXYGEN,OXYGEN_FLAG_W,SILCAT,SILCAT_FLAG_W,NITRAT,NITRAT_FLAG_W,NITRIT,NITRIT_FLAG_W,PHSPHT,PHSPHT_FLAG_W,CFC-11,CFC-11_FLAG_W,CFC-12,CFC-12_FLAG_W,TRITUM,TRITUM_FLAG_W,HELIUM,HELIUM_FLAG_W,DELHE3,DELHE3_FLAG_W,TCARBN,TCARBN_FLAG_W,ALKALI,ALKALI_FLAG_W,PH,PH_FLAG_W,HELIER,DELHER,THETA,TRITER
,,,,,,,,,,,,DBAR,ITS-90,PSS-78,,PSS-78,,UMOL/KG,,UMOL/KG,,UMOL/KG,,UMOL/KG,,UMOL/KG,,UMOL/KG,,PMOL/KG,,PMOL/KG,,TU,,NMOL/KG,,PERCNT,,UMOL/KG,,UMOL/KG,,25_DEG,,NMOL/KG,PERCNT,DEG C,TU
      325024_1,  P14N,   147,  1,     36,     36,2,19930819,1849, -0.9993, 178.9993, 5472,      2.7,  29.9297,  34.6451,2,  34.6513,2,   -999.0,9,    193.2,2,     3.31,2,     0.07,2,     0.00,2,     0.21,2,    1.561,2,    0.849,2, -999.000,9,-999.0000,9,  -999.00,9,   1918.0,2,   2283.0,2,     8.12,2,-999.0000,-999.000, 29.9290,-999.000
      325024_1,  P14N,   147,  1,     35,     35,2,19930819,1849, -0.9993, 178.9993, 5472,     37.1,  29.9740,  34.7576,2,  34.7683,2,   -999.0,9,    193.8,2,     3.06,2,     0.07,2,     0.00,2,     0.21,2,    1.552,2,    0.863,2, -999.000,9,-999.0000,9,  -999.00,9,   1924.0,2,   2287.0,2,     8.12,2,-999.0000,-999.000, 29.9648,-999.000
      325024_1,  P14N,   147,  1,     34,     34,2,19930819,1849, -0.9993, 178.9993, 5472,     67.2,  29.9747,  34.9162,2,  34.9228,2,   -999.0,9,    195.0,2,     2.82,2,     0.06,2,     0.00,2,     0.21,2,    1.568,2,    0.860,2, -999.000,9,-999.0000,9,  -999.00,9,   1938.0,2,   2299.0,2,     8.11,2,-999.0000,-999.000, 29.9581,-999.000
      325024_1,  P14N,   147,  1,     33,     33,2,19930819,1849, -0.9993, 178.9993, 5472,     97.9,  27.8906,  35.4228,2,  35.4146,2,   -999.0,9,    172.2,2,     2.77,2,     3.15,2,     0.71,2,     0.53,2,    1.618,2,    0.855,2, -999.000,9,-999.0000,9,  -999.00,9,   2015.0,2,   2330.0,2,     8.03,2,-999.0000,-999.000, 27.8675,-999.000
      325024_1,  P14N,   147,  1,     32,     32,2,19930819,1849, -0.9993, 178.9993, 5472,    128.2,  22.7668,  35.3547,2,  35.3581,2,   -999.0,9,    137.8,2,     4.66,2,     8.06,2,     0.04,2,     0.72,2,    1.568,2,    0.814,2, -999.000,9,-999.0000,9,  -999.00,9,   2059.0,2,   2320.0,2,     7.93,2,-999.0000,-999.000, 22.7408,-999.000
      325024_1,  P14N,   147,  1,     31,     31,2,19930819,1849, -0.9993, 178.9993, 5472,    158.5,  21.1171,  35.5093,2,  35.5064,2,   -999.0,9,    138.3,2,     4.23,2,     8.57,2,     0.02,2,     0.76,2,    1.543,2,    0.804,2, -999.000,9,-999.0000,9,  -999.00,9,   2081.0,2,   2331.0,2,     7.92,2,-999.0000,-999.000, 21.0865,-999.000
      325024_1,  P14N,   147,  1,     30,     30,2,19930819,1849, -0.9993, 178.9993, 5472,    208.5,  14.8491,  35.0704,2,  35.0773,2,   -999.0,9,    136.8,2,    12.31,2,    15.84,2,     0.00,2,     1.23,2,    1.066,2,    0.544,2, -999.000,9,-999.0000,9,  -999.00,9,   2130.0,2,   2317.0,2,     7.78,2,-999.0000,-999.000, 14.8177,-999.000
      325024_1,  P14N,   147,  1,     29,     29,2,19930819,1849, -0.9993, 178.9993, 5472,    257.8,  12.7751,  34.9084,2,  34.9073,2,   -999.0,9,    127.3,2,    17.69,2,    20.01,2,     0.00,2,     1.49,2,    0.783,2,    0.395,2, -999.000,9,-999.0000,9,  -999.00,9,   2154.0,2,   2311.0,2,     7.73,2,-999.0000,-999.000, 12.7400,-999.000
      325024_1,  P14N,   147,  1,     28,     28,2,19930819,1849, -0.9993, 178.9993, 5472,    306.5,  11.2331,  34.8041,2,  34.7964,2,   -999.0,9,     78.0,2,    25.38,2,    27.78,2,     0.00,2,     1.98,2,    0.372,2,    0.191,2, -999.000,9,-999.0000,9,  -999.00,9,   2206.0,2,   2310.0,2,     7.58,2,-999.0000,-999.000, 11.1947,-999.000
      325024_1,  P14N,   147,  1,     27,     27,2,19930819,1849, -0.9993, 178.9993, 5472,    406.8,   9.4969,  34.6943,2,  34.6908,2,   -999.0,9,     90.6,2,    29.01,2,    29.84,2,     0.00,2,     2.12,2,    0.206,2,    0.100,2, -999.000,9,-999.0000,9,  -999.00,9,   2213.0,2,   2310.0,2,     7.57,2,-999.0000,-999.000,  9.4508,-999.000
      325024_1,  P14N,   147,  1,     26,     26,2,19930819,1849, -0.9993, 178.9993, 5472,    506.1,   7.8757,  34.5987,2,  34.5982,2,   -999.0,9,    101.0,2,    36.70,2,    32.12,2,     0.00,2,     2.28,2,    0.100,2,    0.039,2, -999.000,9,-999.0000,9,  -999.00,9,   2225.0,2,   2313.0,2,     7.53,2,-999.0000,-999.000,  7.8242,-999.000
      325024_1,  P14N,   147,  1,     25,     25,2,19930819,1849, -0.9993, 178.9993, 5472,    606.5,   6.8695,  34.5707,2,  34.5700,2,   -999.0,9,     70.5,2,    50.22,2,    37.32,2,     0.00,2,     2.66,2,    0.025,2,    0.011,2, -999.000,9,-999.0000,9,  -999.00,9,   2262.0,2,   2322.0,2,     7.48,2,-999.0000,-999.000,  6.8120,-999.000
      325024_1,  P14N,   147,  1,     24,     24,2,19930819,1849, -0.9993, 178.9993, 5472,    706.5,   6.0800,  34.5531,2,  34.5513,2,   -999.0,9,     73.0,2,    59.86,2,    38.64,2,     0.00,2,     2.74,2,    0.005,2,    0.001,2, -999.000,9,-999.0000,9,  -999.00,9,   2273.0,2,   2328.0,2,     7.43,2,-999.0000,-999.000,  6.0167,-999.000
      325024_1,  P14N,   147,  1,     23,     23,2,19930819,1849, -0.9993, 178.9993, 5472,    807.5,   5.5290,  34.5414,2,  34.5406,2,   -999.0,9,     87.8,2,    65.24,2,    37.83,2,     0.00,2,     2.70,2,    0.009,6,    0.003,6, -999.000,9,-999.0000,9,  -999.00,9,   2272.0,2,   2336.0,2,     7.48,2,-999.0000,-999.000,  5.4595,-999.000
      325024_1,  P14N,   147,  1,     22,     22,2,19930819,1849, -0.9993, 178.9993, 5472,    908.2,   4.8945,  34.5447,2,  34.5439,2,   -999.0,9,     90.0,2,    76.67,2,    38.45,2,     0.00,2,     2.74,2,    0.002,2,    0.001,2, -999.000,9,-999.0000,9,  -999.00,9,   2285.0,2,   2348.0,2,     7.47,2,-999.0000,-999.000,  4.8201,-999.000
      325024_1,  P14N,   147,  1,     21,     21,2,19930819,1849, -0.9993, 178.9993, 5472,   1009.2,   4.5300,  34.5526,2,  34.5523,2,   -999.0,9,     86.7,2,    85.20,2,    39.03,2,     0.00,2,     2.80,2,    0.000,2,    0.002,2, -999.000,9,-999.0000,9,  -999.00,9,   2297.0,2,   2358.0,2,     7.48,2,-999.0000,-999.000,  4.4494,-999.000
      325024_1,  P14N,   147,  1,     20,     20,2,19930819,1849, -0.9993, 178.9993, 5472,   1211.0,   3.9200,  34.5685,2,  34.5668,2,   -999.0,9,     94.0,2,    97.30,2,    38.62,2,     0.00,2,     2.77,2,    0.001,2,    0.001,2, -999.000,9,-999.0000,9,  -999.00,9,   2306.0,2,   2372.0,2,     7.47,2,-999.0000,-999.000,  3.8271,-999.000
      325024_1,  P14N,   147,  1,     19,     19,2,19930819,1849, -0.9993, 178.9993, 5472,   1413.9,   3.3098,  34.5908,2,  34.5910,2,   -999.0,9,     94.4,2,   112.46,2,    39.15,2,     0.00,2,     2.81,2, -999.000,5, -999.000,5, -999.000,9,-999.0000,9,  -999.00,9,   2323.0,2,   2388.0,2,     7.48,2,-999.0000,-999.000,  3.2057,-999.000
      325024_1,  P14N,   147,  1,     18,     18,2,19930819,1849, -0.9993, 178.9993, 5472,   1617.8,   2.7446,  34.6146,2,  34.6139,2,   -999.0,9,     99.9,2,   126.78,2,    39.05,2,     0.00,2,     2.78,2, -999.000,5, -999.000,5, -999.000,9,-999.0000,9,  -999.00,9,   2337.0,2,   2404.0,2,     7.46,2,-999.0000,-999.000,  2.6299,-999.000
      325024_1,  P14N,   147,  1,     17,     17,2,19930819,1849, -0.9993, 178.9993, 5472,   1820.2,   2.4506,  34.6265,2,  34.6261,2,   -999.0,9,    112.3,2,   130.33,2,    38.24,2,     0.00,2,     2.70,2,   -0.001,2,    0.002,2, -999.000,9,-999.0000,9,  -999.00,9,   2334.0,2,   2408.0,2,     7.50,2,-999.0000,-999.000,  2.3227,-999.000
      325024_1,  P14N,   147,  1,     16,     16,2,19930819,1849, -0.9993, 178.9993, 5472,   2023.7,   2.1700,  34.6441,2,  34.6432,2,   -999.0,9,    114.1,2,   139.57,2,    38.37,2,     0.00,2,     2.70,2, -999.000,5, -999.000,5, -999.000,9,-999.0000,9,  -999.00,9,   2344.0,2,   -999.0,9,  -999.00,9,-999.0000,-999.000,  2.0289,-999.000
      325024_1,  P14N,   147,  1,     15,     15,2,19930819,1849, -0.9993, 178.9993, 5472,   2227.3,   1.9768,  34.6530,2,  34.6522,2,   -999.0,9,    119.5,2,   143.97,2,    37.97,2,     0.00,2,     2.68,2, -999.000,5, -999.000,5, -999.000,9,-999.0000,9,  -999.00,9,   2343.0,2,   2423.0,2,     7.53,2,-999.0000,-999.000,  1.8213,-999.000
      325024_1,  P14N,   147,  1,     14,     14,2,19930819,1849, -0.9993, 178.9993, 5472,   2431.7,   1.8536,  34.6590,2,  34.6577,2,   -999.0,9,    127.0,2,   143.68,2,    37.39,2,     0.00,2,     2.63,2, -999.000,5, -999.000,5, -999.000,9,-999.0000,9,  -999.00,9,   2343.0,2,   2420.0,2,     7.52,2,-999.0000,-999.000,  1.6822,-999.000
      325024_1,  P14N,   147,  1,     13,     13,2,19930819,1849, -0.9993, 178.9993, 5472,   2635.9,   1.7894,  34.6630,2,  34.6630,2,   -999.0,9,    128.6,2,   146.25,2,    37.25,2,     0.00,2,     2.61,2,   -0.003,2,   -0.001,2, -999.000,9,-999.0000,9,  -999.00,9,   2343.0,2,   2422.0,2,     7.54,2,-999.0000,-999.000,  1.6006,-999.000
      325024_1,  P14N,   147,  1,     12,     12,2,19930819,1849, -0.9993, 178.9993, 5472,   2839.9,   1.6895,  34.6678,2,  34.6677,2,   -999.0,9,    134.7,2,   146.16,2,    36.89,2,     0.00,2,     2.58,2, -999.000,5, -999.000,5, -999.000,9,-999.0000,9,  -999.00,9,   2338.0,2,   2427.0,2,     7.53,2,-999.0000,-999.000,  1.4838,-999.000
      325024_1,  P14N,   147,  1,     11,     11,2,19930819,1849, -0.9993, 178.9993, 5472,   3044.5,   1.6309,  34.6715,2,  34.6709,2,   -999.0,9,    138.9,2,   145.87,2,    36.58,2,     0.00,2,     2.56,2, -999.000,5, -999.000,5, -999.000,9,-999.0000,9,  -999.00,9,   2337.0,2,   2421.0,2,     7.53,2,-999.0000,-999.000,  1.4070,-999.000
      325024_1,  P14N,   147,  1,     10,     10,2,19930819,1849, -0.9993, 178.9993, 5472,   3350.4,   1.5662,  34.6768,2,  34.6762,2,   -999.0,9,    145.7,2,   144.76,2,    36.05,2,     0.00,2,     2.52,2,   -0.001,2,    0.001,2, -999.000,9,-999.0000,9,  -999.00,9,   2332.0,2,   2420.0,2,     7.56,2,-999.0000,-999.000,  1.3136,-999.000
      325024_1,  P14N,   147,  1,      9,      9,3,19930819,1849, -0.9993, 178.9993, 5472,   3657.5,   1.4962,  34.6831,2,  34.6962,4,   -999.0,9,    141.4,4,   118.42,4,    34.09,4,     0.00,4,     2.38,4, -999.000,5, -999.000,5, -999.000,9,-999.0000,9,  -999.00,9,   2300.0,4,   2387.0,4,     7.52,4,-999.0000,-999.000,  1.2139,-999.000
      325024_1,  P14N,   147,  1,      8,      8,2,19930819,1849, -0.9993, 178.9993, 5472,   3964.3,   1.4270,  34.6896,2,  34.6891,2,   -999.0,9,    163.3,2,   140.09,2,    34.87,2,     0.00,2,     2.43,2, -999.000,5, -999.000,5, -999.000,9,-999.0000,9,  -999.00,9,   2318.0,2,   2415.0,2,     7.58,2,-999.0000,-999.000,  1.1140,-999.000
      325024_1,  P14N,   147,  1,      7,      7,2,19930819,1849, -0.9993, 178.9993, 5472,   4271.5,   1.3257,  34.6969,2,  34.6970,2,   -999.0,9,    176.6,2,   134.12,2,    33.87,2,     0.00,2,     2.35,2,   -0.002,2,    0.000,2, -999.000,9,-999.0000,9,  -999.00,9,   2306.0,2,   2403.0,2,     7.56,2,-999.0000,-999.000,  0.9819,-999.000
      325024_1,  P14N,   147,  1,      6,      6,2,19930819,1849, -0.9993, 178.9993, 5472,   4579.3,   1.2523,  34.7022,2,  34.7025,2,   -999.0,9,    188.6,2,   127.98,2,    32.97,2,     0.00,2,     2.29,2, -999.000,5, -999.000,5, -999.000,9,-999.0000,9,  -999.00,9,   2291.0,2,   2392.0,2,     7.59,2,-999.0000,-999.000,  0.8758,-999.000
      325024_1,  P14N,   147,  1,      5,      5,2,19930819,1849, -0.9993, 178.9993, 5472,   4888.4,   1.2493,  34.7035,2,  34.7040,2,   -999.0,9,    192.0,2,   126.90,2,    32.66,2,     0.00,2,     2.28,2,   -0.003,2,    0.002,2, -999.000,9,-999.0000,9,  -999.00,9,   2284.0,2,   2387.0,2,     7.58,2,-999.0000,-999.000,  0.8368,-999.000
      325024_1,  P14N,   147,  1,      4,      4,2,19930819,1849, -0.9993, 178.9993, 5472,   5196.4,   1.2693,  34.7037,2,  34.7044,2,   -999.0,9,    193.7,2,   125.61,2,    32.62,2,     0.00,2,     2.27,2, -999.000,5, -999.000,5, -999.000,9,-999.0000,9,  -999.00,9,   2278.0,2,   2386.0,2,     7.60,2,-999.0000,-999.000,  0.8189,-999.000
      325024_1,  P14N,   147,  1,      2,      2,2,19930819,1849, -0.9993, 178.9993, 5472,   5504.2,   1.3035,  34.7047,2,  34.7049,2,   -999.0,9,    194.5,2,   125.04,2,    32.52,2,     0.00,2,     2.26,2, -999.000,5, -999.000,5, -999.000,9,-999.0000,9,  -999.00,9,   2279.0,2,   2382.0,2,     7.58,2,-999.0000,-999.000,  0.8135,-999.000
      325024_1,  P14N,   147,  1,      3,      3,2,19930819,1849, -0.9993, 178.9993, 5472,   5505.5,   1.3039,  34.7044,2,  34.7045,2,   -999.0,9,    194.8,2,   125.13,2,    32.48,2,     0.00,2,     2.27,2, -999.000,5, -999.000,5, -999.000,9,-999.0000,9,  -999.00,9,   2278.0,2,   2383.0,2,     7.60,2,-999.0000,-999.000,  0.8137,-999.000
      325024_1,  P14N,   147,  1,      1,      1,2,19930819,1849, -0.9993, 178.9993, 5472,   5546.8,   1.3087,  34.7045,2,  34.7051,2,   -999.0,9,    193.8,2,   124.96,2,    32.52,2,     0.00,2,     2.26,2,    0.000,2,    0.000,3, -999.000,9,-999.0000,9,  -999.00,9,   2277.0,2,   2379.0,2,     7.58,2,-999.0000,-999.000,  0.8131,-999.000