BOTTLE,20131125MIRCJHATS
EXPOCODE,SECT_ID,STNNBR,CASTNO,SAMPNO,BTLNBR,BTLNBR_FLAG_W,DATE,TIME,LATITUDE,LONGITUDE,DEPTH,CTDPRS,CTDTMP,CTDSAL,CTDSAL_FLAG_W,SALNTY,SALNTY_FLAG_W,CTDOXY,CTDOXY_FLAG_W,OXYGEN,OXYGEN_FLAG_W,SILCAT,SILCAT_FLAG_W,NITRAT,NITRAT_FLAG_W,NITRIT,NITRIT_FLAG_W,PHSPHT,PHSPHT_FLAG_W,CFC-11,CFC-11_FLAG_W,CFC-12,CFC-12_FLAG_W,TRITUM,TRITUM_FLAG_W,HELIUM,HELIUM_FLAG_W,DELHE3,DELHE3_FLAG_W,TCARBN,TCARBN_FLAG_W,ALKALI,ALKALI_FLAG_W,PH,PH_FLAG_W,HELIER,DELHER,THETA,TRITER
,,,,,,,,,,,,DBAR,ITS-90,PSS-78,,PSS-78,,UMOL/KG,,UMOL/KG,,UMOL/KG,,UMOL/KG,,UMOL/KG,,UMOL/KG,,PMOL/KG,,PMOL/KG,,TU,,NMOL/KG,,PERCNT,,UMOL/KG,,UMOL/KG,,25_DEG,,NMOL/KG,PERCNT,DEG C,TU
      325023_1,  P14N,    55,  1,     36,     36,2,19930721,1027, 35.0033, 179.0008, 3907,      1.9,  23.6021,  34.8716,2,  34.8694,2,   -999.0,9,    217.4,2,     2.91,2,     0.00,2,     0.00,2,     0.03,2,    2.110,2,    1.123,2, -999.000,9,-999.0000,9,  -999.00,9,   -999.0,9,   -999.0,9,  -999.00,9,-999.0000,-999.000, 23.6017,-999.000
      325023_1,  P14N,    55,  1,     35,     35,2,19930721,1027, 35.0033, 179.0008, 3907,     35.7,  23.1734,  34.8646,2,  34.8267,3,   -999.0,9,    221.6,2,     2.69,2,     0.00,2,     0.00,2,     0.04,2,    2.180,2,    1.160,2, -999.000,9,-999.0000,9,  -999.00,9,   -999.0,9,   -999.0,9,  -999.00,9,-999.0000,-999.000, 23.1661,-999.000
      325023_1,  P14N,    55,  1,     34,     34,2,19930721,1027, 35.0033, 179.0008, 3907,     66.6,  18.3936,  34.8235,2,  34.8210,2,   -999.0,9,    244.6,2,     2.46,2,     0.00,2,     0.00,2,     0.06,2,    2.591,2,    1.379,2, -999.000,9,-999.0000,9,  -999.00,9,   -999.0,9,   -999.0,9,  -999.00,9,-999.0000,-999.000, 18.3820,-999.000
      325023_1,  P14N,    55,  1,     33,     33,2,19930721,1027, 35.0033, 179.0008, 3907,     97.3,  17.3367,  34.7968,2,  34.7981,2,   -999.0,9,    222.4,2,     3.81,2,     2.70,2,     0.12,2,     0.24,2,    2.497,2,    1.315,2, -999.000,9,-999.0000,9,  -999.00,9,   -999.0,9,   -999.0,9,  -999.00,9,-999.0000,-999.000, 17.3205,-999.000
      325023_1,  P14N,    55,  1,     32,     32,2,19930721,1027, 35.0033, 179.0008, 3907,    127.4,  17.0107,  34.7876,2,  34.7882,2,   -999.0,9,    224.0,2,     3.98,2,     3.18,2,     0.03,2,     0.26,2,    2.573,2,    1.350,2, -999.000,9,-999.0000,9,  -999.00,9,   -999.0,9,   -999.0,9,  -999.00,9,-999.0000,-999.000, 16.9897,-999.000
      325023_1,  P14N,    55,  1,     31,     31,2,19930721,1027, 35.0033, 179.0008, 3907,    157.5,  16.8504,  34.7746,2,  34.7723,2,   -999.0,9,    223.4,2,     4.14,2,     3.41,2,     0.02,2,     0.29,2,    2.553,2,    1.359,2, -999.000,9,-999.0000,9,  -999.00,9,   -999.0,9,   -999.0,9,  -999.00,9,-999.0000,-999.000, 16.8246,-999.000
      325023_1,  P14N,    55,  1,     30,     30,2,19930721,1027, 35.0033, 179.0008, 3907,    207.9,  16.3976,  34.7333,2,  34.7315,2,   -999.0,9,    218.4,2,     4.70,2,     4.53,2,     0.01,2,     0.36,2,    2.557,2,    1.333,2, -999.000,9,-999.0000,9,  -999.00,9,   -999.0,9,   -999.0,9,  -999.00,9,-999.0000,-999.000, 16.3642,-999.000
      325023_1,  P14N,    55,  1,     29,     29,2,19930721,1027, 35.0033, 179.0008, 3907,    258.3,  15.7323,  34.6734,2,  34.6642,2,   -999.0,9,    211.6,2,     6.83,2,     6.35,2,     0.01,2,     0.48,2,    2.538,2,    1.318,2, -999.000,9,-999.0000,9,  -999.00,9,   -999.0,9,   -999.0,9,  -999.00,9,-999.0000,-999.000, 15.6919,-999.000
      325023_1,  P14N,    55,  1,     28,     28,2,19930721,1027, 35.0033, 179.0008, 3907,    308.6,  14.6051,  34.5734,2,  34.5730,2,   -999.0,9,    205.3,2,     9.54,2,     8.43,2,     0.01,2,     0.64,2,    2.449,6,    1.245,6, -999.000,9,-999.0000,9,  -999.00,9,   -999.0,9,   -999.0,9,  -999.00,9,-999.0000,-999.000, 14.5592,-999.000
      325023_1,  P14N,    55,  1,     27,     27,2,19930721,1027, 35.0033, 179.0008, 3907,    359.4,  13.5064,  34.4863,2,  34.4796,2,   -999.0,9,    207.6,2,    12.05,2,     9.95,2,     0.01,2,     0.75,2,    2.497,2,    1.278,2, -999.000,9,-999.0000,9,  -999.00,9,   -999.0,9,   -999.0,9,  -999.00,9,-999.0000,-999.000, 13.4557,-999.000
      325023_1,  P14N,    55,  1,     26,     26,2,19930721,1027, 35.0033, 179.0008, 3907,    409.7,  12.3049,  34.4053,2,  34.4020,2,   -999.0,9,    220.8,2,    13.98,2,    10.43,2,     0.01,2,     0.80,2,    2.743,2,    1.416,2, -999.000,9,-999.0000,9,  -999.00,9,   -999.0,9,   -999.0,9,  -999.00,9,-999.0000,-999.000, 12.2505,-999.000
      325023_1,  P14N,    55,  1,     25,     25,2,19930721,1027, 35.0033, 179.0008, 3907,    459.9,  11.4167,  34.3347,2,  34.3315,2,   -999.0,9,    208.7,2,    18.06,2,    13.21,2,     0.01,2,     0.98,2, -999.000,5, -999.000,5, -999.000,9,-999.0000,9,  -999.00,9,   -999.0,9,   -999.0,9,  -999.00,9,-999.0000,-999.000, 11.3584,-999.000
      325023_1,  P14N,    55,  1,     24,     24,2,19930721,1027, 35.0033, 179.0008, 3907,    509.6,  10.2045,  34.2407,2,  34.2412,2,   -999.0,9,    197.8,2,    24.48,2,    16.34,2,     0.01,2,     1.21,2,    2.500,2,    1.248,2, -999.000,9,-999.0000,9,  -999.00,9,   -999.0,9,   -999.0,9,  -999.00,9,-999.0000,-999.000, 10.1442,-999.000
      325023_1,  P14N,    55,  1,     23,     23,2,19930721,1027, 35.0033, 179.0008, 3907,    610.9,   7.7067,  34.0739,2,  34.0697,2,   -999.0,9,    175.3,2,    41.28,2,    22.96,2,     0.01,2,     1.70,2,    2.227,2,    1.058,2, -999.000,9,-999.0000,9,  -999.00,9,   -999.0,9,   -999.0,9,  -999.00,9,-999.0000,-999.000,  7.6454,-999.000
      325023_1,  P14N,    55,  1,     22,     22,2,19930721,1027, 35.0033, 179.0008, 3907,    712.5,   5.5564,  34.0102,2,  34.0104,2,   -999.0,9,    132.5,2,    66.95,2,    30.45,2,     0.01,2,     2.27,2,    1.678,2,    0.756,2, -999.000,9,-999.0000,9,  -999.00,9,   -999.0,9,   -999.0,9,  -999.00,9,-999.0000,-999.000,  5.4961,-999.000
      325023_1,  P14N,    55,  1,     21,     21,2,19930721,1027, 35.0033, 179.0008, 3907,    812.7,   4.7919,  34.0607,2,  34.0632,2,   -999.0,9,     97.3,2,    84.45,2,    34.77,2,     0.01,2,     2.58,2,    1.111,2,    0.490,2, -999.000,9,-999.0000,9,  -999.00,9,   -999.0,9,   -999.0,9,  -999.00,9,-999.0000,-999.000,  4.7272,-999.000
      325023_1,  P14N,    55,  1,     20,     20,2,19930721,1027, 35.0033, 179.0008, 3907,    913.4,   4.2660,  34.1679,2,  34.1681,2,   -999.0,9,     62.9,2,   102.27,2,    38.29,2,     0.00,2,     2.81,2,    0.476,2,    0.206,2, -999.000,9,-999.0000,9,  -999.00,9,   -999.0,9,   -999.0,9,  -999.00,9,-999.0000,-999.000,  4.1961,-999.000
      325023_1,  P14N,    55,  1,     19,     19,2,19930721,1027, 35.0033, 179.0008, 3907,   1015.1,   3.8437,  34.2441,2,  34.2429,2,   -999.0,9,     44.5,2,   116.24,2,    40.22,2,     0.00,2,     2.95,2, -999.000,5, -999.000,5, -999.000,9,-999.0000,9,  -999.00,9,   -999.0,9,   -999.0,9,  -999.00,9,-999.0000,-999.000,  3.7684,-999.000
      325023_1,  P14N,    55,  1,     18,     18,2,19930721,1027, 35.0033, 179.0008, 3907,   1116.3,   3.5213,  34.3031,2,  34.3132,3,   -999.0,9,     34.6,2,   126.28,2,    41.36,2,     0.00,2,     3.03,2,    0.092,2,    0.040,2, -999.000,9,-999.0000,9,  -999.00,9,   -999.0,9,   -999.0,9,  -999.00,9,-999.0000,-999.000,  3.4403,-999.000
      325023_1,  P14N,    55,  1,     17,     17,2,19930721,1027, 35.0033, 179.0008, 3907,   1217.4,   3.2166,  34.3601,2,  34.3640,2,   -999.0,9,     29.2,2,   135.18,2,    42.01,2,     0.00,2,     3.06,2, -999.000,5, -999.000,5, -999.000,9,-999.0000,9,  -999.00,9,   -999.0,9,   -999.0,9,  -999.00,9,-999.0000,-999.000,  3.1301,-999.000
      325023_1,  P14N,    55,  1,     16,     16,2,19930721,1027, 35.0033, 179.0008, 3907,   1318.8,   2.9894,  34.4059,2,  34.4051,2,   -999.0,9,     26.8,2,   142.51,2,    42.47,2,     0.00,2,     3.09,2,    0.017,2,    0.012,2, -999.000,9,-999.0000,9,  -999.00,9,   -999.0,9,   -999.0,9,  -999.00,9,-999.0000,-999.000,  2.8969,-999.000
      325023_1,  P14N,    55,  1,     15,     15,2,19930721,1027, 35.0033, 179.0008, 3907,   1420.3,   2.7975,  34.4414,2,  34.4392,2,   -999.0,9,     26.4,2,   149.26,2,    42.76,2,     0.00,2,     3.10,2, -999.000,5, -999.000,5, -999.000,9,-999.0000,9,  -999.00,9,   -999.0,9,   -999.0,9,  -999.00,9,-999.0000,-999.000,  2.6988,-999.000
      325023_1,  P14N,    55,  1,     14,     14,2,19930721,1027, 35.0033, 179.0008, 3907,   1522.3,   2.6331,  34.4729,2,  34.4713,2,   -999.0,9,     28.1,2,   155.44,2,    42.78,2,     0.00,2,     3.10,2,    0.003,2,    0.007,2, -999.000,9,-999.0000,9,  -999.00,9,   -999.0,9,   -999.0,9,  -999.00,9,-999.0000,-999.000,  2.5279,-999.000
      325023_1,  P14N,    55,  1,     13,     13,2,19930721,1027, 35.0033, 179.0008, 3907,   1624.3,   2.4650,  34.5020,2,  34.5011,2,   -999.0,9,     34.5,2,   158.93,2,    42.35,2,     0.00,2,     3.07,2,    0.001,2,    0.001,2, -999.000,9,-999.0000,9,  -999.00,9,   -999.0,9,   -999.0,9,  -999.00,9,-999.0000,-999.000,  2.3535,-999.000
      325023_1,  P14N,    55,  1,     12,     12,2,19930721,1027, 35.0033, 179.0008, 3907,   1828.0,   2.2094,  34.5519,2,  34.5523,2,   -999.0,9,     48.1,2,   164.33,2,    41.69,2,     0.00,2,     3.01,2,   -0.004,2,    0.000,2, -999.000,9,-999.0000,9,  -999.00,9,   -999.0,9,   -999.0,9,  -999.00,9,-999.0000,-999.000,  2.0845,-999.000
      325023_1,  P14N,    55,  1,     11,     11,2,19930721,1027, 35.0033, 179.0008, 3907,   2030.9,   2.0117,  34.5834,2,  34.5823,2,   -999.0,9,     63.1,2,   166.16,2,    40.76,2,     0.00,2,     2.95,2, -999.000,5, -999.000,5, -999.000,9,-999.0000,9,  -999.00,9,   -999.0,9,   -999.0,9,  -999.00,9,-999.0000,-999.000,  1.8727,-999.000
      325023_1,  P14N,    55,  1,     10,     10,2,19930721,1027, 35.0033, 179.0008, 3907,   2236.0,   1.8630,  34.6084,2,  34.6074,2,   -999.0,9,     78.6,2,   166.08,2,    39.79,2,     0.00,2,     2.88,2,    0.009,4,    0.005,2, -999.000,9,-999.0000,9,  -999.00,9,   -999.0,9,   -999.0,9,  -999.00,9,-999.0000,-999.000,  1.7088,-999.000
      325023_1,  P14N,    55,  1,      9,      9,2,19930721,1027, 35.0033, 179.0008, 3907,   2439.6,   1.7688,  34.6243,2,  34.6233,2,   -999.0,9,     89.8,2,   165.58,2,    39.13,2,     0.00,2,     2.83,2, -999.000,5, -999.000,5, -999.000,9,-999.0000,9,  -999.00,9,   -999.0,9,   -999.0,9,  -999.00,9,-999.0000,-999.000,  1.5983,-999.000
      325023_1,  P14N,    55,  1,      8,      8,2,19930721,1027, 35.0033, 179.0008, 3907,   2644.0,   1.6747,  34.6397,2,  34.6392,2,   -999.0,9,    102.6,2,   164.02,2,    38.39,2,     0.00,2,     2.77,2, -999.000,5, -999.000,5, -999.000,9,-999.0000,9,  -999.00,9,   -999.0,9,   -999.0,9,  -999.00,9,-999.0000,-999.000,  1.4875,-999.000
      325023_1,  P14N,    55,  1,      7,      7,2,19930721,1027, 35.0033, 179.0008, 3907,   2848.6,   1.6095,  34.6498,2,  34.6492,2,   -999.0,9,    112.7,2,   162.68,2,    37.73,2,     0.00,2,     2.72,2,   -0.003,2,    0.000,2, -999.000,9,-999.0000,9,  -999.00,9,   -999.0,9,   -999.0,9,  -999.00,9,-999.0000,-999.000,  1.4048,-999.000
      325023_1,  P14N,    55,  1,      6,      6,2,19930721,1027, 35.0033, 179.0008, 3907,   3053.0,   1.5652,  34.6580,2,  34.6584,2,   -999.0,9,    120.5,2,   161.55,2,    37.35,2,     0.00,2,     2.69,2, -999.000,5, -999.000,5, -999.000,9,-999.0000,9,  -999.00,9,   -999.0,9,   -999.0,9,  -999.00,9,-999.0000,-999.000,  1.3420,-999.000
      325023_1,  P14N,    55,  1,      5,      5,2,19930721,1027, 35.0033, 179.0008, 3907,   3257.4,   1.5146,  34.6668,2,  34.6649,2,   -999.0,9,    129.9,2,   160.42,2,    36.78,2,     0.00,2,     2.64,2, -999.000,5, -999.000,5, -999.000,9,-999.0000,9,  -999.00,9,   -999.0,9,   -999.0,9,  -999.00,9,-999.0000,-999.000,  1.2725,-999.000
      325023_1,  P14N,    55,  1,      4,      4,2,19930721,1027, 35.0033, 179.0008, 3907,   3462.0,   1.4962,  34.6717,2,  34.6692,2,   -999.0,9,    134.9,2,   159.30,2,    36.44,2,     0.00,2,     2.61,2,    0.001,2,   -0.004,2, -999.000,9,-999.0000,9,  -999.00,9,   -999.0,9,   -999.0,9,  -999.00,9,-999.0000,-999.000,  1.2341,-999.000
      325023_1,  P14N,    55,  1,      3,      3,2,19930721,1027, 35.0033, 179.0008, 3907,   3667.5,   1.4757,  34.6764,2,  34.6754,2,   -999.0,9,    140.5,2,   157.96,2,    36.06,2,     0.00,2,     2.58,2, -999.000,5, -999.000,5, -999.000,9,-999.0000,9,  -999.00,9,   -999.0,9,   -999.0,9,  -999.00,9,-999.0000,-999.000,  1.1929,-999.000
      325023_1,  P14N,    55,  1,      2,      2,2,19930721,1027, 35.0033, 179.0008, 3907,   3871.7,   1.4457,  34.6826,2,  34.6821,2,   -999.0,9,    147.0,2,   156.84,2,    35.67,2,     0.00,2,     2.55,2, -999.000,5, -999.000,5, -999.000,9,-999.0000,9,  -999.00,9,   -999.0,9,   -999.0,9,  -999.00,9,-999.0000,-999.000,  1.1422,-999.000
      325023_1,  P14N,    55,  1,      1,      1,2,19930721,1027, 35.0033, 179.0008, 3907,   4014.5,   1.4399,  34.6854,2,  34.6845,2,   -999.0,9,    149.8,2,   157.40,2,    35.46,2,     0.00,2,     2.53,2,    0.001,2,    0.000,2, -999.000,9,-999.0000,9,  -999.00,9,   -999.0,9,   -999.0,9,  -999.00,9,-999.0000,-999.000,  1.1211,-999.000