BOTTLE,20131125MIRCJHATS
EXPOCODE,SECT_ID,STNNBR,CASTNO,SAMPNO,BTLNBR,BTLNBR_FLAG_W,DATE,TIME,LATITUDE,LONGITUDE,DEPTH,CTDPRS,CTDTMP,CTDSAL,CTDSAL_FLAG_W,SALNTY,SALNTY_FLAG_W,CTDOXY,CTDOXY_FLAG_W,OXYGEN,OXYGEN_FLAG_W,SILCAT,SILCAT_FLAG_W,NITRAT,NITRAT_FLAG_W,NITRIT,NITRIT_FLAG_W,PHSPHT,PHSPHT_FLAG_W,CFC-11,CFC-11_FLAG_W,CFC-12,CFC-12_FLAG_W,TRITUM,TRITUM_FLAG_W,HELIUM,HELIUM_FLAG_W,DELHE3,DELHE3_FLAG_W,TCARBN,TCARBN_FLAG_W,ALKALI,ALKALI_FLAG_W,PH,PH_FLAG_W,HELIER,DELHER,THETA,TRITER
,,,,,,,,,,,,DBAR,ITS-90,PSS-78,,PSS-78,,UMOL/KG,,UMOL/KG,,UMOL/KG,,UMOL/KG,,UMOL/KG,,UMOL/KG,,PMOL/KG,,PMOL/KG,,TU,,NMOL/KG,,PERCNT,,UMOL/KG,,UMOL/KG,,25_DEG,,NMOL/KG,PERCNT,DEG C,TU
      325023_1,  P14N,    15,  1,     34,     34,2,19930710,0608, 52.2572,-178.9995, 3304,      3.2,   5.8257,  33.0308,2,  33.0292,2,   -999.0,9,    286.3,2,    42.76,2,    21.66,2,     0.25,2,     1.83,2,    4.779,2,    2.322,2, -999.000,9,-999.0000,9,  -999.00,9,   -999.0,9,   -999.0,9,  -999.00,9,-999.0000,-999.000,  5.8254,-999.000
      325023_1,  P14N,    15,  1,     33,     33,2,19930710,0608, 52.2572,-178.9995, 3304,     36.8,   5.2681,  33.0749,2,  33.0728,2,   -999.0,9,    267.5,2,    45.69,2,    22.76,2,     0.27,2,     1.93,2,    4.367,2,    2.122,2, -999.000,9,-999.0000,9,  -999.00,9,   -999.0,9,   -999.0,9,  -999.00,9,-999.0000,-999.000,  5.2653,-999.000
      325023_1,  P14N,    15,  1,     32,     32,2,19930710,0608, 52.2572,-178.9995, 3304,     67.3,   4.8928,  33.1557,2,  33.1556,2,   -999.0,9,    243.6,2,    52.06,2,    24.96,2,     0.30,2,     2.07,2, -999.000,5, -999.000,5, -999.000,9,-999.0000,9,  -999.00,9,   -999.0,9,   -999.0,9,  -999.00,9,-999.0000,-999.000,  4.8879,-999.000
      325023_1,  P14N,    15,  1,     31,     31,2,19930710,0608, 52.2572,-178.9995, 3304,     97.5,   4.6257,  33.2062,2,  33.2051,2,   -999.0,9,    227.8,2,    54.75,2,    26.37,2,     0.31,2,     2.14,2,    3.937,2,    1.920,2, -999.000,9,-999.0000,9,  -999.00,9,   -999.0,9,   -999.0,9,  -999.00,9,-999.0000,-999.000,  4.6187,-999.000
      325023_1,  P14N,    15,  1,     30,     30,2,19930710,0608, 52.2572,-178.9995, 3304,    127.9,   4.4783,  33.2469,2,  33.2427,2,   -999.0,9,    220.9,2,    56.99,2,    27.15,2,     0.30,2,     2.19,2,    3.951,2,    1.927,2, -999.000,9,-999.0000,9,  -999.00,9,   -999.0,9,   -999.0,9,  -999.00,9,-999.0000,-999.000,  4.4692,-999.000
      325023_1,  P14N,    15,  1,     29,     29,2,19930710,0608, 52.2572,-178.9995, 3304,    158.1,   4.3541,  33.3123,2,  33.3040,2,   -999.0,9,    202.2,2,    61.29,2,    28.73,2,     0.28,2,     2.29,2,    3.662,2,    1.732,2, -999.000,9,-999.0000,9,  -999.00,9,   -999.0,9,   -999.0,9,  -999.00,9,-999.0000,-999.000,  4.3430,-999.000
      325023_1,  P14N,    15,  1,     28,     28,2,19930710,0608, 52.2572,-178.9995, 3304,    207.9,   3.9315,  33.4073,2,  33.4046,2,   -999.0,9,    195.8,2,    66.97,2,    31.23,2,     0.20,2,     2.41,2,    3.575,2,    1.758,2, -999.000,9,-999.0000,9,  -999.00,9,   -999.0,9,   -999.0,9,  -999.00,9,-999.0000,-999.000,  3.9176,-999.000
      325023_1,  P14N,    15,  1,     27,     27,2,19930710,0608, 52.2572,-178.9995, 3304,    258.0,   3.8714,  33.5494,2,  33.5471,2,   -999.0,9,    158.5,2,    76.79,2,    34.13,2,     0.08,2,     2.58,2, -999.000,5, -999.000,5, -999.000,9,-999.0000,9,  -999.00,9,   -999.0,9,   -999.0,9,  -999.00,9,-999.0000,-999.000,  3.8540,-999.000
      325023_1,  P14N,    15,  1,     26,     26,2,19930710,0608, 52.2572,-178.9995, 3304,    306.4,   3.8449,  33.6730,2,  33.6699,2,   -999.0,9,    124.3,2,    84.32,2,    36.47,2,     0.04,2,     2.72,2,    2.330,2,    1.151,2, -999.000,9,-999.0000,9,  -999.00,9,   -999.0,9,   -999.0,9,  -999.00,9,-999.0000,-999.000,  3.8241,-999.000
      325023_1,  P14N,    15,  1,     25,     25,2,19930710,0608, 52.2572,-178.9995, 3304,    357.0,   3.7097,  33.7867,2,  33.7856,2,   -999.0,9,     95.7,2,    92.08,2,    39.13,2,     0.00,2,     2.89,2, -999.000,5, -999.000,5, -999.000,9,-999.0000,9,  -999.00,9,   -999.0,9,   -999.0,9,  -999.00,9,-999.0000,-999.000,  3.6857,-999.000
      325023_1,  P14N,    15,  1,     24,     24,2,19930710,0608, 52.2572,-178.9995, 3304,    408.9,   3.6700,  33.8796,2,  34.0433,4,   -999.0,9,     72.8,2,    98.93,2,    40.54,2,     0.00,2,     2.97,2,    1.551,2,    0.757,2, -999.000,9,-999.0000,9,  -999.00,9,   -999.0,9,   -999.0,9,  -999.00,9,-999.0000,-999.000,  3.6424,-999.000
      325023_1,  P14N,    15,  1,     23,     23,2,19930710,0608, 52.2572,-178.9995, 3304,    460.3,   3.6269,  33.9536,2,  33.9504,2,   -999.0,9,     56.1,2,   104.88,2,    41.64,2,     0.00,2,     3.03,2, -999.000,5, -999.000,5, -999.000,9,-999.0000,9,  -999.00,9,   -999.0,9,   -999.0,9,  -999.00,9,-999.0000,-999.000,  3.5958,-999.000
      325023_1,  P14N,    15,  1,     22,     22,2,19930710,0608, 52.2572,-178.9995, 3304,    511.3,   3.5550,  34.0088,2,  34.0059,2,   -999.0,9,     49.2,2,   110.14,2,    41.91,2,     0.00,2,     3.05,2,    1.041,2,    0.493,2, -999.000,9,-999.0000,9,  -999.00,9,   -999.0,9,   -999.0,9,  -999.00,9,-999.0000,-999.000,  3.5204,-999.000
      325023_1,  P14N,    15,  1,     21,     21,2,19930710,0608, 52.2572,-178.9995, 3304,    607.7,   3.4798,  34.0915,2,  34.0873,2,   -999.0,9,     34.5,2,   117.49,2,    42.82,2,     0.00,2,     3.11,2, -999.000,5, -999.000,5, -999.000,9,-999.0000,9,  -999.00,9,   -999.0,9,   -999.0,9,  -999.00,9,-999.0000,-999.000,  3.4385,-999.000
      325023_1,  P14N,    15,  1,     20,     20,2,19930710,0608, 52.2572,-178.9995, 3304,    710.8,   3.4012,  34.1593,2,  34.1563,2,   -999.0,9,     23.7,2,   124.64,2,    43.33,2,     0.00,2,     3.14,2, -999.000,5, -999.000,5, -999.000,9,-999.0000,9,  -999.00,9,   -999.0,9,   -999.0,9,  -999.00,9,-999.0000,-999.000,  3.3527,-999.000
      325023_1,  P14N,    15,  1,     19,     19,2,19930710,0608, 52.2572,-178.9995, 3304,    797.2,   3.3087,  34.2038,2,  34.2017,2,   -999.0,9,     20.5,2,   129.70,2,    43.60,2,     0.00,2,     3.15,2, -999.000,5, -999.000,5, -999.000,9,-999.0000,9,  -999.00,9,   -999.0,9,   -999.0,9,  -999.00,9,-999.0000,-999.000,  3.2543,-999.000
      325023_1,  P14N,    15,  1,     18,     18,2,19930710,0608, 52.2572,-178.9995, 3304,    912.2,   3.1632,  34.2601,2,  34.2569,2,   -999.0,9,     17.6,2,   136.65,2,    43.64,2,     0.00,2,     3.16,2, -999.000,5, -999.000,5, -999.000,9,-999.0000,9,  -999.00,9,   -999.0,9,   -999.0,9,  -999.00,9,-999.0000,-999.000,  3.1011,-999.000
      325023_1,  P14N,    15,  1,     17,     17,2,19930710,0608, 52.2572,-178.9995, 3304,   1017.3,   3.0146,  34.3061,2,  34.3035,2,   -999.0,9,     18.1,2,   142.44,2,    43.64,2,     0.00,2,     3.17,2,    0.139,2,    0.066,2, -999.000,9,-999.0000,9,  -999.00,9,   -999.0,9,   -999.0,9,  -999.00,9,-999.0000,-999.000,  2.9456,-999.000
      325023_1,  P14N,    15,  1,     16,     16,2,19930710,0608, 52.2572,-178.9995, 3304,   1118.5,   2.8932,  34.3459,2,  34.3433,2,   -999.0,9,     16.8,2,   148.49,2,    43.64,2,     0.00,2,     3.17,2, -999.000,5, -999.000,5, -999.000,9,-999.0000,9,  -999.00,9,   -999.0,9,   -999.0,9,  -999.00,9,-999.0000,-999.000,  2.8175,-999.000
      325023_1,  P14N,    15,  1,     15,     15,2,19930710,0608, 52.2572,-178.9995, 3304,   1219.8,   2.8037,  34.3718,2,  34.3682,2,   -999.0,9,     16.8,2,   152.67,2,    43.27,2,     0.00,2,     3.17,2, -999.000,5, -999.000,5, -999.000,9,-999.0000,9,  -999.00,9,   -999.0,9,   -999.0,9,  -999.00,9,-999.0000,-999.000,  2.7209,-999.000
      325023_1,  P14N,    15,  1,     14,     14,2,19930710,0608, 52.2572,-178.9995, 3304,   1320.3,   2.6278,  34.4136,2,  34.4119,2,   -999.0,9,     19.7,2,   159.95,2,    43.41,2,     0.00,2,     3.16,2,    0.046,2,    0.016,2, -999.000,9,-999.0000,9,  -999.00,9,   -999.0,9,   -999.0,9,  -999.00,9,-999.0000,-999.000,  2.5389,-999.000
      325023_1,  P14N,    15,  1,     13,     13,2,19930710,0608, 52.2572,-178.9995, 3304,   1421.9,   2.4968,  34.4450,2,  34.4437,2,   -999.0,9,     22.5,2,   165.60,2,    43.18,2,     0.00,2,     3.15,2, -999.000,5, -999.000,5, -999.000,9,-999.0000,9,  -999.00,9,   -999.0,9,   -999.0,9,  -999.00,9,-999.0000,-999.000,  2.4012,-999.000
      325023_1,  P14N,    15,  1,     12,     12,2,19930710,0608, 52.2572,-178.9995, 3304,   1523.3,   2.3862,  34.4719,2,  34.4706,2,   -999.0,9,     25.1,2,   170.30,2,    43.09,2,     0.00,2,     3.15,2,    0.015,2,    0.021,3, -999.000,9,-999.0000,9,  -999.00,9,   -999.0,9,   -999.0,9,  -999.00,9,-999.0000,-999.000,  2.2838,-999.000
      325023_1,  P14N,    15,  1,     11,     11,2,19930710,0608, 52.2572,-178.9995, 3304,   1624.5,   2.2637,  34.4998,2,  34.4980,2,   -999.0,9,     29.8,2,   176.71,2,    42.72,2,     0.00,2,     3.13,2, -999.000,5, -999.000,5, -999.000,9,-999.0000,9,  -999.00,9,   -999.0,9,   -999.0,9,  -999.00,9,-999.0000,-999.000,  2.1548,-999.000
      325023_1,  P14N,    15,  1,     10,     10,2,19930710,0608, 52.2572,-178.9995, 3304,   1828.7,   2.0667,  34.5446,2,  34.5427,2,   -999.0,9,     39.3,2,   186.56,2,    41.85,2,     0.00,2,     3.10,2, -999.000,5, -999.000,5, -999.000,9,-999.0000,9,  -999.00,9,   -999.0,9,   -999.0,9,  -999.00,9,-999.0000,-999.000,  1.9437,-999.000
      325023_1,  P14N,    15,  1,      9,      9,2,19930710,0608, 52.2572,-178.9995, 3304,   2033.5,   1.9204,  34.5774,2,  34.5759,2,   -999.0,9,     49.7,2,   194.54,2,    41.07,2,     0.00,2,     3.07,2,    0.009,2,    0.014,3, -999.000,9,-999.0000,9,  -999.00,9,   -999.0,9,   -999.0,9,  -999.00,9,-999.0000,-999.000,  1.7825,-999.000
      325023_1,  P14N,    15,  1,      8,      8,2,19930710,0608, 52.2572,-178.9995, 3304,   2237.7,   1.8166,  34.6002,2,  34.5990,2,   -999.0,9,     59.2,2,   201.84,2,    40.38,2,     0.00,2,     3.07,4,    0.002,2,   -0.001,2, -999.000,9,-999.0000,9,  -999.00,9,   -999.0,9,   -999.0,9,  -999.00,9,-999.0000,-999.000,  1.6630,-999.000
      325023_1,  P14N,    15,  1,      7,      7,2,19930710,0608, 52.2572,-178.9995, 3304,   2443.4,   1.7228,  34.6214,2,  34.6210,2,   -999.0,9,     69.9,2,   207.70,2,    39.52,2,     0.00,2,     3.01,2,    0.005,2,    0.005,2, -999.000,9,-999.0000,9,  -999.00,9,   -999.0,9,   -999.0,9,  -999.00,9,-999.0000,-999.000,  1.5529,-999.000
      325023_1,  P14N,    15,  1,      6,      6,2,19930710,0608, 52.2572,-178.9995, 3304,   2647.7,   1.6750,  34.6330,2,  34.6328,2,   -999.0,9,     76.8,2,   210.85,2,    39.02,2,     0.00,2,     2.98,2,    0.003,2,    0.005,2, -999.000,9,-999.0000,9,  -999.00,9,   -999.0,9,   -999.0,9,  -999.00,9,-999.0000,-999.000,  1.4875,-999.000
      325023_1,  P14N,    15,  1,      5,      5,2,19930710,0608, 52.2572,-178.9995, 3304,   2852.3,   1.6423,  34.6428,2,  34.6418,2,   -999.0,9,     82.3,2,   212.76,2,    38.66,2,     0.00,2,     2.96,2,   -0.002,2,   -0.001,2, -999.000,9,-999.0000,9,  -999.00,9,   -999.0,9,   -999.0,9,  -999.00,9,-999.0000,-999.000,  1.4365,-999.000
      325023_1,  P14N,    15,  1,      4,      4,2,19930710,0608, 52.2572,-178.9995, 3304,   3056.7,   1.6022,  34.6532,2,  34.6518,2,   -999.0,9,     89.8,2,   215.42,2,    37.97,2,     0.00,2,     2.93,2,    0.002,2,    0.010,2, -999.000,9,-999.0000,9,  -999.00,9,   -999.0,9,   -999.0,9,  -999.00,9,-999.0000,-999.000,  1.3778,-999.000
      325023_1,  P14N,    15,  1,      3,      3,2,19930710,0608, 52.2572,-178.9995, 3304,   3261.6,   1.5829,  34.6602,2,  34.6593,2,   -999.0,9,     93.6,2,   221.63,2,    37.66,2,     0.00,2,     2.93,2,    0.006,2,    0.005,2, -999.000,9,-999.0000,9,  -999.00,9,   -999.0,9,   -999.0,9,  -999.00,9,-999.0000,-999.000,  1.3389,-999.000
      325023_1,  P14N,    15,  1,      2,      2,2,19930710,0608, 52.2572,-178.9995, 3304,   3347.8,   1.5719,  34.6640,2,  34.6634,2,   -999.0,9,     95.3,2,   227.12,2,    37.52,2,     0.00,2,     2.92,2, -999.000,5, -999.000,5, -999.000,9,-999.0000,9,  -999.00,9,   -999.0,9,   -999.0,9,  -999.00,9,-999.0000,-999.000,  1.3195,-999.000
      325023_1,  P14N,    15,  1,      1,      1,2,19930710,0608, 52.2572,-178.9995, 3304,   3347.8,   1.5720,  34.6640,2,  34.6638,2,   -999.0,9,     95.3,2,   227.53,2,    37.52,2,     0.00,2,     2.92,2,    0.004,2,    0.008,2, -999.000,9,-999.0000,9,  -999.00,9,   -999.0,9,   -999.0,9,  -999.00,9,-999.0000,-999.000,  1.3196,-999.000