BOTTLE,20131125MIRCJHATS
EXPOCODE,SECT_ID,STNNBR,CASTNO,SAMPNO,BTLNBR,BTLNBR_FLAG_W,DATE,TIME,LATITUDE,LONGITUDE,DEPTH,CTDPRS,CTDTMP,CTDSAL,CTDSAL_FLAG_W,SALNTY,SALNTY_FLAG_W,CTDOXY,CTDOXY_FLAG_W,OXYGEN,OXYGEN_FLAG_W,SILCAT,SILCAT_FLAG_W,NITRAT,NITRAT_FLAG_W,NITRIT,NITRIT_FLAG_W,PHSPHT,PHSPHT_FLAG_W,CFC-11,CFC-11_FLAG_W,CFC-12,CFC-12_FLAG_W,TRITUM,TRITUM_FLAG_W,HELIUM,HELIUM_FLAG_W,DELHE3,DELHE3_FLAG_W,TCARBN,TCARBN_FLAG_W,ALKALI,ALKALI_FLAG_W,PH,PH_FLAG_W,HELIER,DELHER,THETA,TRITER
,,,,,,,,,,,,DBAR,ITS-90,PSS-78,,PSS-78,,UMOL/KG,,UMOL/KG,,UMOL/KG,,UMOL/KG,,UMOL/KG,,UMOL/KG,,PMOL/KG,,PMOL/KG,,TU,,NMOL/KG,,PERCNT,,UMOL/KG,,UMOL/KG,,25_DEG,,NMOL/KG,PERCNT,DEG C,TU
      325024_1,  P14N,   151,  1,     35,     35,2,19930821,0041, -1.9985, 178.9987, 5448,      2.1,  30.2746,  34.7946,2,  34.8050,2,   -999.0,9,    194.2,2,     2.37,2,     0.03,2,     0.00,2,     0.21,2, -999.000,5, -999.000,5, -999.000,9,-999.0000,9,  -999.00,9,   1929.0,2,   2293.0,2,     8.11,2,-999.0000,-999.000, 30.2740,-999.000
      325024_1,  P14N,   151,  1,     36,     36,2,19930821,0041, -1.9985, 178.9987, 5448,      2.2,  30.3607,  34.8022,2,  34.8105,2,   -999.0,9,    194.1,2,     2.42,2,     0.04,2,     0.00,2,     0.21,2,    1.571,2,    0.808,3, -999.000,9,-999.0000,9,  -999.00,9,   1930.0,2,   2294.0,2,     8.11,2,-999.0000,-999.000, 30.3602,-999.000
      325024_1,  P14N,   151,  1,     34,     34,2,19930821,0041, -1.9985, 178.9987, 5448,     39.9,  30.0133,  34.8406,2,  34.8448,2,   -999.0,9,    195.7,2,     2.13,2,     0.03,2,     0.00,2,     0.21,2,    1.566,2,    0.858,2, -999.000,9,-999.0000,9,  -999.00,9,   1931.0,2,   2295.0,2,     8.12,2,-999.0000,-999.000, 30.0034,-999.000
      325024_1,  P14N,   151,  1,     33,     33,2,19930821,0041, -1.9985, 178.9987, 5448,     69.4,  29.9221,  34.8842,2,  34.8878,2,   -999.0,9,    195.6,2,     2.08,2,     0.03,2,     0.00,2,     0.21,2,    1.555,2,    0.853,2, -999.000,9,-999.0000,9,  -999.00,9,   1933.0,2,   2298.0,2,     8.12,2,-999.0000,-999.000, 29.9049,-999.000
      325024_1,  P14N,   151,  1,     32,     32,2,19930821,0041, -1.9985, 178.9987, 5448,     99.1,  29.0464,  35.2723,2,  35.2802,2,   -999.0,9,    189.6,2,     2.24,2,     0.97,2,     0.58,2,     0.38,2,    1.604,3,    0.788,2, -999.000,9,-999.0000,9,  -999.00,9,   1985.0,2,   2322.0,2,     8.06,2,-999.0000,-999.000, 29.0223,-999.000
      325024_1,  P14N,   151,  1,     31,     31,2,19930821,0041, -1.9985, 178.9987, 5448,    129.4,  25.2687,  35.7729,2,  35.7753,2,   -999.0,9,    134.4,2,     2.98,2,     8.77,2,     0.38,2,     0.85,2,    1.666,2,    0.878,2, -999.000,9,-999.0000,9,  -999.00,9,   2074.0,2,   2352.0,2,     7.95,2,-999.0000,-999.000, 25.2404,-999.000
      325024_1,  P14N,   151,  1,     30,     30,2,19930821,0041, -1.9985, 178.9987, 5448,    159.8,  19.2704,  35.4989,2,  35.5160,2,   -999.0,9,    129.4,2,     4.91,2,    11.08,2,     0.01,2,     0.93,2,    1.402,6,    0.726,6, -999.000,9,-999.0000,9,  -999.00,9,   2106.0,2,   2336.0,2,     7.88,2,-999.0000,-999.000, 19.2416,-999.000
      325024_1,  P14N,   151,  1,     29,     29,2,19930821,0041, -1.9985, 178.9987, 5448,    210.3,  15.1420,  35.1280,2,  35.1275,2,   -999.0,9,    136.1,2,    11.19,2,    15.63,2,     0.01,2,     1.22,2,    1.070,2,    0.540,2, -999.000,9,-999.0000,9,  -999.00,9,   2131.0,2,   2317.0,2,     7.79,2,-999.0000,-999.000, 15.1099,-999.000
      325024_1,  P14N,   151,  1,     28,     28,2,19930821,0041, -1.9985, 178.9987, 5448,    260.4,  11.3833,  34.8268,2,  34.8399,2,   -999.0,9,    111.8,2,    20.23,2,    23.78,2,     0.00,2,     1.72,2,    0.545,2,    0.272,2, -999.000,9,-999.0000,9,  -999.00,9,   2177.0,2,   2305.0,2,     7.65,2,-999.0000,-999.000, 11.3504,-999.000
      325024_1,  P14N,   151,  1,     27,     27,2,19930821,0041, -1.9985, 178.9987, 5448,    310.0,  10.6510,  34.7664,2,  34.7637,2,   -999.0,9,     76.2,2,    26.50,2,    28.97,2,     0.00,2,     2.06,2,    0.292,2,    0.145,2, -999.000,9,-999.0000,9,  -999.00,9,   2214.0,2,   2307.0,2,     7.57,2,-999.0000,-999.000, 10.6135,-999.000
      325024_1,  P14N,   151,  1,     26,     26,2,19930821,0041, -1.9985, 178.9987, 5448,    409.8,   9.8323,  34.7118,2,  34.7103,2,   -999.0,9,     71.0,2,    30.20,2,    31.08,2,     0.00,2,     2.20,2,    0.193,2,    0.090,2, -999.000,9,-999.0000,9,  -999.00,9,   2225.0,2,   2305.0,2,     7.53,2,-999.0000,-999.000,  9.7849,-999.000
      325024_1,  P14N,   151,  1,     25,     25,2,19930821,0041, -1.9985, 178.9987, 5448,    510.1,   7.7253,  34.6037,2,  34.5975,2,   -999.0,9,     84.6,2,    39.24,2,    34.31,2,     0.00,2,     2.42,2,    0.063,2,    0.031,2, -999.000,9,-999.0000,9,  -999.00,9,   2239.0,2,   2310.0,2,     7.51,2,-999.0000,-999.000,  7.6740,-999.000
      325024_1,  P14N,   151,  1,     24,     24,2,19930821,0041, -1.9985, 178.9987, 5448,    609.9,   6.6632,  34.5670,2,  34.5665,2,   -999.0,9,     67.6,2,    53.41,2,    38.08,2,     0.00,2,     2.69,2,    0.011,2,   -0.001,2, -999.000,9,-999.0000,9,  -999.00,9,   2266.0,2,   2322.0,2,     7.45,2,-999.0000,-999.000,  6.6064,-999.000
      325024_1,  P14N,   151,  1,     23,     23,2,19930821,0041, -1.9985, 178.9987, 5448,    710.2,   6.1362,  34.5548,2,  34.5526,2,   -999.0,9,     69.8,2,    59.69,2,    38.67,2,     0.00,2,     2.75,2,    0.008,2,    0.000,2, -999.000,9,-999.0000,9,  -999.00,9,   2277.0,2,   2328.0,2,     7.47,2,-999.0000,-999.000,  6.0723,-999.000
      325024_1,  P14N,   151,  1,     22,     22,2,19930821,0041, -1.9985, 178.9987, 5448,    810.1,   5.7541,  34.5389,2,  34.5384,2,   -999.0,9,     92.8,2,    60.41,2,    36.87,2,     0.00,2,     2.63,2,    0.010,2,    0.001,2, -999.000,9,-999.0000,9,  -999.00,9,   2267.0,2,   2329.0,2,     7.48,2,-999.0000,-999.000,  5.6831,-999.000
      325024_1,  P14N,   151,  1,     21,     21,2,19930821,0041, -1.9985, 178.9987, 5448,    910.1,   5.1912,  34.5434,2,  34.5398,2,   -999.0,9,     89.7,2,    68.67,2,    38.08,2,     0.00,2,     2.72,2,    0.003,2,    0.000,2, -999.000,9,-999.0000,9,  -999.00,9,   2278.0,2,   2337.0,2,     7.48,2,-999.0000,-999.000,  5.1145,-999.000
      325024_1,  P14N,   151,  1,     20,     20,2,19930821,0041, -1.9985, 178.9987, 5448,   1010.8,   4.5444,  34.5491,2,  34.5486,2,   -999.0,9,     94.3,2,    82.71,2,    38.13,2,     0.00,2,     2.73,2,   -0.002,2,    0.000,2, -999.000,9,-999.0000,9,  -999.00,9,   2292.0,2,   2354.0,2,     7.47,2,-999.0000,-999.000,  4.4636,-999.000
      325024_1,  P14N,   151,  1,     19,     19,2,19930821,0041, -1.9985, 178.9987, 5448,   1211.5,   3.8810,  34.5673,2,  34.5657,2,   -999.0,9,     97.2,2,    96.82,2,    38.40,2,     0.00,2,     2.75,2,   -0.001,2,    0.003,2, -999.000,9,-999.0000,9,  -999.00,9,   2308.0,2,   2371.0,2,     7.49,2,-999.0000,-999.000,  3.7883,-999.000
      325024_1,  P14N,   151,  1,     18,     18,2,19930821,0041, -1.9985, 178.9987, 5448,   1411.7,   3.3517,  34.5852,2,  34.5839,2,   -999.0,9,    102.4,2,   107.99,2,    38.26,2,     0.00,2,     2.75,2,    0.075,4,    0.036,4, -999.000,9,-999.0000,9,  -999.00,9,   2317.0,2,   2382.0,2,     7.48,2,-999.0000,-999.000,  3.2473,-999.000
      325024_1,  P14N,   151,  1,     17,     17,2,19930821,0041, -1.9985, 178.9987, 5448,   1613.2,   2.8593,  34.6065,2,  34.6049,2,   -999.0,9,    106.2,2,   119.65,2,    38.18,2,     0.00,2,     2.73,2, -999.000,5, -999.000,5, -999.000,9,-999.0000,9,  -999.00,9,   2328.0,2,   2395.0,2,     7.49,2,-999.0000,-999.000,  2.7436,-999.000
      325024_1,  P14N,   151,  1,     16,     16,2,19930821,0041, -1.9985, 178.9987, 5448,   1813.6,   2.4317,  34.6282,2,  34.6265,2,   -999.0,9,    111.1,2,   130.18,2,    38.00,2,     0.00,2,     2.71,2, -999.000,5, -999.000,5, -999.000,9,-999.0000,9,  -999.00,9,   2336.0,2,   2407.0,2,     7.48,2,-999.0000,-999.000,  2.3047,-999.000
      325024_1,  P14N,   151,  1,     15,     15,2,19930821,0041, -1.9985, 178.9987, 5448,   2015.1,   2.2233,  34.6417,2,  34.6398,2,   -999.0,9,    112.2,2,   137.28,2,    38.09,2,     0.00,2,     2.70,2,    0.000,2,    0.001,2, -999.000,9,-999.0000,9,  -999.00,9,   2345.0,2,   2418.0,2,     7.51,2,-999.0000,-999.000,  2.0821,-999.000
      325024_1,  P14N,   151,  1,     14,     14,2,19930821,0041, -1.9985, 178.9987, 5448,   2217.4,   2.0366,  34.6493,2,  34.6486,2,   -999.0,9,    119.7,2,   139.25,2,    37.55,2,     0.00,2,     2.66,2, -999.000,5, -999.000,5, -999.000,9,-999.0000,9,  -999.00,9,   2340.0,2,   2418.0,2,     7.51,2,-999.0000,-999.000,  1.8809,-999.000
      325024_1,  P14N,   151,  1,     13,     13,2,19930821,0041, -1.9985, 178.9987, 5448,   2419.8,   1.9008,  34.6576,2,  34.6561,2,   -999.0,9,    124.3,2,   142.47,2,    37.37,2,     0.00,2,     2.64,2, -999.000,5, -999.000,5, -999.000,9,-999.0000,9,  -999.00,9,   2341.0,2,   2421.0,2,     7.53,2,-999.0000,-999.000,  1.7296,-999.000
      325024_1,  P14N,   151,  1,     12,     12,2,19930821,0041, -1.9985, 178.9987, 5448,   2622.7,   1.8032,  34.6625,2,  34.6614,2,   -999.0,9,    128.5,2,   144.24,2,    37.02,2,     0.00,2,     2.60,2, -999.000,5, -999.000,5, -999.000,9,-999.0000,9,  -999.00,9,   2338.0,2,   2421.0,2,     7.53,2,-999.0000,-999.000,  1.6154,-999.000
      325024_1,  P14N,   151,  1,     11,     11,2,19930821,0041, -1.9985, 178.9987, 5448,   2824.3,   1.7214,  34.6666,2,  34.6649,2,   -999.0,9,    132.0,2,   145.39,2,    36.79,2,     0.00,2,     2.59,2, -999.000,5, -999.000,5, -999.000,9,-999.0000,9,  -999.00,9,   2339.0,2,   2428.0,2,     7.52,2,-999.0000,-999.000,  1.5165,-999.000
      325024_1,  P14N,   151,  1,     10,     10,2,19930821,0041, -1.9985, 178.9987, 5448,   3027.0,   1.6341,  34.6726,2,  34.6717,2,   -999.0,9,    140.1,2,   144.87,2,    36.40,2,     0.00,2,     2.54,2,   -0.003,2,    0.001,2, -999.000,9,-999.0000,9,  -999.00,9,   2330.0,2,   2422.0,2,     7.55,2,-999.0000,-999.000,  1.4118,-999.000
      325024_1,  P14N,   151,  1,      9,      9,2,19930821,0041, -1.9985, 178.9987, 5448,   3332.0,   1.5448,  34.6780,2,  34.6765,2,   -999.0,9,    144.9,2,   145.61,2,    36.04,2,     0.00,2,     2.52,2, -999.000,5, -999.000,5, -999.000,9,-999.0000,9,  -999.00,9,   2328.0,2,   2419.0,2,     7.54,2,-999.0000,-999.000,  1.2945,-999.000
      325024_1,  P14N,   151,  1,      8,      8,2,19930821,0041, -1.9985, 178.9987, 5448,   3637.7,   1.4694,  34.6857,2,  34.6839,2,   -999.0,9,    155.9,2,   141.98,2,    35.33,2,     0.00,2,     2.46,2, -999.000,5, -999.000,5, -999.000,9,-999.0000,9,  -999.00,9,   2322.0,2,   2419.0,2,     7.58,2,-999.0000,-999.000,  1.1899,-999.000
      325024_1,  P14N,   151,  1,      7,      7,2,19930821,0041, -1.9985, 178.9987, 5448,   3942.5,   1.4271,  34.6906,2,  34.6890,2,   -999.0,9,    163.3,2,   140.64,2,    34.85,2,     0.00,2,     2.42,2,   -0.001,2,   -0.001,2, -999.000,9,-999.0000,9,  -999.00,9,   2318.0,2,   2417.0,2,     7.57,2,-999.0000,-999.000,  1.1165,-999.000
      325024_1,  P14N,   151,  1,      6,      6,2,19930821,0041, -1.9985, 178.9987, 5448,   4249.0,   1.3322,  34.6966,2,  34.6957,2,   -999.0,9,    175.9,2,   134.78,2,    33.93,2,     0.00,2,     2.36,2, -999.000,5, -999.000,5, -999.000,9,-999.0000,9,  -999.00,9,   2302.0,2,   2406.0,2,     7.59,2,-999.0000,-999.000,  0.9907,-999.000
      325024_1,  P14N,   151,  1,      5,      5,2,19930821,0041, -1.9985, 178.9987, 5448,   4555.3,   1.2666,  34.7018,2,  34.7002,2,   -999.0,9,    187.4,2,   128.75,2,    33.02,2,     0.00,2,     2.29,2, -999.000,5, -999.000,5, -999.000,9,-999.0000,9,  -999.00,9,   2288.0,2,   2393.0,2,     7.58,2,-999.0000,-999.000,  0.8924,-999.000
      325024_1,  P14N,   151,  1,      4,      4,2,19930821,0041, -1.9985, 178.9987, 5448,   4862.3,   1.2553,  34.7037,2,  34.7025,2,   -999.0,9,    190.3,2,   127.03,2,    32.84,2,     0.00,2,     2.28,2, -999.000,5, -999.000,5, -999.000,9,-999.0000,9,  -999.00,9,   2284.0,2,   2387.0,2,     7.59,2,-999.0000,-999.000,  0.8457,-999.000
      325024_1,  P14N,   151,  1,      3,      3,2,19930821,0041, -1.9985, 178.9987, 5448,   5168.5,   1.2628,  34.7045,2,  34.7033,2,   -999.0,9,    194.3,2,   125.31,2,    32.50,2,     0.00,2,     2.26,2,   -0.002,2,   -0.001,2, -999.000,9,-999.0000,9,  -999.00,9,   -999.0,9,   -999.0,9,  -999.00,9,-999.0000,-999.000,  0.8160,-999.000
      325024_1,  P14N,   151,  1,      2,      2,2,19930821,0041, -1.9985, 178.9987, 5448,   5475.7,   1.2925,  34.7050,2,  34.7045,2,   -999.0,9,    195.4,2,   124.81,2,    32.41,2,     0.00,2,     2.26,2, -999.000,5, -999.000,5, -999.000,9,-999.0000,9,  -999.00,9,   2275.0,2,   2379.0,2,     7.59,2,-999.0000,-999.000,  0.8065,-999.000
      325024_1,  P14N,   151,  1,      1,      1,2,19930821,0041, -1.9985, 178.9987, 5448,   5529.4,   1.2995,  34.7048,2,  34.7047,2,   -999.0,9,    194.3,2,   124.92,2,    32.41,2,     0.00,2,     2.25,2,    0.000,2,    0.002,2, -999.000,9,-999.0000,9,  -999.00,9,   2276.0,2,   2385.0,2,     7.59,2,-999.0000,-999.000,  0.8064,-999.000