BOTTLE,20131125MIRCJHATS
EXPOCODE,SECT_ID,STNNBR,CASTNO,SAMPNO,BTLNBR,BTLNBR_FLAG_W,DATE,TIME,LATITUDE,LONGITUDE,DEPTH,CTDPRS,CTDTMP,CTDSAL,CTDSAL_FLAG_W,SALNTY,SALNTY_FLAG_W,CTDOXY,CTDOXY_FLAG_W,OXYGEN,OXYGEN_FLAG_W,SILCAT,SILCAT_FLAG_W,NITRAT,NITRAT_FLAG_W,NITRIT,NITRIT_FLAG_W,PHSPHT,PHSPHT_FLAG_W,CFC-11,CFC-11_FLAG_W,CFC-12,CFC-12_FLAG_W,TRITUM,TRITUM_FLAG_W,HELIUM,HELIUM_FLAG_W,DELHE3,DELHE3_FLAG_W,TCARBN,TCARBN_FLAG_W,ALKALI,ALKALI_FLAG_W,PH,PH_FLAG_W,HELIER,DELHER,THETA,TRITER
,,,,,,,,,,,,DBAR,ITS-90,PSS-78,,PSS-78,,UMOL/KG,,UMOL/KG,,UMOL/KG,,UMOL/KG,,UMOL/KG,,UMOL/KG,,PMOL/KG,,PMOL/KG,,TU,,NMOL/KG,,PERCNT,,UMOL/KG,,UMOL/KG,,25_DEG,,NMOL/KG,PERCNT,DEG C,TU
      325023_1,  P14N,    31,  1,     35,     35,4,19930713,2028, 47.0017, 179.0002, 5663,      3.7,   8.1000,  32.8445,2,  32.8432,2,   -999.0,9,    315.1,2,    30.96,2,    16.51,2,     0.21,2,     1.47,2,    4.790,2,    2.317,2, -999.000,9,-999.0000,9,  -999.00,9,   2043.6,2,   2222.1,2,     7.86,2,-999.0000,-999.000,  8.0996,-999.000
      325023_1,  P14N,    31,  1,     34,     34,4,19930713,2028, 47.0017, 179.0002, 5663,     39.5,   5.3054,  32.9464,2,  32.9789,2,   -999.0,9,    318.5,2,    42.46,2,    20.79,2,     0.23,2,     1.84,2,    5.578,2,    2.696,2, -999.000,9,-999.0000,9,  -999.00,9,   2089.4,2,   2221.7,2,     7.75,2,-999.0000,-999.000,  5.3024,-999.000
      325023_1,  P14N,    31,  1,     33,     33,4,19930713,2028, 47.0017, 179.0002, 5663,     69.8,   3.1242,  33.0402,2,  33.0405,2,   -999.0,9,    311.4,2,    45.96,2,    23.74,2,     0.60,2,     1.99,2,    5.653,2,    2.708,2, -999.000,9,-999.0000,9,  -999.00,9,   2111.7,2,   2232.6,2,     7.70,2,-999.0000,-999.000,  3.1201,-999.000
      325023_1,  P14N,    31,  1,     32,     32,4,19930713,2028, 47.0017, 179.0002, 5663,    100.1,   2.7710,  33.2664,2,  33.2525,2,   -999.0,9,    265.7,2,    55.85,2,    28.20,2,     0.01,2,     2.21,2,    5.114,2,    2.460,2, -999.000,9,-999.0000,9,  -999.00,9,   2157.9,2,   2237.8,2,  -999.00,9,-999.0000,-999.000,  2.7653,-999.000
      325023_1,  P14N,    31,  1,     31,     31,4,19930713,2028, 47.0017, 179.0002, 5663,    130.0,   2.9871,  33.6090,2,  33.6062,2,   -999.0,9,    161.0,2,    75.97,2,    35.39,2,     0.01,2,     2.64,2,    3.546,2,    1.626,2, -999.000,9,-999.0000,9,  -999.00,9,   2240.9,2,   2273.7,2,  -999.00,9,-999.0000,-999.000,  2.9794,-999.000
      325023_1,  P14N,    31,  1,     30,     30,4,19930713,2028, 47.0017, 179.0002, 5663,    160.0,   3.1146,  33.7099,2,  33.7069,2,   -999.0,9,    126.1,2,    84.10,2,    37.77,2,     0.01,2,     2.79,2,    2.923,2,    1.337,2, -999.000,9,-999.0000,9,  -999.00,9,   2266.2,2,   2277.3,2,     7.38,2,-999.0000,-999.000,  3.1048,-999.000
      325023_1,  P14N,    31,  1,     29,     29,4,19930713,2028, 47.0017, 179.0002, 5663,    210.6,   3.1928,  33.7996,2,  33.7955,2,   -999.0,9,     90.9,2,    93.66,2,    40.53,2,     0.01,2,     2.95,2,    2.317,2,    1.018,2, -999.000,9,-999.0000,9,  -999.00,9,   2294.1,2,   2293.0,2,  -999.00,9,-999.0000,-999.000,  3.1798,-999.000
      325023_1,  P14N,    31,  1,     28,     28,4,19930713,2028, 47.0017, 179.0002, 5663,    261.1,   3.3212,  33.8937,2,  33.8893,2,   -999.0,9,     65.3,2,   102.04,2,    42.15,2,     0.01,2,     3.05,2,    1.731,2,    0.757,2, -999.000,9,-999.0000,9,  -999.00,9,   2313.7,2,   2295.7,2,     7.30,2,-999.0000,-999.000,  3.3046,-999.000
      325023_1,  P14N,    31,  1,     27,     27,4,19930713,2028, 47.0017, 179.0002, 5663,    310.4,   3.3861,  33.9670,2,  33.9638,2,   -999.0,9,     50.1,2,   108.22,2,    43.08,2,     0.00,2,     3.10,2,    1.298,6,    0.567,6, -999.000,9,-999.0000,9,  -999.00,9,   2324.4,2,   2313.3,2,  -999.00,9,-999.0000,-999.000,  3.3660,-999.000
      325023_1,  P14N,    31,  1,     26,     26,4,19930713,2028, 47.0017, 179.0002, 5663,    408.6,   3.3647,  34.0899,2,  34.0857,2,   -999.0,9,     33.1,2,   120.14,2,    43.78,2,     0.00,2,     3.15,2,    0.714,2,    0.308,2, -999.000,9,-999.0000,9,  -999.00,9,   2344.2,2,   2322.1,2,     7.28,2,-999.0000,-999.000,  3.3380,-999.000
      325023_1,  P14N,    31,  1,     25,     25,4,19930713,2028, 47.0017, 179.0002, 5663,    504.1,   3.2751,  34.1735,2,  34.1706,2,   -999.0,9,     26.8,2,   128.44,2,    43.93,2,     0.00,2,     3.16,2,    0.445,2,    0.209,2, -999.000,9,-999.0000,9,  -999.00,9,   2354.7,2,   2344.6,2,  -999.00,9,-999.0000,-999.000,  3.2421,-999.000
      325023_1,  P14N,    31,  1,     24,     24,2,19930713,2028, 47.0017, 179.0002, 5663,    600.6,   3.1655,  34.2398,2,-999.0000,9,   -999.0,9,   -999.0,9,  -999.00,9,  -999.00,9,  -999.00,9,  -999.00,9, -999.000,5, -999.000,5, -999.000,9,-999.0000,9,  -999.00,9,   -999.0,9,   -999.0,9,  -999.00,9,-999.0000,-999.000,  3.1261,-999.000
      325023_1,  P14N,    31,  1,     23,     23,4,19930713,2028, 47.0017, 179.0002, 5663,    708.5,   2.9880,  34.3019,2,  34.2983,2,   -999.0,9,     23.5,2,   144.09,2,    44.03,2,     0.00,2,     3.16,2,    0.169,2,    0.109,3, -999.000,9,-999.0000,9,  -999.00,9,   2371.0,2,   2362.0,2,  -999.00,9,-999.0000,-999.000,  2.9419,-999.000
      325023_1,  P14N,    31,  1,     22,     22,4,19930713,2028, 47.0017, 179.0002, 5663,    816.3,   2.8433,  34.3467,2,  34.3434,2,   -999.0,9,     23.5,2,   150.25,2,    44.04,2,     0.00,2,     3.16,2,    0.111,2,    0.046,3, -999.000,9,-999.0000,9,  -999.00,9,   2375.6,2,   2372.4,2,     7.30,2,-999.0000,-999.000,  2.7903,-999.000
      325023_1,  P14N,    31,  1,     21,     21,4,19930713,2028, 47.0017, 179.0002, 5663,    916.7,   2.7150,  34.3858,2,  34.3820,2,   -999.0,9,     25.3,2,   154.54,2,    44.00,2,     0.00,2,     3.15,2,    0.088,2,    0.028,3, -999.000,9,-999.0000,9,  -999.00,9,   2380.5,2,   2378.7,2,  -999.00,9,-999.0000,-999.000,  2.6556,-999.000
      325023_1,  P14N,    31,  1,     20,     20,4,19930713,2028, 47.0017, 179.0002, 5663,   1017.7,   2.6006,  34.4211,2,  34.4165,2,   -999.0,9,     27.6,2,   157.79,2,    43.96,2,     0.00,2,     3.14,2,    0.053,2,    0.012,3, -999.000,9,-999.0000,9,  -999.00,9,   2384.1,2,   2384.4,2,     7.32,2,-999.0000,-999.000,  2.5347,-999.000
      325023_1,  P14N,    31,  1,     19,     19,4,19930713,2028, 47.0017, 179.0002, 5663,   1221.2,   2.3771,  34.4741,2,  34.4714,2,   -999.0,9,     34.1,2,   164.90,2,    43.74,2,     0.00,2,     3.11,2,    0.030,2,    0.010,3, -999.000,9,-999.0000,9,  -999.00,9,   2386.8,2,   2394.4,2,  -999.00,9,-999.0000,-999.000,  2.2980,-999.000
      325023_1,  P14N,    31,  1,     18,     18,4,19930713,2028, 47.0017, 179.0002, 5663,   1425.0,   2.1965,  34.5203,2,  34.5172,2,   -999.0,9,     40.1,2,   169.69,2,    43.38,2,     0.00,2,     3.08,2,    0.017,2,   -0.002,3, -999.000,9,-999.0000,9,  -999.00,9,   2389.0,2,   2401.7,2,  -999.00,9,-999.0000,-999.000,  2.1038,-999.000
      325023_1,  P14N,    31,  1,     17,     17,4,19930713,2028, 47.0017, 179.0002, 5663,   1628.6,   2.0536,  34.5542,2,  34.5504,2,   -999.0,9,     50.9,2,   172.99,2,    42.83,2,     0.00,2,     3.03,2,    0.012,2,   -0.001,2, -999.000,9,-999.0000,9,  -999.00,9,   2386.0,2,   2407.1,2,  -999.00,9,-999.0000,-999.000,  1.9468,-999.000
      325023_1,  P14N,    31,  1,     16,     16,4,19930713,2028, 47.0017, 179.0002, 5663,   1831.6,   1.9273,  34.5816,2,  34.5786,2,   -999.0,9,     62.2,2,   174.35,2,    42.10,2,     0.00,2,     2.98,2,    0.008,2,   -0.002,3, -999.000,9,-999.0000,9,  -999.00,9,   2382.1,2,   2411.6,2,     7.41,2,-999.0000,-999.000,  1.8059,-999.000
      325023_1,  P14N,    31,  1,     15,     15,4,19930713,2028, 47.0017, 179.0002, 5663,   2034.2,   1.8189,  34.6042,2,  34.6006,3,   -999.0,9,     75.0,2,   174.42,2,    41.41,2,     0.00,2,     2.93,2,   -0.002,2,   -0.004,3, -999.000,9,-999.0000,9,  -999.00,9,   2376.2,2,   2412.4,2,  -999.00,9,-999.0000,-999.000,  1.6824,-999.000
      325023_1,  P14N,    31,  1,     14,     14,4,19930713,2028, 47.0017, 179.0002, 5663,   2239.8,   1.7278,  34.6216,2,  34.6181,3,   -999.0,9,     87.5,2,   173.40,2,    40.64,2,     0.00,2,     2.86,2, -999.000,5, -999.000,5, -999.000,9,-999.0000,9,  -999.00,9,   2370.7,2,   2417.5,2,     7.46,2,-999.0000,-999.000,  1.5755,-999.000
      325023_1,  P14N,    31,  1,     13,     13,4,19930713,2028, 47.0017, 179.0002, 5663,   2442.7,   1.6524,  34.6364,2,  34.6347,2,   -999.0,9,     99.2,2,   171.31,2,    39.91,2,     0.00,2,     2.81,2, -999.000,5, -999.000,5, -999.000,9,-999.0000,9,  -999.00,9,   2362.1,2,   2417.3,2,  -999.00,9,-999.0000,-999.000,  1.4837,-999.000
      325023_1,  P14N,    31,  1,     12,     12,4,19930713,2028, 47.0017, 179.0002, 5663,   2646.1,   1.5962,  34.6473,2,  34.6461,2,   -999.0,9,    108.9,2,   169.43,2,    39.27,2,     0.00,2,     2.76,2,    0.004,2,    0.004,2, -999.000,9,-999.0000,9,  -999.00,9,   2357.1,2,   2420.0,2,     7.50,2,-999.0000,-999.000,  1.4104,-999.000
      325023_1,  P14N,    31,  1,     11,     11,4,19930713,2028, 47.0017, 179.0002, 5663,   2849.4,   1.5564,  34.6557,2,  34.6538,2,   -999.0,9,    117.4,2,   167.78,2,    38.73,2,     0.00,2,     2.73,2, -999.000,5, -999.000,5, -999.000,9,-999.0000,9,  -999.00,9,   2351.1,2,   2418.8,2,  -999.00,9,-999.0000,-999.000,  1.3527,-999.000
      325023_1,  P14N,    31,  1,     10,     10,4,19930713,2028, 47.0017, 179.0002, 5663,   3054.2,   1.5181,  34.6630,2,  34.6605,3,   -999.0,9,    125.7,2,   165.92,2,    38.28,2,     0.00,2,     2.68,2, -999.000,5, -999.000,5, -999.000,9,-999.0000,9,  -999.00,9,   2346.6,2,   2420.6,2,     7.53,2,-999.0000,-999.000,  1.2958,-999.000
      325023_1,  P14N,    31,  1,      9,      9,4,19930713,2028, 47.0017, 179.0002, 5663,   3361.8,   1.4823,  34.6709,2,  34.6683,2,   -999.0,9,    134.6,2,   163.43,2,    37.60,2,     0.00,2,     2.64,2,   -0.003,2,    0.001,2, -999.000,9,-999.0000,9,  -999.00,9,   2340.8,2,   2419.3,2,  -999.00,9,-999.0000,-999.000,  1.2306,-999.000
      325023_1,  P14N,    31,  1,      8,      8,4,19930713,2028, 47.0017, 179.0002, 5663,   3674.0,   1.4561,  34.6779,2,  34.6756,2,   -999.0,9,    142.8,2,   160.31,2,    37.10,2,     0.00,2,     2.60,2, -999.000,5, -999.000,5, -999.000,9,-999.0000,9,  -999.00,9,   2333.8,2,   2420.2,2,     7.56,2,-999.0000,-999.000,  1.1732,-999.000
      325023_1,  P14N,    31,  1,      7,      7,2,19930713,2028, 47.0017, 179.0002, 5663,   3982.7,   1.4497,  34.6822,2,  34.6807,2,   -999.0,9,    148.4,2,   159.32,2,    36.79,2,     0.00,2,     2.57,2, -999.000,5, -999.000,5, -999.000,9,-999.0000,9,  -999.00,9,   2331.7,2,   2418.2,2,  -999.00,9,-999.0000,-999.000,  1.1341,-999.000
      325023_1,  P14N,    31,  1,     36,     36,2,19930713,2028, 47.0017, 179.0002, 5663,   4289.8,   1.4632,  34.6850,2,-999.0000,9,   -999.0,9,   -999.0,9,  -999.00,9,  -999.00,9,  -999.00,9,  -999.00,9, -999.000,5, -999.000,5, -999.000,9,-999.0000,9,  -999.00,9,   -999.0,9,   -999.0,9,  -999.00,9,-999.0000,-999.000,  1.1133,-999.000
      325023_1,  P14N,    31,  1,      6,      6,2,19930713,2028, 47.0017, 179.0002, 5663,   4599.0,   1.4875,  34.6863,2,-999.0000,9,   -999.0,9,    151.7,2,   160.02,2,    36.61,2,     0.00,2,     2.55,2,   -0.006,2,   -0.002,2, -999.000,9,-999.0000,9,  -999.00,9,   2806.3,4,   2421.6,2,     9.76,4,-999.0000,-999.000,  1.1015,-999.000
      325023_1,  P14N,    31,  1,      5,      5,2,19930713,2028, 47.0017, 179.0002, 5663,   4905.2,   1.5225,  34.6868,2,  34.6850,2,   -999.0,9,    152.6,2,   161.36,2,    36.53,2,     0.00,2,     2.54,2, -999.000,5, -999.000,5, -999.000,9,-999.0000,9,  -999.00,9,   2328.7,2,   2416.6,2,  -999.00,9,-999.0000,-999.000,  1.0990,-999.000
      325023_1,  P14N,    31,  1,      4,      4,2,19930713,2028, 47.0017, 179.0002, 5663,   5216.3,   1.5599,  34.6868,2,  34.6852,2,   -999.0,9,    152.3,2,   162.92,2,    36.58,2,     0.00,2,     2.54,2, -999.000,5, -999.000,5, -999.000,9,-999.0000,9,  -999.00,9,   2329.5,2,   2423.7,2,     7.58,2,-999.0000,-999.000,  1.0970,-999.000
      325023_1,  P14N,    31,  1,      3,      3,2,19930713,2028, 47.0017, 179.0002, 5663,   5529.9,   1.5981,  34.6870,2,  34.6856,2,   -999.0,9,    153.2,2,   162.35,2,    36.55,2,     0.00,2,     2.54,2,   -0.001,2,   -0.001,3, -999.000,9,-999.0000,9,  -999.00,9,   2329.3,2,   2420.6,2,     7.61,2,-999.0000,-999.000,  1.0942,-999.000
      325023_1,  P14N,    31,  1,      1,      1,2,19930713,2028, 47.0017, 179.0002, 5663,   5778.3,   1.6305,  34.6866,2,  34.6862,2,   -999.0,9,    153.7,2,   161.85,2,    36.47,2,     0.00,2,     2.53,2, -999.000,5, -999.000,5, -999.000,9,-999.0000,9,  -999.00,9,   2328.1,2,   2421.6,2,     7.58,2,-999.0000,-999.000,  1.0930,-999.000
      325023_1,  P14N,    31,  1,      2,      2,2,19930713,2028, 47.0017, 179.0002, 5663,   5778.3,   1.6305,  34.6869,2,  34.6852,2,   -999.0,9,    154.0,2,   162.21,2,    36.51,2,     0.00,2,     2.53,2,    0.004,4,    0.001,4, -999.000,9,-999.0000,9,  -999.00,9,   2328.5,2,   2419.9,2,  -999.00,9,-999.0000,-999.000,  1.0930,-999.000