BOTTLE,20131125MIRCJHATS
EXPOCODE,SECT_ID,STNNBR,CASTNO,SAMPNO,BTLNBR,BTLNBR_FLAG_W,DATE,TIME,LATITUDE,LONGITUDE,DEPTH,CTDPRS,CTDTMP,CTDSAL,CTDSAL_FLAG_W,SALNTY,SALNTY_FLAG_W,CTDOXY,CTDOXY_FLAG_W,OXYGEN,OXYGEN_FLAG_W,SILCAT,SILCAT_FLAG_W,NITRAT,NITRAT_FLAG_W,NITRIT,NITRIT_FLAG_W,PHSPHT,PHSPHT_FLAG_W,CFC-11,CFC-11_FLAG_W,CFC-12,CFC-12_FLAG_W,TRITUM,TRITUM_FLAG_W,HELIUM,HELIUM_FLAG_W,DELHE3,DELHE3_FLAG_W,TCARBN,TCARBN_FLAG_W,ALKALI,ALKALI_FLAG_W,PH,PH_FLAG_W,HELIER,DELHER,THETA,TRITER
,,,,,,,,,,,,DBAR,ITS-90,PSS-78,,PSS-78,,UMOL/KG,,UMOL/KG,,UMOL/KG,,UMOL/KG,,UMOL/KG,,UMOL/KG,,PMOL/KG,,PMOL/KG,,TU,,NMOL/KG,,PERCNT,,UMOL/KG,,UMOL/KG,,25_DEG,,NMOL/KG,PERCNT,DEG C,TU
      325023_1,  P14N,   651,  1,     36,     36,2,19930723,2254, 29.8420, 179.0535, 1912,      3.8,  26.5562,  35.0971,2,  35.0981,2,   -999.0,9,    207.1,2,     3.81,2,     0.03,2,     0.00,2,     0.05,2, -999.000,5, -999.000,5, -999.000,9,-999.0000,9,  -999.00,9,   -999.0,9,   -999.0,9,  -999.00,9,-999.0000,-999.000, 26.5554,-999.000
      325023_1,  P14N,   651,  1,     35,     35,2,19930723,2254, 29.8420, 179.0535, 1912,     35.3,  23.4954,  34.9002,2,  34.8961,2,   -999.0,9,    231.6,2,     3.79,2,     0.03,2,     0.00,2,     0.05,2, -999.000,5, -999.000,5, -999.000,9,-999.0000,9,  -999.00,9,   -999.0,9,   -999.0,9,  -999.00,9,-999.0000,-999.000, 23.4881,-999.000
      325023_1,  P14N,   651,  1,     34,     34,2,19930723,2254, 29.8420, 179.0535, 1912,     65.6,  18.6098,  34.8054,2,  34.8055,2,   -999.0,9,    256.5,2,     3.76,2,     0.03,2,     0.00,2,     0.07,2, -999.000,5, -999.000,5, -999.000,9,-999.0000,9,  -999.00,9,   -999.0,9,   -999.0,9,  -999.00,9,-999.0000,-999.000, 18.5983,-999.000
      325023_1,  P14N,   651,  1,     33,     33,2,19930723,2254, 29.8420, 179.0535, 1912,     85.6,  17.3698,  34.8235,2,  34.8206,2,   -999.0,9,    249.2,2,     3.73,2,     0.02,2,     0.00,2,     0.09,2, -999.000,5, -999.000,5, -999.000,9,-999.0000,9,  -999.00,9,   -999.0,9,   -999.0,9,  -999.00,9,-999.0000,-999.000, 17.3556,-999.000
      325023_1,  P14N,   651,  1,     32,     32,2,19930723,2254, 29.8420, 179.0535, 1912,    106.5,  16.5249,  34.7694,2,  34.7706,2,   -999.0,9,    233.9,2,     3.91,2,     0.54,2,     0.11,2,     0.17,2, -999.000,5, -999.000,5, -999.000,9,-999.0000,9,  -999.00,9,   -999.0,9,   -999.0,9,  -999.00,9,-999.0000,-999.000, 16.5077,-999.000
      325023_1,  P14N,   651,  1,     31,     31,2,19930723,2254, 29.8420, 179.0535, 1912,    126.0,  16.1489,  34.7335,2,  34.7313,2,   -999.0,9,    225.7,2,     4.28,2,     2.54,2,     0.21,2,     0.27,2, -999.000,5, -999.000,5, -999.000,9,-999.0000,9,  -999.00,9,   -999.0,9,   -999.0,9,  -999.00,9,-999.0000,-999.000, 16.1289,-999.000
      325023_1,  P14N,   651,  1,     30,     30,2,19930723,2254, 29.8420, 179.0535, 1912,    146.7,  15.4640,  34.6570,2,  34.6502,2,   -999.0,9,    218.2,2,     5.66,2,     5.05,2,     0.03,2,     0.42,2, -999.000,5, -999.000,5, -999.000,9,-999.0000,9,  -999.00,9,   -999.0,9,   -999.0,9,  -999.00,9,-999.0000,-999.000, 15.4414,-999.000
      325023_1,  P14N,   651,  1,     29,     29,2,19930723,2254, 29.8420, 179.0535, 1912,    167.2,  14.9271,  34.6037,2,  34.5986,2,   -999.0,9,    215.0,2,     6.83,2,     6.27,2,     0.02,2,     0.50,2, -999.000,5, -999.000,5, -999.000,9,-999.0000,9,  -999.00,9,   -999.0,9,   -999.0,9,  -999.00,9,-999.0000,-999.000, 14.9020,-999.000
      325023_1,  P14N,   651,  1,     28,     28,2,19930723,2254, 29.8420, 179.0535, 1912,    186.6,  14.5241,  34.5672,2,  34.5633,2,   -999.0,9,    212.8,2,     7.81,2,     7.13,2,     0.02,2,     0.55,2, -999.000,5, -999.000,5, -999.000,9,-999.0000,9,  -999.00,9,   -999.0,9,   -999.0,9,  -999.00,9,-999.0000,-999.000, 14.4966,-999.000
      325023_1,  P14N,   651,  1,     27,     27,2,19930723,2254, 29.8420, 179.0535, 1912,    205.9,  14.2632,  34.5435,2,  34.5380,2,   -999.0,9,    212.7,2,     8.38,2,     7.67,2,     0.01,2,     0.59,2, -999.000,5, -999.000,5, -999.000,9,-999.0000,9,  -999.00,9,   -999.0,9,   -999.0,9,  -999.00,9,-999.0000,-999.000, 14.2332,-999.000
      325023_1,  P14N,   651,  1,     26,     26,2,19930723,2254, 29.8420, 179.0535, 1912,    257.2,  13.3884,  34.4711,2,  34.4670,2,   -999.0,9,    213.1,2,    10.35,2,     9.11,2,     0.01,2,     0.70,2, -999.000,5, -999.000,5, -999.000,9,-999.0000,9,  -999.00,9,   -999.0,9,   -999.0,9,  -999.00,9,-999.0000,-999.000, 13.3524,-999.000
      325023_1,  P14N,   651,  1,     25,     25,2,19930723,2254, 29.8420, 179.0535, 1912,    307.9,  12.3696,  34.3917,2,  34.3876,2,   -999.0,9,    214.6,2,    13.12,2,    10.73,2,     0.01,2,     0.82,2,    2.798,2,    1.400,2, -999.000,9,-999.0000,9,  -999.00,9,   -999.0,9,   -999.0,9,  -999.00,9,-999.0000,-999.000, 12.3287,-999.000
      325023_1,  P14N,   651,  1,     24,     24,2,19930723,2254, 29.8420, 179.0535, 1912,    357.6,  11.6518,  34.3335,2,  34.3294,2,   -999.0,9,    215.8,2,    15.29,2,    11.95,2,     0.01,2,     0.90,2, -999.000,5, -999.000,5, -999.000,9,-999.0000,9,  -999.00,9,   -999.0,9,   -999.0,9,  -999.00,9,-999.0000,-999.000, 11.6061,-999.000
      325023_1,  P14N,   651,  1,     23,     23,2,19930723,2254, 29.8420, 179.0535, 1912,    406.8,  10.6511,  34.2533,2,  34.2505,2,   -999.0,9,    213.0,2,    19.26,2,    14.07,2,     0.01,2,     1.05,2,    2.827,2,    1.412,2, -999.000,9,-999.0000,9,  -999.00,9,   -999.0,9,   -999.0,9,  -999.00,9,-999.0000,-999.000, 10.6020,-999.000
      325023_1,  P14N,   651,  1,     22,     22,2,19930723,2254, 29.8420, 179.0535, 1912,    456.2,   9.6415,  34.1813,2,  34.1777,2,   -999.0,9,    199.7,2,    25.22,2,    17.41,2,     0.01,2,     1.28,2, -999.000,5, -999.000,5, -999.000,9,-999.0000,9,  -999.00,9,   -999.0,9,   -999.0,9,  -999.00,9,-999.0000,-999.000,  9.5896,-999.000
      325023_1,  P14N,   651,  1,     21,     21,2,19930723,2254, 29.8420, 179.0535, 1912,    507.5,   8.6329,  34.1156,2,  34.1117,2,   -999.0,9,    188.2,2,    31.78,2,    20.30,2,     0.01,2,     1.49,2,    2.521,2,    1.197,2, -999.000,9,-999.0000,9,  -999.00,9,   -999.0,9,   -999.0,9,  -999.00,9,-999.0000,-999.000,  8.5788,-999.000
      325023_1,  P14N,   651,  1,     20,     20,2,19930723,2254, 29.8420, 179.0535, 1912,    559.0,   7.2246,  34.0405,2,  34.0365,2,   -999.0,9,    167.3,2,    44.54,2,    24.78,2,     0.01,2,     1.83,2, -999.000,5, -999.000,5, -999.000,9,-999.0000,9,  -999.00,9,   -999.0,9,   -999.0,9,  -999.00,9,-999.0000,-999.000,  7.1707,-999.000
      325023_1,  P14N,   651,  1,     19,     19,2,19930723,2254, 29.8420, 179.0535, 1912,    606.9,   6.2731,  34.0130,2,  34.0087,2,   -999.0,9,    142.8,2,    56.11,2,    28.64,2,     0.01,2,     2.12,2,    1.569,2,    0.713,2, -999.000,9,-999.0000,9,  -999.00,9,   -999.0,9,   -999.0,9,  -999.00,9,-999.0000,-999.000,  6.2188,-999.000
      325023_1,  P14N,   651,  1,     18,     18,2,19930723,2254, 29.8420, 179.0535, 1912,    657.2,   5.6634,  34.0239,2,  34.0203,2,   -999.0,9,    118.0,2,    66.88,2,    31.93,2,     0.01,2,     2.34,2, -999.000,5, -999.000,5, -999.000,9,-999.0000,9,  -999.00,9,   -999.0,9,   -999.0,9,  -999.00,9,-999.0000,-999.000,  5.6074,-999.000
      325023_1,  P14N,   651,  1,     17,     17,2,19930723,2254, 29.8420, 179.0535, 1912,    710.1,   5.1387,  34.0554,2,  34.0549,2,   -999.0,9,     94.4,2,    79.09,2,    34.91,2,     0.01,2,     2.55,2,    0.880,2,    0.385,2, -999.000,9,-999.0000,9,  -999.00,9,   -999.0,9,   -999.0,9,  -999.00,9,-999.0000,-999.000,  5.0808,-999.000
      325023_1,  P14N,   651,  1,     16,     16,2,19930723,2254, 29.8420, 179.0535, 1912,    761.7,   4.7899,  34.0913,2,  34.0876,2,   -999.0,9,     79.2,2,    87.50,2,    36.81,2,     0.01,2,     2.68,2, -999.000,5, -999.000,5, -999.000,9,-999.0000,9,  -999.00,9,   -999.0,9,   -999.0,9,  -999.00,9,-999.0000,-999.000,  4.7295,-999.000
      325023_1,  P14N,   651,  1,     15,     15,2,19930723,2254, 29.8420, 179.0535, 1912,    809.4,   4.3592,  34.1532,2,  34.1496,2,   -999.0,9,     57.7,2,   101.21,2,    39.31,2,     0.01,2,     2.85,2,    0.339,2,    0.142,3, -999.000,9,-999.0000,9,  -999.00,9,   -999.0,9,   -999.0,9,  -999.00,9,-999.0000,-999.000,  4.2973,-999.000
      325023_1,  P14N,   651,  1,     13,     13,2,19930723,2254, 29.8420, 179.0535, 1912,    853.2,   4.2092,  34.1803,2,  34.1782,2,   -999.0,9,     50.7,2,   106.02,2,    40.07,2,     0.01,2,     2.90,2, -999.000,5, -999.000,5, -999.000,9,-999.0000,9,  -999.00,9,   -999.0,9,   -999.0,9,  -999.00,9,-999.0000,-999.000,  4.1447,-999.000
      325023_1,  P14N,   651,  1,     12,     12,2,19930723,2254, 29.8420, 179.0535, 1912,    900.6,   4.0034,  34.2188,2,  34.2169,2,   -999.0,9,     42.6,2,   113.31,2,    41.11,2,     0.01,2,     2.97,2,    0.179,2,    0.072,3, -999.000,9,-999.0000,9,  -999.00,9,   -999.0,9,   -999.0,9,  -999.00,9,-999.0000,-999.000,  3.9363,-999.000
      325023_1,  P14N,   651,  1,     11,     11,2,19930723,2254, 29.8420, 179.0535, 1912,    950.2,   3.7935,  34.2615,2,  34.2563,2,   -999.0,9,     36.2,2,   119.79,2,    41.92,2,     0.01,2,     3.01,2, -999.000,5, -999.000,5, -999.000,9,-999.0000,9,  -999.00,9,   -999.0,9,   -999.0,9,  -999.00,9,-999.0000,-999.000,  3.7239,-999.000
      325023_1,  P14N,   651,  1,     10,     10,2,19930723,2254, 29.8420, 179.0535, 1912,   1003.5,   3.6136,  34.3008,2,  34.2970,2,   -999.0,9,     30.4,2,   126.11,2,    42.54,2,     0.01,2,     3.06,2,    0.067,2,    0.031,2, -999.000,9,-999.0000,9,  -999.00,9,   -999.0,9,   -999.0,9,  -999.00,9,-999.0000,-999.000,  3.5410,-999.000
      325023_1,  P14N,   651,  1,      9,      9,3,19930723,2254, 29.8420, 179.0535, 1912,   1109.9,   3.2129,  34.3904,2,  34.4175,4,   -999.0,9,     31.9,4,   120.67,4,    38.34,4,     0.01,4,     2.75,4, -999.000,5, -999.000,5, -999.000,9,-999.0000,9,  -999.00,9,   -999.0,9,   -999.0,9,  -999.00,9,-999.0000,-999.000,  3.1350,-999.000
      325023_1,  P14N,   651,  1,      8,      8,2,19930723,2254, 29.8420, 179.0535, 1912,   1214.7,   3.0770,  34.4236,2,  34.4214,2,   -999.0,9,     25.4,2,   142.57,2,    43.33,2,     0.01,2,     3.13,2, -999.000,5, -999.000,5, -999.000,9,-999.0000,9,  -999.00,9,   -999.0,9,   -999.0,9,  -999.00,9,-999.0000,-999.000,  2.9919,-999.000
      325023_1,  P14N,   651,  1,      7,      7,2,19930723,2254, 29.8420, 179.0535, 1912,   1318.3,   2.8941,  34.4603,2,  34.4596,2,   -999.0,9,     29.8,2,   146.90,2,    43.21,2,     0.01,2,     3.10,2, -999.000,5, -999.000,5, -999.000,9,-999.0000,9,  -999.00,9,   -999.0,9,   -999.0,9,  -999.00,9,-999.0000,-999.000,  2.8025,-999.000
      325023_1,  P14N,   651,  1,      6,      6,2,19930723,2254, 29.8420, 179.0535, 1912,   1420.6,   2.7182,  34.4905,2,  34.4874,2,   -999.0,9,     34.1,2,   151.46,2,    43.09,2,     0.01,2,     3.09,2, -999.000,5, -999.000,5, -999.000,9,-999.0000,9,  -999.00,9,   -999.0,9,   -999.0,9,  -999.00,9,-999.0000,-999.000,  2.6202,-999.000
      325023_1,  P14N,   651,  1,      5,      5,2,19930723,2254, 29.8420, 179.0535, 1912,   1522.0,   2.5563,  34.5162,2,  34.5117,2,   -999.0,9,     41.0,2,   154.76,2,    42.69,2,     0.01,2,     3.05,2, -999.000,5, -999.000,5, -999.000,9,-999.0000,9,  -999.00,9,   -999.0,9,   -999.0,9,  -999.00,9,-999.0000,-999.000,  2.4520,-999.000
      325023_1,  P14N,   651,  1,      4,      4,2,19930723,2254, 29.8420, 179.0535, 1912,   1622.4,   2.4184,  34.5379,2,  34.5331,2,   -999.0,9,     45.8,2,   157.87,2,    42.47,2,     0.01,2,     3.03,2, -999.000,5, -999.000,5, -999.000,9,-999.0000,9,  -999.00,9,   -999.0,9,   -999.0,9,  -999.00,9,-999.0000,-999.000,  2.3076,-999.000
      325023_1,  P14N,   651,  1,      3,      3,2,19930723,2254, 29.8420, 179.0535, 1912,   1722.8,   2.3005,  34.5545,2,  34.5531,2,   -999.0,9,     53.8,2,   160.55,2,    42.07,2,     0.01,2,     3.00,2, -999.000,5, -999.000,5, -999.000,9,-999.0000,9,  -999.00,9,   -999.0,9,   -999.0,9,  -999.00,9,-999.0000,-999.000,  2.1830,-999.000
      325023_1,  P14N,   651,  1,      2,      2,2,19930723,2254, 29.8420, 179.0535, 1912,   1822.2,   2.1986,  34.5707,2,  34.5689,2,   -999.0,9,     59.4,2,   161.96,2,    41.67,2,     0.01,2,     2.97,2, -999.000,5, -999.000,5, -999.000,9,-999.0000,9,  -999.00,9,   -999.0,9,   -999.0,9,  -999.00,9,-999.0000,-999.000,  2.0742,-999.000
      325023_1,  P14N,   651,  1,      1,      1,2,19930723,2254, 29.8420, 179.0535, 1912,   1905.4,   2.1456,  34.5773,2,  34.5770,2,   -999.0,9,     62.8,2,   162.95,2,    41.41,2,     0.01,2,     2.95,2, -999.000,5, -999.000,5, -999.000,9,-999.0000,9,  -999.00,9,   -999.0,9,   -999.0,9,  -999.00,9,-999.0000,-999.000,  2.0151,-999.000
      325023_1,  P14N,   652,  1,     19,     19,2,19930724,0141, 29.8140, 179.0673,  304,      2.7,  26.5465,  35.0910,2,  35.0925,2,   -999.0,9,    208.3,2,     3.77,2,     0.03,2,     0.00,2,     0.04,2, -999.000,5, -999.000,5, -999.000,9,-999.0000,9,  -999.00,9,   -999.0,9,   -999.0,9,  -999.00,9,-999.0000,-999.000, 26.5458,-999.000
      325023_1,  P14N,   652,  1,     18,     18,2,19930724,0141, 29.8140, 179.0673,  304,      2.8,  26.5425,  35.0906,2,  35.0914,2,   -999.0,9,    208.2,2,     3.77,2,     0.03,2,     0.00,2,     0.04,2,    1.873,2,    0.997,2, -999.000,9,-999.0000,9,  -999.00,9,   -999.0,9,   -999.0,9,  -999.00,9,-999.0000,-999.000, 26.5417,-999.000
      325023_1,  P14N,   652,  1,     17,     17,2,19930724,0141, 29.8140, 179.0673,  304,     22.8,  25.4930,  35.0180,2,  35.0255,2,   -999.0,9,    214.4,2,     3.77,2,     0.03,2,     0.00,2,     0.04,2, -999.000,5, -999.000,5, -999.000,9,-999.0000,9,  -999.00,9,   -999.0,9,   -999.0,9,  -999.00,9,-999.0000,-999.000, 25.4879,-999.000
      325023_1,  P14N,   652,  1,     16,     16,2,19930724,0141, 29.8140, 179.0673,  304,     44.0,  21.3215,  34.8657,2,  34.8614,2,   -999.0,9,    246.5,2,     3.77,2,     0.03,2,     0.00,2,     0.05,2, -999.000,5, -999.000,5, -999.000,9,-999.0000,9,  -999.00,9,   -999.0,9,   -999.0,9,  -999.00,9,-999.0000,-999.000, 21.3129,-999.000
      325023_1,  P14N,   652,  1,     15,     15,2,19930724,0141, 29.8140, 179.0673,  304,     65.0,  18.9825,  34.8365,2,  34.8354,2,   -999.0,9,    255.9,2,     3.77,2,     0.03,2,     0.00,2,     0.06,2, -999.000,5, -999.000,5, -999.000,9,-999.0000,9,  -999.00,9,   -999.0,9,   -999.0,9,  -999.00,9,-999.0000,-999.000, 18.9709,-999.000
      325023_1,  P14N,   652,  1,     14,     14,2,19930724,0141, 29.8140, 179.0673,  304,     84.3,  17.3502,  34.8107,2,  34.8120,2,   -999.0,9,    254.0,2,     3.78,2,     0.03,2,     0.00,2,     0.09,2, -999.000,5, -999.000,5, -999.000,9,-999.0000,9,  -999.00,9,   -999.0,9,   -999.0,9,  -999.00,9,-999.0000,-999.000, 17.3362,-999.000
      325023_1,  P14N,   652,  1,     13,     13,2,19930724,0141, 29.8140, 179.0673,  304,    105.0,  16.6750,  34.7799,2,  34.7815,2,   -999.0,9,    240.1,2,     3.78,2,     0.13,2,     0.03,2,     0.14,2,    2.686,2,    1.385,2, -999.000,9,-999.0000,9,  -999.00,9,   -999.0,9,   -999.0,9,  -999.00,9,-999.0000,-999.000, 16.6579,-999.000
      325023_1,  P14N,   652,  1,     12,     12,2,19930724,0141, 29.8140, 179.0673,  304,    125.1,  16.1852,  34.7360,2,  34.7394,2,   -999.0,9,    227.2,2,     4.18,2,     2.45,2,     0.23,2,     0.28,2, -999.000,5, -999.000,5, -999.000,9,-999.0000,9,  -999.00,9,   -999.0,9,   -999.0,9,  -999.00,9,-999.0000,-999.000, 16.1653,-999.000
      325023_1,  P14N,   652,  1,     11,     11,2,19930724,0141, 29.8140, 179.0673,  304,    144.4,  15.8087,  34.6951,2,  34.6968,2,   -999.0,9,    222.5,2,     4.97,2,     4.02,2,     0.05,2,     0.35,2, -999.000,5, -999.000,5, -999.000,9,-999.0000,9,  -999.00,9,   -999.0,9,   -999.0,9,  -999.00,9,-999.0000,-999.000, 15.7861,-999.000
      325023_1,  P14N,   652,  1,     10,     10,2,19930724,0141, 29.8140, 179.0673,  304,    164.5,  15.4767,  34.6583,2,  34.6604,2,   -999.0,9,    219.7,2,     5.57,2,     4.90,2,     0.03,2,     0.41,2, -999.000,5, -999.000,5, -999.000,9,-999.0000,9,  -999.00,9,   -999.0,9,   -999.0,9,  -999.00,9,-999.0000,-999.000, 15.4513,-999.000
      325023_1,  P14N,   652,  1,      9,      9,2,19930724,0141, 29.8140, 179.0673,  304,    185.7,  14.9557,  34.6058,2,  34.6090,2,   -999.0,9,    216.5,2,     6.77,2,     5.95,2,     0.01,2,     0.48,2,    2.763,2,    1.390,2, -999.000,9,-999.0000,9,  -999.00,9,   -999.0,9,   -999.0,9,  -999.00,9,-999.0000,-999.000, 14.9278,-999.000
      325023_1,  P14N,   652,  1,      8,      8,2,19930724,0141, 29.8140, 179.0673,  304,    205.3,  14.6028,  34.5739,2,  34.5687,2,   -999.0,9,    212.7,2,     7.97,2,     7.00,2,     0.01,2,     0.55,2, -999.000,5, -999.000,5, -999.000,9,-999.0000,9,  -999.00,9,   -999.0,9,   -999.0,9,  -999.00,9,-999.0000,-999.000, 14.5725,-999.000
      325023_1,  P14N,   652,  1,      7,      7,2,19930724,0141, 29.8140, 179.0673,  304,    225.3,  14.0658,  34.5244,2,  34.5198,2,   -999.0,9,    212.6,2,    10.16,2,     8.23,2,     0.00,2,     0.64,2, -999.000,5, -999.000,5, -999.000,9,-999.0000,9,  -999.00,9,   -999.0,9,   -999.0,9,  -999.00,9,-999.0000,-999.000, 14.0334,-999.000
      325023_1,  P14N,   652,  1,      6,      6,2,19930724,0141, 29.8140, 179.0673,  304,    245.5,  13.6618,  34.4925,2,  34.4917,2,   -999.0,9,    213.4,2,     9.97,2,     8.68,2,     0.00,2,     0.67,2, -999.000,5, -999.000,5, -999.000,9,-999.0000,9,  -999.00,9,   -999.0,9,   -999.0,9,  -999.00,9,-999.0000,-999.000, 13.6272,-999.000
      325023_1,  P14N,   652,  1,      5,      5,2,19930724,0141, 29.8140, 179.0673,  304,    245.6,  13.6467,  34.4910,2,  34.4898,2,   -999.0,9,    213.2,2,     9.97,2,     8.69,2,     0.00,2,     0.67,2,    2.738,2,    1.339,2, -999.000,9,-999.0000,9,  -999.00,9,   -999.0,9,   -999.0,9,  -999.00,9,-999.0000,-999.000, 13.6122,-999.000
      325023_1,  P14N,   652,  1,      4,      4,2,19930724,0141, 29.8140, 179.0673,  304,    265.3,  13.1356,  34.4510,2,  34.4500,2,   -999.0,9,    214.3,2,    11.37,2,     9.51,2,     0.00,2,     0.74,2, -999.000,5, -999.000,5, -999.000,9,-999.0000,9,  -999.00,9,   -999.0,9,   -999.0,9,  -999.00,9,-999.0000,-999.000, 13.0993,-999.000
      325023_1,  P14N,   652,  1,      3,      3,2,19930724,0141, 29.8140, 179.0673,  304,    284.2,  12.7420,  34.4194,2,  34.4195,2,   -999.0,9,    214.8,2,    12.17,2,    10.06,2,     0.00,2,     0.78,2, -999.000,5, -999.000,5, -999.000,9,-999.0000,9,  -999.00,9,   -999.0,9,   -999.0,9,  -999.00,9,-999.0000,-999.000, 12.7040,-999.000
      325023_1,  P14N,   652,  1,      1,      1,2,19930724,0141, 29.8140, 179.0673,  304,    304.3,  12.3899,  34.3919,2,  34.3929,2,   -999.0,9,    215.1,2,    13.38,2,    10.66,2,     0.00,2,     0.83,2, -999.000,5, -999.000,5, -999.000,9,-999.0000,9,  -999.00,9,   -999.0,9,   -999.0,9,  -999.00,9,-999.0000,-999.000, 12.3497,-999.000
      325023_1,  P14N,   652,  1,      2,      2,2,19930724,0141, 29.8140, 179.0673,  304,    305.8,  12.4105,  34.3975,2,  34.3960,2,   -999.0,9,    214.9,2,    13.18,2,    10.61,2,     0.00,2,     0.82,2,    2.721,2,    1.365,2, -999.000,9,-999.0000,9,  -999.00,9,   -999.0,9,   -999.0,9,  -999.00,9,-999.0000,-999.000, 12.3703,-999.000