BOTTLE,20131125MIRCJHATS
EXPOCODE,SECT_ID,STNNBR,CASTNO,SAMPNO,BTLNBR,BTLNBR_FLAG_W,DATE,TIME,LATITUDE,LONGITUDE,DEPTH,CTDPRS,CTDTMP,CTDSAL,CTDSAL_FLAG_W,SALNTY,SALNTY_FLAG_W,CTDOXY,CTDOXY_FLAG_W,OXYGEN,OXYGEN_FLAG_W,SILCAT,SILCAT_FLAG_W,NITRAT,NITRAT_FLAG_W,NITRIT,NITRIT_FLAG_W,PHSPHT,PHSPHT_FLAG_W,CFC-11,CFC-11_FLAG_W,CFC-12,CFC-12_FLAG_W,TRITUM,TRITUM_FLAG_W,HELIUM,HELIUM_FLAG_W,DELHE3,DELHE3_FLAG_W,TCARBN,TCARBN_FLAG_W,ALKALI,ALKALI_FLAG_W,PH,PH_FLAG_W,HELIER,DELHER,THETA,TRITER
,,,,,,,,,,,,DBAR,ITS-90,PSS-78,,PSS-78,,UMOL/KG,,UMOL/KG,,UMOL/KG,,UMOL/KG,,UMOL/KG,,UMOL/KG,,PMOL/KG,,PMOL/KG,,TU,,NMOL/KG,,PERCNT,,UMOL/KG,,UMOL/KG,,25_DEG,,NMOL/KG,PERCNT,DEG C,TU
      325023_1,  P14N,   105,  1,     36,     36,2,19930803,1832, 10.0038, 178.9983, 5509,      3.8,  28.4026,  34.3909,2,  34.3956,2,   -999.0,9,    197.2,2,     6.55,2,     0.00,2,     0.00,2,     0.17,2,    1.630,2,    0.898,2, -999.000,9,-999.0000,9,  -999.00,9,   -999.0,9,   -999.0,9,  -999.00,9,-999.0000,-999.000, 28.4017,-999.000
      325023_1,  P14N,   105,  1,     35,     35,2,19930803,1832, 10.0038, 178.9983, 5509,     39.5,  28.1475,  34.4905,2,  34.4944,2,   -999.0,9,    198.6,2,     6.48,2,     0.00,2,     0.00,2,     0.16,2,    1.674,2,    0.895,2, -999.000,9,-999.0000,9,  -999.00,9,   -999.0,9,   -999.0,9,  -999.00,9,-999.0000,-999.000, 28.1381,-999.000
      325023_1,  P14N,   105,  1,     34,     34,2,19930803,1832, 10.0038, 178.9983, 5509,     69.7,  27.9214,  34.5052,2,  34.5036,2,   -999.0,9,    199.7,2,     6.19,2,     0.00,2,     0.00,2,     0.16,2,    1.685,2,    0.923,2, -999.000,9,-999.0000,9,  -999.00,9,   -999.0,9,   -999.0,9,  -999.00,9,-999.0000,-999.000, 27.9050,-999.000
      325023_1,  P14N,   105,  1,     33,     33,2,19930803,1832, 10.0038, 178.9983, 5509,    100.3,  25.0326,  34.6037,2,  34.6038,2,   -999.0,9,    195.5,2,     6.33,2,     0.12,2,     0.01,2,     0.28,2,    1.821,2,    0.944,2, -999.000,9,-999.0000,9,  -999.00,9,   -999.0,9,   -999.0,9,  -999.00,9,-999.0000,-999.000, 25.0108,-999.000
      325023_1,  P14N,   105,  1,     32,     32,2,19930803,1832, 10.0038, 178.9983, 5509,    131.3,  17.0602,  34.6774,2,  34.6817,2,   -999.0,9,    151.0,2,    11.12,2,     9.00,2,     0.29,2,     0.81,2,    1.898,2,    0.944,2, -999.000,9,-999.0000,9,  -999.00,9,   -999.0,9,   -999.0,9,  -999.00,9,-999.0000,-999.000, 17.0385,-999.000
      325023_1,  P14N,   105,  1,     31,     31,2,19930803,1832, 10.0038, 178.9983, 5509,    161.6,  13.3588,  34.4785,2,  34.4728,2,   -999.0,9,    107.3,2,    20.55,2,    19.40,2,     0.02,2,     1.48,2,    1.448,2,    0.682,2, -999.000,9,-999.0000,9,  -999.00,9,   -999.0,9,   -999.0,9,  -999.00,9,-999.0000,-999.000, 13.3363,-999.000
      325023_1,  P14N,   105,  1,     30,     30,2,19930803,1832, 10.0038, 178.9983, 5509,    209.7,  11.3410,  34.6299,2,  34.6283,2,   -999.0,9,     25.2,2,    33.05,2,    31.79,2,     0.00,2,     2.31,2,   -0.002,4,   -0.003,4, -999.000,9,-999.0000,9,  -999.00,9,   -999.0,9,   -999.0,9,  -999.00,9,-999.0000,-999.000, 11.3147,-999.000
      325023_1,  P14N,   105,  1,     29,     29,2,19930803,1832, 10.0038, 178.9983, 5509,    258.3,  10.5307,  34.6815,2,  34.6807,2,   -999.0,9,     18.7,2,    36.27,2,    34.07,2,     0.00,2,     2.42,2,    0.109,2,    0.053,2, -999.000,9,-999.0000,9,  -999.00,9,   -999.0,9,   -999.0,9,  -999.00,9,-999.0000,-999.000, 10.4997,-999.000
      325023_1,  P14N,   105,  1,     28,     28,2,19930803,1832, 10.0038, 178.9983, 5509,    307.3,  10.0267,  34.6808,2,  34.6807,2,   -999.0,9,     15.1,2,    38.38,2,    35.18,2,     0.00,2,     2.49,2,    0.059,2,    0.038,2, -999.000,9,-999.0000,9,  -999.00,9,   -999.0,9,   -999.0,9,  -999.00,9,-999.0000,-999.000,  9.9909,-999.000
      325023_1,  P14N,   105,  1,     27,     27,2,19930803,1832, 10.0038, 178.9983, 5509,    410.3,   9.1015,  34.6396,2,  34.6389,2,   -999.0,9,     18.0,2,    43.80,2,    36.53,2,     0.00,2,     2.61,2,    0.021,6,    0.010,6, -999.000,9,-999.0000,9,  -999.00,9,   -999.0,9,   -999.0,9,  -999.00,9,-999.0000,-999.000,  9.0563,-999.000
      325023_1,  P14N,   105,  1,     26,     26,2,19930803,1832, 10.0038, 178.9983, 5509,    512.5,   8.1724,  34.5920,2,  34.5909,2,   -999.0,9,     20.5,2,    52.08,2,    37.66,2,     0.00,2,     2.73,2,    0.008,2,    0.002,2, -999.000,9,-999.0000,9,  -999.00,9,   -999.0,9,   -999.0,9,  -999.00,9,-999.0000,-999.000,  8.1192,-999.000
      325023_1,  P14N,   105,  1,     25,     25,2,19930803,1832, 10.0038, 178.9983, 5509,    613.9,   7.1524,  34.5488,2,  34.5485,2,   -999.0,9,     26.0,2,    62.34,2,    39.22,2,     0.00,2,     2.84,2,    0.064,4,    0.053,4, -999.000,9,-999.0000,9,  -999.00,9,   -999.0,9,   -999.0,9,  -999.00,9,-999.0000,-999.000,  7.0929,-999.000
      325023_1,  P14N,   105,  1,     24,     24,2,19930803,1832, 10.0038, 178.9983, 5509,    711.6,   6.3321,  34.5375,2,  34.5375,2,   -999.0,9,     34.5,2,    70.83,2,    40.60,2,     0.00,2,     2.87,2,    0.001,2,    0.003,2, -999.000,9,-999.0000,9,  -999.00,9,   -999.0,9,   -999.0,9,  -999.00,9,-999.0000,-999.000,  6.2671,-999.000
      325023_1,  P14N,   105,  1,     23,     23,2,19930803,1832, 10.0038, 178.9983, 5509,    809.1,   5.5057,  34.5332,2,  34.5311,2,   -999.0,9,     32.3,2,    83.97,2,    42.29,2,     0.00,2,     2.97,2, -999.000,5, -999.000,5, -999.000,9,-999.0000,9,  -999.00,9,   -999.0,9,   -999.0,9,  -999.00,9,-999.0000,-999.000,  5.4362,-999.000
      325023_1,  P14N,   105,  1,     22,     22,2,19930803,1832, 10.0038, 178.9983, 5509,    912.8,   4.8592,  34.5447,2,  34.5446,2,   -999.0,9,     49.9,2,    93.36,2,    41.89,2,     0.00,2,     2.93,2,    0.005,2,   -0.005,2, -999.000,9,-999.0000,9,  -999.00,9,   -999.0,9,   -999.0,9,  -999.00,9,-999.0000,-999.000,  4.7847,-999.000
      325023_1,  P14N,   105,  1,     21,     21,2,19930803,1832, 10.0038, 178.9983, 5509,   1017.3,   4.4912,  34.5498,2,  34.5499,2,   -999.0,9,     45.7,2,   102.32,2,    42.68,2,     0.00,2,     2.98,2,    0.004,3,    0.004,2, -999.000,9,-999.0000,9,  -999.00,9,   -999.0,9,   -999.0,9,  -999.00,9,-999.0000,-999.000,  4.4102,-999.000
      325023_1,  P14N,   105,  1,     20,     20,2,19930803,1832, 10.0038, 178.9983, 5509,   1217.8,   3.7513,  34.5735,2,  34.5722,2,   -999.0,9,     59.6,2,   117.33,2,    42.08,2,     0.00,2,     2.94,2, -999.000,5, -999.000,5, -999.000,9,-999.0000,9,  -999.00,9,   -999.0,9,   -999.0,9,  -999.00,9,-999.0000,-999.000,  3.6594,-999.000
      325023_1,  P14N,   105,  1,     19,     19,2,19930803,1832, 10.0038, 178.9983, 5509,   1414.1,   3.2032,  34.5901,2,  34.5893,2,   -999.0,9,     78.7,2,   127.71,2,    40.72,2,     0.00,2,     2.83,2, -999.000,5, -999.000,5, -999.000,9,-999.0000,9,  -999.00,9,   -999.0,9,   -999.0,9,  -999.00,9,-999.0000,-999.000,  3.1002,-999.000
      325023_1,  P14N,   105,  1,     18,     18,2,19930803,1832, 10.0038, 178.9983, 5509,   1616.6,   2.6967,  34.6100,2,  34.6093,2,   -999.0,9,     88.4,2,   139.04,2,    40.27,2,     0.00,2,     2.78,2, -999.000,5, -999.000,5, -999.000,9,-999.0000,9,  -999.00,9,   -999.0,9,   -999.0,9,  -999.00,9,-999.0000,-999.000,  2.5827,-999.000
      325023_1,  P14N,   105,  1,     17,     17,2,19930803,1832, 10.0038, 178.9983, 5509,   1822.3,   2.3819,  34.6248,2,  34.6242,2,   -999.0,9,     96.8,2,   145.44,2,    39.73,2,     0.00,2,     2.74,2,   -0.002,2,   -0.002,2, -999.000,9,-999.0000,9,  -999.00,9,   -999.0,9,   -999.0,9,  -999.00,9,-999.0000,-999.000,  2.2548,-999.000
      325023_1,  P14N,   105,  1,     16,     16,2,19930803,1832, 10.0038, 178.9983, 5509,   2027.6,   2.1714,  34.6372,2,  34.6378,2,   -999.0,9,    102.2,2,   151.18,2,    39.47,2,     0.00,2,     2.71,2, -999.000,5, -999.000,5, -999.000,9,-999.0000,9,  -999.00,9,   -999.0,9,   -999.0,9,  -999.00,9,-999.0000,-999.000,  2.0300,-999.000
      325023_1,  P14N,   105,  1,     15,     15,2,19930803,1832, 10.0038, 178.9983, 5509,   2232.2,   2.0015,  34.6477,2,  34.6483,2,   -999.0,9,    108.3,2,   154.65,2,    39.07,2,     0.00,2,     2.67,2, -999.000,5, -999.000,5, -999.000,9,-999.0000,9,  -999.00,9,   -999.0,9,   -999.0,9,  -999.00,9,-999.0000,-999.000,  1.8451,-999.000
      325023_1,  P14N,   105,  1,     14,     14,2,19930803,1832, 10.0038, 178.9983, 5509,   2436.7,   1.8956,  34.6554,2,  34.6564,2,   -999.0,9,    113.1,2,   156.52,2,    38.81,2,     0.00,2,     2.65,2, -999.000,5, -999.000,5, -999.000,9,-999.0000,9,  -999.00,9,   -999.0,9,   -999.0,9,  -999.00,9,-999.0000,-999.000,  1.7230,-999.000
      325023_1,  P14N,   105,  1,     13,     13,2,19930803,1832, 10.0038, 178.9983, 5509,   2640.1,   1.8052,  34.6617,2,  34.6619,2,   -999.0,9,    119.1,2,   157.48,2,    38.51,2,     0.00,2,     2.61,2, -999.000,5, -999.000,5, -999.000,9,-999.0000,9,  -999.00,9,   -999.0,9,   -999.0,9,  -999.00,9,-999.0000,-999.000,  1.6157,-999.000
      325023_1,  P14N,   105,  1,     12,     12,2,19930803,1832, 10.0038, 178.9983, 5509,   2842.6,   1.7391,  34.6662,2,  34.6674,2,   -999.0,9,    123.1,2,   158.44,2,    38.20,2,     0.00,2,     2.58,2,    0.005,2,   -0.003,2, -999.000,9,-999.0000,9,  -999.00,9,   -999.0,9,   -999.0,9,  -999.00,9,-999.0000,-999.000,  1.5321,-999.000
      325023_1,  P14N,   105,  1,     11,     11,2,19930803,1832, 10.0038, 178.9983, 5509,   3044.7,   1.6747,  34.6709,2,  34.6715,2,   -999.0,9,    128.8,2,   157.80,2,    37.76,2,     0.00,2,     2.56,2, -999.000,5, -999.000,5, -999.000,9,-999.0000,9,  -999.00,9,   -999.0,9,   -999.0,9,  -999.00,9,-999.0000,-999.000,  1.4497,-999.000
      325023_1,  P14N,   105,  1,     10,     10,2,19930803,1832, 10.0038, 178.9983, 5509,   3349.9,   1.5831,  34.6765,2,  34.6778,2,   -999.0,9,    137.6,2,   157.16,2,    37.27,2,     0.00,2,     2.52,2, -999.000,5, -999.000,5, -999.000,9,-999.0000,9,  -999.00,9,   -999.0,9,   -999.0,9,  -999.00,9,-999.0000,-999.000,  1.3302,-999.000
      325023_1,  P14N,   105,  1,      9,      9,2,19930803,1832, 10.0038, 178.9983, 5509,   3646.8,   1.4962,  34.6823,2,  34.6831,2,   -999.0,9,    147.7,2,   154.01,2,    36.55,2,     0.00,2,     2.46,2, -999.000,5, -999.000,5, -999.000,9,-999.0000,9,  -999.00,9,   -999.0,9,   -999.0,9,  -999.00,9,-999.0000,-999.000,  1.2150,-999.000
      325023_1,  P14N,   105,  1,      8,      8,2,19930803,1832, 10.0038, 178.9983, 5509,   3948.0,   1.4270,  34.6877,2,  34.6882,2,   -999.0,9,    158.2,2,   149.52,2,    35.92,2,     0.00,2,     2.40,2,   -0.001,2,    0.000,2, -999.000,9,-999.0000,9,  -999.00,9,   -999.0,9,   -999.0,9,  -999.00,9,-999.0000,-999.000,  1.1158,-999.000
      325023_1,  P14N,   105,  1,      7,      7,2,19930803,1832, 10.0038, 178.9983, 5509,   4259.0,   1.3511,  34.6933,2,  34.6943,2,   -999.0,9,    170.6,2,   143.01,2,    34.97,2,     0.00,2,     2.35,2, -999.000,5, -999.000,5, -999.000,9,-999.0000,9,  -999.00,9,   -999.0,9,   -999.0,9,  -999.00,9,-999.0000,-999.000,  1.0079,-999.000
      325023_1,  P14N,   105,  1,      6,      6,2,19930803,1832, 10.0038, 178.9983, 5509,   4567.0,   1.3172,  34.6976,2,  34.6982,2,   -999.0,9,    178.9,2,   138.35,2,    34.39,2,     0.00,2,     2.31,2, -999.000,5, -999.000,5, -999.000,9,-999.0000,9,  -999.00,9,   -999.0,9,   -999.0,9,  -999.00,9,-999.0000,-999.000,  0.9402,-999.000
      325023_1,  P14N,   105,  1,      5,      5,2,19930803,1832, 10.0038, 178.9983, 5509,   4873.1,   1.3069,  34.7004,2,  34.7015,2,   -999.0,9,    185.5,2,   134.14,2,    33.86,2,     0.00,2,     2.27,2, -999.000,5, -999.000,5, -999.000,9,-999.0000,9,  -999.00,9,   -999.0,9,   -999.0,9,  -999.00,9,-999.0000,-999.000,  0.8944,-999.000
      325023_1,  P14N,   105,  1,      4,      4,3,19930803,1832, 10.0038, 178.9983, 5509,   5178.2,   1.3272,  34.7013,2,  34.6958,4,   -999.0,9,    184.7,4,   133.09,4,    34.07,4,     0.00,4,     2.28,4,   -0.003,4,   -0.003,4, -999.000,9,-999.0000,9,  -999.00,9,   -999.0,9,   -999.0,9,  -999.00,9,-999.0000,-999.000,  0.8770,-999.000
      325023_1,  P14N,   105,  1,      3,      3,2,19930803,1832, 10.0038, 178.9983, 5509,   5489.0,   1.3607,  34.7024,2,  34.7029,2,   -999.0,9,    188.4,2,   132.25,2,    33.72,2,     0.00,2,     2.25,2, -999.000,5, -999.000,5, -999.000,9,-999.0000,9,  -999.00,9,   -999.0,9,   -999.0,9,  -999.00,9,-999.0000,-999.000,  0.8705,-999.000
      325023_1,  P14N,   105,  1,      2,      2,2,19930803,1832, 10.0038, 178.9983, 5509,   5633.2,   1.3691,  34.7025,2,  34.7035,2,   -999.0,9,    189.4,2,   131.64,2,    33.65,2,     0.00,2,     2.24,2, -999.000,5, -999.000,5, -999.000,9,-999.0000,9,  -999.00,9,   -999.0,9,   -999.0,9,  -999.00,9,-999.0000,-999.000,  0.8602,-999.000
      325023_1,  P14N,   105,  1,      1,      1,2,19930803,1832, 10.0038, 178.9983, 5509,   5633.4,   1.3693,  34.7027,2,  34.7031,2,   -999.0,9,    188.1,2,   131.70,2,    33.71,2,     0.00,2,     2.24,2,    0.001,2,   -0.001,2, -999.000,9,-999.0000,9,  -999.00,9,   -999.0,9,   -999.0,9,  -999.00,9,-999.0000,-999.000,  0.8603,-999.000