BOTTLE,20131125MIRCJHATS
EXPOCODE,SECT_ID,STNNBR,CASTNO,SAMPNO,BTLNBR,BTLNBR_FLAG_W,DATE,TIME,LATITUDE,LONGITUDE,DEPTH,CTDPRS,CTDTMP,CTDSAL,CTDSAL_FLAG_W,SALNTY,SALNTY_FLAG_W,CTDOXY,CTDOXY_FLAG_W,OXYGEN,OXYGEN_FLAG_W,SILCAT,SILCAT_FLAG_W,NITRAT,NITRAT_FLAG_W,NITRIT,NITRIT_FLAG_W,PHSPHT,PHSPHT_FLAG_W,CFC-11,CFC-11_FLAG_W,CFC-12,CFC-12_FLAG_W,TRITUM,TRITUM_FLAG_W,HELIUM,HELIUM_FLAG_W,DELHE3,DELHE3_FLAG_W,TCARBN,TCARBN_FLAG_W,ALKALI,ALKALI_FLAG_W,PH,PH_FLAG_W,HELIER,DELHER,THETA,TRITER
,,,,,,,,,,,,DBAR,ITS-90,PSS-78,,PSS-78,,UMOL/KG,,UMOL/KG,,UMOL/KG,,UMOL/KG,,UMOL/KG,,UMOL/KG,,PMOL/KG,,PMOL/KG,,TU,,NMOL/KG,,PERCNT,,UMOL/KG,,UMOL/KG,,25_DEG,,NMOL/KG,PERCNT,DEG C,TU
      325023_1,  P14N,    28,  1,     36,     36,2,19930713,0234, 48.4983, 178.9987, 5462,      3.4,   8.0255,  32.8056,2,  32.8047,2,   -999.0,9,    320.0,2,    11.59,2,    14.10,2,     0.25,2,     1.35,2,    4.769,2,    2.270,2, -999.000,9,-999.0000,9,  -999.00,9,   -999.0,9,   -999.0,9,  -999.00,9,-999.0000,-999.000,  8.0252,-999.000
      325023_1,  P14N,    28,  1,     35,     35,2,19930713,0234, 48.4983, 178.9987, 5462,     39.5,   6.3367,  32.8557,2,  32.8432,2,   -999.0,9,    316.4,2,    27.56,2,    17.40,2,     0.23,2,     1.62,2, -999.000,5, -999.000,5, -999.000,9,-999.0000,9,  -999.00,9,   -999.0,9,   -999.0,9,  -999.00,9,-999.0000,-999.000,  6.3334,-999.000
      325023_1,  P14N,    28,  1,     34,     34,2,19930713,0234, 48.4983, 178.9987, 5462,     69.7,   3.3622,  32.9665,2,  32.9645,2,   -999.0,9,    321.0,2,    43.73,2,    22.57,2,     0.29,2,     1.98,2, -999.000,5, -999.000,5, -999.000,9,-999.0000,9,  -999.00,9,   -999.0,9,   -999.0,9,  -999.00,9,-999.0000,-999.000,  3.3580,-999.000
      325023_1,  P14N,    28,  1,     33,     33,2,19930713,0234, 48.4983, 178.9987, 5462,    100.0,   2.8898,  33.1345,2,  33.1136,2,   -999.0,9,    285.8,2,    49.52,2,    26.18,2,     0.05,2,     2.13,2, -999.000,5, -999.000,5, -999.000,9,-999.0000,9,  -999.00,9,   -999.0,9,   -999.0,9,  -999.00,9,-999.0000,-999.000,  2.8841,-999.000
      325023_1,  P14N,    28,  1,     32,     32,2,19930713,0234, 48.4983, 178.9987, 5462,    130.3,   2.9621,  33.6681,2,  33.6613,2,   -999.0,9,    114.3,2,    84.81,2,    39.19,2,     0.04,2,     2.92,2,    2.906,2,    1.331,2, -999.000,9,-999.0000,9,  -999.00,9,   -999.0,9,   -999.0,9,  -999.00,9,-999.0000,-999.000,  2.9543,-999.000
      325023_1,  P14N,    28,  1,     31,     31,2,19930713,0234, 48.4983, 178.9987, 5462,    160.2,   3.0917,  33.7688,2,  33.7654,2,   -999.0,9,     81.9,2,    92.84,2,    41.19,2,     0.03,2,     3.04,2,    2.458,2,    1.100,2, -999.000,9,-999.0000,9,  -999.00,9,   -999.0,9,   -999.0,9,  -999.00,9,-999.0000,-999.000,  3.0819,-999.000
      325023_1,  P14N,    28,  1,     30,     30,2,19930713,0234, 48.4983, 178.9987, 5462,    210.8,   3.3358,  33.8840,2,  33.8825,2,   -999.0,9,     43.2,2,   101.89,2,    43.68,2,     0.01,2,     3.18,2,    1.564,2,    0.684,2, -999.000,9,-999.0000,9,  -999.00,9,   -999.0,9,   -999.0,9,  -999.00,9,-999.0000,-999.000,  3.3225,-999.000
      325023_1,  P14N,    28,  1,     29,     29,2,19930713,0234, 48.4983, 178.9987, 5462,    261.2,   3.3722,  33.9694,2,  33.9656,2,   -999.0,9,     37.0,2,   108.38,2,    43.40,2,     0.01,2,     3.17,2, -999.000,5, -999.000,5, -999.000,9,-999.0000,9,  -999.00,9,   -999.0,9,   -999.0,9,  -999.00,9,-999.0000,-999.000,  3.3554,-999.000
      325023_1,  P14N,    28,  1,     28,     28,2,19930713,0234, 48.4983, 178.9987, 5462,    311.5,   3.3562,  34.0355,2,  34.0305,2,   -999.0,9,     38.8,2,   113.70,2,    43.31,2,     0.01,2,     3.14,2, -999.000,5, -999.000,5, -999.000,9,-999.0000,9,  -999.00,9,   -999.0,9,   -999.0,9,  -999.00,9,-999.0000,-999.000,  3.3361,-999.000
      325023_1,  P14N,    28,  1,     27,     27,2,19930713,0234, 48.4983, 178.9987, 5462,    412.2,   3.3292,  34.1310,2,  34.1283,2,   -999.0,9,     26.8,2,   122.66,2,    43.27,2,     0.01,2,     3.16,2, -999.000,5, -999.000,5, -999.000,9,-999.0000,9,  -999.00,9,   -999.0,9,   -999.0,9,  -999.00,9,-999.0000,-999.000,  3.3023,-999.000
      325023_1,  P14N,    28,  1,     26,     26,2,19930713,0234, 48.4983, 178.9987, 5462,    512.9,   3.2316,  34.2162,2,  34.2133,2,   -999.0,9,     20.2,2,   132.10,2,    43.64,2,     0.00,2,     3.18,2,    0.272,6,    0.132,2, -999.000,9,-999.0000,9,  -999.00,9,   -999.0,9,   -999.0,9,  -999.00,9,-999.0000,-999.000,  3.1980,-999.000
      325023_1,  P14N,    28,  1,     25,     25,2,19930713,0234, 48.4983, 178.9987, 5462,    613.0,   3.1091,  34.2745,2,  34.2716,2,   -999.0,9,     18.9,2,   138.13,2,    43.68,2,     0.00,2,     3.18,2,    0.178,2,    0.082,2, -999.000,9,-999.0000,9,  -999.00,9,   -999.0,9,   -999.0,9,  -999.00,9,-999.0000,-999.000,  3.0690,-999.000
      325023_1,  P14N,    28,  1,     24,     24,2,19930713,0234, 48.4983, 178.9987, 5462,    715.1,   2.9620,  34.3205,2,  34.3182,2,   -999.0,9,     19.6,2,   143.78,2,    43.59,2,     0.00,2,     3.18,2,    0.112,2,    0.047,2, -999.000,9,-999.0000,9,  -999.00,9,   -999.0,9,   -999.0,9,  -999.00,9,-999.0000,-999.000,  2.9154,-999.000
      325023_1,  P14N,    28,  1,     23,     23,2,19930713,0234, 48.4983, 178.9987, 5462,    815.9,   2.8260,  34.3594,2,  34.3566,2,   -999.0,9,     20.7,2,   149.06,2,    43.45,2,     0.00,2,     3.18,2, -999.000,5, -999.000,5, -999.000,9,-999.0000,9,  -999.00,9,   -999.0,9,   -999.0,9,  -999.00,9,-999.0000,-999.000,  2.7732,-999.000
      325023_1,  P14N,    28,  1,     22,     22,2,19930713,0234, 48.4983, 178.9987, 5462,    916.9,   2.6851,  34.3989,2,  34.3954,2,   -999.0,9,     22.6,2,   153.94,2,    43.32,2,     0.00,2,     3.18,2, -999.000,5, -999.000,5, -999.000,9,-999.0000,9,  -999.00,9,   -999.0,9,   -999.0,9,  -999.00,9,-999.0000,-999.000,  2.6259,-999.000
      325023_1,  P14N,    28,  1,     21,     21,2,19930713,0234, 48.4983, 178.9987, 5462,   1016.1,   2.5915,  34.4232,2,  34.4195,2,   -999.0,9,     24.8,2,   157.39,2,    43.32,2,     0.00,2,     3.18,2, -999.000,5, -999.000,5, -999.000,9,-999.0000,9,  -999.00,9,   -999.0,9,   -999.0,9,  -999.00,9,-999.0000,-999.000,  2.5258,-999.000
      325023_1,  P14N,    28,  1,     20,     20,2,19930713,0234, 48.4983, 178.9987, 5462,   1217.1,   2.3809,  34.4755,2,  34.4722,2,   -999.0,9,     31.2,2,   163.37,2,    43.05,2,     0.00,2,     3.15,2,    0.020,2,    0.015,2, -999.000,9,-999.0000,9,  -999.00,9,   -999.0,9,   -999.0,9,  -999.00,9,-999.0000,-999.000,  2.3021,-999.000
      325023_1,  P14N,    28,  1,     19,     19,2,19930713,0234, 48.4983, 178.9987, 5462,   1422.7,   2.1973,  34.5213,2,  34.5188,2,   -999.0,9,     40.7,2,   168.34,2,    42.59,2,     0.00,2,     3.11,2, -999.000,5, -999.000,5, -999.000,9,-999.0000,9,  -999.00,9,   -999.0,9,   -999.0,9,  -999.00,9,-999.0000,-999.000,  2.1048,-999.000
      325023_1,  P14N,    28,  1,     18,     18,2,19930713,0234, 48.4983, 178.9987, 5462,   1628.5,   2.0468,  34.5563,2,  34.5543,2,   -999.0,9,     51.1,2,   170.78,2,    42.00,2,     0.00,2,     3.06,2, -999.000,5, -999.000,5, -999.000,9,-999.0000,9,  -999.00,9,   -999.0,9,   -999.0,9,  -999.00,9,-999.0000,-999.000,  1.9401,-999.000
      325023_1,  P14N,    28,  1,     17,     17,2,19930713,0234, 48.4983, 178.9987, 5462,   1829.9,   1.9283,  34.5825,2,  34.5798,2,   -999.0,9,     62.0,2,   171.10,2,    41.41,2,     0.00,2,     2.95,2, -999.000,5, -999.000,5, -999.000,9,-999.0000,9,  -999.00,9,   -999.0,9,   -999.0,9,  -999.00,9,-999.0000,-999.000,  1.8070,-999.000
      325023_1,  P14N,    28,  1,     16,     16,2,19930713,0234, 48.4983, 178.9987, 5462,   2033.0,   1.8249,  34.6040,2,  34.6011,2,   -999.0,9,     73.8,2,   169.49,2,    40.72,2,     0.00,2,     2.90,2,   -0.002,2,    0.000,3, -999.000,9,-999.0000,9,  -999.00,9,   -999.0,9,   -999.0,9,  -999.00,9,-999.0000,-999.000,  1.6884,-999.000
      325023_1,  P14N,    28,  1,     15,     15,2,19930713,0234, 48.4983, 178.9987, 5462,   2239.9,   1.7315,  34.6219,2,  34.6198,2,   -999.0,9,     86.0,2,   170.02,2,    39.95,2,     0.00,2,     2.84,2, -999.000,5, -999.000,5, -999.000,9,-999.0000,9,  -999.00,9,   -999.0,9,   -999.0,9,  -999.00,9,-999.0000,-999.000,  1.5791,-999.000
      325023_1,  P14N,    28,  1,     14,     14,2,19930713,0234, 48.4983, 178.9987, 5462,   2444.2,   1.6631,  34.6352,2,  34.6327,2,   -999.0,9,     96.5,2,   171.40,2,    39.27,2,     0.00,2,     2.79,2, -999.000,5, -999.000,5, -999.000,9,-999.0000,9,  -999.00,9,   -999.0,9,   -999.0,9,  -999.00,9,-999.0000,-999.000,  1.4941,-999.000
      325023_1,  P14N,    28,  1,     13,     13,2,19930713,0234, 48.4983, 178.9987, 5462,   2647.9,   1.6077,  34.6463,2,  34.6444,2,   -999.0,9,    105.9,2,   171.92,2,    38.73,2,     0.00,2,     2.74,2, -999.000,5, -999.000,5, -999.000,9,-999.0000,9,  -999.00,9,   -999.0,9,   -999.0,9,  -999.00,9,-999.0000,-999.000,  1.4215,-999.000
      325023_1,  P14N,    28,  1,     12,     12,2,19930713,0234, 48.4983, 178.9987, 5462,   2853.4,   1.5639,  34.6546,2,  34.6534,2,   -999.0,9,    114.4,2,   171.17,2,    38.19,2,     0.00,2,     2.70,2, -999.000,5, -999.000,5, -999.000,9,-999.0000,9,  -999.00,9,   -999.0,9,   -999.0,9,  -999.00,9,-999.0000,-999.000,  1.3597,-999.000
      325023_1,  P14N,    28,  1,     11,     11,2,19930713,0234, 48.4983, 178.9987, 5462,   3056.4,   1.5288,  34.6619,2,  34.6603,2,   -999.0,9,    122.1,2,   170.00,2,    37.74,2,     0.00,2,     2.67,2,    0.002,2,    0.002,2, -999.000,9,-999.0000,9,  -999.00,9,   -999.0,9,   -999.0,9,  -999.00,9,-999.0000,-999.000,  1.3060,-999.000
      325023_1,  P14N,    28,  1,     10,     10,2,19930713,0234, 48.4983, 178.9987, 5462,   3363.3,   1.4895,  34.6705,2,  34.6605,4,   -999.0,9,    132.8,2,   168.18,2,    36.97,2,     0.00,2,     2.61,2, -999.000,5, -999.000,5, -999.000,9,-999.0000,9,  -999.00,9,   -999.0,9,   -999.0,9,  -999.00,9,-999.0000,-999.000,  1.2375,-999.000
      325023_1,  P14N,    28,  1,      9,      9,2,19930713,0234, 48.4983, 178.9987, 5462,   3673.6,   1.4655,  34.6773,2,  34.6752,2,   -999.0,9,    141.3,2,   166.80,2,    36.52,2,     0.00,2,     2.57,2, -999.000,5, -999.000,5, -999.000,9,-999.0000,9,  -999.00,9,   -999.0,9,   -999.0,9,  -999.00,9,-999.0000,-999.000,  1.1824,-999.000
      325023_1,  P14N,    28,  1,      8,      8,2,19930713,0234, 48.4983, 178.9987, 5462,   3980.7,   1.4565,  34.6819,2,  34.6795,2,   -999.0,9,    146.9,2,   164.79,2,    36.07,2,     0.00,2,     2.54,2, -999.000,5, -999.000,5, -999.000,9,-999.0000,9,  -999.00,9,   -999.0,9,   -999.0,9,  -999.00,9,-999.0000,-999.000,  1.1410,-999.000
      325023_1,  P14N,    28,  1,      7,      7,2,19930713,0234, 48.4983, 178.9987, 5462,   4288.0,   1.4666,  34.6847,2,  34.6822,2,   -999.0,9,    150.2,2,   161.94,2,    35.85,2,     0.00,2,     2.53,2, -999.000,5, -999.000,5, -999.000,9,-999.0000,9,  -999.00,9,   -999.0,9,   -999.0,9,  -999.00,9,-999.0000,-999.000,  1.1168,-999.000
      325023_1,  P14N,    28,  1,      6,      6,2,19930713,0234, 48.4983, 178.9987, 5462,   4598.8,   1.4909,  34.6864,2,  34.6851,2,   -999.0,9,    151.5,2,   160.78,2,    35.85,2,     0.00,2,     2.52,2, -999.000,5, -999.000,5, -999.000,9,-999.0000,9,  -999.00,9,   -999.0,9,   -999.0,9,  -999.00,9,-999.0000,-999.000,  1.1048,-999.000
      325023_1,  P14N,    28,  1,      5,      5,2,19930713,0234, 48.4983, 178.9987, 5462,   4906.7,   1.5226,  34.6873,2,  34.6855,2,   -999.0,9,    152.4,2,   162.56,2,    35.86,2,     0.00,2,     2.52,2, -999.000,5, -999.000,5, -999.000,9,-999.0000,9,  -999.00,9,   -999.0,9,   -999.0,9,  -999.00,9,-999.0000,-999.000,  1.0989,-999.000
      325023_1,  P14N,    28,  1,      4,      4,2,19930713,0234, 48.4983, 178.9987, 5462,   5217.3,   1.5585,  34.6873,2,  34.6859,2,   -999.0,9,    153.1,2,   162.45,2,    35.77,2,     0.00,2,     2.51,2, -999.000,5, -999.000,5, -999.000,9,-999.0000,9,  -999.00,9,   -999.0,9,   -999.0,9,  -999.00,9,-999.0000,-999.000,  1.0956,-999.000
      325023_1,  P14N,    28,  1,      3,      3,2,19930713,0234, 48.4983, 178.9987, 5462,   5524.7,   1.5920,  34.6880,2,  34.6863,2,   -999.0,9,    154.6,2,   159.62,2,    35.63,2,     0.00,2,     2.51,2,    0.000,2,    0.006,2, -999.000,9,-999.0000,9,  -999.00,9,   -999.0,9,   -999.0,9,  -999.00,9,-999.0000,-999.000,  1.0890,-999.000
      325023_1,  P14N,    28,  1,      2,      2,2,19930713,0234, 48.4983, 178.9987, 5462,   5574.1,   1.5972,  34.6882,2,  34.6863,2,   -999.0,9,    154.7,2,   158.88,2,    35.64,2,     0.00,2,     2.51,2,    0.001,2,    0.003,2, -999.000,9,-999.0000,9,  -999.00,9,   -999.0,9,   -999.0,9,  -999.00,9,-999.0000,-999.000,  1.0876,-999.000
      325023_1,  P14N,    28,  1,      1,      1,2,19930713,0234, 48.4983, 178.9987, 5462,   5576.0,   1.5976,  34.6880,2,  34.6872,2,   -999.0,9,    154.5,2,   159.40,2,    35.64,2,     0.00,2,     2.50,2, -999.000,5, -999.000,5, -999.000,9,-999.0000,9,  -999.00,9,   -999.0,9,   -999.0,9,  -999.00,9,-999.0000,-999.000,  1.0877,-999.000