BOTTLE,20131125MIRCJHATS
EXPOCODE,SECT_ID,STNNBR,CASTNO,SAMPNO,BTLNBR,BTLNBR_FLAG_W,DATE,TIME,LATITUDE,LONGITUDE,DEPTH,CTDPRS,CTDTMP,CTDSAL,CTDSAL_FLAG_W,SALNTY,SALNTY_FLAG_W,CTDOXY,CTDOXY_FLAG_W,OXYGEN,OXYGEN_FLAG_W,SILCAT,SILCAT_FLAG_W,NITRAT,NITRAT_FLAG_W,NITRIT,NITRIT_FLAG_W,PHSPHT,PHSPHT_FLAG_W,CFC-11,CFC-11_FLAG_W,CFC-12,CFC-12_FLAG_W,TRITUM,TRITUM_FLAG_W,HELIUM,HELIUM_FLAG_W,DELHE3,DELHE3_FLAG_W,TCARBN,TCARBN_FLAG_W,ALKALI,ALKALI_FLAG_W,PH,PH_FLAG_W,HELIER,DELHER,THETA,TRITER
,,,,,,,,,,,,DBAR,ITS-90,PSS-78,,PSS-78,,UMOL/KG,,UMOL/KG,,UMOL/KG,,UMOL/KG,,UMOL/KG,,UMOL/KG,,PMOL/KG,,PMOL/KG,,TU,,NMOL/KG,,PERCNT,,UMOL/KG,,UMOL/KG,,25_DEG,,NMOL/KG,PERCNT,DEG C,TU
      325024_1,  P14N,   164,  1,     36,     36,2,19930823,1908, -5.4993, 179.0037, 5695,      2.2,  29.9061,  34.3275,2,  34.3356,2,   -999.0,9,    194.7,2,     3.33,2,     0.03,2,     0.00,2,     0.19,2, -999.000,5, -999.000,5, -999.000,9,-999.0000,9,  -999.00,9,   1899.0,2,   2258.0,2,     8.11,2,-999.0000,-999.000, 29.9055,-999.000
      325024_1,  P14N,   164,  1,     35,     35,2,19930823,1908, -5.4993, 179.0037, 5695,     38.2,  29.9047,  34.3278,2,  34.3354,2,   -999.0,9,    195.0,2,     3.11,2,     0.03,2,     0.00,2,     0.19,2, -999.000,5, -999.000,5, -999.000,9,-999.0000,9,  -999.00,9,   1900.0,2,   2256.0,2,     8.12,2,-999.0000,-999.000, 29.8952,-999.000
      325024_1,  P14N,   164,  1,     34,     34,2,19930823,1908, -5.4993, 179.0037, 5695,     67.5,  29.9814,  34.5956,2,  34.5789,2,   -999.0,9,    198.4,2,     2.89,2,     0.03,2,     0.00,2,     0.21,2, -999.000,5, -999.000,5, -999.000,9,-999.0000,9,  -999.00,9,   1914.0,2,   2273.0,2,     8.12,2,-999.0000,-999.000, 29.9647,-999.000
      325024_1,  P14N,   164,  1,     33,     33,2,19930823,1908, -5.4993, 179.0037, 5695,     97.4,  28.0462,  35.5246,2,  35.5276,2,   -999.0,9,    162.7,2,     3.45,2,     4.12,2,     0.93,2,     0.62,2, -999.000,5, -999.000,5, -999.000,9,-999.0000,9,  -999.00,9,   2027.0,2,   2334.0,2,     8.00,2,-999.0000,-999.000, 28.0232,-999.000
      325024_1,  P14N,   164,  1,     32,     32,2,19930823,1908, -5.4993, 179.0037, 5695,    127.9,  25.7538,  35.7726,2,  35.7907,2,   -999.0,9,    146.4,2,     3.43,2,     6.87,2,     0.80,2,     0.80,2, -999.000,5, -999.000,5, -999.000,9,-999.0000,9,  -999.00,9,   2068.0,2,   2358.0,2,     7.97,2,-999.0000,-999.000, 25.7253,-999.000
      325024_1,  P14N,   164,  1,     31,     31,2,19930823,1908, -5.4993, 179.0037, 5695,    157.7,  23.2247,  35.8819,2,  35.8915,2,   -999.0,9,    137.3,2,     3.79,2,     8.96,2,     0.13,2,     0.91,2, -999.000,5, -999.000,5, -999.000,9,-999.0000,9,  -999.00,9,   2103.0,2,   2363.0,2,     7.91,2,-999.0000,-999.000, 23.1922,-999.000
      325024_1,  P14N,   164,  1,     30,     30,2,19930823,1908, -5.4993, 179.0037, 5695,    208.2,  17.3331,  35.4325,2,  35.4507,2,   -999.0,9,    106.3,2,     8.65,2,    15.65,2,     0.01,2,     1.33,2, -999.000,5, -999.000,5, -999.000,9,-999.0000,9,  -999.00,9,   2155.0,2,   2340.0,2,     7.78,2,-999.0000,-999.000, 17.2982,-999.000
      325024_1,  P14N,   164,  1,     29,     29,2,19930823,1908, -5.4993, 179.0037, 5695,    258.5,  13.7970,  35.0673,2,  35.0595,2,   -999.0,9,     87.5,2,    15.67,2,    22.24,2,     0.00,2,     1.73,2, -999.000,5, -999.000,5, -999.000,9,-999.0000,9,  -999.00,9,   2185.0,2,   2315.0,2,     7.65,2,-999.0000,-999.000, 13.7599,-999.000
      325024_1,  P14N,   164,  1,     28,     28,2,19930823,1908, -5.4993, 179.0037, 5695,    308.2,  10.8473,  34.8095,2,  34.8084,2,   -999.0,9,     81.6,2,    23.85,2,    27.91,2,     0.00,2,     2.03,2,    0.268,2,    0.146,2, -999.000,9,-999.0000,9,  -999.00,9,   2207.0,2,   2308.0,2,     7.58,2,-999.0000,-999.000, 10.8095,-999.000
      325024_1,  P14N,   164,  1,     27,     27,2,19930823,1908, -5.4993, 179.0037, 5695,    408.6,   9.4081,  34.7029,2,  34.7030,2,   -999.0,9,     81.7,2,    29.10,2,    30.98,2,     0.00,2,     2.19,2,    0.133,2,    0.074,2, -999.000,9,-999.0000,9,  -999.00,9,   2219.0,2,   2311.0,2,     7.55,2,-999.0000,-999.000,  9.3621,-999.000
      325024_1,  P14N,   164,  1,     26,     26,2,19930823,1908, -5.4993, 179.0037, 5695,    508.2,   8.2845,  34.6301,2,  34.6317,2,   -999.0,9,     93.5,2,    33.18,2,    32.19,2,     0.00,2,     2.27,2,    0.092,2,    0.045,2, -999.000,9,-999.0000,9,  -999.00,9,   2223.0,2,   2311.0,2,     7.52,2,-999.0000,-999.000,  8.2312,-999.000
      325024_1,  P14N,   164,  1,     25,     25,2,19930823,1908, -5.4993, 179.0037, 5695,    608.5,   7.1647,  34.5673,2,  34.5672,2,   -999.0,9,    106.1,2,    39.41,2,    33.32,2,     0.00,2,     2.35,2,    0.049,2,    0.026,2, -999.000,9,-999.0000,9,  -999.00,9,   2230.0,2,   2313.0,2,     7.53,2,-999.0000,-999.000,  7.1057,-999.000
      325024_1,  P14N,   164,  1,     24,     24,2,19930823,1908, -5.4993, 179.0037, 5695,    708.4,   6.2648,  34.5377,2,  34.5392,2,   -999.0,9,    103.1,2,    49.16,2,    35.60,2,     0.00,2,     2.51,2,    0.013,2,    0.008,2, -999.000,9,-999.0000,9,  -999.00,9,   2245.0,2,   2319.0,2,     7.50,2,-999.0000,-999.000,  6.2004,-999.000
      325024_1,  P14N,   164,  1,     23,     23,2,19930823,1908, -5.4993, 179.0037, 5695,    808.5,   5.6308,  34.5312,2,  34.5337,2,   -999.0,9,     92.2,2,    59.31,2,    37.81,2,     0.00,2,     2.68,2,    0.003,2,    0.005,2, -999.000,9,-999.0000,9,  -999.00,9,   2262.0,2,   2330.0,2,     7.49,2,-999.0000,-999.000,  5.5606,-999.000
      325024_1,  P14N,   164,  1,     22,     22,2,19930823,1908, -5.4993, 179.0037, 5695,    908.4,   5.0805,  34.5316,2,  34.5319,2,   -999.0,9,     96.9,2,    68.30,2,    38.04,2,     0.00,2,     2.70,2,    0.000,2,    0.001,2, -999.000,9,-999.0000,9,  -999.00,9,   2274.0,2,   2338.0,2,     7.48,2,-999.0000,-999.000,  5.0048,-999.000
      325024_1,  P14N,   164,  1,     21,     21,2,19930823,1908, -5.4993, 179.0037, 5695,   1008.7,   4.6208,  34.5371,2,  34.5381,2,   -999.0,9,     99.5,2,    77.11,2,    38.27,2,     0.00,2,     2.73,2, -999.000,5, -999.000,5, -999.000,9,-999.0000,9,  -999.00,9,   2285.0,2,   2349.0,2,     7.47,2,-999.0000,-999.000,  4.5396,-999.000
      325024_1,  P14N,   164,  1,     20,     20,2,19930823,1908, -5.4993, 179.0037, 5695,   1209.2,   3.7178,  34.5626,2,  34.5621,2,   -999.0,9,    108.6,2,    95.66,2,    37.96,2,     0.00,2,     2.71,2, -999.000,5, -999.000,5, -999.000,9,-999.0000,9,  -999.00,9,   2299.0,2,   2370.0,2,     7.50,2,-999.0000,-999.000,  3.6269,-999.000
      325024_1,  P14N,   164,  1,     19,     19,2,19930823,1908, -5.4993, 179.0037, 5695,   1409.9,   3.1193,  34.5904,2,  34.5899,2,   -999.0,9,    110.5,2,   111.57,2,    38.05,2,     0.00,2,     2.72,2, -999.000,5, -999.000,5, -999.000,9,-999.0000,9,  -999.00,9,   2318.0,2,   2391.0,2,     7.47,2,-999.0000,-999.000,  3.0176,-999.000
      325024_1,  P14N,   164,  1,     18,     18,2,19930823,1908, -5.4993, 179.0037, 5695,   1611.0,   2.7068,  34.6109,2,  34.6111,2,   -999.0,9,    113.9,2,   122.19,2,    38.00,2,     0.00,2,     2.71,2, -999.000,5, -999.000,5, -999.000,9,-999.0000,9,  -999.00,9,   2327.0,2,   2398.0,2,     7.51,2,-999.0000,-999.000,  2.5932,-999.000
      325024_1,  P14N,   164,  1,     17,     17,2,19930823,1908, -5.4993, 179.0037, 5695,   1812.5,   2.4364,  34.6258,2,  34.6252,2,   -999.0,9,    118.3,2,   129.03,2,    38.10,2,     0.00,2,     2.69,2, -999.000,5, -999.000,5, -999.000,9,-999.0000,9,  -999.00,9,   2332.0,2,   2401.0,2,     7.50,2,-999.0000,-999.000,  2.3094,-999.000
      325024_1,  P14N,   164,  1,     16,     16,2,19930823,1908, -5.4993, 179.0037, 5695,   2013.8,   2.2244,  34.6370,2,  34.6366,2,   -999.0,9,    124.5,2,   133.66,2,    37.56,2,     0.00,2,     2.65,2, -999.000,5, -999.000,5, -999.000,9,-999.0000,9,  -999.00,9,   2332.0,2,   2409.0,2,     7.52,2,-999.0000,-999.000,  2.0833,-999.000
      325024_1,  P14N,   164,  1,     15,     15,2,19930823,1908, -5.4993, 179.0037, 5695,   2215.8,   2.0515,  34.6471,2,  34.6465,2,   -999.0,9,    128.5,2,   137.70,2,    37.34,2,     0.00,2,     2.64,2, -999.000,5, -999.000,5, -999.000,9,-999.0000,9,  -999.00,9,   2335.0,2,   2409.0,2,     7.51,2,-999.0000,-999.000,  1.8957,-999.000
      325024_1,  P14N,   164,  1,     14,     14,2,19930823,1908, -5.4993, 179.0037, 5695,   2418.3,   1.9396,  34.6540,2,  34.6536,2,   -999.0,9,    132.1,2,   139.70,2,    37.08,2,     0.00,2,     2.61,2, -999.000,5, -999.000,5, -999.000,9,-999.0000,9,  -999.00,9,   2334.0,2,   2409.0,2,     7.53,2,-999.0000,-999.000,  1.7678,-999.000
      325024_1,  P14N,   164,  1,     13,     13,2,19930823,1908, -5.4993, 179.0037, 5695,   2620.6,   1.8440,  34.6606,2,  34.6605,2,   -999.0,9,    136.8,2,   141.08,2,    36.77,2,     0.00,2,     2.59,2, -999.000,5, -999.000,5, -999.000,9,-999.0000,9,  -999.00,9,   2334.0,2,   2416.0,2,     7.53,2,-999.0000,-999.000,  1.6557,-999.000
      325024_1,  P14N,   164,  1,     12,     12,2,19930823,1908, -5.4993, 179.0037, 5695,   2823.5,   1.7540,  34.6671,2,  34.6673,2,   -999.0,9,    141.0,2,   142.06,2,    36.46,2,     0.00,2,     2.56,2, -999.000,5, -999.000,5, -999.000,9,-999.0000,9,  -999.00,9,   2331.0,2,   2421.0,2,     7.52,2,-999.0000,-999.000,  1.5485,-999.000
      325024_1,  P14N,   164,  1,     11,     11,2,19930823,1908, -5.4993, 179.0037, 5695,   3025.9,   1.6606,  34.6727,2,  34.6726,2,   -999.0,9,    146.3,2,   142.00,2,    36.11,2,     0.00,2,     2.53,2, -999.000,5, -999.000,5, -999.000,9,-999.0000,9,  -999.00,9,   2329.0,2,   2416.0,2,     7.55,2,-999.0000,-999.000,  1.4378,-999.000
      325024_1,  P14N,   164,  1,     10,     10,2,19930823,1908, -5.4993, 179.0037, 5695,   3331.0,   1.5663,  34.6787,2,  34.6785,2,   -999.0,9,    152.7,2,   142.15,2,    35.76,2,     0.00,2,     2.50,2, -999.000,5, -999.000,5, -999.000,9,-999.0000,9,  -999.00,9,   2323.0,2,   2415.0,2,     7.54,2,-999.0000,-999.000,  1.3157,-999.000
      325024_1,  P14N,   164,  1,      9,      9,2,19930823,1908, -5.4993, 179.0037, 5695,   3635.9,   1.4979,  34.6834,2,  34.6826,2,   -999.0,9,    157.5,2,   142.30,2,    35.45,2,     0.00,2,     2.48,2, -999.000,5, -999.000,5, -999.000,9,-999.0000,9,  -999.00,9,   2319.0,2,   2415.0,2,     7.57,2,-999.0000,-999.000,  1.2178,-999.000
      325024_1,  P14N,   164,  1,      8,      8,2,19930823,1908, -5.4993, 179.0037, 5695,   3941.9,   1.4343,  34.6892,2,  34.6891,2,   -999.0,9,    166.2,2,   139.37,2,    34.75,2,     0.00,2,     2.43,2, -999.000,5, -999.000,5, -999.000,9,-999.0000,9,  -999.00,9,   2311.0,2,   2410.0,2,     7.56,2,-999.0000,-999.000,  1.1235,-999.000
      325024_1,  P14N,   164,  1,      7,      7,2,19930823,1908, -5.4993, 179.0037, 5695,   4247.3,   1.3091,  34.6987,2,  34.6983,2,   -999.0,9,    183.7,2,   130.54,2,    33.36,2,     0.00,2,     2.33,2, -999.000,5, -999.000,5, -999.000,9,-999.0000,9,  -999.00,9,   2289.0,2,   2391.0,2,     7.58,2,-999.0000,-999.000,  0.9685,-999.000
      325024_1,  P14N,   164,  1,      6,      6,2,19930823,1908, -5.4993, 179.0037, 5695,   4553.2,   1.2351,  34.7026,2,  34.7039,2,   -999.0,9,    192.8,2,   126.84,2,    32.66,2,     0.00,2,     2.27,2, -999.000,5, -999.000,5, -999.000,9,-999.0000,9,  -999.00,9,   2278.0,2,   2380.0,2,     7.57,2,-999.0000,-999.000,  0.8622,-999.000
      325024_1,  P14N,   164,  1,      5,      5,2,19930823,1908, -5.4993, 179.0037, 5695,   4859.9,   1.2394,  34.7039,2,  34.7041,2,   -999.0,9,    195.5,2,   126.78,2,    32.62,2,     0.00,2,     2.27,2, -999.000,5, -999.000,5, -999.000,9,-999.0000,9,  -999.00,9,   2277.0,2,   2380.0,2,     7.60,2,-999.0000,-999.000,  0.8306,-999.000
      325024_1,  P14N,   164,  1,      4,      4,2,19930823,1908, -5.4993, 179.0037, 5695,   5165.8,   1.2633,  34.7038,2,  34.7041,2,   -999.0,9,    196.3,2,   126.53,2,    32.62,2,     0.00,2,     2.27,2, -999.000,5, -999.000,5, -999.000,9,-999.0000,9,  -999.00,9,   2276.0,2,   2375.0,2,     7.57,2,-999.0000,-999.000,  0.8168,-999.000
      325024_1,  P14N,   164,  1,      3,      3,2,19930823,1908, -5.4993, 179.0037, 5695,   5473.6,   1.2922,  34.7047,2,  34.7045,2,   -999.0,9,    196.5,2,   127.09,2,    32.63,2,     0.00,2,     2.26,2, -999.000,5, -999.000,5, -999.000,9,-999.0000,9,  -999.00,9,   2276.0,2,   2378.0,2,     7.59,2,-999.0000,-999.000,  0.8065,-999.000
      325024_1,  P14N,   164,  1,      1,      1,2,19930823,1908, -5.4993, 179.0037, 5695,   5780.3,   1.3313,  34.7044,2,  34.7047,2,   -999.0,9,    195.9,2,   126.78,2,    32.63,2,     0.00,2,     2.26,2, -999.000,5, -999.000,5, -999.000,9,-999.0000,9,  -999.00,9,   2276.0,2,   2376.0,2,     7.58,2,-999.0000,-999.000,  0.8048,-999.000
      325024_1,  P14N,   164,  1,      2,      2,2,19930823,1908, -5.4993, 179.0037, 5695,   5780.6,   1.3313,  34.7044,2,  34.7045,2,   -999.0,9,    196.5,2,   126.83,2,    32.54,2,     0.00,2,     2.26,2, -999.000,5, -999.000,5, -999.000,9,-999.0000,9,  -999.00,9,   2277.0,2,   2376.0,2,     7.59,2,-999.0000,-999.000,  0.8047,-999.000