BOTTLE,20131125MIRCJHATS
EXPOCODE,SECT_ID,STNNBR,CASTNO,SAMPNO,BTLNBR,BTLNBR_FLAG_W,DATE,TIME,LATITUDE,LONGITUDE,DEPTH,CTDPRS,CTDTMP,CTDSAL,CTDSAL_FLAG_W,SALNTY,SALNTY_FLAG_W,CTDOXY,CTDOXY_FLAG_W,OXYGEN,OXYGEN_FLAG_W,SILCAT,SILCAT_FLAG_W,NITRAT,NITRAT_FLAG_W,NITRIT,NITRIT_FLAG_W,PHSPHT,PHSPHT_FLAG_W,CFC-11,CFC-11_FLAG_W,CFC-12,CFC-12_FLAG_W,TRITUM,TRITUM_FLAG_W,HELIUM,HELIUM_FLAG_W,DELHE3,DELHE3_FLAG_W,TCARBN,TCARBN_FLAG_W,ALKALI,ALKALI_FLAG_W,PH,PH_FLAG_W,HELIER,DELHER,THETA,TRITER
,,,,,,,,,,,,DBAR,ITS-90,PSS-78,,PSS-78,,UMOL/KG,,UMOL/KG,,UMOL/KG,,UMOL/KG,,UMOL/KG,,UMOL/KG,,PMOL/KG,,PMOL/KG,,TU,,NMOL/KG,,PERCNT,,UMOL/KG,,UMOL/KG,,25_DEG,,NMOL/KG,PERCNT,DEG C,TU
      325023_1,  P14N,   126,  1,     36,     36,2,19930808,0729,  4.2398, 179.0043, 5581,      2.4,  29.6401,  33.8819,2,  33.8857,2,   -999.0,9,    197.0,2,     1.81,2,     0.04,2,     0.00,2,     0.16,2, -999.000,5, -999.000,5, -999.000,9,-999.0000,9,  -999.00,9,   1877.3,2,   2226.6,2,     8.16,2,-999.0000,-999.000, 29.6396,-999.000
      325023_1,  P14N,   126,  1,     35,     35,2,19930808,0729,  4.2398, 179.0043, 5581,     39.6,  29.4385,  34.0028,2,  34.0052,2,   -999.0,9,    196.3,2,     1.52,2,     0.04,2,     0.00,2,     0.15,2, -999.000,5, -999.000,5, -999.000,9,-999.0000,9,  -999.00,9,   1884.9,2,   2231.7,2,     8.16,2,-999.0000,-999.000, 29.4289,-999.000
      325023_1,  P14N,   126,  1,     34,     34,2,19930808,0729,  4.2398, 179.0043, 5581,     69.8,  28.3982,  34.3451,2,  34.3460,2,   -999.0,9,    197.3,2,     1.43,2,     0.03,2,     0.00,2,     0.14,2, -999.000,5, -999.000,5, -999.000,9,-999.0000,9,  -999.00,9,   1920.7,2,   2259.9,2,  -999.00,9,-999.0000,-999.000, 28.3816,-999.000
      325023_1,  P14N,   126,  1,     33,     33,2,19930808,0729,  4.2398, 179.0043, 5581,    100.4,  24.1588,  34.7123,2,  34.6998,2,   -999.0,9,    169.6,2,     3.48,2,     1.18,2,     0.20,2,     0.32,2, -999.000,5, -999.000,5, -999.000,9,-999.0000,9,  -999.00,9,   2001.2,2,   2282.0,2,     8.02,2,-999.0000,-999.000, 24.1376,-999.000
      325023_1,  P14N,   126,  1,     32,     32,2,19930808,0729,  4.2398, 179.0043, 5581,    130.9,  19.5402,  34.7538,2,  34.7494,2,   -999.0,9,    146.5,2,     9.05,2,     9.02,2,     0.03,2,     0.77,2, -999.000,5, -999.000,5, -999.000,9,-999.0000,9,  -999.00,9,   2066.5,2,   2290.5,2,  -999.00,9,-999.0000,-999.000, 19.5165,-999.000
      325023_1,  P14N,   126,  1,     31,     31,2,19930808,0729,  4.2398, 179.0043, 5581,    160.6,  14.8315,  34.6188,2,  34.6181,2,   -999.0,9,    131.2,2,    16.77,2,    15.78,2,     0.01,2,     1.22,2, -999.000,5, -999.000,5, -999.000,9,-999.0000,9,  -999.00,9,   2118.9,2,   2284.6,2,     7.79,2,-999.0000,-999.000, 14.8075,-999.000
      325023_1,  P14N,   126,  1,     30,     30,2,19930808,0729,  4.2398, 179.0043, 5581,    211.8,  11.1693,  34.5461,2,  34.5456,2,   -999.0,9,     90.0,2,    30.14,2,    25.79,2,     0.01,2,     1.91,2, -999.000,5, -999.000,5, -999.000,9,-999.0000,9,  -999.00,9,   2191.4,2,   2294.2,2,  -999.00,9,-999.0000,-999.000, 11.1430,-999.000
      325023_1,  P14N,   126,  1,     29,     29,2,19930808,0729,  4.2398, 179.0043, 5581,    261.7,   9.8613,  34.6529,2,  34.6521,2,   -999.0,9,     61.1,2,    33.16,2,    31.61,2,     0.01,2,     2.25,2, -999.000,5, -999.000,5, -999.000,9,-999.0000,9,  -999.00,9,   2233.3,2,   2307.3,2,     7.54,2,-999.0000,-999.000,  9.8313,-999.000
      325023_1,  P14N,   126,  1,     28,     28,2,19930808,0729,  4.2398, 179.0043, 5581,    312.0,   9.1465,  34.6408,2,  34.6397,2,   -999.0,9,     61.8,2,    35.78,2,    33.07,2,     0.01,2,     2.34,2, -999.000,5, -999.000,5, -999.000,9,-999.0000,9,  -999.00,9,   2239.8,2,   -999.0,9,  -999.00,9,-999.0000,-999.000,  9.1122,-999.000
      325023_1,  P14N,   126,  1,     27,     27,2,19930808,0729,  4.2398, 179.0043, 5581,    412.2,   8.1767,  34.6052,2,  34.6044,2,   -999.0,9,     70.4,2,    40.36,2,    34.37,2,     0.01,2,     2.44,2, -999.000,5, -999.000,5, -999.000,9,-999.0000,9,  -999.00,9,   2246.4,2,   -999.0,9,     7.52,2,-999.0000,-999.000,  8.1341,-999.000
      325023_1,  P14N,   126,  1,     26,     26,2,19930808,0729,  4.2398, 179.0043, 5581,    612.0,   6.6958,  34.5591,2,  34.5581,2,   -999.0,9,     51.5,2,    56.66,2,    39.24,2,     0.01,2,     2.80,2, -999.000,5, -999.000,5, -999.000,9,-999.0000,9,  -999.00,9,   2280.9,2,   -999.0,9,  -999.00,9,-999.0000,-999.000,  6.6386,-999.000
      325023_1,  P14N,   126,  1,     24,     24,2,19930808,0729,  4.2398, 179.0043, 5581,    710.3,   5.9568,  34.5481,2,  34.5471,2,   -999.0,9,     60.4,2,    64.83,2,    39.78,2,     0.01,2,     2.85,2, -999.000,5, -999.000,5, -999.000,9,-999.0000,9,  -999.00,9,   2290.6,2,   2335.7,2,  -999.00,9,-999.0000,-999.000,  5.8939,-999.000
      325023_1,  P14N,   126,  1,     25,     25,2,19930808,0729,  4.2398, 179.0043, 5581,    711.9,   5.9524,  34.5476,2,  34.5473,2,   -999.0,9,     60.6,2,    64.76,2,    39.93,2,     0.01,2,     2.85,2, -999.000,5, -999.000,5, -999.000,9,-999.0000,9,  -999.00,9,   2288.8,2,   2334.1,2,     7.45,2,-999.0000,-999.000,  5.8894,-999.000
      325023_1,  P14N,   126,  1,     23,     23,2,19930808,0729,  4.2398, 179.0043, 5581,    809.7,   5.4487,  34.5448,2,  34.5438,2,   -999.0,9,     72.6,2,    70.98,2,    39.40,2,     0.01,2,     2.82,2, -999.000,5, -999.000,5, -999.000,9,-999.0000,9,  -999.00,9,   2291.2,2,   2341.8,2,     7.47,2,-999.0000,-999.000,  5.3795,-999.000
      325023_1,  P14N,   126,  1,     22,     22,2,19930808,0729,  4.2398, 179.0043, 5581,    908.7,   4.9286,  34.5481,2,  34.5473,2,   -999.0,9,     67.3,2,    83.23,2,    40.37,2,     0.01,2,     2.88,2, -999.000,5, -999.000,5, -999.000,9,-999.0000,9,  -999.00,9,   2309.0,2,   2351.9,2,  -999.00,9,-999.0000,-999.000,  4.8539,-999.000
      325023_1,  P14N,   126,  1,     21,     21,2,19930808,0729,  4.2398, 179.0043, 5581,   1007.7,   4.3484,  34.5581,2,  34.5573,2,   -999.0,9,     81.8,2,    92.95,2,    39.52,2,     0.01,2,     2.84,2, -999.000,5, -999.000,5, -999.000,9,-999.0000,9,  -999.00,9,   2310.2,2,   2365.2,2,     7.48,2,-999.0000,-999.000,  4.2693,-999.000
      325023_1,  P14N,   126,  1,     20,     20,2,19930808,0729,  4.2398, 179.0043, 5581,   1204.2,   3.6691,  34.5815,2,  34.5789,2,   -999.0,9,     76.2,2,   109.69,2,    40.81,2,     0.01,2,     2.93,2, -999.000,5, -999.000,5, -999.000,9,-999.0000,9,  -999.00,9,   2332.5,2,   2380.8,2,  -999.00,9,-999.0000,-999.000,  3.5790,-999.000
      325023_1,  P14N,   126,  1,     19,     19,2,19930808,0729,  4.2398, 179.0043, 5581,   1405.2,   3.1191,  34.5967,2,  34.5956,2,   -999.0,9,     98.9,2,   117.55,2,    39.13,2,     0.00,2,     2.80,2, -999.000,5, -999.000,5, -999.000,9,-999.0000,9,  -999.00,9,   2328.4,2,   2391.6,2,     7.50,2,-999.0000,-999.000,  3.0178,-999.000
      325023_1,  P14N,   126,  1,     18,     18,2,19930808,0729,  4.2398, 179.0043, 5581,   1605.8,   2.7252,  34.6133,2,  34.6123,2,   -999.0,9,    100.0,2,   128.28,2,    39.21,2,     0.00,2,     2.80,2, -999.000,5, -999.000,5, -999.000,9,-999.0000,9,  -999.00,9,   2338.8,2,   2402.4,2,  -999.00,9,-999.0000,-999.000,  2.6117,-999.000
      325023_1,  P14N,   126,  1,     17,     17,2,19930808,0729,  4.2398, 179.0043, 5581,   1806.6,   2.4271,  34.6276,2,  34.6266,2,   -999.0,9,    105.8,2,   134.63,2,    38.87,2,     0.00,2,     2.77,2, -999.000,5, -999.000,5, -999.000,9,-999.0000,9,  -999.00,9,   2344.1,2,   2415.4,2,     7.51,2,-999.0000,-999.000,  2.3007,-999.000
      325023_1,  P14N,   126,  1,     16,     16,2,19930808,0729,  4.2398, 179.0043, 5581,   2005.2,   2.2298,  34.6385,2,  34.6378,2,   -999.0,9,    109.5,2,   139.37,2,    38.82,2,     0.00,2,     2.75,2, -999.000,5, -999.000,5, -999.000,9,-999.0000,9,  -999.00,9,   2349.1,2,   2419.6,2,  -999.00,9,-999.0000,-999.000,  2.0894,-999.000
      325023_1,  P14N,   126,  1,     15,     15,2,19930808,0729,  4.2398, 179.0043, 5581,   2206.3,   2.0165,  34.6512,2,  34.6497,2,   -999.0,9,    111.4,2,   147.63,2,    38.81,2,     0.01,2,     2.74,2, -999.000,5, -999.000,5, -999.000,9,-999.0000,9,  -999.00,9,   2351.8,2,   2420.6,2,  -999.00,9,-999.0000,-999.000,  1.8621,-999.000
      325023_1,  P14N,   126,  1,     14,     14,2,19930808,0729,  4.2398, 179.0043, 5581,   2410.1,   1.8837,  34.6581,2,  34.6572,2,   -999.0,9,    119.5,2,   147.06,2,    38.11,2,     0.00,2,     2.69,2, -999.000,5, -999.000,5, -999.000,9,-999.0000,9,  -999.00,9,   2345.5,2,   -999.0,9,     7.53,2,-999.0000,-999.000,  1.7136,-999.000
      325023_1,  P14N,   126,  1,     13,     13,2,19930808,0729,  4.2398, 179.0043, 5581,   2612.4,   1.8006,  34.6628,2,  34.6625,2,   -999.0,9,    124.3,2,   148.35,2,    37.96,2,     0.00,2,     2.67,2, -999.000,5, -999.000,5, -999.000,9,-999.0000,9,  -999.00,9,   2347.1,2,   2423.9,2,  -999.00,9,-999.0000,-999.000,  1.6138,-999.000
      325023_1,  P14N,   126,  1,     12,     12,2,19930808,0729,  4.2398, 179.0043, 5581,   2815.2,   1.7334,  34.6663,2,  34.6660,2,   -999.0,9,    128.4,2,   149.01,2,    37.72,2,     0.00,2,     2.65,2, -999.000,5, -999.000,5, -999.000,9,-999.0000,9,  -999.00,9,   2344.3,2,   2421.7,2,  -999.00,9,-999.0000,-999.000,  1.5291,-999.000
      325023_1,  P14N,   126,  1,     11,     11,2,19930808,0729,  4.2398, 179.0043, 5581,   3021.7,   1.6804,  34.6699,2,  34.6686,2,   -999.0,9,    133.4,2,   148.44,2,    37.25,2,     0.00,2,     2.62,2, -999.000,5, -999.000,5, -999.000,9,-999.0000,9,  -999.00,9,   2342.8,2,   2423.3,2,     7.55,2,-999.0000,-999.000,  1.4575,-999.000
      325023_1,  P14N,   126,  1,     10,     10,2,19930808,0729,  4.2398, 179.0043, 5581,   3332.9,   1.5834,  34.6758,2,  34.6748,2,   -999.0,9,    142.4,2,   147.04,2,    36.65,2,     0.00,2,     2.57,2, -999.000,5, -999.000,5, -999.000,9,-999.0000,9,  -999.00,9,   2334.4,2,   2421.3,2,  -999.00,9,-999.0000,-999.000,  1.3322,-999.000
      325023_1,  P14N,   126,  1,      9,      9,2,19930808,0729,  4.2398, 179.0043, 5581,   3641.3,   1.5146,  34.6809,2,  34.6799,2,   -999.0,9,    150.3,2,   145.44,2,    36.10,2,     0.00,2,     2.52,2, -999.000,5, -999.000,5, -999.000,9,-999.0000,9,  -999.00,9,   2328.2,2,   2419.4,2,  -999.00,9,-999.0000,-999.000,  1.2335,-999.000
      325023_1,  P14N,   126,  1,      8,      8,2,19930808,0729,  4.2398, 179.0043, 5581,   3949.2,   1.4212,  34.6886,2,  34.6878,2,   -999.0,9,    161.4,2,   141.59,2,    35.32,2,     0.00,2,     2.47,2, -999.000,5, -999.000,5, -999.000,9,-999.0000,9,  -999.00,9,   2318.2,2,   2414.1,2,     7.59,2,-999.0000,-999.000,  1.1100,-999.000
      325023_1,  P14N,   126,  1,      7,      7,2,19930808,0729,  4.2398, 179.0043, 5581,   4256.7,   1.3170,  34.6955,2,  34.6954,2,   -999.0,9,    174.9,2,   136.14,2,    34.33,2,     0.00,2,     2.40,2, -999.000,5, -999.000,5, -999.000,9,-999.0000,9,  -999.00,9,   2306.1,2,   -999.0,9,  -999.00,9,-999.0000,-999.000,  0.9751,-999.000
      325023_1,  P14N,   126,  1,      6,      6,2,19930808,0729,  4.2398, 179.0043, 5581,   4564.2,   1.2575,  34.7007,2,  34.7005,2,   -999.0,9,    185.1,2,   131.12,2,    33.60,2,     0.00,2,     2.34,2, -999.000,5, -999.000,5, -999.000,9,-999.0000,9,  -999.00,9,   2294.7,2,   2394.4,2,  -999.00,9,-999.0000,-999.000,  0.8826,-999.000
      325023_1,  P14N,   126,  1,      5,      5,2,19930808,0729,  4.2398, 179.0043, 5581,   4873.2,   1.2673,  34.7019,2,  34.7017,2,   -999.0,9,    188.1,2,   129.36,2,    33.32,2,     0.00,2,     2.32,2, -999.000,5, -999.000,5, -999.000,9,-999.0000,9,  -999.00,9,   2290.9,2,   -999.0,9,  -999.00,9,-999.0000,-999.000,  0.8560,-999.000
      325023_1,  P14N,   126,  1,      4,      4,2,19930808,0729,  4.2398, 179.0043, 5581,   5182.7,   1.2941,  34.7028,2,  34.7025,2,   -999.0,9,    190.0,2,   128.60,2,    33.14,2,     0.00,2,     2.32,2, -999.000,5, -999.000,5, -999.000,9,-999.0000,9,  -999.00,9,   2288.3,2,   2393.3,2,  -999.00,9,-999.0000,-999.000,  0.8446,-999.000
      325023_1,  P14N,   126,  1,      3,      3,2,19930808,0729,  4.2398, 179.0043, 5581,   5492.1,   1.3242,  34.7036,2,  34.7031,2,   -999.0,9,    191.6,2,   127.45,2,    33.08,2,     0.00,2,     2.31,2, -999.000,5, -999.000,5, -999.000,9,-999.0000,9,  -999.00,9,   2284.6,2,   2388.5,2,     7.61,2,-999.0000,-999.000,  0.8350,-999.000
      325023_1,  P14N,   126,  1,      1,      1,2,19930808,0729,  4.2398, 179.0043, 5581,   5657.1,   1.3442,  34.7037,2,  34.7037,2,   -999.0,9,    190.7,2,   127.15,2,    33.02,2,     0.00,2,     2.31,2, -999.000,5, -999.000,5, -999.000,9,-999.0000,9,  -999.00,9,   -999.0,9,   -999.0,9,  -999.00,9,-999.0000,-999.000,  0.8331,-999.000
      325023_1,  P14N,   126,  1,      2,      2,2,19930808,0729,  4.2398, 179.0043, 5581,   5657.3,   1.3442,  34.7037,2,  34.7027,2,   -999.0,9,    191.7,2,   127.10,2,    33.03,2,     0.00,2,     2.31,2, -999.000,5, -999.000,5, -999.000,9,-999.0000,9,  -999.00,9,   2281.6,2,   2393.7,2,  -999.00,9,-999.0000,-999.000,  0.8331,-999.000