BOTTLE,20131125MIRCJHATS
EXPOCODE,SECT_ID,STNNBR,CASTNO,SAMPNO,BTLNBR,BTLNBR_FLAG_W,DATE,TIME,LATITUDE,LONGITUDE,DEPTH,CTDPRS,CTDTMP,CTDSAL,CTDSAL_FLAG_W,SALNTY,SALNTY_FLAG_W,CTDOXY,CTDOXY_FLAG_W,OXYGEN,OXYGEN_FLAG_W,SILCAT,SILCAT_FLAG_W,NITRAT,NITRAT_FLAG_W,NITRIT,NITRIT_FLAG_W,PHSPHT,PHSPHT_FLAG_W,CFC-11,CFC-11_FLAG_W,CFC-12,CFC-12_FLAG_W,TRITUM,TRITUM_FLAG_W,HELIUM,HELIUM_FLAG_W,DELHE3,DELHE3_FLAG_W,TCARBN,TCARBN_FLAG_W,ALKALI,ALKALI_FLAG_W,PH,PH_FLAG_W,HELIER,DELHER,THETA,TRITER
,,,,,,,,,,,,DBAR,ITS-90,PSS-78,,PSS-78,,UMOL/KG,,UMOL/KG,,UMOL/KG,,UMOL/KG,,UMOL/KG,,UMOL/KG,,PMOL/KG,,PMOL/KG,,TU,,NMOL/KG,,PERCNT,,UMOL/KG,,UMOL/KG,,25_DEG,,NMOL/KG,PERCNT,DEG C,TU
      325024_1,  P14N,   158,  1,     36,     36,2,19930822,1208, -3.7493, 179.0038, 5558,      3.2,  29.8977,  34.5818,2,  34.4677,4,   -999.0,9,    194.2,2,     3.19,2,     0.00,2,     0.00,2,     0.21,2, -999.000,5, -999.000,5, -999.000,9,-999.0000,9,  -999.00,9,   -999.0,9,   -999.0,9,  -999.00,9,-999.0000,-999.000, 29.8969,-999.000
      325024_1,  P14N,   158,  1,     35,     35,2,19930822,1208, -3.7493, 179.0038, 5558,     31.9,  30.0232,  34.7971,2,  34.8071,2,   -999.0,9,    194.8,2,     2.96,2,     0.00,2,     0.00,2,     0.21,2, -999.000,5, -999.000,5, -999.000,9,-999.0000,9,  -999.00,9,   -999.0,9,   -999.0,9,  -999.00,9,-999.0000,-999.000, 30.0153,-999.000
      325024_1,  P14N,   158,  1,     34,     34,2,19930822,1208, -3.7493, 179.0038, 5558,     61.7,  29.9685,  34.8729,2,  34.8827,2,   -999.0,9,    196.1,2,     2.73,2,     0.00,2,     0.00,2,     0.21,2, -999.000,5, -999.000,5, -999.000,9,-999.0000,9,  -999.00,9,   -999.0,9,   -999.0,9,  -999.00,9,-999.0000,-999.000, 29.9532,-999.000
      325024_1,  P14N,   158,  1,     33,     33,2,19930822,1208, -3.7493, 179.0038, 5558,     91.3,  29.4680,  35.1873,4,  35.2196,2,   -999.0,9,    194.0,2,     2.68,2,     0.04,2,     0.13,2,     0.31,2, -999.000,5, -999.000,5, -999.000,9,-999.0000,9,  -999.00,9,   -999.0,9,   -999.0,9,  -999.00,9,-999.0000,-999.000, 29.4456,-999.000
      325024_1,  P14N,   158,  1,     32,     32,2,19930822,1208, -3.7493, 179.0038, 5558,    121.0,  28.0045,  35.4328,2,  35.4457,2,   -999.0,9,    167.4,2,     2.45,2,     3.08,2,     1.77,2,     0.59,2, -999.000,5, -999.000,5, -999.000,9,-999.0000,9,  -999.00,9,   -999.0,9,   -999.0,9,  -999.00,9,-999.0000,-999.000, 27.9759,-999.000
      325024_1,  P14N,   158,  1,     31,     31,2,19930822,1208, -3.7493, 179.0038, 5558,    150.5,  25.6440,  35.8676,4,  35.9002,2,   -999.0,9,    143.5,2,     2.41,2,     6.76,2,     0.76,2,     0.78,2, -999.000,5, -999.000,5, -999.000,9,-999.0000,9,  -999.00,9,   -999.0,9,   -999.0,9,  -999.00,9,-999.0000,-999.000, 25.6107,-999.000
      325024_1,  P14N,   158,  1,     30,     30,2,19930822,1208, -3.7493, 179.0038, 5558,    200.5,  16.7423,  35.3765,2,  35.3571,2,   -999.0,9,     98.9,2,     9.88,2,    17.33,2,     0.01,2,     1.41,2, -999.000,5, -999.000,5, -999.000,9,-999.0000,9,  -999.00,9,   -999.0,9,   -999.0,9,  -999.00,9,-999.0000,-999.000, 16.7094,-999.000
      325024_1,  P14N,   158,  1,     29,     29,2,19930822,1208, -3.7493, 179.0038, 5558,    253.0,  12.1135,  34.9204,2,  34.9122,2,   -999.0,9,     84.0,2,    18.51,2,    25.31,2,     0.00,2,     1.87,2, -999.000,5, -999.000,5, -999.000,9,-999.0000,9,  -999.00,9,   -999.0,9,   -999.0,9,  -999.00,9,-999.0000,-999.000, 12.0802,-999.000
      325024_1,  P14N,   158,  1,     28,     28,2,19930822,1208, -3.7493, 179.0038, 5558,    303.3,  10.2465,  34.7628,2,  34.7526,2,   -999.0,9,     87.1,2,    24.71,2,    28.81,2,     0.00,2,     2.04,2, -999.000,5, -999.000,5, -999.000,9,-999.0000,9,  -999.00,9,   -999.0,9,   -999.0,9,  -999.00,9,-999.0000,-999.000, 10.2107,-999.000
      325024_1,  P14N,   158,  1,     27,     27,2,19930822,1208, -3.7493, 179.0038, 5558,    403.3,   8.8945,  34.6661,2,  34.6656,2,   -999.0,9,     78.2,2,    30.73,2,    32.60,2,     0.00,2,     2.26,2, -999.000,5, -999.000,5, -999.000,9,-999.0000,9,  -999.00,9,   -999.0,9,   -999.0,9,  -999.00,9,-999.0000,-999.000,  8.8507,-999.000
      325024_1,  P14N,   158,  1,     26,     26,2,19930822,1208, -3.7493, 179.0038, 5558,    507.8,   8.0230,  34.6254,2,  34.6240,2,   -999.0,9,     59.8,2,    37.71,2,    36.55,2,     0.00,2,     2.50,2, -999.000,5, -999.000,5, -999.000,9,-999.0000,9,  -999.00,9,   -999.0,9,   -999.0,9,  -999.00,9,-999.0000,-999.000,  7.9708,-999.000
      325024_1,  P14N,   158,  1,     25,     25,2,19930822,1208, -3.7493, 179.0038, 5558,    606.0,   7.0337,  34.5777,2,  34.5764,2,   -999.0,9,     70.7,2,    45.28,2,    37.59,2,     0.00,2,     2.59,2, -999.000,5, -999.000,5, -999.000,9,-999.0000,9,  -999.00,9,   -999.0,9,   -999.0,9,  -999.00,9,-999.0000,-999.000,  6.9755,-999.000
      325024_1,  P14N,   158,  1,     24,     24,2,19930822,1208, -3.7493, 179.0038, 5558,    705.1,   6.3345,  34.5575,2,  34.5566,2,   -999.0,9,     68.7,2,    53.44,2,    39.22,2,     0.00,2,     2.70,2, -999.000,5, -999.000,5, -999.000,9,-999.0000,9,  -999.00,9,   -999.0,9,   -999.0,9,  -999.00,9,-999.0000,-999.000,  6.2701,-999.000
      325024_1,  P14N,   158,  1,     23,     23,2,19930822,1208, -3.7493, 179.0038, 5558,    805.1,   5.7154,  34.5428,2,  34.5405,2,   -999.0,9,     84.2,2,    60.11,2,    38.55,2,     0.00,2,     2.68,2, -999.000,5, -999.000,5, -999.000,9,-999.0000,9,  -999.00,9,   -999.0,9,   -999.0,9,  -999.00,9,-999.0000,-999.000,  5.6450,-999.000
      325024_1,  P14N,   158,  1,     22,     22,2,19930822,1208, -3.7493, 179.0038, 5558,    906.2,   5.0802,  34.5402,2,  34.5385,2,   -999.0,9,     88.6,2,    69.47,2,    38.92,2,     0.00,2,     2.70,2, -999.000,5, -999.000,5, -999.000,9,-999.0000,9,  -999.00,9,   -999.0,9,   -999.0,9,  -999.00,9,-999.0000,-999.000,  5.0047,-999.000
      325024_1,  P14N,   158,  1,     21,     21,2,19930822,1208, -3.7493, 179.0038, 5558,   1007.6,   4.6222,  34.5457,2,  34.5442,2,   -999.0,9,     92.4,2,    78.12,2,    38.93,2,     0.00,2,     2.73,2, -999.000,5, -999.000,5, -999.000,9,-999.0000,9,  -999.00,9,   -999.0,9,   -999.0,9,  -999.00,9,-999.0000,-999.000,  4.5410,-999.000
      325024_1,  P14N,   158,  1,     20,     20,2,19930822,1208, -3.7493, 179.0038, 5558,   1209.6,   3.9342,  34.5609,2,  34.5585,2,   -999.0,9,    103.5,2,    90.48,2,    38.35,2,     0.00,2,     2.68,2, -999.000,5, -999.000,5, -999.000,9,-999.0000,9,  -999.00,9,   -999.0,9,   -999.0,9,  -999.00,9,-999.0000,-999.000,  3.8413,-999.000
      325024_1,  P14N,   158,  1,     19,     19,2,19930822,1208, -3.7493, 179.0038, 5558,   1415.6,   3.3256,  34.5831,2,  34.5817,2,   -999.0,9,    108.5,2,   103.91,2,    38.35,2,     0.00,2,     2.69,2, -999.000,5, -999.000,5, -999.000,9,-999.0000,9,  -999.00,9,   -999.0,9,   -999.0,9,  -999.00,9,-999.0000,-999.000,  3.2212,-999.000
      325024_1,  P14N,   158,  1,     18,     18,2,19930822,1208, -3.7493, 179.0038, 5558,   1616.9,   2.8304,  34.6032,2,  34.6017,2,   -999.0,9,    116.8,2,   113.56,2,    37.91,2,     0.00,2,     2.65,2, -999.000,5, -999.000,5, -999.000,9,-999.0000,9,  -999.00,9,   -999.0,9,   -999.0,9,  -999.00,9,-999.0000,-999.000,  2.7148,-999.000
      325024_1,  P14N,   158,  1,     17,     17,2,19930822,1208, -3.7493, 179.0038, 5558,   1818.3,   2.4471,  34.6241,2,  34.6219,2,   -999.0,9,    119.3,2,   124.30,2,    38.14,2,     0.00,2,     2.64,2, -999.000,5, -999.000,5, -999.000,9,-999.0000,9,  -999.00,9,   -999.0,9,   -999.0,9,  -999.00,9,-999.0000,-999.000,  2.3195,-999.000
      325024_1,  P14N,   158,  1,     16,     16,2,19930822,1208, -3.7493, 179.0038, 5558,   2023.2,   2.1989,  34.6386,2,  34.6372,2,   -999.0,9,    124.8,2,   129.55,2,    37.78,2,     0.00,2,     2.61,2, -999.000,5, -999.000,5, -999.000,9,-999.0000,9,  -999.00,9,   -999.0,9,   -999.0,9,  -999.00,9,-999.0000,-999.000,  2.0574,-999.000
      325024_1,  P14N,   158,  1,     15,     15,2,19930822,1208, -3.7493, 179.0038, 5558,   2227.0,   2.0133,  34.6495,2,  34.6482,2,   -999.0,9,    124.7,2,   136.86,2,    37.75,2,     0.00,2,     2.60,2, -999.000,5, -999.000,5, -999.000,9,-999.0000,9,  -999.00,9,   -999.0,9,   -999.0,9,  -999.00,9,-999.0000,-999.000,  1.8572,-999.000
      325024_1,  P14N,   158,  1,     14,     14,2,19930822,1208, -3.7493, 179.0038, 5558,   2428.4,   1.8924,  34.6566,2,  34.6552,2,   -999.0,9,    129.9,2,   138.96,2,    37.48,2,     0.00,2,     2.57,2, -999.000,5, -999.000,5, -999.000,9,-999.0000,9,  -999.00,9,   -999.0,9,   -999.0,9,  -999.00,9,-999.0000,-999.000,  1.7206,-999.000
      325024_1,  P14N,   158,  1,     13,     13,2,19930822,1208, -3.7493, 179.0038, 5558,   2633.2,   1.7959,  34.6623,2,  34.6613,2,   -999.0,9,    134.5,2,   140.06,2,    37.22,2,     0.00,2,     2.56,2, -999.000,5, -999.000,5, -999.000,9,-999.0000,9,  -999.00,9,   -999.0,9,   -999.0,9,  -999.00,9,-999.0000,-999.000,  1.6073,-999.000
      325024_1,  P14N,   158,  1,     12,     12,2,19930822,1208, -3.7493, 179.0038, 5558,   2835.6,   1.7209,  34.6670,2,  34.6666,2,   -999.0,9,    137.9,2,   141.16,2,    36.87,2,     0.00,2,     2.53,2, -999.000,5, -999.000,5, -999.000,9,-999.0000,9,  -999.00,9,   -999.0,9,   -999.0,9,  -999.00,9,-999.0000,-999.000,  1.5150,-999.000
      325024_1,  P14N,   158,  1,     11,     11,2,19930822,1208, -3.7493, 179.0038, 5558,   3044.8,   1.6564,  34.6717,2,  34.6703,2,   -999.0,9,    141.4,2,   141.25,2,    36.52,2,     0.00,2,     2.49,2, -999.000,5, -999.000,5, -999.000,9,-999.0000,9,  -999.00,9,   -999.0,9,   -999.0,9,  -999.00,9,-999.0000,-999.000,  1.4318,-999.000
      325024_1,  P14N,   158,  1,     10,     10,2,19930822,1208, -3.7493, 179.0038, 5558,   3348.2,   1.5463,  34.6796,2,  34.6782,2,   -999.0,9,    149.2,2,   139.71,2,    36.03,2,     0.00,2,     2.46,2, -999.000,5, -999.000,5, -999.000,9,-999.0000,9,  -999.00,9,   -999.0,9,   -999.0,9,  -999.00,9,-999.0000,-999.000,  1.2943,-999.000
      325024_1,  P14N,   158,  1,      9,      9,3,19930822,1208, -3.7493, 179.0038, 5558,   3652.9,   1.4738,  34.6854,2,  34.6515,4,   -999.0,9,    151.0,4,   118.51,4,    36.08,4,     0.00,4,     2.48,4, -999.000,5, -999.000,5, -999.000,9,-999.0000,9,  -999.00,9,   -999.0,9,   -999.0,9,  -999.00,9,-999.0000,-999.000,  1.1926,-999.000
      325024_1,  P14N,   158,  1,      8,      8,2,19930822,1208, -3.7493, 179.0038, 5558,   3957.9,   1.3867,  34.6919,2,  34.6909,2,   -999.0,9,    167.8,2,   137.25,2,    34.97,2,     0.00,2,     2.37,2, -999.000,5, -999.000,5, -999.000,9,-999.0000,9,  -999.00,9,   -999.0,9,   -999.0,9,  -999.00,9,-999.0000,-999.000,  1.0755,-999.000
      325024_1,  P14N,   158,  1,      7,      7,2,19930822,1208, -3.7493, 179.0038, 5558,   4269.2,   1.3179,  34.6972,2,  34.6960,2,   -999.0,9,    178.3,2,   132.07,2,    34.14,2,     0.00,2,     2.32,2, -999.000,5, -999.000,5, -999.000,9,-999.0000,9,  -999.00,9,   -999.0,9,   -999.0,9,  -999.00,9,-999.0000,-999.000,  0.9746,-999.000
      325024_1,  P14N,   158,  1,      6,      6,2,19930822,1208, -3.7493, 179.0038, 5558,   4575.4,   1.2760,  34.7009,2,  34.7005,2,   -999.0,9,    187.9,2,   127.52,2,    33.31,2,     0.00,2,     2.25,2, -999.000,5, -999.000,5, -999.000,9,-999.0000,9,  -999.00,9,   -999.0,9,   -999.0,9,  -999.00,9,-999.0000,-999.000,  0.8992,-999.000
      325024_1,  P14N,   158,  1,      5,      5,2,19930822,1208, -3.7493, 179.0038, 5558,   4877.0,   1.2386,  34.7039,2,  34.7029,2,   -999.0,9,    194.9,2,   125.18,2,    32.92,2,     0.00,2,     2.24,2, -999.000,5, -999.000,5, -999.000,9,-999.0000,9,  -999.00,9,   -999.0,9,   -999.0,9,  -999.00,9,-999.0000,-999.000,  0.8278,-999.000
      325024_1,  P14N,   158,  1,      4,      4,2,19930822,1208, -3.7493, 179.0038, 5558,   5187.4,   1.2550,  34.7043,2,  34.7035,2,   -999.0,9,    196.7,2,   124.25,2,    32.70,2,     0.00,2,     2.22,2, -999.000,5, -999.000,5, -999.000,9,-999.0000,9,  -999.00,9,   -999.0,9,   -999.0,9,  -999.00,9,-999.0000,-999.000,  0.8062,-999.000
      325024_1,  P14N,   158,  1,      3,      3,2,19930822,1208, -3.7493, 179.0038, 5558,   5497.3,   1.2931,  34.7045,2,  34.7037,2,   -999.0,9,    196.5,2,   124.72,2,    32.75,2,     0.00,2,     2.22,2, -999.000,5, -999.000,5, -999.000,9,-999.0000,9,  -999.00,9,   -999.0,9,   -999.0,9,  -999.00,9,-999.0000,-999.000,  0.8044,-999.000
      325024_1,  P14N,   158,  1,      2,      2,2,19930822,1208, -3.7493, 179.0038, 5558,   5642.4,   1.3120,  34.7044,2,  34.7041,2,   -999.0,9,    196.2,2,   125.00,2,    32.80,2,     0.00,2,     2.21,2, -999.000,5, -999.000,5, -999.000,9,-999.0000,9,  -999.00,9,   -999.0,9,   -999.0,9,  -999.00,9,-999.0000,-999.000,  0.8040,-999.000
      325024_1,  P14N,   158,  1,      1,      1,2,19930822,1208, -3.7493, 179.0038, 5558,   5642.9,   1.3120,  34.7042,2,  34.7033,2,   -999.0,9,    195.2,2,   125.47,2,    32.85,2,     0.00,2,     2.24,2, -999.000,5, -999.000,5, -999.000,9,-999.0000,9,  -999.00,9,   -999.0,9,   -999.0,9,  -999.00,9,-999.0000,-999.000,  0.8040,-999.000