BOTTLE,20131125MIRCJHATS
EXPOCODE,SECT_ID,STNNBR,CASTNO,SAMPNO,BTLNBR,BTLNBR_FLAG_W,DATE,TIME,LATITUDE,LONGITUDE,DEPTH,CTDPRS,CTDTMP,CTDSAL,CTDSAL_FLAG_W,SALNTY,SALNTY_FLAG_W,CTDOXY,CTDOXY_FLAG_W,OXYGEN,OXYGEN_FLAG_W,SILCAT,SILCAT_FLAG_W,NITRAT,NITRAT_FLAG_W,NITRIT,NITRIT_FLAG_W,PHSPHT,PHSPHT_FLAG_W,CFC-11,CFC-11_FLAG_W,CFC-12,CFC-12_FLAG_W,TRITUM,TRITUM_FLAG_W,HELIUM,HELIUM_FLAG_W,DELHE3,DELHE3_FLAG_W,TCARBN,TCARBN_FLAG_W,ALKALI,ALKALI_FLAG_W,PH,PH_FLAG_W,HELIER,DELHER,THETA,TRITER
,,,,,,,,,,,,DBAR,ITS-90,PSS-78,,PSS-78,,UMOL/KG,,UMOL/KG,,UMOL/KG,,UMOL/KG,,UMOL/KG,,UMOL/KG,,PMOL/KG,,PMOL/KG,,TU,,NMOL/KG,,PERCNT,,UMOL/KG,,UMOL/KG,,25_DEG,,NMOL/KG,PERCNT,DEG C,TU
      325023_1,  P14N,    66,  1,     36,     36,2,19930724,0902, 29.4943, 178.9860, 5129,      2.3,  26.6007,  35.0899,2,  35.0908,2,   -999.0,9,    217.0,2,     4.38,2,     0.03,2,     0.00,2,     0.04,2, -999.000,5, -999.000,5, -999.000,9,-999.0000,9,  -999.00,9,   -999.0,9,   -999.0,9,  -999.00,9,-999.0000,-999.000, 26.6001,-999.000
      325023_1,  P14N,    66,  1,     35,     35,2,19930724,0902, 29.4943, 178.9860, 5129,     33.5,  24.3695,  34.9661,2,  34.9658,2,   -999.0,9,    229.4,2,     4.36,2,     0.03,2,     0.00,2,     0.04,2, -999.000,5, -999.000,5, -999.000,9,-999.0000,9,  -999.00,9,   -999.0,9,   -999.0,9,  -999.00,9,-999.0000,-999.000, 24.3624,-999.000
      325023_1,  P14N,    66,  1,     34,     34,2,19930724,0902, 29.4943, 178.9860, 5129,     63.0,  18.7556,  34.8285,2,  34.8263,2,   -999.0,9,    254.6,2,     4.12,2,     0.03,2,     0.00,2,     0.07,2, -999.000,5, -999.000,5, -999.000,9,-999.0000,9,  -999.00,9,   -999.0,9,   -999.0,9,  -999.00,9,-999.0000,-999.000, 18.7445,-999.000
      325023_1,  P14N,    66,  1,     33,     33,2,19930724,0902, 29.4943, 178.9860, 5129,     79.5,  17.6858,  34.8262,2,  34.8245,2,   -999.0,9,    259.0,2,     3.89,2,     0.02,2,     0.00,2,     0.08,2, -999.000,5, -999.000,5, -999.000,9,-999.0000,9,  -999.00,9,   -999.0,9,   -999.0,9,  -999.00,9,-999.0000,-999.000, 17.6724,-999.000
      325023_1,  P14N,    66,  1,     32,     32,2,19930724,0902, 29.4943, 178.9860, 5129,     94.7,  17.0453,  34.8086,2,  34.8019,2,   -999.0,9,    242.3,2,     4.07,2,     0.02,2,     0.00,2,     0.11,2, -999.000,5, -999.000,5, -999.000,9,-999.0000,9,  -999.00,9,   -999.0,9,   -999.0,9,  -999.00,9,-999.0000,-999.000, 17.0297,-999.000
      325023_1,  P14N,    66,  1,     31,     31,2,19930724,0902, 29.4943, 178.9860, 5129,    109.2,  16.5593,  34.7747,2,  34.7736,2,   -999.0,9,    230.8,2,     4.24,2,     0.89,2,     0.20,2,     0.20,2, -999.000,5, -999.000,5, -999.000,9,-999.0000,9,  -999.00,9,   -999.0,9,   -999.0,9,  -999.00,9,-999.0000,-999.000, 16.5417,-999.000
      325023_1,  P14N,    66,  1,     30,     30,2,19930724,0902, 29.4943, 178.9860, 5129,    124.1,  16.0620,  34.7245,2,  34.7210,2,   -999.0,9,    223.0,2,     5.41,2,     3.48,2,     0.06,2,     0.32,2, -999.000,5, -999.000,5, -999.000,9,-999.0000,9,  -999.00,9,   -999.0,9,   -999.0,9,  -999.00,9,-999.0000,-999.000, 16.0424,-999.000
      325023_1,  P14N,    66,  1,     29,     29,2,19930724,0902, 29.4943, 178.9860, 5129,    153.8,  15.3327,  34.6431,2,  34.6430,2,   -999.0,9,    219.3,2,     6.78,2,     5.00,2,     0.02,2,     0.42,2, -999.000,5, -999.000,5, -999.000,9,-999.0000,9,  -999.00,9,   -999.0,9,   -999.0,9,  -999.00,9,-999.0000,-999.000, 15.3092,-999.000
      325023_1,  P14N,    66,  1,     28,     28,2,19930724,0902, 29.4943, 178.9860, 5129,    204.0,  14.3714,  34.5520,2,  34.5504,2,   -999.0,9,    213.1,2,     8.55,2,     7.33,2,     0.01,2,     0.57,2, -999.000,5, -999.000,5, -999.000,9,-999.0000,9,  -999.00,9,   -999.0,9,   -999.0,9,  -999.00,9,-999.0000,-999.000, 14.3415,-999.000
      325023_1,  P14N,    66,  1,     27,     27,2,19930724,0902, 29.4943, 178.9860, 5129,    254.1,  13.3726,  34.4698,2,  34.4661,2,   -999.0,9,    213.1,2,    11.52,2,     9.16,2,     0.01,2,     0.70,2, -999.000,5, -999.000,5, -999.000,9,-999.0000,9,  -999.00,9,   -999.0,9,   -999.0,9,  -999.00,9,-999.0000,-999.000, 13.3371,-999.000
      325023_1,  P14N,    66,  1,     26,     26,2,19930724,0902, 29.4943, 178.9860, 5129,    303.9,  12.5833,  34.4090,2,  34.4063,2,   -999.0,9,    215.3,2,    12.69,2,    10.24,2,     0.01,2,     0.78,2, -999.000,5, -999.000,5, -999.000,9,-999.0000,9,  -999.00,9,   -999.0,9,   -999.0,9,  -999.00,9,-999.0000,-999.000, 12.5424,-999.000
      325023_1,  P14N,    66,  1,     25,     25,2,19930724,0902, 29.4943, 178.9860, 5129,    404.8,  10.5124,  34.2427,2,  34.2417,2,   -999.0,9,    208.4,2,    20.46,2,    14.76,2,     0.01,2,     1.08,2, -999.000,5, -999.000,5, -999.000,9,-999.0000,9,  -999.00,9,   -999.0,9,   -999.0,9,  -999.00,9,-999.0000,-999.000, 10.4639,-999.000
      325023_1,  P14N,    66,  1,     24,     24,2,19930724,0902, 29.4943, 178.9860, 5129,    505.0,   8.1365,  34.0844,2,  34.0833,2,   -999.0,9,    181.3,2,    36.03,2,    21.84,2,     0.01,2,     1.58,2, -999.000,5, -999.000,5, -999.000,9,-999.0000,9,  -999.00,9,   -999.0,9,   -999.0,9,  -999.00,9,-999.0000,-999.000,  8.0846,-999.000
      325023_1,  P14N,    66,  1,     23,     23,2,19930724,0902, 29.4943, 178.9860, 5129,    610.7,   6.0598,  34.0093,2,  34.0088,2,   -999.0,9,    133.7,2,    59.63,2,    29.66,2,     0.00,2,     2.17,2, -999.000,5, -999.000,5, -999.000,9,-999.0000,9,  -999.00,9,   -999.0,9,   -999.0,9,  -999.00,9,-999.0000,-999.000,  6.0061,-999.000
      325023_1,  P14N,    66,  1,     22,     22,2,19930724,0902, 29.4943, 178.9860, 5129,    711.0,   5.0329,  34.0550,2,  34.0551,2,   -999.0,9,     93.3,2,    80.29,2,    34.96,2,     0.01,2,     2.55,2, -999.000,5, -999.000,5, -999.000,9,-999.0000,9,  -999.00,9,   -999.0,9,   -999.0,9,  -999.00,9,-999.0000,-999.000,  4.9755,-999.000
      325023_1,  P14N,    66,  1,     21,     21,2,19930724,0902, 29.4943, 178.9860, 5129,    809.5,   4.3124,  34.1572,2,  34.1570,2,   -999.0,9,     53.8,2,   101.30,2,    39.21,2,     0.01,2,     2.85,2,    0.295,3,    0.123,2, -999.000,9,-999.0000,9,  -999.00,9,   -999.0,9,   -999.0,9,  -999.00,9,-999.0000,-999.000,  4.2508,-999.000
      325023_1,  P14N,    66,  1,     20,     20,2,19930724,0902, 29.4943, 178.9860, 5129,    910.2,   3.9061,  34.2432,2,  34.2428,2,   -999.0,9,     40.3,2,   114.10,2,    41.01,2,     0.01,2,     2.97,2,    0.103,2,    0.040,2, -999.000,9,-999.0000,9,  -999.00,9,   -999.0,9,   -999.0,9,  -999.00,9,-999.0000,-999.000,  3.8389,-999.000
      325023_1,  P14N,    66,  1,     19,     19,2,19930724,0902, 29.4943, 178.9860, 5129,   1009.8,   3.5735,  34.3174,2,  34.3162,2,   -999.0,9,     28.7,2,   124.31,2,    42.03,2,     0.00,2,     3.03,2,    0.036,2,    0.013,2, -999.000,9,-999.0000,9,  -999.00,9,   -999.0,9,   -999.0,9,  -999.00,9,-999.0000,-999.000,  3.5007,-999.000
      325023_1,  P14N,    66,  1,     18,     18,2,19930724,0902, 29.4943, 178.9860, 5129,   1209.8,   3.0355,  34.4299,2,  34.4284,2,   -999.0,9,     27.1,2,   142.13,2,    42.68,2,     0.00,2,     3.06,2,    0.004,2,    0.000,3, -999.000,9,-999.0000,9,  -999.00,9,   -999.0,9,   -999.0,9,  -999.00,9,-999.0000,-999.000,  2.9512,-999.000
      325023_1,  P14N,    66,  1,     17,     17,2,19930724,0902, 29.4943, 178.9860, 5129,   1411.8,   2.6455,  34.5061,2,  34.5047,2,   -999.0,9,     38.7,2,   150.26,2,    42.37,2,     0.00,2,     3.02,2, -999.000,5, -999.000,5, -999.000,9,-999.0000,9,  -999.00,9,   -999.0,9,   -999.0,9,  -999.00,9,-999.0000,-999.000,  2.5490,-999.000
      325023_1,  P14N,    66,  1,     16,     16,2,19930724,0902, 29.4943, 178.9860, 5129,   1616.6,   2.3238,  34.5519,2,  34.5509,2,   -999.0,9,     51.9,2,   158.46,2,    41.87,2,     0.00,2,     2.95,2, -999.000,5, -999.000,5, -999.000,9,-999.0000,9,  -999.00,9,   -999.0,9,   -999.0,9,  -999.00,9,-999.0000,-999.000,  2.2146,-999.000
      325023_1,  P14N,    66,  1,     15,     15,2,19930724,0902, 29.4943, 178.9860, 5129,   1821.1,   2.1048,  34.5813,2,  34.5817,2,   -999.0,9,     64.0,2,   163.73,2,    41.24,2,     0.00,2,     2.90,2, -999.000,5, -999.000,5, -999.000,9,-999.0000,9,  -999.00,9,   -999.0,9,   -999.0,9,  -999.00,9,-999.0000,-999.000,  1.9818,-999.000
      325023_1,  P14N,    66,  1,     14,     14,2,19930724,0902, 29.4943, 178.9860, 5129,   2024.1,   1.9099,  34.6088,2,  34.6091,2,   -999.0,9,     79.6,2,   165.57,2,    40.29,2,     0.00,2,     2.84,2, -999.000,5, -999.000,5, -999.000,9,-999.0000,9,  -999.00,9,   -999.0,9,   -999.0,9,  -999.00,9,-999.0000,-999.000,  1.7729,-999.000
      325023_1,  P14N,    66,  1,     13,     13,2,19930724,0902, 29.4943, 178.9860, 5129,   2227.2,   1.7825,  34.6267,2,  34.6277,2,   -999.0,9,     92.6,2,   165.49,2,    39.33,2,     0.00,2,     2.77,2, -999.000,5, -999.000,5, -999.000,9,-999.0000,9,  -999.00,9,   -999.0,9,   -999.0,9,  -999.00,9,-999.0000,-999.000,  1.6303,-999.000
      325023_1,  P14N,    66,  1,     12,     12,2,19930724,0902, 29.4943, 178.9860, 5129,   2430.9,   1.6900,  34.6391,2,  34.6393,2,   -999.0,9,    101.9,2,   165.83,2,    38.88,2,     0.00,2,     2.73,2, -999.000,5, -999.000,5, -999.000,9,-999.0000,9,  -999.00,9,   -999.0,9,   -999.0,9,  -999.00,9,-999.0000,-999.000,  1.5216,-999.000
      325023_1,  P14N,    66,  1,     11,     11,2,19930724,0902, 29.4943, 178.9860, 5129,   2635.2,   1.6105,  34.6503,2,  34.6498,2,   -999.0,9,    111.4,2,   165.31,2,    38.25,2,     0.00,2,     2.68,2, -999.000,5, -999.000,5, -999.000,9,-999.0000,9,  -999.00,9,   -999.0,9,   -999.0,9,  -999.00,9,-999.0000,-999.000,  1.4254,-999.000
      325023_1,  P14N,    66,  1,     10,     10,2,19930724,0902, 29.4943, 178.9860, 5129,   2835.0,   1.5520,  34.6591,2,  34.6594,2,   -999.0,9,    120.6,2,   163.94,2,    37.72,2,     0.00,2,     2.63,2, -999.000,5, -999.000,5, -999.000,9,-999.0000,9,  -999.00,9,   -999.0,9,   -999.0,9,  -999.00,9,-999.0000,-999.000,  1.3496,-999.000
      325023_1,  P14N,    66,  1,      9,      9,2,19930724,0902, 29.4943, 178.9860, 5129,   3039.9,   1.5099,  34.6660,2,  34.6660,2,   -999.0,9,    128.0,2,   162.14,2,    37.13,2,     0.00,2,     2.59,2, -999.000,5, -999.000,5, -999.000,9,-999.0000,9,  -999.00,9,   -999.0,9,   -999.0,9,  -999.00,9,-999.0000,-999.000,  1.2891,-999.000
      325023_1,  P14N,    66,  1,      8,      8,2,19930724,0902, 29.4943, 178.9860, 5129,   3347.9,   1.4703,  34.6737,2,  34.6743,2,   -999.0,9,    136.5,2,   160.55,2,    36.55,2,     0.00,2,     2.55,2, -999.000,5, -999.000,5, -999.000,9,-999.0000,9,  -999.00,9,   -999.0,9,   -999.0,9,  -999.00,9,-999.0000,-999.000,  1.2203,-999.000
      325023_1,  P14N,    66,  1,      7,      7,2,19930724,0902, 29.4943, 178.9860, 5129,   3656.4,   1.4491,  34.6795,2,  34.6795,2,   -999.0,9,    143.4,2,   158.98,2,    36.10,2,     0.00,2,     2.52,2, -999.000,5, -999.000,5, -999.000,9,-999.0000,9,  -999.00,9,   -999.0,9,   -999.0,9,  -999.00,9,-999.0000,-999.000,  1.1682,-999.000
      325023_1,  P14N,    66,  1,      6,      6,2,19930724,0902, 29.4943, 178.9860, 5129,   3964.3,   1.4460,  34.6832,2,  34.6832,2,   -999.0,9,    148.1,2,   156.98,2,    35.65,2,     0.00,2,     2.50,2, -999.000,5, -999.000,5, -999.000,9,-999.0000,9,  -999.00,9,   -999.0,9,   -999.0,9,  -999.00,9,-999.0000,-999.000,  1.1325,-999.000
      325023_1,  P14N,    66,  1,      5,      5,2,19930724,0902, 29.4943, 178.9860, 5129,   4272.1,   1.4478,  34.6868,2,  34.6869,2,   -999.0,9,    152.8,2,   155.62,2,    35.44,2,     0.00,2,     2.47,2, -999.000,5, -999.000,5, -999.000,9,-999.0000,9,  -999.00,9,   -999.0,9,   -999.0,9,  -999.00,9,-999.0000,-999.000,  1.1004,-999.000
      325023_1,  P14N,    66,  1,      4,      4,2,19930724,0902, 29.4943, 178.9860, 5129,   4579.8,   1.4598,  34.6886,2,  34.6895,2,   -999.0,9,    156.8,2,   151.10,2,    34.94,2,     0.00,2,     2.44,2, -999.000,5, -999.000,5, -999.000,9,-999.0000,9,  -999.00,9,   -999.0,9,   -999.0,9,  -999.00,9,-999.0000,-999.000,  1.0769,-999.000
      325023_1,  P14N,    66,  1,      3,      3,2,19930724,0902, 29.4943, 178.9860, 5129,   4885.9,   1.4791,  34.6902,2,  34.6912,2,   -999.0,9,    159.9,2,   147.86,2,    34.95,2,     0.00,2,     2.42,2, -999.000,5, -999.000,5, -999.000,9,-999.0000,9,  -999.00,9,   -999.0,9,   -999.0,9,  -999.00,9,-999.0000,-999.000,  1.0594,-999.000
      325023_1,  P14N,    66,  1,      1,      1,2,19930724,0902, 29.4943, 178.9860, 5129,   5215.1,   1.4693,  34.6949,2,  34.6963,2,   -999.0,9,    169.1,2,   138.08,2,    34.29,2,     0.00,2,     2.38,2, -999.000,5, -999.000,5, -999.000,9,-999.0000,9,  -999.00,9,   -999.0,9,   -999.0,9,  -999.00,9,-999.0000,-999.000,  1.0097,-999.000
      325023_1,  P14N,    66,  1,      2,      2,2,19930724,0902, 29.4943, 178.9860, 5129,   5215.4,   1.4694,  34.6947,2,  34.6953,2,   -999.0,9,    169.5,2,   139.20,2,    34.19,2,     0.00,2,     2.37,2, -999.000,5, -999.000,5, -999.000,9,-999.0000,9,  -999.00,9,   -999.0,9,   -999.0,9,  -999.00,9,-999.0000,-999.000,  1.0097,-999.000