BOTTLE,20131125MIRCJHATS
EXPOCODE,SECT_ID,STNNBR,CASTNO,SAMPNO,BTLNBR,BTLNBR_FLAG_W,DATE,TIME,LATITUDE,LONGITUDE,DEPTH,CTDPRS,CTDTMP,CTDSAL,CTDSAL_FLAG_W,SALNTY,SALNTY_FLAG_W,CTDOXY,CTDOXY_FLAG_W,OXYGEN,OXYGEN_FLAG_W,SILCAT,SILCAT_FLAG_W,NITRAT,NITRAT_FLAG_W,NITRIT,NITRIT_FLAG_W,PHSPHT,PHSPHT_FLAG_W,CFC-11,CFC-11_FLAG_W,CFC-12,CFC-12_FLAG_W,TRITUM,TRITUM_FLAG_W,HELIUM,HELIUM_FLAG_W,DELHE3,DELHE3_FLAG_W,TCARBN,TCARBN_FLAG_W,ALKALI,ALKALI_FLAG_W,PH,PH_FLAG_W,HELIER,DELHER,THETA,TRITER
,,,,,,,,,,,,DBAR,ITS-90,PSS-78,,PSS-78,,UMOL/KG,,UMOL/KG,,UMOL/KG,,UMOL/KG,,UMOL/KG,,UMOL/KG,,PMOL/KG,,PMOL/KG,,TU,,NMOL/KG,,PERCNT,,UMOL/KG,,UMOL/KG,,25_DEG,,NMOL/KG,PERCNT,DEG C,TU
      325024_1,  P14N,   154,  1,     36,     36,2,19930821,1554, -2.7490, 179.0012, 5515,      3.4,  29.9788,  34.5717,2,  34.5785,2,   -999.0,9,    195.3,2,     2.60,2,     0.00,2,     0.00,2,     0.20,2, -999.000,5, -999.000,5, -999.000,9,-999.0000,9,  -999.00,9,   1912.0,2,   2275.0,2,     8.12,2,-999.0000,-999.000, 29.9780,-999.000
      325024_1,  P14N,   154,  1,     35,     35,2,19930821,1554, -2.7490, 179.0012, 5515,     31.2,  29.9895,  34.5723,2,  34.5789,2,   -999.0,9,    195.0,2,     2.35,2,     0.00,2,     0.00,2,     0.20,2, -999.000,5, -999.000,5, -999.000,9,-999.0000,9,  -999.00,9,   1913.0,2,   2279.0,2,     8.12,2,-999.0000,-999.000, 29.9818,-999.000
      325024_1,  P14N,   154,  1,     34,     34,2,19930821,1554, -2.7490, 179.0012, 5515,     61.0,  29.9752,  34.8780,2,  34.8792,2,   -999.0,9,    197.8,2,     2.50,2,     0.00,2,     0.00,2,     0.21,2, -999.000,5, -999.000,5, -999.000,9,-999.0000,9,  -999.00,9,   1937.0,2,   2292.0,2,     8.11,2,-999.0000,-999.000, 29.9601,-999.000
      325024_1,  P14N,   154,  1,     33,     33,2,19930821,1554, -2.7490, 179.0012, 5515,     91.5,  29.6819,  35.0517,2,  35.0399,2,   -999.0,9,    196.7,2,     2.25,2,     0.00,2,     0.01,2,     0.23,2, -999.000,5, -999.000,5, -999.000,9,-999.0000,9,  -999.00,9,   1950.0,2,   2303.0,2,     8.10,2,-999.0000,-999.000, 29.6593,-999.000
      325024_1,  P14N,   154,  1,     32,     32,2,19930821,1554, -2.7490, 179.0012, 5515,    122.0,  28.0164,  35.4363,2,-999.0000,9,   -999.0,9,   -999.0,9,  -999.00,9,  -999.00,9,  -999.00,9,  -999.00,9, -999.000,5, -999.000,5, -999.000,9,-999.0000,9,  -999.00,9,   -999.0,9,   -999.0,9,  -999.00,9,-999.0000,-999.000, 27.9876,-999.000
      325024_1,  P14N,   154,  1,     31,     31,2,19930821,1554, -2.7490, 179.0012, 5515,    151.0,  22.0103,  35.9007,2,  35.9148,2,   -999.0,9,    128.5,2,     3.39,2,     9.73,2,     0.08,2,     0.95,2, -999.000,5, -999.000,5, -999.000,9,-999.0000,9,  -999.00,9,   2115.0,2,   2361.0,2,     7.89,2,-999.0000,-999.000, 21.9803,-999.000
      325024_1,  P14N,   154,  1,     30,     30,2,19930821,1554, -2.7490, 179.0012, 5515,    202.3,  14.8173,  35.1685,2,  35.1558,2,   -999.0,9,    127.0,2,    10.32,2,    16.94,2,     0.01,2,     1.32,2, -999.000,5, -999.000,5, -999.000,9,-999.0000,9,  -999.00,9,   2145.0,2,   2316.0,2,     7.75,2,-999.0000,-999.000, 14.7869,-999.000
      325024_1,  P14N,   154,  1,     29,     29,2,19930821,1554, -2.7490, 179.0012, 5515,    252.7,  12.1709,  34.9274,2,  34.8870,2,   -999.0,9,    126.6,2,    16.66,2,    21.78,2,     0.00,2,     1.62,2, -999.000,5, -999.000,5, -999.000,9,-999.0000,9,  -999.00,9,   2164.0,2,   2306.0,2,     7.69,2,-999.0000,-999.000, 12.1375,-999.000
      325024_1,  P14N,   154,  1,     28,     28,2,19930821,1554, -2.7490, 179.0012, 5515,    302.6,  10.2314,  34.7468,2,  34.7458,2,   -999.0,9,    103.4,2,    24.58,2,    27.20,2,     0.00,2,     1.95,2, -999.000,5, -999.000,5, -999.000,9,-999.0000,9,  -999.00,9,   2197.0,2,   2299.0,2,     7.58,2,-999.0000,-999.000, 10.1957,-999.000
      325024_1,  P14N,   154,  1,     27,     27,2,19930821,1554, -2.7490, 179.0012, 5515,    403.1,   9.5210,  34.6995,2,  34.6987,2,   -999.0,9,    107.4,2,    26.32,2,    28.33,2,     0.00,2,     2.01,2, -999.000,5, -999.000,5, -999.000,9,-999.0000,9,  -999.00,9,   2203.0,2,   2303.0,2,     7.60,2,-999.0000,-999.000,  9.4753,-999.000
      325024_1,  P14N,   154,  1,     26,     26,2,19930821,1554, -2.7490, 179.0012, 5515,    502.9,   7.9268,  34.6068,2,  34.6120,2,   -999.0,9,     80.0,2,    38.04,2,    34.68,2,     0.00,2,     2.44,2, -999.000,5, -999.000,5, -999.000,9,-999.0000,9,  -999.00,9,   2239.0,2,   2306.0,2,     7.48,2,-999.0000,-999.000,  7.8755,-999.000
      325024_1,  P14N,   154,  1,     25,     25,2,19930821,1554, -2.7490, 179.0012, 5515,    607.9,   6.7805,  34.5585,2,  34.5573,2,   -999.0,9,     95.9,2,    45.77,2,    35.44,2,     0.00,2,     2.50,2, -999.000,5, -999.000,5, -999.000,9,-999.0000,9,  -999.00,9,   2248.0,2,   2313.0,2,     7.50,2,-999.0000,-999.000,  6.7233,-999.000
      325024_1,  P14N,   154,  1,     24,     24,2,19930821,1554, -2.7490, 179.0012, 5515,    706.9,   6.0328,  34.5379,2,  34.5371,2,   -999.0,9,    101.6,2,    54.10,2,    36.16,2,     0.00,2,     2.54,2, -999.000,5, -999.000,5, -999.000,9,-999.0000,9,  -999.00,9,   2253.0,2,   2329.0,2,     7.51,2,-999.0000,-999.000,  5.9698,-999.000
      325024_1,  P14N,   154,  1,     23,     23,2,19930821,1554, -2.7490, 179.0012, 5515,    807.6,   5.4938,  34.5402,2,  34.5402,2,   -999.0,9,     87.3,2,    64.84,2,    38.73,2,     0.00,2,     2.75,2, -999.000,5, -999.000,5, -999.000,9,-999.0000,9,  -999.00,9,   2271.0,2,   2333.0,2,     7.46,2,-999.0000,-999.000,  5.4245,-999.000
      325024_1,  P14N,   154,  1,     22,     22,2,19930821,1554, -2.7490, 179.0012, 5515,    907.5,   4.9732,  34.5411,2,  34.5414,2,   -999.0,9,     92.1,2,    74.40,2,    38.82,2,     0.00,2,     2.76,2, -999.000,5, -999.000,5, -999.000,9,-999.0000,9,  -999.00,9,   2283.0,2,   2343.0,2,     7.47,2,-999.0000,-999.000,  4.8983,-999.000
      325024_1,  P14N,   154,  1,     21,     21,2,19930821,1554, -2.7490, 179.0012, 5515,   1007.8,   4.5243,  34.5477,2,  34.5480,2,   -999.0,9,     92.6,2,    82.77,2,    39.27,2,     0.00,2,     2.79,2, -999.000,5, -999.000,5, -999.000,9,-999.0000,9,  -999.00,9,   2293.0,2,   2351.0,2,     7.47,2,-999.0000,-999.000,  4.4439,-999.000
      325024_1,  P14N,   154,  1,     20,     20,2,19930821,1554, -2.7490, 179.0012, 5515,   1208.6,   3.8768,  34.5669,2,  34.5659,2,   -999.0,9,     96.2,2,    98.04,2,    39.41,2,     0.00,2,     2.80,2, -999.000,5, -999.000,5, -999.000,9,-999.0000,9,  -999.00,9,   2308.0,2,   2373.0,2,     7.47,2,-999.0000,-999.000,  3.7844,-999.000
      325024_1,  P14N,   154,  1,     19,     19,2,19930821,1554, -2.7490, 179.0012, 5515,   1414.4,   3.3640,  34.5860,2,  34.5845,2,   -999.0,9,    101.2,2,   110.37,2,    39.13,2,     0.00,2,     2.79,2, -999.000,5, -999.000,5, -999.000,9,-999.0000,9,  -999.00,9,   2319.0,2,   2386.0,2,     7.50,2,-999.0000,-999.000,  3.2593,-999.000
      325024_1,  P14N,   154,  1,     18,     18,2,19930821,1554, -2.7490, 179.0012, 5515,   1615.6,   2.8347,  34.6057,2,  34.6049,2,   -999.0,9,    113.3,2,   120.12,2,    38.31,2,     0.00,2,     2.74,2, -999.000,5, -999.000,5, -999.000,9,-999.0000,9,  -999.00,9,   2326.0,2,   2397.0,2,     7.49,2,-999.0000,-999.000,  2.7191,-999.000
      325024_1,  P14N,   154,  1,     17,     17,2,19930821,1554, -2.7490, 179.0012, 5515,   1820.6,   2.4414,  34.6267,2,  34.6257,2,   -999.0,9,    114.2,2,   130.76,2,    38.53,2,     0.00,2,     2.74,2, -999.000,5, -999.000,5, -999.000,9,-999.0000,9,  -999.00,9,   2334.0,2,   2407.0,2,     7.50,2,-999.0000,-999.000,  2.3136,-999.000
      325024_1,  P14N,   154,  1,     16,     16,2,19930821,1554, -2.7490, 179.0012, 5515,   2022.5,   2.1873,  34.6413,2,  34.6402,2,   -999.0,9,    117.5,2,   137.33,2,    38.49,2,     0.00,2,     2.72,2, -999.000,5, -999.000,5, -999.000,9,-999.0000,9,  -999.00,9,   2336.0,2,   2416.0,2,     7.50,2,-999.0000,-999.000,  2.0461,-999.000
      325024_1,  P14N,   154,  1,     15,     15,2,19930821,1554, -2.7490, 179.0012, 5515,   2225.3,   2.0706,  34.6475,2,  34.6471,2,   -999.0,9,    122.6,2,   138.91,2,    38.03,2,     0.00,2,     2.70,2, -999.000,5, -999.000,5, -999.000,9,-999.0000,9,  -999.00,9,   2339.0,2,   2419.0,2,     7.50,2,-999.0000,-999.000,  1.9136,-999.000
      325024_1,  P14N,   154,  1,     14,     14,2,19930821,1554, -2.7490, 179.0012, 5515,   2429.4,   1.9411,  34.6547,2,  34.6541,2,   -999.0,9,    130.7,2,   142.38,2,    37.89,2,     0.00,2,     2.67,2, -999.000,5, -999.000,5, -999.000,9,-999.0000,9,    25.10,2,   2341.0,2,   2420.0,2,     7.52,2,-999.0000,   0.150,  1.7683,-999.000
      325024_1,  P14N,   154,  1,     13,     13,2,19930821,1554, -2.7490, 179.0012, 5515,   2631.7,   1.8453,  34.6602,2,  34.6602,2,   -999.0,9,    129.2,2,   144.18,2,    37.66,2,     0.00,2,     2.66,2, -999.000,5, -999.000,5, -999.000,9,-999.0000,9,  -999.00,9,   2342.0,2,   2423.0,2,     7.53,2,-999.0000,-999.000,  1.6559,-999.000
      325024_1,  P14N,   154,  1,     12,     12,2,19930821,1554, -2.7490, 179.0012, 5515,   2836.4,   1.7726,  34.6646,2,  34.6645,2,   -999.0,9,    133.3,2,   144.73,2,    37.35,2,     0.00,2,     2.63,2, -999.000,5, -999.000,5, -999.000,9,-999.0000,9,    22.60,2,   2337.0,2,   2424.0,2,     7.52,2,-999.0000,   0.150,  1.5655,-999.000
      325024_1,  P14N,   154,  1,     11,     11,2,19930821,1554, -2.7490, 179.0012, 5515,   3039.3,   1.6585,  34.6715,2,  34.6718,2,   -999.0,9,    141.1,2,   144.43,2,    36.80,2,     0.00,2,     2.59,2, -999.000,5, -999.000,5, -999.000,9,-999.0000,9,  -999.00,9,   2334.0,2,   2423.0,2,     7.55,2,-999.0000,-999.000,  1.4344,-999.000
      325024_1,  P14N,   154,  1,     10,     10,2,19930821,1554, -2.7490, 179.0012, 5515,   3346.5,   1.5635,  34.6787,2,  34.6778,2,   -999.0,9,    148.8,2,   144.14,2,    36.35,2,     0.00,2,     2.54,2, -999.000,5, -999.000,5, -999.000,9,-999.0000,9,  -999.00,9,   2329.0,2,   2423.0,2,     7.54,2,-999.0000,-999.000,  1.3114,-999.000
      325024_1,  P14N,   154,  1,      9,      9,2,19930821,1554, -2.7490, 179.0012, 5515,   3656.4,   1.4796,  34.6854,2,  34.6849,2,   -999.0,9,    158.0,2,   142.17,2,    35.72,2,     0.00,2,     2.50,2, -999.000,5, -999.000,5, -999.000,9,-999.0000,9,  -999.00,9,   2324.0,2,   2420.0,2,     7.57,2,-999.0000,-999.000,  1.1978,-999.000
      325024_1,  P14N,   154,  1,      8,      8,2,19930821,1554, -2.7490, 179.0012, 5515,   3962.1,   1.4040,  34.6916,2,  34.6910,2,   -999.0,9,    166.3,2,   140.42,2,    35.14,2,     0.00,2,     2.46,2, -999.000,5, -999.000,5, -999.000,9,-999.0000,9,  -999.00,9,   2318.0,2,   2417.0,2,     7.56,2,-999.0000,-999.000,  1.0918,-999.000
      325024_1,  P14N,   154,  1,      7,      7,2,19930821,1554, -2.7490, 179.0012, 5515,   4264.7,   1.3256,  34.6973,2,  34.6971,2,   -999.0,9,    177.7,2,   134.72,2,    34.30,2,     0.00,2,     2.39,2, -999.000,5, -999.000,5, -999.000,9,-999.0000,9,  -999.00,9,   2302.0,2,   2406.0,2,     7.59,2,-999.0000,-999.000,  0.9826,-999.000
      325024_1,  P14N,   154,  1,      6,      6,2,19930821,1554, -2.7490, 179.0012, 5515,   4565.8,   1.2620,  34.7017,2,  34.7018,2,   -999.0,9,    188.1,2,   129.25,2,    33.46,2,     0.00,2,     2.31,2, -999.000,5, -999.000,5, -999.000,9,-999.0000,9,  -999.00,9,   2288.0,2,   2392.0,2,     7.57,2,-999.0000,-999.000,  0.8868,-999.000
      325024_1,  P14N,   154,  1,      5,      5,2,19930821,1554, -2.7490, 179.0012, 5515,   4880.2,   1.2372,  34.7045,2,  34.7039,2,   -999.0,9,    194.5,2,   126.91,2,    33.06,2,     0.00,2,     2.29,2, -999.000,5, -999.000,5, -999.000,9,-999.0000,9,  -999.00,9,   2275.0,2,   2385.0,2,     7.59,2,-999.0000,-999.000,  0.8261,-999.000
      325024_1,  P14N,   154,  1,      4,      4,2,19930821,1554, -2.7490, 179.0012, 5515,   5192.0,   1.2553,  34.7049,2,  34.7047,2,   -999.0,9,    196.1,2,   126.41,2,    32.97,2,     0.00,2,     2.29,2, -999.000,5, -999.000,5, -999.000,9,-999.0000,9,  -999.00,9,   2277.0,2,   2383.0,2,     7.57,2,-999.0000,-999.000,  0.8059,-999.000
      325024_1,  P14N,   154,  1,      3,      3,2,19930821,1554, -2.7490, 179.0012, 5515,   5473.6,   1.2902,  34.7045,2,  34.7047,2,   -999.0,9,    196.0,2,   126.34,2,    33.01,2,     0.00,2,     2.29,2, -999.000,5, -999.000,5, -999.000,9,-999.0000,9,  -999.00,9,   2275.0,2,   2381.0,2,     7.58,2,-999.0000,-999.000,  0.8046,-999.000
      325024_1,  P14N,   154,  1,      2,      2,2,19930821,1554, -2.7490, 179.0012, 5515,   5595.4,   1.3058,  34.7050,2,  34.7051,2,   -999.0,9,    195.9,2,   126.26,2,    32.88,2,     0.00,2,     2.29,2, -999.000,5, -999.000,5, -999.000,9,-999.0000,9,  -999.00,9,   2277.0,2,   2382.0,2,     7.58,2,-999.0000,-999.000,  0.8041,-999.000
      325024_1,  P14N,   154,  1,      1,      1,2,19930821,1554, -2.7490, 179.0012, 5515,   5595.4,   1.3059,  34.7049,2,  34.7041,2,   -999.0,9,    195.2,2,   126.18,2,    32.92,2,     0.00,2,     2.29,2, -999.000,5, -999.000,5, -999.000,9,-999.0000,9,  -999.00,9,   2278.0,2,   2384.0,2,     7.59,2,-999.0000,-999.000,  0.8042,-999.000