BOTTLE,20131125MIRCJHATS
EXPOCODE,SECT_ID,STNNBR,CASTNO,SAMPNO,BTLNBR,BTLNBR_FLAG_W,DATE,TIME,LATITUDE,LONGITUDE,DEPTH,CTDPRS,CTDTMP,CTDSAL,CTDSAL_FLAG_W,SALNTY,SALNTY_FLAG_W,CTDOXY,CTDOXY_FLAG_W,OXYGEN,OXYGEN_FLAG_W,SILCAT,SILCAT_FLAG_W,NITRAT,NITRAT_FLAG_W,NITRIT,NITRIT_FLAG_W,PHSPHT,PHSPHT_FLAG_W,CFC-11,CFC-11_FLAG_W,CFC-12,CFC-12_FLAG_W,TRITUM,TRITUM_FLAG_W,HELIUM,HELIUM_FLAG_W,DELHE3,DELHE3_FLAG_W,TCARBN,TCARBN_FLAG_W,ALKALI,ALKALI_FLAG_W,PH,PH_FLAG_W,HELIER,DELHER,THETA,TRITER
,,,,,,,,,,,,DBAR,ITS-90,PSS-78,,PSS-78,,UMOL/KG,,UMOL/KG,,UMOL/KG,,UMOL/KG,,UMOL/KG,,UMOL/KG,,PMOL/KG,,PMOL/KG,,TU,,NMOL/KG,,PERCNT,,UMOL/KG,,UMOL/KG,,25_DEG,,NMOL/KG,PERCNT,DEG C,TU
      325024_1,  P14N,   142,  1,     36,     36,2,19930817,1313,  0.2480, 178.9990, 5350,      2.3,  30.0764,  34.2046,2,  34.2117,2,   -999.0,9,    195.4,2,     2.85,2,     0.01,2,     0.00,2,     0.18,2, -999.000,5, -999.000,5, -999.000,9,-999.0000,9,  -999.00,9,   -999.0,9,   -999.0,9,  -999.00,9,-999.0000,-999.000, 30.0758,-999.000
      325024_1,  P14N,   142,  1,     35,     35,2,19930817,1313,  0.2480, 178.9990, 5350,     32.0,  30.1071,  34.3217,2,  34.3347,2,   -999.0,9,    196.1,2,     2.59,2,     0.01,2,     0.00,2,     0.17,2, -999.000,5, -999.000,5, -999.000,9,-999.0000,9,  -999.00,9,   -999.0,9,   -999.0,9,  -999.00,9,-999.0000,-999.000, 30.0991,-999.000
      325024_1,  P14N,   142,  1,     34,     34,2,19930817,1313,  0.2480, 178.9990, 5350,     61.3,  30.1320,  34.4785,2,  34.4958,2,   -999.0,9,    196.7,2,     2.53,2,     0.01,2,     0.00,2,     0.19,2, -999.000,5, -999.000,5, -999.000,9,-999.0000,9,  -999.00,9,   -999.0,9,   -999.0,9,  -999.00,9,-999.0000,-999.000, 30.1168,-999.000
      325024_1,  P14N,   142,  1,     33,     33,2,19930817,1313,  0.2480, 178.9990, 5350,     91.7,  29.9235,  35.0005,2,  35.0010,2,   -999.0,9,    203.0,2,     2.47,2,     0.00,2,     0.00,2,     0.23,2, -999.000,5, -999.000,5, -999.000,9,-999.0000,9,  -999.00,9,   -999.0,9,   -999.0,9,  -999.00,9,-999.0000,-999.000, 29.9008,-999.000
      325024_1,  P14N,   142,  1,     32,     32,2,19930817,1313,  0.2480, 178.9990, 5350,    121.2,  22.5649,  35.2347,2,  35.2292,2,   -999.0,9,    140.0,2,     5.34,2,     7.84,2,     0.16,2,     0.72,2, -999.000,5, -999.000,5, -999.000,9,-999.0000,9,  -999.00,9,   -999.0,9,   -999.0,9,  -999.00,9,-999.0000,-999.000, 22.5405,-999.000
      325024_1,  P14N,   142,  1,     31,     31,2,19930817,1313,  0.2480, 178.9990, 5350,    151.5,  21.6068,  35.2333,2,  35.2188,2,   -999.0,9,    137.1,2,     6.25,2,     8.75,2,     0.02,2,     0.77,2, -999.000,5, -999.000,5, -999.000,9,-999.0000,9,  -999.00,9,   -999.0,9,   -999.0,9,  -999.00,9,-999.0000,-999.000, 21.5772,-999.000
      325024_1,  P14N,   142,  1,     30,     30,2,19930817,1313,  0.2480, 178.9990, 5350,    202.7,  15.9614,  35.0515,4,  35.0108,2,   -999.0,9,    136.9,2,    14.20,2,    14.54,2,     0.01,2,     1.14,2, -999.000,5, -999.000,5, -999.000,9,-999.0000,9,  -999.00,9,   -999.0,9,   -999.0,9,  -999.00,9,-999.0000,-999.000, 15.9294,-999.000
      325024_1,  P14N,   142,  1,     29,     29,2,19930817,1313,  0.2480, 178.9990, 5350,    253.2,  13.5258,  34.8926,2,  34.8941,2,   -999.0,9,    133.8,2,    17.85,2,    18.10,2,     0.00,2,     1.36,2, -999.000,5, -999.000,5, -999.000,9,-999.0000,9,  -999.00,9,   -999.0,9,   -999.0,9,  -999.00,9,-999.0000,-999.000, 13.4900,-999.000
      325024_1,  P14N,   142,  1,     28,     28,2,19930817,1313,  0.2480, 178.9990, 5350,    303.6,  11.8171,  34.8218,2,  34.8132,2,   -999.0,9,    101.4,2,    22.66,2,    24.58,2,     0.00,2,     1.77,2, -999.000,5, -999.000,5, -999.000,9,-999.0000,9,  -999.00,9,   -999.0,9,   -999.0,9,  -999.00,9,-999.0000,-999.000, 11.7778,-999.000
      325024_1,  P14N,   142,  1,     27,     27,2,19930817,1313,  0.2480, 178.9990, 5350,    404.8,   9.6498,  34.7007,2,  34.6966,2,   -999.0,9,     67.9,2,    31.58,2,    32.15,2,     0.00,2,     2.24,2, -999.000,5, -999.000,5, -999.000,9,-999.0000,9,  -999.00,9,   -999.0,9,   -999.0,9,  -999.00,9,-999.0000,-999.000,  9.6035,-999.000
      325024_1,  P14N,   142,  1,     26,     26,2,19930817,1313,  0.2480, 178.9990, 5350,    505.1,   7.9564,  34.5989,2,  34.5979,2,   -999.0,9,    103.2,2,    37.17,2,    31.91,2,     0.00,2,     2.24,2, -999.000,5, -999.000,5, -999.000,9,-999.0000,9,  -999.00,9,   -999.0,9,   -999.0,9,  -999.00,9,-999.0000,-999.000,  7.9047,-999.000
      325024_1,  P14N,   142,  1,     25,     25,2,19930817,1313,  0.2480, 178.9990, 5350,    604.4,   6.8746,  34.5653,2,  34.5657,2,   -999.0,9,     81.1,2,    49.02,2,    36.47,2,     0.00,2,     2.55,2, -999.000,5, -999.000,5, -999.000,9,-999.0000,9,  -999.00,9,   -999.0,9,   -999.0,9,  -999.00,9,-999.0000,-999.000,  6.8173,-999.000
      325024_1,  P14N,   142,  1,     24,     24,2,19930817,1313,  0.2480, 178.9990, 5350,    705.3,   5.9916,  34.5526,2,  34.5526,2,   -999.0,9,     70.4,2,    61.86,2,    39.43,2,     0.00,2,     2.76,2, -999.000,5, -999.000,5, -999.000,9,-999.0000,9,  -999.00,9,   -999.0,9,   -999.0,9,  -999.00,9,-999.0000,-999.000,  5.9290,-999.000
      325024_1,  P14N,   142,  1,     23,     23,2,19930817,1313,  0.2480, 178.9990, 5350,    806.4,   5.3835,  34.5447,2,  34.5453,2,   -999.0,9,     81.1,2,    69.81,2,    39.09,2,     0.00,2,     2.74,2, -999.000,5, -999.000,5, -999.000,9,-999.0000,9,  -999.00,9,   -999.0,9,   -999.0,9,  -999.00,9,-999.0000,-999.000,  5.3151,-999.000
      325024_1,  P14N,   142,  1,     22,     22,2,19930817,1313,  0.2480, 178.9990, 5350,    907.3,   5.0449,  34.5444,2,  34.5445,2,   -999.0,9,     86.0,2,    75.62,2,    38.98,2,     0.00,2,     2.73,2, -999.000,5, -999.000,5, -999.000,9,-999.0000,9,  -999.00,9,   -999.0,9,   -999.0,9,  -999.00,9,-999.0000,-999.000,  4.9696,-999.000
      325024_1,  P14N,   142,  1,     21,     21,2,19930817,1313,  0.2480, 178.9990, 5350,   1008.3,   4.6726,  34.5516,2,  34.5520,2,   -999.0,9,     83.7,2,    83.81,2,    39.61,2,     0.00,2,     2.79,2, -999.000,5, -999.000,5, -999.000,9,-999.0000,9,  -999.00,9,   -999.0,9,   -999.0,9,  -999.00,9,-999.0000,-999.000,  4.5909,-999.000
      325024_1,  P14N,   142,  1,     20,     20,2,19930817,1313,  0.2480, 178.9990, 5350,   1109.3,   4.1092,  34.5639,2,  34.5637,2,   -999.0,9,     86.8,2,    95.57,2,    39.73,2,     0.00,2,     2.81,2, -999.000,5, -999.000,5, -999.000,9,-999.0000,9,  -999.00,9,   -999.0,9,   -999.0,9,  -999.00,9,-999.0000,-999.000,  4.0233,-999.000
      325024_1,  P14N,   142,  1,     19,     19,2,19930817,1313,  0.2480, 178.9990, 5350,   1210.7,   3.9036,  34.5689,2,  34.5686,2,   -999.0,9,     94.3,2,    99.05,2,    39.11,2,     0.00,2,     2.77,2, -999.000,5, -999.000,5, -999.000,9,-999.0000,9,  -999.00,9,   -999.0,9,   -999.0,9,  -999.00,9,-999.0000,-999.000,  3.8109,-999.000
      325024_1,  P14N,   142,  1,     18,     18,2,19930817,1313,  0.2480, 178.9990, 5350,   1413.2,   3.2280,  34.5938,2,  34.5925,2,   -999.0,9,     93.0,2,   115.72,2,    39.87,2,     0.00,2,     2.81,2, -999.000,5, -999.000,5, -999.000,9,-999.0000,9,  -999.00,9,   -999.0,9,   -999.0,9,  -999.00,9,-999.0000,-999.000,  3.1248,-999.000
      325024_1,  P14N,   142,  1,     17,     17,2,19930817,1313,  0.2480, 178.9990, 5350,   1615.8,   2.7474,  34.6135,2,  34.6133,2,   -999.0,9,    100.6,2,   127.71,2,    39.48,2,     0.00,2,     2.76,2, -999.000,5, -999.000,5, -999.000,9,-999.0000,9,  -999.00,9,   -999.0,9,   -999.0,9,  -999.00,9,-999.0000,-999.000,  2.6328,-999.000
      325024_1,  P14N,   142,  1,     16,     16,2,19930817,1313,  0.2480, 178.9990, 5350,   1818.4,   2.4879,  34.6269,2,  34.6261,2,   -999.0,9,    104.4,2,   133.91,2,    39.28,2,     0.00,2,     2.74,2, -999.000,5, -999.000,5, -999.000,9,-999.0000,9,  -999.00,9,   -999.0,9,   -999.0,9,  -999.00,9,-999.0000,-999.000,  2.3597,-999.000
      325024_1,  P14N,   142,  1,     15,     15,2,19930817,1313,  0.2480, 178.9990, 5350,   2021.5,   2.1870,  34.6416,2,  34.6408,2,   -999.0,9,    112.4,2,   140.14,2,    38.80,2,     0.00,2,     2.69,2, -999.000,5, -999.000,5, -999.000,9,-999.0000,9,  -999.00,9,   -999.0,9,   -999.0,9,  -999.00,9,-999.0000,-999.000,  2.0458,-999.000
      325024_1,  P14N,   142,  1,     14,     14,2,19930817,1313,  0.2480, 178.9990, 5350,   2225.2,   2.0258,  34.6505,2,  34.6508,2,   -999.0,9,    117.5,2,   143.73,2,    38.46,2,     0.00,2,     2.67,2, -999.000,5, -999.000,5, -999.000,9,-999.0000,9,  -999.00,9,   -999.0,9,   -999.0,9,  -999.00,9,-999.0000,-999.000,  1.8696,-999.000
      325024_1,  P14N,   142,  1,     13,     13,2,19930817,1313,  0.2480, 178.9990, 5350,   2428.2,   1.8916,  34.6569,2,  34.6574,2,   -999.0,9,    122.7,2,   145.89,2,    38.12,2,     0.00,2,     2.64,2, -999.000,5, -999.000,5, -999.000,9,-999.0000,9,  -999.00,9,   -999.0,9,   -999.0,9,  -999.00,9,-999.0000,-999.000,  1.7198,-999.000
      325024_1,  P14N,   142,  1,     12,     12,2,19930817,1313,  0.2480, 178.9990, 5350,   2631.3,   1.8094,  34.6629,2,  34.6633,2,   -999.0,9,    126.8,2,   147.22,2,    37.83,2,     0.00,2,     2.61,2, -999.000,5, -999.000,5, -999.000,9,-999.0000,9,  -999.00,9,   -999.0,9,   -999.0,9,  -999.00,9,-999.0000,-999.000,  1.6207,-999.000
      325024_1,  P14N,   142,  1,     11,     11,2,19930817,1313,  0.2480, 178.9990, 5350,   2835.5,   1.7247,  34.6663,2,  34.6663,2,   -999.0,9,    132.1,2,   147.11,2,    37.44,2,     0.00,2,     2.59,2, -999.000,5, -999.000,5, -999.000,9,-999.0000,9,  -999.00,9,   -999.0,9,   -999.0,9,  -999.00,9,-999.0000,-999.000,  1.5187,-999.000
      325024_1,  P14N,   142,  1,     10,     10,2,19930817,1313,  0.2480, 178.9990, 5350,   3039.8,   1.6632,  34.6702,2,  34.6700,2,   -999.0,9,    137.1,2,   146.80,2,    37.11,2,     0.00,2,     2.55,2, -999.000,5, -999.000,5, -999.000,9,-999.0000,9,  -999.00,9,   -999.0,9,   -999.0,9,  -999.00,9,-999.0000,-999.000,  1.4390,-999.000
      325024_1,  P14N,   142,  1,      9,      9,2,19930817,1313,  0.2480, 178.9990, 5350,   3345.5,   1.5604,  34.6770,2,  34.6767,2,   -999.0,9,    145.9,2,   145.45,2,    36.41,2,     0.00,2,     2.50,2, -999.000,5, -999.000,5, -999.000,9,-999.0000,9,  -999.00,9,   -999.0,9,   -999.0,9,  -999.00,9,-999.0000,-999.000,  1.3085,-999.000
      325024_1,  P14N,   142,  1,      8,      8,2,19930817,1313,  0.2480, 178.9990, 5350,   3651.7,   1.4959,  34.6827,2,  34.6829,2,   -999.0,9,    154.2,2,   143.08,2,    35.80,2,     0.00,2,     2.45,2, -999.000,5, -999.000,5, -999.000,9,-999.0000,9,  -999.00,9,   -999.0,9,   -999.0,9,  -999.00,9,-999.0000,-999.000,  1.2142,-999.000
      325024_1,  P14N,   142,  1,      7,      7,2,19930817,1313,  0.2480, 178.9990, 5350,   3960.0,   1.4047,  34.6905,2,  34.6906,2,   -999.0,9,    165.6,2,   139.89,2,    34.89,2,     0.00,2,     2.40,2, -999.000,5, -999.000,5, -999.000,9,-999.0000,9,  -999.00,9,   -999.0,9,   -999.0,9,  -999.00,9,-999.0000,-999.000,  1.0927,-999.000
      325024_1,  P14N,   142,  1,      6,      6,2,19930817,1313,  0.2480, 178.9990, 5350,   4272.3,   1.3373,  34.6953,2,  34.6963,2,   -999.0,9,    175.5,2,   135.91,2,    34.29,2,     0.00,2,     2.34,2, -999.000,5, -999.000,5, -999.000,9,-999.0000,9,  -999.00,9,   -999.0,9,   -999.0,9,  -999.00,9,-999.0000,-999.000,  0.9931,-999.000
      325024_1,  P14N,   142,  1,      5,      5,2,19930817,1313,  0.2480, 178.9990, 5350,   4575.6,   1.2705,  34.7009,2,  34.7008,2,   -999.0,9,    186.2,2,   130.93,2,    33.60,2,     0.00,2,     2.29,2, -999.000,5, -999.000,5, -999.000,9,-999.0000,9,  -999.00,9,   -999.0,9,   -999.0,9,  -999.00,9,-999.0000,-999.000,  0.8939,-999.000
      325024_1,  P14N,   142,  1,      4,      4,2,19930817,1313,  0.2480, 178.9990, 5350,   4879.4,   1.2473,  34.7029,2,  34.7031,2,   -999.0,9,    191.3,2,   128.80,2,    33.10,2,     0.00,2,     2.27,2, -999.000,5, -999.000,5, -999.000,9,-999.0000,9,  -999.00,9,   -999.0,9,   -999.0,9,  -999.00,9,-999.0000,-999.000,  0.8359,-999.000
      325024_1,  P14N,   142,  1,      3,      3,2,19930817,1313,  0.2480, 178.9990, 5350,   5188.8,   1.2689,  34.7036,2,  34.7033,2,   -999.0,9,    193.7,2,   127.49,2,    32.99,2,     0.00,2,     2.26,2, -999.000,5, -999.000,5, -999.000,9,-999.0000,9,  -999.00,9,   -999.0,9,   -999.0,9,  -999.00,9,-999.0000,-999.000,  0.8194,-999.000
      325024_1,  P14N,   142,  1,      1,      1,2,19930817,1313,  0.2480, 178.9990, 5350,   5435.8,   1.2966,  34.7044,2,  34.7037,2,   -999.0,9,    192.3,2,   127.08,2,    32.87,2,     0.00,2,     2.25,2, -999.000,5, -999.000,5, -999.000,9,-999.0000,9,  -999.00,9,   -999.0,9,   -999.0,9,  -999.00,9,-999.0000,-999.000,  0.8155,-999.000
      325024_1,  P14N,   142,  1,      2,      2,2,19930817,1313,  0.2480, 178.9990, 5350,   5435.9,   1.2966,  34.7043,2,  34.7043,2,   -999.0,9,    194.2,2,   127.18,2,    32.93,2,     0.00,2,     2.25,2, -999.000,5, -999.000,5, -999.000,9,-999.0000,9,  -999.00,9,   -999.0,9,   -999.0,9,  -999.00,9,-999.0000,-999.000,  0.8155,-999.000