BOTTLE,20131125MIRCJHATS
EXPOCODE,SECT_ID,STNNBR,CASTNO,SAMPNO,BTLNBR,BTLNBR_FLAG_W,DATE,TIME,LATITUDE,LONGITUDE,DEPTH,CTDPRS,CTDTMP,CTDSAL,CTDSAL_FLAG_W,SALNTY,SALNTY_FLAG_W,CTDOXY,CTDOXY_FLAG_W,OXYGEN,OXYGEN_FLAG_W,SILCAT,SILCAT_FLAG_W,NITRAT,NITRAT_FLAG_W,NITRIT,NITRIT_FLAG_W,PHSPHT,PHSPHT_FLAG_W,CFC-11,CFC-11_FLAG_W,CFC-12,CFC-12_FLAG_W,TRITUM,TRITUM_FLAG_W,HELIUM,HELIUM_FLAG_W,DELHE3,DELHE3_FLAG_W,TCARBN,TCARBN_FLAG_W,ALKALI,ALKALI_FLAG_W,PH,PH_FLAG_W,HELIER,DELHER,THETA,TRITER
,,,,,,,,,,,,DBAR,ITS-90,PSS-78,,PSS-78,,UMOL/KG,,UMOL/KG,,UMOL/KG,,UMOL/KG,,UMOL/KG,,UMOL/KG,,PMOL/KG,,PMOL/KG,,TU,,NMOL/KG,,PERCNT,,UMOL/KG,,UMOL/KG,,25_DEG,,NMOL/KG,PERCNT,DEG C,TU
      325023_1,  P14N,   125,  1,     36,     36,2,19930808,0232,  4.4855, 179.0060, 5850,      3.0,  30.0225,  33.9967,2,  34.0025,2,   -999.0,9,    194.6,2,     2.00,2,     0.04,2,     0.00,2,     0.15,2,    1.579,2,    0.947,3, -999.000,9,-999.0000,9,  -999.00,9,   -999.0,9,   -999.0,9,  -999.00,9,-999.0000,-999.000, 30.0218,-999.000
      325023_1,  P14N,   125,  1,     35,     35,2,19930808,0232,  4.4855, 179.0060, 5850,     38.7,  29.4582,  34.0484,2,  34.0598,2,   -999.0,9,   -999.0,9,     2.68,2,     0.04,2,     0.00,2,     0.16,2,    1.595,2,    0.891,2, -999.000,9,-999.0000,9,  -999.00,9,   -999.0,9,   -999.0,9,  -999.00,9,-999.0000,-999.000, 29.4487,-999.000
      325023_1,  P14N,   125,  1,     34,     34,2,19930808,0232,  4.4855, 179.0060, 5850,     69.0,  28.2504,  34.4926,2,  34.4963,2,   -999.0,9,    195.6,2,     3.17,2,     0.03,2,     0.00,2,     0.16,2,    1.621,2,    0.884,2, -999.000,9,-999.0000,9,  -999.00,9,   -999.0,9,   -999.0,9,  -999.00,9,-999.0000,-999.000, 28.2341,-999.000
      325023_1,  P14N,   125,  1,     33,     33,2,19930808,0232,  4.4855, 179.0060, 5850,     99.3,  24.1947,  34.6912,2,  34.6999,2,   -999.0,9,    167.8,2,     5.01,2,     1.58,2,     0.21,2,     0.34,2,    1.727,2,    0.928,2, -999.000,9,-999.0000,9,  -999.00,9,   -999.0,9,   -999.0,9,  -999.00,9,-999.0000,-999.000, 24.1737,-999.000
      325023_1,  P14N,   125,  1,     32,     32,2,19930808,0232,  4.4855, 179.0060, 5850,    129.8,  20.3528,  34.7699,2,  34.7586,2,   -999.0,9,    146.1,2,     8.77,2,     7.89,2,     0.04,2,     0.70,2,    1.709,2,    0.899,2, -999.000,9,-999.0000,9,  -999.00,9,   -999.0,9,   -999.0,9,  -999.00,9,-999.0000,-999.000, 20.3285,-999.000
      325023_1,  P14N,   125,  1,     31,     31,2,19930808,0232,  4.4855, 179.0060, 5850,    160.1,  15.4429,  34.6425,2,  34.6418,2,   -999.0,9,    125.8,2,    16.19,2,    15.34,2,     0.01,2,     1.19,2,    1.463,2,    0.738,2, -999.000,9,-999.0000,9,  -999.00,9,   -999.0,9,   -999.0,9,  -999.00,9,-999.0000,-999.000, 15.4183,-999.000
      325023_1,  P14N,   125,  1,     30,     30,2,19930808,0232,  4.4855, 179.0060, 5850,    210.5,  10.8412,  34.5921,2,  34.5896,2,   -999.0,9,     66.1,2,    32.08,2,    28.98,2,     0.01,2,     2.09,2,    0.480,2,    0.231,2, -999.000,9,-999.0000,9,  -999.00,9,   -999.0,9,   -999.0,9,  -999.00,9,-999.0000,-999.000, 10.8156,-999.000
      325023_1,  P14N,   125,  1,     29,     29,2,19930808,0232,  4.4855, 179.0060, 5850,    260.0,   9.8080,  34.6497,2,  34.6492,2,   -999.0,9,     61.8,2,    34.50,2,    31.61,2,     0.01,2,     2.25,2,    0.219,2,    0.120,2, -999.000,9,-999.0000,9,  -999.00,9,   -999.0,9,   -999.0,9,  -999.00,9,-999.0000,-999.000,  9.7783,-999.000
      325023_1,  P14N,   125,  1,     28,     28,2,19930808,0232,  4.4855, 179.0060, 5850,    309.9,   9.3152,  34.6448,2,  34.6445,2,   -999.0,9,     58.4,2,    35.96,2,    33.14,2,     0.00,2,     2.33,2,    0.139,2,    0.060,2, -999.000,9,-999.0000,9,  -999.00,9,   -999.0,9,   -999.0,9,  -999.00,9,-999.0000,-999.000,  9.2808,-999.000
      325023_1,  P14N,   125,  1,     27,     27,2,19930808,0232,  4.4855, 179.0060, 5850,    410.0,   8.4184,  34.6145,2,  34.6133,2,   -999.0,9,     65.6,2,    39.73,2,    34.44,2,     0.00,2,     2.42,2,    0.084,2,    0.038,2, -999.000,9,-999.0000,9,  -999.00,9,   -999.0,9,   -999.0,9,  -999.00,9,-999.0000,-999.000,  8.3753,-999.000
      325023_1,  P14N,   125,  1,     26,     26,2,19930808,0232,  4.4855, 179.0060, 5850,    509.3,   7.6674,  34.5917,2,  34.5911,2,   -999.0,9,     49.0,2,    46.78,2,    37.59,2,     0.00,2,     2.65,2,    0.021,6,    0.015,6, -999.000,9,-999.0000,9,  -999.00,9,   -999.0,9,   -999.0,9,  -999.00,9,-999.0000,-999.000,  7.6163,-999.000
      325023_1,  P14N,   125,  1,     25,     25,2,19930808,0232,  4.4855, 179.0060, 5850,    608.3,   6.7684,  34.5596,2,  34.5587,2,   -999.0,9,     42.2,2,    58.29,2,    39.86,2,     0.01,2,     2.84,2,    0.005,2,    0.003,2, -999.000,9,-999.0000,9,  -999.00,9,   -999.0,9,   -999.0,9,  -999.00,9,-999.0000,-999.000,  6.7112,-999.000
      325023_1,  P14N,   125,  1,     24,     24,2,19930808,0232,  4.4855, 179.0060, 5850,    707.3,   5.9843,  34.5456,2,  34.5454,2,   -999.0,9,     43.5,2,    68.87,2,    41.27,2,     0.01,2,     2.91,2,    0.000,4,   -0.004,4, -999.000,9,-999.0000,9,  -999.00,9,   -999.0,9,   -999.0,9,  -999.00,9,-999.0000,-999.000,  5.9215,-999.000
      325023_1,  P14N,   125,  1,     23,     23,2,19930808,0232,  4.4855, 179.0060, 5850,    806.9,   5.3389,  34.5463,2,  34.5457,2,   -999.0,9,     47.4,2,    78.89,2,    42.07,2,     0.01,2,     2.97,2,    0.005,2,    0.001,2, -999.000,9,-999.0000,9,  -999.00,9,   -999.0,9,   -999.0,9,  -999.00,9,-999.0000,-999.000,  5.2706,-999.000
      325023_1,  P14N,   125,  1,     22,     22,2,19930808,0232,  4.4855, 179.0060, 5850,    906.4,   4.7071,  34.5528,2,  34.5516,2,   -999.0,9,     62.7,2,    88.96,2,    41.25,2,     0.01,2,     2.92,2,    0.003,2,    0.004,2, -999.000,9,-999.0000,9,  -999.00,9,   -999.0,9,   -999.0,9,  -999.00,9,-999.0000,-999.000,  4.6342,-999.000
      325023_1,  P14N,   125,  1,     21,     21,2,19930808,0232,  4.4855, 179.0060, 5850,   1006.3,   4.2492,  34.5625,2,  34.5618,2,   -999.0,9,     73.1,2,    96.92,2,    40.68,2,     0.00,2,     2.89,2,    0.002,2,    0.003,2, -999.000,9,-999.0000,9,  -999.00,9,   -999.0,9,   -999.0,9,  -999.00,9,-999.0000,-999.000,  4.1710,-999.000
      325023_1,  P14N,   125,  1,     20,     20,2,19930808,0232,  4.4855, 179.0060, 5850,   1207.7,   3.6272,  34.5818,2,  34.5794,2,   -999.0,9,     78.9,2,   110.26,2,    40.87,2,     0.00,2,     2.89,2, -999.000,5, -999.000,5, -999.000,9,-999.0000,9,  -999.00,9,   -999.0,9,   -999.0,9,  -999.00,9,-999.0000,-999.000,  3.5373,-999.000
      325023_1,  P14N,   125,  1,     19,     19,2,19930808,0232,  4.4855, 179.0060, 5850,   1612.0,   2.7336,  34.6154,2,  34.6137,2,   -999.0,9,     91.5,2,   130.76,2,    40.25,2,     0.00,2,     2.83,2, -999.000,5, -999.000,5, -999.000,9,-999.0000,9,  -999.00,9,   -999.0,9,   -999.0,9,  -999.00,9,-999.0000,-999.000,  2.6195,-999.000
      325023_1,  P14N,   125,  1,     18,     18,2,19930808,0232,  4.4855, 179.0060, 5850,   1812.8,   2.4598,  34.6287,2,  34.6276,2,   -999.0,9,     97.8,2,   136.96,2,    39.86,2,     0.01,2,     2.80,2, -999.000,5, -999.000,5, -999.000,9,-999.0000,9,  -999.00,9,   -999.0,9,   -999.0,9,  -999.00,9,-999.0000,-999.000,  2.3324,-999.000
      325023_1,  P14N,   125,  1,     17,     17,2,19930808,0232,  4.4855, 179.0060, 5850,   1813.5,   2.4563,  34.6286,2,  34.6265,2,   -999.0,9,     97.5,2,   137.50,2,    39.86,2,     0.00,2,     2.80,2,   -0.002,2,    0.001,2, -999.000,9,-999.0000,9,  -999.00,9,   -999.0,9,   -999.0,9,  -999.00,9,-999.0000,-999.000,  2.3289,-999.000
      325023_1,  P14N,   125,  1,     16,     16,2,19930808,0232,  4.4855, 179.0060, 5850,   2013.3,   2.1944,  34.6408,2,  34.6400,2,   -999.0,9,    106.9,2,   142.32,2,    39.24,2,     0.00,2,     2.74,2, -999.000,5, -999.000,5, -999.000,9,-999.0000,9,  -999.00,9,   -999.0,9,   -999.0,9,  -999.00,9,-999.0000,-999.000,  2.0538,-999.000
      325023_1,  P14N,   125,  1,     15,     15,2,19930808,0232,  4.4855, 179.0060, 5850,   2217.1,   1.9868,  34.6525,2,  34.6511,2,   -999.0,9,    112.9,2,   147.37,2,    38.82,2,     0.00,2,     2.72,2, -999.000,5, -999.000,5, -999.000,9,-999.0000,9,  -999.00,9,   -999.0,9,   -999.0,9,  -999.00,9,-999.0000,-999.000,  1.8320,-999.000
      325023_1,  P14N,   125,  1,     14,     14,2,19930808,0232,  4.4855, 179.0060, 5850,   2419.8,   1.8622,  34.6586,2,  34.6572,2,   -999.0,9,    121.3,2,   147.10,2,    38.26,2,     0.00,2,     2.66,2, -999.000,5, -999.000,5, -999.000,9,-999.0000,9,  -999.00,9,   -999.0,9,   -999.0,9,  -999.00,9,-999.0000,-999.000,  1.6917,-999.000
      325023_1,  P14N,   125,  1,     13,     13,2,19930808,0232,  4.4855, 179.0060, 5850,   2622.8,   1.8032,  34.6623,2,  34.6607,2,   -999.0,9,    124.5,2,   147.85,2,    38.02,2,     0.00,2,     2.63,2, -999.000,5, -999.000,5, -999.000,9,-999.0000,9,  -999.00,9,   -999.0,9,   -999.0,9,  -999.00,9,-999.0000,-999.000,  1.6154,-999.000
      325023_1,  P14N,   125,  1,     12,     12,2,19930808,0232,  4.4855, 179.0060, 5850,   2826.7,   1.7378,  34.6661,2,  34.6650,2,   -999.0,9,    127.7,2,   149.01,2,    37.83,2,     0.00,2,     2.62,2,   -0.004,2,    0.002,2, -999.000,9,-999.0000,9,  -999.00,9,   -999.0,9,   -999.0,9,  -999.00,9,-999.0000,-999.000,  1.5324,-999.000
      325023_1,  P14N,   125,  1,     11,     11,2,19930808,0232,  4.4855, 179.0060, 5850,   3029.6,   1.6563,  34.6706,2,  34.6697,2,   -999.0,9,    134.8,2,   148.12,2,    37.31,2,     0.00,2,     2.59,2, -999.000,5, -999.000,5, -999.000,9,-999.0000,9,  -999.00,9,   -999.0,9,   -999.0,9,  -999.00,9,-999.0000,-999.000,  1.4332,-999.000
      325023_1,  P14N,   125,  1,     10,     10,2,19930808,0232,  4.4855, 179.0060, 5850,   3334.9,   1.5752,  34.6761,2,  34.6756,2,   -999.0,9,    142.8,2,   146.82,2,    36.76,2,     0.00,2,     2.54,2, -999.000,5, -999.000,5, -999.000,9,-999.0000,9,  -999.00,9,   -999.0,9,   -999.0,9,  -999.00,9,-999.0000,-999.000,  1.3240,-999.000
      325023_1,  P14N,   125,  1,      9,      9,2,19930808,0232,  4.4855, 179.0060, 5850,   3639.7,   1.5070,  34.6817,2,  34.6811,2,   -999.0,9,    150.0,2,   146.13,2,    36.29,2,     0.00,2,     2.51,2, -999.000,5, -999.000,5, -999.000,9,-999.0000,9,  -999.00,9,   -999.0,9,   -999.0,9,  -999.00,9,-999.0000,-999.000,  1.2263,-999.000
      325023_1,  P14N,   125,  1,      8,      8,2,19930808,0232,  4.4855, 179.0060, 5850,   3944.3,   1.4171,  34.6889,2,  34.6871,2,   -999.0,9,    160.2,2,   143.81,2,    35.60,2,     0.00,2,     2.44,2, -999.000,5, -999.000,5, -999.000,9,-999.0000,9,  -999.00,9,   -999.0,9,   -999.0,9,  -999.00,9,-999.0000,-999.000,  1.1065,-999.000
      325023_1,  P14N,   125,  1,      7,      7,2,19930808,0232,  4.4855, 179.0060, 5850,   4250.8,   1.3007,  34.6963,2,  34.6957,2,   -999.0,9,    176.3,2,   135.99,2,    34.33,2,     0.00,2,     2.35,2,   -0.003,2,   -0.001,2, -999.000,9,-999.0000,9,  -999.00,9,   -999.0,9,   -999.0,9,  -999.00,9,-999.0000,-999.000,  0.9600,-999.000
      325023_1,  P14N,   125,  1,      6,      6,2,19930808,0232,  4.4855, 179.0060, 5850,   4557.1,   1.2543,  34.7005,2,  34.7004,2,   -999.0,9,    185.1,2,   131.46,2,    33.69,2,     0.00,2,     2.30,2, -999.000,5, -999.000,5, -999.000,9,-999.0000,9,  -999.00,9,   -999.0,9,   -999.0,9,  -999.00,9,-999.0000,-999.000,  0.8803,-999.000
      325023_1,  P14N,   125,  1,      5,      5,2,19930808,0232,  4.4855, 179.0060, 5850,   4863.8,   1.2658,  34.7023,2,  34.7016,2,   -999.0,9,    188.1,2,   129.57,2,    33.51,2,     0.00,2,     2.30,2, -999.000,5, -999.000,5, -999.000,9,-999.0000,9,  -999.00,9,   -999.0,9,   -999.0,9,  -999.00,9,-999.0000,-999.000,  0.8556,-999.000
      325023_1,  P14N,   125,  1,      4,      4,2,19930808,0232,  4.4855, 179.0060, 5850,   5169.7,   1.2912,  34.7027,2,  34.7016,2,   -999.0,9,    190.0,2,   128.70,2,    33.37,2,     0.00,2,     2.29,2, -999.000,5, -999.000,5, -999.000,9,-999.0000,9,  -999.00,9,   -999.0,9,   -999.0,9,  -999.00,9,-999.0000,-999.000,  0.8434,-999.000
      325023_1,  P14N,   125,  1,      3,      3,2,19930808,0232,  4.4855, 179.0060, 5850,   5475.3,   1.3222,  34.7039,2,  34.7031,2,   -999.0,9,    191.4,2,   127.82,2,    33.27,2,     0.00,2,     2.28,2, -999.000,5, -999.000,5, -999.000,9,-999.0000,9,  -999.00,9,   -999.0,9,   -999.0,9,  -999.00,9,-999.0000,-999.000,  0.8352,-999.000
      325023_1,  P14N,   125,  1,      1,      1,2,19930808,0232,  4.4855, 179.0060, 5850,   5768.7,   1.3577,  34.7034,2,  34.7041,2,   -999.0,9,    190.1,2,   127.48,2,    33.17,2,     0.00,2,     2.27,2, -999.000,5, -999.000,5, -999.000,9,-999.0000,9,  -999.00,9,   -999.0,9,   -999.0,9,  -999.00,9,-999.0000,-999.000,  0.8317,-999.000
      325023_1,  P14N,   125,  1,      2,      2,2,19930808,0232,  4.4855, 179.0060, 5850,   5768.8,   1.3577,  34.7036,2,  34.7027,2,   -999.0,9,    191.6,2,   127.55,2,    33.17,2,     0.00,2,     2.26,2, -999.000,5, -999.000,5, -999.000,9,-999.0000,9,  -999.00,9,   -999.0,9,   -999.0,9,  -999.00,9,-999.0000,-999.000,  0.8317,-999.000