BOTTLE,20131125MIRCJHATS
EXPOCODE,SECT_ID,STNNBR,CASTNO,SAMPNO,BTLNBR,BTLNBR_FLAG_W,DATE,TIME,LATITUDE,LONGITUDE,DEPTH,CTDPRS,CTDTMP,CTDSAL,CTDSAL_FLAG_W,SALNTY,SALNTY_FLAG_W,CTDOXY,CTDOXY_FLAG_W,OXYGEN,OXYGEN_FLAG_W,SILCAT,SILCAT_FLAG_W,NITRAT,NITRAT_FLAG_W,NITRIT,NITRIT_FLAG_W,PHSPHT,PHSPHT_FLAG_W,CFC-11,CFC-11_FLAG_W,CFC-12,CFC-12_FLAG_W,TRITUM,TRITUM_FLAG_W,HELIUM,HELIUM_FLAG_W,DELHE3,DELHE3_FLAG_W,TCARBN,TCARBN_FLAG_W,ALKALI,ALKALI_FLAG_W,PH,PH_FLAG_W,HELIER,DELHER,THETA,TRITER
,,,,,,,,,,,,DBAR,ITS-90,PSS-78,,PSS-78,,UMOL/KG,,UMOL/KG,,UMOL/KG,,UMOL/KG,,UMOL/KG,,UMOL/KG,,PMOL/KG,,PMOL/KG,,TU,,NMOL/KG,,PERCNT,,UMOL/KG,,UMOL/KG,,25_DEG,,NMOL/KG,PERCNT,DEG C,TU
      325023_1,  P14N,    17,  1,     32,     32,2,19930710,1359, 51.8588,-179.7845, 2109,      2.7,   5.9312,  33.1116,2,  33.1102,2,   -999.0,9,    301.3,2,    41.19,2,    21.12,2,     0.23,2,     1.75,2,    4.768,2,    2.355,2,    1.920,2,-999.0000,9,  -999.00,9,   2109.1,2,   2242.5,2,     7.74,2,-999.0000,-999.000,  5.9310,   0.019
      325023_1,  P14N,    17,  1,     31,     31,2,19930710,1359, 51.8588,-179.7845, 2109,     33.8,   5.5894,  33.1394,2,  33.1402,2,   -999.0,9,    282.3,2,    46.63,2,    23.20,2,     0.25,2,     1.90,2,    4.471,2,    2.183,2,    2.390,2,-999.0000,9,  -999.00,9,   2127.6,2,   2244.5,2,     7.69,2,-999.0000,-999.000,  5.5868,   0.024
      325023_1,  P14N,    17,  1,     29,     29,2,19930710,1359, 51.8588,-179.7845, 2109,     64.4,   4.3721,  33.3269,2,  33.3255,2,   -999.0,9,    213.1,2,    61.92,2,    28.33,2,     0.32,2,     2.26,2, -999.000,5, -999.000,5,    2.449,2,-999.0000,9,  -999.00,9,   2179.7,2,   2253.1,2,  -999.00,9,-999.0000,-999.000,  4.3677,   0.024
      325023_1,  P14N,    17,  1,     28,     28,2,19930710,1359, 51.8588,-179.7845, 2109,     94.7,   4.1323,  33.4051,2,  33.4039,2,   -999.0,9,    193.7,2,    67.36,2,    30.70,2,     0.33,2,     2.36,2,    3.555,2,    1.717,2, -999.000,9,-999.0000,9,  -999.00,9,   2200.0,2,   2262.1,2,     7.53,2,-999.0000,-999.000,  4.1259,-999.000
      325023_1,  P14N,    17,  1,     27,     27,2,19930710,1359, 51.8588,-179.7845, 2109,    125.1,   3.9954,  33.4672,2,  33.4669,2,   -999.0,9,    178.8,2,    71.44,2,    32.34,2,     0.31,2,     2.44,2,    3.280,2,    1.593,2, -999.000,9,-999.0000,9,  -999.00,9,   2207.1,2,   2264.6,2,  -999.00,9,-999.0000,-999.000,  3.9870,-999.000
      325023_1,  P14N,    17,  1,     26,     26,2,19930710,1359, 51.8588,-179.7845, 2109,    155.3,   3.8685,  33.5539,2,  33.5516,2,   -999.0,9,    158.5,2,    76.89,2,    34.57,2,     0.16,2,     2.55,2, -999.000,5, -999.000,5,    1.816,2,-999.0000,9,     9.30,2,   2232.2,2,   2274.3,2,     7.46,2,-999.0000,   0.150,  3.8581,   0.018
      325023_1,  P14N,    17,  1,     25,     25,2,19930710,1359, 51.8588,-179.7845, 2109,    205.9,   3.7615,  33.6846,2,  33.6881,2,   -999.0,9,    124.4,2,    85.79,2,    37.10,2,     0.07,2,     2.70,2,    2.421,2,    1.156,2, -999.000,9,-999.0000,9,     9.90,2,   2261.3,2,   2285.5,2,  -999.00,9,-999.0000,   0.150,  3.7479,-999.000
      325023_1,  P14N,    17,  1,     24,     24,2,19930710,1359, 51.8588,-179.7845, 2109,    255.7,   3.6636,  33.8047,2,  33.8047,2,   -999.0,9,     98.1,2,    94.72,2,    38.86,2,     0.03,2,     2.82,2,    1.919,2,    0.916,2,    1.609,2,-999.0000,9,  -999.00,9,   2283.8,2,   2295.4,2,     7.37,2,-999.0000,-999.000,  3.6467,   0.016
      325023_1,  P14N,    17,  1,     23,     23,2,19930710,1359, 51.8588,-179.7845, 2109,    306.6,   3.5836,  33.9012,2,  33.9028,2,   -999.0,9,     77.4,2,   102.97,2,    40.46,2,     0.03,2,     2.90,2, -999.000,5, -999.000,5, -999.000,9,-999.0000,9,     8.50,2,   2302.3,2,   2315.3,2,  -999.00,9,-999.0000,   0.150,  3.5634,-999.000
      325023_1,  P14N,    17,  1,     22,     22,2,19930710,1359, 51.8588,-179.7845, 2109,    357.3,   3.5237,  33.9677,2,  33.9668,2,   -999.0,9,     63.8,2,   108.24,2,    41.14,2,     0.02,2,     2.95,2,    1.278,2,    0.607,2,    1.268,2,-999.0000,9,  -999.00,9,   2316.7,2,   2309.6,2,     7.33,2,-999.0000,-999.000,  3.5001,   0.013
      325023_1,  P14N,    17,  1,     21,     21,2,19930710,1359, 51.8588,-179.7845, 2109,    407.8,   3.5017,  34.0022,2,  33.9996,2,   -999.0,9,     57.0,2,   111.19,2,    41.83,2,     0.02,2,     2.98,2, -999.000,5, -999.000,5, -999.000,9,-999.0000,9,    12.40,2,   2320.4,2,   2331.5,2,  -999.00,9,-999.0000,   0.150,  3.4746,-999.000
      325023_1,  P14N,    17,  1,     20,     20,2,19930710,1359, 51.8588,-179.7845, 2109,    457.7,   3.4537,  34.0606,2,  34.0583,2,   -999.0,9,     45.0,2,   116.47,2,    41.83,3,     0.01,2,     3.03,2,    0.858,2,    0.417,2,    1.125,2,-999.0000,9,  -999.00,9,   2332.5,2,   2326.8,2,     7.30,2,-999.0000,-999.000,  3.4233,   0.011
      325023_1,  P14N,    17,  1,     19,     19,2,19930710,1359, 51.8588,-179.7845, 2109,    509.1,   3.4377,  34.1029,2,  34.1035,2,   -999.0,9,     33.8,2,   119.90,2,    43.35,3,     0.01,2,     3.06,2, -999.000,5, -999.000,5,    1.081,2,-999.0000,9,    14.70,2,   2342.7,2,   2336.4,2,  -999.00,9,-999.0000,   0.150,  3.4037,   0.011
      325023_1,  P14N,    17,  1,     18,     18,2,19930710,1359, 51.8588,-179.7845, 2109,    610.3,   3.3258,  34.1955,2,  34.1925,2,   -999.0,9,     21.0,2,   128.23,2,    43.94,3,     0.01,2,     3.14,3,    0.321,2,    0.149,2,    1.003,2,-999.0000,9,    13.50,2,   2359.0,2,   2343.6,2,     7.28,2,-999.0000,   0.150,  3.2850,   0.010
      325023_1,  P14N,    17,  1,     17,     17,2,19930710,1359, 51.8588,-179.7845, 2109,    711.5,   3.1619,  34.2399,2,  34.2375,2,   -999.0,9,     22.9,2,   134.96,2,    43.84,2,     0.00,2,     3.10,2, -999.000,5, -999.000,5,    0.798,2,-999.0000,9,    13.30,2,   2364.0,2,   2358.4,2,  -999.00,9,-999.0000,   0.150,  3.1146,   0.008
      325023_1,  P14N,    17,  1,     16,     16,2,19930710,1359, 51.8588,-179.7845, 2109,    812.6,   3.0570,  34.2781,2,  34.2773,2,   -999.0,9,     22.2,2,   139.83,2,    43.97,2,     0.00,2,     3.10,2,    0.221,2,    0.101,2,    0.703,2,-999.0000,9,    14.00,2,   2369.4,2,   2360.4,2,     7.29,2,-999.0000,   0.150,  3.0030,   0.008
      325023_1,  P14N,    17,  1,     15,     15,2,19930710,1359, 51.8588,-179.7845, 2109,    913.3,   2.9161,  34.3197,2,  34.3180,2,   -999.0,9,     24.1,2,   144.95,2,    43.78,2,     0.00,2,     3.09,2, -999.000,5, -999.000,5,    0.935,2,-999.0000,9,    14.20,2,   2373.3,2,   2369.5,2,  -999.00,9,-999.0000,   0.150,  2.8556,   0.009
      325023_1,  P14N,    17,  1,     14,     14,2,19930710,1359, 51.8588,-179.7845, 2109,   1013.5,   2.8511,  34.3387,2,  34.3374,2,   -999.0,9,     25.3,2,   147.25,2,    43.59,2,     0.00,2,     3.10,2,    0.163,2,    0.074,2,    0.670,2,-999.0000,9,    16.80,2,   2378.2,2,   2370.6,2,     7.30,2,-999.0000,   0.150,  2.7837,   0.008
      325023_1,  P14N,    17,  1,     13,     13,2,19930710,1359, 51.8588,-179.7845, 2109,   1113.8,   2.7762,  34.3612,2,  34.3597,2,   -999.0,9,     27.5,2,   150.51,2,    43.54,2,     0.00,2,     3.09,2, -999.000,5, -999.000,5,    0.677,2,-999.0000,9,    18.00,2,   2376.1,2,   2386.3,2,  -999.00,9,-999.0000,   0.150,  2.7018,   0.008
      325023_1,  P14N,    17,  1,     12,     12,2,19930710,1359, 51.8588,-179.7845, 2109,   1214.3,   2.7392,  34.3717,2,  34.3707,2,   -999.0,9,     27.2,2,   152.10,2,    43.49,2,     0.00,2,     3.08,2,    0.127,2,    0.058,2,    0.642,2,-999.0000,9,  -999.00,9,   2378.7,2,   2373.6,2,     7.31,2,-999.0000,-999.000,  2.6575,   0.008
      325023_1,  P14N,    17,  1,     11,     11,2,19930710,1359, 51.8588,-179.7845, 2109,   1315.2,   2.6663,  34.3949,2,  34.3926,2,   -999.0,9,     27.5,2,   156.32,2,    43.39,2,     0.00,2,     3.08,2, -999.000,5, -999.000,5,    0.516,2,-999.0000,9,    18.10,2,   2382.7,2,   -999.0,9,  -999.00,9,-999.0000,   0.150,  2.5774,   0.008
      325023_1,  P14N,    17,  1,     10,     10,2,19930710,1359, 51.8588,-179.7845, 2109,   1416.7,   2.4364,  34.4541,2,  34.4487,2,   -999.0,9,     29.4,2,   168.19,2,    43.20,2,     0.00,2,     3.07,2, -999.000,5, -999.000,5,    0.487,2,-999.0000,9,  -999.00,9,   2389.0,2,   -999.0,9,     7.33,2,-999.0000,-999.000,  2.3419,   0.008
      325023_1,  P14N,    17,  1,      9,      9,2,19930710,1359, 51.8588,-179.7845, 2109,   1519.0,   2.3145,  34.4841,2,  34.4812,2,   -999.0,9,     33.8,2,   175.11,2,    42.82,2,     0.00,2,     3.06,2,    0.028,2,    0.010,2,    0.471,2,-999.0000,9,    17.80,2,   2391.4,2,   2388.0,2,  -999.00,9,-999.0000,   0.150,  2.2133,   0.008
      325023_1,  P14N,    17,  1,      8,      8,2,19930710,1359, 51.8588,-179.7845, 2109,   1620.0,   2.1526,  34.5210,2,  34.5196,2,   -999.0,9,     39.8,2,   184.50,2,    42.08,2,     0.00,2,     3.05,2, -999.000,5, -999.000,5, -999.000,9,-999.0000,9,    18.30,2,   2389.8,2,   2395.0,2,     7.35,2,-999.0000,   0.150,  2.0453,-999.000
      325023_1,  P14N,    17,  1,      7,      7,2,19930710,1359, 51.8588,-179.7845, 2109,   1721.6,   1.9927,  34.5569,2,  34.5555,2,   -999.0,9,     47.8,2,   191.76,2,    41.25,2,     0.00,2,     3.05,2, -999.000,5, -999.000,5,    0.332,2,-999.0000,9,  -999.00,9,   2393.0,2,   2411.0,2,  -999.00,9,-999.0000,-999.000,  1.8794,   0.008
      325023_1,  P14N,    17,  1,      6,      6,2,19930710,1359, 51.8588,-179.7845, 2109,   1823.0,   1.9338,  34.5702,2,  34.5678,2,   -999.0,9,     51.8,2,   195.63,2,    40.87,2,     0.01,2,     3.02,2,    0.007,2,    0.008,2, -999.000,9,-999.0000,9,    16.40,2,   2392.8,2,   2401.8,2,     7.38,2,-999.0000,   0.150,  1.8131,-999.000
      325023_1,  P14N,    17,  1,      5,      5,2,19930710,1359, 51.8588,-179.7845, 2109,   1923.8,   1.8828,  34.5818,2,  34.5807,2,   -999.0,9,     55.7,2,   198.53,2,    41.01,2,     0.00,2,     3.00,2, -999.000,5, -999.000,5,    0.368,2,-999.0000,9,    16.10,2,   2389.1,2,   2407.1,2,  -999.00,9,-999.0000,   0.150,  1.7546,   0.008
      325023_1,  P14N,    17,  1,      4,      4,2,19930710,1359, 51.8588,-179.7845, 2109,   2024.5,   1.8578,  34.5895,2,  34.5882,2,   -999.0,9,     57.5,2,   199.95,2,    40.73,2,     0.00,2,     2.99,2,    0.002,2,    0.001,2,    0.322,2,-999.0000,9,    16.50,2,   -999.0,9,   -999.0,9,     7.39,2,-999.0000,   0.150,  1.7217,   0.008
      325023_1,  P14N,    17,  1,      3,      3,2,19930710,1359, 51.8588,-179.7845, 2109,   2126.0,   1.8368,  34.5952,2,  34.5939,2,   -999.0,9,     59.5,2,   201.62,2,    40.63,2,     0.00,2,     2.98,2, -999.000,5, -999.000,5, -999.000,9,-999.0000,9,  -999.00,9,   2390.7,2,   2420.6,2,  -999.00,9,-999.0000,-999.000,  1.6925,-999.000
      325023_1,  P14N,    17,  1,      1,      1,2,19930710,1359, 51.8588,-179.7845, 2109,   2180.6,   1.8189,  34.6001,2,  34.5991,2,   -999.0,9,     61.4,2,   203.23,2,    40.44,2,     0.00,2,     2.98,2, -999.000,5, -999.000,5,    0.315,2,-999.0000,9,  -999.00,9,   2385.9,2,   2414.0,2,  -999.00,9,-999.0000,-999.000,  1.6701,   0.008
      325023_1,  P14N,    17,  1,      2,      2,2,19930710,1359, 51.8588,-179.7845, 2109,   2180.7,   1.8189,  34.6000,2,  34.5982,2,   -999.0,9,     61.4,2,   202.30,2,    40.31,2,     0.00,2,     2.98,2,   -0.003,2,    0.002,2, -999.000,9,-999.0000,9,    16.20,2,   2389.2,2,   2445.4,3,     7.40,2,-999.0000,   0.150,  1.6701,-999.000