BOTTLE,20131125MIRCJHATS
EXPOCODE,SECT_ID,STNNBR,CASTNO,SAMPNO,BTLNBR,BTLNBR_FLAG_W,DATE,TIME,LATITUDE,LONGITUDE,DEPTH,CTDPRS,CTDTMP,CTDSAL,CTDSAL_FLAG_W,SALNTY,SALNTY_FLAG_W,CTDOXY,CTDOXY_FLAG_W,OXYGEN,OXYGEN_FLAG_W,SILCAT,SILCAT_FLAG_W,NITRAT,NITRAT_FLAG_W,NITRIT,NITRIT_FLAG_W,PHSPHT,PHSPHT_FLAG_W,CFC-11,CFC-11_FLAG_W,CFC-12,CFC-12_FLAG_W,TRITUM,TRITUM_FLAG_W,HELIUM,HELIUM_FLAG_W,DELHE3,DELHE3_FLAG_W,TCARBN,TCARBN_FLAG_W,ALKALI,ALKALI_FLAG_W,PH,PH_FLAG_W,HELIER,DELHER,THETA,TRITER
,,,,,,,,,,,,DBAR,ITS-90,PSS-78,,PSS-78,,UMOL/KG,,UMOL/KG,,UMOL/KG,,UMOL/KG,,UMOL/KG,,UMOL/KG,,PMOL/KG,,PMOL/KG,,TU,,NMOL/KG,,PERCNT,,UMOL/KG,,UMOL/KG,,25_DEG,,NMOL/KG,PERCNT,DEG C,TU
      325024_1,  P14N,   160,  1,     35,     35,2,19930822,2210, -4.2565, 178.9998, 5634,      2.2,  30.0860,  34.6785,2,  34.6895,2,   -999.0,9,    193.4,2,     2.23,2,     0.03,2,     0.00,2,     0.21,2, -999.000,5, -999.000,5, -999.000,9,-999.0000,9,  -999.00,9,   1913.0,2,   2286.0,2,     8.12,2,-999.0000,-999.000, 30.0854,-999.000
      325024_1,  P14N,   160,  1,     36,     36,2,19930822,2210, -4.2565, 178.9998, 5634,      2.5,  30.0916,  34.6750,2,-999.0000,9,   -999.0,9,   -999.0,9,  -999.00,9,  -999.00,9,  -999.00,9,  -999.00,9, -999.000,5, -999.000,5, -999.000,9,-999.0000,9,  -999.00,9,   -999.0,9,   -999.0,9,  -999.00,9,-999.0000,-999.000, 30.0909,-999.000
      325024_1,  P14N,   160,  1,     34,     34,2,19930822,2210, -4.2565, 178.9998, 5634,     37.9,  30.0449,  34.8308,2,  34.8418,2,   -999.0,9,    195.8,2,     1.99,2,     0.03,2,     0.00,2,     0.22,2, -999.000,5, -999.000,5, -999.000,9,-999.0000,9,  -999.00,9,   1931.0,2,   2295.0,2,     8.11,2,-999.0000,-999.000, 30.0355,-999.000
      325024_1,  P14N,   160,  1,     33,     33,2,19930822,2210, -4.2565, 178.9998, 5634,     67.3,  29.9966,  34.9994,2,  34.9929,2,   -999.0,9,    197.9,2,     1.95,2,     0.03,2,     0.00,2,     0.23,2, -999.000,5, -999.000,5, -999.000,9,-999.0000,9,  -999.00,9,   1948.0,2,   2304.0,2,     8.10,2,-999.0000,-999.000, 29.9799,-999.000
      325024_1,  P14N,   160,  1,     32,     32,2,19930822,2210, -4.2565, 178.9998, 5634,     97.5,  28.6590,  35.3541,2,  35.3633,2,   -999.0,9,    179.4,2,     2.10,2,     1.53,2,     0.90,2,     0.49,2, -999.000,5, -999.000,5, -999.000,9,-999.0000,9,  -999.00,9,   2004.0,2,   2326.0,2,     8.04,2,-999.0000,-999.000, 28.6356,-999.000
      325024_1,  P14N,   160,  1,     31,     31,2,19930822,2210, -4.2565, 178.9998, 5634,    123.2,  27.0826,  35.6844,2,  35.7453,2,   -999.0,9,    145.7,2,     2.26,2,     5.78,2,     1.15,2,     0.77,2, -999.000,5, -999.000,5, -999.000,9,-999.0000,9,  -999.00,9,   2057.0,2,   2349.0,2,     7.98,2,-999.0000,-999.000, 27.0542,-999.000
      325024_1,  P14N,   160,  1,     30,     30,2,19930822,2210, -4.2565, 178.9998, 5634,    157.6,  22.3208,  35.8890,2,  35.9020,2,   -999.0,9,    131.3,2,     2.81,2,     9.48,2,     0.11,2,     0.97,2, -999.000,5, -999.000,5, -999.000,9,-999.0000,9,  -999.00,9,   2114.0,2,   2365.0,2,     7.91,2,-999.0000,-999.000, 22.2892,-999.000
      325024_1,  P14N,   160,  1,     29,     29,2,19930822,2210, -4.2565, 178.9998, 5634,    208.4,  14.8378,  35.1814,2,  35.1909,2,   -999.0,9,     94.1,2,    12.19,2,    19.98,2,     0.00,2,     1.60,2, -999.000,5, -999.000,5, -999.000,9,-999.0000,9,  -999.00,9,   2174.0,2,   2326.0,2,     7.71,2,-999.0000,-999.000, 14.8064,-999.000
      325024_1,  P14N,   160,  1,     28,     28,2,19930822,2210, -4.2565, 178.9998, 5634,    257.3,  12.0477,  34.9079,2,  34.9039,2,   -999.0,9,     89.0,2,    18.83,2,    25.16,2,     0.00,2,     1.86,2, -999.000,5, -999.000,5, -999.000,9,-999.0000,9,  -999.00,9,   2194.0,2,   2312.0,2,     7.63,2,-999.0000,-999.000, 12.0140,-999.000
      325024_1,  P14N,   160,  1,     27,     27,2,19930822,2210, -4.2565, 178.9998, 5634,    308.1,  10.4442,  34.7792,2,  34.7788,2,   -999.0,9,     82.7,2,    23.90,2,    28.68,2,     0.00,2,     2.07,2, -999.000,5, -999.000,5, -999.000,9,-999.0000,9,  -999.00,9,   2211.0,2,   2308.0,2,     7.57,2,-999.0000,-999.000, 10.4074,-999.000
      325024_1,  P14N,   160,  1,     26,     26,2,19930822,2210, -4.2565, 178.9998, 5634,    408.3,   9.0352,  34.6774,2,  34.6793,2,   -999.0,9,     73.8,2,    30.73,2,    32.58,2,     0.00,2,     2.30,2, -999.000,5, -999.000,5, -999.000,9,-999.0000,9,  -999.00,9,   2231.0,2,   2307.0,2,     7.52,2,-999.0000,-999.000,  8.9904,-999.000
      325024_1,  P14N,   160,  1,     25,     25,2,19930822,2210, -4.2565, 178.9998, 5634,    507.9,   7.9271,  34.6195,2,  34.6210,2,   -999.0,9,     59.9,2,    38.74,2,    36.68,2,     0.00,2,     2.56,2, -999.000,5, -999.000,5, -999.000,9,-999.0000,9,  -999.00,9,   2253.0,2,   2309.0,2,     7.45,2,-999.0000,-999.000,  7.8753,-999.000
      325024_1,  P14N,   160,  1,     24,     24,2,19930822,2210, -4.2565, 178.9998, 5634,    608.4,   6.8838,  34.5694,2,  34.5685,2,   -999.0,9,     79.1,2,    45.19,2,    37.04,2,     0.00,2,     2.59,2, -999.000,5, -999.000,5, -999.000,9,-999.0000,9,  -999.00,9,   2251.0,2,   2315.0,2,     7.49,2,-999.0000,-999.000,  6.8261,-999.000
      325024_1,  P14N,   160,  1,     23,     23,2,19930822,2210, -4.2565, 178.9998, 5634,    708.1,   6.0376,  34.5424,2,  34.5429,2,   -999.0,9,     88.6,2,    54.39,2,    37.67,2,     0.00,2,     2.65,2, -999.000,5, -999.000,5, -999.000,9,-999.0000,9,  -999.00,9,   2260.0,2,   2324.0,2,     7.47,2,-999.0000,-999.000,  5.9744,-999.000
      325024_1,  P14N,   160,  1,     22,     22,2,19930822,2210, -4.2565, 178.9998, 5634,    807.8,   5.3622,  34.5408,2,  34.5417,2,   -999.0,9,     84.1,2,    67.35,2,    39.18,2,     0.00,2,     2.76,2, -999.000,5, -999.000,5, -999.000,9,-999.0000,9,  -999.00,9,   2276.0,2,   2336.0,2,     7.47,2,-999.0000,-999.000,  5.2937,-999.000
      325024_1,  P14N,   160,  1,     21,     21,2,19930822,2210, -4.2565, 178.9998, 5634,    908.3,   4.9250,  34.5348,2,  34.5368,2,   -999.0,9,    102.2,2,    71.64,2,    37.71,2,     0.00,2,     2.67,2, -999.000,5, -999.000,5, -999.000,9,-999.0000,9,  -999.00,9,   2274.0,2,   2343.0,2,     7.48,2,-999.0000,-999.000,  4.8504,-999.000
      325024_1,  P14N,   160,  1,     20,     20,2,19930822,2210, -4.2565, 178.9998, 5634,   1008.3,   4.6737,  34.5415,2,  34.5429,2,   -999.0,9,     98.5,2,    78.32,2,    38.35,2,     0.00,2,     2.70,2, -999.000,5, -999.000,5, -999.000,9,-999.0000,9,  -999.00,9,   2285.0,2,   2350.0,2,     7.49,2,-999.0000,-999.000,  4.5920,-999.000
      325024_1,  P14N,   160,  1,     19,     19,2,19930822,2210, -4.2565, 178.9998, 5634,   1209.6,   4.0395,  34.5572,2,  34.5564,2,   -999.0,9,    102.3,2,    91.17,2,    38.53,2,     0.00,2,     2.74,2, -999.000,5, -999.000,5, -999.000,9,-999.0000,9,  -999.00,9,   2298.0,2,   2365.0,2,     7.48,2,-999.0000,-999.000,  3.9457,-999.000
      325024_1,  P14N,   160,  1,     18,     18,2,19930822,2210, -4.2565, 178.9998, 5634,   1410.0,   3.3614,  34.5781,2,  34.5785,2,   -999.0,9,    113.2,2,   103.30,2,    38.02,2,     0.00,2,     2.70,2, -999.000,5, -999.000,5, -999.000,9,-999.0000,9,  -999.00,9,   2307.0,2,   2380.0,2,     7.53,2,-999.0000,-999.000,  3.2571,-999.000
      325024_1,  P14N,   160,  1,     17,     17,2,19930822,2210, -4.2565, 178.9998, 5634,   1612.6,   2.8160,  34.6038,2,  34.6036,2,   -999.0,9,    116.9,2,   116.32,2,    37.88,2,     0.00,2,     2.70,2, -999.000,5, -999.000,5, -999.000,9,-999.0000,9,  -999.00,9,   2317.0,2,   2395.0,2,     7.50,2,-999.0000,-999.000,  2.7008,-999.000
      325024_1,  P14N,   160,  1,     16,     16,2,19930822,2210, -4.2565, 178.9998, 5634,   1813.5,   2.5004,  34.6210,2,  34.6214,2,   -999.0,9,    119.3,2,   124.97,2,    37.87,2,     0.00,2,     2.69,2, -999.000,5, -999.000,5, -999.000,9,-999.0000,9,  -999.00,9,   2327.0,2,   2404.0,2,     7.52,2,-999.0000,-999.000,  2.3724,-999.000
      325024_1,  P14N,   160,  1,     15,     15,2,19930822,2210, -4.2565, 178.9998, 5634,   2015.0,   2.2313,  34.6377,2,  34.6385,2,   -999.0,9,    119.3,2,   133.90,2,    38.05,2,     0.00,2,     2.69,2, -999.000,5, -999.000,5, -999.000,9,-999.0000,9,  -999.00,9,   2337.0,2,   2412.0,2,     7.50,2,-999.0000,-999.000,  2.0900,-999.000
      325024_1,  P14N,   160,  1,     14,     14,2,19930822,2210, -4.2565, 178.9998, 5634,   2216.7,   2.0926,  34.6459,2,  34.6467,2,   -999.0,9,    123.3,2,   137.12,2,    37.77,2,     0.00,2,     2.67,2, -999.000,5, -999.000,5, -999.000,9,-999.0000,9,  -999.00,9,   2336.0,2,   2417.0,2,     7.51,2,-999.0000,-999.000,  1.9360,-999.000
      325024_1,  P14N,   160,  1,     13,     13,2,19930822,2210, -4.2565, 178.9998, 5634,   2419.0,   1.9560,  34.6537,2,  34.6541,2,   -999.0,9,    126.7,2,   137.88,2,    37.68,2,     0.00,2,     2.65,2, -999.000,5, -999.000,5, -999.000,9,-999.0000,9,  -999.00,9,   2337.0,2,   2420.0,2,     7.52,2,-999.0000,-999.000,  1.7838,-999.000
      325024_1,  P14N,   160,  1,     12,     12,2,19930822,2210, -4.2565, 178.9998, 5634,   2621.5,   1.8651,  34.6593,2,  34.6618,2,   -999.0,9,    131.3,2,   141.11,2,    37.31,2,     0.00,2,     2.61,2, -999.000,5, -999.000,5, -999.000,9,-999.0000,9,  -999.00,9,   2339.0,2,   2421.0,2,     7.53,2,-999.0000,-999.000,  1.6762,-999.000
      325024_1,  P14N,   160,  1,     11,     11,2,19930822,2210, -4.2565, 178.9998, 5634,   2824.5,   1.7717,  34.6653,2,  34.6660,2,   -999.0,9,    137.0,2,   141.67,2,    36.90,2,     0.00,2,     2.59,2, -999.000,5, -999.000,5, -999.000,9,-999.0000,9,  -999.00,9,   2333.0,2,   2420.0,2,     7.53,2,-999.0000,-999.000,  1.5658,-999.000
      325024_1,  P14N,   160,  1,     10,     10,2,19930822,2210, -4.2565, 178.9998, 5634,   3027.4,   1.6925,  34.6710,2,  34.6717,2,   -999.0,9,    143.0,2,   141.60,2,    36.49,2,     0.00,2,     2.55,2, -999.000,5, -999.000,5, -999.000,9,-999.0000,9,  -999.00,9,   2332.0,2,   2421.0,2,     7.56,2,-999.0000,-999.000,  1.4689,-999.000
      325024_1,  P14N,   160,  1,      9,      9,2,19930822,2210, -4.2565, 178.9998, 5634,   3332.5,   1.5611,  34.6794,2,  34.6797,2,   -999.0,9,    151.9,2,   140.92,2,    35.81,2,     0.00,2,     2.51,2, -999.000,5, -999.000,5, -999.000,9,-999.0000,9,  -999.00,9,   2325.0,2,   2417.0,2,     7.55,2,-999.0000,-999.000,  1.3105,-999.000
      325024_1,  P14N,   160,  1,      8,      8,2,19930822,2210, -4.2565, 178.9998, 5634,   3637.7,   1.4805,  34.6847,2,  34.6854,2,   -999.0,9,    157.2,2,   140.85,2,    35.41,2,     0.00,2,     2.48,2, -999.000,5, -999.000,5, -999.000,9,-999.0000,9,  -999.00,9,   2318.0,2,   2421.0,2,     7.58,2,-999.0000,-999.000,  1.2007,-999.000
      325024_1,  P14N,   160,  1,      7,      7,2,19930822,2210, -4.2565, 178.9998, 5634,   3943.2,   1.4217,  34.6899,2,  34.6903,2,   -999.0,9,    165.2,2,   139.13,2,    34.96,2,     0.00,2,     2.44,2, -999.000,5, -999.000,5, -999.000,9,-999.0000,9,  -999.00,9,   2317.0,2,   2413.0,2,     7.57,2,-999.0000,-999.000,  1.1112,-999.000
      325024_1,  P14N,   160,  1,      6,      6,2,19930822,2210, -4.2565, 178.9998, 5634,   4248.2,   1.3671,  34.6943,2,  34.6952,2,   -999.0,9,    172.7,2,   136.60,2,    34.46,2,     0.00,2,     2.40,2, -999.000,5, -999.000,5, -999.000,9,-999.0000,9,  -999.00,9,   2308.0,2,   2407.0,2,     7.58,2,-999.0000,-999.000,  1.0246,-999.000
      325024_1,  P14N,   160,  1,      5,      5,2,19930822,2210, -4.2565, 178.9998, 5634,   4553.5,   1.3169,  34.6992,2,  34.6999,2,   -999.0,9,    184.1,2,   129.78,2,    33.57,2,     0.00,2,     2.34,2, -999.000,5, -999.000,5, -999.000,9,-999.0000,9,  -999.00,9,   2293.0,2,   2385.0,2,     7.57,2,-999.0000,-999.000,  0.9414,-999.000
      325024_1,  P14N,   160,  1,      4,      4,2,19930822,2210, -4.2565, 178.9998, 5634,   4859.4,   1.2395,  34.7043,2,  34.7053,2,   -999.0,9,    194.9,2,   124.62,2,    32.68,2,     0.00,2,     2.28,2, -999.000,5, -999.000,5, -999.000,9,-999.0000,9,  -999.00,9,   2280.0,2,   2379.0,2,     7.58,2,-999.0000,-999.000,  0.8307,-999.000
      325024_1,  P14N,   160,  1,      3,      3,2,19930822,2210, -4.2565, 178.9998, 5634,   5167.2,   1.2529,  34.7050,2,  34.7055,2,   -999.0,9,    196.5,2,   124.56,2,    32.54,2,     0.00,2,     2.27,2, -999.000,5, -999.000,5, -999.000,9,-999.0000,9,  -999.00,9,   2278.0,2,   2383.0,2,     7.59,2,-999.0000,-999.000,  0.8066,-999.000
      325024_1,  P14N,   160,  1,      2,      2,2,19930822,2210, -4.2565, 178.9998, 5634,   5473.3,   1.2870,  34.7046,2,  34.7059,2,   -999.0,9,    196.7,2,   124.50,2,    32.54,2,     0.00,2,     2.27,2, -999.000,5, -999.000,5, -999.000,9,-999.0000,9,  -999.00,9,   2278.0,2,   2376.0,2,     7.58,2,-999.0000,-999.000,  0.8015,-999.000
      325024_1,  P14N,   160,  1,      1,      1,2,19930822,2210, -4.2565, 178.9998, 5634,   5725.4,   1.3195,  34.7044,2,  34.7059,2,   -999.0,9,    194.0,2,   124.64,2,    32.58,2,     0.00,2,     2.27,2, -999.000,5, -999.000,5, -999.000,9,-999.0000,9,  -999.00,9,   2277.0,2,   2373.0,2,     7.58,2,-999.0000,-999.000,  0.8006,-999.000