BOTTLE,20131125MIRCJHATS
EXPOCODE,SECT_ID,STNNBR,CASTNO,SAMPNO,BTLNBR,BTLNBR_FLAG_W,DATE,TIME,LATITUDE,LONGITUDE,DEPTH,CTDPRS,CTDTMP,CTDSAL,CTDSAL_FLAG_W,SALNTY,SALNTY_FLAG_W,CTDOXY,CTDOXY_FLAG_W,OXYGEN,OXYGEN_FLAG_W,SILCAT,SILCAT_FLAG_W,NITRAT,NITRAT_FLAG_W,NITRIT,NITRIT_FLAG_W,PHSPHT,PHSPHT_FLAG_W,CFC-11,CFC-11_FLAG_W,CFC-12,CFC-12_FLAG_W,TRITUM,TRITUM_FLAG_W,HELIUM,HELIUM_FLAG_W,DELHE3,DELHE3_FLAG_W,TCARBN,TCARBN_FLAG_W,ALKALI,ALKALI_FLAG_W,PH,PH_FLAG_W,HELIER,DELHER,THETA,TRITER
,,,,,,,,,,,,DBAR,ITS-90,PSS-78,,PSS-78,,UMOL/KG,,UMOL/KG,,UMOL/KG,,UMOL/KG,,UMOL/KG,,UMOL/KG,,PMOL/KG,,PMOL/KG,,TU,,NMOL/KG,,PERCNT,,UMOL/KG,,UMOL/KG,,25_DEG,,NMOL/KG,PERCNT,DEG C,TU
      325023_1,  P14N,   116,  1,     36,     36,2,19930806,0428,  6.7480, 178.9993, 5732,      2.8,  29.0305,  34.1917,2,  34.1968,2,   -999.0,9,    195.1,2,     2.36,2,     0.00,2,     0.00,2,     0.18,2, -999.000,5, -999.000,5, -999.000,9,-999.0000,9,  -999.00,9,   -999.0,9,   -999.0,9,  -999.00,9,-999.0000,-999.000, 29.0298,-999.000
      325023_1,  P14N,   116,  1,     35,     35,2,19930806,0428,  6.7480, 178.9993, 5732,     37.7,  28.8190,  34.2203,2,  34.2246,2,   -999.0,9,    195.5,2,     2.11,2,     0.00,2,     0.00,2,     0.19,2, -999.000,5, -999.000,5, -999.000,9,-999.0000,9,  -999.00,9,   -999.0,9,   -999.0,9,  -999.00,9,-999.0000,-999.000, 28.8099,-999.000
      325023_1,  P14N,   116,  1,     34,     34,2,19930806,0428,  6.7480, 178.9993, 5732,     68.1,  28.2455,  34.5513,2,  34.5488,2,   -999.0,9,    197.5,2,     2.06,2,     0.00,2,     0.00,2,     0.19,2, -999.000,5, -999.000,5, -999.000,9,-999.0000,9,  -999.00,9,   -999.0,9,   -999.0,9,  -999.00,9,-999.0000,-999.000, 28.2294,-999.000
      325023_1,  P14N,   116,  1,     33,     33,2,19930806,0428,  6.7480, 178.9993, 5732,     99.2,  23.2757,  34.7233,2,  34.7138,2,   -999.0,9,    173.7,2,     3.99,2,     1.88,2,     0.43,2,     0.39,2, -999.000,5, -999.000,5, -999.000,9,-999.0000,9,  -999.00,9,   -999.0,9,   -999.0,9,  -999.00,9,-999.0000,-999.000, 23.2553,-999.000
      325023_1,  P14N,   116,  1,     32,     32,2,19930806,0428,  6.7480, 178.9993, 5732,    129.0,  16.7946,  34.6865,2,  34.6863,2,   -999.0,9,    132.2,2,    11.28,2,    12.27,2,     0.04,2,     1.00,2, -999.000,5, -999.000,5, -999.000,9,-999.0000,9,  -999.00,9,   -999.0,9,   -999.0,9,  -999.00,9,-999.0000,-999.000, 16.7735,-999.000
      325023_1,  P14N,   116,  1,     31,     31,2,19930806,0428,  6.7480, 178.9993, 5732,    160.0,  13.4185,  34.5940,2,  34.5936,2,   -999.0,9,     94.4,2,    22.13,2,    21.83,2,     0.01,2,     1.62,2, -999.000,5, -999.000,5, -999.000,9,-999.0000,9,  -999.00,9,   -999.0,9,   -999.0,9,  -999.00,9,-999.0000,-999.000, 13.3961,-999.000
      325023_1,  P14N,   116,  1,     30,     30,2,19930806,0428,  6.7480, 178.9993, 5732,    210.0,  10.7504,  34.6401,2,  34.6415,2,   -999.0,9,     53.6,2,    31.79,2,    30.63,2,     0.01,2,     2.20,2, -999.000,5, -999.000,5, -999.000,9,-999.0000,9,  -999.00,9,   -999.0,9,   -999.0,9,  -999.00,9,-999.0000,-999.000, 10.7250,-999.000
      325023_1,  P14N,   116,  1,     29,     29,2,19930806,0428,  6.7480, 178.9993, 5732,    260.9,   9.8892,  34.6605,2,  34.6614,2,   -999.0,9,     47.5,2,    35.10,2,    33.01,2,     0.01,2,     2.33,2, -999.000,5, -999.000,5, -999.000,9,-999.0000,9,  -999.00,9,   -999.0,9,   -999.0,9,  -999.00,9,-999.0000,-999.000,  9.8592,-999.000
      325023_1,  P14N,   116,  1,     28,     28,2,19930806,0428,  6.7480, 178.9993, 5732,    310.1,   9.2373,  34.6476,2,  34.6483,2,   -999.0,9,     48.8,2,    37.42,2,    34.16,2,     0.01,2,     2.41,2, -999.000,5, -999.000,5, -999.000,9,-999.0000,9,  -999.00,9,   -999.0,9,   -999.0,9,  -999.00,9,-999.0000,-999.000,  9.2030,-999.000
      325023_1,  P14N,   116,  1,     27,     27,2,19930806,0428,  6.7480, 178.9993, 5732,    411.0,   8.6772,  34.6313,2,  34.6310,2,   -999.0,9,     53.1,2,    39.53,2,    35.28,2,     0.00,2,     2.47,2, -999.000,5, -999.000,5, -999.000,9,-999.0000,9,  -999.00,9,   -999.0,9,   -999.0,9,  -999.00,9,-999.0000,-999.000,  8.6332,-999.000
      325023_1,  P14N,   116,  1,     26,     26,2,19930806,0428,  6.7480, 178.9993, 5732,    512.2,   7.8106,  34.5949,2,  34.5952,2,   -999.0,9,     41.2,2,    47.60,2,    37.94,2,     0.00,2,     2.70,2, -999.000,5, -999.000,5, -999.000,9,-999.0000,9,  -999.00,9,   -999.0,9,   -999.0,9,  -999.00,9,-999.0000,-999.000,  7.7587,-999.000
      325023_1,  P14N,   116,  1,     25,     25,2,19930806,0428,  6.7480, 178.9993, 5732,    612.4,   6.9845,  34.5654,2,  34.5654,2,   -999.0,9,     37.2,2,    57.06,2,    39.77,2,     0.01,2,     2.85,2, -999.000,5, -999.000,5, -999.000,9,-999.0000,9,  -999.00,9,   -999.0,9,   -999.0,9,  -999.00,9,-999.0000,-999.000,  6.9259,-999.000
      325023_1,  P14N,   116,  1,     24,     24,2,19930806,0428,  6.7480, 178.9993, 5732,    713.9,   6.0577,  34.5496,2,  34.5501,2,   -999.0,9,     41.7,2,    68.51,2,    41.49,2,     0.00,2,     2.95,2, -999.000,5, -999.000,5, -999.000,9,-999.0000,9,  -999.00,9,   -999.0,9,   -999.0,9,  -999.00,9,-999.0000,-999.000,  5.9939,-999.000
      325023_1,  P14N,   116,  1,     23,     23,2,19930806,0428,  6.7480, 178.9993, 5732,    813.9,   5.3962,  34.5453,2,  34.5461,2,   -999.0,9,     48.5,2,    78.40,2,    41.96,2,     0.01,2,     2.99,2, -999.000,5, -999.000,5, -999.000,9,-999.0000,9,  -999.00,9,   -999.0,9,   -999.0,9,  -999.00,9,-999.0000,-999.000,  5.3270,-999.000
      325023_1,  P14N,   116,  1,     22,     22,2,19930806,0428,  6.7480, 178.9993, 5732,    915.0,   4.9376,  34.5496,2,  34.5504,2,   -999.0,9,     55.6,2,    86.11,2,    41.82,2,     0.00,2,     2.97,2, -999.000,5, -999.000,5, -999.000,9,-999.0000,9,  -999.00,9,   -999.0,9,   -999.0,9,  -999.00,9,-999.0000,-999.000,  4.8623,-999.000
      325023_1,  P14N,   116,  1,     21,     21,2,19930806,0428,  6.7480, 178.9993, 5732,   1015.9,   4.5388,  34.5568,2,  34.5572,2,   -999.0,9,     60.2,2,    94.04,2,    41.78,2,     0.00,2,     2.98,2, -999.000,5, -999.000,5, -999.000,9,-999.0000,9,  -999.00,9,   -999.0,9,   -999.0,9,  -999.00,9,-999.0000,-999.000,  4.4576,-999.000
      325023_1,  P14N,   116,  1,     20,     20,2,19930806,0428,  6.7480, 178.9993, 5732,   1217.5,   3.8235,  34.5763,2,  34.5760,2,   -999.0,9,     65.5,2,   110.08,2,    41.91,2,     0.01,2,     2.99,2, -999.000,5, -999.000,5, -999.000,9,-999.0000,9,  -999.00,9,   -999.0,9,   -999.0,9,  -999.00,9,-999.0000,-999.000,  3.7309,-999.000
      325023_1,  P14N,   116,  1,     19,     19,2,19930806,0428,  6.7480, 178.9993, 5732,   1419.1,   3.2785,  34.5925,2,  34.5927,2,   -999.0,9,     77.8,2,   122.60,2,    41.16,2,     0.01,2,     2.94,2, -999.000,5, -999.000,5, -999.000,9,-999.0000,9,  -999.00,9,   -999.0,9,   -999.0,9,  -999.00,9,-999.0000,-999.000,  3.1743,-999.000
      325023_1,  P14N,   116,  1,     18,     18,2,19930806,0428,  6.7480, 178.9993, 5732,   1621.2,   2.8141,  34.6093,2,  34.6093,2,   -999.0,9,     87.7,2,   132.34,2,    40.51,2,     0.01,2,     2.87,2, -999.000,5, -999.000,5, -999.000,9,-999.0000,9,  -999.00,9,   -999.0,9,   -999.0,9,  -999.00,9,-999.0000,-999.000,  2.6982,-999.000
      325023_1,  P14N,   116,  1,     17,     17,2,19930806,0428,  6.7480, 178.9993, 5732,   1824.3,   2.4576,  34.6248,2,  34.6246,2,   -999.0,9,     96.7,2,   139.06,2,    39.91,2,     0.01,2,     2.84,2, -999.000,5, -999.000,5, -999.000,9,-999.0000,9,  -999.00,9,   -999.0,9,   -999.0,9,  -999.00,9,-999.0000,-999.000,  2.3293,-999.000
      325023_1,  P14N,   116,  1,     16,     16,2,19930806,0428,  6.7480, 178.9993, 5732,   2027.5,   2.2301,  34.6380,2,  34.6383,2,   -999.0,9,    102.1,2,   144.98,2,    39.68,2,     0.01,2,     2.78,2, -999.000,5, -999.000,5, -999.000,9,-999.0000,9,  -999.00,9,   -999.0,9,   -999.0,9,  -999.00,9,-999.0000,-999.000,  2.0878,-999.000
      325023_1,  P14N,   116,  1,     15,     15,2,19930806,0428,  6.7480, 178.9993, 5732,   2232.0,   2.0403,  34.6501,2,  34.6500,2,   -999.0,9,    107.9,2,   149.25,2,    39.26,2,     0.01,2,     2.75,2, -999.000,5, -999.000,5, -999.000,9,-999.0000,9,  -999.00,9,   -999.0,9,   -999.0,9,  -999.00,9,-999.0000,-999.000,  1.8833,-999.000
      325023_1,  P14N,   116,  1,     14,     14,2,19930806,0428,  6.7480, 178.9993, 5732,   2436.3,   1.9097,  34.6582,2,  34.6586,2,   -999.0,9,    113.1,2,   152.29,2,    38.85,2,     0.00,2,     2.72,2, -999.000,5, -999.000,5, -999.000,9,-999.0000,9,  -999.00,9,   -999.0,9,   -999.0,9,  -999.00,9,-999.0000,-999.000,  1.7368,-999.000
      325023_1,  P14N,   116,  1,     13,     13,2,19930806,0428,  6.7480, 178.9993, 5732,   2640.1,   1.7994,  34.6639,2,  34.6643,2,   -999.0,9,    119.8,2,   153.01,2,    38.44,2,     0.00,2,     2.68,2, -999.000,5, -999.000,5, -999.000,9,-999.0000,9,  -999.00,9,   -999.0,9,   -999.0,9,  -999.00,9,-999.0000,-999.000,  1.6101,-999.000
      325023_1,  P14N,   116,  1,     12,     12,2,19930806,0428,  6.7480, 178.9993, 5732,   2844.3,   1.7189,  34.6680,2,  34.6684,2,   -999.0,9,    125.8,2,   152.90,2,    37.99,2,     0.00,2,     2.65,2, -999.000,5, -999.000,5, -999.000,9,-999.0000,9,  -999.00,9,   -999.0,9,   -999.0,9,  -999.00,9,-999.0000,-999.000,  1.5122,-999.000
      325023_1,  P14N,   116,  1,     11,     11,2,19930806,0428,  6.7480, 178.9993, 5732,   3047.6,   1.6398,  34.6722,2,  34.6726,2,   -999.0,9,    133.0,2,   152.15,2,    37.62,2,     0.00,2,     2.61,2, -999.000,5, -999.000,5, -999.000,9,-999.0000,9,  -999.00,9,   -999.0,9,   -999.0,9,  -999.00,9,-999.0000,-999.000,  1.4153,-999.000
      325023_1,  P14N,   116,  1,     10,     10,2,19930806,0428,  6.7480, 178.9993, 5732,   3352.8,   1.5466,  34.6787,2,  34.6793,2,   -999.0,9,    142.6,2,   149.94,2,    36.86,2,     0.00,2,     2.55,2, -999.000,5, -999.000,5, -999.000,9,-999.0000,9,  -999.00,9,   -999.0,9,   -999.0,9,  -999.00,9,-999.0000,-999.000,  1.2942,-999.000
      325023_1,  P14N,   116,  1,      9,      9,2,19930806,0428,  6.7480, 178.9993, 5732,   3657.7,   1.4733,  34.6841,2,  34.6843,2,   -999.0,9,    151.9,2,   147.53,2,    36.31,2,     0.00,2,     2.51,2, -999.000,5, -999.000,5, -999.000,9,-999.0000,9,  -999.00,9,   -999.0,9,   -999.0,9,  -999.00,9,-999.0000,-999.000,  1.1916,-999.000
      325023_1,  P14N,   116,  1,      8,      8,2,19930806,0428,  6.7480, 178.9993, 5732,   3964.4,   1.3847,  34.6903,2,  34.6900,2,   -999.0,9,    163.9,2,   142.43,2,    35.33,2,     0.00,2,     2.44,2, -999.000,5, -999.000,5, -999.000,9,-999.0000,9,  -999.00,9,   -999.0,9,   -999.0,9,  -999.00,9,-999.0000,-999.000,  1.0728,-999.000
      325023_1,  P14N,   116,  1,      7,      7,2,19930806,0428,  6.7480, 178.9993, 5732,   4271.5,   1.3201,  34.6957,2,  34.6955,2,   -999.0,9,    174.4,2,   137.76,2,    34.57,2,     0.00,2,     2.40,2, -999.000,5, -999.000,5, -999.000,9,-999.0000,9,  -999.00,9,   -999.0,9,   -999.0,9,  -999.00,9,-999.0000,-999.000,  0.9765,-999.000
      325023_1,  P14N,   116,  1,      6,      6,2,19930806,0428,  6.7480, 178.9993, 5732,   4579.1,   1.2768,  34.6999,2,  34.7001,2,   -999.0,9,    183.7,2,   132.72,2,    33.95,2,     0.00,2,     2.35,2, -999.000,5, -999.000,5, -999.000,9,-999.0000,9,  -999.00,9,   -999.0,9,   -999.0,9,  -999.00,9,-999.0000,-999.000,  0.8996,-999.000
      325023_1,  P14N,   116,  1,      5,      5,2,19930806,0428,  6.7480, 178.9993, 5732,   4885.9,   1.2830,  34.7018,2,  34.7021,2,   -999.0,9,    187.4,2,   130.77,2,    33.64,2,     0.00,2,     2.32,2, -999.000,5, -999.000,5, -999.000,9,-999.0000,9,  -999.00,9,   -999.0,9,   -999.0,9,  -999.00,9,-999.0000,-999.000,  0.8696,-999.000
      325023_1,  P14N,   116,  1,      4,      4,2,19930806,0428,  6.7480, 178.9993, 5732,   5194.1,   1.2967,  34.7032,2,  34.7038,2,   -999.0,9,    189.9,2,   129.23,2,    33.37,2,     0.00,2,     2.30,2, -999.000,5, -999.000,5, -999.000,9,-999.0000,9,  -999.00,9,   -999.0,9,   -999.0,9,  -999.00,9,-999.0000,-999.000,  0.8457,-999.000
      325023_1,  P14N,   116,  1,      3,      3,2,19930806,0428,  6.7480, 178.9993, 5732,   5502.8,   1.3263,  34.7036,2,  34.7036,2,   -999.0,9,    191.5,2,   128.10,2,    33.24,2,     0.00,2,     2.30,2, -999.000,5, -999.000,5, -999.000,9,-999.0000,9,  -999.00,9,   -999.0,9,   -999.0,9,  -999.00,9,-999.0000,-999.000,  0.8356,-999.000
      325023_1,  P14N,   116,  1,      2,      2,2,19930806,0428,  6.7480, 178.9993, 5732,   5748.3,   1.3553,  34.7034,2,  34.7037,2,   -999.0,9,    191.8,2,   127.59,2,    33.15,2,     0.00,2,     2.30,2, -999.000,5, -999.000,5, -999.000,9,-999.0000,9,  -999.00,9,   -999.0,9,   -999.0,9,  -999.00,9,-999.0000,-999.000,  0.8320,-999.000
      325023_1,  P14N,   116,  1,      1,      1,2,19930806,0428,  6.7480, 178.9993, 5732,   5750.6,   1.3556,  34.7036,2,  34.7039,2,   -999.0,9,    190.6,2,   127.90,2,    33.19,2,     0.00,2,     2.29,2, -999.000,5, -999.000,5, -999.000,9,-999.0000,9,  -999.00,9,   -999.0,9,   -999.0,9,  -999.00,9,-999.0000,-999.000,  0.8320,-999.000