BOTTLE,20131125MIRCJHATS
EXPOCODE,SECT_ID,STNNBR,CASTNO,SAMPNO,BTLNBR,BTLNBR_FLAG_W,DATE,TIME,LATITUDE,LONGITUDE,DEPTH,CTDPRS,CTDTMP,CTDSAL,CTDSAL_FLAG_W,SALNTY,SALNTY_FLAG_W,CTDOXY,CTDOXY_FLAG_W,OXYGEN,OXYGEN_FLAG_W,SILCAT,SILCAT_FLAG_W,NITRAT,NITRAT_FLAG_W,NITRIT,NITRIT_FLAG_W,PHSPHT,PHSPHT_FLAG_W,CFC-11,CFC-11_FLAG_W,CFC-12,CFC-12_FLAG_W,TRITUM,TRITUM_FLAG_W,HELIUM,HELIUM_FLAG_W,DELHE3,DELHE3_FLAG_W,TCARBN,TCARBN_FLAG_W,ALKALI,ALKALI_FLAG_W,PH,PH_FLAG_W,HELIER,DELHER,THETA,TRITER
,,,,,,,,,,,,DBAR,ITS-90,PSS-78,,PSS-78,,UMOL/KG,,UMOL/KG,,UMOL/KG,,UMOL/KG,,UMOL/KG,,UMOL/KG,,PMOL/KG,,PMOL/KG,,TU,,NMOL/KG,,PERCNT,,UMOL/KG,,UMOL/KG,,25_DEG,,NMOL/KG,PERCNT,DEG C,TU
      325023_1,  P14N,    69,  1,     36,     36,2,19930725,0258, 27.9988, 179.0007, 5298,      2.5,  27.6348,  35.1662,2,  35.1694,2,   -999.0,9,    204.6,2,     3.83,2,     0.04,2,     0.00,2,     0.02,2,    1.734,2,    0.969,2, -999.000,9,-999.0000,9,  -999.00,9,   -999.0,9,   -999.0,9,  -999.00,9,-999.0000,-999.000, 27.6342,-999.000
      325023_1,  P14N,    69,  1,     35,     35,2,19930725,0258, 27.9988, 179.0007, 5298,      2.9,  27.5350,  35.1725,2,  35.1692,2,   -999.0,9,    204.4,2,     3.79,2,     0.04,2,     0.00,2,     0.02,2, -999.000,5, -999.000,5, -999.000,9,-999.0000,9,  -999.00,9,   -999.0,9,   -999.0,9,  -999.00,9,-999.0000,-999.000, 27.5343,-999.000
      325023_1,  P14N,    69,  1,     34,     34,2,19930725,0258, 27.9988, 179.0007, 5298,     39.6,  20.6870,  34.9166,2,  34.9063,2,   -999.0,9,    245.9,2,     3.74,2,     0.04,2,     0.00,2,     0.04,2,    2.451,2,    1.236,2, -999.000,9,-999.0000,9,  -999.00,9,   -999.0,9,   -999.0,9,  -999.00,9,-999.0000,-999.000, 20.6795,-999.000
      325023_1,  P14N,    69,  1,     33,     33,2,19930725,0258, 27.9988, 179.0007, 5298,     69.9,  17.8738,  34.8054,2,  34.8034,2,   -999.0,9,    250.1,2,     3.70,2,     0.03,2,     0.00,2,     0.06,2,    2.835,2,    1.464,2, -999.000,9,-999.0000,9,  -999.00,9,   -999.0,9,   -999.0,9,  -999.00,9,-999.0000,-999.000, 17.8619,-999.000
      325023_1,  P14N,    69,  1,     32,     32,2,19930725,0258, 27.9988, 179.0007, 5298,    100.4,  16.8119,  34.7723,2,  34.7704,2,   -999.0,9,    224.4,2,     4.09,2,     2.38,2,     0.19,2,     0.25,2,    2.601,2,    1.353,2, -999.000,9,-999.0000,9,  -999.00,9,   -999.0,9,   -999.0,9,  -999.00,9,-999.0000,-999.000, 16.7955,-999.000
      325023_1,  P14N,    69,  1,     31,     31,2,19930725,0258, 27.9988, 179.0007, 5298,    130.5,  16.3555,  34.7416,2,  34.7421,2,   -999.0,9,    221.5,2,     4.49,2,     3.58,2,     0.05,2,     0.31,2,    2.624,2,    1.332,2, -999.000,9,-999.0000,9,  -999.00,9,   -999.0,9,   -999.0,9,  -999.00,9,-999.0000,-999.000, 16.3346,-999.000
      325023_1,  P14N,    69,  1,     30,     30,2,19930725,0258, 27.9988, 179.0007, 5298,    160.5,  15.8401,  34.6978,2,  34.6938,2,   -999.0,9,    223.4,2,     5.11,2,     4.14,2,     0.02,2,     0.35,2,    2.726,2,    1.409,2, -999.000,9,-999.0000,9,  -999.00,9,   -999.0,9,   -999.0,9,  -999.00,9,-999.0000,-999.000, 15.8149,-999.000
      325023_1,  P14N,    69,  1,     29,     29,2,19930725,0258, 27.9988, 179.0007, 5298,    210.8,  14.7670,  34.5888,2,  34.5920,2,   -999.0,9,    219.7,2,     7.05,2,     6.02,2,     0.01,2,     0.47,2,    2.761,2,    1.422,2, -999.000,9,-999.0000,9,  -999.00,9,   -999.0,9,   -999.0,9,  -999.00,9,-999.0000,-999.000, 14.7355,-999.000
      325023_1,  P14N,    69,  1,     28,     28,2,19930725,0258, 27.9988, 179.0007, 5298,    260.7,  13.7689,  34.5002,2,  34.5014,2,   -999.0,9,    216.6,2,    10.09,2,     8.29,2,     0.01,2,     0.63,2,    2.713,2,    1.371,2, -999.000,9,-999.0000,9,  -999.00,9,   -999.0,9,   -999.0,9,  -999.00,9,-999.0000,-999.000, 13.7317,-999.000
      325023_1,  P14N,    69,  1,     27,     27,2,19930725,0258, 27.9988, 179.0007, 5298,    309.9,  12.9119,  34.4319,2,  34.4308,2,   -999.0,9,    218.7,2,    11.81,2,     9.58,2,     0.00,2,     0.72,2,    2.813,6,    1.413,6, -999.000,9,-999.0000,9,  -999.00,9,   -999.0,9,   -999.0,9,  -999.00,9,-999.0000,-999.000, 12.8695,-999.000
      325023_1,  P14N,    69,  1,     26,     26,2,19930725,0258, 27.9988, 179.0007, 5298,    409.6,  10.9350,  34.2795,2,  34.2788,2,   -999.0,9,    205.7,2,    19.04,2,    14.38,2,     0.00,2,     1.05,2,    2.599,2,    1.262,2, -999.000,9,-999.0000,9,  -999.00,9,   -999.0,9,   -999.0,9,  -999.00,9,-999.0000,-999.000, 10.8847,-999.000
      325023_1,  P14N,    69,  1,     25,     25,2,19930725,0258, 27.9988, 179.0007, 5298,    509.5,   8.6320,  34.1247,2,  34.1227,2,   -999.0,9,    181.8,2,    34.21,2,    20.97,2,     0.00,2,     1.51,2,    2.154,2,    1.008,2, -999.000,9,-999.0000,9,  -999.00,9,   -999.0,9,   -999.0,9,  -999.00,9,-999.0000,-999.000,  8.5777,-999.000
      325023_1,  P14N,    69,  1,     24,     24,2,19930725,0258, 27.9988, 179.0007, 5298,    609.7,   6.4340,  34.0420,2,  34.0396,2,   -999.0,9,    136.7,2,    56.68,2,    28.93,2,     0.00,2,     2.09,2,    1.345,2,    0.605,2, -999.000,9,-999.0000,9,  -999.00,9,   -999.0,9,   -999.0,9,  -999.00,9,-999.0000,-999.000,  6.3787,-999.000
      325023_1,  P14N,    69,  1,     23,     23,2,19930725,0258, 27.9988, 179.0007, 5298,    710.4,   5.1214,  34.0833,2,  34.0816,2,   -999.0,9,    102.7,2,    80.98,2,    35.31,2,     0.00,2,     2.54,2,    0.688,2,    0.284,3, -999.000,9,-999.0000,9,  -999.00,9,   -999.0,9,   -999.0,9,  -999.00,9,-999.0000,-999.000,  5.0635,-999.000
      325023_1,  P14N,    69,  1,     22,     22,2,19930725,0258, 27.9988, 179.0007, 5298,    811.7,   4.3860,  34.1705,2,  34.1679,2,   -999.0,9,     55.6,2,   100.49,2,    39.26,2,     0.00,2,     2.82,2,    0.277,2,    0.115,2, -999.000,9,-999.0000,9,  -999.00,9,   -999.0,9,   -999.0,9,  -999.00,9,-999.0000,-999.000,  4.3238,-999.000
      325023_1,  P14N,    69,  1,     21,     21,2,19930725,0258, 27.9988, 179.0007, 5298,    913.1,   3.8717,  34.2565,2,  34.2541,2,   -999.0,9,     37.1,2,   115.42,2,    41.36,2,     0.00,2,     2.98,2,    0.116,2,    0.043,2, -999.000,9,-999.0000,9,  -999.00,9,   -999.0,9,   -999.0,9,  -999.00,9,-999.0000,-999.000,  3.8045,-999.000
      325023_1,  P14N,    69,  1,     20,     20,2,19930725,0258, 27.9988, 179.0007, 5298,   1014.9,   3.4943,  34.3358,2,  34.3338,2,   -999.0,9,     28.9,2,   126.37,2,    42.37,2,     0.00,2,     3.05,2,    0.034,2,    0.012,6, -999.000,9,-999.0000,9,  -999.00,9,   -999.0,9,   -999.0,9,  -999.00,9,-999.0000,-999.000,  3.4217,-999.000
      325023_1,  P14N,    69,  1,     19,     19,2,19930725,0258, 27.9988, 179.0007, 5298,   1217.8,   2.9378,  34.4598,2,  34.4586,2,   -999.0,9,     33.5,2,   141.49,2,    42.60,2,     0.00,2,     3.05,2,    0.005,2,   -0.001,2, -999.000,9,-999.0000,9,  -999.00,9,   -999.0,9,   -999.0,9,  -999.00,9,-999.0000,-999.000,  2.8537,-999.000
      325023_1,  P14N,    69,  1,     18,     18,2,19930725,0258, 27.9988, 179.0007, 5298,   1420.3,   2.5603,  34.5247,2,  34.5233,2,   -999.0,9,     46.9,2,   149.86,2,    41.95,2,     0.00,2,     2.99,2,   -0.002,2,   -0.005,2, -999.000,9,-999.0000,9,  -999.00,9,   -999.0,9,   -999.0,9,  -999.00,9,-999.0000,-999.000,  2.4640,-999.000
      325023_1,  P14N,    69,  1,     17,     17,2,19930725,0258, 27.9988, 179.0007, 5298,   1624.1,   2.2659,  34.5651,2,  34.5633,2,   -999.0,9,     60.8,2,   155.07,2,    41.18,2,     0.00,2,     2.93,2, -999.000,5, -999.000,5, -999.000,9,-999.0000,9,  -999.00,9,   -999.0,9,   -999.0,9,  -999.00,9,-999.0000,-999.000,  2.1568,-999.000
      325023_1,  P14N,    69,  1,     16,     16,2,19930725,0258, 27.9988, 179.0007, 5298,   1827.4,   2.0303,  34.5970,2,  34.5953,2,   -999.0,9,     77.3,2,   158.68,2,    40.22,2,     0.00,2,     2.85,2,    0.004,2,    0.004,2, -999.000,9,-999.0000,9,  -999.00,9,   -999.0,9,   -999.0,9,  -999.00,9,-999.0000,-999.000,  1.9078,-999.000
      325023_1,  P14N,    69,  1,     15,     15,2,19930725,0258, 27.9988, 179.0007, 5298,   2030.6,   1.8586,  34.6174,2,  34.6166,2,   -999.0,9,     88.7,2,   159.98,2,    39.54,2,     0.00,2,     2.80,2, -999.000,5, -999.000,5, -999.000,9,-999.0000,9,  -999.00,9,   -999.0,9,   -999.0,9,  -999.00,9,-999.0000,-999.000,  1.7218,-999.000
      325023_1,  P14N,    69,  1,     14,     14,2,19930725,0258, 27.9988, 179.0007, 5298,   2234.8,   1.7469,  34.6327,2,  34.6321,2,   -999.0,9,     99.7,2,   159.44,2,    38.90,2,     0.00,2,     2.74,2, -999.000,5, -999.000,5, -999.000,9,-999.0000,9,  -999.00,9,   -999.0,9,   -999.0,9,  -999.00,9,-999.0000,-999.000,  1.5946,-999.000
      325023_1,  P14N,    69,  1,     13,     13,2,19930725,0258, 27.9988, 179.0007, 5298,   2438.9,   1.6520,  34.6449,2,  34.6449,2,   -999.0,9,    109.0,2,   160.29,2,    38.31,2,     0.00,2,     2.70,2,    0.002,2,   -0.003,2, -999.000,9,-999.0000,9,  -999.00,9,   -999.0,9,   -999.0,9,  -999.00,9,-999.0000,-999.000,  1.4836,-999.000
      325023_1,  P14N,    69,  1,     12,     12,2,19930725,0258, 27.9988, 179.0007, 5298,   2642.3,   1.5933,  34.6536,2,  34.6541,2,   -999.0,9,    117.1,2,   159.52,2,    37.73,2,     0.00,2,     2.65,2, -999.000,5, -999.000,5, -999.000,9,-999.0000,9,  -999.00,9,   -999.0,9,   -999.0,9,  -999.00,9,-999.0000,-999.000,  1.4079,-999.000
      325023_1,  P14N,    69,  1,     11,     11,2,19930725,0258, 27.9988, 179.0007, 5298,   2846.5,   1.5364,  34.6622,2,  34.6619,2,   -999.0,9,    125.0,2,   157.83,2,    37.18,2,     0.00,2,     2.62,2, -999.000,5, -999.000,5, -999.000,9,-999.0000,9,  -999.00,9,   -999.0,9,   -999.0,9,  -999.00,9,-999.0000,-999.000,  1.3333,-999.000
      325023_1,  P14N,    69,  1,     10,     10,2,19930725,0258, 27.9988, 179.0007, 5298,   3050.5,   1.5040,  34.6675,2,  34.6676,2,   -999.0,9,    131.2,2,   156.60,2,    36.82,2,     0.00,2,     2.59,2, -999.000,5, -999.000,5, -999.000,9,-999.0000,9,  -999.00,9,   -999.0,9,   -999.0,9,  -999.00,9,-999.0000,-999.000,  1.2823,-999.000
      325023_1,  P14N,    69,  1,      9,      9,2,19930725,0258, 27.9988, 179.0007, 5298,   3357.6,   1.4698,  34.6742,2,  34.6743,2,   -999.0,9,    138.4,2,   154.91,2,    36.28,2,     0.00,2,     2.55,2,   -0.004,4,   -0.004,4, -999.000,9,-999.0000,9,  -999.00,9,   -999.0,9,   -999.0,9,  -999.00,9,-999.0000,-999.000,  1.2188,-999.000
      325023_1,  P14N,    69,  1,      8,      8,2,19930725,0258, 27.9988, 179.0007, 5298,   3665.7,   1.4469,  34.6801,2,  34.6798,2,   -999.0,9,    147.4,2,   153.69,2,    35.65,2,     0.00,2,     2.52,2, -999.000,5, -999.000,5, -999.000,9,-999.0000,9,  -999.00,9,   -999.0,9,   -999.0,9,  -999.00,9,-999.0000,-999.000,  1.1651,-999.000
      325023_1,  P14N,    69,  1,      7,      7,2,19930725,0258, 27.9988, 179.0007, 5298,   3974.4,   1.4417,  34.6837,2,  34.6839,2,   -999.0,9,    150.1,2,   151.78,2,    35.34,2,     0.00,2,     2.49,2, -999.000,5, -999.000,5, -999.000,9,-999.0000,9,  -999.00,9,   -999.0,9,   -999.0,9,  -999.00,9,-999.0000,-999.000,  1.1273,-999.000
      325023_1,  P14N,    69,  1,      6,      6,2,19930725,0258, 27.9988, 179.0007, 5298,   4282.7,   1.4447,  34.6871,2,  34.6876,2,   -999.0,9,    154.7,2,   149.19,2,    35.07,2,     0.00,2,     2.47,2, -999.000,5, -999.000,5, -999.000,9,-999.0000,9,  -999.00,9,   -999.0,9,   -999.0,9,  -999.00,9,-999.0000,-999.000,  1.0962,-999.000
      325023_1,  P14N,    69,  1,      5,      5,2,19930725,0258, 27.9988, 179.0007, 5298,   4591.2,   1.4467,  34.6898,2,  34.6904,2,   -999.0,9,    160.5,2,   144.77,2,    34.66,2,     0.00,2,     2.43,2,   -0.009,4,   -0.005,4, -999.000,9,-999.0000,9,  -999.00,9,   -999.0,9,   -999.0,9,  -999.00,9,-999.0000,-999.000,  1.0628,-999.000
      325023_1,  P14N,    69,  1,      4,      4,2,19930725,0258, 27.9988, 179.0007, 5298,   4901.3,   1.4492,  34.6928,2,  34.6923,2,   -999.0,9,    166.4,2,   140.83,2,    34.35,2,     0.00,2,     2.40,2, -999.000,5, -999.000,5, -999.000,9,-999.0000,9,  -999.00,9,   -999.0,9,   -999.0,9,  -999.00,9,-999.0000,-999.000,  1.0286,-999.000
      325023_1,  P14N,    69,  1,      3,      3,2,19930725,0258, 27.9988, 179.0007, 5298,   5210.7,   1.4572,  34.6952,2,  34.6951,2,   -999.0,9,    171.7,2,   137.58,2,    33.95,2,     0.00,2,     2.37,2, -999.000,5, -999.000,5, -999.000,9,-999.0000,9,  -999.00,9,   -999.0,9,   -999.0,9,  -999.00,9,-999.0000,-999.000,  0.9985,-999.000
      325023_1,  P14N,    69,  1,      1,      1,2,19930725,0258, 27.9988, 179.0007, 5298,   5366.9,   1.4632,  34.6965,2,  34.6966,2,   -999.0,9,    174.4,2,   136.08,2,    33.82,2,     0.00,2,     2.36,2,    0.000,2,    0.003,2, -999.000,9,-999.0000,9,  -999.00,9,   -999.0,9,   -999.0,9,  -999.00,9,-999.0000,-999.000,  0.9848,-999.000
      325023_1,  P14N,    69,  1,      2,      2,2,19930725,0258, 27.9988, 179.0007, 5298,   5367.0,   1.4631,  34.6964,2,  34.6970,2,   -999.0,9,    174.0,2,   135.93,2,    33.59,2,     0.00,2,     2.36,2, -999.000,5, -999.000,5, -999.000,9,-999.0000,9,  -999.00,9,   -999.0,9,   -999.0,9,  -999.00,9,-999.0000,-999.000,  0.9847,-999.000