BOTTLE,20131125MIRCJHATS
EXPOCODE,SECT_ID,STNNBR,CASTNO,SAMPNO,BTLNBR,BTLNBR_FLAG_W,DATE,TIME,LATITUDE,LONGITUDE,DEPTH,CTDPRS,CTDTMP,CTDSAL,CTDSAL_FLAG_W,SALNTY,SALNTY_FLAG_W,CTDOXY,CTDOXY_FLAG_W,OXYGEN,OXYGEN_FLAG_W,SILCAT,SILCAT_FLAG_W,NITRAT,NITRAT_FLAG_W,NITRIT,NITRIT_FLAG_W,PHSPHT,PHSPHT_FLAG_W,CFC-11,CFC-11_FLAG_W,CFC-12,CFC-12_FLAG_W,TRITUM,TRITUM_FLAG_W,HELIUM,HELIUM_FLAG_W,DELHE3,DELHE3_FLAG_W,TCARBN,TCARBN_FLAG_W,ALKALI,ALKALI_FLAG_W,PH,PH_FLAG_W,HELIER,DELHER,THETA,TRITER
,,,,,,,,,,,,DBAR,ITS-90,PSS-78,,PSS-78,,UMOL/KG,,UMOL/KG,,UMOL/KG,,UMOL/KG,,UMOL/KG,,UMOL/KG,,PMOL/KG,,PMOL/KG,,TU,,NMOL/KG,,PERCNT,,UMOL/KG,,UMOL/KG,,25_DEG,,NMOL/KG,PERCNT,DEG C,TU
      325023_1,  P14N,    51,  1,     35,     35,2,19930720,1117, 36.9912, 178.9965, 5221,      3.4,  17.9588,  34.3657,2,  34.3680,2,   -999.0,9,    246.1,2,     6.24,2,     0.02,2,     0.00,2,     0.12,2, -999.000,5, -999.000,5, -999.000,9,-999.0000,9,  -999.00,9,   1986.1,2,   2266.4,2,     8.04,2,-999.0000,-999.000, 17.9582,-999.000
      325023_1,  P14N,    51,  1,     36,     36,2,19930720,1117, 36.9912, 178.9965, 5221,      3.5,  17.9654,  34.3644,2,  34.3668,2,   -999.0,9,    246.2,2,     6.14,2,     0.03,2,     0.00,2,     0.12,2,    2.735,2,    1.441,2, -999.000,9,-999.0000,9,  -999.00,9,   1987.6,2,   2270.8,2,     8.03,2,-999.0000,-999.000, 17.9648,-999.000
      325023_1,  P14N,    51,  1,     34,     34,2,19930720,1117, 36.9912, 178.9965, 5221,     40.1,  16.5053,  34.7007,2,  34.6968,2,   -999.0,9,    231.3,2,     6.16,2,     3.06,2,     0.25,2,     0.31,2,    2.697,2,    1.394,2, -999.000,9,-999.0000,9,  -999.00,9,   2015.9,2,   2279.8,2,  -999.00,9,-999.0000,-999.000, 16.4989,-999.000
      325023_1,  P14N,    51,  1,     33,     33,2,19930720,1117, 36.9912, 178.9965, 5221,     70.0,  15.3538,  34.6200,2,  34.6142,2,   -999.0,9,    219.6,2,     8.28,2,     6.01,2,     0.19,2,     0.50,2,    2.601,2,    1.324,2, -999.000,9,-999.0000,9,  -999.00,9,   2033.8,2,   2275.1,2,  -999.00,9,-999.0000,-999.000, 15.3431,-999.000
      325023_1,  P14N,    51,  1,     32,     32,2,19930720,1117, 36.9912, 178.9965, 5221,    100.4,  14.2782,  34.5425,2,  34.5467,2,   -999.0,9,    209.1,2,    11.31,2,     8.70,2,     0.02,2,     0.67,2,    2.535,3,    1.290,3, -999.000,9,-999.0000,9,  -999.00,9,   2057.3,2,   2275.9,2,  -999.00,9,-999.0000,-999.000, 14.2636,-999.000
      325023_1,  P14N,    51,  1,     31,     31,2,19930720,1117, 36.9912, 178.9965, 5221,    131.2,  13.5033,  34.4811,2,  34.4824,2,   -999.0,9,    218.1,2,    12.14,2,     8.92,2,     0.01,2,     0.69,2,    2.750,2,    1.364,2, -999.000,9,-999.0000,9,  -999.00,9,   2053.8,2,   2271.7,2,  -999.00,9,-999.0000,-999.000, 13.4850,-999.000
      325023_1,  P14N,    51,  1,     30,     30,2,19930720,1117, 36.9912, 178.9965, 5221,    160.6,  12.8959,  34.4373,2,  34.4379,2,   -999.0,9,    216.0,2,    13.16,2,     9.96,2,     0.01,2,     0.75,2,    2.769,6,    1.393,6, -999.000,9,-999.0000,9,  -999.00,9,   2061.6,2,   2267.5,2,  -999.00,9,-999.0000,-999.000, 12.8741,-999.000
      325023_1,  P14N,    51,  1,     29,     29,2,19930720,1117, 36.9912, 178.9965, 5221,    211.3,  12.0205,  34.3715,2,  34.3644,2,   -999.0,9,    240.0,2,    12.90,2,     9.10,2,     0.01,2,     0.71,2,    3.229,2,    1.645,2, -999.000,9,-999.0000,9,  -999.00,9,   2056.7,2,   2267.7,2,     7.89,2,-999.0000,-999.000, 11.9931,-999.000
      325023_1,  P14N,    51,  1,     28,     28,2,19930720,1117, 36.9912, 178.9965, 5221,    261.1,  11.4563,  34.3332,2,  34.3338,2,   -999.0,9,    225.2,2,    16.47,2,    11.49,2,     0.01,2,     0.87,2,    2.993,2,    1.474,2, -999.000,9,-999.0000,9,  -999.00,9,   2073.8,2,   2270.1,2,  -999.00,9,-999.0000,-999.000, 11.4234,-999.000
      325023_1,  P14N,    51,  1,     27,     27,2,19930720,1117, 36.9912, 178.9965, 5221,    311.6,  10.5143,  34.2596,2,  34.2572,2,   -999.0,9,    206.4,2,    22.61,2,    15.22,2,     0.01,2,     1.13,2,    2.642,2,    1.258,2, -999.000,9,-999.0000,9,  -999.00,9,   2100.0,2,   2271.1,2,     7.80,2,-999.0000,-999.000, 10.4771,-999.000
      325023_1,  P14N,    51,  1,     26,     26,2,19930720,1117, 36.9912, 178.9965, 5221,    412.6,   8.3059,  34.0958,2,  34.0957,2,   -999.0,9,    187.8,2,    36.61,2,    21.05,2,     0.01,2,     1.55,2,    2.458,2,    1.165,2, -999.000,9,-999.0000,9,  -999.00,9,   -999.0,9,   -999.0,9,  -999.00,9,-999.0000,-999.000,  8.2631,-999.000
      325023_1,  P14N,    51,  1,     25,     25,2,19930720,1117, 36.9912, 178.9965, 5221,    513.4,   6.6790,  34.0277,2,  34.0274,2,   -999.0,9,    157.6,2,    52.46,2,    26.72,2,     0.01,2,     1.97,2,    1.998,2,    0.912,2, -999.000,9,-999.0000,9,  -999.00,9,   2197.8,2,   2284.1,2,     7.61,2,-999.0000,-999.000,  6.6319,-999.000
      325023_1,  P14N,    51,  1,     24,     24,2,19930720,1117, 36.9912, 178.9965, 5221,    607.2,   5.3487,  34.0192,2,  34.0188,2,   -999.0,9,    121.7,2,    72.05,2,    32.25,2,     0.01,2,     2.37,2,    1.413,2,    0.621,2, -999.000,9,-999.0000,9,  -999.00,9,   2244.0,2,   2299.4,2,     7.50,2,-999.0000,-999.000,  5.2987,-999.000
      325023_1,  P14N,    51,  1,     23,     23,2,19930720,1117, 36.9912, 178.9965, 5221,    715.1,   4.5713,  34.1032,2,  34.1031,2,   -999.0,9,     80.6,2,    93.10,2,    37.07,2,     0.00,2,     2.69,2,    0.785,2,    0.367,3, -999.000,9,-999.0000,9,  -999.00,9,   2289.2,2,   2319.1,2,     7.42,2,-999.0000,-999.000,  4.5161,-999.000
      325023_1,  P14N,    51,  1,     22,     22,2,19930720,1117, 36.9912, 178.9965, 5221,    816.3,   4.0544,  34.1812,2,  34.1800,2,   -999.0,9,     52.8,2,   109.32,2,    40.03,2,     0.00,2,     2.89,2,    0.360,2,    0.156,2, -999.000,9,-999.0000,9,  -999.00,9,   2318.5,2,   2336.0,2,     7.36,2,-999.0000,-999.000,  3.9939,-999.000
      325023_1,  P14N,    51,  1,     21,     21,2,19930720,1117, 36.9912, 178.9965, 5221,    917.6,   3.7174,  34.2526,2,  34.2513,2,   -999.0,9,     37.9,2,   121.57,2,    41.65,2,     0.00,2,     2.99,2,    0.138,2,    0.055,2, -999.000,9,-999.0000,9,  -999.00,9,   2340.1,2,   2349.5,2,  -999.00,9,-999.0000,-999.000,  3.6509,-999.000
      325023_1,  P14N,    51,  1,     20,     20,2,19930720,1117, 36.9912, 178.9965, 5221,   1018.7,   3.4045,  34.3108,2,  34.3096,2,   -999.0,9,     29.8,2,   131.46,2,    42.47,2,     0.00,2,     3.05,2,    0.066,2,    0.026,2, -999.000,9,-999.0000,9,  -999.00,9,   2353.3,2,   2365.1,2,     7.33,2,-999.0000,-999.000,  3.3323,-999.000
      325023_1,  P14N,    51,  1,     19,     19,2,19930720,1117, 36.9912, 178.9965, 5221,   1221.1,   2.9503,  34.4003,2,  34.3995,2,   -999.0,9,     21.3,2,   147.35,2,    43.84,2,     0.00,2,     3.13,2,    0.008,2,   -0.001,2, -999.000,9,-999.0000,9,  -999.00,9,   2373.8,2,   2383.2,2,  -999.00,9,-999.0000,-999.000,  2.8659,-999.000
      325023_1,  P14N,    51,  1,     18,     18,2,19930720,1117, 36.9912, 178.9965, 5221,   1422.3,   2.6082,  34.4679,2,  34.4679,2,   -999.0,9,     27.5,2,   157.58,2,    43.54,2,     0.00,2,     3.10,2,    0.117,4,    0.103,4, -999.000,9,-999.0000,9,  -999.00,9,   2382.3,2,   2394.3,2,     7.33,2,-999.0000,-999.000,  2.5113,-999.000
      325023_1,  P14N,    51,  1,     17,     17,2,19930720,1117, 36.9912, 178.9965, 5221,   1624.3,   2.3703,  34.5201,2,  34.5205,2,   -999.0,9,     36.1,2,   164.32,2,    43.19,2,     0.00,2,     3.07,2, -999.000,5, -999.000,5, -999.000,9,-999.0000,9,  -999.00,9,   2384.4,2,   2408.5,2,  -999.00,9,-999.0000,-999.000,  2.2599,-999.000
      325023_1,  P14N,    51,  1,     16,     16,2,19930720,1117, 36.9912, 178.9965, 5221,   1823.5,   2.1467,  34.5561,2,  34.5559,2,   -999.0,9,     46.4,2,   170.11,2,    42.53,2,     0.00,2,     3.02,2,   -0.003,2,    0.002,2, -999.000,9,-999.0000,9,  -999.00,9,   2384.7,2,   2411.0,2,     7.38,2,-999.0000,-999.000,  2.0230,-999.000
      325023_1,  P14N,    51,  1,     15,     15,2,19930720,1117, 36.9912, 178.9965, 5221,   2021.1,   1.9895,  34.5836,2,  34.5840,2,   -999.0,9,     56.3,2,   173.90,2,    42.00,2,     0.00,2,     2.97,2, -999.000,5, -999.000,5, -999.000,9,-999.0000,9,  -999.00,9,   2381.7,2,   2416.9,2,  -999.00,9,-999.0000,-999.000,  1.8516,-999.000
      325023_1,  P14N,    51,  1,     14,     14,2,19930720,1117, 36.9912, 178.9965, 5221,   2223.3,   1.8749,  34.6045,2,  34.6049,2,   -999.0,9,     68.6,2,   174.62,2,    41.21,2,     0.00,2,     2.91,2, -999.000,5, -999.000,5, -999.000,9,-999.0000,9,  -999.00,9,   2377.6,2,   2416.0,2,     7.42,2,-999.0000,-999.000,  1.7216,-999.000
      325023_1,  P14N,    51,  1,     13,     13,2,19930720,1117, 36.9912, 178.9965, 5221,   2427.8,   1.7586,  34.6244,2,  34.6255,2,   -999.0,9,     84.5,2,   173.27,2,    40.24,2,     0.00,2,     2.84,2,   -0.001,2,   -0.001,2, -999.000,9,-999.0000,9,  -999.00,9,   2372.2,2,   2420.2,2,  -999.00,9,-999.0000,-999.000,  1.5894,-999.000
      325023_1,  P14N,    51,  1,     12,     12,2,19930720,1117, 36.9912, 178.9965, 5221,   2632.6,   1.6623,  34.6402,2,  34.6418,2,   -999.0,9,     98.8,2,   171.11,2,    39.31,2,     0.00,2,     2.77,2, -999.000,5, -999.000,5, -999.000,9,-999.0000,9,  -999.00,9,   2362.6,2,   2421.2,2,     7.48,2,-999.0000,-999.000,  1.4764,-999.000
      325023_1,  P14N,    51,  1,     11,     11,2,19930720,1117, 36.9912, 178.9965, 5221,   2836.6,   1.5996,  34.6507,2,  34.6518,2,   -999.0,9,    110.0,2,   168.96,2,    38.56,2,     0.00,2,     2.72,2, -999.000,5, -999.000,5, -999.000,9,-999.0000,9,  -999.00,9,   2354.2,2,   2418.8,2,  -999.00,9,-999.0000,-999.000,  1.3962,-999.000
      325023_1,  P14N,    51,  1,     10,     10,2,19930720,1117, 36.9912, 178.9965, 5221,   3040.4,   1.5406,  34.6604,2,  34.6612,2,   -999.0,9,    121.2,2,   166.21,2,    37.82,2,     0.00,2,     2.67,2,   -0.004,2,   -0.001,2, -999.000,9,-999.0000,9,  -999.00,9,   2351.4,2,   2420.1,2,     7.52,2,-999.0000,-999.000,  1.3191,-999.000
      325023_1,  P14N,    51,  1,      9,      9,2,19930720,1117, 36.9912, 178.9965, 5221,   3343.9,   1.4846,  34.6706,2,  34.6718,2,   -999.0,9,    134.4,2,   162.46,2,    36.89,2,     0.00,2,     2.60,2, -999.000,5, -999.000,5, -999.000,9,-999.0000,9,  -999.00,9,   2339.1,2,   2417.6,2,  -999.00,9,-999.0000,-999.000,  1.2347,-999.000
      325023_1,  P14N,    51,  1,      8,      8,2,19930720,1117, 36.9912, 178.9965, 5221,   3651.0,   1.4593,  34.6774,2,  34.6785,2,   -999.0,9,    142.3,2,   159.94,2,    36.37,2,     0.00,2,     2.56,2, -999.000,5, -999.000,5, -999.000,9,-999.0000,9,  -999.00,9,   2331.1,2,   2423.6,2,     7.56,2,-999.0000,-999.000,  1.1787,-999.000
      325023_1,  P14N,    51,  1,      7,      7,2,19930720,1117, 36.9912, 178.9965, 5221,   3958.9,   1.4501,  34.6823,2,  34.6832,2,   -999.0,9,    148.2,2,   158.44,2,    35.99,2,     0.00,2,     2.52,2,   -0.001,2,    0.001,2, -999.000,9,-999.0000,9,  -999.00,9,   2327.5,2,   2423.4,2,  -999.00,9,-999.0000,-999.000,  1.1371,-999.000
      325023_1,  P14N,    51,  1,      6,      6,2,19930720,1117, 36.9912, 178.9965, 5221,   4268.5,   1.4571,  34.6853,2,  34.6863,2,   -999.0,9,    151.8,2,   158.53,2,    35.73,2,     0.00,2,     2.50,2, -999.000,5, -999.000,5, -999.000,9,-999.0000,9,  -999.00,9,   2325.4,2,   2422.7,2,     7.58,2,-999.0000,-999.000,  1.1098,-999.000
      325023_1,  P14N,    51,  1,      5,      5,2,19930720,1117, 36.9912, 178.9965, 5221,   4578.6,   1.4813,  34.6870,2,  34.6867,2,   -999.0,9,    153.4,2,   160.04,2,    35.70,2,     0.00,2,     2.49,2, -999.000,5, -999.000,5, -999.000,9,-999.0000,9,  -999.00,9,   2326.5,2,   2420.6,2,  -999.00,9,-999.0000,-999.000,  1.0978,-999.000
      325023_1,  P14N,    51,  1,      4,      4,2,19930720,1117, 36.9912, 178.9965, 5221,   4886.3,   1.5136,  34.6875,2,  34.6872,2,   -999.0,9,    153.9,2,   159.93,2,    35.58,2,     0.00,2,     2.49,2,    0.003,2,    0.004,2, -999.000,9,-999.0000,9,  -999.00,9,   2331.8,2,   2404.7,2,     7.58,2,-999.0000,-999.000,  1.0927,-999.000
      325023_1,  P14N,    51,  1,      3,      3,2,19930720,1117, 36.9912, 178.9965, 5221,   5193.4,   1.5523,  34.6880,2,  34.6882,2,   -999.0,9,    153.8,2,   159.83,2,    35.64,2,     0.00,2,     2.49,2, -999.000,5, -999.000,5, -999.000,9,-999.0000,9,  -999.00,9,   2332.8,2,   2414.1,2,  -999.00,9,-999.0000,-999.000,  1.0925,-999.000
      325023_1,  P14N,    51,  1,      2,      2,2,19930720,1117, 36.9912, 178.9965, 5221,   5307.9,   1.5673,  34.6876,2,  34.6882,2,   -999.0,9,    154.0,2,   159.93,2,    35.60,2,     0.00,2,     2.47,2, -999.000,5, -999.000,5, -999.000,9,-999.0000,9,  -999.00,9,   2331.3,2,   -999.0,9,     7.58,2,-999.0000,-999.000,  1.0927,-999.000
      325023_1,  P14N,    51,  1,      1,      1,2,19930720,1117, 36.9912, 178.9965, 5221,   5308.3,   1.5674,  34.6876,2,  34.6880,2,   -999.0,9,    153.5,2,   160.03,2,    35.66,2,     0.00,2,     2.48,2,    0.000,2,    0.002,2, -999.000,9,-999.0000,9,  -999.00,9,   2331.2,2,   2421.3,2,  -999.00,9,-999.0000,-999.000,  1.0928,-999.000