BOTTLE,20131125MIRCJHATS
EXPOCODE,SECT_ID,STNNBR,CASTNO,SAMPNO,BTLNBR,BTLNBR_FLAG_W,DATE,TIME,LATITUDE,LONGITUDE,DEPTH,CTDPRS,CTDTMP,CTDSAL,CTDSAL_FLAG_W,SALNTY,SALNTY_FLAG_W,CTDOXY,CTDOXY_FLAG_W,OXYGEN,OXYGEN_FLAG_W,SILCAT,SILCAT_FLAG_W,NITRAT,NITRAT_FLAG_W,NITRIT,NITRIT_FLAG_W,PHSPHT,PHSPHT_FLAG_W,CFC-11,CFC-11_FLAG_W,CFC-12,CFC-12_FLAG_W,TRITUM,TRITUM_FLAG_W,HELIUM,HELIUM_FLAG_W,DELHE3,DELHE3_FLAG_W,TCARBN,TCARBN_FLAG_W,ALKALI,ALKALI_FLAG_W,PH,PH_FLAG_W,HELIER,DELHER,THETA,TRITER
,,,,,,,,,,,,DBAR,ITS-90,PSS-78,,PSS-78,,UMOL/KG,,UMOL/KG,,UMOL/KG,,UMOL/KG,,UMOL/KG,,UMOL/KG,,PMOL/KG,,PMOL/KG,,TU,,NMOL/KG,,PERCNT,,UMOL/KG,,UMOL/KG,,25_DEG,,NMOL/KG,PERCNT,DEG C,TU
      325023_1,  P14N,    14,  1,     36,     36,2,19930710,0147, 52.5045,-178.7697, 3466,      3.0,   6.2813,  32.9684,2,  32.9688,2,   -999.0,9,    300.4,2,    39.08,2,    19.77,2,     0.23,2,     1.67,2, -999.000,5, -999.000,5, -999.000,9,-999.0000,9,  -999.00,9,   -999.0,9,   -999.0,9,  -999.00,9,-999.0000,-999.000,  6.2811,-999.000
      325023_1,  P14N,    14,  1,     35,     35,2,19930710,0147, 52.5045,-178.7697, 3466,      3.1,   6.2830,  32.9683,2,  32.9684,2,   -999.0,9,    300.1,2,    39.01,2,    19.76,2,     0.23,2,     1.67,2, -999.000,5, -999.000,5, -999.000,9,-999.0000,9,  -999.00,9,   -999.0,9,   -999.0,9,  -999.00,9,-999.0000,-999.000,  6.2828,-999.000
      325023_1,  P14N,    14,  1,     34,     34,2,19930710,0147, 52.5045,-178.7697, 3466,     37.6,   5.5445,  33.0478,2,  33.0523,2,   -999.0,9,    270.1,2,    44.09,2,    21.91,2,     0.26,2,     1.89,2, -999.000,5, -999.000,5, -999.000,9,-999.0000,9,  -999.00,9,   -999.0,9,   -999.0,9,  -999.00,9,-999.0000,-999.000,  5.5415,-999.000
      325023_1,  P14N,    14,  1,     33,     33,2,19930710,0147, 52.5045,-178.7697, 3466,     67.9,   4.9923,  33.1295,2,  33.1259,2,   -999.0,9,    240.5,2,    51.04,2,    24.55,2,     0.30,2,     2.04,2, -999.000,5, -999.000,5, -999.000,9,-999.0000,9,  -999.00,9,   -999.0,9,   -999.0,9,  -999.00,9,-999.0000,-999.000,  4.9872,-999.000
      325023_1,  P14N,    14,  1,     32,     32,2,19930710,0147, 52.5045,-178.7697, 3466,     98.3,   4.8624,  33.1679,2,  33.1670,2,   -999.0,9,    229.0,2,    53.99,2,    25.57,2,     0.31,2,     2.10,2, -999.000,5, -999.000,5, -999.000,9,-999.0000,9,  -999.00,9,   -999.0,9,   -999.0,9,  -999.00,9,-999.0000,-999.000,  4.8552,-999.000
      325023_1,  P14N,    14,  1,     31,     31,2,19930710,0147, 52.5045,-178.7697, 3466,    128.4,   4.7121,  33.2033,2,  33.2009,2,   -999.0,9,    221.9,2,    56.01,2,    26.41,2,     0.30,2,     2.15,2, -999.000,5, -999.000,5, -999.000,9,-999.0000,9,  -999.00,9,   -999.0,9,   -999.0,9,  -999.00,9,-999.0000,-999.000,  4.7028,-999.000
      325023_1,  P14N,    14,  1,     30,     30,2,19930710,0147, 52.5045,-178.7697, 3466,    158.6,   4.5662,  33.2549,2,  33.2574,2,   -999.0,9,    210.1,2,    59.42,2,    27.62,2,     0.29,2,     2.22,2, -999.000,5, -999.000,5, -999.000,9,-999.0000,9,  -999.00,9,   -999.0,9,   -999.0,9,  -999.00,9,-999.0000,-999.000,  4.5549,-999.000
      325023_1,  P14N,    14,  1,     29,     29,2,19930710,0147, 52.5045,-178.7697, 3466,    209.1,   4.1895,  33.3301,2,  33.3274,2,   -999.0,9,    206.4,2,    62.60,2,    29.17,2,     0.30,2,     2.31,2, -999.000,5, -999.000,5, -999.000,9,-999.0000,9,  -999.00,9,   -999.0,9,   -999.0,9,  -999.00,9,-999.0000,-999.000,  4.1750,-999.000
      325023_1,  P14N,    14,  1,     28,     28,2,19930710,0147, 52.5045,-178.7697, 3466,    259.8,   4.0434,  33.4706,2,  33.4692,2,   -999.0,9,    170.7,2,    71.39,2,    32.37,2,     0.14,2,     2.48,2, -999.000,5, -999.000,5, -999.000,9,-999.0000,9,  -999.00,9,   -999.0,9,   -999.0,9,  -999.00,9,-999.0000,-999.000,  4.0256,-999.000
      325023_1,  P14N,    14,  1,     27,     27,2,19930710,0147, 52.5045,-178.7697, 3466,    310.5,   3.7453,  33.5588,2,  33.5545,2,   -999.0,9,    161.0,2,    77.83,2,    34.70,2,     0.02,2,     2.60,2, -999.000,5, -999.000,5, -999.000,9,-999.0000,9,  -999.00,9,   -999.0,9,   -999.0,9,  -999.00,9,-999.0000,-999.000,  3.7246,-999.000
      325023_1,  P14N,    14,  1,     26,     26,2,19930710,0147, 52.5045,-178.7697, 3466,    360.6,   3.7331,  33.6820,2,  33.6789,2,   -999.0,9,    126.4,2,    85.91,2,    37.18,2,     0.01,2,     2.75,2, -999.000,5, -999.000,5, -999.000,9,-999.0000,9,  -999.00,9,   -999.0,9,   -999.0,9,  -999.00,9,-999.0000,-999.000,  3.7089,-999.000
      325023_1,  P14N,    14,  1,     25,     25,2,19930710,0147, 52.5045,-178.7697, 3466,    411.4,   3.7071,  33.8006,2,  33.8019,2,   -999.0,9,     91.9,2,    94.45,2,    39.35,2,     0.01,2,     2.88,2, -999.000,5, -999.000,5, -999.000,9,-999.0000,9,  -999.00,9,   -999.0,9,   -999.0,9,  -999.00,9,-999.0000,-999.000,  3.6792,-999.000
      325023_1,  P14N,    14,  1,     24,     24,2,19930710,0147, 52.5045,-178.7697, 3466,    461.9,   3.6926,  33.8658,2,  33.8639,2,   -999.0,9,     74.2,2,    99.25,2,    40.48,2,     0.01,2,     2.96,2, -999.000,5, -999.000,5, -999.000,9,-999.0000,9,  -999.00,9,   -999.0,9,   -999.0,9,  -999.00,9,-999.0000,-999.000,  3.6611,-999.000
      325023_1,  P14N,    14,  1,     23,     23,2,19930710,0147, 52.5045,-178.7697, 3466,    512.3,   3.6412,  33.9399,2,  33.9333,2,   -999.0,9,     60.2,2,   104.51,2,    41.47,2,     0.01,2,     3.01,2, -999.000,5, -999.000,5, -999.000,9,-999.0000,9,  -999.00,9,   -999.0,9,   -999.0,9,  -999.00,9,-999.0000,-999.000,  3.6063,-999.000
      325023_1,  P14N,    14,  1,     22,     22,2,19930710,0147, 52.5045,-178.7697, 3466,    612.9,   3.5404,  34.0578,2,  34.0546,2,   -999.0,9,     36.9,2,   115.19,2,    42.78,2,     0.00,2,     3.10,2, -999.000,5, -999.000,5, -999.000,9,-999.0000,9,  -999.00,9,   -999.0,9,   -999.0,9,  -999.00,9,-999.0000,-999.000,  3.4985,-999.000
      325023_1,  P14N,    14,  1,     21,     21,2,19930710,0147, 52.5045,-178.7697, 3466,    713.7,   3.4408,  34.1276,2,  34.1246,2,   -999.0,9,     28.5,2,   122.11,2,    43.22,2,     0.00,2,     3.13,2, -999.000,5, -999.000,5, -999.000,9,-999.0000,9,  -999.00,9,   -999.0,9,   -999.0,9,  -999.00,9,-999.0000,-999.000,  3.3920,-999.000
      325023_1,  P14N,    14,  1,     20,     20,2,19930710,0147, 52.5045,-178.7697, 3466,    814.9,   3.3215,  34.2008,2,  34.1980,2,   -999.0,9,     20.3,2,   129.99,2,    43.57,2,     0.00,2,     3.15,2, -999.000,5, -999.000,5, -999.000,9,-999.0000,9,  -999.00,9,   -999.0,9,   -999.0,9,  -999.00,9,-999.0000,-999.000,  3.2657,-999.000
      325023_1,  P14N,    14,  1,     19,     19,2,19930710,0147, 52.5045,-178.7697, 3466,    916.5,   3.1876,  34.2555,2,  34.2536,2,   -999.0,9,     16.9,2,   136.47,2,    43.74,2,     0.00,2,     3.17,2, -999.000,5, -999.000,5, -999.000,9,-999.0000,9,  -999.00,9,   -999.0,9,   -999.0,9,  -999.00,9,-999.0000,-999.000,  3.1250,-999.000
      325023_1,  P14N,    14,  1,     18,     18,2,19930710,0147, 52.5045,-178.7697, 3466,   1018.3,   3.0389,  34.2997,2,  34.2973,2,   -999.0,9,     17.8,2,   142.48,2,    43.63,2,     0.00,2,     3.17,2, -999.000,5, -999.000,5, -999.000,9,-999.0000,9,  -999.00,9,   -999.0,9,   -999.0,9,  -999.00,9,-999.0000,-999.000,  2.9697,-999.000
      325023_1,  P14N,    14,  1,     17,     17,2,19930710,0147, 52.5045,-178.7697, 3466,   1119.5,   2.8870,  34.3430,2,  34.3394,2,   -999.0,9,     18.4,2,   150.66,2,    43.66,2,     0.00,2,     3.16,2, -999.000,5, -999.000,5, -999.000,9,-999.0000,9,  -999.00,9,   -999.0,9,   -999.0,9,  -999.00,9,-999.0000,-999.000,  2.8112,-999.000
      325023_1,  P14N,    14,  1,     16,     16,2,19930710,0147, 52.5045,-178.7697, 3466,   1219.9,   2.7806,  34.3736,2,  34.3699,2,   -999.0,9,     18.3,2,   154.07,2,    43.69,2,     0.00,2,     3.16,2, -999.000,5, -999.000,5, -999.000,9,-999.0000,9,  -999.00,9,   -999.0,9,   -999.0,9,  -999.00,9,-999.0000,-999.000,  2.6980,-999.000
      325023_1,  P14N,    14,  1,     15,     15,2,19930710,0147, 52.5045,-178.7697, 3466,   1320.8,   2.6607,  34.4055,2,  34.4024,2,   -999.0,9,     19.5,2,   159.16,2,    43.58,2,     0.00,2,     3.15,2, -999.000,5, -999.000,5, -999.000,9,-999.0000,9,  -999.00,9,   -999.0,9,   -999.0,9,  -999.00,9,-999.0000,-999.000,  2.5714,-999.000
      325023_1,  P14N,    14,  1,     14,     14,2,19930710,0147, 52.5045,-178.7697, 3466,   1421.8,   2.5256,  34.4328,2,  34.4301,2,   -999.0,9,     25.8,2,   165.47,2,    42.92,2,     0.00,2,     3.14,2, -999.000,5, -999.000,5, -999.000,9,-999.0000,9,  -999.00,9,   -999.0,9,   -999.0,9,  -999.00,9,-999.0000,-999.000,  2.4297,-999.000
      325023_1,  P14N,    14,  1,     13,     13,2,19930710,0147, 52.5045,-178.7697, 3466,   1521.7,   2.4420,  34.4576,2,  34.4561,2,   -999.0,9,     25.1,2,   169.63,2,    43.08,2,     0.00,2,     3.13,2, -999.000,5, -999.000,5, -999.000,9,-999.0000,9,  -999.00,9,   -999.0,9,   -999.0,9,  -999.00,9,-999.0000,-999.000,  2.3392,-999.000
      325023_1,  P14N,    14,  1,     12,     12,2,19930710,0147, 52.5045,-178.7697, 3466,   1623.0,   2.3386,  34.4821,2,  34.4810,2,   -999.0,9,     28.1,2,   174.28,2,    42.88,2,     0.00,2,     3.12,2, -999.000,5, -999.000,5, -999.000,9,-999.0000,9,  -999.00,9,   -999.0,9,   -999.0,9,  -999.00,9,-999.0000,-999.000,  2.2289,-999.000
      325023_1,  P14N,    14,  1,     11,     11,2,19930710,0147, 52.5045,-178.7697, 3466,   1825.3,   2.1386,  34.5290,2,  34.5263,2,   -999.0,9,     36.3,2,   184.30,2,    42.27,2,     0.00,2,     3.11,2, -999.000,5, -999.000,5, -999.000,9,-999.0000,9,  -999.00,9,   -999.0,9,   -999.0,9,  -999.00,9,-999.0000,-999.000,  2.0150,-999.000
      325023_1,  P14N,    14,  1,     10,     10,2,19930710,0147, 52.5045,-178.7697, 3466,   2026.9,   1.9732,  34.5663,2,  34.5635,2,   -999.0,9,     46.8,2,   194.16,2,    41.39,2,     0.00,2,     3.07,2, -999.000,5, -999.000,5, -999.000,9,-999.0000,9,  -999.00,9,   -999.0,9,   -999.0,9,  -999.00,9,-999.0000,-999.000,  1.8352,-999.000
      325023_1,  P14N,    14,  1,      9,      9,2,19930710,0147, 52.5045,-178.7697, 3466,   2229.9,   1.8742,  34.5887,2,  34.5868,2,   -999.0,9,     54.3,2,   197.40,2,    40.78,2,     0.00,2,     3.05,2, -999.000,5, -999.000,5, -999.000,9,-999.0000,9,  -999.00,9,   -999.0,9,   -999.0,9,  -999.00,9,-999.0000,-999.000,  1.7204,-999.000
      325023_1,  P14N,    14,  1,      8,      8,2,19930710,0147, 52.5045,-178.7697, 3466,   2433.0,   1.7755,  34.6106,2,  34.6086,2,   -999.0,9,     64.4,2,   206.13,2,    39.94,2,     0.00,2,     3.01,2, -999.000,5, -999.000,5, -999.000,9,-999.0000,9,  -999.00,9,   -999.0,9,   -999.0,9,  -999.00,9,-999.0000,-999.000,  1.6055,-999.000
      325023_1,  P14N,    14,  1,      7,      7,2,19930710,0147, 52.5045,-178.7697, 3466,   2632.1,   1.7099,  34.6262,2,  34.6249,2,   -999.0,9,     73.3,2,   209.90,2,    39.25,2,     0.00,2,     2.98,2, -999.000,5, -999.000,5, -999.000,9,-999.0000,9,  -999.00,9,   -999.0,9,   -999.0,9,  -999.00,9,-999.0000,-999.000,  1.5233,-999.000
      325023_1,  P14N,    14,  1,      6,      6,2,19930710,0147, 52.5045,-178.7697, 3466,   2829.6,   1.6612,  34.6389,2,  34.6384,2,   -999.0,9,     79.8,2,   213.19,2,    38.60,2,     0.00,2,     2.95,2, -999.000,5, -999.000,5, -999.000,9,-999.0000,9,  -999.00,9,   -999.0,9,   -999.0,9,  -999.00,9,-999.0000,-999.000,  1.4572,-999.000
      325023_1,  P14N,    14,  1,      5,      5,2,19930710,0147, 52.5045,-178.7697, 3466,   3026.2,   1.6355,  34.6462,2,  34.6453,2,   -999.0,9,     84.9,2,   215.73,2,    38.22,2,     0.00,2,     2.93,2,    0.006,2,    0.011,2, -999.000,9,-999.0000,9,  -999.00,9,   -999.0,9,   -999.0,9,  -999.00,9,-999.0000,-999.000,  1.4133,-999.000
      325023_1,  P14N,    14,  1,      4,      4,2,19930710,0147, 52.5045,-178.7697, 3466,   3213.9,   1.6005,  34.6556,2,  34.6547,2,   -999.0,9,     91.7,2,   218.27,2,    37.75,2,     0.00,2,     2.91,2,    0.006,2,    0.002,2, -999.000,9,-999.0000,9,  -999.00,9,   -999.0,9,   -999.0,9,  -999.00,9,-999.0000,-999.000,  1.3608,-999.000
      325023_1,  P14N,    14,  1,      3,      3,2,19930710,0147, 52.5045,-178.7697, 3466,   3419.3,   1.5864,  34.6623,2,  34.6609,2,   -999.0,9,     95.1,2,   224.63,2,    37.56,2,     0.00,2,     2.90,2,    0.005,2,   -0.001,2, -999.000,9,-999.0000,9,  -999.00,9,   -999.0,9,   -999.0,9,  -999.00,9,-999.0000,-999.000,  1.3265,-999.000
      325023_1,  P14N,    14,  1,      2,      2,2,19930710,0147, 52.5045,-178.7697, 3466,   3504.3,   1.5808,  34.6649,2,  34.6639,2,   -999.0,9,     96.1,2,   227.70,2,    37.45,2,     0.00,2,     2.90,2,    0.011,2,    0.009,2, -999.000,9,-999.0000,9,  -999.00,9,   -999.0,9,   -999.0,9,  -999.00,9,-999.0000,-999.000,  1.3123,-999.000
      325023_1,  P14N,    14,  1,      1,      1,2,19930710,0147, 52.5045,-178.7697, 3466,   3506.3,   1.5810,  34.6649,2,  34.6648,2,   -999.0,9,     96.3,2,   227.98,2,    37.44,2,     0.00,2,     2.90,2,    0.010,2,    0.015,2, -999.000,9,-999.0000,9,  -999.00,9,   -999.0,9,   -999.0,9,  -999.00,9,-999.0000,-999.000,  1.3123,-999.000