BOTTLE,20131125MIRCJHATS
EXPOCODE,SECT_ID,STNNBR,CASTNO,SAMPNO,BTLNBR,BTLNBR_FLAG_W,DATE,TIME,LATITUDE,LONGITUDE,DEPTH,CTDPRS,CTDTMP,CTDSAL,CTDSAL_FLAG_W,SALNTY,SALNTY_FLAG_W,CTDOXY,CTDOXY_FLAG_W,OXYGEN,OXYGEN_FLAG_W,SILCAT,SILCAT_FLAG_W,NITRAT,NITRAT_FLAG_W,NITRIT,NITRIT_FLAG_W,PHSPHT,PHSPHT_FLAG_W,CFC-11,CFC-11_FLAG_W,CFC-12,CFC-12_FLAG_W,TRITUM,TRITUM_FLAG_W,HELIUM,HELIUM_FLAG_W,DELHE3,DELHE3_FLAG_W,TCARBN,TCARBN_FLAG_W,ALKALI,ALKALI_FLAG_W,PH,PH_FLAG_W,HELIER,DELHER,THETA,TRITER
,,,,,,,,,,,,DBAR,ITS-90,PSS-78,,PSS-78,,UMOL/KG,,UMOL/KG,,UMOL/KG,,UMOL/KG,,UMOL/KG,,UMOL/KG,,PMOL/KG,,PMOL/KG,,TU,,NMOL/KG,,PERCNT,,UMOL/KG,,UMOL/KG,,25_DEG,,NMOL/KG,PERCNT,DEG C,TU
      325023_1,  P14N,    20,  1,     36,     36,2,19930711,0510, 51.1650, 179.7422, 2482,      3.4,   6.3441,  32.9265,2,  32.9289,2,   -999.0,9,    294.4,2,    37.93,2,    19.44,2,     0.23,2,     1.66,2, -999.000,5, -999.000,5, -999.000,9,-999.0000,9,  -999.00,9,   -999.0,9,   -999.0,9,  -999.00,9,-999.0000,-999.000,  6.3438,-999.000
      325023_1,  P14N,    20,  1,     35,     35,2,19930711,0510, 51.1650, 179.7422, 2482,      3.6,   6.3427,  32.9265,2,  32.9298,2,   -999.0,9,    294.3,2,    37.87,2,    19.48,2,     0.23,2,     1.68,2, -999.000,5, -999.000,5,    2.205,2,-999.0000,9,  -999.00,9,   -999.0,9,   -999.0,9,  -999.00,9,-999.0000,-999.000,  6.3424,   0.022
      325023_1,  P14N,    20,  1,     34,     34,2,19930711,0510, 51.1650, 179.7422, 2482,     35.9,   5.0732,  33.0880,2,  33.0876,2,   -999.0,9,    252.9,2,    48.41,2,    23.79,2,     0.23,2,     1.98,2, -999.000,5, -999.000,5, -999.000,9,-999.0000,9,  -999.00,9,   -999.0,9,   -999.0,9,  -999.00,9,-999.0000,-999.000,  5.0706,-999.000
      325023_1,  P14N,    20,  1,     33,     33,2,19930711,0510, 51.1650, 179.7422, 2482,     66.4,   4.7110,  33.1702,2,  33.1633,2,   -999.0,9,    209.6,2,    52.63,2,    26.49,2,     0.22,2,     2.14,2, -999.000,5, -999.000,5,    2.023,2,-999.0000,9,     4.00,2,   -999.0,9,   -999.0,9,  -999.00,9,-999.0000,   0.150,  4.7063,   0.020
      325023_1,  P14N,    20,  1,     32,     32,2,19930711,0510, 51.1650, 179.7422, 2482,     96.4,   4.4981,  33.2789,2,  33.2697,2,   -999.0,9,    204.4,2,    59.11,2,    28.31,2,     0.22,2,     2.24,2, -999.000,5, -999.000,5,    2.184,2,-999.0000,9,  -999.00,9,   -999.0,9,   -999.0,9,  -999.00,9,-999.0000,-999.000,  4.4913,   0.022
      325023_1,  P14N,    20,  1,     31,     31,2,19930711,0510, 51.1650, 179.7422, 2482,    126.8,   4.5046,  33.3245,2,  33.3237,2,   -999.0,9,    185.8,2,    62.20,2,    29.19,2,     0.23,2,     2.30,2, -999.000,5, -999.000,5, -999.000,9,-999.0000,9,  -999.00,9,   -999.0,9,   -999.0,9,  -999.00,9,-999.0000,-999.000,  4.4956,-999.000
      325023_1,  P14N,    20,  1,     30,     30,2,19930711,0510, 51.1650, 179.7422, 2482,    157.0,   4.2274,  33.3177,2,  33.3206,2,   -999.0,9,    202.2,2,    62.13,2,    29.51,2,     0.22,2,     2.31,2, -999.000,5, -999.000,5, -999.000,9,-999.0000,9,  -999.00,9,   -999.0,9,   -999.0,9,  -999.00,9,-999.0000,-999.000,  4.2166,-999.000
      325023_1,  P14N,    20,  1,     29,     29,2,19930711,0510, 51.1650, 179.7422, 2482,    207.6,   4.2581,  33.4583,2,  33.4563,2,   -999.0,9,    160.4,2,    69.74,2,    32.02,2,     0.22,2,     2.46,2, -999.000,5, -999.000,5,    2.250,2,-999.0000,9,  -999.00,9,   -999.0,9,   -999.0,9,  -999.00,9,-999.0000,-999.000,  4.2436,   0.023
      325023_1,  P14N,    20,  1,     28,     28,2,19930711,0510, 51.1650, 179.7422, 2482,    257.5,   4.0242,  33.4877,2,  33.4858,2,   -999.0,9,    168.7,2,    72.15,2,    32.81,2,     0.15,2,     2.51,2, -999.000,5, -999.000,5, -999.000,9,-999.0000,9,  -999.00,9,   -999.0,9,   -999.0,9,  -999.00,9,-999.0000,-999.000,  4.0065,-999.000
      325023_1,  P14N,    20,  1,     27,     27,2,19930711,0510, 51.1650, 179.7422, 2482,    307.8,   3.7161,  33.5679,2,  33.5633,2,   -999.0,9,    160.0,2,    78.63,2,    34.72,2,     0.07,2,     2.61,2, -999.000,5, -999.000,5,    1.938,2,-999.0000,9,     1.85,2,   -999.0,9,   -999.0,9,  -999.00,9,-999.0000,   0.150,  3.6956,   0.019
      325023_1,  P14N,    20,  1,     26,     26,2,19930711,0510, 51.1650, 179.7422, 2482,    357.7,   3.8225,  33.6670,2,  33.6642,2,   -999.0,9,    126.5,2,    83.53,2,    36.48,2,     0.03,2,     2.71,2, -999.000,5, -999.000,5, -999.000,9,-999.0000,9,  -999.00,9,   -999.0,9,   -999.0,9,  -999.00,9,-999.0000,-999.000,  3.7982,-999.000
      325023_1,  P14N,    20,  1,     25,     25,2,19930711,0510, 51.1650, 179.7422, 2482,    406.3,   3.7965,  33.7750,2,  33.7744,2,   -999.0,9,     95.3,2,    89.56,2,    38.62,2,     0.02,2,     2.84,2, -999.000,5, -999.000,5,    1.567,2,-999.0000,9,  -999.00,9,   -999.0,9,   -999.0,9,  -999.00,9,-999.0000,-999.000,  3.7688,   0.016
      325023_1,  P14N,    20,  1,     24,     24,2,19930711,0510, 51.1650, 179.7422, 2482,    454.5,   3.6520,  33.8299,2,  33.8297,2,   -999.0,9,     88.0,2,    96.52,2,    39.38,2,     0.02,2,     2.89,2, -999.000,5, -999.000,5, -999.000,9,-999.0000,9,  -999.00,9,   -999.0,9,   -999.0,9,  -999.00,9,-999.0000,-999.000,  3.6213,-999.000
      325023_1,  P14N,    20,  1,     23,     23,2,19930711,0510, 51.1650, 179.7422, 2482,    502.5,   3.6264,  33.8666,2,  33.8660,2,   -999.0,9,     79.4,2,    99.85,2,    40.02,2,     0.01,2,     2.93,2, -999.000,5, -999.000,5,    1.466,2,-999.0000,9,  -999.00,9,   -999.0,9,   -999.0,9,  -999.00,9,-999.0000,-999.000,  3.5923,   0.015
      325023_1,  P14N,    20,  1,     22,     22,2,19930711,0510, 51.1650, 179.7422, 2482,    603.4,   3.5613,  33.9968,2,  33.9941,2,   -999.0,9,     49.5,2,   108.86,2,    41.99,2,     0.00,2,     3.05,2, -999.000,5, -999.000,5,    1.184,2,-999.0000,9,    11.70,2,   -999.0,9,   -999.0,9,  -999.00,9,-999.0000,   0.150,  3.5200,   0.012
      325023_1,  P14N,    20,  1,     21,     21,2,19930711,0510, 51.1650, 179.7422, 2482,    706.7,   3.3670,  34.1120,2,  34.1091,2,   -999.0,9,     40.3,2,   120.88,2,    42.48,2,     0.00,2,     3.08,2, -999.000,5, -999.000,5,    0.727,2,-999.0000,9,  -999.00,9,   -999.0,9,   -999.0,9,  -999.00,9,-999.0000,-999.000,  3.3191,   0.008
      325023_1,  P14N,    20,  1,     20,     20,2,19930711,0510, 51.1650, 179.7422, 2482,    810.9,   3.1583,  34.1973,2,  34.1962,2,   -999.0,9,     35.0,2,   131.36,2,    42.70,2,     0.00,2,     3.09,2, -999.000,5, -999.000,5,    0.437,2,-999.0000,9,    13.00,2,   -999.0,9,   -999.0,9,  -999.00,9,-999.0000,   0.150,  3.1039,   0.008
      325023_1,  P14N,    20,  1,     19,     19,2,19930711,0510, 51.1650, 179.7422, 2482,    914.3,   3.0221,  34.2563,2,  34.2569,2,   -999.0,9,     31.2,2,   138.42,2,    42.97,2,     0.00,2,     3.11,2, -999.000,5, -999.000,5, -999.000,9,-999.0000,9,  -999.00,9,   -999.0,9,   -999.0,9,  -999.00,9,-999.0000,-999.000,  2.9609,-999.000
      325023_1,  P14N,    20,  1,     18,     18,2,19930711,0510, 51.1650, 179.7422, 2482,   1015.3,   2.8318,  34.3300,2,  34.3296,2,   -999.0,9,     28.8,2,   145.97,2,    43.11,2,     0.00,2,     3.12,2, -999.000,5, -999.000,5,    0.210,2,-999.0000,9,    14.10,2,   -999.0,9,   -999.0,9,  -999.00,9,-999.0000,   0.150,  2.7644,   0.008
      325023_1,  P14N,    20,  1,     17,     17,2,19930711,0510, 51.1650, 179.7422, 2482,   1113.4,   2.6777,  34.3829,2,  34.3821,2,   -999.0,9,     29.2,2,   151.92,2,    43.01,2,     0.00,2,     3.12,2, -999.000,5, -999.000,5,    0.136,2,-999.0000,9,  -999.00,9,   -999.0,9,   -999.0,9,  -999.00,9,-999.0000,-999.000,  2.6042,   0.008
      325023_1,  P14N,    20,  1,     16,     16,2,19930711,0510, 51.1650, 179.7422, 2482,   1210.7,   2.5032,  34.4378,2,  34.4373,2,   -999.0,9,     30.2,2,   157.20,2,    43.05,2,     0.00,2,     3.10,2, -999.000,5, -999.000,5, -999.000,9,-999.0000,9,  -999.00,9,   -999.0,9,   -999.0,9,  -999.00,9,-999.0000,-999.000,  2.4238,-999.000
      325023_1,  P14N,    20,  1,     15,     15,2,19930711,0510, 51.1650, 179.7422, 2482,   1309.7,   2.3675,  34.4774,2,  34.4771,2,   -999.0,9,     31.9,2,   161.55,2,    42.95,2,     0.00,2,     3.09,2, -999.000,5, -999.000,5,    0.113,2,-999.0000,9,  -999.00,9,   -999.0,9,   -999.0,9,  -999.00,9,-999.0000,-999.000,  2.2819,   0.008
      325023_1,  P14N,    20,  1,     14,     14,2,19930711,0510, 51.1650, 179.7422, 2482,   1410.3,   2.2745,  34.4999,2,  34.4995,2,   -999.0,9,     35.4,2,   163.80,2,    42.67,2,     0.00,2,     3.08,2, -999.000,5, -999.000,5, -999.000,9,-999.0000,9,  -999.00,9,   -999.0,9,   -999.0,9,  -999.00,9,-999.0000,-999.000,  2.1822,-999.000
      325023_1,  P14N,    20,  1,     13,     13,2,19930711,0510, 51.1650, 179.7422, 2482,   1513.9,   2.1859,  34.5203,2,  34.5214,2,   -999.0,9,     41.2,2,   166.06,2,    42.48,2,     0.00,2,     3.05,2, -999.000,5, -999.000,5,    0.124,2,-999.0000,9,  -999.00,9,   -999.0,9,   -999.0,9,  -999.00,9,-999.0000,-999.000,  2.0865,   0.008
      325023_1,  P14N,    20,  1,     12,     12,2,19930711,0510, 51.1650, 179.7422, 2482,   1616.9,   2.1021,  34.5385,2,  34.5394,2,   -999.0,9,     49.0,2,   166.90,2,    42.11,2,     0.00,2,     3.01,2, -999.000,5, -999.000,5,    0.061,2,-999.0000,9,    17.10,2,   -999.0,9,   -999.0,9,  -999.00,9,-999.0000,   0.150,  1.9956,   0.008
      325023_1,  P14N,    20,  1,     11,     11,2,19930711,0510, 51.1650, 179.7422, 2482,   1719.5,   2.0205,  34.5551,2,  34.5380,4,   -999.0,9,     55.6,2,   167.03,2,    41.51,2,     0.00,2,     2.99,2, -999.000,5, -999.000,5,    0.041,2,-999.0000,9,  -999.00,9,   -999.0,9,   -999.0,9,  -999.00,9,-999.0000,-999.000,  1.9069,   0.008
      325023_1,  P14N,    20,  1,     10,     10,2,19930711,0510, 51.1650, 179.7422, 2482,   1821.8,   1.9442,  34.5722,2,  34.5723,2,   -999.0,9,     61.3,2,   168.35,2,    41.41,2,     0.00,2,     2.96,2, -999.000,5, -999.000,5, -999.000,9,-999.0000,9,  -999.00,9,   -999.0,9,   -999.0,9,  -999.00,9,-999.0000,-999.000,  1.8234,-999.000
      325023_1,  P14N,    20,  1,      9,      9,2,19930711,0510, 51.1650, 179.7422, 2482,   1924.6,   1.8817,  34.5851,2,  34.5843,2,   -999.0,9,     67.6,2,   168.48,2,    41.04,2,     0.00,2,     2.92,2, -999.000,5, -999.000,5,    0.022,2,-999.0000,9,  -999.00,9,   -999.0,9,   -999.0,9,  -999.00,9,-999.0000,-999.000,  1.7534,   0.008
      325023_1,  P14N,    20,  1,      8,      8,2,19930711,0510, 51.1650, 179.7422, 2482,   2028.0,   1.8321,  34.5951,2,  34.5955,2,   -999.0,9,     72.9,2,   168.85,2,    40.67,2,     0.00,2,     2.90,2, -999.000,5, -999.000,5, -999.000,9,-999.0000,9,    19.90,2,   -999.0,9,   -999.0,9,  -999.00,9,-999.0000,   0.150,  1.6961,-999.000
      325023_1,  P14N,    20,  1,      7,      7,2,19930711,0510, 51.1650, 179.7422, 2482,   2131.3,   1.8093,  34.6010,2,  34.6017,2,   -999.0,9,     75.9,2,   169.22,2,    40.48,2,     0.00,2,     2.88,2, -999.000,5, -999.000,5, -999.000,9,-999.0000,9,  -999.00,9,   -999.0,9,   -999.0,9,  -999.00,9,-999.0000,-999.000,  1.6649,-999.000
      325023_1,  P14N,    20,  1,      6,      6,2,19930711,0510, 51.1650, 179.7422, 2482,   2234.5,   1.7976,  34.6045,2,  34.6062,2,   -999.0,9,     78.0,2,   170.06,2,    40.29,2,     0.00,2,     2.87,2, -999.000,5, -999.000,5,    0.004,2,-999.0000,9,    17.80,2,   -999.0,9,   -999.0,9,  -999.00,9,-999.0000,   0.150,  1.6446,   0.008
      325023_1,  P14N,    20,  1,      5,      5,2,19930711,0510, 51.1650, 179.7422, 2482,   2338.8,   1.7977,  34.6062,2,  34.6070,2,   -999.0,9,     79.0,2,   169.96,2,    40.20,2,     0.00,2,     2.87,2,   -0.001,2,    0.000,2, -999.000,9,-999.0000,9,  -999.00,9,   -999.0,9,   -999.0,9,  -999.00,9,-999.0000,-999.000,  1.6356,-999.000
      325023_1,  P14N,    20,  1,      4,      4,2,19930711,0510, 51.1650, 179.7422, 2482,   2441.8,   1.7999,  34.6073,2,  34.6078,2,   -999.0,9,     79.8,2,   169.86,2,    40.19,2,     0.00,2,     2.87,2,    0.004,2,   -0.004,2,    0.001,2,-999.0000,9,    19.00,2,   -999.0,9,   -999.0,9,  -999.00,9,-999.0000,   0.150,  1.6287,   0.008
      325023_1,  P14N,    20,  1,      3,      3,2,19930711,0510, 51.1650, 179.7422, 2482,   2544.1,   1.7392,  34.6187,2,  34.6195,2,   -999.0,9,     87.8,2,   169.05,2,    39.68,2,     0.00,2,     2.82,2, -999.000,5, -999.000,5, -999.000,9,-999.0000,9,  -999.00,9,   -999.0,9,   -999.0,9,  -999.00,9,-999.0000,-999.000,  1.5600,-999.000
      325023_1,  P14N,    20,  1,      1,      1,2,19930711,0510, 51.1650, 179.7422, 2482,   2633.4,   1.7087,  34.6243,2,  34.6268,2,   -999.0,9,     91.9,2,   168.38,2,    39.59,2,     0.00,2,     2.82,2, -999.000,5, -999.000,5, -999.000,9,-999.0000,9,  -999.00,9,   -999.0,9,   -999.0,9,  -999.00,9,-999.0000,-999.000,  1.5220,-999.000
      325023_1,  P14N,    20,  1,      2,      2,2,19930711,0510, 51.1650, 179.7422, 2482,   2633.9,   1.7091,  34.6248,2,  34.6252,2,   -999.0,9,     91.8,2,   168.72,2,    39.59,2,     0.00,2,     2.82,2,   -0.001,2,   -0.001,2, -999.000,9,-999.0000,9,  -999.00,9,   -999.0,9,   -999.0,9,  -999.00,9,-999.0000,-999.000,  1.5223,-999.000