BOTTLE,20131125MIRCJHATS
EXPOCODE,SECT_ID,STNNBR,CASTNO,SAMPNO,BTLNBR,BTLNBR_FLAG_W,DATE,TIME,LATITUDE,LONGITUDE,DEPTH,CTDPRS,CTDTMP,CTDSAL,CTDSAL_FLAG_W,SALNTY,SALNTY_FLAG_W,CTDOXY,CTDOXY_FLAG_W,OXYGEN,OXYGEN_FLAG_W,SILCAT,SILCAT_FLAG_W,NITRAT,NITRAT_FLAG_W,NITRIT,NITRIT_FLAG_W,PHSPHT,PHSPHT_FLAG_W,CFC-11,CFC-11_FLAG_W,CFC-12,CFC-12_FLAG_W,TRITUM,TRITUM_FLAG_W,HELIUM,HELIUM_FLAG_W,DELHE3,DELHE3_FLAG_W,TCARBN,TCARBN_FLAG_W,ALKALI,ALKALI_FLAG_W,PH,PH_FLAG_W,HELIER,DELHER,THETA,TRITER
,,,,,,,,,,,,DBAR,ITS-90,PSS-78,,PSS-78,,UMOL/KG,,UMOL/KG,,UMOL/KG,,UMOL/KG,,UMOL/KG,,UMOL/KG,,PMOL/KG,,PMOL/KG,,TU,,NMOL/KG,,PERCNT,,UMOL/KG,,UMOL/KG,,25_DEG,,NMOL/KG,PERCNT,DEG C,TU
      325024_1,  P14N,   178,  1,     36,     36,2,19930827,1820,-12.5052, 179.0048, 2686,      2.5,  27.4245,  34.5218,2,  34.5299,2,   -999.0,9,    199.0,2,     2.93,2,     0.01,2,     0.00,2,     0.20,2, -999.000,5, -999.000,5, -999.000,9,-999.0000,9,  -999.00,9,   -999.0,9,   -999.0,9,  -999.00,9,-999.0000,-999.000, 27.4239,-999.000
      325024_1,  P14N,   178,  1,     35,     35,2,19930827,1820,-12.5052, 179.0048, 2686,     34.4,  27.1579,  34.6767,2,  34.6852,2,   -999.0,9,    199.9,2,     2.66,2,     0.02,2,     0.00,2,     0.21,2, -999.000,5, -999.000,5, -999.000,9,-999.0000,9,  -999.00,9,   -999.0,9,   -999.0,9,  -999.00,9,-999.0000,-999.000, 27.1500,-999.000
      325024_1,  P14N,   178,  1,     34,     34,2,19930827,1820,-12.5052, 179.0048, 2686,     64.6,  27.0375,  34.9496,2,  34.9359,2,   -999.0,9,    198.6,2,     2.40,2,     0.02,2,     0.00,2,     0.21,2, -999.000,5, -999.000,5, -999.000,9,-999.0000,9,    -1.40,2,   -999.0,9,   -999.0,9,  -999.00,9,-999.0000,   0.150, 27.0227,-999.000
      325024_1,  P14N,   178,  1,     33,     33,2,19930827,1820,-12.5052, 179.0048, 2686,     94.1,  26.7632,  35.9697,2,  35.9331,2,   -999.0,9,    175.3,2,     2.53,2,     0.57,2,     0.22,2,     0.37,2, -999.000,5, -999.000,5, -999.000,9,-999.0000,9,  -999.00,9,   -999.0,9,   -999.0,9,  -999.00,9,-999.0000,-999.000, 26.7417,-999.000
      325024_1,  P14N,   178,  1,     32,     32,2,19930827,1820,-12.5052, 179.0048, 2686,    124.6,  24.6734,  36.1629,2,  36.1694,2,   -999.0,9,    151.9,2,     2.47,2,     4.02,2,     0.05,2,     0.59,2, -999.000,5, -999.000,5, -999.000,9,-999.0000,9,  -999.00,9,   -999.0,9,   -999.0,9,  -999.00,9,-999.0000,-999.000, 24.6465,-999.000
      325024_1,  P14N,   178,  1,     31,     31,2,19930827,1820,-12.5052, 179.0048, 2686,    154.3,  22.8527,  36.1013,2,  36.1104,2,   -999.0,9,    148.8,2,     2.41,2,     5.59,2,     0.02,2,     0.68,2, -999.000,5, -999.000,5, -999.000,9,-999.0000,9,  -999.00,9,   -999.0,9,   -999.0,9,  -999.00,9,-999.0000,-999.000, 22.8212,-999.000
      325024_1,  P14N,   178,  1,     30,     30,2,19930827,1820,-12.5052, 179.0048, 2686,    204.6,  19.8585,  35.7729,2,  35.7613,2,   -999.0,9,    142.3,2,     3.55,2,     8.40,2,     0.01,2,     0.86,2, -999.000,5, -999.000,5, -999.000,9,-999.0000,9,  -999.00,9,   -999.0,9,   -999.0,9,  -999.00,9,-999.0000,-999.000, 19.8206,-999.000
      325024_1,  P14N,   178,  1,     29,     29,2,19930827,1820,-12.5052, 179.0048, 2686,    254.2,  16.3342,  35.3141,2,  35.3092,2,   -999.0,9,    128.5,2,     6.89,2,    13.18,2,     0.00,2,     1.19,2, -999.000,5, -999.000,5, -999.000,9,-999.0000,9,  -999.00,9,   -999.0,9,   -999.0,9,  -999.00,9,-999.0000,-999.000, 16.2932,-999.000
      325024_1,  P14N,   178,  1,     28,     28,2,19930827,1820,-12.5052, 179.0048, 2686,    304.6,  13.8085,  35.0370,2,  35.0734,2,   -999.0,9,    115.2,2,    10.43,2,    17.66,2,     0.00,2,     1.48,2, -999.000,5, -999.000,5, -999.000,9,-999.0000,9,    -0.10,2,   -999.0,9,   -999.0,9,  -999.00,9,-999.0000,   0.150, 13.7647,-999.000
      325024_1,  P14N,   178,  1,     27,     27,2,19930827,1820,-12.5052, 179.0048, 2686,    355.3,  11.5006,  34.8245,2,  34.8339,2,   -999.0,9,    123.1,2,    14.37,2,    21.54,2,     0.01,2,     1.69,2, -999.000,5, -999.000,5, -999.000,9,-999.0000,9,  -999.00,9,   -999.0,9,   -999.0,9,  -999.00,9,-999.0000,-999.000, 11.4553,-999.000
      325024_1,  P14N,   178,  1,     26,     26,2,19930827,1820,-12.5052, 179.0048, 2686,    405.0,   9.2069,  34.6227,2,  34.6265,2,   -999.0,9,    147.1,2,    17.11,2,    24.39,2,     0.00,2,     1.81,2, -999.000,5, -999.000,5, -999.000,9,-999.0000,9,     0.10,2,   -999.0,9,   -999.0,9,  -999.00,9,-999.0000,   0.150,  9.1619,-999.000
      325024_1,  P14N,   178,  1,     25,     25,2,19930827,1820,-12.5052, 179.0048, 2686,    455.6,   8.5815,  34.5632,2,  34.5598,2,   -999.0,9,    160.3,2,    17.24,2,    24.91,2,     0.00,2,     1.83,2, -999.000,5, -999.000,5, -999.000,9,-999.0000,9,  -999.00,9,   -999.0,9,   -999.0,9,  -999.00,9,-999.0000,-999.000,  8.5330,-999.000
      325024_1,  P14N,   178,  1,     24,     24,2,19930827,1820,-12.5052, 179.0048, 2686,    505.5,   6.9858,  34.4469,2,  34.4513,2,   -999.0,9,    177.2,2,    20.37,2,    27.03,2,     0.00,2,     1.94,2, -999.000,5, -999.000,5, -999.000,9,-999.0000,9,  -999.00,9,   -999.0,9,   -999.0,9,  -999.00,9,-999.0000,-999.000,  6.9379,-999.000
      325024_1,  P14N,   178,  1,     23,     23,2,19930827,1820,-12.5052, 179.0048, 2686,    605.1,   6.0805,  34.4244,2,  34.4257,2,   -999.0,9,    173.4,2,    28.30,2,    29.38,2,     0.00,2,     2.09,2, -999.000,5, -999.000,5, -999.000,9,-999.0000,9,     3.20,2,   -999.0,9,   -999.0,9,  -999.00,9,-999.0000,   0.150,  6.0268,-999.000
      325024_1,  P14N,   178,  1,     22,     22,2,19930827,1820,-12.5052, 179.0048, 2686,    705.8,   5.2902,  34.4449,2,  34.4470,2,   -999.0,9,    157.3,2,    42.82,2,    32.36,2,     0.00,2,     2.28,2, -999.000,5, -999.000,5, -999.000,9,-999.0000,9,     8.10,2,   -999.0,9,   -999.0,9,  -999.00,9,-999.0000,   0.150,  5.2314,-999.000
      325024_1,  P14N,   178,  1,     21,     21,2,19930827,1820,-12.5052, 179.0048, 2686,    806.0,   4.6312,  34.4666,2,  34.4691,2,   -999.0,9,    150.6,2,    55.95,2,    33.95,2,     0.00,2,     2.39,2, -999.000,5, -999.000,5, -999.000,9,-999.0000,9,     8.60,2,   -999.0,9,   -999.0,9,  -999.00,9,-999.0000,   0.150,  4.5675,-999.000
      325024_1,  P14N,   178,  1,     20,     20,2,19930827,1820,-12.5052, 179.0048, 2686,    905.4,   4.2680,  34.4815,2,  34.4827,2,   -999.0,9,    148.2,2,    63.68,2,    34.52,2,     0.00,2,     2.44,2, -999.000,5, -999.000,5, -999.000,9,-999.0000,9,    13.80,2,   -999.0,9,   -999.0,9,  -999.00,9,-999.0000,   0.150,  4.1983,-999.000
      325024_1,  P14N,   178,  1,     19,     19,2,19930827,1820,-12.5052, 179.0048, 2686,   1006.3,   3.9441,  34.5118,2,  34.5136,2,   -999.0,9,    141.0,2,    74.43,2,    35.46,2,     0.00,2,     2.51,2, -999.000,5, -999.000,5, -999.000,9,-999.0000,9,    15.70,2,   -999.0,9,   -999.0,9,  -999.00,9,-999.0000,   0.150,  3.8683,-999.000
      325024_1,  P14N,   178,  1,     18,     18,2,19930827,1820,-12.5052, 179.0048, 2686,   1106.5,   3.6286,  34.5247,2,  34.5266,2,   -999.0,9,    142.9,2,    81.18,2,    35.67,2,     0.00,2,     2.51,2, -999.000,5, -999.000,5, -999.000,9,-999.0000,9,    16.00,2,   -999.0,9,   -999.0,9,  -999.00,9,-999.0000,   0.150,  3.5471,-999.000
      325024_1,  P14N,   178,  1,     17,     17,2,19930827,1820,-12.5052, 179.0048, 2686,   1207.0,   3.3752,  34.5443,2,  34.5456,2,   -999.0,9,    140.7,2,    88.54,2,    35.89,2,     0.00,2,     2.53,2, -999.000,5, -999.000,5, -999.000,9,-999.0000,9,    20.90,2,   -999.0,9,   -999.0,9,  -999.00,9,-999.0000,   0.150,  3.2877,-999.000
      325024_1,  P14N,   178,  1,     16,     16,2,19930827,1820,-12.5052, 179.0048, 2686,   1306.7,   3.1732,  34.5618,2,  34.5628,2,   -999.0,9,    138.1,2,    94.70,2,    36.38,2,     0.00,2,     2.56,2, -999.000,5, -999.000,5, -999.000,9,-999.0000,9,    19.70,2,   -999.0,9,   -999.0,9,  -999.00,9,-999.0000,   0.150,  3.0795,-999.000
      325024_1,  P14N,   178,  1,     15,     15,2,19930827,1820,-12.5052, 179.0048, 2686,   1407.1,   2.9220,  34.5743,2,  34.5761,2,   -999.0,9,    141.8,2,    99.86,2,    36.10,2,     0.00,2,     2.54,2, -999.000,5, -999.000,5, -999.000,9,-999.0000,9,    22.30,2,   -999.0,9,   -999.0,9,  -999.00,9,-999.0000,   0.150,  2.8227,-999.000
      325024_1,  P14N,   178,  1,     14,     14,2,19930827,1820,-12.5052, 179.0048, 2686,   1508.0,   2.7868,  34.5828,2,  34.5848,2,   -999.0,9,    143.4,2,   103.41,2,    36.14,2,     0.00,2,     2.53,2, -999.000,5, -999.000,5, -999.000,9,-999.0000,9,    22.90,2,   -999.0,9,   -999.0,9,  -999.00,9,-999.0000,   0.150,  2.6807,-999.000
      325024_1,  P14N,   178,  1,     13,     13,2,19930827,1820,-12.5052, 179.0048, 2686,   1608.5,   2.6424,  34.5935,2,  34.5943,2,   -999.0,9,    143.9,2,   107.78,2,    36.09,2,     0.00,2,     2.53,2, -999.000,5, -999.000,5, -999.000,9,-999.0000,9,  -999.00,9,   -999.0,9,   -999.0,9,  -999.00,9,-999.0000,-999.000,  2.5298,-999.000
      325024_1,  P14N,   178,  1,     12,     12,2,19930827,1820,-12.5052, 179.0048, 2686,   1709.5,   2.5832,  34.5994,2,  34.6012,2,   -999.0,9,    143.2,2,   109.70,2,    36.17,2,     0.00,2,     2.53,2, -999.000,5, -999.000,5, -999.000,9,-999.0000,9,    23.40,2,   -999.0,9,   -999.0,9,  -999.00,9,-999.0000,   0.150,  2.4629,-999.000
      325024_1,  P14N,   178,  1,     11,     11,3,19930827,1820,-12.5052, 179.0048, 2686,   1810.3,   2.4751,  34.6086,2,  34.7105,4,   -999.0,9,    144.5,4,    83.90,4,    31.06,4,     0.01,4,     2.22,4, -999.000,5, -999.000,5, -999.000,9,-999.0000,9,  -999.00,9,   -999.0,9,   -999.0,9,  -999.00,9,-999.0000,-999.000,  2.3478,-999.000
      325024_1,  P14N,   178,  1,     10,     10,2,19930827,1820,-12.5052, 179.0048, 2686,   1911.4,   2.3630,  34.6178,2,  34.6190,2,   -999.0,9,    143.5,2,   116.21,2,    36.29,2,     0.00,2,     2.54,2, -999.000,5, -999.000,5, -999.000,9,-999.0000,9,    23.20,2,   -999.0,9,   -999.0,9,  -999.00,9,-999.0000,   0.150,  2.2287,-999.000
      325024_1,  P14N,   178,  1,      9,      9,2,19930827,1820,-12.5052, 179.0048, 2686,   2012.1,   2.2677,  34.6254,2,  34.6269,2,   -999.0,9,    143.2,2,   119.58,2,    36.33,2,     0.00,2,     2.54,2, -999.000,5, -999.000,5, -999.000,9,-999.0000,9,    24.80,2,   -999.0,9,   -999.0,9,  -999.00,9,-999.0000,   0.150,  2.1262,-999.000
      325024_1,  P14N,   178,  1,      8,      8,2,19930827,1820,-12.5052, 179.0048, 2686,   2113.1,   2.1385,  34.6355,2,  34.6374,2,   -999.0,9,    143.3,2,   123.57,2,    36.37,2,     0.00,2,     2.54,2, -999.000,5, -999.000,5, -999.000,9,-999.0000,9,    25.50,2,   -999.0,9,   -999.0,9,  -999.00,9,-999.0000,   0.150,  1.9903,-999.000
      325024_1,  P14N,   178,  1,      7,      7,2,19930827,1820,-12.5052, 179.0048, 2686,   2213.9,   2.0747,  34.6401,2,  34.6429,2,   -999.0,9,    144.5,2,   125.09,2,    36.32,2,     0.00,2,     2.54,2, -999.000,5, -999.000,5, -999.000,9,-999.0000,9,  -999.00,9,   -999.0,9,   -999.0,9,  -999.00,9,-999.0000,-999.000,  1.9187,-999.000
      325024_1,  P14N,   178,  1,      6,      6,2,19930827,1820,-12.5052, 179.0048, 2686,   2315.0,   2.0043,  34.6461,2,  34.6472,2,   -999.0,9,    144.8,2,   127.44,2,    36.35,2,     0.00,2,     2.53,2, -999.000,5, -999.000,5, -999.000,9,-999.0000,9,    25.80,2,   -999.0,9,   -999.0,9,  -999.00,9,-999.0000,   0.150,  1.8406,-999.000
      325024_1,  P14N,   178,  1,      5,      5,2,19930827,1820,-12.5052, 179.0048, 2686,   2415.7,   1.9485,  34.6501,2,  34.6513,2,   -999.0,9,    145.0,2,   129.38,2,    36.30,2,     0.00,2,     2.53,2, -999.000,5, -999.000,5, -999.000,9,-999.0000,9,  -999.00,9,   -999.0,9,   -999.0,9,  -999.00,9,-999.0000,-999.000,  1.7768,-999.000
      325024_1,  P14N,   178,  1,      4,      4,2,19930827,1820,-12.5052, 179.0048, 2686,   2517.3,   1.8788,  34.6551,2,  34.6570,2,   -999.0,9,    146.7,2,   131.33,2,    36.30,2,     0.00,2,     2.53,2, -999.000,5, -999.000,5, -999.000,9,-999.0000,9,    24.30,2,   -999.0,9,   -999.0,9,  -999.00,9,-999.0000,   0.150,  1.6992,-999.000
      325024_1,  P14N,   178,  1,      3,      3,2,19930827,1820,-12.5052, 179.0048, 2686,   2617.7,   1.8199,  34.6596,2,  34.6609,2,   -999.0,9,    147.2,2,   133.27,2,    36.20,2,     0.00,2,     2.53,2, -999.000,5, -999.000,5, -999.000,9,-999.0000,9,  -999.00,9,   -999.0,9,   -999.0,9,  -999.00,9,-999.0000,-999.000,  1.6322,-999.000
      325024_1,  P14N,   178,  1,      1,      1,2,19930827,1820,-12.5052, 179.0048, 2686,   2787.8,   1.7648,  34.6637,2,  34.6658,2,   -999.0,9,    147.7,2,   134.89,2,    36.19,2,     0.00,2,     2.50,2, -999.000,5, -999.000,5, -999.000,9,-999.0000,9,    22.90,2,   -999.0,9,   -999.0,9,  -999.00,9,-999.0000,   0.150,  1.5625,-999.000
      325024_1,  P14N,   178,  1,      2,      2,2,19930827,1820,-12.5052, 179.0048, 2686,   2787.9,   1.7638,  34.6640,2,  34.6654,2,   -999.0,9,    147.8,2,   134.60,2,    36.15,2,     0.00,2,     2.51,2, -999.000,5, -999.000,5, -999.000,9,-999.0000,9,  -999.00,9,   -999.0,9,   -999.0,9,  -999.00,9,-999.0000,-999.000,  1.5615,-999.000