BOTTLE,20131125MIRCJHATS
EXPOCODE,SECT_ID,STNNBR,CASTNO,SAMPNO,BTLNBR,BTLNBR_FLAG_W,DATE,TIME,LATITUDE,LONGITUDE,DEPTH,CTDPRS,CTDTMP,CTDSAL,CTDSAL_FLAG_W,SALNTY,SALNTY_FLAG_W,CTDOXY,CTDOXY_FLAG_W,OXYGEN,OXYGEN_FLAG_W,SILCAT,SILCAT_FLAG_W,NITRAT,NITRAT_FLAG_W,NITRIT,NITRIT_FLAG_W,PHSPHT,PHSPHT_FLAG_W,CFC-11,CFC-11_FLAG_W,CFC-12,CFC-12_FLAG_W,TRITUM,TRITUM_FLAG_W,HELIUM,HELIUM_FLAG_W,DELHE3,DELHE3_FLAG_W,TCARBN,TCARBN_FLAG_W,ALKALI,ALKALI_FLAG_W,PH,PH_FLAG_W,HELIER,DELHER,THETA,TRITER
,,,,,,,,,,,,DBAR,ITS-90,PSS-78,,PSS-78,,UMOL/KG,,UMOL/KG,,UMOL/KG,,UMOL/KG,,UMOL/KG,,UMOL/KG,,PMOL/KG,,PMOL/KG,,TU,,NMOL/KG,,PERCNT,,UMOL/KG,,UMOL/KG,,25_DEG,,NMOL/KG,PERCNT,DEG C,TU
      325024_1,  P14N,   181,  1,     36,     36,2,19930828,0724,-13.9993, 178.9995, 1442,      2.4,  26.4853,  34.8264,2,  34.8318,2,   -999.0,9,    202.4,2,     2.03,2,     0.06,2,     0.00,2,     0.19,2,    1.730,2,    0.943,2, -999.000,9,-999.0000,9,  -999.00,9,   -999.0,9,   -999.0,9,  -999.00,9,-999.0000,-999.000, 26.4848,-999.000
      325024_1,  P14N,   181,  1,     35,     35,2,19930828,0724,-13.9993, 178.9995, 1442,     29.6,  26.4792,  34.8358,2,  34.8558,2,   -999.0,9,    202.5,2,     1.81,2,     0.06,2,     0.00,2,     0.19,2,    1.898,2,    1.016,2, -999.000,9,-999.0000,9,  -999.00,9,   -999.0,9,   -999.0,9,  -999.00,9,-999.0000,-999.000, 26.4725,-999.000
      325024_1,  P14N,   181,  1,     34,     34,2,19930828,0724,-13.9993, 178.9995, 1442,     60.3,  26.3104,  35.0780,2,  35.0739,2,   -999.0,9,    202.2,2,     1.59,2,     0.03,2,     0.00,2,     0.19,2,    1.721,2,    0.934,2, -999.000,9,-999.0000,9,  -999.00,9,   -999.0,9,   -999.0,9,  -999.00,9,-999.0000,-999.000, 26.2968,-999.000
      325024_1,  P14N,   181,  1,     33,     33,2,19930828,0724,-13.9993, 178.9995, 1442,     80.4,  26.3959,  35.1796,2,  35.1934,2,   -999.0,9,    199.9,2,     1.37,2,     0.03,2,     0.00,2,     0.19,2,    1.702,2,    0.929,2, -999.000,9,-999.0000,9,  -999.00,9,   -999.0,9,   -999.0,9,  -999.00,9,-999.0000,-999.000, 26.3777,-999.000
      325024_1,  P14N,   181,  1,     32,     32,2,19930828,0724,-13.9993, 178.9995, 1442,    100.3,  26.4146,  35.2979,2,  35.3289,4,   -999.0,9,    198.1,2,     1.35,2,     0.07,2,     0.00,2,     0.20,2,    1.677,2,    0.913,2, -999.000,9,-999.0000,9,  -999.00,9,   -999.0,9,   -999.0,9,  -999.00,9,-999.0000,-999.000, 26.3919,-999.000
      325024_1,  P14N,   181,  1,     31,     31,2,19930828,0724,-13.9993, 178.9995, 1442,    120.3,  26.2270,  36.0228,2,  36.0592,2,   -999.0,9,    171.3,2,     1.33,2,     1.33,2,     0.22,2,     0.38,2,    1.709,2,    0.913,2, -999.000,9,-999.0000,9,  -999.00,9,   -999.0,9,   -999.0,9,  -999.00,9,-999.0000,-999.000, 26.1999,-999.000
      325024_1,  P14N,   181,  1,     30,     30,2,19930828,0724,-13.9993, 178.9995, 1442,    140.6,  25.0998,  36.1029,2,  36.0955,2,   -999.0,9,    166.5,2,     1.31,2,     2.38,2,     0.08,2,     0.43,2,    1.740,6,    0.911,6, -999.000,9,-999.0000,9,  -999.00,9,   -999.0,9,   -999.0,9,  -999.00,9,-999.0000,-999.000, 25.0691,-999.000
      325024_1,  P14N,   181,  1,     29,     29,2,19930828,0724,-13.9993, 178.9995, 1442,    159.3,  23.3761,  35.9517,2,  35.9581,2,   -999.0,9,    168.5,2,     1.29,2,     2.43,2,     0.03,2,     0.39,2,    1.778,2,    0.938,2, -999.000,9,-999.0000,9,  -999.00,9,   -999.0,9,   -999.0,9,  -999.00,9,-999.0000,-999.000, 23.3431,-999.000
      325024_1,  P14N,   181,  1,     28,     28,2,19930828,0724,-13.9993, 178.9995, 1442,    180.7,  22.3640,  35.9900,2,  35.9937,2,   -999.0,9,    157.8,2,     1.07,2,     4.78,2,     0.01,2,     0.55,2,    1.753,2,    0.889,2, -999.000,9,-999.0000,9,  -999.00,9,   -999.0,9,   -999.0,9,  -999.00,9,-999.0000,-999.000, 22.3277,-999.000
      325024_1,  P14N,   181,  1,     24,     24,2,19930828,0724,-13.9993, 178.9995, 1442,    200.2,  21.6032,  35.9483,2,  35.9510,2,   -999.0,9,    155.9,2,     0.99,2,     5.49,2,     0.01,2,     0.61,2, -999.000,5, -999.000,5, -999.000,9,-999.0000,9,  -999.00,9,   -999.0,9,   -999.0,9,  -999.00,9,-999.0000,-999.000, 21.5639,-999.000
      325024_1,  P14N,   181,  1,     23,     23,2,19930828,0724,-13.9993, 178.9995, 1442,    200.4,  21.5553,  35.9480,2,  35.9502,2,   -999.0,9,    155.3,2,     0.97,2,     5.61,2,     0.01,2,     0.62,2, -999.000,5, -999.000,5, -999.000,9,-999.0000,9,  -999.00,9,   -999.0,9,   -999.0,9,  -999.00,9,-999.0000,-999.000, 21.5160,-999.000
      325024_1,  P14N,   181,  1,     25,     25,2,19930828,0724,-13.9993, 178.9995, 1442,    200.7,  21.6028,  35.9493,2,  35.9522,2,   -999.0,9,    156.2,2,     1.01,2,     5.40,2,     0.01,2,     0.60,2, -999.000,5, -999.000,5, -999.000,9,-999.0000,9,  -999.00,9,   -999.0,9,   -999.0,9,  -999.00,9,-999.0000,-999.000, 21.5634,-999.000
      325024_1,  P14N,   181,  1,     26,     26,2,19930828,0724,-13.9993, 178.9995, 1442,    201.0,  21.6036,  35.9485,2,  35.9530,2,   -999.0,9,    156.4,2,     1.03,2,     5.36,2,     0.01,2,     0.59,2, -999.000,5, -999.000,5, -999.000,9,-999.0000,9,  -999.00,9,   -999.0,9,   -999.0,9,  -999.00,9,-999.0000,-999.000, 21.5642,-999.000
      325024_1,  P14N,   181,  1,     27,     27,2,19930828,0724,-13.9993, 178.9995, 1442,    201.0,  21.5985,  35.9482,2,  35.9522,2,   -999.0,9,    156.4,2,     1.25,2,     5.36,2,     0.01,2,     0.59,2,    1.719,2,    0.907,2, -999.000,9,-999.0000,9,  -999.00,9,   -999.0,9,   -999.0,9,  -999.00,9,-999.0000,-999.000, 21.5591,-999.000
      325024_1,  P14N,   181,  1,     22,     22,2,19930828,0724,-13.9993, 178.9995, 1442,    249.9,  18.5704,  35.6047,2,  35.5836,2,   -999.0,9,    149.9,2,     2.54,2,     8.97,2,     0.00,2,     0.86,2,    1.510,2,    0.788,2, -999.000,9,-999.0000,9,  -999.00,9,   -999.0,9,   -999.0,9,  -999.00,9,-999.0000,-999.000, 18.5263,-999.000
      325024_1,  P14N,   181,  1,     21,     21,2,19930828,0724,-13.9993, 178.9995, 1442,    300.5,  16.0618,  35.2834,2,  35.2779,2,   -999.0,9,    136.4,2,     5.30,2,    12.87,2,     0.00,2,     1.12,2, -999.000,5, -999.000,5, -999.000,9,-999.0000,9,  -999.00,9,   -999.0,9,   -999.0,9,  -999.00,9,-999.0000,-999.000, 16.0139,-999.000
      325024_1,  P14N,   181,  1,     20,     20,2,19930828,0724,-13.9993, 178.9995, 1442,    350.8,  14.0067,  35.0777,2,  35.0205,4,   -999.0,9,    128.4,2,     9.06,2,    17.25,2,     0.00,2,     1.39,2, -999.000,5, -999.000,5, -999.000,9,-999.0000,9,  -999.00,9,   -999.0,9,   -999.0,9,  -999.00,9,-999.0000,-999.000, 13.9557,-999.000
      325024_1,  P14N,   181,  1,     19,     19,2,19930828,0724,-13.9993, 178.9995, 1442,    401.2,  12.1599,  34.8743,2,  34.8629,2,   -999.0,9,    129.1,2,    11.62,2,    20.12,2,     0.00,2,     1.56,2,    0.654,2,    0.335,2, -999.000,9,-999.0000,9,  -999.00,9,   -999.0,9,   -999.0,9,  -999.00,9,-999.0000,-999.000, 12.1067,-999.000
      325024_1,  P14N,   181,  1,     18,     18,2,19930828,0724,-13.9993, 178.9995, 1442,    451.2,  10.4500,  34.7170,2,  34.7074,2,   -999.0,9,    146.3,2,    13.19,2,    21.84,2,     0.00,2,     1.64,2, -999.000,5, -999.000,5, -999.000,9,-999.0000,9,  -999.00,9,   -999.0,9,   -999.0,9,  -999.00,9,-999.0000,-999.000, 10.3957,-999.000
      325024_1,  P14N,   181,  1,     17,     17,2,19930828,0724,-13.9993, 178.9995, 1442,    507.7,   8.4850,  34.5445,2,  34.5414,2,   -999.0,9,    177.2,2,    12.77,2,    23.24,2,     0.00,2,     1.68,2,    0.513,2,    0.263,2, -999.000,9,-999.0000,9,  -999.00,9,   -999.0,9,   -999.0,9,  -999.00,9,-999.0000,-999.000,  8.4311,-999.000
      325024_1,  P14N,   181,  1,     16,     16,2,19930828,0724,-13.9993, 178.9995, 1442,    557.6,   6.7149,  34.3997,2,  34.3995,2,   -999.0,9,    199.3,2,    14.73,2,    25.68,2,     0.00,2,     1.81,2, -999.000,5, -999.000,5, -999.000,9,-999.0000,9,  -999.00,9,   -999.0,9,   -999.0,9,  -999.00,9,-999.0000,-999.000,  6.6630,-999.000
      325024_1,  P14N,   181,  1,     15,     15,2,19930828,0724,-13.9993, 178.9995, 1442,    608.5,   5.9487,  34.3807,2,  34.3807,2,   -999.0,9,    189.5,2,    22.06,2,    28.41,2,     0.00,2,     1.99,2,    0.160,2,    0.085,2, -999.000,9,-999.0000,9,  -999.00,9,   -999.0,9,   -999.0,9,  -999.00,9,-999.0000,-999.000,  5.8955,-999.000
      325024_1,  P14N,   181,  1,     14,     14,2,19930828,0724,-13.9993, 178.9995, 1442,    658.7,   5.4688,  34.3898,2,  34.4042,3,   -999.0,9,    178.2,2,    30.37,2,    30.16,2,     0.00,2,     2.12,2, -999.000,5, -999.000,5, -999.000,9,-999.0000,9,  -999.00,9,   -999.0,9,   -999.0,9,  -999.00,9,-999.0000,-999.000,  5.4133,-999.000
      325024_1,  P14N,   181,  1,     13,     13,2,19930828,0724,-13.9993, 178.9995, 1442,    708.8,   5.2933,  34.4022,2,  34.4040,2,   -999.0,9,    171.3,2,    35.11,2,    31.12,2,     0.00,2,     2.18,2, -999.000,5, -999.000,5, -999.000,9,-999.0000,9,  -999.00,9,   -999.0,9,   -999.0,9,  -999.00,9,-999.0000,-999.000,  5.2343,-999.000
      325024_1,  P14N,   181,  1,     12,     12,2,19930828,0724,-13.9993, 178.9995, 1442,    759.8,   4.8796,  34.4040,2,  34.4055,2,   -999.0,9,    169.1,2,    41.04,2,    32.04,2,     0.00,2,     2.24,2, -999.000,5, -999.000,5, -999.000,9,-999.0000,9,  -999.00,9,   -999.0,9,   -999.0,9,  -999.00,9,-999.0000,-999.000,  4.8185,-999.000
      325024_1,  P14N,   181,  1,     11,     11,2,19930828,0724,-13.9993, 178.9995, 1442,    809.7,   4.5660,  34.4274,2,  34.4288,2,   -999.0,9,    163.4,2,    48.96,2,    32.79,2,     0.00,2,     2.30,2,    0.018,2,    0.015,2, -999.000,9,-999.0000,9,  -999.00,9,   -999.0,9,   -999.0,9,  -999.00,9,-999.0000,-999.000,  4.5025,-999.000
      325024_1,  P14N,   181,  1,     10,     10,2,19930828,0724,-13.9993, 178.9995, 1442,    860.6,   4.3621,  34.4365,2,  34.4379,2,   -999.0,9,    161.9,2,    53.10,2,    33.25,2,     0.00,2,     2.33,2, -999.000,5, -999.000,5, -999.000,9,-999.0000,9,  -999.00,9,   -999.0,9,   -999.0,9,  -999.00,9,-999.0000,-999.000,  4.2956,-999.000
      325024_1,  P14N,   181,  1,      9,      9,2,19930828,0724,-13.9993, 178.9995, 1442,    910.8,   4.1403,  34.4525,2,  34.4529,2,   -999.0,9,    159.1,2,    58.64,2,    33.67,2,     0.00,2,     2.36,2, -999.000,5, -999.000,5, -999.000,9,-999.0000,9,  -999.00,9,   -999.0,9,   -999.0,9,  -999.00,9,-999.0000,-999.000,  4.0711,-999.000
      325024_1,  P14N,   181,  1,      8,      8,2,19930828,0724,-13.9993, 178.9995, 1442,    960.7,   3.9663,  34.4923,2,  34.4923,2,   -999.0,9,    149.6,2,    68.56,2,    34.43,2,     0.00,2,     2.42,2, -999.000,5, -999.000,5, -999.000,9,-999.0000,9,  -999.00,9,   -999.0,9,   -999.0,9,  -999.00,9,-999.0000,-999.000,  3.8942,-999.000
      325024_1,  P14N,   181,  1,      7,      7,2,19930828,0724,-13.9993, 178.9995, 1442,   1011.8,   3.8850,  34.5133,2,  34.5131,2,   -999.0,9,    143.8,2,    74.30,2,    34.81,2,     0.00,2,     2.46,2,    0.002,2,    0.002,2, -999.000,9,-999.0000,9,  -999.00,9,   -999.0,9,   -999.0,9,  -999.00,9,-999.0000,-999.000,  3.8093,-999.000
      325024_1,  P14N,   181,  1,      6,      6,2,19930828,0724,-13.9993, 178.9995, 1442,   1112.4,   3.5984,  34.5254,2,  34.5251,2,   -999.0,9,    144.1,2,    80.66,2,    35.02,2,     0.00,2,     2.47,2, -999.000,5, -999.000,5, -999.000,9,-999.0000,9,  -999.00,9,   -999.0,9,   -999.0,9,  -999.00,9,-999.0000,-999.000,  3.5167,-999.000
      325024_1,  P14N,   181,  1,      5,      5,2,19930828,0724,-13.9993, 178.9995, 1442,   1214.0,   3.3290,  34.5417,2,  34.5419,2,   -999.0,9,    143.9,2,    87.42,2,    35.35,2,     0.00,2,     2.49,2, -999.000,5, -999.000,5, -999.000,9,-999.0000,9,  -999.00,9,   -999.0,9,   -999.0,9,  -999.00,9,-999.0000,-999.000,  3.2414,-999.000
      325024_1,  P14N,   181,  1,      4,      4,2,19930828,0724,-13.9993, 178.9995, 1442,   1314.9,   3.0339,  34.5645,2,  34.5635,2,   -999.0,9,    143.2,2,    96.02,2,    35.52,2,     0.00,2,     2.48,2, -999.000,5, -999.000,5, -999.000,9,-999.0000,9,  -999.00,9,   -999.0,9,   -999.0,9,  -999.00,9,-999.0000,-999.000,  2.9409,-999.000
      325024_1,  P14N,   181,  1,      3,      3,2,19930828,0724,-13.9993, 178.9995, 1442,   1415.3,   2.8503,  34.5792,2,  34.5782,2,   -999.0,9,    143.2,2,   101.41,2,    35.68,2,     0.00,2,     2.51,2, -999.000,5, -999.000,5, -999.000,9,-999.0000,9,  -999.00,9,   -999.0,9,   -999.0,9,  -999.00,9,-999.0000,-999.000,  2.7511,-999.000
      325024_1,  P14N,   181,  1,      1,      1,2,19930828,0724,-13.9993, 178.9995, 1442,   1464.2,   2.7986,  34.5841,2,  34.5826,2,   -999.0,9,    143.0,2,   103.53,2,    35.71,2,     0.00,2,     2.51,2, -999.000,5, -999.000,5, -999.000,9,-999.0000,9,  -999.00,9,   -999.0,9,   -999.0,9,  -999.00,9,-999.0000,-999.000,  2.6959,-999.000
      325024_1,  P14N,   181,  1,      2,      2,2,19930828,0724,-13.9993, 178.9995, 1442,   1464.4,   2.7965,  34.5843,2,  34.5842,2,   -999.0,9,    142.9,2,   103.79,2,    35.67,2,     0.00,2,     2.51,2,    0.001,2,    0.001,2, -999.000,9,-999.0000,9,  -999.00,9,   -999.0,9,   -999.0,9,  -999.00,9,-999.0000,-999.000,  2.6939,-999.000