BOTTLE,20131125MIRCJHATS
EXPOCODE,SECT_ID,STNNBR,CASTNO,SAMPNO,BTLNBR,BTLNBR_FLAG_W,DATE,TIME,LATITUDE,LONGITUDE,DEPTH,CTDPRS,CTDTMP,CTDSAL,CTDSAL_FLAG_W,SALNTY,SALNTY_FLAG_W,CTDOXY,CTDOXY_FLAG_W,OXYGEN,OXYGEN_FLAG_W,SILCAT,SILCAT_FLAG_W,NITRAT,NITRAT_FLAG_W,NITRIT,NITRIT_FLAG_W,PHSPHT,PHSPHT_FLAG_W,CFC-11,CFC-11_FLAG_W,CFC-12,CFC-12_FLAG_W,TRITUM,TRITUM_FLAG_W,HELIUM,HELIUM_FLAG_W,DELHE3,DELHE3_FLAG_W,TCARBN,TCARBN_FLAG_W,ALKALI,ALKALI_FLAG_W,PH,PH_FLAG_W,HELIER,DELHER,THETA,TRITER
,,,,,,,,,,,,DBAR,ITS-90,PSS-78,,PSS-78,,UMOL/KG,,UMOL/KG,,UMOL/KG,,UMOL/KG,,UMOL/KG,,UMOL/KG,,PMOL/KG,,PMOL/KG,,TU,,NMOL/KG,,PERCNT,,UMOL/KG,,UMOL/KG,,25_DEG,,NMOL/KG,PERCNT,DEG C,TU
      325024_1,  P14N,   166,  1,     36,     36,2,19930824,0631, -6.4975, 178.9972, 5358,      2.1,  29.7272,  34.2208,2,  34.2289,2,   -999.0,9,    195.0,2,     2.22,2,     0.03,2,     0.00,2,     0.17,2,    1.573,2,    0.851,2, -999.000,9,-999.0000,9,  -999.00,9,   -999.0,9,   -999.0,9,  -999.00,9,-999.0000,-999.000, 29.7267,-999.000
      325024_1,  P14N,   166,  1,     35,     35,2,19930824,0631, -6.4975, 178.9972, 5358,     30.7,  29.6724,  34.3110,2,  34.3208,2,   -999.0,9,    195.1,2,     1.96,2,     0.03,2,     0.00,2,     0.17,2, -999.000,5, -999.000,5, -999.000,9,-999.0000,9,  -999.00,9,   -999.0,9,   -999.0,9,  -999.00,9,-999.0000,-999.000, 29.6648,-999.000
      325024_1,  P14N,   166,  1,     34,     34,2,19930824,0631, -6.4975, 178.9972, 5358,     60.9,  29.7489,  35.0431,2,  35.1626,2,   -999.0,9,    200.2,2,     1.90,2,     0.10,2,     0.02,2,     0.26,2, -999.000,5, -999.000,5, -999.000,9,-999.0000,9,  -999.00,9,   -999.0,9,   -999.0,9,  -999.00,9,-999.0000,-999.000, 29.7339,-999.000
      325024_1,  P14N,   166,  1,     33,     33,2,19930824,0631, -6.4975, 178.9972, 5358,     90.6,  28.3035,  35.5742,2,  35.5840,2,   -999.0,9,    173.9,2,     1.64,2,     2.39,2,     0.78,2,     0.47,2,    1.644,2,    0.892,2, -999.000,9,-999.0000,9,  -999.00,9,   -999.0,9,   -999.0,9,  -999.00,9,-999.0000,-999.000, 28.2820,-999.000
      325024_1,  P14N,   166,  1,     32,     32,2,19930824,0631, -6.4975, 178.9972, 5358,    119.8,  26.4547,  35.8506,2,  35.8694,2,   -999.0,9,    147.5,2,     1.77,2,     5.89,2,     1.04,2,     0.73,2, -999.000,5, -999.000,5, -999.000,9,-999.0000,9,  -999.00,9,   -999.0,9,   -999.0,9,  -999.00,9,-999.0000,-999.000, 26.4276,-999.000
      325024_1,  P14N,   166,  1,     31,     31,2,19930824,0631, -6.4975, 178.9972, 5358,    150.6,  22.4195,  35.9218,2,  35.9264,2,   -999.0,9,    135.5,2,     2.48,2,     8.88,2,     0.18,2,     0.86,2, -999.000,5, -999.000,5, -999.000,9,-999.0000,9,  -999.00,9,   -999.0,9,   -999.0,9,  -999.00,9,-999.0000,-999.000, 22.3891,-999.000
      325024_1,  P14N,   166,  1,     30,     30,2,19930824,0631, -6.4975, 178.9972, 5358,    202.9,  17.4481,  35.4723,2,  35.4731,2,   -999.0,9,    113.6,2,     6.50,2,    14.25,2,     0.01,2,     1.20,2,    1.323,2,    0.676,2, -999.000,9,-999.0000,9,  -999.00,9,   -999.0,9,   -999.0,9,  -999.00,9,-999.0000,-999.000, 17.4139,-999.000
      325024_1,  P14N,   166,  1,     29,     29,2,19930824,0631, -6.4975, 178.9972, 5358,    252.4,  13.9018,  35.0943,2,  35.0802,2,   -999.0,9,     92.8,2,    13.24,2,    21.09,2,     0.01,2,     1.62,2, -999.000,5, -999.000,5, -999.000,9,-999.0000,9,  -999.00,9,   -999.0,9,   -999.0,9,  -999.00,9,-999.0000,-999.000, 13.8654,-999.000
      325024_1,  P14N,   166,  1,     28,     28,2,19930824,0631, -6.4975, 178.9972, 5358,    301.8,  11.5648,  34.8730,2,  34.8717,2,   -999.0,9,    101.5,2,    17.85,2,    24.68,2,     0.00,2,     1.78,2, -999.000,5, -999.000,5, -999.000,9,-999.0000,9,  -999.00,9,   -999.0,9,   -999.0,9,  -999.00,9,-999.0000,-999.000, 11.5263,-999.000
      325024_1,  P14N,   166,  1,     27,     27,2,19930824,0631, -6.4975, 178.9972, 5358,    401.8,   9.3704,  34.6976,2,  34.6952,2,   -999.0,9,    101.7,2,    25.75,2,    28.98,2,     0.00,2,     2.04,2,    0.196,2,    0.103,2, -999.000,9,-999.0000,9,  -999.00,9,   -999.0,9,   -999.0,9,  -999.00,9,-999.0000,-999.000,  9.3253,-999.000
      325024_1,  P14N,   166,  1,     26,     26,2,19930824,0631, -6.4975, 178.9972, 5358,    501.8,   7.9358,  34.6105,2,  34.6103,2,   -999.0,9,     92.2,2,    34.05,2,    33.03,2,     0.00,2,     2.29,2, -999.000,5, -999.000,5, -999.000,9,-999.0000,9,  -999.00,9,   -999.0,9,   -999.0,9,  -999.00,9,-999.0000,-999.000,  7.8846,-999.000
      325024_1,  P14N,   166,  1,     25,     25,2,19930824,0631, -6.4975, 178.9972, 5358,    606.8,   6.7896,  34.5482,2,  34.5473,2,   -999.0,9,    118.0,2,    39.81,2,    32.90,2,     0.00,2,     2.27,2, -999.000,5, -999.000,5, -999.000,9,-999.0000,9,  -999.00,9,   -999.0,9,   -999.0,9,  -999.00,9,-999.0000,-999.000,  6.7324,-999.000
      325024_1,  P14N,   166,  1,     24,     24,2,19930824,0631, -6.4975, 178.9972, 5358,    706.5,   5.8572,  34.5222,2,  34.5238,2,   -999.0,9,    116.4,2,    49.86,2,    34.88,2,     0.00,2,     2.40,2,    0.021,2,    0.007,2, -999.000,9,-999.0000,9,  -999.00,9,   -999.0,9,   -999.0,9,  -999.00,9,-999.0000,-999.000,  5.7952,-999.000
      325024_1,  P14N,   166,  1,     23,     23,2,19930824,0631, -6.4975, 178.9972, 5358,    807.1,   5.3280,  34.5342,2,  34.5346,2,   -999.0,9,     88.8,2,    63.43,2,    38.75,2,     0.00,2,     2.68,2, -999.000,5, -999.000,5, -999.000,9,-999.0000,9,  -999.00,9,   -999.0,9,   -999.0,9,  -999.00,9,-999.0000,-999.000,  5.2598,-999.000
      325024_1,  P14N,   166,  1,     22,     22,2,19930824,0631, -6.4975, 178.9972, 5358,    907.0,   4.8556,  34.5273,2,  34.5283,2,   -999.0,9,    107.4,2,    68.63,2,    37.37,2,     0.00,2,     2.61,2, -999.000,5, -999.000,5, -999.000,9,-999.0000,9,  -999.00,9,   -999.0,9,   -999.0,9,  -999.00,9,-999.0000,-999.000,  4.7816,-999.000
      325024_1,  P14N,   166,  1,     21,     21,2,19930824,0631, -6.4975, 178.9972, 5358,   1007.1,   4.4595,  34.5392,2,  34.5409,2,   -999.0,9,    103.0,2,    78.53,2,    38.23,2,     0.00,2,     2.67,2,    0.001,2,    0.000,2, -999.000,9,-999.0000,9,  -999.00,9,   -999.0,9,   -999.0,9,  -999.00,9,-999.0000,-999.000,  4.3796,-999.000
      325024_1,  P14N,   166,  1,     20,     20,2,19930824,0631, -6.4975, 178.9972, 5358,   1107.3,   4.0331,  34.5538,2,  34.5534,2,   -999.0,9,    103.1,2,    88.46,2,    38.27,2,     0.01,2,     2.67,2, -999.000,5, -999.000,5, -999.000,9,-999.0000,9,  -999.00,9,   -999.0,9,   -999.0,9,  -999.00,9,-999.0000,-999.000,  3.9480,-999.000
      325024_1,  P14N,   166,  1,     19,     19,2,19930824,0631, -6.4975, 178.9972, 5358,   1212.6,   3.7599,  34.5599,2,  34.5599,2,   -999.0,9,    111.9,2,    92.71,2,    37.84,2,     0.00,2,     2.64,2, -999.000,5, -999.000,5, -999.000,9,-999.0000,9,  -999.00,9,   -999.0,9,   -999.0,9,  -999.00,9,-999.0000,-999.000,  3.6684,-999.000
      325024_1,  P14N,   166,  1,     18,     18,2,19930824,0631, -6.4975, 178.9972, 5358,   1413.5,   3.1906,  34.5848,2,  34.5848,2,   -999.0,9,    113.2,2,   106.87,2,    37.98,2,     0.00,2,     2.67,2, -999.000,5, -999.000,5, -999.000,9,-999.0000,9,  -999.00,9,   -999.0,9,   -999.0,9,  -999.00,9,-999.0000,-999.000,  3.0878,-999.000
      325024_1,  P14N,   166,  1,     17,     17,2,19930824,0631, -6.4975, 178.9972, 5358,   1615.2,   2.7613,  34.6085,2,  34.6077,2,   -999.0,9,    113.9,2,   118.95,2,    38.21,2,     0.00,2,     2.67,2, -999.000,5, -999.000,5, -999.000,9,-999.0000,9,  -999.00,9,   -999.0,9,   -999.0,9,  -999.00,9,-999.0000,-999.000,  2.6466,-999.000
      325024_1,  P14N,   166,  1,     16,     16,2,19930824,0631, -6.4975, 178.9972, 5358,   1819.6,   2.4780,  34.6217,2,  34.6223,2,   -999.0,9,    121.4,2,   124.08,2,    37.58,2,     0.01,2,     2.60,2, -999.000,5, -999.000,5, -999.000,9,-999.0000,9,  -999.00,9,   -999.0,9,   -999.0,9,  -999.00,9,-999.0000,-999.000,  2.3498,-999.000
      325024_1,  P14N,   166,  1,     15,     15,2,19930824,0631, -6.4975, 178.9972, 5358,   2021.9,   2.2686,  34.6330,2,  34.6336,2,   -999.0,9,    127.1,2,   128.01,2,    37.28,2,     0.01,2,     2.60,2, -999.000,5, -999.000,5, -999.000,9,-999.0000,9,  -999.00,9,   -999.0,9,   -999.0,9,  -999.00,9,-999.0000,-999.000,  2.1262,-999.000
      325024_1,  P14N,   166,  1,     14,     14,2,19930824,0631, -6.4975, 178.9972, 5358,   2225.8,   2.0473,  34.6471,2,  34.6480,2,   -999.0,9,    131.1,2,   133.59,2,    37.02,2,     0.00,2,     2.56,2, -999.000,5, -999.000,5, -999.000,9,-999.0000,9,  -999.00,9,   -999.0,9,   -999.0,9,  -999.00,9,-999.0000,-999.000,  1.8907,-999.000
      325024_1,  P14N,   166,  1,     13,     13,2,19930824,0631, -6.4975, 178.9972, 5358,   2427.9,   1.9029,  34.6570,2,  34.6580,2,   -999.0,9,    134.7,2,   137.35,2,    36.85,2,     0.00,2,     2.54,2, -999.000,5, -999.000,5, -999.000,9,-999.0000,9,  -999.00,9,   -999.0,9,   -999.0,9,  -999.00,9,-999.0000,-999.000,  1.7309,-999.000
      325024_1,  P14N,   166,  1,     12,     12,2,19930824,0631, -6.4975, 178.9972, 5358,   2630.8,   1.8193,  34.6632,2,  34.6640,2,   -999.0,9,    138.0,2,   138.67,2,    36.59,2,     0.00,2,     2.54,2, -999.000,5, -999.000,5, -999.000,9,-999.0000,9,  -999.00,9,   -999.0,9,   -999.0,9,  -999.00,9,-999.0000,-999.000,  1.6304,-999.000
      325024_1,  P14N,   166,  1,     11,     11,2,19930824,0631, -6.4975, 178.9972, 5358,   2838.3,   1.7355,  34.6680,2,  34.6686,2,   -999.0,9,    142.0,2,   140.61,2,    36.47,2,     0.00,2,     2.49,2, -999.000,5, -999.000,5, -999.000,9,-999.0000,9,  -999.00,9,   -999.0,9,   -999.0,9,  -999.00,9,-999.0000,-999.000,  1.5290,-999.000
      325024_1,  P14N,   166,  1,     10,     10,2,19930824,0631, -6.4975, 178.9972, 5358,   3041.4,   1.6625,  34.6728,2,  34.6737,2,   -999.0,9,    146.0,2,   140.71,2,    36.21,2,     0.00,2,     2.49,2, -999.000,5, -999.000,5, -999.000,9,-999.0000,9,  -999.00,9,   -999.0,9,   -999.0,9,  -999.00,9,-999.0000,-999.000,  1.4381,-999.000
      325024_1,  P14N,   166,  1,      9,      9,2,19930824,0631, -6.4975, 178.9972, 5358,   3345.5,   1.5835,  34.6782,2,  34.6790,2,   -999.0,9,    151.8,2,   140.81,2,    35.99,2,     0.00,2,     2.47,2, -999.000,5, -999.000,5, -999.000,9,-999.0000,9,  -999.00,9,   -999.0,9,   -999.0,9,  -999.00,9,-999.0000,-999.000,  1.3310,-999.000
      325024_1,  P14N,   166,  1,      8,      8,2,19930824,0631, -6.4975, 178.9972, 5358,   3651.1,   1.5168,  34.6825,2,  34.6835,2,   -999.0,9,    156.2,2,   140.91,2,    35.78,2,     0.00,2,     2.44,2, -999.000,5, -999.000,5, -999.000,9,-999.0000,9,  -999.00,9,   -999.0,9,   -999.0,9,  -999.00,9,-999.0000,-999.000,  1.2346,-999.000
      325024_1,  P14N,   166,  1,      7,      7,2,19930824,0631, -6.4975, 178.9972, 5358,   3961.7,   1.4121,  34.6913,2,  34.6923,2,   -999.0,9,    174.8,2,   134.49,2,    34.42,2,     0.00,2,     2.34,2, -999.000,5, -999.000,5, -999.000,9,-999.0000,9,  -999.00,9,   -999.0,9,   -999.0,9,  -999.00,9,-999.0000,-999.000,  1.0997,-999.000
      325024_1,  P14N,   166,  1,      6,      6,2,19930824,0631, -6.4975, 178.9972, 5358,   4266.5,   1.2812,  34.7002,2,  34.7005,2,   -999.0,9,    190.9,2,   127.31,2,    33.20,2,     0.00,2,     2.26,2, -999.000,5, -999.000,5, -999.000,9,-999.0000,9,  -999.00,9,   -999.0,9,   -999.0,9,  -999.00,9,-999.0000,-999.000,  0.9392,-999.000
      325024_1,  P14N,   166,  1,      5,      5,2,19930824,0631, -6.4975, 178.9972, 5358,   4575.7,   1.2315,  34.7031,2,  34.7039,2,   -999.0,9,    193.7,2,   124.79,2,    32.64,2,     0.00,2,     2.24,2, -999.000,5, -999.000,5, -999.000,9,-999.0000,9,  -999.00,9,   -999.0,9,   -999.0,9,  -999.00,9,-999.0000,-999.000,  0.8561,-999.000
      325024_1,  P14N,   166,  1,      4,      4,2,19930824,0631, -6.4975, 178.9972, 5358,   4882.7,   1.2508,  34.7045,2,  34.7060,2,   -999.0,9,    194.9,2,   123.69,2,    32.60,2,     0.00,2,     2.24,2, -999.000,5, -999.000,5, -999.000,9,-999.0000,9,  -999.00,9,   -999.0,9,   -999.0,9,  -999.00,9,-999.0000,-999.000,  0.8389,-999.000
      325024_1,  P14N,   166,  1,      3,      3,2,19930824,0631, -6.4975, 178.9972, 5358,   5186.6,   1.2748,  34.7046,2,  34.7049,2,   -999.0,9,    195.8,2,   123.99,2,    32.57,2,     0.00,2,     2.22,2, -999.000,5, -999.000,5, -999.000,9,-999.0000,9,  -999.00,9,   -999.0,9,   -999.0,9,  -999.00,9,-999.0000,-999.000,  0.8254,-999.000
      325024_1,  P14N,   166,  1,      2,      2,2,19930824,0631, -6.4975, 178.9972, 5358,   5436.1,   1.2997,  34.7046,2,  34.7051,2,   -999.0,9,    195.9,2,   123.90,2,    32.57,2,     0.00,2,     2.21,2, -999.000,5, -999.000,5, -999.000,9,-999.0000,9,  -999.00,9,   -999.0,9,   -999.0,9,  -999.00,9,-999.0000,-999.000,  0.8184,-999.000
      325024_1,  P14N,   166,  1,      1,      1,2,19930824,0631, -6.4975, 178.9972, 5358,   5436.6,   1.2997,  34.7044,2,  34.7051,2,   -999.0,9,    193.6,2,   123.80,2,    32.62,2,     0.00,2,     2.23,2, -999.000,5, -999.000,5, -999.000,9,-999.0000,9,  -999.00,9,   -999.0,9,   -999.0,9,  -999.00,9,-999.0000,-999.000,  0.8184,-999.000