BOTTLE,20131125MIRCJHATS
EXPOCODE,SECT_ID,STNNBR,CASTNO,SAMPNO,BTLNBR,BTLNBR_FLAG_W,DATE,TIME,LATITUDE,LONGITUDE,DEPTH,CTDPRS,CTDTMP,CTDSAL,CTDSAL_FLAG_W,SALNTY,SALNTY_FLAG_W,CTDOXY,CTDOXY_FLAG_W,OXYGEN,OXYGEN_FLAG_W,SILCAT,SILCAT_FLAG_W,NITRAT,NITRAT_FLAG_W,NITRIT,NITRIT_FLAG_W,PHSPHT,PHSPHT_FLAG_W,CFC-11,CFC-11_FLAG_W,CFC-12,CFC-12_FLAG_W,TRITUM,TRITUM_FLAG_W,HELIUM,HELIUM_FLAG_W,DELHE3,DELHE3_FLAG_W,TCARBN,TCARBN_FLAG_W,ALKALI,ALKALI_FLAG_W,PH,PH_FLAG_W,HELIER,DELHER,THETA,TRITER
,,,,,,,,,,,,DBAR,ITS-90,PSS-78,,PSS-78,,UMOL/KG,,UMOL/KG,,UMOL/KG,,UMOL/KG,,UMOL/KG,,UMOL/KG,,PMOL/KG,,PMOL/KG,,TU,,NMOL/KG,,PERCNT,,UMOL/KG,,UMOL/KG,,25_DEG,,NMOL/KG,PERCNT,DEG C,TU
      325024_1,  P14N,   159,  1,     35,     35,2,19930822,1703, -4.0055, 179.0057, 5223,      2.3,  29.9382,  34.6155,2,  34.6260,2,   -999.0,9,    193.9,2,     2.38,2,     0.04,2,     0.00,2,     0.21,2, -999.000,5, -999.000,5, -999.000,9,-999.0000,9,  -999.00,9,   -999.0,9,   -999.0,9,  -999.00,9,-999.0000,-999.000, 29.9376,-999.000
      325024_1,  P14N,   159,  1,     36,     36,2,19930822,1703, -4.0055, 179.0057, 5223,      2.5,  29.9359,  34.6157,2,  34.6266,2,   -999.0,9,    194.8,2,     2.63,2,     0.00,2,     0.00,2,     0.20,2,    1.559,2,    0.857,2, -999.000,9,-999.0000,9,  -999.00,9,   -999.0,9,   -999.0,9,  -999.00,9,-999.0000,-999.000, 29.9353,-999.000
      325024_1,  P14N,   159,  1,     34,     34,2,19930822,1703, -4.0055, 179.0057, 5223,     37.4,  30.0647,  34.8081,2,  34.8210,2,   -999.0,9,    195.3,2,     2.32,2,     0.00,2,     0.00,2,     0.22,2,    1.511,2,    0.806,2, -999.000,9,-999.0000,9,  -999.00,9,   -999.0,9,   -999.0,9,  -999.00,9,-999.0000,-999.000, 30.0554,-999.000
      325024_1,  P14N,   159,  1,     33,     33,2,19930822,1703, -4.0055, 179.0057, 5223,     66.9,  29.9558,  34.9176,2,  34.8923,2,   -999.0,9,    196.7,2,     2.06,2,     0.00,2,     0.00,2,     0.22,2,    1.577,2,    0.878,2, -999.000,9,-999.0000,9,  -999.00,9,   -999.0,9,   -999.0,9,  -999.00,9,-999.0000,-999.000, 29.9392,-999.000
      325024_1,  P14N,   159,  1,     32,     32,2,19930822,1703, -4.0055, 179.0057, 5223,     96.7,  29.0465,  35.2802,2,  35.2565,2,   -999.0,9,    187.5,2,     2.20,2,     0.36,2,     0.33,2,     0.36,2,    1.575,2,    0.861,2, -999.000,9,-999.0000,9,  -999.00,9,   -999.0,9,   -999.0,9,  -999.00,9,-999.0000,-999.000, 29.0230,-999.000
      325024_1,  P14N,   159,  1,     31,     31,2,19930822,1703, -4.0055, 179.0057, 5223,    126.8,  27.4291,  35.6116,2,  35.6252,2,   -999.0,9,    151.7,2,     2.53,2,     4.67,2,     1.36,2,     0.72,2,    1.609,2,    0.867,2, -999.000,9,-999.0000,9,  -999.00,9,   -999.0,9,   -999.0,9,  -999.00,9,-999.0000,-999.000, 27.3996,-999.000
      325024_1,  P14N,   159,  1,     30,     30,2,19930822,1703, -4.0055, 179.0057, 5223,    156.7,  24.3566,  36.0055,2,  35.9968,2,   -999.0,9,    136.6,2,     2.46,2,     7.70,2,     0.35,2,     0.86,2,    1.754,6,    0.926,6, -999.000,9,-999.0000,9,  -999.00,9,   -999.0,9,   -999.0,9,  -999.00,9,-999.0000,-999.000, 24.3231,-999.000
      325024_1,  P14N,   159,  1,     29,     29,2,19930822,1703, -4.0055, 179.0057, 5223,    208.0,  16.1516,  35.3149,2,  35.3090,2,   -999.0,9,     98.5,2,    10.16,2,    17.90,2,     0.00,2,     1.46,2,    1.134,2,    0.585,2, -999.000,9,-999.0000,9,  -999.00,9,   -999.0,9,   -999.0,9,  -999.00,9,-999.0000,-999.000, 16.1184,-999.000
      325024_1,  P14N,   159,  1,     28,     28,2,19930822,1703, -4.0055, 179.0057, 5223,    258.1,  12.2810,  34.9352,2,  34.9177,2,   -999.0,9,     84.4,2,    18.25,2,    25.03,2,     0.00,2,     1.88,2,    0.450,2,    0.235,2, -999.000,9,-999.0000,9,  -999.00,9,   -999.0,9,   -999.0,9,  -999.00,9,-999.0000,-999.000, 12.2468,-999.000
      325024_1,  P14N,   159,  1,     27,     27,2,19930822,1703, -4.0055, 179.0057, 5223,    307.3,  10.4359,  34.7775,2,  34.7771,2,   -999.0,9,     81.2,2,    23.81,2,    28.83,2,     0.00,2,     2.06,2,    0.238,2,    0.125,2, -999.000,9,-999.0000,9,  -999.00,9,   -999.0,9,   -999.0,9,  -999.00,9,-999.0000,-999.000, 10.3992,-999.000
      325024_1,  P14N,   159,  1,     26,     26,2,19930822,1703, -4.0055, 179.0057, 5223,    407.3,   9.2136,  34.6875,2,  34.6868,2,   -999.0,9,     72.5,2,    30.53,2,    32.58,2,     0.00,2,     2.27,2,    0.107,2,    0.052,2, -999.000,9,-999.0000,9,  -999.00,9,   -999.0,9,   -999.0,9,  -999.00,9,-999.0000,-999.000,  9.1683,-999.000
      325024_1,  P14N,   159,  1,     25,     25,2,19930822,1703, -4.0055, 179.0057, 5223,    507.4,   8.0239,  34.6261,2,  34.6248,2,   -999.0,9,     55.9,2,    38.80,2,    37.53,2,     0.00,2,     2.55,2,    0.025,2,    0.015,2, -999.000,9,-999.0000,9,  -999.00,9,   -999.0,9,   -999.0,9,  -999.00,9,-999.0000,-999.000,  7.9717,-999.000
      325024_1,  P14N,   159,  1,     24,     24,3,19930822,1703, -4.0055, 179.0057, 5223,    607.5,   6.9088,  34.5776,2,  34.5777,4,   -999.0,9,     59.8,4,    48.62,4,    39.57,4,     0.00,4,     2.71,4,    0.004,4,    0.007,4, -999.000,9,-999.0000,9,  -999.00,9,   -999.0,9,   -999.0,9,  -999.00,9,-999.0000,-999.000,  6.8510,-999.000
      325024_1,  P14N,   159,  1,     23,     23,2,19930822,1703, -4.0055, 179.0057, 5223,    707.2,   6.0640,  34.5507,2,  34.5512,2,   -999.0,9,     72.1,2,    56.90,2,    40.13,2,     0.00,2,     2.74,2,    0.003,2,    0.003,2, -999.000,9,-999.0000,9,  -999.00,9,   -999.0,9,   -999.0,9,  -999.00,9,-999.0000,-999.000,  6.0008,-999.000
      325024_1,  P14N,   159,  1,     22,     22,2,19930822,1703, -4.0055, 179.0057, 5223,    807.4,   5.4237,  34.5388,2,  34.5379,2,   -999.0,9,     92.6,2,    63.83,2,    38.08,2,     0.00,2,     2.66,2,    0.005,2,    0.004,2, -999.000,9,-999.0000,9,  -999.00,9,   -999.0,9,   -999.0,9,  -999.00,9,-999.0000,-999.000,  5.3549,-999.000
      325024_1,  P14N,   159,  1,     21,     21,2,19930822,1703, -4.0055, 179.0057, 5223,    907.9,   4.9288,  34.5386,2,  34.5412,2,   -999.0,9,     92.1,2,    72.90,2,    38.91,2,     0.00,2,     2.72,2,    0.003,2,    0.002,2, -999.000,9,-999.0000,9,  -999.00,9,   -999.0,9,   -999.0,9,  -999.00,9,-999.0000,-999.000,  4.8542,-999.000
      325024_1,  P14N,   159,  1,     20,     20,2,19930822,1703, -4.0055, 179.0057, 5223,   1008.4,   4.5281,  34.5453,2,  34.5459,2,   -999.0,9,     95.8,2,    80.83,2,    38.86,2,     0.00,2,     2.73,2,    0.001,2,    0.001,2, -999.000,9,-999.0000,9,  -999.00,9,   -999.0,9,   -999.0,9,  -999.00,9,-999.0000,-999.000,  4.4476,-999.000
      325024_1,  P14N,   159,  1,     19,     19,2,19930822,1703, -4.0055, 179.0057, 5223,   1208.9,   3.9970,  34.5576,2,  34.5573,2,   -999.0,9,    104.1,2,    90.93,2,    38.62,2,     0.00,2,     2.71,2,   -0.002,2,    0.005,2, -999.000,9,-999.0000,9,  -999.00,9,   -999.0,9,   -999.0,9,  -999.00,9,-999.0000,-999.000,  3.9035,-999.000
      325024_1,  P14N,   159,  1,     18,     18,2,19930822,1703, -4.0055, 179.0057, 5223,   1410.1,   3.3102,  34.5824,2,  34.5823,2,   -999.0,9,    110.7,2,   106.22,2,    38.34,2,     0.00,2,     2.68,2, -999.000,5, -999.000,5, -999.000,9,-999.0000,9,  -999.00,9,   -999.0,9,   -999.0,9,  -999.00,9,-999.0000,-999.000,  3.2065,-999.000
      325024_1,  P14N,   159,  1,     17,     17,2,19930822,1703, -4.0055, 179.0057, 5223,   1610.8,   2.7915,  34.6047,2,  34.6045,2,   -999.0,9,    117.8,2,   116.86,2,    38.05,2,     0.00,2,     2.66,2,   -0.002,2,    0.000,2, -999.000,9,-999.0000,9,  -999.00,9,   -999.0,9,   -999.0,9,  -999.00,9,-999.0000,-999.000,  2.6768,-999.000
      325024_1,  P14N,   159,  1,     16,     16,2,19930822,1703, -4.0055, 179.0057, 5223,   1811.0,   2.4443,  34.6245,2,  34.6241,2,   -999.0,9,    119.8,2,   126.18,2,    38.14,2,     0.00,2,     2.66,2, -999.000,5, -999.000,5, -999.000,9,-999.0000,9,  -999.00,9,   -999.0,9,   -999.0,9,  -999.00,9,-999.0000,-999.000,  2.3173,-999.000
      325024_1,  P14N,   159,  1,     15,     15,2,19930822,1703, -4.0055, 179.0057, 5223,   2021.2,   2.1343,  34.6421,2,  34.6423,2,   -999.0,9,    121.5,2,   134.97,2,    38.09,2,     0.00,2,     2.65,2,   -0.002,2,    0.001,2, -999.000,9,-999.0000,9,  -999.00,9,   -999.0,9,   -999.0,9,  -999.00,9,-999.0000,-999.000,  1.9940,-999.000
      325024_1,  P14N,   159,  1,     14,     14,2,19930822,1703, -4.0055, 179.0057, 5223,   2223.1,   2.0020,  34.6498,2,  34.6500,2,   -999.0,9,    125.6,2,   137.71,2,    37.81,2,     0.00,2,     2.63,2, -999.000,5, -999.000,5, -999.000,9,-999.0000,9,  -999.00,9,   -999.0,9,   -999.0,9,  -999.00,9,-999.0000,-999.000,  1.8464,-999.000
      325024_1,  P14N,   159,  1,     13,     13,2,19930822,1703, -4.0055, 179.0057, 5223,   2425.3,   1.9300,  34.6544,2,  34.6546,2,   -999.0,9,    127.8,2,   139.43,2,    37.62,2,     0.00,2,     2.62,2, -999.000,5, -999.000,5, -999.000,9,-999.0000,9,  -999.00,9,   -999.0,9,   -999.0,9,  -999.00,9,-999.0000,-999.000,  1.7577,-999.000
      325024_1,  P14N,   159,  1,     12,     12,2,19930822,1703, -4.0055, 179.0057, 5223,   2633.0,   1.8193,  34.6613,2,  34.6615,2,   -999.0,9,    133.4,2,   140.95,2,    37.29,2,     0.00,2,     2.59,2,   -0.003,2,    0.001,2, -999.000,9,-999.0000,9,  -999.00,9,   -999.0,9,   -999.0,9,  -999.00,9,-999.0000,-999.000,  1.6302,-999.000
      325024_1,  P14N,   159,  1,     11,     11,2,19930822,1703, -4.0055, 179.0057, 5223,   2835.4,   1.7444,  34.6654,2,  34.6658,2,   -999.0,9,    136.9,2,   142.07,2,    37.11,2,     0.00,2,     2.57,2, -999.000,5, -999.000,5, -999.000,9,-999.0000,9,  -999.00,9,   -999.0,9,   -999.0,9,  -999.00,9,-999.0000,-999.000,  1.5380,-999.000
      325024_1,  P14N,   159,  1,     10,     10,2,19930822,1703, -4.0055, 179.0057, 5223,   3042.5,   1.6654,  34.6716,2,  34.6717,2,   -999.0,9,    143.2,2,   141.56,2,    36.69,2,     0.00,2,     2.52,2, -999.000,5, -999.000,5, -999.000,9,-999.0000,9,  -999.00,9,   -999.0,9,   -999.0,9,  -999.00,9,-999.0000,-999.000,  1.4409,-999.000
      325024_1,  P14N,   159,  1,      9,      9,2,19930822,1703, -4.0055, 179.0057, 5223,   3345.1,   1.5313,  34.6802,2,  34.6801,2,   -999.0,9,    153.0,2,   140.43,2,    35.96,2,     0.00,2,     2.48,2,   -0.003,2,    0.001,2, -999.000,9,-999.0000,9,  -999.00,9,   -999.0,9,   -999.0,9,  -999.00,9,-999.0000,-999.000,  1.2800,-999.000
      325024_1,  P14N,   159,  1,      8,      8,2,19930822,1703, -4.0055, 179.0057, 5223,   3654.6,   1.4637,  34.6858,2,  34.6860,2,   -999.0,9,    159.3,2,   140.12,2,    35.59,2,     0.00,2,     2.44,2, -999.000,5, -999.000,5, -999.000,9,-999.0000,9,  -999.00,9,   -999.0,9,   -999.0,9,  -999.00,9,-999.0000,-999.000,  1.1826,-999.000
      325024_1,  P14N,   159,  1,      7,      7,2,19930822,1703, -4.0055, 179.0057, 5223,   3958.9,   1.4017,  34.6911,2,  34.6910,2,   -999.0,9,    165.0,2,   139.20,2,    35.08,2,     0.00,2,     2.41,2, -999.000,5, -999.000,5, -999.000,9,-999.0000,9,  -999.00,9,   -999.0,9,   -999.0,9,  -999.00,9,-999.0000,-999.000,  1.0899,-999.000
      325024_1,  P14N,   159,  1,      6,      6,2,19930822,1703, -4.0055, 179.0057, 5223,   4262.9,   1.3619,  34.6945,2,  34.6951,2,   -999.0,9,    173.1,2,   136.25,2,    34.63,2,     0.00,2,     2.37,2, -999.000,5, -999.000,5, -999.000,9,-999.0000,9,  -999.00,9,   -999.0,9,   -999.0,9,  -999.00,9,-999.0000,-999.000,  1.0180,-999.000
      325024_1,  P14N,   159,  1,      5,      5,2,19930822,1703, -4.0055, 179.0057, 5223,   4568.3,   1.2732,  34.7012,2,  34.7014,2,   -999.0,9,    188.9,2,   127.27,2,    33.36,2,     0.00,2,     2.29,2,   -0.001,2,    0.001,2, -999.000,9,-999.0000,9,  -999.00,9,   -999.0,9,   -999.0,9,  -999.00,9,-999.0000,-999.000,  0.8973,-999.000
      325024_1,  P14N,   159,  1,      4,      4,2,19930822,1703, -4.0055, 179.0057, 5223,   4869.1,   1.2308,  34.7040,2,  34.7037,2,   -999.0,9,    195.2,2,   124.76,2,    32.86,2,     0.00,2,     2.25,2, -999.000,5, -999.000,5, -999.000,9,-999.0000,9,  -999.00,9,   -999.0,9,   -999.0,9,  -999.00,9,-999.0000,-999.000,  0.8212,-999.000
      325024_1,  P14N,   159,  1,      3,      3,2,19930822,1703, -4.0055, 179.0057, 5223,   5184.0,   1.2529,  34.7043,2,  34.7047,2,   -999.0,9,    196.5,2,   123.86,2,    32.63,2,     0.00,2,     2.24,2, -999.000,5, -999.000,5, -999.000,9,-999.0000,9,  -999.00,9,   -999.0,9,   -999.0,9,  -999.00,9,-999.0000,-999.000,  0.8046,-999.000
      325024_1,  P14N,   159,  1,      2,      2,2,19930822,1703, -4.0055, 179.0057, 5223,   5320.1,   1.2703,  34.7050,2,  34.7049,2,   -999.0,9,    196.6,2,   123.76,2,    32.63,2,     0.00,2,     2.23,2,    0.008,2,    0.004,2, -999.000,9,-999.0000,9,  -999.00,9,   -999.0,9,   -999.0,9,  -999.00,9,-999.0000,-999.000,  0.8045,-999.000
      325024_1,  P14N,   159,  1,      1,      1,2,19930822,1703, -4.0055, 179.0057, 5223,   5320.5,   1.2704,  34.7047,2,  34.7053,2,   -999.0,9,    194.9,2,   123.66,2,    32.71,2,     0.00,2,     2.23,2, -999.000,5, -999.000,5, -999.000,9,-999.0000,9,  -999.00,9,   -999.0,9,   -999.0,9,  -999.00,9,-999.0000,-999.000,  0.8046,-999.000