BOTTLE,20131125MIRCJHATS
EXPOCODE,SECT_ID,STNNBR,CASTNO,SAMPNO,BTLNBR,BTLNBR_FLAG_W,DATE,TIME,LATITUDE,LONGITUDE,DEPTH,CTDPRS,CTDTMP,CTDSAL,CTDSAL_FLAG_W,SALNTY,SALNTY_FLAG_W,CTDOXY,CTDOXY_FLAG_W,OXYGEN,OXYGEN_FLAG_W,SILCAT,SILCAT_FLAG_W,NITRAT,NITRAT_FLAG_W,NITRIT,NITRIT_FLAG_W,PHSPHT,PHSPHT_FLAG_W,CFC-11,CFC-11_FLAG_W,CFC-12,CFC-12_FLAG_W,TRITUM,TRITUM_FLAG_W,HELIUM,HELIUM_FLAG_W,DELHE3,DELHE3_FLAG_W,TCARBN,TCARBN_FLAG_W,ALKALI,ALKALI_FLAG_W,PH,PH_FLAG_W,HELIER,DELHER,THETA,TRITER
,,,,,,,,,,,,DBAR,ITS-90,PSS-78,,PSS-78,,UMOL/KG,,UMOL/KG,,UMOL/KG,,UMOL/KG,,UMOL/KG,,UMOL/KG,,PMOL/KG,,PMOL/KG,,TU,,NMOL/KG,,PERCNT,,UMOL/KG,,UMOL/KG,,25_DEG,,NMOL/KG,PERCNT,DEG C,TU
      325024_1,  P14N,   174,  1,     35,     35,2,19930827,0042,-10.5048, 179.0002, 4285,      2.2,  28.9440,  34.4413,2,  34.4487,2,   -999.0,9,    197.1,2,     1.91,2,     0.04,2,     0.00,2,     0.18,2, -999.000,5, -999.000,5, -999.000,9,-999.0000,9,  -999.00,9,   -999.0,9,   -999.0,9,  -999.00,9,-999.0000,-999.000, 28.9435,-999.000
      325024_1,  P14N,   174,  1,     34,     34,2,19930827,0042,-10.5048, 179.0002, 4285,      2.3,  28.8326,  34.4446,2,  34.4497,2,   -999.0,9,    196.9,2,     1.67,2,     0.04,2,     0.00,2,     0.16,2, -999.000,5, -999.000,5, -999.000,9,-999.0000,9,  -999.00,9,   -999.0,9,   -999.0,9,  -999.00,9,-999.0000,-999.000, 28.8320,-999.000
      325024_1,  P14N,   174,  1,     33,     33,2,19930827,0042,-10.5048, 179.0002, 4285,     36.5,  28.2839,  34.4010,2,  34.3997,2,   -999.0,9,    197.8,2,     1.63,2,     0.04,2,     0.00,2,     0.16,2, -999.000,5, -999.000,5, -999.000,9,-999.0000,9,  -999.00,9,   -999.0,9,   -999.0,9,  -999.00,9,-999.0000,-999.000, 28.2753,-999.000
      325024_1,  P14N,   174,  1,     32,     32,2,19930827,0042,-10.5048, 179.0002, 4285,     66.1,  28.1179,  34.7133,4,  34.8249,2,   -999.0,9,    193.1,2,     1.59,2,     0.20,2,     0.01,2,     0.21,2, -999.000,5, -999.000,5, -999.000,9,-999.0000,9,  -999.00,9,   -999.0,9,   -999.0,9,  -999.00,9,-999.0000,-999.000, 28.1022,-999.000
      325024_1,  P14N,   174,  1,     31,     31,2,19930827,0042,-10.5048, 179.0002, 4285,     96.1,  26.1081,  36.0982,2,  36.1155,2,   -999.0,9,    146.3,2,     1.95,2,     4.92,2,     0.77,2,     0.63,2,    1.687,2,    0.906,2, -999.000,9,-999.0000,9,  -999.00,9,   -999.0,9,   -999.0,9,  -999.00,9,-999.0000,-999.000, 26.0865,-999.000
      325024_1,  P14N,   174,  1,     30,     30,2,19930827,0042,-10.5048, 179.0002, 4285,    125.9,  25.0725,  36.1633,2,  36.1654,2,   -999.0,9,    144.9,2,     1.72,2,     5.97,2,     0.68,2,     0.68,2, -999.000,5, -999.000,5, -999.000,9,-999.0000,9,  -999.00,9,   -999.0,9,   -999.0,9,  -999.00,9,-999.0000,-999.000, 25.0450,-999.000
      325024_1,  P14N,   174,  1,     29,     29,2,19930827,0042,-10.5048, 179.0002, 4285,    156.4,  23.4537,  36.1306,2,  36.1496,2,   -999.0,9,    144.7,2,     1.48,2,     6.29,2,     0.07,2,     0.66,2, -999.000,5, -999.000,5, -999.000,9,-999.0000,9,  -999.00,9,   -999.0,9,   -999.0,9,  -999.00,9,-999.0000,-999.000, 23.4211,-999.000
      325024_1,  P14N,   174,  1,     28,     28,2,19930827,0042,-10.5048, 179.0002, 4285,    206.1,  19.9287,  35.7878,2,  35.7981,2,   -999.0,9,    143.7,2,     2.24,2,     8.25,2,     0.01,2,     0.79,2,    1.642,2,    0.861,2, -999.000,9,-999.0000,9,  -999.00,9,   -999.0,9,   -999.0,9,  -999.00,9,-999.0000,-999.000, 19.8905,-999.000
      325024_1,  P14N,   174,  1,     27,     27,2,19930827,0042,-10.5048, 179.0002, 4285,    256.2,  16.2367,  35.3183,2,  35.2997,2,   -999.0,9,    119.7,2,     6.81,2,    14.46,2,     0.00,2,     1.22,2, -999.000,5, -999.000,5, -999.000,9,-999.0000,9,  -999.00,9,   -999.0,9,   -999.0,9,  -999.00,9,-999.0000,-999.000, 16.1956,-999.000
      325024_1,  P14N,   174,  1,     26,     26,2,19930827,0042,-10.5048, 179.0002, 4285,    306.6,  12.8551,  34.9544,2,  34.9419,2,   -999.0,9,     88.1,2,    14.17,2,    22.66,2,     0.00,2,     1.75,2,    0.606,2,    0.311,2, -999.000,9,-999.0000,9,  -999.00,9,   -999.0,9,   -999.0,9,  -999.00,9,-999.0000,-999.000, 12.8131,-999.000
      325024_1,  P14N,   174,  1,     25,     25,2,19930827,0042,-10.5048, 179.0002, 4285,    406.7,   9.6574,  34.7000,2,  34.6907,2,   -999.0,9,    117.5,2,    21.14,2,    26.83,2,     0.00,2,     1.92,2, -999.000,5, -999.000,5, -999.000,9,-999.0000,9,  -999.00,9,   -999.0,9,   -999.0,9,  -999.00,9,-999.0000,-999.000,  9.6109,-999.000
      325024_1,  P14N,   174,  1,     24,     24,2,19930827,0042,-10.5048, 179.0002, 4285,    506.6,   7.6800,  34.5605,2,  34.5595,2,   -999.0,9,    137.5,2,    27.50,2,    29.14,2,     0.00,2,     2.03,2, -999.000,5, -999.000,5, -999.000,9,-999.0000,9,  -999.00,9,   -999.0,9,   -999.0,9,  -999.00,9,-999.0000,-999.000,  7.6293,-999.000
      325024_1,  P14N,   174,  1,     23,     23,2,19930827,0042,-10.5048, 179.0002, 4285,    606.6,   6.3693,  34.5175,2,  34.5148,2,   -999.0,9,    124.9,2,    40.25,2,    33.34,2,     0.00,2,     2.29,2,    0.036,2,    0.013,2, -999.000,9,-999.0000,9,  -999.00,9,   -999.0,9,   -999.0,9,  -999.00,9,-999.0000,-999.000,  6.3141,-999.000
      325024_1,  P14N,   174,  1,     22,     22,2,19930827,0042,-10.5048, 179.0002, 4285,    706.5,   5.6627,  34.5043,2,  34.5050,2,   -999.0,9,    124.4,2,    49.01,2,    34.79,2,     0.00,2,     2.40,2, -999.000,5, -999.000,5, -999.000,9,-999.0000,9,  -999.00,9,   -999.0,9,   -999.0,9,  -999.00,9,-999.0000,-999.000,  5.6017,-999.000
      325024_1,  P14N,   174,  1,     21,     21,2,19930827,0042,-10.5048, 179.0002, 4285,    806.3,   5.1658,  34.5039,2,  34.5047,2,   -999.0,9,    122.6,2,    57.16,2,    35.72,2,     0.00,2,     2.47,2,    0.011,2,    0.001,2, -999.000,9,-999.0000,9,  -999.00,9,   -999.0,9,   -999.0,9,  -999.00,9,-999.0000,-999.000,  5.0987,-999.000
      325024_1,  P14N,   174,  1,     20,     20,2,19930827,0042,-10.5048, 179.0002, 4285,    906.8,   4.6735,  34.5108,2,  34.5122,2,   -999.0,9,    123.3,2,    65.72,2,    36.30,2,     0.00,2,     2.50,2, -999.000,5, -999.000,5, -999.000,9,-999.0000,9,  -999.00,9,   -999.0,9,   -999.0,9,  -999.00,9,-999.0000,-999.000,  4.6008,-999.000
      325024_1,  P14N,   174,  1,     19,     19,2,19930827,0042,-10.5048, 179.0002, 4285,   1006.7,   4.2635,  34.5213,2,  34.5220,2,   -999.0,9,    125.2,2,    73.48,2,    36.47,2,     0.00,2,     2.53,2, -999.000,5, -999.000,5, -999.000,9,-999.0000,9,  -999.00,9,   -999.0,9,   -999.0,9,  -999.00,9,-999.0000,-999.000,  4.1852,-999.000
      325024_1,  P14N,   174,  1,     18,     18,2,19930827,0042,-10.5048, 179.0002, 4285,   1208.2,   3.6228,  34.5471,2,  34.5470,2,   -999.0,9,    129.4,2,    87.31,2,    36.56,2,     0.00,2,     2.55,2, -999.000,5, -999.000,5, -999.000,9,-999.0000,9,  -999.00,9,   -999.0,9,   -999.0,9,  -999.00,9,-999.0000,-999.000,  3.5329,-999.000
      325024_1,  P14N,   174,  1,     17,     17,2,19930827,0042,-10.5048, 179.0002, 4285,   1408.9,   3.0460,  34.5753,2,  34.5755,2,   -999.0,9,    135.1,2,    99.78,2,    36.29,2,     0.00,2,     2.54,2, -999.000,5, -999.000,5, -999.000,9,-999.0000,9,  -999.00,9,   -999.0,9,   -999.0,9,  -999.00,9,-999.0000,-999.000,  2.9452,-999.000
      325024_1,  P14N,   174,  1,     16,     16,2,19930827,0042,-10.5048, 179.0002, 4285,   1611.4,   2.7246,  34.5935,2,  34.5931,2,   -999.0,9,    139.8,2,   106.81,2,    36.34,2,     0.00,2,     2.53,2, -999.000,5, -999.000,5, -999.000,9,-999.0000,9,  -999.00,9,   -999.0,9,   -999.0,9,  -999.00,9,-999.0000,-999.000,  2.6107,-999.000
      325024_1,  P14N,   174,  1,     15,     15,2,19930827,0042,-10.5048, 179.0002, 4285,   1812.7,   2.4082,  34.6172,2,  34.6158,2,   -999.0,9,    139.5,2,   116.94,2,    36.47,2,     0.00,2,     2.54,2, -999.000,5, -999.000,5, -999.000,9,-999.0000,9,  -999.00,9,   -999.0,9,   -999.0,9,  -999.00,9,-999.0000,-999.000,  2.2816,-999.000
      325024_1,  P14N,   174,  1,     14,     14,2,19930827,0042,-10.5048, 179.0002, 4285,   2014.7,   2.1947,  34.6323,2,  34.6321,2,   -999.0,9,    141.1,2,   123.22,2,    36.43,2,     0.00,2,     2.53,2, -999.000,5, -999.000,5, -999.000,9,-999.0000,9,  -999.00,9,   -999.0,9,   -999.0,9,  -999.00,9,-999.0000,-999.000,  2.0540,-999.000
      325024_1,  P14N,   174,  1,     13,     13,2,19930827,0042,-10.5048, 179.0002, 4285,   2216.6,   2.0261,  34.6445,2,  34.6442,2,   -999.0,9,    142.3,2,   128.07,2,    36.29,2,     0.00,2,     2.53,2, -999.000,5, -999.000,5, -999.000,9,-999.0000,9,  -999.00,9,   -999.0,9,   -999.0,9,  -999.00,9,-999.0000,-999.000,  1.8707,-999.000
      325024_1,  P14N,   174,  1,     12,     12,2,19930827,0042,-10.5048, 179.0002, 4285,   2418.1,   1.8935,  34.6543,2,  34.6546,2,   -999.0,9,    143.5,2,   132.32,2,    36.11,2,     0.00,2,     2.52,2, -999.000,5, -999.000,5, -999.000,9,-999.0000,9,  -999.00,9,   -999.0,9,   -999.0,9,  -999.00,9,-999.0000,-999.000,  1.7226,-999.000
      325024_1,  P14N,   174,  1,     11,     11,2,19930827,0042,-10.5048, 179.0002, 4285,   2621.5,   1.7737,  34.6619,2,  34.6611,2,   -999.0,9,    143.1,2,   137.00,2,    36.34,2,     0.00,2,     2.53,2, -999.000,5, -999.000,5, -999.000,9,-999.0000,9,  -999.00,9,   -999.0,9,   -999.0,9,  -999.00,9,-999.0000,-999.000,  1.5866,-999.000
      325024_1,  P14N,   174,  1,     10,     10,2,19930827,0042,-10.5048, 179.0002, 4285,   2823.4,   1.6899,  34.6675,2,  34.6672,2,   -999.0,9,    144.6,2,   138.77,2,    36.20,2,     0.00,2,     2.52,2, -999.000,5, -999.000,5, -999.000,9,-999.0000,9,  -999.00,9,   -999.0,9,   -999.0,9,  -999.00,9,-999.0000,-999.000,  1.4857,-999.000
      325024_1,  P14N,   174,  1,      9,      9,2,19930827,0042,-10.5048, 179.0002, 4285,   3026.4,   1.5976,  34.6737,2,  34.6738,2,   -999.0,9,    148.8,2,   139.71,2,    35.89,2,     0.00,2,     2.50,2, -999.000,5, -999.000,5, -999.000,9,-999.0000,9,  -999.00,9,   -999.0,9,   -999.0,9,  -999.00,9,-999.0000,-999.000,  1.3762,-999.000
      325024_1,  P14N,   174,  1,      8,      8,2,19930827,0042,-10.5048, 179.0002, 4285,   3229.2,   1.5480,  34.6782,2,  34.6779,2,   -999.0,9,    153.4,2,   138.78,2,    35.49,2,     0.00,2,     2.48,2, -999.000,5, -999.000,5, -999.000,9,-999.0000,9,  -999.00,9,   -999.0,9,   -999.0,9,  -999.00,9,-999.0000,-999.000,  1.3079,-999.000
      325024_1,  P14N,   174,  1,      7,      7,2,19930827,0042,-10.5048, 179.0002, 4285,   3432.0,   1.5019,  34.6828,2,  34.6824,2,   -999.0,9,    158.5,2,   137.43,2,    35.14,2,     0.00,2,     2.45,2, -999.000,5, -999.000,5, -999.000,9,-999.0000,9,  -999.00,9,   -999.0,9,   -999.0,9,  -999.00,9,-999.0000,-999.000,  1.2426,-999.000
      325024_1,  P14N,   174,  1,      6,      6,2,19930827,0042,-10.5048, 179.0002, 4285,   3635.6,   1.4472,  34.6873,2,  34.6877,2,   -999.0,9,    165.3,2,   135.25,2,    34.74,2,     0.00,2,     2.41,2, -999.000,5, -999.000,5, -999.000,9,-999.0000,9,  -999.00,9,   -999.0,9,   -999.0,9,  -999.00,9,-999.0000,-999.000,  1.1685,-999.000
      325024_1,  P14N,   174,  1,      5,      5,2,19930827,0042,-10.5048, 179.0002, 4285,   3839.0,   1.3855,  34.6930,2,  34.6918,2,   -999.0,9,    174.2,2,   131.63,2,    34.04,2,     0.00,2,     2.37,2, -999.000,5, -999.000,5, -999.000,9,-999.0000,9,  -999.00,9,   -999.0,9,   -999.0,9,  -999.00,9,-999.0000,-999.000,  1.0870,-999.000
      325024_1,  P14N,   174,  1,      4,      4,2,19930827,0042,-10.5048, 179.0002, 4285,   4042.3,   1.3600,  34.6952,2,  34.6949,2,   -999.0,9,    178.7,2,   129.88,2,    33.78,2,     0.00,2,     2.34,2, -999.000,5, -999.000,5, -999.000,9,-999.0000,9,  -999.00,9,   -999.0,9,   -999.0,9,  -999.00,9,-999.0000,-999.000,  1.0404,-999.000
      325024_1,  P14N,   174,  1,      3,      3,2,19930827,0042,-10.5048, 179.0002, 4285,   4246.1,   1.3064,  34.6999,2,  34.6996,2,   -999.0,9,    186.0,2,   126.69,2,    33.25,2,     0.00,2,     2.30,2, -999.000,5, -999.000,5, -999.000,9,-999.0000,9,  -999.00,9,   -999.0,9,   -999.0,9,  -999.00,9,-999.0000,-999.000,  0.9660,-999.000
      325024_1,  P14N,   174,  1,      2,      2,2,19930827,0042,-10.5048, 179.0002, 4285,   4432.6,   1.2941,  34.7013,2,  34.7020,2,   -999.0,9,    188.9,2,   125.56,2,    33.03,2,     0.00,2,     2.28,2, -999.000,5, -999.000,5, -999.000,9,-999.0000,9,  -999.00,9,   -999.0,9,   -999.0,9,  -999.00,9,-999.0000,-999.000,  0.9331,-999.000
      325024_1,  P14N,   174,  1,      1,      1,2,19930827,0042,-10.5048, 179.0002, 4285,   4433.0,   1.2940,  34.7016,2,  34.7013,2,   -999.0,9,    188.5,2,   125.67,2,    33.03,2,     0.00,2,     2.29,2, -999.000,5, -999.000,5, -999.000,9,-999.0000,9,  -999.00,9,   -999.0,9,   -999.0,9,  -999.00,9,-999.0000,-999.000,  0.9330,-999.000