BOTTLE,20131125MIRCJHATS
EXPOCODE,SECT_ID,STNNBR,CASTNO,SAMPNO,BTLNBR,BTLNBR_FLAG_W,DATE,TIME,LATITUDE,LONGITUDE,DEPTH,CTDPRS,CTDTMP,CTDSAL,CTDSAL_FLAG_W,SALNTY,SALNTY_FLAG_W,CTDOXY,CTDOXY_FLAG_W,OXYGEN,OXYGEN_FLAG_W,SILCAT,SILCAT_FLAG_W,NITRAT,NITRAT_FLAG_W,NITRIT,NITRIT_FLAG_W,PHSPHT,PHSPHT_FLAG_W,CFC-11,CFC-11_FLAG_W,CFC-12,CFC-12_FLAG_W,TRITUM,TRITUM_FLAG_W,HELIUM,HELIUM_FLAG_W,DELHE3,DELHE3_FLAG_W,TCARBN,TCARBN_FLAG_W,ALKALI,ALKALI_FLAG_W,PH,PH_FLAG_W,HELIER,DELHER,THETA,TRITER
,,,,,,,,,,,,DBAR,ITS-90,PSS-78,,PSS-78,,UMOL/KG,,UMOL/KG,,UMOL/KG,,UMOL/KG,,UMOL/KG,,UMOL/KG,,PMOL/KG,,PMOL/KG,,TU,,NMOL/KG,,PERCNT,,UMOL/KG,,UMOL/KG,,25_DEG,,NMOL/KG,PERCNT,DEG C,TU
      325023_1,  P14N,     5,  1,     35,     35,2,19930708,0102, 56.9843,-175.6627, 3481,      2.4,   7.7104,  32.5232,2,  32.5236,2,   -999.0,9,    310.3,2,     9.19,2,     2.81,2,     0.09,2,     0.68,2,    4.696,2,    2.316,2, -999.000,9,   1.7810,2,     0.00,2,   1977.4,2,   2214.9,2,  -999.00,9,  0.2000,   0.150,  7.7102,-999.000
      325023_1,  P14N,     5,  1,     34,     34,2,19930708,0102, 56.9843,-175.6627, 3481,     35.6,   4.5498,  32.6297,2,  32.6355,2,   -999.0,9,    297.7,2,    26.05,2,    12.50,2,     0.38,2,     1.51,2,    5.337,2,    2.585,2, -999.000,9,-999.0000,9,  -999.00,9,   2067.4,2,   2214.8,2,  -999.00,9,-999.0000,-999.000,  4.5474,-999.000
      325023_1,  P14N,     5,  1,     33,     33,2,19930708,0102, 56.9843,-175.6627, 3481,     65.9,   3.8539,  32.8046,2,  32.8057,2,   -999.0,9,    269.8,2,    43.51,2,    23.20,2,     0.16,2,     1.96,2,    5.058,2,    2.460,2, -999.000,9,-999.0000,9,  -999.00,9,   2117.9,2,   -999.0,9,  -999.00,9,-999.0000,-999.000,  3.8496,-999.000
      325023_1,  P14N,     5,  1,     32,     32,2,19930708,0102, 56.9843,-175.6627, 3481,     95.6,   3.5207,  32.8818,2,  32.8819,2,   -999.0,9,    262.9,2,    52.71,2,    26.93,2,     0.02,2,     2.16,2, -999.000,5, -999.000,5, -999.000,9,   1.9460,2,     0.25,2,   2137.6,2,   2219.0,2,  -999.00,9,  0.2000,   0.150,  3.5147,-999.000
      325023_1,  P14N,     5,  1,     31,     31,2,19930708,0102, 56.9843,-175.6627, 3481,    121.0,   3.7007,  32.9797,2,  32.9769,2,   -999.0,9,    255.7,2,    54.67,2,    27.06,2,     0.02,2,     2.16,2,    4.733,2,    2.289,2, -999.000,9,-999.0000,9,  -999.00,9,   2145.4,2,   2227.8,2,  -999.00,9,-999.0000,-999.000,  3.6929,-999.000
      325023_1,  P14N,     5,  1,     30,     30,2,19930708,0102, 56.9843,-175.6627, 3481,    150.5,   3.5050,  33.0274,2,  33.0336,2,   -999.0,9,    256.4,2,    57.46,2,    27.70,2,     0.00,2,     2.20,2,    4.633,2,    2.231,2, -999.000,9,-999.0000,9,  -999.00,9,   2151.2,2,   2231.4,2,  -999.00,9,-999.0000,-999.000,  3.4956,-999.000
      325023_1,  P14N,     5,  1,     29,     29,2,19930708,0102, 56.9843,-175.6627, 3481,    205.2,   3.4177,  33.1457,2,  33.1481,2,   -999.0,9,    251.4,2,    62.93,2,    29.25,2,     0.02,2,     2.30,2,    4.610,2,    2.249,2, -999.000,9,   1.8080,2,     2.03,2,   -999.0,9,   -999.0,9,  -999.00,9,  0.2000,   0.150,  3.4048,-999.000
      325023_1,  P14N,     5,  1,     28,     28,2,19930708,0102, 56.9843,-175.6627, 3481,    257.8,   3.5182,  33.2918,2,  33.2923,2,   -999.0,9,    230.3,2,    69.02,2,    31.18,2,     0.01,2,     2.42,2,    4.236,2,    2.083,2, -999.000,9,-999.0000,9,  -999.00,9,   -999.0,9,   -999.0,9,  -999.00,9,-999.0000,-999.000,  3.5017,-999.000
      325023_1,  P14N,     5,  1,     27,     27,2,19930708,0102, 56.9843,-175.6627, 3481,    308.5,   3.4405,  33.3656,2,  33.3760,2,   -999.0,9,    212.1,2,    72.63,2,    32.54,2,     0.00,2,     2.49,2,    3.878,2,    1.863,2, -999.000,9,   1.7900,2,    11.75,2,   -999.0,9,   -999.0,9,  -999.00,9,  0.2000,   0.150,  3.4208,-999.000
      325023_1,  P14N,     5,  1,     26,     26,2,19930708,0102, 56.9843,-175.6627, 3481,    359.3,   3.7800,  33.5227,2,  33.5248,2,   -999.0,9,    158.4,2,    81.41,2,    34.84,2,     0.00,2,     2.62,2, -999.000,5, -999.000,5, -999.000,9,-999.0000,9,  -999.00,9,   -999.0,9,   -999.0,9,  -999.00,9,-999.0000,-999.000,  3.7558,-999.000
      325023_1,  P14N,     5,  1,     25,     25,2,19930708,0102, 56.9843,-175.6627, 3481,    409.3,   3.7887,  33.6392,2,  33.6433,2,   -999.0,9,    128.7,2,    88.96,2,    36.74,2,     0.00,2,     2.73,2, -999.000,5, -999.000,5, -999.000,9,-999.0000,9,  -999.00,9,   -999.0,9,   -999.0,9,  -999.00,9,-999.0000,-999.000,  3.7609,-999.000
      325023_1,  P14N,     5,  1,     24,     24,2,19930708,0102, 56.9843,-175.6627, 3481,    459.5,   3.7579,  33.7284,2,  33.7302,2,   -999.0,9,    108.9,2,    94.65,2,    38.10,2,     0.00,2,     2.81,2, -999.000,5, -999.000,5, -999.000,9,   1.7810,2,    16.10,2,   -999.0,9,   -999.0,9,  -999.00,9,  0.2000,   0.150,  3.7265,-999.000
      325023_1,  P14N,     5,  1,     23,     23,2,19930708,0102, 56.9843,-175.6627, 3481,    508.9,   3.7200,  33.8179,2,  33.8164,2,   -999.0,9,     88.9,2,   100.35,2,    39.82,2,     0.00,2,     2.92,2,    1.777,2,    0.857,2, -999.000,9,-999.0000,9,  -999.00,9,   -999.0,9,   -999.0,9,  -999.00,9,-999.0000,-999.000,  3.6851,-999.000
      325023_1,  P14N,     5,  1,     22,     22,2,19930708,0102, 56.9843,-175.6627, 3481,    608.7,   3.5712,  33.9674,2,  33.9695,2,   -999.0,9,     55.5,2,   112.54,2,    41.69,2,     0.00,2,     3.03,2, -999.000,5, -999.000,5, -999.000,9,-999.0000,9,  -999.00,9,   -999.0,9,   -999.0,9,  -999.00,9,-999.0000,-999.000,  3.5296,-999.000
      325023_1,  P14N,     5,  1,     21,     21,2,19930708,0102, 56.9843,-175.6627, 3481,    709.7,   3.4100,  34.0948,2,  34.0931,2,   -999.0,9,     35.2,2,   123.75,2,    42.69,2,     0.00,2,     3.10,2,    0.701,2,    0.338,2, -999.000,9,   1.9190,2,    13.20,2,   -999.0,9,   -999.0,9,  -999.00,9,  0.2000,   0.150,  3.3616,-999.000
      325023_1,  P14N,     5,  1,     20,     20,2,19930708,0102, 56.9843,-175.6627, 3481,    813.3,   3.2512,  34.1812,2,  34.1769,2,   -999.0,9,     26.0,2,   133.13,2,    43.28,2,     0.00,2,     3.14,2, -999.000,5, -999.000,5, -999.000,9,-999.0000,9,    13.40,2,   -999.0,9,   -999.0,9,  -999.00,9,-999.0000,   0.150,  3.1960,-999.000
      325023_1,  P14N,     5,  1,     19,     19,2,19930708,0102, 56.9843,-175.6627, 3481,    915.6,   3.0768,  34.2546,2,  34.2514,2,   -999.0,9,     22.1,2,   141.28,2,    43.45,2,     0.00,2,     3.15,2, -999.000,5, -999.000,5, -999.000,9,   1.8520,2,    13.04,2,   -999.0,9,   -999.0,9,  -999.00,9,  0.2000,   0.150,  3.0151,-999.000
      325023_1,  P14N,     5,  1,     18,     18,2,19930708,0102, 56.9843,-175.6627, 3481,   1016.8,   2.9257,  34.3037,2,  34.3026,2,   -999.0,9,     22.0,3,   148.85,2,    43.40,2,     0.00,2,     3.15,2, -999.000,5, -999.000,5, -999.000,9,   1.7760,2,    14.92,2,   -999.0,9,   -999.0,9,  -999.00,9,  0.2000,   0.150,  2.8574,-999.000
      325023_1,  P14N,     5,  1,     17,     17,2,19930708,0102, 56.9843,-175.6627, 3481,   1118.1,   2.8112,  34.3524,2,  34.3507,2,   -999.0,9,     18.6,2,   153.44,2,    43.57,2,     0.00,2,     3.16,2,    0.104,2,    0.053,2, -999.000,9,-999.0000,9,  -999.00,9,   -999.0,9,   -999.0,9,  -999.00,9,-999.0000,-999.000,  2.7361,-999.000
      325023_1,  P14N,     5,  1,     16,     16,2,19930708,0102, 56.9843,-175.6627, 3481,   1219.4,   2.6695,  34.3926,2,  34.3903,2,   -999.0,9,     19.6,2,   160.65,2,    43.52,2,     0.00,2,     3.16,2, -999.000,5, -999.000,5, -999.000,9,   1.8340,2,    15.30,2,   -999.0,9,   -999.0,9,  -999.00,9,  0.2000,   0.150,  2.5879,-999.000
      325023_1,  P14N,     5,  1,     15,     15,2,19930708,0102, 56.9843,-175.6627, 3481,   1315.1,   2.5382,  34.4267,2,  34.4271,2,   -999.0,9,     22.2,2,   167.91,2,    43.28,2,     0.00,2,     3.15,2,    0.047,2,    0.025,2, -999.000,9,-999.0000,9,  -999.00,9,   -999.0,9,   -999.0,9,  -999.00,9,-999.0000,-999.000,  2.4506,-999.000
      325023_1,  P14N,     5,  1,     14,     14,2,19930708,0102, 56.9843,-175.6627, 3481,   1419.0,   2.4026,  34.4600,2,  34.4587,2,   -999.0,9,     25.7,2,   173.91,2,    42.99,2,     0.00,2,     3.14,2, -999.000,5, -999.000,5, -999.000,9,-999.0000,9,    17.00,2,   -999.0,9,   -999.0,9,  -999.00,9,-999.0000,   0.150,  2.3083,-999.000
      325023_1,  P14N,     5,  1,     13,     13,2,19930708,0102, 56.9843,-175.6627, 3481,   1511.7,   2.3014,  34.4864,2,  34.4857,2,   -999.0,9,     28.9,2,   178.61,2,    42.80,2,     0.00,2,     3.14,2,    0.036,2,    0.020,2, -999.000,9,-999.0000,9,    16.70,2,   -999.0,9,   -999.0,9,  -999.00,9,-999.0000,   0.150,  2.2010,-999.000
      325023_1,  P14N,     5,  1,     12,     12,2,19930708,0102, 56.9843,-175.6627, 3481,   1615.2,   2.1981,  34.5112,2,  34.5110,2,   -999.0,9,     33.0,2,   183.79,2,    42.33,2,     0.00,2,     3.12,2, -999.000,5, -999.000,5, -999.000,9,-999.0000,9,    17.94,2,   -999.0,9,   -999.0,9,  -999.00,9,-999.0000,   0.150,  2.0907,-999.000
      325023_1,  P14N,     5,  1,     11,     11,2,19930708,0102, 56.9843,-175.6627, 3481,   1828.0,   2.0300,  34.5507,2,  34.5471,2,   -999.0,9,     42.0,2,   193.97,2,    41.59,2,     0.00,2,     3.11,2,    0.013,2,    0.006,2, -999.000,9,-999.0000,9,  -999.00,9,   -999.0,9,   -999.0,9,  -999.00,9,-999.0000,-999.000,  1.9076,-999.000
      325023_1,  P14N,     5,  1,     10,     10,2,19930708,0102, 56.9843,-175.6627, 3481,   2027.9,   1.9048,  34.5798,2,  34.5794,2,   -999.0,9,     50.7,2,   200.85,2,    40.89,2,     0.00,2,     3.07,2, -999.000,5, -999.000,5, -999.000,9,-999.0000,9,  -999.00,9,   -999.0,9,   -999.0,9,  -999.00,9,-999.0000,-999.000,  1.7677,-999.000
      325023_1,  P14N,     5,  1,      9,      9,2,19930708,0102, 56.9843,-175.6627, 3481,   2230.6,   1.8045,  34.6029,2,  34.6023,2,   -999.0,9,     60.4,2,   206.19,2,    40.19,2,     0.00,2,     3.03,2,    0.009,2,    0.005,2, -999.000,9,-999.0000,9,    18.20,2,   -999.0,9,   -999.0,9,  -999.00,9,-999.0000,   0.150,  1.6517,-999.000
      325023_1,  P14N,     5,  1,      8,      8,2,19930708,0102, 56.9843,-175.6627, 3481,   2438.5,   1.7300,  34.6200,2,  34.6194,2,   -999.0,9,     68.9,2,   212.96,2,    39.50,2,     0.00,2,     3.01,2, -999.000,5, -999.000,5, -999.000,9,-999.0000,9,    17.20,2,   -999.0,9,   -999.0,9,  -999.00,9,-999.0000,   0.150,  1.5604,-999.000
      325023_1,  P14N,     5,  1,      7,      7,2,19930708,0102, 56.9843,-175.6627, 3481,   2645.8,   1.6761,  34.6336,2,  34.6339,2,   -999.0,9,     75.8,2,   217.45,2,    38.90,2,     0.00,2,     2.98,2,    0.004,2,    0.004,2, -999.000,9,-999.0000,9,    17.10,2,   -999.0,9,   -999.0,9,  -999.00,9,-999.0000,   0.150,  1.4888,-999.000
      325023_1,  P14N,     5,  1,      6,      6,2,19930708,0102, 56.9843,-175.6627, 3481,   2849.8,   1.6344,  34.6450,2,  34.6421,2,   -999.0,9,     82.2,2,   218.67,2,    38.57,2,     0.00,2,     2.96,2,    0.003,2,    0.005,2, -999.000,9,-999.0000,9,    17.10,2,   -999.0,9,   -999.0,9,  -999.00,9,-999.0000,   0.150,  1.4290,-999.000
      325023_1,  P14N,     5,  1,      5,      5,2,19930708,0102, 56.9843,-175.6627, 3481,   3054.9,   1.6053,  34.6534,2,  34.6531,2,   -999.0,9,     88.4,2,   218.94,2,    38.16,2,     0.00,2,     2.93,2, -999.000,5, -999.000,5, -999.000,9,-999.0000,9,  -999.00,9,   -999.0,9,   -999.0,9,  -999.00,9,-999.0000,-999.000,  1.3810,-999.000
      325023_1,  P14N,     5,  1,      4,      4,2,19930708,0102, 56.9843,-175.6627, 3481,   3259.5,   1.5921,  34.6595,2,  34.6594,2,   -999.0,9,     90.7,2,   229.20,2,    37.83,2,     0.00,2,     2.93,2,    0.001,2,    0.000,2, -999.000,9,-999.0000,9,    15.15,2,   -999.0,9,   -999.0,9,  -999.00,9,-999.0000,   0.150,  1.3481,-999.000
      325023_1,  P14N,     5,  1,      3,      3,2,19930708,0102, 56.9843,-175.6627, 3481,   3464.0,   1.5828,  34.6665,2,  34.6666,2,   -999.0,9,     91.9,2,   244.08,2,    37.55,2,     0.00,2,     2.95,2,    0.014,2,    0.003,2, -999.000,9,-999.0000,9,  -999.00,9,   -999.0,9,   -999.0,9,  -999.00,9,-999.0000,-999.000,  1.3184,-999.000
      325023_1,  P14N,     5,  1,      2,      2,2,19930708,0102, 56.9843,-175.6627, 3481,   3512.0,   1.5866,  34.6645,2,  34.6670,2,   -999.0,9,     97.3,3,   245.84,2,    37.50,2,     0.00,2,     2.95,2,    0.017,2,    0.008,2, -999.000,9,-999.0000,9,  -999.00,9,   -999.0,9,   -999.0,9,  -999.00,9,-999.0000,-999.000,  1.3172,-999.000
      325023_1,  P14N,     5,  1,      1,      1,2,19930708,0102, 56.9843,-175.6627, 3481,   3512.0,   1.5867,  34.6640,2,  34.6678,3,   -999.0,9,     91.3,2,   245.63,2,    37.72,2,     0.00,2,     2.96,2, -999.000,5, -999.000,5, -999.000,9,-999.0000,9,    15.40,2,   -999.0,9,   -999.0,9,  -999.00,9,-999.0000,   0.150,  1.3173,-999.000