BOTTLE,20131125MIRCJHATS
EXPOCODE,SECT_ID,STNNBR,CASTNO,SAMPNO,BTLNBR,BTLNBR_FLAG_W,DATE,TIME,LATITUDE,LONGITUDE,DEPTH,CTDPRS,CTDTMP,CTDSAL,CTDSAL_FLAG_W,SALNTY,SALNTY_FLAG_W,CTDOXY,CTDOXY_FLAG_W,OXYGEN,OXYGEN_FLAG_W,SILCAT,SILCAT_FLAG_W,NITRAT,NITRAT_FLAG_W,NITRIT,NITRIT_FLAG_W,PHSPHT,PHSPHT_FLAG_W,CFC-11,CFC-11_FLAG_W,CFC-12,CFC-12_FLAG_W,TRITUM,TRITUM_FLAG_W,HELIUM,HELIUM_FLAG_W,DELHE3,DELHE3_FLAG_W,TCARBN,TCARBN_FLAG_W,ALKALI,ALKALI_FLAG_W,PH,PH_FLAG_W,HELIER,DELHER,THETA,TRITER
,,,,,,,,,,,,DBAR,ITS-90,PSS-78,,PSS-78,,UMOL/KG,,UMOL/KG,,UMOL/KG,,UMOL/KG,,UMOL/KG,,UMOL/KG,,PMOL/KG,,PMOL/KG,,TU,,NMOL/KG,,PERCNT,,UMOL/KG,,UMOL/KG,,25_DEG,,NMOL/KG,PERCNT,DEG C,TU
      325024_1,  P14N,   183,  1,     36,     36,2,19930828,1607,-14.9975, 178.9922, 2348,      2.2,  26.2085,  35.0675,2,  35.0727,2,   -999.0,9,    201.9,2,     2.86,2,     0.03,2,     0.00,2,     0.21,2,    1.708,2,    0.927,2, -999.000,9,-999.0000,9,  -999.00,9,   1946.0,2,   2300.0,2,     8.11,2,-999.0000,-999.000, 26.2080,-999.000
      325024_1,  P14N,   183,  1,     35,     35,2,19930828,1607,-14.9975, 178.9922, 2348,     34.3,  26.2157,  35.0674,2,  35.0721,2,   -999.0,9,    202.2,2,     2.60,2,     0.00,2,     0.00,2,     0.21,2,    1.726,2,    0.941,2, -999.000,9,-999.0000,9,  -999.00,9,   1946.0,2,   2297.0,2,     8.10,2,-999.0000,-999.000, 26.2080,-999.000
      325024_1,  P14N,   183,  1,     34,     34,2,19930828,1607,-14.9975, 178.9922, 2348,     64.6,  26.2314,  35.0709,2,  35.0756,2,   -999.0,9,    202.4,2,     2.53,2,     0.03,2,     0.00,2,     0.21,2, -999.000,5, -999.000,5, -999.000,9,-999.0000,9,  -999.00,9,   1947.0,2,   2304.0,2,     8.12,2,-999.0000,-999.000, 26.2169,-999.000
      325024_1,  P14N,   183,  1,     33,     33,2,19930828,1607,-14.9975, 178.9922, 2348,     94.8,  26.1736,  35.1008,2,  35.0988,2,   -999.0,9,    201.5,2,     2.27,2,     0.00,2,     0.00,2,     0.21,2,    1.719,2,    0.935,2, -999.000,9,-999.0000,9,  -999.00,9,   1950.0,2,   2297.0,2,     8.10,2,-999.0000,-999.000, 26.1524,-999.000
      325024_1,  P14N,   183,  1,     32,     32,2,19930828,1607,-14.9975, 178.9922, 2348,    125.0,  25.4773,  36.0360,2,  36.0421,2,   -999.0,9,    171.9,2,     2.20,2,     1.11,2,     0.11,2,     0.38,2,    1.734,2,    0.920,2, -999.000,9,-999.0000,9,  -999.00,9,   2045.0,2,   2365.0,2,     8.04,2,-999.0000,-999.000, 25.4497,-999.000
      325024_1,  P14N,   183,  1,     31,     31,2,19930828,1607,-14.9975, 178.9922, 2348,    155.2,  24.0169,  36.0795,2,  36.0837,2,   -999.0,9,    157.2,2,     2.14,2,     3.85,2,     0.03,2,     0.53,2,    1.743,2,    0.928,2, -999.000,9,-999.0000,9,  -999.00,9,   2073.0,2,   2363.0,2,     7.98,2,-999.0000,-999.000, 23.9840,-999.000
      325024_1,  P14N,   183,  1,     30,     30,2,19930828,1607,-14.9975, 178.9922, 2348,    205.5,  21.3274,  35.8158,2,  35.8380,2,   -999.0,9,    169.5,2,     1.88,2,     3.66,2,     0.01,2,     0.45,2,    1.826,2,    0.963,2, -999.000,9,-999.0000,9,  -999.00,9,   2069.0,2,   2347.0,2,     7.98,2,-999.0000,-999.000, 21.2874,-999.000
      325024_1,  P14N,   183,  1,     29,     29,2,19930828,1607,-14.9975, 178.9922, 2348,    256.1,  19.3327,  35.6609,2,  35.6736,2,   -999.0,9,    170.0,2,     1.81,2,     5.14,2,     0.01,2,     0.55,2,    1.752,2,    0.915,2, -999.000,9,-999.0000,9,  -999.00,9,   2081.0,2,   2347.0,2,     7.95,2,-999.0000,-999.000, 19.2862,-999.000
      325024_1,  P14N,   183,  1,     28,     28,2,19930828,1607,-14.9975, 178.9922, 2348,    306.0,  17.1205,  35.4210,2,  35.4403,2,   -999.0,9,    168.0,2,     2.74,2,     7.55,2,     0.00,2,     0.71,2, -999.000,5, -999.000,5, -999.000,9,-999.0000,9,  -999.00,9,   2094.0,2,   2325.0,2,     7.89,2,-999.0000,-999.000, 17.0694,-999.000
      325024_1,  P14N,   183,  1,     27,     27,2,19930828,1607,-14.9975, 178.9922, 2348,    356.4,  15.2423,  35.2355,2,  35.2308,2,   -999.0,9,    170.8,2,     4.07,2,    10.09,2,     0.00,2,     0.87,2, -999.000,5, -999.000,5, -999.000,9,-999.0000,9,  -999.00,9,   2105.0,2,   2309.0,2,     7.84,2,-999.0000,-999.000, 15.1874,-999.000
      325024_1,  P14N,   183,  1,     26,     26,2,19930828,1607,-14.9975, 178.9922, 2348,    406.7,  12.5997,  34.9493,2,  34.9481,2,   -999.0,9,    166.5,2,     6.80,2,    14.96,2,     0.00,2,     1.18,2,    1.089,2,    0.548,2, -999.000,9,-999.0000,9,  -999.00,9,   2127.0,2,   2303.0,2,     7.78,2,-999.0000,-999.000, 12.5445,-999.000
      325024_1,  P14N,   183,  1,     25,     25,2,19930828,1607,-14.9975, 178.9922, 2348,    457.0,  10.1799,  34.7054,2,  34.7050,2,   -999.0,9,    134.3,2,    16.30,2,    23.46,2,     0.00,2,     1.77,2, -999.000,5, -999.000,5, -999.000,9,-999.0000,9,  -999.00,9,   -999.0,9,   -999.0,9,  -999.00,9,-999.0000,-999.000, 10.1258,-999.000
      325024_1,  P14N,   183,  1,     24,     24,2,19930828,1607,-14.9975, 178.9922, 2348,    507.6,   8.7577,  34.5900,2,  34.5963,2,   -999.0,9,    149.6,2,    18.03,2,    25.07,2,     0.00,2,     1.84,2,    0.339,2,    0.175,2, -999.000,9,-999.0000,9,  -999.00,9,   2177.0,2,   2281.0,2,     7.61,2,-999.0000,-999.000,  8.7027,-999.000
      325024_1,  P14N,   183,  1,     23,     23,2,19930828,1607,-14.9975, 178.9922, 2348,    558.2,   7.5413,  34.5031,2,  34.5029,2,   -999.0,9,    162.5,2,    21.56,2,    26.97,2,     0.00,2,     1.95,2,    0.236,2,    0.127,2, -999.000,9,-999.0000,9,  -999.00,9,   -999.0,9,   -999.0,9,  -999.00,9,-999.0000,-999.000,  7.4858,-999.000
      325024_1,  P14N,   183,  1,     22,     22,2,19930828,1607,-14.9975, 178.9922, 2348,    608.2,   6.9095,  34.4611,2,  34.4639,2,   -999.0,9,    169.8,2,    23.49,2,    27.71,2,     0.00,2,     1.98,2,    0.205,2,    0.110,2, -999.000,9,-999.0000,9,  -999.00,9,   2186.0,2,   2282.0,2,     7.60,2,-999.0000,-999.000,  6.8518,-999.000
      325024_1,  P14N,   183,  1,     21,     21,2,19930828,1607,-14.9975, 178.9922, 2348,    658.5,   6.3679,  34.4368,2,  34.4379,2,   -999.0,9,    171.7,2,    27.42,2,    28.88,2,     0.00,2,     2.05,2,    0.144,2,    0.079,2, -999.000,9,-999.0000,9,  -999.00,9,   -999.0,9,   -999.0,9,  -999.00,9,-999.0000,-999.000,  6.3079,-999.000
      325024_1,  P14N,   183,  1,     20,     20,2,19930828,1607,-14.9975, 178.9922, 2348,    708.9,   5.5125,  34.3808,2,  34.3771,2,   -999.0,9,    186.5,2,    28.36,2,    29.58,2,     0.00,2,     2.08,2,    0.109,2,    0.063,2, -999.000,9,-999.0000,9,  -999.00,9,   2191.0,2,   2291.0,2,     7.61,2,-999.0000,-999.000,  5.4523,-999.000
      325024_1,  P14N,   183,  1,     19,     19,2,19930828,1607,-14.9975, 178.9922, 2348,    759.4,   5.0139,  34.3894,2,  34.3922,2,   -999.0,9,    176.0,2,    37.88,2,    31.47,2,     0.00,2,     2.20,2,    0.050,2,    0.029,2, -999.000,9,-999.0000,9,  -999.00,9,   -999.0,9,   -999.0,9,  -999.00,9,-999.0000,-999.000,  4.9520,-999.000
      325024_1,  P14N,   183,  1,     18,     18,2,19930828,1607,-14.9975, 178.9922, 2348,    809.9,   4.7363,  34.4047,2,  34.4037,2,   -999.0,9,    171.3,2,    43.61,2,    32.31,2,     0.00,2,     2.26,2,    0.033,2,    0.015,2, -999.000,9,-999.0000,9,  -999.00,9,   2215.0,2,   2311.0,2,     7.59,2,-999.0000,-999.000,  4.6717,-999.000
      325024_1,  P14N,   183,  1,     17,     17,2,19930828,1607,-14.9975, 178.9922, 2348,    910.4,   4.1749,  34.4429,2,  34.4437,2,   -999.0,9,    161.2,2,    57.75,2,    33.74,2,     0.00,2,     2.36,2,    0.007,2,    0.007,2, -999.000,9,-999.0000,9,  -999.00,9,   2235.0,2,   2319.0,2,     7.55,2,-999.0000,-999.000,  4.1055,-999.000
      325024_1,  P14N,   183,  1,     16,     16,2,19930828,1607,-14.9975, 178.9922, 2348,   1011.5,   3.7914,  34.4780,2,  34.4766,2,   -999.0,9,    157.0,2,    68.91,2,    34.29,2,     0.00,2,     2.41,2, -999.000,5, -999.000,5, -999.000,9,-999.0000,9,  -999.00,9,   2250.0,2,   2336.0,2,     7.56,2,-999.0000,-999.000,  3.7165,-999.000
      325024_1,  P14N,   183,  1,     15,     15,2,19930828,1607,-14.9975, 178.9922, 2348,   1112.2,   3.4879,  34.4987,2,  34.4980,2,   -999.0,9,    156.2,2,    76.49,2,    34.59,2,     0.00,2,     2.43,2,    0.003,2,    0.006,2, -999.000,9,-999.0000,9,  -999.00,9,   2259.0,2,   2339.0,2,     7.55,2,-999.0000,-999.000,  3.4072,-999.000
      325024_1,  P14N,   183,  1,     14,     14,2,19930828,1607,-14.9975, 178.9922, 2348,   1213.8,   3.2889,  34.5354,2,  34.5347,2,   -999.0,9,    147.8,2,    87.72,2,    35.31,2,     0.00,2,     2.48,2, -999.000,5, -999.000,5, -999.000,9,-999.0000,9,  -999.00,9,   2274.0,2,   2356.0,2,     7.56,2,-999.0000,-999.000,  3.2017,-999.000
      325024_1,  P14N,   183,  1,     13,     13,2,19930828,1607,-14.9975, 178.9922, 2348,   1315.0,   3.0810,  34.5523,2,  34.5523,2,   -999.0,9,    147.2,2,    94.35,2,    35.39,2,     0.00,2,     2.49,2,    0.003,2,    0.005,2, -999.000,9,-999.0000,9,  -999.00,9,   2281.0,2,   2362.0,2,     7.55,2,-999.0000,-999.000,  2.9875,-999.000
      325024_1,  P14N,   183,  1,     12,     12,2,19930828,1607,-14.9975, 178.9922, 2348,   1415.9,   2.9386,  34.5668,2,  34.5670,2,   -999.0,9,    145.8,2,    99.57,2,    35.60,2,     0.00,2,     2.51,2, -999.000,5, -999.000,5, -999.000,9,-999.0000,9,  -999.00,9,   2286.0,2,   2362.0,2,     7.53,2,-999.0000,-999.000,  2.8384,-999.000
      325024_1,  P14N,   183,  1,     11,     11,2,19930828,1607,-14.9975, 178.9922, 2348,   1517.8,   2.7754,  34.5808,2,  34.5803,2,   -999.0,9,    145.9,2,   104.39,2,    35.55,2,     0.00,2,     2.51,2, -999.000,5, -999.000,5, -999.000,9,-999.0000,9,  -999.00,9,   2292.0,2,   2372.0,2,     7.53,2,-999.0000,-999.000,  2.6687,-999.000
      325024_1,  P14N,   183,  1,     10,     10,2,19930828,1607,-14.9975, 178.9922, 2348,   1618.8,   2.6827,  34.5903,2,  34.5898,2,   -999.0,9,    145.3,2,   108.21,2,    35.76,2,     0.00,2,     2.52,2, -999.000,5, -999.000,5, -999.000,9,-999.0000,9,  -999.00,9,   2296.0,2,   2373.0,2,     7.53,2,-999.0000,-999.000,  2.5688,-999.000
      325024_1,  P14N,   183,  1,      9,      9,2,19930828,1607,-14.9975, 178.9922, 2348,   1720.7,   2.5798,  34.6001,2,  34.5997,2,   -999.0,9,    145.2,2,   112.25,2,    35.79,2,     0.00,2,     2.51,2,   -0.003,2,    0.002,2, -999.000,9,-999.0000,9,  -999.00,9,   2300.0,2,   2379.0,2,     7.53,2,-999.0000,-999.000,  2.4587,-999.000
      325024_1,  P14N,   183,  1,      8,      8,2,19930828,1607,-14.9975, 178.9922, 2348,   1822.2,   2.4595,  34.6121,2,  34.6123,2,   -999.0,9,    146.0,2,   115.27,2,    35.70,2,     0.00,2,     2.51,2, -999.000,5, -999.000,5, -999.000,9,-999.0000,9,  -999.00,9,   2303.0,2,   2384.0,2,     7.53,2,-999.0000,-999.000,  2.3314,-999.000
      325024_1,  P14N,   183,  1,      7,      7,2,19930828,1607,-14.9975, 178.9922, 2348,   1923.9,   2.2971,  34.6277,2,  34.6274,2,   -999.0,9,    147.0,2,   119.94,2,    35.65,2,     0.00,2,     2.51,2, -999.000,5, -999.000,5, -999.000,9,-999.0000,9,  -999.00,9,   2307.0,2,   2394.0,2,     7.54,2,-999.0000,-999.000,  2.1627,-999.000
      325024_1,  P14N,   183,  1,      6,      6,2,19930828,1607,-14.9975, 178.9922, 2348,   2025.4,   2.2350,  34.6326,2,  34.6333,2,   -999.0,9,    146.7,2,   122.36,2,    35.73,2,     0.00,2,     2.51,2,    0.001,2,    0.001,2, -999.000,9,-999.0000,9,  -999.00,9,   2309.0,2,   2388.0,2,     7.54,2,-999.0000,-999.000,  2.0928,-999.000
      325024_1,  P14N,   183,  1,      5,      5,2,19930828,1607,-14.9975, 178.9922, 2348,   2126.9,   2.1684,  34.6381,2,  34.6382,2,   -999.0,9,    146.5,2,   125.20,2,    35.81,2,     0.00,2,     2.51,2, -999.000,5, -999.000,5, -999.000,9,-999.0000,9,  -999.00,9,   2310.0,2,   2400.0,2,     7.55,2,-999.0000,-999.000,  2.0185,-999.000
      325024_1,  P14N,   183,  1,      4,      4,2,19930828,1607,-14.9975, 178.9922, 2348,   2229.0,   2.1140,  34.6429,2,  34.6429,2,   -999.0,9,    147.0,2,   127.01,2,    35.85,2,     0.00,2,     2.51,2, -999.000,5, -999.000,5, -999.000,9,-999.0000,9,  -999.00,9,   2314.0,2,   2395.0,2,     7.54,2,-999.0000,-999.000,  1.9561,-999.000
      325024_1,  P14N,   183,  1,      3,      3,2,19930828,1607,-14.9975, 178.9922, 2348,   2330.5,   2.0780,  34.6461,2,  34.6462,2,   -999.0,9,    146.3,2,   129.24,2,    35.88,2,     0.00,2,     2.51,2, -999.000,5, -999.000,5, -999.000,9,-999.0000,9,  -999.00,9,   2315.0,2,   2395.0,2,     7.54,2,-999.0000,-999.000,  1.9116,-999.000
      325024_1,  P14N,   183,  1,      1,      1,2,19930828,1607,-14.9975, 178.9922, 2348,   2365.1,   2.0564,  34.6476,2,  34.6470,2,   -999.0,9,    146.3,2,   129.96,2,    35.91,2,     0.00,2,     2.52,2, -999.000,5, -999.000,5, -999.000,9,-999.0000,9,  -999.00,9,   2317.0,2,   2395.0,2,     7.54,2,-999.0000,-999.000,  1.8873,-999.000
      325024_1,  P14N,   183,  1,      2,      2,2,19930828,1607,-14.9975, 178.9922, 2348,   2365.2,   2.0564,  34.6477,2,  34.6488,2,   -999.0,9,    145.9,2,   130.01,2,    35.92,2,     0.00,2,     2.52,2,    0.000,2,    0.000,2, -999.000,9,-999.0000,9,  -999.00,9,   2316.0,2,   2406.0,2,     7.56,2,-999.0000,-999.000,  1.8873,-999.000