BOTTLE,20131125MIRCJHATS
EXPOCODE,SECT_ID,STNNBR,CASTNO,SAMPNO,BTLNBR,BTLNBR_FLAG_W,DATE,TIME,LATITUDE,LONGITUDE,DEPTH,CTDPRS,CTDTMP,CTDSAL,CTDSAL_FLAG_W,SALNTY,SALNTY_FLAG_W,CTDOXY,CTDOXY_FLAG_W,OXYGEN,OXYGEN_FLAG_W,SILCAT,SILCAT_FLAG_W,NITRAT,NITRAT_FLAG_W,NITRIT,NITRIT_FLAG_W,PHSPHT,PHSPHT_FLAG_W,CFC-11,CFC-11_FLAG_W,CFC-12,CFC-12_FLAG_W,TRITUM,TRITUM_FLAG_W,HELIUM,HELIUM_FLAG_W,DELHE3,DELHE3_FLAG_W,TCARBN,TCARBN_FLAG_W,ALKALI,ALKALI_FLAG_W,PH,PH_FLAG_W,HELIER,DELHER,THETA,TRITER
,,,,,,,,,,,,DBAR,ITS-90,PSS-78,,PSS-78,,UMOL/KG,,UMOL/KG,,UMOL/KG,,UMOL/KG,,UMOL/KG,,UMOL/KG,,PMOL/KG,,PMOL/KG,,TU,,NMOL/KG,,PERCNT,,UMOL/KG,,UMOL/KG,,25_DEG,,NMOL/KG,PERCNT,DEG C,TU
      325023_1,  P14N,     7,  1,     35,     35,4,19930708,1100, 56.0013,-176.4993, 3717,      2.4,   7.3374,  33.0067,2,  33.0085,2,   -999.0,9,    307.8,2,    17.21,2,    14.14,2,     0.18,2,     1.42,2,    4.804,2,    2.358,2, -999.000,9,-999.0000,9,  -999.00,9,   -999.0,9,   -999.0,9,  -999.00,9,-999.0000,-999.000,  7.3372,-999.000
      325023_1,  P14N,     7,  1,     34,     34,4,19930708,1100, 56.0013,-176.4993, 3717,     36.3,   3.6580,  33.1605,2,  33.1564,2,   -999.0,9,    320.4,2,    49.62,2,    22.72,2,     0.32,2,     2.13,2, -999.000,5, -999.000,5, -999.000,9,-999.0000,9,  -999.00,9,   -999.0,9,   -999.0,9,  -999.00,9,-999.0000,-999.000,  3.6557,-999.000
      325023_1,  P14N,     7,  1,     33,     33,4,19930708,1100, 56.0013,-176.4993, 3717,     66.9,   2.7222,  33.1863,2,  33.1872,2,   -999.0,9,    314.8,2,    58.32,2,    27.67,2,     0.40,2,     2.29,2, -999.000,5, -999.000,5, -999.000,9,-999.0000,9,  -999.00,9,   -999.0,9,   -999.0,9,  -999.00,9,-999.0000,-999.000,  2.7185,-999.000
      325023_1,  P14N,     7,  1,     32,     32,4,19930708,1100, 56.0013,-176.4993, 3717,     97.8,   2.5139,  33.2063,2,  33.2051,2,   -999.0,9,    313.2,2,    59.46,2,    28.89,2,     0.04,2,     2.31,2,    5.567,2,    2.696,2, -999.000,9,-999.0000,9,  -999.00,9,   -999.0,9,   -999.0,9,  -999.00,9,-999.0000,-999.000,  2.5085,-999.000
      325023_1,  P14N,     7,  1,     31,     31,4,19930708,1100, 56.0013,-176.4993, 3717,    128.1,   2.4555,  33.2254,2,  33.2309,2,   -999.0,9,    304.7,2,    61.08,2,    29.39,2,     0.03,2,     2.34,2, -999.000,5, -999.000,5, -999.000,9,-999.0000,9,  -999.00,9,   -999.0,9,   -999.0,9,  -999.00,9,-999.0000,-999.000,  2.4486,-999.000
      325023_1,  P14N,     7,  1,     30,     30,4,19930708,1100, 56.0013,-176.4993, 3717,    157.9,   2.4150,  33.2567,2,  33.2746,2,   -999.0,9,    284.4,2,    63.67,2,    30.20,2,     0.02,2,     2.40,2,    5.196,2,    2.517,2, -999.000,9,-999.0000,9,  -999.00,9,   -999.0,9,   -999.0,9,  -999.00,9,-999.0000,-999.000,  2.4065,-999.000
      325023_1,  P14N,     7,  1,     29,     29,4,19930708,1100, 56.0013,-176.4993, 3717,    208.7,   3.4345,  33.5417,2,  33.5491,2,   -999.0,9,    161.2,2,    80.64,2,    36.12,2,     0.01,2,     2.74,2, -999.000,5, -999.000,5, -999.000,9,-999.0000,9,  -999.00,9,   -999.0,9,   -999.0,9,  -999.00,9,-999.0000,-999.000,  3.4213,-999.000
      325023_1,  P14N,     7,  1,     28,     28,4,19930708,1100, 56.0013,-176.4993, 3717,    258.9,   3.7255,  33.6910,2,  33.6911,2,   -999.0,9,    116.5,2,    89.32,2,    38.36,2,     0.02,2,     2.86,2,    2.407,2,    1.158,2, -999.000,9,-999.0000,9,  -999.00,9,   -999.0,9,   -999.0,9,  -999.00,9,-999.0000,-999.000,  3.7083,-999.000
      325023_1,  P14N,     7,  1,     27,     27,4,19930708,1100, 56.0013,-176.4993, 3717,    309.4,   3.7261,  33.7961,2,  33.7997,2,   -999.0,9,     82.0,2,    97.51,2,    40.42,2,     0.01,2,     3.00,2, -999.000,5, -999.000,5, -999.000,9,-999.0000,9,  -999.00,9,   -999.0,9,   -999.0,9,  -999.00,9,-999.0000,-999.000,  3.7054,-999.000
      325023_1,  P14N,     7,  1,     26,     26,4,19930708,1100, 56.0013,-176.4993, 3717,    360.5,   3.6721,  33.8880,2,  33.8891,2,   -999.0,9,     66.8,2,   102.29,2,    41.20,2,     0.01,2,     3.04,2,    1.480,2,    0.717,2, -999.000,9,-999.0000,9,  -999.00,9,   -999.0,9,   -999.0,9,  -999.00,9,-999.0000,-999.000,  3.6479,-999.000
      325023_1,  P14N,     7,  1,     25,     25,4,19930708,1100, 56.0013,-176.4993, 3717,    410.7,   3.6223,  33.9610,2,  33.9599,2,   -999.0,9,     50.7,2,   108.29,2,    42.06,2,     0.01,2,     3.10,2, -999.000,5, -999.000,5, -999.000,9,-999.0000,9,  -999.00,9,   -999.0,9,   -999.0,9,  -999.00,9,-999.0000,-999.000,  3.5947,-999.000
      325023_1,  P14N,     7,  1,     24,     24,4,19930708,1100, 56.0013,-176.4993, 3717,    460.6,   3.5857,  34.0245,2,  34.0246,2,   -999.0,9,     34.6,2,   112.82,2,    43.02,2,     0.01,2,     3.17,2,    0.827,2,    0.396,2, -999.000,9,-999.0000,9,  -999.00,9,   -999.0,9,   -999.0,9,  -999.00,9,-999.0000,-999.000,  3.5547,-999.000
      325023_1,  P14N,     7,  1,     23,     23,4,19930708,1100, 56.0013,-176.4993, 3717,    511.2,   3.5437,  34.0631,2,  34.0644,2,   -999.0,9,     29.8,2,   116.86,2,    43.29,2,     0.00,2,     3.17,2, -999.000,5, -999.000,5, -999.000,9,-999.0000,9,  -999.00,9,   -999.0,9,   -999.0,9,  -999.00,9,-999.0000,-999.000,  3.5091,-999.000
      325023_1,  P14N,     7,  1,     22,     22,4,19930708,1100, 56.0013,-176.4993, 3717,    612.6,   3.3775,  34.1506,2,  34.1501,2,   -999.0,9,     23.4,2,   126.30,2,    43.42,2,     0.00,2,     3.20,2,    0.437,2,    0.211,2, -999.000,9,-999.0000,9,  -999.00,9,   -999.0,9,   -999.0,9,  -999.00,9,-999.0000,-999.000,  3.3363,-999.000
      325023_1,  P14N,     7,  1,     21,     21,4,19930708,1100, 56.0013,-176.4993, 3717,    713.3,   3.2189,  34.2068,2,  34.2065,2,   -999.0,9,     21.2,2,   134.04,2,    43.45,2,     0.00,2,     3.21,2, -999.000,5, -999.000,5, -999.000,9,-999.0000,9,  -999.00,9,   -999.0,9,   -999.0,9,  -999.00,9,-999.0000,-999.000,  3.1712,-999.000
      325023_1,  P14N,     7,  1,     20,     20,4,19930708,1100, 56.0013,-176.4993, 3717,    814.9,   3.0770,  34.2657,2,  34.2655,2,   -999.0,9,     18.4,2,   141.06,2,    43.53,2,     0.00,2,     3.21,2,    0.204,2,    0.100,2, -999.000,9,-999.0000,9,  -999.00,9,   -999.0,9,   -999.0,9,  -999.00,9,-999.0000,-999.000,  3.0227,-999.000
      325023_1,  P14N,     7,  1,     19,     19,4,19930708,1100, 56.0013,-176.4993, 3717,    916.2,   2.9368,  34.3147,2,  34.3147,2,   -999.0,9,     17.2,2,   146.85,2,    43.66,2,     0.00,2,     3.22,2, -999.000,5, -999.000,5, -999.000,9,-999.0000,9,  -999.00,9,   -999.0,9,   -999.0,9,  -999.00,9,-999.0000,-999.000,  2.8759,-999.000
      325023_1,  P14N,     7,  1,     18,     18,4,19930708,1100, 56.0013,-176.4993, 3717,   1017.5,   2.8060,  34.3549,2,  34.3549,2,   -999.0,9,     17.5,2,   152.90,2,    43.60,2,     0.00,2,     3.21,2,    0.088,2,    0.050,2, -999.000,9,-999.0000,9,  -999.00,9,   -999.0,9,   -999.0,9,  -999.00,9,-999.0000,-999.000,  2.7385,-999.000
      325023_1,  P14N,     7,  1,     17,     17,4,19930708,1100, 56.0013,-176.4993, 3717,   1118.8,   2.6928,  34.3878,2,  34.3905,2,   -999.0,9,     18.5,2,   158.22,2,    43.54,2,     0.00,2,     3.21,2, -999.000,5, -999.000,5, -999.000,9,-999.0000,9,  -999.00,9,   -999.0,9,   -999.0,9,  -999.00,9,-999.0000,-999.000,  2.6187,-999.000
      325023_1,  P14N,     7,  1,     16,     16,4,19930708,1100, 56.0013,-176.4993, 3717,   1219.6,   2.5687,  34.4191,2,  34.4178,2,   -999.0,9,     20.5,2,   164.55,2,    43.39,2,     0.00,2,     3.20,2,    0.043,2,    0.021,2, -999.000,9,-999.0000,9,  -999.00,9,   -999.0,9,   -999.0,9,  -999.00,9,-999.0000,-999.000,  2.4881,-999.000
      325023_1,  P14N,     7,  1,     15,     15,4,19930708,1100, 56.0013,-176.4993, 3717,   1321.2,   2.4573,  34.4483,2,  34.4468,2,   -999.0,9,     22.4,2,   169.89,2,    43.28,2,     0.00,2,     3.20,2,    0.024,2,    0.011,2, -999.000,9,-999.0000,9,  -999.00,9,   -999.0,9,   -999.0,9,  -999.00,9,-999.0000,-999.000,  2.3700,-999.000
      325023_1,  P14N,     7,  1,     14,     14,4,19930708,1100, 56.0013,-176.4993, 3717,   1422.6,   2.3567,  34.4724,2,  34.4717,2,   -999.0,9,     25.6,2,   174.49,2,    43.04,2,     0.00,2,     3.19,2,    0.017,2,    0.014,2, -999.000,9,-999.0000,9,  -999.00,9,   -999.0,9,   -999.0,9,  -999.00,9,-999.0000,-999.000,  2.2626,-999.000
      325023_1,  P14N,     7,  1,     13,     13,4,19930708,1100, 56.0013,-176.4993, 3717,   1524.8,   2.2326,  34.5014,2,  34.5027,2,   -999.0,9,     30.2,2,   180.37,2,    42.61,2,     0.00,2,     3.17,2,    0.014,2,    0.005,2, -999.000,9,-999.0000,9,  -999.00,9,   -999.0,9,   -999.0,9,  -999.00,9,-999.0000,-999.000,  2.1318,-999.000
      325023_1,  P14N,     7,  1,     12,     12,4,19930708,1100, 56.0013,-176.4993, 3717,   1626.9,   2.1411,  34.5228,2,  34.5253,2,   -999.0,9,     34.3,2,   184.99,2,    42.27,2,     0.00,2,     3.16,2, -999.000,5, -999.000,5, -999.000,9,-999.0000,9,  -999.00,9,   -999.0,9,   -999.0,9,  -999.00,9,-999.0000,-999.000,  2.0334,-999.000
      325023_1,  P14N,     7,  1,     11,     11,4,19930708,1100, 56.0013,-176.4993, 3717,   1830.9,   1.9948,  34.5568,2,  34.5579,2,   -999.0,9,     43.6,2,   192.68,2,    41.52,2,     0.00,2,     3.13,2,    0.006,2,    0.006,2, -999.000,9,-999.0000,9,  -999.00,9,   -999.0,9,   -999.0,9,  -999.00,9,-999.0000,-999.000,  1.8727,-999.000
      325023_1,  P14N,     7,  1,     10,     10,4,19930708,1100, 56.0013,-176.4993, 3717,   2035.6,   1.8831,  34.5821,2,  34.5826,2,   -999.0,9,     52.1,2,   199.91,2,    41.33,2,     0.00,2,     3.11,2, -999.000,5, -999.000,5, -999.000,9,-999.0000,9,  -999.00,9,   -999.0,9,   -999.0,9,  -999.00,9,-999.0000,-999.000,  1.7457,-999.000
      325023_1,  P14N,     7,  1,      9,      9,4,19930708,1100, 56.0013,-176.4993, 3717,   2240.5,   1.8000,  34.6017,2,  34.6038,2,   -999.0,9,     60.6,2,   204.59,2,    40.30,2,     0.00,2,     3.07,2,    0.001,2,    0.002,2, -999.000,9,-999.0000,9,  -999.00,9,   -999.0,9,   -999.0,9,  -999.00,9,-999.0000,-999.000,  1.6464,-999.000
      325023_1,  P14N,     7,  1,      8,      8,4,19930708,1100, 56.0013,-176.4993, 3717,   2445.1,   1.7283,  34.6184,2,  34.6203,2,   -999.0,9,     69.3,2,   208.01,2,    39.65,2,     0.00,2,     3.04,2, -999.000,5, -999.000,5, -999.000,9,-999.0000,9,  -999.00,9,   -999.0,9,   -999.0,9,  -999.00,9,-999.0000,-999.000,  1.5581,-999.000
      325023_1,  P14N,     7,  1,      7,      7,4,19930708,1100, 56.0013,-176.4993, 3717,   2649.7,   1.6743,  34.6319,2,  34.6343,2,   -999.0,9,     76.6,2,   211.69,2,    39.04,2,     0.00,2,     3.02,2,   -0.002,2,    0.000,2, -999.000,9,-999.0000,9,  -999.00,9,   -999.0,9,   -999.0,9,  -999.00,9,-999.0000,-999.000,  1.4867,-999.000
      325023_1,  P14N,     7,  1,      6,      6,4,19930708,1100, 56.0013,-176.4993, 3717,   2854.3,   1.6357,  34.6416,2,  34.6443,2,   -999.0,9,     83.0,2,   214.34,2,    38.57,2,     0.00,2,     2.99,2, -999.000,5, -999.000,5, -999.000,9,-999.0000,9,  -999.00,9,   -999.0,9,   -999.0,9,  -999.00,9,-999.0000,-999.000,  1.4299,-999.000
      325023_1,  P14N,     7,  1,      5,      5,4,19930708,1100, 56.0013,-176.4993, 3717,   3060.1,   1.6121,  34.6496,2,  34.6516,2,   -999.0,9,     88.3,2,   216.74,2,    38.11,2,     0.00,2,     2.96,2,   -0.002,2,   -0.003,2, -999.000,9,-999.0000,9,  -999.00,9,   -999.0,9,   -999.0,9,  -999.00,9,-999.0000,-999.000,  1.3872,-999.000
      325023_1,  P14N,     7,  1,      4,      4,4,19930708,1100, 56.0013,-176.4993, 3717,   3264.5,   1.5968,  34.6558,2,  34.6585,2,   -999.0,9,     92.8,2,   218.88,2,    37.73,2,     0.00,2,     2.95,2,    0.004,2,    0.005,2, -999.000,9,-999.0000,9,  -999.00,9,   -999.0,9,   -999.0,9,  -999.00,9,-999.0000,-999.000,  1.3522,-999.000
      325023_1,  P14N,     7,  1,      3,      3,4,19930708,1100, 56.0013,-176.4993, 3717,   3469.8,   1.5926,  34.6603,2,  34.6626,2,   -999.0,9,     95.8,2,   221.81,2,    37.58,2,     0.00,2,     2.94,2,   -0.001,2,    0.005,2, -999.000,9,-999.0000,9,  -999.00,9,   -999.0,9,   -999.0,9,  -999.00,9,-999.0000,-999.000,  1.3274,-999.000
      325023_1,  P14N,     7,  1,      2,      2,4,19930708,1100, 56.0013,-176.4993, 3717,   3675.3,   1.5977,  34.6645,2,  34.6664,2,   -999.0,9,     94.8,2,   240.05,2,    37.53,2,     0.00,2,     2.97,2,    0.018,6,    0.011,6, -999.000,9,-999.0000,9,  -999.00,9,   -999.0,9,   -999.0,9,  -999.00,9,-999.0000,-999.000,  1.3110,-999.000
      325023_1,  P14N,     7,  1,      1,      1,2,19930708,1100, 56.0013,-176.4993, 3717,   3767.4,   1.6080,  34.6652,2,  34.6681,2,   -999.0,9,     94.4,2,   240.37,2,    37.56,2,     0.00,2,     2.96,2, -999.000,5, -999.000,5, -999.000,9,-999.0000,9,  -999.00,9,   -999.0,9,   -999.0,9,  -999.00,9,-999.0000,-999.000,  1.3113,-999.000