BOTTLE,20131125MIRCJHATS
EXPOCODE,SECT_ID,STNNBR,CASTNO,SAMPNO,BTLNBR,BTLNBR_FLAG_W,DATE,TIME,LATITUDE,LONGITUDE,DEPTH,CTDPRS,CTDTMP,CTDSAL,CTDSAL_FLAG_W,SALNTY,SALNTY_FLAG_W,CTDOXY,CTDOXY_FLAG_W,OXYGEN,OXYGEN_FLAG_W,SILCAT,SILCAT_FLAG_W,NITRAT,NITRAT_FLAG_W,NITRIT,NITRIT_FLAG_W,PHSPHT,PHSPHT_FLAG_W,CFC-11,CFC-11_FLAG_W,CFC-12,CFC-12_FLAG_W,TRITUM,TRITUM_FLAG_W,HELIUM,HELIUM_FLAG_W,DELHE3,DELHE3_FLAG_W,TCARBN,TCARBN_FLAG_W,ALKALI,ALKALI_FLAG_W,PH,PH_FLAG_W,HELIER,DELHER,THETA,TRITER
,,,,,,,,,,,,DBAR,ITS-90,PSS-78,,PSS-78,,UMOL/KG,,UMOL/KG,,UMOL/KG,,UMOL/KG,,UMOL/KG,,UMOL/KG,,PMOL/KG,,PMOL/KG,,TU,,NMOL/KG,,PERCNT,,UMOL/KG,,UMOL/KG,,25_DEG,,NMOL/KG,PERCNT,DEG C,TU
      325023_1,  P14N,    26,  1,     36,     36,2,19930712,1433, 49.4982, 178.9943, 4890,     36.9,   6.3860,  32.7632,2,  32.7569,2,   -999.0,9,    316.0,2,    36.53,2,    18.47,2,     0.21,2,     1.64,2, -999.000,5, -999.000,5, -999.000,9,-999.0000,9,  -999.00,9,   -999.0,9,   -999.0,9,  -999.00,9,-999.0000,-999.000,  6.3829,-999.000
      325023_1,  P14N,    26,  1,     35,     35,2,19930712,1433, 49.4982, 178.9943, 4890,     67.7,   3.5114,  32.9786,2,  32.9789,2,   -999.0,9,    317.9,2,    46.24,2,    23.64,2,     0.34,2,     1.99,2, -999.000,5, -999.000,5, -999.000,9,-999.0000,9,  -999.00,9,   -999.0,9,   -999.0,9,  -999.00,9,-999.0000,-999.000,  3.5072,-999.000
      325023_1,  P14N,    26,  1,     34,     34,2,19930712,1433, 49.4982, 178.9943, 4890,     97.6,   3.0499,  33.0686,2,  33.0605,2,   -999.0,9,    303.1,2,    49.50,2,    25.88,2,     0.48,2,     2.10,2, -999.000,5, -999.000,5, -999.000,9,-999.0000,9,  -999.00,9,   -999.0,9,   -999.0,9,  -999.00,9,-999.0000,-999.000,  3.0442,-999.000
      325023_1,  P14N,    26,  1,     33,     33,2,19930712,1433, 49.4982, 178.9943, 4890,     97.6,   3.0462,  33.0926,2,  33.0773,2,   -999.0,9,    295.5,2,    50.62,2,    26.44,2,     0.42,2,     2.12,2, -999.000,5, -999.000,5, -999.000,9,-999.0000,9,  -999.00,9,   -999.0,9,   -999.0,9,  -999.00,9,-999.0000,-999.000,  3.0405,-999.000
      325023_1,  P14N,    26,  1,     32,     32,2,19930712,1433, 49.4982, 178.9943, 4890,    128.0,   3.5236,  33.7124,2,  33.7057,2,   -999.0,9,     83.7,2,    85.87,2,    41.15,2,     0.02,2,     2.98,2, -999.000,5, -999.000,5, -999.000,9,-999.0000,9,  -999.00,9,   -999.0,9,   -999.0,9,  -999.00,9,-999.0000,-999.000,  3.5154,-999.000
      325023_1,  P14N,    26,  1,     31,     31,2,19930712,1433, 49.4982, 178.9943, 4890,    158.2,   3.6192,  33.8862,2,  33.8834,2,   -999.0,9,     34.0,2,    98.06,2,    44.52,2,     0.02,2,     3.18,2, -999.000,5, -999.000,5, -999.000,9,-999.0000,9,  -999.00,9,   -999.0,9,   -999.0,9,  -999.00,9,-999.0000,-999.000,  3.6089,-999.000
      325023_1,  P14N,    26,  1,     30,     30,2,19930712,1433, 49.4982, 178.9943, 4890,    208.8,   3.5600,  33.9746,2,  33.9708,2,   -999.0,9,     22.5,2,   106.94,2,    44.89,2,     0.01,2,     3.21,2, -999.000,5, -999.000,5, -999.000,9,-999.0000,9,  -999.00,9,   -999.0,9,   -999.0,9,  -999.00,9,-999.0000,-999.000,  3.5463,-999.000
      325023_1,  P14N,    26,  1,     29,     29,2,19930712,1433, 49.4982, 178.9943, 4890,    259.4,   3.6176,  34.0410,2,  34.0383,2,   -999.0,9,     18.5,2,   111.66,2,    44.66,2,     0.01,2,     3.21,2, -999.000,5, -999.000,5, -999.000,9,-999.0000,9,  -999.00,9,   -999.0,9,   -999.0,9,  -999.00,9,-999.0000,-999.000,  3.6005,-999.000
      325023_1,  P14N,    26,  1,     28,     28,2,19930712,1433, 49.4982, 178.9943, 4890,    308.3,   3.6023,  34.1013,2,  34.0980,2,   -999.0,9,     17.8,2,   116.00,2,    44.38,2,     0.01,2,     3.18,2, -999.000,5, -999.000,5, -999.000,9,-999.0000,9,  -999.00,9,   -999.0,9,   -999.0,9,  -999.00,9,-999.0000,-999.000,  3.5818,-999.000
      325023_1,  P14N,    26,  1,     27,     27,2,19930712,1433, 49.4982, 178.9943, 4890,    410.8,   3.4570,  34.1805,2,  34.1778,2,   -999.0,9,     15.8,2,   125.19,2,    44.10,2,     0.01,2,     3.17,2, -999.000,5, -999.000,5, -999.000,9,-999.0000,9,  -999.00,9,   -999.0,9,   -999.0,9,  -999.00,9,-999.0000,-999.000,  3.4298,-999.000
      325023_1,  P14N,    26,  1,     26,     26,2,19930712,1433, 49.4982, 178.9943, 4890,    511.1,   3.3041,  34.2355,2,  34.2328,2,   -999.0,9,     15.3,2,   131.80,2,    44.33,2,     0.01,2,     3.17,2, -999.000,5, -999.000,5, -999.000,9,-999.0000,9,  -999.00,9,   -999.0,9,   -999.0,9,  -999.00,9,-999.0000,-999.000,  3.2704,-999.000
      325023_1,  P14N,    26,  1,     25,     25,2,19930712,1433, 49.4982, 178.9943, 4890,    610.7,   3.1462,  34.2869,2,  34.2849,2,   -999.0,9,     15.7,2,   138.45,2,    44.28,2,     0.01,2,     3.17,2, -999.000,5, -999.000,5, -999.000,9,-999.0000,9,  -999.00,9,   -999.0,9,   -999.0,9,  -999.00,9,-999.0000,-999.000,  3.1062,-999.000
      325023_1,  P14N,    26,  1,     24,     24,2,19930712,1433, 49.4982, 178.9943, 4890,    712.5,   2.9718,  34.3342,2,  34.3321,2,   -999.0,9,     16.6,2,   144.94,2,    44.09,2,     0.01,2,     3.16,2, -999.000,5, -999.000,5, -999.000,9,-999.0000,9,  -999.00,9,   -999.0,9,   -999.0,9,  -999.00,9,-999.0000,-999.000,  2.9255,-999.000
      325023_1,  P14N,    26,  1,     23,     23,2,19930712,1433, 49.4982, 178.9943, 4890,    814.5,   2.8038,  34.3766,2,  34.3739,2,   -999.0,9,     18.2,2,   151.07,2,    44.05,2,     0.00,2,     3.16,2, -999.000,5, -999.000,5, -999.000,9,-999.0000,9,  -999.00,9,   -999.0,9,   -999.0,9,  -999.00,9,-999.0000,-999.000,  2.7511,-999.000
      325023_1,  P14N,    26,  1,     22,     22,2,19930712,1433, 49.4982, 178.9943, 4890,    915.8,   2.6621,  34.4159,2,  34.4136,2,   -999.0,9,     19.8,2,   155.77,2,    44.00,2,     0.00,2,     3.15,2, -999.000,5, -999.000,5, -999.000,9,-999.0000,9,  -999.00,9,   -999.0,9,   -999.0,9,  -999.00,9,-999.0000,-999.000,  2.6031,-999.000
      325023_1,  P14N,    26,  1,     21,     21,2,19930712,1433, 49.4982, 178.9943, 4890,   1016.7,   2.5194,  34.4471,2,  34.4444,2,   -999.0,9,     23.2,2,   160.29,2,    43.90,2,     0.00,2,     3.14,2, -999.000,5, -999.000,5, -999.000,9,-999.0000,9,  -999.00,9,   -999.0,9,   -999.0,9,  -999.00,9,-999.0000,-999.000,  2.4541,-999.000
      325023_1,  P14N,    26,  1,     20,     20,2,19930712,1433, 49.4982, 178.9943, 4890,   1219.1,   2.2879,  34.4976,2,  34.4958,2,   -999.0,9,     32.6,2,   166.94,2,    43.39,2,     0.00,2,     3.09,2, -999.000,5, -999.000,5, -999.000,9,-999.0000,9,  -999.00,9,   -999.0,9,   -999.0,9,  -999.00,9,-999.0000,-999.000,  2.2098,-999.000
      325023_1,  P14N,    26,  1,     19,     19,2,19930712,1433, 49.4982, 178.9943, 4890,   1420.1,   2.1342,  34.5341,2,  34.5332,2,   -999.0,9,     42.8,2,   170.46,2,    42.79,2,     0.00,2,     3.05,2, -999.000,5, -999.000,5, -999.000,9,-999.0000,9,  -999.00,9,   -999.0,9,   -999.0,9,  -999.00,9,-999.0000,-999.000,  2.0426,-999.000
      325023_1,  P14N,    26,  1,     18,     18,2,19930712,1433, 49.4982, 178.9943, 4890,   1624.6,   1.9985,  34.5649,2,  34.5630,2,   -999.0,9,     53.4,2,   172.50,2,    42.09,2,     0.00,2,     3.00,2, -999.000,5, -999.000,5, -999.000,9,-999.0000,9,  -999.00,9,   -999.0,9,   -999.0,9,  -999.00,9,-999.0000,-999.000,  1.8927,-999.000
      325023_1,  P14N,    26,  1,     17,     17,2,19930712,1433, 49.4982, 178.9943, 4890,   1829.0,   1.8817,  34.5899,2,  34.5889,2,   -999.0,9,     66.0,2,   173.05,2,    41.31,2,     0.00,2,     2.95,2, -999.000,5, -999.000,5, -999.000,9,-999.0000,9,  -999.00,9,   -999.0,9,   -999.0,9,  -999.00,9,-999.0000,-999.000,  1.7612,-999.000
      325023_1,  P14N,    26,  1,     16,     16,2,19930712,1433, 49.4982, 178.9943, 4890,   2031.9,   1.7815,  34.6108,2,  34.6083,2,   -999.0,9,     78.8,2,   172.53,2,    40.62,2,     0.00,2,     2.89,2, -999.000,5, -999.000,5, -999.000,9,-999.0000,9,  -999.00,9,   -999.0,9,   -999.0,9,  -999.00,9,-999.0000,-999.000,  1.6458,-999.000
      325023_1,  P14N,    26,  1,     15,     15,2,19930712,1433, 49.4982, 178.9943, 4890,   2236.4,   1.6964,  34.6271,2,  34.6252,2,   -999.0,9,     90.0,2,   172.44,2,    39.83,2,     0.00,2,     2.84,2, -999.000,5, -999.000,5, -999.000,9,-999.0000,9,  -999.00,9,   -999.0,9,   -999.0,9,  -999.00,9,-999.0000,-999.000,  1.5449,-999.000
      325023_1,  P14N,    26,  1,     14,     14,2,19930712,1433, 49.4982, 178.9943, 4890,   2439.7,   1.6362,  34.6381,2,  34.6370,2,   -999.0,9,    100.4,2,   170.86,2,    39.24,2,     0.00,2,     2.79,2, -999.000,5, -999.000,5, -999.000,9,-999.0000,9,  -999.00,9,   -999.0,9,   -999.0,9,  -999.00,9,-999.0000,-999.000,  1.4681,-999.000
      325023_1,  P14N,    26,  1,     13,     13,2,19930712,1433, 49.4982, 178.9943, 4890,   2643.6,   1.5880,  34.6479,2,  34.6482,2,   -999.0,9,    109.0,2,   169.28,2,    38.78,2,     0.00,2,     2.75,2, -999.000,5, -999.000,5, -999.000,9,-999.0000,9,  -999.00,9,   -999.0,9,   -999.0,9,  -999.00,9,-999.0000,-999.000,  1.4026,-999.000
      325023_1,  P14N,    26,  1,     12,     12,2,19930712,1433, 49.4982, 178.9943, 4890,   2848.2,   1.5405,  34.6575,2,  34.6566,2,   -999.0,9,    118.2,2,   167.70,2,    38.14,2,     0.00,2,     2.70,2, -999.000,5, -999.000,5, -999.000,9,-999.0000,9,  -999.00,9,   -999.0,9,   -999.0,9,  -999.00,9,-999.0000,-999.000,  1.3372,-999.000
      325023_1,  P14N,    26,  1,     11,     11,2,19930712,1433, 49.4982, 178.9943, 4890,   3053.8,   1.5117,  34.6634,2,  34.6627,2,   -999.0,9,    125.7,2,   165.50,2,    37.68,2,     0.00,2,     2.66,2, -999.000,5, -999.000,5, -999.000,9,-999.0000,9,  -999.00,9,   -999.0,9,   -999.0,9,  -999.00,9,-999.0000,-999.000,  1.2896,-999.000
      325023_1,  P14N,    26,  1,     10,     10,2,19930712,1433, 49.4982, 178.9943, 4890,   3257.3,   1.4846,  34.6696,2,  34.6686,2,   -999.0,9,    132.5,2,   163.30,2,    37.22,2,     0.00,2,     2.63,2, -999.000,5, -999.000,5, -999.000,9,-999.0000,9,  -999.00,9,   -999.0,9,   -999.0,9,  -999.00,9,-999.0000,-999.000,  1.2433,-999.000
      325023_1,  P14N,    26,  1,      9,      9,2,19930712,1433, 49.4982, 178.9943, 4890,   3461.9,   1.4691,  34.6736,2,  34.6725,2,   -999.0,9,    137.8,2,   162.16,2,    36.81,2,     0.00,2,     2.60,2, -999.000,5, -999.000,5, -999.000,9,-999.0000,9,  -999.00,9,   -999.0,9,   -999.0,9,  -999.00,9,-999.0000,-999.000,  1.2077,-999.000
      325023_1,  P14N,    26,  1,      8,      8,2,19930712,1433, 49.4982, 178.9943, 4890,   3667.3,   1.4540,  34.6783,2,  34.6768,2,   -999.0,9,    143.0,2,   160.61,2,    36.58,2,     0.00,2,     2.58,2, -999.000,5, -999.000,5, -999.000,9,-999.0000,9,  -999.00,9,   -999.0,9,   -999.0,9,  -999.00,9,-999.0000,-999.000,  1.1718,-999.000
      325023_1,  P14N,    26,  1,      7,      7,2,19930712,1433, 49.4982, 178.9943, 4890,   3873.6,   1.4490,  34.6812,2,  34.6809,2,   -999.0,9,    147.1,2,   159.05,2,    36.17,2,     0.00,2,     2.54,2, -999.000,5, -999.000,5, -999.000,9,-999.0000,9,  -999.00,9,   -999.0,9,   -999.0,9,  -999.00,9,-999.0000,-999.000,  1.1452,-999.000
      325023_1,  P14N,    26,  1,      6,      6,2,19930712,1433, 49.4982, 178.9943, 4890,   4078.5,   1.4515,  34.6833,2,  34.6831,2,   -999.0,9,    150.0,2,   158.97,2,    36.08,2,     0.00,2,     2.53,2, -999.000,5, -999.000,5, -999.000,9,-999.0000,9,  -999.00,9,   -999.0,9,   -999.0,9,  -999.00,9,-999.0000,-999.000,  1.1254,-999.000
      325023_1,  P14N,    26,  1,      5,      5,2,19930712,1433, 49.4982, 178.9943, 4890,   4281.9,   1.4599,  34.6850,2,  34.6843,2,   -999.0,9,    152.3,2,   157.63,2,    35.94,2,     0.00,2,     2.53,2, -999.000,5, -999.000,5, -999.000,9,-999.0000,9,  -999.00,9,   -999.0,9,   -999.0,9,  -999.00,9,-999.0000,-999.000,  1.1110,-999.000
      325023_1,  P14N,    26,  1,      4,      4,2,19930712,1433, 49.4982, 178.9943, 4890,   4486.2,   1.4736,  34.6867,2,  34.6860,2,   -999.0,9,    153.1,2,   158.80,2,    35.71,2,     0.00,2,     2.52,2, -999.000,5, -999.000,5, -999.000,9,-999.0000,9,  -999.00,9,   -999.0,9,   -999.0,9,  -999.00,9,-999.0000,-999.000,  1.1011,-999.000
      325023_1,  P14N,    26,  1,      3,      3,2,19930712,1433, 49.4982, 178.9943, 4890,   4693.6,   1.4913,  34.6876,2,  34.6864,2,   -999.0,9,    154.2,2,   159.75,2,    35.75,2,     0.00,2,     2.51,2, -999.000,5, -999.000,5, -999.000,9,-999.0000,9,  -999.00,9,   -999.0,9,   -999.0,9,  -999.00,9,-999.0000,-999.000,  1.0940,-999.000
      325023_1,  P14N,    26,  1,      2,      2,2,19930712,1433, 49.4982, 178.9943, 4890,   4899.0,   1.5034,  34.6890,2,  34.6878,2,   -999.0,9,    157.3,2,   156.12,2,    35.66,2,     0.00,2,     2.49,2, -999.000,5, -999.000,5, -999.000,9,-999.0000,9,  -999.00,9,   -999.0,9,   -999.0,9,  -999.00,9,-999.0000,-999.000,  1.0813,-999.000
      325023_1,  P14N,    26,  1,      1,      1,2,19930712,1433, 49.4982, 178.9943, 4890,   4970.4,   1.5097,  34.6886,2,  34.6890,2,   -999.0,9,    158.3,2,   155.62,2,    35.62,2,     0.00,2,     2.49,2, -999.000,5, -999.000,5, -999.000,9,-999.0000,9,  -999.00,9,   -999.0,9,   -999.0,9,  -999.00,9,-999.0000,-999.000,  1.0787,-999.000