BOTTLE,20131125MIRCJHATS
EXPOCODE,SECT_ID,STNNBR,CASTNO,SAMPNO,BTLNBR,BTLNBR_FLAG_W,DATE,TIME,LATITUDE,LONGITUDE,DEPTH,CTDPRS,CTDTMP,CTDSAL,CTDSAL_FLAG_W,SALNTY,SALNTY_FLAG_W,CTDOXY,CTDOXY_FLAG_W,OXYGEN,OXYGEN_FLAG_W,SILCAT,SILCAT_FLAG_W,NITRAT,NITRAT_FLAG_W,NITRIT,NITRIT_FLAG_W,PHSPHT,PHSPHT_FLAG_W,CFC-11,CFC-11_FLAG_W,CFC-12,CFC-12_FLAG_W,TRITUM,TRITUM_FLAG_W,HELIUM,HELIUM_FLAG_W,DELHE3,DELHE3_FLAG_W,TCARBN,TCARBN_FLAG_W,ALKALI,ALKALI_FLAG_W,PH,PH_FLAG_W,HELIER,DELHER,THETA,TRITER
,,,,,,,,,,,,DBAR,ITS-90,PSS-78,,PSS-78,,UMOL/KG,,UMOL/KG,,UMOL/KG,,UMOL/KG,,UMOL/KG,,UMOL/KG,,PMOL/KG,,PMOL/KG,,TU,,NMOL/KG,,PERCNT,,UMOL/KG,,UMOL/KG,,25_DEG,,NMOL/KG,PERCNT,DEG C,TU
      325023_1,  P14N,    41,  3,     36,     36,2,19930717,1712, 41.9803, 179.0068, 4919,      3.5,  12.7538,  34.0303,2,  34.0312,2,   -999.0,9,    265.6,2,    12.67,2,     6.15,2,     0.15,2,     0.61,2,    3.470,2,    1.783,2, -999.000,9,-999.0000,9,  -999.00,9,   2024.9,2,   2257.1,2,     7.93,2,-999.0000,-999.000, 12.7534,-999.000
      325023_1,  P14N,    41,  3,     35,     35,2,19930717,1712, 41.9803, 179.0068, 4919,     40.3,  12.1384,  34.3366,2,  34.3360,2,   -999.0,9,    253.0,2,    12.77,2,     7.69,2,     0.32,2,     0.67,2,    3.429,2,    1.761,2, -999.000,9,-999.0000,9,  -999.00,9,   2046.0,2,   2267.7,2,     7.91,2,-999.0000,-999.000, 12.1332,-999.000
      325023_1,  P14N,    41,  3,     34,     34,2,19930717,1712, 41.9803, 179.0068, 4919,     71.2,  11.6341,  34.3323,2,  34.3329,2,   -999.0,9,    254.0,2,    12.87,2,     8.72,2,     0.04,2,     0.71,2,    3.356,2,    1.762,2, -999.000,9,-999.0000,9,  -999.00,9,   2053.4,2,   -999.0,9,     7.89,2,-999.0000,-999.000, 11.6251,-999.000
      325023_1,  P14N,    41,  3,     33,     33,2,19930717,1712, 41.9803, 179.0068, 4919,    102.1,  11.2248,  34.2992,2,  34.2978,2,   -999.0,9,    242.9,2,    15.93,2,    10.85,2,     0.03,2,     0.85,2,    3.230,3,    1.624,2, -999.000,9,-999.0000,9,  -999.00,9,   2066.9,2,   2268.7,2,     7.87,2,-999.0000,-999.000, 11.2122,-999.000
      325023_1,  P14N,    41,  3,     32,     32,2,19930717,1712, 41.9803, 179.0068, 4919,    132.0,  10.5540,  34.2201,2,  34.2281,2,   -999.0,9,    246.1,2,    18.43,2,    11.96,2,     0.02,2,     0.93,2,    4.306,4,    1.892,4, -999.000,9,-999.0000,9,  -999.00,9,   2073.3,2,   2261.2,2,     7.85,2,-999.0000,-999.000, 10.5383,-999.000
      325023_1,  P14N,    41,  3,     31,     31,2,19930717,1712, 41.9803, 179.0068, 4919,    161.7,  10.1979,  34.2162,2,  34.2199,2,   -999.0,9,    237.6,2,    20.01,2,    13.25,2,     0.01,2,     1.01,2,    3.219,2,    1.655,2, -999.000,9,-999.0000,9,  -999.00,9,   2082.2,2,   2269.0,2,     7.83,2,-999.0000,-999.000, 10.1791,-999.000
      325023_1,  P14N,    41,  3,     30,     30,2,19930717,1712, 41.9803, 179.0068, 4919,    211.6,   9.3125,  34.1345,2,  34.1359,2,   -999.0,9,    240.4,2,    23.07,2,    14.71,2,     0.01,2,     1.13,2,    3.322,2,    1.695,6, -999.000,9,-999.0000,9,  -999.00,9,   2093.3,2,   2276.5,2,     7.81,2,-999.0000,-999.000,  9.2893,-999.000
      325023_1,  P14N,    41,  3,     29,     29,2,19930717,1712, 41.9803, 179.0068, 4919,    261.8,   8.8390,  34.1047,2,  34.1046,2,   -999.0,9,    217.1,2,    28.53,2,    17.58,2,     0.01,2,     1.32,2, -999.000,5, -999.000,5, -999.000,9,-999.0000,9,  -999.00,9,   2120.3,2,   2273.7,2,     7.76,2,-999.0000,-999.000,  8.8111,-999.000
      325023_1,  P14N,    41,  3,     28,     28,2,19930717,1712, 41.9803, 179.0068, 4919,    311.9,   8.0233,  34.0042,2,  33.9950,2,   -999.0,9,    241.2,2,    28.26,2,    17.00,2,     0.01,2,     1.30,2,    3.584,2,    1.842,2, -999.000,9,-999.0000,9,  -999.00,9,   2112.1,2,   -999.0,9,     7.77,2,-999.0000,-999.000,  7.9919,-999.000
      325023_1,  P14N,    41,  3,     27,     27,2,19930717,1712, 41.9803, 179.0068, 4919,    412.2,   6.2947,  33.9551,2,  33.9535,2,   -999.0,9,    173.2,2,    51.50,2,    26.40,2,     0.00,2,     1.95,2,    2.564,2,    1.214,2, -999.000,9,-999.0000,9,  -999.00,9,   2183.4,2,   2284.5,2,  -999.00,9,-999.0000,-999.000,  6.2584,-999.000
      325023_1,  P14N,    41,  3,     26,     26,2,19930717,1712, 41.9803, 179.0068, 4919,    514.0,   5.0005,  33.9842,2,  33.9825,2,   -999.0,9,    122.7,2,    74.85,2,    33.31,2,     0.00,2,     2.43,2,    1.709,2,    0.775,2, -999.000,9,-999.0000,9,  -999.00,9,   2249.4,2,   2297.3,2,     7.49,2,-999.0000,-999.000,  4.9599,-999.000
      325023_1,  P14N,    41,  3,     25,     25,2,19930717,1712, 41.9803, 179.0068, 4919,    615.0,   4.4998,  34.0760,2,  34.0736,2,   -999.0,9,     85.7,2,    91.43,2,    37.03,2,     0.00,2,     2.69,2,    0.966,2,    0.436,2, -999.000,9,-999.0000,9,  -999.00,9,   2282.3,2,   2316.5,2,     7.42,2,-999.0000,-999.000,  4.4531,-999.000
      325023_1,  P14N,    41,  3,     24,     24,2,19930717,1712, 41.9803, 179.0068, 4919,    714.7,   4.1877,  34.1524,2,  34.1499,2,   -999.0,9,     59.3,2,   104.18,2,    39.78,2,     0.00,2,     2.85,2,    0.495,2,    0.227,2, -999.000,9,-999.0000,9,  -999.00,9,   2309.1,2,   2319.8,2,     7.38,2,-999.0000,-999.000,  4.1345,-999.000
      325023_1,  P14N,    41,  3,     23,     23,2,19930717,1712, 41.9803, 179.0068, 4919,    816.9,   3.8499,  34.2168,2,  34.2112,2,   -999.0,9,     49.4,2,   114.94,2,    40.86,2,     0.00,2,     2.91,2,    0.345,3,    0.139,3, -999.000,9,-999.0000,9,  -999.00,9,   2326.5,2,   -999.0,9,     7.36,2,-999.0000,-999.000,  3.7905,-999.000
      325023_1,  P14N,    41,  3,     22,     22,2,19930717,1712, 41.9803, 179.0068, 4919,    918.2,   3.5620,  34.2829,2,  34.2788,2,   -999.0,9,     39.2,2,   125.42,2,    41.94,2,     0.00,2,     2.99,2,    0.147,2,    0.064,2, -999.000,9,-999.0000,9,  -999.00,9,   2344.2,2,   2355.1,2,     7.34,2,-999.0000,-999.000,  3.4965,-999.000
      325023_1,  P14N,    41,  3,     21,     21,2,19930717,1712, 41.9803, 179.0068, 4919,   1019.4,   3.3012,  34.3275,2,  34.3268,2,   -999.0,9,     34.1,2,   133.86,2,    42.57,2,     0.00,2,     3.03,2,    0.098,2,    0.047,2, -999.000,9,-999.0000,9,  -999.00,9,   2356.9,2,   2366.6,2,     7.34,2,-999.0000,-999.000,  3.2298,-999.000
      325023_1,  P14N,    41,  3,     20,     20,2,19930717,1712, 41.9803, 179.0068, 4919,   1222.5,   2.8666,  34.4057,2,  34.4032,2,   -999.0,9,     27.0,2,   148.52,2,    43.48,2,     0.00,2,     3.08,2,    0.027,2,    0.007,2, -999.000,9,-999.0000,9,  -999.00,9,   2376.2,2,   2385.1,2,     7.33,2,-999.0000,-999.000,  2.7830,-999.000
      325023_1,  P14N,    41,  3,     19,     19,2,19930717,1712, 41.9803, 179.0068, 4919,   1426.0,   2.5478,  34.4618,2,  34.4600,2,   -999.0,9,     32.5,2,   158.63,2,    43.34,2,     0.00,2,     3.07,2,    0.024,2,    0.009,2, -999.000,9,-999.0000,9,  -999.00,9,   2383.3,2,   2394.3,2,     7.34,2,-999.0000,-999.000,  2.4514,-999.000
      325023_1,  P14N,    41,  3,     18,     18,2,19930717,1712, 41.9803, 179.0068, 4919,   1629.4,   2.3273,  34.5075,2,  34.5067,2,   -999.0,9,     37.7,2,   165.20,2,    43.24,2,     0.00,2,     3.04,2,    0.005,2,    0.001,2, -999.000,9,-999.0000,9,  -999.00,9,   2386.1,2,   2388.1,2,     7.36,2,-999.0000,-999.000,  2.2171,-999.000
      325023_1,  P14N,    41,  3,     17,     17,2,19930717,1712, 41.9803, 179.0068, 4919,   1832.9,   2.1417,  34.5469,2,  34.5455,2,   -999.0,9,     46.4,2,   169.78,2,    42.82,2,     0.00,2,     2.99,2, -999.000,5, -999.000,5, -999.000,9,-999.0000,9,  -999.00,9,   2385.4,2,   2412.1,2,  -999.00,9,-999.0000,-999.000,  2.0174,-999.000
      325023_1,  P14N,    41,  3,     16,     16,2,19930717,1712, 41.9803, 179.0068, 4919,   2037.2,   2.0152,  34.5716,2,  34.5700,2,   -999.0,9,     57.8,2,   172.95,2,    41.99,2,     0.00,2,     2.93,2,    0.001,2,   -0.002,2, -999.000,9,-999.0000,9,  -999.00,9,   2383.8,2,   2409.9,2,  -999.00,9,-999.0000,-999.000,  1.8756,-999.000
      325023_1,  P14N,    41,  3,     15,     15,2,19930717,1712, 41.9803, 179.0068, 4919,   2241.4,   1.8964,  34.5972,2,  34.5957,2,   -999.0,9,     67.5,2,   174.48,2,    41.48,2,     0.00,2,     2.88,2, -999.000,5, -999.000,5, -999.000,9,-999.0000,9,  -999.00,9,   2377.7,2,   2388.4,3,  -999.00,9,-999.0000,-999.000,  1.7412,-999.000
      325023_1,  P14N,    41,  3,     14,     14,2,19930717,1712, 41.9803, 179.0068, 4919,   2445.4,   1.7886,  34.6162,2,  34.6153,2,   -999.0,9,     82.7,2,   173.93,2,    40.52,2,     0.00,2,     2.82,2, -999.000,5, -999.000,5, -999.000,9,-999.0000,9,  -999.00,9,   2369.7,2,   2416.8,2,  -999.00,9,-999.0000,-999.000,  1.6173,-999.000
      325023_1,  P14N,    41,  3,     13,     13,2,19930717,1712, 41.9803, 179.0068, 4919,   2648.3,   1.6932,  34.6332,2,  34.6333,2,   -999.0,9,     96.6,2,   171.73,2,    39.61,2,     0.00,2,     2.76,2,    0.000,2,   -0.003,3, -999.000,9,-999.0000,9,  -999.00,9,   -999.0,9,   -999.0,9,  -999.00,9,-999.0000,-999.000,  1.5054,-999.000
      325023_1,  P14N,    41,  3,     12,     12,2,19930717,1712, 41.9803, 179.0068, 4919,   2852.5,   1.6252,  34.6455,2,  34.6459,2,   -999.0,9,    107.4,2,   169.34,2,    38.93,2,     0.00,2,     2.70,2, -999.000,5, -999.000,5, -999.000,9,-999.0000,9,  -999.00,9,   2353.6,2,   2421.3,2,  -999.00,9,-999.0000,-999.000,  1.4198,-999.000
      325023_1,  P14N,    41,  3,     11,     11,2,19930717,1712, 41.9803, 179.0068, 4919,   3057.3,   1.5817,  34.6535,2,  34.6533,2,   -999.0,9,    116.0,2,   167.37,2,    38.38,2,     0.00,2,     2.66,2, -999.000,5, -999.000,5, -999.000,9,-999.0000,9,  -999.00,9,   2351.7,2,   2421.5,2,  -999.00,9,-999.0000,-999.000,  1.3577,-999.000
      325023_1,  P14N,    41,  3,     10,     10,2,19930717,1712, 41.9803, 179.0068, 4919,   3261.1,   1.5357,  34.6621,2,  34.6612,2,   -999.0,9,    125.5,2,   165.20,2,    37.79,2,     0.00,2,     2.61,2,    0.027,4,    0.017,4, -999.000,9,-999.0000,9,  -999.00,9,   2343.8,2,   2422.5,2,  -999.00,9,-999.0000,-999.000,  1.2928,-999.000
      325023_1,  P14N,    41,  3,      9,      9,2,19930717,1712, 41.9803, 179.0068, 4919,   3464.9,   1.5087,  34.6674,2,  34.6663,2,   -999.0,9,    132.3,2,   163.65,2,    37.38,2,     0.00,2,     2.58,2, -999.000,5, -999.000,5, -999.000,9,-999.0000,9,  -999.00,9,   2340.8,2,   2419.7,2,  -999.00,9,-999.0000,-999.000,  1.2460,-999.000
      325023_1,  P14N,    41,  3,      8,      8,2,19930717,1712, 41.9803, 179.0068, 4919,   3670.2,   1.4773,  34.6740,2,  34.6731,2,   -999.0,9,    140.0,2,   161.09,2,    36.92,2,     0.00,2,     2.53,2,   -0.001,2,    0.004,2, -999.000,9,-999.0000,9,  -999.00,9,   2336.6,2,   2420.4,2,  -999.00,9,-999.0000,-999.000,  1.1942,-999.000
      325023_1,  P14N,    41,  3,      7,      7,2,19930717,1712, 41.9803, 179.0068, 4919,   3875.2,   1.4658,  34.6771,2,  34.6778,2,   -999.0,9,    144.6,2,   160.16,2,    36.60,2,     0.00,2,     2.51,2, -999.000,5, -999.000,5, -999.000,9,-999.0000,9,  -999.00,9,   2336.6,2,   2420.3,2,  -999.00,9,-999.0000,-999.000,  1.1614,-999.000
      325023_1,  P14N,    41,  3,      6,      6,2,19930717,1712, 41.9803, 179.0068, 4919,   4080.8,   1.4613,  34.6803,2,  34.6819,2,   -999.0,9,    148.2,2,   159.63,2,    36.37,2,     0.00,2,     2.49,2, -999.000,5, -999.000,5, -999.000,9,-999.0000,9,  -999.00,9,   2331.5,2,   2419.7,2,  -999.00,9,-999.0000,-999.000,  1.1347,-999.000
      325023_1,  P14N,    41,  3,      5,      5,2,19930717,1712, 41.9803, 179.0068, 4919,   4285.4,   1.4662,  34.6826,2,  34.6829,2,   -999.0,9,    150.7,2,   159.71,2,    36.19,2,     0.00,2,     2.48,2, -999.000,5, -999.000,5, -999.000,9,-999.0000,9,  -999.00,9,   2333.0,2,   2419.9,2,  -999.00,9,-999.0000,-999.000,  1.1167,-999.000
      325023_1,  P14N,    41,  3,      4,      4,2,19930717,1712, 41.9803, 179.0068, 4919,   4490.5,   1.4802,  34.6842,2,  34.6841,2,   -999.0,9,    151.9,2,   160.80,2,    36.05,2,     0.00,2,     2.46,2,    0.001,2,    0.003,2, -999.000,9,-999.0000,9,  -999.00,9,   2332.5,2,   2421.8,2,  -999.00,9,-999.0000,-999.000,  1.1070,-999.000
      325023_1,  P14N,    41,  3,      3,      3,2,19930717,1712, 41.9803, 179.0068, 4919,   4694.9,   1.4984,  34.6846,2,  34.6847,2,   -999.0,9,    152.4,2,   162.09,2,    36.09,2,     0.00,2,     2.46,2, -999.000,5, -999.000,5, -999.000,9,-999.0000,9,  -999.00,9,   2332.6,2,   2421.9,2,  -999.00,9,-999.0000,-999.000,  1.1008,-999.000
      325023_1,  P14N,    41,  3,      2,      2,2,19930717,1712, 41.9803, 179.0068, 4919,   4898.3,   1.5233,  34.6849,2,  34.6849,2,   -999.0,9,    152.4,2,   162.37,2,    36.13,2,     0.00,2,     2.46,2, -999.000,5, -999.000,5, -999.000,9,-999.0000,9,  -999.00,9,   2332.6,2,   2422.7,2,  -999.00,9,-999.0000,-999.000,  1.1006,-999.000
      325023_1,  P14N,    41,  3,      1,      1,2,19930717,1712, 41.9803, 179.0068, 4919,   5126.7,   1.5522,  34.6847,2,  34.6856,2,   -999.0,9,    152.2,2,   162.45,2,    36.16,2,     0.00,2,     2.45,2,    0.000,2,    0.006,2, -999.000,9,-999.0000,9,  -999.00,9,   2334.4,2,   2422.1,2,  -999.00,9,-999.0000,-999.000,  1.1007,-999.000