BOTTLE,20131125MIRCJHATS
EXPOCODE,SECT_ID,STNNBR,CASTNO,SAMPNO,BTLNBR,BTLNBR_FLAG_W,DATE,TIME,LATITUDE,LONGITUDE,DEPTH,CTDPRS,CTDTMP,CTDSAL,CTDSAL_FLAG_W,SALNTY,SALNTY_FLAG_W,CTDOXY,CTDOXY_FLAG_W,OXYGEN,OXYGEN_FLAG_W,SILCAT,SILCAT_FLAG_W,NITRAT,NITRAT_FLAG_W,NITRIT,NITRIT_FLAG_W,PHSPHT,PHSPHT_FLAG_W,CFC-11,CFC-11_FLAG_W,CFC-12,CFC-12_FLAG_W,TRITUM,TRITUM_FLAG_W,HELIUM,HELIUM_FLAG_W,DELHE3,DELHE3_FLAG_W,TCARBN,TCARBN_FLAG_W,ALKALI,ALKALI_FLAG_W,PH,PH_FLAG_W,HELIER,DELHER,THETA,TRITER
,,,,,,,,,,,,DBAR,ITS-90,PSS-78,,PSS-78,,UMOL/KG,,UMOL/KG,,UMOL/KG,,UMOL/KG,,UMOL/KG,,UMOL/KG,,PMOL/KG,,PMOL/KG,,TU,,NMOL/KG,,PERCNT,,UMOL/KG,,UMOL/KG,,25_DEG,,NMOL/KG,PERCNT,DEG C,TU
      325024_1,  P14N,   132,  1,     36,     36,2,19930815,0902,  2.7473, 179.0113, 5502,      2.1,  29.9894,  33.9104,2,  33.9170,2,   -999.0,9,    196.3,2,     1.83,2,     0.03,2,     0.00,2,     0.09,2, -999.000,5, -999.000,5, -999.000,9,-999.0000,9,  -999.00,9,   -999.0,9,   -999.0,9,  -999.00,9,-999.0000,-999.000, 29.9889,-999.000
      325024_1,  P14N,   132,  1,     35,     35,2,19930815,0902,  2.7473, 179.0113, 5502,     38.9,  29.7416,  33.9655,2,  34.0058,4,   -999.0,9,    197.4,2,     1.78,2,     0.03,2,     0.00,2,     0.09,2, -999.000,5, -999.000,5, -999.000,9,-999.0000,9,  -999.00,9,   -999.0,9,   -999.0,9,  -999.00,9,-999.0000,-999.000, 29.7320,-999.000
      325024_1,  P14N,   132,  1,     34,     34,2,19930815,0902,  2.7473, 179.0113, 5502,     68.9,  29.0546,  34.7926,2,  34.8574,2,   -999.0,9,    196.0,2,     2.14,2,     0.02,2,     0.00,2,     0.22,2, -999.000,5, -999.000,5, -999.000,9,-999.0000,9,  -999.00,9,   -999.0,9,   -999.0,9,  -999.00,9,-999.0000,-999.000, 29.0379,-999.000
      325024_1,  P14N,   132,  1,     33,     33,2,19930815,0902,  2.7473, 179.0113, 5502,     99.2,  24.7138,  34.9028,2,  34.9495,2,   -999.0,9,    150.0,2,     4.72,2,     6.22,2,     0.48,2,     0.60,2, -999.000,5, -999.000,5, -999.000,9,-999.0000,9,  -999.00,9,   -999.0,9,   -999.0,9,  -999.00,9,-999.0000,-999.000, 24.6924,-999.000
      325024_1,  P14N,   132,  1,     32,     32,2,19930815,0902,  2.7473, 179.0113, 5502,    130.0,  21.9979,  34.9848,2,  34.9658,2,   -999.0,9,    132.3,2,     6.70,2,     9.35,2,     0.04,2,     0.75,2, -999.000,5, -999.000,5, -999.000,9,-999.0000,9,  -999.00,9,   -999.0,9,   -999.0,9,  -999.00,9,-999.0000,-999.000, 21.9722,-999.000
      325024_1,  P14N,   132,  1,     31,     31,2,19930815,0902,  2.7473, 179.0113, 5502,    160.5,  15.0143,  34.6475,2,  34.6356,2,   -999.0,9,    136.5,2,    18.00,2,    15.68,2,     0.01,2,     1.17,2, -999.000,5, -999.000,5, -999.000,9,-999.0000,9,  -999.00,9,   -999.0,9,   -999.0,9,  -999.00,9,-999.0000,-999.000, 14.9900,-999.000
      325024_1,  P14N,   132,  1,     30,     30,2,19930815,0902,  2.7473, 179.0113, 5502,    210.6,  11.1824,  34.6284,2,  34.6445,2,   -999.0,9,    114.1,2,    27.47,2,    23.64,2,     0.00,2,     1.72,2, -999.000,5, -999.000,5, -999.000,9,-999.0000,9,  -999.00,9,   -999.0,9,   -999.0,9,  -999.00,9,-999.0000,-999.000, 11.1562,-999.000
      325024_1,  P14N,   132,  1,     29,     29,2,19930815,0902,  2.7473, 179.0113, 5502,    261.0,  11.0137,  34.7813,2,  34.7826,2,   -999.0,9,     60.4,2,    26.81,2,    29.72,2,     0.00,2,     2.10,2, -999.000,5, -999.000,5, -999.000,9,-999.0000,9,  -999.00,9,   -999.0,9,   -999.0,9,  -999.00,9,-999.0000,-999.000, 10.9815,-999.000
      325024_1,  P14N,   132,  1,     28,     28,2,19930815,0902,  2.7473, 179.0113, 5502,    311.6,  10.4967,  34.7397,2,  34.7404,2,   -999.0,9,     97.6,2,    26.76,2,    29.76,2,     0.00,2,     2.11,2, -999.000,5, -999.000,5, -999.000,9,-999.0000,9,  -999.00,9,   -999.0,9,   -999.0,9,  -999.00,9,-999.0000,-999.000, 10.4593,-999.000
      325024_1,  P14N,   132,  1,     27,     27,2,19930815,0902,  2.7473, 179.0113, 5502,    411.8,   9.0972,  34.6310,2,  34.6337,2,   -999.0,9,     98.8,2,    34.01,2,    29.25,2,     0.00,2,     2.10,2, -999.000,5, -999.000,5, -999.000,9,-999.0000,9,  -999.00,9,   -999.0,9,   -999.0,9,  -999.00,9,-999.0000,-999.000,  9.0518,-999.000
      325024_1,  P14N,   132,  1,     26,     26,2,19930815,0902,  2.7473, 179.0113, 5502,    512.7,   7.4309,  34.5784,2,  34.5788,2,   -999.0,9,     78.8,2,    44.71,2,    34.74,2,     0.00,2,     2.47,2, -999.000,5, -999.000,5, -999.000,9,-999.0000,9,  -999.00,9,   -999.0,9,   -999.0,9,  -999.00,9,-999.0000,-999.000,  7.3804,-999.000
      325024_1,  P14N,   132,  1,     25,     25,2,19930815,0902,  2.7473, 179.0113, 5502,    613.2,   6.3416,  34.5503,2,  34.5525,2,   -999.0,9,     72.7,2,    57.04,2,    37.57,2,     0.00,2,     2.68,2, -999.000,5, -999.000,5, -999.000,9,-999.0000,9,  -999.00,9,   -999.0,9,   -999.0,9,  -999.00,9,-999.0000,-999.000,  6.2859,-999.000
      325024_1,  P14N,   132,  1,     24,     24,2,19930815,0902,  2.7473, 179.0113, 5502,    713.6,   5.9195,  34.5500,2,  34.5505,2,   -999.0,9,     75.4,2,    61.05,2,    38.29,2,     0.00,2,     2.73,2, -999.000,5, -999.000,5, -999.000,9,-999.0000,9,  -999.00,9,   -999.0,9,   -999.0,9,  -999.00,9,-999.0000,-999.000,  5.8565,-999.000
      325024_1,  P14N,   132,  1,     23,     23,2,19930815,0902,  2.7473, 179.0113, 5502,    814.3,   5.5097,  34.5444,2,  34.5447,2,   -999.0,9,     81.8,2,    66.29,2,    38.24,2,     0.00,2,     2.72,2, -999.000,5, -999.000,5, -999.000,9,-999.0000,9,  -999.00,9,   -999.0,9,   -999.0,9,  -999.00,9,-999.0000,-999.000,  5.4397,-999.000
      325024_1,  P14N,   132,  1,     22,     22,2,19930815,0902,  2.7473, 179.0113, 5502,    914.9,   5.0824,  34.5440,2,  34.5439,2,   -999.0,9,     91.1,2,    75.00,2,    37.52,2,     0.00,2,     2.68,2, -999.000,5, -999.000,5, -999.000,9,-999.0000,9,  -999.00,9,   -999.0,9,   -999.0,9,  -999.00,9,-999.0000,-999.000,  5.0061,-999.000
      325024_1,  P14N,   132,  1,     21,     21,2,19930815,0902,  2.7473, 179.0113, 5502,   1015.3,   4.6308,  34.5512,2,  34.5517,2,   -999.0,9,     91.7,2,    84.14,2,    37.92,2,     0.00,2,     2.72,2, -999.000,5, -999.000,5, -999.000,9,-999.0000,9,  -999.00,9,   -999.0,9,   -999.0,9,  -999.00,9,-999.0000,-999.000,  4.5489,-999.000
      325024_1,  P14N,   132,  1,     20,     20,2,19930815,0902,  2.7473, 179.0113, 5502,   1115.7,   4.2008,  34.5619,2,  34.5635,2,   -999.0,9,     85.6,2,    94.95,2,    38.90,2,     0.00,2,     2.79,2, -999.000,5, -999.000,5, -999.000,9,-999.0000,9,  -999.00,9,   -999.0,9,   -999.0,9,  -999.00,9,-999.0000,-999.000,  4.1136,-999.000
      325024_1,  P14N,   132,  1,     19,     19,2,19930815,0902,  2.7473, 179.0113, 5502,   1217.0,   3.8204,  34.5732,2,  34.5737,2,   -999.0,9,     89.4,2,   102.93,2,    39.04,2,     0.00,2,     2.78,2, -999.000,5, -999.000,5, -999.000,9,-999.0000,9,  -999.00,9,   -999.0,9,   -999.0,9,  -999.00,9,-999.0000,-999.000,  3.7279,-999.000
      325024_1,  P14N,   132,  1,     18,     18,2,19930815,0902,  2.7473, 179.0113, 5502,   1417.8,   3.2188,  34.5947,2,  34.5955,2,   -999.0,9,     88.0,2,   118.41,2,    39.67,2,     0.00,2,     2.83,2, -999.000,5, -999.000,5, -999.000,9,-999.0000,9,  -999.00,9,   -999.0,9,   -999.0,9,  -999.00,9,-999.0000,-999.000,  3.1153,-999.000
      325024_1,  P14N,   132,  1,     17,     17,2,19930815,0902,  2.7473, 179.0113, 5502,   1619.5,   2.7685,  34.6121,2,  34.6118,2,   -999.0,9,     95.6,2,   128.60,2,    39.34,2,     0.00,2,     2.81,2, -999.000,5, -999.000,5, -999.000,9,-999.0000,9,  -999.00,9,   -999.0,9,   -999.0,9,  -999.00,9,-999.0000,-999.000,  2.6533,-999.000
      325024_1,  P14N,   132,  1,     16,     16,2,19930815,0902,  2.7473, 179.0113, 5502,   1821.8,   2.5073,  34.6233,2,  34.6237,2,   -999.0,9,    106.8,2,   131.06,2,    38.53,2,     0.00,2,     2.73,2, -999.000,5, -999.000,5, -999.000,9,-999.0000,9,  -999.00,9,   -999.0,9,   -999.0,9,  -999.00,9,-999.0000,-999.000,  2.3785,-999.000
      325024_1,  P14N,   132,  1,     15,     15,2,19930815,0902,  2.7473, 179.0113, 5502,   2024.5,   2.2970,  34.6348,2,  34.6347,2,   -999.0,9,    109.3,2,   136.69,2,    38.34,2,     0.00,2,     2.72,2, -999.000,5, -999.000,5, -999.000,9,-999.0000,9,  -999.00,9,   -999.0,9,   -999.0,9,  -999.00,9,-999.0000,-999.000,  2.1539,-999.000
      325024_1,  P14N,   132,  1,     14,     14,2,19930815,0902,  2.7473, 179.0113, 5502,   2227.3,   2.0403,  34.6494,2,  34.6489,2,   -999.0,9,    116.6,2,   141.07,2,    37.93,2,     0.00,2,     2.68,2, -999.000,5, -999.000,5, -999.000,9,-999.0000,9,  -999.00,9,   -999.0,9,   -999.0,9,  -999.00,9,-999.0000,-999.000,  1.8837,-999.000
      325024_1,  P14N,   132,  1,     13,     13,2,19930815,0902,  2.7473, 179.0113, 5502,   2431.5,   1.9037,  34.6573,2,  34.6579,2,   -999.0,9,    120.5,2,   144.41,2,    37.80,2,     0.00,2,     2.65,2, -999.000,5, -999.000,5, -999.000,9,-999.0000,9,  -999.00,9,   -999.0,9,   -999.0,9,  -999.00,9,-999.0000,-999.000,  1.7314,-999.000
      325024_1,  P14N,   132,  1,     12,     12,2,19930815,0902,  2.7473, 179.0113, 5502,   2634.8,   1.8137,  34.6624,2,  34.6640,2,   -999.0,9,    124.5,2,   145.63,2,    37.39,2,     0.00,2,     2.63,2, -999.000,5, -999.000,5, -999.000,9,-999.0000,9,  -999.00,9,   -999.0,9,   -999.0,9,  -999.00,9,-999.0000,-999.000,  1.6246,-999.000
      325024_1,  P14N,   132,  1,     11,     11,2,19930815,0902,  2.7473, 179.0113, 5502,   2838.0,   1.7416,  34.6661,2,  34.6665,2,   -999.0,9,    129.2,2,   145.57,2,    37.07,2,     0.00,2,     2.61,2, -999.000,5, -999.000,5, -999.000,9,-999.0000,9,  -999.00,9,   -999.0,9,   -999.0,9,  -999.00,9,-999.0000,-999.000,  1.5350,-999.000
      325024_1,  P14N,   132,  1,     10,     10,2,19930815,0902,  2.7473, 179.0113, 5502,   3041.0,   1.6581,  34.6710,2,  34.6709,2,   -999.0,9,    135.7,2,   145.29,2,    36.71,2,     0.00,2,     2.56,2, -999.000,5, -999.000,5, -999.000,9,-999.0000,9,  -999.00,9,   -999.0,9,   -999.0,9,  -999.00,9,-999.0000,-999.000,  1.4339,-999.000
      325024_1,  P14N,   132,  1,      9,      9,2,19930815,0902,  2.7473, 179.0113, 5502,   3347.2,   1.5819,  34.6759,2,  34.6758,2,   -999.0,9,    142.4,2,   145.02,2,    36.27,2,     0.00,2,     2.52,2, -999.000,5, -999.000,5, -999.000,9,-999.0000,9,  -999.00,9,   -999.0,9,   -999.0,9,  -999.00,9,-999.0000,-999.000,  1.3293,-999.000
      325024_1,  P14N,   132,  1,      8,      8,2,19930815,0902,  2.7473, 179.0113, 5502,   3654.1,   1.4904,  34.6827,2,  34.6826,2,   -999.0,9,    152.6,2,   145.17,2,    35.60,2,     0.00,2,     2.48,2, -999.000,5, -999.000,5, -999.000,9,-999.0000,9,  -999.00,9,   -999.0,9,   -999.0,9,  -999.00,9,-999.0000,-999.000,  1.2086,-999.000
      325024_1,  P14N,   132,  1,      7,      7,2,19930815,0902,  2.7473, 179.0113, 5502,   3960.3,   1.4061,  34.6897,2,  34.6899,2,   -999.0,9,    163.6,2,   139.59,2,    34.89,2,     0.00,2,     2.41,2, -999.000,5, -999.000,5, -999.000,9,-999.0000,9,  -999.00,9,   -999.0,9,   -999.0,9,  -999.00,9,-999.0000,-999.000,  1.0941,-999.000
      325024_1,  P14N,   132,  1,      6,      6,2,19930815,0902,  2.7473, 179.0113, 5502,   4267.6,   1.2968,  34.6970,2,  34.6980,2,   -999.0,9,    177.4,2,   134.25,2,    33.88,2,     0.00,2,     2.33,2, -999.000,5, -999.000,5, -999.000,9,-999.0000,9,  -999.00,9,   -999.0,9,   -999.0,9,  -999.00,9,-999.0000,-999.000,  0.9543,-999.000
      325024_1,  P14N,   132,  1,      5,      5,2,19930815,0902,  2.7473, 179.0113, 5502,   4573.8,   1.2410,  34.7018,2,  34.7023,2,   -999.0,9,    186.9,2,   129.35,2,    33.27,2,     0.00,2,     2.30,2, -999.000,5, -999.000,5, -999.000,9,-999.0000,9,  -999.00,9,   -999.0,9,   -999.0,9,  -999.00,9,-999.0000,-999.000,  0.8655,-999.000
      325024_1,  P14N,   132,  1,      4,      4,2,19930815,0902,  2.7473, 179.0113, 5502,   4881.7,   1.2582,  34.7029,2,  34.7039,2,   -999.0,9,    189.8,2,   128.24,2,    33.01,2,     0.00,2,     2.28,2, -999.000,5, -999.000,5, -999.000,9,-999.0000,9,  -999.00,9,   -999.0,9,   -999.0,9,  -999.00,9,-999.0000,-999.000,  0.8462,-999.000
      325024_1,  P14N,   132,  1,      3,      3,2,19930815,0902,  2.7473, 179.0113, 5502,   5188.3,   1.2884,  34.7034,2,  34.7035,2,   -999.0,9,    191.2,2,   127.77,2,    32.96,2,     0.00,2,     2.29,2, -999.000,5, -999.000,5, -999.000,9,-999.0000,9,  -999.00,9,   -999.0,9,   -999.0,9,  -999.00,9,-999.0000,-999.000,  0.8384,-999.000
      325024_1,  P14N,   132,  1,      2,      2,2,19930815,0902,  2.7473, 179.0113, 5502,   5496.4,   1.3227,  34.7037,2,  34.7037,2,   -999.0,9,    190.4,2,   126.66,2,    32.83,2,     0.00,2,     2.28,2, -999.000,5, -999.000,5, -999.000,9,-999.0000,9,  -999.00,9,   -999.0,9,   -999.0,9,  -999.00,9,-999.0000,-999.000,  0.8330,-999.000
      325024_1,  P14N,   132,  1,      1,      1,2,19930815,0902,  2.7473, 179.0113, 5502,   5598.1,   1.3333,  34.7035,2,  34.7041,2,   -999.0,9,    190.3,2,   125.97,2,    32.78,2,     0.00,2,     2.25,2, -999.000,5, -999.000,5, -999.000,9,-999.0000,9,  -999.00,9,   -999.0,9,   -999.0,9,  -999.00,9,-999.0000,-999.000,  0.8302,-999.000