BOTTLE,20131125MIRCJHATS
EXPOCODE,SECT_ID,STNNBR,CASTNO,SAMPNO,BTLNBR,BTLNBR_FLAG_W,DATE,TIME,LATITUDE,LONGITUDE,DEPTH,CTDPRS,CTDTMP,CTDSAL,CTDSAL_FLAG_W,SALNTY,SALNTY_FLAG_W,CTDOXY,CTDOXY_FLAG_W,OXYGEN,OXYGEN_FLAG_W,SILCAT,SILCAT_FLAG_W,NITRAT,NITRAT_FLAG_W,NITRIT,NITRIT_FLAG_W,PHSPHT,PHSPHT_FLAG_W,CFC-11,CFC-11_FLAG_W,CFC-12,CFC-12_FLAG_W,TRITUM,TRITUM_FLAG_W,HELIUM,HELIUM_FLAG_W,DELHE3,DELHE3_FLAG_W,TCARBN,TCARBN_FLAG_W,ALKALI,ALKALI_FLAG_W,PH,PH_FLAG_W,HELIER,DELHER,THETA,TRITER
,,,,,,,,,,,,DBAR,ITS-90,PSS-78,,PSS-78,,UMOL/KG,,UMOL/KG,,UMOL/KG,,UMOL/KG,,UMOL/KG,,UMOL/KG,,PMOL/KG,,PMOL/KG,,TU,,NMOL/KG,,PERCNT,,UMOL/KG,,UMOL/KG,,25_DEG,,NMOL/KG,PERCNT,DEG C,TU
      325023_1,  P14N,    93,  1,     35,     35,2,19930731,0834, 16.0008, 178.9992, 5150,      2.3,  27.6066,  34.7302,2,  34.7344,2,   -999.0,9,    203.6,2,     2.36,2,     0.03,2,     0.00,2,     0.11,2,    1.734,2,    0.923,2, -999.000,9,-999.0000,9,  -999.00,9,   -999.0,9,   -999.0,9,  -999.00,9,-999.0000,-999.000, 27.6061,-999.000
      325023_1,  P14N,    93,  1,     36,     36,2,19930731,0834, 16.0008, 178.9992, 5150,      2.4,  27.6031,  34.7302,2,  34.7347,2,   -999.0,9,    205.8,2,     2.61,2,     0.03,2,     0.00,2,     0.11,2,    1.730,2,    0.926,2, -999.000,9,-999.0000,9,  -999.00,9,   -999.0,9,   -999.0,9,  -999.00,9,-999.0000,-999.000, 27.6026,-999.000
      325023_1,  P14N,    93,  1,     34,     34,2,19930731,0834, 16.0008, 178.9992, 5150,     37.7,  27.5583,  34.7248,2,  34.7289,2,   -999.0,9,    204.1,2,     2.12,2,     0.00,2,     0.00,2,     0.12,2,    1.733,2,    0.915,2, -999.000,9,-999.0000,9,  -999.00,9,   -999.0,9,   -999.0,9,  -999.00,9,-999.0000,-999.000, 27.5496,-999.000
      325023_1,  P14N,    93,  1,     33,     33,2,19930731,0834, 16.0008, 178.9992, 5150,     67.7,  27.0359,  34.6894,2,  34.6999,2,   -999.0,9,    205.6,2,     1.87,2,     0.00,2,     0.00,2,     0.12,2,    1.769,2,    0.949,2, -999.000,9,-999.0000,9,  -999.00,9,   -999.0,9,   -999.0,9,  -999.00,9,-999.0000,-999.000, 27.0204,-999.000
      325023_1,  P14N,    93,  1,     32,     32,2,19930731,0834, 16.0008, 178.9992, 5150,     97.4,  25.6294,  34.6843,2,  34.6857,2,   -999.0,9,    215.2,2,     1.85,2,     0.00,2,     0.00,2,     0.11,2,    1.904,2,    1.017,2, -999.000,9,-999.0000,9,  -999.00,9,   -999.0,9,   -999.0,9,  -999.00,9,-999.0000,-999.000, 25.6080,-999.000
      325023_1,  P14N,    93,  1,     31,     31,2,19930731,0834, 16.0008, 178.9992, 5150,    125.1,  24.7080,  34.7933,2,  34.7928,2,   -999.0,9,    211.2,2,     1.60,2,     0.00,2,     0.00,2,     0.11,2,    1.930,2,    1.028,2, -999.000,9,-999.0000,9,  -999.00,9,   -999.0,9,   -999.0,9,  -999.00,9,-999.0000,-999.000, 24.6811,-999.000
      325023_1,  P14N,    93,  1,     30,     30,2,19930731,0834, 16.0008, 178.9992, 5150,    153.1,  23.8720,  34.9382,2,  34.9391,2,   -999.0,9,    206.8,2,     1.14,2,     0.00,2,     0.00,2,     0.11,2,    2.016,6,    1.064,6, -999.000,9,-999.0000,9,  -999.00,9,   -999.0,9,   -999.0,9,  -999.00,9,-999.0000,-999.000, 23.8398,-999.000
      325023_1,  P14N,    93,  1,     29,     29,2,19930731,0834, 16.0008, 178.9992, 5150,    203.2,  20.3135,  34.9843,2,  34.9839,2,   -999.0,9,    185.6,2,     2.41,2,     1.98,2,     0.02,2,     0.32,2,    2.230,2,    1.144,2, -999.000,9,-999.0000,9,  -999.00,9,   -999.0,9,   -999.0,9,  -999.00,9,-999.0000,-999.000, 20.2755,-999.000
      325023_1,  P14N,    93,  1,     28,     28,2,19930731,0834, 16.0008, 178.9992, 5150,    253.7,  17.0604,  34.7154,2,  34.7337,2,   -999.0,9,    163.8,2,     6.06,2,     7.53,2,     0.01,2,     0.69,2,    2.197,2,    1.079,2, -999.000,9,-999.0000,9,  -999.00,9,   -999.0,9,   -999.0,9,  -999.00,9,-999.0000,-999.000, 17.0184,-999.000
      325023_1,  P14N,    93,  1,     27,     27,2,19930731,0834, 16.0008, 178.9992, 5150,    302.8,  13.1698,  34.4051,2,  34.4075,2,   -999.0,9,    134.3,2,    15.32,2,    16.34,2,     0.01,2,     1.29,2,    1.782,2,    0.852,2, -999.000,9,-999.0000,9,  -999.00,9,   -999.0,9,   -999.0,9,  -999.00,9,-999.0000,-999.000, 13.1279,-999.000
      325023_1,  P14N,    93,  1,     26,     26,2,19930731,0834, 16.0008, 178.9992, 5150,    403.4,   9.6719,  34.3211,2,  34.3219,2,   -999.0,9,     86.7,2,    34.51,2,    27.09,2,     0.00,2,     2.06,2,    0.752,2,    0.342,2, -999.000,9,-999.0000,9,  -999.00,9,   -999.0,9,   -999.0,9,  -999.00,9,-999.0000,-999.000,  9.6260,-999.000
      325023_1,  P14N,    93,  1,     25,     25,2,19930731,0834, 16.0008, 178.9992, 5150,    504.9,   7.8946,  34.4305,2,  34.4310,2,   -999.0,9,     33.9,2,    52.61,2,    35.50,2,     0.00,2,     2.66,2,    0.083,2,    0.037,2, -999.000,9,-999.0000,9,  -999.00,9,   -999.0,9,   -999.0,9,  -999.00,9,-999.0000,-999.000,  7.8434,-999.000
      325023_1,  P14N,    93,  1,     24,     24,2,19930731,0834, 16.0008, 178.9992, 5150,    609.2,   6.8816,  34.4693,2,  34.4692,2,   -999.0,9,     32.3,2,    64.02,2,    38.30,2,     0.00,2,     2.81,2,    0.009,2,    0.004,2, -999.000,9,-999.0000,9,  -999.00,9,   -999.0,9,   -999.0,9,  -999.00,9,-999.0000,-999.000,  6.8239,-999.000
      325023_1,  P14N,    93,  1,     23,     23,2,19930731,0834, 16.0008, 178.9992, 5150,    704.3,   6.1450,  34.4828,2,  34.4836,2,   -999.0,9,     35.1,2,    73.70,2,    39.77,2,     0.00,2,     2.90,2,    0.006,2,    0.001,2, -999.000,9,-999.0000,9,  -999.00,9,   -999.0,9,   -999.0,9,  -999.00,9,-999.0000,-999.000,  6.0817,-999.000
      325023_1,  P14N,    93,  1,     22,     22,2,19930731,0834, 16.0008, 178.9992, 5150,    807.4,   5.5020,  34.5014,2,  34.5026,2,   -999.0,9,     37.6,2,    83.19,2,    41.06,2,     0.00,2,     2.96,2,    0.006,4,    0.013,4, -999.000,9,-999.0000,9,  -999.00,9,   -999.0,9,   -999.0,9,  -999.00,9,-999.0000,-999.000,  5.4327,-999.000
      325023_1,  P14N,    93,  1,     21,     21,2,19930731,0834, 16.0008, 178.9992, 5150,    908.6,   5.0128,  34.5170,2,  34.5185,2,   -999.0,9,     43.6,2,    90.94,2,    41.39,2,     0.00,2,     2.98,2,    0.005,2,    0.002,2, -999.000,9,-999.0000,9,  -999.00,9,   -999.0,9,   -999.0,9,  -999.00,9,-999.0000,-999.000,  4.9376,-999.000
      325023_1,  P14N,    93,  1,     20,     20,2,19930731,0834, 16.0008, 178.9992, 5150,   1016.0,   4.5547,  34.5292,2,  34.5310,2,   -999.0,9,     55.4,2,    98.49,2,    40.92,2,     0.00,2,     2.93,2,    0.002,2,    0.000,2, -999.000,9,-999.0000,9,  -999.00,9,   -999.0,9,   -999.0,9,  -999.00,9,-999.0000,-999.000,  4.4734,-999.000
      325023_1,  P14N,    93,  1,     19,     19,2,19930731,0834, 16.0008, 178.9992, 5150,   1114.5,   4.2509,  34.5394,2,  34.5406,2,   -999.0,9,     58.0,2,   104.75,2,    41.06,2,     0.00,2,     2.94,2, -999.000,5, -999.000,5, -999.000,9,-999.0000,9,  -999.00,9,   -999.0,9,   -999.0,9,  -999.00,9,-999.0000,-999.000,  4.1634,-999.000
      325023_1,  P14N,    93,  1,     18,     18,2,19930731,0834, 16.0008, 178.9992, 5150,   1194.0,   3.9349,  34.5525,2,  34.5523,2,   -999.0,9,     57.2,2,   111.67,2,    41.62,2,     0.00,2,     2.98,2, -999.000,5, -999.000,5, -999.000,9,-999.0000,9,  -999.00,9,   -999.0,9,   -999.0,9,  -999.00,9,-999.0000,-999.000,  3.8433,-999.000
      325023_1,  P14N,    93,  1,     17,     17,2,19930731,0834, 16.0008, 178.9992, 5150,   1408.7,   3.2974,  34.5712,2,  34.5703,2,   -999.0,9,     71.3,2,   125.00,2,    40.77,2,     0.00,2,     2.91,2,   -0.002,2,    0.000,3, -999.000,9,-999.0000,9,  -999.00,9,   -999.0,9,   -999.0,9,  -999.00,9,-999.0000,-999.000,  3.1939,-999.000
      325023_1,  P14N,    93,  1,     16,     16,2,19930731,0834, 16.0008, 178.9992, 5150,   1620.8,   2.8174,  34.5890,2,  34.5886,2,   -999.0,9,     81.7,2,   135.09,2,    40.26,2,     0.00,2,     2.86,2, -999.000,5, -999.000,5, -999.000,9,-999.0000,9,  -999.00,9,   -999.0,9,   -999.0,9,  -999.00,9,-999.0000,-999.000,  2.7016,-999.000
      325023_1,  P14N,    93,  1,     15,     15,2,19930731,0834, 16.0008, 178.9992, 5150,   1824.1,   2.4514,  34.6107,2,  34.6117,2,   -999.0,9,     91.0,2,   143.23,2,    39.79,2,     0.00,2,     2.82,2, -999.000,5, -999.000,5, -999.000,9,-999.0000,9,  -999.00,9,   -999.0,9,   -999.0,9,  -999.00,9,-999.0000,-999.000,  2.3233,-999.000
      325023_1,  P14N,    93,  1,     14,     14,2,19930731,0834, 16.0008, 178.9992, 5150,   2023.7,   2.2207,  34.6238,2,  34.6252,2,   -999.0,9,     99.0,2,   147.61,2,    39.37,2,     0.00,2,     2.78,2,    0.001,2,    0.004,2, -999.000,9,-999.0000,9,  -999.00,9,   -999.0,9,   -999.0,9,  -999.00,9,-999.0000,-999.000,  2.0789,-999.000
      325023_1,  P14N,    93,  1,     13,     13,2,19930731,0834, 16.0008, 178.9992, 5150,   2225.2,   2.0145,  34.6376,2,  34.6387,2,   -999.0,9,    106.5,2,   152.00,2,    38.91,2,     0.00,2,     2.73,2, -999.000,5, -999.000,5, -999.000,9,-999.0000,9,  -999.00,9,   -999.0,9,   -999.0,9,  -999.00,9,-999.0000,-999.000,  1.8586,-999.000
      325023_1,  P14N,    93,  1,     12,     12,2,19930731,0834, 16.0008, 178.9992, 5150,   2431.3,   1.8751,  34.6463,2,  34.6471,2,   -999.0,9,    112.5,2,   154.82,2,    38.59,2,     0.00,2,     2.70,2,   -0.004,2,   -0.001,2, -999.000,9,-999.0000,9,  -999.00,9,   -999.0,9,   -999.0,9,  -999.00,9,-999.0000,-999.000,  1.7034,-999.000
      325023_1,  P14N,    93,  1,     11,     11,2,19930731,0834, 16.0008, 178.9992, 5150,   2632.4,   1.7721,  34.6536,2,  34.6543,2,   -999.0,9,    118.4,2,   156.75,2,    38.13,2,     0.00,2,     2.66,2, -999.000,5, -999.000,5, -999.000,9,-999.0000,9,  -999.00,9,   -999.0,9,   -999.0,9,  -999.00,9,-999.0000,-999.000,  1.5841,-999.000
      325023_1,  P14N,    93,  1,     10,     10,2,19930731,0834, 16.0008, 178.9992, 5150,   2837.5,   1.6884,  34.6607,2,  34.6620,2,   -999.0,9,    124.1,2,   157.77,2,    37.86,2,     0.00,2,     2.63,2, -999.000,5, -999.000,5, -999.000,9,-999.0000,9,  -999.00,9,   -999.0,9,   -999.0,9,  -999.00,9,-999.0000,-999.000,  1.4829,-999.000
      325023_1,  P14N,    93,  1,      9,      9,2,19930731,0834, 16.0008, 178.9992, 5150,   3041.9,   1.6334,  34.6661,2,  34.6678,2,   -999.0,9,    128.7,2,   158.12,2,    37.54,2,     0.00,2,     2.62,2,    0.000,2,    0.002,2, -999.000,9,-999.0000,9,  -999.00,9,   -999.0,9,   -999.0,9,  -999.00,9,-999.0000,-999.000,  1.4097,-999.000
      325023_1,  P14N,    93,  1,      8,      8,2,19930731,0834, 16.0008, 178.9992, 5150,   3346.3,   1.5614,  34.6733,2,  34.6750,2,   -999.0,9,    138.1,2,   156.89,2,    36.99,2,     0.00,2,     2.58,2, -999.000,5, -999.000,5, -999.000,9,-999.0000,9,  -999.00,9,   -999.0,9,   -999.0,9,  -999.00,9,-999.0000,-999.000,  1.3094,-999.000
      325023_1,  P14N,    93,  1,      7,      7,2,19930731,0834, 16.0008, 178.9992, 5150,   3650.4,   1.5081,  34.6784,2,  34.6803,2,   -999.0,9,    143.1,2,   156.11,2,    36.49,2,     0.00,2,     2.54,2, -999.000,5, -999.000,5, -999.000,9,-999.0000,9,  -999.00,9,   -999.0,9,   -999.0,9,  -999.00,9,-999.0000,-999.000,  1.2262,-999.000
      325023_1,  P14N,    93,  1,      6,      6,2,19930731,0834, 16.0008, 178.9992, 5150,   3958.0,   1.4760,  34.6820,2,  34.6826,2,   -999.0,9,    149.6,2,   153.76,2,    36.04,2,     0.00,2,     2.51,2,   -0.001,2,    0.003,2, -999.000,9,-999.0000,9,  -999.00,9,   -999.0,9,   -999.0,9,  -999.00,9,-999.0000,-999.000,  1.1624,-999.000
      325023_1,  P14N,    93,  1,      5,      5,2,19930731,0834, 16.0008, 178.9992, 5150,   4267.5,   1.4560,  34.6864,2,  34.6875,2,   -999.0,9,    156.6,2,   150.08,2,    35.59,2,     0.00,2,     2.47,2, -999.000,5, -999.000,5, -999.000,9,-999.0000,9,  -999.00,9,   -999.0,9,   -999.0,9,  -999.00,9,-999.0000,-999.000,  1.1088,-999.000
      325023_1,  P14N,    93,  1,      4,      4,2,19930731,0834, 16.0008, 178.9992, 5150,   4577.8,   1.4143,  34.6918,2,  34.6930,2,   -999.0,9,    167.1,2,   143.07,2,    34.83,2,     0.00,2,     2.42,2, -999.000,5, -999.000,5, -999.000,9,-999.0000,9,  -999.00,9,   -999.0,9,   -999.0,9,  -999.00,9,-999.0000,-999.000,  1.0329,-999.000
      325023_1,  P14N,    93,  1,      3,      3,2,19930731,0834, 16.0008, 178.9992, 5150,   4891.7,   1.3602,  34.6972,2,  34.6989,2,   -999.0,9,    179.4,2,   134.78,2,    33.80,2,     0.00,2,     2.35,2, -999.000,5, -999.000,5, -999.000,9,-999.0000,9,  -999.00,9,   -999.0,9,   -999.0,9,  -999.00,9,-999.0000,-999.000,  0.9436,-999.000
      325023_1,  P14N,    93,  1,      2,      2,2,19930731,0834, 16.0008, 178.9992, 5150,   5195.2,   1.3547,  34.7003,2,  34.7018,2,   -999.0,9,    185.2,2,   131.16,2,    33.35,2,     0.00,2,     2.32,2,    0.000,2,    0.000,2, -999.000,9,-999.0000,9,  -999.00,9,   -999.0,9,   -999.0,9,  -999.00,9,-999.0000,-999.000,  0.9015,-999.000
      325023_1,  P14N,    93,  1,      1,      1,2,19930731,0834, 16.0008, 178.9992, 5150,   5255.7,   1.3587,  34.7006,2,  34.7019,2,   -999.0,9,    184.2,2,   130.85,2,    33.35,2,     0.00,2,     2.32,2, -999.000,5, -999.000,5, -999.000,9,-999.0000,9,  -999.00,9,   -999.0,9,   -999.0,9,  -999.00,9,-999.0000,-999.000,  0.8979,-999.000