BOTTLE,20131125MIRCJHATS
EXPOCODE,SECT_ID,STNNBR,CASTNO,SAMPNO,BTLNBR,BTLNBR_FLAG_W,DATE,TIME,LATITUDE,LONGITUDE,DEPTH,CTDPRS,CTDTMP,CTDSAL,CTDSAL_FLAG_W,SALNTY,SALNTY_FLAG_W,CTDOXY,CTDOXY_FLAG_W,OXYGEN,OXYGEN_FLAG_W,SILCAT,SILCAT_FLAG_W,NITRAT,NITRAT_FLAG_W,NITRIT,NITRIT_FLAG_W,PHSPHT,PHSPHT_FLAG_W,CFC-11,CFC-11_FLAG_W,CFC-12,CFC-12_FLAG_W,TRITUM,TRITUM_FLAG_W,HELIUM,HELIUM_FLAG_W,DELHE3,DELHE3_FLAG_W,TCARBN,TCARBN_FLAG_W,ALKALI,ALKALI_FLAG_W,PH,PH_FLAG_W,HELIER,DELHER,THETA,TRITER
,,,,,,,,,,,,DBAR,ITS-90,PSS-78,,PSS-78,,UMOL/KG,,UMOL/KG,,UMOL/KG,,UMOL/KG,,UMOL/KG,,UMOL/KG,,PMOL/KG,,PMOL/KG,,TU,,NMOL/KG,,PERCNT,,UMOL/KG,,UMOL/KG,,25_DEG,,NMOL/KG,PERCNT,DEG C,TU
      325023_1,  P14N,    54,  1,     35,     35,2,19930721,0516, 35.5050, 179.0195, 4393,      1.6,  22.5404,  34.5184,2,  34.5354,2,   -999.0,9,    222.2,2,     4.02,2,     0.00,2,     0.00,2,     0.07,2, -999.000,5, -999.000,5, -999.000,9,-999.0000,9,  -999.00,9,   1979.3,2,   2271.4,2,  -999.00,9,-999.0000,-999.000, 22.5401,-999.000
      325023_1,  P14N,    54,  1,     34,     34,2,19930721,0516, 35.5050, 179.0195, 4393,      2.4,  22.5405,  34.5336,2,  34.5353,2,   -999.0,9,    221.8,2,     3.79,2,     0.00,2,     0.00,2,     0.07,2, -999.000,5, -999.000,5, -999.000,9,-999.0000,9,  -999.00,9,   1977.4,2,   2268.9,2,     8.05,2,-999.0000,-999.000, 22.5400,-999.000
      325023_1,  P14N,    54,  1,     33,     33,2,19930721,0516, 35.5050, 179.0195, 4393,     38.0,  19.0235,  34.7915,2,  34.7927,2,   -999.0,9,    249.2,2,     3.19,2,     0.00,2,     0.00,2,     0.06,2, -999.000,5, -999.000,5, -999.000,9,-999.0000,9,  -999.00,9,   1986.6,2,   2283.8,2,  -999.00,9,-999.0000,-999.000, 19.0168,-999.000
      325023_1,  P14N,    54,  1,     32,     32,2,19930721,0516, 35.5050, 179.0195, 4393,     68.0,  17.6451,  34.8023,2,  34.8033,2,   -999.0,9,    242.5,2,     3.15,2,     0.00,2,     0.00,2,     0.08,2, -999.000,5, -999.000,5, -999.000,9,-999.0000,9,  -999.00,9,   1995.9,2,   2283.1,2,     8.03,2,-999.0000,-999.000, 17.6337,-999.000
      325023_1,  P14N,    54,  1,     31,     31,2,19930721,0516, 35.5050, 179.0195, 4393,     98.3,  16.9888,  34.7859,2,  34.7878,2,   -999.0,9,    224.0,2,     4.06,2,     2.90,2,     0.04,2,     0.25,2, -999.000,5, -999.000,5, -999.000,9,-999.0000,9,  -999.00,9,   2015.7,2,   2283.2,2,  -999.00,9,-999.0000,-999.000, 16.9726,-999.000
      325023_1,  P14N,    54,  1,     30,     30,2,19930721,0516, 35.5050, 179.0195, 4393,    127.8,  16.6755,  34.7583,2,  34.7579,2,   -999.0,9,    222.4,2,     4.40,2,     3.75,2,     0.02,2,     0.31,2, -999.000,5, -999.000,5, -999.000,9,-999.0000,9,  -999.00,9,   2018.1,2,   2280.0,2,     7.99,2,-999.0000,-999.000, 16.6547,-999.000
      325023_1,  P14N,    54,  1,     29,     29,2,19930721,0516, 35.5050, 179.0195, 4393,    155.5,  16.3480,  34.7247,2,  34.7242,2,   -999.0,9,    217.4,2,     4.75,2,     4.63,2,     0.02,2,     0.36,2, -999.000,5, -999.000,5, -999.000,9,-999.0000,9,  -999.00,9,   2024.1,2,   2279.0,2,  -999.00,9,-999.0000,-999.000, 16.3231,-999.000
      325023_1,  P14N,    54,  1,     28,     28,2,19930721,0516, 35.5050, 179.0195, 4393,    204.2,  15.5822,  34.6579,2,  34.6563,2,   -999.0,9,    212.4,2,     6.23,2,     6.33,2,     0.01,2,     0.48,2, -999.000,5, -999.000,5, -999.000,9,-999.0000,9,  -999.00,9,   2037.6,2,   2276.4,2,     7.95,2,-999.0000,-999.000, 15.5505,-999.000
      325023_1,  P14N,    54,  1,     27,     27,2,19930721,0516, 35.5050, 179.0195, 4393,    255.0,  14.4735,  34.5624,2,  34.5592,2,   -999.0,9,    208.2,2,    11.12,2,     8.51,2,     0.01,2,     0.63,2, -999.000,5, -999.000,5, -999.000,9,-999.0000,9,  -999.00,9,   2053.2,2,   2275.5,2,  -999.00,9,-999.0000,-999.000, 14.4358,-999.000
      325023_1,  P14N,    54,  1,     26,     26,2,19930721,0516, 35.5050, 179.0195, 4393,    305.2,  13.3962,  34.4779,2,  34.4760,2,   -999.0,9,    214.8,2,    13.56,2,     9.56,2,     0.01,2,     0.72,2, -999.000,5, -999.000,5, -999.000,9,-999.0000,9,  -999.00,9,   2062.1,2,   2271.5,2,     7.90,2,-999.0000,-999.000, 13.3534,-999.000
      325023_1,  P14N,    54,  1,     25,     25,2,19930721,0516, 35.5050, 179.0195, 4393,    407.8,  11.6240,  34.3617,2,  34.3592,2,   -999.0,9,    215.4,2,    18.66,2,    12.32,2,     0.01,2,     0.91,2, -999.000,5, -999.000,5, -999.000,9,-999.0000,9,  -999.00,9,   2084.4,2,   2273.5,2,  -999.00,9,-999.0000,-999.000, 11.5718,-999.000
      325023_1,  P14N,    54,  1,     24,     24,2,19930721,0516, 35.5050, 179.0195, 4393,    509.0,   8.9531,  34.1520,2,  34.1475,2,   -999.0,9,    187.1,2,    33.85,2,    19.93,2,     0.01,2,     1.44,2, -999.000,5, -999.000,5, -999.000,9,-999.0000,9,  -999.00,9,   2136.9,2,   2273.9,2,     7.72,2,-999.0000,-999.000,  8.8976,-999.000
      325023_1,  P14N,    54,  1,     23,     23,2,19930721,0516, 35.5050, 179.0195, 4393,    608.9,   6.7674,  34.0303,2,  34.0285,2,   -999.0,9,    160.5,2,    51.75,2,    26.20,2,     0.01,2,     1.91,2, -999.000,5, -999.000,5, -999.000,9,-999.0000,9,  -999.00,9,   2185.9,2,   2285.6,2,     7.61,2,-999.0000,-999.000,  6.7106,-999.000
      325023_1,  P14N,    54,  1,     22,     22,2,19930721,0516, 35.5050, 179.0195, 4393,    709.5,   5.2255,  34.0204,2,  34.0189,2,   -999.0,9,    117.9,2,    73.57,2,    32.69,2,     0.01,2,     2.37,2, -999.000,5, -999.000,5, -999.000,9,-999.0000,9,  -999.00,9,   2243.9,2,   2298.2,2,     7.49,2,-999.0000,-999.000,  5.1672,-999.000
      325023_1,  P14N,    54,  1,     21,     21,2,19930721,0516, 35.5050, 179.0195, 4393,    811.2,   4.5260,  34.1169,2,  34.1145,2,   -999.0,9,     75.3,2,    93.07,2,    37.32,2,     0.01,2,     2.67,2, -999.000,5, -999.000,5, -999.000,9,-999.0000,9,  -999.00,9,   2288.9,2,   2322.3,2,     7.41,2,-999.0000,-999.000,  4.4630,-999.000
      325023_1,  P14N,    54,  1,     20,     20,2,19930721,0516, 35.5050, 179.0195, 4393,    911.8,   3.9985,  34.2122,2,  34.2112,2,   -999.0,9,     49.9,2,   109.87,2,    40.07,2,     0.00,2,     2.85,2, -999.000,5, -999.000,5, -999.000,9,-999.0000,9,  -999.00,9,   2322.7,2,   2339.7,2,     7.36,2,-999.0000,-999.000,  3.9305,-999.000
      325023_1,  P14N,    54,  1,     19,     19,2,19930721,0516, 35.5050, 179.0195, 4393,   1012.9,   3.6127,  34.2850,2,  34.2852,2,   -999.0,9,     37.1,2,   122.14,2,    41.53,2,     0.00,2,     2.96,2, -999.000,5, -999.000,5, -999.000,9,-999.0000,9,  -999.00,9,   2345.7,2,   2357.2,2,  -999.00,9,-999.0000,-999.000,  3.5394,-999.000
      325023_1,  P14N,    54,  1,     18,     18,2,19930721,0516, 35.5050, 179.0195, 4393,   1214.3,   3.0292,  34.3976,2,  34.3969,2,   -999.0,9,     26.6,2,   140.60,2,    42.99,2,     0.00,2,     3.06,2, -999.000,5, -999.000,5, -999.000,9,-999.0000,9,  -999.00,9,   2371.6,2,   2376.8,2,     7.33,2,-999.0000,-999.000,  2.9447,-999.000
      325023_1,  P14N,    54,  1,     17,     17,2,19930721,0516, 35.5050, 179.0195, 4393,   1415.8,   2.6645,  34.4649,2,  34.4635,2,   -999.0,9,     28.1,2,   151.87,2,    43.24,2,     0.00,2,     3.12,2, -999.000,5, -999.000,5, -999.000,9,-999.0000,9,  -999.00,9,   2383.1,2,   2394.2,2,  -999.00,9,-999.0000,-999.000,  2.5675,-999.000
      325023_1,  P14N,    54,  1,     16,     16,2,19930721,0516, 35.5050, 179.0195, 4393,   1617.5,   2.4033,  34.5143,2,  34.5135,2,   -999.0,9,     36.0,2,   158.53,2,    42.89,2,     0.00,2,     3.03,2, -999.000,5, -999.000,5, -999.000,9,-999.0000,9,  -999.00,9,   2387.7,2,   2400.6,2,     7.35,2,-999.0000,-999.000,  2.2932,-999.000
      325023_1,  P14N,    54,  1,     15,     15,2,19930721,0516, 35.5050, 179.0195, 4393,   1821.7,   2.1900,  34.5536,2,  34.5525,2,   -999.0,9,     49.3,2,   162.75,2,    42.18,2,     0.00,2,     2.96,2, -999.000,5, -999.000,5, -999.000,9,-999.0000,9,  -999.00,9,   2385.7,2,   2409.9,2,  -999.00,9,-999.0000,-999.000,  2.0659,-999.000
      325023_1,  P14N,    54,  1,     14,     14,2,19930721,0516, 35.5050, 179.0195, 4393,   2025.6,   1.9828,  34.5864,2,  34.5874,2,   -999.0,9,     64.9,2,   166.38,2,    41.02,2,     0.00,2,     2.90,2, -999.000,5, -999.000,5, -999.000,9,-999.0000,9,  -999.00,9,   2385.5,2,   2417.7,2,     7.41,2,-999.0000,-999.000,  1.8447,-999.000
      325023_1,  P14N,    54,  1,     13,     13,2,19930721,0516, 35.5050, 179.0195, 4393,   2229.5,   1.8257,  34.6124,2,  34.6136,2,   -999.0,9,     81.2,2,   166.46,2,    40.00,2,     0.00,2,     2.82,2, -999.000,5, -999.000,5, -999.000,9,-999.0000,9,  -999.00,9,   2376.7,2,   2413.1,2,  -999.00,9,-999.0000,-999.000,  1.6726,-999.000
      325023_1,  P14N,    54,  1,     12,     12,2,19930721,0516, 35.5050, 179.0195, 4393,   2432.4,   1.7091,  34.6312,2,  34.6311,2,   -999.0,9,     94.1,2,   166.53,2,    39.20,2,     0.00,2,     2.76,2, -999.000,5, -999.000,5, -999.000,9,-999.0000,9,  -999.00,9,   2369.5,2,   2395.1,3,     7.47,2,-999.0000,-999.000,  1.5404,-999.000
      325023_1,  P14N,    54,  1,     11,     11,2,19930721,0516, 35.5050, 179.0195, 4393,   2636.5,   1.6344,  34.6437,2,  34.6432,2,   -999.0,9,    107.4,2,   164.93,2,    38.50,2,     0.00,2,     2.70,2, -999.000,5, -999.000,5, -999.000,9,-999.0000,9,  -999.00,9,   2360.6,2,   2415.3,2,  -999.00,9,-999.0000,-999.000,  1.4487,-999.000
      325023_1,  P14N,    54,  1,     10,     10,2,19930721,0516, 35.5050, 179.0195, 4393,   2840.5,   1.5661,  34.6550,2,  34.6542,2,   -999.0,9,    117.7,2,   163.96,2,    37.80,2,     0.00,2,     2.63,2, -999.000,5, -999.000,5, -999.000,9,-999.0000,9,  -999.00,9,   2354.7,2,   2424.2,2,     7.52,2,-999.0000,-999.000,  1.3630,-999.000
      325023_1,  P14N,    54,  1,      9,      9,2,19930721,0516, 35.5050, 179.0195, 4393,   3044.9,   1.5241,  34.6627,2,  34.6622,2,   -999.0,9,    125.8,2,   163.62,2,    37.19,2,     0.00,2,     2.60,2, -999.000,5, -999.000,5, -999.000,9,-999.0000,9,  -999.00,9,   2348.6,2,   2419.9,2,  -999.00,9,-999.0000,-999.000,  1.3025,-999.000
      325023_1,  P14N,    54,  1,      8,      8,2,19930721,0516, 35.5050, 179.0195, 4393,   3251.0,   1.4977,  34.6684,2,  34.6683,2,   -999.0,9,    131.8,2,   159.93,2,    36.98,2,     0.00,2,     2.56,2, -999.000,5, -999.000,5, -999.000,9,-999.0000,9,  -999.00,9,   2345.7,2,   2422.2,2,     7.54,2,-999.0000,-999.000,  1.2567,-999.000
      325023_1,  P14N,    54,  1,      7,      7,2,19930721,0516, 35.5050, 179.0195, 4393,   3456.0,   1.4855,  34.6725,2,  34.6728,2,   -999.0,9,    136.4,2,   158.96,2,    36.54,2,     0.00,2,     2.55,2, -999.000,5, -999.000,5, -999.000,9,-999.0000,9,  -999.00,9,   2339.7,2,   2417.8,2,  -999.00,9,-999.0000,-999.000,  1.2243,-999.000
      325023_1,  P14N,    54,  1,      6,      6,2,19930721,0516, 35.5050, 179.0195, 4393,   3661.7,   1.4697,  34.6766,2,  34.6767,2,   -999.0,9,    141.1,2,   158.20,2,    36.29,2,     0.00,2,     2.52,2, -999.000,5, -999.000,5, -999.000,9,-999.0000,9,  -999.00,9,   2340.9,2,   2401.9,3,     7.56,2,-999.0000,-999.000,  1.1877,-999.000
      325023_1,  P14N,    54,  1,      5,      5,2,19930721,0516, 35.5050, 179.0195, 4393,   3867.3,   1.4552,  34.6807,2,  34.6808,2,   -999.0,9,    146.2,2,   157.24,2,    35.99,2,     0.00,2,     2.50,2, -999.000,5, -999.000,5, -999.000,9,-999.0000,9,  -999.00,9,   2331.4,2,   2416.2,2,  -999.00,9,-999.0000,-999.000,  1.1519,-999.000
      325023_1,  P14N,    54,  1,      4,      4,2,19930721,0516, 35.5050, 179.0195, 4393,   4073.1,   1.4547,  34.6836,2,  34.6837,2,   -999.0,9,    149.2,2,   157.10,2,    35.87,2,     0.00,2,     2.49,2, -999.000,5, -999.000,5, -999.000,9,-999.0000,9,  -999.00,9,   2330.6,2,   2416.4,2,     7.57,2,-999.0000,-999.000,  1.1291,-999.000
      325023_1,  P14N,    54,  1,      3,      3,2,19930721,0516, 35.5050, 179.0195, 4393,   4275.5,   1.4586,  34.6859,2,  34.6855,2,   -999.0,9,    151.7,2,   156.96,2,    35.75,2,     0.00,2,     2.48,2,    0.001,2,    0.000,2, -999.000,9,-999.0000,9,  -999.00,9,   2328.7,2,   2417.6,2,  -999.00,9,-999.0000,-999.000,  1.1105,-999.000
      325023_1,  P14N,    54,  1,      2,      2,2,19930721,0516, 35.5050, 179.0195, 4393,   4460.8,   1.4713,  34.6869,2,  34.6872,2,   -999.0,9,    152.6,2,   157.66,2,    35.72,2,     0.00,2,     2.47,2,    0.008,2,    0.007,2, -999.000,9,-999.0000,9,  -999.00,9,   2327.3,2,   2405.3,2,     7.58,2,-999.0000,-999.000,  1.1017,-999.000
      325023_1,  P14N,    54,  1,      1,      1,2,19930721,0516, 35.5050, 179.0195, 4393,   4462.6,   1.4713,  34.6874,2,  34.6874,2,   -999.0,9,    152.5,2,   157.52,2,    35.69,2,     0.00,2,     2.47,2, -999.000,5, -999.000,5, -999.000,9,-999.0000,9,  -999.00,9,   2328.5,2,   2421.2,2,  -999.00,9,-999.0000,-999.000,  1.1015,-999.000