BOTTLE,20131125MIRCJHATS
EXPOCODE,SECT_ID,STNNBR,CASTNO,SAMPNO,BTLNBR,BTLNBR_FLAG_W,DATE,TIME,LATITUDE,LONGITUDE,DEPTH,CTDPRS,CTDTMP,CTDSAL,CTDSAL_FLAG_W,SALNTY,SALNTY_FLAG_W,CTDOXY,CTDOXY_FLAG_W,OXYGEN,OXYGEN_FLAG_W,SILCAT,SILCAT_FLAG_W,NITRAT,NITRAT_FLAG_W,NITRIT,NITRIT_FLAG_W,PHSPHT,PHSPHT_FLAG_W,CFC-11,CFC-11_FLAG_W,CFC-12,CFC-12_FLAG_W,TRITUM,TRITUM_FLAG_W,HELIUM,HELIUM_FLAG_W,DELHE3,DELHE3_FLAG_W,TCARBN,TCARBN_FLAG_W,ALKALI,ALKALI_FLAG_W,PH,PH_FLAG_W,HELIER,DELHER,THETA,TRITER
,,,,,,,,,,,,DBAR,ITS-90,PSS-78,,PSS-78,,UMOL/KG,,UMOL/KG,,UMOL/KG,,UMOL/KG,,UMOL/KG,,UMOL/KG,,PMOL/KG,,PMOL/KG,,TU,,NMOL/KG,,PERCNT,,UMOL/KG,,UMOL/KG,,25_DEG,,NMOL/KG,PERCNT,DEG C,TU
      325023_1,  P14N,    35,  1,     17,     17,2,19930714,2155, 45.0033, 179.0033, 5746,      3.7,   9.4972,  33.0788,2,  33.0853,2,   -999.0,9,    291.3,2,    28.69,2,    13.42,2,     0.18,2,     1.33,2,    4.406,2,    2.159,2, -999.000,9,-999.0000,9,  -999.00,9,   2051.5,2,   2232.6,2,     7.83,2,-999.0000,-999.000,  9.4968,-999.000
      325023_1,  P14N,    35,  1,     16,     16,2,19930714,2155, 45.0033, 179.0033, 5746,     59.1,   5.9549,  33.4082,2,  33.4077,2,   -999.0,9,    308.9,2,    29.40,2,    14.96,2,     0.41,2,     1.38,2,    4.996,2,    2.407,2,    1.808,2,-999.0000,9,  -999.00,9,   2081.3,2,   2243.8,2,     7.79,2,-999.0000,-999.000,  5.9501,   0.018
      325023_1,  P14N,    35,  1,     15,     15,2,19930714,2155, 45.0033, 179.0033, 5746,    109.3,   6.2661,  33.6158,2,  33.6248,2,   -999.0,9,    290.0,2,    28.36,2,    15.73,2,     0.01,2,     1.33,2,    4.715,2,    2.269,2,    1.894,2,-999.0000,9,  -999.00,9,   2094.4,2,   2261.7,2,  -999.00,9,-999.0000,-999.000,  6.2567,   0.019
      325023_1,  P14N,    35,  1,     14,     14,2,19930714,2155, 45.0033, 179.0033, 5746,    159.6,   5.6191,  33.6670,2,  33.6724,2,   -999.0,9,    263.3,2,    34.92,2,    19.04,2,     0.01,2,     1.54,2,    4.419,2,    2.107,2, -999.000,9,-999.0000,9,  -999.00,9,   2120.0,2,   2257.3,2,     7.73,2,-999.0000,-999.000,  5.6062,-999.000
      325023_1,  P14N,    35,  1,     13,     13,2,19930714,2155, 45.0033, 179.0033, 5746,    210.2,   4.8345,  33.7341,2,  33.7429,2,   -999.0,9,    200.8,2,    53.95,2,    26.94,2,     0.00,2,     2.05,2,    3.792,2,    1.765,2, -999.000,9,-999.0000,9,  -999.00,9,   2183.6,2,   2274.9,2,  -999.00,9,-999.0000,-999.000,  4.8187,-999.000
      325023_1,  P14N,    35,  1,     12,     12,2,19930714,2155, 45.0033, 179.0033, 5746,    259.8,   4.8158,  33.8434,2,  33.8526,2,   -999.0,9,    155.4,2,    65.60,2,    30.97,2,     0.00,2,     2.31,2,    2.670,2,    1.208,2,    1.063,2,-999.0000,9,  -999.00,9,   2215.4,2,   2282.9,2,     7.52,2,-999.0000,-999.000,  4.7962,   0.011
      325023_1,  P14N,    35,  1,     11,     11,2,19930714,2155, 45.0033, 179.0033, 5746,    260.6,   4.8072,  33.8488,2,  33.8588,2,   -999.0,9,    151.6,3,    66.70,2,    31.28,2,     0.00,2,     2.34,2,    2.621,2,    1.190,2, -999.000,9,-999.0000,9,  -999.00,9,   2220.8,2,   2291.4,2,  -999.00,9,-999.0000,-999.000,  4.7876,-999.000
      325023_1,  P14N,    35,  1,     10,     10,2,19930714,2155, 45.0033, 179.0033, 5746,    306.5,   4.1528,  33.8185,2,  33.8262,2,   -999.0,9,    138.4,2,    74.66,2,    33.91,2,     0.00,2,     2.51,2,    2.584,2,    1.149,2, -999.000,9,-999.0000,9,  -999.00,9,   2245.2,2,   2286.7,2,     7.46,2,-999.0000,-999.000,  4.1312,-999.000
      325023_1,  P14N,    35,  1,      9,      9,2,19930714,2155, 45.0033, 179.0033, 5746,    408.0,   4.4380,  34.0219,2,  34.0276,2,   -999.0,9,     92.9,2,    88.33,2,    36.86,2,     0.00,2,     2.69,2,    1.273,2,    0.553,2,    0.738,2,-999.0000,9,  -999.00,9,   2278.2,2,   2315.8,2,  -999.00,9,-999.0000,-999.000,  4.4079,   0.008
      325023_1,  P14N,    35,  1,      8,      8,2,19930714,2155, 45.0033, 179.0033, 5746,    507.5,   3.9895,  34.0940,2,  34.1009,2,   -999.0,9,     64.5,2,   103.28,2,    39.78,2,     0.00,2,     2.89,2,    0.846,2,    0.362,2, -999.000,9,-999.0000,9,  -999.00,9,   2310.3,2,   2324.5,2,     7.37,2,-999.0000,-999.000,  3.9534,-999.000
      325023_1,  P14N,    35,  1,      7,      7,2,19930714,2155, 45.0033, 179.0033, 5746,    608.8,   3.6836,  34.1675,2,  34.1737,2,   -999.0,9,     46.9,2,   115.56,2,    41.53,2,     0.00,2,     3.01,2,    0.481,2,    0.196,2,    0.436,2,-999.0000,9,  -999.00,9,   2334.1,2,   2332.5,2,  -999.00,9,-999.0000,-999.000,  3.6412,   0.008
      325023_1,  P14N,    35,  1,      6,      6,2,19930714,2155, 45.0033, 179.0033, 5746,    712.5,   3.4683,  34.2491,2,  34.2564,2,   -999.0,9,     39.1,2,   125.12,2,    42.27,2,     0.00,2,     3.05,2,    0.254,2,    0.116,2, -999.000,9,-999.0000,9,  -999.00,9,   2348.1,2,   2349.2,2,     7.33,2,-999.0000,-999.000,  3.4192,-999.000
      325023_1,  P14N,    35,  1,      5,      5,2,19930714,2155, 45.0033, 179.0033, 5746,    814.2,   3.2669,  34.3003,2,  34.3061,2,   -999.0,9,     34.9,2,   131.71,2,    42.54,2,     0.00,2,     3.08,2,    0.145,2,    0.063,2,    0.406,2,-999.0000,9,  -999.00,9,   2358.4,2,   2364.6,2,  -999.00,9,-999.0000,-999.000,  3.2114,   0.008
      325023_1,  P14N,    35,  1,      4,      4,2,19930714,2155, 45.0033, 179.0033, 5746,    917.0,   3.0461,  34.3400,2,  34.3459,2,   -999.0,9,     32.2,2,   139.57,2,    43.10,2,     0.00,2,     3.11,2,    0.099,2,    0.041,2, -999.000,9,-999.0000,9,  -999.00,9,   2366.2,2,   2370.4,2,     7.33,2,-999.0000,-999.000,  2.9844,-999.000
      325023_1,  P14N,    35,  1,      3,      3,2,19930714,2155, 45.0033, 179.0033, 5746,   1018.3,   2.8861,  34.3715,2,  34.3796,3,   -999.0,9,     31.2,2,   145.22,2,    43.32,2,     0.00,2,     3.12,2,    0.076,2,    0.035,2,    0.273,2,-999.0000,9,  -999.00,9,   2375.5,2,   2374.1,2,  -999.00,9,-999.0000,-999.000,  2.8180,   0.008
      325023_1,  P14N,    35,  1,      2,      2,2,19930714,2155, 45.0033, 179.0033, 5746,   1220.5,   2.5902,  34.4276,2,  34.4350,3,   -999.0,9,     30.8,2,   155.27,2,    43.54,2,     0.00,2,     3.13,4,    0.036,2,    0.012,2, -999.000,9,-999.0000,9,  -999.00,9,   2381.7,2,   2390.0,2,     7.33,2,-999.0000,-999.000,  2.5093,-999.000
      325023_1,  P14N,    35,  1,      1,      1,2,19930714,2155, 45.0033, 179.0033, 5746,   1424.1,   2.3588,  34.4780,2,  34.4864,3,   -999.0,9,     36.8,2,   161.66,2,    43.33,2,     0.00,2,     3.11,4,    0.022,2,    0.008,2,    0.079,2,-999.0000,9,  -999.00,9,   2388.3,2,   2399.1,2,  -999.00,9,-999.0000,-999.000,  2.2645,   0.008
      325023_1,  P14N,    35,  1,     36,     36,2,19930714,2155, 45.0033, 179.0033, 5746,   1627.2,   2.1761,  34.5233,2,  34.5309,3,   -999.0,9,     44.5,2,   166.09,2,    43.09,2,     0.01,2,     3.03,2,    0.004,2,   -0.003,2,    0.042,2,-999.0000,9,  -999.00,9,   2388.2,2,   2408.0,2,     7.37,2,-999.0000,-999.000,  2.0680,   0.008
      325023_1,  P14N,    35,  1,     35,     35,2,19930714,2155, 45.0033, 179.0033, 5746,   1829.4,   2.0274,  34.5558,2,  34.5634,3,   -999.0,9,     56.0,2,   168.54,2,    42.50,2,     0.00,2,     2.99,2, -999.000,5, -999.000,5, -999.000,9,-999.0000,9,  -999.00,9,   2379.1,2,   2404.3,2,  -999.00,9,-999.0000,-999.000,  1.9049,-999.000
      325023_1,  P14N,    35,  1,     34,     34,2,19930714,2155, 45.0033, 179.0033, 5746,   2032.0,   1.9121,  34.5798,2,  34.5871,3,   -999.0,9,     66.8,2,   170.36,2,    41.86,2,     0.00,2,     2.94,2,    0.006,4,    0.022,4,    0.003,2,-999.0000,9,  -999.00,9,   2374.0,2,   2422.4,2,     7.42,2,-999.0000,-999.000,  1.7745,   0.008
      325023_1,  P14N,    35,  1,     33,     33,2,19930714,2155, 45.0033, 179.0033, 5746,   2238.3,   1.7756,  34.6052,2,  34.6132,3,   -999.0,9,     81.9,2,   170.05,2,    40.88,2,     0.00,2,     2.87,2, -999.000,5, -999.000,5, -999.000,9,-999.0000,9,  -999.00,9,   2370.9,2,   2405.9,2,  -999.00,9,-999.0000,-999.000,  1.6226,-999.000
      325023_1,  P14N,    35,  1,     32,     32,2,19930714,2155, 45.0033, 179.0033, 5746,   2440.6,   1.6639,  34.6236,2,  34.6318,3,   -999.0,9,     96.4,2,   169.95,2,    39.91,2,     0.00,2,     2.79,2,    0.003,2,   -0.001,2,    0.004,2,-999.0000,9,  -999.00,9,   2365.6,2,   2417.7,2,     7.47,2,-999.0000,-999.000,  1.4952,   0.008
      325023_1,  P14N,    35,  1,     31,     31,2,19930714,2155, 45.0033, 179.0033, 5746,   2640.1,   1.6464,  34.6292,2,  34.6375,3,   -999.0,9,    101.2,2,   169.21,2,    39.56,2,     0.00,2,     2.78,2,    0.000,2,    0.008,2,    0.001,2,-999.0000,9,  -999.00,9,   2360.7,2,   2422.6,2,  -999.00,9,-999.0000,-999.000,  1.4602,   0.008
      325023_1,  P14N,    35,  1,     30,     30,2,19930714,2155, 45.0033, 179.0033, 5746,   2848.0,   1.6407,  34.6322,2,  34.6416,3,   -999.0,9,    104.8,2,   168.68,2,    39.12,2,     0.00,2,     2.76,2,   -0.004,2,   -0.001,2,    0.003,2,-999.0000,9,  -999.00,9,   2358.9,2,   2409.4,2,     7.49,2,-999.0000,-999.000,  1.4354,   0.008
      325023_1,  P14N,    35,  1,     29,     29,2,19930714,2155, 45.0033, 179.0033, 5746,   3054.8,   1.6197,  34.6382,2,  34.6463,3,   -999.0,9,    113.7,3,   167.73,2,    38.96,2,     0.00,2,     2.74,2,   -0.004,2,    0.002,2,    0.009,2,-999.0000,9,  -999.00,9,   2355.6,2,   2424.4,2,  -999.00,9,-999.0000,-999.000,  1.3952,   0.008
      325023_1,  P14N,    35,  1,     28,     28,2,19930714,2155, 45.0033, 179.0033, 5746,   3357.7,   1.5588,  34.6624,2,  34.6585,3,   -999.0,9,    123.6,2,   164.24,2,    38.14,2,     0.00,2,     2.68,2, -999.000,5, -999.000,5,    0.010,2,-999.0000,9,  -999.00,9,   2348.7,2,   2410.9,2,     7.53,2,-999.0000,-999.000,  1.3058,   0.008
      325023_1,  P14N,    35,  1,     27,     27,2,19930714,2155, 45.0033, 179.0033, 5746,   3670.4,   1.5073,  34.6726,2,  34.6693,3,   -999.0,9,    135.5,2,   161.18,2,    37.41,2,     0.00,2,     2.62,2,   -0.001,2,   -0.001,2,    0.008,2,-999.0000,9,  -999.00,9,   -999.0,9,   -999.0,9,  -999.00,9,-999.0000,-999.000,  1.2234,   0.008
      325023_1,  P14N,    35,  1,     26,     26,2,19930714,2155, 45.0033, 179.0033, 5746,   3980.1,   1.4824,  34.6786,2,  34.6763,2,   -999.0,9,    144.0,2,   159.19,2,    36.87,2,     0.00,2,     2.58,2, -999.000,5, -999.000,5,    0.011,2,-999.0000,9,  -999.00,9,   2331.4,2,   2413.0,2,     7.56,2,-999.0000,-999.000,  1.1662,   0.008
      325023_1,  P14N,    35,  1,     25,     25,2,19930714,2155, 45.0033, 179.0033, 5746,   4289.3,   1.4771,  34.6839,2,  34.6816,2,   -999.0,9,    149.1,2,   158.67,2,    36.53,2,     0.00,2,     2.55,2, -999.000,5, -999.000,5, -999.000,9,-999.0000,9,  -999.00,9,   2327.3,2,   2420.6,2,  -999.00,9,-999.0000,-999.000,  1.1269,-999.000
      325023_1,  P14N,    35,  1,     24,     24,2,19930714,2155, 45.0033, 179.0033, 5746,   4597.9,   1.4958,  34.6858,2,  34.6840,2,   -999.0,9,    151.6,2,   159.84,2,    36.42,2,     0.00,2,     2.54,2,   -0.003,2,    0.001,2,    0.001,2,-999.0000,9,  -999.00,9,   2329.8,2,   2412.8,2,     7.58,2,-999.0000,-999.000,  1.1096,   0.008
      325023_1,  P14N,    35,  1,     23,     23,2,19930714,2155, 45.0033, 179.0033, 5746,   4906.7,   1.5230,  34.6872,2,  34.6840,3,   -999.0,9,    152.4,2,   161.01,2,    36.17,2,     0.00,2,     2.53,2, -999.000,5, -999.000,5,    0.001,2,-999.0000,9,  -999.00,9,   2335.4,2,   2423.1,2,  -999.00,9,-999.0000,-999.000,  1.0993,   0.008
      325023_1,  P14N,    35,  1,     22,     22,2,19930714,2155, 45.0033, 179.0033, 5746,   5216.0,   1.5618,  34.6869,2,  34.6842,2,   -999.0,9,    152.7,2,   161.54,2,    36.30,2,     0.00,2,     2.54,2, -999.000,5, -999.000,5,    0.001,2,-999.0000,9,  -999.00,9,   2326.4,2,   2417.4,2,  -999.00,9,-999.0000,-999.000,  1.0989,   0.008
      325023_1,  P14N,    35,  1,     21,     21,2,19930714,2155, 45.0033, 179.0033, 5746,   5527.4,   1.6020,  34.6870,2,  34.6834,3,   -999.0,9,    153.3,2,   161.24,2,    36.29,2,     0.00,2,     2.54,2,   -0.002,2,    0.000,2, -999.000,9,-999.0000,9,  -999.00,9,   2325.7,2,   2425.6,2,  -999.00,9,-999.0000,-999.000,  1.0982,-999.000
      325023_1,  P14N,    35,  1,     20,     20,2,19930714,2155, 45.0033, 179.0033, 5746,   5837.9,   1.6440,  34.6866,2,  34.6846,2,   -999.0,9,    153.5,2,   161.56,2,    36.27,2,     0.00,2,     2.54,2, -999.000,5, -999.000,5,    0.001,2,-999.0000,9,  -999.00,9,   2325.5,2,   2410.3,2,     7.58,2,-999.0000,-999.000,  1.0982,   0.008
      325023_1,  P14N,    35,  1,     19,     19,2,19930714,2155, 45.0033, 179.0033, 5746,   5861.2,   1.6475,  34.6865,2,  34.6867,2,   -999.0,9,    153.0,2,   161.68,2,    36.21,2,     0.00,2,     2.54,2, -999.000,5, -999.000,5, -999.000,9,-999.0000,9,  -999.00,9,   2327.9,2,   2421.0,2,     7.58,2,-999.0000,-999.000,  1.0984,-999.000
      325023_1,  P14N,    35,  1,     18,     18,2,19930714,2155, 45.0033, 179.0033, 5746,   5861.2,   1.6473,  34.6867,2,  34.6865,2,   -999.0,9,    153.0,2,   161.79,2,    36.29,2,     0.00,2,     2.54,2,    0.001,2,    0.003,2,    0.273,2,-999.0000,9,  -999.00,9,   2325.7,2,   -999.0,9,  -999.00,9,-999.0000,-999.000,  1.0982,   0.008