BOTTLE,20131125MIRCJHATS
EXPOCODE,SECT_ID,STNNBR,CASTNO,SAMPNO,BTLNBR,BTLNBR_FLAG_W,DATE,TIME,LATITUDE,LONGITUDE,DEPTH,CTDPRS,CTDTMP,CTDSAL,CTDSAL_FLAG_W,SALNTY,SALNTY_FLAG_W,CTDOXY,CTDOXY_FLAG_W,OXYGEN,OXYGEN_FLAG_W,SILCAT,SILCAT_FLAG_W,NITRAT,NITRAT_FLAG_W,NITRIT,NITRIT_FLAG_W,PHSPHT,PHSPHT_FLAG_W,CFC-11,CFC-11_FLAG_W,CFC-12,CFC-12_FLAG_W,TRITUM,TRITUM_FLAG_W,HELIUM,HELIUM_FLAG_W,DELHE3,DELHE3_FLAG_W,TCARBN,TCARBN_FLAG_W,ALKALI,ALKALI_FLAG_W,PH,PH_FLAG_W,HELIER,DELHER,THETA,TRITER
,,,,,,,,,,,,DBAR,ITS-90,PSS-78,,PSS-78,,UMOL/KG,,UMOL/KG,,UMOL/KG,,UMOL/KG,,UMOL/KG,,UMOL/KG,,PMOL/KG,,PMOL/KG,,TU,,NMOL/KG,,PERCNT,,UMOL/KG,,UMOL/KG,,25_DEG,,NMOL/KG,PERCNT,DEG C,TU
      325024_1,  P14N,   172,  1,     36,     36,2,19930826,1332, -9.4982, 178.9972, 4600,      3.0,  28.7929,  34.3101,2,  34.3155,2,   -999.0,9,    196.7,2,     2.75,2,     0.08,2,     0.00,2,     0.19,2, -999.000,5, -999.000,5, -999.000,9,-999.0000,9,  -999.00,9,   -999.0,9,   -999.0,9,  -999.00,9,-999.0000,-999.000, 28.7922,-999.000
      325024_1,  P14N,   172,  1,     35,     35,2,19930826,1332, -9.4982, 178.9972, 4600,      3.1,  28.7960,  34.3092,2,  34.3153,2,   -999.0,9,    196.5,2,     2.48,2,     0.08,2,     0.00,2,     0.19,2, -999.000,5, -999.000,5, -999.000,9,-999.0000,9,  -999.00,9,   -999.0,9,   -999.0,9,  -999.00,9,-999.0000,-999.000, 28.7953,-999.000
      325024_1,  P14N,   172,  1,     34,     34,2,19930826,1332, -9.4982, 178.9972, 4600,     31.3,  28.5200,  34.2981,2,  34.3053,2,   -999.0,9,    197.3,2,     2.62,2,     0.07,2,     0.00,2,     0.19,2, -999.000,5, -999.000,5, -999.000,9,-999.0000,9,  -999.00,9,   -999.0,9,   -999.0,9,  -999.00,9,-999.0000,-999.000, 28.5126,-999.000
      325024_1,  P14N,   172,  1,     33,     33,2,19930826,1332, -9.4982, 178.9972, 4600,     60.8,  28.5253,  34.8823,2,  34.9676,4,   -999.0,9,    191.9,2,     2.34,2,     0.17,2,     0.02,2,     0.27,2, -999.000,5, -999.000,5, -999.000,9,-999.0000,9,  -999.00,9,   -999.0,9,   -999.0,9,  -999.00,9,-999.0000,-999.000, 28.5108,-999.000
      325024_1,  P14N,   172,  1,     32,     32,2,19930826,1332, -9.4982, 178.9972, 4600,     90.7,  27.1307,  36.0170,2,  36.0226,2,   -999.0,9,    159.9,2,     2.48,2,     3.03,2,     0.40,2,     0.54,2, -999.000,5, -999.000,5, -999.000,9,-999.0000,9,  -999.00,9,   -999.0,9,   -999.0,9,  -999.00,9,-999.0000,-999.000, 27.1097,-999.000
      325024_1,  P14N,   172,  1,     31,     31,2,19930826,1332, -9.4982, 178.9972, 4600,    120.8,  24.8325,  36.1950,2,  36.1957,2,   -999.0,9,    143.3,2,     2.41,2,     6.12,2,     0.30,2,     0.69,2, -999.000,5, -999.000,5, -999.000,9,-999.0000,9,  -999.00,9,   -999.0,9,   -999.0,9,  -999.00,9,-999.0000,-999.000, 24.8063,-999.000
      325024_1,  P14N,   172,  1,     30,     30,2,19930826,1332, -9.4982, 178.9972, 4600,    151.3,  22.3228,  36.0753,2,  36.0565,2,   -999.0,9,    144.2,2,     2.34,2,     7.10,2,     0.02,2,     0.72,2, -999.000,5, -999.000,5, -999.000,9,-999.0000,9,  -999.00,9,   -999.0,9,   -999.0,9,  -999.00,9,-999.0000,-999.000, 22.2924,-999.000
      325024_1,  P14N,   172,  1,     29,     29,2,19930826,1332, -9.4982, 178.9972, 4600,    201.0,  18.6934,  35.6288,2,  35.5991,2,   -999.0,9,    134.1,2,     4.53,2,    10.40,2,     0.01,2,     0.97,2, -999.000,5, -999.000,5, -999.000,9,-999.0000,9,  -999.00,9,   -999.0,9,   -999.0,9,  -999.00,9,-999.0000,-999.000, 18.6578,-999.000
      325024_1,  P14N,   172,  1,     28,     28,2,19930826,1332, -9.4982, 178.9972, 4600,    251.1,  15.2766,  35.2028,2,  35.2151,2,   -999.0,9,    117.2,2,     8.55,2,    15.66,2,     0.01,2,     1.33,2, -999.000,5, -999.000,5, -999.000,9,-999.0000,9,  -999.00,9,   -999.0,9,   -999.0,9,  -999.00,9,-999.0000,-999.000, 15.2380,-999.000
      325024_1,  P14N,   172,  1,     27,     27,2,19930826,1332, -9.4982, 178.9972, 4600,    301.2,  11.8182,  34.8600,2,  34.8564,2,   -999.0,9,     89.5,2,    17.28,2,    24.25,2,     0.00,2,     1.87,2,    0.434,2,    0.225,2, -999.000,9,-999.0000,9,  -999.00,9,   -999.0,9,   -999.0,9,  -999.00,9,-999.0000,-999.000, 11.7792,-999.000
      325024_1,  P14N,   172,  1,     26,     26,2,19930826,1332, -9.4982, 178.9972, 4600,    406.4,   9.2827,  34.6846,2,  34.6813,2,   -999.0,9,     94.3,2,    26.21,2,    29.76,2,     0.00,2,     2.14,2,    0.121,2,    0.057,2, -999.000,9,-999.0000,9,  -999.00,9,   -999.0,9,   -999.0,9,  -999.00,9,-999.0000,-999.000,  9.2374,-999.000
      325024_1,  P14N,   172,  1,     25,     25,2,19930826,1332, -9.4982, 178.9972, 4600,    506.4,   7.5095,  34.5734,2,  34.5736,2,   -999.0,9,    121.9,2,    32.68,2,    30.93,2,     0.00,2,     2.18,2,    0.084,2,    0.047,2, -999.000,9,-999.0000,9,  -999.00,9,   -999.0,9,   -999.0,9,  -999.00,9,-999.0000,-999.000,  7.4594,-999.000
      325024_1,  P14N,   172,  1,     24,     24,2,19930826,1332, -9.4982, 178.9972, 4600,    606.1,   6.3188,  34.5160,2,  34.5185,2,   -999.0,9,    126.8,2,    42.00,2,    32.92,2,     0.00,2,     2.32,2,    0.036,2,    0.023,2, -999.000,9,-999.0000,9,  -999.00,9,   -999.0,9,   -999.0,9,  -999.00,9,-999.0000,-999.000,  6.2639,-999.000
      325024_1,  P14N,   172,  1,     23,     23,2,19930826,1332, -9.4982, 178.9972, 4600,    705.6,   5.6580,  34.5030,2,  34.5036,2,   -999.0,9,    128.1,2,    49.68,2,    34.03,2,     0.00,2,     2.41,2,    0.025,2,    0.012,2, -999.000,9,-999.0000,9,  -999.00,9,   -999.0,9,   -999.0,9,  -999.00,9,-999.0000,-999.000,  5.5972,-999.000
      325024_1,  P14N,   172,  1,     22,     22,2,19930826,1332, -9.4982, 178.9972, 4600,    810.4,   5.1857,  34.5053,2,  34.5054,2,   -999.0,9,    119.9,2,    57.98,2,    35.71,2,     0.00,2,     2.52,2, -999.000,5, -999.000,5, -999.000,9,-999.0000,9,  -999.00,9,   -999.0,9,   -999.0,9,  -999.00,9,-999.0000,-999.000,  5.1181,-999.000
      325024_1,  P14N,   172,  1,     21,     21,2,19930826,1332, -9.4982, 178.9972, 4600,    910.0,   4.7308,  34.5112,2,  34.5124,2,   -999.0,9,    121.2,2,    65.87,2,    36.14,2,     0.00,2,     2.55,2, -999.000,5, -999.000,5, -999.000,9,-999.0000,9,  -999.00,9,   -999.0,9,   -999.0,9,  -999.00,9,-999.0000,-999.000,  4.6575,-999.000
      325024_1,  P14N,   172,  1,     20,     20,2,19930826,1332, -9.4982, 178.9972, 4600,   1010.6,   4.3431,  34.5222,2,  34.5244,2,   -999.0,9,    120.6,2,    73.76,2,    36.57,2,     0.00,2,     2.58,2, -999.000,5, -999.000,5, -999.000,9,-999.0000,9,  -999.00,9,   -999.0,9,   -999.0,9,  -999.00,9,-999.0000,-999.000,  4.2638,-999.000
      325024_1,  P14N,   172,  1,     19,     19,2,19930826,1332, -9.4982, 178.9972, 4600,   1212.1,   3.6595,  34.5466,2,  34.5466,2,   -999.0,9,    125.9,2,    87.22,2,    36.51,2,     0.00,2,     2.59,2, -999.000,5, -999.000,5, -999.000,9,-999.0000,9,  -999.00,9,   -999.0,9,   -999.0,9,  -999.00,9,-999.0000,-999.000,  3.5689,-999.000
      325024_1,  P14N,   172,  1,     18,     18,2,19930826,1332, -9.4982, 178.9972, 4600,   1412.8,   3.0961,  34.5776,2,  34.5770,2,   -999.0,9,    129.6,2,   101.78,2,    36.46,2,     0.00,2,     2.59,2, -999.000,5, -999.000,5, -999.000,9,-999.0000,9,  -999.00,9,   -999.0,9,   -999.0,9,  -999.00,9,-999.0000,-999.000,  2.9944,-999.000
      325024_1,  P14N,   172,  1,     17,     17,2,19930826,1332, -9.4982, 178.9972, 4600,   1619.8,   2.7020,  34.5980,2,  34.5987,2,   -999.0,9,    135.9,2,   109.96,2,    36.28,2,     0.00,2,     2.59,2, -999.000,5, -999.000,5, -999.000,9,-999.0000,9,  -999.00,9,   -999.0,9,   -999.0,9,  -999.00,9,-999.0000,-999.000,  2.5877,-999.000
      325024_1,  P14N,   172,  1,     16,     16,2,19930826,1332, -9.4982, 178.9972, 4600,   1821.8,   2.3887,  34.6198,2,  34.6197,2,   -999.0,9,    136.4,2,   119.42,2,    36.35,2,     0.00,2,     2.55,2, -999.000,5, -999.000,5, -999.000,9,-999.0000,9,  -999.00,9,   -999.0,9,   -999.0,9,  -999.00,9,-999.0000,-999.000,  2.2616,-999.000
      325024_1,  P14N,   172,  1,     15,     15,2,19930826,1332, -9.4982, 178.9972, 4600,   2023.9,   2.1692,  34.6370,2,  34.6366,2,   -999.0,9,    134.3,2,   127.47,2,    36.61,2,     0.00,2,     2.58,2, -999.000,5, -999.000,5, -999.000,9,-999.0000,9,  -999.00,9,   -999.0,9,   -999.0,9,  -999.00,9,-999.0000,-999.000,  2.0281,-999.000
      325024_1,  P14N,   172,  1,     14,     14,2,19930826,1332, -9.4982, 178.9972, 4600,   2225.8,   2.0206,  34.6465,2,  34.6462,2,   -999.0,9,    137.5,2,   131.12,2,    36.42,2,     0.00,2,     2.56,2, -999.000,5, -999.000,5, -999.000,9,-999.0000,9,  -999.00,9,   -999.0,9,   -999.0,9,  -999.00,9,-999.0000,-999.000,  1.8645,-999.000
      325024_1,  P14N,   172,  1,     13,     13,2,19930826,1332, -9.4982, 178.9972, 4600,   2428.4,   1.8906,  34.6554,2,  34.6554,2,   -999.0,9,    138.1,2,   135.62,2,    36.42,2,     0.00,2,     2.57,2, -999.000,5, -999.000,5, -999.000,9,-999.0000,9,  -999.00,9,   -999.0,9,   -999.0,9,  -999.00,9,-999.0000,-999.000,  1.7188,-999.000
      325024_1,  P14N,   172,  1,     12,     12,2,19930826,1332, -9.4982, 178.9972, 4600,   2635.5,   1.8041,  34.6607,2,  34.6613,2,   -999.0,9,    139.4,2,   137.59,2,    36.28,2,     0.00,2,     2.56,2, -999.000,5, -999.000,5, -999.000,9,-999.0000,9,  -999.00,9,   -999.0,9,   -999.0,9,  -999.00,9,-999.0000,-999.000,  1.6151,-999.000
      325024_1,  P14N,   172,  1,     11,     11,2,19930826,1332, -9.4982, 178.9972, 4600,   2838.1,   1.7424,  34.6649,2,  34.6650,2,   -999.0,9,    140.0,2,   139.78,2,    36.27,2,     0.00,2,     2.56,2, -999.000,5, -999.000,5, -999.000,9,-999.0000,9,  -999.00,9,   -999.0,9,   -999.0,9,  -999.00,9,-999.0000,-999.000,  1.5358,-999.000
      325024_1,  P14N,   172,  1,     10,     10,2,19930826,1332, -9.4982, 178.9972, 4600,   3040.2,   1.6758,  34.6702,2,  34.6695,2,   -999.0,9,    143.3,2,   140.48,2,    36.13,2,     0.00,2,     2.54,2, -999.000,5, -999.000,5, -999.000,9,-999.0000,9,  -999.00,9,   -999.0,9,   -999.0,9,  -999.00,9,-999.0000,-999.000,  1.4512,-999.000
      325024_1,  P14N,   172,  1,      9,      9,2,19930826,1332, -9.4982, 178.9972, 4600,   3243.2,   1.6105,  34.6749,2,  34.6740,2,   -999.0,9,    148.1,2,   140.97,2,    35.81,2,     0.00,2,     2.52,2, -999.000,5, -999.000,5, -999.000,9,-999.0000,9,  -999.00,9,   -999.0,9,   -999.0,9,  -999.00,9,-999.0000,-999.000,  1.3676,-999.000
      325024_1,  P14N,   172,  1,      8,      8,2,19930826,1332, -9.4982, 178.9972, 4600,   3446.5,   1.5373,  34.6803,2,  34.6799,2,   -999.0,9,    154.8,2,   139.55,2,    35.33,2,     0.00,2,     2.47,2, -999.000,5, -999.000,5, -999.000,9,-999.0000,9,  -999.00,9,   -999.0,9,   -999.0,9,  -999.00,9,-999.0000,-999.000,  1.2757,-999.000
      325024_1,  P14N,   172,  1,      7,      7,2,19930826,1332, -9.4982, 178.9972, 4600,   3654.8,   1.4684,  34.6861,2,  34.6866,2,   -999.0,9,    163.3,2,   136.86,2,    34.80,2,     0.00,2,     2.43,2, -999.000,5, -999.000,5, -999.000,9,-999.0000,9,  -999.00,9,   -999.0,9,   -999.0,9,  -999.00,9,-999.0000,-999.000,  1.1871,-999.000
      325024_1,  P14N,   172,  1,      6,      6,2,19930826,1332, -9.4982, 178.9972, 4600,   3858.5,   1.4069,  34.6916,2,  34.6921,2,   -999.0,9,    171.4,2,   133.34,2,    34.15,2,     0.00,2,     2.39,2, -999.000,5, -999.000,5, -999.000,9,-999.0000,9,  -999.00,9,   -999.0,9,   -999.0,9,  -999.00,9,-999.0000,-999.000,  1.1057,-999.000
      325024_1,  P14N,   172,  1,      5,      5,2,19930826,1332, -9.4982, 178.9972, 4600,   4061.7,   1.3415,  34.6966,2,  34.6968,2,   -999.0,9,    180.4,2,   129.00,2,    33.45,2,     0.00,2,     2.33,2, -999.000,5, -999.000,5, -999.000,9,-999.0000,9,  -999.00,9,   -999.0,9,   -999.0,9,  -999.00,9,-999.0000,-999.000,  1.0203,-999.000
      325024_1,  P14N,   172,  1,      4,      4,2,19930826,1332, -9.4982, 178.9972, 4600,   4265.4,   1.2989,  34.7000,2,  34.7003,2,   -999.0,9,    186.7,2,   126.35,2,    32.97,2,     0.00,2,     2.29,2, -999.000,5, -999.000,5, -999.000,9,-999.0000,9,  -999.00,9,   -999.0,9,   -999.0,9,  -999.00,9,-999.0000,-999.000,  0.9566,-999.000
      325024_1,  P14N,   172,  1,      3,      3,2,19930826,1332, -9.4982, 178.9972, 4600,   4469.2,   1.2714,  34.7028,2,  34.7019,2,   -999.0,9,    191.2,2,   124.54,2,    32.67,2,     0.00,2,     2.27,2, -999.000,5, -999.000,5, -999.000,9,-999.0000,9,  -999.00,9,   -999.0,9,   -999.0,9,  -999.00,9,-999.0000,-999.000,  0.9069,-999.000
      325024_1,  P14N,   172,  1,      1,      1,2,19930826,1332, -9.4982, 178.9972, 4600,   4641.7,   1.2777,  34.7032,2,  34.7037,2,   -999.0,9,    191.1,2,   124.26,2,    32.61,2,     0.00,2,     2.26,2, -999.000,5, -999.000,5, -999.000,9,-999.0000,9,  -999.00,9,   -999.0,9,   -999.0,9,  -999.00,9,-999.0000,-999.000,  0.8932,-999.000
      325024_1,  P14N,   172,  1,      2,      2,2,19930826,1332, -9.4982, 178.9972, 4600,   4641.9,   1.2778,  34.7031,2,  34.7031,2,   -999.0,9,    192.5,2,   124.40,2,    32.57,2,     0.00,2,     2.25,2, -999.000,5, -999.000,5, -999.000,9,-999.0000,9,  -999.00,9,   -999.0,9,   -999.0,9,  -999.00,9,-999.0000,-999.000,  0.8933,-999.000