BOTTLE,20131125MIRCJHATS
EXPOCODE,SECT_ID,STNNBR,CASTNO,SAMPNO,BTLNBR,BTLNBR_FLAG_W,DATE,TIME,LATITUDE,LONGITUDE,DEPTH,CTDPRS,CTDTMP,CTDSAL,CTDSAL_FLAG_W,SALNTY,SALNTY_FLAG_W,CTDOXY,CTDOXY_FLAG_W,OXYGEN,OXYGEN_FLAG_W,SILCAT,SILCAT_FLAG_W,NITRAT,NITRAT_FLAG_W,NITRIT,NITRIT_FLAG_W,PHSPHT,PHSPHT_FLAG_W,CFC-11,CFC-11_FLAG_W,CFC-12,CFC-12_FLAG_W,TRITUM,TRITUM_FLAG_W,HELIUM,HELIUM_FLAG_W,DELHE3,DELHE3_FLAG_W,TCARBN,TCARBN_FLAG_W,ALKALI,ALKALI_FLAG_W,PH,PH_FLAG_W,HELIER,DELHER,THETA,TRITER
,,,,,,,,,,,,DBAR,ITS-90,PSS-78,,PSS-78,,UMOL/KG,,UMOL/KG,,UMOL/KG,,UMOL/KG,,UMOL/KG,,UMOL/KG,,PMOL/KG,,PMOL/KG,,TU,,NMOL/KG,,PERCNT,,UMOL/KG,,UMOL/KG,,25_DEG,,NMOL/KG,PERCNT,DEG C,TU
      325024_1,  P14N,   165,  1,     36,     36,2,19930824,0047, -6.0090, 179.0048, 5435,      2.9,  29.8146,  34.1821,2,  34.1657,2,   -999.0,9,    194.6,2,     1.51,2,     0.00,2,     0.00,2,     0.18,2,    1.584,2,    0.877,2, -999.000,9,-999.0000,9,  -999.00,9,   -999.0,9,   -999.0,9,  -999.00,9,-999.0000,-999.000, 29.8139,-999.000
      325024_1,  P14N,   165,  1,     35,     35,2,19930824,0047, -6.0090, 179.0048, 5435,     37.2,  29.7479,  34.2741,2,  34.2886,2,   -999.0,9,    195.0,2,     1.76,2,     0.00,2,     0.00,2,     0.19,2,    1.585,2,    0.833,2, -999.000,9,-999.0000,9,  -999.00,9,   -999.0,9,   -999.0,9,  -999.00,9,-999.0000,-999.000, 29.7387,-999.000
      325024_1,  P14N,   165,  1,     34,     34,2,19930824,0047, -6.0090, 179.0048, 5435,     66.9,  29.7633,  34.4788,4,  34.7287,2,   -999.0,9,    199.5,2,     2.01,2,     0.00,2,     0.01,2,     0.22,2,    1.597,2,    0.887,2, -999.000,9,-999.0000,9,  -999.00,9,   -999.0,9,   -999.0,9,  -999.00,9,-999.0000,-999.000, 29.7468,-999.000
      325024_1,  P14N,   165,  1,     33,     33,2,19930824,0047, -6.0090, 179.0048, 5435,     96.9,  28.2602,  35.5582,2,  35.5764,2,   -999.0,9,    173.3,2,     2.26,2,     2.79,2,     0.86,2,     0.55,2,    1.635,2,    0.894,2, -999.000,9,-999.0000,9,  -999.00,9,   -999.0,9,   -999.0,9,  -999.00,9,-999.0000,-999.000, 28.2372,-999.000
      325024_1,  P14N,   165,  1,     32,     32,2,19930824,0047, -6.0090, 179.0048, 5435,    126.7,  25.2206,  35.7900,2,  35.8009,2,   -999.0,9,    145.6,2,     3.09,2,     7.65,2,     0.44,2,     0.83,2,    1.773,2,    0.962,2, -999.000,9,-999.0000,9,  -999.00,9,   -999.0,9,   -999.0,9,  -999.00,9,-999.0000,-999.000, 25.1929,-999.000
      325024_1,  P14N,   165,  1,     31,     31,2,19930824,0047, -6.0090, 179.0048, 5435,    157.2,  23.0717,  35.8563,2,  35.8275,2,   -999.0,9,    133.7,2,     4.51,2,     9.88,2,     0.09,2,     0.98,2,    1.764,2,    0.913,2, -999.000,9,-999.0000,9,  -999.00,9,   -999.0,9,   -999.0,9,  -999.00,9,-999.0000,-999.000, 23.0394,-999.000
      325024_1,  P14N,   165,  1,     30,     30,2,19930824,0047, -6.0090, 179.0048, 5435,    207.2,  17.0987,  35.4190,4,  35.3849,2,   -999.0,9,    103.6,2,    10.03,2,    16.33,2,     0.01,2,     1.39,2,    1.240,2,    0.636,2, -999.000,9,-999.0000,9,  -999.00,9,   -999.0,9,   -999.0,9,  -999.00,9,-999.0000,-999.000, 17.0642,-999.000
      325024_1,  P14N,   165,  1,     29,     29,2,19930824,0047, -6.0090, 179.0048, 5435,    256.8,  12.9410,  35.0243,2,  35.0108,2,   -999.0,9,     91.4,2,    16.73,2,    22.81,2,     0.01,2,     1.76,2,    0.604,2,    0.306,2, -999.000,9,-999.0000,9,  -999.00,9,   -999.0,9,   -999.0,9,  -999.00,9,-999.0000,-999.000, 12.9057,-999.000
      325024_1,  P14N,   165,  1,     28,     28,2,19930824,0047, -6.0090, 179.0048, 5435,    307.5,  11.0423,  34.8276,2,  34.8256,2,   -999.0,9,     86.2,2,    23.03,2,    27.05,2,     0.00,2,     2.00,2,    0.315,2,    0.163,2, -999.000,9,-999.0000,9,  -999.00,9,   -999.0,9,   -999.0,9,  -999.00,9,-999.0000,-999.000, 11.0042,-999.000
      325024_1,  P14N,   165,  1,     27,     27,2,19930824,0047, -6.0090, 179.0048, 5435,    407.6,   9.1818,  34.6852,2,  34.6854,2,   -999.0,9,     91.9,2,    29.34,2,    30.38,2,     0.00,2,     2.17,2,    0.145,2,    0.080,2, -999.000,9,-999.0000,9,  -999.00,9,   -999.0,9,   -999.0,9,  -999.00,9,-999.0000,-999.000,  9.1366,-999.000
      325024_1,  P14N,   165,  1,     26,     26,2,19930824,0047, -6.0090, 179.0048, 5435,    507.6,   8.2855,  34.6270,2,  34.6285,2,   -999.0,9,     97.3,2,    33.50,2,    31.85,2,     0.00,2,     2.25,2,    0.107,6,    0.057,6, -999.000,9,-999.0000,9,  -999.00,9,   -999.0,9,   -999.0,9,  -999.00,9,-999.0000,-999.000,  8.2323,-999.000
      325024_1,  P14N,   165,  1,     25,     25,2,19930824,0047, -6.0090, 179.0048, 5435,    607.1,   7.0482,  34.5635,2,  34.5645,2,   -999.0,9,    103.9,2,    41.57,2,    33.81,2,     0.00,2,     2.39,2,    0.047,2,    0.026,2, -999.000,9,-999.0000,9,  -999.00,9,   -999.0,9,   -999.0,9,  -999.00,9,-999.0000,-999.000,  6.9898,-999.000
      325024_1,  P14N,   165,  1,     24,     24,2,19930824,0047, -6.0090, 179.0048, 5435,    707.2,   6.1467,  34.5299,2,  34.5320,2,   -999.0,9,    111.6,2,    49.46,2,    34.77,2,     0.00,2,     2.48,2,    0.023,2,    0.009,2, -999.000,9,-999.0000,9,  -999.00,9,   -999.0,9,   -999.0,9,  -999.00,9,-999.0000,-999.000,  6.0831,-999.000
      325024_1,  P14N,   165,  1,     23,     23,2,19930824,0047, -6.0090, 179.0048, 5435,    807.1,   5.5797,  34.5308,2,  34.5298,2,   -999.0,9,     95.4,2,    60.29,2,    37.56,2,     0.00,2,     2.67,2,    0.012,2,    0.005,2, -999.000,9,-999.0000,9,  -999.00,9,   -999.0,9,   -999.0,9,  -999.00,9,-999.0000,-999.000,  5.5100,-999.000
      325024_1,  P14N,   165,  1,     22,     22,2,19930824,0047, -6.0090, 179.0048, 5435,    906.7,   4.9893,  34.5345,2,  34.5353,2,   -999.0,9,     95.2,2,    71.74,2,    38.33,2,     0.00,2,     2.72,2,    0.001,2,    0.000,2, -999.000,9,-999.0000,9,  -999.00,9,   -999.0,9,   -999.0,9,  -999.00,9,-999.0000,-999.000,  4.9144,-999.000
      325024_1,  P14N,   165,  1,     21,     21,2,19930824,0047, -6.0090, 179.0048, 5435,   1007.6,   4.4263,  34.5409,2,  34.5437,2,   -999.0,9,    102.2,2,    82.84,2,    38.11,2,     0.00,2,     2.71,2,    0.005,4,    0.003,2, -999.000,9,-999.0000,9,  -999.00,9,   -999.0,9,   -999.0,9,  -999.00,9,-999.0000,-999.000,  4.3467,-999.000
      325024_1,  P14N,   165,  1,     20,     20,2,19930824,0047, -6.0090, 179.0048, 5435,   1208.5,   3.6511,  34.5663,2,  34.5672,2,   -999.0,9,    107.3,2,    99.56,2,    38.25,2,     0.00,2,     2.73,2,    0.001,2,    0.000,2, -999.000,9,-999.0000,9,  -999.00,9,   -999.0,9,   -999.0,9,  -999.00,9,-999.0000,-999.000,  3.5609,-999.000
      325024_1,  P14N,   165,  1,     19,     19,2,19930824,0047, -6.0090, 179.0048, 5435,   1409.3,   3.1445,  34.5876,2,  34.5874,2,   -999.0,9,    112.5,2,   111.01,2,    38.12,2,     0.00,2,     2.71,2,    0.000,2,    0.003,2, -999.000,9,-999.0000,9,  -999.00,9,   -999.0,9,   -999.0,9,  -999.00,9,-999.0000,-999.000,  3.0426,-999.000
      325024_1,  P14N,   165,  1,     18,     18,2,19930824,0047, -6.0090, 179.0048, 5435,   1610.6,   2.8088,  34.6058,2,  34.6058,2,   -999.0,9,    112.7,2,   120.74,2,    38.35,2,     0.00,2,     2.72,2, -999.000,5, -999.000,5, -999.000,9,-999.0000,9,  -999.00,9,   -999.0,9,   -999.0,9,  -999.00,9,-999.0000,-999.000,  2.6939,-999.000
      325024_1,  P14N,   165,  1,     17,     17,2,19930824,0047, -6.0090, 179.0048, 5435,   1813.0,   2.4864,  34.6230,2,  34.6236,2,   -999.0,9,    117.7,2,   128.10,2,    37.99,2,     0.00,2,     2.69,2,   -0.003,2,    0.001,2, -999.000,9,-999.0000,9,  -999.00,9,   -999.0,9,   -999.0,9,  -999.00,9,-999.0000,-999.000,  2.3586,-999.000
      325024_1,  P14N,   165,  1,     16,     16,2,19930824,0047, -6.0090, 179.0048, 5435,   2014.6,   2.2598,  34.6338,2,  34.6344,2,   -999.0,9,    127.3,2,   130.61,2,    37.32,2,     0.00,2,     2.65,2, -999.000,5, -999.000,5, -999.000,9,-999.0000,9,  -999.00,9,   -999.0,9,   -999.0,9,  -999.00,9,-999.0000,-999.000,  2.1182,-999.000
      325024_1,  P14N,   165,  1,     15,     15,2,19930824,0047, -6.0090, 179.0048, 5435,   2216.3,   2.0941,  34.6447,2,  34.6444,2,   -999.0,9,    127.9,2,   135.99,2,    37.37,2,     0.00,2,     2.64,2, -999.000,5, -999.000,5, -999.000,9,-999.0000,9,  -999.00,9,   -999.0,9,   -999.0,9,  -999.00,9,-999.0000,-999.000,  1.9375,-999.000
      325024_1,  P14N,   165,  1,     14,     14,2,19930824,0047, -6.0090, 179.0048, 5435,   2418.5,   1.9210,  34.6552,2,  34.6549,2,   -999.0,9,    133.6,2,   138.52,2,    36.84,2,     0.00,2,     2.59,2, -999.000,5, -999.000,5, -999.000,9,-999.0000,9,  -999.00,9,   -999.0,9,   -999.0,9,  -999.00,9,-999.0000,-999.000,  1.7495,-999.000
      325024_1,  P14N,   165,  1,     13,     13,2,19930824,0047, -6.0090, 179.0048, 5435,   2620.8,   1.8015,  34.6630,2,  34.6629,2,   -999.0,9,    137.5,2,   141.67,2,    36.62,2,     0.00,2,     2.59,2,   -0.002,2,    0.000,2, -999.000,9,-999.0000,9,  -999.00,9,   -999.0,9,   -999.0,9,  -999.00,9,-999.0000,-999.000,  1.6139,-999.000
      325024_1,  P14N,   165,  1,     12,     12,2,19930824,0047, -6.0090, 179.0048, 5435,   2823.4,   1.7171,  34.6683,2,  34.6696,2,   -999.0,9,    141.5,2,   142.15,2,    36.36,2,     0.00,2,     2.58,2, -999.000,5, -999.000,5, -999.000,9,-999.0000,9,  -999.00,9,   -999.0,9,   -999.0,9,  -999.00,9,-999.0000,-999.000,  1.5124,-999.000
      325024_1,  P14N,   165,  1,     11,     11,2,19930824,0047, -6.0090, 179.0048, 5435,   3026.6,   1.6513,  34.6729,2,  34.6721,2,   -999.0,9,    146.3,2,   142.01,2,    36.23,2,     0.00,2,     2.55,2, -999.000,5, -999.000,5, -999.000,9,-999.0000,9,  -999.00,9,   -999.0,9,   -999.0,9,  -999.00,9,-999.0000,-999.000,  1.4286,-999.000
      325024_1,  P14N,   165,  1,     10,     10,2,19930824,0047, -6.0090, 179.0048, 5435,   3330.4,   1.5670,  34.6785,2,  34.6780,2,   -999.0,9,    151.3,2,   142.69,2,    35.84,2,     0.00,2,     2.52,2, -999.000,5, -999.000,5, -999.000,9,-999.0000,9,  -999.00,9,   -999.0,9,   -999.0,9,  -999.00,9,-999.0000,-999.000,  1.3164,-999.000
      325024_1,  P14N,   165,  1,      9,      9,2,19930824,0047, -6.0090, 179.0048, 5435,   3635.1,   1.5061,  34.6834,2,  34.6829,2,   -999.0,9,    157.5,2,   141.73,2,    35.45,2,     0.00,2,     2.49,2,   -0.002,2,    0.006,2, -999.000,9,-999.0000,9,  -999.00,9,   -999.0,9,   -999.0,9,  -999.00,9,-999.0000,-999.000,  1.2259,-999.000
      325024_1,  P14N,   165,  1,      8,      8,2,19930824,0047, -6.0090, 179.0048, 5435,   3940.2,   1.4190,  34.6905,2,  34.6907,2,   -999.0,9,    167.9,2,   137.88,2,    34.70,2,     0.00,2,     2.42,2, -999.000,5, -999.000,5, -999.000,9,-999.0000,9,  -999.00,9,   -999.0,9,   -999.0,9,  -999.00,9,-999.0000,-999.000,  1.1088,-999.000
      325024_1,  P14N,   165,  1,      6,      6,2,19930824,0047, -6.0090, 179.0048, 5435,   4245.4,   1.3116,  34.6990,2,  34.6993,2,   -999.0,9,    183.9,2,   129.62,2,    33.49,2,     0.00,2,     2.34,2, -999.000,5, -999.000,5, -999.000,9,-999.0000,9,  -999.00,9,   -999.0,9,   -999.0,9,  -999.00,9,-999.0000,-999.000,  0.9711,-999.000
      325024_1,  P14N,   165,  1,      7,      7,2,19930824,0047, -6.0090, 179.0048, 5435,   4245.8,   1.3153,  34.6987,2,  34.6983,2,   -999.0,9,    183.6,2,   129.76,2,    33.53,2,     0.00,2,     2.34,2, -999.000,5, -999.000,5, -999.000,9,-999.0000,9,  -999.00,9,   -999.0,9,   -999.0,9,  -999.00,9,-999.0000,-999.000,  0.9747,-999.000
      325024_1,  P14N,   165,  1,      5,      5,2,19930824,0047, -6.0090, 179.0048, 5435,   4550.0,   1.2234,  34.7034,2,  34.7036,2,   -999.0,9,    193.9,2,   125.61,2,    32.79,2,     0.00,2,     2.29,2,    0.000,2,    0.004,2, -999.000,9,-999.0000,9,  -999.00,9,   -999.0,9,   -999.0,9,  -999.00,9,-999.0000,-999.000,  0.8512,-999.000
      325024_1,  P14N,   165,  1,      4,      4,2,19930824,0047, -6.0090, 179.0048, 5435,   4855.8,   1.2378,  34.7048,2,  34.7047,2,   -999.0,9,    195.5,2,   124.66,2,    32.58,2,     0.00,2,     2.28,2, -999.000,5, -999.000,5, -999.000,9,-999.0000,9,  -999.00,9,   -999.0,9,   -999.0,9,  -999.00,9,-999.0000,-999.000,  0.8295,-999.000
      325024_1,  P14N,   165,  1,      3,      3,2,19930824,0047, -6.0090, 179.0048, 5435,   5162.8,   1.2679,  34.7045,2,  34.7045,2,   -999.0,9,    195.8,2,   124.32,2,    32.54,2,     0.00,2,     2.28,2, -999.000,5, -999.000,5, -999.000,9,-999.0000,9,  -999.00,9,   -999.0,9,   -999.0,9,  -999.00,9,-999.0000,-999.000,  0.8216,-999.000
      325024_1,  P14N,   165,  1,      2,      2,2,19930824,0047, -6.0090, 179.0048, 5435,   5489.1,   1.3013,  34.7053,2,  34.7049,2,   -999.0,9,    196.0,2,   123.98,2,    32.55,2,     0.00,2,     2.26,2,    0.006,2,    0.007,2, -999.000,9,-999.0000,9,  -999.00,9,   -999.0,9,   -999.0,9,  -999.00,9,-999.0000,-999.000,  0.8133,-999.000
      325024_1,  P14N,   165,  1,      1,      1,2,19930824,0047, -6.0090, 179.0048, 5435,   5489.1,   1.3013,  34.7050,2,  34.7041,2,   -999.0,9,    194.1,2,   123.64,2,    32.55,2,     0.00,2,     2.27,2, -999.000,5, -999.000,5, -999.000,9,-999.0000,9,  -999.00,9,   -999.0,9,   -999.0,9,  -999.00,9,-999.0000,-999.000,  0.8133,-999.000