BOTTLE,20131125MIRCJHATS
EXPOCODE,SECT_ID,STNNBR,CASTNO,SAMPNO,BTLNBR,BTLNBR_FLAG_W,DATE,TIME,LATITUDE,LONGITUDE,DEPTH,CTDPRS,CTDTMP,CTDSAL,CTDSAL_FLAG_W,SALNTY,SALNTY_FLAG_W,CTDOXY,CTDOXY_FLAG_W,OXYGEN,OXYGEN_FLAG_W,SILCAT,SILCAT_FLAG_W,NITRAT,NITRAT_FLAG_W,NITRIT,NITRIT_FLAG_W,PHSPHT,PHSPHT_FLAG_W,CFC-11,CFC-11_FLAG_W,CFC-12,CFC-12_FLAG_W,TRITUM,TRITUM_FLAG_W,HELIUM,HELIUM_FLAG_W,DELHE3,DELHE3_FLAG_W,TCARBN,TCARBN_FLAG_W,ALKALI,ALKALI_FLAG_W,PH,PH_FLAG_W,HELIER,DELHER,THETA,TRITER
,,,,,,,,,,,,DBAR,ITS-90,PSS-78,,PSS-78,,UMOL/KG,,UMOL/KG,,UMOL/KG,,UMOL/KG,,UMOL/KG,,UMOL/KG,,PMOL/KG,,PMOL/KG,,TU,,NMOL/KG,,PERCNT,,UMOL/KG,,UMOL/KG,,25_DEG,,NMOL/KG,PERCNT,DEG C,TU
      325024_1,  P14N,   152,  1,     36,     36,2,19930821,0600, -2.2515, 179.0005, 5165,      2.4,  30.0539,  34.6992,2,  34.7053,2,   -999.0,9,    193.6,2,     2.20,2,     0.00,2,     0.00,2,     0.21,2, -999.000,5, -999.000,5, -999.000,9,-999.0000,9,  -999.00,9,   -999.0,9,   -999.0,9,  -999.00,9,-999.0000,-999.000, 30.0534,-999.000
      325024_1,  P14N,   152,  1,     35,     35,2,19930821,0600, -2.2515, 179.0005, 5165,     32.4,  30.0379,  34.7504,2,  34.7657,2,   -999.0,9,    194.5,2,     1.95,2,     0.00,2,     0.00,2,     0.21,2, -999.000,5, -999.000,5, -999.000,9,-999.0000,9,  -999.00,9,   -999.0,9,   -999.0,9,  -999.00,9,-999.0000,-999.000, 30.0299,-999.000
      325024_1,  P14N,   152,  1,     34,     34,2,19930821,0600, -2.2515, 179.0005, 5165,     61.4,  29.9387,  34.8854,2,  34.8900,2,   -999.0,9,    195.6,2,     1.90,2,     0.00,2,     0.00,2,     0.21,2, -999.000,5, -999.000,5, -999.000,9,-999.0000,9,  -999.00,9,   -999.0,9,   -999.0,9,  -999.00,9,-999.0000,-999.000, 29.9235,-999.000
      325024_1,  P14N,   152,  1,     33,     33,2,19930821,0600, -2.2515, 179.0005, 5165,     90.8,  29.1403,  35.2622,2,  35.3026,2,   -999.0,9,    195.2,2,     2.05,2,     1.09,2,     0.61,2,     0.40,2, -999.000,5, -999.000,5, -999.000,9,-999.0000,9,  -999.00,9,   -999.0,9,   -999.0,9,  -999.00,9,-999.0000,-999.000, 29.1182,-999.000
      325024_1,  P14N,   152,  1,     32,     32,2,19930821,0600, -2.2515, 179.0005, 5165,    122.1,  26.1237,  35.7837,2,  35.8144,2,   -999.0,9,    139.8,2,     2.40,2,     7.81,2,     0.67,2,     0.82,2, -999.000,5, -999.000,5, -999.000,9,-999.0000,9,  -999.00,9,   -999.0,9,   -999.0,9,  -999.00,9,-999.0000,-999.000, 26.0963,-999.000
      325024_1,  P14N,   152,  1,     31,     31,2,19930821,0600, -2.2515, 179.0005, 5165,    152.7,  21.2000,  35.7183,2,  35.6786,3,   -999.0,9,    118.8,2,     4.73,2,    12.25,2,     0.03,2,     1.04,2, -999.000,5, -999.000,5, -999.000,9,-999.0000,9,  -999.00,9,   -999.0,9,   -999.0,9,  -999.00,9,-999.0000,-999.000, 21.1705,-999.000
      325024_1,  P14N,   152,  1,     30,     30,2,19930821,0600, -2.2515, 179.0005, 5165,    202.4,  14.6256,  35.1105,2,  35.1081,2,   -999.0,9,    134.4,2,    11.04,2,    16.63,2,     0.01,2,     1.28,2, -999.000,5, -999.000,5, -999.000,9,-999.0000,9,  -999.00,9,   -999.0,9,   -999.0,9,  -999.00,9,-999.0000,-999.000, 14.5955,-999.000
      325024_1,  P14N,   152,  1,     29,     29,2,19930821,0600, -2.2515, 179.0005, 5165,    252.9,  11.1654,  34.8080,2,  34.8095,2,   -999.0,9,    104.7,2,    21.91,2,    25.42,2,     0.01,2,     1.82,2, -999.000,5, -999.000,5, -999.000,9,-999.0000,9,  -999.00,9,   -999.0,9,   -999.0,9,  -999.00,9,-999.0000,-999.000, 11.1339,-999.000
      325024_1,  P14N,   152,  1,     28,     28,2,19930821,0600, -2.2515, 179.0005, 5165,    302.6,  10.5470,  34.7715,2,  34.7703,2,   -999.0,9,     97.8,2,    24.04,2,    27.27,2,     0.01,2,     1.94,2, -999.000,5, -999.000,5, -999.000,9,-999.0000,9,  -999.00,9,   -999.0,9,   -999.0,9,  -999.00,9,-999.0000,-999.000, 10.5106,-999.000
      325024_1,  P14N,   152,  1,     27,     27,2,19930821,0600, -2.2515, 179.0005, 5165,    402.3,   9.6961,  34.7032,2,  34.7024,2,   -999.0,9,     80.8,2,    29.54,2,    30.88,2,     0.01,2,     2.16,2, -999.000,5, -999.000,5, -999.000,9,-999.0000,9,  -999.00,9,   -999.0,9,   -999.0,9,  -999.00,9,-999.0000,-999.000,  9.6500,-999.000
      325024_1,  P14N,   152,  1,     26,     26,2,19930821,0600, -2.2515, 179.0005, 5165,    507.8,   7.8715,  34.6119,2,  34.6080,2,   -999.0,9,     85.7,2,    37.42,2,    34.44,2,     0.01,2,     2.40,2, -999.000,5, -999.000,5, -999.000,9,-999.0000,9,  -999.00,9,   -999.0,9,   -999.0,9,  -999.00,9,-999.0000,-999.000,  7.8198,-999.000
      325024_1,  P14N,   152,  1,     25,     25,2,19930821,0600, -2.2515, 179.0005, 5165,    607.8,   6.6465,  34.5661,2,  34.5656,2,   -999.0,9,     69.7,2,    53.64,2,    38.53,2,     0.00,2,     2.69,2, -999.000,5, -999.000,5, -999.000,9,-999.0000,9,  -999.00,9,   -999.0,9,   -999.0,9,  -999.00,9,-999.0000,-999.000,  6.5899,-999.000
      325024_1,  P14N,   152,  1,     24,     24,2,19930821,0600, -2.2515, 179.0005, 5165,    708.0,   6.0811,  34.5517,2,  34.5511,2,   -999.0,9,     74.6,2,    59.94,2,    39.16,2,     0.00,2,     2.76,2, -999.000,5, -999.000,5, -999.000,9,-999.0000,9,  -999.00,9,   -999.0,9,   -999.0,9,  -999.00,9,-999.0000,-999.000,  6.0177,-999.000
      325024_1,  P14N,   152,  1,     23,     23,2,19930821,0600, -2.2515, 179.0005, 5165,    807.3,   5.5803,  34.5368,2,  34.5364,2,   -999.0,9,     96.8,2,    62.85,2,    37.53,2,     0.00,2,     2.65,2, -999.000,5, -999.000,5, -999.000,9,-999.0000,9,  -999.00,9,   -999.0,9,   -999.0,9,  -999.00,9,-999.0000,-999.000,  5.5106,-999.000
      325024_1,  P14N,   152,  1,     22,     22,2,19930821,0600, -2.2515, 179.0005, 5165,    907.9,   4.9940,  34.5410,2,  34.5400,2,   -999.0,9,     89.2,2,    73.33,2,    39.21,2,     0.00,2,     2.76,2, -999.000,5, -999.000,5, -999.000,9,-999.0000,9,  -999.00,9,   -999.0,9,   -999.0,9,  -999.00,9,-999.0000,-999.000,  4.9189,-999.000
      325024_1,  P14N,   152,  1,     21,     21,2,19930821,0600, -2.2515, 179.0005, 5165,   1007.9,   4.5231,  34.5487,2,  34.5488,2,   -999.0,9,     93.3,2,    82.24,2,    39.16,2,     0.00,2,     2.76,2, -999.000,5, -999.000,5, -999.000,9,-999.0000,9,  -999.00,9,   -999.0,9,   -999.0,9,  -999.00,9,-999.0000,-999.000,  4.4426,-999.000
      325024_1,  P14N,   152,  1,     20,     20,2,19930821,0600, -2.2515, 179.0005, 5165,   1108.5,   4.1518,  34.5579,2,  34.5590,2,   -999.0,9,     95.2,2,    90.56,2,    39.29,2,     0.00,2,     2.78,2, -999.000,5, -999.000,5, -999.000,9,-999.0000,9,  -999.00,9,   -999.0,9,   -999.0,9,  -999.00,9,-999.0000,-999.000,  4.0656,-999.000
      325024_1,  P14N,   152,  1,     19,     19,2,19930821,0600, -2.2515, 179.0005, 5165,   1209.0,   3.8565,  34.5675,2,  34.5663,2,   -999.0,9,     96.0,2,    96.90,2,    39.29,2,     0.00,2,     2.80,2, -999.000,5, -999.000,5, -999.000,9,-999.0000,9,  -999.00,9,   -999.0,9,   -999.0,9,  -999.00,9,-999.0000,-999.000,  3.7643,-999.000
      325024_1,  P14N,   152,  1,     18,     18,2,19930821,0600, -2.2515, 179.0005, 5165,   1414.6,   3.1868,  34.5915,2,  34.5904,2,   -999.0,9,    102.9,2,   112.16,2,    39.24,2,     0.00,2,     2.77,2, -999.000,5, -999.000,5, -999.000,9,-999.0000,9,  -999.00,9,   -999.0,9,   -999.0,9,  -999.00,9,-999.0000,-999.000,  3.0840,-999.000
      325024_1,  P14N,   152,  1,     17,     17,2,19930821,0600, -2.2515, 179.0005, 5165,   1615.7,   2.7573,  34.6108,2,  34.6106,2,   -999.0,9,    108.2,2,   122.45,2,    38.97,2,     0.00,2,     2.74,2, -999.000,5, -999.000,5, -999.000,9,-999.0000,9,  -999.00,9,   -999.0,9,   -999.0,9,  -999.00,9,-999.0000,-999.000,  2.6426,-999.000
      325024_1,  P14N,   152,  1,     16,     16,2,19930821,0600, -2.2515, 179.0005, 5165,   1817.7,   2.3930,  34.6288,2,  34.6285,2,   -999.0,9,    114.5,2,   130.75,2,    38.73,2,     0.00,2,     2.71,2, -999.000,5, -999.000,5, -999.000,9,-999.0000,9,  -999.00,9,   -999.0,9,   -999.0,9,  -999.00,9,-999.0000,-999.000,  2.2662,-999.000
      325024_1,  P14N,   152,  1,     15,     15,2,19930821,0600, -2.2515, 179.0005, 5165,   2023.4,   2.2082,  34.6402,2,  34.6394,2,   -999.0,9,    116.2,2,   136.83,2,    38.91,2,     0.00,2,     2.70,2, -999.000,5, -999.000,5, -999.000,9,-999.0000,9,  -999.00,9,   -999.0,9,   -999.0,9,  -999.00,9,-999.0000,-999.000,  2.0665,-999.000
      325024_1,  P14N,   152,  1,     14,     14,2,19930821,0600, -2.2515, 179.0005, 5165,   2225.8,   2.0514,  34.6498,2,  34.6497,2,   -999.0,9,    119.9,2,   141.49,2,    38.64,2,     0.00,2,     2.68,2, -999.000,5, -999.000,5, -999.000,9,-999.0000,9,  -999.00,9,   -999.0,9,   -999.0,9,  -999.00,9,-999.0000,-999.000,  1.8947,-999.000
      325024_1,  P14N,   152,  1,     13,     13,2,19930821,0600, -2.2515, 179.0005, 5165,   2430.8,   1.9110,  34.6569,2,  34.6567,2,   -999.0,9,    126.1,2,   143.46,2,    38.18,2,     0.00,2,     2.64,2, -999.000,5, -999.000,5, -999.000,9,-999.0000,9,  -999.00,9,   -999.0,9,   -999.0,9,  -999.00,9,-999.0000,-999.000,  1.7386,-999.000
      325024_1,  P14N,   152,  1,     12,     12,2,19930821,0600, -2.2515, 179.0005, 5165,   2632.3,   1.8048,  34.6618,2,  34.6616,2,   -999.0,9,    129.9,2,   145.22,2,    37.90,2,     0.00,2,     2.62,2, -999.000,5, -999.000,5, -999.000,9,-999.0000,9,  -999.00,9,   -999.0,9,   -999.0,9,  -999.00,9,-999.0000,-999.000,  1.6161,-999.000
      325024_1,  P14N,   152,  1,     11,     11,2,19930821,0600, -2.2515, 179.0005, 5165,   2837.5,   1.7306,  34.6663,2,  34.6658,2,   -999.0,9,    133.9,2,   145.11,2,    37.54,2,     0.00,2,     2.59,2, -999.000,5, -999.000,5, -999.000,9,-999.0000,9,  -999.00,9,   -999.0,9,   -999.0,9,  -999.00,9,-999.0000,-999.000,  1.5243,-999.000
      325024_1,  P14N,   152,  1,     10,     10,2,19930821,0600, -2.2515, 179.0005, 5165,   3039.8,   1.6251,  34.6714,2,  34.6713,2,   -999.0,9,    138.9,2,   145.82,2,    36.59,3,     0.00,2,     2.56,2, -999.000,5, -999.000,5, -999.000,9,-999.0000,9,  -999.00,9,   -999.0,9,   -999.0,9,  -999.00,9,-999.0000,-999.000,  1.4017,-999.000
      325024_1,  P14N,   152,  1,      9,      9,2,19930821,0600, -2.2515, 179.0005, 5165,   3347.3,   1.5389,  34.6783,2,  34.6777,2,   -999.0,9,    146.5,2,   144.46,2,    36.32,2,     0.00,2,     2.52,2, -999.000,5, -999.000,5, -999.000,9,-999.0000,9,  -999.00,9,   -999.0,9,   -999.0,9,  -999.00,9,-999.0000,-999.000,  1.2872,-999.000
      325024_1,  P14N,   152,  1,      8,      8,2,19930821,0600, -2.2515, 179.0005, 5165,   3654.4,   1.4648,  34.6861,2,  34.6852,2,   -999.0,9,    157.3,2,   141.23,2,    35.60,2,     0.00,2,     2.46,2, -999.000,5, -999.000,5, -999.000,9,-999.0000,9,  -999.00,9,   -999.0,9,   -999.0,9,  -999.00,9,-999.0000,-999.000,  1.1836,-999.000
      325024_1,  P14N,   152,  1,      7,      7,2,19930821,0600, -2.2515, 179.0005, 5165,   3959.6,   1.4026,  34.6914,2,  34.6913,2,   -999.0,9,    166.1,2,   139.46,2,    35.06,2,     0.00,2,     2.42,2, -999.000,5, -999.000,5, -999.000,9,-999.0000,9,  -999.00,9,   -999.0,9,   -999.0,9,  -999.00,9,-999.0000,-999.000,  1.0907,-999.000
      325024_1,  P14N,   152,  1,      6,      6,2,19930821,0600, -2.2515, 179.0005, 5165,   4269.4,   1.3100,  34.6979,2,  34.6974,2,   -999.0,9,    178.7,2,   133.37,2,    34.17,2,     0.00,2,     2.35,2, -999.000,5, -999.000,5, -999.000,9,-999.0000,9,  -999.00,9,   -999.0,9,   -999.0,9,  -999.00,9,-999.0000,-999.000,  0.9669,-999.000
      325024_1,  P14N,   152,  1,      5,      5,2,19930821,0600, -2.2515, 179.0005, 5165,   4575.8,   1.2496,  34.7021,2,  34.7021,2,   -999.0,9,    189.0,2,   128.14,2,    33.38,2,     0.00,2,     2.29,2, -999.000,5, -999.000,5, -999.000,9,-999.0000,9,  -999.00,9,   -999.0,9,   -999.0,9,  -999.00,9,-999.0000,-999.000,  0.8736,-999.000
      325024_1,  P14N,   152,  1,      4,      4,2,19930821,0600, -2.2515, 179.0005, 5165,   4882.6,   1.2444,  34.7041,2,  34.7037,2,   -999.0,9,    192.6,2,   125.58,2,    32.93,2,     0.00,2,     2.27,2, -999.000,5, -999.000,5, -999.000,9,-999.0000,9,  -999.00,9,   -999.0,9,   -999.0,9,  -999.00,9,-999.0000,-999.000,  0.8327,-999.000
      325024_1,  P14N,   152,  1,      3,      3,2,19930821,0600, -2.2515, 179.0005, 5165,   5167.1,   1.2559,  34.7049,2,  34.7046,2,   -999.0,9,    195.4,2,   124.86,2,    32.67,2,     0.00,2,     2.27,2, -999.000,5, -999.000,5, -999.000,9,-999.0000,9,  -999.00,9,   -999.0,9,   -999.0,9,  -999.00,9,-999.0000,-999.000,  0.8095,-999.000
      325024_1,  P14N,   152,  1,      1,      1,2,19930821,0600, -2.2515, 179.0005, 5165,   5385.8,   1.2815,  34.7047,2,  34.7052,2,   -999.0,9,    193.5,2,   124.45,2,    32.79,2,     0.00,2,     2.26,2, -999.000,5, -999.000,5, -999.000,9,-999.0000,9,  -999.00,9,   -999.0,9,   -999.0,9,  -999.00,9,-999.0000,-999.000,  0.8071,-999.000
      325024_1,  P14N,   152,  1,      2,      2,2,19930821,0600, -2.2515, 179.0005, 5165,   5386.1,   1.2815,  34.7047,2,  34.7054,2,   -999.0,9,    195.3,2,   124.15,2,    32.71,2,     0.00,2,     2.26,2, -999.000,5, -999.000,5, -999.000,9,-999.0000,9,  -999.00,9,   -999.0,9,   -999.0,9,  -999.00,9,-999.0000,-999.000,  0.8071,-999.000