BOTTLE,20131125MIRCJHATS
EXPOCODE,SECT_ID,STNNBR,CASTNO,SAMPNO,BTLNBR,BTLNBR_FLAG_W,DATE,TIME,LATITUDE,LONGITUDE,DEPTH,CTDPRS,CTDTMP,CTDSAL,CTDSAL_FLAG_W,SALNTY,SALNTY_FLAG_W,CTDOXY,CTDOXY_FLAG_W,OXYGEN,OXYGEN_FLAG_W,SILCAT,SILCAT_FLAG_W,NITRAT,NITRAT_FLAG_W,NITRIT,NITRIT_FLAG_W,PHSPHT,PHSPHT_FLAG_W,CFC-11,CFC-11_FLAG_W,CFC-12,CFC-12_FLAG_W,TRITUM,TRITUM_FLAG_W,HELIUM,HELIUM_FLAG_W,DELHE3,DELHE3_FLAG_W,TCARBN,TCARBN_FLAG_W,ALKALI,ALKALI_FLAG_W,PH,PH_FLAG_W,HELIER,DELHER,THETA,TRITER
,,,,,,,,,,,,DBAR,ITS-90,PSS-78,,PSS-78,,UMOL/KG,,UMOL/KG,,UMOL/KG,,UMOL/KG,,UMOL/KG,,UMOL/KG,,PMOL/KG,,PMOL/KG,,TU,,NMOL/KG,,PERCNT,,UMOL/KG,,UMOL/KG,,25_DEG,,NMOL/KG,PERCNT,DEG C,TU
      325024_1,  P14N,   133,  1,     36,     36,2,19930815,1409,  2.4968, 179.0072, 4808,      2.5,  30.0276,  33.9541,2,  33.9589,2,   -999.0,9,    197.3,2,     3.50,2,     0.07,2,     0.00,2,     0.11,2,    1.555,2,    0.864,2, -999.000,9,-999.0000,9,  -999.00,9,   -999.0,9,   -999.0,9,  -999.00,9,-999.0000,-999.000, 30.0270,-999.000
      325024_1,  P14N,   133,  1,     35,     35,2,19930815,1409,  2.4968, 179.0072, 4808,     30.7,  29.8044,  33.9703,2,  33.9906,2,   -999.0,9,    198.5,2,     3.23,2,     0.07,2,     0.00,2,     0.12,2,    1.544,2,    0.863,2, -999.000,9,-999.0000,9,  -999.00,9,   -999.0,9,   -999.0,9,  -999.00,9,-999.0000,-999.000, 29.7969,-999.000
      325024_1,  P14N,   133,  1,     34,     34,2,19930815,1409,  2.4968, 179.0072, 4808,     60.7,  29.7623,  34.3770,4,  34.4033,2,   -999.0,9,    203.9,2,     2.97,2,     0.07,2,     0.00,2,     0.17,2,    1.573,2,    0.866,2, -999.000,9,-999.0000,9,  -999.00,9,   -999.0,9,   -999.0,9,  -999.00,9,-999.0000,-999.000, 29.7474,-999.000
      325024_1,  P14N,   133,  1,     33,     33,2,19930815,1409,  2.4968, 179.0072, 4808,     91.4,  26.3830,  34.7885,2,  34.7887,2,   -999.0,9,    181.3,2,     3.74,2,     0.37,2,     0.03,2,     0.25,2,    1.588,2,    0.862,2, -999.000,9,-999.0000,9,  -999.00,9,   -999.0,9,   -999.0,9,  -999.00,9,-999.0000,-999.000, 26.3624,-999.000
      325024_1,  P14N,   133,  1,     32,     32,2,19930815,1409,  2.4968, 179.0072, 4808,    121.1,  23.1104,  34.9808,2,  34.9804,2,   -999.0,9,    132.6,2,     6.78,2,     8.88,2,     0.08,2,     0.74,2,    1.546,2,    0.813,2, -999.000,9,-999.0000,9,  -999.00,9,   -999.0,9,   -999.0,9,  -999.00,9,-999.0000,-999.000, 23.0856,-999.000
      325024_1,  P14N,   133,  1,     31,     31,2,19930815,1409,  2.4968, 179.0072, 4808,    150.9,  20.5995,  34.9388,2,  34.9152,2,   -999.0,9,    135.4,2,     9.61,2,    10.16,2,     0.02,2,     0.82,2,    1.556,2,    0.803,2, -999.000,9,-999.0000,9,  -999.00,9,   -999.0,9,   -999.0,9,  -999.00,9,-999.0000,-999.000, 20.5710,-999.000
      325024_1,  P14N,   133,  1,     30,     30,2,19930815,1409,  2.4968, 179.0072, 4808,    202.0,  12.4405,  34.5391,2,  34.5535,2,   -999.0,9,    123.3,2,    23.78,2,    19.41,2,     0.00,2,     1.45,2,    1.180,2,    0.588,2, -999.000,9,-999.0000,9,  -999.00,9,   -999.0,9,   -999.0,9,  -999.00,9,-999.0000,-999.000, 12.4136,-999.000
      325024_1,  P14N,   133,  1,     29,     29,2,19930815,1409,  2.4968, 179.0072, 4808,    250.9,  11.3151,  34.7943,2,  34.7920,2,   -999.0,9,     86.6,2,    24.74,2,    26.38,2,     0.00,2,     1.92,2,    0.426,2,    0.212,2, -999.000,9,-999.0000,9,  -999.00,9,   -999.0,9,   -999.0,9,  -999.00,9,-999.0000,-999.000, 11.2836,-999.000
      325024_1,  P14N,   133,  1,     28,     28,2,19930815,1409,  2.4968, 179.0072, 4808,    304.4,  10.8989,  34.7724,2,  34.7724,2,   -999.0,9,     62.6,2,    27.56,2,    29.61,2,     0.00,2,     2.12,2,    0.290,2,    0.141,2, -999.000,9,-999.0000,9,  -999.00,9,   -999.0,9,   -999.0,9,  -999.00,9,-999.0000,-999.000, 10.8615,-999.000
      325024_1,  P14N,   133,  1,     27,     27,2,19930815,1409,  2.4968, 179.0072, 4808,    410.1,   9.6464,  34.6657,2,  34.6621,2,   -999.0,9,    100.6,2,    31.81,2,    28.03,2,     0.00,2,     2.03,2,    0.329,2,    0.165,2, -999.000,9,-999.0000,9,  -999.00,9,   -999.0,9,   -999.0,9,  -999.00,9,-999.0000,-999.000,  9.5996,-999.000
      325024_1,  P14N,   133,  1,     26,     26,2,19930815,1409,  2.4968, 179.0072, 4808,    510.6,   7.8049,  34.5911,2,  34.5886,2,   -999.0,9,     74.3,2,    43.89,2,    34.25,2,     0.00,2,     2.47,2,    0.060,2,    0.031,2, -999.000,9,-999.0000,9,  -999.00,9,   -999.0,9,   -999.0,9,  -999.00,9,-999.0000,-999.000,  7.7532,-999.000
      325024_1,  P14N,   133,  1,     25,     25,2,19930815,1409,  2.4968, 179.0072, 4808,    611.0,   6.4560,  34.5511,2,  34.5515,2,   -999.0,9,     78.6,2,    56.18,2,    36.61,2,     0.00,2,     2.64,2,    0.017,2,    0.011,2, -999.000,9,-999.0000,9,  -999.00,9,   -999.0,9,   -999.0,9,  -999.00,9,-999.0000,-999.000,  6.3999,-999.000
      325024_1,  P14N,   133,  1,     24,     24,2,19930815,1409,  2.4968, 179.0072, 4808,    711.4,   5.9572,  34.5478,2,  34.5474,2,   -999.0,9,     75.3,2,    62.48,2,    38.11,2,     0.00,2,     2.74,2,    0.008,2,    0.005,2, -999.000,9,-999.0000,9,  -999.00,9,   -999.0,9,   -999.0,9,  -999.00,9,-999.0000,-999.000,  5.8942,-999.000
      325024_1,  P14N,   133,  1,     23,     23,2,19930815,1409,  2.4968, 179.0072, 4808,    812.4,   5.6576,  34.5405,2,  34.5396,2,   -999.0,9,     86.5,2,    66.52,2,    37.21,2,     0.00,2,     2.67,2,    0.014,2,    0.011,2, -999.000,9,-999.0000,9,  -999.00,9,   -999.0,9,   -999.0,9,  -999.00,9,-999.0000,-999.000,  5.5869,-999.000
      325024_1,  P14N,   133,  1,     22,     22,2,19930815,1409,  2.4968, 179.0072, 4808,    913.3,   5.2575,  34.5424,2,  34.5404,2,   -999.0,9,     90.9,2,    72.62,2,    37.43,2,     0.00,2,     2.69,2,    0.008,2,    0.007,2, -999.000,9,-999.0000,9,  -999.00,9,   -999.0,9,   -999.0,9,  -999.00,9,-999.0000,-999.000,  5.1802,-999.000
      325024_1,  P14N,   133,  1,     21,     21,2,19930815,1409,  2.4968, 179.0072, 4808,   1013.9,   4.8083,  34.5479,2,  34.5468,2,   -999.0,9,     87.8,2,    82.85,2,    38.04,2,     0.00,2,     2.73,2,    0.006,2,    0.007,2, -999.000,9,-999.0000,9,  -999.00,9,   -999.0,9,   -999.0,9,  -999.00,9,-999.0000,-999.000,  4.7251,-999.000
      325024_1,  P14N,   133,  1,     20,     20,2,19930815,1409,  2.4968, 179.0072, 4808,   1215.8,   3.9712,  34.5682,2,  34.5657,2,   -999.0,9,     92.7,2,    99.77,2,    38.53,2,     0.00,2,     2.77,2, -999.000,5, -999.000,5, -999.000,9,-999.0000,9,  -999.00,9,   -999.0,9,   -999.0,9,  -999.00,9,-999.0000,-999.000,  3.8774,-999.000
      325024_1,  P14N,   133,  1,     19,     19,2,19930815,1409,  2.4968, 179.0072, 4808,   1418.0,   3.3665,  34.5886,2,  34.5869,2,   -999.0,9,     89.8,2,   114.71,2,    39.19,2,     0.00,2,     2.83,2, -999.000,5, -999.000,5, -999.000,9,-999.0000,9,  -999.00,9,   -999.0,9,   -999.0,9,  -999.00,9,-999.0000,-999.000,  3.2614,-999.000
      325024_1,  P14N,   133,  1,     18,     18,2,19930815,1409,  2.4968, 179.0072, 4808,   1620.0,   2.9302,  34.6051,2,  34.6037,2,   -999.0,9,     95.3,2,   124.69,2,    38.91,2,     0.00,2,     2.80,2,   -0.002,2,   -0.004,2, -999.000,9,-999.0000,9,  -999.00,9,   -999.0,9,   -999.0,9,  -999.00,9,-999.0000,-999.000,  2.8130,-999.000
      325024_1,  P14N,   133,  1,     17,     17,2,19930815,1409,  2.4968, 179.0072, 4808,   1821.2,   2.5596,  34.6214,2,  34.6182,2,   -999.0,9,    104.5,2,   131.12,2,    38.32,2,     0.00,2,     2.75,2, -999.000,5, -999.000,5, -999.000,9,-999.0000,9,  -999.00,9,   -999.0,9,   -999.0,9,  -999.00,9,-999.0000,-999.000,  2.4302,-999.000
      325024_1,  P14N,   133,  1,     16,     16,2,19930815,1409,  2.4968, 179.0072, 4808,   2024.6,   2.3526,  34.6316,2,  34.6296,2,   -999.0,9,    110.6,2,   134.60,2,    37.86,2,     0.00,2,     2.72,2,   -0.003,2,    0.001,2, -999.000,9,-999.0000,9,  -999.00,9,   -999.0,9,   -999.0,9,  -999.00,9,-999.0000,-999.000,  2.2087,-999.000
      325024_1,  P14N,   133,  1,     15,     15,2,19930815,1409,  2.4968, 179.0072, 4808,   2227.8,   2.0739,  34.6472,2,  34.6453,2,   -999.0,9,    114.7,2,   141.71,2,    37.81,2,     0.00,2,     2.70,2, -999.000,5, -999.000,5, -999.000,9,-999.0000,9,  -999.00,9,   -999.0,9,   -999.0,9,  -999.00,9,-999.0000,-999.000,  1.9167,-999.000
      325024_1,  P14N,   133,  1,     14,     14,2,19930815,1409,  2.4968, 179.0072, 4808,   2431.4,   1.9335,  34.6554,2,  34.6542,2,   -999.0,9,    120.0,2,   145.42,2,    37.58,2,     0.00,2,     2.66,2, -999.000,5, -999.000,5, -999.000,9,-999.0000,9,  -999.00,9,   -999.0,9,   -999.0,9,  -999.00,9,-999.0000,-999.000,  1.7606,-999.000
      325024_1,  P14N,   133,  1,     13,     13,2,19930815,1409,  2.4968, 179.0072, 4808,   2634.8,   1.8427,  34.6610,2,  34.6604,2,   -999.0,9,    123.6,2,   147.85,2,    37.39,2,     0.00,2,     2.65,2, -999.000,5, -999.000,5, -999.000,9,-999.0000,9,  -999.00,9,   -999.0,9,   -999.0,9,  -999.00,9,-999.0000,-999.000,  1.6531,-999.000
      325024_1,  P14N,   133,  1,     12,     12,2,19930815,1409,  2.4968, 179.0072, 4808,   2839.0,   1.7525,  34.6663,2,  34.6659,2,   -999.0,9,    128.5,2,   148.99,2,    37.12,2,     0.00,2,     2.62,2, -999.000,5, -999.000,5, -999.000,9,-999.0000,9,  -999.00,9,   -999.0,9,   -999.0,9,  -999.00,9,-999.0000,-999.000,  1.5456,-999.000
      325024_1,  P14N,   133,  1,     11,     11,2,19930815,1409,  2.4968, 179.0072, 4808,   3043.4,   1.6664,  34.6705,2,  34.6693,2,   -999.0,9,    135.3,2,   147.98,2,    36.53,2,     0.00,2,     2.58,2, -999.000,5, -999.000,5, -999.000,9,-999.0000,9,  -999.00,9,   -999.0,9,   -999.0,9,  -999.00,9,-999.0000,-999.000,  1.4418,-999.000
      325024_1,  P14N,   133,  1,     10,     10,2,19930815,1409,  2.4968, 179.0072, 4808,   3248.1,   1.5984,  34.6747,2,  34.6730,2,   -999.0,9,    141.4,2,   147.19,2,    36.17,2,     0.00,2,     2.56,2, -999.000,5, -999.000,5, -999.000,9,-999.0000,9,  -999.00,9,   -999.0,9,   -999.0,9,  -999.00,9,-999.0000,-999.000,  1.3553,-999.000
      325024_1,  P14N,   133,  1,      9,      9,2,19930815,1409,  2.4968, 179.0072, 4808,   3452.9,   1.5391,  34.6786,2,  34.6773,2,   -999.0,9,    147.3,2,   145.76,2,    35.68,2,     0.00,2,     2.51,2,   -0.001,2,   -0.003,2, -999.000,9,-999.0000,9,  -999.00,9,   -999.0,9,   -999.0,9,  -999.00,9,-999.0000,-999.000,  1.2768,-999.000
      325024_1,  P14N,   133,  1,      8,      8,2,19930815,1409,  2.4968, 179.0072, 4808,   3658.1,   1.4756,  34.6837,2,  34.6824,2,   -999.0,9,    155.1,2,   142.62,2,    34.97,2,     0.00,2,     2.48,2, -999.000,5, -999.000,5, -999.000,9,-999.0000,9,  -999.00,9,   -999.0,9,   -999.0,9,  -999.00,9,-999.0000,-999.000,  1.1938,-999.000
      325024_1,  P14N,   133,  1,      7,      7,2,19930815,1409,  2.4968, 179.0072, 4808,   3862.6,   1.4383,  34.6875,2,  34.6868,2,   -999.0,9,    160.8,2,   140.13,2,    34.70,2,     0.00,2,     2.44,2, -999.000,5, -999.000,5, -999.000,9,-999.0000,9,  -999.00,9,   -999.0,9,   -999.0,9,  -999.00,9,-999.0000,-999.000,  1.1359,-999.000
      325024_1,  P14N,   133,  1,      6,      6,2,19930815,1409,  2.4968, 179.0072, 4808,   4067.8,   1.3785,  34.6917,2,  34.6915,2,   -999.0,9,    168.4,2,   137.44,2,    34.21,2,     0.00,2,     2.40,2, -999.000,5, -999.000,5, -999.000,9,-999.0000,9,  -999.00,9,   -999.0,9,   -999.0,9,  -999.00,9,-999.0000,-999.000,  1.0556,-999.000
      325024_1,  P14N,   133,  1,      5,      5,2,19930815,1409,  2.4968, 179.0072, 4808,   4272.8,   1.2938,  34.6974,2,  34.6964,2,   -999.0,9,    178.9,2,   132.64,2,    33.47,2,     0.00,2,     2.35,2, -999.000,5, -999.000,5, -999.000,9,-999.0000,9,  -999.00,9,   -999.0,9,   -999.0,9,  -999.00,9,-999.0000,-999.000,  0.9508,-999.000
      325024_1,  P14N,   133,  1,      4,      4,2,19930815,1409,  2.4968, 179.0072, 4808,   4478.0,   1.2451,  34.7008,2,  34.6997,2,   -999.0,9,    185.5,2,   129.35,2,    32.99,2,     0.00,2,     2.32,2, -999.000,5, -999.000,5, -999.000,9,-999.0000,9,  -999.00,9,   -999.0,9,   -999.0,9,  -999.00,9,-999.0000,-999.000,  0.8804,-999.000
      325024_1,  P14N,   133,  1,      3,      3,2,19930815,1409,  2.4968, 179.0072, 4808,   4683.5,   1.2471,  34.7019,2,  34.7007,2,   -999.0,9,    188.4,2,   128.58,2,    32.85,2,     0.00,2,     2.30,2, -999.000,5, -999.000,5, -999.000,9,-999.0000,9,  -999.00,9,   -999.0,9,   -999.0,9,  -999.00,9,-999.0000,-999.000,  0.8588,-999.000
      325024_1,  P14N,   133,  1,      2,      2,2,19930815,1409,  2.4968, 179.0072, 4808,   4882.5,   1.2574,  34.7029,2,  34.7015,2,   -999.0,9,    190.1,2,   127.18,2,    32.71,2,     0.00,2,     2.29,2,   -0.001,2,   -0.004,2, -999.000,9,-999.0000,9,  -999.00,9,   -999.0,9,   -999.0,9,  -999.00,9,-999.0000,-999.000,  0.8453,-999.000
      325024_1,  P14N,   133,  1,      1,      1,2,19930815,1409,  2.4968, 179.0072, 4808,   4882.5,   1.2574,  34.7029,2,  34.7023,2,   -999.0,9,    188.6,2,   127.47,2,    32.79,2,     0.00,2,     2.29,2, -999.000,5, -999.000,5, -999.000,9,-999.0000,9,  -999.00,9,   -999.0,9,   -999.0,9,  -999.00,9,-999.0000,-999.000,  0.8453,-999.000