BOTTLE,20131125MIRCJHATS
EXPOCODE,SECT_ID,STNNBR,CASTNO,SAMPNO,BTLNBR,BTLNBR_FLAG_W,DATE,TIME,LATITUDE,LONGITUDE,DEPTH,CTDPRS,CTDTMP,CTDSAL,CTDSAL_FLAG_W,SALNTY,SALNTY_FLAG_W,CTDOXY,CTDOXY_FLAG_W,OXYGEN,OXYGEN_FLAG_W,SILCAT,SILCAT_FLAG_W,NITRAT,NITRAT_FLAG_W,NITRIT,NITRIT_FLAG_W,PHSPHT,PHSPHT_FLAG_W,CFC-11,CFC-11_FLAG_W,CFC-12,CFC-12_FLAG_W,TRITUM,TRITUM_FLAG_W,HELIUM,HELIUM_FLAG_W,DELHE3,DELHE3_FLAG_W,TCARBN,TCARBN_FLAG_W,ALKALI,ALKALI_FLAG_W,PH,PH_FLAG_W,HELIER,DELHER,THETA,TRITER
,,,,,,,,,,,,DBAR,ITS-90,PSS-78,,PSS-78,,UMOL/KG,,UMOL/KG,,UMOL/KG,,UMOL/KG,,UMOL/KG,,UMOL/KG,,PMOL/KG,,PMOL/KG,,TU,,NMOL/KG,,PERCNT,,UMOL/KG,,UMOL/KG,,25_DEG,,NMOL/KG,PERCNT,DEG C,TU
      325023_1,  P14N,    75,  1,     36,     36,2,19930726,2107, 24.9952, 179.0032, 5540,      2.6,  27.9093,  35.3770,2,  35.3801,2,   -999.0,9,    201.1,2,     2.92,2,     0.03,2,     0.00,2,     0.04,2,    1.742,2,    0.959,2, -999.000,9,-999.0000,9,  -999.00,9,   -999.0,9,   -999.0,9,  -999.00,9,-999.0000,-999.000, 27.9087,-999.000
      325023_1,  P14N,    75,  1,     35,     35,2,19930726,2107, 24.9952, 179.0032, 5540,     38.1,  27.0657,  35.4057,2,  35.3961,2,   -999.0,9,    209.1,2,     2.87,2,     0.03,2,     0.00,2,     0.03,2,    1.849,2,    0.989,2, -999.000,9,-999.0000,9,  -999.00,9,   -999.0,9,   -999.0,9,  -999.00,9,-999.0000,-999.000, 27.0570,-999.000
      325023_1,  P14N,    75,  1,     34,     34,2,19930726,2107, 24.9952, 179.0032, 5540,     68.3,  23.8228,  35.3056,2,  35.3065,2,   -999.0,9,    223.3,2,     2.60,2,     0.03,2,     0.00,2,     0.03,2,    2.108,2,    1.117,2, -999.000,9,-999.0000,9,  -999.00,9,   -999.0,9,   -999.0,9,  -999.00,9,-999.0000,-999.000, 23.8085,-999.000
      325023_1,  P14N,    75,  1,     33,     33,2,19930726,2107, 24.9952, 179.0032, 5540,     98.7,  22.2107,  35.2900,2,  35.2906,2,   -999.0,9,    224.1,2,     2.77,2,     0.03,2,     0.00,2,     0.03,2,    2.179,2,    1.132,2, -999.000,9,-999.0000,9,  -999.00,9,   -999.0,9,   -999.0,9,  -999.00,9,-999.0000,-999.000, 22.1911,-999.000
      325023_1,  P14N,    75,  1,     32,     32,2,19930726,2107, 24.9952, 179.0032, 5540,    128.8,  20.8775,  35.2104,2,  35.2132,2,   -999.0,9,    217.0,2,     2.94,2,     0.03,2,     0.00,2,     0.05,2,    2.256,2,    1.175,2, -999.000,9,-999.0000,9,  -999.00,9,   -999.0,9,   -999.0,9,  -999.00,9,-999.0000,-999.000, 20.8530,-999.000
      325023_1,  P14N,    75,  1,     31,     31,2,19930726,2107, 24.9952, 179.0032, 5540,    158.8,  19.5854,  35.0987,2,  35.1047,2,   -999.0,9,    204.6,2,     3.33,2,     0.37,2,     0.15,2,     0.14,2,    2.380,2,    1.240,2, -999.000,9,-999.0000,9,  -999.00,9,   -999.0,9,   -999.0,9,  -999.00,9,-999.0000,-999.000, 19.5565,-999.000
      325023_1,  P14N,    75,  1,     30,     30,2,19930726,2107, 24.9952, 179.0032, 5540,    206.4,  17.5937,  34.8618,2,  34.8614,2,   -999.0,9,    219.4,2,     3.94,2,     1.82,2,     0.01,2,     0.20,2,    2.567,2,    1.332,2, -999.000,9,-999.0000,9,  -999.00,9,   -999.0,9,   -999.0,9,  -999.00,9,-999.0000,-999.000, 17.5589,-999.000
      325023_1,  P14N,    75,  1,     29,     29,2,19930726,2107, 24.9952, 179.0032, 5540,    248.3,  16.5544,  34.7678,2,  34.7684,2,   -999.0,9,    204.9,2,     5.21,2,     4.72,2,     0.01,2,     0.38,2,    2.625,2,    1.312,2, -999.000,9,-999.0000,9,  -999.00,9,   -999.0,9,   -999.0,9,  -999.00,9,-999.0000,-999.000, 16.5142,-999.000
      325023_1,  P14N,    75,  1,     28,     28,2,19930726,2107, 24.9952, 179.0032, 5540,    290.7,  15.4242,  34.6471,2,  34.6487,2,   -999.0,9,    209.4,2,     7.15,2,     6.22,2,     0.01,2,     0.48,2,    2.530,2,    1.256,2, -999.000,9,-999.0000,9,  -999.00,9,   -999.0,9,   -999.0,9,  -999.00,9,-999.0000,-999.000, 15.3793,-999.000
      325023_1,  P14N,    75,  1,     27,     27,2,19930726,2107, 24.9952, 179.0032, 5540,    393.1,  12.9238,  34.4255,2,  34.4227,2,   -999.0,9,    204.9,2,    13.05,2,    10.71,2,     0.01,2,     0.79,2,    2.591,2,    1.268,2, -999.000,9,-999.0000,9,  -999.00,9,   -999.0,9,   -999.0,9,  -999.00,9,-999.0000,-999.000, 12.8698,-999.000
      325023_1,  P14N,    75,  1,     26,     26,2,19930726,2107, 24.9952, 179.0032, 5540,    502.6,   9.5619,  34.1733,2,  34.1736,2,   -999.0,9,    184.6,2,    27.11,2,    18.73,2,     0.00,2,     1.34,2,    2.107,2,    1.005,2, -999.000,9,-999.0000,9,  -999.00,9,   -999.0,9,   -999.0,9,  -999.00,9,-999.0000,-999.000,  9.5049,-999.000
      325023_1,  P14N,    75,  1,     25,     25,2,19930726,2107, 24.9952, 179.0032, 5540,    610.5,   7.1305,  34.0747,2,  34.0736,2,   -999.0,9,    134.3,2,    50.65,2,    27.98,2,     0.00,2,     1.99,2,    1.154,6,    0.536,6, -999.000,9,-999.0000,9,  -999.00,9,   -999.0,9,   -999.0,9,  -999.00,9,-999.0000,-999.000,  7.0719,-999.000
      325023_1,  P14N,    75,  1,     24,     24,2,19930726,2107, 24.9952, 179.0032, 5540,    711.7,   5.5499,  34.0744,2,  34.0743,2,   -999.0,9,     96.3,2,    74.45,2,    34.32,2,     0.00,2,     2.43,2,    0.681,2,    0.299,2, -999.000,9,-999.0000,9,  -999.00,9,   -999.0,9,   -999.0,9,  -999.00,9,-999.0000,-999.000,  5.4896,-999.000
      325023_1,  P14N,    75,  1,     23,     23,2,19930726,2107, 24.9952, 179.0032, 5540,    811.1,   4.7696,  34.1665,2,  34.1653,2,   -999.0,9,     57.4,2,    94.11,2,    39.06,2,     0.00,2,     2.75,2,    0.216,2,    0.099,2, -999.000,9,-999.0000,9,  -999.00,9,   -999.0,9,   -999.0,9,  -999.00,9,-999.0000,-999.000,  4.7050,-999.000
      325023_1,  P14N,    75,  1,     22,     22,2,19930726,2107, 24.9952, 179.0032, 5540,    911.6,   4.1650,  34.2668,2,  34.2638,2,   -999.0,9,     39.6,2,   110.07,2,    41.56,2,     0.00,2,     2.92,2,    0.065,2,    0.035,2, -999.000,9,-999.0000,9,  -999.00,9,   -999.0,9,   -999.0,9,  -999.00,9,-999.0000,-999.000,  4.0958,-999.000
      325023_1,  P14N,    75,  1,     21,     21,2,19930726,2107, 24.9952, 179.0032, 5540,   1013.1,   3.7957,  34.3613,2,  34.3584,2,   -999.0,9,     35.7,2,   120.50,2,    42.32,2,     0.00,2,     2.96,2,    0.017,2,    0.006,2, -999.000,9,-999.0000,9,  -999.00,9,   -999.0,9,   -999.0,9,  -999.00,9,-999.0000,-999.000,  3.7208,-999.000
      325023_1,  P14N,    75,  1,     20,     20,2,19930726,2107, 24.9952, 179.0032, 5540,   1217.0,   3.2653,  34.4669,2,  34.4644,2,   -999.0,9,     45.4,2,   133.01,2,    42.28,2,     0.00,2,     2.94,2,    0.000,2,    0.001,2, -999.000,9,-999.0000,9,  -999.00,9,   -999.0,9,   -999.0,9,  -999.00,9,-999.0000,-999.000,  3.1781,-999.000
      325023_1,  P14N,    75,  1,     19,     19,2,19930726,2107, 24.9952, 179.0032, 5540,   1421.2,   2.8049,  34.5292,2,  34.5271,2,   -999.0,9,     60.4,2,   142.43,2,    41.47,2,     0.00,2,     2.88,2,    0.000,2,   -0.002,2, -999.000,9,-999.0000,9,  -999.00,9,   -999.0,9,   -999.0,9,  -999.00,9,-999.0000,-999.000,  2.7058,-999.000
      325023_1,  P14N,    75,  1,     18,     18,2,19930726,2107, 24.9952, 179.0032, 5540,   1624.0,   2.4469,  34.5724,2,  34.5687,2,   -999.0,9,     75.5,2,   148.24,2,    40.67,2,     0.00,2,     2.82,2, -999.000,5, -999.000,5, -999.000,9,-999.0000,9,  -999.00,9,   -999.0,9,   -999.0,9,  -999.00,9,-999.0000,-999.000,  2.3355,-999.000
      325023_1,  P14N,    75,  1,     17,     17,2,19930726,2107, 24.9952, 179.0032, 5540,   1824.5,   2.1928,  34.5975,2,  34.5969,2,   -999.0,9,     86.0,2,   152.47,2,    40.07,2,     0.00,2,     2.76,2,    0.004,2,   -0.002,3, -999.000,9,-999.0000,9,  -999.00,9,   -999.0,9,   -999.0,9,  -999.00,9,-999.0000,-999.000,  2.0682,-999.000
      325023_1,  P14N,    75,  1,     16,     16,2,19930726,2107, 24.9952, 179.0032, 5540,   2023.0,   2.0170,  34.6158,2,  34.6144,2,   -999.0,9,     95.1,2,   155.57,2,    39.46,2,     0.00,2,     2.71,2, -999.000,5, -999.000,5, -999.000,9,-999.0000,9,  -999.00,9,   -999.0,9,   -999.0,9,  -999.00,9,-999.0000,-999.000,  1.8784,-999.000
      325023_1,  P14N,    75,  1,     15,     15,2,19930726,2107, 24.9952, 179.0032, 5540,   2226.5,   1.8580,  34.6318,2,  34.6311,2,   -999.0,9,    104.1,2,   157.98,2,    38.91,2,     0.00,2,     2.67,2, -999.000,5, -999.000,5, -999.000,9,-999.0000,9,  -999.00,9,   -999.0,9,   -999.0,9,  -999.00,9,-999.0000,-999.000,  1.7046,-999.000
      325023_1,  P14N,    75,  1,     14,     14,2,19930726,2107, 24.9952, 179.0032, 5540,   2436.2,   1.7463,  34.6433,2,  34.6422,2,   -999.0,9,    111.7,2,   159.24,2,    38.49,2,     0.00,2,     2.63,2, -999.000,5, -999.000,5, -999.000,9,-999.0000,9,  -999.00,9,   -999.0,9,   -999.0,9,  -999.00,9,-999.0000,-999.000,  1.5765,-999.000
      325023_1,  P14N,    75,  1,     13,     13,2,19930726,2107, 24.9952, 179.0032, 5540,   2639.2,   1.6667,  34.6516,2,  34.6508,2,   -999.0,9,    117.8,2,   159.81,2,    38.13,2,     0.00,2,     2.60,2,   -0.001,2,    0.002,2, -999.000,9,-999.0000,9,  -999.00,9,   -999.0,9,   -999.0,9,  -999.00,9,-999.0000,-999.000,  1.4801,-999.000
      325023_1,  P14N,    75,  1,     12,     12,2,19930726,2107, 24.9952, 179.0032, 5540,   2837.9,   1.6176,  34.6575,2,  34.6581,2,   -999.0,9,    122.9,2,   159.46,2,    37.76,2,     0.00,2,     2.58,2, -999.000,5, -999.000,5, -999.000,9,-999.0000,9,  -999.00,9,   -999.0,9,   -999.0,9,  -999.00,9,-999.0000,-999.000,  1.4137,-999.000
      325023_1,  P14N,    75,  1,     11,     11,2,19930726,2107, 24.9952, 179.0032, 5540,   3038.1,   1.5660,  34.6645,2,  34.6636,2,   -999.0,9,    129.8,2,   158.42,2,    37.31,2,     0.00,2,     2.54,2, -999.000,5, -999.000,5, -999.000,9,-999.0000,9,  -999.00,9,   -999.0,9,   -999.0,9,  -999.00,9,-999.0000,-999.000,  1.3442,-999.000
      325023_1,  P14N,    75,  1,     10,     10,2,19930726,2107, 24.9952, 179.0032, 5540,   3337.4,   1.5124,  34.6717,2,  34.6714,2,   -999.0,9,    137.6,2,   156.93,2,    36.76,2,     0.00,2,     2.50,2, -999.000,5, -999.000,5, -999.000,9,-999.0000,9,  -999.00,9,   -999.0,9,   -999.0,9,  -999.00,9,-999.0000,-999.000,  1.2624,-999.000
      325023_1,  P14N,    75,  1,      9,      9,2,19930726,2107, 24.9952, 179.0032, 5540,   3646.3,   1.4754,  34.6781,2,  34.6775,2,   -999.0,9,    145.2,2,   154.75,2,    36.31,2,     0.00,2,     2.47,2,   -0.004,2,    0.000,2, -999.000,9,-999.0000,9,  -999.00,9,   -999.0,9,   -999.0,9,  -999.00,9,-999.0000,-999.000,  1.1949,-999.000
      325023_1,  P14N,    75,  1,      8,      8,2,19930726,2107, 24.9952, 179.0032, 5540,   3962.9,   1.4486,  34.6837,2,  34.6828,2,   -999.0,9,    153.1,2,   151.20,2,    35.76,2,     0.00,2,     2.43,2, -999.000,5, -999.000,5, -999.000,9,-999.0000,9,  -999.00,9,   -999.0,9,   -999.0,9,  -999.00,9,-999.0000,-999.000,  1.1352,-999.000
      325023_1,  P14N,    75,  1,      7,      7,2,19930726,2107, 24.9952, 179.0032, 5540,   4275.6,   1.4471,  34.6868,2,  34.6863,2,   -999.0,9,    157.4,2,   148.58,2,    35.40,2,     0.00,2,     2.40,2, -999.000,5, -999.000,5, -999.000,9,-999.0000,9,  -999.00,9,   -999.0,9,   -999.0,9,  -999.00,9,-999.0000,-999.000,  1.0993,-999.000
      325023_1,  P14N,    75,  1,      6,      6,2,19930726,2107, 24.9952, 179.0032, 5540,   4585.0,   1.4397,  34.6899,2,  34.6900,2,   -999.0,9,    163.6,2,   145.06,2,    34.90,2,     0.00,2,     2.37,2, -999.000,5, -999.000,5, -999.000,9,-999.0000,9,  -999.00,9,   -999.0,9,   -999.0,9,  -999.00,9,-999.0000,-999.000,  1.0568,-999.000
      325023_1,  P14N,    75,  1,      5,      5,2,19930726,2107, 24.9952, 179.0032, 5540,   4892.8,   1.4428,  34.6925,2,  34.6896,2,   -999.0,9,    169.4,2,   141.55,2,    34.54,2,     0.00,2,     2.34,2,    0.001,2,   -0.001,2, -999.000,9,-999.0000,9,  -999.00,9,   -999.0,9,   -999.0,9,  -999.00,9,-999.0000,-999.000,  1.0234,-999.000
      325023_1,  P14N,    75,  1,      4,      4,2,19930726,2107, 24.9952, 179.0032, 5540,   5200.4,   1.4479,  34.6952,2,  34.6921,2,   -999.0,9,    174.3,2,   138.05,2,    34.09,2,     0.00,2,     2.31,2, -999.000,5, -999.000,5, -999.000,9,-999.0000,9,  -999.00,9,   -999.0,9,   -999.0,9,  -999.00,9,-999.0000,-999.000,  0.9908,-999.000
      325023_1,  P14N,    75,  1,      3,      3,2,19930726,2107, 24.9952, 179.0032, 5540,   5509.8,   1.4720,  34.6965,2,  34.6951,2,   -999.0,9,    176.4,2,   136.36,2,    33.92,2,     0.00,2,     2.30,2, -999.000,5, -999.000,5, -999.000,9,-999.0000,9,  -999.00,9,   -999.0,9,   -999.0,9,  -999.00,9,-999.0000,-999.000,  0.9752,-999.000
      325023_1,  P14N,    75,  1,      2,      2,2,19930726,2107, 24.9952, 179.0032, 5540,   5628.5,   1.4785,  34.6968,2,  34.6974,2,   -999.0,9,    177.9,2,   135.57,2,    33.88,2,     0.00,2,     2.30,2,   -0.003,2,   -0.001,2, -999.000,9,-999.0000,9,  -999.00,9,   -999.0,9,   -999.0,9,  -999.00,9,-999.0000,-999.000,  0.9662,-999.000
      325023_1,  P14N,    75,  1,      1,      1,2,19930726,2107, 24.9952, 179.0032, 5540,   5629.1,   1.4788,  34.6968,2,  34.6970,2,   -999.0,9,    178.1,2,   135.69,2,    33.88,2,     0.00,2,     2.29,2, -999.000,5, -999.000,5, -999.000,9,-999.0000,9,  -999.00,9,   -999.0,9,   -999.0,9,  -999.00,9,-999.0000,-999.000,  0.9664,-999.000