BOTTLE,20131125MIRCJHATS
EXPOCODE,SECT_ID,STNNBR,CASTNO,SAMPNO,BTLNBR,BTLNBR_FLAG_W,DATE,TIME,LATITUDE,LONGITUDE,DEPTH,CTDPRS,CTDTMP,CTDSAL,CTDSAL_FLAG_W,SALNTY,SALNTY_FLAG_W,CTDOXY,CTDOXY_FLAG_W,OXYGEN,OXYGEN_FLAG_W,SILCAT,SILCAT_FLAG_W,NITRAT,NITRAT_FLAG_W,NITRIT,NITRIT_FLAG_W,PHSPHT,PHSPHT_FLAG_W,CFC-11,CFC-11_FLAG_W,CFC-12,CFC-12_FLAG_W,TRITUM,TRITUM_FLAG_W,HELIUM,HELIUM_FLAG_W,DELHE3,DELHE3_FLAG_W,TCARBN,TCARBN_FLAG_W,ALKALI,ALKALI_FLAG_W,PH,PH_FLAG_W,HELIER,DELHER,THETA,TRITER
,,,,,,,,,,,,DBAR,ITS-90,PSS-78,,PSS-78,,UMOL/KG,,UMOL/KG,,UMOL/KG,,UMOL/KG,,UMOL/KG,,UMOL/KG,,PMOL/KG,,PMOL/KG,,TU,,NMOL/KG,,PERCNT,,UMOL/KG,,UMOL/KG,,25_DEG,,NMOL/KG,PERCNT,DEG C,TU
      325023_1,  P14N,    38,  1,     36,     36,2,19930715,2016, 43.4985, 179.0018, 5807,      3.9,  11.0308,  33.3955,2,  33.3936,2,   -999.0,9,    280.6,2,    21.49,2,    11.31,2,     0.19,2,     1.07,2, -999.000,5, -999.000,5, -999.000,9,-999.0000,9,  -999.00,9,   2044.5,2,   2239.7,2,  -999.00,9,-999.0000,-999.000, 11.0303,-999.000
      325023_1,  P14N,    38,  1,     35,     35,2,19930715,2016, 43.4985, 179.0018, 5807,     39.3,  10.4454,  33.5842,2,  33.6373,2,   -999.0,9,    287.5,2,    20.24,2,    10.81,2,     0.18,2,     1.02,2, -999.000,5, -999.000,5, -999.000,9,-999.0000,9,  -999.00,9,   2051.3,2,   2246.6,2,  -999.00,9,-999.0000,-999.000, 10.4408,-999.000
      325023_1,  P14N,    38,  1,     34,     34,2,19930715,2016, 43.4985, 179.0018, 5807,     69.6,   9.2488,  34.0342,2,  34.0453,2,   -999.0,9,    276.9,2,    19.78,2,    11.37,2,     0.25,2,     0.97,2, -999.000,5, -999.000,5, -999.000,9,-999.0000,9,  -999.00,9,   2075.0,2,   2262.7,2,  -999.00,9,-999.0000,-999.000,  9.2412,-999.000
      325023_1,  P14N,    38,  1,     33,     33,2,19930715,2016, 43.4985, 179.0018, 5807,     99.8,   8.7614,  34.0133,2,  34.0121,2,   -999.0,9,    271.4,2,    21.29,2,    13.15,2,     0.01,2,     1.07,2, -999.000,5, -999.000,5, -999.000,9,-999.0000,9,  -999.00,9,   2081.7,2,   2263.0,2,  -999.00,9,-999.0000,-999.000,  8.7509,-999.000
      325023_1,  P14N,    38,  1,     32,     32,2,19930715,2016, 43.4985, 179.0018, 5807,    129.8,   8.1140,  33.9317,2,  33.9268,2,   -999.0,9,    274.7,2,    22.62,2,    14.02,2,     0.00,2,     1.13,2, -999.000,5, -999.000,5, -999.000,9,-999.0000,9,  -999.00,9,   2087.0,2,   2262.6,2,  -999.00,9,-999.0000,-999.000,  8.1011,-999.000
      325023_1,  P14N,    38,  1,     31,     31,2,19930715,2016, 43.4985, 179.0018, 5807,    159.4,   7.9557,  33.9264,2,  33.9235,2,   -999.0,9,    273.5,2,    22.95,2,    14.34,2,     0.00,2,     1.15,2, -999.000,5, -999.000,5, -999.000,9,-999.0000,9,  -999.00,9,   2087.6,2,   2263.4,2,  -999.00,9,-999.0000,-999.000,  7.9399,-999.000
      325023_1,  P14N,    38,  1,     30,     30,2,19930715,2016, 43.4985, 179.0018, 5807,    210.2,   7.8547,  33.9450,2,  33.9392,2,   -999.0,9,    265.7,2,    24.27,2,    15.11,2,     0.00,2,     1.20,2, -999.000,5, -999.000,5, -999.000,9,-999.0000,9,  -999.00,9,   2094.2,2,   2264.0,2,  -999.00,9,-999.0000,-999.000,  7.8339,-999.000
      325023_1,  P14N,    38,  1,     29,     29,2,19930715,2016, 43.4985, 179.0018, 5807,    260.7,   7.5611,  33.9637,2,  33.9565,2,   -999.0,9,    233.4,2,    31.50,2,    18.56,2,     0.00,2,     1.43,2, -999.000,5, -999.000,5, -999.000,9,-999.0000,9,  -999.00,9,   2119.3,2,   2272.3,2,  -999.00,9,-999.0000,-999.000,  7.5359,-999.000
      325023_1,  P14N,    38,  1,     28,     28,2,19930715,2016, 43.4985, 179.0018, 5807,    310.6,   6.4851,  33.9437,2,  33.9425,2,   -999.0,9,    186.1,2,    47.03,2,    24.98,2,     0.00,2,     1.87,2, -999.000,5, -999.000,5, -999.000,9,-999.0000,9,  -999.00,9,   -999.0,9,   -999.0,9,  -999.00,9,-999.0000,-999.000,  6.4575,-999.000
      325023_1,  P14N,    38,  1,     27,     27,2,19930715,2016, 43.4985, 179.0018, 5807,    411.9,   5.1498,  33.9509,2,  33.9470,2,   -999.0,9,    133.8,2,    69.53,2,    32.25,2,     0.00,2,     2.40,2, -999.000,5, -999.000,5, -999.000,9,-999.0000,9,  -999.00,9,   -999.0,9,   -999.0,9,  -999.00,9,-999.0000,-999.000,  5.1171,-999.000
      325023_1,  P14N,    38,  1,     26,     26,2,19930715,2016, 43.4985, 179.0018, 5807,    512.7,   4.5762,  34.0373,2,  34.0325,2,   -999.0,9,     94.2,2,    86.95,2,    36.66,2,     0.00,2,     2.69,2, -999.000,5, -999.000,5, -999.000,9,-999.0000,9,  -999.00,9,   -999.0,9,   -999.0,9,  -999.00,9,-999.0000,-999.000,  4.5374,-999.000
      325023_1,  P14N,    38,  1,     25,     25,2,19930715,2016, 43.4985, 179.0018, 5807,    613.3,   4.1112,  34.1207,2,  34.1167,2,   -999.0,9,     64.7,2,   102.69,2,    39.67,2,     0.00,2,     2.90,2, -999.000,5, -999.000,5, -999.000,9,-999.0000,9,  -999.00,9,   -999.0,9,   -999.0,9,  -999.00,9,-999.0000,-999.000,  4.0665,-999.000
      325023_1,  P14N,    38,  1,     24,     24,2,19930715,2016, 43.4985, 179.0018, 5807,    714.8,   3.8705,  34.1978,2,  34.1937,2,   -999.0,9,     50.0,2,   113.29,2,    41.10,2,     0.00,2,     2.99,2, -999.000,5, -999.000,5, -999.000,9,-999.0000,9,  -999.00,9,   -999.0,9,   -999.0,9,  -999.00,9,-999.0000,-999.000,  3.8190,-999.000
      325023_1,  P14N,    38,  1,     23,     23,2,19930715,2016, 43.4985, 179.0018, 5807,    815.7,   3.5954,  34.2620,2,  34.2587,2,   -999.0,9,     41.2,2,   122.95,2,    41.98,2,     0.00,2,     3.04,2, -999.000,5, -999.000,5, -999.000,9,-999.0000,9,  -999.00,9,   -999.0,9,   -999.0,9,  -999.00,9,-999.0000,-999.000,  3.5378,-999.000
      325023_1,  P14N,    38,  1,     22,     22,2,19930715,2016, 43.4985, 179.0018, 5807,    917.1,   3.3396,  34.3111,2,  34.3056,2,   -999.0,9,     35.2,2,   131.24,2,    42.72,2,     0.00,2,     3.09,2, -999.000,5, -999.000,5, -999.000,9,-999.0000,9,  -999.00,9,   -999.0,9,   -999.0,9,  -999.00,9,-999.0000,-999.000,  3.2758,-999.000
      325023_1,  P14N,    38,  1,     21,     21,2,19930715,2016, 43.4985, 179.0018, 5807,   1018.6,   3.0702,  34.3592,2,  34.3546,2,   -999.0,9,     31.1,2,   140.21,2,    43.42,2,     0.00,2,     3.12,2, -999.000,5, -999.000,5, -999.000,9,-999.0000,9,  -999.00,9,   -999.0,9,   -999.0,9,  -999.00,9,-999.0000,-999.000,  3.0006,-999.000
      325023_1,  P14N,    38,  1,     20,     20,2,19930715,2016, 43.4985, 179.0018, 5807,   1221.6,   2.7324,  34.4270,2,  34.4229,2,   -999.0,9,     30.2,2,   151.57,2,    43.65,2,     0.00,2,     3.14,2, -999.000,5, -999.000,5, -999.000,9,-999.0000,9,  -999.00,9,   -999.0,9,   -999.0,9,  -999.00,9,-999.0000,-999.000,  2.6501,-999.000
      325023_1,  P14N,    38,  1,     19,     19,2,19930715,2016, 43.4985, 179.0018, 5807,   1424.2,   2.4529,  34.4820,2,  34.4786,2,   -999.0,9,     34.8,2,   159.88,2,    43.60,2,     0.00,2,     3.13,2, -999.000,5, -999.000,5, -999.000,9,-999.0000,9,  -999.00,9,   -999.0,9,   -999.0,9,  -999.00,9,-999.0000,-999.000,  2.3576,-999.000
      325023_1,  P14N,    38,  1,     18,     18,2,19930715,2016, 43.4985, 179.0018, 5807,   1627.5,   2.2315,  34.5266,2,  34.5241,2,   -999.0,9,     41.7,2,   166.58,2,    43.31,2,     0.00,2,     3.10,2, -999.000,5, -999.000,5, -999.000,9,-999.0000,9,  -999.00,9,   -999.0,9,   -999.0,9,  -999.00,9,-999.0000,-999.000,  2.1226,-999.000
      325023_1,  P14N,    38,  1,     17,     17,2,19930715,2016, 43.4985, 179.0018, 5807,   1831.3,   2.0750,  34.5597,2,  34.5557,2,   -999.0,9,     50.9,2,   170.11,2,    42.84,2,     0.00,2,     3.05,2, -999.000,5, -999.000,5, -999.000,9,-999.0000,9,  -999.00,9,   -999.0,9,   -999.0,9,  -999.00,9,-999.0000,-999.000,  1.9516,-999.000
      325023_1,  P14N,    38,  1,     16,     16,2,19930715,2016, 43.4985, 179.0018, 5807,   2035.2,   1.9552,  34.5850,4,  34.5801,2,   -999.0,9,     61.6,2,   171.29,2,    42.18,2,     0.00,2,     3.00,2, -999.000,5, -999.000,5, -999.000,9,-999.0000,9,  -999.00,9,   -999.0,9,   -999.0,9,  -999.00,9,-999.0000,-999.000,  1.8166,-999.000
      325023_1,  P14N,    38,  1,     15,     15,2,19930715,2016, 43.4985, 179.0018, 5807,   2239.5,   1.8554,  34.6048,4,  34.6009,2,   -999.0,9,     71.2,2,   172.68,2,    41.66,2,     0.00,2,     2.96,2, -999.000,5, -999.000,5, -999.000,9,-999.0000,9,  -999.00,9,   -999.0,9,   -999.0,9,  -999.00,9,-999.0000,-999.000,  1.7010,-999.000
      325023_1,  P14N,    38,  1,     14,     14,2,19930715,2016, 43.4985, 179.0018, 5807,   2444.0,   1.7571,  34.6234,2,  34.6206,2,   -999.0,9,     84.5,2,   171.72,2,    40.73,2,     0.00,2,     2.90,2, -999.000,5, -999.000,5, -999.000,9,-999.0000,9,  -999.00,9,   -999.0,9,   -999.0,9,  -999.00,9,-999.0000,-999.000,  1.5865,-999.000
      325023_1,  P14N,    38,  1,     13,     13,2,19930715,2016, 43.4985, 179.0018, 5807,   2648.0,   1.6875,  34.6368,4,  34.6338,2,   -999.0,9,     94.6,2,   170.75,2,    40.07,2,     0.00,2,     2.85,2, -999.000,5, -999.000,5, -999.000,9,-999.0000,9,  -999.00,9,   -999.0,9,   -999.0,9,  -999.00,9,-999.0000,-999.000,  1.4997,-999.000
      325023_1,  P14N,    38,  1,     12,     12,2,19930715,2016, 43.4985, 179.0018, 5807,   2853.0,   1.6284,  34.6471,2,  34.6448,2,   -999.0,9,    105.7,2,   168.50,2,    39.37,2,     0.00,2,     2.79,2, -999.000,5, -999.000,5, -999.000,9,-999.0000,9,  -999.00,9,   -999.0,9,   -999.0,9,  -999.00,9,-999.0000,-999.000,  1.4229,-999.000
      325023_1,  P14N,    38,  1,     11,     11,2,19930715,2016, 43.4985, 179.0018, 5807,   3058.0,   1.5816,  34.6558,4,  34.6525,2,   -999.0,9,    115.4,2,   166.47,2,    38.63,2,     0.00,2,     2.75,2, -999.000,5, -999.000,5, -999.000,9,-999.0000,9,  -999.00,9,   -999.0,9,   -999.0,9,  -999.00,9,-999.0000,-999.000,  1.3576,-999.000
      325023_1,  P14N,    38,  1,     10,     10,2,19930715,2016, 43.4985, 179.0018, 5807,   3364.6,   1.5266,  34.6659,4,  34.6629,2,   -999.0,9,    127.6,2,   163.39,2,    37.88,2,     0.00,2,     2.69,2, -999.000,5, -999.000,5, -999.000,9,-999.0000,9,  -999.00,9,   -999.0,9,   -999.0,9,  -999.00,9,-999.0000,-999.000,  1.2736,-999.000
      325023_1,  P14N,    38,  1,      9,      9,2,19930715,2016, 43.4985, 179.0018, 5807,   3672.8,   1.4891,  34.6741,2,  34.6712,2,   -999.0,9,    137.5,2,   161.17,2,    37.23,2,     0.00,2,     2.64,2, -999.000,5, -999.000,5, -999.000,9,-999.0000,9,  -999.00,9,   -999.0,9,   -999.0,9,  -999.00,9,-999.0000,-999.000,  1.2054,-999.000
      325023_1,  P14N,    38,  1,      8,      8,2,19930715,2016, 43.4985, 179.0018, 5807,   3980.7,   1.4751,  34.6787,2,  34.6772,2,   -999.0,9,    144.5,2,   159.58,2,    36.81,2,     0.00,2,     2.60,2, -999.000,5, -999.000,5, -999.000,9,-999.0000,9,  -999.00,9,   -999.0,9,   -999.0,9,  -999.00,9,-999.0000,-999.000,  1.1590,-999.000
      325023_1,  P14N,    38,  1,      7,      7,2,19930715,2016, 43.4985, 179.0018, 5807,   4289.5,   1.4767,  34.6824,2,  34.6821,2,   -999.0,9,    148.8,2,   159.48,2,    36.53,2,     0.00,2,     2.57,2, -999.000,5, -999.000,5, -999.000,9,-999.0000,9,  -999.00,9,   -999.0,9,   -999.0,9,  -999.00,9,-999.0000,-999.000,  1.1265,-999.000
      325023_1,  P14N,    38,  1,      6,      6,2,19930715,2016, 43.4985, 179.0018, 5807,   4598.8,   1.4958,  34.6855,2,  34.6847,2,   -999.0,9,    151.2,2,   161.28,2,    36.48,2,     0.00,2,     2.56,2, -999.000,5, -999.000,5, -999.000,9,-999.0000,9,  -999.00,9,   -999.0,9,   -999.0,9,  -999.00,9,-999.0000,-999.000,  1.1095,-999.000
      325023_1,  P14N,    38,  1,      5,      5,2,19930715,2016, 43.4985, 179.0018, 5807,   4908.0,   1.5251,  34.6867,2,  34.6848,2,   -999.0,9,    152.2,2,   162.66,2,    36.34,2,     0.00,2,     2.56,2, -999.000,5, -999.000,5, -999.000,9,-999.0000,9,  -999.00,9,   -999.0,9,   -999.0,9,  -999.00,9,-999.0000,-999.000,  1.1012,-999.000
      325023_1,  P14N,    38,  1,      4,      4,2,19930715,2016, 43.4985, 179.0018, 5807,   5217.2,   1.5632,  34.6862,2,  34.6847,2,   -999.0,9,    152.2,2,   163.19,2,    36.39,2,     0.00,2,     2.56,2, -999.000,5, -999.000,5, -999.000,9,-999.0000,9,  -999.00,9,   -999.0,9,   -999.0,9,  -999.00,9,-999.0000,-999.000,  1.1001,-999.000
      325023_1,  P14N,    38,  1,      3,      3,2,19930715,2016, 43.4985, 179.0018, 5807,   5528.1,   1.6038,  34.6874,2,  34.6851,2,   -999.0,9,    152.3,2,   163.09,2,    36.43,2,     0.00,2,     2.56,2, -999.000,5, -999.000,5, -999.000,9,-999.0000,9,  -999.00,9,   -999.0,9,   -999.0,9,  -999.00,9,-999.0000,-999.000,  1.0999,-999.000
      325023_1,  P14N,    38,  1,      2,      2,2,19930715,2016, 43.4985, 179.0018, 5807,   5838.7,   1.6460,  34.6873,2,  34.6857,2,   -999.0,9,    152.3,2,   163.41,2,    36.42,2,     0.00,2,     2.56,2, -999.000,5, -999.000,5, -999.000,9,-999.0000,9,  -999.00,9,   -999.0,9,   -999.0,9,  -999.00,9,-999.0000,-999.000,  1.1000,-999.000
      325023_1,  P14N,    38,  1,      1,      1,2,19930715,2016, 43.4985, 179.0018, 5807,   5928.0,   1.6585,  34.6874,2,  34.6862,2,   -999.0,9,    152.3,2,   163.09,2,    36.42,2,     0.00,2,     2.56,2, -999.000,5, -999.000,5, -999.000,9,-999.0000,9,  -999.00,9,   -999.0,9,   -999.0,9,  -999.00,9,-999.0000,-999.000,  1.1001,-999.000