BOTTLE,20131125MIRCJHATS
EXPOCODE,SECT_ID,STNNBR,CASTNO,SAMPNO,BTLNBR,BTLNBR_FLAG_W,DATE,TIME,LATITUDE,LONGITUDE,DEPTH,CTDPRS,CTDTMP,CTDSAL,CTDSAL_FLAG_W,SALNTY,SALNTY_FLAG_W,CTDOXY,CTDOXY_FLAG_W,OXYGEN,OXYGEN_FLAG_W,SILCAT,SILCAT_FLAG_W,NITRAT,NITRAT_FLAG_W,NITRIT,NITRIT_FLAG_W,PHSPHT,PHSPHT_FLAG_W,CFC-11,CFC-11_FLAG_W,CFC-12,CFC-12_FLAG_W,TRITUM,TRITUM_FLAG_W,HELIUM,HELIUM_FLAG_W,DELHE3,DELHE3_FLAG_W,TCARBN,TCARBN_FLAG_W,ALKALI,ALKALI_FLAG_W,PH,PH_FLAG_W,HELIER,DELHER,THETA,TRITER
,,,,,,,,,,,,DBAR,ITS-90,PSS-78,,PSS-78,,UMOL/KG,,UMOL/KG,,UMOL/KG,,UMOL/KG,,UMOL/KG,,UMOL/KG,,PMOL/KG,,PMOL/KG,,TU,,NMOL/KG,,PERCNT,,UMOL/KG,,UMOL/KG,,25_DEG,,NMOL/KG,PERCNT,DEG C,TU
      325023_1,  P14N,    74,  1,     36,     36,2,19930726,1512, 25.4945, 179.0047, 5705,      2.9,  27.9735,  35.4665,2,  35.4674,2,   -999.0,9,    200.1,2,     2.75,2,     0.04,2,     0.00,2,     0.01,2, -999.000,5, -999.000,5, -999.000,9,-999.0000,9,  -999.00,9,   -999.0,9,   -999.0,9,  -999.00,9,-999.0000,-999.000, 27.9728,-999.000
      325023_1,  P14N,    74,  1,     35,     35,2,19930726,1512, 25.4945, 179.0047, 5705,     38.0,  25.0960,  35.3500,2,  35.3561,2,   -999.0,9,    226.1,2,     2.62,2,     0.04,2,     0.00,2,     0.01,2, -999.000,5, -999.000,5, -999.000,9,-999.0000,9,  -999.00,9,   -999.0,9,   -999.0,9,  -999.00,9,-999.0000,-999.000, 25.0877,-999.000
      325023_1,  P14N,    74,  1,     34,     34,2,19930726,1512, 25.4945, 179.0047, 5705,     68.5,  21.4129,  35.1754,2,  35.1765,2,   -999.0,9,    235.9,2,     2.93,2,     0.04,2,     0.00,2,     0.04,2, -999.000,5, -999.000,5, -999.000,9,-999.0000,9,  -999.00,9,   -999.0,9,   -999.0,9,  -999.00,9,-999.0000,-999.000, 21.3996,-999.000
      325023_1,  P14N,    74,  1,     33,     33,2,19930726,1512, 25.4945, 179.0047, 5705,     98.6,  19.5497,  35.0313,2,  35.0291,2,   -999.0,9,    223.7,2,     3.02,2,     0.03,2,     0.00,2,     0.07,2, -999.000,5, -999.000,5, -999.000,9,-999.0000,9,  -999.00,9,   -999.0,9,   -999.0,9,  -999.00,9,-999.0000,-999.000, 19.5318,-999.000
      325023_1,  P14N,    74,  1,     32,     32,2,19930726,1512, 25.4945, 179.0047, 5705,    128.0,  18.1495,  34.8658,2,  34.8499,2,   -999.0,9,    223.1,2,     3.11,2,     0.54,2,     0.07,2,     0.14,2, -999.000,5, -999.000,5, -999.000,9,-999.0000,9,  -999.00,9,   -999.0,9,   -999.0,9,  -999.00,9,-999.0000,-999.000, 18.1275,-999.000
      325023_1,  P14N,    74,  1,     31,     31,2,19930726,1512, 25.4945, 179.0047, 5705,    158.6,  17.4205,  34.8161,2,  34.8142,2,   -999.0,9,    221.8,2,     3.43,2,     2.21,2,     0.03,2,     0.23,2, -999.000,5, -999.000,5, -999.000,9,-999.0000,9,  -999.00,9,   -999.0,9,   -999.0,9,  -999.00,9,-999.0000,-999.000, 17.3940,-999.000
      325023_1,  P14N,    74,  1,     30,     30,2,19930726,1512, 25.4945, 179.0047, 5705,    208.5,  16.7596,  34.7619,2,  34.7577,2,   -999.0,9,    224.0,2,     3.97,2,     3.47,2,     0.01,2,     0.29,2, -999.000,5, -999.000,5, -999.000,9,-999.0000,9,  -999.00,9,   -999.0,9,   -999.0,9,  -999.00,9,-999.0000,-999.000, 16.7255,-999.000
      325023_1,  P14N,    74,  1,     29,     29,2,19930726,1512, 25.4945, 179.0047, 5705,    259.1,  16.1593,  34.7172,2,  34.7155,2,   -999.0,9,    211.7,2,     4.73,2,     5.20,2,     0.00,2,     0.42,2, -999.000,5, -999.000,5, -999.000,9,-999.0000,9,  -999.00,9,   -999.0,9,   -999.0,9,  -999.00,9,-999.0000,-999.000, 16.1181,-999.000
      325023_1,  P14N,    74,  1,     28,     28,2,19930726,1512, 25.4945, 179.0047, 5705,    309.4,  15.0287,  34.6101,2,  34.6032,2,   -999.0,9,    205.9,2,     7.72,2,     7.59,2,     0.00,2,     0.61,2,    2.573,2,    1.265,2, -999.000,9,-999.0000,9,  -999.00,9,   -999.0,9,   -999.0,9,  -999.00,9,-999.0000,-999.000, 14.9817,-999.000
      325023_1,  P14N,    74,  1,     27,     27,2,19930726,1512, 25.4945, 179.0047, 5705,    410.4,  12.0724,  34.3586,2,  34.3554,2,   -999.0,9,    206.6,2,    14.52,2,    12.14,2,     0.00,2,     0.96,2,    2.612,2,    1.225,2, -999.000,9,-999.0000,9,  -999.00,9,   -999.0,9,   -999.0,9,  -999.00,9,-999.0000,-999.000, 12.0185,-999.000
      325023_1,  P14N,    74,  1,     26,     26,2,19930726,1512, 25.4945, 179.0047, 5705,    510.8,   9.4147,  34.1666,2,  34.1682,2,   -999.0,9,    188.5,2,    27.34,2,    18.79,2,     0.00,2,     1.37,2, -999.000,5, -999.000,5, -999.000,9,-999.0000,9,  -999.00,9,   -999.0,9,   -999.0,9,  -999.00,9,-999.0000,-999.000,  9.3573,-999.000
      325023_1,  P14N,    74,  1,     25,     25,2,19930726,1512, 25.4945, 179.0047, 5705,    611.5,   6.9832,  34.0564,2,  34.0506,2,   -999.0,9,    150.5,2,    52.01,2,    26.73,2,     0.00,2,     2.04,2,    1.577,2,    0.727,2, -999.000,9,-999.0000,9,  -999.00,9,   -999.0,9,   -999.0,9,  -999.00,9,-999.0000,-999.000,  6.9252,-999.000
      325023_1,  P14N,    74,  1,     24,     24,2,19930726,1512, 25.4945, 179.0047, 5705,    712.6,   5.5777,  34.0925,2,  34.0911,2,   -999.0,9,     87.4,2,    77.61,2,    34.86,2,     0.00,2,     2.54,2, -999.000,5, -999.000,5, -999.000,9,-999.0000,9,  -999.00,9,   -999.0,9,   -999.0,9,  -999.00,9,-999.0000,-999.000,  5.5172,-999.000
      325023_1,  P14N,    74,  1,     23,     23,2,19930726,1512, 25.4945, 179.0047, 5705,    813.4,   4.6923,  34.1651,2,  34.1639,2,   -999.0,9,     57.2,2,    98.12,2,    38.88,2,     0.00,2,     2.75,2,    0.231,2,    0.096,2, -999.000,9,-999.0000,9,  -999.00,9,   -999.0,9,   -999.0,9,  -999.00,9,-999.0000,-999.000,  4.6281,-999.000
      325023_1,  P14N,    74,  1,     22,     22,2,19930726,1512, 25.4945, 179.0047, 5705,    914.1,   4.0838,  34.2715,2,  34.2702,2,   -999.0,9,     37.7,2,   115.57,2,    41.42,2,     0.00,2,     2.96,2, -999.000,5, -999.000,5, -999.000,9,-999.0000,9,  -999.00,9,   -999.0,9,   -999.0,9,  -999.00,9,-999.0000,-999.000,  4.0150,-999.000
      325023_1,  P14N,    74,  1,     21,     21,2,19930726,1512, 25.4945, 179.0047, 5705,   1015.8,   3.7532,  34.3645,2,  34.3637,2,   -999.0,9,     35.1,2,   124.92,2,    42.06,2,     0.00,2,     3.01,2,    0.014,2,    0.013,2, -999.000,9,-999.0000,9,  -999.00,9,   -999.0,9,   -999.0,9,  -999.00,9,-999.0000,-999.000,  3.6784,-999.000
      325023_1,  P14N,    74,  1,     20,     20,2,19930726,1512, 25.4945, 179.0047, 5705,   1217.7,   3.2360,  34.4718,2,  34.4679,2,   -999.0,9,     46.3,2,   136.82,2,    41.79,2,     0.00,2,     3.01,2, -999.000,5, -999.000,5, -999.000,9,-999.0000,9,  -999.00,9,   -999.0,9,   -999.0,9,  -999.00,9,-999.0000,-999.000,  3.1491,-999.000
      325023_1,  P14N,    74,  1,     19,     19,2,19930726,1512, 25.4945, 179.0047, 5705,   1420.1,   2.7547,  34.5308,2,  34.5293,2,   -999.0,9,     58.5,2,   147.42,2,    41.29,2,     0.00,2,     2.94,2, -999.000,5, -999.000,5, -999.000,9,-999.0000,9,  -999.00,9,   -999.0,9,   -999.0,9,  -999.00,9,-999.0000,-999.000,  2.6563,-999.000
      325023_1,  P14N,    74,  1,     18,     18,2,19930726,1512, 25.4945, 179.0047, 5705,   1623.2,   2.3999,  34.5691,2,  34.5679,2,   -999.0,9,     71.7,2,   154.83,2,    40.66,2,     0.00,2,     2.89,2, -999.000,5, -999.000,5, -999.000,9,-999.0000,9,  -999.00,9,   -999.0,9,   -999.0,9,  -999.00,9,-999.0000,-999.000,  2.2892,-999.000
      325023_1,  P14N,    74,  1,     17,     17,2,19930726,1512, 25.4945, 179.0047, 5705,   1825.9,   2.1568,  34.5958,2,  34.5944,2,   -999.0,9,     83.5,2,   158.09,2,    39.98,2,     0.00,2,     2.83,2, -999.000,5, -999.000,5, -999.000,9,-999.0000,9,  -999.00,9,   -999.0,9,   -999.0,9,  -999.00,9,-999.0000,-999.000,  2.0327,-999.000
      325023_1,  P14N,    74,  1,     16,     16,2,19930726,1512, 25.4945, 179.0047, 5705,   2028.4,   1.9746,  34.6172,2,  34.6162,2,   -999.0,9,     94.8,2,   159.49,2,    39.26,2,     0.00,2,     2.78,2, -999.000,5, -999.000,5, -999.000,9,-999.0000,9,  -999.00,9,   -999.0,9,   -999.0,9,  -999.00,9,-999.0000,-999.000,  1.8363,-999.000
      325023_1,  P14N,    74,  1,     15,     15,2,19930726,1512, 25.4945, 179.0047, 5705,   2232.3,   1.8306,  34.6320,2,  34.6315,2,   -999.0,9,    103.9,2,   161.59,2,    38.72,2,     0.00,2,     2.73,2, -999.000,5, -999.000,5, -999.000,9,-999.0000,9,  -999.00,9,   -999.0,9,   -999.0,9,  -999.00,9,-999.0000,-999.000,  1.6772,-999.000
      325023_1,  P14N,    74,  1,     14,     14,2,19930726,1512, 25.4945, 179.0047, 5705,   2435.5,   1.7272,  34.6431,2,  34.6419,2,   -999.0,9,    111.5,2,   162.06,2,    38.22,2,     0.00,2,     2.69,2, -999.000,5, -999.000,5, -999.000,9,-999.0000,9,  -999.00,9,   -999.0,9,   -999.0,9,  -999.00,9,-999.0000,-999.000,  1.5578,-999.000
      325023_1,  P14N,    74,  1,     13,     13,2,19930726,1512, 25.4945, 179.0047, 5705,   2638.4,   1.6603,  34.6507,2,  34.6499,2,   -999.0,9,    117.6,2,   161.83,2,    37.82,2,     0.00,2,     2.65,2, -999.000,5, -999.000,5, -999.000,9,-999.0000,9,  -999.00,9,   -999.0,9,   -999.0,9,  -999.00,9,-999.0000,-999.000,  1.4739,-999.000
      325023_1,  P14N,    74,  1,     12,     12,2,19930726,1512, 25.4945, 179.0047, 5705,   2842.1,   1.5971,  34.6584,2,  34.6586,2,   -999.0,9,    124.0,2,   160.91,2,    37.37,2,     0.00,2,     2.62,2, -999.000,5, -999.000,5, -999.000,9,-999.0000,9,  -999.00,9,   -999.0,9,   -999.0,9,  -999.00,9,-999.0000,-999.000,  1.3932,-999.000
      325023_1,  P14N,    74,  1,     11,     11,2,19930726,1512, 25.4945, 179.0047, 5705,   3045.8,   1.5592,  34.6642,2,  34.6631,2,   -999.0,9,    129.4,2,   160.45,2,    37.06,2,     0.00,2,     2.60,2, -999.000,5, -999.000,5, -999.000,9,-999.0000,9,  -999.00,9,   -999.0,9,   -999.0,9,  -999.00,9,-999.0000,-999.000,  1.3368,-999.000
      325023_1,  P14N,    74,  1,     10,     10,2,19930726,1512, 25.4945, 179.0047, 5705,   3352.2,   1.5019,  34.6723,2,  34.6719,2,   -999.0,9,    138.3,2,   158.60,2,    36.52,2,     0.00,2,     2.55,2, -999.000,5, -999.000,5, -999.000,9,-999.0000,9,  -999.00,9,   -999.0,9,   -999.0,9,  -999.00,9,-999.0000,-999.000,  1.2507,-999.000
      325023_1,  P14N,    74,  1,      9,      9,2,19930726,1512, 25.4945, 179.0047, 5705,   3659.8,   1.4793,  34.6772,2,  34.6762,2,   -999.0,9,    144.3,2,   156.75,2,    36.03,2,     0.00,2,     2.52,2, -999.000,5, -999.000,5, -999.000,9,-999.0000,9,  -999.00,9,   -999.0,9,   -999.0,9,  -999.00,9,-999.0000,-999.000,  1.1972,-999.000
      325023_1,  P14N,    74,  1,      8,      8,2,19930726,1512, 25.4945, 179.0047, 5705,   3966.4,   1.4558,  34.6823,2,  34.6815,2,   -999.0,9,    150.9,2,   153.98,2,    35.63,2,     0.00,2,     2.49,2, -999.000,5, -999.000,5, -999.000,9,-999.0000,9,  -999.00,9,   -999.0,9,   -999.0,9,  -999.00,9,-999.0000,-999.000,  1.1418,-999.000
      325023_1,  P14N,    74,  1,      7,      7,2,19930726,1512, 25.4945, 179.0047, 5705,   4274.0,   1.4463,  34.6862,2,  34.6848,2,   -999.0,9,    156.8,2,   150.77,2,    35.23,2,     0.00,2,     2.46,2, -999.000,5, -999.000,5, -999.000,9,-999.0000,9,  -999.00,9,   -999.0,9,   -999.0,9,  -999.00,9,-999.0000,-999.000,  1.0987,-999.000
      325023_1,  P14N,    74,  1,      6,      6,2,19930726,1512, 25.4945, 179.0047, 5705,   4581.9,   1.4364,  34.6898,2,  34.6898,2,   -999.0,9,    163.8,2,   146.18,2,    34.78,2,     0.00,2,     2.42,2, -999.000,5, -999.000,5, -999.000,9,-999.0000,9,  -999.00,9,   -999.0,9,   -999.0,9,  -999.00,9,-999.0000,-999.000,  1.0540,-999.000
      325023_1,  P14N,    74,  1,      5,      5,2,19930726,1512, 25.4945, 179.0047, 5705,   4890.3,   1.4371,  34.6925,2,  34.6921,2,   -999.0,9,    169.4,2,   142.76,2,    34.43,2,     0.00,2,     2.38,2, -999.000,5, -999.000,5, -999.000,9,-999.0000,9,  -999.00,9,   -999.0,9,   -999.0,9,  -999.00,9,-999.0000,-999.000,  1.0182,-999.000
      325023_1,  P14N,    74,  1,      4,      4,2,19930726,1512, 25.4945, 179.0047, 5705,   5200.9,   1.4526,  34.6950,2,  34.6943,2,   -999.0,9,    173.0,2,   140.72,2,    34.25,2,     0.00,2,     2.36,2, -999.000,5, -999.000,5, -999.000,9,-999.0000,9,  -999.00,9,   -999.0,9,   -999.0,9,  -999.00,9,-999.0000,-999.000,  0.9953,-999.000
      325023_1,  P14N,    74,  1,      3,      3,2,19930726,1512, 25.4945, 179.0047, 5705,   5511.8,   1.4766,  34.6960,2,  34.6951,2,   -999.0,9,    175.6,2,   139.37,2,    34.03,2,     0.00,2,     2.35,2, -999.000,5, -999.000,5, -999.000,9,-999.0000,9,  -999.00,9,   -999.0,9,   -999.0,9,  -999.00,9,-999.0000,-999.000,  0.9793,-999.000
      325023_1,  P14N,    74,  1,      2,      2,2,19930726,1512, 25.4945, 179.0047, 5705,   5795.3,   1.5045,  34.6970,2,  34.6970,2,   -999.0,9,    177.1,2,   137.79,2,    33.90,2,     0.00,2,     2.35,2, -999.000,5, -999.000,5, -999.000,9,-999.0000,9,  -999.00,9,   -999.0,9,   -999.0,9,  -999.00,9,-999.0000,-999.000,  0.9695,-999.000
      325023_1,  P14N,    74,  1,      1,      1,2,19930726,1512, 25.4945, 179.0047, 5705,   5795.3,   1.5046,  34.6970,2,  34.6966,2,   -999.0,9,    177.0,2,   137.58,2,    33.90,2,     0.00,2,     2.34,2, -999.000,5, -999.000,5, -999.000,9,-999.0000,9,  -999.00,9,   -999.0,9,   -999.0,9,  -999.00,9,-999.0000,-999.000,  0.9696,-999.000