BOTTLE,20131125MIRCJHATS
EXPOCODE,SECT_ID,STNNBR,CASTNO,SAMPNO,BTLNBR,BTLNBR_FLAG_W,DATE,TIME,LATITUDE,LONGITUDE,DEPTH,CTDPRS,CTDTMP,CTDSAL,CTDSAL_FLAG_W,SALNTY,SALNTY_FLAG_W,CTDOXY,CTDOXY_FLAG_W,OXYGEN,OXYGEN_FLAG_W,SILCAT,SILCAT_FLAG_W,NITRAT,NITRAT_FLAG_W,NITRIT,NITRIT_FLAG_W,PHSPHT,PHSPHT_FLAG_W,CFC-11,CFC-11_FLAG_W,CFC-12,CFC-12_FLAG_W,TRITUM,TRITUM_FLAG_W,HELIUM,HELIUM_FLAG_W,DELHE3,DELHE3_FLAG_W,TCARBN,TCARBN_FLAG_W,ALKALI,ALKALI_FLAG_W,PH,PH_FLAG_W,HELIER,DELHER,THETA,TRITER
,,,,,,,,,,,,DBAR,ITS-90,PSS-78,,PSS-78,,UMOL/KG,,UMOL/KG,,UMOL/KG,,UMOL/KG,,UMOL/KG,,UMOL/KG,,PMOL/KG,,PMOL/KG,,TU,,NMOL/KG,,PERCNT,,UMOL/KG,,UMOL/KG,,25_DEG,,NMOL/KG,PERCNT,DEG C,TU
      325023_1,  P14N,    88,  1,     36,     36,2,19930730,0103, 18.5018, 179.0040, 4499,      2.1,  27.8571,  34.8991,2,  34.9026,2,   -999.0,9,    200.2,2,     1.70,2,     0.02,2,     0.00,2,     0.09,2, -999.000,5, -999.000,5, -999.000,9,-999.0000,9,  -999.00,9,   1944.0,2,   2296.9,2,     8.12,2,-999.0000,-999.000, 27.8567,-999.000
      325023_1,  P14N,    88,  1,     35,     35,2,19930730,0103, 18.5018, 179.0040, 4499,      2.1,  27.8520,  34.9000,2,  34.9024,2,   -999.0,9,    200.5,2,     1.56,2,     0.02,2,     0.00,2,     0.09,2, -999.000,5, -999.000,5, -999.000,9,-999.0000,9,  -999.00,9,   1946.3,2,   2295.6,2,  -999.00,9,-999.0000,-999.000, 27.8515,-999.000
      325023_1,  P14N,    88,  1,     34,     34,2,19930730,0103, 18.5018, 179.0040, 4499,     36.9,  27.6941,  34.9017,2,  34.9043,2,   -999.0,9,    200.8,2,     1.21,2,     0.02,2,     0.00,2,     0.08,2, -999.000,5, -999.000,5, -999.000,9,-999.0000,9,  -999.00,9,   1943.0,2,   2293.4,2,     8.12,2,-999.0000,-999.000, 27.6855,-999.000
      325023_1,  P14N,    88,  1,     33,     33,2,19930730,0103, 18.5018, 179.0040, 4499,     67.7,  26.7585,  35.2470,2,  35.2416,2,   -999.0,9,    216.7,2,     1.08,2,     0.01,2,     0.00,2,     0.02,2, -999.000,5, -999.000,5, -999.000,9,-999.0000,9,  -999.00,9,   1964.9,2,   2318.5,2,     8.12,2,-999.0000,-999.000, 26.7431,-999.000
      325023_1,  P14N,    88,  1,     32,     32,2,19930730,0103, 18.5018, 179.0040, 4499,     98.0,  23.8693,  35.2995,2,  35.3012,2,   -999.0,9,    220.0,2,     0.94,2,     0.01,2,     0.00,2,     0.02,2, -999.000,5, -999.000,5, -999.000,9,-999.0000,9,  -999.00,9,   1977.5,2,   2318.0,2,  -999.00,9,-999.0000,-999.000, 23.8487,-999.000
      325023_1,  P14N,    88,  1,     31,     31,2,19930730,0103, 18.5018, 179.0040, 4499,    128.0,  22.5182,  35.3102,2,  35.3107,2,   -999.0,9,    212.6,2,     0.81,2,     0.01,2,     0.00,2,     0.04,2, -999.000,5, -999.000,5, -999.000,9,-999.0000,9,  -999.00,9,   1993.0,2,   2323.5,2,  -999.00,9,-999.0000,-999.000, 22.4924,-999.000
      325023_1,  P14N,    88,  1,     30,     30,2,19930730,0103, 18.5018, 179.0040, 4499,    157.8,  21.3493,  35.2792,2,  35.2680,2,   -999.0,9,    205.8,2,     1.10,2,     0.06,2,     0.15,2,     0.08,2, -999.000,5, -999.000,5, -999.000,9,-999.0000,9,  -999.00,9,   2007.6,2,   2317.9,2,  -999.00,9,-999.0000,-999.000, 21.3187,-999.000
      325023_1,  P14N,    88,  1,     29,     29,2,19930730,0103, 18.5018, 179.0040, 4499,    207.8,  18.5996,  34.9710,2,  34.9491,2,   -999.0,9,    204.4,2,     2.25,2,     2.23,2,     0.02,2,     0.22,2,    2.442,2,    1.234,2, -999.000,9,-999.0000,9,     0.01,2,   2023.1,2,   2301.9,2,  -999.00,9,-999.0000,   0.150, 18.5631,-999.000
      325023_1,  P14N,    88,  1,     28,     28,2,19930730,0103, 18.5018, 179.0040, 4499,    258.5,  16.1042,  34.7203,2,  34.7139,2,   -999.0,9,    205.3,2,     4.68,2,     5.55,2,     0.01,2,     0.43,2,    2.534,2,    1.279,2, -999.000,9,-999.0000,9,  -999.00,9,   2035.9,2,   -999.0,9,     7.95,2,-999.0000,-999.000, 16.0632,-999.000
      325023_1,  P14N,    88,  1,     27,     27,2,19930730,0103, 18.5018, 179.0040, 4499,    308.5,  14.0207,  34.5122,2,  34.5050,2,   -999.0,9,    202.0,2,     8.39,2,     8.86,2,     0.01,2,     0.66,2,    2.564,2,    1.229,2, -999.000,9,-999.0000,9,  -999.00,9,   2061.4,2,   2288.0,2,  -999.00,9,-999.0000,-999.000, 13.9761,-999.000
      325023_1,  P14N,    88,  1,     26,     26,2,19930730,0103, 18.5018, 179.0040, 4499,    409.4,  11.0000,  34.2513,2,  34.2485,2,   -999.0,9,    191.4,2,    17.88,2,    15.27,2,     0.01,2,     1.12,2,    2.232,2,    1.061,2, -999.000,9,-999.0000,9,     7.60,2,   2097.0,2,   2265.0,2,  -999.00,9,-999.0000,   0.150, 10.9495,-999.000
      325023_1,  P14N,    88,  1,     25,     25,2,19930730,0103, 18.5018, 179.0040, 4499,    509.4,   8.0201,  34.1212,2,  34.1191,2,   -999.0,9,    134.4,2,    41.71,2,    26.18,2,     0.00,2,     1.90,2, -999.000,5, -999.000,5, -999.000,9,-999.0000,9,  -999.00,9,   2179.1,2,   2282.3,2,     7.60,2,-999.0000,-999.000,  7.9681,-999.000
      325023_1,  P14N,    88,  1,     24,     24,2,19930730,0103, 18.5018, 179.0040, 4499,    609.4,   6.2152,  34.1792,2,  34.1794,2,   -999.0,9,     67.8,2,    68.37,2,    35.53,2,     0.00,2,     2.58,2, -999.000,5, -999.000,5, -999.000,9,-999.0000,9,    10.30,2,   2260.9,2,   2304.7,2,     7.43,2,-999.0000,   0.150,  6.1608,-999.000
      325023_1,  P14N,    88,  1,     23,     23,2,19930730,0103, 18.5018, 179.0040, 4499,    709.3,   5.6783,  34.3344,2,  34.3353,2,   -999.0,9,     45.7,2,    79.40,2,    38.85,2,     0.00,2,     2.81,2, -999.000,5, -999.000,5, -999.000,9,-999.0000,9,  -999.00,9,   2291.7,2,   2336.8,2,     7.40,2,-999.0000,-999.000,  5.6172,-999.000
      325023_1,  P14N,    88,  1,     22,     22,2,19930730,0103, 18.5018, 179.0040, 4499,    808.3,   5.2805,  34.4328,2,  34.4332,2,   -999.0,9,     47.8,2,    86.79,2,    39.84,2,     0.00,2,     2.86,2, -999.000,5, -999.000,5,    0.031,2,-999.0000,9,    15.00,2,   2303.0,2,   2341.6,2,     7.41,2,-999.0000,   0.150,  5.2126,   0.008
      325023_1,  P14N,    88,  1,     21,     21,2,19930730,0103, 18.5018, 179.0040, 4499,    909.8,   4.8199,  34.4812,2,  34.4817,2,   -999.0,9,     56.2,2,    94.20,2,    39.93,2,     0.00,2,     2.85,2, -999.000,5, -999.000,5,    0.026,2,-999.0000,9,  -999.00,9,   2310.5,2,   2359.2,2,     7.43,2,-999.0000,-999.000,  4.7460,   0.008
      325023_1,  P14N,    88,  1,     20,     20,2,19930730,0103, 18.5018, 179.0040, 4499,   1009.5,   4.4884,  34.5016,2,  34.5015,2,   -999.0,9,     63.3,2,   100.76,2,    39.87,2,     0.00,2,     2.84,2, -999.000,5, -999.000,5, -999.000,9,-999.0000,9,  -999.00,9,   2315.0,2,   2360.3,2,     7.44,2,-999.0000,-999.000,  4.4081,-999.000
      325023_1,  P14N,    88,  1,     19,     19,2,19930730,0103, 18.5018, 179.0040, 4499,   1211.0,   3.7085,  34.5414,2,  34.5407,2,   -999.0,9,     67.7,2,   116.49,2,    40.42,2,     0.00,2,     2.87,2, -999.000,5, -999.000,5, -999.000,9,-999.0000,9,    16.90,2,   2332.6,2,   2381.9,2,     7.44,2,-999.0000,   0.150,  3.6176,-999.000
      325023_1,  P14N,    88,  1,     18,     18,2,19930730,0103, 18.5018, 179.0040, 4499,   1413.2,   3.2142,  34.5625,2,  34.5620,2,   -999.0,9,     74.4,2,   127.51,2,    40.46,2,     0.00,2,     2.86,2, -999.000,5, -999.000,5, -999.000,9,-999.0000,9,  -999.00,9,   2338.8,2,   2391.5,2,  -999.00,9,-999.0000,-999.000,  3.1112,-999.000
      325023_1,  P14N,    88,  1,     17,     17,2,19930730,0103, 18.5018, 179.0040, 4499,   1614.9,   2.7397,  34.5835,2,  34.5832,2,   -999.0,9,     82.7,2,   137.05,2,    40.04,2,     0.00,2,     2.82,2, -999.000,5, -999.000,5, -999.000,9,-999.0000,9,    21.10,2,   2347.1,2,   2402.9,2,  -999.00,9,-999.0000,   0.150,  2.6254,-999.000
      325023_1,  P14N,    88,  1,     16,     16,2,19930730,0103, 18.5018, 179.0040, 4499,   1816.5,   2.3712,  34.6033,2,  34.6028,2,   -999.0,9,     92.0,2,   144.44,2,    39.62,2,     0.00,2,     2.78,2, -999.000,5, -999.000,5, -999.000,9,-999.0000,9,  -999.00,9,   2354.1,2,   2409.5,2,  -999.00,9,-999.0000,-999.000,  2.2448,-999.000
      325023_1,  P14N,    88,  1,     15,     15,2,19930730,0103, 18.5018, 179.0040, 4499,   2018.5,   2.0973,  34.6234,2,  34.6232,2,   -999.0,9,    101.3,2,   149.41,2,    39.11,2,     0.00,2,     2.73,2, -999.000,5, -999.000,5, -999.000,9,-999.0000,9,    23.70,2,   2355.0,2,   2417.9,2,     7.49,2,-999.0000,   0.150,  1.9578,-999.000
      325023_1,  P14N,    88,  1,     14,     14,2,19930730,0103, 18.5018, 179.0040, 4499,   2222.4,   1.9301,  34.6378,2,  34.6376,2,   -999.0,9,    108.9,2,   152.38,2,    38.69,2,     0.00,2,     2.69,2, -999.000,5, -999.000,5, -999.000,9,-999.0000,9,    23.90,2,   2352.3,2,   2417.2,2,  -999.00,9,-999.0000,   0.150,  1.7758,-999.000
      325023_1,  P14N,    88,  1,     13,     13,2,19930730,0103, 18.5018, 179.0040, 4499,   2425.8,   1.8082,  34.6468,2,  34.6474,2,   -999.0,9,    115.7,2,   154.46,2,    38.28,2,     0.00,2,     2.65,2, -999.000,5, -999.000,5, -999.000,9,-999.0000,9,  -999.00,9,   2352.0,2,   2421.7,2,  -999.00,9,-999.0000,-999.000,  1.6381,-999.000
      325023_1,  P14N,    88,  1,     12,     12,2,19930730,0103, 18.5018, 179.0040, 4499,   2629.3,   1.7356,  34.6531,2,  34.6537,2,   -999.0,9,    119.8,2,   155.64,2,    38.00,2,     0.00,2,     2.64,2, -999.000,5, -999.000,5, -999.000,9,-999.0000,9,    21.10,2,   2347.8,2,   2419.0,2,  -999.00,9,-999.0000,   0.150,  1.5486,-999.000
      325023_1,  P14N,    88,  1,     11,     11,2,19930730,0103, 18.5018, 179.0040, 4499,   2831.9,   1.6653,  34.6588,2,  34.6595,2,   -999.0,9,    125.5,2,   155.71,2,    37.63,2,     0.00,2,     2.60,2, -999.000,5, -999.000,5, -999.000,9,-999.0000,9,    19.90,2,   2346.2,2,   2420.7,2,     7.54,2,-999.0000,   0.150,  1.4609,-999.000
      325023_1,  P14N,    88,  1,     10,     10,2,19930730,0103, 18.5018, 179.0040, 4499,   3034.9,   1.5969,  34.6648,2,  34.6662,2,   -999.0,9,    131.7,2,   155.10,2,    37.27,2,     0.00,2,     2.57,2, -999.000,5, -999.000,5, -999.000,9,-999.0000,9,  -999.00,9,   2341.4,2,   2423.8,2,  -999.00,9,-999.0000,-999.000,  1.3747,-999.000
      325023_1,  P14N,    88,  1,      9,      9,2,19930730,0103, 18.5018, 179.0040, 4499,   3237.5,   1.5580,  34.6686,2,  34.6699,2,   -999.0,9,    136.3,2,   154.04,2,    36.86,2,     0.00,2,     2.54,2, -999.000,5, -999.000,5, -999.000,9,-999.0000,9,    17.40,2,   2335.8,2,   2422.5,2,  -999.00,9,-999.0000,   0.150,  1.3169,-999.000
      325023_1,  P14N,    88,  1,      8,      8,2,19930730,0103, 18.5018, 179.0040, 4499,   3441.6,   1.5293,  34.6732,2,  34.6731,2,   -999.0,9,    140.7,2,   152.76,2,    36.63,2,     0.00,2,     2.53,2, -999.000,5, -999.000,5, -999.000,9,-999.0000,9,  -999.00,9,   2337.7,2,   2419.0,2,  -999.00,9,-999.0000,-999.000,  1.2684,-999.000
      325023_1,  P14N,    88,  1,      7,      7,2,19930730,0103, 18.5018, 179.0040, 4499,   3648.8,   1.5008,  34.6772,2,  34.6774,2,   -999.0,9,    145.6,2,   150.59,2,    36.26,2,     0.00,2,     2.52,3, -999.000,5, -999.000,5, -999.000,9,-999.0000,9,  -999.00,9,   2328.2,2,   2431.7,2,     7.56,2,-999.0000,-999.000,  1.2193,-999.000
      325023_1,  P14N,    88,  1,      6,      6,2,19930730,0103, 18.5018, 179.0040, 4499,   3856.1,   1.4805,  34.6810,2,  34.6809,2,   -999.0,9,    150.2,2,   149.10,2,    35.95,2,     0.00,2,     2.47,2, -999.000,5, -999.000,5, -999.000,9,-999.0000,9,  -999.00,9,   2329.2,2,   2420.3,2,  -999.00,9,-999.0000,-999.000,  1.1777,-999.000
      325023_1,  P14N,    88,  1,      5,      5,2,19930730,0103, 18.5018, 179.0040, 4499,   4062.1,   1.4722,  34.6833,2,  34.6833,2,   -999.0,9,    153.7,2,   147.60,2,    35.67,2,     0.00,2,     2.45,2, -999.000,5, -999.000,5, -999.000,9,-999.0000,9,    13.90,2,   2326.6,2,   2417.4,2,  -999.00,9,-999.0000,   0.150,  1.1473,-999.000
      325023_1,  P14N,    88,  1,      4,      4,2,19930730,0103, 18.5018, 179.0040, 4499,   4268.6,   1.4801,  34.6848,2,  34.6845,2,   -999.0,9,    155.4,2,   147.00,2,    35.58,2,     0.00,2,     2.44,2, -999.000,5, -999.000,5, -999.000,9,-999.0000,9,    14.40,2,   2320.8,2,   2415.1,2,  -999.00,9,-999.0000,   0.150,  1.1321,-999.000
      325023_1,  P14N,    88,  1,      3,      3,2,19930730,0103, 18.5018, 179.0040, 4499,   4474.4,   1.4841,  34.6862,2,  34.6862,2,   -999.0,9,    158.3,2,   145.50,2,    35.35,2,     0.00,2,     2.42,2, -999.000,5, -999.000,5, -999.000,9,-999.0000,9,  -999.00,9,   2321.5,2,   2419.3,2,     7.58,2,-999.0000,-999.000,  1.1126,-999.000
      325023_1,  P14N,    88,  1,      2,      2,2,19930730,0103, 18.5018, 179.0040, 4499,   4557.3,   1.4918,  34.6867,2,  34.6866,2,   -999.0,9,    158.5,2,   145.57,2,    35.26,2,     0.00,2,     2.42,2, -999.000,5, -999.000,5, -999.000,9,-999.0000,9,    15.60,2,   2315.4,2,   2415.2,2,  -999.00,9,-999.0000,   0.150,  1.1105,-999.000
      325023_1,  P14N,    88,  1,      1,      1,2,19930730,0103, 18.5018, 179.0040, 4499,   4557.3,   1.4917,  34.6867,2,  34.6866,2,   -999.0,9,    157.5,2,   145.19,2,    35.30,2,     0.00,2,     2.43,2, -999.000,5, -999.000,5, -999.000,9,-999.0000,9,  -999.00,9,   2321.2,2,   2413.2,2,  -999.00,9,-999.0000,-999.000,  1.1104,-999.000