BOTTLE,20131125MIRCJHATS
EXPOCODE,SECT_ID,STNNBR,CASTNO,SAMPNO,BTLNBR,BTLNBR_FLAG_W,DATE,TIME,LATITUDE,LONGITUDE,DEPTH,CTDPRS,CTDTMP,CTDSAL,CTDSAL_FLAG_W,SALNTY,SALNTY_FLAG_W,CTDOXY,CTDOXY_FLAG_W,OXYGEN,OXYGEN_FLAG_W,SILCAT,SILCAT_FLAG_W,NITRAT,NITRAT_FLAG_W,NITRIT,NITRIT_FLAG_W,PHSPHT,PHSPHT_FLAG_W,CFC-11,CFC-11_FLAG_W,CFC-12,CFC-12_FLAG_W,TRITUM,TRITUM_FLAG_W,HELIUM,HELIUM_FLAG_W,DELHE3,DELHE3_FLAG_W,TCARBN,TCARBN_FLAG_W,ALKALI,ALKALI_FLAG_W,PH,PH_FLAG_W,HELIER,DELHER,THETA,TRITER
,,,,,,,,,,,,DBAR,ITS-90,PSS-78,,PSS-78,,UMOL/KG,,UMOL/KG,,UMOL/KG,,UMOL/KG,,UMOL/KG,,UMOL/KG,,PMOL/KG,,PMOL/KG,,TU,,NMOL/KG,,PERCNT,,UMOL/KG,,UMOL/KG,,25_DEG,,NMOL/KG,PERCNT,DEG C,TU
      325024_1,  P14N,   170,  1,     31,     31,2,19930825,0342, -8.5005, 178.9940, 1320,      1.8,  29.7813,  34.3318,2,  34.3204,2,   -999.0,9,    195.7,2,     2.67,2,     0.00,2,     0.00,2,     0.21,2, -999.000,5, -999.000,5, -999.000,9,-999.0000,9,  -999.00,9,   1899.0,2,   2255.0,2,     8.12,2,-999.0000,-999.000, 29.7809,-999.000
      325024_1,  P14N,   170,  1,     30,     30,2,19930825,0342, -8.5005, 178.9940, 1320,     32.4,  28.9902,  34.3384,2,  34.3423,2,   -999.0,9,    196.2,2,     2.18,2,     0.00,2,     0.00,2,     0.20,2, -999.000,5, -999.000,5, -999.000,9,-999.0000,9,  -999.00,9,   1899.0,2,   2253.0,2,     8.12,2,-999.0000,-999.000, 28.9824,-999.000
      325024_1,  P14N,   170,  1,     29,     29,2,19930825,0342, -8.5005, 178.9940, 1320,     62.4,  28.9336,  35.0830,2,  35.1688,2,   -999.0,9,    191.1,2,     2.33,2,     0.64,2,     0.14,2,     0.34,2, -999.000,5, -999.000,5, -999.000,9,-999.0000,9,  -999.00,9,   1970.0,2,   2308.0,2,     8.08,2,-999.0000,-999.000, 28.9185,-999.000
      325024_1,  P14N,   170,  1,     28,     28,2,19930825,0342, -8.5005, 178.9940, 1320,     81.7,  27.7143,  35.6590,2,  35.6854,2,   -999.0,9,    159.4,2,     2.69,2,     3.99,2,     0.53,2,     0.61,2, -999.000,5, -999.000,5, -999.000,9,-999.0000,9,  -999.00,9,   2035.0,2,   2343.0,2,     8.01,2,-999.0000,-999.000, 27.6951,-999.000
      325024_1,  P14N,   170,  1,     27,     27,2,19930825,0342, -8.5005, 178.9940, 1320,    102.1,  26.6697,  35.8960,2,  35.9132,2,   -999.0,9,    146.8,2,     2.41,2,     5.38,2,     1.03,2,     0.71,2, -999.000,5, -999.000,5, -999.000,9,-999.0000,9,  -999.00,9,   2062.0,2,   2361.0,2,     8.00,2,-999.0000,-999.000, 26.6464,-999.000
      325024_1,  P14N,   170,  1,     26,     26,2,19930825,0342, -8.5005, 178.9940, 1320,    122.4,  24.8190,  36.0811,2,  36.0829,2,   -999.0,9,    141.1,2,     2.35,2,     6.75,2,     0.51,2,     0.77,2, -999.000,5, -999.000,5, -999.000,9,-999.0000,9,  -999.00,9,   2087.0,2,   2370.0,2,     7.96,2,-999.0000,-999.000, 24.7925,-999.000
      325024_1,  P14N,   170,  1,     25,     25,2,19930825,0342, -8.5005, 178.9940, 1320,    142.6,  22.9441,  36.0694,2,  36.0602,2,   -999.0,9,    138.6,2,     2.50,2,     7.80,2,     0.08,2,     0.81,2, -999.000,5, -999.000,5, -999.000,9,-999.0000,9,  -999.00,9,   2107.0,2,   2373.0,2,     7.94,2,-999.0000,-999.000, 22.9148,-999.000
      325024_1,  P14N,   170,  1,     24,     24,2,19930825,0342, -8.5005, 178.9940, 1320,    162.9,  21.2036,  35.9201,2,  35.9041,2,   -999.0,9,    137.0,2,     2.65,2,     8.78,2,     0.02,2,     0.87,2, -999.000,5, -999.000,5, -999.000,9,-999.0000,9,  -999.00,9,   2118.0,2,   2365.0,2,     7.88,2,-999.0000,-999.000, 21.1720,-999.000
      325024_1,  P14N,   170,  1,     23,     23,2,19930825,0342, -8.5005, 178.9940, 1320,    182.7,  19.4662,  35.7183,2,  35.7098,2,   -999.0,9,    129.5,2,     4.27,2,    10.68,2,     0.01,2,     1.00,2, -999.000,5, -999.000,5, -999.000,9,-999.0000,9,  -999.00,9,   2131.0,2,   2355.0,2,     7.85,2,-999.0000,-999.000, 19.4330,-999.000
      325024_1,  P14N,   170,  1,     22,     22,2,19930825,0342, -8.5005, 178.9940, 1320,    203.1,  18.4060,  35.5735,2,  35.5821,2,   -999.0,9,    123.7,2,     5.26,2,    12.11,2,     0.01,2,     1.11,2, -999.000,5, -999.000,5, -999.000,9,-999.0000,9,  -999.00,9,   2136.0,2,   2346.0,2,     7.82,2,-999.0000,-999.000, 18.3704,-999.000
      325024_1,  P14N,   170,  1,     21,     21,2,19930825,0342, -8.5005, 178.9940, 1320,    253.4,  14.3107,  35.1119,2,  35.1143,2,   -999.0,9,     94.8,2,    11.73,2,    19.61,2,     0.01,2,     1.61,2, -999.000,5, -999.000,5, -999.000,9,-999.0000,9,  -999.00,9,   2174.0,2,   2320.0,2,     7.69,2,-999.0000,-999.000, 14.2734,-999.000
      325024_1,  P14N,   170,  1,     20,     20,2,19930825,0342, -8.5005, 178.9940, 1320,    303.5,  11.5388,  34.8506,2,  34.8559,2,   -999.0,9,     85.0,2,    18.40,2,    25.49,2,     0.01,2,     1.95,2, -999.000,5, -999.000,5, -999.000,9,-999.0000,9,  -999.00,9,   2197.0,2,   2308.0,2,     7.58,2,-999.0000,-999.000, 11.5000,-999.000
      325024_1,  P14N,   170,  1,     19,     19,2,19930825,0342, -8.5005, 178.9940, 1320,    353.7,  10.0747,  34.7407,2,  34.7401,2,   -999.0,9,     93.5,2,    22.76,2,    28.17,2,     0.00,2,     2.06,2, -999.000,5, -999.000,5, -999.000,9,-999.0000,9,  -999.00,9,   2203.0,2,   2305.0,2,     7.59,2,-999.0000,-999.000, 10.0333,-999.000
      325024_1,  P14N,   170,  1,     18,     18,2,19930825,0342, -8.5005, 178.9940, 1320,    403.6,   8.8987,  34.6617,2,  34.6649,2,   -999.0,9,    101.4,2,    26.91,2,    30.14,2,     0.00,2,     2.14,2, -999.000,5, -999.000,5, -999.000,9,-999.0000,9,  -999.00,9,   2212.0,2,   2305.0,2,     7.55,2,-999.0000,-999.000,  8.8548,-999.000
      325024_1,  P14N,   170,  1,     17,     17,2,19930825,0342, -8.5005, 178.9940, 1320,    454.1,   8.0779,  34.6118,2,  34.6133,2,   -999.0,9,    107.1,2,    30.85,2,    31.43,2,     0.00,2,     2.21,2, -999.000,5, -999.000,5, -999.000,9,-999.0000,9,  -999.00,9,   2218.0,2,   2307.0,2,     7.54,2,-999.0000,-999.000,  8.0311,-999.000
      325024_1,  P14N,   170,  1,     16,     16,2,19930825,0342, -8.5005, 178.9940, 1320,    504.2,   7.7625,  34.5938,2,  34.5959,2,   -999.0,9,    110.7,2,    32.25,2,    31.68,2,     0.01,2,     2.24,2, -999.000,5, -999.000,5, -999.000,9,-999.0000,9,  -999.00,9,   2217.0,2,   2309.0,2,     7.54,2,-999.0000,-999.000,  7.7117,-999.000
      325024_1,  P14N,   170,  1,     15,     15,2,19930825,0342, -8.5005, 178.9940, 1320,    554.5,   7.0770,  34.5565,2,  34.5621,2,   -999.0,9,    109.4,2,    37.66,2,    33.41,2,     0.00,2,     2.35,2, -999.000,5, -999.000,5, -999.000,9,-999.0000,9,  -999.00,9,   2229.0,2,   2311.0,2,     7.54,2,-999.0000,-999.000,  7.0238,-999.000
      325024_1,  P14N,   170,  1,     14,     14,2,19930825,0342, -8.5005, 178.9940, 1320,    603.7,   6.6381,  34.5426,2,  34.5449,2,   -999.0,9,    108.0,2,    41.60,2,    34.45,2,     0.00,2,     2.42,2, -999.000,5, -999.000,5, -999.000,9,-999.0000,9,  -999.00,9,   2234.0,2,   2317.0,2,     7.53,2,-999.0000,-999.000,  6.5819,-999.000
      325024_1,  P14N,   170,  1,     13,     13,2,19930825,0342, -8.5005, 178.9940, 1320,    653.6,   6.2579,  34.5304,2,  34.5311,2,   -999.0,9,    109.7,2,    45.75,2,    35.11,2,     0.00,2,     2.47,2, -999.000,5, -999.000,5, -999.000,9,-999.0000,9,  -999.00,9,   2240.0,2,   2316.0,2,     7.51,2,-999.0000,-999.000,  6.1987,-999.000
      325024_1,  P14N,   170,  1,     12,     12,2,19930825,0342, -8.5005, 178.9940, 1320,    703.3,   5.9735,  34.5225,2,  34.5243,2,   -999.0,9,    111.3,2,    48.84,2,    35.54,2,     0.00,2,     2.49,2, -999.000,5, -999.000,5, -999.000,9,-999.0000,9,  -999.00,9,   2244.0,2,   2319.0,2,     7.52,2,-999.0000,-999.000,  5.9112,-999.000
      325024_1,  P14N,   170,  1,     11,     11,2,19930825,0342, -8.5005, 178.9940, 1320,    751.8,   5.5266,  34.5169,2,  34.5172,2,   -999.0,9,    111.7,2,    54.46,2,    36.33,2,     0.00,2,     2.55,2, -999.000,5, -999.000,5, -999.000,9,-999.0000,9,  -999.00,9,   2249.0,2,   2325.0,2,     7.50,2,-999.0000,-999.000,  5.4622,-999.000
      325024_1,  P14N,   170,  1,     10,     10,2,19930825,0342, -8.5005, 178.9940, 1320,    802.3,   5.4030,  34.5163,2,  34.5174,2,   -999.0,9,    111.4,2,    56.50,2,    36.41,2,     0.00,2,     2.55,2, -999.000,5, -999.000,5, -999.000,9,-999.0000,9,  -999.00,9,   2253.0,2,   2326.0,2,     7.52,2,-999.0000,-999.000,  5.3349,-999.000
      325024_1,  P14N,   170,  1,      9,      9,2,19930825,0342, -8.5005, 178.9940, 1320,    852.2,   5.1115,  34.5175,2,  34.5188,2,   -999.0,9,    111.4,2,    61.91,2,    37.07,2,     0.00,2,     2.57,2, -999.000,5, -999.000,5, -999.000,9,-999.0000,9,  -999.00,9,   2260.0,2,   2332.0,2,     7.50,2,-999.0000,-999.000,  5.0407,-999.000
      325024_1,  P14N,   170,  1,      8,      8,2,19930825,0342, -8.5005, 178.9940, 1320,    903.0,   4.7710,  34.5236,2,  34.5250,2,   -999.0,9,    111.8,2,    68.39,2,    37.24,2,     0.00,2,     2.61,2, -999.000,5, -999.000,5, -999.000,9,-999.0000,9,  -999.00,9,   2269.0,2,   2338.0,2,     7.50,2,-999.0000,-999.000,  4.6980,-999.000
      325024_1,  P14N,   170,  1,      7,      7,2,19930825,0342, -8.5005, 178.9940, 1320,    953.1,   4.6206,  34.5256,2,  34.5276,2,   -999.0,9,    111.9,2,    71.28,2,    37.28,2,     0.00,2,     2.62,2, -999.000,5, -999.000,5, -999.000,9,-999.0000,9,  -999.00,9,   2269.0,2,   2342.0,2,     7.49,2,-999.0000,-999.000,  4.5442,-999.000
      325024_1,  P14N,   170,  1,      6,      6,2,19930825,0342, -8.5005, 178.9940, 1320,   1003.5,   4.3182,  34.5322,2,  34.5325,2,   -999.0,9,    116.3,2,    76.07,2,    37.14,2,     0.00,2,     2.61,2, -999.000,5, -999.000,5, -999.000,9,-999.0000,9,  -999.00,9,   2276.0,2,   2347.0,2,     7.50,2,-999.0000,-999.000,  4.2397,-999.000
      325024_1,  P14N,   170,  1,      5,      5,2,19930825,0342, -8.5005, 178.9940, 1320,   1104.6,   3.8847,  34.5452,2,  34.5452,2,   -999.0,9,    120.9,2,    85.10,2,    37.17,2,     0.00,2,     2.62,2, -999.000,5, -999.000,5, -999.000,9,-999.0000,9,  -999.00,9,   2282.0,2,   2353.0,2,     7.49,2,-999.0000,-999.000,  3.8012,-999.000
      325024_1,  P14N,   170,  1,      4,      4,2,19930825,0342, -8.5005, 178.9940, 1320,   1205.5,   3.4279,  34.5624,2,  34.5625,2,   -999.0,9,    125.2,2,    94.80,2,    37.08,2,     0.00,2,     2.61,2, -999.000,5, -999.000,5, -999.000,9,-999.0000,9,  -999.00,9,   2290.0,2,   2369.0,2,     7.53,2,-999.0000,-999.000,  3.3401,-999.000
      325024_1,  P14N,   170,  1,      3,      3,2,19930825,0342, -8.5005, 178.9940, 1320,   1305.4,   3.0799,  34.5802,2,  34.5803,2,   -999.0,9,    127.2,2,   103.68,2,    37.07,2,     0.00,2,     2.61,2, -999.000,5, -999.000,5, -999.000,9,-999.0000,9,  -999.00,9,   2301.0,2,   2380.0,2,     7.51,2,-999.0000,-999.000,  2.9872,-999.000
      325024_1,  P14N,   170,  1,      2,      2,2,19930825,0342, -8.5005, 178.9940, 1320,   1420.5,   2.8762,  34.5930,2,  34.5930,2,   -999.0,9,    127.0,2,   108.95,2,    37.15,2,     0.00,2,     2.62,2, -999.000,5, -999.000,5, -999.000,9,-999.0000,9,  -999.00,9,   2306.0,2,   2384.0,2,     7.51,2,-999.0000,-999.000,  2.7763,-999.000
      325024_1,  P14N,   170,  1,      1,      1,2,19930825,0342, -8.5005, 178.9940, 1320,   1420.5,   2.8785,  34.5928,2,  34.5923,2,   -999.0,9,    127.0,2,   109.30,2,    37.14,2,     0.00,2,     2.63,2, -999.000,5, -999.000,5, -999.000,9,-999.0000,9,  -999.00,9,   2306.0,2,   2383.0,2,     7.52,2,-999.0000,-999.000,  2.7785,-999.000
      325024_1,  P14N,   900,  1,     18,     18,2,19930825,0712, -8.6135, 178.9700, 3287,      1.8,  29.2469,  34.2368,2,  34.2438,2,   -999.0,9,    195.8,2,     2.61,2,     0.02,2,     0.00,2,     0.19,2,    1.598,2,    0.882,2, -999.000,9,-999.0000,9,  -999.00,9,   -999.0,9,   -999.0,9,  -999.00,9,-999.0000,-999.000, 29.2464,-999.000
      325024_1,  P14N,   900,  1,     17,     17,2,19930825,0712, -8.6135, 178.9700, 3287,     30.9,  29.1168,  34.3238,2,  34.3319,2,   -999.0,9,    196.1,2,     2.54,2,     0.02,2,     0.00,2,     0.19,2,    1.599,2,    0.879,2, -999.000,9,-999.0000,9,  -999.00,9,   -999.0,9,   -999.0,9,  -999.00,9,-999.0000,-999.000, 29.1093,-999.000
      325024_1,  P14N,   900,  1,     16,     16,2,19930825,0712, -8.6135, 178.9700, 3287,     60.9,  28.9902,  34.5577,2,  34.4822,4,   -999.0,9,    196.5,2,     2.26,2,     0.01,2,     0.01,2,     0.21,2,    1.597,2,    0.876,2, -999.000,9,-999.0000,9,  -999.00,9,   -999.0,9,   -999.0,9,  -999.00,9,-999.0000,-999.000, 28.9755,-999.000
      325024_1,  P14N,   900,  1,     15,     15,2,19930825,0712, -8.6135, 178.9700, 3287,     91.0,  27.0295,  35.7917,2,  35.8381,4,   -999.0,9,    146.3,2,     3.03,2,     5.51,2,     0.73,2,     0.70,2,    1.636,2,    0.856,2, -999.000,9,-999.0000,9,  -999.00,9,   1898.0,2,   2253.0,2,     8.12,2,-999.0000,-999.000, 27.0086,-999.000
      325024_1,  P14N,   900,  1,     14,     14,2,19930825,0712, -8.6135, 178.9700, 3287,    120.9,  24.3203,  36.1118,2,  36.1201,2,   -999.0,9,    139.3,2,     2.75,2,     7.15,2,     0.27,2,     0.77,2,    1.735,2,    0.921,2, -999.000,9,-999.0000,9,  -999.00,9,   -999.0,9,   -999.0,9,  -999.00,9,-999.0000,-999.000, 24.2945,-999.000
      325024_1,  P14N,   900,  1,     13,     13,2,19930825,0712, -8.6135, 178.9700, 3287,    151.1,  22.2850,  36.0011,2,  36.0115,2,   -999.0,9,    138.2,2,     2.90,2,     8.14,2,     0.04,2,     0.82,2,    1.733,2,    0.910,2, -999.000,9,-999.0000,9,  -999.00,9,   -999.0,9,   -999.0,9,  -999.00,9,-999.0000,-999.000, 22.2547,-999.000
      325024_1,  P14N,   900,  1,     12,     12,2,19930825,0712, -8.6135, 178.9700, 3287,    198.7,  18.1952,  35.5551,2,  35.5643,2,   -999.0,9,    123.2,2,     5.76,2,    12.15,2,     0.01,2,     1.11,2,    1.461,2,    0.744,2, -999.000,9,-999.0000,9,  -999.00,9,   1902.0,2,   2261.0,2,     8.12,2,-999.0000,-999.000, 18.1607,-999.000
      325024_1,  P14N,   900,  1,     11,     11,2,19930825,0712, -8.6135, 178.9700, 3287,    299.5,  11.9342,  34.8735,2,  34.8789,2,   -999.0,9,     84.8,2,    17.87,2,    24.87,2,     0.00,2,     1.90,2,    0.456,2,    0.229,2, -999.000,9,-999.0000,9,  -999.00,9,   -999.0,9,   -999.0,9,  -999.00,9,-999.0000,-999.000, 11.8952,-999.000
      325024_1,  P14N,   900,  1,     10,     10,2,19930825,0712, -8.6135, 178.9700, 3287,    404.6,   9.2144,  34.6821,2,  34.6832,2,   -999.0,9,     99.2,2,    26.61,2,    29.64,2,     0.00,2,     2.11,2,    0.142,2,    0.068,2, -999.000,9,-999.0000,9,  -999.00,9,   -999.0,9,   -999.0,9,  -999.00,9,-999.0000,-999.000,  9.1694,-999.000
      325024_1,  P14N,   900,  1,      9,      9,2,19930825,0712, -8.6135, 178.9700, 3287,    504.9,   7.8074,  34.5972,2,  34.5978,2,   -999.0,9,    107.7,2,    33.03,2,    32.12,2,     0.00,2,     2.23,2,    0.066,2,    0.035,2, -999.000,9,-999.0000,9,  -999.00,9,   -999.0,9,   -999.0,9,  -999.00,9,-999.0000,-999.000,  7.7563,-999.000
      325024_1,  P14N,   900,  1,      8,      8,2,19930825,0712, -8.6135, 178.9700, 3287,    604.4,   6.8200,  34.5453,2,  34.5507,2,   -999.0,9,    106.2,2,    41.56,2,    34.58,2,     0.00,2,     2.40,2,    0.028,4,    0.010,2, -999.000,9,-999.0000,9,  -999.00,9,   -999.0,9,   -999.0,9,  -999.00,9,-999.0000,-999.000,  6.7629,-999.000
      325024_1,  P14N,   900,  1,      7,      7,2,19930825,0712, -8.6135, 178.9700, 3287,    804.2,   5.2650,  34.5184,2,  34.5197,2,   -999.0,9,    110.1,2,    60.38,2,    36.94,2,     0.00,2,     2.57,2,    0.002,2,   -0.001,2, -999.000,9,-999.0000,9,  -999.00,9,   -999.0,9,   -999.0,9,  -999.00,9,-999.0000,-999.000,  5.1975,-999.000
      325024_1,  P14N,   900,  1,      6,      6,2,19930825,0712, -8.6135, 178.9700, 3287,   1005.2,   4.4973,  34.5298,2,  34.5314,2,   -999.0,9,    113.4,2,    75.24,2,    37.58,2,     0.00,2,     2.62,2, -999.000,5, -999.000,5, -999.000,9,-999.0000,9,  -999.00,9,   1977.0,3,   2328.0,3,     8.07,3,-999.0000,-999.000,  4.4173,-999.000
      325024_1,  P14N,   900,  1,      5,      5,2,19930825,0712, -8.6135, 178.9700, 3287,   1512.8,   2.9589,  34.5875,2,  34.5883,2,   -999.0,9,    126.4,2,   107.79,2,    37.40,2,     0.00,2,     2.61,2, -999.000,5, -999.000,5, -999.000,9,-999.0000,9,  -999.00,9,   -999.0,9,   -999.0,9,  -999.00,9,-999.0000,-999.000,  2.8504,-999.000
      325024_1,  P14N,   900,  1,      4,      4,2,19930825,0712, -8.6135, 178.9700, 3287,   2022.1,   2.2538,  34.6318,2,  34.6330,2,   -999.0,9,    131.5,2,   126.99,2,    37.45,2,     0.00,2,     2.60,2, -999.000,5, -999.000,5, -999.000,9,-999.0000,9,  -999.00,9,   -999.0,9,   -999.0,9,  -999.00,9,-999.0000,-999.000,  2.1117,-999.000
      325024_1,  P14N,   900,  1,      3,      3,2,19930825,0712, -8.6135, 178.9700, 3287,   2530.1,   1.9200,  34.6548,2,  34.6563,2,   -999.0,9,    136.0,2,   136.63,2,    37.22,2,     0.00,2,     2.57,2, -999.000,5, -999.000,5, -999.000,9,-999.0000,9,  -999.00,9,   -999.0,9,   -999.0,9,  -999.00,9,-999.0000,-999.000,  1.7384,-999.000
      325024_1,  P14N,   900,  1,      2,      2,2,19930825,0712, -8.6135, 178.9700, 3287,   3040.1,   1.6821,  34.6705,2,  34.6716,2,   -999.0,9,    145.3,2,   140.21,2,    36.64,2,     0.00,2,     2.52,2, -999.000,5, -999.000,5, -999.000,9,-999.0000,9,  -999.00,9,   -999.0,9,   -999.0,9,  -999.00,9,-999.0000,-999.000,  1.4574,-999.000
      325024_1,  P14N,   900,  1,      1,      1,2,19930825,0712, -8.6135, 178.9700, 3287,   3369.3,   1.6139,  34.6763,2,  34.6756,2,   -999.0,9,    150.9,2,   140.32,2,    36.24,2,     0.00,2,     2.49,2, -999.000,5, -999.000,5, -999.000,9,-999.0000,9,  -999.00,9,   -999.0,9,   -999.0,9,  -999.00,9,-999.0000,-999.000,  1.3583,-999.000