BOTTLE,20131125MIRCJHATS
EXPOCODE,SECT_ID,STNNBR,CASTNO,SAMPNO,BTLNBR,BTLNBR_FLAG_W,DATE,TIME,LATITUDE,LONGITUDE,DEPTH,CTDPRS,CTDTMP,CTDSAL,CTDSAL_FLAG_W,SALNTY,SALNTY_FLAG_W,CTDOXY,CTDOXY_FLAG_W,OXYGEN,OXYGEN_FLAG_W,SILCAT,SILCAT_FLAG_W,NITRAT,NITRAT_FLAG_W,NITRIT,NITRIT_FLAG_W,PHSPHT,PHSPHT_FLAG_W,CFC-11,CFC-11_FLAG_W,CFC-12,CFC-12_FLAG_W,TRITUM,TRITUM_FLAG_W,HELIUM,HELIUM_FLAG_W,DELHE3,DELHE3_FLAG_W,TCARBN,TCARBN_FLAG_W,ALKALI,ALKALI_FLAG_W,PH,PH_FLAG_W,HELIER,DELHER,THETA,TRITER
,,,,,,,,,,,,DBAR,ITS-90,PSS-78,,PSS-78,,UMOL/KG,,UMOL/KG,,UMOL/KG,,UMOL/KG,,UMOL/KG,,UMOL/KG,,PMOL/KG,,PMOL/KG,,TU,,NMOL/KG,,PERCNT,,UMOL/KG,,UMOL/KG,,25_DEG,,NMOL/KG,PERCNT,DEG C,TU
      325024_1,  P14N,   177,  1,     36,     36,2,19930827,1408,-12.0012, 179.0077, 2577,      2.5,  27.9623,  34.3856,2,  34.3921,2,   -999.0,9,    197.4,2,     3.13,2,     0.10,2,     0.00,2,     0.19,2,    1.617,2,    0.902,2, -999.000,9,-999.0000,9,  -999.00,9,   -999.0,9,   -999.0,9,  -999.00,9,-999.0000,-999.000, 27.9617,-999.000
      325024_1,  P14N,   177,  1,     35,     35,2,19930827,1408,-12.0012, 179.0077, 2577,     30.8,  27.9627,  34.3863,2,  34.3928,2,   -999.0,9,    197.8,2,     2.89,2,     0.10,2,     0.00,2,     0.19,2,    1.603,2,    0.885,2, -999.000,9,-999.0000,9,  -999.00,9,   -999.0,9,   -999.0,9,  -999.00,9,-999.0000,-999.000, 27.9555,-999.000
      325024_1,  P14N,   177,  1,     34,     34,2,19930827,1408,-12.0012, 179.0077, 2577,     61.4,  27.3315,  34.6635,2,  34.7032,2,   -999.0,9,    199.5,2,     2.64,2,     0.10,2,     0.00,2,     0.21,2,    1.645,2,    0.894,2, -999.000,9,-999.0000,9,  -999.00,9,   -999.0,9,   -999.0,9,  -999.00,9,-999.0000,-999.000, 27.3173,-999.000
      325024_1,  P14N,   177,  1,     33,     33,2,19930827,1408,-12.0012, 179.0077, 2577,     90.5,  27.2308,  34.8851,2,  35.0357,4,   -999.0,9,    195.3,2,     2.59,2,     0.09,2,     0.01,2,     0.23,2,    1.651,2,    0.909,2, -999.000,9,-999.0000,9,  -999.00,9,   -999.0,9,   -999.0,9,  -999.00,9,-999.0000,-999.000, 27.2099,-999.000
      325024_1,  P14N,   177,  1,     32,     32,2,19930827,1408,-12.0012, 179.0077, 2577,    120.8,  26.1875,  36.0755,2,  36.0894,2,   -999.0,9,    157.0,2,     2.74,2,     3.06,2,     0.54,2,     0.55,2,    1.664,2,    0.874,2, -999.000,9,-999.0000,9,  -999.00,9,   -999.0,9,   -999.0,9,  -999.00,9,-999.0000,-999.000, 26.1603,-999.000
      325024_1,  P14N,   177,  1,     31,     31,2,19930827,1408,-12.0012, 179.0077, 2577,    151.1,  24.3861,  36.1332,2,  36.1516,2,   -999.0,9,    147.9,2,     2.69,2,     5.37,2,     0.06,2,     0.63,2,    1.686,2,    0.891,2, -999.000,9,-999.0000,9,  -999.00,9,   -999.0,9,   -999.0,9,  -999.00,9,-999.0000,-999.000, 24.3537,-999.000
      325024_1,  P14N,   177,  1,     30,     30,2,19930827,1408,-12.0012, 179.0077, 2577,    201.2,  21.2467,  35.9685,2,  35.9587,2,   -999.0,9,    148.5,2,     2.64,2,     7.16,2,     0.00,2,     0.72,2,    1.696,2,    0.887,2, -999.000,9,-999.0000,9,  -999.00,9,   -999.0,9,   -999.0,9,  -999.00,9,-999.0000,-999.000, 21.2076,-999.000
      325024_1,  P14N,   177,  1,     29,     29,2,19930827,1408,-12.0012, 179.0077, 2577,    250.9,  17.3072,  35.4431,2,  35.4277,2,   -999.0,9,    127.2,2,     6.09,2,    12.59,2,     0.00,2,     1.11,2,    1.318,2,    0.671,2, -999.000,9,-999.0000,9,  -999.00,9,   -999.0,9,   -999.0,9,  -999.00,9,-999.0000,-999.000, 17.2651,-999.000
      325024_1,  P14N,   177,  1,     28,     28,2,19930827,1408,-12.0012, 179.0077, 2577,    303.8,  13.9463,  35.0525,2,  35.0462,2,   -999.0,9,    115.0,2,    10.91,2,    18.10,2,     0.00,2,     1.46,2,    0.829,2,    0.420,2, -999.000,9,-999.0000,9,  -999.00,9,   -999.0,9,   -999.0,9,  -999.00,9,-999.0000,-999.000, 13.9023,-999.000
      325024_1,  P14N,   177,  1,     27,     27,2,19930827,1408,-12.0012, 179.0077, 2577,    353.6,  11.3882,  34.8118,2,  34.8019,2,   -999.0,9,    122.5,2,    15.33,2,    22.13,2,     0.00,2,     1.68,2, -999.000,5, -999.000,5, -999.000,9,-999.0000,9,  -999.00,9,   -999.0,9,   -999.0,9,  -999.00,9,-999.0000,-999.000, 11.3434,-999.000
      325024_1,  P14N,   177,  1,     26,     26,2,19930827,1408,-12.0012, 179.0077, 2577,    403.2,   9.5964,  34.6496,2,  34.6450,2,   -999.0,9,    148.0,2,    16.06,2,    23.55,2,     0.00,2,     1.72,2,    0.422,2,    0.216,2, -999.000,9,-999.0000,9,  -999.00,9,   -999.0,9,   -999.0,9,  -999.00,9,-999.0000,-999.000,  9.5505,-999.000
      325024_1,  P14N,   177,  1,     25,     25,2,19930827,1408,-12.0012, 179.0077, 2577,    454.4,   8.0419,  34.5243,2,  34.5197,2,   -999.0,9,    170.3,2,    17.17,2,    25.09,2,     0.00,2,     1.79,2, -999.000,5, -999.000,5, -999.000,9,-999.0000,9,  -999.00,9,   -999.0,9,   -999.0,9,  -999.00,9,-999.0000,-999.000,  7.9953,-999.000
      325024_1,  P14N,   177,  1,     24,     24,2,19930827,1408,-12.0012, 179.0077, 2577,    503.6,   6.9268,  34.4511,2,  34.4540,2,   -999.0,9,    177.4,2,    21.00,2,    27.06,2,     0.00,2,     1.90,2,    0.247,2,    0.126,2, -999.000,9,-999.0000,9,  -999.00,9,   -999.0,9,   -999.0,9,  -999.00,9,-999.0000,-999.000,  6.8793,-999.000
      325024_1,  P14N,   177,  1,     23,     23,2,19930827,1408,-12.0012, 179.0077, 2577,    553.5,   6.4714,  34.4410,2,  34.4416,2,   -999.0,9,    172.1,2,    26.19,2,    28.58,2,     0.00,2,     2.01,2, -999.000,5, -999.000,5, -999.000,9,-999.0000,9,  -999.00,9,   -999.0,9,   -999.0,9,  -999.00,9,-999.0000,-999.000,  6.4210,-999.000
      325024_1,  P14N,   177,  1,     22,     22,2,19930827,1408,-12.0012, 179.0077, 2577,    606.2,   6.0834,  34.4477,2,  34.4487,2,   -999.0,9,    161.6,2,    33.32,2,    30.36,2,     0.00,2,     2.12,2, -999.000,5, -999.000,5, -999.000,9,-999.0000,9,  -999.00,9,   -999.0,9,   -999.0,9,  -999.00,9,-999.0000,-999.000,  6.0296,-999.000
      325024_1,  P14N,   177,  1,     21,     21,2,19930827,1408,-12.0012, 179.0077, 2577,    706.4,   5.5366,  34.4524,2,  34.4542,2,   -999.0,9,    155.1,2,    41.61,2,    31.89,2,     0.00,2,     2.23,2,    0.044,6,    0.024,2, -999.000,9,-999.0000,9,  -999.00,9,   -999.0,9,   -999.0,9,  -999.00,9,-999.0000,-999.000,  5.4764,-999.000
      325024_1,  P14N,   177,  1,     20,     20,2,19930827,1408,-12.0012, 179.0077, 2577,    808.2,   5.0012,  34.4736,2,  34.4757,2,   -999.0,9,    145.8,2,    53.59,2,    33.52,2,     0.00,2,     2.34,2,    0.016,2,    0.007,2, -999.000,9,-999.0000,9,  -999.00,9,   -999.0,9,   -999.0,9,  -999.00,9,-999.0000,-999.000,  4.9350,-999.000
      325024_1,  P14N,   177,  1,     19,     19,2,19930827,1408,-12.0012, 179.0077, 2577,    908.1,   4.5893,  34.4992,2,  34.4996,2,   -999.0,9,    134.5,2,    64.81,2,    35.16,2,     0.00,2,     2.45,2,    0.006,2,    0.002,2, -999.000,9,-999.0000,9,  -999.00,9,   -999.0,9,   -999.0,9,  -999.00,9,-999.0000,-999.000,  4.5171,-999.000
      325024_1,  P14N,   177,  1,     18,     18,2,19930827,1408,-12.0012, 179.0077, 2577,   1005.8,   4.1737,  34.5222,2,  34.5221,2,   -999.0,9,    129.8,2,    74.88,2,    35.99,2,     0.00,2,     2.52,2,   -0.001,2,    0.002,2, -999.000,9,-999.0000,9,  -999.00,9,   -999.0,9,   -999.0,9,  -999.00,9,-999.0000,-999.000,  4.0961,-999.000
      325024_1,  P14N,   177,  1,     17,     17,2,19930827,1408,-12.0012, 179.0077, 2577,   1110.6,   3.7659,  34.5367,2,  34.5368,2,   -999.0,9,    131.7,2,    83.61,2,    36.21,2,     0.00,2,     2.53,2, -999.000,5, -999.000,5, -999.000,9,-999.0000,9,  -999.00,9,   -999.0,9,   -999.0,9,  -999.00,9,-999.0000,-999.000,  3.6829,-999.000
      325024_1,  P14N,   177,  1,     16,     16,2,19930827,1408,-12.0012, 179.0077, 2577,   1211.3,   3.4943,  34.5480,2,  34.5470,2,   -999.0,9,    135.0,2,    88.82,2,    36.12,2,     0.00,2,     2.52,2, -999.000,5, -999.000,5, -999.000,9,-999.0000,9,  -999.00,9,   -999.0,9,   -999.0,9,  -999.00,9,-999.0000,-999.000,  3.4053,-999.000
      325024_1,  P14N,   177,  1,     15,     15,2,19930827,1408,-12.0012, 179.0077, 2577,   1310.7,   3.1786,  34.5654,2,  34.5656,2,   -999.0,9,    135.6,2,    96.01,2,    36.16,2,     0.00,2,     2.53,2,    0.003,2,    0.003,2, -999.000,9,-999.0000,9,  -999.00,9,   -999.0,9,   -999.0,9,  -999.00,9,-999.0000,-999.000,  3.0845,-999.000
      325024_1,  P14N,   177,  1,     14,     14,2,19930827,1408,-12.0012, 179.0077, 2577,   1411.6,   2.9428,  34.5758,2,  34.5768,2,   -999.0,9,    139.9,2,   100.06,2,    35.90,2,     0.00,2,     2.51,2, -999.000,5, -999.000,5, -999.000,9,-999.0000,9,  -999.00,9,   -999.0,9,   -999.0,9,  -999.00,9,-999.0000,-999.000,  2.8429,-999.000
      325024_1,  P14N,   177,  1,     13,     13,2,19930827,1408,-12.0012, 179.0077, 2577,   1516.7,   2.8130,  34.5856,2,  34.5862,2,   -999.0,9,    140.2,2,   103.73,2,    35.90,2,     0.00,2,     2.51,2, -999.000,5, -999.000,5, -999.000,9,-999.0000,9,  -999.00,9,   -999.0,9,   -999.0,9,  -999.00,9,-999.0000,-999.000,  2.7059,-999.000
      325024_1,  P14N,   177,  1,     12,     12,2,19930827,1408,-12.0012, 179.0077, 2577,   1616.5,   2.5953,  34.5984,2,  34.5999,2,   -999.0,9,    143.3,2,   108.78,2,    35.68,2,     0.00,2,     2.49,2,   -0.003,2,   -0.002,2, -999.000,9,-999.0000,9,  -999.00,9,   -999.0,9,   -999.0,9,  -999.00,9,-999.0000,-999.000,  2.4826,-999.000
      325024_1,  P14N,   177,  1,     11,     11,2,19930827,1408,-12.0012, 179.0077, 2577,   1717.5,   2.5015,  34.6060,2,  34.6069,2,   -999.0,9,    143.5,2,   111.47,2,    35.76,2,     0.00,2,     2.50,2, -999.000,5, -999.000,5, -999.000,9,-999.0000,9,  -999.00,9,   -999.0,9,   -999.0,9,  -999.00,9,-999.0000,-999.000,  2.3816,-999.000
      325024_1,  P14N,   177,  1,     10,     10,2,19930827,1408,-12.0012, 179.0077, 2577,   1817.3,   2.4059,  34.6140,2,  34.6152,2,   -999.0,9,    143.2,2,   114.95,2,    35.94,2,     0.00,2,     2.50,2, -999.000,5, -999.000,5, -999.000,9,-999.0000,9,  -999.00,9,   -999.0,9,   -999.0,9,  -999.00,9,-999.0000,-999.000,  2.2790,-999.000
      325024_1,  P14N,   177,  1,      9,      9,2,19930827,1408,-12.0012, 179.0077, 2577,   1918.1,   2.3013,  34.6231,2,  34.6238,2,   -999.0,9,    142.8,2,   119.04,2,    36.06,2,     0.00,2,     2.51,2,   -0.002,2,   -0.001,2, -999.000,9,-999.0000,9,  -999.00,9,   -999.0,9,   -999.0,9,  -999.00,9,-999.0000,-999.000,  2.1673,-999.000
      325024_1,  P14N,   177,  1,      8,      8,2,19930827,1408,-12.0012, 179.0077, 2577,   2022.1,   2.2098,  34.6306,2,  34.6316,2,   -999.0,9,    142.6,2,   122.34,2,    36.15,2,     0.00,2,     2.49,2, -999.000,5, -999.000,5, -999.000,9,-999.0000,9,  -999.00,9,   -999.0,9,   -999.0,9,  -999.00,9,-999.0000,-999.000,  2.0683,-999.000
      325024_1,  P14N,   177,  1,      7,      7,2,19930827,1408,-12.0012, 179.0077, 2577,   2123.2,   2.1419,  34.6355,2,  34.6379,2,   -999.0,9,    144.0,2,   124.04,2,    35.97,2,     0.00,2,     2.50,2, -999.000,5, -999.000,5, -999.000,9,-999.0000,9,  -999.00,9,   -999.0,9,   -999.0,9,  -999.00,9,-999.0000,-999.000,  1.9928,-999.000
      325024_1,  P14N,   177,  1,      6,      6,2,19930827,1408,-12.0012, 179.0077, 2577,   2224.5,   2.0525,  34.6420,2,  34.6433,2,   -999.0,9,    144.4,2,   126.55,2,    36.02,2,     0.00,2,     2.51,2, -999.000,5, -999.000,5, -999.000,9,-999.0000,9,  -999.00,9,   -999.0,9,   -999.0,9,  -999.00,9,-999.0000,-999.000,  1.8959,-999.000
      325024_1,  P14N,   177,  1,      5,      5,2,19930827,1408,-12.0012, 179.0077, 2577,   2325.2,   1.9875,  34.6467,2,  34.6482,2,   -999.0,9,    145.2,2,   128.45,2,    36.02,2,     0.00,2,     2.50,2,   -0.002,2,    0.000,2, -999.000,9,-999.0000,9,  -999.00,9,   -999.0,9,   -999.0,9,  -999.00,9,-999.0000,-999.000,  1.8232,-999.000
      325024_1,  P14N,   177,  1,      4,      4,2,19930827,1408,-12.0012, 179.0077, 2577,   2428.5,   1.9169,  34.6520,2,  34.6535,2,   -999.0,9,    145.9,2,   130.97,2,    36.01,2,     0.00,2,     2.50,2, -999.000,5, -999.000,5, -999.000,9,-999.0000,9,  -999.00,9,   -999.0,9,   -999.0,9,  -999.00,9,-999.0000,-999.000,  1.7446,-999.000
      325024_1,  P14N,   177,  1,      3,      3,3,19930827,1408,-12.0012, 179.0077, 2577,   2530.0,   1.8458,  34.6572,2,  34.7084,4,   -999.0,9,    146.0,4,   115.85,4,    33.53,4,     0.00,4,     2.35,4, -999.000,5, -999.000,5, -999.000,9,-999.0000,9,  -999.00,9,   -999.0,9,   -999.0,9,  -999.00,9,-999.0000,-999.000,  1.6657,-999.000
      325024_1,  P14N,   177,  1,      2,      2,2,19930827,1408,-12.0012, 179.0077, 2577,   2593.0,   1.7973,  34.6608,2,  34.6621,2,   -999.0,9,    147.4,2,   134.59,2,    35.88,2,     0.00,2,     2.50,2, -999.000,5, -999.000,5, -999.000,9,-999.0000,9,  -999.00,9,   -999.0,9,   -999.0,9,  -999.00,9,-999.0000,-999.000,  1.6123,-999.000
      325024_1,  P14N,   177,  1,      1,      1,2,19930827,1408,-12.0012, 179.0077, 2577,   2593.1,   1.7983,  34.6608,2,  34.6613,2,   -999.0,9,    147.5,2,   134.68,2,    35.92,2,     0.00,2,     2.50,2,   -0.002,2,    0.000,2, -999.000,9,-999.0000,9,  -999.00,9,   -999.0,9,   -999.0,9,  -999.00,9,-999.0000,-999.000,  1.6133,-999.000