BOTTLE,20131125MIRCJHATS
EXPOCODE,SECT_ID,STNNBR,CASTNO,SAMPNO,BTLNBR,BTLNBR_FLAG_W,DATE,TIME,LATITUDE,LONGITUDE,DEPTH,CTDPRS,CTDTMP,CTDSAL,CTDSAL_FLAG_W,SALNTY,SALNTY_FLAG_W,CTDOXY,CTDOXY_FLAG_W,OXYGEN,OXYGEN_FLAG_W,SILCAT,SILCAT_FLAG_W,NITRAT,NITRAT_FLAG_W,NITRIT,NITRIT_FLAG_W,PHSPHT,PHSPHT_FLAG_W,CFC-11,CFC-11_FLAG_W,CFC-12,CFC-12_FLAG_W,TRITUM,TRITUM_FLAG_W,HELIUM,HELIUM_FLAG_W,DELHE3,DELHE3_FLAG_W,TCARBN,TCARBN_FLAG_W,ALKALI,ALKALI_FLAG_W,PH,PH_FLAG_W,HELIER,DELHER,THETA,TRITER
,,,,,,,,,,,,DBAR,ITS-90,PSS-78,,PSS-78,,UMOL/KG,,UMOL/KG,,UMOL/KG,,UMOL/KG,,UMOL/KG,,UMOL/KG,,PMOL/KG,,PMOL/KG,,TU,,NMOL/KG,,PERCNT,,UMOL/KG,,UMOL/KG,,25_DEG,,NMOL/KG,PERCNT,DEG C,TU
      325024_1,  P14N,   169,  1,     36,     36,2,19930824,2209, -7.9982, 179.0063, 5083,      2.4,  29.1440,  34.3024,2,  34.3090,2,   -999.0,9,    196.6,2,     2.13,2,     0.03,2,     0.01,3,     0.19,2,    1.564,2,    0.848,2, -999.000,9,-999.0000,9,  -999.00,9,   -999.0,9,   -999.0,9,  -999.00,9,-999.0000,-999.000, 29.1434,-999.000
      325024_1,  P14N,   169,  1,     35,     35,2,19930824,2209, -7.9982, 179.0063, 5083,     37.4,  29.0332,  34.3328,2,  34.3474,2,   -999.0,9,    196.3,2,     2.07,2,     0.03,2,     0.01,3,     0.18,2,    1.580,2,    0.861,2, -999.000,9,-999.0000,9,  -999.00,9,   -999.0,9,   -999.0,9,  -999.00,9,-999.0000,-999.000, 29.0241,-999.000
      325024_1,  P14N,   169,  1,     34,     34,2,19930824,2209, -7.9982, 179.0063, 5083,     66.7,  29.1445,  35.1510,2,  35.1570,2,   -999.0,9,    196.0,2,     2.22,2,     0.19,2,     0.07,3,     0.29,2,    1.593,2,    0.858,2, -999.000,9,-999.0000,9,  -999.00,9,   -999.0,9,   -999.0,9,  -999.00,9,-999.0000,-999.000, 29.1283,-999.000
      325024_1,  P14N,   169,  1,     33,     33,2,19930824,2209, -7.9982, 179.0063, 5083,     96.9,  27.8870,  35.6710,2,  35.7450,2,   -999.0,9,    160.2,2,     2.16,2,     3.62,2,     1.16,3,     0.62,2,    1.634,2,    0.867,2, -999.000,9,-999.0000,9,  -999.00,9,   -999.0,9,   -999.0,9,  -999.00,9,-999.0000,-999.000, 27.8641,-999.000
      325024_1,  P14N,   169,  1,     32,     32,2,19930824,2209, -7.9982, 179.0063, 5083,    126.3,  25.7704,  36.0980,2,  36.1035,2,   -999.0,9,    139.5,2,     2.10,2,     6.08,2,     0.94,3,     0.75,2,    1.696,2,    0.908,2, -999.000,9,-999.0000,9,  -999.00,9,   -999.0,9,   -999.0,9,  -999.00,9,-999.0000,-999.000, 25.7423,-999.000
      325024_1,  P14N,   169,  1,     31,     31,2,19930824,2209, -7.9982, 179.0063, 5083,    156.1,  22.7682,  36.0684,2,  36.0639,2,   -999.0,9,    139.0,2,     1.82,2,     7.73,2,     0.04,3,     0.81,2,    1.785,2,    0.947,2, -999.000,9,-999.0000,9,  -999.00,9,   -999.0,9,   -999.0,9,  -999.00,9,-999.0000,-999.000, 22.7364,-999.000
      325024_1,  P14N,   169,  1,     30,     30,2,19930824,2209, -7.9982, 179.0063, 5083,    206.4,  18.0645,  35.5492,2,  35.5226,2,   -999.0,9,    119.1,2,     5.50,2,    12.76,2,     0.02,3,     1.16,2,    1.549,2,    0.784,2, -999.000,9,-999.0000,9,  -999.00,9,   -999.0,9,   -999.0,9,  -999.00,9,-999.0000,-999.000, 18.0288,-999.000
      325024_1,  P14N,   169,  1,     29,     29,2,19930824,2209, -7.9982, 179.0063, 5083,    256.8,  14.5422,  35.1366,2,  35.1173,2,   -999.0,9,     93.9,2,    11.39,2,    19.52,2,     0.01,3,     1.59,2,    0.865,2,    0.450,2, -999.000,9,-999.0000,9,  -999.00,9,   -999.0,9,   -999.0,9,  -999.00,9,-999.0000,-999.000, 14.5040,-999.000
      325024_1,  P14N,   169,  1,     28,     28,2,19930824,2209, -7.9982, 179.0063, 5083,    306.5,  11.1990,  34.8319,2,  34.8259,2,   -999.0,9,     95.5,2,    18.62,2,    25.49,2,     0.01,3,     1.89,2,    0.357,2,    0.178,2, -999.000,9,-999.0000,9,  -999.00,9,   -999.0,9,   -999.0,9,  -999.00,9,-999.0000,-999.000, 11.1606,-999.000
      325024_1,  P14N,   169,  1,     27,     27,2,19930824,2209, -7.9982, 179.0063, 5083,    406.8,   8.9832,  34.6674,2,  34.6651,2,   -999.0,9,    110.2,2,    25.64,2,    28.92,2,     0.01,3,     2.07,2,    0.158,2,    0.087,2, -999.000,9,-999.0000,9,  -999.00,9,   -999.0,9,   -999.0,9,  -999.00,9,-999.0000,-999.000,  8.9387,-999.000
      325024_1,  P14N,   169,  1,     26,     26,2,19930824,2209, -7.9982, 179.0063, 5083,    506.0,   7.6372,  34.5861,2,  34.5853,2,   -999.0,9,    113.8,2,    32.46,2,    31.59,2,     0.01,3,     2.22,2,    0.070,2,    0.033,2, -999.000,9,-999.0000,9,  -999.00,9,   -999.0,9,   -999.0,9,  -999.00,9,-999.0000,-999.000,  7.5866,-999.000
      325024_1,  P14N,   169,  1,     25,     25,2,19930824,2209, -7.9982, 179.0063, 5083,    605.5,   6.5589,  34.5395,2,  34.5398,2,   -999.0,9,    110.6,2,    41.72,2,    34.16,2,     0.01,3,     2.40,2,    0.021,2,    0.012,2, -999.000,9,-999.0000,9,  -999.00,9,   -999.0,9,   -999.0,9,  -999.00,9,-999.0000,-999.000,  6.5030,-999.000
      325024_1,  P14N,   169,  1,     24,     24,2,19930824,2209, -7.9982, 179.0063, 5083,    705.0,   5.8518,  34.5242,2,  34.5250,2,   -999.0,9,    106.8,2,    51.01,2,    35.99,2,     0.01,3,     2.54,2,    0.005,6,    0.002,6, -999.000,9,-999.0000,9,  -999.00,9,   -999.0,9,   -999.0,9,  -999.00,9,-999.0000,-999.000,  5.7899,-999.000
      325024_1,  P14N,   169,  1,     23,     23,2,19930824,2209, -7.9982, 179.0063, 5083,    804.5,   5.2932,  34.5209,2,  34.5209,2,   -999.0,9,    108.7,2,    59.66,2,    36.56,2,     0.01,3,     2.58,2,    0.008,2,    0.004,2, -999.000,9,-999.0000,9,  -999.00,9,   -999.0,9,   -999.0,9,  -999.00,9,-999.0000,-999.000,  5.2255,-999.000
      325024_1,  P14N,   169,  1,     22,     22,2,19930824,2209, -7.9982, 179.0063, 5083,    903.9,   4.8516,  34.5226,2,  34.5237,2,   -999.0,9,    110.7,2,    67.22,2,    37.09,2,     0.01,3,     2.63,2,    0.001,2,   -0.001,2, -999.000,9,-999.0000,9,  -999.00,9,   -999.0,9,   -999.0,9,  -999.00,9,-999.0000,-999.000,  4.7779,-999.000
      325024_1,  P14N,   169,  1,     21,     21,2,19930824,2209, -7.9982, 179.0063, 5083,   1003.4,   4.4580,  34.5302,2,  34.5315,2,   -999.0,9,    116.0,2,    74.57,2,    36.80,2,     0.01,3,     2.61,2,    0.002,2,    0.001,2, -999.000,9,-999.0000,9,  -999.00,9,   -999.0,9,   -999.0,9,  -999.00,9,-999.0000,-999.000,  4.3785,-999.000
      325024_1,  P14N,   169,  1,     20,     20,2,19930824,2209, -7.9982, 179.0063, 5083,   1203.7,   3.7473,  34.5508,2,  34.5497,2,   -999.0,9,    124.0,2,    87.78,2,    36.55,2,     0.01,3,     2.60,2,    0.000,2,    0.001,2, -999.000,9,-999.0000,9,  -999.00,9,   -999.0,9,   -999.0,9,  -999.00,9,-999.0000,-999.000,  3.6567,-999.000
      325024_1,  P14N,   169,  1,     19,     19,2,19930824,2209, -7.9982, 179.0063, 5083,   1405.1,   3.1234,  34.5805,2,  34.5807,2,   -999.0,9,    126.4,2,   103.31,2,    36.76,2,     0.01,3,     2.62,2, -999.000,5, -999.000,5, -999.000,9,-999.0000,9,  -999.00,9,   -999.0,9,   -999.0,9,  -999.00,9,-999.0000,-999.000,  3.0221,-999.000
      325024_1,  P14N,   169,  1,     18,     18,2,19930824,2209, -7.9982, 179.0063, 5083,   1606.3,   2.6998,  34.6032,2,  34.6038,2,   -999.0,9,    129.1,2,   112.83,2,    36.93,2,     0.01,3,     2.62,2, -999.000,5, -999.000,5, -999.000,9,-999.0000,9,  -999.00,9,   -999.0,9,   -999.0,9,  -999.00,9,-999.0000,-999.000,  2.5867,-999.000
      325024_1,  P14N,   169,  1,     17,     17,2,19930824,2209, -7.9982, 179.0063, 5083,   1808.6,   2.4394,  34.6198,2,  34.6195,2,   -999.0,9,    130.7,2,   119.45,2,    36.87,2,     0.01,3,     2.61,2,   -0.003,2,    0.001,2, -999.000,9,-999.0000,9,  -999.00,9,   -999.0,9,   -999.0,9,  -999.00,9,-999.0000,-999.000,  2.3127,-999.000
      325024_1,  P14N,   169,  1,     16,     16,2,19930824,2209, -7.9982, 179.0063, 5083,   2009.9,   2.2315,  34.6334,2,  34.6330,2,   -999.0,9,    132.8,2,   125.19,2,    36.85,2,     0.01,3,     2.61,2, -999.000,5, -999.000,5, -999.000,9,-999.0000,9,  -999.00,9,   -999.0,9,   -999.0,9,  -999.00,9,-999.0000,-999.000,  2.0907,-999.000
      325024_1,  P14N,   169,  1,     15,     15,2,19930824,2209, -7.9982, 179.0063, 5083,   2211.3,   2.0526,  34.6460,2,  34.6448,2,   -999.0,9,    135.5,2,   129.13,2,    36.65,2,     0.01,3,     2.60,2, -999.000,5, -999.000,5, -999.000,9,-999.0000,9,  -999.00,9,   -999.0,9,   -999.0,9,  -999.00,9,-999.0000,-999.000,  1.8972,-999.000
      325024_1,  P14N,   169,  1,     14,     14,2,19930824,2209, -7.9982, 179.0063, 5083,   2412.7,   1.9142,  34.6554,2,  34.6562,2,   -999.0,9,    138.4,2,   133.08,2,    36.54,2,     0.01,3,     2.58,2,    0.001,2,   -0.001,2, -999.000,9,-999.0000,9,  -999.00,9,   -999.0,9,   -999.0,9,  -999.00,9,-999.0000,-999.000,  1.7433,-999.000
      325024_1,  P14N,   169,  1,     13,     13,2,19930824,2209, -7.9982, 179.0063, 5083,   2613.4,   1.8024,  34.6638,2,  34.6640,2,   -999.0,9,    139.0,2,   137.74,2,    36.57,2,     0.01,3,     2.59,2, -999.000,5, -999.000,5, -999.000,9,-999.0000,9,  -999.00,9,   -999.0,9,   -999.0,9,  -999.00,9,-999.0000,-999.000,  1.6154,-999.000
      325024_1,  P14N,   169,  1,     12,     12,2,19930824,2209, -7.9982, 179.0063, 5083,   2814.6,   1.7353,  34.6673,2,  34.6681,2,   -999.0,9,    142.4,2,   138.50,2,    36.32,2,     0.01,3,     2.57,2, -999.000,5, -999.000,5, -999.000,9,-999.0000,9,  -999.00,9,   -999.0,9,   -999.0,9,  -999.00,9,-999.0000,-999.000,  1.5311,-999.000
      325024_1,  P14N,   169,  1,     11,     11,2,19930824,2209, -7.9982, 179.0063, 5083,   3018.2,   1.6724,  34.6722,2,  34.6722,2,   -999.0,9,    146.2,2,   138.56,2,    35.99,2,     0.01,3,     2.54,2,    0.001,2,    0.002,2, -999.000,9,-999.0000,9,  -999.00,9,   -999.0,9,   -999.0,9,  -999.00,9,-999.0000,-999.000,  1.4500,-999.000
      325024_1,  P14N,   169,  1,     10,     10,2,19930824,2209, -7.9982, 179.0063, 5083,   3222.3,   1.6159,  34.6762,2,  34.6763,2,   -999.0,9,    151.0,2,   138.16,2,    35.79,2,     0.01,3,     2.51,2, -999.000,5, -999.000,5, -999.000,9,-999.0000,9,  -999.00,9,   -999.0,9,   -999.0,9,  -999.00,9,-999.0000,-999.000,  1.3749,-999.000
      325024_1,  P14N,   169,  1,      9,      9,2,19930824,2209, -7.9982, 179.0063, 5083,   3425.9,   1.5789,  34.6796,2,  34.6793,2,   -999.0,9,    154.9,2,   137.75,2,    35.50,2,     0.01,3,     2.49,2, -999.000,5, -999.000,5, -999.000,9,-999.0000,9,  -999.00,9,   -999.0,9,   -999.0,9,  -999.00,9,-999.0000,-999.000,  1.3184,-999.000
      325024_1,  P14N,   169,  1,      8,      8,2,19930824,2209, -7.9982, 179.0063, 5083,   3628.6,   1.5255,  34.6829,2,  34.6832,2,   -999.0,9,    159.1,2,   137.12,2,    35.11,2,     0.01,3,     2.48,2, -999.000,5, -999.000,5, -999.000,9,-999.0000,9,  -999.00,9,   -999.0,9,   -999.0,9,  -999.00,9,-999.0000,-999.000,  1.2454,-999.000
      325024_1,  P14N,   169,  1,      7,      7,2,19930824,2209, -7.9982, 179.0063, 5083,   3828.8,   1.4746,  34.6870,2,  34.6869,2,   -999.0,9,    164.2,2,   136.72,2,    34.91,2,     0.01,3,     2.45,2,   -0.003,2,   -0.002,2, -999.000,9,-999.0000,9,  -999.00,9,   -999.0,9,   -999.0,9,  -999.00,9,-999.0000,-999.000,  1.1748,-999.000
      325024_1,  P14N,   169,  1,      6,      6,2,19930824,2209, -7.9982, 179.0063, 5083,   4028.1,   1.4063,  34.6918,2,  34.6922,2,   -999.0,9,    172.7,2,   132.84,2,    34.22,2,     0.01,3,     2.40,2, -999.000,5, -999.000,5, -999.000,9,-999.0000,9,  -999.00,9,   -999.0,9,   -999.0,9,  -999.00,9,-999.0000,-999.000,  1.0869,-999.000
      325024_1,  P14N,   169,  1,      5,      5,2,19930824,2209, -7.9982, 179.0063, 5083,   4229.3,   1.3304,  34.6977,2,  34.6982,2,   -999.0,9,    183.7,2,   127.82,2,    33.39,2,     0.01,3,     2.33,2, -999.000,5, -999.000,5, -999.000,9,-999.0000,9,  -999.00,9,   -999.0,9,   -999.0,9,  -999.00,9,-999.0000,-999.000,  0.9911,-999.000
      325024_1,  P14N,   169,  1,      4,      4,2,19930824,2209, -7.9982, 179.0063, 5083,   4430.5,   1.2773,  34.7018,2,  34.7014,2,   -999.0,9,    190.7,2,   125.56,2,    32.92,2,     0.01,3,     2.30,2,    0.000,2,    0.003,2, -999.000,9,-999.0000,9,  -999.00,9,   -999.0,9,   -999.0,9,  -999.00,9,-999.0000,-999.000,  0.9170,-999.000
      325024_1,  P14N,   169,  1,      3,      3,2,19930824,2209, -7.9982, 179.0063, 5083,   4636.7,   1.2540,  34.7037,2,  34.7031,2,   -999.0,9,    194.2,2,   123.99,2,    32.76,2,     0.01,3,     2.28,2, -999.000,5, -999.000,5, -999.000,9,-999.0000,9,  -999.00,9,   -999.0,9,   -999.0,9,  -999.00,9,-999.0000,-999.000,  0.8708,-999.000
      325024_1,  P14N,   169,  1,      2,      2,2,19930824,2209, -7.9982, 179.0063, 5083,   4846.7,   1.2643,  34.7043,2,  34.7039,2,   -999.0,9,    195.0,2,   123.58,2,    32.56,2,     0.01,3,     2.28,2, -999.000,5, -999.000,5, -999.000,9,-999.0000,9,  -999.00,9,   -999.0,9,   -999.0,9,  -999.00,9,-999.0000,-999.000,  0.8562,-999.000
      325024_1,  P14N,   169,  1,      1,      1,2,19930824,2209, -7.9982, 179.0063, 5083,   5160.0,   1.2846,  34.7047,2,  34.7041,2,   -999.0,9,    194.7,2,   125.01,2,    32.54,2,     0.01,3,     2.28,2,   -0.003,2,   -0.001,2, -999.000,9,-999.0000,9,  -999.00,9,   -999.0,9,   -999.0,9,  -999.00,9,-999.0000,-999.000,  0.8381,-999.000