BOTTLE,20131125MIRCJHATS
EXPOCODE,SECT_ID,STNNBR,CASTNO,SAMPNO,BTLNBR,BTLNBR_FLAG_W,DATE,TIME,LATITUDE,LONGITUDE,DEPTH,CTDPRS,CTDTMP,CTDSAL,CTDSAL_FLAG_W,SALNTY,SALNTY_FLAG_W,CTDOXY,CTDOXY_FLAG_W,OXYGEN,OXYGEN_FLAG_W,SILCAT,SILCAT_FLAG_W,NITRAT,NITRAT_FLAG_W,NITRIT,NITRIT_FLAG_W,PHSPHT,PHSPHT_FLAG_W,CFC-11,CFC-11_FLAG_W,CFC-12,CFC-12_FLAG_W,TRITUM,TRITUM_FLAG_W,HELIUM,HELIUM_FLAG_W,DELHE3,DELHE3_FLAG_W,TCARBN,TCARBN_FLAG_W,ALKALI,ALKALI_FLAG_W,PH,PH_FLAG_W,HELIER,DELHER,THETA,TRITER
,,,,,,,,,,,,DBAR,ITS-90,PSS-78,,PSS-78,,UMOL/KG,,UMOL/KG,,UMOL/KG,,UMOL/KG,,UMOL/KG,,UMOL/KG,,PMOL/KG,,PMOL/KG,,TU,,NMOL/KG,,PERCNT,,UMOL/KG,,UMOL/KG,,25_DEG,,NMOL/KG,PERCNT,DEG C,TU
      325023_1,  P14N,    39,  1,     36,     36,2,19930716,0304, 42.9800, 178.9990, 5623,     12.9,  11.2996,  33.6385,2,  33.6368,2,   -999.0,9,    283.0,2,    18.86,2,     9.48,2,     0.16,2,     0.90,2,    3.882,2,    1.950,2, -999.000,9,-999.0000,9,  -999.00,9,   2042.7,2,   2247.9,2,     7.89,2,-999.0000,-999.000, 11.2980,-999.000
      325023_1,  P14N,    39,  1,     35,     35,2,19930716,0304, 42.9800, 178.9990, 5623,     38.2,   9.3480,  33.8934,2,  33.8859,2,   -999.0,9,    295.3,2,    19.35,2,    10.17,2,     0.22,2,     0.93,2,    4.150,2,    2.076,2, -999.000,9,-999.0000,9,  -999.00,9,   2060.7,2,   2257.7,2,  -999.00,9,-999.0000,-999.000,  9.3439,-999.000
      325023_1,  P14N,    39,  1,     34,     34,2,19930716,0304, 42.9800, 178.9990, 5623,     67.2,   8.5642,  33.9383,2,  33.9389,2,   -999.0,9,    281.8,2,    21.73,2,    12.42,2,     0.23,2,     1.04,2,    4.110,2,    2.066,2, -999.000,9,-999.0000,9,  -999.00,9,   2077.8,2,   2257.4,2,     7.83,2,-999.0000,-999.000,  8.5573,-999.000
      325023_1,  P14N,    39,  1,     33,     33,2,19930716,0304, 42.9800, 178.9990, 5623,     98.4,   8.6120,  33.9997,2,-999.0000,9,   -999.0,9,    267.8,2,    22.41,2,    13.60,2,     0.02,2,     1.08,2,    3.898,2,    1.951,2, -999.000,9,-999.0000,9,  -999.00,9,   2516.9,4,   2268.4,2,  -999.00,9,-999.0000,-999.000,  8.6018,-999.000
      325023_1,  P14N,    39,  1,     32,     32,2,19930716,0304, 42.9800, 178.9990, 5623,    128.0,   8.4152,  34.0039,2,  34.0019,2,   -999.0,9,    265.6,2,    23.09,2,    14.05,2,     0.01,2,     1.12,2,    3.886,2,    1.963,2, -999.000,9,-999.0000,9,  -999.00,9,   2088.6,2,   -999.0,9,     7.81,2,-999.0000,-999.000,  8.4021,-999.000
      325023_1,  P14N,    39,  1,     31,     31,2,19930716,0304, 42.9800, 178.9990, 5623,    159.0,   7.7102,  33.8991,2,  33.8977,2,   -999.0,9,    281.4,2,    22.83,2,    13.88,2,     0.01,2,     1.12,2,    4.201,2,    2.176,2, -999.000,9,-999.0000,9,  -999.00,9,   2082.4,2,   2255.4,2,  -999.00,9,-999.0000,-999.000,  7.6948,-999.000
      325023_1,  P14N,    39,  1,     30,     30,2,19930716,0304, 42.9800, 178.9990, 5623,    209.4,   7.6074,  33.9150,2,  33.9129,2,   -999.0,9,    273.0,2,    24.45,2,    14.69,2,     0.00,2,     1.18,2, -999.000,5, -999.000,5, -999.000,9,-999.0000,9,  -999.00,9,   2090.2,2,   2262.8,2,     7.80,2,-999.0000,-999.000,  7.5871,-999.000
      325023_1,  P14N,    39,  1,     29,     29,2,19930716,0304, 42.9800, 178.9990, 5623,    258.2,   7.4231,  33.9678,2,  33.9692,2,   -999.0,9,    224.0,2,    34.38,2,    19.29,2,     0.00,2,     1.48,2,    3.275,2,    1.622,2, -999.000,9,-999.0000,9,  -999.00,9,   2129.7,2,   2268.9,2,  -999.00,9,-999.0000,-999.000,  7.3984,-999.000
      325023_1,  P14N,    39,  1,     28,     28,2,19930716,0304, 42.9800, 178.9990, 5623,    308.6,   6.4373,  33.9479,2,  33.9460,2,   -999.0,9,    182.9,2,    48.66,2,    24.89,2,     0.00,2,     1.88,2,    2.707,2,    1.320,2, -999.000,9,-999.0000,9,  -999.00,9,   2171.4,2,   2281.5,2,  -999.00,9,-999.0000,-999.000,  6.4100,-999.000
      325023_1,  P14N,    39,  1,     27,     27,2,19930716,0304, 42.9800, 178.9990, 5623,    410.1,   5.0924,  33.9560,2,  33.9540,2,   -999.0,9,    132.0,2,    70.38,2,    31.94,2,     0.00,2,     2.37,2,    1.940,2,    0.908,2, -999.000,9,-999.0000,9,  -999.00,9,   2237.1,2,   2292.6,2,  -999.00,9,-999.0000,-999.000,  5.0601,-999.000
      325023_1,  P14N,    39,  1,     26,     26,2,19930716,0304, 42.9800, 178.9990, 5623,    511.5,   4.4720,  34.0225,2,  34.0173,2,   -999.0,9,     96.0,2,    86.89,2,    36.08,2,     0.00,2,     2.65,2,    1.298,2,    0.600,2, -999.000,9,-999.0000,9,  -999.00,9,   2271.7,2,   2319.9,2,     7.43,2,-999.0000,-999.000,  4.4337,-999.000
      325023_1,  P14N,    39,  1,     25,     25,2,19930716,0304, 42.9800, 178.9990, 5623,    611.8,   4.1816,  34.1210,2,  34.1148,2,   -999.0,9,     68.0,2,   100.83,2,    38.66,2,     0.00,2,     2.82,2,    0.745,2,    0.335,2, -999.000,9,-999.0000,9,  -999.00,9,   2305.4,2,   2324.0,2,  -999.00,9,-999.0000,-999.000,  4.1366,-999.000
      325023_1,  P14N,    39,  1,     24,     24,2,19930716,0304, 42.9800, 178.9990, 5623,    710.1,   3.8655,  34.2031,2,  34.1990,2,   -999.0,9,     50.3,2,   113.15,2,    40.35,2,     0.00,2,     2.93,2, -999.000,5, -999.000,5, -999.000,9,-999.0000,9,  -999.00,9,   2325.5,2,   2337.5,2,     7.36,2,-999.0000,-999.000,  3.8144,-999.000
      325023_1,  P14N,    39,  1,     23,     23,2,19930716,0304, 42.9800, 178.9990, 5623,    811.5,   3.5239,  34.2635,2,  34.2593,2,   -999.0,9,     47.0,3,   124.80,2,    41.59,2,     0.00,2,     3.01,2,    0.223,2,    0.090,2, -999.000,9,-999.0000,9,  -999.00,9,   2342.1,2,   2358.5,2,  -999.00,9,-999.0000,-999.000,  3.4670,-999.000
      325023_1,  P14N,    39,  1,     22,     22,2,19930716,0304, 42.9800, 178.9990, 5623,    913.6,   3.2737,  34.3110,2,  34.3057,2,   -999.0,9,     33.8,2,   133.21,2,    42.20,2,     0.00,2,     3.06,2,    0.134,4,    0.059,4, -999.000,9,-999.0000,9,  -999.00,9,   2354.1,2,   2359.7,2,     7.33,2,-999.0000,-999.000,  3.2107,-999.000
      325023_1,  P14N,    39,  1,     21,     21,2,19930716,0304, 42.9800, 178.9990, 5623,   1015.6,   3.0393,  34.3559,2,  34.3521,2,   -999.0,9,     31.4,2,   140.89,2,    42.48,2,     0.00,2,     3.08,2, -999.000,5, -999.000,5, -999.000,9,-999.0000,9,  -999.00,9,   2364.4,2,   2373.0,2,  -999.00,9,-999.0000,-999.000,  2.9702,-999.000
      325023_1,  P14N,    39,  1,     20,     20,2,19930716,0304, 42.9800, 178.9990, 5623,   1219.1,   2.6804,  34.4289,2,  34.4256,2,   -999.0,9,     30.8,2,   153.10,2,    42.82,2,     0.00,2,     3.10,2,    0.038,2,    0.014,2, -999.000,9,-999.0000,9,  -999.00,9,   2375.7,2,   2389.4,2,     7.33,2,-999.0000,-999.000,  2.5988,-999.000
      325023_1,  P14N,    39,  1,     19,     19,2,19930716,0304, 42.9800, 178.9990, 5623,   1423.3,   2.4364,  34.4830,2,  34.4801,2,   -999.0,9,     33.7,2,   160.98,2,    42.83,2,     0.00,2,     3.10,2, -999.000,5, -999.000,5, -999.000,9,-999.0000,9,  -999.00,9,   2384.0,2,   2393.5,2,  -999.00,9,-999.0000,-999.000,  2.3413,-999.000
      325023_1,  P14N,    39,  1,     18,     18,2,19930716,0304, 42.9800, 178.9990, 5623,   1627.0,   2.2491,  34.5244,2,  34.5215,2,   -999.0,9,     39.8,2,   165.83,2,    42.66,2,     0.00,2,     3.07,2,    0.012,2,    0.001,4, -999.000,9,-999.0000,9,  -999.00,9,   2388.7,2,   2408.0,2,     7.36,2,-999.0000,-999.000,  2.1401,-999.000
      325023_1,  P14N,    39,  1,     17,     17,2,19930716,0304, 42.9800, 178.9990, 5623,   1829.9,   2.1033,  34.5557,2,  34.5528,2,   -999.0,9,     49.5,2,   169.26,2,    42.21,2,     0.00,2,     3.03,2, -999.000,5, -999.000,5, -999.000,9,-999.0000,9,  -999.00,9,   2383.9,2,   2405.8,2,  -999.00,9,-999.0000,-999.000,  1.9796,-999.000
      325023_1,  P14N,    39,  1,     16,     16,2,19930716,0304, 42.9800, 178.9990, 5623,   2031.5,   1.9681,  34.5842,2,  34.5811,2,   -999.0,9,     61.2,2,   171.46,2,    41.45,2,     0.00,2,     2.97,2, -999.000,5, -999.000,5, -999.000,9,-999.0000,9,  -999.00,9,   2379.3,2,   2414.1,2,     7.40,2,-999.0000,-999.000,  1.8297,-999.000
      325023_1,  P14N,    39,  1,     15,     15,2,19930716,0304, 42.9800, 178.9990, 5623,   2237.2,   1.8555,  34.6065,2,  34.6040,2,   -999.0,9,     73.1,2,   171.56,2,    40.82,2,     0.00,2,     2.92,2, -999.000,5, -999.000,5, -999.000,9,-999.0000,9,  -999.00,9,   2374.4,2,   2415.3,2,  -999.00,9,-999.0000,-999.000,  1.7013,-999.000
      325023_1,  P14N,    39,  1,     14,     14,2,19930716,0304, 42.9800, 178.9990, 5623,   2440.6,   1.7554,  34.6255,2,  34.6230,2,   -999.0,9,     86.2,2,   171.05,2,    40.01,2,     0.00,2,     2.86,2, -999.000,5, -999.000,5, -999.000,9,-999.0000,9,  -999.00,9,   2371.5,2,   -999.0,9,     7.46,2,-999.0000,-999.000,  1.5851,-999.000
      325023_1,  P14N,    39,  1,     13,     13,2,19930716,0304, 42.9800, 178.9990, 5623,   2645.2,   1.6810,  34.6394,2,  34.6378,2,   -999.0,9,     97.4,2,   169.49,2,    39.25,2,     0.00,2,     2.81,2,    0.001,2,    0.000,2, -999.000,9,-999.0000,9,  -999.00,9,   2362.2,2,   2422.5,2,  -999.00,9,-999.0000,-999.000,  1.4936,-999.000
      325023_1,  P14N,    39,  1,     12,     12,2,19930716,0304, 42.9800, 178.9990, 5623,   2848.7,   1.6187,  34.6503,2,  34.6482,2,   -999.0,9,    107.9,2,   167.31,2,    38.62,2,     0.00,2,     2.76,2, -999.000,5, -999.000,5, -999.000,9,-999.0000,9,  -999.00,9,   2355.4,2,   2418.2,2,     7.50,2,-999.0000,-999.000,  1.4138,-999.000
      325023_1,  P14N,    39,  1,     11,     11,2,19930716,0304, 42.9800, 178.9990, 5623,   3051.2,   1.5701,  34.6595,2,  34.6568,2,   -999.0,9,    117.5,2,   165.14,2,    37.90,2,     0.00,2,     2.71,2, -999.000,5, -999.000,5, -999.000,9,-999.0000,9,  -999.00,9,   2350.1,2,   2424.9,2,  -999.00,9,-999.0000,-999.000,  1.3470,-999.000
      325023_1,  P14N,    39,  1,     10,     10,2,19930716,0304, 42.9800, 178.9990, 5623,   3355.4,   1.5171,  34.6694,2,  34.6676,2,   -999.0,9,    129.6,2,   161.95,2,    37.23,2,     0.00,2,     2.65,2, -999.000,5, -999.000,5, -999.000,9,-999.0000,9,  -999.00,9,   2342.2,2,   2417.1,2,     7.54,2,-999.0000,-999.000,  1.2652,-999.000
      325023_1,  P14N,    39,  1,      9,      9,2,19930716,0304, 42.9800, 178.9990, 5623,   3661.4,   1.4863,  34.6769,2,  34.6750,2,   -999.0,9,    138.8,2,   159.59,2,    36.52,2,     0.00,2,     2.61,2, -999.000,5, -999.000,5, -999.000,9,-999.0000,9,  -999.00,9,   2333.9,2,   2927.0,4,  -999.00,9,-999.0000,-999.000,  1.2039,-999.000
      325023_1,  P14N,    39,  1,      8,      8,2,19930716,0304, 42.9800, 178.9990, 5623,   3967.5,   1.4726,  34.6818,2,  34.6805,2,   -999.0,9,    145.5,2,   157.65,2,    36.17,2,     0.00,2,     2.57,2, -999.000,5, -999.000,5, -999.000,9,-999.0000,9,  -999.00,9,   -999.0,9,   2415.2,2,     7.57,2,-999.0000,-999.000,  1.1580,-999.000
      325023_1,  P14N,    39,  1,      7,      7,2,19930716,0304, 42.9800, 178.9990, 5623,   4277.4,   1.4728,  34.6859,2,  34.6850,2,   -999.0,9,    149.7,2,   157.96,2,    35.95,2,     0.00,2,     2.55,2, -999.000,5, -999.000,5, -999.000,9,-999.0000,9,  -999.00,9,   2329.2,2,   2426.6,2,  -999.00,9,-999.0000,-999.000,  1.1240,-999.000
      325023_1,  P14N,    39,  1,      6,      6,2,19930716,0304, 42.9800, 178.9990, 5623,   4590.4,   1.4916,  34.6865,2,  34.6866,2,   -999.0,9,    151.6,2,   159.10,2,    35.78,2,     0.00,2,     2.53,2, -999.000,5, -999.000,5, -999.000,9,-999.0000,9,  -999.00,9,   2327.4,2,   2417.7,2,     7.58,2,-999.0000,-999.000,  1.1064,-999.000
      325023_1,  P14N,    39,  1,      5,      5,2,19930716,0304, 42.9800, 178.9990, 5623,   4896.9,   1.5225,  34.6875,2,  34.6874,2,   -999.0,9,    152.5,2,   160.44,2,    35.84,2,     0.00,2,     2.53,2, -999.000,5, -999.000,5, -999.000,9,-999.0000,9,  -999.00,9,   2327.1,2,   2428.9,2,  -999.00,9,-999.0000,-999.000,  1.1000,-999.000
      325023_1,  P14N,    39,  1,      4,      4,2,19930716,0304, 42.9800, 178.9990, 5623,   5202.7,   1.5600,  34.6871,2,  34.6878,2,   -999.0,9,    152.7,2,   160.14,2,    35.76,2,     0.00,2,     2.53,2, -999.000,5, -999.000,5, -999.000,9,-999.0000,9,  -999.00,9,   2329.7,2,   2418.1,2,  -999.00,9,-999.0000,-999.000,  1.0988,-999.000
      325023_1,  P14N,    39,  1,      3,      3,2,19930716,0304, 42.9800, 178.9990, 5623,   5510.1,   1.5990,  34.6872,2,  34.6882,2,   -999.0,9,    153.0,2,   159.63,2,    35.77,2,     0.00,2,     2.53,2, -999.000,5, -999.000,5, -999.000,9,-999.0000,9,  -999.00,9,   2325.8,2,   2419.1,2,  -999.00,9,-999.0000,-999.000,  1.0976,-999.000
      325023_1,  P14N,    39,  1,      1,      1,2,19930716,0304, 42.9800, 178.9990, 5623,   5753.9,   1.6318,  34.6867,2,  34.6892,2,   -999.0,9,    152.9,2,   159.44,2,    35.79,2,     0.00,2,     2.53,2, -999.000,5, -999.000,5, -999.000,9,-999.0000,9,  -999.00,9,   2325.7,2,   2423.0,2,  -999.00,9,-999.0000,-999.000,  1.0975,-999.000
      325023_1,  P14N,    39,  1,      2,      2,2,19930716,0304, 42.9800, 178.9990, 5623,   5756.8,   1.6320,  34.6869,2,  34.6880,2,   -999.0,9,    152.9,2,   159.74,2,    35.92,2,     0.00,2,     2.53,2,    0.006,2,   -0.001,2, -999.000,9,-999.0000,9,  -999.00,9,   2324.6,2,   2427.1,2,     7.58,2,-999.0000,-999.000,  1.0973,-999.000