BOTTLE,20131125MIRCJHATS
EXPOCODE,SECT_ID,STNNBR,CASTNO,SAMPNO,BTLNBR,BTLNBR_FLAG_W,DATE,TIME,LATITUDE,LONGITUDE,DEPTH,CTDPRS,CTDTMP,CTDSAL,CTDSAL_FLAG_W,SALNTY,SALNTY_FLAG_W,CTDOXY,CTDOXY_FLAG_W,OXYGEN,OXYGEN_FLAG_W,SILCAT,SILCAT_FLAG_W,NITRAT,NITRAT_FLAG_W,NITRIT,NITRIT_FLAG_W,PHSPHT,PHSPHT_FLAG_W,CFC-11,CFC-11_FLAG_W,CFC-12,CFC-12_FLAG_W,TRITUM,TRITUM_FLAG_W,HELIUM,HELIUM_FLAG_W,DELHE3,DELHE3_FLAG_W,TCARBN,TCARBN_FLAG_W,ALKALI,ALKALI_FLAG_W,PH,PH_FLAG_W,HELIER,DELHER,THETA,TRITER
,,,,,,,,,,,,DBAR,ITS-90,PSS-78,,PSS-78,,UMOL/KG,,UMOL/KG,,UMOL/KG,,UMOL/KG,,UMOL/KG,,UMOL/KG,,PMOL/KG,,PMOL/KG,,TU,,NMOL/KG,,PERCNT,,UMOL/KG,,UMOL/KG,,25_DEG,,NMOL/KG,PERCNT,DEG C,TU
      325023_1,  P14N,   108,  1,     36,     36,2,19930804,1223,  8.7547, 179.0012, 6038,      2.8,  28.4987,  34.4007,2,  34.4035,2,   -999.0,9,    197.0,2,     2.98,2,     0.03,2,     0.00,2,     0.19,2, -999.000,5, -999.000,5, -999.000,9,-999.0000,9,  -999.00,9,   -999.0,9,   -999.0,9,  -999.00,9,-999.0000,-999.000, 28.4981,-999.000
      325023_1,  P14N,   108,  1,     35,     35,2,19930804,1223,  8.7547, 179.0012, 6038,     39.0,  28.5052,  34.4014,2,  34.4033,2,   -999.0,9,    197.1,2,     2.41,2,     0.03,2,     0.00,2,     0.18,2, -999.000,5, -999.000,5, -999.000,9,-999.0000,9,  -999.00,9,   -999.0,9,   -999.0,9,  -999.00,9,-999.0000,-999.000, 28.4959,-999.000
      325023_1,  P14N,   108,  1,     34,     34,2,19930804,1223,  8.7547, 179.0012, 6038,     68.8,  27.7937,  34.5034,2,  34.5050,2,   -999.0,9,    201.3,2,     2.43,2,     0.03,2,     0.00,2,     0.16,2, -999.000,5, -999.000,5, -999.000,9,-999.0000,9,  -999.00,9,   -999.0,9,   -999.0,9,  -999.00,9,-999.0000,-999.000, 27.7776,-999.000
      325023_1,  P14N,   108,  1,     33,     33,2,19930804,1223,  8.7547, 179.0012, 6038,     99.9,  23.4355,  34.6603,2,  34.6545,2,   -999.0,9,    183.3,2,     4.24,2,     1.10,2,     0.05,2,     0.38,2, -999.000,5, -999.000,5, -999.000,9,-999.0000,9,  -999.00,9,   -999.0,9,   -999.0,9,  -999.00,9,-999.0000,-999.000, 23.4148,-999.000
      325023_1,  P14N,   108,  1,     32,     32,2,19930804,1223,  8.7547, 179.0012, 6038,    130.2,  14.9918,  34.5658,2,  34.5629,2,   -999.0,9,    102.6,2,    16.19,2,    17.71,2,     0.26,2,     1.42,2, -999.000,5, -999.000,5, -999.000,9,-999.0000,9,  -999.00,9,   -999.0,9,   -999.0,9,  -999.00,9,-999.0000,-999.000, 14.9722,-999.000
      325023_1,  P14N,   108,  1,     31,     31,2,19930804,1223,  8.7547, 179.0012, 6038,    160.6,  12.5201,  34.5768,2,  34.5688,2,   -999.0,9,     49.6,2,    25.35,2,    27.35,2,     0.02,2,     2.06,2, -999.000,5, -999.000,5, -999.000,9,-999.0000,9,  -999.00,9,   -999.0,9,   -999.0,9,  -999.00,9,-999.0000,-999.000, 12.4987,-999.000
      325023_1,  P14N,   108,  1,     30,     30,2,19930804,1223,  8.7547, 179.0012, 6038,    210.9,  11.0401,  34.6816,2,  34.6798,2,   -999.0,9,     17.2,2,    32.91,2,    33.41,2,     0.00,2,     2.43,2, -999.000,5, -999.000,5, -999.000,9,-999.0000,9,  -999.00,9,   -999.0,9,   -999.0,9,  -999.00,9,-999.0000,-999.000, 11.0141,-999.000
      325023_1,  P14N,   108,  1,     29,     29,2,19930804,1223,  8.7547, 179.0012, 6038,    261.7,  10.3302,  34.6892,2,  34.6881,2,   -999.0,9,     14.9,2,    35.30,2,    34.80,2,     0.00,2,     2.50,2, -999.000,5, -999.000,5, -999.000,9,-999.0000,9,  -999.00,9,   -999.0,9,   -999.0,9,  -999.00,9,-999.0000,-999.000, 10.2992,-999.000
      325023_1,  P14N,   108,  1,     28,     28,2,19930804,1223,  8.7547, 179.0012, 6038,    312.0,   9.8105,  34.6744,2,  34.6724,2,   -999.0,9,     15.5,2,    37.70,2,    35.57,2,     0.00,2,     2.56,2, -999.000,5, -999.000,5, -999.000,9,-999.0000,9,  -999.00,9,   -999.0,9,   -999.0,9,  -999.00,9,-999.0000,-999.000,  9.7747,-999.000
      325023_1,  P14N,   108,  1,     27,     27,2,19930804,1223,  8.7547, 179.0012, 6038,    410.6,   9.0419,  34.6361,2,  34.6343,2,   -999.0,9,     13.2,2,    43.47,2,    36.75,2,     0.00,2,     2.69,2, -999.000,5, -999.000,5, -999.000,9,-999.0000,9,  -999.00,9,   -999.0,9,   -999.0,9,  -999.00,9,-999.0000,-999.000,  8.9969,-999.000
      325023_1,  P14N,   108,  1,     26,     26,2,19930804,1223,  8.7547, 179.0012, 6038,    508.2,   8.1244,  34.5943,2,  34.5920,2,   -999.0,9,     21.3,2,    50.04,2,    37.80,2,     0.00,2,     2.79,2, -999.000,5, -999.000,5, -999.000,9,-999.0000,9,  -999.00,9,   -999.0,9,   -999.0,9,  -999.00,9,-999.0000,-999.000,  8.0718,-999.000
      325023_1,  P14N,   108,  1,     25,     25,2,19930804,1223,  8.7547, 179.0012, 6038,    607.1,   7.0489,  34.5484,2,  34.5469,2,   -999.0,9,     28.0,2,    61.19,2,    39.51,2,     0.00,2,     2.89,2, -999.000,5, -999.000,5, -999.000,9,-999.0000,9,  -999.00,9,   -999.0,9,   -999.0,9,  -999.00,9,-999.0000,-999.000,  6.9905,-999.000
      325023_1,  P14N,   108,  1,     24,     24,2,19930804,1223,  8.7547, 179.0012, 6038,    706.7,   6.0884,  34.5317,2,  34.5306,2,   -999.0,9,     31.9,2,    73.75,2,    41.29,2,     0.00,2,     2.98,2, -999.000,5, -999.000,5, -999.000,9,-999.0000,9,  -999.00,9,   -999.0,9,   -999.0,9,  -999.00,9,-999.0000,-999.000,  6.0251,-999.000
      325023_1,  P14N,   108,  1,     23,     23,2,19930804,1223,  8.7547, 179.0012, 6038,    806.7,   5.4908,  34.5378,2,  34.5361,2,   -999.0,9,     42.0,2,    81.14,2,    41.76,2,     0.00,2,     2.99,2, -999.000,5, -999.000,5, -999.000,9,-999.0000,9,  -999.00,9,   -999.0,9,   -999.0,9,  -999.00,9,-999.0000,-999.000,  5.4216,-999.000
      325023_1,  P14N,   108,  1,     22,     22,2,19930804,1223,  8.7547, 179.0012, 6038,    908.4,   4.9333,  34.5439,2,  34.5424,2,   -999.0,9,     50.5,2,    90.76,2,    41.86,2,     0.00,2,     2.99,2, -999.000,5, -999.000,5, -999.000,9,-999.0000,9,  -999.00,9,   -999.0,9,   -999.0,9,  -999.00,9,-999.0000,-999.000,  4.8586,-999.000
      325023_1,  P14N,   108,  1,     21,     21,2,19930804,1223,  8.7547, 179.0012, 6038,   1009.7,   4.4771,  34.5530,2,  34.5510,2,   -999.0,9,     57.0,2,    99.20,2,    41.39,2,     0.00,2,     2.98,2, -999.000,5, -999.000,5, -999.000,9,-999.0000,9,  -999.00,9,   -999.0,9,   -999.0,9,  -999.00,9,-999.0000,-999.000,  4.3968,-999.000
      325023_1,  P14N,   108,  1,     20,     20,2,19930804,1223,  8.7547, 179.0012, 6038,   1212.0,   3.6529,  34.5757,2,  34.5740,2,   -999.0,9,     74.2,2,   115.39,2,    40.65,2,     0.00,2,     2.91,2, -999.000,5, -999.000,5, -999.000,9,-999.0000,9,  -999.00,9,   -999.0,9,   -999.0,9,  -999.00,9,-999.0000,-999.000,  3.5624,-999.000
      325023_1,  P14N,   108,  1,     19,     19,2,19930804,1223,  8.7547, 179.0012, 6038,   1414.4,   3.1749,  34.5925,2,  34.5905,2,   -999.0,9,     81.2,2,   125.60,2,    40.46,2,     0.00,2,     2.89,2, -999.000,5, -999.000,5, -999.000,9,-999.0000,9,  -999.00,9,   -999.0,9,   -999.0,9,  -999.00,9,-999.0000,-999.000,  3.0722,-999.000
      325023_1,  P14N,   108,  1,     18,     18,2,19930804,1223,  8.7547, 179.0012, 6038,   1617.3,   2.7764,  34.6085,2,  34.6070,2,   -999.0,9,     89.5,2,   133.81,2,    39.96,2,     0.00,2,     2.84,2, -999.000,5, -999.000,5, -999.000,9,-999.0000,9,  -999.00,9,   -999.0,9,   -999.0,9,  -999.00,9,-999.0000,-999.000,  2.6613,-999.000
      325023_1,  P14N,   108,  1,     17,     17,2,19930804,1223,  8.7547, 179.0012, 6038,   1819.3,   2.4456,  34.6231,2,  34.6211,2,   -999.0,9,     97.3,2,   141.26,2,    39.45,2,     0.00,2,     2.80,2, -999.000,5, -999.000,5, -999.000,9,-999.0000,9,  -999.00,9,   -999.0,9,   -999.0,9,  -999.00,9,-999.0000,-999.000,  2.3179,-999.000
      325023_1,  P14N,   108,  1,     16,     16,2,19930804,1223,  8.7547, 179.0012, 6038,   2022.6,   2.2165,  34.6356,2,  34.6339,2,   -999.0,9,    104.0,2,   146.86,2,    39.17,2,     0.00,2,     2.76,2, -999.000,5, -999.000,5, -999.000,9,-999.0000,9,  -999.00,9,   -999.0,9,   -999.0,9,  -999.00,9,-999.0000,-999.000,  2.0748,-999.000
      325023_1,  P14N,   108,  1,     15,     15,2,19930804,1223,  8.7547, 179.0012, 6038,   2225.9,   2.0307,  34.6471,2,  34.6454,2,   -999.0,9,    108.8,2,   151.66,2,    38.90,2,     0.00,2,     2.73,2, -999.000,5, -999.000,5, -999.000,9,-999.0000,9,  -999.00,9,   -999.0,9,   -999.0,9,  -999.00,9,-999.0000,-999.000,  1.8744,-999.000
      325023_1,  P14N,   108,  1,     14,     14,2,19930804,1223,  8.7547, 179.0012, 6038,   2430.1,   1.9249,  34.6552,2,  34.6537,2,   -999.0,9,    112.6,2,   154.16,2,    38.67,2,     0.00,2,     2.71,2, -999.000,5, -999.000,5, -999.000,9,-999.0000,9,  -999.00,9,   -999.0,9,   -999.0,9,  -999.00,9,-999.0000,-999.000,  1.7523,-999.000
      325023_1,  P14N,   108,  1,     13,     13,2,19930804,1223,  8.7547, 179.0012, 6038,   2634.0,   1.8221,  34.6622,2,  34.6612,2,   -999.0,9,    117.6,2,   156.46,2,    38.26,2,     0.00,2,     2.69,2, -999.000,5, -999.000,5, -999.000,9,-999.0000,9,  -999.00,9,   -999.0,9,   -999.0,9,  -999.00,9,-999.0000,-999.000,  1.6329,-999.000
      325023_1,  P14N,   108,  1,     12,     12,2,19930804,1223,  8.7547, 179.0012, 6038,   2837.8,   1.7589,  34.6667,2,  34.6651,2,   -999.0,9,    122.2,2,   156.64,2,    38.04,2,     0.00,2,     2.65,2, -999.000,5, -999.000,5, -999.000,9,-999.0000,9,  -999.00,9,   -999.0,9,   -999.0,9,  -999.00,9,-999.0000,-999.000,  1.5520,-999.000
      325023_1,  P14N,   108,  1,     11,     11,2,19930804,1223,  8.7547, 179.0012, 6038,   3041.7,   1.6820,  34.6712,2,  34.6686,2,   -999.0,9,    128.5,2,   156.62,2,    37.67,2,     0.00,2,     2.62,2, -999.000,5, -999.000,5, -999.000,9,-999.0000,9,  -999.00,9,   -999.0,9,   -999.0,9,  -999.00,9,-999.0000,-999.000,  1.4572,-999.000
      325023_1,  P14N,   108,  1,     10,     10,2,19930804,1223,  8.7547, 179.0012, 6038,   3348.1,   1.5788,  34.6769,2,  34.6747,2,   -999.0,9,    138.9,2,   155.32,2,    36.99,2,     0.00,2,     2.57,2, -999.000,5, -999.000,5, -999.000,9,-999.0000,9,  -999.00,9,   -999.0,9,   -999.0,9,  -999.00,9,-999.0000,-999.000,  1.3262,-999.000
      325023_1,  P14N,   108,  1,      9,      9,2,19930804,1223,  8.7547, 179.0012, 6038,   3655.4,   1.4905,  34.6829,2,  34.6804,2,   -999.0,9,    149.3,2,   150.25,2,    36.31,2,     0.00,2,     2.51,2, -999.000,5, -999.000,5, -999.000,9,-999.0000,9,  -999.00,9,   -999.0,9,   -999.0,9,  -999.00,9,-999.0000,-999.000,  1.2086,-999.000
      325023_1,  P14N,   108,  1,      8,      8,2,19930804,1223,  8.7547, 179.0012, 6038,   3962.1,   1.3949,  34.6891,2,  34.6879,2,   -999.0,9,    161.9,2,   145.83,2,    35.55,2,     0.00,2,     2.45,2, -999.000,5, -999.000,5, -999.000,9,-999.0000,9,  -999.00,9,   -999.0,9,   -999.0,9,  -999.00,9,-999.0000,-999.000,  1.0830,-999.000
      325023_1,  P14N,   108,  1,      7,      7,2,19930804,1223,  8.7547, 179.0012, 6038,   4269.5,   1.3242,  34.6949,2,  34.6938,2,   -999.0,9,    174.2,2,   138.95,2,    34.65,2,     0.00,2,     2.40,2, -999.000,5, -999.000,5, -999.000,9,-999.0000,9,  -999.00,9,   -999.0,9,   -999.0,9,  -999.00,9,-999.0000,-999.000,  0.9807,-999.000
      325023_1,  P14N,   108,  1,      6,      6,2,19930804,1223,  8.7547, 179.0012, 6038,   4576.1,   1.2925,  34.6986,2,  34.6981,2,   -999.0,9,    181.0,2,   134.18,2,    34.02,2,     0.00,2,     2.34,2, -999.000,5, -999.000,5, -999.000,9,-999.0000,9,  -999.00,9,   -999.0,9,   -999.0,9,  -999.00,9,-999.0000,-999.000,  0.9152,-999.000
      325023_1,  P14N,   108,  1,      5,      5,2,19930804,1223,  8.7547, 179.0012, 6038,   4884.4,   1.2935,  34.7008,2,  34.6997,2,   -999.0,9,    186.3,2,   131.48,2,    33.53,2,     0.00,2,     2.32,2, -999.000,5, -999.000,5, -999.000,9,-999.0000,9,  -999.00,9,   -999.0,9,   -999.0,9,  -999.00,9,-999.0000,-999.000,  0.8801,-999.000
      325023_1,  P14N,   108,  1,      4,      4,2,19930804,1223,  8.7547, 179.0012, 6038,   5193.3,   1.3102,  34.7020,2,  34.7005,2,   -999.0,9,    189.1,2,   130.03,2,    33.44,2,     0.00,2,     2.30,2, -999.000,5, -999.000,5, -999.000,9,-999.0000,9,  -999.00,9,   -999.0,9,   -999.0,9,  -999.00,9,-999.0000,-999.000,  0.8588,-999.000
      325023_1,  P14N,   108,  1,      3,      3,2,19930804,1223,  8.7547, 179.0012, 6038,   5504.1,   1.3373,  34.7027,2,  34.7007,2,   -999.0,9,    190.8,2,   128.98,2,    33.31,2,     0.00,2,     2.30,2, -999.000,5, -999.000,5, -999.000,9,-999.0000,9,  -999.00,9,   -999.0,9,   -999.0,9,  -999.00,9,-999.0000,-999.000,  0.8461,-999.000
      325023_1,  P14N,   108,  1,      2,      2,2,19930804,1223,  8.7547, 179.0012, 6038,   5815.3,   1.3758,  34.7028,2,  34.7013,2,   -999.0,9,    191.0,2,   128.96,2,    33.27,2,     0.00,2,     2.28,2, -999.000,5, -999.000,5, -999.000,9,-999.0000,9,  -999.00,9,   -999.0,9,   -999.0,9,  -999.00,9,-999.0000,-999.000,  0.8430,-999.000
      325023_1,  P14N,   108,  1,      1,      1,2,19930804,1223,  8.7547, 179.0012, 6038,   6103.5,   1.4122,  34.7027,2,  34.7015,2,   -999.0,9,    189.4,2,   128.53,2,    33.23,2,     0.00,2,     2.28,2, -999.000,5, -999.000,5, -999.000,9,-999.0000,9,  -999.00,9,   -999.0,9,   -999.0,9,  -999.00,9,-999.0000,-999.000,  0.8398,-999.000