BOTTLE,20131125MIRCJHATS
EXPOCODE,SECT_ID,STNNBR,CASTNO,SAMPNO,BTLNBR,BTLNBR_FLAG_W,DATE,TIME,LATITUDE,LONGITUDE,DEPTH,CTDPRS,CTDTMP,CTDSAL,CTDSAL_FLAG_W,SALNTY,SALNTY_FLAG_W,CTDOXY,CTDOXY_FLAG_W,OXYGEN,OXYGEN_FLAG_W,SILCAT,SILCAT_FLAG_W,NITRAT,NITRAT_FLAG_W,NITRIT,NITRIT_FLAG_W,PHSPHT,PHSPHT_FLAG_W,CFC-11,CFC-11_FLAG_W,CFC-12,CFC-12_FLAG_W,TRITUM,TRITUM_FLAG_W,HELIUM,HELIUM_FLAG_W,DELHE3,DELHE3_FLAG_W,TCARBN,TCARBN_FLAG_W,ALKALI,ALKALI_FLAG_W,PH,PH_FLAG_W,HELIER,DELHER,THETA,TRITER
,,,,,,,,,,,,DBAR,ITS-90,PSS-78,,PSS-78,,UMOL/KG,,UMOL/KG,,UMOL/KG,,UMOL/KG,,UMOL/KG,,UMOL/KG,,PMOL/KG,,PMOL/KG,,TU,,NMOL/KG,,PERCNT,,UMOL/KG,,UMOL/KG,,25_DEG,,NMOL/KG,PERCNT,DEG C,TU
      325023_1,  P14N,    95,  1,     36,     36,2,19930731,2054, 15.0098, 178.9982, 5405,      2.5,  27.6301,  34.7719,2,  34.7765,3,   -999.0,9,    200.8,2,     3.44,2,     0.00,2,     0.01,3,     0.09,2,    1.739,2,    0.926,2, -999.000,9,-999.0000,9,  -999.00,9,   -999.0,9,   -999.0,9,  -999.00,9,-999.0000,-999.000, 27.6295,-999.000
      325023_1,  P14N,    95,  1,     35,     35,2,19930731,2054, 15.0098, 178.9982, 5405,      2.8,  27.6269,  34.7709,2,  34.7769,3,   -999.0,9,    200.5,2,     3.39,2,     0.00,2,     0.01,3,     0.09,2, -999.000,5, -999.000,5, -999.000,9,-999.0000,9,  -999.00,9,   -999.0,9,   -999.0,9,  -999.00,9,-999.0000,-999.000, 27.6262,-999.000
      325023_1,  P14N,    95,  1,     34,     34,2,19930731,2054, 15.0098, 178.9982, 5405,     40.7,  27.5712,  34.7743,2,  34.7789,3,   -999.0,9,    201.1,2,     3.33,2,     0.00,2,     0.01,3,     0.09,2,    1.795,2,    0.986,2, -999.000,9,-999.0000,9,  -999.00,9,   -999.0,9,   -999.0,9,  -999.00,9,-999.0000,-999.000, 27.5618,-999.000
      325023_1,  P14N,    95,  1,     33,     33,2,19930731,2054, 15.0098, 178.9982, 5405,     71.0,  26.5468,  34.7895,2,  34.7842,3,   -999.0,9,    218.7,2,     3.28,2,     0.00,2,     0.01,3,     0.07,2,    1.869,2,    0.994,2, -999.000,9,-999.0000,9,  -999.00,9,   -999.0,9,   -999.0,9,  -999.00,9,-999.0000,-999.000, 26.5308,-999.000
      325023_1,  P14N,    95,  1,     32,     32,2,19930731,2054, 15.0098, 178.9982, 5405,    101.0,  25.2843,  34.7818,2,  34.7846,3,   -999.0,9,    214.0,2,     3.44,2,     0.01,2,     0.01,3,     0.09,2,    1.941,2,    1.032,2, -999.000,9,-999.0000,9,  -999.00,9,   -999.0,9,   -999.0,9,  -999.00,9,-999.0000,-999.000, 25.2623,-999.000
      325023_1,  P14N,    95,  1,     31,     31,2,19930731,2054, 15.0098, 178.9982, 5405,    130.9,  24.9259,  34.7785,2,  34.7830,3,   -999.0,9,    208.4,2,     3.39,2,     0.04,2,     0.02,3,     0.10,2,    1.931,2,    1.027,2, -999.000,9,-999.0000,9,  -999.00,9,   -999.0,9,   -999.0,9,  -999.00,9,-999.0000,-999.000, 24.8976,-999.000
      325023_1,  P14N,    95,  1,     30,     30,2,19930731,2054, 15.0098, 178.9982, 5405,    160.7,  24.3009,  34.8321,2,  34.8335,3,   -999.0,9,    203.6,2,     3.55,2,     0.05,2,     0.13,3,     0.11,2,    1.998,2,    1.057,2, -999.000,9,-999.0000,9,  -999.00,9,   -999.0,9,   -999.0,9,  -999.00,9,-999.0000,-999.000, 24.2667,-999.000
      325023_1,  P14N,    95,  1,     29,     29,2,19930731,2054, 15.0098, 178.9982, 5405,    211.3,  21.0833,  34.9928,2,  34.9776,3,   -999.0,9,    184.9,2,     4.56,2,     2.20,2,     0.04,3,     0.30,2,    2.191,2,    1.126,2, -999.000,9,-999.0000,9,  -999.00,9,   -999.0,9,   -999.0,9,  -999.00,9,-999.0000,-999.000, 21.0427,-999.000
      325023_1,  P14N,    95,  1,     28,     28,2,19930731,2054, 15.0098, 178.9982, 5405,    261.9,  15.1530,  34.5803,2,  34.5878,3,   -999.0,9,    153.7,2,    11.56,2,    11.12,2,     0.03,3,     0.89,2,    2.124,2,    1.046,2, -999.000,9,-999.0000,9,  -999.00,9,   -999.0,9,   -999.0,9,  -999.00,9,-999.0000,-999.000, 15.1131,-999.000
      325023_1,  P14N,    95,  1,     27,     27,2,19930731,2054, 15.0098, 178.9982, 5405,    312.2,  11.4379,  34.3577,2,  34.3608,3,   -999.0,9,     97.7,2,    26.67,2,    23.14,2,     0.03,3,     1.77,2,    1.220,2,    0.563,2, -999.000,9,-999.0000,9,  -999.00,9,   -999.0,9,   -999.0,9,  -999.00,9,-999.0000,-999.000, 11.3985,-999.000
      325023_1,  P14N,    95,  1,     26,     26,2,19930731,2054, 15.0098, 178.9982, 5405,    411.5,   8.9506,  34.4415,2,  34.4431,3,   -999.0,9,     46.7,2,    45.19,2,    32.71,2,     0.02,3,     2.40,2,    0.210,2,    0.100,2, -999.000,9,-999.0000,9,  -999.00,9,   -999.0,9,   -999.0,9,  -999.00,9,-999.0000,-999.000,  8.9058,-999.000
      325023_1,  P14N,    95,  1,     25,     25,2,19930731,2054, 15.0098, 178.9982, 5405,    511.1,   7.9175,  34.4893,2,  34.4794,3,   -999.0,9,     32.7,2,    54.73,2,    36.30,2,     0.02,3,     2.63,2,    0.039,2,    0.016,2, -999.000,9,-999.0000,9,  -999.00,9,   -999.0,9,   -999.0,9,  -999.00,9,-999.0000,-999.000,  7.8655,-999.000
      325023_1,  P14N,    95,  1,     24,     24,2,19930731,2054, 15.0098, 178.9982, 5405,    611.5,   7.0178,  34.4997,2,  34.4986,3,   -999.0,9,     38.1,2,    63.84,2,    38.01,2,     0.02,3,     2.72,2,    0.010,2,    0.000,2, -999.000,9,-999.0000,9,  -999.00,9,   -999.0,9,   -999.0,9,  -999.00,9,-999.0000,-999.000,  6.9592,-999.000
      325023_1,  P14N,    95,  1,     23,     23,2,19930731,2054, 15.0098, 178.9982, 5405,    711.7,   6.3235,  34.4945,2,  34.4955,3,   -999.0,9,     38.5,2,    72.52,2,    39.37,2,     0.02,3,     2.81,2,    0.006,2,   -0.001,2, -999.000,9,-999.0000,9,  -999.00,9,   -999.0,9,   -999.0,9,  -999.00,9,-999.0000,-999.000,  6.2586,-999.000
      325023_1,  P14N,    95,  1,     22,     22,2,19930731,2054, 15.0098, 178.9982, 5405,    811.8,   5.7267,  34.4960,2,  34.4974,3,   -999.0,9,     36.1,2,    82.08,2,    40.79,2,     0.02,3,     2.90,2,    0.002,6,    0.000,6, -999.000,9,-999.0000,9,  -999.00,9,   -999.0,9,   -999.0,9,  -999.00,9,-999.0000,-999.000,  5.6557,-999.000
      325023_1,  P14N,    95,  1,     21,     21,2,19930731,2054, 15.0098, 178.9982, 5405,    911.3,   5.2309,  34.5135,2,  34.5151,3,   -999.0,9,     39.4,2,    89.92,2,    41.62,2,     0.02,3,     2.94,2,    0.002,2,   -0.001,2, -999.000,9,-999.0000,9,  -999.00,9,   -999.0,9,   -999.0,9,  -999.00,9,-999.0000,-999.000,  5.1540,-999.000
      325023_1,  P14N,    95,  1,     20,     20,2,19930731,2054, 15.0098, 178.9982, 5405,   1011.9,   4.7923,  34.5267,2,  34.5290,3,   -999.0,9,     43.1,2,    97.78,2,    42.12,2,     0.02,3,     2.96,2,    0.000,2,    0.003,2, -999.000,9,-999.0000,9,  -999.00,9,   -999.0,9,   -999.0,9,  -999.00,9,-999.0000,-999.000,  4.7095,-999.000
      325023_1,  P14N,    95,  1,     19,     19,2,19930731,2054, 15.0098, 178.9982, 5405,   1215.5,   4.0016,  34.5549,2,  34.5553,3,   -999.0,9,     57.7,2,   112.80,2,    41.68,2,     0.02,3,     2.93,2, -999.000,5, -999.000,5, -999.000,9,-999.0000,9,  -999.00,9,   -999.0,9,   -999.0,9,  -999.00,9,-999.0000,-999.000,  3.9075,-999.000
      325023_1,  P14N,    95,  1,     18,     18,2,19930731,2054, 15.0098, 178.9982, 5405,   1420.8,   3.3986,  34.5704,2,  34.5712,3,   -999.0,9,     66.6,2,   126.40,2,    41.34,2,     0.02,3,     2.89,2,   -0.002,2,   -0.003,2, -999.000,9,-999.0000,9,  -999.00,9,   -999.0,9,   -999.0,9,  -999.00,9,-999.0000,-999.000,  3.2930,-999.000
      325023_1,  P14N,    95,  1,     17,     17,2,19930731,2054, 15.0098, 178.9982, 5405,   1625.2,   2.9155,  34.5926,2,  34.5943,3,   -999.0,9,     77.7,2,   137.01,2,    40.82,2,     0.01,3,     2.84,2,    0.002,2,   -0.003,3, -999.000,9,-999.0000,9,  -999.00,9,   -999.0,9,   -999.0,9,  -999.00,9,-999.0000,-999.000,  2.7981,-999.000
      325023_1,  P14N,    95,  1,     16,     16,2,19930731,2054, 15.0098, 178.9982, 5405,   1825.1,   2.5143,  34.6105,2,  34.6122,3,   -999.0,9,     88.6,2,   145.71,2,    40.20,2,     0.01,3,     2.78,2, -999.000,5, -999.000,5, -999.000,9,-999.0000,9,  -999.00,9,   -999.0,9,   -999.0,9,  -999.00,9,-999.0000,-999.000,  2.3852,-999.000
      325023_1,  P14N,    95,  1,     15,     15,2,19930731,2054, 15.0098, 178.9982, 5405,   2022.8,   2.2336,  34.6243,2,  34.6259,3,   -999.0,9,     97.7,2,   151.56,2,    39.59,2,     0.01,3,     2.73,2, -999.000,5, -999.000,5, -999.000,9,-999.0000,9,  -999.00,9,   -999.0,9,   -999.0,9,  -999.00,9,-999.0000,-999.000,  2.0916,-999.000
      325023_1,  P14N,    95,  1,     14,     14,2,19930731,2054, 15.0098, 178.9982, 5405,   2224.2,   2.0509,  34.6374,2,  34.6391,3,   -999.0,9,    105.3,2,   154.98,2,    39.16,2,     0.01,3,     2.69,2, -999.000,5, -999.000,5, -999.000,9,-999.0000,9,  -999.00,9,   -999.0,9,   -999.0,9,  -999.00,9,-999.0000,-999.000,  1.8944,-999.000
      325023_1,  P14N,    95,  1,     13,     13,2,19930731,2054, 15.0098, 178.9982, 5405,   2433.5,   1.9184,  34.6466,2,  34.6481,3,   -999.0,9,    111.7,2,   157.74,2,    38.74,2,     0.01,3,     2.66,2,   -0.003,2,   -0.002,2, -999.000,9,-999.0000,9,  -999.00,9,   -999.0,9,   -999.0,9,  -999.00,9,-999.0000,-999.000,  1.7456,-999.000
      325023_1,  P14N,    95,  1,     12,     12,2,19930731,2054, 15.0098, 178.9982, 5405,   2633.7,   1.8170,  34.6527,2,  34.6548,3,   -999.0,9,    116.3,2,   158.93,2,    38.41,2,     0.01,3,     2.64,2, -999.000,5, -999.000,5, -999.000,9,-999.0000,9,  -999.00,9,   -999.0,9,   -999.0,9,  -999.00,9,-999.0000,-999.000,  1.6279,-999.000
      325023_1,  P14N,    95,  1,     11,     11,2,19930731,2054, 15.0098, 178.9982, 5405,   2831.3,   1.7144,  34.6590,2,  34.6614,3,   -999.0,9,    122.8,2,   160.57,2,    37.99,2,     0.01,3,     2.59,2, -999.000,5, -999.000,5, -999.000,9,-999.0000,9,  -999.00,9,   -999.0,9,   -999.0,9,  -999.00,9,-999.0000,-999.000,  1.5091,-999.000
      325023_1,  P14N,    95,  1,     10,     10,2,19930731,2054, 15.0098, 178.9982, 5405,   3036.3,   1.6429,  34.6651,2,  34.6677,3,   -999.0,9,    127.4,2,   160.87,2,    37.61,2,     0.01,3,     2.57,2, -999.000,5, -999.000,5, -999.000,9,-999.0000,9,  -999.00,9,   -999.0,9,   -999.0,9,  -999.00,9,-999.0000,-999.000,  1.4195,-999.000
      325023_1,  P14N,    95,  1,      9,      9,2,19930731,2054, 15.0098, 178.9982, 5405,   3345.8,   1.5728,  34.6726,2,  34.6732,3,   -999.0,9,    135.7,2,   160.50,2,    37.06,2,     0.00,3,     2.53,2,   -0.003,2,   -0.001,2, -999.000,9,-999.0000,9,  -999.00,9,   -999.0,9,   -999.0,9,  -999.00,9,-999.0000,-999.000,  1.3206,-999.000
      325023_1,  P14N,    95,  1,      8,      8,2,19930731,2054, 15.0098, 178.9982, 5405,   3654.6,   1.5243,  34.6777,2,  34.6795,3,   -999.0,9,    142.1,2,   159.01,2,    36.61,2,     0.00,3,     2.50,2, -999.000,5, -999.000,5, -999.000,9,-999.0000,9,  -999.00,9,   -999.0,9,   -999.0,9,  -999.00,9,-999.0000,-999.000,  1.2416,-999.000
      325023_1,  P14N,    95,  1,      7,      7,2,19930731,2054, 15.0098, 178.9982, 5405,   3960.7,   1.4833,  34.6824,2,  34.6844,3,   -999.0,9,    149.1,2,   155.96,2,    36.10,2,     0.00,3,     2.46,2, -999.000,5, -999.000,5, -999.000,9,-999.0000,9,  -999.00,9,   -999.0,9,   -999.0,9,  -999.00,9,-999.0000,-999.000,  1.1692,-999.000
      325023_1,  P14N,    95,  1,      6,      6,2,19930731,2054, 15.0098, 178.9982, 5405,   4267.0,   1.4421,  34.6876,2,  34.6897,3,   -999.0,9,    158.5,2,   150.94,2,    35.42,2,     0.00,3,     2.41,2, -999.000,5, -999.000,5, -999.000,9,-999.0000,9,  -999.00,9,   -999.0,9,   -999.0,9,  -999.00,9,-999.0000,-999.000,  1.0954,-999.000
      325023_1,  P14N,    95,  1,      5,      5,2,19930731,2054, 15.0098, 178.9982, 5405,   4574.3,   1.3977,  34.6927,2,  34.6948,3,   -999.0,9,    169.5,2,   143.73,2,    34.56,2,     0.00,3,     2.36,2, -999.000,5, -999.000,5, -999.000,9,-999.0000,9,  -999.00,9,   -999.0,9,   -999.0,9,  -999.00,9,-999.0000,-999.000,  1.0173,-999.000
      325023_1,  P14N,    95,  1,      4,      4,2,19930731,2054, 15.0098, 178.9982, 5405,   4882.1,   1.3502,  34.6984,2,  34.6997,3,   -999.0,9,    179.1,2,   136.58,2,    33.62,2,     0.00,3,     2.30,2,   -0.001,2,    0.000,2, -999.000,9,-999.0000,9,  -999.00,9,   -999.0,9,   -999.0,9,  -999.00,9,-999.0000,-999.000,  0.9351,-999.000
      325023_1,  P14N,    95,  1,      3,      3,2,19930731,2054, 15.0098, 178.9982, 5405,   5188.8,   1.3442,  34.7007,2,  34.7039,3,   -999.0,9,    184.9,2,   133.39,2,    33.34,2,     0.00,3,     2.27,2, -999.000,5, -999.000,5, -999.000,9,-999.0000,9,  -999.00,9,   -999.0,9,   -999.0,9,  -999.00,9,-999.0000,-999.000,  0.8921,-999.000
      325023_1,  P14N,    95,  1,      2,      2,2,19930731,2054, 15.0098, 178.9982, 5405,   5498.9,   1.3702,  34.7016,2,  34.7049,3,   -999.0,9,    188.2,2,   131.74,2,    33.11,2,     0.00,3,     2.26,2, -999.000,5, -999.000,5, -999.000,9,-999.0000,9,  -999.00,9,   -999.0,9,   -999.0,9,  -999.00,9,-999.0000,-999.000,  0.8784,-999.000
      325023_1,  P14N,    95,  1,      1,      1,2,19930731,2054, 15.0098, 178.9982, 5405,   5498.9,   1.3702,  34.7018,2,  34.7045,3,   -999.0,9,    187.3,2,   131.61,2,    33.10,2,     0.00,3,     2.26,2,   -0.001,2,    0.000,2, -999.000,9,-999.0000,9,  -999.00,9,   -999.0,9,   -999.0,9,  -999.00,9,-999.0000,-999.000,  0.8784,-999.000