BOTTLE,20131125MIRCJHATS
EXPOCODE,SECT_ID,STNNBR,CASTNO,SAMPNO,BTLNBR,BTLNBR_FLAG_W,DATE,TIME,LATITUDE,LONGITUDE,DEPTH,CTDPRS,CTDTMP,CTDSAL,CTDSAL_FLAG_W,SALNTY,SALNTY_FLAG_W,CTDOXY,CTDOXY_FLAG_W,OXYGEN,OXYGEN_FLAG_W,SILCAT,SILCAT_FLAG_W,NITRAT,NITRAT_FLAG_W,NITRIT,NITRIT_FLAG_W,PHSPHT,PHSPHT_FLAG_W,CFC-11,CFC-11_FLAG_W,CFC-12,CFC-12_FLAG_W,TRITUM,TRITUM_FLAG_W,HELIUM,HELIUM_FLAG_W,DELHE3,DELHE3_FLAG_W,TCARBN,TCARBN_FLAG_W,ALKALI,ALKALI_FLAG_W,PH,PH_FLAG_W,HELIER,DELHER,THETA,TRITER
,,,,,,,,,,,,DBAR,ITS-90,PSS-78,,PSS-78,,UMOL/KG,,UMOL/KG,,UMOL/KG,,UMOL/KG,,UMOL/KG,,UMOL/KG,,PMOL/KG,,PMOL/KG,,TU,,NMOL/KG,,PERCNT,,UMOL/KG,,UMOL/KG,,25_DEG,,NMOL/KG,PERCNT,DEG C,TU
      325023_1,  P14N,    23,  1,     36,     36,2,19930711,1954, 50.4750, 179.2667, 6997,      3.9,   7.7098,  32.7219,2,  32.7223,2,   -999.0,9,    311.6,2,    34.42,2,    16.85,2,     0.18,2,     1.49,2,    4.822,2,    2.298,2, -999.000,9,-999.0000,9,  -999.00,9,   2045.7,2,   2213.2,2,     7.83,2,-999.0000,-999.000,  7.7095,-999.000
      325023_1,  P14N,    23,  1,     35,     35,2,19930711,1954, 50.4750, 179.2667, 6997,     39.3,   6.4524,  32.7617,2,  32.7755,2,   -999.0,9,    314.6,2,    36.80,2,    18.79,2,     0.20,2,     1.64,2, -999.000,5, -999.000,5, -999.000,9,-999.0000,9,  -999.00,9,   2067.9,2,   2246.9,2,     7.70,2,-999.0000,-999.000,  6.4490,-999.000
      325023_1,  P14N,    23,  1,     34,     34,2,19930711,1954, 50.4750, 179.2667, 6997,     69.7,   3.5853,  32.9124,2,  32.9291,2,   -999.0,9,    310.0,2,    44.97,2,    23.65,2,     0.34,2,     1.96,2,    5.639,2,    2.658,2, -999.000,9,-999.0000,9,  -999.00,9,   2108.7,2,   2221.3,2,  -999.00,9,-999.0000,-999.000,  3.5810,-999.000
      325023_1,  P14N,    23,  1,     33,     33,2,19930711,1954, 50.4750, 179.2667, 6997,    100.0,   3.4111,  33.3685,2,  33.3472,2,   -999.0,9,    182.6,2,    65.38,2,    33.76,2,     0.03,2,     2.52,2,    3.816,2,    1.799,2, -999.000,9,-999.0000,9,  -999.00,9,   2211.0,2,   2259.1,2,  -999.00,9,-999.0000,-999.000,  3.4048,-999.000
      325023_1,  P14N,    23,  1,     32,     32,2,19930711,1954, 50.4750, 179.2667, 6997,    130.1,   3.6119,  33.7642,2,  33.7536,2,   -999.0,9,     68.4,2,    87.19,2,    42.03,2,     0.01,2,     3.01,2,    2.054,2,    0.951,2, -999.000,9,-999.0000,9,  -999.00,9,   2303.6,2,   2279.3,2,     7.28,2,-999.0000,-999.000,  3.6035,-999.000
      325023_1,  P14N,    23,  1,     31,     31,2,19930711,1954, 50.4750, 179.2667, 6997,    160.4,   3.6440,  33.8754,2,  33.8744,2,   -999.0,9,     20.2,2,    95.41,2,    44.33,2,     0.01,2,     3.15,2,    1.461,2,    0.661,2, -999.000,9,-999.0000,9,  -999.00,9,   2330.5,2,   2297.7,2,  -999.00,9,-999.0000,-999.000,  3.6335,-999.000
      325023_1,  P14N,    23,  1,     30,     30,2,19930711,1954, 50.4750, 179.2667, 6997,    209.7,   3.6546,  33.9543,2,  33.9543,2,   -999.0,9,     16.6,2,   102.08,2,    45.02,2,     0.00,2,     3.19,2,    1.019,2,    0.478,2, -999.000,9,-999.0000,9,  -999.00,9,   2343.7,2,   2303.8,2,     7.22,2,-999.0000,-999.000,  3.6408,-999.000
      325023_1,  P14N,    23,  1,     29,     29,2,19930711,1954, 50.4750, 179.2667, 6997,    259.6,   3.6449,  34.0081,2,  34.0063,2,   -999.0,9,     16.3,2,   106.73,2,    44.93,2,     0.00,2,     3.19,2,    0.783,2,    0.361,2, -999.000,9,-999.0000,9,  -999.00,9,   2347.8,2,   2315.7,2,  -999.00,9,-999.0000,-999.000,  3.6277,-999.000
      325023_1,  P14N,    23,  1,     28,     28,2,19930711,1954, 50.4750, 179.2667, 6997,    311.2,   3.6133,  34.0693,2,  34.0680,2,   -999.0,9,     16.2,2,   112.97,2,    44.64,2,     0.00,2,     3.16,2,    0.530,2,    0.257,2, -999.000,9,-999.0000,9,  -999.00,9,   2351.6,2,   2323.7,2,     7.24,2,-999.0000,-999.000,  3.5926,-999.000
      325023_1,  P14N,    23,  1,     27,     27,2,19930711,1954, 50.4750, 179.2667, 6997,    413.0,   3.4492,  34.1682,2,  34.1672,2,   -999.0,9,     17.1,2,   122.86,2,    43.90,2,     0.00,2,     3.12,2,    0.294,2,    0.144,2, -999.000,9,-999.0000,9,  -999.00,9,   2360.6,2,   2334.6,2,  -999.00,9,-999.0000,-999.000,  3.4219,-999.000
      325023_1,  P14N,    23,  1,     26,     26,2,19930711,1954, 50.4750, 179.2667, 6997,    513.8,   3.3020,  34.2424,2,  34.2392,2,   -999.0,9,     15.3,2,   130.74,2,    43.76,2,     0.00,2,     3.12,2,    0.151,4,    0.192,4, -999.000,9,-999.0000,9,  -999.00,9,   2370.6,2,   2345.2,2,     7.28,2,-999.0000,-999.000,  3.2681,-999.000
      325023_1,  P14N,    23,  1,     25,     25,2,19930711,1954, 50.4750, 179.2667, 6997,    614.6,   3.1465,  34.2925,2,  34.2915,2,   -999.0,9,     15.4,2,   137.06,2,    43.89,2,     0.00,2,     3.12,2,    0.090,2,    0.056,2, -999.000,9,-999.0000,9,  -999.00,9,   2377.5,2,   2362.7,2,  -999.00,9,-999.0000,-999.000,  3.1062,-999.000
      325023_1,  P14N,    23,  1,     24,     24,2,19930711,1954, 50.4750, 179.2667, 6997,    715.4,   2.9421,  34.3466,2,  34.3452,2,   -999.0,9,     16.6,2,   143.86,2,    43.88,2,     0.00,2,     3.12,2,    0.048,2,    0.020,2, -999.000,9,-999.0000,9,  -999.00,9,   2382.6,2,   2361.3,2,     7.29,2,-999.0000,-999.000,  2.8956,-999.000
      325023_1,  P14N,    23,  1,     23,     23,2,19930711,1954, 50.4750, 179.2667, 6997,    816.8,   2.8096,  34.3808,2,  34.3795,2,   -999.0,9,     17.6,2,   148.39,2,    43.88,2,     0.00,2,     3.12,2,    0.033,2,    0.011,2, -999.000,9,-999.0000,9,  -999.00,9,   2387.8,2,   2376.2,2,  -999.00,9,-999.0000,-999.000,  2.7567,-999.000
      325023_1,  P14N,    23,  1,     22,     22,2,19930711,1954, 50.4750, 179.2667, 6997,    918.0,   2.6640,  34.4157,2,  34.4140,2,   -999.0,9,     19.7,2,   152.93,2,    43.78,2,     0.00,2,     3.12,2, -999.000,5, -999.000,5, -999.000,9,-999.0000,9,  -999.00,9,   2391.1,2,   2379.4,2,  -999.00,9,-999.0000,-999.000,  2.6048,-999.000
      325023_1,  P14N,    23,  1,     21,     21,2,19930711,1954, 50.4750, 179.2667, 6997,   1019.2,   2.5255,  34.4473,2,  34.4463,2,   -999.0,9,     22.6,2,   157.02,2,    43.64,2,     0.00,2,     3.11,2,   -0.004,2,    0.006,2, -999.000,9,-999.0000,9,  -999.00,9,   2394.9,2,   2389.2,2,  -999.00,9,-999.0000,-999.000,  2.4600,-999.000
      325023_1,  P14N,    23,  1,     20,     20,2,19930711,1954, 50.4750, 179.2667, 6997,   1221.3,   2.3117,  34.4951,2,  34.4935,2,   -999.0,9,     30.8,2,   162.99,2,    43.17,2,     0.00,2,     3.06,2,    0.000,2,    0.004,2, -999.000,9,-999.0000,9,  -999.00,9,   2396.2,2,   2396.7,2,     7.33,2,-999.0000,-999.000,  2.2332,-999.000
      325023_1,  P14N,    23,  1,     19,     19,2,19930711,1954, 50.4750, 179.2667, 6997,   1425.3,   2.1096,  34.5395,2,  34.5392,2,   -999.0,9,     43.3,2,   166.88,2,    42.48,2,     0.00,2,     3.01,2,    0.008,3,    0.012,2, -999.000,9,-999.0000,9,  -999.00,9,   2390.9,2,   2400.0,2,  -999.00,9,-999.0000,-999.000,  2.0179,-999.000
      325023_1,  P14N,    23,  1,     18,     18,2,19930711,1954, 50.4750, 179.2667, 6997,   1629.3,   1.9724,  34.5698,2,  34.5688,2,   -999.0,9,     54.4,2,   169.14,2,    41.83,2,     0.00,2,     2.95,2,    0.008,2,    0.010,2, -999.000,9,-999.0000,9,  -999.00,9,   2388.8,2,   2411.9,2,  -999.00,9,-999.0000,-999.000,  1.8666,-999.000
      325023_1,  P14N,    23,  1,     17,     17,2,19930711,1954, 50.4750, 179.2667, 6997,   1830.7,   1.8543,  34.5941,2,  34.5937,2,   -999.0,9,     66.1,2,   170.46,2,    41.14,2,     0.00,2,     2.90,2, -999.000,5, -999.000,5, -999.000,9,-999.0000,9,  -999.00,9,   2384.6,2,   2409.0,2,  -999.00,9,-999.0000,-999.000,  1.7340,-999.000
      325023_1,  P14N,    23,  1,     16,     16,2,19930711,1954, 50.4750, 179.2667, 6997,   2031.3,   1.7627,  34.6130,2,  34.6123,2,   -999.0,9,     79.9,2,   170.38,2,    40.31,2,     0.00,2,     2.84,2,    0.000,2,   -0.003,2, -999.000,9,-999.0000,9,  -999.00,9,   2375.9,2,   2417.6,2,     7.44,2,-999.0000,-999.000,  1.6274,-999.000
      325023_1,  P14N,    23,  1,     15,     15,2,19930711,1954, 50.4750, 179.2667, 6997,   2235.8,   1.6810,  34.6282,2,  34.6284,2,   -999.0,9,     91.3,2,   169.13,2,    39.58,2,     0.00,2,     2.80,2, -999.000,5, -999.000,5, -999.000,9,-999.0000,9,  -999.00,9,   2370.3,2,   2412.4,2,  -999.00,9,-999.0000,-999.000,  1.5297,-999.000
      325023_1,  P14N,    23,  1,     14,     14,2,19930711,1954, 50.4750, 179.2667, 6997,   2440.7,   1.6269,  34.6388,2,  34.6388,2,   -999.0,9,    100.5,2,   168.12,2,    39.03,2,     0.00,2,     2.75,2,   -0.005,2,   -0.008,2, -999.000,9,-999.0000,9,  -999.00,9,   2365.1,2,   2418.4,2,     7.48,2,-999.0000,-999.000,  1.4589,-999.000
      325023_1,  P14N,    23,  1,     13,     13,2,19930711,1954, 50.4750, 179.2667, 6997,   2646.1,   1.5797,  34.6481,2,  34.6488,2,   -999.0,9,    109.0,2,   166.63,2,    38.53,2,     0.00,2,     2.71,2, -999.000,5, -999.000,5, -999.000,9,-999.0000,9,  -999.00,9,   2359.8,2,   2417.3,2,  -999.00,9,-999.0000,-999.000,  1.3942,-999.000
      325023_1,  P14N,    23,  1,     12,     12,2,19930711,1954, 50.4750, 179.2667, 6997,   2850.9,   1.5460,  34.6556,2,  34.6565,2,   -999.0,9,    116.4,2,   165.39,2,    38.11,2,     0.00,2,     2.68,2,    0.002,2,    0.009,2, -999.000,9,-999.0000,9,  -999.00,9,   2354.8,2,   2413.8,2,     7.51,2,-999.0000,-999.000,  1.3423,-999.000
      325023_1,  P14N,    23,  1,     11,     11,2,19930711,1954, 50.4750, 179.2667, 6997,   3056.3,   1.5113,  34.6631,2,  34.6635,2,   -999.0,9,    124.1,2,   163.67,2,    37.56,2,     0.00,2,     2.64,2, -999.000,5, -999.000,5, -999.000,9,-999.0000,9,  -999.00,9,   2350.1,2,   2416.0,2,  -999.00,9,-999.0000,-999.000,  1.2889,-999.000
      325023_1,  P14N,    23,  1,     10,     10,2,19930711,1954, 50.4750, 179.2667, 6997,   3364.5,   1.4801,  34.6707,2,  34.6717,2,   -999.0,9,    133.4,2,   161.96,2,    37.02,2,     0.00,2,     2.60,2,   -0.001,2,    0.003,2, -999.000,9,-999.0000,9,  -999.00,9,   2343.9,2,   2413.6,2,  -999.00,9,-999.0000,-999.000,  1.2282,-999.000
      325023_1,  P14N,    23,  1,      9,      9,2,19930711,1954, 50.4750, 179.2667, 6997,   3674.6,   1.4609,  34.6772,2,  34.6780,2,   -999.0,9,    141.0,2,   159.79,2,    36.33,2,     0.00,2,     2.56,2, -999.000,5, -999.000,5, -999.000,9,-999.0000,9,  -999.00,9,   2339.3,2,   2414.7,2,  -999.00,9,-999.0000,-999.000,  1.1778,-999.000
      325023_1,  P14N,    23,  1,      8,      8,2,19930711,1954, 50.4750, 179.2667, 6997,   3983.2,   1.4510,  34.6827,2,  34.6829,2,   -999.0,9,    147.5,2,   157.63,2,    36.06,2,     0.00,2,     2.52,2,   -0.008,3,    0.002,2, -999.000,9,-999.0000,9,  -999.00,9,   2335.0,2,   2413.2,2,     7.57,2,-999.0000,-999.000,  1.1353,-999.000
      325023_1,  P14N,    23,  1,      7,      7,2,19930711,1954, 50.4750, 179.2667, 6997,   4292.1,   1.4597,  34.6852,2,  34.6853,2,   -999.0,9,    151.6,2,   155.93,2,    35.74,2,     0.00,2,     2.50,2, -999.000,5, -999.000,5, -999.000,9,-999.0000,9,  -999.00,9,   2329.8,2,   2416.2,2,  -999.00,9,-999.0000,-999.000,  1.1097,-999.000
      325023_1,  P14N,    23,  1,      6,      6,2,19930711,1954, 50.4750, 179.2667, 6997,   4601.5,   1.4761,  34.6873,2,  34.6882,2,   -999.0,9,    154.6,2,   154.46,2,    35.51,2,     0.00,2,     2.49,2,   -0.005,3,    0.002,2, -999.000,9,-999.0000,9,  -999.00,9,   2328.4,2,   2413.2,2,     7.58,2,-999.0000,-999.000,  1.0901,-999.000
      325023_1,  P14N,    23,  1,      5,      5,2,19930711,1954, 50.4750, 179.2667, 6997,   4910.8,   1.4977,  34.6889,2,  34.6884,2,   -999.0,9,    157.4,2,   151.84,2,    35.37,2,     0.00,2,     2.47,2, -999.000,5, -999.000,5, -999.000,9,-999.0000,9,  -999.00,9,   2324.9,2,   2412.4,2,  -999.00,9,-999.0000,-999.000,  1.0743,-999.000
      325023_1,  P14N,    23,  1,      4,      4,2,19930711,1954, 50.4750, 179.2667, 6997,   5219.4,   1.5251,  34.6895,2,  34.6894,2,   -999.0,9,    159.0,2,   150.61,2,    35.28,2,     0.00,2,     2.46,2,    0.003,3,    0.009,2, -999.000,9,-999.0000,9,  -999.00,9,   2325.3,2,   2408.8,2,     7.59,2,-999.0000,-999.000,  1.0630,-999.000
      325023_1,  P14N,    23,  1,      3,      3,2,19930711,1954, 50.4750, 179.2667, 6997,   5529.5,   1.5648,  34.6897,2,  34.6907,2,   -999.0,9,    159.7,2,   150.54,2,    35.18,2,     0.00,2,     2.46,2, -999.000,5, -999.000,5, -999.000,9,-999.0000,9,  -999.00,9,   2323.6,2,   2419.6,2,  -999.00,9,-999.0000,-999.000,  1.0621,-999.000
      325023_1,  P14N,    23,  1,      2,      2,2,19930711,1954, 50.4750, 179.2667, 6997,   5838.6,   1.6063,  34.6899,2,-999.0000,9,   -999.0,9,    159.3,2,   150.92,2,    35.13,2,     0.00,2,     2.46,2,    0.001,6,    0.011,6, -999.000,9,-999.0000,9,  -999.00,9,   2799.9,4,   2413.5,2,  -999.00,9,-999.0000,-999.000,  1.0618,-999.000
      325023_1,  P14N,    23,  1,      1,      1,2,19930711,1954, 50.4750, 179.2667, 6997,   6148.4,   1.6497,  34.6901,2,  34.6898,2,   -999.0,9,    159.0,2,   150.85,2,    35.13,2,     0.00,2,     2.45,2,    0.010,2,    0.017,2, -999.000,9,-999.0000,9,  -999.00,9,   -999.0,9,   2404.6,2,     7.59,2,-999.0000,-999.000,  1.0620,-999.000