BOTTLE,20131125MIRCJHATS
EXPOCODE,SECT_ID,STNNBR,CASTNO,SAMPNO,BTLNBR,BTLNBR_FLAG_W,DATE,TIME,LATITUDE,LONGITUDE,DEPTH,CTDPRS,CTDTMP,CTDSAL,CTDSAL_FLAG_W,SALNTY,SALNTY_FLAG_W,CTDOXY,CTDOXY_FLAG_W,OXYGEN,OXYGEN_FLAG_W,SILCAT,SILCAT_FLAG_W,NITRAT,NITRAT_FLAG_W,NITRIT,NITRIT_FLAG_W,PHSPHT,PHSPHT_FLAG_W,CFC-11,CFC-11_FLAG_W,CFC-12,CFC-12_FLAG_W,TRITUM,TRITUM_FLAG_W,HELIUM,HELIUM_FLAG_W,DELHE3,DELHE3_FLAG_W,TCARBN,TCARBN_FLAG_W,ALKALI,ALKALI_FLAG_W,PH,PH_FLAG_W,HELIER,DELHER,THETA,TRITER
,,,,,,,,,,,,DBAR,ITS-90,PSS-78,,PSS-78,,UMOL/KG,,UMOL/KG,,UMOL/KG,,UMOL/KG,,UMOL/KG,,UMOL/KG,,PMOL/KG,,PMOL/KG,,TU,,NMOL/KG,,PERCNT,,UMOL/KG,,UMOL/KG,,25_DEG,,NMOL/KG,PERCNT,DEG C,TU
      325023_1,  P14N,    30,  1,     36,     36,2,19930713,1433, 47.4932, 179.0063, 4997,      3.1,   8.0257,  32.8727,2,  32.8740,2,   -999.0,9,    304.4,2,    36.96,2,    17.05,2,     0.20,2,     1.57,2, -999.000,5, -999.000,5,    1.937,2,-999.0000,9,  -999.00,9,   -999.0,9,   -999.0,9,  -999.00,9,-999.0000,-999.000,  8.0254,   0.019
      325023_1,  P14N,    30,  1,     35,     35,2,19930713,1433, 47.4932, 179.0063, 4997,     36.6,   5.9404,  32.9546,4,  32.9228,2,   -999.0,9,    311.6,2,    40.16,2,    19.05,2,     0.21,2,     1.73,2, -999.000,5, -999.000,5, -999.000,9,-999.0000,9,  -999.00,9,   -999.0,9,   -999.0,9,  -999.00,9,-999.0000,-999.000,  5.9375,-999.000
      325023_1,  P14N,    30,  1,     34,     34,2,19930713,1433, 47.4932, 179.0063, 4997,     66.5,   3.4883,  33.0419,2,  33.0388,2,   -999.0,9,    319.3,2,    42.75,2,    21.80,2,     0.40,2,     1.89,2, -999.000,5, -999.000,5, -999.000,9,-999.0000,9,  -999.00,9,   -999.0,9,   -999.0,9,  -999.00,9,-999.0000,-999.000,  3.4842,-999.000
      325023_1,  P14N,    30,  1,     33,     33,2,19930713,1433, 47.4932, 179.0063, 4997,     96.7,   2.6927,  33.1658,2,  33.1642,2,   -999.0,9,    279.7,2,    53.10,2,    27.56,2,     0.02,2,     2.19,2, -999.000,5, -999.000,5,    2.074,2,-999.0000,9,  -999.00,9,   -999.0,9,   -999.0,9,  -999.00,9,-999.0000,-999.000,  2.6873,   0.021
      325023_1,  P14N,    30,  1,     32,     32,2,19930713,1433, 47.4932, 179.0063, 4997,    127.0,   2.9311,  33.6197,2,  33.6115,2,   -999.0,9,    126.7,2,    83.14,2,    39.26,2,     0.01,2,     2.89,2, -999.000,5, -999.000,5, -999.000,9,-999.0000,9,  -999.00,9,   -999.0,9,   -999.0,9,  -999.00,9,-999.0000,-999.000,  2.9236,-999.000
      325023_1,  P14N,    30,  1,     31,     31,2,19930713,1433, 47.4932, 179.0063, 4997,    155.9,   3.1576,  33.7635,2,  33.7599,2,   -999.0,9,     77.1,2,    93.56,2,    42.46,2,     0.02,2,     3.09,2, -999.000,5, -999.000,5, -999.000,9,-999.0000,9,  -999.00,9,   -999.0,9,   -999.0,9,  -999.00,9,-999.0000,-999.000,  3.1481,-999.000
      325023_1,  P14N,    30,  1,     30,     30,2,19930713,1433, 47.4932, 179.0063, 4997,    199.7,   3.3000,  33.8597,2,  33.8584,2,   -999.0,9,     49.4,2,   101.12,2,    44.08,2,     0.01,2,     3.18,2, -999.000,5, -999.000,5,    1.131,2,-999.0000,9,  -999.00,9,   -999.0,9,   -999.0,9,  -999.00,9,-999.0000,-999.000,  3.2875,   0.011
      325023_1,  P14N,    30,  1,     29,     29,2,19930713,1433, 47.4932, 179.0063, 4997,    240.8,   3.3530,  33.9259,2,  33.9219,2,   -999.0,9,     37.2,2,   106.43,2,    44.78,2,     0.01,2,     3.22,2, -999.000,5, -999.000,5, -999.000,9,-999.0000,9,  -999.00,9,   -999.0,9,   -999.0,9,  -999.00,9,-999.0000,-999.000,  3.3377,-999.000
      325023_1,  P14N,    30,  1,     28,     28,2,19930713,1433, 47.4932, 179.0063, 4997,    293.2,   3.3489,  33.9870,2,  33.9855,2,   -999.0,9,     32.4,2,   112.57,2,    44.73,2,     0.01,2,     3.21,2, -999.000,5, -999.000,5, -999.000,9,-999.0000,9,  -999.00,9,   -999.0,9,   -999.0,9,  -999.00,9,-999.0000,-999.000,  3.3301,-999.000
      325023_1,  P14N,    30,  1,     27,     27,2,19930713,1433, 47.4932, 179.0063, 4997,    406.4,   3.3065,  34.1238,2,  34.1224,2,   -999.0,9,     25.7,2,   124.81,2,    44.31,2,     0.00,2,     3.19,2, -999.000,5, -999.000,5,    0.682,2,-999.0000,9,  -999.00,9,   -999.0,9,   -999.0,9,  -999.00,9,-999.0000,-999.000,  3.2801,   0.008
      325023_1,  P14N,    30,  1,     26,     26,2,19930713,1433, 47.4932, 179.0063, 4997,    508.7,   3.2296,  34.2014,2,  34.2001,2,   -999.0,9,     25.3,2,   131.24,2,    43.94,2,     0.00,2,     3.17,2, -999.000,5, -999.000,5, -999.000,9,-999.0000,9,  -999.00,9,   -999.0,9,   -999.0,9,  -999.00,9,-999.0000,-999.000,  3.1963,-999.000
      325023_1,  P14N,    30,  1,     25,     25,2,19930713,1433, 47.4932, 179.0063, 4997,    605.5,   3.0967,  34.2619,2,  34.2616,2,   -999.0,9,     21.2,2,   138.54,2,    44.26,2,     0.00,2,     3.18,2, -999.000,5, -999.000,5,    0.447,2,-999.0000,9,  -999.00,9,   -999.0,9,   -999.0,9,  -999.00,9,-999.0000,-999.000,  3.0572,   0.008
      325023_1,  P14N,    30,  1,     24,     24,2,19930713,1433, 47.4932, 179.0063, 4997,    707.5,   2.9411,  34.3172,2,-999.0000,9,   -999.0,9,   -999.0,9,  -999.00,9,  -999.00,9,  -999.00,9,  -999.00,9, -999.000,5, -999.000,5, -999.000,9,-999.0000,9,  -999.00,9,   -999.0,9,   -999.0,9,  -999.00,9,-999.0000,-999.000,  2.8952,-999.000
      325023_1,  P14N,    30,  1,     23,     23,2,19930713,1433, 47.4932, 179.0063, 4997,    810.1,   2.8153,  34.3593,2,  34.3579,2,   -999.0,9,     21.2,2,   150.38,2,    44.26,2,     0.00,2,     3.19,2, -999.000,5, -999.000,5,    0.476,2,-999.0000,9,  -999.00,9,   -999.0,9,   -999.0,9,  -999.00,9,-999.0000,-999.000,  2.7628,   0.008
      325023_1,  P14N,    30,  1,     22,     22,2,19930713,1433, 47.4932, 179.0063, 4997,    912.8,   2.6803,  34.3981,2,  34.3965,2,   -999.0,9,     21.9,2,   155.65,2,    44.26,2,     0.00,2,     3.17,2, -999.000,5, -999.000,5, -999.000,9,-999.0000,9,  -999.00,9,   -999.0,9,   -999.0,9,  -999.00,9,-999.0000,-999.000,  2.6215,-999.000
      325023_1,  P14N,    30,  1,     21,     21,2,19930713,1433, 47.4932, 179.0063, 4997,   1015.4,   2.5632,  34.4304,2,  34.4286,2,   -999.0,9,     23.9,2,   160.09,2,    44.21,2,     0.00,2,     3.17,2, -999.000,5, -999.000,5,    0.128,2,-999.0000,9,  -999.00,9,   -999.0,9,   -999.0,9,  -999.00,9,-999.0000,-999.000,  2.4978,   0.008
      325023_1,  P14N,    30,  1,     20,     20,2,19930713,1433, 47.4932, 179.0063, 4997,   1218.4,   2.3311,  34.4864,2,  34.4839,2,   -999.0,9,     30.8,2,   167.59,2,    43.84,2,     0.00,2,     3.14,2, -999.000,5, -999.000,5,    0.051,2,-999.0000,9,  -999.00,9,   -999.0,9,   -999.0,9,  -999.00,9,-999.0000,-999.000,  2.2527,   0.008
      325023_1,  P14N,    30,  1,     19,     19,2,19930713,1433, 47.4932, 179.0063, 4997,   1421.3,   2.1479,  34.5299,2,  34.5303,2,   -999.0,9,     43.4,2,   171.64,2,    43.15,2,     0.00,2,     3.09,2, -999.000,5, -999.000,5, -999.000,9,-999.0000,9,  -999.00,9,   -999.0,9,   -999.0,9,  -999.00,9,-999.0000,-999.000,  2.0561,-999.000
      325023_1,  P14N,    30,  1,     18,     18,2,19930713,1433, 47.4932, 179.0063, 4997,   1625.2,   2.0109,  34.5627,2,  34.5626,2,   -999.0,9,     54.6,2,   173.50,2,    42.46,2,     0.00,2,     3.04,2, -999.000,5, -999.000,5,    0.039,2,-999.0000,9,  -999.00,9,   -999.0,9,   -999.0,9,  -999.00,9,-999.0000,-999.000,  1.9049,   0.008
      325023_1,  P14N,    30,  1,     17,     17,2,19930713,1433, 47.4932, 179.0063, 4997,   1828.5,   1.8923,  34.5877,2,  34.5865,2,   -999.0,9,     66.1,2,   174.93,2,    41.86,2,     0.00,2,     2.99,2, -999.000,5, -999.000,5, -999.000,9,-999.0000,9,  -999.00,9,   -999.0,9,   -999.0,9,  -999.00,9,-999.0000,-999.000,  1.7717,-999.000
      325023_1,  P14N,    30,  1,     16,     16,2,19930713,1433, 47.4932, 179.0063, 4997,   2029.7,   1.7984,  34.6072,2,  34.6063,2,   -999.0,9,     78.3,2,   173.71,2,    40.89,2,     0.00,2,     2.93,2, -999.000,5, -999.000,5,    0.007,2,-999.0000,9,  -999.00,9,   -999.0,9,   -999.0,9,  -999.00,9,-999.0000,-999.000,  1.6626,   0.008
      325023_1,  P14N,    30,  1,     15,     15,2,19930713,1433, 47.4932, 179.0063, 4997,   2229.4,   1.7197,  34.6228,2,  34.6220,2,   -999.0,9,     89.4,2,   172.72,2,    40.25,2,     0.00,2,     2.88,2, -999.000,5, -999.000,5,    0.007,2,-999.0000,9,  -999.00,9,   -999.0,9,   -999.0,9,  -999.00,9,-999.0000,-999.000,  1.5684,   0.008
      325023_1,  P14N,    30,  1,     14,     14,2,19930713,1433, 47.4932, 179.0063, 4997,   2429.5,   1.6589,  34.6347,2,  34.6349,2,   -999.0,9,     99.1,2,   171.95,2,    39.61,2,     0.00,2,     2.83,2, -999.000,5, -999.000,5,    0.002,2,-999.0000,9,  -999.00,9,   -999.0,9,   -999.0,9,  -999.00,9,-999.0000,-999.000,  1.4913,   0.008
      325023_1,  P14N,    30,  1,     13,     13,2,19930713,1433, 47.4932, 179.0063, 4997,   2633.5,   1.6048,  34.6451,2,  34.6465,2,   -999.0,9,    107.9,2,   170.74,2,    39.15,2,     0.00,2,     2.79,2, -999.000,5, -999.000,5, -999.000,9,-999.0000,9,  -999.00,9,   -999.0,9,   -999.0,9,  -999.00,9,-999.0000,-999.000,  1.4200,-999.000
      325023_1,  P14N,    30,  1,     12,     12,2,19930713,1433, 47.4932, 179.0063, 4997,   2839.7,   1.5577,  34.6544,2,  34.6553,2,   -999.0,9,    117.0,2,   168.87,2,    38.70,2,     0.00,2,     2.74,2, -999.000,5, -999.000,5,    0.003,2,-999.0000,9,  -999.00,9,   -999.0,9,   -999.0,9,  -999.00,9,-999.0000,-999.000,  1.3549,   0.008
      325023_1,  P14N,    30,  1,     11,     11,2,19930713,1433, 47.4932, 179.0063, 4997,   3042.5,   1.5201,  34.6615,2,  34.6617,2,   -999.0,9,    124.7,2,   167.02,2,    38.10,2,     0.00,2,     2.71,2, -999.000,5, -999.000,5,    0.001,2,-999.0000,9,  -999.00,9,   -999.0,9,   -999.0,9,  -999.00,9,-999.0000,-999.000,  1.2989,   0.008
      325023_1,  P14N,    30,  1,     10,     10,2,19930713,1433, 47.4932, 179.0063, 4997,   3245.9,   1.4884,  34.6681,2,  34.6680,2,   -999.0,9,    132.4,2,   164.95,2,    37.42,2,     0.00,2,     2.66,2, -999.000,5, -999.000,5,    0.001,2,-999.0000,9,  -999.00,9,   -999.0,9,   -999.0,9,  -999.00,9,-999.0000,-999.000,  1.2481,   0.008
      325023_1,  P14N,    30,  1,      9,      9,2,19930713,1433, 47.4932, 179.0063, 4997,   3450.6,   1.4697,  34.6728,2,  34.6727,2,   -999.0,9,    137.9,2,   163.10,2,    37.28,2,     0.00,2,     2.63,2, -999.000,5, -999.000,5,    0.004,2,-999.0000,9,  -999.00,9,   -999.0,9,   -999.0,9,  -999.00,9,-999.0000,-999.000,  1.2094,   0.008
      325023_1,  P14N,    30,  1,      8,      8,2,19930713,1433, 47.4932, 179.0063, 4997,   3656.5,   1.4595,  34.6766,2,  34.6770,2,   -999.0,9,    142.5,2,   160.83,2,    36.96,2,     0.00,2,     2.61,2, -999.000,5, -999.000,5,    0.004,2,-999.0000,9,  -999.00,9,   -999.0,9,   -999.0,9,  -999.00,9,-999.0000,-999.000,  1.1783,   0.008
      325023_1,  P14N,    30,  1,      7,      7,2,19930713,1433, 47.4932, 179.0063, 4997,   3861.3,   1.4501,  34.6798,2,  34.6815,2,   -999.0,9,    146.7,2,   160.07,2,    36.74,2,     0.00,2,     2.59,2, -999.000,5, -999.000,5,    0.008,2,-999.0000,9,  -999.00,9,   -999.0,9,   -999.0,9,  -999.00,9,-999.0000,-999.000,  1.1476,   0.008
      325023_1,  P14N,    30,  1,      6,      6,2,19930713,1433, 47.4932, 179.0063, 4997,   4065.7,   1.4491,  34.6823,2,  34.6834,2,   -999.0,9,    149.9,2,   159.75,2,    36.55,2,     0.00,2,     2.57,2, -999.000,5, -999.000,5,    0.001,2,-999.0000,9,  -999.00,9,   -999.0,9,   -999.0,9,  -999.00,9,-999.0000,-999.000,  1.1245,   0.008
      325023_1,  P14N,    30,  1,      5,      5,2,19930713,1433, 47.4932, 179.0063, 4997,   4271.0,   1.4574,  34.6845,2,  34.6850,2,   -999.0,9,    151.7,2,   160.50,2,    36.42,2,     0.00,2,     2.56,2, -999.000,5, -999.000,5,    0.001,2,-999.0000,9,  -999.00,9,   -999.0,9,   -999.0,9,  -999.00,9,-999.0000,-999.000,  1.1098,   0.008
      325023_1,  P14N,    30,  1,      4,      4,2,19930713,1433, 47.4932, 179.0063, 4997,   4477.6,   1.4736,  34.6855,2,  34.6859,2,   -999.0,9,    152.4,2,   162.12,2,    36.42,2,     0.00,2,     2.55,2, -999.000,5, -999.000,5,    0.001,2,-999.0000,9,  -999.00,9,   -999.0,9,   -999.0,9,  -999.00,9,-999.0000,-999.000,  1.1021,   0.008
      325023_1,  P14N,    30,  1,      3,      3,2,19930713,1433, 47.4932, 179.0063, 4997,   4685.6,   1.4945,  34.6859,2,  34.6867,2,   -999.0,9,    153.3,2,   162.45,2,    36.28,2,     0.00,2,     2.55,2, -999.000,5, -999.000,5,    0.001,2,-999.0000,9,  -999.00,9,   -999.0,9,   -999.0,9,  -999.00,9,-999.0000,-999.000,  1.0981,   0.008
      325023_1,  P14N,    30,  1,      2,      2,2,19930713,1433, 47.4932, 179.0063, 4997,   4891.3,   1.5177,  34.6867,2,  34.6869,2,   -999.0,9,    153.7,2,   162.34,2,    36.28,2,     0.00,2,     2.55,2, -999.000,5, -999.000,5,    0.001,2,-999.0000,9,  -999.00,9,   -999.0,9,   -999.0,9,  -999.00,9,-999.0000,-999.000,  1.0960,   0.008
      325023_1,  P14N,    30,  1,      1,      1,2,19930713,1433, 47.4932, 179.0063, 4997,   5157.1,   1.5496,  34.6868,2,  34.6880,2,   -999.0,9,    153.7,2,   162.45,2,    36.23,2,     0.00,2,     2.55,2, -999.000,5, -999.000,5,    0.001,2,-999.0000,9,  -999.00,9,   -999.0,9,   -999.0,9,  -999.00,9,-999.0000,-999.000,  1.0944,   0.008