BOTTLE,20131125MIRCJHATS
EXPOCODE,SECT_ID,STNNBR,CASTNO,SAMPNO,BTLNBR,BTLNBR_FLAG_W,DATE,TIME,LATITUDE,LONGITUDE,DEPTH,CTDPRS,CTDTMP,CTDSAL,CTDSAL_FLAG_W,SALNTY,SALNTY_FLAG_W,CTDOXY,CTDOXY_FLAG_W,OXYGEN,OXYGEN_FLAG_W,SILCAT,SILCAT_FLAG_W,NITRAT,NITRAT_FLAG_W,NITRIT,NITRIT_FLAG_W,PHSPHT,PHSPHT_FLAG_W,CFC-11,CFC-11_FLAG_W,CFC-12,CFC-12_FLAG_W,TRITUM,TRITUM_FLAG_W,HELIUM,HELIUM_FLAG_W,DELHE3,DELHE3_FLAG_W,TCARBN,TCARBN_FLAG_W,ALKALI,ALKALI_FLAG_W,PH,PH_FLAG_W,HELIER,DELHER,THETA,TRITER
,,,,,,,,,,,,DBAR,ITS-90,PSS-78,,PSS-78,,UMOL/KG,,UMOL/KG,,UMOL/KG,,UMOL/KG,,UMOL/KG,,UMOL/KG,,PMOL/KG,,PMOL/KG,,TU,,NMOL/KG,,PERCNT,,UMOL/KG,,UMOL/KG,,25_DEG,,NMOL/KG,PERCNT,DEG C,TU
      325023_1,  P14N,   123,  1,     36,     36,2,19930807,1615,  4.9923, 178.9963, 6139,      3.8,  29.4299,  33.9629,2,  33.9688,2,   -999.0,9,    194.6,2,     1.22,2,     0.00,4,     0.00,2,     0.17,2,    1.599,2,    0.914,2, -999.000,9,-999.0000,9,  -999.00,9,   -999.0,9,   -999.0,9,  -999.00,9,-999.0000,-999.000, 29.4290,-999.000
      325023_1,  P14N,   123,  1,     35,     35,2,19930807,1615,  4.9923, 178.9963, 6139,     35.4,  29.0688,  34.0323,2,  34.0355,2,   -999.0,9,    196.0,2,     0.95,2,     0.00,4,     0.00,2,     0.17,2,    1.588,2,    0.889,2, -999.000,9,-999.0000,9,  -999.00,9,   -999.0,9,   -999.0,9,  -999.00,9,-999.0000,-999.000, 29.0602,-999.000
      325023_1,  P14N,   123,  1,     34,     34,2,19930807,1615,  4.9923, 178.9963, 6139,     61.0,  28.6328,  34.3769,2,  34.3577,2,   -999.0,9,    197.8,2,     0.88,2,     0.00,4,     0.00,2,     0.19,2,    1.689,2,    0.939,2, -999.000,9,-999.0000,9,  -999.00,9,   -999.0,9,   -999.0,9,  -999.00,9,-999.0000,-999.000, 28.6182,-999.000
      325023_1,  P14N,   123,  1,     33,     33,2,19930807,1615,  4.9923, 178.9963, 6139,     92.3,  24.0454,  34.7083,2,  34.6997,2,   -999.0,9,    170.7,2,     3.16,2,     0.34,4,     0.12,2,     0.31,2,    1.669,2,    0.896,2, -999.000,9,-999.0000,9,  -999.00,9,   -999.0,9,   -999.0,9,  -999.00,9,-999.0000,-999.000, 24.0260,-999.000
      325023_1,  P14N,   123,  1,     32,     32,2,19930807,1615,  4.9923, 178.9963, 6139,    120.6,  20.6290,  34.7923,2,  34.7911,2,   -999.0,9,    151.0,2,     6.79,2,     6.05,4,     0.04,2,     0.63,2,    1.748,2,    0.942,2, -999.000,9,-999.0000,9,  -999.00,9,   -999.0,9,   -999.0,9,  -999.00,9,-999.0000,-999.000, 20.6063,-999.000
      325023_1,  P14N,   123,  1,     31,     31,2,19930807,1615,  4.9923, 178.9963, 6139,    151.9,  14.9915,  34.6183,2,  34.6204,2,   -999.0,9,    120.2,2,    13.93,2,    15.30,4,     0.01,2,     1.23,2,    1.457,2,    0.716,2, -999.000,9,-999.0000,9,  -999.00,9,   -999.0,9,   -999.0,9,  -999.00,9,-999.0000,-999.000, 14.9686,-999.000
      325023_1,  P14N,   123,  1,     30,     30,2,19930807,1615,  4.9923, 178.9963, 6139,    211.4,  10.6817,  34.6319,2,  34.6314,2,   -999.0,9,     56.1,2,    30.61,2,    31.09,4,     0.00,2,     2.19,2,    0.334,2,    0.157,2, -999.000,9,-999.0000,9,  -999.00,9,   -999.0,9,   -999.0,9,  -999.00,9,-999.0000,-999.000, 10.6562,-999.000
      325023_1,  P14N,   123,  1,     29,     29,2,19930807,1615,  4.9923, 178.9963, 6139,    261.6,   9.6006,  34.6528,2,  34.6518,2,   -999.0,9,     62.1,2,    33.25,2,    33.08,4,     0.00,2,     2.27,2,    0.182,2,    0.088,2, -999.000,9,-999.0000,9,  -999.00,9,   -999.0,9,   -999.0,9,  -999.00,9,-999.0000,-999.000,  9.5711,-999.000
      325023_1,  P14N,   123,  1,     28,     28,2,19930807,1615,  4.9923, 178.9963, 6139,    311.9,   9.0481,  34.6419,2,  34.6404,2,   -999.0,9,     61.0,2,    35.70,2,    34.44,4,     0.00,2,     2.34,2,    0.120,2,    0.057,2, -999.000,9,-999.0000,9,  -999.00,9,   -999.0,9,   -999.0,9,  -999.00,9,-999.0000,-999.000,  9.0141,-999.000
      325023_1,  P14N,   123,  1,     27,     27,2,19930807,1615,  4.9923, 178.9963, 6139,    411.0,   8.2678,  34.6128,2,  34.6125,2,   -999.0,9,     63.7,2,    39.32,2,    36.10,4,     0.00,2,     2.44,2,    0.072,6,    0.032,6, -999.000,9,-999.0000,9,  -999.00,9,   -999.0,9,   -999.0,9,  -999.00,9,-999.0000,-999.000,  8.2250,-999.000
      325023_1,  P14N,   123,  1,     26,     26,2,19930807,1615,  4.9923, 178.9963, 6139,    511.1,   7.4910,  34.5832,2,  34.5823,2,   -999.0,9,     50.1,2,    47.42,2,    39.04,4,     0.00,2,     2.67,2,    0.019,2,    0.006,2, -999.000,9,-999.0000,9,  -999.00,9,   -999.0,9,   -999.0,9,  -999.00,9,-999.0000,-999.000,  7.4405,-999.000
      325023_1,  P14N,   123,  1,     25,     25,2,19930807,1615,  4.9923, 178.9963, 6139,    609.4,   6.7490,  34.5595,2,  34.5597,2,   -999.0,9,     47.3,2,    56.29,2,    40.87,4,     0.00,2,     2.80,2,    0.007,2,    0.005,2, -999.000,9,-999.0000,9,  -999.00,9,   -999.0,9,   -999.0,9,  -999.00,9,-999.0000,-999.000,  6.6918,-999.000
      325023_1,  P14N,   123,  1,     24,     24,2,19930807,1615,  4.9923, 178.9963, 6139,    708.5,   5.9051,  34.5458,2,  34.5460,2,   -999.0,9,     43.9,2,    68.70,2,    42.86,4,     0.00,2,     2.93,2,   -0.001,2,   -0.004,2, -999.000,9,-999.0000,9,  -999.00,9,   -999.0,9,   -999.0,9,  -999.00,9,-999.0000,-999.000,  5.8426,-999.000
      325023_1,  P14N,   123,  1,     23,     23,2,19930807,1615,  4.9923, 178.9963, 6139,    807.1,   5.2854,  34.5470,2,  34.5461,2,   -999.0,9,     48.4,2,    78.39,2,    43.54,4,     0.00,2,     2.96,2,    0.009,2,    0.002,2, -999.000,9,-999.0000,9,  -999.00,9,   -999.0,9,   -999.0,9,  -999.00,9,-999.0000,-999.000,  5.2175,-999.000
      325023_1,  P14N,   123,  1,     22,     22,2,19930807,1615,  4.9923, 178.9963, 6139,    905.1,   4.7747,  34.5504,2,  34.5491,2,   -999.0,9,     70.7,2,    85.55,2,    41.77,4,     0.00,2,     2.85,2,    0.001,2,   -0.002,2, -999.000,9,-999.0000,9,  -999.00,9,   -999.0,9,   -999.0,9,  -999.00,9,-999.0000,-999.000,  4.7014,-999.000
      325023_1,  P14N,   123,  1,     21,     21,2,19930807,1615,  4.9923, 178.9963, 6139,   1004.7,   4.3658,  34.5596,2,  34.5587,2,   -999.0,9,     71.9,2,    93.52,2,    42.10,4,     0.00,2,     2.89,2,    0.004,2,    0.002,2, -999.000,9,-999.0000,9,  -999.00,9,   -999.0,9,   -999.0,9,  -999.00,9,-999.0000,-999.000,  4.2869,-999.000
      325023_1,  P14N,   123,  1,     20,     20,2,19930807,1615,  4.9923, 178.9963, 6139,   1213.8,   3.6923,  34.5804,2,  34.5786,2,   -999.0,9,     77.4,2,   108.06,2,    42.28,4,     0.00,2,     2.89,2, -999.000,5, -999.000,5, -999.000,9,-999.0000,9,  -999.00,9,   -999.0,9,   -999.0,9,  -999.00,9,-999.0000,-999.000,  3.6012,-999.000
      325023_1,  P14N,   123,  1,     19,     19,2,19930807,1615,  4.9923, 178.9963, 6139,   1417.0,   3.1241,  34.6009,2,  34.5992,2,   -999.0,9,     81.4,2,   121.74,2,    42.21,4,     0.00,2,     2.88,2,   -0.001,2,    0.002,2, -999.000,9,-999.0000,9,  -999.00,9,   -999.0,9,   -999.0,9,  -999.00,9,-999.0000,-999.000,  3.0218,-999.000
      325023_1,  P14N,   123,  1,     18,     18,2,19930807,1615,  4.9923, 178.9963, 6139,   1616.5,   2.7449,  34.6159,2,  34.6153,2,   -999.0,9,     89.5,2,   130.29,2,    41.50,4,     0.00,2,     2.84,2, -999.000,5, -999.000,5, -999.000,9,-999.0000,9,  -999.00,9,   -999.0,9,   -999.0,9,  -999.00,9,-999.0000,-999.000,  2.6303,-999.000
      325023_1,  P14N,   123,  1,     17,     17,2,19930807,1615,  4.9923, 178.9963, 6139,   1821.4,   2.4373,  34.6284,2,  34.6267,2,   -999.0,9,     98.4,2,   136.66,2,    40.99,4,     0.00,2,     2.78,2,   -0.002,2,   -0.002,2, -999.000,9,-999.0000,9,  -999.00,9,   -999.0,9,   -999.0,9,  -999.00,9,-999.0000,-999.000,  2.3095,-999.000
      325023_1,  P14N,   123,  1,     16,     16,2,19930807,1615,  4.9923, 178.9963, 6139,   2021.2,   2.2255,  34.6406,2,  34.6392,2,   -999.0,9,    104.3,2,   141.43,2,    40.53,4,     0.00,2,     2.75,2, -999.000,5, -999.000,5, -999.000,9,-999.0000,9,  -999.00,9,   -999.0,9,   -999.0,9,  -999.00,9,-999.0000,-999.000,  2.0838,-999.000
      325023_1,  P14N,   123,  1,     15,     15,2,19930807,1615,  4.9923, 178.9963, 6139,   2227.2,   2.0231,  34.6520,2,  34.6508,2,   -999.0,9,    109.6,2,   146.63,2,    40.17,4,     0.00,2,     2.72,2, -999.000,5, -999.000,5, -999.000,9,-999.0000,9,  -999.00,9,   -999.0,9,   -999.0,9,  -999.00,9,-999.0000,-999.000,  1.8668,-999.000
      325023_1,  P14N,   123,  1,     14,     14,2,19930807,1615,  4.9923, 178.9963, 6139,   2429.4,   1.8821,  34.6597,2,  34.6586,2,   -999.0,9,    115.7,2,   148.97,2,    39.66,4,     0.00,2,     2.69,2, -999.000,5, -999.000,5, -999.000,9,-999.0000,9,  -999.00,9,   -999.0,9,   -999.0,9,  -999.00,9,-999.0000,-999.000,  1.7103,-999.000
      325023_1,  P14N,   123,  1,     13,     13,2,19930807,1615,  4.9923, 178.9963, 6139,   2631.4,   1.7838,  34.6643,2,  34.6641,2,   -999.0,9,    122.3,2,   148.84,2,    39.25,4,     0.00,2,     2.64,2,   -0.001,2,   -0.003,3, -999.000,9,-999.0000,9,  -999.00,9,   -999.0,9,   -999.0,9,  -999.00,9,-999.0000,-999.000,  1.5956,-999.000
      325023_1,  P14N,   123,  1,     12,     12,2,19930807,1615,  4.9923, 178.9963, 6139,   2832.6,   1.7062,  34.6679,2,  34.6680,2,   -999.0,9,    128.8,2,   148.29,2,    38.70,4,     0.00,2,     2.62,2, -999.000,5, -999.000,5, -999.000,9,-999.0000,9,  -999.00,9,   -999.0,9,   -999.0,9,  -999.00,9,-999.0000,-999.000,  1.5009,-999.000
      325023_1,  P14N,   123,  1,     11,     11,2,19930807,1615,  4.9923, 178.9963, 6139,   3040.6,   1.6440,  34.6713,2,  34.6707,2,   -999.0,9,    135.0,2,   146.92,2,    38.20,4,     0.00,2,     2.59,2, -999.000,5, -999.000,5, -999.000,9,-999.0000,9,  -999.00,9,   -999.0,9,   -999.0,9,  -999.00,9,-999.0000,-999.000,  1.4201,-999.000
      325023_1,  P14N,   123,  1,     10,     10,2,19930807,1615,  4.9923, 178.9963, 6139,   3344.4,   1.5684,  34.6772,2,  34.6752,2,   -999.0,9,    142.7,2,   145.96,2,    37.61,4,     0.00,2,     2.53,2,    0.001,2,    0.002,2, -999.000,9,-999.0000,9,  -999.00,9,   -999.0,9,   -999.0,9,  -999.00,9,-999.0000,-999.000,  1.3164,-999.000
      325023_1,  P14N,   123,  1,      9,      9,2,19930807,1615,  4.9923, 178.9963, 6139,   3650.7,   1.4886,  34.6831,2,  34.6818,2,   -999.0,9,    151.7,2,   143.78,2,    36.93,4,     0.00,2,     2.48,2, -999.000,5, -999.000,5, -999.000,9,-999.0000,9,  -999.00,9,   -999.0,9,   -999.0,9,  -999.00,9,-999.0000,-999.000,  1.2072,-999.000
      325023_1,  P14N,   123,  1,      8,      8,2,19930807,1615,  4.9923, 178.9963, 6139,   3948.5,   1.3966,  34.6901,2,  34.6889,2,   -999.0,9,    162.4,2,   140.58,2,    36.10,4,     0.00,2,     2.42,2, -999.000,5, -999.000,5, -999.000,9,-999.0000,9,  -999.00,9,   -999.0,9,   -999.0,9,  -999.00,9,-999.0000,-999.000,  1.0861,-999.000
      325023_1,  P14N,   123,  1,      7,      7,2,19930807,1615,  4.9923, 178.9963, 6139,   4252.4,   1.3081,  34.6961,2,  34.6956,2,   -999.0,9,    174.8,2,   134.76,2,    34.99,4,     0.00,2,     2.36,2, -999.000,5, -999.000,5, -999.000,9,-999.0000,9,  -999.00,9,   -999.0,9,   -999.0,9,  -999.00,9,-999.0000,-999.000,  0.9670,-999.000
      325023_1,  P14N,   123,  1,      6,      6,2,19930807,1615,  4.9923, 178.9963, 6139,   4568.3,   1.2579,  34.7007,2,  34.7006,2,   -999.0,9,    184.3,2,   130.19,2,    34.27,4,     0.00,2,     2.31,2,   -0.003,2,    0.001,2, -999.000,9,-999.0000,9,  -999.00,9,   -999.0,9,   -999.0,9,  -999.00,9,-999.0000,-999.000,  0.8825,-999.000
      325023_1,  P14N,   123,  1,      5,      5,2,19930807,1615,  4.9923, 178.9963, 6139,   4879.9,   1.2663,  34.7026,2,  34.7020,2,   -999.0,9,    188.4,2,   128.05,2,    34.07,4,     0.00,2,     2.29,2, -999.000,5, -999.000,5, -999.000,9,-999.0000,9,  -999.00,9,   -999.0,9,   -999.0,9,  -999.00,9,-999.0000,-999.000,  0.8542,-999.000
      325023_1,  P14N,   123,  1,      4,      4,2,19930807,1615,  4.9923, 178.9963, 6139,   5185.0,   1.2912,  34.7032,2,  34.7026,2,   -999.0,9,    189.7,2,   127.32,2,    33.78,4,     0.00,2,     2.28,2, -999.000,5, -999.000,5, -999.000,9,-999.0000,9,  -999.00,9,   -999.0,9,   -999.0,9,  -999.00,9,-999.0000,-999.000,  0.8415,-999.000
      325023_1,  P14N,   123,  1,      3,      3,2,19930807,1615,  4.9923, 178.9963, 6139,   5481.1,   1.3219,  34.7039,2,  34.7029,2,   -999.0,9,    191.1,2,   126.40,2,    33.73,4,     0.00,2,     2.28,2, -999.000,5, -999.000,5, -999.000,9,-999.0000,9,  -999.00,9,   -999.0,9,   -999.0,9,  -999.00,9,-999.0000,-999.000,  0.8341,-999.000
      325023_1,  P14N,   123,  1,      2,      2,2,19930807,1615,  4.9923, 178.9963, 6139,   5792.0,   1.3594,  34.7040,2,  34.7029,2,   -999.0,9,    192.1,2,   125.67,2,    33.62,4,     0.00,2,     2.28,2,   -0.002,2,    0.004,2, -999.000,9,-999.0000,9,  -999.00,9,   -999.0,9,   -999.0,9,  -999.00,9,-999.0000,-999.000,  0.8303,-999.000
      325023_1,  P14N,   123,  1,      1,      1,2,19930807,1615,  4.9923, 178.9963, 6139,   6116.2,   1.4032,  34.7039,2,  34.7033,2,   -999.0,9,    191.3,2,   126.15,2,    33.61,4,     0.00,2,     2.28,2,    0.001,2,   -0.002,2, -999.000,9,-999.0000,9,  -999.00,9,   -999.0,9,   -999.0,9,  -999.00,9,-999.0000,-999.000,  0.8294,-999.000