BOTTLE,20131125MIRCJHATS
EXPOCODE,SECT_ID,STNNBR,CASTNO,SAMPNO,BTLNBR,BTLNBR_FLAG_W,DATE,TIME,LATITUDE,LONGITUDE,DEPTH,CTDPRS,CTDTMP,CTDSAL,CTDSAL_FLAG_W,SALNTY,SALNTY_FLAG_W,CTDOXY,CTDOXY_FLAG_W,OXYGEN,OXYGEN_FLAG_W,SILCAT,SILCAT_FLAG_W,NITRAT,NITRAT_FLAG_W,NITRIT,NITRIT_FLAG_W,PHSPHT,PHSPHT_FLAG_W,CFC-11,CFC-11_FLAG_W,CFC-12,CFC-12_FLAG_W,TRITUM,TRITUM_FLAG_W,HELIUM,HELIUM_FLAG_W,DELHE3,DELHE3_FLAG_W,TCARBN,TCARBN_FLAG_W,ALKALI,ALKALI_FLAG_W,PH,PH_FLAG_W,HELIER,DELHER,THETA,TRITER
,,,,,,,,,,,,DBAR,ITS-90,PSS-78,,PSS-78,,UMOL/KG,,UMOL/KG,,UMOL/KG,,UMOL/KG,,UMOL/KG,,UMOL/KG,,PMOL/KG,,PMOL/KG,,TU,,NMOL/KG,,PERCNT,,UMOL/KG,,UMOL/KG,,25_DEG,,NMOL/KG,PERCNT,DEG C,TU
      325023_1,  P14N,    91,  1,     36,     36,2,19930730,1822, 16.9942, 178.9975, 4696,      2.5,  27.6218,  34.7004,2,  34.7072,2,   -999.0,9,    200.3,2,     3.23,2,     0.03,2,     0.00,2,     0.16,2,    1.702,2,    0.928,2, -999.000,9,-999.0000,9,  -999.00,9,   1935.6,2,   2283.2,2,  -999.00,9,-999.0000,-999.000, 27.6213,-999.000
      325023_1,  P14N,    91,  1,     35,     35,2,19930730,1822, 16.9942, 178.9975, 4696,     37.7,  27.6265,  34.7005,2,  34.7076,2,   -999.0,9,    200.6,2,     2.93,2,     0.02,2,     0.00,2,     0.16,2,    1.706,2,    0.918,2, -999.000,9,-999.0000,9,  -999.00,9,   1934.5,2,   2279.2,2,     8.13,2,-999.0000,-999.000, 27.6177,-999.000
      325023_1,  P14N,    91,  1,     34,     34,2,19930730,1822, 16.9942, 178.9975, 4696,     67.9,  27.6348,  34.7004,2,  34.7086,2,   -999.0,9,    200.8,2,     2.85,2,     0.02,2,     0.00,2,     0.16,2,    1.739,2,    0.938,2, -999.000,9,-999.0000,9,  -999.00,9,   1932.3,2,   2282.7,2,  -999.00,9,-999.0000,-999.000, 27.6189,-999.000
      325023_1,  P14N,    91,  1,     33,     33,2,19930730,1822, 16.9942, 178.9975, 4696,     97.7,  26.5260,  34.9415,2,  34.9439,2,   -999.0,9,    213.5,2,     2.34,2,     0.02,2,     0.00,2,     0.06,2,    1.877,2,    1.017,2, -999.000,9,-999.0000,9,  -999.00,9,   1946.8,2,   2297.9,2,     8.12,2,-999.0000,-999.000, 26.5039,-999.000
      325023_1,  P14N,    91,  1,     32,     32,2,19930730,1822, 16.9942, 178.9975, 4696,    128.1,  24.8560,  35.1361,2,  35.1496,2,   -999.0,9,    212.7,2,     2.05,2,     0.02,2,     0.00,2,     0.04,2,    1.942,2,    1.046,2, -999.000,9,-999.0000,9,  -999.00,9,   1966.8,2,   2313.5,2,  -999.00,9,-999.0000,-999.000, 24.8283,-999.000
      325023_1,  P14N,    91,  1,     31,     31,2,19930730,1822, 16.9942, 178.9975, 4696,    158.0,  23.6629,  35.1731,2,  35.1787,2,   -999.0,9,    206.3,2,     1.97,2,     0.01,2,     0.01,2,     0.07,2,    2.027,2,    1.076,2, -999.000,9,-999.0000,9,  -999.00,9,   1989.1,2,   2312.4,2,     8.09,2,-999.0000,-999.000, 23.6299,-999.000
      325023_1,  P14N,    91,  1,     30,     30,2,19930730,1822, 16.9942, 178.9975, 4696,    208.8,  20.4014,  35.1385,2,  35.1217,2,   -999.0,9,    193.5,2,     2.75,2,     1.66,2,     0.02,2,     0.21,2,    2.220,2,    1.149,2, -999.000,9,-999.0000,9,  -999.00,9,   2027.3,2,   2309.9,2,  -999.00,9,-999.0000,-999.000, 20.3622,-999.000
      325023_1,  P14N,    91,  1,     29,     29,2,19930730,1822, 16.9942, 178.9975, 4696,    259.3,  17.5080,  34.8728,2,  34.8653,2,   -999.0,9,    198.4,2,     3.95,2,     4.18,2,     0.01,2,     0.35,2,    2.456,2,    1.253,2, -999.000,9,-999.0000,9,  -999.00,9,   2036.1,2,   2290.6,2,     7.96,2,-999.0000,-999.000, 17.4643,-999.000
      325023_1,  P14N,    91,  1,     28,     28,2,19930730,1822, 16.9942, 178.9975, 4696,    308.0,  14.8256,  34.5885,2,  34.5839,2,   -999.0,9,    198.6,2,     7.92,2,     7.84,2,     0.01,2,     0.61,2,    2.415,2,    1.178,2, -999.000,9,-999.0000,9,  -999.00,9,   2059.0,2,   2277.6,2,  -999.00,9,-999.0000,-999.000, 14.7793,-999.000
      325023_1,  P14N,    91,  1,     27,     27,2,19930730,1822, 16.9942, 178.9975, 4696,    409.4,   9.9462,  34.2196,2,  34.2188,2,   -999.0,9,    145.8,2,    27.69,2,    21.19,2,     0.01,2,     1.59,2,    1.495,2,    0.708,2, -999.000,9,-999.0000,9,  -999.00,9,   2148.6,2,   2268.6,2,     7.67,2,-999.0000,-999.000,  9.8988,-999.000
      325023_1,  P14N,    91,  1,     26,     26,2,19930730,1822, 16.9942, 178.9975, 4696,    510.0,   7.6103,  34.1855,2,  34.1848,2,   -999.0,9,     91.7,2,    50.45,2,    30.49,2,     0.01,2,     2.26,2,    0.546,2,    0.254,2, -999.000,9,-999.0000,9,  -999.00,9,   2225.0,2,   2288.9,2,  -999.00,9,-999.0000,-999.000,  7.5597,-999.000
      325023_1,  P14N,    91,  1,     25,     25,2,19930730,1822, 16.9942, 178.9975, 4696,    609.7,   6.1664,  34.2568,2,  34.2563,2,   -999.0,9,     51.8,2,    72.17,2,    37.02,2,     0.01,2,     2.71,2,    0.126,3,    0.052,2, -999.000,9,-999.0000,9,  -999.00,9,   2283.5,2,   -999.0,9,     7.41,2,-999.0000,-999.000,  6.1121,-999.000
      325023_1,  P14N,    91,  1,     24,     24,2,19930730,1822, 16.9942, 178.9975, 4696,    709.7,   5.6423,  34.3832,2,  34.3836,2,   -999.0,9,     43.4,2,    81.91,2,    39.24,2,     0.01,2,     2.85,2,    0.015,6,    0.007,6, -999.000,9,-999.0000,9,  -999.00,9,   -999.0,9,   2332.5,2,     7.40,2,-999.0000,-999.000,  5.5813,-999.000
      325023_1,  P14N,    91,  1,     23,     23,2,19930730,1822, 16.9942, 178.9975, 4696,    809.9,   5.2287,  34.4567,2,  34.4565,2,   -999.0,9,     48.8,2,    88.24,2,    39.79,2,     0.01,2,     2.87,2,    0.014,2,    0.011,2, -999.000,9,-999.0000,9,  -999.00,9,   2302.0,2,   2344.0,2,     7.42,2,-999.0000,-999.000,  5.1610,-999.000
      325023_1,  P14N,    91,  1,     22,     22,2,19930730,1822, 16.9942, 178.9975, 4696,    911.2,   4.7146,  34.4947,2,  34.4940,2,   -999.0,9,     53.0,2,    97.81,2,    40.48,2,     0.01,2,     2.90,2,    0.005,2,    0.005,2, -999.000,9,-999.0000,9,  -999.00,9,   2323.2,2,   2356.9,2,     7.42,2,-999.0000,-999.000,  4.6413,-999.000
      325023_1,  P14N,    91,  1,     21,     21,2,19930730,1822, 16.9942, 178.9975, 4696,   1011.5,   4.3617,  34.5139,2,  34.5140,2,   -999.0,9,     58.9,2,   103.94,2,    40.48,2,     0.01,2,     2.89,2,   -0.002,2,    0.002,2, -999.000,9,-999.0000,9,  -999.00,9,   2319.6,2,   2368.1,2,     7.43,2,-999.0000,-999.000,  4.2823,-999.000
      325023_1,  P14N,    91,  1,     20,     20,2,19930730,1822, 16.9942, 178.9975, 4696,   1213.3,   3.6560,  34.5461,2,  34.5450,2,   -999.0,9,     66.1,2,   118.34,2,    40.62,2,     0.01,2,     2.89,2, -999.000,5, -999.000,5, -999.000,9,-999.0000,9,  -999.00,9,   2341.0,2,   2385.7,2,     7.44,2,-999.0000,-999.000,  3.5654,-999.000
      325023_1,  P14N,    91,  1,     19,     19,2,19930730,1822, 16.9942, 178.9975, 4696,   1416.4,   3.1570,  34.5664,2,  34.5652,2,   -999.0,9,     73.7,2,   129.12,2,    40.48,2,     0.00,2,     2.87,2,   -0.003,2,   -0.001,2, -999.000,9,-999.0000,9,  -999.00,9,   2348.7,2,   -999.0,9,  -999.00,9,-999.0000,-999.000,  3.0544,-999.000
      325023_1,  P14N,    91,  1,     18,     18,2,19930730,1822, 16.9942, 178.9975, 4696,   1619.2,   2.6770,  34.5911,2,  34.5911,2,   -999.0,9,     83.9,2,   139.30,2,    40.02,2,     0.00,2,     2.83,2, -999.000,5, -999.000,5, -999.000,9,-999.0000,9,  -999.00,9,   2351.2,2,   2408.5,2,  -999.00,9,-999.0000,-999.000,  2.5631,-999.000
      325023_1,  P14N,    91,  1,     17,     17,2,19930730,1822, 16.9942, 178.9975, 4696,   1822.8,   2.3192,  34.6129,2,  34.6121,2,   -999.0,9,     94.1,2,   146.01,2,    39.33,2,     0.00,2,     2.79,2, -999.000,5, -999.000,5, -999.000,9,-999.0000,9,  -999.00,9,   -999.0,9,   -999.0,9,  -999.00,9,-999.0000,-999.000,  2.1930,-999.000
      325023_1,  P14N,    91,  1,     16,     16,2,19930730,1822, 16.9942, 178.9975, 4696,   2025.8,   2.1111,  34.6266,2,  34.6264,2,   -999.0,9,    101.9,2,   150.07,2,    39.10,2,     0.00,2,     2.75,2,   -0.001,2,    0.002,2, -999.000,9,-999.0000,9,  -999.00,9,   2350.9,2,   2410.7,2,  -999.00,9,-999.0000,-999.000,  1.9708,-999.000
      325023_1,  P14N,    91,  1,     15,     15,2,19930730,1822, 16.9942, 178.9975, 4696,   2228.6,   1.9433,  34.6388,2,  34.6388,2,   -999.0,9,    109.0,2,   153.04,2,    38.65,2,     0.00,2,     2.71,2, -999.000,5, -999.000,5, -999.000,9,-999.0000,9,  -999.00,9,   2346.8,2,   2422.3,2,     7.51,2,-999.0000,-999.000,  1.7882,-999.000
      325023_1,  P14N,    91,  1,     14,     14,2,19930730,1822, 16.9942, 178.9975, 4696,   2429.9,   1.8203,  34.6480,2,  34.6480,2,   -999.0,9,    115.2,2,   155.34,2,    38.24,2,     0.00,2,     2.68,2, -999.000,5, -999.000,5, -999.000,9,-999.0000,9,  -999.00,9,   2351.5,2,   2422.7,2,  -999.00,9,-999.0000,-999.000,  1.6496,-999.000
      325023_1,  P14N,    91,  1,     13,     13,2,19930730,1822, 16.9942, 178.9975, 4696,   2630.5,   1.7045,  34.6548,2,  34.6547,2,   -999.0,9,    122.0,2,   156.30,2,    37.83,2,     0.00,2,     2.64,2,    0.001,2,   -0.001,2, -999.000,9,-999.0000,9,  -999.00,9,   2342.0,2,   2427.7,2,  -999.00,9,-999.0000,-999.000,  1.5180,-999.000
      325023_1,  P14N,    91,  1,     12,     12,2,19930730,1822, 16.9942, 178.9975, 4696,   2834.8,   1.6327,  34.6620,2,  34.6622,2,   -999.0,9,    127.6,2,   156.37,2,    37.47,2,     0.00,2,     2.61,2, -999.000,5, -999.000,5, -999.000,9,-999.0000,9,  -999.00,9,   2339.1,2,   2424.8,2,  -999.00,9,-999.0000,-999.000,  1.4287,-999.000
      325023_1,  P14N,    91,  1,     11,     11,2,19930730,1822, 16.9942, 178.9975, 4696,   3039.2,   1.5818,  34.6671,2,  34.6677,2,   -999.0,9,    132.6,2,   156.21,2,    37.10,2,     0.00,2,     2.59,2, -999.000,5, -999.000,5, -999.000,9,-999.0000,9,  -999.00,9,   2337.9,2,   2428.3,2,  -999.00,9,-999.0000,-999.000,  1.3595,-999.000
      325023_1,  P14N,    91,  1,     10,     10,2,19930730,1822, 16.9942, 178.9975, 4696,   3242.6,   1.5355,  34.6721,2,  34.6724,2,   -999.0,9,    137.6,2,   155.83,2,    36.65,2,     0.00,2,     2.55,2, -999.000,5, -999.000,5, -999.000,9,-999.0000,9,  -999.00,9,   -999.0,9,   -999.0,9,     7.55,2,-999.0000,-999.000,  1.2944,-999.000
      325023_1,  P14N,    91,  1,      9,      9,2,19930730,1822, 16.9942, 178.9975, 4696,   3446.3,   1.4961,  34.6770,2,  34.6767,2,   -999.0,9,    142.9,2,   154.56,2,    36.43,2,     0.00,2,     2.53,2,    0.000,2,    0.002,2, -999.000,9,-999.0000,9,  -999.00,9,   2332.5,2,   2425.6,2,  -999.00,9,-999.0000,-999.000,  1.2355,-999.000
      325023_1,  P14N,    91,  1,      8,      8,2,19930730,1822, 16.9942, 178.9975, 4696,   3651.0,   1.4645,  34.6802,2,  34.6800,2,   -999.0,9,    148.7,2,   151.96,2,    36.03,2,     0.00,2,     2.49,2, -999.000,5, -999.000,5, -999.000,9,-999.0000,9,  -999.00,9,   2325.6,2,   2421.7,2,  -999.00,9,-999.0000,-999.000,  1.1837,-999.000
      325023_1,  P14N,    91,  1,      7,      7,2,19930730,1822, 16.9942, 178.9975, 4696,   3854.8,   1.4457,  34.6833,2,  34.6838,2,   -999.0,9,    153.6,2,   150.04,2,    35.71,2,     0.00,2,     2.47,2, -999.000,5, -999.000,5, -999.000,9,-999.0000,9,  -999.00,9,   2326.2,2,   2418.1,2,  -999.00,9,-999.0000,-999.000,  1.1440,-999.000
      325023_1,  P14N,    91,  1,      6,      6,2,19930730,1822, 16.9942, 178.9975, 4696,   4059.9,   1.4519,  34.6848,2,  34.6852,2,   -999.0,9,    154.9,2,   149.66,2,    35.58,2,     0.00,2,     2.46,2, -999.000,5, -999.000,5, -999.000,9,-999.0000,9,  -999.00,9,   2322.1,2,   2421.4,2,  -999.00,9,-999.0000,-999.000,  1.1279,-999.000
      325023_1,  P14N,    91,  1,      5,      5,2,19930730,1822, 16.9942, 178.9975, 4696,   4265.5,   1.4450,  34.6870,2,  34.6866,2,   -999.0,9,    158.6,2,   147.96,2,    35.27,2,     0.00,2,     2.45,2,    0.001,2,    0.002,2, -999.000,9,-999.0000,9,  -999.00,9,   2321.3,2,   2416.0,2,     7.58,2,-999.0000,-999.000,  1.0984,-999.000
      325023_1,  P14N,    91,  1,      4,      4,2,19930730,1822, 16.9942, 178.9975, 4696,   4469.7,   1.4155,  34.6908,2,  34.6909,2,   -999.0,9,    165.7,2,   144.28,2,    34.82,2,     0.00,2,     2.40,2, -999.000,5, -999.000,5, -999.000,9,-999.0000,9,  -999.00,9,   2314.6,2,   2414.6,2,  -999.00,9,-999.0000,-999.000,  1.0466,-999.000
      325023_1,  P14N,    91,  1,      3,      3,2,19930730,1822, 16.9942, 178.9975, 4696,   4673.6,   1.3726,  34.6954,2,  34.6958,2,   -999.0,9,    174.7,2,   138.64,2,    34.16,2,     0.00,2,     2.36,2, -999.000,5, -999.000,5, -999.000,9,-999.0000,9,  -999.00,9,   2303.1,2,   2405.0,2,  -999.00,9,-999.0000,-999.000,  0.9814,-999.000
      325023_1,  P14N,    91,  1,      2,      2,2,19930730,1822, 16.9942, 178.9975, 4696,   4794.6,   1.3313,  34.6988,2,  34.6993,2,   -999.0,9,    182.3,2,   133.69,2,    33.45,2,     0.00,2,     2.31,2, -999.000,5, -999.000,5, -999.000,9,-999.0000,9,  -999.00,9,   2290.1,2,   2397.0,2,  -999.00,9,-999.0000,-999.000,  0.9273,-999.000
      325023_1,  P14N,    91,  1,      1,      1,2,19930730,1822, 16.9942, 178.9975, 4696,   4796.1,   1.3298,  34.6991,2,  34.6990,2,   -999.0,9,    183.2,2,   133.98,2,    33.67,2,     0.00,2,     2.32,2,   -0.002,2,   -0.001,2, -999.000,9,-999.0000,9,  -999.00,9,   2292.4,2,   2396.3,2,  -999.00,9,-999.0000,-999.000,  0.9256,-999.000