BOTTLE,20131125MIRCJHATS
EXPOCODE,SECT_ID,STNNBR,CASTNO,SAMPNO,BTLNBR,BTLNBR_FLAG_W,DATE,TIME,LATITUDE,LONGITUDE,DEPTH,CTDPRS,CTDTMP,CTDSAL,CTDSAL_FLAG_W,SALNTY,SALNTY_FLAG_W,CTDOXY,CTDOXY_FLAG_W,OXYGEN,OXYGEN_FLAG_W,SILCAT,SILCAT_FLAG_W,NITRAT,NITRAT_FLAG_W,NITRIT,NITRIT_FLAG_W,PHSPHT,PHSPHT_FLAG_W,CFC-11,CFC-11_FLAG_W,CFC-12,CFC-12_FLAG_W,TRITUM,TRITUM_FLAG_W,HELIUM,HELIUM_FLAG_W,DELHE3,DELHE3_FLAG_W,TCARBN,TCARBN_FLAG_W,ALKALI,ALKALI_FLAG_W,PH,PH_FLAG_W,HELIER,DELHER,THETA,TRITER
,,,,,,,,,,,,DBAR,ITS-90,PSS-78,,PSS-78,,UMOL/KG,,UMOL/KG,,UMOL/KG,,UMOL/KG,,UMOL/KG,,UMOL/KG,,PMOL/KG,,PMOL/KG,,TU,,NMOL/KG,,PERCNT,,UMOL/KG,,UMOL/KG,,25_DEG,,NMOL/KG,PERCNT,DEG C,TU
      325023_1,  P14N,   111,  1,     36,     36,2,19930805,0331,  8.0015, 178.9930, 5205,      2.6,  28.7102,  34.2165,2,  34.2207,2,   -999.0,9,    196.5,2,     1.99,2,     0.15,2,     0.00,2,     0.20,2,    1.603,2,    0.884,2, -999.000,9,-999.0000,9,  -999.00,9,   -999.0,9,   -999.0,9,  -999.00,9,-999.0000,-999.000, 28.7096,-999.000
      325023_1,  P14N,   111,  1,     35,     35,2,19930805,0331,  8.0015, 178.9930, 5205,      2.7,  28.7150,  34.2146,2,  34.2211,2,   -999.0,9,    196.5,2,     1.74,2,     0.15,2,     0.00,2,     0.20,2, -999.000,5, -999.000,5, -999.000,9,-999.0000,9,  -999.00,9,   -999.0,9,   -999.0,9,  -999.00,9,-999.0000,-999.000, 28.7144,-999.000
      325023_1,  P14N,   111,  1,     34,     34,2,19930805,0331,  8.0015, 178.9930, 5205,     37.8,  28.7651,  34.3198,2,  34.3223,2,   -999.0,9,    196.1,2,     1.48,2,     0.15,2,     0.00,2,     0.19,2,    1.612,2,    0.857,2, -999.000,9,-999.0000,9,  -999.00,9,   -999.0,9,   -999.0,9,  -999.00,9,-999.0000,-999.000, 28.7561,-999.000
      325023_1,  P14N,   111,  1,     33,     33,2,19930805,0331,  8.0015, 178.9930, 5205,     67.7,  28.2003,  34.5632,2,  34.5626,2,   -999.0,9,    203.5,2,     1.63,2,     0.14,2,     0.00,2,     0.19,2,    1.663,2,    0.933,2, -999.000,9,-999.0000,9,  -999.00,9,   -999.0,9,   -999.0,9,  -999.00,9,-999.0000,-999.000, 28.1843,-999.000
      325023_1,  P14N,   111,  1,     32,     32,2,19930805,0331,  8.0015, 178.9930, 5205,     97.9,  24.7644,  34.6588,2,  34.6463,2,   -999.0,9,    186.6,2,     2.58,2,     0.34,2,     0.02,2,     0.29,2,    1.708,2,    0.927,2, -999.000,9,-999.0000,9,  -999.00,9,   -999.0,9,   -999.0,9,  -999.00,9,-999.0000,-999.000, 24.7433,-999.000
      325023_1,  P14N,   111,  1,     31,     31,2,19930805,0331,  8.0015, 178.9930, 5205,    128.7,  16.1347,  34.6367,2,  34.6397,2,   -999.0,9,    127.1,2,    11.37,2,    13.43,2,     0.11,2,     1.09,2,    1.674,2,    0.852,2, -999.000,9,-999.0000,9,  -999.00,9,   -999.0,9,   -999.0,9,  -999.00,9,-999.0000,-999.000, 16.1143,-999.000
      325023_1,  P14N,   111,  1,     30,     30,2,19930805,0331,  8.0015, 178.9930, 5205,    158.5,  12.7313,  34.5627,2,  34.5610,2,   -999.0,9,     69.1,2,    23.57,2,    25.30,2,     0.01,2,     1.88,2,    0.895,6,    0.428,6, -999.000,9,-999.0000,9,  -999.00,9,   -999.0,9,   -999.0,9,  -999.00,9,-999.0000,-999.000, 12.7100,-999.000
      325023_1,  P14N,   111,  1,     29,     29,2,19930805,0331,  8.0015, 178.9930, 5205,    209.0,  11.1466,  34.7057,2,  34.7028,2,   -999.0,9,     13.2,2,    31.74,2,    33.95,2,     0.01,2,     2.45,2,    0.165,2,    0.086,2, -999.000,9,-999.0000,9,  -999.00,9,   -999.0,9,   -999.0,9,  -999.00,9,-999.0000,-999.000, 11.1207,-999.000
      325023_1,  P14N,   111,  1,     28,     28,2,19930805,0331,  8.0015, 178.9930, 5205,    258.8,  10.1637,  34.6717,2,  34.6753,2,   -999.0,9,     25.1,2,    34.69,2,    34.32,2,     0.00,2,     2.46,2,    0.107,2,    0.055,2, -999.000,9,-999.0000,9,  -999.00,9,   -999.0,9,   -999.0,9,  -999.00,9,-999.0000,-999.000, 10.1334,-999.000
      325023_1,  P14N,   111,  1,     27,     27,2,19930805,0331,  8.0015, 178.9930, 5205,    308.5,   9.6826,  34.6618,2,  34.6602,2,   -999.0,9,     31.2,2,    36.43,2,    34.86,2,     0.00,2,     2.47,2,    0.092,2,    0.047,2, -999.000,9,-999.0000,9,  -999.00,9,   -999.0,9,   -999.0,9,  -999.00,9,-999.0000,-999.000,  9.6475,-999.000
      325023_1,  P14N,   111,  1,     26,     26,2,19930805,0331,  8.0015, 178.9930, 5205,    408.9,   8.9075,  34.6312,2,  34.6306,2,   -999.0,9,     25.0,2,    41.78,2,    36.63,2,     0.00,2,     2.63,2,    0.031,2,    0.014,2, -999.000,9,-999.0000,9,  -999.00,9,   -999.0,9,   -999.0,9,  -999.00,9,-999.0000,-999.000,  8.8630,-999.000
      325023_1,  P14N,   111,  1,     25,     25,2,19930805,0331,  8.0015, 178.9930, 5205,    509.3,   7.9402,  34.5808,2,  34.5807,2,   -999.0,9,     17.1,2,    52.36,2,    38.37,2,     0.00,2,     2.87,3,    0.007,2,    0.002,2, -999.000,9,-999.0000,9,  -999.00,9,   -999.0,9,   -999.0,9,  -999.00,9,-999.0000,-999.000,  7.8882,-999.000
      325023_1,  P14N,   111,  1,     24,     24,2,19930805,0331,  8.0015, 178.9930, 5205,    609.7,   6.7656,  34.5414,2,  34.5407,2,   -999.0,9,     27.1,2,    63.76,2,    40.41,2,     0.00,2,     2.94,3,    0.000,2,    0.007,2, -999.000,9,-999.0000,9,  -999.00,9,   -999.0,9,   -999.0,9,  -999.00,9,-999.0000,-999.000,  6.7083,-999.000
      325023_1,  P14N,   111,  1,     23,     23,2,19930805,0331,  8.0015, 178.9930, 5205,    710.7,   5.9431,  34.5378,2,  34.5360,2,   -999.0,9,     41.2,2,    72.14,2,    41.26,2,     0.00,2,     2.93,2,    0.006,2,   -0.001,2, -999.000,9,-999.0000,9,  -999.00,9,   -999.0,9,   -999.0,9,  -999.00,9,-999.0000,-999.000,  5.8803,-999.000
      325023_1,  P14N,   111,  1,     22,     22,2,19930805,0331,  8.0015, 178.9930, 5205,    811.5,   5.3061,  34.5418,2,  34.5405,2,   -999.0,9,     49.4,2,    80.94,2,    41.78,2,     0.00,2,     2.95,2,    0.001,2,    0.003,2, -999.000,9,-999.0000,9,  -999.00,9,   -999.0,9,   -999.0,9,  -999.00,9,-999.0000,-999.000,  5.2376,-999.000
      325023_1,  P14N,   111,  1,     21,     21,2,19930805,0331,  8.0015, 178.9930, 5205,    912.8,   4.7205,  34.5495,2,  34.5487,2,   -999.0,9,     60.3,2,    90.97,2,    41.36,2,     0.00,2,     2.92,2,    0.002,2,   -0.005,2, -999.000,9,-999.0000,9,  -999.00,9,   -999.0,9,   -999.0,9,  -999.00,9,-999.0000,-999.000,  4.6469,-999.000
      325023_1,  P14N,   111,  1,     20,     20,2,19930805,0331,  8.0015, 178.9930, 5205,   1013.0,   4.3109,  34.5580,2,  34.5579,2,   -999.0,9,     78.1,2,    99.21,2,    41.27,2,     0.00,2,     2.92,2,    0.004,2,    0.002,2, -999.000,9,-999.0000,9,  -999.00,9,   -999.0,9,   -999.0,9,  -999.00,9,-999.0000,-999.000,  4.2316,-999.000
      325023_1,  P14N,   111,  1,     19,     19,2,19930805,0331,  8.0015, 178.9930, 5205,   1210.3,   3.7000,  34.5764,2,  34.5758,2,   -999.0,9,     72.4,2,   111.78,2,    41.22,2,     0.00,2,     2.90,2, -999.000,5, -999.000,5, -999.000,9,-999.0000,9,  -999.00,9,   -999.0,9,   -999.0,9,  -999.00,9,-999.0000,-999.000,  3.6091,-999.000
      325023_1,  P14N,   111,  1,     18,     18,2,19930805,0331,  8.0015, 178.9930, 5205,   1403.2,   3.1288,  34.5949,2,  34.5944,2,   -999.0,9,     81.4,2,   123.82,2,    40.71,2,     0.00,2,     2.87,2, -999.000,5, -999.000,5, -999.000,9,-999.0000,9,  -999.00,9,   -999.0,9,   -999.0,9,  -999.00,9,-999.0000,-999.000,  3.0276,-999.000
      325023_1,  P14N,   111,  1,     17,     17,2,19930805,0331,  8.0015, 178.9930, 5205,   1594.1,   2.7684,  34.6105,2,  34.6095,2,   -999.0,9,     89.2,2,   131.17,2,    40.24,2,     0.00,2,     2.84,2,   -0.001,2,    0.004,2, -999.000,9,-999.0000,9,  -999.00,9,   -999.0,9,   -999.0,9,  -999.00,9,-999.0000,-999.000,  2.6554,-999.000
      325023_1,  P14N,   111,  1,     16,     16,2,19930805,0331,  8.0015, 178.9930, 5205,   1795.7,   2.4594,  34.6259,2,  34.6244,2,   -999.0,9,     97.6,2,   138.36,2,    39.92,2,     0.00,2,     2.80,2, -999.000,5, -999.000,5, -999.000,9,-999.0000,9,  -999.00,9,   -999.0,9,   -999.0,9,  -999.00,9,-999.0000,-999.000,  2.3335,-999.000
      325023_1,  P14N,   111,  1,     15,     15,2,19930805,0331,  8.0015, 178.9930, 5205,   2004.9,   2.2237,  34.6382,2,  34.6371,2,   -999.0,9,    102.0,2,   143.90,2,    39.64,2,     0.00,2,     2.75,2,   -0.001,2,   -0.003,2, -999.000,9,-999.0000,9,  -999.00,9,   -999.0,9,   -999.0,9,  -999.00,9,-999.0000,-999.000,  2.0834,-999.000
      325023_1,  P14N,   111,  1,     14,     14,2,19930805,0331,  8.0015, 178.9930, 5205,   2212.3,   2.0545,  34.6467,2,  34.6463,2,   -999.0,9,    108.1,2,   148.00,2,    39.27,2,     0.00,2,     2.74,2, -999.000,5, -999.000,5, -999.000,9,-999.0000,9,  -999.00,9,   -999.0,9,   -999.0,9,  -999.00,9,-999.0000,-999.000,  1.8990,-999.000
      325023_1,  P14N,   111,  1,     13,     13,2,19930805,0331,  8.0015, 178.9930, 5205,   2420.4,   1.9381,  34.6540,2,  34.6546,2,   -999.0,9,    112.7,2,   151.05,2,    39.09,2,     0.00,2,     2.70,2, -999.000,5, -999.000,5, -999.000,9,-999.0000,9,  -999.00,9,   -999.0,9,   -999.0,9,  -999.00,9,-999.0000,-999.000,  1.7661,-999.000
      325023_1,  P14N,   111,  1,     12,     12,2,19930805,0331,  8.0015, 178.9930, 5205,   2626.2,   1.8365,  34.6598,2,  34.6604,2,   -999.0,9,    118.1,2,   152.20,2,    38.72,2,     0.00,2,     2.68,2, -999.000,5, -999.000,5, -999.000,9,-999.0000,9,  -999.00,9,   -999.0,9,   -999.0,9,  -999.00,9,-999.0000,-999.000,  1.6478,-999.000
      325023_1,  P14N,   111,  1,     11,     11,2,19930805,0331,  8.0015, 178.9930, 5205,   2830.9,   1.7622,  34.6661,2,  34.6653,2,   -999.0,9,    121.6,2,   154.41,2,    38.45,2,     0.00,2,     2.65,2, -999.000,5, -999.000,5, -999.000,9,-999.0000,9,  -999.00,9,   -999.0,9,   -999.0,9,  -999.00,9,-999.0000,-999.000,  1.5558,-999.000
      325023_1,  P14N,   111,  1,     10,     10,2,19930805,0331,  8.0015, 178.9930, 5205,   3032.4,   1.7026,  34.6693,2,  34.6687,2,   -999.0,9,    127.4,2,   153.86,2,    38.13,2,     0.00,2,     2.62,2,   -0.001,2,    0.001,2, -999.000,9,-999.0000,9,  -999.00,9,   -999.0,9,   -999.0,9,  -999.00,9,-999.0000,-999.000,  1.4783,-999.000
      325023_1,  P14N,   111,  1,      9,      9,2,19930805,0331,  8.0015, 178.9930, 5205,   3336.1,   1.5972,  34.6756,2,  34.6751,2,   -999.0,9,    136.3,2,   152.68,2,    37.44,2,     0.00,2,     2.57,2, -999.000,5, -999.000,5, -999.000,9,-999.0000,9,  -999.00,9,   -999.0,9,   -999.0,9,  -999.00,9,-999.0000,-999.000,  1.3453,-999.000
      325023_1,  P14N,   111,  1,      8,      8,2,19930805,0331,  8.0015, 178.9930, 5205,   3642.0,   1.4997,  34.6819,2,  34.6816,2,   -999.0,9,    148.6,2,   149.59,2,    36.62,2,     0.00,2,     2.50,2, -999.000,5, -999.000,5, -999.000,9,-999.0000,9,  -999.00,9,   -999.0,9,   -999.0,9,  -999.00,9,-999.0000,-999.000,  1.2189,-999.000
      325023_1,  P14N,   111,  1,      7,      7,2,19930805,0331,  8.0015, 178.9930, 5205,   3949.7,   1.4031,  34.6886,2,  34.6886,2,   -999.0,9,    160.8,2,   144.84,2,    35.72,2,     0.00,2,     2.44,2, -999.000,5, -999.000,5, -999.000,9,-999.0000,9,  -999.00,9,   -999.0,9,   -999.0,9,  -999.00,9,-999.0000,-999.000,  1.0923,-999.000
      325023_1,  P14N,   111,  1,      6,      6,2,19930805,0331,  8.0015, 178.9930, 5205,   4256.8,   1.3331,  34.6942,2,  34.6955,2,   -999.0,9,    172.0,2,   138.24,2,    34.81,2,     0.00,2,     2.38,2,    0.000,2,    0.002,2, -999.000,9,-999.0000,9,  -999.00,9,   -999.0,9,   -999.0,9,  -999.00,9,-999.0000,-999.000,  0.9907,-999.000
      325023_1,  P14N,   111,  1,      5,      5,2,19930805,0331,  8.0015, 178.9930, 5205,   4566.0,   1.2977,  34.6981,2,  34.6984,2,   -999.0,9,    180.4,2,   134.17,2,    34.19,2,     0.00,2,     2.32,2, -999.000,5, -999.000,5, -999.000,9,-999.0000,9,  -999.00,9,   -999.0,9,   -999.0,9,  -999.00,9,-999.0000,-999.000,  0.9214,-999.000
      325023_1,  P14N,   111,  1,      4,      4,2,19930805,0331,  8.0015, 178.9930, 5205,   4874.7,   1.2897,  34.7010,2,  34.7010,2,   -999.0,9,    185.6,2,   130.53,2,    33.69,2,     0.00,2,     2.29,2, -999.000,5, -999.000,5, -999.000,9,-999.0000,9,  -999.00,9,   -999.0,9,   -999.0,9,  -999.00,9,-999.0000,-999.000,  0.8775,-999.000
      325023_1,  P14N,   111,  1,      3,      3,2,19930805,0331,  8.0015, 178.9930, 5205,   5184.5,   1.3098,  34.7020,2,  34.7023,2,   -999.0,9,    189.0,2,   129.18,2,    33.56,2,     0.00,2,     2.29,2, -999.000,5, -999.000,5, -999.000,9,-999.0000,9,  -999.00,9,   -999.0,9,   -999.0,9,  -999.00,9,-999.0000,-999.000,  0.8595,-999.000
      325023_1,  P14N,   111,  1,      2,      2,2,19930805,0331,  8.0015, 178.9930, 5205,   5383.5,   1.3247,  34.7027,2,  34.7029,2,   -999.0,9,    190.1,2,   128.86,2,    33.56,2,     0.00,2,     2.26,2, -999.000,5, -999.000,5, -999.000,9,-999.0000,9,  -999.00,9,   -999.0,9,   -999.0,9,  -999.00,9,-999.0000,-999.000,  0.8491,-999.000
      325023_1,  P14N,   111,  1,      1,      1,2,19930805,0331,  8.0015, 178.9930, 5205,   5383.8,   1.3247,  34.7029,2,  34.7037,2,   -999.0,9,    188.4,2,   128.75,2,    33.52,2,     0.00,2,     2.29,2, -999.000,5, -999.000,5, -999.000,9,-999.0000,9,  -999.00,9,   -999.0,9,   -999.0,9,  -999.00,9,-999.0000,-999.000,  0.8491,-999.000