BOTTLE,20131125MIRCJHATS
EXPOCODE,SECT_ID,STNNBR,CASTNO,SAMPNO,BTLNBR,BTLNBR_FLAG_W,DATE,TIME,LATITUDE,LONGITUDE,DEPTH,CTDPRS,CTDTMP,CTDSAL,CTDSAL_FLAG_W,SALNTY,SALNTY_FLAG_W,CTDOXY,CTDOXY_FLAG_W,OXYGEN,OXYGEN_FLAG_W,SILCAT,SILCAT_FLAG_W,NITRAT,NITRAT_FLAG_W,NITRIT,NITRIT_FLAG_W,PHSPHT,PHSPHT_FLAG_W,CFC-11,CFC-11_FLAG_W,CFC-12,CFC-12_FLAG_W,TRITUM,TRITUM_FLAG_W,HELIUM,HELIUM_FLAG_W,DELHE3,DELHE3_FLAG_W,TCARBN,TCARBN_FLAG_W,ALKALI,ALKALI_FLAG_W,PH,PH_FLAG_W,HELIER,DELHER,THETA,TRITER
,,,,,,,,,,,,DBAR,ITS-90,PSS-78,,PSS-78,,UMOL/KG,,UMOL/KG,,UMOL/KG,,UMOL/KG,,UMOL/KG,,UMOL/KG,,PMOL/KG,,PMOL/KG,,TU,,NMOL/KG,,PERCNT,,UMOL/KG,,UMOL/KG,,25_DEG,,NMOL/KG,PERCNT,DEG C,TU
      325023_1,  P14N,   113,  1,     36,     36,2,19930805,1407,  7.5010, 178.9905, 5647,      3.1,  28.6961,  34.1810,2,  34.1843,2,   -999.0,9,    196.2,2,     2.58,2,     0.07,2,     0.00,2,     0.21,2,    1.589,2,    0.871,2, -999.000,9,-999.0000,9,  -999.00,9,   1899.0,2,   2244.6,2,     8.14,2,-999.0000,-999.000, 28.6954,-999.000
      325023_1,  P14N,   113,  1,     35,     35,2,19930805,1407,  7.5010, 178.9905, 5647,     37.2,  28.7610,  34.2543,2,  34.2763,2,   -999.0,9,    196.5,2,     2.53,2,     0.06,2,     0.00,2,     0.21,2,    1.586,2,    0.889,2, -999.000,9,-999.0000,9,  -999.00,9,   1904.0,2,   2252.5,2,  -999.00,9,-999.0000,-999.000, 28.7521,-999.000
      325023_1,  P14N,   113,  1,     34,     34,2,19930805,1407,  7.5010, 178.9905, 5647,     68.2,  28.2281,  34.5725,2,  34.5750,2,   -999.0,9,    200.5,2,     2.47,2,     0.05,2,     0.00,2,     0.21,2,    1.659,2,    0.909,2, -999.000,9,-999.0000,9,  -999.00,9,   1922.4,2,   2276.1,2,     8.13,2,-999.0000,-999.000, 28.2120,-999.000
      325023_1,  P14N,   113,  1,     33,     33,2,19930805,1407,  7.5010, 178.9905, 5647,     93.0,  26.9320,  34.5992,2,  34.6050,2,   -999.0,9,    194.5,2,     2.82,2,     0.04,2,     0.00,2,     0.23,2,    1.696,2,    0.918,2, -999.000,9,-999.0000,9,  -999.00,9,   1945.7,2,   2277.9,2,  -999.00,9,-999.0000,-999.000, 26.9107,-999.000
      325023_1,  P14N,   113,  1,     32,     32,2,19930805,1407,  7.5010, 178.9905, 5647,    123.7,  18.2360,  34.7234,2,  34.7170,2,   -999.0,9,    138.5,2,    10.38,2,    10.51,2,     0.08,2,     0.90,2,    1.662,6,    0.849,6, -999.000,9,-999.0000,9,  -999.00,9,   2084.0,2,   -999.0,9,     7.87,2,-999.0000,-999.000, 18.2146,-999.000
      325023_1,  P14N,   113,  1,     31,     31,2,19930805,1407,  7.5010, 178.9905, 5647,    154.4,  14.6758,  34.6299,2,  34.6266,2,   -999.0,9,    113.1,2,    16.72,2,    17.15,2,     0.02,2,     1.32,2,    1.368,2,    0.676,2, -999.000,9,-999.0000,9,  -999.00,9,   2129.1,2,   2286.9,2,  -999.00,9,-999.0000,-999.000, 14.6529,-999.000
      325023_1,  P14N,   113,  1,     30,     30,2,19930805,1407,  7.5010, 178.9905, 5647,    201.9,  11.0420,  34.6070,2,  34.5973,2,   -999.0,9,     42.2,2,    31.68,2,    30.84,2,     0.00,2,     2.25,2,    0.378,2,    0.174,2, -999.000,9,-999.0000,9,  -999.00,9,   2225.1,2,   2292.6,2,     7.52,2,-999.0000,-999.000, 11.0172,-999.000
      325023_1,  P14N,   113,  1,     29,     29,2,19930805,1407,  7.5010, 178.9905, 5647,    258.9,  10.2000,  34.6848,2,  34.6839,2,   -999.0,9,     16.7,2,    35.81,2,    35.19,2,     0.00,2,     2.51,2,    0.074,2,    0.038,2, -999.000,9,-999.0000,9,  -999.00,9,   2257.4,2,   2304.6,2,  -999.00,9,-999.0000,-999.000, 10.1696,-999.000
      325023_1,  P14N,   113,  1,     28,     28,2,19930805,1407,  7.5010, 178.9905, 5647,    305.9,   9.7985,  34.6767,2,  34.6752,2,   -999.0,9,     14.2,2,    37.74,2,    36.21,2,     0.00,2,     2.57,2,    0.044,2,    0.022,2, -999.000,9,-999.0000,9,  -999.00,9,   2265.7,2,   2303.8,2,     7.43,2,-999.0000,-999.000,  9.7634,-999.000
      325023_1,  P14N,   113,  1,     27,     27,2,19930805,1407,  7.5010, 178.9905, 5647,    404.8,   8.8795,  34.6313,2,  34.6303,2,   -999.0,9,     18.7,2,    43.47,2,    37.28,2,     0.00,2,     2.68,2,    0.016,2,    0.010,2, -999.000,9,-999.0000,9,  -999.00,9,   2274.2,2,   2307.9,2,  -999.00,9,-999.0000,-999.000,  8.8356,-999.000
      325023_1,  P14N,   113,  1,     26,     26,2,19930805,1407,  7.5010, 178.9905, 5647,    505.5,   7.8567,  34.5800,2,  34.5756,2,   -999.0,9,     29.9,2,    50.21,2,    38.18,2,     0.00,2,     2.75,2,    0.015,2,    0.007,2, -999.000,9,-999.0000,9,  -999.00,9,   2273.8,2,   2318.0,2,     7.43,2,-999.0000,-999.000,  7.8053,-999.000
      325023_1,  P14N,   113,  1,     25,     25,2,19930805,1407,  7.5010, 178.9905, 5647,    606.7,   6.8237,  34.5468,2,  34.5464,2,   -999.0,9,     38.1,2,    62.15,2,    39.77,2,     0.00,2,     2.85,2,    0.007,2,    0.007,2, -999.000,9,-999.0000,9,  -999.00,9,   2284.2,2,   2326.4,2,     7.42,2,-999.0000,-999.000,  6.7664,-999.000
      325023_1,  P14N,   113,  1,     24,     24,2,19930805,1407,  7.5010, 178.9905, 5647,    706.8,   6.0468,  34.5412,2,  34.5409,2,   -999.0,9,     40.2,2,    71.30,2,    41.43,2,     0.00,2,     2.93,2,   -0.001,2,   -0.001,2, -999.000,9,-999.0000,9,  -999.00,9,   2295.1,2,   2335.1,2,     7.42,2,-999.0000,-999.000,  5.9837,-999.000
      325023_1,  P14N,   113,  1,     23,     23,2,19930805,1407,  7.5010, 178.9905, 5647,    807.8,   5.4354,  34.5445,2,  34.5430,2,   -999.0,9,     46.7,2,    79.26,2,    42.11,2,     0.00,2,     2.97,2,    0.006,2,   -0.001,2, -999.000,9,-999.0000,9,  -999.00,9,   2305.7,2,   2343.2,2,     7.42,2,-999.0000,-999.000,  5.3665,-999.000
      325023_1,  P14N,   113,  1,     22,     22,2,19930805,1407,  7.5010, 178.9905, 5647,    913.0,   4.8618,  34.5520,2,  34.5505,2,   -999.0,9,     50.1,2,    89.66,2,    42.71,2,     0.00,2,     3.00,2,    0.002,2,   -0.005,2, -999.000,9,-999.0000,9,  -999.00,9,   2315.8,2,   2359.9,2,  -999.00,9,-999.0000,-999.000,  4.7872,-999.000
      325023_1,  P14N,   113,  1,     21,     21,2,19930805,1407,  7.5010, 178.9905, 5647,   1013.5,   4.3810,  34.5607,2,  34.5597,2,   -999.0,9,     58.5,2,    99.28,2,    42.35,2,     0.00,2,     2.98,2,    0.003,2,    0.001,2, -999.000,9,-999.0000,9,  -999.00,9,   2322.2,2,   2369.4,2,  -999.00,9,-999.0000,-999.000,  4.3012,-999.000
      325023_1,  P14N,   113,  1,     20,     20,2,19930805,1407,  7.5010, 178.9905, 5647,   1208.9,   3.7224,  34.5779,2,  34.5760,2,   -999.0,9,     68.5,2,   113.85,2,    41.85,2,     0.00,2,     2.93,2, -999.000,5, -999.000,5, -999.000,9,-999.0000,9,  -999.00,9,   2333.4,2,   2384.0,2,     7.45,2,-999.0000,-999.000,  3.6314,-999.000
      325023_1,  P14N,   113,  1,     19,     19,2,19930805,1407,  7.5010, 178.9905, 5647,   1412.0,   3.1419,  34.5952,2,  34.5940,2,   -999.0,9,     80.5,2,   126.27,2,    41.54,2,     0.00,2,     2.87,2, -999.000,5, -999.000,5, -999.000,9,-999.0000,9,  -999.00,9,   2337.5,2,   2398.2,2,  -999.00,9,-999.0000,-999.000,  3.0398,-999.000
      325023_1,  P14N,   113,  1,     18,     18,2,19930805,1407,  7.5010, 178.9905, 5647,   1617.3,   2.7180,  34.6129,2,  34.6119,2,   -999.0,9,     91.1,2,   134.24,2,    40.30,2,     0.00,2,     2.82,2,   -0.001,2,   -0.005,2, -999.000,9,-999.0000,9,  -999.00,9,   2343.7,2,   2405.6,2,  -999.00,9,-999.0000,-999.000,  2.6037,-999.000
      325023_1,  P14N,   113,  1,     17,     17,2,19930805,1407,  7.5010, 178.9905, 5647,   1819.2,   2.4446,  34.6253,2,  34.6234,2,   -999.0,9,     97.3,2,   140.58,2,    39.77,2,     0.00,2,     2.78,2, -999.000,5, -999.000,5, -999.000,9,-999.0000,9,  -999.00,9,   2347.1,2,   2416.3,2,     7.50,2,-999.0000,-999.000,  2.3169,-999.000
      325023_1,  P14N,   113,  1,     16,     16,2,19930805,1407,  7.5010, 178.9905, 5647,   2023.3,   2.1893,  34.6386,2,  34.6372,2,   -999.0,9,    103.6,2,   148.65,2,    40.07,2,     0.00,2,     2.71,2, -999.000,5, -999.000,5, -999.000,9,-999.0000,9,  -999.00,9,   2353.1,2,   2419.6,2,  -999.00,9,-999.0000,-999.000,  2.0480,-999.000
      325023_1,  P14N,   113,  1,     15,     15,2,19930805,1407,  7.5010, 178.9905, 5647,   2231.9,   2.0133,  34.6492,2,  34.6472,2,   -999.0,9,    109.1,2,   148.53,2,    39.54,2,     0.00,2,     2.70,2, -999.000,5, -999.000,5, -999.000,9,-999.0000,9,  -999.00,9,   2354.0,2,   2425.9,2,  -999.00,9,-999.0000,-999.000,  1.8568,-999.000
      325023_1,  P14N,   113,  1,     14,     14,2,19930805,1407,  7.5010, 178.9905, 5647,   2432.8,   1.8837,  34.6570,2,  34.6560,2,   -999.0,9,    116.2,2,   150.51,2,    39.10,2,     0.00,2,     2.66,2, -999.000,5, -999.000,5, -999.000,9,-999.0000,9,  -999.00,9,   2348.7,2,   2426.5,2,     7.53,2,-999.0000,-999.000,  1.7116,-999.000
      325023_1,  P14N,   113,  1,     13,     13,2,19930805,1407,  7.5010, 178.9905, 5647,   2633.7,   1.8053,  34.6637,2,  34.6631,2,   -999.0,9,    119.1,2,   152.50,2,    38.66,2,     0.00,2,     2.65,2, -999.000,5, -999.000,5, -999.000,9,-999.0000,9,  -999.00,9,   2353.2,2,   2426.0,2,  -999.00,9,-999.0000,-999.000,  1.6164,-999.000
      325023_1,  P14N,   113,  1,     12,     12,2,19930805,1407,  7.5010, 178.9905, 5647,   2836.7,   1.7315,  34.6674,2,  34.6670,2,   -999.0,9,    124.8,2,   151.95,2,    38.36,2,     0.00,2,     2.61,2, -999.000,5, -999.000,5, -999.000,9,-999.0000,9,  -999.00,9,   2342.1,2,   2428.7,2,  -999.00,9,-999.0000,-999.000,  1.5253,-999.000
      325023_1,  P14N,   113,  1,     11,     11,2,19930805,1407,  7.5010, 178.9905, 5647,   3031.5,   1.6575,  34.6715,2,  34.6707,2,   -999.0,9,    131.3,2,   151.62,2,    37.88,2,     0.00,2,     2.58,2, -999.000,5, -999.000,5, -999.000,9,-999.0000,9,  -999.00,9,   2333.0,2,   2427.9,2,     7.55,2,-999.0000,-999.000,  1.4342,-999.000
      325023_1,  P14N,   113,  1,     10,     10,2,19930805,1407,  7.5010, 178.9905, 5647,   3344.8,   1.5515,  34.6782,2,  34.6770,2,   -999.0,9,    141.2,2,   150.02,2,    37.18,2,     0.00,2,     2.52,2, -999.000,5, -999.000,5, -999.000,9,-999.0000,9,  -999.00,9,   2325.1,2,   2425.3,2,  -999.00,9,-999.0000,-999.000,  1.2998,-999.000
      325023_1,  P14N,   113,  1,      9,      9,2,19930805,1407,  7.5010, 178.9905, 5647,   3651.2,   1.4487,  34.6855,2,  34.6839,2,   -999.0,9,    154.1,2,   145.70,2,    36.25,2,     0.00,2,     2.47,2, -999.000,5, -999.000,5, -999.000,9,-999.0000,9,  -999.00,9,   2316.4,2,   2421.0,2,  -999.00,9,-999.0000,-999.000,  1.1683,-999.000
      325023_1,  P14N,   113,  1,      8,      8,2,19930805,1407,  7.5010, 178.9905, 5647,   3957.9,   1.3797,  34.6904,2,  34.6898,2,   -999.0,9,    164.3,2,   142.23,2,    35.42,2,     0.00,2,     2.41,2, -999.000,5, -999.000,5, -999.000,9,-999.0000,9,  -999.00,9,   2316.4,2,   2414.4,2,     7.59,2,-999.0000,-999.000,  1.0687,-999.000
      325023_1,  P14N,   113,  1,      7,      7,2,19930805,1407,  7.5010, 178.9905, 5647,   4271.4,   1.3112,  34.6959,2,  34.6954,2,   -999.0,9,    175.0,2,   137.54,2,    34.55,2,     0.00,2,     2.35,2, -999.000,5, -999.000,5, -999.000,9,-999.0000,9,  -999.00,9,   2294.2,2,   2406.7,2,  -999.00,9,-999.0000,-999.000,  0.9679,-999.000
      325023_1,  P14N,   113,  1,      6,      6,2,19930805,1407,  7.5010, 178.9905, 5647,   4569.2,   1.2857,  34.6992,2,  34.6992,2,   -999.0,9,    182.5,2,   132.66,2,    33.95,2,     0.00,2,     2.31,2, -999.000,5, -999.000,5, -999.000,9,-999.0000,9,  -999.00,9,   2289.9,2,   2399.1,2,  -999.00,9,-999.0000,-999.000,  0.9093,-999.000
      325023_1,  P14N,   113,  1,      5,      5,2,19930805,1407,  7.5010, 178.9905, 5647,   4879.0,   1.2906,  34.7015,2,  34.7011,2,   -999.0,9,    186.9,2,   130.28,2,    33.57,2,     0.00,2,     2.27,2, -999.000,5, -999.000,5, -999.000,9,-999.0000,9,  -999.00,9,   2287.3,2,   2396.1,2,     7.61,2,-999.0000,-999.000,  0.8779,-999.000
      325023_1,  P14N,   113,  1,      4,      4,2,19930805,1407,  7.5010, 178.9905, 5647,   5174.4,   1.3043,  34.7028,2,  34.7021,2,   -999.0,9,    189.7,2,   128.11,2,    33.37,2,     0.00,2,     2.27,2, -999.000,5, -999.000,5, -999.000,9,-999.0000,9,  -999.00,9,   2285.4,2,   2390.9,2,  -999.00,9,-999.0000,-999.000,  0.8554,-999.000
      325023_1,  P14N,   113,  1,      3,      3,2,19930805,1407,  7.5010, 178.9905, 5647,   5488.2,   1.3336,  34.7029,2,  34.7023,2,   -999.0,9,    190.7,2,   127.79,2,    33.22,2,     0.00,2,     2.25,2, -999.000,5, -999.000,5, -999.000,9,-999.0000,9,  -999.00,9,   2286.0,2,   2392.7,2,  -999.00,9,-999.0000,-999.000,  0.8445,-999.000
      325023_1,  P14N,   113,  1,      2,      2,2,19930805,1407,  7.5010, 178.9905, 5647,   5632.3,   1.3507,  34.7031,2,  34.7019,2,   -999.0,9,    191.0,2,   127.68,2,    33.24,2,     0.00,2,     2.24,2, -999.000,5, -999.000,5, -999.000,9,-999.0000,9,  -999.00,9,   1910.8,4,   2388.7,2,  -999.00,9,-999.0000,-999.000,  0.8426,-999.000
      325023_1,  P14N,   113,  1,      1,      1,2,19930805,1407,  7.5010, 178.9905, 5647,   5632.3,   1.3507,  34.7031,2,  34.7029,2,   -999.0,9,    190.0,2,   127.57,2,    33.22,2,     0.00,2,     2.24,2, -999.000,5, -999.000,5, -999.000,9,-999.0000,9,  -999.00,9,   2284.0,2,   2389.5,2,  -999.00,9,-999.0000,-999.000,  0.8426,-999.000