BOTTLE,20131125MIRCJHATS
EXPOCODE,SECT_ID,STNNBR,CASTNO,SAMPNO,BTLNBR,BTLNBR_FLAG_W,DATE,TIME,LATITUDE,LONGITUDE,DEPTH,CTDPRS,CTDTMP,CTDSAL,CTDSAL_FLAG_W,SALNTY,SALNTY_FLAG_W,CTDOXY,CTDOXY_FLAG_W,OXYGEN,OXYGEN_FLAG_W,SILCAT,SILCAT_FLAG_W,NITRAT,NITRAT_FLAG_W,NITRIT,NITRIT_FLAG_W,PHSPHT,PHSPHT_FLAG_W,CFC-11,CFC-11_FLAG_W,CFC-12,CFC-12_FLAG_W,TRITUM,TRITUM_FLAG_W,HELIUM,HELIUM_FLAG_W,DELHE3,DELHE3_FLAG_W,TCARBN,TCARBN_FLAG_W,ALKALI,ALKALI_FLAG_W,PH,PH_FLAG_W,HELIER,DELHER,THETA,TRITER
,,,,,,,,,,,,DBAR,ITS-90,PSS-78,,PSS-78,,UMOL/KG,,UMOL/KG,,UMOL/KG,,UMOL/KG,,UMOL/KG,,UMOL/KG,,PMOL/KG,,PMOL/KG,,TU,,NMOL/KG,,PERCNT,,UMOL/KG,,UMOL/KG,,25_DEG,,NMOL/KG,PERCNT,DEG C,TU
      325024_1,  P14N,   131,  1,     36,     36,2,19930815,0358,  2.9995, 179.0145, 5514,      2.4,  29.8524,  33.8567,2,  33.8919,2,   -999.0,9,    200.1,2,     1.42,2,     0.03,2,     0.00,2,     0.12,2,    1.587,2,    0.876,2, -999.000,9,-999.0000,9,  -999.00,9,   1872.5,2,   -999.0,9,  -999.00,9,-999.0000,-999.000, 29.8519,-999.000
      325024_1,  P14N,   131,  1,     35,     35,2,19930815,0358,  2.9995, 179.0145, 5514,     38.7,  29.6618,  33.9347,2,  33.9428,2,   -999.0,9,    196.7,2,     1.37,2,     0.03,2,     0.00,2,     0.14,2,    1.581,2,    0.876,2, -999.000,9,-999.0000,9,  -999.00,9,   1876.7,2,   -999.0,9,  -999.00,9,-999.0000,-999.000, 29.6523,-999.000
      325024_1,  P14N,   131,  1,     34,     34,2,19930815,0358,  2.9995, 179.0145, 5514,     69.0,  29.2651,  34.7945,2,  34.8195,2,   -999.0,9,    200.8,2,     1.12,2,     0.03,2,     0.00,2,     0.22,2,    1.599,2,    0.872,2, -999.000,9,-999.0000,9,  -999.00,9,   1937.5,2,   -999.0,9,  -999.00,9,-999.0000,-999.000, 29.2483,-999.000
      325024_1,  P14N,   131,  1,     33,     33,2,19930815,0358,  2.9995, 179.0145, 5514,     99.4,  24.9120,  34.7689,2,  34.7730,2,   -999.0,9,    155.5,2,     4.73,2,     4.91,2,     0.42,2,     0.52,2,    1.586,2,    0.849,2, -999.000,9,-999.0000,9,  -999.00,9,   2010.7,2,   -999.0,9,  -999.00,9,-999.0000,-999.000, 24.8905,-999.000
      325024_1,  P14N,   131,  1,     32,     32,2,19930815,0358,  2.9995, 179.0145, 5514,    129.7,  21.2278,  34.7604,2,  34.7748,2,   -999.0,9,    141.6,2,     8.13,2,     8.79,2,     0.04,2,     0.73,2,    1.589,2,    0.810,2, -999.000,9,-999.0000,9,  -999.00,9,   2052.8,2,   -999.0,9,  -999.00,9,-999.0000,-999.000, 21.2028,-999.000
      325024_1,  P14N,   131,  1,     31,     31,2,19930815,0358,  2.9995, 179.0145, 5514,    160.2,  15.3421,  34.6358,2,  34.6346,2,   -999.0,9,    136.2,2,    15.59,2,    14.70,2,     0.01,2,     1.11,2,    1.519,2,    0.743,2, -999.000,9,-999.0000,9,  -999.00,9,   2107.9,2,   -999.0,9,  -999.00,9,-999.0000,-999.000, 15.3176,-999.000
      325024_1,  P14N,   131,  1,     30,     30,2,19930815,0358,  2.9995, 179.0145, 5514,    211.4,  11.2350,  34.5601,2,  34.5465,2,   -999.0,9,    114.3,2,    29.15,2,    23.47,2,     0.01,2,     1.71,2,    0.866,6,    0.422,6, -999.000,9,-999.0000,9,  -999.00,9,   2174.4,2,   -999.0,9,  -999.00,9,-999.0000,-999.000, 11.2086,-999.000
      325024_1,  P14N,   131,  1,     29,     29,2,19930815,0358,  2.9995, 179.0145, 5514,    261.2,  11.0647,  34.7831,2,  34.7840,2,   -999.0,9,     68.8,2,    25.43,2,    29.01,2,     0.01,2,     2.04,2,    0.361,2,    0.178,2, -999.000,9,-999.0000,9,  -999.00,9,   2214.2,2,   -999.0,9,  -999.00,9,-999.0000,-999.000, 11.0324,-999.000
      325024_1,  P14N,   131,  1,     28,     28,2,19930815,0358,  2.9995, 179.0145, 5514,    311.9,  10.6181,  34.7553,2,  34.7540,2,   -999.0,9,     60.1,2,    28.01,2,    30.70,2,     0.00,2,     2.15,2,    0.245,2,    0.121,2, -999.000,9,-999.0000,9,  -999.00,9,   2226.3,2,   -999.0,9,  -999.00,9,-999.0000,-999.000, 10.5804,-999.000
      325024_1,  P14N,   131,  1,     27,     27,2,19930815,0358,  2.9995, 179.0145, 5514,    412.2,   9.2040,  34.6467,2,  34.6461,2,   -999.0,9,    101.9,2,    31.81,2,    29.04,2,     0.00,2,     2.07,2,    0.279,2,    0.136,2, -999.000,9,-999.0000,9,  -999.00,9,   2208.4,2,   -999.0,9,  -999.00,9,-999.0000,-999.000,  9.1582,-999.000
      325024_1,  P14N,   131,  1,     26,     26,2,19930815,0358,  2.9995, 179.0145, 5514,    512.7,   7.6813,  34.5922,2,  34.5918,2,   -999.0,9,     53.0,2,    45.56,2,    36.87,2,     0.00,2,     2.61,2,    0.027,2,    0.014,2, -999.000,9,-999.0000,9,  -999.00,9,   2262.4,2,   -999.0,9,  -999.00,9,-999.0000,-999.000,  7.6299,-999.000
      325024_1,  P14N,   131,  1,     25,     25,2,19930815,0358,  2.9995, 179.0145, 5514,    613.1,   6.6061,  34.5584,2,  34.5578,2,   -999.0,9,     63.7,2,    55.25,2,    38.07,2,     0.00,2,     2.71,2,    0.012,2,    0.007,2, -999.000,9,-999.0000,9,  -999.00,9,   2275.6,2,   -999.0,9,  -999.00,9,-999.0000,-999.000,  6.5492,-999.000
      325024_1,  P14N,   131,  1,     24,     24,2,19930815,0358,  2.9995, 179.0145, 5514,    713.8,   5.8216,  34.5392,2,  34.5388,2,   -999.0,9,     93.3,2,    61.09,2,    36.48,2,     0.00,2,     2.59,2,    0.017,2,    0.012,2, -999.000,9,-999.0000,9,  -999.00,9,   2260.6,2,   -999.0,9,  -999.00,9,-999.0000,-999.000,  5.7591,-999.000
      325024_1,  P14N,   131,  1,     23,     23,2,19930815,0358,  2.9995, 179.0145, 5514,    814.3,   5.4136,  34.5441,2,  34.5441,2,   -999.0,9,     84.3,2,    67.74,2,    38.18,2,     0.00,2,     2.71,2,    0.006,2,    0.005,2, -999.000,9,-999.0000,9,  -999.00,9,   2276.9,2,   -999.0,9,  -999.00,9,-999.0000,-999.000,  5.3443,-999.000
      325024_1,  P14N,   131,  1,     22,     22,2,19930815,0358,  2.9995, 179.0145, 5514,    914.6,   4.9877,  34.5435,2,  34.5438,2,   -999.0,9,     94.1,2,    77.05,2,    37.39,2,     0.00,2,     2.65,2,    0.006,2,    0.003,2, -999.000,9,-999.0000,9,  -999.00,9,   2279.7,2,   -999.0,9,  -999.00,9,-999.0000,-999.000,  4.9121,-999.000
      325024_1,  P14N,   131,  1,     21,     21,2,19930815,0358,  2.9995, 179.0145, 5514,   1015.9,   4.5677,  34.5529,2,  34.5538,2,   -999.0,9,     92.6,2,    88.43,2,    37.92,2,     0.00,2,     2.70,2,    0.003,2,    0.000,2, -999.000,9,-999.0000,9,  -999.00,9,   2287.9,2,   -999.0,9,  -999.00,9,-999.0000,-999.000,  4.4862,-999.000
      325024_1,  P14N,   131,  1,     20,     20,2,19930815,0358,  2.9995, 179.0145, 5514,   1217.1,   3.7271,  34.5783,2,  34.5780,2,   -999.0,9,     81.6,2,   106.88,2,    40.09,2,     0.00,2,     2.84,2,   -0.002,2,   -0.001,2, -999.000,9,-999.0000,9,  -999.00,9,   2324.7,2,   -999.0,9,  -999.00,9,-999.0000,-999.000,  3.6355,-999.000
      325024_1,  P14N,   131,  1,     19,     19,2,19930815,0358,  2.9995, 179.0145, 5514,   1418.4,   3.1875,  34.5943,2,  34.5949,2,   -999.0,9,     97.1,2,   116.12,2,    39.02,2,     0.00,2,     2.78,2,   -0.002,2,    0.000,2, -999.000,9,-999.0000,9,  -999.00,9,   2326.1,2,   -999.0,9,  -999.00,9,-999.0000,-999.000,  3.0843,-999.000
      325024_1,  P14N,   131,  1,     18,     18,2,19930815,0358,  2.9995, 179.0145, 5514,   1618.8,   2.7892,  34.6108,2,  34.6113,2,   -999.0,9,     99.8,2,   125.63,2,    39.05,2,     0.00,2,     2.76,2, -999.000,5, -999.000,5, -999.000,9,-999.0000,9,  -999.00,9,   2335.7,2,   -999.0,9,  -999.00,9,-999.0000,-999.000,  2.6738,-999.000
      325024_1,  P14N,   131,  1,     17,     17,2,19930815,0358,  2.9995, 179.0145, 5514,   1820.7,   2.5182,  34.6232,2,  34.6231,2,   -999.0,9,    105.9,2,   130.99,2,    38.72,2,     0.00,2,     2.74,2, -999.000,5, -999.000,5, -999.000,9,-999.0000,9,  -999.00,9,   2340.2,2,   -999.0,9,  -999.00,9,-999.0000,-999.000,  2.3893,-999.000
      325024_1,  P14N,   131,  1,     16,     16,2,19930815,0358,  2.9995, 179.0145, 5514,   2022.6,   2.2754,  34.6363,2,  34.6355,2,   -999.0,9,    109.9,2,   136.80,2,    38.43,2,     0.00,2,     2.73,2,    0.000,2,   -0.003,2, -999.000,9,-999.0000,9,  -999.00,9,   2345.2,2,   -999.0,9,  -999.00,9,-999.0000,-999.000,  2.1329,-999.000
      325024_1,  P14N,   131,  1,     15,     15,2,19930815,0358,  2.9995, 179.0145, 5514,   2225.1,   2.0456,  34.6492,2,  34.6479,2,   -999.0,9,    115.5,2,   141.57,2,    38.10,2,     0.00,2,     2.69,2, -999.000,5, -999.000,5, -999.000,9,-999.0000,9,  -999.00,9,   2344.4,2,   -999.0,9,  -999.00,9,-999.0000,-999.000,  1.8891,-999.000
      325024_1,  P14N,   131,  1,     14,     14,2,19930815,0358,  2.9995, 179.0145, 5514,   2428.0,   1.8972,  34.6578,2,  34.6573,2,   -999.0,9,    120.1,2,   144.87,2,    37.81,2,     0.00,2,     2.67,2, -999.000,5, -999.000,5, -999.000,9,-999.0000,9,  -999.00,9,   2342.9,2,   -999.0,9,  -999.00,9,-999.0000,-999.000,  1.7253,-999.000
      325024_1,  P14N,   131,  1,     13,     13,2,19930815,0358,  2.9995, 179.0145, 5514,   2631.6,   1.8170,  34.6622,2,  34.6623,2,   -999.0,9,    124.6,2,   145.42,2,    37.48,2,     0.00,2,     2.64,2, -999.000,5, -999.000,5, -999.000,9,-999.0000,9,  -999.00,9,   2341.2,2,   -999.0,9,  -999.00,9,-999.0000,-999.000,  1.6281,-999.000
      325024_1,  P14N,   131,  1,     12,     12,2,19930815,0358,  2.9995, 179.0145, 5514,   2833.1,   1.7459,  34.6660,2,  34.6669,2,   -999.0,9,    128.6,2,   145.53,2,    37.29,2,     0.00,2,     2.62,2, -999.000,5, -999.000,5, -999.000,9,-999.0000,9,  -999.00,9,   2339.8,2,   -999.0,9,  -999.00,9,-999.0000,-999.000,  1.5397,-999.000
      325024_1,  P14N,   131,  1,     11,     11,2,19930815,0358,  2.9995, 179.0145, 5514,   3034.9,   1.6723,  34.6704,2,  34.6704,2,   -999.0,9,    134.5,2,   146.29,2,    36.92,2,     0.00,2,     2.58,2,    0.004,2,    0.000,2, -999.000,9,-999.0000,9,  -999.00,9,   -999.0,9,   -999.0,9,  -999.00,9,-999.0000,-999.000,  1.4483,-999.000
      325024_1,  P14N,   131,  1,     10,     10,2,19930815,0358,  2.9995, 179.0145, 5514,   3339.1,   1.5731,  34.6769,2,  34.6772,2,   -999.0,9,    143.2,2,   145.98,2,    36.41,2,     0.00,2,     2.54,2, -999.000,5, -999.000,5, -999.000,9,-999.0000,9,  -999.00,9,   -999.0,9,   -999.0,9,  -999.00,9,-999.0000,-999.000,  1.3215,-999.000
      325024_1,  P14N,   131,  1,      9,      9,2,19930815,0358,  2.9995, 179.0145, 5514,   3642.2,   1.4900,  34.6832,2,  34.6827,2,   -999.0,9,    152.8,2,   143.76,2,    35.82,2,     0.00,2,     2.49,2, -999.000,5, -999.000,5, -999.000,9,-999.0000,9,  -999.00,9,   2319.0,2,   -999.0,9,  -999.00,9,-999.0000,-999.000,  1.2095,-999.000
      325024_1,  P14N,   131,  1,      8,      8,2,19930815,0358,  2.9995, 179.0145, 5514,   3946.8,   1.4185,  34.6890,2,  34.6888,2,   -999.0,9,    162.2,2,   140.91,2,    35.14,2,     0.00,2,     2.44,2,   -0.001,2,   -0.003,2, -999.000,9,-999.0000,9,  -999.00,9,   2312.1,2,   -999.0,9,  -999.00,9,-999.0000,-999.000,  1.1076,-999.000
      325024_1,  P14N,   131,  1,      7,      7,2,19930815,0358,  2.9995, 179.0145, 5514,   4253.8,   1.3210,  34.6959,2,  34.6957,2,   -999.0,9,    175.0,2,   135.54,2,    34.24,2,     0.00,2,     2.37,2, -999.000,5, -999.000,5, -999.000,9,-999.0000,9,  -999.00,9,   2299.8,2,   -999.0,9,  -999.00,9,-999.0000,-999.000,  0.9793,-999.000
      325024_1,  P14N,   131,  1,      6,      6,2,19930815,0358,  2.9995, 179.0145, 5514,   4562.0,   1.2451,  34.7016,2,  34.7031,2,   -999.0,9,    186.4,2,   129.58,2,    33.31,2,     0.00,2,     2.30,2, -999.000,5, -999.000,5, -999.000,9,-999.0000,9,  -999.00,9,   2287.2,2,   -999.0,9,  -999.00,9,-999.0000,-999.000,  0.8709,-999.000
      325024_1,  P14N,   131,  1,      5,      5,3,19930815,0358,  2.9995, 179.0145, 5514,   4873.7,   1.2606,  34.7030,2,  34.6905,4,   -999.0,9,    173.1,4,   131.58,4,    34.04,4,     0.00,4,     2.37,4, -999.000,5, -999.000,5, -999.000,9,-999.0000,9,  -999.00,9,   -999.0,9,   -999.0,9,  -999.00,9,-999.0000,-999.000,  0.8494,-999.000
      325024_1,  P14N,   131,  1,      4,      4,2,19930815,0358,  2.9995, 179.0145, 5514,   5184.8,   1.2893,  34.7036,2,-999.0000,9,   -999.0,9,   -999.0,9,  -999.00,9,  -999.00,9,  -999.00,9,  -999.00,9, -999.000,5, -999.000,5, -999.000,9,-999.0000,9,  -999.00,9,   -999.0,9,   -999.0,9,  -999.00,9,-999.0000,-999.000,  0.8397,-999.000
      325024_1,  P14N,   131,  1,      3,      3,2,19930815,0358,  2.9995, 179.0145, 5514,   5496.8,   1.3243,  34.7040,2,  34.7037,2,   -999.0,9,    190.5,2,   126.26,2,    32.89,2,     0.00,2,     2.28,2,    0.011,4,    0.002,2, -999.000,9,-999.0000,9,  -999.00,9,   2280.4,2,   -999.0,9,  -999.00,9,-999.0000,-999.000,  0.8345,-999.000
      325024_1,  P14N,   131,  1,      1,      1,2,19930815,0358,  2.9995, 179.0145, 5514,   5602.6,   1.3371,  34.7037,2,  34.7044,2,   -999.0,9,    189.1,2,   126.09,2,    32.82,2,     0.00,2,     2.28,2, -999.000,5, -999.000,5, -999.000,9,-999.0000,9,  -999.00,9,   2280.6,2,   -999.0,9,  -999.00,9,-999.0000,-999.000,  0.8333,-999.000
      325024_1,  P14N,   131,  1,      2,      2,2,19930815,0358,  2.9995, 179.0145, 5514,   5602.9,   1.3372,  34.7035,2,  34.7036,2,   -999.0,9,    190.9,2,   126.17,2,    32.78,2,     0.00,2,     2.28,2,    0.005,2,    0.003,2, -999.000,9,-999.0000,9,  -999.00,9,   2278.4,2,   -999.0,9,  -999.00,9,-999.0000,-999.000,  0.8334,-999.000