BOTTLE,20131125MIRCJHATS
EXPOCODE,SECT_ID,STNNBR,CASTNO,SAMPNO,BTLNBR,BTLNBR_FLAG_W,DATE,TIME,LATITUDE,LONGITUDE,DEPTH,CTDPRS,CTDTMP,CTDSAL,CTDSAL_FLAG_W,SALNTY,SALNTY_FLAG_W,CTDOXY,CTDOXY_FLAG_W,OXYGEN,OXYGEN_FLAG_W,SILCAT,SILCAT_FLAG_W,NITRAT,NITRAT_FLAG_W,NITRIT,NITRIT_FLAG_W,PHSPHT,PHSPHT_FLAG_W,CFC-11,CFC-11_FLAG_W,CFC-12,CFC-12_FLAG_W,TRITUM,TRITUM_FLAG_W,HELIUM,HELIUM_FLAG_W,DELHE3,DELHE3_FLAG_W,TCARBN,TCARBN_FLAG_W,ALKALI,ALKALI_FLAG_W,PH,PH_FLAG_W,HELIER,DELHER,THETA,TRITER
,,,,,,,,,,,,DBAR,ITS-90,PSS-78,,PSS-78,,UMOL/KG,,UMOL/KG,,UMOL/KG,,UMOL/KG,,UMOL/KG,,UMOL/KG,,PMOL/KG,,PMOL/KG,,TU,,NMOL/KG,,PERCNT,,UMOL/KG,,UMOL/KG,,25_DEG,,NMOL/KG,PERCNT,DEG C,TU
      325023_1,  P14N,    92,  1,     36,     36,2,19930731,0236, 16.4972, 178.9947, 4994,      2.8,  27.7352,  34.6362,2,  34.6389,2,   -999.0,9,    201.3,2,     4.47,2,     0.00,2,     0.00,2,     0.14,2, -999.000,5, -999.000,5, -999.000,9,-999.0000,9,  -999.00,9,   -999.0,9,   -999.0,9,  -999.00,9,-999.0000,-999.000, 27.7345,-999.000
      325023_1,  P14N,    92,  1,     35,     35,2,19930731,0236, 16.4972, 178.9947, 4994,     38.5,  27.5406,  34.6329,2,  34.6356,2,   -999.0,9,    201.4,2,     4.40,2,     0.00,2,     0.00,2,     0.14,2, -999.000,5, -999.000,5, -999.000,9,-999.0000,9,  -999.00,9,   -999.0,9,   -999.0,9,  -999.00,9,-999.0000,-999.000, 27.5317,-999.000
      325023_1,  P14N,    92,  1,     34,     34,2,19930731,0236, 16.4972, 178.9947, 4994,     68.8,  27.2274,  34.6021,2,  34.6236,2,   -999.0,9,    202.5,2,     4.34,2,     0.00,2,     0.00,2,     0.14,2, -999.000,5, -999.000,5, -999.000,9,-999.0000,9,  -999.00,9,   -999.0,9,   -999.0,9,  -999.00,9,-999.0000,-999.000, 27.2115,-999.000
      325023_1,  P14N,    92,  1,     33,     33,2,19930731,0236, 16.4972, 178.9947, 4994,     98.6,  26.3686,  34.8886,2,  34.8658,2,   -999.0,9,    212.2,2,     4.49,2,     0.00,2,     0.00,2,     0.08,2, -999.000,5, -999.000,5, -999.000,9,-999.0000,9,  -999.00,9,   -999.0,9,   -999.0,9,  -999.00,9,-999.0000,-999.000, 26.3464,-999.000
      325023_1,  P14N,    92,  1,     32,     32,2,19930731,0236, 16.4972, 178.9947, 4994,    128.8,  24.9326,  35.0083,2,  35.0083,2,   -999.0,9,    211.4,2,     4.64,2,     0.00,2,     0.00,2,     0.06,2, -999.000,5, -999.000,5, -999.000,9,-999.0000,9,  -999.00,9,   -999.0,9,   -999.0,9,  -999.00,9,-999.0000,-999.000, 24.9047,-999.000
      325023_1,  P14N,    92,  1,     31,     31,2,19930731,0236, 16.4972, 178.9947, 4994,    158.5,  23.4399,  35.1961,2,  35.3166,4,   -999.0,9,    204.7,2,     4.57,2,     0.00,2,     0.00,2,     0.07,2, -999.000,5, -999.000,5, -999.000,9,-999.0000,9,  -999.00,9,   -999.0,9,   -999.0,9,  -999.00,9,-999.0000,-999.000, 23.4070,-999.000
      325023_1,  P14N,    92,  1,     30,     30,2,19930731,0236, 16.4972, 178.9947, 4994,    208.9,  21.6486,  35.3027,2,  35.3154,2,   -999.0,9,    207.7,2,     4.72,2,     0.00,2,     0.23,2,     0.07,2, -999.000,5, -999.000,5, -999.000,9,-999.0000,9,  -999.00,9,   -999.0,9,   -999.0,9,  -999.00,9,-999.0000,-999.000, 21.6077,-999.000
      325023_1,  P14N,    92,  1,     29,     29,2,19930731,0236, 16.4972, 178.9947, 4994,    259.3,  17.4723,  34.8722,2,  34.8588,2,   -999.0,9,    196.1,2,     7.24,2,     4.39,2,     0.01,2,     0.39,2,   -0.008,4,    1.196,4, -999.000,9,-999.0000,9,  -999.00,9,   -999.0,9,   -999.0,9,  -999.00,9,-999.0000,-999.000, 17.4287,-999.000
      325023_1,  P14N,    92,  1,     28,     28,2,19930731,0236, 16.4972, 178.9947, 4994,    309.9,  13.9139,  34.4942,2,  34.4966,2,   -999.0,9,    194.0,2,    12.75,2,     9.55,2,     0.00,2,     0.73,2,    2.489,4,    1.153,4, -999.000,9,-999.0000,9,  -999.00,9,   -999.0,9,   -999.0,9,  -999.00,9,-999.0000,-999.000, 13.8693,-999.000
      325023_1,  P14N,    92,  1,     27,     27,2,19930731,0236, 16.4972, 178.9947, 4994,    410.6,   9.6723,  34.1952,2,  34.1933,2,   -999.0,9,    153.0,2,    33.50,2,    21.01,2,     0.00,2,     1.56,2, -999.000,5, -999.000,5, -999.000,9,-999.0000,9,  -999.00,9,   -999.0,9,   -999.0,9,  -999.00,9,-999.0000,-999.000,  9.6256,-999.000
      325023_1,  P14N,    92,  1,     26,     26,2,19930731,0236, 16.4972, 178.9947, 4994,    510.9,   7.4093,  34.2209,2,  34.2213,2,   -999.0,9,     76.6,2,    58.54,2,    32.18,2,     0.00,2,     2.38,2, -999.000,5, -999.000,5, -999.000,9,-999.0000,9,  -999.00,9,   -999.0,9,   -999.0,9,  -999.00,9,-999.0000,-999.000,  7.3594,-999.000
      325023_1,  P14N,    92,  1,     25,     25,2,19930731,0236, 16.4972, 178.9947, 4994,    609.8,   6.2588,  34.3007,2,  34.3018,2,   -999.0,9,     45.8,2,    75.86,2,    37.41,2,     0.00,2,     2.74,2,    0.076,4,    0.025,4, -999.000,9,-999.0000,9,  -999.00,9,   -999.0,9,   -999.0,9,  -999.00,9,-999.0000,-999.000,  6.2040,-999.000
      325023_1,  P14N,    92,  1,     24,     24,2,19930731,0236, 16.4972, 178.9947, 4994,    708.4,   5.6997,  34.4065,2,  34.4060,2,   -999.0,9,     42.3,2,    85.88,2,    39.30,2,     0.00,2,     2.84,2,    0.009,4,    0.001,4, -999.000,9,-999.0000,9,  -999.00,9,   -999.0,9,   -999.0,9,  -999.00,9,-999.0000,-999.000,  5.6385,-999.000
      325023_1,  P14N,    92,  1,     23,     23,2,19930731,0236, 16.4972, 178.9947, 4994,    808.0,   5.2306,  34.4573,2,  34.4568,2,   -999.0,9,     45.3,2,    94.19,2,    40.08,2,     0.00,2,     2.87,2,    0.000,4,    0.000,4, -999.000,9,-999.0000,9,  -999.00,9,   -999.0,9,   -999.0,9,  -999.00,9,-999.0000,-999.000,  5.1631,-999.000
      325023_1,  P14N,    92,  1,     22,     22,2,19930731,0236, 16.4972, 178.9947, 4994,    910.5,   4.7209,  34.4964,2,  34.4960,2,   -999.0,9,     49.3,2,   104.04,2,    40.71,2,     0.00,2,     2.98,3, -999.000,5, -999.000,5, -999.000,9,-999.0000,9,  -999.00,9,   -999.0,9,   -999.0,9,  -999.00,9,-999.0000,-999.000,  4.6476,-999.000
      325023_1,  P14N,    92,  1,     21,     21,2,19930731,0236, 16.4972, 178.9947, 4994,   1013.9,   4.3064,  34.5185,2,  34.5185,2,   -999.0,9,     54.0,2,   112.17,2,    40.89,2,     0.00,2,     2.89,2, -999.000,5, -999.000,5, -999.000,9,-999.0000,9,  -999.00,9,   -999.0,9,   -999.0,9,  -999.00,9,-999.0000,-999.000,  4.2272,-999.000
      325023_1,  P14N,    92,  1,     20,     20,2,19930731,0236, 16.4972, 178.9947, 4994,   1218.0,   3.7380,  34.5461,2,  34.5444,2,   -999.0,9,     66.0,2,   122.73,2,    40.51,2,     0.00,2,     2.85,2, -999.000,5, -999.000,5, -999.000,9,-999.0000,9,  -999.00,9,   -999.0,9,   -999.0,9,  -999.00,9,-999.0000,-999.000,  3.6463,-999.000
      325023_1,  P14N,    92,  1,     19,     19,2,19930731,0236, 16.4972, 178.9947, 4994,   1419.2,   3.2128,  34.5680,2,  34.5673,2,   -999.0,9,     74.6,2,   133.79,2,    40.23,2,     0.00,2,     2.82,2, -999.000,5, -999.000,5, -999.000,9,-999.0000,9,  -999.00,9,   -999.0,9,   -999.0,9,  -999.00,9,-999.0000,-999.000,  3.1093,-999.000
      325023_1,  P14N,    92,  1,     18,     18,2,19930731,0236, 16.4972, 178.9947, 4994,   1622.8,   2.7091,  34.5898,2,  34.5889,2,   -999.0,9,     84.0,2,   144.26,2,    39.81,2,     0.00,2,     2.78,2, -999.000,5, -999.000,5, -999.000,9,-999.0000,9,  -999.00,9,   -999.0,9,   -999.0,9,  -999.00,9,-999.0000,-999.000,  2.5945,-999.000
      325023_1,  P14N,    92,  1,     17,     17,2,19930731,0236, 16.4972, 178.9947, 4994,   1825.7,   2.4148,  34.6098,2,  34.6089,2,   -999.0,9,     92.2,2,   150.33,2,    39.48,2,     0.00,2,     2.75,2, -999.000,5, -999.000,5, -999.000,9,-999.0000,9,  -999.00,9,   -999.0,9,   -999.0,9,  -999.00,9,-999.0000,-999.000,  2.2871,-999.000
      325023_1,  P14N,    92,  1,     16,     16,2,19930731,0236, 16.4972, 178.9947, 4994,   2024.8,   2.1892,  34.6249,2,  34.6244,2,   -999.0,9,    100.2,2,   153.74,2,    39.01,2,     0.00,2,     2.71,2, -999.000,5, -999.000,5, -999.000,9,-999.0000,9,  -999.00,9,   -999.0,9,   -999.0,9,  -999.00,9,-999.0000,-999.000,  2.0478,-999.000
      325023_1,  P14N,    92,  1,     15,     15,2,19930731,0236, 16.4972, 178.9947, 4994,   2230.9,   1.9980,  34.6360,2,  34.6356,2,   -999.0,9,    106.9,2,   156.94,2,    38.64,2,     0.00,2,     2.67,2, -999.000,5, -999.000,5, -999.000,9,-999.0000,9,  -999.00,9,   -999.0,9,   -999.0,9,  -999.00,9,-999.0000,-999.000,  1.8419,-999.000
      325023_1,  P14N,    92,  1,     14,     14,2,19930731,0236, 16.4972, 178.9947, 4994,   2437.2,   1.8611,  34.6446,2,  34.6452,2,   -999.0,9,    113.1,2,   159.02,2,    38.23,2,     0.00,2,     2.64,2, -999.000,5, -999.000,5, -999.000,9,-999.0000,9,  -999.00,9,   -999.0,9,   -999.0,9,  -999.00,9,-999.0000,-999.000,  1.6891,-999.000
      325023_1,  P14N,    92,  1,     13,     13,2,19930731,0236, 16.4972, 178.9947, 4994,   2639.6,   1.7542,  34.6528,2,  34.6537,2,   -999.0,9,    119.0,2,   159.30,2,    37.86,2,     0.00,2,     2.61,2, -999.000,5, -999.000,5, -999.000,9,-999.0000,9,  -999.00,9,   -999.0,9,   -999.0,9,  -999.00,9,-999.0000,-999.000,  1.5659,-999.000
      325023_1,  P14N,    92,  1,     12,     12,2,19930731,0236, 16.4972, 178.9947, 4994,   2840.6,   1.6851,  34.6599,2,  34.6613,2,   -999.0,9,    124.0,2,   159.13,2,    37.53,2,     0.00,2,     2.57,2, -999.000,5, -999.000,5, -999.000,9,-999.0000,9,  -999.00,9,   -999.0,9,   -999.0,9,  -999.00,9,-999.0000,-999.000,  1.4794,-999.000
      325023_1,  P14N,    92,  1,     11,     11,2,19930731,0236, 16.4972, 178.9947, 4994,   3048.2,   1.6150,  34.6658,2,  34.6656,2,   -999.0,9,    129.8,2,   159.41,2,    37.17,2,     0.00,2,     2.55,2, -999.000,5, -999.000,5, -999.000,9,-999.0000,9,  -999.00,9,   -999.0,9,   -999.0,9,  -999.00,9,-999.0000,-999.000,  1.3911,-999.000
      325023_1,  P14N,    92,  1,     10,     10,2,19930731,0236, 16.4972, 178.9947, 4994,   3253.7,   1.5763,  34.6710,2,  34.6703,2,   -999.0,9,    134.3,2,   159.47,2,    36.89,2,     0.00,2,     2.53,2, -999.000,5, -999.000,5, -999.000,9,-999.0000,9,  -999.00,9,   -999.0,9,   -999.0,9,  -999.00,9,-999.0000,-999.000,  1.3332,-999.000
      325023_1,  P14N,    92,  1,      9,      9,2,19930731,0236, 16.4972, 178.9947, 4994,   3456.8,   1.5308,  34.6751,2,  34.6750,2,   -999.0,9,    139.4,2,   158.41,2,    36.48,2,     0.00,2,     2.50,2, -999.000,5, -999.000,5, -999.000,9,-999.0000,9,  -999.00,9,   -999.0,9,   -999.0,9,  -999.00,9,-999.0000,-999.000,  1.2683,-999.000
      325023_1,  P14N,    92,  1,      8,      8,2,19930731,0236, 16.4972, 178.9947, 4994,   3660.2,   1.4971,  34.6784,2,  34.6784,2,   -999.0,9,    144.1,2,   156.01,2,    36.12,2,     0.00,2,     2.47,2, -999.000,5, -999.000,5, -999.000,9,-999.0000,9,  -999.00,9,   -999.0,9,   -999.0,9,  -999.00,9,-999.0000,-999.000,  1.2145,-999.000
      325023_1,  P14N,    92,  1,      7,      7,2,19930731,0236, 16.4972, 178.9947, 4994,   3860.0,   1.4754,  34.6814,2,  34.6815,2,   -999.0,9,    148.7,2,   154.73,2,    35.80,2,     0.00,2,     2.45,2, -999.000,5, -999.000,5, -999.000,9,-999.0000,9,  -999.00,9,   -999.0,9,   -999.0,9,  -999.00,9,-999.0000,-999.000,  1.1723,-999.000
      325023_1,  P14N,    92,  1,      6,      6,2,19930731,0236, 16.4972, 178.9947, 4994,   4058.8,   1.4615,  34.6834,2,  34.6839,2,   -999.0,9,    153.0,2,   152.12,2,    35.52,2,     0.00,2,     2.42,2, -999.000,5, -999.000,5, -999.000,9,-999.0000,9,  -999.00,9,   -999.0,9,   -999.0,9,  -999.00,9,-999.0000,-999.000,  1.1373,-999.000
      325023_1,  P14N,    92,  1,      5,      5,2,19930731,0236, 16.4972, 178.9947, 4994,   4265.7,   1.4501,  34.6862,2,  34.6856,2,   -999.0,9,    157.2,2,   149.96,2,    35.16,2,     0.00,2,     2.41,2, -999.000,5, -999.000,5, -999.000,9,-999.0000,9,  -999.00,9,   -999.0,9,   -999.0,9,  -999.00,9,-999.0000,-999.000,  1.1033,-999.000
      325023_1,  P14N,    92,  1,      4,      4,2,19930731,0236, 16.4972, 178.9947, 4994,   4474.4,   1.4136,  34.6901,2,  34.6899,2,   -999.0,9,    165.2,2,   144.93,2,    34.67,2,     0.00,2,     2.36,2, -999.000,5, -999.000,5, -999.000,9,-999.0000,9,  -999.00,9,   -999.0,9,   -999.0,9,  -999.00,9,-999.0000,-999.000,  1.0442,-999.000
      325023_1,  P14N,    92,  1,      3,      3,2,19930731,0236, 16.4972, 178.9947, 4994,   4682.3,   1.3746,  34.6946,2,  34.6945,2,   -999.0,9,    174.2,2,   139.28,2,    33.96,2,     0.00,2,     2.35,3, -999.000,5, -999.000,5, -999.000,9,-999.0000,9,  -999.00,9,   -999.0,9,   -999.0,9,  -999.00,9,-999.0000,-999.000,  0.9823,-999.000
      325023_1,  P14N,    92,  1,      2,      2,2,19930731,0236, 16.4972, 178.9947, 4994,   4889.4,   1.3497,  34.6978,2,  34.6984,2,   -999.0,9,    180.8,2,   134.97,2,    33.47,2,     0.00,2,     2.27,2, -999.000,5, -999.000,5, -999.000,9,-999.0000,9,  -999.00,9,   -999.0,9,   -999.0,9,  -999.00,9,-999.0000,-999.000,  0.9338,-999.000
      325023_1,  P14N,    92,  1,      1,      1,2,19930731,0236, 16.4972, 178.9947, 4994,   5055.6,   1.3357,  34.7001,2,  34.7009,2,   -999.0,9,    183.6,2,   132.42,2,    33.11,2,     0.00,2,     2.25,2, -999.000,5, -999.000,5, -999.000,9,-999.0000,9,  -999.00,9,   -999.0,9,   -999.0,9,  -999.00,9,-999.0000,-999.000,  0.9002,-999.000