BOTTLE,20131125MIRCJHATS
EXPOCODE,SECT_ID,STNNBR,CASTNO,SAMPNO,BTLNBR,BTLNBR_FLAG_W,DATE,TIME,LATITUDE,LONGITUDE,DEPTH,CTDPRS,CTDTMP,CTDSAL,CTDSAL_FLAG_W,SALNTY,SALNTY_FLAG_W,CTDOXY,CTDOXY_FLAG_W,OXYGEN,OXYGEN_FLAG_W,SILCAT,SILCAT_FLAG_W,NITRAT,NITRAT_FLAG_W,NITRIT,NITRIT_FLAG_W,PHSPHT,PHSPHT_FLAG_W,CFC-11,CFC-11_FLAG_W,CFC-12,CFC-12_FLAG_W,TRITUM,TRITUM_FLAG_W,HELIUM,HELIUM_FLAG_W,DELHE3,DELHE3_FLAG_W,TCARBN,TCARBN_FLAG_W,ALKALI,ALKALI_FLAG_W,PH,PH_FLAG_W,HELIER,DELHER,THETA,TRITER
,,,,,,,,,,,,DBAR,ITS-90,PSS-78,,PSS-78,,UMOL/KG,,UMOL/KG,,UMOL/KG,,UMOL/KG,,UMOL/KG,,UMOL/KG,,PMOL/KG,,PMOL/KG,,TU,,NMOL/KG,,PERCNT,,UMOL/KG,,UMOL/KG,,25_DEG,,NMOL/KG,PERCNT,DEG C,TU
      325024_1,  P14N,   175,  1,     36,     36,2,19930827,0527,-11.0050, 179.0013, 3043,      2.3,  28.5154,  34.3101,2,  34.3094,2,   -999.0,9,    198.3,2,     2.51,2,     0.05,2,     0.00,2,     0.20,2,    1.655,2,    0.898,2, -999.000,9,-999.0000,9,  -999.00,9,   -999.0,9,   -999.0,9,  -999.00,9,-999.0000,-999.000, 28.5149,-999.000
      325024_1,  P14N,   175,  1,     35,     35,2,19930827,0527,-11.0050, 179.0013, 3043,     30.5,  28.0741,  34.2981,2,  34.3061,2,   -999.0,9,    198.4,2,     2.24,2,     0.06,2,     0.00,2,     0.20,2,    1.648,2,    0.914,2, -999.000,9,-999.0000,9,  -999.00,9,   -999.0,9,   -999.0,9,  -999.00,9,-999.0000,-999.000, 28.0670,-999.000
      325024_1,  P14N,   175,  1,     34,     34,2,19930827,0527,-11.0050, 179.0013, 3043,     60.6,  28.2895,  34.5161,2,  34.5109,2,   -999.0,9,    197.9,2,     2.18,2,     0.02,2,     0.00,2,     0.21,2,    1.651,2,    0.906,2, -999.000,9,-999.0000,9,  -999.00,9,   -999.0,9,   -999.0,9,  -999.00,9,-999.0000,-999.000, 28.2752,-999.000
      325024_1,  P14N,   175,  1,     33,     33,2,19930827,0527,-11.0050, 179.0013, 3043,     90.3,  27.0520,  36.0113,2,  36.0056,2,   -999.0,9,    170.9,2,     2.12,2,     1.77,2,     0.32,2,     0.46,2,    1.676,2,    0.895,2, -999.000,9,-999.0000,9,  -999.00,9,   -999.0,9,   -999.0,9,  -999.00,9,-999.0000,-999.000, 27.0312,-999.000
      325024_1,  P14N,   175,  1,     32,     32,2,19930827,0527,-11.0050, 179.0013, 3043,    120.9,  24.1250,  36.1744,2,  36.1791,2,   -999.0,9,    146.3,2,     2.05,2,     5.64,2,     0.09,2,     0.65,2,    1.722,2,    0.915,2, -999.000,9,-999.0000,9,  -999.00,9,   -999.0,9,   -999.0,9,  -999.00,9,-999.0000,-999.000, 24.0993,-999.000
      325024_1,  P14N,   175,  1,     31,     31,2,19930827,0527,-11.0050, 179.0013, 3043,    150.0,  22.8972,  36.1115,2,  36.1082,2,   -999.0,9,    141.7,2,     2.19,2,     7.23,2,     0.02,2,     0.75,2,    1.733,6,    0.921,6, -999.000,9,-999.0000,9,  -999.00,9,   -999.0,9,   -999.0,9,  -999.00,9,-999.0000,-999.000, 22.8666,-999.000
      325024_1,  P14N,   175,  1,     30,     30,2,19930827,0527,-11.0050, 179.0013, 3043,    200.1,  20.2163,  35.8355,4,  35.7783,2,   -999.0,9,    142.5,2,     3.13,2,     8.56,2,     0.01,2,     0.84,2,    1.628,2,    0.853,2, -999.000,9,-999.0000,9,  -999.00,9,   -999.0,9,   -999.0,9,  -999.00,9,-999.0000,-999.000, 20.1788,-999.000
      325024_1,  P14N,   175,  1,     29,     29,2,19930827,0527,-11.0050, 179.0013, 3043,    250.8,  16.5282,  35.3299,2,  35.3409,2,   -999.0,9,    120.8,2,     6.67,2,    14.14,2,     0.00,2,     1.23,2,    1.217,2,    0.628,2, -999.000,9,-999.0000,9,  -999.00,9,   -999.0,9,   -999.0,9,  -999.00,9,-999.0000,-999.000, 16.4874,-999.000
      325024_1,  P14N,   175,  1,     28,     28,2,19930827,0527,-11.0050, 179.0013, 3043,    301.1,  13.2045,  34.9668,2,  34.9701,2,   -999.0,9,    100.1,2,    13.40,2,    21.13,2,     0.00,2,     1.68,2,    0.644,2,    0.325,2, -999.000,9,-999.0000,9,  -999.00,9,   -999.0,9,   -999.0,9,  -999.00,9,-999.0000,-999.000, 13.1625,-999.000
      325024_1,  P14N,   175,  1,     27,     27,2,19930827,0527,-11.0050, 179.0013, 3043,    351.2,  11.3809,  34.8264,2,  34.8226,2,   -999.0,9,     94.6,2,    17.94,2,    24.95,2,     0.00,2,     1.90,2,    0.374,2,    0.195,2, -999.000,9,-999.0000,9,  -999.00,9,   -999.0,9,   -999.0,9,  -999.00,9,-999.0000,-999.000, 11.3364,-999.000
      325024_1,  P14N,   175,  1,     26,     26,2,19930827,0527,-11.0050, 179.0013, 3043,    401.4,   9.8707,  34.7049,2,  34.7048,2,   -999.0,9,    113.5,2,    21.07,2,    26.45,2,     0.00,2,     1.95,2,    0.252,2,    0.127,2, -999.000,9,-999.0000,9,  -999.00,9,   -999.0,9,   -999.0,9,  -999.00,9,-999.0000,-999.000,  9.8242,-999.000
      325024_1,  P14N,   175,  1,     25,     25,2,19930827,0527,-11.0050, 179.0013, 3043,    451.0,   8.4825,  34.6125,2,  34.6132,2,   -999.0,9,    126.3,2,    25.40,2,    28.42,2,     0.00,2,     2.04,2,    0.156,2,    0.086,2, -999.000,9,-999.0000,9,  -999.00,9,   -999.0,9,   -999.0,9,  -999.00,9,-999.0000,-999.000,  8.4347,-999.000
      325024_1,  P14N,   175,  1,     24,     24,2,19930827,0527,-11.0050, 179.0013, 3043,    506.0,   7.4596,  34.5478,2,  34.5479,2,   -999.0,9,    138.4,2,    29.13,2,    29.49,2,     0.00,2,     2.10,2,    0.121,2,    0.067,2, -999.000,9,-999.0000,9,  -999.00,9,   -999.0,9,   -999.0,9,  -999.00,9,-999.0000,-999.000,  7.4097,-999.000
      325024_1,  P14N,   175,  1,     23,     23,2,19930827,0527,-11.0050, 179.0013, 3043,    605.8,   6.3842,  34.5076,2,  34.5073,2,   -999.0,9,    135.6,2,    38.26,2,    32.04,2,     0.00,2,     2.26,2,    0.052,2,    0.030,2, -999.000,9,-999.0000,9,  -999.00,9,   -999.0,9,   -999.0,9,  -999.00,9,-999.0000,-999.000,  6.3290,-999.000
      325024_1,  P14N,   175,  1,     22,     22,2,19930827,0527,-11.0050, 179.0013, 3043,    705.7,   5.7118,  34.5075,2,  34.5071,2,   -999.0,9,    125.2,2,    48.38,2,    34.35,2,     0.00,2,     2.41,2,    0.021,2,    0.002,2, -999.000,9,-999.0000,9,  -999.00,9,   -999.0,9,   -999.0,9,  -999.00,9,-999.0000,-999.000,  5.6506,-999.000
      325024_1,  P14N,   175,  1,     21,     21,2,19930827,0527,-11.0050, 179.0013, 3043,    806.1,   5.1474,  34.5040,2,  34.5055,2,   -999.0,9,    120.7,2,    57.11,2,    35.76,2,     0.00,2,     2.51,2,    0.004,2,    0.003,2, -999.000,9,-999.0000,9,  -999.00,9,   -999.0,9,   -999.0,9,  -999.00,9,-999.0000,-999.000,  5.0804,-999.000
      325024_1,  P14N,   175,  1,     20,     20,2,19930827,0527,-11.0050, 179.0013, 3043,    906.6,   4.5282,  34.5130,2,  34.5139,2,   -999.0,9,    124.7,2,    67.66,2,    36.07,2,     0.00,2,     2.53,2,    0.003,2,    0.001,2, -999.000,9,-999.0000,9,  -999.00,9,   -999.0,9,   -999.0,9,  -999.00,9,-999.0000,-999.000,  4.4566,-999.000
      325024_1,  P14N,   175,  1,     19,     19,2,19930827,0527,-11.0050, 179.0013, 3043,   1009.8,   4.2327,  34.5215,2,  34.5215,2,   -999.0,9,    126.9,2,    73.60,2,    36.20,2,     0.00,2,     2.54,2,   -0.002,2,    0.002,2, -999.000,9,-999.0000,9,  -999.00,9,   -999.0,9,   -999.0,9,  -999.00,9,-999.0000,-999.000,  4.1544,-999.000
      325024_1,  P14N,   175,  1,     18,     18,2,19930827,0527,-11.0050, 179.0013, 3043,   1111.7,   3.8532,  34.5355,2,  34.5349,2,   -999.0,9,    129.0,2,    81.35,2,    36.24,2,     0.00,2,     2.54,2,    0.005,4,    0.003,2, -999.000,9,-999.0000,9,  -999.00,9,   -999.0,9,   -999.0,9,  -999.00,9,-999.0000,-999.000,  3.7693,-999.000
      325024_1,  P14N,   175,  1,     17,     17,2,19930827,0527,-11.0050, 179.0013, 3043,   1212.7,   3.5760,  34.5482,2,  34.5486,2,   -999.0,9,    129.4,2,    88.12,2,    36.50,2,     0.00,2,     2.57,2, -999.000,5, -999.000,5, -999.000,9,-999.0000,9,  -999.00,9,   -999.0,9,   -999.0,9,  -999.00,9,-999.0000,-999.000,  3.4862,-999.000
      325024_1,  P14N,   175,  1,     16,     16,2,19930827,0527,-11.0050, 179.0013, 3043,   1313.3,   3.3003,  34.5620,2,  34.5611,2,   -999.0,9,    131.8,2,    94.09,2,    36.50,2,     0.00,2,     2.57,2, -999.000,5, -999.000,5, -999.000,9,-999.0000,9,  -999.00,9,   -999.0,9,   -999.0,9,  -999.00,9,-999.0000,-999.000,  3.2048,-999.000
      325024_1,  P14N,   175,  1,     15,     15,2,19930827,0527,-11.0050, 179.0013, 3043,   1408.9,   3.1035,  34.5712,2,  34.5711,2,   -999.0,9,    135.0,2,    98.04,2,    36.28,2,     0.00,2,     2.57,2, -999.000,5, -999.000,5, -999.000,9,-999.0000,9,  -999.00,9,   -999.0,9,   -999.0,9,  -999.00,9,-999.0000,-999.000,  3.0020,-999.000
      325024_1,  P14N,   175,  1,     14,     14,2,19930827,0527,-11.0050, 179.0013, 3043,   1509.4,   2.8457,  34.5858,2,  34.5860,2,   -999.0,9,    137.4,2,   104.64,2,    36.23,2,     0.00,2,     2.56,2, -999.000,5, -999.000,5, -999.000,9,-999.0000,9,  -999.00,9,   -999.0,9,   -999.0,9,  -999.00,9,-999.0000,-999.000,  2.7389,-999.000
      325024_1,  P14N,   175,  1,     13,     13,2,19930827,0527,-11.0050, 179.0013, 3043,   1610.9,   2.6478,  34.6001,2,  34.6002,2,   -999.0,9,    136.7,2,   110.25,2,    36.32,2,     0.00,2,     2.56,2, -999.000,5, -999.000,5, -999.000,9,-999.0000,9,  -999.00,9,   -999.0,9,   -999.0,9,  -999.00,9,-999.0000,-999.000,  2.5349,-999.000
      325024_1,  P14N,   175,  1,     12,     12,2,19930827,0527,-11.0050, 179.0013, 3043,   1711.4,   2.4868,  34.6108,2,  34.6113,2,   -999.0,9,    138.5,2,   113.62,2,    36.18,2,     0.00,2,     2.55,2, -999.000,5, -999.000,5, -999.000,9,-999.0000,9,  -999.00,9,   -999.0,9,   -999.0,9,  -999.00,9,-999.0000,-999.000,  2.3676,-999.000
      325024_1,  P14N,   175,  1,     11,     11,2,19930827,0527,-11.0050, 179.0013, 3043,   1812.2,   2.3500,  34.6204,2,  34.6211,2,   -999.0,9,    140.2,2,   116.99,2,    36.14,2,     0.00,2,     2.56,2, -999.000,5, -999.000,5, -999.000,9,-999.0000,9,  -999.00,9,   -999.0,9,   -999.0,9,  -999.00,9,-999.0000,-999.000,  2.2242,-999.000
      325024_1,  P14N,   175,  1,     10,     10,2,19930827,0527,-11.0050, 179.0013, 3043,   1913.9,   2.2829,  34.6255,2,  34.6264,2,   -999.0,9,    140.6,2,   118.94,2,    36.09,2,     0.00,2,     2.53,2, -999.000,5, -999.000,5, -999.000,9,-999.0000,9,  -999.00,9,   -999.0,9,   -999.0,9,  -999.00,9,-999.0000,-999.000,  2.1495,-999.000
      325024_1,  P14N,   175,  1,      9,      9,2,19930827,0527,-11.0050, 179.0013, 3043,   2014.6,   2.2100,  34.6312,2,  34.6317,2,   -999.0,9,    140.5,2,   121.91,2,    36.17,2,     0.00,2,     2.56,2, -999.000,5, -999.000,5, -999.000,9,-999.0000,9,  -999.00,9,   -999.0,9,   -999.0,9,  -999.00,9,-999.0000,-999.000,  2.0691,-999.000
      325024_1,  P14N,   175,  1,      8,      8,2,19930827,0527,-11.0050, 179.0013, 3043,   2115.8,   2.1575,  34.6352,2,-999.0000,9,   -999.0,9,   -999.0,9,  -999.00,9,  -999.00,9,  -999.00,9,  -999.00,9, -999.000,5, -999.000,5, -999.000,9,-999.0000,9,  -999.00,9,   -999.0,9,   -999.0,9,  -999.00,9,-999.0000,-999.000,  2.0087,-999.000
      325024_1,  P14N,   175,  1,      7,      7,2,19930827,0527,-11.0050, 179.0013, 3043,   2216.7,   2.0971,  34.6396,2,  34.6398,2,   -999.0,9,    142.7,2,   124.48,2,    35.95,2,     0.00,2,     2.54,2, -999.000,5, -999.000,5, -999.000,9,-999.0000,9,  -999.00,9,   -999.0,9,   -999.0,9,  -999.00,9,-999.0000,-999.000,  1.9405,-999.000
      325024_1,  P14N,   175,  1,      6,      6,2,19930827,0527,-11.0050, 179.0013, 3043,   2317.4,   2.0174,  34.6450,2,  34.6456,2,   -999.0,9,    144.0,2,   126.84,2,    35.90,2,     0.00,2,     2.53,2, -999.000,5, -999.000,5, -999.000,9,-999.0000,9,  -999.00,9,   -999.0,9,   -999.0,9,  -999.00,9,-999.0000,-999.000,  1.8533,-999.000
      325024_1,  P14N,   175,  1,      5,      5,2,19930827,0527,-11.0050, 179.0013, 3043,   2418.4,   1.9325,  34.6515,2,  34.6521,2,   -999.0,9,    143.6,2,   130.45,2,    36.04,2,     0.00,2,     2.54,2, -999.000,5, -999.000,5, -999.000,9,-999.0000,9,  -999.00,9,   -999.0,9,   -999.0,9,  -999.00,9,-999.0000,-999.000,  1.7608,-999.000
      325024_1,  P14N,   175,  1,      4,      4,2,19930827,0527,-11.0050, 179.0013, 3043,   2519.5,   1.8822,  34.6552,2,  34.6558,2,   -999.0,9,    145.5,2,   131.17,2,    35.86,2,     0.00,2,     2.52,2, -999.000,5, -999.000,5, -999.000,9,-999.0000,9,  -999.00,9,   -999.0,9,   -999.0,9,  -999.00,9,-999.0000,-999.000,  1.7023,-999.000
      325024_1,  P14N,   175,  1,      3,      3,2,19930827,0527,-11.0050, 179.0013, 3043,   2620.6,   1.8411,  34.6581,2,  34.6592,2,   -999.0,9,    146.5,2,   132.09,2,    35.81,2,     0.00,2,     2.51,2, -999.000,5, -999.000,5, -999.000,9,-999.0000,9,  -999.00,9,   -999.0,9,   -999.0,9,  -999.00,9,-999.0000,-999.000,  1.6528,-999.000
      325024_1,  P14N,   175,  1,      2,      2,2,19930827,0527,-11.0050, 179.0013, 3043,   2822.8,   1.7261,  34.6658,2,  34.6670,2,   -999.0,9,    144.9,2,   137.16,2,    35.98,2,     0.00,2,     2.52,2, -999.000,5, -999.000,5, -999.000,9,-999.0000,9,  -999.00,9,   -999.0,9,   -999.0,9,  -999.00,9,-999.0000,-999.000,  1.5213,-999.000
      325024_1,  P14N,   175,  1,      1,      1,2,19930827,0527,-11.0050, 179.0013, 3043,   3121.4,   1.5855,  34.6759,2,  34.6764,2,   -999.0,9,    149.6,2,   139.13,2,    35.58,2,     0.00,2,     2.50,2,   -0.003,2,    0.000,2, -999.000,9,-999.0000,9,  -999.00,9,   -999.0,9,   -999.0,9,  -999.00,9,-999.0000,-999.000,  1.3551,-999.000