BOTTLE,20131125MIRCJHATS
EXPOCODE,SECT_ID,STNNBR,CASTNO,SAMPNO,BTLNBR,BTLNBR_FLAG_W,DATE,TIME,LATITUDE,LONGITUDE,DEPTH,CTDPRS,CTDTMP,CTDSAL,CTDSAL_FLAG_W,SALNTY,SALNTY_FLAG_W,CTDOXY,CTDOXY_FLAG_W,OXYGEN,OXYGEN_FLAG_W,SILCAT,SILCAT_FLAG_W,NITRAT,NITRAT_FLAG_W,NITRIT,NITRIT_FLAG_W,PHSPHT,PHSPHT_FLAG_W,CFC-11,CFC-11_FLAG_W,CFC-12,CFC-12_FLAG_W,TRITUM,TRITUM_FLAG_W,HELIUM,HELIUM_FLAG_W,DELHE3,DELHE3_FLAG_W,TCARBN,TCARBN_FLAG_W,ALKALI,ALKALI_FLAG_W,PH,PH_FLAG_W,HELIER,DELHER,THETA,TRITER
,,,,,,,,,,,,DBAR,ITS-90,PSS-78,,PSS-78,,UMOL/KG,,UMOL/KG,,UMOL/KG,,UMOL/KG,,UMOL/KG,,UMOL/KG,,PMOL/KG,,PMOL/KG,,TU,,NMOL/KG,,PERCNT,,UMOL/KG,,UMOL/KG,,25_DEG,,NMOL/KG,PERCNT,DEG C,TU
      325023_1,  P14N,    73,  1,     36,     36,2,19930726,0916, 25.9963, 179.0053, 5494,      2.8,  27.5991,  35.4869,2,  35.4900,2,   -999.0,9,    202.3,2,     3.14,2,     0.04,2,     0.00,2,     0.02,2,    1.773,2,    0.959,2, -999.000,9,-999.0000,9,  -999.00,9,   1987.5,2,   2331.6,2,     8.09,2,-999.0000,-999.000, 27.5985,-999.000
      325023_1,  P14N,    73,  1,     35,     35,2,19930726,0916, 25.9963, 179.0053, 5494,     37.9,  23.8365,  35.2830,2,  35.2829,2,   -999.0,9,    235.7,2,     3.26,2,     0.04,2,     0.00,2,     0.02,2,    2.147,2,    1.115,2, -999.000,9,-999.0000,9,  -999.00,9,   -999.0,9,   2318.2,2,     8.09,2,-999.0000,-999.000, 23.8286,-999.000
      325023_1,  P14N,    73,  1,     34,     34,2,19930726,0916, 25.9963, 179.0053, 5494,     68.3,  21.0771,  35.1554,2,  35.1574,2,   -999.0,9,    233.8,2,     3.37,2,     0.03,2,     0.00,2,     0.03,2,    2.329,2,    1.199,2, -999.000,9,-999.0000,9,  -999.00,9,   1986.8,2,   2310.5,2,     8.07,2,-999.0000,-999.000, 21.0640,-999.000
      325023_1,  P14N,    73,  1,     33,     33,2,19930726,0916, 25.9963, 179.0053, 5494,     98.9,  19.1771,  34.9948,2,  34.9939,2,   -999.0,9,    224.5,2,     3.49,2,     0.03,2,     0.00,2,     0.07,2,    2.374,2,    1.225,2, -999.000,9,-999.0000,9,  -999.00,9,   2003.8,2,   2297.2,2,  -999.00,9,-999.0000,-999.000, 19.1594,-999.000
      325023_1,  P14N,    73,  1,     32,     32,2,19930726,0916, 25.9963, 179.0053, 5494,    128.5,  17.9376,  34.8762,2,  34.8799,2,   -999.0,9,    213.9,2,     3.60,2,     1.34,2,     0.10,2,     0.19,2,    2.509,6,    1.283,6, -999.000,9,-999.0000,9,  -999.00,9,   2017.7,2,   2292.2,2,     8.00,2,-999.0000,-999.000, 17.9157,-999.000
      325023_1,  P14N,    73,  1,     31,     31,2,19930726,0916, 25.9963, 179.0053, 5494,    158.7,  17.2642,  34.8028,2,  34.8039,2,   -999.0,9,    219.2,2,     3.94,2,     2.61,2,     0.02,2,     0.24,2,    2.589,2,    1.345,2, -999.000,9,-999.0000,9,  -999.00,9,   2014.3,2,   2284.9,2,  -999.00,9,-999.0000,-999.000, 17.2378,-999.000
      325023_1,  P14N,    73,  1,     30,     30,2,19930726,0916, 25.9963, 179.0053, 5494,    207.7,  16.5493,  34.7517,2,  34.7515,2,   -999.0,9,    212.5,2,     4.94,2,     4.46,2,     0.01,2,     0.35,2,    2.515,2,    1.286,2,    1.584,2,-999.0000,9,  -999.00,9,   2029.1,2,   2282.0,2,     7.97,2,-999.0000,-999.000, 16.5157,   0.016
      325023_1,  P14N,    73,  1,     29,     29,2,19930726,0916, 25.9963, 179.0053, 5494,    254.1,  15.6592,  34.6717,2,  34.6732,2,   -999.0,9,    210.3,2,     6.37,2,     6.00,2,     0.01,2,     0.45,2,    2.530,2,    1.275,2, -999.000,9,-999.0000,9,  -999.00,9,   2036.6,2,   2278.1,2,  -999.00,9,-999.0000,-999.000, 15.6196,-999.000
      325023_1,  P14N,    73,  1,     28,     28,2,19930726,0916, 25.9963, 179.0053, 5494,    300.7,  14.7202,  34.5816,2,  34.5826,2,   -999.0,9,    206.9,2,     8.46,2,     7.76,2,     0.00,2,     0.56,2,    2.512,2,    1.246,2, -999.000,9,-999.0000,9,  -999.00,9,   2044.0,2,   2276.2,2,  -999.00,9,-999.0000,-999.000, 14.6753,-999.000
      325023_1,  P14N,    73,  1,     27,     27,2,19930726,0916, 25.9963, 179.0053, 5494,    402.2,  12.0957,  34.3623,2,  34.3609,2,   -999.0,9,    207.6,2,    14.73,2,    11.89,2,     0.00,2,     0.87,2,    2.606,2,    1.273,2,    1.556,2,-999.0000,9,  -999.00,9,   2079.5,2,   2268.4,2,     7.85,2,-999.0000,-999.000, 12.0429,   0.016
      325023_1,  P14N,    73,  1,     26,     26,2,19930726,0916, 25.9963, 179.0053, 5494,    506.4,   9.4567,  34.1692,2,  34.1697,2,   -999.0,9,    186.6,2,    27.59,2,    18.80,2,     0.00,2,     1.34,2,    2.112,2,    0.996,2, -999.000,9,-999.0000,9,  -999.00,9,   2127.9,2,   2268.8,2,     7.74,2,-999.0000,-999.000,  9.3996,-999.000
      325023_1,  P14N,    73,  1,     25,     25,2,19930726,0916, 25.9963, 179.0053, 5494,    609.5,   6.8385,  34.0474,2,  34.0470,2,   -999.0,9,    148.8,2,    51.87,2,    27.19,2,     0.00,2,     1.94,2,    1.545,2,    0.701,2, -999.000,9,-999.0000,9,  -999.00,9,   2192.5,2,   2284.5,2,     7.60,2,-999.0000,-999.000,  6.7813,-999.000
      325023_1,  P14N,    73,  1,     24,     24,2,19930726,0916, 25.9963, 179.0053, 5494,    711.1,   5.1810,  34.0749,2,  34.0726,2,   -999.0,9,     93.6,2,    80.61,2,    34.83,2,     0.00,2,     2.46,2,    0.778,2,    0.350,2, -999.000,9,-999.0000,9,  -999.00,9,   2258.6,2,   2309.1,2,     7.46,2,-999.0000,-999.000,  5.1227,-999.000
      325023_1,  P14N,    73,  1,     23,     23,2,19930726,0916, 25.9963, 179.0053, 5494,    812.0,   4.4600,  34.1782,2,  34.1728,2,   -999.0,9,     54.4,2,    99.96,2,    39.28,2,     0.00,2,     2.78,2,    0.232,2,    0.102,2,    0.524,2,-999.0000,9,  -999.00,9,   2306.0,2,   2329.2,2,     7.38,2,-999.0000,-999.000,  4.3973,   0.008
      325023_1,  P14N,    73,  1,     22,     22,2,19930726,0916, 25.9963, 179.0053, 5494,    912.3,   3.9843,  34.2730,2,  34.2704,2,   -999.0,9,     37.1,2,   114.27,2,    41.40,2,     0.00,2,     2.93,2,    0.067,2,    0.023,2,    0.197,2,-999.0000,9,  -999.00,9,   2338.4,2,   2347.6,2,     7.35,2,-999.0000,-999.000,  3.9163,   0.008
      325023_1,  P14N,    73,  1,     21,     21,2,19930726,0916, 25.9963, 179.0053, 5494,   1014.2,   3.6298,  34.3610,2,  34.3603,2,   -999.0,9,     32.8,2,   124.41,2,    42.18,2,     0.00,2,     2.98,2,    0.017,2,    0.007,2, -999.000,9,-999.0000,9,  -999.00,9,   2351.0,2,   2365.8,2,     7.35,2,-999.0000,-999.000,  3.5561,-999.000
      325023_1,  P14N,    73,  1,     20,     20,2,19930726,0916, 25.9963, 179.0053, 5494,   1116.5,   3.3919,  34.4218,2,  34.4210,2,   -999.0,9,     36.3,2,   130.53,2,    42.23,2,     0.00,2,     2.98,2,    0.005,2,    0.003,6, -999.000,9,-999.0000,9,  -999.00,9,   2361.5,2,   2375.8,2,  -999.00,9,-999.0000,-999.000,  3.3118,-999.000
      325023_1,  P14N,    73,  1,     19,     19,2,19930726,0916, 25.9963, 179.0053, 5494,   1218.3,   3.1188,  34.4695,2,  34.4684,2,   -999.0,9,     42.4,2,   136.67,2,    42.00,2,     0.00,2,     2.96,2,    0.001,2,    0.001,2, -999.000,9,-999.0000,9,  -999.00,9,   2360.1,2,   2383.2,2,  -999.00,9,-999.0000,-999.000,  3.0330,-999.000
      325023_1,  P14N,    73,  1,     18,     18,2,19930726,0916, 25.9963, 179.0053, 5494,   1420.1,   2.7115,  34.5258,2,  34.5253,2,   -999.0,9,     54.9,2,   145.79,2,    41.46,2,     0.00,2,     2.89,2,    0.003,2,    0.014,4, -999.000,9,-999.0000,9,  -999.00,9,   2366.0,2,   2392.8,2,     7.40,2,-999.0000,-999.000,  2.6136,-999.000
      325023_1,  P14N,    73,  1,     17,     17,2,19930726,0916, 25.9963, 179.0053, 5494,   1618.7,   2.3639,  34.5609,2,  34.5596,2,   -999.0,9,     64.1,2,   153.58,2,    41.10,2,     0.00,2,     2.85,2, -999.000,5, -999.000,5, -999.000,9,-999.0000,9,  -999.00,9,   2367.4,2,   2406.7,2,  -999.00,9,-999.0000,-999.000,  2.2540,-999.000
      325023_1,  P14N,    73,  1,     16,     16,2,19930726,0916, 25.9963, 179.0053, 5494,   1817.6,   2.0877,  34.5917,2,  34.5908,2,   -999.0,9,     76.5,2,   158.44,2,    40.38,2,     0.00,2,     2.79,2, -999.000,5, -999.000,5, -999.000,9,-999.0000,9,  -999.00,9,   2363.7,2,   2413.0,2,  -999.00,9,-999.0000,-999.000,  1.9652,-999.000
      325023_1,  P14N,    73,  1,     15,     15,2,19930726,0916, 25.9963, 179.0053, 5494,   2022.3,   1.9027,  34.6160,2,  34.6153,2,   -999.0,9,     90.7,2,   159.40,2,    39.53,2,     0.00,2,     2.73,2, -999.000,5, -999.000,5, -999.000,9,-999.0000,9,  -999.00,9,   2358.6,2,   2414.9,2,  -999.00,9,-999.0000,-999.000,  1.7659,-999.000
      325023_1,  P14N,    73,  1,     14,     14,2,19930726,0916, 25.9963, 179.0053, 5494,   2227.4,   1.7793,  34.6321,2,  34.6318,2,   -999.0,9,    102.2,2,   159.22,2,    38.40,2,     0.00,2,     2.68,2, -999.000,5, -999.000,5, -999.000,9,-999.0000,9,  -999.00,9,   2354.6,2,   2417.1,2,     7.49,2,-999.0000,-999.000,  1.6271,-999.000
      325023_1,  P14N,    73,  1,     13,     13,2,19930726,0916, 25.9963, 179.0053, 5494,   2432.4,   1.6953,  34.6446,2,  34.6449,2,   -999.0,9,    112.4,2,   159.49,2,    38.14,2,     0.00,2,     2.62,2, -999.000,5, -999.000,5, -999.000,9,-999.0000,9,  -999.00,9,   2347.7,2,   2419.3,2,  -999.00,9,-999.0000,-999.000,  1.5268,-999.000
      325023_1,  P14N,    73,  1,     12,     12,2,19930726,0916, 25.9963, 179.0053, 5494,   2636.8,   1.6219,  34.6538,2,  34.6551,2,   -999.0,9,    119.9,2,   159.08,2,    37.65,2,     0.00,2,     2.59,2, -999.000,5, -999.000,5, -999.000,9,-999.0000,9,  -999.00,9,   2345.2,2,   2422.1,2,  -999.00,9,-999.0000,-999.000,  1.4364,-999.000
      325023_1,  P14N,    73,  1,     11,     11,2,19930726,0916, 25.9963, 179.0053, 5494,   2841.7,   1.5809,  34.6599,2,  34.6594,2,   -999.0,9,    125.6,2,   158.43,2,    37.29,2,     0.00,2,     2.56,2, -999.000,5, -999.000,5, -999.000,9,-999.0000,9,  -999.00,9,   2343.6,2,   2421.3,2,  -999.00,9,-999.0000,-999.000,  1.3774,-999.000
      325023_1,  P14N,    73,  1,     10,     10,2,19930726,0916, 25.9963, 179.0053, 5494,   3046.5,   1.5361,  34.6659,2,  34.6665,2,   -999.0,9,    132.2,2,   157.79,2,    36.98,2,     0.00,2,     2.53,2, -999.000,5, -999.000,5, -999.000,9,-999.0000,9,  -999.00,9,   2337.0,2,   2421.7,2,     7.54,2,-999.0000,-999.000,  1.3141,-999.000
      325023_1,  P14N,    73,  1,      9,      9,2,19930726,0916, 25.9963, 179.0053, 5494,   3352.3,   1.4922,  34.6729,2,  34.6721,2,   -999.0,9,    139.0,2,   156.24,2,    36.58,2,     0.00,2,     2.50,2, -999.000,5, -999.000,5, -999.000,9,-999.0000,9,  -999.00,9,   2331.5,2,   2419.1,2,  -999.00,9,-999.0000,-999.000,  1.2412,-999.000
      325023_1,  P14N,    73,  1,      8,      8,2,19930726,0916, 25.9963, 179.0053, 5494,   3658.0,   1.4645,  34.6786,2,  34.6778,2,   -999.0,9,    145.6,2,   154.46,2,    36.09,2,     0.00,2,     2.48,2, -999.000,5, -999.000,5, -999.000,9,-999.0000,9,  -999.00,9,   2327.6,2,   2416.2,2,  -999.00,9,-999.0000,-999.000,  1.1830,-999.000
      325023_1,  P14N,    73,  1,      7,      7,2,19930726,0916, 25.9963, 179.0053, 5494,   3964.8,   1.4488,  34.6832,2,  34.6827,2,   -999.0,9,    151.9,2,   151.78,2,    35.65,2,     0.00,2,     2.44,2,    0.003,2,   -0.002,2, -999.000,9,-999.0000,9,  -999.00,9,   2321.8,2,   2416.9,2,  -999.00,9,-999.0000,-999.000,  1.1352,-999.000
      325023_1,  P14N,    73,  1,      6,      6,2,19930726,0916, 25.9963, 179.0053, 5494,   4272.0,   1.4356,  34.6872,2,  34.6874,2,   -999.0,9,    158.5,2,   148.19,2,    35.25,2,     0.00,2,     2.40,2, -999.000,5, -999.000,5, -999.000,9,-999.0000,9,  -999.00,9,   2315.4,2,   2412.4,2,     7.58,2,-999.0000,-999.000,  1.0885,-999.000
      325023_1,  P14N,    73,  1,      5,      5,2,19930726,0916, 25.9963, 179.0053, 5494,   4579.4,   1.4335,  34.6903,2,  34.6898,2,   -999.0,9,    164.3,2,   144.17,2,    34.67,2,     0.00,2,     2.37,2, -999.000,5, -999.000,5, -999.000,9,-999.0000,9,  -999.00,9,   2310.7,2,   2413.1,2,  -999.00,9,-999.0000,-999.000,  1.0514,-999.000
      325023_1,  P14N,    73,  1,      4,      4,2,19930726,0916, 25.9963, 179.0053, 5494,   4888.4,   1.4367,  34.6930,2,  34.6929,2,   -999.0,9,    169.5,2,   141.06,2,    34.45,2,     0.00,2,     2.35,2, -999.000,5, -999.000,5, -999.000,9,-999.0000,9,  -999.00,9,   2304.5,2,   -999.0,9,  -999.00,9,-999.0000,-999.000,  1.0181,-999.000
      325023_1,  P14N,    73,  1,      3,      3,2,19930726,0916, 25.9963, 179.0053, 5494,   5196.5,   1.4472,  34.6952,2,  34.6943,2,   -999.0,9,    174.0,2,   137.52,2,    34.01,2,     0.00,2,     2.31,2, -999.000,5, -999.000,5, -999.000,9,-999.0000,9,  -999.00,9,   2301.8,2,   2406.7,2,     7.60,2,-999.0000,-999.000,  0.9907,-999.000
      325023_1,  P14N,    73,  1,      2,      2,2,19930726,0916, 25.9963, 179.0053, 5494,   5586.6,   1.4762,  34.6971,2,  34.6964,2,   -999.0,9,    177.6,2,   135.55,2,    33.79,2,     0.00,2,     2.30,2,    0.003,2,    0.008,2, -999.000,9,-999.0000,9,  -999.00,9,   2297.4,2,   2399.6,2,  -999.00,9,-999.0000,-999.000,  0.9694,-999.000
      325023_1,  P14N,    73,  1,      1,      1,2,19930726,0916, 25.9963, 179.0053, 5494,   5586.9,   1.4764,  34.6970,2,  34.6966,2,   -999.0,9,    192.1,4,   134.71,2,    33.79,2,     0.00,2,     2.30,2, -999.000,5, -999.000,5, -999.000,9,-999.0000,9,  -999.00,9,   2299.5,2,   -999.0,9,  -999.00,9,-999.0000,-999.000,  0.9695,-999.000