BOTTLE,20131125MIRCJHATS
EXPOCODE,SECT_ID,STNNBR,CASTNO,SAMPNO,BTLNBR,BTLNBR_FLAG_W,DATE,TIME,LATITUDE,LONGITUDE,DEPTH,CTDPRS,CTDTMP,CTDSAL,CTDSAL_FLAG_W,SALNTY,SALNTY_FLAG_W,CTDOXY,CTDOXY_FLAG_W,OXYGEN,OXYGEN_FLAG_W,SILCAT,SILCAT_FLAG_W,NITRAT,NITRAT_FLAG_W,NITRIT,NITRIT_FLAG_W,PHSPHT,PHSPHT_FLAG_W,CFC-11,CFC-11_FLAG_W,CFC-12,CFC-12_FLAG_W,TRITUM,TRITUM_FLAG_W,HELIUM,HELIUM_FLAG_W,DELHE3,DELHE3_FLAG_W,TCARBN,TCARBN_FLAG_W,ALKALI,ALKALI_FLAG_W,PH,PH_FLAG_W,HELIER,DELHER,THETA,TRITER
,,,,,,,,,,,,DBAR,ITS-90,PSS-78,,PSS-78,,UMOL/KG,,UMOL/KG,,UMOL/KG,,UMOL/KG,,UMOL/KG,,UMOL/KG,,PMOL/KG,,PMOL/KG,,TU,,NMOL/KG,,PERCNT,,UMOL/KG,,UMOL/KG,,25_DEG,,NMOL/KG,PERCNT,DEG C,TU
      325023_1,  P14N,     4,  1,     36,     36,2,19930707,1934, 57.4992,-175.2472, 3466,      3.3,   8.0092,  32.5547,2,  32.5582,2,   -999.0,9,    302.7,2,    10.46,2,     2.42,2,     0.06,2,     0.73,2, -999.000,5, -999.000,5,    2.112,2,-999.0000,9,  -999.00,9,   1977.3,2,   2216.6,2,     7.98,2,-999.0000,-999.000,  8.0089,   0.021
      325023_1,  P14N,     4,  1,     35,     35,2,19930707,1934, 57.4992,-175.2472, 3466,     35.5,   5.1977,  32.9160,2,  32.9497,2,   -999.0,9,    304.7,2,    27.48,2,    14.34,2,     0.24,2,     1.58,2, -999.000,5, -999.000,5, -999.000,9,-999.0000,9,  -999.00,9,   1976.7,2,   2216.8,2,  -999.00,9,-999.0000,-999.000,  5.1951,-999.000
      325023_1,  P14N,     4,  1,     34,     34,2,19930707,1934, 57.4992,-175.2472, 3466,     66.1,   4.0319,  33.0045,2,  33.0159,2,   -999.0,9,    298.2,2,    39.90,2,    19.18,2,     0.43,2,     1.87,2, -999.000,5, -999.000,5,    2.179,2,-999.0000,9,  -999.00,9,   2106.5,2,   2239.1,2,     7.73,2,-999.0000,-999.000,  4.0275,   0.022
      325023_1,  P14N,     4,  1,     33,     33,2,19930707,1934, 57.4992,-175.2472, 3466,     96.4,   3.5866,  33.0465,2,  33.0556,2,   -999.0,9,    287.5,2,    49.76,2,    23.71,2,     0.31,2,     2.13,2, -999.000,5, -999.000,5,    2.056,2,-999.0000,9,  -999.00,9,   2129.3,2,   2240.2,2,  -999.00,9,-999.0000,-999.000,  3.5806,   0.021
      325023_1,  P14N,     4,  1,     32,     32,2,19930707,1934, 57.4992,-175.2472, 3466,    126.8,   3.3311,  33.1078,2,  33.1164,2,   -999.0,9,    268.3,2,    58.53,2,    29.07,2,     0.04,2,     2.31,2, -999.000,5, -999.000,5,    2.075,2,-999.0000,9,  -999.00,9,   2150.5,2,   2236.8,2,     7.60,2,-999.0000,-999.000,  3.3233,   0.021
      325023_1,  P14N,     4,  1,     31,     31,2,19930707,1934, 57.4992,-175.2472, 3466,    157.1,   3.4153,  33.2109,2,  33.2250,2,   -999.0,9,    243.7,2,    63.98,2,    30.76,2,     0.01,2,     2.40,2, -999.000,5, -999.000,5, -999.000,9,-999.0000,9,  -999.00,9,   2172.5,2,   -999.0,9,  -999.00,9,-999.0000,-999.000,  3.4055,-999.000
      325023_1,  P14N,     4,  1,     30,     30,2,19930707,1934, 57.4992,-175.2472, 3466,    207.5,   3.5878,  33.3661,2,  33.3726,2,   -999.0,9,    205.8,2,    71.29,2,    32.71,2,     0.02,2,     2.52,2, -999.000,5, -999.000,5,    1.993,2,-999.0000,9,  -999.00,9,   2200.3,2,   2257.1,2,     7.50,2,-999.0000,-999.000,  3.5745,   0.020
      325023_1,  P14N,     4,  1,     29,     29,2,19930707,1934, 57.4992,-175.2472, 3466,    258.2,   3.7649,  33.5127,2,  33.5160,2,   -999.0,9,    161.2,2,    79.72,2,    34.82,2,     0.02,2,     2.64,2, -999.000,5, -999.000,5, -999.000,9,-999.0000,9,  -999.00,9,   2231.6,2,   2270.5,2,  -999.00,9,-999.0000,-999.000,  3.7478,-999.000
      325023_1,  P14N,     4,  1,     28,     28,2,19930707,1934, 57.4992,-175.2472, 3466,    308.9,   3.7809,  33.6136,2,  33.6236,2,   -999.0,9,    133.1,2,    86.89,2,    36.58,2,     0.01,2,     2.74,2, -999.000,5, -999.000,5,    1.394,2,-999.0000,9,  -999.00,9,   2254.8,2,   2287.2,2,     7.41,2,-999.0000,-999.000,  3.7602,   0.014
      325023_1,  P14N,     4,  1,     27,     27,2,19930707,1934, 57.4992,-175.2472, 3466,    358.8,   3.7682,  33.7052,2,  33.7148,2,   -999.0,9,    110.3,2,    93.14,2,    38.03,2,     0.00,2,     2.83,2, -999.000,5, -999.000,5, -999.000,9,-999.0000,9,  -999.00,9,   2282.3,2,   2292.9,2,  -999.00,9,-999.0000,-999.000,  3.7440,-999.000
      325023_1,  P14N,     4,  1,     26,     26,2,19930707,1934, 57.4992,-175.2472, 3466,    408.5,   3.7386,  33.7729,2,  33.7800,2,   -999.0,9,     94.8,2,    97.92,2,    38.93,2,     0.00,2,     2.89,2, -999.000,5, -999.000,5,    1.583,2,-999.0000,9,  -999.00,9,   2295.9,2,   2301.5,2,     7.36,2,-999.0000,-999.000,  3.7109,   0.016
      325023_1,  P14N,     4,  1,     25,     25,2,19930707,1934, 57.4992,-175.2472, 3466,    459.3,   3.6660,  33.8666,2,  33.8743,2,   -999.0,9,     74.0,2,   104.78,2,    40.38,2,     0.00,2,     2.97,2, -999.000,5, -999.000,5, -999.000,9,-999.0000,9,  -999.00,9,   2314.0,2,   2312.0,2,  -999.00,9,-999.0000,-999.000,  3.6348,-999.000
      325023_1,  P14N,     4,  1,     24,     24,2,19930707,1934, 57.4992,-175.2472, 3466,    510.9,   3.6022,  33.9481,2,  33.9531,2,   -999.0,9,     55.4,2,   110.16,2,    41.70,2,     0.00,2,     3.05,2, -999.000,5, -999.000,5,    1.535,2,-999.0000,9,  -999.00,9,   2327.9,2,   2312.4,2,     7.30,2,-999.0000,-999.000,  3.5676,   0.015
      325023_1,  P14N,     4,  1,     23,     23,2,19930707,1934, 57.4992,-175.2472, 3466,    611.2,   3.4513,  34.0784,2,  34.0818,2,   -999.0,9,     33.6,2,   121.29,2,    42.88,2,     0.00,2,     3.14,2, -999.000,5, -999.000,5,    1.027,2,-999.0000,9,  -999.00,9,   2348.6,2,   2325.5,2,  -999.00,9,-999.0000,-999.000,  3.4100,   0.010
      325023_1,  P14N,     4,  1,     22,     22,2,19930707,1934, 57.4992,-175.2472, 3466,    709.5,   3.2931,  34.1671,2,  34.1710,2,   -999.0,9,     24.3,2,   130.81,2,    43.28,2,     0.00,2,     3.16,2, -999.000,5, -999.000,5, -999.000,9,-999.0000,9,  -999.00,9,   2362.2,2,   2343.0,2,  -999.00,9,-999.0000,-999.000,  3.2453,-999.000
      325023_1,  P14N,     4,  1,     21,     21,2,19930707,1934, 57.4992,-175.2472, 3466,    810.8,   3.1330,  34.2383,2,  34.2415,2,   -999.0,9,     19.9,2,   138.67,2,    43.46,2,     0.00,2,     3.17,2, -999.000,5, -999.000,5,    0.797,2,-999.0000,9,  -999.00,9,   2373.3,2,   2353.5,2,  -999.00,9,-999.0000,-999.000,  3.0787,   0.008
      325023_1,  P14N,     4,  1,     20,     20,2,19930707,1934, 57.4992,-175.2472, 3466,    912.9,   2.9929,  34.2906,2,  34.2936,2,   -999.0,9,     18.3,2,   145.62,2,    43.58,2,     0.00,2,     3.18,2, -999.000,5, -999.000,5,    0.871,2,-999.0000,9,  -999.00,9,   2379.9,2,   2363.4,2,     7.29,2,-999.0000,-999.000,  2.9320,   0.009
      325023_1,  P14N,     4,  1,     19,     19,2,19930707,1934, 57.4992,-175.2472, 3466,   1014.3,   2.8323,  34.3403,2,  34.3448,2,   -999.0,9,     18.3,2,   153.43,2,    43.39,2,     0.00,2,     3.18,2, -999.000,5, -999.000,5,    0.961,2,-999.0000,9,  -999.00,9,   2386.7,2,   2374.3,2,  -999.00,9,-999.0000,-999.000,  2.7650,   0.010
      325023_1,  P14N,     4,  1,     18,     18,2,19930707,1934, 57.4992,-175.2472, 3466,   1116.1,   2.6822,  34.3848,2,  34.3889,2,   -999.0,9,     19.7,2,   160.53,2,    43.29,2,     0.00,2,     3.18,2, -999.000,5, -999.000,5,    0.683,2,-999.0000,9,  -999.00,9,   2391.5,2,   2378.4,2,     7.30,2,-999.0000,-999.000,  2.6084,   0.008
      325023_1,  P14N,     4,  1,     17,     17,2,19930707,1934, 57.4992,-175.2472, 3466,   1217.6,   2.5684,  34.4173,2,  34.4206,2,   -999.0,9,     21.5,2,   165.88,2,    43.19,2,     0.00,2,     3.17,2, -999.000,5, -999.000,5,    0.672,2,-999.0000,9,  -999.00,9,   2395.7,2,   2394.2,2,  -999.00,9,-999.0000,-999.000,  2.4880,   0.008
      325023_1,  P14N,     4,  1,     16,     16,2,19930707,1934, 57.4992,-175.2472, 3466,   1319.6,   2.4341,  34.4494,2,  34.4522,2,   -999.0,9,     24.9,2,   173.33,2,    42.86,2,     0.00,2,     3.16,2, -999.000,5, -999.000,5, -999.000,9,-999.0000,9,  -999.00,9,   2397.5,2,   2389.5,2,     7.31,2,-999.0000,-999.000,  2.3472,-999.000
      325023_1,  P14N,     4,  1,     15,     15,2,19930707,1934, 57.4992,-175.2472, 3466,   1421.6,   2.3267,  34.4756,2,  34.4782,2,   -999.0,9,     28.5,2,   179.01,2,    42.67,2,     0.00,2,     3.16,2, -999.000,5, -999.000,5,    0.630,2,-999.0000,9,  -999.00,9,   2400.6,2,   2412.3,2,  -999.00,9,-999.0000,-999.000,  2.2330,   0.008
      325023_1,  P14N,     4,  1,     14,     14,2,19930707,1934, 57.4992,-175.2472, 3466,   1523.8,   2.2102,  34.5032,2,  34.5063,2,   -999.0,9,     33.3,2,   185.79,2,    42.21,2,     0.00,2,     3.16,2, -999.000,5, -999.000,5, -999.000,9,-999.0000,9,  -999.00,9,   2400.3,2,   2401.8,2,     7.33,2,-999.0000,-999.000,  2.1098,-999.000
      325023_1,  P14N,     4,  1,     13,     13,2,19930707,1934, 57.4992,-175.2472, 3466,   1625.4,   2.1241,  34.5231,2,  34.5275,2,   -999.0,9,     37.5,2,   190.54,2,    41.83,2,     0.00,2,     3.14,2, -999.000,5, -999.000,5,    0.664,2,-999.0000,9,  -999.00,9,   2400.4,2,   2415.1,2,  -999.00,9,-999.0000,-999.000,  2.0168,   0.008
      325023_1,  P14N,     4,  1,     12,     12,2,19930707,1934, 57.4992,-175.2472, 3466,   1831.1,   1.9666,  34.5598,2,  34.5637,2,   -999.0,9,     47.7,2,   199.42,2,    41.00,2,     0.00,2,     3.11,2, -999.000,5, -999.000,5,    0.681,2,-999.0000,9,  -999.00,9,   2398.8,2,   2413.2,2,     7.37,2,-999.0000,-999.000,  1.8447,   0.008
      325023_1,  P14N,     4,  1,     11,     11,2,19930707,1934, 57.4992,-175.2472, 3466,   2035.3,   1.8413,  34.5887,2,  34.5890,2,   -999.0,9,     57.2,2,   208.02,2,    40.13,2,     0.00,2,     3.11,2, -999.000,5, -999.000,5,    0.628,2,-999.0000,9,  -999.00,9,   2396.2,2,   2415.7,2,  -999.00,9,-999.0000,-999.000,  1.7045,   0.008
      325023_1,  P14N,     4,  1,     10,     10,2,19930707,1934, 57.4992,-175.2472, 3466,   2240.2,   1.7641,  34.6074,2,  34.6069,2,   -999.0,9,     64.9,2,   215.00,2,    39.62,2,     0.00,2,     3.05,2, -999.000,5, -999.000,5,    0.658,2,-999.0000,9,  -999.00,9,   2396.8,2,   2422.1,2,     7.41,2,-999.0000,-999.000,  1.6112,   0.008
      325023_1,  P14N,     4,  1,      9,      9,2,19930707,1934, 57.4992,-175.2472, 3466,   2444.5,   1.6975,  34.6239,2,  34.6244,2,   -999.0,9,     72.6,2,   220.27,2,    38.98,2,     0.00,2,     3.02,2, -999.000,5, -999.000,5,    0.640,2,-999.0000,9,  -999.00,9,   2392.3,2,   2423.5,2,  -999.00,9,-999.0000,-999.000,  1.5280,   0.008
      325023_1,  P14N,     4,  1,      8,      8,2,19930707,1934, 57.4992,-175.2472, 3466,   2648.9,   1.6430,  34.6375,2,  34.6375,2,   -999.0,9,     79.5,2,   223.31,2,    38.65,2,     0.00,2,     2.99,2, -999.000,5, -999.000,5,    0.597,2,-999.0000,9,  -999.00,9,   2392.1,2,   2433.3,2,     7.44,2,-999.0000,-999.000,  1.4560,   0.008
      325023_1,  P14N,     4,  1,      7,      7,2,19930707,1934, 57.4992,-175.2472, 3466,   2852.3,   1.6106,  34.6462,2,  34.6483,2,   -999.0,9,     84.9,2,   226.38,2,    38.06,2,     0.00,2,     2.97,2, -999.000,5, -999.000,5,    0.578,2,-999.0000,9,  -999.00,9,   2390.2,2,   2430.0,2,  -999.00,9,-999.0000,-999.000,  1.4055,   0.008
      325023_1,  P14N,     4,  1,      6,      6,2,19930707,1934, 57.4992,-175.2472, 3466,   3057.3,   1.5937,  34.6532,2,  34.6548,2,   -999.0,9,     89.0,2,   230.39,2,    37.78,2,     0.00,2,     2.96,2, -999.000,5, -999.000,5, -999.000,9,-999.0000,9,  -999.00,9,   2388.4,2,   2444.3,3,     7.46,2,-999.0000,-999.000,  1.3695,-999.000
      325023_1,  P14N,     4,  1,      5,      5,2,19930707,1934, 57.4992,-175.2472, 3466,   3262.4,   1.5906,  34.6580,2,  34.6593,2,   -999.0,9,     91.4,2,   234.45,2,    37.59,2,     0.00,2,     2.96,2, -999.000,5, -999.000,5,    0.585,2,-999.0000,9,  -999.00,9,   2388.3,2,   2433.4,2,  -999.00,9,-999.0000,-999.000,  1.3463,   0.008
      325023_1,  P14N,     4,  1,      4,      4,2,19930707,1934, 57.4992,-175.2472, 3466,   3468.0,   1.5870,  34.6630,2,  34.6646,2,   -999.0,9,     93.1,2,   245.20,2,    37.40,2,     0.00,2,     2.99,2, -999.000,5, -999.000,5,    0.632,2,-999.0000,9,  -999.00,9,   2389.4,2,   2438.0,2,     7.47,2,-999.0000,-999.000,  1.3221,   0.008
      325023_1,  P14N,     4,  1,      1,      1,2,19930707,1934, 57.4992,-175.2472, 3466,   3509.1,   1.5886,  34.6638,2,  34.6656,2,   -999.0,9,     92.3,2,   248.15,2,    37.38,2,     0.00,2,     2.99,2,    0.010,6,    0.004,6, -999.000,9,-999.0000,9,  -999.00,9,   2387.5,2,   2440.0,2,  -999.00,9,-999.0000,-999.000,  1.3194,-999.000
      325023_1,  P14N,     4,  1,      3,      3,2,19930707,1934, 57.4992,-175.2472, 3466,   3509.2,   1.5886,  34.6640,2,  34.6652,2,   -999.0,9,     92.9,2,   247.95,2,    37.35,2,     0.00,2,     2.96,2,    0.013,6,    0.009,6, -999.000,9,-999.0000,9,  -999.00,9,   2388.2,2,   2444.8,2,  -999.00,9,-999.0000,-999.000,  1.3194,-999.000
      325023_1,  P14N,     4,  1,      2,      2,2,19930707,1934, 57.4992,-175.2472, 3466,   3509.3,   1.5886,  34.6638,2,  34.6646,2,   -999.0,9,     92.4,2,   247.81,2,    37.39,2,     0.00,2,     2.98,2,    0.011,6,    0.004,6, -999.000,9,-999.0000,9,  -999.00,9,   2387.1,2,   2441.3,2,     7.47,2,-999.0000,-999.000,  1.3194,-999.000