BOTTLE,20131125MIRCJHATS
EXPOCODE,SECT_ID,STNNBR,CASTNO,SAMPNO,BTLNBR,BTLNBR_FLAG_W,DATE,TIME,LATITUDE,LONGITUDE,DEPTH,CTDPRS,CTDTMP,CTDSAL,CTDSAL_FLAG_W,SALNTY,SALNTY_FLAG_W,CTDOXY,CTDOXY_FLAG_W,OXYGEN,OXYGEN_FLAG_W,SILCAT,SILCAT_FLAG_W,NITRAT,NITRAT_FLAG_W,NITRIT,NITRIT_FLAG_W,PHSPHT,PHSPHT_FLAG_W,CFC-11,CFC-11_FLAG_W,CFC-12,CFC-12_FLAG_W,TRITUM,TRITUM_FLAG_W,HELIUM,HELIUM_FLAG_W,DELHE3,DELHE3_FLAG_W,TCARBN,TCARBN_FLAG_W,ALKALI,ALKALI_FLAG_W,PH,PH_FLAG_W,HELIER,DELHER,THETA,TRITER
,,,,,,,,,,,,DBAR,ITS-90,PSS-78,,PSS-78,,UMOL/KG,,UMOL/KG,,UMOL/KG,,UMOL/KG,,UMOL/KG,,UMOL/KG,,PMOL/KG,,PMOL/KG,,TU,,NMOL/KG,,PERCNT,,UMOL/KG,,UMOL/KG,,25_DEG,,NMOL/KG,PERCNT,DEG C,TU
      325024_1,  P14N,   167,  1,     36,     36,2,19930824,1212, -7.0002, 178.9995, 5497,      2.7,  29.4800,  34.2834,2,  34.2812,2,   -999.0,9,    195.2,2,     2.26,2,     0.03,2,     0.00,2,     0.19,2,    1.550,2,    0.849,2, -999.000,9,-999.0000,9,  -999.00,9,   1895.0,2,   2254.0,2,     8.12,2,-999.0000,-999.000, 29.4793,-999.000
      325024_1,  P14N,   167,  1,     35,     35,2,19930824,1212, -7.0002, 178.9995, 5497,     31.7,  29.4718,  34.3318,2,  34.3372,2,   -999.0,9,    195.5,2,     2.01,2,     0.00,2,     0.00,2,     0.19,2,    1.555,2,    0.858,2, -999.000,9,-999.0000,9,  -999.00,9,   1898.0,2,   2256.0,2,     8.12,2,-999.0000,-999.000, 29.4640,-999.000
      325024_1,  P14N,   167,  1,     34,     34,2,19930824,1212, -7.0002, 178.9995, 5497,     61.4,  29.5082,  34.4147,2,  34.4903,4,   -999.0,9,    196.9,2,     1.76,2,     0.00,2,     0.00,2,     0.20,2,    1.558,2,    0.862,2, -999.000,9,-999.0000,9,  -999.00,9,   1908.0,2,   2265.0,2,     8.12,2,-999.0000,-999.000, 29.4932,-999.000
      325024_1,  P14N,   167,  1,     33,     33,2,19930824,1212, -7.0002, 178.9995, 5497,     91.3,  28.8237,  35.4636,2,  35.5227,4,   -999.0,9,    179.7,2,     2.09,2,     1.75,2,     0.46,2,     0.47,2,    1.611,2,    0.880,2, -999.000,9,-999.0000,9,  -999.00,9,   2009.0,2,   2330.0,2,     8.05,2,-999.0000,-999.000, 28.8017,-999.000
      325024_1,  P14N,   167,  1,     32,     32,2,19930824,1212, -7.0002, 178.9995, 5497,    121.3,  26.4296,  36.0158,2,  36.0186,2,   -999.0,9,    143.9,2,     2.22,2,     5.53,2,     1.07,2,     0.73,2,    1.661,2,    0.883,2, -999.000,9,-999.0000,9,  -999.00,9,   2071.0,2,   2368.0,2,     7.98,2,-999.0000,-999.000, 26.4021,-999.000
      325024_1,  P14N,   167,  1,     31,     31,2,19930824,1212, -7.0002, 178.9995, 5497,    151.5,  23.2660,  36.1087,2,  36.0906,2,   -999.0,9,    140.8,2,     2.17,2,     7.39,2,     0.09,2,     0.80,2,    1.730,2,    0.920,2, -999.000,9,-999.0000,9,  -999.00,9,   2104.0,2,   2374.0,2,     7.94,2,-999.0000,-999.000, 23.2347,-999.000
      325024_1,  P14N,   167,  1,     30,     30,2,19930824,1212, -7.0002, 178.9995, 5497,    201.3,  18.7839,  35.6263,2,  35.5672,4,   -999.0,9,    116.0,2,     5.97,2,    13.08,2,     0.01,2,     1.18,2,    1.391,2,    0.711,2, -999.000,9,-999.0000,9,  -999.00,9,   2144.0,2,   2342.0,2,     7.80,2,-999.0000,-999.000, 18.7482,-999.000
      325024_1,  P14N,   167,  1,     29,     29,2,19930824,1212, -7.0002, 178.9995, 5497,    251.6,  14.5218,  35.1535,2,  35.1328,2,   -999.0,9,     89.2,2,    13.26,2,    21.14,2,     0.00,2,     1.65,2,    0.784,2,    0.371,2, -999.000,9,-999.0000,9,  -999.00,9,   2175.0,2,   2316.0,2,     7.69,2,-999.0000,-999.000, 14.4845,-999.000
      325024_1,  P14N,   167,  1,     28,     28,2,19930824,1212, -7.0002, 178.9995, 5497,    301.7,  11.7885,  34.8895,2,  34.8754,2,   -999.0,9,     97.7,2,    17.65,2,    24.38,2,     0.00,2,     1.84,2,    0.422,2,    0.214,2, -999.000,9,-999.0000,9,  -999.00,9,   2189.0,2,   2304.0,2,     7.62,2,-999.0000,-999.000, 11.7494,-999.000
      325024_1,  P14N,   167,  1,     27,     27,2,19930824,1212, -7.0002, 178.9995, 5497,    402.0,   9.0179,  34.6698,2,  34.6649,2,   -999.0,9,    105.7,2,    26.29,2,    29.31,2,     0.00,2,     2.11,2,    0.141,2,    0.066,2, -999.000,9,-999.0000,9,  -999.00,9,   2209.0,2,   2301.0,2,     7.56,2,-999.0000,-999.000,  8.9738,-999.000
      325024_1,  P14N,   167,  1,     26,     26,2,19930824,1212, -7.0002, 178.9995, 5497,    507.0,   7.5015,  34.5797,2,  34.5792,2,   -999.0,9,    116.4,2,    33.00,2,    31.41,2,     0.00,2,     2.22,2,    0.071,2,    0.031,2, -999.000,9,-999.0000,9,  -999.00,9,   2218.0,2,   2317.0,2,     7.56,2,-999.0000,-999.000,  7.4514,-999.000
      325024_1,  P14N,   167,  1,     25,     25,2,19930824,1212, -7.0002, 178.9995, 5497,    606.8,   6.7175,  34.5397,2,  34.5376,2,   -999.0,9,    127.9,2,    38.73,2,    32.02,2,     0.00,2,     2.27,2,    0.062,2,    0.032,2, -999.000,9,-999.0000,9,  -999.00,9,   2223.0,2,   2310.0,2,     7.56,2,-999.0000,-999.000,  6.6607,-999.000
      325024_1,  P14N,   167,  1,     24,     24,2,19930824,1212, -7.0002, 178.9995, 5497,    706.6,   5.8891,  34.5241,2,  34.5243,2,   -999.0,9,    112.6,2,    49.51,2,    35.15,2,     0.00,2,     2.49,2,    0.014,6,    0.008,6, -999.000,9,-999.0000,9,  -999.00,9,   2246.0,2,   2320.0,2,     7.51,2,-999.0000,-999.000,  5.8269,-999.000
      325024_1,  P14N,   167,  1,     23,     23,2,19930824,1212, -7.0002, 178.9995, 5497,    806.5,   5.3089,  34.5211,2,  34.5215,2,   -999.0,9,    108.0,2,    58.74,2,    36.52,2,     0.00,2,     2.60,2,    0.005,2,    0.002,2, -999.000,9,-999.0000,9,  -999.00,9,   2262.0,2,   2329.0,2,     7.50,2,-999.0000,-999.000,  5.2409,-999.000
      325024_1,  P14N,   167,  1,     22,     22,2,19930824,1212, -7.0002, 178.9995, 5497,    906.6,   4.7164,  34.5303,2,  34.5301,2,   -999.0,9,    109.1,2,    70.71,2,    37.05,2,     0.00,2,     2.64,2,    0.001,2,    0.001,2, -999.000,9,-999.0000,9,  -999.00,9,   2275.0,2,   2343.0,2,     7.50,2,-999.0000,-999.000,  4.6434,-999.000
      325024_1,  P14N,   167,  1,     21,     21,2,19930824,1212, -7.0002, 178.9995, 5497,   1007.1,   4.2675,  34.5409,2,  34.5427,2,   -999.0,9,    108.7,2,    80.57,2,    37.59,2,     0.00,2,     2.67,2,    0.002,2,    0.003,2, -999.000,9,-999.0000,9,  -999.00,9,   2287.0,2,   2354.0,2,     7.51,2,-999.0000,-999.000,  4.1891,-999.000
      325024_1,  P14N,   167,  1,     20,     20,2,19930824,1212, -7.0002, 178.9995, 5497,   1212.5,   3.6954,  34.5614,2,  34.5611,2,   -999.0,9,    112.7,2,    93.80,2,    37.64,2,     0.00,2,     2.67,2, -999.000,5, -999.000,5, -999.000,9,-999.0000,9,  -999.00,9,   2298.0,2,   2372.0,2,     7.50,2,-999.0000,-999.000,  3.6044,-999.000
      325024_1,  P14N,   167,  1,     19,     19,2,19930824,1212, -7.0002, 178.9995, 5497,   1413.6,   3.3140,  34.5803,2,  34.5793,2,   -999.0,9,    110.6,2,   104.75,2,    38.08,2,     0.00,2,     2.70,2,   -0.003,2,    0.000,2, -999.000,9,-999.0000,9,  -999.00,9,   2312.0,2,   2375.0,2,     7.50,2,-999.0000,-999.000,  3.2099,-999.000
      325024_1,  P14N,   167,  1,     18,     18,2,19930824,1212, -7.0002, 178.9995, 5497,   1615.7,   2.8563,  34.5973,2,  34.5969,2,   -999.0,9,    124.8,2,   111.40,2,    37.19,2,     0.00,2,     2.62,2, -999.000,5, -999.000,5, -999.000,9,-999.0000,9,  -999.00,9,   2312.0,2,   2384.0,2,     7.51,2,-999.0000,-999.000,  2.7405,-999.000
      325024_1,  P14N,   167,  1,     17,     17,2,19930824,1212, -7.0002, 178.9995, 5497,   1817.0,   2.5034,  34.6196,2,  34.6191,2,   -999.0,9,    123.2,2,   122.47,2,    37.46,2,     0.00,2,     2.65,2,   -0.001,2,    0.002,2, -999.000,9,-999.0000,9,  -999.00,9,   2322.0,2,   2398.0,2,     7.52,2,-999.0000,-999.000,  2.3751,-999.000
      325024_1,  P14N,   167,  1,     16,     16,2,19930824,1212, -7.0002, 178.9995, 5497,   2019.3,   2.2409,  34.6333,2,  34.6328,2,   -999.0,9,    132.5,2,   125.60,2,    36.83,2,     0.00,2,     2.59,2, -999.000,5, -999.000,5, -999.000,9,-999.0000,9,  -999.00,9,   2321.0,2,   2403.0,2,     7.52,2,-999.0000,-999.000,  2.0991,-999.000
      325024_1,  P14N,   167,  1,     15,     15,2,19930824,1212, -7.0002, 178.9995, 5497,   2226.5,   2.0758,  34.6448,2,  34.6440,2,   -999.0,9,    135.4,2,   129.53,2,    36.70,2,     0.00,2,     2.59,2, -999.000,5, -999.000,5, -999.000,9,-999.0000,9,  -999.00,9,   2325.0,2,   2406.0,2,     7.54,2,-999.0000,-999.000,  1.9186,-999.000
      325024_1,  P14N,   167,  1,     14,     14,2,19930824,1212, -7.0002, 178.9995, 5497,   2428.9,   1.9380,  34.6548,2,  34.6544,2,   -999.0,9,    134.5,2,   135.30,2,    36.70,2,     0.00,2,     2.57,2, -999.000,5, -999.000,5, -999.000,9,-999.0000,9,  -999.00,9,   2330.0,2,   2415.0,2,     7.53,2,-999.0000,-999.000,  1.7653,-999.000
      325024_1,  P14N,   167,  1,     13,     13,2,19930824,1212, -7.0002, 178.9995, 5497,   2631.3,   1.8444,  34.6613,2,  34.6612,2,   -999.0,9,    137.5,2,   138.05,2,    36.44,2,     0.00,2,     2.54,2,   -0.002,2,    0.001,2, -999.000,9,-999.0000,9,  -999.00,9,   2331.0,2,   2416.0,2,     7.54,2,-999.0000,-999.000,  1.6551,-999.000
      325024_1,  P14N,   167,  1,     12,     12,2,19930824,1212, -7.0002, 178.9995, 5497,   2838.5,   1.7437,  34.6671,2,  34.6673,2,   -999.0,9,    141.9,2,   139.18,2,    36.31,2,     0.00,2,     2.54,2, -999.000,5, -999.000,5, -999.000,9,-999.0000,9,  -999.00,9,   -999.0,9,   -999.0,9,  -999.00,9,-999.0000,-999.000,  1.5370,-999.000
      325024_1,  P14N,   167,  1,     11,     11,2,19930824,1212, -7.0002, 178.9995, 5497,   3043.2,   1.6553,  34.6748,2,  34.6744,2,   -999.0,9,    149.3,2,   138.69,2,    35.78,2,     0.00,2,     2.50,2, -999.000,5, -999.000,5, -999.000,9,-999.0000,9,  -999.00,9,   2329.0,2,   2416.0,2,     7.54,2,-999.0000,-999.000,  1.4309,-999.000
      325024_1,  P14N,   167,  1,     10,     10,2,19930824,1212, -7.0002, 178.9995, 5497,   3344.9,   1.5712,  34.6789,2,  34.6783,2,   -999.0,9,    152.7,2,   139.61,2,    35.64,2,     0.00,2,     2.49,2, -999.000,5, -999.000,5, -999.000,9,-999.0000,9,  -999.00,9,   2322.0,2,   2414.0,2,     7.53,2,-999.0000,-999.000,  1.3191,-999.000
      325024_1,  P14N,   167,  1,      9,      9,2,19930824,1212, -7.0002, 178.9995, 5497,   3650.3,   1.4924,  34.6845,2,  34.6839,2,   -999.0,9,    160.8,2,   138.10,2,    35.12,2,     0.00,2,     2.43,2,   -0.003,2,    0.000,2, -999.000,9,-999.0000,9,  -999.00,9,   2324.0,2,   2413.0,2,     7.55,2,-999.0000,-999.000,  1.2109,-999.000
      325024_1,  P14N,   167,  1,      8,      8,2,19930824,1212, -7.0002, 178.9995, 5497,   3957.4,   1.3828,  34.6927,2,  34.6926,2,   -999.0,9,    173.0,2,   133.15,2,    34.15,2,     0.00,2,     2.38,2, -999.000,5, -999.000,5, -999.000,9,-999.0000,9,  -999.00,9,   2316.0,2,   2411.0,2,     7.55,2,-999.0000,-999.000,  1.0717,-999.000
      325024_1,  P14N,   167,  1,      7,      7,2,19930824,1212, -7.0002, 178.9995, 5497,   4264.5,   1.2750,  34.7008,2,  34.7004,2,   -999.0,9,    188.1,2,   126.42,2,    33.02,2,     0.00,2,     2.29,2, -999.000,5, -999.000,5, -999.000,9,-999.0000,9,  -999.00,9,   2302.0,2,   2397.0,2,     7.57,2,-999.0000,-999.000,  0.9334,-999.000
      325024_1,  P14N,   167,  1,      6,      6,2,19930824,1212, -7.0002, 178.9995, 5497,   4571.1,   1.2573,  34.7033,2,-999.0000,9,   -999.0,9,   -999.0,9,  -999.00,9,  -999.00,9,  -999.00,9,  -999.00,9, -999.000,5, -999.000,5, -999.000,9,-999.0000,9,  -999.00,9,   2284.0,2,   2388.0,2,     7.57,2,-999.0000,-999.000,  0.8816,-999.000
      325024_1,  P14N,   167,  1,      5,      5,2,19930824,1212, -7.0002, 178.9995, 5497,   4878.2,   1.2659,  34.7046,2,  34.7043,2,   -999.0,9,    194.3,2,   124.34,2,    32.55,2,     0.00,2,     2.26,2,    0.005,2,    0.000,2, -999.000,9,-999.0000,9,  -999.00,9,   2278.0,2,   2382.0,2,     7.59,2,-999.0000,-999.000,  0.8540,-999.000
      325024_1,  P14N,   167,  1,      4,      4,2,19930824,1212, -7.0002, 178.9995, 5497,   5190.4,   1.2872,  34.7047,2,  34.7045,2,   -999.0,9,    195.4,2,   124.25,2,    32.50,2,     0.00,2,     2.25,2, -999.000,5, -999.000,5, -999.000,9,-999.0000,9,  -999.00,9,   2276.0,2,   2380.0,2,     7.57,2,-999.0000,-999.000,  0.8369,-999.000
      325024_1,  P14N,   167,  1,      3,      3,2,19930824,1212, -7.0002, 178.9995, 5497,   5470.8,   1.3102,  34.7050,2,  34.7041,2,   -999.0,9,    195.7,2,   124.17,2,    32.50,2,     0.00,2,     2.25,2,   -0.003,2,    0.001,2, -999.000,9,-999.0000,9,  -999.00,9,   2278.0,2,   2380.0,2,     7.59,2,-999.0000,-999.000,  0.8242,-999.000
      325024_1,  P14N,   167,  1,      1,      1,2,19930824,1212, -7.0002, 178.9995, 5497,   5561.4,   1.3211,  34.7046,2,  34.7045,2,   -999.0,9,    194.2,2,   123.60,2,    32.38,2,     0.00,2,     2.25,2, -999.000,5, -999.000,5, -999.000,9,-999.0000,9,  -999.00,9,   2278.0,2,   2379.0,2,     7.57,2,-999.0000,-999.000,  0.8232,-999.000
      325024_1,  P14N,   167,  1,      2,      2,2,19930824,1212, -7.0002, 178.9995, 5497,   5561.5,   1.3209,  34.7044,2,  34.7049,2,   -999.0,9,    195.9,2,   123.68,2,    32.38,2,     0.00,2,     2.25,2,    0.005,4,    0.001,2, -999.000,9,-999.0000,9,  -999.00,9,   2276.0,2,   2382.0,2,     7.58,2,-999.0000,-999.000,  0.8230,-999.000