BOTTLE,20131125MIRCJHATS
EXPOCODE,SECT_ID,STNNBR,CASTNO,SAMPNO,BTLNBR,BTLNBR_FLAG_W,DATE,TIME,LATITUDE,LONGITUDE,DEPTH,CTDPRS,CTDTMP,CTDSAL,CTDSAL_FLAG_W,SALNTY,SALNTY_FLAG_W,CTDOXY,CTDOXY_FLAG_W,OXYGEN,OXYGEN_FLAG_W,SILCAT,SILCAT_FLAG_W,NITRAT,NITRAT_FLAG_W,NITRIT,NITRIT_FLAG_W,PHSPHT,PHSPHT_FLAG_W,CFC-11,CFC-11_FLAG_W,CFC-12,CFC-12_FLAG_W,TRITUM,TRITUM_FLAG_W,HELIUM,HELIUM_FLAG_W,DELHE3,DELHE3_FLAG_W,TCARBN,TCARBN_FLAG_W,ALKALI,ALKALI_FLAG_W,PH,PH_FLAG_W,HELIER,DELHER,THETA,TRITER
,,,,,,,,,,,,DBAR,ITS-90,PSS-78,,PSS-78,,UMOL/KG,,UMOL/KG,,UMOL/KG,,UMOL/KG,,UMOL/KG,,UMOL/KG,,PMOL/KG,,PMOL/KG,,TU,,NMOL/KG,,PERCNT,,UMOL/KG,,UMOL/KG,,25_DEG,,NMOL/KG,PERCNT,DEG C,TU
      325024_1,  P14N,   141,  1,     36,     36,2,19930817,0801,  0.4998, 179.0007, 5414,      2.4,  30.2942,  34.1987,2,  34.2038,2,   -999.0,9,    195.9,2,     2.41,2,     0.04,2,     0.00,2,     0.15,2,    1.535,2,    0.844,2, -999.000,9,-999.0000,9,  -999.00,9,   -999.0,9,   -999.0,9,  -999.00,9,-999.0000,-999.000, 30.2936,-999.000
      325024_1,  P14N,   141,  1,     35,     35,2,19930817,0801,  0.4998, 179.0007, 5414,     31.5,  30.0828,  34.2333,2,  34.2630,2,   -999.0,9,    196.0,2,     1.83,2,     0.05,2,     0.00,2,     0.16,2, -999.000,5, -999.000,5, -999.000,9,-999.0000,9,  -999.00,9,   -999.0,9,   -999.0,9,  -999.00,9,-999.0000,-999.000, 30.0750,-999.000
      325024_1,  P14N,   141,  1,     34,     34,2,19930817,0801,  0.4998, 179.0007, 5414,     61.5,  29.7769,  34.5557,2,  34.5803,2,   -999.0,9,    201.8,2,     1.65,2,     0.05,2,     0.00,2,     0.19,2,    1.578,2,    0.859,2, -999.000,9,-999.0000,9,  -999.00,9,   -999.0,9,   -999.0,9,  -999.00,9,-999.0000,-999.000, 29.7618,-999.000
      325024_1,  P14N,   141,  1,     33,     33,2,19930817,0801,  0.4998, 179.0007, 5414,     91.2,  26.0938,  35.2700,4,  35.1889,2,   -999.0,9,    157.2,2,     3.68,2,     5.99,2,     0.52,2,     0.61,2,    1.470,4,    0.810,4, -999.000,9,-999.0000,9,  -999.00,9,   -999.0,9,   -999.0,9,  -999.00,9,-999.0000,-999.000, 26.0734,-999.000
      325024_1,  P14N,   141,  1,     32,     32,2,19930817,0801,  0.4998, 179.0007, 5414,    127.2,  22.3260,  35.1851,2,  35.1948,2,   -999.0,9,    139.8,2,     4.91,2,     8.55,2,     0.08,2,     0.72,2,    1.557,2,    0.826,2, -999.000,9,-999.0000,9,  -999.00,9,   -999.0,9,   -999.0,9,  -999.00,9,-999.0000,-999.000, 22.3006,-999.000
      325024_1,  P14N,   141,  1,     31,     31,2,19930817,0801,  0.4998, 179.0007, 5414,    158.0,  21.3793,  35.2293,2,  35.2255,2,   -999.0,9,    137.5,2,     5.74,2,     9.43,2,     0.02,2,     0.76,2,    1.521,2,    0.803,2, -999.000,9,-999.0000,9,  -999.00,9,   -999.0,9,   -999.0,9,  -999.00,9,-999.0000,-999.000, 21.3486,-999.000
      325024_1,  P14N,   141,  1,     30,     30,2,19930817,0801,  0.4998, 179.0007, 5414,    209.3,  14.9431,  34.8988,2,  34.8742,3,   -999.0,9,    136.0,2,    16.20,2,    16.38,2,     0.01,2,     1.23,2,    1.194,6,    0.593,6, -999.000,9,-999.0000,9,  -999.00,9,   -999.0,9,   -999.0,9,  -999.00,9,-999.0000,-999.000, 14.9115,-999.000
      325024_1,  P14N,   141,  1,     29,     29,2,19930817,0801,  0.4998, 179.0007, 5414,    259.7,  13.2486,  34.8821,2,  34.8727,2,   -999.0,9,    131.5,2,    17.42,2,    19.07,2,     0.00,2,     1.42,2,    0.906,2,    0.464,2, -999.000,9,-999.0000,9,  -999.00,9,   -999.0,9,   -999.0,9,  -999.00,9,-999.0000,-999.000, 13.2124,-999.000
      325024_1,  P14N,   141,  1,     28,     28,2,19930817,0801,  0.4998, 179.0007, 5414,    309.4,  11.4149,  34.7922,2,  34.7900,2,   -999.0,9,     94.1,2,    23.05,2,    25.79,2,     0.00,2,     1.85,2,    0.475,2,    0.233,2, -999.000,9,-999.0000,9,  -999.00,9,   -999.0,9,   -999.0,9,  -999.00,9,-999.0000,-999.000, 11.3757,-999.000
      325024_1,  P14N,   141,  1,     27,     27,2,19930817,0801,  0.4998, 179.0007, 5414,    409.8,   9.6034,  34.6935,2,  34.6877,2,   -999.0,9,     70.8,2,    30.69,2,    31.72,2,     0.00,2,     2.23,2,    0.165,2,    0.090,2, -999.000,9,-999.0000,9,  -999.00,9,   -999.0,9,   -999.0,9,  -999.00,9,-999.0000,-999.000,  9.5567,-999.000
      325024_1,  P14N,   141,  1,     26,     26,2,19930817,0801,  0.4998, 179.0007, 5414,    508.9,   7.7435,  34.5923,2,  34.5892,2,   -999.0,9,    102.2,2,    37.13,2,    32.24,2,     0.00,2,     2.29,2,    0.095,2,    0.050,2, -999.000,9,-999.0000,9,  -999.00,9,   -999.0,9,   -999.0,9,  -999.00,9,-999.0000,-999.000,  7.6923,-999.000
      325024_1,  P14N,   141,  1,     25,     25,2,19930817,0801,  0.4998, 179.0007, 5414,    609.0,   6.8766,  34.5653,2,  34.5651,2,   -999.0,9,     81.4,2,    47.38,2,    36.04,2,     0.01,2,     2.54,2,    0.035,2,    0.018,2, -999.000,9,-999.0000,9,  -999.00,9,   -999.0,9,   -999.0,9,  -999.00,9,-999.0000,-999.000,  6.8189,-999.000
      325024_1,  P14N,   141,  1,     24,     24,2,19930817,0801,  0.4998, 179.0007, 5414,    708.7,   6.2020,  34.5565,2,  34.5557,2,   -999.0,9,     68.1,2,    58.63,2,    38.92,2,     0.01,2,     2.75,2,    0.003,2,    0.001,2, -999.000,9,-999.0000,9,  -999.00,9,   -999.0,9,   -999.0,9,  -999.00,9,-999.0000,-999.000,  6.1379,-999.000
      325024_1,  P14N,   141,  1,     23,     23,2,19930817,0801,  0.4998, 179.0007, 5414,    809.8,   5.5907,  34.5470,2,  34.5465,2,   -999.0,9,     76.0,2,    65.68,2,    38.98,2,     0.00,2,     2.77,2,    0.003,2,    0.003,2, -999.000,9,-999.0000,9,  -999.00,9,   -999.0,9,   -999.0,9,  -999.00,9,-999.0000,-999.000,  5.5207,-999.000
      325024_1,  P14N,   141,  1,     22,     22,2,19930817,0801,  0.4998, 179.0007, 5414,   1011.6,   4.6685,  34.5519,2,  34.5516,2,   -999.0,9,     83.3,2,    82.63,2,    39.21,2,     0.00,2,     2.81,2,    0.004,2,    0.000,2, -999.000,9,-999.0000,9,  -999.00,9,   -999.0,9,   -999.0,9,  -999.00,9,-999.0000,-999.000,  4.5866,-999.000
      325024_1,  P14N,   141,  1,     21,     21,2,19930817,0801,  0.4998, 179.0007, 5414,   1213.7,   3.9172,  34.5696,2,  34.5674,2,   -999.0,9,     93.0,2,    97.63,2,    38.77,2,     0.00,2,     2.78,2, -999.000,5, -999.000,5, -999.000,9,-999.0000,9,  -999.00,9,   -999.0,9,   -999.0,9,  -999.00,9,-999.0000,-999.000,  3.8241,-999.000
      325024_1,  P14N,   141,  1,     20,     20,2,19930817,0801,  0.4998, 179.0007, 5414,   1410.9,   3.3219,  34.5910,2,  34.5896,2,   -999.0,9,     91.9,2,   111.92,2,    39.22,2,     0.00,2,     2.82,2, -999.000,5, -999.000,5, -999.000,9,-999.0000,9,  -999.00,9,   -999.0,9,   -999.0,9,  -999.00,9,-999.0000,-999.000,  3.2179,-999.000
      325024_1,  P14N,   141,  1,     19,     19,2,19930817,0801,  0.4998, 179.0007, 5414,   1614.3,   2.8356,  34.6095,2,  34.6084,2,   -999.0,9,    101.2,2,   121.79,2,    38.83,2,     0.00,2,     2.77,2, -999.000,5, -999.000,5, -999.000,9,-999.0000,9,  -999.00,9,   -999.0,9,   -999.0,9,  -999.00,9,-999.0000,-999.000,  2.7201,-999.000
      325024_1,  P14N,   141,  1,     18,     18,2,19930817,0801,  0.4998, 179.0007, 5414,   1817.6,   2.5036,  34.6258,2,  34.6255,2,   -999.0,9,    104.8,2,   131.10,2,    38.70,2,     0.00,2,     2.75,2, -999.000,5, -999.000,5, -999.000,9,-999.0000,9,  -999.00,9,   -999.0,9,   -999.0,9,  -999.00,9,-999.0000,-999.000,  2.3752,-999.000
      325024_1,  P14N,   141,  1,     17,     17,2,19930817,0801,  0.4998, 179.0007, 5414,   2020.2,   2.2251,  34.6391,2,  34.6384,2,   -999.0,9,    112.0,2,   136.71,2,    38.22,2,     0.00,2,     2.72,2,    0.000,2,    0.000,2, -999.000,9,-999.0000,9,  -999.00,9,   -999.0,9,   -999.0,9,  -999.00,9,-999.0000,-999.000,  2.0835,-999.000
      325024_1,  P14N,   141,  1,     16,     16,2,19930817,0801,  0.4998, 179.0007, 5414,   2223.7,   2.0110,  34.6508,2,  34.6500,2,   -999.0,9,    118.8,2,   140.88,2,    37.91,2,     0.00,2,     2.68,2, -999.000,5, -999.000,5, -999.000,9,-999.0000,9,  -999.00,9,   -999.0,9,   -999.0,9,  -999.00,9,-999.0000,-999.000,  1.8552,-999.000
      325024_1,  P14N,   141,  1,     15,     15,2,19930817,0801,  0.4998, 179.0007, 5414,   2427.3,   1.9002,  34.6565,2,  34.6567,2,   -999.0,9,    121.9,2,   143.80,2,    37.65,2,     0.00,2,     2.65,2, -999.000,5, -999.000,5, -999.000,9,-999.0000,9,  -999.00,9,   -999.0,9,   -999.0,9,  -999.00,9,-999.0000,-999.000,  1.7283,-999.000
      325024_1,  P14N,   141,  1,     13,     13,2,19930817,0801,  0.4998, 179.0007, 5414,   2629.0,   1.7889,  34.6637,2,  34.6631,2,   -999.0,9,    127.4,2,   144.60,2,    37.31,2,     0.00,2,     2.62,2, -999.000,5, -999.000,5, -999.000,9,-999.0000,9,  -999.00,9,   -999.0,9,   -999.0,9,  -999.00,9,-999.0000,-999.000,  1.6008,-999.000
      325024_1,  P14N,   141,  1,     14,     14,2,19930817,0801,  0.4998, 179.0007, 5414,   2630.8,   1.7985,  34.6632,2,  34.6624,2,   -999.0,9,    127.1,2,   144.41,2,    37.35,2,     0.00,2,     2.63,2, -999.000,5, -999.000,5, -999.000,9,-999.0000,9,  -999.00,9,   -999.0,9,   -999.0,9,  -999.00,9,-999.0000,-999.000,  1.6100,-999.000
      325024_1,  P14N,   141,  1,     12,     12,2,19930817,0801,  0.4998, 179.0007, 5414,   2835.4,   1.6997,  34.6680,2,  34.6676,2,   -999.0,9,    133.3,2,   144.16,2,    36.88,2,     0.00,2,     2.61,2, -999.000,5, -999.000,5, -999.000,9,-999.0000,9,  -999.00,9,   -999.0,9,   -999.0,9,  -999.00,9,-999.0000,-999.000,  1.4943,-999.000
      325024_1,  P14N,   141,  1,     11,     11,2,19930817,0801,  0.4998, 179.0007, 5414,   3038.2,   1.6590,  34.6707,2,  34.6704,2,   -999.0,9,    137.3,2,   144.56,2,    36.80,2,     0.00,2,     2.56,2,    0.000,2,    0.000,2, -999.000,9,-999.0000,9,  -999.00,9,   -999.0,9,   -999.0,9,  -999.00,9,-999.0000,-999.000,  1.4350,-999.000
      325024_1,  P14N,   141,  1,     10,     10,2,19930817,0801,  0.4998, 179.0007, 5414,   3344.1,   1.5632,  34.6768,2,  34.6763,2,   -999.0,9,    145.7,2,   144.12,2,    36.24,2,     0.00,2,     2.52,2, -999.000,5, -999.000,5, -999.000,9,-999.0000,9,  -999.00,9,   -999.0,9,   -999.0,9,  -999.00,9,-999.0000,-999.000,  1.3114,-999.000
      325024_1,  P14N,   141,  1,      9,      9,2,19930817,0801,  0.4998, 179.0007, 5414,   3650.9,   1.4948,  34.6829,2,  34.6825,2,   -999.0,9,    154.1,2,   142.00,2,    35.72,2,     0.00,2,     2.47,2, -999.000,5, -999.000,5, -999.000,9,-999.0000,9,  -999.00,9,   -999.0,9,   -999.0,9,  -999.00,9,-999.0000,-999.000,  1.2132,-999.000
      325024_1,  P14N,   141,  1,      8,      8,2,19930817,0801,  0.4998, 179.0007, 5414,   3958.3,   1.4164,  34.6902,2,  34.6894,2,   -999.0,9,    164.1,2,   139.05,2,    35.03,2,     0.00,2,     2.42,2, -999.000,5, -999.000,5, -999.000,9,-999.0000,9,  -999.00,9,   -999.0,9,   -999.0,9,  -999.00,9,-999.0000,-999.000,  1.1043,-999.000
      325024_1,  P14N,   141,  1,      7,      7,2,19930817,0801,  0.4998, 179.0007, 5414,   4265.3,   1.3457,  34.6956,2,  34.6953,2,   -999.0,9,    174.7,2,   134.65,2,    34.35,2,     0.00,2,     2.37,2, -999.000,5, -999.000,5, -999.000,9,-999.0000,9,  -999.00,9,   -999.0,9,   -999.0,9,  -999.00,9,-999.0000,-999.000,  1.0020,-999.000
      325024_1,  P14N,   141,  1,      6,      6,2,19930817,0801,  0.4998, 179.0007, 5414,   4563.6,   1.2601,  34.7013,2,  34.7014,2,   -999.0,9,    186.5,2,   128.41,2,    33.54,2,     0.00,2,     2.31,2, -999.000,5, -999.000,5, -999.000,9,-999.0000,9,  -999.00,9,   -999.0,9,   -999.0,9,  -999.00,9,-999.0000,-999.000,  0.8852,-999.000
      325024_1,  P14N,   141,  1,      5,      5,2,19930817,0801,  0.4998, 179.0007, 5414,   4882.4,   1.2463,  34.7036,2,  34.7035,2,   -999.0,9,    191.8,2,   125.91,2,    32.60,2,     0.00,2,     2.29,2, -999.000,5, -999.000,5, -999.000,9,-999.0000,9,  -999.00,9,   -999.0,9,   -999.0,9,  -999.00,9,-999.0000,-999.000,  0.8346,-999.000
      325024_1,  P14N,   141,  1,      4,      4,2,19930817,0801,  0.4998, 179.0007, 5414,   4884.3,   1.2460,  34.7035,2,  34.7035,2,   -999.0,9,    191.7,2,   125.49,2,    32.65,2,     0.00,2,     2.28,2, -999.000,5, -999.000,5, -999.000,9,-999.0000,9,  -999.00,9,   -999.0,9,   -999.0,9,  -999.00,9,-999.0000,-999.000,  0.8341,-999.000
      325024_1,  P14N,   141,  1,      3,      3,2,19930817,0801,  0.4998, 179.0007, 5414,   5192.0,   1.2683,  34.7045,2,  34.7041,2,   -999.0,9,    193.9,2,   125.26,2,    32.53,2,     0.00,2,     2.27,2, -999.000,5, -999.000,5, -999.000,9,-999.0000,9,  -999.00,9,   -999.0,9,   -999.0,9,  -999.00,9,-999.0000,-999.000,  0.8184,-999.000
      325024_1,  P14N,   141,  1,      2,      2,2,19930817,0801,  0.4998, 179.0007, 5414,   5500.3,   1.3053,  34.7045,2,  34.7049,2,   -999.0,9,    194.2,2,   124.63,2,    32.49,2,     0.00,2,     2.27,2,    0.000,2,    0.002,2, -999.000,9,-999.0000,9,  -999.00,9,   -999.0,9,   -999.0,9,  -999.00,9,-999.0000,-999.000,  0.8157,-999.000
      325024_1,  P14N,   141,  1,      1,      1,2,19930817,0801,  0.4998, 179.0007, 5414,   5500.4,   1.3052,  34.7048,2,  34.7049,2,   -999.0,9,    191.9,2,   124.62,2,    32.59,2,     0.00,2,     2.27,2, -999.000,5, -999.000,5, -999.000,9,-999.0000,9,  -999.00,9,   -999.0,9,   -999.0,9,  -999.00,9,-999.0000,-999.000,  0.8156,-999.000