BOTTLE,20131125MIRCJHATS
EXPOCODE,SECT_ID,STNNBR,CASTNO,SAMPNO,BTLNBR,BTLNBR_FLAG_W,DATE,TIME,LATITUDE,LONGITUDE,DEPTH,CTDPRS,CTDTMP,CTDSAL,CTDSAL_FLAG_W,SALNTY,SALNTY_FLAG_W,CTDOXY,CTDOXY_FLAG_W,OXYGEN,OXYGEN_FLAG_W,SILCAT,SILCAT_FLAG_W,NITRAT,NITRAT_FLAG_W,NITRIT,NITRIT_FLAG_W,PHSPHT,PHSPHT_FLAG_W,CFC-11,CFC-11_FLAG_W,CFC-12,CFC-12_FLAG_W,TRITUM,TRITUM_FLAG_W,HELIUM,HELIUM_FLAG_W,DELHE3,DELHE3_FLAG_W,TCARBN,TCARBN_FLAG_W,ALKALI,ALKALI_FLAG_W,PH,PH_FLAG_W,HELIER,DELHER,THETA,TRITER
,,,,,,,,,,,,DBAR,ITS-90,PSS-78,,PSS-78,,UMOL/KG,,UMOL/KG,,UMOL/KG,,UMOL/KG,,UMOL/KG,,UMOL/KG,,PMOL/KG,,PMOL/KG,,TU,,NMOL/KG,,PERCNT,,UMOL/KG,,UMOL/KG,,25_DEG,,NMOL/KG,PERCNT,DEG C,TU
      325024_1,  P14N,   134,  1,     36,     36,2,19930815,1851,  2.2468, 179.0085, 5620,      3.2,  29.9934,  33.9889,2,  33.9948,2,   -999.0,9,    195.3,2,     3.39,2,     0.03,2,     0.00,2,     0.13,2, -999.000,5, -999.000,5, -999.000,9,-999.0000,9,  -999.00,9,   1879.0,2,   2235.0,2,     8.12,2,-999.0000,-999.000, 29.9926,-999.000
      325024_1,  P14N,   134,  1,     35,     35,2,19930815,1851,  2.2468, 179.0085, 5620,     37.4,  29.8922,  34.0889,2,  34.1068,2,   -999.0,9,    197.1,2,     3.12,2,     0.03,2,     0.00,2,     0.15,2, -999.000,5, -999.000,5, -999.000,9,-999.0000,9,  -999.00,9,   1888.0,2,   2245.0,2,     8.12,2,-999.0000,-999.000, 29.8829,-999.000
      325024_1,  P14N,   134,  1,     34,     34,2,19930815,1851,  2.2468, 179.0085, 5620,     67.1,  29.3487,  34.7210,2,  34.7490,2,   -999.0,9,    201.7,2,     3.06,2,     0.02,2,     0.00,2,     0.21,2, -999.000,5, -999.000,5, -999.000,9,-999.0000,9,  -999.00,9,   1934.0,2,   2286.0,2,     8.10,2,-999.0000,-999.000, 29.3323,-999.000
      325024_1,  P14N,   134,  1,     33,     33,2,19930815,1851,  2.2468, 179.0085, 5620,     97.3,  25.9187,  34.9011,2,  34.9206,2,   -999.0,9,    163.5,2,     4.42,2,     3.02,2,     0.33,2,     0.44,2, -999.000,5, -999.000,5, -999.000,9,-999.0000,9,  -999.00,9,   2005.0,2,   2299.0,2,     8.00,2,-999.0000,-999.000, 25.8971,-999.000
      325024_1,  P14N,   134,  1,     32,     32,2,19930815,1851,  2.2468, 179.0085, 5620,    127.5,  22.9672,  34.9765,2,  34.9776,2,   -999.0,9,    129.4,2,     6.61,2,     9.22,2,     0.07,2,     0.75,2, -999.000,5, -999.000,5, -999.000,9,-999.0000,9,  -999.00,9,   2051.0,2,   2295.0,2,     7.92,2,-999.0000,-999.000, 22.9412,-999.000
      325024_1,  P14N,   134,  1,     31,     31,2,19930815,1851,  2.2468, 179.0085, 5620,    158.6,  18.9843,  34.8827,4,  34.8179,2,   -999.0,9,    141.3,2,    11.65,2,    11.04,2,     0.02,2,     0.86,2, -999.000,5, -999.000,5, -999.000,9,-999.0000,9,  -999.00,9,   2078.0,2,   2297.0,2,     7.86,2,-999.0000,-999.000, 18.9561,-999.000
      325024_1,  P14N,   134,  1,     30,     30,2,19930815,1851,  2.2468, 179.0085, 5620,    208.8,  12.3666,  34.5329,2,  34.5349,2,   -999.0,9,    119.5,2,    26.29,2,    21.09,2,     0.00,2,     1.56,2, -999.000,5, -999.000,5, -999.000,9,-999.0000,9,  -999.00,9,   2155.0,2,   2289.0,3,     7.69,2,-999.0000,-999.000, 12.3390,-999.000
      325024_1,  P14N,   134,  1,     29,     29,2,19930815,1851,  2.2468, 179.0085, 5620,    259.1,  11.5682,  34.7969,2,  34.7939,2,   -999.0,9,     97.5,2,    23.97,2,    25.02,2,     0.00,2,     1.81,2, -999.000,5, -999.000,5, -999.000,9,-999.0000,9,  -999.00,9,   2188.0,2,   2309.0,2,     7.63,2,-999.0000,-999.000, 11.5352,-999.000
      325024_1,  P14N,   134,  1,     28,     28,2,19930815,1851,  2.2468, 179.0085, 5620,    309.8,  10.9214,  34.7744,2,  34.7727,2,   -999.0,9,     68.3,2,    26.95,2,    28.86,2,     0.00,2,     2.06,2, -999.000,5, -999.000,5, -999.000,9,-999.0000,9,  -999.00,9,   2215.0,2,   2306.0,2,     7.58,2,-999.0000,-999.000, 10.8832,-999.000
      325024_1,  P14N,   134,  1,     27,     27,2,19930815,1851,  2.2468, 179.0085, 5620,    410.1,   9.1180,  34.6361,2,  34.6340,2,   -999.0,9,     95.9,2,    34.64,2,    29.54,2,     0.00,2,     2.12,2, -999.000,5, -999.000,5, -999.000,9,-999.0000,9,  -999.00,9,   2215.0,2,   2312.0,2,     7.57,2,-999.0000,-999.000,  9.0728,-999.000
      325024_1,  P14N,   134,  1,     26,     26,2,19930815,1851,  2.2468, 179.0085, 5620,    511.2,   7.6073,  34.5866,2,  34.5840,2,   -999.0,9,     76.0,2,    44.77,2,    34.74,2,     0.00,2,     2.48,2, -999.000,5, -999.000,5, -999.000,9,-999.0000,9,  -999.00,9,   2249.0,2,   2316.0,2,     7.51,2,-999.0000,-999.000,  7.5563,-999.000
      325024_1,  P14N,   134,  1,     25,     25,2,19930815,1851,  2.2468, 179.0085, 5620,    611.0,   6.3840,  34.5560,2,  34.5551,2,   -999.0,9,     75.0,2,    56.12,2,    37.44,2,     0.00,2,     2.68,2, -999.000,5, -999.000,5, -999.000,9,-999.0000,9,  -999.00,9,   2267.0,2,   2328.0,2,     7.47,2,-999.0000,-999.000,  6.3283,-999.000
      325024_1,  P14N,   134,  1,     24,     24,2,19930815,1851,  2.2468, 179.0085, 5620,    712.3,   5.8751,  34.5474,2,  34.5463,2,   -999.0,9,     77.8,2,    62.57,2,    37.84,2,     0.00,2,     2.72,2, -999.000,5, -999.000,5, -999.000,9,-999.0000,9,  -999.00,9,   2275.0,2,   2334.0,2,     7.49,2,-999.0000,-999.000,  5.8124,-999.000
      325024_1,  P14N,   134,  1,     23,     23,2,19930815,1851,  2.2468, 179.0085, 5620,    812.5,   5.5919,  34.5462,2,  34.5437,2,   -999.0,9,     81.2,2,    66.98,2,    37.83,2,     0.00,2,     2.69,2, -999.000,5, -999.000,5, -999.000,9,-999.0000,9,  -999.00,9,   2279.0,2,   2340.0,2,     7.47,2,-999.0000,-999.000,  5.5216,-999.000
      325024_1,  P14N,   134,  1,     22,     22,2,19930815,1851,  2.2468, 179.0085, 5620,    913.0,   5.2000,  34.5426,2,  34.5412,2,   -999.0,9,     90.8,2,    73.03,2,    37.33,2,     0.00,2,     2.69,2, -999.000,5, -999.000,5, -999.000,9,-999.0000,9,  -999.00,9,   2282.0,2,   2343.0,2,     7.49,2,-999.0000,-999.000,  5.1231,-999.000
      325024_1,  P14N,   134,  1,     21,     21,2,19930815,1851,  2.2468, 179.0085, 5620,   1013.7,   4.7097,  34.5481,2,  34.5478,2,   -999.0,9,     95.4,2,    83.19,2,    37.33,2,     0.00,2,     2.69,2, -999.000,5, -999.000,5, -999.000,9,-999.0000,9,  -999.00,9,   2290.0,2,   2359.0,2,     7.49,2,-999.0000,-999.000,  4.6274,-999.000
      325024_1,  P14N,   134,  1,     20,     20,2,19930815,1851,  2.2468, 179.0085, 5620,   1216.0,   3.9034,  34.5711,2,  34.5688,2,   -999.0,9,     90.6,2,   101.64,2,    38.58,2,     0.00,2,     2.78,2, -999.000,5, -999.000,5, -999.000,9,-999.0000,9,  -999.00,9,   2315.0,2,   2376.0,2,     7.49,2,-999.0000,-999.000,  3.8102,-999.000
      325024_1,  P14N,   134,  1,     19,     19,2,19930815,1851,  2.2468, 179.0085, 5620,   1418.0,   3.3878,  34.5886,2,  34.5874,2,   -999.0,9,     91.9,2,   113.15,2,    39.07,2,     0.00,2,     2.82,2, -999.000,5, -999.000,5, -999.000,9,-999.0000,9,  -999.00,9,   2327.0,2,   2395.0,2,     7.48,2,-999.0000,-999.000,  3.2825,-999.000
      325024_1,  P14N,   134,  1,     18,     18,2,19930815,1851,  2.2468, 179.0085, 5620,   1620.5,   2.8500,  34.6086,2,  34.6071,2,   -999.0,9,     99.2,2,   125.99,2,    38.65,2,     0.00,2,     2.77,2, -999.000,5, -999.000,5, -999.000,9,-999.0000,9,  -999.00,9,   2338.0,2,   2400.0,2,     7.49,2,-999.0000,-999.000,  2.7338,-999.000
      325024_1,  P14N,   134,  1,     17,     17,2,19930815,1851,  2.2468, 179.0085, 5620,   1824.0,   2.5306,  34.6230,2,  34.6218,2,   -999.0,9,    107.2,2,   131.76,2,    38.15,2,     0.00,2,     2.74,2, -999.000,5, -999.000,5, -999.000,9,-999.0000,9,  -999.00,9,   2337.0,2,   2412.0,2,     7.49,2,-999.0000,-999.000,  2.4013,-999.000
      325024_1,  P14N,   134,  1,     16,     16,2,19930815,1851,  2.2468, 179.0085, 5620,   2027.4,   2.2997,  34.6352,2,  34.6333,2,   -999.0,9,    108.9,2,   138.40,2,    38.14,2,     0.00,2,     2.73,2, -999.000,5, -999.000,5, -999.000,9,-999.0000,9,  -999.00,9,   2344.0,2,   2417.0,2,     7.51,2,-999.0000,-999.000,  2.1564,-999.000
      325024_1,  P14N,   134,  1,     15,     15,2,19930815,1851,  2.2468, 179.0085, 5620,   2230.7,   2.0351,  34.6495,2,  34.6476,2,   -999.0,9,    117.1,2,   142.95,2,    37.64,2,     0.00,2,     2.68,2, -999.000,5, -999.000,5, -999.000,9,-999.0000,9,  -999.00,9,   2345.0,2,   2421.0,2,     7.53,2,-999.0000,-999.000,  1.8783,-999.000
      325024_1,  P14N,   134,  1,     14,     14,2,19930815,1851,  2.2468, 179.0085, 5620,   2434.4,   1.8978,  34.6579,2,  34.6563,2,   -999.0,9,    121.0,2,   146.44,2,    37.50,2,     0.00,2,     2.66,2, -999.000,5, -999.000,5, -999.000,9,-999.0000,9,  -999.00,9,   2347.0,2,   2430.0,2,     7.52,2,-999.0000,-999.000,  1.7253,-999.000
      325024_1,  P14N,   134,  1,     13,     13,2,19930815,1851,  2.2468, 179.0085, 5620,   2637.7,   1.8292,  34.6621,2,  34.6618,2,   -999.0,9,    124.8,2,   147.59,2,    37.27,2,     0.00,2,     2.64,2, -999.000,5, -999.000,5, -999.000,9,-999.0000,9,  -999.00,9,   2346.0,2,   2432.0,2,     7.54,2,-999.0000,-999.000,  1.6396,-999.000
      325024_1,  P14N,   134,  1,     12,     12,2,19930815,1851,  2.2468, 179.0085, 5620,   2842.0,   1.7689,  34.6663,2,  34.6657,2,   -999.0,9,    127.4,2,   149.38,2,    37.17,2,     0.00,2,     2.62,2, -999.000,5, -999.000,5, -999.000,9,-999.0000,9,  -999.00,9,   2343.0,2,   2408.0,3,     7.56,3,-999.0000,-999.000,  1.5614,-999.000
      325024_1,  P14N,   134,  1,     11,     11,2,19930815,1851,  2.2468, 179.0085, 5620,   3045.9,   1.6719,  34.6706,2,  34.6696,2,   -999.0,9,    134.7,2,   148.39,2,    36.68,2,     0.00,2,     2.58,2, -999.000,5, -999.000,5, -999.000,9,-999.0000,9,  -999.00,9,   2240.0,4,   2338.0,3,     8.12,4,-999.0000,-999.000,  1.4469,-999.000
      325024_1,  P14N,   134,  1,     10,     10,2,19930815,1851,  2.2468, 179.0085, 5620,   3351.0,   1.5734,  34.6767,2,  34.6759,2,   -999.0,9,    144.2,2,   146.55,2,    36.01,2,     0.00,2,     2.53,2, -999.000,5, -999.000,5, -999.000,9,-999.0000,9,  -999.00,9,   2334.0,2,   2391.0,3,     7.56,3,-999.0000,-999.000,  1.3206,-999.000
      325024_1,  P14N,   134,  1,      9,      9,2,19930815,1851,  2.2468, 179.0085, 5620,   3657.8,   1.4651,  34.6847,2,  34.6833,2,   -999.0,9,    156.2,2,   143.44,2,    35.16,2,     0.00,2,     2.47,2, -999.000,5, -999.000,5, -999.000,9,-999.0000,9,  -999.00,9,   2324.0,2,   2434.0,3,     7.60,3,-999.0000,-999.000,  1.1836,-999.000
      325024_1,  P14N,   134,  1,      8,      8,2,19930815,1851,  2.2468, 179.0085, 5620,   3964.3,   1.4191,  34.6894,2,  34.6882,2,   -999.0,9,    163.5,2,   140.34,2,    34.63,2,     0.00,2,     2.43,2, -999.000,5, -999.000,5, -999.000,9,-999.0000,9,  -999.00,9,   2319.0,2,   2413.0,3,     7.60,3,-999.0000,-999.000,  1.1063,-999.000
      325024_1,  P14N,   134,  1,      7,      7,2,19930815,1851,  2.2468, 179.0085, 5620,   4271.5,   1.3129,  34.6970,2,  34.6961,2,   -999.0,9,    177.5,2,   133.88,2,    33.62,2,     0.00,2,     2.36,2, -999.000,5, -999.000,5, -999.000,9,-999.0000,9,  -999.00,9,   2299.0,2,   2432.0,3,     7.96,4,-999.0000,-999.000,  0.9695,-999.000
      325024_1,  P14N,   134,  1,      6,      6,2,19930815,1851,  2.2468, 179.0085, 5620,   4579.5,   1.2508,  34.7012,2,  34.7018,2,   -999.0,9,    186.5,2,   129.97,2,    33.00,2,     0.00,2,     2.31,2, -999.000,5, -999.000,5, -999.000,9,-999.0000,9,  -999.00,9,   2290.0,2,   2406.0,3,     7.63,3,-999.0000,-999.000,  0.8744,-999.000
      325024_1,  P14N,   134,  1,      5,      5,2,19930815,1851,  2.2468, 179.0085, 5620,   4888.1,   1.2572,  34.7035,2,  34.7029,2,   -999.0,9,    189.5,2,   128.80,2,    32.82,2,     0.00,2,     2.29,2, -999.000,5, -999.000,5, -999.000,9,-999.0000,9,  -999.00,9,   2285.0,2,   -999.0,9,  -999.00,9,-999.0000,-999.000,  0.8444,-999.000
      325024_1,  P14N,   134,  1,      4,      4,2,19930815,1851,  2.2468, 179.0085, 5620,   5196.2,   1.2863,  34.7038,2,  34.7033,2,   -999.0,9,    191.9,2,   128.05,2,    32.77,2,     0.00,2,     2.28,2, -999.000,5, -999.000,5, -999.000,9,-999.0000,9,  -999.00,9,   2283.0,2,   2403.0,3,     7.64,3,-999.0000,-999.000,  0.8353,-999.000
      325024_1,  P14N,   134,  1,      3,      3,2,19930815,1851,  2.2468, 179.0085, 5620,   5506.3,   1.3162,  34.7042,2,  34.7039,2,   -999.0,9,    193.1,2,   127.72,2,    32.76,2,     0.00,2,     2.28,2, -999.000,5, -999.000,5, -999.000,9,-999.0000,9,  -999.00,9,   2280.0,2,   -999.0,9,  -999.00,9,-999.0000,-999.000,  0.8255,-999.000
      325024_1,  P14N,   134,  1,      2,      2,2,19930815,1851,  2.2468, 179.0085, 5620,   5699.8,   1.3406,  34.7046,2,  34.7039,2,   -999.0,9,    193.5,2,   127.81,2,    32.76,2,     0.00,2,     2.27,2, -999.000,5, -999.000,5, -999.000,9,-999.0000,9,  -999.00,9,   2280.0,2,   2373.0,3,     7.58,3,-999.0000,-999.000,  0.8242,-999.000
      325024_1,  P14N,   134,  1,      1,      1,2,19930815,1851,  2.2468, 179.0085, 5620,   5699.8,   1.3406,  34.7046,2,  34.7047,2,   -999.0,9,    192.1,2,   128.10,2,    32.75,2,     0.00,2,     2.27,2, -999.000,5, -999.000,5, -999.000,9,-999.0000,9,  -999.00,9,   2279.0,2,   2383.0,3,     7.60,3,-999.0000,-999.000,  0.8242,-999.000