BOTTLE,20131125MIRCJHATS
EXPOCODE,SECT_ID,STNNBR,CASTNO,SAMPNO,BTLNBR,BTLNBR_FLAG_W,DATE,TIME,LATITUDE,LONGITUDE,DEPTH,CTDPRS,CTDTMP,CTDSAL,CTDSAL_FLAG_W,SALNTY,SALNTY_FLAG_W,CTDOXY,CTDOXY_FLAG_W,OXYGEN,OXYGEN_FLAG_W,SILCAT,SILCAT_FLAG_W,NITRAT,NITRAT_FLAG_W,NITRIT,NITRIT_FLAG_W,PHSPHT,PHSPHT_FLAG_W,CFC-11,CFC-11_FLAG_W,CFC-12,CFC-12_FLAG_W,TRITUM,TRITUM_FLAG_W,HELIUM,HELIUM_FLAG_W,DELHE3,DELHE3_FLAG_W,TCARBN,TCARBN_FLAG_W,ALKALI,ALKALI_FLAG_W,PH,PH_FLAG_W,HELIER,DELHER,THETA,TRITER
,,,,,,,,,,,,DBAR,ITS-90,PSS-78,,PSS-78,,UMOL/KG,,UMOL/KG,,UMOL/KG,,UMOL/KG,,UMOL/KG,,UMOL/KG,,PMOL/KG,,PMOL/KG,,TU,,NMOL/KG,,PERCNT,,UMOL/KG,,UMOL/KG,,25_DEG,,NMOL/KG,PERCNT,DEG C,TU
      325023_1,  P14N,    25,  1,     36,     36,2,19930712,0803, 50.0057, 179.0012, 5048,      2.9,   7.7234,  32.7301,2,  32.7310,2,   -999.0,9,    316.9,2,    26.82,2,    15.76,2,     0.19,2,     1.43,2,    4.760,2,    2.330,2, -999.000,9,-999.0000,9,  -999.00,9,   -999.0,9,   -999.0,9,  -999.00,9,-999.0000,-999.000,  7.7232,-999.000
      325023_1,  P14N,    25,  1,     35,     35,2,19930712,0803, 50.0057, 179.0012, 5048,     36.9,   6.5983,  32.7584,2,  32.7555,2,   -999.0,9,    318.3,2,    31.94,2,    17.52,2,     0.21,2,     1.59,2, -999.000,5, -999.000,5, -999.000,9,-999.0000,9,  -999.00,9,   -999.0,9,   -999.0,9,  -999.00,9,-999.0000,-999.000,  6.5951,-999.000
      325023_1,  P14N,    25,  1,     34,     34,2,19930712,0803, 50.0057, 179.0012, 5048,     67.3,   3.4624,  32.8612,2,  32.8599,2,   -999.0,9,    318.5,2,    43.20,2,    22.60,2,     0.64,2,     1.93,2,    5.665,2,    2.830,2, -999.000,9,-999.0000,9,  -999.00,9,   -999.0,9,   -999.0,9,  -999.00,9,-999.0000,-999.000,  3.4583,-999.000
      325023_1,  P14N,    25,  1,     33,     33,2,19930712,0803, 50.0057, 179.0012, 5048,     96.9,   3.1170,  32.9740,2,  32.9738,2,   -999.0,9,    293.0,2,    47.75,2,    26.03,2,     0.05,2,     2.08,2,    5.281,2,    2.612,2, -999.000,9,-999.0000,9,  -999.00,9,   -999.0,9,   -999.0,9,  -999.00,9,-999.0000,-999.000,  3.1113,-999.000
      325023_1,  P14N,    25,  1,     32,     32,2,19930712,0803, 50.0057, 179.0012, 5048,    127.5,   3.3852,  33.3220,2,  33.3200,2,   -999.0,9,    192.6,2,    64.01,2,    33.09,2,     0.02,2,     2.50,2,    3.810,2,    1.854,2, -999.000,9,-999.0000,9,  -999.00,9,   -999.0,9,   -999.0,9,  -999.00,9,-999.0000,-999.000,  3.3773,-999.000
      325023_1,  P14N,    25,  1,     31,     31,2,19930712,0803, 50.0057, 179.0012, 5048,    157.5,   3.6572,  33.7422,2,  33.7373,2,   -999.0,9,     71.4,2,    85.75,2,    41.64,2,     0.01,2,     3.02,2,    2.046,2,    0.959,2, -999.000,9,-999.0000,9,  -999.00,9,   -999.0,9,   -999.0,9,  -999.00,9,-999.0000,-999.000,  3.6469,-999.000
      325023_1,  P14N,    25,  1,     30,     30,2,19930712,0803, 50.0057, 179.0012, 5048,    207.8,   3.7236,  33.9265,2,  33.9273,2,   -999.0,9,     22.4,2,    99.10,2,    44.99,2,     0.01,2,     3.21,2,    1.169,2,    0.548,2, -999.000,9,-999.0000,9,  -999.00,9,   -999.0,9,   -999.0,9,  -999.00,9,-999.0000,-999.000,  3.7098,-999.000
      325023_1,  P14N,    25,  1,     29,     29,2,19930712,0803, 50.0057, 179.0012, 5048,    257.9,   3.7124,  34.0046,2,  34.0041,2,   -999.0,9,     15.4,2,   105.69,2,    45.08,2,     0.00,2,     3.22,2,    0.777,2,    0.349,2, -999.000,9,-999.0000,9,  -999.00,9,   -999.0,9,   -999.0,9,  -999.00,9,-999.0000,-999.000,  3.6951,-999.000
      325023_1,  P14N,    25,  1,     28,     28,2,19930712,0803, 50.0057, 179.0012, 5048,    308.3,   3.6637,  34.0719,2,  34.0694,2,   -999.0,9,     15.3,2,   111.91,2,    44.44,2,     0.00,2,     3.19,2,    0.520,2,    0.269,2, -999.000,9,-999.0000,9,  -999.00,9,   -999.0,9,   -999.0,9,  -999.00,9,-999.0000,-999.000,  3.6430,-999.000
      325023_1,  P14N,    25,  1,     27,     27,2,19930712,0803, 50.0057, 179.0012, 5048,    410.1,   3.4193,  34.2076,2,  34.2068,2,   -999.0,9,     14.8,2,   126.50,2,    43.93,2,     0.00,2,     3.16,2,    0.182,2,    0.089,2, -999.000,9,-999.0000,9,  -999.00,9,   -999.0,9,   -999.0,9,  -999.00,9,-999.0000,-999.000,  3.3923,-999.000
      325023_1,  P14N,    25,  1,     26,     26,2,19930712,0803, 50.0057, 179.0012, 5048,    511.2,   3.1542,  34.2943,2,  34.2928,2,   -999.0,9,     14.3,2,   137.26,2,    43.88,2,     0.00,2,     3.16,2,    0.090,2,    0.040,2, -999.000,9,-999.0000,9,  -999.00,9,   -999.0,9,   -999.0,9,  -999.00,9,-999.0000,-999.000,  3.1210,-999.000
      325023_1,  P14N,    25,  1,     25,     25,2,19930712,0803, 50.0057, 179.0012, 5048,    612.4,   2.9459,  34.3479,2,  34.3476,2,   -999.0,9,     17.2,2,   144.27,2,    43.88,2,     0.00,2,     3.16,2,    0.038,2,    0.030,2, -999.000,9,-999.0000,9,  -999.00,9,   -999.0,9,   -999.0,9,  -999.00,9,-999.0000,-999.000,  2.9066,-999.000
      325023_1,  P14N,    25,  1,     24,     24,2,19930712,0803, 50.0057, 179.0012, 5048,    713.4,   2.7645,  34.3914,2,  34.3897,2,   -999.0,9,     19.6,2,   150.53,2,    43.70,2,     0.00,2,     3.15,2,    0.020,2,    0.013,2, -999.000,9,-999.0000,9,  -999.00,9,   -999.0,9,   -999.0,9,  -999.00,9,-999.0000,-999.000,  2.7191,-999.000
      325023_1,  P14N,    25,  1,     23,     23,2,19930712,0803, 50.0057, 179.0012, 5048,    813.9,   2.6098,  34.4272,2,  34.4262,2,   -999.0,9,     23.5,2,   155.59,2,    43.61,2,     0.00,2,     3.14,2,    0.020,2,    0.016,2, -999.000,9,-999.0000,9,  -999.00,9,   -999.0,9,   -999.0,9,  -999.00,9,-999.0000,-999.000,  2.5583,-999.000
      325023_1,  P14N,    25,  1,     22,     22,2,19930712,0803, 50.0057, 179.0012, 5048,    914.2,   2.4628,  34.4595,2,  34.4587,2,   -999.0,9,     23.4,4,   159.86,2,    43.61,2,     0.00,2,     3.12,2, -999.000,5, -999.000,5, -999.000,9,-999.0000,9,  -999.00,9,   -999.0,9,   -999.0,9,  -999.00,9,-999.0000,-999.000,  2.4053,-999.000
      325023_1,  P14N,    25,  1,     21,     21,2,19930712,0803, 50.0057, 179.0012, 5048,   1011.9,   2.3437,  34.4851,2,  34.4840,2,   -999.0,9,     28.2,2,   163.11,2,    43.47,2,     0.00,2,     3.11,2,    0.005,2,    0.000,2, -999.000,9,-999.0000,9,  -999.00,9,   -999.0,9,   -999.0,9,  -999.00,9,-999.0000,-999.000,  2.2801,-999.000
      325023_1,  P14N,    25,  1,     20,     20,2,19930712,0803, 50.0057, 179.0012, 5048,   1214.1,   2.1530,  34.5276,2,  34.5273,2,   -999.0,9,     38.8,2,   167.63,2,    42.83,2,     0.00,2,     3.06,2,    0.000,2,    0.000,2, -999.000,9,-999.0000,9,  -999.00,9,   -999.0,9,   -999.0,9,  -999.00,9,-999.0000,-999.000,  2.0765,-999.000
      325023_1,  P14N,    25,  1,     19,     19,2,19930712,0803, 50.0057, 179.0012, 5048,   1421.1,   1.9913,  34.5631,2,  34.5686,4,   -999.0,9,     51.2,2,   170.29,2,    42.09,2,     0.00,2,     3.00,2,   -0.004,2,    0.000,2, -999.000,9,-999.0000,9,  -999.00,9,   -999.0,9,   -999.0,9,  -999.00,9,-999.0000,-999.000,  1.9012,-999.000
      325023_1,  P14N,    25,  1,     18,     18,2,19930712,0803, 50.0057, 179.0012, 5048,   1627.5,   1.8712,  34.5878,2,  34.5878,2,   -999.0,9,     63.8,2,   171.90,2,    41.36,2,     0.00,2,     2.95,2,   -0.007,2,   -0.002,2, -999.000,9,-999.0000,9,  -999.00,9,   -999.0,9,   -999.0,9,  -999.00,9,-999.0000,-999.000,  1.7667,-999.000
      325023_1,  P14N,    25,  1,     17,     17,2,19930712,0803, 50.0057, 179.0012, 5048,   1830.5,   1.7712,  34.6079,2,  34.6072,2,   -999.0,9,     75.9,2,   172.25,2,    40.59,2,     0.00,2,     2.90,2, -999.000,5, -999.000,5, -999.000,9,-999.0000,9,  -999.00,9,   -999.0,9,   -999.0,9,  -999.00,9,-999.0000,-999.000,  1.6520,-999.000
      325023_1,  P14N,    25,  1,     16,     16,2,19930712,0803, 50.0057, 179.0012, 5048,   2030.9,   1.6933,  34.6227,2,  34.6223,2,   -999.0,9,     86.8,2,   172.18,2,    39.86,2,     0.00,2,     2.85,2,   -0.004,2,   -0.003,2, -999.000,9,-999.0000,9,  -999.00,9,   -999.0,9,   -999.0,9,  -999.00,9,-999.0000,-999.000,  1.5591,-999.000
      325023_1,  P14N,    25,  1,     15,     15,2,19930712,0803, 50.0057, 179.0012, 5048,   2221.5,   1.6225,  34.6365,2,  34.6366,2,   -999.0,9,     97.6,2,   171.05,2,    39.18,2,     0.00,2,     2.80,2, -999.000,5, -999.000,5, -999.000,9,-999.0000,9,  -999.00,9,   -999.0,9,   -999.0,9,  -999.00,9,-999.0000,-999.000,  1.4734,-999.000
      325023_1,  P14N,    25,  1,     14,     14,2,19930712,0803, 50.0057, 179.0012, 5048,   2397.4,   1.5727,  34.6464,2,  34.6466,2,   -999.0,9,    106.5,2,   169.72,2,    38.63,2,     0.00,2,     2.76,2,   -0.001,2,    0.002,2, -999.000,9,-999.0000,9,  -999.00,9,   -999.0,9,   -999.0,9,  -999.00,9,-999.0000,-999.000,  1.4094,-999.000
      325023_1,  P14N,    25,  1,     13,     13,2,19930712,0803, 50.0057, 179.0012, 5048,   2646.2,   1.5313,  34.6548,2,  34.6552,2,   -999.0,9,    115.6,2,   168.39,2,    38.09,2,     0.00,2,     2.71,2, -999.000,5, -999.000,5, -999.000,9,-999.0000,9,  -999.00,9,   -999.0,9,   -999.0,9,  -999.00,9,-999.0000,-999.000,  1.3467,-999.000
      325023_1,  P14N,    25,  1,     12,     12,2,19930712,0803, 50.0057, 179.0012, 5048,   2851.2,   1.4814,  34.6640,2,  34.6646,2,   -999.0,9,    125.7,2,   165.18,2,    37.37,2,     0.00,2,     2.66,2,   -0.003,2,    0.000,2, -999.000,9,-999.0000,9,  -999.00,9,   -999.0,9,   -999.0,9,  -999.00,9,-999.0000,-999.000,  1.2791,-999.000
      325023_1,  P14N,    25,  1,     11,     11,2,19930712,0803, 50.0057, 179.0012, 5048,   3057.1,   1.4581,  34.6697,2,  34.6695,2,   -999.0,9,    132.0,2,   163.86,2,    36.96,2,     0.00,2,     2.63,2, -999.000,5, -999.000,5, -999.000,9,-999.0000,9,  -999.00,9,   -999.0,9,   -999.0,9,  -999.00,9,-999.0000,-999.000,  1.2368,-999.000
      325023_1,  P14N,    25,  1,     10,     10,2,19930712,0803, 50.0057, 179.0012, 5048,   3262.5,   1.4328,  34.6758,2,  34.6760,2,   -999.0,9,    139.3,2,   161.50,2,    36.51,2,     0.00,2,     2.60,2,   -0.010,2,   -0.002,4, -999.000,9,-999.0000,9,  -999.00,9,   -999.0,9,   -999.0,9,  -999.00,9,-999.0000,-999.000,  1.1922,-999.000
      325023_1,  P14N,    25,  1,      9,      9,2,19930712,0803, 50.0057, 179.0012, 5048,   3468.1,   1.4151,  34.6801,2,  34.6797,2,   -999.0,9,    145.1,2,   159.77,2,    36.19,2,     0.00,2,     2.56,2, -999.000,5, -999.000,5, -999.000,9,-999.0000,9,  -999.00,9,   -999.0,9,   -999.0,9,  -999.00,9,-999.0000,-999.000,  1.1543,-999.000
      325023_1,  P14N,    25,  1,      8,      8,2,19930712,0803, 50.0057, 179.0012, 5048,   3673.0,   1.4103,  34.6835,2,  34.6834,2,   -999.0,9,    151.0,2,   155.58,2,    35.88,2,     0.00,2,     2.54,2,   -0.004,2,    0.004,2, -999.000,9,-999.0000,9,  -999.00,9,   -999.0,9,   -999.0,9,  -999.00,9,-999.0000,-999.000,  1.1286,-999.000
      325023_1,  P14N,    25,  1,      7,      7,2,19930712,0803, 50.0057, 179.0012, 5048,   3878.2,   1.4082,  34.6859,2,  34.6865,2,   -999.0,9,    154.1,2,   153.86,2,    35.70,2,     0.00,2,     2.52,2, -999.000,5, -999.000,5, -999.000,9,-999.0000,9,  -999.00,9,   -999.0,9,   -999.0,9,  -999.00,9,-999.0000,-999.000,  1.1049,-999.000
      325023_1,  P14N,    25,  1,      6,      6,2,19930712,0803, 50.0057, 179.0012, 5048,   4084.9,   1.4166,  34.6873,2,  34.6881,2,   -999.0,9,    155.7,2,   154.21,2,    35.56,2,     0.00,2,     2.51,2,    0.002,2,    0.001,3, -999.000,9,-999.0000,9,  -999.00,9,   -999.0,9,   -999.0,9,  -999.00,9,-999.0000,-999.000,  1.0907,-999.000
      325023_1,  P14N,    25,  1,      5,      5,2,19930712,0803, 50.0057, 179.0012, 5048,   4291.0,   1.4345,  34.6879,2,  34.6887,2,   -999.0,9,    156.7,2,   153.73,2,    35.43,2,     0.00,2,     2.50,2, -999.000,5, -999.000,5, -999.000,9,-999.0000,9,  -999.00,9,   -999.0,9,   -999.0,9,  -999.00,9,-999.0000,-999.000,  1.0853,-999.000
      325023_1,  P14N,    25,  1,      4,      4,2,19930712,0803, 50.0057, 179.0012, 5048,   4497.0,   1.4541,  34.6882,2,  34.6882,2,   -999.0,9,    157.7,2,   152.43,2,    35.34,2,     0.00,2,     2.50,2, -999.000,5, -999.000,5, -999.000,9,-999.0000,9,  -999.00,9,   -999.0,9,   -999.0,9,  -999.00,9,-999.0000,-999.000,  1.0809,-999.000
      325023_1,  P14N,    25,  1,      3,      3,2,19930712,0803, 50.0057, 179.0012, 5048,   4703.5,   1.4727,  34.6883,2,  34.6892,2,   -999.0,9,    158.9,2,   151.96,2,    35.34,2,     0.00,2,     2.49,2,    0.001,6,    0.000,2, -999.000,9,-999.0000,9,  -999.00,9,   -999.0,9,   -999.0,9,  -999.00,9,-999.0000,-999.000,  1.0749,-999.000
      325023_1,  P14N,    25,  1,      2,      2,2,19930712,0803, 50.0057, 179.0012, 5048,   4909.4,   1.4892,  34.6895,2,  34.6898,2,   -999.0,9,    160.0,2,   150.05,2,    35.25,2,     0.00,2,     2.48,2, -999.000,5, -999.000,5, -999.000,9,-999.0000,9,  -999.00,9,   -999.0,9,   -999.0,9,  -999.00,9,-999.0000,-999.000,  1.0663,-999.000
      325023_1,  P14N,    25,  1,      1,      1,2,19930712,0803, 50.0057, 179.0012, 5048,   5094.7,   1.5102,  34.6898,2,  34.6905,2,   -999.0,9,    160.2,2,   149.98,2,    35.20,2,     0.00,2,     2.48,2,   -0.005,2,   -0.003,2, -999.000,9,-999.0000,9,  -999.00,9,   -999.0,9,   -999.0,9,  -999.00,9,-999.0000,-999.000,  1.0640,-999.000