BOTTLE,20131125MIRCJHATS
EXPOCODE,SECT_ID,STNNBR,CASTNO,SAMPNO,BTLNBR,BTLNBR_FLAG_W,DATE,TIME,LATITUDE,LONGITUDE,DEPTH,CTDPRS,CTDTMP,CTDSAL,CTDSAL_FLAG_W,SALNTY,SALNTY_FLAG_W,CTDOXY,CTDOXY_FLAG_W,OXYGEN,OXYGEN_FLAG_W,SILCAT,SILCAT_FLAG_W,NITRAT,NITRAT_FLAG_W,NITRIT,NITRIT_FLAG_W,PHSPHT,PHSPHT_FLAG_W,CFC-11,CFC-11_FLAG_W,CFC-12,CFC-12_FLAG_W,TRITUM,TRITUM_FLAG_W,HELIUM,HELIUM_FLAG_W,DELHE3,DELHE3_FLAG_W,TCARBN,TCARBN_FLAG_W,ALKALI,ALKALI_FLAG_W,PH,PH_FLAG_W,HELIER,DELHER,THETA,TRITER
,,,,,,,,,,,,DBAR,ITS-90,PSS-78,,PSS-78,,UMOL/KG,,UMOL/KG,,UMOL/KG,,UMOL/KG,,UMOL/KG,,UMOL/KG,,PMOL/KG,,PMOL/KG,,TU,,NMOL/KG,,PERCNT,,UMOL/KG,,UMOL/KG,,25_DEG,,NMOL/KG,PERCNT,DEG C,TU
      325023_1,  P14N,    99,  1,     36,     36,2,19930801,2209, 13.0017, 178.9955, 4209,      3.6,  27.9778,  34.6859,2,  34.6899,2,   -999.0,9,    199.2,2,     2.49,2,     0.00,2,     0.00,2,     0.16,2,    1.699,2,    0.916,2, -999.000,9,-999.0000,9,  -999.00,9,   -999.0,9,   -999.0,9,  -999.00,9,-999.0000,-999.000, 27.9769,-999.000
      325023_1,  P14N,    99,  1,     35,     35,2,19930801,2209, 13.0017, 178.9955, 4209,      3.6,  27.9715,  34.6867,2,  34.6902,2,   -999.0,9,    199.4,2,     2.59,2,     0.00,2,     0.00,2,     0.17,2, -999.000,5, -999.000,5, -999.000,9,-999.0000,9,  -999.00,9,   -999.0,9,   -999.0,9,  -999.00,9,-999.0000,-999.000, 27.9706,-999.000
      325023_1,  P14N,    99,  1,     34,     34,2,19930801,2209, 13.0017, 178.9955, 4209,     37.3,  27.9316,  34.6962,2,  34.6998,2,   -999.0,9,    200.4,2,     2.48,2,     0.00,2,     0.00,2,     0.17,2,    1.829,2,    1.001,2, -999.000,9,-999.0000,9,  -999.00,9,   -999.0,9,   -999.0,9,  -999.00,9,-999.0000,-999.000, 27.9228,-999.000
      325023_1,  P14N,    99,  1,     33,     33,2,19930801,2209, 13.0017, 178.9955, 4209,     67.4,  26.9114,  34.6403,2,  34.6415,2,   -999.0,9,    209.1,2,     1.73,2,     0.00,2,     0.00,2,     0.11,2,    1.734,2,    0.959,2, -999.000,9,-999.0000,9,  -999.00,9,   -999.0,9,   -999.0,9,  -999.00,9,-999.0000,-999.000, 26.8960,-999.000
      325023_1,  P14N,    99,  1,     32,     32,2,19930801,2209, 13.0017, 178.9955, 4209,     95.0,  25.9230,  34.6984,2,  34.6955,2,   -999.0,9,    213.3,2,     1.62,2,     0.00,2,     0.00,2,     0.10,2,    1.879,2,    0.990,2, -999.000,9,-999.0000,9,  -999.00,9,   -999.0,9,   -999.0,9,  -999.00,9,-999.0000,-999.000, 25.9019,-999.000
      325023_1,  P14N,    99,  1,     31,     31,2,19930801,2209, 13.0017, 178.9955, 4209,    122.3,  25.0368,  34.9045,2,  34.9038,2,   -999.0,9,    212.6,2,     1.29,2,     0.00,2,     0.00,2,     0.07,2,    1.947,2,    1.014,2, -999.000,9,-999.0000,9,  -999.00,9,   -999.0,9,   -999.0,9,  -999.00,9,-999.0000,-999.000, 25.0102,-999.000
      325023_1,  P14N,    99,  1,     30,     30,2,19930801,2209, 13.0017, 178.9955, 4209,    153.6,  23.2527,  34.9952,2,  34.9957,2,   -999.0,9,    205.7,2,     1.39,2,     0.00,2,     0.01,2,     0.10,2,    2.038,6,    1.073,6, -999.000,9,-999.0000,9,  -999.00,9,   -999.0,9,   -999.0,9,  -999.00,9,-999.0000,-999.000, 23.2211,-999.000
      325023_1,  P14N,    99,  1,     29,     29,2,19930801,2209, 13.0017, 178.9955, 4209,    205.9,  17.6891,  34.7061,2,  34.7055,2,   -999.0,9,    159.0,2,     6.15,2,     7.51,2,     0.02,2,     0.71,2,    2.083,2,    1.026,2, -999.000,9,-999.0000,9,  -999.00,9,   -999.0,9,   -999.0,9,  -999.00,9,-999.0000,-999.000, 17.6543,-999.000
      325023_1,  P14N,    99,  1,     28,     28,2,19930801,2209, 13.0017, 178.9955, 4209,    257.4,  11.8529,  34.3735,2,  34.3700,2,   -999.0,9,     98.8,2,    21.91,2,    22.09,2,     0.00,2,     1.73,2,    1.284,2,    0.610,2, -999.000,9,-999.0000,9,  -999.00,9,   -999.0,9,   -999.0,9,  -999.00,9,-999.0000,-999.000, 11.8197,-999.000
      325023_1,  P14N,    99,  1,     27,     27,2,19930801,2209, 13.0017, 178.9955, 4209,    306.8,  10.0384,  34.4363,2,  34.4313,2,   -999.0,9,     54.8,2,    34.07,2,    29.31,2,     0.00,2,     2.27,2,    0.471,2,    0.215,2, -999.000,9,-999.0000,9,  -999.00,9,   -999.0,9,   -999.0,9,  -999.00,9,-999.0000,-999.000, 10.0027,-999.000
      325023_1,  P14N,    99,  1,     26,     26,2,19930801,2209, 13.0017, 178.9955, 4209,    401.0,   8.4007,  34.4487,2,  34.4476,2,   -999.0,9,     31.9,2,    47.50,2,    34.36,2,     0.00,2,     2.60,2,    0.107,2,    0.034,2, -999.000,9,-999.0000,9,  -999.00,9,   -999.0,9,   -999.0,9,  -999.00,9,-999.0000,-999.000,  8.3587,-999.000
      325023_1,  P14N,    99,  1,     25,     25,2,19930801,2209, 13.0017, 178.9955, 4209,    489.9,   7.6060,  34.4809,2,  34.4798,2,   -999.0,9,     26.1,2,    55.43,2,    36.90,2,     0.00,2,     2.75,2,    0.023,2,    0.003,2, -999.000,9,-999.0000,9,  -999.00,9,   -999.0,9,   -999.0,9,  -999.00,9,-999.0000,-999.000,  7.5573,-999.000
      325023_1,  P14N,    99,  1,     24,     24,2,19930801,2209, 13.0017, 178.9955, 4209,    589.0,   6.6830,  34.4866,2,  34.4860,2,   -999.0,9,     32.4,2,    65.71,2,    38.74,2,     0.00,2,     2.83,2, -999.000,5, -999.000,5, -999.000,9,-999.0000,9,  -999.00,9,   -999.0,9,   -999.0,9,  -999.00,9,-999.0000,-999.000,  6.6282,-999.000
      325023_1,  P14N,    99,  1,     23,     23,2,19930801,2209, 13.0017, 178.9955, 4209,    690.1,   6.0998,  34.5102,2,  34.5094,2,   -999.0,9,     44.6,2,    71.53,2,    39.20,2,     0.00,2,     2.82,2, -999.000,5, -999.000,5, -999.000,9,-999.0000,9,  -999.00,9,   -999.0,9,   -999.0,9,  -999.00,9,-999.0000,-999.000,  6.0381,-999.000
      325023_1,  P14N,    99,  1,     22,     22,2,19930801,2209, 13.0017, 178.9955, 4209,    796.6,   5.5043,  34.5110,2,  34.5106,2,   -999.0,9,     43.0,2,    81.62,2,    40.55,2,     0.00,2,     2.92,2, -999.000,5, -999.000,5, -999.000,9,-999.0000,9,  -999.00,9,   -999.0,9,   -999.0,9,  -999.00,9,-999.0000,-999.000,  5.4360,-999.000
      325023_1,  P14N,    99,  1,     21,     21,2,19930801,2209, 13.0017, 178.9955, 4209,    902.7,   4.9567,  34.5213,2,  34.5219,2,   -999.0,9,     42.2,2,    91.09,2,    41.54,2,     0.00,2,     2.99,2, -999.000,5, -999.000,5, -999.000,9,-999.0000,9,  -999.00,9,   -999.0,9,   -999.0,9,  -999.00,9,-999.0000,-999.000,  4.8824,-999.000
      325023_1,  P14N,    99,  1,     20,     20,2,19930801,2209, 13.0017, 178.9955, 4209,   1004.7,   4.4386,  34.5346,2,  34.5353,2,   -999.0,9,     46.6,2,   101.02,2,    41.82,2,     0.00,2,     3.00,2, -999.000,5, -999.000,5, -999.000,9,-999.0000,9,  -999.00,9,   -999.0,9,   -999.0,9,  -999.00,9,-999.0000,-999.000,  4.3591,-999.000
      325023_1,  P14N,    99,  1,     19,     19,2,19930801,2209, 13.0017, 178.9955, 4209,   1206.6,   3.8539,  34.5600,2,  34.5592,2,   -999.0,9,     61.3,2,   112.07,2,    41.15,2,     0.00,2,     2.94,2, -999.000,5, -999.000,5, -999.000,9,-999.0000,9,  -999.00,9,   -999.0,9,   -999.0,9,  -999.00,9,-999.0000,-999.000,  3.7619,-999.000
      325023_1,  P14N,    99,  1,     18,     18,2,19930801,2209, 13.0017, 178.9955, 4209,   1409.9,   3.3184,  34.5792,2,  34.5784,2,   -999.0,9,     74.5,2,   122.96,2,    40.44,2,     0.00,2,     2.87,2, -999.000,5, -999.000,5, -999.000,9,-999.0000,9,  -999.00,9,   -999.0,9,   -999.0,9,  -999.00,9,-999.0000,-999.000,  3.2146,-999.000
      325023_1,  P14N,    99,  1,     17,     17,2,19930801,2209, 13.0017, 178.9955, 4209,   1614.4,   2.8258,  34.5978,2,  34.5973,2,   -999.0,9,     83.5,2,   133.92,2,    40.06,2,     0.00,2,     2.83,2, -999.000,5, -999.000,5, -999.000,9,-999.0000,9,  -999.00,9,   -999.0,9,   -999.0,9,  -999.00,9,-999.0000,-999.000,  2.7105,-999.000
      325023_1,  P14N,    99,  1,     16,     16,2,19930801,2209, 13.0017, 178.9955, 4209,   1817.2,   2.4438,  34.6162,2,  34.6159,2,   -999.0,9,     94.8,2,   141.45,2,    39.36,2,     0.00,2,     2.77,2, -999.000,5, -999.000,5, -999.000,9,-999.0000,9,  -999.00,9,   -999.0,9,   -999.0,9,  -999.00,9,-999.0000,-999.000,  2.3163,-999.000
      325023_1,  P14N,    99,  1,     15,     15,2,19930801,2209, 13.0017, 178.9955, 4209,   2020.7,   2.1607,  34.6327,2,  34.6330,2,   -999.0,9,    103.2,2,   147.04,2,    38.89,2,     0.00,2,     2.72,2, -999.000,5, -999.000,5, -999.000,9,-999.0000,9,  -999.00,9,   -999.0,9,   -999.0,9,  -999.00,9,-999.0000,-999.000,  2.0201,-999.000
      325023_1,  P14N,    99,  1,     14,     14,2,19930801,2209, 13.0017, 178.9955, 4209,   2225.2,   2.0277,  34.6419,2,  34.6426,2,   -999.0,9,    107.9,2,   149.76,2,    38.52,2,     0.00,2,     2.70,2, -999.000,5, -999.000,5, -999.000,9,-999.0000,9,  -999.00,9,   -999.0,9,   -999.0,9,  -999.00,9,-999.0000,-999.000,  1.8715,-999.000
      325023_1,  P14N,    99,  1,     13,     13,2,19930801,2209, 13.0017, 178.9955, 4209,   2429.8,   1.8925,  34.6511,2,  34.6516,2,   -999.0,9,    114.4,2,   151.83,2,    38.19,2,     0.00,2,     2.67,2, -999.000,5, -999.000,5, -999.000,9,-999.0000,9,  -999.00,9,   -999.0,9,   -999.0,9,  -999.00,9,-999.0000,-999.000,  1.7205,-999.000
      325023_1,  P14N,    99,  1,     12,     12,2,19930801,2209, 13.0017, 178.9955, 4209,   2635.0,   1.7931,  34.6578,2,  34.6589,2,   -999.0,9,    119.3,2,   153.68,2,    37.87,2,     0.00,2,     2.63,2, -999.000,5, -999.000,5, -999.000,9,-999.0000,9,  -999.00,9,   -999.0,9,   -999.0,9,  -999.00,9,-999.0000,-999.000,  1.6044,-999.000
      325023_1,  P14N,    99,  1,     11,     11,2,19930801,2209, 13.0017, 178.9955, 4209,   2839.4,   1.6849,  34.6639,2,  34.6650,2,   -999.0,9,    125.6,2,   154.65,2,    37.40,2,     0.00,2,     2.60,2, -999.000,5, -999.000,5, -999.000,9,-999.0000,9,  -999.00,9,   -999.0,9,   -999.0,9,  -999.00,9,-999.0000,-999.000,  1.4793,-999.000
      325023_1,  P14N,    99,  1,     10,     10,2,19930801,2209, 13.0017, 178.9955, 4209,   3045.6,   1.6352,  34.6680,2,  34.6687,2,   -999.0,9,    129.7,2,   155.39,2,    37.12,2,     0.00,2,     2.58,2, -999.000,5, -999.000,5, -999.000,9,-999.0000,9,  -999.00,9,   -999.0,9,   -999.0,9,  -999.00,9,-999.0000,-999.000,  1.4111,-999.000
      325023_1,  P14N,    99,  1,      9,      9,2,19930801,2209, 13.0017, 178.9955, 4209,   3251.1,   1.5691,  34.6732,2,  34.6736,2,   -999.0,9,    135.6,2,   155.69,2,    36.75,2,     0.00,2,     2.55,2, -999.000,5, -999.000,5, -999.000,9,-999.0000,9,  -999.00,9,   -999.0,9,   -999.0,9,  -999.00,9,-999.0000,-999.000,  1.3264,-999.000
      325023_1,  P14N,    99,  1,      8,      8,2,19930801,2209, 13.0017, 178.9955, 4209,   3457.0,   1.5295,  34.6767,2,  34.6775,2,   -999.0,9,    140.1,2,   154.43,2,    36.43,2,     0.00,2,     2.53,2, -999.000,5, -999.000,5, -999.000,9,-999.0000,9,  -999.00,9,   -999.0,9,   -999.0,9,  -999.00,9,-999.0000,-999.000,  1.2670,-999.000
      325023_1,  P14N,    99,  1,      7,      7,2,19930801,2209, 13.0017, 178.9955, 4209,   3661.8,   1.4978,  34.6802,2,  34.6813,2,   -999.0,9,    144.8,2,   152.96,2,    36.06,2,     0.00,2,     2.50,2, -999.000,5, -999.000,5, -999.000,9,-999.0000,9,  -999.00,9,   -999.0,9,   -999.0,9,  -999.00,9,-999.0000,-999.000,  1.2150,-999.000
      325023_1,  P14N,    99,  1,      6,      6,2,19930801,2209, 13.0017, 178.9955, 4209,   3661.8,   1.4954,  34.6803,2,  34.6809,2,   -999.0,9,    145.5,2,   152.81,2,    36.01,2,     0.00,2,     2.49,2, -999.000,5, -999.000,5, -999.000,9,-999.0000,9,  -999.00,9,   -999.0,9,   -999.0,9,  -999.00,9,-999.0000,-999.000,  1.2127,-999.000
      325023_1,  P14N,    99,  1,      5,      5,2,19930801,2209, 13.0017, 178.9955, 4209,   3867.2,   1.4596,  34.6834,2,  34.6840,2,   -999.0,9,    150.8,2,   151.12,2,    35.65,2,     0.00,2,     2.47,2, -999.000,5, -999.000,5, -999.000,9,-999.0000,9,  -999.00,9,   -999.0,9,   -999.0,9,  -999.00,9,-999.0000,-999.000,  1.1562,-999.000
      325023_1,  P14N,    99,  1,      4,      4,2,19930801,2209, 13.0017, 178.9955, 4209,   4071.9,   1.4416,  34.6861,2,  34.6866,2,   -999.0,9,    155.6,2,   148.76,2,    35.37,2,     0.00,2,     2.44,2, -999.000,5, -999.000,5, -999.000,9,-999.0000,9,  -999.00,9,   -999.0,9,   -999.0,9,  -999.00,9,-999.0000,-999.000,  1.1165,-999.000
      325023_1,  P14N,    99,  1,      3,      3,2,19930801,2209, 13.0017, 178.9955, 4209,   4277.2,   1.3840,  34.6911,2,  34.6921,2,   -999.0,9,    166.0,2,   142.67,2,    34.55,2,     0.00,2,     2.39,2, -999.000,5, -999.000,5, -999.000,9,-999.0000,9,  -999.00,9,   -999.0,9,   -999.0,9,  -999.00,9,-999.0000,-999.000,  1.0378,-999.000
      325023_1,  P14N,    99,  1,      2,      2,2,19930801,2209, 13.0017, 178.9955, 4209,   4380.9,   1.3612,  34.6934,2,  34.6948,2,   -999.0,9,    170.7,2,   140.56,2,    34.19,2,     0.00,2,     2.38,2, -999.000,5, -999.000,5, -999.000,9,-999.0000,9,  -999.00,9,   -999.0,9,   -999.0,9,  -999.00,9,-999.0000,-999.000,  1.0040,-999.000
      325023_1,  P14N,    99,  1,      1,      1,2,19930801,2209, 13.0017, 178.9955, 4209,   4380.9,   1.3614,  34.6933,2,  34.6937,2,   -999.0,9,    169.4,2,   140.20,2,    34.32,2,     0.00,2,     2.36,2, -999.000,5, -999.000,5, -999.000,9,-999.0000,9,  -999.00,9,   -999.0,9,   -999.0,9,  -999.00,9,-999.0000,-999.000,  1.0042,-999.000