BOTTLE,20131125MIRCJHATS
EXPOCODE,SECT_ID,STNNBR,CASTNO,SAMPNO,BTLNBR,BTLNBR_FLAG_W,DATE,TIME,LATITUDE,LONGITUDE,DEPTH,CTDPRS,CTDTMP,CTDSAL,CTDSAL_FLAG_W,SALNTY,SALNTY_FLAG_W,CTDOXY,CTDOXY_FLAG_W,OXYGEN,OXYGEN_FLAG_W,SILCAT,SILCAT_FLAG_W,NITRAT,NITRAT_FLAG_W,NITRIT,NITRIT_FLAG_W,PHSPHT,PHSPHT_FLAG_W,CFC-11,CFC-11_FLAG_W,CFC-12,CFC-12_FLAG_W,TRITUM,TRITUM_FLAG_W,HELIUM,HELIUM_FLAG_W,DELHE3,DELHE3_FLAG_W,TCARBN,TCARBN_FLAG_W,ALKALI,ALKALI_FLAG_W,PH,PH_FLAG_W,HELIER,DELHER,THETA,TRITER
,,,,,,,,,,,,DBAR,ITS-90,PSS-78,,PSS-78,,UMOL/KG,,UMOL/KG,,UMOL/KG,,UMOL/KG,,UMOL/KG,,UMOL/KG,,PMOL/KG,,PMOL/KG,,TU,,NMOL/KG,,PERCNT,,UMOL/KG,,UMOL/KG,,25_DEG,,NMOL/KG,PERCNT,DEG C,TU
      325023_1,  P14N,    77,  1,     36,     36,2,19930727,0941, 24.0007, 178.9967, 5743,      2.6,  27.9151,  35.4462,2,  35.4490,2,   -999.0,9,    201.1,2,     2.63,2,     0.04,3,     0.00,2,     0.02,2,    1.734,2,    0.945,2, -999.000,9,-999.0000,9,  -999.00,9,   -999.0,9,   -999.0,9,  -999.00,9,-999.0000,-999.000, 27.9145,-999.000
      325023_1,  P14N,    77,  1,     35,     35,2,19930727,0941, 24.0007, 178.9967, 5743,     39.8,  25.7904,  35.4004,2,  35.3904,2,   -999.0,9,    221.0,2,     2.53,2,     0.04,3,     0.00,2,     0.01,2,    1.937,2,    1.021,2, -999.000,9,-999.0000,9,  -999.00,9,   -999.0,9,   -999.0,9,  -999.00,9,-999.0000,-999.000, 25.7816,-999.000
      325023_1,  P14N,    77,  1,     34,     34,2,19930727,0941, 24.0007, 178.9967, 5743,     69.9,  23.2458,  35.3490,2,  35.3475,2,   -999.0,9,    229.5,2,     2.42,2,     0.04,3,     0.00,2,     0.01,2,    2.127,2,    1.111,2, -999.000,9,-999.0000,9,  -999.00,9,   -999.0,9,   -999.0,9,  -999.00,9,-999.0000,-999.000, 23.2314,-999.000
      325023_1,  P14N,    77,  1,     33,     33,2,19930727,0941, 24.0007, 178.9967, 5743,     99.9,  22.3479,  35.3597,2,  35.3591,2,   -999.0,9,    224.8,2,     2.09,2,     0.03,3,     0.00,2,     0.02,2,    2.138,2,    1.122,2, -999.000,9,-999.0000,9,  -999.00,9,   -999.0,9,   -999.0,9,  -999.00,9,-999.0000,-999.000, 22.3279,-999.000
      325023_1,  P14N,    77,  1,     32,     32,2,19930727,0941, 24.0007, 178.9967, 5743,    129.8,  21.9412,  35.3562,2,  35.3577,2,   -999.0,9,    218.9,2,     1.98,2,     0.03,3,     0.00,2,     0.03,2,    2.140,2,    1.112,2, -999.000,9,-999.0000,9,  -999.00,9,   -999.0,9,   -999.0,9,  -999.00,9,-999.0000,-999.000, 21.9155,-999.000
      325023_1,  P14N,    77,  1,     31,     31,2,19930727,0941, 24.0007, 178.9967, 5743,    160.2,  21.3392,  35.3143,2,  35.3201,2,   -999.0,9,    212.0,2,     1.87,2,     0.03,3,     0.04,2,     0.05,2,    2.181,2,    1.139,2, -999.000,9,-999.0000,9,  -999.00,9,   -999.0,9,   -999.0,9,  -999.00,9,-999.0000,-999.000, 21.3081,-999.000
      325023_1,  P14N,    77,  1,     30,     30,2,19930727,0941, 24.0007, 178.9967, 5743,    209.3,  19.8019,  35.1704,2,  35.1747,2,   -999.0,9,    209.3,2,     2.42,2,     0.77,3,     0.02,2,     0.11,2,    2.318,2,    1.199,2, -999.000,9,-999.0000,9,  -999.00,9,   -999.0,9,   -999.0,9,  -999.00,9,-999.0000,-999.000, 19.7634,-999.000
      325023_1,  P14N,    77,  1,     29,     29,2,19930727,0941, 24.0007, 178.9967, 5743,    259.1,  17.1896,  34.8345,2,  34.8693,2,   -999.0,9,    205.9,2,     3.39,2,     3.47,3,     0.01,2,     0.30,2,    2.444,2,    1.255,2, -999.000,9,-999.0000,9,  -999.00,9,   -999.0,9,   -999.0,9,  -999.00,9,-999.0000,-999.000, 17.1465,-999.000
      325023_1,  P14N,    77,  1,     28,     28,2,19930727,0941, 24.0007, 178.9967, 5743,    311.3,  15.4075,  34.6485,2,  34.6477,2,   -999.0,9,    209.1,2,     6.53,2,     6.25,3,     0.00,2,     0.48,2,    2.588,2,    1.301,2, -999.000,9,-999.0000,9,  -999.00,9,   -999.0,9,   -999.0,9,  -999.00,9,-999.0000,-999.000, 15.3595,-999.000
      325023_1,  P14N,    77,  1,     27,     27,2,19930727,0941, 24.0007, 178.9967, 5743,    410.7,  12.1876,  34.3517,2,  34.3499,2,   -999.0,9,    200.4,2,    13.34,2,    12.07,3,     0.00,2,     0.89,2,    2.481,2,    1.212,2, -999.000,9,-999.0000,9,  -999.00,9,   -999.0,9,   -999.0,9,  -999.00,9,-999.0000,-999.000, 12.1333,-999.000
      325023_1,  P14N,    77,  1,     26,     26,2,19930727,0941, 24.0007, 178.9967, 5743,    511.9,   9.3608,  34.1538,2,  34.1543,2,   -999.0,9,    174.0,2,    27.06,2,    19.78,3,     0.00,2,     1.44,2,    1.824,6,    0.859,6, -999.000,9,-999.0000,9,  -999.00,9,   -999.0,9,   -999.0,9,  -999.00,9,-999.0000,-999.000,  9.3035,-999.000
      325023_1,  P14N,    77,  1,     25,     25,2,19930727,0941, 24.0007, 178.9967, 5743,    612.9,   7.5395,  34.0936,2,  34.0916,2,   -999.0,9,    132.2,2,    45.29,2,    27.21,3,     0.00,2,     1.96,2,    1.059,2,    0.487,2, -999.000,9,-999.0000,9,  -999.00,9,   -999.0,9,   -999.0,9,  -999.00,9,-999.0000,-999.000,  7.4788,-999.000
      325023_1,  P14N,    77,  1,     24,     24,2,19930727,0941, 24.0007, 178.9967, 5743,    713.6,   5.7297,  34.1463,2,  34.1427,2,   -999.0,9,     69.3,2,    73.48,2,    36.08,3,     0.00,2,     2.59,2,    0.286,2,    0.135,2, -999.000,9,-999.0000,9,  -999.00,9,   -999.0,9,   -999.0,9,  -999.00,9,-999.0000,-999.000,  5.6682,-999.000
      325023_1,  P14N,    77,  1,     23,     23,2,19930727,0941, 24.0007, 178.9967, 5743,    815.2,   4.8380,  34.2314,2,  34.2302,2,   -999.0,9,     45.8,2,    92.84,2,    39.84,3,     0.00,2,     2.84,2,    0.093,2,    0.040,2, -999.000,9,-999.0000,9,  -999.00,9,   -999.0,9,   -999.0,9,  -999.00,9,-999.0000,-999.000,  4.7725,-999.000
      325023_1,  P14N,    77,  1,     22,     22,2,19930727,0941, 24.0007, 178.9967, 5743,    914.6,   4.2911,  34.2913,2,  34.2901,2,   -999.0,9,     39.0,2,   105.94,2,    41.23,3,     0.00,2,     2.93,2,    0.043,2,    0.020,2, -999.000,9,-999.0000,9,  -999.00,9,   -999.0,9,   -999.0,9,  -999.00,9,-999.0000,-999.000,  4.2208,-999.000
      325023_1,  P14N,    77,  1,     21,     21,2,19930727,0941, 24.0007, 178.9967, 5743,   1016.5,   3.8907,  34.3598,2,  34.3593,2,   -999.0,9,     36.9,2,   116.23,2,    42.05,3,     0.00,2,     2.98,2,    0.014,2,    0.005,2, -999.000,9,-999.0000,9,  -999.00,9,   -999.0,9,   -999.0,9,  -999.00,9,-999.0000,-999.000,  3.8148,-999.000
      325023_1,  P14N,    77,  1,     20,     20,2,19930727,0941, 24.0007, 178.9967, 5743,   1218.6,   3.4128,  34.4814,2,  34.4802,2,   -999.0,9,     52.5,2,   125.46,2,    41.43,3,     0.00,2,     2.92,2,    0.000,2,    0.005,2, -999.000,9,-999.0000,9,  -999.00,9,   -999.0,9,   -999.0,9,  -999.00,9,-999.0000,-999.000,  3.3241,-999.000
      325023_1,  P14N,    77,  1,     19,     19,2,19930727,0941, 24.0007, 178.9967, 5743,   1421.6,   2.9799,  34.5381,2,  34.5372,2,   -999.0,9,     67.2,2,   132.28,2,    40.67,3,     0.00,2,     2.87,2,   -0.001,2,   -0.001,2, -999.000,9,-999.0000,9,  -999.00,9,   -999.0,9,   -999.0,9,  -999.00,9,-999.0000,-999.000,  2.8789,-999.000
      325023_1,  P14N,    77,  1,     18,     18,2,19930727,0941, 24.0007, 178.9967, 5743,   1624.4,   2.5929,  34.5744,2,  34.5739,2,   -999.0,9,     78.7,2,   138.91,2,    40.25,3,     0.00,2,     2.82,2, -999.000,5, -999.000,5, -999.000,9,-999.0000,9,  -999.00,9,   -999.0,9,   -999.0,9,  -999.00,9,-999.0000,-999.000,  2.4796,-999.000
      325023_1,  P14N,    77,  1,     17,     17,3,19930727,0941, 24.0007, 178.9967, 5743,   1827.2,   2.2485,  34.5970,2,  34.6274,4,   -999.0,9,   -999.0,5,   108.55,4,    31.78,4,     0.00,4,     2.25,4, -999.000,5, -999.000,5, -999.000,9,-999.0000,9,  -999.00,9,   -999.0,9,   -999.0,9,  -999.00,9,-999.0000,-999.000,  2.1230,-999.000
      325023_1,  P14N,    77,  1,     16,     16,2,19930727,0941, 24.0007, 178.9967, 5743,   2031.4,   2.0150,  34.6160,2,  34.6163,2,   -999.0,9,     94.1,2,   151.78,2,    39.50,3,     0.00,2,     2.75,2,    0.003,2,    0.007,2, -999.000,9,-999.0000,9,  -999.00,9,   -999.0,9,   -999.0,9,  -999.00,9,-999.0000,-999.000,  1.8758,-999.000
      325023_1,  P14N,    77,  1,     15,     15,2,19930727,0941, 24.0007, 178.9967, 5743,   2235.0,   1.8717,  34.6294,2,  34.6294,2,   -999.0,9,    101.8,2,   153.98,2,    38.98,3,     0.00,2,     2.71,2, -999.000,5, -999.000,5, -999.000,9,-999.0000,9,  -999.00,9,   -999.0,9,   -999.0,9,  -999.00,9,-999.0000,-999.000,  1.7173,-999.000
      325023_1,  P14N,    77,  1,     14,     14,2,19930727,0941, 24.0007, 178.9967, 5743,   2439.2,   1.7561,  34.6418,2,  34.6418,2,   -999.0,9,    110.4,2,   154.62,2,    38.52,3,     0.00,2,     2.67,2, -999.000,5, -999.000,5, -999.000,9,-999.0000,9,  -999.00,9,   -999.0,9,   -999.0,9,  -999.00,9,-999.0000,-999.000,  1.5858,-999.000
      325023_1,  P14N,    77,  1,     13,     13,2,19930727,0941, 24.0007, 178.9967, 5743,   2643.3,   1.6832,  34.6499,2,  34.6504,2,   -999.0,9,    117.0,2,   154.57,2,    38.01,3,     0.00,2,     2.63,2, -999.000,5, -999.000,5, -999.000,9,-999.0000,9,  -999.00,9,   -999.0,9,   -999.0,9,  -999.00,9,-999.0000,-999.000,  1.4959,-999.000
      325023_1,  P14N,    77,  1,     12,     12,2,19930727,0941, 24.0007, 178.9967, 5743,   2847.4,   1.6180,  34.6572,2,  34.6572,2,   -999.0,9,    122.8,2,   154.31,2,    37.64,3,     0.00,2,     2.60,2,    0.000,2,   -0.001,2, -999.000,9,-999.0000,9,  -999.00,9,   -999.0,9,   -999.0,9,  -999.00,9,-999.0000,-999.000,  1.4132,-999.000
      325023_1,  P14N,    77,  1,     11,     11,2,19930727,0941, 24.0007, 178.9967, 5743,   3051.4,   1.5478,  34.6652,2,  34.6647,2,   -999.0,9,    130.3,2,   153.60,2,    37.17,3,     0.00,2,     2.57,2, -999.000,5, -999.000,5, -999.000,9,-999.0000,9,  -999.00,9,   -999.0,9,   -999.0,9,  -999.00,9,-999.0000,-999.000,  1.3250,-999.000
      325023_1,  P14N,    77,  1,     10,     10,2,19930727,0941, 24.0007, 178.9967, 5743,   3353.5,   1.5015,  34.6723,2,  34.6721,2,   -999.0,9,    138.3,2,   151.32,3,    36.67,3,     0.00,2,     2.53,2,   -0.002,2,   -0.002,2, -999.000,9,-999.0000,9,  -999.00,9,   -999.0,9,   -999.0,9,  -999.00,9,-999.0000,-999.000,  1.2502,-999.000
      325023_1,  P14N,    77,  1,      9,      9,2,19930727,0941, 24.0007, 178.9967, 5743,   3658.5,   1.4729,  34.6781,2,  34.6776,2,   -999.0,9,    145.2,2,   151.95,3,    36.25,3,     0.00,2,     2.50,2, -999.000,5, -999.000,5, -999.000,9,-999.0000,9,  -999.00,9,   -999.0,9,   -999.0,9,  -999.00,9,-999.0000,-999.000,  1.1911,-999.000
      325023_1,  P14N,    77,  1,      8,      8,2,19930727,0941, 24.0007, 178.9967, 5743,   3960.0,   1.4510,  34.6831,2,  34.6827,2,   -999.0,9,    151.4,2,   148.80,2,    35.75,3,     0.00,2,     2.46,2, -999.000,5, -999.000,5, -999.000,9,-999.0000,9,  -999.00,9,   -999.0,9,   -999.0,9,  -999.00,9,-999.0000,-999.000,  1.1378,-999.000
      325023_1,  P14N,    77,  1,      7,      7,2,19930727,0941, 24.0007, 178.9967, 5743,   4268.4,   1.4441,  34.6866,2,  34.6870,2,   -999.0,9,    157.7,2,   148.32,2,    35.38,3,     0.00,2,     2.43,2, -999.000,5, -999.000,5, -999.000,9,-999.0000,9,  -999.00,9,   -999.0,9,   -999.0,9,  -999.00,9,-999.0000,-999.000,  1.0972,-999.000
      325023_1,  P14N,    77,  1,      6,      6,2,19930727,0941, 24.0007, 178.9967, 5743,   4576.5,   1.4365,  34.6899,2,  34.6904,2,   -999.0,9,    163.6,2,   145.62,2,    34.97,3,     0.00,2,     2.40,2,    0.000,2,   -0.001,2, -999.000,9,-999.0000,9,  -999.00,9,   -999.0,9,   -999.0,9,  -999.00,9,-999.0000,-999.000,  1.0547,-999.000
      325023_1,  P14N,    77,  1,      5,      5,2,19930727,0941, 24.0007, 178.9967, 5743,   4884.9,   1.4395,  34.6925,2,  34.6923,2,   -999.0,9,    169.0,2,   142.06,2,    34.56,3,     0.00,2,     2.37,2, -999.000,5, -999.000,5, -999.000,9,-999.0000,9,  -999.00,9,   -999.0,9,   -999.0,9,  -999.00,9,-999.0000,-999.000,  1.0212,-999.000
      325023_1,  P14N,    77,  1,      4,      4,2,19930727,0941, 24.0007, 178.9967, 5743,   5192.8,   1.4539,  34.6947,2,  34.6947,2,   -999.0,9,    172.8,2,   138.51,2,    34.19,3,     0.00,2,     2.35,2, -999.000,5, -999.000,5, -999.000,9,-999.0000,9,  -999.00,9,   -999.0,9,   -999.0,9,  -999.00,9,-999.0000,-999.000,  0.9976,-999.000
      325023_1,  P14N,    77,  1,      3,      3,2,19930727,0941, 24.0007, 178.9967, 5743,   5514.5,   1.4783,  34.6960,2,  34.6964,2,   -999.0,9,    175.5,2,   136.73,2,    33.97,3,     0.00,2,     2.33,2, -999.000,5, -999.000,5, -999.000,9,-999.0000,9,  -999.00,9,   -999.0,9,   -999.0,9,  -999.00,9,-999.0000,-999.000,  0.9806,-999.000
      325023_1,  P14N,    77,  1,      2,      2,2,19930727,0941, 24.0007, 178.9967, 5743,   5842.6,   1.5083,  34.6970,2,  34.6982,2,   -999.0,9,    177.7,2,   134.74,2,    33.88,3,     0.00,2,     2.33,2,    0.001,2,    0.009,2, -999.000,9,-999.0000,9,  -999.00,9,   -999.0,9,   -999.0,9,  -999.00,9,-999.0000,-999.000,  0.9669,-999.000
      325023_1,  P14N,    77,  1,      1,      1,2,19930727,0941, 24.0007, 178.9967, 5743,   5842.6,   1.5083,  34.6971,2,  34.6980,2,   -999.0,9,    177.6,2,   134.49,2,    33.93,3,     0.00,2,     2.32,2, -999.000,5, -999.000,5, -999.000,9,-999.0000,9,  -999.00,9,   -999.0,9,   -999.0,9,  -999.00,9,-999.0000,-999.000,  0.9669,-999.000