BOTTLE,20131125MIRCJHATS
EXPOCODE,SECT_ID,STNNBR,CASTNO,SAMPNO,BTLNBR,BTLNBR_FLAG_W,DATE,TIME,LATITUDE,LONGITUDE,DEPTH,CTDPRS,CTDTMP,CTDSAL,CTDSAL_FLAG_W,SALNTY,SALNTY_FLAG_W,CTDOXY,CTDOXY_FLAG_W,OXYGEN,OXYGEN_FLAG_W,SILCAT,SILCAT_FLAG_W,NITRAT,NITRAT_FLAG_W,NITRIT,NITRIT_FLAG_W,PHSPHT,PHSPHT_FLAG_W,CFC-11,CFC-11_FLAG_W,CFC-12,CFC-12_FLAG_W,TRITUM,TRITUM_FLAG_W,HELIUM,HELIUM_FLAG_W,DELHE3,DELHE3_FLAG_W,TCARBN,TCARBN_FLAG_W,ALKALI,ALKALI_FLAG_W,PH,PH_FLAG_W,HELIER,DELHER,THETA,TRITER
,,,,,,,,,,,,DBAR,ITS-90,PSS-78,,PSS-78,,UMOL/KG,,UMOL/KG,,UMOL/KG,,UMOL/KG,,UMOL/KG,,UMOL/KG,,PMOL/KG,,PMOL/KG,,TU,,NMOL/KG,,PERCNT,,UMOL/KG,,UMOL/KG,,25_DEG,,NMOL/KG,PERCNT,DEG C,TU
      325024_1,  P14N,   803,  1,     35,     35,2,19930818,1748,  0.0025, 179.2507, 5370,      2.5,  30.0717,  34.3541,2,  34.3601,2,   -999.0,9,    193.9,2,     2.83,2,     0.03,2,     0.00,2,     0.18,2, -999.000,5, -999.000,5, -999.000,9,-999.0000,9,  -999.00,9,   1899.0,2,   2260.0,2,     8.13,2,-999.0000,-999.000, 30.0710,-999.000
      325024_1,  P14N,   803,  1,     36,     36,2,19930818,1748,  0.0025, 179.2507, 5370,      2.6,  30.0684,  34.3542,2,  34.3600,2,   -999.0,9,    194.0,2,     2.89,2,     0.00,2,     0.00,2,     0.18,2, -999.000,5, -999.000,5, -999.000,9,-999.0000,9,  -999.00,9,   1897.0,2,   2261.0,2,     8.13,2,-999.0000,-999.000, 30.0677,-999.000
      325024_1,  P14N,   803,  1,     34,     34,2,19930818,1748,  0.0025, 179.2507, 5370,     38.8,  30.1288,  34.4464,2,  34.4538,2,   -999.0,9,    195.1,2,     2.58,2,     0.00,2,     0.00,2,     0.19,2, -999.000,5, -999.000,5, -999.000,9,-999.0000,9,  -999.00,9,   1905.0,2,   2266.0,2,     8.12,2,-999.0000,-999.000, 30.1192,-999.000
      325024_1,  P14N,   803,  1,     33,     33,2,19930818,1748,  0.0025, 179.2507, 5370,     67.7,  30.2328,  34.6414,2,  34.6689,2,   -999.0,9,    197.8,2,     2.33,2,     0.00,2,     0.00,2,     0.20,2, -999.000,5, -999.000,5, -999.000,9,-999.0000,9,  -999.00,9,   1919.0,2,   2282.0,2,     8.13,2,-999.0000,-999.000, 30.2160,-999.000
      325024_1,  P14N,   803,  1,     32,     32,2,19930818,1748,  0.0025, 179.2507, 5370,     98.9,  29.4044,  35.1345,2,  35.2119,2,   -999.0,9,    178.8,2,     2.66,2,     2.65,2,     0.26,2,     0.44,2, -999.000,5, -999.000,5, -999.000,9,-999.0000,9,  -999.00,9,   1996.0,2,   2316.0,2,     8.04,2,-999.0000,-999.000, 29.3803,-999.000
      325024_1,  P14N,   803,  1,     31,     31,2,19930818,1748,  0.0025, 179.2507, 5370,    129.4,  22.2487,  35.2472,2,  35.2387,2,   -999.0,9,    138.2,2,     5.74,2,     8.60,2,     0.06,2,     0.74,2, -999.000,5, -999.000,5, -999.000,9,-999.0000,9,  -999.00,9,   2060.0,2,   2313.0,2,     7.93,2,-999.0000,-999.000, 22.2229,-999.000
      325024_1,  P14N,   803,  1,     30,     30,2,19930818,1748,  0.0025, 179.2507, 5370,    159.5,  20.8345,  35.1872,2,  35.1008,2,   -999.0,9,    138.2,2,     7.84,2,     9.97,2,     0.02,2,     0.83,2, -999.000,5, -999.000,5, -999.000,9,-999.0000,9,  -999.00,9,   2072.0,2,   2304.0,2,     7.88,2,-999.0000,-999.000, 20.8042,-999.000
      325024_1,  P14N,   803,  1,     29,     29,2,19930818,1748,  0.0025, 179.2507, 5370,    210.0,  15.0735,  34.9128,2,  34.8908,2,   -999.0,9,    136.1,2,    16.61,2,    15.86,2,     0.01,2,     1.23,2, -999.000,5, -999.000,5, -999.000,9,-999.0000,9,  -999.00,9,   2123.0,2,   2307.0,2,     7.77,2,-999.0000,-999.000, 15.0416,-999.000
      325024_1,  P14N,   803,  1,     28,     28,2,19930818,1748,  0.0025, 179.2507, 5370,    259.6,  13.3627,  34.8793,2,  34.8743,2,   -999.0,9,    131.7,2,    17.92,2,    18.65,2,     0.00,2,     1.41,2, -999.000,5, -999.000,5, -999.000,9,-999.0000,9,  -999.00,9,   2145.0,2,   2309.0,2,     7.73,2,-999.0000,-999.000, 13.3263,-999.000
      325024_1,  P14N,   803,  1,     27,     27,2,19930818,1748,  0.0025, 179.2507, 5370,    309.8,  11.5394,  34.8106,2,  34.8110,2,   -999.0,9,     93.5,2,    23.15,2,    25.29,2,     0.00,2,     1.86,2, -999.000,5, -999.000,5, -999.000,9,-999.0000,9,  -999.00,9,   2190.0,2,   2310.0,2,     7.62,2,-999.0000,-999.000, 11.4998,-999.000
      325024_1,  P14N,   803,  1,     26,     26,2,19930818,1748,  0.0025, 179.2507, 5370,    411.7,   9.2821,  34.6736,2,  34.6715,2,   -999.0,9,     84.8,2,    31.72,2,    30.53,2,     0.00,2,     2.19,2, -999.000,5, -999.000,5, -999.000,9,-999.0000,9,  -999.00,9,   2221.0,2,   2308.0,2,     7.55,2,-999.0000,-999.000,  9.2362,-999.000
      325024_1,  P14N,   803,  1,     25,     25,2,19930818,1748,  0.0025, 179.2507, 5370,    505.9,   8.0596,  34.6067,2,  34.6064,2,   -999.0,9,    106.0,2,    35.19,2,    30.84,2,     0.00,2,     2.22,2, -999.000,5, -999.000,5, -999.000,9,-999.0000,9,  -999.00,9,   2218.0,2,   2314.0,2,     7.55,2,-999.0000,-999.000,  8.0074,-999.000
      325024_1,  P14N,   803,  1,     24,     24,2,19930818,1748,  0.0025, 179.2507, 5370,    598.7,   6.9361,  34.5670,2,  34.5668,2,   -999.0,9,     84.0,2,    47.89,2,    35.38,2,     0.00,2,     2.55,2, -999.000,5, -999.000,5, -999.000,9,-999.0000,9,  -999.00,9,   2251.0,2,   2319.0,2,     7.50,2,-999.0000,-999.000,  6.8791,-999.000
      325024_1,  P14N,   803,  1,     23,     23,2,19930818,1748,  0.0025, 179.2507, 5370,    699.1,   5.9383,  34.5524,2,  34.5524,2,   -999.0,9,     71.2,2,    62.76,2,    38.49,2,     0.00,2,     2.78,2, -999.000,5, -999.000,5, -999.000,9,-999.0000,9,  -999.00,9,   2279.0,2,   2334.0,2,     7.44,2,-999.0000,-999.000,  5.8765,-999.000
      325024_1,  P14N,   803,  1,     22,     22,2,19930818,1748,  0.0025, 179.2507, 5370,    802.7,   5.4031,  34.5454,2,  34.5452,2,   -999.0,9,     80.4,2,    69.99,2,    38.28,2,     0.00,2,     2.77,2, -999.000,5, -999.000,5, -999.000,9,-999.0000,9,  -999.00,9,   2285.0,2,   2339.0,2,     7.46,2,-999.0000,-999.000,  5.3349,-999.000
      325024_1,  P14N,   803,  1,     21,     21,2,19930818,1748,  0.0025, 179.2507, 5370,    906.1,   5.0411,  34.5446,2,  34.5450,2,   -999.0,9,     87.6,2,    75.84,2,    37.85,2,     0.00,2,     2.76,2, -999.000,5, -999.000,5, -999.000,9,-999.0000,9,  -999.00,9,   2285.0,2,   2352.0,2,     7.46,2,-999.0000,-999.000,  4.9659,-999.000
      325024_1,  P14N,   803,  1,     20,     20,2,19930818,1748,  0.0025, 179.2507, 5370,   1008.6,   4.6964,  34.5516,2,  34.5507,2,   -999.0,9,     83.9,2,    83.68,2,    38.84,2,     0.00,2,     2.81,2, -999.000,5, -999.000,5, -999.000,9,-999.0000,9,  -999.00,9,   2301.0,2,   2355.0,2,     7.47,2,-999.0000,-999.000,  4.6146,-999.000
      325024_1,  P14N,   803,  1,     19,     19,2,19930818,1748,  0.0025, 179.2507, 5370,   1210.4,   3.8808,  34.5701,2,  34.5693,2,   -999.0,9,     93.5,2,   100.51,2,    38.45,2,     0.00,2,     2.79,2, -999.000,5, -999.000,5, -999.000,9,-999.0000,9,  -999.00,9,   2309.0,2,   2375.0,2,     7.49,2,-999.0000,-999.000,  3.7882,-999.000
      325024_1,  P14N,   803,  1,     18,     18,2,19930818,1748,  0.0025, 179.2507, 5370,   1410.3,   3.3841,  34.5888,2,  34.5879,2,   -999.0,9,     90.7,2,   113.67,2,    39.36,2,     0.00,2,     2.85,2, -999.000,5, -999.000,5, -999.000,9,-999.0000,9,  -999.00,9,   2328.0,2,   2391.0,2,     7.47,2,-999.0000,-999.000,  3.2795,-999.000
      325024_1,  P14N,   803,  1,     17,     17,2,19930818,1748,  0.0025, 179.2507, 5370,   1610.8,   2.8290,  34.6096,2,  34.6089,2,   -999.0,9,    102.4,2,   124.72,2,    38.57,2,     0.00,2,     2.78,2, -999.000,5, -999.000,5, -999.000,9,-999.0000,9,  -999.00,9,   2333.0,2,   2401.0,2,     7.50,2,-999.0000,-999.000,  2.7139,-999.000
      325024_1,  P14N,   803,  1,     16,     16,2,19930818,1748,  0.0025, 179.2507, 5370,   1814.1,   2.5091,  34.6263,2,  34.6258,2,   -999.0,9,    104.5,2,   134.23,2,    38.71,2,     0.00,2,     2.77,2, -999.000,5, -999.000,5, -999.000,9,-999.0000,9,  -999.00,9,   2342.0,2,   2415.0,2,     7.48,2,-999.0000,-999.000,  2.3809,-999.000
      325024_1,  P14N,   803,  1,     15,     15,2,19930818,1748,  0.0025, 179.2507, 5370,   2014.4,   2.2113,  34.6412,2,  34.6391,2,   -999.0,9,    112.6,2,   140.31,2,    38.18,2,     0.00,2,     2.72,2, -999.000,5, -999.000,5, -999.000,9,-999.0000,9,  -999.00,9,   2343.0,2,   2417.0,2,     7.51,2,-999.0000,-999.000,  2.0704,-999.000
      325024_1,  P14N,   803,  1,     14,     14,2,19930818,1748,  0.0025, 179.2507, 5370,   2214.4,   2.0425,  34.6504,2,  34.6493,2,   -999.0,9,    117.0,2,   144.16,2,    37.97,2,     0.00,2,     2.69,2, -999.000,5, -999.000,5, -999.000,9,-999.0000,9,  -999.00,9,   2347.0,2,   2423.0,2,     7.53,2,-999.0000,-999.000,  1.8870,-999.000
      325024_1,  P14N,   803,  1,     13,     13,3,19930818,1748,  0.0025, 179.2507, 5370,   2414.1,   1.9182,  34.6557,2,  34.6635,4,   -999.0,9,    122.6,4,   130.51,4,    36.74,4,     0.00,4,     2.59,4, -999.000,5, -999.000,5, -999.000,9,-999.0000,9,  -999.00,9,   2335.0,4,   2420.0,4,     7.51,4,-999.0000,-999.000,  1.7471,-999.000
      325024_1,  P14N,   803,  1,     12,     12,2,19930818,1748,  0.0025, 179.2507, 5370,   2609.2,   1.8082,  34.6634,2,  34.6637,2,   -999.0,9,    127.0,2,   148.35,2,    37.37,2,     0.00,2,     2.63,2, -999.000,5, -999.000,5, -999.000,9,-999.0000,9,  -999.00,9,   2344.0,2,   2431.0,2,     7.53,2,-999.0000,-999.000,  1.6215,-999.000
      325024_1,  P14N,   803,  1,     11,     11,2,19930818,1748,  0.0025, 179.2507, 5370,   2802.4,   1.7502,  34.6656,2,  34.6658,2,   -999.0,9,    130.5,2,   148.47,2,    37.12,2,     0.00,2,     2.61,2, -999.000,5, -999.000,5, -999.000,9,-999.0000,9,  -999.00,9,   2343.0,2,   2424.0,2,     7.53,2,-999.0000,-999.000,  1.5468,-999.000
      325024_1,  P14N,   803,  1,     10,     10,2,19930818,1748,  0.0025, 179.2507, 5370,   3007.4,   1.6780,  34.6698,2,  34.6695,2,   -999.0,9,    135.9,2,   147.35,2,    36.68,2,     0.00,2,     2.58,2, -999.000,5, -999.000,5, -999.000,9,-999.0000,9,  -999.00,9,   2337.0,2,   2424.0,2,     7.53,2,-999.0000,-999.000,  1.4566,-999.000
      325024_1,  P14N,   803,  1,      9,      9,2,19930818,1748,  0.0025, 179.2507, 5370,   3323.5,   1.5520,  34.6776,2,  34.6770,2,   -999.0,9,    146.3,2,   146.02,2,    35.99,2,     0.00,2,     2.52,2, -999.000,5, -999.000,5, -999.000,9,-999.0000,9,  -999.00,9,   2333.0,2,   2423.0,2,     7.56,2,-999.0000,-999.000,  1.3024,-999.000
      325024_1,  P14N,   803,  1,      8,      8,2,19930818,1748,  0.0025, 179.2507, 5370,   3632.4,   1.5040,  34.6829,2,  34.6819,2,   -999.0,9,    153.4,2,   143.87,2,    35.47,2,     0.00,2,     2.49,2, -999.000,5, -999.000,5, -999.000,9,-999.0000,9,  -999.00,9,   2327.0,2,   2424.0,2,     7.55,2,-999.0000,-999.000,  1.2241,-999.000
      325024_1,  P14N,   803,  1,      7,      7,2,19930818,1748,  0.0025, 179.2507, 5370,   3930.6,   1.4030,  34.6908,2,  34.6903,2,   -999.0,9,    165.3,2,   141.31,2,    34.82,2,     0.00,2,     2.42,2, -999.000,5, -999.000,5, -999.000,9,-999.0000,9,  -999.00,9,   2316.0,2,   2415.0,2,     7.58,2,-999.0000,-999.000,  1.0942,-999.000
      325024_1,  P14N,   803,  1,      6,      6,2,19930818,1748,  0.0025, 179.2507, 5370,   4247.0,   1.3298,  34.6963,2,  34.6974,2,   -999.0,9,    176.0,2,   135.89,2,    33.91,2,     0.00,2,     2.37,2, -999.000,5, -999.000,5, -999.000,9,-999.0000,9,  -999.00,9,   2304.0,2,   2415.0,2,     7.58,2,-999.0000,-999.000,  0.9886,-999.000
      325024_1,  P14N,   803,  1,      5,      5,2,19930818,1748,  0.0025, 179.2507, 5370,   4570.2,   1.2621,  34.7012,2,  34.7015,2,   -999.0,9,    186.9,2,   131.10,2,    33.27,2,     0.00,2,     2.31,2, -999.000,5, -999.000,5, -999.000,9,-999.0000,9,  -999.00,9,   2290.0,2,   2396.0,2,     7.60,2,-999.0000,-999.000,  0.8864,-999.000
      325024_1,  P14N,   803,  1,      4,      4,2,19930818,1748,  0.0025, 179.2507, 5370,   4884.8,   1.2416,  34.7039,2,  34.7041,2,   -999.0,9,    192.5,2,   128.58,2,    32.89,2,     0.00,2,     2.29,2, -999.000,5, -999.000,5, -999.000,9,-999.0000,9,  -999.00,9,   2284.0,2,   2393.0,2,     7.59,2,-999.0000,-999.000,  0.8298,-999.000
      325024_1,  P14N,   803,  1,      3,      3,2,19930818,1748,  0.0025, 179.2507, 5370,   5189.3,   1.2694,  34.7042,2,  34.7045,2,   -999.0,9,    193.5,2,   127.89,2,    32.81,2,     0.00,2,     2.28,2, -999.000,5, -999.000,5, -999.000,9,-999.0000,9,  -999.00,9,   2283.0,2,   2386.0,2,     7.60,2,-999.0000,-999.000,  0.8198,-999.000
      325024_1,  P14N,   803,  1,      2,      2,2,19930818,1748,  0.0025, 179.2507, 5370,   5446.8,   1.2972,  34.7050,2,  34.7051,2,   -999.0,9,    194.5,2,   127.20,2,    32.56,2,     0.00,2,     2.26,2, -999.000,5, -999.000,5, -999.000,9,-999.0000,9,  -999.00,9,   -999.0,9,   -999.0,9,  -999.00,9,-999.0000,-999.000,  0.8147,-999.000
      325024_1,  P14N,   803,  1,      1,      1,2,19930818,1748,  0.0025, 179.2507, 5370,   5446.8,   1.2972,  34.7050,2,  34.7049,2,   -999.0,9,    193.6,2,   126.72,2,    32.53,2,     0.00,2,     2.27,2, -999.000,5, -999.000,5, -999.000,9,-999.0000,9,  -999.00,9,   -999.0,9,   -999.0,9,  -999.00,9,-999.0000,-999.000,  0.8147,-999.000