BOTTLE,20131125MIRCJHATS
EXPOCODE,SECT_ID,STNNBR,CASTNO,SAMPNO,BTLNBR,BTLNBR_FLAG_W,DATE,TIME,LATITUDE,LONGITUDE,DEPTH,CTDPRS,CTDTMP,CTDSAL,CTDSAL_FLAG_W,SALNTY,SALNTY_FLAG_W,CTDOXY,CTDOXY_FLAG_W,OXYGEN,OXYGEN_FLAG_W,SILCAT,SILCAT_FLAG_W,NITRAT,NITRAT_FLAG_W,NITRIT,NITRIT_FLAG_W,PHSPHT,PHSPHT_FLAG_W,CFC-11,CFC-11_FLAG_W,CFC-12,CFC-12_FLAG_W,TRITUM,TRITUM_FLAG_W,HELIUM,HELIUM_FLAG_W,DELHE3,DELHE3_FLAG_W,TCARBN,TCARBN_FLAG_W,ALKALI,ALKALI_FLAG_W,PH,PH_FLAG_W,HELIER,DELHER,THETA,TRITER
,,,,,,,,,,,,DBAR,ITS-90,PSS-78,,PSS-78,,UMOL/KG,,UMOL/KG,,UMOL/KG,,UMOL/KG,,UMOL/KG,,UMOL/KG,,PMOL/KG,,PMOL/KG,,TU,,NMOL/KG,,PERCNT,,UMOL/KG,,UMOL/KG,,25_DEG,,NMOL/KG,PERCNT,DEG C,TU
      325024_1,  P14N,   801,  1,     36,     36,2,19930818,0759,  0.0000, 179.7522, 5311,      2.1,  30.4613,  34.4203,2,  34.4248,2,   -999.0,9,    195.0,2,     2.86,2,     0.00,2,     0.00,2,     0.15,2, -999.000,5, -999.000,5, -999.000,9,-999.0000,9,  -999.00,9,   -999.0,9,   -999.0,9,  -999.00,9,-999.0000,-999.000, 30.4607,-999.000
      325024_1,  P14N,   801,  1,     35,     35,2,19930818,0759,  0.0000, 179.7522, 5311,     30.5,  30.2111,  34.4794,2,  34.5004,2,   -999.0,9,    196.2,2,     2.63,2,     0.00,2,     0.00,2,     0.16,2, -999.000,5, -999.000,5, -999.000,9,-999.0000,9,  -999.00,9,   -999.0,9,   -999.0,9,  -999.00,9,-999.0000,-999.000, 30.2035,-999.000
      325024_1,  P14N,   801,  1,     34,     34,2,19930818,0759,  0.0000, 179.7522, 5311,     60.9,  30.1039,  34.6641,2,  34.7230,2,   -999.0,9,    196.8,2,     2.59,2,     0.04,2,     0.00,2,     0.16,2, -999.000,5, -999.000,5, -999.000,9,-999.0000,9,  -999.00,9,   -999.0,9,   -999.0,9,  -999.00,9,-999.0000,-999.000, 30.0887,-999.000
      325024_1,  P14N,   801,  1,     33,     33,2,19930818,0759,  0.0000, 179.7522, 5311,     91.8,  29.1704,  35.2273,2,  35.2401,2,   -999.0,9,    192.7,2,     2.36,2,     0.92,2,     0.17,2,     0.31,2, -999.000,5, -999.000,5, -999.000,9,-999.0000,9,  -999.00,9,   -999.0,9,   -999.0,9,  -999.00,9,-999.0000,-999.000, 29.1481,-999.000
      325024_1,  P14N,   801,  1,     32,     32,2,19930818,0759,  0.0000, 179.7522, 5311,    121.1,  22.2980,  35.2482,2,  35.2397,2,   -999.0,9,    138.4,2,     5.47,2,     8.61,2,     0.07,2,     0.69,2, -999.000,5, -999.000,5, -999.000,9,-999.0000,9,  -999.00,9,   -999.0,9,   -999.0,9,  -999.00,9,-999.0000,-999.000, 22.2738,-999.000
      325024_1,  P14N,   801,  1,     31,     31,2,19930818,0759,  0.0000, 179.7522, 5311,    151.8,  19.6696,  34.9693,2,  34.9755,2,   -999.0,9,    139.4,2,     9.36,2,    10.25,2,     0.02,2,     0.79,2, -999.000,5, -999.000,5, -999.000,9,-999.0000,9,  -999.00,9,   -999.0,9,   -999.0,9,  -999.00,9,-999.0000,-999.000, 19.6419,-999.000
      325024_1,  P14N,   801,  1,     30,     30,2,19930818,0759,  0.0000, 179.7522, 5311,    202.8,  14.6010,  34.7613,2,  34.7700,2,   -999.0,9,    135.7,2,    18.96,2,    16.32,2,     0.01,2,     1.20,2, -999.000,5, -999.000,5, -999.000,9,-999.0000,9,  -999.00,9,   -999.0,9,   -999.0,9,  -999.00,9,-999.0000,-999.000, 14.5709,-999.000
      325024_1,  P14N,   801,  1,     29,     29,2,19930818,0759,  0.0000, 179.7522, 5311,    254.2,  13.5240,  34.8812,2,  34.8749,2,   -999.0,9,    132.8,2,    17.94,2,    18.31,2,     0.00,2,     1.35,2, -999.000,5, -999.000,5, -999.000,9,-999.0000,9,  -999.00,9,   -999.0,9,   -999.0,9,  -999.00,9,-999.0000,-999.000, 13.4881,-999.000
      325024_1,  P14N,   801,  1,     28,     28,2,19930818,0759,  0.0000, 179.7522, 5311,    303.2,  11.5579,  34.7853,2,  34.7890,2,   -999.0,9,    104.0,2,    23.79,2,    24.14,2,     0.00,2,     1.73,2, -999.000,5, -999.000,5, -999.000,9,-999.0000,9,  -999.00,9,   -999.0,9,   -999.0,9,  -999.00,9,-999.0000,-999.000, 11.5192,-999.000
      325024_1,  P14N,   801,  1,     27,     27,2,19930818,0759,  0.0000, 179.7522, 5311,    407.6,   9.2363,  34.6732,2,  34.6693,2,   -999.0,9,     84.0,2,    32.79,2,    30.76,2,     0.00,2,     2.15,2, -999.000,5, -999.000,5, -999.000,9,-999.0000,9,  -999.00,9,   -999.0,9,   -999.0,9,  -999.00,9,-999.0000,-999.000,  9.1909,-999.000
      325024_1,  P14N,   801,  1,     26,     26,2,19930818,0759,  0.0000, 179.7522, 5311,    506.1,   8.0509,  34.6077,2,  34.6065,2,   -999.0,9,    102.5,2,    35.50,2,    31.17,2,     0.00,2,     2.19,2, -999.000,5, -999.000,5, -999.000,9,-999.0000,9,  -999.00,9,   -999.0,9,   -999.0,9,  -999.00,9,-999.0000,-999.000,  7.9987,-999.000
      325024_1,  P14N,   801,  1,     25,     25,2,19930818,0759,  0.0000, 179.7522, 5311,    604.8,   6.9825,  34.5680,2,  34.5678,2,   -999.0,9,     85.0,2,    46.86,2,    34.93,2,     0.00,2,     2.49,2, -999.000,5, -999.000,5, -999.000,9,-999.0000,9,  -999.00,9,   -999.0,9,   -999.0,9,  -999.00,9,-999.0000,-999.000,  6.9246,-999.000
      325024_1,  P14N,   801,  1,     24,     24,2,19930818,0759,  0.0000, 179.7522, 5311,    705.0,   6.1186,  34.5548,2,  34.5544,2,   -999.0,9,     68.5,2,    60.00,2,    38.37,2,     0.00,2,     2.73,2, -999.000,5, -999.000,5, -999.000,9,-999.0000,9,  -999.00,9,   -999.0,9,   -999.0,9,  -999.00,9,-999.0000,-999.000,  6.0553,-999.000
      325024_1,  P14N,   801,  1,     23,     23,2,19930818,0759,  0.0000, 179.7522, 5311,    806.1,   5.3541,  34.5450,2,  34.5438,2,   -999.0,9,     81.2,2,    70.40,2,    37.99,2,     0.00,2,     2.71,2, -999.000,5, -999.000,5, -999.000,9,-999.0000,9,  -999.00,9,   -999.0,9,   -999.0,9,  -999.00,9,-999.0000,-999.000,  5.2858,-999.000
      325024_1,  P14N,   801,  1,     22,     22,2,19930818,0759,  0.0000, 179.7522, 5311,    906.3,   5.0063,  34.5456,2,  34.5456,2,   -999.0,9,     85.3,2,    76.67,2,    38.10,2,     0.00,2,     2.71,2, -999.000,5, -999.000,5, -999.000,9,-999.0000,9,  -999.00,9,   -999.0,9,   -999.0,9,  -999.00,9,-999.0000,-999.000,  4.9313,-999.000
      325024_1,  P14N,   801,  1,     21,     21,2,19930818,0759,  0.0000, 179.7522, 5311,   1006.9,   4.7316,  34.5510,2,  34.5504,2,   -999.0,9,     83.7,2,    82.95,2,    38.52,2,     0.00,2,     2.75,2, -999.000,5, -999.000,5, -999.000,9,-999.0000,9,  -999.00,9,   -999.0,9,   -999.0,9,  -999.00,9,-999.0000,-999.000,  4.6497,-999.000
      325024_1,  P14N,   801,  1,     20,     20,2,19930818,0759,  0.0000, 179.7522, 5311,   1108.4,   4.1912,  34.5620,2,  34.5612,2,   -999.0,9,     86.0,2,    94.01,2,    38.63,2,     0.00,2,     2.77,2, -999.000,5, -999.000,5, -999.000,9,-999.0000,9,  -999.00,9,   -999.0,9,   -999.0,9,  -999.00,9,-999.0000,-999.000,  4.1047,-999.000
      325024_1,  P14N,   801,  1,     19,     19,2,19930818,0759,  0.0000, 179.7522, 5311,   1209.8,   3.8755,  34.5704,2,  34.5696,2,   -999.0,9,     93.8,2,   100.13,2,    38.02,2,     0.00,2,     2.74,2, -999.000,5, -999.000,5, -999.000,9,-999.0000,9,  -999.00,9,   -999.0,9,   -999.0,9,  -999.00,9,-999.0000,-999.000,  3.7830,-999.000
      325024_1,  P14N,   801,  1,     18,     18,2,19930818,0759,  0.0000, 179.7522, 5311,   1412.3,   3.3363,  34.5907,2,  34.5898,2,   -999.0,9,     91.1,2,   113.91,2,    38.85,2,     0.00,2,     2.79,2, -999.000,5, -999.000,5, -999.000,9,-999.0000,9,  -999.00,9,   -999.0,9,   -999.0,9,  -999.00,9,-999.0000,-999.000,  3.2320,-999.000
      325024_1,  P14N,   801,  1,     17,     17,2,19930818,0759,  0.0000, 179.7522, 5311,   1616.1,   2.8191,  34.6102,2,  34.6092,2,   -999.0,9,    101.4,2,   125.37,2,    38.19,2,     0.00,2,     2.73,2, -999.000,5, -999.000,5, -999.000,9,-999.0000,9,  -999.00,9,   -999.0,9,   -999.0,9,  -999.00,9,-999.0000,-999.000,  2.7036,-999.000
      325024_1,  P14N,   801,  1,     16,     16,2,19930818,0759,  0.0000, 179.7522, 5311,   1819.2,   2.4889,  34.6266,2,  34.6260,2,   -999.0,9,    105.4,2,   133.66,2,    38.12,2,     0.00,2,     2.71,2, -999.000,5, -999.000,5, -999.000,9,-999.0000,9,  -999.00,9,   -999.0,9,   -999.0,9,  -999.00,9,-999.0000,-999.000,  2.3606,-999.000
      325024_1,  P14N,   801,  1,     15,     15,2,19930818,0759,  0.0000, 179.7522, 5311,   2022.0,   2.2158,  34.6408,2,  34.6391,2,   -999.0,9,    111.7,2,   140.15,2,    37.73,2,     0.00,2,     2.69,2, -999.000,5, -999.000,5, -999.000,9,-999.0000,9,  -999.00,9,   -999.0,9,   -999.0,9,  -999.00,9,-999.0000,-999.000,  2.0741,-999.000
      325024_1,  P14N,   801,  1,     14,     14,2,19930818,0759,  0.0000, 179.7522, 5311,   2225.2,   2.0367,  34.6509,2,  34.6493,2,   -999.0,9,    117.3,2,   143.99,2,    37.39,2,     0.00,2,     2.65,2, -999.000,5, -999.000,5, -999.000,9,-999.0000,9,  -999.00,9,   -999.0,9,   -999.0,9,  -999.00,9,-999.0000,-999.000,  1.8803,-999.000
      325024_1,  P14N,   801,  1,     13,     13,2,19930818,0759,  0.0000, 179.7522, 5311,   2426.7,   1.9265,  34.6553,2,  34.6548,2,   -999.0,9,    122.7,2,   144.74,2,    37.05,2,     0.00,2,     2.62,2, -999.000,5, -999.000,5, -999.000,9,-999.0000,9,  -999.00,9,   -999.0,9,   -999.0,9,  -999.00,9,-999.0000,-999.000,  1.7542,-999.000
      325024_1,  P14N,   801,  1,     12,     12,2,19930818,0759,  0.0000, 179.7522, 5311,   2621.9,   1.8179,  34.6633,2,  34.6624,2,   -999.0,9,    125.8,2,   148.18,2,    36.89,2,     0.00,2,     2.61,2, -999.000,5, -999.000,5, -999.000,9,-999.0000,9,  -999.00,9,   -999.0,9,   -999.0,9,  -999.00,9,-999.0000,-999.000,  1.6298,-999.000
      325024_1,  P14N,   801,  1,     11,     11,2,19930818,0759,  0.0000, 179.7522, 5311,   2834.7,   1.7253,  34.6669,2,  34.6661,2,   -999.0,9,    131.6,2,   148.09,2,    36.64,2,     0.00,2,     2.57,2, -999.000,5, -999.000,5, -999.000,9,-999.0000,9,  -999.00,9,   -999.0,9,   -999.0,9,  -999.00,9,-999.0000,-999.000,  1.5194,-999.000
      325024_1,  P14N,   801,  1,     10,     10,2,19930818,0759,  0.0000, 179.7522, 5311,   3038.4,   1.6589,  34.6709,2,  34.6698,2,   -999.0,9,    137.5,2,   147.17,2,    36.12,2,     0.00,2,     2.54,2, -999.000,5, -999.000,5, -999.000,9,-999.0000,9,  -999.00,9,   -999.0,9,   -999.0,9,  -999.00,9,-999.0000,-999.000,  1.4349,-999.000
      325024_1,  P14N,   801,  1,      9,      9,2,19930818,0759,  0.0000, 179.7522, 5311,   3343.9,   1.5646,  34.6770,2,  34.6757,2,   -999.0,9,    145.7,2,   146.26,2,    35.56,2,     0.00,2,     2.49,2, -999.000,5, -999.000,5, -999.000,9,-999.0000,9,  -999.00,9,   -999.0,9,   -999.0,9,  -999.00,9,-999.0000,-999.000,  1.3127,-999.000
      325024_1,  P14N,   801,  1,      8,      8,2,19930818,0759,  0.0000, 179.7522, 5311,   3651.2,   1.4950,  34.6835,2,  34.6825,2,   -999.0,9,    154.4,2,   144.10,2,    35.04,2,     0.00,2,     2.45,2, -999.000,5, -999.000,5, -999.000,9,-999.0000,9,  -999.00,9,   -999.0,9,   -999.0,9,  -999.00,9,-999.0000,-999.000,  1.2134,-999.000
      325024_1,  P14N,   801,  1,      7,      7,2,19930818,0759,  0.0000, 179.7522, 5311,   3956.9,   1.4321,  34.6895,2,  34.6884,2,   -999.0,9,    162.7,2,   141.75,2,    34.53,2,     0.00,2,     2.41,2, -999.000,5, -999.000,5, -999.000,9,-999.0000,9,  -999.00,9,   -999.0,9,   -999.0,9,  -999.00,9,-999.0000,-999.000,  1.1198,-999.000
      325024_1,  P14N,   801,  1,      6,      6,2,19930818,0759,  0.0000, 179.7522, 5311,   4264.9,   1.3203,  34.6969,2,  34.6968,2,   -999.0,9,    177.0,2,   135.71,2,    33.53,2,     0.00,2,     2.34,2, -999.000,5, -999.000,5, -999.000,9,-999.0000,9,  -999.00,9,   -999.0,9,   -999.0,9,  -999.00,9,-999.0000,-999.000,  0.9774,-999.000
      325024_1,  P14N,   801,  1,      5,      5,2,19930818,0759,  0.0000, 179.7522, 5311,   4572.0,   1.2580,  34.7014,2,  34.7009,2,   -999.0,9,    187.3,2,   136.03,4,    33.63,4,     0.00,4,     2.34,4, -999.000,5, -999.000,5, -999.000,9,-999.0000,9,  -999.00,9,   -999.0,9,   -999.0,9,  -999.00,9,-999.0000,-999.000,  0.8822,-999.000
      325024_1,  P14N,   801,  1,      4,      4,2,19930818,0759,  0.0000, 179.7522, 5311,   4880.4,   1.2416,  34.7036,2,  34.7034,2,   -999.0,9,    192.3,2,   128.61,2,    32.60,2,     0.00,2,     2.27,2, -999.000,5, -999.000,5, -999.000,9,-999.0000,9,  -999.00,9,   -999.0,9,   -999.0,9,  -999.00,9,-999.0000,-999.000,  0.8303,-999.000
      325024_1,  P14N,   801,  1,      3,      3,2,19930818,0759,  0.0000, 179.7522, 5311,   5194.6,   1.2692,  34.7040,2,  34.7043,2,   -999.0,9,    193.8,2,   128.53,2,    32.39,2,     0.00,2,     2.27,2, -999.000,5, -999.000,5, -999.000,9,-999.0000,9,  -999.00,9,   -999.0,9,   -999.0,9,  -999.00,9,-999.0000,-999.000,  0.8190,-999.000
      325024_1,  P14N,   801,  1,      2,      2,2,19930818,0759,  0.0000, 179.7522, 5311,   5348.1,   1.2863,  34.7046,2,  34.7051,2,   -999.0,9,    193.9,2,   127.43,2,    32.46,2,     0.00,2,     2.25,2, -999.000,5, -999.000,5, -999.000,9,-999.0000,9,  -999.00,9,   -999.0,9,   -999.0,9,  -999.00,9,-999.0000,-999.000,  0.8165,-999.000
      325024_1,  P14N,   801,  1,      1,      1,2,19930818,0759,  0.0000, 179.7522, 5311,   5348.2,   1.2862,  34.7046,2,  34.7041,2,   -999.0,9,    193.4,2,   127.36,2,    32.43,2,     0.00,2,     2.25,2, -999.000,5, -999.000,5, -999.000,9,-999.0000,9,  -999.00,9,   -999.0,9,   -999.0,9,  -999.00,9,-999.0000,-999.000,  0.8163,-999.000