BOTTLE,20131125MIRCJHATS
EXPOCODE,SECT_ID,STNNBR,CASTNO,SAMPNO,BTLNBR,BTLNBR_FLAG_W,DATE,TIME,LATITUDE,LONGITUDE,DEPTH,CTDPRS,CTDTMP,CTDSAL,CTDSAL_FLAG_W,SALNTY,SALNTY_FLAG_W,CTDOXY,CTDOXY_FLAG_W,OXYGEN,OXYGEN_FLAG_W,SILCAT,SILCAT_FLAG_W,NITRAT,NITRAT_FLAG_W,NITRIT,NITRIT_FLAG_W,PHSPHT,PHSPHT_FLAG_W,CFC-11,CFC-11_FLAG_W,CFC-12,CFC-12_FLAG_W,TRITUM,TRITUM_FLAG_W,HELIUM,HELIUM_FLAG_W,DELHE3,DELHE3_FLAG_W,TCARBN,TCARBN_FLAG_W,ALKALI,ALKALI_FLAG_W,PH,PH_FLAG_W,HELIER,DELHER,THETA,TRITER
,,,,,,,,,,,,DBAR,ITS-90,PSS-78,,PSS-78,,UMOL/KG,,UMOL/KG,,UMOL/KG,,UMOL/KG,,UMOL/KG,,UMOL/KG,,PMOL/KG,,PMOL/KG,,TU,,NMOL/KG,,PERCNT,,UMOL/KG,,UMOL/KG,,25_DEG,,NMOL/KG,PERCNT,DEG C,TU
      325023_1,  P14N,    76,  1,     36,     36,2,19930727,0333, 24.5010, 179.0005, 5726,      2.0,  28.1329,  35.3541,2,  35.3581,2,   -999.0,9,    201.1,2,     0.81,2,     0.00,2,     0.00,2,     0.02,2, -999.000,5, -999.000,5, -999.000,9,-999.0000,9,  -999.00,9,   1974.8,2,   2324.3,2,     8.12,2,-999.0000,-999.000, 28.1324,-999.000
      325023_1,  P14N,    76,  1,     35,     35,2,19930727,0333, 24.5010, 179.0005, 5726,     37.9,  27.0054,  35.3311,2,  35.3181,2,   -999.0,9,    207.3,2,     0.58,2,     0.00,2,     0.00,2,     0.01,2, -999.000,5, -999.000,5, -999.000,9,-999.0000,9,  -999.00,9,   1971.9,2,   2321.2,2,     8.12,2,-999.0000,-999.000, 26.9967,-999.000
      325023_1,  P14N,    76,  1,     34,     34,2,19930727,0333, 24.5010, 179.0005, 5726,     67.9,  24.3801,  35.3448,2,  35.3462,2,   -999.0,9,    227.7,2,     0.35,2,     0.00,2,     0.00,2,     0.00,2, -999.000,5, -999.000,5, -999.000,9,-999.0000,9,  -999.00,9,   1975.5,2,   2323.3,2,     8.11,2,-999.0000,-999.000, 24.3656,-999.000
      325023_1,  P14N,    76,  1,     33,     33,2,19930727,0333, 24.5010, 179.0005, 5726,     98.5,  22.7989,  35.3276,2,  35.3307,2,   -999.0,9,    223.9,2,     0.12,2,     0.00,2,     0.00,2,     0.01,2, -999.000,5, -999.000,5, -999.000,9,-999.0000,9,  -999.00,9,   1990.1,2,   2322.1,2,  -999.00,9,-999.0000,-999.000, 22.7789,-999.000
      325023_1,  P14N,    76,  1,     32,     32,2,19930727,0333, 24.5010, 179.0005, 5726,    128.6,  21.6773,  35.3051,2,  35.3086,2,   -999.0,9,    217.0,2,     0.00,2,     0.00,2,     0.00,2,     0.03,2, -999.000,5, -999.000,5, -999.000,9,-999.0000,9,  -999.00,9,   1999.9,2,   -999.0,9,  -999.00,9,-999.0000,-999.000, 21.6521,-999.000
      325023_1,  P14N,    76,  1,     31,     31,2,19930727,0333, 24.5010, 179.0005, 5726,    158.4,  20.6882,  35.2381,2,  35.2429,2,   -999.0,9,    211.8,2,     0.00,2,     0.00,2,     0.05,2,     0.06,2, -999.000,5, -999.000,5, -999.000,9,-999.0000,9,  -999.00,9,   2011.3,2,   -999.0,9,     8.05,2,-999.0000,-999.000, 20.6582,-999.000
      325023_1,  P14N,    76,  1,     30,     30,2,19930727,0333, 24.5010, 179.0005, 5726,    208.1,  18.9057,  35.0397,2,  35.0417,2,   -999.0,9,    209.0,2,     0.00,2,     1.37,2,     0.02,2,     0.16,2, -999.000,5, -999.000,5, -999.000,9,-999.0000,9,  -999.00,9,   2019.8,2,   2301.1,2,  -999.00,9,-999.0000,-999.000, 18.8687,-999.000
      325023_1,  P14N,    76,  1,     29,     29,2,19930727,0333, 24.5010, 179.0005, 5726,    258.2,  16.8468,  34.8021,2,  34.8037,2,   -999.0,9,    204.7,2,     1.84,2,     4.28,2,     0.01,2,     0.34,2, -999.000,5, -999.000,5, -999.000,9,-999.0000,9,  -999.00,9,   2034.6,2,   2287.0,2,     7.96,2,-999.0000,-999.000, 16.8044,-999.000
      325023_1,  P14N,    76,  1,     28,     28,2,19930727,0333, 24.5010, 179.0005, 5726,    308.2,  15.4525,  34.6525,2,  34.6608,2,   -999.0,9,    207.2,2,     3.14,2,     6.08,2,     0.01,2,     0.47,2, -999.000,5, -999.000,5, -999.000,9,-999.0000,9,  -999.00,9,   2044.4,2,   2276.2,2,  -999.00,9,-999.0000,-999.000, 15.4049,-999.000
      325023_1,  P14N,    76,  1,     27,     27,2,19930727,0333, 24.5010, 179.0005, 5726,    408.7,  12.3219,  34.3701,2,  34.3719,2,   -999.0,9,    202.7,2,    10.13,2,    11.74,2,     0.00,2,     0.86,2, -999.000,5, -999.000,5, -999.000,9,-999.0000,9,  -999.00,9,   2079.7,2,   2269.3,2,  -999.00,9,-999.0000,-999.000, 12.2676,-999.000
      325023_1,  P14N,    76,  1,     26,     26,2,19930727,0333, 24.5010, 179.0005, 5726,    509.0,   9.5181,  34.1628,2,  34.1661,2,   -999.0,9,    179.4,2,    22.82,2,    18.99,2,     0.00,2,     1.37,2, -999.000,5, -999.000,5, -999.000,9,-999.0000,9,  -999.00,9,   2124.3,2,   2268.4,2,     7.73,2,-999.0000,-999.000,  9.4605,-999.000
      325023_1,  P14N,    76,  1,     25,     25,2,19930727,0333, 24.5010, 179.0005, 5726,    610.2,   7.6253,  34.0917,2,  34.0919,2,   -999.0,9,    137.3,2,    40.96,2,    26.57,2,     0.00,2,     1.91,2, -999.000,5, -999.000,5, -999.000,9,-999.0000,9,  -999.00,9,   2189.5,2,   2278.6,2,     7.59,2,-999.0000,-999.000,  7.5644,-999.000
      325023_1,  P14N,    76,  1,     24,     24,2,19930727,0333, 24.5010, 179.0005, 5726,    710.6,   5.7628,  34.0840,2,  34.0839,2,   -999.0,9,     95.3,2,    67.45,2,    33.81,2,     0.00,2,     2.40,2, -999.000,5, -999.000,5, -999.000,9,-999.0000,9,  -999.00,9,   2250.5,2,   2300.1,2,     7.47,2,-999.0000,-999.000,  5.7015,-999.000
      325023_1,  P14N,    76,  1,     23,     23,2,19930727,0333, 24.5010, 179.0005, 5726,    812.3,   4.7833,  34.1694,2,  34.1705,2,   -999.0,9,     57.0,2,    88.07,2,    38.90,2,     0.00,2,     2.76,2, -999.000,5, -999.000,5, -999.000,9,-999.0000,9,  -999.00,9,   2302.8,2,   2326.7,2,     7.38,2,-999.0000,-999.000,  4.7185,-999.000
      325023_1,  P14N,    76,  1,     22,     22,2,19930727,0333, 24.5010, 179.0005, 5726,    914.0,   4.2746,  34.2842,2,  34.2843,2,   -999.0,9,     39.5,2,   102.38,2,    41.24,2,     0.00,2,     2.92,2, -999.000,5, -999.000,5, -999.000,9,-999.0000,9,  -999.00,9,   2333.0,2,   -999.0,9,     7.36,2,-999.0000,-999.000,  4.2044,-999.000
      325023_1,  P14N,    76,  1,     21,     21,2,19930727,0333, 24.5010, 179.0005, 5726,   1015.8,   3.8772,  34.3833,2,  34.3832,2,   -999.0,9,     40.3,2,   111.41,2,    41.80,2,     0.00,2,     2.95,2, -999.000,5, -999.000,5, -999.000,9,-999.0000,9,  -999.00,9,   2346.8,2,   2363.9,2,     7.37,2,-999.0000,-999.000,  3.8013,-999.000
      325023_1,  P14N,    76,  1,     20,     20,2,19930727,0333, 24.5010, 179.0005, 5726,   1218.2,   3.3598,  34.4912,2,  34.4910,2,   -999.0,9,     55.9,2,   121.81,3,    41.18,2,     0.00,2,     2.90,2, -999.000,5, -999.000,5, -999.000,9,-999.0000,9,  -999.00,9,   2350.7,2,   2381.9,2,  -999.00,9,-999.0000,-999.000,  3.2716,-999.000
      325023_1,  P14N,    76,  1,     19,     19,2,19930727,0333, 24.5010, 179.0005, 5726,   1420.5,   2.8921,  34.5442,2,  34.5441,2,   -999.0,9,     70.0,2,   139.92,2,    40.52,2,     0.00,2,     2.84,2, -999.000,5, -999.000,5, -999.000,9,-999.0000,9,  -999.00,9,   2356.9,2,   2394.7,2,     7.44,2,-999.0000,-999.000,  2.7921,-999.000
      325023_1,  P14N,    76,  1,     18,     18,2,19930727,0333, 24.5010, 179.0005, 5726,   1623.3,   2.5465,  34.5751,2,  34.5753,2,   -999.0,9,     86.4,3,   146.64,2,    40.09,2,     0.00,2,     2.80,2, -999.000,5, -999.000,5, -999.000,9,-999.0000,9,  -999.00,9,   2356.0,2,   2391.4,2,  -999.00,9,-999.0000,-999.000,  2.4339,-999.000
      325023_1,  P14N,    76,  1,     17,     17,2,19930727,0333, 24.5010, 179.0005, 5726,   1825.6,   2.2394,  34.5989,2,  34.6004,2,   -999.0,9,     94.4,3,   152.93,2,    39.72,2,     0.00,2,     2.76,2, -999.000,5, -999.000,5, -999.000,9,-999.0000,9,  -999.00,9,   2361.1,2,   2409.8,2,  -999.00,9,-999.0000,-999.000,  2.1141,-999.000
      325023_1,  P14N,    76,  1,     16,     16,2,19930727,0333, 24.5010, 179.0005, 5726,   2028.3,   2.0482,  34.6161,2,  34.6168,2,   -999.0,9,     95.8,2,   156.96,2,    39.39,2,     0.00,2,     2.72,2, -999.000,5, -999.000,5, -999.000,9,-999.0000,9,  -999.00,9,   2358.5,2,   2417.4,2,  -999.00,9,-999.0000,-999.000,  1.9087,-999.000
      325023_1,  P14N,    76,  1,     15,     15,2,19930727,0333, 24.5010, 179.0005, 5726,   2231.7,   1.8830,  34.6295,2,  34.6307,2,   -999.0,9,    106.5,3,   160.08,2,    38.97,2,     0.00,2,     2.70,2, -999.000,5, -999.000,5, -999.000,9,-999.0000,9,  -999.00,9,   2355.1,2,   2418.3,2,     7.49,2,-999.0000,-999.000,  1.7287,-999.000
      325023_1,  P14N,    76,  1,     14,     14,2,19930727,0333, 24.5010, 179.0005, 5726,   2434.6,   1.7644,  34.6402,2,  34.6413,2,   -999.0,9,    109.5,2,   162.07,2,    38.50,2,     0.00,2,     2.66,2, -999.000,5, -999.000,5, -999.000,9,-999.0000,9,  -999.00,9,   2357.2,2,   2429.7,2,  -999.00,9,-999.0000,-999.000,  1.5944,-999.000
      325023_1,  P14N,    76,  1,     13,     13,2,19930727,0333, 24.5010, 179.0005, 5726,   2637.4,   1.6807,  34.6494,2,  34.6505,2,   -999.0,9,    116.3,2,   161.53,2,    37.99,2,     0.00,2,     2.63,2, -999.000,5, -999.000,5, -999.000,9,-999.0000,9,  -999.00,9,   2350.8,2,   -999.0,9,  -999.00,9,-999.0000,-999.000,  1.4940,-999.000
      325023_1,  P14N,    76,  1,     12,     12,2,19930727,0333, 24.5010, 179.0005, 5726,   2839.1,   1.6196,  34.6571,2,  34.6576,2,   -999.0,9,    122.7,2,   160.77,2,    37.67,2,     0.00,2,     2.59,2, -999.000,5, -999.000,5, -999.000,9,-999.0000,9,  -999.00,9,   2343.3,2,   2421.4,2,  -999.00,9,-999.0000,-999.000,  1.4155,-999.000
      325023_1,  P14N,    76,  1,     11,     11,2,19930727,0333, 24.5010, 179.0005, 5726,   3041.3,   1.5639,  34.6632,2,  34.6640,2,   -999.0,9,    128.7,2,   160.23,2,    37.16,2,     0.00,2,     2.56,2, -999.000,5, -999.000,5, -999.000,9,-999.0000,9,  -999.00,9,   2341.6,2,   2420.6,2,     7.54,2,-999.0000,-999.000,  1.3418,-999.000
      325023_1,  P14N,    76,  1,     10,     10,2,19930727,0333, 24.5010, 179.0005, 5726,   3347.1,   1.5152,  34.6703,2,  34.6722,2,   -999.0,9,    136.7,2,   158.10,2,    36.70,2,     0.00,2,     2.52,2, -999.000,5, -999.000,5, -999.000,9,-999.0000,9,  -999.00,9,   2335.1,2,   2420.6,2,  -999.00,9,-999.0000,-999.000,  1.2642,-999.000
      325023_1,  P14N,    76,  1,      9,      9,2,19930727,0333, 24.5010, 179.0005, 5726,   3651.9,   1.4760,  34.6769,2,  34.6783,2,   -999.0,9,    144.1,2,   156.20,2,    36.24,2,     0.00,2,     2.48,2, -999.000,5, -999.000,5, -999.000,9,-999.0000,9,  -999.00,9,   2332.2,2,   2419.8,2,  -999.00,9,-999.0000,-999.000,  1.1949,-999.000
      325023_1,  P14N,    76,  1,      8,      8,2,19930727,0333, 24.5010, 179.0005, 5726,   3955.1,   1.4563,  34.6819,2,  34.6836,2,   -999.0,9,    150.4,2,   153.85,2,    35.69,2,     0.00,2,     2.46,2, -999.000,5, -999.000,5, -999.000,9,-999.0000,9,  -999.00,9,   -999.0,9,   -999.0,9,  -999.00,9,-999.0000,-999.000,  1.1435,-999.000
      325023_1,  P14N,    76,  1,      7,      7,2,19930727,0333, 24.5010, 179.0005, 5726,   4261.4,   1.4471,  34.6857,2,  34.6875,2,   -999.0,9,    156.2,2,   150.82,2,    35.10,2,     0.00,2,     2.43,2, -999.000,5, -999.000,5, -999.000,9,-999.0000,9,  -999.00,9,   2322.3,2,   2415.6,2,     7.58,2,-999.0000,-999.000,  1.1009,-999.000
      325023_1,  P14N,    76,  1,      6,      6,2,19930727,0333, 24.5010, 179.0005, 5726,   4571.4,   1.4435,  34.6888,2,  34.6906,2,   -999.0,9,    162.3,2,   146.00,2,    34.78,2,     0.00,2,     2.39,2, -999.000,5, -999.000,5, -999.000,9,-999.0000,9,  -999.00,9,   2315.5,2,   2412.1,2,  -999.00,9,-999.0000,-999.000,  1.0621,-999.000
      325023_1,  P14N,    76,  1,      5,      5,2,19930727,0333, 24.5010, 179.0005, 5726,   4888.2,   1.4469,  34.6916,2,  34.6928,2,   -999.0,9,    167.9,2,   142.10,2,    34.41,2,     0.00,2,     2.36,2, -999.000,5, -999.000,5, -999.000,9,-999.0000,9,  -999.00,9,   2309.5,2,   2407.8,2,  -999.00,9,-999.0000,-999.000,  1.0280,-999.000
      325023_1,  P14N,    76,  1,      4,      4,2,19930727,0333, 24.5010, 179.0005, 5726,   5203.9,   1.4592,  34.6938,2,  34.6955,2,   -999.0,9,    172.1,2,   139.11,2,    34.05,2,     0.00,2,     2.34,2, -999.000,5, -999.000,5, -999.000,9,-999.0000,9,  -999.00,9,   2303.9,2,   2406.4,2,  -999.00,9,-999.0000,-999.000,  1.0013,-999.000
      325023_1,  P14N,    76,  1,      3,      3,2,19930727,0333, 24.5010, 179.0005, 5726,   5517.4,   1.4822,  34.6955,2,  34.6965,2,   -999.0,9,    174.9,2,   137.03,2,    33.73,2,     0.00,2,     2.31,2, -999.000,5, -999.000,5, -999.000,9,-999.0000,9,  -999.00,9,   2304.7,2,   2403.4,2,     7.60,2,-999.0000,-999.000,  0.9840,-999.000
      325023_1,  P14N,    76,  1,      2,      2,2,19930727,0333, 24.5010, 179.0005, 5726,   5827.4,   1.5122,  34.6965,2,  34.6990,2,   -999.0,9,    176.8,2,   135.84,2,    33.78,2,     0.00,2,     2.31,2, -999.000,5, -999.000,5, -999.000,9,-999.0000,9,  -999.00,9,   2299.4,2,   2400.2,2,  -999.00,9,-999.0000,-999.000,  0.9727,-999.000
      325023_1,  P14N,    76,  1,      1,      1,2,19930727,0333, 24.5010, 179.0005, 5726,   5827.4,   1.5122,  34.6965,2,  34.6980,2,   -999.0,9,    176.8,2,   135.77,2,    33.78,2,     0.00,2,     2.30,2, -999.000,5, -999.000,5, -999.000,9,-999.0000,9,  -999.00,9,   2296.8,2,   -999.0,9,  -999.00,9,-999.0000,-999.000,  0.9727,-999.000