BOTTLE,20131125MIRCJHATS
EXPOCODE,SECT_ID,STNNBR,CASTNO,SAMPNO,BTLNBR,BTLNBR_FLAG_W,DATE,TIME,LATITUDE,LONGITUDE,DEPTH,CTDPRS,CTDTMP,CTDSAL,CTDSAL_FLAG_W,SALNTY,SALNTY_FLAG_W,CTDOXY,CTDOXY_FLAG_W,OXYGEN,OXYGEN_FLAG_W,SILCAT,SILCAT_FLAG_W,NITRAT,NITRAT_FLAG_W,NITRIT,NITRIT_FLAG_W,PHSPHT,PHSPHT_FLAG_W,CFC-11,CFC-11_FLAG_W,CFC-12,CFC-12_FLAG_W,TRITUM,TRITUM_FLAG_W,HELIUM,HELIUM_FLAG_W,DELHE3,DELHE3_FLAG_W,TCARBN,TCARBN_FLAG_W,ALKALI,ALKALI_FLAG_W,PH,PH_FLAG_W,HELIER,DELHER,THETA,TRITER
,,,,,,,,,,,,DBAR,ITS-90,PSS-78,,PSS-78,,UMOL/KG,,UMOL/KG,,UMOL/KG,,UMOL/KG,,UMOL/KG,,UMOL/KG,,PMOL/KG,,PMOL/KG,,TU,,NMOL/KG,,PERCNT,,UMOL/KG,,UMOL/KG,,25_DEG,,NMOL/KG,PERCNT,DEG C,TU
      325024_1,  P14N,   171,  1,     36,     36,2,19930826,0806, -9.0002, 179.0007, 5012,      2.0,  29.1910,  34.2875,2,  34.2947,2,   -999.0,9,    195.8,2,     2.19,2,     0.03,2,     0.00,2,     0.20,2,    1.569,2,    0.863,2, -999.000,9,-999.0000,9,  -999.00,9,   -999.0,9,   -999.0,9,  -999.00,9,-999.0000,-999.000, 29.1905,-999.000
      325024_1,  P14N,   171,  1,     35,     35,2,19930826,0806, -9.0002, 179.0007, 5012,     30.9,  29.0190,  34.3056,2,  34.3307,4,   -999.0,9,    196.6,2,     2.14,2,     0.03,2,     0.00,2,     0.20,2,    1.584,2,    0.869,2, -999.000,9,-999.0000,9,  -999.00,9,   -999.0,9,   -999.0,9,  -999.00,9,-999.0000,-999.000, 29.0115,-999.000
      325024_1,  P14N,   171,  1,     34,     34,2,19930826,0806, -9.0002, 179.0007, 5012,     60.6,  28.1733,  34.6044,4,  34.8591,2,   -999.0,9,    192.1,2,     1.89,2,     0.30,2,     0.03,2,     0.27,2,    1.633,2,    0.879,2, -999.000,9,-999.0000,9,  -999.00,9,   -999.0,9,   -999.0,9,  -999.00,9,-999.0000,-999.000, 28.1590,-999.000
      325024_1,  P14N,   171,  1,     33,     33,2,19930826,0806, -9.0002, 179.0007, 5012,     90.6,  26.7566,  35.9238,2,  35.9432,2,   -999.0,9,    148.7,2,     2.05,2,     5.08,2,     0.62,2,     0.66,2,    1.637,2,    0.876,2, -999.000,9,-999.0000,9,  -999.00,9,   -999.0,9,   -999.0,9,  -999.00,9,-999.0000,-999.000, 26.7359,-999.000
      325024_1,  P14N,   171,  1,     32,     32,2,19930826,0806, -9.0002, 179.0007, 5012,    120.5,  24.8189,  36.1849,2,  36.1892,2,   -999.0,9,    145.2,2,     2.01,2,     5.64,2,     0.21,2,     0.67,2,    1.735,2,    0.927,2, -999.000,9,-999.0000,9,  -999.00,9,   -999.0,9,   -999.0,9,  -999.00,9,-999.0000,-999.000, 24.7928,-999.000
      325024_1,  P14N,   171,  1,     31,     31,2,19930826,0806, -9.0002, 179.0007, 5012,    152.2,  23.0466,  36.1244,2,  36.1196,2,   -999.0,9,    145.9,2,     1.96,2,     6.41,2,     0.03,2,     0.69,2,    1.713,2,    0.891,2, -999.000,9,-999.0000,9,  -999.00,9,   -999.0,9,   -999.0,9,  -999.00,9,-999.0000,-999.000, 23.0153,-999.000
      325024_1,  P14N,   171,  1,     30,     30,2,19930826,0806, -9.0002, 179.0007, 5012,    202.1,  18.8656,  35.6461,2,  35.6107,2,   -999.0,9,    123.6,2,     4.65,2,    12.01,2,     0.01,2,     1.08,2,    1.445,2,    0.743,2, -999.000,9,-999.0000,9,  -999.00,9,   -999.0,9,   -999.0,9,  -999.00,9,-999.0000,-999.000, 18.8296,-999.000
      325024_1,  P14N,   171,  1,     29,     29,2,19930826,0806, -9.0002, 179.0007, 5012,    252.2,  15.1256,  35.1930,2,  35.1798,2,   -999.0,9,    104.0,2,     9.63,2,    17.56,2,     0.01,2,     1.49,2,    0.981,6,    0.503,6, -999.000,9,-999.0000,9,  -999.00,9,   -999.0,9,   -999.0,9,  -999.00,9,-999.0000,-999.000, 15.0870,-999.000
      325024_1,  P14N,   171,  1,     28,     28,2,19930826,0806, -9.0002, 179.0007, 5012,    302.6,  11.9275,  34.8856,2,  34.8759,2,   -999.0,9,     88.0,2,    17.55,2,    24.75,2,     0.01,2,     1.89,2,    0.428,2,    0.225,2, -999.000,9,-999.0000,9,  -999.00,9,   -999.0,9,   -999.0,9,  -999.00,9,-999.0000,-999.000, 11.8881,-999.000
      325024_1,  P14N,   171,  1,     27,     27,2,19930826,0806, -9.0002, 179.0007, 5012,    402.5,   9.0189,  34.6689,2,  34.6671,2,   -999.0,9,     95.6,2,    26.92,2,    30.25,2,     0.00,2,     2.17,2,    0.114,2,    0.054,2, -999.000,9,-999.0000,9,  -999.00,9,   -999.0,9,   -999.0,9,  -999.00,9,-999.0000,-999.000,  8.9747,-999.000
      325024_1,  P14N,   171,  1,     26,     26,2,19930826,0806, -9.0002, 179.0007, 5012,    501.9,   7.6590,  34.5899,2,  34.5898,2,   -999.0,9,    107.2,2,    33.35,2,    32.08,2,     0.00,2,     2.27,2,    0.054,2,    0.029,2, -999.000,9,-999.0000,9,  -999.00,9,   -999.0,9,   -999.0,9,  -999.00,9,-999.0000,-999.000,  7.6087,-999.000
      325024_1,  P14N,   171,  1,     25,     25,2,19930826,0806, -9.0002, 179.0007, 5012,    606.6,   6.5778,  34.5425,2,  34.5439,2,   -999.0,9,    105.5,2,    42.49,2,    34.62,2,     0.00,2,     2.44,2,    0.016,2,    0.012,2, -999.000,9,-999.0000,9,  -999.00,9,   -999.0,9,   -999.0,9,  -999.00,9,-999.0000,-999.000,  6.5216,-999.000
      325024_1,  P14N,   171,  1,     24,     24,2,19930826,0806, -9.0002, 179.0007, 5012,    706.8,   5.9582,  34.5240,2,  34.5250,2,   -999.0,9,    108.0,2,    49.53,2,    35.66,2,     0.00,2,     2.52,2,    0.011,2,    0.004,2, -999.000,9,-999.0000,9,  -999.00,9,   -999.0,9,   -999.0,9,  -999.00,9,-999.0000,-999.000,  5.8956,-999.000
      325024_1,  P14N,   171,  1,     23,     23,2,19930826,0806, -9.0002, 179.0007, 5012,    807.7,   5.3299,  34.5196,2,  34.5209,2,   -999.0,9,    110.8,2,    58.44,2,    36.35,2,     0.00,2,     2.58,2,    0.006,2,    0.001,2, -999.000,9,-999.0000,9,  -999.00,9,   -999.0,9,   -999.0,9,  -999.00,9,-999.0000,-999.000,  5.2617,-999.000
      325024_1,  P14N,   171,  1,     22,     22,2,19930826,0806, -9.0002, 179.0007, 5012,    907.4,   4.7595,  34.5206,2,  34.5211,2,   -999.0,9,    113.5,2,    67.15,2,    36.88,2,     0.00,2,     2.62,2,   -0.002,2,    0.005,2, -999.000,9,-999.0000,9,  -999.00,9,   -999.0,9,   -999.0,9,  -999.00,9,-999.0000,-999.000,  4.6862,-999.000
      325024_1,  P14N,   171,  1,     21,     21,2,19930826,0806, -9.0002, 179.0007, 5012,   1007.8,   4.2557,  34.5244,2,  34.5266,2,   -999.0,9,    122.0,2,    74.39,2,    36.43,2,     0.00,2,     2.58,2,    0.009,4,    0.000,2, -999.000,9,-999.0000,9,  -999.00,9,   -999.0,9,   -999.0,9,  -999.00,9,-999.0000,-999.000,  4.1774,-999.000
      325024_1,  P14N,   171,  1,     20,     20,2,19930826,0806, -9.0002, 179.0007, 5012,   1208.4,   3.4975,  34.5590,2,  34.5605,2,   -999.0,9,    125.5,2,    91.52,2,    36.60,2,     0.00,2,     2.60,2,   -0.002,2,    0.001,2, -999.000,9,-999.0000,9,  -999.00,9,   -999.0,9,   -999.0,9,  -999.00,9,-999.0000,-999.000,  3.4087,-999.000
      325024_1,  P14N,   171,  1,     19,     19,2,19930826,0806, -9.0002, 179.0007, 5012,   1408.6,   3.0263,  34.5828,2,  34.5838,2,   -999.0,9,    128.4,2,   102.80,2,    36.64,2,     0.00,2,     2.60,2,    0.000,2,    0.001,2, -999.000,9,-999.0000,9,  -999.00,9,   -999.0,9,   -999.0,9,  -999.00,9,-999.0000,-999.000,  2.9257,-999.000
      325024_1,  P14N,   171,  1,     18,     18,2,19930826,0806, -9.0002, 179.0007, 5012,   1616.1,   2.6499,  34.6048,2,  34.6058,2,   -999.0,9,    130.0,2,   112.63,2,    36.68,2,     0.00,2,     2.60,2,   -0.002,2,    0.004,2, -999.000,9,-999.0000,9,  -999.00,9,   -999.0,9,   -999.0,9,  -999.00,9,-999.0000,-999.000,  2.5365,-999.000
      325024_1,  P14N,   171,  1,     17,     17,3,19930826,0806, -9.0002, 179.0007, 5012,   1817.5,   2.4145,  34.6200,2,  34.6283,4,   -999.0,9,    134.6,4,   114.41,4,    35.71,4,     0.00,4,     2.54,4, -999.000,5, -999.000,5, -999.000,9,-999.0000,9,  -999.00,9,   -999.0,9,   -999.0,9,  -999.00,9,-999.0000,-999.000,  2.2874,-999.000
      325024_1,  P14N,   171,  1,     16,     16,2,19930826,0806, -9.0002, 179.0007, 5012,   2019.2,   2.2095,  34.6347,2,  34.6356,2,   -999.0,9,    133.8,2,   125.58,2,    36.72,2,     0.00,2,     2.59,2,    0.005,3,    0.003,2, -999.000,9,-999.0000,9,  -999.00,9,   -999.0,9,   -999.0,9,  -999.00,9,-999.0000,-999.000,  2.0682,-999.000
      325024_1,  P14N,   171,  1,     15,     15,2,19930826,0806, -9.0002, 179.0007, 5012,   2226.3,   2.0485,  34.6465,2,  34.6467,2,   -999.0,9,    135.1,2,   130.79,2,    36.63,2,     0.00,2,     2.59,2, -999.000,5, -999.000,5, -999.000,9,-999.0000,9,  -999.00,9,   -999.0,9,   -999.0,9,  -999.00,9,-999.0000,-999.000,  1.8918,-999.000
      325024_1,  P14N,   171,  1,     14,     14,2,19930826,0806, -9.0002, 179.0007, 5012,   2428.5,   1.9309,  34.6543,2,  34.6550,2,   -999.0,9,    137.8,2,   134.51,2,    36.58,2,     0.00,2,     2.56,2, -999.000,5, -999.000,5, -999.000,9,-999.0000,9,  -999.00,9,   -999.0,9,   -999.0,9,  -999.00,9,-999.0000,-999.000,  1.7583,-999.000
      325024_1,  P14N,   171,  1,     13,     13,2,19930826,0806, -9.0002, 179.0007, 5012,   2630.6,   1.8249,  34.6616,2,  34.6624,2,   -999.0,9,    138.3,2,   137.58,2,    36.58,2,     0.00,2,     2.57,2, -999.000,5, -999.000,5, -999.000,9,-999.0000,9,  -999.00,9,   -999.0,9,   -999.0,9,  -999.00,9,-999.0000,-999.000,  1.6359,-999.000
      325024_1,  P14N,   171,  1,     12,     12,2,19930826,0806, -9.0002, 179.0007, 5012,   2833.3,   1.7453,  34.6665,2,  34.6677,2,   -999.0,9,    141.3,2,   138.72,2,    36.26,2,     0.00,2,     2.55,2, -999.000,5, -999.000,5, -999.000,9,-999.0000,9,  -999.00,9,   -999.0,9,   -999.0,9,  -999.00,9,-999.0000,-999.000,  1.5391,-999.000
      325024_1,  P14N,   171,  1,     11,     11,2,19930826,0806, -9.0002, 179.0007, 5012,   3040.5,   1.6846,  34.6710,2,  34.6714,2,   -999.0,9,    145.3,2,   138.78,2,    35.95,2,     0.00,2,     2.54,2,   -0.002,2,    0.001,2, -999.000,9,-999.0000,9,  -999.00,9,   -999.0,9,   -999.0,9,  -999.00,9,-999.0000,-999.000,  1.4598,-999.000
      325024_1,  P14N,   171,  1,     10,     10,2,19930826,0806, -9.0002, 179.0007, 5012,   3243.2,   1.6157,  34.6750,2,  34.6755,2,   -999.0,9,    148.5,2,   139.06,2,    35.86,2,     0.00,2,     2.52,2, -999.000,5, -999.000,5, -999.000,9,-999.0000,9,  -999.00,9,   -999.0,9,   -999.0,9,  -999.00,9,-999.0000,-999.000,  1.3726,-999.000
      325024_1,  P14N,   171,  1,      9,      9,2,19930826,0806, -9.0002, 179.0007, 5012,   3446.8,   1.5749,  34.6787,2,  34.6791,2,   -999.0,9,    153.1,2,   138.47,2,    35.47,2,     0.00,2,     2.50,2, -999.000,5, -999.000,5, -999.000,9,-999.0000,9,  -999.00,9,   -999.0,9,   -999.0,9,  -999.00,9,-999.0000,-999.000,  1.3124,-999.000
      325024_1,  P14N,   171,  1,      8,      8,2,19930826,0806, -9.0002, 179.0007, 5012,   3649.9,   1.4974,  34.6840,2,  34.6845,2,   -999.0,9,    160.4,2,   136.17,2,    34.94,2,     0.00,2,     2.45,2, -999.000,5, -999.000,5, -999.000,9,-999.0000,9,  -999.00,9,   -999.0,9,   -999.0,9,  -999.00,9,-999.0000,-999.000,  1.2159,-999.000
      325024_1,  P14N,   171,  1,      7,      7,2,19930826,0806, -9.0002, 179.0007, 5012,   3853.4,   1.4271,  34.6896,2,  34.6906,2,   -999.0,9,    169.3,2,   132.38,2,    34.33,2,     0.00,2,     2.40,2, -999.000,5, -999.000,5, -999.000,9,-999.0000,9,  -999.00,9,   -999.0,9,   -999.0,9,  -999.00,9,-999.0000,-999.000,  1.1260,-999.000
      325024_1,  P14N,   171,  1,      6,      6,2,19930826,0806, -9.0002, 179.0007, 5012,   4056.4,   1.3509,  34.6960,2,  34.6977,2,   -999.0,9,    180.2,2,   127.54,2,    33.51,2,     0.00,2,     2.35,2,   -0.001,2,    0.001,2, -999.000,9,-999.0000,9,  -999.00,9,   -999.0,9,   -999.0,9,  -999.00,9,-999.0000,-999.000,  1.0300,-999.000
      325024_1,  P14N,   171,  1,      5,      5,2,19930826,0806, -9.0002, 179.0007, 5012,   4265.7,   1.2990,  34.6999,2,  34.7012,2,   -999.0,9,    186.9,2,   125.05,2,    32.95,2,     0.00,2,     2.31,2, -999.000,5, -999.000,5, -999.000,9,-999.0000,9,  -999.00,9,   -999.0,9,   -999.0,9,  -999.00,9,-999.0000,-999.000,  0.9566,-999.000
      325024_1,  P14N,   171,  1,      4,      4,2,19930826,0806, -9.0002, 179.0007, 5012,   4473.6,   1.2589,  34.7029,2,  34.7047,2,   -999.0,9,    192.1,2,   123.21,2,    32.60,2,     0.00,2,     2.29,2, -999.000,5, -999.000,5, -999.000,9,-999.0000,9,  -999.00,9,   -999.0,9,   -999.0,9,  -999.00,9,-999.0000,-999.000,  0.8943,-999.000
      325024_1,  P14N,   171,  1,      3,      3,2,19930826,0806, -9.0002, 179.0007, 5012,   4675.6,   1.2557,  34.7041,2,  34.7049,2,   -999.0,9,    194.3,2,   122.65,2,    32.38,2,     0.00,2,     2.27,2, -999.000,5, -999.000,5, -999.000,9,-999.0000,9,  -999.00,9,   -999.0,9,   -999.0,9,  -999.00,9,-999.0000,-999.000,  0.8680,-999.000
      325024_1,  P14N,   171,  1,      2,      2,2,19930826,0806, -9.0002, 179.0007, 5012,   4853.9,   1.2677,  34.7045,2,  34.7053,2,   -999.0,9,    194.4,2,   122.93,2,    32.42,2,     0.00,2,     2.27,2, -999.000,5, -999.000,5, -999.000,9,-999.0000,9,  -999.00,9,   -999.0,9,   -999.0,9,  -999.00,9,-999.0000,-999.000,  0.8586,-999.000
      325024_1,  P14N,   171,  1,      1,      1,2,19930826,0806, -9.0002, 179.0007, 5012,   5089.2,   1.2834,  34.7041,2,  34.7057,2,   -999.0,9,    193.9,2,   123.00,2,    32.42,2,     0.00,2,     2.27,2,   -0.001,2,    0.001,2, -999.000,9,-999.0000,9,  -999.00,9,   -999.0,9,   -999.0,9,  -999.00,9,-999.0000,-999.000,  0.8455,-999.000