BOTTLE,20131125MIRCJHATS
EXPOCODE,SECT_ID,STNNBR,CASTNO,SAMPNO,BTLNBR,BTLNBR_FLAG_W,DATE,TIME,LATITUDE,LONGITUDE,DEPTH,CTDPRS,CTDTMP,CTDSAL,CTDSAL_FLAG_W,SALNTY,SALNTY_FLAG_W,CTDOXY,CTDOXY_FLAG_W,OXYGEN,OXYGEN_FLAG_W,SILCAT,SILCAT_FLAG_W,NITRAT,NITRAT_FLAG_W,NITRIT,NITRIT_FLAG_W,PHSPHT,PHSPHT_FLAG_W,CFC-11,CFC-11_FLAG_W,CFC-12,CFC-12_FLAG_W,TRITUM,TRITUM_FLAG_W,HELIUM,HELIUM_FLAG_W,DELHE3,DELHE3_FLAG_W,TCARBN,TCARBN_FLAG_W,ALKALI,ALKALI_FLAG_W,PH,PH_FLAG_W,HELIER,DELHER,THETA,TRITER
,,,,,,,,,,,,DBAR,ITS-90,PSS-78,,PSS-78,,UMOL/KG,,UMOL/KG,,UMOL/KG,,UMOL/KG,,UMOL/KG,,UMOL/KG,,PMOL/KG,,PMOL/KG,,TU,,NMOL/KG,,PERCNT,,UMOL/KG,,UMOL/KG,,25_DEG,,NMOL/KG,PERCNT,DEG C,TU
      325023_1,  P14N,    47,  1,     36,     36,2,19930719,0832, 38.9932, 179.0033, 5559,      3.7,  15.1495,  34.0099,2,  34.0122,2,   -999.0,9,    258.4,2,     9.79,3,     3.91,3,     0.09,3,     0.46,3,    3.113,2,    1.529,2, -999.000,9,-999.0000,9,  -999.00,9,   2012.7,2,   2253.7,2,     7.96,2,-999.0000,-999.000, 15.1490,-999.000
      325023_1,  P14N,    47,  1,     35,     35,2,19930719,0832, 38.9932, 179.0033, 5559,     40.5,  14.2723,  34.0837,2,  34.0660,2,   -999.0,9,    268.2,2,    10.43,3,     4.35,3,     0.10,3,     0.49,3,    3.307,2,    1.706,2, -999.000,9,-999.0000,9,  -999.00,9,   2021.3,2,   2257.0,2,     7.95,2,-999.0000,-999.000, 14.2664,-999.000
      325023_1,  P14N,    47,  1,     34,     34,2,19930719,0832, 38.9932, 179.0033, 5559,     70.4,  11.1223,  34.2111,2,  34.2114,2,   -999.0,9,    277.3,2,    15.12,3,     7.97,3,     0.22,3,     0.75,3,    3.719,2,    1.876,2, -999.000,9,-999.0000,9,  -999.00,9,   2055.0,2,   2267.7,2,     7.90,2,-999.0000,-999.000, 11.1137,-999.000
      325023_1,  P14N,    47,  1,     33,     33,2,19930719,0832, 38.9932, 179.0033, 5559,    100.5,  10.4035,  34.1991,2,  34.2019,2,   -999.0,9,    263.0,2,    17.06,3,    10.65,3,     0.09,3,     0.89,3,    3.604,2,    1.821,2, -999.000,9,-999.0000,9,  -999.00,9,   2069.5,2,   2269.3,2,     7.86,2,-999.0000,-999.000, 10.3917,-999.000
      325023_1,  P14N,    47,  1,     32,     32,2,19930719,0832, 38.9932, 179.0033, 5559,    131.4,   9.9204,  34.1626,2,  34.1666,2,   -999.0,9,    261.2,2,    18.25,3,    11.77,3,     0.03,3,     0.95,3,    3.693,2,    1.873,2, -999.000,9,-999.0000,9,  -999.00,9,   2075.7,2,   2264.2,2,     7.85,2,-999.0000,-999.000,  9.9054,-999.000
      325023_1,  P14N,    47,  1,     31,     31,2,19930719,0832, 38.9932, 179.0033, 5559,    161.1,   9.5860,  34.1331,2,  34.1386,2,   -999.0,9,    261.4,2,    19.44,3,    12.35,3,     0.02,3,     0.99,3,    3.724,2,    1.871,2, -999.000,9,-999.0000,9,  -999.00,9,   2080.5,2,   2268.2,2,  -999.00,9,-999.0000,-999.000,  9.5681,-999.000
      325023_1,  P14N,    47,  1,     30,     30,2,19930719,0832, 38.9932, 179.0033, 5559,    209.5,   9.2331,  34.1064,2,  34.1084,2,   -999.0,9,    260.9,2,    20.45,3,    13.15,3,     0.02,3,     1.06,3,    3.748,6,    1.822,6, -999.000,9,-999.0000,9,  -999.00,9,   2085.9,2,   2266.8,2,     7.83,2,-999.0000,-999.000,  9.2102,-999.000
      325023_1,  P14N,    47,  1,     29,     29,2,19930719,0832, 38.9932, 179.0033, 5559,    255.5,   8.6469,  34.0485,2,  34.0497,2,   -999.0,9,    249.4,2,    24.96,3,    15.35,3,     0.02,3,     1.21,3, -999.000,5, -999.000,5, -999.000,9,-999.0000,9,  -999.00,9,   2096.5,2,   2276.5,2,     7.80,2,-999.0000,-999.000,  8.6201,-999.000
      325023_1,  P14N,    47,  1,     28,     28,2,19930719,0832, 38.9932, 179.0033, 5559,    309.6,   7.8656,  34.0324,2,  34.0332,2,   -999.0,9,    201.2,2,    36.45,3,    21.17,3,     0.03,3,     1.60,3,    2.890,2,    1.416,2, -999.000,9,-999.0000,9,  -999.00,9,   2140.4,2,   2286.8,2,  -999.00,9,-999.0000,-999.000,  7.8348,-999.000
      325023_1,  P14N,    47,  1,     27,     27,2,19930719,0832, 38.9932, 179.0033, 5559,    412.6,   6.2264,  33.9754,2,  33.9768,2,   -999.0,9,    158.8,2,    56.26,3,    28.22,3,     0.01,3,     2.12,3,    2.215,2,    1.012,2, -999.000,9,-999.0000,9,  -999.00,9,   2195.8,2,   2272.8,2,     7.58,2,-999.0000,-999.000,  6.1902,-999.000
      325023_1,  P14N,    47,  1,     26,     26,2,19930719,0832, 38.9932, 179.0033, 5559,    509.7,   5.0663,  34.0044,2,  34.0067,2,   -999.0,9,    114.3,2,    77.83,3,    34.19,3,     0.01,3,     2.55,3,    1.384,3,    0.579,3, -999.000,9,-999.0000,9,  -999.00,9,   2246.6,2,   2299.3,2,     7.48,2,-999.0000,-999.000,  5.0258,-999.000
      325023_1,  P14N,    47,  1,     25,     25,2,19930719,0832, 38.9932, 179.0033, 5559,    609.7,   4.4651,  34.0785,2,  34.0787,2,   -999.0,9,     81.6,2,    94.89,3,    38.05,3,     0.01,3,     2.82,3, -999.000,5, -999.000,5, -999.000,9,-999.0000,9,  -999.00,9,   2286.1,2,   2317.2,2,     7.41,2,-999.0000,-999.000,  4.4190,-999.000
      325023_1,  P14N,    47,  1,     24,     24,2,19930719,0832, 38.9932, 179.0033, 5559,    711.2,   4.1130,  34.1615,2,  34.1620,2,   -999.0,9,     56.3,2,   108.72,3,    40.50,3,     0.00,3,     2.99,3,    0.419,2,    0.192,2, -999.000,9,-999.0000,9,  -999.00,9,   2314.9,2,   2333.5,2,     7.37,2,-999.0000,-999.000,  4.0605,-999.000
      325023_1,  P14N,    47,  1,     23,     23,2,19930719,0832, 38.9932, 179.0033, 5559,    814.4,   3.7581,  34.2344,2,  34.2340,2,   -999.0,9,     43.8,2,   121.56,3,    41.91,3,     0.00,3,     3.08,3, -999.000,5, -999.000,5, -999.000,9,-999.0000,9,  -999.00,9,   2334.0,2,   2345.6,2,     7.35,2,-999.0000,-999.000,  3.6996,-999.000
      325023_1,  P14N,    47,  1,     22,     22,2,19930719,0832, 38.9932, 179.0033, 5559,    917.8,   3.4431,  34.2860,2,  34.2868,2,   -999.0,9,     34.1,2,   131.84,3,    42.91,3,     0.00,3,     3.16,3,    0.123,2,    0.061,2, -999.000,9,-999.0000,9,  -999.00,9,   2351.4,2,   2362.0,2,     7.33,2,-999.0000,-999.000,  3.3786,-999.000
      325023_1,  P14N,    47,  1,     21,     21,2,19930719,0832, 38.9932, 179.0033, 5559,   1019.2,   3.2094,  34.3338,2,  34.3336,2,   -999.0,9,     29.3,2,   140.48,3,    43.70,3,     0.00,3,     3.21,3,    0.060,2,    0.027,2, -999.000,9,-999.0000,9,  -999.00,9,   2364.8,2,   2370.7,2,     7.33,2,-999.0000,-999.000,  3.1387,-999.000
      325023_1,  P14N,    47,  1,     20,     20,2,19930719,0832, 38.9932, 179.0033, 5559,   1221.9,   2.8185,  34.4099,2,  34.4104,2,   -999.0,9,     26.1,2,   153.79,3,    44.48,3,     0.00,3,     3.24,3,    0.019,2,    0.007,2, -999.000,9,-999.0000,9,  -999.00,9,   2383.7,2,   2389.0,2,     7.33,2,-999.0000,-999.000,  2.7353,-999.000
      325023_1,  P14N,    47,  1,     19,     19,2,19930719,0832, 38.9932, 179.0033, 5559,   1424.5,   2.4994,  34.4711,2,  34.4727,2,   -999.0,9,     30.3,2,   164.10,3,    44.35,3,     0.00,3,     3.23,3, -999.000,5, -999.000,5, -999.000,9,-999.0000,9,  -999.00,9,   2385.9,2,   2396.9,2,     7.34,2,-999.0000,-999.000,  2.4035,-999.000
      325023_1,  P14N,    47,  1,     18,     18,2,19930719,0832, 38.9932, 179.0033, 5559,   1627.7,   2.2848,  34.5132,2,  34.5148,2,   -999.0,9,     37.3,2,   170.68,3,    43.98,3,     0.00,3,     3.18,3,    0.007,2,    0.005,2, -999.000,9,-999.0000,9,  -999.00,9,   2391.7,2,   2407.9,2,     7.35,2,-999.0000,-999.000,  2.1753,-999.000
      325023_1,  P14N,    47,  1,     17,     17,2,19930719,0832, 38.9932, 179.0033, 5559,   1831.9,   2.0969,  34.5548,2,  34.5541,2,   -999.0,9,     48.6,2,   175.06,3,    43.30,3,     0.00,3,     3.14,3, -999.000,5, -999.000,5, -999.000,9,-999.0000,9,  -999.00,9,   2391.7,2,   2407.3,2,     7.38,2,-999.0000,-999.000,  1.9732,-999.000
      325023_1,  P14N,    47,  1,     16,     16,2,19930719,0832, 38.9932, 179.0033, 5559,   2035.5,   1.9560,  34.5838,2,  34.5843,2,   -999.0,9,     59.1,2,   177.59,3,    42.67,3,     0.00,3,     3.09,3,   -0.001,2,    0.003,2, -999.000,9,-999.0000,9,  -999.00,9,   2389.5,2,   2422.3,2,  -999.00,9,-999.0000,-999.000,  1.8174,-999.000
      325023_1,  P14N,    47,  1,     15,     15,2,19930719,0832, 38.9932, 179.0033, 5559,   2239.5,   1.8424,  34.6065,2,  34.6062,2,   -999.0,9,     70.7,2,   178.89,3,    42.08,3,     0.00,3,     3.04,3, -999.000,5, -999.000,5, -999.000,9,-999.0000,9,  -999.00,9,   2380.6,2,   2419.5,2,  -999.00,9,-999.0000,-999.000,  1.6883,-999.000
      325023_1,  P14N,    47,  1,     14,     14,2,19930719,0832, 38.9932, 179.0033, 5559,   2443.6,   1.7372,  34.6241,2,  34.6256,2,   -999.0,9,     84.4,2,   178.31,3,    41.18,3,     0.00,3,     2.97,3,    0.001,2,    0.002,2, -999.000,9,-999.0000,9,  -999.00,9,   2374.8,2,   2425.5,2,  -999.00,9,-999.0000,-999.000,  1.5670,-999.000
      325023_1,  P14N,    47,  1,     13,     13,2,19930719,0832, 38.9932, 179.0033, 5559,   2647.2,   1.6604,  34.6375,2,  34.6399,2,   -999.0,9,     96.9,2,   176.29,3,    40.23,3,     0.00,3,     2.91,3,    0.004,2,   -0.002,2, -999.000,9,-999.0000,9,  -999.00,9,   2366.0,2,   2421.1,2,  -999.00,9,-999.0000,-999.000,  1.4733,-999.000
      325023_1,  P14N,    47,  1,     12,     12,2,19930719,0832, 38.9932, 179.0033, 5559,   2851.6,   1.5966,  34.6465,2,  34.6500,2,   -999.0,9,    109.9,2,   173.04,3,    39.47,3,     0.00,3,     2.83,3, -999.000,5, -999.000,5, -999.000,9,-999.0000,9,  -999.00,9,   2354.4,2,   2423.5,2,  -999.00,9,-999.0000,-999.000,  1.3919,-999.000
      325023_1,  P14N,    47,  1,     11,     11,2,19930719,0832, 38.9932, 179.0033, 5559,   3055.6,   1.5553,  34.6561,2,  34.6569,2,   -999.0,9,    118.0,2,   170.83,3,    38.93,3,     0.00,3,     2.80,3,   -0.001,4,    0.007,4, -999.000,9,-999.0000,9,  -999.00,9,   2349.3,2,   2418.8,2,  -999.00,9,-999.0000,-999.000,  1.3320,-999.000
      325023_1,  P14N,    47,  1,     10,     10,2,19930719,0832, 38.9932, 179.0033, 5559,   3361.6,   1.5033,  34.6640,2,  34.6666,2,   -999.0,9,    131.5,2,   166.80,3,    37.94,3,     0.00,3,     2.72,3,    0.008,2,    0.000,2, -999.000,9,-999.0000,9,  -999.00,9,   2340.7,2,   2424.0,2,  -999.00,9,-999.0000,-999.000,  1.2512,-999.000
      325023_1,  P14N,    47,  1,      9,      9,2,19930719,0832, 38.9932, 179.0033, 5559,   3668.3,   1.4681,  34.6721,2,  34.6733,2,   -999.0,9,    141.3,2,   164.01,3,    37.27,3,     0.00,3,     2.67,3, -999.000,5, -999.000,5, -999.000,9,-999.0000,9,  -999.00,9,   2335.6,2,   2424.3,2,  -999.00,9,-999.0000,-999.000,  1.1855,-999.000
      325023_1,  P14N,    47,  1,      8,      8,2,19930719,0832, 38.9932, 179.0033, 5559,   3976.7,   1.4572,  34.6776,2,  34.6793,2,   -999.0,9,    147.5,2,   162.24,3,    36.87,3,     0.00,3,     2.63,3,    0.000,2,    0.004,2, -999.000,9,-999.0000,9,  -999.00,9,   2328.6,2,   2422.4,2,  -999.00,9,-999.0000,-999.000,  1.1421,-999.000
      325023_1,  P14N,    47,  1,      7,      7,2,19930719,0832, 38.9932, 179.0033, 5559,   4284.7,   1.4656,  34.6846,2,  34.6834,2,   -999.0,9,    151.2,2,   161.89,3,    36.74,3,     0.00,3,     2.62,3,   -0.002,2,    0.000,2, -999.000,9,-999.0000,9,  -999.00,9,   2326.9,2,   2419.0,2,  -999.00,9,-999.0000,-999.000,  1.1162,-999.000
      325023_1,  P14N,    47,  1,      6,      6,2,19930719,0832, 38.9932, 179.0033, 5559,   4593.0,   1.4885,  34.6862,2,  34.6849,2,   -999.0,9,    152.4,2,   162.55,3,    36.61,3,     0.00,3,     2.62,3, -999.000,5, -999.000,5, -999.000,9,-999.0000,9,  -999.00,9,   2326.7,2,   2420.2,2,  -999.00,9,-999.0000,-999.000,  1.1031,-999.000
      325023_1,  P14N,    47,  1,      5,      5,2,19930719,0832, 38.9932, 179.0033, 5559,   4903.3,   1.5208,  34.6852,2,  34.6853,2,   -999.0,9,    153.3,2,   163.21,3,    36.57,3,     0.00,3,     2.61,3,    0.004,2,   -0.002,2, -999.000,9,-999.0000,9,  -999.00,9,   2326.0,2,   2422.1,2,  -999.00,9,-999.0000,-999.000,  1.0976,-999.000
      325023_1,  P14N,    47,  1,      4,      4,2,19930719,0832, 38.9932, 179.0033, 5559,   5212.2,   1.5559,  34.6853,2,  34.6854,2,   -999.0,9,    154.0,2,   163.26,3,    36.53,3,     0.00,3,     2.60,3,    0.017,4,    0.025,4, -999.000,9,-999.0000,9,  -999.00,9,   2327.4,2,   2419.9,2,  -999.00,9,-999.0000,-999.000,  1.0937,-999.000
      325023_1,  P14N,    47,  1,      3,      3,2,19930719,0832, 38.9932, 179.0033, 5559,   5521.7,   1.5955,  34.6861,2,  34.6854,2,   -999.0,9,    154.1,2,   163.31,3,    36.54,3,     0.00,3,     2.59,3, -999.000,5, -999.000,5, -999.000,9,-999.0000,9,  -999.00,9,   2328.6,2,   2421.3,2,  -999.00,9,-999.0000,-999.000,  1.0927,-999.000
      325023_1,  P14N,    47,  1,      1,      1,2,19930719,0832, 38.9932, 179.0033, 5559,   5635.1,   1.6111,  34.6852,2,  34.6870,2,   -999.0,9,   -999.0,9,   162.81,3,    36.55,3,     0.00,3,     2.58,3, -999.000,5, -999.000,5, -999.000,9,-999.0000,9,  -999.00,9,   2326.9,2,   2420.4,2,  -999.00,9,-999.0000,-999.000,  1.0931,-999.000
      325023_1,  P14N,    47,  1,      2,      2,2,19930719,0832, 38.9932, 179.0033, 5559,   5635.3,   1.6110,  34.6839,2,  34.6859,2,   -999.0,9,    153.9,2,   163.16,3,    36.54,3,     0.00,3,     2.59,3,    0.002,2,    0.010,2, -999.000,9,-999.0000,9,  -999.00,9,   2326.8,2,   2419.8,2,  -999.00,9,-999.0000,-999.000,  1.0930,-999.000