BOTTLE,20131125MIRCJHATS
EXPOCODE,SECT_ID,STNNBR,CASTNO,SAMPNO,BTLNBR,BTLNBR_FLAG_W,DATE,TIME,LATITUDE,LONGITUDE,DEPTH,CTDPRS,CTDTMP,CTDSAL,CTDSAL_FLAG_W,SALNTY,SALNTY_FLAG_W,CTDOXY,CTDOXY_FLAG_W,OXYGEN,OXYGEN_FLAG_W,SILCAT,SILCAT_FLAG_W,NITRAT,NITRAT_FLAG_W,NITRIT,NITRIT_FLAG_W,PHSPHT,PHSPHT_FLAG_W,CFC-11,CFC-11_FLAG_W,CFC-12,CFC-12_FLAG_W,TRITUM,TRITUM_FLAG_W,HELIUM,HELIUM_FLAG_W,DELHE3,DELHE3_FLAG_W,TCARBN,TCARBN_FLAG_W,ALKALI,ALKALI_FLAG_W,PH,PH_FLAG_W,HELIER,DELHER,THETA,TRITER
,,,,,,,,,,,,DBAR,ITS-90,PSS-78,,PSS-78,,UMOL/KG,,UMOL/KG,,UMOL/KG,,UMOL/KG,,UMOL/KG,,UMOL/KG,,PMOL/KG,,PMOL/KG,,TU,,NMOL/KG,,PERCNT,,UMOL/KG,,UMOL/KG,,25_DEG,,NMOL/KG,PERCNT,DEG C,TU
      325023_1,  P14N,    58,  2,     36,     36,2,19930722,0211, 33.4818, 178.9905, 2931,      1.2,  23.5289,  34.7669,2,  34.7677,2,   -999.0,9,    217.7,2,     3.58,2,     0.00,2,     0.00,2,     0.05,2, -999.000,5, -999.000,5, -999.000,9,-999.0000,9,  -999.00,9,   -999.0,9,   -999.0,9,  -999.00,9,-999.0000,-999.000, 23.5286,-999.000
      325023_1,  P14N,    58,  2,     35,     35,2,19930722,0211, 33.4818, 178.9905, 2931,     35.2,  21.2934,  34.7408,2,  34.7280,2,   -999.0,9,    227.4,2,     2.96,2,     0.00,2,     0.00,2,     0.04,2, -999.000,5, -999.000,5, -999.000,9,-999.0000,9,  -999.00,9,   -999.0,9,   -999.0,9,  -999.00,9,-999.0000,-999.000, 21.2866,-999.000
      325023_1,  P14N,    58,  2,     34,     34,2,19930722,0211, 33.4818, 178.9905, 2931,     66.1,  17.8888,  34.7926,2,  34.7890,2,   -999.0,9,    227.8,2,     3.89,2,     1.17,2,     0.16,2,     0.17,2, -999.000,5, -999.000,5, -999.000,9,-999.0000,9,  -999.00,9,   -999.0,9,   -999.0,9,  -999.00,9,-999.0000,-999.000, 17.8776,-999.000
      325023_1,  P14N,    58,  2,     33,     33,2,19930722,0211, 33.4818, 178.9905, 2931,     96.8,  17.0762,  34.7613,2,  34.7680,2,   -999.0,9,    216.4,2,     4.82,2,     3.81,2,     0.04,2,     0.31,2, -999.000,5, -999.000,5, -999.000,9,-999.0000,9,  -999.00,9,   -999.0,9,   -999.0,9,  -999.00,9,-999.0000,-999.000, 17.0602,-999.000
      325023_1,  P14N,    58,  2,     32,     32,2,19930722,0211, 33.4818, 178.9905, 2931,    126.4,  16.7950,  34.7710,2,  34.7662,2,   -999.0,9,    219.4,2,     4.78,2,     4.10,2,     0.02,2,     0.32,2, -999.000,5, -999.000,5, -999.000,9,-999.0000,9,  -999.00,9,   -999.0,9,   -999.0,9,  -999.00,9,-999.0000,-999.000, 16.7744,-999.000
      325023_1,  P14N,    58,  2,     31,     31,2,19930722,0211, 33.4818, 178.9905, 2931,    156.6,  16.4780,  34.7468,2,  34.7446,2,   -999.0,9,    223.2,2,     4.74,2,     3.84,2,     0.02,2,     0.32,2, -999.000,5, -999.000,5, -999.000,9,-999.0000,9,  -999.00,9,   -999.0,9,   -999.0,9,  -999.00,9,-999.0000,-999.000, 16.4528,-999.000
      325023_1,  P14N,    58,  2,     30,     30,2,19930722,0211, 33.4818, 178.9905, 2931,    206.3,  15.6645,  34.6684,2,  34.6561,2,   -999.0,9,    212.5,2,     7.23,2,     6.42,2,     0.01,2,     0.48,2, -999.000,5, -999.000,5, -999.000,9,-999.0000,9,  -999.00,9,   -999.0,9,   -999.0,9,  -999.00,9,-999.0000,-999.000, 15.6324,-999.000
      325023_1,  P14N,    58,  2,     29,     29,2,19930722,0211, 33.4818, 178.9905, 2931,    255.8,  14.0859,  34.5326,2,  34.5231,2,   -999.0,9,    211.5,2,    10.89,2,     8.82,2,     0.01,2,     0.66,2, -999.000,5, -999.000,5, -999.000,9,-999.0000,9,  -999.00,9,   -999.0,9,   -999.0,9,  -999.00,9,-999.0000,-999.000, 14.0489,-999.000
      325023_1,  P14N,    58,  2,     28,     28,2,19930722,0211, 33.4818, 178.9905, 2931,    305.0,  13.2408,  34.4651,2,  34.4594,2,   -999.0,9,    216.2,2,    12.60,2,     9.74,2,     0.01,2,     0.73,2, -999.000,5, -999.000,5, -999.000,9,-999.0000,9,  -999.00,9,   -999.0,9,   -999.0,9,  -999.00,9,-999.0000,-999.000, 13.1984,-999.000
      325023_1,  P14N,    58,  2,     27,     27,2,19930722,0211, 33.4818, 178.9905, 2931,    356.6,  12.1378,  34.3890,2,  34.3779,2,   -999.0,9,    217.1,2,    15.29,2,    11.44,2,     0.01,2,     0.85,2, -999.000,5, -999.000,5, -999.000,9,-999.0000,9,  -999.00,9,   -999.0,9,   -999.0,9,  -999.00,9,-999.0000,-999.000, 12.0909,-999.000
      325023_1,  P14N,    58,  2,     26,     26,2,19930722,0211, 33.4818, 178.9905, 2931,    407.4,  11.2777,  34.3210,2,  34.3152,2,   -999.0,9,    214.5,2,    18.36,2,    13.15,2,     0.01,2,     0.98,2, -999.000,5, -999.000,5, -999.000,9,-999.0000,9,  -999.00,9,   -999.0,9,   -999.0,9,  -999.00,9,-999.0000,-999.000, 11.2266,-999.000
      325023_1,  P14N,    58,  2,     25,     25,2,19930722,0211, 33.4818, 178.9905, 2931,    457.3,   9.7264,  34.1945,2,  34.1928,2,   -999.0,9,    200.1,2,    26.68,2,    17.43,2,     0.01,2,     1.28,2, -999.000,5, -999.000,5, -999.000,9,-999.0000,9,  -999.00,9,   -999.0,9,   -999.0,9,  -999.00,9,-999.0000,-999.000,  9.6740,-999.000
      325023_1,  P14N,    58,  2,     24,     24,2,19930722,0211, 33.4818, 178.9905, 2931,    507.7,   8.7415,  34.1308,2,  34.1223,2,   -999.0,9,    187.2,2,    33.65,2,    20.45,2,     0.00,2,     1.50,2, -999.000,5, -999.000,5, -999.000,9,-999.0000,9,  -999.00,9,   -999.0,9,   -999.0,9,  -999.00,9,-999.0000,-999.000,  8.6869,-999.000
      325023_1,  P14N,    58,  2,     23,     23,2,19930722,0211, 33.4818, 178.9905, 2931,    608.0,   6.3916,  34.0208,2,  34.0176,2,   -999.0,9,    149.2,2,    56.21,2,    28.04,2,     0.00,2,     2.07,2, -999.000,5, -999.000,5, -999.000,9,-999.0000,9,  -999.00,9,   -999.0,9,   -999.0,9,  -999.00,9,-999.0000,-999.000,  6.3367,-999.000
      325023_1,  P14N,    58,  2,     22,     22,2,19930722,0211, 33.4818, 178.9905, 2931,    706.5,   5.0179,  34.0509,2,  34.0481,2,   -999.0,9,    101.5,2,    80.04,2,    34.55,2,     0.00,2,     2.53,2, -999.000,5, -999.000,5, -999.000,9,-999.0000,9,  -999.00,9,   -999.0,9,   -999.0,9,  -999.00,9,-999.0000,-999.000,  4.9609,-999.000
      325023_1,  P14N,    58,  2,     21,     21,2,19930722,0211, 33.4818, 178.9905, 2931,    805.2,   4.4609,  34.1259,2,  34.1228,2,   -999.0,9,     72.3,2,    96.15,2,    37.85,2,     0.00,2,     2.76,2, -999.000,5, -999.000,5, -999.000,9,-999.0000,9,  -999.00,9,   -999.0,9,   -999.0,9,  -999.00,9,-999.0000,-999.000,  4.3988,-999.000
      325023_1,  P14N,    58,  2,     20,     20,2,19930722,0211, 33.4818, 178.9905, 2931,    903.5,   4.0380,  34.1989,2,  34.1955,2,   -999.0,9,     48.9,2,   109.39,2,    40.28,2,     0.00,2,     2.93,2, -999.000,5, -999.000,5, -999.000,9,-999.0000,9,  -999.00,9,   -999.0,9,   -999.0,9,  -999.00,9,-999.0000,-999.000,  3.9704,-999.000
      325023_1,  P14N,    58,  2,     19,     19,2,19930722,0211, 33.4818, 178.9905, 2931,   1000.3,   3.6793,  34.2730,2,  34.2700,2,   -999.0,9,     39.6,2,   121.14,2,    41.38,2,     0.00,2,     3.01,2, -999.000,5, -999.000,5, -999.000,9,-999.0000,9,  -999.00,9,   -999.0,9,   -999.0,9,  -999.00,9,-999.0000,-999.000,  3.6065,-999.000
      325023_1,  P14N,    58,  2,     18,     18,2,19930722,0211, 33.4818, 178.9905, 2931,   1098.3,   3.3753,  34.3304,2,  34.3268,2,   -999.0,9,     34.0,2,   130.57,2,    42.20,2,     0.00,2,     3.06,2, -999.000,5, -999.000,5, -999.000,9,-999.0000,9,  -999.00,9,   -999.0,9,   -999.0,9,  -999.00,9,-999.0000,-999.000,  3.2970,-999.000
      325023_1,  P14N,    58,  2,     17,     17,2,19930722,0211, 33.4818, 178.9905, 2931,   1195.2,   3.0991,  34.3837,2,  34.3799,2,   -999.0,9,     28.6,2,   139.67,2,    42.89,2,     0.00,2,     3.10,2, -999.000,5, -999.000,5, -999.000,9,-999.0000,9,  -999.00,9,   -999.0,9,   -999.0,9,  -999.00,9,-999.0000,-999.000,  3.0154,-999.000
      325023_1,  P14N,    58,  2,     16,     16,2,19930722,0211, 33.4818, 178.9905, 2931,   1293.3,   2.8922,  34.4221,2,  34.4189,2,   -999.0,9,     28.9,2,   145.96,2,    43.14,2,     0.00,2,     3.10,2, -999.000,5, -999.000,5, -999.000,9,-999.0000,9,  -999.00,9,   -999.0,9,   -999.0,9,  -999.00,9,-999.0000,-999.000,  2.8027,-999.000
      325023_1,  P14N,    58,  2,     15,     15,2,19930722,0211, 33.4818, 178.9905, 2931,   1389.7,   2.7015,  34.4558,2,  34.4526,2,   -999.0,9,     30.1,2,   152.51,2,    43.24,2,     0.00,2,     3.11,2, -999.000,5, -999.000,5, -999.000,9,-999.0000,9,  -999.00,9,   -999.0,9,   -999.0,9,  -999.00,9,-999.0000,-999.000,  2.6063,-999.000
      325023_1,  P14N,    58,  2,     14,     14,2,19930722,0211, 33.4818, 178.9905, 2931,   1487.2,   2.5805,  34.4797,2,  34.4812,2,   -999.0,9,     31.9,2,   155.55,2,    43.17,2,     0.00,2,     3.10,2, -999.000,5, -999.000,5, -999.000,9,-999.0000,9,  -999.00,9,   -999.0,9,   -999.0,9,  -999.00,9,-999.0000,-999.000,  2.4788,-999.000
      325023_1,  P14N,    58,  2,     13,     13,2,19930722,0211, 33.4818, 178.9905, 2931,   1584.3,   2.4148,  34.5113,2,  34.5143,2,   -999.0,9,     37.7,2,   159.86,2,    42.86,2,     0.00,2,     3.08,2, -999.000,5, -999.000,5, -999.000,9,-999.0000,9,  -999.00,9,   -999.0,9,   -999.0,9,  -999.00,9,-999.0000,-999.000,  2.3072,-999.000
      325023_1,  P14N,    58,  2,     12,     12,2,19930722,0211, 33.4818, 178.9905, 2931,   1682.8,   2.2947,  34.5343,2,  34.5373,2,   -999.0,9,     42.7,2,   162.72,2,    42.56,2,     0.01,2,     3.06,2, -999.000,5, -999.000,5, -999.000,9,-999.0000,9,  -999.00,9,   -999.0,9,   -999.0,9,  -999.00,9,-999.0000,-999.000,  2.1806,-999.000
      325023_1,  P14N,    58,  2,     11,     11,2,19930722,0211, 33.4818, 178.9905, 2931,   1780.5,   2.1690,  34.5565,2,  34.5592,2,   -999.0,9,     50.3,2,   164.96,2,    42.07,2,     0.00,2,     3.02,2, -999.000,5, -999.000,5, -999.000,9,-999.0000,9,  -999.00,9,   -999.0,9,   -999.0,9,  -999.00,9,-999.0000,-999.000,  2.0485,-999.000
      325023_1,  P14N,    58,  2,     10,     10,2,19930722,0211, 33.4818, 178.9905, 2931,   1878.8,   2.0664,  34.5755,2,  34.5780,2,   -999.0,9,     57.8,2,   166.35,2,    41.68,2,     0.00,2,     2.98,2, -999.000,5, -999.000,5, -999.000,9,-999.0000,9,  -999.00,9,   -999.0,9,   -999.0,9,  -999.00,9,-999.0000,-999.000,  1.9392,-999.000
      325023_1,  P14N,    58,  2,      9,      9,2,19930722,0211, 33.4818, 178.9905, 2931,   1977.3,   1.9547,  34.5929,2,  34.5953,2,   -999.0,9,     67.3,2,   167.54,2,    41.11,2,     0.00,2,     2.94,2, -999.000,5, -999.000,5, -999.000,9,-999.0000,9,  -999.00,9,   -999.0,9,   -999.0,9,  -999.00,9,-999.0000,-999.000,  1.8209,-999.000
      325023_1,  P14N,    58,  2,      8,      8,2,19930722,0211, 33.4818, 178.9905, 2931,   2074.1,   1.8867,  34.6034,2,  34.6066,2,   -999.0,9,     74.0,2,   168.31,2,    40.62,2,     0.00,2,     2.90,2, -999.000,5, -999.000,5, -999.000,9,-999.0000,9,  -999.00,9,   -999.0,9,   -999.0,9,  -999.00,9,-999.0000,-999.000,  1.7459,-999.000
      325023_1,  P14N,    58,  2,      7,      7,2,19930722,0211, 33.4818, 178.9905, 2931,   2173.4,   1.8287,  34.6132,2,  34.6168,2,   -999.0,9,     81.0,2,   168.23,2,    40.19,2,     0.00,2,     2.87,2, -999.000,5, -999.000,5, -999.000,9,-999.0000,9,  -999.00,9,   -999.0,9,   -999.0,9,  -999.00,9,-999.0000,-999.000,  1.6804,-999.000
      325023_1,  P14N,    58,  2,      6,      6,2,19930722,0211, 33.4818, 178.9905, 2931,   2272.3,   1.7730,  34.6221,2,  34.6251,2,   -999.0,9,     87.7,2,   167.93,2,    39.84,2,     0.00,2,     2.85,2, -999.000,5, -999.000,5, -999.000,9,-999.0000,9,  -999.00,9,   -999.0,9,   -999.0,9,  -999.00,9,-999.0000,-999.000,  1.6171,-999.000
      325023_1,  P14N,    58,  2,      5,      5,2,19930722,0211, 33.4818, 178.9905, 2931,   2372.0,   1.6898,  34.6345,2,  34.6307,2,   -999.0,9,     97.8,2,   167.01,2,    39.22,2,     0.00,2,     2.79,2, -999.000,5, -999.000,5, -999.000,9,-999.0000,9,  -999.00,9,   -999.0,9,   -999.0,9,  -999.00,9,-999.0000,-999.000,  1.5266,-999.000
      325023_1,  P14N,    58,  2,      4,      4,2,19930722,0211, 33.4818, 178.9905, 2931,   2471.3,   1.6311,  34.6431,2,  34.6398,2,   -999.0,9,    105.2,2,   166.08,2,    38.74,2,     0.00,2,     2.76,2, -999.000,5, -999.000,5, -999.000,9,-999.0000,9,  -999.00,9,   -999.0,9,   -999.0,9,  -999.00,9,-999.0000,-999.000,  1.4603,-999.000
      325023_1,  P14N,    58,  2,      3,      3,2,19930722,0211, 33.4818, 178.9905, 2931,   2570.3,   1.6093,  34.6475,2,  34.6454,2,   -999.0,9,    109.3,2,   165.16,2,    38.35,2,     0.00,2,     2.73,2, -999.000,5, -999.000,5, -999.000,9,-999.0000,9,  -999.00,9,   -999.0,9,   -999.0,9,  -999.00,9,-999.0000,-999.000,  1.4301,-999.000
      325023_1,  P14N,    58,  2,      2,      2,2,19930722,0211, 33.4818, 178.9905, 2931,   2774.0,   1.5626,  34.6552,2,  34.6539,2,   -999.0,9,    117.2,2,   163.81,2,    37.78,2,     0.00,2,     2.70,2,    0.002,2,   -0.002,2, -999.000,9,-999.0000,9,  -999.00,9,   -999.0,9,   -999.0,9,  -999.00,9,-999.0000,-999.000,  1.3658,-999.000
      325023_1,  P14N,    58,  2,      1,      1,2,19930722,0211, 33.4818, 178.9905, 2931,   2923.8,   1.5503,  34.6588,2,  34.6576,2,   -999.0,9,    120.5,2,   162.89,2,    37.57,2,     0.00,2,     2.68,2,   -0.002,2,    0.002,2, -999.000,9,-999.0000,9,  -999.00,9,   -999.0,9,   -999.0,9,  -999.00,9,-999.0000,-999.000,  1.3397,-999.000