BOTTLE,20131125MIRCJHATS
EXPOCODE,SECT_ID,STNNBR,CASTNO,SAMPNO,BTLNBR,BTLNBR_FLAG_W,DATE,TIME,LATITUDE,LONGITUDE,DEPTH,CTDPRS,CTDTMP,CTDSAL,CTDSAL_FLAG_W,SALNTY,SALNTY_FLAG_W,CTDOXY,CTDOXY_FLAG_W,OXYGEN,OXYGEN_FLAG_W,SILCAT,SILCAT_FLAG_W,NITRAT,NITRAT_FLAG_W,NITRIT,NITRIT_FLAG_W,PHSPHT,PHSPHT_FLAG_W,CFC-11,CFC-11_FLAG_W,CFC-12,CFC-12_FLAG_W,TRITUM,TRITUM_FLAG_W,HELIUM,HELIUM_FLAG_W,DELHE3,DELHE3_FLAG_W,TCARBN,TCARBN_FLAG_W,ALKALI,ALKALI_FLAG_W,PH,PH_FLAG_W,HELIER,DELHER,THETA,TRITER
,,,,,,,,,,,,DBAR,ITS-90,PSS-78,,PSS-78,,UMOL/KG,,UMOL/KG,,UMOL/KG,,UMOL/KG,,UMOL/KG,,UMOL/KG,,PMOL/KG,,PMOL/KG,,TU,,NMOL/KG,,PERCNT,,UMOL/KG,,UMOL/KG,,25_DEG,,NMOL/KG,PERCNT,DEG C,TU
      325023_1,  P14N,    33,  1,     36,     36,2,19930714,0930, 45.9963, 179.0042, 5734,      3.7,   8.8271,  32.8948,2,  32.8956,2,   -999.0,9,    300.3,2,    36.63,2,    16.13,2,     0.19,2,     1.56,2,    4.728,2,    2.283,2, -999.000,9,-999.0000,9,  -999.00,9,   2056.3,2,   -999.0,9,     7.82,2,-999.0000,-999.000,  8.8268,-999.000
      325023_1,  P14N,    33,  1,     35,     35,2,19930714,0930, 45.9963, 179.0042, 5734,     38.6,   6.3702,  32.9679,2,  32.9775,2,   -999.0,9,    312.4,2,    37.15,2,    17.15,2,     0.19,2,     1.65,2, -999.000,5, -999.000,5, -999.000,9,-999.0000,9,  -999.00,9,   2071.6,2,   -999.0,9,     7.80,2,-999.0000,-999.000,  6.3669,-999.000
      325023_1,  P14N,    33,  1,     34,     34,2,19930714,0930, 45.9963, 179.0042, 5734,     69.1,   3.9991,  33.0432,2,  33.0447,2,   -999.0,9,    319.3,2,    38.87,2,    19.64,2,     0.35,2,     1.76,2,    5.698,2,    2.713,2, -999.000,9,-999.0000,9,  -999.00,9,   2095.5,2,   -999.0,9,     7.74,2,-999.0000,-999.000,  3.9945,-999.000
      325023_1,  P14N,    33,  1,     33,     33,2,19930714,0930, 45.9963, 179.0042, 5734,     99.3,   3.7025,  33.0582,2,  33.0575,2,   -999.0,9,    315.9,2,    39.39,2,    20.45,2,     0.68,2,     1.78,2,    5.575,2,    2.679,2, -999.000,9,-999.0000,9,  -999.00,9,   -999.0,9,   -999.0,9,  -999.00,9,-999.0000,-999.000,  3.6961,-999.000
      325023_1,  P14N,    33,  1,     32,     32,2,19930714,0930, 45.9963, 179.0042, 5734,    129.4,   3.6885,  33.2263,2,  33.2332,2,   -999.0,9,    291.7,2,    42.10,2,    22.18,2,     0.01,2,     1.83,2,    5.205,2,    2.492,2, -999.000,9,-999.0000,9,  -999.00,9,   -999.0,9,   -999.0,9,  -999.00,9,-999.0000,-999.000,  3.6802,-999.000
      325023_1,  P14N,    33,  1,     31,     31,2,19930714,0930, 45.9963, 179.0042, 5734,    159.4,   3.9517,  33.6805,2,  33.6767,2,   -999.0,9,    186.4,2,    64.18,2,    30.46,2,     0.00,2,     2.31,2,    3.636,2,    1.665,2, -999.000,9,-999.0000,9,  -999.00,9,   -999.0,9,   -999.0,9,  -999.00,9,-999.0000,-999.000,  3.9410,-999.000
      325023_1,  P14N,    33,  1,     30,     30,2,19930714,0930, 45.9963, 179.0042, 5734,    210.1,   3.5219,  33.7461,2,  33.7454,2,   -999.0,9,    137.7,2,    80.32,2,    35.54,2,     0.00,2,     2.65,2,    2.870,2,    1.295,2, -999.000,9,-999.0000,9,  -999.00,9,   -999.0,9,   -999.0,9,  -999.00,9,-999.0000,-999.000,  3.5083,-999.000
      325023_1,  P14N,    33,  1,     29,     29,2,19930714,0930, 45.9963, 179.0042, 5734,    260.4,   3.4896,  33.8262,2,  33.8234,2,   -999.0,9,    105.9,2,    89.89,2,    38.06,2,     0.00,2,     2.81,2,    2.297,2,    1.024,2, -999.000,9,-999.0000,9,  -999.00,9,   -999.0,9,   -999.0,9,  -999.00,9,-999.0000,-999.000,  3.4727,-999.000
      325023_1,  P14N,    33,  1,     28,     28,2,19930714,0930, 45.9963, 179.0042, 5734,    310.8,   3.5531,  33.9041,2,  33.9006,2,   -999.0,9,     84.0,2,    97.46,2,    39.55,2,     0.00,2,     2.90,2,    1.820,2,    0.805,2, -999.000,9,-999.0000,9,  -999.00,9,   -999.0,9,   -999.0,9,  -999.00,9,-999.0000,-999.000,  3.5326,-999.000
      325023_1,  P14N,    33,  1,     27,     27,2,19930714,0930, 45.9963, 179.0042, 5734,    411.9,   3.5143,  34.0202,2,  34.0150,2,   -999.0,9,     53.7,2,   110.96,2,    41.86,2,     0.00,2,     3.05,2,    1.131,3,    0.478,3, -999.000,9,-999.0000,9,  -999.00,9,   -999.0,9,   -999.0,9,  -999.00,9,-999.0000,-999.000,  3.4869,-999.000
      325023_1,  P14N,    33,  1,     26,     26,2,19930714,0930, 45.9963, 179.0042, 5734,    512.9,   3.3842,  34.1272,2,  34.1236,2,   -999.0,9,     36.1,2,   122.92,2,    42.95,2,     0.00,2,     3.11,2,    0.631,6,    0.271,6, -999.000,9,-999.0000,9,  -999.00,9,   -999.0,9,   -999.0,9,  -999.00,9,-999.0000,-999.000,  3.3501,-999.000
      325023_1,  P14N,    33,  1,     25,     25,2,19930714,0930, 45.9963, 179.0042, 5734,    613.8,   3.2753,  34.2120,2,  34.2116,2,   -999.0,9,     27.6,2,   132.30,2,    43.41,2,     0.00,2,     3.13,2,    0.332,2,    0.142,2, -999.000,9,-999.0000,9,  -999.00,9,   -999.0,9,   -999.0,9,  -999.00,9,-999.0000,-999.000,  3.2345,-999.000
      325023_1,  P14N,    33,  1,     24,     24,2,19930714,0930, 45.9963, 179.0042, 5734,    714.5,   3.1074,  34.2722,2,-999.0000,9,   -999.0,9,   -999.0,9,  -999.00,9,  -999.00,9,  -999.00,9,  -999.00,9, -999.000,5, -999.000,5, -999.000,9,-999.0000,9,  -999.00,9,   -999.0,9,   -999.0,9,  -999.00,9,-999.0000,-999.000,  3.0601,-999.000
      325023_1,  P14N,    33,  1,     23,     23,2,19930714,0930, 45.9963, 179.0042, 5734,    815.9,   2.9572,  34.3253,2,  34.3244,2,   -999.0,9,     25.8,2,   146.35,2,    43.60,2,     0.00,2,     3.16,2,    0.140,2,    0.062,2, -999.000,9,-999.0000,9,  -999.00,9,   -999.0,9,   -999.0,9,  -999.00,9,-999.0000,-999.000,  2.9035,-999.000
      325023_1,  P14N,    33,  1,     22,     22,2,19930714,0930, 45.9963, 179.0042, 5734,    917.1,   2.8274,  34.3675,2,  34.3657,2,   -999.0,9,     27.4,2,   150.64,2,    43.51,2,     0.00,2,     3.15,2,    0.085,2,    0.031,2, -999.000,9,-999.0000,9,  -999.00,9,   -999.0,9,   -999.0,9,  -999.00,9,-999.0000,-999.000,  2.7672,-999.000
      325023_1,  P14N,    33,  1,     21,     21,2,19930714,0930, 45.9963, 179.0042, 5734,   1018.5,   2.6929,  34.4022,2,  34.4010,2,   -999.0,9,     28.5,2,   155.17,2,    43.56,2,     0.00,2,     3.14,2,    0.059,2,    0.027,2, -999.000,9,-999.0000,9,  -999.00,9,   -999.0,9,   -999.0,9,  -999.00,9,-999.0000,-999.000,  2.6263,-999.000
      325023_1,  P14N,    33,  1,     20,     20,2,19930714,0930, 45.9963, 179.0042, 5734,   1221.5,   2.4423,  34.4661,2,  34.4650,2,   -999.0,9,     34.0,2,   163.13,2,    43.33,2,     0.00,2,     3.12,2,    0.032,2,    0.014,2, -999.000,9,-999.0000,9,  -999.00,9,   -999.0,9,   -999.0,9,  -999.00,9,-999.0000,-999.000,  2.3626,-999.000
      325023_1,  P14N,    33,  1,     19,     19,2,19930714,0930, 45.9963, 179.0042, 5734,   1423.9,   2.2698,  34.5063,2,  34.5060,2,   -999.0,9,     40.4,2,   168.16,2,    43.06,2,     0.00,2,     3.10,2,    0.018,2,    0.005,2, -999.000,9,-999.0000,9,  -999.00,9,   -999.0,9,   -999.0,9,  -999.00,9,-999.0000,-999.000,  2.1765,-999.000
      325023_1,  P14N,    33,  1,     18,     18,2,19930714,0930, 45.9963, 179.0042, 5734,   1628.1,   2.1114,  34.5417,2,  34.5420,2,   -999.0,9,     47.3,2,   172.99,2,    42.75,2,     0.00,2,     3.05,2,    0.002,2,    0.004,2, -999.000,9,-999.0000,9,  -999.00,9,   -999.0,9,   -999.0,9,  -999.00,9,-999.0000,-999.000,  2.0040,-999.000
      325023_1,  P14N,    33,  1,     17,     17,2,19930714,0930, 45.9963, 179.0042, 5734,   1831.9,   1.9758,  34.5735,2,  34.5728,2,   -999.0,9,     60.4,2,   173.73,2,    42.02,2,     0.00,2,     3.00,2, -999.000,5, -999.000,5, -999.000,9,-999.0000,9,  -999.00,9,   -999.0,9,   -999.0,9,  -999.00,9,-999.0000,-999.000,  1.8538,-999.000
      325023_1,  P14N,    33,  1,     16,     16,2,19930714,0930, 45.9963, 179.0042, 5734,   2035.6,   1.8773,  34.5942,2,  34.5934,2,   -999.0,9,     70.5,2,   174.47,2,    41.34,2,     0.00,2,     2.95,2,   -0.006,2,   -0.003,3, -999.000,9,-999.0000,9,  -999.00,9,   -999.0,9,   -999.0,9,  -999.00,9,-999.0000,-999.000,  1.7399,-999.000
      325023_1,  P14N,    33,  1,     15,     15,2,19930714,0930, 45.9963, 179.0042, 5734,   2239.3,   1.7767,  34.6142,2,  34.6134,2,   -999.0,9,     82.2,2,   174.77,2,    40.71,2,     0.00,2,     2.90,2,   -0.006,2,   -0.001,2, -999.000,9,-999.0000,9,  -999.00,9,   -999.0,9,   -999.0,9,  -999.00,9,-999.0000,-999.000,  1.6236,-999.000
      325023_1,  P14N,    33,  1,     14,     14,2,19930714,0930, 45.9963, 179.0042, 5734,   2444.2,   1.6954,  34.6301,2,  34.6298,2,   -999.0,9,     94.4,2,   173.13,2,    39.85,2,     0.00,2,     2.84,2,   -0.002,2,    0.005,2, -999.000,9,-999.0000,9,  -999.00,9,   -999.0,9,   -999.0,9,  -999.00,9,-999.0000,-999.000,  1.5259,-999.000
      325023_1,  P14N,    33,  1,     13,     13,2,19930714,0930, 45.9963, 179.0042, 5734,   2648.3,   1.6360,  34.6416,2,  34.6422,2,   -999.0,9,    104.2,2,   171.27,2,    39.31,2,     0.00,2,     2.79,2,   -0.005,2,    0.000,3, -999.000,9,-999.0000,9,  -999.00,9,   -999.0,9,   -999.0,9,  -999.00,9,-999.0000,-999.000,  1.4492,-999.000
      325023_1,  P14N,    33,  1,     12,     12,2,19930714,0930, 45.9963, 179.0042, 5734,   2853.1,   1.5867,  34.6514,2,  34.6512,2,   -999.0,9,    113.1,2,   168.34,2,    38.68,2,     0.00,2,     2.74,2, -999.000,5, -999.000,5, -999.000,9,-999.0000,9,  -999.00,9,   -999.0,9,   -999.0,9,  -999.00,9,-999.0000,-999.000,  1.3820,-999.000
      325023_1,  P14N,    33,  1,     11,     11,2,19930714,0930, 45.9963, 179.0042, 5734,   3058.1,   1.5458,  34.6590,2,  34.6590,2,   -999.0,9,    121.5,2,   166.72,2,    38.14,2,     0.00,2,     2.71,2,   -0.007,2,    0.000,2, -999.000,9,-999.0000,9,  -999.00,9,   -999.0,9,   -999.0,9,  -999.00,9,-999.0000,-999.000,  1.3225,-999.000
      325023_1,  P14N,    33,  1,     10,     10,2,19930714,0930, 45.9963, 179.0042, 5734,   3365.2,   1.5028,  34.6682,2,  34.6682,2,   -999.0,9,    132.1,2,   164.02,2,    37.56,2,     0.00,2,     2.66,2,   -0.003,2,    0.005,2, -999.000,9,-999.0000,9,  -999.00,9,   -999.0,9,   -999.0,9,  -999.00,9,-999.0000,-999.000,  1.2503,-999.000
      325023_1,  P14N,    33,  1,      9,      9,2,19930714,0930, 45.9963, 179.0042, 5734,   3673.3,   1.4733,  34.6754,2,  34.6752,2,   -999.0,9,    140.6,2,   161.77,2,    36.98,2,     0.00,2,     2.61,2, -999.000,5, -999.000,5, -999.000,9,-999.0000,9,  -999.00,9,   -999.0,9,   -999.0,9,  -999.00,9,-999.0000,-999.000,  1.1900,-999.000
      325023_1,  P14N,    33,  1,      8,      8,2,19930714,0930, 45.9963, 179.0042, 5734,   3981.1,   1.4636,  34.6801,2,  34.6801,2,   -999.0,9,    147.2,2,   159.95,2,    36.53,2,     0.00,2,     2.58,2,   -0.006,2,    0.003,2, -999.000,9,-999.0000,9,  -999.00,9,   -999.0,9,   -999.0,9,  -999.00,9,-999.0000,-999.000,  1.1478,-999.000
      325023_1,  P14N,    33,  1,      7,      7,2,19930714,0930, 45.9963, 179.0042, 5734,   4290.1,   1.4701,  34.6834,2,  34.6844,2,   -999.0,9,    150.8,2,   159.82,2,    36.31,2,     0.00,2,     2.56,2,   -0.006,2,   -0.002,2, -999.000,9,-999.0000,9,  -999.00,9,   -999.0,9,   -999.0,9,  -999.00,9,-999.0000,-999.000,  1.1200,-999.000
      325023_1,  P14N,    33,  1,      6,      6,2,19930714,0930, 45.9963, 179.0042, 5734,   4598.8,   1.4920,  34.6851,2,  34.6858,2,   -999.0,9,    151.6,2,   163.11,2,    36.27,2,     0.00,2,     2.55,2, -999.000,5, -999.000,5, -999.000,9,-999.0000,9,  -999.00,9,   -999.0,9,   -999.0,9,  -999.00,9,-999.0000,-999.000,  1.1058,-999.000
      325023_1,  P14N,    33,  1,      5,      5,2,19930714,0930, 45.9963, 179.0042, 5734,   4908.1,   1.5237,  34.6863,2,  34.6832,3,   -999.0,9,    152.9,2,   162.98,3,    36.23,2,     0.00,2,     2.55,2,   -0.009,2,    0.003,2, -999.000,9,-999.0000,9,  -999.00,9,   -999.0,9,   -999.0,9,  -999.00,9,-999.0000,-999.000,  1.0998,-999.000
      325023_1,  P14N,    33,  1,      4,      4,2,19930714,0930, 45.9963, 179.0042, 5734,   5217.7,   1.5618,  34.6862,2,  34.6869,2,   -999.0,9,    152.6,2,   162.65,2,    36.28,2,     0.00,2,     2.53,2,   -0.002,2,    0.002,2, -999.000,9,-999.0000,9,  -999.00,9,   -999.0,9,   -999.0,9,  -999.00,9,-999.0000,-999.000,  1.0987,-999.000
      325023_1,  P14N,    33,  1,      3,      3,2,19930714,0930, 45.9963, 179.0042, 5734,   5527.5,   1.6015,  34.6861,2,  34.6869,2,   -999.0,9,    152.9,2,   163.38,2,    36.24,2,     0.00,2,     2.54,2,    0.003,2,    0.002,2, -999.000,9,-999.0000,9,  -999.00,9,   -999.0,9,   -999.0,9,  -999.00,9,-999.0000,-999.000,  1.0978,-999.000
      325023_1,  P14N,    33,  1,      1,      1,2,19930714,0930, 45.9963, 179.0042, 5734,   5848.0,   1.6410,  34.6863,2,  34.6880,2,   -999.0,9,    154.3,2,   161.22,2,    36.06,2,     0.00,2,     2.53,2, -999.000,5, -999.000,5, -999.000,9,-999.0000,9,  -999.00,9,   -999.0,9,   -999.0,9,  -999.00,9,-999.0000,-999.000,  1.0939,-999.000
      325023_1,  P14N,    33,  1,      2,      2,2,19930714,0930, 45.9963, 179.0042, 5734,   5848.2,   1.6409,  34.6864,2,  34.6869,2,   -999.0,9,    154.5,2,   161.13,2,    36.06,2,     0.00,2,     2.52,2,   -0.002,2,    0.012,2, -999.000,9,-999.0000,9,  -999.00,9,   -999.0,9,   -999.0,9,  -999.00,9,-999.0000,-999.000,  1.0938,-999.000