BOTTLE,20131125MIRCJHATS
EXPOCODE,SECT_ID,STNNBR,CASTNO,SAMPNO,BTLNBR,BTLNBR_FLAG_W,DATE,TIME,LATITUDE,LONGITUDE,DEPTH,CTDPRS,CTDTMP,CTDSAL,CTDSAL_FLAG_W,SALNTY,SALNTY_FLAG_W,CTDOXY,CTDOXY_FLAG_W,OXYGEN,OXYGEN_FLAG_W,SILCAT,SILCAT_FLAG_W,NITRAT,NITRAT_FLAG_W,NITRIT,NITRIT_FLAG_W,PHSPHT,PHSPHT_FLAG_W,CFC-11,CFC-11_FLAG_W,CFC-12,CFC-12_FLAG_W,TRITUM,TRITUM_FLAG_W,HELIUM,HELIUM_FLAG_W,DELHE3,DELHE3_FLAG_W,TCARBN,TCARBN_FLAG_W,ALKALI,ALKALI_FLAG_W,PH,PH_FLAG_W,HELIER,DELHER,THETA,TRITER
,,,,,,,,,,,,DBAR,ITS-90,PSS-78,,PSS-78,,UMOL/KG,,UMOL/KG,,UMOL/KG,,UMOL/KG,,UMOL/KG,,UMOL/KG,,PMOL/KG,,PMOL/KG,,TU,,NMOL/KG,,PERCNT,,UMOL/KG,,UMOL/KG,,25_DEG,,NMOL/KG,PERCNT,DEG C,TU
      325023_1,  P14N,   117,  1,     36,     36,2,19930806,0943,  6.4993, 178.9952, 5773,      3.0,  28.9780,  34.1891,2,  34.1935,2,   -999.0,9,    201.1,2,     2.40,2,     0.08,2,     0.00,2,     0.19,2,    1.599,2,    0.883,2, -999.000,9,-999.0000,9,  -999.00,9,   -999.0,9,   -999.0,9,  -999.00,9,-999.0000,-999.000, 28.9773,-999.000
      325023_1,  P14N,   117,  1,     35,     35,2,19930806,0943,  6.4993, 178.9952, 5773,     32.7,  28.8545,  34.1998,2,  34.2046,2,   -999.0,9,    197.1,2,     2.33,2,     0.04,2,     0.00,2,     0.19,2,    1.579,2,    0.869,2, -999.000,9,-999.0000,9,  -999.00,9,   -999.0,9,   -999.0,9,  -999.00,9,-999.0000,-999.000, 28.8466,-999.000
      325023_1,  P14N,   117,  1,     34,     34,2,19930806,0943,  6.4993, 178.9952, 5773,     62.7,  28.6513,  34.4545,2,  34.4475,2,   -999.0,9,    200.4,2,     2.05,2,     0.04,2,     0.00,2,     0.19,2,    1.634,2,    0.901,2, -999.000,9,-999.0000,9,  -999.00,9,   -999.0,9,   -999.0,9,  -999.00,9,-999.0000,-999.000, 28.6363,-999.000
      325023_1,  P14N,   117,  1,     33,     33,2,19930806,0943,  6.4993, 178.9952, 5773,     92.7,  24.9497,  34.6667,2,  34.6501,2,   -999.0,9,    182.5,2,     3.17,2,     0.52,2,     0.18,2,     0.30,2,    1.739,2,    0.934,2, -999.000,9,-999.0000,9,  -999.00,9,   -999.0,9,   -999.0,9,  -999.00,9,-999.0000,-999.000, 24.9297,-999.000
      325023_1,  P14N,   117,  1,     32,     32,2,19930806,0943,  6.4993, 178.9952, 5773,    120.8,  18.8392,  34.7586,2,  34.7549,2,   -999.0,9,    146.1,2,     8.66,2,     8.69,2,     0.07,2,     0.77,2,    1.733,2,    0.897,2, -999.000,9,-999.0000,9,  -999.00,9,   -999.0,9,   -999.0,9,  -999.00,9,-999.0000,-999.000, 18.8179,-999.000
      325023_1,  P14N,   117,  1,     31,     31,2,19930806,0943,  6.4993, 178.9952, 5773,    151.4,  14.5080,  34.6198,2,  34.6156,2,   -999.0,9,    108.6,2,    17.72,2,    18.33,2,     0.01,2,     1.39,2,    1.268,6,    0.635,6, -999.000,9,-999.0000,9,  -999.00,9,   -999.0,9,   -999.0,9,  -999.00,9,-999.0000,-999.000, 14.4856,-999.000
      325023_1,  P14N,   117,  1,     30,     30,2,19930806,0943,  6.4993, 178.9952, 5773,    201.9,  10.8761,  34.6380,2,  34.6287,2,   -999.0,9,     59.4,2,    31.33,2,    29.87,2,     0.00,2,     2.15,2,    0.389,2,    0.185,2, -999.000,9,-999.0000,9,  -999.00,9,   -999.0,9,   -999.0,9,  -999.00,9,-999.0000,-999.000, 10.8514,-999.000
      325023_1,  P14N,   117,  1,     29,     29,2,19930806,0943,  6.4993, 178.9952, 5773,    252.3,   9.8445,  34.6517,2,  34.6499,2,   -999.0,9,     65.4,2,    34.22,2,    31.47,2,     0.00,2,     2.24,2,    0.230,2,    0.112,2, -999.000,9,-999.0000,9,  -999.00,9,   -999.0,9,   -999.0,9,  -999.00,9,-999.0000,-999.000,  9.8156,-999.000
      325023_1,  P14N,   117,  1,     28,     28,2,19930806,0943,  6.4993, 178.9952, 5773,    302.5,   9.2312,  34.6472,2,  34.6462,2,   -999.0,9,     61.3,2,    36.32,2,    33.40,2,     0.00,2,     2.34,2,    0.130,2,    0.059,2, -999.000,9,-999.0000,9,  -999.00,9,   -999.0,9,   -999.0,9,  -999.00,9,-999.0000,-999.000,  9.1977,-999.000
      325023_1,  P14N,   117,  1,     27,     27,2,19930806,0943,  6.4993, 178.9952, 5773,    406.4,   8.5778,  34.6267,2,  34.6256,2,   -999.0,9,     53.7,2,    40.00,2,    35.52,2,     0.00,2,     2.49,2,    0.064,2,    0.025,2, -999.000,9,-999.0000,9,  -999.00,9,   -999.0,9,   -999.0,9,  -999.00,9,-999.0000,-999.000,  8.5346,-999.000
      325023_1,  P14N,   117,  1,     26,     26,2,19930806,0943,  6.4993, 178.9952, 5773,    506.0,   7.8942,  34.5988,2,  34.5977,2,   -999.0,9,     52.2,2,    45.06,2,    37.07,2,     0.00,2,     2.61,2,    0.034,2,    0.013,2, -999.000,9,-999.0000,9,  -999.00,9,   -999.0,9,   -999.0,9,  -999.00,9,-999.0000,-999.000,  7.8427,-999.000
      325023_1,  P14N,   117,  1,     25,     25,2,19930806,0943,  6.4993, 178.9952, 5773,    606.8,   7.0414,  34.5717,2,  34.5705,2,   -999.0,9,     35.0,2,    56.49,2,    40.45,2,     0.00,2,     2.88,2,    0.004,2,    0.004,2, -999.000,9,-999.0000,9,  -999.00,9,   -999.0,9,   -999.0,9,  -999.00,9,-999.0000,-999.000,  6.9830,-999.000
      325023_1,  P14N,   117,  1,     24,     24,2,19930806,0943,  6.4993, 178.9952, 5773,    707.4,   6.0623,  34.5504,2,  34.5491,2,   -999.0,9,     41.6,2,    67.92,2,    41.88,2,     0.00,2,     2.96,2,    0.003,2,   -0.002,2, -999.000,9,-999.0000,9,  -999.00,9,   -999.0,9,   -999.0,9,  -999.00,9,-999.0000,-999.000,  5.9990,-999.000
      325023_1,  P14N,   117,  1,     23,     23,2,19930806,0943,  6.4993, 178.9952, 5773,    807.4,   5.2835,  34.5441,2,  34.5424,2,   -999.0,9,     61.5,2,    78.78,2,    41.04,2,     0.00,2,     2.89,2,    0.000,2,    0.000,2, -999.000,9,-999.0000,9,  -999.00,9,   -999.0,9,   -999.0,9,  -999.00,9,-999.0000,-999.000,  5.2156,-999.000
      325023_1,  P14N,   117,  1,     22,     22,2,19930806,0943,  6.4993, 178.9952, 5773,    908.2,   4.8604,  34.5489,2,  34.5471,2,   -999.0,9,     67.7,2,    86.26,2,    40.91,2,     0.00,2,     2.90,2,    0.003,2,   -0.003,2, -999.000,9,-999.0000,9,  -999.00,9,   -999.0,9,   -999.0,9,  -999.00,9,-999.0000,-999.000,  4.7863,-999.000
      325023_1,  P14N,   117,  1,     21,     21,2,19930806,0943,  6.4993, 178.9952, 5773,   1009.2,   4.4374,  34.5580,2,  34.5569,2,   -999.0,9,     67.0,2,    95.37,2,    41.63,2,     0.00,2,     2.94,2,   -0.001,2,    0.005,2, -999.000,9,-999.0000,9,  -999.00,9,   -999.0,9,   -999.0,9,  -999.00,9,-999.0000,-999.000,  4.3575,-999.000
      325023_1,  P14N,   117,  1,     20,     20,2,19930806,0943,  6.4993, 178.9952, 5773,   1210.5,   3.8110,  34.5755,2,  34.5738,2,   -999.0,9,     73.4,2,   108.76,2,    41.60,2,     0.00,2,     2.93,2, -999.000,5, -999.000,5, -999.000,9,-999.0000,9,  -999.00,9,   -999.0,9,   -999.0,9,  -999.00,9,-999.0000,-999.000,  3.7191,-999.000
      325023_1,  P14N,   117,  1,     19,     19,2,19930806,0943,  6.4993, 178.9952, 5773,   1412.0,   3.2897,  34.5910,2,  34.5897,2,   -999.0,9,     80.2,2,   120.82,2,    41.28,2,     0.00,2,     2.91,2, -999.000,5, -999.000,5, -999.000,9,-999.0000,9,  -999.00,9,   -999.0,9,   -999.0,9,  -999.00,9,-999.0000,-999.000,  3.1860,-999.000
      325023_1,  P14N,   117,  1,     18,     18,2,19930806,0943,  6.4993, 178.9952, 5773,   1615.9,   2.7628,  34.6117,2,  34.6103,2,   -999.0,9,     89.5,2,   131.96,2,    40.87,2,     0.00,2,     2.86,2, -999.000,5, -999.000,5, -999.000,9,-999.0000,9,  -999.00,9,   -999.0,9,   -999.0,9,  -999.00,9,-999.0000,-999.000,  2.6480,-999.000
      325023_1,  P14N,   117,  1,     17,     17,2,19930806,0943,  6.4993, 178.9952, 5773,   1820.4,   2.4193,  34.6264,2,  34.6250,2,   -999.0,9,     97.6,2,   139.67,2,    40.32,2,     0.00,2,     2.81,2, -999.000,5, -999.000,5, -999.000,9,-999.0000,9,  -999.00,9,   -999.0,9,   -999.0,9,  -999.00,9,-999.0000,-999.000,  2.2919,-999.000
      325023_1,  P14N,   117,  1,     16,     16,2,19930806,0943,  6.4993, 178.9952, 5773,   2023.3,   2.2064,  34.6398,2,  34.6383,2,   -999.0,9,    101.9,2,   144.93,2,    39.96,2,     0.00,2,     2.79,2, -999.000,5, -999.000,5, -999.000,9,-999.0000,9,  -999.00,9,   -999.0,9,   -999.0,9,  -999.00,9,-999.0000,-999.000,  2.0648,-999.000
      325023_1,  P14N,   117,  1,     15,     15,2,19930806,0943,  6.4993, 178.9952, 5773,   2226.6,   2.0013,  34.6523,2,  34.6515,2,   -999.0,9,    109.1,2,   149.17,2,    39.51,2,     0.00,2,     2.74,2, -999.000,5, -999.000,5, -999.000,9,-999.0000,9,  -999.00,9,   -999.0,9,   -999.0,9,  -999.00,9,-999.0000,-999.000,  1.8454,-999.000
      325023_1,  P14N,   117,  1,     14,     14,2,19930806,0943,  6.4993, 178.9952, 5773,   2430.1,   1.9070,  34.6585,2,  34.6580,2,   -999.0,9,    113.8,2,   151.12,2,    39.19,2,     0.00,2,     2.72,2, -999.000,5, -999.000,5, -999.000,9,-999.0000,9,  -999.00,9,   -999.0,9,   -999.0,9,  -999.00,9,-999.0000,-999.000,  1.7347,-999.000
      325023_1,  P14N,   117,  1,     13,     13,2,19930806,0943,  6.4993, 178.9952, 5773,   2633.3,   1.8034,  34.6638,2,  34.6635,2,   -999.0,9,    119.8,2,   152.44,2,    38.88,2,     0.00,2,     2.69,2, -999.000,5, -999.000,5, -999.000,9,-999.0000,9,  -999.00,9,   -999.0,9,   -999.0,9,  -999.00,9,-999.0000,-999.000,  1.6146,-999.000
      325023_1,  P14N,   117,  1,     12,     12,2,19930806,0943,  6.4993, 178.9952, 5773,   2837.0,   1.7301,  34.6676,2,  34.6672,2,   -999.0,9,    124.9,2,   152.29,2,    38.39,2,     0.00,2,     2.66,2, -999.000,5, -999.000,5, -999.000,9,-999.0000,9,  -999.00,9,   -999.0,9,   -999.0,9,  -999.00,9,-999.0000,-999.000,  1.5239,-999.000
      325023_1,  P14N,   117,  1,     11,     11,2,19930806,0943,  6.4993, 178.9952, 5773,   3041.2,   1.6578,  34.6716,2,  34.6703,2,   -999.0,9,    132.3,2,   151.31,2,    37.80,2,     0.00,2,     2.61,2,   -0.002,2,    0.003,2, -999.000,9,-999.0000,9,  -999.00,9,   -999.0,9,   -999.0,9,  -999.00,9,-999.0000,-999.000,  1.4336,-999.000
      325023_1,  P14N,   117,  1,     10,     10,2,19930806,0943,  6.4993, 178.9952, 5773,   3344.9,   1.5575,  34.6781,2,  34.6774,2,   -999.0,9,    141.8,2,   149.48,2,    37.31,2,     0.00,2,     2.55,2, -999.000,5, -999.000,5, -999.000,9,-999.0000,9,  -999.00,9,   -999.0,9,   -999.0,9,  -999.00,9,-999.0000,-999.000,  1.3057,-999.000
      325023_1,  P14N,   117,  1,      9,      9,2,19930806,0943,  6.4993, 178.9952, 5773,   3652.2,   1.4561,  34.6851,2,  34.6845,2,   -999.0,9,    153.4,2,   146.21,2,    36.50,2,     0.00,2,     2.50,2, -999.000,5, -999.000,5, -999.000,9,-999.0000,9,  -999.00,9,   -999.0,9,   -999.0,9,  -999.00,9,-999.0000,-999.000,  1.1754,-999.000
      325023_1,  P14N,   117,  1,      8,      8,2,19930806,0943,  6.4993, 178.9952, 5773,   3958.9,   1.3585,  34.6917,2,  34.6911,2,   -999.0,9,    166.2,2,   141.08,2,    35.42,2,     0.00,2,     2.43,2, -999.000,5, -999.000,5, -999.000,9,-999.0000,9,  -999.00,9,   -999.0,9,   -999.0,9,  -999.00,9,-999.0000,-999.000,  1.0480,-999.000
      325023_1,  P14N,   117,  1,      7,      7,2,19930806,0943,  6.4993, 178.9952, 5773,   4265.8,   1.2881,  34.6975,2,  34.6972,2,   -999.0,9,    178.0,2,   134.96,2,    34.53,2,     0.00,2,     2.37,2, -999.000,5, -999.000,5, -999.000,9,-999.0000,9,  -999.00,9,   -999.0,9,   -999.0,9,  -999.00,9,-999.0000,-999.000,  0.9461,-999.000
      325023_1,  P14N,   117,  1,      6,      6,2,19930806,0943,  6.4993, 178.9952, 5773,   4574.1,   1.2709,  34.7005,2,  34.7005,2,   -999.0,9,    184.6,2,   131.33,2,    33.96,2,     0.00,2,     2.34,2, -999.000,5, -999.000,5, -999.000,9,-999.0000,9,  -999.00,9,   -999.0,9,   -999.0,9,  -999.00,9,-999.0000,-999.000,  0.8944,-999.000
      325023_1,  P14N,   117,  1,      5,      5,2,19930806,0943,  6.4993, 178.9952, 5773,   4880.7,   1.2813,  34.7019,2,  34.7013,2,   -999.0,9,    187.4,2,   129.56,2,    33.79,2,     0.00,2,     2.33,2, -999.000,5, -999.000,5, -999.000,9,-999.0000,9,  -999.00,9,   -999.0,9,   -999.0,9,  -999.00,9,-999.0000,-999.000,  0.8686,-999.000
      325023_1,  P14N,   117,  1,      4,      4,2,19930806,0943,  6.4993, 178.9952, 5773,   5189.4,   1.2987,  34.7030,2,  34.7027,2,   -999.0,9,    189.7,2,   127.99,2,    33.58,2,     0.00,2,     2.31,2, -999.000,5, -999.000,5, -999.000,9,-999.0000,9,  -999.00,9,   -999.0,9,   -999.0,9,  -999.00,9,-999.0000,-999.000,  0.8482,-999.000
      325023_1,  P14N,   117,  1,      3,      3,2,19930806,0943,  6.4993, 178.9952, 5773,   5497.9,   1.3282,  34.7033,2,  34.7029,2,   -999.0,9,    191.3,2,   128.26,2,    33.54,2,     0.00,2,     2.29,2, -999.000,5, -999.000,5, -999.000,9,-999.0000,9,  -999.00,9,   -999.0,9,   -999.0,9,  -999.00,9,-999.0000,-999.000,  0.8381,-999.000
      325023_1,  P14N,   117,  1,      2,      2,2,19930806,0943,  6.4993, 178.9952, 5773,   5808.6,   1.3640,  34.7039,2,  34.7035,2,   -999.0,9,    191.8,2,   126.50,2,    33.51,2,     0.00,2,     2.29,2, -999.000,5, -999.000,5, -999.000,9,-999.0000,9,  -999.00,9,   -999.0,9,   -999.0,9,  -999.00,9,-999.0000,-999.000,  0.8325,-999.000
      325023_1,  P14N,   117,  1,      1,      1,2,19930806,0943,  6.4993, 178.9952, 5773,   5862.5,   1.3703,  34.7040,2,  34.7045,2,   -999.0,9,    190.4,2,   126.57,2,    33.57,2,     0.00,2,     2.29,2,   -0.002,2,   -0.001,2, -999.000,9,-999.0000,9,  -999.00,9,   -999.0,9,   -999.0,9,  -999.00,9,-999.0000,-999.000,  0.8315,-999.000