BOTTLE,20130510IOSDFOJC
EXPOCODE,SECT_ID,STNNBR,CASTNO,SAMPNO,BTLNBR,BTLNBR_FLAG_W,DATE,TIME,LATITUDE,LONGITUDE,DEPTH,CTDPRS,CTDTMP,CTDSAL,CTDSAL_FLAG_W,SALNTY,SALNTY_FLAG_W,OXYGEN,OXYGEN_FLAG_W,SILCAT,SILCAT_FLAG_W,NITRAT,NITRAT_FLAG_W,NITRIT,NITRIT_FLAG_W,PHSPHT,PHSPHT_FLAG_W,CFC-11,CFC-11_FLAG_W,CFC-12,CFC-12_FLAG_W,DELC14,DELC14_FLAG_W,DELC13,DELC13_FLAG_W,O18O16,O18O16_FLAG_W,TCARBN,TCARBN_FLAG_W,ALKALI,ALKALI_FLAG_W,THETA
,,,,,,,,,,,,DBAR,ITS-90,PSS-78,,PSS-78,,UMOL/KG,,UMOL/KG,,UMOL/KG,,UMOL/KG,,UMOL/KG,,PMOL/KG,,PMOL/KG,,/MILLE,,/MILLE,,/MILLE,,UMOL/KG,,UMOL/KG,,DEG C
    18DD9403_1,  P15N,   043,  2,    877,     23,2,19940930,0511, 34.5102,-165.0002, -999,     10.5,  23.4968,  34.5502,2,  34.5526,2,    232.5,2,     4.50,2,     0.00,2,     0.00,2,     0.13,2,    3.011,3,    1.270,3,   -999.0,9,  -999.00,9,  -999.00,9,   -999.0,9,   -999.0,9, 23.4946
    18DD9403_1,  P15N,   043,  2,    878,     22,2,19940930,0511, 34.5102,-165.0002, -999,     50.1,  16.7716,  34.5025,2,  34.4672,2,    289.8,2,     4.90,2,     0.00,2,     0.00,2,     0.13,2,    2.097,3,    1.319,3,   -999.0,9,  -999.00,9,  -999.00,9,   -999.0,9,   -999.0,9, 16.7635
    18DD9403_1,  P15N,   043,  2,    879,     21,2,19940930,0511, 34.5102,-165.0002, -999,    100.6,  13.8725,  34.3865,2,  34.4429,2,    236.3,2,     8.00,2,     5.80,2,     0.09,2,     0.49,2,    2.931,3,    1.249,3,   -999.0,9,  -999.00,9,  -999.00,9,   -999.0,9,   -999.0,9, 13.8582
    18DD9403_1,  P15N,   043,  2,    880,     20,2,19940930,0511, 34.5102,-165.0002, -999,    200.5,  12.0454,  34.2921,2,  34.3185,2,    238.8,2,    11.00,2,     9.20,2,     0.00,2,     0.74,2,    3.362,3,    1.333,3,   -999.0,9,  -999.00,9,  -999.00,9,   -999.0,9,   -999.0,9, 12.0194
    18DD9403_1,  P15N,   043,  2,    881,     19,2,19940930,0511, 34.5102,-165.0002, -999,    300.8,  10.5887,  34.2535,2,  34.2258,2,    234.5,2,    15.70,2,    12.60,2,     0.00,2,     0.97,2,    2.964,3,    1.349,3,   -999.0,9,  -999.00,9,  -999.00,9,   -999.0,9,   -999.0,9, 10.5527
    18DD9403_1,  P15N,   043,  2,    882,     18,2,19940930,0511, 34.5102,-165.0002, -999,    398.7,   8.9780,  34.1349,2,  34.1048,2,    217.3,3,    24.40,2,    17.40,2,     0.00,2,     1.31,2,    2.889,3,    1.345,3,   -999.0,9,  -999.00,9,  -999.00,9,   -999.0,9,   -999.0,9,  8.9349
    18DD9403_1,  P15N,   043,  2,    883,     17,2,19940930,0511, 34.5102,-165.0002, -999,    603.0,   5.6124,  33.9876,2,  33.9900,2,    125.7,2,    61.10,2,    31.80,2,     0.00,2,     2.38,2,    3.457,3,    1.278,3,   -999.0,9,  -999.00,9,  -999.00,9,   -999.0,9,   -999.0,9,  5.5616
    18DD9403_1,  P15N,   043,  2,    884,     16,2,19940930,0511, 34.5102,-165.0002, -999,    799.6,   4.2176,  34.1368,2,  34.1383,2,     53.9,2,    98.00,2,    39.80,2,     0.00,2,     2.90,2,    1.291,3,    0.471,3,   -999.0,9,  -999.00,9,  -999.00,9,   -999.0,9,   -999.0,9,  4.1574
    18DD9403_1,  P15N,   043,  2,    885,     15,2,19940930,0511, 34.5102,-165.0002, -999,   1004.1,   3.4583,  34.2962,2,  34.2792,2,     17.9,2,   123.50,2,    43.60,2,     0.00,2,     3.16,2,    0.389,3,    0.000,3,   -999.0,9,  -999.00,9,  -999.00,9,   -999.0,9,   -999.0,9,  3.3869
    18DD9403_1,  P15N,   043,  2,    886,     14,2,19940930,0511, 34.5102,-165.0002, -999,   1245.9,   2.9418,  34.4265,2,  34.4200,2,     12.6,2,   142.10,2,    44.60,2,     0.00,2,     3.22,2,    0.022,3,    0.000,3,   -999.0,9,  -999.00,9,  -999.00,9,   -999.0,9,   -999.0,9,  2.8555
    18DD9403_1,  P15N,   043,  2,    887,     13,2,19940930,0511, 34.5102,-165.0002, -999,   1507.0,   2.5436,  34.5120,2,  34.5102,2,     27.4,2,   153.60,2,    44.40,2,     0.00,2,     3.16,2,    0.009,3,    0.000,3,   -999.0,9,  -999.00,9,  -999.00,9,   -999.0,9,   -999.0,9,  2.4406
    18DD9403_1,  P15N,   043,  2,    888,     12,2,19940930,0511, 34.5102,-165.0002, -999,   1750.0,   2.2542,  34.5680,2,  34.5668,2,     47.5,2,   159.70,2,    43.10,2,     0.00,2,     3.07,2,    0.000,3,    0.000,3,   -999.0,9,  -999.00,9,  -999.00,9,   -999.0,9,   -999.0,9,  2.1350
    18DD9403_1,  P15N,   043,  2,    889,     11,2,19940930,0511, 34.5102,-165.0002, -999,   1993.3,   2.0012,  34.6016,2,  34.6004,2,     63.9,2,   164.90,2,    42.10,2,     0.00,2,     3.04,2, -999.000,9, -999.000,9,   -999.0,9,  -999.00,9,  -999.00,9,   -999.0,9,   -999.0,9,  1.8655
    18DD9403_1,  P15N,   043,  2,    890,     10,2,19940930,0511, 34.5102,-165.0002, -999,   2250.7,   1.8095,  34.6262,2,  34.6246,2,     79.8,2,   167.50,2,    41.00,2,     0.00,2,     2.91,2, -999.000,9, -999.000,9,   -999.0,9,  -999.00,9,  -999.00,9,   -999.0,9,   -999.0,9,  1.6548
    18DD9403_1,  P15N,   043,  2,    891,      9,2,19940930,0511, 34.5102,-165.0002, -999,   2500.0,   1.6858,  34.6424,2,  34.6405,2,     94.6,2,   166.50,2,    40.10,2,     0.00,2,     2.83,2, -999.000,9, -999.000,9,   -999.0,9,  -999.00,9,  -999.00,9,   -999.0,9,   -999.0,9,  1.5114
    18DD9403_1,  P15N,   043,  2,    892,      8,2,19940930,0511, 34.5102,-165.0002, -999,   2749.3,   1.6015,  34.6539,2,  34.6534,2,    109.5,2,   163.50,2,    39.40,2,     0.00,2,     2.75,2, -999.000,9, -999.000,9,   -999.0,9,  -999.00,9,  -999.00,9,   -999.0,9,   -999.0,9,  1.4062
    18DD9403_1,  P15N,   043,  2,    893,      7,2,19940930,0511, 34.5102,-165.0002, -999,   2999.2,   1.5435,  34.6629,2,  34.6628,2,    119.6,2,   161.30,2,    38.80,2,     0.00,2,     2.69,2, -999.000,9, -999.000,9,   -999.0,9,  -999.00,9,  -999.00,9,   -999.0,9,   -999.0,9,  1.3259
    18DD9403_1,  P15N,   043,  2,    894,      6,2,19940930,0511, 34.5102,-165.0002, -999,   3500.3,   1.4884,  34.6744,2,  34.6740,2,    135.8,2,   157.80,2,    37.40,2,     0.00,2,     2.61,2, -999.000,9, -999.000,9,   -999.0,9,  -999.00,9,  -999.00,9,   -999.0,9,   -999.0,9,  1.2226
    18DD9403_1,  P15N,   043,  2,    895,      5,2,19940930,0511, 34.5102,-165.0002, -999,   3999.9,   1.4773,  34.6810,2,  34.6813,2,    144.9,2,   154.20,2,    36.90,2,     0.00,2,     2.59,2, -999.000,9, -999.000,9,   -999.0,9,  -999.00,9,  -999.00,9,   -999.0,9,   -999.0,9,  1.1591
    18DD9403_1,  P15N,   043,  2,    896,      4,2,19940930,0511, 34.5102,-165.0002, -999,   4500.2,   1.4941,  34.6849,2,  34.6850,2,    150.8,2,   151.20,2,    36.40,2,     0.00,2,     2.54,2, -999.000,9, -999.000,9,   -999.0,9,  -999.00,9,  -999.00,9,   -999.0,9,   -999.0,9,  1.1193
    18DD9403_1,  P15N,   043,  2,    897,      3,2,19940930,0511, 34.5102,-165.0002, -999,   5002.1,   1.5281,  34.6878,2,  34.6882,2,    155.3,2,   148.40,2,    36.20,2,     0.00,2,     2.51,2, -999.000,9, -999.000,9,   -999.0,9,  -999.00,9,  -999.00,9,   -999.0,9,   -999.0,9,  1.0927
    18DD9403_1,  P15N,   043,  2,    898,      2,2,19940930,0511, 34.5102,-165.0002, -999,   5499.7,   1.5761,  34.6897,2,  34.6896,2,    162.1,2,   145.30,2,    35.90,2,     0.00,2,     2.49,2, -999.000,9, -999.000,9,   -999.0,9,  -999.00,9,  -999.00,9,   -999.0,9,   -999.0,9,  1.0768
    18DD9403_1,  P15N,   043,  2,    899,      1,2,19940930,0511, 34.5102,-165.0002, -999,   5819.3,   1.6148,  34.6905,2,  34.6904,2,    160.6,2,   144.30,2,    36.00,2,     0.00,2,     2.49,2, -999.000,9, -999.000,9,   -999.0,9,  -999.00,9,  -999.00,9,   -999.0,9,   -999.0,9,  1.0725
    18DD9403_1,  P15N,   044,  1,    900,    S11,2,19940930,1121, 34.0013,-164.9938, -999,      5.6,  24.0412,  34.8163,2,  34.8304,2,    221.3,3,     4.10,2,     0.00,2,     0.00,2,     0.07,2,    2.942,3,    1.163,3,   -999.0,9,  -999.00,9,  -999.00,9,   1982.1,2,   2294.2,2, 24.0400
    18DD9403_1,  P15N,   044,  1,    901,    S10,2,19940930,1121, 34.0013,-164.9938, -999,     43.7,  17.6838,  34.6618,2,  34.6668,2,    270.0,4,     4.80,2,     0.00,2,     0.00,2,     0.09,2,    2.007,3,    1.474,3,   -999.0,9,  -999.00,9,  -999.00,9,   1990.2,2,   2292.0,2, 17.6764
    18DD9403_1,  P15N,   044,  1,    902,     S9,2,19940930,1121, 34.0013,-164.9938, -999,     46.0,  17.6848,  34.6641,2,  34.6666,2,    269.7,3,     5.20,2,     0.00,2,     0.00,2,     0.09,2,    1.921,3,    1.431,3,   -999.0,9,  -999.00,9,  -999.00,9,   1990.3,2,   2287.2,2, 17.6770
    18DD9403_1,  P15N,   044,  1,    903,     S8,2,19940930,1121, 34.0013,-164.9938, -999,     95.9,  15.2453,  34.5275,2,  34.5609,2,    245.0,3,     5.60,2,     1.30,2,     0.09,2,     0.32,2,    3.567,3,    1.520,3,   -999.0,9,  -999.00,9,  -999.00,9,   2017.3,2,   2281.0,2, 15.2307
    18DD9403_1,  P15N,   044,  1,    904,     S7,2,19940930,1121, 34.0013,-164.9938, -999,    146.4,  13.8107,  34.4314,2,  34.4348,2,    229.6,3,     7.60,2,     6.00,2,     0.00,2,     0.54,2,    3.688,3,    1.465,3,   -999.0,9,  -999.00,9,  -999.00,9,   2038.5,2,   2275.4,2, 13.7899
    18DD9403_1,  P15N,   044,  1,    905,     S6,2,19940930,1121, 34.0013,-164.9938, -999,    196.1,  12.8069,  34.3689,2,  34.3701,2,    226.5,3,     9.90,2,     8.50,2,     0.00,2,     0.65,2,    3.282,3,    1.543,3,   -999.0,9,  -999.00,9,  -999.00,9,   2056.5,2,   2280.8,2, 12.7804
    18DD9403_1,  P15N,   044,  1,    906,     S5,2,19940930,1121, 34.0013,-164.9938, -999,    245.9,  11.9601,  34.3083,2,  34.3186,2,    229.4,3,    12.10,2,    10.20,2,     0.00,2,     0.76,2,    3.226,3,    1.557,3,   -999.0,9,  -999.00,9,  -999.00,9,   2065.1,2,   2273.3,2, 11.9282
    18DD9403_1,  P15N,   044,  1,    908,     S3,2,19940930,1121, 34.0013,-164.9938, -999,    295.4,   9.5017,  34.2474,2,  34.2572,2,    224.9,2,    14.80,2,    12.00,2,     0.00,2,     0.92,2,    3.150,3,    1.455,3,   -999.0,9,  -999.00,9,  -999.00,9,   2082.2,2,   2281.5,2,  9.4686
    18DD9403_1,  P15N,   044,  1,    907,     S4,2,19940930,1121, 34.0013,-164.9938, -999,    295.5,  11.1013,  34.2473,2,  34.2566,2,    225.7,3,    15.00,2,    12.40,2,     0.00,2,     0.91,2,    2.998,3,    1.575,3,   -999.0,9,  -999.00,9,  -999.00,9,   2077.5,2,   2276.7,2, 11.0648
    18DD9403_1,  P15N,   044,  1,    909,     S2,2,19940930,1121, 34.0013,-164.9938, -999,    496.4,   7.6032,  34.0435,2,  34.0485,2,    176.5,3,    38.00,2,    23.80,2,     0.00,2,     1.78,2,    2.940,3,    1.489,3,   -999.0,9,  -999.00,9,  -999.00,9,   2158.9,2,   2283.1,2,  7.5542
    18DD9403_1,  P15N,   044,  1,    910,     S1,2,19940930,1121, 34.0013,-164.9938, -999,    593.8,   6.1225,  34.0004,2,  33.9983,2,    141.5,3,    55.10,2,    29.70,2,     0.00,2,     2.16,2,    2.076,3,    1.172,3,   -999.0,9,  -999.00,9,  -999.00,9,   2207.6,2,   2297.8,2,  6.0701
    18DD9403_1,  P15N,   044,  5,    911,     23,2,19940930,1333, 33.9920,-164.9875, -999,    611.0,   6.2241,  33.9987,2,  34.0002,2,    148.7,3,    53.50,2,    29.10,2,     0.00,2,     2.13,2,    1.728,3,    0.767,3,   -999.0,9,  -999.00,9,  -999.00,9,   2203.5,2,   2301.0,2,  6.1697
    18DD9403_1,  P15N,   044,  5,    912,     22,2,19940930,1333, 33.9920,-164.9875, -999,    795.1,   4.4574,  34.1050,2,  34.0900,2,     59.8,3,    90.80,2,    39.70,2,     0.00,2,     2.84,2,    1.699,3,    0.754,3,   -999.0,9,  -999.00,9,  -999.00,9,   2295.6,2,   2322.6,2,  4.3962
    18DD9403_1,  P15N,   044,  5,    913,     21,2,19940930,1333, 33.9920,-164.9875, -999,    989.0,   3.5615,  34.2681,2,  34.2655,2,     17.1,3,   121.10,2,    44.10,2,     0.00,2,     3.19,2,    0.321,3,    0.148,3,   -999.0,9,  -999.00,9,  -999.00,9,   2357.4,2,   2361.0,2,  3.4906
    18DD9403_1,  P15N,   044,  5,    914,     20,2,19940930,1333, 33.9920,-164.9875, -999,   1207.6,   3.1133,  34.3977,2,  34.4014,2,     13.5,3,   138.00,2,    45.10,2,     0.00,2,     3.21,2,    0.006,3,    0.128,3,   -999.0,9,  -999.00,9,  -999.00,9,   2376.4,2,   2386.0,2,  3.0285
    18DD9403_1,  P15N,   044,  5,    915,     19,2,19940930,1333, 33.9920,-164.9875, -999,   1239.9,   3.0619,  34.4119,2,  34.4196,2,     14.4,3,   139.10,2,    44.90,2,     0.00,2,     3.32,2,    0.011,3,    0.059,3,   -999.0,9,  -999.00,9,  -999.00,9,   2380.0,2,   2389.3,2,  2.9750
    18DD9403_1,  P15N,   044,  5,    916,     18,2,19940930,1333, 33.9920,-164.9875, -999,   1491.8,   2.6366,  34.5018,2,  34.5024,2,     25.8,3,   151.40,2,    44.50,2,     0.00,2,     3.26,2,    0.004,3,    0.000,3,   -999.0,9,  -999.00,9,  -999.00,9,   2388.4,2,   2409.7,2,  2.5338
    18DD9403_1,  P15N,   044,  5,    917,     17,2,19940930,1333, 33.9920,-164.9875, -999,   1749.7,   2.2701,  34.5559,2,  34.5589,2,     43.1,3,   159.70,2,    43.40,2,     0.00,2,     3.13,2,    0.000,3,    0.001,3,   -999.0,9,  -999.00,9,  -999.00,9,   2383.9,2,   -999.0,9,  2.1507
    18DD9403_1,  P15N,   044,  5,    918,     16,2,19940930,1333, 33.9920,-164.9875, -999,   1992.8,   2.0016,  34.5935,2,  34.5958,2,     59.1,2,   165.50,2,    42.20,2,     0.00,2,     3.04,2, -999.000,9, -999.000,9,   -999.0,9,  -999.00,9,  -999.00,9,   2378.9,2,   2430.7,2,  1.8659
    18DD9403_1,  P15N,   044,  5,    919,     15,2,19940930,1333, 33.9920,-164.9875, -999,   2251.9,   1.8016,  34.6206,2,  34.6219,2,     78.4,2,   167.10,2,    41.10,2,     0.00,2,  -999.00,5, -999.000,9, -999.000,9,   -999.0,9,  -999.00,9,  -999.00,9,   2370.0,2,   2432.2,2,  1.6469
    18DD9403_1,  P15N,   044,  5,    920,     14,2,19940930,1333, 33.9920,-164.9875, -999,   2490.0,   1.6848,  34.6387,2,  34.6352,2,     95.1,3,   166.20,2,    40.10,2,     0.00,2,     3.80,4, -999.000,9, -999.000,9,   -999.0,9,  -999.00,9,  -999.00,9,   2362.0,2,   2434.1,2,  1.5113
    18DD9403_1,  P15N,   044,  5,    921,     13,2,19940930,1333, 33.9920,-164.9875, -999,   2750.0,   1.5997,  34.6517,2,  34.6520,2,    109.9,2,   163.10,2,    39.30,2,     0.00,2,     2.79,2, -999.000,9, -999.000,9,   -999.0,9,  -999.00,9,  -999.00,9,   2353.5,2,   2435.3,2,  1.4044
    18DD9403_1,  P15N,   044,  5,    922,     12,2,19940930,1333, 33.9920,-164.9875, -999,   2992.4,   1.5482,  34.6613,2,  34.6616,2,    122.9,2,   160.30,2,    38.20,2,     0.00,2,     2.82,2, -999.000,9, -999.000,9,   -999.0,9,  -999.00,9,  -999.00,9,   2345.0,2,   2438.9,2,  1.3312
    18DD9403_1,  P15N,   044,  5,    923,     11,2,19940930,1333, 33.9920,-164.9875, -999,   3252.6,   1.5080,  34.6691,2,  34.6681,2,    129.5,2,   158.40,2,    37.80,2,     0.00,2,     3.06,4, -999.000,9, -999.000,9,   -999.0,9,  -999.00,9,  -999.00,9,   2339.3,2,   2432.0,2,  1.2666
    18DD9403_1,  P15N,   044,  5,    924,     10,2,19940930,1333, 33.9920,-164.9875, -999,   3497.5,   1.4854,  34.6740,2,  34.6740,2,    135.9,2,   156.90,2,    37.40,2,     0.00,2,     2.74,2, -999.000,9, -999.000,9,   -999.0,9,  -999.00,9,  -999.00,9,   2337.1,2,   2444.8,2,  1.2200
    18DD9403_1,  P15N,   044,  5,    925,      9,2,19940930,1333, 33.9920,-164.9875, -999,   3748.5,   1.4731,  34.6783,2,  34.6778,2,    141.6,3,   153.90,2,    36.80,2,     0.00,2,     2.58,2, -999.000,9, -999.000,9,   -999.0,9,  -999.00,9,  -999.00,9,   2330.9,2,   2440.1,2,  1.1819
    18DD9403_1,  P15N,   044,  5,    926,      8,2,19940930,1333, 33.9920,-164.9875, -999,   4000.4,   1.4710,  34.6815,2,  34.6812,2,    146.2,2,   153.10,2,    36.80,2,     0.00,2,     2.69,2, -999.000,9, -999.000,9,   -999.0,9,  -999.00,9,  -999.00,9,   2330.6,2,   -999.0,9,  1.1529
    18DD9403_1,  P15N,   044,  5,    927,      7,2,19940930,1333, 33.9920,-164.9875, -999,   4249.9,   1.4769,  34.6837,2,  34.6845,2,    150.3,2,   152.60,2,    36.70,2,     0.00,2,     2.70,2, -999.000,9, -999.000,9,   -999.0,9,  -999.00,9,  -999.00,9,   2326.1,2,   2432.4,2,  1.1311
    18DD9403_1,  P15N,   044,  5,    928,      6,2,19940930,1333, 33.9920,-164.9875, -999,   4499.0,   1.4895,  34.6853,2,  34.6851,2,    151.7,2,   150.50,2,    36.40,2,     0.00,2,  -999.00,5, -999.000,9, -999.000,9,   -999.0,9,  -999.00,9,  -999.00,9,   2324.2,2,   2431.7,2,  1.1150
    18DD9403_1,  P15N,   044,  5,    929,      5,2,19940930,1333, 33.9920,-164.9875, -999,   4752.9,   1.5055,  34.6867,2,  34.6876,2,    155.2,3,   148.60,2,    35.90,2,     0.00,2,     2.89,4, -999.000,9, -999.000,9,   -999.0,9,  -999.00,9,  -999.00,9,   2323.0,2,   2434.6,2,  1.1008
    18DD9403_1,  P15N,   044,  5,    930,      4,2,19940930,1333, 33.9920,-164.9875, -999,   4999.5,   1.5254,  34.6881,2,  34.6882,2,    156.3,2,   147.90,2,    36.10,2,     0.00,2,     2.69,4, -999.000,9, -999.000,9,   -999.0,9,  -999.00,9,  -999.00,9,   2320.6,2,   2429.8,2,  1.0904
    18DD9403_1,  P15N,   044,  5,    931,      3,2,19940930,1333, 33.9920,-164.9875, -999,   5247.9,   1.5474,  34.6888,2,  34.6893,2,    158.2,3,   145.10,2,    35.80,2,     0.00,2,     2.54,2, -999.000,9, -999.000,9,   -999.0,9,  -999.00,9,  -999.00,9,   2320.8,2,   2426.1,2,  1.0810
    18DD9403_1,  P15N,   044,  5,    932,      2,2,19940930,1333, 33.9920,-164.9875, -999,   5495.8,   1.5734,  34.6900,2,  34.6898,2,    160.7,3,   144.10,2,    35.60,2,     0.00,2,  -999.00,5, -999.000,9, -999.000,9,   -999.0,9,  -999.00,9,  -999.00,9,   2319.9,2,   2432.0,2,  1.0747
    18DD9403_1,  P15N,   044,  5,    933,      1,2,19940930,1333, 33.9920,-164.9875, -999,   5793.2,   1.6075,  34.6899,2,  34.6904,2,    161.3,3,   143.60,2,    35.60,2,     0.00,2,     2.70,4, -999.000,9, -999.000,9,   -999.0,9,  -999.00,9,  -999.00,9,   2314.9,2,   2432.9,2,  1.0689