BOTTLE,20130510IOSDFOJC
EXPOCODE,SECT_ID,STNNBR,CASTNO,SAMPNO,BTLNBR,BTLNBR_FLAG_W,DATE,TIME,LATITUDE,LONGITUDE,DEPTH,CTDPRS,CTDTMP,CTDSAL,CTDSAL_FLAG_W,SALNTY,SALNTY_FLAG_W,OXYGEN,OXYGEN_FLAG_W,SILCAT,SILCAT_FLAG_W,NITRAT,NITRAT_FLAG_W,NITRIT,NITRIT_FLAG_W,PHSPHT,PHSPHT_FLAG_W,CFC-11,CFC-11_FLAG_W,CFC-12,CFC-12_FLAG_W,DELC14,DELC14_FLAG_W,DELC13,DELC13_FLAG_W,O18O16,O18O16_FLAG_W,TCARBN,TCARBN_FLAG_W,ALKALI,ALKALI_FLAG_W,THETA
,,,,,,,,,,,,DBAR,ITS-90,PSS-78,,PSS-78,,UMOL/KG,,UMOL/KG,,UMOL/KG,,UMOL/KG,,UMOL/KG,,PMOL/KG,,PMOL/KG,,/MILLE,,/MILLE,,/MILLE,,UMOL/KG,,UMOL/KG,,DEG C
    18DD9403_1,  P15N,   051,  3,   1105,    S11,2,19941002,1750, 30.5038,-164.9995, -999,      5.4,  25.7388,  35.2486,2,  35.2558,2,    218.0,3,     3.00,2,     0.10,2,     0.00,2,     0.00,2,    1.729,3,    0.964,3,   -999.0,9,  -999.00,9,  -999.00,9,   -999.0,9,   -999.0,9, 25.7376
    18DD9403_1,  P15N,   051,  3,   1106,    S10,2,19941002,1750, 30.5038,-164.9995, -999,     46.0,  20.1572,  34.7506,2,  34.7983,2,    261.8,3,     3.90,2,     0.10,2,     0.00,2,     0.00,2,    2.289,3,    1.084,3,   -999.0,9,  -999.00,9,  -999.00,9,   -999.0,9,   -999.0,9, 20.1487
    18DD9403_1,  P15N,   051,  3,   1107,     S9,2,19941002,1750, 30.5038,-164.9995, -999,     97.2,  15.8232,  34.6128,2,  34.7958,2,    262.7,3,     3.90,2,     0.10,2,     0.00,2,     0.00,2,    2.060,3,    1.113,3,   -999.0,9,  -999.00,9,  -999.00,9,   -999.0,9,   -999.0,9, 15.8080
    18DD9403_1,  P15N,   051,  3,   1108,     S8,2,19941002,1750, 30.5038,-164.9995, -999,    144.7,  14.3506,  34.4934,2,  34.5192,2,    224.8,2,     7.50,2,     6.10,2,     0.00,2,     0.47,2,    3.096,3,    1.267,3,   -999.0,9,  -999.00,9,  -999.00,9,   -999.0,9,   -999.0,9, 14.3295
    18DD9403_1,  P15N,   051,  3,   1109,     S7,2,19941002,1750, 30.5038,-164.9995, -999,    194.3,  13.1678,  34.3924,2,  34.4063,2,    229.1,2,     8.80,2,     7.50,2,     0.00,2,     0.59,2,    3.077,3,    1.238,3,   -999.0,9,  -999.00,9,  -999.00,9,   -999.0,9,   -999.0,9, 13.1410
    18DD9403_1,  P15N,   051,  3,   1111,     S5,2,19941002,1750, 30.5038,-164.9995, -999,    294.0,  11.4533,  34.2903,2,  34.2890,2,    228.8,2,    13.70,2,    11.50,2,     0.00,2,     0.83,2,    3.530,3,    1.404,3,   -999.0,9,  -999.00,9,  -999.00,9,   -999.0,9,   -999.0,9, 11.4162
    18DD9403_1,  P15N,   051,  3,   1110,     S6,2,19941002,1750, 30.5038,-164.9995, -999,    295.4,  11.4463,  34.2860,2,  34.2890,2,    227.9,2,    13.50,2,    11.10,2,     0.00,2,     0.83,2,    3.357,3,    1.226,3,   -999.0,9,  -999.00,9,  -999.00,9,   -999.0,9,   -999.0,9, 11.4091
    18DD9403_1,  P15N,   051,  3,   1112,     S4,2,19941002,1750, 30.5038,-164.9995, -999,    395.4,   9.8456,  34.1858,2,  34.1857,2,    208.0,2,    21.90,2,    16.80,2,     0.00,2,     1.23,2,    2.806,3,    1.076,3,   -999.0,9,  -999.00,9,  -999.00,9,   -999.0,9,   -999.0,9,  9.8002
    18DD9403_1,  P15N,   051,  3,   1113,     S3,2,19941002,1750, 30.5038,-164.9995, -999,    498.4,   7.9411,  34.0642,2,  34.1855,2,    207.4,2,    22.40,2,    16.60,2,     0.00,2,     1.17,2,    2.836,3,    1.049,3,   -999.0,9,  -999.00,9,  -999.00,9,   -999.0,9,   -999.0,9,  7.8905
    18DD9403_1,  P15N,   051,  3,   1114,     S2,2,19941002,1750, 30.5038,-164.9995, -999,    595.7,   6.2465,  34.0080,2,  34.0100,2,    134.8,2,    54.60,2,    30.20,2,     0.00,2,     2.17,2,    1.368,3,    0.522,3,   -999.0,9,  -999.00,9,  -999.00,9,   -999.0,9,   -999.0,9,  6.1934
    18DD9403_1,  P15N,   051,  3,   1115,     S1,2,19941002,1750, 30.5038,-164.9995, -999,    794.9,   4.3090,  34.1433,2,  34.1314,2,     48.0,2,    97.00,2,    40.70,4,     0.00,2,     2.91,2,    0.252,3,    0.154,3,   -999.0,9,  -999.00,9,  -999.00,9,   -999.0,9,   -999.0,9,  4.2487
    18DD9403_1,  P15N,   051,  5,   1116,     23,2,19941002,2002, 30.5132,-165.0045, -999,    802.7,   4.2485,  34.1466,2,  34.1440,2,     44.2,2,    98.50,2,    12.80,4,     0.00,2,     2.98,2,    0.135,3,    0.000,3,   -999.0,9,  -999.00,9,  -999.00,9,   -999.0,9,   -999.0,9,  4.1879
    18DD9403_1,  P15N,   051,  5,   1117,     22,2,19941002,2002, 30.5132,-165.0045, -999,   1000.0,   3.4555,  34.3123,2,  34.3234,2,     13.1,2,   127.50,2,    36.80,4,     0.00,2,     3.18,2,    0.007,3,    0.000,3,   -999.0,9,  -999.00,9,  -999.00,9,   -999.0,9,   -999.0,9,  3.3843
    18DD9403_1,  P15N,   051,  5,   1118,     21,2,19941002,2002, 30.5132,-165.0045, -999,   1253.4,   3.0775,  34.4683,2,  34.4742,2,     35.5,3,   134.60,2,    35.90,4,     0.00,2,     3.08,2,    0.000,3,    0.000,3,   -999.0,9,  -999.00,9,  -999.00,9,   -999.0,9,   -999.0,9,  2.9892
    18DD9403_1,  P15N,   051,  5,   1119,     20,2,19941002,2002, 30.5132,-165.0045, -999,   1499.7,   2.6210,  34.5368,2,  34.5416,2,     49.5,2,   145.80,2,    33.00,4,     0.00,2,     3.06,2,    0.000,3,    0.000,3,   -999.0,9,  -999.00,9,  -999.00,9,   -999.0,9,   -999.0,9,  2.5176
    18DD9403_1,  P15N,   051,  5,   1120,     19,2,19941002,2002, 30.5132,-165.0045, -999,   1752.0,   2.2277,  34.5759,2,  34.5824,2,     65.8,3,   154.10,2,    33.00,4,     0.00,2,     2.92,2,    0.009,3,    0.009,3,   -999.0,9,  -999.00,9,  -999.00,9,   -999.0,9,   -999.0,9,  2.1086
    18DD9403_1,  P15N,   051,  5,   1121,     18,2,19941002,2002, 30.5132,-165.0045, -999,   2001.4,   1.9835,  34.6093,2,  34.6117,2,     80.9,2,   158.80,2,    33.80,4,     0.00,2,     2.85,2,    0.004,3,    0.004,3,   -999.0,9,  -999.00,9,  -999.00,9,   -999.0,9,   -999.0,9,  1.8473
    18DD9403_1,  P15N,   051,  5,   1122,     17,2,19941002,2002, 30.5132,-165.0045, -999,   2253.2,   1.8137,  34.6299,2,  34.6291,2,     93.7,2,   159.20,2,    31.70,4,     0.00,2,     2.79,2,    0.000,3,    0.000,3,   -999.0,9,  -999.00,9,  -999.00,9,   -999.0,9,   -999.0,9,  1.6587
    18DD9403_1,  P15N,   051,  5,   1123,     16,2,19941002,2002, 30.5132,-165.0045, -999,   2499.8,   1.6849,  34.6435,2,  34.6449,2,    104.4,2,   161.10,2,    31.50,4,     0.00,2,     2.74,2,    0.000,3,    0.099,3,   -999.0,9,  -999.00,9,  -999.00,9,   -999.0,9,   -999.0,9,  1.5105
    18DD9403_1,  P15N,   051,  5,   1124,     15,2,19941002,2002, 30.5132,-165.0045, -999,   2746.0,   1.6107,  34.6544,2,  34.6547,2,    111.6,3,   160.80,2,    31.40,4,     0.00,2,     2.69,2, -999.000,9, -999.000,9,   -999.0,9,  -999.00,9,  -999.00,9,   -999.0,9,   -999.0,9,  1.4155
    18DD9403_1,  P15N,   051,  5,   1125,     14,2,19941002,2002, 30.5132,-165.0045, -999,   2998.7,   1.5579,  34.6621,2,  34.6625,2,    121.5,2,   159.40,2,    23.90,4,     0.00,2,     2.65,2,    0.002,3,    0.147,3,   -999.0,9,  -999.00,9,  -999.00,9,   -999.0,9,   -999.0,9,  1.3401
    18DD9403_1,  P15N,   051,  5,   1126,     13,2,19941002,2002, 30.5132,-165.0045, -999,   3251.5,   1.5170,  34.6689,2,  34.6694,2,    129.5,2,   157.60,2,    37.30,2,     0.00,2,     2.60,2, -999.000,9, -999.000,9,   -999.0,9,  -999.00,9,  -999.00,9,   -999.0,9,   -999.0,9,  1.2755
    18DD9403_1,  P15N,   051,  5,   1127,     12,2,19941002,2002, 30.5132,-165.0045, -999,   3500.7,   1.4875,  34.6741,2,  34.6748,2,    136.1,2,   156.20,2,    37.10,2,     0.00,2,     2.56,2,    0.016,3,    0.000,3,   -999.0,9,  -999.00,9,  -999.00,9,   -999.0,9,   -999.0,9,  1.2217
    18DD9403_1,  P15N,   051,  5,   1128,     11,2,19941002,2002, 30.5132,-165.0045, -999,   3748.7,   1.4717,  34.6789,2,  34.6790,2,    142.4,2,   153.60,2,    36.50,2,     0.00,2,     2.53,2, -999.000,9, -999.000,9,   -999.0,9,  -999.00,9,  -999.00,9,   -999.0,9,   -999.0,9,  1.1805
    18DD9403_1,  P15N,   051,  5,   1129,     10,2,19941002,2002, 30.5132,-165.0045, -999,   3998.1,   1.4677,  34.6822,2,  34.6822,2,    146.9,2,   151.30,2,    36.40,2,     0.00,2,     2.51,2,    0.005,3,    0.000,3,   -999.0,9,  -999.00,9,  -999.00,9,   -999.0,9,   -999.0,9,  1.1500
    18DD9403_1,  P15N,   051,  5,   1130,      9,2,19941002,2002, 30.5132,-165.0045, -999,   4247.5,   1.4736,  34.6838,2,  34.6844,2,    148.4,2,   150.90,2,    35.90,2,     0.00,2,     3.04,2, -999.000,9, -999.000,9,   -999.0,9,  -999.00,9,  -999.00,9,   -999.0,9,   -999.0,9,  1.1282
    18DD9403_1,  P15N,   051,  5,   1131,      8,2,19941002,2002, 30.5132,-165.0045, -999,   4501.5,   1.4852,  34.6860,2,  34.6866,2,    151.5,2,   151.30,2,    35.80,2,     0.00,2,     2.47,2,    0.027,3,    0.223,3,   -999.0,9,  -999.00,9,  -999.00,9,   -999.0,9,   -999.0,9,  1.1105
    18DD9403_1,  P15N,   051,  5,   1132,      7,2,19941002,2002, 30.5132,-165.0045, -999,   4749.2,   1.5030,  34.6873,2,  34.6879,2,    153.6,2,   150.60,2,    35.60,2,     0.00,2,     2.49,2, -999.000,9, -999.000,9,   -999.0,9,  -999.00,9,  -999.00,9,   -999.0,9,   -999.0,9,  1.0988
    18DD9403_1,  P15N,   051,  5,   1133,      6,2,19941002,2002, 30.5132,-165.0045, -999,   5002.7,   1.5196,  34.6886,2,  34.6885,2,    156.9,2,   147.40,2,    35.50,2,     0.00,2,     2.45,2,    0.005,3,    0.000,3,   -999.0,9,  -999.00,9,  -999.00,9,   -999.0,9,   -999.0,9,  1.0844
    18DD9403_1,  P15N,   051,  5,   1134,      5,2,19941002,2002, 30.5132,-165.0045, -999,   5253.1,   1.5374,  34.6903,2,  34.6898,2,    158.9,3,   144.60,2,    35.20,2,     0.00,2,     2.47,2, -999.000,9, -999.000,9,   -999.0,9,  -999.00,9,  -999.00,9,   -999.0,9,   -999.0,9,  1.0707
    18DD9403_1,  P15N,   051,  5,   1135,      4,2,19941002,2002, 30.5132,-165.0045, -999,   5499.8,   1.5480,  34.6923,2,  34.6916,2,    163.0,2,   141.80,2,    35.40,2,     0.00,2,     2.41,2,    0.000,3,    0.000,3,   -999.0,9,  -999.00,9,  -999.00,9,   -999.0,9,   -999.0,9,  1.0497
    18DD9403_1,  P15N,   051,  5,   1136,      3,2,19941002,2002, 30.5132,-165.0045, -999,   5515.6,   1.5497,  34.6924,2,  34.6920,2,    162.9,3,   141.40,2,    35.20,2,     0.00,2,     2.77,2,    0.011,3,    0.000,3,   -999.0,9,  -999.00,9,  -999.00,9,   -999.0,9,   -999.0,9,  1.0493
    18DD9403_1,  P15N,   051,  5,   1138,      1,2,19941002,2002, 30.5132,-165.0045, -999,   5543.7,   1.5530,  34.6924,2,  34.6924,2,    163.7,2,   147.60,2,    35.20,2,     0.00,2,     2.41,2,    0.022,3,    0.049,3,   -999.0,9,  -999.00,9,  -999.00,9,   -999.0,9,   -999.0,9,  1.0489
    18DD9403_1,  P15N,   051,  5,   1137,      2,2,19941002,2002, 30.5132,-165.0045, -999,   5545.0,   1.5532,  34.6924,2,  34.6918,2,    167.8,2,   142.00,2,    35.10,2,     0.00,2,     2.41,2, -999.000,9, -999.000,9,   -999.0,9,  -999.00,9,  -999.00,9,   -999.0,9,   -999.0,9,  1.0489
    18DD9403_1,  P15N,   052,  3,   1139,     23,9,19941003,0517, 30.0067,-164.9978, -999,      5.0,-999.0000,-999.0000,9,-999.0000,9,   -999.0,9,  -999.00,9,  -999.00,9,  -999.00,9,  -999.00,9, -999.000,9, -999.000,9,   -999.0,9,  -999.00,9,  -999.00,9,   -999.0,9,   -999.0,9,-999.0000
    18DD9403_1,  P15N,   052,  3,   1140,     22,9,19941003,0517, 30.0067,-164.9978, -999,      5.0,-999.0000,-999.0000,9,-999.0000,9,   -999.0,9,  -999.00,9,  -999.00,9,  -999.00,9,  -999.00,9, -999.000,9, -999.000,9,   -999.0,9,  -999.00,9,  -999.00,9,   -999.0,9,   -999.0,9,-999.0000
    18DD9403_1,  P15N,   052,  3,   1141,     21,2,19941003,0517, 30.0067,-164.9978, -999,      7.9,  25.9665,  35.2896,2,  35.3019,2,    212.2,3,     3.10,2,     0.00,2,     0.00,2,     0.02,2,    1.718,3,    1.016,3,   -999.0,9,  -999.00,9,  -999.00,9,   1988.6,2,   2308.6,2, 25.9647
    18DD9403_1,  P15N,   052,  3,   1142,     20,2,19941003,0517, 30.0067,-164.9978, -999,     51.5,  18.9791,  34.8990,2,  34.8071,2,    262.6,3,     4.50,2,     0.00,2,     0.00,2,     0.07,2,    2.198,3,    1.450,3,   -999.0,9,  -999.00,9,  -999.00,9,   1987.3,2,   2279.0,2, 18.9700
    18DD9403_1,  P15N,   052,  3,   1143,     19,2,19941003,0517, 30.0067,-164.9978, -999,    101.6,  15.9806,  34.6456,2,  34.6421,2,    247.6,3,     5.20,2,     0.50,2,     0.05,2,     0.18,2,    3.914,3,    1.424,3,   -999.0,9,  -999.00,9,  -999.00,9,   2010.2,2,   2275.8,2, 15.9646
    18DD9403_1,  P15N,   052,  3,   1144,     18,2,19941003,0517, 30.0067,-164.9978, -999,    202.4,  13.7673,  34.4628,2,  34.4747,2,    222.2,3,     8.80,2,     7.30,2,     0.00,2,     0.56,2,    3.196,3,    1.409,3,   -999.0,9,  -999.00,9,  -999.00,9,   2046.1,2,   2269.1,2, 13.7385
    18DD9403_1,  P15N,   052,  3,   1145,     17,2,19941003,0517, 30.0067,-164.9978, -999,    300.0,  11.8934,  34.3304,2,  34.3396,2,    221.6,3,    13.70,2,    10.90,2,     0.00,2,     1.02,2,    3.001,3,    1.346,3,   -999.0,9,  -999.00,9,  -999.00,9,   2070.3,2,   2259.1,2, 11.8547
    18DD9403_1,  P15N,   052,  3,   1146,     16,2,19941003,0517, 30.0067,-164.9978, -999,    402.6,   9.8855,  34.1800,2,  34.1818,2,    206.7,3,    21.90,2,    16.20,2,     0.00,2,     1.21,2,    2.911,3,    1.228,3,   -999.0,9,  -999.00,9,  -999.00,9,   2104.6,2,   2261.3,2,  9.8391
    18DD9403_1,  P15N,   052,  3,   1147,     15,2,19941003,0517, 30.0067,-164.9978, -999,    599.3,   6.0667,  34.0205,2,  34.0190,2,    124.6,2,    58.50,2,    30.40,2,     0.00,2,     2.26,2,    1.209,3,    0.509,3,   -999.0,9,  -999.00,9,  -999.00,9,   2216.7,2,   2281.6,2,  6.0142
    18DD9403_1,  P15N,   052,  3,   1148,     14,2,19941003,0517, 30.0067,-164.9978, -999,    802.4,   4.2726,  34.1603,2,  34.1482,2,     42.9,2,    98.40,2,    40.40,2,     0.00,2,     2.98,2,    0.151,3,    0.089,3,   -999.0,9,  -999.00,9,  -999.00,9,   2315.1,2,   2324.7,2,  4.2119
    18DD9403_1,  P15N,   052,  3,   1149,     13,2,19941003,0517, 30.0067,-164.9978, -999,   1000.2,   3.4674,  34.3449,2,  34.3231,2,     13.6,2,   126.20,2,    43.40,2,     0.00,2,     3.24,2,    0.018,3,    0.273,3,   -999.0,9,  -999.00,9,  -999.00,9,   2364.9,2,   2358.5,2,  3.3961
    18DD9403_1,  P15N,   052,  3,   1150,     12,2,19941003,0517, 30.0067,-164.9978, -999,   1249.8,   3.0512,  34.4697,2,  34.4736,2,     31.1,2,   138.10,2,    43.00,2,     0.00,2,     3.15,2, -999.000,9, -999.000,9,   -999.0,9,  -999.00,9,  -999.00,9,   2371.7,2,   2381.2,2,  2.9635
    18DD9403_1,  P15N,   052,  3,   1151,     11,2,19941003,0517, 30.0067,-164.9978, -999,   1502.7,   2.6187,  34.5438,2,  34.5457,2,     53.1,2,   146.00,2,    41.50,2,     0.00,2,     3.04,2, -999.000,9, -999.000,9,   -999.0,9,  -999.00,9,  -999.00,9,   2368.5,2,   2396.3,2,  2.5151
    18DD9403_1,  P15N,   052,  3,   1152,     10,2,19941003,0517, 30.0067,-164.9978, -999,   1752.5,   2.2262,  34.5871,2,  34.5857,2,     69.0,2,   154.50,2,    40.80,2,     0.00,2,     3.34,4, -999.000,9, -999.000,9,   -999.0,9,  -999.00,9,  -999.00,9,   2370.0,2,   2405.0,2,  2.1071
    18DD9403_1,  P15N,   052,  3,   1153,      9,2,19941003,0517, 30.0067,-164.9978, -999,   1752.5,   2.2262,  34.5871,2,  34.5857,2,     68.0,2,   154.00,2,    40.70,2,     0.00,2,     2.95,2, -999.000,9, -999.000,9,   -999.0,9,  -999.00,9,  -999.00,9,   2369.9,2,   2406.6,2,  2.1071
    18DD9403_1,  P15N,   052,  3,   1154,      8,2,19941003,0517, 30.0067,-164.9978, -999,   2250.0,   1.9621,  34.6293,2,  34.6312,2,     94.5,2,   161.70,2,    39.40,2,     0.00,2,     2.86,2, -999.000,9, -999.000,9,   -999.0,9,  -999.00,9,  -999.00,9,   2362.1,2,   2417.9,2,  1.8049
    18DD9403_1,  P15N,   052,  3,   1155,      7,2,19941003,0517, 30.0067,-164.9978, -999,   2250.0,   1.9621,  34.6293,2,  34.6313,2,     94.8,2,   161.40,2,    39.30,2,     0.00,2,     2.84,2, -999.000,9, -999.000,9,   -999.0,9,  -999.00,9,  -999.00,9,   2361.6,2,   2420.0,2,  1.8049
    18DD9403_1,  P15N,   052,  3,   1156,      6,2,19941003,0517, 30.0067,-164.9978, -999,   2750.9,   1.6055,  34.6540,2,  34.6543,2,    114.1,2,   163.00,2,    38.20,2,     0.00,2,     2.73,2, -999.000,9, -999.000,9,   -999.0,9,  -999.00,9,  -999.00,9,   2349.0,2,   2425.8,2,  1.4100
    18DD9403_1,  P15N,   052,  3,   1157,      5,2,19941003,0517, 30.0067,-164.9978, -999,   2750.9,   1.6055,  34.6540,2,  34.6546,2,    114.1,2,   162.80,2,    38.00,2,     0.00,2,     2.73,2, -999.000,9, -999.000,9,   -999.0,9,  -999.00,9,  -999.00,9,   2349.6,2,   2419.5,2,  1.4100
    18DD9403_1,  P15N,   052,  3,   1158,      4,2,19941003,0517, 30.0067,-164.9978, -999,   3500.3,   1.4788,  34.6741,2,  34.6747,2,    137.6,2,   156.80,2,    36.60,2,     0.00,2,     2.62,2, -999.000,9, -999.000,9,   -999.0,9,  -999.00,9,  -999.00,9,   2334.7,2,   2419.5,2,  1.2132
    18DD9403_1,  P15N,   052,  3,   1159,      3,2,19941003,0517, 30.0067,-164.9978, -999,   3500.3,   1.4788,  34.6741,2,  34.6748,2,    138.8,2,   156.50,2,    36.60,2,     0.00,2,     2.65,2, -999.000,9, -999.000,9,   -999.0,9,  -999.00,9,  -999.00,9,   2333.6,2,   2416.0,2,  1.2132
    18DD9403_1,  P15N,   052,  3,   1160,      2,2,19941003,0517, 30.0067,-164.9978, -999,   4499.2,   1.4805,  34.6860,2,  34.6862,2,    153.7,2,   151.90,2,    35.70,2,     0.00,2,     2.64,2, -999.000,9, -999.000,9,   -999.0,9,  -999.00,9,  -999.00,9,   2323.2,2,   2420.9,2,  1.1062
    18DD9403_1,  P15N,   052,  3,   1161,      1,2,19941003,0517, 30.0067,-164.9978, -999,   4999.2,   1.5165,  34.6882,2,  34.6877,2,    158.1,2,   150.40,2,    35.50,2,     0.00,2,     2.78,4,    0.018,3,    0.449,3,   -999.0,9,  -999.00,9,  -999.00,9,   2322.4,2,   2415.3,2,  1.0818