BOTTLE,20130510IOSDFOJC
EXPOCODE,SECT_ID,STNNBR,CASTNO,SAMPNO,BTLNBR,BTLNBR_FLAG_W,DATE,TIME,LATITUDE,LONGITUDE,DEPTH,CTDPRS,CTDTMP,CTDSAL,CTDSAL_FLAG_W,SALNTY,SALNTY_FLAG_W,OXYGEN,OXYGEN_FLAG_W,SILCAT,SILCAT_FLAG_W,NITRAT,NITRAT_FLAG_W,NITRIT,NITRIT_FLAG_W,PHSPHT,PHSPHT_FLAG_W,CFC-11,CFC-11_FLAG_W,CFC-12,CFC-12_FLAG_W,DELC14,DELC14_FLAG_W,DELC13,DELC13_FLAG_W,O18O16,O18O16_FLAG_W,TCARBN,TCARBN_FLAG_W,ALKALI,ALKALI_FLAG_W,THETA
,,,,,,,,,,,,DBAR,ITS-90,PSS-78,,PSS-78,,UMOL/KG,,UMOL/KG,,UMOL/KG,,UMOL/KG,,UMOL/KG,,PMOL/KG,,PMOL/KG,,/MILLE,,/MILLE,,/MILLE,,UMOL/KG,,UMOL/KG,,DEG C
    18DD9403_1,  P15N,   029,  3,    514,     23,2,19940926,0313, 41.4897,-164.9842, -999,     51.3,  10.6287,  33.8602,2,  33.8690,2,    319.0,2,     7.60,2,     5.80,2,     0.09,2,     0.60,2,    5.728,3,    1.941,3,   -999.0,9,  -999.00,9,  -999.00,9,   -999.0,9,   -999.0,9, 10.6227
    18DD9403_1,  P15N,   029,  3,    515,     22,2,19940926,0313, 41.4897,-164.9842, -999,    104.8,   9.6391,  33.9972,2,  33.9936,2,    268.5,2,    14.70,2,    11.00,2,     0.02,2,     0.88,2,    4.402,3,    2.008,3,   -999.0,9,  -999.00,9,  -999.00,9,   -999.0,9,   -999.0,9,  9.6274
    18DD9403_1,  P15N,   029,  3,    516,     21,2,19940926,0313, 41.4897,-164.9842, -999,    204.7,   8.7982,  33.9592,2,  33.9661,2,    285.2,2,    17.40,2,    12.40,2,     0.00,2,     0.99,2,    4.054,3,    1.970,3,   -999.0,9,  -999.00,9,  -999.00,9,   -999.0,9,   -999.0,9,  8.7766
    18DD9403_1,  P15N,   029,  3,    517,     20,2,19940926,0313, 41.4897,-164.9842, -999,    298.4,   8.1915,  34.0215,2,  34.0276,2,    221.0,2,    27.90,2,    18.80,2,     0.00,2,     1.36,2,    3.257,3,    1.567,3,   -999.0,9,  -999.00,9,  -999.00,9,   -999.0,9,   -999.0,9,  8.1611
    18DD9403_1,  P15N,   029,  3,    518,     19,2,19940926,0313, 41.4897,-164.9842, -999,    403.5,   6.5176,  33.9786,2,  33.9809,2,    163.3,2,    48.50,2,    27.10,2,     0.00,2,     1.96,2,    2.438,3,    1.248,3,   -999.0,9,  -999.00,9,  -999.00,9,   -999.0,9,   -999.0,9,  6.4814
    18DD9403_1,  P15N,   029,  3,    519,     18,2,19940926,0313, 41.4897,-164.9842, -999,    603.9,   4.5113,  34.0615,2,  34.0591,2,     80.3,2,    86.40,2,    37.80,2,     0.00,2,     2.71,2,    0.950,3,    0.446,3,   -999.0,9,  -999.00,9,  -999.00,9,   -999.0,9,   -999.0,9,  4.4654
    18DD9403_1,  P15N,   029,  3,    520,     17,2,19940926,0313, 41.4897,-164.9842, -999,    804.1,   3.7609,  34.2181,2,  34.2143,2,     39.0,2,   112.70,2,    41.60,2,     0.00,2,     3.00,2,    0.245,3,    0.145,3,   -999.0,9,  -999.00,9,  -999.00,9,   -999.0,9,   -999.0,9,  3.7031
    18DD9403_1,  P15N,   029,  3,    521,     16,2,19940926,0313, 41.4897,-164.9842, -999,   1004.8,   3.2134,  34.3256,2,  34.3226,2,     24.7,2,   130.60,2,    43.20,2,     0.00,2,     3.07,2,    0.164,3,    0.109,3,   -999.0,9,  -999.00,9,  -999.00,9,   -999.0,9,   -999.0,9,  3.1438
    18DD9403_1,  P15N,   029,  3,    522,     15,2,19940926,0313, 41.4897,-164.9842, -999,   1246.2,   2.7589,  34.4178,2,  34.4155,2,     16.1,2,   146.30,2,    44.20,2,     0.00,2,     3.14,2,    0.000,3,    0.085,3,   -999.0,9,  -999.00,9,  -999.00,9,   -999.0,9,   -999.0,9,  2.6745
    18DD9403_1,  P15N,   029,  3,    523,     14,2,19940926,0313, 41.4897,-164.9842, -999,   1500.3,   2.4153,  34.4922,2,  34.4858,2,     18.4,2,   157.70,2,    44.20,2,     0.00,2,     3.12,2,    0.000,3,    0.000,3,   -999.0,9,  -999.00,9,  -999.00,9,   -999.0,9,   -999.0,9,  2.3144
    18DD9403_1,  P15N,   029,  3,    524,     13,2,19940926,0313, 41.4897,-164.9842, -999,   1748.0,   2.1613,  34.5455,2,  34.5412,2,     29.1,2,   165.50,2,    44.00,2,     0.00,2,     3.08,2,    0.000,3,    0.000,3,   -999.0,9,  -999.00,9,  -999.00,9,   -999.0,9,   -999.0,9,  2.0436
    18DD9403_1,  P15N,   029,  3,    525,     12,2,19940926,0313, 41.4897,-164.9842, -999,   2000.6,   1.9594,  34.5865,2,  34.5854,2,     47.7,2,   170.40,2,    42.80,2,     0.00,2,     2.99,2,    0.000,3,    0.101,3,   -999.0,9,  -999.00,9,  -999.00,9,   -999.0,9,   -999.0,9,  1.8238
    18DD9403_1,  P15N,   029,  3,    526,     11,2,19940926,0313, 41.4897,-164.9842, -999,   2250.1,   1.8216,  34.6137,2,  34.6114,2,     65.1,2,   171.50,2,    41.90,2,     0.00,2,     2.94,2,    0.000,3,    0.000,3,   -999.0,9,  -999.00,9,  -999.00,9,   -999.0,9,   -999.0,9,  1.6668
    18DD9403_1,  P15N,   029,  3,    527,     10,2,19940926,0313, 41.4897,-164.9842, -999,   2499.7,   1.6983,  34.6336,2,  34.6331,2,     83.7,2,   171.00,2,    40.70,2,     0.00,2,     2.87,2, -999.000,9, -999.000,9,   -999.0,9,  -999.00,9,  -999.00,9,   -999.0,9,   -999.0,9,  1.5237
    18DD9403_1,  P15N,   029,  3,    528,      9,2,19940926,0313, 41.4897,-164.9842, -999,   2748.7,   1.6089,  34.6476,2,  34.6478,2,     99.8,2,   167.90,2,    39.80,2,     0.00,2,     2.76,2, -999.000,9, -999.000,9,   -999.0,9,  -999.00,9,  -999.00,9,   -999.0,9,   -999.0,9,  1.4135
    18DD9403_1,  P15N,   029,  3,    529,      8,2,19940926,0313, 41.4897,-164.9842, -999,   2996.5,   1.5473,  34.6590,2,  34.6583,2,    126.3,2,   164.10,2,    38.80,2,     0.00,2,     2.68,2, -999.000,9, -999.000,9,   -999.0,9,  -999.00,9,  -999.00,9,   -999.0,9,   -999.0,9,  1.3299
    18DD9403_1,  P15N,   029,  3,    530,      7,2,19940926,0313, 41.4897,-164.9842, -999,   3497.9,   1.4708,  34.6742,2,  34.6744,2,    136.2,2,   158.00,2,    37.20,2,     0.00,2,     2.58,2, -999.000,9, -999.000,9,   -999.0,9,  -999.00,9,  -999.00,9,   -999.0,9,   -999.0,9,  1.2057
    18DD9403_1,  P15N,   029,  3,    531,      6,2,19940926,0313, 41.4897,-164.9842, -999,   3997.4,   1.4508,  34.6830,2,  34.6833,2,    147.2,2,   156.60,2,    36.50,2,     0.00,2,     2.53,2, -999.000,9, -999.000,9,   -999.0,9,  -999.00,9,  -999.00,9,   -999.0,9,   -999.0,9,  1.1335
    18DD9403_1,  P15N,   029,  3,    532,      5,2,19940926,0313, 41.4897,-164.9842, -999,   4497.9,   1.4866,  34.6863,2,  34.6864,2,    148.6,2,   160.00,2,    36.50,2,     0.00,2,     2.53,2, -999.000,9, -999.000,9,   -999.0,9,  -999.00,9,  -999.00,9,   -999.0,9,   -999.0,9,  1.1123
    18DD9403_1,  P15N,   029,  3,    533,      4,2,19940926,0313, 41.4897,-164.9842, -999,   4998.7,   1.5466,  34.6870,2,  34.6865,2,    149.4,2,   160.40,2,    36.50,2,     0.00,2,     2.52,2, -999.000,9, -999.000,9,   -999.0,9,  -999.00,9,  -999.00,9,   -999.0,9,   -999.0,9,  1.1110
    18DD9403_1,  P15N,   029,  3,    534,      3,2,19940926,0313, 41.4897,-164.9842, -999,   5251.1,   1.5779,  34.6868,2,  34.6864,2,    149.2,2,   159.70,2,    36.50,2,     0.00,2,     2.53,2, -999.000,9, -999.000,9,   -999.0,9,  -999.00,9,  -999.00,9,   -999.0,9,   -999.0,9,  1.1100
    18DD9403_1,  P15N,   029,  3,    535,      2,2,19940926,0313, 41.4897,-164.9842, -999,   5251.1,   1.5779,  34.6868,2,  34.6866,2,    149.3,2,   159.60,2,    36.30,2,     0.00,2,     2.53,2, -999.000,9, -999.000,9,   -999.0,9,  -999.00,9,  -999.00,9,   -999.0,9,   -999.0,9,  1.1100
    18DD9403_1,  P15N,   029,  3,    536,      1,2,19940926,0313, 41.4897,-164.9842, -999,   5594.0,   1.6224,  34.6870,2,  34.6874,2,    149.1,2,   159.80,2,    36.50,2,     0.00,2,     2.53,2, -999.000,9, -999.000,9,   -999.0,9,  -999.00,9,  -999.00,9,   -999.0,9,   -999.0,9,  1.1093
    18DD9403_1,  P15N,   030,  3,    537,     23,2,19940926,0933, 40.9963,-165.0135, -999,      9.7,  17.5940,  33.7453,2,  33.7513,2,    249.1,2,     1.30,2,     0.70,2,     0.00,2,     0.20,2,    3.985,3,    1.454,3,   -999.0,9,  -999.00,9,  -999.00,9,   -999.0,9,   2240.1,2, 17.5924
    18DD9403_1,  P15N,   030,  3,    538,     22,2,19940926,0933, 40.9963,-165.0135, -999,     10.0,  17.6005,  33.7455,2,  33.7505,2,    251.0,2,     1.10,2,     0.80,2,     0.00,2,     0.20,2,    3.970,3,    1.364,3,   -999.0,9,  -999.00,9,  -999.00,9,   -999.0,9,   2239.6,2, 17.5988
    18DD9403_1,  P15N,   030,  3,    539,     21,2,19940926,0933, 40.9963,-165.0135, -999,     49.4,   9.9217,  33.7421,2,  33.7447,2,    303.8,2,    11.80,2,     7.80,2,     0.00,2,     0.79,2,    5.510,3,    2.014,3,   -999.0,9,  -999.00,9,  -999.00,9,   -999.0,9,   2243.6,2,  9.9161
    18DD9403_1,  P15N,   030,  3,    540,     20,2,19940926,0933, 40.9963,-165.0135, -999,    102.4,   8.4734,  33.7131,2,  33.7563,2,    277.3,2,    16.70,2,    12.00,2,     0.00,2,     1.00,2,    4.578,3,    2.006,3,   -999.0,9,  -999.00,9,  -999.00,9,   -999.0,9,   2245.1,2,  8.4629
    18DD9403_1,  P15N,   030,  3,    541,     19,2,19940926,0933, 40.9963,-165.0135, -999,    200.3,   8.7453,  33.9094,2,  33.9725,2,    267.4,2,    18.00,2,    12.60,2,     0.00,2,     0.97,2,    4.115,3,    1.820,3,   -999.0,9,  -999.00,9,  -999.00,9,   -999.0,9,   2261.6,2,  8.7242
    18DD9403_1,  P15N,   030,  3,    542,     18,2,19940926,0933, 40.9963,-165.0135, -999,    301.1,   7.8236,  34.0007,2,  33.9942,2,    224.6,2,    30.10,2,    19.20,2,     0.00,2,     1.44,2,    3.330,3,    1.435,3,   -999.0,9,  -999.00,9,  -999.00,9,   -999.0,9,   2281.3,2,  7.7938
    18DD9403_1,  P15N,   030,  3,    543,     17,2,19940926,0933, 40.9963,-165.0135, -999,    401.1,   6.3929,  33.9788,2,  33.9810,2,    159.1,2,    50.20,2,    27.50,2,     0.00,2,     2.02,2,    2.332,3,    0.897,3,   -999.0,9,  -999.00,9,  -999.00,9,   -999.0,9,   2308.4,2,  6.3573
    18DD9403_1,  P15N,   030,  3,    544,     16,2,19940926,0933, 40.9963,-165.0135, -999,    601.1,   4.4645,  34.0560,2,  34.0511,2,     79.9,2,    85.90,2,    37.50,2,     0.00,2,     2.70,2,    0.990,3,    0.248,3,   -999.0,9,  -999.00,9,  -999.00,9,   -999.0,9,   2339.3,2,  4.4191
    18DD9403_1,  P15N,   030,  3,    546,     14,2,19940926,0933, 40.9963,-165.0135, -999,    799.4,   3.7326,  34.2164,2,  34.2112,2,     38.8,2,   112.50,2,    41.70,2,     0.00,2,     2.99,2,    0.254,3,    0.000,3,   -999.0,9,  -999.00,9,  -999.00,9,   -999.0,9,   2364.0,2,  3.6754
    18DD9403_1,  P15N,   030,  3,    545,     15,2,19940926,0933, 40.9963,-165.0135, -999,    799.5,   3.7312,  34.2165,2,  34.2119,2,     38.4,2,   112.60,2,    41.30,2,     0.00,2,     3.00,2,    0.276,3,    0.000,3,   -999.0,9,  -999.00,9,  -999.00,9,   -999.0,9,   2341.3,2,  3.6740
    18DD9403_1,  P15N,   030,  3,    547,     13,2,19940926,0933, 40.9963,-165.0135, -999,    999.8,   3.2201,  34.3273,2,  34.3231,2,     25.6,2,   130.80,2,    43.10,2,     0.00,2,     3.09,2,    0.052,3,    0.000,3,   -999.0,9,  -999.00,9,  -999.00,9,   -999.0,9,   2382.8,2,  3.1508
    18DD9403_1,  P15N,   030,  3,    548,     12,2,19940926,0933, 40.9963,-165.0135, -999,   1249.2,   2.7368,  34.4215,2,  34.4204,2,     19.6,2,   147.70,2,    44.00,2,     0.00,2,     3.14,2,    0.009,3,    0.000,3,   -999.0,9,  -999.00,9,  -999.00,9,   -999.0,9,   2399.4,2,  2.6524
    18DD9403_1,  P15N,   030,  3,    549,     11,2,19940926,0933, 40.9963,-165.0135, -999,   1499.7,   2.4161,  34.4926,2,  34.4872,2,     17.1,2,   158.50,2,    44.30,2,     0.00,2,     3.14,2,    0.006,3,    0.000,3,   -999.0,9,  -999.00,9,  -999.00,9,   -999.0,9,   2404.6,2,  2.3152
    18DD9403_1,  P15N,   030,  3,    550,     10,2,19940926,0933, 40.9963,-165.0135, -999,   1751.1,   2.1516,  34.5459,2,  34.5454,2,     29.4,2,   167.50,2,    44.10,2,     0.00,2,     3.08,2, -999.000,9, -999.000,9,   -999.0,9,  -999.00,9,  -999.00,9,   -999.0,9,   2413.1,2,  2.0338
    18DD9403_1,  P15N,   030,  3,    551,      9,2,19940926,0933, 40.9963,-165.0135, -999,   1999.4,   1.9472,  34.5864,2,  34.5865,2,     49.3,2,   170.20,2,    42.20,2,     0.00,2,     3.02,2, -999.000,9, -999.000,9,   -999.0,9,  -999.00,9,  -999.00,9,   -999.0,9,   2417.0,2,  1.8118
    18DD9403_1,  P15N,   030,  3,    552,      8,2,19940926,0933, 40.9963,-165.0135, -999,   2250.7,   1.8116,  34.6130,2,  34.6136,2,     67.7,2,   171.10,2,    41.50,2,     0.00,2,     2.94,2, -999.000,9, -999.000,9,   -999.0,9,  -999.00,9,  -999.00,9,   -999.0,9,   2424.2,2,  1.6569
    18DD9403_1,  P15N,   030,  3,    553,      7,2,19940926,0933, 40.9963,-165.0135, -999,   2499.9,   1.6960,  34.6328,2,  34.6333,2,     85.1,2,   170.30,2,    40.50,2,     0.00,2,     2.85,2, -999.000,9, -999.000,9,   -999.0,9,  -999.00,9,  -999.00,9,   -999.0,9,   -999.0,9,  1.5214
    18DD9403_1,  P15N,   030,  3,    554,      6,4,19940926,0933, 40.9963,-165.0135, -999,   3000.7,   1.5479,  34.6584,2,-999.0000,9,   -999.0,9,  -999.00,9,  -999.00,9,  -999.00,9,  -999.00,9, -999.000,9, -999.000,9,   -999.0,9,  -999.00,9,  -999.00,9,   -999.0,9,   2416.8,2,  1.3302
    18DD9403_1,  P15N,   030,  3,    555,      5,2,19940926,0933, 40.9963,-165.0135, -999,   3501.0,   1.4736,  34.6731,2,  34.6740,2,    135.6,2,   158.30,2,    37.30,2,     0.00,2,     2.61,2, -999.000,9, -999.000,9,   -999.0,9,  -999.00,9,  -999.00,9,   -999.0,9,   2419.3,2,  1.2081
    18DD9403_1,  P15N,   030,  3,    556,      4,2,19940926,0933, 40.9963,-165.0135, -999,   4000.4,   1.4548,  34.6820,2,  34.6821,2,    146.4,2,   155.90,2,    36.50,2,     0.00,2,     2.56,2, -999.000,9, -999.000,9,   -999.0,9,  -999.00,9,  -999.00,9,   -999.0,9,   2423.6,2,  1.1371
    18DD9403_1,  P15N,   030,  3,    557,      3,2,19940926,0933, 40.9963,-165.0135, -999,   4499.8,   1.4872,  34.6858,2,  34.6851,2,    149.2,2,   158.80,2,    36.10,2,     0.00,2,     2.52,2, -999.000,9, -999.000,9,   -999.0,9,  -999.00,9,  -999.00,9,   -999.0,9,   2420.0,2,  1.1127
    18DD9403_1,  P15N,   030,  3,    558,      2,2,19940926,0933, 40.9963,-165.0135, -999,   4999.9,   1.5474,  34.6864,2,  34.6870,2,    149.2,2,   159.00,2,    36.20,2,     0.00,2,     2.53,2, -999.000,9, -999.000,9,   -999.0,9,  -999.00,9,  -999.00,9,   -999.0,9,   2420.8,2,  1.1116
    18DD9403_1,  P15N,   030,  3,    559,      1,2,19940926,0933, 40.9963,-165.0135, -999,   5499.2,   1.6112,  34.6864,2,  34.6867,2,    149.0,2,   160.40,2,    36.80,2,     0.00,2,     2.52,2, -999.000,9, -999.000,9,   -999.0,9,  -999.00,9,  -999.00,9,   -999.0,9,   -999.0,9,  1.1107