BOTTLE,20130510IOSDFOJC
EXPOCODE,SECT_ID,STNNBR,CASTNO,SAMPNO,BTLNBR,BTLNBR_FLAG_W,DATE,TIME,LATITUDE,LONGITUDE,DEPTH,CTDPRS,CTDTMP,CTDSAL,CTDSAL_FLAG_W,SALNTY,SALNTY_FLAG_W,OXYGEN,OXYGEN_FLAG_W,SILCAT,SILCAT_FLAG_W,NITRAT,NITRAT_FLAG_W,NITRIT,NITRIT_FLAG_W,PHSPHT,PHSPHT_FLAG_W,CFC-11,CFC-11_FLAG_W,CFC-12,CFC-12_FLAG_W,DELC14,DELC14_FLAG_W,DELC13,DELC13_FLAG_W,O18O16,O18O16_FLAG_W,TCARBN,TCARBN_FLAG_W,ALKALI,ALKALI_FLAG_W,THETA
,,,,,,,,,,,,DBAR,ITS-90,PSS-78,,PSS-78,,UMOL/KG,,UMOL/KG,,UMOL/KG,,UMOL/KG,,UMOL/KG,,PMOL/KG,,PMOL/KG,,/MILLE,,/MILLE,,/MILLE,,UMOL/KG,,UMOL/KG,,DEG C
    18DD9403_1,  PR06,    PR0618,  3,     70,     23,2,19940909,2133, 49.4143,-136.6630, -999,     10.0,  15.4242,  32.2338,2,  32.3740,2,    256.9,2,     0.60,2,     0.00,2,     0.00,2,     0.32,2,    4.882,2,    1.535,2,   -999.0,9,  -999.00,9,  -999.00,9,   1946.6,2,   2181.3,2, 15.4227
    18DD9403_1,  PR06,    PR0618,  3,     71,     22,2,19940909,2133, 49.4143,-136.6630, -999,     49.0,  10.0192,  32.5469,2,  32.5103,2,    304.6,2,     2.80,2,     3.80,2,     0.04,2,     0.69,2,    6.178,2,    2.109,2,   -999.0,9,  -999.00,9,  -999.00,9,   1982.2,2,   2194.4,2, 10.0137
    18DD9403_1,  PR06,    PR0618,  3,     72,     21,2,19940909,2133, 49.4143,-136.6630, -999,    100.0,   6.5456,  33.1699,2,  33.0526,2,    263.0,2,    20.70,2,    16.80,2,     0.00,2,     1.42,2,    4.800,2,    2.198,2,   -999.0,9,  -999.00,9,  -999.00,9,   2073.0,2,   2215.6,2,  6.5370
    18DD9403_1,  PR06,    PR0618,  3,     73,     20,2,19940909,2133, 49.4143,-136.6630, -999,    149.0,   6.4775,  33.7230,2,  33.7066,2,    209.3,2,    33.40,2,    23.30,2,     0.00,2,     1.75,2,    3.978,2,    1.904,2,   -999.0,9,  -999.00,9,  -999.00,9,   2140.9,2,   2260.1,2,  6.4645
    18DD9403_1,  PR06,    PR0618,  3,     74,     19,2,19940909,2133, 49.4143,-136.6630, -999,    199.0,   5.8462,  33.8436,2,  33.8478,2,    175.4,2,    46.60,2,    28.40,2,     0.00,2,     2.07,2,    3.129,2,    1.467,2,   -999.0,9,  -999.00,9,  -999.00,9,   2187.5,2,   2275.4,2,  5.8297
    18DD9403_1,  PR06,    PR0618,  3,     75,     18,2,19940909,2133, 49.4143,-136.6630, -999,    301.0,   4.7489,  33.8732,2,  33.8727,2,    122.7,2,    64.80,2,    34.20,2,     0.00,2,     2.51,2,    2.298,2,    1.014,2,   -999.0,9,  -999.00,9,  -999.00,9,   2240.4,2,   2280.9,2,  4.7263
    18DD9403_1,  PR06,    PR0618,  3,     76,     17,2,19940909,2133, 49.4143,-136.6630, -999,    400.0,   4.2032,  33.9336,2,  33.9394,2,     87.0,2,    81.60,2,    38.90,2,     0.00,2,     2.83,2,    1.452,2,    0.636,2,   -999.0,9,  -999.00,9,  -999.00,9,   -999.0,9,   2300.6,2,  4.1745
    18DD9403_1,  PR06,    PR0618,  3,     77,     16,2,19940909,2133, 49.4143,-136.6630, -999,    599.0,   3.8543,  34.1177,2,  34.1297,2,     32.9,2,   105.20,2,    42.40,2,     0.00,2,     3.11,2,    0.399,2,    0.218,2,   -999.0,9,  -999.00,9,  -999.00,9,   2329.4,2,   2346.2,2,  3.8119
    18DD9403_1,  PR06,    PR0618,  3,     78,     15,2,19940909,2133, 49.4143,-136.6630, -999,    800.0,   3.4418,  34.2616,2,  34.2540,2,     24.1,2,   121.70,2,    43.00,2,     0.00,2,     3.17,2,    0.095,2,    0.105,2,   -999.0,9,  -999.00,9,  -999.00,9,   2355.6,2,   2351.1,2,  3.3863
    18DD9403_1,  PR06,    PR0618,  3,     79,     14,2,19940909,2133, 49.4143,-136.6630, -999,   1000.0,   3.0445,  34.3486,2,  34.3489,2,     17.6,2,   136.20,2,    43.90,2,     0.00,2,     3.23,2,    0.000,2,    0.000,2,   -999.0,9,  -999.00,9,  -999.00,9,   2376.0,2,   2374.1,2,  2.9765
    18DD9403_1,  PR06,    PR0618,  3,     80,     13,2,19940909,2133, 49.4143,-136.6630, -999,   1200.0,   2.7646,  34.4162,2,  34.4140,2,     15.9,2,   146.50,2,    44.20,2,     0.00,2,     3.25,2,    0.000,2,    0.000,2,   -999.0,9,  -999.00,9,  -999.00,9,   2386.8,2,   2380.2,2,  2.6837
    18DD9403_1,  PR06,    PR0618,  3,     81,     12,2,19940909,2133, 49.4143,-136.6630, -999,   1399.0,   2.5111,  34.4693,2,  34.4645,2,     20.2,2,   154.00,2,    44.20,2,     0.00,2,     3.23,2,    0.000,2,    0.000,2,   -999.0,9,  -999.00,9,  -999.00,9,   2393.2,2,   2389.7,2,  2.4171
    18DD9403_1,  PR06,    PR0618,  3,     82,     11,2,19940909,2133, 49.4143,-136.6630, -999,   1599.0,   2.2902,  34.5120,2,  34.5087,2,     28.5,2,   159.60,2,    43.60,2,     0.00,2,     3.17,2,    0.040,3,    0.000,2,   -999.0,9,  -999.00,9,  -999.00,9,   2387.2,2,   2399.1,2,  2.1829
    18DD9403_1,  PR06,    PR0618,  3,     83,     10,2,19940909,2133, 49.4143,-136.6630, -999,   1799.0,   2.0894,  34.5498,2,  34.5501,2,     43.7,2,   163.30,2,    42.80,2,     0.00,2,     3.10,2,    0.000,2,    0.000,2,   -999.0,9,  -999.00,9,  -999.00,9,   2388.4,2,   2411.3,2,  1.9685
    18DD9403_1,  PR06,    PR0618,  3,     84,      9,2,19940909,2133, 49.4143,-136.6630, -999,   1999.0,   1.9558,  34.5799,2,  34.5783,2,     57.9,2,   165.60,2,    42.10,2,     0.00,2,     3.05,2,    0.000,2,    0.000,2,   -999.0,9,  -999.00,9,  -999.00,9,   2381.8,2,   2411.6,2,  1.8204
    18DD9403_1,  PR06,    PR0618,  3,     85,      8,2,19940909,2133, 49.4143,-136.6630, -999,   2202.0,   1.8381,  34.6021,2,  34.6021,2,     70.2,3,   168.60,2,    41.50,2,     0.00,2,     2.98,2, -999.000,9, -999.000,9,   -999.0,9,  -999.00,9,  -999.00,9,   2378.8,2,   2419.5,2,  1.6872
    18DD9403_1,  PR06,    PR0618,  3,     86,      7,2,19940909,2133, 49.4143,-136.6630, -999,   2400.0,   1.7395,  34.6211,2,  34.6210,2,     86.3,2,   169.30,2,    40.60,2,     0.00,2,     2.94,2, -999.000,9, -999.000,9,   -999.0,9,  -999.00,9,  -999.00,9,   2371.4,2,   2424.7,2,  1.5730
    18DD9403_1,  PR06,    PR0618,  3,     87,      6,4,19940909,2133, 49.4143,-136.6630, -999,   2600.0,   1.6622,  34.6360,2,-999.0000,9,   -999.0,9,  -999.00,9,  -999.00,9,  -999.00,9,  -999.00,9, -999.000,9, -999.000,9,   -999.0,9,  -999.00,9,  -999.00,9,   -999.0,9,   -999.0,9,  1.4793
    18DD9403_1,  PR06,    PR0618,  3,     88,      5,2,19940909,2133, 49.4143,-136.6630, -999,   2801.0,   1.6116,  34.6458,2,  34.6454,2,    102.9,2,   169.20,2,    39.40,2,     0.00,2,     2.81,2, -999.000,9, -999.000,9,   -999.0,9,  -999.00,9,  -999.00,9,   2361.8,2,   2421.0,2,  1.4113
    18DD9403_1,  PR06,    PR0618,  3,     89,      4,2,19940909,2133, 49.4143,-136.6630, -999,   3000.0,   1.5778,  34.6543,2,  34.6540,2,    110.8,2,   169.80,2,    38.80,2,     0.01,2,     2.80,2, -999.000,9, -999.000,9,   -999.0,9,  -999.00,9,  -999.00,9,   2356.0,2,   2424.2,2,  1.3594
    18DD9403_1,  PR06,    PR0618,  3,     90,      3,2,19940909,2133, 49.4143,-136.6630, -999,   3249.0,   1.5533,  34.6612,2,  34.6607,2,    117.3,2,   170.90,2,    38.30,2,     0.00,2,     2.78,2, -999.000,9, -999.000,9,   -999.0,9,  -999.00,9,  -999.00,9,   2354.8,2,   2430.2,2,  1.3112
    18DD9403_1,  PR06,    PR0618,  3,     91,      2,2,19940909,2133, 49.4143,-136.6630, -999,   3502.0,   1.5376,  34.6673,2,  34.6665,2,    126.5,2,   170.80,2,    38.00,2,     0.00,2,     2.75,2,    0.052,3,    0.081,3,   -999.0,9,  -999.00,9,  -999.00,9,   2349.8,2,   2429.4,2,  1.2704
    18DD9403_1,  PR06,    PR0618,  3,     92,      1,2,19940909,2133, 49.4143,-136.6630, -999,   3868.0,   1.5389,  34.6734,2,  34.6743,2,    130.3,2,   173.30,2,    37.70,2,     0.00,2,     2.73,2,    0.080,3,    0.109,3,   -999.0,9,  -999.00,9,  -999.00,9,   2349.9,2,   2437.8,2,  1.2333
    18DD9403_1, PRS01,    PRS0126,  4,     95,     S9,2,19940911,1433, 50.0058,-144.9708, 4190,     70.3,   7.6512,  32.7595,2,  32.7571,2,    297.8,2,    15.70,2,    10.80,2,     0.33,2,     1.24,2,    5.544,2,    2.728,3,   -999.0,9,  -999.00,9,  -999.00,9,   2031.3,2,   -999.0,9,  7.6446
    18DD9403_1, PRS01,    PRS0126,  4,     96,     S8,2,19940911,1433, 50.0058,-144.9708, 4190,     95.3,   6.7514,  32.9172,2,  32.9526,2,    284.1,2,    18.00,2,    14.70,2,     0.00,2,     1.31,2,    6.245,2,    2.844,3,   -999.0,9,  -999.00,9,  -999.00,9,   2053.7,2,   2207.3,2,  6.7430
    18DD9403_1, PRS01,    PRS0126,  4,     97,     S7,2,19940911,1433, 50.0058,-144.9708, 4190,    144.1,   5.9406,  33.6658,2,  33.7030,2,    212.1,2,    37.70,2,    24.30,2,     0.00,2,     1.83,2,    4.571,2,    2.438,3,   -999.0,9,  -999.00,9,  -999.00,9,   2150.8,2,   2277.2,2,  5.9286
    18DD9403_1, PRS01,    PRS0126,  4,     98,     S6,2,19940911,1433, 50.0058,-144.9708, 4190,    195.7,   5.2207,  33.8386,2,  33.8311,2,    158.3,2,    54.70,2,    30.50,2,     0.00,2,     2.24,2,    2.790,2,    0.745,3,   -999.0,9,  -999.00,9,  -999.00,9,   2202.7,2,   2279.5,2,  5.2055
    18DD9403_1, PRS01,    PRS0126,  4,     99,     S5,2,19940911,1433, 50.0058,-144.9708, 4190,    296.5,   4.3170,  33.8737,2,  33.8622,2,    112.4,2,    71.80,2,    36.20,2,     0.00,2,     2.64,2,    3.338,2,    1.872,3,   -999.0,9,  -999.00,9,  -999.00,9,   2251.2,2,   2289.6,2,  4.2957
    18DD9403_1, PRS01,    PRS0126,  4,    100,     S4,2,19940911,1433, 50.0058,-144.9708, 4190,    393.7,   3.9990,  33.9832,2,  33.9567,2,     73.5,2,    87.70,2,    39.80,2,     0.00,2,     2.92,2,    1.808,2,    0.330,3,   -999.0,9,  -999.00,9,  -999.00,9,   2292.4,2,   -999.0,9,  3.9714
    18DD9403_1, PRS01,    PRS0126,  4,    101,     S3,2,19940911,1433, 50.0058,-144.9708, 4190,    395.8,   3.9940,  33.9842,2,  33.9589,2,     73.7,2,    87.90,2,    39.90,2,     0.00,2,     2.92,2,    1.298,2,    0.341,3,   -999.0,9,  -999.00,9,  -999.00,9,   2288.6,2,   2303.5,2,  3.9663
    18DD9403_1, PRS01,    PRS0126,  4,    102,     S2,2,19940911,1433, 50.0058,-144.9708, 4190,    998.4,   2.9933,  34.3545,2,  34.3399,2,     21.6,2,   138.70,2,    43.60,2,     0.00,2,     3.19,2,    0.852,3,    1.100,3,   -999.0,9,  -999.00,9,  -999.00,9,   2368.8,2,   2371.5,2,  2.9258
    18DD9403_1, PRS01,    PRS0126,  4,    103,     S1,2,19940911,1433, 50.0058,-144.9708, 4190,    998.4,   2.9933,  34.3545,2,  34.3459,2,     22.8,2,   138.60,2,    43.90,2,     0.00,2,     3.20,2,    0.448,2,    0.153,3,   -999.0,9,  -999.00,9,  -999.00,9,   2368.3,2,   2390.5,2,  2.9258
    18DD9403_1, PRS01,    PRS0126,  5,     94,    S10,2,19940911,1502, 50.0052,-144.9727, -999,     45.7,   9.8826,  32.7398,2,  32.6744,2,    302.5,2,    12.20,2,     7.90,2,     0.08,2,     0.99,2,    5.636,2,    1.243,3,   -999.0,9,  -999.00,9,  -999.00,9,   2023.1,2,   2202.6,2,  9.8775
    18DD9403_1, PRS01,    PRS0126,  6,     93,    S11,2,19940911,1504, 50.0043,-144.9727, -999,     19.2,  13.3808,  32.5369,2,  32.5333,2,    274.8,2,    10.10,2,     5.00,2,     0.06,2,     0.73,2,    5.443,2,    2.312,3,   -999.0,9,  -999.00,9,  -999.00,9,   1969.5,2,   2189.1,2, 13.3782
    18DD9403_1, PRS01,    PRS0126,  8,    104,     21,2,19940911,1639, 49.9983,-144.9710, 4191,    501.1,   3.8189,  34.0755,2,  34.0613,2,     48.8,2,   100.40,2,    41.30,2,     0.00,2,     3.04,2,    0.140,2,    0.777,3,   -999.0,9,  -999.00,9,  -999.00,9,   2316.2,2,   2323.1,2,  3.7840
    18DD9403_1, PRS01,    PRS0126,  8,    105,     20,2,19940911,1639, 49.9983,-144.9710, 4191,    598.6,   3.6303,  34.1518,2,  34.1475,2,     35.2,2,   111.30,2,    42.60,2,     0.00,2,     3.11,2,    0.232,2,    0.111,3,   -999.0,9,  -999.00,9,  -999.00,9,   2334.9,2,   -999.0,9,  3.5889
    18DD9403_1, PRS01,    PRS0126,  8,    106,     19,2,19940911,1639, 49.9983,-144.9710, 4191,    798.0,   3.2838,  34.2761,2,  34.2820,2,     27.4,2,   127.40,2,    43.10,2,     0.00,2,     3.19,2,    0.251,2,    0.081,3,   -999.0,9,  -999.00,9,  -999.00,9,   2355.5,2,   2356.7,2,  3.2294
    18DD9403_1, PRS01,    PRS0126,  8,    107,     18,2,19940911,1639, 49.9983,-144.9710, 4191,   1000.1,   2.9359,  34.3540,2,  34.3637,2,     22.6,2,   139.80,2,    43.80,2,     0.00,2,     3.21,2,    0.094,2,    0.000,3,   -999.0,9,  -999.00,9,  -999.00,9,   2374.9,2,   -999.0,9,  2.8687
    18DD9403_1, PRS01,    PRS0126,  8,    108,     17,2,19940911,1639, 49.9983,-144.9710, 4191,   1199.4,   2.6406,  34.4189,2,  34.4296,2,     20.2,2,   150.40,2,    44.00,2,     0.00,2,     3.23,2,    0.035,2,    0.000,3,   -999.0,9,  -999.00,9,  -999.00,9,   2383.3,2,   2377.4,2,  2.5608
    18DD9403_1, PRS01,    PRS0126,  8,    109,     16,2,19940911,1639, 49.9983,-144.9710, 4191,   1400.4,   2.4428,  34.4668,2,  34.4760,2,     21.6,2,   157.70,2,    44.50,2,     0.00,2,     3.23,2,    0.000,2,    0.000,3,   -999.0,9,  -999.00,9,  -999.00,9,   2395.1,2,   2404.2,2,  2.3494
    18DD9403_1, PRS01,    PRS0126,  8,    110,     15,2,19940911,1639, 49.9983,-144.9710, 4191,   1600.5,   2.2702,  34.5068,2,  34.5118,2,     30.9,2,   162.40,2,    43.90,2,     0.00,2,     3.19,2,    0.000,2,    0.000,3,   -999.0,9,  -999.00,9,  -999.00,9,   2396.4,2,   2400.1,2,  2.1630
    18DD9403_1, PRS01,    PRS0126,  8,    111,     14,2,19940911,1639, 49.9983,-144.9710, 4191,   1799.6,   2.1039,  34.5418,2,  34.5472,2,     41.6,2,   166.00,2,    43.30,2,     0.00,2,     3.13,2,    0.000,2,    0.000,3,   -999.0,9,  -999.00,9,  -999.00,9,   2394.2,2,   -999.0,9,  1.9828
    18DD9403_1, PRS01,    PRS0126,  8,    112,     13,2,19940911,1639, 49.9983,-144.9710, 4191,   1999.1,   1.9726,  34.5706,2,  34.5739,2,     55.2,2,   167.90,2,    42.30,2,     0.00,2,     3.06,2,    0.000,2,    0.000,3,   -999.0,9,  -999.00,9,  -999.00,9,   2386.7,2,   2437.6,2,  1.8369
    18DD9403_1, PRS01,    PRS0126,  8,    113,     12,2,19940911,1639, 49.9983,-144.9710, 4191,   2199.5,   1.8558,  34.5941,2,  34.5973,2,     68.1,2,   168.30,2,    41.70,2,     0.00,2,     3.01,2, -999.000,9, -999.000,9,   -999.0,9,  -999.00,9,  -999.00,9,   2376.9,2,   -999.0,9,  1.7048
    18DD9403_1, PRS01,    PRS0126,  8,    114,     11,2,19940911,1639, 49.9983,-144.9710, 4191,   2199.6,   1.8560,  34.5941,2,  34.5973,2,     66.0,2,   168.80,2,    41.50,2,     0.00,2,     3.01,2, -999.000,9, -999.000,9,   -999.0,9,  -999.00,9,  -999.00,9,   2378.4,2,   2418.3,2,  1.7050
    18DD9403_1, PRS01,    PRS0126,  8,    115,     10,2,19940911,1639, 49.9983,-144.9710, 4191,   2401.0,   1.7756,  34.6103,2,  34.6136,2,     80.4,2,   168.30,2,    41.00,2,     0.00,2,     2.95,2, -999.000,9, -999.000,9,   -999.0,9,  -999.00,9,  -999.00,9,   2373.8,2,   -999.0,9,  1.6084
    18DD9403_1, PRS01,    PRS0126,  8,    116,      9,2,19940911,1639, 49.9983,-144.9710, 4191,   2599.5,   1.7021,  34.6262,2,  34.6276,2,     90.8,2,   169.10,2,    40.00,2,     0.00,2,     2.88,2, -999.000,9, -999.000,9,   -999.0,9,  -999.00,9,  -999.00,9,   2368.4,2,   2443.2,2,  1.5185
    18DD9403_1, PRS01,    PRS0126,  8,    117,      8,2,19940911,1639, 49.9983,-144.9710, 4191,   2800.6,   1.6370,  34.6391,2,  34.6416,2,    101.6,2,   168.10,2,    39.70,2,     0.00,2,     2.84,2, -999.000,9, -999.000,9,   -999.0,9,  -999.00,9,  -999.00,9,   2361.9,2,   -999.0,9,  1.4363
    18DD9403_1, PRS01,    PRS0126,  8,    118,      7,2,19940911,1639, 49.9983,-144.9710, 4191,   3000.0,   1.5882,  34.6495,2,  34.6510,2,    110.2,2,   167.90,2,    38.90,2,     0.00,2,     2.79,2, -999.000,9, -999.000,9,   -999.0,9,  -999.00,9,  -999.00,9,   2357.2,2,   2426.1,2,  1.3696
    18DD9403_1, PRS01,    PRS0126,  8,    119,      6,2,19940911,1639, 49.9983,-144.9710, 4191,   3199.5,   1.5488,  34.6584,2,  34.6575,2,    119.0,2,   167.40,2,    38.60,2,     0.00,2,     2.75,2, -999.000,9, -999.000,9,   -999.0,9,  -999.00,9,  -999.00,9,   2351.4,2,   -999.0,9,  1.3118
    18DD9403_1, PRS01,    PRS0126,  8,    120,      5,2,19940911,1639, 49.9983,-144.9710, 4191,   3401.0,   1.5171,  34.6658,2,  34.6663,2,    126.9,2,   166.90,2,    37.90,2,     0.00,2,     2.71,2, -999.000,9, -999.000,9,   -999.0,9,  -999.00,9,  -999.00,9,   2347.1,2,   2425.6,2,  1.2607
    18DD9403_1, PRS01,    PRS0126,  8,    121,      4,2,19940911,1639, 49.9983,-144.9710, 4191,   3601.6,   1.5035,  34.6706,2,  34.6630,2,    131.7,2,   165.70,2,    37.50,2,     0.00,2,     2.68,2, -999.000,9, -999.000,9,   -999.0,9,  -999.00,9,  -999.00,9,   2343.8,2,   2424.7,2,  1.2270
    18DD9403_1, PRS01,    PRS0126,  8,    122,      3,2,19940911,1639, 49.9983,-144.9710, 4191,   3802.0,   1.4988,  34.6745,2,  34.6730,2,    135.8,2,   165.40,2,    37.10,2,     0.00,2,     2.66,2, -999.000,9, -999.000,9,   -999.0,9,  -999.00,9,  -999.00,9,   2339.7,2,   -999.0,9,  1.2013
    18DD9403_1, PRS01,    PRS0126,  8,    123,      2,2,19940911,1639, 49.9983,-144.9710, 4191,   4001.2,   1.4990,  34.6777,2,  34.6760,2,    140.9,2,   165.40,2,    37.10,2,     0.00,2,     2.64,2,    0.388,3,    0.000,3,   -999.0,9,  -999.00,9,  -999.00,9,   2337.9,2,   2430.1,2,  1.1801
    18DD9403_1, PRS01,    PRS0126,  8,    124,      1,2,19940911,1639, 49.9983,-144.9710, 4191,   4201.2,   1.5018,  34.6804,2,  34.6795,2,    143.7,2,   165.60,2,    36.90,2,     0.00,2,     2.64,2,    0.045,3,    0.000,3,   -999.0,9,  -999.00,9,  -999.00,9,   2337.2,2,   -999.0,9,  1.1607
    18DD9403_1,  P15N,   001,  2,    125,      3,4,19940918,1507, 53.9207,-164.9895, -999,     10.0,-999.0000,-999.0000,9,-999.0000,9,   -999.0,9,  -999.00,9,  -999.00,9,  -999.00,9,  -999.00,9, -999.000,9, -999.000,9,   -999.0,9,  -999.00,9,  -999.00,9,   -999.0,9,   -999.0,9,-999.0000
    18DD9403_1,  P15N,   001,  2,    126,      2,4,19940918,1507, 53.9207,-164.9895, -999,     50.0,-999.0000,-999.0000,9,-999.0000,9,   -999.0,9,  -999.00,9,  -999.00,9,  -999.00,9,  -999.00,9, -999.000,9, -999.000,9,   -999.0,9,  -999.00,9,  -999.00,9,   -999.0,9,   -999.0,9,-999.0000
    18DD9403_1,  P15N,   001,  2,    127,      1,4,19940918,1507, 53.9207,-164.9895, -999,     80.0,-999.0000,-999.0000,9,-999.0000,9,   -999.0,9,  -999.00,9,  -999.00,9,  -999.00,9,  -999.00,9, -999.000,9, -999.000,9,   -999.0,9,  -999.00,9,  -999.00,9,   -999.0,9,   -999.0,9,-999.0000
    18DD9403_1,  P15N,   002,  3,    128,      8,2,19940919,0400, 53.7443,-164.9883, -999,      9.3,   8.4354,  31.8134,2,  31.8148,2,    284.0,2,    17.50,2,     7.50,2,     0.24,2,     0.96,2,    5.006,3,    2.094,3,   -999.0,9,  -999.00,9,  -999.00,9,   1981.7,2,   2150.6,2,  8.4345
    18DD9403_1,  P15N,   002,  3,    129,      7,2,19940919,0400, 53.7443,-164.9883, -999,     49.6,   7.3093,  32.1740,2,  32.1652,2,    262.3,2,    27.10,2,    12.90,2,     0.31,2,     1.42,2,    5.263,3,    2.195,3,   -999.0,9,  -999.00,9,  -999.00,9,   2032.6,2,   2169.3,2,  7.3048
    18DD9403_1,  P15N,   002,  3,    130,      6,2,19940919,0400, 53.7443,-164.9883, -999,     49.9,   7.3158,  32.1798,2,  32.1718,2,    262.0,2,    27.10,2,    13.20,2,     0.31,2,     1.34,2,    4.993,3,    2.128,3,   -999.0,9,  -999.00,9,  -999.00,9,   2038.0,2,   2173.3,2,  7.3113
    18DD9403_1,  P15N,   002,  3,    131,      5,2,19940919,0400, 53.7443,-164.9883, -999,     75.2,   5.8032,  32.3903,2,  32.4512,2,    249.0,2,    27.50,2,    18.00,2,     0.15,2,     1.57,2,    5.030,3,    2.270,3,   -999.0,9,  -999.00,9,  -999.00,9,   2080.2,2,   2176.9,2,  5.7972
    18DD9403_1,  P15N,   002,  3,    132,      4,2,19940919,0400, 53.7443,-164.9883, -999,     98.0,   5.2531,  32.8675,2,  32.8726,2,    203.7,2,    42.60,2,    24.20,2,     0.16,2,     1.94,2,    4.245,3,    1.919,3,   -999.0,9,  -999.00,9,  -999.00,9,   2138.7,2,   2211.1,2,  5.2457
    18DD9403_1,  P15N,   002,  3,    133,      3,2,19940919,0400, 53.7443,-164.9883, -999,    100.2,   5.2145,  32.9139,2,  32.8874,2,    201.7,2,    41.40,2,    24.70,2,     0.16,2,     1.95,2,    4.286,3,    1.878,3,   -999.0,9,  -999.00,9,  -999.00,9,   2132.7,2,   2206.6,2,  5.2069
    18DD9403_1,  P15N,   002,  3,    134,      2,2,19940919,0400, 53.7443,-164.9883, -999,    150.4,   4.9220,  33.5356,2,  33.5363,2,    140.1,2,    56.80,2,    32.40,2,     0.07,2,     2.38,2,    2.806,3,    1.775,3,   -999.0,9,  -999.00,9,  -999.00,9,   2226.1,2,   2258.8,2,  4.9107
    18DD9403_1,  P15N,   002,  3,    135,      1,2,19940919,0400, 53.7443,-164.9883, -999,    176.9,   4.5397,  33.6766,2,  33.6771,2,    119.1,2,    65.70,2,    35.10,2,     0.05,2,     2.53,2,    2.769,3,    1.356,3,   -999.0,9,  -999.00,9,  -999.00,9,   2235.1,2,   2265.3,2,  4.5269