BOTTLE,20130510IOSDFOJC
EXPOCODE,SECT_ID,STNNBR,CASTNO,SAMPNO,BTLNBR,BTLNBR_FLAG_W,DATE,TIME,LATITUDE,LONGITUDE,DEPTH,CTDPRS,CTDTMP,CTDSAL,CTDSAL_FLAG_W,SALNTY,SALNTY_FLAG_W,OXYGEN,OXYGEN_FLAG_W,SILCAT,SILCAT_FLAG_W,NITRAT,NITRAT_FLAG_W,NITRIT,NITRIT_FLAG_W,PHSPHT,PHSPHT_FLAG_W,CFC-11,CFC-11_FLAG_W,CFC-12,CFC-12_FLAG_W,DELC14,DELC14_FLAG_W,DELC13,DELC13_FLAG_W,O18O16,O18O16_FLAG_W,TCARBN,TCARBN_FLAG_W,ALKALI,ALKALI_FLAG_W,THETA
,,,,,,,,,,,,DBAR,ITS-90,PSS-78,,PSS-78,,UMOL/KG,,UMOL/KG,,UMOL/KG,,UMOL/KG,,UMOL/KG,,PMOL/KG,,PMOL/KG,,/MILLE,,/MILLE,,/MILLE,,UMOL/KG,,UMOL/KG,,DEG C
    18DD9403_1,  P15N,   063,  3,   1388,     23,2,19941006,0803, 24.5005,-165.0007, -999,     10.0,  27.7518,  34.8150,2,  34.8209,2,    202.6,2,     1.90,2,     0.00,2,     0.00,2,     0.13,2,    1.568,3,    0.997,3,   -999.0,9,  -999.00,9,  -999.00,9,   -999.0,9,   -999.0,9, 27.7495
    18DD9403_1,  P15N,   063,  3,   1389,     22,2,19941006,0803, 24.5005,-165.0007, -999,     49.1,  27.4282,  35.0800,2,  34.9240,2,    207.3,2,     1.60,2,     0.00,2,     0.00,2,     0.08,2,    1.631,3,    1.050,3,   -999.0,9,  -999.00,9,  -999.00,9,   -999.0,9,   -999.0,9, 27.4168
    18DD9403_1,  P15N,   063,  3,   1390,     21,2,19941006,0803, 24.5005,-165.0007, -999,     99.6,  22.2527,  35.1694,2,  35.2174,2,    207.3,2,     2.50,2,     0.00,2,     0.08,2,     0.16,2,    2.707,3,    1.083,3,   -999.0,9,  -999.00,9,  -999.00,9,   -999.0,9,   -999.0,9, 22.2328
    18DD9403_1,  P15N,   063,  3,   1391,     20,2,19941006,0803, 24.5005,-165.0007, -999,    200.9,  17.7993,  34.8393,2,  34.9013,2,    194.5,2,     4.60,2,     4.00,2,     0.00,2,     0.41,2,    2.510,3,    1.350,3,   -999.0,9,  -999.00,9,  -999.00,9,   -999.0,9,   -999.0,9, 17.7651
    18DD9403_1,  P15N,   063,  3,   1392,     19,2,19941006,0803, 24.5005,-165.0007, -999,    299.7,  13.3471,  34.3280,2,  34.4004,2,    200.0,3,    10.00,2,     9.70,2,     0.00,2,     0.83,2,    2.594,3,    1.403,3,   -999.0,9,  -999.00,9,  -999.00,9,   -999.0,9,   -999.0,9, 13.3052
    18DD9403_1,  P15N,   063,  3,   1393,     18,2,19941006,0803, 24.5005,-165.0007, -999,    400.4,  10.2823,  34.1446,2,  34.1712,2,    191.6,3,    19.70,2,    16.10,2,     0.00,2,     1.39,2,    2.452,3,    1.175,3,   -999.0,9,  -999.00,9,  -999.00,9,   -999.0,9,   -999.0,9, 10.2350
    18DD9403_1,  P15N,   063,  3,   1394,     17,2,19941006,0803, 24.5005,-165.0007, -999,    600.5,   6.2874,  34.1222,2,  34.1063,2,     84.3,3,    60.60,2,    32.90,2,     0.00,2,     2.57,2,    0.499,3,    0.424,3,   -999.0,9,  -999.00,9,  -999.00,9,   -999.0,9,   -999.0,9,  6.2336
    18DD9403_1,  P15N,   063,  3,   1395,     16,2,19941006,0803, 24.5005,-165.0007, -999,    799.0,   4.6486,  34.3188,2,  34.2950,2,     36.3,2,    94.10,2,    39.80,2,     0.00,2,     3.10,2,    0.073,3,    0.000,3,   -999.0,9,  -999.00,9,  -999.00,9,   -999.0,9,   -999.0,9,  4.5856
    18DD9403_1,  P15N,   063,  3,   1396,     15,2,19941006,0803, 24.5005,-165.0007, -999,   1001.9,   3.9936,  34.4253,2,  34.4105,2,     42.9,2,   109.50,2,    40.10,2,     0.00,2,     3.13,2,    0.022,3,    0.000,3,   -999.0,9,  -999.00,9,  -999.00,9,   -999.0,9,   -999.0,9,  3.9181
    18DD9403_1,  P15N,   063,  3,   1397,     14,2,19941006,0803, 24.5005,-165.0007, -999,   1249.2,   3.3214,  34.5220,2,  34.5051,2,     54.2,2,   123.00,2,    40.20,2,     0.00,2,     3.11,2,    0.005,3,    0.000,3,   -999.0,9,  -999.00,9,  -999.00,9,   -999.0,9,   -999.0,9,  3.2310
    18DD9403_1,  P15N,   063,  3,   1398,     13,2,19941006,0803, 24.5005,-165.0007, -999,   1501.3,   2.8666,  34.5694,2,  34.5632,2,     70.5,2,   131.40,2,    39.40,2,     0.00,2,     3.05,2, -999.000,9, -999.000,9,   -999.0,9,  -999.00,9,  -999.00,9,   -999.0,9,   -999.0,9,  2.7602
    18DD9403_1,  P15N,   063,  3,   1399,     12,2,19941006,0803, 24.5005,-165.0007, -999,   1752.4,   2.4383,  34.5889,2,  34.5823,2,     77.1,2,   142.10,2,    39.30,2,     0.00,2,     3.01,2, -999.000,9, -999.000,9,   -999.0,9,  -999.00,9,  -999.00,9,   -999.0,9,   -999.0,9,  2.3164
    18DD9403_1,  P15N,   063,  3,   1400,     11,2,19941006,0803, 24.5005,-165.0007, -999,   1752.4,   2.4383,  34.5889,2,  34.5817,2,     77.1,2,   142.80,2,    39.10,2,     0.00,2,     3.05,2, -999.000,9, -999.000,9,   -999.0,9,  -999.00,9,  -999.00,9,   -999.0,9,   -999.0,9,  2.3164
    18DD9403_1,  P15N,   063,  3,   1401,     10,2,19941006,0803, 24.5005,-165.0007, -999,   2255.6,   1.8722,  34.6316,2,  34.6289,2,     99.9,2,   153.30,2,    38.00,2,     0.00,2,     2.90,2, -999.000,9, -999.000,9,   -999.0,9,  -999.00,9,  -999.00,9,   -999.0,9,   -999.0,9,  1.7160
    18DD9403_1,  P15N,   063,  3,   1402,      9,2,19941006,0803, 24.5005,-165.0007, -999,   2507.0,   1.7237,  34.6452,2,  34.6425,2,    109.8,2,   156.00,2,    37.20,2,     0.00,2,     2.88,2, -999.000,9, -999.000,9,   -999.0,9,  -999.00,9,  -999.00,9,   -999.0,9,   -999.0,9,  1.5479
    18DD9403_1,  P15N,   063,  3,   1403,      8,2,19941006,0803, 24.5005,-165.0007, -999,   2744.1,   1.6366,  34.6559,2,  34.6540,2,    118.0,2,   155.50,2,    36.80,2,     0.00,2,     2.81,2, -999.000,9, -999.000,9,   -999.0,9,  -999.00,9,  -999.00,9,   -999.0,9,   -999.0,9,  1.4410
    18DD9403_1,  P15N,   063,  3,   1404,      7,2,19941006,0803, 24.5005,-165.0007, -999,   3000.1,   1.5587,  34.6650,2,  34.6637,2,    127.1,2,   155.30,2,    36.00,2,     0.00,2,     2.83,2, -999.000,9, -999.000,9,   -999.0,9,  -999.00,9,  -999.00,9,   -999.0,9,   -999.0,9,  1.3407
    18DD9403_1,  P15N,   063,  3,   1405,      6,2,19941006,0803, 24.5005,-165.0007, -999,   3248.9,   1.4969,  34.6724,2,  34.6709,2,    135.6,2,   153.20,2,    35.50,2,     0.00,2,     2.71,2, -999.000,9, -999.000,9,   -999.0,9,  -999.00,9,  -999.00,9,   -999.0,9,   -999.0,9,  1.2561
    18DD9403_1,  P15N,   063,  3,   1406,      5,2,19941006,0803, 24.5005,-165.0007, -999,   3499.1,   1.4764,  34.6760,2,  34.6761,2,    141.3,2,   151.80,2,    35.00,2,     0.00,2,     2.68,2, -999.000,9, -999.000,9,   -999.0,9,  -999.00,9,  -999.00,9,   -999.0,9,   -999.0,9,  1.2110
    18DD9403_1,  P15N,   063,  3,   1407,      4,2,19941006,0803, 24.5005,-165.0007, -999,   3749.4,   1.4561,  34.6800,2,  34.6800,2,    146.3,2,   151.00,2,    34.80,2,     0.00,2,     2.67,2, -999.000,9, -999.000,9,   -999.0,9,  -999.00,9,  -999.00,9,   -999.0,9,   -999.0,9,  1.1652
    18DD9403_1,  P15N,   063,  3,   1408,      3,2,19941006,0803, 24.5005,-165.0007, -999,   3998.7,   1.4504,  34.6830,2,  34.6823,2,    150.8,2,   149.00,2,    34.40,2,     0.00,2,     2.62,2, -999.000,9, -999.000,9,   -999.0,9,  -999.00,9,  -999.00,9,   -999.0,9,   -999.0,9,  1.1330
    18DD9403_1,  P15N,   063,  3,   1409,      2,2,19941006,0803, 24.5005,-165.0007, -999,   4500.6,   1.4719,  34.6860,2,  34.6871,3,    157.9,3,   146.90,2,    34.40,2,     0.00,2,     2.59,2, -999.000,9, -999.000,9,   -999.0,9,  -999.00,9,  -999.00,9,   -999.0,9,   -999.0,9,  1.0977
    18DD9403_1,  P15N,   063,  3,   1410,      1,2,19941006,0803, 24.5005,-165.0007, -999,   4982.6,   1.5200,  34.6876,2,  34.6873,3,    159.1,3,   145.70,2,    33.40,2,     0.00,2,     2.80,4, -999.000,9, -999.000,9,   -999.0,9,  -999.00,9,  -999.00,9,   -999.0,9,   -999.0,9,  1.0872
    18DD9403_1,  P15N,   064,  3,   1411,     23,2,19941006,1504, 23.9883,-164.9990, -999,      8.0,  27.1196,  34.7969,2,  34.8388,2,    206.2,2,     2.30,2,     0.20,2,     0.00,2,     0.07,2,    1.803,3,    0.905,3,   -999.0,9,  -999.00,9,  -999.00,9,   1944.6,2,   -999.0,9, 27.1178
    18DD9403_1,  P15N,   064,  3,   1412,     22,2,19941006,1504, 23.9883,-164.9990, -999,     48.0,  25.9074,  34.9223,2,  34.9295,2,    213.9,2,     2.30,2,     0.00,2,     0.00,2,     0.06,2,    1.666,3,    0.936,3,   -999.0,9,  -999.00,9,  -999.00,9,   1955.6,2,   -999.0,9, 25.8967
    18DD9403_1,  P15N,   064,  3,   1413,     21,2,19941006,1504, 23.9883,-164.9990, -999,    100.4,  22.9550,  35.0729,2,  35.1005,2,    220.1,2,     2.80,2,     0.00,2,     0.00,2,     0.06,2,    2.020,3,    1.054,3,   -999.0,9,  -999.00,9,  -999.00,9,   1982.8,2,   -999.0,9, 22.9345
    18DD9403_1,  P15N,   064,  3,   1414,     20,2,19941006,1504, 23.9883,-164.9990, -999,    198.3,  20.0227,  35.0324,2,  35.1465,2,    193.8,2,     3.00,2,     2.10,2,     0.00,2,     0.21,2,    2.478,3,    1.379,3,   -999.0,9,  -999.00,9,  -999.00,9,   2033.5,2,   -999.0,9, 19.9860
    18DD9403_1,  P15N,   064,  3,   1415,     19,2,19941006,1504, 23.9883,-164.9990, -999,    301.4,  14.1339,  34.4656,2,  34.4783,2,    200.8,3,     8.70,2,     8.60,2,     0.00,2,     0.81,2,    2.611,3,    1.304,3,   -999.0,9,  -999.00,9,  -999.00,9,   2065.5,2,   -999.0,9, 14.0901
    18DD9403_1,  P15N,   064,  3,   1416,     18,2,19941006,1504, 23.9883,-164.9990, -999,    402.7,  10.3963,  34.1770,2,  34.2107,2,    176.4,3,    21.70,2,    18.20,2,     0.00,2,     1.38,2,    2.027,3,    0.956,3,   -999.0,9,  -999.00,9,  -999.00,9,   2122.7,2,   -999.0,9, 10.3484
    18DD9403_1,  P15N,   064,  3,   1417,     17,2,19941006,1504, 23.9883,-164.9990, -999,    597.3,   6.4026,  34.1540,2,  34.1553,2,     73.4,3,    62.80,2,    35.10,2,     0.00,2,     2.61,2,    0.404,3,    0.179,3,   -999.0,9,  -999.00,9,  -999.00,9,   2263.6,2,   -999.0,9,  6.3485
    18DD9403_1,  P15N,   064,  3,   1418,     16,2,19941006,1504, 23.9883,-164.9990, -999,    797.7,   4.6790,  34.3160,2,  34.2989,2,     38.2,3,    96.00,2,    41.60,2,     0.00,2,     3.00,2,    0.074,3,    0.000,3,   -999.0,9,  -999.00,9,  -999.00,9,   2321.0,2,   -999.0,9,  4.6159
    18DD9403_1,  P15N,   064,  3,   1419,     15,2,19941006,1504, 23.9883,-164.9990, -999,   1004.1,   3.9830,  34.4741,2,  34.4770,2,     47.6,2,   110.10,2,    42.00,2,     0.00,2,     3.02,2,    0.008,3,    0.060,3,   -999.0,9,  -999.00,9,  -999.00,9,   2338.5,2,   -999.0,9,  3.9073
    18DD9403_1,  P15N,   064,  3,   1420,     14,2,19941006,1504, 23.9883,-164.9990, -999,   1248.8,   3.3400,  34.5281,2,  34.5268,2,     61.5,2,   123.70,2,    41.50,2,     0.02,2,     3.20,2,    0.006,3,    0.212,3,   -999.0,9,  -999.00,9,  -999.00,9,   2347.7,2,   -999.0,9,  3.2494
    18DD9403_1,  P15N,   064,  3,   1421,     13,2,19941006,1504, 23.9883,-164.9990, -999,   1499.2,   2.8185,  34.5643,2,  34.5630,2,     71.7,2,   135.10,2,    41.40,2,     0.02,2,     2.92,2,    0.008,3,    0.000,3,   -999.0,9,  -999.00,9,  -999.00,9,   2350.0,2,   -999.0,9,  2.7128
    18DD9403_1,  P15N,   064,  3,   1422,     12,2,19941006,1504, 23.9883,-164.9990, -999,   1748.6,   2.4645,  34.5923,2,  34.5898,2,     82.0,2,   142.60,2,    40.70,2,     0.02,2,     3.00,2, -999.000,9, -999.000,9,   -999.0,9,  -999.00,9,  -999.00,9,   2348.8,2,   -999.0,9,  2.3425
    18DD9403_1,  P15N,   064,  3,   1423,     11,2,19941006,1504, 23.9883,-164.9990, -999,   1998.2,   2.1247,  34.6104,2,  34.6128,2,     91.5,2,   150.30,2,    40.60,2,     0.02,2,     2.87,2, -999.000,9, -999.000,9,   -999.0,9,  -999.00,9,  -999.00,9,   2351.0,2,   -999.0,9,  1.9865
    18DD9403_1,  P15N,   064,  3,   1424,     10,2,19941006,1504, 23.9883,-164.9990, -999,   1998.2,   2.1247,  34.6104,2,  34.6127,2,     91.1,2,   150.30,2,    40.60,2,     0.01,2,     2.87,2, -999.000,9, -999.000,9,   -999.0,9,  -999.00,9,  -999.00,9,   2351.6,2,   -999.0,9,  1.9866
    18DD9403_1,  P15N,   064,  3,   1425,      9,2,19941006,1504, 23.9883,-164.9990, -999,   2500.7,   1.7404,  34.6430,2,  34.6429,2,    110.3,2,   158.10,2,    39.40,2,     0.02,2,     2.78,2, -999.000,9, -999.000,9,   -999.0,9,  -999.00,9,  -999.00,9,   2349.2,2,   -999.0,9,  1.5649
    18DD9403_1,  P15N,   064,  3,   1426,      8,2,19941006,1504, 23.9883,-164.9990, -999,   2748.2,   1.6349,  34.6560,2,  34.6560,2,    121.9,2,   157.60,2,    38.70,2,     0.01,2,     2.72,2, -999.000,9, -999.000,9,   -999.0,9,  -999.00,9,  -999.00,9,   2347.7,2,   -999.0,9,  1.4390
    18DD9403_1,  P15N,   064,  3,   1427,      7,2,19941006,1504, 23.9883,-164.9990, -999,   2999.2,   1.5514,  34.6637,2,  34.6633,2,    128.0,2,   157.10,2,    38.30,2,     0.01,2,     2.76,2, -999.000,9, -999.000,9,   -999.0,9,  -999.00,9,  -999.00,9,   2341.6,2,   -999.0,9,  1.3337
    18DD9403_1,  P15N,   064,  3,   1428,      6,2,19941006,1504, 23.9883,-164.9990, -999,   3249.8,   1.5079,  34.6691,2,  34.6703,2,    135.7,2,   155.30,2,    37.70,2,     0.00,2,     2.62,2, -999.000,9, -999.000,9,   -999.0,9,  -999.00,9,  -999.00,9,   2333.1,2,   -999.0,9,  1.2668
    18DD9403_1,  P15N,   064,  3,   1429,      5,2,19941006,1504, 23.9883,-164.9990, -999,   3499.1,   1.4750,  34.6755,2,  34.6755,2,    142.6,2,   148.40,2,    37.70,2,     0.02,2,     2.57,2, -999.000,9, -999.000,9,   -999.0,9,  -999.00,9,  -999.00,9,   2329.7,2,   -999.0,9,  1.2097
    18DD9403_1,  P15N,   064,  3,   1430,      4,2,19941006,1504, 23.9883,-164.9990, -999,   3750.7,   1.4475,  34.6809,2,  34.6805,2,    148.2,2,   153.90,2,    37.30,2,     0.01,2,     2.51,2, -999.000,9, -999.000,9,   -999.0,9,  -999.00,9,  -999.00,9,   2325.4,2,   -999.0,9,  1.1567
    18DD9403_1,  P15N,   064,  3,   1431,      3,2,19941006,1504, 23.9883,-164.9990, -999,   3998.9,   1.4417,  34.6837,2,  34.6840,2,    150.7,2,   148.90,2,    36.80,2,     0.01,2,     2.52,2, -999.000,9, -999.000,9,   -999.0,9,  -999.00,9,  -999.00,9,   2324.1,2,   -999.0,9,  1.1245
    18DD9403_1,  P15N,   064,  3,   1432,      2,2,19941006,1504, 23.9883,-164.9990, -999,   4250.2,   1.4514,  34.6853,2,  34.6857,2,    154.2,2,   149.60,2,    35.90,2,     0.02,2,     2.64,2, -999.000,9, -999.000,9,   -999.0,9,  -999.00,9,  -999.00,9,   2319.0,2,   -999.0,9,  1.1062
    18DD9403_1,  P15N,   064,  3,   1433,      1,2,19941006,1504, 23.9883,-164.9990, -999,   4360.6,   1.4590,  34.6853,2,  34.6858,2,    154.9,2,  -999.00,9,  -999.00,9,  -999.00,9,  -999.00,9, -999.000,9, -999.000,9,   -999.0,9,  -999.00,9,  -999.00,9,   2321.6,2,   -999.0,9,  1.1012