BOTTLE,20130510IOSDFOJC
EXPOCODE,SECT_ID,STNNBR,CASTNO,SAMPNO,BTLNBR,BTLNBR_FLAG_W,DATE,TIME,LATITUDE,LONGITUDE,DEPTH,CTDPRS,CTDTMP,CTDSAL,CTDSAL_FLAG_W,SALNTY,SALNTY_FLAG_W,OXYGEN,OXYGEN_FLAG_W,SILCAT,SILCAT_FLAG_W,NITRAT,NITRAT_FLAG_W,NITRIT,NITRIT_FLAG_W,PHSPHT,PHSPHT_FLAG_W,CFC-11,CFC-11_FLAG_W,CFC-12,CFC-12_FLAG_W,DELC14,DELC14_FLAG_W,DELC13,DELC13_FLAG_W,O18O16,O18O16_FLAG_W,TCARBN,TCARBN_FLAG_W,ALKALI,ALKALI_FLAG_W,THETA
,,,,,,,,,,,,DBAR,ITS-90,PSS-78,,PSS-78,,UMOL/KG,,UMOL/KG,,UMOL/KG,,UMOL/KG,,UMOL/KG,,PMOL/KG,,PMOL/KG,,/MILLE,,/MILLE,,/MILLE,,UMOL/KG,,UMOL/KG,,DEG C
    18DD9403_1,  P15N,   061,  3,   1342,     23,4,19941005,1815, 25.5087,-164.9938, -999,      5.0,-999.0000,-999.0000,9,-999.0000,9,   -999.0,9,  -999.00,9,  -999.00,9,  -999.00,9,  -999.00,9,    2.841,3,    1.092,3,   -999.0,9,  -999.00,9,  -999.00,9,   -999.0,9,   -999.0,9,-999.0000
    18DD9403_1,  P15N,   061,  3,   1343,     22,2,19941005,1815, 25.5087,-164.9938, -999,      6.5,  26.6744,  35.2952,2,  35.3164,2,    207.7,3,     2.30,2,     0.00,2,     0.00,2,     0.00,2, -999.000,9, -999.000,9,   -999.0,9,  -999.00,9,  -999.00,9,   -999.0,9,   -999.0,9, 26.6729
    18DD9403_1,  P15N,   061,  3,   1344,     21,2,19941005,1815, 25.5087,-164.9938, -999,    100.8,  19.1360,  35.1471,2,  35.1123,2,    216.9,2,     3.40,2,     0.00,2,     0.00,2,     0.12,2,    2.791,3,    1.050,3,   -999.0,9,  -999.00,9,  -999.00,9,   -999.0,9,   -999.0,9, 19.1179
    18DD9403_1,  P15N,   061,  3,   1345,     20,2,19941005,1815, 25.5087,-164.9938, -999,    200.3,  14.7772,  34.6079,2,  34.5739,2,    211.1,2,    11.80,2,    10.20,2,     0.00,2,     0.79,2,    2.869,3,    1.236,3,   -999.0,9,  -999.00,9,  -999.00,9,   -999.0,9,   -999.0,9, 14.7473
    18DD9403_1,  P15N,   061,  3,   1346,     19,2,19941005,1815, 25.5087,-164.9938, -999,    298.2,  12.3890,  34.3285,2,  34.3463,2,    222.0,3,    12.00,2,    10.30,2,     0.00,2,     0.77,2,    2.890,3,    1.245,3,   -999.0,9,  -999.00,9,  -999.00,9,   -999.0,9,   -999.0,9, 12.3494
    18DD9403_1,  P15N,   061,  3,   1347,     18,2,19941005,1815, 25.5087,-164.9938, -999,    400.1,   9.9793,  34.1490,2,  34.1748,2,    206.1,3,    20.50,2,    16.00,2,     0.00,2,     1.17,2,    2.838,3,    1.125,3,   -999.0,9,  -999.00,9,  -999.00,9,   -999.0,9,   -999.0,9,  9.9329
    18DD9403_1,  P15N,   061,  3,   1348,     17,2,19941005,1815, 25.5087,-164.9938, -999,    598.0,   6.0728,  34.0431,2,  34.0432,2,    110.0,3,    60.00,2,    31.80,2,     0.00,2,     2.46,2,    1.757,3,    0.786,3,   -999.0,9,  -999.00,9,  -999.00,9,   -999.0,9,   -999.0,9,  6.0203
    18DD9403_1,  P15N,   061,  3,   1349,     16,2,19941005,1815, 25.5087,-164.9938, -999,    802.7,   4.4411,  34.2374,2,  34.2291,2,     35.2,2,    97.00,2,    40.30,2,     0.00,2,     3.02,2,    0.098,3,    0.000,3,   -999.0,9,  -999.00,9,  -999.00,9,   -999.0,9,   -999.0,9,  4.3792
    18DD9403_1,  P15N,   061,  3,   1350,     15,2,19941005,1815, 25.5087,-164.9938, -999,   1005.2,   3.8205,  34.4208,2,  34.4054,2,     35.5,2,   113.30,2,    41.30,2,     0.00,2,     3.09,2,    0.015,3,    0.000,3,   -999.0,9,  -999.00,9,  -999.00,9,   -999.0,9,   -999.0,9,  3.7459
    18DD9403_1,  P15N,   061,  3,   1351,     14,2,19941005,1815, 25.5087,-164.9938, -999,   1257.9,   3.2191,  34.5149,2,  34.5039,2,     52.9,2,   126.00,2,    40.70,2,     0.00,2,     3.05,2,    0.006,3,    0.265,3,   -999.0,9,  -999.00,9,  -999.00,9,   -999.0,9,   -999.0,9,  3.1290
    18DD9403_1,  P15N,   061,  3,   1352,     13,2,19941005,1815, 25.5087,-164.9938, -999,   1504.6,   2.7590,  34.5597,2,  34.5560,2,     69.0,2,   134.70,2,    40.10,2,     0.00,2,     2.99,2,    0.016,3,    0.243,3,   -999.0,9,  -999.00,9,  -999.00,9,   -999.0,9,   -999.0,9,  2.6537
    18DD9403_1,  P15N,   061,  3,   1353,     12,2,19941005,1815, 25.5087,-164.9938, -999,   1752.4,   2.3538,  34.5918,2,  34.5898,2,     81.1,2,   143.60,2,    39.60,2,     0.00,2,     2.92,2, -999.000,9, -999.000,9,   -999.0,9,  -999.00,9,  -999.00,9,   -999.0,9,   -999.0,9,  2.2331
    18DD9403_1,  P15N,   061,  3,   1354,     11,2,19941005,1815, 25.5087,-164.9938, -999,   2001.7,   2.0315,  34.6158,2,  34.6142,2,     89.1,2,   149.80,2,    39.00,2,     0.00,2,     2.85,2, -999.000,9, -999.000,9,   -999.0,9,  -999.00,9,  -999.00,9,   -999.0,9,   -999.0,9,  1.8945
    18DD9403_1,  P15N,   061,  3,   1355,     10,2,19941005,1815, 25.5087,-164.9938, -999,   2001.7,   2.0315,  34.6158,2,  34.6144,2,     91.4,2,   150.20,2,    38.80,2,     0.00,2,     2.84,2, -999.000,9, -999.000,9,   -999.0,9,  -999.00,9,  -999.00,9,   -999.0,9,   -999.0,9,  1.8945
    18DD9403_1,  P15N,   061,  3,   1356,      9,2,19941005,1815, 25.5087,-164.9938, -999,   2495.7,   1.6922,  34.6466,2,  34.6465,2,    111.4,2,   154.10,2,    38.00,2,     0.00,2,     2.73,2, -999.000,9, -999.000,9,   -999.0,9,  -999.00,9,  -999.00,9,   -999.0,9,   -999.0,9,  1.5180
    18DD9403_1,  P15N,   061,  3,   1357,      8,2,19941005,1815, 25.5087,-164.9938, -999,   2745.0,   1.6085,  34.6570,2,  34.6561,2,    119.4,2,   154.30,2,    37.40,2,     0.00,2,     2.68,2, -999.000,9, -999.000,9,   -999.0,9,  -999.00,9,  -999.00,9,   -999.0,9,   -999.0,9,  1.4134
    18DD9403_1,  P15N,   061,  3,   1358,      7,2,19941005,1815, 25.5087,-164.9938, -999,   3000.1,   1.5476,  34.6652,2,  34.6639,2,    127.9,2,   153.30,2,    37.20,2,     0.00,2,     2.65,2, -999.000,9, -999.000,9,   -999.0,9,  -999.00,9,  -999.00,9,   -999.0,9,   -999.0,9,  1.3299
    18DD9403_1,  P15N,   061,  3,   1359,      6,2,19941005,1815, 25.5087,-164.9938, -999,   3544.3,   1.4733,  34.6758,2,  34.6761,2,    142.8,2,   150.00,2,    36.50,2,     0.00,2,     2.54,2, -999.000,9, -999.000,9,   -999.0,9,  -999.00,9,  -999.00,9,   -999.0,9,   -999.0,9,  1.2034
    18DD9403_1,  P15N,   061,  3,   1360,      5,2,19941005,1815, 25.5087,-164.9938, -999,   3748.4,   1.4529,  34.6796,2,  34.6789,2,    146.9,2,   149.10,2,    35.90,2,     0.00,2,     2.53,2, -999.000,9, -999.000,9,   -999.0,9,  -999.00,9,  -999.00,9,   -999.0,9,   -999.0,9,  1.1622
    18DD9403_1,  P15N,   061,  3,   1361,      4,2,19941005,1815, 25.5087,-164.9938, -999,   3748.4,   1.4529,  34.6796,2,  34.6795,2,    146.8,2,   149.10,2,    35.60,2,     0.00,2,     2.53,2, -999.000,9, -999.000,9,   -999.0,9,  -999.00,9,  -999.00,9,   -999.0,9,   -999.0,9,  1.1622
    18DD9403_1,  P15N,   061,  3,   1362,      3,2,19941005,1815, 25.5087,-164.9938, -999,   4250.6,   1.4567,  34.6844,2,  34.6850,3,    154.0,2,   146.70,2,    35.30,2,     0.00,2,     2.50,2, -999.000,9, -999.000,9,   -999.0,9,  -999.00,9,  -999.00,9,   -999.0,9,   -999.0,9,  1.1113
    18DD9403_1,  P15N,   061,  3,   1363,      2,2,19941005,1815, 25.5087,-164.9938, -999,   4501.3,   1.4737,  34.6858,2,  34.6864,3,    154.9,2,   146.00,2,    35.20,2,     0.00,2,     2.48,2, -999.000,9, -999.000,9,   -999.0,9,  -999.00,9,  -999.00,9,   -999.0,9,   -999.0,9,  1.0994
    18DD9403_1,  P15N,   061,  3,   1364,      1,2,19941005,1815, 25.5087,-164.9938, -999,   4938.0,   1.5121,  34.6869,2,  34.6875,3,    158.4,3,   144.90,2,    35.10,2,     0.00,2,     2.46,2, -999.000,9, -999.000,9,   -999.0,9,  -999.00,9,  -999.00,9,   -999.0,9,   -999.0,9,  1.0850
    18DD9403_1,  P15N,   062,  3,   1365,     23,2,19941006,0100, 25.0065,-164.9953, -999,      9.5,  26.9855,  35.1257,2,  35.0993,2,    204.8,2,     2.00,2,     0.00,2,     0.00,2,     0.05,2,    1.793,3,    0.911,3,   -999.0,9,  -999.00,9,  -999.00,9,   1954.4,2,   2310.9,2, 26.9833
    18DD9403_1,  P15N,   062,  3,   1366,     22,2,19941006,0100, 25.0065,-164.9953, -999,     49.8,  24.9104,  35.2114,2,  35.2211,2,    224.1,2,     2.00,2,     0.00,2,     0.00,2,     0.05,2,    1.963,3,    1.067,3,   -999.0,9,  -999.00,9,  -999.00,9,   1977.0,2,   2315.5,2, 24.8996
    18DD9403_1,  P15N,   062,  3,   1367,     21,2,19941006,0100, 25.0065,-164.9953, -999,     97.8,  20.3762,  35.1821,2,  35.2082,2,    243.9,2,     2.30,2,     0.00,2,     0.00,2,     0.10,2,    2.325,3,    1.097,3,   -999.0,9,  -999.00,9,  -999.00,9,   2008.8,2,   2324.4,2, 20.3579
    18DD9403_1,  P15N,   062,  3,   1368,     20,2,19941006,0100, 25.0065,-164.9953, -999,    202.0,  15.4479,  34.6654,2,  34.6433,2,    213.3,2,     6.60,2,     5.50,2,     0.00,2,     0.46,2,    2.956,3,    1.422,3,   -999.0,9,  -999.00,9,  -999.00,9,   2034.9,2,   2281.2,2, 15.4168
    18DD9403_1,  P15N,   062,  3,   1369,     19,2,19941006,0100, 25.0065,-164.9953, -999,    301.1,  12.3075,  34.3654,2,  34.3474,2,    213.3,2,    12.00,2,    10.40,2,     0.00,2,     0.82,2,    2.846,3,    1.483,3,   -999.0,9,  -999.00,9,  -999.00,9,   2067.9,2,   2077.1,4, 12.2678
    18DD9403_1,  P15N,   062,  3,   1370,     18,2,19941006,0100, 25.0065,-164.9953, -999,    399.3,  10.1261,  34.2004,2,  34.1863,2,    198.5,2,    20.70,2,    16.10,2,     0.00,2,     1.22,2,    2.491,3,    1.112,3,   -999.0,9,  -999.00,9,  -999.00,9,   2238.3,2,   2282.7,2, 10.0794
    18DD9403_1,  P15N,   062,  3,   1371,     17,2,19941006,0100, 25.0065,-164.9953, -999,    598.5,   6.0652,  34.0578,2,  34.0605,2,    107.8,3,    61.80,2,    33.00,2,     0.00,2,     2.50,2,    0.641,3,    0.206,3,   -999.0,9,  -999.00,9,  -999.00,9,   2238.8,2,   2297.6,2,  6.0127
    18DD9403_1,  P15N,   062,  3,   1372,     16,2,19941006,0100, 25.0065,-164.9953, -999,    798.9,   4.6509,  34.2833,2,  34.2637,2,     52.5,3,    94.50,2,    40.40,2,     0.00,2,     3.06,2,    0.023,3,    0.000,3,   -999.0,9,  -999.00,9,  -999.00,9,   2323.1,2,   2340.2,2,  4.5879
    18DD9403_1,  P15N,   062,  3,   1373,     15,2,19941006,0100, 25.0065,-164.9953, -999,    999.8,   4.0141,  34.4463,2,  34.4371,2,     50.7,3,   109.40,2,    41.10,2,     0.00,2,     3.12,2,    0.017,3,    0.000,3,   -999.0,9,  -999.00,9,  -999.00,9,   2336.6,2,   2367.2,2,  3.9385
    18DD9403_1,  P15N,   062,  3,   1374,     14,2,19941006,0100, 25.0065,-164.9953, -999,   1250.1,   3.4200,  34.5229,2,  34.5234,2,     66.2,4,   119.80,2,    41.00,2,     0.00,2,     3.09,2,    0.007,3,    0.000,3,   -999.0,9,  -999.00,9,  -999.00,9,   2345.3,2,   2390.3,2,  3.3286
    18DD9403_1,  P15N,   062,  3,   1375,     13,2,19941006,0100, 25.0065,-164.9953, -999,   1498.4,   2.8520,  34.5628,2,  34.5578,2,     80.7,3,   133.40,2,    40.30,2,     0.00,2,     3.03,2,    0.006,3,    0.000,3,   -999.0,9,  -999.00,9,  -999.00,9,   2351.8,2,   2402.3,2,  2.7460
    18DD9403_1,  P15N,   062,  3,   1376,     12,2,19941006,0100, 25.0065,-164.9953, -999,   1750.9,   2.3742,  34.5917,2,  34.5873,2,     89.1,3,   145.00,2,    40.10,2,     0.00,2,     2.97,2,    0.008,3,    0.000,3,   -999.0,9,  -999.00,9,  -999.00,9,   2356.8,2,   2414.4,2,  2.2534
    18DD9403_1,  P15N,   062,  3,   1377,     11,2,19941006,0100, 25.0065,-164.9953, -999,   2000.1,   2.0583,  34.6139,2,  34.6123,2,     96.3,3,   150.50,2,    39.10,2,     0.00,2,     2.91,2, -999.000,9, -999.000,9,   -999.0,9,  -999.00,9,  -999.00,9,   2355.2,2,   2424.7,2,  1.9210
    18DD9403_1,  P15N,   062,  3,   1378,     10,2,19941006,0100, 25.0065,-164.9953, -999,   2250.8,   1.8644,  34.6312,2,  34.6298,2,    105.6,3,   153.70,2,    38.90,2,     0.00,2,     2.87,2, -999.000,9, -999.000,9,   -999.0,9,  -999.00,9,  -999.00,9,   2353.6,2,   2419.8,2,  1.7087
    18DD9403_1,  P15N,   062,  3,   1379,      9,2,19941006,0100, 25.0065,-164.9953, -999,   2499.4,   1.7162,  34.6456,2,  34.6461,2,    114.2,3,   156.70,2,    38.10,2,     0.00,2,     2.82,2, -999.000,9, -999.000,9,   -999.0,9,  -999.00,9,  -999.00,9,   2350.2,2,   2429.1,2,  1.5413
    18DD9403_1,  P15N,   062,  3,   1380,      8,2,19941006,0100, 25.0065,-164.9953, -999,   2748.5,   1.6234,  34.6564,2,  34.6567,2,    123.0,3,   157.80,2,    37.80,2,     0.00,2,     2.78,2, -999.000,9, -999.000,9,   -999.0,9,  -999.00,9,  -999.00,9,   2346.1,2,   2434.1,2,  1.4277
    18DD9403_1,  P15N,   062,  3,   1381,      7,2,19941006,0100, 25.0065,-164.9953, -999,   2998.5,   1.5472,  34.6645,2,  34.6649,2,    138.2,3,   155.00,2,    36.90,2,     0.00,2,     2.74,2, -999.000,9, -999.000,9,   -999.0,9,  -999.00,9,  -999.00,9,   2336.7,2,   2429.9,2,  1.3296
    18DD9403_1,  P15N,   062,  3,   1382,      6,2,19941006,0100, 25.0065,-164.9953, -999,   3250.0,   1.4989,  34.6710,2,  34.6715,2,    140.8,3,   155.20,2,    36.60,2,     0.00,2,     2.70,2, -999.000,9, -999.000,9,   -999.0,9,  -999.00,9,  -999.00,9,   2336.6,2,   2429.6,2,  1.2580
    18DD9403_1,  P15N,   062,  3,   1383,      5,2,19941006,0100, 25.0065,-164.9953, -999,   3500.6,   1.4746,  34.6756,2,  34.6754,2,    145.9,3,   152.60,2,    36.00,2,     0.00,2,     2.67,2, -999.000,9, -999.000,9,   -999.0,9,  -999.00,9,  -999.00,9,   2332.3,2,   2436.8,2,  1.2091
    18DD9403_1,  P15N,   062,  3,   1384,      4,2,19941006,0100, 25.0065,-164.9953, -999,   3748.6,   1.4575,  34.6796,2,  34.6794,2,    153.6,3,   151.20,2,    35.80,2,     0.00,2,     2.67,2, -999.000,9, -999.000,9,   -999.0,9,  -999.00,9,  -999.00,9,   -999.0,9,   2427.1,2,  1.1666
    18DD9403_1,  P15N,   062,  3,   1385,      3,2,19941006,0100, 25.0065,-164.9953, -999,   3997.8,   1.4523,  34.6826,2,  34.6834,2,    156.3,3,   150.50,2,    35.40,2,     0.00,2,     2.63,2, -999.000,9, -999.000,9,   -999.0,9,  -999.00,9,  -999.00,9,   2325.2,2,   2430.1,2,  1.1349
    18DD9403_1,  P15N,   062,  3,   1386,      2,2,19941006,0100, 25.0065,-164.9953, -999,   4497.8,   1.4757,  34.6849,2,  34.6867,2,    163.9,3,   147.00,2,    35.30,2,     0.00,2,     2.60,2, -999.000,9, -999.000,9,   -999.0,9,  -999.00,9,  -999.00,9,   2320.9,2,   2428.2,2,  1.1017
    18DD9403_1,  P15N,   062,  3,   1387,      1,4,19941006,0100, 25.0065,-164.9953, -999,   5039.6,   1.5252,  34.6871,2,-999.0000,9,   -999.0,9,  -999.00,9,  -999.00,9,  -999.00,9,  -999.00,9, -999.000,9, -999.000,9,   -999.0,9,  -999.00,9,  -999.00,9,   -999.0,9,   -999.0,9,  1.0853