BOTTLE,20130510IOSDFOJC
EXPOCODE,SECT_ID,STNNBR,CASTNO,SAMPNO,BTLNBR,BTLNBR_FLAG_W,DATE,TIME,LATITUDE,LONGITUDE,DEPTH,CTDPRS,CTDTMP,CTDSAL,CTDSAL_FLAG_W,SALNTY,SALNTY_FLAG_W,OXYGEN,OXYGEN_FLAG_W,SILCAT,SILCAT_FLAG_W,NITRAT,NITRAT_FLAG_W,NITRIT,NITRIT_FLAG_W,PHSPHT,PHSPHT_FLAG_W,CFC-11,CFC-11_FLAG_W,CFC-12,CFC-12_FLAG_W,DELC14,DELC14_FLAG_W,DELC13,DELC13_FLAG_W,O18O16,O18O16_FLAG_W,TCARBN,TCARBN_FLAG_W,ALKALI,ALKALI_FLAG_W,THETA
,,,,,,,,,,,,DBAR,ITS-90,PSS-78,,PSS-78,,UMOL/KG,,UMOL/KG,,UMOL/KG,,UMOL/KG,,UMOL/KG,,PMOL/KG,,PMOL/KG,,/MILLE,,/MILLE,,/MILLE,,UMOL/KG,,UMOL/KG,,DEG C
    18DD9403_1,  P15N,   031,  3,    582,      1,2,19940926,1552, 40.4880,-165.0323, -999,      5.0,-999.0000,  34.6872,2,  34.6872,2,    150.0,2,   158.70,2,    36.20,2,     0.00,2,     2.57,2, -999.000,9, -999.000,9,   -999.0,9,  -999.00,9,  -999.00,9,   -999.0,9,   -999.0,9,-999.0000
    18DD9403_1,  P15N,   031,  3,    560,     23,2,19940926,1552, 40.4880,-165.0323, -999,    594.2,   4.6746,  34.0399,2,  34.0483,2,     92.5,2,    82.10,2,    36.50,2,     0.00,2,     2.69,2, -999.000,9, -999.000,9,   -999.0,9,  -999.00,9,  -999.00,9,   -999.0,9,   -999.0,9,  4.6288
    18DD9403_1,  P15N,   031,  3,    561,     22,2,19940926,1552, 40.4880,-165.0323, -999,    809.3,   3.8301,  34.2102,2,  34.2066,2,     39.6,2,   109.60,2,    41.50,2,     0.00,2,     3.02,2, -999.000,9, -999.000,9,   -999.0,9,  -999.00,9,  -999.00,9,   -999.0,9,   -999.0,9,  3.7715
    18DD9403_1,  P15N,   031,  3,    562,     21,2,19940926,1552, 40.4880,-165.0323, -999,   1010.1,   3.2655,  34.3217,2,  34.3158,2,     26.3,4,   128.50,2,    43.20,2,     0.00,2,     3.12,2, -999.000,9, -999.000,9,   -999.0,9,  -999.00,9,  -999.00,9,   -999.0,9,   -999.0,9,  3.1951
    18DD9403_1,  P15N,   031,  3,    563,     20,2,19940926,1552, 40.4880,-165.0323, -999,   1264.2,   2.7709,  34.4242,2,  34.4149,2,     16.7,2,   146.60,2,    44.20,2,     0.00,2,     3.20,2, -999.000,9, -999.000,9,   -999.0,9,  -999.00,9,  -999.00,9,   -999.0,9,   -999.0,9,  2.6850
    18DD9403_1,  P15N,   031,  3,    564,     19,2,19940926,1552, 40.4880,-165.0323, -999,   1512.7,   2.4411,  34.4962,2,  34.4846,2,     16.1,2,   158.40,2,    44.20,2,     0.00,2,     3.22,2, -999.000,9, -999.000,9,   -999.0,9,  -999.00,9,  -999.00,9,   -999.0,9,   -999.0,9,  2.3389
    18DD9403_1,  P15N,   031,  3,    565,     18,2,19940926,1552, 40.4880,-165.0323, -999,   1763.1,   2.1858,  34.5539,2,  34.5468,2,     30.2,2,   165.50,2,    44.00,2,     0.00,2,     3.11,2, -999.000,9, -999.000,9,   -999.0,9,  -999.00,9,  -999.00,9,   -999.0,9,   -999.0,9,  2.0665
    18DD9403_1,  P15N,   031,  3,    566,     17,2,19940926,1552, 40.4880,-165.0323, -999,   2000.7,   1.9873,  34.5900,2,  34.5866,2,     48.6,2,   168.80,2,    42.50,2,     0.00,2,     3.03,2, -999.000,9, -999.000,9,   -999.0,9,  -999.00,9,  -999.00,9,   -999.0,9,   -999.0,9,  1.8512
    18DD9403_1,  P15N,   031,  3,    567,     16,2,19940926,1552, 40.4880,-165.0323, -999,   2243.6,   1.8412,  34.6158,2,  34.6129,2,     66.0,2,   171.30,2,    41.80,2,     0.00,2,     2.96,2, -999.000,9, -999.000,9,   -999.0,9,  -999.00,9,  -999.00,9,   -999.0,9,   -999.0,9,  1.6866
    18DD9403_1,  P15N,   031,  3,    568,     15,2,19940926,1552, 40.4880,-165.0323, -999,   2499.2,   1.7196,  34.6345,2,  34.6327,2,     82.4,2,   169.00,2,    40.50,2,     0.00,2,     2.87,2, -999.000,9, -999.000,9,   -999.0,9,  -999.00,9,  -999.00,9,   -999.0,9,   -999.0,9,  1.5447
    18DD9403_1,  P15N,   031,  3,    569,     14,2,19940926,1552, 40.4880,-165.0323, -999,   2747.2,   1.6196,  34.6492,2,  34.6483,2,     99.5,2,   166.50,2,    39.10,2,     0.00,2,     2.80,2, -999.000,9, -999.000,9,   -999.0,9,  -999.00,9,  -999.00,9,   -999.0,9,   -999.0,9,  1.4241
    18DD9403_1,  P15N,   031,  3,    570,     13,2,19940926,1552, 40.4880,-165.0323, -999,   3002.5,   1.5471,  34.6602,2,  34.6601,2,    115.3,2,   163.00,2,    38.70,2,     0.00,2,     2.73,2, -999.000,9, -999.000,9,   -999.0,9,  -999.00,9,  -999.00,9,   -999.0,9,   -999.0,9,  1.3292
    18DD9403_1,  P15N,   031,  3,    571,     12,2,19940926,1552, 40.4880,-165.0323, -999,   3250.8,   1.5034,  34.6687,2,  34.6684,2,    126.1,2,   159.30,2,    37.30,2,     0.00,2,     2.67,2, -999.000,9, -999.000,9,   -999.0,9,  -999.00,9,  -999.00,9,   -999.0,9,   -999.0,9,  1.2623
    18DD9403_1,  P15N,   031,  3,    572,     11,2,19940926,1552, 40.4880,-165.0323, -999,   3503.3,   1.4739,  34.6746,2,  34.6744,2,    135.9,2,   157.00,2,    36.90,2,     0.00,2,     2.64,2, -999.000,9, -999.000,9,   -999.0,9,  -999.00,9,  -999.00,9,   -999.0,9,   -999.0,9,  1.2082
    18DD9403_1,  P15N,   031,  3,    573,     10,2,19940926,1552, 40.4880,-165.0323, -999,   3749.1,   1.4575,  34.6795,2,  34.6805,2,    142.8,2,   154.90,2,    36.20,2,     0.00,2,     2.59,2, -999.000,9, -999.000,9,   -999.0,9,  -999.00,9,  -999.00,9,   -999.0,9,   -999.0,9,  1.1666
    18DD9403_1,  P15N,   031,  3,    574,      9,2,19940926,1552, 40.4880,-165.0323, -999,   3999.9,   1.4548,  34.6828,2,  34.6799,2,    142.0,2,   154.50,2,    36.40,2,     0.00,2,     2.60,2, -999.000,9, -999.000,9,   -999.0,9,  -999.00,9,  -999.00,9,   -999.0,9,   -999.0,9,  1.1371
    18DD9403_1,  P15N,   031,  3,    575,      8,2,19940926,1552, 40.4880,-165.0323, -999,   4248.7,   1.4619,  34.6863,2,  34.6836,2,    147.5,2,   154.90,2,    36.00,2,     0.00,2,     2.57,2, -999.000,9, -999.000,9,   -999.0,9,  -999.00,9,  -999.00,9,   -999.0,9,   -999.0,9,  1.1167
    18DD9403_1,  P15N,   031,  3,    576,      7,2,19940926,1552, 40.4880,-165.0323, -999,   4499.1,   1.4874,  34.6866,2,  34.6873,2,    149.0,2,   157.50,2,    35.90,2,     0.00,2,     2.61,2, -999.000,9, -999.000,9,   -999.0,9,  -999.00,9,  -999.00,9,   -999.0,9,   -999.0,9,  1.1129
    18DD9403_1,  P15N,   031,  3,    577,      6,2,19940926,1552, 40.4880,-165.0323, -999,   4748.3,   1.5173,  34.6872,2,  34.6865,2,    150.6,2,   158.20,2,    35.90,2,     0.00,2,     2.56,2, -999.000,9, -999.000,9,   -999.0,9,  -999.00,9,  -999.00,9,   -999.0,9,   -999.0,9,  1.1127
    18DD9403_1,  P15N,   031,  3,    578,      5,2,19940926,1552, 40.4880,-165.0323, -999,   4992.1,   1.5474,  34.6874,2,  34.6862,2,    149.3,2,   160.30,2,    36.00,2,     0.00,2,     2.58,2, -999.000,9, -999.000,9,   -999.0,9,  -999.00,9,  -999.00,9,   -999.0,9,   -999.0,9,  1.1125
    18DD9403_1,  P15N,   031,  3,    579,      4,2,19940926,1552, 40.4880,-165.0323, -999,   5484.1,   1.6108,  34.6879,2,  34.6872,2,    149.5,2,   158.40,2,    35.90,2,     0.00,2,     2.55,2, -999.000,9, -999.000,9,   -999.0,9,  -999.00,9,  -999.00,9,   -999.0,9,   -999.0,9,  1.1122
    18DD9403_1,  P15N,   031,  3,    580,      3,2,19940926,1552, 40.4880,-165.0323, -999,   5739.1,   1.6449,  34.6879,2,  34.6872,2,    149.9,2,   158.70,2,    36.00,2,     0.00,2,     2.55,2, -999.000,9, -999.000,9,   -999.0,9,  -999.00,9,  -999.00,9,   -999.0,9,   -999.0,9,  1.1120
    18DD9403_1,  P15N,   031,  3,    581,      2,2,19940926,1552, 40.4880,-165.0323, -999,   5883.3,   1.6644,  34.6878,2,  34.6873,2,    149.3,2,   158.00,2,    35.90,2,     0.00,2,     2.55,2, -999.000,9, -999.000,9,   -999.0,9,  -999.00,9,  -999.00,9,   -999.0,9,   -999.0,9,  1.1117
    18DD9403_1,  P15N,   031,  6,    583,    S11,2,19940926,1848, 40.5070,-165.0067, -999,      4.9,  17.8927,  33.7102,2,  33.7279,2,    251.2,2,     8.30,2,     5.50,2,     0.10,2,     0.60,2, -999.000,9, -999.000,9,   -999.0,9,  -999.00,9,  -999.00,9,   -999.0,9,   -999.0,9, 17.8919
    18DD9403_1,  P15N,   031,  6,    584,    S10,2,19940926,1848, 40.5070,-165.0067, -999,     46.2,  11.2103,  33.9436,2,  33.8862,2,    315.1,2,    15.00,2,    10.70,2,     0.10,2,     0.89,2, -999.000,9, -999.000,9,   -999.0,9,  -999.00,9,  -999.00,9,   -999.0,9,   -999.0,9, 11.2046
    18DD9403_1,  P15N,   031,  6,    585,     S9,2,19940926,1848, 40.5070,-165.0067, -999,     93.8,   9.5697,  33.9404,2,  33.9695,2,    270.9,2,    15.20,2,    10.80,2,     0.00,2,     0.89,2, -999.000,9, -999.000,9,   -999.0,9,  -999.00,9,  -999.00,9,   -999.0,9,   -999.0,9,  9.5593
    18DD9403_1,  P15N,   031,  6,    586,     S8,2,19940926,1848, 40.5070,-165.0067, -999,    146.1,   9.2028,  33.9921,2,  33.9894,2,    266.8,2,    16.30,2,    11.60,2,     0.00,2,     0.94,2, -999.000,9, -999.000,9,   -999.0,9,  -999.00,9,  -999.00,9,   -999.0,9,   -999.0,9,  9.1870
    18DD9403_1,  P15N,   031,  6,    587,     S7,2,19940926,1848, 40.5070,-165.0067, -999,    195.8,   8.8509,  34.0009,2,  33.9742,2,    268.9,2,    17.20,2,    12.30,2,     0.00,2,     0.97,2, -999.000,9, -999.000,9,   -999.0,9,  -999.00,9,  -999.00,9,   -999.0,9,   -999.0,9,  8.8301
    18DD9403_1,  P15N,   031,  6,    588,     S6,2,19940926,1848, 40.5070,-165.0067, -999,    245.7,   8.5200,  34.0001,2,  34.0032,2,    248.0,2,    22.40,2,    15.40,2,     0.00,2,     1.16,2, -999.000,9, -999.000,9,   -999.0,9,  -999.00,9,  -999.00,9,   -999.0,9,   -999.0,9,  8.4945
    18DD9403_1,  P15N,   031,  6,    589,     S5,2,19940926,1848, 40.5070,-165.0067, -999,    296.5,   8.0871,  34.0184,2,  34.0085,2,    230.2,2,    27.40,2,    17.90,2,     0.00,2,     1.37,2, -999.000,9, -999.000,9,   -999.0,9,  -999.00,9,  -999.00,9,   -999.0,9,   -999.0,9,  8.0571
    18DD9403_1,  P15N,   031,  6,    590,     S4,2,19940926,1848, 40.5070,-165.0067, -999,    296.6,   8.0901,  34.0185,2,  34.0084,2,    229.6,2,    28.10,2,    17.70,2,     0.00,2,     1.35,2, -999.000,9, -999.000,9,   -999.0,9,  -999.00,9,  -999.00,9,   -999.0,9,   -999.0,9,  8.0601
    18DD9403_1,  P15N,   031,  6,    591,     S3,2,19940926,1848, 40.5070,-165.0067, -999,    393.6,   6.8124,  33.9988,2,  33.9986,2,    181.9,2,    45.70,2,    25.90,2,     0.00,2,     1.90,2, -999.000,9, -999.000,9,   -999.0,9,  -999.00,9,  -999.00,9,   -999.0,9,   -999.0,9,  6.7762
    18DD9403_1,  P15N,   031,  6,    592,     S2,2,19940926,1848, 40.5070,-165.0067, -999,    496.1,   5.3367,  33.9898,2,  33.9904,2,    122.2,2,    65.40,2,    32.00,2,     0.00,2,     2.39,2, -999.000,9, -999.000,9,   -999.0,9,  -999.00,9,  -999.00,9,   -999.0,9,   -999.0,9,  5.2963
    18DD9403_1,  P15N,   031,  6,    593,     S1,2,19940926,1848, 40.5070,-165.0067, -999,    590.2,   4.5729,  34.0402,2,  34.0393,2,     85.5,2,    82.70,2,    36.60,2,     0.00,2,     2.70,2, -999.000,9, -999.000,9,   -999.0,9,  -999.00,9,  -999.00,9,   -999.0,9,   -999.0,9,  4.5279
    18DD9403_1,  P15N,   032,  3,    594,     23,2,19940926,2359, 40.0178,-164.9945, -999,      9.0,  19.0074,  33.7857,2,  33.7931,2,    270.7,2,     3.50,2,     0.10,2,     0.00,2,     0.12,2,    2.306,3,    1.312,3,   -999.0,9,  -999.00,9,  -999.00,9,   1975.7,2,   2235.6,2, 19.0058
    18DD9403_1,  P15N,   032,  3,    595,     22,2,19940926,2359, 40.0178,-164.9945, -999,     50.5,  11.6903,  34.0709,2,  34.0720,2,    299.0,2,     8.90,2,     5.10,2,     0.16,2,     0.58,2,    3.599,3,    1.786,3,   -999.0,9,  -999.00,9,  -999.00,9,   2043.5,2,   2264.7,2, 11.6839
    18DD9403_1,  P15N,   032,  3,    596,     21,2,19940926,2359, 40.0178,-164.9945, -999,     99.7,  10.1603,  34.1122,2,  34.0740,2,    262.3,2,    14.00,2,    11.20,2,     0.04,2,     0.85,2,    3.750,3,    1.888,3,   -999.0,9,  -999.00,9,  -999.00,9,   2082.4,2,   2260.3,2, 10.1488
    18DD9403_1,  P15N,   032,  3,    598,     19,2,19940926,2359, 40.0178,-164.9945, -999,    203.9,   9.2951,  34.1369,2,  34.0425,2,    262.6,2,    17.30,2,    12.30,2,     0.01,2,     0.97,2,    3.754,3,    1.868,3,   -999.0,9,  -999.00,9,  -999.00,9,   2094.1,2,   2265.9,2,  9.2728
    18DD9403_1,  P15N,   032,  3,    597,     20,2,19940926,2359, 40.0178,-164.9945, -999,    204.6,   9.2722,  34.1364,2,  34.0385,2,    263.5,2,    17.70,2,    12.20,2,     0.02,2,     0.97,2,    3.717,3,    1.932,3,   -999.0,9,  -999.00,9,  -999.00,9,   2090.4,2,   2268.7,2,  9.2498
    18DD9403_1,  P15N,   032,  3,    599,     18,2,19940926,2359, 40.0178,-164.9945, -999,    401.4,   7.2928,  34.0077,2,  34.0176,2,    178.2,2,    40.60,2,    24.30,2,     0.00,2,     1.77,2,    2.602,3,    1.193,3,   -999.0,9,  -999.00,9,  -999.00,9,   2185.1,2,   2280.1,2,  7.2545
    18DD9403_1,  P15N,   032,  3,    600,     17,2,19940926,2359, 40.0178,-164.9945, -999,    497.3,   5.7956,  33.9778,2,  33.9815,2,    141.8,2,    58.60,2,    30.40,2,     0.00,2,     2.23,2,    1.876,3,    0.894,3,   -999.0,9,  -999.00,9,  -999.00,9,   2244.3,2,   2292.3,2,  5.7533
    18DD9403_1,  P15N,   032,  3,    601,     16,2,19940926,2359, 40.0178,-164.9945, -999,    598.0,   4.7755,  34.0307,2,  34.0221,2,     95.9,2,    78.20,2,    36.00,2,     0.00,2,     2.63,2,    1.059,3,    0.530,3,   -999.0,9,  -999.00,9,  -999.00,9,   2306.5,2,   -999.0,9,  4.7289
    18DD9403_1,  P15N,   032,  3,    602,     15,2,19940926,2359, 40.0178,-164.9945, -999,    798.2,   3.8753,  34.1966,2,  34.2002,2,     38.7,2,   109.70,2,    42.10,2,     0.00,2,     3.02,2,    0.164,3,    0.081,3,   -999.0,9,  -999.00,9,  -999.00,9,   2354.5,2,   2347.5,2,  3.8173
    18DD9403_1,  P15N,   032,  3,    603,     14,2,19940926,2359, 40.0178,-164.9945, -999,   1001.1,   3.3064,  34.3217,2,  34.3156,2,     23.1,2,   128.70,2,    43.50,2,     0.00,2,     3.13,2,    0.043,3,    0.000,3,   -999.0,9,  -999.00,9,  -999.00,9,   2384.6,2,   2366.6,2,  3.2363
    18DD9403_1,  P15N,   032,  3,    604,     13,2,19940926,2359, 40.0178,-164.9945, -999,   1257.2,   2.7862,  34.4191,2,  34.4148,2,     15.5,2,   146.90,2,    44.70,2,     0.00,2,     3.20,2,    0.014,3,    0.000,3,   -999.0,9,  -999.00,9,  -999.00,9,   -999.0,9,   2392.6,2,  2.7007
    18DD9403_1,  P15N,   032,  3,    605,     12,2,19940926,2359, 40.0178,-164.9945, -999,   1508.4,   2.4426,  34.4895,2,  34.4871,2,     14.8,2,   159.20,2,    44.90,2,     0.00,2,     3.18,2,    0.000,3,    0.000,3,   -999.0,9,  -999.00,9,  -999.00,9,   2424.2,3,   2403.8,2,  2.3407
    18DD9403_1,  P15N,   032,  3,    606,     11,2,19940926,2359, 40.0178,-164.9945, -999,   2000.4,   1.9845,  34.5866,2,  34.5873,2,     49.4,2,   170.60,2,    43.00,2,     0.00,2,     3.04,2,    0.100,3,    0.096,3,   -999.0,9,  -999.00,9,  -999.00,9,   -999.0,9,   2422.7,2,  1.8485
    18DD9403_1,  P15N,   032,  3,    607,     10,2,19940926,2359, 40.0178,-164.9945, -999,   2252.2,   1.8394,  34.6142,2,  34.6123,2,     66.4,2,   170.60,2,    41.80,2,     0.00,2,     2.97,2, -999.000,9, -999.000,9,   -999.0,9,  -999.00,9,  -999.00,9,   2379.8,2,   2426.9,2,  1.6841
    18DD9403_1,  P15N,   032,  3,    608,      9,2,19940926,2359, 40.0178,-164.9945, -999,   2497.6,   1.7185,  34.6323,2,  34.6320,2,     83.1,2,   169.70,2,    40.80,2,     0.00,2,     2.90,2, -999.000,9, -999.000,9,   -999.0,9,  -999.00,9,  -999.00,9,   2371.2,2,   2428.5,2,  1.5437
    18DD9403_1,  P15N,   032,  3,    609,      8,2,19940926,2359, 40.0178,-164.9945, -999,   2747.4,   1.6231,  34.6468,2,  34.6475,2,     95.5,2,   166.70,2,    39.50,2,     0.00,2,     2.83,2, -999.000,9, -999.000,9,   -999.0,9,  -999.00,9,  -999.00,9,   2360.1,2,   2425.0,2,  1.4275
    18DD9403_1,  P15N,   032,  3,    610,      7,4,19940926,2359, 40.0178,-164.9945, -999,   3000.6,   1.5536,  34.6586,2,  34.6873,4,    148.5,4,   159.00,4,    36.40,4,     0.00,4,     2.58,4, -999.000,9, -999.000,9,   -999.0,9,  -999.00,9,  -999.00,9,   2329.6,4,   2431.6,4,  1.3356
    18DD9403_1,  P15N,   032,  3,    611,      6,2,19940926,2359, 40.0178,-164.9945, -999,   3506.5,   1.4693,  34.6751,2,  34.6756,2,    137.6,2,   158.50,2,    37.30,2,     0.00,2,     2.64,2, -999.000,9, -999.000,9,   -999.0,9,  -999.00,9,  -999.00,9,   2336.1,2,   2433.3,2,  1.2033
    18DD9403_1,  P15N,   032,  3,    612,      5,2,19940926,2359, 40.0178,-164.9945, -999,   3997.9,   1.4552,  34.6826,2,  34.6836,2,    147.3,2,   156.40,2,    36.50,2,     0.00,2,     2.58,2, -999.000,9, -999.000,9,   -999.0,9,  -999.00,9,  -999.00,9,   2329.2,2,   2435.6,2,  1.1377
    18DD9403_1,  P15N,   032,  3,    613,      4,2,19940926,2359, 40.0178,-164.9945, -999,   4495.3,   1.4879,  34.6866,2,  34.6861,2,    148.5,2,   159.90,2,    36.40,2,     0.00,2,     2.58,2, -999.000,9, -999.000,9,   -999.0,9,  -999.00,9,  -999.00,9,   2331.3,2,   -999.0,9,  1.1139
    18DD9403_1,  P15N,   032,  3,    614,      3,2,19940926,2359, 40.0178,-164.9945, -999,   4996.8,   1.5479,  34.6868,2,  34.6867,2,    150.6,2,   159.20,2,    36.50,2,     0.00,2,     2.57,2, -999.000,9, -999.000,9,   -999.0,9,  -999.00,9,  -999.00,9,   2328.9,2,   2438.7,2,  1.1124
    18DD9403_1,  P15N,   032,  3,    615,      2,2,19940926,2359, 40.0178,-164.9945, -999,   5497.0,   1.6121,  34.6873,2,  34.6866,2,    150.5,2,   159.40,2,    36.50,2,     0.00,2,     2.58,2, -999.000,9, -999.000,9,   -999.0,9,  -999.00,9,  -999.00,9,   2329.8,2,   2436.6,2,  1.1118
    18DD9403_1,  P15N,   032,  3,    616,      1,2,19940926,2359, 40.0178,-164.9945, -999,   5670.5,   1.6348,  34.6872,2,  34.6874,2,    150.2,2,   159.00,2,    36.40,2,     0.00,2,     2.67,4, -999.000,9, -999.000,9,   -999.0,9,  -999.00,9,  -999.00,9,   2329.8,2,   2439.6,2,  1.1113