BOTTLE,20130510IOSDFOJC
EXPOCODE,SECT_ID,STNNBR,CASTNO,SAMPNO,BTLNBR,BTLNBR_FLAG_W,DATE,TIME,LATITUDE,LONGITUDE,DEPTH,CTDPRS,CTDTMP,CTDSAL,CTDSAL_FLAG_W,SALNTY,SALNTY_FLAG_W,OXYGEN,OXYGEN_FLAG_W,SILCAT,SILCAT_FLAG_W,NITRAT,NITRAT_FLAG_W,NITRIT,NITRIT_FLAG_W,PHSPHT,PHSPHT_FLAG_W,CFC-11,CFC-11_FLAG_W,CFC-12,CFC-12_FLAG_W,DELC14,DELC14_FLAG_W,DELC13,DELC13_FLAG_W,O18O16,O18O16_FLAG_W,TCARBN,TCARBN_FLAG_W,ALKALI,ALKALI_FLAG_W,THETA
,,,,,,,,,,,,DBAR,ITS-90,PSS-78,,PSS-78,,UMOL/KG,,UMOL/KG,,UMOL/KG,,UMOL/KG,,UMOL/KG,,PMOL/KG,,PMOL/KG,,/MILLE,,/MILLE,,/MILLE,,UMOL/KG,,UMOL/KG,,DEG C
    18DD9403_1,  P15N,   025,  5,    411,     23,2,19940924,2235, 43.4683,-165.0095, -999,    598.3,   4.2007,  34.0856,2,  34.0981,2,     62.5,2,    95.50,2,    39.30,2,     0.00,2,     3.03,2,    0.744,3,    0.435,3,   -999.0,9,  -999.00,9,  -999.00,9,   2306.0,2,   2313.2,2,  4.1567
    18DD9403_1,  P15N,   025,  5,    412,     22,2,19940924,2235, 43.4683,-165.0095, -999,    798.5,   3.5977,  34.2304,2,  34.2345,2,     36.1,2,   117.60,2,    42.10,2,     0.00,2,     3.01,2,    0.206,3,    0.144,3,   -999.0,9,  -999.00,9,  -999.00,9,   2344.2,2,   2350.5,2,  3.5414
    18DD9403_1,  P15N,   025,  5,    413,     21,2,19940924,2235, 43.4683,-165.0095, -999,   1000.2,   3.1216,  34.3307,2,  34.3389,2,     25.5,2,   134.30,2,    43.10,2,     0.00,2,     3.08,2,    0.070,3,    0.145,3,   -999.0,9,  -999.00,9,  -999.00,9,   2368.4,2,   2372.4,2,  3.0530
    18DD9403_1,  P15N,   025,  5,    414,     20,2,19940924,2235, 43.4683,-165.0095, -999,   1000.2,   3.1185,  34.3307,2,  34.3389,2,     25.9,2,   134.00,2,    43.20,2,     0.00,2,     3.09,2,    0.030,3,    0.148,3,   -999.0,9,  -999.00,9,  -999.00,9,   2369.4,2,   2372.9,2,  3.0499
    18DD9403_1,  P15N,   025,  5,    415,     19,2,19940924,2235, 43.4683,-165.0095, -999,   1248.3,   2.6836,  34.4227,2,  34.4284,2,     21.2,2,   148.50,2,    43.70,2,     0.00,2,     3.12,2,    0.000,3,    0.000,3,   -999.0,9,  -999.00,9,  -999.00,9,   2387.1,2,   2396.7,2,  2.5996
    18DD9403_1,  P15N,   025,  5,    416,     18,2,19940924,2235, 43.4683,-165.0095, -999,   1502.3,   2.3646,  34.4880,2,  34.4947,2,     24.9,2,   159.20,2,    44.00,2,     0.00,2,     3.10,2,    0.000,3,    0.000,3,   -999.0,9,  -999.00,9,  -999.00,9,   2395.0,2,   2405.6,2,  2.2642
    18DD9403_1,  P15N,   025,  5,    417,     17,2,19940924,2235, 43.4683,-165.0095, -999,   1751.1,   2.1397,  34.5415,2,  34.5439,2,     34.0,2,   166.00,2,    43.70,2,     0.00,2,     3.06,2,    0.000,3,    0.000,3,   -999.0,9,  -999.00,9,  -999.00,9,   2396.1,2,   2418.4,2,  2.0220
    18DD9403_1,  P15N,   025,  5,    418,     16,2,19940924,2235, 43.4683,-165.0095, -999,   2001.3,   1.9691,  34.5819,2,  34.5811,2,     47.5,2,   169.90,2,    42.90,2,     0.00,2,     2.99,2,    0.000,3,    0.000,3,   -999.0,9,  -999.00,9,  -999.00,9,   2391.7,2,   2422.2,2,  1.8333
    18DD9403_1,  P15N,   025,  5,    419,     15,2,19940924,2235, 43.4683,-165.0095, -999,   2249.6,   1.8339,  34.6085,2,  34.6090,2,     64.3,2,   169.80,2,    42.80,2,     0.00,2,     2.99,2, -999.000,9, -999.000,9,   -999.0,9,  -999.00,9,  -999.00,9,   2385.6,2,   2432.5,2,  1.6789
    18DD9403_1,  P15N,   025,  5,    420,     14,2,19940924,2235, 43.4683,-165.0095, -999,   2500.2,   1.7189,  34.6283,2,  34.6295,2,     80.8,2,   170.90,2,    40.70,2,     0.00,2,     2.85,2, -999.000,9, -999.000,9,   -999.0,9,  -999.00,9,  -999.00,9,   2376.0,2,   2428.1,2,  1.5439
    18DD9403_1,  P15N,   025,  5,    421,     13,2,19940924,2235, 43.4683,-165.0095, -999,   2751.7,   1.6284,  34.6439,2,  34.6449,2,     98.5,2,   167.60,2,    39.60,2,     0.00,2,     2.81,2, -999.000,9, -999.000,9,   -999.0,9,  -999.00,9,  -999.00,9,   2362.2,2,   2428.9,2,  1.4324
    18DD9403_1,  P15N,   025,  5,    422,     12,2,19940924,2235, 43.4683,-165.0095, -999,   3000.0,   1.5621,  34.6557,2,  34.6563,2,    112.0,2,   164.00,2,    38.80,2,     0.00,2,     2.71,2, -999.000,9, -999.000,9,   -999.0,9,  -999.00,9,  -999.00,9,   2354.5,2,   2428.5,2,  1.3441
    18DD9403_1,  P15N,   025,  5,    423,     11,2,19940924,2235, 43.4683,-165.0095, -999,   3249.6,   1.5177,  34.6647,2,  34.6651,2,    123.8,2,   161.60,2,    37.80,2,     0.00,2,     2.78,2, -999.000,9, -999.000,9,   -999.0,9,  -999.00,9,  -999.00,9,   2345.4,2,   2429.2,2,  1.2764
    18DD9403_1,  P15N,   025,  5,    424,     10,2,19940924,2235, 43.4683,-165.0095, -999,   3501.8,   1.4870,  34.6717,2,  34.6717,2,    133.1,2,   159.20,2,    37.40,2,     0.00,2,     2.61,2, -999.000,9, -999.000,9,   -999.0,9,  -999.00,9,  -999.00,9,   2342.3,2,   2430.4,2,  1.2211
    18DD9403_1,  P15N,   025,  5,    425,      9,2,19940924,2235, 43.4683,-165.0095, -999,   3749.7,   1.4684,  34.6769,2,  34.6765,2,    141.9,2,   156.10,2,    36.90,2,     0.00,2,     2.56,2, -999.000,9, -999.000,9,   -999.0,9,  -999.00,9,  -999.00,9,   2334.4,2,   2432.2,2,  1.1772
    18DD9403_1,  P15N,   025,  5,    426,      8,2,19940924,2235, 43.4683,-165.0095, -999,   4000.5,   1.4628,  34.6807,2,  34.6807,2,    146.2,2,   155.50,2,    36.50,2,     0.00,2,     2.57,2, -999.000,9, -999.000,9,   -999.0,9,  -999.00,9,  -999.00,9,   2333.8,2,   2434.0,2,  1.1449
    18DD9403_1,  P15N,   025,  5,    427,      7,2,19940924,2235, 43.4683,-165.0095, -999,   4001.1,   1.4628,  34.6808,2,  34.6804,2,    145.4,2,   155.00,2,    36.00,2,     0.00,2,     2.60,2, -999.000,9, -999.000,9,   -999.0,9,  -999.00,9,  -999.00,9,   2331.2,2,   2435.1,2,  1.1449
    18DD9403_1,  P15N,   025,  5,    428,      6,2,19940924,2235, 43.4683,-165.0095, -999,   4249.3,   1.4682,  34.6841,2,  34.6835,2,    149.2,2,   155.80,2,    36.10,2,     0.00,2,     2.54,2, -999.000,9, -999.000,9,   -999.0,9,  -999.00,9,  -999.00,9,   2332.6,2,   2437.9,2,  1.1227
    18DD9403_1,  P15N,   025,  5,    429,      5,2,19940924,2235, 43.4683,-165.0095, -999,   4499.2,   1.4875,  34.6856,2,  34.6849,2,    149.2,2,   158.80,2,    36.00,2,     0.00,2,     2.54,2, -999.000,9, -999.000,9,   -999.0,9,  -999.00,9,  -999.00,9,   2331.0,2,   2439.6,2,  1.1130
    18DD9403_1,  P15N,   025,  5,    430,      4,2,19940924,2235, 43.4683,-165.0095, -999,   4749.9,   1.5149,  34.6863,2,  34.6855,2,    150.3,2,   158.10,2,    36.10,2,     0.00,2,     2.55,2, -999.000,9, -999.000,9,   -999.0,9,  -999.00,9,  -999.00,9,   2329.1,2,   2438.0,2,  1.1102
    18DD9403_1,  P15N,   025,  5,    431,      3,2,19940924,2235, 43.4683,-165.0095, -999,   4999.6,   1.5456,  34.6869,2,  34.6855,2,    149.9,2,   158.50,2,    35.90,2,     0.00,2,     2.54,2, -999.000,9, -999.000,9,   -999.0,9,  -999.00,9,  -999.00,9,   2328.7,2,   2424.6,2,  1.1099
    18DD9403_1,  P15N,   025,  5,    432,      2,2,19940924,2235, 43.4683,-165.0095, -999,   5566.3,   1.6183,  34.6870,2,  34.6860,2,    151.0,2,   158.40,2,    36.00,2,     0.00,2,     2.52,2, -999.000,9, -999.000,9,   -999.0,9,  -999.00,9,  -999.00,9,   2328.7,2,   2441.2,2,  1.1089
    18DD9403_1,  P15N,   025,  5,    433,      1,2,19940924,2235, 43.4683,-165.0095, -999,   5684.7,   1.6339,  34.6874,2,  34.6863,2,    151.7,2,   158.60,2,    35.90,2,     0.00,2,     2.53,2, -999.000,9, -999.000,9,   -999.0,9,  -999.00,9,  -999.00,9,   2329.3,2,   2429.9,2,  1.1086
    18DD9403_1,  P15N,   026,  3,    434,     23,2,19940925,0448, 43.0085,-164.9907, -999,     10.2,  15.6063,  33.3229,2,  33.3087,2,    261.5,2,    10.70,2,     4.60,2,     0.06,2,     0.52,2,    3.912,3,    1.480,3,   -999.0,9,  -999.00,9,  -999.00,9,   -999.0,9,   -999.0,9, 15.6047
    18DD9403_1,  P15N,   026,  3,    435,     22,2,19940925,0448, 43.0085,-164.9907, -999,     52.1,   8.7771,  33.5765,2,  33.4113,2,    300.2,2,    17.80,2,    10.70,2,     0.11,2,     1.06,2, -999.000,9, -999.000,9,   -999.0,9,  -999.00,9,  -999.00,9,   -999.0,9,   2227.6,2,  8.7717
    18DD9403_1,  P15N,   026,  3,    436,     21,2,19940925,0448, 43.0085,-164.9907, -999,    100.6,   8.2438,  33.5718,2,  33.6191,2,    281.9,2,    17.50,2,    12.40,2,     0.14,2,     1.05,2,    4.617,3,    2.148,3,   -999.0,9,  -999.00,9,  -999.00,9,   -999.0,9,   2235.8,2,  8.2337
    18DD9403_1,  P15N,   026,  3,    437,     20,2,19940925,0448, 43.0085,-164.9907, -999,    202.5,   8.1807,  33.9573,2,  33.9688,2,    250.2,2,    24.20,2,    16.20,2,     0.00,2,     1.22,2,    2.882,3,    1.747,3,   -999.0,9,  -999.00,9,  -999.00,9,   -999.0,9,   2253.0,2,  8.1602
    18DD9403_1,  P15N,   026,  3,    438,     19,2,19940925,0448, 43.0085,-164.9907, -999,    302.1,   7.0905,  33.9924,2,  33.9928,2,    181.4,2,    41.40,2,    24.20,2,     0.00,2,     1.86,2,    2.641,3,    1.116,3,   -999.0,9,  -999.00,9,  -999.00,9,   -999.0,9,   2266.0,2,  7.0622
    18DD9403_1,  P15N,   026,  3,    439,     18,2,19940925,0448, 43.0085,-164.9907, -999,    402.9,   5.5853,  33.9562,2,  33.9571,2,    135.8,2,    60.10,2,    31.20,2,     0.00,2,     2.26,2,    1.985,3,    0.770,3,   -999.0,9,  -999.00,9,  -999.00,9,   -999.0,9,   2276.9,2,  5.5520
    18DD9403_1,  P15N,   026,  3,    441,     16,2,19940925,0448, 43.0085,-164.9907, -999,    604.1,   4.2698,  34.1004,2,  34.0814,2,     67.0,2,    92.30,2,    39.20,2,     0.00,2,     2.80,2,    0.725,3,    0.305,3,   -999.0,9,  -999.00,9,  -999.00,9,   -999.0,9,   2313.5,2,  4.2250
    18DD9403_1,  P15N,   026,  3,    440,     17,2,19940925,0448, 43.0085,-164.9907, -999,    605.3,   4.2693,  34.1017,2,  34.0840,2,     65.5,2,    93.10,2,    39.30,2,     0.00,2,     2.90,2,    0.745,3,    0.278,3,   -999.0,9,  -999.00,9,  -999.00,9,   -999.0,9,   2273.4,3,  4.2245
    18DD9403_1,  P15N,   026,  3,    442,     15,2,19940925,0448, 43.0085,-164.9907, -999,    800.6,   3.6669,  34.2446,2,  34.2326,2,     34.3,2,   115.90,2,    42.60,2,     0.00,2,     3.01,2,    0.158,3,    0.102,3,   -999.0,9,  -999.00,9,  -999.00,9,   -999.0,9,   2340.7,2,  3.6100
    18DD9403_1,  P15N,   026,  3,    443,     14,2,19940925,0448, 43.0085,-164.9907, -999,   1001.0,   3.1751,  34.3411,2,  34.3341,2,     21.1,2,   131.90,2,    43.70,2,     0.00,2,     3.08,2,    0.040,3,    0.000,3,   -999.0,9,  -999.00,9,  -999.00,9,   -999.0,9,   2365.3,2,  3.1061
    18DD9403_1,  P15N,   026,  3,    444,     13,2,19940925,0448, 43.0085,-164.9907, -999,   1250.0,   2.6998,  34.4257,2,  34.4267,2,     15.4,2,   149.50,2,    44.80,2,     0.00,2,     3.15,2,    0.000,3,    0.000,3,   -999.0,9,  -999.00,9,  -999.00,9,   -999.0,9,   2384.2,2,  2.6156
    18DD9403_1,  P15N,   026,  3,    445,     12,2,19940925,0448, 43.0085,-164.9907, -999,   1500.4,   2.3942,  34.4926,2,  34.4918,2,     17.5,2,   160.30,2,    45.00,2,     0.00,2,     3.21,2,    0.000,3,    0.000,3,   -999.0,9,  -999.00,9,  -999.00,9,   -999.0,9,   2395.8,2,  2.2935
    18DD9403_1,  P15N,   026,  3,    446,     11,2,19940925,0448, 43.0085,-164.9907, -999,   1750.3,   2.1603,  34.5455,2,  34.5410,2,     29.2,2,   166.40,2,    44.20,2,     0.00,2,     3.04,2,    0.000,3,    0.000,3,   -999.0,9,  -999.00,9,  -999.00,9,   -999.0,9,   2404.7,2,  2.0424
    18DD9403_1,  P15N,   026,  3,    447,     10,2,19940925,0448, 43.0085,-164.9907, -999,   2000.6,   1.9722,  34.5822,2,  34.5817,2,     46.2,2,   170.20,2,    43.30,2,     0.00,2,     2.98,2,    0.000,3,    0.000,3,   -999.0,9,  -999.00,9,  -999.00,9,   -999.0,9,   2416.8,2,  1.8364
    18DD9403_1,  P15N,   026,  3,    448,      9,2,19940925,0448, 43.0085,-164.9907, -999,   2250.8,   1.8358,  34.6098,2,  34.6086,2,     63.5,2,   171.60,2,    42.20,2,     0.00,2,     2.91,2, -999.000,9, -999.000,9,   -999.0,9,  -999.00,9,  -999.00,9,   -999.0,9,   2418.7,2,  1.6807
    18DD9403_1,  P15N,   026,  3,    449,      8,2,19940925,0448, 43.0085,-164.9907, -999,   2500.3,   1.7202,  34.6300,2,  34.6309,2,     80.8,2,   171.80,2,    41.40,2,     0.00,2,     2.84,2, -999.000,9, -999.000,9,   -999.0,9,  -999.00,9,  -999.00,9,   -999.0,9,   2421.5,2,  1.5452
    18DD9403_1,  P15N,   026,  3,    450,      7,2,19940925,0448, 43.0085,-164.9907, -999,   2997.5,   1.5622,  34.6569,2,  34.6547,2,    111.8,2,   165.90,2,    39.20,2,     0.00,2,     2.66,2, -999.000,9, -999.000,9,   -999.0,9,  -999.00,9,  -999.00,9,   -999.0,9,   2420.3,2,  1.3444
    18DD9403_1,  P15N,   026,  3,    451,      6,2,19940925,0448, 43.0085,-164.9907, -999,   3500.0,   1.4819,  34.6718,2,  34.6721,2,    133.7,2,   159.90,2,    38.00,2,     0.00,2,     2.59,2, -999.000,9, -999.000,9,   -999.0,9,  -999.00,9,  -999.00,9,   -999.0,9,   2417.0,2,  1.2163
    18DD9403_1,  P15N,   026,  3,    452,      5,2,19940925,0448, 43.0085,-164.9907, -999,   4001.8,   1.4586,  34.6816,2,  34.6818,2,    145.4,2,   158.80,2,    37.00,2,     0.00,2,     2.51,2, -999.000,9, -999.000,9,   -999.0,9,  -999.00,9,  -999.00,9,   -999.0,9,   2421.9,2,  1.1407
    18DD9403_1,  P15N,   026,  3,    453,      4,2,19940925,0448, 43.0085,-164.9907, -999,   4500.0,   1.4880,  34.6853,2,  34.6864,2,    147.8,2,   162.10,2,    37.10,2,     0.00,2,     2.50,2, -999.000,9, -999.000,9,   -999.0,9,  -999.00,9,  -999.00,9,   -999.0,9,   2425.7,2,  1.1134
    18DD9403_1,  P15N,   026,  3,    454,      3,2,19940925,0448, 43.0085,-164.9907, -999,   5001.3,   1.5460,  34.6855,2,  34.6852,2,    150.0,2,   160.00,2,    36.70,2,     0.00,2,     2.50,2, -999.000,9, -999.000,9,   -999.0,9,  -999.00,9,  -999.00,9,   -999.0,9,   2417.9,2,  1.1101
    18DD9403_1,  P15N,   026,  3,    455,      2,2,19940925,0448, 43.0085,-164.9907, -999,   5499.3,   1.6091,  34.6866,2,  34.6865,2,    149.5,2,   159.40,2,    36.80,2,     0.00,2,     2.48,2, -999.000,9, -999.000,9,   -999.0,9,  -999.00,9,  -999.00,9,   -999.0,9,   2424.9,2,  1.1087
    18DD9403_1,  P15N,   026,  3,    456,      1,2,19940925,0448, 43.0085,-164.9907, -999,   5734.6,   1.6405,  34.6870,2,  34.6858,2,    149.6,2,   161.40,2,    36.90,2,     0.00,2,     2.48,2, -999.000,9, -999.000,9,   -999.0,9,  -999.00,9,  -999.00,9,   -999.0,9,   2430.9,2,  1.1084