BOTTLE,20130510IOSDFOJC
EXPOCODE,SECT_ID,STNNBR,CASTNO,SAMPNO,BTLNBR,BTLNBR_FLAG_W,DATE,TIME,LATITUDE,LONGITUDE,DEPTH,CTDPRS,CTDTMP,CTDSAL,CTDSAL_FLAG_W,SALNTY,SALNTY_FLAG_W,OXYGEN,OXYGEN_FLAG_W,SILCAT,SILCAT_FLAG_W,NITRAT,NITRAT_FLAG_W,NITRIT,NITRIT_FLAG_W,PHSPHT,PHSPHT_FLAG_W,CFC-11,CFC-11_FLAG_W,CFC-12,CFC-12_FLAG_W,DELC14,DELC14_FLAG_W,DELC13,DELC13_FLAG_W,O18O16,O18O16_FLAG_W,TCARBN,TCARBN_FLAG_W,ALKALI,ALKALI_FLAG_W,THETA
,,,,,,,,,,,,DBAR,ITS-90,PSS-78,,PSS-78,,UMOL/KG,,UMOL/KG,,UMOL/KG,,UMOL/KG,,UMOL/KG,,PMOL/KG,,PMOL/KG,,/MILLE,,/MILLE,,/MILLE,,UMOL/KG,,UMOL/KG,,DEG C
    18DD9403_1,  P15N,   039,  5,    774,     23,2,19940929,0139, 36.5325,-165.0167, -999,    609.3,   5.4685,  33.9916,2,  33.9947,2,    121.2,2,    64.40,2,    32.40,2,     0.00,2,     2.41,2, -999.000,9, -999.000,9,   -999.0,9,  -999.00,9,  -999.00,9,   -999.0,9,   -999.0,9,  5.4178
    18DD9403_1,  P15N,   039,  5,    775,     22,2,19940929,0139, 36.5325,-165.0167, -999,    808.7,   4.1520,  34.1413,2,  34.1415,2,     46.3,2,   100.10,2,    40.50,2,     0.00,2,     3.00,2, -999.000,9, -999.000,9,   -999.0,9,  -999.00,9,  -999.00,9,   -999.0,9,   -999.0,9,  4.0915
    18DD9403_1,  P15N,   039,  5,    776,     21,2,19940929,0139, 36.5325,-165.0167, -999,   1004.8,   3.4231,  34.2947,2,  34.2895,2,     15.9,2,   125.00,2,    43.80,2,     0.00,2,     3.19,2, -999.000,9, -999.000,9,   -999.0,9,  -999.00,9,  -999.00,9,   -999.0,9,   -999.0,9,  3.3519
    18DD9403_1,  P15N,   039,  5,    777,     20,2,19940929,0139, 36.5325,-165.0167, -999,   1252.9,   2.8716,  34.4183,2,  34.4089,2,     11.8,2,   143.80,2,    44.10,2,     0.00,2,     3.22,2, -999.000,9, -999.000,9,   -999.0,9,  -999.00,9,  -999.00,9,   -999.0,9,   -999.0,9,  2.7855
    18DD9403_1,  P15N,   039,  5,    778,     19,2,19940929,0139, 36.5325,-165.0167, -999,   1508.3,   2.4669,  34.4974,2,  34.4963,2,     19.4,3,   156.30,2,    44.30,2,     0.00,2,     3.20,2, -999.000,9, -999.000,9,   -999.0,9,  -999.00,9,  -999.00,9,   -999.0,9,   -999.0,9,  2.3647
    18DD9403_1,  P15N,   039,  5,    779,     18,2,19940929,0139, 36.5325,-165.0167, -999,   1760.5,   2.1700,  34.5588,2,-999.0000,5,   -999.0,5,   171.80,4,    43.50,2,     0.00,2,     3.18,2, -999.000,9, -999.000,9,   -999.0,9,  -999.00,9,  -999.00,9,   -999.0,9,   -999.0,9,  2.0513
    18DD9403_1,  P15N,   039,  5,    780,     17,2,19940929,0139, 36.5325,-165.0167, -999,   1997.9,   1.9794,  34.5958,2,  34.5915,2,     55.9,2,   166.20,2,    41.00,2,     0.00,2,     2.92,2, -999.000,9, -999.000,9,   -999.0,9,  -999.00,9,  -999.00,9,   -999.0,9,   -999.0,9,  1.8437
    18DD9403_1,  P15N,   039,  5,    781,     16,2,19940929,0139, 36.5325,-165.0167, -999,   2246.1,   1.8137,  34.6222,2,  34.6203,2,     77.7,2,   164.60,2,    39.70,2,     0.00,2,     2.83,2, -999.000,9, -999.000,9,   -999.0,9,  -999.00,9,  -999.00,9,   -999.0,9,   -999.0,9,  1.6593
    18DD9403_1,  P15N,   039,  5,    782,     15,2,19940929,0139, 36.5325,-165.0167, -999,   2499.5,   1.6942,  34.6401,2,  34.6399,2,     96.9,2,   162.30,2,    39.00,2,     0.00,2,     2.82,2, -999.000,9, -999.000,9,   -999.0,9,  -999.00,9,  -999.00,9,   -999.0,9,   -999.0,9,  1.5197
    18DD9403_1,  P15N,   039,  5,    783,     14,2,19940929,0139, 36.5325,-165.0167, -999,   2750.3,   1.6093,  34.6514,2,  34.6515,2,    110.8,2,   160.20,2,    38.20,2,     0.00,2,     2.72,2, -999.000,9, -999.000,9,   -999.0,9,  -999.00,9,  -999.00,9,   -999.0,9,   -999.0,9,  1.4137
    18DD9403_1,  P15N,   039,  5,    784,     13,2,19940929,0139, 36.5325,-165.0167, -999,   2999.9,   1.5533,  34.6604,2,  34.6603,2,    122.6,2,   158.60,2,    37.80,2,     0.00,2,     2.66,2, -999.000,9, -999.000,9,   -999.0,9,  -999.00,9,  -999.00,9,   -999.0,9,   -999.0,9,  1.3355
    18DD9403_1,  P15N,   039,  5,    785,     12,2,19940929,0139, 36.5325,-165.0167, -999,   3255.8,   1.5148,  34.6675,2,  34.6671,2,    129.8,2,   157.50,2,    37.30,2,     0.00,2,     2.67,2, -999.000,9, -999.000,9,   -999.0,9,  -999.00,9,  -999.00,9,   -999.0,9,   -999.0,9,  1.2730
    18DD9403_1,  P15N,   039,  5,    786,     11,2,19940929,0139, 36.5325,-165.0167, -999,   3506.6,   1.4890,  34.6730,2,  34.6725,2,    134.6,2,   155.90,2,    37.20,2,     0.00,2,     2.60,2, -999.000,9, -999.000,9,   -999.0,9,  -999.00,9,  -999.00,9,   -999.0,9,   -999.0,9,  1.2226
    18DD9403_1,  P15N,   039,  5,    787,     10,2,19940929,0139, 36.5325,-165.0167, -999,   3747.5,   1.4794,  34.6769,2,  34.6767,2,    139.9,2,   154.90,2,    36.90,2,     0.00,2,     2.59,2, -999.000,9, -999.000,9,   -999.0,9,  -999.00,9,  -999.00,9,   -999.0,9,   -999.0,9,  1.1882
    18DD9403_1,  P15N,   039,  5,    788,      9,2,19940929,0139, 36.5325,-165.0167, -999,   3986.4,   1.4784,  34.6796,2,  34.6801,2,    144.4,2,   155.00,2,    37.00,2,     0.00,2,     2.57,2, -999.000,9, -999.000,9,   -999.0,9,  -999.00,9,  -999.00,9,   -999.0,9,   -999.0,9,  1.1616
    18DD9403_1,  P15N,   039,  5,    789,      8,2,19940929,0139, 36.5325,-165.0167, -999,   3991.2,   1.4782,  34.6795,2,  34.6803,2,    144.3,2,   154.00,2,    36.40,2,     0.00,2,     2.61,2, -999.000,9, -999.000,9,   -999.0,9,  -999.00,9,  -999.00,9,   -999.0,9,   -999.0,9,  1.1609
    18DD9403_1,  P15N,   039,  5,    790,      7,2,19940929,0139, 36.5325,-165.0167, -999,   4247.7,   1.4837,  34.6823,2,  34.6828,2,    148.4,2,   152.40,2,    36.60,2,     0.00,2,     2.55,2, -999.000,9, -999.000,9,   -999.0,9,  -999.00,9,  -999.00,9,   -999.0,9,   -999.0,9,  1.1379
    18DD9403_1,  P15N,   039,  5,    791,      6,2,19940929,0139, 36.5325,-165.0167, -999,   4488.6,   1.4952,  34.6842,2,  34.6842,2,    150.4,2,   153.10,2,    36.50,2,     0.00,2,     2.53,2, -999.000,9, -999.000,9,   -999.0,9,  -999.00,9,  -999.00,9,   -999.0,9,   -999.0,9,  1.1217
    18DD9403_1,  P15N,   039,  5,    792,      5,2,19940929,0139, 36.5325,-165.0167, -999,   4746.6,   1.5140,  34.6856,2,  34.6855,2,    152.2,2,   151.10,2,    36.60,2,     0.00,2,     2.59,2, -999.000,9, -999.000,9,   -999.0,9,  -999.00,9,  -999.00,9,   -999.0,9,   -999.0,9,  1.1098
    18DD9403_1,  P15N,   039,  5,    793,      4,2,19940929,0139, 36.5325,-165.0167, -999,   5001.7,   1.5344,  34.6866,2,  34.6866,2,    154.1,2,   148.80,2,    36.30,2,     0.00,2,     2.51,2, -999.000,9, -999.000,9,   -999.0,9,  -999.00,9,  -999.00,9,   -999.0,9,   -999.0,9,  1.0988
    18DD9403_1,  P15N,   039,  5,    794,      3,2,19940929,0139, 36.5325,-165.0167, -999,   5247.4,   1.5554,  34.6876,2,  34.6875,2,    156.3,2,   147.00,2,    36.30,2,     0.00,2,     2.51,2, -999.000,9, -999.000,9,   -999.0,9,  -999.00,9,  -999.00,9,   -999.0,9,   -999.0,9,  1.0888
    18DD9403_1,  P15N,   039,  5,    795,      2,2,19940929,0139, 36.5325,-165.0167, -999,   5499.5,   1.5807,  34.6883,2,  34.6894,2,    161.8,2,   144.90,2,    36.10,2,     0.00,2,     2.48,2, -999.000,9, -999.000,9,   -999.0,9,  -999.00,9,  -999.00,9,   -999.0,9,   -999.0,9,  1.0812
    18DD9403_1,  P15N,   039,  5,    796,      1,2,19940929,0139, 36.5325,-165.0167, -999,   5992.9,   1.6350,  34.6900,2,  34.6894,2,    159.6,2,   154.80,2,    37.20,2,     0.00,2,     2.56,2, -999.000,9, -999.000,9,   -999.0,9,  -999.00,9,  -999.00,9,   -999.0,9,   -999.0,9,  1.0688
    18DD9403_1,  P15N,   040,  3,    797,     23,2,19940929,0841, 35.9872,-165.0127, -999,     10.0,  22.7765,  34.4481,2,  34.4361,2,    231.6,2,     4.50,2,     0.00,2,     0.00,2,     0.10,2,    3.972,3,    1.170,3,   -999.0,9,  -999.00,9,  -999.00,9,   1971.0,2,   2269.7,2, 22.7745
    18DD9403_1,  P15N,   040,  3,    798,     22,2,19940929,0841, 35.9872,-165.0127, -999,     49.9,  14.9941,  34.2955,2,  34.3790,2,    300.1,2,     5.60,2,     0.00,2,     0.00,2,     0.14,2,    2.957,3,    1.565,3,   -999.0,9,  -999.00,9,  -999.00,9,   1986.0,2,   2275.7,2, 14.9866
    18DD9403_1,  P15N,   040,  3,    799,     21,2,19940929,0841, 35.9872,-165.0127, -999,    100.7,  12.6313,  34.3165,2,  34.3115,2,    241.7,2,     9.00,2,     6.80,2,     0.07,2,     0.58,2,    4.470,3,    1.794,3,   -999.0,9,  -999.00,9,  -999.00,9,   2044.5,2,   2271.5,2, 12.6179
    18DD9403_1,  P15N,   040,  3,    800,     20,2,19940929,0841, 35.9872,-165.0127, -999,    201.7,  11.1367,  34.2412,2,  34.2316,2,    233.2,2,    12.80,2,    11.00,2,     0.00,2,     0.81,2,    4.384,3,    1.555,3,   -999.0,9,  -999.00,9,  -999.00,9,   2067.0,2,   2268.4,2, 11.1118
    18DD9403_1,  P15N,   040,  3,    801,     19,2,19940929,0841, 35.9872,-165.0127, -999,    302.1,   9.6648,  34.1454,2,  34.1386,2,    230.1,2,    19.30,2,    14.90,2,     0.00,2,     1.05,2,    4.074,3,    1.616,3,   -999.0,9,  -999.00,9,  -999.00,9,   2093.4,2,   2273.5,2,  9.6307
    18DD9403_1,  P15N,   040,  3,    802,     18,2,19940929,0841, 35.9872,-165.0127, -999,    400.1,   8.0979,  34.0813,2,  34.0653,2,    186.9,2,    32.70,2,    21.80,2,     0.00,2,     1.60,2,    4.091,3,    1.571,3,   -999.0,9,  -999.00,9,  -999.00,9,   2141.2,2,   2279.3,2,  8.0571
    18DD9403_1,  P15N,   040,  3,    803,     17,2,19940929,0841, 35.9872,-165.0127, -999,    602.3,   5.2409,  33.9922,2,  34.0054,2,    110.3,2,    68.90,2,    33.50,2,     0.00,2,     2.46,2,    3.266,3,    1.173,3,   -999.0,9,  -999.00,9,  -999.00,9,   2242.3,2,   2313.6,2,  5.1919
    18DD9403_1,  P15N,   040,  3,    804,     16,2,19940929,0841, 35.9872,-165.0127, -999,    800.5,   4.0453,  34.1412,2,  34.1620,2,     41.5,2,   102.80,2,    41.10,2,     0.00,2,     2.93,2,    1.489,3,    0.686,3,   -999.0,9,  -999.00,9,  -999.00,9,   2320.6,2,   2339.9,2,  3.9861
    18DD9403_1,  P15N,   040,  3,    806,     14,2,19940929,0841, 35.9872,-165.0127, -999,   1001.6,   3.3674,  34.2855,2,  34.2985,2,     15.3,2,   127.40,2,    43.90,2,     0.00,2,     3.11,2,    0.000,3,    0.076,3,   -999.0,9,  -999.00,9,  -999.00,9,   2359.5,2,   2369.8,2,  3.2968
    18DD9403_1,  P15N,   040,  3,    805,     15,2,19940929,0841, 35.9872,-165.0127, -999,   1001.7,   3.3667,  34.2856,2,  34.2994,2,     13.8,2,   126.70,2,    43.70,2,     0.00,2,     3.11,2,    0.269,3,    0.246,3,   -999.0,9,  -999.00,9,  -999.00,9,   2361.4,2,   -999.0,9,  3.2961
    18DD9403_1,  P15N,   040,  3,    807,     13,2,19940929,0841, 35.9872,-165.0127, -999,   1252.4,   2.8336,  34.4125,2,  34.4173,2,     10.1,2,   146.50,2,    44.50,2,     0.00,2,     3.15,2,    0.030,3,    0.005,3,   -999.0,9,  -999.00,9,  -999.00,9,   2385.4,2,   2394.0,2,  2.7479
    18DD9403_1,  P15N,   040,  3,    808,     12,2,19940929,0841, 35.9872,-165.0127, -999,   1502.9,   2.4818,  34.5016,2,  34.5096,2,     25.0,2,   155.70,2,    44.20,2,     0.00,2,     3.14,2,    0.021,3,    0.064,3,   -999.0,9,  -999.00,9,  -999.00,9,   2395.9,2,   2416.2,2,  2.3799
    18DD9403_1,  P15N,   040,  3,    809,     11,2,19940929,0841, 35.9872,-165.0127, -999,   2003.7,   1.9566,  34.5988,2,  34.5987,2,     59.8,2,   167.50,2,    41.60,2,     0.00,2,     2.95,2,    0.000,3,    0.000,3,   -999.0,9,  -999.00,9,  -999.00,9,   2384.4,2,   2436.0,2,  1.8207
    18DD9403_1,  P15N,   040,  3,    810,     10,2,19940929,0841, 35.9872,-165.0127, -999,   2248.8,   1.8075,  34.6220,2,  34.6218,2,     76.6,2,   168.40,2,    40.90,2,     0.00,2,     2.86,2, -999.000,9, -999.000,9,   -999.0,9,  -999.00,9,  -999.00,9,   2376.1,2,   2436.2,2,  1.6530
    18DD9403_1,  P15N,   040,  3,    811,      9,2,19940929,0841, 35.9872,-165.0127, -999,   2500.0,   1.6821,  34.6398,2,  34.6395,2,     93.9,2,   165.50,2,    39.50,2,     0.00,2,     2.86,2, -999.000,9, -999.000,9,   -999.0,9,  -999.00,9,  -999.00,9,   2366.5,2,   2431.3,2,  1.5078
    18DD9403_1,  P15N,   040,  3,    812,      8,2,19940929,0841, 35.9872,-165.0127, -999,   2750.6,   1.6120,  34.6515,2,  34.6513,2,    106.4,2,   164.80,2,    39.20,2,     0.00,2,     2.76,2, -999.000,9, -999.000,9,   -999.0,9,  -999.00,9,  -999.00,9,   2353.7,2,   -999.0,9,  1.4164
    18DD9403_1,  P15N,   040,  3,    813,      7,2,19940929,0841, 35.9872,-165.0127, -999,   3001.2,   1.5532,  34.6600,2,  34.6602,2,    118.7,2,   161.20,2,    38.00,2,     0.00,2,     2.68,2, -999.000,9, -999.000,9,   -999.0,9,  -999.00,9,  -999.00,9,   2350.9,2,   2429.6,2,  1.3352
    18DD9403_1,  P15N,   040,  3,    814,      6,2,19940929,0841, 35.9872,-165.0127, -999,   3500.2,   1.4848,  34.6730,2,  34.6735,2,    135.4,2,   157.10,2,    37.10,2,     0.00,2,     2.61,2, -999.000,9, -999.000,9,   -999.0,9,  -999.00,9,  -999.00,9,   2337.7,2,   2433.5,2,  1.2191
    18DD9403_1,  P15N,   040,  3,    815,      5,2,19940929,0841, 35.9872,-165.0127, -999,   4000.5,   1.4728,  34.6806,2,  34.6803,2,    144.8,2,   154.00,2,    36.50,2,     0.00,2,     2.53,2, -999.000,9, -999.000,9,   -999.0,9,  -999.00,9,  -999.00,9,   2332.4,2,   2430.4,2,  1.1547
    18DD9403_1,  P15N,   040,  3,    816,      4,2,19940929,0841, 35.9872,-165.0127, -999,   4501.3,   1.4929,  34.6845,2,  34.6847,2,    150.6,2,   152.40,2,    36.10,2,     0.00,2,     2.52,2, -999.000,9, -999.000,9,   -999.0,9,  -999.00,9,  -999.00,9,   2328.9,2,   2433.3,2,  1.1180
    18DD9403_1,  P15N,   040,  3,    817,      3,2,19940929,0841, 35.9872,-165.0127, -999,   5002.0,   1.5293,  34.6870,2,  34.6870,2,    156.2,2,   148.30,2,    36.00,2,     0.00,2,     2.49,2, -999.000,9, -999.000,9,   -999.0,9,  -999.00,9,  -999.00,9,   2323.5,2,   2433.5,2,  1.0938
    18DD9403_1,  P15N,   040,  3,    818,      2,2,19940929,0841, 35.9872,-165.0127, -999,   5502.1,   1.5766,  34.6894,2,  34.6888,2,    158.7,2,   145.00,2,    35.40,2,     0.00,2,     2.44,2, -999.000,9, -999.000,9,   -999.0,9,  -999.00,9,  -999.00,9,   2321.0,2,   -999.0,9,  1.0770
    18DD9403_1,  P15N,   040,  3,    819,      1,2,19940929,0841, 35.9872,-165.0127, -999,   5809.9,   1.6163,  34.6891,2,  34.6887,2,    158.8,2,   145.30,2,    35.60,2,     0.00,2,     2.43,2, -999.000,9, -999.000,9,   -999.0,9,  -999.00,9,  -999.00,9,   2321.2,2,   2433.2,2,  1.0752
    18DD9403_1,  P15N,   041,  2,    830,     S1,2,19940929,1413, 35.4982,-164.9997, -999,    598.4,   5.3617,  34.0029,2,  34.0015,2,    120.4,2,    68.00,2,    32.80,2,     0.00,2,     2.37,2,    1.753,3,    0.601,3,   -999.0,9,  -999.00,9,  -999.00,9,   -999.0,9,   -999.0,9,  5.3124
    18DD9403_1,  P15N,   041,  3,    820,    S11,2,19940929,1420, 35.4977,-164.9997, -999,      6.0,  22.6676,  34.2924,2,  34.3017,2,    230.7,2,     4.60,2,     0.00,2,     0.00,2,     0.11,2,    4.073,3,    1.170,3,   -999.0,9,  -999.00,9,  -999.00,9,   -999.0,9,   -999.0,9, 22.6664
    18DD9403_1,  P15N,   041,  3,    821,    S10,2,19940929,1420, 35.4977,-164.9997, -999,     44.3,  14.8054,  34.3996,2,  34.3809,2,    312.2,2,     6.40,2,     0.00,2,     0.00,2,     0.14,2,    2.072,3,    1.519,3,   -999.0,9,  -999.00,9,  -999.00,9,   -999.0,9,   -999.0,9, 14.7988
    18DD9403_1,  P15N,   041,  3,    822,     S9,2,19940929,1420, 35.4977,-164.9997, -999,     95.0,  12.0951,  34.2775,2,  34.2620,2,    247.8,2,    10.10,2,     8.20,2,     0.00,2,     0.65,2,    4.427,3,    1.532,3,   -999.0,9,  -999.00,9,  -999.00,9,   -999.0,9,   -999.0,9, 12.0828
    18DD9403_1,  P15N,   041,  3,    823,     S8,2,19940929,1420, 35.4977,-164.9997, -999,     95.0,  12.0951,  34.2775,2,  34.2686,2,    248.5,2,    10.50,2,     8.10,2,     0.00,2,     0.71,2,    3.901,3,    1.660,3,   -999.0,9,  -999.00,9,  -999.00,9,   -999.0,9,   -999.0,9, 12.0828
    18DD9403_1,  P15N,   041,  3,    824,     S7,2,19940929,1420, 35.4977,-164.9997, -999,    145.6,  11.6202,  34.2839,2,  34.2699,2,    241.2,2,    12.40,2,     9.70,2,     0.00,2,     0.72,2,    3.411,3,    1.406,3,   -999.0,9,  -999.00,9,  -999.00,9,   -999.0,9,   -999.0,9, 11.6018
    18DD9403_1,  P15N,   041,  3,    825,     S6,2,19940929,1420, 35.4977,-164.9997, -999,    196.4,  10.9494,  34.2244,2,  34.2238,2,    241.0,2,    13.70,2,    10.60,2,     0.00,2,     0.79,2,    3.932,3,    1.553,3,   -999.0,9,  -999.00,9,  -999.00,9,   -999.0,9,   -999.0,9, 10.9255
    18DD9403_1,  P15N,   041,  3,    826,     S5,2,19940929,1420, 35.4977,-164.9997, -999,    245.5,  10.3815,  34.1886,2,  34.1925,2,    234.8,2,    16.70,2,    12.90,2,     0.00,2,     0.93,2,    4.036,3,    1.918,3,   -999.0,9,  -999.00,9,  -999.00,9,   -999.0,9,   -999.0,9, 10.3525
    18DD9403_1,  P15N,   041,  3,    827,     S4,2,19940929,1420, 35.4977,-164.9997, -999,    293.2,   9.7187,  34.1348,2,  34.1413,2,    232.3,2,    19.90,2,    14.80,2,     0.00,2,     1.05,2,    3.617,3,    1.585,3,   -999.0,9,  -999.00,9,  -999.00,9,   -999.0,9,   -999.0,9,  9.6855
    18DD9403_1,  P15N,   041,  3,    828,     S3,2,19940929,1420, 35.4977,-164.9997, -999,    395.5,   8.3450,  34.0767,2,  34.0788,2,    193.4,2,    31.20,2,    20.60,2,     0.00,2,     1.47,2,    3.250,3,    1.257,3,   -999.0,9,  -999.00,9,  -999.00,9,   -999.0,9,   -999.0,9,  8.3040
    18DD9403_1,  P15N,   041,  3,    829,     S2,2,19940929,1420, 35.4977,-164.9997, -999,    495.7,   6.7854,  34.0073,2,  34.0075,2,    163.6,2,    46.30,2,    26.60,2,     0.00,2,     1.88,2,    2.812,3,    1.098,3,   -999.0,9,  -999.00,9,  -999.00,9,   -999.0,9,   -999.0,9,  6.7395