BOTTLE,20130510IOSDFOJC
EXPOCODE,SECT_ID,STNNBR,CASTNO,SAMPNO,BTLNBR,BTLNBR_FLAG_W,DATE,TIME,LATITUDE,LONGITUDE,DEPTH,CTDPRS,CTDTMP,CTDSAL,CTDSAL_FLAG_W,SALNTY,SALNTY_FLAG_W,OXYGEN,OXYGEN_FLAG_W,SILCAT,SILCAT_FLAG_W,NITRAT,NITRAT_FLAG_W,NITRIT,NITRIT_FLAG_W,PHSPHT,PHSPHT_FLAG_W,CFC-11,CFC-11_FLAG_W,CFC-12,CFC-12_FLAG_W,DELC14,DELC14_FLAG_W,DELC13,DELC13_FLAG_W,O18O16,O18O16_FLAG_W,TCARBN,TCARBN_FLAG_W,ALKALI,ALKALI_FLAG_W,THETA
,,,,,,,,,,,,DBAR,ITS-90,PSS-78,,PSS-78,,UMOL/KG,,UMOL/KG,,UMOL/KG,,UMOL/KG,,UMOL/KG,,PMOL/KG,,PMOL/KG,,/MILLE,,/MILLE,,/MILLE,,UMOL/KG,,UMOL/KG,,DEG C
    18DD9403_1,  P15N,   012,  3,    239,     23,2,19940921,0351, 50.0062,-165.0022, -999,      9.4,   9.1373,  32.3925,2,  32.4228,2,    289.3,2,    13.40,2,     9.90,2,     0.15,2,     1.04,2,    4.846,3,    1.956,3,   -999.0,9,  -999.00,9,  -999.00,9,   1996.1,2,   2179.2,2,  9.1363
    18DD9403_1,  P15N,   012,  3,    240,     22,2,19940921,0351, 50.0062,-165.0022, -999,     49.8,   4.7049,  32.7787,2,  32.8587,2,    317.4,2,    34.50,2,    19.90,2,     0.16,2,     1.76,2,    6.163,3,    2.532,3,   -999.0,9,  -999.00,9,  -999.00,9,   2078.3,2,   2212.5,2,  4.7014
    18DD9403_1,  P15N,   012,  3,    241,     21,2,19940921,0351, 50.0062,-165.0022, -999,     99.6,   3.6696,  33.0242,2,  33.1570,2,    259.2,2,    46.30,2,    26.80,2,     0.00,2,     2.03,2,    5.058,3,    2.298,3,   -999.0,9,  -999.00,9,  -999.00,9,   2135.9,2,   2236.3,2,  3.6632
    18DD9403_1,  P15N,   012,  3,    242,     20,2,19940921,0351, 50.0062,-165.0022, -999,    200.9,   3.3857,  33.7713,2,  33.7930,2,    101.9,2,    83.90,2,    38.70,2,     0.00,2,     2.76,2,    2.547,3,    1.142,3,   -999.0,9,  -999.00,9,  -999.00,9,   2274.0,2,   2287.5,2,  3.3730
    18DD9403_1,  P15N,   012,  3,    243,     19,2,19940921,0351, 50.0062,-165.0022, -999,    295.1,   3.3828,  33.9108,2,  33.9017,2,     64.6,2,    98.10,2,    41.80,2,     0.00,2,     3.00,2,    1.766,3,    0.860,3,   -999.0,9,  -999.00,9,  -999.00,9,   2302.4,2,   -999.0,9,  3.3638
    18DD9403_1,  P15N,   012,  3,    244,     18,2,19940921,0351, 50.0062,-165.0022, -999,    400.3,   3.4859,  34.0484,2,  34.0396,2,     45.3,2,   108.00,2,    42.50,2,     0.00,2,     3.04,2,    1.006,3,    0.511,3,   -999.0,9,  -999.00,9,  -999.00,9,   2324.5,2,   2325.7,2,  3.4594
    18DD9403_1,  P15N,   012,  3,    245,     17,2,19940921,0351, 50.0062,-165.0022, -999,    600.8,   3.3097,  34.2186,2,  34.2303,2,     26.9,2,   125.80,2,    43.00,2,     0.00,2,     3.12,2,    0.358,3,    0.222,3,   -999.0,9,  -999.00,9,  -999.00,9,   2352.6,2,   2347.2,2,  3.2696
    18DD9403_1,  P15N,   012,  3,    246,     16,2,19940921,0351, 50.0062,-165.0022, -999,    801.1,   2.9840,  34.3176,2,  34.3269,2,     23.6,2,   148.40,4,    43.30,2,     0.00,2,     3.12,2,    0.156,3,    0.142,3,   -999.0,9,  -999.00,9,  -999.00,9,   2366.7,2,   2358.3,2,  2.9312
    18DD9403_1,  P15N,   012,  3,    247,     15,2,19940921,0351, 50.0062,-165.0022, -999,   1005.8,   2.7125,  34.3920,2,  34.4021,2,     26.4,2,   147.90,2,    43.50,2,     0.00,2,     3.13,2,    0.076,3,    0.000,3,   -999.0,9,  -999.00,9,  -999.00,9,   2374.6,2,   2375.8,2,  2.6467
    18DD9403_1,  P15N,   012,  3,    248,     14,2,19940921,0351, 50.0062,-165.0022, -999,   1252.9,   2.4598,  34.4622,2,  34.4619,2,     31.3,2,   155.40,2,    43.40,2,     0.00,2,     3.13,2,    0.043,3,    0.000,3,   -999.0,9,  -999.00,9,  -999.00,9,   2381.1,2,   2390.4,2,  2.3776
    18DD9403_1,  P15N,   012,  3,    249,     13,2,19940921,0351, 50.0062,-165.0022, -999,   1500.8,   2.2306,  34.5179,2,  34.5153,2,     40.7,2,   163.10,2,    43.50,2,     0.00,2,     3.17,4,    0.000,3,    0.000,3,   -999.0,9,  -999.00,9,  -999.00,9,   2397.3,2,   2397.5,2,  2.1317
    18DD9403_1,  P15N,   012,  3,    250,     12,2,19940921,0351, 50.0062,-165.0022, -999,   1749.0,   2.0511,  34.5575,2,  34.5571,2,     51.4,2,   165.10,2,    42.50,2,     0.00,2,     3.04,2,    0.000,3,    0.000,3,   -999.0,9,  -999.00,9,  -999.00,9,   2395.7,2,   2405.3,2,  1.9347
    18DD9403_1,  P15N,   012,  3,    251,     11,2,19940921,0351, 50.0062,-165.0022, -999,   1999.7,   1.9086,  34.5865,2,  34.5863,2,     71.5,2,   167.90,2,    41.80,2,     0.00,2,     2.93,2,    0.000,3,    0.000,3,   -999.0,9,  -999.00,9,  -999.00,9,   2394.3,2,   2419.2,2,  1.7738
    18DD9403_1,  P15N,   012,  3,    252,     10,2,19940921,0351, 50.0062,-165.0022, -999,   2248.2,   1.7877,  34.6126,2,  34.6139,2,     79.4,2,   168.30,2,    41.10,2,     0.00,2,     2.85,2, -999.000,9, -999.000,9,   -999.0,9,  -999.00,9,  -999.00,9,   2385.9,2,   2412.8,2,  1.6336
    18DD9403_1,  P15N,   012,  3,    253,      9,2,19940921,0351, 50.0062,-165.0022, -999,   2501.5,   1.6894,  34.6318,2,  34.6319,2,     95.7,2,   166.70,2,    40.10,2,     0.00,2,     2.77,2, -999.000,9, -999.000,9,   -999.0,9,  -999.00,9,  -999.00,9,   2381.6,2,   2410.7,2,  1.5148
    18DD9403_1,  P15N,   012,  3,    254,      8,2,19940921,0351, 50.0062,-165.0022, -999,   2749.4,   1.6199,  34.6459,2,  34.6457,2,    104.1,2,   165.50,2,    39.50,2,     0.00,2,     2.72,2, -999.000,9, -999.000,9,   -999.0,9,  -999.00,9,  -999.00,9,   2374.3,2,   2416.2,2,  1.4242
    18DD9403_1,  P15N,   012,  3,    256,      6,2,19940921,0351, 50.0062,-165.0022, -999,   3000.1,   1.5626,  34.6564,2,  34.6564,2,    115.7,2,   163.60,2,    38.70,2,     0.00,2,     2.65,2, -999.000,9, -999.000,9,   -999.0,9,  -999.00,9,  -999.00,9,   2320.8,3,   2417.3,2,  1.3446
    18DD9403_1,  P15N,   012,  3,    255,      7,2,19940921,0351, 50.0062,-165.0022, -999,   3000.2,   1.5625,  34.6564,2,  34.6567,2,    113.6,2,   163.40,2,    38.70,2,     0.00,2,     2.66,2, -999.000,9, -999.000,9,   -999.0,9,  -999.00,9,  -999.00,9,   -999.0,9,   2417.0,2,  1.3445
    18DD9403_1,  P15N,   012,  3,    257,      5,2,19940921,0351, 50.0062,-165.0022, -999,   3499.7,   1.4971,  34.6706,2,  34.6703,2,    132.7,2,   160.80,2,    37.70,2,     0.00,2,     2.56,2, -999.000,9, -999.000,9,   -999.0,9,  -999.00,9,  -999.00,9,   2294.0,3,   2416.1,2,  1.2312
    18DD9403_1,  P15N,   012,  3,    258,      4,2,19940921,0351, 50.0062,-165.0022, -999,   4002.1,   1.4741,  34.6810,2,  34.6797,2,    143.4,2,   159.20,2,    37.10,2,     0.00,2,     2.49,2, -999.000,9, -999.000,9,   -999.0,9,  -999.00,9,  -999.00,9,   2288.6,3,   2421.5,2,  1.1558
    18DD9403_1,  P15N,   012,  3,    259,      3,2,19940921,0351, 50.0062,-165.0022, -999,   4501.4,   1.4923,  34.6864,2,  34.6857,2,    149.0,2,   159.90,2,    36.50,2,     0.00,2,     2.45,2, -999.000,9, -999.000,9,   -999.0,9,  -999.00,9,  -999.00,9,   2289.6,3,   2415.9,2,  1.1174
    18DD9403_1,  P15N,   012,  3,    260,      2,2,19940921,0351, 50.0062,-165.0022, -999,   4752.3,   1.5104,  34.6883,2,  34.6871,2,    151.8,2,   159.60,2,    36.60,2,     0.00,2,     2.48,2, -999.000,9, -999.000,9,   -999.0,9,  -999.00,9,  -999.00,9,   2302.5,3,   -999.0,9,  1.1056
    18DD9403_1,  P15N,   012,  3,    261,      1,2,19940921,0351, 50.0062,-165.0022, -999,   5102.5,   1.5328,  34.6910,2,  34.6884,2,    155.2,2,   157.10,2,    36.40,2,     0.00,2,     2.43,2, -999.000,9, -999.000,9,   -999.0,9,  -999.00,9,  -999.00,9,   2323.0,2,   2416.6,2,  1.0849
    18DD9403_1,  P15N,   013,  3,    262,     23,2,19940921,1043, 49.4937,-164.9992, -999,     10.3,   9.5645,  32.5389,2,  32.5411,2,    286.6,2,    18.40,2,    13.70,2,     0.14,2,     1.22,2,    4.937,3,    1.909,3,   -999.0,9,  -999.00,9,  -999.00,9,   -999.0,9,   -999.0,9,  9.5634
    18DD9403_1,  P15N,   013,  3,    263,     22,2,19940921,1043, 49.4937,-164.9992, -999,     50.4,   5.0268,  32.8831,2,  32.8684,2,    317.7,2,    28.90,2,    18.40,2,     0.17,2,     1.58,2,    6.215,3,    2.553,3,   -999.0,9,  -999.00,9,  -999.00,9,   -999.0,9,   -999.0,9,  5.0231
    18DD9403_1,  P15N,   013,  3,    264,     21,2,19940921,1043, 49.4937,-164.9992, -999,    100.2,   4.1468,  33.0502,2,  32.9840,2,    295.8,2,    34.70,2,    22.50,2,     0.02,2,     1.74,2,    5.380,3,    2.428,3,   -999.0,9,  -999.00,9,  -999.00,9,   -999.0,9,   -999.0,9,  4.1401
    18DD9403_1,  P15N,   013,  3,    265,     20,2,19940921,1043, 49.4937,-164.9992, -999,    199.0,   3.4794,  33.8241,2,  33.7667,2,    116.8,2,    78.70,2,    37.40,2,     0.00,2,     2.67,2,    2.542,3,    1.327,3,   -999.0,9,  -999.00,9,  -999.00,9,   -999.0,9,   -999.0,9,  3.4666
    18DD9403_1,  P15N,   013,  3,    266,     19,2,19940921,1043, 49.4937,-164.9992, -999,    302.4,   3.7261,  33.9658,2,  33.9583,2,     69.0,2,    93.50,2,    40.30,2,     0.00,2,     2.88,2,    1.422,3,    0.725,3,   -999.0,9,  -999.00,9,  -999.00,9,   -999.0,9,   -999.0,9,  3.7058
    18DD9403_1,  P15N,   013,  3,    267,     18,2,19940921,1043, 49.4937,-164.9992, -999,    395.4,   3.6859,  34.0655,2,  34.0586,2,     49.9,2,   103.80,2,    41.70,2,     0.00,2,     2.99,2,    0.936,3,    0.517,3,   -999.0,9,  -999.00,9,  -999.00,9,   -999.0,9,   -999.0,9,  3.6591
    18DD9403_1,  P15N,   013,  3,    268,     17,2,19940921,1043, 49.4937,-164.9992, -999,    398.1,   3.6785,  34.0674,2,  34.0609,2,     49.3,2,   104.20,2,    42.00,2,     0.00,2,     2.97,2,    0.076,3,    0.496,3,   -999.0,9,  -999.00,9,  -999.00,9,   -999.0,9,   -999.0,9,  3.6515
    18DD9403_1,  P15N,   013,  3,    269,     16,2,19940921,1043, 49.4937,-164.9992, -999,    604.5,   3.3685,  34.2233,2,  34.2225,2,     29.0,2,   123.60,2,    43.20,2,     0.00,2,     3.06,2,    0.332,3,    0.196,3,   -999.0,9,  -999.00,9,  -999.00,9,   -999.0,9,   -999.0,9,  3.3279
    18DD9403_1,  P15N,   013,  3,    270,     15,2,19940921,1043, 49.4937,-164.9992, -999,    802.0,   3.0557,  34.3240,2,  34.3167,2,     25.4,2,   136.20,2,    43.40,2,     0.00,2,     3.09,2,    0.154,3,    0.147,3,   -999.0,9,  -999.00,9,  -999.00,9,   -999.0,9,   -999.0,9,  3.0024
    18DD9403_1,  P15N,   013,  3,    271,     14,2,19940921,1043, 49.4937,-164.9992, -999,   1002.7,   2.7524,  34.3921,2,  34.3944,2,     28.0,2,   145.80,2,    43.60,2,     0.00,2,     3.08,2,    0.007,3,    0.126,3,   -999.0,9,  -999.00,9,  -999.00,9,   -999.0,9,   -999.0,9,  2.6865
    18DD9403_1,  P15N,   013,  3,    272,     13,2,19940921,1043, 49.4937,-164.9992, -999,   1249.6,   2.4616,  34.4576,2,  34.4633,2,     30.6,2,   155.30,2,    43.60,2,     0.00,2,     3.07,2,    0.000,3,    0.000,3,   -999.0,9,  -999.00,9,  -999.00,9,   -999.0,9,   -999.0,9,  2.3796
    18DD9403_1,  P15N,   013,  3,    273,     12,2,19940921,1043, 49.4937,-164.9992, -999,   1500.1,   2.2455,  34.5130,2,  34.5150,2,     36.9,2,   160.60,2,    43.40,2,     0.00,2,     3.06,2,    0.000,3,    0.000,3,   -999.0,9,  -999.00,9,  -999.00,9,   -999.0,9,   -999.0,9,  2.1465
    18DD9403_1,  P15N,   013,  3,    274,     11,2,19940921,1043, 49.4937,-164.9992, -999,   1751.9,   2.0667,  34.5545,2,  34.5535,2,     51.4,2,   164.40,2,    42.80,2,     0.00,2,     2.98,2,    0.015,3,    0.000,3,   -999.0,9,  -999.00,9,  -999.00,9,   -999.0,9,   -999.0,9,  1.9499
    18DD9403_1,  P15N,   013,  3,    275,     10,2,19940921,1043, 49.4937,-164.9992, -999,   2002.1,   1.9289,  34.5861,2,  34.5853,2,     63.2,2,   166.20,2,    42.30,2,     0.00,2,     2.92,2, -999.000,9, -999.000,9,   -999.0,9,  -999.00,9,  -999.00,9,   -999.0,9,   -999.0,9,  1.7936
    18DD9403_1,  P15N,   013,  3,    276,      9,2,19940921,1043, 49.4937,-164.9992, -999,   2248.9,   1.8070,  34.6119,2,  34.6106,2,     75.7,2,   167.10,2,    41.50,2,     0.00,2,     2.86,2, -999.000,9, -999.000,9,   -999.0,9,  -999.00,9,  -999.00,9,   -999.0,9,   -999.0,9,  1.6526
    18DD9403_1,  P15N,   013,  3,    277,      8,2,19940921,1043, 49.4937,-164.9992, -999,   2500.3,   1.7069,  34.6292,2,  34.6301,2,     89.8,2,   166.20,2,    40.70,2,     0.00,2,     2.78,2, -999.000,9, -999.000,9,   -999.0,9,  -999.00,9,  -999.00,9,   -999.0,9,   -999.0,9,  1.5321
    18DD9403_1,  P15N,   013,  3,    278,      7,2,19940921,1043, 49.4937,-164.9992, -999,   2749.9,   1.6320,  34.6437,2,  34.6441,2,    101.7,2,   165.70,2,    40.00,2,     0.00,2,     2.71,2, -999.000,9, -999.000,9,   -999.0,9,  -999.00,9,  -999.00,9,   -999.0,9,   -999.0,9,  1.4361
    18DD9403_1,  P15N,   013,  3,    279,      6,2,19940921,1043, 49.4937,-164.9992, -999,   3001.7,   1.5725,  34.6558,2,  34.6555,2,    114.4,2,   163.30,2,    39.20,2,     0.00,2,     2.75,4, -999.000,9, -999.000,9,   -999.0,9,  -999.00,9,  -999.00,9,   -999.0,9,   -999.0,9,  1.3541
    18DD9403_1,  P15N,   013,  3,    280,      5,2,19940921,1043, 49.4937,-164.9992, -999,   3499.4,   1.4991,  34.6719,2,  34.6714,2,    131.7,2,   160.30,2,    38.10,2,     0.00,2,     2.56,2, -999.000,9, -999.000,9,   -999.0,9,  -999.00,9,  -999.00,9,   -999.0,9,   -999.0,9,  1.2331
    18DD9403_1,  P15N,   013,  3,    281,      4,2,19940921,1043, 49.4937,-164.9992, -999,   4000.1,   1.4737,  34.6815,2,  34.6803,2,    143.6,2,   159.20,2,    36.50,2,     0.00,2,     2.49,2, -999.000,9, -999.000,9,   -999.0,9,  -999.00,9,  -999.00,9,   -999.0,9,   -999.0,9,  1.1556
    18DD9403_1,  P15N,   013,  3,    282,      3,2,19940921,1043, 49.4937,-164.9992, -999,   4501.3,   1.4945,  34.6867,2,  34.6861,2,    148.2,2,   161.70,2,    36.80,2,     0.00,2,     2.44,2, -999.000,9, -999.000,9,   -999.0,9,  -999.00,9,  -999.00,9,   -999.0,9,   -999.0,9,  1.1196
    18DD9403_1,  P15N,   013,  3,    283,      2,2,19940921,1043, 49.4937,-164.9992, -999,   5001.9,   1.5384,  34.6895,2,  34.6884,2,    151.7,2,   161.20,2,    37.00,2,     0.00,2,     2.47,2, -999.000,9, -999.000,9,   -999.0,9,  -999.00,9,  -999.00,9,   -999.0,9,   -999.0,9,  1.1026
    18DD9403_1,  P15N,   013,  3,    284,      1,2,19940921,1043, 49.4937,-164.9992, -999,   5174.5,   1.5504,  34.6904,2,  34.6889,2,    154.3,2,   162.10,2,    36.30,2,     0.00,2,     2.48,2, -999.000,9, -999.000,9,   -999.0,9,  -999.00,9,  -999.00,9,   -999.0,9,   -999.0,9,  1.0930
    18DD9403_1,  P15N,   014,  2,    304,      4,2,19940921,1802, 48.9988,-165.0020, 5112,   4498.6,   1.5004,  34.6863,2,  34.6851,2,    147.6,2,   160.40,2,    36.50,2,     0.00,2,     2.46,2, -999.000,9, -999.000,9,   -999.0,9,  -999.00,9,  -999.00,9,   2300.7,3,   2435.6,2,  1.1256
    18DD9403_1,  P15N,   014,  2,    305,      3,2,19940921,1802, 48.9988,-165.0020, 5112,   4750.9,   1.5194,  34.6875,2,  34.6871,2,    149.1,2,   159.40,2,    36.20,2,     0.00,2,     2.45,2, -999.000,9, -999.000,9,   -999.0,9,  -999.00,9,  -999.00,9,   2304.1,3,   2434.9,2,  1.1145
    18DD9403_1,  P15N,   014,  2,    306,      2,2,19940921,1802, 48.9988,-165.0020, 5112,   5002.1,   1.5417,  34.6893,2,  34.6883,2,    150.3,2,   160.00,2,    36.10,2,     0.01,2,     2.42,2, -999.000,9, -999.000,9,   -999.0,9,  -999.00,9,  -999.00,9,   2311.4,3,   2431.8,2,  1.1058
    18DD9403_1,  P15N,   014,  2,    307,      1,2,19940921,1802, 48.9988,-165.0020, 5112,   5207.9,   1.5563,  34.6908,2,  34.6893,2,    152.6,2,   159.30,2,    36.00,2,     0.00,2,     2.43,2, -999.000,9, -999.000,9,   -999.0,9,  -999.00,9,  -999.00,9,   2316.1,2,   2449.6,2,  1.0945