BOTTLE,20130510IOSDFOJC
EXPOCODE,SECT_ID,STNNBR,CASTNO,SAMPNO,BTLNBR,BTLNBR_FLAG_W,DATE,TIME,LATITUDE,LONGITUDE,DEPTH,CTDPRS,CTDTMP,CTDSAL,CTDSAL_FLAG_W,SALNTY,SALNTY_FLAG_W,OXYGEN,OXYGEN_FLAG_W,SILCAT,SILCAT_FLAG_W,NITRAT,NITRAT_FLAG_W,NITRIT,NITRIT_FLAG_W,PHSPHT,PHSPHT_FLAG_W,CFC-11,CFC-11_FLAG_W,CFC-12,CFC-12_FLAG_W,DELC14,DELC14_FLAG_W,DELC13,DELC13_FLAG_W,O18O16,O18O16_FLAG_W,TCARBN,TCARBN_FLAG_W,ALKALI,ALKALI_FLAG_W,THETA
,,,,,,,,,,,,DBAR,ITS-90,PSS-78,,PSS-78,,UMOL/KG,,UMOL/KG,,UMOL/KG,,UMOL/KG,,UMOL/KG,,PMOL/KG,,PMOL/KG,,/MILLE,,/MILLE,,/MILLE,,UMOL/KG,,UMOL/KG,,DEG C
    18DD9403_1,  P15N,   070,  2,   1546,    S11,2,19941008,0307, 20.8980,-165.9792, -999,      5.7,  28.1512,  34.5948,2,  34.5745,2,    234.9,3,     3.10,3,     0.10,2,     0.00,2,     0.00,2,    9.096,3,    1.841,3,   -999.0,9,  -999.00,9,  -999.00,9,   1922.6,2,   -999.0,9, 28.1499
    18DD9403_1,  P15N,   070,  2,   1547,    S10,2,19941008,0307, 20.8980,-165.9792, -999,     20.4,  28.0603,  34.6135,2,  34.6283,2,    202.1,3,     1.60,2,     0.00,2,     0.00,2,     0.00,2,    1.941,3,    1.200,3,   -999.0,9,  -999.00,9,  -999.00,9,   1923.8,2,   -999.0,9, 28.0555
    18DD9403_1,  P15N,   070,  2,   1548,     S9,2,19941008,0307, 20.8980,-165.9792, -999,     45.9,  27.5494,  34.9742,2,  34.9227,2,    211.8,3,     1.20,2,     0.00,2,     0.00,2,     0.00,2,    1.731,3,    1.517,3,   -999.0,9,  -999.00,9,  -999.00,9,   1942.6,2,   -999.0,9, 27.5387
    18DD9403_1,  P15N,   070,  2,   1549,     S8,2,19941008,0307, 20.8980,-165.9792, -999,     70.8,  25.0170,  35.1816,2,  35.1708,2,    223.3,3,     1.40,2,     0.00,2,     0.00,2,     0.00,2,    1.839,3,    1.302,3,   -999.0,9,  -999.00,9,  -999.00,9,   1973.7,2,   -999.0,9, 25.0016
    18DD9403_1,  P15N,   070,  2,   1550,     S7,2,19941008,0307, 20.8980,-165.9792, -999,     94.9,  22.7415,  35.2011,2,  35.1972,2,    219.9,2,     1.80,2,     0.00,2,     0.00,2,     0.00,2,    1.755,3,    1.316,3,   -999.0,9,  -999.00,9,  -999.00,9,   1992.4,2,   -999.0,9, 22.7223
    18DD9403_1,  P15N,   070,  2,   1551,     S6,2,19941008,0307, 20.8980,-165.9792, -999,    146.7,  19.8472,  35.0800,2,  35.1138,2,    194.3,2,     2.70,2,     2.10,2,     0.00,2,     0.19,2,    2.573,3,    1.265,3,   -999.0,9,  -999.00,9,  -999.00,9,   2034.1,2,   -999.0,9, 19.8202
    18DD9403_1,  P15N,   070,  2,   1552,     S5,2,19941008,0307, 20.8980,-165.9792, -999,    196.1,  17.5838,  34.8772,2,  34.8900,2,    196.3,2,     4.40,2,     4.20,2,     0.00,2,     5.96,4,    8.780,3,    1.554,3,   -999.0,9,  -999.00,9,  -999.00,9,   2042.3,2,   -999.0,9, 17.5507
    18DD9403_1,  P15N,   070,  2,   1553,     S4,2,19941008,0307, 20.8980,-165.9792, -999,    295.5,  13.1268,  34.3853,2,  34.3825,2,    203.0,2,    10.30,2,    10.50,2,     0.00,2,     0.77,2,    2.590,3,    1.438,3,   -999.0,9,  -999.00,9,  -999.00,9,   2073.0,2,   -999.0,9, 13.0861
    18DD9403_1,  P15N,   070,  2,   1554,     S3,2,19941008,0307, 20.8980,-165.9792, -999,    395.4,   9.6507,  34.1392,2,  34.1471,2,    186.4,2,    23.00,2,    18.30,2,     0.00,2,     1.31,2,    2.500,3,    1.113,3,   -999.0,9,  -999.00,9,  -999.00,9,   2118.9,2,   -999.0,9,  9.6058
    18DD9403_1,  P15N,   070,  2,   1555,     S2,2,19941008,0307, 20.8980,-165.9792, -999,    445.5,   8.3350,  34.1346,2,  34.1360,2,    135.4,2,    38.10,2,    25.80,2,     0.00,2,     1.98,2,    1.838,3,    1.028,3,   -999.0,9,  -999.00,9,  -999.00,9,   2176.9,2,   -999.0,9,  8.2886
    18DD9403_1,  P15N,   070,  2,   1556,     S1,2,19941008,0307, 20.8980,-165.9792, -999,    495.3,   7.5772,  34.1477,2,  34.1517,2,    104.1,2,    46.50,2,    29.70,2,     0.00,2,     2.22,2,    0.904,3,    0.591,3,   -999.0,9,  -999.00,9,  -999.00,9,   2211.5,2,   -999.0,9,  7.5283
    18DD9403_1,  P15N,   070,  4,   1557,     23,2,19941008,0448, 20.8997,-165.9933, -999,    500.9,   6.6731,  34.1480,2,  34.1334,2,     90.8,2,    58.70,2,    32.50,2,     0.00,2,     2.40,2,    0.586,3,    0.447,3,   -999.0,9,  -999.00,9,  -999.00,9,   2285.8,2,   2289.7,2,  6.6271
    18DD9403_1,  P15N,   070,  4,   1558,     22,2,19941008,0448, 20.8997,-165.9933, -999,    599.4,   5.6433,  34.2069,2,  34.2373,2,     48.9,3,    77.30,2,    37.90,2,     0.00,2,     2.75,2,    0.104,3,    0.489,3,   -999.0,9,  -999.00,9,  -999.00,9,   2311.7,2,   2312.7,2,  5.5925
    18DD9403_1,  P15N,   070,  4,   1559,     21,2,19941008,0448, 20.8997,-165.9933, -999,    800.0,   4.8567,  34.4148,2,  34.4585,2,     48.7,2,    91.80,2,    40.10,2,     0.00,2,     2.92,2,    0.000,3,    0.107,3,   -999.0,9,  -999.00,9,  -999.00,9,   2312.1,2,   2347.2,2,  4.7921
    18DD9403_1,  P15N,   070,  4,   1560,     20,2,19941008,0448, 20.8997,-165.9933, -999,    800.0,   4.8568,  34.4148,2,  34.4582,2,     50.0,3,    91.20,2,    40.10,2,     0.00,2,     2.90,2,    0.006,3,    0.092,3,   -999.0,9,  -999.00,9,  -999.00,9,   2326.0,2,   2348.0,2,  4.7922
    18DD9403_1,  P15N,   070,  4,   1561,     19,2,19941008,0448, 20.8997,-165.9933, -999,   1001.2,   4.1547,  34.5064,2,  34.5120,2,     55.5,3,   104.50,2,    40.40,2,     0.00,2,     2.90,2,    0.006,3,    0.083,3,   -999.0,9,  -999.00,9,  -999.00,9,   2338.0,2,   2361.7,2,  4.0777
    18DD9403_1,  P15N,   070,  4,   1562,     18,2,19941008,0448, 20.8997,-165.9933, -999,   1250.2,   3.4633,  34.5462,2,  34.5487,2,     69.8,3,   118.60,2,    41.10,2,     0.00,2,     2.93,2,    0.004,3,    0.113,3,   -999.0,9,  -999.00,9,  -999.00,9,   2346.2,2,   2378.1,2,  3.3714
    18DD9403_1,  P15N,   070,  4,   1563,     17,2,19941008,0448, 20.8997,-165.9933, -999,   1501.9,   2.9898,  34.5724,2,  34.5708,2,     72.9,3,   128.70,2,    40.50,2,     0.00,2,     2.88,2,    0.004,3,    0.356,3,   -999.0,9,  -999.00,9,  -999.00,9,   2349.9,2,   2392.4,2,  2.8819
    18DD9403_1,  P15N,   070,  4,   1564,     16,2,19941008,0448, 20.8997,-165.9933, -999,   1750.3,   2.5504,  34.5939,2,  34.5910,2,     83.2,3,   139.00,2,    40.10,2,     0.00,2,     2.84,2, -999.000,9, -999.000,9,   -999.0,9,  -999.00,9,  -999.00,9,   2346.2,2,   2402.4,2,  2.4271
    18DD9403_1,  P15N,   070,  4,   1565,     15,2,19941008,0448, 20.8997,-165.9933, -999,   2000.4,   2.2096,  34.6166,2,  34.6142,2,     94.0,3,   145.70,2,    39.50,2,     0.00,2,     2.76,2, -999.000,9, -999.000,9,   -999.0,9,  -999.00,9,  -999.00,9,   2351.0,2,   2408.8,2,  2.0700
    18DD9403_1,  P15N,   070,  4,   1566,     14,2,19941008,0448, 20.8997,-165.9933, -999,   2250.5,   1.9644,  34.6310,2,  34.6285,2,    104.2,3,   151.50,2,    39.10,2,     0.00,2,     2.71,2, -999.000,9, -999.000,9,   -999.0,9,  -999.00,9,  -999.00,9,   2347.0,2,   2411.7,2,  1.8072
    18DD9403_1,  P15N,   070,  4,   1567,     13,2,19941008,0448, 20.8997,-165.9933, -999,   2500.2,   1.7727,  34.6470,2,  34.6453,2,    113.6,3,   154.00,2,    38.60,2,     0.00,2,     3.05,4, -999.000,9, -999.000,9,   -999.0,9,  -999.00,9,  -999.00,9,   2342.3,2,   2415.5,2,  1.5966
    18DD9403_1,  P15N,   070,  4,   1568,     12,2,19941008,0448, 20.8997,-165.9933, -999,   2749.7,   1.6617,  34.6574,2,  34.6541,2,    122.1,2,   156.20,2,    37.80,2,     0.00,2,     2.66,2, -999.000,9, -999.000,9,   -999.0,9,  -999.00,9,  -999.00,9,   2338.0,2,   2427.6,2,  1.4650
    18DD9403_1,  P15N,   070,  4,   1570,     10,2,19941008,0448, 20.8997,-165.9933, -999,   2999.9,   1.5293,  34.6666,2,  34.6670,2,    139.0,2,   155.80,2,    37.60,2,     0.00,2,     2.57,2, -999.000,9, -999.000,9,   -999.0,9,  -999.00,9,  -999.00,9,   2335.0,2,   2419.1,2,  1.3120
    18DD9403_1,  P15N,   070,  4,   1569,     11,2,19941008,0448, 20.8997,-165.9933, -999,   3000.1,   1.5293,  34.6666,2,  34.6680,2,    127.1,3,   155.30,2,    37.50,2,     0.00,2,     2.63,2, -999.000,9, -999.000,9,   -999.0,9,  -999.00,9,  -999.00,9,   2340.1,2,   2419.6,2,  1.3119
    18DD9403_1,  P15N,   070,  4,   1571,      9,2,19941008,0448, 20.8997,-165.9933, -999,   3251.9,   1.4947,  34.6724,2,  34.6722,2,    140.7,2,   154.40,2,    37.30,2,     0.00,2,     2.59,2, -999.000,9, -999.000,9,   -999.0,9,  -999.00,9,  -999.00,9,   2330.8,2,   2420.9,2,  1.2537
    18DD9403_1,  P15N,   070,  4,   1572,      8,2,19941008,0448, 20.8997,-165.9933, -999,   3500.5,   1.4688,  34.6767,2,  34.6779,2,    146.6,2,   153.30,2,    36.60,2,     0.00,2,     2.56,2, -999.000,9, -999.000,9,   -999.0,9,  -999.00,9,  -999.00,9,   2329.7,2,   -999.0,9,  1.2035
    18DD9403_1,  P15N,   070,  4,   1573,      7,2,19941008,0448, 20.8997,-165.9933, -999,   3750.0,   1.4683,  34.6792,2,  34.6796,2,    156.8,2,   152.20,2,    36.70,2,     0.00,2,     2.53,2, -999.000,9, -999.000,9,   -999.0,9,  -999.00,9,  -999.00,9,   2327.7,2,   -999.0,9,  1.1771
    18DD9403_1,  P15N,   070,  4,   1574,      6,2,19941008,0448, 20.8997,-165.9933, -999,   4001.3,   1.4636,  34.6816,2,  34.6821,2,    153.0,2,   150.60,2,    35.90,2,     0.00,2,     2.68,2, -999.000,9, -999.000,9,   -999.0,9,  -999.00,9,  -999.00,9,   -999.0,9,   -999.0,9,  1.1456
    18DD9403_1,  P15N,   070,  4,   1575,      5,2,19941008,0448, 20.8997,-165.9933, -999,   4249.8,   1.4725,  34.6832,2,  34.6832,2,    178.9,2,   149.10,4,    36.00,2,     0.00,2,     2.47,2, -999.000,9, -999.000,9,   -999.0,9,  -999.00,9,  -999.00,9,   -999.0,9,   -999.0,9,  1.1268
    18DD9403_1,  P15N,   070,  4,   1576,      4,2,19941008,0448, 20.8997,-165.9933, -999,   4502.3,   1.4807,  34.6849,2,  34.6855,2,    165.2,3,   147.30,2,    35.60,2,     0.00,2,     2.54,2, -999.000,9, -999.000,9,   -999.0,9,  -999.00,9,  -999.00,9,   -999.0,9,   -999.0,9,  1.1061
    18DD9403_1,  P15N,   070,  4,   1577,      3,2,19941008,0448, 20.8997,-165.9933, -999,   4846.6,   1.4851,  34.6881,2,  34.6880,2,    164.8,3,   143.30,2,    35.60,2,     0.00,2,     2.42,2, -999.000,9, -999.000,9,   -999.0,9,  -999.00,9,  -999.00,9,   2313.5,2,   -999.0,9,  1.0699
    18DD9403_1,  P15N,   070,  4,   1578,      2,2,19941008,0448, 20.8997,-165.9933, -999,   4897.0,   1.4765,  34.6887,2,  34.6883,2,    165.0,3,   142.60,2,    35.50,2,     0.00,2,     2.42,2, -999.000,9, -999.000,9,   -999.0,9,  -999.00,9,  -999.00,9,   2309.7,2,   -999.0,9,  1.0555
    18DD9403_1,  P15N,   070,  4,   1579,      1,2,19941008,0448, 20.8997,-165.9933, -999,   4925.4,   1.4675,  34.6900,2,  34.6900,2,    170.7,3,   142.00,2,    35.50,2,     0.00,2,     2.44,2, -999.000,9, -999.000,9,   -999.0,9,  -999.00,9,  -999.00,9,   -999.0,9,   -999.0,9,  1.0434
    18DD9403_1,  P15N,  9992,  2,   1580,    S11,2,19941008,1907, 20.9918,-164.0330, -999,   1495.4,   2.9193,  34.5711,2,  34.5668,2,   -999.0,9,  -999.00,9,  -999.00,9,  -999.00,9,  -999.00,9, -999.000,9, -999.000,9,   -999.0,9,  -999.00,9,  -999.00,9,   -999.0,9,   -999.0,9,  2.8128
    18DD9403_1,  P15N,  9992,  2,   1581,    S10,2,19941008,1907, 20.9918,-164.0330, -999,   1495.4,   2.9183,  34.5711,2,  34.5661,2,   -999.0,9,  -999.00,9,  -999.00,9,  -999.00,9,  -999.00,9, -999.000,9, -999.000,9,   -999.0,9,  -999.00,9,  -999.00,9,   -999.0,9,   -999.0,9,  2.8118
    18DD9403_1,  P15N,  9992,  2,   1583,     S8,2,19941008,1907, 20.9918,-164.0330, -999,   1495.4,   2.9163,  34.5711,2,  34.5661,2,   -999.0,9,  -999.00,9,  -999.00,9,  -999.00,9,  -999.00,9, -999.000,9, -999.000,9,   -999.0,9,  -999.00,9,  -999.00,9,   -999.0,9,   -999.0,9,  2.8098
    18DD9403_1,  P15N,  9992,  2,   1584,     S7,2,19941008,1907, 20.9918,-164.0330, -999,   1495.4,   2.9143,  34.5711,2,  34.5661,2,   -999.0,9,  -999.00,9,  -999.00,9,  -999.00,9,  -999.00,9, -999.000,9, -999.000,9,   -999.0,9,  -999.00,9,  -999.00,9,   -999.0,9,   -999.0,9,  2.8078
    18DD9403_1,  P15N,  9992,  2,   1589,     S2,2,19941008,1907, 20.9918,-164.0330, -999,   1495.4,   2.9183,  34.5711,2,  34.5664,2,   -999.0,9,  -999.00,9,  -999.00,9,  -999.00,9,  -999.00,9, -999.000,9, -999.000,9,   -999.0,9,  -999.00,9,  -999.00,9,   -999.0,9,   -999.0,9,  2.8118
    18DD9403_1,  P15N,  9992,  2,   1590,     S1,2,19941008,1907, 20.9918,-164.0330, -999,   1495.4,   2.9163,  34.5711,2,  34.5665,2,   -999.0,9,  -999.00,9,  -999.00,9,  -999.00,9,  -999.00,9, -999.000,9, -999.000,9,   -999.0,9,  -999.00,9,  -999.00,9,   -999.0,9,   -999.0,9,  2.8098
    18DD9403_1,  P15N,  9992,  2,   1582,     S9,2,19941008,1907, 20.9918,-164.0330, -999,   1496.4,   2.9133,  34.5715,2,  34.5661,2,   -999.0,9,  -999.00,9,  -999.00,9,  -999.00,9,  -999.00,9, -999.000,9, -999.000,9,   -999.0,9,  -999.00,9,  -999.00,9,   -999.0,9,   -999.0,9,  2.8068
    18DD9403_1,  P15N,  9992,  2,   1585,     S6,2,19941008,1907, 20.9918,-164.0330, -999,   1496.4,   2.9153,  34.5715,2,  34.5662,2,   -999.0,9,  -999.00,9,  -999.00,9,  -999.00,9,  -999.00,9, -999.000,9, -999.000,9,   -999.0,9,  -999.00,9,  -999.00,9,   -999.0,9,   -999.0,9,  2.8087
    18DD9403_1,  P15N,  9992,  2,   1586,     S5,2,19941008,1907, 20.9918,-164.0330, -999,   1496.4,   2.9153,  34.5715,2,  34.5667,2,   -999.0,9,  -999.00,9,  -999.00,9,  -999.00,9,  -999.00,9, -999.000,9, -999.000,9,   -999.0,9,  -999.00,9,  -999.00,9,   -999.0,9,   -999.0,9,  2.8087
    18DD9403_1,  P15N,  9992,  2,   1587,     S4,2,19941008,1907, 20.9918,-164.0330, -999,   1496.4,   2.9163,  34.5715,2,  34.5661,2,   -999.0,9,  -999.00,9,  -999.00,9,  -999.00,9,  -999.00,9, -999.000,9, -999.000,9,   -999.0,9,  -999.00,9,  -999.00,9,   -999.0,9,   -999.0,9,  2.8097
    18DD9403_1,  P15N,  9992,  2,   1588,     S3,2,19941008,1907, 20.9918,-164.0330, -999,   1496.4,   2.9173,  34.5715,2,  34.5663,2,   -999.0,9,  -999.00,9,  -999.00,9,  -999.00,9,  -999.00,9, -999.000,9, -999.000,9,   -999.0,9,  -999.00,9,  -999.00,9,   -999.0,9,   -999.0,9,  2.8107