BOTTLE,20130510IOSDFOJC
EXPOCODE,SECT_ID,STNNBR,CASTNO,SAMPNO,BTLNBR,BTLNBR_FLAG_W,DATE,TIME,LATITUDE,LONGITUDE,DEPTH,CTDPRS,CTDTMP,CTDSAL,CTDSAL_FLAG_W,SALNTY,SALNTY_FLAG_W,OXYGEN,OXYGEN_FLAG_W,SILCAT,SILCAT_FLAG_W,NITRAT,NITRAT_FLAG_W,NITRIT,NITRIT_FLAG_W,PHSPHT,PHSPHT_FLAG_W,CFC-11,CFC-11_FLAG_W,CFC-12,CFC-12_FLAG_W,DELC14,DELC14_FLAG_W,DELC13,DELC13_FLAG_W,O18O16,O18O16_FLAG_W,TCARBN,TCARBN_FLAG_W,ALKALI,ALKALI_FLAG_W,THETA
,,,,,,,,,,,,DBAR,ITS-90,PSS-78,,PSS-78,,UMOL/KG,,UMOL/KG,,UMOL/KG,,UMOL/KG,,UMOL/KG,,PMOL/KG,,PMOL/KG,,/MILLE,,/MILLE,,/MILLE,,UMOL/KG,,UMOL/KG,,DEG C
    18DD9403_1,  P15N,   045,  3,    945,     23,2,19940930,2026, 33.4947,-165.0113, -999,    611.4,   6.0116,  33.9935,2,  33.9904,2,    133.3,2,    56.10,2,    29.90,2,     0.00,2,     2.26,2,    1.684,3,    0.724,3,   -999.0,9,  -999.00,9,  -999.00,9,   -999.0,9,   -999.0,9,  5.9581
    18DD9403_1,  P15N,   045,  3,    946,     22,2,19940930,2026, 33.4947,-165.0113, -999,    792.8,   4.3488,  34.1031,2,  34.1067,2,     52.6,2,    94.00,2,    39.50,2,     0.00,2,     2.90,2,    1.415,3,    0.656,3,   -999.0,9,  -999.00,9,  -999.00,9,   -999.0,9,   -999.0,9,  4.2884
    18DD9403_1,  P15N,   045,  3,    947,     21,2,19940930,2026, 33.4947,-165.0113, -999,    988.2,   3.5727,  34.2708,2,  34.2634,2,     15.2,3,   121.10,2,    42.90,2,     0.00,2,     3.17,2,    0.336,3,    0.072,3,   -999.0,9,  -999.00,9,  -999.00,9,   -999.0,9,   -999.0,9,  3.5018
    18DD9403_1,  P15N,   045,  3,    948,     20,2,19940930,2026, 33.4947,-165.0113, -999,    993.0,   3.5673,  34.2712,2,  34.2659,2,     16.6,3,   121.30,2,    42.90,2,     0.00,2,     3.25,2,    0.020,3,    0.000,3,   -999.0,9,  -999.00,9,  -999.00,9,   -999.0,9,   -999.0,9,  3.4960
    18DD9403_1,  P15N,   045,  3,    949,     19,2,19940930,2026, 33.4947,-165.0113, -999,   1247.7,   3.1040,  34.4347,2,  34.4256,2,     13.9,2,   138.20,2,    43.40,2,     0.00,2,     3.20,2,    0.000,3,    0.279,3,   -999.0,9,  -999.00,9,  -999.00,9,   -999.0,9,   -999.0,9,  3.0160
    18DD9403_1,  P15N,   045,  3,    950,     18,2,19940930,2026, 33.4947,-165.0113, -999,   1497.7,   2.6235,  34.5174,2,  34.5175,2,     29.8,3,   150.70,2,    42.70,2,     0.00,2,     3.14,2,    0.000,3,    0.264,3,   -999.0,9,  -999.00,9,  -999.00,9,   -999.0,9,   -999.0,9,  2.5203
    18DD9403_1,  P15N,   045,  3,    951,     17,2,19940930,2026, 33.4947,-165.0113, -999,   1751.2,   2.2918,  34.5660,2,  34.5716,2,     50.5,2,   158.00,2,    41.60,2,     0.00,2,     3.08,2,    0.011,3,    0.173,3,   -999.0,9,  -999.00,9,  -999.00,9,   -999.0,9,   -999.0,9,  2.1721
    18DD9403_1,  P15N,   045,  3,    952,     16,2,19940930,2026, 33.4947,-165.0113, -999,   2002.9,   2.0436,  34.6024,2,  34.6034,2,     66.7,2,   164.70,2,    40.70,2,     0.00,2,     2.95,2, -999.000,9, -999.000,9,   -999.0,9,  -999.00,9,  -999.00,9,   -999.0,9,   -999.0,9,  1.9063
    18DD9403_1,  P15N,   045,  3,    953,     15,2,19940930,2026, 33.4947,-165.0113, -999,   2248.8,   1.8534,  34.6250,2,  34.6254,2,     80.9,2,   167.50,2,    39.90,2,     0.00,2,     2.88,2, -999.000,9, -999.000,9,   -999.0,9,  -999.00,9,  -999.00,9,   -999.0,9,   -999.0,9,  1.6981
    18DD9403_1,  P15N,   045,  3,    954,     14,2,19940930,2026, 33.4947,-165.0113, -999,   2507.5,   1.7108,  34.6423,2,  34.6419,2,     95.1,2,   168.40,2,    39.00,2,     0.00,2,     2.86,2, -999.000,9, -999.000,9,   -999.0,9,  -999.00,9,  -999.00,9,   -999.0,9,   -999.0,9,  1.5352
    18DD9403_1,  P15N,   045,  3,    955,     13,2,19940930,2026, 33.4947,-165.0113, -999,   2744.4,   1.6181,  34.6525,2,  34.6530,2,    109.7,2,   164.80,2,    38.20,2,     0.00,2,     2.74,2, -999.000,9, -999.000,9,   -999.0,9,  -999.00,9,  -999.00,9,   -999.0,9,   -999.0,9,  1.4229
    18DD9403_1,  P15N,   045,  3,    956,     12,2,19940930,2026, 33.4947,-165.0113, -999,   2998.2,   1.5571,  34.6610,2,  34.6621,2,    119.9,2,   162.40,2,    37.40,2,     0.00,2,     2.68,2, -999.000,9, -999.000,9,   -999.0,9,  -999.00,9,  -999.00,9,   -999.0,9,   -999.0,9,  1.3393
    18DD9403_1,  P15N,   045,  3,    957,     11,2,19940930,2026, 33.4947,-165.0113, -999,   3249.8,   1.5166,  34.6681,2,  34.6679,2,    126.7,2,   161.90,2,    37.10,2,     0.00,2,     2.78,2, -999.000,9, -999.000,9,   -999.0,9,  -999.00,9,  -999.00,9,   -999.0,9,   -999.0,9,  1.2753
    18DD9403_1,  P15N,   045,  3,    958,     10,2,19940930,2026, 33.4947,-165.0113, -999,   3503.4,   1.4910,  34.6740,2,  34.6743,2,    133.9,2,   159.80,2,    36.70,2,     0.00,2,     2.62,2, -999.000,9, -999.000,9,   -999.0,9,  -999.00,9,  -999.00,9,   -999.0,9,   -999.0,9,  1.2248
    18DD9403_1,  P15N,   045,  3,    959,      9,2,19940930,2026, 33.4947,-165.0113, -999,   3746.2,   1.4794,  34.6777,2,  34.6773,2,    139.5,2,   157.10,2,    36.30,2,     0.00,2,     2.71,2, -999.000,9, -999.000,9,   -999.0,9,  -999.00,9,  -999.00,9,   -999.0,9,   -999.0,9,  1.1883
    18DD9403_1,  P15N,   045,  3,    960,      8,2,19940930,2026, 33.4947,-165.0113, -999,   3997.3,   1.4756,  34.6807,2,  34.6808,2,    144.6,2,   155.40,2,    35.90,2,     0.00,2,     2.53,2, -999.000,9, -999.000,9,   -999.0,9,  -999.00,9,  -999.00,9,   -999.0,9,   -999.0,9,  1.1577
    18DD9403_1,  P15N,   045,  3,    961,      7,2,19940930,2026, 33.4947,-165.0113, -999,   4250.6,   1.4809,  34.6833,2,  34.6815,2,    148.3,2,   154.50,2,    35.80,2,     0.00,2,     2.57,2, -999.000,9, -999.000,9,   -999.0,9,  -999.00,9,  -999.00,9,   -999.0,9,   -999.0,9,  1.1349
    18DD9403_1,  P15N,   045,  3,    962,      6,2,19940930,2026, 33.4947,-165.0113, -999,   4501.1,   1.4927,  34.6851,2,  34.6853,2,    150.8,2,   153.00,2,    35.60,2,     0.00,2,     2.53,2, -999.000,9, -999.000,9,   -999.0,9,  -999.00,9,  -999.00,9,   -999.0,9,   -999.0,9,  1.1178
    18DD9403_1,  P15N,   045,  3,    963,      5,2,19940930,2026, 33.4947,-165.0113, -999,   4750.4,   1.5092,  34.6864,2,  34.6869,2,    153.2,2,   151.60,2,    35.50,2,     0.00,2,     2.52,2, -999.000,9, -999.000,9,   -999.0,9,  -999.00,9,  -999.00,9,   -999.0,9,   -999.0,9,  1.1047
    18DD9403_1,  P15N,   045,  3,    964,      4,2,19940930,2026, 33.4947,-165.0113, -999,   4998.8,   1.5265,  34.6879,2,  34.6873,2,    156.2,2,   148.50,2,    35.20,2,     0.00,2,     2.50,2, -999.000,9, -999.000,9,   -999.0,9,  -999.00,9,  -999.00,9,   -999.0,9,   -999.0,9,  1.0915
    18DD9403_1,  P15N,   045,  3,    965,      3,2,19940930,2026, 33.4947,-165.0113, -999,   5252.0,   1.5485,  34.6892,2,  34.6887,2,    158.2,2,   147.30,2,    35.20,2,     0.00,2,     2.48,2, -999.000,9, -999.000,9,   -999.0,9,  -999.00,9,  -999.00,9,   -999.0,9,   -999.0,9,  1.0815
    18DD9403_1,  P15N,   045,  3,    966,      2,2,19940930,2026, 33.4947,-165.0113, -999,   5503.8,   1.5758,  34.6897,2,  34.6902,2,    158.9,2,   146.30,2,    34.90,2,     0.00,2,     2.49,2, -999.000,9, -999.000,9,   -999.0,9,  -999.00,9,  -999.00,9,   -999.0,9,   -999.0,9,  1.0760
    18DD9403_1,  P15N,   045,  3,    967,      1,2,19940930,2026, 33.4947,-165.0113, -999,   5977.3,   1.6366,  34.6901,2,  34.6910,2,    160.1,2,   145.60,2,    35.10,2,     0.00,2,     2.51,2, -999.000,9, -999.000,9,   -999.0,9,  -999.00,9,  -999.00,9,   -999.0,9,   -999.0,9,  1.0724
    18DD9403_1,  P15N,   045,  4,    934,    S11,2,19940930,2303, 33.4637,-165.0267, -999,      5.7,  24.1652,  34.8433,2,  34.8450,2,    226.0,3,     3.90,2,     0.00,2,     0.00,2,     0.07,2,    1.934,3,    1.451,3,   -999.0,9,  -999.00,9,  -999.00,9,   -999.0,9,   -999.0,9, 24.1640
    18DD9403_1,  P15N,   045,  4,    935,    S10,2,19940930,2303, 33.4637,-165.0267, -999,     45.3,  18.5605,  34.6227,2,  34.6227,2,    274.8,3,     5.50,2,     0.00,2,     0.00,2,     0.10,2,    2.497,3,    1.366,3,   -999.0,9,  -999.00,9,  -999.00,9,   -999.0,9,   -999.0,9, 18.5526
    18DD9403_1,  P15N,   045,  4,    936,     S9,2,19940930,2303, 33.4637,-165.0267, -999,     96.0,  15.6432,  34.5494,2,  34.6219,2,    283.3,3,     5.20,2,     0.00,2,     0.00,2,     0.09,2,    2.495,3,    1.330,3,   -999.0,9,  -999.00,9,  -999.00,9,   -999.0,9,   -999.0,9, 15.6283
    18DD9403_1,  P15N,   045,  4,    937,     S8,2,19940930,2303, 33.4637,-165.0267, -999,    145.1,  14.0986,  34.4197,2,  34.5558,2,    268.2,3,     5.50,2,     0.00,2,     0.00,2,     0.19,2,    2.550,3,    1.323,3,   -999.0,9,  -999.00,9,  -999.00,9,   -999.0,9,   -999.0,9, 14.0776
    18DD9403_1,  P15N,   045,  4,    939,     S6,2,19940930,2303, 33.4637,-165.0267, -999,    196.3,  13.1079,  34.3616,2,  34.3681,2,    234.5,3,     8.80,2,     7.10,2,     0.00,2,     0.55,2,    3.253,3,    1.422,3,   -999.0,9,  -999.00,9,  -999.00,9,   -999.0,9,   -999.0,9, 13.0809
    18DD9403_1,  P15N,   045,  4,    938,     S7,2,19940930,2303, 33.4637,-165.0267, -999,    198.3,  13.0259,  34.3602,2,  34.3652,2,    238.4,3,     8.80,2,     7.10,2,     0.00,2,     0.59,2,    2.990,3,    1.616,3,   -999.0,9,  -999.00,9,  -999.00,9,   -999.0,9,   -999.0,9, 12.9987
    18DD9403_1,  P15N,   045,  4,    940,     S5,2,19940930,2303, 33.4637,-165.0267, -999,    245.4,  12.3530,  34.3155,2,  34.3282,2,    237.0,3,    11.10,2,     9.10,2,     0.00,2,     0.69,2,    3.143,3,    1.383,3,   -999.0,9,  -999.00,9,  -999.00,9,   -999.0,9,   -999.0,9, 12.3205
    18DD9403_1,  P15N,   045,  4,    941,     S4,2,19940930,2303, 33.4637,-165.0267, -999,    296.3,  11.6582,  34.3155,2,  34.2932,2,    235.5,3,    13.10,2,    10.90,2,     0.00,2,     0.91,2,    3.379,3,    1.702,3,   -999.0,9,  -999.00,9,  -999.00,9,   -999.0,9,   -999.0,9, 11.6204
    18DD9403_1,  P15N,   045,  4,    942,     S3,2,19940930,2303, 33.4637,-165.0267, -999,    395.4,  10.1066,  34.3155,2,  34.1822,2,    220.8,3,    19.20,2,    15.00,2,     0.00,2,     1.12,2,    3.412,3,    1.409,3,   -999.0,9,  -999.00,9,  -999.00,9,   -999.0,9,   -999.0,9, 10.0604
    18DD9403_1,  P15N,   045,  4,    943,     S2,2,19940930,2303, 33.4637,-165.0267, -999,    492.5,   8.1920,  34.3155,2,  34.0667,2,    193.1,3,    31.00,2,    21.10,2,     0.00,2,     2.12,2,    3.195,3,    1.340,3,   -999.0,9,  -999.00,9,  -999.00,9,   -999.0,9,   -999.0,9,  8.1412
    18DD9403_1,  P15N,   045,  4,    944,     S1,2,19940930,2303, 33.4637,-165.0267, -999,    595.7,   6.2825,  33.9945,2,  33.9929,2,    148.1,3,    52.00,2,    28.70,2,     0.00,2,     2.17,2,    2.436,3,    1.314,3,   -999.0,9,  -999.00,9,  -999.00,9,   -999.0,9,   -999.0,9,  6.2292
    18DD9403_1,  P15N,   046,  3,    968,     23,2,19941001,0427, 32.9958,-165.0147, -999,      9.6,  24.1875,  34.7791,2,  34.7885,2,    227.3,3,     4.50,2,     0.00,2,     0.00,2,     0.28,2,    1.835,3,    1.004,3,   -999.0,9,  -999.00,9,  -999.00,9,   1986.6,2,   2303.4,2, 24.1855
    18DD9403_1,  P15N,   046,  3,    969,     22,2,19941001,0427, 32.9958,-165.0147, -999,     50.6,  18.5905,  34.6498,2,  34.6352,2,    273.2,3,     5.40,2,     0.10,2,     0.00,2,     0.06,2,    2.470,3,    1.384,3,   -999.0,9,  -999.00,9,  -999.00,9,   1990.6,2,   2269.3,2, 18.5817
    18DD9403_1,  P15N,   046,  3,    970,     21,2,19941001,0427, 32.9958,-165.0147, -999,    101.4,  15.0890,  34.5280,2,  34.5249,2,    246.1,3,     5.90,2,     0.80,2,     0.19,2,     0.28,2,    3.375,3,    1.289,3,   -999.0,9,  -999.00,9,  -999.00,9,   2019.4,2,   2263.5,2, 15.0737
    18DD9403_1,  P15N,   046,  3,    971,     20,2,19941001,0427, 32.9958,-165.0147, -999,    201.0,  13.1018,  34.3776,2,  34.3782,2,    230.2,3,     9.00,2,     7.30,2,     0.00,2,     0.56,2,    3.214,3,    1.335,3,   -999.0,9,  -999.00,9,  -999.00,9,   2049.4,2,   2257.9,2, 13.0742
    18DD9403_1,  P15N,   046,  3,    972,     19,2,19941001,0427, 32.9958,-165.0147, -999,    298.8,  11.3773,  34.2786,2,  34.2721,2,    228.8,3,    13.50,2,    11.10,2,     0.00,2,     0.88,2,    3.192,3,    1.470,3,   -999.0,9,  -999.00,9,  -999.00,9,   2071.7,2,   2262.1,2, 11.3398
    18DD9403_1,  P15N,   046,  3,    973,     18,2,19941001,0427, 32.9958,-165.0147, -999,    403.2,   9.7250,  34.1516,2,  34.1617,2,    212.6,3,    21.80,2,    16.40,2,     0.00,2,     1.26,2,    2.973,3,    1.366,3,   -999.0,9,  -999.00,9,  -999.00,9,   2103.9,2,   2258.6,2,  9.6790
    18DD9403_1,  P15N,   046,  3,    974,     17,2,19941001,0427, 32.9958,-165.0147, -999,    595.3,   6.3585,  33.9982,2,  33.9967,2,    147.9,3,    51.50,2,    28.30,2,     0.00,2,     2.10,2,    2.651,3,    1.295,3,   -999.0,9,  -999.00,9,  -999.00,9,   2197.0,2,   2278.6,2,  6.3049
    18DD9403_1,  P15N,   046,  3,    975,     16,2,19941001,0427, 32.9958,-165.0147, -999,    597.2,   6.3056,  33.9960,2,  33.9967,2,    147.9,2,    52.20,2,    28.50,2,     0.00,2,     2.13,2,    1.503,3,    0.695,3,   -999.0,9,  -999.00,9,  -999.00,9,   2197.8,2,   2291.3,2,  6.2521
    18DD9403_1,  P15N,   046,  3,    976,     15,2,19941001,0427, 32.9958,-165.0147, -999,    803.6,   4.3062,  34.1343,2,  34.1117,2,     48.7,2,    95.40,2,    40.40,2,     0.00,2,     2.96,2,    1.649,3,    0.736,3,   -999.0,9,  -999.00,9,  -999.00,9,   2307.0,2,   2321.7,2,  4.2452
    18DD9403_1,  P15N,   046,  3,    977,     14,2,19941001,0427, 32.9958,-165.0147, -999,    998.3,   3.5401,  34.3021,2,  34.2935,2,     15.9,3,   123.10,2,    43.40,2,     0.00,2,     3.17,2,    1.668,3,    1.125,3,   -999.0,9,  -999.00,9,  -999.00,9,   2360.5,2,   2354.1,2,  3.4685
    18DD9403_1,  P15N,   046,  3,    978,     13,2,19941001,0427, 32.9958,-165.0147, -999,   1248.1,   3.1264,  34.4437,2,  34.4357,2,     23.8,3,   137.00,2,    43.80,2,     0.00,2,     3.18,2,    0.209,3,    0.165,3,   -999.0,9,  -999.00,9,  -999.00,9,   2375.7,2,   2380.6,2,  3.0382
    18DD9403_1,  P15N,   046,  3,    979,     12,2,19941001,0427, 32.9958,-165.0147, -999,   1499.2,   2.6858,  34.5216,2,  34.5173,2,     38.7,3,   148.20,2,    43.30,2,     0.00,2,     3.14,2,    0.000,3,    0.275,3,   -999.0,9,  -999.00,9,  -999.00,9,   2379.0,2,   2396.0,2,  2.5818
    18DD9403_1,  P15N,   046,  3,    980,     11,2,19941001,0427, 32.9958,-165.0147, -999,   1750.7,   2.2963,  34.5757,2,  34.5621,2,     55.1,3,   156.30,2,    42.00,2,     0.00,2,     3.01,2,    0.000,3,    0.372,3,   -999.0,9,  -999.00,9,  -999.00,9,   2375.1,2,   2405.9,2,  2.1766
    18DD9403_1,  P15N,   046,  3,    981,     10,2,19941001,0427, 32.9958,-165.0147, -999,   1999.8,   2.0019,  34.6075,2,  34.6077,2,     72.8,3,   162.90,2,    40.90,2,     0.00,2,     2.98,2,    0.016,3,    0.003,3,   -999.0,9,  -999.00,9,  -999.00,9,   2371.9,2,   2416.7,2,  1.8656
    18DD9403_1,  P15N,   046,  3,    982,      9,2,19941001,0427, 32.9958,-165.0147, -999,   2499.9,   1.7091,  34.6418,2,  34.6419,2,     99.5,3,   167.30,2,    39.50,2,     0.00,2,     2.89,2, -999.000,9, -999.000,9,   -999.0,9,  -999.00,9,  -999.00,9,   2361.9,2,   2424.5,2,  1.5343
    18DD9403_1,  P15N,   046,  3,    983,      8,2,19941001,0427, 32.9958,-165.0147, -999,   2747.0,   1.6144,  34.6533,2,  34.6534,2,    113.5,2,   164.70,2,    38.90,2,     0.00,2,     2.89,2, -999.000,9, -999.000,9,   -999.0,9,  -999.00,9,  -999.00,9,   2354.0,2,   2397.1,4,  1.4190
    18DD9403_1,  P15N,   046,  3,    984,      7,2,19941001,0427, 32.9958,-165.0147, -999,   2998.7,   1.5502,  34.6626,2,  34.6622,2,    126.7,3,   161.80,2,    38.40,2,     0.00,2,     2.66,2, -999.000,9, -999.000,9,   -999.0,9,  -999.00,9,  -999.00,9,   2345.8,2,   2422.0,2,  1.3325
    18DD9403_1,  P15N,   046,  3,    985,      6,2,19941001,0427, 32.9958,-165.0147, -999,   3500.2,   1.4903,  34.6734,2,  34.6745,2,    138.3,3,   157.80,2,    37.20,2,     0.00,2,     2.87,4, -999.000,9, -999.000,9,   -999.0,9,  -999.00,9,  -999.00,9,   2335.4,2,   2423.5,2,  1.2245
    18DD9403_1,  P15N,   046,  3,    986,      5,2,19941001,0427, 32.9958,-165.0147, -999,   4001.8,   1.4786,  34.6797,2,  34.6808,2,    148.3,2,   154.30,2,    36.80,2,     0.00,2,     2.70,2, -999.000,9, -999.000,9,   -999.0,9,  -999.00,9,  -999.00,9,   2330.5,2,   2420.8,2,  1.1602
    18DD9403_1,  P15N,   046,  3,    987,      4,2,19941001,0427, 32.9958,-165.0147, -999,   4501.1,   1.4945,  34.6840,2,  34.6807,2,    148.1,2,   153.80,2,    36.70,2,     0.00,2,     2.54,2, -999.000,9, -999.000,9,   -999.0,9,  -999.00,9,  -999.00,9,   2329.1,2,   2420.9,2,  1.1196
    18DD9403_1,  P15N,   046,  3,    988,      3,2,19941001,0427, 32.9958,-165.0147, -999,   4999.1,   1.5305,  34.6867,2,  34.6877,2,    157.5,3,   148.40,2,    36.00,2,     0.00,2,     2.49,2, -999.000,9, -999.000,9,   -999.0,9,  -999.00,9,  -999.00,9,   2318.7,2,   -999.0,9,  1.0953
    18DD9403_1,  P15N,   046,  3,    989,      2,2,19941001,0427, 32.9958,-165.0147, -999,   5499.9,   1.5769,  34.6889,2,  34.6887,2,    163.4,3,   145.80,2,    35.80,2,     0.00,2,     2.53,2, -999.000,9, -999.000,9,   -999.0,9,  -999.00,9,  -999.00,9,   2319.4,2,   -999.0,9,  1.0775
    18DD9403_1,  P15N,   046,  3,    990,      1,2,19941001,0427, 32.9958,-165.0147, -999,   5769.9,   1.6072,  34.6896,2,  34.6887,2,    166.8,2,   145.60,2,    35.80,2,     0.00,2,     2.53,2, -999.000,9, -999.000,9,   -999.0,9,  -999.00,9,  -999.00,9,   2320.0,2,   -999.0,9,  1.0717