BOTTLE,20130510IOSDFOJC
EXPOCODE,SECT_ID,STNNBR,CASTNO,SAMPNO,BTLNBR,BTLNBR_FLAG_W,DATE,TIME,LATITUDE,LONGITUDE,DEPTH,CTDPRS,CTDTMP,CTDSAL,CTDSAL_FLAG_W,SALNTY,SALNTY_FLAG_W,OXYGEN,OXYGEN_FLAG_W,SILCAT,SILCAT_FLAG_W,NITRAT,NITRAT_FLAG_W,NITRIT,NITRIT_FLAG_W,PHSPHT,PHSPHT_FLAG_W,CFC-11,CFC-11_FLAG_W,CFC-12,CFC-12_FLAG_W,DELC14,DELC14_FLAG_W,DELC13,DELC13_FLAG_W,O18O16,O18O16_FLAG_W,TCARBN,TCARBN_FLAG_W,ALKALI,ALKALI_FLAG_W,THETA
,,,,,,,,,,,,DBAR,ITS-90,PSS-78,,PSS-78,,UMOL/KG,,UMOL/KG,,UMOL/KG,,UMOL/KG,,UMOL/KG,,PMOL/KG,,PMOL/KG,,/MILLE,,/MILLE,,/MILLE,,UMOL/KG,,UMOL/KG,,DEG C
    18DD9403_1,  P15N,   033,  3,    617,     23,2,19940927,0746, 39.4967,-164.9823, -999,      9.6,  19.1999,  33.8018,2,  33.8098,2,    243.5,2,     3.30,2,     0.00,2,     0.00,2,     0.11,2,    2.496,3,    1.512,3,   -999.0,9,  -999.00,9,  -999.00,9,   -999.0,9,   -999.0,9, 19.1982
    18DD9403_1,  P15N,   033,  3,    618,     22,2,19940927,0746, 39.4967,-164.9823, -999,     49.9,  11.9519,  34.2300,2,  34.1765,2,    286.0,2,     9.60,2,     5.40,2,     0.31,2,     0.54,2,    4.262,3,    2.242,3,   -999.0,9,  -999.00,9,  -999.00,9,   -999.0,9,   -999.0,9, 11.9455
    18DD9403_1,  P15N,   033,  3,    619,     21,2,19940927,0746, 39.4967,-164.9823, -999,     99.3,  10.8648,  34.1505,2,  34.1358,2,    256.0,2,    12.00,2,     9.30,2,     0.00,2,     0.77,2,    3.753,3,    1.879,3,   -999.0,9,  -999.00,9,  -999.00,9,   -999.0,9,   -999.0,9, 10.8528
    18DD9403_1,  P15N,   033,  3,    620,     20,2,19940927,0746, 39.4967,-164.9823, -999,    199.4,  10.1175,  34.1430,2,  34.1474,2,    248.7,2,    15.80,2,    11.90,2,     0.00,2,     0.93,2,    3.586,3,    2.096,3,   -999.0,9,  -999.00,9,  -999.00,9,   -999.0,9,   -999.0,9, 10.0944
    18DD9403_1,  P15N,   033,  3,    621,     19,2,19940927,0746, 39.4967,-164.9823, -999,    304.0,   9.0405,  34.0728,2,  34.0915,2,    230.1,2,    22.80,2,    16.20,2,     0.00,2,     1.20,2,    3.314,3,    1.675,3,   -999.0,9,  -999.00,9,  -999.00,9,   -999.0,9,   -999.0,9,  9.0076
    18DD9403_1,  P15N,   033,  3,    622,     18,2,19940927,0746, 39.4967,-164.9823, -999,    401.3,   7.5692,  34.0273,2,  34.0387,2,    180.5,2,    37.80,2,    23.50,2,     0.00,2,     1.70,2,    2.128,3,    1.260,3,   -999.0,9,  -999.00,9,  -999.00,9,   -999.0,9,   -999.0,9,  7.5299
    18DD9403_1,  P15N,   033,  3,    623,     17,2,19940927,0746, 39.4967,-164.9823, -999,    602.6,   4.9364,  34.0352,2,  34.0271,2,     97.6,2,    76.80,2,    35.70,2,     0.00,2,     2.57,2,    0.901,3,    0.620,3,   -999.0,9,  -999.00,9,  -999.00,9,   -999.0,9,   -999.0,9,  4.8887
    18DD9403_1,  P15N,   033,  3,    624,     16,2,19940927,0746, 39.4967,-164.9823, -999,    800.5,   3.9219,  34.1874,2,  34.1884,2,     39.8,2,   108.00,2,    41.40,2,     0.00,2,     3.02,2,    0.175,3,    0.125,3,   -999.0,9,  -999.00,9,  -999.00,9,   -999.0,9,   -999.0,9,  3.8634
    18DD9403_1,  P15N,   033,  3,    625,     15,2,19940927,0746, 39.4967,-164.9823, -999,   1004.1,   3.2835,  34.3093,2,  34.3142,2,     18.8,2,   130.60,2,    44.00,2,     0.00,2,     3.20,2,    0.033,3,    0.000,3,   -999.0,9,  -999.00,9,  -999.00,9,   -999.0,9,   -999.0,9,  3.2134
    18DD9403_1,  P15N,   033,  3,    626,     14,2,19940927,0746, 39.4967,-164.9823, -999,   1249.5,   2.7871,  34.4133,2,  34.4159,2,     15.5,2,   147.60,2,    44.50,2,     0.00,2,     3.18,2,    0.000,3,    0.000,3,   -999.0,9,  -999.00,9,  -999.00,9,   -999.0,9,   -999.0,9,  2.7022
    18DD9403_1,  P15N,   033,  3,    627,     13,2,19940927,0746, 39.4967,-164.9823, -999,   1500.1,   2.4314,  34.4856,2,  34.4889,2,     22.0,2,   159.40,2,    44.80,2,     0.00,2,     3.16,2,    0.015,3,    0.000,3,   -999.0,9,  -999.00,9,  -999.00,9,   -999.0,9,   -999.0,9,  2.3303
    18DD9403_1,  P15N,   033,  3,    628,     12,2,19940927,0746, 39.4967,-164.9823, -999,   1754.1,   2.1588,  34.5443,2,  34.5456,2,     30.4,2,   167.20,2,    44.10,2,     0.00,2,     3.09,2,    0.000,3,    0.000,3,   -999.0,9,  -999.00,9,  -999.00,9,   -999.0,9,   -999.0,9,  2.0406
    18DD9403_1,  P15N,   033,  3,    629,     11,2,19940927,0746, 39.4967,-164.9823, -999,   2001.0,   1.9712,  34.5878,2,  34.5838,2,     50.1,2,   171.30,2,    43.20,2,     0.00,2,     3.01,2,    0.025,3,    0.000,3,   -999.0,9,  -999.00,9,  -999.00,9,   -999.0,9,   -999.0,9,  1.8353
    18DD9403_1,  P15N,   033,  3,    630,     10,2,19940927,0746, 39.4967,-164.9823, -999,   2255.9,   1.8239,  34.6153,2,  34.6126,2,     66.4,2,   173.00,2,    41.70,2,     0.00,2,     2.95,2, -999.000,9, -999.000,9,   -999.0,9,  -999.00,9,  -999.00,9,   -999.0,9,   -999.0,9,  1.6686
    18DD9403_1,  P15N,   033,  3,    631,      9,2,19940927,0746, 39.4967,-164.9823, -999,   2501.6,   1.7044,  34.6353,2,  34.6331,2,     84.1,2,   172.20,2,    41.00,2,     0.00,2,     2.85,2, -999.000,9, -999.000,9,   -999.0,9,  -999.00,9,  -999.00,9,   -999.0,9,   -999.0,9,  1.5295
    18DD9403_1,  P15N,   033,  3,    632,      8,2,19940927,0746, 39.4967,-164.9823, -999,   2751.0,   1.6133,  34.6496,2,  34.6480,2,    100.5,2,   169.10,2,    39.90,2,     0.00,2,     2.78,2, -999.000,9, -999.000,9,   -999.0,9,  -999.00,9,  -999.00,9,   -999.0,9,   -999.0,9,  1.4176
    18DD9403_1,  P15N,   033,  3,    633,      7,2,19940927,0746, 39.4967,-164.9823, -999,   3000.8,   1.5447,  34.6609,2,  34.6596,2,    115.7,3,   163.90,2,    38.40,2,     0.00,2,     2.71,2, -999.000,9, -999.000,9,   -999.0,9,  -999.00,9,  -999.00,9,   -999.0,9,   -999.0,9,  1.3270
    18DD9403_1,  P15N,   033,  3,    634,      6,2,19940927,0746, 39.4967,-164.9823, -999,   3500.5,   1.4694,  34.6758,2,  34.6748,2,    136.6,2,   157.90,2,    37.20,2,     0.00,2,     2.59,2, -999.000,9, -999.000,9,   -999.0,9,  -999.00,9,  -999.00,9,   -999.0,9,   -999.0,9,  1.2041
    18DD9403_1,  P15N,   033,  3,    635,      5,2,19940927,0746, 39.4967,-164.9823, -999,   4001.1,   1.4537,  34.6830,2,  34.6827,2,    147.0,2,   156.30,2,    36.30,2,     0.00,2,     2.53,2, -999.000,9, -999.000,9,   -999.0,9,  -999.00,9,  -999.00,9,   -999.0,9,   -999.0,9,  1.1359
    18DD9403_1,  P15N,   033,  3,    636,      4,2,19940927,0746, 39.4967,-164.9823, -999,   4501.4,   1.4874,  34.6861,2,  34.6864,2,    149.3,2,   159.60,2,    36.50,2,     0.00,2,     2.59,2, -999.000,9, -999.000,9,   -999.0,9,  -999.00,9,  -999.00,9,   -999.0,9,   -999.0,9,  1.1127
    18DD9403_1,  P15N,   033,  3,    637,      3,2,19940927,0746, 39.4967,-164.9823, -999,   5002.9,   1.5487,  34.6865,2,  34.6859,2,    150.2,2,   159.30,2,    36.00,2,     0.00,2,     2.54,2, -999.000,9, -999.000,9,   -999.0,9,  -999.00,9,  -999.00,9,   -999.0,9,   -999.0,9,  1.1125
    18DD9403_1,  P15N,   033,  3,    638,      2,2,19940927,0746, 39.4967,-164.9823, -999,   5499.8,   1.6104,  34.6869,2,  34.6870,2,    153.9,2,   158.40,2,    36.50,2,     0.00,2,     2.54,2, -999.000,9, -999.000,9,   -999.0,9,  -999.00,9,  -999.00,9,   -999.0,9,   -999.0,9,  1.1098
    18DD9403_1,  P15N,   033,  3,    639,      1,2,19940927,0746, 39.4967,-164.9823, -999,   5657.4,   1.6306,  34.6872,2,  34.6868,2,    150.8,2,   157.20,2,    36.20,2,     0.00,2,     2.51,2, -999.000,9, -999.000,9,   -999.0,9,  -999.00,9,  -999.00,9,   -999.0,9,   -999.0,9,  1.1089
    18DD9403_1,  P15N,   034,  3,    640,     23,2,19940927,1407, 39.0020,-165.0085, -999,    509.1,   5.9765,  33.9948,2,  33.9895,2,    144.1,2,    56.10,2,    29.50,2,     0.00,2,     2.15,2,    1.765,3,    0.909,3,   -999.0,9,  -999.00,9,  -999.00,9,   2209.2,2,   2292.3,2,  5.9325
    18DD9403_1,  P15N,   034,  3,    641,     22,2,19940927,1407, 39.0020,-165.0085, -999,    625.4,   5.0105,  34.0335,2,  34.0280,2,    100.2,2,    75.10,2,    35.00,2,     0.00,2,     2.56,2,    0.976,3,    0.431,3,   -999.0,9,  -999.00,9,  -999.00,9,   2256.0,2,   2304.1,2,  4.9605
    18DD9403_1,  P15N,   034,  3,    642,     21,2,19940927,1407, 39.0020,-165.0085, -999,    804.9,   4.0457,  34.1942,2,  34.1689,2,     47.1,2,   103.90,2,    40.70,2,     0.00,2,     3.02,2,    0.265,3,    0.139,3,   -999.0,9,  -999.00,9,  -999.00,9,   2320.0,2,   2342.1,2,  3.9861
    18DD9403_1,  P15N,   034,  3,    643,     20,2,19940927,1407, 39.0020,-165.0085, -999,   1022.3,   3.3308,  34.3187,2,  34.3071,2,     22.3,2,   128.60,2,    43.40,2,     0.00,2,     3.18,2,    0.059,3,    0.000,3,   -999.0,9,  -999.00,9,  -999.00,9,   2361.1,2,   2375.0,2,  3.2589
    18DD9403_1,  P15N,   034,  3,    644,     19,2,19940927,1407, 39.0020,-165.0085, -999,   1250.4,   2.8180,  34.4108,2,  34.4093,2,     14.8,2,   146.40,2,    44.50,2,     0.00,2,     3.18,2,    0.000,3,    0.000,3,   -999.0,9,  -999.00,9,  -999.00,9,   2386.5,2,   2392.7,2,  2.7326
    18DD9403_1,  P15N,   034,  3,    645,     18,2,19940927,1407, 39.0020,-165.0085, -999,   1497.9,   2.4640,  34.4839,2,  34.4829,2,     15.6,2,   159.50,2,    45.00,2,     0.00,2,     3.22,2,    0.003,3,    0.000,3,   -999.0,9,  -999.00,9,  -999.00,9,   2395.9,2,   2406.1,2,  2.3627
    18DD9403_1,  P15N,   034,  3,    646,     17,2,19940927,1407, 39.0020,-165.0085, -999,   1737.1,   2.1935,  34.5403,2,  34.5439,2,     28.5,2,   166.60,2,    44.00,2,     0.00,2,     3.15,2,    0.014,3,    0.000,3,   -999.0,9,  -999.00,9,  -999.00,9,   2391.3,2,   2424.6,2,  2.0762
    18DD9403_1,  P15N,   034,  3,    647,     16,2,19940927,1407, 39.0020,-165.0085, -999,   1998.2,   1.9732,  34.5873,2,  34.5869,2,     48.4,2,   172.10,2,    42.90,2,     0.00,2,     3.05,2,    0.029,3,    0.000,3,   -999.0,9,  -999.00,9,  -999.00,9,   2383.5,2,   2426.0,2,  1.8375
    18DD9403_1,  P15N,   034,  3,    648,     15,2,19940927,1407, 39.0020,-165.0085, -999,   2241.9,   1.8176,  34.6146,2,  34.6135,2,     65.5,2,   173.00,2,    41.70,2,     0.00,2,     3.16,4, -999.000,9, -999.000,9,   -999.0,9,  -999.00,9,  -999.00,9,   2382.1,2,   2429.0,2,  1.6636
    18DD9403_1,  P15N,   034,  3,    649,     14,2,19940927,1407, 39.0020,-165.0085, -999,   2495.8,   1.6916,  34.6347,2,  34.6349,2,     85.6,2,   172.10,2,    40.80,2,     0.00,2,     2.87,2, -999.000,9, -999.000,9,   -999.0,9,  -999.00,9,  -999.00,9,   2371.0,2,   2442.9,2,  1.5175
    18DD9403_1,  P15N,   034,  3,    650,     13,2,19940927,1407, 39.0020,-165.0085, -999,   2749.7,   1.6005,  34.6501,2,  34.6493,2,    102.4,2,   168.90,2,    39.40,2,     0.00,2,     2.83,2, -999.000,9, -999.000,9,   -999.0,9,  -999.00,9,  -999.00,9,   2360.4,2,   2436.0,2,  1.4052
    18DD9403_1,  P15N,   034,  3,    651,     12,2,19940927,1407, 39.0020,-165.0085, -999,   3000.3,   1.5290,  34.6617,2,  34.6613,2,    118.4,2,   164.60,2,    38.60,2,     0.00,2,     2.72,2, -999.000,9, -999.000,9,   -999.0,9,  -999.00,9,  -999.00,9,   2350.9,2,   2429.4,2,  1.3117
    18DD9403_1,  P15N,   034,  3,    652,     11,2,19940927,1407, 39.0020,-165.0085, -999,   3243.7,   1.4899,  34.6695,2,  34.6696,2,    130.2,2,   162.50,2,    38.10,2,     0.00,2,     2.64,2, -999.000,9, -999.000,9,   -999.0,9,  -999.00,9,  -999.00,9,   2362.9,3,   2433.0,2,  1.2498
    18DD9403_1,  P15N,   034,  3,    653,     10,2,19940927,1407, 39.0020,-165.0085, -999,   3497.8,   1.4641,  34.6757,2,  34.6759,2,    137.4,2,   158.90,2,    36.90,2,     0.00,2,     2.62,2, -999.000,9, -999.000,9,   -999.0,9,  -999.00,9,  -999.00,9,   2337.4,2,   2432.0,2,  1.1992
    18DD9403_1,  P15N,   034,  3,    654,      9,2,19940927,1407, 39.0020,-165.0085, -999,   3750.1,   1.4497,  34.6804,2,  34.6803,2,    143.3,2,   157.50,2,    36.70,2,     0.00,2,     2.57,2, -999.000,9, -999.000,9,   -999.0,9,  -999.00,9,  -999.00,9,   2334.1,2,   -999.0,9,  1.1589
    18DD9403_1,  P15N,   034,  3,    655,      8,2,19940927,1407, 39.0020,-165.0085, -999,   3999.0,   1.4523,  34.6835,2,  34.6837,2,    146.7,2,   157.20,2,    36.30,2,     0.00,2,     2.55,2, -999.000,9, -999.000,9,   -999.0,9,  -999.00,9,  -999.00,9,   2327.2,2,   2438.8,2,  1.1348
    18DD9403_1,  P15N,   034,  3,    656,      7,2,19940927,1407, 39.0020,-165.0085, -999,   4247.5,   1.4629,  34.6850,2,  34.6862,2,    148.3,2,   159.40,2,    36.20,2,     0.00,2,     2.56,2, -999.000,9, -999.000,9,   -999.0,9,  -999.00,9,  -999.00,9,   2327.4,2,   -999.0,9,  1.1178
    18DD9403_1,  P15N,   034,  3,    657,      6,2,19940927,1407, 39.0020,-165.0085, -999,   4498.3,   1.4879,  34.6866,2,  34.6869,2,    148.5,2,   160.80,2,    36.40,2,     0.00,2,     2.52,2, -999.000,9, -999.000,9,   -999.0,9,  -999.00,9,  -999.00,9,   2326.6,2,   2437.6,2,  1.1135
    18DD9403_1,  P15N,   034,  3,    658,      5,2,19940927,1407, 39.0020,-165.0085, -999,   4752.5,   1.5181,  34.6867,2,  34.6870,2,    147.3,4,   161.70,2,    36.30,2,     0.00,2,     2.52,2, -999.000,9, -999.000,9,   -999.0,9,  -999.00,9,  -999.00,9,   2329.1,2,   -999.0,9,  1.1130
    18DD9403_1,  P15N,   034,  3,    659,      4,2,19940927,1407, 39.0020,-165.0085, -999,   5002.4,   1.5487,  34.6865,2,  34.6865,2,    149.2,2,   160.30,2,    36.40,2,     0.00,2,     2.65,4, -999.000,9, -999.000,9,   -999.0,9,  -999.00,9,  -999.00,9,   2327.4,2,   2436.5,2,  1.1125
    18DD9403_1,  P15N,   034,  3,    660,      3,2,19940927,1407, 39.0020,-165.0085, -999,   5244.0,   1.5793,  34.6869,2,  34.6861,2,    149.0,2,   160.30,2,    36.70,2,     0.00,2,     2.58,2, -999.000,9, -999.000,9,   -999.0,9,  -999.00,9,  -999.00,9,   2323.4,2,   2430.2,2,  1.1123
    18DD9403_1,  P15N,   034,  3,    661,      2,2,19940927,1407, 39.0020,-165.0085, -999,   5245.4,   1.5793,  34.6871,2,  34.6870,2,    149.3,2,   160.80,2,    36.70,2,     0.00,2,     2.55,2, -999.000,9, -999.000,9,   -999.0,9,  -999.00,9,  -999.00,9,   2327.5,2,   -999.0,9,  1.1121
    18DD9403_1,  P15N,   034,  3,    662,      1,2,19940927,1407, 39.0020,-165.0085, -999,   5517.6,   1.6138,  34.6874,2,  34.6867,2,    149.8,2,   160.30,2,    36.50,2,     0.00,2,     2.56,2, -999.000,9, -999.000,9,   -999.0,9,  -999.00,9,  -999.00,9,   2327.5,2,   2435.4,2,  1.1108
    18DD9403_1,  P15N,   034,  5,    663,     S9,2,19940927,1658, 39.0015,-165.0088, -999,      9.0,  19.4643,  33.8765,2,  33.8825,2,    240.7,2,     2.20,2,     0.00,2,     0.00,2,     0.15,2,    2.236,3,    1.446,3,   -999.0,9,  -999.00,9,  -999.00,9,   1960.2,2,   2231.7,2, 19.4627
    18DD9403_1,  P15N,   034,  5,    664,     S8,2,19940927,1658, 39.0015,-165.0088, -999,     46.7,  13.6627,  34.2213,2,  34.2464,2,    309.8,2,     6.10,2,     0.60,2,     0.04,2,     0.26,2,    3.256,3,    2.005,3,   -999.0,9,  -999.00,9,  -999.00,9,   2205.2,4,   2278.7,2, 13.6561
    18DD9403_1,  P15N,   034,  5,    665,     S7,2,19940927,1658, 39.0015,-165.0088, -999,     97.9,  11.7342,  34.2250,2,  34.2264,2,    245.6,2,     9.80,2,     8.60,2,     0.04,2,     0.85,2,    3.504,3,    2.036,3,   -999.0,9,  -999.00,9,  -999.00,9,   2057.3,2,   2261.6,2, 11.7218
    18DD9403_1,  P15N,   034,  5,    666,     S6,2,19940927,1658, 39.0015,-165.0088, -999,    144.8,  11.2333,  34.2041,2,  34.2383,2,    246.2,2,    11.90,2,     9.40,2,     0.01,2,     0.73,2,    3.485,3,    1.992,3,   -999.0,9,  -999.00,9,  -999.00,9,   2063.2,2,   2267.1,2, 11.2154
    18DD9403_1,  P15N,   034,  5,    667,     S5,2,19940927,1658, 39.0015,-165.0088, -999,    198.0,  10.6244,  34.1814,2,  34.1975,2,    244.9,2,    13.90,2,    11.10,2,     0.00,2,     0.85,2,    3.385,3,    1.958,3,   -999.0,9,  -999.00,9,  -999.00,9,   2071.8,2,   2265.4,2, 10.6008
    18DD9403_1,  P15N,   034,  5,    668,     S4,2,19940927,1658, 39.0015,-165.0088, -999,    249.3,   9.9916,  34.1591,2,  34.1616,2,    236.4,2,    17.20,2,    13.70,2,     0.00,2,     1.02,2,    3.247,3,    1.818,3,   -999.0,9,  -999.00,9,  -999.00,9,   2085.4,2,   2268.2,2,  9.9629
    18DD9403_1,  P15N,   034,  5,    669,     S3,2,19940927,1658, 39.0015,-165.0088, -999,    296.2,   9.3358,  34.1171,2,  34.1119,2,    232.8,2,    20.80,2,    15.20,2,     0.00,2,     1.11,2,    3.387,3,    1.805,3,   -999.0,9,  -999.00,9,  -999.00,9,   2098.9,2,   2267.4,2,  9.3031
    18DD9403_1,  P15N,   034,  5,    670,     S2,2,19940927,1658, 39.0015,-165.0088, -999,    396.0,   7.9551,  34.0465,2,  34.0475,2,    195.0,2,    33.10,2,    21.30,2,     0.00,2,     1.53,2,    2.556,3,    1.518,3,   -999.0,9,  -999.00,9,  -999.00,9,   2142.9,2,   2275.1,2,  7.9152
    18DD9403_1,  P15N,   034,  5,    671,     S1,2,19940927,1658, 39.0015,-165.0088, -999,    491.5,   6.3615,  33.9925,2,  33.9955,2,    154.3,2,    50.90,2,    27.70,2,     0.03,2,     2.01,2,    1.993,3,    1.085,3,   -999.0,9,  -999.00,9,  -999.00,9,   2195.7,2,   2286.3,2,  6.3176