BOTTLE,20130510IOSDFOJC
EXPOCODE,SECT_ID,STNNBR,CASTNO,SAMPNO,BTLNBR,BTLNBR_FLAG_W,DATE,TIME,LATITUDE,LONGITUDE,DEPTH,CTDPRS,CTDTMP,CTDSAL,CTDSAL_FLAG_W,SALNTY,SALNTY_FLAG_W,OXYGEN,OXYGEN_FLAG_W,SILCAT,SILCAT_FLAG_W,NITRAT,NITRAT_FLAG_W,NITRIT,NITRIT_FLAG_W,PHSPHT,PHSPHT_FLAG_W,CFC-11,CFC-11_FLAG_W,CFC-12,CFC-12_FLAG_W,DELC14,DELC14_FLAG_W,DELC13,DELC13_FLAG_W,O18O16,O18O16_FLAG_W,TCARBN,TCARBN_FLAG_W,ALKALI,ALKALI_FLAG_W,THETA
,,,,,,,,,,,,DBAR,ITS-90,PSS-78,,PSS-78,,UMOL/KG,,UMOL/KG,,UMOL/KG,,UMOL/KG,,UMOL/KG,,PMOL/KG,,PMOL/KG,,/MILLE,,/MILLE,,/MILLE,,UMOL/KG,,UMOL/KG,,DEG C
    18DD9403_1,  P15N,   059,  3,   1285,    S11,2,19941005,0409, 26.5012,-165.0032, -999,      4.3,  26.6516,  35.2396,2,  35.2453,2,    209.3,3,     2.10,2,     0.00,2,     0.00,2,     0.00,2,    2.002,3,    0.858,3,   -999.0,9,  -999.00,9,  -999.00,9,   -999.0,9,   -999.0,9, 26.6506
    18DD9403_1,  P15N,   059,  3,   1286,    S10,2,19941005,0409, 26.5012,-165.0032, -999,     45.8,  26.0847,  35.2531,2,  35.2508,2,    216.1,3,     1.90,2,     0.00,2,     0.00,2,     0.00,2,    1.520,3,    0.847,3,   -999.0,9,  -999.00,9,  -999.00,9,   -999.0,9,   -999.0,9, 26.0744
    18DD9403_1,  P15N,   059,  3,   1287,     S9,2,19941005,0409, 26.5012,-165.0032, -999,     70.7,  22.9965,  35.2607,2,  35.2665,2,    233.2,3,     2.10,2,     0.00,2,     0.00,2,     0.00,2,    1.490,3,    0.963,3,   -999.0,9,  -999.00,9,  -999.00,9,   -999.0,9,   -999.0,9, 22.9821
    18DD9403_1,  P15N,   059,  3,   1288,     S8,2,19941005,0409, 26.5012,-165.0032, -999,     94.7,  20.7360,  35.2136,2,  35.2154,2,    228.9,3,     2.10,2,     0.00,2,     0.00,2,     0.00,2,    2.516,3,    1.056,3,   -999.0,9,  -999.00,9,  -999.00,9,   -999.0,9,   -999.0,9, 20.7180
    18DD9403_1,  P15N,   059,  3,   1289,     S7,2,19941005,0409, 26.5012,-165.0032, -999,    145.1,  18.3506,  34.9364,2,  35.2164,2,    236.0,3,     2.10,2,     0.00,2,     0.00,2,     0.00,2,    2.303,3,    1.036,3,   -999.0,9,  -999.00,9,  -999.00,9,   -999.0,9,   -999.0,9, 18.3253
    18DD9403_1,  P15N,   059,  3,   1290,     S6,2,19941005,0409, 26.5012,-165.0032, -999,    193.1,  16.6790,  34.7674,2,  34.8004,2,    217.5,3,     5.40,2,     4.00,2,     0.00,2,     0.28,2,    2.728,3,    1.103,3,   -999.0,9,  -999.00,9,  -999.00,9,   -999.0,9,   -999.0,9, 16.6476
    18DD9403_1,  P15N,   059,  3,   1291,     S5,2,19941005,0409, 26.5012,-165.0032, -999,    296.1,  13.1898,  34.3981,2,  34.4351,2,    219.7,3,    10.00,2,     9.50,2,     0.00,2,     0.82,2,    3.263,3,    1.356,3,   -999.0,9,  -999.00,9,  -999.00,9,   -999.0,9,   -999.0,9, 13.1487
    18DD9403_1,  P15N,   059,  3,   1292,     S4,2,19941005,0409, 26.5012,-165.0032, -999,    391.7,  11.0054,  34.2364,2,  34.2426,2,    208.6,3,    16.10,2,    14.40,2,     0.00,2,     0.65,2,    2.676,3,    1.145,3,   -999.0,9,  -999.00,9,  -999.00,9,   -999.0,9,   -999.0,9, 10.9571
    18DD9403_1,  P15N,   059,  3,   1293,     S3,2,19941005,0409, 26.5012,-165.0032, -999,    396.3,  10.9674,  34.2292,2,  34.2426,2,    210.7,3,    17.20,2,    14.30,2,     0.00,2,     0.99,2,    2.850,3,    1.116,3,   -999.0,9,  -999.00,9,  -999.00,9,   -999.0,9,   -999.0,9, 10.9186
    18DD9403_1,  P15N,   059,  3,   1294,     S2,2,19941005,0409, 26.5012,-165.0032, -999,    495.4,   8.7919,  34.0982,2,  34.1005,2,    178.5,3,    29.70,2,    21.60,2,     0.00,2,     1.47,2,    1.976,3,    0.928,3,   -999.0,9,  -999.00,9,  -999.00,9,   -999.0,9,   -999.0,9,  8.7385
    18DD9403_1,  P15N,   059,  3,   1295,     S1,2,19941005,0409, 26.5012,-165.0032, -999,    601.3,   6.7934,  34.0522,2,  34.0430,2,    126.8,3,    50.40,2,    30.10,2,     0.00,2,     2.09,2,    1.069,3,    0.345,3,   -999.0,9,  -999.00,9,  -999.00,9,   -999.0,9,   -999.0,9,  6.7372
    18DD9403_1,  P15N,   059,  5,   1296,     23,2,19941005,0559, 26.5065,-165.0105, -999,    601.6,   6.4117,  34.0467,2,  34.0477,2,    112.1,2,    56.00,2,    31.70,2,     0.00,2,     4.11,4,    0.833,3,    0.152,3,   -999.0,9,  -999.00,9,  -999.00,9,   -999.0,9,   -999.0,9,  6.3573
    18DD9403_1,  P15N,   059,  5,   1297,     22,2,19941005,0559, 26.5065,-165.0105, -999,    803.0,   4.4881,  34.1759,2,  34.1849,2,     37.0,3,    95.90,2,    41.00,2,     0.00,2,     2.25,4,    0.098,3,    0.045,3,   -999.0,9,  -999.00,9,  -999.00,9,   -999.0,9,   -999.0,9,  4.4259
    18DD9403_1,  P15N,   059,  5,   1298,     21,2,19941005,0559, 26.5065,-165.0105, -999,   1004.6,   3.8086,  34.3630,2,  34.3584,2,     27.9,2,   116.00,2,    42.50,2,     0.00,2,     1.47,4,    0.026,3,    0.000,3,   -999.0,9,  -999.00,9,  -999.00,9,   -999.0,9,   -999.0,9,  3.7343
    18DD9403_1,  P15N,   059,  5,   1299,     20,2,19941005,0559, 26.5065,-165.0105, -999,   1251.0,   3.2315,  34.4825,2,  34.4907,2,     46.6,2,   127.70,2,    41.50,2,     0.00,2,     1.67,4,    0.007,3,    0.000,3,   -999.0,9,  -999.00,9,  -999.00,9,   -999.0,9,   -999.0,9,  3.1419
    18DD9403_1,  P15N,   059,  5,   1300,     19,2,19941005,0559, 26.5065,-165.0105, -999,   1501.4,   2.7608,  34.5527,2,  34.5504,2,     64.0,2,   137.60,2,    41.00,2,     0.00,2,     2.48,4,    0.018,3,    0.000,3,   -999.0,9,  -999.00,9,  -999.00,9,   -999.0,9,   -999.0,9,  2.6557
    18DD9403_1,  P15N,   059,  5,   1301,     18,2,19941005,0559, 26.5065,-165.0105, -999,   1750.2,   2.3054,  34.5902,2,  34.5870,2,     78.4,3,   147.70,2,    39.60,2,     0.00,2,     2.89,2, -999.000,9, -999.000,9,   -999.0,9,  -999.00,9,  -999.00,9,   -999.0,9,   -999.0,9,  2.1855
    18DD9403_1,  P15N,   059,  5,   1302,     17,2,19941005,0559, 26.5065,-165.0105, -999,   2001.5,   2.0382,  34.6109,2,  34.6115,2,     89.2,2,   153.10,2,    39.20,2,     0.00,2,     2.80,2, -999.000,9, -999.000,9,   -999.0,9,  -999.00,9,  -999.00,9,   -999.0,9,   -999.0,9,  1.9011
    18DD9403_1,  P15N,   059,  5,   1303,     16,2,19941005,0559, 26.5065,-165.0105, -999,   2251.0,   1.8464,  34.6291,2,  34.6275,2,     97.1,2,   154.90,2,    39.00,2,     0.00,2,     2.70,2, -999.000,9, -999.000,9,   -999.0,9,  -999.00,9,  -999.00,9,   -999.0,9,   -999.0,9,  1.6910
    18DD9403_1,  P15N,   059,  5,   1304,     15,2,19941005,0559, 26.5065,-165.0105, -999,   2501.4,   1.6986,  34.6430,2,  34.6434,2,    108.7,2,   146.30,3,    38.50,2,     0.00,2,     2.98,2, -999.000,9, -999.000,9,   -999.0,9,  -999.00,9,  -999.00,9,   -999.0,9,   -999.0,9,  1.5238
    18DD9403_1,  P15N,   059,  5,   1305,     14,2,19941005,0559, 26.5065,-165.0105, -999,   2749.9,   1.6063,  34.6538,2,  34.6419,2,    117.1,3,   158.60,2,    38.40,2,     0.00,2,     2.70,2, -999.000,9, -999.000,9,   -999.0,9,  -999.00,9,  -999.00,9,   -999.0,9,   -999.0,9,  1.4109
    18DD9403_1,  P15N,   059,  5,   1306,     13,2,19941005,0559, 26.5065,-165.0105, -999,   3001.7,   1.5443,  34.6626,2,  34.6624,2,    124.7,4,   155.20,2,    37.50,2,     0.00,2,     2.51,2, -999.000,9, -999.000,9,   -999.0,9,  -999.00,9,  -999.00,9,   -999.0,9,   -999.0,9,  1.3265
    18DD9403_1,  P15N,   059,  5,   1307,     12,2,19941005,0559, 26.5065,-165.0105, -999,   3001.7,   1.5441,  34.6626,2,  34.6625,2,    127.1,2,   156.30,2,    37.60,2,     0.00,2,     2.54,2, -999.000,9, -999.000,9,   -999.0,9,  -999.00,9,  -999.00,9,   -999.0,9,   -999.0,9,  1.3263
    18DD9403_1,  P15N,   059,  5,   1308,     11,2,19941005,0559, 26.5065,-165.0105, -999,   3248.8,   1.4990,  34.6695,2,  34.6628,3,    127.0,2,   155.60,2,    37.30,2,     0.00,2,     2.52,2, -999.000,9, -999.000,9,   -999.0,9,  -999.00,9,  -999.00,9,   -999.0,9,   -999.0,9,  1.2582
    18DD9403_1,  P15N,   059,  5,   1310,      9,2,19941005,0559, 26.5065,-165.0105, -999,   3503.2,   1.4667,  34.6754,2,  34.6756,2,    141.4,2,   150.70,2,    36.40,2,     0.00,2,     2.44,2, -999.000,9, -999.000,9,   -999.0,9,  -999.00,9,  -999.00,9,   -999.0,9,   -999.0,9,  1.2011
    18DD9403_1,  P15N,   059,  5,   1309,     10,2,19941005,0559, 26.5065,-165.0105, -999,   3503.7,   1.4664,  34.6753,2,  34.6758,2,    141.6,2,   151.90,2,    36.30,2,     0.00,2,     2.63,2, -999.000,9, -999.000,9,   -999.0,9,  -999.00,9,  -999.00,9,   -999.0,9,   -999.0,9,  1.2008
    18DD9403_1,  P15N,   059,  5,   1311,      8,2,19941005,0559, 26.5065,-165.0105, -999,   3751.1,   1.4494,  34.6802,2,  34.6803,2,    147.8,3,   148.90,2,    35.90,2,     0.00,2,     2.42,2, -999.000,9, -999.000,9,   -999.0,9,  -999.00,9,  -999.00,9,   -999.0,9,   -999.0,9,  1.1585
    18DD9403_1,  P15N,   059,  5,   1313,      6,2,19941005,0559, 26.5065,-165.0105, -999,   4001.2,   1.4444,  34.6830,2,  34.6836,2,    150.9,2,   149.00,2,    35.70,2,     0.00,2,     1.56,4, -999.000,9, -999.000,9,   -999.0,9,  -999.00,9,  -999.00,9,   -999.0,9,   -999.0,9,  1.1269
    18DD9403_1,  P15N,   059,  5,   1312,      7,2,19941005,0559, 26.5065,-165.0105, -999,   4001.7,   1.4445,  34.6831,2,  34.6826,2,    151.2,2,   149.00,2,    35.60,2,     0.00,2,     1.53,4, -999.000,9, -999.000,9,   -999.0,9,  -999.00,9,  -999.00,9,   -999.0,9,   -999.0,9,  1.1269
    18DD9403_1,  P15N,   059,  5,   1314,      5,2,19941005,0559, 26.5065,-165.0105, -999,   4251.1,   1.4485,  34.6858,2,  34.6859,2,    154.4,2,   147.10,2,    35.60,2,     0.00,2,     2.45,2, -999.000,9, -999.000,9,   -999.0,9,  -999.00,9,  -999.00,9,   -999.0,9,   -999.0,9,  1.1033
    18DD9403_1,  P15N,   059,  5,   1315,      4,2,19941005,0559, 26.5065,-165.0105, -999,   4504.1,   1.4660,  34.6870,2,  34.6871,2,    156.2,2,   146.40,2,    35.30,2,     0.00,2,     2.44,2, -999.000,9, -999.000,9,   -999.0,9,  -999.00,9,  -999.00,9,   -999.0,9,   -999.0,9,  1.0916
    18DD9403_1,  P15N,   059,  5,   1316,      3,2,19941005,0559, 26.5065,-165.0105, -999,   4747.1,   1.4857,  34.6872,2,  34.6867,2,    157.7,2,   146.20,2,    35.60,2,     0.00,2,     3.40,4, -999.000,9, -999.000,9,   -999.0,9,  -999.00,9,  -999.00,9,   -999.0,9,   -999.0,9,  1.0823
    18DD9403_1,  P15N,   059,  5,   1317,      2,2,19941005,0559, 26.5065,-165.0105, -999,   4768.0,   1.4877,  34.6880,2,  34.6885,2,    156.8,2,   146.10,2,    35.30,2,     0.00,2,     3.41,4, -999.000,9, -999.000,9,   -999.0,9,  -999.00,9,  -999.00,9,   -999.0,9,   -999.0,9,  1.0818
    18DD9403_1,  P15N,   059,  5,   1318,      1,2,19941005,0559, 26.5065,-165.0105, -999,   4799.1,   1.4909,  34.6878,2,  34.6879,2,    157.3,3,   146.10,2,    35.30,2,     0.00,2,     4.37,4, -999.000,9, -999.000,9,   -999.0,9,  -999.00,9,  -999.00,9,   -999.0,9,   -999.0,9,  1.0812
    18DD9403_1,  P15N,   060,  3,   1319,     23,2,19941005,1216, 25.9720,-165.0287, -999,      9.1,  26.6963,  35.3224,2,  35.3264,2,    207.8,2,     1.90,2,     0.00,2,     0.00,2,     0.00,2,    1.750,3,    1.164,3,   -999.0,9,  -999.00,9,  -999.00,9,   1978.7,2,   2326.2,2, 26.6942
    18DD9403_1,  P15N,   060,  3,   1320,     22,2,19941005,1216, 25.9720,-165.0287, -999,     50.8,  26.2402,  35.3132,2,  35.3226,2,    221.6,2,     2.10,2,     0.00,2,     0.00,2,     0.00,2,    1.587,3,    0.967,3,   -999.0,9,  -999.00,9,  -999.00,9,   1982.1,2,   2324.8,2, 26.2288
    18DD9403_1,  P15N,   060,  3,   1321,     21,2,19941005,1216, 25.9720,-165.0287, -999,    101.1,  19.1595,  35.0936,2,  35.0741,2,    235.4,2,     3.40,2,     0.00,2,     0.00,2,     0.07,2,    2.272,3,    1.232,3,   -999.0,9,  -999.00,9,  -999.00,9,   2006.9,2,   2310.4,2, 19.1414
    18DD9403_1,  P15N,   060,  3,   1322,     20,2,19941005,1216, 25.9720,-165.0287, -999,    199.7,  15.6567,  34.6683,2,  34.6747,2,    212.0,2,     6.00,2,     5.00,2,     0.00,2,     0.40,2,    2.484,3,    1.560,3,   -999.0,9,  -999.00,9,  -999.00,9,   2038.7,2,   2279.4,2, 15.6256
    18DD9403_1,  P15N,   060,  3,   1323,     19,2,19941005,1216, 25.9720,-165.0287, -999,    300.0,  12.3285,  34.3517,2,  34.3451,2,    210.6,3,    12.00,2,    10.50,2,     0.00,2,     0.80,2,    2.792,3,    1.445,3,   -999.0,9,  -999.00,9,  -999.00,9,   2071.1,2,   2269.5,2, 12.2888
    18DD9403_1,  P15N,   060,  3,   1324,     18,2,19941005,1216, 25.9720,-165.0287, -999,    400.0,  10.2390,  34.1949,2,  34.1881,2,    205.5,3,    18.80,2,    15.10,2,     0.00,2,     1.13,2,    2.362,3,    1.180,3,   -999.0,9,  -999.00,9,  -999.00,9,   2099.7,2,   2268.6,2, 10.1920
    18DD9403_1,  P15N,   060,  3,   1325,     17,2,19941005,1216, 25.9720,-165.0287, -999,    602.1,   6.4783,  34.0404,2,  34.0381,2,    128.5,3,    53.70,2,    29.30,2,     0.00,2,     2.21,2,    1.026,3,    0.481,3,   -999.0,9,  -999.00,9,  -999.00,9,   2210.1,2,   2288.1,2,  6.4236
    18DD9403_1,  P15N,   060,  3,   1326,     16,2,19941005,1216, 25.9720,-165.0287, -999,    799.8,   4.5779,  34.2048,2,  34.2205,2,     39.0,3,    94.10,2,    39.20,2,     0.00,2,     3.17,2,    0.089,3,    0.000,3,   -999.0,9,  -999.00,9,  -999.00,9,   2316.9,2,   -999.0,9,  4.5154
    18DD9403_1,  P15N,   060,  3,   1327,     15,2,19941005,1216, 25.9720,-165.0287, -999,   1000.2,   3.8231,  34.3712,2,  34.3636,2,     32.5,3,   113.10,2,    40.60,2,     0.00,2,     3.22,2,    0.000,3,    0.287,3,   -999.0,9,  -999.00,9,  -999.00,9,   2345.3,2,   2360.4,2,  3.7490
    18DD9403_1,  P15N,   060,  3,   1328,     14,2,19941005,1216, 25.9720,-165.0287, -999,   1255.5,   3.1710,  34.5102,2,  34.5027,2,     52.6,2,   126.60,2,    40.10,2,     0.00,2,     3.09,2,    0.004,3,    0.000,3,   -999.0,9,  -999.00,9,  -999.00,9,   2353.2,2,   2389.3,2,  3.0817
    18DD9403_1,  P15N,   060,  3,   1329,     13,2,19941005,1216, 25.9720,-165.0287, -999,   1503.4,   2.7326,  34.5552,2,  34.5547,2,     69.1,3,   135.30,2,    39.20,2,     0.00,2,     3.05,2,    0.007,3,    0.156,3,   -999.0,9,  -999.00,9,  -999.00,9,   2356.0,2,   2408.1,2,  2.6277
    18DD9403_1,  P15N,   060,  3,   1330,     12,2,19941005,1216, 25.9720,-165.0287, -999,   1751.6,   2.2998,  34.5922,2,  34.5914,2,     83.4,3,   143.40,2,    38.60,2,     0.00,2,     2.96,2,    0.017,3,    0.015,3,   -999.0,9,  -999.00,9,  -999.00,9,   2353.8,2,   2408.6,2,  2.1799
    18DD9403_1,  P15N,   060,  3,   1331,     11,2,19941005,1216, 25.9720,-165.0287, -999,   2001.7,   2.0132,  34.6160,2,  34.6150,2,     93.8,3,   149.80,2,    38.00,2,     0.00,2,     2.89,2,    0.000,3,    0.000,3,   -999.0,9,  -999.00,9,  -999.00,9,   2356.4,2,   2422.9,2,  1.8764
    18DD9403_1,  P15N,   060,  3,   1332,     10,2,19941005,1216, 25.9720,-165.0287, -999,   2249.1,   1.8536,  34.6309,2,  34.6289,2,    100.9,3,   152.20,2,    38.00,2,     0.00,2,     2.84,2,    0.004,3,    0.151,3,   -999.0,9,  -999.00,9,  -999.00,9,   2351.8,2,   2421.6,2,  1.6983
    18DD9403_1,  P15N,   060,  3,   1333,      9,2,19941005,1216, 25.9720,-165.0287, -999,   2502.0,   1.6921,  34.6442,2,  34.6439,2,    109.8,3,   154.30,2,    37.30,2,     0.00,2,     2.82,2,    0.003,3,    0.217,3,   -999.0,9,  -999.00,9,  -999.00,9,   2351.4,2,   2422.3,2,  1.5174
    18DD9403_1,  P15N,   060,  3,   1334,      8,2,19941005,1216, 25.9720,-165.0287, -999,   2751.5,   1.6054,  34.6550,2,  34.6545,2,    119.1,3,   154.10,2,    37.10,2,     0.00,2,     2.70,4,    0.014,3,    0.375,3,   -999.0,9,  -999.00,9,  -999.00,9,   2345.7,2,   2422.1,2,  1.4098
    18DD9403_1,  P15N,   060,  3,   1335,      7,2,19941005,1216, 25.9720,-165.0287, -999,   3001.2,   1.5420,  34.6641,2,  34.6642,2,    128.0,2,   154.10,2,    36.40,2,     0.00,2,     2.75,2,    0.009,3,    0.000,3,   -999.0,9,  -999.00,9,  -999.00,9,   2340.9,2,   2426.3,2,  1.3243
    18DD9403_1,  P15N,   060,  3,   1336,      6,2,19941005,1216, 25.9720,-165.0287, -999,   3253.9,   1.4995,  34.6707,2,  34.6706,2,    135.4,3,   150.80,2,    36.10,2,     0.00,2,     2.63,2,    0.012,3,    0.000,3,   -999.0,9,  -999.00,9,  -999.00,9,   2335.5,2,   2424.4,2,  1.2582
    18DD9403_1,  P15N,   060,  3,   1337,      5,2,19941005,1216, 25.9720,-165.0287, -999,   3505.1,   1.4738,  34.6760,2,  34.6758,2,    143.1,3,   149.50,2,    35.50,2,     0.00,2,     2.61,2,    0.007,3,    0.101,3,   -999.0,9,  -999.00,9,  -999.00,9,   2331.6,2,   2424.3,2,  1.2079
    18DD9403_1,  P15N,   060,  3,   1338,      4,2,19941005,1216, 25.9720,-165.0287, -999,   3755.3,   1.4473,  34.6809,2,  34.6811,2,    149.8,3,   148.20,2,    35.20,2,     0.00,2,     2.61,2,    0.007,3,    0.000,3,   -999.0,9,  -999.00,9,  -999.00,9,   2327.5,2,   2423.6,2,  1.1560
    18DD9403_1,  P15N,   060,  3,   1339,      3,2,19941005,1216, 25.9720,-165.0287, -999,   4006.2,   1.4454,  34.6834,2,  34.6832,2,    153.4,3,   147.10,2,    34.90,2,     0.00,2,     2.82,4,    0.000,3,    0.000,3,   -999.0,9,  -999.00,9,  -999.00,9,   2324.6,2,   2418.8,2,  1.1273
    18DD9403_1,  P15N,   060,  3,   1340,      2,2,19941005,1216, 25.9720,-165.0287, -999,   4269.5,   1.4524,  34.6844,2,  34.6863,2,    158.6,3,   145.60,2,    35.00,2,     0.00,2,     2.56,2,    0.013,3,    0.016,3,   -999.0,9,  -999.00,9,  -999.00,9,   2322.3,2,   2422.5,2,  1.1050
    18DD9403_1,  P15N,   060,  3,   1341,      1,2,19941005,1216, 25.9720,-165.0287, -999,   4662.0,   1.4860,  34.6869,2,  34.6869,2,    157.6,3,   144.90,2,    34.80,2,     0.00,2,     2.58,2,    0.017,3,    0.151,3,   -999.0,9,  -999.00,9,  -999.00,9,   2322.0,2,   2423.6,2,  1.0926