BOTTLE,20130510IOSDFOJC
EXPOCODE,SECT_ID,STNNBR,CASTNO,SAMPNO,BTLNBR,BTLNBR_FLAG_W,DATE,TIME,LATITUDE,LONGITUDE,DEPTH,CTDPRS,CTDTMP,CTDSAL,CTDSAL_FLAG_W,SALNTY,SALNTY_FLAG_W,OXYGEN,OXYGEN_FLAG_W,SILCAT,SILCAT_FLAG_W,NITRAT,NITRAT_FLAG_W,NITRIT,NITRIT_FLAG_W,PHSPHT,PHSPHT_FLAG_W,CFC-11,CFC-11_FLAG_W,CFC-12,CFC-12_FLAG_W,DELC14,DELC14_FLAG_W,DELC13,DELC13_FLAG_W,O18O16,O18O16_FLAG_W,TCARBN,TCARBN_FLAG_W,ALKALI,ALKALI_FLAG_W,THETA
,,,,,,,,,,,,DBAR,ITS-90,PSS-78,,PSS-78,,UMOL/KG,,UMOL/KG,,UMOL/KG,,UMOL/KG,,UMOL/KG,,PMOL/KG,,PMOL/KG,,/MILLE,,/MILLE,,/MILLE,,UMOL/KG,,UMOL/KG,,DEG C
    18DD9403_1,  P15N,   041,  6,    831,     23,2,19940929,1605, 35.4908,-165.0102, 5860,    601.0,   5.2256,  34.0007,2,  34.0072,2,    110.5,2,    70.40,2,    34.30,2,     0.00,2,     2.41,2,    1.421,3,    0.396,3,   -999.0,9,  -999.00,9,  -999.00,9,   -999.0,9,   -999.0,9,  5.1768
    18DD9403_1,  P15N,   041,  6,    832,     22,2,19940929,1605, 35.4908,-165.0102, 5860,    800.3,   3.9978,  34.1546,2,  34.1722,2,     41.4,2,   105.60,2,    41.30,2,     0.00,2,     2.93,2,    0.246,3,    0.039,3,   -999.0,9,  -999.00,9,  -999.00,9,   -999.0,9,   -999.0,9,  3.9390
    18DD9403_1,  P15N,   041,  6,    833,     21,2,19940929,1605, 35.4908,-165.0102, 5860,   1001.3,   3.3523,  34.2914,2,  34.3031,2,     21.0,2,   127.70,2,    43.40,2,     0.00,2,     3.08,2,    0.018,3,    0.020,3,   -999.0,9,  -999.00,9,  -999.00,9,   -999.0,9,   -999.0,9,  3.2819
    18DD9403_1,  P15N,   041,  6,    834,     20,2,19940929,1605, 35.4908,-165.0102, 5860,   1249.3,   2.8110,  34.4137,2,  34.4254,2,     10.9,2,   146.70,2,    44.30,2,     0.00,2,     3.14,2,    0.000,3,    0.000,3,   -999.0,9,  -999.00,9,  -999.00,9,   -999.0,9,   -999.0,9,  2.7257
    18DD9403_1,  P15N,   041,  6,    835,     19,2,19940929,1605, 35.4908,-165.0102, 5860,   1499.2,   2.4246,  34.5072,2,  34.5143,2,     23.1,2,   158.50,2,    44.00,2,     0.00,2,     3.09,2,    0.000,3,    0.001,3,   -999.0,9,  -999.00,9,  -999.00,9,   -999.0,9,   -999.0,9,  2.3236
    18DD9403_1,  P15N,   041,  6,    836,     18,2,19940929,1605, 35.4908,-165.0102, 5860,   1749.3,   2.1332,  34.5622,2,  34.5644,2,     41.4,2,   165.00,2,    42.90,2,     0.00,2,     3.00,2, -999.000,9, -999.000,9,   -999.0,9,  -999.00,9,  -999.00,9,   -999.0,9,   -999.0,9,  2.0157
    18DD9403_1,  P15N,   041,  6,    837,     17,2,19940929,1605, 35.4908,-165.0102, 5860,   1998.7,   1.9233,  34.5983,2,  34.6009,2,     61.0,2,   167.70,2,    41.80,2,     0.00,2,     2.92,2, -999.000,9, -999.000,9,   -999.0,9,  -999.00,9,  -999.00,9,   -999.0,9,   -999.0,9,  1.7883
    18DD9403_1,  P15N,   041,  6,    838,     16,2,19940929,1605, 35.4908,-165.0102, 5860,   2249.5,   1.7674,  34.6235,2,  34.6257,2,     80.1,2,   166.50,2,    40.40,2,     0.00,2,     2.84,2, -999.000,9, -999.000,9,   -999.0,9,  -999.00,9,  -999.00,9,   -999.0,9,   -999.0,9,  1.6135
    18DD9403_1,  P15N,   041,  6,    839,     15,2,19940929,1605, 35.4908,-165.0102, 5860,   2498.6,   1.6645,  34.6415,2,  34.6424,2,     96.2,2,   165.90,2,    39.70,2,     0.00,2,     2.74,2, -999.000,9, -999.000,9,   -999.0,9,  -999.00,9,  -999.00,9,   -999.0,9,   -999.0,9,  1.4906
    18DD9403_1,  P15N,   041,  6,    840,     14,2,19940929,1605, 35.4908,-165.0102, 5860,   2750.0,   1.5864,  34.6544,2,  34.6529,2,    110.1,2,   162.60,2,    38.70,2,     0.00,2,     2.70,2, -999.000,9, -999.000,9,   -999.0,9,  -999.00,9,  -999.00,9,   -999.0,9,   -999.0,9,  1.3913
    18DD9403_1,  P15N,   041,  6,    841,     13,2,19940929,1605, 35.4908,-165.0102, 5860,   3000.3,   1.5353,  34.6633,2,  34.6628,2,    120.8,2,   161.80,2,    38.10,2,     0.00,2,     2.62,2, -999.000,9, -999.000,9,   -999.0,9,  -999.00,9,  -999.00,9,   -999.0,9,   -999.0,9,  1.3178
    18DD9403_1,  P15N,   041,  6,    842,     12,2,19940929,1605, 35.4908,-165.0102, 5860,   3251.6,   1.5009,  34.6698,2,  34.6690,2,    128.9,2,   159.40,2,    37.50,2,     0.00,2,     2.57,2, -999.000,9, -999.000,9,   -999.0,9,  -999.00,9,  -999.00,9,   -999.0,9,   -999.0,9,  1.2598
    18DD9403_1,  P15N,   041,  6,    843,     11,2,19940929,1605, 35.4908,-165.0102, 5860,   3500.5,   1.4811,  34.6743,2,  34.6741,2,    136.7,2,   156.30,2,    36.70,2,     0.00,2,     2.54,2, -999.000,9, -999.000,9,   -999.0,9,  -999.00,9,  -999.00,9,   -999.0,9,   -999.0,9,  1.2155
    18DD9403_1,  P15N,   041,  6,    844,     10,2,19940929,1605, 35.4908,-165.0102, 5860,   3749.7,   1.4741,  34.6787,2,  34.6787,2,    141.0,2,   154.60,2,    36.40,2,     0.00,2,     2.53,2, -999.000,9, -999.000,9,   -999.0,9,  -999.00,9,  -999.00,9,   -999.0,9,   -999.0,9,  1.1828
    18DD9403_1,  P15N,   041,  6,    845,      9,2,19940929,1605, 35.4908,-165.0102, 5860,   4000.2,   1.4732,  34.6815,2,  34.6826,2,    144.8,2,   153.40,2,    36.40,2,     0.00,2,     2.49,2, -999.000,9, -999.000,9,   -999.0,9,  -999.00,9,  -999.00,9,   -999.0,9,   -999.0,9,  1.1551
    18DD9403_1,  P15N,   041,  6,    846,      8,2,19940929,1605, 35.4908,-165.0102, 5860,   4248.6,   1.4800,  34.6839,2,  34.6838,2,    148.4,2,   152.40,2,    36.20,2,     0.00,2,     2.49,2, -999.000,9, -999.000,9,   -999.0,9,  -999.00,9,  -999.00,9,   -999.0,9,   -999.0,9,  1.1342
    18DD9403_1,  P15N,   041,  6,    847,      7,2,19940929,1605, 35.4908,-165.0102, 5860,   4500.3,   1.4932,  34.6852,2,  34.6848,2,    150.5,2,   152.80,2,    35.90,2,     0.00,2,     2.44,2, -999.000,9, -999.000,9,   -999.0,9,  -999.00,9,  -999.00,9,   -999.0,9,   -999.0,9,  1.1184
    18DD9403_1,  P15N,   041,  6,    848,      6,2,19940929,1605, 35.4908,-165.0102, 5860,   4751.5,   1.5101,  34.6867,2,  34.6860,2,    152.4,2,   150.50,2,    36.20,2,     0.00,2,     2.47,2, -999.000,9, -999.000,9,   -999.0,9,  -999.00,9,  -999.00,9,   -999.0,9,   -999.0,9,  1.1054
    18DD9403_1,  P15N,   041,  6,    849,      5,2,19940929,1605, 35.4908,-165.0102, 5860,   5001.0,   1.5286,  34.6877,2,  34.6873,2,    155.3,2,   148.80,2,    35.70,2,     0.00,2,     2.45,2, -999.000,9, -999.000,9,   -999.0,9,  -999.00,9,  -999.00,9,   -999.0,9,   -999.0,9,  1.0933
    18DD9403_1,  P15N,   041,  6,    850,      4,2,19940929,1605, 35.4908,-165.0102, 5860,   5250.9,   1.5496,  34.6888,2,  34.6883,2,    157.4,2,   147.40,2,    35.70,2,     0.00,2,     2.42,2, -999.000,9, -999.000,9,   -999.0,9,  -999.00,9,  -999.00,9,   -999.0,9,   -999.0,9,  1.0827
    18DD9403_1,  P15N,   041,  6,    851,      3,2,19940929,1605, 35.4908,-165.0102, 5860,   5499.9,   1.5768,  34.6896,2,  34.6896,2,    159.1,2,   145.80,2,    35.70,2,     0.00,2,     2.42,2, -999.000,9, -999.000,9,   -999.0,9,  -999.00,9,  -999.00,9,   -999.0,9,   -999.0,9,  1.0774
    18DD9403_1,  P15N,   041,  6,    852,      2,2,19940929,1605, 35.4908,-165.0102, 5860,   5748.3,   1.6066,  34.6898,2,  34.6892,2,    158.8,2,   145.20,2,    35.90,2,     0.00,2,     2.41,2, -999.000,9, -999.000,9,   -999.0,9,  -999.00,9,  -999.00,9,   -999.0,9,   -999.0,9,  1.0739
    18DD9403_1,  P15N,   041,  6,    853,      1,2,19940929,1605, 35.4908,-165.0102, 5860,   5929.0,   1.6259,  34.6905,2,  34.6903,2,    159.7,2,   145.00,2,    35.70,2,     0.00,2,     2.40,2, -999.000,9, -999.000,9,   -999.0,9,  -999.00,9,  -999.00,9,   -999.0,9,   -999.0,9,  1.0686
    18DD9403_1,  P15N,   042,  3,    854,     23,2,19940929,2227, 35.0003,-164.9943, -999,     11.6,  23.0876,  34.5856,2,  34.5555,2,    244.7,2,     4.70,2,     0.00,2,     0.00,2,     0.14,2,    3.251,3,    1.073,3,   -999.0,9,  -999.00,9,  -999.00,9,   1974.2,2,   2269.8,2, 23.0852
    18DD9403_1,  P15N,   042,  3,    855,     22,2,19940929,2227, 35.0003,-164.9943, -999,     49.0,  16.0139,  34.4488,2,  34.3999,2,    315.1,2,     5.30,2,     0.00,2,     0.00,2,     0.29,2,    6.853,3,    1.721,3,   -999.0,9,  -999.00,9,  -999.00,9,   1975.6,2,   2266.8,2, 16.0062
    18DD9403_1,  P15N,   042,  3,    856,     21,2,19940929,2227, 35.0003,-164.9943, -999,    100.2,  12.8331,  34.3732,2,  34.3713,2,    249.2,2,     9.40,2,     7.40,2,     0.06,2,     0.65,2,    3.679,3,    1.509,3,   -999.0,9,  -999.00,9,  -999.00,9,   2047.5,2,   2269.0,2, 12.8196
    18DD9403_1,  P15N,   042,  3,    857,     20,2,19940929,2227, 35.0003,-164.9943, -999,    200.0,  10.8790,  34.2040,2,  34.1845,2,    260.6,2,    12.70,2,     9.60,2,     0.00,2,     0.83,2,    3.381,3,    1.449,3,   -999.0,9,  -999.00,9,  -999.00,9,   2059.5,2,   2262.5,2, 10.8547
    18DD9403_1,  P15N,   042,  3,    858,     19,2,19940929,2227, 35.0003,-164.9943, -999,    299.9,  10.0128,  34.1875,2,  34.1822,2,    232.5,2,    19.00,2,    14.50,2,     0.00,2,     1.08,2,    3.923,3,    1.724,3,   -999.0,9,  -999.00,9,  -999.00,9,   2090.7,2,   2281.3,2,  9.9781
    18DD9403_1,  P15N,   042,  3,    859,     18,2,19940929,2227, 35.0003,-164.9943, -999,    400.0,   8.6083,  34.0755,2,  34.0905,2,    210.9,2,    28.70,2,    19.70,2,     0.00,2,     1.45,2,    3.142,3,    1.427,3,   -999.0,9,  -999.00,9,  -999.00,9,   2128.4,2,   2280.7,2,  8.5660
    18DD9403_1,  P15N,   042,  3,    860,     17,2,19940929,2227, 35.0003,-164.9943, -999,    601.3,   5.4365,  34.0153,2,  33.9980,2,    122.5,2,    65.80,2,    33.00,2,     0.00,2,     2.54,2,    2.899,3,    1.245,3,   -999.0,9,  -999.00,9,  -999.00,9,   2234.3,2,   2306.1,2,  5.3866
    18DD9403_1,  P15N,   042,  3,    861,     16,2,19940929,2227, 35.0003,-164.9943, -999,    799.9,   4.0693,  34.1660,2,  34.1641,2,     51.6,2,   102.80,2,    40.90,2,     0.00,2,     2.96,2,    1.248,3,    0.521,3,   -999.0,9,  -999.00,9,  -999.00,9,   2319.0,2,   2341.8,2,  4.0100
    18DD9403_1,  P15N,   042,  3,    862,     15,2,19940929,2227, 35.0003,-164.9943, -999,   1000.5,   3.4001,  34.2994,2,  34.2940,2,     24.5,2,   125.50,2,    43.60,2,     0.00,2,     3.14,2,    0.291,3,    0.393,3,   -999.0,9,  -999.00,9,  -999.00,9,   2360.1,2,   2370.4,2,  3.3294
    18DD9403_1,  P15N,   042,  3,    863,     14,2,19940929,2227, 35.0003,-164.9943, -999,   1250.4,   2.8672,  34.4310,2,  34.4210,2,     11.8,2,   145.40,2,    44.90,2,     0.00,2,     3.21,2,    0.000,3,    0.017,3,   -999.0,9,  -999.00,9,  -999.00,9,   2383.2,2,   2399.1,2,  2.7813
    18DD9403_1,  P15N,   042,  3,    864,     13,2,19940929,2227, 35.0003,-164.9943, -999,   1499.7,   2.4725,  34.5177,2,  34.5127,2,     26.3,2,   156.70,2,    44.40,2,     0.00,2,     3.16,2,    0.000,3,    0.059,3,   -999.0,9,  -999.00,9,  -999.00,9,   2389.8,2,   2416.5,2,  2.3709
    18DD9403_1,  P15N,   042,  3,    865,     12,2,19940929,2227, 35.0003,-164.9943, -999,   1750.5,   2.1314,  34.5701,2,  34.5699,2,     44.7,2,   165.10,2,    43.20,2,     0.00,2,     3.08,2,    0.006,3,    0.000,3,   -999.0,9,  -999.00,9,  -999.00,9,   2387.7,2,   2421.1,2,  2.0138
    18DD9403_1,  P15N,   042,  3,    866,     11,2,19940929,2227, 35.0003,-164.9943, -999,   1999.8,   1.9243,  34.6034,2,  34.6014,2,     67.0,2,   168.90,2,    42.20,2,     0.00,2,     2.99,2, -999.000,9, -999.000,9,   -999.0,9,  -999.00,9,  -999.00,9,   2380.4,2,   2425.7,2,  1.7892
    18DD9403_1,  P15N,   042,  3,    867,     10,2,19940929,2227, 35.0003,-164.9943, -999,   2250.2,   1.7758,  34.6283,2,  34.6259,2,     83.4,2,   168.70,2,    40.90,2,     0.00,2,     2.94,2, -999.000,9, -999.000,9,   -999.0,9,  -999.00,9,  -999.00,9,   2370.5,2,   2430.8,2,  1.6217
    18DD9403_1,  P15N,   042,  3,    868,      9,2,19940929,2227, 35.0003,-164.9943, -999,   2499.1,   1.6597,  34.6450,2,  34.6433,2,    102.6,2,   165.10,2,    39.70,2,     0.00,2,     2.81,2, -999.000,9, -999.000,9,   -999.0,9,  -999.00,9,  -999.00,9,   2360.5,2,   2437.4,2,  1.4858
    18DD9403_1,  P15N,   042,  3,    869,      8,2,19940929,2227, 35.0003,-164.9943, -999,   2748.8,   1.5843,  34.6565,2,  34.6582,2,    115.2,2,   163.00,2,    38.70,2,     0.00,2,     2.81,2, -999.000,9, -999.000,9,   -999.0,9,  -999.00,9,  -999.00,9,   2351.2,2,   -999.0,9,  1.3894
    18DD9403_1,  P15N,   042,  3,    870,      7,2,19940929,2227, 35.0003,-164.9943, -999,   2999.5,   1.5391,  34.6646,2,  34.6643,2,    128.2,2,   160.40,2,    38.20,2,     0.00,2,     2.68,2, -999.000,9, -999.000,9,   -999.0,9,  -999.00,9,  -999.00,9,   2343.1,2,   2437.8,2,  1.3216
    18DD9403_1,  P15N,   042,  3,    871,      6,2,19940929,2227, 35.0003,-164.9943, -999,   3500.8,   1.4813,  34.6757,2,  34.6767,2,    139.9,2,   157.80,2,    37.20,2,     0.00,2,     2.67,2, -999.000,9, -999.000,9,   -999.0,9,  -999.00,9,  -999.00,9,   2336.2,2,   2432.5,2,  1.2156
    18DD9403_1,  P15N,   042,  3,    872,      5,2,19940929,2227, 35.0003,-164.9943, -999,   3998.5,   1.4717,  34.6825,2,  34.6818,2,    154.4,2,   154.00,2,    36.70,2,     0.00,2,     2.56,2, -999.000,9, -999.000,9,   -999.0,9,  -999.00,9,  -999.00,9,   2329.1,2,   2434.3,2,  1.1538
    18DD9403_1,  P15N,   042,  3,    873,      4,2,19940929,2227, 35.0003,-164.9943, -999,   4499.4,   1.4899,  34.6865,2,  34.6860,2,    158.5,2,   151.90,2,    36.30,2,     0.00,2,     2.55,2, -999.000,9, -999.000,9,   -999.0,9,  -999.00,9,  -999.00,9,   2324.8,2,   -999.0,9,  1.1153
    18DD9403_1,  P15N,   042,  3,    874,      3,2,19940929,2227, 35.0003,-164.9943, -999,   4999.8,   1.5269,  34.6893,2,  34.6884,2,    161.1,2,   148.30,2,    36.00,2,     0.00,2,     2.52,2, -999.000,9, -999.000,9,   -999.0,9,  -999.00,9,  -999.00,9,   2280.3,3,   -999.0,9,  1.0918
    18DD9403_1,  P15N,   042,  3,    875,      2,2,19940929,2227, 35.0003,-164.9943, -999,   5499.6,   1.5749,  34.6905,2,  34.6910,2,    162.7,2,   145.30,2,    35.70,2,     0.00,2,     2.49,2, -999.000,9, -999.000,9,   -999.0,9,  -999.00,9,  -999.00,9,   2276.4,3,   2227.8,3,  1.0756
    18DD9403_1,  P15N,   042,  3,    876,      1,2,19940929,2227, 35.0003,-164.9943, -999,   5826.5,   1.6067,  34.6913,2,  34.6911,2,    162.9,2,   143.60,2,    35.70,2,     0.00,2,     2.50,2, -999.000,9, -999.000,9,   -999.0,9,  -999.00,9,  -999.00,9,   2273.8,3,   2225.7,3,  1.0637