BOTTLE,20130510IOSDFOJC
EXPOCODE,SECT_ID,STNNBR,CASTNO,SAMPNO,BTLNBR,BTLNBR_FLAG_W,DATE,TIME,LATITUDE,LONGITUDE,DEPTH,CTDPRS,CTDTMP,CTDSAL,CTDSAL_FLAG_W,SALNTY,SALNTY_FLAG_W,OXYGEN,OXYGEN_FLAG_W,SILCAT,SILCAT_FLAG_W,NITRAT,NITRAT_FLAG_W,NITRIT,NITRIT_FLAG_W,PHSPHT,PHSPHT_FLAG_W,CFC-11,CFC-11_FLAG_W,CFC-12,CFC-12_FLAG_W,DELC14,DELC14_FLAG_W,DELC13,DELC13_FLAG_W,O18O16,O18O16_FLAG_W,TCARBN,TCARBN_FLAG_W,ALKALI,ALKALI_FLAG_W,THETA
,,,,,,,,,,,,DBAR,ITS-90,PSS-78,,PSS-78,,UMOL/KG,,UMOL/KG,,UMOL/KG,,UMOL/KG,,UMOL/KG,,PMOL/KG,,PMOL/KG,,/MILLE,,/MILLE,,/MILLE,,UMOL/KG,,UMOL/KG,,DEG C
    18DD9403_1,  P15N,   067,  3,   1480,     23,2,19941007,0951, 22.5010,-165.5630, -999,      9.4,  27.9331,  34.5598,2,  34.5508,2,    201.5,3,     2.00,2,     0.00,2,     0.00,2,     0.00,2,    1.856,3,    0.837,3,   -999.0,9,  -999.00,9,  -999.00,9,   -999.0,9,   -999.0,9, 27.9309
    18DD9403_1,  P15N,   067,  3,   1481,     22,2,19941007,0951, 22.5010,-165.5630, -999,     50.5,  27.1949,  34.9924,2,  34.9634,2,    209.8,3,     2.00,2,     0.00,2,     0.00,2,     0.00,2,    1.631,3,    0.917,3,   -999.0,9,  -999.00,9,  -999.00,9,   -999.0,9,   -999.0,9, 27.1833
    18DD9403_1,  P15N,   067,  3,   1482,     21,2,19941007,0951, 22.5010,-165.5630, -999,    101.6,  23.2977,  35.2324,2,  35.1896,2,    235.7,2,     2.00,2,     0.00,2,     0.00,2,     0.00,2,    2.170,3,    1.061,3,   -999.0,9,  -999.00,9,  -999.00,9,   -999.0,9,   -999.0,9, 23.2768
    18DD9403_1,  P15N,   067,  3,   1483,     20,2,19941007,0951, 22.5010,-165.5630, -999,    201.3,  18.3506,  34.8515,2,  34.9758,2,    193.4,2,     4.60,2,     3.50,2,     0.00,2,     0.31,2,    2.883,3,    1.230,3,   -999.0,9,  -999.00,9,  -999.00,9,   -999.0,9,   -999.0,9, 18.3156
    18DD9403_1,  P15N,   067,  3,   1484,     19,2,19941007,0951, 22.5010,-165.5630, -999,    301.2,  13.1394,  34.3422,2,  34.4052,2,    196.8,2,    11.10,2,    10.30,2,     0.00,2,     0.76,2,    2.731,3,    1.218,3,   -999.0,9,  -999.00,9,  -999.00,9,   -999.0,9,   -999.0,9, 13.0978
    18DD9403_1,  P15N,   067,  3,   1485,     18,2,19941007,0951, 22.5010,-165.5630, -999,    401.7,  10.2232,  34.1315,2,  34.1718,2,    190.4,3,    20.90,2,    17.20,2,     0.00,2,     1.26,2,    2.363,3,    0.935,3,   -999.0,9,  -999.00,9,  -999.00,9,   -999.0,9,   -999.0,9, 10.1760
    18DD9403_1,  P15N,   067,  3,   1486,     17,2,19941007,0951, 22.5010,-165.5630, -999,    601.0,   6.1308,  34.1325,2,  34.1112,2,     76.9,3,    64.10,2,    35.20,2,     0.00,2,     2.65,2,    0.464,3,    0.174,3,   -999.0,9,  -999.00,9,  -999.00,9,   -999.0,9,   -999.0,9,  6.0776
    18DD9403_1,  P15N,   067,  3,   1487,     16,2,19941007,0951, 22.5010,-165.5630, -999,    799.8,   4.7723,  34.3897,2,  34.3437,2,     33.1,3,    93.60,2,    41.70,2,     0.00,2,     3.03,2,    0.087,3,    0.000,3,   -999.0,9,  -999.00,9,  -999.00,9,   -999.0,9,   -999.0,9,  4.7084
    18DD9403_1,  P15N,   067,  3,   1488,     15,2,19941007,0951, 22.5010,-165.5630, -999,   1000.9,   4.0144,  34.4812,2,  34.4689,2,     44.8,3,   108.90,2,    42.10,2,     0.00,2,     3.02,2,    0.000,3,    0.004,3,   -999.0,9,  -999.00,9,  -999.00,9,   -999.0,9,   -999.0,9,  3.9387
    18DD9403_1,  P15N,   067,  3,   1489,     14,2,19941007,0951, 22.5010,-165.5630, -999,   1253.5,   3.3544,  34.5345,2,  34.5318,2,     60.2,3,   122.10,2,    41.40,2,     0.00,2,     2.98,2,    0.022,3,    0.000,3,   -999.0,9,  -999.00,9,  -999.00,9,   -999.0,9,   -999.0,9,  3.2633
    18DD9403_1,  P15N,   067,  3,   1490,     13,2,19941007,0951, 22.5010,-165.5630, -999,   1499.6,   2.9366,  34.5770,2,  34.5707,2,     72.2,3,   129.80,2,    41.00,2,     0.00,2,     2.91,2,    0.427,3,    0.735,3,   -999.0,9,  -999.00,9,  -999.00,9,   -999.0,9,   -999.0,9,  2.8295
    18DD9403_1,  P15N,   067,  3,   1491,     12,2,19941007,0951, 22.5010,-165.5630, -999,   1750.2,   2.4645,  34.5983,2,  34.5950,2,     86.0,3,   141.00,2,    40.40,2,     0.00,2,     2.85,2, -999.000,9, -999.000,9,   -999.0,9,  -999.00,9,  -999.00,9,   -999.0,9,   -999.0,9,  2.3424
    18DD9403_1,  P15N,   067,  3,   1492,     11,2,19941007,0951, 22.5010,-165.5630, -999,   2001.3,   2.0995,  34.6193,2,  34.6173,2,     90.3,3,   149.70,2,    40.00,2,     0.00,2,     2.80,2, -999.000,9, -999.000,9,   -999.0,9,  -999.00,9,  -999.00,9,   -999.0,9,   -999.0,9,  1.9615
    18DD9403_1,  P15N,   067,  3,   1493,     10,2,19941007,0951, 22.5010,-165.5630, -999,   2252.8,   1.8783,  34.6368,2,  34.6339,2,    103.7,2,   154.80,2,    39.40,2,     0.00,2,     2.76,2, -999.000,9, -999.000,9,   -999.0,9,  -999.00,9,  -999.00,9,   -999.0,9,   -999.0,9,  1.7223
    18DD9403_1,  P15N,   067,  3,   1494,      9,2,19941007,0951, 22.5010,-165.5630, -999,   2499.6,   1.7070,  34.6518,2,  34.6488,2,    113.2,3,   156.40,2,    38.80,2,     0.00,2,     2.69,2, -999.000,9, -999.000,9,   -999.0,9,  -999.00,9,  -999.00,9,   -999.0,9,   -999.0,9,  1.5322
    18DD9403_1,  P15N,   067,  3,   1495,      8,2,19941007,0951, 22.5010,-165.5630, -999,   2748.6,   1.6081,  34.6606,2,  34.6592,2,    124.5,2,   156.90,2,    38.10,2,     0.00,2,     2.64,2, -999.000,9, -999.000,9,   -999.0,9,  -999.00,9,  -999.00,9,   -999.0,9,   -999.0,9,  1.4127
    18DD9403_1,  P15N,   067,  3,   1496,      7,2,19941007,0951, 22.5010,-165.5630, -999,   2999.5,   1.5471,  34.6677,2,  34.6678,2,    129.6,2,   156.40,2,    37.70,2,     0.00,2,     2.59,2, -999.000,9, -999.000,9,   -999.0,9,  -999.00,9,  -999.00,9,   -999.0,9,   -999.0,9,  1.3294
    18DD9403_1,  P15N,   067,  3,   1497,      6,2,19941007,0951, 22.5010,-165.5630, -999,   3250.9,   1.4965,  34.6743,2,  34.6733,2,    137.1,2,   155.30,2,    37.10,2,     0.00,2,     2.56,2, -999.000,9, -999.000,9,   -999.0,9,  -999.00,9,  -999.00,9,   -999.0,9,   -999.0,9,  1.2555
    18DD9403_1,  P15N,   067,  3,   1498,      5,2,19941007,0951, 22.5010,-165.5630, -999,   3501.4,   1.4632,  34.6786,2,  34.6791,2,    143.9,3,   154.10,2,    36.90,2,     0.00,2,     2.54,2, -999.000,9, -999.000,9,   -999.0,9,  -999.00,9,  -999.00,9,   -999.0,9,   -999.0,9,  1.1979
    18DD9403_1,  P15N,   067,  3,   1499,      4,2,19941007,0951, 22.5010,-165.5630, -999,   3752.5,   1.4517,  34.6819,2,  34.6824,2,    147.7,2,   151.60,2,    36.40,2,     0.00,2,     2.56,2, -999.000,9, -999.000,9,   -999.0,9,  -999.00,9,  -999.00,9,   -999.0,9,   -999.0,9,  1.1606
    18DD9403_1,  P15N,   067,  3,   1500,      3,2,19941007,0951, 22.5010,-165.5630, -999,   4002.8,   1.4466,  34.6847,2,  34.6853,2,    151.3,2,   150.20,2,    36.10,2,     0.00,2,     2.49,2, -999.000,9, -999.000,9,   -999.0,9,  -999.00,9,  -999.00,9,   -999.0,9,   -999.0,9,  1.1288
    18DD9403_1,  P15N,   067,  3,   1501,      2,2,19941007,0951, 22.5010,-165.5630, -999,   4500.0,   1.4772,  34.6868,2,  34.6878,2,    155.3,2,   148.20,2,    35.80,2,     0.00,2,     2.46,2, -999.000,9, -999.000,9,   -999.0,9,  -999.00,9,  -999.00,9,   -999.0,9,   -999.0,9,  1.1029
    18DD9403_1,  P15N,   067,  3,   1502,      1,2,19941007,0951, 22.5010,-165.5630, -999,   4718.6,   1.4947,  34.6871,2,  34.6889,2,    156.7,2,   147.50,2,    35.80,2,     0.00,2,     2.45,2, -999.000,9, -999.000,9,   -999.0,9,  -999.00,9,  -999.00,9,   -999.0,9,   -999.0,9,  1.0944
    18DD9403_1,  P15N,   068,  3,   1503,     20,2,19941007,1606, 21.9823,-165.6983, -999,     50.0,  27.2421,  35.1070,2,  35.0287,2,    210.1,2,     2.30,2,     0.00,2,     0.00,2,     0.15,2,    1.507,3,    0.906,3,   -999.0,9,  -999.00,9,  -999.00,9,   1949.1,2,   2300.7,2, 27.2306
    18DD9403_1,  P15N,   068,  3,   1504,     19,2,19941007,1606, 21.9823,-165.6983, -999,     99.6,  22.2121,  35.2353,2,  35.2165,2,    214.6,2,     1.90,2,     0.00,2,     0.00,2,     0.00,2,    2.560,3,    1.142,3,   -999.0,9,  -999.00,9,  -999.00,9,   1998.0,2,   2317.0,2, 22.1923
    18DD9403_1,  P15N,   068,  3,   1505,     18,2,19941007,1606, 21.9823,-165.6983, -999,    199.8,  17.1934,  34.7687,2,  34.8433,2,    194.2,2,     4.50,2,     4.40,2,     0.00,2,     0.00,2,    2.512,3,    1.205,3,   -999.0,9,  -999.00,9,  -999.00,9,   2043.4,2,   2292.7,2, 17.1602
    18DD9403_1,  P15N,   068,  3,   1506,     17,2,19941007,1606, 21.9823,-165.6983, -999,    299.1,  12.9120,  34.3694,2,  34.3866,2,    195.1,2,    11.20,2,    11.10,2,     0.00,2,     0.56,2,    2.759,3,    1.219,3,   -999.0,9,  -999.00,9,  -999.00,9,   2073.7,2,   2267.7,2, 12.8711
    18DD9403_1,  P15N,   068,  3,   1507,     16,2,19941007,1606, 21.9823,-165.6983, -999,    599.6,   5.8054,  34.1517,2,  34.1891,2,     53.7,2,    71.50,2,    37.80,2,     0.00,2,     0.77,4,    2.522,3,    1.101,3,   -999.0,9,  -999.00,9,  -999.00,9,   2279.8,2,   2309.8,2,  5.7538
    18DD9403_1,  P15N,   068,  3,   1508,     15,2,19941007,1606, 21.9823,-165.6983, -999,    800.9,   4.8881,  34.3676,2,  34.3780,2,     35.6,2,    90.60,2,    41.80,2,     0.00,2,     2.72,2,    0.215,3,    0.000,3,   -999.0,9,  -999.00,9,  -999.00,9,   2317.8,2,   2344.1,2,  4.8234
    18DD9403_1,  P15N,   068,  3,   1509,     14,2,19941007,1606, 21.9823,-165.6983, -999,    999.1,   4.2904,  34.4926,2,  34.4929,2,     49.0,3,   101.10,2,    41.80,2,     0.00,2,     2.97,2,    0.027,3,    0.220,3,   -999.0,9,  -999.00,9,  -999.00,9,   2329.8,2,   2368.4,2,  4.2126
    18DD9403_1,  P15N,   068,  3,   1510,     13,2,19941007,1606, 21.9823,-165.6983, -999,   1253.5,   3.6520,  34.5406,2,  34.5323,2,     59.3,3,   114.30,2,    41.20,2,     0.00,2,     2.96,2,    0.004,3,    0.000,3,   -999.0,9,  -999.00,9,  -999.00,9,   2340.5,2,   2384.0,2,  3.5580
    18DD9403_1,  P15N,   068,  3,   1511,     12,2,19941007,1606, 21.9823,-165.6983, -999,   1502.6,   3.0840,  34.5653,2,  34.5575,2,     68.0,3,   127.00,2,    40.90,2,     0.00,2,     2.93,2,    0.004,3,    0.015,3,   -999.0,9,  -999.00,9,  -999.00,9,   2348.3,2,   2397.0,2,  2.9750
    18DD9403_1,  P15N,   068,  3,   1512,     11,2,19941007,1606, 21.9823,-165.6983, -999,   1752.3,   2.6584,  34.5898,2,  34.5835,2,     79.0,3,   136.80,2,    40.80,2,     0.00,2,     2.97,2,    0.000,3,    0.087,3,   -999.0,9,  -999.00,9,  -999.00,9,   2346.0,2,   2407.9,2,  2.5336
    18DD9403_1,  P15N,   068,  3,   1513,     10,2,19941007,1606, 21.9823,-165.6983, -999,   2001.8,   2.1831,  34.6155,2,  34.6109,2,     93.0,2,   146.20,2,    39.80,2,     0.00,2,     2.90,2,    0.005,3,    0.000,3,   -999.0,9,  -999.00,9,  -999.00,9,   2351.3,2,   2421.8,2,  2.0438
    18DD9403_1,  P15N,   068,  3,   1514,      9,2,19941007,1606, 21.9823,-165.6983, -999,   2249.7,   1.9251,  34.6343,2,  34.6302,2,    101.6,2,   150.80,2,    39.60,2,     0.00,2,     2.79,2,    0.000,3,    0.000,3,   -999.0,9,  -999.00,9,  -999.00,9,   2348.1,2,   2426.5,2,  1.7686
    18DD9403_1,  P15N,   068,  3,   1515,      8,2,19941007,1606, 21.9823,-165.6983, -999,   2499.1,   1.7510,  34.6485,2,  34.6476,2,    110.9,2,   154.40,2,    39.00,2,     0.00,2,     2.77,2, -999.000,9, -999.000,9,   -999.0,9,  -999.00,9,  -999.00,9,   2345.2,2,   2429.1,2,  1.5754
    18DD9403_1,  P15N,   068,  3,   1516,      7,2,19941007,1606, 21.9823,-165.6983, -999,   2749.4,   1.6621,  34.6583,2,  34.6564,2,    117.1,2,   157.20,2,    38.90,2,     0.00,2,     2.70,2, -999.000,9, -999.000,9,   -999.0,9,  -999.00,9,  -999.00,9,   2340.4,2,   2441.5,2,  1.4654
    18DD9403_1,  P15N,   068,  3,   1517,      6,2,19941007,1606, 21.9823,-165.6983, -999,   2999.7,   1.5653,  34.6680,2,  34.6663,2,    127.7,2,   156.00,2,    38.00,2,     0.00,2,     2.56,2, -999.000,9, -999.000,9,   -999.0,9,  -999.00,9,  -999.00,9,   2343.8,2,   2433.0,2,  1.3472
    18DD9403_1,  P15N,   068,  3,   1518,      5,2,19941007,1606, 21.9823,-165.6983, -999,   3249.6,   1.5085,  34.6731,2,  34.6733,2,    134.8,2,   155.10,2,    37.80,2,     0.00,2,     2.79,2, -999.000,9, -999.000,9,   -999.0,9,  -999.00,9,  -999.00,9,   2338.9,2,   2431.4,2,  1.2674
    18DD9403_1,  P15N,   068,  3,   1519,      4,2,19941007,1606, 21.9823,-165.6983, -999,   3500.5,   1.4690,  34.6781,2,  34.6788,2,    143.6,2,   152.10,2,    37.00,2,     0.00,2,     2.50,2, -999.000,9, -999.000,9,   -999.0,9,  -999.00,9,  -999.00,9,   2332.9,2,   2433.1,2,  1.2036
    18DD9403_1,  P15N,   068,  3,   1520,      3,2,19941007,1606, 21.9823,-165.6983, -999,   4249.8,   1.4575,  34.6861,2,  34.6873,2,    154.3,2,   148.10,2,    36.30,2,     0.00,2,     2.57,2, -999.000,9, -999.000,9,   -999.0,9,  -999.00,9,  -999.00,9,   2323.9,2,   2428.7,2,  1.1122
    18DD9403_1,  P15N,   068,  3,   1521,      2,2,19941007,1606, 21.9823,-165.6983, -999,   4500.6,   1.4712,  34.6870,2,  34.6889,2,    155.6,2,   146.40,2,    35.90,2,     0.00,2,     2.43,2, -999.000,9, -999.000,9,   -999.0,9,  -999.00,9,  -999.00,9,   2322.5,2,   2427.6,2,  1.0970
    18DD9403_1,  P15N,   068,  3,   1522,      1,2,19941007,1606, 21.9823,-165.6983, -999,   4678.0,   1.4913,  34.6872,2,  34.6890,2,    156.7,2,   147.10,2,    36.30,2,     0.00,2,     2.55,2, -999.000,9, -999.000,9,   -999.0,9,  -999.00,9,  -999.00,9,   2321.8,2,   2425.2,2,  1.0959
    18DD9403_1,  P15N,   069,  2,   1523,     23,4,19941007,2125, 21.5083,-165.8390, -999,      5.0,-999.0000,-999.0000,9,-999.0000,9,   -999.0,9,  -999.00,9,  -999.00,9,  -999.00,9,  -999.00,9, -999.000,9, -999.000,9,   -999.0,9,  -999.00,9,  -999.00,9,   -999.0,9,   -999.0,9,-999.0000
    18DD9403_1,  P15N,   069,  2,   1524,     22,2,19941007,2125, 21.5083,-165.8390, -999,     10.0,  27.8377,  34.6089,2,  34.6488,2,    203.8,2,     2.50,2,     0.10,2,     0.00,2,     0.00,2,    1.635,3,    0.981,3,   -999.0,9,  -999.00,9,  -999.00,9,   -999.0,9,   -999.0,9, 27.8354
    18DD9403_1,  P15N,   069,  2,   1525,     21,2,19941007,2125, 21.5083,-165.8390, -999,     49.4,  26.1071,  35.1203,2,  35.0984,2,    220.3,2,     1.70,2,     0.00,2,     0.00,2,     0.00,2,    1.582,3,    0.971,3,   -999.0,9,  -999.00,9,  -999.00,9,   -999.0,9,   -999.0,9, 26.0960
    18DD9403_1,  P15N,   069,  2,   1526,     20,2,19941007,2125, 21.5083,-165.8390, -999,    100.5,  21.3046,  35.2054,2,  35.1915,2,    207.0,2,     2.30,2,     0.00,2,     0.00,2,     0.05,2,    2.944,3,    1.265,3,   -999.0,9,  -999.00,9,  -999.00,9,   -999.0,9,   -999.0,9, 21.2852
    18DD9403_1,  P15N,   069,  2,   1527,     19,2,19941007,2125, 21.5083,-165.8390, -999,    199.9,  16.5918,  34.9197,2,  34.7766,2,    197.5,2,     5.40,2,     5.00,2,     0.00,2,     0.40,2,    2.670,3,    1.401,3,   -999.0,9,  -999.00,9,  -999.00,9,   -999.0,9,   -999.0,9, 16.5594
    18DD9403_1,  P15N,   069,  2,   1528,     18,2,19941007,2125, 21.5083,-165.8390, -999,    399.8,   9.3945,  34.1613,2,  34.1626,2,    173.5,3,    26.40,2,    19.80,2,     0.00,2,     1.48,2,    0.015,3,    1.072,3,   -999.0,9,  -999.00,9,  -999.00,9,   -999.0,9,   -999.0,9,  9.3500
    18DD9403_1,  P15N,   069,  2,   1529,     17,2,19941007,2125, 21.5083,-165.8390, -999,    601.3,   5.7270,  34.2109,2,  34.2095,2,     57.1,3,    73.70,2,    37.10,2,     0.00,2,     2.74,2,    0.241,3,    0.587,3,   -999.0,9,  -999.00,9,  -999.00,9,   -999.0,9,   -999.0,9,  5.6756
    18DD9403_1,  P15N,   069,  2,   1530,     16,2,19941007,2125, 21.5083,-165.8390, -999,    800.2,   5.0353,  34.4323,2,  34.4098,2,     44.6,3,    88.20,2,    40.10,2,     0.00,2,     2.95,2,    0.024,3,    0.300,3,   -999.0,9,  -999.00,9,  -999.00,9,   -999.0,9,   -999.0,9,  4.9697
    18DD9403_1,  P15N,   069,  2,   1531,     15,2,19941007,2125, 21.5083,-165.8390, -999,    999.9,   4.3603,  34.4881,2,  34.4878,2,     48.9,2,   100.90,2,    40.80,2,     0.00,2,     2.99,2,    0.012,3,    0.000,3,   -999.0,9,  -999.00,9,  -999.00,9,   -999.0,9,   -999.0,9,  4.2819
    18DD9403_1,  P15N,   069,  2,   1532,     14,2,19941007,2125, 21.5083,-165.8390, -999,   1250.6,   3.6114,  34.5383,2,  34.5383,2,     60.8,2,   115.70,2,    40.70,2,     0.00,2,     2.97,2,    0.010,3,    0.419,3,   -999.0,9,  -999.00,9,  -999.00,9,   -999.0,9,   -999.0,9,  3.5182
    18DD9403_1,  P15N,   069,  2,   1533,     13,2,19941007,2125, 21.5083,-165.8390, -999,   1502.4,   3.0460,  34.5680,2,  34.5678,2,     71.9,2,   127.60,2,    40.40,2,     0.00,2,     2.90,2,    0.018,3,    0.000,3,   -999.0,9,  -999.00,9,  -999.00,9,   -999.0,9,   -999.0,9,  2.9374
    18DD9403_1,  P15N,   069,  2,   1534,     12,2,19941007,2125, 21.5083,-165.8390, -999,   1751.3,   2.5529,  34.5911,2,  34.5889,2,     82.4,3,   141.60,2,    39.70,2,     0.00,2,     2.91,2, -999.000,9, -999.000,9,   -999.0,9,  -999.00,9,  -999.00,9,   -999.0,9,   -999.0,9,  2.4295
    18DD9403_1,  P15N,   069,  2,   1535,     11,2,19941007,2125, 21.5083,-165.8390, -999,   2002.1,   2.1678,  34.6139,2,  34.6137,2,     98.9,3,   146.40,2,    39.20,2,     0.00,2,     2.85,2, -999.000,9, -999.000,9,   -999.0,9,  -999.00,9,  -999.00,9,   -999.0,9,   -999.0,9,  2.0287
    18DD9403_1,  P15N,   069,  2,   1536,     10,2,19941007,2125, 21.5083,-165.8390, -999,   2251.8,   1.9140,  34.6304,2,  34.6317,2,    106.4,2,   151.80,2,    39.10,2,     0.00,2,     2.74,2, -999.000,9, -999.000,9,   -999.0,9,  -999.00,9,  -999.00,9,   -999.0,9,   -999.0,9,  1.7575
    18DD9403_1,  P15N,   069,  2,   1537,      9,2,19941007,2125, 21.5083,-165.8390, -999,   2502.6,   1.7750,  34.6446,2,  34.6446,2,    109.7,2,   154.30,2,    38.40,2,     0.00,2,     2.74,2, -999.000,9, -999.000,9,   -999.0,9,  -999.00,9,  -999.00,9,   -999.0,9,   -999.0,9,  1.5987
    18DD9403_1,  P15N,   069,  2,   1538,      8,2,19941007,2125, 21.5083,-165.8390, -999,   2752.0,   1.6663,  34.6554,2,  34.6556,2,    118.3,2,   155.20,2,    38.00,2,     0.00,2,     2.69,2, -999.000,9, -999.000,9,   -999.0,9,  -999.00,9,  -999.00,9,   -999.0,9,   -999.0,9,  1.4693
    18DD9403_1,  P15N,   069,  2,   1539,      7,2,19941007,2125, 21.5083,-165.8390, -999,   3003.6,   1.5684,  34.6661,2,  34.6661,2,    127.9,2,   155.70,2,    37.30,2,     0.00,2,     2.62,2, -999.000,9, -999.000,9,   -999.0,9,  -999.00,9,  -999.00,9,   -999.0,9,   -999.0,9,  1.3498
    18DD9403_1,  P15N,   069,  2,   1540,      6,2,19941007,2125, 21.5083,-165.8390, -999,   3251.2,   1.5154,  34.6725,2,  34.6730,2,    135.2,2,   154.30,2,    37.00,2,     0.00,2,     2.57,2, -999.000,9, -999.000,9,   -999.0,9,  -999.00,9,  -999.00,9,   -999.0,9,   -999.0,9,  1.2740
    18DD9403_1,  P15N,   069,  2,   1541,      5,2,19941007,2125, 21.5083,-165.8390, -999,   3499.3,   1.4780,  34.6770,2,  34.6777,2,    142.9,3,   152.70,2,    36.30,2,     0.00,2,     2.52,2, -999.000,9, -999.000,9,   -999.0,9,  -999.00,9,  -999.00,9,   -999.0,9,   -999.0,9,  1.2125
    18DD9403_1,  P15N,   069,  2,   1542,      4,2,19941007,2125, 21.5083,-165.8390, -999,   3749.5,   1.4607,  34.6809,2,  34.6816,2,    148.5,2,   151.60,2,    36.30,2,     0.00,2,     2.51,2, -999.000,9, -999.000,9,   -999.0,9,  -999.00,9,  -999.00,9,   -999.0,9,   -999.0,9,  1.1697
    18DD9403_1,  P15N,   069,  2,   1543,      3,2,19941007,2125, 21.5083,-165.8390, -999,   3999.2,   1.4598,  34.6829,2,  34.6832,2,    151.1,2,   149.80,2,    35.80,2,     0.00,2,     2.50,2, -999.000,9, -999.000,9,   -999.0,9,  -999.00,9,  -999.00,9,   -999.0,9,   -999.0,9,  1.1422
    18DD9403_1,  P15N,   069,  2,   1544,      2,2,19941007,2125, 21.5083,-165.8390, -999,   4500.1,   1.4755,  34.6867,2,  34.6874,2,    156.4,2,   146.40,2,    35.50,2,     0.00,2,     2.42,2, -999.000,9, -999.000,9,   -999.0,9,  -999.00,9,  -999.00,9,   -999.0,9,   -999.0,9,  1.1013
    18DD9403_1,  P15N,   069,  2,   1545,      1,2,19941007,2125, 21.5083,-165.8390, -999,   4776.4,   1.4498,  34.6907,2,  34.6913,2,    165.7,2,   140.80,2,    35.00,2,     0.00,2,     2.50,2, -999.000,9, -999.000,9,   -999.0,9,  -999.00,9,  -999.00,9,   -999.0,9,   -999.0,9,  1.0440