BOTTLE,20130510IOSDFOJC
EXPOCODE,SECT_ID,STNNBR,CASTNO,SAMPNO,BTLNBR,BTLNBR_FLAG_W,DATE,TIME,LATITUDE,LONGITUDE,DEPTH,CTDPRS,CTDTMP,CTDSAL,CTDSAL_FLAG_W,SALNTY,SALNTY_FLAG_W,OXYGEN,OXYGEN_FLAG_W,SILCAT,SILCAT_FLAG_W,NITRAT,NITRAT_FLAG_W,NITRIT,NITRIT_FLAG_W,PHSPHT,PHSPHT_FLAG_W,CFC-11,CFC-11_FLAG_W,CFC-12,CFC-12_FLAG_W,DELC14,DELC14_FLAG_W,DELC13,DELC13_FLAG_W,O18O16,O18O16_FLAG_W,TCARBN,TCARBN_FLAG_W,ALKALI,ALKALI_FLAG_W,THETA
,,,,,,,,,,,,DBAR,ITS-90,PSS-78,,PSS-78,,UMOL/KG,,UMOL/KG,,UMOL/KG,,UMOL/KG,,UMOL/KG,,PMOL/KG,,PMOL/KG,,/MILLE,,/MILLE,,/MILLE,,UMOL/KG,,UMOL/KG,,DEG C
    18DD9403_1,  P15N,   014,  3,    285,     23,2,19940921,1819, 49.0013,-165.0030, -999,      7.2,   9.6214,  32.5658,2,  32.5717,2,    286.7,2,    17.20,2,    14.50,2,     0.14,2,     1.46,2,    5.419,3,    2.063,3,   -999.0,9,  -999.00,9,  -999.00,9,   2015.1,2,   2217.5,2,  9.6206
    18DD9403_1,  P15N,   014,  3,    286,     22,2,19940921,1819, 49.0013,-165.0030, -999,     47.9,   6.0150,  32.7794,2,  32.8231,2,    313.4,2,    27.60,2,    17.70,2,     0.00,2,     1.47,2,    5.980,3,    2.253,3,   -999.0,9,  -999.00,9,  -999.00,9,   2057.2,2,   2227.4,2,  6.0111
    18DD9403_1,  P15N,   014,  3,    287,     21,2,19940921,1819, 49.0013,-165.0030, -999,     98.7,   4.2630,  32.9875,2,  32.9995,2,    297.2,2,    34.00,2,    22.00,2,     0.00,2,     1.65,2,    5.609,3,    2.472,3,   -999.0,9,  -999.00,9,  -999.00,9,   2091.7,2,   2227.1,2,  4.2563
    18DD9403_1,  P15N,   014,  3,    288,     20,2,19940921,1819, 49.0013,-165.0030, -999,    197.7,   3.7643,  33.7727,2,  33.7593,2,    137.4,2,    71.90,2,    35.00,2,     0.00,2,     2.44,2,    2.825,3,    1.337,3,   -999.0,9,  -999.00,9,  -999.00,9,   2242.3,2,   2289.0,2,  3.7512
    18DD9403_1,  P15N,   014,  3,    289,     19,2,19940921,1819, 49.0013,-165.0030, -999,    300.2,   3.7396,  33.9195,2,  33.8913,2,     91.5,2,    86.30,2,    39.00,2,     0.00,2,     1.75,4,    1.862,3,    0.886,3,   -999.0,9,  -999.00,9,  -999.00,9,   2282.4,2,   2304.7,2,  3.7194
    18DD9403_1,  P15N,   014,  3,    290,     18,2,19940921,1819, 49.0013,-165.0030, -999,    399.7,   3.7394,  34.0451,2,  34.0273,2,     55.8,2,    99.20,2,    41.20,2,     0.00,2,     2.88,2,    1.048,3,    0.507,3,   -999.0,9,  -999.00,9,  -999.00,9,   2309.6,2,   2322.8,2,  3.7121
    18DD9403_1,  P15N,   014,  3,    291,     17,2,19940921,1819, 49.0013,-165.0030, -999,    598.8,   3.4359,  34.2014,2,  34.2055,2,     31.2,2,   120.10,2,    42.40,2,     0.00,2,     2.99,2,    0.361,3,    0.191,3,   -999.0,9,  -999.00,9,  -999.00,9,   2341.4,2,   2352.2,2,  3.3954
    18DD9403_1,  P15N,   014,  3,    293,     15,2,19940921,1819, 49.0013,-165.0030, -999,    801.5,   3.1117,  34.3133,2,  34.3139,2,     27.3,2,   133.90,2,    43.00,2,     0.00,2,     3.03,2,    0.144,3,    0.135,3,   -999.0,9,  -999.00,9,  -999.00,9,   2361.1,2,   2371.7,2,  3.0581
    18DD9403_1,  P15N,   014,  3,    292,     16,2,19940921,1819, 49.0013,-165.0030, -999,    801.9,   3.1119,  34.3133,2,  34.3136,2,     27.0,2,   132.80,2,    43.10,2,     0.00,2,     3.04,2,    0.160,3,    0.124,3,   -999.0,9,  -999.00,9,  -999.00,9,   2361.3,2,   2362.7,2,  3.0582
    18DD9403_1,  P15N,   014,  3,    294,     14,2,19940921,1819, 49.0013,-165.0030, -999,    999.8,   2.8143,  34.3877,2,  34.3877,2,     26.4,2,   143.30,2,    43.80,2,     0.00,2,     3.05,2,    0.088,3,    0.104,3,   -999.0,9,  -999.00,9,  -999.00,9,   2374.0,2,   2381.8,2,  2.7481
    18DD9403_1,  P15N,   014,  3,    295,     13,2,19940921,1819, 49.0013,-165.0030, -999,   1249.1,   2.5032,  34.4593,2,  34.4557,2,     30.1,2,   153.20,2,    42.90,2,     0.00,2,     3.03,2,    0.029,3,    0.134,3,   -999.0,9,  -999.00,9,  -999.00,9,   2384.6,2,   2396.5,2,  2.4209
    18DD9403_1,  P15N,   014,  3,    296,     12,2,19940921,1819, 49.0013,-165.0030, -999,   1499.6,   2.2873,  34.5117,2,  34.5081,2,     34.5,2,   159.90,2,    43.10,2,     0.00,2,     3.01,2,    0.000,3,    0.000,3,   -999.0,9,  -999.00,9,  -999.00,9,   2387.9,2,   2381.1,4,  2.1879
    18DD9403_1,  P15N,   014,  3,    297,     11,2,19940921,1819, 49.0013,-165.0030, -999,   1755.3,   2.0964,  34.5528,2,  34.5504,2,     46.4,2,   164.00,2,    42.30,2,     0.00,2,     2.95,2,    0.000,3,    0.000,3,   -999.0,9,  -999.00,9,  -999.00,9,   2383.6,2,   2414.3,2,  1.9789
    18DD9403_1,  P15N,   014,  3,    298,     10,2,19940921,1819, 49.0013,-165.0030, -999,   2001.8,   1.9565,  34.5820,2,  34.5817,2,     60.4,2,   165.60,2,    41.90,2,     0.00,2,     2.89,2,    0.000,3,    0.000,3,   -999.0,9,  -999.00,9,  -999.00,9,   2230.6,4,   2419.8,2,  1.8208
    18DD9403_1,  P15N,   014,  3,    299,      9,2,19940921,1819, 49.0013,-165.0030, -999,   2246.5,   1.8353,  34.6077,2,  34.6070,2,     73.5,2,   166.90,2,    41.10,2,     0.00,2,     2.81,2, -999.000,9, -999.000,9,   -999.0,9,  -999.00,9,  -999.00,9,   -999.0,9,   2429.3,2,  1.6806
    18DD9403_1,  P15N,   014,  3,    300,      8,2,19940921,1819, 49.0013,-165.0030, -999,   2498.7,   1.7218,  34.6273,2,  34.6283,2,     88.1,2,   165.50,2,    40.30,2,     0.00,2,     2.76,2, -999.000,9, -999.000,9,   -999.0,9,  -999.00,9,  -999.00,9,   2370.2,3,   -999.0,9,  1.5469
    18DD9403_1,  P15N,   014,  3,    301,      7,2,19940921,1819, 49.0013,-165.0030, -999,   2999.8,   1.5800,  34.6550,2,  34.6557,2,    112.1,2,   163.50,2,    38.90,2,     0.00,2,     2.64,2, -999.000,9, -999.000,9,   -999.0,9,  -999.00,9,  -999.00,9,   2310.0,3,   2434.3,2,  1.3616
    18DD9403_1,  P15N,   014,  3,    302,      6,2,19940921,1819, 49.0013,-165.0030, -999,   3497.4,   1.5006,  34.6715,2,  34.6725,2,    131.0,2,   159.50,2,    37.50,2,     0.00,2,     2.54,2, -999.000,9, -999.000,9,   -999.0,9,  -999.00,9,  -999.00,9,   2299.9,3,   2427.0,2,  1.2348
    18DD9403_1,  P15N,   014,  3,    303,      5,2,19940921,1819, 49.0013,-165.0030, -999,   3997.4,   1.4764,  34.6810,2,  34.6809,2,    142.6,2,   158.10,2,    36.80,2,     0.00,2,     2.46,2, -999.000,9, -999.000,9,   -999.0,9,  -999.00,9,  -999.00,9,   2275.1,3,   2429.8,2,  1.1585
    18DD9403_1,  P15N,   015,  3,    308,     23,2,19940922,0029, 48.4803,-164.9798, -999,      7.9,   9.8714,  32.6344,2,  32.6398,2,    287.7,2,    21.60,2,    14.80,2,     0.16,2,     1.24,2,    5.189,3,    1.943,3,   -999.0,9,  -999.00,9,  -999.00,9,   -999.0,9,   -999.0,9,  9.8705
    18DD9403_1,  P15N,   015,  3,    309,     22,2,19940922,0029, 48.4803,-164.9798, -999,     53.3,   5.3582,  32.9442,2,  32.9350,2,    316.2,2,    26.60,2,    17.20,2,     0.21,2,     1.45,2,    6.055,3,    2.421,3,   -999.0,9,  -999.00,9,  -999.00,9,   -999.0,9,   -999.0,9,  5.3541
    18DD9403_1,  P15N,   015,  3,    310,     21,2,19940922,0029, 48.4803,-164.9798, -999,     99.0,   4.8630,  32.9950,2,  32.9821,2,    305.6,2,    28.00,2,    19.00,2,     0.01,2,     1.47,2,    5.940,3,    2.444,3,   -999.0,9,  -999.00,9,  -999.00,9,   -999.0,9,   -999.0,9,  4.8558
    18DD9403_1,  P15N,   015,  3,    311,     20,2,19940922,0029, 48.4803,-164.9798, -999,    206.5,   4.2789,  33.7813,2,  33.7848,2,    150.8,2,    65.40,2,    33.00,2,     0.00,2,     2.29,2,    2.795,3,    1.285,3,   -999.0,9,  -999.00,9,  -999.00,9,   -999.0,9,   -999.0,9,  4.2643
    18DD9403_1,  P15N,   015,  3,    312,     19,2,19940922,0029, 48.4803,-164.9798, -999,    304.1,   4.1496,  33.9320,2,  33.9219,2,    103.2,2,    80.70,2,    36.70,2,     0.00,2,     2.55,2,    1.851,3,    0.860,3,   -999.0,9,  -999.00,9,  -999.00,9,   -999.0,9,   -999.0,9,  4.1281
    18DD9403_1,  P15N,   015,  3,    313,     18,2,19940922,0029, 48.4803,-164.9798, -999,    406.7,   3.9047,  34.0426,2,  34.0218,2,     66.6,2,    96.20,2,    40.30,2,     0.00,2,     2.78,2,    1.181,3,    0.580,3,   -999.0,9,  -999.00,9,  -999.00,9,   -999.0,9,   -999.0,9,  3.8764
    18DD9403_1,  P15N,   015,  3,    314,     17,2,19940922,0029, 48.4803,-164.9798, -999,    602.8,   3.5660,  34.1940,2,  34.1947,2,     37.4,2,   116.30,2,    41.70,2,     0.00,2,     2.92,2,    0.450,3,    0.259,3,   -999.0,9,  -999.00,9,  -999.00,9,   -999.0,9,   -999.0,9,  3.5247
    18DD9403_1,  P15N,   015,  3,    315,     16,2,19940922,0029, 48.4803,-164.9798, -999,    797.6,   3.1749,  34.3046,2,  34.3054,2,     29.3,2,   131.80,2,    43.20,2,     0.00,2,     2.99,2,    0.209,3,    0.335,3,   -999.0,9,  -999.00,9,  -999.00,9,   -999.0,9,   -999.0,9,  3.1213
    18DD9403_1,  P15N,   015,  3,    316,     15,2,19940922,0029, 48.4803,-164.9798, -999,   1003.7,   2.8532,  34.3811,2,  34.3794,2,     26.6,2,   142.80,2,    43.30,2,     0.00,2,     3.01,2,    0.081,3,    0.112,3,   -999.0,9,  -999.00,9,  -999.00,9,   -999.0,9,   -999.0,9,  2.7864
    18DD9403_1,  P15N,   015,  3,    317,     14,2,19940922,0029, 48.4803,-164.9798, -999,   1255.8,   2.5124,  34.4535,2,  34.4521,2,     29.1,2,   150.00,2,    42.80,2,     0.00,2,     3.02,2,    0.038,3,    0.103,3,   -999.0,9,  -999.00,9,  -999.00,9,   -999.0,9,   -999.0,9,  2.4295
    18DD9403_1,  P15N,   015,  3,    318,     13,2,19940922,0029, 48.4803,-164.9798, -999,   1507.7,   2.2886,  34.5083,2,  34.5054,2,     34.9,2,   160.50,2,    43.10,2,     0.00,2,     3.01,2,    0.000,3,    0.147,3,   -999.0,9,  -999.00,9,  -999.00,9,   -999.0,9,   -999.0,9,  2.1885
    18DD9403_1,  P15N,   015,  3,    319,     12,2,19940922,0029, 48.4803,-164.9798, -999,   1762.8,   2.1018,  34.5514,2,  34.5495,2,     43.5,2,   164.30,2,    42.80,2,     0.00,2,     2.97,2,    0.000,3,    0.000,3,   -999.0,9,  -999.00,9,  -999.00,9,   -999.0,9,   -999.0,9,  1.9837
    18DD9403_1,  P15N,   015,  3,    320,     11,2,19940922,0029, 48.4803,-164.9798, -999,   2008.1,   1.9501,  34.5812,2,  34.5811,2,     61.0,2,   165.90,2,    42.10,2,     0.00,2,     2.87,2,    0.000,3,    0.000,3,   -999.0,9,  -999.00,9,  -999.00,9,   -999.0,9,   -999.0,9,  1.8140
    18DD9403_1,  P15N,   015,  3,    321,     10,2,19940922,0029, 48.4803,-164.9798, -999,   2249.0,   1.8312,  34.6066,2,  34.6055,2,     73.2,2,   166.00,2,    40.80,2,     0.00,2,     2.82,2, -999.000,9, -999.000,9,   -999.0,9,  -999.00,9,  -999.00,9,   -999.0,9,   -999.0,9,  1.6764
    18DD9403_1,  P15N,   015,  3,    322,      9,2,19940922,0029, 48.4803,-164.9798, -999,   2498.9,   1.7152,  34.6267,2,  34.6270,2,     87.6,2,   165.00,2,    39.80,2,     0.00,2,     2.73,2, -999.000,9, -999.000,9,   -999.0,9,  -999.00,9,  -999.00,9,   -999.0,9,   -999.0,9,  1.5404
    18DD9403_1,  P15N,   015,  3,    323,      8,2,19940922,0029, 48.4803,-164.9798, -999,   2749.8,   1.6352,  34.6417,2,  34.6421,2,    101.6,2,   163.20,2,    38.90,2,     0.00,2,     2.67,2, -999.000,9, -999.000,9,   -999.0,9,  -999.00,9,  -999.00,9,   -999.0,9,   -999.0,9,  1.4392
    18DD9403_1,  P15N,   015,  3,    324,      7,2,19940922,0029, 48.4803,-164.9798, -999,   3000.7,   1.5772,  34.6532,2,  34.6541,2,    111.9,2,   162.40,2,    38.60,2,     0.00,2,     2.66,2, -999.000,9, -999.000,9,   -999.0,9,  -999.00,9,  -999.00,9,   -999.0,9,   -999.0,9,  1.3588
    18DD9403_1,  P15N,   015,  3,    325,      6,2,19940922,0029, 48.4803,-164.9798, -999,   3248.4,   1.5334,  34.6622,2,  34.6625,2,    122.6,2,   161.00,2,    37.90,2,     0.00,2,     2.63,2, -999.000,9, -999.000,9,   -999.0,9,  -999.00,9,  -999.00,9,   -999.0,9,   -999.0,9,  1.2919
    18DD9403_1,  P15N,   015,  3,    326,      5,2,19940922,0029, 48.4803,-164.9798, -999,   3497.6,   1.5031,  34.6690,2,  34.6699,2,    130.6,2,   159.30,2,    37.20,2,     0.00,2,     2.54,2, -999.000,9, -999.000,9,   -999.0,9,  -999.00,9,  -999.00,9,   -999.0,9,   -999.0,9,  1.2372
    18DD9403_1,  P15N,   015,  3,    327,      4,2,19940922,0029, 48.4803,-164.9798, -999,   3751.1,   1.4805,  34.6758,2,  34.6756,2,    138.3,2,   157.70,2,    36.80,2,     0.00,2,     2.48,2, -999.000,9, -999.000,9,   -999.0,9,  -999.00,9,  -999.00,9,   -999.0,9,   -999.0,9,  1.1889
    18DD9403_1,  P15N,   015,  3,    328,      3,2,19940922,0029, 48.4803,-164.9798, -999,   3996.6,   1.4753,  34.6798,2,  34.6786,2,    142.5,2,   157.60,2,    36.50,2,     0.00,2,     2.45,2, -999.000,9, -999.000,9,   -999.0,9,  -999.00,9,  -999.00,9,   -999.0,9,   -999.0,9,  1.1575
    18DD9403_1,  P15N,   015,  3,    329,      2,2,19940922,0029, 48.4803,-164.9798, -999,   4247.5,   1.4803,  34.6827,2,  34.6833,2,    145.6,2,   158.10,2,    36.20,2,     0.00,2,     2.45,2, -999.000,9, -999.000,9,   -999.0,9,  -999.00,9,  -999.00,9,   -999.0,9,   -999.0,9,  1.1347
    18DD9403_1,  P15N,   015,  3,    330,      1,2,19940922,0029, 48.4803,-164.9798, -999,   5247.2,   1.5590,  34.6888,2,  34.6885,2,    153.3,2,   157.90,2,    35.90,2,     0.00,2,     2.41,2, -999.000,9, -999.000,9,   -999.0,9,  -999.00,9,  -999.00,9,   -999.0,9,   -999.0,9,  1.0923
    18DD9403_1,  P15N,   016,  3,    331,     23,2,19940922,0753, 48.0005,-165.0050, -999,      8.0,  10.7443,  32.6088,2,  32.6709,2,    283.3,2,    18.50,2,    13.70,2,     0.17,2,     2.00,4,    4.938,3,    1.845,3,   -999.0,9,  -999.00,9,  -999.00,9,   2013.0,2,   2199.1,2, 10.7434
    18DD9403_1,  P15N,   016,  3,    332,     22,2,19940922,0753, 48.0005,-165.0050, -999,     49.2,   5.7007,  32.9725,2,  32.9223,2,    313.8,2,    25.10,2,    16.20,2,     0.16,2,     1.49,2,    6.057,3,    2.467,3,   -999.0,9,  -999.00,9,  -999.00,9,   2062.4,2,   2216.0,2,  5.6968
    18DD9403_1,  P15N,   016,  3,    333,     21,2,19940922,0753, 48.0005,-165.0050, -999,    100.2,   4.8118,  32.9629,2,  32.9691,2,    304.5,2,    28.10,2,    19.10,2,     0.03,2,     1.55,2,    5.823,3,    2.537,3,   -999.0,9,  -999.00,9,  -999.00,9,   2074.9,2,   2216.0,2,  4.8045
    18DD9403_1,  P15N,   016,  3,    334,     20,2,19940922,0753, 48.0005,-165.0050, -999,    111.3,   4.7561,  33.1159,2,  33.0851,2,    296.5,2,    29.00,2,    19.40,2,     0.00,2,     1.60,2,    5.324,3,    2.444,3,   -999.0,9,  -999.00,9,  -999.00,9,   2083.6,2,   2222.9,2,  4.7480
    18DD9403_1,  P15N,   016,  3,    335,     19,2,19940922,0753, 48.0005,-165.0050, -999,    199.7,   4.3616,  33.7650,2,  33.7510,2,    164.9,2,    61.00,2,    31.40,2,     0.00,2,     2.26,2,    3.462,3,    1.580,3,   -999.0,9,  -999.00,9,  -999.00,9,   2211.1,2,   2271.7,2,  4.3474
    18DD9403_1,  P15N,   016,  3,    336,     18,2,19940922,0753, 48.0005,-165.0050, -999,    247.6,   4.0429,  33.8186,2,  33.8170,2,    126.5,2,    73.50,2,    35.20,2,     0.00,2,     2.54,2,    2.580,3,    1.227,3,   -999.0,9,  -999.00,9,  -999.00,9,   2243.5,2,   2281.0,2,  4.0258
    18DD9403_1,  P15N,   016,  3,    337,     17,2,19940922,0753, 48.0005,-165.0050, -999,    300.4,   4.0937,  33.8987,2,  33.9021,2,    103.5,2,    80.90,2,    37.00,2,     0.00,2,     2.62,2,    2.040,3,    0.979,3,   -999.0,9,  -999.00,9,  -999.00,9,   2265.1,2,   2290.7,2,  4.0727
    18DD9403_1,  P15N,   016,  3,    338,     16,2,19940922,0753, 48.0005,-165.0050, -999,    400.0,   3.9380,  34.0053,2,  33.9979,2,     75.9,2,    92.50,2,    39.20,2,     0.00,2,     2.78,2,    1.212,3,    0.621,3,   -999.0,9,  -999.00,9,  -999.00,9,   2292.5,2,   2304.9,2,  3.9101
    18DD9403_1,  P15N,   016,  3,    339,     15,2,19940922,0753, 48.0005,-165.0050, -999,    597.7,   3.5532,  34.1900,2,  34.1873,2,     37.2,2,   116.90,2,    42.20,2,     0.00,2,     2.97,2,    0.472,3,    0.287,3,   -999.0,9,  -999.00,9,  -999.00,9,   2336.0,2,   2396.3,4,  3.5123
    18DD9403_1,  P15N,   016,  3,    340,     14,2,19940922,0753, 48.0005,-165.0050, -999,    800.3,   3.1847,  34.2985,2,  34.2990,2,     27.7,2,   132.50,2,    43.10,2,     0.00,2,     3.02,2,    0.168,3,    0.214,3,   -999.0,9,  -999.00,9,  -999.00,9,   2357.8,2,   2356.5,2,  3.1307
    18DD9403_1,  P15N,   016,  3,    341,     13,2,19940922,0753, 48.0005,-165.0050, -999,   1001.6,   2.8548,  34.3802,2,  34.3759,2,     25.4,2,   143.70,2,    43.50,2,     0.00,2,     3.04,2,    0.070,3,    0.142,3,   -999.0,9,  -999.00,9,  -999.00,9,   2370.6,2,   2381.1,2,  2.7881
    18DD9403_1,  P15N,   016,  3,    342,     12,2,19940922,0753, 48.0005,-165.0050, -999,   1252.1,   2.5290,  34.4539,2,  34.4519,2,     27.1,2,   154.50,2,    43.60,2,     0.00,2,     3.06,2,    0.027,3,    0.163,3,   -999.0,9,  -999.00,9,  -999.00,9,   2382.2,2,   2386.8,2,  2.4462
    18DD9403_1,  P15N,   016,  3,    343,     11,2,19940922,0753, 48.0005,-165.0050, -999,   1502.2,   2.2738,  34.5005,2,  34.5074,2,     34.8,2,   161.50,2,    43.10,2,     0.00,2,     3.02,2,    0.030,3,    0.000,3,   -999.0,9,  -999.00,9,  -999.00,9,   2385.4,2,   2406.8,2,  2.1743
    18DD9403_1,  P15N,   016,  3,    344,     10,2,19940922,0753, 48.0005,-165.0050, -999,   1753.5,   2.0965,  34.5468,2,  34.5481,2,     47.3,2,   165.40,2,    42.50,2,     0.00,2,     2.97,2,    0.000,3,    0.000,3,   -999.0,9,  -999.00,9,  -999.00,9,   2382.0,2,   2399.7,2,  1.9792
    18DD9403_1,  P15N,   016,  3,    345,      9,2,19940922,0753, 48.0005,-165.0050, -999,   2000.6,   1.9413,  34.5821,2,  34.5828,2,     60.1,2,   167.00,2,    41.80,2,     0.00,2,     2.92,2,    0.034,3,    0.000,3,   -999.0,9,  -999.00,9,  -999.00,9,   2378.3,2,   2411.8,2,  1.8059
    18DD9403_1,  P15N,   016,  3,    346,      8,2,19940922,0753, 48.0005,-165.0050, -999,   2246.5,   1.8193,  34.6059,2,  34.6082,2,     75.5,2,   168.30,2,    41.00,2,     0.00,2,     2.88,2, -999.000,9, -999.000,9,   -999.0,9,  -999.00,9,  -999.00,9,   2372.8,2,   2412.7,2,  1.6649
    18DD9403_1,  P15N,   016,  3,    347,      7,2,19940922,0753, 48.0005,-165.0050, -999,   2497.9,   1.7219,  34.6246,2,  34.6269,2,     86.3,2,   167.80,2,    40.20,2,     0.00,2,     2.79,2, -999.000,9, -999.000,9,   -999.0,9,  -999.00,9,  -999.00,9,   2366.5,2,   2419.0,2,  1.5471
    18DD9403_1,  P15N,   016,  3,    348,      6,2,19940922,0753, 48.0005,-165.0050, -999,   2749.4,   1.6470,  34.6417,2,  34.6405,2,     98.6,2,   166.60,2,    39.50,2,     0.00,2,     2.73,2, -999.000,9, -999.000,9,   -999.0,9,  -999.00,9,  -999.00,9,   2358.6,2,   2416.6,2,  1.4508
    18DD9403_1,  P15N,   016,  3,    349,      5,2,19940922,0753, 48.0005,-165.0050, -999,   3000.0,   1.5831,  34.6534,2,  34.6533,2,    111.0,2,   164.90,2,    38.70,2,     0.00,2,     2.69,2, -999.000,9, -999.000,9,   -999.0,9,  -999.00,9,  -999.00,9,   2352.0,2,   2413.9,2,  1.3646
    18DD9403_1,  P15N,   016,  3,    350,      4,2,19940922,0753, 48.0005,-165.0050, -999,   3498.9,   1.5045,  34.6699,2,  34.6684,2,    130.7,2,   160.40,2,    37.40,2,     0.00,2,     2.59,2, -999.000,9, -999.000,9,   -999.0,9,  -999.00,9,  -999.00,9,   2340.8,2,   2423.5,2,  1.2385
    18DD9403_1,  P15N,   016,  3,    351,      3,2,19940922,0753, 48.0005,-165.0050, -999,   3998.7,   1.4695,  34.6801,2,  34.6799,2,    143.5,2,   159.10,2,    36.70,2,     0.00,2,     2.53,2, -999.000,9, -999.000,9,   -999.0,9,  -999.00,9,  -999.00,9,   2332.4,2,   2418.6,2,  1.1517
    18DD9403_1,  P15N,   016,  3,    352,      2,2,19940922,0753, 48.0005,-165.0050, -999,   4499.2,   1.4884,  34.6854,2,  34.6843,2,    148.5,2,   160.30,2,    36.30,2,     0.00,2,     2.51,2, -999.000,9, -999.000,9,   -999.0,9,  -999.00,9,  -999.00,9,   2329.1,2,   2424.3,2,  1.1139
    18DD9403_1,  P15N,   016,  3,    353,      1,2,19940922,0753, 48.0005,-165.0050, -999,   5132.5,   1.5499,  34.6881,2,  34.6869,2,    151.4,2,   161.60,2,    36.30,2,     0.00,2,     2.50,2, -999.000,9, -999.000,9,   -999.0,9,  -999.00,9,  -999.00,9,   2328.1,2,   2421.7,2,  1.0977