BOTTLE,20130510IOSDFOJC
EXPOCODE,SECT_ID,STNNBR,CASTNO,SAMPNO,BTLNBR,BTLNBR_FLAG_W,DATE,TIME,LATITUDE,LONGITUDE,DEPTH,CTDPRS,CTDTMP,CTDSAL,CTDSAL_FLAG_W,SALNTY,SALNTY_FLAG_W,OXYGEN,OXYGEN_FLAG_W,SILCAT,SILCAT_FLAG_W,NITRAT,NITRAT_FLAG_W,NITRIT,NITRIT_FLAG_W,PHSPHT,PHSPHT_FLAG_W,CFC-11,CFC-11_FLAG_W,CFC-12,CFC-12_FLAG_W,DELC14,DELC14_FLAG_W,DELC13,DELC13_FLAG_W,O18O16,O18O16_FLAG_W,TCARBN,TCARBN_FLAG_W,ALKALI,ALKALI_FLAG_W,THETA
,,,,,,,,,,,,DBAR,ITS-90,PSS-78,,PSS-78,,UMOL/KG,,UMOL/KG,,UMOL/KG,,UMOL/KG,,UMOL/KG,,PMOL/KG,,PMOL/KG,,/MILLE,,/MILLE,,/MILLE,,UMOL/KG,,UMOL/KG,,DEG C
    18DD9403_1,  P15N,   037,  3,    717,     23,2,19940928,1111, 37.5148,-164.9990, -999,      9.5,  21.1733,  34.2383,2,  34.2396,2,    236.0,2,     3.90,2,     0.20,2,     0.00,2,     0.12,2,    2.088,3,    1.542,3,   -999.0,9,  -999.00,9,  -999.00,9,   -999.0,9,   -999.0,9, 21.1715
    18DD9403_1,  P15N,   037,  3,    718,     22,2,19940928,1111, 37.5148,-164.9990, -999,     52.6,  14.1593,  34.3088,2,  34.2299,2,    327.9,2,     5.50,2,     0.00,2,     0.00,2,     0.17,2,    3.073,3,    2.000,3,   -999.0,9,  -999.00,9,  -999.00,9,   -999.0,9,   -999.0,9, 14.1517
    18DD9403_1,  P15N,   037,  3,    719,     21,4,19940928,1111, 37.5148,-164.9990, -999,    101.1,  11.8942,  34.3117,2,  34.5758,4,     44.8,4,   169.10,4,    43.00,4,     0.00,4,     3.01,4, -999.000,9, -999.000,9,   -999.0,9,  -999.00,9,  -999.00,9,   -999.0,9,   -999.0,9, 11.8812
    18DD9403_1,  P15N,   037,  3,    720,     20,2,19940928,1111, 37.5148,-164.9990, -999,    203.0,  10.7472,  34.2376,2,  34.2269,2,    243.1,2,    14.40,2,    11.60,2,     0.00,2,     0.85,2,    3.428,3,    1.936,3,   -999.0,9,  -999.00,9,  -999.00,9,   -999.0,9,   -999.0,9, 10.7228
    18DD9403_1,  P15N,   037,  3,    721,     19,2,19940928,1111, 37.5148,-164.9990, -999,    302.7,   9.3702,  34.1170,2,  34.1305,2,    223.6,2,    22.00,2,    16.30,2,     0.00,2,     1.18,2,    3.150,3,    1.737,3,   -999.0,9,  -999.00,9,  -999.00,9,   -999.0,9,   -999.0,9,  9.3367
    18DD9403_1,  P15N,   037,  3,    722,     18,2,19940928,1111, 37.5148,-164.9990, -999,    403.5,   7.9851,  34.0386,2,  34.0533,2,    190.4,2,    34.60,2,    21.90,2,     0.00,2,     1.56,2,    2.571,3,    1.406,3,   -999.0,9,  -999.00,9,  -999.00,9,   -999.0,9,   -999.0,9,  7.9443
    18DD9403_1,  P15N,   037,  3,    723,     17,2,19940928,1111, 37.5148,-164.9990, -999,    504.9,   6.3953,  33.9834,2,  33.9869,2,    157.7,2,    50.60,2,    28.00,2,     0.00,2,     2.02,2,    2.130,3,    1.172,3,   -999.0,9,  -999.00,9,  -999.00,9,   -999.0,9,   -999.0,9,  6.3501
    18DD9403_1,  P15N,   037,  3,    724,     16,2,19940928,1111, 37.5148,-164.9990, -999,    605.0,   5.1445,  34.0254,2,  34.0055,2,    109.8,2,    71.40,2,    34.00,2,     0.00,2,     2.45,2,    1.267,3,    0.775,3,   -999.0,9,  -999.00,9,  -999.00,9,   -999.0,9,   -999.0,9,  5.0956
    18DD9403_1,  P15N,   037,  3,    725,     15,2,19940928,1111, 37.5148,-164.9990, -999,    803.8,   4.0071,  34.1909,2,  34.1730,2,     44.7,2,   105.10,2,    40.80,2,     0.00,2,     2.92,2,    0.262,3,    0.298,3,   -999.0,9,  -999.00,9,  -999.00,9,   -999.0,9,   -999.0,9,  3.9480
    18DD9403_1,  P15N,   037,  3,    726,     14,2,19940928,1111, 37.5148,-164.9990, -999,   1008.4,   3.3158,  34.3161,2,  34.3123,2,     21.7,2,   128.80,2,    43.40,2,     0.00,2,     3.10,2,    0.027,3,    0.085,3,   -999.0,9,  -999.00,9,  -999.00,9,   -999.0,9,   -999.0,9,  3.2451
    18DD9403_1,  P15N,   037,  3,    727,     13,2,19940928,1111, 37.5148,-164.9990, -999,   1257.3,   2.7835,  34.4166,2,  34.4213,2,     13.2,2,   147.30,2,    44.20,2,     0.00,2,     3.18,2,    0.014,3,    0.043,3,   -999.0,9,  -999.00,9,  -999.00,9,   -999.0,9,   -999.0,9,  2.6980
    18DD9403_1,  P15N,   037,  3,    728,     12,2,19940928,1111, 37.5148,-164.9990, -999,   1504.6,   2.4318,  34.4919,2,  34.4929,2,     16.6,2,   159.50,2,    44.60,2,     0.00,2,     3.15,2,    0.000,3,    0.074,3,   -999.0,9,  -999.00,9,  -999.00,9,   -999.0,9,   -999.0,9,  2.3303
    18DD9403_1,  P15N,   037,  3,    729,     11,2,19940928,1111, 37.5148,-164.9990, -999,   1754.4,   2.1595,  34.5491,2,  34.5484,2,     30.5,2,   166.00,2,    43.80,2,     0.00,2,     3.09,2,    0.008,3,    0.058,3,   -999.0,9,  -999.00,9,  -999.00,9,   -999.0,9,   -999.0,9,  2.0413
    18DD9403_1,  P15N,   037,  3,    730,     10,2,19940928,1111, 37.5148,-164.9990, -999,   1996.5,   1.9355,  34.5881,2,  34.5916,2,     52.8,2,   169.90,2,    42.50,2,     0.00,2,     2.98,2,    0.015,3,    0.076,3,   -999.0,9,  -999.00,9,  -999.00,9,   -999.0,9,   -999.0,9,  1.8005
    18DD9403_1,  P15N,   037,  3,    731,      9,2,19940928,1111, 37.5148,-164.9990, -999,   2249.4,   1.7817,  34.6177,2,  34.6183,2,     71.9,2,   170.50,2,    41.30,2,     0.00,2,     2.89,2, -999.000,9, -999.000,9,   -999.0,9,  -999.00,9,  -999.00,9,   -999.0,9,   -999.0,9,  1.6276
    18DD9403_1,  P15N,   037,  3,    732,      8,2,19940928,1111, 37.5148,-164.9990, -999,   2493.1,   1.6653,  34.6382,2,  34.6380,2,     93.0,2,   165.60,2,    39.90,2,     0.00,2,     2.80,2, -999.000,9, -999.000,9,   -999.0,9,  -999.00,9,  -999.00,9,   -999.0,9,   -999.0,9,  1.4919
    18DD9403_1,  P15N,   037,  3,    733,      7,2,19940928,1111, 37.5148,-164.9990, -999,   2995.0,   1.5329,  34.6606,2,  34.6609,2,    120.6,2,   160.20,2,    38.30,2,     0.00,2,     2.66,2, -999.000,9, -999.000,9,   -999.0,9,  -999.00,9,  -999.00,9,   -999.0,9,   -999.0,9,  1.3160
    18DD9403_1,  P15N,   037,  3,    734,      6,2,19940928,1111, 37.5148,-164.9990, -999,   3490.3,   1.4667,  34.6740,2,  34.6754,2,    137.6,2,   154.70,2,    36.70,2,     0.00,2,     2.57,2, -999.000,9, -999.000,9,   -999.0,9,  -999.00,9,  -999.00,9,   -999.0,9,   -999.0,9,  1.2025
    18DD9403_1,  P15N,   037,  3,    735,      5,2,19940928,1111, 37.5148,-164.9990, -999,   3992.2,   1.4569,  34.6813,2,  34.6812,2,    145.9,2,   154.90,2,    36.60,2,     0.00,2,     2.53,2, -999.000,9, -999.000,9,   -999.0,9,  -999.00,9,  -999.00,9,   -999.0,9,   -999.0,9,  1.1400
    18DD9403_1,  P15N,   037,  3,    736,      4,2,19940928,1111, 37.5148,-164.9990, -999,   4497.2,   1.4885,  34.6850,2,  34.6848,2,    149.1,2,   156.20,2,    36.10,2,     0.00,2,     2.56,2, -999.000,9, -999.000,9,   -999.0,9,  -999.00,9,  -999.00,9,   -999.0,9,   -999.0,9,  1.1142
    18DD9403_1,  P15N,   037,  3,    737,      3,2,19940928,1111, 37.5148,-164.9990, -999,   4997.2,   1.5457,  34.6858,2,  34.6854,2,    149.7,2,   155.60,2,    36.30,2,     0.00,2,     2.52,2, -999.000,9, -999.000,9,   -999.0,9,  -999.00,9,  -999.00,9,   -999.0,9,   -999.0,9,  1.1103
    18DD9403_1,  P15N,   037,  3,    738,      2,2,19940928,1111, 37.5148,-164.9990, -999,   5199.0,   1.5709,  34.6858,2,  34.6854,2,    154.9,2,   156.20,2,    36.30,2,     0.00,2,     2.53,2, -999.000,9, -999.000,9,   -999.0,9,  -999.00,9,  -999.00,9,   -999.0,9,   -999.0,9,  1.1098
    18DD9403_1,  P15N,   037,  3,    739,      1,2,19940928,1111, 37.5148,-164.9990, -999,   5282.6,   1.5814,  34.6858,2,  34.6856,2,    149.8,2,   157.30,2,    36.60,2,     0.00,2,     2.52,2, -999.000,9, -999.000,9,   -999.0,9,  -999.00,9,  -999.00,9,   -999.0,9,   -999.0,9,  1.1095
    18DD9403_1,  P15N,   038,  3,    740,     23,2,19940928,1743, 37.0012,-164.9912, -999,      7.9,  21.9364,  34.4650,2,  34.3793,2,    229.8,2,     4.80,2,     0.00,2,     0.00,2,     0.18,2, -999.000,9, -999.000,9,   -999.0,9,  -999.00,9,  -999.00,9,   1972.4,2,   2263.8,2, 21.9348
    18DD9403_1,  P15N,   038,  3,    741,     22,2,19940928,1743, 37.0012,-164.9912, -999,     50.6,  14.7301,  34.3800,2,  34.3514,2,    295.6,2,     5.50,2,     0.00,2,     0.00,2,     0.71,2, -999.000,9, -999.000,9,   -999.0,9,  -999.00,9,  -999.00,9,   1990.7,2,   2275.1,2, 14.7226
    18DD9403_1,  P15N,   038,  3,    742,     21,2,19940928,1743, 37.0012,-164.9912, -999,    105.3,  12.3095,  34.2849,2,  34.2774,2,    241.8,2,     9.30,2,     7.10,2,     0.05,2,     0.60,4, -999.000,9, -999.000,9,   -999.0,9,  -999.00,9,  -999.00,9,   2045.5,2,   2259.3,2, 12.2957
    18DD9403_1,  P15N,   038,  3,    743,     20,2,19940928,1743, 37.0012,-164.9912, -999,    206.8,  10.9359,  34.2052,2,  34.2099,2,    239.9,2,    13.10,2,    11.00,2,     0.01,2,     0.90,2, -999.000,9, -999.000,9,   -999.0,9,  -999.00,9,  -999.00,9,   2067.1,2,   2270.0,2, 10.9107
    18DD9403_1,  P15N,   038,  3,    744,     19,2,19940928,1743, 37.0012,-164.9912, -999,    299.3,   9.8345,  34.1672,2,  34.1565,2,    226.8,2,    19.00,2,    15.00,2,     0.00,2,     1.31,2, -999.000,9, -999.000,9,   -999.0,9,  -999.00,9,  -999.00,9,   2093.8,2,   2274.2,2,  9.8003
    18DD9403_1,  P15N,   038,  3,    745,     18,2,19940928,1743, 37.0012,-164.9912, -999,    410.9,   8.1568,  34.0836,2,  34.0713,2,    185.8,2,    32.30,2,    22.10,2,     0.00,2,     1.59,2, -999.000,9, -999.000,9,   -999.0,9,  -999.00,9,  -999.00,9,   2138.0,2,   2288.5,2,  8.1148
    18DD9403_1,  P15N,   038,  3,    746,     17,2,19940928,1743, 37.0012,-164.9912, -999,    596.3,   5.4048,  33.9987,2,  33.9995,2,    117.3,2,    67.20,2,    33.30,2,     0.00,2,     2.42,2, -999.000,9, -999.000,9,   -999.0,9,  -999.00,9,  -999.00,9,   2228.8,2,   2303.3,2,  5.3555
    18DD9403_1,  P15N,   038,  3,    747,     16,2,19940928,1743, 37.0012,-164.9912, -999,    805.7,   4.1213,  34.1599,2,  34.1558,2,     50.0,2,   102.30,2,    40.90,2,     0.00,2,     2.92,2, -999.000,9, -999.000,9,   -999.0,9,  -999.00,9,  -999.00,9,   2309.6,2,   2339.5,2,  4.0612
    18DD9403_1,  P15N,   038,  3,    748,     15,2,19940928,1743, 37.0012,-164.9912, -999,   1002.2,   3.3601,  34.2921,2,  34.3054,2,     22.3,2,   127.60,2,    43.80,2,     0.00,2,     3.23,2, -999.000,9, -999.000,9,   -999.0,9,  -999.00,9,  -999.00,9,   2356.3,2,   2366.0,2,  3.2895
    18DD9403_1,  P15N,   038,  3,    749,     14,2,19940928,1743, 37.0012,-164.9912, -999,   1247.1,   2.8152,  34.3971,2,  34.4115,2,     12.5,2,   146.90,2,    44.90,2,     0.00,2,     3.20,2, -999.000,9, -999.000,9,   -999.0,9,  -999.00,9,  -999.00,9,   2380.4,2,   2393.1,2,  2.7301
    18DD9403_1,  P15N,   038,  3,    750,     13,2,19940928,1743, 37.0012,-164.9912, -999,   1500.3,   2.4669,  34.4857,2,  34.4892,2,     16.3,2,   158.90,2,    45.40,2,     0.00,2,     3.16,2, -999.000,9, -999.000,9,   -999.0,9,  -999.00,9,  -999.00,9,   2392.6,2,   2406.8,2,  2.3654
    18DD9403_1,  P15N,   038,  3,    751,     12,2,19940928,1743, 37.0012,-164.9912, -999,   1752.0,   2.1774,  34.5496,2,  34.5464,2,     30.5,2,   167.30,2,    44.50,2,     0.00,2,     3.24,4, -999.000,9, -999.000,9,   -999.0,9,  -999.00,9,  -999.00,9,   2398.7,2,   2424.2,2,  2.0591
    18DD9403_1,  P15N,   038,  3,    752,     11,2,19940928,1743, 37.0012,-164.9912, -999,   2000.4,   1.9318,  34.5926,2,  34.5932,2,     53.6,2,   170.50,2,    43.30,2,     0.00,2,     3.01,2, -999.000,9, -999.000,9,   -999.0,9,  -999.00,9,  -999.00,9,   2386.6,2,   2422.5,2,  1.7966
    18DD9403_1,  P15N,   038,  3,    753,     10,2,19940928,1743, 37.0012,-164.9912, -999,   2249.9,   1.7877,  34.6190,2,  34.6193,2,     74.3,2,   170.50,2,    41.80,2,     0.00,2,     2.97,2, -999.000,9, -999.000,9,   -999.0,9,  -999.00,9,  -999.00,9,   2374.1,2,   2434.7,2,  1.6335
    18DD9403_1,  P15N,   038,  3,    754,      9,2,19940928,1743, 37.0012,-164.9912, -999,   2499.9,   1.6632,  34.6384,2,  34.6388,2,     94.2,2,   167.80,2,    40.60,2,     0.00,2,     3.48,4, -999.000,9, -999.000,9,   -999.0,9,  -999.00,9,  -999.00,9,   2361.3,2,   2428.8,2,  1.4892
    18DD9403_1,  P15N,   038,  3,    755,      8,2,19940928,1743, 37.0012,-164.9912, -999,   3005.6,   1.5257,  34.6624,2,  34.6626,2,    122.9,2,   161.70,2,    38.70,2,     0.00,2,     2.70,2, -999.000,9, -999.000,9,   -999.0,9,  -999.00,9,  -999.00,9,   2341.6,2,   2429.4,2,  1.3079
    18DD9403_1,  P15N,   038,  3,    756,      7,2,19940928,1743, 37.0012,-164.9912, -999,   3500.8,   1.4789,  34.6741,2,  34.6745,2,    136.7,2,   158.50,2,    37.90,2,     0.00,2,     2.61,2, -999.000,9, -999.000,9,   -999.0,9,  -999.00,9,  -999.00,9,   2338.5,2,   -999.0,9,  1.2133
    18DD9403_1,  P15N,   038,  3,    757,      6,2,19940928,1743, 37.0012,-164.9912, -999,   3999.1,   1.4685,  34.6808,2,  34.6817,2,    146.7,2,   156.70,2,    37.40,2,     0.00,2,     2.61,2, -999.000,9, -999.000,9,   -999.0,9,  -999.00,9,  -999.00,9,   2329.1,2,   -999.0,9,  1.1506
    18DD9403_1,  P15N,   038,  3,    758,      5,2,19940928,1743, 37.0012,-164.9912, -999,   4500.4,   1.4927,  34.6847,2,  34.6852,2,    152.8,2,   157.60,2,    37.00,2,     0.00,2,     2.56,2, -999.000,9, -999.000,9,   -999.0,9,  -999.00,9,  -999.00,9,   2328.4,2,   2441.1,2,  1.1179
    18DD9403_1,  P15N,   038,  3,    759,      4,2,19940928,1743, 37.0012,-164.9912, -999,   4995.1,   1.5475,  34.6858,2,  34.6859,2,    150.2,2,   158.60,2,    36.50,2,     0.00,2,     2.56,2, -999.000,9, -999.000,9,   -999.0,9,  -999.00,9,  -999.00,9,   2327.1,2,   2436.6,2,  1.1123
    18DD9403_1,  P15N,   038,  3,    760,      3,2,19940928,1743, 37.0012,-164.9912, -999,   5500.3,   1.6042,  34.6864,2,  34.6863,2,    151.7,2,   156.10,2,    36.60,2,     0.00,2,     2.56,2, -999.000,9, -999.000,9,   -999.0,9,  -999.00,9,  -999.00,9,   2325.3,2,   2437.0,2,  1.1038
    18DD9403_1,  P15N,   038,  3,    761,      2,2,19940928,1743, 37.0012,-164.9912, -999,   5746.1,   1.6350,  34.6867,2,  34.6876,2,    152.7,2,   155.40,2,    36.40,2,     0.00,2,     2.58,2, -999.000,9, -999.000,9,   -999.0,9,  -999.00,9,  -999.00,9,   2323.6,2,   2434.4,2,  1.1016
    18DD9403_1,  P15N,   038,  3,    762,      1,2,19940928,1743, 37.0012,-164.9912, -999,   6034.5,   1.6609,  34.6878,2,  34.6887,2,    155.4,2,   151.70,2,    36.20,2,     0.00,2,     2.55,2, -999.000,9, -999.000,9,   -999.0,9,  -999.00,9,  -999.00,9,   2321.4,2,   2432.4,2,  1.0881
    18DD9403_1,  P15N,   039,  2,    763,    S11,2,19940928,2333, 36.5047,-165.0062, -999,      5.0,  22.1547,  34.3214,2,  34.3236,2,    233.9,2,     4.90,2,     0.00,2,     0.00,2,     0.17,2, -999.000,9, -999.000,9,   -999.0,9,  -999.00,9,  -999.00,9,   -999.0,9,   -999.0,9, 22.1537
    18DD9403_1,  P15N,   039,  2,    764,    S10,2,19940928,2333, 36.5047,-165.0062, -999,      7.0,  22.1517,  34.3208,2,  34.3229,2,    235.0,2,     4.70,2,     0.00,2,     0.00,2,     0.14,2, -999.000,9, -999.000,9,   -999.0,9,  -999.00,9,  -999.00,9,   -999.0,9,   -999.0,9, 22.1503
    18DD9403_1,  P15N,   039,  2,    765,     S9,2,19940928,2333, 36.5047,-165.0062, -999,     47.2,  15.6632,  34.3019,2,  34.3157,2,    311.8,2,     5.20,2,     0.00,2,     0.00,2,     0.15,2, -999.000,9, -999.000,9,   -999.0,9,  -999.00,9,  -999.00,9,   -999.0,9,   -999.0,9, 15.6559
    18DD9403_1,  P15N,   039,  2,    766,     S8,2,19940928,2333, 36.5047,-165.0062, -999,     96.1,  12.7549,  34.3214,2,  34.3053,2,    249.0,2,     8.10,2,     5.60,2,     0.33,2,     0.62,2, -999.000,9, -999.000,9,   -999.0,9,  -999.00,9,  -999.00,9,   -999.0,9,   -999.0,9, 12.7420
    18DD9403_1,  P15N,   039,  2,    767,     S7,2,19940928,2333, 36.5047,-165.0062, -999,    147.0,  12.0401,  34.3032,2,  34.2930,2,    241.2,2,    10.20,2,     8.50,2,     0.01,2,     0.73,2, -999.000,9, -999.000,9,   -999.0,9,  -999.00,9,  -999.00,9,   -999.0,9,   -999.0,9, 12.0211
    18DD9403_1,  P15N,   039,  2,    768,     S6,2,19940928,2333, 36.5047,-165.0062, -999,    195.8,  11.3593,  34.2417,2,  34.2423,2,    248.8,2,    11.50,2,     8.70,2,     0.00,2,     0.74,2, -999.000,9, -999.000,9,   -999.0,9,  -999.00,9,  -999.00,9,   -999.0,9,   -999.0,9, 11.3349
    18DD9403_1,  P15N,   039,  2,    769,     S5,2,19940928,2333, 36.5047,-165.0062, -999,    245.2,  10.8924,  34.2101,2,  34.2277,2,    238.8,2,    13.80,2,    11.50,2,     0.00,2,     0.93,2, -999.000,9, -999.000,9,   -999.0,9,  -999.00,9,  -999.00,9,   -999.0,9,   -999.0,9, 10.8626
    18DD9403_1,  P15N,   039,  2,    770,     S4,2,19940928,2333, 36.5047,-165.0062, -999,    296.9,  10.2545,  34.1841,2,  34.1907,2,    229.6,2,    17.00,2,    13.70,2,     0.00,2,     1.09,2, -999.000,9, -999.000,9,   -999.0,9,  -999.00,9,  -999.00,9,   -999.0,9,   -999.0,9, 10.2197
    18DD9403_1,  P15N,   039,  2,    771,     S3,2,19940928,2333, 36.5047,-165.0062, -999,    395.3,   8.7969,  34.0999,2,  34.1905,2,    229.7,2,    16.70,2,    13.70,2,     0.00,2,     1.08,2, -999.000,9, -999.000,9,   -999.0,9,  -999.00,9,  -999.00,9,   -999.0,9,   -999.0,9,  8.7545
    18DD9403_1,  P15N,   039,  2,    772,     S2,2,19940928,2333, 36.5047,-165.0062, -999,    496.6,   7.0223,  34.0077,2,  34.0123,2,    170.0,2,    41.90,2,    25.40,2,     0.00,2,     1.88,2, -999.000,9, -999.000,9,   -999.0,9,  -999.00,9,  -999.00,9,   -999.0,9,   -999.0,9,  6.9754
    18DD9403_1,  P15N,   039,  2,    773,     S1,2,19940928,2333, 36.5047,-165.0062, -999,    592.0,   5.6846,  33.9908,2,  33.9875,2,    130.4,2,    61.00,2,    31.30,2,     0.00,2,     2.33,2, -999.000,9, -999.000,9,   -999.0,9,  -999.00,9,  -999.00,9,   -999.0,9,   -999.0,9,  5.6344