BOTTLE,20130510IOSDFOJC
EXPOCODE,SECT_ID,STNNBR,CASTNO,SAMPNO,BTLNBR,BTLNBR_FLAG_W,DATE,TIME,LATITUDE,LONGITUDE,DEPTH,CTDPRS,CTDTMP,CTDSAL,CTDSAL_FLAG_W,SALNTY,SALNTY_FLAG_W,OXYGEN,OXYGEN_FLAG_W,SILCAT,SILCAT_FLAG_W,NITRAT,NITRAT_FLAG_W,NITRIT,NITRIT_FLAG_W,PHSPHT,PHSPHT_FLAG_W,CFC-11,CFC-11_FLAG_W,CFC-12,CFC-12_FLAG_W,DELC14,DELC14_FLAG_W,DELC13,DELC13_FLAG_W,O18O16,O18O16_FLAG_W,TCARBN,TCARBN_FLAG_W,ALKALI,ALKALI_FLAG_W,THETA
,,,,,,,,,,,,DBAR,ITS-90,PSS-78,,PSS-78,,UMOL/KG,,UMOL/KG,,UMOL/KG,,UMOL/KG,,UMOL/KG,,PMOL/KG,,PMOL/KG,,/MILLE,,/MILLE,,/MILLE,,UMOL/KG,,UMOL/KG,,DEG C
    18DD9403_1,  P15N,   055,  3,   1219,    S11,2,19941004,0223, 28.5115,-165.0720, -999,      6.4,  26.2947,  35.4101,2,  35.4274,2,    211.8,3,     3.20,2,     0.40,2,     0.00,2,     0.07,2,    2.629,3,    1.223,3,   -999.0,9,  -999.00,9,  -999.00,9,   -999.0,9,   -999.0,9, 26.2933
    18DD9403_1,  P15N,   055,  3,   1220,    S10,2,19941004,0223, 28.5115,-165.0720, -999,     47.7,  21.3719,  35.0636,2,  35.0748,2,    247.0,3,     4.30,2,     0.20,2,     0.00,2,     0.20,2,    5.644,3,    1.292,3,   -999.0,9,  -999.00,9,  -999.00,9,   -999.0,9,   -999.0,9, 21.3627
    18DD9403_1,  P15N,   055,  3,   1221,     S9,2,19941004,0223, 28.5115,-165.0720, -999,     95.5,  17.5758,  34.8100,2,  35.0748,2,    248.0,3,     4.30,2,     0.20,2,     0.00,2,     0.00,2,    5.557,3,    1.334,3,   -999.0,9,  -999.00,9,  -999.00,9,   -999.0,9,   -999.0,9, 17.5597
    18DD9403_1,  P15N,   055,  3,   1222,     S8,2,19941004,0223, 28.5115,-165.0720, -999,    148.7,  15.8812,  34.6687,2,  34.8651,2,    239.8,2,     4.90,2,     0.40,2,     0.00,2,     0.01,2,    3.176,3,    1.465,3,   -999.0,9,  -999.00,9,  -999.00,9,   -999.0,9,   -999.0,9, 15.8578
    18DD9403_1,  P15N,   055,  3,   1223,     S7,2,19941004,0223, 28.5115,-165.0720, -999,    195.9,  14.7355,  34.5463,2,  34.5687,2,    216.3,2,     8.20,2,     6.50,2,     0.00,2,     0.51,2,    2.707,3,    1.388,3,   -999.0,9,  -999.00,9,  -999.00,9,   -999.0,9,   -999.0,9, 14.7063
    18DD9403_1,  P15N,   055,  3,   1224,     S6,2,19941004,0223, 28.5115,-165.0720, -999,    297.8,  12.5550,  34.3421,2,  34.3700,2,    214.6,3,    12.40,2,    10.20,2,     0.00,2,     0.63,2,    2.851,3,    1.542,3,   -999.0,9,  -999.00,9,  -999.00,9,   -999.0,9,   -999.0,9, 12.5151
    18DD9403_1,  P15N,   055,  3,   1225,     S5,2,19941004,0223, 28.5115,-165.0720, -999,    398.4,  10.3685,  34.1821,2,  34.2010,2,    215.2,2,    19.00,2,    14.80,2,     0.00,2,     0.03,4,    3.361,3,    1.629,3,   -999.0,9,  -999.00,9,  -999.00,9,   -999.0,9,   -999.0,9, 10.3212
    18DD9403_1,  P15N,   055,  3,   1227,     S3,2,19941004,0223, 28.5115,-165.0720, -999,    598.5,   6.6644,  34.0304,2,  34.0246,2,    142.4,2,    50.90,2,    28.70,2,     0.00,2,     1.91,2,    1.581,3,    0.800,3,   -999.0,9,  -999.00,9,  -999.00,9,   -999.0,9,   -999.0,9,  6.6091
    18DD9403_1,  P15N,   055,  3,   1226,     S4,2,19941004,0223, 28.5115,-165.0720, -999,    599.6,   6.6314,  34.0288,2,  34.0250,2,    141.0,2,    51.30,2,    28.60,2,     0.00,2,     2.12,2,    1.421,3,    0.800,3,   -999.0,9,  -999.00,9,  -999.00,9,   -999.0,9,   -999.0,9,  6.5762
    18DD9403_1,  P15N,   055,  3,   1228,     S2,2,19941004,0223, 28.5115,-165.0720, -999,    794.4,   4.5119,  34.1768,2,  34.1738,2,     42.4,2,    96.00,2,    40.90,2,     0.00,2,     2.84,2,    0.149,3,    0.426,3,   -999.0,9,  -999.00,9,  -999.00,9,   -999.0,9,   -999.0,9,  4.4503
    18DD9403_1,  P15N,   055,  3,   1229,     S1,2,19941004,0223, 28.5115,-165.0720, -999,    998.2,   3.8121,  34.3675,2,  34.3584,2,     30.4,2,   116.70,2,    42.80,2,     0.00,2,     2.95,2,    0.005,3,    0.000,3,   -999.0,9,  -999.00,9,  -999.00,9,   -999.0,9,   -999.0,9,  3.7383
    18DD9403_1,  P15N,   055,  5,   1230,     23,2,19941004,0456, 28.5092,-164.9890, -999,    599.3,   6.3729,  34.0275,2,  34.0268,2,    129.4,2,    53.00,2,    29.90,2,     0.00,2,     2.03,2,    1.233,3,    0.625,3,   -999.0,9,  -999.00,9,  -999.00,9,   -999.0,9,   -999.0,9,  6.3189
    18DD9403_1,  P15N,   055,  5,   1231,     22,2,19941004,0456, 28.5092,-164.9890, -999,    800.7,   4.3562,  34.1778,2,  34.1859,2,     39.2,2,    97.30,2,    41.10,2,     0.00,2,     2.85,2,    0.113,3,    0.372,3,   -999.0,9,  -999.00,9,  -999.00,9,   -999.0,9,   -999.0,9,  4.2950
    18DD9403_1,  P15N,   055,  5,   1232,     21,2,19941004,0456, 28.5092,-164.9890, -999,   1002.7,   3.7959,  34.3675,2,  34.3660,2,     30.5,2,   113.20,2,    42.80,2,     0.00,2,     2.99,2,    0.009,3,    0.214,3,   -999.0,9,  -999.00,9,  -999.00,9,   -999.0,9,   -999.0,9,  3.7218
    18DD9403_1,  P15N,   055,  5,   1233,     20,2,19941004,0456, 28.5092,-164.9890, -999,   1251.4,   3.2002,  34.4917,2,  34.4917,2,     48.3,3,   126.20,2,    42.30,2,     0.00,2,     2.90,2,    0.000,3,    0.086,3,   -999.0,9,  -999.00,9,  -999.00,9,   -999.0,9,   -999.0,9,  3.1110
    18DD9403_1,  P15N,   055,  5,   1234,     19,2,19941004,0456, 28.5092,-164.9890, -999,   1499.0,   2.7229,  34.5488,2,  34.5466,2,     61.6,2,   137.70,2,    41.40,2,     0.00,2,     2.88,2,    0.005,3,    0.000,3,   -999.0,9,  -999.00,9,  -999.00,9,   -999.0,9,   -999.0,9,  2.6185
    18DD9403_1,  P15N,   055,  5,   1235,     18,2,19941004,0456, 28.5092,-164.9890, -999,   1751.4,   2.3056,  34.5827,2,  34.5814,2,     72.5,3,   148.60,2,    41.40,2,     0.00,2,     2.78,2, -999.000,9, -999.000,9,   -999.0,9,  -999.00,9,  -999.00,9,   -999.0,9,   -999.0,9,  2.1857
    18DD9403_1,  P15N,   055,  5,   1236,     17,2,19941004,0456, 28.5092,-164.9890, -999,   2001.1,   2.0068,  34.6083,2,  34.6072,2,     79.0,2,   154.30,2,    40.50,2,     0.00,2,     2.70,2, -999.000,9, -999.000,9,   -999.0,9,  -999.00,9,  -999.00,9,   -999.0,9,   -999.0,9,  1.8703
    18DD9403_1,  P15N,   055,  5,   1237,     16,2,19941004,0456, 28.5092,-164.9890, -999,   2256.8,   1.8223,  34.6288,2,  34.6274,2,     91.5,3,   159.50,2,    40.20,2,     0.00,2,     2.65,2, -999.000,9, -999.000,9,   -999.0,9,  -999.00,9,  -999.00,9,   -999.0,9,   -999.0,9,  1.6668
    18DD9403_1,  P15N,   055,  5,   1238,     15,2,19941004,0456, 28.5092,-164.9890, -999,   2501.4,   1.6981,  34.6432,2,  34.6420,2,    103.4,3,   157.90,2,    39.10,2,     0.00,2,     2.58,2, -999.000,9, -999.000,9,   -999.0,9,  -999.00,9,  -999.00,9,   -999.0,9,   -999.0,9,  1.5233
    18DD9403_1,  P15N,   055,  5,   1239,     14,2,19941004,0456, 28.5092,-164.9890, -999,   2751.1,   1.6071,  34.6549,2,  34.6540,2,    114.3,2,   157.90,2,    38.70,2,     0.00,2,     2.57,2, -999.000,9, -999.000,9,   -999.0,9,  -999.00,9,  -999.00,9,   -999.0,9,   -999.0,9,  1.4115
    18DD9403_1,  P15N,   055,  5,   1240,     13,2,19941004,0456, 28.5092,-164.9890, -999,   3000.1,   1.5430,  34.6647,2,  34.6640,2,    125.9,2,   155.20,2,    37.70,2,     0.00,2,     2.57,2, -999.000,9, -999.000,9,   -999.0,9,  -999.00,9,  -999.00,9,   -999.0,9,   -999.0,9,  1.3254
    18DD9403_1,  P15N,   055,  5,   1241,     12,2,19941004,0456, 28.5092,-164.9890, -999,   3247.9,   1.4983,  34.6714,2,  34.6704,2,    133.9,3,   153.60,2,    37.00,2,     0.00,2,     2.50,2, -999.000,9, -999.000,9,   -999.0,9,  -999.00,9,  -999.00,9,   -999.0,9,   -999.0,9,  1.2576
    18DD9403_1,  P15N,   055,  5,   1242,     11,2,19941004,0456, 28.5092,-164.9890, -999,   3499.6,   1.4697,  34.6768,2,  34.6756,2,    133.3,2,   151.50,2,    36.50,2,     0.00,2,     2.84,4, -999.000,9, -999.000,9,   -999.0,9,  -999.00,9,  -999.00,9,   -999.0,9,   -999.0,9,  1.2044
    18DD9403_1,  P15N,   055,  5,   1243,     10,2,19941004,0456, 28.5092,-164.9890, -999,   3750.3,   1.4575,  34.6801,2,  34.6806,2,    144.5,3,   150.20,2,    36.30,2,     0.00,2,     2.35,2, -999.000,9, -999.000,9,   -999.0,9,  -999.00,9,  -999.00,9,   -999.0,9,   -999.0,9,  1.1665
    18DD9403_1,  P15N,   055,  5,   1244,      9,2,19941004,0456, 28.5092,-164.9890, -999,   3990.7,   1.4576,  34.6829,2,  34.6827,2,    149.1,2,   149.30,2,    35.80,2,     0.00,2,     2.33,2, -999.000,9, -999.000,9,   -999.0,9,  -999.00,9,  -999.00,9,   -999.0,9,   -999.0,9,  1.1408
    18DD9403_1,  P15N,   055,  5,   1245,      8,2,19941004,0456, 28.5092,-164.9890, -999,   4249.0,   1.4658,  34.6847,2,  34.6852,2,    152.3,2,   149.50,2,    35.80,2,     0.00,2,     2.32,2, -999.000,9, -999.000,9,   -999.0,9,  -999.00,9,  -999.00,9,   -999.0,9,   -999.0,9,  1.1204
    18DD9403_1,  P15N,   055,  5,   1246,      7,2,19941004,0456, 28.5092,-164.9890, -999,   4501.3,   1.4770,  34.6866,2,  34.6871,2,    154.2,2,   147.70,2,    35.50,2,     0.00,2,     2.37,2, -999.000,9, -999.000,9,   -999.0,9,  -999.00,9,  -999.00,9,   -999.0,9,   -999.0,9,  1.1026
    18DD9403_1,  P15N,   055,  5,   1247,      6,2,19941004,0456, 28.5092,-164.9890, -999,   4503.1,   1.4771,  34.6863,2,  34.6866,2,    155.6,3,   147.90,2,    35.70,2,     0.00,2,     2.31,2, -999.000,9, -999.000,9,   -999.0,9,  -999.00,9,  -999.00,9,   -999.0,9,   -999.0,9,  1.1025
    18DD9403_1,  P15N,   055,  5,   1248,      5,2,19941004,0456, 28.5092,-164.9890, -999,   4750.1,   1.4921,  34.6880,2,  34.6882,2,    156.4,2,   146.30,2,    35.40,2,     0.00,2,     2.32,2, -999.000,9, -999.000,9,   -999.0,9,  -999.00,9,  -999.00,9,   -999.0,9,   -999.0,9,  1.0881
    18DD9403_1,  P15N,   055,  5,   1249,      4,2,19941004,0456, 28.5092,-164.9890, -999,   4995.8,   1.5054,  34.6896,2,  34.6891,2,    159.7,2,   142.20,2,    35.00,2,     0.00,2,     2.29,2, -999.000,9, -999.000,9,   -999.0,9,  -999.00,9,  -999.00,9,   -999.0,9,   -999.0,9,  1.0715
    18DD9403_1,  P15N,   055,  5,   1250,      3,2,19941004,0456, 28.5092,-164.9890, -999,   5249.5,   1.5230,  34.6902,2,  34.6908,2,    162.4,2,   140.40,2,    35.10,2,     0.00,2,     2.27,2, -999.000,9, -999.000,9,   -999.0,9,  -999.00,9,  -999.00,9,   -999.0,9,   -999.0,9,  1.0572
    18DD9403_1,  P15N,   055,  5,   1251,      2,2,19941004,0456, 28.5092,-164.9890, -999,   5397.6,   1.5391,  34.6911,2,  34.6908,2,    163.5,2,   139.10,2,    34.80,2,     0.00,2,     2.31,2, -999.000,9, -999.000,9,   -999.0,9,  -999.00,9,  -999.00,9,   -999.0,9,   -999.0,9,  1.0541
    18DD9403_1,  P15N,   055,  5,   1252,      1,2,19941004,0456, 28.5092,-164.9890, -999,   5428.4,   1.5423,  34.6913,2,  34.6899,2,    164.2,3,   141.30,2,    35.10,2,     0.00,2,     2.31,2,    0.004,3,    0.289,3,   -999.0,9,  -999.00,9,  -999.00,9,   -999.0,9,   -999.0,9,  1.0533
    18DD9403_1,  P15N,   056,  1,   1253,      9,2,19941004,1112, 28.0077,-164.9908, 5090,     55.7,  21.8190,  35.1623,2,  35.1420,2,    243.8,3,     2.40,2,     0.00,2,     0.00,2,     0.05,2,    5.837,3,    1.180,3,   -999.0,9,  -999.00,9,  -999.00,9,   1989.9,2,   2307.2,2, 21.8081
    18DD9403_1,  P15N,   056,  1,   1254,      8,2,19941004,1112, 28.0077,-164.9908, 5090,    104.5,  17.2191,  34.8349,2,  34.8348,2,    228.0,3,     3.70,2,     0.50,2,     0.10,2,     0.16,2,    3.226,3,    1.415,3,   -999.0,9,  -999.00,9,  -999.00,9,   2013.7,2,   2290.5,2, 17.2018
    18DD9403_1,  P15N,   056,  1,   1255,      7,2,19941004,1112, 28.0077,-164.9908, 5090,    210.0,  14.4312,  34.5459,2,  34.5544,2,    211.1,2,     7.50,2,     7.10,2,     0.00,2,     0.65,2,    2.779,3,    1.359,3,   -999.0,9,  -999.00,9,  -999.00,9,   2046.1,2,   2278.8,2, 14.4003
    18DD9403_1,  P15N,   056,  1,   1256,      6,2,19941004,1112, 28.0077,-164.9908, 5090,    313.9,  11.9262,  34.3295,2,  34.3316,2,    218.8,2,    12.70,2,    11.40,2,     0.00,2,     1.21,2,    2.741,3,    1.337,3,   -999.0,9,  -999.00,9,  -999.00,9,   2072.2,2,   2275.0,2, 11.8855
    18DD9403_1,  P15N,   056,  1,   1257,      5,2,19941004,1112, 28.0077,-164.9908, 5090,    417.7,   9.7887,  34.1879,2,  34.1923,2,    217.9,2,    21.60,2,    16.60,2,     0.00,2,     1.20,2,    3.026,3,    1.236,3,   -999.0,9,  -999.00,9,  -999.00,9,   2108.5,2,   2274.0,2,  9.7408
    18DD9403_1,  P15N,   056,  1,   1258,      4,2,19941004,1112, 28.0077,-164.9908, 5090,    502.0,   8.0459,  34.0760,2,  34.0764,2,    165.1,2,    35.40,2,    23.40,2,     0.00,2,     1.72,2,    1.781,3,    0.780,3,   -999.0,9,  -999.00,9,  -999.00,9,   2157.7,2,   2277.4,2,  7.9946
    18DD9403_1,  P15N,   056,  1,   1259,      3,2,19941004,1112, 28.0077,-164.9908, 5090,    620.2,   5.9072,  34.0570,2,  34.0600,2,     96.5,2,    62.20,2,    33.60,2,     0.00,2,     2.46,2,    0.686,3,    0.345,3,   -999.0,9,  -999.00,9,  -999.00,9,   2239.6,2,   2293.1,2,  5.8534
    18DD9403_1,  P15N,   056,  1,   1260,      2,2,19941004,1112, 28.0077,-164.9908, 5090,    794.0,   4.6173,  34.0570,2,  34.2052,2,     41.2,2,    91.90,2,    40.50,2,     0.00,2,     3.02,2,    0.113,3,    0.137,3,   -999.0,9,  -999.00,9,  -999.00,9,   2309.8,2,   2335.2,2,  4.5550
    18DD9403_1,  P15N,   056,  1,   1261,      1,2,19941004,1112, 28.0077,-164.9908, 5090,    954.1,   3.9558,  34.0570,2,  34.3340,2,     33.9,2,   109.00,2,    42.40,2,     0.00,2,     3.14,2, -999.000,9, -999.000,9,   -999.0,9,  -999.00,9,  -999.00,9,   2339.6,2,   2362.0,2,  3.8845
    18DD9403_1,  P15N,   058,  3,   1262,     23,2,19941004,2218, 27.0167,-164.9832, -999,      9.5,  26.5195,  35.2181,2,  35.2107,2,    207.0,2,     1.30,2,     0.00,2,     0.00,2,     0.03,2,    1.684,3,    1.127,3,   -999.0,9,  -999.00,9,  -999.00,9,   1972.4,2,   2313.7,2, 26.5173
    18DD9403_1,  P15N,   058,  3,   1263,     22,2,19941004,2218, 27.0167,-164.9832, -999,     50.5,  24.6018,  35.2772,2,  35.2895,2,    222.7,2,     1.70,2,     0.00,2,     0.00,2,     0.05,2,    1.179,3,    1.141,3,   -999.0,9,  -999.00,9,  -999.00,9,   1982.3,2,   2325.7,2, 24.5910
    18DD9403_1,  P15N,   058,  3,   1264,     21,2,19941004,2218, 27.0167,-164.9832, -999,    100.9,  20.3596,  35.2126,2,  35.1818,2,    225.0,2,     2.20,2,     0.00,2,     0.00,2,     0.09,2,    3.539,3,    1.296,3,   -999.0,9,  -999.00,9,  -999.00,9,   2008.8,2,   2317.0,2, 20.3407
    18DD9403_1,  P15N,   058,  3,   1265,     20,2,19941004,2218, 27.0167,-164.9832, -999,    198.6,  16.0888,  34.7474,2,  34.7053,2,    219.1,2,     5.00,2,     4.00,2,     0.00,2,     0.42,2,    2.922,3,    1.816,3,   -999.0,9,  -999.00,9,  -999.00,9,   2025.9,2,   2286.0,2, 16.0573
    18DD9403_1,  P15N,   058,  3,   1266,     19,2,19941004,2218, 27.0167,-164.9832, -999,    306.0,  13.1294,  34.4167,2,  34.4373,2,    228.6,2,    10.10,2,     9.20,2,     0.00,2,     0.68,2,    3.057,3,    1.671,3,   -999.0,9,  -999.00,9,  -999.00,9,   2060.5,2,   2273.6,2, 13.0872
    18DD9403_1,  P15N,   058,  3,   1267,     18,2,19941004,2218, 27.0167,-164.9832, -999,    417.1,  10.8010,  34.2176,2,  34.2378,2,    205.6,2,    16.90,2,    14.10,2,     0.00,2,     1.07,2,    2.615,3,    1.370,3,   -999.0,9,  -999.00,9,  -999.00,9,   2089.7,2,   2270.6,2, 10.7501
    18DD9403_1,  P15N,   058,  3,   1268,     17,2,19941004,2218, 27.0167,-164.9832, -999,    602.9,   6.7217,  34.0456,2,  34.0387,2,    132.8,2,    50.10,2,    29.00,2,     0.00,2,     2.08,2,    1.239,3,    0.700,3,   -999.0,9,  -999.00,9,  -999.00,9,   2202.6,2,   2293.6,2,  6.6657
    18DD9403_1,  P15N,   058,  3,   1269,     16,2,19941004,2218, 27.0167,-164.9832, -999,    802.6,   4.6858,  34.1924,2,  34.1666,2,     45.1,2,    89.90,2,    40.30,2,     0.00,2,     2.96,2,    0.150,3,    0.175,3,   -999.0,9,  -999.00,9,  -999.00,9,   2249.0,2,   -999.0,9,  4.6224
    18DD9403_1,  P15N,   058,  3,   1270,     15,2,19941004,2218, 27.0167,-164.9832, -999,    999.7,   3.8427,  34.3586,2,  34.3636,2,     30.8,2,   113.10,2,    42.90,2,     0.00,2,     3.14,2,    0.030,3,    0.013,3,   -999.0,9,  -999.00,9,  -999.00,9,   2305.4,2,   2374.6,2,  3.7685
    18DD9403_1,  P15N,   058,  3,   1271,     14,2,19941004,2218, 27.0167,-164.9832, -999,   1251.8,   3.2609,  34.4952,2,  34.4941,2,     48.8,2,   125.80,2,    42.20,2,     0.00,2,     3.08,2,    0.018,3,    0.000,3,   -999.0,9,  -999.00,9,  -999.00,9,   2352.9,2,   2388.3,2,  3.1709
    18DD9403_1,  P15N,   058,  3,   1272,     13,2,19941004,2218, 27.0167,-164.9832, -999,   1500.2,   2.7841,  34.5463,2,  34.5474,2,     63.8,2,   136.50,2,    41.70,2,     0.00,2,     3.04,2,    0.005,3,    0.277,3,   -999.0,9,  -999.00,9,  -999.00,9,   2355.6,2,   2407.5,2,  2.6789
    18DD9403_1,  P15N,   058,  3,   1273,     12,2,19941004,2218, 27.0167,-164.9832, -999,   1751.3,   2.3438,  34.5854,2,  34.5805,2,     74.0,2,   147.20,2,    41.10,2,     0.00,2,     2.94,2, -999.000,9, -999.000,9,   -999.0,9,  -999.00,9,  -999.00,9,   2359.9,2,   2431.3,2,  2.2234
    18DD9403_1,  P15N,   058,  3,   1274,     11,2,19941004,2218, 27.0167,-164.9832, -999,   1999.2,   2.0698,  34.6121,2,  34.6090,2,     88.1,2,   151.60,2,    40.50,2,     0.00,2,     2.89,2, -999.000,9, -999.000,9,   -999.0,9,  -999.00,9,  -999.00,9,   2358.0,2,   2423.9,2,  1.9324
    18DD9403_1,  P15N,   058,  3,   1275,     10,2,19941004,2218, 27.0167,-164.9832, -999,   2252.6,   1.8413,  34.6286,2,  34.6281,2,     97.9,2,   155.50,2,    39.60,2,     0.00,2,     2.83,2, -999.000,9, -999.000,9,   -999.0,9,  -999.00,9,  -999.00,9,   2353.5,2,   2404.9,4,  1.6859
    18DD9403_1,  P15N,   058,  3,   1276,      9,2,19941004,2218, 27.0167,-164.9832, -999,   2499.4,   1.7207,  34.6434,2,  34.6420,2,    109.4,2,   156.20,2,    39.10,2,     0.00,2,     2.78,2, -999.000,9, -999.000,9,   -999.0,9,  -999.00,9,  -999.00,9,   2348.2,2,   2430.0,2,  1.5457
    18DD9403_1,  P15N,   058,  3,   1277,      8,2,19941004,2218, 27.0167,-164.9832, -999,   2746.6,   1.6256,  34.6536,2,  34.6538,2,    117.4,2,   156.90,2,    38.40,2,     0.00,2,     2.82,2, -999.000,9, -999.000,9,   -999.0,9,  -999.00,9,  -999.00,9,   2344.8,2,   2435.6,2,  1.4300
    18DD9403_1,  P15N,   058,  3,   1278,      7,2,19941004,2218, 27.0167,-164.9832, -999,   2999.4,   1.5504,  34.6630,2,  34.6628,2,    124.9,2,   156.90,2,    38.10,2,     0.00,2,     2.71,2, -999.000,9, -999.000,9,   -999.0,9,  -999.00,9,  -999.00,9,   2342.6,2,   2430.2,2,  1.3327
    18DD9403_1,  P15N,   058,  3,   1279,      6,2,19941004,2218, 27.0167,-164.9832, -999,   3252.1,   1.5126,  34.6698,2,  34.6689,2,    131.9,2,   154.80,2,    37.40,2,     0.00,2,     2.63,2, -999.000,9, -999.000,9,   -999.0,9,  -999.00,9,  -999.00,9,   2338.8,2,   2429.8,2,  1.2712
    18DD9403_1,  P15N,   058,  3,   1280,      5,2,19941004,2218, 27.0167,-164.9832, -999,   3499.1,   1.4763,  34.6753,2,  34.6752,2,    140.1,2,   153.00,2,    37.10,2,     0.00,2,     2.61,2, -999.000,9, -999.000,9,   -999.0,9,  -999.00,9,  -999.00,9,   2332.0,2,   -999.0,9,  1.2109
    18DD9403_1,  P15N,   058,  3,   1281,      4,2,19941004,2218, 27.0167,-164.9832, -999,   3751.1,   1.4591,  34.6803,2,  34.6798,2,    145.3,2,   150.90,2,    36.70,2,     0.00,2,     2.57,2, -999.000,9, -999.000,9,   -999.0,9,  -999.00,9,  -999.00,9,   2329.0,2,   2434.0,2,  1.1680
    18DD9403_1,  P15N,   058,  3,   1282,      3,2,19941004,2218, 27.0167,-164.9832, -999,   3996.5,   1.4526,  34.6834,2,  34.6834,2,    149.9,4,   150.00,2,    36.30,2,     0.00,2,     2.55,2, -999.000,9, -999.000,9,   -999.0,9,  -999.00,9,  -999.00,9,   2325.4,2,   2428.5,2,  1.1353
    18DD9403_1,  P15N,   058,  3,   1283,      2,2,19941004,2218, 27.0167,-164.9832, -999,   4505.4,   1.4706,  34.6876,2,  34.6882,2,    155.2,3,   146.80,2,    35.90,2,     0.00,2,     2.52,2, -999.000,9, -999.000,9,   -999.0,9,  -999.00,9,  -999.00,9,   2320.3,2,   2428.8,2,  1.0959
    18DD9403_1,  P15N,   058,  3,   1284,      1,2,19941004,2218, 27.0167,-164.9832, -999,   4867.0,   1.4988,  34.6889,2,  34.6887,2,    157.1,2,   145.80,2,    35.80,2,     0.00,2,     2.50,2, -999.000,9, -999.000,9,   -999.0,9,  -999.00,9,  -999.00,9,   2316.1,2,   2429.6,2,  1.0807