BOTTLE,20130510IOSDFOJC
EXPOCODE,SECT_ID,STNNBR,CASTNO,SAMPNO,BTLNBR,BTLNBR_FLAG_W,DATE,TIME,LATITUDE,LONGITUDE,DEPTH,CTDPRS,CTDTMP,CTDSAL,CTDSAL_FLAG_W,SALNTY,SALNTY_FLAG_W,OXYGEN,OXYGEN_FLAG_W,SILCAT,SILCAT_FLAG_W,NITRAT,NITRAT_FLAG_W,NITRIT,NITRIT_FLAG_W,PHSPHT,PHSPHT_FLAG_W,CFC-11,CFC-11_FLAG_W,CFC-12,CFC-12_FLAG_W,DELC14,DELC14_FLAG_W,DELC13,DELC13_FLAG_W,O18O16,O18O16_FLAG_W,TCARBN,TCARBN_FLAG_W,ALKALI,ALKALI_FLAG_W,THETA
,,,,,,,,,,,,DBAR,ITS-90,PSS-78,,PSS-78,,UMOL/KG,,UMOL/KG,,UMOL/KG,,UMOL/KG,,UMOL/KG,,PMOL/KG,,PMOL/KG,,/MILLE,,/MILLE,,/MILLE,,UMOL/KG,,UMOL/KG,,DEG C
    18DD9403_1,  P15N,   035,  3,    672,     23,2,19940927,2208, 38.5042,-164.9783, -999,     10.0,  19.9185,  33.9977,2,  34.0043,2,    246.5,2,     2.70,2,     0.00,2,     0.05,2,     0.10,2,    2.254,3,    1.541,3,   -999.0,9,  -999.00,9,  -999.00,9,   -999.0,9,   -999.0,9, 19.9167
    18DD9403_1,  P15N,   035,  3,    673,     22,2,19940927,2208, 38.5042,-164.9783, -999,     50.3,  12.6676,  34.2473,2,  34.2519,2,    264.8,2,     9.60,2,     4.50,2,     0.90,2,     0.52,2,    3.247,3,    1.893,3,   -999.0,9,  -999.00,9,  -999.00,9,   -999.0,9,   -999.0,9, 12.6609
    18DD9403_1,  P15N,   035,  3,    674,     21,2,19940927,2208, 38.5042,-164.9783, -999,    101.4,  11.5172,  34.2215,2,  34.2215,2,    252.6,2,    11.20,2,     9.10,2,     0.00,2,     0.71,2,    3.640,3,    1.871,3,   -999.0,9,  -999.00,9,  -999.00,9,   -999.0,9,   -999.0,9, 11.5045
    18DD9403_1,  P15N,   035,  3,    675,     20,2,19940927,2208, 38.5042,-164.9783, -999,    202.3,  10.3443,  34.1680,2,  34.1400,2,    251.8,2,    14.40,2,    11.10,2,     0.00,2,     0.85,2,    3.848,3,    2.001,3,   -999.0,9,  -999.00,9,  -999.00,9,   -999.0,9,   -999.0,9, 10.3206
    18DD9403_1,  P15N,   035,  3,    676,     19,2,19940927,2208, 38.5042,-164.9783, -999,    299.4,   9.4376,  34.1180,2,  34.1202,2,    233.3,2,    20.80,2,    15.40,2,     0.00,2,     1.12,2,    3.588,3,    1.791,3,   -999.0,9,  -999.00,9,  -999.00,9,   -999.0,9,   -999.0,9,  9.4043
    18DD9403_1,  P15N,   035,  3,    677,     18,2,19940927,2208, 38.5042,-164.9783, -999,    402.4,   7.9701,  34.0453,2,  34.0456,2,    199.9,2,    33.90,2,    21.50,2,     0.00,2,     1.55,2,    2.742,3,    1.300,3,   -999.0,9,  -999.00,9,  -999.00,9,   -999.0,9,   -999.0,9,  7.9295
    18DD9403_1,  P15N,   035,  3,    678,     17,2,19940927,2208, 38.5042,-164.9783, -999,    601.9,   5.0552,  33.9980,2,  34.0040,2,    109.1,2,    72.90,2,    34.50,2,     0.00,2,     2.50,2,    1.208,3,    0.555,3,   -999.0,9,  -999.00,9,  -999.00,9,   -999.0,9,   -999.0,9,  5.0070
    18DD9403_1,  P15N,   035,  3,    679,     16,2,19940927,2208, 38.5042,-164.9783, -999,    801.2,   4.1500,  34.1623,2,  34.1464,2,     53.5,2,   101.20,2,    40.40,2,     0.00,2,     2.91,2,    0.303,3,    0.079,3,   -999.0,9,  -999.00,9,  -999.00,9,   -999.0,9,   -999.0,9,  4.0901
    18DD9403_1,  P15N,   035,  3,    680,     15,2,19940927,2208, 38.5042,-164.9783, -999,   1001.5,   3.4224,  34.2911,2,  34.2847,2,     28.1,2,   125.10,2,    43.10,2,     0.00,2,     3.05,2,    0.086,3,    0.000,3,   -999.0,9,  -999.00,9,  -999.00,9,   -999.0,9,   -999.0,9,  3.3514
    18DD9403_1,  P15N,   035,  3,    681,     14,2,19940927,2208, 38.5042,-164.9783, -999,   1255.6,   2.8522,  34.4058,2,  34.4029,2,     15.1,2,   145.20,2,    44.50,2,     0.00,2,     3.19,2,    0.015,3,    0.010,3,   -999.0,9,  -999.00,9,  -999.00,9,   -999.0,9,   -999.0,9,  2.7661
    18DD9403_1,  P15N,   035,  3,    683,     12,2,19940927,2208, 38.5042,-164.9783, -999,   1511.1,   2.4462,  34.4785,2,  34.4882,2,     17.0,2,   160.90,2,    44.90,2,     0.00,2,     3.17,2, -999.000,9, -999.000,9,   -999.0,9,  -999.00,9,  -999.00,9,   -999.0,9,   -999.0,9,  2.3441
    18DD9403_1,  P15N,   035,  3,    682,     13,2,19940927,2208, 38.5042,-164.9783, -999,   1513.7,   2.4437,  34.4799,2,  34.4883,2,     14.7,2,   159.90,2,    44.80,2,     0.00,2,     3.17,2,    0.015,3,    0.000,3,   -999.0,9,  -999.00,9,  -999.00,9,   -999.0,9,   -999.0,9,  2.3414
    18DD9403_1,  P15N,   035,  3,    684,     11,2,19940927,2208, 38.5042,-164.9783, -999,   1753.0,   2.1706,  34.5354,2,  34.5478,2,     31.7,2,   167.50,2,    44.20,2,     0.00,2,     3.10,2,    0.000,3,    0.000,3,   -999.0,9,  -999.00,9,  -999.00,9,   -999.0,9,   -999.0,9,  2.0523
    18DD9403_1,  P15N,   035,  3,    685,     10,2,19940927,2208, 38.5042,-164.9783, -999,   1999.3,   1.9544,  34.5823,2,  34.5907,2,     52.9,2,   171.10,2,    42.80,2,     0.00,2,     3.00,2,    0.000,3,    0.000,3,   -999.0,9,  -999.00,9,  -999.00,9,   -999.0,9,   -999.0,9,  1.8189
    18DD9403_1,  P15N,   035,  3,    686,      9,2,19940927,2208, 38.5042,-164.9783, -999,   2250.0,   1.8027,  34.6113,2,  34.6151,2,     70.1,2,   171.50,2,    41.70,2,     0.00,2,     2.92,2,    0.023,3,    0.000,3,   -999.0,9,  -999.00,9,  -999.00,9,   -999.0,9,   -999.0,9,  1.6482
    18DD9403_1,  P15N,   035,  3,    687,      8,2,19940927,2208, 38.5042,-164.9783, -999,   2501.7,   1.6862,  34.6321,2,  34.6338,2,     87.5,2,   170.80,2,    40.60,2,     0.00,2,     2.84,2, -999.000,9, -999.000,9,   -999.0,9,  -999.00,9,  -999.00,9,   -999.0,9,   -999.0,9,  1.5117
    18DD9403_1,  P15N,   035,  3,    688,      7,2,19940927,2208, 38.5042,-164.9783, -999,   2998.0,   1.5371,  34.6588,2,  34.6593,2,    116.9,2,   164.30,2,    38.70,2,     0.00,2,     2.70,2, -999.000,9, -999.000,9,   -999.0,9,  -999.00,9,  -999.00,9,   -999.0,9,   -999.0,9,  1.3198
    18DD9403_1,  P15N,   035,  3,    689,      6,2,19940927,2208, 38.5042,-164.9783, -999,   3497.8,   1.4698,  34.6732,2,  34.6743,2,    137.2,2,   158.60,2,    37.20,2,     0.00,2,     2.60,2, -999.000,9, -999.000,9,   -999.0,9,  -999.00,9,  -999.00,9,   -999.0,9,   -999.0,9,  1.2047
    18DD9403_1,  P15N,   035,  3,    690,      5,2,19940927,2208, 38.5042,-164.9783, -999,   3998.8,   1.4596,  34.6811,2,  34.6815,2,    146.7,2,   157.20,2,    36.80,2,     0.00,2,     2.55,2, -999.000,9, -999.000,9,   -999.0,9,  -999.00,9,  -999.00,9,   -999.0,9,   -999.0,9,  1.1420
    18DD9403_1,  P15N,   035,  3,    691,      4,2,19940927,2208, 38.5042,-164.9783, -999,   4502.0,   1.4890,  34.6848,2,  34.6858,2,    151.9,2,   159.50,2,    36.20,2,     0.00,2,     2.55,2, -999.000,9, -999.000,9,   -999.0,9,  -999.00,9,  -999.00,9,   -999.0,9,   -999.0,9,  1.1142
    18DD9403_1,  P15N,   035,  3,    692,      3,2,19940927,2208, 38.5042,-164.9783, -999,   4998.6,   1.5484,  34.6852,2,  34.6837,2,    149.6,2,   158.80,2,    36.50,2,     0.00,2,     2.52,2, -999.000,9, -999.000,9,   -999.0,9,  -999.00,9,  -999.00,9,   -999.0,9,   -999.0,9,  1.1127
    18DD9403_1,  P15N,   035,  3,    693,      2,2,19940927,2208, 38.5042,-164.9783, -999,   5500.5,   1.6113,  34.6862,2,  34.6865,2,    150.5,2,   158.30,2,    36.30,2,     0.00,2,     2.50,2, -999.000,9, -999.000,9,   -999.0,9,  -999.00,9,  -999.00,9,   -999.0,9,   -999.0,9,  1.1106
    18DD9403_1,  P15N,   035,  3,    694,      1,2,19940927,2208, 38.5042,-164.9783, -999,   5617.0,   1.6266,  34.6862,2,  34.6856,2,    150.6,2,   158.50,2,    36.50,2,     0.00,2,     2.53,2, -999.000,9, -999.000,9,   -999.0,9,  -999.00,9,  -999.00,9,   -999.0,9,   -999.0,9,  1.1103
    18DD9403_1,  P15N,   036,  3,    695,     23,2,19940928,0447, 37.9955,-165.0113, -999,      9.1,  21.0694,  34.2023,2,  34.2007,2,    234.1,2,     4.10,2,     0.00,2,     0.00,2,     0.33,2,    3.235,3,    1.920,3,   -999.0,9,  -999.00,9,  -999.00,9,   1966.4,2,   2243.7,2, 21.0677
    18DD9403_1,  P15N,   036,  3,    696,     22,2,19940928,0447, 37.9955,-165.0113, -999,     49.1,  14.6242,  34.3049,2,  34.2703,2,    322.3,2,     5.30,2,     0.00,2,     0.00,2,     0.16,2,    3.097,3,    1.826,3,   -999.0,9,  -999.00,9,  -999.00,9,   1980.2,2,   2259.4,2, 14.6170
    18DD9403_1,  P15N,   036,  3,    697,     21,2,19940928,0447, 37.9955,-165.0113, -999,     99.4,  12.0046,  34.2557,2,  34.2571,2,    244.7,2,     9.80,2,     8.40,2,     0.00,2,     0.67,2,    3.240,3,    1.914,3,   -999.0,9,  -999.00,9,  -999.00,9,   2049.9,2,   2254.0,2, 11.9918
    18DD9403_1,  P15N,   036,  3,    698,     20,2,19940928,0447, 37.9955,-165.0113, -999,    199.9,  10.9212,  34.2379,2,  34.2376,2,    240.1,2,    13.90,2,    10.90,2,     0.00,2,     0.85,2,    3.742,3,    1.985,3,   -999.0,9,  -999.00,9,  -999.00,9,   2067.2,2,   2256.8,2, 10.8969
    18DD9403_1,  P15N,   036,  3,    699,     19,2,19940928,0447, 37.9955,-165.0113, -999,    299.7,   9.6412,  34.1439,2,  34.1430,2,    227.9,2,    20.30,2,    15.30,2,     0.00,2,     1.13,2,    3.133,3,    1.758,3,   -999.0,9,  -999.00,9,  -999.00,9,   2099.3,2,   -999.0,9,  9.6074
    18DD9403_1,  P15N,   036,  3,    700,     18,2,19940928,0447, 37.9955,-165.0113, -999,    400.4,   8.0556,  34.0563,2,  34.0565,2,    192.0,2,    32.90,2,    21.30,2,     0.00,2,     1.57,2,    2.632,3,    1.473,3,   -999.0,9,  -999.00,9,  -999.00,9,   2143.5,2,   2263.0,2,  8.0149
    18DD9403_1,  P15N,   036,  3,    701,     17,2,19940928,0447, 37.9955,-165.0113, -999,    600.0,   5.0915,  34.0175,2,  34.0195,2,    103.6,2,    73.20,2,    34.40,2,     0.00,2,     2.51,2,    1.136,3,    0.857,3,   -999.0,9,  -999.00,9,  -999.00,9,   2251.1,2,   2297.7,2,  5.0433
    18DD9403_1,  P15N,   036,  3,    702,     16,2,19940928,0447, 37.9955,-165.0113, -999,    798.2,   4.1090,  34.1718,2,  34.1530,2,     46.2,2,   101.40,2,    40.90,2,     0.00,2,     2.94,2,    0.209,3,    0.283,3,   -999.0,9,  -999.00,9,  -999.00,9,   2318.4,2,   2326.4,2,  4.0496
    18DD9403_1,  P15N,   036,  3,    703,     15,2,19940928,0447, 37.9955,-165.0113, -999,   1004.7,   3.3979,  34.2994,2,  34.2961,2,     22.1,2,   125.50,2,    43.60,2,     0.00,2,     3.13,2,    0.038,3,    0.062,3,   -999.0,9,  -999.00,9,  -999.00,9,   2359.8,2,   2356.1,2,  3.3269
    18DD9403_1,  P15N,   036,  3,    704,     14,2,19940928,0447, 37.9955,-165.0113, -999,   1251.0,   2.8702,  34.4095,2,  34.4031,2,     13.3,2,   143.40,2,    44.60,2,     0.00,2,     3.23,2,    0.000,3,    0.038,3,   -999.0,9,  -999.00,9,  -999.00,9,   2368.2,2,   2382.6,2,  2.7843
    18DD9403_1,  P15N,   036,  3,    705,     13,2,19940928,0447, 37.9955,-165.0113, -999,   1505.7,   2.4682,  34.4907,2,  34.4852,2,     15.2,2,   157.10,2,    45.00,2,     0.00,2,     3.22,2,    0.000,3,    0.042,3,   -999.0,9,  -999.00,9,  -999.00,9,   2396.3,2,   2395.9,2,  2.3662
    18DD9403_1,  P15N,   036,  3,    706,     12,2,19940928,0447, 37.9955,-165.0113, -999,   1746.4,   2.2016,  34.5438,2,  34.5440,2,     29.5,2,   164.40,2,    44.10,2,     0.00,2,     3.17,2,    0.009,3,    0.018,3,   -999.0,9,  -999.00,9,  -999.00,9,   2393.9,2,   2407.1,2,  2.0835
    18DD9403_1,  P15N,   036,  3,    707,     11,2,19940928,0447, 37.9955,-165.0113, -999,   2003.5,   1.9788,  34.5865,2,  34.5859,2,     48.5,2,   170.00,2,    42.40,2,     0.00,2,     3.02,2,    0.011,3,    0.071,3,   -999.0,9,  -999.00,9,  -999.00,9,   2390.4,2,   2415.0,2,  1.8426
    18DD9403_1,  P15N,   036,  3,    708,     10,2,19940928,0447, 37.9955,-165.0113, -999,   2250.3,   1.8226,  34.6153,2,  34.6147,2,     64.2,2,   170.70,2,    41.40,2,     0.00,2,     2.94,2, -999.000,9, -999.000,9,   -999.0,9,  -999.00,9,  -999.00,9,   2381.0,2,   2416.4,2,  1.6678
    18DD9403_1,  P15N,   036,  3,    709,      9,2,19940928,0447, 37.9955,-165.0113, -999,   2504.0,   1.6850,  34.6351,2,  34.6360,2,     89.0,2,   168.10,2,    40.20,2,     0.00,2,     2.86,2, -999.000,9, -999.000,9,   -999.0,9,  -999.00,9,  -999.00,9,   2366.1,2,   2418.1,2,  1.5103
    18DD9403_1,  P15N,   036,  3,    710,      8,2,19940928,0447, 37.9955,-165.0113, -999,   2747.8,   1.5955,  34.6504,2,  34.6511,2,    105.9,2,   164.00,2,    38.80,2,     0.00,2,     2.76,2, -999.000,9, -999.000,9,   -999.0,9,  -999.00,9,  -999.00,9,   2357.9,2,   -999.0,9,  1.4005
    18DD9403_1,  P15N,   036,  3,    711,      7,2,19940928,0447, 37.9955,-165.0113, -999,   2997.3,   1.5323,  34.6605,2,  34.6621,2,    119.8,2,   160.90,2,    38.00,2,     0.00,2,     2.69,2, -999.000,9, -999.000,9,   -999.0,9,  -999.00,9,  -999.00,9,   2347.5,2,   -999.0,9,  1.3152
    18DD9403_1,  P15N,   036,  3,    712,      6,2,19940928,0447, 37.9955,-165.0113, -999,   3502.7,   1.4665,  34.6751,2,  34.6753,2,    138.4,2,   156.60,2,    36.90,2,     0.00,2,     2.59,2, -999.000,9, -999.000,9,   -999.0,9,  -999.00,9,  -999.00,9,   2333.9,2,   -999.0,9,  1.2010
    18DD9403_1,  P15N,   036,  3,    713,      5,2,19940928,0447, 37.9955,-165.0113, -999,   3999.2,   1.4560,  34.6826,2,  34.6827,2,    146.8,2,   156.40,2,    36.50,2,     0.00,2,     2.56,2, -999.000,9, -999.000,9,   -999.0,9,  -999.00,9,  -999.00,9,   2322.7,2,   -999.0,9,  1.1384
    18DD9403_1,  P15N,   036,  3,    714,      4,2,19940928,0447, 37.9955,-165.0113, -999,   4497.1,   1.4888,  34.6856,2,  34.6859,2,    149.1,2,   158.00,2,    36.20,2,     0.00,2,     2.57,2, -999.000,9, -999.000,9,   -999.0,9,  -999.00,9,  -999.00,9,   2325.1,2,   -999.0,9,  1.1145
    18DD9403_1,  P15N,   036,  3,    715,      3,2,19940928,0447, 37.9955,-165.0113, -999,   5003.3,   1.5490,  34.6864,2,  34.6863,2,    149.6,2,   158.70,2,    36.30,2,     0.00,2,     2.53,2, -999.000,9, -999.000,9,   -999.0,9,  -999.00,9,  -999.00,9,   2324.9,2,   -999.0,9,  1.1127
    18DD9403_1,  P15N,   036,  3,    716,      2,2,19940928,0447, 37.9955,-165.0113, -999,   5249.6,   1.5789,  34.6864,2,  34.6862,2,    150.0,2,   158.00,2,    36.10,2,     0.00,2,     2.53,2, -999.000,9, -999.000,9,   -999.0,9,  -999.00,9,  -999.00,9,   -999.0,9,   -999.0,9,  1.1112
    18DD9403_1,  P15N,   036,  3,    717,      1,2,19940928,0447, 37.9955,-165.0113, -999,   5496.1,   1.6090,  34.6870,2,  34.6872,2,    150.7,2,   156.50,2,    36.20,2,     0.00,2,     2.53,2, -999.000,9, -999.000,9,   -999.0,9,  -999.00,9,  -999.00,9,   2325.7,2,   -999.0,9,  1.1090