BOTTLE,20130510IOSDFOJC
EXPOCODE,SECT_ID,STNNBR,CASTNO,SAMPNO,BTLNBR,BTLNBR_FLAG_W,DATE,TIME,LATITUDE,LONGITUDE,DEPTH,CTDPRS,CTDTMP,CTDSAL,CTDSAL_FLAG_W,SALNTY,SALNTY_FLAG_W,OXYGEN,OXYGEN_FLAG_W,SILCAT,SILCAT_FLAG_W,NITRAT,NITRAT_FLAG_W,NITRIT,NITRIT_FLAG_W,PHSPHT,PHSPHT_FLAG_W,CFC-11,CFC-11_FLAG_W,CFC-12,CFC-12_FLAG_W,DELC14,DELC14_FLAG_W,DELC13,DELC13_FLAG_W,O18O16,O18O16_FLAG_W,TCARBN,TCARBN_FLAG_W,ALKALI,ALKALI_FLAG_W,THETA
,,,,,,,,,,,,DBAR,ITS-90,PSS-78,,PSS-78,,UMOL/KG,,UMOL/KG,,UMOL/KG,,UMOL/KG,,UMOL/KG,,PMOL/KG,,PMOL/KG,,/MILLE,,/MILLE,,/MILLE,,UMOL/KG,,UMOL/KG,,DEG C
    18DD9403_1,  P15N,   006,  3,    193,     23,2,19940919,1909, 52.7370,-165.0030, -999,      1.6,   9.9786,  32.1710,2,  32.2187,2,   -999.0,9,     5.90,2,     3.60,2,     0.09,2,     0.56,2,    5.107,3,    2.097,3,   -999.0,9,  -999.00,9,  -999.00,9,   -999.0,9,   -999.0,9,  9.9784
    18DD9403_1,  P15N,   006,  3,    194,     22,2,19940919,1909, 52.7370,-165.0030, -999,     46.8,   4.9896,  32.6097,2,  32.5551,2,   -999.0,9,    14.40,2,    12.80,2,     0.64,2,     1.34,2,    5.804,3,    2.712,3,   -999.0,9,  -999.00,9,  -999.00,9,   -999.0,9,   -999.0,9,  4.9862
    18DD9403_1,  P15N,   006,  3,    195,     21,2,19940919,1909, 52.7370,-165.0030, -999,    102.4,   4.3870,  33.2480,2,  33.3496,2,   -999.0,9,    51.70,2,    31.20,2,     0.00,2,     2.32,2, -999.000,9, -999.000,9,   -999.0,9,  -999.00,9,  -999.00,9,   -999.0,9,   -999.0,9,  4.3798
    18DD9403_1,  P15N,   006,  3,    196,     20,2,19940919,1909, 52.7370,-165.0030, -999,    201.0,   3.8963,  33.8708,2,  33.8870,2,   -999.0,9,    86.50,2,    42.30,2,     0.00,2,     2.99,2, -999.000,9, -999.000,9,   -999.0,9,  -999.00,9,  -999.00,9,   -999.0,9,   -999.0,9,  3.8827
    18DD9403_1,  P15N,   006,  3,    197,     19,2,19940919,1909, 52.7370,-165.0030, -999,    239.8,   3.8282,  33.9180,2,  33.9410,2,   -999.0,9,    92.90,2,    42.80,2,     0.00,2,     3.05,2,    1.517,3,    0.693,3,   -999.0,9,  -999.00,9,  -999.00,9,   -999.0,9,   -999.0,9,  3.8120
    18DD9403_1,  P15N,   006,  3,    198,     18,2,19940919,1909, 52.7370,-165.0030, -999,    265.5,   3.8237,  33.9494,2,  33.9853,2,   -999.0,9,    97.00,2,    43.80,2,     0.00,2,     3.15,2, -999.000,9, -999.000,9,   -999.0,9,  -999.00,9,  -999.00,9,   -999.0,9,   -999.0,9,  3.8057
    18DD9403_1,  P15N,   006,  3,    199,     17,2,19940919,1909, 52.7370,-165.0030, -999,    400.2,   3.6882,  34.0906,2,  34.1017,2,   -999.0,9,   109.90,2,    43.50,2,     0.02,2,     3.12,2, -999.000,9, -999.000,9,   -999.0,9,  -999.00,9,  -999.00,9,   -999.0,9,   -999.0,9,  3.6610
    18DD9403_1,  P15N,   006,  3,    200,     16,2,19940919,1909, 52.7370,-165.0030, -999,    604.0,   3.3803,  34.2426,2,  34.2322,2,   -999.0,9,   125.10,2,    44.00,2,     0.02,2,     3.16,2,    0.136,3,    0.123,3,   -999.0,9,  -999.00,9,  -999.00,9,   -999.0,9,   -999.0,9,  3.3396
    18DD9403_1,  P15N,   006,  3,    201,     15,2,19940919,1909, 52.7370,-165.0030, -999,    998.9,   2.7046,  34.4158,2,  34.4099,2,   -999.0,9,   148.20,2,    43.70,2,     0.00,2,     3.14,2,    0.012,3,    0.000,3,   -999.0,9,  -999.00,9,  -999.00,9,   -999.0,9,   -999.0,9,  2.6392
    18DD9403_1,  P15N,   006,  3,    202,     14,2,19940919,1909, 52.7370,-165.0030, -999,   1249.0,   2.3578,  34.4913,2,  34.4853,2,   -999.0,9,   158.90,2,    43.50,2,     0.00,2,     3.08,2,    0.000,3,    0.000,3,   -999.0,9,  -999.00,9,  -999.00,9,   -999.0,9,   -999.0,9,  2.2769
    18DD9403_1,  P15N,   006,  3,    203,     13,2,19940919,1909, 52.7370,-165.0030, -999,   1249.3,   2.3567,  34.4913,2,  34.4812,2,   -999.0,9,   157.40,2,    43.00,2,     0.01,2,     3.09,2,    0.000,3,    0.000,3,   -999.0,9,  -999.00,9,  -999.00,9,   -999.0,9,   -999.0,9,  2.2758
    18DD9403_1,  P15N,   006,  3,    204,     12,2,19940919,1909, 52.7370,-165.0030, -999,   1503.3,   2.0898,  34.5402,2,  34.5385,2,   -999.0,9,   164.90,2,    42.80,2,     0.01,2,     3.10,2,    0.000,3,    0.000,3,   -999.0,9,  -999.00,9,  -999.00,9,   -999.0,9,   -999.0,9,  1.9923
    18DD9403_1,  P15N,   006,  3,    205,     11,3,19940919,1909, 52.7370,-165.0030, -999,   1749.1,   1.9536,  34.5700,2,  34.4802,4,   -999.0,9,   160.70,2,    40.50,2,     0.00,2,     2.97,2,    0.013,3,    0.000,3,   -999.0,9,  -999.00,9,  -999.00,9,   -999.0,9,   -999.0,9,  1.8389
    18DD9403_1,  P15N,   006,  3,    206,     10,2,19940919,1909, 52.7370,-165.0030, -999,   2000.4,   1.8307,  34.5945,2,  34.5918,2,   -999.0,9,   167.20,2,    41.40,2,     0.06,2,     3.00,2, -999.000,9, -999.000,9,   -999.0,9,  -999.00,9,  -999.00,9,   -999.0,9,   -999.0,9,  1.6969
    18DD9403_1,  P15N,   006,  3,    207,      9,2,19940919,1909, 52.7370,-165.0030, -999,   2253.2,   1.7421,  34.6145,2,  34.6097,2,   -999.0,9,   166.00,2,    39.50,3,     0.00,2,     2.88,2, -999.000,9, -999.000,9,   -999.0,9,  -999.00,9,  -999.00,9,   -999.0,9,   -999.0,9,  1.5884
    18DD9403_1,  P15N,   006,  3,    208,      8,2,19940919,1909, 52.7370,-165.0030, -999,   2502.5,   1.6669,  34.6314,2,  34.6285,2,   -999.0,9,   165.20,2,    39.90,2,     0.03,2,     2.87,2, -999.000,9, -999.000,9,   -999.0,9,  -999.00,9,  -999.00,9,   -999.0,9,   -999.0,9,  1.4927
    18DD9403_1,  P15N,   006,  3,    209,      7,2,19940919,1909, 52.7370,-165.0030, -999,   2748.6,   1.5941,  34.6451,2,  34.6442,2,   -999.0,9,   163.10,2,    38.40,2,     0.02,2,     2.81,2, -999.000,9, -999.000,9,   -999.0,9,  -999.00,9,  -999.00,9,   -999.0,9,   -999.0,9,  1.3990
    18DD9403_1,  P15N,   006,  3,    210,      6,2,19940919,1909, 52.7370,-165.0030, -999,   2995.6,   1.5344,  34.6565,2,  34.6570,2,   -999.0,9,   160.90,2,    38.20,2,     0.00,2,     2.77,2, -999.000,9, -999.000,9,   -999.0,9,  -999.00,9,  -999.00,9,   -999.0,9,   -999.0,9,  1.3174
    18DD9403_1,  P15N,   006,  3,    211,      5,2,19940919,1909, 52.7370,-165.0030, -999,   2999.4,   1.5326,  34.6563,2,  34.6584,2,   -999.0,9,   161.70,2,    38.00,2,     0.00,2,     2.70,2, -999.000,9, -999.000,9,   -999.0,9,  -999.00,9,  -999.00,9,   -999.0,9,   -999.0,9,  1.3153
    18DD9403_1,  P15N,   006,  3,    212,      4,2,19940919,1909, 52.7370,-165.0030, -999,   3499.4,   1.4607,  34.6718,2,  34.6723,2,   -999.0,9,   158.90,2,    36.50,2,     0.00,2,     2.67,2, -999.000,9, -999.000,9,   -999.0,9,  -999.00,9,  -999.00,9,   -999.0,9,   -999.0,9,  1.1957
    18DD9403_1,  P15N,   006,  3,    214,      2,2,19940919,1909, 52.7370,-165.0030, -999,   4005.3,   1.4465,  34.6804,2,  34.6817,2,   -999.0,9,   154.50,2,    36.20,2,     0.00,2,     2.66,2, -999.000,9, -999.000,9,   -999.0,9,  -999.00,9,  -999.00,9,   -999.0,9,   -999.0,9,  1.1285
    18DD9403_1,  P15N,   006,  3,    213,      3,2,19940919,1909, 52.7370,-165.0030, -999,   4007.4,   1.4464,  34.6803,2,  34.6733,2,   -999.0,9,   154.10,2,    36.20,2,     0.00,2,     2.67,2, -999.000,9, -999.000,9,   -999.0,9,  -999.00,9,  -999.00,9,   -999.0,9,   -999.0,9,  1.1282
    18DD9403_1,  P15N,   006,  3,    215,      1,2,19940919,1909, 52.7370,-165.0030, -999,   4147.4,   1.4474,  34.6826,2,  34.6826,2,   -999.0,9,   153.20,2,    35.10,2,     0.00,2,     2.62,2, -999.000,9, -999.000,9,   -999.0,9,  -999.00,9,  -999.00,9,   -999.0,9,   -999.0,9,  1.1138
    18DD9403_1,  P15N,   011,  3,    216,     23,4,19940920,2111, 50.4805,-164.9875, -999,      9.8,   9.6173,  32.2619,2,  33.5831,4,    103.3,4,    88.20,4,    35.10,4,     0.03,4,     2.74,4,    0.033,3,    0.000,3,   -999.0,9,  -999.00,9,  -999.00,9,   -999.0,9,   2029.9,4,  9.6162
    18DD9403_1,  P15N,   011,  3,    217,     22,2,19940920,2111, 50.4805,-164.9875, -999,     49.1,   4.6818,  32.8753,2,  32.8604,2,    318.0,2,    33.40,2,    19.80,2,     0.18,2,     1.93,4,    6.039,3,    2.539,3,   -999.0,9,  -999.00,9,  -999.00,9,   2078.0,2,   2231.5,2,  4.6783
    18DD9403_1,  P15N,   011,  3,    218,     21,2,19940920,2111, 50.4805,-164.9875, -999,    104.0,   3.8162,  33.3671,2,  33.0420,2,    288.9,2,    39.50,2,    24.00,2,     0.02,2,     2.06,2,    5.595,3,    2.515,3,   -999.0,9,  -999.00,9,  -999.00,9,   2111.8,2,   2243.6,2,  3.8095
    18DD9403_1,  P15N,   011,  3,    219,     20,2,19940920,2111, 50.4805,-164.9875, -999,    200.0,   3.4789,  33.8021,2,  33.7701,2,    116.3,2,    78.40,2,    37.20,2,     0.00,2,     2.86,2,    2.645,3,    1.313,3,   -999.0,9,  -999.00,9,  -999.00,9,   2265.2,2,   2293.8,2,  3.4661
    18DD9403_1,  P15N,   011,  3,    220,     19,2,19940920,2111, 50.4805,-164.9875, -999,    298.4,   3.5020,  33.9482,2,  33.9123,2,     70.6,2,    93.50,2,    40.60,2,     0.00,2,     3.04,2,    1.823,3,    0.845,3,   -999.0,9,  -999.00,9,  -999.00,9,   2311.7,2,   2322.2,2,  3.4825
    18DD9403_1,  P15N,   011,  3,    221,     18,2,19940920,2111, 50.4805,-164.9875, -999,    402.9,   3.4819,  34.0599,2,  34.0407,2,     43.8,2,   107.10,2,    42.10,2,     0.03,2,     3.15,2,    0.933,3,    0.414,3,   -999.0,9,  -999.00,9,  -999.00,9,   2341.1,2,   2331.7,2,  3.4552
    18DD9403_1,  P15N,   011,  3,    222,     17,2,19940920,2111, 50.4805,-164.9875, -999,    601.8,   3.3123,  34.2156,2,  34.2112,2,     25.4,2,   123.20,2,    43.20,2,     0.00,2,     3.21,2,    0.359,3,    0.142,3,   -999.0,9,  -999.00,9,  -999.00,9,   2356.9,2,   2360.2,2,  3.2721
    18DD9403_1,  P15N,   011,  3,    224,     15,2,19940920,2111, 50.4805,-164.9875, -999,    803.0,   3.0377,  34.3159,2,  34.3122,2,     24.9,2,   134.70,2,    43.40,2,     0.00,2,     3.19,2,    0.164,3,    0.158,3,   -999.0,9,  -999.00,9,  -999.00,9,   2370.3,2,   -999.0,9,  2.9844
    18DD9403_1,  P15N,   011,  3,    223,     16,2,19940920,2111, 50.4805,-164.9875, -999,    803.2,   3.0378,  34.3160,2,  34.3121,2,     25.7,2,   135.70,2,    43.30,2,     0.00,2,     3.21,2,    0.172,3,    0.142,3,   -999.0,9,  -999.00,9,  -999.00,9,   2368.9,2,   2382.0,2,  2.9845
    18DD9403_1,  P15N,   011,  3,    225,     14,2,19940920,2111, 50.4805,-164.9875, -999,   1005.6,   2.7348,  34.3959,2,-999.0000,9,     25.2,2,   150.10,2,    44.60,2,     0.00,2,     3.29,2,    0.103,3,    0.111,3,   -999.0,9,  -999.00,9,  -999.00,9,   2379.9,2,   2392.9,2,  2.6690
    18DD9403_1,  P15N,   011,  3,    226,     13,2,19940920,2111, 50.4805,-164.9875, -999,   1206.1,   2.4897,  34.4536,2,  34.4528,2,     29.8,2,   152.90,2,    43.20,2,     0.00,2,     3.17,2,    0.000,3,    0.000,3,   -999.0,9,  -999.00,9,  -999.00,9,   2378.3,2,   -999.0,9,  2.4107
    18DD9403_1,  P15N,   011,  3,    227,     12,2,19940920,2111, 50.4805,-164.9875, -999,   1496.9,   2.2261,  34.5135,2,  34.5153,2,     37.5,2,   160.90,2,    42.80,2,     0.00,2,     3.18,2,    0.171,3,    0.312,3,   -999.0,9,  -999.00,9,  -999.00,9,   2382.5,2,   -999.0,9,  2.1276
    18DD9403_1,  P15N,   011,  3,    228,     11,2,19940920,2111, 50.4805,-164.9875, -999,   1754.6,   2.0491,  34.5565,2,  34.5560,2,     49.9,2,   163.40,2,    42.00,2,     0.00,2,     3.06,2,    0.049,3,    0.000,3,   -999.0,9,  -999.00,9,  -999.00,9,   2381.2,2,   2443.2,2,  1.9323
    18DD9403_1,  P15N,   011,  3,    229,     10,2,19940920,2111, 50.4805,-164.9875, -999,   1997.0,   1.9088,  34.5889,2,  34.5861,2,     63.0,2,   164.70,2,    41.50,2,     0.00,2,     3.00,2,    0.000,3,    0.000,3,   -999.0,9,  -999.00,9,  -999.00,9,   2376.4,2,   2439.2,2,  1.7742
    18DD9403_1,  P15N,   011,  3,    230,      9,2,19940920,2111, 50.4805,-164.9875, -999,   2252.6,   1.7848,  34.6127,2,  34.6126,2,     78.3,2,   165.40,2,    40.80,2,     0.00,2,     2.92,2, -999.000,9, -999.000,9,   -999.0,9,  -999.00,9,  -999.00,9,   2369.5,2,   -999.0,9,  1.6304
    18DD9403_1,  P15N,   011,  3,    231,      8,2,19940920,2111, 50.4805,-164.9875, -999,   2500.1,   1.6898,  34.6304,2,  34.6309,2,     91.7,2,   165.40,2,    39.90,2,     0.00,2,     2.87,2, -999.000,9, -999.000,9,   -999.0,9,  -999.00,9,  -999.00,9,   2362.7,2,   2426.7,2,  1.5153
    18DD9403_1,  P15N,   011,  3,    232,      7,2,19940920,2111, 50.4805,-164.9875, -999,   2752.5,   1.6201,  34.6436,2,  34.6443,2,    105.7,2,   163.80,2,    39.10,2,     0.00,2,     2.78,2, -999.000,9, -999.000,9,   -999.0,9,  -999.00,9,  -999.00,9,   2354.2,2,   2425.5,2,  1.4242
    18DD9403_1,  P15N,   011,  3,    233,      6,2,19940920,2111, 50.4805,-164.9875, -999,   3000.4,   1.5648,  34.6546,2,  34.6549,2,    114.9,2,   161.80,2,    38.40,2,     0.00,2,     2.71,2, -999.000,9, -999.000,9,   -999.0,9,  -999.00,9,  -999.00,9,   2347.0,2,   2427.9,2,  1.3467
    18DD9403_1,  P15N,   011,  3,    234,      5,2,19940920,2111, 50.4805,-164.9875, -999,   3252.9,   1.5279,  34.6627,2,  34.6619,2,    124.2,2,   159.90,2,    37.90,2,     0.00,2,     2.69,2, -999.000,9, -999.000,9,   -999.0,9,  -999.00,9,  -999.00,9,   2342.4,2,   2427.9,2,  1.2861
    18DD9403_1,  P15N,   011,  3,    235,      4,2,19940920,2111, 50.4805,-164.9875, -999,   3489.8,   1.5000,  34.6699,2,  34.6697,2,    132.0,2,   159.40,2,    37.20,2,     0.00,2,     2.63,2, -999.000,9, -999.000,9,   -999.0,9,  -999.00,9,  -999.00,9,   2335.8,2,   2426.7,2,  1.2350
    18DD9403_1,  P15N,   011,  3,    236,      3,2,19940920,2111, 50.4805,-164.9875, -999,   3996.1,   1.4740,  34.6805,2,  34.6787,2,    143.0,2,   159.40,2,    36.90,2,     0.00,2,     2.55,2, -999.000,9, -999.000,9,   -999.0,9,  -999.00,9,  -999.00,9,   2330.7,2,   2431.7,2,  1.1563
    18DD9403_1,  P15N,   011,  3,    237,      2,2,19940920,2111, 50.4805,-164.9875, -999,   4497.3,   1.4938,  34.6854,2,  34.6847,2,    150.0,2,   158.30,2,    36.30,2,     0.00,2,     2.51,2, -999.000,9, -999.000,9,   -999.0,9,  -999.00,9,  -999.00,9,   2328.5,2,   2430.5,2,  1.1194
    18DD9403_1,  P15N,   011,  3,    238,      1,2,19940920,2111, 50.4805,-164.9875, -999,   5003.6,   1.5295,  34.6887,2,  34.6877,2,    159.2,2,   159.00,2,    36.00,2,     0.00,2,     2.49,2, -999.000,9, -999.000,9,   -999.0,9,  -999.00,9,  -999.00,9,   2324.6,2,   -999.0,9,  1.0938