BOTTLE,20130510IOSDFOJC
EXPOCODE,SECT_ID,STNNBR,CASTNO,SAMPNO,BTLNBR,BTLNBR_FLAG_W,DATE,TIME,LATITUDE,LONGITUDE,DEPTH,CTDPRS,CTDTMP,CTDSAL,CTDSAL_FLAG_W,SALNTY,SALNTY_FLAG_W,OXYGEN,OXYGEN_FLAG_W,SILCAT,SILCAT_FLAG_W,NITRAT,NITRAT_FLAG_W,NITRIT,NITRIT_FLAG_W,PHSPHT,PHSPHT_FLAG_W,CFC-11,CFC-11_FLAG_W,CFC-12,CFC-12_FLAG_W,DELC14,DELC14_FLAG_W,DELC13,DELC13_FLAG_W,O18O16,O18O16_FLAG_W,TCARBN,TCARBN_FLAG_W,ALKALI,ALKALI_FLAG_W,THETA
,,,,,,,,,,,,DBAR,ITS-90,PSS-78,,PSS-78,,UMOL/KG,,UMOL/KG,,UMOL/KG,,UMOL/KG,,UMOL/KG,,PMOL/KG,,PMOL/KG,,/MILLE,,/MILLE,,/MILLE,,UMOL/KG,,UMOL/KG,,DEG C
    18DD9403_1,  P15N,   065,  3,   1434,     23,2,19941006,2110, 23.5188,-165.3255, -999,      9.4,  27.3034,  34.6865,2,  34.7790,2,    208.3,3,     2.40,2,     0.00,2,     0.00,2,     0.00,2,    1.768,3,    1.001,3,   -999.0,9,  -999.00,9,  -999.00,9,   -999.0,9,   -999.0,9, 27.3012
    18DD9403_1,  P15N,   065,  3,   1435,     22,2,19941006,2110, 23.5188,-165.3255, -999,     49.6,  25.3599,  34.9713,2,  34.9451,2,    220.7,2,     2.20,2,     0.00,2,     0.00,2,     0.06,2,    1.440,3,    1.130,3,   -999.0,9,  -999.00,9,  -999.00,9,   -999.0,9,   -999.0,9, 25.3490
    18DD9403_1,  P15N,   065,  3,   1436,     21,2,19941006,2110, 23.5188,-165.3255, -999,    100.0,  22.4612,  35.1417,2,  35.1375,2,    221.5,2,     2.40,2,     0.00,2,     0.00,2,     0.10,2,    2.052,3,    1.209,3,   -999.0,9,  -999.00,9,  -999.00,9,   -999.0,9,   -999.0,9, 22.4411
    18DD9403_1,  P15N,   065,  3,   1437,     20,2,19941006,2110, 23.5188,-165.3255, -999,    201.1,  18.5729,  34.8732,2,  34.9728,2,    210.6,2,     4.20,2,     3.50,2,     0.00,2,     0.28,2,    2.439,3,    1.417,3,   -999.0,9,  -999.00,9,  -999.00,9,   -999.0,9,   -999.0,9, 18.5377
    18DD9403_1,  P15N,   065,  3,   1438,     19,2,19941006,2110, 23.5188,-165.3255, -999,    301.5,  13.4664,  34.4294,2,  34.4160,2,    193.0,2,    10.10,2,     9.50,2,     0.00,2,     0.68,2,    2.424,3,    1.408,3,   -999.0,9,  -999.00,9,  -999.00,9,   -999.0,9,   -999.0,9, 13.4240
    18DD9403_1,  P15N,   065,  3,   1439,     18,2,19941006,2110, 23.5188,-165.3255, -999,    402.9,   9.4688,  34.1875,2,  34.1702,2,    155.8,2,    28.10,2,    20.90,2,     0.00,2,     1.51,2,    1.746,3,    0.894,3,   -999.0,9,  -999.00,9,  -999.00,9,   -999.0,9,   -999.0,9,  9.4236
    18DD9403_1,  P15N,   065,  3,   1440,     17,2,19941006,2110, 23.5188,-165.3255, -999,    800.1,   4.6927,  34.3429,2,  34.3344,2,     31.6,3,    96.20,2,    40.70,2,     0.00,2,     2.99,2,    0.036,3,    0.000,3,   -999.0,9,  -999.00,9,  -999.00,9,   -999.0,9,   -999.0,9,  4.6293
    18DD9403_1,  P15N,   065,  3,   1441,     16,2,19941006,2110, 23.5188,-165.3255, -999,    998.6,   3.9952,  34.4678,2,  34.4660,2,     45.4,3,   109.70,2,    41.00,2,     0.00,2,     2.97,2,    0.010,3,    0.000,3,   -999.0,9,  -999.00,9,  -999.00,9,   -999.0,9,   -999.0,9,  3.9198
    18DD9403_1,  P15N,   065,  3,   1442,     15,2,19941006,2110, 23.5188,-165.3255, -999,   1248.9,   3.3802,  34.5258,2,  34.5299,2,     59.0,3,   121.90,2,    40.40,2,     0.00,2,     3.10,2,    0.018,3,    0.000,3,   -999.0,9,  -999.00,9,  -999.00,9,   -999.0,9,   -999.0,9,  3.2892
    18DD9403_1,  P15N,   065,  3,   1443,     14,2,19941006,2110, 23.5188,-165.3255, -999,   1494.7,   2.8288,  34.5570,2,  34.5665,2,     70.2,3,   133.90,2,    40.10,2,     0.00,2,     2.89,2,    0.006,3,    0.111,3,   -999.0,9,  -999.00,9,  -999.00,9,   -999.0,9,   -999.0,9,  2.7234
    18DD9403_1,  P15N,   065,  3,   1444,     13,2,19941006,2110, 23.5188,-165.3255, -999,   1746.5,   2.4379,  34.5894,2,  34.5964,2,     82.2,3,   142.50,2,    39.20,2,     0.00,2,     2.81,2,    0.020,3,    0.000,3,   -999.0,9,  -999.00,9,  -999.00,9,   -999.0,9,   -999.0,9,  2.3164
    18DD9403_1,  P15N,   065,  3,   1445,     12,2,19941006,2110, 23.5188,-165.3255, -999,   2000.9,   2.1138,  34.6148,2,  34.6162,2,     92.5,3,   148.90,2,    38.80,2,     0.00,2,     2.78,2, -999.000,9, -999.000,9,   -999.0,9,  -999.00,9,  -999.00,9,   -999.0,9,   -999.0,9,  1.9756
    18DD9403_1,  P15N,   065,  3,   1448,      9,2,19941006,2110, 23.5188,-165.3255, -999,   2257.1,   1.8872,  34.6331,2,  34.6323,2,    101.2,2,   153.60,2,    37.90,2,     0.00,2,     2.71,2, -999.000,9, -999.000,9,   -999.0,9,  -999.00,9,  -999.00,9,   -999.0,9,   -999.0,9,  1.7307
    18DD9403_1,  P15N,   065,  3,   1447,     10,2,19941006,2110, 23.5188,-165.3255, -999,   2259.6,   1.8849,  34.6333,2,  34.6326,2,    101.7,2,   153.60,2,    37.80,2,     0.00,2,     2.72,2, -999.000,9, -999.000,9,   -999.0,9,  -999.00,9,  -999.00,9,   -999.0,9,   -999.0,9,  1.7282
    18DD9403_1,  P15N,   065,  3,   1446,     11,2,19941006,2110, 23.5188,-165.3255, -999,   2262.2,   1.8812,  34.6334,2,  34.6327,2,    101.8,3,   153.40,2,    37.80,2,     0.00,2,     2.70,2, -999.000,9, -999.000,9,   -999.0,9,  -999.00,9,  -999.00,9,   -999.0,9,   -999.0,9,  1.7244
    18DD9403_1,  P15N,   065,  3,   1449,      8,2,19941006,2110, 23.5188,-165.3255, -999,   2510.7,   1.6977,  34.6498,2,  34.6489,2,    113.6,2,   156.60,2,    37.00,2,     0.00,2,     2.72,2, -999.000,9, -999.000,9,   -999.0,9,  -999.00,9,  -999.00,9,   -999.0,9,   -999.0,9,  1.5221
    18DD9403_1,  P15N,   065,  3,   1450,      7,2,19941006,2110, 23.5188,-165.3255, -999,   2755.8,   1.6125,  34.6598,2,  34.6585,2,    121.1,2,   156.10,2,    36.30,2,     0.00,2,     2.80,2, -999.000,9, -999.000,9,   -999.0,9,  -999.00,9,  -999.00,9,   -999.0,9,   -999.0,9,  1.4163
    18DD9403_1,  P15N,   065,  3,   1451,      6,2,19941006,2110, 23.5188,-165.3255, -999,   2996.1,   1.5480,  34.6665,2,  34.6656,2,    130.6,2,   155.60,2,    35.40,2,     0.00,2,     2.62,2, -999.000,9, -999.000,9,   -999.0,9,  -999.00,9,  -999.00,9,   -999.0,9,   -999.0,9,  1.3306
    18DD9403_1,  P15N,   065,  3,   1452,      5,2,19941006,2110, 23.5188,-165.3255, -999,   3246.2,   1.5033,  34.6735,2,  34.6731,2,    136.0,2,   152.70,2,    35.40,2,     0.00,2,     2.56,2, -999.000,9, -999.000,9,   -999.0,9,  -999.00,9,  -999.00,9,   -999.0,9,   -999.0,9,  1.2626
    18DD9403_1,  P15N,   065,  3,   1453,      4,2,19941006,2110, 23.5188,-165.3255, -999,   3495.3,   1.4707,  34.6777,2,  34.6778,2,    143.0,2,   150.40,2,    34.30,2,     0.00,2,     2.53,2, -999.000,9, -999.000,9,   -999.0,9,  -999.00,9,  -999.00,9,   -999.0,9,   -999.0,9,  1.2058
    18DD9403_1,  P15N,   065,  3,   1454,      3,2,19941006,2110, 23.5188,-165.3255, -999,   3751.4,   1.4685,  34.6799,2,  34.6782,2,    142.4,2,   151.00,2,    34.90,2,     0.00,2,     2.50,2, -999.000,9, -999.000,9,   -999.0,9,  -999.00,9,  -999.00,9,   -999.0,9,   -999.0,9,  1.1772
    18DD9403_1,  P15N,   065,  3,   1455,      2,2,19941006,2110, 23.5188,-165.3255, -999,   3997.8,   1.4627,  34.6829,2,  34.6843,2,    150.9,2,   146.50,2,    34.00,2,     0.00,2,     2.51,2, -999.000,9, -999.000,9,   -999.0,9,  -999.00,9,  -999.00,9,   -999.0,9,   -999.0,9,  1.1451
    18DD9403_1,  P15N,   065,  3,   1456,      1,2,19941006,2110, 23.5188,-165.3255, -999,   4096.5,   1.4649,  34.6833,2,  34.6848,2,    151.9,2,   145.80,2,    33.90,2,     0.00,2,     2.45,2, -999.000,9, -999.000,9,   -999.0,9,  -999.00,9,  -999.00,9,   -999.0,9,   -999.0,9,  1.1365
    18DD9403_1,  P15N,   066,  3,   1457,     23,4,19941007,0417, 22.9140,-165.4595, -999,      5.0,-999.0000,-999.0000,9,-999.0000,9,   -999.0,9,  -999.00,9,  -999.00,9,  -999.00,9,  -999.00,9,    1.870,3,    0.737,3,   -999.0,9,  -999.00,9,  -999.00,9,   -999.0,9,   -999.0,9,-999.0000
    18DD9403_1,  P15N,   066,  3,   1458,     22,2,19941007,0417, 22.9140,-165.4595, -999,      9.2,  27.8663,  34.4449,2,  34.6127,2,    204.0,3,     1.80,2,     0.00,2,     0.00,2,     0.00,2,    1.775,3,    0.744,3,   -999.0,9,  -999.00,9,  -999.00,9,   1926.2,2,   2278.4,2, 27.8641
    18DD9403_1,  P15N,   066,  3,   1459,     21,2,19941007,0417, 22.9140,-165.4595, -999,     49.5,  27.4924,  34.8054,2,  34.8115,2,    218.4,3,     2.00,2,     0.00,2,     0.00,2,     0.00,2,    2.292,3,    1.090,3,   -999.0,9,  -999.00,9,  -999.00,9,   1937.3,2,   2279.2,2, 27.4809
    18DD9403_1,  P15N,   066,  3,   1460,     20,2,19941007,0417, 22.9140,-165.4595, -999,    101.1,  23.1714,  35.2205,2,  35.1785,2,    219.9,2,     2.40,2,     0.00,2,     0.00,2,     0.00,2,    2.598,3,    1.076,3,   -999.0,9,  -999.00,9,  -999.00,9,   1985.6,2,   2315.5,2, 23.1506
    18DD9403_1,  P15N,   066,  3,   1461,     19,2,19941007,0417, 22.9140,-165.4595, -999,    199.3,  17.9347,  34.8556,2,  34.9202,2,    192.4,2,     4.80,2,     4.00,2,     0.00,2,     0.36,2,    2.748,3,    1.080,3,   -999.0,9,  -999.00,9,  -999.00,9,   2040.4,2,   2299.7,2, 17.9006
    18DD9403_1,  P15N,   066,  3,   1462,     18,2,19941007,0417, 22.9140,-165.4595, -999,    298.7,  13.4738,  34.3941,2,  34.4444,2,    196.2,2,     9.30,2,     9.10,2,     0.00,2,     0.69,2,    1.783,3,    0.626,3,   -999.0,9,  -999.00,9,  -999.00,9,   2065.7,2,   2272.3,2, 13.4318
    18DD9403_1,  P15N,   066,  3,   1463,     17,2,19941007,0417, 22.9140,-165.4595, -999,    404.5,   9.9306,  34.1879,2,  34.1923,2,    145.2,2,    24.90,2,    21.20,2,     0.00,2,     1.60,2,    0.252,3,    0.043,3,   -999.0,9,  -999.00,9,  -999.00,9,   2148.0,2,   -999.0,9,  9.8838
    18DD9403_1,  P15N,   066,  3,   1464,     16,2,19941007,0417, 22.9140,-165.4595, -999,    604.5,   5.6729,  34.1550,2,  34.1343,2,     57.4,2,    72.60,2,    37.60,2,     0.00,2,     2.76,2,    0.032,3,    0.000,3,   -999.0,9,  -999.00,9,  -999.00,9,   2274.5,2,   2308.3,2,  5.6216
    18DD9403_1,  P15N,   066,  3,   1465,     15,2,19941007,0417, 22.9140,-165.4595, -999,    800.7,   4.7001,  34.3630,2,  34.3607,2,     30.6,2,    95.40,2,    42.00,2,     0.00,2,     3.08,2,    0.000,3,    0.000,3,   -999.0,9,  -999.00,9,  -999.00,9,   2325.5,2,   2335.1,2,  4.6366
    18DD9403_1,  P15N,   066,  3,   1466,     14,2,19941007,0417, 22.9140,-165.4595, -999,    996.8,   3.9073,  34.4653,2,  34.4677,2,     41.2,3,   111.40,2,    42.00,2,     0.00,2,     3.05,2,    0.000,3,    0.000,3,   -999.0,9,  -999.00,9,  -999.00,9,   2341.2,2,   2374.7,2,  3.8327
    18DD9403_1,  P15N,   066,  3,   1467,     13,2,19941007,0417, 22.9140,-165.4595, -999,   1247.6,   3.2345,  34.5412,2,  34.5380,2,     60.4,2,   124.60,2,    42.10,2,     0.00,2,     3.00,2, -999.000,9, -999.000,9,   -999.0,9,  -999.00,9,  -999.00,9,   2345.3,2,   2412.3,2,  3.1450
    18DD9403_1,  P15N,   066,  3,   1468,     12,2,19941007,0417, 22.9140,-165.4595, -999,   1501.3,   2.8113,  34.5715,2,  34.5718,2,     71.8,2,   132.80,2,    41.10,2,     0.00,2,     2.93,2, -999.000,9, -999.000,9,   -999.0,9,  -999.00,9,  -999.00,9,   2349.9,2,   2406.0,2,  2.7056
    18DD9403_1,  P15N,   066,  3,   1469,     11,2,19941007,0417, 22.9140,-165.4595, -999,   1750.7,   2.4244,  34.5983,2,  34.5945,2,     82.2,2,   141.90,2,    40.60,2,     0.00,2,     2.88,2, -999.000,9, -999.000,9,   -999.0,9,  -999.00,9,  -999.00,9,   2352.8,2,   2412.7,2,  2.3028
    18DD9403_1,  P15N,   066,  3,   1470,     10,2,19941007,0417, 22.9140,-165.4595, -999,   2000.7,   2.1583,  34.6156,2,  34.6133,2,     91.7,3,   147.60,2,    40.00,2,     0.00,2,     2.86,2, -999.000,9, -999.000,9,   -999.0,9,  -999.00,9,  -999.00,9,   2354.8,2,   2418.9,2,  2.0194
    18DD9403_1,  P15N,   066,  3,   1471,      9,2,19941007,0417, 22.9140,-165.4595, -999,   2250.8,   1.8957,  34.6350,2,  34.6322,2,    101.7,2,   152.70,2,    39.60,2,     0.00,2,     2.78,2, -999.000,9, -999.000,9,   -999.0,9,  -999.00,9,  -999.00,9,   2350.3,2,   2424.2,2,  1.7396
    18DD9403_1,  P15N,   066,  3,   1472,      8,2,19941007,0417, 22.9140,-165.4595, -999,   2498.6,   1.7348,  34.6489,2,  34.6470,2,    111.6,3,   156.40,2,    39.00,2,     0.00,2,     2.71,2, -999.000,9, -999.000,9,   -999.0,9,  -999.00,9,  -999.00,9,   2348.3,2,   2427.1,2,  1.5596
    18DD9403_1,  P15N,   066,  3,   1473,      7,2,19941007,0417, 22.9140,-165.4595, -999,   2753.5,   1.6279,  34.6592,2,  34.6579,2,    120.0,3,   155.90,2,    38.30,2,     0.00,2,     2.68,2, -999.000,9, -999.000,9,   -999.0,9,  -999.00,9,  -999.00,9,   2344.7,2,   2430.8,2,  1.4316
    18DD9403_1,  P15N,   066,  3,   1474,      6,2,19941007,0417, 22.9140,-165.4595, -999,   2992.5,   1.5372,  34.6683,2,  34.6663,2,    131.3,2,   155.50,2,    37.30,2,     0.00,2,     2.62,2, -999.000,9, -999.000,9,   -999.0,9,  -999.00,9,  -999.00,9,   2340.3,2,   2430.6,2,  1.3204
    18DD9403_1,  P15N,   066,  3,   1475,      5,2,19941007,0417, 22.9140,-165.4595, -999,   3248.7,   1.4734,  34.6744,2,  34.6749,2,    137.7,2,   154.10,2,    36.90,2,     0.00,2,     2.57,2, -999.000,9, -999.000,9,   -999.0,9,  -999.00,9,  -999.00,9,   2334.1,2,   2430.2,2,  1.2332
    18DD9403_1,  P15N,   066,  3,   1476,      4,2,19941007,0417, 22.9140,-165.4595, -999,   3498.2,   1.4598,  34.6767,2,  34.6786,2,    139.5,2,   152.30,2,    36.50,2,     0.00,2,     2.54,2, -999.000,9, -999.000,9,   -999.0,9,  -999.00,9,  -999.00,9,   2328.5,2,   2430.5,2,  1.1949
    18DD9403_1,  P15N,   066,  3,   1477,      3,2,19941007,0417, 22.9140,-165.4595, -999,   3987.3,   1.4467,  34.6830,2,  34.6841,2,    151.8,2,   149.70,2,    36.10,2,     0.00,2,     2.51,2, -999.000,9, -999.000,9,   -999.0,9,  -999.00,9,  -999.00,9,   2324.1,2,   -999.0,9,  1.1306
    18DD9403_1,  P15N,   066,  3,   1478,      2,2,19941007,0417, 22.9140,-165.4595, -999,   4499.2,   1.4792,  34.6866,2,  34.6869,2,    155.3,2,   148.40,2,    35.80,2,     0.00,2,     2.48,2, -999.000,9, -999.000,9,   -999.0,9,  -999.00,9,  -999.00,9,   2320.2,2,   2428.2,2,  1.1050
    18DD9403_1,  P15N,   066,  3,   1479,      1,2,19941007,0417, 22.9140,-165.4595, -999,   4808.7,   1.5079,  34.6860,2,  34.6877,2,    157.3,2,   146.50,2,    35.70,2,     0.00,2,     2.47,2, -999.000,9, -999.000,9,   -999.0,9,  -999.00,9,  -999.00,9,   2319.5,2,   -999.0,9,  1.0965