BOTTLE,20130510IOSDFOJC
EXPOCODE,SECT_ID,STNNBR,CASTNO,SAMPNO,BTLNBR,BTLNBR_FLAG_W,DATE,TIME,LATITUDE,LONGITUDE,DEPTH,CTDPRS,CTDTMP,CTDSAL,CTDSAL_FLAG_W,SALNTY,SALNTY_FLAG_W,OXYGEN,OXYGEN_FLAG_W,SILCAT,SILCAT_FLAG_W,NITRAT,NITRAT_FLAG_W,NITRIT,NITRIT_FLAG_W,PHSPHT,PHSPHT_FLAG_W,CFC-11,CFC-11_FLAG_W,CFC-12,CFC-12_FLAG_W,DELC14,DELC14_FLAG_W,DELC13,DELC13_FLAG_W,O18O16,O18O16_FLAG_W,TCARBN,TCARBN_FLAG_W,ALKALI,ALKALI_FLAG_W,THETA
,,,,,,,,,,,,DBAR,ITS-90,PSS-78,,PSS-78,,UMOL/KG,,UMOL/KG,,UMOL/KG,,UMOL/KG,,UMOL/KG,,PMOL/KG,,PMOL/KG,,/MILLE,,/MILLE,,/MILLE,,UMOL/KG,,UMOL/KG,,DEG C
    18DD9403_1,  P15N,   047,  3,    991,    S11,2,19941001,1055, 32.5047,-164.9928, -999,      6.4,  24.5271,  34.9164,2,  34.9220,2,    225.4,2,     4.60,2,     0.00,2,     0.00,2,     0.00,2,    2.136,3,    1.237,3,   -999.0,9,  -999.00,9,  -999.00,9,   -999.0,9,   -999.0,9, 24.5257
    18DD9403_1,  P15N,   047,  3,    992,    S10,2,19941001,1055, 32.5047,-164.9928, -999,     44.0,  18.1396,  34.6375,2,  34.6355,2,    270.9,2,     6.00,2,     0.00,2,     0.00,2,     0.00,2,    2.711,3,    1.415,3,   -999.0,9,  -999.00,9,  -999.00,9,   -999.0,9,   -999.0,9, 18.1320
    18DD9403_1,  P15N,   047,  3,    993,     S9,2,19941001,1055, 32.5047,-164.9928, -999,     96.3,  15.2233,  34.4882,2,  34.6352,2,    271.5,2,     6.00,2,     0.00,2,     0.00,2,     0.00,2,    2.669,3,    1.380,3,   -999.0,9,  -999.00,9,  -999.00,9,   -999.0,9,   -999.0,9, 15.2087
    18DD9403_1,  P15N,   047,  3,    994,     S8,2,19941001,1055, 32.5047,-164.9928, -999,    145.9,  14.1076,  34.4141,2,  34.5111,2,    258.0,2,     6.70,2,     0.40,2,     0.03,2,     0.04,2,    2.583,3,    1.428,3,   -999.0,9,  -999.00,9,  -999.00,9,   -999.0,9,   -999.0,9, 14.0865
    18DD9403_1,  P15N,   047,  3,    995,     S7,2,19941001,1055, 32.5047,-164.9928, -999,    195.6,  12.9669,  34.3660,2,  34.4271,2,    243.2,2,     8.50,2,     3.90,2,     0.00,2,     0.26,2,    4.113,3,    1.538,3,   -999.0,9,  -999.00,9,  -999.00,9,   -999.0,9,   -999.0,9, 12.9402
    18DD9403_1,  P15N,   047,  3,    996,     S6,2,19941001,1055, 32.5047,-164.9928, -999,    247.2,  12.0951,  34.2998,2,  34.3199,2,    227.7,2,    12.50,2,    10.00,2,     0.00,2,     0.75,2,    3.454,3,    1.477,3,   -999.0,9,  -999.00,9,  -999.00,9,   -999.0,9,   -999.0,9, 12.0628
    18DD9403_1,  P15N,   047,  3,    997,     S5,2,19941001,1055, 32.5047,-164.9928, -999,    296.1,  11.2993,  34.2405,2,  34.2583,2,    226.8,2,    15.20,2,    11.90,2,     0.00,2,     0.81,2,    3.414,3,    1.442,3,   -999.0,9,  -999.00,9,  -999.00,9,   -999.0,9,   -999.0,9, 11.2623
    18DD9403_1,  P15N,   047,  3,    998,     S4,2,19941001,1055, 32.5047,-164.9928, -999,    296.7,  11.3133,  34.2404,2,  34.2599,2,    228.4,2,    15.20,2,    11.90,2,     0.00,2,     0.82,2,    3.312,3,    1.669,3,   -999.0,9,  -999.00,9,  -999.00,9,   -999.0,9,   -999.0,9, 11.2762
    18DD9403_1,  P15N,   047,  3,    999,     S3,2,19941001,1055, 32.5047,-164.9928, -999,    296.7,   9.6007,  34.2404,2,  34.2599,2,    225.2,2,    15.00,2,    11.80,2,     0.00,2,     0.83,2,    3.190,3,    1.690,3,   -999.0,9,  -999.00,9,  -999.00,9,   -999.0,9,   -999.0,9,  9.5673
    18DD9403_1,  P15N,   047,  3,   1000,     S2,2,19941001,1055, 32.5047,-164.9928, -999,    494.9,   7.6032,  34.0251,2,  34.0345,2,    182.0,2,    36.70,2,    23.50,2,     0.00,2,     1.66,2,    3.225,3,    1.581,3,   -999.0,9,  -999.00,9,  -999.00,9,   -999.0,9,   -999.0,9,  7.5543
    18DD9403_1,  P15N,   047,  3,   1001,     S1,2,19941001,1055, 32.5047,-164.9928, -999,    594.4,   5.8976,  33.9948,2,  33.9925,2,    129.7,2,    58.60,2,    31.20,2,     0.00,2,     2.26,2,    2.227,3,    1.142,3,   -999.0,9,  -999.00,9,  -999.00,9,   -999.0,9,   -999.0,9,  5.8462
    18DD9403_1,  P15N,   047,  5,   1002,     23,2,19941001,1304, 32.4855,-164.9787, -999,    598.0,   6.1318,  33.9924,2,  33.9931,2,    143.8,2,    54.90,2,    30.30,2,     0.00,2,     2.17,2,    1.319,3,    0.689,3,   -999.0,9,  -999.00,9,  -999.00,9,   -999.0,9,   -999.0,9,  6.0790
    18DD9403_1,  P15N,   047,  5,   1004,     21,2,19941001,1304, 32.4855,-164.9787, -999,    798.7,   4.3603,  34.1218,2,  34.1104,2,     51.9,2,    94.60,2,    40.60,2,     0.00,2,     2.96,2,    0.189,3,    0.192,3,   -999.0,9,  -999.00,9,  -999.00,9,   -999.0,9,   -999.0,9,  4.2994
    18DD9403_1,  P15N,   047,  5,   1003,     22,2,19941001,1304, 32.4855,-164.9787, -999,    798.8,   4.3578,  34.1219,2,  34.1112,2,     52.8,2,    94.70,2,    40.50,2,     0.00,2,     2.92,2,    1.562,3,    0.697,3,   -999.0,9,  -999.00,9,  -999.00,9,   -999.0,9,   -999.0,9,  4.2969
    18DD9403_1,  P15N,   047,  5,   1005,     20,2,19941001,1304, 32.4855,-164.9787, -999,   1000.8,   3.5529,  34.2969,2,  34.3012,2,     13.7,2,   123.70,2,    44.10,2,     0.00,2,     3.18,2,    0.150,3,    0.119,3,   -999.0,9,  -999.00,9,  -999.00,9,   -999.0,9,   -999.0,9,  3.4811
    18DD9403_1,  P15N,   047,  5,   1006,     19,2,19941001,1304, 32.4855,-164.9787, -999,   1203.0,   3.1495,  34.4151,2,  34.4300,2,     17.6,2,   136.40,2,    44.50,2,     0.00,2,     3.21,2,    0.009,3,    0.034,3,   -999.0,9,  -999.00,9,  -999.00,9,   -999.0,9,   -999.0,9,  3.0648
    18DD9403_1,  P15N,   047,  5,   1007,     18,2,19941001,1304, 32.4855,-164.9787, -999,   1249.0,   3.1102,  34.4366,2,  34.4446,2,     23.1,2,   137.90,2,    44.40,2,     0.00,2,     3.30,2,    0.010,3,    0.000,3,   -999.0,9,  -999.00,9,  -999.00,9,   -999.0,9,   -999.0,9,  3.0220
    18DD9403_1,  P15N,   047,  5,   1008,     17,2,19941001,1304, 32.4855,-164.9787, -999,   1499.6,   2.6457,  34.5184,2,  34.5240,2,     50.3,2,   150.10,2,    44.00,2,     0.00,2,     3.14,2,    0.006,3,    0.020,3,   -999.0,9,  -999.00,9,  -999.00,9,   -999.0,9,   -999.0,9,  2.5421
    18DD9403_1,  P15N,   047,  5,   1009,     16,2,19941001,1304, 32.4855,-164.9787, -999,   1755.1,   2.2565,  34.5754,2,  34.5786,2,     59.1,2,   157.70,2,    42.20,2,     0.00,2,     3.00,2,    0.015,3,    0.174,3,   -999.0,9,  -999.00,9,  -999.00,9,   -999.0,9,   -999.0,9,  2.1368
    18DD9403_1,  P15N,   047,  5,   1010,     15,2,19941001,1304, 32.4855,-164.9787, -999,   1995.6,   2.0174,  34.6051,2,  34.6056,2,     69.5,2,   165.20,2,    41.80,2,     0.00,2,     2.95,2, -999.000,9, -999.000,9,   -999.0,9,  -999.00,9,  -999.00,9,   -999.0,9,   -999.0,9,  1.8811
    18DD9403_1,  P15N,   047,  5,   1011,     14,2,19941001,1304, 32.4855,-164.9787, -999,   2249.5,   1.8231,  34.6278,2,  34.6284,2,     86.9,2,   167.50,2,    40.40,2,     0.00,2,     2.89,2, -999.000,9, -999.000,9,   -999.0,9,  -999.00,9,  -999.00,9,   -999.0,9,   -999.0,9,  1.6683
    18DD9403_1,  P15N,   047,  5,   1012,     13,2,19941001,1304, 32.4855,-164.9787, -999,   2499.0,   1.7024,  34.6426,2,  34.6423,2,     97.8,2,   167.90,2,    40.00,2,     0.00,2,     2.80,2, -999.000,9, -999.000,9,   -999.0,9,  -999.00,9,  -999.00,9,   -999.0,9,   -999.0,9,  1.5278
    18DD9403_1,  P15N,   047,  5,   1013,     12,2,19941001,1304, 32.4855,-164.9787, -999,   2747.3,   1.6080,  34.6533,2,  34.6523,2,    113.2,2,   165.60,2,    39.00,2,     0.00,2,     2.79,2, -999.000,9, -999.000,9,   -999.0,9,  -999.00,9,  -999.00,9,   -999.0,9,   -999.0,9,  1.4127
    18DD9403_1,  P15N,   047,  5,   1014,     11,2,19941001,1304, 32.4855,-164.9787, -999,   3000.0,   1.5454,  34.6623,2,  34.6536,2,    121.4,2,   162.90,2,    38.40,2,     0.00,2,     2.69,2, -999.000,9, -999.000,9,   -999.0,9,  -999.00,9,  -999.00,9,   -999.0,9,   -999.0,9,  1.3278
    18DD9403_1,  P15N,   047,  5,   1015,     10,2,19941001,1304, 32.4855,-164.9787, -999,   3249.4,   1.5031,  34.6686,2,  34.6556,2,    130.5,2,   159.60,2,    37.70,2,     0.00,2,     2.68,2, -999.000,9, -999.000,9,   -999.0,9,  -999.00,9,  -999.00,9,   -999.0,9,   -999.0,9,  1.2622
    18DD9403_1,  P15N,   047,  5,   1016,      9,2,19941001,1304, 32.4855,-164.9787, -999,   3500.4,   1.4825,  34.6735,2,  34.6695,2,    136.0,2,   157.00,2,    37.30,2,     0.00,2,     2.63,2, -999.000,9, -999.000,9,   -999.0,9,  -999.00,9,  -999.00,9,   -999.0,9,   -999.0,9,  1.2169
    18DD9403_1,  P15N,   047,  5,   1017,      8,2,19941001,1304, 32.4855,-164.9787, -999,   3751.5,   1.4719,  34.6771,2,  34.6748,2,    142.6,2,   155.70,2,    37.00,2,     0.00,2,     2.61,2, -999.000,9, -999.000,9,   -999.0,9,  -999.00,9,  -999.00,9,   -999.0,9,   -999.0,9,  1.1805
    18DD9403_1,  P15N,   047,  5,   1018,      7,2,19941001,1304, 32.4855,-164.9787, -999,   3998.5,   1.4721,  34.6801,2,  34.6906,2,    146.1,2,   154.00,2,    36.60,2,     0.00,2,     2.61,2, -999.000,9, -999.000,9,   -999.0,9,  -999.00,9,  -999.00,9,   -999.0,9,   -999.0,9,  1.1541
    18DD9403_1,  P15N,   047,  5,   1019,      6,2,19941001,1304, 32.4855,-164.9787, -999,   4249.1,   1.4769,  34.6819,2,  34.6816,2,    152.0,2,   152.00,2,    36.60,2,     0.00,2,     2.56,2, -999.000,9, -999.000,9,   -999.0,9,  -999.00,9,  -999.00,9,   -999.0,9,   -999.0,9,  1.1312
    18DD9403_1,  P15N,   047,  5,   1020,      5,2,19941001,1304, 32.4855,-164.9787, -999,   4505.4,   1.4887,  34.6836,2,  34.6834,2,    151.6,2,   150.00,2,    36.10,2,     0.00,2,     2.52,2, -999.000,9, -999.000,9,   -999.0,9,  -999.00,9,  -999.00,9,   -999.0,9,   -999.0,9,  1.1135
    18DD9403_1,  P15N,   047,  5,   1021,      4,2,19941001,1304, 32.4855,-164.9787, -999,   4751.5,   1.5065,  34.6854,2,  34.6861,2,    154.6,2,   148.40,2,    36.10,2,     0.00,2,     2.53,2, -999.000,9, -999.000,9,   -999.0,9,  -999.00,9,  -999.00,9,   -999.0,9,   -999.0,9,  1.1019
    18DD9403_1,  P15N,   047,  5,   1022,      3,2,19941001,1304, 32.4855,-164.9787, -999,   5000.4,   1.5281,  34.6863,2,  34.6864,2,    157.7,2,   147.40,2,    35.80,2,     0.00,2,     2.53,2, -999.000,9, -999.000,9,   -999.0,9,  -999.00,9,  -999.00,9,   -999.0,9,   -999.0,9,  1.0929
    18DD9403_1,  P15N,   047,  5,   1023,      2,2,19941001,1304, 32.4855,-164.9787, -999,   5486.1,   1.5730,  34.6882,2,  34.6874,2,    159.5,2,   144.70,2,    35.80,2,     0.00,2,     2.54,2, -999.000,9, -999.000,9,   -999.0,9,  -999.00,9,  -999.00,9,   -999.0,9,   -999.0,9,  1.0756
    18DD9403_1,  P15N,   047,  5,   1024,      1,2,19941001,1304, 32.4855,-164.9787, -999,   5671.7,   1.5906,  34.6887,2,  34.6898,2,    159.1,2,   145.80,2,    35.90,2,     0.00,2,     2.50,2, -999.000,9, -999.000,9,   -999.0,9,  -999.00,9,  -999.00,9,   -999.0,9,   -999.0,9,  1.0685
    18DD9403_1,  P15N,   048,  3,   1025,     23,2,19941001,2034, 31.9945,-164.9973, -999,      9.5,  25.1035,  35.0740,2,  35.0402,2,    212.9,2,     3.40,2,     0.00,2,     0.00,2,     0.20,2,    2.007,3,    1.055,3,   -999.0,9,  -999.00,9,  -999.00,9,   1984.0,2,   2309.9,2, 25.1014
    18DD9403_1,  P15N,   048,  3,   1026,     22,2,19941001,2034, 31.9945,-164.9973, -999,     52.7,  18.4678,  34.7171,2,  34.6766,2,    261.2,2,     4.80,2,     0.10,2,     0.00,2,     0.11,2,    2.575,3,    1.474,3,   -999.0,9,  -999.00,9,  -999.00,9,   1994.1,2,   2279.0,2, 18.4586
    18DD9403_1,  P15N,   048,  3,   1027,     21,2,19941001,2034, 31.9945,-164.9973, -999,    104.2,  15.5810,  34.5662,2,  34.5772,2,    246.9,2,     5.40,2,     0.70,2,     0.09,2,     0.19,2,    3.726,3,    1.481,3,   -999.0,9,  -999.00,9,  -999.00,9,   2012.3,2,   2282.1,2, 15.5649
    18DD9403_1,  P15N,   048,  3,   1028,     20,2,19941001,2034, 31.9945,-164.9973, -999,    203.5,  12.7373,  34.3599,2,  34.3494,2,    226.4,2,     9.50,2,     8.30,2,     0.00,2,     0.64,2,    3.795,3,    1.511,3,   -999.0,9,  -999.00,9,  -999.00,9,   2052.7,2,   2281.3,2, 12.7099
    18DD9403_1,  P15N,   048,  3,   1029,     19,2,19941001,2034, 31.9945,-164.9973, -999,    296.6,  11.3322,  34.2640,2,  34.2640,2,    224.2,2,    13.80,2,    11.50,2,     0.00,2,     0.85,2,    3.033,3,    1.746,3,   -999.0,9,  -999.00,9,  -999.00,9,   2072.0,2,   2276.6,2, 11.2951
    18DD9403_1,  P15N,   048,  3,   1030,     18,2,19941001,2034, 31.9945,-164.9973, -999,    401.2,   9.8379,  34.1668,2,  34.1660,2,    212.9,2,    21.00,2,    16.00,2,     0.00,2,     1.17,2,    2.995,3,    1.621,3,   -999.0,9,  -999.00,9,  -999.00,9,   2102.2,2,   2270.8,2,  9.7918
    18DD9403_1,  P15N,   048,  3,   1031,     17,2,19941001,2034, 31.9945,-164.9973, -999,    401.2,   6.1165,  34.1668,2,  34.1648,2,    217.6,2,    21.20,2,    16.00,2,     0.00,2,     1.17,2,    2.860,3,    1.503,3,   -999.0,9,  -999.00,9,  -999.00,9,   2101.6,2,   2276.2,2,  6.0816
    18DD9403_1,  P15N,   048,  3,   1032,     16,2,19941001,2034, 31.9945,-164.9973, -999,    800.0,   4.2583,  34.1279,2,  34.1284,2,     43.5,2,    98.20,2,    41.00,2,     0.00,2,     2.96,2,    2.874,3,    1.551,3,   -999.0,9,  -999.00,9,  -999.00,9,   2311.0,2,   2333.2,2,  4.1979
    18DD9403_1,  P15N,   048,  3,   1033,     15,2,19941001,2034, 31.9945,-164.9973, -999,    999.2,   3.5079,  34.2985,2,  34.3100,2,     12.3,2,   124.80,2,    43.80,2,     0.00,2,     3.19,2,    0.085,3,    0.373,3,   -999.0,9,  -999.00,9,  -999.00,9,   2363.1,2,   2380.1,2,  3.4364
    18DD9403_1,  P15N,   048,  3,   1034,     14,2,19941001,2034, 31.9945,-164.9973, -999,   1252.9,   2.9947,  34.4438,2,  34.4582,2,     19.8,2,   140.80,2,    44.00,2,     0.00,2,     3.20,2,    0.001,3,    0.329,3,   -999.0,9,  -999.00,9,  -999.00,9,   2378.7,2,   2398.8,2,  2.9073
    18DD9403_1,  P15N,   048,  3,   1035,     13,2,19941001,2034, 31.9945,-164.9973, -999,   1501.3,   2.5981,  34.5278,2,  34.5316,2,     37.1,2,   151.10,2,    43.00,2,     0.00,2,     3.14,2,    0.001,3,    0.221,3,   -999.0,9,  -999.00,9,  -999.00,9,   2378.9,2,   2411.3,2,  2.4949
    18DD9403_1,  P15N,   048,  3,   1036,     12,2,19941001,2034, 31.9945,-164.9973, -999,   1746.5,   2.2527,  34.5802,2,  34.5805,2,     60.7,2,   157.20,2,    41.90,2,     0.00,2,     3.07,2,    0.109,3,    0.105,3,   -999.0,9,  -999.00,9,  -999.00,9,   2372.6,2,   2423.3,2,  2.1338
    18DD9403_1,  P15N,   048,  3,   1037,     11,2,19941001,2034, 31.9945,-164.9973, -999,   1999.1,   1.9806,  34.6099,2,  34.6000,2,     76.5,2,   161.90,2,    40.70,2,     0.00,2,     2.91,2, -999.000,9, -999.000,9,   -999.0,9,  -999.00,9,  -999.00,9,   2367.9,2,   2428.4,2,  1.8447
    18DD9403_1,  P15N,   048,  3,   1038,     10,2,19941001,2034, 31.9945,-164.9973, -999,   2250.4,   1.7858,  34.6299,2,  34.6327,2,     92.0,2,   164.00,2,    40.10,2,     0.00,2,     2.86,2, -999.000,9, -999.000,9,   -999.0,9,  -999.00,9,  -999.00,9,   2361.0,2,   2435.4,2,  1.6315
    18DD9403_1,  P15N,   048,  3,   1039,      9,2,19941001,2034, 31.9945,-164.9973, -999,   2500.5,   1.6890,  34.6444,2,  34.6450,2,    101.8,2,   164.40,2,    39.20,2,     0.00,2,     2.78,2, -999.000,9, -999.000,9,   -999.0,9,  -999.00,9,  -999.00,9,   2359.8,2,   2436.7,2,  1.5145
    18DD9403_1,  P15N,   048,  3,   1040,      8,2,19941001,2034, 31.9945,-164.9973, -999,   2749.6,   1.6151,  34.6546,2,  34.6542,2,    111.1,2,   163.40,2,    38.80,2,     0.00,2,     2.72,2, -999.000,9, -999.000,9,   -999.0,9,  -999.00,9,  -999.00,9,   2352.2,2,   2435.6,2,  1.4195
    18DD9403_1,  P15N,   048,  3,   1041,      7,2,19941001,2034, 31.9945,-164.9973, -999,   2998.9,   1.5553,  34.6626,2,  34.6630,2,    120.2,2,   161.60,2,    38.10,2,     0.00,2,     2.67,2, -999.000,9, -999.000,9,   -999.0,9,  -999.00,9,  -999.00,9,   2348.2,2,   -999.0,9,  1.3375
    18DD9403_1,  P15N,   048,  3,   1042,      6,2,19941001,2034, 31.9945,-164.9973, -999,   3500.6,   1.4933,  34.6744,2,  34.6736,2,    135.0,2,   158.30,2,    37.30,2,     0.00,2,     2.60,2, -999.000,9, -999.000,9,   -999.0,9,  -999.00,9,  -999.00,9,   2339.2,2,   2440.1,2,  1.2274
    18DD9403_1,  P15N,   048,  3,   1043,      5,2,19941001,2034, 31.9945,-164.9973, -999,   3999.4,   1.4756,  34.6818,2,  34.6808,2,    145.1,2,   155.80,2,    36.60,2,     0.00,2,     2.54,2, -999.000,9, -999.000,9,   -999.0,9,  -999.00,9,  -999.00,9,   2331.6,2,   2437.2,2,  1.1575
    18DD9403_1,  P15N,   048,  3,   1044,      4,2,19941001,2034, 31.9945,-164.9973, -999,   4501.5,   1.4910,  34.6851,2,  34.6852,2,    151.4,2,   152.20,2,    36.20,2,     0.00,2,     2.51,2, -999.000,9, -999.000,9,   -999.0,9,  -999.00,9,  -999.00,9,   2328.3,2,   -999.0,9,  1.1162
    18DD9403_1,  P15N,   048,  3,   1045,      3,2,19941001,2034, 31.9945,-164.9973, -999,   5000.5,   1.5266,  34.6877,2,  34.6880,2,    157.6,2,   150.10,2,    35.90,2,     0.00,2,     2.49,2, -999.000,9, -999.000,9,   -999.0,9,  -999.00,9,  -999.00,9,   2325.1,2,   2438.8,2,  1.0914
    18DD9403_1,  P15N,   048,  3,   1046,      2,9,19941001,2034, 31.9945,-164.9973, -999,   5501.3,   1.5752,  34.6900,2,-999.0000,9,   -999.0,9,  -999.00,9,  -999.00,9,  -999.00,9,  -999.00,9, -999.000,9, -999.000,9,   -999.0,9,  -999.00,9,  -999.00,9,   -999.0,9,   -999.0,9,  1.0757
    18DD9403_1,  P15N,   048,  3,   1047,      1,2,19941001,2034, 31.9945,-164.9973, -999,   5984.1,   1.6247,  34.6915,2,  34.6902,2,    161.3,2,   144.60,2,    35.60,2,     0.00,2,     2.50,2, -999.000,9, -999.000,9,   -999.0,9,  -999.00,9,  -999.00,9,   2319.0,2,   2441.3,2,  1.0601