BOTTLE,20130510IOSDFOJC
EXPOCODE,SECT_ID,STNNBR,CASTNO,SAMPNO,BTLNBR,BTLNBR_FLAG_W,DATE,TIME,LATITUDE,LONGITUDE,DEPTH,CTDPRS,CTDTMP,CTDSAL,CTDSAL_FLAG_W,SALNTY,SALNTY_FLAG_W,OXYGEN,OXYGEN_FLAG_W,SILCAT,SILCAT_FLAG_W,NITRAT,NITRAT_FLAG_W,NITRIT,NITRIT_FLAG_W,PHSPHT,PHSPHT_FLAG_W,CFC-11,CFC-11_FLAG_W,CFC-12,CFC-12_FLAG_W,DELC14,DELC14_FLAG_W,DELC13,DELC13_FLAG_W,O18O16,O18O16_FLAG_W,TCARBN,TCARBN_FLAG_W,ALKALI,ALKALI_FLAG_W,THETA
,,,,,,,,,,,,DBAR,ITS-90,PSS-78,,PSS-78,,UMOL/KG,,UMOL/KG,,UMOL/KG,,UMOL/KG,,UMOL/KG,,PMOL/KG,,PMOL/KG,,/MILLE,,/MILLE,,/MILLE,,UMOL/KG,,UMOL/KG,,DEG C
    18DD9403_1,  P15N,   027,  1,    457,     23,2,19940925,1003, 42.4997,-164.9997, 5857,     10.2,  15.9259,  33.4659,2,  33.4208,2,    254.3,2,     9.80,2,     4.70,2,     0.06,2,     0.46,2,    3.994,3,    1.698,3,   -999.0,9,  -999.00,9,  -999.00,9,   -999.0,9,   -999.0,9, 15.9243
    18DD9403_1,  P15N,   027,  1,    458,     22,2,19940925,1003, 42.4997,-164.9997, 5857,     51.5,   9.1172,  33.6179,2,  33.6328,2,    301.3,2,    15.50,2,     9.50,2,     0.13,2,     0.78,2,    5.172,3,    2.206,3,   -999.0,9,  -999.00,9,  -999.00,9,   -999.0,9,   -999.0,9,  9.1117
    18DD9403_1,  P15N,   027,  1,    459,     21,2,19940925,1003, 42.4997,-164.9997, 5857,    100.7,   8.4726,  33.6882,2,  33.7131,2,    278.6,2,    17.80,2,    12.40,2,     0.04,2,     0.89,2,    4.668,3,    2.195,3,   -999.0,9,  -999.00,9,  -999.00,9,   -999.0,9,   -999.0,9,  8.4623
    18DD9403_1,  P15N,   027,  1,    460,     20,2,19940925,1003, 42.4997,-164.9997, 5857,    201.2,   8.1639,  33.9745,2,  33.9746,2,    248.0,2,    24.80,2,    16.40,2,     0.00,2,     1.09,2,    3.837,3,    2.098,3,   -999.0,9,  -999.00,9,  -999.00,9,   -999.0,9,   -999.0,9,  8.1436
    18DD9403_1,  P15N,   027,  1,    461,     19,2,19940925,1003, 42.4997,-164.9997, 5857,    299.5,   7.0236,  33.9920,2,  33.9889,2,    178.8,2,    42.70,2,    24.80,2,     0.00,2,     1.65,2,    2.546,3,    1.327,3,   -999.0,9,  -999.00,9,  -999.00,9,   -999.0,9,   -999.0,9,  6.9957
    18DD9403_1,  P15N,   027,  1,    462,     18,2,19940925,1003, 42.4997,-164.9997, 5857,    401.4,   5.4928,  33.9671,2,  33.9674,2,    131.9,2,    63.80,2,    32.10,2,     0.00,2,     2.17,2,    1.935,3,    1.251,3,   -999.0,9,  -999.00,9,  -999.00,9,   -999.0,9,   -999.0,9,  5.4599
    18DD9403_1,  P15N,   027,  1,    463,     17,2,19940925,1003, 42.4997,-164.9997, 5857,    602.1,   4.3320,  34.0863,2,  34.0937,2,     66.4,2,    95.50,2,    39.80,2,     0.00,2,     2.68,2,    1.548,3,    1.892,3,   -999.0,9,  -999.00,9,  -999.00,9,   -999.0,9,   -999.0,9,  4.2871
    18DD9403_1,  P15N,   027,  1,    465,     15,2,19940925,1003, 42.4997,-164.9997, 5857,    801.6,   3.6567,  34.2385,2,  34.2295,2,     35.4,2,   117.90,2,    42.70,2,     0.00,2,     2.93,2,    0.210,3,    0.376,3,   -999.0,9,  -999.00,9,  -999.00,9,   -999.0,9,   -999.0,9,  3.5998
    18DD9403_1,  P15N,   027,  1,    464,     16,2,19940925,1003, 42.4997,-164.9997, 5857,    801.7,   3.6572,  34.2385,2,  34.2298,2,     35.7,2,   119.10,2,    42.90,2,     0.00,2,     2.87,2,    0.195,3,    0.452,3,   -999.0,9,  -999.00,9,  -999.00,9,   -999.0,9,   -999.0,9,  3.6002
    18DD9403_1,  P15N,   027,  1,    466,     14,2,19940925,1003, 42.4997,-164.9997, 5857,    999.5,   3.1635,  34.3384,2,  34.3303,2,     23.6,2,   135.20,2,    43.90,2,     0.00,2,     2.98,2,    0.069,3,    0.000,3,   -999.0,9,  -999.00,9,  -999.00,9,   -999.0,9,   -999.0,9,  3.0947
    18DD9403_1,  P15N,   027,  1,    467,     13,2,19940925,1003, 42.4997,-164.9997, 5857,   1250.9,   2.7171,  34.4274,2,  34.4207,2,     18.5,2,   151.30,2,    44.50,2,     0.00,2,     3.01,2,    0.000,3,    0.000,3,   -999.0,9,  -999.00,9,  -999.00,9,   -999.0,9,   -999.0,9,  2.6327
    18DD9403_1,  P15N,   027,  1,    468,     12,2,19940925,1003, 42.4997,-164.9997, 5857,   1500.1,   2.4126,  34.4955,2,  34.4860,2,     16.9,2,   164.20,2,    45.40,2,     0.00,2,     3.06,2,    0.000,3,    0.000,3,   -999.0,9,  -999.00,9,  -999.00,9,   -999.0,9,   -999.0,9,  2.3117
    18DD9403_1,  P15N,   027,  1,    469,     11,2,19940925,1003, 42.4997,-164.9997, 5857,   1751.4,   2.1546,  34.5478,2,  34.5429,2,     28.4,2,   170.00,2,    44.90,2,     0.00,2,     2.95,2,    0.000,3,    0.000,3,   -999.0,9,  -999.00,9,  -999.00,9,   -999.0,9,   -999.0,9,  2.0367
    18DD9403_1,  P15N,   027,  1,    470,     10,2,19940925,1003, 42.4997,-164.9997, 5857,   2000.8,   1.9644,  34.5827,2,  34.5824,2,     47.6,2,   173.10,2,    43.80,2,     0.00,2,     2.89,2,    0.000,3,    0.000,3,   -999.0,9,  -999.00,9,  -999.00,9,   -999.0,9,   -999.0,9,  1.8287
    18DD9403_1,  P15N,   027,  1,    471,      9,2,19940925,1003, 42.4997,-164.9997, 5857,   2249.3,   1.8255,  34.6088,2,  34.6101,2,     64.3,2,   174.30,2,    42.40,2,     0.00,2,     2.87,2, -999.000,9, -999.000,9,   -999.0,9,  -999.00,9,  -999.00,9,   -999.0,9,   -999.0,9,  1.6707
    18DD9403_1,  P15N,   027,  1,    472,      8,2,19940925,1003, 42.4997,-164.9997, 5857,   2500.7,   1.7167,  34.6284,2,  34.6294,2,     81.1,2,   173.20,2,    41.80,2,     0.00,2,     2.73,2, -999.000,9, -999.000,9,   -999.0,9,  -999.00,9,  -999.00,9,   -999.0,9,   -999.0,9,  1.5417
    18DD9403_1,  P15N,   027,  1,    473,      7,2,19940925,1003, 42.4997,-164.9997, 5857,   3000.5,   1.5699,  34.6545,2,  34.6557,2,    111.2,2,   168.20,2,    39.30,2,     0.00,2,     2.63,2, -999.000,9, -999.000,9,   -999.0,9,  -999.00,9,  -999.00,9,   -999.0,9,   -999.0,9,  1.3517
    18DD9403_1,  P15N,   027,  1,    474,      6,2,19940925,1003, 42.4997,-164.9997, 5857,   3504.0,   1.4931,  34.6702,2,  34.6703,2,    132.3,2,   162.20,2,    37.90,2,     0.00,2,     2.49,2, -999.000,9, -999.000,9,   -999.0,9,  -999.00,9,  -999.00,9,   -999.0,9,   -999.0,9,  1.2268
    18DD9403_1,  P15N,   027,  1,    475,      5,2,19940925,1003, 42.4997,-164.9997, 5857,   4000.7,   1.4655,  34.6798,2,  34.6800,2,    145.3,2,   158.30,2,    36.70,2,     0.00,2,     2.44,2, -999.000,9, -999.000,9,   -999.0,9,  -999.00,9,  -999.00,9,   -999.0,9,   -999.0,9,  1.1475
    18DD9403_1,  P15N,   027,  1,    476,      4,2,19940925,1003, 42.4997,-164.9997, 5857,   4501.6,   1.4887,  34.6800,2,  34.6847,2,    148.6,2,   161.30,2,    37.00,2,     0.00,2,     2.40,2, -999.000,9, -999.000,9,   -999.0,9,  -999.00,9,  -999.00,9,   -999.0,9,   -999.0,9,  1.1139
    18DD9403_1,  P15N,   027,  1,    477,      3,2,19940925,1003, 42.4997,-164.9997, 5857,   5000.1,   1.5464,  34.6800,2,  34.6851,2,    149.0,2,   163.10,2,    37.00,2,     0.00,2,     2.39,2, -999.000,9, -999.000,9,   -999.0,9,  -999.00,9,  -999.00,9,   -999.0,9,   -999.0,9,  1.1106
    18DD9403_1,  P15N,   027,  1,    478,      2,2,19940925,1003, 42.4997,-164.9997, 5857,   5499.8,   1.6105,  34.6800,2,  34.6862,2,    150.2,3,   164.50,2,    36.90,2,     0.00,2,     2.39,2, -999.000,9, -999.000,9,   -999.0,9,  -999.00,9,  -999.00,9,   -999.0,9,   -999.0,9,  1.1099
    18DD9403_1,  P15N,   027,  1,    479,      1,2,19940925,1003, 42.4997,-164.9997, 5857,   5927.4,   1.6676,  34.6800,2,  34.6860,2,    149.5,2,   160.90,2,    36.50,2,     0.00,2,     2.40,2, -999.000,9, -999.000,9,   -999.0,9,  -999.00,9,  -999.00,9,   -999.0,9,   -999.0,9,  1.1089
    18DD9403_1,  P15N,   028,  3,    486,     17,2,19940925,1747, 42.0027,-164.9870, -999,   2000.5,   1.9661,  34.5818,2,  34.5839,2,     47.8,2,   171.60,2,    43.10,2,     0.00,2,     2.95,2,    0.000,3,    0.000,3,   -999.0,9,  -999.00,9,  -999.00,9,   2390.5,2,   2428.3,2,  1.8304
    18DD9403_1,  P15N,   028,  3,    487,     16,2,19940925,1747, 42.0027,-164.9870, -999,   2250.3,   1.8213,  34.6096,2,  34.6142,2,     66.2,2,   172.70,2,    42.10,2,     0.00,2,     2.86,2, -999.000,9, -999.000,9,   -999.0,9,  -999.00,9,  -999.00,9,   2383.3,2,   -999.0,9,  1.6665
    18DD9403_1,  P15N,   028,  3,    488,     15,2,19940925,1747, 42.0027,-164.9870, -999,   2500.2,   1.7189,  34.6290,2,  34.6299,2,     82.3,2,   172.50,2,    40.90,2,     0.00,2,     3.12,4, -999.000,9, -999.000,9,   -999.0,9,  -999.00,9,  -999.00,9,   2286.0,4,   2431.9,2,  1.5439
    18DD9403_1,  P15N,   028,  3,    489,     14,2,19940925,1747, 42.0027,-164.9870, -999,   2748.8,   1.6306,  34.6451,2,  34.6451,2,     98.5,2,   169.60,2,    40.00,2,     0.00,2,     2.73,2, -999.000,9, -999.000,9,   -999.0,9,  -999.00,9,  -999.00,9,   2301.2,4,   -999.0,9,  1.4348
    18DD9403_1,  P15N,   028,  3,    490,     13,2,19940925,1747, 42.0027,-164.9870, -999,   3000.1,   1.5640,  34.6560,2,  34.6565,2,    113.3,2,   165.30,2,    39.00,2,     0.00,2,     2.64,2, -999.000,9, -999.000,9,   -999.0,9,  -999.00,9,  -999.00,9,   2316.6,4,   2430.5,2,  1.3459
    18DD9403_1,  P15N,   028,  3,    491,     12,2,19940925,1747, 42.0027,-164.9870, -999,   3250.8,   1.5169,  34.6655,2,  34.6673,2,    125.0,2,   162.70,2,    38.30,2,     0.00,2,     2.59,2, -999.000,9, -999.000,9,   -999.0,9,  -999.00,9,  -999.00,9,   2344.6,2,   -999.0,9,  1.2755
    18DD9403_1,  P15N,   028,  3,    492,     11,2,19940925,1747, 42.0027,-164.9870, -999,   3501.0,   1.4873,  34.6720,2,  34.6720,2,    134.2,2,   160.30,2,    37.70,2,     0.00,2,     2.55,2, -999.000,9, -999.000,9,   -999.0,9,  -999.00,9,  -999.00,9,   2337.8,2,   -999.0,9,  1.2215
    18DD9403_1,  P15N,   028,  3,    493,     10,2,19940925,1747, 42.0027,-164.9870, -999,   3749.7,   1.4660,  34.6776,2,  34.6780,2,    142.0,2,   157.70,2,    37.20,2,     0.00,2,     2.51,2, -999.000,9, -999.000,9,   -999.0,9,  -999.00,9,  -999.00,9,   2334.3,2,   -999.0,9,  1.1749
    18DD9403_1,  P15N,   028,  3,    494,      9,2,19940925,1747, 42.0027,-164.9870, -999,   3997.5,   1.4614,  34.6817,2,  34.6819,2,    146.5,2,   157.20,2,    36.70,2,     0.00,2,     2.48,2, -999.000,9, -999.000,9,   -999.0,9,  -999.00,9,  -999.00,9,   2332.4,2,   2432.3,2,  1.1439
    18DD9403_1,  P15N,   028,  3,    495,      8,2,19940925,1747, 42.0027,-164.9870, -999,   4250.3,   1.4676,  34.6846,2,  34.6849,2,    149.3,2,   159.20,2,    36.80,2,     0.00,2,     2.47,2, -999.000,9, -999.000,9,   -999.0,9,  -999.00,9,  -999.00,9,   2332.5,2,   -999.0,9,  1.1220
    18DD9403_1,  P15N,   028,  3,    496,      7,2,19940925,1747, 42.0027,-164.9870, -999,   4551.9,   1.4938,  34.6863,2,  34.6869,2,    149.7,2,   160.80,2,    36.50,2,     0.00,2,     2.46,2, -999.000,9, -999.000,9,   -999.0,9,  -999.00,9,  -999.00,9,   2330.1,2,   2432.7,2,  1.1130
    18DD9403_1,  P15N,   028,  3,    497,      6,2,19940925,1747, 42.0027,-164.9870, -999,   4750.1,   1.5169,  34.6865,2,  34.6862,2,    149.5,2,   160.50,2,    36.80,2,     0.00,2,     2.47,2, -999.000,9, -999.000,9,   -999.0,9,  -999.00,9,  -999.00,9,   2329.2,2,   -999.0,9,  1.1121
    18DD9403_1,  P15N,   028,  3,    498,      5,2,19940925,1747, 42.0027,-164.9870, -999,   4999.7,   1.5465,  34.6871,2,  34.6867,2,    150.4,2,   161.60,2,    36.90,2,     0.00,2,     2.47,2, -999.000,9, -999.000,9,   -999.0,9,  -999.00,9,  -999.00,9,   2329.3,2,   2432.3,2,  1.1107
    18DD9403_1,  P15N,   028,  3,    499,      4,2,19940925,1747, 42.0027,-164.9870, -999,   5249.0,   1.5780,  34.6872,2,  34.6864,2,    150.0,2,   161.10,2,    36.80,2,     0.00,2,     2.48,2, -999.000,9, -999.000,9,   -999.0,9,  -999.00,9,  -999.00,9,   2329.5,2,   -999.0,9,  1.1104
    18DD9403_1,  P15N,   028,  3,    500,      3,2,19940925,1747, 42.0027,-164.9870, -999,   5497.9,   1.6104,  34.6875,2,  34.6865,2,    150.2,2,   161.30,2,    36.80,2,     0.00,2,     2.48,2, -999.000,9, -999.000,9,   -999.0,9,  -999.00,9,  -999.00,9,   2329.6,2,   2433.4,2,  1.1101
    18DD9403_1,  P15N,   028,  3,    501,      2,2,19940925,1747, 42.0027,-164.9870, -999,   5748.6,   1.6435,  34.6875,2,  34.6873,2,    149.9,2,   161.70,2,    36.70,2,     0.00,2,     2.47,2, -999.000,9, -999.000,9,   -999.0,9,  -999.00,9,  -999.00,9,   2330.4,2,   -999.0,9,  1.1094
    18DD9403_1,  P15N,   028,  3,    502,      1,2,19940925,1747, 42.0027,-164.9870, -999,   5912.7,   1.6658,  34.6872,2,  34.6870,2,    150.3,2,   160.90,2,    36.60,2,     0.00,2,     2.50,2, -999.000,9, -999.000,9,   -999.0,9,  -999.00,9,  -999.00,9,   2341.8,2,   2432.8,2,  1.1092
    18DD9403_1,  P15N,   028,  4,    480,     23,2,19940925,2056, 42.0043,-164.9615, -999,    800.1,   3.6748,  34.2262,2,  34.2290,2,     36.5,2,   116.30,2,    41.80,2,     0.00,2,     2.93,2,    0.231,3,    0.263,3,   -999.0,9,  -999.00,9,  -999.00,9,   2339.5,2,   2351.2,2,  3.6179
    18DD9403_1,  P15N,   028,  4,    482,     21,2,19940925,2056, 42.0043,-164.9615, -999,    999.4,   3.1916,  34.3292,2,  34.3321,2,     23.0,2,   133.50,2,    43.80,2,     0.00,2,     3.04,2,    0.037,3,    0.221,3,   -999.0,9,  -999.00,9,  -999.00,9,   2366.0,2,   2375.1,2,  3.1226
    18DD9403_1,  P15N,   028,  4,    481,     22,2,19940925,2056, 42.0043,-164.9615, -999,    999.7,   3.1894,  34.3294,2,  34.3328,2,     23.2,2,   134.20,2,    43.60,2,     0.00,2,     3.04,2,    0.039,3,    0.252,3,   -999.0,9,  -999.00,9,  -999.00,9,   2366.2,2,   2366.0,2,  3.1204
    18DD9403_1,  P15N,   028,  4,    483,     20,2,19940925,2056, 42.0043,-164.9615, -999,   1249.4,   2.7325,  34.4229,2,  34.4238,2,     17.8,2,   150.00,2,    44.60,2,     0.00,2,     3.08,2,    0.000,3,    0.000,3,   -999.0,9,  -999.00,9,  -999.00,9,   2384.5,2,   2394.8,2,  2.6481
    18DD9403_1,  P15N,   028,  4,    484,     19,2,19940925,2056, 42.0043,-164.9615, -999,   1500.0,   2.3986,  34.4889,2,  34.4896,2,     21.8,2,   160.90,2,    44.50,2,     0.00,2,     3.28,4,    0.000,3,    0.246,3,   -999.0,9,  -999.00,9,  -999.00,9,   2392.9,2,   2406.4,2,  2.2979
    18DD9403_1,  P15N,   028,  4,    485,     18,2,19940925,2056, 42.0043,-164.9615, -999,   1750.3,   2.1547,  34.5402,2,  34.5447,2,     29.3,2,   168.40,2,    44.40,2,     0.00,2,     3.04,2,    0.000,3,    0.000,3,   -999.0,9,  -999.00,9,  -999.00,9,   2393.7,2,   2414.3,2,  2.0369
    18DD9403_1,  P15N,   028,  6,    503,     S1,2,19940925,2209, 42.0040,-164.9542, -999,      6.6,  16.1391,  33.3814,2,  33.3780,2,    266.1,3,     8.50,2,     3.80,2,     0.04,2,     0.50,2,    4.750,3,    1.705,3,   -999.0,9,  -999.00,9,  -999.00,9,   1981.6,2,   2234.0,2, 16.1381
    18DD9403_1,  P15N,   028,  6,    504,     S2,2,19940925,2209, 42.0040,-164.9542, -999,     44.2,  10.1646,  33.7521,2,  33.7072,2,    312.9,2,    11.90,2,     7.80,2,     0.10,2,     0.75,2,    6.149,3,    2.048,3,   -999.0,9,  -999.00,9,  -999.00,9,   2032.0,2,   2250.3,2, 10.1595
    18DD9403_1,  P15N,   028,  6,    505,     S3,2,19940925,2209, 42.0040,-164.9542, -999,     95.7,   8.9778,  33.8403,2,  33.8341,2,    282.6,2,    15.90,2,    11.20,2,     0.27,2,     0.93,2,    4.691,3,    1.995,3,   -999.0,9,  -999.00,9,  -999.00,9,   2065.2,2,   2252.4,2,  8.9676
    18DD9403_1,  P15N,   028,  6,    506,     S4,2,19940925,2209, 42.0040,-164.9542, -999,    143.2,   9.0358,  33.9640,2,  33.9644,2,    275.6,2,    16.60,2,    11.80,2,     0.01,2,     0.92,2,    3.722,3,    1.819,3,   -999.0,9,  -999.00,9,  -999.00,9,   2072.7,2,   2072.5,3,  9.0205
    18DD9403_1,  P15N,   028,  6,    507,     S5,2,19940925,2209, 42.0040,-164.9542, -999,    194.9,   8.7999,  34.0492,2,  34.0485,2,    244.5,2,    21.60,2,    15.30,2,     0.02,2,     1.12,2,    3.727,3,    1.820,3,   -999.0,9,  -999.00,9,  -999.00,9,   2096.9,2,   -999.0,9,  8.7793
    18DD9403_1,  P15N,   028,  6,    508,     S6,2,19940925,2209, 42.0040,-164.9542, -999,    197.1,   8.8029,  34.0492,2,  34.0486,2,    246.2,2,    21.80,2,    15.20,2,     0.02,2,     1.12,2,    3.566,3,    1.900,3,   -999.0,9,  -999.00,9,  -999.00,9,   2096.1,2,   -999.0,9,  8.7820
    18DD9403_1,  P15N,   028,  6,    509,     S7,2,19940925,2209, 42.0040,-164.9542, -999,    243.9,   8.0721,  33.9963,2,  33.9890,2,    238.9,2,    25.80,2,    17.20,2,     0.00,2,     1.26,2,    3.738,3,    1.819,3,   -999.0,9,  -999.00,9,  -999.00,9,   2112.5,2,   -999.0,9,  8.0476
    18DD9403_1,  P15N,   028,  6,    510,     S8,2,19940925,2209, 42.0040,-164.9542, -999,    293.7,   7.4422,  33.9852,2,  33.9840,2,    205.6,2,    35.10,2,    21.60,2,     0.00,2,     1.56,2,    3.197,3,    1.587,3,   -999.0,9,  -999.00,9,  -999.00,9,   2142.8,2,   -999.0,9,  7.4140
    18DD9403_1,  P15N,   028,  6,    511,     S9,2,19940925,2209, 42.0040,-164.9542, -999,    396.8,   5.7126,  33.9696,2,  33.9678,2,    139.9,2,    59.10,2,    30.80,2,     0.00,2,     2.19,2,    2.831,3,    1.414,3,   -999.0,9,  -999.00,9,  -999.00,9,   2296.5,3,   -999.0,9,  5.6794
    18DD9403_1,  P15N,   028,  6,    512,    S10,2,19940925,2209, 42.0040,-164.9542, -999,    494.7,   4.7839,  34.0095,2,  34.0068,2,    103.6,2,    77.10,2,    35.60,2,     0.00,2,     2.53,2,    1.408,3,    0.942,3,   -999.0,9,  -999.00,9,  -999.00,9,   2258.5,2,   -999.0,9,  4.7457
    18DD9403_1,  P15N,   028,  6,    513,    S11,2,19940925,2209, 42.0040,-164.9542, -999,    598.6,   4.3100,  34.0833,2,  34.1010,2,     67.1,2,    93.50,2,    39.00,2,     0.00,2,     2.77,2,    0.744,3,    0.695,3,   -999.0,9,  -999.00,9,  -999.00,9,   2296.5,2,   -999.0,9,  4.2655