BOTTLE,20130510IOSDFOJC
EXPOCODE,SECT_ID,STNNBR,CASTNO,SAMPNO,BTLNBR,BTLNBR_FLAG_W,DATE,TIME,LATITUDE,LONGITUDE,DEPTH,CTDPRS,CTDTMP,CTDSAL,CTDSAL_FLAG_W,SALNTY,SALNTY_FLAG_W,OXYGEN,OXYGEN_FLAG_W,SILCAT,SILCAT_FLAG_W,NITRAT,NITRAT_FLAG_W,NITRIT,NITRIT_FLAG_W,PHSPHT,PHSPHT_FLAG_W,CFC-11,CFC-11_FLAG_W,CFC-12,CFC-12_FLAG_W,DELC14,DELC14_FLAG_W,DELC13,DELC13_FLAG_W,O18O16,O18O16_FLAG_W,TCARBN,TCARBN_FLAG_W,ALKALI,ALKALI_FLAG_W,THETA
,,,,,,,,,,,,DBAR,ITS-90,PSS-78,,PSS-78,,UMOL/KG,,UMOL/KG,,UMOL/KG,,UMOL/KG,,UMOL/KG,,PMOL/KG,,PMOL/KG,,/MILLE,,/MILLE,,/MILLE,,UMOL/KG,,UMOL/KG,,DEG C
    18DD9403_1,  P15N,   049,  3,   1048,    S11,2,19941002,0221, 31.5043,-165.0073, -999,      6.3,  25.3629,  35.1060,2,  35.0887,2,    219.4,3,     3.30,2,     0.10,2,     0.00,2,     0.29,4,    2.001,3,    1.407,3,   -999.0,9,  -999.00,9,  -999.00,9,   -999.0,9,   -999.0,9, 25.3615
    18DD9403_1,  P15N,   049,  3,   1049,    S10,2,19941002,0221, 31.5043,-165.0073, -999,     46.5,  20.1702,  34.7036,2,  34.7790,2,    260.8,3,     4.60,2,     0.10,2,     0.00,2,     0.07,2,    2.360,3,    1.317,3,   -999.0,9,  -999.00,9,  -999.00,9,   -999.0,9,   -999.0,9, 20.1616
    18DD9403_1,  P15N,   049,  3,   1050,     S9,2,19941002,0221, 31.5043,-165.0073, -999,     95.3,  15.3393,  34.5460,2,  34.7803,2,    267.7,3,     4.60,2,     0.10,2,     0.00,2,     0.07,2,    2.131,3,    1.327,3,   -999.0,9,  -999.00,9,  -999.00,9,   -999.0,9,   -999.0,9, 15.3247
    18DD9403_1,  P15N,   049,  3,   1051,     S8,2,19941002,0221, 31.5043,-165.0073, -999,    146.7,  13.9327,  34.4382,2,  34.4420,2,    233.2,3,     7.50,2,     5.80,2,     0.00,2,     0.50,2,    2.292,3,    1.280,3,   -999.0,9,  -999.00,9,  -999.00,9,   -999.0,9,   -999.0,9, 13.9117
    18DD9403_1,  P15N,   049,  3,   1052,     S7,2,19941002,0221, 31.5043,-165.0073, -999,    196.6,  12.8379,  34.3733,2,  34.3720,2,    227.5,3,    10.00,2,     8.70,2,     0.00,2,     0.74,2,    3.193,3,    1.672,3,   -999.0,9,  -999.00,9,  -999.00,9,   -999.0,9,   -999.0,9, 12.8112
    18DD9403_1,  P15N,   049,  3,   1053,     S6,2,19941002,0221, 31.5043,-165.0073, -999,    295.8,  11.2073,  34.2563,2,  34.2685,2,    225.7,3,    14.70,2,    11.80,2,     0.00,2,     0.91,2,    3.193,3,    1.529,3,   -999.0,9,  -999.00,9,  -999.00,9,   -999.0,9,   -999.0,9, 11.1705
    18DD9403_1,  P15N,   049,  3,   1054,     S5,2,19941002,0221, 31.5043,-165.0073, -999,    396.6,   9.6977,  34.1562,2,  34.1668,2,    210.9,3,    22.30,2,    16.60,2,     0.00,2,     1.22,2,    3.252,3,    1.449,3,   -999.0,9,  -999.00,9,  -999.00,9,   -999.0,9,   -999.0,9,  9.6526
    18DD9403_1,  P15N,   049,  3,   1055,     S4,2,19941002,0221, 31.5043,-165.0073, -999,    494.4,   7.9141,  34.0471,2,  34.0569,2,    184.1,3,    34.00,2,    22.70,2,     0.00,2,     1.63,2,    2.756,3,    1.511,3,   -999.0,9,  -999.00,9,  -999.00,9,   -999.0,9,   -999.0,9,  7.8641
    18DD9403_1,  P15N,   049,  3,   1056,     S3,2,19941002,0221, 31.5043,-165.0073, -999,    497.5,   7.8821,  34.0401,2,  34.0568,2,    184.9,3,    34.20,2,    22.60,2,     0.00,2,     1.63,2,    2.307,3,    1.012,3,   -999.0,9,  -999.00,9,  -999.00,9,   -999.0,9,   -999.0,9,  7.8319
    18DD9403_1,  P15N,   049,  3,   1057,     S2,2,19941002,0221, 31.5043,-165.0073, -999,    595.1,   6.0316,  34.0046,2,  34.0038,2,    130.8,3,    57.60,2,    30.60,2,     0.00,2,     2.33,2,    2.208,3,    1.018,3,   -999.0,9,  -999.00,9,  -999.00,9,   -999.0,9,   -999.0,9,  5.9795
    18DD9403_1,  P15N,   049,  3,   1058,     S1,2,19941002,0221, 31.5043,-165.0073, -999,    791.0,   4.2000,  34.1463,2,  34.1374,2,     46.8,3,    99.00,2,    41.00,2,     0.00,2,     2.99,2,    1.337,3,    0.789,3,   -999.0,9,  -999.00,9,  -999.00,9,   -999.0,9,   -999.0,9,  4.1406
    18DD9403_1,  P15N,   049,  5,   1059,     23,2,19941002,0429, 31.5050,-165.0132, -999,    802.7,   4.1940,  34.1529,2,  34.1372,2,     44.5,3,    99.00,2,    40.90,2,     0.00,2,     2.99,2,    0.116,3,    0.229,3,   -999.0,9,  -999.00,9,  -999.00,9,   -999.0,9,   -999.0,9,  4.1337
    18DD9403_1,  P15N,   049,  5,   1060,     22,2,19941002,0429, 31.5050,-165.0132, -999,   1004.0,   3.4626,  34.3224,2,  34.3154,2,     13.2,3,   126.00,2,    43.70,2,     0.00,2,     3.25,2,    0.092,3,    0.055,3,   -999.0,9,  -999.00,9,  -999.00,9,   -999.0,9,   -999.0,9,  3.3911
    18DD9403_1,  P15N,   049,  5,   1061,     21,2,19941002,0429, 31.5050,-165.0132, -999,   1253.1,   2.9436,  34.4567,2,  34.4629,2,     21.4,3,   142.00,2,    44.00,2,     0.00,2,     3.34,2,    0.000,3,    0.000,3,   -999.0,9,  -999.00,9,  -999.00,9,   -999.0,9,   -999.0,9,  2.8567
    18DD9403_1,  P15N,   049,  5,   1062,     20,2,19941002,0429, 31.5050,-165.0132, -999,   1500.9,   2.6004,  34.5408,2,  34.5346,2,     42.9,3,   149.00,2,    42.70,2,     0.00,2,     3.25,2,    0.001,3,    0.000,3,   -999.0,9,  -999.00,9,  -999.00,9,   -999.0,9,   -999.0,9,  2.4972
    18DD9403_1,  P15N,   049,  5,   1063,     19,2,19941002,0429, 31.5050,-165.0132, -999,   1750.7,   2.2557,  34.5828,2,  34.5792,2,     69.9,3,   153.60,2,    41.30,2,     0.00,2,     3.04,2,    0.002,3,    0.000,3,   -999.0,9,  -999.00,9,  -999.00,9,   -999.0,9,   -999.0,9,  2.1364
    18DD9403_1,  P15N,   049,  5,   1064,     18,2,19941002,0429, 31.5050,-165.0132, -999,   2001.2,   1.9945,  34.6101,2,  34.6071,2,     81.2,3,   158.50,2,    40.40,2,     0.00,2,     2.89,2, -999.000,9, -999.000,9,   -999.0,9,  -999.00,9,  -999.00,9,   -999.0,9,   -999.0,9,  1.8582
    18DD9403_1,  P15N,   049,  5,   1065,     17,2,19941002,0429, 31.5050,-165.0132, -999,   2249.0,   1.8291,  34.6293,2,  34.6240,2,     91.7,2,   162.40,2,    39.90,2,     0.00,2,     3.06,4, -999.000,9, -999.000,9,   -999.0,9,  -999.00,9,  -999.00,9,   -999.0,9,   -999.0,9,  1.6742
    18DD9403_1,  P15N,   049,  5,   1066,     16,2,19941002,0429, 31.5050,-165.0132, -999,   2551.7,   1.6797,  34.6453,2,  34.6430,2,    105.1,3,   162.10,2,    38.80,2,     0.00,2,     2.80,2, -999.000,9, -999.000,9,   -999.0,9,  -999.00,9,  -999.00,9,   -999.0,9,   -999.0,9,  1.5008
    18DD9403_1,  P15N,   049,  5,   1067,     15,2,19941002,0429, 31.5050,-165.0132, -999,   2748.5,   1.6187,  34.6528,2,  34.6450,2,    104.2,2,   163.30,2,    38.90,2,     0.00,2,     2.94,4, -999.000,9, -999.000,9,   -999.0,9,  -999.00,9,  -999.00,9,   -999.0,9,   -999.0,9,  1.4231
    18DD9403_1,  P15N,   049,  5,   1068,     14,2,19941002,0429, 31.5050,-165.0132, -999,   2999.9,   1.5606,  34.6608,2,  34.6612,2,    122.0,2,   160.40,2,    37.80,2,     0.00,2,     2.70,2, -999.000,9, -999.000,9,   -999.0,9,  -999.00,9,  -999.00,9,   -999.0,9,   -999.0,9,  1.3426
    18DD9403_1,  P15N,   049,  5,   1069,     13,2,19941002,0429, 31.5050,-165.0132, -999,   3250.4,   1.5114,  34.6679,2,  34.6681,2,    131.9,3,   158.70,2,    37.40,2,     0.00,2,     2.70,2, -999.000,9, -999.000,9,   -999.0,9,  -999.00,9,  -999.00,9,   -999.0,9,   -999.0,9,  1.2702
    18DD9403_1,  P15N,   049,  5,   1070,     12,2,19941002,0429, 31.5050,-165.0132, -999,   3499.5,   1.4842,  34.6730,2,  34.6736,2,    138.5,3,   156.70,2,    36.70,2,     0.00,2,     2.61,2, -999.000,9, -999.000,9,   -999.0,9,  -999.00,9,  -999.00,9,   -999.0,9,   -999.0,9,  1.2186
    18DD9403_1,  P15N,   049,  5,   1071,     11,2,19941002,0429, 31.5050,-165.0132, -999,   3748.6,   1.4741,  34.6761,2,  34.6769,2,    136.4,3,   155.30,2,    36.50,2,     0.00,2,     2.86,4, -999.000,9, -999.000,9,   -999.0,9,  -999.00,9,  -999.00,9,   -999.0,9,   -999.0,9,  1.1829
    18DD9403_1,  P15N,   049,  5,   1072,     10,2,19941002,0429, 31.5050,-165.0132, -999,   3999.0,   1.4707,  34.6795,2,  34.6799,2,    147.2,3,   153.60,2,    36.10,2,     0.00,2,     2.62,2, -999.000,9, -999.000,9,   -999.0,9,  -999.00,9,  -999.00,9,   -999.0,9,   -999.0,9,  1.1528
    18DD9403_1,  P15N,   049,  5,   1073,      9,2,19941002,0429, 31.5050,-165.0132, -999,   4249.3,   1.4774,  34.6818,2,  34.6820,2,    150.9,3,   152.60,2,    36.20,2,     0.00,2,     2.58,2, -999.000,9, -999.000,9,   -999.0,9,  -999.00,9,  -999.00,9,   -999.0,9,   -999.0,9,  1.1317
    18DD9403_1,  P15N,   049,  5,   1074,      8,2,19941002,0429, 31.5050,-165.0132, -999,   4499.8,   1.4879,  34.6838,2,  34.6840,2,    153.7,3,   151.10,2,    35.90,2,     0.00,2,     2.55,2, -999.000,9, -999.000,9,   -999.0,9,  -999.00,9,  -999.00,9,   -999.0,9,   -999.0,9,  1.1134
    18DD9403_1,  P15N,   049,  5,   1075,      7,2,19941002,0429, 31.5050,-165.0132, -999,   4750.2,   1.5043,  34.6852,2,  34.6857,2,    157.8,3,   150.40,2,    35.90,2,     0.00,2,     3.75,4, -999.000,9, -999.000,9,   -999.0,9,  -999.00,9,  -999.00,9,   -999.0,9,   -999.0,9,  1.0999
    18DD9403_1,  P15N,   049,  5,   1076,      6,2,19941002,0429, 31.5050,-165.0132, -999,   5000.6,   1.5217,  34.6869,2,  34.6871,2,    160.6,3,   147.10,2,    35.50,2,     0.00,2,     2.55,2, -999.000,9, -999.000,9,   -999.0,9,  -999.00,9,  -999.00,9,   -999.0,9,   -999.0,9,  1.0867
    18DD9403_1,  P15N,   049,  5,   1077,      5,2,19941002,0429, 31.5050,-165.0132, -999,   5249.1,   1.5423,  34.6880,2,  34.6879,2,    161.9,3,   145.40,2,    35.50,2,     0.00,2,     2.53,2, -999.000,9, -999.000,9,   -999.0,9,  -999.00,9,  -999.00,9,   -999.0,9,   -999.0,9,  1.0759
    18DD9403_1,  P15N,   049,  5,   1078,      4,2,19941002,0429, 31.5050,-165.0132, -999,   5499.7,   1.5663,  34.6884,2,  34.6886,2,    162.4,3,   144.40,2,    35.40,2,     0.00,2,     3.05,4, -999.000,9, -999.000,9,   -999.0,9,  -999.00,9,  -999.00,9,   -999.0,9,   -999.0,9,  1.0673
    18DD9403_1,  P15N,   049,  5,   1079,      3,2,19941002,0429, 31.5050,-165.0132, -999,   5901.3,   1.6070,  34.6891,2,  34.6897,2,    164.6,3,   142.20,2,    35.40,2,     0.00,2,     2.46,2, -999.000,9, -999.000,9,   -999.0,9,  -999.00,9,  -999.00,9,   -999.0,9,   -999.0,9,  1.0541
    18DD9403_1,  P15N,   049,  5,   1080,      2,2,19941002,0429, 31.5050,-165.0132, -999,   5971.8,   1.6167,  34.6894,2,  34.6899,2,    166.3,3,   142.20,2,    35.20,2,     0.00,2,     2.48,2, -999.000,9, -999.000,9,   -999.0,9,  -999.00,9,  -999.00,9,   -999.0,9,   -999.0,9,  1.0540
    18DD9403_1,  P15N,   049,  5,   1081,      1,2,19941002,0429, 31.5050,-165.0132, -999,   6003.3,   1.6213,  34.6894,2,  34.6893,2,    169.2,3,   142.10,2,    35.30,2,     0.00,2,     2.51,2, -999.000,9, -999.000,9,   -999.0,9,  -999.00,9,  -999.00,9,   -999.0,9,   -999.0,9,  1.0543
    18DD9403_1,  P15N,   050,  3,   1082,     23,2,19941002,1134, 31.0263,-165.0085, -999,      9.3,  25.7286,  35.2155,2,  35.2252,2,    212.9,3,     2.30,2,     0.20,2,     0.00,2,     0.27,2,    1.854,3,    0.842,3,   -999.0,9,  -999.00,9,  -999.00,9,   1987.7,2,   2318.8,2, 25.7265
    18DD9403_1,  P15N,   050,  3,   1083,     22,2,19941002,1134, 31.0263,-165.0085, -999,     51.9,  19.2094,  34.7507,2,  34.7506,2,    264.2,2,     3.90,2,     0.10,2,     0.00,2,     0.17,2,    2.383,3,    1.142,3,   -999.0,9,  -999.00,9,  -999.00,9,   1986.7,2,   2292.3,2, 19.2001
    18DD9403_1,  P15N,   050,  3,   1084,     21,2,19941002,1134, 31.0263,-165.0085, -999,    100.2,  15.4215,  34.6028,2,  34.5983,2,    234.9,2,     5.20,2,     2.70,2,     0.00,2,     0.30,2,    3.180,3,    1.214,3,   -999.0,9,  -999.00,9,  -999.00,9,   2022.9,2,   2281.1,2, 15.4061
    18DD9403_1,  P15N,   050,  3,   1085,     20,2,19941002,1134, 31.0263,-165.0085, -999,    202.2,  13.0432,  34.4178,2,  34.4115,2,    222.9,2,     9.90,2,     8.40,2,     0.00,2,     0.65,2,    2.976,3,    1.449,3,   -999.0,9,  -999.00,9,  -999.00,9,   2053.5,2,   2275.4,2, 13.0155
    18DD9403_1,  P15N,   050,  3,   1086,     19,2,19941002,1134, 31.0263,-165.0085, -999,    298.8,  11.4551,  34.2690,2,  34.2819,2,    223.5,2,    13.70,2,    11.70,2,     0.00,2,     0.84,2,    3.067,3,    1.290,3,   -999.0,9,  -999.00,9,  -999.00,9,   2075.6,2,   2274.2,2, 11.4175
    18DD9403_1,  P15N,   050,  3,   1087,     18,2,19941002,1134, 31.0263,-165.0085, -999,    400.3,   9.5717,  34.1683,2,  34.1590,2,    204.6,2,    23.00,2,    17.20,2,     0.24,2,     1.23,2,    2.674,3,    1.145,3,   -999.0,9,  -999.00,9,  -999.00,9,   2111.6,2,   2274.4,2,  9.5265
    18DD9403_1,  P15N,   050,  3,   1088,     17,2,19941002,1134, 31.0263,-165.0085, -999,    602.0,   5.9460,  34.0066,2,  34.0032,2,    126.5,2,    57.90,2,    31.10,2,     0.00,2,     2.25,2,    1.246,3,    0.418,3,   -999.0,9,  -999.00,9,  -999.00,9,   -999.0,9,   2295.8,2,  5.8937
    18DD9403_1,  P15N,   050,  3,   1089,     16,2,19941002,1134, 31.0263,-165.0085, -999,    798.9,   4.2088,  34.1645,2,  34.1420,2,     42.5,2,    99.70,2,    34.50,4,     0.00,2,     3.04,2,    0.098,3,    0.000,3,   -999.0,9,  -999.00,9,  -999.00,9,   2317.4,2,   2341.8,2,  4.1487
    18DD9403_1,  P15N,   050,  3,   1090,     15,2,19941002,1134, 31.0263,-165.0085, -999,   1000.5,   3.4730,  34.3272,2,  34.3155,2,     11.8,2,   125.40,2,    37.00,4,     0.00,2,     3.17,2,    0.000,3,    0.000,3,   -999.0,9,  -999.00,9,  -999.00,9,   2365.1,2,   2373.5,2,  3.4017
    18DD9403_1,  P15N,   050,  3,   1091,     14,2,19941002,1134, 31.0263,-165.0085, -999,   1259.1,   2.9670,  34.4749,2,  34.4603,2,     18.6,2,   141.40,2,    36.80,4,     0.00,2,     3.16,2,    0.000,3,    0.000,3,   -999.0,9,  -999.00,9,  -999.00,9,   2382.2,2,   2398.4,2,  2.8794
    18DD9403_1,  P15N,   050,  3,   1092,     13,2,19941002,1134, 31.0263,-165.0085, -999,   1506.9,   2.5930,  34.5427,2,  34.5404,2,     47.3,2,   147.60,2,    35.90,4,     0.00,2,     3.02,2,    0.001,3,    0.000,3,   -999.0,9,  -999.00,9,  -999.00,9,   2374.5,2,   2420.1,2,  2.4894
    18DD9403_1,  P15N,   050,  3,   1093,     12,2,19941002,1134, 31.0263,-165.0085, -999,   1760.1,   2.2259,  34.5858,2,  34.5825,2,     62.7,2,   156.10,2,    34.60,4,     0.00,2,     2.96,2, -999.000,9, -999.000,9,   -999.0,9,  -999.00,9,  -999.00,9,   2374.8,2,   2424.5,2,  2.1062
    18DD9403_1,  P15N,   050,  3,   1094,     11,2,19941002,1134, 31.0263,-165.0085, -999,   2007.8,   1.9759,  34.6119,2,  34.6104,2,     79.1,2,   160.00,2,    34.30,4,     0.00,2,     2.87,2, -999.000,9, -999.000,9,   -999.0,9,  -999.00,9,  -999.00,9,   2369.2,2,   2425.3,2,  1.8393
    18DD9403_1,  P15N,   050,  3,   1095,     10,2,19941002,1134, 31.0263,-165.0085, -999,   2250.9,   1.8053,  34.6295,2,  34.6300,2,     91.9,2,   162.80,2,    33.00,4,     0.00,2,     2.81,2, -999.000,9, -999.000,9,   -999.0,9,  -999.00,9,  -999.00,9,   2366.0,2,   2439.2,2,  1.6506
    18DD9403_1,  P15N,   050,  3,   1096,      9,2,19941002,1134, 31.0263,-165.0085, -999,   2500.7,   1.6978,  34.6436,2,  34.6428,2,    100.3,2,   163.20,2,    34.50,4,     0.00,2,     2.82,2, -999.000,9, -999.000,9,   -999.0,9,  -999.00,9,  -999.00,9,   2362.4,2,   2434.5,2,  1.5231
    18DD9403_1,  P15N,   050,  3,   1097,      8,2,19941002,1134, 31.0263,-165.0085, -999,   2752.7,   1.6095,  34.6538,2,  34.6544,2,    111.7,2,   162.30,2,    33.70,4,     0.00,2,     2.71,2, -999.000,9, -999.000,9,   -999.0,9,  -999.00,9,  -999.00,9,   2355.9,2,   2440.1,2,  1.4137
    18DD9403_1,  P15N,   050,  3,   1098,      7,2,19941002,1134, 31.0263,-165.0085, -999,   3007.9,   1.5520,  34.6621,2,  34.6632,2,    121.7,2,   160.70,2,    37.50,4,     0.00,2,     2.65,2, -999.000,9, -999.000,9,   -999.0,9,  -999.00,9,  -999.00,9,   2346.2,2,   2438.9,2,  1.3334
    18DD9403_1,  P15N,   050,  3,   1099,      6,2,19941002,1134, 31.0263,-165.0085, -999,   3492.8,   1.4867,  34.6737,2,  34.6740,2,    136.6,2,   155.80,2,    36.80,2,     0.00,2,     2.69,2, -999.000,9, -999.000,9,   -999.0,9,  -999.00,9,  -999.00,9,   2334.6,2,   2432.8,2,  1.2217
    18DD9403_1,  P15N,   050,  3,   1100,      5,2,19941002,1134, 31.0263,-165.0085, -999,   4001.2,   1.4700,  34.6809,2,  34.3806,3,    146.9,2,   151.50,2,    35.80,2,     0.00,2,     2.52,2, -999.000,9, -999.000,9,   -999.0,9,  -999.00,9,  -999.00,9,   2328.5,2,   2431.0,2,  1.1538
    18DD9403_1,  P15N,   050,  3,   1101,      4,2,19941002,1134, 31.0263,-165.0085, -999,   4497.0,   1.4883,  34.6852,2,  34.6849,2,    151.1,2,   150.30,2,    35.80,2,     0.00,2,     2.58,2, -999.000,9, -999.000,9,   -999.0,9,  -999.00,9,  -999.00,9,   2323.3,2,   2432.3,2,  1.1141
    18DD9403_1,  P15N,   050,  3,   1102,      3,2,19941002,1134, 31.0263,-165.0085, -999,   4990.5,   1.5193,  34.6877,2,  34.6856,2,    152.1,2,   150.10,2,    35.70,2,     0.00,2,     2.51,2, -999.000,9, -999.000,9,   -999.0,9,  -999.00,9,  -999.00,9,   2323.3,2,   2432.2,2,  1.0856
    18DD9403_1,  P15N,   050,  3,   1103,      2,2,19941002,1134, 31.0263,-165.0085, -999,   5499.5,   1.5663,  34.6897,2,  34.6899,2,    161.2,2,   144.30,2,    35.10,2,     0.00,2,     2.47,2, -999.000,9, -999.000,9,   -999.0,9,  -999.00,9,  -999.00,9,   2315.4,2,   2423.7,2,  1.0674
    18DD9403_1,  P15N,   050,  3,   1104,      1,2,19941002,1134, 31.0263,-165.0085, -999,   5819.1,   1.5879,  34.6914,2,  34.6916,2,    164.5,2,   141.10,2,    34.70,2,     0.00,2,     2.42,2, -999.000,9, -999.000,9,   -999.0,9,  -999.00,9,  -999.00,9,   2310.5,2,   2325.7,3,  1.0466