BOTTLE,20130510IOSDFOJC
EXPOCODE,SECT_ID,STNNBR,CASTNO,SAMPNO,BTLNBR,BTLNBR_FLAG_W,DATE,TIME,LATITUDE,LONGITUDE,DEPTH,CTDPRS,CTDTMP,CTDSAL,CTDSAL_FLAG_W,SALNTY,SALNTY_FLAG_W,OXYGEN,OXYGEN_FLAG_W,SILCAT,SILCAT_FLAG_W,NITRAT,NITRAT_FLAG_W,NITRIT,NITRIT_FLAG_W,PHSPHT,PHSPHT_FLAG_W,CFC-11,CFC-11_FLAG_W,CFC-12,CFC-12_FLAG_W,DELC14,DELC14_FLAG_W,DELC13,DELC13_FLAG_W,O18O16,O18O16_FLAG_W,TCARBN,TCARBN_FLAG_W,ALKALI,ALKALI_FLAG_W,THETA
,,,,,,,,,,,,DBAR,ITS-90,PSS-78,,PSS-78,,UMOL/KG,,UMOL/KG,,UMOL/KG,,UMOL/KG,,UMOL/KG,,PMOL/KG,,PMOL/KG,,/MILLE,,/MILLE,,/MILLE,,UMOL/KG,,UMOL/KG,,DEG C
    18DD9403_1,  P15N,  9992,  4,   1606,      8,2,19941008,2015, 20.9988,-164.0418, -999,   1502.0,   2.8820,  34.5694,2,  34.5698,2,   -999.0,9,  -999.00,9,  -999.00,9,  -999.00,9,  -999.00,9, -999.000,9, -999.000,9,   -999.0,9,  -999.00,9,  -999.00,9,   -999.0,9,   -999.0,9,  2.7753
    18DD9403_1,  P15N,  9992,  4,   1608,      6,2,19941008,2015, 20.9988,-164.0418, -999,   1502.0,   2.8794,  34.5694,2,  34.5706,2,   -999.0,9,  -999.00,9,  -999.00,9,  -999.00,9,  -999.00,9, -999.000,9, -999.000,9,   -999.0,9,  -999.00,9,  -999.00,9,   -999.0,9,   -999.0,9,  2.7728
    18DD9403_1,  P15N,  9992,  4,   1609,      5,2,19941008,2015, 20.9988,-164.0418, -999,   1502.0,   2.8787,  34.5694,2,  34.5712,2,   -999.0,9,  -999.00,9,  -999.00,9,  -999.00,9,  -999.00,9, -999.000,9, -999.000,9,   -999.0,9,  -999.00,9,  -999.00,9,   -999.0,9,   -999.0,9,  2.7721
    18DD9403_1,  P15N,  9992,  4,   1611,      3,2,19941008,2015, 20.9988,-164.0418, -999,   1502.0,   2.8768,  34.5694,2,  34.5704,2,   -999.0,9,  -999.00,9,  -999.00,9,  -999.00,9,  -999.00,9, -999.000,9, -999.000,9,   -999.0,9,  -999.00,9,  -999.00,9,   -999.0,9,   -999.0,9,  2.7702
    18DD9403_1,  P15N,  9992,  4,   1613,      1,2,19941008,2015, 20.9988,-164.0418, -999,   1502.0,   2.8788,  34.5694,2,  34.5700,2,   -999.0,9,  -999.00,9,  -999.00,9,  -999.00,9,  -999.00,9, -999.000,9, -999.000,9,   -999.0,9,  -999.00,9,  -999.00,9,   -999.0,9,   -999.0,9,  2.7722
    18DD9403_1,  P15N,  9992,  4,   1605,      9,2,19941008,2015, 20.9988,-164.0418, -999,   1503.0,   2.8850,  34.5694,2,  34.5694,2,   -999.0,9,  -999.00,9,  -999.00,9,  -999.00,9,  -999.00,9, -999.000,9, -999.000,9,   -999.0,9,  -999.00,9,  -999.00,9,   -999.0,9,   -999.0,9,  2.7782
    18DD9403_1,  P15N,  9992,  4,   1610,      4,2,19941008,2015, 20.9988,-164.0418, -999,   1503.0,   2.8772,  34.5694,2,  34.5704,2,   -999.0,9,  -999.00,9,  -999.00,9,  -999.00,9,  -999.00,9, -999.000,9, -999.000,9,   -999.0,9,  -999.00,9,  -999.00,9,   -999.0,9,   -999.0,9,  2.7705
    18DD9403_1,  P15N,  9992,  4,   1612,      2,2,19941008,2015, 20.9988,-164.0418, -999,   1503.0,   2.8767,  34.5694,2,  34.5704,2,   -999.0,9,  -999.00,9,  -999.00,9,  -999.00,9,  -999.00,9, -999.000,9, -999.000,9,   -999.0,9,  -999.00,9,  -999.00,9,   -999.0,9,   -999.0,9,  2.7700
    18DD9403_1,  P15N,  9992,  4,   1599,     15,2,19941008,2015, 20.9988,-164.0418, -999,   1504.0,   2.8897,  34.5696,2,  34.5692,2,   -999.0,9,  -999.00,9,  -999.00,9,  -999.00,9,  -999.00,9, -999.000,9, -999.000,9,   -999.0,9,  -999.00,9,  -999.00,9,   -999.0,9,   -999.0,9,  2.7828
    18DD9403_1,  P15N,  9992,  4,   1600,     14,2,19941008,2015, 20.9988,-164.0418, -999,   1504.0,   2.8896,  34.5696,2,  34.5694,2,   -999.0,9,  -999.00,9,  -999.00,9,  -999.00,9,  -999.00,9, -999.000,9, -999.000,9,   -999.0,9,  -999.00,9,  -999.00,9,   -999.0,9,   -999.0,9,  2.7827
    18DD9403_1,  P15N,  9992,  4,   1601,     13,2,19941008,2015, 20.9988,-164.0418, -999,   1504.0,   2.8895,  34.5696,2,  34.5696,2,   -999.0,9,  -999.00,9,  -999.00,9,  -999.00,9,  -999.00,9, -999.000,9, -999.000,9,   -999.0,9,  -999.00,9,  -999.00,9,   -999.0,9,   -999.0,9,  2.7826
    18DD9403_1,  P15N,  9992,  4,   1602,     12,2,19941008,2015, 20.9988,-164.0418, -999,   1504.0,   2.8892,  34.5696,2,  34.5704,2,   -999.0,9,  -999.00,9,  -999.00,9,  -999.00,9,  -999.00,9, -999.000,9, -999.000,9,   -999.0,9,  -999.00,9,  -999.00,9,   -999.0,9,   -999.0,9,  2.7823
    18DD9403_1,  P15N,  9992,  4,   1603,     11,2,19941008,2015, 20.9988,-164.0418, -999,   1504.0,   2.8885,  34.5696,2,  34.5694,2,   -999.0,9,  -999.00,9,  -999.00,9,  -999.00,9,  -999.00,9, -999.000,9, -999.000,9,   -999.0,9,  -999.00,9,  -999.00,9,   -999.0,9,   -999.0,9,  2.7816
    18DD9403_1,  P15N,  9992,  4,   1604,     10,2,19941008,2015, 20.9988,-164.0418, -999,   1504.0,   2.8877,  34.5696,2,  34.5695,2,   -999.0,9,  -999.00,9,  -999.00,9,  -999.00,9,  -999.00,9, -999.000,9, -999.000,9,   -999.0,9,  -999.00,9,  -999.00,9,   -999.0,9,   -999.0,9,  2.7808
    18DD9403_1,  P15N,  9992,  4,   1607,      7,2,19941008,2015, 20.9988,-164.0418, -999,   1504.0,   2.8814,  34.5696,2,  34.5708,2,   -999.0,9,  -999.00,9,  -999.00,9,  -999.00,9,  -999.00,9, -999.000,9, -999.000,9,   -999.0,9,  -999.00,9,  -999.00,9,   -999.0,9,   -999.0,9,  2.7746
    18DD9403_1,  P15N,  9992,  4,   1592,     22,2,19941008,2015, 20.9988,-164.0418, -999,   1505.0,   2.8909,  34.5699,2,  34.5706,2,   -999.0,9,  -999.00,9,  -999.00,9,  -999.00,9,  -999.00,9, -999.000,9, -999.000,9,   -999.0,9,  -999.00,9,  -999.00,9,   -999.0,9,   -999.0,9,  2.7839
    18DD9403_1,  P15N,  9992,  4,   1597,     17,2,19941008,2015, 20.9988,-164.0418, -999,   1505.0,   2.8870,  34.5699,2,  34.5699,2,   -999.0,9,  -999.00,9,  -999.00,9,  -999.00,9,  -999.00,9, -999.000,9, -999.000,9,   -999.0,9,  -999.00,9,  -999.00,9,   -999.0,9,   -999.0,9,  2.7800
    18DD9403_1,  P15N,  9992,  4,   1598,     16,2,19941008,2015, 20.9988,-164.0418, -999,   1505.0,   2.8847,  34.5699,2,  34.5700,2,   -999.0,9,  -999.00,9,  -999.00,9,  -999.00,9,  -999.00,9, -999.000,9, -999.000,9,   -999.0,9,  -999.00,9,  -999.00,9,   -999.0,9,   -999.0,9,  2.7778
    18DD9403_1,  P15N,  9992,  4,   1591,     23,2,19941008,2015, 20.9988,-164.0418, -999,   1506.0,   2.8926,  34.5704,2,  34.5695,2,   -999.0,9,  -999.00,9,  -999.00,9,  -999.00,9,  -999.00,9, -999.000,9, -999.000,9,   -999.0,9,  -999.00,9,  -999.00,9,   -999.0,9,   -999.0,9,  2.7855
    18DD9403_1,  P15N,  9992,  4,   1593,     21,2,19941008,2015, 20.9988,-164.0418, -999,   1506.0,   2.8906,  34.5704,2,  34.5694,2,   -999.0,9,  -999.00,9,  -999.00,9,  -999.00,9,  -999.00,9, -999.000,9, -999.000,9,   -999.0,9,  -999.00,9,  -999.00,9,   -999.0,9,   -999.0,9,  2.7835
    18DD9403_1,  P15N,  9992,  4,   1595,     19,2,19941008,2015, 20.9988,-164.0418, -999,   1506.0,   2.8912,  34.5704,2,  34.5700,2,   -999.0,9,  -999.00,9,  -999.00,9,  -999.00,9,  -999.00,9, -999.000,9, -999.000,9,   -999.0,9,  -999.00,9,  -999.00,9,   -999.0,9,   -999.0,9,  2.7841
    18DD9403_1,  P15N,  9992,  4,   1596,     18,2,19941008,2015, 20.9988,-164.0418, -999,   1506.0,   2.8893,  34.5704,2,  34.5701,2,   -999.0,9,  -999.00,9,  -999.00,9,  -999.00,9,  -999.00,9, -999.000,9, -999.000,9,   -999.0,9,  -999.00,9,  -999.00,9,   -999.0,9,   -999.0,9,  2.7822
    18DD9403_1,  P15N,  9992,  4,   1594,     20,2,19941008,2015, 20.9988,-164.0418, -999,   1507.0,   2.8904,  34.5705,2,  34.5694,2,   -999.0,9,  -999.00,9,  -999.00,9,  -999.00,9,  -999.00,9, -999.000,9, -999.000,9,   -999.0,9,  -999.00,9,  -999.00,9,   -999.0,9,   -999.0,9,  2.7832
    18DD9403_1,  P15N,  9992,  8,   1636,      1,2,19941009,0143, 21.0155,-164.1132, -999,   2003.0,   2.1011,  34.6195,2,  34.6225,2,   -999.0,9,  -999.00,9,  -999.00,9,  -999.00,9,  -999.00,9, -999.000,9, -999.000,9,   -999.0,9,  -999.00,9,  -999.00,9,   -999.0,9,   -999.0,9,  1.9629
    18DD9403_1,  P15N,  9992,  8,   1634,      3,2,19941009,0143, 21.0155,-164.1132, -999,   2005.0,   2.1020,  34.6200,2,  34.6222,2,   -999.0,9,  -999.00,9,  -999.00,9,  -999.00,9,  -999.00,9, -999.000,9, -999.000,9,   -999.0,9,  -999.00,9,  -999.00,9,   -999.0,9,   -999.0,9,  1.9636
    18DD9403_1,  P15N,  9992,  8,   1635,      2,2,19941009,0143, 21.0155,-164.1132, -999,   2005.0,   2.1018,  34.6200,2,  34.6223,2,   -999.0,9,  -999.00,9,  -999.00,9,  -999.00,9,  -999.00,9, -999.000,9, -999.000,9,   -999.0,9,  -999.00,9,  -999.00,9,   -999.0,9,   -999.0,9,  1.9634
    18DD9403_1,  P15N,  9992,  8,   1631,      6,2,19941009,0143, 21.0155,-164.1132, -999,   2006.0,   2.1038,  34.6203,2,  34.6222,2,   -999.0,9,  -999.00,9,  -999.00,9,  -999.00,9,  -999.00,9, -999.000,9, -999.000,9,   -999.0,9,  -999.00,9,  -999.00,9,   -999.0,9,   -999.0,9,  1.9653
    18DD9403_1,  P15N,  9992,  8,   1633,      4,2,19941009,0143, 21.0155,-164.1132, -999,   2006.0,   2.1021,  34.6203,2,  34.6223,2,   -999.0,9,  -999.00,9,  -999.00,9,  -999.00,9,  -999.00,9, -999.000,9, -999.000,9,   -999.0,9,  -999.00,9,  -999.00,9,   -999.0,9,   -999.0,9,  1.9636
    18DD9403_1,  P15N,  9992,  8,   1629,      8,2,19941009,0143, 21.0155,-164.1132, -999,   2007.0,   2.1046,  34.6201,2,  34.6220,2,   -999.0,9,  -999.00,9,  -999.00,9,  -999.00,9,  -999.00,9, -999.000,9, -999.000,9,   -999.0,9,  -999.00,9,  -999.00,9,   -999.0,9,   -999.0,9,  1.9660
    18DD9403_1,  P15N,  9992,  8,   1630,      7,2,19941009,0143, 21.0155,-164.1132, -999,   2007.0,   2.1040,  34.6201,2,  34.6222,2,   -999.0,9,  -999.00,9,  -999.00,9,  -999.00,9,  -999.00,9, -999.000,9, -999.000,9,   -999.0,9,  -999.00,9,  -999.00,9,   -999.0,9,   -999.0,9,  1.9654
    18DD9403_1,  P15N,  9992,  8,   1632,      5,2,19941009,0143, 21.0155,-164.1132, -999,   2007.0,   2.1032,  34.6201,2,  34.6222,2,   -999.0,9,  -999.00,9,  -999.00,9,  -999.00,9,  -999.00,9, -999.000,9, -999.000,9,   -999.0,9,  -999.00,9,  -999.00,9,   -999.0,9,   -999.0,9,  1.9646
    18DD9403_1,  P15N,  9992,  8,   1628,      9,2,19941009,0143, 21.0155,-164.1132, -999,   2008.0,   2.1045,  34.6200,2,  34.6219,2,   -999.0,9,  -999.00,9,  -999.00,9,  -999.00,9,  -999.00,9, -999.000,9, -999.000,9,   -999.0,9,  -999.00,9,  -999.00,9,   -999.0,9,   -999.0,9,  1.9658
    18DD9403_1,  P15N,  9992,  8,   1627,     10,2,19941009,0143, 21.0155,-164.1132, -999,   2010.0,   2.1047,  34.6205,2,  34.6220,2,   -999.0,9,  -999.00,9,  -999.00,9,  -999.00,9,  -999.00,9, -999.000,9, -999.000,9,   -999.0,9,  -999.00,9,  -999.00,9,   -999.0,9,   -999.0,9,  1.9658
    18DD9403_1,  P15N,  9992,  8,   1625,     12,2,19941009,0143, 21.0155,-164.1132, -999,   2011.0,   2.1055,  34.6209,2,  34.6218,2,   -999.0,9,  -999.00,9,  -999.00,9,  -999.00,9,  -999.00,9, -999.000,9, -999.000,9,   -999.0,9,  -999.00,9,  -999.00,9,   -999.0,9,   -999.0,9,  1.9665
    18DD9403_1,  P15N,  9992,  8,   1626,     11,2,19941009,0143, 21.0155,-164.1132, -999,   2011.0,   2.1052,  34.6209,2,  34.6220,2,   -999.0,9,  -999.00,9,  -999.00,9,  -999.00,9,  -999.00,9, -999.000,9, -999.000,9,   -999.0,9,  -999.00,9,  -999.00,9,   -999.0,9,   -999.0,9,  1.9662
    18DD9403_1,  P15N,  9992,  8,   1624,     13,2,19941009,0143, 21.0155,-164.1132, -999,   2012.0,   2.1069,  34.6206,2,  34.6218,2,   -999.0,9,  -999.00,9,  -999.00,9,  -999.00,9,  -999.00,9, -999.000,9, -999.000,9,   -999.0,9,  -999.00,9,  -999.00,9,   -999.0,9,   -999.0,9,  1.9678
    18DD9403_1,  P15N,  9992,  8,   1623,     14,2,19941009,0143, 21.0155,-164.1132, -999,   2013.0,   2.1096,  34.6207,2,  34.6218,2,   -999.0,9,  -999.00,9,  -999.00,9,  -999.00,9,  -999.00,9, -999.000,9, -999.000,9,   -999.0,9,  -999.00,9,  -999.00,9,   -999.0,9,   -999.0,9,  1.9704
    18DD9403_1,  P15N,  9992,  8,   1622,     15,2,19941009,0143, 21.0155,-164.1132, -999,   2014.0,   2.1094,  34.6211,2,  34.6221,2,   -999.0,9,  -999.00,9,  -999.00,9,  -999.00,9,  -999.00,9, -999.000,9, -999.000,9,   -999.0,9,  -999.00,9,  -999.00,9,   -999.0,9,   -999.0,9,  1.9701
    18DD9403_1,  P15N,  9992,  8,   1621,     16,2,19941009,0143, 21.0155,-164.1132, -999,   2015.0,   2.1107,  34.6212,2,  34.6225,2,   -999.0,9,  -999.00,9,  -999.00,9,  -999.00,9,  -999.00,9, -999.000,9, -999.000,9,   -999.0,9,  -999.00,9,  -999.00,9,   -999.0,9,   -999.0,9,  1.9713
    18DD9403_1,  P15N,  9992,  8,   1618,     19,2,19941009,0143, 21.0155,-164.1132, -999,   2016.0,   2.1191,  34.6213,2,  34.6213,2,   -999.0,9,  -999.00,9,  -999.00,9,  -999.00,9,  -999.00,9, -999.000,9, -999.000,9,   -999.0,9,  -999.00,9,  -999.00,9,   -999.0,9,   -999.0,9,  1.9795
    18DD9403_1,  P15N,  9992,  8,   1619,     18,2,19941009,0143, 21.0155,-164.1132, -999,   2016.0,   2.1185,  34.6213,2,  34.6211,2,   -999.0,9,  -999.00,9,  -999.00,9,  -999.00,9,  -999.00,9, -999.000,9, -999.000,9,   -999.0,9,  -999.00,9,  -999.00,9,   -999.0,9,   -999.0,9,  1.9789
    18DD9403_1,  P15N,  9992,  8,   1617,     20,2,19941009,0143, 21.0155,-164.1132, -999,   2017.0,   2.1193,  34.6212,2,  34.6207,2,   -999.0,9,  -999.00,9,  -999.00,9,  -999.00,9,  -999.00,9, -999.000,9, -999.000,9,   -999.0,9,  -999.00,9,  -999.00,9,   -999.0,9,   -999.0,9,  1.9796
    18DD9403_1,  P15N,  9992,  8,   1620,     17,2,19941009,0143, 21.0155,-164.1132, -999,   2017.0,   2.1178,  34.6212,2,  34.6209,2,   -999.0,9,  -999.00,9,  -999.00,9,  -999.00,9,  -999.00,9, -999.000,9, -999.000,9,   -999.0,9,  -999.00,9,  -999.00,9,   -999.0,9,   -999.0,9,  1.9781
    18DD9403_1,  P15N,  9992,  8,   1615,     22,2,19941009,0143, 21.0155,-164.1132, -999,   2018.0,   2.1192,  34.6206,2,  34.6209,2,   -999.0,9,  -999.00,9,  -999.00,9,  -999.00,9,  -999.00,9, -999.000,9, -999.000,9,   -999.0,9,  -999.00,9,  -999.00,9,   -999.0,9,   -999.0,9,  1.9794
    18DD9403_1,  P15N,  9992,  8,   1616,     21,2,19941009,0143, 21.0155,-164.1132, -999,   2018.0,   2.1192,  34.6206,2,  34.6207,2,   -999.0,9,  -999.00,9,  -999.00,9,  -999.00,9,  -999.00,9, -999.000,9, -999.000,9,   -999.0,9,  -999.00,9,  -999.00,9,   -999.0,9,   -999.0,9,  1.9794
    18DD9403_1,  P15N,  9992,  8,   1614,     23,2,19941009,0143, 21.0155,-164.1132, -999,   2019.0,   2.1205,  34.6206,2,  34.6215,2,   -999.0,9,  -999.00,9,  -999.00,9,  -999.00,9,  -999.00,9, -999.000,9, -999.000,9,   -999.0,9,  -999.00,9,  -999.00,9,   -999.0,9,   -999.0,9,  1.9806