BOTTLE,20130510IOSDFOJC
EXPOCODE,SECT_ID,STNNBR,CASTNO,SAMPNO,BTLNBR,BTLNBR_FLAG_W,DATE,TIME,LATITUDE,LONGITUDE,DEPTH,CTDPRS,CTDTMP,CTDSAL,CTDSAL_FLAG_W,SALNTY,SALNTY_FLAG_W,OXYGEN,OXYGEN_FLAG_W,SILCAT,SILCAT_FLAG_W,NITRAT,NITRAT_FLAG_W,NITRIT,NITRIT_FLAG_W,PHSPHT,PHSPHT_FLAG_W,CFC-11,CFC-11_FLAG_W,CFC-12,CFC-12_FLAG_W,DELC14,DELC14_FLAG_W,DELC13,DELC13_FLAG_W,O18O16,O18O16_FLAG_W,TCARBN,TCARBN_FLAG_W,ALKALI,ALKALI_FLAG_W,THETA
,,,,,,,,,,,,DBAR,ITS-90,PSS-78,,PSS-78,,UMOL/KG,,UMOL/KG,,UMOL/KG,,UMOL/KG,,UMOL/KG,,PMOL/KG,,PMOL/KG,,/MILLE,,/MILLE,,/MILLE,,UMOL/KG,,UMOL/KG,,DEG C
    18DD9403_1,  P15N,   003,  3,    136,     11,2,19940919,0641, 53.4977,-164.9958, -999,     10.1,   9.1458,  31.5860,2,  31.5916,2,    288.8,2,    12.40,2,     4.20,2,     0.17,2,     0.71,2,    4.830,3,    1.972,3,   -999.0,9,  -999.00,9,  -999.00,9,   -999.0,9,   -999.0,9,  9.1448
    18DD9403_1,  P15N,   003,  3,    137,     10,4,19940919,0641, 53.4977,-164.9958, -999,     48.6,   7.3422,  32.4633,2,-999.0000,9,   -999.0,9,  -999.00,9,  -999.00,9,  -999.00,9,  -999.00,9, -999.000,9, -999.000,9,   -999.0,9,  -999.00,9,  -999.00,9,   -999.0,9,   -999.0,9,  7.3378
    18DD9403_1,  P15N,   003,  3,    138,      9,2,19940919,0641, 53.4977,-164.9958, -999,     97.5,   5.0368,  33.1302,2,  32.9819,2,    243.0,2,    34.40,2,    22.30,2,     0.03,2,     1.76,2,    4.149,3,    1.904,3,   -999.0,9,  -999.00,9,  -999.00,9,   -999.0,9,   -999.0,9,  5.0295
    18DD9403_1,  P15N,   003,  3,    139,      8,2,19940919,0641, 53.4977,-164.9958, -999,    201.3,   4.1650,  33.7716,2,  33.7696,2,    111.9,2,    69.70,2,    37.20,2,     0.00,2,     2.64,2,    2.443,3,    1.166,3,   -999.0,9,  -999.00,9,  -999.00,9,   -999.0,9,   -999.0,9,  4.1510
    18DD9403_1,  P15N,   003,  3,    140,      7,2,19940919,0641, 53.4977,-164.9958, -999,    297.6,   3.9890,  33.9252,2,  33.9293,2,     52.4,2,    87.50,2,    41.10,2,     0.00,2,     2.92,2,    1.409,3,    0.640,3,   -999.0,9,  -999.00,9,  -999.00,9,   -999.0,9,   -999.0,9,  3.9684
    18DD9403_1,  P15N,   003,  3,    141,      6,2,19940919,0641, 53.4977,-164.9958, -999,    399.3,   3.8901,  34.0053,2,  34.0091,2,     37.1,2,    96.60,2,    42.50,2,     0.00,2,     3.02,2,    1.224,3,    0.945,3,   -999.0,9,  -999.00,9,  -999.00,9,   -999.0,9,   -999.0,9,  3.8624
    18DD9403_1,  P15N,   003,  3,    142,      5,2,19940919,0641, 53.4977,-164.9958, -999,    597.3,   3.6521,  34.1487,2,-999.0000,9,     22.5,2,   117.00,2,    44.90,2,     0.00,2,     3.21,2,    0.373,3,    0.271,3,   -999.0,9,  -999.00,9,  -999.00,9,   -999.0,9,   -999.0,9,  3.6109
    18DD9403_1,  P15N,   003,  3,    143,      4,2,19940919,0641, 53.4977,-164.9958, -999,    802.3,   3.4092,  34.2390,2,  34.2400,2,     19.3,2,   124.50,2,    43.50,2,     0.00,2,     3.10,2,    0.189,3,    0.164,3,   -999.0,9,  -999.00,9,  -999.00,9,   -999.0,9,   -999.0,9,  3.3537
    18DD9403_1,  P15N,   003,  3,    144,      3,2,19940919,0641, 53.4977,-164.9958, -999,   1000.5,   3.1093,  34.3251,2,  34.3263,2,     17.7,2,   135.30,2,    43.60,2,     0.00,2,     3.12,2,    0.130,3,    0.000,3,   -999.0,9,  -999.00,9,  -999.00,9,   -999.0,9,   -999.0,9,  3.0408
    18DD9403_1,  P15N,   003,  3,    145,      2,2,19940919,0641, 53.4977,-164.9958, -999,   1251.3,   2.7943,  34.3969,2,  34.3998,2,     19.0,2,   146.90,2,    43.80,2,     0.00,2,     3.12,2,    0.005,3,    0.073,3,   -999.0,9,  -999.00,9,  -999.00,9,   -999.0,9,   -999.0,9,  2.7091
    18DD9403_1,  P15N,   003,  3,    146,      1,2,19940919,0641, 53.4977,-164.9958, -999,   1461.4,   2.4844,  34.4644,2,  34.4655,2,     32.5,2,   155.50,2,    43.00,2,     0.00,2,     3.06,2, -999.000,5, -999.000,5,   -999.0,9,  -999.00,9,  -999.00,9,   -999.0,9,   -999.0,9,  2.3858
    18DD9403_1,  P15N,   004,  3,    147,     23,2,19940919,1003, 53.2420,-165.0288, 3663,      9.5,   9.7754,  31.9661,2,  31.9671,2,    285.8,2,     9.00,2,     3.70,2,     0.11,2,     0.66,2,    5.201,3,    2.140,3,   -999.0,9,  -999.00,9,  -999.00,9,   1938.3,2,   2162.5,2,  9.7744
    18DD9403_1,  P15N,   004,  3,    148,     22,2,19940919,1003, 53.2420,-165.0288, 3663,     50.8,   9.4543,  32.6419,2,  32.2327,2,    285.6,2,     8.40,2,     4.90,2,     0.14,2,     0.80,2,    5.289,3,    2.140,3,   -999.0,9,  -999.00,9,  -999.00,9,   1971.6,2,   2172.9,2,  9.4489
    18DD9403_1,  P15N,   004,  3,    149,     21,2,19940919,1003, 53.2420,-165.0288, 3663,     99.3,   4.5910,  33.0184,2,  32.9694,2,    242.9,2,    36.30,2,    23.10,2,     0.01,2,     1.81,2,    4.893,3,    2.181,3,   -999.0,9,  -999.00,9,  -999.00,9,   2097.3,2,   2214.3,2,  4.5840
    18DD9403_1,  P15N,   004,  3,    150,     20,2,19940919,1003, 53.2420,-165.0288, 3663,    199.4,   4.0959,  33.8182,2,  33.8165,2,     72.6,2,    77.40,2,    40.40,2,     0.00,2,     2.84,2,    1.990,3,    0.952,3,   -999.0,9,  -999.00,9,  -999.00,9,   2251.5,2,   2290.9,2,  4.0821
    18DD9403_1,  P15N,   004,  3,    151,     19,2,19940919,1003, 53.2420,-165.0288, 3663,    300.6,   3.9018,  33.9537,2,  33.9613,2,     34.9,2,    93.10,2,    43.50,2,     0.00,2,     3.05,2,    1.197,3,    0.578,3,   -999.0,9,  -999.00,9,  -999.00,9,   2326.7,2,   2306.7,2,  3.8812
    18DD9403_1,  P15N,   004,  3,    152,     18,2,19940919,1003, 53.2420,-165.0288, 3663,    397.9,   3.8012,  34.0656,2,  34.0625,2,     25.4,2,   104.60,2,    43.80,2,     0.00,2,     3.08,2,    0.586,3,    0.333,3,   -999.0,9,  -999.00,9,  -999.00,9,   2306.7,3,   2320.8,2,  3.7738
    18DD9403_1,  P15N,   004,  3,    153,     17,2,19940919,1003, 53.2420,-165.0288, 3663,    602.5,   3.5146,  34.2047,2,  34.1957,2,     17.8,2,   120.00,2,    43.80,2,     0.00,2,     3.09,2,    0.228,3,    0.161,3,   -999.0,9,  -999.00,9,  -999.00,9,   2351.0,2,   2353.1,2,  3.4734
    18DD9403_1,  P15N,   004,  3,    154,     16,2,19940919,1003, 53.2420,-165.0288, 3663,    806.0,   3.1118,  34.2991,2,  34.3135,2,     18.0,2,   135.60,2,    43.90,2,     0.00,2,     3.11,2,    0.087,3,    0.000,3,   -999.0,9,  -999.00,9,  -999.00,9,   2368.1,2,   2368.8,2,  3.0578
    18DD9403_1,  P15N,   004,  3,    155,     15,2,19940919,1003, 53.2420,-165.0288, 3663,   1007.4,   2.8141,  34.3807,2,  34.3897,2,     18.5,2,   145.00,2,    43.80,2,     0.00,2,     3.11,2,    0.056,3,    0.000,3,   -999.0,9,  -999.00,9,  -999.00,9,   2376.2,2,   2378.6,2,  2.7473
    18DD9403_1,  P15N,   004,  3,    156,     14,2,19940919,1003, 53.2420,-165.0288, 3663,   1256.7,   2.5012,  34.4597,2,  34.4592,2,     25.4,2,   155.70,2,    43.90,2,     0.00,2,     3.08,2,    0.000,3,    0.000,3,   -999.0,9,  -999.00,9,  -999.00,9,   2386.0,2,   2394.9,2,  2.4183
    18DD9403_1,  P15N,   004,  3,    157,     13,2,19940919,1003, 53.2420,-165.0288, 3663,   1504.6,   2.2247,  34.5157,2,  34.5165,2,     39.5,2,   162.60,2,    43.10,2,     0.00,2,     3.06,2,    0.000,3,    0.000,3,   -999.0,9,  -999.00,9,  -999.00,9,   2390.4,2,   2415.9,2,  2.1256
    18DD9403_1,  P15N,   004,  3,    158,     12,2,19940919,1003, 53.2420,-165.0288, 3663,   1748.8,   2.0206,  34.5622,2,  34.5596,2,     52.4,2,   165.90,2,    42.30,2,     0.00,2,     2.96,2,    0.000,3,    0.000,3,   -999.0,9,  -999.00,9,  -999.00,9,   -999.0,9,   -999.0,9,  1.9047
    18DD9403_1,  P15N,   004,  3,    159,     11,2,19940919,1003, 53.2420,-165.0288, 3663,   1998.4,   1.8661,  34.5915,2,  34.5925,2,     66.2,2,   168.30,2,    41.40,2,     0.00,2,     2.89,2,    0.000,3,    0.000,3,   -999.0,9,  -999.00,9,  -999.00,9,   2381.9,2,   2426.2,2,  1.7319
    18DD9403_1,  P15N,   004,  3,    160,     10,2,19940919,1003, 53.2420,-165.0288, 3663,   2241.7,   1.7590,  34.6162,2,  34.6154,2,     80.6,2,   168.30,2,    40.70,2,     0.00,2,     2.83,2,    0.007,3,    0.000,3,   -999.0,9,  -999.00,9,  -999.00,9,   -999.0,9,   -999.0,9,  1.6060
    18DD9403_1,  P15N,   004,  3,    161,      9,2,19940919,1003, 53.2420,-165.0288, 3663,   2501.5,   1.6596,  34.6319,2,  34.6337,2,     95.6,2,   167.40,2,    40.00,2,     0.00,2,     2.75,2, -999.000,9, -999.000,9,   -999.0,9,  -999.00,9,  -999.00,9,   2359.7,2,   2426.5,2,  1.4856
    18DD9403_1,  P15N,   004,  3,    162,      8,2,19940919,1003, 53.2420,-165.0288, 3663,   2751.0,   1.6023,  34.6446,2,  34.6459,2,    108.1,2,   165.90,2,    39.10,2,     0.00,2,     2.71,2, -999.000,9, -999.000,9,   -999.0,9,  -999.00,9,  -999.00,9,   2350.1,2,   2427.3,2,  1.4068
    18DD9403_1,  P15N,   004,  3,    163,      7,2,19940919,1003, 53.2420,-165.0288, 3663,   2998.9,   1.5471,  34.6570,2,  34.6569,2,    119.9,2,   164.70,2,    38.50,2,     0.00,2,     2.67,2, -999.000,9, -999.000,9,   -999.0,9,  -999.00,9,  -999.00,9,   2348.3,2,   -999.0,9,  1.3295
    18DD9403_1,  P15N,   004,  3,    164,      6,2,19940919,1003, 53.2420,-165.0288, 3663,   3252.3,   1.4911,  34.6674,2,  34.6675,2,    129.1,2,   161.60,2,    37.80,2,     0.00,2,     2.61,2, -999.000,9, -999.000,9,   -999.0,9,  -999.00,9,  -999.00,9,   2338.1,2,   2434.3,2,  1.2502
    18DD9403_1,  P15N,   004,  3,    165,      5,2,19940919,1003, 53.2420,-165.0288, 3663,   3487.2,   1.4611,  34.6738,2,  34.6740,2,    138.5,2,   160.70,2,    37.30,2,     0.00,2,     2.54,2, -999.000,9, -999.000,9,   -999.0,9,  -999.00,9,  -999.00,9,   2336.9,2,   2430.7,2,  1.1973
    18DD9403_1,  P15N,   004,  3,    166,      4,2,19940919,1003, 53.2420,-165.0288, 3663,   3491.5,   1.4613,  34.6743,2,  34.6745,2,   -999.0,9,  -999.00,9,  -999.00,9,  -999.00,9,  -999.00,9, -999.000,9, -999.000,9,   -999.0,9,  -999.00,9,  -999.00,9,   -999.0,9,   -999.0,9,  1.1971
    18DD9403_1,  P15N,   004,  3,    167,      3,2,19940919,1003, 53.2420,-165.0288, 3663,   3681.9,   1.4275,  34.6811,2,  34.6807,2,   -999.0,9,  -999.00,9,  -999.00,9,  -999.00,9,  -999.00,9, -999.000,9, -999.000,9,   -999.0,9,  -999.00,9,  -999.00,9,   -999.0,9,   -999.0,9,  1.1444
    18DD9403_1,  P15N,   004,  3,    168,      2,2,19940919,1003, 53.2420,-165.0288, 3663,   3685.4,   1.4276,  34.6811,2,  34.6805,2,   -999.0,9,  -999.00,9,  -999.00,9,  -999.00,9,  -999.00,9, -999.000,9, -999.000,9,   -999.0,9,  -999.00,9,  -999.00,9,   -999.0,9,   -999.0,9,  1.1441
    18DD9403_1,  P15N,   004,  3,    169,      1,2,19940919,1003, 53.2420,-165.0288, 3663,   3686.5,   1.4274,  34.6810,2,  34.6809,2,   -999.0,9,  -999.00,9,  -999.00,9,  -999.00,9,  -999.00,9, -999.000,9, -999.000,9,   -999.0,9,  -999.00,9,  -999.00,9,   -999.0,9,   -999.0,9,  1.1438
    18DD9403_1,  P15N,   005,  3,    170,     23,2,19940919,1432, 52.9960,-165.0098, -999,     10.3,  10.4024,  32.2338,2,  32.2454,2,    282.1,2,     5.00,2,     3.10,2,     0.10,2,     0.64,2,    4.728,3,    1.858,3,   -999.0,9,  -999.00,9,  -999.00,9,   -999.0,9,   -999.0,9, 10.4012
    18DD9403_1,  P15N,   005,  3,    171,     22,2,19940919,1432, 52.9960,-165.0098, -999,     50.2,   4.5145,  32.6222,2,  32.6058,2,    306.8,2,    17.50,2,    15.10,2,     0.73,2,     1.41,2,    5.697,3,    2.526,3,   -999.0,9,  -999.00,9,  -999.00,9,   -999.0,9,   -999.0,9,  4.5110
    18DD9403_1,  P15N,   005,  3,    172,     21,2,19940919,1432, 52.9960,-165.0098, -999,     99.5,   4.3585,  33.2477,2,  33.2816,2,    175.1,2,    48.70,2,    30.30,2,     0.01,2,     2.22,2,    3.740,3,    1.765,3,   -999.0,9,  -999.00,9,  -999.00,9,   -999.0,9,   -999.0,9,  4.3516
    18DD9403_1,  P15N,   005,  3,    173,     20,2,19940919,1432, 52.9960,-165.0098, -999,    200.8,   3.9406,  33.8569,2,  33.8502,2,     56.3,2,    82.10,2,    42.10,2,     0.01,2,     2.96,2,    1.740,3,    0.830,3,   -999.0,9,  -999.00,9,  -999.00,9,   -999.0,9,   -999.0,9,  3.9269
    18DD9403_1,  P15N,   005,  3,    174,     19,2,19940919,1432, 52.9960,-165.0098, -999,    301.0,   3.8512,  34.0025,2,  33.9944,2,     26.9,2,    97.40,2,    43.90,2,     0.00,2,     3.13,2,    0.923,3,    0.498,3,   -999.0,9,  -999.00,9,  -999.00,9,   -999.0,9,   -999.0,9,  3.8306
    18DD9403_1,  P15N,   005,  3,    176,     17,2,19940919,1432, 52.9960,-165.0098, -999,    398.4,   3.7143,  34.1016,2,  34.1057,2,     20.1,2,   109.30,2,    44.20,2,     0.00,2,     3.10,2,    0.449,3,    0.284,3,   -999.0,9,  -999.00,9,  -999.00,9,   -999.0,9,   -999.0,9,  3.6871
    18DD9403_1,  P15N,   005,  3,    175,     18,2,19940919,1432, 52.9960,-165.0098, -999,    398.8,   3.7137,  34.1019,2,  34.1057,2,     21.4,2,   109.00,2,    44.30,2,     0.00,2,     3.13,2,    0.471,3,    0.264,3,   -999.0,9,  -999.00,9,  -999.00,9,   -999.0,9,   -999.0,9,  3.6865
    18DD9403_1,  P15N,   005,  3,    177,     16,2,19940919,1432, 52.9960,-165.0098, -999,    598.8,   3.4121,  34.2321,2,  34.2380,2,     17.1,2,   124.00,2,    44.10,2,     0.00,2,     3.11,2,    0.165,3,    0.151,3,   -999.0,9,  -999.00,9,  -999.00,9,   -999.0,9,   -999.0,9,  3.3716
    18DD9403_1,  P15N,   005,  3,    178,     15,2,19940919,1432, 52.9960,-165.0098, -999,    799.7,   3.0776,  34.3319,2,  34.3304,2,     15.2,2,   137.00,2,    44.30,2,     0.00,2,     3.58,4,    0.072,3,    0.000,3,   -999.0,9,  -999.00,9,  -999.00,9,   -999.0,9,   -999.0,9,  3.0243
    18DD9403_1,  P15N,   005,  3,    179,     14,2,19940919,1432, 52.9960,-165.0098, -999,    999.4,   2.7456,  34.4017,2,  34.4019,2,     19.8,2,   147.60,2,    44.40,2,     0.00,2,     3.10,2,    0.029,3,    0.000,3,   -999.0,9,  -999.00,9,  -999.00,9,   -999.0,9,   -999.0,9,  2.6800
    18DD9403_1,  P15N,   005,  3,    180,     13,2,19940919,1432, 52.9960,-165.0098, -999,   1249.7,   2.4369,  34.4751,2,  34.4713,2,     26.3,2,   156.90,2,    44.00,2,     0.00,2,     3.57,4,    0.000,3,    0.000,3,   -999.0,9,  -999.00,9,  -999.00,9,   -999.0,9,   -999.0,9,  2.3551
    18DD9403_1,  P15N,   005,  3,    182,     11,2,19940919,1432, 52.9960,-165.0098, -999,   1499.5,   2.1506,  34.5298,2,  34.5304,2,     41.1,2,   163.50,2,    43.10,2,     0.00,2,     3.02,2,    0.000,3,    0.000,3,   -999.0,9,  -999.00,9,  -999.00,9,   -999.0,9,   -999.0,9,  2.0527
    18DD9403_1,  P15N,   005,  3,    181,     12,2,19940919,1432, 52.9960,-165.0098, -999,   1499.7,   2.1504,  34.5298,2,  34.5317,2,     40.1,2,   162.30,2,    43.40,2,     0.00,2,     3.03,2,    0.006,3,    0.000,3,   -999.0,9,  -999.00,9,  -999.00,9,   -999.0,9,   -999.0,9,  2.0525
    18DD9403_1,  P15N,   005,  3,    183,     10,2,19940919,1432, 52.9960,-165.0098, -999,   1750.2,   1.9660,  34.5719,2,  34.5710,2,     54.6,2,   167.30,2,    42.40,2,     0.00,2,     2.96,2,    0.000,3,    0.000,3,   -999.0,9,  -999.00,9,  -999.00,9,   -999.0,9,   -999.0,9,  1.8507
    18DD9403_1,  P15N,   005,  3,    184,      9,2,19940919,1432, 52.9960,-165.0098, -999,   1998.5,   1.8160,  34.6001,2,  34.6012,2,     71.6,2,   168.70,2,    41.30,2,     0.00,2,     2.88,2,    0.033,3,    0.000,3,   -999.0,9,  -999.00,9,  -999.00,9,   -999.0,9,   -999.0,9,  1.6826
    18DD9403_1,  P15N,   005,  3,    185,      8,2,19940919,1432, 52.9960,-165.0098, -999,   2249.0,   1.7142,  34.6197,2,  34.6218,2,     86.9,2,   168.70,2,    40.60,2,     0.00,2,     2.83,2, -999.000,9, -999.000,9,   -999.0,9,  -999.00,9,  -999.00,9,   -999.0,9,   -999.0,9,  1.5613
    18DD9403_1,  P15N,   005,  3,    186,      7,2,19940919,1432, 52.9960,-165.0098, -999,   2499.1,   1.6403,  34.6355,2,  34.6367,2,     99.5,2,   168.00,2,    39.50,2,     0.00,2,     2.76,2, -999.000,9, -999.000,9,   -999.0,9,  -999.00,9,  -999.00,9,   -999.0,9,   -999.0,9,  1.4668
    18DD9403_1,  P15N,   005,  3,    187,      6,2,19940919,1432, 52.9960,-165.0098, -999,   2748.3,   1.5832,  34.6471,2,  34.6484,2,    109.8,2,   167.00,2,    38.80,2,     0.00,2,     2.71,2, -999.000,9, -999.000,9,   -999.0,9,  -999.00,9,  -999.00,9,   -999.0,9,   -999.0,9,  1.3884
    18DD9403_1,  P15N,   005,  3,    188,      5,2,19940919,1432, 52.9960,-165.0098, -999,   2999.7,   1.5218,  34.6598,2,  34.6599,2,    123.1,2,   163.20,2,    38.00,2,     0.00,2,     2.64,2, -999.000,9, -999.000,9,   -999.0,9,  -999.00,9,  -999.00,9,   -999.0,9,   -999.0,9,  1.3047
    18DD9403_1,  P15N,   005,  3,    189,      4,2,19940919,1432, 52.9960,-165.0098, -999,   3250.2,   1.4836,  34.6683,2,  34.6683,2,    131.0,2,   161.10,2,    37.40,2,     0.00,2,     2.60,2, -999.000,9, -999.000,9,   -999.0,9,  -999.00,9,  -999.00,9,   -999.0,9,   -999.0,9,  1.2430
    18DD9403_1,  P15N,   005,  3,    190,      3,2,19940919,1432, 52.9960,-165.0098, -999,   3500.1,   1.4593,  34.6748,2,  34.6743,2,    139.2,2,   160.40,2,    36.90,2,     0.00,2,     2.56,2, -999.000,9, -999.000,9,   -999.0,9,  -999.00,9,  -999.00,9,   -999.0,9,   -999.0,9,  1.1943
    18DD9403_1,  P15N,   005,  3,    191,      2,2,19940919,1432, 52.9960,-165.0098, -999,   3748.0,   1.3960,  34.6859,2,  34.6851,2,    154.2,2,   154.70,2,    36.10,2,     0.00,2,     2.49,2, -999.000,9, -999.000,9,   -999.0,9,  -999.00,9,  -999.00,9,   -999.0,9,   -999.0,9,  1.1068
    18DD9403_1,  P15N,   005,  3,    192,      1,2,19940919,1432, 52.9960,-165.0098, -999,   3986.4,   1.3962,  34.6880,2,  34.6882,2,    158.6,2,   153.20,2,    35.70,2,     0.00,2,     2.47,2, -999.000,9, -999.000,9,   -999.0,9,  -999.00,9,  -999.00,9,   -999.0,9,   -999.0,9,  1.0816