BOTTLE,20130510IOSDFOJC
EXPOCODE,SECT_ID,STNNBR,CASTNO,SAMPNO,BTLNBR,BTLNBR_FLAG_W,DATE,TIME,LATITUDE,LONGITUDE,DEPTH,CTDPRS,CTDTMP,CTDSAL,CTDSAL_FLAG_W,SALNTY,SALNTY_FLAG_W,OXYGEN,OXYGEN_FLAG_W,SILCAT,SILCAT_FLAG_W,NITRAT,NITRAT_FLAG_W,NITRIT,NITRIT_FLAG_W,PHSPHT,PHSPHT_FLAG_W,CFC-11,CFC-11_FLAG_W,CFC-12,CFC-12_FLAG_W,DELC14,DELC14_FLAG_W,DELC13,DELC13_FLAG_W,O18O16,O18O16_FLAG_W,TCARBN,TCARBN_FLAG_W,ALKALI,ALKALI_FLAG_W,THETA
,,,,,,,,,,,,DBAR,ITS-90,PSS-78,,PSS-78,,UMOL/KG,,UMOL/KG,,UMOL/KG,,UMOL/KG,,UMOL/KG,,PMOL/KG,,PMOL/KG,,/MILLE,,/MILLE,,/MILLE,,UMOL/KG,,UMOL/KG,,DEG C
    18DD9403_1,  P15N,   053,  3,   1162,    S11,2,19941003,1119, 29.5045,-164.9945, -999,      3.8,  25.9468,  35.2579,2,  35.2633,2,    213.7,3,     3.10,2,     0.20,2,     0.00,2,     0.05,2, -999.000,9, -999.000,9,   -999.0,9,  -999.00,9,  -999.00,9,   -999.0,9,   -999.0,9, 25.9460
    18DD9403_1,  P15N,   053,  3,   1163,    S10,2,19941003,1119, 29.5045,-164.9945, -999,      4.6,  25.9508,  35.2590,2,  35.2628,2,    213.4,3,     3.30,2,     0.10,2,     0.00,2,     0.01,2, -999.000,9, -999.000,9,   -999.0,9,  -999.00,9,  -999.00,9,   -999.0,9,   -999.0,9, 25.9498
    18DD9403_1,  P15N,   053,  3,   1164,     S9,2,19941003,1119, 29.5045,-164.9945, -999,     45.1,  19.9582,  34.8189,2,  35.2630,2,    212.1,3,     3.10,2,     0.10,2,     0.00,2,     0.01,2, -999.000,9, -999.000,9,   -999.0,9,  -999.00,9,  -999.00,9,   -999.0,9,   -999.0,9, 19.9499
    18DD9403_1,  P15N,   053,  3,   1165,     S8,2,19941003,1119, 29.5045,-164.9945, -999,     94.7,  16.1771,  34.6907,2,  34.8193,2,    265.3,3,     4.40,2,     0.00,2,     0.00,2,     0.05,2, -999.000,9, -999.000,9,   -999.0,9,  -999.00,9,  -999.00,9,   -999.0,9,   -999.0,9, 16.1621
    18DD9403_1,  P15N,   053,  3,   1166,     S7,2,19941003,1119, 29.5045,-164.9945, -999,    145.4,  15.0554,  34.5936,2,  34.6938,2,    238.1,2,     4.90,2,     0.90,2,     0.09,2,     0.19,2, -999.000,9, -999.000,9,   -999.0,9,  -999.00,9,  -999.00,9,   -999.0,9,   -999.0,9, 15.0334
    18DD9403_1,  P15N,   053,  3,   1167,     S6,2,19941003,1119, 29.5045,-164.9945, -999,    195.7,  13.9057,  34.4865,2,  34.4939,2,    215.9,2,     8.70,2,     7.80,2,     0.00,2,     0.58,2, -999.000,9, -999.000,9,   -999.0,9,  -999.00,9,  -999.00,9,   -999.0,9,   -999.0,9, 13.8777
    18DD9403_1,  P15N,   053,  3,   1168,     S5,2,19941003,1119, 29.5045,-164.9945, -999,    243.7,  13.0029,  34.4202,2,  34.4216,2,    217.1,2,    11.10,2,     9.30,2,     0.00,2,     0.71,2, -999.000,9, -999.000,9,   -999.0,9,  -999.00,9,  -999.00,9,   -999.0,9,   -999.0,9, 12.9695
    18DD9403_1,  P15N,   053,  3,   1169,     S4,2,19941003,1119, 29.5045,-164.9945, -999,    296.0,  11.9741,  34.3332,2,  34.3327,2,    220.6,2,    13.20,2,    10.80,2,     0.00,2,     0.79,2, -999.000,9, -999.000,9,   -999.0,9,  -999.00,9,  -999.00,9,   -999.0,9,   -999.0,9, 11.9356
    18DD9403_1,  P15N,   053,  3,   1170,     S3,2,19941003,1119, 29.5045,-164.9945, -999,    395.6,   9.9936,  34.1846,2,  34.1900,2,    208.4,2,    21.70,2,    16.00,2,     0.00,2,     1.15,2, -999.000,9, -999.000,9,   -999.0,9,  -999.00,9,  -999.00,9,   -999.0,9,   -999.0,9,  9.9477
    18DD9403_1,  P15N,   053,  3,   1171,     S2,2,19941003,1119, 29.5045,-164.9945, -999,    493.4,   7.9331,  34.0676,2,  34.0679,2,    174.5,2,    36.30,2,    23.10,2,     0.00,2,     1.74,2, -999.000,9, -999.000,9,   -999.0,9,  -999.00,9,  -999.00,9,   -999.0,9,   -999.0,9,  7.8831
    18DD9403_1,  P15N,   053,  3,   1172,     S1,2,19941003,1119, 29.5045,-164.9945, -999,    597.3,   6.3045,  34.0235,2,  34.0223,2,    129.8,2,    55.00,2,    30.00,2,     0.00,2,     2.20,2, -999.000,9, -999.000,9,   -999.0,9,  -999.00,9,  -999.00,9,   -999.0,9,   -999.0,9,  6.2510
    18DD9403_1,  P15N,   053,  5,   1173,     23,2,19941003,1321, 29.5252,-164.9868, -999,    508.0,   7.9020,  34.0621,2,  34.0665,2,    177.3,3,    36.10,2,    23.10,2,     0.00,2,     1.76,2, -999.000,9, -999.000,9,   -999.0,9,  -999.00,9,  -999.00,9,   -999.0,9,   -999.0,9,  7.8506
    18DD9403_1,  P15N,   053,  5,   1174,     22,2,19941003,1321, 29.5252,-164.9868, -999,    595.5,   6.4551,  34.0242,2,  34.0266,2,    133.5,3,    53.90,2,    29.40,2,     0.00,2,     2.19,2, -999.000,9, -999.000,9,   -999.0,9,  -999.00,9,  -999.00,9,   -999.0,9,   -999.0,9,  6.4011
    18DD9403_1,  P15N,   053,  5,   1175,     21,2,19941003,1321, 29.5252,-164.9868, -999,    801.9,   4.3406,  34.1538,2,  34.1238,2,     46.8,3,    96.10,2,    40.20,2,     0.00,2,     2.93,2, -999.000,9, -999.000,9,   -999.0,9,  -999.00,9,  -999.00,9,   -999.0,9,   -999.0,9,  4.2795
    18DD9403_1,  P15N,   053,  5,   1177,     19,2,19941003,1321, 29.5252,-164.9868, -999,   1014.6,   3.5946,  34.3535,2,  34.3282,2,     15.8,3,   123.10,2,    43.60,2,     0.00,2,     3.18,2, -999.000,9, -999.000,9,   -999.0,9,  -999.00,9,  -999.00,9,   -999.0,9,   -999.0,9,  3.5213
    18DD9403_1,  P15N,   053,  5,   1176,     20,2,19941003,1321, 29.5252,-164.9868, -999,   1017.5,   3.5834,  34.3584,2,  34.3318,2,     15.0,3,   123.10,2,    43.60,2,     0.00,2,     3.18,2, -999.000,9, -999.000,9,   -999.0,9,  -999.00,9,  -999.00,9,   -999.0,9,   -999.0,9,  3.5099
    18DD9403_1,  P15N,   053,  5,   1178,     18,2,19941003,1321, 29.5252,-164.9868, -999,   1244.2,   3.1387,  34.4734,2,  34.4775,2,     40.1,3,   132.80,2,    42.60,2,     0.00,2,     3.14,2, -999.000,9, -999.000,9,   -999.0,9,  -999.00,9,  -999.00,9,   -999.0,9,   -999.0,9,  3.0507
    18DD9403_1,  P15N,   053,  5,   1179,     17,2,19941003,1321, 29.5252,-164.9868, -999,   1499.1,   2.6394,  34.5373,2,  34.5358,2,     50.9,3,   145.70,2,    42.10,2,     0.00,2,     3.05,2, -999.000,9, -999.000,9,   -999.0,9,  -999.00,9,  -999.00,9,   -999.0,9,   -999.0,9,  2.5359
    18DD9403_1,  P15N,   053,  5,   1180,     16,2,19941003,1321, 29.5252,-164.9868, -999,   1746.9,   2.2472,  34.5800,2,  34.5808,2,     66.3,3,   154.90,2,    41.40,2,     0.00,2,     2.96,2, -999.000,9, -999.000,9,   -999.0,9,  -999.00,9,  -999.00,9,   -999.0,9,   -999.0,9,  2.1283
    18DD9403_1,  P15N,   053,  5,   1181,     15,2,19941003,1321, 29.5252,-164.9868, -999,   1996.1,   1.9826,  34.6089,2,  34.6105,2,     82.8,3,   158.60,2,    40.20,2,     0.00,2,     2.90,2, -999.000,9, -999.000,9,   -999.0,9,  -999.00,9,  -999.00,9,   -999.0,9,   -999.0,9,  1.8469
    18DD9403_1,  P15N,   053,  5,   1182,     14,2,19941003,1321, 29.5252,-164.9868, -999,   2249.2,   1.7841,  34.6314,2,  34.6319,2,     95.2,3,   161.10,2,    39.60,2,     0.00,2,     3.15,4, -999.000,9, -999.000,9,   -999.0,9,  -999.00,9,  -999.00,9,   -999.0,9,   -999.0,9,  1.6299
    18DD9403_1,  P15N,   053,  5,   1183,     13,2,19941003,1321, 29.5252,-164.9868, -999,   2504.5,   1.6713,  34.6448,2,  34.6449,2,    105.5,3,   161.60,2,    38.80,2,     0.00,2,     2.81,2, -999.000,9, -999.000,9,   -999.0,9,  -999.00,9,  -999.00,9,   -999.0,9,   -999.0,9,  1.4967
    18DD9403_1,  P15N,   053,  5,   1184,     12,2,19941003,1321, 29.5252,-164.9868, -999,   2753.3,   1.6005,  34.6548,2,  34.6539,2,    114.6,3,   161.80,2,    38.50,2,     0.00,2,     2.72,2, -999.000,9, -999.000,9,   -999.0,9,  -999.00,9,  -999.00,9,   -999.0,9,   -999.0,9,  1.4048
    18DD9403_1,  P15N,   053,  5,   1185,     11,2,19941003,1321, 29.5252,-164.9868, -999,   3003.0,   1.5457,  34.6626,2,  34.6549,2,    110.1,2,   161.80,2,    38.30,2,     0.00,2,     2.72,2, -999.000,9, -999.000,9,   -999.0,9,  -999.00,9,  -999.00,9,   -999.0,9,   -999.0,9,  1.3278
    18DD9403_1,  P15N,   053,  5,   1186,     10,2,19941003,1321, 29.5252,-164.9868, -999,   3253.4,   1.5087,  34.6694,2,  34.6697,2,    132.0,2,   158.80,2,    37.50,2,     0.00,2,     2.63,2, -999.000,9, -999.000,9,   -999.0,9,  -999.00,9,  -999.00,9,   -999.0,9,   -999.0,9,  1.2672
    18DD9403_1,  P15N,   053,  5,   1187,      9,2,19941003,1321, 29.5252,-164.9868, -999,   3497.0,   1.4823,  34.6747,2,  34.6747,2,    137.9,2,   157.10,2,    36.90,2,     0.00,2,     2.60,2, -999.000,9, -999.000,9,   -999.0,9,  -999.00,9,  -999.00,9,   -999.0,9,   -999.0,9,  1.2170
    18DD9403_1,  P15N,   053,  5,   1188,      8,2,19941003,1321, 29.5252,-164.9868, -999,   3748.3,   1.4683,  34.6783,2,  34.6792,2,    143.8,2,   155.00,2,    36.60,2,     0.00,2,     2.56,2, -999.000,9, -999.000,9,   -999.0,9,  -999.00,9,  -999.00,9,   -999.0,9,   -999.0,9,  1.1773
    18DD9403_1,  P15N,   053,  5,   1189,      7,2,19941003,1321, 29.5252,-164.9868, -999,   3998.2,   1.4608,  34.6820,2,  34.6826,2,    148.8,2,   152.50,2,    36.10,2,     0.00,2,     2.56,2, -999.000,9, -999.000,9,   -999.0,9,  -999.00,9,  -999.00,9,   -999.0,9,   -999.0,9,  1.1432
    18DD9403_1,  P15N,   053,  5,   1190,      6,2,19941003,1321, 29.5252,-164.9868, -999,   4249.6,   1.4682,  34.6844,2,  34.6840,2,    151.6,2,   152.50,2,    36.10,2,     0.00,2,     2.54,2, -999.000,9, -999.000,9,   -999.0,9,  -999.00,9,  -999.00,9,   -999.0,9,   -999.0,9,  1.1227
    18DD9403_1,  P15N,   053,  5,   1191,      5,2,19941003,1321, 29.5252,-164.9868, -999,   4499.7,   1.4795,  34.6861,2,  34.6863,2,    154.6,3,   152.00,2,    36.00,2,     0.00,2,     2.52,2, -999.000,9, -999.000,9,   -999.0,9,  -999.00,9,  -999.00,9,   -999.0,9,   -999.0,9,  1.1052
    18DD9403_1,  P15N,   053,  5,   1192,      4,2,19941003,1321, 29.5252,-164.9868, -999,   4749.7,   1.4983,  34.6873,2,  34.6866,2,    155.7,3,   151.10,2,    35.90,2,     0.00,2,     2.50,2, -999.000,9, -999.000,9,   -999.0,9,  -999.00,9,  -999.00,9,   -999.0,9,   -999.0,9,  1.0942
    18DD9403_1,  P15N,   053,  5,   1193,      3,2,19941003,1321, 29.5252,-164.9868, -999,   5000.5,   1.5167,  34.6884,2,  34.6898,2,    158.0,3,   148.10,2,    35.70,2,     0.00,2,     2.49,2, -999.000,9, -999.000,9,   -999.0,9,  -999.00,9,  -999.00,9,   -999.0,9,   -999.0,9,  1.0818
    18DD9403_1,  P15N,   053,  5,   1194,      2,2,19941003,1321, 29.5252,-164.9868, -999,   5249.8,   1.5273,  34.6899,2,  34.6887,2,    158.6,3,   147.40,2,    35.70,2,     0.00,2,     2.56,2, -999.000,9, -999.000,9,   -999.0,9,  -999.00,9,  -999.00,9,   -999.0,9,   -999.0,9,  1.0613
    18DD9403_1,  P15N,   053,  5,   1195,      1,2,19941003,1321, 29.5252,-164.9868, -999,   5530.9,   1.5470,  34.6914,2,  34.6898,2,    163.7,3,   144.10,2,    35.70,2,     0.00,2,     2.48,2, -999.000,9, -999.000,9,   -999.0,9,  -999.00,9,  -999.00,9,   -999.0,9,   -999.0,9,  1.0447
    18DD9403_1,  P15N,   054,  3,   1196,     23,2,19941003,2012, 29.0098,-164.9852, -999,     11.4,  26.1167,  35.4005,2,  35.3960,2,    207.5,3,     2.30,2,     0.10,2,     0.00,2,     0.00,2,    3.044,3,    1.122,3,   -999.0,9,  -999.00,9,  -999.00,9,   1987.7,2,   2325.3,2, 26.1141
    18DD9403_1,  P15N,   054,  3,   1197,     22,2,19941003,2012, 29.0098,-164.9852, -999,     51.0,  20.1709,  34.9401,2,  34.9720,2,    250.9,2,     3.00,2,     0.10,2,     0.00,2,     0.14,2,    6.215,3,    1.458,3,   -999.0,9,  -999.00,9,  -999.00,9,   1989.4,2,   2302.3,2, 20.1614
    18DD9403_1,  P15N,   054,  3,   1198,     21,2,19941003,2012, 29.0098,-164.9852, -999,    101.9,  17.0829,  34.8080,2,  34.8217,2,    229.6,2,     4.00,2,     0.70,2,     0.18,2,     4.51,4,    3.403,3,    1.594,3,   -999.0,9,  -999.00,9,  -999.00,9,   2025.6,2,   2300.4,2, 17.0661
    18DD9403_1,  P15N,   054,  3,   1199,     20,2,19941003,2012, 29.0098,-164.9852, -999,    205.8,  14.4527,  34.5211,2,  34.5420,2,    214.3,2,     8.00,2,     6.90,2,     0.00,2,     0.55,2,    2.959,3,    1.753,3,   -999.0,9,  -999.00,9,  -999.00,9,   2063.2,2,   2282.2,2, 14.4224
    18DD9403_1,  P15N,   054,  3,   1200,     19,2,19941003,2012, 29.0098,-164.9852, -999,    300.1,  12.3836,  34.3256,2,  34.3700,2,    215.5,2,    11.70,2,    10.50,2,     0.00,2,     4.09,4,    2.768,3,    1.561,3,   -999.0,9,  -999.00,9,  -999.00,9,   2068.6,2,   2283.8,2, 12.3437
    18DD9403_1,  P15N,   054,  3,   1201,     18,2,19941003,2012, 29.0098,-164.9852, -999,    405.5,  10.3110,  34.1995,2,  34.2125,2,    204.3,2,    19.40,2,    15.60,2,     0.00,2,     1.04,2,    2.976,3,    1.529,3,   -999.0,9,  -999.00,9,  -999.00,9,   2100.8,2,   2271.8,2, 10.2630
    18DD9403_1,  P15N,   054,  3,   1202,     17,2,19941003,2012, 29.0098,-164.9852, -999,    603.6,   6.4982,  34.0230,2,  34.0261,2,    134.6,2,    51.10,2,    29.40,2,     0.00,2,     2.77,4,    1.386,3,    0.743,3,   -999.0,9,  -999.00,9,  -999.00,9,   2203.0,2,   2291.3,2,  6.4433
    18DD9403_1,  P15N,   054,  3,   1203,     16,2,19941003,2012, 29.0098,-164.9852, -999,    793.9,   4.3042,  34.1372,2,  34.1383,2,     45.4,2,    97.20,2,    40.70,2,     0.00,2,     2.84,2,    0.219,3,    0.332,3,   -999.0,9,  -999.00,9,  -999.00,9,   2213.5,2,   2333.1,2,  4.2440
    18DD9403_1,  P15N,   054,  3,   1204,     15,2,19941003,2012, 29.0098,-164.9852, -999,   1001.9,   3.5642,  34.3292,2,  34.3156,2,     15.0,4,   122.90,2,    44.10,2,     0.00,2,     2.80,2,    0.000,3,    0.000,3,   -999.0,9,  -999.00,9,  -999.00,9,   2360.5,2,   2378.2,2,  3.4922
    18DD9403_1,  P15N,   054,  3,   1205,     14,2,19941003,2012, 29.0098,-164.9852, -999,   1257.1,   3.1385,  34.4792,2,  34.4758,2,     35.9,3,   133.20,2,    42.70,2,     0.00,2,     2.97,2,    0.000,3,    0.230,3,   -999.0,9,  -999.00,9,  -999.00,9,   2364.3,2,   -999.0,9,  3.0494
    18DD9403_1,  P15N,   054,  3,   1206,     13,2,19941003,2012, 29.0098,-164.9852, -999,   1503.2,   2.6602,  34.5425,2,  34.5425,2,     51.2,2,   143.80,2,    42.30,2,     0.00,2,     2.87,2,    0.019,3,    0.296,3,   -999.0,9,  -999.00,9,  -999.00,9,   2366.8,2,   2405.8,2,  2.5561
    18DD9403_1,  P15N,   054,  3,   1207,     12,2,19941003,2012, 29.0098,-164.9852, -999,   1747.9,   2.2451,  34.5834,2,  34.5793,2,     66.1,2,   154.20,2,    41.80,2,     0.00,2,     2.90,2,    0.014,3,    0.243,3,   -999.0,9,  -999.00,9,  -999.00,9,   2371.1,2,   2421.7,2,  2.1262
    18DD9403_1,  P15N,   054,  3,   1208,     11,2,19941003,2012, 29.0098,-164.9852, -999,   1995.1,   1.9793,  34.6094,2,  34.6086,2,     79.6,3,   159.90,2,    41.00,2,     0.00,2,     2.75,2, -999.000,9, -999.000,9,   -999.0,9,  -999.00,9,  -999.00,9,   2364.4,2,   2428.2,2,  1.8437
    18DD9403_1,  P15N,   054,  3,   1209,     10,2,19941003,2012, 29.0098,-164.9852, -999,   2248.0,   1.8036,  34.6305,2,  34.6301,2,     94.1,3,   162.00,2,    40.20,2,     0.00,2,     2.70,2, -999.000,9, -999.000,9,   -999.0,9,  -999.00,9,  -999.00,9,   2357.7,2,   2431.6,2,  1.6492
    18DD9403_1,  P15N,   054,  3,   1210,      9,2,19941003,2012, 29.0098,-164.9852, -999,   2503.4,   1.6792,  34.6467,2,  34.6448,2,    104.3,3,   163.70,2,    39.60,2,     0.00,2,     2.66,2, -999.000,9, -999.000,9,   -999.0,9,  -999.00,9,  -999.00,9,   2356.6,2,   2430.8,2,  1.5046
    18DD9403_1,  P15N,   054,  3,   1211,      8,2,19941003,2012, 29.0098,-164.9852, -999,   2752.6,   1.5947,  34.6570,2,  34.6567,2,    116.6,3,   161.30,2,    38.70,2,     0.00,2,     2.61,2, -999.000,9, -999.000,9,   -999.0,9,  -999.00,9,  -999.00,9,   2349.9,2,   2431.3,2,  1.3992
    18DD9403_1,  P15N,   054,  3,   1212,      7,2,19941003,2012, 29.0098,-164.9852, -999,   2999.9,   1.5322,  34.6661,2,  34.6648,2,    127.2,3,   159.70,2,    37.90,2,     0.00,2,     2.54,2, -999.000,9, -999.000,9,   -999.0,9,  -999.00,9,  -999.00,9,   2339.3,2,   -999.0,9,  1.3148
    18DD9403_1,  P15N,   054,  3,   1213,      6,2,19941003,2012, 29.0098,-164.9852, -999,   3503.4,   1.4697,  34.6782,2,  34.6764,2,    140.2,3,   155.10,2,    37.10,2,     0.00,2,     2.44,2, -999.000,9, -999.000,9,   -999.0,9,  -999.00,9,  -999.00,9,   2333.3,2,   2435.2,2,  1.2040
    18DD9403_1,  P15N,   054,  3,   1214,      5,2,19941003,2012, 29.0098,-164.9852, -999,   3998.6,   1.4545,  34.6845,2,  34.6840,2,    150.4,3,   153.50,2,    36.10,2,     0.00,2,     2.46,2, -999.000,9, -999.000,9,   -999.0,9,  -999.00,9,  -999.00,9,   2307.4,3,   2432.7,2,  1.1370
    18DD9403_1,  P15N,   054,  3,   1215,      4,2,19941003,2012, 29.0098,-164.9852, -999,   4498.8,   1.4769,  34.6878,2,  34.6896,2,    154.7,2,   152.80,2,    36.20,2,     0.00,2,     2.45,2, -999.000,9, -999.000,9,   -999.0,9,  -999.00,9,  -999.00,9,   2317.8,2,   2430.0,2,  1.1028
    18DD9403_1,  P15N,   054,  3,   1216,      3,2,19941003,2012, 29.0098,-164.9852, -999,   5000.5,   1.5104,  34.6904,2,  34.6899,2,    160.4,3,   146.50,2,    35.80,2,     0.00,2,     2.47,2, -999.000,9, -999.000,9,   -999.0,9,  -999.00,9,  -999.00,9,   2314.8,2,   2433.8,2,  1.0757
    18DD9403_1,  P15N,   054,  3,   1217,      2,2,19941003,2012, 29.0098,-164.9852, -999,   5348.8,   1.5291,  34.6930,2,  34.6926,2,    164.2,3,   143.10,2,    35.50,2,     0.00,2,     2.40,2, -999.000,9, -999.000,9,   -999.0,9,  -999.00,9,  -999.00,9,   -999.0,9,   2427.7,2,  1.0506
    18DD9403_1,  P15N,   054,  3,   1218,      1,2,19941003,2012, 29.0098,-164.9852, -999,   5371.9,   1.5312,  34.6928,2,  34.6919,2,    166.7,3,   142.60,2,    35.20,2,     0.00,2,     2.36,2, -999.000,9, -999.000,9,   -999.0,9,  -999.00,9,  -999.00,9,   2309.9,2,   2423.5,2,  1.0497