BOTTLE,20131125MIRCJHATS
EXPOCODE,SECT_ID,STNNBR,CASTNO,SAMPNO,BTLNBR,BTLNBR_FLAG_W,DATE,TIME,LATITUDE,LONGITUDE,DEPTH,CTDPRS,CTDTMP,CTDSAL,CTDSAL_FLAG_W,SALNTY,SALNTY_FLAG_W,CTDOXY,CTDOXY_FLAG_W,OXYGEN,OXYGEN_FLAG_W,SILCAT,SILCAT_FLAG_W,NITRAT,NITRAT_FLAG_W,NITRIT,NITRIT_FLAG_W,PHSPHT,PHSPHT_FLAG_W,CFC-11,CFC-11_FLAG_W,CFC-12,CFC-12_FLAG_W,TRITUM,TRITUM_FLAG_W,HELIUM,HELIUM_FLAG_W,DELHE3,DELHE3_FLAG_W,DELC14,DELC14_FLAG_W,DELC13,DELC13_FLAG_W,TCARBN,TCARBN_FLAG_W,PCO2,PCO2_FLAG_W,ALKALI,ALKALI_FLAG_W,PCO2TMP,C14ERR,HELIER,DELHER,THETA,TRITER
,,,,,,,,,,,,DBAR,ITS-90,PSS-78,,PSS-78,,UMOL/KG,,UMOL/KG,,UMOL/KG,,UMOL/KG,,UMOL/KG,,UMOL/KG,,PMOL/KG,,PMOL/KG,,TU,,NMOL/KG,,PERCNT,,/MILLE,,/MILLE,,UMOL/KG,,UATM,,UMOL/KG,,DEG C,/MILLE,NMOL/KG,PERCNT,DEG C,TU
   31WTTUNES_2,  P17S,   156,  1,      1,      1,2,19910731,2215,-21.7683,-132.5317, 3820,      2.5,  24.2807,  36.2232,2,  36.2272,2,    199.7,3,    208.0,2,     1.48,2,     0.05,2,     0.00,2,     0.17,2,    1.829,2,    0.996,2, -999.000,9,-999.0000,9,  -999.00,9,    116.0,2,      1.5,2,   2025.1,2,    273.9,2,   -999.0,9,   20.00,     3.7,-999.0000,-999.000, 24.2802,-999.000
   31WTTUNES_2,  P17S,   156,  1,      2,      2,2,19910731,2215,-21.7683,-132.5317, 3820,     49.3,  24.2947,  36.2227,2,  36.2254,2,    206.5,6,    207.7,2,     1.28,2,     0.05,2,     0.00,2,     0.17,2, -999.000,9, -999.000,9, -999.000,9,-999.0000,9,  -999.00,9,   -999.0,9,   -999.0,9,   -999.0,9,   -999.0,9,   -999.0,9, -999.00,  -999.0,-999.0000,-999.000, 24.2842,-999.000
   31WTTUNES_2,  P17S,   156,  1,      3,      3,2,19910731,2215,-21.7683,-132.5317, 3820,     96.9,  24.3006,  36.2217,2,  36.2248,2,    208.4,2,    207.7,2,     1.08,2,     0.05,2,     0.00,2,     0.17,2,    1.942,2,    1.036,2, -999.000,9,-999.0000,9,  -999.00,9,   -999.0,9,   -999.0,9,   -999.0,9,   -999.0,9,   -999.0,9, -999.00,  -999.0,-999.0000,-999.000, 24.2799,-999.000
   31WTTUNES_2,  P17S,   156,  1,      4,      4,2,19910731,2215,-21.7683,-132.5317, 3820,    140.7,  23.2965,  35.9922,2,  36.0326,2,    212.2,2,    202.5,2,     1.07,2,     0.03,2,     0.17,2,     0.19,2, -999.000,9, -999.000,9, -999.000,9,-999.0000,9,  -999.00,9,    108.3,2,      1.3,2,   -999.0,9,   -999.0,9,   -999.0,9, -999.00,     4.7,-999.0000,-999.000, 23.2674,-999.000
   31WTTUNES_2,  P17S,   156,  1,      5,      5,2,19910731,2215,-21.7683,-132.5317, 3820,    166.5,  22.2859,  35.9785,2,  35.9705,2,    197.3,2,    194.4,2,     1.07,2,     0.31,2,     0.29,2,     0.24,2,    1.847,2,    0.999,2, -999.000,9,-999.0000,9,  -999.00,9,    135.6,2,      1.3,2,   -999.0,9,   -999.0,9,   -999.0,9, -999.00,     3.7,-999.0000,-999.000, 22.2525,-999.000
   31WTTUNES_2,  P17S,   156,  1,      6,      6,2,19910731,2215,-21.7683,-132.5317, 3820,    198.2,  21.6020,  35.9325,2,  35.9304,2,    193.2,2,    190.4,2,     1.06,2,     1.04,2,     0.07,2,     0.28,2, -999.000,9, -999.000,9, -999.000,9,-999.0000,9,  -999.00,9,    136.9,2,      1.3,2,   -999.0,9,   -999.0,9,   -999.0,9, -999.00,     3.8,-999.0000,-999.000, 21.5631,-999.000
   31WTTUNES_2,  P17S,   156,  1,      7,      7,2,19910731,2215,-21.7683,-132.5317, 3820,    250.0,  19.6166,  35.6933,2,  35.6893,2,    188.8,2,    189.4,2,     1.05,2,     2.15,2,     0.01,2,     0.34,2,    1.852,2,    0.989,2, -999.000,9,-999.0000,9,  -999.00,9,    146.5,2,      1.3,2,   -999.0,9,   -999.0,9,   -999.0,9, -999.00,     4.3,-999.0000,-999.000, 19.5708,-999.000
   31WTTUNES_2,  P17S,   156,  1,      8,      8,2,19910731,2215,-21.7683,-132.5317, 3820,    310.8,  17.3686,  35.3775,2,  35.3713,2,    187.5,2,    190.6,2,     1.43,2,     4.42,2,     0.00,2,     0.44,2,    1.761,2,    0.925,2, -999.000,9,-999.0000,9,  -999.00,9,    148.7,2,      1.3,2,   -999.0,9,   -999.0,9,   -999.0,9, -999.00,     4.0,-999.0000,-999.000, 17.3163,-999.000
   31WTTUNES_2,  P17S,   156,  1,      9,      9,2,19910731,2215,-21.7683,-132.5317, 3820,    373.8,  14.3379,  34.9993,2,  35.0023,2,    187.4,2,    187.4,2,     2.58,2,     8.59,2,     0.00,2,     0.74,2,    1.436,2,    0.731,2, -999.000,9,-999.0000,9,  -999.00,9,    118.7,2,      1.2,2,   -999.0,9,   -999.0,9,   -999.0,9, -999.00,     4.3,-999.0000,-999.000, 14.2827,-999.000
   31WTTUNES_2,  P17S,   156,  1,     10,     10,2,19910731,2215,-21.7683,-132.5317, 3820,    434.5,  11.5221,  34.7044,2,  34.6744,2,    183.6,2,    182.3,2,     5.29,2,    15.28,2,     0.00,2,     1.18,2,    1.239,2,    0.654,2, -999.000,9,-999.0000,9,  -999.00,9,     90.0,2,      1.1,2,   -999.0,9,   -999.0,9,   -999.0,9, -999.00,     4.9,-999.0000,-999.000, 11.4665,-999.000
   31WTTUNES_2,  P17S,   156,  1,     11,     11,2,19910731,2215,-21.7683,-132.5317, 3820,    496.0,   8.6891,  34.4554,2,  34.4530,2,    184.2,2,    179.8,2,     8.96,2,    20.57,2,     0.00,2,     1.63,2,    0.654,2,    0.346,2, -999.000,9,-999.0000,9,  -999.00,9,     26.8,2,      1.0,2,   -999.0,9,   -999.0,9,   -999.0,9, -999.00,     4.5,-999.0000,-999.000,  8.6358,-999.000
   31WTTUNES_2,  P17S,   156,  1,     12,     12,2,19910731,2215,-21.7683,-132.5317, 3820,    568.1,   6.8793,  34.3560,2,  34.3571,2,    189.9,2,    189.5,2,    12.25,2,    26.28,2,     0.00,2,     1.87,2,    0.398,2,    0.222,2, -999.000,9,-999.0000,9,  -999.00,9,    -20.1,2,      1.0,2,   -999.0,9,   -999.0,9,   -999.0,9, -999.00,     3.4,-999.0000,-999.000,  6.8257,-999.000
   31WTTUNES_2,  P17S,   156,  1,     13,     13,2,19910731,2215,-21.7683,-132.5317, 3820,    627.9,   6.1612,  34.3319,2,  34.3320,2,    193.7,2,    195.1,2,    15.14,2,    27.80,2,     0.00,2,     1.95,2,    0.227,2,    0.138,2, -999.000,9,-999.0000,9,  -999.00,9,    -46.5,2,      1.0,2,   -999.0,9,   -999.0,9,   -999.0,9, -999.00,     3.2,-999.0000,-999.000,  6.1052,-999.000
   31WTTUNES_2,  P17S,   156,  1,     37,     37,2,19910731,2215,-21.7683,-132.5317, 3820,    669.1,   5.8167,  34.3217,2,  34.3206,2,    193.8,2,    195.1,2,    17.27,2,    28.82,2,     0.00,2,     2.01,2,    0.149,2,    0.094,2, -999.000,9,-999.0000,9,  -999.00,9,    -56.5,2,      1.0,2,   -999.0,9,   -999.0,9,   -999.0,9, -999.00,     3.4,-999.0000,-999.000,  5.7586,-999.000
   31WTTUNES_2,  P17S,   156,  1,     15,     15,2,19910731,2215,-21.7683,-132.5317, 3820,    708.3,   5.5243,  34.3192,2,  34.3210,2,    187.7,2,    188.1,2,    20.95,2,    30.05,2,     0.00,2,     2.10,2,    0.091,2,    0.056,8, -999.000,9,-999.0000,9,  -999.00,9,    -72.4,2,      1.0,2,   -999.0,9,   -999.0,9,   -999.0,9, -999.00,     3.3,-999.0000,-999.000,  5.4642,-999.000
   31WTTUNES_2,  P17S,   156,  1,     16,     16,2,19910731,2215,-21.7683,-132.5317, 3820,    768.6,   5.1158,  34.3295,2,  34.3309,2,    177.5,2,    176.5,2,    27.14,2,    31.68,2,     0.00,2,     2.22,2, -999.000,5, -999.000,5, -999.000,9,-999.0000,9,  -999.00,9,   -101.4,2,      0.8,2,   -999.0,9,   -999.0,9,   -999.0,9, -999.00,     7.8,-999.0000,-999.000,  5.0526,-999.000
   31WTTUNES_2,  P17S,   156,  1,     17,     17,2,19910731,2215,-21.7683,-132.5317, 3820,    870.0,   4.6462,  34.3897,2,  34.3935,2,    151.8,2,    150.7,2,    44.21,2,    34.46,2,     0.00,2,     2.43,2,    0.008,2,    0.008,2, -999.000,9,-999.0000,9,  -999.00,9,   -126.8,2,      0.6,2,   -999.0,9,   -999.0,9,   -999.0,9, -999.00,     3.1,-999.0000,-999.000,  4.5771,-999.000
   31WTTUNES_2,  P17S,   156,  1,     18,     18,2,19910731,2215,-21.7683,-132.5317, 3820,    970.2,   4.3673,  34.4531,2,  34.4530,2,    138.2,2,    136.6,2,    58.01,2,    35.65,2,     0.00,2,     2.53,2,    0.002,2,    0.000,2, -999.000,9,-999.0000,9,  -999.00,9,   -150.0,2,      0.4,2,   -999.0,9,   -999.0,9,   -999.0,9, -999.00,     3.8,-999.0000,-999.000,  4.2914,-999.000
   31WTTUNES_2,  P17S,   156,  1,     19,     19,2,19910731,2215,-21.7683,-132.5317, 3820,   1074.7,   4.0518,  34.4936,2,  34.4927,2,    134.9,2,    135.1,2,    68.73,2,    35.76,2,     0.00,2,     2.54,2,    0.002,2,    0.000,2, -999.000,9,-999.0000,9,  -999.00,9,   -999.0,9,   -999.0,9,   -999.0,9,   -999.0,9,   -999.0,9, -999.00,  -999.0,-999.0000,-999.000,  3.9694,-999.000
   31WTTUNES_2,  P17S,   156,  1,     20,     20,2,19910731,2215,-21.7683,-132.5317, 3820,   1179.1,   3.6822,  34.5144,2,  34.5141,2,    136.5,2,    138.0,2,    76.36,2,    35.61,2,     0.00,2,     2.53,2,    0.002,2,    0.000,2, -999.000,9,-999.0000,9,  -999.00,9,   -999.0,9,   -999.0,9,   -999.0,9,   -999.0,9,   -999.0,9, -999.00,  -999.0,-999.0000,-999.000,  3.5943,-999.000
   31WTTUNES_2,  P17S,   156,  1,     21,     21,2,19910731,2215,-21.7683,-132.5317, 3820,   1282.6,   3.2949,  34.5317,2,  34.5290,2,    143.6,2,    143.3,2,    83.62,2,    35.51,2,     0.00,2,     2.53,2, -999.000,9, -999.000,9, -999.000,9,-999.0000,9,  -999.00,9,   -999.0,9,   -999.0,9,   -999.0,9,   -999.0,9,   -999.0,9, -999.00,  -999.0,-999.0000,-999.000,  3.2020,-999.000
   31WTTUNES_2,  P17S,   156,  1,     22,     22,2,19910731,2215,-21.7683,-132.5317, 3820,   1385.4,   2.9948,  34.5438,2,  34.5440,2,    146.9,2,    147.5,2,    89.14,2,    35.51,2,     0.00,2,     2.52,2, -999.000,9, -999.000,9, -999.000,9,-999.0000,9,  -999.00,9,   -999.0,9,   -999.0,9,   -999.0,9,   -999.0,9,   -999.0,9, -999.00,  -999.0,-999.0000,-999.000,  2.8965,-999.000
   31WTTUNES_2,  P17S,   156,  1,     23,     23,2,19910731,2215,-21.7683,-132.5317, 3820,   1490.0,   2.7696,  34.5658,2,  34.5652,2,    149.9,2,    148.1,2,    95.46,2,    35.47,2,     0.00,2,     2.51,2, -999.000,9, -999.000,9, -999.000,9,-999.0000,9,  -999.00,9,   -999.0,9,   -999.0,9,   -999.0,9,   -999.0,9,   -999.0,9, -999.00,  -999.0,-999.0000,-999.000,  2.6653,-999.000
   31WTTUNES_2,  P17S,   156,  1,     24,     24,2,19910731,2215,-21.7683,-132.5317, 3820,   1643.5,   2.5009,  34.5893,2,  34.5884,2,    150.1,2,    150.0,2,   102.80,2,    35.37,2,     0.00,2,     2.50,2, -999.000,9, -999.000,9, -999.000,9,-999.0000,9,  -999.00,9,   -999.0,9,   -999.0,9,   -999.0,9,   -999.0,9,   -999.0,9, -999.00,  -999.0,-999.0000,-999.000,  2.3871,-999.000
   31WTTUNES_2,  P17S,   156,  1,     25,     25,2,19910731,2215,-21.7683,-132.5317, 3820,   1801.0,   2.3059,  34.6086,2,  34.6092,2,    151.2,2,    151.2,2,   108.79,2,    35.17,2,     0.00,2,     2.49,2, -999.000,9, -999.000,9, -999.000,9,-999.0000,9,  -999.00,9,   -999.0,9,   -999.0,9,   -999.0,9,   -999.0,9,   -999.0,9, -999.00,  -999.0,-999.0000,-999.000,  2.1817,-999.000
   31WTTUNES_2,  P17S,   156,  1,     26,     26,2,19910731,2215,-21.7683,-132.5317, 3820,   1953.2,   2.1480,  34.6263,2,  34.6248,2,    152.0,2,    152.2,2,   113.60,2,    35.28,2,     0.00,2,     2.49,2, -999.000,9, -999.000,9, -999.000,9,-999.0000,9,  -999.00,9,   -999.0,9,   -999.0,9,   -999.0,9,   -999.0,9,   -999.0,9, -999.00,  -999.0,-999.0000,-999.000,  2.0132,-999.000
   31WTTUNES_2,  P17S,   156,  1,     27,     27,2,19910731,2215,-21.7683,-132.5317, 3820,   2107.6,   2.0282,  34.6378,2,  34.6374,2,    153.3,2,    154.4,2,   117.63,2,    35.23,2,     0.00,2,     2.49,2, -999.000,9, -999.000,9, -999.000,9,-999.0000,9,  -999.00,9,   -999.0,9,   -999.0,9,   -999.0,9,   -999.0,9,   -999.0,9, -999.00,  -999.0,-999.0000,-999.000,  1.8822,-999.000
   31WTTUNES_2,  P17S,   156,  1,     28,     28,2,19910731,2215,-21.7683,-132.5317, 3820,   2264.1,   1.9635,  34.6478,2,  34.6462,2,    154.2,2,    154.1,2,   120.25,2,    35.08,2,     0.00,2,     2.48,2, -999.000,9, -999.000,9, -999.000,9,-999.0000,9,  -999.00,9,   -999.0,9,   -999.0,9,   -999.0,9,   -999.0,9,   -999.0,9, -999.00,  -999.0,-999.0000,-999.000,  1.8050,-999.000
   31WTTUNES_2,  P17S,   156,  1,     29,     29,2,19910731,2215,-21.7683,-132.5317, 3820,   2468.3,   1.8855,  34.6570,2,  34.6559,2,    157.0,2,    155.3,2,   123.09,2,    35.03,2,     0.00,2,     2.46,2, -999.000,9, -999.000,9, -999.000,9,-999.0000,9,  -999.00,9,   -999.0,9,   -999.0,9,   -999.0,9,   -999.0,9,   -999.0,9, -999.00,  -999.0,-999.0000,-999.000,  1.7102,-999.000
   31WTTUNES_2,  P17S,   156,  1,     30,     30,2,19910731,2215,-21.7683,-132.5317, 3820,   2671.9,   1.8181,  34.6631,2,  34.6636,2,    158.0,2,    158.6,2,   124.51,2,    34.94,2,     0.00,2,     2.46,2, -999.000,9, -999.000,9, -999.000,9,-999.0000,9,  -999.00,9,   -999.0,9,   -999.0,9,   -999.0,9,   -999.0,9,   -999.0,9, -999.00,  -999.0,-999.0000,-999.000,  1.6255,-999.000
   31WTTUNES_2,  P17S,   156,  1,     31,     31,2,19910731,2215,-21.7683,-132.5317, 3820,   2875.2,   1.7641,  34.6683,2,  34.6689,2,    159.8,2,    159.9,2,   125.94,2,    34.89,2,     0.00,2,     2.46,2, -999.000,9, -999.000,9, -999.000,9,-999.0000,9,  -999.00,9,   -999.0,9,   -999.0,9,   -999.0,9,   -999.0,9,   -999.0,9, -999.00,  -999.0,-999.0000,-999.000,  1.5535,-999.000
   31WTTUNES_2,  P17S,   156,  1,     32,     32,2,19910731,2215,-21.7683,-132.5317, 3820,   3081.2,   1.7151,  34.6727,2,  34.6719,2,    164.2,2,    162.3,2,   127.16,2,    34.74,2,     0.00,2,     2.44,2, -999.000,9, -999.000,9, -999.000,9,-999.0000,9,  -999.00,9,   -999.0,9,   -999.0,9,   -999.0,9,   -999.0,9,   -999.0,9, -999.00,  -999.0,-999.0000,-999.000,  1.4857,-999.000
   31WTTUNES_2,  P17S,   156,  1,     33,     33,2,19910731,2215,-21.7683,-132.5317, 3820,   3289.4,   1.6795,  34.6763,2,  34.6750,2,    164.8,2,    164.4,2,   127.37,2,    34.54,2,     0.00,2,     2.43,2, -999.000,9, -999.000,9, -999.000,9,-999.0000,9,  -999.00,9,   -999.0,9,   -999.0,9,   -999.0,9,   -999.0,9,   -999.0,9, -999.00,  -999.0,-999.0000,-999.000,  1.4303,-999.000
   31WTTUNES_2,  P17S,   156,  1,     34,     34,2,19910731,2215,-21.7683,-132.5317, 3820,   3491.3,   1.6457,  34.6789,2,  34.6800,2,    165.6,2,    165.6,2,   128.60,2,    34.49,2,     0.00,2,     2.43,2, -999.000,9, -999.000,9, -999.000,9,-999.0000,9,  -999.00,9,   -999.0,9,   -999.0,9,   -999.0,9,   -999.0,9,   -999.0,9, -999.00,  -999.0,-999.0000,-999.000,  1.3768,-999.000
   31WTTUNES_2,  P17S,   156,  1,     35,     35,2,19910731,2215,-21.7683,-132.5317, 3820,   3696.7,   1.6259,  34.6823,2,  34.6812,2,    166.6,2,    165.9,2,   130.44,2,    34.60,2,     0.00,2,     2.44,2, -999.000,9, -999.000,9, -999.000,9,-999.0000,9,  -999.00,9,   -999.0,9,   -999.0,9,   -999.0,9,   -999.0,9,   -999.0,9, -999.00,  -999.0,-999.0000,-999.000,  1.3361,-999.000
   31WTTUNES_2,  P17S,   156,  1,     38,     38,2,19910731,2215,-21.7683,-132.5317, 3820,   3874.8,   1.6314,  34.6835,2,  34.6818,2,    166.5,2,    166.7,2,   131.47,2,    34.61,2,     0.00,2,     2.44,2,    0.006,2,    0.000,2, -999.000,9,-999.0000,9,  -999.00,9,   -999.0,9,   -999.0,9,   -999.0,9,   -999.0,9,   -999.0,9, -999.00,  -999.0,-999.0000,-999.000,  1.3224,-999.000