BOTTLE,20131125MIRCJHATS
EXPOCODE,SECT_ID,STNNBR,CASTNO,SAMPNO,BTLNBR,BTLNBR_FLAG_W,DATE,TIME,LATITUDE,LONGITUDE,DEPTH,CTDPRS,CTDTMP,CTDSAL,CTDSAL_FLAG_W,SALNTY,SALNTY_FLAG_W,CTDOXY,CTDOXY_FLAG_W,OXYGEN,OXYGEN_FLAG_W,SILCAT,SILCAT_FLAG_W,NITRAT,NITRAT_FLAG_W,NITRIT,NITRIT_FLAG_W,PHSPHT,PHSPHT_FLAG_W,CFC-11,CFC-11_FLAG_W,CFC-12,CFC-12_FLAG_W,TRITUM,TRITUM_FLAG_W,HELIUM,HELIUM_FLAG_W,DELHE3,DELHE3_FLAG_W,DELC14,DELC14_FLAG_W,DELC13,DELC13_FLAG_W,TCARBN,TCARBN_FLAG_W,PCO2,PCO2_FLAG_W,ALKALI,ALKALI_FLAG_W,PCO2TMP,C14ERR,HELIER,DELHER,THETA,TRITER
,,,,,,,,,,,,DBAR,ITS-90,PSS-78,,PSS-78,,UMOL/KG,,UMOL/KG,,UMOL/KG,,UMOL/KG,,UMOL/KG,,UMOL/KG,,PMOL/KG,,PMOL/KG,,TU,,NMOL/KG,,PERCNT,,/MILLE,,/MILLE,,UMOL/KG,,UATM,,UMOL/KG,,DEG C,/MILLE,NMOL/KG,PERCNT,DEG C,TU
   31WTTUNES_2,  P16S,   207,  1,     61,     61,2,19910821,1220,-24.0133,-150.4933, 4784,      2.1,  21.9868,  35.7124,2,  35.7173,2,    215.4,3,    217.4,2,     1.56,2,     0.20,2,     0.00,2,     0.10,2,    2.007,2,    1.084,2, -999.000,9,-999.0000,9,  -999.00,9,   -999.0,9,   -999.0,9,   2001.0,2,    274.7,2,   -999.0,9,   20.00,  -999.0,-999.0000,-999.000, 21.9864,-999.000
   31WTTUNES_2,  P16S,   207,  1,      2,      2,2,19910821,1220,-24.0133,-150.4933, 4784,     39.2,  21.8068,  35.6799,2,  35.6832,2,    214.0,6,    218.2,2,     1.56,2,     0.10,2,     0.00,2,     0.08,2,    1.988,2,    1.070,2, -999.000,9,-999.0000,9,  -999.00,9,   -999.0,9,   -999.0,9,   -999.0,9,   -999.0,9,   -999.0,9, -999.00,  -999.0,-999.0000,-999.000, 21.7991,-999.000
   31WTTUNES_2,  P16S,   207,  1,      3,      3,2,19910821,1220,-24.0133,-150.4933, 4784,     75.1,  21.6018,  35.6436,2,  35.6469,2,    217.0,2,    218.9,2,     1.56,2,     0.10,2,     0.00,2,     0.08,2,    2.012,2,    1.075,2, -999.000,9,-999.0000,9,  -999.00,9,   -999.0,9,   -999.0,9,   -999.0,9,   -999.0,9,   -999.0,9, -999.00,  -999.0,-999.0000,-999.000, 21.5871,-999.000
   31WTTUNES_2,  P16S,   207,  1,     64,     64,2,19910821,1220,-24.0133,-150.4933, 4784,    109.3,  21.2418,  35.6195,2,  35.6125,2,    220.9,2,    221.3,2,     1.56,2,     0.10,2,     0.00,2,     0.07,2,    2.069,2,    1.125,2, -999.000,9,-999.0000,9,  -999.00,9,   -999.0,9,   -999.0,9,   -999.0,9,   -999.0,9,   -999.0,9, -999.00,  -999.0,-999.0000,-999.000, 21.2206,-999.000
   31WTTUNES_2,  P16S,   207,  1,      5,      5,2,19910821,1220,-24.0133,-150.4933, 4784,    146.3,  20.3887,  35.5677,2,  35.5685,2,    222.1,6,    220.7,2,     1.47,2,     0.20,2,     0.00,2,     0.07,2,    2.095,2,    1.117,2, -999.000,9,-999.0000,9,  -999.00,9,   -999.0,9,   -999.0,9,   -999.0,9,   -999.0,9,   -999.0,9, -999.00,  -999.0,-999.0000,-999.000, 20.3612,-999.000
   31WTTUNES_2,  P16S,   207,  1,      6,      6,2,19910821,1220,-24.0133,-150.4933, 4784,    186.3,  19.9897,  35.5523,2,  35.5537,2,    221.7,2,    220.4,2,     1.47,2,     0.20,2,     0.01,2,     0.07,2,    2.120,2,    1.132,2, -999.000,9,-999.0000,9,  -999.00,9,   -999.0,9,   -999.0,9,   -999.0,9,   -999.0,9,   -999.0,9, -999.00,  -999.0,-999.0000,-999.000, 19.9552,-999.000
   31WTTUNES_2,  P16S,   207,  1,      7,      7,2,19910821,1220,-24.0133,-150.4933, 4784,    216.7,  19.6777,  35.5711,2,  35.5764,2,    205.4,2,    203.9,2,     1.47,2,     1.07,2,     0.03,2,     0.19,2,    1.985,2,    1.052,2, -999.000,9,-999.0000,9,  -999.00,9,   -999.0,9,   -999.0,9,   -999.0,9,   -999.0,9,   -999.0,9, -999.00,  -999.0,-999.0000,-999.000, 19.6379,-999.000
   31WTTUNES_2,  P16S,   207,  1,     68,     68,2,19910821,1220,-24.0133,-150.4933, 4784,    241.1,  19.0097,  35.5795,2,  35.5790,2,    197.9,2,    192.5,2,     1.47,2,     2.54,2,     0.01,2,     0.30,2,    1.840,2,    0.985,2, -999.000,9,-999.0000,9,  -999.00,9,   -999.0,9,   -999.0,9,   -999.0,9,   -999.0,9,   -999.0,9, -999.00,  -999.0,-999.0000,-999.000, 18.9665,-999.000
   31WTTUNES_2,  P16S,   207,  1,     69,     69,2,19910821,1220,-24.0133,-150.4933, 4784,    279.0,  17.3808,  35.4781,2,  35.4728,2,    187.9,2,    188.5,2,     1.86,2,     4.59,2,     0.00,2,     0.44,2,    1.709,2,    0.895,2, -999.000,9,-999.0000,9,  -999.00,9,   -999.0,9,   -999.0,9,   -999.0,9,   -999.0,9,   -999.0,9, -999.00,  -999.0,-999.0000,-999.000, 17.3338,-999.000
   31WTTUNES_2,  P16S,   207,  1,     70,     70,2,19910821,1220,-24.0133,-150.4933, 4784,    329.3,  15.3441,  35.2829,2,  35.2708,2,    188.3,2,    191.5,2,     2.64,2,     6.94,2,     0.00,2,     0.60,2,    1.584,2,    0.841,2, -999.000,9,-999.0000,9,  -999.00,9,   -999.0,9,   -999.0,9,   -999.0,9,   -999.0,9,   -999.0,9, -999.00,  -999.0,-999.0000,-999.000, 15.2931,-999.000
   31WTTUNES_2,  P16S,   207,  1,     11,     11,2,19910821,1220,-24.0133,-150.4933, 4784,    401.5,  12.9406,  34.9897,2,  34.9616,2,    190.6,2,    190.7,2,     3.71,2,    11.92,2,     0.00,2,     0.92,2,    1.220,2,    0.640,2, -999.000,9,-999.0000,9,  -999.00,9,   -999.0,9,   -999.0,9,   -999.0,9,   -999.0,9,   -999.0,9, -999.00,  -999.0,-999.0000,-999.000, 12.8851,-999.000
   31WTTUNES_2,  P16S,   207,  1,     12,     12,2,19910821,1220,-24.0133,-150.4933, 4784,    493.1,   9.3277,  34.6085,2,  34.5930,2,    203.7,2,    203.3,2,     5.96,2,    18.28,2,     0.00,2,     1.32,2,    0.835,2,    0.470,2, -999.000,9,-999.0000,9,  -999.00,9,   -999.0,9,   -999.0,9,   -999.0,9,   -999.0,9,   -999.0,9, -999.00,  -999.0,-999.0000,-999.000,  9.2723,-999.000
   31WTTUNES_2,  P16S,   207,  1,     13,     13,2,19910821,1220,-24.0133,-150.4933, 4784,    585.4,   7.3496,  34.4160,2,  34.4157,2,    221.8,2,    222.3,2,     8.21,2,    22.00,2,     0.00,2,     1.54,2,    0.734,2,    0.386,2, -999.000,9,-999.0000,9,  -999.00,9,   -999.0,9,   -999.0,9,   -999.0,9,   -999.0,9,   -999.0,9, -999.00,  -999.0,-999.0000,-999.000,  7.2922,-999.000
   31WTTUNES_2,  P16S,   207,  1,     37,     37,2,19910821,1220,-24.0133,-150.4933, 4784,    673.2,   6.4490,  34.3517,2,  34.3515,2,    226.3,2,    228.4,2,    10.66,2,    23.85,2,     0.00,2,     1.65,2,    0.513,2,    0.282,2, -999.000,9,-999.0000,9,  -999.00,9,   -999.0,9,   -999.0,9,   -999.0,9,   -999.0,9,   -999.0,9, -999.00,  -999.0,-999.0000,-999.000,  6.3873,-999.000
   31WTTUNES_2,  P16S,   207,  1,     15,     15,2,19910821,1220,-24.0133,-150.4933, 4784,    772.2,   5.7144,  34.3161,2,  34.3168,2,    216.0,2,    220.3,2,    15.64,2,    26.59,2,     0.00,2,     1.84,2,    0.243,2,    0.141,2, -999.000,9,-999.0000,9,  -999.00,9,   -999.0,9,   -999.0,9,   -999.0,9,   -999.0,9,   -999.0,9, -999.00,  -999.0,-999.0000,-999.000,  5.6474,-999.000
   31WTTUNES_2,  P16S,   207,  1,     16,     16,2,19910821,1220,-24.0133,-150.4933, 4784,    862.0,   5.1147,  34.3198,2,  34.3199,2,    198.8,2,    202.1,2,    24.25,2,    29.43,2,     0.00,2,     2.04,2,    0.095,2,    0.060,2, -999.000,9,-999.0000,9,  -999.00,9,   -999.0,9,   -999.0,9,   -999.0,9,   -999.0,9,   -999.0,9, -999.00,  -999.0,-999.0000,-999.000,  5.0433,-999.000
   31WTTUNES_2,  P16S,   207,  1,     17,     17,2,19910821,1220,-24.0133,-150.4933, 4784,    960.7,   4.5021,  34.3559,2,  34.4053,4,    180.8,2,    180.7,2,    38.32,2,    32.16,2,     0.00,2,     2.23,2,    0.028,2,    0.024,2, -999.000,9,-999.0000,9,  -999.00,9,   -999.0,9,   -999.0,9,   -999.0,9,   -999.0,9,   -999.0,9, -999.00,  -999.0,-999.0000,-999.000,  4.4262,-999.000
   31WTTUNES_2,  P16S,   207,  1,     18,     18,2,19910821,1220,-24.0133,-150.4933, 4784,   1061.4,   3.9344,  34.4054,2,  34.4065,2,    173.7,2,    171.0,2,    52.30,2,    33.43,2,     0.00,2,     2.32,2,    0.011,2,    0.008,2, -999.000,9,-999.0000,9,  -999.00,9,   -999.0,9,   -999.0,9,   -999.0,9,   -999.0,9,   -999.0,9, -999.00,  -999.0,-999.0000,-999.000,  3.8543,-999.000
   31WTTUNES_2,  P16S,   207,  1,     19,     19,2,19910821,1220,-24.0133,-150.4933, 4784,   1210.3,   3.4777,  34.4580,2,  34.4593,2,    162.9,2,    162.0,2,    66.57,2,    34.41,2,     0.00,2,     2.40,2, -999.000,9, -999.000,9, -999.000,9,-999.0000,9,  -999.00,9,   -999.0,9,   -999.0,9,   -999.0,9,   -999.0,9,   -999.0,9, -999.00,  -999.0,-999.0000,-999.000,  3.3892,-999.000
   31WTTUNES_2,  P16S,   207,  1,     20,     20,2,19910821,1220,-24.0133,-150.4933, 4784,   1412.4,   2.8321,  34.5346,2,  34.5339,2,    159.8,2,    157.5,2,    87.98,2,    34.90,2,     0.00,2,     2.44,2, -999.000,9, -999.000,9, -999.000,9,-999.0000,9,  -999.00,9,   -999.0,9,   -999.0,9,   -999.0,9,   -999.0,9,   -999.0,9, -999.00,  -999.0,-999.0000,-999.000,  2.7334,-999.000
   31WTTUNES_2,  P16S,   207,  1,     21,     21,2,19910821,1220,-24.0133,-150.4933, 4784,   1612.6,   2.4574,  34.5865,2,  34.5851,2,    153.1,2,    153.7,2,   103.52,2,    35.19,2,     0.00,2,     2.46,2, -999.000,9, -999.000,9, -999.000,9,-999.0000,9,  -999.00,9,   -999.0,9,   -999.0,9,   -999.0,9,   -999.0,9,   -999.0,9, -999.00,  -999.0,-999.0000,-999.000,  2.3467,-999.000
   31WTTUNES_2,  P16S,   207,  1,     22,     22,2,19910821,1220,-24.0133,-150.4933, 4784,   1810.7,   2.2475,  34.6158,2,  34.6148,2,    148.4,2,    150.6,2,   113.39,2,    35.38,2,     0.00,2,     2.49,2, -999.000,9, -999.000,9, -999.000,9,-999.0000,9,  -999.00,9,   -999.0,9,   -999.0,9,   -999.0,9,   -999.0,9,   -999.0,9, -999.00,  -999.0,-999.0000,-999.000,  2.1233,-999.000
   31WTTUNES_2,  P16S,   207,  1,     23,     23,2,19910821,1220,-24.0133,-150.4933, 4784,   2008.9,   2.1156,  34.6316,2,  34.6303,2,    151.6,2,    149.8,2,   118.86,2,    35.38,2,     0.00,2,     2.49,2, -999.000,9, -999.000,9, -999.000,9,-999.0000,9,  -999.00,9,   -999.0,9,   -999.0,9,   -999.0,9,   -999.0,9,   -999.0,9, -999.00,  -999.0,-999.0000,-999.000,  1.9766,-999.000
   31WTTUNES_2,  P16S,   207,  1,     24,     24,2,19910821,1220,-24.0133,-150.4933, 4784,   2215.1,   2.0037,  34.6430,2,  34.6421,2,    151.9,2,    150.2,2,   122.67,2,    35.38,2,     0.00,2,     2.49,2, -999.000,9, -999.000,9, -999.000,9,-999.0000,9,  -999.00,9,   -999.0,9,   -999.0,9,   -999.0,9,   -999.0,9,   -999.0,9, -999.00,  -999.0,-999.0000,-999.000,  1.8487,-999.000
   31WTTUNES_2,  P16S,   207,  1,     25,     25,2,19910821,1220,-24.0133,-150.4933, 4784,   2418.3,   1.9007,  34.6525,2,  34.6521,2,    153.5,2,    151.8,2,   126.68,2,    35.38,2,     0.00,2,     2.49,2, -999.000,9, -999.000,9, -999.000,9,-999.0000,9,  -999.00,9,   -999.0,9,   -999.0,9,   -999.0,9,   -999.0,9,   -999.0,9, -999.00,  -999.0,-999.0000,-999.000,  1.7296,-999.000
   31WTTUNES_2,  P16S,   207,  1,     26,     26,2,19910821,1220,-24.0133,-150.4933, 4784,   2625.3,   1.8288,  34.6592,2,  34.6580,2,    153.1,2,    153.0,2,   130.29,2,    35.48,2,     0.00,2,     2.49,2, -999.000,9, -999.000,9, -999.000,9,-999.0000,9,  -999.00,9,   -999.0,9,   -999.0,9,   -999.0,9,   -999.0,9,   -999.0,9, -999.00,  -999.0,-999.0000,-999.000,  1.6403,-999.000
   31WTTUNES_2,  P16S,   207,  1,     27,     27,2,19910821,1220,-24.0133,-150.4933, 4784,   2830.9,   1.7598,  34.6660,2,  34.6647,2,    154.0,2,    155.4,2,   131.37,2,    35.29,2,     0.00,2,     2.46,2, -999.000,9, -999.000,9, -999.000,9,-999.0000,9,  -999.00,9,   -999.0,9,   -999.0,9,   -999.0,9,   -999.0,9,   -999.0,9, -999.00,  -999.0,-999.0000,-999.000,  1.5535,-999.000
   31WTTUNES_2,  P16S,   207,  1,     28,     28,2,19910821,1220,-24.0133,-150.4933, 4784,   3030.8,   1.7019,  34.6700,2,  34.6698,2,    157.9,2,    159.0,2,   130.49,2,    34.99,2,     0.00,2,     2.45,2, -999.000,9, -999.000,9, -999.000,9,-999.0000,9,  -999.00,9,   -999.0,9,   -999.0,9,   -999.0,9,   -999.0,9,   -999.0,9, -999.00,  -999.0,-999.0000,-999.000,  1.4777,-999.000
   31WTTUNES_2,  P16S,   207,  1,     29,     29,2,19910821,1220,-24.0133,-150.4933, 4784,   3236.6,   1.6459,  34.6755,2,  34.6749,2,    163.2,2,    162.9,2,   130.39,2,    34.80,2,     0.00,2,     2.43,2, -999.000,9, -999.000,9, -999.000,9,-999.0000,9,  -999.00,9,   -999.0,9,   -999.0,9,   -999.0,9,   -999.0,9,   -999.0,9, -999.00,  -999.0,-999.0000,-999.000,  1.4028,-999.000
   31WTTUNES_2,  P16S,   207,  1,     30,     30,2,19910821,1220,-24.0133,-150.4933, 4784,   3442.1,   1.6029,  34.6798,2,  34.6793,2,    165.4,2,    166.3,2,   130.39,2,    34.50,2,     0.00,2,     2.41,2, -999.000,9, -999.000,9, -999.000,9,-999.0000,9,  -999.00,9,   -999.0,9,   -999.0,9,   -999.0,9,   -999.0,9,   -999.0,9, -999.00,  -999.0,-999.0000,-999.000,  1.3401,-999.000
   31WTTUNES_2,  P16S,   207,  1,     31,     31,2,19910821,1220,-24.0133,-150.4933, 4784,   3698.9,   1.5200,  34.6860,2,  34.6861,2,    170.1,2,    173.1,2,   128.43,2,    34.01,2,     0.00,2,     2.37,2, -999.000,9, -999.000,9, -999.000,9,-999.0000,9,  -999.00,9,   -999.0,9,   -999.0,9,   -999.0,9,   -999.0,9,   -999.0,9, -999.00,  -999.0,-999.0000,-999.000,  1.2327,-999.000
   31WTTUNES_2,  P16S,   207,  1,     32,     32,2,19910821,1220,-24.0133,-150.4933, 4784,   3959.6,   1.4041,  34.6933,2,  34.6936,2,    180.2,2,    182.5,2,   125.60,2,    33.23,2,     0.00,2,     2.32,2, -999.000,9, -999.000,9, -999.000,9,-999.0000,9,  -999.00,9,   -999.0,9,   -999.0,9,   -999.0,9,   -999.0,9,   -999.0,9, -999.00,  -999.0,-999.0000,-999.000,  1.0922,-999.000
   31WTTUNES_2,  P16S,   207,  1,     33,     33,2,19910821,1220,-24.0133,-150.4933, 4784,   4215.2,   1.3541,  34.6988,2,  34.6973,2,    187.4,2,    187.9,2,   123.64,2,    32.84,2,     0.00,2,     2.30,2, -999.000,9, -999.000,9, -999.000,9,-999.0000,9,  -999.00,9,   -999.0,9,   -999.0,9,   -999.0,9,   -999.0,9,   -999.0,9, -999.00,  -999.0,-999.0000,-999.000,  1.0157,-999.000
   31WTTUNES_2,  P16S,   207,  1,     34,     34,2,19910821,1220,-24.0133,-150.4933, 4784,   4476.6,   1.3401,  34.7002,2,  34.6999,2,    188.6,2,    190.5,2,   123.84,2,    32.84,2,     0.00,2,     2.30,2, -999.000,9, -999.000,9, -999.000,9,-999.0000,9,  -999.00,9,   -999.0,9,   -999.0,9,   -999.0,9,   -999.0,9,   -999.0,9, -999.00,  -999.0,-999.0000,-999.000,  0.9727,-999.000
   31WTTUNES_2,  P16S,   207,  1,     39,     39,2,19910821,1220,-24.0133,-150.4933, 4784,   4733.3,   1.3561,  34.7010,2,  34.7005,2,    190.3,2,    191.8,2,   123.54,2,    32.74,2,     0.00,2,     2.28,2, -999.000,9, -999.000,9, -999.000,9,-999.0000,9,  -999.00,9,   -999.0,9,   -999.0,9,   -999.0,9,   -999.0,9,   -999.0,9, -999.00,  -999.0,-999.0000,-999.000,  0.9584,-999.000
   31WTTUNES_2,  P16S,   207,  1,     38,     38,2,19910821,1220,-24.0133,-150.4933, 4784,   4988.0,   1.3861,  34.7009,2,  34.7007,2,    192.2,2,    191.9,2,   122.86,2,    32.74,2,     0.00,2,     2.28,2, -999.000,9, -999.000,9, -999.000,9,-999.0000,9,  -999.00,9,   -999.0,9,   -999.0,9,   -999.0,9,   -999.0,9,   -999.0,9, -999.00,  -999.0,-999.0000,-999.000,  0.9571,-999.000