BOTTLE,20131125MIRCJHATS
EXPOCODE,SECT_ID,STNNBR,CASTNO,SAMPNO,BTLNBR,BTLNBR_FLAG_W,DATE,TIME,LATITUDE,LONGITUDE,DEPTH,CTDPRS,CTDTMP,CTDSAL,CTDSAL_FLAG_W,SALNTY,SALNTY_FLAG_W,CTDOXY,CTDOXY_FLAG_W,OXYGEN,OXYGEN_FLAG_W,SILCAT,SILCAT_FLAG_W,NITRAT,NITRAT_FLAG_W,NITRIT,NITRIT_FLAG_W,PHSPHT,PHSPHT_FLAG_W,CFC-11,CFC-11_FLAG_W,CFC-12,CFC-12_FLAG_W,TRITUM,TRITUM_FLAG_W,HELIUM,HELIUM_FLAG_W,DELHE3,DELHE3_FLAG_W,DELC14,DELC14_FLAG_W,DELC13,DELC13_FLAG_W,TCARBN,TCARBN_FLAG_W,PCO2,PCO2_FLAG_W,ALKALI,ALKALI_FLAG_W,PCO2TMP,C14ERR,HELIER,DELHER,THETA,TRITER
,,,,,,,,,,,,DBAR,ITS-90,PSS-78,,PSS-78,,UMOL/KG,,UMOL/KG,,UMOL/KG,,UMOL/KG,,UMOL/KG,,UMOL/KG,,PMOL/KG,,PMOL/KG,,TU,,NMOL/KG,,PERCNT,,/MILLE,,/MILLE,,UMOL/KG,,UATM,,UMOL/KG,,DEG C,/MILLE,NMOL/KG,PERCNT,DEG C,TU
   31WTTUNES_2,  P17S,   130,  1,      1,      1,2,19910723,1629, -9.0100,-135.0050, 4481,      0.3,  27.6067,  35.6140,2,  35.6157,2,    221.3,3,    224.3,2,     1.95,2,     3.61,2,     0.07,2,     0.45,2,    1.612,8,    0.922,2,    1.063,2,   1.7180,2,    -1.23,2,   -999.0,9,   -999.0,9,   1996.8,2,    269.1,2,   -999.0,9,   20.00,  -999.0,  0.0080,   0.150, 27.6066,   0.007
   31WTTUNES_2,  P17S,   130,  1,      2,      2,2,19910723,1629, -9.0100,-135.0050, 4481,     41.6,  27.6072,  35.6544,2,  35.6573,2,    225.0,6,    223.2,2,     1.95,2,     3.52,2,     0.07,2,     0.45,2,    1.582,8,    0.925,8, -999.000,9,-999.0000,9,  -999.00,9,   -999.0,9,   -999.0,9,   -999.0,9,   -999.0,9,   -999.0,9, -999.00,  -999.0,-999.0000,-999.000, 27.5975,-999.000
   31WTTUNES_2,  P17S,   130,  1,      3,      3,2,19910723,1629, -9.0100,-135.0050, 4481,     82.3,  25.9984,  36.2641,2,  36.2635,2,    209.5,2,    213.1,2,     1.95,2,     1.46,2,     0.06,2,     0.46,2,    1.651,2,    0.979,8,    0.852,2,   1.7220,2,    -0.93,2,   -999.0,9,   -999.0,9,   -999.0,9,   -999.0,9,   -999.0,9, -999.00,  -999.0,  0.0080,   0.150, 25.9800,   0.006
   31WTTUNES_2,  P17S,   130,  1,      4,      4,2,19910723,1629, -9.0100,-135.0050, 4481,    102.3,  24.4666,  36.3108,2,  36.3029,2,    194.6,2,    200.3,2,     1.95,2,     1.07,2,     2.28,2,     0.51,2,    1.768,2,    1.005,8, -999.000,9,-999.0000,9,  -999.00,9,   -999.0,9,   -999.0,9,   -999.0,9,   -999.0,9,   -999.0,9, -999.00,  -999.0,-999.0000,-999.000, 24.4446,-999.000
   31WTTUNES_2,  P17S,   130,  1,      5,      5,2,19910723,1629, -9.0100,-135.0050, 4481,    123.2,  23.0312,  36.2494,2,  36.2459,2,    183.7,2,    190.5,2,     1.76,2,     2.34,2,     1.83,2,     0.55,2,    1.811,2,    1.034,8,    0.703,2,   1.7360,2,    -0.72,2,   -999.0,9,   -999.0,9,   -999.0,9,   -999.0,9,   -999.0,9, -999.00,  -999.0,  0.0080,   0.150, 23.0058,   0.006
   31WTTUNES_2,  P17S,   130,  1,      6,      6,2,19910723,1629, -9.0100,-135.0050, 4481,    164.5,  20.0647,  35.8112,2,  35.8131,2,    178.4,2,    182.0,2,     1.95,2,     5.96,2,     0.02,2,     0.65,2,    1.909,8,    1.075,8,    0.642,2,   1.7510,2,    -0.58,2,   -999.0,9,   -999.0,9,   -999.0,9,   -999.0,9,   -999.0,9, -999.00,  -999.0,  0.0080,   0.150, 20.0341,   0.005
   31WTTUNES_2,  P17S,   130,  1,      7,      7,2,19910723,1629, -9.0100,-135.0050, 4481,    204.4,  17.8429,  35.4564,2,  35.4401,2,    156.9,2,    151.1,2,     3.61,2,     9.77,2,     0.01,2,     0.93,2,    1.698,2,    0.945,2, -999.000,9,-999.0000,9,  -999.00,9,   -999.0,9,   -999.0,9,   -999.0,9,   -999.0,9,   -999.0,9, -999.00,  -999.0,-999.0000,-999.000, 17.8079,-999.000
   31WTTUNES_2,  P17S,   130,  1,      8,      8,2,19910723,1629, -9.0100,-135.0050, 4481,    241.0,  14.3002,  35.0108,2,  35.0016,2,     81.8,2,     85.3,2,    10.07,2,    18.57,2,     0.00,2,     1.64,2,    1.072,2,    0.580,2,    0.436,2,   1.7780,2,     1.83,2,   -999.0,9,   -999.0,9,   -999.0,9,   -999.0,9,   -999.0,9, -999.00,  -999.0,  0.0080,   0.150, 14.2649,   0.005
   31WTTUNES_2,  P17S,   130,  1,      9,      9,2,19910723,1629, -9.0100,-135.0050, 4481,    276.6,  12.1010,  34.8198,2,  34.8137,2,     26.0,2,     24.4,2,    20.13,2,    27.37,2,     0.00,2,     2.37,2,    0.337,2,    0.191,8, -999.000,9,-999.0000,9,  -999.00,9,   -999.0,9,   -999.0,9,   -999.0,9,   -999.0,9,   -999.0,9, -999.00,  -999.0,-999.0000,-999.000, 12.0646,-999.000
   31WTTUNES_2,  P17S,   130,  1,     10,     10,2,19910723,1629, -9.0100,-135.0050, 4481,    308.6,  11.2594,  34.7866,2,  34.7862,2,     21.7,2,     23.2,2,    24.53,2,    30.59,2,     0.00,2,     2.44,2,    0.136,2,    0.091,2,    0.123,2,   1.7990,2,     3.51,2,   -999.0,9,   -999.0,9,   -999.0,9,   -999.0,9,   -999.0,9, -999.00,  -999.0,  0.0080,   0.150, 11.2207,   0.003
   31WTTUNES_2,  P17S,   130,  1,     11,     11,2,19910723,1629, -9.0100,-135.0050, 4481,    359.0,  10.1664,  34.7469,2,-999.0000,9,     44.6,2,   -999.0,9,  -999.00,9,  -999.00,9,  -999.00,9,  -999.00,9, -999.000,9, -999.000,9, -999.000,9,-999.0000,9,  -999.00,9,   -999.0,9,   -999.0,9,   -999.0,9,   -999.0,9,   -999.0,9, -999.00,  -999.0,-999.0000,-999.000, 10.1241,-999.000
   31WTTUNES_2,  P17S,   130,  1,     12,     12,2,19910723,1629, -9.0100,-135.0050, 4481,    409.1,   9.3314,  34.6985,2,  34.6954,2,     62.6,2,     58.6,2,    29.62,2,    32.94,2,     0.00,2,     2.37,2,    0.064,2,    0.035,2, -999.000,9,-999.0000,9,  -999.00,9,   -999.0,9,   -999.0,9,   -999.0,9,   -999.0,9,   -999.0,9, -999.00,  -999.0,-999.0000,-999.000,  9.2856,-999.000
   31WTTUNES_2,  P17S,   130,  1,     13,     13,2,19910723,1629, -9.0100,-135.0050, 4481,    486.2,   8.5177,  34.6492,2,  34.6484,2,     66.8,2,     63.5,2,    33.43,2,    34.70,2,     0.00,2,     2.44,2,    0.024,2,    0.021,2,    0.031,2,   1.8090,2,     5.40,2,   -999.0,9,   -999.0,9,   -999.0,9,   -999.0,9,   -999.0,9, -999.00,  -999.0,  0.0080,   0.150,  8.4659,   0.002
   31WTTUNES_2,  P17S,   130,  1,     37,     37,2,19910723,1629, -9.0100,-135.0050, 4481,    563.0,   7.5269,  34.5921,2,  34.5869,2,     71.5,2,     76.0,2,    38.02,2,    35.78,2,     0.00,2,     2.51,2,    0.013,2,    0.012,2, -999.000,9,-999.0000,9,  -999.00,9,   -999.0,9,   -999.0,9,   -999.0,9,   -999.0,9,   -999.0,9, -999.00,  -999.0,-999.0000,-999.000,  7.4709,-999.000
   31WTTUNES_2,  P17S,   130,  1,     15,     15,2,19910723,1629, -9.0100,-135.0050, 4481,    664.0,   6.5025,  34.5503,2,  34.5518,2,     80.0,2,     77.1,2,    47.12,2,    37.83,2,     0.00,2,     2.67,2,    0.002,2,    0.004,2,   -0.006,2,   1.8600,2,     8.62,2,   -999.0,9,   -999.0,9,   -999.0,9,   -999.0,9,   -999.0,9, -999.00,  -999.0,  0.0090,   0.150,  6.4411,   0.001
   31WTTUNES_2,  P17S,   130,  1,     16,     16,2,19910723,1629, -9.0100,-135.0050, 4481,    766.5,   5.7377,  34.5319,2,  34.5317,2,     80.1,2,     82.2,2,    55.91,2,    38.71,2,     0.00,2,     2.74,2,    0.000,2,    0.003,2, -999.000,9,-999.0000,9,  -999.00,9,   -999.0,9,   -999.0,9,   -999.0,9,   -999.0,9,   -999.0,9, -999.00,  -999.0,-999.0000,-999.000,  5.6708,-999.000
   31WTTUNES_2,  P17S,   130,  1,     17,     17,2,19910723,1629, -9.0100,-135.0050, 4481,    867.4,   5.0725,  34.5280,2,  34.5296,2,     90.1,2,     88.7,2,    65.79,2,    39.00,2,     0.00,2,     2.76,2,    0.000,2,    0.001,8, -999.000,9,-999.0000,9,  -999.00,9,   -999.0,9,   -999.0,9,   -999.0,9,   -999.0,9,   -999.0,9, -999.00,  -999.0,-999.0000,-999.000,  5.0005,-999.000
   31WTTUNES_2,  P17S,   130,  1,     18,     18,2,19910723,1629, -9.0100,-135.0050, 4481,    969.9,   4.5935,  34.5343,2,  34.5335,2,     96.0,2,     93.8,2,    74.98,2,    39.10,2,     0.00,2,     2.78,2,   -0.002,2,    0.000,2, -999.000,9,   1.8450,2,    17.14,2,   -999.0,9,   -999.0,9,   -999.0,9,   -999.0,9,   -999.0,9, -999.00,  -999.0,-999.0000,-999.000,  4.5159,-999.000
   31WTTUNES_2,  P17S,   130,  1,     19,     19,2,19910723,1629, -9.0100,-135.0050, 4481,   1126.0,   3.8783,  34.5535,2,  34.5521,2,    105.9,2,    106.8,2,    89.25,2,    38.32,2,     0.00,2,     2.73,2, -999.000,9, -999.000,9, -999.000,9,   1.8710,2,    20.10,2,   -999.0,9,   -999.0,9,   -999.0,9,   -999.0,9,   -999.0,9, -999.00,  -999.0,-999.0000,-999.000,  3.7930,-999.000
   31WTTUNES_2,  P17S,   130,  1,     20,     20,2,19910723,1629, -9.0100,-135.0050, 4481,   1324.1,   3.3473,  34.5757,2,  34.5759,2,    111.2,2,    110.5,2,   102.25,2,    38.22,2,     0.00,2,     2.73,2, -999.000,9, -999.000,9, -999.000,9,   1.8940,2,    23.17,2,   -999.0,9,   -999.0,9,   -999.0,9,   -999.0,9,   -999.0,9, -999.00,  -999.0,-999.0000,-999.000,  3.2503,-999.000
   31WTTUNES_2,  P17S,   130,  1,     21,     21,2,19910723,1629, -9.0100,-135.0050, 4481,   1528.2,   2.9249,  34.5958,2,  34.5944,2,    116.2,2,    117.2,2,   111.82,2,    37.83,2,     0.00,2,     2.73,2, -999.000,9, -999.000,9, -999.000,9,   1.8950,2,    24.81,2,   -999.0,9,   -999.0,9,   -999.0,9,   -999.0,9,   -999.0,9, -999.00,  -999.0,-999.0000,-999.000,  2.8156,-999.000
   31WTTUNES_2,  P17S,   130,  1,     22,     22,2,19910723,1629, -9.0100,-135.0050, 4481,   1731.5,   2.5593,  34.6167,2,  34.6158,2,    121.6,2,    121.2,2,   121.11,2,    37.63,2,     0.00,2,     2.68,2, -999.000,9, -999.000,9, -999.000,9,   1.9190,2,    26.44,2,   -999.0,9,   -999.0,9,   -999.0,9,   -999.0,9,   -999.0,9, -999.00,  -999.0,-999.0000,-999.000,  2.4374,-999.000
   31WTTUNES_2,  P17S,   130,  1,     23,     23,2,19910723,1629, -9.0100,-135.0050, 4481,   1935.3,   2.3021,  34.6333,2,  34.6313,2,    125.2,2,    127.8,2,   126.19,2,    37.05,2,     0.00,2,     2.64,2, -999.000,9, -999.000,9, -999.000,9,   1.9190,2,    28.45,2,   -999.0,9,   -999.0,9,   -999.0,9,   -999.0,9,   -999.0,9, -999.00,  -999.0,-999.0000,-999.000,  2.1666,-999.000
   31WTTUNES_2,  P17S,   130,  1,     24,     24,2,19910723,1629, -9.0100,-135.0050, 4481,   2136.0,   2.0912,  34.6489,2,  34.6478,2,    132.9,2,    132.6,2,   131.17,2,    36.85,2,     0.00,2,     2.61,2, -999.000,9, -999.000,9, -999.000,9,   1.9260,2,    31.53,2,   -999.0,9,   -999.0,9,   -999.0,9,   -999.0,9,   -999.0,9, -999.00,  -999.0,-999.0000,-999.000,  1.9417,-999.000
   31WTTUNES_2,  P17S,   130,  1,     25,     25,2,19910723,1629, -9.0100,-135.0050, 4481,   2330.5,   1.9311,  34.6614,2,  34.6612,2,    136.4,2,    135.9,2,   136.06,2,    36.56,2,     0.00,2,     2.58,2, -999.000,9, -999.000,9, -999.000,9,   1.9330,2,    34.86,2,   -999.0,9,   -999.0,9,   -999.0,9,   -999.0,9,   -999.0,9, -999.00,  -999.0,-999.0000,-999.000,  1.7672,-999.000
   31WTTUNES_2,  P17S,   130,  1,     26,     26,2,19910723,1629, -9.0100,-135.0050, 4481,   2530.6,   1.8524,  34.6692,2,  34.6680,2,    139.0,2,    140.0,2,   138.40,2,    36.36,2,     0.00,2,     2.54,2, -999.000,9, -999.000,9, -999.000,9,   1.9510,2,    36.58,2,   -999.0,9,   -999.0,9,   -999.0,9,   -999.0,9,   -999.0,9, -999.00,  -999.0,-999.0000,-999.000,  1.6720,-999.000
   31WTTUNES_2,  P17S,   130,  1,     27,     27,2,19910723,1629, -9.0100,-135.0050, 4481,   2739.3,   1.7965,  34.6743,2,  34.6730,2,    142.5,2,    142.4,2,   140.65,2,    36.26,2,     0.00,2,     2.53,2, -999.000,9, -999.000,9, -999.000,9,   1.9400,2,    34.36,2,   -999.0,9,   -999.0,9,   -999.0,9,   -999.0,9,   -999.0,9, -999.00,  -999.0,-999.0000,-999.000,  1.5980,-999.000
   31WTTUNES_2,  P17S,   130,  1,     28,     28,2,19910723,1629, -9.0100,-135.0050, 4481,   2951.5,   1.7306,  34.6774,2,  34.6763,2,    151.5,2,    152.2,2,   137.23,2,    35.28,2,     0.00,2,     2.48,2,   -0.001,7,    0.000,2, -999.000,9,   1.9270,2,    30.56,2,   -999.0,9,   -999.0,9,   -999.0,9,   -999.0,9,   -999.0,9, -999.00,  -999.0,-999.0000,-999.000,  1.5134,-999.000
   31WTTUNES_2,  P17S,   130,  1,     29,     29,2,19910723,1629, -9.0100,-135.0050, 4481,   3159.0,   1.6402,  34.6823,2,  34.6808,2,    156.1,2,    155.4,2,   139.77,2,    35.28,2,     0.00,2,     2.48,2,    0.001,2,    0.000,2, -999.000,9,   1.9190,2,    25.92,2,   -999.0,9,   -999.0,9,   -999.0,9,   -999.0,9,   -999.0,9, -999.00,  -999.0,-999.0000,-999.000,  1.4048,-999.000
   31WTTUNES_2,  P17S,   130,  1,     30,     30,2,19910723,1629, -9.0100,-135.0050, 4481,   3368.6,   1.5712,  34.6861,2,  34.6857,2,    158.1,2,    160.5,2,   139.09,2,    35.19,2,     0.00,2,     2.45,2, -999.000,9, -999.000,9, -999.000,9,   1.9150,2,    23.17,2,   -999.0,9,   -999.0,9,   -999.0,9,   -999.0,9,   -999.0,9, -999.00,  -999.0,-999.0000,-999.000,  1.3166,-999.000
   31WTTUNES_2,  P17S,   130,  1,     31,     31,2,19910723,1629, -9.0100,-135.0050, 4481,   3578.8,   1.5321,  34.6880,2,  34.6899,2,    162.8,2,    163.0,2,   139.09,2,    35.09,2,     0.00,2,     2.44,2, -999.000,9, -999.000,9, -999.000,9,   1.9080,2,    21.61,2,   -999.0,9,   -999.0,9,   -999.0,9,   -999.0,9,   -999.0,9, -999.00,  -999.0,-999.0000,-999.000,  1.2570,-999.000
   31WTTUNES_2,  P17S,   130,  1,     32,     32,2,19910723,1629, -9.0100,-135.0050, 4481,   3788.3,   1.4913,  34.6906,2,  34.6893,2,    165.7,2,    164.8,2,   140.26,2,    34.99,2,     0.00,2,     2.43,2, -999.000,9, -999.000,9, -999.000,9,   1.8990,2,    19.71,2,   -999.0,9,   -999.0,9,   -999.0,9,   -999.0,9,   -999.0,9, -999.00,  -999.0,-999.0000,-999.000,  1.1953,-999.000
   31WTTUNES_2,  P17S,   130,  1,     33,     33,2,19910723,1629, -9.0100,-135.0050, 4481,   3994.0,   1.4506,  34.6924,2,  34.6908,2,    167.3,2,    166.7,2,   140.45,2,    34.89,2,     0.00,2,     2.42,2, -999.000,9, -999.000,9, -999.000,9,   1.9020,2,    18.94,2,   -999.0,9,   -999.0,9,   -999.0,9,   -999.0,9,   -999.0,9, -999.00,  -999.0,-999.0000,-999.000,  1.1337,-999.000
   31WTTUNES_2,  P17S,   130,  1,     34,     34,2,19910723,1629, -9.0100,-135.0050, 4481,   4201.4,   1.4395,  34.6939,2,  34.6936,2,    168.9,2,    169.5,2,   139.67,2,    34.70,2,     0.00,2,     2.40,2, -999.000,9, -999.000,9, -999.000,9,   1.8940,2,    17.01,2,   -999.0,9,   -999.0,9,   -999.0,9,   -999.0,9,   -999.0,9, -999.00,  -999.0,-999.0000,-999.000,  1.1002,-999.000
   31WTTUNES_2,  P17S,   130,  1,     35,     35,2,19910723,1629, -9.0100,-135.0050, 4481,   4412.2,   1.4524,  34.6956,2,  34.6956,2,    171.2,2,    170.4,2,   139.18,2,    34.70,2,     0.00,2,     2.40,2, -999.000,9, -999.000,9, -999.000,9,   1.9000,2,    16.58,2,   -999.0,9,   -999.0,9,   -999.0,9,   -999.0,9,   -999.0,9, -999.00,  -999.0,-999.0000,-999.000,  1.0889,-999.000
   31WTTUNES_2,  P17S,   130,  1,     36,     36,2,19910723,1629, -9.0100,-135.0050, 4481,   4545.3,   1.4670,  34.6948,2,  34.6952,2,    170.8,2,    170.5,2,   138.60,2,    34.70,2,     0.00,2,     2.40,2, -999.000,9, -999.000,9, -999.000,9,   1.9020,2,    16.49,2,   -999.0,9,   -999.0,9,   -999.0,9,   -999.0,9,   -999.0,9, -999.00,  -999.0,-999.0000,-999.000,  1.0878,-999.000