BOTTLE,20131125MIRCJHATS
EXPOCODE,SECT_ID,STNNBR,CASTNO,SAMPNO,BTLNBR,BTLNBR_FLAG_W,DATE,TIME,LATITUDE,LONGITUDE,DEPTH,CTDPRS,CTDTMP,CTDSAL,CTDSAL_FLAG_W,SALNTY,SALNTY_FLAG_W,CTDOXY,CTDOXY_FLAG_W,OXYGEN,OXYGEN_FLAG_W,SILCAT,SILCAT_FLAG_W,NITRAT,NITRAT_FLAG_W,NITRIT,NITRIT_FLAG_W,PHSPHT,PHSPHT_FLAG_W,CFC-11,CFC-11_FLAG_W,CFC-12,CFC-12_FLAG_W,TRITUM,TRITUM_FLAG_W,HELIUM,HELIUM_FLAG_W,DELHE3,DELHE3_FLAG_W,DELC14,DELC14_FLAG_W,DELC13,DELC13_FLAG_W,TCARBN,TCARBN_FLAG_W,PCO2,PCO2_FLAG_W,ALKALI,ALKALI_FLAG_W,PCO2TMP,C14ERR,HELIER,DELHER,THETA,TRITER
,,,,,,,,,,,,DBAR,ITS-90,PSS-78,,PSS-78,,UMOL/KG,,UMOL/KG,,UMOL/KG,,UMOL/KG,,UMOL/KG,,UMOL/KG,,PMOL/KG,,PMOL/KG,,TU,,NMOL/KG,,PERCNT,,/MILLE,,/MILLE,,UMOL/KG,,UATM,,UMOL/KG,,DEG C,/MILLE,NMOL/KG,PERCNT,DEG C,TU
   31WTTUNES_2,  P17S,   140,  1,      1,      1,2,19910726,2157,-13.9217,-134.1783, 4409,      1.6,  27.1246,  36.4014,2,  36.4039,2,   -999.0,9,    214.2,2,     2.44,2,     0.39,2,     0.00,2,     0.26,2,    1.657,2,    0.909,2, -999.000,9,-999.0000,9,  -999.00,9,   -999.0,9,   -999.0,9,   2021.6,2,    249.9,2,   -999.0,9,   20.00,  -999.0,-999.0000,-999.000, 27.1242,-999.000
   31WTTUNES_2,  P17S,   140,  1,      2,      2,2,19910726,2157,-13.9217,-134.1783, 4409,     42.3,  26.8636,  36.4662,2,  36.4719,2,    214.0,2,    214.2,2,     2.05,2,     0.39,2,     0.01,2,     0.26,2,    1.663,2,    0.909,2, -999.000,9,-999.0000,9,  -999.00,9,   -999.0,9,   -999.0,9,   -999.0,9,   -999.0,9,   -999.0,9, -999.00,  -999.0,-999.0000,-999.000, 26.8539,-999.000
   31WTTUNES_2,  P17S,   140,  1,      3,      3,2,19910726,2157,-13.9217,-134.1783, 4409,     79.3,  26.8506,  36.4835,2,  36.4873,2,    215.7,2,    213.3,2,     1.76,2,     0.20,2,     0.00,2,     0.25,2,    1.659,2,    0.906,2, -999.000,9,-999.0000,9,  -999.00,9,   -999.0,9,   -999.0,9,   -999.0,9,   -999.0,9,   -999.0,9, -999.00,  -999.0,-999.0000,-999.000, 26.8324,-999.000
   31WTTUNES_2,  P17S,   140,  1,      4,      4,2,19910726,2157,-13.9217,-134.1783, 4409,    109.3,  25.7139,  36.4335,2,  36.4376,2,    208.9,2,    206.8,2,     1.76,2,     0.29,2,     0.20,2,     0.30,2,    1.749,2,    0.958,2, -999.000,9,-999.0000,9,  -999.00,9,   -999.0,9,   -999.0,9,   -999.0,9,   -999.0,9,   -999.0,9, -999.00,  -999.0,-999.0000,-999.000, 25.6896,-999.000
   31WTTUNES_2,  P17S,   140,  1,      5,      5,2,19910726,2157,-13.9217,-134.1783, 4409,    150.6,  23.8285,  36.3249,2,  36.3279,2,    185.3,2,    186.7,2,     2.15,2,     1.37,2,     1.35,2,     0.43,2,    1.814,2,    0.976,2, -999.000,9,-999.0000,9,  -999.00,9,   -999.0,9,   -999.0,9,   -999.0,9,   -999.0,9,   -999.0,9, -999.00,  -999.0,-999.0000,-999.000, 23.7967,-999.000
   31WTTUNES_2,  P17S,   140,  1,      6,      6,2,19910726,2157,-13.9217,-134.1783, 4409,    191.5,  22.1021,  36.2038,2,  36.1902,2,    183.8,2,    187.1,2,     1.76,2,     3.51,2,     0.02,2,     0.47,2,    2.036,2,    1.083,2, -999.000,9,-999.0000,9,  -999.00,9,   -999.0,9,   -999.0,9,   -999.0,9,   -999.0,9,   -999.0,9, -999.00,  -999.0,-999.0000,-999.000, 22.0638,-999.000
   31WTTUNES_2,  P17S,   140,  1,      7,      7,2,19910726,2157,-13.9217,-134.1783, 4409,    253.3,  19.0343,  35.6397,2,  35.6437,2,    183.9,2,    178.6,2,     1.76,2,     5.27,2,     0.01,2,     0.61,2,    1.842,2,    0.972,2, -999.000,9,-999.0000,9,  -999.00,9,   -999.0,9,   -999.0,9,   -999.0,9,   -999.0,9,   -999.0,9, -999.00,  -999.0,-999.0000,-999.000, 18.9888,-999.000
   31WTTUNES_2,  P17S,   140,  1,      8,      8,2,19910726,2157,-13.9217,-134.1783, 4409,    314.1,  14.0928,  34.9265,2,  34.9227,2,    136.6,2,    135.4,2,     6.55,2,    13.88,2,     0.00,2,     1.26,2,    1.261,2,    0.667,2, -999.000,9,-999.0000,9,  -999.00,9,   -999.0,9,   -999.0,9,   -999.0,9,   -999.0,9,   -999.0,9, -999.00,  -999.0,-999.0000,-999.000, 14.0471,-999.000
   31WTTUNES_2,  P17S,   140,  1,      9,      9,2,19910726,2157,-13.9217,-134.1783, 4409,    375.0,  10.4271,  34.5927,2,  34.5909,2,     81.1,2,     80.4,2,    17.30,2,    26.00,2,     0.00,2,     2.14,2,    0.374,2,    0.204,2, -999.000,9,-999.0000,9,  -999.00,9,   -999.0,9,   -999.0,9,   -999.0,9,   -999.0,9,   -999.0,9, -999.00,  -999.0,-999.0000,-999.000, 10.3822,-999.000
   31WTTUNES_2,  P17S,   140,  1,     10,     10,2,19910726,2157,-13.9217,-134.1783, 4409,    406.1,   9.4547,  34.5561,2,  34.5644,2,     75.1,2,     72.8,2,    21.11,2,    29.62,2,     0.00,2,     2.33,2,    0.169,2,    0.099,2, -999.000,9,-999.0000,9,  -999.00,9,   -999.0,9,   -999.0,9,   -999.0,9,   -999.0,9,   -999.0,9, -999.00,  -999.0,-999.0000,-999.000,  9.4090,-999.000
   31WTTUNES_2,  P17S,   140,  1,     11,     11,2,19910726,2157,-13.9217,-134.1783, 4409,    426.6,   8.9551,  34.5535,2,  34.5516,2,     75.7,2,     76.3,2,    24.05,2,    30.79,2,     0.00,2,     2.36,2,    0.109,2,    0.072,2, -999.000,9,-999.0000,9,  -999.00,9,   -999.0,9,   -999.0,9,   -999.0,9,   -999.0,9,   -999.0,9, -999.00,  -999.0,-999.0000,-999.000,  8.9085,-999.000
   31WTTUNES_2,  P17S,   140,  1,     12,     12,2,19910726,2157,-13.9217,-134.1783, 4409,    487.4,   7.9768,  34.5576,2,  34.5508,2,    104.9,2,    109.2,2,    28.64,2,    31.18,2,     0.00,2,     2.26,2,    0.044,2,    0.032,2, -999.000,9,-999.0000,9,  -999.00,9,   -999.0,9,   -999.0,9,   -999.0,9,   -999.0,9,   -999.0,9, -999.00,  -999.0,-999.0000,-999.000,  7.9269,-999.000
   31WTTUNES_2,  P17S,   140,  1,     13,     13,2,19910726,2157,-13.9217,-134.1783, 4409,    569.1,   6.8017,  34.5174,2,  34.5161,2,    120.6,2,    123.6,2,    35.58,2,    32.55,2,     0.00,2,     2.32,2,    0.021,2,    0.013,2, -999.000,9,-999.0000,9,  -999.00,9,   -999.0,9,   -999.0,9,   -999.0,9,   -999.0,9,   -999.0,9, -999.00,  -999.0,-999.0000,-999.000,  6.7482,-999.000
   31WTTUNES_2,  P17S,   140,  1,     37,     37,2,19910726,2157,-13.9217,-134.1783, 4409,    672.6,   5.9163,  34.4944,2,  34.4970,2,    120.5,2,    121.1,2,    44.19,2,    34.41,2,     0.00,2,     2.43,2,    0.006,2,    0.006,2, -999.000,9,-999.0000,9,  -999.00,9,   -999.0,9,   -999.0,9,   -999.0,9,   -999.0,9,   -999.0,9, -999.00,  -999.0,-999.0000,-999.000,  5.8572,-999.000
   31WTTUNES_2,  P17S,   140,  1,     15,     15,2,19910726,2157,-13.9217,-134.1783, 4409,    774.7,   5.4537,  34.4929,2,  34.4947,2,    120.3,2,    120.3,2,    51.52,2,    35.39,2,     0.00,2,     2.50,2,    0.002,2,    0.002,7, -999.000,9,-999.0000,9,  -999.00,9,   -999.0,9,   -999.0,9,   -999.0,9,   -999.0,9,   -999.0,9, -999.00,  -999.0,-999.0000,-999.000,  5.3878,-999.000
   31WTTUNES_2,  P17S,   140,  1,     16,     16,2,19910726,2157,-13.9217,-134.1783, 4409,    876.7,   4.8622,  34.4990,2,  34.5022,2,    119.4,2,    120.1,2,    60.61,2,    36.17,2,     0.00,2,     2.56,2,    0.003,2,    0.002,7, -999.000,9,-999.0000,9,  -999.00,9,   -999.0,9,   -999.0,9,   -999.0,9,   -999.0,9,   -999.0,9, -999.00,  -999.0,-999.0000,-999.000,  4.7909,-999.000
   31WTTUNES_2,  P17S,   140,  1,     17,     17,2,19910726,2157,-13.9217,-134.1783, 4409,    979.2,   4.4495,  34.5100,2,  34.5116,2,    116.1,2,    117.9,2,    69.31,2,    36.85,2,     0.00,2,     2.62,2,    0.002,2,   -0.002,2, -999.000,9,-999.0000,9,  -999.00,9,   -999.0,9,   -999.0,9,   -999.0,9,   -999.0,9,   -999.0,9, -999.00,  -999.0,-999.0000,-999.000,  4.3722,-999.000
   31WTTUNES_2,  P17S,   140,  1,     18,     18,2,19910726,2157,-13.9217,-134.1783, 4409,   1081.5,   4.0818,  34.5236,2,  34.5236,2,    118.3,2,    118.2,2,    76.25,2,    37.24,2,     0.00,2,     2.64,2,    0.006,2,    0.003,7, -999.000,9,-999.0000,9,  -999.00,9,   -999.0,9,   -999.0,9,   -999.0,9,   -999.0,9,   -999.0,9, -999.00,  -999.0,-999.0000,-999.000,  3.9986,-999.000
   31WTTUNES_2,  P17S,   140,  1,     19,     19,2,19910726,2157,-13.9217,-134.1783, 4409,   1235.5,   3.6272,  34.5446,2,  34.5448,2,    119.6,2,    119.1,2,    87.19,2,    37.54,2,     0.00,2,     2.69,2, -999.000,9, -999.000,9, -999.000,9,-999.0000,9,  -999.00,9,   -999.0,9,   -999.0,9,   -999.0,9,   -999.0,9,   -999.0,9, -999.00,  -999.0,-999.0000,-999.000,  3.5350,-999.000
   31WTTUNES_2,  P17S,   140,  1,     20,     20,2,19910726,2157,-13.9217,-134.1783, 4409,   1441.4,   3.0667,  34.5733,2,  34.5737,2,    126.6,2,    125.2,2,   100.10,2,    37.34,2,     0.00,2,     2.64,2, -999.000,9, -999.000,9, -999.000,9,-999.0000,9,  -999.00,9,   -999.0,9,   -999.0,9,   -999.0,9,   -999.0,9,   -999.0,9, -999.00,  -999.0,-999.0000,-999.000,  2.9630,-999.000
   31WTTUNES_2,  P17S,   140,  1,     21,     21,2,19910726,2157,-13.9217,-134.1783, 4409,   1645.7,   2.6400,  34.5967,2,  34.5982,2,    133.5,2,    133.3,2,   108.79,2,    36.85,2,     0.00,2,     2.61,2, -999.000,9, -999.000,9, -999.000,9,-999.0000,9,  -999.00,9,   -999.0,9,   -999.0,9,   -999.0,9,   -999.0,9,   -999.0,9, -999.00,  -999.0,-999.0000,-999.000,  2.5244,-999.000
   31WTTUNES_2,  P17S,   140,  1,     22,     22,2,19910726,2157,-13.9217,-134.1783, 4409,   1851.3,   2.2824,  34.6240,2,  34.6251,2,    137.1,2,    137.8,2,   117.49,2,    36.36,2,     0.00,2,     2.58,2, -999.000,9, -999.000,9, -999.000,9,-999.0000,9,  -999.00,9,   -999.0,9,   -999.0,9,   -999.0,9,   -999.0,9,   -999.0,9, -999.00,  -999.0,-999.0000,-999.000,  2.1543,-999.000
   31WTTUNES_2,  P17S,   140,  1,     23,     23,2,19910726,2157,-13.9217,-134.1783, 4409,   2058.1,   2.0476,  34.6439,2,  34.6428,2,    144.3,2,    144.6,2,   123.06,2,    35.87,2,     0.00,2,     2.52,2, -999.000,9, -999.000,9, -999.000,9,-999.0000,9,  -999.00,9,   -999.0,9,   -999.0,9,   -999.0,9,   -999.0,9,   -999.0,9, -999.00,  -999.0,-999.0000,-999.000,  1.9054,-999.000
   31WTTUNES_2,  P17S,   140,  1,     24,     24,2,19910726,2157,-13.9217,-134.1783, 4409,   2264.4,   1.9187,  34.6577,2,  34.6578,2,    146.8,2,    147.4,2,   127.56,2,    35.68,2,     0.00,2,     2.50,2, -999.000,9, -999.000,9, -999.000,9,-999.0000,9,  -999.00,9,   -999.0,9,   -999.0,9,   -999.0,9,   -999.0,9,   -999.0,9, -999.00,  -999.0,-999.0000,-999.000,  1.7608,-999.000
   31WTTUNES_2,  P17S,   140,  1,     25,     25,2,19910726,2157,-13.9217,-134.1783, 4409,   2418.7,   1.8487,  34.6642,2,  34.6646,2,    150.9,2,    149.1,2,   130.29,2,    35.58,2,     0.00,2,     2.50,2, -999.000,9, -999.000,9, -999.000,9,-999.0000,9,  -999.00,9,   -999.0,9,   -999.0,9,   -999.0,9,   -999.0,9,   -999.0,9, -999.00,  -999.0,-999.0000,-999.000,  1.6785,-999.000
   31WTTUNES_2,  P17S,   140,  1,     26,     26,2,19910726,2157,-13.9217,-134.1783, 4409,   2574.4,   1.7908,  34.6692,2,  34.6698,2,    152.9,2,    151.5,2,   132.34,2,    35.58,2,     0.00,2,     2.49,2, -999.000,9, -999.000,9, -999.000,9,-999.0000,9,  -999.00,9,   -999.0,9,   -999.0,9,   -999.0,9,   -999.0,9,   -999.0,9, -999.00,  -999.0,-999.0000,-999.000,  1.6076,-999.000
   31WTTUNES_2,  P17S,   140,  1,     27,     27,2,19910726,2157,-13.9217,-134.1783, 4409,   2730.4,   1.7458,  34.6720,2,  34.6727,2,    153.9,2,    153.8,2,   132.93,2,    35.38,2,     0.00,2,     2.47,2, -999.000,9, -999.000,9, -999.000,9,-999.0000,9,  -999.00,9,   -999.0,9,   -999.0,9,   -999.0,9,   -999.0,9,   -999.0,9, -999.00,  -999.0,-999.0000,-999.000,  1.5492,-999.000
   31WTTUNES_2,  P17S,   140,  1,     28,     28,2,19910726,2157,-13.9217,-134.1783, 4409,   2885.7,   1.6909,  34.6755,2,  34.6751,2,    155.2,2,    156.7,2,   132.93,2,    35.09,2,     0.00,2,     2.46,2, -999.000,9, -999.000,9, -999.000,9,-999.0000,9,  -999.00,9,   -999.0,9,   -999.0,9,   -999.0,9,   -999.0,9,   -999.0,9, -999.00,  -999.0,-999.0000,-999.000,  1.4808,-999.000
   31WTTUNES_2,  P17S,   140,  1,     29,     29,2,19910726,2157,-13.9217,-134.1783, 4409,   3092.3,   1.6339,  34.6794,2,  34.6792,2,    161.4,2,    159.2,2,   135.08,2,    34.99,2,     0.00,2,     2.45,2, -999.000,9, -999.000,9, -999.000,9,-999.0000,9,  -999.00,9,   -999.0,9,   -999.0,9,   -999.0,9,   -999.0,9,   -999.0,9, -999.00,  -999.0,-999.0000,-999.000,  1.4053,-999.000
   31WTTUNES_2,  P17S,   140,  1,     30,     30,2,19910726,2157,-13.9217,-134.1783, 4409,   3298.7,   1.5960,  34.6819,2,  34.6835,2,    160.0,2,    161.0,2,   135.27,2,    34.89,2,     0.00,2,     2.45,2, -999.000,9, -999.000,9, -999.000,9,-999.0000,9,  -999.00,9,   -999.0,9,   -999.0,9,   -999.0,9,   -999.0,9,   -999.0,9, -999.00,  -999.0,-999.0000,-999.000,  1.3478,-999.000
   31WTTUNES_2,  P17S,   140,  1,     31,     31,2,19910726,2157,-13.9217,-134.1783, 4409,   3506.0,   1.5600,  34.6858,2,  34.6857,2,    165.6,2,    163.7,2,   136.15,2,    34.80,2,     0.00,2,     2.45,2, -999.000,9, -999.000,9, -999.000,9,-999.0000,9,  -999.00,9,   -999.0,9,   -999.0,9,   -999.0,9,   -999.0,9,   -999.0,9, -999.00,  -999.0,-999.0000,-999.000,  1.2917,-999.000
   31WTTUNES_2,  P17S,   140,  1,     32,     32,2,19910726,2157,-13.9217,-134.1783, 4409,   3713.3,   1.5460,  34.6873,2,  34.6859,2,    165.2,2,    165.9,2,   135.08,2,    34.80,2,     0.00,2,     2.43,2, -999.000,9, -999.000,9, -999.000,9,-999.0000,9,  -999.00,9,   -999.0,9,   -999.0,9,   -999.0,9,   -999.0,9,   -999.0,9, -999.00,  -999.0,-999.0000,-999.000,  1.2565,-999.000
   31WTTUNES_2,  P17S,   140,  1,     33,     33,2,19910726,2157,-13.9217,-134.1783, 4409,   3920.6,   1.5330,  34.6893,2,  34.6879,2,    167.1,2,    167.9,2,   134.39,2,    34.60,2,     0.00,2,     2.41,2, -999.000,9, -999.000,9, -999.000,9,-999.0000,9,  -999.00,9,   -999.0,9,   -999.0,9,   -999.0,9,   -999.0,9,   -999.0,9, -999.00,  -999.0,-999.0000,-999.000,  1.2218,-999.000
   31WTTUNES_2,  P17S,   140,  1,     34,     34,2,19910726,2157,-13.9217,-134.1783, 4409,   4180.9,   1.5260,  34.6899,2,  34.6895,2,    171.1,2,    170.9,2,   134.00,2,    34.21,2,     0.00,2,     2.40,2, -999.000,9, -999.000,9, -999.000,9,-999.0000,9,  -999.00,9,   -999.0,9,   -999.0,9,   -999.0,9,   -999.0,9,   -999.0,9, -999.00,  -999.0,-999.0000,-999.000,  1.1864,-999.000
   31WTTUNES_2,  P17S,   140,  1,     35,     35,2,19910726,2157,-13.9217,-134.1783, 4409,   4388.9,   1.5360,  34.6913,2,  34.6902,2,    172.4,2,    171.7,2,   132.73,2,    34.21,2,     0.00,2,     2.40,2, -999.000,9, -999.000,9, -999.000,9,-999.0000,9,  -999.00,9,   -999.0,9,   -999.0,9,   -999.0,9,   -999.0,9,   -999.0,9, -999.00,  -999.0,-999.0000,-999.000,  1.1727,-999.000
   31WTTUNES_2,  P17S,   140,  1,     36,     36,2,19910726,2157,-13.9217,-134.1783, 4409,   4471.7,   1.5410,  34.6902,2,  34.6918,2,    171.4,2,    173.1,2,   132.73,2,    34.21,2,     0.00,2,     2.40,2, -999.000,9, -999.000,9, -999.000,9,-999.0000,9,  -999.00,9,   -999.0,9,   -999.0,9,   -999.0,9,   -999.0,9,   -999.0,9, -999.00,  -999.0,-999.0000,-999.000,  1.1680,-999.000