BOTTLE,20131125MIRCJHATS
EXPOCODE,SECT_ID,STNNBR,CASTNO,SAMPNO,BTLNBR,BTLNBR_FLAG_W,DATE,TIME,LATITUDE,LONGITUDE,DEPTH,CTDPRS,CTDTMP,CTDSAL,CTDSAL_FLAG_W,SALNTY,SALNTY_FLAG_W,CTDOXY,CTDOXY_FLAG_W,OXYGEN,OXYGEN_FLAG_W,SILCAT,SILCAT_FLAG_W,NITRAT,NITRAT_FLAG_W,NITRIT,NITRIT_FLAG_W,PHSPHT,PHSPHT_FLAG_W,CFC-11,CFC-11_FLAG_W,CFC-12,CFC-12_FLAG_W,TRITUM,TRITUM_FLAG_W,HELIUM,HELIUM_FLAG_W,DELHE3,DELHE3_FLAG_W,DELC14,DELC14_FLAG_W,DELC13,DELC13_FLAG_W,TCARBN,TCARBN_FLAG_W,PCO2,PCO2_FLAG_W,ALKALI,ALKALI_FLAG_W,PCO2TMP,C14ERR,HELIER,DELHER,THETA,TRITER
,,,,,,,,,,,,DBAR,ITS-90,PSS-78,,PSS-78,,UMOL/KG,,UMOL/KG,,UMOL/KG,,UMOL/KG,,UMOL/KG,,UMOL/KG,,PMOL/KG,,PMOL/KG,,TU,,NMOL/KG,,PERCNT,,/MILLE,,/MILLE,,UMOL/KG,,UATM,,UMOL/KG,,DEG C,/MILLE,NMOL/KG,PERCNT,DEG C,TU
   31WTTUNES_2,  P17S,   153,  2,      1,      1,2,19910730,2220,-20.2817,-132.8267, 4422,      2.8,  25.1831,  36.4186,2,  36.4203,2,    215.2,3,    216.8,2,     1.66,2,     0.00,2,     0.00,2,     0.18,2,    1.761,2,    0.957,2, -999.000,9,-999.0000,9,  -999.00,9,     80.7,3,      1.6,2,   2031.2,2,    263.9,2,   -999.0,9,   20.00,     9.2,-999.0000,-999.000, 25.1825,-999.000
   31WTTUNES_2,  P17S,   153,  2,      2,      2,2,19910730,2220,-20.2817,-132.8267, 4422,     44.4,  25.0441,  36.3873,2,  36.3894,2,    212.9,2,    213.5,2,     1.46,2,     0.00,2,     0.00,2,     0.18,2,    1.759,2,    0.967,2, -999.000,9,-999.0000,9,  -999.00,9,   -999.0,9,   -999.0,9,   -999.0,9,   -999.0,9,   -999.0,9, -999.00,  -999.0,-999.0000,-999.000, 25.0344,-999.000
   31WTTUNES_2,  P17S,   153,  2,      3,      3,2,19910730,2220,-20.2817,-132.8267, 4422,     85.6,  25.0321,  36.3835,2,  36.3801,2,    216.3,2,    211.3,2,     1.46,2,     0.00,2,     0.00,2,     0.18,2, -999.000,9, -999.000,9, -999.000,9,-999.0000,9,  -999.00,9,   -999.0,9,   -999.0,9,   -999.0,9,   -999.0,9,   -999.0,9, -999.00,  -999.0,-999.0000,-999.000, 25.0134,-999.000
   31WTTUNES_2,  P17S,   153,  2,      4,      4,2,19910730,2220,-20.2817,-132.8267, 4422,    132.1,  24.9220,  36.3673,2,  36.3471,2,    215.8,6,    208.4,2,     1.46,2,     0.00,2,     0.00,2,     0.18,2,    1.784,2,    0.974,2, -999.000,9,-999.0000,9,  -999.00,9,    118.4,2,      1.6,2,   -999.0,9,   -999.0,9,   -999.0,9, -999.00,     9.5,-999.0000,-999.000, 24.8933,-999.000
   31WTTUNES_2,  P17S,   153,  2,      5,      5,2,19910730,2220,-20.2817,-132.8267, 4422,    157.6,  23.3273,  36.1030,2,  36.1292,2,    212.1,2,    201.4,2,     1.46,2,     0.00,2,     0.20,2,     0.22,2, -999.000,9, -999.000,9, -999.000,9,-999.0000,9,  -999.00,9,    121.1,2,      1.3,2,   -999.0,9,   -999.0,9,   -999.0,9, -999.00,     6.0,-999.0000,-999.000, 23.2946,-999.000
   31WTTUNES_2,  P17S,   153,  2,      6,      6,2,19910730,2220,-20.2817,-132.8267, 4422,    182.7,  22.4429,  36.1466,2,  36.1486,2,    194.1,2,    194.4,2,     1.27,2,     0.68,2,     0.27,2,     0.30,2,    1.603,2,    1.011,8, -999.000,9,-999.0000,9,  -999.00,9,   -999.0,9,   -999.0,9,   -999.0,9,   -999.0,9,   -999.0,9, -999.00,  -999.0,-999.0000,-999.000, 22.4060,-999.000
   31WTTUNES_2,  P17S,   153,  2,      7,      7,2,19910730,2220,-20.2817,-132.8267, 4422,    209.4,  21.5545,  36.0506,2,  36.0615,2,    187.7,2,    186.9,2,     1.46,2,     1.86,2,     0.02,2,     0.36,2, -999.000,9, -999.000,9, -999.000,9,-999.0000,9,  -999.00,9,    149.0,2,      1.2,2,   -999.0,9,   -999.0,9,   -999.0,9, -999.00,     5.7,-999.0000,-999.000, 21.5135,-999.000
   31WTTUNES_2,  P17S,   153,  2,      8,      8,2,19910730,2220,-20.2817,-132.8267, 4422,    260.7,  19.0157,  35.6381,2,  35.6253,2,    187.9,2,    186.4,2,     1.47,2,     3.42,2,     0.01,2,     0.45,2,    1.842,2,    0.979,2, -999.000,9,-999.0000,9,  -999.00,9,    127.5,2,      1.2,2,   -999.0,9,   -999.0,9,   -999.0,9, -999.00,     4.8,-999.0000,-999.000, 18.9689,-999.000
   31WTTUNES_2,  P17S,   153,  2,      9,      9,2,19910730,2220,-20.2817,-132.8267, 4422,    311.8,  16.7440,  35.2852,2,  35.2806,2,    188.8,2,    186.2,2,     1.47,2,     5.18,2,     0.00,2,     0.55,2, -999.000,9, -999.000,9, -999.000,9,-999.0000,9,  -999.00,9,    107.5,2,      1.1,2,   -999.0,9,   -999.0,9,   -999.0,9, -999.00,     4.8,-999.0000,-999.000, 16.6929,-999.000
   31WTTUNES_2,  P17S,   153,  2,     10,     10,2,19910730,2220,-20.2817,-132.8267, 4422,    373.4,  14.1736,  34.9795,2,  34.9669,2,    187.4,2,    184.7,2,     3.22,2,     8.99,2,     0.00,2,     0.77,2,    1.390,2,    0.732,2, -999.000,9,-999.0000,9,  -999.00,9,     82.6,2,      1.0,2,   -999.0,9,   -999.0,9,   -999.0,9, -999.00,     4.8,-999.0000,-999.000, 14.1188,-999.000
   31WTTUNES_2,  P17S,   153,  2,     11,     11,2,19910730,2220,-20.2817,-132.8267, 4422,    435.0,  10.9653,  34.6314,2,  34.6263,2,    171.8,2,    172.2,2,     6.26,2,    16.42,2,     0.00,2,     1.30,2, -999.000,9, -999.000,9, -999.000,9,-999.0000,9,  -999.00,9,     29.0,2,      0.1,4,   -999.0,9,   -999.0,9,   -999.0,9, -999.00,     4.7,-999.0000,-999.000, 10.9114,-999.000
   31WTTUNES_2,  P17S,   153,  2,     12,     12,2,19910730,2220,-20.2817,-132.8267, 4422,    496.1,   8.1803,  34.4248,2,  34.4189,2,    171.4,2,    169.5,2,    11.05,2,    24.44,2,     0.00,2,     1.78,2,    0.508,2,    0.276,2, -999.000,9,-999.0000,9,  -999.00,9,      0.1,2,      1.0,2,   -999.0,9,   -999.0,9,   -999.0,9, -999.00,     4.6,-999.0000,-999.000,  8.1289,-999.000
   31WTTUNES_2,  P17S,   153,  2,     13,     13,2,19910730,2220,-20.2817,-132.8267, 4422,    556.6,   6.7854,  34.3636,2,  34.3612,2,    177.2,2,    179.5,2,    14.66,2,    27.18,2,     0.00,2,     1.94,2, -999.000,9, -999.000,9, -999.000,9,-999.0000,9,  -999.00,9,    -48.0,2,      0.8,2,   -999.0,9,   -999.0,9,   -999.0,9, -999.00,     4.4,-999.0000,-999.000,  6.7333,-999.000
   31WTTUNES_2,  P17S,   153,  2,     37,     37,2,19910730,2220,-20.2817,-132.8267, 4422,    628.6,   6.0625,  34.3311,2,  34.3308,2,    191.7,2,    193.9,2,    16.23,2,    28.06,2,     0.00,2,     1.96,2,    0.191,2,    0.119,2, -999.000,9,-999.0000,9,  -999.00,9,    -70.4,2,      1.0,2,   -999.0,9,   -999.0,9,   -999.0,9, -999.00,     3.3,-999.0000,-999.000,  6.0068,-999.000
   31WTTUNES_2,  P17S,   153,  2,     15,     15,2,19910730,2220,-20.2817,-132.8267, 4422,    690.0,   5.6995,  34.3355,2,  34.3335,2,    182.0,2,    179.4,2,    21.02,2,    30.31,2,     0.00,2,     2.11,2, -999.000,9, -999.000,9, -999.000,9,-999.0000,9,  -999.00,9,    -89.7,2,      1.1,2,   -999.0,9,   -999.0,9,   -999.0,9, -999.00,     3.3,-999.0000,-999.000,  5.6401,-999.000
   31WTTUNES_2,  P17S,   153,  2,     16,     16,2,19910730,2220,-20.2817,-132.8267, 4422,    751.4,   5.3055,  34.3453,2,  34.3527,2,    173.5,2,    164.2,2,    28.25,2,    32.16,2,     0.00,2,     2.25,2,    0.033,2,    0.024,2, -999.000,9,-999.0000,9,  -999.00,9,   -999.0,9,   -999.0,9,   -999.0,9,   -999.0,9,   -999.0,9, -999.00,  -999.0,-999.0000,-999.000,  5.2427,-999.000
   31WTTUNES_2,  P17S,   153,  2,     17,     17,2,19910730,2220,-20.2817,-132.8267, 4422,    823.1,   5.1846,  34.3956,2,  34.3971,2,    140.9,2,    139.1,2,    38.42,2,    34.41,2,     0.00,2,     2.41,2, -999.000,9, -999.000,9, -999.000,9,-999.0000,9,  -999.00,9,   -124.3,2,      0.5,2,   -999.0,9,   -999.0,9,   -999.0,9, -999.00,     3.5,-999.0000,-999.000,  5.1160,-999.000
   31WTTUNES_2,  P17S,   153,  2,     18,     18,2,19910730,2220,-20.2817,-132.8267, 4422,    925.3,   4.7016,  34.4536,2,  34.4530,2,    136.7,2,    134.1,2,    53.47,2,    35.19,2,     0.00,2,     2.47,2,    0.004,2,    0.006,2, -999.000,9,-999.0000,9,  -999.00,9,   -999.0,9,   -999.0,9,   -999.0,9,   -999.0,9,   -999.0,9, -999.00,  -999.0,-999.0000,-999.000,  4.6272,-999.000
   31WTTUNES_2,  P17S,   153,  2,     19,     19,2,19910730,2220,-20.2817,-132.8267, 4422,   1028.0,   4.2767,  34.4867,2,  34.4858,2,    135.1,2,    135.0,2,    64.42,2,    35.29,2,     0.00,2,     2.49,2,    0.002,2,    0.000,2, -999.000,9,-999.0000,9,  -999.00,9,   -162.8,2,      0.4,2,   -999.0,9,   -999.0,9,   -999.0,9, -999.00,     3.0,-999.0000,-999.000,  4.1966,-999.000
   31WTTUNES_2,  P17S,   153,  2,     20,     20,2,19910730,2220,-20.2817,-132.8267, 4422,   1233.8,   3.4499,  34.5307,2,  34.5292,2,    141.4,2,    140.0,2,    82.80,2,    35.39,2,     0.00,2,     2.50,2,    0.003,2,    0.000,2, -999.000,9,-999.0000,9,  -999.00,9,   -184.6,2,      0.2,2,   -999.0,9,   -999.0,9,   -999.0,9, -999.00,     3.0,-999.0000,-999.000,  3.3595,-999.000
   31WTTUNES_2,  P17S,   153,  2,     21,     21,2,19910730,2220,-20.2817,-132.8267, 4422,   1439.6,   2.7470,  34.5736,2,  34.5706,2,    147.0,2,    146.7,2,    97.65,2,    35.19,2,     0.00,2,     2.49,2, -999.000,9, -999.000,9, -999.000,9,-999.0000,9,  -999.00,9,   -999.0,9,   -999.0,9,   -999.0,9,   -999.0,9,   -999.0,9, -999.00,  -999.0,-999.0000,-999.000,  2.6470,-999.000
   31WTTUNES_2,  P17S,   153,  2,     22,     22,2,19910730,2220,-20.2817,-132.8267, 4422,   1645.7,   2.4301,  34.5986,2,  34.6000,2,    149.7,2,    149.4,2,   105.86,2,    35.19,2,     0.00,2,     2.48,2, -999.000,9, -999.000,9, -999.000,9,-999.0000,9,  -999.00,9,   -999.0,9,   -999.0,9,   -999.0,9,   -999.0,9,   -999.0,9, -999.00,  -999.0,-999.0000,-999.000,  2.3171,-999.000
   31WTTUNES_2,  P17S,   153,  2,     23,     23,2,19910730,2220,-20.2817,-132.8267, 4422,   1851.7,   2.1562,  34.6264,2,  34.6256,2,    154.6,2,    152.5,2,   114.66,2,    34.99,2,     0.00,2,     2.46,2, -999.000,9, -999.000,9, -999.000,9,-999.0000,9,  -999.00,9,   -999.0,9,   -999.0,9,   -999.0,9,   -999.0,9,   -999.0,9, -999.00,  -999.0,-999.0000,-999.000,  2.0298,-999.000
   31WTTUNES_2,  P17S,   153,  2,     24,     24,2,19910730,2220,-20.2817,-132.8267, 4422,   2058.1,   2.0262,  34.6411,2,  34.6399,2,    153.4,2,    153.7,2,   117.98,2,    35.09,2,     0.00,2,     2.46,2, -999.000,9, -999.000,9, -999.000,9,-999.0000,9,  -999.00,9,   -999.0,9,   -999.0,9,   -999.0,9,   -999.0,9,   -999.0,9, -999.00,  -999.0,-999.0000,-999.000,  1.8844,-999.000
   31WTTUNES_2,  P17S,   153,  2,     25,     25,2,19910730,2220,-20.2817,-132.8267, 4422,   2263.5,   1.9272,  34.6528,2,  34.6521,2,    155.6,2,    155.7,2,   121.98,2,    34.89,2,     0.00,2,     2.45,2, -999.000,9, -999.000,9, -999.000,9,-999.0000,9,  -999.00,9,   -999.0,9,   -999.0,9,   -999.0,9,   -999.0,9,   -999.0,9, -999.00,  -999.0,-999.0000,-999.000,  1.7693,-999.000
   31WTTUNES_2,  P17S,   153,  2,     26,     26,2,19910730,2220,-20.2817,-132.8267, 4422,   2470.0,   1.8552,  34.6612,2,  34.6597,2,    155.9,2,    156.3,2,   125.21,2,    34.70,2,     0.00,2,     2.44,2, -999.000,9, -999.000,9, -999.000,9,-999.0000,9,  -999.00,9,   -999.0,9,   -999.0,9,   -999.0,9,   -999.0,9,   -999.0,9, -999.00,  -999.0,-999.0000,-999.000,  1.6803,-999.000
   31WTTUNES_2,  P17S,   153,  2,     27,     27,2,19910730,2220,-20.2817,-132.8267, 4422,   2676.3,   1.7852,  34.6653,2,  34.6646,2,    163.0,2,    160.6,2,   125.21,2,    34.41,2,     0.00,2,     2.41,2, -999.000,9, -999.000,9, -999.000,9,-999.0000,9,  -999.00,9,   -999.0,9,   -999.0,9,   -999.0,9,   -999.0,9,   -999.0,9, -999.00,  -999.0,-999.0000,-999.000,  1.5929,-999.000
   31WTTUNES_2,  P17S,   153,  2,     28,     28,2,19910730,2220,-20.2817,-132.8267, 4422,   2883.6,   1.7513,  34.6701,2,  34.6676,2,    160.7,2,    161.9,2,   125.40,2,    34.50,2,     0.00,2,     2.42,2, -999.000,9, -999.000,9, -999.000,9,-999.0000,9,  -999.00,9,   -999.0,9,   -999.0,9,   -999.0,9,   -999.0,9,   -999.0,9, -999.00,  -999.0,-999.0000,-999.000,  1.5401,-999.000
   31WTTUNES_2,  P17S,   153,  2,     29,     29,2,19910730,2220,-20.2817,-132.8267, 4422,   3091.2,   1.6923,  34.6745,2,  34.6730,2,    163.7,2,    164.4,2,   127.36,2,    34.31,2,     0.00,2,     2.39,2, -999.000,9, -999.000,9, -999.000,9,-999.0000,9,  -999.00,9,   -999.0,9,   -999.0,9,   -999.0,9,   -999.0,9,   -999.0,9, -999.00,  -999.0,-999.0000,-999.000,  1.4624,-999.000
   31WTTUNES_2,  P17S,   153,  2,     30,     30,2,19910730,2220,-20.2817,-132.8267, 4422,   3298.6,   1.6613,  34.6778,2,  34.6766,2,    166.0,2,    165.8,2,   127.55,2,    34.21,2,     0.00,2,     2.38,2, -999.000,9, -999.000,9, -999.000,9,-999.0000,9,  -999.00,9,   -999.0,9,   -999.0,9,   -999.0,9,   -999.0,9,   -999.0,9, -999.00,  -999.0,-999.0000,-999.000,  1.4116,-999.000
   31WTTUNES_2,  P17S,   153,  2,     31,     31,2,19910730,2220,-20.2817,-132.8267, 4422,   3506.3,   1.6493,  34.6805,2,  34.6793,2,    165.4,2,    166.9,2,   128.63,2,    34.21,2,     0.00,2,     2.39,2, -999.000,9, -999.000,9, -999.000,9,-999.0000,9,  -999.00,9,   -999.0,9,   -999.0,9,   -999.0,9,   -999.0,9,   -999.0,9, -999.00,  -999.0,-999.0000,-999.000,  1.3787,-999.000
   31WTTUNES_2,  P17S,   153,  2,     32,     32,2,19910730,2220,-20.2817,-132.8267, 4422,   3713.9,   1.6563,  34.6818,2,  34.6795,2,    166.8,2,    167.1,2,   129.22,2,    34.21,2,     0.00,2,     2.38,2, -999.000,9, -999.000,9, -999.000,9,-999.0000,9,  -999.00,9,   -999.0,9,   -999.0,9,   -999.0,9,   -999.0,9,   -999.0,9, -999.00,  -999.0,-999.0000,-999.000,  1.3639,-999.000
   31WTTUNES_2,  P17S,   153,  2,     33,     33,2,19910730,2220,-20.2817,-132.8267, 4422,   3921.3,   1.6683,  34.6818,2,  34.6807,2,    167.0,2,    167.1,2,   129.80,2,    34.21,2,     0.00,2,     2.38,2, -999.000,9, -999.000,9, -999.000,9,-999.0000,9,  -999.00,9,   -999.0,9,   -999.0,9,   -999.0,9,   -999.0,9,   -999.0,9, -999.00,  -999.0,-999.0000,-999.000,  1.3533,-999.000
   31WTTUNES_2,  P17S,   153,  2,     34,     34,2,19910730,2220,-20.2817,-132.8267, 4422,   4129.3,   1.6863,  34.6827,2,-999.0000,9,    166.0,2,   -999.0,9,  -999.00,9,  -999.00,9,  -999.00,9,  -999.00,9, -999.000,9, -999.000,9, -999.000,9,-999.0000,9,  -999.00,9,   -999.0,9,   -999.0,9,   -999.0,9,   -999.0,9,   -999.0,9, -999.00,  -999.0,-999.0000,-999.000,  1.3478,-999.000
   31WTTUNES_2,  P17S,   153,  2,     35,     35,2,19910730,2220,-20.2817,-132.8267, 4422,   4337.3,   1.7093,  34.6823,2,  34.6791,2,    167.7,2,    167.3,2,   129.41,2,    34.31,2,     0.00,2,     2.39,2, -999.000,9, -999.000,9, -999.000,9,-999.0000,9,  -999.00,9,   -999.0,9,   -999.0,9,   -999.0,9,   -999.0,9,   -999.0,9, -999.00,  -999.0,-999.0000,-999.000,  1.3466,-999.000
   31WTTUNES_2,  P17S,   153,  2,     38,     38,2,19910730,2220,-20.2817,-132.8267, 4422,   4487.4,   1.7253,  34.6835,2,  34.6812,2,    168.1,2,    167.6,2,   129.61,2,    34.31,2,     0.00,2,     2.39,2, -999.000,9, -999.000,9, -999.000,9,-999.0000,9,  -999.00,9,   -999.0,9,   -999.0,9,   -999.0,9,   -999.0,9,   -999.0,9, -999.00,  -999.0,-999.0000,-999.000,  1.3448,-999.000