BOTTLE,20131125MIRCJHATS
EXPOCODE,SECT_ID,STNNBR,CASTNO,SAMPNO,BTLNBR,BTLNBR_FLAG_W,DATE,TIME,LATITUDE,LONGITUDE,DEPTH,CTDPRS,CTDTMP,CTDSAL,CTDSAL_FLAG_W,SALNTY,SALNTY_FLAG_W,CTDOXY,CTDOXY_FLAG_W,OXYGEN,OXYGEN_FLAG_W,SILCAT,SILCAT_FLAG_W,NITRAT,NITRAT_FLAG_W,NITRIT,NITRIT_FLAG_W,PHSPHT,PHSPHT_FLAG_W,CFC-11,CFC-11_FLAG_W,CFC-12,CFC-12_FLAG_W,TRITUM,TRITUM_FLAG_W,HELIUM,HELIUM_FLAG_W,DELHE3,DELHE3_FLAG_W,DELC14,DELC14_FLAG_W,DELC13,DELC13_FLAG_W,TCARBN,TCARBN_FLAG_W,PCO2,PCO2_FLAG_W,ALKALI,ALKALI_FLAG_W,PCO2TMP,C14ERR,HELIER,DELHER,THETA,TRITER
,,,,,,,,,,,,DBAR,ITS-90,PSS-78,,PSS-78,,UMOL/KG,,UMOL/KG,,UMOL/KG,,UMOL/KG,,UMOL/KG,,UMOL/KG,,PMOL/KG,,PMOL/KG,,TU,,NMOL/KG,,PERCNT,,/MILLE,,/MILLE,,UMOL/KG,,UATM,,UMOL/KG,,DEG C,/MILLE,NMOL/KG,PERCNT,DEG C,TU
   31WTTUNES_2,  P16S,   189,  3,     61,     61,2,19910816,0332,-33.0000,-150.4967, 5402,      3.8,  15.9382,  35.2427,2,  35.2501,2,   -999.0,9,    242.7,2,     1.86,2,     0.10,2,     0.01,2,     0.15,2,    2.783,2,    1.394,2, -999.000,9,-999.0000,9,  -999.00,9,   -999.0,9,   -999.0,9,   2039.0,2,    363.4,2,   -999.0,9,   20.00,  -999.0,-999.0000,-999.000, 15.9376,-999.000
   31WTTUNES_2,  P16S,   189,  3,      2,      2,2,19910816,0332,-33.0000,-150.4967, 5402,     40.9,  15.9308,  35.2438,2,  35.2458,2,   -999.0,9,    242.9,2,     1.66,2,     0.10,2,     0.01,2,     0.15,2,    2.770,2,    1.402,2,    0.786,2,   1.7270,2,    -1.16,2,   -999.0,9,   -999.0,9,   -999.0,9,   -999.0,9,   -999.0,9, -999.00,  -999.0,  0.0080,   0.150, 15.9243,   0.006
   31WTTUNES_2,  P16S,   189,  3,      3,      3,2,19910816,0332,-33.0000,-150.4967, 5402,     81.0,  15.8555,  35.2222,2,  35.2263,2,   -999.0,9,    242.6,2,     1.47,2,     0.20,2,     0.01,2,     0.16,2,    2.762,2,    1.386,2,    0.790,2,   1.7280,2,    -1.26,2,   -999.0,9,   -999.0,9,   -999.0,9,   -999.0,9,   -999.0,9, -999.00,  -999.0,  0.0080,   0.150, 15.8428,   0.006
   31WTTUNES_2,  P16S,   189,  3,     64,     64,2,19910816,0332,-33.0000,-150.4967, 5402,    120.8,  15.0439,  35.0702,2,  35.0762,2,   -999.0,9,    247.0,2,     1.37,2,     0.20,2,     0.01,2,     0.17,2,    2.879,2,    1.440,2,    0.772,2,   1.7270,2,    -1.29,2,   -999.0,9,   -999.0,9,   -999.0,9,   -999.0,9,   -999.0,9, -999.00,  -999.0,  0.0080,   0.150, 15.0256,   0.006
   31WTTUNES_2,  P16S,   189,  3,      5,      5,2,19910816,0332,-33.0000,-150.4967, 5402,    146.7,  14.9827,  35.1166,2,  35.1182,2,   -999.0,9,    228.7,2,     1.37,2,     1.76,2,     0.06,2,     0.30,2,    2.667,2,    1.343,2,    0.708,2,   1.7330,2,    -0.78,2,   -999.0,9,   -999.0,9,   -999.0,9,   -999.0,9,   -999.0,9, -999.00,  -999.0,  0.0080,   0.150, 14.9605,   0.006
   31WTTUNES_2,  P16S,   189,  3,      6,      6,2,19910816,0332,-33.0000,-150.4967, 5402,    187.4,  13.7995,  35.0057,2,  35.0087,2,   -999.0,9,    220.5,2,     1.76,2,     4.50,2,     0.01,2,     0.48,2,    2.587,2,    1.277,2,    0.635,2,   1.7720,2,    -0.47,2,   -999.0,9,   -999.0,9,   -999.0,9,   -999.0,9,   -999.0,9, -999.00,  -999.0,  0.0080,   0.150, 13.7727,   0.006
   31WTTUNES_2,  P16S,   189,  3,      7,      7,2,19910816,0332,-33.0000,-150.4967, 5402,    228.1,  12.5694,  34.8997,2,  34.9007,2,   -999.0,9,    210.5,2,     2.35,2,     8.70,2,     0.00,2,     0.71,2,    2.285,2,    1.141,2,    0.534,2,   1.7320,2,    -0.14,2,   -999.0,9,   -999.0,9,   -999.0,9,   -999.0,9,   -999.0,9, -999.00,  -999.0,  0.0080,   0.150, 12.5387,   0.005
   31WTTUNES_2,  P16S,   189,  3,     68,     68,2,19910816,0332,-33.0000,-150.4967, 5402,    270.2,  11.0375,  34.7667,2,  34.7770,2,   -999.0,9,    207.8,2,     3.52,2,    12.61,2,     0.00,2,     0.94,2,    2.015,2,    1.017,2,    0.355,2,   1.7730,2,     0.36,2,   -999.0,9,   -999.0,9,   -999.0,9,   -999.0,9,   -999.0,9, -999.00,  -999.0,  0.0080,   0.150, 11.0041,   0.004
   31WTTUNES_2,  P16S,   189,  3,     69,     69,2,19910816,0332,-33.0000,-150.4967, 5402,    311.4,   9.9267,  34.6715,2,  34.6766,2,   -999.0,9,    208.3,2,     4.50,2,    15.83,2,     0.00,2,     1.13,2,    1.630,2,    0.820,2,    0.376,2,   1.7640,2,     0.50,2,   -999.0,9,   -999.0,9,   -999.0,9,   -999.0,9,   -999.0,9, -999.00,  -999.0,  0.0080,   0.150,  9.8907,   0.004
   31WTTUNES_2,  P16S,   189,  3,     70,     70,2,19910816,0332,-33.0000,-150.4967, 5402,    362.6,   8.6348,  34.5422,2,  34.5379,2,   -999.0,9,    222.5,2,     5.28,2,    18.18,2,     0.00,2,     1.29,2,    1.757,2,    0.873,2, -999.000,9,-999.0000,9,  -999.00,9,   -999.0,9,   -999.0,9,   -999.0,9,   -999.0,9,   -999.0,9, -999.00,  -999.0,-999.0000,-999.000,  8.5963,-999.000
   31WTTUNES_2,  P16S,   189,  3,     11,     11,2,19910816,0332,-33.0000,-150.4967, 5402,    413.8,   7.9750,  34.4750,2,  34.4922,2,   -999.0,9,    225.8,2,     6.26,2,    19.65,2,     0.00,2,     1.38,2,    1.392,2,    0.707,2,    0.277,2,   1.7730,2,     0.64,2,   -999.0,9,   -999.0,9,   -999.0,9,   -999.0,9,   -999.0,9, -999.00,  -999.0,  0.0080,   0.150,  7.9329,   0.004
   31WTTUNES_2,  P16S,   189,  3,     12,     12,2,19910816,0332,-33.0000,-150.4967, 5402,    516.2,   7.1267,  34.4117,2,  34.4174,2,   -999.0,9,    242.7,2,  -999.00,9,  -999.00,9,  -999.00,9,  -999.00,9,    1.650,2,    0.828,2,    0.288,2,   1.7780,2,     0.33,2,   -999.0,9,   -999.0,9,   -999.0,9,   -999.0,9,   -999.0,9, -999.00,  -999.0,  0.0080,   0.150,  7.0772,   0.004
   31WTTUNES_2,  P16S,   189,  3,     13,     13,2,19910816,0332,-33.0000,-150.4967, 5402,    618.8,   6.6746,  34.3764,2,  34.3780,2,   -999.0,9,    241.4,2,     9.09,2,    22.49,2,     0.00,2,     1.55,2,    1.161,2,    0.594,2, -999.000,9,-999.0000,9,  -999.00,9,   -999.0,9,   -999.0,9,   -999.0,9,   -999.0,9,   -999.0,9, -999.00,  -999.0,-999.0000,-999.000,  6.6170,-999.000
   31WTTUNES_2,  P16S,   189,  3,     37,     37,2,19910816,0332,-33.0000,-150.4967, 5402,    721.6,   6.2167,  34.3383,2,  34.3432,2,   -999.0,9,    237.5,2,    11.24,2,    24.05,2,     0.00,2,     1.65,2,    0.725,2,    0.382,2,    0.150,2,   1.7810,2,     0.84,2,   -999.0,9,   -999.0,9,   -999.0,9,   -999.0,9,   -999.0,9, -999.00,  -999.0,  0.0080,   0.150,  6.1516,   0.003
   31WTTUNES_2,  P16S,   189,  3,     15,     15,2,19910816,0332,-33.0000,-150.4967, 5402,    822.4,   5.7657,  34.3195,2,  34.3187,2,   -999.0,9,    231.0,2,    14.27,2,    25.71,2,     0.00,2,     1.78,2,    0.403,2,    0.225,2,    0.104,2,   1.7550,2,     1.11,2,   -999.0,9,   -999.0,9,   -999.0,9,   -999.0,9,   -999.0,9, -999.00,  -999.0,  0.0080,   0.150,  5.6937,   0.002
   31WTTUNES_2,  P16S,   189,  3,     16,     16,2,19910816,0332,-33.0000,-150.4967, 5402,    925.2,   5.1848,  34.3143,2,  34.3117,2,   -999.0,9,    216.3,2,    21.70,2,    28.26,2,     0.00,2,     1.96,2,    0.188,2,    0.116,2,    0.049,2,   1.7820,2,     1.70,2,   -999.0,9,   -999.0,9,   -999.0,9,   -999.0,9,   -999.0,9, -999.00,  -999.0,  0.0080,   0.150,  5.1072,   0.002
   31WTTUNES_2,  P16S,   189,  3,     17,     17,2,19910816,0332,-33.0000,-150.4967, 5402,   1027.8,   4.6119,  34.3059,2,  34.3234,2,   -999.0,9,    204.1,2,    29.92,2,    30.41,2,     0.00,2,     2.09,2,    0.100,2,    0.062,2,    0.036,2,   1.7810,2,     1.91,2,   -999.0,9,   -999.0,9,   -999.0,9,   -999.0,9,   -999.0,9, -999.00,  -999.0,  0.0080,   0.150,  4.5295,   0.002
   31WTTUNES_2,  P16S,   189,  3,     18,     18,2,19910816,0332,-33.0000,-150.4967, 5402,   1132.3,   3.9803,  34.3530,2,  34.3550,2,   -999.0,9,    192.2,2,    41.45,2,    32.26,2,     0.00,2,     2.23,2,    0.040,2,    0.029,2,    0.012,2,   1.8120,2,     4.40,2,   -999.0,9,   -999.0,9,   -999.0,9,   -999.0,9,   -999.0,9, -999.00,  -999.0,  0.0080,   0.150,  3.8940,   0.001
   31WTTUNES_2,  P16S,   189,  3,     19,     19,2,19910816,0332,-33.0000,-150.4967, 5402,   1285.9,   3.2404,  34.4285,2,  34.4312,2,   -999.0,9,    178.3,2,    58.95,2,    34.02,2,     0.00,2,     2.36,2,    0.008,2,    0.010,2,    0.008,2,   1.8270,2,     7.36,2,   -999.0,9,   -999.0,9,   -999.0,9,   -999.0,9,   -999.0,9, -999.00,  -999.0,  0.0090,   0.150,  3.1481,   0.001
   31WTTUNES_2,  P16S,   189,  3,     20,     20,2,19910816,0332,-33.0000,-150.4967, 5402,   1438.7,   2.8614,  34.4828,2,  34.5025,2,   -999.0,9,    168.0,2,    74.29,2,    34.61,2,     0.00,2,     2.40,2,    0.000,2,    0.000,2, -999.000,9,   1.8490,2,    10.77,2,   -999.0,9,   -999.0,9,   -999.0,9,   -999.0,9,   -999.0,9, -999.00,  -999.0,-999.0000,-999.000,  2.7604,-999.000
   31WTTUNES_2,  P16S,   189,  3,     21,     21,2,19910816,0332,-33.0000,-150.4967, 5402,   1646.5,   2.5278,  34.5769,2,  34.5757,2,   -999.0,9,    159.3,2,    92.76,2,    34.99,2,     0.00,2,     2.43,2,   -0.001,2,    0.000,2, -999.000,9,   1.8680,2,    16.15,2,   -999.0,9,   -999.0,9,   -999.0,9,   -999.0,9,   -999.0,9, -999.00,  -999.0,-999.0000,-999.000,  2.4135,-999.000
   31WTTUNES_2,  P16S,   189,  3,     22,     22,2,19910816,0332,-33.0000,-150.4967, 5402,   1853.1,   2.2979,  34.6010,2,  34.6135,2,   -999.0,9,    154.6,2,   106.94,2,    35.29,2,     0.00,2,     2.48,2, -999.000,9, -999.000,9, -999.000,9,   1.8890,2,    20.30,2,   -999.0,9,   -999.0,9,   -999.0,9,   -999.0,9,   -999.0,9, -999.00,  -999.0,-999.0000,-999.000,  2.1695,-999.000
   31WTTUNES_2,  P16S,   189,  3,     23,     23,2,19910816,0332,-33.0000,-150.4967, 5402,   2058.8,   2.1459,  34.6258,2,  34.6339,2,   -999.0,9,    151.9,2,   115.34,2,    35.58,2,     0.00,2,     2.49,2, -999.000,9, -999.000,9, -999.000,9,   1.9000,2,    22.43,2,   -999.0,9,   -999.0,9,   -999.0,9,   -999.0,9,   -999.0,9, -999.00,  -999.0,-999.0000,-999.000,  2.0022,-999.000
   31WTTUNES_2,  P16S,   189,  3,     24,     24,2,19910816,0332,-33.0000,-150.4967, 5402,   2318.6,   1.9859,  34.6530,2,  34.6489,2,   -999.0,9,    149.4,2,   124.72,2,    35.87,2,     0.00,2,     2.52,2, -999.000,9, -999.000,9, -999.000,9,   1.9100,2,    25.30,2,   -999.0,9,   -999.0,9,   -999.0,9,   -999.0,9,   -999.0,9, -999.00,  -999.0,-999.0000,-999.000,  1.8221,-999.000
   31WTTUNES_2,  P16S,   189,  3,     25,     25,2,19910816,0332,-33.0000,-150.4967, 5402,   2577.0,   1.8736,  34.6523,2,  34.6585,2,   -999.0,9,    149.8,2,   129.02,2,    35.87,2,     0.00,2,     2.52,2, -999.000,9, -999.000,9, -999.000,9,   1.9120,2,    25.23,2,   -999.0,9,   -999.0,9,   -999.0,9,   -999.0,9,   -999.0,9, -999.00,  -999.0,-999.0000,-999.000,  1.6887,-999.000
   31WTTUNES_2,  P16S,   189,  3,     26,     26,2,19910816,0332,-33.0000,-150.4967, 5402,   2836.6,   1.7800,  34.6501,3,  34.6669,2,   -999.0,9,    152.8,2,   131.56,2,    35.77,2,     0.00,2,     2.51,2, -999.000,9, -999.000,9, -999.000,9,   1.9030,2,    24.01,2,   -999.0,9,   -999.0,9,   -999.0,9,   -999.0,9,   -999.0,9, -999.00,  -999.0,-999.0000,-999.000,  1.5728,-999.000
   31WTTUNES_2,  P16S,   189,  3,     27,     27,2,19910816,0332,-33.0000,-150.4967, 5402,   3095.2,   1.7056,  34.6301,2,  34.6744,2,   -999.0,9,    157.6,2,   131.95,2,    35.38,2,     0.00,2,     2.48,2, -999.000,9, -999.000,9, -999.000,9,   1.9030,2,    21.44,2,   -999.0,9,   -999.0,9,   -999.0,9,   -999.0,9,   -999.0,9, -999.00,  -999.0,-999.0000,-999.000,  1.4752,-999.000
   31WTTUNES_2,  P16S,   189,  3,     28,     28,2,19910816,0332,-33.0000,-150.4967, 5402,   3354.8,   1.6092,  34.6865,2,  34.6858,2,   -999.0,9,    166.8,2,   127.85,2,    34.60,2,     0.00,2,     2.42,2, -999.000,9, -999.000,9, -999.000,9,   1.9010,2,    19.90,2,   -999.0,9,   -999.0,9,   -999.0,9,   -999.0,9,   -999.0,9, -999.00,  -999.0,-999.0000,-999.000,  1.3551,-999.000
   31WTTUNES_2,  P16S,   189,  3,     29,     29,2,19910816,0332,-33.0000,-150.4967, 5402,   3615.7,   1.5079,  34.6987,2,  34.6976,2,   -999.0,9,    178.8,2,   122.57,2,    33.53,2,     0.00,2,     2.34,2, -999.000,9, -999.000,9, -999.000,9,   1.8890,2,    16.04,2,   -999.0,9,   -999.0,9,   -999.0,9,   -999.0,9,   -999.0,9, -999.00,  -999.0,-999.0000,-999.000,  1.2296,-999.000
   31WTTUNES_2,  P16S,   189,  3,     30,     30,2,19910816,0332,-33.0000,-150.4967, 5402,   3875.4,   1.3898,  34.7043,2,  34.7049,2,   -999.0,9,    188.4,2,   120.22,2,    32.94,2,     0.00,2,     2.30,2, -999.000,9, -999.000,9, -999.000,9,   1.8750,2,    13.68,2,   -999.0,9,   -999.0,9,   -999.0,9,   -999.0,9,   -999.0,9, -999.00,  -999.0,-999.0000,-999.000,  1.0872,-999.000
   31WTTUNES_2,  P16S,   189,  3,     31,     31,2,19910816,0332,-33.0000,-150.4967, 5402,   4135.5,   1.3045,  34.6907,3,  34.7073,2,   -999.0,9,    194.0,2,   120.22,2,    32.65,2,     0.00,2,     2.27,2, -999.000,9, -999.000,9, -999.000,9,   1.8770,2,    12.28,2,   -999.0,9,   -999.0,9,   -999.0,9,   -999.0,9,   -999.0,9, -999.00,  -999.0,-999.0000,-999.000,  0.9764,-999.000
   31WTTUNES_2,  P16S,   189,  3,     32,     32,2,19910816,0332,-33.0000,-150.4967, 5402,   4447.0,   1.1938,  34.7108,2,  34.7108,2,   -999.0,9,    201.4,2,   119.34,2,    32.25,2,     0.00,2,     2.23,2, -999.000,9, -999.000,9, -999.000,9,   1.8770,2,    10.24,2,   -999.0,9,   -999.0,9,   -999.0,9,   -999.0,9,   -999.0,9, -999.00,  -999.0,-999.0000,-999.000,  0.8342,-999.000
   31WTTUNES_2,  P16S,   189,  3,     33,     33,2,19910816,0332,-33.0000,-150.4967, 5402,   4761.6,   1.1342,  34.7076,2,  34.7097,2,   -999.0,9,    203.7,2,   121.20,2,    32.25,2,     0.00,2,     2.24,2, -999.000,9, -999.000,9, -999.000,9,   1.8760,2,     9.44,2,   -999.0,9,   -999.0,9,   -999.0,9,   -999.0,9,   -999.0,9, -999.00,  -999.0,-999.0000,-999.000,  0.7404,-999.000
   31WTTUNES_2,  P16S,   189,  3,     34,     34,2,19910816,0332,-33.0000,-150.4967, 5402,   5025.3,   1.1240,  34.7049,2,  34.7091,2,   -999.0,9,    204.9,2,   122.37,2,    32.25,2,     0.00,2,     2.24,2, -999.000,9, -999.000,9, -999.000,9,   1.8760,2,     9.45,2,   -999.0,9,   -999.0,9,   -999.0,9,   -999.0,9,   -999.0,9, -999.00,  -999.0,-999.0000,-999.000,  0.6993,-999.000
   31WTTUNES_2,  P16S,   189,  3,     39,     39,2,19910816,0332,-33.0000,-150.4967, 5402,   5285.9,   1.1290,  34.7080,2,  34.7085,2,   -999.0,9,    205.9,2,   122.76,2,    32.25,2,     0.00,2,     2.25,2, -999.000,9, -999.000,9, -999.000,9,   1.8890,2,     9.15,2,   -999.0,9,   -999.0,9,   -999.0,9,   -999.0,9,   -999.0,9, -999.00,  -999.0,-999.0000,-999.000,  0.6725,-999.000
   31WTTUNES_2,  P16S,   189,  3,     38,     38,2,19910816,0332,-33.0000,-150.4967, 5402,   5494.0,   1.1492,  34.7130,3,  34.7079,2,   -999.0,9,    208.2,2,   122.47,2,    32.16,2,     0.00,2,     2.24,2, -999.000,9, -999.000,9, -999.000,9,   1.8540,2,     9.22,2,   -999.0,9,   -999.0,9,   -999.0,9,   -999.0,9,   -999.0,9, -999.00,  -999.0,-999.0000,-999.000,  0.6661,-999.000