BOTTLE,20131125MIRCJHATS
EXPOCODE,SECT_ID,STNNBR,CASTNO,SAMPNO,BTLNBR,BTLNBR_FLAG_W,DATE,TIME,LATITUDE,LONGITUDE,DEPTH,CTDPRS,CTDTMP,CTDSAL,CTDSAL_FLAG_W,SALNTY,SALNTY_FLAG_W,CTDOXY,CTDOXY_FLAG_W,OXYGEN,OXYGEN_FLAG_W,SILCAT,SILCAT_FLAG_W,NITRAT,NITRAT_FLAG_W,NITRIT,NITRIT_FLAG_W,PHSPHT,PHSPHT_FLAG_W,CFC-11,CFC-11_FLAG_W,CFC-12,CFC-12_FLAG_W,TRITUM,TRITUM_FLAG_W,HELIUM,HELIUM_FLAG_W,DELHE3,DELHE3_FLAG_W,DELC14,DELC14_FLAG_W,DELC13,DELC13_FLAG_W,TCARBN,TCARBN_FLAG_W,PCO2,PCO2_FLAG_W,ALKALI,ALKALI_FLAG_W,PCO2TMP,C14ERR,HELIER,DELHER,THETA,TRITER
,,,,,,,,,,,,DBAR,ITS-90,PSS-78,,PSS-78,,UMOL/KG,,UMOL/KG,,UMOL/KG,,UMOL/KG,,UMOL/KG,,UMOL/KG,,PMOL/KG,,PMOL/KG,,TU,,NMOL/KG,,PERCNT,,/MILLE,,/MILLE,,UMOL/KG,,UATM,,UMOL/KG,,DEG C,/MILLE,NMOL/KG,PERCNT,DEG C,TU
   31WTTUNES_2,  P17S,   155,  1,      1,      1,2,19910731,1611,-21.2617,-132.6333, 3858,      2.4,  24.8866,  36.3887,2,  36.3940,2,    192.1,3,    205.9,2,     1.17,2,     0.00,2,     0.00,2,     0.19,2,    1.750,2,    0.976,2, -999.000,9,-999.0000,9,  -999.00,9,   -999.0,9,   -999.0,9,   2031.1,2,    267.8,2,   -999.0,9,   20.00,  -999.0,-999.0000,-999.000, 24.8861,-999.000
   31WTTUNES_2,  P17S,   155,  1,      2,      2,2,19910731,1611,-21.2617,-132.6333, 3858,     55.3,  24.8954,  36.3881,2,  36.3923,2,    205.2,6,    205.5,2,     1.17,2,     0.10,2,     0.00,2,     0.19,2, -999.000,9, -999.000,9, -999.000,9,-999.0000,9,  -999.00,9,   -999.0,9,   -999.0,9,   2031.5,2,    267.2,2,   -999.0,9,   20.00,  -999.0,-999.0000,-999.000, 24.8834,-999.000
   31WTTUNES_2,  P17S,   155,  1,      3,      3,2,19910731,1611,-21.2617,-132.6333, 3858,    106.9,  24.8957,  36.3849,2,  36.3905,2,    206.7,2,    205.5,2,     1.17,2,     0.10,2,     0.00,2,     0.19,2, -999.000,9, -999.000,9, -999.000,9,-999.0000,9,  -999.00,9,   -999.0,9,   -999.0,9,   2031.9,2,    267.8,2,   -999.0,9,   20.00,  -999.0,-999.0000,-999.000, 24.8725,-999.000
   31WTTUNES_2,  P17S,   155,  1,      4,      4,2,19910731,1611,-21.2617,-132.6333, 3858,    159.2,  24.7801,  36.3540,2,  36.3198,2,    207.1,2,    205.1,2,     1.17,2,     0.00,2,     0.01,2,     0.20,2,    1.748,2,    0.980,2, -999.000,9,-999.0000,9,  -999.00,9,   -999.0,9,   -999.0,9,   2032.2,2,    273.0,2,   -999.0,9,   20.00,  -999.0,-999.0000,-999.000, 24.7456,-999.000
   31WTTUNES_2,  P17S,   155,  1,      5,      5,2,19910731,1611,-21.2617,-132.6333, 3858,    209.7,  21.4493,  35.9261,2,  35.9256,2,    193.1,2,    191.1,2,     1.07,2,     1.07,2,     0.05,2,     0.30,2, -999.000,9, -999.000,9, -999.000,9,-999.0000,9,  -999.00,9,   -999.0,9,   -999.0,9,   2056.5,2,    339.3,2,   -999.0,9,   20.00,  -999.0,-999.0000,-999.000, 21.4083,-999.000
   31WTTUNES_2,  P17S,   155,  1,      6,      6,2,19910731,1611,-21.2617,-132.6333, 3858,    261.0,  19.6016,  35.7160,2,  35.6935,2,    190.2,2,    189.3,2,     1.07,2,     2.54,2,     0.00,2,     0.37,2,    1.811,2,    0.975,2, -999.000,9,-999.0000,9,  -999.00,9,   -999.0,9,   -999.0,9,   2070.6,2,    379.0,2,   -999.0,9,   20.00,  -999.0,-999.0000,-999.000, 19.5538,-999.000
   31WTTUNES_2,  P17S,   155,  1,      7,      7,2,19910731,1611,-21.2617,-132.6333, 3858,    312.7,  17.1878,  35.3517,2,  35.3583,2,    188.7,2,    190.2,2,     1.47,2,     4.20,2,     0.00,2,     0.48,2,    1.704,2,    0.917,2, -999.000,9,-999.0000,9,  -999.00,9,   -999.0,9,   -999.0,9,   2072.4,2,    415.0,2,   -999.0,9,   20.00,  -999.0,-999.0000,-999.000, 17.1355,-999.000
   31WTTUNES_2,  P17S,   155,  1,      8,      8,2,19910731,1611,-21.2617,-132.6333, 3858,    363.5,  15.3423,  35.1130,2,  35.1152,2,    186.4,2,    188.2,2,     2.25,2,     6.94,2,     0.00,2,     0.64,2,    1.382,2,    0.809,2, -999.000,9,-999.0000,9,  -999.00,9,   -999.0,9,   -999.0,9,   -999.0,5,   -999.0,5,   -999.0,9, -999.00,  -999.0,-999.0000,-999.000, 15.2860,-999.000
   31WTTUNES_2,  P17S,   155,  1,      9,      9,2,19910731,1611,-21.2617,-132.6333, 3858,    412.6,  12.7007,  34.8213,2,  34.8214,2,    183.0,2,    184.4,2,     3.62,2,    12.02,2,     0.00,2,     0.98,2,    1.157,2,    0.635,2, -999.000,9,-999.0000,9,  -999.00,9,   -999.0,9,   -999.0,9,   2104.2,2,    569.9,2,   -999.0,9,   20.00,  -999.0,-999.0000,-999.000, 12.6444,-999.000
   31WTTUNES_2,  P17S,   155,  1,     10,     10,2,19910731,1611,-21.2617,-132.6333, 3858,    459.7,   9.8825,  34.5488,2,  34.5496,2,    178.1,2,    180.7,2,     6.74,2,    18.57,2,     0.00,2,     1.41,2,    0.825,2,    0.433,2, -999.000,9,-999.0000,9,  -999.00,9,   -999.0,9,   -999.0,9,   2135.0,2,    722.5,2,   -999.0,9,   20.00,  -999.0,-999.0000,-999.000,  9.8292,-999.000
   31WTTUNES_2,  P17S,   155,  1,     11,     11,2,19910731,1611,-21.2617,-132.6333, 3858,    505.8,   8.3271,  34.4263,2,  34.4262,2,    181.4,2,    178.7,2,     9.87,2,    23.17,2,     0.00,2,     1.69,2,    0.591,2,    0.324,2, -999.000,9,-999.0000,9,  -999.00,9,   -999.0,9,   -999.0,9,   2153.4,2,    848.9,2,   -999.0,9,   20.00,  -999.0,-999.0000,-999.000,  8.2741,-999.000
   31WTTUNES_2,  P17S,   155,  1,     12,     12,2,19910731,1611,-21.2617,-132.6333, 3858,    565.2,   6.9562,  34.3576,2,  34.3588,2,    191.0,2,    192.5,2,    12.03,2,    25.91,2,     0.00,2,     1.84,2,    0.447,2,    0.248,2, -999.000,9,-999.0000,9,  -999.00,9,   -999.0,9,   -999.0,9,   -999.0,5,   -999.0,5,   -999.0,9, -999.00,  -999.0,-999.0000,-999.000,  6.9026,-999.000
   31WTTUNES_2,  P17S,   155,  1,     13,     13,2,19910731,1611,-21.2617,-132.6333, 3858,    622.2,   6.1099,  34.3248,2,  34.3259,2,    199.1,2,    199.6,2,    14.37,2,    27.77,2,     0.00,2,     1.95,2,    0.222,2,    0.141,2, -999.000,9,-999.0000,9,  -999.00,9,   -999.0,9,   -999.0,9,   2166.6,2,    926.6,2,   -999.0,9,   20.00,  -999.0,-999.0000,-999.000,  6.0547,-999.000
   31WTTUNES_2,  P17S,   155,  1,     37,     37,2,19910731,1611,-21.2617,-132.6333, 3858,    679.6,   5.7068,  34.3158,2,  34.3188,2,    191.5,2,    197.0,2,    17.60,2,    28.94,2,     0.00,2,     2.02,2,    0.134,2,    0.088,2, -999.000,9,-999.0000,9,  -999.00,9,   -999.0,9,   -999.0,9,   2172.7,2,    940.6,2,   -999.0,9,   20.00,  -999.0,-999.0000,-999.000,  5.6483,-999.000
   31WTTUNES_2,  P17S,   155,  1,     15,     15,2,19910731,1611,-21.2617,-132.6333, 3858,    741.8,   5.3155,  34.3321,2,  34.3326,2,    175.5,2,    176.1,2,    25.42,2,    31.58,2,     0.00,2,     2.20,2,    0.046,2,    0.030,2, -999.000,9,-999.0000,9,  -999.00,9,   -999.0,9,   -999.0,9,   2191.4,2,   1048.7,2,   -999.0,9,   20.00,  -999.0,-999.0000,-999.000,  5.2535,-999.000
   31WTTUNES_2,  P17S,   155,  1,     16,     16,2,19910731,1611,-21.2617,-132.6333, 3858,    805.6,   5.0149,  34.3625,2,  34.3644,2,    154.5,2,    158.3,2,    33.92,2,    33.53,2,     0.00,2,     2.36,2,    0.015,2,    0.009,2, -999.000,9,-999.0000,9,  -999.00,9,   -999.0,9,   -999.0,9,   2211.6,2,   1143.3,2,   -999.0,9,   20.00,  -999.0,-999.0000,-999.000,  4.9490,-999.000
   31WTTUNES_2,  P17S,   155,  1,     17,     17,2,19910731,1611,-21.2617,-132.6333, 3858,    901.9,   4.5962,  34.4227,2,  34.4240,2,    138.5,2,    140.5,2,    49.76,2,    35.39,2,     0.00,2,     2.50,2,    0.004,2,    0.002,7, -999.000,9,-999.0000,9,  -999.00,9,   -999.0,9,   -999.0,9,   2235.2,2,   1224.8,2,   -999.0,9,   20.00,  -999.0,-999.0000,-999.000,  4.5246,-999.000
   31WTTUNES_2,  P17S,   155,  1,     18,     18,2,19910731,1611,-21.2617,-132.6333, 3858,   1002.7,   4.2293,  34.4774,2,  34.4782,2,    133.9,2,    133.7,2,    63.93,2,    35.97,2,     0.00,2,     2.54,2,    0.002,2,    0.000,2, -999.000,9,   1.8380,2,    13.68,2,   -999.0,9,   -999.0,9,   2252.3,2,   1259.7,2,   -999.0,9,   20.00,  -999.0,-999.0000,-999.000,  4.1517,-999.000
   31WTTUNES_2,  P17S,   155,  1,     19,     19,2,19910731,1611,-21.2617,-132.6333, 3858,   1104.3,   3.8571,  34.5055,2,  34.5063,2,    136.8,2,    136.1,2,    73.41,2,    35.88,2,     0.00,2,     2.53,2, -999.000,9, -999.000,9, -999.000,9,   1.8630,2,    16.18,2,   -999.0,9,   -999.0,9,   2263.8,2,   1240.0,2,   -999.0,9,   20.00,  -999.0,-999.0000,-999.000,  3.7739,-999.000
   31WTTUNES_2,  P17S,   155,  1,     20,     20,2,19910731,1611,-21.2617,-132.6333, 3858,   1209.6,   3.5065,  34.5243,2,  34.5248,2,    140.7,2,    139.5,2,    80.65,2,    35.68,2,     0.00,2,     2.53,2, -999.000,9, -999.000,9, -999.000,9,   1.8730,2,    17.99,2,   -999.0,9,   -999.0,9,   2268.8,2,   1241.2,2,   -999.0,9,   20.00,  -999.0,-999.0000,-999.000,  3.4176,-999.000
   31WTTUNES_2,  P17S,   155,  1,     21,     21,2,19910731,1611,-21.2617,-132.6333, 3858,   1303.1,   3.2461,  34.5391,2,  34.5389,2,    143.1,2,    141.8,2,    86.51,2,    35.88,2,     0.00,2,     2.53,2, -999.000,9, -999.000,9, -999.000,9,   1.8620,2,    19.71,2,   -999.0,9,   -999.0,9,   -999.0,5,   -999.0,5,   -999.0,9, -999.00,  -999.0,-999.0000,-999.000,  3.1520,-999.000
   31WTTUNES_2,  P17S,   155,  1,     22,     22,2,19910731,1611,-21.2617,-132.6333, 3858,   1459.8,   2.8266,  34.5659,2,  34.5660,2,    146.1,2,    146.2,2,    96.38,2,    35.68,2,     0.00,2,     2.53,2, -999.000,9, -999.000,9, -999.000,9,   1.8780,2,    21.54,2,   -999.0,9,   -999.0,9,   2280.3,2,   1219.8,2,   -999.0,9,   20.00,  -999.0,-999.0000,-999.000,  2.7241,-999.000
   31WTTUNES_2,  P17S,   155,  1,     23,     23,2,19910731,1611,-21.2617,-132.6333, 3858,   1621.3,   2.5044,  34.5876,2,  34.5880,2,    150.8,2,    150.4,2,   102.93,2,    35.48,2,     0.00,2,     2.50,2, -999.000,9, -999.000,9, -999.000,9,-999.0000,5,    23.93,2,   -999.0,9,   -999.0,9,   -999.0,5,   -999.0,5,   -999.0,9, -999.00,  -999.0,-999.0000,-999.000,  2.3924,-999.000
   31WTTUNES_2,  P17S,   155,  1,     24,     24,2,19910731,1611,-21.2617,-132.6333, 3858,   1776.5,   2.3119,  34.6072,2,  34.6077,2,    150.9,2,    152.0,2,   108.50,2,    35.38,2,     0.00,2,     2.49,2, -999.000,9, -999.000,9, -999.000,9,   1.8890,2,    25.00,2,   -999.0,9,   -999.0,9,   2293.2,2,   1198.1,2,   -999.0,9,   20.00,  -999.0,-999.0000,-999.000,  2.1897,-999.000
   31WTTUNES_2,  P17S,   155,  1,     25,     25,2,19910731,1611,-21.2617,-132.6333, 3858,   1933.8,   2.1494,  34.6249,2,  34.6259,2,    151.4,2,    153.3,2,   114.27,2,    35.38,2,     0.00,2,     2.49,2, -999.000,9, -999.000,9, -999.000,9,   1.8940,2,    25.68,2,   -999.0,9,   -999.0,9,   -999.0,5,   -999.0,5,   -999.0,9, -999.00,  -999.0,-999.0000,-999.000,  2.0163,-999.000
   31WTTUNES_2,  P17S,   155,  1,     26,     26,2,19910731,1611,-21.2617,-132.6333, 3858,   2093.8,   2.0495,  34.6358,2,  34.6366,2,    154.4,2,    154.4,2,   117.88,2,    35.19,2,     0.00,2,     2.49,2, -999.000,9, -999.000,9, -999.000,9,-999.0000,5,    26.14,3,   -999.0,9,   -999.0,9,   2298.7,2,   1196.0,2,   -999.0,9,   20.00,  -999.0,-999.0000,-999.000,  1.9043,-999.000
   31WTTUNES_2,  P17S,   155,  1,     27,     27,2,19910731,1611,-21.2617,-132.6333, 3858,   2241.2,   1.9783,  34.6452,2,  34.6450,2,    154.0,2,    154.8,2,   120.13,2,    35.19,2,     0.00,2,     2.48,2, -999.000,9, -999.000,9, -999.000,9,   1.9070,2,    28.58,2,   -999.0,9,   -999.0,9,   -999.0,5,   -999.0,5,   -999.0,9, -999.00,  -999.0,-999.0000,-999.000,  1.8215,-999.000
   31WTTUNES_2,  P17S,   155,  1,     28,     28,2,19910731,1611,-21.2617,-132.6333, 3858,   2387.4,   1.9199,  34.6528,2,  34.6540,2,    154.7,2,    155.6,2,   121.89,2,    35.09,2,     0.00,2,     2.48,2, -999.000,9, -999.000,9, -999.000,9,   1.9280,2,    30.78,2,   -999.0,9,   -999.0,9,   2302.8,2,   1183.5,2,   -999.0,9,   20.00,  -999.0,-999.0000,-999.000,  1.7512,-999.000
   31WTTUNES_2,  P17S,   155,  1,     29,     29,2,19910731,1611,-21.2617,-132.6333, 3858,   2541.4,   1.8532,  34.6599,2,  34.6607,2,    156.4,2,    157.2,2,   124.33,2,    35.19,2,     0.00,2,     2.47,2, -999.000,9, -999.000,9, -999.000,9,   1.9110,2,    30.52,2,   -999.0,9,   -999.0,9,   -999.0,5,   -999.0,5,   -999.0,9, -999.00,  -999.0,-999.0000,-999.000,  1.6719,-999.000
   31WTTUNES_2,  P17S,   155,  1,     30,     30,2,19910731,1611,-21.2617,-132.6333, 3858,   2749.3,   1.7941,  34.6663,2,  34.6672,2,    157.2,2,    159.0,2,   126.28,2,    34.99,2,     0.00,2,     2.46,2, -999.000,9, -999.000,9, -999.000,9,   1.9190,2,    29.26,2,   -999.0,9,   -999.0,9,   2305.0,2,   -999.0,5,   -999.0,9, -999.00,  -999.0,-999.0000,-999.000,  1.5948,-999.000
   31WTTUNES_2,  P17S,   155,  1,     31,     31,2,19910731,1611,-21.2617,-132.6333, 3858,   2950.2,   1.7448,  34.6706,2,  34.6725,2,    160.2,2,    160.9,2,   126.67,2,    34.89,2,     0.00,2,     2.44,2, -999.000,9, -999.000,9, -999.000,9,   1.9090,2,    27.38,2,   -999.0,9,   -999.0,9,   -999.0,5,   -999.0,5,   -999.0,9, -999.00,  -999.0,-999.0000,-999.000,  1.5274,-999.000
   31WTTUNES_2,  P17S,   155,  1,     32,     32,2,19910731,1611,-21.2617,-132.6333, 3858,   3151.1,   1.6931,  34.6748,2,  34.6741,2,    162.0,2,    163.8,2,   127.46,2,    34.70,2,     0.00,2,     2.43,2, -999.000,9, -999.000,9, -999.000,9,   1.8990,2,    25.28,2,   -999.0,9,   -999.0,9,   2303.6,2,   1160.8,2,   -999.0,9,   20.00,  -999.0,-999.0000,-999.000,  1.4573,-999.000
   31WTTUNES_2,  P17S,   155,  1,     33,     33,2,19910731,1611,-21.2617,-132.6333, 3858,   3348.2,   1.6613,  34.6779,2,  34.6777,2,    165.8,2,    165.3,2,   128.43,2,    34.70,2,     0.00,2,     2.43,2, -999.000,9, -999.000,9, -999.000,9,   1.9210,2,    23.85,2,   -999.0,9,   -999.0,9,   -999.0,5,   -999.0,5,   -999.0,9, -999.00,  -999.0,-999.0000,-999.000,  1.4066,-999.000
   31WTTUNES_2,  P17S,   155,  1,     34,     34,2,19910731,1611,-21.2617,-132.6333, 3858,   3551.0,   1.6322,  34.6806,2,  34.6822,2,    165.4,2,    165.8,2,   130.29,2,    34.70,2,     0.00,2,     2.43,2, -999.000,9, -999.000,9, -999.000,9,   1.9000,2,    23.46,2,   -999.0,9,   -999.0,9,   2305.8,2,   1126.5,2,   -999.0,9,   20.00,  -999.0,-999.0000,-999.000,  1.3575,-999.000
   31WTTUNES_2,  P17S,   155,  1,     35,     35,2,19910731,1611,-21.2617,-132.6333, 3858,   3767.5,   1.6213,  34.6829,2,  34.6834,2,    166.8,2,    166.5,2,   131.07,2,    34.60,2,     0.00,2,     2.43,2, -999.000,9, -999.000,9, -999.000,9,   1.9030,2,    22.77,2,   -999.0,9,   -999.0,9,   -999.0,5,   -999.0,5,   -999.0,9, -999.00,  -999.0,-999.0000,-999.000,  1.3241,-999.000
   31WTTUNES_2,  P17S,   155,  1,     38,     38,2,19910731,1611,-21.2617,-132.6333, 3858,   3946.9,   1.6308,  34.6832,2,  34.6832,2,    167.4,2,    166.9,2,   131.46,2,    34.70,2,     0.00,2,     2.43,2, -999.000,9, -999.000,9, -999.000,9,   1.8960,2,    22.47,2,   -999.0,9,   -999.0,9,   2308.6,2,   1124.6,2,   -999.0,9,   20.00,  -999.0,-999.0000,-999.000,  1.3140,-999.000