BOTTLE,20131125MIRCJHATS
EXPOCODE,SECT_ID,STNNBR,CASTNO,SAMPNO,BTLNBR,BTLNBR_FLAG_W,DATE,TIME,LATITUDE,LONGITUDE,DEPTH,CTDPRS,CTDTMP,CTDSAL,CTDSAL_FLAG_W,SALNTY,SALNTY_FLAG_W,CTDOXY,CTDOXY_FLAG_W,OXYGEN,OXYGEN_FLAG_W,SILCAT,SILCAT_FLAG_W,NITRAT,NITRAT_FLAG_W,NITRIT,NITRIT_FLAG_W,PHSPHT,PHSPHT_FLAG_W,CFC-11,CFC-11_FLAG_W,CFC-12,CFC-12_FLAG_W,TRITUM,TRITUM_FLAG_W,HELIUM,HELIUM_FLAG_W,DELHE3,DELHE3_FLAG_W,DELC14,DELC14_FLAG_W,DELC13,DELC13_FLAG_W,TCARBN,TCARBN_FLAG_W,PCO2,PCO2_FLAG_W,ALKALI,ALKALI_FLAG_W,PCO2TMP,C14ERR,HELIER,DELHER,THETA,TRITER
,,,,,,,,,,,,DBAR,ITS-90,PSS-78,,PSS-78,,UMOL/KG,,UMOL/KG,,UMOL/KG,,UMOL/KG,,UMOL/KG,,UMOL/KG,,PMOL/KG,,PMOL/KG,,TU,,NMOL/KG,,PERCNT,,/MILLE,,/MILLE,,UMOL/KG,,UATM,,UMOL/KG,,DEG C,/MILLE,NMOL/KG,PERCNT,DEG C,TU
   31WTTUNES_2,  P16S,   212,  1,     61,     61,2,19910823,0650,-21.5117,-150.5050, 4252,      2.1,  24.5792,  35.9600,2,  35.9649,2,    206.4,3,    208.3,2,     1.56,2,     0.10,2,     0.00,2,     0.15,2,    1.814,2,    0.989,2, -999.000,9,-999.0000,9,  -999.00,9,   -999.0,9,   -999.0,9,   1996.3,2,    255.0,2,   -999.0,9,   20.00,  -999.0,-999.0000,-999.000, 24.5788,-999.000
   31WTTUNES_2,  P16S,   212,  1,     62,     62,2,19910823,0650,-21.5117,-150.5050, 4252,     31.5,  24.5322,  35.9520,2,  35.9546,2,    210.8,6,    208.7,2,     1.37,2,     0.10,2,     0.00,2,     0.15,2,    1.796,2,    1.002,2, -999.000,9,-999.0000,9,  -999.00,9,   -999.0,9,   -999.0,9,   -999.0,9,   -999.0,9,   -999.0,9, -999.00,  -999.0,-999.0000,-999.000, 24.5254,-999.000
   31WTTUNES_2,  P16S,   212,  1,      3,      3,2,19910823,0650,-21.5117,-150.5050, 4252,     62.0,  24.0391,  35.8831,2,  35.8732,2,    211.8,2,    206.0,2,     1.17,2,     0.10,2,     0.00,2,     0.14,2,    1.819,2,    0.999,2, -999.000,9,-999.0000,9,  -999.00,9,   -999.0,9,   -999.0,9,   -999.0,9,   -999.0,9,   -999.0,9, -999.00,  -999.0,-999.0000,-999.000, 24.0260,-999.000
   31WTTUNES_2,  P16S,   212,  1,     64,     64,2,19910823,0650,-21.5117,-150.5050, 4252,     97.1,  23.2290,  35.8020,2,  35.8041,2,    213.9,2,    212.5,2,     1.17,2,     0.10,2,     0.00,2,     0.11,2,    1.878,2,    1.031,2, -999.000,9,-999.0000,9,  -999.00,9,   -999.0,9,   -999.0,9,   -999.0,9,   -999.0,9,   -999.0,9, -999.00,  -999.0,-999.0000,-999.000, 23.2090,-999.000
   31WTTUNES_2,  P16S,   212,  1,      5,      5,2,19910823,0650,-21.5117,-150.5050, 4252,    132.9,  22.6109,  35.7248,2,  35.7140,2,    210.7,2,    208.9,2,     0.98,2,     0.10,2,     0.00,2,     0.12,2,    1.904,2,    1.038,2, -999.000,9,-999.0000,9,  -999.00,9,   -999.0,9,   -999.0,9,   -999.0,9,   -999.0,9,   -999.0,9, -999.00,  -999.0,-999.0000,-999.000, 22.5840,-999.000
   31WTTUNES_2,  P16S,   212,  1,      6,      6,2,19910823,0650,-21.5117,-150.5050, 4252,    153.1,  21.6228,  35.6613,2,  35.6572,2,    203.5,2,    198.3,2,     0.98,2,     0.39,2,     0.02,2,     0.17,2,    1.868,2,    1.030,2, -999.000,9,-999.0000,9,  -999.00,9,   -999.0,9,   -999.0,9,   -999.0,9,   -999.0,9,   -999.0,9, -999.00,  -999.0,-999.0000,-999.000, 21.5928,-999.000
   31WTTUNES_2,  P16S,   212,  1,      7,      7,2,19910823,0650,-21.5117,-150.5050, 4252,    184.0,  20.1977,  35.5833,2,  35.5719,2,    204.7,2,    205.9,2,     0.98,2,     0.68,2,     0.09,2,     0.17,2,    2.050,8,    1.091,2, -999.000,9,-999.0000,9,  -999.00,9,   -999.0,9,   -999.0,9,   -999.0,9,   -999.0,9,   -999.0,9, -999.00,  -999.0,-999.0000,-999.000, 20.1634,-999.000
   31WTTUNES_2,  P16S,   212,  1,     68,     68,2,19910823,0650,-21.5117,-150.5050, 4252,    214.2,  19.4647,  35.5450,2,  35.5441,2,    207.0,2,    205.4,2,     0.98,2,     0.88,2,     0.11,2,     0.19,2,    2.075,2,    1.111,2, -999.000,9,-999.0000,9,  -999.00,9,   -999.0,9,   -999.0,9,   -999.0,9,   -999.0,9,   -999.0,9, -999.00,  -999.0,-999.0000,-999.000, 19.4257,-999.000
   31WTTUNES_2,  P16S,   212,  1,     69,     69,2,19910823,0650,-21.5117,-150.5050, 4252,    255.2,  18.0488,  35.5026,2,  35.4960,2,    185.8,2,    188.0,2,     1.37,2,     3.71,2,     0.01,2,     0.41,2,    1.707,2,    0.920,2, -999.000,9,-999.0000,9,  -999.00,9,   -999.0,9,   -999.0,9,   -999.0,9,   -999.0,9,   -999.0,9, -999.00,  -999.0,-999.0000,-999.000, 18.0046,-999.000
   31WTTUNES_2,  P16S,   212,  1,     70,     70,2,19910823,0650,-21.5117,-150.5050, 4252,    306.2,  16.2269,  35.3372,2,  35.3326,2,    193.4,2,    192.5,2,     1.76,2,     5.28,2,     0.01,2,     0.50,2,    1.678,2,    0.896,2, -999.000,9,-999.0000,9,  -999.00,9,   -999.0,9,   -999.0,9,   -999.0,9,   -999.0,9,   -999.0,9, -999.00,  -999.0,-999.0000,-999.000, 16.1777,-999.000
   31WTTUNES_2,  P16S,   212,  1,     11,     11,2,19910823,0650,-21.5117,-150.5050, 4252,    357.3,  14.1023,  35.1182,2,  35.0989,2,    191.1,2,    192.1,2,     2.54,2,     8.99,2,     0.01,2,     0.74,2,    1.445,2,    0.768,2, -999.000,9,-999.0000,9,  -999.00,9,   -999.0,9,   -999.0,9,   -999.0,9,   -999.0,9,   -999.0,9, -999.00,  -999.0,-999.0000,-999.000, 14.0501,-999.000
   31WTTUNES_2,  P16S,   212,  1,     12,     12,2,19910823,0650,-21.5117,-150.5050, 4252,    408.5,  12.1498,  34.8996,2,  34.8817,2,    192.6,2,    193.0,2,     4.01,2,    12.80,2,     0.01,2,     0.98,2,    1.189,2,    0.636,2, -999.000,9,-999.0000,9,  -999.00,9,   -999.0,9,   -999.0,9,   -999.0,9,   -999.0,9,   -999.0,9, -999.00,  -999.0,-999.0000,-999.000, 12.0956,-999.000
   31WTTUNES_2,  P16S,   212,  1,     13,     13,2,19910823,0650,-21.5117,-150.5050, 4252,    485.1,   9.1728,  34.5735,2,  34.5578,2,    196.0,2,    199.7,2,     6.65,2,    19.16,2,     0.01,2,     1.38,2,    0.768,2,    0.415,2, -999.000,9,-999.0000,9,  -999.00,9,   -999.0,9,   -999.0,9,   -999.0,9,   -999.0,9,   -999.0,9, -999.00,  -999.0,-999.0000,-999.000,  9.1189,-999.000
   31WTTUNES_2,  P16S,   212,  1,     37,     37,2,19910823,0650,-21.5117,-150.5050, 4252,    562.5,   7.3696,  34.4118,2,  34.4056,2,    214.8,2,    215.7,2,     8.70,2,    22.49,2,     0.01,2,     1.58,2,    0.612,2,    0.342,2, -999.000,9,-999.0000,9,  -999.00,9,   -999.0,9,   -999.0,9,   -999.0,9,   -999.0,9,   -999.0,9, -999.00,  -999.0,-999.0000,-999.000,  7.3144,-999.000
   31WTTUNES_2,  P16S,   212,  1,     15,     15,2,19910823,0650,-21.5117,-150.5050, 4252,    633.6,   6.2951,  34.3434,2,  34.3413,2,    220.7,2,    220.6,2,    11.93,2,    24.93,2,     0.01,2,     1.74,2,    0.375,2,    0.217,2, -999.000,9,-999.0000,9,  -999.00,9,   -999.0,9,   -999.0,9,   -999.0,9,   -999.0,9,   -999.0,9, -999.00,  -999.0,-999.0000,-999.000,  6.2379,-999.000
   31WTTUNES_2,  P16S,   212,  1,     16,     16,2,19910823,0650,-21.5117,-150.5050, 4252,    689.7,   5.8433,  34.3233,2,  34.3252,2,    213.9,2,    215.2,2,    15.64,2,    26.50,2,     0.01,2,     1.84,2,    0.235,2,    0.143,2, -999.000,9,-999.0000,9,  -999.00,9,   -999.0,9,   -999.0,9,   -999.0,9,   -999.0,9,   -999.0,9, -999.00,  -999.0,-999.0000,-999.000,  5.7832,-999.000
   31WTTUNES_2,  P16S,   212,  1,     17,     17,2,19910823,0650,-21.5117,-150.5050, 4252,    764.5,   5.4645,  34.3199,2,  34.3191,2,    205.2,2,    206.3,2,    20.14,2,    28.16,2,     0.01,2,     1.95,2,    0.137,2,    0.102,2, -999.000,9,-999.0000,9,  -999.00,9,   -999.0,9,   -999.0,9,   -999.0,9,   -999.0,9,   -999.0,9, -999.00,  -999.0,-999.0000,-999.000,  5.3997,-999.000
   31WTTUNES_2,  P16S,   212,  1,     18,     18,2,19910823,0650,-21.5117,-150.5050, 4252,    864.4,   4.9238,  34.3374,2,  34.3378,2,    188.0,2,    187.0,2,    30.21,2,    30.99,2,     0.01,2,     2.15,2,    0.044,2,    0.038,2, -999.000,9,-999.0000,9,  -999.00,9,   -999.0,9,   -999.0,9,   -999.0,9,   -999.0,9,   -999.0,9, -999.00,  -999.0,-999.0000,-999.000,  4.8534,-999.000
   31WTTUNES_2,  P16S,   212,  1,     19,     19,2,19910823,0650,-21.5117,-150.5050, 4252,    965.3,   4.3252,  34.3852,2,  34.3851,2,    168.2,2,    168.4,2,    45.17,2,    33.34,2,     0.00,2,     2.32,2,    0.004,2,    0.012,3, -999.000,9,-999.0000,9,  -999.00,9,   -999.0,9,   -999.0,9,   -999.0,9,   -999.0,9,   -999.0,9, -999.00,  -999.0,-999.0000,-999.000,  4.2502,-999.000
   31WTTUNES_2,  P16S,   212,  1,     20,     20,2,19910823,0650,-21.5117,-150.5050, 4252,   1116.5,   3.6446,  34.4605,2,  34.4589,2,    155.2,2,    155.7,2,    64.42,2,    34.51,2,     0.00,2,     2.41,2, -999.000,9, -999.000,9, -999.000,9,-999.0000,9,  -999.00,9,   -999.0,9,   -999.0,9,   -999.0,9,   -999.0,9,   -999.0,9, -999.00,  -999.0,-999.0000,-999.000,  3.5623,-999.000
   31WTTUNES_2,  P16S,   212,  1,     21,     21,2,19910823,0650,-21.5117,-150.5050, 4252,   1269.9,   3.1129,  34.5188,2,-999.0000,9,    152.6,2,   -999.0,9,  -999.00,9,  -999.00,9,  -999.00,9,  -999.00,9, -999.000,9, -999.000,9, -999.000,9,-999.0000,9,  -999.00,9,   -999.0,9,   -999.0,9,   -999.0,9,   -999.0,9,   -999.0,9, -999.00,  -999.0,-999.0000,-999.000,  3.0229,-999.000
   31WTTUNES_2,  P16S,   212,  1,     22,     22,2,19910823,0650,-21.5117,-150.5050, 4252,   1423.6,   2.7322,  34.5627,2,  34.5606,2,    151.9,2,    152.3,2,    94.23,2,    34.99,2,     0.00,2,     2.45,2, -999.000,9, -999.000,9, -999.000,9,-999.0000,9,  -999.00,9,   -999.0,9,   -999.0,9,   -999.0,9,   -999.0,9,   -999.0,9, -999.00,  -999.0,-999.0000,-999.000,  2.6336,-999.000
   31WTTUNES_2,  P16S,   212,  1,     23,     23,2,19910823,0650,-21.5117,-150.5050, 4252,   1628.1,   2.4154,  34.6019,2,  34.6009,2,    151.3,2,    150.1,2,   106.84,2,    35.19,2,     0.00,2,     2.47,2, -999.000,9, -999.000,9, -999.000,9,-999.0000,9,  -999.00,9,   -999.0,9,   -999.0,9,   -999.0,9,   -999.0,9,   -999.0,9, -999.00,  -999.0,-999.0000,-999.000,  2.3039,-999.000
   31WTTUNES_2,  P16S,   212,  1,     24,     24,2,19910823,0650,-21.5117,-150.5050, 4252,   1832.7,   2.2345,  34.6204,2,  34.6202,2,    151.1,2,   -999.0,9,   114.56,2,    35.38,2,     0.00,2,     2.48,2, -999.000,9, -999.000,9, -999.000,9,-999.0000,9,  -999.00,9,   -999.0,9,   -999.0,9,   -999.0,9,   -999.0,9,   -999.0,9, -999.00,  -999.0,-999.0000,-999.000,  2.1086,-999.000
   31WTTUNES_2,  P16S,   212,  1,     25,     25,2,19910823,0650,-21.5117,-150.5050, 4252,   2037.1,   2.0866,  34.6344,2,  34.6351,2,    149.7,2,    150.9,2,   119.64,2,    35.38,2,     0.00,2,     2.47,2, -999.000,9, -999.000,9, -999.000,9,-999.0000,9,  -999.00,9,   -999.0,9,   -999.0,9,   -999.0,9,   -999.0,9,   -999.0,9, -999.00,  -999.0,-999.0000,-999.000,  1.9457,-999.000
   31WTTUNES_2,  P16S,   212,  1,     26,     26,2,19910823,0650,-21.5117,-150.5050, 4252,   2242.0,   1.9697,  34.6458,2,  34.6451,2,    152.6,2,    152.1,2,   122.47,2,    35.19,2,     0.00,2,     2.47,2, -999.000,9, -999.000,9, -999.000,9,-999.0000,9,  -999.00,9,   -999.0,9,   -999.0,9,   -999.0,9,   -999.0,9,   -999.0,9, -999.00,  -999.0,-999.0000,-999.000,  1.8130,-999.000
   31WTTUNES_2,  P16S,   212,  1,     27,     27,2,19910823,0650,-21.5117,-150.5050, 4252,   2444.4,   1.8897,  34.6534,2,  34.6530,2,    154.3,2,    153.1,2,   124.43,2,    35.09,2,     0.00,2,     2.46,2, -999.000,9, -999.000,9, -999.000,9,-999.0000,9,  -999.00,9,   -999.0,9,   -999.0,9,   -999.0,9,   -999.0,9,   -999.0,9, -999.00,  -999.0,-999.0000,-999.000,  1.7165,-999.000
   31WTTUNES_2,  P16S,   212,  1,     28,     28,2,19910823,0650,-21.5117,-150.5050, 4252,   2645.5,   1.8128,  34.6611,2,  34.6601,2,    156.6,2,    155.5,2,   125.89,2,    34.99,2,     0.00,2,     2.44,2, -999.000,9, -999.000,9, -999.000,9,-999.0000,9,  -999.00,9,   -999.0,9,   -999.0,9,   -999.0,9,   -999.0,9,   -999.0,9, -999.00,  -999.0,-999.0000,-999.000,  1.6227,-999.000
   31WTTUNES_2,  P16S,   212,  1,     29,     29,2,19910823,0650,-21.5117,-150.5050, 4252,   2849.3,   1.7318,  34.6681,2,  34.6664,2,    158.5,2,    159.9,2,   127.46,2,    34.89,2,     0.00,2,     2.43,2, -999.000,9, -999.000,9, -999.000,9,-999.0000,9,  -999.00,9,   -999.0,9,   -999.0,9,   -999.0,9,   -999.0,9,   -999.0,9, -999.00,  -999.0,-999.0000,-999.000,  1.5244,-999.000
   31WTTUNES_2,  P16S,   212,  1,     30,     30,2,19910823,0650,-21.5117,-150.5050, 4252,   3054.1,   1.6809,  34.6712,2,  34.6711,2,    162.5,2,    162.8,2,   127.85,2,    34.60,2,     0.00,2,     2.41,2, -999.000,9, -999.000,9, -999.000,9,-999.0000,9,  -999.00,9,   -999.0,9,   -999.0,9,   -999.0,9,   -999.0,9,   -999.0,9, -999.00,  -999.0,-999.0000,-999.000,  1.4549,-999.000
   31WTTUNES_2,  P16S,   212,  1,     31,     31,2,19910823,0650,-21.5117,-150.5050, 4252,   3264.7,   1.6049,  34.6775,2,  34.6776,2,    167.0,2,    167.5,2,   126.58,2,    34.31,2,     0.00,2,     2.38,2, -999.000,9, -999.000,9, -999.000,9,-999.0000,9,  -999.00,9,   -999.0,9,   -999.0,9,   -999.0,9,   -999.0,9,   -999.0,9, -999.00,  -999.0,-999.0000,-999.000,  1.3600,-999.000
   31WTTUNES_2,  P16S,   212,  1,     32,     32,2,19910823,0650,-21.5117,-150.5050, 4252,   3478.6,   1.5480,  34.6821,2,  34.6825,2,    170.7,2,    171.5,2,   125.99,2,    33.92,2,     0.00,2,     2.37,2, -999.000,9, -999.000,9, -999.000,9,-999.0000,9,  -999.00,9,   -999.0,9,   -999.0,9,   -999.0,9,   -999.0,9,   -999.0,9, -999.00,  -999.0,-999.0000,-999.000,  1.2828,-999.000
   31WTTUNES_2,  P16S,   212,  1,     33,     33,2,19910823,0650,-21.5117,-150.5050, 4252,   3694.4,   1.4880,  34.6880,2,  34.6871,2,    176.0,2,    176.1,2,   124.72,2,    33.62,2,     0.00,2,     2.34,2, -999.000,9, -999.000,9, -999.000,9,-999.0000,9,  -999.00,9,   -999.0,9,   -999.0,9,   -999.0,9,   -999.0,9,   -999.0,9, -999.00,  -999.0,-999.0000,-999.000,  1.2020,-999.000
   31WTTUNES_2,  P16S,   212,  1,     34,     34,2,19910823,0650,-21.5117,-150.5050, 4252,   3899.0,   1.4320,  34.6924,2,  34.6918,2,    178.6,2,    181.1,2,   124.82,2,    33.33,2,     0.00,2,     2.32,2, -999.000,9, -999.000,9, -999.000,9,-999.0000,9,  -999.00,9,   -999.0,9,   -999.0,9,   -999.0,9,   -999.0,9,   -999.0,9, -999.00,  -999.0,-999.0000,-999.000,  1.1259,-999.000
   31WTTUNES_2,  P16S,   212,  1,     39,     39,3,19910823,0650,-21.5117,-150.5050, 4252,   4102.2,   1.4126,  34.6949,2,  34.6924,4,    183.6,2,    182.0,4,   125.22,4,    33.45,4,     0.00,4,     2.32,4, -999.000,9, -999.000,9, -999.000,9,-999.0000,9,  -999.00,9,   -999.0,9,   -999.0,9,   -999.0,9,   -999.0,9,   -999.0,9, -999.00,  -999.0,-999.0000,-999.000,  1.0849,-999.000
   31WTTUNES_2,  P16S,   212,  1,     38,     38,2,19910823,0650,-21.5117,-150.5050, 4252,   4310.5,   1.4151,  34.6956,2,  34.6956,2,    185.2,2,    184.7,2,   123.94,2,    33.13,2,     0.00,2,     2.29,2, -999.000,9, -999.000,9, -999.000,9,-999.0000,9,  -999.00,9,   -999.0,9,   -999.0,9,   -999.0,9,   -999.0,9,   -999.0,9, -999.00,  -999.0,-999.0000,-999.000,  1.0642,-999.000