BOTTLE,20131125MIRCJHATS
EXPOCODE,SECT_ID,STNNBR,CASTNO,SAMPNO,BTLNBR,BTLNBR_FLAG_W,DATE,TIME,LATITUDE,LONGITUDE,DEPTH,CTDPRS,CTDTMP,CTDSAL,CTDSAL_FLAG_W,SALNTY,SALNTY_FLAG_W,CTDOXY,CTDOXY_FLAG_W,OXYGEN,OXYGEN_FLAG_W,SILCAT,SILCAT_FLAG_W,NITRAT,NITRAT_FLAG_W,NITRIT,NITRIT_FLAG_W,PHSPHT,PHSPHT_FLAG_W,CFC-11,CFC-11_FLAG_W,CFC-12,CFC-12_FLAG_W,TRITUM,TRITUM_FLAG_W,HELIUM,HELIUM_FLAG_W,DELHE3,DELHE3_FLAG_W,DELC14,DELC14_FLAG_W,DELC13,DELC13_FLAG_W,TCARBN,TCARBN_FLAG_W,PCO2,PCO2_FLAG_W,ALKALI,ALKALI_FLAG_W,PCO2TMP,C14ERR,HELIER,DELHER,THETA,TRITER
,,,,,,,,,,,,DBAR,ITS-90,PSS-78,,PSS-78,,UMOL/KG,,UMOL/KG,,UMOL/KG,,UMOL/KG,,UMOL/KG,,UMOL/KG,,PMOL/KG,,PMOL/KG,,TU,,NMOL/KG,,PERCNT,,/MILLE,,/MILLE,,UMOL/KG,,UATM,,UMOL/KG,,DEG C,/MILLE,NMOL/KG,PERCNT,DEG C,TU
   31WTTUNES_2,  P17S,   178,  1,     61,     61,2,19910807,1630,-32.4733,-134.8483, 4313,      4.7,  16.7971,  35.2250,2,  35.2286,2,    234.0,3,    239.2,2,     1.31,2,     0.05,2,     0.00,2,     0.12,2,    2.626,2,    1.333,2, -999.000,9,-999.0000,9,  -999.00,9,   -999.0,9,   -999.0,9,   2024.9,2,    353.4,2,   -999.0,9,   20.00,  -999.0,-999.0000,-999.000, 16.7963,-999.000
   31WTTUNES_2,  P17S,   178,  1,      2,      2,2,19910807,1630,-32.4733,-134.8483, 4313,     51.4,  16.6049,  35.1888,2,  35.1876,2,    237.9,6,    239.3,2,     1.30,2,     0.05,2,     0.00,2,     0.12,2,    2.667,2,    1.319,2, -999.000,9,-999.0000,9,  -999.00,9,   -999.0,9,   -999.0,9,   -999.0,9,   -999.0,9,   -999.0,9, -999.00,  -999.0,-999.0000,-999.000, 16.5966,-999.000
   31WTTUNES_2,  P17S,   178,  1,      3,      3,2,19910807,1630,-32.4733,-134.8483, 4313,     97.2,  16.4304,  35.1639,2,  35.1872,2,    242.1,2,    239.3,2,     1.30,2,     0.05,2,     0.00,2,     0.13,2,    2.651,2,    1.324,2, -999.000,9,-999.0000,9,  -999.00,9,   -999.0,9,   -999.0,9,   -999.0,9,   -999.0,9,   -999.0,9, -999.00,  -999.0,-999.0000,-999.000, 16.4147,-999.000
   31WTTUNES_2,  P17S,   178,  1,      4,      4,2,19910807,1630,-32.4733,-134.8483, 4313,    144.1,  15.8432,  35.0991,2,  35.0996,2,    241.1,2,    240.5,2,     1.09,2,     0.24,2,     0.01,2,     0.15,2,    2.769,2,    1.367,2, -999.000,9,-999.0000,9,  -999.00,9,   -999.0,9,   -999.0,9,   -999.0,9,   -999.0,9,   -999.0,9, -999.00,  -999.0,-999.0000,-999.000, 15.8205,-999.000
   31WTTUNES_2,  P17S,   178,  1,      5,      5,2,19910807,1630,-32.4733,-134.8483, 4313,    184.9,  15.3038,  35.0563,2,  35.0537,2,    238.3,2,    219.0,2,     1.28,2,     2.78,2,     0.02,2,     0.35,2,    2.437,2,    1.221,2, -999.000,9,-999.0000,9,  -999.00,9,   -999.0,9,   -999.0,9,   -999.0,9,   -999.0,9,   -999.0,9, -999.00,  -999.0,-999.0000,-999.000, 15.2754,-999.000
   31WTTUNES_2,  P17S,   178,  1,      6,      6,2,19910807,1630,-32.4733,-134.8483, 4313,    226.1,  14.3089,  35.0351,2,  35.0360,2,    205.5,2,    205.2,2,     1.67,2,     6.11,2,     0.00,2,     0.55,2,    2.098,2,    1.048,2, -999.000,9,-999.0000,9,  -999.00,9,   -999.0,9,   -999.0,9,   -999.0,9,   -999.0,9,   -999.0,9, -999.00,  -999.0,-999.0000,-999.000, 14.2757,-999.000
   31WTTUNES_2,  P17S,   178,  1,      7,      7,2,19910807,1630,-32.4733,-134.8483, 4313,    261.8,  13.1331,  34.9351,2,  34.9326,2,    208.7,2,    201.9,2,     2.25,2,     9.07,2,     0.00,2,     0.73,2,    1.879,2,    0.952,2, -999.000,9,-999.0000,9,  -999.00,9,   -999.0,9,   -999.0,9,   -999.0,9,   -999.0,9,   -999.0,9, -999.00,  -999.0,-999.0000,-999.000, 13.0968,-999.000
   31WTTUNES_2,  P17S,   178,  1,     68,     68,2,19910807,1630,-32.4733,-134.8483, 4313,    312.5,  11.2048,  34.7310,2,  34.7307,2,    205.2,2,    207.8,2,     3.22,2,    12.73,2,     0.00,2,     0.95,2,    1.903,2,    0.922,2, -999.000,9,-999.0000,9,  -999.00,9,   -999.0,9,   -999.0,9,   -999.0,9,   -999.0,9,   -999.0,9, -999.00,  -999.0,-999.0000,-999.000, 11.1657,-999.000
   31WTTUNES_2,  P17S,   178,  1,     69,     69,2,19910807,1630,-32.4733,-134.8483, 4313,    363.3,   9.5601,  34.5796,2,  34.5744,2,    209.1,2,    214.5,2,     4.20,2,    16.39,2,     0.00,2,     1.22,2,    1.803,2,    0.863,2, -999.000,9,-999.0000,9,  -999.00,9,   -999.0,9,   -999.0,9,   -999.0,9,   -999.0,9,   -999.0,9, -999.00,  -999.0,-999.0000,-999.000,  9.5190,-999.000
   31WTTUNES_2,  P17S,   178,  1,     70,     70,2,19910807,1630,-32.4733,-134.8483, 4313,    414.7,   8.2589,  34.4779,2,  34.4796,2,    224.8,2,    228.7,2,     4.78,2,    18.49,2,     0.00,2,     1.30,2,    1.985,2,    0.960,2, -999.000,9,-999.0000,9,  -999.00,9,   -999.0,9,   -999.0,9,   -999.0,9,   -999.0,9,   -999.0,9, -999.00,  -999.0,-999.0000,-999.000,  8.2158,-999.000
   31WTTUNES_2,  P17S,   178,  1,     11,     11,2,19910807,1630,-32.4733,-134.8483, 4313,    465.1,   7.6502,  34.4477,2,  34.4486,2,    236.5,2,    240.9,2,     5.76,2,    19.44,2,     0.00,2,     1.35,2,    2.252,2,    1.068,2, -999.000,9,-999.0000,9,  -999.00,9,   -999.0,9,   -999.0,9,   -999.0,9,   -999.0,9,   -999.0,9, -999.00,  -999.0,-999.0000,-999.000,  7.6039,-999.000
   31WTTUNES_2,  P17S,   178,  1,     12,     12,2,19910807,1630,-32.4733,-134.8483, 4313,    516.6,   7.3699,  34.4297,2,  34.4315,2,    244.8,2,    245.2,2,     6.14,2,    19.94,2,     0.00,2,     1.38,2,    2.177,2,    1.037,2, -999.000,9,-999.0000,9,  -999.00,9,   -999.0,9,   -999.0,9,   -999.0,9,   -999.0,9,   -999.0,9, -999.00,  -999.0,-999.0000,-999.000,  7.3194,-999.000
   31WTTUNES_2,  P17S,   178,  1,     13,     13,2,19910807,1630,-32.4733,-134.8483, 4313,    566.6,   7.1341,  34.4111,2,  34.4154,2,    245.3,2,    246.6,2,     6.92,2,    20.59,2,     0.00,2,     1.43,2,    1.999,2,    0.941,2, -999.000,9,-999.0000,9,  -999.00,9,   -999.0,9,   -999.0,9,   -999.0,9,   -999.0,9,   -999.0,9, -999.00,  -999.0,-999.0000,-999.000,  7.0796,-999.000
   31WTTUNES_2,  P17S,   178,  1,     37,     37,2,19910807,1630,-32.4733,-134.8483, 4313,    616.5,   6.8968,  34.3922,2,  34.3934,2,    248.1,2,    247.1,2,     7.70,2,    21.44,2,     0.00,2,     1.48,2,    1.791,2,    0.853,2, -999.000,9,-999.0000,9,  -999.00,9,   -999.0,9,   -999.0,9,   -999.0,9,   -999.0,9,   -999.0,9, -999.00,  -999.0,-999.0000,-999.000,  6.8383,-999.000
   31WTTUNES_2,  P17S,   178,  1,     15,     15,2,19910807,1630,-32.4733,-134.8483, 4313,    677.8,   6.5516,  34.3633,2,  34.3633,2,    245.5,2,    244.4,2,     9.26,2,    22.55,2,     0.00,2,     1.56,2,    1.325,2,    0.639,2, -999.000,9,-999.0000,9,  -999.00,9,   -999.0,9,   -999.0,9,   -999.0,9,   -999.0,9,   -999.0,9, -999.00,  -999.0,-999.0000,-999.000,  6.4889,-999.000
   31WTTUNES_2,  P17S,   178,  1,     16,     16,2,19910807,1630,-32.4733,-134.8483, 4313,    748.5,   6.1109,  34.3294,2,  34.3300,2,    241.5,2,    241.3,2,    11.02,2,    24.00,2,     0.00,2,     1.65,2,    0.858,2,    0.433,2, -999.000,9,-999.0000,9,  -999.00,9,   -999.0,9,   -999.0,9,   -999.0,9,   -999.0,9,   -999.0,9, -999.00,  -999.0,-999.0000,-999.000,  6.0438,-999.000
   31WTTUNES_2,  P17S,   178,  1,     17,     17,2,19910807,1630,-32.4733,-134.8483, 4313,    818.9,   5.7117,  34.3107,2,  34.3117,2,    236.4,2,    233.7,2,    14.16,2,    25.51,2,     0.00,2,     1.76,2,    0.614,2,    0.326,2, -999.000,9,-999.0000,9,  -999.00,9,   -999.0,9,   -999.0,9,   -999.0,9,   -999.0,9,   -999.0,9, -999.00,  -999.0,-999.0000,-999.000,  5.6404,-999.000
   31WTTUNES_2,  P17S,   178,  1,     18,     18,2,19910807,1630,-32.4733,-134.8483, 4313,    920.6,   5.1460,  34.3035,2,  34.3048,2,    222.7,2,    219.8,2,    20.64,2,    27.88,2,     0.00,2,     1.93,2,    0.376,2,    0.189,2, -999.000,9,-999.0000,9,  -999.00,9,   -999.0,9,   -999.0,9,   -999.0,9,   -999.0,9,   -999.0,9, -999.00,  -999.0,-999.0000,-999.000,  5.0691,-999.000
   31WTTUNES_2,  P17S,   178,  1,     19,     19,2,19910807,1630,-32.4733,-134.8483, 4313,   1020.7,   4.5934,  34.3150,2,  34.3180,2,    208.5,2,    207.1,2,    29.09,2,    29.95,2,     0.00,2,     2.07,2,    0.201,2,    0.110,2, -999.000,9,-999.0000,9,  -999.00,9,   -999.0,9,   -999.0,9,   -999.0,9,   -999.0,9,   -999.0,9, -999.00,  -999.0,-999.0000,-999.000,  4.5116,-999.000
   31WTTUNES_2,  P17S,   178,  1,     20,     20,2,19910807,1630,-32.4733,-134.8483, 4313,   1120.5,   4.0750,  34.3407,2,  34.3425,2,    198.8,2,    196.5,2,    38.13,2,    31.52,2,     0.00,2,     2.18,2,    0.109,2,    0.063,2, -999.000,9,-999.0000,9,  -999.00,9,   -999.0,9,   -999.0,9,   -999.0,9,   -999.0,9,   -999.0,9, -999.00,  -999.0,-999.0000,-999.000,  3.9889,-999.000
   31WTTUNES_2,  P17S,   178,  1,     21,     21,2,19910807,1630,-32.4733,-134.8483, 4313,   1322.6,   3.1377,  34.4487,2,  34.4494,2,    175.9,2,    173.8,2,    63.16,2,    34.01,2,     0.00,2,     2.37,2,    0.010,2,    0.010,2, -999.000,9,-999.0000,9,  -999.00,9,   -999.0,9,   -999.0,9,   -999.0,9,   -999.0,9,   -999.0,9, -999.00,  -999.0,-999.0000,-999.000,  3.0433,-999.000
   31WTTUNES_2,  P17S,   178,  1,     22,     22,2,19910807,1630,-32.4733,-134.8483, 4313,   1524.9,   2.6552,  34.5386,2,  34.5390,2,    166.0,2,    164.7,2,    82.58,2,    34.52,2,     0.00,2,     2.41,2,    0.002,2,    0.000,2, -999.000,9,-999.0000,9,  -999.00,9,   -999.0,9,   -999.0,9,   -999.0,9,   -999.0,9,   -999.0,9, -999.00,  -999.0,-999.0000,-999.000,  2.5494,-999.000
   31WTTUNES_2,  P17S,   178,  1,     23,     23,2,19910807,1630,-32.4733,-134.8483, 4313,   1727.4,   2.3600,  34.5939,2,  34.5939,2,    158.8,2,    158.8,2,    98.96,2,    34.72,2,     0.00,2,     2.45,2,    0.001,2,    0.000,2, -999.000,9,-999.0000,9,  -999.00,9,   -999.0,9,   -999.0,9,   -999.0,9,   -999.0,9,   -999.0,9, -999.00,  -999.0,-999.0000,-999.000,  2.2412,-999.000
   31WTTUNES_2,  P17S,   178,  1,     24,     24,2,19910807,1630,-32.4733,-134.8483, 4313,   1930.1,   2.1774,  34.6212,2,  34.6204,2,    156.9,2,    156.3,2,   109.03,2,    34.97,2,     0.00,2,     2.46,2,    0.000,7,    0.000,2, -999.000,9,-999.0000,9,  -999.00,9,   -999.0,9,   -999.0,9,   -999.0,9,   -999.0,9,   -999.0,9, -999.00,  -999.0,-999.0000,-999.000,  2.0443,-999.000
   31WTTUNES_2,  P17S,   178,  1,     25,     25,2,19910807,1630,-32.4733,-134.8483, 4313,   2130.0,   2.0198,  34.6392,2,  34.6415,2,    155.0,2,    155.4,2,   116.72,2,    35.07,2,     0.00,2,     2.46,2,    0.000,7,    0.000,2, -999.000,9,-999.0000,9,  -999.00,9,   -999.0,9,   -999.0,9,   -999.0,9,   -999.0,9,   -999.0,9, -999.00,  -999.0,-999.0000,-999.000,  1.8720,-999.000
   31WTTUNES_2,  P17S,   178,  1,     26,     26,2,19910807,1630,-32.4733,-134.8483, 4313,   2328.3,   1.8949,  34.6508,2,  34.6521,2,    153.7,2,    156.2,2,   121.60,2,    35.06,2,     0.00,2,     2.46,2,    0.000,7,    0.000,2, -999.000,9,-999.0000,9,  -999.00,9,   -999.0,9,   -999.0,9,   -999.0,9,   -999.0,9,   -999.0,9, -999.00,  -999.0,-999.0000,-999.000,  1.7319,-999.000
   31WTTUNES_2,  P17S,   178,  1,     27,     27,2,19910807,1630,-32.4733,-134.8483, 4313,   2526.7,   1.8099,  34.6590,2,  34.6597,2,    159.2,2,    157.9,2,   124.87,2,    35.01,2,     0.00,2,     2.46,2,    0.001,2,    0.000,2, -999.000,9,-999.0000,9,  -999.00,9,   -999.0,9,   -999.0,9,   -999.0,9,   -999.0,9,   -999.0,9, -999.00,  -999.0,-999.0000,-999.000,  1.6308,-999.000
   31WTTUNES_2,  P17S,   178,  1,     28,     28,2,19910807,1630,-32.4733,-134.8483, 4313,   2723.8,   1.7386,  34.6653,2,  34.6652,2,    162.1,2,    161.0,2,   125.47,2,    34.70,2,     0.00,2,     2.44,2,    0.001,2,    0.000,2, -999.000,9,-999.0000,9,  -999.00,9,   -999.0,9,   -999.0,9,   -999.0,9,   -999.0,9,   -999.0,9, -999.00,  -999.0,-999.0000,-999.000,  1.5427,-999.000
   31WTTUNES_2,  P17S,   178,  1,     29,     29,2,19910807,1630,-32.4733,-134.8483, 4313,   2927.9,   1.6863,  34.6707,2,  34.6709,2,    163.7,2,    164.5,2,   125.66,2,    34.54,2,     0.00,2,     2.43,2,   -0.002,2,    0.000,2, -999.000,9,-999.0000,9,  -999.00,9,   -999.0,9,   -999.0,9,   -999.0,9,   -999.0,9,   -999.0,9, -999.00,  -999.0,-999.0000,-999.000,  1.4723,-999.000
   31WTTUNES_2,  P17S,   178,  1,     30,     30,2,19910807,1630,-32.4733,-134.8483, 4313,   3140.3,   1.6515,  34.6744,2,  34.6740,2,    164.3,2,    166.1,2,   125.85,2,    34.48,2,     0.00,2,     2.42,2,    0.000,7,    0.000,2, -999.000,9,-999.0000,9,  -999.00,9,   -999.0,9,   -999.0,9,   -999.0,9,   -999.0,9,   -999.0,9, -999.00,  -999.0,-999.0000,-999.000,  1.4177,-999.000
   31WTTUNES_2,  P17S,   178,  1,     31,     31,2,19910807,1630,-32.4733,-134.8483, 4313,   3357.6,   1.6073,  34.6793,2,  34.6803,2,    170.9,2,    169.5,2,   126.45,2,    34.17,2,     0.00,2,     2.41,2,    0.000,2,    0.000,2, -999.000,9,-999.0000,9,  -999.00,9,   -999.0,9,   -999.0,9,   -999.0,9,   -999.0,9,   -999.0,9, -999.00,  -999.0,-999.0000,-999.000,  1.3530,-999.000
   31WTTUNES_2,  P17S,   178,  1,     32,     32,2,19910807,1630,-32.4733,-134.8483, 4313,   3572.6,   1.5721,  34.6831,2,  34.6834,2,    173.8,2,    172.9,2,   125.20,2,    34.02,2,     0.00,2,     2.38,2,   -0.001,2,    0.000,2, -999.000,9,-999.0000,9,  -999.00,9,   -999.0,9,   -999.0,9,   -999.0,9,   -999.0,9,   -999.0,9, -999.00,  -999.0,-999.0000,-999.000,  1.2967,-999.000
   31WTTUNES_2,  P17S,   178,  1,     33,     33,2,19910807,1630,-32.4733,-134.8483, 4313,   3788.1,   1.5045,  34.6889,2,  34.6897,2,    176.8,2,    177.4,2,   124.78,2,    33.55,2,     0.00,2,     2.35,2,    0.001,2,    0.000,2, -999.000,9,-999.0000,9,  -999.00,9,   -999.0,9,   -999.0,9,   -999.0,9,   -999.0,9,   -999.0,9, -999.00,  -999.0,-999.0000,-999.000,  1.2082,-999.000
   31WTTUNES_2,  P17S,   178,  1,     34,     34,2,19910807,1630,-32.4733,-134.8483, 4313,   4003.8,   1.3947,  34.6973,2,  34.6970,2,    182.0,2,    185.2,2,   122.92,2,    33.09,2,     0.00,2,     2.32,2,    0.000,8,    0.000,2, -999.000,9,-999.0000,9,  -999.00,9,   -999.0,9,   -999.0,9,   -999.0,9,   -999.0,9,   -999.0,9, -999.00,  -999.0,-999.0000,-999.000,  1.0783,-999.000
   31WTTUNES_2,  P17S,   178,  1,     35,     35,2,19910807,1630,-32.4733,-134.8483, 4313,   4213.0,   1.3239,  34.7030,2,  34.7025,2,    192.0,2,    190.6,2,   122.49,2,    32.73,2,     0.00,2,     2.29,2,   -0.001,2,    0.000,2, -999.000,9,-999.0000,9,  -999.00,9,   -999.0,9,   -999.0,9,   -999.0,9,   -999.0,9,   -999.0,9, -999.00,  -999.0,-999.0000,-999.000,  0.9866,-999.000
   31WTTUNES_2,  P17S,   178,  1,     38,     38,2,19910807,1630,-32.4733,-134.8483, 4313,   4343.5,   1.3258,  34.7035,2,  34.7030,2,    190.1,2,    191.5,2,   121.66,2,    32.62,2,     0.00,2,     2.27,2,    0.002,2,    0.000,2, -999.000,9,-999.0000,9,  -999.00,9,   -999.0,9,   -999.0,9,   -999.0,9,   -999.0,9,   -999.0,9, -999.00,  -999.0,-999.0000,-999.000,  0.9738,-999.000