BOTTLE,20131125MIRCJHATS
EXPOCODE,SECT_ID,STNNBR,CASTNO,SAMPNO,BTLNBR,BTLNBR_FLAG_W,DATE,TIME,LATITUDE,LONGITUDE,DEPTH,CTDPRS,CTDTMP,CTDSAL,CTDSAL_FLAG_W,SALNTY,SALNTY_FLAG_W,CTDOXY,CTDOXY_FLAG_W,OXYGEN,OXYGEN_FLAG_W,SILCAT,SILCAT_FLAG_W,NITRAT,NITRAT_FLAG_W,NITRIT,NITRIT_FLAG_W,PHSPHT,PHSPHT_FLAG_W,CFC-11,CFC-11_FLAG_W,CFC-12,CFC-12_FLAG_W,TRITUM,TRITUM_FLAG_W,HELIUM,HELIUM_FLAG_W,DELHE3,DELHE3_FLAG_W,DELC14,DELC14_FLAG_W,DELC13,DELC13_FLAG_W,TCARBN,TCARBN_FLAG_W,PCO2,PCO2_FLAG_W,ALKALI,ALKALI_FLAG_W,PCO2TMP,C14ERR,HELIER,DELHER,THETA,TRITER
,,,,,,,,,,,,DBAR,ITS-90,PSS-78,,PSS-78,,UMOL/KG,,UMOL/KG,,UMOL/KG,,UMOL/KG,,UMOL/KG,,UMOL/KG,,PMOL/KG,,PMOL/KG,,TU,,NMOL/KG,,PERCNT,,/MILLE,,/MILLE,,UMOL/KG,,UATM,,UMOL/KG,,DEG C,/MILLE,NMOL/KG,PERCNT,DEG C,TU
   31WTTUNES_2,  P16S,   217,  1,     61,     61,2,19910824,1433,-19.0000,-150.5017, 4418,      0.2,  25.4808,  36.0971,2,  36.1007,2,   -999.0,9,    205.4,2,     1.37,2,     0.10,2,     0.00,2,     0.18,2,    1.777,2,    0.934,2, -999.000,9,-999.0000,9,  -999.00,9,   -999.0,9,   -999.0,9,   2005.7,2,    253.5,2,   -999.0,9,   20.00,  -999.0,-999.0000,-999.000, 25.4808,-999.000
   31WTTUNES_2,  P16S,   217,  1,     62,     62,2,19910824,1433,-19.0000,-150.5017, 4418,     46.3,  25.3481,  36.1063,2,  36.1092,2,    202.3,2,    205.2,2,     1.27,2,     0.10,2,     0.00,2,     0.17,2,    1.800,2,    0.948,2,    0.942,2,   1.7230,2,    -1.09,2,   -999.0,9,   -999.0,9,   -999.0,9,   -999.0,9,   -999.0,9, -999.00,  -999.0,  0.0080,   0.150, 25.3379,   0.005
   31WTTUNES_2,  P16S,   217,  1,      3,      3,2,19910824,1433,-19.0000,-150.5017, 4418,     91.6,  25.1068,  36.0706,2,  36.0728,2,    205.0,6,    203.9,2,     1.07,2,     0.10,2,     0.01,2,     0.16,2,    1.741,2,    0.952,2, -999.000,9,-999.0000,9,  -999.00,9,   -999.0,9,   -999.0,9,   -999.0,9,   -999.0,9,   -999.0,9, -999.00,  -999.0,-999.0000,-999.000, 25.0868,-999.000
   31WTTUNES_2,  P16S,   217,  1,     64,     64,2,19910824,1433,-19.0000,-150.5017, 4418,    142.5,  24.3727,  36.0607,2,  36.0706,2,    192.0,2,    189.1,2,     1.07,2,     0.59,2,     0.07,2,     0.25,2,    1.783,2,    0.932,2,    0.970,2,   1.7260,2,    -0.60,2,   -999.0,9,   -999.0,9,   -999.0,9,   -999.0,9,   -999.0,9, -999.00,  -999.0,  0.0080,   0.150, 24.3422,   0.005
   31WTTUNES_2,  P16S,   217,  1,      5,      5,2,19910824,1433,-19.0000,-150.5017, 4418,    192.7,  22.2300,  36.0344,2,  36.0401,2,    180.9,2,    176.9,2,     1.07,2,     2.64,2,     0.02,2,     0.40,2,    1.692,2,    0.918,2, -999.000,9,-999.0000,9,  -999.00,9,   -999.0,9,   -999.0,9,   -999.0,9,   -999.0,9,   -999.0,9, -999.00,  -999.0,-999.0000,-999.000, 22.1913,-999.000
   31WTTUNES_2,  P16S,   217,  1,      6,      6,2,19910824,1433,-19.0000,-150.5017, 4418,    243.2,  20.0199,  35.7848,2,  35.7824,2,    181.2,2,    177.6,2,     1.07,2,     4.00,2,     0.01,2,     0.48,2,    1.671,2,    0.886,2,    0.780,2,   1.7470,2,     0.17,2,   -999.0,9,   -999.0,9,   -999.0,9,   -999.0,9,   -999.0,9, -999.00,  -999.0,  0.0080,   0.150, 19.9747,   0.004
   31WTTUNES_2,  P16S,   217,  1,      7,      7,2,19910824,1433,-19.0000,-150.5017, 4418,    304.1,  16.9145,  35.3503,2,  35.3503,2,    176.9,2,    176.3,2,     1.86,2,     7.03,2,     0.00,2,     0.67,2,    1.483,2,    0.780,2, -999.000,9,-999.0000,9,  -999.00,9,   -999.0,9,   -999.0,9,   -999.0,9,   -999.0,9,   -999.0,9, -999.00,  -999.0,-999.0000,-999.000, 16.8643,-999.000
   31WTTUNES_2,  P16S,   217,  1,     68,     68,2,19910824,1433,-19.0000,-150.5017, 4418,    364.3,  14.4153,  35.0404,2,  35.0389,2,    171.9,2,    171.8,2,     3.52,2,    10.94,2,     0.00,2,     0.94,2,    1.243,2,    0.635,2,    0.525,2,   1.8000,2,     1.36,2,   -999.0,9,   -999.0,9,   -999.0,9,   -999.0,9,   -999.0,9, -999.00,  -999.0,  0.0080,   0.150, 14.3613,   0.003
   31WTTUNES_2,  P16S,   217,  1,     69,     69,2,19910824,1433,-19.0000,-150.5017, 4418,    437.4,  10.8562,  34.6821,2,  34.6821,2,    167.9,6,    171.1,3,     7.33,2,    17.79,2,     0.00,2,     1.37,2,    0.786,2,    0.414,2,    0.333,2,   0.0000,2,     0.00,2,   -999.0,9,   -999.0,9,   -999.0,9,   -999.0,9,   -999.0,9, -999.00,  -999.0,-999.0000,   0.150, 10.8023,   0.003
   31WTTUNES_2,  P16S,   217,  1,     70,     70,2,19910824,1433,-19.0000,-150.5017, 4418,    509.2,   8.8505,  34.5128,2,  34.5090,2,    167.8,2,    169.5,2,    10.66,2,    22.87,2,     0.00,2,     1.69,2,    0.486,2,    0.272,2,    0.213,2,   1.8060,2,     1.38,2,   -999.0,9,   -999.0,9,   -999.0,9,   -999.0,9,   -999.0,9, -999.00,  -999.0,  0.0080,   0.150,  8.7951,   0.002
   31WTTUNES_2,  P16S,   217,  1,     11,     11,2,19910824,1433,-19.0000,-150.5017, 4418,    581.2,   7.2511,  34.4059,2,  34.4058,2,    182.0,2,    181.0,2,    13.78,2,    26.10,2,     0.00,2,     1.88,2,    0.320,2,    0.181,2, -999.000,9,-999.0000,9,  -999.00,9,   -999.0,9,   -999.0,9,   -999.0,9,   -999.0,9,   -999.0,9, -999.00,  -999.0,-999.0000,-999.000,  7.1946,-999.000
   31WTTUNES_2,  P16S,   217,  1,     12,     12,2,19910824,1433,-19.0000,-150.5017, 4418,    653.3,   6.4162,  34.3672,2,  34.3689,2,    188.5,2,    187.3,2,    17.11,2,    27.86,2,     0.00,2,     1.96,2,    0.213,2,    0.130,2,    0.072,2,   1.8170,2,     1.80,2,   -999.0,9,   -999.0,9,   -999.0,9,   -999.0,9,   -999.0,9, -999.00,  -999.0,  0.0090,   0.150,  6.3565,   0.001
   31WTTUNES_2,  P16S,   217,  1,     13,     13,2,19910824,1433,-19.0000,-150.5017, 4418,    695.3,   5.9336,  34.3590,2,  34.3592,2,    185.0,2,    187.3,2,    20.92,2,    29.13,2,     0.00,2,     2.03,2,    0.143,2,    0.089,2,    0.044,2,   1.8120,2,     2.60,2,   -999.0,9,   -999.0,9,   -999.0,9,   -999.0,9,   -999.0,9, -999.00,  -999.0,  0.0090,   0.150,  5.8724,   0.001
   31WTTUNES_2,  P16S,   217,  1,     37,     37,2,19910824,1433,-19.0000,-150.5017, 4418,    757.2,   5.5731,  34.3918,2,  34.3914,2,    169.2,2,    167.8,2,    30.99,2,    31.38,2,     0.00,2,     2.20,2,    0.055,2,    0.037,2, -999.000,9,-999.0000,9,  -999.00,9,   -999.0,9,   -999.0,9,   -999.0,9,   -999.0,9,   -999.0,9, -999.00,  -999.0,-999.0000,-999.000,  5.5082,-999.000
   31WTTUNES_2,  P16S,   217,  1,     15,     15,2,19910824,1433,-19.0000,-150.5017, 4418,    818.7,   5.1566,  34.4199,2,  34.4183,2,    159.8,2,    157.6,2,    41.06,2,    32.85,2,     0.00,2,     2.31,2,    0.021,2,    0.017,2, -999.000,9,-999.0000,9,  -999.00,9,   -999.0,9,   -999.0,9,   -999.0,9,   -999.0,9,   -999.0,9, -999.00,  -999.0,-999.0000,-999.000,  5.0886,-999.000
   31WTTUNES_2,  P16S,   217,  1,     16,     16,2,19910824,1433,-19.0000,-150.5017, 4418,    888.9,   4.7417,  34.4476,2,  34.4485,2,    150.5,2,    151.0,2,    51.81,2,    33.73,2,     0.00,2,     2.39,2,    0.009,2,    0.005,2, -999.000,9,-999.0000,9,  -999.00,9,   -999.0,9,   -999.0,9,   -999.0,9,   -999.0,9,   -999.0,9, -999.00,  -999.0,-999.0000,-999.000,  4.6702,-999.000
   31WTTUNES_2,  P16S,   217,  1,     17,     17,2,19910824,1433,-19.0000,-150.5017, 4418,    969.8,   4.3291,  34.4656,2,  34.4650,2,    150.6,2,    149.9,2,    59.63,2,    34.41,2,     0.00,2,     2.42,2,    0.009,3,    0.009,3, -999.000,9,-999.0000,9,  -999.00,9,   -999.0,9,   -999.0,9,   -999.0,9,   -999.0,9,   -999.0,9, -999.00,  -999.0,-999.0000,-999.000,  4.2535,-999.000
   31WTTUNES_2,  P16S,   217,  1,     18,     18,2,19910824,1433,-19.0000,-150.5017, 4418,   1066.7,   3.8959,  34.4836,2,  34.4811,2,    149.9,2,    149.5,2,    67.45,2,    34.90,2,     0.00,2,     2.46,2, -999.000,9, -999.000,9, -999.000,9,   1.8370,3,    14.78,3,   -999.0,9,   -999.0,9,   -999.0,9,   -999.0,9,   -999.0,9, -999.00,  -999.0,-999.0000,-999.000,  3.8156,-999.000
   31WTTUNES_2,  P16S,   217,  1,     19,     19,2,19910824,1433,-19.0000,-150.5017, 4418,   1162.5,   3.4829,  34.5086,2,  34.5068,2,    149.6,2,    150.3,2,    76.74,2,    35.19,2,     0.00,2,     2.48,2, -999.000,9, -999.000,9, -999.000,9,   1.8080,2,    16.72,2,   -999.0,9,   -999.0,9,   -999.0,9,   -999.0,9,   -999.0,9, -999.00,  -999.0,-999.0000,-999.000,  3.3981,-999.000
   31WTTUNES_2,  P16S,   217,  1,     20,     20,2,19910824,1433,-19.0000,-150.5017, 4418,   1261.4,   3.2080,  34.5294,2,  34.5270,2,    150.5,2,    150.4,2,    83.77,2,    35.29,2,     0.00,2,     2.48,2, -999.000,9, -999.000,9, -999.000,9,   1.8310,2,    18.39,2,   -999.0,9,   -999.0,9,   -999.0,9,   -999.0,9,   -999.0,9, -999.00,  -999.0,-999.0000,-999.000,  3.1177,-999.000
   31WTTUNES_2,  P16S,   217,  1,     21,     21,2,19910824,1433,-19.0000,-150.5017, 4418,   1366.9,   2.9216,  34.5539,2,  34.5517,2,    151.1,2,    149.8,2,    91.98,2,    35.48,2,     0.00,2,     2.50,2, -999.000,9, -999.000,9, -999.000,9,   1.8630,2,    21.34,2,   -999.0,9,   -999.0,9,   -999.0,9,   -999.0,9,   -999.0,9, -999.00,  -999.0,-999.0000,-999.000,  2.8257,-999.000
   31WTTUNES_2,  P16S,   217,  1,     22,     22,2,19910824,1433,-19.0000,-150.5017, 4418,   1523.4,   2.6767,  34.5782,2,  34.5761,2,    148.8,2,    149.2,2,   100.10,2,    35.68,2,     0.00,2,     2.51,2, -999.000,9, -999.000,9, -999.000,9,   1.8790,2,    23.57,2,   -999.0,9,   -999.0,9,   -999.0,9,   -999.0,9,   -999.0,9, -999.00,  -999.0,-999.0000,-999.000,  2.5707,-999.000
   31WTTUNES_2,  P16S,   217,  1,     23,     23,2,19910824,1433,-19.0000,-150.5017, 4418,   1678.9,   2.4545,  34.6020,2,  34.5992,2,    147.1,2,    148.3,2,   108.50,2,    35.78,2,     0.00,2,     2.52,2, -999.000,9, -999.000,9, -999.000,9,   1.8940,2,    26.13,2,   -999.0,9,   -999.0,9,   -999.0,9,   -999.0,9,   -999.0,9, -999.00,  -999.0,-999.0000,-999.000,  2.3384,-999.000
   31WTTUNES_2,  P16S,   217,  1,     24,     24,2,19910824,1433,-19.0000,-150.5017, 4418,   1836.6,   2.3141,  34.6164,2,  34.6143,2,    149.5,2,    148.2,2,   113.19,2,    35.87,2,     0.00,2,     2.53,2, -999.000,9, -999.000,9, -999.000,9,   1.9070,2,    26.78,2,   -999.0,9,   -999.0,9,   -999.0,9,   -999.0,9,   -999.0,9, -999.00,  -999.0,-999.0000,-999.000,  2.1868,-999.000
   31WTTUNES_2,  P16S,   217,  1,     25,     25,2,19910824,1433,-19.0000,-150.5017, 4418,   1991.0,   2.1764,  34.6287,2,  34.6271,2,    151.9,2,    150.2,2,   117.10,2,    35.77,2,     0.00,2,     2.52,2, -999.000,9, -999.000,9, -999.000,9,   1.9120,2,    26.70,2,   -999.0,9,   -999.0,9,   -999.0,9,   -999.0,9,   -999.0,9, -999.00,  -999.0,-999.0000,-999.000,  2.0381,-999.000
   31WTTUNES_2,  P16S,   217,  1,     26,     26,2,19910824,1433,-19.0000,-150.5017, 4418,   2146.5,   2.0669,  34.6383,2,  34.6361,2,    150.9,2,    151.9,2,   119.44,2,    35.58,2,     0.00,2,     2.50,2, -999.000,9, -999.000,9, -999.000,9,   1.8960,2,    26.15,2,   -999.0,9,   -999.0,9,   -999.0,9,   -999.0,9,   -999.0,9, -999.00,  -999.0,-999.0000,-999.000,  1.9169,-999.000
   31WTTUNES_2,  P16S,   217,  1,     27,     27,2,19910824,1433,-19.0000,-150.5017, 4418,   2358.8,   1.9386,  34.6494,2,  34.6465,2,    156.2,2,    154.8,2,   122.67,2,    35.38,2,     0.00,2,     2.49,2, -999.000,9, -999.000,9, -999.000,9,   1.9020,2,    25.67,2,   -999.0,9,   -999.0,9,   -999.0,9,   -999.0,9,   -999.0,9, -999.00,  -999.0,-999.0000,-999.000,  1.7721,-999.000
   31WTTUNES_2,  P16S,   217,  1,     28,     28,2,19910824,1433,-19.0000,-150.5017, 4418,   2569.9,   1.8183,  34.6590,2,  34.6566,2,    157.7,2,    158.1,2,   125.01,2,    35.29,2,     0.00,2,     2.48,2, -999.000,9, -999.000,9, -999.000,9,   1.9050,2,    25.13,2,   -999.0,9,   -999.0,9,   -999.0,9,   -999.0,9,   -999.0,9, -999.00,  -999.0,-999.0000,-999.000,  1.6350,-999.000
   31WTTUNES_2,  P16S,   217,  1,     29,     29,2,19910824,1433,-19.0000,-150.5017, 4418,   2778.0,   1.7673,  34.6639,2,  34.6616,2,    160.2,2,    160.3,2,   126.09,2,    35.19,2,     0.00,2,     2.47,2, -999.000,9, -999.000,9, -999.000,9,   1.8880,2,    23.49,2,   -999.0,9,   -999.0,9,   -999.0,9,   -999.0,9,   -999.0,9, -999.00,  -999.0,-999.0000,-999.000,  1.5658,-999.000
   31WTTUNES_2,  P16S,   217,  1,     30,     30,2,19910824,1433,-19.0000,-150.5017, 4418,   2987.2,   1.6839,  34.6706,2,  34.6691,2,    164.4,2,    164.2,2,   126.48,2,    34.89,2,     0.00,2,     2.44,2, -999.000,9, -999.000,9, -999.000,9,   1.8620,3,    22.00,3,   -999.0,9,   -999.0,9,   -999.0,9,   -999.0,9,   -999.0,9, -999.00,  -999.0,-999.0000,-999.000,  1.4643,-999.000
   31WTTUNES_2,  P16S,   217,  1,     31,     31,2,19910824,1433,-19.0000,-150.5017, 4418,   3193.3,   1.6195,  34.6771,2,  34.6748,2,    167.0,2,    168.1,2,   126.48,2,    34.60,2,     0.00,2,     2.43,2, -999.000,9, -999.000,9, -999.000,9,   1.8860,2,    21.34,2,   -999.0,9,   -999.0,9,   -999.0,9,   -999.0,9,   -999.0,9, -999.00,  -999.0,-999.0000,-999.000,  1.3813,-999.000
   31WTTUNES_2,  P16S,   217,  1,     32,     32,2,19910824,1433,-19.0000,-150.5017, 4418,   3450.8,   1.5685,  34.6807,2,  34.6785,2,    173.2,2,    171.8,2,   126.09,2,    34.31,2,     0.00,2,     2.41,2, -999.000,9, -999.000,9, -999.000,9,   1.8950,2,    20.09,2,   -999.0,9,   -999.0,9,   -999.0,9,   -999.0,9,   -999.0,9, -999.00,  -999.0,-999.0000,-999.000,  1.3056,-999.000
   31WTTUNES_2,  P16S,   217,  1,     33,     33,2,19910824,1433,-19.0000,-150.5017, 4418,   3709.7,   1.5149,  34.6855,2,  34.6830,2,    174.4,2,    175.8,2,   125.60,2,    34.11,2,     0.00,2,     2.39,2, -999.000,9, -999.000,9, -999.000,9,   1.8930,2,    18.83,2,   -999.0,9,   -999.0,9,   -999.0,9,   -999.0,9,   -999.0,9, -999.00,  -999.0,-999.0000,-999.000,  1.2266,-999.000
   31WTTUNES_2,  P16S,   217,  1,     34,     34,2,19910824,1433,-19.0000,-150.5017, 4418,   3970.1,   1.4902,  34.6886,2,  34.6867,2,    179.3,2,    178.7,2,   125.30,2,    33.82,2,     0.00,2,     2.38,2, -999.000,9, -999.000,9, -999.000,9,   1.8840,2,    17.77,2,   -999.0,9,   -999.0,9,   -999.0,9,   -999.0,9,   -999.0,9, -999.00,  -999.0,-999.0000,-999.000,  1.1748,-999.000
   31WTTUNES_2,  P16S,   217,  1,     39,     39,2,19910824,1433,-19.0000,-150.5017, 4418,   4232.7,   1.4983,  34.6903,2,  34.6883,2,    180.0,2,    179.8,2,   125.30,2,    33.82,2,     0.00,2,     2.37,2, -999.000,9, -999.000,9, -999.000,9,   1.8800,2,    17.56,2,   -999.0,9,   -999.0,9,   -999.0,9,   -999.0,9,   -999.0,9, -999.00,  -999.0,-999.0000,-999.000,  1.1537,-999.000
   31WTTUNES_2,  P16S,   217,  1,     38,     38,2,19910824,1433,-19.0000,-150.5017, 4418,   4481.3,   1.5247,  34.6906,2,  34.6887,2,    180.1,2,    180.0,2,   125.30,2,    33.82,2,     0.00,2,     2.37,2, -999.000,9, -999.000,9, -999.000,9,   1.8850,2,    17.39,2,   -999.0,9,   -999.0,9,   -999.0,9,   -999.0,9,   -999.0,9, -999.00,  -999.0,-999.0000,-999.000,  1.1511,-999.000