BOTTLE,20131125MIRCJHATS
EXPOCODE,SECT_ID,STNNBR,CASTNO,SAMPNO,BTLNBR,BTLNBR_FLAG_W,DATE,TIME,LATITUDE,LONGITUDE,DEPTH,CTDPRS,CTDTMP,CTDSAL,CTDSAL_FLAG_W,SALNTY,SALNTY_FLAG_W,CTDOXY,CTDOXY_FLAG_W,OXYGEN,OXYGEN_FLAG_W,SILCAT,SILCAT_FLAG_W,NITRAT,NITRAT_FLAG_W,NITRIT,NITRIT_FLAG_W,PHSPHT,PHSPHT_FLAG_W,CFC-11,CFC-11_FLAG_W,CFC-12,CFC-12_FLAG_W,TRITUM,TRITUM_FLAG_W,HELIUM,HELIUM_FLAG_W,DELHE3,DELHE3_FLAG_W,DELC14,DELC14_FLAG_W,DELC13,DELC13_FLAG_W,TCARBN,TCARBN_FLAG_W,PCO2,PCO2_FLAG_W,ALKALI,ALKALI_FLAG_W,PCO2TMP,C14ERR,HELIER,DELHER,THETA,TRITER
,,,,,,,,,,,,DBAR,ITS-90,PSS-78,,PSS-78,,UMOL/KG,,UMOL/KG,,UMOL/KG,,UMOL/KG,,UMOL/KG,,UMOL/KG,,PMOL/KG,,PMOL/KG,,TU,,NMOL/KG,,PERCNT,,/MILLE,,/MILLE,,UMOL/KG,,UATM,,UMOL/KG,,DEG C,/MILLE,NMOL/KG,PERCNT,DEG C,TU
   31WTTUNES_2,  P17S,   145,  1,      1,      1,2,19910728,1806,-16.3650,-133.6550, 4250,      1.7,  26.5632,  36.5315,2,  36.5351,2,   -999.0,9,    211.3,2,     1.56,2,     0.10,2,     0.00,2,     0.22,2,    1.582,2,    0.911,2, -999.000,9,-999.0000,9,  -999.00,9,   -999.0,9,   -999.0,9,   2025.4,2,    252.9,2,   -999.0,9,   20.00,  -999.0,-999.0000,-999.000, 26.5628,-999.000
   31WTTUNES_2,  P17S,   145,  1,      2,      2,2,19910728,1806,-16.3650,-133.6550, 4250,     35.1,  26.5198,  36.5322,2,  36.5361,2,    210.9,6,    207.9,2,     1.37,2,     0.10,2,     0.00,2,     0.22,2,    1.443,2,    0.830,2, -999.000,9,-999.0000,9,  -999.00,9,   -999.0,9,   -999.0,9,   -999.0,9,   -999.0,9,   -999.0,9, -999.00,  -999.0,-999.0000,-999.000, 26.5118,-999.000
   31WTTUNES_2,  P17S,   145,  1,      3,      3,2,19910728,1806,-16.3650,-133.6550, 4250,     60.4,  26.4245,  36.5496,2,  36.5571,2,    208.9,6,    209.6,2,     1.37,2,     0.10,2,     0.00,2,     0.22,2,    1.598,2,    0.906,2, -999.000,9,-999.0000,9,  -999.00,9,   -999.0,9,   -999.0,9,   -999.0,9,   -999.0,9,   -999.0,9, -999.00,  -999.0,-999.0000,-999.000, 26.4108,-999.000
   31WTTUNES_2,  P17S,   145,  1,      4,      4,2,19910728,1806,-16.3650,-133.6550, 4250,     96.4,  26.3358,  36.6105,2,  36.5846,2,    214.0,6,    206.4,2,     1.17,2,     0.10,2,     0.01,2,     0.23,2,    1.606,2,    0.918,2, -999.000,9,-999.0000,9,  -999.00,9,   -999.0,9,   -999.0,9,   -999.0,9,   -999.0,9,   -999.0,9, -999.00,  -999.0,-999.0000,-999.000, 26.3140,-999.000
   31WTTUNES_2,  P17S,   145,  1,      5,      5,2,19910728,1806,-16.3650,-133.6550, 4250,    121.7,  24.2808,  36.3813,2,  36.3744,2,    207.5,2,    195.7,2,     1.07,2,     0.20,2,     0.73,2,     0.30,2,    1.737,2,    0.978,2, -999.000,9,-999.0000,9,  -999.00,9,   -999.0,9,   -999.0,9,   -999.0,9,   -999.0,9,   -999.0,9, -999.00,  -999.0,-999.0000,-999.000, 24.2549,-999.000
   31WTTUNES_2,  P17S,   145,  1,      6,      6,2,19910728,1806,-16.3650,-133.6550, 4250,    147.6,  23.7615,  36.3885,2,  36.3827,2,    192.3,2,    192.5,2,     1.07,2,     0.39,2,     1.40,2,     0.35,2,    1.745,8,    0.987,2, -999.000,9,-999.0000,9,  -999.00,9,   -999.0,9,   -999.0,9,   -999.0,9,   -999.0,9,   -999.0,9, -999.00,  -999.0,-999.0000,-999.000, 23.7305,-999.000
   31WTTUNES_2,  P17S,   145,  1,      7,      7,2,19910728,1806,-16.3650,-133.6550, 4250,    167.8,  22.9374,  36.3279,2,  36.3148,2,    188.2,2,    186.5,2,     1.07,2,     2.25,2,     0.29,2,     0.41,2,    1.784,2,    1.016,2, -999.000,9,-999.0000,9,  -999.00,9,   -999.0,9,   -999.0,9,   -999.0,9,   -999.0,9,   -999.0,9, -999.00,  -999.0,-999.0000,-999.000, 22.9029,-999.000
   31WTTUNES_2,  P17S,   145,  1,      8,      8,2,19910728,1806,-16.3650,-133.6550, 4250,    219.5,  20.9317,  36.0131,2,  36.0060,2,    184.1,2,    185.1,2,     1.07,2,     3.12,2,     0.01,2,     0.44,2,    1.814,8,    1.014,2, -999.000,9,-999.0000,9,  -999.00,9,   -999.0,9,   -999.0,9,   -999.0,9,   -999.0,9,   -999.0,9, -999.00,  -999.0,-999.0000,-999.000, 20.8895,-999.000
   31WTTUNES_2,  P17S,   145,  1,      9,      9,2,19910728,1806,-16.3650,-133.6550, 4250,    271.9,  18.6656,  35.5865,2,  35.5844,2,    187.0,2,    182.5,2,     1.27,2,     4.49,2,     0.01,2,     0.52,2,    1.775,8,    0.983,2, -999.000,9,-999.0000,9,  -999.00,9,   -999.0,9,   -999.0,9,   -999.0,9,   -999.0,9,   -999.0,9, -999.00,  -999.0,-999.0000,-999.000, 18.6174,-999.000
   31WTTUNES_2,  P17S,   145,  1,     10,     10,2,19910728,1806,-16.3650,-133.6550, 4250,    322.2,  15.2826,  35.0826,2,  35.0340,2,    170.2,2,    170.2,2,     3.13,2,     9.09,2,     0.00,2,     0.84,2,    1.417,2,    0.772,2, -999.000,9,-999.0000,9,  -999.00,9,   -999.0,9,   -999.0,9,   -999.0,9,   -999.0,9,   -999.0,9, -999.00,  -999.0,-999.0000,-999.000, 15.2329,-999.000
   31WTTUNES_2,  P17S,   145,  1,     11,     11,2,19910728,1806,-16.3650,-133.6550, 4250,    374.2,  11.6022,  34.6489,2,  34.6483,2,    134.0,2,    135.1,2,     8.70,2,    18.08,2,     0.00,2,     1.52,2,    0.823,2,    0.451,2, -999.000,9,-999.0000,9,  -999.00,9,   -999.0,9,   -999.0,9,   -999.0,9,   -999.0,9,   -999.0,9, -999.00,  -999.0,-999.0000,-999.000, 11.5542,-999.000
   31WTTUNES_2,  P17S,   145,  1,     12,     12,2,19910728,1806,-16.3650,-133.6550, 4250,    424.6,   9.1034,  34.4866,2,  34.4887,2,     93.1,2,     98.8,2,    17.01,2,    27.86,2,     0.00,2,     2.16,2,    0.255,2,    0.152,2, -999.000,9,-999.0000,9,  -999.00,9,   -999.0,9,   -999.0,9,   -999.0,9,   -999.0,9,   -999.0,9, -999.00,  -999.0,-999.0000,-999.000,  9.0566,-999.000
   31WTTUNES_2,  P17S,   145,  1,     13,     13,2,19910728,1806,-16.3650,-133.6550, 4250,    475.6,   7.8912,  34.4663,2,  34.4698,2,     83.7,2,     94.5,2,    22.97,2,    32.06,2,     0.00,2,     2.37,2,    0.073,2,    0.049,2, -999.000,9,-999.0000,9,  -999.00,9,   -999.0,9,   -999.0,9,   -999.0,9,   -999.0,9,   -999.0,9, -999.00,  -999.0,-999.0000,-999.000,  7.8429,-999.000
   31WTTUNES_2,  P17S,   145,  1,     37,     37,2,19910728,1806,-16.3650,-133.6550, 4250,    537.4,   6.9752,  34.4647,2,  34.4651,2,    101.9,2,    102.4,2,    27.57,2,    34.02,2,     0.00,2,     2.42,2,    0.022,2,    0.017,2, -999.000,9,-999.0000,9,  -999.00,9,   -999.0,9,   -999.0,9,   -999.0,9,   -999.0,9,   -999.0,9, -999.00,  -999.0,-999.0000,-999.000,  6.9242,-999.000
   31WTTUNES_2,  P17S,   145,  1,     15,     15,2,19910728,1806,-16.3650,-133.6550, 4250,    618.2,   6.2447,  34.4632,2,  34.4641,2,    105.1,2,    104.6,2,    35.09,2,    35.68,2,     0.00,2,     2.51,2, -999.000,9, -999.000,9, -999.000,9,-999.0000,9,  -999.00,9,   -999.0,9,   -999.0,9,   -999.0,9,   -999.0,9,   -999.0,9, -999.00,  -999.0,-999.0000,-999.000,  6.1890,-999.000
   31WTTUNES_2,  P17S,   145,  1,     16,     16,2,19910728,1806,-16.3650,-133.6550, 4250,    720.9,   5.7157,  34.4785,2,  34.4780,2,     96.2,2,     97.7,2,    44.67,2,    37.44,2,     0.00,2,     2.63,2, -999.000,9, -999.000,9, -999.000,9,-999.0000,9,  -999.00,9,   -999.0,9,   -999.0,9,   -999.0,9,   -999.0,9,   -999.0,9, -999.00,  -999.0,-999.0000,-999.000,  5.6532,-999.000
   31WTTUNES_2,  P17S,   145,  1,     17,     17,2,19910728,1806,-16.3650,-133.6550, 4250,    824.3,   5.1642,  34.4901,2,  34.4931,2,     93.3,2,     94.3,2,    56.21,2,    38.91,2,     0.00,2,     2.76,2, -999.000,9, -999.000,9, -999.000,9,-999.0000,9,  -999.00,9,   -999.0,9,   -999.0,9,   -999.0,9,   -999.0,9,   -999.0,9, -999.00,  -999.0,-999.0000,-999.000,  5.0956,-999.000
   31WTTUNES_2,  P17S,   145,  1,     18,     18,2,19910728,1806,-16.3650,-133.6550, 4250,    926.8,   4.6948,  34.5056,2,  34.5071,2,     89.2,2,     87.9,2,    65.89,2,    39.79,2,     0.00,2,     2.82,2, -999.000,9, -999.000,9, -999.000,9,-999.0000,9,  -999.00,9,   -999.0,9,   -999.0,9,   -999.0,9,   -999.0,9,   -999.0,9, -999.00,  -999.0,-999.0000,-999.000,  4.6203,-999.000
   31WTTUNES_2,  P17S,   145,  1,     19,     19,2,19910728,1806,-16.3650,-133.6550, 4250,   1029.3,   4.2595,  34.5206,2,  34.5228,2,     87.0,2,     87.8,2,    75.86,2,    39.79,2,     0.00,2,     2.85,2, -999.000,9, -999.000,9, -999.000,9,-999.0000,9,  -999.00,9,   -999.0,9,   -999.0,9,   -999.0,9,   -999.0,9,   -999.0,9, -999.00,  -999.0,-999.0000,-999.000,  4.1793,-999.000
   31WTTUNES_2,  P17S,   145,  1,     20,     20,2,19910728,1806,-16.3650,-133.6550, 4250,   1132.4,   3.9685,  34.5341,2,  34.5357,2,     92.9,2,     91.7,2,    82.21,2,    39.39,2,     0.00,2,     2.83,2, -999.000,9, -999.000,9, -999.000,9,-999.0000,9,  -999.00,9,   -999.0,9,   -999.0,9,   -999.0,9,   -999.0,9,   -999.0,9, -999.00,  -999.0,-999.0000,-999.000,  3.8819,-999.000
   31WTTUNES_2,  P17S,   145,  1,     21,     21,2,19910728,1806,-16.3650,-133.6550, 4250,   1337.2,   3.3916,  34.5605,2,  34.5611,2,    102.3,2,    101.6,2,    95.89,2,    38.81,2,     0.00,2,     2.80,2, -999.000,9, -999.000,9, -999.000,9,-999.0000,9,  -999.00,9,   -999.0,9,   -999.0,9,   -999.0,9,   -999.0,9,   -999.0,9, -999.00,  -999.0,-999.0000,-999.000,  3.2931,-999.000
   31WTTUNES_2,  P17S,   145,  1,     22,     22,2,19910728,1806,-16.3650,-133.6550, 4250,   1543.8,   2.9542,  34.5827,2,  34.5835,2,    116.0,2,    114.0,2,   104.98,2,    37.93,2,     0.00,2,     2.71,2, -999.000,9, -999.000,9, -999.000,9,-999.0000,9,  -999.00,9,   -999.0,9,   -999.0,9,   -999.0,9,   -999.0,9,   -999.0,9, -999.00,  -999.0,-999.0000,-999.000,  2.8432,-999.000
   31WTTUNES_2,  P17S,   145,  1,     23,     23,2,19910728,1806,-16.3650,-133.6550, 4250,   1749.6,   2.4796,  34.6075,2,  34.6098,2,    133.6,2,    132.6,2,   111.72,2,    36.66,2,     0.00,2,     2.60,2, -999.000,9, -999.000,9, -999.000,9,-999.0000,9,  -999.00,9,   -999.0,9,   -999.0,9,   -999.0,9,   -999.0,9,   -999.0,9, -999.00,  -999.0,-999.0000,-999.000,  2.3573,-999.000
   31WTTUNES_2,  P17S,   145,  1,     24,     24,2,19910728,1806,-16.3650,-133.6550, 4250,   1956.0,   2.1314,  34.6367,2,  34.6371,2,    140.1,2,    142.7,2,   120.13,2,    35.97,2,     0.00,2,     2.53,2, -999.000,9, -999.000,9, -999.000,9,-999.0000,9,  -999.00,9,   -999.0,9,   -999.0,9,   -999.0,9,   -999.0,9,   -999.0,9, -999.00,  -999.0,-999.0000,-999.000,  1.9967,-999.000
   31WTTUNES_2,  P17S,   145,  1,     25,     25,2,19910728,1806,-16.3650,-133.6550, 4250,   2162.3,   1.9821,  34.6502,2,  34.6508,2,    146.5,2,    147.6,2,   123.45,2,    35.48,2,     0.00,2,     2.50,2, -999.000,9, -999.000,9, -999.000,9,-999.0000,9,  -999.00,9,   -999.0,9,   -999.0,9,   -999.0,9,   -999.0,9,   -999.0,9, -999.00,  -999.0,-999.0000,-999.000,  1.8321,-999.000
   31WTTUNES_2,  P17S,   145,  1,     26,     26,2,19910728,1806,-16.3650,-133.6550, 4250,   2367.9,   1.8827,  34.6586,2,  34.6585,2,    153.4,2,    151.8,2,   125.01,2,    35.09,2,     0.00,2,     2.46,2, -999.000,9, -999.000,9, -999.000,9,-999.0000,9,  -999.00,9,   -999.0,9,   -999.0,9,   -999.0,9,   -999.0,9,   -999.0,9, -999.00,  -999.0,-999.0000,-999.000,  1.7164,-999.000
   31WTTUNES_2,  P17S,   145,  1,     27,     27,2,19910728,1806,-16.3650,-133.6550, 4250,   2574.5,   1.7966,  34.6650,2,  34.6654,2,    155.0,2,    155.5,2,   126.68,2,    34.80,2,     0.00,2,     2.43,2, -999.000,9, -999.000,9, -999.000,9,-999.0000,9,  -999.00,9,   -999.0,9,   -999.0,9,   -999.0,9,   -999.0,9,   -999.0,9, -999.00,  -999.0,-999.0000,-999.000,  1.6133,-999.000
   31WTTUNES_2,  P17S,   145,  1,     28,     28,2,19910728,1806,-16.3650,-133.6550, 4250,   2781.8,   1.7405,  34.6697,2,  34.6695,2,    156.8,2,    157.3,2,   128.24,2,    34.70,2,     0.00,2,     2.43,2, -999.000,9, -999.000,9, -999.000,9,-999.0000,9,  -999.00,9,   -999.0,9,   -999.0,9,   -999.0,9,   -999.0,9,   -999.0,9, -999.00,  -999.0,-999.0000,-999.000,  1.5392,-999.000
   31WTTUNES_2,  P17S,   145,  1,     29,     29,2,19910728,1806,-16.3650,-133.6550, 4250,   2987.9,   1.6939,  34.6748,2,  34.6744,2,    158.3,2,    158.4,2,   130.00,2,    34.60,2,     0.00,2,     2.42,2, -999.000,9, -999.000,9, -999.000,9,-999.0000,9,  -999.00,9,   -999.0,9,   -999.0,9,   -999.0,9,   -999.0,9,   -999.0,9, -999.00,  -999.0,-999.0000,-999.000,  1.4740,-999.000
   31WTTUNES_2,  P17S,   145,  1,     30,     30,2,19910728,1806,-16.3650,-133.6550, 4250,   3193.9,   1.6532,  34.6784,2,  34.6787,2,    158.7,2,    159.8,2,   131.17,2,    34.60,2,     0.00,2,     2.42,2, -999.000,9, -999.000,9, -999.000,9,-999.0000,9,  -999.00,9,   -999.0,9,   -999.0,9,   -999.0,9,   -999.0,9,   -999.0,9, -999.00,  -999.0,-999.0000,-999.000,  1.4141,-999.000
   31WTTUNES_2,  P17S,   145,  1,     31,     31,2,19910728,1806,-16.3650,-133.6550, 4250,   3397.2,   1.6202,  34.6814,2,  34.6818,2,    160.5,2,    161.1,2,   132.83,2,    34.50,2,     0.00,2,     2.41,2, -999.000,9, -999.000,9, -999.000,9,-999.0000,9,  -999.00,9,   -999.0,9,   -999.0,9,   -999.0,9,   -999.0,9,   -999.0,9, -999.00,  -999.0,-999.0000,-999.000,  1.3615,-999.000
   31WTTUNES_2,  P17S,   145,  1,     32,     32,2,19910728,1806,-16.3650,-133.6550, 4250,   3601.1,   1.5823,  34.6840,2,  34.6836,2,    162.0,2,    163.4,2,   133.61,2,    34.50,2,     0.00,2,     2.41,2, -999.000,9, -999.000,9, -999.000,9,-999.0000,9,  -999.00,9,   -999.0,9,   -999.0,9,   -999.0,9,   -999.0,9,   -999.0,9, -999.00,  -999.0,-999.0000,-999.000,  1.3036,-999.000
   31WTTUNES_2,  P17S,   145,  1,     33,     33,2,19910728,1806,-16.3650,-133.6550, 4250,   3808.0,   1.5361,  34.6875,2,  34.6863,2,    167.1,2,    167.3,2,   133.61,2,    34.41,2,     0.00,2,     2.41,2, -999.000,9, -999.000,9, -999.000,9,-999.0000,9,  -999.00,9,   -999.0,9,   -999.0,9,   -999.0,9,   -999.0,9,   -999.0,9, -999.00,  -999.0,-999.0000,-999.000,  1.2369,-999.000
   31WTTUNES_2,  P17S,   145,  1,     34,     34,2,19910728,1806,-16.3650,-133.6550, 4250,   4017.5,   1.5110,  34.6891,2,  34.6899,2,    170.4,2,    170.6,2,   132.54,2,    34.11,2,     0.00,2,     2.38,2, -999.000,9, -999.000,9, -999.000,9,-999.0000,9,  -999.00,9,   -999.0,9,   -999.0,9,   -999.0,9,   -999.0,9,   -999.0,9, -999.00,  -999.0,-999.0000,-999.000,  1.1899,-999.000
   31WTTUNES_2,  P17S,   145,  1,     35,     35,2,19910728,1806,-16.3650,-133.6550, 4250,   4175.1,   1.5240,  34.6900,2,  34.6893,2,    170.5,2,    171.3,2,   131.85,2,    34.01,2,     0.00,2,     2.38,2, -999.000,9, -999.000,9, -999.000,9,-999.0000,9,  -999.00,9,   -999.0,9,   -999.0,9,   -999.0,9,   -999.0,9,   -999.0,9, -999.00,  -999.0,-999.0000,-999.000,  1.1851,-999.000
   31WTTUNES_2,  P17S,   145,  1,     36,     36,2,19910728,1806,-16.3650,-133.6550, 4250,   4303.5,   1.5344,  34.6895,2,  34.6893,2,    172.4,2,    171.5,2,   132.05,2,    34.01,2,     0.00,2,     2.37,2, -999.000,9, -999.000,9, -999.000,9,-999.0000,9,  -999.00,9,   -999.0,9,   -999.0,9,   -999.0,9,   -999.0,9,   -999.0,9, -999.00,  -999.0,-999.0000,-999.000,  1.1808,-999.000