BOTTLE,20131125MIRCJHATS
EXPOCODE,SECT_ID,STNNBR,CASTNO,SAMPNO,BTLNBR,BTLNBR_FLAG_W,DATE,TIME,LATITUDE,LONGITUDE,DEPTH,CTDPRS,CTDTMP,CTDSAL,CTDSAL_FLAG_W,SALNTY,SALNTY_FLAG_W,CTDOXY,CTDOXY_FLAG_W,OXYGEN,OXYGEN_FLAG_W,SILCAT,SILCAT_FLAG_W,NITRAT,NITRAT_FLAG_W,NITRIT,NITRIT_FLAG_W,PHSPHT,PHSPHT_FLAG_W,CFC-11,CFC-11_FLAG_W,CFC-12,CFC-12_FLAG_W,TRITUM,TRITUM_FLAG_W,HELIUM,HELIUM_FLAG_W,DELHE3,DELHE3_FLAG_W,DELC14,DELC14_FLAG_W,DELC13,DELC13_FLAG_W,TCARBN,TCARBN_FLAG_W,PCO2,PCO2_FLAG_W,ALKALI,ALKALI_FLAG_W,PCO2TMP,C14ERR,HELIER,DELHER,THETA,TRITER
,,,,,,,,,,,,DBAR,ITS-90,PSS-78,,PSS-78,,UMOL/KG,,UMOL/KG,,UMOL/KG,,UMOL/KG,,UMOL/KG,,UMOL/KG,,PMOL/KG,,PMOL/KG,,TU,,NMOL/KG,,PERCNT,,/MILLE,,/MILLE,,UMOL/KG,,UATM,,UMOL/KG,,DEG C,/MILLE,NMOL/KG,PERCNT,DEG C,TU
   31WTTUNES_2,  P17S,   175,  1,     61,     61,2,19910806,2135,-31.0200,-134.4783, 4218,      2.6,  16.9191,  35.1794,2,  35.1821,2,   -999.0,9,    240.7,2,     0.68,2,     0.10,2,     0.00,2,     0.13,2,    2.569,2,    1.342,2, -999.000,9,-999.0000,9,  -999.00,9,   -999.0,9,   -999.0,9,   2027.0,2,    354.3,2,   -999.0,9,   20.00,  -999.0,-999.0000,-999.000, 16.9187,-999.000
   31WTTUNES_2,  P17S,   175,  1,      2,      2,2,19910806,2135,-31.0200,-134.4783, 4218,     46.1,  16.6400,  35.1571,2,  35.1585,2,    238.9,2,    239.7,2,     0.68,2,     0.10,2,     0.00,2,     0.13,2,    2.505,6,    1.334,6,    0.824,2,   1.7630,2,    -1.15,2,   -999.0,9,   -999.0,9,   -999.0,9,   -999.0,9,   -999.0,9, -999.00,  -999.0,  0.0080,   0.150, 16.6326,   0.006
   31WTTUNES_2,  P17S,   175,  1,      3,      3,2,19910806,2135,-31.0200,-134.4783, 4218,     92.3,  16.5660,  35.1539,2,  35.1555,2,    241.6,2,    240.2,2,     0.68,2,     0.10,2,     0.00,2,     0.13,2,    2.588,2,    1.338,2,    0.869,2,   1.7610,2,    -1.05,2,   -999.0,9,   -999.0,9,   -999.0,9,   -999.0,9,   -999.0,9, -999.00,  -999.0,  0.0080,   0.150, 16.5511,   0.006
   31WTTUNES_2,  P17S,   175,  1,      4,      4,2,19910806,2135,-31.0200,-134.4783, 4218,    137.7,  16.3740,  35.1303,2,  35.1193,2,    239.0,2,    234.2,2,     0.68,2,     0.49,2,     0.04,2,     0.18,2,    2.531,2,    1.322,2,    0.803,2,   1.7560,2,    -1.01,2,   -999.0,9,   -999.0,9,   -999.0,9,   -999.0,9,   -999.0,9, -999.00,  -999.0,  0.0080,   0.150, 16.3518,   0.006
   31WTTUNES_2,  P17S,   175,  1,      5,      5,2,19910806,2135,-31.0200,-134.4783, 4218,    173.9,  15.0327,  35.0240,2,  35.0289,2,    223.4,2,    214.3,2,     0.68,2,     3.52,2,     0.01,2,     0.41,2,    2.265,2,    1.199,2,    0.676,2,   1.7770,2,     0.11,2,   -999.0,9,   -999.0,9,   -999.0,9,   -999.0,9,   -999.0,9, -999.00,  -999.0,  0.0080,   0.150, 15.0063,   0.006
   31WTTUNES_2,  P17S,   175,  1,      6,      6,2,19910806,2135,-31.0200,-134.4783, 4218,    218.4,  13.9585,  34.9961,2,  34.9927,2,    205.2,2,    204.8,2,     1.86,2,     6.94,2,     0.00,2,     0.61,2,    2.008,2,    1.041,2, -999.000,9,-999.0000,9,  -999.00,9,   -999.0,9,   -999.0,9,   -999.0,9,   -999.0,9,   -999.0,9, -999.00,  -999.0,-999.0000,-999.000, 13.9270,-999.000
   31WTTUNES_2,  P17S,   175,  1,      7,      7,2,19910806,2135,-31.0200,-134.4783, 4218,    282.6,  12.0943,  34.8170,2,  34.8159,2,    198.3,2,    201.9,2,     2.64,2,    11.43,2,     0.00,2,     0.88,2,    1.637,2,    0.861,2,    0.482,2,   1.7930,2,     0.53,2,   -999.0,9,   -999.0,9,   -999.0,9,   -999.0,9,   -999.0,9, -999.00,  -999.0,  0.0080,   0.150, 12.0572,   0.005
   31WTTUNES_2,  P17S,   175,  1,     68,     68,2,19910806,2135,-31.0200,-134.4783, 4218,    344.9,   9.9472,  34.6072,2,  34.6075,2,    208.9,2,    209.4,2,     4.01,2,    15.84,2,     0.00,2,     1.14,2,    1.538,2,    0.777,2,    0.366,2,   1.7870,2,     0.83,2,   -999.0,9,   -999.0,9,   -999.0,9,   -999.0,9,   -999.0,9, -999.00,  -999.0,  0.0080,   0.150,  9.9072,   0.004
   31WTTUNES_2,  P17S,   175,  1,     69,     69,2,19910806,2135,-31.0200,-134.4783, 4218,    394.2,   8.8373,  34.5140,2,  34.5146,2,    217.8,2,    218.1,2,     4.59,2,    17.99,2,     0.00,2,     1.28,2,    1.533,2,    0.788,2,    0.326,2,   1.8000,2,     0.68,2,   -999.0,9,   -999.0,9,   -999.0,9,   -999.0,9,   -999.0,9, -999.00,  -999.0,  0.0080,   0.150,  8.7947,   0.004
   31WTTUNES_2,  P17S,   175,  1,     70,     70,2,19910806,2135,-31.0200,-134.4783, 4218,    459.2,   7.6773,  34.4308,2,  34.4326,2,    234.6,2,    227.8,2,     6.16,2,    20.53,2,     0.00,2,     1.44,2,    1.302,2,    0.659,2,    0.260,2,   1.8090,2,     0.53,2,   -999.0,9,   -999.0,9,   -999.0,9,   -999.0,9,   -999.0,9, -999.00,  -999.0,  0.0090,   0.150,  7.6315,   0.004
   31WTTUNES_2,  P17S,   175,  1,     11,     11,2,19910806,2135,-31.0200,-134.4783, 4218,    534.0,   7.0474,  34.3966,2,  34.3986,2,    244.2,2,    244.5,2,     6.65,2,    21.02,2,     0.00,2,     1.46,2,    1.671,2,    0.852,2,    0.281,2,   1.8260,2,     0.28,2,   -999.0,9,   -999.0,9,   -999.0,9,   -999.0,9,   -999.0,9, -999.00,  -999.0,  0.0090,   0.150,  6.9964,   0.004
   31WTTUNES_2,  P17S,   175,  1,     12,     12,2,19910806,2135,-31.0200,-134.4783, 4218,    598.1,   6.6614,  34.3658,2,  34.3684,2,    245.6,2,    242.9,2,     8.11,2,    22.29,2,     0.00,2,     1.53,2,    1.124,2,    0.571,2,    0.214,2,   1.7910,2,     0.80,2,   -999.0,9,   -999.0,9,   -999.0,9,   -999.0,9,   -999.0,9, -999.00,  -999.0,  0.0080,   0.150,  6.6059,   0.004
   31WTTUNES_2,  P17S,   175,  1,     13,     13,2,19910806,2135,-31.0200,-134.4783, 4218,    663.5,   6.3024,  34.3399,2,  34.3403,2,    241.2,2,    243.8,2,     9.48,2,    23.27,2,     0.00,2,     1.61,2,    0.911,2,    0.460,2,    0.181,2,   1.8030,2,     0.74,2,   -999.0,9,   -999.0,9,   -999.0,9,   -999.0,9,   -999.0,9, -999.00,  -999.0,  0.0080,   0.150,  6.2423,   0.003
   31WTTUNES_2,  P17S,   175,  1,     37,     37,2,19910806,2135,-31.0200,-134.4783, 4218,    739.7,   5.9325,  34.3172,2,  34.3188,2,    239.6,2,    240.1,2,    11.24,2,    24.54,2,     0.00,2,     1.69,2,    0.661,2,    0.343,2,    0.141,2,   1.7890,2,     0.83,2,   -999.0,9,   -999.0,9,   -999.0,9,   -999.0,9,   -999.0,9, -999.00,  -999.0,  0.0080,   0.150,  5.8672,   0.003
   31WTTUNES_2,  P17S,   175,  1,     15,     15,2,19910806,2135,-31.0200,-134.4783, 4218,    818.7,   5.5315,  34.3025,2,  34.3025,2,    231.5,2,    231.9,2,    14.96,2,    26.10,2,     0.00,2,     1.81,2,    0.410,2,    0.222,2,    0.097,2,   1.7920,2,     1.02,2,   -999.0,9,   -999.0,9,   -999.0,9,   -999.0,9,   -999.0,9, -999.00,  -999.0,  0.0080,   0.150,  5.4613,   0.002
   31WTTUNES_2,  P17S,   175,  1,     16,     16,2,19910806,2135,-31.0200,-134.4783, 4218,    898.9,   5.0906,  34.2989,2,  34.2995,2,    218.5,2,    219.5,2,    20.43,2,    28.16,2,     0.00,2,     1.94,2,    0.223,2,    0.125,2,    0.054,2,   1.8060,2,     1.54,2,   -999.0,9,   -999.0,9,   -999.0,9,   -999.0,9,   -999.0,9, -999.00,  -999.0,  0.0080,   0.150,  5.0160,   0.002
   31WTTUNES_2,  P17S,   175,  1,     17,     17,2,19910806,2135,-31.0200,-134.4783, 4218,    978.5,   4.6466,  34.3106,2,  34.3123,2,    202.0,2,    206.1,2,    27.77,2,    30.01,2,     0.00,2,     2.07,2, -999.000,9, -999.000,9,    0.032,2,   1.8440,2,     2.38,2,   -999.0,9,   -999.0,9,   -999.0,9,   -999.0,9,   -999.0,9, -999.00,  -999.0,  0.0090,   0.150,  4.5682,   0.002
   31WTTUNES_2,  P17S,   175,  1,     18,     18,2,19910806,2135,-31.0200,-134.4783, 4218,   1058.7,   4.1037,  34.3455,2,  34.3468,2,    192.2,2,    190.8,2,    39.01,2,    32.07,2,     0.00,2,     2.22,2,    0.043,2,    0.030,2,    0.013,2,-999.0000,9,  -999.00,9,   -999.0,9,   -999.0,9,   -999.0,9,   -999.0,9,   -999.0,9, -999.00,  -999.0,-999.0000,-999.000,  4.0226,   0.001
   31WTTUNES_2,  P17S,   175,  1,     19,     19,2,19910806,2135,-31.0200,-134.4783, 4218,   1158.7,   3.6968,  34.3821,2,  34.3839,2,    181.1,2,    181.2,2,    48.88,2,    33.24,2,     0.00,2,     2.32,2,    0.020,2,    0.016,2, -999.000,9,-999.0000,9,  -999.00,9,   -999.0,9,   -999.0,9,   -999.0,9,   -999.0,9,   -999.0,9, -999.00,  -999.0,-999.0000,-999.000,  3.6107,-999.000
   31WTTUNES_2,  P17S,   175,  1,     20,     20,2,19910806,2135,-31.0200,-134.4783, 4218,   1257.5,   3.3599,  34.4253,2,  34.4263,2,    174.8,2,    174.2,2,    58.56,2,    33.83,2,     0.00,2,     2.37,2, -999.000,9, -999.000,9, -999.000,9,-999.0000,9,  -999.00,9,   -999.0,9,   -999.0,9,   -999.0,9,   -999.0,9,   -999.0,9, -999.00,  -999.0,-999.0000,-999.000,  3.2687,-999.000
   31WTTUNES_2,  P17S,   175,  1,     21,     21,2,19910806,2135,-31.0200,-134.4783, 4218,   1357.5,   3.0320,  34.4763,2,  34.4775,2,    169.5,2,    168.3,2,    69.90,2,    34.21,2,     0.00,2,     2.40,2, -999.000,9, -999.000,9, -999.000,9,-999.0000,9,  -999.00,9,   -999.0,9,   -999.0,9,   -999.0,9,   -999.0,9,   -999.0,9, -999.00,  -999.0,-999.0000,-999.000,  2.9357,-999.000
   31WTTUNES_2,  P17S,   175,  1,     22,     22,2,19910806,2135,-31.0200,-134.4783, 4218,   1457.6,   2.7800,  34.5231,2,  34.5215,2,    163.8,2,    163.6,2,    81.04,2,    34.60,2,     0.00,2,     2.42,2,    0.001,2,    0.000,2, -999.000,9,-999.0000,9,  -999.00,9,   -999.0,9,   -999.0,9,   -999.0,9,   -999.0,9,   -999.0,9, -999.00,  -999.0,-999.0000,-999.000,  2.6783,-999.000
   31WTTUNES_2,  P17S,   175,  1,     24,     24,2,19910806,2135,-31.0200,-134.4783, 4218,   1609.4,   2.5331,  34.5667,2,  34.5659,2,    160.3,2,    159.5,2,    93.64,2,    34.80,2,     0.00,2,     2.45,2, -999.000,9, -999.000,9, -999.000,9,-999.0000,9,  -999.00,9,   -999.0,9,   -999.0,9,   -999.0,9,   -999.0,9,   -999.0,9, -999.00,  -999.0,-999.0000,-999.000,  2.4218,-999.000
   31WTTUNES_2,  P17S,   175,  1,     25,     25,2,19910806,2135,-31.0200,-134.4783, 4218,   1761.2,   2.3431,  34.5966,2,  34.5967,2,    156.4,2,    156.4,2,   103.32,2,    34.99,2,     0.00,2,     2.46,2, -999.000,9, -999.000,9, -999.000,9,-999.0000,9,  -999.00,9,   -999.0,9,   -999.0,9,   -999.0,9,   -999.0,9,   -999.0,9, -999.00,  -999.0,-999.0000,-999.000,  2.2217,-999.000
   31WTTUNES_2,  P17S,   175,  1,     26,     26,2,19910806,2135,-31.0200,-134.4783, 4218,   1915.0,   2.1881,  34.6181,2,  34.6179,2,    154.8,2,    154.7,2,   110.94,2,    35.19,2,     0.00,2,     2.48,2, -999.000,9, -999.000,9, -999.000,9,-999.0000,9,  -999.00,9,   -999.0,9,   -999.0,9,   -999.0,9,   -999.0,9,   -999.0,9, -999.00,  -999.0,-999.0000,-999.000,  2.0561,-999.000
   31WTTUNES_2,  P17S,   175,  1,     27,     27,2,19910806,2135,-31.0200,-134.4783, 4218,   2070.0,   2.0662,  34.6340,2,  34.6337,2,    153.0,2,    153.4,2,   117.29,2,    35.38,2,     0.00,2,     2.49,2, -999.000,9, -999.000,9, -999.000,9,-999.0000,9,  -999.00,9,   -999.0,9,   -999.0,9,   -999.0,9,   -999.0,9,   -999.0,9, -999.00,  -999.0,-999.0000,-999.000,  1.9228,-999.000
   31WTTUNES_2,  P17S,   175,  1,     28,     28,3,19910806,2135,-31.0200,-134.4783, 4218,   2278.7,   1.9612,  34.6445,2,  34.6453,2,    155.0,2,    156.2,4,   122.18,2,    35.38,2,     0.00,2,     2.49,2, -999.000,9, -999.000,9, -999.000,9,-999.0000,9,  -999.00,9,   -999.0,9,   -999.0,9,   -999.0,9,   -999.0,9,   -999.0,9, -999.00,  -999.0,-999.0000,-999.000,  1.8014,-999.000
   31WTTUNES_2,  P17S,   175,  1,     29,     29,2,19910806,2135,-31.0200,-134.4783, 4218,   2490.1,   1.8492,  34.6565,2,  34.6561,2,    156.7,2,    155.3,2,   125.41,2,    35.19,2,     0.00,2,     2.47,2, -999.000,9, -999.000,9, -999.000,9,-999.0000,9,  -999.00,9,   -999.0,9,   -999.0,9,   -999.0,9,   -999.0,9,   -999.0,9, -999.00,  -999.0,-999.0000,-999.000,  1.6726,-999.000
   31WTTUNES_2,  P17S,   175,  1,     30,     30,2,19910806,2135,-31.0200,-134.4783, 4218,   2701.3,   1.7543,  34.6642,2,  34.6643,2,    158.0,2,    159.0,2,   126.28,2,    34.80,2,     0.00,2,     2.45,2, -999.000,9, -999.000,9, -999.000,9,-999.0000,9,  -999.00,9,   -999.0,9,   -999.0,9,   -999.0,9,   -999.0,9,   -999.0,9, -999.00,  -999.0,-999.0000,-999.000,  1.5602,-999.000
   31WTTUNES_2,  P17S,   175,  1,     31,     31,2,19910806,2135,-31.0200,-134.4783, 4218,   2911.9,   1.6873,  34.6708,2,  34.6702,2,    163.7,2,    163.0,2,   126.87,2,    34.80,2,     0.00,2,     2.44,2, -999.000,9, -999.000,9, -999.000,9,-999.0000,9,  -999.00,9,   -999.0,9,   -999.0,9,   -999.0,9,   -999.0,9,   -999.0,9, -999.00,  -999.0,-999.0000,-999.000,  1.4748,-999.000
   31WTTUNES_2,  P17S,   175,  1,     32,     32,2,19910806,2135,-31.0200,-134.4783, 4218,   3179.3,   1.6273,  34.6764,2,  34.6755,2,    167.3,2,    167.2,2,   127.07,2,    34.50,2,     0.00,2,     2.41,2, -999.000,9, -999.000,9, -999.000,9,-999.0000,9,  -999.00,9,   -999.0,9,   -999.0,9,   -999.0,9,   -999.0,9,   -999.0,9, -999.00,  -999.0,-999.0000,-999.000,  1.3903,-999.000
   31WTTUNES_2,  P17S,   175,  1,     33,     33,2,19910806,2135,-31.0200,-134.4783, 4218,   3447.7,   1.5773,  34.6819,2,  34.6818,2,    171.4,2,    171.6,2,   125.99,2,    34.11,2,     0.00,2,     2.39,2, -999.000,9, -999.000,9, -999.000,9,-999.0000,9,  -999.00,9,   -999.0,9,   -999.0,9,   -999.0,9,   -999.0,9,   -999.0,9, -999.00,  -999.0,-999.0000,-999.000,  1.3146,-999.000
   31WTTUNES_2,  P17S,   175,  1,     34,     34,2,19910806,2135,-31.0200,-134.4783, 4218,   3720.2,   1.5263,  34.6867,2,  34.6871,2,    175.8,2,    176.3,2,   125.11,2,    33.72,2,     0.00,2,     2.36,2, -999.000,9, -999.000,9, -999.000,9,-999.0000,9,  -999.00,9,   -999.0,9,   -999.0,9,   -999.0,9,   -999.0,9,   -999.0,9, -999.00,  -999.0,-999.0000,-999.000,  1.2366,-999.000
   31WTTUNES_2,  P17S,   175,  1,     35,     35,2,19910806,2135,-31.0200,-134.4783, 4218,   3990.8,   1.4853,  34.6915,2,  34.6916,2,    181.0,2,    180.5,2,   124.33,2,    33.53,2,     0.00,2,     2.35,2, -999.000,9, -999.000,9, -999.000,9,-999.0000,9,  -999.00,9,   -999.0,9,   -999.0,9,   -999.0,9,   -999.0,9,   -999.0,9, -999.00,  -999.0,-999.0000,-999.000,  1.1678,-999.000
   31WTTUNES_2,  P17S,   175,  1,     38,     38,2,19910806,2135,-31.0200,-134.4783, 4218,   4253.2,   1.4253,  34.6965,2,  34.6979,2,    185.7,2,    185.1,2,   123.45,2,    33.23,2,     0.00,2,     2.32,2, -999.000,9, -999.000,9, -999.000,9,-999.0000,9,  -999.00,9,   -999.0,9,   -999.0,9,   -999.0,9,   -999.0,9,   -999.0,9, -999.00,  -999.0,-999.0000,-999.000,  1.0806,-999.000