BOTTLE,20131125MIRCJHATS
EXPOCODE,SECT_ID,STNNBR,CASTNO,SAMPNO,BTLNBR,BTLNBR_FLAG_W,DATE,TIME,LATITUDE,LONGITUDE,DEPTH,CTDPRS,CTDTMP,CTDSAL,CTDSAL_FLAG_W,SALNTY,SALNTY_FLAG_W,CTDOXY,CTDOXY_FLAG_W,OXYGEN,OXYGEN_FLAG_W,SILCAT,SILCAT_FLAG_W,NITRAT,NITRAT_FLAG_W,NITRIT,NITRIT_FLAG_W,PHSPHT,PHSPHT_FLAG_W,CFC-11,CFC-11_FLAG_W,CFC-12,CFC-12_FLAG_W,TRITUM,TRITUM_FLAG_W,HELIUM,HELIUM_FLAG_W,DELHE3,DELHE3_FLAG_W,DELC14,DELC14_FLAG_W,DELC13,DELC13_FLAG_W,TCARBN,TCARBN_FLAG_W,PCO2,PCO2_FLAG_W,ALKALI,ALKALI_FLAG_W,PCO2TMP,C14ERR,HELIER,DELHER,THETA,TRITER
,,,,,,,,,,,,DBAR,ITS-90,PSS-78,,PSS-78,,UMOL/KG,,UMOL/KG,,UMOL/KG,,UMOL/KG,,UMOL/KG,,UMOL/KG,,PMOL/KG,,PMOL/KG,,TU,,NMOL/KG,,PERCNT,,/MILLE,,/MILLE,,UMOL/KG,,UATM,,UMOL/KG,,DEG C,/MILLE,NMOL/KG,PERCNT,DEG C,TU
   31WTTUNES_2,  P17S,   136,  1,      1,      1,3,19910725,2042,-11.9833,-134.6033, 4145,      0.2,  26.8427,  35.6134,2,  35.7454,2,   -999.0,9,    214.0,2,     1.38,2,     1.85,2,     0.03,2,     0.36,2,    1.644,2,    0.924,2, -999.000,9,-999.0000,9,  -999.00,9,   -999.0,9,   -999.0,9,   1991.4,2,   -999.0,5,   -999.0,9, -999.00,  -999.0,-999.0000,-999.000, 26.8427,-999.000
   31WTTUNES_2,  P17S,   136,  1,      2,      2,2,19910725,2042,-11.9833,-134.6033, 4145,     38.2,  27.1378,  36.2102,2,  36.2216,2,    216.5,6,    213.0,2,     1.36,2,     1.85,2,     0.03,2,     0.36,2, -999.000,9, -999.000,9, -999.000,9,-999.0000,9,  -999.00,9,   -999.0,9,   -999.0,9,   -999.0,9,   -999.0,9,   -999.0,9, -999.00,  -999.0,-999.0000,-999.000, 27.1290,-999.000
   31WTTUNES_2,  P17S,   136,  1,      3,      3,2,19910725,2042,-11.9833,-134.6033, 4145,     73.2,  27.0758,  36.2614,2,  36.2731,2,    200.9,2,    210.9,2,     1.34,2,     1.60,2,     0.02,2,     0.36,2,    1.637,2,    0.928,2, -999.000,9,-999.0000,9,  -999.00,9,   -999.0,9,   -999.0,9,   -999.0,9,   -999.0,9,   -999.0,9, -999.00,  -999.0,-999.0000,-999.000, 27.0589,-999.000
   31WTTUNES_2,  P17S,   136,  1,      4,      4,2,19910725,2042,-11.9833,-134.6033, 4145,    104.0,  27.0118,  36.2873,2,  36.2780,2,    185.2,2,    212.9,2,     1.32,2,     1.48,2,     0.03,2,     0.39,2, -999.000,9, -999.000,9, -999.000,9,-999.0000,9,  -999.00,9,   -999.0,9,   -999.0,9,   -999.0,9,   -999.0,9,   -999.0,9, -999.00,  -999.0,-999.0000,-999.000, 26.9878,-999.000
   31WTTUNES_2,  P17S,   136,  1,      5,      5,2,19910725,2042,-11.9833,-134.6033, 4145,    145.1,  23.7081,  36.1364,2,  36.1279,2,    176.6,6,    183.5,2,     2.45,2,     2.02,2,     2.86,2,     0.60,2,    1.846,2,    1.035,2, -999.000,9,-999.0000,9,  -999.00,9,   -999.0,9,   -999.0,9,   -999.0,9,   -999.0,9,   -999.0,9, -999.00,  -999.0,-999.0000,-999.000, 23.6776,-999.000
   31WTTUNES_2,  P17S,   136,  1,      6,      6,3,19910725,2042,-11.9833,-134.6033, 4145,    195.9,  19.1597,  35.6128,2,  34.9869,4,    163.2,6,    119.2,4,    37.44,4,    23.37,4,     0.01,4,     1.80,4,    0.620,4,    0.328,4, -999.000,9,-999.0000,9,  -999.00,9,   -999.0,9,   -999.0,9,   -999.0,9,   -999.0,9,   -999.0,9, -999.00,  -999.0,-999.0000,-999.000, 19.1244,-999.000
   31WTTUNES_2,  P17S,   136,  1,      7,      7,2,19910725,2042,-11.9833,-134.6033, 4145,    246.7,  15.1471,  35.0475,2,  35.0487,2,    124.8,2,    124.8,2,     6.65,2,    13.66,2,     0.00,2,     1.29,2,    1.440,2,    0.765,2, -999.000,9,-999.0000,9,  -999.00,9,   -999.0,9,   -999.0,9,   -999.0,9,   -999.0,9,   -999.0,9, -999.00,  -999.0,-999.0000,-999.000, 15.1094,-999.000
   31WTTUNES_2,  P17S,   136,  1,      8,      8,2,19910725,2042,-11.9833,-134.6033, 4145,    287.4,  12.1728,  34.7091,2,  34.7129,2,     87.5,2,     86.5,2,    12.78,2,    20.67,2,     0.00,2,     1.88,2,    0.802,2,    0.428,2, -999.000,9,-999.0000,9,  -999.00,9,   -999.0,9,   -999.0,9,   -999.0,9,   -999.0,9,   -999.0,9, -999.00,  -999.0,-999.0000,-999.000, 12.1349,-999.000
   31WTTUNES_2,  P17S,   136,  1,      9,      9,2,19910725,2042,-11.9833,-134.6033, 4145,    328.1,  10.4883,  34.6120,2,  34.6112,2,     51.1,2,     49.9,2,    20.26,2,    27.90,2,     0.00,2,     2.39,2,    0.288,2,    0.163,2, -999.000,9,-999.0000,9,  -999.00,9,   -999.0,9,   -999.0,9,   -999.0,9,   -999.0,9,   -999.0,9, -999.00,  -999.0,-999.0000,-999.000, 10.4490,-999.000
   31WTTUNES_2,  P17S,   136,  1,     10,     10,2,19910725,2042,-11.9833,-134.6033, 4145,    367.9,   9.8995,  34.6057,2,  34.6065,2,     45.0,2,     45.2,2,    23.89,2,    30.32,2,     0.00,2,     2.49,2, -999.000,9, -999.000,9, -999.000,9,-999.0000,9,  -999.00,9,   -999.0,9,   -999.0,9,   -999.0,9,   -999.0,9,   -999.0,9, -999.00,  -999.0,-999.0000,-999.000,  9.8569,-999.000
   31WTTUNES_2,  P17S,   136,  1,     11,     11,2,19910725,2042,-11.9833,-134.6033, 4145,    428.8,   8.7779,  34.6319,2,  34.6342,2,     68.1,2,     68.0,2,    29.06,2,    32.86,2,     0.00,2,     2.41,2,    0.037,2,    0.030,2, -999.000,9,-999.0000,9,  -999.00,9,   -999.0,9,   -999.0,9,   -999.0,9,   -999.0,9,   -999.0,9, -999.00,  -999.0,-999.0000,-999.000,  8.7317,-999.000
   31WTTUNES_2,  P17S,   136,  1,     12,     12,2,19910725,2042,-11.9833,-134.6033, 4145,    490.0,   8.0723,  34.6063,2,  34.5994,2,     79.3,2,     80.4,2,    32.12,2,    33.69,2,     0.00,2,     2.41,2, -999.000,9, -999.000,9, -999.000,9,-999.0000,9,  -999.00,9,   -999.0,9,   -999.0,9,   -999.0,9,   -999.0,9,   -999.0,9, -999.00,  -999.0,-999.0000,-999.000,  8.0217,-999.000
   31WTTUNES_2,  P17S,   136,  1,     13,     13,2,19910725,2042,-11.9833,-134.6033, 4145,    549.3,   7.4645,  34.5803,2,  34.5819,2,     77.4,2,     78.0,2,    36.71,2,    35.52,2,     0.00,2,     2.51,2, -999.000,5, -999.000,5, -999.000,9,-999.0000,9,  -999.00,9,   -999.0,9,   -999.0,9,   -999.0,9,   -999.0,9,   -999.0,9, -999.00,  -999.0,-999.0000,-999.000,  7.4102,-999.000
   31WTTUNES_2,  P17S,   136,  1,     37,     37,2,19910725,2042,-11.9833,-134.6033, 4145,    609.1,   6.9038,  34.5578,2,  34.5576,2,     74.8,2,     75.4,2,    41.31,2,    37.09,2,     0.00,2,     2.62,2, -999.000,9, -999.000,9, -999.000,9,-999.0000,9,  -999.00,9,   -999.0,9,   -999.0,9,   -999.0,9,   -999.0,9,   -999.0,9, -999.00,  -999.0,-999.0000,-999.000,  6.8459,-999.000
   31WTTUNES_2,  P17S,   136,  1,     15,     15,2,19910725,2042,-11.9833,-134.6033, 4145,    706.6,   6.1942,  34.5375,2,  34.5374,2,     70.2,2,     71.1,2,    49.18,2,    39.10,2,     0.00,2,     2.76,2,    0.001,2,   -0.002,2, -999.000,9,-999.0000,9,  -999.00,9,   -999.0,9,   -999.0,9,   -999.0,9,   -999.0,9,   -999.0,9, -999.00,  -999.0,-999.0000,-999.000,  6.1303,-999.000
   31WTTUNES_2,  P17S,   136,  1,     16,     16,2,19910725,2042,-11.9833,-134.6033, 4145,    805.0,   5.5075,  34.5163,2,  34.5195,2,     81.8,2,     82.6,2,    56.68,2,    39.20,2,     0.00,2,     2.79,2, -999.000,9, -999.000,9, -999.000,9,-999.0000,9,  -999.00,9,   -999.0,9,   -999.0,9,   -999.0,9,   -999.0,9,   -999.0,9, -999.00,  -999.0,-999.0000,-999.000,  5.4385,-999.000
   31WTTUNES_2,  P17S,   136,  1,     17,     17,2,19910725,2042,-11.9833,-134.6033, 4145,    904.0,   4.9398,  34.5225,2,  34.5221,2,     75.8,2,     76.6,2,    67.09,2,    40.80,2,     0.00,2,     2.92,2, -999.000,9, -999.000,9, -999.000,9,-999.0000,9,  -999.00,9,   -999.0,9,   -999.0,9,   -999.0,9,   -999.0,9,   -999.0,9, -999.00,  -999.0,-999.0000,-999.000,  4.8655,-999.000
   31WTTUNES_2,  P17S,   136,  1,     18,     18,2,19910725,2042,-11.9833,-134.6033, 4145,   1003.4,   4.4541,  34.5303,2,  34.5349,2,     83.5,2,     83.3,2,    76.76,2,    40.53,2,     0.00,2,     2.88,2, -999.000,9, -999.000,9, -999.000,9,   1.8640,2,    16.58,2,   -999.0,9,   -999.0,9,   -999.0,9,   -999.0,9,   -999.0,9, -999.00,  -999.0,-999.0000,-999.000,  4.3746,-999.000
   31WTTUNES_2,  P17S,   136,  1,     19,     19,2,19910725,2042,-11.9833,-134.6033, 4145,   1104.8,   4.0813,  34.5419,2,  34.5433,2,     98.4,2,     97.7,2,    83.93,2,    38.88,2,     0.00,2,     2.85,2, -999.000,9, -999.000,9, -999.000,9,   1.8820,2,    18.48,2,   -999.0,9,   -999.0,9,   -999.0,9,   -999.0,9,   -999.0,9, -999.00,  -999.0,-999.0000,-999.000,  3.9961,-999.000
   31WTTUNES_2,  P17S,   136,  1,     20,     20,2,19910725,2042,-11.9833,-134.6033, 4145,   1205.3,   3.7975,  34.5532,2,  34.5520,2,    100.4,2,    100.6,2,    89.95,2,    38.88,2,     0.00,2,     2.79,2, -999.000,9, -999.000,9, -999.000,9,   1.8840,2,    20.21,2,   -999.0,9,   -999.0,9,   -999.0,9,   -999.0,9,   -999.0,9, -999.00,  -999.0,-999.0000,-999.000,  3.7062,-999.000
   31WTTUNES_2,  P17S,   136,  1,     21,     21,2,19910725,2042,-11.9833,-134.6033, 4145,   1306.9,   3.5267,  34.5638,2,  34.5636,2,    100.9,2,    100.5,2,    96.39,2,    39.14,2,     0.00,2,     2.81,2, -999.000,9, -999.000,9, -999.000,9,   1.8890,2,    21.70,2,   -999.0,9,   -999.0,9,   -999.0,9,   -999.0,9,   -999.0,9, -999.00,  -999.0,-999.0000,-999.000,  3.4294,-999.000
   31WTTUNES_2,  P17S,   136,  1,     22,     22,2,19910725,2042,-11.9833,-134.6033, 4145,   1508.1,   3.0510,  34.5869,2,  34.5868,2,    110.8,2,    110.0,2,   107.40,2,    38.40,2,     0.00,2,     2.76,2, -999.000,9, -999.000,9, -999.000,9,   1.8700,2,    23.69,2,   -999.0,9,   -999.0,9,   -999.0,9,   -999.0,9,   -999.0,9, -999.00,  -999.0,-999.0000,-999.000,  2.9418,-999.000
   31WTTUNES_2,  P17S,   136,  1,     23,     23,2,19910725,2042,-11.9833,-134.6033, 4145,   1710.0,   2.6562,  34.6059,2,  34.5984,3,    125.9,2,    125.2,2,   113.72,2,    37.24,2,     0.00,2,     2.66,2, -999.000,9, -999.000,9, -999.000,9,   1.9120,2,    25.38,2,   -999.0,9,   -999.0,9,   -999.0,9,   -999.0,9,   -999.0,9, -999.00,  -999.0,-999.0000,-999.000,  2.5349,-999.000
   31WTTUNES_2,  P17S,   136,  1,     24,     24,2,19910725,2042,-11.9833,-134.6033, 4145,   1912.0,   2.3324,  34.6244,2,  34.6253,2,    135.0,2,    134.4,2,   118.67,2,    36.71,2,     0.00,2,     2.61,2, -999.000,9, -999.000,9, -999.000,9,   1.9350,2,    28.23,2,   -999.0,9,   -999.0,9,   -999.0,9,   -999.0,9,   -999.0,9, -999.00,  -999.0,-999.0000,-999.000,  2.1985,-999.000
   31WTTUNES_2,  P17S,   136,  1,     25,     25,2,19910725,2042,-11.9833,-134.6033, 4145,   2113.8,   2.0556,  34.6487,2,  34.6479,2,    140.4,2,    139.8,2,   126.46,2,    36.34,2,     0.00,2,     2.57,2, -999.000,9, -999.000,9, -999.000,9,   1.9460,2,    32.26,2,   -999.0,9,   -999.0,9,   -999.0,9,   -999.0,9,   -999.0,9, -999.00,  -999.0,-999.0000,-999.000,  1.9086,-999.000
   31WTTUNES_2,  P17S,   136,  1,     26,     26,2,19910725,2042,-11.9833,-134.6033, 4145,   2312.7,   1.9287,  34.6582,2,  34.6599,2,    142.5,2,    141.1,2,   131.68,2,    36.24,2,     0.00,2,     2.55,2, -999.000,9, -999.000,9, -999.000,9,   1.9580,2,    35.37,2,   -999.0,9,   -999.0,9,   -999.0,9,   -999.0,9,   -999.0,9, -999.00,  -999.0,-999.0000,-999.000,  1.7665,-999.000
   31WTTUNES_2,  P17S,   136,  1,     27,     27,2,19910725,2042,-11.9833,-134.6033, 4145,   2510.1,   1.8628,  34.6695,2,  34.6672,2,    143.7,2,    143.3,2,   133.88,2,    36.02,2,     0.00,2,     2.53,2, -999.000,9, -999.000,9, -999.000,9,   1.9620,2,    36.80,2,   -999.0,9,   -999.0,9,   -999.0,9,   -999.0,9,   -999.0,9, -999.00,  -999.0,-999.0000,-999.000,  1.6840,-999.000
   31WTTUNES_2,  P17S,   136,  1,     28,     28,2,19910725,2042,-11.9833,-134.6033, 4145,   2711.0,   1.8038,  34.6731,2,  34.6721,2,    145.8,2,    146.0,2,   136.49,2,    35.76,2,     0.00,2,     2.51,2, -999.000,9, -999.000,9, -999.000,9,   1.9590,2,    35.05,2,   -999.0,9,   -999.0,9,   -999.0,9,   -999.0,9,   -999.0,9, -999.00,  -999.0,-999.0000,-999.000,  1.6078,-999.000
   31WTTUNES_2,  P17S,   136,  1,     29,     29,2,19910725,2042,-11.9833,-134.6033, 4145,   2910.9,   1.7468,  34.6727,2,  34.6754,2,    149.8,2,    149.9,2,   136.05,2,    35.66,2,     0.00,2,     2.50,2, -999.000,9, -999.000,9, -999.000,9,   1.9560,2,    31.36,2,   -999.0,9,   -999.0,9,   -999.0,9,   -999.0,9,   -999.0,9, -999.00,  -999.0,-999.0000,-999.000,  1.5332,-999.000
   31WTTUNES_2,  P17S,   136,  1,     30,     30,2,19910725,2042,-11.9833,-134.6033, 4145,   3111.2,   1.6719,  34.6798,2,  34.6807,2,    155.4,2,    156.3,2,   136.01,2,    35.34,2,     0.00,2,     2.48,2, -999.000,9, -999.000,9, -999.000,9,   1.9400,2,    27.20,2,   -999.0,9,   -999.0,9,   -999.0,9,   -999.0,9,   -999.0,9, -999.00,  -999.0,-999.0000,-999.000,  1.4405,-999.000
   31WTTUNES_2,  P17S,   136,  1,     31,     31,2,19910725,2042,-11.9833,-134.6033, 4145,   3314.9,   1.6189,  34.6809,2,  34.6831,2,    158.3,2,    159.3,2,   136.18,2,    35.18,2,     0.00,2,     2.46,2, -999.000,9, -999.000,9, -999.000,9,   1.9340,2,    24.94,2,   -999.0,9,   -999.0,9,   -999.0,9,   -999.0,9,   -999.0,9, -999.00,  -999.0,-999.0000,-999.000,  1.3686,-999.000
   31WTTUNES_2,  P17S,   136,  1,     32,     32,2,19910725,2042,-11.9833,-134.6033, 4145,   3516.8,   1.5859,  34.6842,2,  34.6841,2,    161.0,2,    162.0,2,   135.74,2,    34.97,2,     0.00,2,     2.44,2, -999.000,9, -999.000,9, -999.000,9,   1.9270,2,    23.76,2,   -999.0,9,   -999.0,9,   -999.0,9,   -999.0,9,   -999.0,9, -999.00,  -999.0,-999.0000,-999.000,  1.3159,-999.000
   31WTTUNES_2,  P17S,   136,  1,     33,     33,2,19910725,2042,-11.9833,-134.6033, 4145,   3721.6,   1.5520,  34.6863,2,  34.6861,2,    163.7,2,    164.9,2,   134.69,2,    34.76,2,     0.00,2,     2.43,2, -999.000,9, -999.000,9, -999.000,9,   1.9250,2,    21.63,2,   -999.0,9,   -999.0,9,   -999.0,9,   -999.0,9,   -999.0,9, -999.00,  -999.0,-999.0000,-999.000,  1.2615,-999.000
   31WTTUNES_2,  P17S,   136,  1,     34,     34,2,19910725,2042,-11.9833,-134.6033, 4145,   3928.7,   1.5310,  34.6880,2,  34.6892,2,    166.7,2,    167.6,2,   133.64,2,    34.50,2,     0.00,2,     2.41,2, -999.000,9, -999.000,9, -999.000,9,   1.9210,2,    20.59,2,   -999.0,9,   -999.0,9,   -999.0,9,   -999.0,9,   -999.0,9, -999.00,  -999.0,-999.0000,-999.000,  1.2189,-999.000
   31WTTUNES_2,  P17S,   136,  1,     35,     35,2,19910725,2042,-11.9833,-134.6033, 4145,   4061.3,   1.5210,  34.6896,2,  34.6896,2,    167.7,2,    169.9,2,   133.40,2,    34.34,2,     0.00,2,     2.40,2, -999.000,9, -999.000,9, -999.000,9,   1.9180,2,    20.05,2,   -999.0,9,   -999.0,9,   -999.0,9,   -999.0,9,   -999.0,9, -999.00,  -999.0,-999.0000,-999.000,  1.1948,-999.000
   31WTTUNES_2,  P17S,   136,  1,     36,     36,2,19910725,2042,-11.9833,-134.6033, 4145,   4212.1,   1.5270,  34.6838,3,  34.6906,2,    170.2,2,    170.7,2,   132.35,2,    34.29,2,     0.00,2,     2.40,2, -999.000,9, -999.000,9, -999.000,9,   1.9250,2,    20.00,2,   -999.0,9,   -999.0,9,   -999.0,9,   -999.0,9,   -999.0,9, -999.00,  -999.0,-999.0000,-999.000,  1.1839,-999.000