BOTTLE,20131125MIRCJHATS
EXPOCODE,SECT_ID,STNNBR,CASTNO,SAMPNO,BTLNBR,BTLNBR_FLAG_W,DATE,TIME,LATITUDE,LONGITUDE,DEPTH,CTDPRS,CTDTMP,CTDSAL,CTDSAL_FLAG_W,SALNTY,SALNTY_FLAG_W,CTDOXY,CTDOXY_FLAG_W,OXYGEN,OXYGEN_FLAG_W,SILCAT,SILCAT_FLAG_W,NITRAT,NITRAT_FLAG_W,NITRIT,NITRIT_FLAG_W,PHSPHT,PHSPHT_FLAG_W,CFC-11,CFC-11_FLAG_W,CFC-12,CFC-12_FLAG_W,TRITUM,TRITUM_FLAG_W,HELIUM,HELIUM_FLAG_W,DELHE3,DELHE3_FLAG_W,DELC14,DELC14_FLAG_W,DELC13,DELC13_FLAG_W,TCARBN,TCARBN_FLAG_W,PCO2,PCO2_FLAG_W,ALKALI,ALKALI_FLAG_W,PCO2TMP,C14ERR,HELIER,DELHER,THETA,TRITER
,,,,,,,,,,,,DBAR,ITS-90,PSS-78,,PSS-78,,UMOL/KG,,UMOL/KG,,UMOL/KG,,UMOL/KG,,UMOL/KG,,UMOL/KG,,PMOL/KG,,PMOL/KG,,TU,,NMOL/KG,,PERCNT,,/MILLE,,/MILLE,,UMOL/KG,,UATM,,UMOL/KG,,DEG C,/MILLE,NMOL/KG,PERCNT,DEG C,TU
   31WTTUNES_2,  P16S,   196,  1,     61,     61,2,19910818,0449,-29.5100,-150.5100, 4604,      2.7,  18.7337,  35.5668,2,  35.5725,2,    231.0,3,    230.4,2,     1.17,2,     0.10,2,     0.00,2,     0.07,2,    2.223,2,    1.225,2, -999.000,9,-999.0000,9,  -999.00,9,   -999.0,9,   -999.0,9,   2018.7,2,    312.2,2,   -999.0,9,   20.00,  -999.0,-999.0000,-999.000, 18.7332,-999.000
   31WTTUNES_2,  P16S,   196,  1,      2,      2,2,19910818,0449,-29.5100,-150.5100, 4604,     32.8,  18.7297,  35.5649,2,  35.5709,2,    234.2,2,    230.4,2,     1.17,2,     0.00,2,     0.00,2,     0.07,2,    2.202,2,    1.219,2, -999.000,9,-999.0000,9,  -999.00,9,   -999.0,9,   -999.0,9,   -999.0,9,   -999.0,9,   -999.0,9, -999.00,  -999.0,-999.0000,-999.000, 18.7239,-999.000
   31WTTUNES_2,  P16S,   196,  1,      3,      3,2,19910818,0449,-29.5100,-150.5100, 4604,     68.6,  18.7017,  35.5655,2,  35.5681,2,    228.9,2,    230.6,2,     1.17,2,     0.00,2,     0.00,2,     0.07,2,    2.303,2,    1.272,2, -999.000,9,-999.0000,9,  -999.00,9,   -999.0,9,   -999.0,9,   -999.0,9,   -999.0,9,   -999.0,9, -999.00,  -999.0,-999.0000,-999.000, 18.6896,-999.000
   31WTTUNES_2,  P16S,   196,  1,     64,     64,2,19910818,0449,-29.5100,-150.5100, 4604,     93.5,  18.1418,  35.5113,2,  35.5159,2,    223.8,2,    225.5,2,     1.17,2,     0.39,2,     0.01,2,     0.12,2,    2.217,2,    1.219,2, -999.000,9,-999.0000,9,  -999.00,9,   -999.0,9,   -999.0,9,   -999.0,9,   -999.0,9,   -999.0,9, -999.00,  -999.0,-999.0000,-999.000, 18.1256,-999.000
   31WTTUNES_2,  P16S,   196,  1,      5,      5,2,19910818,0449,-29.5100,-150.5100, 4604,    123.9,  17.5408,  35.4991,2,  35.4991,2,    204.0,2,    211.5,2,     1.17,2,     1.66,2,     0.02,2,     0.23,2,    2.116,2,    1.150,2, -999.000,9,-999.0000,9,  -999.00,9,   -999.0,9,   -999.0,9,   -999.0,9,   -999.0,9,   -999.0,9, -999.00,  -999.0,-999.0000,-999.000, 17.5199,-999.000
   31WTTUNES_2,  P16S,   196,  1,      6,      6,2,19910818,0449,-29.5100,-150.5100, 4604,    164.5,  16.7729,  35.4482,2,  35.4593,2,    197.1,2,    207.8,2,     1.37,2,     2.74,2,     0.01,2,     0.30,2, -999.000,5, -999.000,5, -999.000,9,-999.0000,9,  -999.00,9,   -999.0,9,   -999.0,9,   -999.0,9,   -999.0,9,   -999.0,9, -999.00,  -999.0,-999.0000,-999.000, 16.7459,-999.000
   31WTTUNES_2,  P16S,   196,  1,      7,      7,2,19910818,0449,-29.5100,-150.5100, 4604,    205.7,  15.7710,  35.3648,2,  35.3595,2,    199.4,6,    200.4,2,     1.56,2,     4.88,2,     0.00,2,     0.44,2,    1.931,2,    1.049,2, -999.000,9,-999.0000,9,  -999.00,9,   -999.0,9,   -999.0,9,   -999.0,9,   -999.0,9,   -999.0,9, -999.00,  -999.0,-999.0000,-999.000, 15.7387,-999.000
   31WTTUNES_2,  P16S,   196,  1,     68,     68,2,19910818,0449,-29.5100,-150.5100, 4604,    247.0,  14.6762,  35.2713,2,  35.2681,2,    193.6,2,    195.2,2,     2.34,2,     7.33,2,     0.00,2,     0.61,2,    1.701,2,    0.964,2, -999.000,9,-999.0000,9,  -999.00,9,   -999.0,9,   -999.0,9,   -999.0,9,   -999.0,9,   -999.0,9, -999.00,  -999.0,-999.0000,-999.000, 14.6392,-999.000
   31WTTUNES_2,  P16S,   196,  1,     69,     69,2,19910818,0449,-29.5100,-150.5100, 4604,    287.7,  13.6484,  35.1367,2,  35.1302,2,    192.7,2,    193.5,2,     2.93,2,     9.48,2,     0.00,2,     0.74,2, -999.000,5, -999.000,5, -999.000,9,-999.0000,9,  -999.00,9,   -999.0,9,   -999.0,9,   -999.0,9,   -999.0,9,   -999.0,9, -999.00,  -999.0,-999.0000,-999.000, 13.6073,-999.000
   31WTTUNES_2,  P16S,   196,  1,     70,     70,2,19910818,0449,-29.5100,-150.5100, 4604,    328.9,  12.3847,  34.9872,2,  34.9657,2,    194.5,2,    194.1,2,     3.52,2,    12.22,2,     0.00,2,     0.91,2,    1.389,2,    0.742,2, -999.000,9,-999.0000,9,  -999.00,9,   -999.0,9,   -999.0,9,   -999.0,9,   -999.0,9,   -999.0,9, -999.00,  -999.0,-999.0000,-999.000, 12.3407,-999.000
   31WTTUNES_2,  P16S,   196,  1,     11,     11,2,19910818,0449,-29.5100,-150.5100, 4604,    389.8,  10.2734,  34.7247,2,  34.7242,2,    202.6,2,    201.1,2,     4.89,2,    16.03,2,     0.00,2,     1.15,2,    1.139,2,    0.599,2, -999.000,9,-999.0000,9,  -999.00,9,   -999.0,9,   -999.0,9,   -999.0,9,   -999.0,9,   -999.0,9, -999.00,  -999.0,-999.0000,-999.000, 10.2271,-999.000
   31WTTUNES_2,  P16S,   196,  1,     12,     12,2,19910818,0449,-29.5100,-150.5100, 4604,    450.7,   8.9679,  34.5785,2,  34.5813,2,    216.7,2,    211.3,2,     5.57,2,    18.38,2,     0.00,2,     1.29,2,    1.127,2,    0.595,2, -999.000,9,-999.0000,9,  -999.00,9,   -999.0,9,   -999.0,9,   -999.0,9,   -999.0,9,   -999.0,9, -999.00,  -999.0,-999.0000,-999.000,  8.9186,-999.000
   31WTTUNES_2,  P16S,   196,  1,     13,     13,2,19910818,0449,-29.5100,-150.5100, 4604,    511.0,   7.6844,  34.4613,2,  34.4624,2,    228.0,2,    225.4,2,     6.75,2,    20.53,2,     0.00,2,     1.42,2,    1.034,2,    0.543,2, -999.000,9,-999.0000,9,  -999.00,9,   -999.0,9,   -999.0,9,   -999.0,9,   -999.0,9,   -999.0,9, -999.00,  -999.0,-999.0000,-999.000,  7.6333,-999.000
   31WTTUNES_2,  P16S,   196,  1,     37,     37,2,19910818,0449,-29.5100,-150.5100, 4604,    612.2,   6.7998,  34.3840,2,  34.3842,2,    234.8,2,    231.9,2,     8.90,2,    22.68,2,     0.00,2,     1.56,2,    0.703,2,    0.379,2, -999.000,9,-999.0000,9,  -999.00,9,   -999.0,9,   -999.0,9,   -999.0,9,   -999.0,9,   -999.0,9, -999.00,  -999.0,-999.0000,-999.000,  6.7423,-999.000
   31WTTUNES_2,  P16S,   196,  1,     15,     15,2,19910818,0449,-29.5100,-150.5100, 4604,    714.6,   6.1792,  34.3414,2,  34.3387,2,    231.6,2,    233.2,2,    11.34,2,    24.34,2,     0.00,2,     1.67,2,    0.461,2,    0.254,2, -999.000,9,-999.0000,9,  -999.00,9,   -999.0,9,   -999.0,9,   -999.0,9,   -999.0,9,   -999.0,9, -999.00,  -999.0,-999.0000,-999.000,  6.1149,-999.000
   31WTTUNES_2,  P16S,   196,  1,     16,     16,2,19910818,0449,-29.5100,-150.5100, 4604,    818.4,   5.5975,  34.3161,2,  34.3170,2,    219.3,2,    224.1,2,    16.72,2,    26.50,2,     0.00,2,     1.82,2,    0.244,2,    0.147,2, -999.000,9,-999.0000,9,  -999.00,9,   -999.0,9,   -999.0,9,   -999.0,9,   -999.0,9,   -999.0,9, -999.00,  -999.0,-999.0000,-999.000,  5.5269,-999.000
   31WTTUNES_2,  P16S,   196,  1,     17,     17,2,19910818,0449,-29.5100,-150.5100, 4604,    922.8,   5.1237,  34.3165,2,  34.3172,2,    204.8,2,    211.3,2,    23.17,2,    28.45,2,     0.00,2,     1.96,2,    0.123,2,    0.080,2, -999.000,9,-999.0000,9,  -999.00,9,   -999.0,9,   -999.0,9,   -999.0,9,   -999.0,9,   -999.0,9, -999.00,  -999.0,-999.0000,-999.000,  5.0468,-999.000
   31WTTUNES_2,  P16S,   196,  1,     18,     18,2,19910818,0449,-29.5100,-150.5100, 4604,   1026.6,   4.5271,  34.3395,2,  34.3399,2,    191.4,2,    195.9,2,    33.53,2,    30.80,2,     0.00,2,     2.12,2,    0.050,2,    0.035,2, -999.000,9,-999.0000,9,  -999.00,9,   -999.0,9,   -999.0,9,   -999.0,9,   -999.0,9,   -999.0,9, -999.00,  -999.0,-999.0000,-999.000,  4.4453,-999.000
   31WTTUNES_2,  P16S,   196,  1,     19,     19,2,19910818,0449,-29.5100,-150.5100, 4604,   1129.2,   4.0004,  34.3819,2,  34.3806,2,    178.9,2,    182.2,2,    46.05,2,    32.56,2,     0.00,2,     2.25,2, -999.000,9, -999.000,9, -999.000,9,-999.0000,9,  -999.00,9,   -999.0,9,   -999.0,9,   -999.0,9,   -999.0,9,   -999.0,9, -999.00,  -999.0,-999.0000,-999.000,  3.9141,-999.000
   31WTTUNES_2,  P16S,   196,  1,     20,     20,2,19910818,0449,-29.5100,-150.5100, 4604,   1281.2,   3.4517,  34.4437,2,  34.4410,2,    170.6,2,    170.6,2,    62.27,2,    33.82,2,     0.00,2,     2.35,2, -999.000,9, -999.000,9, -999.000,9,-999.0000,9,  -999.00,9,   -999.0,9,   -999.0,9,   -999.0,9,   -999.0,9,   -999.0,9, -999.00,  -999.0,-999.0000,-999.000,  3.3576,-999.000
   31WTTUNES_2,  P16S,   196,  1,     21,     21,2,19910818,0449,-29.5100,-150.5100, 4604,   1433.9,   2.9920,  34.5056,2,  34.5054,2,    163.9,2,    163.0,2,    78.01,2,    34.41,2,     0.00,2,     2.40,2, -999.000,9, -999.000,9, -999.000,9,-999.0000,9,  -999.00,9,   -999.0,9,   -999.0,9,   -999.0,9,   -999.0,9,   -999.0,9, -999.00,  -999.0,-999.0000,-999.000,  2.8899,-999.000
   31WTTUNES_2,  P16S,   196,  1,     22,     22,2,19910818,0449,-29.5100,-150.5100, 4604,   1638.7,   2.5903,  34.5634,2,  34.5634,2,    158.2,2,    158.5,2,    93.84,2,    34.80,2,     0.00,2,     2.43,2, -999.000,9, -999.000,9, -999.000,9,-999.0000,9,  -999.00,9,   -999.0,9,   -999.0,9,   -999.0,9,   -999.0,9,   -999.0,9, -999.00,  -999.0,-999.0000,-999.000,  2.4759,-999.000
   31WTTUNES_2,  P16S,   196,  1,     23,     23,2,19910818,0449,-29.5100,-150.5100, 4604,   1847.6,   2.3124,  34.6076,2,  34.6078,2,    154.7,2,    153.9,2,   107.62,2,    35.09,2,     0.00,2,     2.46,2, -999.000,9, -999.000,9, -999.000,9,-999.0000,9,  -999.00,9,   -999.0,9,   -999.0,9,   -999.0,9,   -999.0,9,   -999.0,9, -999.00,  -999.0,-999.0000,-999.000,  2.1843,-999.000
   31WTTUNES_2,  P16S,   196,  1,     24,     24,2,19910818,0449,-29.5100,-150.5100, 4604,   2054.4,   2.1536,  34.6299,2,  34.6310,2,    152.6,2,    151.0,2,   116.22,2,    35.38,2,     0.00,2,     2.48,2, -999.000,9, -999.000,9, -999.000,9,-999.0000,9,  -999.00,9,   -999.0,9,   -999.0,9,   -999.0,9,   -999.0,9,   -999.0,9, -999.00,  -999.0,-999.0000,-999.000,  2.0101,-999.000
   31WTTUNES_2,  P16S,   196,  1,     25,     25,2,19910818,0449,-29.5100,-150.5100, 4604,   2262.7,   1.9987,  34.6472,2,  34.6459,2,    151.0,2,    149.2,2,   123.74,2,    35.58,2,     0.00,2,     2.49,2, -999.000,9, -999.000,9, -999.000,9,-999.0000,9,  -999.00,9,   -999.0,9,   -999.0,9,   -999.0,9,   -999.0,9,   -999.0,9, -999.00,  -999.0,-999.0000,-999.000,  1.8397,-999.000
   31WTTUNES_2,  P16S,   196,  1,     26,     26,2,19910818,0449,-29.5100,-150.5100, 4604,   2468.3,   1.9087,  34.6556,2,  34.6540,2,    151.1,2,    149.2,2,   127.46,2,    35.58,2,     0.00,2,     2.49,2, -999.000,9, -999.000,9, -999.000,9,-999.0000,9,  -999.00,9,   -999.0,9,   -999.0,9,   -999.0,9,   -999.0,9,   -999.0,9, -999.00,  -999.0,-999.0000,-999.000,  1.7330,-999.000
   31WTTUNES_2,  P16S,   196,  1,     27,     27,2,19910818,0449,-29.5100,-150.5100, 4604,   2674.7,   1.8208,  34.6616,2,  34.6620,2,    152.3,2,    151.2,2,   129.80,2,    35.58,2,     0.00,2,     2.48,2, -999.000,9, -999.000,9, -999.000,9,-999.0000,9,  -999.00,9,   -999.0,9,   -999.0,9,   -999.0,9,   -999.0,9,   -999.0,9, -999.00,  -999.0,-999.0000,-999.000,  1.6279,-999.000
   31WTTUNES_2,  P16S,   196,  1,     28,     28,2,19910818,0449,-29.5100,-150.5100, 4604,   2884.2,   1.7578,  34.6667,2,  34.6683,2,    152.4,2,    153.7,2,   131.46,2,    35.38,2,     0.00,2,     2.46,2, -999.000,9, -999.000,9, -999.000,9,-999.0000,9,  -999.00,9,   -999.0,9,   -999.0,9,   -999.0,9,   -999.0,9,   -999.0,9, -999.00,  -999.0,-999.0000,-999.000,  1.5465,-999.000
   31WTTUNES_2,  P16S,   196,  1,     29,     29,2,19910818,0449,-29.5100,-150.5100, 4604,   3091.2,   1.6649,  34.6756,2,  34.6764,2,    159.3,2,    160.3,2,   130.39,2,    34.99,2,     0.00,2,     2.43,2, -999.000,9, -999.000,9, -999.000,9,-999.0000,9,  -999.00,9,   -999.0,9,   -999.0,9,   -999.0,9,   -999.0,9,   -999.0,9, -999.00,  -999.0,-999.0000,-999.000,  1.4356,-999.000
   31WTTUNES_2,  P16S,   196,  1,     30,     30,2,19910818,0449,-29.5100,-150.5100, 4604,   3299.6,   1.5839,  34.6836,2,  34.6837,2,    164.9,2,    166.9,2,   128.24,2,    34.50,2,     0.00,2,     2.40,2, -999.000,9, -999.000,9, -999.000,9,-999.0000,9,  -999.00,9,   -999.0,9,   -999.0,9,   -999.0,9,   -999.0,9,   -999.0,9, -999.00,  -999.0,-999.0000,-999.000,  1.3360,-999.000
   31WTTUNES_2,  P16S,   196,  1,     31,     31,2,19910818,0449,-29.5100,-150.5100, 4604,   3507.1,   1.5010,  34.6882,2,  34.6888,2,    171.7,2,    174.0,2,   127.45,2,    34.01,2,     0.00,2,     2.36,2, -999.000,9, -999.000,9, -999.000,9,-999.0000,9,  -999.00,9,   -999.0,9,   -999.0,9,   -999.0,9,   -999.0,9,   -999.0,9, -999.00,  -999.0,-999.0000,-999.000,  1.2341,-999.000
   31WTTUNES_2,  P16S,   196,  1,     32,     32,2,19910818,0449,-29.5100,-150.5100, 4604,   3766.9,   1.3751,  34.6962,2,  34.6957,2,    180.6,2,    183.6,2,   125.30,2,    33.43,2,     0.00,2,     2.32,2, -999.000,9, -999.000,9, -999.000,9,-999.0000,9,  -999.00,9,   -999.0,9,   -999.0,9,   -999.0,9,   -999.0,9,   -999.0,9, -999.00,  -999.0,-999.0000,-999.000,  1.0845,-999.000
   31WTTUNES_2,  P16S,   196,  1,     33,     33,2,19910818,0449,-29.5100,-150.5100, 4604,   4028.2,   1.3211,  34.6994,2,  34.6993,2,    185.0,2,    188.5,2,   123.45,2,    33.04,2,     0.00,2,     2.28,2, -999.000,9, -999.000,9, -999.000,9,-999.0000,9,  -999.00,9,   -999.0,9,   -999.0,9,   -999.0,9,   -999.0,9,   -999.0,9, -999.00,  -999.0,-999.0000,-999.000,  1.0041,-999.000
   31WTTUNES_2,  P16S,   196,  1,     34,     34,2,19910818,0449,-29.5100,-150.5100, 4604,   4290.1,   1.3091,  34.6956,3,  34.7022,2,    189.4,2,    191.0,2,   123.25,2,    32.74,2,     0.00,2,     2.27,2, -999.000,9, -999.000,9, -999.000,9,-999.0000,9,  -999.00,9,   -999.0,9,   -999.0,9,   -999.0,9,   -999.0,9,   -999.0,9, -999.00,  -999.0,-999.0000,-999.000,  0.9637,-999.000
   31WTTUNES_2,  P16S,   196,  1,     39,     39,2,19910818,0449,-29.5100,-150.5100, 4604,   4495.5,   1.3041,  34.7024,2,  34.7032,2,    191.7,2,    192.9,2,   123.06,2,    32.65,2,     0.00,2,     2.26,2, -999.000,9, -999.000,9, -999.000,9,-999.0000,9,  -999.00,9,   -999.0,9,   -999.0,9,   -999.0,9,   -999.0,9,   -999.0,9, -999.00,  -999.0,-999.0000,-999.000,  0.9357,-999.000
   31WTTUNES_2,  P16S,   196,  1,     38,     38,2,19910818,0449,-29.5100,-150.5100, 4604,   4712.6,   1.3071,  34.7010,2,  34.7046,2,    194.1,2,    194.0,2,   122.37,2,    32.45,2,     0.00,2,     2.25,2, -999.000,9, -999.000,9, -999.000,9,-999.0000,9,  -999.00,9,   -999.0,9,   -999.0,9,   -999.0,9,   -999.0,9,   -999.0,9, -999.00,  -999.0,-999.0000,-999.000,  0.9135,-999.000