BOTTLE,20131125MIRCJHATS
EXPOCODE,SECT_ID,STNNBR,CASTNO,SAMPNO,BTLNBR,BTLNBR_FLAG_W,DATE,TIME,LATITUDE,LONGITUDE,DEPTH,CTDPRS,CTDTMP,CTDSAL,CTDSAL_FLAG_W,SALNTY,SALNTY_FLAG_W,CTDOXY,CTDOXY_FLAG_W,OXYGEN,OXYGEN_FLAG_W,SILCAT,SILCAT_FLAG_W,NITRAT,NITRAT_FLAG_W,NITRIT,NITRIT_FLAG_W,PHSPHT,PHSPHT_FLAG_W,CFC-11,CFC-11_FLAG_W,CFC-12,CFC-12_FLAG_W,TRITUM,TRITUM_FLAG_W,HELIUM,HELIUM_FLAG_W,DELHE3,DELHE3_FLAG_W,DELC14,DELC14_FLAG_W,DELC13,DELC13_FLAG_W,TCARBN,TCARBN_FLAG_W,PCO2,PCO2_FLAG_W,ALKALI,ALKALI_FLAG_W,PCO2TMP,C14ERR,HELIER,DELHER,THETA,TRITER
,,,,,,,,,,,,DBAR,ITS-90,PSS-78,,PSS-78,,UMOL/KG,,UMOL/KG,,UMOL/KG,,UMOL/KG,,UMOL/KG,,UMOL/KG,,PMOL/KG,,PMOL/KG,,TU,,NMOL/KG,,PERCNT,,/MILLE,,/MILLE,,UMOL/KG,,UATM,,UMOL/KG,,DEG C,/MILLE,NMOL/KG,PERCNT,DEG C,TU
   31WTTUNES_2,  P16S,   205,  1,     61,     61,2,19910821,0000,-24.9783,-150.4867, 4745,      3.1,  21.9248,  35.6923,2,  35.6972,2,    219.3,3,    217.4,2,     1.56,2,     0.10,2,     0.00,2,     0.10,2,    2.019,2,    1.084,2, -999.000,9,-999.0000,9,  -999.00,9,   -999.0,9,   -999.0,9,   2001.2,2,    270.7,2,   -999.0,9,   20.00,  -999.0,-999.0000,-999.000, 21.9242,-999.000
   31WTTUNES_2,  P16S,   205,  1,      2,      2,2,19910821,0000,-24.9783,-150.4867, 4745,     34.1,  21.6648,  35.6724,2,  35.6820,2,    218.0,2,    218.0,2,     1.47,2,     0.10,2,     0.00,2,     0.10,2,    2.002,2,    1.079,2,    0.983,2,   1.7400,2,    -1.32,2,   -999.0,9,   -999.0,9,   -999.0,9,   -999.0,9,   -999.0,9, -999.00,  -999.0,  0.0080,   0.150, 21.6581,   0.007
   31WTTUNES_2,  P16S,   205,  1,      3,      3,2,19910821,0000,-24.9783,-150.4867, 4745,     74.7,  20.7657,  35.6061,2,  35.6108,2,    220.8,2,    221.5,2,     1.27,2,     0.00,2,     0.00,2,     0.07,2,    2.086,2,    1.126,2,    0.620,2,   1.7340,2,    -1.18,2,   -999.0,9,   -999.0,9,   -999.0,9,   -999.0,9,   -999.0,9, -999.00,  -999.0,  0.0080,   0.150, 20.7515,   0.007
   31WTTUNES_2,  P16S,   205,  1,     64,     64,2,19910821,0000,-24.9783,-150.4867, 4745,    115.5,  20.6017,  35.5858,2,  35.5926,2,    224.0,2,    222.8,2,     1.27,2,     0.00,2,     0.00,2,     0.07,2,    2.095,2,    1.124,2,    0.986,2,   1.7190,2,    -1.20,2,   -999.0,9,   -999.0,9,   -999.0,9,   -999.0,9,   -999.0,9, -999.00,  -999.0,  0.0080,   0.150, 20.5799,   0.007
   31WTTUNES_2,  P16S,   205,  1,      5,      5,2,19910821,0000,-24.9783,-150.4867, 4745,    155.8,  20.0387,  35.5743,2,  35.5786,2,    219.2,2,    225.3,2,     1.27,2,     0.00,2,     0.00,2,     0.06,2,    2.186,2,    1.169,2,    0.991,2,   1.7370,2,    -1.30,2,   -999.0,9,   -999.0,9,   -999.0,9,   -999.0,9,   -999.0,9, -999.00,  -999.0,  0.0080,   0.150, 20.0098,   0.007
   31WTTUNES_2,  P16S,   205,  1,      6,      6,2,19910821,0000,-24.9783,-150.4867, 4745,    180.3,  19.9007,  35.5714,2,  35.5719,2,    223.8,2,    224.6,2,     1.27,2,     0.10,2,     0.00,2,     0.06,2,    2.170,2,    1.156,2,    0.995,2,   1.7380,2,    -1.39,2,   -999.0,9,   -999.0,9,   -999.0,9,   -999.0,9,   -999.0,9, -999.00,  -999.0,  0.0080,   0.150, 19.8674,   0.007
   31WTTUNES_2,  P16S,   205,  1,      7,      7,2,19910821,0000,-24.9783,-150.4867, 4745,    204.8,  18.9247,  35.5477,2,  35.5366,2,    211.1,2,    214.6,2,     1.17,2,     0.49,2,     0.08,2,     0.15,2,    2.144,2,    1.137,2,    0.902,2,   1.7180,2,    -0.72,2,   -999.0,9,   -999.0,9,   -999.0,9,   -999.0,9,   -999.0,9, -999.00,  -999.0,  0.0080,   0.150, 18.8882,   0.007
   31WTTUNES_2,  P16S,   205,  1,     68,     68,2,19910821,0000,-24.9783,-150.4867, 4745,    256.8,  16.7519,  35.4146,2,  35.4118,2,    203.3,2,    202.4,2,     1.37,2,     3.42,2,     0.01,2,     0.37,2,    2.016,2,    1.045,2,    0.758,2,   1.7500,2,     0.04,2,   -999.0,9,   -999.0,9,   -999.0,9,   -999.0,9,   -999.0,9, -999.00,  -999.0,  0.0080,   0.150, 16.7097,   0.006
   31WTTUNES_2,  P16S,   205,  1,     69,     69,2,19910821,0000,-24.9783,-150.4867, 4745,    309.5,  14.7971,  35.2131,2,  35.2196,2,    194.2,2,    192.5,2,     2.25,2,     7.52,2,     0.00,2,     0.63,2,    1.601,2,    0.849,2,    0.612,2,   1.7610,2,     1.02,2,   -999.0,9,   -999.0,9,   -999.0,9,   -999.0,9,   -999.0,9, -999.00,  -999.0,  0.0080,   0.150, 14.7505,   0.006
   31WTTUNES_2,  P16S,   205,  1,     70,     70,2,19910821,0000,-24.9783,-150.4867, 4745,    360.2,  13.2925,  35.0584,2,  35.0639,2,    196.2,2,    193.5,2,     3.42,2,    10.06,2,     0.00,2,     0.79,2,    1.484,2,    0.778,2, -999.000,9,-999.0000,9,  -999.00,9,   -999.0,9,   -999.0,9,   -999.0,9,   -999.0,9,   -999.0,9, -999.00,  -999.0,-999.0000,-999.000, 13.2419,-999.000
   31WTTUNES_2,  P16S,   205,  1,     11,     11,2,19910821,0000,-24.9783,-150.4867, 4745,    407.3,  12.0158,  34.9120,2,  34.9118,2,    196.5,2,    195.2,2,     4.01,2,    12.70,2,     0.00,2,     0.96,2,    1.346,2,    0.702,2,    0.450,2,   1.7130,2,     1.48,2,   -999.0,9,   -999.0,9,   -999.0,9,   -999.0,9,   -999.0,9, -999.00,  -999.0,  0.0080,   0.150, 11.9622,   0.005
   31WTTUNES_2,  P16S,   205,  1,     12,     12,2,19910821,0000,-24.9783,-150.4867, 4745,    507.4,   8.4741,  34.4911,2,  34.4947,2,    202.3,2,    203.1,2,     7.53,2,    20.53,2,     0.00,2,     1.47,2,    0.722,2,    0.393,2,    0.235,2,   1.7890,2,     1.16,2,   -999.0,9,   -999.0,9,   -999.0,9,   -999.0,9,   -999.0,9, -999.00,  -999.0,  0.0080,   0.150,  8.4203,   0.003
   31WTTUNES_2,  P16S,   205,  1,     13,     13,2,19910821,0000,-24.9783,-150.4867, 4745,    607.1,   6.6609,  34.3573,2,  34.3587,2,    222.4,2,    222.3,2,    10.27,2,    23.95,2,     0.00,2,     1.67,2,    0.520,2,    0.290,2,    0.143,2,   0.0000,2,     0.00,2,   -999.0,9,   -999.0,9,   -999.0,9,   -999.0,9,   -999.0,9, -999.00,  -999.0,-999.0000,   0.150,  6.6045,   0.003
   31WTTUNES_2,  P16S,   205,  1,     37,     37,2,19910821,0000,-24.9783,-150.4867, 4745,    708.6,   5.9523,  34.3195,2,  34.3203,2,    223.8,2,    224.5,2,    13.10,2,    25.71,2,     0.00,2,     1.78,2,    0.318,2,    0.188,2,    0.090,2,   1.7550,2,     1.00,2,   -999.0,9,   -999.0,9,   -999.0,9,   -999.0,9,   -999.0,9, -999.00,  -999.0,  0.0080,   0.150,  5.8898,   0.002
   31WTTUNES_2,  P16S,   205,  1,     15,     15,2,19910821,0000,-24.9783,-150.4867, 4745,    810.9,   5.1947,  34.3115,2,  34.3120,2,    211.4,2,    209.2,2,    21.90,2,    28.65,2,     0.00,2,     1.97,2,    0.123,2,    0.081,2,    0.040,2,   1.8240,2,     1.75,2,   -999.0,9,   -999.0,9,   -999.0,9,   -999.0,9,   -999.0,9, -999.00,  -999.0,  0.0090,   0.150,  5.1273,   0.002
   31WTTUNES_2,  P16S,   205,  1,     16,     16,2,19910821,0000,-24.9783,-150.4867, 4745,    912.0,   4.6560,  34.3319,2,  34.3332,2,    190.3,2,    191.1,2,    32.26,2,    31.09,2,     0.00,2,     2.15,2,    0.046,2,    0.032,2,    0.017,2,   0.0000,2,     0.00,2,   -999.0,9,   -999.0,9,   -999.0,9,   -999.0,9,   -999.0,9, -999.00,  -999.0,-999.0000,   0.150,  4.5832,   0.002
   31WTTUNES_2,  P16S,   205,  1,     17,     17,2,19910821,0000,-24.9783,-150.4867, 4745,   1012.5,   4.1603,  34.3740,2,  34.3749,2,    177.1,2,    175.3,2,    45.07,2,    33.14,2,     0.00,2,     2.30,2,    0.013,2,    0.011,2,    0.005,2,   1.7830,2,     6.31,2,   -999.0,9,   -999.0,9,   -999.0,9,   -999.0,9,   -999.0,9, -999.00,  -999.0,  0.0090,   0.150,  4.0826,   0.001
   31WTTUNES_2,  P16S,   205,  1,     18,     18,2,19910821,0000,-24.9783,-150.4867, 4745,   1112.8,   3.6856,  34.4214,2,  34.4231,2,    168.4,2,    169.5,2,    58.27,2,    34.02,2,     0.00,2,     2.37,2, -999.000,5, -999.000,5,    0.002,2,   1.8660,2,     8.99,2,   -999.0,9,   -999.0,9,   -999.0,9,   -999.0,9,   -999.0,9, -999.00,  -999.0,  0.0090,   0.150,  3.6033,   0.001
   31WTTUNES_2,  P16S,   205,  1,     19,     19,2,19910821,0000,-24.9783,-150.4867, 4745,   1265.9,   3.2888,  34.4730,2,  34.4724,2,    163.0,2,    162.5,2,    70.97,2,    34.31,2,     0.00,2,     2.41,2,    0.000,2,    0.000,2, -999.000,9,   1.8420,2,    12.88,2,   -999.0,9,   -999.0,9,   -999.0,9,   -999.0,9,   -999.0,9, -999.00,  -999.0,-999.0000,-999.000,  3.1975,-999.000
   31WTTUNES_2,  P16S,   205,  1,     20,     20,2,19910821,0000,-24.9783,-150.4867, 4745,   1418.9,   2.8601,  34.5271,2,  34.5286,2,    158.9,2,    159.0,2,    85.83,2,    34.70,2,     0.00,2,     2.42,2,    0.000,2,    0.000,2, -999.000,9,   1.8960,2,    16.40,2,   -999.0,9,   -999.0,9,   -999.0,9,   -999.0,9,   -999.0,9, -999.00,  -999.0,-999.0000,-999.000,  2.7606,-999.000
   31WTTUNES_2,  P16S,   205,  1,     21,     21,2,19910821,0000,-24.9783,-150.4867, 4745,   1621.5,   2.4474,  34.5841,2,  34.5838,2,    157.1,2,    155.3,2,   101.85,2,    34.99,2,     0.00,2,     2.45,2, -999.000,9, -999.000,9, -999.000,9,-999.0000,5,    20.41,2,   -999.0,9,   -999.0,9,   -999.0,9,   -999.0,9,   -999.0,9, -999.00,  -999.0,-999.0000,-999.000,  2.3361,-999.000
   31WTTUNES_2,  P16S,   205,  1,     22,     22,2,19910821,0000,-24.9783,-150.4867, 4745,   1827.0,   2.2145,  34.6184,2,  34.6174,2,    152.6,2,    151.1,2,   113.48,2,    35.29,2,     0.00,2,     2.47,2, -999.000,9, -999.000,9, -999.000,9,-999.0000,5,    24.60,2,   -999.0,9,   -999.0,9,   -999.0,9,   -999.0,9,   -999.0,9, -999.00,  -999.0,-999.0000,-999.000,  2.0894,-999.000
   31WTTUNES_2,  P16S,   205,  1,     23,     23,2,19910821,0000,-24.9783,-150.4867, 4745,   2031.6,   2.0616,  34.6363,2,  34.6359,2,    149.9,2,    150.0,2,   121.89,2,    35.58,2,     0.00,2,     2.50,2, -999.000,9, -999.000,9, -999.000,9,   1.9030,2,    25.34,2,   -999.0,9,   -999.0,9,   -999.0,9,   -999.0,9,   -999.0,9, -999.00,  -999.0,-999.0000,-999.000,  1.9216,-999.000
   31WTTUNES_2,  P16S,   205,  1,     24,     24,2,19910821,0000,-24.9783,-150.4867, 4745,   2240.2,   1.9527,  34.6472,2,  34.6498,2,    151.2,2,    150.3,2,   127.46,2,    35.68,2,     0.00,2,     2.50,2, -999.000,9, -999.000,9, -999.000,9,   1.9150,2,    26.03,2,   -999.0,9,   -999.0,9,   -999.0,9,   -999.0,9,   -999.0,9, -999.00,  -999.0,-999.0000,-999.000,  1.7964,-999.000
   31WTTUNES_2,  P16S,   205,  1,     25,     25,2,19910821,0000,-24.9783,-150.4867, 4745,   2457.6,   1.8667,  34.6552,2,  34.6555,2,    154.0,2,    143.2,4,   129.61,2,    35.58,2,     0.00,2,     2.50,2, -999.000,9, -999.000,9, -999.000,9,-999.0000,5,    25.47,2,   -999.0,9,   -999.0,9,   -999.0,9,   -999.0,9,   -999.0,9, -999.00,  -999.0,-999.0000,-999.000,  1.6928,-999.000
   31WTTUNES_2,  P16S,   205,  1,     26,     26,2,19910821,0000,-24.9783,-150.4867, 4745,   2666.7,   1.7968,  34.6603,2,  34.6609,2,    155.8,2,    156.3,2,   129.12,2,    35.19,2,     0.00,2,     2.46,2, -999.000,9, -999.000,9, -999.000,9,   1.9020,2,    24.51,2,   -999.0,9,   -999.0,9,   -999.0,9,   -999.0,9,   -999.0,9, -999.00,  -999.0,-999.0000,-999.000,  1.6051,-999.000
   31WTTUNES_2,  P16S,   205,  1,     27,     27,2,19910821,0000,-24.9783,-150.4867, 4745,   2870.2,   1.7208,  34.6672,2,  34.6676,2,    160.0,2,    159.7,2,   130.58,2,    35.19,2,     0.00,2,     2.45,2, -999.000,9, -999.000,9, -999.000,9,-999.0000,5,    23.33,2,   -999.0,9,   -999.0,9,   -999.0,9,   -999.0,9,   -999.0,9, -999.00,  -999.0,-999.0000,-999.000,  1.5116,-999.000
   31WTTUNES_2,  P16S,   205,  1,     28,     28,2,19910821,0000,-24.9783,-150.4867, 4745,   3060.9,   1.6579,  34.6724,2,  34.6729,2,    163.3,2,    163.6,2,   131.07,2,    34.99,2,     0.00,2,     2.43,2, -999.000,9, -999.000,9, -999.000,9,   1.9060,2,    21.60,2,   -999.0,9,   -999.0,9,   -999.0,9,   -999.0,9,   -999.0,9, -999.00,  -999.0,-999.0000,-999.000,  1.4318,-999.000
   31WTTUNES_2,  P16S,   205,  1,     30,     30,2,19910821,0000,-24.9783,-150.4867, 4745,   3311.9,   1.5999,  34.6771,2,  34.6790,2,    167.3,2,    168.0,2,   128.82,2,    34.50,2,     0.00,2,     2.39,2, -999.000,9, -999.000,9, -999.000,9,   1.8960,2,    20.58,2,   -999.0,9,   -999.0,9,   -999.0,9,   -999.0,9,   -999.0,9, -999.00,  -999.0,-999.0000,-999.000,  1.3504,-999.000
   31WTTUNES_2,  P16S,   205,  1,     31,     31,2,19910821,0000,-24.9783,-150.4867, 4745,   3566.5,   1.5370,  34.6840,2,  34.6843,2,    171.6,2,    172.6,2,   127.36,2,    33.92,2,     0.00,2,     2.37,2, -999.000,9, -999.000,9, -999.000,9,   1.8960,2,    19.14,2,   -999.0,9,   -999.0,9,   -999.0,9,   -999.0,9,   -999.0,9, -999.00,  -999.0,-999.0000,-999.000,  1.2631,-999.000
   31WTTUNES_2,  P16S,   205,  1,     32,     32,2,19910821,0000,-24.9783,-150.4867, 4745,   3814.6,   1.4780,  34.6891,2,  34.6894,2,    176.4,2,    177.0,2,   126.87,2,    33.72,2,     0.00,2,     2.35,2, -999.000,9, -999.000,9, -999.000,9,   1.9020,2,    17.89,2,   -999.0,9,   -999.0,9,   -999.0,9,   -999.0,9,   -999.0,9, -999.00,  -999.0,-999.0000,-999.000,  1.1796,-999.000
   31WTTUNES_2,  P16S,   205,  1,     33,     33,2,19910821,0000,-24.9783,-150.4867, 4745,   4027.0,   1.4251,  34.6927,2,  34.6936,2,    181.1,2,    182.0,2,   126.87,2,    33.53,2,     0.00,2,     2.34,2, -999.000,9, -999.000,9, -999.000,9,   1.8900,2,    16.09,2,   -999.0,9,   -999.0,9,   -999.0,9,   -999.0,9,   -999.0,9, -999.00,  -999.0,-999.0000,-999.000,  1.1053,-999.000
   31WTTUNES_2,  P16S,   205,  1,     34,     34,2,19910821,0000,-24.9783,-150.4867, 4745,   4294.3,   1.3681,  34.6977,2,  34.6981,2,    186.9,2,    187.6,2,   126.48,2,    33.23,2,     0.00,2,     2.31,2, -999.000,9, -999.000,9, -999.000,9,   1.8840,2,    14.36,2,   -999.0,9,   -999.0,9,   -999.0,9,   -999.0,9,   -999.0,9, -999.00,  -999.0,-999.0000,-999.000,  1.0205,-999.000
   31WTTUNES_2,  P16S,   205,  1,     39,     39,2,19910821,0000,-24.9783,-150.4867, 4745,   4573.5,   1.3661,  34.6995,2,  34.7008,2,    190.3,2,    189.9,2,   124.91,2,    33.04,2,     0.00,2,     2.28,2, -999.000,9, -999.000,9, -999.000,9,   1.8890,2,    13.44,2,   -999.0,9,   -999.0,9,   -999.0,9,   -999.0,9,   -999.0,9, -999.00,  -999.0,-999.0000,-999.000,  0.9867,-999.000
   31WTTUNES_2,  P16S,   205,  1,     38,     38,2,19910821,0000,-24.9783,-150.4867, 4745,   4797.7,   1.3711,  34.7011,2,  34.7016,2,    192.2,2,    191.5,2,   123.25,2,    32.84,2,     0.00,2,     2.28,2, -999.000,9, -999.000,9, -999.000,9,   1.8770,2,    13.01,2,   -999.0,9,   -999.0,9,   -999.0,9,   -999.0,9,   -999.0,9, -999.00,  -999.0,-999.0000,-999.000,  0.9653,-999.000