BOTTLE,20131125MIRCJHATS
EXPOCODE,SECT_ID,STNNBR,CASTNO,SAMPNO,BTLNBR,BTLNBR_FLAG_W,DATE,TIME,LATITUDE,LONGITUDE,DEPTH,CTDPRS,CTDTMP,CTDSAL,CTDSAL_FLAG_W,SALNTY,SALNTY_FLAG_W,CTDOXY,CTDOXY_FLAG_W,OXYGEN,OXYGEN_FLAG_W,SILCAT,SILCAT_FLAG_W,NITRAT,NITRAT_FLAG_W,NITRIT,NITRIT_FLAG_W,PHSPHT,PHSPHT_FLAG_W,CFC-11,CFC-11_FLAG_W,CFC-12,CFC-12_FLAG_W,TRITUM,TRITUM_FLAG_W,HELIUM,HELIUM_FLAG_W,DELHE3,DELHE3_FLAG_W,DELC14,DELC14_FLAG_W,DELC13,DELC13_FLAG_W,TCARBN,TCARBN_FLAG_W,PCO2,PCO2_FLAG_W,ALKALI,ALKALI_FLAG_W,PCO2TMP,C14ERR,HELIER,DELHER,THETA,TRITER
,,,,,,,,,,,,DBAR,ITS-90,PSS-78,,PSS-78,,UMOL/KG,,UMOL/KG,,UMOL/KG,,UMOL/KG,,UMOL/KG,,UMOL/KG,,PMOL/KG,,PMOL/KG,,TU,,NMOL/KG,,PERCNT,,/MILLE,,/MILLE,,UMOL/KG,,UATM,,UMOL/KG,,DEG C,/MILLE,NMOL/KG,PERCNT,DEG C,TU
   31WTTUNES_2,  P17S,   168,  1,     61,     61,2,19910804,1839,-27.6267,-133.5283, 4142,      3.8,  19.2297,  35.5093,2,  35.5101,2,    226.6,3,    228.0,2,     1.37,2,     0.10,2,     0.00,2,     0.10,2,    2.286,2,    1.174,2, -999.000,9,-999.0000,9,  -999.00,9,   -999.0,9,   -999.0,9,   2018.3,2,    319.5,2,   -999.0,9,   20.00,  -999.0,-999.0000,-999.000, 19.2290,-999.000
   31WTTUNES_2,  P17S,   168,  1,      2,      2,2,19910804,1839,-27.6267,-133.5283, 4142,     41.7,  19.0036,  35.4938,2,  35.4947,2,    223.4,2,    226.7,2,     1.37,2,     0.10,2,     0.00,2,     0.10,2, -999.000,9, -999.000,9, -999.000,9,-999.0000,9,  -999.00,9,   -999.0,9,   -999.0,9,   -999.0,9,   -999.0,9,   -999.0,9, -999.00,  -999.0,-999.0000,-999.000, 18.9962,-999.000
   31WTTUNES_2,  P17S,   168,  1,      3,      3,2,19910804,1839,-27.6267,-133.5283, 4142,     77.1,  18.6725,  35.4670,2,  35.4659,2,    218.8,2,    216.3,2,     1.37,2,     0.39,2,     0.03,2,     0.17,2, -999.000,9, -999.000,9, -999.000,9,-999.0000,9,  -999.00,9,   -999.0,9,   -999.0,9,   -999.0,9,   -999.0,9,   -999.0,9, -999.00,  -999.0,-999.0000,-999.000, 18.6590,-999.000
   31WTTUNES_2,  P17S,   168,  1,      4,      4,2,19910804,1839,-27.6267,-133.5283, 4142,    113.6,  18.3044,  35.4453,2,  35.4452,2,    217.2,2,    212.0,2,     1.56,2,     0.78,2,     0.03,2,     0.21,2,    2.210,2,    1.127,2, -999.000,9,-999.0000,9,  -999.00,9,   -999.0,9,   -999.0,9,   -999.0,9,   -999.0,9,   -999.0,9, -999.00,  -999.0,-999.0000,-999.000, 18.2847,-999.000
   31WTTUNES_2,  P17S,   168,  1,      5,      5,2,19910804,1839,-27.6267,-133.5283, 4142,    148.7,  17.8363,  35.4165,2,  35.4166,2,    209.7,2,    205.2,2,     1.37,2,     1.56,2,     0.01,2,     0.25,2, -999.000,9, -999.000,9, -999.000,9,-999.0000,9,  -999.00,9,   -999.0,9,   -999.0,9,   -999.0,9,   -999.0,9,   -999.0,9, -999.00,  -999.0,-999.0000,-999.000, 17.8109,-999.000
   31WTTUNES_2,  P17S,   168,  1,      6,      6,2,19910804,1839,-27.6267,-133.5283, 4142,    195.1,  16.9981,  35.3594,2,  35.3537,2,    203.5,2,    204.5,2,     1.47,2,     2.64,2,     0.01,2,     0.31,2, -999.000,9, -999.000,9, -999.000,9,-999.0000,9,  -999.00,9,   -999.0,9,   -999.0,9,   -999.0,9,   -999.0,9,   -999.0,9, -999.00,  -999.0,-999.0000,-999.000, 16.9658,-999.000
   31WTTUNES_2,  P17S,   168,  1,      7,      7,2,19910804,1839,-27.6267,-133.5283, 4142,    246.0,  15.7018,  35.2588,2,  35.2532,2,    200.2,2,    196.8,2,     1.66,2,     5.28,2,     0.01,2,     0.49,2, -999.000,9, -999.000,9, -999.000,9,-999.0000,9,  -999.00,9,   -999.0,9,   -999.0,9,   -999.0,9,   -999.0,9,   -999.0,9, -999.00,  -999.0,-999.0000,-999.000, 15.6633,-999.000
   31WTTUNES_2,  P17S,   168,  1,     68,     68,2,19910804,1839,-27.6267,-133.5283, 4142,    296.1,  14.1776,  35.0926,2,  35.3535,4,    193.9,2,    192.8,2,     2.05,2,     8.30,2,     0.00,2,     0.69,2,    1.568,2,    0.799,2, -999.000,9,-999.0000,9,  -999.00,9,   -999.0,9,   -999.0,9,   -999.0,9,   -999.0,9,   -999.0,9, -999.00,  -999.0,-999.0000,-999.000, 14.1342,-999.000
   31WTTUNES_2,  P17S,   168,  1,     69,     69,2,19910804,1839,-27.6267,-133.5283, 4142,    350.8,  12.5874,  34.9168,2,  34.8957,2,    193.9,2,    193.1,2,     3.42,2,    11.73,2,     0.00,2,     0.90,2, -999.000,9, -999.000,9, -999.000,9,-999.0000,9,  -999.00,9,   -999.0,9,   -999.0,9,   -999.0,9,   -999.0,9,   -999.0,9, -999.00,  -999.0,-999.0000,-999.000, 12.5399,-999.000
   31WTTUNES_2,  P17S,   168,  1,     70,     70,2,19910804,1839,-27.6267,-133.5283, 4142,    405.4,  10.1462,  34.6403,2,  34.6397,2,    199.2,2,    198.2,2,     5.18,2,    16.42,2,     0.00,2,     1.19,2, -999.000,9, -999.000,9, -999.000,9,-999.0000,9,  -999.00,9,   -999.0,9,   -999.0,9,   -999.0,9,   -999.0,9,   -999.0,9, -999.00,  -999.0,-999.0000,-999.000, 10.0985,-999.000
   31WTTUNES_2,  P17S,   168,  1,     11,     11,2,19910804,1839,-27.6267,-133.5283, 4142,    454.9,   8.6773,  34.5097,2,  34.5085,2,    208.0,2,    211.4,2,     5.77,2,    19.06,2,     0.00,2,     1.35,2,    1.158,2,    0.574,2, -999.000,9,-999.0000,9,  -999.00,9,   -999.0,9,   -999.0,9,   -999.0,9,   -999.0,9,   -999.0,9, -999.00,  -999.0,-999.0000,-999.000,  8.6285,-999.000
   31WTTUNES_2,  P17S,   168,  1,     12,     12,2,19910804,1839,-27.6267,-133.5283, 4142,    514.5,   7.4703,  34.4226,2,  34.4227,2,    227.6,2,    232.2,2,     6.35,2,    20.73,2,     0.00,2,     1.46,2,    1.388,2,    0.685,2, -999.000,9,-999.0000,9,  -999.00,9,   -999.0,9,   -999.0,9,   -999.0,9,   -999.0,9,   -999.0,9, -999.00,  -999.0,-999.0000,-999.000,  7.4197,-999.000
   31WTTUNES_2,  P17S,   168,  1,     13,     13,2,19910804,1839,-27.6267,-133.5283, 4142,    593.1,   6.7824,  34.3769,2,  34.3746,2,    237.0,2,    241.1,2,     7.92,2,    22.09,2,     0.00,2,     1.53,2,    1.155,2,    0.582,2, -999.000,9,-999.0000,9,  -999.00,9,   -999.0,9,   -999.0,9,   -999.0,9,   -999.0,9,   -999.0,9, -999.00,  -999.0,-999.0000,-999.000,  6.7268,-999.000
   31WTTUNES_2,  P17S,   168,  1,     37,     37,2,19910804,1839,-27.6267,-133.5283, 4142,    642.2,   6.4634,  34.3516,2,  34.3505,2,    240.8,2,    241.3,2,     9.29,2,    22.88,2,     0.00,2,     1.58,2,    0.882,2,    0.453,2, -999.000,9,-999.0000,9,  -999.00,9,   -999.0,9,   -999.0,9,   -999.0,9,   -999.0,9,   -999.0,9, -999.00,  -999.0,-999.0000,-999.000,  6.4046,-999.000
   31WTTUNES_2,  P17S,   168,  1,     15,     15,2,19910804,1839,-27.6267,-133.5283, 4142,    690.7,   6.1174,  34.3289,2,  34.3271,2,    241.3,2,    239.3,2,    10.85,2,    24.05,2,     0.00,2,     1.66,2,    0.636,2,    0.331,2, -999.000,9,-999.0000,9,  -999.00,9,   -999.0,9,   -999.0,9,   -999.0,9,   -999.0,9,   -999.0,9, -999.00,  -999.0,-999.0000,-999.000,  6.0558,-999.000
   31WTTUNES_2,  P17S,   168,  1,     16,     16,2,19910804,1839,-27.6267,-133.5283, 4142,    770.5,   5.6535,  34.3049,2,  34.3040,2,    232.9,2,    231.9,2,    13.79,2,    25.81,2,     0.00,2,     1.78,2,    0.361,2,    0.204,2, -999.000,9,-999.0000,9,  -999.00,9,   -999.0,9,   -999.0,9,   -999.0,9,   -999.0,9,   -999.0,9, -999.00,  -999.0,-999.0000,-999.000,  5.5870,-999.000
   31WTTUNES_2,  P17S,   168,  1,     17,     17,2,19910804,1839,-27.6267,-133.5283, 4142,    852.7,   5.2276,  34.2968,2,  34.2953,2,    225.6,2,    221.6,2,    18.67,2,    27.38,2,     0.00,2,     1.91,2,    0.206,2,    0.125,2, -999.000,9,-999.0000,9,  -999.00,9,   -999.0,9,   -999.0,9,   -999.0,9,   -999.0,9,   -999.0,9, -999.00,  -999.0,-999.0000,-999.000,  5.1562,-999.000
   31WTTUNES_2,  P17S,   168,  1,     18,     18,2,19910804,1839,-27.6267,-133.5283, 4142,    934.4,   4.7986,  34.3053,2,  34.3049,2,    203.8,2,    204.4,2,    25.91,2,    29.72,2,     0.00,2,     2.05,2,    0.091,2,    0.065,2, -999.000,9,-999.0000,9,  -999.00,9,   -999.0,9,   -999.0,9,   -999.0,9,   -999.0,9,   -999.0,9, -999.00,  -999.0,-999.0000,-999.000,  4.7230,-999.000
   31WTTUNES_2,  P17S,   168,  1,     19,     19,2,19910804,1839,-27.6267,-133.5283, 4142,   1017.1,   4.3217,  34.3414,2,  34.3396,2,    187.5,2,    183.9,2,    36.96,2,    32.17,2,     0.00,2,     2.25,2,    0.029,2,    0.021,2, -999.000,9,-999.0000,9,  -999.00,9,   -999.0,9,   -999.0,9,   -999.0,9,   -999.0,9,   -999.0,9, -999.00,  -999.0,-999.0000,-999.000,  4.2424,-999.000
   31WTTUNES_2,  P17S,   168,  1,     20,     20,2,19910804,1839,-27.6267,-133.5283, 4142,   1120.5,   3.7818,  34.3935,2,  34.3912,2,    172.6,2,    171.7,2,    50.64,2,    33.73,2,     0.00,2,     2.36,2,    0.008,2,    0.007,2, -999.000,9,-999.0000,9,  -999.00,9,   -999.0,9,   -999.0,9,   -999.0,9,   -999.0,9,   -999.0,9, -999.00,  -999.0,-999.0000,-999.000,  3.6981,-999.000
   31WTTUNES_2,  P17S,   168,  1,     21,     21,2,19910804,1839,-27.6267,-133.5283, 4142,   1223.4,   3.3459,  34.4443,2,  34.4434,2,    167.0,2,    167.3,2,    63.15,2,    34.22,2,     0.00,2,     2.40,2,    0.006,2,    0.000,2, -999.000,9,-999.0000,9,  -999.00,9,   -999.0,9,   -999.0,9,   -999.0,9,   -999.0,9,   -999.0,9, -999.00,  -999.0,-999.0000,-999.000,  3.2575,-999.000
   31WTTUNES_2,  P17S,   168,  1,     22,     22,2,19910804,1839,-27.6267,-133.5283, 4142,   1327.1,   3.0400,  34.4859,2,  34.4858,2,    166.1,2,    164.5,2,    72.83,2,    34.41,2,     0.00,2,     2.41,2, -999.000,9, -999.000,9, -999.000,9,-999.0000,9,  -999.00,9,   -999.0,9,   -999.0,9,   -999.0,9,   -999.0,9,   -999.0,9, -999.00,  -999.0,-999.0000,-999.000,  2.9461,-999.000
   31WTTUNES_2,  P17S,   168,  1,     23,     23,2,19910804,1839,-27.6267,-133.5283, 4142,   1530.1,   2.6100,  34.5578,2,  34.5561,2,    158.3,2,    158.7,2,    91.59,2,    34.70,2,     0.00,2,     2.44,2, -999.000,9, -999.000,9, -999.000,9,-999.0000,9,  -999.00,9,   -999.0,9,   -999.0,9,   -999.0,9,   -999.0,9,   -999.0,9, -999.00,  -999.0,-999.0000,-999.000,  2.5043,-999.000
   31WTTUNES_2,  P17S,   168,  1,     24,     24,2,19910804,1839,-27.6267,-133.5283, 4142,   1736.4,   2.3281,  34.5995,2,  34.5984,2,    153.1,2,    155.0,2,   105.27,2,    35.09,2,     0.00,2,     2.48,2, -999.000,9, -999.000,9, -999.000,9,-999.0000,9,  -999.00,9,   -999.0,9,   -999.0,9,   -999.0,9,   -999.0,9,   -999.0,9, -999.00,  -999.0,-999.0000,-999.000,  2.2090,-999.000
   31WTTUNES_2,  P17S,   168,  1,     25,     25,2,19910804,1839,-27.6267,-133.5283, 4142,   1941.5,   2.1222,  34.6267,2,  34.6263,2,    153.7,2,    153.2,2,   115.73,2,    35.09,2,     0.00,2,     2.48,2, -999.000,9, -999.000,9, -999.000,9,-999.0000,9,  -999.00,9,   -999.0,9,   -999.0,9,   -999.0,9,   -999.0,9,   -999.0,9, -999.00,  -999.0,-999.0000,-999.000,  1.9888,-999.000
   31WTTUNES_2,  P17S,   168,  1,     26,     26,2,19910804,1839,-27.6267,-133.5283, 4142,   2146.4,   1.9982,  34.6412,2,  34.6396,2,    152.5,2,    153.0,2,   120.42,2,    35.19,2,     0.00,2,     2.48,2, -999.000,9, -999.000,9, -999.000,9,-999.0000,9,  -999.00,9,   -999.0,9,   -999.0,9,   -999.0,9,   -999.0,9,   -999.0,9, -999.00,  -999.0,-999.0000,-999.000,  1.8493,-999.000
   31WTTUNES_2,  P17S,   168,  1,     27,     27,2,19910804,1839,-27.6267,-133.5283, 4142,   2351.6,   1.9002,  34.6514,2,  34.6500,2,    153.0,2,    154.3,2,   123.65,2,    35.19,2,     0.00,2,     2.48,2, -999.000,9, -999.000,9, -999.000,9,-999.0000,9,  -999.00,9,   -999.0,9,   -999.0,9,   -999.0,9,   -999.0,9,   -999.0,9, -999.00,  -999.0,-999.0000,-999.000,  1.7351,-999.000
   31WTTUNES_2,  P17S,   168,  1,     28,     28,2,19910804,1839,-27.6267,-133.5283, 4142,   2556.5,   1.7992,  34.6613,2,  34.6596,2,    156.8,2,    157.2,2,   126.09,2,    35.09,2,     0.00,2,     2.47,2, -999.000,9, -999.000,9, -999.000,9,-999.0000,9,  -999.00,9,   -999.0,9,   -999.0,9,   -999.0,9,   -999.0,9,   -999.0,9, -999.00,  -999.0,-999.0000,-999.000,  1.6176,-999.000
   31WTTUNES_2,  P17S,   168,  1,     29,     29,2,19910804,1839,-27.6267,-133.5283, 4142,   2768.1,   1.7373,  34.6673,2,  34.6663,2,    159.8,2,    159.7,2,   127.26,2,    34.70,2,     0.00,2,     2.44,2, -999.000,9, -999.000,9, -999.000,9,-999.0000,9,  -999.00,9,   -999.0,9,   -999.0,9,   -999.0,9,   -999.0,9,   -999.0,9, -999.00,  -999.0,-999.0000,-999.000,  1.5373,-999.000
   31WTTUNES_2,  P17S,   168,  1,     30,     30,2,19910804,1839,-27.6267,-133.5283, 4142,   2980.9,   1.6713,  34.6723,2,  34.6720,2,    163.0,2,    163.9,2,   127.07,2,    34.60,2,     0.00,2,     2.43,2, -999.000,9, -999.000,9, -999.000,9,-999.0000,9,  -999.00,9,   -999.0,9,   -999.0,9,   -999.0,9,   -999.0,9,   -999.0,9, -999.00,  -999.0,-999.0000,-999.000,  1.4526,-999.000
   31WTTUNES_2,  P17S,   168,  1,     31,     31,2,19910804,1839,-27.6267,-133.5283, 4142,   3190.2,   1.6243,  34.6773,2,  34.6769,2,    168.1,2,    167.4,2,   126.77,2,    34.41,2,     0.00,2,     2.41,2, -999.000,9, -999.000,9, -999.000,9,-999.0000,9,  -999.00,9,   -999.0,9,   -999.0,9,   -999.0,9,   -999.0,9,   -999.0,9, -999.00,  -999.0,-999.0000,-999.000,  1.3863,-999.000
   31WTTUNES_2,  P17S,   168,  1,     32,     32,2,19910804,1839,-27.6267,-133.5283, 4142,   3398.6,   1.5713,  34.6833,2,  34.6812,2,    171.3,2,    171.2,2,   126.38,2,    34.01,2,     0.00,2,     2.38,2, -999.000,9, -999.000,9, -999.000,9,-999.0000,9,  -999.00,9,   -999.0,9,   -999.0,9,   -999.0,9,   -999.0,9,   -999.0,9, -999.00,  -999.0,-999.0000,-999.000,  1.3137,-999.000
   31WTTUNES_2,  P17S,   168,  1,     33,     33,2,19910804,1839,-27.6267,-133.5283, 4142,   3605.6,   1.5423,  34.6855,2,  34.6850,2,    172.7,2,    174.0,2,   125.60,2,    33.82,2,     0.00,2,     2.37,2, -999.000,9, -999.000,9, -999.000,9,-999.0000,9,  -999.00,9,   -999.0,9,   -999.0,9,   -999.0,9,   -999.0,9,   -999.0,9, -999.00,  -999.0,-999.0000,-999.000,  1.2642,-999.000
   31WTTUNES_2,  P17S,   168,  1,     34,     34,2,19910804,1839,-27.6267,-133.5283, 4142,   3809.9,   1.5083,  34.6894,2,  34.6893,2,    178.2,2,    177.0,2,   125.11,2,    33.53,2,     0.00,2,     2.37,2, -999.000,9, -999.000,9, -999.000,9,-999.0000,9,  -999.00,9,   -999.0,9,   -999.0,9,   -999.0,9,   -999.0,9,   -999.0,9, -999.00,  -999.0,-999.0000,-999.000,  1.2096,-999.000
   31WTTUNES_2,  P17S,   168,  1,     35,     35,2,19910804,1839,-27.6267,-133.5283, 4142,   4017.8,   1.5113,  34.6908,2,  34.6907,2,    179.2,2,    178.4,2,   124.91,2,    33.62,2,     0.00,2,     2.35,2, -999.000,9, -999.000,9, -999.000,9,-999.0000,9,  -999.00,9,   -999.0,9,   -999.0,9,   -999.0,9,   -999.0,9,   -999.0,9, -999.00,  -999.0,-999.0000,-999.000,  1.1901,-999.000
   31WTTUNES_2,  P17S,   168,  1,     38,     38,2,19910804,1839,-27.6267,-133.5283, 4142,   4172.9,   1.5173,  34.6928,2,  34.6912,2,    179.4,2,    178.9,2,   125.11,2,    33.62,2,     0.00,2,     2.35,2, -999.000,9, -999.000,9, -999.000,9,-999.0000,9,  -999.00,9,   -999.0,9,   -999.0,9,   -999.0,9,   -999.0,9,   -999.0,9, -999.00,  -999.0,-999.0000,-999.000,  1.1788,-999.000