BOTTLE,20131125MIRCJHATS
EXPOCODE,SECT_ID,STNNBR,CASTNO,SAMPNO,BTLNBR,BTLNBR_FLAG_W,DATE,TIME,LATITUDE,LONGITUDE,DEPTH,CTDPRS,CTDTMP,CTDSAL,CTDSAL_FLAG_W,SALNTY,SALNTY_FLAG_W,CTDOXY,CTDOXY_FLAG_W,OXYGEN,OXYGEN_FLAG_W,SILCAT,SILCAT_FLAG_W,NITRAT,NITRAT_FLAG_W,NITRIT,NITRIT_FLAG_W,PHSPHT,PHSPHT_FLAG_W,CFC-11,CFC-11_FLAG_W,CFC-12,CFC-12_FLAG_W,TRITUM,TRITUM_FLAG_W,HELIUM,HELIUM_FLAG_W,DELHE3,DELHE3_FLAG_W,DELC14,DELC14_FLAG_W,DELC13,DELC13_FLAG_W,TCARBN,TCARBN_FLAG_W,PCO2,PCO2_FLAG_W,ALKALI,ALKALI_FLAG_W,PCO2TMP,C14ERR,HELIER,DELHER,THETA,TRITER
,,,,,,,,,,,,DBAR,ITS-90,PSS-78,,PSS-78,,UMOL/KG,,UMOL/KG,,UMOL/KG,,UMOL/KG,,UMOL/KG,,UMOL/KG,,PMOL/KG,,PMOL/KG,,TU,,NMOL/KG,,PERCNT,,/MILLE,,/MILLE,,UMOL/KG,,UATM,,UMOL/KG,,DEG C,/MILLE,NMOL/KG,PERCNT,DEG C,TU
   31WTTUNES_2,  P17S,   164,  1,     61,     61,2,19910802,2309,-25.6833,-133.0500, 3681,      2.6,  21.5621,  35.6506,2,  35.6542,2,    216.1,3,    219.1,2,     1.66,2,     0.15,2,     0.00,2,     0.11,2,    2.042,2,    1.091,2, -999.000,9,-999.0000,9,  -999.00,9,   -999.0,9,   -999.0,9,   2005.4,2,    281.0,2,   -999.0,9,   20.00,  -999.0,-999.0000,-999.000, 21.5616,-999.000
   31WTTUNES_2,  P17S,   164,  1,      2,      2,2,19910802,2309,-25.6833,-133.0500, 3681,     44.6,  21.5761,  35.6505,2,  35.6532,2,    216.6,2,    219.5,2,     1.45,2,     0.15,2,     0.00,2,     0.11,2,    1.999,2,    1.077,2, -999.000,9,-999.0000,9,  -999.00,9,   -999.0,9,   -999.0,9,   2001.2,2,    287.6,2,   2332.6,2,   20.00,  -999.0,-999.0000,-999.000, 21.5674,-999.000
   31WTTUNES_2,  P17S,   164,  1,      3,      3,2,19910802,2309,-25.6833,-133.0500, 3681,     80.5,  21.5658,  35.6487,2,  35.6510,2,    218.5,2,    218.7,2,     1.44,2,     0.15,2,     0.00,2,     0.11,2,    2.008,2,    1.091,2, -999.000,9,-999.0000,9,  -999.00,9,   -999.0,9,   -999.0,9,   2002.9,2,    284.9,2,   -999.0,9,   20.00,  -999.0,-999.0000,-999.000, 21.5501,-999.000
   31WTTUNES_2,  P17S,   164,  1,      4,      4,2,19910802,2309,-25.6833,-133.0500, 3681,    105.4,  20.8187,  35.5859,2,  35.5876,2,    223.2,2,    222.2,2,     1.43,2,     0.15,2,     0.00,2,     0.10,2,    2.062,2,    1.130,2, -999.000,9,-999.0000,9,  -999.00,9,   -999.0,9,   -999.0,9,   2003.9,2,    287.6,2,   2331.9,2,   20.00,  -999.0,-999.0000,-999.000, 20.7987,-999.000
   31WTTUNES_2,  P17S,   164,  1,      5,      5,2,19910802,2309,-25.6833,-133.0500, 3681,    131.3,  20.7291,  35.5747,2,  35.5764,2,    226.3,2,    222.3,2,     1.42,2,     0.15,2,     0.00,2,     0.10,2,    2.096,2,    1.127,2, -999.000,9,-999.0000,9,  -999.00,9,   -999.0,9,   -999.0,9,   2003.2,2,    289.8,2,   -999.0,9,   20.00,  -999.0,-999.0000,-999.000, 20.7042,-999.000
   31WTTUNES_2,  P17S,   164,  1,      6,      6,2,19910802,2309,-25.6833,-133.0500, 3681,    155.7,  20.4540,  35.5368,2,  35.5556,2,    221.8,2,    222.2,2,     1.21,2,     0.10,2,     0.00,2,     0.10,2,    2.099,2,    1.135,2, -999.000,9,-999.0000,9,  -999.00,9,   -999.0,9,   -999.0,9,   2004.7,2,    291.6,2,   2417.6,2,   20.00,  -999.0,-999.0000,-999.000, 20.4247,-999.000
   31WTTUNES_2,  P17S,   164,  1,      7,      7,2,19910802,2309,-25.6833,-133.0500, 3681,    182.3,  19.9400,  35.5229,2,  35.5233,2,    231.8,6,    220.1,2,     1.20,2,     0.13,2,     0.02,2,     0.10,2,    2.125,2,    1.138,2, -999.000,9,-999.0000,9,  -999.00,9,   -999.0,9,   -999.0,9,   2013.9,2,    314.1,2,   -999.0,9,   20.00,  -999.0,-999.0000,-999.000, 19.9063,-999.000
   31WTTUNES_2,  P17S,   164,  1,     68,     68,2,19910802,2309,-25.6833,-133.0500, 3681,    208.4,  19.4412,  35.4756,2,  35.4777,2,    223.2,2,    221.7,2,     1.19,2,     0.16,2,     0.05,2,     0.11,2,    2.158,2,    1.160,2, -999.000,9,-999.0000,9,  -999.00,9,   -999.0,9,   -999.0,9,   2019.3,2,    320.1,2,   2409.9,2,   20.00,  -999.0,-999.0000,-999.000, 19.4033,-999.000
   31WTTUNES_2,  P17S,   164,  1,     69,     69,2,19910802,2309,-25.6833,-133.0500, 3681,    258.3,  17.5976,  35.3786,2,  35.3766,2,    206.7,2,    203.6,2,     1.37,2,     1.87,2,     0.01,2,     0.29,2,    2.049,2,    1.073,2, -999.000,9,-999.0000,9,  -999.00,9,   -999.0,9,   -999.0,9,   2054.0,2,    388.8,2,   -999.0,9,   20.00,  -999.0,-999.0000,-999.000, 17.5537,-999.000
   31WTTUNES_2,  P17S,   164,  1,     70,     70,2,19910802,2309,-25.6833,-133.0500, 3681,    309.7,  15.8843,  35.2335,2,  35.2274,2,    195.0,2,    194.2,2,     1.55,2,     5.39,2,     0.01,2,     0.52,2,    1.715,2,    0.890,2, -999.000,9,-999.0000,9,  -999.00,9,   -999.0,9,   -999.0,9,   2073.5,2,    445.5,2,   2295.8,2,   20.00,  -999.0,-999.0000,-999.000, 15.8352,-999.000
   31WTTUNES_2,  P17S,   164,  1,     11,     11,2,19910802,2309,-25.6833,-133.0500, 3681,    359.9,  13.8672,  35.0157,2,  35.0161,2,    193.0,2,    191.4,2,     2.52,2,     9.11,2,     0.00,2,     0.75,2,    1.411,2,    0.739,2, -999.000,9,-999.0000,9,  -999.00,9,   -999.0,9,   -999.0,9,   2091.9,2,    508.5,2,   -999.0,9,   20.00,  -999.0,-999.0000,-999.000, 13.8152,-999.000
   31WTTUNES_2,  P17S,   164,  1,     12,     12,2,19910802,2309,-25.6833,-133.0500, 3681,    411.4,  11.6204,  34.7677,2,  34.7588,2,    194.6,2,    192.3,2,     4.07,2,    13.90,2,     0.00,2,     1.04,2,    1.119,2,    0.576,2, -999.000,9,-999.0000,9,  -999.00,9,   -999.0,9,   -999.0,9,   2111.1,2,    604.0,2,   -999.0,9,   20.00,  -999.0,-999.0000,-999.000, 11.5675,-999.000
   31WTTUNES_2,  P17S,   164,  1,     13,     13,2,19910802,2309,-25.6833,-133.0500, 3681,    463.7,   9.2995,  34.5363,2,  34.5324,2,    196.8,2,    200.4,2,     6.01,2,    18.69,2,     0.00,2,     1.35,2,    0.926,2,    0.477,2, -999.000,9,-999.0000,9,  -999.00,9,   -999.0,9,   -999.0,9,   2131.2,2,    703.8,2,   -999.0,9,   20.00,  -999.0,-999.0000,-999.000,  9.2477,-999.000
   31WTTUNES_2,  P17S,   164,  1,     37,     37,2,19910802,2309,-25.6833,-133.0500, 3681,    516.8,   8.0051,  34.4338,2,  34.4233,2,    208.2,2,    213.1,2,     6.97,2,    21.40,2,     0.00,2,     1.51,2,    0.904,2,    0.466,2, -999.000,9,-999.0000,9,  -999.00,9,   -999.0,9,   -999.0,9,   2146.6,2,    747.4,2,   2267.5,2,   20.00,  -999.0,-999.0000,-999.000,  7.9521,-999.000
   31WTTUNES_2,  P17S,   164,  1,     15,     15,2,19910802,2309,-25.6833,-133.0500, 3681,    618.0,   6.5026,  34.3437,2,  34.3438,2,    232.4,2,    233.1,2,     9.30,2,    23.60,2,     0.00,2,     1.63,2,    0.726,2,    0.382,2, -999.000,9,-999.0000,9,  -999.00,9,   -999.0,9,   -999.0,9,   2139.8,2,    766.8,2,   -999.0,9,   20.00,  -999.0,-999.0000,-999.000,  6.4459,-999.000
   31WTTUNES_2,  P17S,   164,  1,     16,     16,2,19910802,2309,-25.6833,-133.0500, 3681,    719.8,   5.7963,  34.3044,2,  34.3181,2,    227.8,2,    232.9,2,    11.43,2,    24.83,2,     0.00,2,     1.70,2,    0.500,2,    0.271,2, -999.000,9,-999.0000,9,  -999.00,9,   -999.0,9,   -999.0,9,   2145.8,2,    785.4,2,   2237.3,2,   20.00,  -999.0,-999.0000,-999.000,  5.7336,-999.000
   31WTTUNES_2,  P17S,   164,  1,     17,     17,2,19910802,2309,-25.6833,-133.0500, 3681,    821.0,   5.1983,  34.2944,2,  34.2957,2,    214.0,2,    214.9,2,    19.42,2,    28.42,2,     0.00,2,     1.95,2,    0.149,2,    0.098,2, -999.000,9,-999.0000,9,  -999.00,9,   -999.0,9,   -999.0,9,   2164.9,2,    890.8,2,   -999.0,9,   20.00,  -999.0,-999.0000,-999.000,  5.1300,-999.000
   31WTTUNES_2,  P17S,   164,  1,     18,     18,2,19910802,2309,-25.6833,-133.0500, 3681,    921.4,   4.6402,  34.3243,2,  34.3243,2,    188.7,2,    186.5,2,    31.31,2,    31.93,2,     0.00,2,     2.21,2,    0.026,3,    0.034,2, -999.000,9,-999.0000,9,  -999.00,9,   -999.0,9,   -999.0,9,   2194.5,2,   1027.3,2,   2275.3,2,   20.00,  -999.0,-999.0000,-999.000,  4.5667,-999.000
   31WTTUNES_2,  P17S,   164,  1,     19,     19,2,19910802,2309,-25.6833,-133.0500, 3681,   1020.2,   4.1740,  34.3765,2,  34.3773,2,    166.6,2,    166.1,2,    45.75,2,    34.21,2,     0.00,2,     2.38,2,    0.011,2,    0.010,2, -999.000,9,-999.0000,9,  -999.00,9,   -999.0,9,   -999.0,9,   2223.4,2,   1155.2,2,   -999.0,9,   20.00,  -999.0,-999.0000,-999.000,  4.0955,-999.000
   31WTTUNES_2,  P17S,   164,  1,     20,     20,2,19910802,2309,-25.6833,-133.0500, 3681,   1118.7,   3.7174,  34.4188,2,  34.4185,2,    161.2,2,    160.3,2,    56.89,2,    34.89,2,     0.00,2,     2.43,2,    0.004,2,    0.006,7, -999.000,9,-999.0000,9,  -999.00,9,   -999.0,9,   -999.0,9,   2236.8,2,   1171.7,2,   2295.7,2,   20.00,  -999.0,-999.0000,-999.000,  3.6344,-999.000
   31WTTUNES_2,  P17S,   164,  1,     21,     21,2,19910802,2309,-25.6833,-133.0500, 3681,   1271.4,   3.2172,  34.4842,2,  34.4841,2,    156.2,2,    154.3,2,    72.97,2,    35.47,2,     0.00,2,     2.49,2,   -0.002,2,    0.000,2, -999.000,9,-999.0000,9,  -999.00,9,   -999.0,9,   -999.0,9,   2256.5,2,   1213.7,2,   -999.0,9,   20.00,  -999.0,-999.0000,-999.000,  3.1261,-999.000
   31WTTUNES_2,  P17S,   164,  1,     22,     22,2,19910802,2309,-25.6833,-133.0500, 3681,   1432.2,   2.8256,  34.5361,2,  34.5351,2,    156.0,2,    155.0,2,    86.36,2,    35.52,2,     0.00,2,     2.49,2,    0.000,2,    0.000,2, -999.000,9,-999.0000,9,  -999.00,9,   -999.0,9,   -999.0,9,   2270.9,2,   1202.3,2,   2337.9,2,   20.00,  -999.0,-999.0000,-999.000,  2.7254,-999.000
   31WTTUNES_2,  P17S,   164,  1,     23,     23,2,19910802,2309,-25.6833,-133.0500, 3681,   1638.5,   2.4296,  34.5866,2,  34.5866,2,    153.4,2,    154.3,2,   102.25,2,    35.42,2,     0.00,2,     2.49,2,   -0.001,2,    0.000,2, -999.000,9,-999.0000,9,  -999.00,9,   -999.0,9,   -999.0,9,   2285.2,2,   1196.5,2,   -999.0,9,   20.00,  -999.0,-999.0000,-999.000,  2.3172,-999.000
   31WTTUNES_2,  P17S,   164,  1,     24,     24,2,19910802,2309,-25.6833,-133.0500, 3681,   1837.3,   2.1916,  34.6169,2,  34.6164,2,    153.3,2,    153.6,2,   112.25,2,    35.48,2,     0.00,2,     2.48,2,    0.001,2,    0.000,2, -999.000,9,-999.0000,9,  -999.00,9,   -999.0,9,   -999.0,9,   2294.2,2,   1197.0,2,   2368.3,2,   20.00,  -999.0,-999.0000,-999.000,  2.0660,-999.000
   31WTTUNES_2,  P17S,   164,  1,     25,     25,2,19910802,2309,-25.6833,-133.0500, 3681,   2039.6,   2.0360,  34.6356,2,  34.6359,2,    155.0,2,    153.8,2,   119.09,2,    35.53,2,     0.00,2,     2.50,2,    0.002,8,    0.000,2, -999.000,9,-999.0000,9,  -999.00,9,   -999.0,9,   -999.0,9,   2300.7,2,   -999.0,5,   -999.0,9, -999.00,  -999.0,-999.0000,-999.000,  1.8956,-999.000
   31WTTUNES_2,  P17S,   164,  1,     26,     26,2,19910802,2309,-25.6833,-133.0500, 3681,   2241.3,   1.9322,  34.6471,2,  34.6475,2,    155.3,2,    155.3,2,   122.31,2,    35.54,2,     0.00,2,     2.50,2, -999.000,9, -999.000,9, -999.000,9,-999.0000,9,  -999.00,9,   -999.0,9,   -999.0,9,   2304.2,2,   1189.7,2,   2378.9,2,   20.00,  -999.0,-999.0000,-999.000,  1.7762,-999.000
   31WTTUNES_2,  P17S,   164,  1,     27,     27,2,19910802,2309,-25.6833,-133.0500, 3681,   2445.3,   1.8368,  34.6565,2,  34.6573,2,    159.3,2,    157.9,2,   124.93,2,    35.33,2,     0.00,2,     2.47,2, -999.000,9, -999.000,9, -999.000,9,-999.0000,9,  -999.00,9,   -999.0,9,   -999.0,9,   2304.3,2,   1175.7,2,   -999.0,9,   20.00,  -999.0,-999.0000,-999.000,  1.6645,-999.000
   31WTTUNES_2,  P17S,   164,  1,     28,     28,2,19910802,2309,-25.6833,-133.0500, 3681,   2647.8,   1.7563,  34.6640,2,  34.6642,2,    161.8,2,    161.8,2,   125.31,2,    34.97,2,     0.00,2,     2.44,2, -999.000,9, -999.000,9, -999.000,9,-999.0000,9,  -999.00,9,   -999.0,9,   -999.0,9,   2302.4,2,   1159.9,2,   2387.0,2,   20.00,  -999.0,-999.0000,-999.000,  1.5671,-999.000
   31WTTUNES_2,  P17S,   164,  1,     29,     29,2,19910802,2309,-25.6833,-133.0500, 3681,   2852.1,   1.6890,  34.6704,2,  34.6728,2,    162.8,2,    165.1,2,   125.49,2,    34.76,2,     0.00,2,     2.43,2, -999.000,9, -999.000,9, -999.000,9,-999.0000,9,  -999.00,9,   -999.0,9,   -999.0,9,   2301.0,2,   1147.1,2,   2372.4,2,   20.00,  -999.0,-999.0000,-999.000,  1.4821,-999.000
   31WTTUNES_2,  P17S,   164,  1,     30,     30,2,19910802,2309,-25.6833,-133.0500, 3681,   3059.6,   1.6368,  34.6760,2,  34.6775,2,    169.7,2,    168.4,2,   125.67,2,    34.67,2,     0.00,2,     2.42,2, -999.000,9, -999.000,9, -999.000,9,-999.0000,9,  -999.00,9,   -999.0,9,   -999.0,9,   2296.0,2,   1138.5,2,   -999.0,9,   20.00,  -999.0,-999.0000,-999.000,  1.4112,-999.000
   31WTTUNES_2,  P17S,   164,  1,     31,     31,2,19910802,2309,-25.6833,-133.0500, 3681,   3263.0,   1.5940,  34.6798,2,  34.6807,2,    170.5,2,    171.2,2,   125.84,2,    34.46,2,     0.00,2,     2.40,2, -999.000,9, -999.000,9, -999.000,9,-999.0000,9,  -999.00,9,   -999.0,9,   -999.0,9,   2298.1,2,   1126.4,2,   -999.0,9,   20.00,  -999.0,-999.0000,-999.000,  1.3495,-999.000
   31WTTUNES_2,  P17S,   164,  1,     33,     33,2,19910802,2309,-25.6833,-133.0500, 3681,   3467.7,   1.5683,  34.6837,2,  34.6846,2,    172.6,2,    173.4,2,   125.38,2,    34.21,2,     0.00,2,     2.40,2, -999.000,9, -999.000,9, -999.000,9,-999.0000,9,  -999.00,9,   -999.0,9,   -999.0,9,   2295.4,2,   1122.6,2,   2374.7,2,   20.00,  -999.0,-999.0000,-999.000,  1.3037,-999.000
   31WTTUNES_2,  P17S,   164,  1,     32,     32,2,19910802,2309,-25.6833,-133.0500, 3681,   3468.9,   1.5688,  34.6835,2,  34.6848,2,    172.2,2,    173.5,2,   125.41,2,    34.15,2,     0.00,2,     2.38,2, -999.000,9, -999.000,9, -999.000,9,-999.0000,9,  -999.00,9,   -999.0,9,   -999.0,9,   2296.3,2,   1118.8,2,   -999.0,9,   20.00,  -999.0,-999.0000,-999.000,  1.3041,-999.000
   31WTTUNES_2,  P17S,   164,  1,     34,     34,2,19910802,2309,-25.6833,-133.0500, 3681,   3677.0,   1.5623,  34.6858,2,  34.6861,2,    175.7,2,    174.8,2,   125.36,2,    34.21,2,     0.00,2,     2.39,2, -999.000,9, -999.000,9, -999.000,9,-999.0000,9,  -999.00,9,   -999.0,9,   -999.0,9,   2294.4,2,   1115.2,2,   2371.0,2,   20.00,  -999.0,-999.0000,-999.000,  1.2762,-999.000
   31WTTUNES_2,  P17S,   164,  1,     35,     35,3,19910802,2309,-25.6833,-133.0500, 3681,   3677.3,   1.5621,  34.6852,2,  34.6873,2,    175.7,2,    175.0,2,   125.53,2,    34.06,2,     0.00,2,     2.38,2, -999.000,9, -999.000,9, -999.000,9,-999.0000,9,  -999.00,9,   -999.0,9,   -999.0,9,   2293.5,2,   1116.5,2,   -999.0,9,   20.00,  -999.0,-999.0000,-999.000,  1.2760,-999.000
   31WTTUNES_2,  P17S,   164,  1,     38,     38,2,19910802,2309,-25.6833,-133.0500, 3681,   3862.4,   1.5697,  34.6864,2,  34.6871,2,    175.5,2,    175.2,2,   125.30,2,    34.12,2,     0.00,2,     2.37,2, -999.000,9, -999.000,9, -999.000,9,-999.0000,9,  -999.00,9,   -999.0,9,   -999.0,9,   2275.7,2,   1111.9,2,   2375.0,2,   20.00,  -999.0,-999.0000,-999.000,  1.2637,-999.000