BOTTLE,20131125MIRCJHATS
EXPOCODE,SECT_ID,STNNBR,CASTNO,SAMPNO,BTLNBR,BTLNBR_FLAG_W,DATE,TIME,LATITUDE,LONGITUDE,DEPTH,CTDPRS,CTDTMP,CTDSAL,CTDSAL_FLAG_W,SALNTY,SALNTY_FLAG_W,CTDOXY,CTDOXY_FLAG_W,OXYGEN,OXYGEN_FLAG_W,SILCAT,SILCAT_FLAG_W,NITRAT,NITRAT_FLAG_W,NITRIT,NITRIT_FLAG_W,PHSPHT,PHSPHT_FLAG_W,CFC-11,CFC-11_FLAG_W,CFC-12,CFC-12_FLAG_W,TRITUM,TRITUM_FLAG_W,HELIUM,HELIUM_FLAG_W,DELHE3,DELHE3_FLAG_W,DELC14,DELC14_FLAG_W,DELC13,DELC13_FLAG_W,TCARBN,TCARBN_FLAG_W,PCO2,PCO2_FLAG_W,ALKALI,ALKALI_FLAG_W,PCO2TMP,C14ERR,HELIER,DELHER,THETA,TRITER
,,,,,,,,,,,,DBAR,ITS-90,PSS-78,,PSS-78,,UMOL/KG,,UMOL/KG,,UMOL/KG,,UMOL/KG,,UMOL/KG,,UMOL/KG,,PMOL/KG,,PMOL/KG,,TU,,NMOL/KG,,PERCNT,,/MILLE,,/MILLE,,UMOL/KG,,UATM,,UMOL/KG,,DEG C,/MILLE,NMOL/KG,PERCNT,DEG C,TU
   31WTTUNES_2,  P17S,   170,  1,     61,     61,2,19910805,0623,-28.5967,-133.8083, 3944,      5.8,  18.9663,  35.4509,2,  35.4527,2,    227.8,3,    230.1,2,     1.53,2,     0.11,2,     0.00,2,     0.09,2, -999.000,9, -999.000,9, -999.000,9,-999.0000,9,  -999.00,9,   -999.0,9,   -999.0,9,   2015.6,2,    315.7,2,   -999.0,9,   20.00,  -999.0,-999.0000,-999.000, 18.9653,-999.000
   31WTTUNES_2,  P17S,   170,  1,      2,      2,2,19910805,0623,-28.5967,-133.8083, 3944,     46.9,  18.9632,  35.4490,2,  35.4446,2,    233.7,2,    230.1,2,     1.33,2,     0.11,2,     0.00,2,     0.09,2,    2.166,2,    1.234,2, -999.000,9,-999.0000,9,  -999.00,9,   -999.0,9,   -999.0,9,   -999.0,9,   -999.0,9,   -999.0,9, -999.00,  -999.0,-999.0000,-999.000, 18.9549,-999.000
   31WTTUNES_2,  P17S,   170,  1,      3,      3,2,19910805,0623,-28.5967,-133.8083, 3944,     76.5,  18.6698,  35.3883,2,  35.3886,2,    230.4,2,    230.9,2,     1.13,2,     0.06,2,     0.00,2,     0.09,2, -999.000,9, -999.000,9, -999.000,9,-999.0000,9,  -999.00,9,   -999.0,9,   -999.0,9,   -999.0,9,   -999.0,9,   -999.0,9, -999.00,  -999.0,-999.0000,-999.000, 18.6564,-999.000
   31WTTUNES_2,  P17S,   170,  1,      4,      4,2,19910805,0623,-28.5967,-133.8083, 3944,    107.3,  18.6533,  35.3845,2,  35.3853,2,    233.4,2,    230.6,2,     1.32,2,     0.06,2,     0.00,2,     0.09,2,    2.275,2,    1.222,2, -999.000,9,-999.0000,9,  -999.00,9,   -999.0,9,   -999.0,9,   -999.0,9,   -999.0,9,   -999.0,9, -999.00,  -999.0,-999.0000,-999.000, 18.6344,-999.000
   31WTTUNES_2,  P17S,   170,  1,      5,      5,2,19910805,0623,-28.5967,-133.8083, 3944,    132.7,  18.4825,  35.3941,2,  35.3981,2,    229.4,2,    221.1,2,     1.51,2,     0.26,2,     0.01,2,     0.16,2, -999.000,9, -999.000,9, -999.000,9,-999.0000,9,  -999.00,9,   -999.0,9,   -999.0,9,   -999.0,9,   -999.0,9,   -999.0,9, -999.00,  -999.0,-999.0000,-999.000, 18.4593,-999.000
   31WTTUNES_2,  P17S,   170,  1,      6,      6,2,19910805,0623,-28.5967,-133.8083, 3944,    156.6,  17.3467,  35.3618,2,  35.3620,2,    214.3,6,    209.2,2,     1.51,2,     1.61,2,     0.02,2,     0.27,2,    2.080,2,    1.122,2, -999.000,9,-999.0000,9,  -999.00,9,   -999.0,9,   -999.0,9,   -999.0,9,   -999.0,9,   -999.0,9, -999.00,  -999.0,-999.0000,-999.000, 17.3204,-999.000
   31WTTUNES_2,  P17S,   170,  1,      7,      7,2,19910805,0623,-28.5967,-133.8083, 3944,    181.8,  16.8545,  35.3392,2,  35.3411,2,    204.9,2,    201.6,2,     1.50,2,     2.78,2,     0.01,2,     0.35,2, -999.000,9, -999.000,9, -999.000,9,-999.0000,9,  -999.00,9,   -999.0,9,   -999.0,9,   -999.0,9,   -999.0,9,   -999.0,9, -999.00,  -999.0,-999.0000,-999.000, 16.8246,-999.000
   31WTTUNES_2,  P17S,   170,  1,     68,     68,2,19910805,0623,-28.5967,-133.8083, 3944,    205.1,  16.5097,  35.3227,2,  35.3208,2,    206.1,2,    198.9,2,     1.50,2,     3.69,2,     0.00,2,     0.40,2,    1.963,2,    1.012,2, -999.000,9,-999.0000,9,  -999.00,9,   -999.0,9,   -999.0,9,   -999.0,9,   -999.0,9,   -999.0,9, -999.00,  -999.0,-999.0000,-999.000, 16.4764,-999.000
   31WTTUNES_2,  P17S,   170,  1,     69,     69,2,19910805,0623,-28.5967,-133.8083, 3944,    254.0,  14.9472,  35.1597,2,  35.1594,2,    198.8,2,    198.0,2,     1.89,2,     6.12,2,     0.00,2,     0.55,2, -999.000,9, -999.000,9, -999.000,9,-999.0000,9,  -999.00,9,   -999.0,9,   -999.0,9,   -999.0,9,   -999.0,9,   -999.0,9, -999.00,  -999.0,-999.0000,-999.000, 14.9087,-999.000
   31WTTUNES_2,  P17S,   170,  1,     70,     70,2,19910805,0623,-28.5967,-133.8083, 3944,    306.1,  13.3783,  34.9927,2,  34.9877,2,    195.0,2,    193.8,2,     2.86,2,     9.70,2,     0.00,2,     0.77,2,    1.474,2,    0.763,2, -999.000,9,-999.0000,9,  -999.00,9,   -999.0,9,   -999.0,9,   -999.0,9,   -999.0,9,   -999.0,9, -999.00,  -999.0,-999.0000,-999.000, 13.3352,-999.000
   31WTTUNES_2,  P17S,   170,  1,     11,     11,2,19910805,0623,-28.5967,-133.8083, 3944,    354.1,  11.3089,  34.7604,2,  34.7602,2,    193.5,2,    196.0,2,     3.83,2,    13.90,2,     0.00,2,     1.05,2, -999.000,9, -999.000,9, -999.000,9,-999.0000,9,  -999.00,9,   -999.0,9,   -999.0,9,   -999.0,9,   -999.0,9,   -999.0,9, -999.00,  -999.0,-999.0000,-999.000, 11.2642,-999.000
   31WTTUNES_2,  P17S,   170,  1,     12,     12,2,19910805,0623,-28.5967,-133.8083, 3944,    397.6,   9.6583,  34.6057,2,  34.5955,2,    201.5,2,    205.1,2,     4.99,2,    17.03,2,     0.00,2,     1.23,2,    1.204,2,    0.600,2, -999.000,9,-999.0000,9,  -999.00,9,   -999.0,9,   -999.0,9,   -999.0,9,   -999.0,9,   -999.0,9, -999.00,  -999.0,-999.0000,-999.000,  9.6129,-999.000
   31WTTUNES_2,  P17S,   170,  1,     13,     13,2,19910805,0623,-28.5967,-133.8083, 3944,    465.3,   7.7307,  34.4320,2,  34.4303,2,    222.7,2,    223.3,2,     6.74,2,    20.52,2,     0.00,2,     1.44,2,    1.176,2,    0.595,2, -999.000,9,-999.0000,9,  -999.00,9,   -999.0,9,   -999.0,9,   -999.0,9,   -999.0,9,   -999.0,9, -999.00,  -999.0,-999.0000,-999.000,  7.6841,-999.000
   31WTTUNES_2,  P17S,   170,  1,     37,     37,2,19910805,0623,-28.5967,-133.8083, 3944,    535.4,   6.9975,  34.3869,2,  34.3866,2,    230.4,2,    237.5,2,     7.52,2,    21.58,2,     0.00,2,     1.50,2,    1.124,2,    0.605,2, -999.000,9,-999.0000,9,  -999.00,9,   -999.0,9,   -999.0,9,   -999.0,9,   -999.0,9,   -999.0,9, -999.00,  -999.0,-999.0000,-999.000,  6.9466,-999.000
   31WTTUNES_2,  P17S,   170,  1,     15,     15,2,19910805,0623,-28.5967,-133.8083, 3944,    609.3,   6.3616,  34.3403,2,  34.3389,2,    237.2,2,    238.1,2,     9.46,2,    23.45,2,     0.00,2,     1.63,2,    0.724,2,    0.379,2, -999.000,9,-999.0000,9,  -999.00,9,   -999.0,9,   -999.0,9,   -999.0,9,   -999.0,9,   -999.0,9, -999.00,  -999.0,-999.0000,-999.000,  6.3064,-999.000
   31WTTUNES_2,  P17S,   170,  1,     16,     16,2,19910805,0623,-28.5967,-133.8083, 3944,    684.6,   5.9946,  34.3197,2,  34.3194,2,    240.0,2,    238.6,2,    11.20,2,    24.42,2,     0.00,2,     1.69,2,    0.501,2,    0.298,2, -999.000,9,-999.0000,9,  -999.00,9,   -999.0,9,   -999.0,9,   -999.0,9,   -999.0,9,   -999.0,9, -999.00,  -999.0,-999.0000,-999.000,  5.9341,-999.000
   31WTTUNES_2,  P17S,   170,  1,     17,     17,2,19910805,0623,-28.5967,-133.8083, 3944,    755.8,   5.6270,  34.3024,2,  34.3020,2,    230.2,2,    231.4,2,    13.92,2,    25.94,2,     0.00,2,     1.78,2,    0.368,2,    0.210,2, -999.000,9,-999.0000,9,  -999.00,9,   -999.0,9,   -999.0,9,   -999.0,9,   -999.0,9,   -999.0,9, -999.00,  -999.0,-999.0000,-999.000,  5.5620,-999.000
   31WTTUNES_2,  P17S,   170,  1,     18,     18,2,19910805,0623,-28.5967,-133.8083, 3944,    827.0,   5.2661,  34.2948,2,  34.2951,2,    224.8,2,    220.8,2,    18.20,2,    27.61,2,     0.00,2,     1.91,2,    0.205,2,    0.126,2, -999.000,9,-999.0000,9,  -999.00,9,   -999.0,9,   -999.0,9,   -999.0,9,   -999.0,9,   -999.0,9, -999.00,  -999.0,-999.0000,-999.000,  5.1968,-999.000
   31WTTUNES_2,  P17S,   170,  1,     19,     19,2,19910805,0623,-28.5967,-133.8083, 3944,    924.2,   4.7893,  34.3066,2,-999.0000,9,    204.2,2,   -999.0,9,  -999.00,9,  -999.00,9,  -999.00,9,  -999.00,9, -999.000,9, -999.000,9, -999.000,9,-999.0000,9,  -999.00,9,   -999.0,9,   -999.0,9,   -999.0,9,   -999.0,9,   -999.0,9, -999.00,  -999.0,-999.0000,-999.000,  4.7146,-999.000
   31WTTUNES_2,  P17S,   170,  1,     20,     20,2,19910805,0623,-28.5967,-133.8083, 3944,   1020.1,   4.2416,  34.3472,2,  34.3463,2,    184.3,2,    182.0,2,    38.84,2,    32.56,2,     0.00,2,     2.27,2,    0.024,2,    0.018,2, -999.000,9,-999.0000,9,  -999.00,9,   -999.0,9,   -999.0,9,   -999.0,9,   -999.0,9,   -999.0,9, -999.00,  -999.0,-999.0000,-999.000,  4.1627,-999.000
   31WTTUNES_2,  P17S,   170,  1,     21,     21,2,19910805,0623,-28.5967,-133.8083, 3944,   1116.2,   3.7117,  34.3935,2,  34.3918,2,    176.2,2,    176.5,2,    50.52,2,    33.54,2,     0.00,2,     2.34,2, -999.000,5, -999.000,5, -999.000,9,-999.0000,9,  -999.00,9,   -999.0,9,   -999.0,9,   -999.0,9,   -999.0,9,   -999.0,9, -999.00,  -999.0,-999.0000,-999.000,  3.6290,-999.000
   31WTTUNES_2,  P17S,   170,  1,     22,     22,2,19910805,0623,-28.5967,-133.8083, 3944,   1268.8,   3.1729,  34.4655,2,  34.4643,2,    169.6,2,    167.3,2,    67.52,2,    34.20,2,     0.00,2,     2.40,2, -999.000,9, -999.000,9, -999.000,9,-999.0000,9,  -999.00,9,   -999.0,9,   -999.0,9,   -999.0,9,   -999.0,9,   -999.0,9, -999.00,  -999.0,-999.0000,-999.000,  3.0825,-999.000
   31WTTUNES_2,  P17S,   170,  1,     23,     23,2,19910805,0623,-28.5967,-133.8083, 3944,   1468.6,   2.7088,  34.5405,2,  34.5400,2,    159.9,2,    159.7,2,    86.57,2,    34.72,2,     0.00,2,     2.45,2, -999.000,9, -999.000,9, -999.000,9,-999.0000,9,  -999.00,9,   -999.0,9,   -999.0,9,   -999.0,9,   -999.0,9,   -999.0,9, -999.00,  -999.0,-999.0000,-999.000,  2.6070,-999.000
   31WTTUNES_2,  P17S,   170,  1,     24,     24,2,19910805,0623,-28.5967,-133.8083, 3944,   1675.3,   2.4031,  34.5880,2,  34.5874,2,    154.9,2,    155.8,2,   101.21,2,    35.08,2,     0.00,2,     2.47,2, -999.000,9, -999.000,9, -999.000,9,-999.0000,9,  -999.00,9,   -999.0,9,   -999.0,9,   -999.0,9,   -999.0,9,   -999.0,9, -999.00,  -999.0,-999.0000,-999.000,  2.2880,-999.000
   31WTTUNES_2,  P17S,   170,  1,     25,     25,2,19910805,0623,-28.5967,-133.8083, 3944,   1883.7,   2.2106,  34.6158,2,  34.6147,2,    155.6,2,    153.8,2,   111.18,2,    35.23,2,     0.00,2,     2.50,2, -999.000,9, -999.000,9, -999.000,9,-999.0000,9,  -999.00,9,   -999.0,9,   -999.0,9,   -999.0,9,   -999.0,9,   -999.0,9, -999.00,  -999.0,-999.0000,-999.000,  2.0809,-999.000
   31WTTUNES_2,  P17S,   170,  1,     26,     26,2,19910805,0623,-28.5967,-133.8083, 3944,   2100.9,   2.0607,  34.6348,2,  34.6329,2,    154.7,2,    152.9,2,   118.00,2,    35.28,2,     0.00,2,     2.51,2, -999.000,9, -999.000,9, -999.000,9,-999.0000,9,  -999.00,9,   -999.0,9,   -999.0,9,   -999.0,9,   -999.0,9,   -999.0,9, -999.00,  -999.0,-999.0000,-999.000,  1.9147,-999.000
   31WTTUNES_2,  P17S,   170,  1,     27,     27,2,19910805,0623,-28.5967,-133.8083, 3944,   2299.9,   1.9294,  34.6483,2,  34.6469,2,    153.8,2,    153.7,2,   123.02,2,    35.28,2,     0.00,2,     2.51,2, -999.000,9, -999.000,9, -999.000,9,-999.0000,9,  -999.00,9,   -999.0,9,   -999.0,9,   -999.0,9,   -999.0,9,   -999.0,9, -999.00,  -999.0,-999.0000,-999.000,  1.7683,-999.000
   31WTTUNES_2,  P17S,   170,  1,     28,     28,2,19910805,0623,-28.5967,-133.8083, 3944,   2500.2,   1.8210,  34.6589,2,  34.6575,2,    154.1,2,    156.1,2,   125.43,2,    35.17,2,     0.00,2,     2.49,2, -999.000,9, -999.000,9, -999.000,9,-999.0000,9,  -999.00,9,   -999.0,9,   -999.0,9,   -999.0,9,   -999.0,9,   -999.0,9, -999.00,  -999.0,-999.0000,-999.000,  1.6440,-999.000
   31WTTUNES_2,  P17S,   170,  1,     29,     29,2,19910805,0623,-28.5967,-133.8083, 3944,   2715.5,   1.7379,  34.6658,2,  34.6653,2,    161.6,2,    159.7,2,   127.02,2,    35.02,2,     0.00,2,     2.48,2, -999.000,9, -999.000,9, -999.000,9,-999.0000,9,  -999.00,9,   -999.0,9,   -999.0,9,   -999.0,9,   -999.0,9,   -999.0,9, -999.00,  -999.0,-999.0000,-999.000,  1.5428,-999.000
   31WTTUNES_2,  P17S,   170,  1,     30,     30,2,19910805,0623,-28.5967,-133.8083, 3944,   2922.9,   1.6865,  34.6713,2,  34.6699,2,    162.9,2,    162.6,2,   126.79,2,    34.60,2,     0.00,2,     2.44,2, -999.000,9, -999.000,9, -999.000,9,-999.0000,9,  -999.00,9,   -999.0,9,   -999.0,9,   -999.0,9,   -999.0,9,   -999.0,9, -999.00,  -999.0,-999.0000,-999.000,  1.4730,-999.000
   31WTTUNES_2,  P17S,   170,  1,     31,     31,2,19910805,0623,-28.5967,-133.8083, 3944,   3133.1,   1.6384,  34.6760,2,  34.6750,2,    162.6,2,    165.9,2,   126.55,2,    34.50,2,     0.00,2,     2.43,2, -999.000,9, -999.000,9, -999.000,9,-999.0000,9,  -999.00,9,   -999.0,9,   -999.0,9,   -999.0,9,   -999.0,9,   -999.0,9, -999.00,  -999.0,-999.0000,-999.000,  1.4056,-999.000
   31WTTUNES_2,  P17S,   170,  1,     32,     32,2,19910805,0623,-28.5967,-133.8083, 3944,   3345.2,   1.5865,  34.6807,2,  34.6799,2,    171.1,2,    169.7,2,   126.11,2,    34.34,2,     0.00,2,     2.41,2, -999.000,9, -999.000,9, -999.000,9,-999.0000,9,  -999.00,9,   -999.0,9,   -999.0,9,   -999.0,9,   -999.0,9,   -999.0,9, -999.00,  -999.0,-999.0000,-999.000,  1.3339,-999.000
   31WTTUNES_2,  P17S,   170,  1,     34,     34,2,19910805,0623,-28.5967,-133.8083, 3944,   3560.6,   1.5386,  34.6857,2,  34.6850,2,    173.5,2,    173.8,2,   125.44,2,    33.98,2,     0.00,2,     2.39,2, -999.000,9, -999.000,9, -999.000,9,-999.0000,9,  -999.00,9,   -999.0,9,   -999.0,9,   -999.0,9,   -999.0,9,   -999.0,9, -999.00,  -999.0,-999.0000,-999.000,  1.2653,-999.000
   31WTTUNES_2,  P17S,   170,  1,     33,     33,2,19910805,0623,-28.5967,-133.8083, 3944,   3561.1,   1.5392,  34.6859,2,  34.6844,2,    173.5,2,    173.7,2,   125.67,2,    34.03,2,     0.00,2,     2.40,2, -999.000,9, -999.000,9, -999.000,9,-999.0000,9,  -999.00,9,   -999.0,9,   -999.0,9,   -999.0,9,   -999.0,9,   -999.0,9, -999.00,  -999.0,-999.0000,-999.000,  1.2658,-999.000
   31WTTUNES_2,  P17S,   170,  1,     35,     35,2,19910805,0623,-28.5967,-133.8083, 3944,   3766.5,   1.5087,  34.6894,2,  34.6877,2,    176.9,2,    176.7,2,   125.00,2,    33.78,2,     0.00,2,     2.37,2, -999.000,9, -999.000,9, -999.000,9,-999.0000,9,  -999.00,9,   -999.0,9,   -999.0,9,   -999.0,9,   -999.0,9,   -999.0,9, -999.00,  -999.0,-999.0000,-999.000,  1.2146,-999.000
   31WTTUNES_2,  P17S,   170,  1,     38,     38,2,19910805,0623,-28.5967,-133.8083, 3944,   3911.4,   1.5057,  34.6912,2,  34.6895,2,    178.6,2,    178.0,2,   124.77,2,    33.77,2,     0.00,2,     2.36,2, -999.000,9, -999.000,9, -999.000,9,-999.0000,9,  -999.00,9,   -999.0,9,   -999.0,9,   -999.0,9,   -999.0,9,   -999.0,9, -999.00,  -999.0,-999.0000,-999.000,  1.1962,-999.000