BOTTLE,20131125MIRCJHATS
EXPOCODE,SECT_ID,STNNBR,CASTNO,SAMPNO,BTLNBR,BTLNBR_FLAG_W,DATE,TIME,LATITUDE,LONGITUDE,DEPTH,CTDPRS,CTDTMP,CTDSAL,CTDSAL_FLAG_W,SALNTY,SALNTY_FLAG_W,CTDOXY,CTDOXY_FLAG_W,OXYGEN,OXYGEN_FLAG_W,SILCAT,SILCAT_FLAG_W,NITRAT,NITRAT_FLAG_W,NITRIT,NITRIT_FLAG_W,PHSPHT,PHSPHT_FLAG_W,CFC-11,CFC-11_FLAG_W,CFC-12,CFC-12_FLAG_W,TRITUM,TRITUM_FLAG_W,HELIUM,HELIUM_FLAG_W,DELHE3,DELHE3_FLAG_W,DELC14,DELC14_FLAG_W,DELC13,DELC13_FLAG_W,TCARBN,TCARBN_FLAG_W,PCO2,PCO2_FLAG_W,ALKALI,ALKALI_FLAG_W,PCO2TMP,C14ERR,HELIER,DELHER,THETA,TRITER
,,,,,,,,,,,,DBAR,ITS-90,PSS-78,,PSS-78,,UMOL/KG,,UMOL/KG,,UMOL/KG,,UMOL/KG,,UMOL/KG,,UMOL/KG,,PMOL/KG,,PMOL/KG,,TU,,NMOL/KG,,PERCNT,,/MILLE,,/MILLE,,UMOL/KG,,UATM,,UMOL/KG,,DEG C,/MILLE,NMOL/KG,PERCNT,DEG C,TU
   31WTTUNES_2,  P16S,   215,  1,     61,     61,2,19910824,0156,-20.0083,-150.5050, 3707,      1.5,  25.4701,  36.1084,2,  36.1124,2,    204.5,3,    205.1,2,     1.22,2,     0.09,2,     0.00,2,     0.18,2,    1.858,2,    0.984,2, -999.000,9,-999.0000,9,  -999.00,9,    106.4,6,      1.4,6,   2006.2,2,    252.8,2,   -999.0,9,   20.00,     5.8,-999.0000,-999.000, 25.4698,-999.000
   31WTTUNES_2,  P16S,   215,  1,     62,     62,2,19910824,0156,-20.0083,-150.5050, 3707,     33.1,  25.3756,  36.1053,2,  36.1090,2,    205.2,2,    205.4,2,     0.80,2,     0.09,2,     0.00,2,     0.17,2,    1.821,2,    0.958,2, -999.000,9,-999.0000,9,  -999.00,9,   -999.0,9,   -999.0,9,   -999.0,9,   -999.0,9,   -999.0,9, -999.00,  -999.0,-999.0000,-999.000, 25.3683,-999.000
   31WTTUNES_2,  P16S,   215,  1,      3,      3,2,19910824,0156,-20.0083,-150.5050, 3707,     78.2,  25.3372,  36.1076,2,  36.1071,2,    204.7,2,    205.5,2,     0.79,2,     0.09,2,     0.00,2,     0.17,2,    1.842,2,    0.970,2, -999.000,9,-999.0000,9,  -999.00,9,   -999.0,9,   -999.0,9,   -999.0,9,   -999.0,9,   -999.0,9, -999.00,  -999.0,-999.0000,-999.000, 25.3200,-999.000
   31WTTUNES_2,  P16S,   215,  1,     64,     64,2,19910824,0156,-20.0083,-150.5050, 3707,    123.9,  24.7541,  36.0095,2,  35.9611,2,    206.7,2,    202.6,2,     0.58,2,     0.08,2,     0.02,2,     0.17,2,    1.792,2,    0.962,2, -999.000,9,-999.0000,9,  -999.00,9,    109.9,6,      1.3,6,   -999.0,9,   -999.0,9,   -999.0,9, -999.00,    10.9,-999.0000,-999.000, 24.7274,-999.000
   31WTTUNES_2,  P16S,   215,  1,      5,      5,2,19910824,0156,-20.0083,-150.5050, 3707,    153.7,  23.6191,  35.9471,2,  35.9503,2,    189.9,2,    187.4,2,     0.58,2,     0.76,2,     0.06,2,     0.26,2,    1.850,2,    0.976,2, -999.000,9,-999.0000,9,  -999.00,9,   -999.0,9,   -999.0,9,   -999.0,9,   -999.0,9,   -999.0,9, -999.00,  -999.0,-999.0000,-999.000, 23.5870,-999.000
   31WTTUNES_2,  P16S,   215,  1,      6,      6,2,19910824,0156,-20.0083,-150.5050, 3707,    177.7,  22.3254,  35.9115,2,  35.9179,2,    180.7,2,    179.3,2,     0.57,2,     1.99,2,     0.03,2,     0.35,2,    1.813,2,    0.949,2, -999.000,9,-999.0000,9,  -999.00,9,    125.9,2,      1.0,2,   -999.0,9,   -999.0,9,   -999.0,9, -999.00,     2.9,-999.0000,-999.000, 22.2897,-999.000
   31WTTUNES_2,  P16S,   215,  1,      7,      7,2,19910824,0156,-20.0083,-150.5050, 3707,    201.5,  21.6185,  35.8745,2,  35.8732,2,    179.2,2,    178.4,2,     0.57,2,     2.48,2,     0.02,2,     0.37,2,    1.851,2,    0.943,2, -999.000,9,-999.0000,9,  -999.00,9,   -999.0,9,   -999.0,9,   -999.0,9,   -999.0,9,   -999.0,9, -999.00,  -999.0,-999.0000,-999.000, 21.5789,-999.000
   31WTTUNES_2,  P16S,   215,  1,     68,     68,2,19910824,0156,-20.0083,-150.5050, 3707,    223.9,  20.7011,  35.8072,2,  35.8062,2,    175.3,2,    177.5,2,     0.56,2,     3.21,2,     0.01,2,     0.41,2,    1.709,2,    0.912,2, -999.000,9,-999.0000,9,  -999.00,9,    129.9,6,      1.0,6,   -999.0,9,   -999.0,9,   -999.0,9, -999.00,     2.3,-999.0000,-999.000, 20.6585,-999.000
   31WTTUNES_2,  P16S,   215,  1,     69,     69,2,19910824,0156,-20.0083,-150.5050, 3707,    247.6,  19.9102,  35.7351,2,  35.7330,2,    177.2,2,    176.8,2,     0.77,2,     3.93,2,     0.01,2,     0.46,2,    1.762,2,    0.903,2, -999.000,9,-999.0000,9,  -999.00,9,   -999.0,9,   -999.0,9,   -999.0,9,   -999.0,9,   -999.0,9, -999.00,  -999.0,-999.0000,-999.000, 19.8643,-999.000
   31WTTUNES_2,  P16S,   215,  1,     70,     70,2,19910824,0156,-20.0083,-150.5050, 3707,    296.4,  18.2176,  35.5240,2,  35.5185,2,    177.4,2,    175.6,2,     1.81,2,     5.72,2,     0.01,2,     0.59,2,    1.569,2,    0.824,2, -999.000,9,-999.0000,9,  -999.00,9,    122.7,2,      0.9,6,   -999.0,9,   -999.0,9,   -999.0,9, -999.00,     5.7,-999.0000,-999.000, 18.1660,-999.000
   31WTTUNES_2,  P16S,   215,  1,     11,     11,2,19910824,0156,-20.0083,-150.5050, 3707,    351.2,  15.4248,  35.1797,2,  35.1712,2,    176.0,2,    175.4,2,     2.64,2,     9.05,2,     0.01,2,     0.80,2,    1.365,2,    0.699,2, -999.000,9,-999.0000,9,  -999.00,9,     87.0,2,      0.8,6,   -999.0,9,   -999.0,9,   -999.0,9, -999.00,     4.6,-999.0000,-999.000, 15.3703,-999.000
   31WTTUNES_2,  P16S,   215,  1,     12,     12,2,19910824,0156,-20.0083,-150.5050, 3707,    405.3,  12.2736,  34.8301,2,  34.8283,2,    175.5,2,    171.2,2,     5.77,2,    14.74,2,     0.01,2,     1.18,2,    0.988,2,    0.510,2, -999.000,9,-999.0000,9,  -999.00,9,   -999.0,9,   -999.0,9,   -999.0,9,   -999.0,9,   -999.0,9, -999.00,  -999.0,-999.0000,-999.000, 12.2196,-999.000
   31WTTUNES_2,  P16S,   215,  1,     13,     13,2,19910824,0156,-20.0083,-150.5050, 3707,    457.0,  10.7239,  34.6850,2,  34.6856,2,    172.5,2,    176.1,2,     6.60,2,    17.50,2,     0.01,2,     1.33,2,    0.847,2,    0.428,2, -999.000,9,-999.0000,9,  -999.00,9,     16.9,6,      0.8,6,   -999.0,9,   -999.0,9,   -999.0,9, -999.00,     2.1,-999.0000,-999.000, 10.6680,-999.000
   31WTTUNES_2,  P16S,   215,  1,     37,     37,2,19910824,0156,-20.0083,-150.5050, 3707,    506.7,   9.1096,  34.5437,2,  34.5398,2,    181.3,2,    185.6,2,     8.06,2,    20.60,2,     0.00,2,     1.51,2,    0.672,2,    0.349,2, -999.000,9,-999.0000,9,  -999.00,9,    -11.4,6,      0.9,6,   -999.0,9,   -999.0,9,   -999.0,9, -999.00,     7.0,-999.0000,-999.000,  9.0535,-999.000
   31WTTUNES_2,  P16S,   215,  1,     15,     15,2,19910824,0156,-20.0083,-150.5050, 3707,    552.6,   7.9213,  34.4496,2,  34.4460,2,    177.9,2,    189.5,2,    10.14,2,    23.37,2,     0.00,2,     1.69,2,    0.496,2,    0.273,2, -999.000,9,-999.0000,9,  -999.00,9,    -21.5,6,      1.0,6,   -999.0,9,   -999.0,9,   -999.0,9, -999.00,     3.1,-999.0000,-999.000,  7.8649,-999.000
   31WTTUNES_2,  P16S,   215,  1,     16,     16,2,19910824,0156,-20.0083,-150.5050, 3707,    655.4,   6.4533,  34.4000,2,  34.3999,2,    171.0,2,    170.7,2,    21.83,2,    28.97,2,     0.00,2,     2.05,2,    0.151,2,    0.091,2, -999.000,9,-999.0000,9,  -999.00,9,    -71.8,6,      0.8,6,   -999.0,9,   -999.0,9,   -999.0,9, -999.00,     6.3,-999.0000,-999.000,  6.3932,-999.000
   31WTTUNES_2,  P16S,   215,  1,     17,     17,2,19910824,0156,-20.0083,-150.5050, 3707,    759.3,   5.5427,  34.4085,2,  34.4097,2,    163.3,2,    160.6,2,    33.52,2,    31.58,2,     0.00,2,     2.22,2,    0.038,2,    0.025,2, -999.000,9,-999.0000,9,  -999.00,9,    -99.0,6,      0.6,6,   -999.0,9,   -999.0,9,   -999.0,9, -999.00,     2.0,-999.0000,-999.000,  5.4777,-999.000
   31WTTUNES_2,  P16S,   215,  1,     18,     18,2,19910824,0156,-20.0083,-150.5050, 3707,    861.7,   4.7910,  34.4263,2,  34.4276,2,    159.5,2,    155.7,2,    46.06,2,    33.17,2,     0.00,2,     2.33,2,    0.012,2,    0.011,2, -999.000,9,-999.0000,9,  -999.00,9,   -136.3,6,      0.4,6,   -999.0,9,   -999.0,9,   -999.0,9, -999.00,     9.7,-999.0000,-999.000,  4.7216,-999.000
   31WTTUNES_2,  P16S,   215,  1,     19,     19,2,19910824,0156,-20.0083,-150.5050, 3707,    962.1,   4.2748,  34.4539,2,  34.4549,2,    151.1,2,    150.9,2,    56.92,2,    34.17,2,     0.00,2,     2.41,2,    0.004,2,    0.005,2, -999.000,9,-999.0000,9,  -999.00,9,   -999.0,9,   -999.0,9,   -999.0,9,   -999.0,9,   -999.0,9, -999.00,  -999.0,-999.0000,-999.000,  4.2003,-999.000
   31WTTUNES_2,  P16S,   215,  1,     20,     20,2,19910824,0156,-20.0083,-150.5050, 3707,   1062.8,   3.8761,  34.4831,2,  34.4835,2,    149.5,2,    149.3,2,    66.55,2,    34.68,2,     0.00,2,     2.45,2,    0.000,2,    0.000,2, -999.000,9,-999.0000,9,  -999.00,9,   -163.5,6,      0.3,6,   -999.0,9,   -999.0,9,   -999.0,9, -999.00,     6.2,-999.0000,-999.000,  3.7962,-999.000
   31WTTUNES_2,  P16S,   215,  1,     21,     21,2,19910824,0156,-20.0083,-150.5050, 3707,   1215.8,   3.3390,  34.5190,2,  34.5175,2,    150.1,2,    150.2,2,    79.98,2,    35.09,2,     0.00,2,     2.48,2, -999.000,9, -999.000,9, -999.000,9,-999.0000,9,  -999.00,9,   -184.7,6,      0.2,6,   -999.0,9,   -999.0,9,   -999.0,9, -999.00,     3.1,-999.0000,-999.000,  3.2512,-999.000
   31WTTUNES_2,  P16S,   215,  1,     22,     22,2,19910824,0156,-20.0083,-150.5050, 3707,   1422.0,   2.7993,  34.5645,2,  34.5640,2,    150.1,2,    149.9,2,    94.75,2,    35.26,2,     0.00,2,     2.49,2, -999.000,9, -999.000,9, -999.000,9,-999.0000,9,  -999.00,9,   -205.9,6,      0.1,6,   -999.0,9,   -999.0,9,   -999.0,9, -999.00,     6.8,-999.0000,-999.000,  2.7002,-999.000
   31WTTUNES_2,  P16S,   215,  1,     23,     23,2,19910824,0156,-20.0083,-150.5050, 3707,   1620.3,   2.5085,  34.5967,2,  34.5963,2,    147.0,2,    148.6,2,   104.70,2,    35.27,2,     0.00,2,     2.50,2, -999.000,9, -999.000,9, -999.000,9,-999.0000,9,  -999.00,9,   -999.0,9,   -999.0,9,   -999.0,9,   -999.0,9,   -999.0,9, -999.00,  -999.0,-999.0000,-999.000,  2.3966,-999.000
   31WTTUNES_2,  P16S,   215,  1,     24,     24,2,19910824,0156,-20.0083,-150.5050, 3707,   1819.1,   2.3203,  34.6147,2,  34.6147,2,    148.5,2,    148.9,2,   110.86,2,    35.48,2,     0.00,2,     2.51,2, -999.000,9, -999.000,9, -999.000,9,-999.0000,9,  -999.00,9,   -220.8,6,      0.0,6,   -999.0,9,   -999.0,9,   -999.0,9, -999.00,     3.5,-999.0000,-999.000,  2.1944,-999.000
   31WTTUNES_2,  P16S,   215,  1,     25,     25,2,19910824,0156,-20.0083,-150.5050, 3707,   2023.1,   2.1355,  34.6319,2,  34.6320,2,    150.4,2,    150.3,2,   118.33,2,    35.54,2,     0.00,2,     2.52,2, -999.000,9, -999.000,9, -999.000,9,-999.0000,9,  -999.00,9,   -999.0,9,   -999.0,9,   -999.0,9,   -999.0,9,   -999.0,9, -999.00,  -999.0,-999.0000,-999.000,  1.9950,-999.000
   31WTTUNES_2,  P16S,   215,  1,     26,     26,2,19910824,0156,-20.0083,-150.5050, 3707,   2226.1,   1.9954,  34.6439,2,  34.6438,2,    151.6,2,    153.5,2,   121.53,2,    35.36,2,     0.00,2,     2.49,2, -999.000,9, -999.000,9, -999.000,9,-999.0000,9,  -999.00,9,   -999.0,9,   -999.0,9,   -999.0,9,   -999.0,9,   -999.0,9, -999.00,  -999.0,-999.0000,-999.000,  1.8396,-999.000
   31WTTUNES_2,  P16S,   215,  1,     28,     28,2,19910824,0156,-20.0083,-150.5050, 3707,   2429.2,   1.9044,  34.6523,2,  34.6525,2,    154.7,2,    155.3,2,   122.56,2,    35.13,2,     0.00,2,     2.48,2, -999.000,9, -999.000,9, -999.000,9,-999.0000,9,  -999.00,9,   -999.0,9,   -999.0,9,   -999.0,9,   -999.0,9,   -999.0,9, -999.00,  -999.0,-999.0000,-999.000,  1.7323,-999.000
   31WTTUNES_2,  P16S,   215,  1,     27,     27,2,19910824,0156,-20.0083,-150.5050, 3707,   2429.6,   1.9023,  34.6525,2,  34.6521,2,    154.7,2,    155.7,2,   123.44,2,    35.17,2,     0.00,2,     2.48,2, -999.000,9, -999.000,9, -999.000,9,-999.0000,9,  -999.00,9,   -999.0,9,   -999.0,9,   -999.0,9,   -999.0,9,   -999.0,9, -999.00,  -999.0,-999.0000,-999.000,  1.7302,-999.000
   31WTTUNES_2,  P16S,   215,  1,     29,     29,2,19910824,0156,-20.0083,-150.5050, 3707,   2627.4,   1.7917,  34.6615,2,  34.6607,2,    158.3,2,    158.8,2,   125.98,2,    35.05,2,     0.00,2,     2.48,2, -999.000,9, -999.000,9, -999.000,9,-999.0000,9,  -999.00,9,   -999.0,9,   -999.0,9,   -999.0,9,   -999.0,9,   -999.0,9, -999.00,  -999.0,-999.0000,-999.000,  1.6037,-999.000
   31WTTUNES_2,  P16S,   215,  1,     30,     30,2,19910824,0156,-20.0083,-150.5050, 3707,   2833.7,   1.7184,  34.6678,2,  34.6678,2,    161.7,2,    162.2,2,   125.95,2,    34.76,2,     0.00,2,     2.45,2, -999.000,9, -999.000,9, -999.000,9,-999.0000,9,  -999.00,9,   -999.0,9,   -999.0,9,   -999.0,9,   -999.0,9,   -999.0,9, -999.00,  -999.0,-999.0000,-999.000,  1.5126,-999.000
   31WTTUNES_2,  P16S,   215,  1,     31,     31,2,19910824,0156,-20.0083,-150.5050, 3707,   3041.6,   1.6715,  34.6725,2,  34.6725,2,    165.2,2,    165.1,2,   125.71,2,    34.52,2,     0.00,2,     2.43,2, -999.000,9, -999.000,9, -999.000,9,-999.0000,9,  -999.00,9,   -999.0,9,   -999.0,9,   -999.0,9,   -999.0,9,   -999.0,9, -999.00,  -999.0,-999.0000,-999.000,  1.4469,-999.000
   31WTTUNES_2,  P16S,   215,  1,     32,     32,2,19910824,0156,-20.0083,-150.5050, 3707,   3249.6,   1.6204,  34.6769,2,  34.6761,2,    166.4,2,    168.3,2,   125.47,2,    34.28,2,     0.00,2,     2.41,2, -999.000,9, -999.000,9, -999.000,9,-999.0000,9,  -999.00,9,   -999.0,9,   -999.0,9,   -999.0,9,   -999.0,9,   -999.0,9, -999.00,  -999.0,-999.0000,-999.000,  1.3766,-999.000
   31WTTUNES_2,  P16S,   215,  1,     33,     33,2,19910824,0156,-20.0083,-150.5050, 3707,   3249.8,   1.6204,  34.6768,2,  34.6757,2,    166.4,2,    168.4,2,   125.87,2,    34.35,2,     0.00,2,     2.42,2, -999.000,9, -999.000,9, -999.000,9,-999.0000,9,  -999.00,9,   -999.0,9,   -999.0,9,   -999.0,9,   -999.0,9,   -999.0,9, -999.00,  -999.0,-999.0000,-999.000,  1.3766,-999.000
   31WTTUNES_2,  P16S,   215,  1,     34,     34,2,19910824,0156,-20.0083,-150.5050, 3707,   3455.7,   1.5595,  34.6824,2,  34.6814,2,    171.9,2,    172.1,2,   126.71,2,    34.21,2,     0.00,2,     2.40,2, -999.000,9, -999.000,9, -999.000,9,-999.0000,9,  -999.00,9,   -999.0,9,   -999.0,9,   -999.0,9,   -999.0,9,   -999.0,9, -999.00,  -999.0,-999.0000,-999.000,  1.2963,-999.000
   31WTTUNES_2,  P16S,   215,  1,     39,     39,2,19910824,0156,-20.0083,-150.5050, 3707,   3625.0,   1.5605,  34.6828,2,  34.6822,2,    174.0,2,    172.9,2,   125.82,2,    34.17,2,     0.00,2,     2.39,2, -999.000,9, -999.000,9, -999.000,9,-999.0000,9,  -999.00,9,   -999.0,9,   -999.0,9,   -999.0,9,   -999.0,9,   -999.0,9, -999.00,  -999.0,-999.0000,-999.000,  1.2799,-999.000
   31WTTUNES_2,  P16S,   215,  1,     38,     38,2,19910824,0156,-20.0083,-150.5050, 3707,   3775.7,   1.5501,  34.6843,2,  34.6842,2,    173.1,2,    174.3,2,   125.15,2,    33.88,2,     0.00,2,     2.37,2, -999.000,9, -999.000,9, -999.000,9,-999.0000,9,  -999.00,9,   -999.0,9,   -999.0,9,   -999.0,9,   -999.0,9,   -999.0,9, -999.00,  -999.0,-999.0000,-999.000,  1.2539,-999.000