BOTTLE,20131125MIRCJHATS
EXPOCODE,SECT_ID,STNNBR,CASTNO,SAMPNO,BTLNBR,BTLNBR_FLAG_W,DATE,TIME,LATITUDE,LONGITUDE,DEPTH,CTDPRS,CTDTMP,CTDSAL,CTDSAL_FLAG_W,SALNTY,SALNTY_FLAG_W,CTDOXY,CTDOXY_FLAG_W,OXYGEN,OXYGEN_FLAG_W,SILCAT,SILCAT_FLAG_W,NITRAT,NITRAT_FLAG_W,NITRIT,NITRIT_FLAG_W,PHSPHT,PHSPHT_FLAG_W,CFC-11,CFC-11_FLAG_W,CFC-12,CFC-12_FLAG_W,TRITUM,TRITUM_FLAG_W,HELIUM,HELIUM_FLAG_W,DELHE3,DELHE3_FLAG_W,DELC14,DELC14_FLAG_W,DELC13,DELC13_FLAG_W,TCARBN,TCARBN_FLAG_W,PCO2,PCO2_FLAG_W,ALKALI,ALKALI_FLAG_W,PCO2TMP,C14ERR,HELIER,DELHER,THETA,TRITER
,,,,,,,,,,,,DBAR,ITS-90,PSS-78,,PSS-78,,UMOL/KG,,UMOL/KG,,UMOL/KG,,UMOL/KG,,UMOL/KG,,UMOL/KG,,PMOL/KG,,PMOL/KG,,TU,,NMOL/KG,,PERCNT,,/MILLE,,/MILLE,,UMOL/KG,,UATM,,UMOL/KG,,DEG C,/MILLE,NMOL/KG,PERCNT,DEG C,TU
   31WTTUNES_2,  P16S,   188,  1,     61,     61,2,19910815,1135,-33.4950,-150.5200, 5207,      4.1,  15.1294,  35.1046,2,  35.1037,2,    248.4,3,    248.2,2,     1.47,2,     0.10,2,     0.00,2,     0.17,2,    2.785,2,    1.444,2, -999.000,9,-999.0000,9,  -999.00,9,   -999.0,9,   -999.0,9,   2040.7,2,    372.0,2,   -999.0,9,   20.00,  -999.0,-999.0000,-999.000, 15.1288,-999.000
   31WTTUNES_2,  P16S,   188,  1,      2,      2,2,19910815,1135,-33.4950,-150.5200, 5207,     51.3,  15.1248,  35.1035,2,  35.1039,2,    250.2,2,    248.2,2,     1.47,2,     0.10,2,     0.00,2,     0.17,2,    2.767,2,    1.451,2, -999.000,9,-999.0000,9,  -999.00,9,   -999.0,9,   -999.0,9,   -999.0,9,   -999.0,9,   -999.0,9, -999.00,  -999.0,-999.0000,-999.000, 15.1170,-999.000
   31WTTUNES_2,  P16S,   188,  1,      3,      3,2,19910815,1135,-33.4950,-150.5200, 5207,     96.7,  15.1092,  35.0979,2,  35.0949,2,    247.9,3,    247.9,2,     1.07,2,     0.10,2,     0.01,2,     0.17,2,    2.752,2,    1.423,2, -999.000,9,-999.0000,9,  -999.00,9,   -999.0,9,   -999.0,9,   -999.0,9,   -999.0,9,   -999.0,9, -999.00,  -999.0,-999.0000,-999.000, 15.0945,-999.000
   31WTTUNES_2,  P16S,   188,  1,     64,     64,2,19910815,1135,-33.4950,-150.5200, 5207,    142.4,  15.0181,  35.0806,2,  35.0752,2,    246.3,3,    246.6,2,     1.27,2,     0.29,2,     0.02,2,     0.19,2,    2.747,2,    1.433,2, -999.000,9,-999.0000,9,  -999.00,9,   -999.0,9,   -999.0,9,   -999.0,9,   -999.0,9,   -999.0,9, -999.00,  -999.0,-999.0000,-999.000, 14.9965,-999.000
   31WTTUNES_2,  P16S,   188,  1,      5,      5,2,19910815,1135,-33.4950,-150.5200, 5207,    193.7,  13.1495,  34.9112,2,  34.9126,2,    223.8,3,    223.4,2,     1.66,2,     5.28,2,     0.01,2,     0.53,2,    2.467,2,    1.323,2, -999.000,9,-999.0000,9,  -999.00,9,   -999.0,9,   -999.0,9,   -999.0,9,   -999.0,9,   -999.0,9, -999.00,  -999.0,-999.0000,-999.000, 13.1227,-999.000
   31WTTUNES_2,  P16S,   188,  1,      6,      6,2,19910815,1135,-33.4950,-150.5200, 5207,    245.0,  11.7089,  34.8301,2,  34.8261,2,    206.7,2,    207.5,2,     2.83,2,    11.14,2,     0.00,2,     0.86,2,    1.986,2,    1.034,2, -999.000,9,-999.0000,9,  -999.00,9,   -999.0,9,   -999.0,9,   -999.0,9,   -999.0,9,   -999.0,9, -999.00,  -999.0,-999.0000,-999.000, 11.6775,-999.000
   31WTTUNES_2,  P16S,   188,  1,      7,      7,2,19910815,1135,-33.4950,-150.5200, 5207,    300.7,  10.0611,  34.6608,2,  34.6594,2,    214.8,2,    213.1,2,     3.62,2,    14.76,2,     0.00,2,     1.08,2,    1.915,2,    0.994,2, -999.000,9,-999.0000,9,  -999.00,9,   -999.0,9,   -999.0,9,   -999.0,9,   -999.0,9,   -999.0,9, -999.00,  -999.0,-999.0000,-999.000, 10.0260,-999.000
   31WTTUNES_2,  P16S,   188,  1,     68,     68,2,19910815,1135,-33.4950,-150.5200, 5207,    362.7,   8.4053,  34.5114,2,  34.5146,2,    227.5,2,    229.5,2,     4.79,2,    17.89,2,     0.00,2,     1.26,2,    2.045,2,    1.055,2, -999.000,9,-999.0000,9,  -999.00,9,   -999.0,9,   -999.0,9,   -999.0,9,   -999.0,9,   -999.0,9, -999.00,  -999.0,-999.0000,-999.000,  8.3673,-999.000
   31WTTUNES_2,  P16S,   188,  1,     69,     69,2,19910815,1135,-33.4950,-150.5200, 5207,    434.5,   7.7137,  34.4639,2,  34.4647,2,    232.5,3,    239.0,2,     5.96,2,    19.45,2,     0.00,2,     1.35,2,    2.018,2,    1.016,2, -999.000,9,-999.0000,9,  -999.00,9,   -999.0,9,   -999.0,9,   -999.0,9,   -999.0,9,   -999.0,9, -999.00,  -999.0,-999.0000,-999.000,  7.6703,-999.000
   31WTTUNES_2,  P16S,   188,  1,     70,     70,2,19910815,1135,-33.4950,-150.5200, 5207,    507.3,   7.2765,  34.4286,2,  34.4288,2,    237.2,2,    241.9,2,     6.84,2,    20.63,2,     0.00,2,     1.43,2,    1.667,2,    0.850,2, -999.000,9,-999.0000,9,  -999.00,9,   -999.0,9,   -999.0,9,   -999.0,9,   -999.0,9,   -999.0,9, -999.00,  -999.0,-999.0000,-999.000,  7.2273,-999.000
   31WTTUNES_2,  P16S,   188,  1,     11,     11,2,19910815,1135,-33.4950,-150.5200, 5207,    578.9,   6.9444,  34.3978,2,  34.3993,2,    244.2,2,    243.2,2,     8.02,2,    21.61,2,     0.00,2,     1.49,2,    1.313,2,    0.682,2, -999.000,9,-999.0000,9,  -999.00,9,   -999.0,9,   -999.0,9,   -999.0,9,   -999.0,9,   -999.0,9, -999.00,  -999.0,-999.0000,-999.000,  6.8894,-999.000
   31WTTUNES_2,  P16S,   188,  1,     12,     12,2,19910815,1135,-33.4950,-150.5200, 5207,    660.5,   6.5836,  34.3683,2,  34.3693,2,    239.9,3,    241.1,2,     9.39,2,    22.78,2,     0.00,2,     1.57,2,    0.973,2,    0.519,2, -999.000,9,-999.0000,9,  -999.00,9,   -999.0,9,   -999.0,9,   -999.0,9,   -999.0,9,   -999.0,9, -999.00,  -999.0,-999.0000,-999.000,  6.5223,-999.000
   31WTTUNES_2,  P16S,   188,  1,     13,     13,2,19910815,1135,-33.4950,-150.5200, 5207,    742.7,   6.2163,  34.3413,2,  34.3436,2,    235.7,2,    235.5,2,    11.83,2,    24.25,2,     0.00,2,     1.67,2,    0.718,2,    0.386,2, -999.000,9,-999.0000,9,  -999.00,9,   -999.0,9,   -999.0,9,   -999.0,9,   -999.0,9,   -999.0,9, -999.00,  -999.0,-999.0000,-999.000,  6.1492,-999.000
   31WTTUNES_2,  P16S,   188,  1,     37,     37,2,19910815,1135,-33.4950,-150.5200, 5207,    824.1,   5.7048,  34.3206,2,  34.3218,2,    224.1,2,    225.5,2,    16.23,2,    26.40,2,     0.00,2,     1.82,2,    0.449,2,    0.245,2, -999.000,9,-999.0000,9,  -999.00,9,   -999.0,9,   -999.0,9,   -999.0,9,   -999.0,9,   -999.0,9, -999.00,  -999.0,-999.0000,-999.000,  5.6330,-999.000
   31WTTUNES_2,  P16S,   188,  1,     15,     15,2,19910815,1135,-33.4950,-150.5200, 5207,    926.5,   5.0564,  34.3157,2,  34.3181,2,    215.3,2,    212.1,2,    24.15,2,    28.84,2,     0.00,2,     1.99,2,    0.218,2,    0.128,2, -999.000,9,-999.0000,9,  -999.00,9,   -999.0,9,   -999.0,9,   -999.0,9,   -999.0,9,   -999.0,9, -999.00,  -999.0,-999.0000,-999.000,  4.9796,-999.000
   31WTTUNES_2,  P16S,   188,  1,     16,     16,2,19910815,1135,-33.4950,-150.5200, 5207,   1028.0,   4.4793,  34.3261,2,  34.3291,2,    203.8,2,    201.4,2,    32.17,2,    30.70,2,     0.00,2,     2.12,2,    0.105,2,    0.064,2, -999.000,9,-999.0000,9,  -999.00,9,   -999.0,9,   -999.0,9,   -999.0,9,   -999.0,9,   -999.0,9, -999.00,  -999.0,-999.0000,-999.000,  4.3978,-999.000
   31WTTUNES_2,  P16S,   188,  1,     17,     17,2,19910815,1135,-33.4950,-150.5200, 5207,   1129.1,   3.8781,  34.3565,2,  34.3587,2,    193.4,2,    191.7,2,    42.72,2,    32.36,2,     0.00,2,     2.23,2,    0.052,2,    0.036,2, -999.000,9,-999.0000,9,  -999.00,9,   -999.0,9,   -999.0,9,   -999.0,9,   -999.0,9,   -999.0,9, -999.00,  -999.0,-999.0000,-999.000,  3.7929,-999.000
   31WTTUNES_2,  P16S,   188,  1,     18,     18,2,19910815,1135,-33.4950,-150.5200, 5207,   1283.2,   3.2865,  34.4215,2,  34.4238,2,    174.3,3,    179.1,2,    58.07,2,    33.73,2,     0.00,2,     2.35,2,    0.007,2,    0.012,2, -999.000,9,-999.0000,9,  -999.00,9,   -999.0,9,   -999.0,9,   -999.0,9,   -999.0,9,   -999.0,9, -999.00,  -999.0,-999.0000,-999.000,  3.1939,-999.000
   31WTTUNES_2,  P16S,   188,  1,     19,     19,2,19910815,1135,-33.4950,-150.5200, 5207,   1436.4,   2.8884,  34.4942,2,  34.4949,2,    164.2,2,    169.3,2,    72.73,2,    34.41,2,     0.00,2,     2.40,2,   -0.002,2,    0.000,2, -999.000,9,-999.0000,9,  -999.00,9,   -999.0,9,   -999.0,9,   -999.0,9,   -999.0,9,   -999.0,9, -999.00,  -999.0,-999.0000,-999.000,  2.7873,-999.000
   31WTTUNES_2,  P16S,   188,  1,     20,     20,2,19910815,1135,-33.4950,-150.5200, 5207,   1641.6,   2.5702,  34.5663,2,  34.5685,2,    159.6,2,    160.3,2,    91.10,2,    34.90,2,     0.00,2,     2.43,2, -999.000,9, -999.000,9, -999.000,9,-999.0000,9,  -999.00,9,   -999.0,9,   -999.0,9,   -999.0,9,   -999.0,9,   -999.0,9, -999.00,  -999.0,-999.0000,-999.000,  2.4558,-999.000
   31WTTUNES_2,  P16S,   188,  1,     21,     21,2,19910815,1135,-33.4950,-150.5200, 5207,   1846.8,   2.3410,  34.6089,2,  34.6106,2,    154.3,2,    154.5,2,   106.15,2,    35.19,2,     0.00,2,     2.47,2, -999.000,9, -999.000,9, -999.000,9,-999.0000,9,  -999.00,9,   -999.0,9,   -999.0,9,   -999.0,9,   -999.0,9,   -999.0,9, -999.00,  -999.0,-999.0000,-999.000,  2.2125,-999.000
   31WTTUNES_2,  P16S,   188,  1,     22,     22,2,19910815,1135,-33.4950,-150.5200, 5207,   2054.6,   2.1685,  34.6316,2,  34.6324,2,    153.7,2,    152.2,2,   114.46,2,    35.38,2,     0.00,2,     2.48,2, -999.000,9, -999.000,9, -999.000,9,-999.0000,9,  -999.00,9,   -999.0,9,   -999.0,9,   -999.0,9,   -999.0,9,   -999.0,9, -999.00,  -999.0,-999.0000,-999.000,  2.0248,-999.000
   31WTTUNES_2,  P16S,   188,  1,     23,     23,2,19910815,1135,-33.4950,-150.5200, 5207,   2261.1,   2.0215,  34.6442,2,  34.6459,2,    149.8,2,    148.6,2,   124.23,2,    35.77,2,     0.00,2,     2.51,2, -999.000,9, -999.000,9, -999.000,9,-999.0000,9,  -999.00,9,   -999.0,9,   -999.0,9,   -999.0,9,   -999.0,9,   -999.0,9, -999.00,  -999.0,-999.0000,-999.000,  1.8622,-999.000
   31WTTUNES_2,  P16S,   188,  1,     24,     24,2,19910815,1135,-33.4950,-150.5200, 5207,   2467.6,   1.9320,  34.6529,2,  34.6538,2,    148.9,2,    148.6,2,   128.44,2,    35.87,2,     0.00,2,     2.52,2, -999.000,9, -999.000,9, -999.000,9,-999.0000,9,  -999.00,9,   -999.0,9,   -999.0,9,   -999.0,9,   -999.0,9,   -999.0,9, -999.00,  -999.0,-999.0000,-999.000,  1.7559,-999.000
   31WTTUNES_2,  P16S,   188,  1,     25,     25,2,19910815,1135,-33.4950,-150.5200, 5207,   2674.5,   1.8537,  34.6600,2,  34.6603,2,    148.8,2,    149.5,2,   132.05,2,    35.87,2,     0.00,2,     2.52,2, -999.000,9, -999.000,9, -999.000,9,-999.0000,9,  -999.00,9,   -999.0,9,   -999.0,9,   -999.0,9,   -999.0,9,   -999.0,9, -999.00,  -999.0,-999.0000,-999.000,  1.6601,-999.000
   31WTTUNES_2,  P16S,   188,  1,     26,     26,2,19910815,1135,-33.4950,-150.5200, 5207,   2878.9,   1.7868,  34.6665,2,  34.6667,2,    152.8,2,    151.6,2,   132.83,2,    35.68,2,     0.00,2,     2.51,2, -999.000,9, -999.000,9, -999.000,9,-999.0000,9,  -999.00,9,   -999.0,9,   -999.0,9,   -999.0,9,   -999.0,9,   -999.0,9, -999.00,  -999.0,-999.0000,-999.000,  1.5754,-999.000
   31WTTUNES_2,  P16S,   188,  1,     27,     27,2,19910815,1135,-33.4950,-150.5200, 5207,   3079.1,   1.7197,  34.6733,2,  34.6742,2,    156.6,2,    156.8,2,   131.95,2,    35.29,2,     0.00,2,     2.47,2, -999.000,9, -999.000,9, -999.000,9,-999.0000,9,  -999.00,9,   -999.0,9,   -999.0,9,   -999.0,9,   -999.0,9,   -999.0,9, -999.00,  -999.0,-999.0000,-999.000,  1.4904,-999.000
   31WTTUNES_2,  P16S,   188,  1,     28,     28,2,19910815,1135,-33.4950,-150.5200, 5207,   3285.7,   1.6607,  34.6821,2,  34.6817,2,    162.3,2,    162.7,2,   130.09,2,    34.80,2,     0.00,2,     2.44,2, -999.000,9, -999.000,9, -999.000,9,-999.0000,9,  -999.00,9,   -999.0,9,   -999.0,9,   -999.0,9,   -999.0,9,   -999.0,9, -999.00,  -999.0,-999.0000,-999.000,  1.4123,-999.000
   31WTTUNES_2,  P16S,   188,  1,     29,     29,2,19910815,1135,-33.4950,-150.5200, 5207,   3494.9,   1.5708,  34.6902,2,  34.6903,2,    171.0,2,    171.8,2,   126.67,2,    34.21,2,     0.00,2,     2.38,2, -999.000,9, -999.000,9, -999.000,9,-999.0000,9,  -999.00,9,   -999.0,9,   -999.0,9,   -999.0,9,   -999.0,9,   -999.0,9, -999.00,  -999.0,-999.0000,-999.000,  1.3033,-999.000
   31WTTUNES_2,  P16S,   188,  1,     30,     30,2,19910815,1135,-33.4950,-150.5200, 5207,   3758.3,   1.4843,  34.7021,2,  34.7019,2,    180.1,2,    183.6,2,   121.59,2,    33.04,2,     0.00,2,     2.32,2, -999.000,9, -999.000,9, -999.000,9,-999.0000,9,  -999.00,9,   -999.0,9,   -999.0,9,   -999.0,9,   -999.0,9,   -999.0,9, -999.00,  -999.0,-999.0000,-999.000,  1.1916,-999.000
   31WTTUNES_2,  P16S,   188,  1,     31,     31,2,19910815,1135,-33.4950,-150.5200, 5207,   4017.7,   1.3612,  34.7097,2,  34.7090,2,    192.1,2,    193.2,2,   118.46,2,    32.35,2,     0.00,2,     2.26,2, -999.000,9, -999.000,9, -999.000,9,-999.0000,9,  -999.00,9,   -999.0,9,   -999.0,9,   -999.0,9,   -999.0,9,   -999.0,9, -999.00,  -999.0,-999.0000,-999.000,  1.0441,-999.000
   31WTTUNES_2,  P16S,   188,  1,     32,     32,2,19910815,1135,-33.4950,-150.5200, 5207,   4278.3,   1.2446,  34.7098,2,  34.7093,2,    197.4,2,    198.7,2,   119.93,2,    32.25,2,     0.00,2,     2.25,2, -999.000,9, -999.000,9, -999.000,9,-999.0000,9,  -999.00,9,   -999.0,9,   -999.0,9,   -999.0,9,   -999.0,9,   -999.0,9, -999.00,  -999.0,-999.0000,-999.000,  0.9023,-999.000
   31WTTUNES_2,  P16S,   188,  1,     33,     33,2,19910815,1135,-33.4950,-150.5200, 5207,   4534.0,   1.1645,  34.7102,2,  34.7091,2,    201.3,2,    202.3,2,   120.90,2,    32.25,2,     0.00,2,     2.24,2, -999.000,9, -999.000,9, -999.000,9,-999.0000,9,  -999.00,9,   -999.0,9,   -999.0,9,   -999.0,9,   -999.0,9,   -999.0,9, -999.00,  -999.0,-999.0000,-999.000,  0.7960,-999.000
   31WTTUNES_2,  P16S,   188,  1,     34,     34,2,19910815,1135,-33.4950,-150.5200, 5207,   4795.2,   1.1211,  34.7095,2,  34.7089,2,    204.5,2,    204.7,2,   122.37,2,    32.25,2,     0.00,2,     2.24,2, -999.000,9, -999.000,9, -999.000,9,-999.0000,9,  -999.00,9,   -999.0,9,   -999.0,9,   -999.0,9,   -999.0,9,   -999.0,9, -999.00,  -999.0,-999.0000,-999.000,  0.7238,-999.000
   31WTTUNES_2,  P16S,   188,  1,     35,     35,2,19910815,1135,-33.4950,-150.5200, 5207,   5049.9,   1.1246,  34.7089,2,  34.7082,2,    205.0,2,    205.1,2,   122.37,2,    32.25,2,     0.00,2,     2.23,2, -999.000,9, -999.000,9, -999.000,9,-999.0000,9,  -999.00,9,   -999.0,9,   -999.0,9,   -999.0,9,   -999.0,9,   -999.0,9, -999.00,  -999.0,-999.0000,-999.000,  0.6970,-999.000
   31WTTUNES_2,  P16S,   188,  1,     38,     38,2,19910815,1135,-33.4950,-150.5200, 5207,   5296.8,   1.1142,  34.7085,2,  34.7077,2,    206.9,2,    206.1,2,   123.15,2,    32.16,2,     0.00,2,     2.23,2, -999.000,9, -999.000,9, -999.000,9,-999.0000,9,  -999.00,9,   -999.0,9,   -999.0,9,   -999.0,9,   -999.0,9,   -999.0,9, -999.00,  -999.0,-999.0000,-999.000,  0.6569,-999.000