BOTTLE,20131125MIRCJHATS
EXPOCODE,SECT_ID,STNNBR,CASTNO,SAMPNO,BTLNBR,BTLNBR_FLAG_W,DATE,TIME,LATITUDE,LONGITUDE,DEPTH,CTDPRS,CTDTMP,CTDSAL,CTDSAL_FLAG_W,SALNTY,SALNTY_FLAG_W,CTDOXY,CTDOXY_FLAG_W,OXYGEN,OXYGEN_FLAG_W,SILCAT,SILCAT_FLAG_W,NITRAT,NITRAT_FLAG_W,NITRIT,NITRIT_FLAG_W,PHSPHT,PHSPHT_FLAG_W,CFC-11,CFC-11_FLAG_W,CFC-12,CFC-12_FLAG_W,TRITUM,TRITUM_FLAG_W,HELIUM,HELIUM_FLAG_W,DELHE3,DELHE3_FLAG_W,DELC14,DELC14_FLAG_W,DELC13,DELC13_FLAG_W,TCARBN,TCARBN_FLAG_W,PCO2,PCO2_FLAG_W,ALKALI,ALKALI_FLAG_W,PCO2TMP,C14ERR,HELIER,DELHER,THETA,TRITER
,,,,,,,,,,,,DBAR,ITS-90,PSS-78,,PSS-78,,UMOL/KG,,UMOL/KG,,UMOL/KG,,UMOL/KG,,UMOL/KG,,UMOL/KG,,PMOL/KG,,PMOL/KG,,TU,,NMOL/KG,,PERCNT,,/MILLE,,/MILLE,,UMOL/KG,,UATM,,UMOL/KG,,DEG C,/MILLE,NMOL/KG,PERCNT,DEG C,TU
   31WTTUNES_2,  P17S,   126,  1,      1,      1,2,19910722,1227, -7.0100,-135.0100, 4311,      0.2,  27.5440,  35.1768,2,  35.1829,2,    208.6,3,    211.0,2,     2.41,2,     4.12,2,     0.06,2,     0.49,2,    1.612,2,    0.935,8,    1.080,2,   1.7670,2,    -0.84,2,   -999.0,9,   -999.0,9,   -999.0,5,    291.5,2,   -999.0,9,   20.00,  -999.0,  0.0080,   0.150, 27.5439,   0.012
   31WTTUNES_2,  P17S,   126,  1,      2,      2,2,19910722,1227, -7.0100,-135.0100, 4311,     42.0,  27.5490,  35.1789,2,  35.1823,2,    211.2,6,    211.8,2,     2.40,2,     4.12,2,     0.06,2,     0.49,2,    1.600,2,    0.921,8,    0.973,2,   1.8260,2,    -0.95,2,   -999.0,9,   -999.0,9,   -999.0,9,   -999.0,9,   -999.0,9, -999.00,  -999.0,  0.0090,   0.150, 27.5392,   0.011
   31WTTUNES_2,  P17S,   126,  1,      3,      3,2,19910722,1227, -7.0100,-135.0100, 4311,     82.4,  27.4979,  35.8485,2,  35.8647,2,    207.2,6,    204.5,2,     2.40,2,     4.01,2,     0.06,2,     0.57,2,    1.627,2,    0.949,2,    0.971,2,   1.7360,2,    -1.01,2,   -999.0,9,   -999.0,9,   -999.0,9,   -999.0,9,   -999.0,9, -999.00,  -999.0,  0.0080,   0.150, 27.4787,   0.011
   31WTTUNES_2,  P17S,   126,  1,      4,      4,2,19910722,1227, -7.0100,-135.0100, 4311,     96.9,  26.4106,  35.9421,2,  35.9509,2,    191.3,2,    195.3,2,     2.39,2,     3.50,2,     0.08,2,     0.62,2,    1.682,2,    0.970,2,    0.927,2,   1.7170,2,    -0.85,2,   -999.0,9,   -999.0,9,   -999.0,9,   -999.0,9,   -999.0,9, -999.00,  -999.0,  0.0080,   0.150, 26.3887,   0.011
   31WTTUNES_2,  P17S,   126,  1,      5,      5,2,19910722,1227, -7.0100,-135.0100, 4311,    116.7,  25.0603,  36.0749,2,  36.0792,2,    186.8,2,    184.8,2,     2.38,2,     2.46,2,     0.86,2,     0.65,2,    1.750,2,    1.032,8,    0.828,2,   1.7370,2,    -0.98,2,   -999.0,9,   -999.0,9,   -999.0,9,   -999.0,9,   -999.0,9, -999.00,  -999.0,  0.0080,   0.150, 25.0349,   0.010
   31WTTUNES_2,  P17S,   126,  1,      6,      6,3,19910722,1227, -7.0100,-135.0100, 4311,    136.8,  20.9068,  35.8314,2,  35.2100,4,    163.0,2,    110.3,4,    33.83,4,    21.82,4,     0.22,4,     1.70,4,    0.848,4,    0.457,4, -999.000,9,-999.0000,9,  -999.00,9,   -999.0,9,   -999.0,9,   -999.0,9,   -999.0,9,   -999.0,9, -999.00,  -999.0,-999.0000,-999.000, 20.8806,-999.000
   31WTTUNES_2,  P17S,   126,  1,      7,      7,2,19910722,1227, -7.0100,-135.0100, 4311,    156.4,  19.3157,  35.6209,2,  35.6157,2,    146.0,2,    144.7,2,     3.79,2,     9.96,2,     0.05,2,     0.96,2,    1.842,2,    0.977,2,    0.605,2,   1.8070,2,    -0.25,2,   -999.0,9,   -999.0,9,   -999.0,9,   -999.0,9,   -999.0,9, -999.00,  -999.0,  0.0080,   0.150, 19.2874,   0.009
   31WTTUNES_2,  P17S,   126,  1,      8,      8,2,19910722,1227, -7.0100,-135.0100, 4311,    175.8,  18.2307,  35.4964,2,  35.4948,2,    121.2,2,    131.7,2,     4.39,2,    11.56,2,     0.02,2,     1.06,2,    1.664,2,    0.890,2, -999.000,9,-999.0000,9,  -999.00,9,   -999.0,9,   -999.0,9,   -999.0,9,   -999.0,9,   -999.0,9, -999.00,  -999.0,-999.0000,-999.000, 18.2002,-999.000
   31WTTUNES_2,  P17S,   126,  1,      9,      9,2,19910722,1227, -7.0100,-135.0100, 4311,    200.0,  15.9480,  35.2401,2,  35.2378,2,     92.2,2,     90.6,2,     8.23,2,    17.10,2,     0.01,2,     1.48,2,    1.262,2,    0.676,8,    0.455,2,   0.0000,2,     0.00,2,   -999.0,9,   -999.0,9,   -999.0,9,   -999.0,9,   -999.0,9, -999.00,  -999.0,-999.0000,   0.150, 15.9163,   0.009
   31WTTUNES_2,  P17S,   126,  1,     10,     10,2,19910722,1227, -7.0100,-135.0100, 4311,    250.9,  12.5227,  34.9102,2,  34.9100,2,     19.4,2,     19.3,2,    21.38,2,    29.77,2,     0.01,2,     2.34,2,    0.290,2,    0.168,2,    0.232,2,   1.8300,2,     3.89,2,   -999.0,9,   -999.0,9,   -999.0,9,   -999.0,9,   -999.0,9, -999.00,  -999.0,  0.0090,   0.150, 12.4890,   0.005
   31WTTUNES_2,  P17S,   126,  1,     11,     11,2,19910722,1227, -7.0100,-135.0100, 4311,    301.4,  11.4100,  34.8379,2,  34.8394,2,     35.3,2,     34.3,2,    25.00,2,    31.31,2,     0.01,2,     2.30,2,    0.143,2,    0.090,2,    0.160,2,   1.8570,2,     4.19,2,   -999.0,9,   -999.0,9,   -999.0,9,   -999.0,9,   -999.0,9, -999.00,  -999.0,  0.0090,   0.150, 11.3718,   0.005
   31WTTUNES_2,  P17S,   126,  1,     12,     12,2,19910722,1227, -7.0100,-135.0100, 4311,    350.3,  10.6462,  34.7867,2,  34.7879,2,     33.2,2,     32.7,2,    28.61,2,    32.95,2,     0.01,2,     2.40,2,    0.091,2,    0.057,2,    0.114,2,   1.8400,2,     4.51,2,   -999.0,9,   -999.0,9,   -999.0,9,   -999.0,9,   -999.0,9, -999.00,  -999.0,  0.0090,   0.150, 10.6037,   0.004
   31WTTUNES_2,  P17S,   126,  1,     13,     13,2,19910722,1227, -7.0100,-135.0100, 4311,    401.3,   9.9475,  34.7436,2,  34.7441,2,     28.8,2,     34.1,2,    31.01,2,    34.23,2,     0.00,2,     2.48,2,    0.052,2,    0.036,2,    0.057,2,   1.9180,2,     4.69,2,   -999.0,9,   -999.0,9,   -999.0,9,   -999.0,9,   -999.0,9, -999.00,  -999.0,  0.0090,   0.150,  9.9007,   0.003
   31WTTUNES_2,  P17S,   126,  1,     14,     14,2,19910722,1227, -7.0100,-135.0100, 4311,    461.5,   8.9359,  34.6778,2,  34.6786,2,     51.9,2,     52.1,2,    33.01,2,    34.95,2,     0.00,2,     2.49,2,    0.028,2,    0.027,2, -999.000,9,-999.0000,9,  -999.00,9,   -999.0,9,   -999.0,9,   -999.0,9,   -999.0,9,   -999.0,9, -999.00,  -999.0,-999.0000,-999.000,  8.8854,-999.000
   31WTTUNES_2,  P17S,   126,  1,     15,     15,2,19910722,1227, -7.0100,-135.0100, 4311,    539.4,   8.1012,  34.6281,2,  34.6281,2,     61.0,2,     63.4,2,    36.01,2,    35.73,2,     0.00,2,     2.52,2, -999.000,5, -999.000,5,    0.019,2,   1.8150,2,     6.33,2,   -999.0,9,   -999.0,9,   -999.0,9,   -999.0,9,   -999.0,9, -999.00,  -999.0,  0.0090,   0.150,  8.0453,   0.002
   31WTTUNES_2,  P17S,   126,  1,     16,     16,2,19910722,1227, -7.0100,-135.0100, 4311,    640.4,   7.0177,  34.5749,2,  34.5767,2,     67.4,2,     76.1,3,    43.65,2,    37.86,2,     0.00,2,     2.67,2,    0.050,2,    0.033,2, -999.000,9,-999.0000,9,  -999.00,9,   -999.0,9,   -999.0,9,   -999.0,9,   -999.0,9,   -999.0,9, -999.00,  -999.0,-999.0000,-999.000,  6.9562,-999.000
   31WTTUNES_2,  P17S,   126,  1,     17,     17,2,19910722,1227, -7.0100,-135.0100, 4311,    764.8,   5.9923,  34.5402,2,  34.5421,2,     76.8,2,     76.1,2,    54.51,2,    39.11,2,     0.00,2,     2.78,2,    0.002,8,    0.003,2,    0.006,2,   1.8760,2,    10.50,2,   -999.0,9,   -999.0,9,   -999.0,9,   -999.0,9,   -999.0,9, -999.00,  -999.0,  0.0090,   0.150,  5.9240,   0.002
   31WTTUNES_2,  P17S,   126,  1,     18,     18,2,19910722,1227, -7.0100,-135.0100, 4311,    907.1,   4.9548,  34.5330,2,  34.5339,2,     87.0,2,     86.6,2,    69.43,2,    39.47,2,     0.00,2,     2.82,2,    0.002,8,    0.008,8,    0.008,2,   1.9010,2,    14.32,2,   -999.0,9,   -999.0,9,   -999.0,9,   -999.0,9,   -999.0,9, -999.00,  -999.0,  0.0090,   0.150,  4.8801,   0.002
   31WTTUNES_2,  P17S,   126,  1,     19,     19,2,19910722,1227, -7.0100,-135.0100, 4311,   1103.4,   4.0064,  34.5529,2,  34.5541,2,    101.5,2,    101.9,2,    88.88,2,    38.62,2,     0.00,2,     2.76,2, -999.000,9, -999.000,9,    0.004,2,   1.8590,2,    19.72,2,   -999.0,9,   -999.0,9,   -999.0,9,   -999.0,9,   -999.0,9, -999.00,  -999.0,  0.0090,   0.150,  3.9219,   0.001
   31WTTUNES_2,  P17S,   126,  1,     20,     20,2,19910722,1227, -7.0100,-135.0100, 4311,   1302.7,   3.4357,  34.5742,2,  34.5771,2,    104.8,2,    105.3,2,   103.34,2,    38.61,2,     0.00,2,     2.77,2, -999.000,9, -999.000,9, -999.000,9,   1.8810,2,    22.10,2,   -999.0,9,   -999.0,9,   -999.0,9,   -999.0,9,   -999.0,9, -999.00,  -999.0,-999.0000,-999.000,  3.3397,-999.000
   31WTTUNES_2,  P17S,   126,  1,     21,     21,2,19910722,1227, -7.0100,-135.0100, 4311,   1508.5,   2.9650,  34.5970,2,  34.5979,2,    107.3,2,    107.9,2,   115.23,2,    38.71,2,     0.00,2,     2.77,2, -999.000,9, -999.000,9, -999.000,9,   1.8970,2,    24.66,2,   -999.0,9,   -999.0,9,   -999.0,9,   -999.0,9,   -999.0,9, -999.00,  -999.0,-999.0000,-999.000,  2.8568,-999.000
   31WTTUNES_2,  P17S,   126,  1,     22,     22,2,19910722,1227, -7.0100,-135.0100, 4311,   1715.8,   2.6352,  34.6158,2,  34.6176,2,    108.4,2,    107.4,2,   126.37,2,    38.81,2,     0.00,2,     2.78,2, -999.000,9, -999.000,9, -999.000,9,   1.9040,2,    26.19,2,   -999.0,9,   -999.0,9,   -999.0,9,   -999.0,9,   -999.0,9, -999.00,  -999.0,-999.0000,-999.000,  2.5137,-999.000
   31WTTUNES_2,  P17S,   126,  1,     23,     23,2,19910722,1227, -7.0100,-135.0100, 4311,   1918.8,   2.3584,  34.6321,2,  34.6325,2,    113.5,2,    114.2,2,   133.19,2,    38.27,2,     0.00,2,     2.72,2, -999.000,9, -999.000,9, -999.000,9,   1.9180,2,    28.11,2,   -999.0,9,   -999.0,9,   -999.0,9,   -999.0,9,   -999.0,9, -999.00,  -999.0,-999.0000,-999.000,  2.2235,-999.000
   31WTTUNES_2,  P17S,   126,  1,     24,     24,2,19910722,1227, -7.0100,-135.0100, 4311,   2123.0,   2.1596,  34.6438,2,  34.6457,2,    122.1,2,    122.0,2,   136.67,2,    37.85,2,     0.00,2,     2.68,2, -999.000,9, -999.000,9, -999.000,9,-999.0000,5,    29.05,3,   -999.0,9,   -999.0,9,   -999.0,9,   -999.0,9,   -999.0,9, -999.00,  -999.0,-999.0000,-999.000,  2.0101,-999.000
   31WTTUNES_2,  P17S,   126,  1,     25,     25,2,19910722,1227, -7.0100,-135.0100, 4311,   2332.3,   1.9987,  34.6553,2,  34.6563,2,    129.2,2,    128.5,2,   140.15,2,    37.42,2,     0.00,2,     2.63,2, -999.000,9, -999.000,9, -999.000,9,   1.9340,2,    30.65,2,   -999.0,9,   -999.0,9,   -999.0,9,   -999.0,9,   -999.0,9, -999.00,  -999.0,-999.0000,-999.000,  1.8335,-999.000
   31WTTUNES_2,  P17S,   126,  1,     26,     26,2,19910722,1227, -7.0100,-135.0100, 4311,   2538.5,   1.8747,  34.6646,2,  34.6662,2,    133.3,2,    133.6,2,   143.01,2,    37.15,2,     0.00,2,     2.60,2, -999.000,9, -999.000,9, -999.000,9,   1.9350,2,    32.68,2,   -999.0,9,   -999.0,9,   -999.0,9,   -999.0,9,   -999.0,9, -999.00,  -999.0,-999.0000,-999.000,  1.6933,-999.000
   31WTTUNES_2,  P17S,   126,  1,     27,     27,2,19910722,1227, -7.0100,-135.0100, 4311,   2745.6,   1.7968,  34.6711,2,  34.6725,2,    137.5,2,    136.4,2,   145.67,2,    36.83,2,     0.00,2,     2.58,2, -999.000,9, -999.000,9, -999.000,9,   1.9290,2,    32.21,2,   -999.0,9,   -999.0,9,   -999.0,9,   -999.0,9,   -999.0,9, -999.00,  -999.0,-999.0000,-999.000,  1.5977,-999.000
   31WTTUNES_2,  P17S,   126,  1,     28,     28,2,19910722,1227, -7.0100,-135.0100, 4311,   2951.0,   1.7278,  34.6752,2,  34.6764,2,    144.0,2,    143.4,2,   144.28,2,    36.41,2,     0.00,2,     2.55,2, -999.000,9, -999.000,9, -999.000,9,   1.9200,2,    28.89,2,   -999.0,9,   -999.0,9,   -999.0,9,   -999.0,9,   -999.0,9, -999.00,  -999.0,-999.0000,-999.000,  1.5108,-999.000
   31WTTUNES_2,  P17S,   126,  1,     29,     29,2,19910722,1227, -7.0100,-135.0100, 4311,   3156.0,   1.6509,  34.6795,2,  34.6800,2,    150.5,2,    150.1,2,   143.11,2,    35.98,2,     0.00,2,     2.51,2, -999.000,9, -999.000,9, -999.000,9,   1.9210,2,    25.36,2,   -999.0,9,   -999.0,9,   -999.0,9,   -999.0,9,   -999.0,9, -999.00,  -999.0,-999.0000,-999.000,  1.4156,-999.000
   31WTTUNES_2,  P17S,   126,  1,     30,     30,2,19910722,1227, -7.0100,-135.0100, 4311,   3364.1,   1.5769,  34.6831,2,  34.6841,2,    152.6,2,    152.8,2,   145.13,2,    35.92,2,     0.00,2,     2.50,2, -999.000,9, -999.000,9, -999.000,9,   1.9060,2,    22.61,2,   -999.0,9,   -999.0,9,   -999.0,9,   -999.0,9,   -999.0,9, -999.00,  -999.0,-999.0000,-999.000,  1.3227,-999.000
   31WTTUNES_2,  P17S,   126,  1,     31,     31,2,19910722,1227, -7.0100,-135.0100, 4311,   3574.0,   1.5230,  34.6858,2,  34.6876,2,    156.5,2,    156.4,2,   145.23,2,    35.71,2,     0.00,2,     2.48,2,    0.000,2,    0.000,2, -999.000,9,   1.9040,2,    20.43,2,   -999.0,9,   -999.0,9,   -999.0,9,   -999.0,9,   -999.0,9, -999.00,  -999.0,-999.0000,-999.000,  1.2486,-999.000
   31WTTUNES_2,  P17S,   126,  1,     32,     32,2,19910722,1227, -7.0100,-135.0100, 4311,   3779.2,   1.4800,  34.6876,2,  34.6890,2,    160.4,2,    159.2,2,   145.12,2,    35.50,2,     0.00,2,     2.47,2,    0.000,2,    0.000,2, -999.000,9,   1.8960,2,    19.08,2,   -999.0,9,   -999.0,9,   -999.0,9,   -999.0,9,   -999.0,9, -999.00,  -999.0,-999.0000,-999.000,  1.1853,-999.000
   31WTTUNES_2,  P17S,   126,  1,     33,     33,2,19910722,1227, -7.0100,-135.0100, 4311,   3986.2,   1.4530,  34.6890,2,  34.6912,2,    162.3,2,    163.2,2,   143.95,2,    35.28,2,     0.00,2,     2.44,2, -999.000,9, -999.000,9, -999.000,9,   1.8980,2,    17.53,2,   -999.0,9,   -999.0,9,   -999.0,9,   -999.0,9,   -999.0,9, -999.00,  -999.0,-999.0000,-999.000,  1.1369,-999.000
   31WTTUNES_2,  P17S,   126,  1,     34,     34,2,19910722,1227, -7.0100,-135.0100, 4311,   4192.7,   1.4251,  34.6944,2,  34.6947,2,    172.0,2,    170.9,2,   138.79,2,    34.65,2,     0.00,2,     2.40,2, -999.000,9, -999.000,9, -999.000,9,   1.8970,2,    16.18,2,   -999.0,9,   -999.0,9,   -999.0,9,   -999.0,9,   -999.0,9, -999.00,  -999.0,-999.0000,-999.000,  1.0871,-999.000
   31WTTUNES_2,  P17S,   126,  1,     35,     35,2,19910722,1227, -7.0100,-135.0100, 4311,   4393.7,   1.4350,  34.6950,2,  34.6952,2,    171.9,2,    171.9,2,   138.05,2,    34.54,2,     0.00,2,     2.39,2, -999.000,9, -999.000,9, -999.000,9,   1.8920,2,    16.33,2,   -999.0,9,   -999.0,9,   -999.0,9,   -999.0,9,   -999.0,9, -999.00,  -999.0,-999.0000,-999.000,  1.0742,-999.000
   31WTTUNES_2,  P17S,   126,  1,     36,     36,3,19910722,1227, -7.0100,-135.0100, 4311,   4451.6,   1.4380,  34.6951,2,  34.6942,2,    171.6,2,    171.9,2,   137.95,2,    34.54,2,     0.00,2,     2.39,2, -999.000,9, -999.000,9, -999.000,9,   1.8980,2,    16.12,2,   -999.0,9,   -999.0,9,   -999.0,9,   -999.0,9,   -999.0,9, -999.00,  -999.0,-999.0000,-999.000,  1.0705,-999.000