BOTTLE,20131125MIRCJHATS
EXPOCODE,SECT_ID,STNNBR,CASTNO,SAMPNO,BTLNBR,BTLNBR_FLAG_W,DATE,TIME,LATITUDE,LONGITUDE,DEPTH,CTDPRS,CTDTMP,CTDSAL,CTDSAL_FLAG_W,SALNTY,SALNTY_FLAG_W,CTDOXY,CTDOXY_FLAG_W,OXYGEN,OXYGEN_FLAG_W,SILCAT,SILCAT_FLAG_W,NITRAT,NITRAT_FLAG_W,NITRIT,NITRIT_FLAG_W,PHSPHT,PHSPHT_FLAG_W,CFC-11,CFC-11_FLAG_W,CFC-12,CFC-12_FLAG_W,TRITUM,TRITUM_FLAG_W,HELIUM,HELIUM_FLAG_W,DELHE3,DELHE3_FLAG_W,DELC14,DELC14_FLAG_W,DELC13,DELC13_FLAG_W,TCARBN,TCARBN_FLAG_W,PCO2,PCO2_FLAG_W,ALKALI,ALKALI_FLAG_W,PCO2TMP,C14ERR,HELIER,DELHER,THETA,TRITER
,,,,,,,,,,,,DBAR,ITS-90,PSS-78,,PSS-78,,UMOL/KG,,UMOL/KG,,UMOL/KG,,UMOL/KG,,UMOL/KG,,UMOL/KG,,PMOL/KG,,PMOL/KG,,TU,,NMOL/KG,,PERCNT,,/MILLE,,/MILLE,,UMOL/KG,,UATM,,UMOL/KG,,DEG C,/MILLE,NMOL/KG,PERCNT,DEG C,TU
   31WTTUNES_2,  P16S,   201,  1,     61,     61,2,19910819,2157,-27.0050,-150.4817, 4712,      1.2,  20.0987,  35.5787,2,  35.5827,2,   -999.0,9,    225.0,2,     1.07,2,     0.10,2,     0.00,2,     0.09,2,    2.116,2,    1.167,2, -999.000,9,-999.0000,9,  -999.00,9,   -999.0,9,   -999.0,9,   2009.5,2,    286.4,2,   -999.0,9,   20.00,  -999.0,-999.0000,-999.000, 20.0985,-999.000
   31WTTUNES_2,  P16S,   201,  1,      2,      2,2,19910819,2157,-27.0050,-150.4817, 4712,     44.0,  19.8747,  35.5705,2,  35.5744,2,    225.4,2,    226.3,2,     0.88,2,     0.10,2,     0.00,2,     0.07,2,    2.130,2,    1.190,2, -999.000,9,-999.0000,9,  -999.00,9,   -999.0,9,   -999.0,9,   -999.0,9,   -999.0,9,   -999.0,9, -999.00,  -999.0,-999.0000,-999.000, 19.8666,-999.000
   31WTTUNES_2,  P16S,   201,  1,      3,      3,2,19910819,2157,-27.0050,-150.4817, 4712,     84.3,  19.6947,  35.5717,2,  35.5736,2,    225.9,2,    227.0,2,     0.78,2,     0.10,2,     0.00,2,     0.07,2,    2.167,2,    1.202,2,    0.846,2,   0.0000,2,     0.00,2,   -999.0,9,   -999.0,9,   -999.0,9,   -999.0,9,   -999.0,9, -999.00,  -999.0,  0.0070,   0.150, 19.6793,   0.007
   31WTTUNES_2,  P16S,   201,  1,     64,     64,2,19910819,2157,-27.0050,-150.4817, 4712,    124.3,  19.6427,  35.5724,2,  35.5693,2,    226.8,2,    227.1,2,     0.78,2,     0.10,2,     0.00,2,     0.08,2,    2.153,2,    1.190,2, -999.000,9,-999.0000,9,  -999.00,9,   -999.0,9,   -999.0,9,   -999.0,9,   -999.0,9,   -999.0,9, -999.00,  -999.0,-999.0000,-999.000, 19.6200,-999.000
   31WTTUNES_2,  P16S,   201,  1,      5,      5,2,19910819,2157,-27.0050,-150.4817, 4712,    164.1,  18.9867,  35.5363,2,  35.5273,2,    222.3,2,    217.2,2,     0.78,2,     0.29,2,     0.08,2,     0.14,2,    2.131,2,    1.173,2,    0.906,2,   1.7500,2,    -0.61,2,   -999.0,9,   -999.0,9,   -999.0,9,   -999.0,9,   -999.0,9, -999.00,  -999.0,  0.0080,   0.150, 18.9574,   0.007
   31WTTUNES_2,  P16S,   201,  1,      6,      6,2,19910819,2157,-27.0050,-150.4817, 4712,    223.5,  16.5559,  35.4028,2,  35.4001,2,    203.1,2,    203.4,2,     1.17,2,     3.42,2,     0.01,2,     0.37,2,    2.015,2,    1.073,2,    0.758,2,   1.7620,2,     0.25,2,   -999.0,9,   -999.0,9,   -999.0,9,   -999.0,9,   -999.0,9, -999.00,  -999.0,  0.0080,   0.150, 16.5195,   0.006
   31WTTUNES_2,  P16S,   201,  1,      7,      7,2,19910819,2157,-27.0050,-150.4817, 4712,    284.3,  14.8471,  35.2540,2,  35.2554,2,    199.6,2,    196.8,2,     2.15,2,     6.64,2,     0.00,2,     0.59,2,    1.816,2,    0.969,2, -999.000,9,-999.0000,9,  -999.00,9,   -999.0,9,   -999.0,9,   -999.0,9,   -999.0,9,   -999.0,9, -999.00,  -999.0,-999.0000,-999.000, 14.8042,-999.000
   31WTTUNES_2,  P16S,   201,  1,     68,     68,2,19910819,2157,-27.0050,-150.4817, 4712,    355.1,  12.9765,  35.0425,2,  35.0439,2,    194.2,2,    193.9,2,     3.13,2,    10.65,2,     0.00,2,     0.84,2,    1.486,2,    0.786,2,    0.497,2,   1.8160,2,     0.72,2,   -999.0,9,   -999.0,9,   -999.0,9,   -999.0,9,   -999.0,9, -999.00,  -999.0,  0.0090,   0.150, 12.9275,   0.005
   31WTTUNES_2,  P16S,   201,  1,     69,     69,2,19910819,2157,-27.0050,-150.4817, 4712,    417.1,  11.5899,  34.8785,2,  34.8776,2,    196.4,2,    196.4,2,     3.71,2,    13.39,2,     0.00,2,     1.02,2,    1.295,2,    0.692,2,    0.421,2,-999.0000,9,  -999.00,9,   -999.0,9,   -999.0,9,   -999.0,9,   -999.0,9,   -999.0,9, -999.00,  -999.0,-999.0000,-999.000, 11.5363,   0.005
   31WTTUNES_2,  P16S,   201,  1,     70,     70,2,19910819,2157,-27.0050,-150.4817, 4712,    489.5,   9.2148,  34.6104,2,  34.6087,2,    204.1,2,    208.7,2,     5.38,2,    17.89,2,     0.00,2,     1.29,2,    1.094,2,    0.578,2,    0.299,2,   1.8590,2,     0.59,2,   -999.0,9,   -999.0,9,   -999.0,9,   -999.0,9,   -999.0,9, -999.00,  -999.0,  0.0090,   0.150,  9.1602,   0.004
   31WTTUNES_2,  P16S,   201,  1,     11,     11,2,19910819,2157,-27.0050,-150.4817, 4712,    561.0,   7.5395,  34.4465,2,  34.4504,2,    224.9,2,    226.1,2,     6.75,2,    20.92,2,     0.00,2,     1.48,2,    0.974,2,    0.509,2,    0.229,2,   1.7690,2,     0.69,2,   -999.0,9,   -999.0,9,   -999.0,9,   -999.0,9,   -999.0,9, -999.00,  -999.0,  0.0080,   0.150,  7.4838,   0.004
   31WTTUNES_2,  P16S,   201,  1,     12,     12,2,19910819,2157,-27.0050,-150.4817, 4712,    630.7,   6.9458,  34.3962,2,  34.3968,2,    231.0,2,    231.3,2,     8.41,2,    22.29,2,     0.00,2,     1.56,2,    0.774,2,    0.418,2,    0.165,2,   1.7920,2,     0.75,2,   -999.0,9,   -999.0,9,   -999.0,9,   -999.0,9,   -999.0,9, -999.00,  -999.0,  0.0080,   0.150,  6.8857,   0.003
   31WTTUNES_2,  P16S,   201,  1,     13,     13,2,19910819,2157,-27.0050,-150.4817, 4712,    691.0,   6.5350,  34.3656,2,  34.3676,2,    229.9,2,    231.7,2,     9.78,2,    23.46,2,     0.00,2,     1.63,2,    0.652,2,    0.357,2, -999.000,9,-999.0000,9,  -999.00,9,   -999.0,9,   -999.0,9,   -999.0,9,   -999.0,9,   -999.0,9, -999.00,  -999.0,-999.0000,-999.000,  6.4710,-999.000
   31WTTUNES_2,  P16S,   201,  1,     37,     37,2,19910819,2157,-27.0050,-150.4817, 4712,    771.8,   5.8623,  34.3267,2,  34.3272,2,    228.6,2,    227.8,2,    13.98,2,    25.52,2,     0.00,2,     1.77,2,    0.335,2,    0.192,2, -999.000,9,-999.0000,9,  -999.00,9,   -999.0,9,   -999.0,9,   -999.0,9,   -999.0,9,   -999.0,9, -999.00,  -999.0,-999.0000,-999.000,  5.7944,-999.000
   31WTTUNES_2,  P16S,   201,  1,     15,     15,2,19910819,2157,-27.0050,-150.4817, 4712,    861.8,   5.2966,  34.3185,2,  34.3178,2,    215.2,2,    214.6,2,    20.53,2,    27.77,2,     0.00,2,     1.93,2,    0.164,2,    0.099,2, -999.000,9,-999.0000,9,  -999.00,9,   -999.0,9,   -999.0,9,   -999.0,9,   -999.0,9,   -999.0,9, -999.00,  -999.0,-999.0000,-999.000,  5.2240,-999.000
   31WTTUNES_2,  P16S,   201,  1,     16,     16,2,19910819,2157,-27.0050,-150.4817, 4712,    964.5,   4.7369,  34.3327,2,  34.3327,2,    199.6,2,    199.3,2,    30.31,2,    30.21,2,     0.00,2,     2.09,2,    0.069,2,    0.047,2, -999.000,9,-999.0000,9,  -999.00,9,   -999.0,9,   -999.0,9,   -999.0,9,   -999.0,9,   -999.0,9, -999.00,  -999.0,-999.0000,-999.000,  4.6590,-999.000
   31WTTUNES_2,  P16S,   201,  1,     17,     17,2,19910819,2157,-27.0050,-150.4817, 4712,   1063.4,   4.1763,  34.3707,2,  34.3698,2,    185.5,2,    185.7,2,    42.43,2,    32.16,2,     0.00,2,     2.24,2,    0.025,2,    0.018,2, -999.000,9,   1.8060,2,     5.38,2,   -999.0,9,   -999.0,9,   -999.0,9,   -999.0,9,   -999.0,9, -999.00,  -999.0,-999.0000,-999.000,  4.0941,-999.000
   31WTTUNES_2,  P16S,   201,  1,     18,     18,2,19910819,2157,-27.0050,-150.4817, 4712,   1159.1,   3.7715,  34.4115,2,  34.4124,2,    174.1,2,    174.2,2,    54.06,2,    33.34,2,     0.00,2,     2.33,2,    0.010,2,    0.008,2, -999.000,9,   1.8270,2,     8.20,2,   -999.0,9,   -999.0,9,   -999.0,9,   -999.0,9,   -999.0,9, -999.00,  -999.0,-999.0000,-999.000,  3.6846,-999.000
   31WTTUNES_2,  P16S,   201,  1,     19,     19,2,19910819,2157,-27.0050,-150.4817, 4712,   1258.3,   3.4277,  34.4517,2,  34.4544,2,    167.5,2,    167.9,2,    64.03,2,    34.02,2,     0.00,2,     2.37,2,    0.003,2,    0.006,7, -999.000,9,   1.8320,2,    10.27,2,   -999.0,9,   -999.0,9,   -999.0,9,   -999.0,9,   -999.0,9, -999.00,  -999.0,-999.0000,-999.000,  3.3357,-999.000
   31WTTUNES_2,  P16S,   201,  1,     20,     20,2,19910819,2157,-27.0050,-150.4817, 4712,   1413.5,   2.9550,  34.5151,2,  34.5156,2,    161.3,2,    160.9,2,    80.84,2,    34.70,2,     0.00,2,     2.42,2,    0.000,2,    0.005,2, -999.000,9,   1.8630,2,    14.67,2,   -999.0,9,   -999.0,9,   -999.0,9,   -999.0,9,   -999.0,9, -999.00,  -999.0,-999.0000,-999.000,  2.8550,-999.000
   31WTTUNES_2,  P16S,   201,  1,     21,     21,2,19910819,2157,-27.0050,-150.4817, 4712,   1569.1,   2.6352,  34.5579,2,  34.5578,2,    157.3,2,    158.8,2,    91.89,2,    34.90,2,     0.00,2,     2.43,2, -999.000,9, -999.000,9, -999.000,9,   1.8740,2,    17.08,2,   -999.0,9,   -999.0,9,   -999.0,9,   -999.0,9,   -999.0,9, -999.00,  -999.0,-999.0000,-999.000,  2.5260,-999.000
   31WTTUNES_2,  P16S,   201,  1,     22,     22,2,19910819,2157,-27.0050,-150.4817, 4712,   1724.7,   2.4104,  34.5937,2,  34.5934,2,    154.8,2,    154.8,2,   103.91,2,    35.19,2,     0.00,2,     2.46,2, -999.000,9, -999.000,9, -999.000,9,-999.0000,9,  -999.00,9,   -999.0,9,   -999.0,9,   -999.0,9,   -999.0,9,   -999.0,9, -999.00,  -999.0,-999.0000,-999.000,  2.2911,-999.000
   31WTTUNES_2,  P16S,   201,  1,     24,     24,2,19910819,2157,-27.0050,-150.4817, 4712,   1933.6,   2.2045,  34.6252,2,  34.6240,2,    150.7,2,    151.0,2,   113.48,2,    35.29,2,     0.00,2,     2.47,2, -999.000,9, -999.000,9, -999.000,9,   1.8990,2,    23.16,2,   -999.0,9,   -999.0,9,   -999.0,9,   -999.0,9,   -999.0,9, -999.00,  -999.0,-999.0000,-999.000,  2.0706,-999.000
   31WTTUNES_2,  P16S,   201,  1,     25,     25,2,19910819,2157,-27.0050,-150.4817, 4712,   2137.9,   2.0656,  34.6401,2,  34.6419,2,    149.4,2,    148.6,2,   121.79,2,    35.77,2,     0.00,2,     2.50,2, -999.000,9, -999.000,9, -999.000,9,   1.9080,2,    25.67,2,   -999.0,9,   -999.0,9,   -999.0,9,   -999.0,9,   -999.0,9, -999.00,  -999.0,-999.0000,-999.000,  1.9164,-999.000
   31WTTUNES_2,  P16S,   201,  1,     26,     26,2,19910819,2157,-27.0050,-150.4817, 4712,   2349.3,   1.9547,  34.6488,2,  34.6508,2,    148.8,2,    148.5,2,   127.26,2,    35.77,2,     0.00,2,     2.51,2, -999.000,9, -999.000,9, -999.000,9,   1.9080,2,    25.74,2,   -999.0,9,   -999.0,9,   -999.0,9,   -999.0,9,   -999.0,9, -999.00,  -999.0,-999.0000,-999.000,  1.7888,-999.000
   31WTTUNES_2,  P16S,   201,  1,     27,     27,2,19910819,2157,-27.0050,-150.4817, 4712,   2565.1,   1.8598,  34.6582,2,  34.6580,2,    149.2,2,    149.5,2,   129.41,2,    35.58,2,     0.00,2,     2.50,2, -999.000,9, -999.000,9, -999.000,9,   1.8940,2,    25.31,2,   -999.0,9,   -999.0,9,   -999.0,9,   -999.0,9,   -999.0,9, -999.00,  -999.0,-999.0000,-999.000,  1.6762,-999.000
   31WTTUNES_2,  P16S,   201,  1,     28,     28,2,19910819,2157,-27.0050,-150.4817, 4712,   2767.7,   1.7818,  34.6646,2,  34.6641,2,    152.5,2,    152.1,2,   131.07,2,    35.48,2,     0.00,2,     2.49,2, -999.000,9, -999.000,9, -999.000,9,   1.9040,2,    24.32,2,   -999.0,9,   -999.0,9,   -999.0,9,   -999.0,9,   -999.0,9, -999.00,  -999.0,-999.0000,-999.000,  1.5810,-999.000
   31WTTUNES_2,  P16S,   201,  1,     29,     29,2,19910819,2157,-27.0050,-150.4817, 4712,   3016.5,   1.7009,  34.6727,2,  34.6718,2,    157.7,2,    157.5,2,   131.46,2,    35.19,2,     0.00,2,     2.46,2, -999.000,9, -999.000,9, -999.000,9,   1.9010,2,    22.66,2,   -999.0,9,   -999.0,9,   -999.0,9,   -999.0,9,   -999.0,9, -999.00,  -999.0,-999.0000,-999.000,  1.4781,-999.000
   31WTTUNES_2,  P16S,   201,  1,     30,     30,2,19910819,2157,-27.0050,-150.4817, 4712,   3276.9,   1.6189,  34.6812,2,  34.6796,2,    164.2,2,    164.1,2,   129.90,2,    34.70,2,     0.00,2,     2.42,2, -999.000,9, -999.000,9, -999.000,9,   1.8960,2,    20.75,2,   -999.0,9,   -999.0,9,   -999.0,9,   -999.0,9,   -999.0,9, -999.00,  -999.0,-999.0000,-999.000,  1.3724,-999.000
   31WTTUNES_2,  P16S,   201,  1,     31,     31,2,19910819,2157,-27.0050,-150.4817, 4712,   3533.8,   1.5120,  34.6881,2,  34.6905,2,    172.6,2,    173.0,2,   126.09,2,    34.01,2,     0.00,2,     2.37,2, -999.000,9, -999.000,9, -999.000,9,   1.8900,2,    18.12,2,   -999.0,9,   -999.0,9,   -999.0,9,   -999.0,9,   -999.0,9, -999.00,  -999.0,-999.0000,-999.000,  1.2421,-999.000
   31WTTUNES_2,  P16S,   201,  1,     32,     32,2,19910819,2157,-27.0050,-150.4817, 4712,   3793.1,   1.4021,  34.6944,2,  34.6956,2,    181.7,2,    182.2,2,   123.74,2,    33.43,2,     0.00,2,     2.33,2, -999.000,9, -999.000,9, -999.000,9,   1.8570,3,    15.91,3,   -999.0,9,   -999.0,9,   -999.0,9,   -999.0,9,   -999.0,9, -999.00,  -999.0,-999.0000,-999.000,  1.1080,-999.000
   31WTTUNES_2,  P16S,   201,  1,     33,     33,2,19910819,2157,-27.0050,-150.4817, 4712,   4045.2,   1.3251,  34.7003,2,  34.6995,2,    188.3,2,    188.7,2,   123.06,2,    33.04,2,     0.00,2,     2.29,2, -999.000,9, -999.000,9, -999.000,9,   1.8860,2,    13.80,2,   -999.0,9,   -999.0,9,   -999.0,9,   -999.0,9,   -999.0,9, -999.00,  -999.0,-999.0000,-999.000,  1.0062,-999.000
   31WTTUNES_2,  P16S,   201,  1,     34,     34,2,19910819,2157,-27.0050,-150.4817, 4712,   4306.5,   1.2931,  34.7022,2,  34.7030,2,    192.6,2,    192.5,2,   122.66,2,    32.74,2,     0.00,2,     2.28,2, -999.000,9, -999.000,9, -999.000,9,   1.8540,3,    12.27,3,   -999.0,9,   -999.0,9,   -999.0,9,   -999.0,9,   -999.0,9, -999.00,  -999.0,-999.0000,-999.000,  0.9464,-999.000
   31WTTUNES_2,  P16S,   201,  1,     39,     39,2,19910819,2157,-27.0050,-150.4817, 4712,   4567.6,   1.3111,  34.7025,2,  34.7032,2,    194.2,2,    193.2,2,   121.59,2,    32.55,2,     0.00,2,     2.26,2, -999.000,9, -999.000,9, -999.000,9,   1.8710,2,    12.36,2,   -999.0,9,   -999.0,9,   -999.0,9,   -999.0,9,   -999.0,9, -999.00,  -999.0,-999.0000,-999.000,  0.9342,-999.000
   31WTTUNES_2,  P16S,   201,  1,     38,     38,2,19910819,2157,-27.0050,-150.4817, 4712,   4780.9,   1.3331,  34.7027,2,  34.7032,2,    193.0,2,    193.6,2,   121.49,2,    32.45,2,     0.00,2,     2.26,2, -999.000,9, -999.000,9, -999.000,9,   1.9150,3,    12.61,3,   -999.0,9,   -999.0,9,   -999.0,9,   -999.0,9,   -999.0,9, -999.00,  -999.0,-999.0000,-999.000,  0.9306,-999.000