BOTTLE,20131125MIRCJHATS
EXPOCODE,SECT_ID,STNNBR,CASTNO,SAMPNO,BTLNBR,BTLNBR_FLAG_W,DATE,TIME,LATITUDE,LONGITUDE,DEPTH,CTDPRS,CTDTMP,CTDSAL,CTDSAL_FLAG_W,SALNTY,SALNTY_FLAG_W,CTDOXY,CTDOXY_FLAG_W,OXYGEN,OXYGEN_FLAG_W,SILCAT,SILCAT_FLAG_W,NITRAT,NITRAT_FLAG_W,NITRIT,NITRIT_FLAG_W,PHSPHT,PHSPHT_FLAG_W,CFC-11,CFC-11_FLAG_W,CFC-12,CFC-12_FLAG_W,TRITUM,TRITUM_FLAG_W,HELIUM,HELIUM_FLAG_W,DELHE3,DELHE3_FLAG_W,DELC14,DELC14_FLAG_W,DELC13,DELC13_FLAG_W,TCARBN,TCARBN_FLAG_W,PCO2,PCO2_FLAG_W,ALKALI,ALKALI_FLAG_W,PCO2TMP,C14ERR,HELIER,DELHER,THETA,TRITER
,,,,,,,,,,,,DBAR,ITS-90,PSS-78,,PSS-78,,UMOL/KG,,UMOL/KG,,UMOL/KG,,UMOL/KG,,UMOL/KG,,UMOL/KG,,PMOL/KG,,PMOL/KG,,TU,,NMOL/KG,,PERCNT,,/MILLE,,/MILLE,,UMOL/KG,,UATM,,UMOL/KG,,DEG C,/MILLE,NMOL/KG,PERCNT,DEG C,TU
   31WTTUNES_2,  P17S,   177,  1,     61,     61,2,19910807,1010,-32.0033,-134.7100, 4150,      2.7,  16.6243,  35.1881,2,  35.1904,2,    238.8,3,    244.7,3,     1.09,2,     0.05,2,     0.00,2,     0.12,2, -999.000,9, -999.000,9, -999.000,9,-999.0000,9,  -999.00,9,   -999.0,9,   -999.0,9,   -999.0,9,   -999.0,9,   -999.0,9, -999.00,  -999.0,-999.0000,-999.000, 16.6239,-999.000
   31WTTUNES_2,  P17S,   177,  1,      2,      2,2,19910807,1010,-32.0033,-134.7100, 4150,     35.9,  16.6256,  35.1883,2,  35.1900,2,    240.6,2,    240.3,2,     1.08,2,     0.05,2,     0.00,2,     0.12,2,    2.363,2,    1.327,2, -999.000,9,-999.0000,9,  -999.00,9,   -999.0,9,   -999.0,9,   -999.0,9,   -999.0,9,   -999.0,9, -999.00,  -999.0,-999.0000,-999.000, 16.6198,-999.000
   31WTTUNES_2,  P17S,   177,  1,      3,      3,2,19910807,1010,-32.0033,-134.7100, 4150,     67.5,  16.5573,  35.1831,2,  35.1839,2,    238.5,6,    240.4,2,     1.06,2,     0.05,2,     0.00,2,     0.12,2, -999.000,9, -999.000,9, -999.000,9,-999.0000,9,  -999.00,9,   -999.0,9,   -999.0,9,   -999.0,9,   -999.0,9,   -999.0,9, -999.00,  -999.0,-999.0000,-999.000, 16.5464,-999.000
   31WTTUNES_2,  P17S,   177,  1,      4,      4,2,19910807,1010,-32.0033,-134.7100, 4150,     97.3,  16.5086,  35.1819,2,  35.1820,2,    237.4,6,    239.7,2,     1.05,2,     0.05,2,     0.00,2,     0.13,2,    2.660,2,    1.308,2, -999.000,9,-999.0000,9,  -999.00,9,   -999.0,9,   -999.0,9,   -999.0,9,   -999.0,9,   -999.0,9, -999.00,  -999.0,-999.0000,-999.000, 16.4929,-999.000
   31WTTUNES_2,  P17S,   177,  1,      5,      5,2,19910807,1010,-32.0033,-134.7100, 4150,    129.2,  16.0653,  35.1207,2,  35.1225,2,    242.1,2,    240.8,2,     0.84,2,     0.14,2,     0.01,2,     0.15,2, -999.000,9, -999.000,9, -999.000,9,-999.0000,9,  -999.00,9,   -999.0,9,   -999.0,9,   -999.0,9,   -999.0,9,   -999.0,9, -999.00,  -999.0,-999.0000,-999.000, 16.0448,-999.000
   31WTTUNES_2,  P17S,   177,  1,      6,      6,2,19910807,1010,-32.0033,-134.7100, 4150,    169.1,  15.7999,  35.0805,2,  35.0808,2,    244.4,2,    242.0,2,     0.83,2,     0.14,2,     0.01,2,     0.16,2,    2.776,2,    1.349,2, -999.000,9,-999.0000,9,  -999.00,9,   -999.0,9,   -999.0,9,   -999.0,9,   -999.0,9,   -999.0,9, -999.00,  -999.0,-999.0000,-999.000, 15.7734,-999.000
   31WTTUNES_2,  P17S,   177,  1,      7,      7,2,19910807,1010,-32.0033,-134.7100, 4150,    210.7,  15.2272,  35.0478,2,  35.0298,2,    234.3,6,    221.1,2,     1.21,2,     2.72,2,     0.03,2,     0.35,2,    2.541,2,    1.220,2, -999.000,9,-999.0000,9,  -999.00,9,   -999.0,9,   -999.0,9,   -999.0,9,   -999.0,9,   -999.0,9, -999.00,  -999.0,-999.0000,-999.000, 15.1950,-999.000
   31WTTUNES_2,  P17S,   177,  1,     68,     68,2,19910807,1010,-32.0033,-134.7100, 4150,    252.6,  14.0948,  35.0118,2,  35.0076,2,    216.6,2,    204.8,2,     1.79,2,     6.60,2,     0.00,2,     0.58,2,    2.072,2,    1.025,2, -999.000,9,-999.0000,9,  -999.00,9,   -999.0,9,   -999.0,9,   -999.0,9,   -999.0,9,   -999.0,9, -999.00,  -999.0,-999.0000,-999.000, 14.0580,-999.000
   31WTTUNES_2,  P17S,   177,  1,     69,     69,2,19910807,1010,-32.0033,-134.7100, 4150,    281.6,  12.9402,  34.9131,2,  34.8954,2,    200.0,2,    201.9,2,     2.18,2,     9.61,2,     0.00,2,     0.76,2,    1.872,2,    0.914,2, -999.000,9,-999.0000,9,  -999.00,9,   -999.0,9,   -999.0,9,   -999.0,9,   -999.0,9,   -999.0,9, -999.00,  -999.0,-999.0000,-999.000, 12.9015,-999.000
   31WTTUNES_2,  P17S,   177,  1,     70,     70,2,19910807,1010,-32.0033,-134.7100, 4150,    312.1,  11.8288,  34.7935,2,  34.7900,2,    201.8,2,    202.8,2,     2.75,2,    11.81,2,     0.00,2,     0.90,2,    1.753,2,    0.856,2, -999.000,9,-999.0000,9,  -999.00,9,   -999.0,9,   -999.0,9,   -999.0,9,   -999.0,9,   -999.0,9, -999.00,  -999.0,-999.0000,-999.000, 11.7884,-999.000
   31WTTUNES_2,  P17S,   177,  1,     11,     11,2,19910807,1010,-32.0033,-134.7100, 4150,    361.1,   9.7108,  34.5899,2,  34.5900,2,    208.4,2,    212.7,2,     4.12,2,    15.92,2,     0.00,2,     1.15,2, -999.000,9, -999.000,9, -999.000,9,-999.0000,9,  -999.00,9,   -999.0,9,   -999.0,9,   -999.0,9,   -999.0,9,   -999.0,9, -999.00,  -999.0,-999.0000,-999.000,  9.6696,-999.000
   31WTTUNES_2,  P17S,   177,  1,     12,     12,2,19910807,1010,-32.0033,-134.7100, 4150,    406.5,   8.5547,  34.4746,2,  34.4761,2,    225.0,2,    225.9,2,     4.51,2,    17.92,2,     0.00,2,     1.27,2,    2.053,2,    0.982,2, -999.000,9,-999.0000,9,  -999.00,9,   -999.0,9,   -999.0,9,   -999.0,9,   -999.0,9,   -999.0,9, -999.00,  -999.0,-999.0000,-999.000,  8.5116,-999.000
   31WTTUNES_2,  P17S,   177,  1,     13,     13,2,19910807,1010,-32.0033,-134.7100, 4150,    509.5,   7.2733,  34.4021,2,  34.4035,2,    236.5,2,    236.6,2,     6.67,2,    21.03,2,     0.00,2,     1.46,2,    1.412,2,    0.725,2, -999.000,9,-999.0000,9,  -999.00,9,   -999.0,9,   -999.0,9,   -999.0,9,   -999.0,9,   -999.0,9, -999.00,  -999.0,-999.0000,-999.000,  7.2240,-999.000
   31WTTUNES_2,  P17S,   177,  1,     37,     37,2,19910807,1010,-32.0033,-134.7100, 4150,    612.9,   6.5429,  34.3568,2,  34.3574,2,    242.7,2,    243.4,2,     8.43,2,    22.54,2,     0.00,2,     1.56,2,    1.083,2,    0.547,2, -999.000,9,-999.0000,9,  -999.00,9,   -999.0,9,   -999.0,9,   -999.0,9,   -999.0,9,   -999.0,9, -999.00,  -999.0,-999.0000,-999.000,  6.4865,-999.000
   31WTTUNES_2,  P17S,   177,  1,     15,     15,2,19910807,1010,-32.0033,-134.7100, 4150,    713.0,   6.0722,  34.3241,2,  34.3240,2,    243.1,2,    241.3,2,    10.59,2,    24.00,2,     0.00,2,     1.66,2,    0.704,2,    0.370,2, -999.000,9,-999.0000,9,  -999.00,9,   -999.0,9,   -999.0,9,   -999.0,9,   -999.0,9,   -999.0,9, -999.00,  -999.0,-999.0000,-999.000,  6.0086,-999.000
   31WTTUNES_2,  P17S,   177,  1,     16,     16,2,19910807,1010,-32.0033,-134.7100, 4150,    809.2,   5.5546,  34.2998,2,  34.3011,2,    234.6,2,    233.3,2,    14.52,2,    25.96,2,     0.00,2,     1.79,2,    0.438,2,    0.236,2, -999.000,9,-999.0000,9,  -999.00,9,   -999.0,9,   -999.0,9,   -999.0,9,   -999.0,9,   -999.0,9, -999.00,  -999.0,-999.0000,-999.000,  5.4852,-999.000
   31WTTUNES_2,  P17S,   177,  1,     17,     17,2,19910807,1010,-32.0033,-134.7100, 4150,    914.4,   5.0173,  34.2972,2,  34.2987,2,    217.6,2,    220.6,2,    21.22,2,    28.23,2,     0.00,2,     1.95,2,    0.234,2,    0.131,2, -999.000,9,-999.0000,9,  -999.00,9,   -999.0,9,   -999.0,9,   -999.0,9,   -999.0,9,   -999.0,9, -999.00,  -999.0,-999.0000,-999.000,  4.9419,-999.000
   31WTTUNES_2,  P17S,   177,  1,     18,     18,2,19910807,1010,-32.0033,-134.7100, 4150,   1014.8,   4.5044,  34.3147,2,  34.3164,2,    200.9,2,    203.5,2,    30.08,2,    30.46,2,     0.00,2,     2.11,2,    0.113,2,    0.069,2, -999.000,9,-999.0000,9,  -999.00,9,   -999.0,9,   -999.0,9,   -999.0,9,   -999.0,9,   -999.0,9, -999.00,  -999.0,-999.0000,-999.000,  4.4239,-999.000
   31WTTUNES_2,  P17S,   177,  1,     19,     19,2,19910807,1010,-32.0033,-134.7100, 4150,   1118.4,   3.9895,  34.3499,2,  34.3513,2,    191.0,2,    190.5,2,    40.92,2,    32.13,2,     0.00,2,     2.24,2,    0.053,2,    0.034,2, -999.000,9,-999.0000,9,  -999.00,9,   -999.0,9,   -999.0,9,   -999.0,9,   -999.0,9,   -999.0,9, -999.00,  -999.0,-999.0000,-999.000,  3.9042,-999.000
   31WTTUNES_2,  P17S,   177,  1,     20,     20,2,19910807,1010,-32.0033,-134.7100, 4150,   1272.6,   3.2932,  34.4250,2,  34.4257,2,    178.2,2,    176.3,2,    58.11,2,    33.81,2,     0.00,2,     2.36,2,    0.013,2,    0.011,2, -999.000,9,-999.0000,9,  -999.00,9,   -999.0,9,   -999.0,9,   -999.0,9,   -999.0,9,   -999.0,9, -999.00,  -999.0,-999.0000,-999.000,  3.2014,-999.000
   31WTTUNES_2,  P17S,   177,  1,     21,     21,2,19910807,1010,-32.0033,-134.7100, 4150,   1427.7,   2.8544,  34.4990,2,  34.4982,2,    169.0,2,    168.5,2,    73.57,2,    34.27,2,     0.00,2,     2.41,2, -999.000,9, -999.000,9, -999.000,9,-999.0000,9,  -999.00,9,   -999.0,9,   -999.0,9,   -999.0,9,   -999.0,9,   -999.0,9, -999.00,  -999.0,-999.0000,-999.000,  2.7543,-999.000
   31WTTUNES_2,  P17S,   177,  1,     22,     22,2,19910807,1010,-32.0033,-134.7100, 4150,   1635.5,   2.4937,  34.5707,2,  34.5710,2,    161.3,2,    161.7,2,    91.52,2,    34.68,2,     0.00,2,     2.44,2, -999.000,9, -999.000,9, -999.000,9,-999.0000,9,  -999.00,9,   -999.0,9,   -999.0,9,   -999.0,9,   -999.0,9,   -999.0,9, -999.00,  -999.0,-999.0000,-999.000,  2.3807,-999.000
   31WTTUNES_2,  P17S,   177,  1,     23,     23,2,19910807,1010,-32.0033,-134.7100, 4150,   1844.1,   2.2811,  34.6066,2,  34.6074,2,    158.1,2,    157.1,2,   104.17,2,    34.83,2,     0.00,2,     2.45,2, -999.000,9, -999.000,9, -999.000,9,-999.0000,9,  -999.00,9,   -999.0,9,   -999.0,9,   -999.0,9,   -999.0,9,   -999.0,9, -999.00,  -999.0,-999.0000,-999.000,  2.1537,-999.000
   31WTTUNES_2,  P17S,   177,  1,     24,     24,2,19910807,1010,-32.0033,-134.7100, 4150,   2053.5,   2.0924,  34.6313,2,  34.6318,2,    157.5,2,    154.9,2,   113.89,2,    35.09,2,     0.00,2,     2.46,2, -999.000,9, -999.000,9, -999.000,9,-999.0000,9,  -999.00,9,   -999.0,9,   -999.0,9,   -999.0,9,   -999.0,9,   -999.0,9, -999.00,  -999.0,-999.0000,-999.000,  1.9500,-999.000
   31WTTUNES_2,  P17S,   177,  1,     25,     25,2,19910807,1010,-32.0033,-134.7100, 4150,   2259.5,   1.9470,  34.6463,2,  34.6465,2,    155.5,2,    155.3,2,   120.60,2,    35.09,2,     0.00,2,     2.47,2, -999.000,9, -999.000,9, -999.000,9,-999.0000,9,  -999.00,9,   -999.0,9,   -999.0,9,   -999.0,9,   -999.0,9,   -999.0,9, -999.00,  -999.0,-999.0000,-999.000,  1.7892,-999.000
   31WTTUNES_2,  P17S,   177,  1,     26,     26,2,19910807,1010,-32.0033,-134.7100, 4150,   2468.6,   1.8534,  34.6551,2,  34.6559,2,    156.0,2,    156.5,2,   124.67,2,    35.19,2,     0.00,2,     2.47,2, -999.000,9, -999.000,9, -999.000,9,-999.0000,9,  -999.00,9,   -999.0,9,   -999.0,9,   -999.0,9,   -999.0,9,   -999.0,9, -999.00,  -999.0,-999.0000,-999.000,  1.6787,-999.000
   31WTTUNES_2,  P17S,   177,  1,     27,     27,2,19910807,1010,-32.0033,-134.7100, 4150,   2675.1,   1.7705,  34.6632,2,  34.6634,2,    159.1,2,    159.0,2,   125.88,2,    34.99,2,     0.00,2,     2.45,2, -999.000,9, -999.000,9, -999.000,9,-999.0000,9,  -999.00,9,   -999.0,9,   -999.0,9,   -999.0,9,   -999.0,9,   -999.0,9, -999.00,  -999.0,-999.0000,-999.000,  1.5785,-999.000
   31WTTUNES_2,  P17S,   177,  1,     28,     28,2,19910807,1010,-32.0033,-134.7100, 4150,   2880.2,   1.7086,  34.6688,2,  34.6689,2,    161.1,2,    162.5,2,   126.47,2,    34.78,2,     0.00,2,     2.44,2, -999.000,9, -999.000,9, -999.000,9,-999.0000,9,  -999.00,9,   -999.0,9,   -999.0,9,   -999.0,9,   -999.0,9,   -999.0,9, -999.00,  -999.0,-999.0000,-999.000,  1.4987,-999.000
   31WTTUNES_2,  P17S,   177,  1,     29,     29,2,19910807,1010,-32.0033,-134.7100, 4150,   3086.4,   1.6653,  34.6737,2,  34.6735,2,    167.4,2,    165.1,2,   126.24,2,    34.58,2,     0.00,2,     2.42,2, -999.000,9, -999.000,9, -999.000,9,-999.0000,9,  -999.00,9,   -999.0,9,   -999.0,9,   -999.0,9,   -999.0,9,   -999.0,9, -999.00,  -999.0,-999.0000,-999.000,  1.4365,-999.000
   31WTTUNES_2,  P17S,   177,  1,     30,     30,2,19910807,1010,-32.0033,-134.7100, 4150,   3293.3,   1.6198,  34.6781,2,  34.6778,2,    168.1,2,    168.2,2,   126.21,2,    34.27,2,     0.00,2,     2.41,2, -999.000,9, -999.000,9, -999.000,9,-999.0000,9,  -999.00,9,   -999.0,9,   -999.0,9,   -999.0,9,   -999.0,9,   -999.0,9, -999.00,  -999.0,-999.0000,-999.000,  1.3716,-999.000
   31WTTUNES_2,  P17S,   177,  1,     31,     31,2,19910807,1010,-32.0033,-134.7100, 4150,   3503.1,   1.5805,  34.6825,2,  34.6821,2,    172.9,2,    171.7,2,   125.77,2,    34.11,2,     0.00,2,     2.39,2, -999.000,9, -999.000,9, -999.000,9,-999.0000,9,  -999.00,9,   -999.0,9,   -999.0,9,   -999.0,9,   -999.0,9,   -999.0,9, -999.00,  -999.0,-999.0000,-999.000,  1.3120,-999.000
   31WTTUNES_2,  P17S,   177,  1,     32,     32,2,19910807,1010,-32.0033,-134.7100, 4150,   3711.2,   1.5215,  34.6875,2,  34.6875,2,    175.4,2,    176.1,2,   124.72,2,    33.76,2,     0.00,2,     2.36,2, -999.000,9, -999.000,9, -999.000,9,-999.0000,9,  -999.00,9,   -999.0,9,   -999.0,9,   -999.0,9,   -999.0,9,   -999.0,9, -999.00,  -999.0,-999.0000,-999.000,  1.2329,-999.000
   31WTTUNES_2,  P17S,   177,  1,     34,     34,2,19910807,1010,-32.0033,-134.7100, 4150,   3919.8,   1.3982,  34.6970,2,  34.6967,2,    181.5,2,    184.3,2,   123.23,2,    33.25,2,     0.00,2,     2.32,2,    0.001,8,    0.000,2, -999.000,9,-999.0000,9,  -999.00,9,   -999.0,9,   -999.0,9,   -999.0,9,   -999.0,9,   -999.0,9, -999.00,  -999.0,-999.0000,-999.000,  1.0908,-999.000
   31WTTUNES_2,  P17S,   177,  1,     33,     33,2,19910807,1010,-32.0033,-134.7100, 4150,   3920.2,   1.3987,  34.6968,2,  34.6969,2,    182.0,2,    184.3,2,   123.26,2,    33.25,2,     0.00,2,     2.31,2, -999.000,9, -999.000,9, -999.000,9,-999.0000,9,  -999.00,9,   -999.0,9,   -999.0,9,   -999.0,9,   -999.0,9,   -999.0,9, -999.00,  -999.0,-999.0000,-999.000,  1.0912,-999.000
   31WTTUNES_2,  P17S,   177,  1,     35,     35,2,19910807,1010,-32.0033,-134.7100, 4150,   4074.4,   1.3506,  34.7006,2,  34.7006,2,    188.4,2,    188.6,2,   122.79,2,    32.99,2,     0.00,2,     2.29,2, -999.000,9, -999.000,9, -999.000,9,-999.0000,9,  -999.00,9,   -999.0,9,   -999.0,9,   -999.0,9,   -999.0,9,   -999.0,9, -999.00,  -999.0,-999.0000,-999.000,  1.0277,-999.000
   31WTTUNES_2,  P17S,   177,  1,     38,     38,2,19910807,1010,-32.0033,-134.7100, 4150,   4217.5,   1.3450,  34.7023,2,  34.7020,2,    190.1,2,    189.2,2,   122.56,2,    32.94,2,     0.00,2,     2.28,2,    0.002,2,    0.000,2, -999.000,9,-999.0000,9,  -999.00,9,   -999.0,9,   -999.0,9,   -999.0,9,   -999.0,9,   -999.0,9, -999.00,  -999.0,-999.0000,-999.000,  1.0065,-999.000