BOTTLE,20131125MIRCJHATS
EXPOCODE,SECT_ID,STNNBR,CASTNO,SAMPNO,BTLNBR,BTLNBR_FLAG_W,DATE,TIME,LATITUDE,LONGITUDE,DEPTH,CTDPRS,CTDTMP,CTDSAL,CTDSAL_FLAG_W,SALNTY,SALNTY_FLAG_W,CTDOXY,CTDOXY_FLAG_W,OXYGEN,OXYGEN_FLAG_W,SILCAT,SILCAT_FLAG_W,NITRAT,NITRAT_FLAG_W,NITRIT,NITRIT_FLAG_W,PHSPHT,PHSPHT_FLAG_W,CFC-11,CFC-11_FLAG_W,CFC-12,CFC-12_FLAG_W,TRITUM,TRITUM_FLAG_W,HELIUM,HELIUM_FLAG_W,DELHE3,DELHE3_FLAG_W,DELC14,DELC14_FLAG_W,DELC13,DELC13_FLAG_W,TCARBN,TCARBN_FLAG_W,PCO2,PCO2_FLAG_W,ALKALI,ALKALI_FLAG_W,PCO2TMP,C14ERR,HELIER,DELHER,THETA,TRITER
,,,,,,,,,,,,DBAR,ITS-90,PSS-78,,PSS-78,,UMOL/KG,,UMOL/KG,,UMOL/KG,,UMOL/KG,,UMOL/KG,,UMOL/KG,,PMOL/KG,,PMOL/KG,,TU,,NMOL/KG,,PERCNT,,/MILLE,,/MILLE,,UMOL/KG,,UATM,,UMOL/KG,,DEG C,/MILLE,NMOL/KG,PERCNT,DEG C,TU
   31WTTUNES_2,  P16S,   211,  1,     61,     61,2,19910823,0013,-22.0183,-150.4950, 4790,     13.7,  24.0671,  35.9266,2,  35.9327,2,    209.7,3,    210.4,2,     0.98,2,     0.10,2,     0.00,2,     0.13,2,    1.841,2,    1.014,2, -999.000,9,-999.0000,9,  -999.00,9,   -999.0,9,   -999.0,9,   1993.7,2,    257.9,2,   -999.0,9,   20.00,  -999.0,-999.0000,-999.000, 24.0642,-999.000
   31WTTUNES_2,  P16S,   211,  1,      2,      2,2,19910823,0013,-22.0183,-150.4950, 4790,     36.4,  23.3880,  35.8815,2,  35.8870,2,    214.4,2,   -999.0,9,     0.88,2,     0.10,2,     0.00,2,     0.12,2, -999.000,9, -999.000,9, -999.000,9,-999.0000,9,  -999.00,9,   -999.0,9,   -999.0,9,   -999.0,9,   -999.0,9,   -999.0,9, -999.00,  -999.0,-999.0000,-999.000, 23.3805,-999.000
   31WTTUNES_2,  P16S,   211,  1,      3,      3,2,19910823,0013,-22.0183,-150.4950, 4790,     71.3,  22.6379,  35.7548,2,  35.7468,2,    208.5,2,    212.6,2,     0.88,2,     0.10,2,     0.00,2,     0.11,2,    1.872,2,    1.052,2, -999.000,9,-999.0000,9,  -999.00,9,   -999.0,9,   -999.0,9,   -999.0,9,   -999.0,9,   -999.0,9, -999.00,  -999.0,-999.0000,-999.000, 22.6235,-999.000
   31WTTUNES_2,  P16S,   211,  1,     64,     64,2,19910823,0013,-22.0183,-150.4950, 4790,    108.2,  21.8838,  35.6836,2,  35.6834,2,    215.1,2,    215.3,2,     0.88,2,     0.10,2,     0.01,2,     0.10,2,    1.971,2,    1.076,2, -999.000,9,-999.0000,9,  -999.00,9,   -999.0,9,   -999.0,9,   -999.0,9,   -999.0,9,   -999.0,9, -999.00,  -999.0,-999.0000,-999.000, 21.8624,-999.000
   31WTTUNES_2,  P16S,   211,  1,      5,      5,2,19910823,0013,-22.0183,-150.4950, 4790,    138.7,  20.8317,  35.6044,2,  35.6057,2,    209.2,2,    202.7,2,     0.88,2,     0.49,2,     0.06,2,     0.17,2,    1.930,2,    1.062,2, -999.000,9,-999.0000,9,  -999.00,9,   -999.0,9,   -999.0,9,   -999.0,9,   -999.0,9,   -999.0,9, -999.00,  -999.0,-999.0000,-999.000, 20.8053,-999.000
   31WTTUNES_2,  P16S,   211,  1,      6,      6,2,19910823,0013,-22.0183,-150.4950, 4790,    157.3,  20.1347,  35.5888,2,  35.5897,2,    200.1,2,    200.3,2,     0.88,2,     0.88,2,     0.04,2,     0.21,2,    1.970,2,    1.055,8, -999.000,9,-999.0000,9,  -999.00,9,   -999.0,9,   -999.0,9,   -999.0,9,   -999.0,9,   -999.0,9, -999.00,  -999.0,-999.0000,-999.000, 20.1054,-999.000
   31WTTUNES_2,  P16S,   211,  1,      7,      7,2,19910823,0013,-22.0183,-150.4950, 4790,    192.1,  19.2967,  35.5767,2,  35.5767,2,    194.7,2,    194.0,2,     0.88,2,     1.86,2,     0.02,2,     0.27,2,    1.862,2,    1.030,2, -999.000,9,-999.0000,9,  -999.00,9,   -999.0,9,   -999.0,9,   -999.0,9,   -999.0,9,   -999.0,9, -999.00,  -999.0,-999.0000,-999.000, 19.2620,-999.000
   31WTTUNES_2,  P16S,   211,  1,     68,     68,2,19910823,0013,-22.0183,-150.4950, 4790,    227.6,  18.5877,  35.5476,2,  35.5386,2,    191.1,2,    192.5,2,     1.07,2,     2.74,2,     0.01,2,     0.33,2,    1.829,2,    0.991,2, -999.000,9,-999.0000,9,  -999.00,9,   -999.0,9,   -999.0,9,   -999.0,9,   -999.0,9,   -999.0,9, -999.00,  -999.0,-999.0000,-999.000, 18.5476,-999.000
   31WTTUNES_2,  P16S,   211,  1,     69,     69,2,19910823,0013,-22.0183,-150.4950, 4790,    269.3,  17.2658,  35.4511,2,  35.4483,2,    193.0,2,    192.3,2,     1.66,2,     4.01,2,     0.01,2,     0.42,2,    1.741,2,    0.943,2, -999.000,9,-999.0000,9,  -999.00,9,   -999.0,9,   -999.0,9,   -999.0,9,   -999.0,9,   -999.0,9, -999.00,  -999.0,-999.0000,-999.000, 17.2207,-999.000
   31WTTUNES_2,  P16S,   211,  1,     70,     70,2,19910823,0013,-22.0183,-150.4950, 4790,    310.0,  15.7160,  35.2865,2,  35.2762,2,    192.3,2,    191.0,2,     1.86,2,     6.35,2,     0.01,2,     0.58,2,    1.584,2,    0.857,2, -999.000,9,-999.0000,9,  -999.00,9,   -999.0,9,   -999.0,9,   -999.0,9,   -999.0,9,   -999.0,9, -999.00,  -999.0,-999.0000,-999.000, 15.6673,-999.000
   31WTTUNES_2,  P16S,   211,  1,     11,     11,2,19910823,0013,-22.0183,-150.4950, 4790,    358.9,  13.5334,  35.0503,2,  35.0485,2,    191.0,2,    191.5,2,     2.64,2,     9.87,2,     0.01,2,     0.79,2,    1.350,2,    0.748,2, -999.000,9,-999.0000,9,  -999.00,9,   -999.0,9,   -999.0,9,   -999.0,9,   -999.0,9,   -999.0,9, -999.00,  -999.0,-999.0000,-999.000, 13.4824,-999.000
   31WTTUNES_2,  P16S,   211,  1,     12,     12,2,19910823,0013,-22.0183,-150.4950, 4790,    410.9,  11.6789,  34.8355,2,  34.8406,2,    192.2,2,    192.3,2,     4.10,2,    13.49,2,     0.01,2,     1.03,2,    1.129,2,    0.604,2, -999.000,9,-999.0000,9,  -999.00,9,   -999.0,9,   -999.0,9,   -999.0,9,   -999.0,9,   -999.0,9, -999.00,  -999.0,-999.0000,-999.000, 11.6259,-999.000
   31WTTUNES_2,  P16S,   211,  1,     13,     13,2,19910823,0013,-22.0183,-150.4950, 4790,    489.8,   8.7959,  34.5284,2,  34.5336,2,    205.3,2,    201.6,2,     6.74,2,    19.45,2,     0.01,2,     1.39,2,    0.744,2,    0.407,2, -999.000,9,-999.0000,9,  -999.00,9,   -999.0,9,   -999.0,9,   -999.0,9,   -999.0,9,   -999.0,9, -999.00,  -999.0,-999.0000,-999.000,  8.7429,-999.000
   31WTTUNES_2,  P16S,   211,  1,     37,     37,2,19910823,0013,-22.0183,-150.4950, 4790,    566.3,   7.1927,  34.3951,2,  34.3972,2,    215.5,2,    217.0,2,     8.80,2,    22.68,2,     0.01,2,     1.57,2,    0.605,2,    0.337,2, -999.000,9,-999.0000,9,  -999.00,9,   -999.0,9,   -999.0,9,   -999.0,9,   -999.0,9,   -999.0,9, -999.00,  -999.0,-999.0000,-999.000,  7.1379,-999.000
   31WTTUNES_2,  P16S,   211,  1,     15,     15,2,19910823,0013,-22.0183,-150.4950, 4790,    646.5,   6.2251,  34.3428,2,  34.3434,2,    211.8,2,    215.4,2,    13.30,2,    25.61,2,     0.00,2,     1.78,2,    0.326,2,    0.194,2, -999.000,9,-999.0000,9,  -999.00,9,   -999.0,9,   -999.0,9,   -999.0,9,   -999.0,9,   -999.0,9, -999.00,  -999.0,-999.0000,-999.000,  6.1670,-999.000
   31WTTUNES_2,  P16S,   211,  1,     16,     16,2,19910823,0013,-22.0183,-150.4950, 4790,    732.5,   5.5955,  34.3252,2,  34.3276,2,    205.8,2,    206.8,2,    19.06,2,    27.96,2,     0.01,2,     1.93,2,    0.155,2,    0.099,2, -999.000,9,-999.0000,9,  -999.00,9,   -999.0,9,   -999.0,9,   -999.0,9,   -999.0,9,   -999.0,9, -999.00,  -999.0,-999.0000,-999.000,  5.5327,-999.000
   31WTTUNES_2,  P16S,   211,  1,     17,     17,2,19910823,0013,-22.0183,-150.4950, 4790,    815.4,   5.1107,  34.3370,2,  34.3362,2,    192.8,2,    191.0,2,    27.28,2,    30.31,2,     0.01,2,     2.07,2,    0.061,2,    0.046,2, -999.000,9,-999.0000,9,  -999.00,9,   -999.0,9,   -999.0,9,   -999.0,9,   -999.0,9,   -999.0,9, -999.00,  -999.0,-999.0000,-999.000,  5.0434,-999.000
   31WTTUNES_2,  P16S,   211,  1,     18,     18,2,19910823,0013,-22.0183,-150.4950, 4790,    969.2,   4.1333,  34.4112,2,  34.4104,2,    168.3,2,    163.1,2,    51.42,2,    33.73,2,     0.01,2,     2.33,2,    0.005,2,    0.007,2, -999.000,9,-999.0000,9,  -999.00,9,   -999.0,9,   -999.0,9,   -999.0,9,   -999.0,9,   -999.0,9, -999.00,  -999.0,-999.0000,-999.000,  4.0593,-999.000
   31WTTUNES_2,  P16S,   211,  1,     19,     19,2,19910823,0013,-22.0183,-150.4950, 4790,   1121.7,   3.6126,  34.4676,2,  34.4658,2,    156.6,2,    157.0,2,    66.28,2,    34.70,2,     0.01,2,     2.41,2,    0.000,2,    0.000,2, -999.000,9,-999.0000,9,  -999.00,9,   -999.0,9,   -999.0,9,   -999.0,9,   -999.0,9,   -999.0,9, -999.00,  -999.0,-999.0000,-999.000,  3.5301,-999.000
   31WTTUNES_2,  P16S,   211,  1,     20,     20,2,19910823,0013,-22.0183,-150.4950, 4790,   1278.1,   3.0250,  34.5317,2,  34.5317,2,    154.6,2,    152.1,2,    85.24,2,    35.09,2,     0.01,2,     2.43,2, -999.000,9, -999.000,9, -999.000,9,-999.0000,9,  -999.00,9,   -999.0,9,   -999.0,9,   -999.0,9,   -999.0,9,   -999.0,9, -999.00,  -999.0,-999.0000,-999.000,  2.9351,-999.000
   31WTTUNES_2,  P16S,   211,  1,     21,     21,2,19910823,0013,-22.0183,-150.4950, 4790,   1433.2,   2.7582,  34.5654,2,  34.5647,2,    152.1,2,    150.6,2,    96.87,2,    35.29,2,     0.01,2,     2.46,2, -999.000,9, -999.000,9, -999.000,9,-999.0000,9,  -999.00,9,   -999.0,9,   -999.0,9,   -999.0,9,   -999.0,9,   -999.0,9, -999.00,  -999.0,-999.0000,-999.000,  2.6585,-999.000
   31WTTUNES_2,  P16S,   211,  1,     22,     22,2,19910823,0013,-22.0183,-150.4950, 4790,   1633.7,   2.5143,  34.5937,2,  34.5923,2,    150.1,2,    149.7,2,   105.67,2,    35.38,2,     0.01,2,     2.46,2, -999.000,9, -999.000,9, -999.000,9,-999.0000,9,  -999.00,9,   -999.0,9,   -999.0,9,   -999.0,9,   -999.0,9,   -999.0,9, -999.00,  -999.0,-999.0000,-999.000,  2.4012,-999.000
   31WTTUNES_2,  P16S,   211,  1,     23,     23,2,19910823,0013,-22.0183,-150.4950, 4790,   1840.3,   2.3035,  34.6152,2,  34.6145,2,    150.2,2,    149.7,2,   112.21,2,    35.38,2,     0.01,2,     2.46,2, -999.000,9, -999.000,9, -999.000,9,-999.0000,9,  -999.00,9,   -999.0,9,   -999.0,9,   -999.0,9,   -999.0,9,   -999.0,9, -999.00,  -999.0,-999.0000,-999.000,  2.1760,-999.000
   31WTTUNES_2,  P16S,   211,  1,     24,     24,2,19910823,0013,-22.0183,-150.4950, 4790,   2052.8,   2.1216,  34.6323,2,  34.6318,2,    151.8,2,    150.6,2,   118.27,2,    35.48,2,     0.01,2,     2.46,2, -999.000,9, -999.000,9, -999.000,9,-999.0000,9,  -999.00,9,   -999.0,9,   -999.0,9,   -999.0,9,   -999.0,9,   -999.0,9, -999.00,  -999.0,-999.0000,-999.000,  1.9788,-999.000
   31WTTUNES_2,  P16S,   211,  1,     25,     25,2,19910823,0013,-22.0183,-150.4950, 4790,   2314.4,   1.9577,  34.6470,2,  34.6475,2,    152.1,2,    152.1,2,   124.62,2,    35.48,2,     0.00,2,     2.46,2, -999.000,9, -999.000,9, -999.000,9,-999.0000,9,  -999.00,9,   -999.0,9,   -999.0,9,   -999.0,9,   -999.0,9,   -999.0,9, -999.00,  -999.0,-999.0000,-999.000,  1.7948,-999.000
   31WTTUNES_2,  P16S,   211,  1,     26,     26,2,19910823,0013,-22.0183,-150.4950, 4790,   2568.6,   1.8468,  34.6574,2,  34.6567,2,    154.9,2,    154.7,2,   126.97,2,    35.19,2,     0.00,2,     2.44,2, -999.000,9, -999.000,9, -999.000,9,-999.0000,9,  -999.00,9,   -999.0,9,   -999.0,9,   -999.0,9,   -999.0,9,   -999.0,9, -999.00,  -999.0,-999.0000,-999.000,  1.6631,-999.000
   31WTTUNES_2,  P16S,   211,  1,     27,     27,2,19910823,0013,-22.0183,-150.4950, 4790,   2827.6,   1.7578,  34.6652,2,  34.6646,2,    157.8,2,    158.9,2,   126.97,2,    34.89,2,     0.00,2,     2.41,2, -999.000,9, -999.000,9, -999.000,9,-999.0000,9,  -999.00,9,   -999.0,9,   -999.0,9,   -999.0,9,   -999.0,9,   -999.0,9, -999.00,  -999.0,-999.0000,-999.000,  1.5519,-999.000
   31WTTUNES_2,  P16S,   211,  1,     28,     28,2,19910823,0013,-22.0183,-150.4950, 4790,   3088.1,   1.6779,  34.6711,2,  34.6721,2,    160.5,2,    163.2,2,   127.36,2,    34.60,2,     0.00,2,     2.40,2, -999.000,9, -999.000,9, -999.000,9,-999.0000,9,  -999.00,9,   -999.0,9,   -999.0,9,   -999.0,9,   -999.0,9,   -999.0,9, -999.00,  -999.0,-999.0000,-999.000,  1.4487,-999.000
   31WTTUNES_2,  P16S,   211,  1,     30,     30,2,19910823,0013,-22.0183,-150.4950, 4790,   3349.9,   1.5929,  34.6791,2,  34.6790,2,    168.2,2,    168.7,2,   127.75,2,    34.31,2,     0.00,2,     2.38,2, -999.000,9, -999.000,9, -999.000,9,-999.0000,9,  -999.00,9,   -999.0,9,   -999.0,9,   -999.0,9,   -999.0,9,   -999.0,9, -999.00,  -999.0,-999.0000,-999.000,  1.3397,-999.000
   31WTTUNES_2,  P16S,   211,  1,     31,     31,2,19910823,0013,-22.0183,-150.4950, 4790,   3612.0,   1.5230,  34.6856,2,  34.6851,2,    172.3,2,    174.0,2,   127.06,2,    34.01,2,     0.00,2,     2.36,2, -999.000,9, -999.000,9, -999.000,9,-999.0000,9,  -999.00,9,   -999.0,9,   -999.0,9,   -999.0,9,   -999.0,9,   -999.0,9, -999.00,  -999.0,-999.0000,-999.000,  1.2447,-999.000
   31WTTUNES_2,  P16S,   211,  1,     32,     32,2,19910823,0013,-22.0183,-150.4950, 4790,   3871.1,   1.4680,  34.6895,2,  34.6896,2,    179.7,2,    179.0,2,   124.91,2,    33.53,2,     0.00,2,     2.32,2, -999.000,9, -999.000,9, -999.000,9,-999.0000,9,  -999.00,9,   -999.0,9,   -999.0,9,   -999.0,9,   -999.0,9,   -999.0,9, -999.00,  -999.0,-999.0000,-999.000,  1.1639,-999.000
   31WTTUNES_2,  P16S,   211,  1,     33,     33,2,19910823,0013,-22.0183,-150.4950, 4790,   4132.3,   1.4101,  34.6954,2,  34.6943,2,    182.9,2,    184.0,2,   123.84,2,    33.13,2,     0.00,2,     2.29,2, -999.000,9, -999.000,9, -999.000,9,-999.0000,9,  -999.00,9,   -999.0,9,   -999.0,9,   -999.0,9,   -999.0,9,   -999.0,9, -999.00,  -999.0,-999.0000,-999.000,  1.0792,-999.000
   31WTTUNES_2,  P16S,   211,  1,     34,     34,2,19910823,0013,-22.0183,-150.4950, 4790,   4392.4,   1.3731,  34.6990,2,  34.6987,2,    187.6,2,    188.0,2,   122.27,2,    32.84,2,     0.00,2,     2.25,2, -999.000,9, -999.000,9, -999.000,9,-999.0000,9,  -999.00,9,   -999.0,9,   -999.0,9,   -999.0,9,   -999.0,9,   -999.0,9, -999.00,  -999.0,-999.0000,-999.000,  1.0142,-999.000
   31WTTUNES_2,  P16S,   211,  1,     39,     39,2,19910823,0013,-22.0183,-150.4950, 4790,   4652.7,   1.3771,  34.7005,2,  34.6997,2,    189.2,2,    189.7,2,   123.35,2,    32.94,2,     0.00,2,     2.27,2, -999.000,9, -999.000,9, -999.000,9,-999.0000,9,  -999.00,9,   -999.0,9,   -999.0,9,   -999.0,9,   -999.0,9,   -999.0,9, -999.00,  -999.0,-999.0000,-999.000,  0.9882,-999.000
   31WTTUNES_2,  P16S,   211,  1,     38,     38,2,19910823,0013,-22.0183,-150.4950, 4790,   4854.7,   1.3991,  34.7008,2,  34.7003,2,    189.4,2,    190.0,2,   123.74,2,    32.94,2,     0.00,2,     2.27,2, -999.000,9, -999.000,9, -999.000,9,-999.0000,9,  -999.00,9,   -999.0,9,   -999.0,9,   -999.0,9,   -999.0,9,   -999.0,9, -999.00,  -999.0,-999.0000,-999.000,  0.9856,-999.000