BOTTLE,20131125MIRCJHATS
EXPOCODE,SECT_ID,STNNBR,CASTNO,SAMPNO,BTLNBR,BTLNBR_FLAG_W,DATE,TIME,LATITUDE,LONGITUDE,DEPTH,CTDPRS,CTDTMP,CTDSAL,CTDSAL_FLAG_W,SALNTY,SALNTY_FLAG_W,CTDOXY,CTDOXY_FLAG_W,OXYGEN,OXYGEN_FLAG_W,SILCAT,SILCAT_FLAG_W,NITRAT,NITRAT_FLAG_W,NITRIT,NITRIT_FLAG_W,PHSPHT,PHSPHT_FLAG_W,CFC-11,CFC-11_FLAG_W,CFC-12,CFC-12_FLAG_W,TRITUM,TRITUM_FLAG_W,HELIUM,HELIUM_FLAG_W,DELHE3,DELHE3_FLAG_W,DELC14,DELC14_FLAG_W,DELC13,DELC13_FLAG_W,TCARBN,TCARBN_FLAG_W,PCO2,PCO2_FLAG_W,ALKALI,ALKALI_FLAG_W,PCO2TMP,C14ERR,HELIER,DELHER,THETA,TRITER
,,,,,,,,,,,,DBAR,ITS-90,PSS-78,,PSS-78,,UMOL/KG,,UMOL/KG,,UMOL/KG,,UMOL/KG,,UMOL/KG,,UMOL/KG,,PMOL/KG,,PMOL/KG,,TU,,NMOL/KG,,PERCNT,,/MILLE,,/MILLE,,UMOL/KG,,UATM,,UMOL/KG,,DEG C,/MILLE,NMOL/KG,PERCNT,DEG C,TU
   31WTTUNES_2,  P16S,   182,  2,     13,     13,2,19910813,0324,-36.5083,-150.4950, 5551,      3.8,  13.6805,  34.7731,2,  34.7760,2,    257.9,3,    256.1,2,     1.98,2,     0.60,2,     0.07,2,     0.25,2,    2.897,2,    1.527,2, -999.000,9,-999.0000,9,  -999.00,9,   -999.0,9,   -999.0,9,   2045.4,2,    402.1,2,   -999.0,9,   20.00,  -999.0,-999.0000,-999.000, 13.6799,-999.000
   31WTTUNES_2,  P16S,   182,  2,     37,     37,2,19910813,0324,-36.5083,-150.4950, 5551,     32.9,  13.6923,  34.7761,2,  34.7756,2,    257.6,2,    255.9,2,     1.76,2,     0.60,2,     0.07,2,     0.25,2,    2.882,2,    1.580,2, -999.000,9,-999.0000,9,  -999.00,9,   -999.0,9,   -999.0,9,   -999.0,9,   -999.0,9,   -999.0,9, -999.00,  -999.0,-999.0000,-999.000, 13.6876,-999.000
   31WTTUNES_2,  P16S,   182,  2,     15,     15,2,19910813,0324,-36.5083,-150.4950, 5551,     62.4,  13.6804,  34.7727,2,  34.7758,2,    257.4,2,    256.0,2,     1.73,2,     0.65,2,     0.07,2,     0.25,2,    2.854,2,    1.489,2, -999.000,9,-999.0000,9,  -999.00,9,   -999.0,9,   -999.0,9,   -999.0,9,   -999.0,9,   -999.0,9, -999.00,  -999.0,-999.0000,-999.000, 13.6716,-999.000
   31WTTUNES_2,  P16S,   182,  2,     16,     16,2,19910813,0324,-36.5083,-150.4950, 5551,     94.1,  13.5720,  34.7761,2,  34.7778,2,    252.5,2,    255.5,2,     1.70,2,     0.69,2,     0.08,2,     0.26,2,    2.901,2,    1.554,2, -999.000,9,-999.0000,9,  -999.00,9,   -999.0,9,   -999.0,9,   -999.0,9,   -999.0,9,   -999.0,9, -999.00,  -999.0,-999.0000,-999.000, 13.5588,-999.000
   31WTTUNES_2,  P16S,   182,  2,     17,     17,2,19910813,0324,-36.5083,-150.4950, 5551,    123.0,  13.5794,  34.7828,2,  34.7817,2,    247.7,6,    254.8,2,     1.68,2,     0.74,2,     0.08,2,     0.26,2,    2.946,2,    1.547,2, -999.000,9,-999.0000,9,  -999.00,9,   -999.0,9,   -999.0,9,   -999.0,9,   -999.0,9,   -999.0,9, -999.00,  -999.0,-999.0000,-999.000, 13.5621,-999.000
   31WTTUNES_2,  P16S,   182,  2,     18,     18,2,19910813,0324,-36.5083,-150.4950, 5551,    155.0,  12.3215,  34.6981,2,  34.7157,2,    234.6,6,    237.1,2,     1.85,2,     5.46,2,     0.11,2,     0.56,2,    2.890,2,    1.504,2, -999.000,9,-999.0000,9,  -999.00,9,   -999.0,9,   -999.0,9,   -999.0,9,   -999.0,9,   -999.0,9, -999.00,  -999.0,-999.0000,-999.000, 12.3010,-999.000
   31WTTUNES_2,  P16S,   182,  2,     19,     19,2,19910813,0324,-36.5083,-150.4950, 5551,    185.3,  11.3139,  34.6364,2,  34.6359,2,    231.6,2,    233.5,2,     2.22,2,     8.53,2,     0.01,2,     0.73,2,    2.840,2,    1.475,2, -999.000,9,-999.0000,9,  -999.00,9,   -999.0,9,   -999.0,9,   -999.0,9,   -999.0,9,   -999.0,9, -999.00,  -999.0,-999.0000,-999.000, 11.2908,-999.000
   31WTTUNES_2,  P16S,   182,  2,     20,     20,2,19910813,0324,-36.5083,-150.4950, 5551,    227.5,   9.9493,  34.5743,2,  34.5796,2,    227.0,6,    226.0,2,     3.40,2,    13.48,2,     0.00,2,     1.01,2,    2.620,2,    1.332,2, -999.000,9,-999.0000,9,  -999.00,9,   -999.0,9,   -999.0,9,   -999.0,9,   -999.0,9,   -999.0,9, -999.00,  -999.0,-999.0000,-999.000,  9.9231,-999.000
   31WTTUNES_2,  P16S,   182,  2,     21,     21,2,19910813,0324,-36.5083,-150.4950, 5551,    268.2,   8.7890,  34.5306,2,  34.5244,2,    234.2,2,    230.8,2,     4.17,2,    16.36,2,     0.00,2,     1.17,2,    2.485,2,    1.276,2, -999.000,9,-999.0000,9,  -999.00,9,   -999.0,9,   -999.0,9,   -999.0,9,   -999.0,9,   -999.0,9, -999.00,  -999.0,-999.0000,-999.000,  8.7604,-999.000
   31WTTUNES_2,  P16S,   182,  2,     22,     22,2,19910813,0324,-36.5083,-150.4950, 5551,    328.0,   8.0446,  34.4738,2,  34.4796,2,    234.2,2,    240.3,2,     5.14,2,    17.90,2,     0.00,2,     1.27,2,    2.577,2,    1.282,2, -999.000,9,-999.0000,9,  -999.00,9,   -999.0,9,   -999.0,9,   -999.0,9,   -999.0,9,   -999.0,9, -999.00,  -999.0,-999.0000,-999.000,  8.0112,-999.000
   31WTTUNES_2,  P16S,   182,  2,     23,     23,2,19910813,0324,-36.5083,-150.4950, 5551,    388.3,   7.7069,  34.4623,2,  34.4642,2,    241.4,2,    243.6,2,     5.92,2,    19.06,2,     0.00,2,     1.33,2,    2.406,2,    1.240,2, -999.000,9,-999.0000,9,  -999.00,9,   -999.0,9,   -999.0,9,   -999.0,9,   -999.0,9,   -999.0,9, -999.00,  -999.0,-999.0000,-999.000,  7.6683,-999.000
   31WTTUNES_2,  P16S,   182,  2,     24,     24,2,19910813,0324,-36.5083,-150.4950, 5551,    448.5,   7.4352,  34.4433,2,  34.4426,2,    247.4,2,    245.4,2,     6.49,2,    19.93,2,     0.00,2,     1.38,2,    2.241,2,    1.132,2, -999.000,9,-999.0000,9,  -999.00,9,   -999.0,9,   -999.0,9,   -999.0,9,   -999.0,9,   -999.0,9, -999.00,  -999.0,-999.0000,-999.000,  7.3914,-999.000
   31WTTUNES_2,  P16S,   182,  2,     25,     25,2,19910813,0324,-36.5083,-150.4950, 5551,    511.9,   7.1556,  34.4192,2,  34.4184,2,    250.1,2,    245.8,2,     7.47,2,    20.89,2,     0.00,2,     1.44,2,    1.990,2,    1.010,2, -999.000,9,-999.0000,9,  -999.00,9,   -999.0,9,   -999.0,9,   -999.0,9,   -999.0,9,   -999.0,9, -999.00,  -999.0,-999.0000,-999.000,  7.1064,-999.000
   31WTTUNES_2,  P16S,   182,  2,     26,     26,2,19910813,0324,-36.5083,-150.4950, 5551,    612.4,   6.7832,  34.3892,2,  34.3873,2,    243.6,2,    242.0,2,     9.04,2,    22.24,2,     0.00,2,     1.54,2,    1.458,2,    0.734,2, -999.000,9,-999.0000,9,  -999.00,9,   -999.0,9,   -999.0,9,   -999.0,9,   -999.0,9,   -999.0,9, -999.00,  -999.0,-999.0000,-999.000,  6.7256,-999.000
   31WTTUNES_2,  P16S,   182,  2,     27,     27,2,19910813,0324,-36.5083,-150.4950, 5551,    713.7,   6.3563,  34.3557,2,  34.3553,2,    234.4,2,    236.1,2,    11.42,2,    23.98,2,     0.00,2,     1.64,2,    1.144,2,    0.584,2, -999.000,9,-999.0000,9,  -999.00,9,   -999.0,9,   -999.0,9,   -999.0,9,   -999.0,9,   -999.0,9, -999.00,  -999.0,-999.0000,-999.000,  6.2911,-999.000
   31WTTUNES_2,  P16S,   182,  2,     28,     28,2,19910813,0324,-36.5083,-150.4950, 5551,    815.3,   5.7782,  34.3246,2,  34.3261,2,    226.7,2,    227.1,2,    15.40,2,    26.01,2,     0.00,2,     1.78,2,    0.787,2,    0.396,2, -999.000,9,-999.0000,9,  -999.00,9,   -999.0,9,   -999.0,9,   -999.0,9,   -999.0,9,   -999.0,9, -999.00,  -999.0,-999.0000,-999.000,  5.7067,-999.000
   31WTTUNES_2,  P16S,   182,  2,     29,     29,2,19910813,0324,-36.5083,-150.4950, 5551,    915.2,   5.1494,  34.3204,2,  34.3225,2,    209.7,2,    212.4,2,    23.38,2,    28.58,2,     0.00,2,     1.96,2,    0.464,2,    0.237,2, -999.000,9,-999.0000,9,  -999.00,9,   -999.0,9,   -999.0,9,   -999.0,9,   -999.0,9,   -999.0,9, -999.00,  -999.0,-999.0000,-999.000,  5.0730,-999.000
   31WTTUNES_2,  P16S,   182,  2,     30,     30,2,19910813,0324,-36.5083,-150.4950, 5551,   1015.8,   4.5836,  34.3263,2,  34.3314,2,    201.4,2,    202.9,2,    31.37,2,    30.48,2,     0.00,2,     2.10,2,    0.303,2,    0.159,2, -999.000,9,-999.0000,9,  -999.00,9,   -999.0,9,   -999.0,9,   -999.0,9,   -999.0,9,   -999.0,9, -999.00,  -999.0,-999.0000,-999.000,  4.5024,-999.000
   31WTTUNES_2,  P16S,   182,  2,     31,     31,2,19910813,0324,-36.5083,-150.4950, 5551,   1111.9,   4.0037,  34.3506,2,  34.3510,2,    194.4,2,    195.3,2,    40.17,2,    31.90,2,     0.00,2,     2.21,2,    0.173,2,    0.099,2, -999.000,9,-999.0000,9,  -999.00,9,   -999.0,9,   -999.0,9,   -999.0,9,   -999.0,9,   -999.0,9, -999.00,  -999.0,-999.0000,-999.000,  3.9189,-999.000
   31WTTUNES_2,  P16S,   182,  2,     32,     32,2,19910813,0324,-36.5083,-150.4950, 5551,   1264.0,   3.3791,  34.4008,2,  34.4046,2,    182.9,2,    183.4,2,    53.59,2,    33.43,2,     0.00,2,     2.32,2,    0.050,2,    0.033,2, -999.000,9,-999.0000,9,  -999.00,9,   -999.0,9,   -999.0,9,   -999.0,9,   -999.0,9,   -999.0,9, -999.00,  -999.0,-999.0000,-999.000,  3.2872,-999.000
   31WTTUNES_2,  P16S,   182,  2,     33,     33,2,19910813,0324,-36.5083,-150.4950, 5551,   1418.3,   2.9984,  34.4773,2,  34.4788,2,    171.6,2,    171.7,2,    68.26,2,    34.32,2,     0.00,2,     2.38,2,    0.014,2,    0.014,2, -999.000,9,-999.0000,9,  -999.00,9,   -999.0,9,   -999.0,9,   -999.0,9,   -999.0,9,   -999.0,9, -999.00,  -999.0,-999.0000,-999.000,  2.8976,-999.000
   31WTTUNES_2,  P16S,   182,  2,     34,     34,2,19910813,0324,-36.5083,-150.4950, 5551,   1628.4,   2.6624,  34.5664,2,  34.5647,2,    159.5,2,    159.7,2,    88.48,2,    34.81,2,     0.00,2,     2.43,2,    0.022,8,    0.005,2, -999.000,9,-999.0000,9,  -999.00,9,   -999.0,9,   -999.0,9,   -999.0,9,   -999.0,9,   -999.0,9, -999.00,  -999.0,-999.0000,-999.000,  2.5480,-999.000
   31WTTUNES_2,  P16S,   182,  2,     35,     35,2,19910813,0324,-36.5083,-150.4950, 5551,   1835.4,   2.4226,  34.6085,2,  34.6071,2,    153.1,2,    153.8,2,   103.97,2,    35.26,2,     0.00,2,     2.46,2, -999.000,9, -999.000,9, -999.000,9,-999.0000,9,  -999.00,9,   -999.0,9,   -999.0,9,   -999.0,9,   -999.0,9,   -999.0,9, -999.00,  -999.0,-999.0000,-999.000,  2.2939,-999.000
   31WTTUNES_2,  P16S,   182,  2,     38,     38,2,19910813,0324,-36.5083,-150.4950, 5551,   2042.5,   2.2494,  34.6253,2,  34.6270,2,    151.8,2,    152.5,2,   111.35,2,    35.41,2,     0.00,2,     2.48,2, -999.000,9, -999.000,9, -999.000,9,-999.0000,9,  -999.00,9,   -999.0,9,   -999.0,9,   -999.0,9,   -999.0,9,   -999.0,9, -999.00,  -999.0,-999.0000,-999.000,  2.1055,-999.000