BOTTLE,20131125MIRCJHATS
EXPOCODE,SECT_ID,STNNBR,CASTNO,SAMPNO,BTLNBR,BTLNBR_FLAG_W,DATE,TIME,LATITUDE,LONGITUDE,DEPTH,CTDPRS,CTDTMP,CTDSAL,CTDSAL_FLAG_W,SALNTY,SALNTY_FLAG_W,CTDOXY,CTDOXY_FLAG_W,OXYGEN,OXYGEN_FLAG_W,SILCAT,SILCAT_FLAG_W,NITRAT,NITRAT_FLAG_W,NITRIT,NITRIT_FLAG_W,PHSPHT,PHSPHT_FLAG_W,CFC-11,CFC-11_FLAG_W,CFC-12,CFC-12_FLAG_W,TRITUM,TRITUM_FLAG_W,HELIUM,HELIUM_FLAG_W,DELHE3,DELHE3_FLAG_W,DELC14,DELC14_FLAG_W,DELC13,DELC13_FLAG_W,TCARBN,TCARBN_FLAG_W,PCO2,PCO2_FLAG_W,ALKALI,ALKALI_FLAG_W,PCO2TMP,C14ERR,HELIER,DELHER,THETA,TRITER
,,,,,,,,,,,,DBAR,ITS-90,PSS-78,,PSS-78,,UMOL/KG,,UMOL/KG,,UMOL/KG,,UMOL/KG,,UMOL/KG,,UMOL/KG,,PMOL/KG,,PMOL/KG,,TU,,NMOL/KG,,PERCNT,,/MILLE,,/MILLE,,UMOL/KG,,UATM,,UMOL/KG,,DEG C,/MILLE,NMOL/KG,PERCNT,DEG C,TU
   31WTTUNES_2,  P17S,   172,  2,     61,     61,2,19910805,2322,-29.5600,-134.0650, 4178,      3.5,  18.1644,  35.4024,2,  35.4030,2,    238.5,3,    233.6,2,     1.47,2,     0.00,2,     0.00,2,     0.10,2,    2.431,2,    1.254,2, -999.000,9,-999.0000,9,  -999.00,9,    125.0,2,      1.4,3,   2022.2,2,    329.0,2,   -999.0,9,   20.00,     4.0,-999.0000,-999.000, 18.1638,-999.000
   31WTTUNES_2,  P17S,   172,  2,      2,      2,2,19910805,2322,-29.5600,-134.0650, 4178,     45.8,  17.9413,  35.3880,2,  35.3912,2,    237.1,2,    233.7,2,     1.47,2,     0.00,2,     0.00,2,     0.10,2,    2.395,2,    1.267,2, -999.000,9,-999.0000,9,  -999.00,9,   -999.0,9,   -999.0,9,   -999.0,9,   -999.0,9,   -999.0,9, -999.00,  -999.0,-999.0000,-999.000, 17.9335,-999.000
   31WTTUNES_2,  P17S,   172,  2,      3,      3,2,19910805,2322,-29.5600,-134.0650, 4178,     76.4,  17.9453,  35.3901,2,  35.3930,2,    232.0,2,    233.3,2,     1.27,2,     0.00,2,     0.00,2,     0.10,2,    2.397,2,    1.263,2, -999.000,9,-999.0000,9,  -999.00,9,   -999.0,9,   -999.0,9,   -999.0,9,   -999.0,9,   -999.0,9, -999.00,  -999.0,-999.0000,-999.000, 17.9323,-999.000
   31WTTUNES_2,  P17S,   172,  2,      4,      4,2,19910805,2322,-29.5600,-134.0650, 4178,     97.9,  17.7853,  35.3595,2,  35.3569,2,    229.3,6,    232.6,2,     1.27,2,     0.00,2,     0.00,2,     0.12,2,    2.417,2,    1.259,2, -999.000,9,-999.0000,9,  -999.00,9,   -999.0,9,   -999.0,9,   -999.0,9,   -999.0,9,   -999.0,9, -999.00,  -999.0,-999.0000,-999.000, 17.7686,-999.000
   31WTTUNES_2,  P17S,   172,  2,      5,      5,2,19910805,2322,-29.5600,-134.0650, 4178,    117.7,  17.4682,  35.3010,2,  35.3066,2,    224.0,2,    232.6,2,     1.27,2,     0.10,2,     0.01,2,     0.13,2,    2.475,2,    1.264,2, -999.000,9,-999.0000,9,  -999.00,9,    131.8,2,      1.3,3,   -999.0,9,   -999.0,9,   -999.0,9, -999.00,     4.4,-999.0000,-999.000, 17.4484,-999.000
   31WTTUNES_2,  P17S,   172,  2,      6,      6,2,19910805,2322,-29.5600,-134.0650, 4178,    149.2,  16.6050,  35.2930,2,  35.2914,2,    213.3,2,    214.0,2,     1.37,2,     1.86,2,     0.02,2,     0.28,2,    2.251,2,    1.177,2, -999.000,9,-999.0000,9,  -999.00,9,    124.1,2,      1.2,3,   -999.0,9,   -999.0,9,   -999.0,9, -999.00,     4.3,-999.0000,-999.000, 16.5808,-999.000
   31WTTUNES_2,  P17S,   172,  2,      7,      7,2,19910805,2322,-29.5600,-134.0650, 4178,    180.2,  15.7918,  35.2582,2,  35.2571,2,    205.5,2,    206.6,2,     1.56,2,     3.71,2,     0.01,2,     0.41,2,    2.132,2,    1.093,2, -999.000,9,-999.0000,9,  -999.00,9,    116.0,2,      1.3,3,   -999.0,9,   -999.0,9,   -999.0,9, -999.00,     4.2,-999.0000,-999.000, 15.7635,-999.000
   31WTTUNES_2,  P17S,   172,  2,     68,     68,2,19910805,2322,-29.5600,-134.0650, 4178,    210.5,  14.9057,  35.1498,2,  35.1521,2,    208.0,2,    206.2,2,     1.56,2,     4.79,2,     0.00,2,     0.47,2,    2.121,2,    1.098,2, -999.000,9,-999.0000,9,  -999.00,9,     99.9,2,      1.3,3,   -999.0,9,   -999.0,9,   -999.0,9, -999.00,     4.1,-999.0000,-999.000, 14.8739,-999.000
   31WTTUNES_2,  P17S,   172,  2,     69,     69,2,19910805,2322,-29.5600,-134.0650, 4178,    262.3,  13.3905,  35.0023,2,  35.0003,2,    195.3,6,    196.9,2,     2.93,2,     9.19,2,     0.00,2,     0.74,2,    1.652,2,    0.852,2, -999.000,9,-999.0000,9,  -999.00,9,     89.0,2,      1.3,3,   -999.0,9,   -999.0,9,   -999.0,9, -999.00,     3.7,-999.0000,-999.000, 13.3536,-999.000
   31WTTUNES_2,  P17S,   172,  2,     70,     70,2,19910805,2322,-29.5600,-134.0650, 4178,    313.0,  11.7343,  34.8363,2,  34.8170,2,    195.7,2,    196.9,2,     3.52,2,    12.61,2,     0.00,2,     0.95,2,    1.389,2,    0.716,2, -999.000,9,-999.0000,9,  -999.00,9,     67.7,2,      1.3,3,   -999.0,9,   -999.0,9,   -999.0,9, -999.00,     4.9,-999.0000,-999.000, 11.6939,-999.000
   31WTTUNES_2,  P17S,   172,  2,     11,     11,2,19910805,2322,-29.5600,-134.0650, 4178,    387.2,   9.2702,  34.5671,2,  34.5662,2,    207.8,2,    207.7,2,     5.47,2,    17.89,2,     0.00,2,     1.28,2,    1.166,2,    0.589,2, -999.000,9,-999.0000,9,  -999.00,9,     38.6,2,      1.2,3,   -999.0,9,   -999.0,9,   -999.0,9, -999.00,     4.8,-999.0000,-999.000,  9.2272,-999.000
   31WTTUNES_2,  P17S,   172,  2,     12,     12,2,19910805,2322,-29.5600,-134.0650, 4178,    462.2,   7.7443,  34.4373,2,  34.4378,2,    232.1,2,    230.4,2,     6.26,2,    20.14,2,     0.00,2,     1.41,2,    1.499,2,    0.757,2, -999.000,9,-999.0000,9,  -999.00,9,     34.2,2,      1.3,3,   -999.0,9,   -999.0,9,   -999.0,9, -999.00,     4.2,-999.0000,-999.000,  7.6980,-999.000
   31WTTUNES_2,  P17S,   172,  2,     13,     13,2,19910805,2322,-29.5600,-134.0650, 4178,    538.9,   6.9184,  34.3841,2,  34.3854,2,    241.8,2,    242.2,2,     7.63,2,    21.61,2,     0.00,2,     1.49,2,    1.398,2,    0.703,2, -999.000,9,-999.0000,9,  -999.00,9,     -9.8,2,      1.1,3,   -999.0,9,   -999.0,9,   -999.0,9, -999.00,     3.8,-999.0000,-999.000,  6.8675,-999.000
   31WTTUNES_2,  P17S,   172,  2,     37,     37,2,19910805,2322,-29.5600,-134.0650, 4178,    615.0,   6.4224,  34.3482,2,  34.3489,2,    243.3,2,    243.7,2,     9.09,2,    22.88,2,     0.00,2,     1.57,2,    1.003,2,    0.515,2, -999.000,9,-999.0000,9,  -999.00,9,     -6.4,2,      1.3,2,   -999.0,9,   -999.0,9,   -999.0,9, -999.00,     3.6,-999.0000,-999.000,  6.3664,-999.000
   31WTTUNES_2,  P17S,   172,  2,     15,     15,2,19910805,2322,-29.5600,-134.0650, 4178,    718.6,   6.0015,  34.3214,2,  34.3212,2,    238.4,2,    241.3,2,    11.24,2,    24.34,2,     0.00,2,     1.68,2,    0.653,2,    0.341,2, -999.000,9,-999.0000,9,  -999.00,9,    -27.1,2,      1.1,2,   -999.0,9,   -999.0,9,   -999.0,9, -999.00,     3.6,-999.0000,-999.000,  5.9378,-999.000
   31WTTUNES_2,  P17S,   172,  2,     16,     16,2,19910805,2322,-29.5600,-134.0650, 4178,    822.9,   5.3095,  34.2979,2,  34.2979,2,    223.4,2,    225.2,2,    17.50,2,    27.28,2,     0.00,2,     1.88,2,    0.275,2,    0.160,2, -999.000,9,-999.0000,9,  -999.00,9,    -74.0,2,      1.0,2,   -999.0,9,   -999.0,9,   -999.0,9, -999.00,     3.5,-999.0000,-999.000,  5.2404,-999.000
   31WTTUNES_2,  P17S,   172,  2,     17,     17,2,19910805,2322,-29.5600,-134.0650, 4178,    926.3,   4.6906,  34.3093,2,  34.3079,2,    208.3,2,    206.4,2,    27.28,2,    30.02,2,     0.00,2,     2.07,2,    0.101,2,    0.064,2, -999.000,9,-999.0000,9,  -999.00,9,   -999.0,9,   -999.0,9,   -999.0,9,   -999.0,9,   -999.0,9, -999.00,  -999.0,-999.0000,-999.000,  4.6164,-999.000
   31WTTUNES_2,  P17S,   172,  2,     18,     18,2,19910805,2322,-29.5600,-134.0650, 4178,   1030.1,   4.1407,  34.3456,2,  34.3453,2,    190.7,2,    189.1,2,    39.20,2,    32.17,2,     0.00,2,     2.22,2,    0.032,2,    0.025,2, -999.000,9,-999.0000,9,  -999.00,9,   -122.9,2,      0.7,2,   -999.0,9,   -999.0,9,   -999.0,9, -999.00,     4.5,-999.0000,-999.000,  4.0617,-999.000
   31WTTUNES_2,  P17S,   172,  2,     19,     19,2,19910805,2322,-29.5600,-134.0650, 4178,   1133.1,   3.7038,  34.3942,2,  34.3920,2,    175.3,2,    173.4,2,    51.52,2,    33.92,2,     0.00,2,     2.35,2,    0.008,2,    0.008,2, -999.000,9,-999.0000,9,  -999.00,9,   -145.2,2,      0.5,2,   -999.0,9,   -999.0,9,   -999.0,9, -999.00,     3.3,-999.0000,-999.000,  3.6197,-999.000
   31WTTUNES_2,  P17S,   172,  2,     21,     21,2,19910805,2322,-29.5600,-134.0650, 4178,   1287.4,   3.1599,  34.4701,2,  34.4696,2,    165.5,2,    167.2,2,    69.51,2,    34.70,2,     0.00,2,     2.43,2,    0.000,2,    0.000,2, -999.000,9,   1.8690,2,    11.48,2,   -172.7,2,      0.3,2,   2245.9,2,   1134.2,2,   -999.0,9,   20.00,     3.1,  0.0090,   0.150,  3.0681,-999.000
   31WTTUNES_2,  P17S,   172,  2,     22,     22,2,19910805,2322,-29.5600,-134.0650, 4178,   1440.1,   2.7830,  34.5281,2,  34.5281,2,    160.4,2,    160.9,2,    83.87,2,    34.90,2,     0.00,2,     2.43,2, -999.000,9, -999.000,9, -999.000,9,-999.0000,9,  -999.00,9,   -999.0,9,   -999.0,9,   -999.0,9,   -999.0,9,   -999.0,9, -999.00,  -999.0,-999.0000,-999.000,  2.6827,-999.000
   31WTTUNES_2,  P17S,   172,  2,     23,     23,2,19910805,2322,-29.5600,-134.0650, 4178,   1645.7,   2.4491,  34.5811,2,  34.5791,2,    156.6,2,    157.5,2,    98.73,2,    34.99,2,     0.00,2,     2.45,2, -999.000,9, -999.000,9, -999.000,9,-999.0000,9,  -999.00,9,   -999.0,9,   -999.0,9,   -999.0,9,   -999.0,9,   -999.0,9, -999.00,  -999.0,-999.0000,-999.000,  2.3359,-999.000
   31WTTUNES_2,  P17S,   172,  2,     24,     24,2,19910805,2322,-29.5600,-134.0650, 4178,   1853.1,   2.2081,  34.6171,2,  34.6159,2,    154.2,2,    153.9,2,   110.94,2,    35.29,2,     0.00,2,     2.48,2, -999.000,9, -999.000,9, -999.000,9,-999.0000,9,  -999.00,9,   -999.0,9,   -999.0,9,   -999.0,9,   -999.0,9,   -999.0,9, -999.00,  -999.0,-999.0000,-999.000,  2.0810,-999.000
   31WTTUNES_2,  P17S,   172,  2,     25,     25,2,19910805,2322,-29.5600,-134.0650, 4178,   2060.6,   2.0522,  34.6358,2,  34.6351,2,    152.7,2,    152.5,2,   118.96,2,    35.48,2,     0.00,2,     2.49,2, -999.000,9, -999.000,9, -999.000,9,-999.0000,9,  -999.00,9,   -999.0,9,   -999.0,9,   -999.0,9,   -999.0,9,   -999.0,9, -999.00,  -999.0,-999.0000,-999.000,  1.9098,-999.000
   31WTTUNES_2,  P17S,   172,  2,     26,     26,2,19910805,2322,-29.5600,-134.0650, 4178,   2267.8,   1.9502,  34.6462,2,  34.6469,2,    153.0,2,    152.8,2,   123.16,2,    35.38,2,     0.00,2,     2.49,2, -999.000,9, -999.000,9, -999.000,9,-999.0000,9,  -999.00,9,   -999.0,9,   -999.0,9,   -999.0,9,   -999.0,9,   -999.0,9, -999.00,  -999.0,-999.0000,-999.000,  1.7916,-999.000
   31WTTUNES_2,  P17S,   172,  2,     27,     27,2,19910805,2322,-29.5600,-134.0650, 4178,   2474.3,   1.8542,  34.6556,2,  34.6551,2,    154.2,2,    154.8,2,   125.41,2,    35.19,2,     0.00,2,     2.48,2, -999.000,9, -999.000,9, -999.000,9,-999.0000,9,  -999.00,9,   -999.0,9,   -999.0,9,   -999.0,9,   -999.0,9,   -999.0,9, -999.00,  -999.0,-999.0000,-999.000,  1.6790,-999.000
   31WTTUNES_2,  P17S,   172,  2,     28,     28,2,19910805,2322,-29.5600,-134.0650, 4178,   2680.2,   1.7723,  34.6629,2,  34.6624,2,    157.2,2,    157.8,2,   127.26,2,    35.09,2,     0.00,2,     2.47,2, -999.000,9, -999.000,9, -999.000,9,-999.0000,9,  -999.00,9,   -999.0,9,   -999.0,9,   -999.0,9,   -999.0,9,   -999.0,9, -999.00,  -999.0,-999.0000,-999.000,  1.5798,-999.000
   31WTTUNES_2,  P17S,   172,  2,     29,     29,2,19910805,2322,-29.5600,-134.0650, 4178,   2886.8,   1.7023,  34.6707,2,  34.6689,2,    160.5,2,    161.1,2,   128.04,2,    34.89,2,     0.00,2,     2.45,2, -999.000,9, -999.000,9, -999.000,9,-999.0000,9,  -999.00,9,   -999.0,9,   -999.0,9,   -999.0,9,   -999.0,9,   -999.0,9, -999.00,  -999.0,-999.0000,-999.000,  1.4919,-999.000
   31WTTUNES_2,  P17S,   172,  2,     30,     30,2,19910805,2322,-29.5600,-134.0650, 4178,   3093.0,   1.6433,  34.6746,2,  34.6750,2,    165.0,2,    164.9,2,   127.55,2,    34.60,2,     0.00,2,     2.43,2, -999.000,9, -999.000,9, -999.000,9,-999.0000,9,  -999.00,9,   -207.9,2,      0.1,2,   -999.0,9,   -999.0,9,   -999.0,9, -999.00,     3.0,-999.0000,-999.000,  1.4143,-999.000
   31WTTUNES_2,  P17S,   172,  2,     31,     31,2,19910805,2322,-29.5600,-134.0650, 4178,   3299.6,   1.5853,  34.6798,2,  34.6803,2,    169.1,2,    169.0,2,   126.87,2,    34.31,2,     0.00,2,     2.40,2, -999.000,9, -999.000,9, -999.000,9,-999.0000,9,  -999.00,9,   -221.3,2,      0.1,2,   -999.0,9,   -999.0,9,   -999.0,9, -999.00,     4.5,-999.0000,-999.000,  1.3373,-999.000
   31WTTUNES_2,  P17S,   172,  2,     32,     32,2,19910805,2322,-29.5600,-134.0650, 4178,   3502.8,   1.5373,  34.6847,2,  34.6840,2,    173.0,2,    173.3,2,   125.40,2,    33.92,2,     0.00,2,     2.38,2, -999.000,9, -999.000,9, -999.000,9,-999.0000,9,  -999.00,9,   -999.0,9,   -999.0,9,   -999.0,9,   -999.0,9,   -999.0,9, -999.00,  -999.0,-999.0000,-999.000,  1.2699,-999.000
   31WTTUNES_2,  P17S,   172,  2,     33,     33,2,19910805,2322,-29.5600,-134.0650, 4178,   3705.4,   1.4963,  34.6888,2,  34.6885,2,    177.3,2,    177.5,2,   125.01,2,    33.62,2,     0.00,2,     2.36,2, -999.000,9, -999.000,9, -999.000,9,-999.0000,9,  -999.00,9,   -223.1,2,      0.3,2,   -999.0,9,   -999.0,9,   -999.0,9, -999.00,     2.5,-999.0000,-999.000,  1.2090,-999.000
   31WTTUNES_2,  P17S,   172,  2,     34,     34,2,19910805,2322,-29.5600,-134.0650, 4178,   3908.3,   1.4873,  34.6908,2,  34.6909,2,    179.4,2,    179.2,2,   124.82,2,    33.72,2,     0.00,2,     2.36,2, -999.000,9, -999.000,9, -999.000,9,-999.0000,9,  -999.00,9,   -999.0,9,   -999.0,9,   -999.0,9,   -999.0,9,   -999.0,9, -999.00,  -999.0,-999.0000,-999.000,  1.1787,-999.000
   31WTTUNES_2,  P17S,   172,  2,     35,     35,2,19910805,2322,-29.5600,-134.0650, 4178,   4114.6,   1.4923,  34.6926,2,  34.6932,2,    181.3,2,    180.1,2,   124.52,2,    33.62,2,     0.00,2,     2.35,2, -999.000,9, -999.000,9, -999.000,9,-999.0000,9,  -999.00,9,   -208.2,2,      0.2,2,   -999.0,9,   -999.0,9,   -999.0,9, -999.00,     2.1,-999.0000,-999.000,  1.1610,-999.000
   31WTTUNES_2,  P17S,   172,  2,     38,     38,2,19910805,2322,-29.5600,-134.0650, 4178,   4233.7,   1.4953,  34.6936,2,  34.6924,2,    181.0,2,    181.1,2,   124.52,2,    33.53,2,     0.00,2,     2.34,2, -999.000,9, -999.000,9, -999.000,9,-999.0000,9,  -999.00,9,   -999.0,9,   -999.0,9,   -999.0,9,   -999.0,9,   -999.0,9, -999.00,  -999.0,-999.0000,-999.000,  1.1507,-999.000