BOTTLE,20131125MIRCJHATS
EXPOCODE,SECT_ID,STNNBR,CASTNO,SAMPNO,BTLNBR,BTLNBR_FLAG_W,DATE,TIME,LATITUDE,LONGITUDE,DEPTH,CTDPRS,CTDTMP,CTDSAL,CTDSAL_FLAG_W,SALNTY,SALNTY_FLAG_W,CTDOXY,CTDOXY_FLAG_W,OXYGEN,OXYGEN_FLAG_W,SILCAT,SILCAT_FLAG_W,NITRAT,NITRAT_FLAG_W,NITRIT,NITRIT_FLAG_W,PHSPHT,PHSPHT_FLAG_W,CFC-11,CFC-11_FLAG_W,CFC-12,CFC-12_FLAG_W,TRITUM,TRITUM_FLAG_W,HELIUM,HELIUM_FLAG_W,DELHE3,DELHE3_FLAG_W,DELC14,DELC14_FLAG_W,DELC13,DELC13_FLAG_W,TCARBN,TCARBN_FLAG_W,PCO2,PCO2_FLAG_W,ALKALI,ALKALI_FLAG_W,PCO2TMP,C14ERR,HELIER,DELHER,THETA,TRITER
,,,,,,,,,,,,DBAR,ITS-90,PSS-78,,PSS-78,,UMOL/KG,,UMOL/KG,,UMOL/KG,,UMOL/KG,,UMOL/KG,,UMOL/KG,,PMOL/KG,,PMOL/KG,,TU,,NMOL/KG,,PERCNT,,/MILLE,,/MILLE,,UMOL/KG,,UATM,,UMOL/KG,,DEG C,/MILLE,NMOL/KG,PERCNT,DEG C,TU
   31WTTUNES_2,  P17S,   131,  1,      1,      1,2,19910723,2312, -9.5217,-135.0033, 4486,      0.2,  27.6590,  35.5328,2,  35.5352,2,    222.9,3,    224.8,2,     1.47,2,     3.61,2,     0.07,2,     0.45,2,    1.434,2,    0.891,8, -999.000,9,-999.0000,9,  -999.00,9,   -999.0,9,   -999.0,9,   1997.7,2,    274.7,2,   -999.0,9,   20.00,  -999.0,-999.0000,-999.000, 27.6589,-999.000
   31WTTUNES_2,  P17S,   131,  1,      2,      2,2,19910723,2312, -9.5217,-135.0033, 4486,     48.0,  27.5970,  35.5866,2,  35.6654,2,    218.6,6,    216.1,2,     1.47,2,     3.52,2,     0.06,2,     0.44,2,    1.631,2,    0.950,2, -999.000,9,-999.0000,9,  -999.00,9,   -999.0,9,   -999.0,9,   2001.6,2,    272.2,2,   -999.0,9,   20.00,  -999.0,-999.0000,-999.000, 27.5858,-999.000
   31WTTUNES_2,  P17S,   131,  1,      3,      3,2,19910723,2312, -9.5217,-135.0033, 4486,     78.5,  27.4389,  35.9780,2,  36.0444,2,    216.7,6,    211.2,2,     1.46,2,     2.54,2,     0.04,2,     0.43,2,    1.647,8,    0.960,2, -999.000,9,-999.0000,9,  -999.00,9,   -999.0,9,   -999.0,9,   2017.7,2,    267.7,2,   -999.0,9,   20.00,  -999.0,-999.0000,-999.000, 27.4206,-999.000
   31WTTUNES_2,  P17S,   131,  1,      4,      4,2,19910723,2312, -9.5217,-135.0033, 4486,    103.2,  24.7973,  36.2009,2,  36.2266,2,    199.4,2,    209.3,2,     1.85,2,     1.46,2,     0.09,2,     0.54,2,    1.786,8,    1.022,8, -999.000,9,-999.0000,9,  -999.00,9,   -999.0,9,   -999.0,9,   2061.4,2,    310.1,2,   -999.0,9,   20.00,  -999.0,-999.0000,-999.000, 24.7749,-999.000
   31WTTUNES_2,  P17S,   131,  1,      5,      5,2,19910723,2312, -9.5217,-135.0033, 4486,    134.5,  23.8181,  36.3117,2,  36.3072,2,    178.7,2,    181.4,3,     1.66,2,     1.46,2,     2.59,2,     0.55,2,    1.837,2,    1.060,2, -999.000,9,-999.0000,9,  -999.00,9,   -999.0,9,   -999.0,9,   2083.0,2,    334.2,2,   -999.0,9,   20.00,  -999.0,-999.0000,-999.000, 23.7898,-999.000
   31WTTUNES_2,  P17S,   131,  1,      6,      6,2,19910723,2312, -9.5217,-135.0033, 4486,    165.4,  21.8758,  36.1176,2,  36.1271,2,    184.2,2,    184.1,2,     1.66,2,     4.10,2,     0.12,2,     0.57,2,    1.921,2,    1.093,2, -999.000,9,-999.0000,9,  -999.00,9,   -999.0,9,   -999.0,9,   2099.5,2,    379.2,2,   -999.0,9,   20.00,  -999.0,-999.0000,-999.000, 21.8431,-999.000
   31WTTUNES_2,  P17S,   131,  1,      7,      7,2,19910723,2312, -9.5217,-135.0033, 4486,    206.2,  19.1187,  35.6693,2,  35.6511,2,    160.0,2,    164.6,2,     2.83,2,     7.42,2,     0.01,2,     0.76,2,    1.842,2,    1.014,8, -999.000,9,-999.0000,9,  -999.00,9,   -999.0,9,   -999.0,9,   2114.7,2,    466.8,2,   -999.0,9,   20.00,  -999.0,-999.0000,-999.000, 19.0816,-999.000
   31WTTUNES_2,  P17S,   131,  1,      8,      8,2,19910723,2312, -9.5217,-135.0033, 4486,    247.3,  13.5814,  34.9314,2,  34.9220,2,     99.7,2,    104.8,2,    10.75,2,    17.49,2,     0.00,2,     1.53,2,    1.043,2,    0.555,2, -999.000,9,-999.0000,9,  -999.00,9,   -999.0,9,   -999.0,9,   2167.1,2,    776.7,2,   -999.0,9,   20.00,  -999.0,-999.0000,-999.000, 13.5463,-999.000
   31WTTUNES_2,  P17S,   131,  1,      9,      9,2,19910723,2312, -9.5217,-135.0033, 4486,    288.1,  11.2630,  34.7710,2,  34.7700,2,     58.5,2,     56.7,2,    20.72,2,    27.56,2,     0.00,2,     2.19,2,    0.318,2,    0.180,2, -999.000,9,-999.0000,9,  -999.00,9,   -999.0,9,   -999.0,9,   2221.3,2,   1182.6,2,   -999.0,9,   20.00,  -999.0,-999.0000,-999.000, 11.2269,-999.000
   31WTTUNES_2,  P17S,   131,  1,     10,     10,2,19910723,2312, -9.5217,-135.0033, 4486,    328.9,  10.0175,  34.7240,2,  34.7234,2,     60.4,2,     61.3,2,    26.39,2,    31.08,2,     0.00,2,     2.32,2,    0.109,2,    0.068,2, -999.000,9,-999.0000,9,  -999.00,9,   -999.0,9,   -999.0,9,   2233.2,2,   1240.0,2,   -999.0,9,   20.00,  -999.0,-999.0000,-999.000,  9.9791,-999.000
   31WTTUNES_2,  P17S,   131,  1,     11,     11,2,19910723,2312, -9.5217,-135.0033, 4486,    389.2,   9.1988,  34.6857,2,  34.6851,2,     64.0,2,     62.6,2,    30.20,2,    33.04,2,     0.00,2,     2.38,2,    0.053,2,    0.038,2, -999.000,9,-999.0000,9,  -999.00,9,   -999.0,9,   -999.0,9,   2236.5,2,   1307.0,2,   -999.0,9,   20.00,  -999.0,-999.0000,-999.000,  9.1556,-999.000
   31WTTUNES_2,  P17S,   131,  1,     12,     12,2,19910723,2312, -9.5217,-135.0033, 4486,    461.8,   8.4901,  34.6465,2,  34.6455,2,     70.4,2,   -999.0,9,    33.53,2,    34.60,2,     0.00,2,     2.45,2, -999.000,9, -999.000,9, -999.000,9,-999.0000,9,  -999.00,9,   -999.0,9,   -999.0,9,   -999.0,5,   -999.0,5,   -999.0,9, -999.00,  -999.0,-999.0000,-999.000,  8.4411,-999.000
   31WTTUNES_2,  P17S,   131,  1,     13,     13,2,19910723,2312, -9.5217,-135.0033, 4486,    562.1,   7.3056,  34.5824,2,  34.5814,2,     66.7,2,     72.7,2,    39.98,2,    36.46,2,     0.00,2,     2.57,2,    0.012,2,    0.008,2, -999.000,9,-999.0000,9,  -999.00,9,   -999.0,9,   -999.0,9,   2252.3,2,   1389.5,2,   -999.0,9,   20.00,  -999.0,-999.0000,-999.000,  7.2506,-999.000
   31WTTUNES_2,  P17S,   131,  1,     37,     37,2,19910723,2312, -9.5217,-135.0033, 4486,    661.8,   6.5290,  34.5541,2,  34.5539,2,     76.9,2,     61.9,2,    48.09,2,    39.30,2,     0.00,2,     2.78,2,    0.003,2,    0.002,8, -999.000,9,-999.0000,9,  -999.00,9,   -999.0,9,   -999.0,9,   2269.9,2,   1549.7,2,   -999.0,9,   20.00,  -999.0,-999.0000,-999.000,  6.4677,-999.000
   31WTTUNES_2,  P17S,   131,  1,     15,     15,2,19910723,2312, -9.5217,-135.0033, 4486,    761.6,   5.7514,  34.5360,2,  34.5359,2,     65.0,2,     63.8,2,    57.67,2,    40.76,2,     0.00,2,     2.88,2,    0.001,2,   -0.002,2, -999.000,9,-999.0000,9,  -999.00,9,   -999.0,9,   -999.0,9,   2279.3,2,   1586.1,2,   -999.0,9,   20.00,  -999.0,-999.0000,-999.000,  5.6848,-999.000
   31WTTUNES_2,  P17S,   131,  1,     16,     16,2,19910723,2312, -9.5217,-135.0033, 4486,    863.4,   5.0828,  34.5296,2,  34.5312,2,     84.3,2,     81.6,2,    66.47,2,    39.79,2,     0.00,2,     2.83,2,    0.005,2,    0.000,7, -999.000,9,-999.0000,9,  -999.00,9,   -999.0,9,   -999.0,9,   2281.4,2,   1499.5,2,   -999.0,9,   20.00,  -999.0,-999.0000,-999.000,  5.0111,-999.000
   31WTTUNES_2,  P17S,   131,  1,     17,     17,2,19910723,2312, -9.5217,-135.0033, 4486,    964.0,   4.5361,  34.5362,2,  34.5365,2,     92.5,2,     92.8,2,    77.03,2,    39.00,2,     0.00,2,     2.80,2, -999.000,9, -999.000,9, -999.000,9,-999.0000,9,  -999.00,9,   -999.0,9,   -999.0,9,   2283.8,2,   1448.0,2,   -999.0,9,   20.00,  -999.0,-999.0000,-999.000,  4.4594,-999.000
   31WTTUNES_2,  P17S,   131,  1,     18,     18,2,19910723,2312, -9.5217,-135.0033, 4486,   1065.2,   4.1123,  34.5458,2,  34.5458,2,    101.7,2,    102.3,2,    83.68,2,    38.51,2,     0.00,2,     2.76,2,    0.002,7,    0.000,2, -999.000,9,-999.0000,9,  -999.00,9,   -999.0,9,   -999.0,9,   2288.6,2,   1394.1,2,   -999.0,9,   20.00,  -999.0,-999.0000,-999.000,  4.0302,-999.000
   31WTTUNES_2,  P17S,   131,  1,     19,     19,2,19910723,2312, -9.5217,-135.0033, 4486,   1163.6,   3.8405,  34.5551,2,  34.5552,2,    106.4,2,    106.2,2,    90.81,2,    38.22,2,     0.00,2,     2.76,2, -999.000,9, -999.000,9, -999.000,9,-999.0000,9,  -999.00,9,   -999.0,9,   -999.0,9,   2294.9,2,   1370.6,2,   -999.0,9,   20.00,  -999.0,-999.0000,-999.000,  3.7523,-999.000
   31WTTUNES_2,  P17S,   131,  1,     20,     20,2,19910723,2312, -9.5217,-135.0033, 4486,   1313.4,   3.4777,  34.5708,2,  34.5715,2,    109.2,2,    108.8,2,    99.51,2,    38.12,2,     0.00,2,     2.73,2,    0.008,3,    0.009,3, -999.000,9,-999.0000,9,  -999.00,9,   -999.0,9,   -999.0,9,   2300.8,2,   1360.2,2,   -999.0,9,   20.00,  -999.0,-999.0000,-999.000,  3.3803,-999.000
   31WTTUNES_2,  P17S,   131,  1,     21,     21,2,19910723,2312, -9.5217,-135.0033, 4486,   1517.7,   2.9980,  34.5921,2,  34.5923,2,    115.5,2,    115.4,2,   110.85,2,    37.93,2,     0.00,2,     2.71,2, -999.000,9, -999.000,9, -999.000,9,-999.0000,9,  -999.00,9,   -999.0,9,   -999.0,9,   2312.8,2,   1353.0,2,   -999.0,9,   20.00,  -999.0,-999.0000,-999.000,  2.8887,-999.000
   31WTTUNES_2,  P17S,   131,  1,     22,     22,2,19910723,2312, -9.5217,-135.0033, 4486,   1722.0,   2.6722,  34.6095,2,  34.6079,2,    125.1,2,    122.4,2,   116.91,2,    37.44,2,     0.00,2,     2.66,2,    0.000,8,    0.000,2, -999.000,9,-999.0000,9,  -999.00,9,   -999.0,9,   -999.0,9,   2314.0,2,   1313.5,2,   -999.0,9,   20.00,  -999.0,-999.0000,-999.000,  2.5497,-999.000
   31WTTUNES_2,  P17S,   131,  1,     23,     23,2,19910723,2312, -9.5217,-135.0033, 4486,   1917.8,   2.3774,  34.6266,2,  34.6089,4,    128.3,2,    128.7,2,   123.26,2,    36.95,2,     0.00,2,     2.62,2, -999.000,9, -999.000,9, -999.000,9,-999.0000,9,  -999.00,9,   -999.0,9,   -999.0,9,   2316.5,2,   -999.0,5,   -999.0,9, -999.00,  -999.0,-999.0000,-999.000,  2.2423,-999.000
   31WTTUNES_2,  P17S,   131,  1,     24,     24,2,19910723,2312, -9.5217,-135.0033, 4486,   2115.6,   2.1176,  34.6465,2,  34.6454,2,    132.9,2,    134.1,2,   129.41,2,    36.65,2,     0.00,2,     2.59,2,    0.001,2,    0.004,7, -999.000,9,-999.0000,9,  -999.00,9,   -999.0,9,   -999.0,9,   2322.8,2,   1250.0,2,   -999.0,9,   20.00,  -999.0,-999.0000,-999.000,  1.9694,-999.000
   31WTTUNES_2,  P17S,   131,  1,     25,     25,2,19910723,2312, -9.5217,-135.0033, 4486,   2311.8,   1.9757,  34.6586,2,  34.6584,2,    136.3,2,    135.8,2,   134.01,2,    36.46,2,     0.00,2,     2.56,2, -999.000,9, -999.000,9, -999.000,9,-999.0000,9,  -999.00,9,   -999.0,9,   -999.0,9,   2324.7,2,   1229.1,2,   -999.0,9,   20.00,  -999.0,-999.0000,-999.000,  1.8127,-999.000
   31WTTUNES_2,  P17S,   131,  1,     26,     26,2,19910723,2312, -9.5217,-135.0033, 4486,   2507.1,   1.8687,  34.6682,2,  34.6691,2,    139.2,2,    140.1,2,   137.13,2,    36.16,2,     0.00,2,     2.53,2,   -0.002,7,    0.000,2, -999.000,9,-999.0000,9,  -999.00,9,   -999.0,9,   -999.0,9,   2326.2,2,   1207.1,2,   -999.0,9,   20.00,  -999.0,-999.0000,-999.000,  1.6902,-999.000
   31WTTUNES_2,  P17S,   131,  1,     27,     27,2,19910723,2312, -9.5217,-135.0033, 4486,   2699.0,   1.8108,  34.6739,2,  34.6734,2,    143.4,2,    144.2,2,   138.31,2,    35.87,2,     0.00,2,     2.51,2, -999.000,9, -999.000,9, -999.000,9,-999.0000,9,  -999.00,9,   -999.0,9,   -999.0,9,   2325.1,2,   1183.4,2,   -999.0,9,   20.00,  -999.0,-999.0000,-999.000,  1.6158,-999.000
   31WTTUNES_2,  P17S,   131,  1,     28,     28,2,19910723,2312, -9.5217,-135.0033, 4486,   2888.2,   1.7608,  34.6759,2,  34.6762,2,    148.2,2,    148.8,2,   137.82,2,    35.58,2,     0.00,2,     2.48,2,   -0.002,5,    0.000,2, -999.000,9,-999.0000,9,  -999.00,9,   -999.0,9,   -999.0,9,   -999.0,5,   1089.6,2,   -999.0,9,   20.00,  -999.0,-999.0000,-999.000,  1.5490,-999.000
   31WTTUNES_2,  P17S,   131,  1,     29,     29,2,19910723,2312, -9.5217,-135.0033, 4486,   3080.7,   1.6789,  34.6810,2,  34.6805,2,    154.7,2,    155.2,2,   138.01,2,    35.28,2,     0.00,2,     2.46,2, -999.000,9, -999.000,9, -999.000,9,-999.0000,9,  -999.00,9,   -999.0,9,   -999.0,9,   2321.0,2,   1137.5,2,   -999.0,9,   20.00,  -999.0,-999.0000,-999.000,  1.4503,-999.000
   31WTTUNES_2,  P17S,   131,  1,     30,     30,2,19910723,2312, -9.5217,-135.0033, 4486,   3271.9,   1.6059,  34.6833,2,  34.6848,2,    158.2,2,    158.7,2,   138.01,2,    35.09,2,     0.00,2,     2.46,2,   -0.001,2,    0.000,2, -999.000,9,-999.0000,9,  -999.00,9,   -999.0,9,   -999.0,9,   2319.1,2,   1109.0,2,   -999.0,9,   20.00,  -999.0,-999.0000,-999.000,  1.3602,-999.000
   31WTTUNES_2,  P17S,   131,  1,     31,     31,2,19910723,2312, -9.5217,-135.0033, 4486,   3461.1,   1.5590,  34.6870,2,  34.6866,2,    161.5,2,    161.4,2,   138.99,2,    35.09,2,     0.00,2,     2.45,2,   -0.002,2,    0.000,2, -999.000,9,-999.0000,9,  -999.00,9,   -999.0,9,   -999.0,9,   2316.1,2,   1107.6,2,   -999.0,9,   20.00,  -999.0,-999.0000,-999.000,  1.2953,-999.000
   31WTTUNES_2,  P17S,   131,  1,     32,     32,2,19910723,2312, -9.5217,-135.0033, 4486,   3655.0,   1.5270,  34.6886,2,  34.6886,2,    163.6,2,    163.6,2,   139.57,2,    34.89,2,     0.00,2,     2.42,2, -999.000,9, -999.000,9, -999.000,9,-999.0000,9,  -999.00,9,   -999.0,9,   -999.0,9,   2314.8,2,   1096.7,2,   -999.0,9,   20.00,  -999.0,-999.0000,-999.000,  1.2441,-999.000
   31WTTUNES_2,  P17S,   131,  1,     33,     33,2,19910723,2312, -9.5217,-135.0033, 4486,   3852.2,   1.4890,  34.6904,2,  34.6916,2,    165.4,2,    165.6,2,   140.36,2,    34.80,2,     0.00,2,     2.40,2, -999.000,9, -999.000,9, -999.000,9,-999.0000,9,  -999.00,9,   -999.0,9,   -999.0,9,   2315.8,2,   1096.2,2,   -999.0,9,   20.00,  -999.0,-999.0000,-999.000,  1.1863,-999.000
   31WTTUNES_2,  P17S,   131,  1,     34,     34,2,19910723,2312, -9.5217,-135.0033, 4486,   4049.4,   1.4610,  34.6926,2,  34.6930,2,    167.8,2,    167.4,2,   140.16,2,    34.80,2,     0.00,2,     2.39,2,   -0.001,8,    0.000,2, -999.000,9,-999.0000,9,  -999.00,9,   -999.0,9,   -999.0,9,   2312.1,2,   1087.6,2,   -999.0,9,   20.00,  -999.0,-999.0000,-999.000,  1.1378,-999.000
   31WTTUNES_2,  P17S,   131,  1,     35,     35,2,19910723,2312, -9.5217,-135.0033, 4486,   4258.4,   1.4500,  34.6940,2,  34.6949,2,    170.2,2,    169.5,2,   139.48,2,    34.50,2,     0.00,2,     2.38,2, -999.000,9, -999.000,9, -999.000,9,-999.0000,9,  -999.00,9,   -999.0,9,   -999.0,9,   2309.3,2,   1088.5,2,   -999.0,9,   20.00,  -999.0,-999.0000,-999.000,  1.1040,-999.000
   31WTTUNES_2,  P17S,   131,  1,     36,     36,2,19910723,2312, -9.5217,-135.0033, 4486,   4553.4,   1.4730,  34.6946,2,  34.6975,2,    169.5,2,    170.3,2,   138.79,2,    34.40,2,     0.00,2,     2.38,2,   -0.001,8,    0.000,2, -999.000,9,-999.0000,9,  -999.00,9,   -999.0,9,   -999.0,9,   2311.4,2,   1072.3,2,   -999.0,9,   20.00,  -999.0,-999.0000,-999.000,  1.0927,-999.000