BOTTLE,20131125MIRCJHATS
EXPOCODE,SECT_ID,STNNBR,CASTNO,SAMPNO,BTLNBR,BTLNBR_FLAG_W,DATE,TIME,LATITUDE,LONGITUDE,DEPTH,CTDPRS,CTDTMP,CTDSAL,CTDSAL_FLAG_W,SALNTY,SALNTY_FLAG_W,CTDOXY,CTDOXY_FLAG_W,OXYGEN,OXYGEN_FLAG_W,SILCAT,SILCAT_FLAG_W,NITRAT,NITRAT_FLAG_W,NITRIT,NITRIT_FLAG_W,PHSPHT,PHSPHT_FLAG_W,CFC-11,CFC-11_FLAG_W,CFC-12,CFC-12_FLAG_W,TRITUM,TRITUM_FLAG_W,HELIUM,HELIUM_FLAG_W,DELHE3,DELHE3_FLAG_W,DELC14,DELC14_FLAG_W,DELC13,DELC13_FLAG_W,TCARBN,TCARBN_FLAG_W,PCO2,PCO2_FLAG_W,ALKALI,ALKALI_FLAG_W,PCO2TMP,C14ERR,HELIER,DELHER,THETA,TRITER
,,,,,,,,,,,,DBAR,ITS-90,PSS-78,,PSS-78,,UMOL/KG,,UMOL/KG,,UMOL/KG,,UMOL/KG,,UMOL/KG,,UMOL/KG,,PMOL/KG,,PMOL/KG,,TU,,NMOL/KG,,PERCNT,,/MILLE,,/MILLE,,UMOL/KG,,UATM,,UMOL/KG,,DEG C,/MILLE,NMOL/KG,PERCNT,DEG C,TU
   31WTTUNES_2,  P16S,   186,  1,     61,     61,2,19910814,1146,-34.4883,-150.5150, 5340,      1.9,  15.0231,  35.0894,2,  35.0919,2,   -999.0,9,    247.3,2,     1.74,2,     0.21,2,     0.02,2,     0.18,2,    2.586,2,    1.472,2, -999.000,9,-999.0000,9,  -999.00,9,   -999.0,9,   -999.0,9,   2043.4,2,    382.6,2,   -999.0,9,   20.00,  -999.0,-999.0000,-999.000, 15.0228,-999.000
   31WTTUNES_2,  P16S,   186,  1,      2,      2,2,19910814,1146,-34.4883,-150.5150, 5340,     59.0,  15.0125,  35.0923,2,  35.0900,2,    248.0,2,    247.2,2,     1.74,2,     0.21,2,     0.02,2,     0.18,2,    2.683,2,    1.454,2, -999.000,9,-999.0000,9,  -999.00,9,   -999.0,9,   -999.0,9,   -999.0,9,   -999.0,9,   -999.0,9, -999.00,  -999.0,-999.0000,-999.000, 15.0035,-999.000
   31WTTUNES_2,  P16S,   186,  1,      3,      3,2,19910814,1146,-34.4883,-150.5150, 5340,    109.7,  15.0179,  35.0929,2,  35.0904,2,    250.2,2,    247.1,2,     1.33,2,     0.21,2,     0.02,2,     0.17,2,    2.601,2,    1.452,2, -999.000,9,-999.0000,9,  -999.00,9,   -999.0,9,   -999.0,9,   -999.0,9,   -999.0,9,   -999.0,9, -999.00,  -999.0,-999.0000,-999.000, 15.0013,-999.000
   31WTTUNES_2,  P16S,   186,  1,     64,     64,2,19910814,1146,-34.4883,-150.5150, 5340,    165.6,  15.0025,  35.0912,2,  35.0837,2,    249.1,2,    246.3,2,     1.52,2,     0.34,2,     0.02,2,     0.19,2,    2.594,2,    1.453,2, -999.000,9,-999.0000,9,  -999.00,9,   -999.0,9,   -999.0,9,   -999.0,9,   -999.0,9,   -999.0,9, -999.00,  -999.0,-999.0000,-999.000, 14.9774,-999.000
   31WTTUNES_2,  P16S,   186,  1,      5,      5,2,19910814,1146,-34.4883,-150.5150, 5340,    221.9,  13.1657,  34.9460,2,  34.9570,2,    212.3,2,    212.2,2,     1.91,2,     7.18,2,     0.01,2,     0.63,2,    2.123,2,    1.168,2, -999.000,9,-999.0000,9,  -999.00,9,   -999.0,9,   -999.0,9,   -999.0,9,   -999.0,9,   -999.0,9, -999.00,  -999.0,-999.0000,-999.000, 13.1349,-999.000
   31WTTUNES_2,  P16S,   186,  1,      6,      6,2,19910814,1146,-34.4883,-150.5150, 5340,    263.4,  11.3386,  34.7975,2,  34.7888,2,    209.0,2,    207.7,2,     3.31,2,    12.27,2,     0.00,2,     0.92,2,    1.774,2,    1.018,2, -999.000,9,-999.0000,9,  -999.00,9,   -999.0,9,   -999.0,9,   -999.0,9,   -999.0,9,   -999.0,9, -999.00,  -999.0,-999.0000,-999.000, 11.3054,-999.000
   31WTTUNES_2,  P16S,   186,  1,      7,      7,2,19910814,1146,-34.4883,-150.5150, 5340,    313.6,   9.7367,  34.6294,2,  34.6259,2,    214.8,2,    217.1,2,     3.71,2,    15.19,2,     0.00,2,     1.10,2,    1.964,2,    1.053,2, -999.000,9,-999.0000,9,  -999.00,9,   -999.0,9,   -999.0,9,   -999.0,9,   -999.0,9,   -999.0,9, -999.00,  -999.0,-999.0000,-999.000,  9.7009,-999.000
   31WTTUNES_2,  P16S,   186,  1,     68,     68,2,19910814,1146,-34.4883,-150.5150, 5340,    385.9,   8.3109,  34.5102,2,  34.5100,2,    229.3,2,    232.2,2,     4.90,2,    18.02,2,     0.00,2,     1.26,2,    2.072,2,    1.100,2, -999.000,9,-999.0000,9,  -999.00,9,   -999.0,9,   -999.0,9,   -999.0,9,   -999.0,9,   -999.0,9, -999.00,  -999.0,-999.0000,-999.000,  8.2708,-999.000
   31WTTUNES_2,  P16S,   186,  1,     69,     69,2,19910814,1146,-34.4883,-150.5150, 5340,    465.6,   7.6002,  34.4576,2,  34.4570,2,    241.5,2,    240.2,2,     6.10,2,    19.82,2,     0.00,2,     1.37,2,    1.958,2,    1.008,2, -999.000,9,-999.0000,9,  -999.00,9,   -999.0,9,   -999.0,9,   -999.0,9,   -999.0,9,   -999.0,9, -999.00,  -999.0,-999.0000,-999.000,  7.5540,-999.000
   31WTTUNES_2,  P16S,   186,  1,     70,     70,2,19910814,1146,-34.4883,-150.5150, 5340,    548.9,   7.1936,  34.4226,2,  34.4215,2,    240.4,2,    242.5,2,     7.10,2,    20.95,2,     0.00,2,     1.43,2,    1.560,2,    0.822,2, -999.000,9,-999.0000,9,  -999.00,9,   -999.0,9,   -999.0,9,   -999.0,9,   -999.0,9,   -999.0,9, -999.00,  -999.0,-999.0000,-999.000,  7.1405,-999.000
   31WTTUNES_2,  P16S,   186,  1,     11,     11,2,19910814,1146,-34.4883,-150.5150, 5340,    640.9,   6.8103,  34.3878,2,  34.3881,2,    242.1,2,    242.0,2,     8.09,2,    22.13,2,     0.00,2,     1.51,2,    1.177,2,    0.617,2, -999.000,9,-999.0000,9,  -999.00,9,   -999.0,9,   -999.0,9,   -999.0,9,   -999.0,9,   -999.0,9, -999.00,  -999.0,-999.0000,-999.000,  6.7499,-999.000
   31WTTUNES_2,  P16S,   186,  1,     12,     12,2,19910814,1146,-34.4883,-150.5150, 5340,    722.6,   6.4230,  34.3559,2,  34.3573,2,    238.2,2,    240.0,2,     9.89,2,    23.31,2,     0.00,2,     1.59,2,    0.809,2,    0.442,2, -999.000,9,-999.0000,9,  -999.00,9,   -999.0,9,   -999.0,9,   -999.0,9,   -999.0,9,   -999.0,9, -999.00,  -999.0,-999.0000,-999.000,  6.3566,-999.000
   31WTTUNES_2,  P16S,   186,  1,     13,     13,2,19910814,1146,-34.4883,-150.5150, 5340,    824.5,   5.8756,  34.3226,2,  34.3240,2,    233.5,2,    232.2,2,    13.50,2,    25.31,2,     0.00,2,     1.72,2,    0.471,2,    0.265,2, -999.000,9,-999.0000,9,  -999.00,9,   -999.0,9,   -999.0,9,   -999.0,9,   -999.0,9,   -999.0,9, -999.00,  -999.0,-999.0000,-999.000,  5.8027,-999.000
   31WTTUNES_2,  P16S,   186,  1,     37,     37,2,19910814,1146,-34.4883,-150.5150, 5340,    927.1,   5.2726,  34.3113,2,  34.3118,2,    222.3,2,    218.4,2,    19.92,2,    27.78,2,     0.00,2,     1.89,2,    0.247,2,    0.159,2, -999.000,9,-999.0000,9,  -999.00,9,   -999.0,9,   -999.0,9,   -999.0,9,   -999.0,9,   -999.0,9, -999.00,  -999.0,-999.0000,-999.000,  5.1943,-999.000
   31WTTUNES_2,  P16S,   186,  1,     15,     15,2,19910814,1146,-34.4883,-150.5150, 5340,   1029.9,   4.7310,  34.3201,2,  34.3203,2,    207.4,2,    206.1,2,    27.95,2,    29.88,2,     0.00,2,     2.03,2,    0.159,2,    0.091,2, -999.000,9,-999.0000,9,  -999.00,9,   -999.0,9,   -999.0,9,   -999.0,9,   -999.0,9,   -999.0,9, -999.00,  -999.0,-999.0000,-999.000,  4.6474,-999.000
   31WTTUNES_2,  P16S,   186,  1,     16,     16,2,19910814,1146,-34.4883,-150.5150, 5340,   1131.6,   4.1311,  34.3448,2,  34.3452,2,    196.1,2,    195.5,2,    38.20,2,    31.80,2,     0.00,2,     2.16,2,    0.090,2,    0.055,2, -999.000,9,-999.0000,9,  -999.00,9,   -999.0,9,   -999.0,9,   -999.0,9,   -999.0,9,   -999.0,9, -999.00,  -999.0,-999.0000,-999.000,  4.0435,-999.000
   31WTTUNES_2,  P16S,   186,  1,     17,     17,2,19910814,1146,-34.4883,-150.5150, 5340,   1285.5,   3.3676,  34.4057,2,  34.4061,2,    187.6,3,    182.5,2,    54.49,2,    33.54,2,     0.00,2,     2.30,2,    0.024,2,    0.018,2, -999.000,9,-999.0000,9,  -999.00,9,   -999.0,9,   -999.0,9,   -999.0,9,   -999.0,9,   -999.0,9, -999.00,  -999.0,-999.0000,-999.000,  3.2741,-999.000
   31WTTUNES_2,  P16S,   186,  1,     18,     18,2,19910814,1146,-34.4883,-150.5150, 5340,   1440.4,   2.9692,  34.4782,2,  34.4793,2,    170.0,2,    171.9,2,    68.60,2,    34.37,2,     0.00,2,     2.36,2,    0.004,2,    0.024,4, -999.000,9,-999.0000,9,  -999.00,9,   -999.0,9,   -999.0,9,   -999.0,9,   -999.0,9,   -999.0,9, -999.00,  -999.0,-999.0000,-999.000,  2.8669,-999.000
   31WTTUNES_2,  P16S,   186,  1,     19,     19,2,19910814,1146,-34.4883,-150.5150, 5340,   1594.7,   2.6881,  34.5446,2,  34.5457,2,    164.3,2,    163.3,2,    83.59,2,    34.71,2,     0.00,2,     2.38,2,   -0.002,2,    0.000,2, -999.000,9,-999.0000,9,  -999.00,9,   -999.0,9,   -999.0,9,   -999.0,9,   -999.0,9,   -999.0,9, -999.00,  -999.0,-999.0000,-999.000,  2.5762,-999.000
   31WTTUNES_2,  P16S,   186,  1,     20,     20,2,19910814,1146,-34.4883,-150.5150, 5340,   1747.7,   2.4966,  34.5916,2,  34.5938,2,    158.3,2,    156.2,2,    98.25,2,    35.10,2,     0.00,2,     2.42,2,   -0.002,7,    0.000,2, -999.000,9,-999.0000,9,  -999.00,9,   -999.0,9,   -999.0,9,   -999.0,9,   -999.0,9,   -999.0,9, -999.00,  -999.0,-999.0000,-999.000,  2.3743,-999.000
   31WTTUNES_2,  P16S,   186,  1,     21,     21,2,19910814,1146,-34.4883,-150.5150, 5340,   1952.2,   2.3111,  34.6191,2,  34.6194,2,    154.8,2,    152.9,2,   108.71,2,    35.29,2,     0.00,2,     2.45,2, -999.000,9, -999.000,9, -999.000,9,-999.0000,9,  -999.00,9,   -999.0,9,   -999.0,9,   -999.0,9,   -999.0,9,   -999.0,9, -999.00,  -999.0,-999.0000,-999.000,  2.1741,-999.000
   31WTTUNES_2,  P16S,   186,  1,     22,     22,2,19910814,1146,-34.4883,-150.5150, 5340,   2159.8,   2.1360,  34.6373,2,  34.6376,2,    151.2,2,    151.7,2,   116.96,2,    35.44,2,     0.00,2,     2.47,2, -999.000,9, -999.000,9, -999.000,9,-999.0000,9,  -999.00,9,   -999.0,9,   -999.0,9,   -999.0,9,   -999.0,9,   -999.0,9, -999.00,  -999.0,-999.0000,-999.000,  1.9837,-999.000
   31WTTUNES_2,  P16S,   186,  1,     23,     23,2,19910814,1146,-34.4883,-150.5150, 5340,   2366.8,   1.9885,  34.6502,2,  34.6504,2,    151.2,2,    150.8,2,   123.18,2,    35.49,2,     0.00,2,     2.47,2, -999.000,9, -999.000,9, -999.000,9,-999.0000,9,  -999.00,9,   -999.0,9,   -999.0,9,   -999.0,9,   -999.0,9,   -999.0,9, -999.00,  -999.0,-999.0000,-999.000,  1.8204,-999.000
   31WTTUNES_2,  P16S,   186,  1,     24,     24,2,19910814,1146,-34.4883,-150.5150, 5340,   2572.6,   1.8966,  34.6571,2,  34.6579,2,    151.4,2,    151.0,2,   127.33,2,    35.59,2,     0.00,2,     2.48,2, -999.000,9, -999.000,9, -999.000,9,-999.0000,9,  -999.00,9,   -999.0,9,   -999.0,9,   -999.0,9,   -999.0,9,   -999.0,9, -999.00,  -999.0,-999.0000,-999.000,  1.7117,-999.000
   31WTTUNES_2,  P16S,   186,  1,     25,     25,2,19910814,1146,-34.4883,-150.5150, 5340,   2780.2,   1.8144,  34.6651,2,  34.6656,2,    152.3,2,    152.0,2,   130.87,2,    35.64,2,     0.00,2,     2.47,2, -999.000,9, -999.000,9, -999.000,9,-999.0000,9,  -999.00,9,   -999.0,9,   -999.0,9,   -999.0,9,   -999.0,9,   -999.0,9, -999.00,  -999.0,-999.0000,-999.000,  1.6117,-999.000
   31WTTUNES_2,  P16S,   186,  1,     26,     26,2,19910814,1146,-34.4883,-150.5150, 5340,   2987.1,   1.7473,  34.6723,2,  34.6717,2,    154.2,2,    154.8,2,   131.90,2,    35.44,2,     0.00,2,     2.46,2, -999.000,9, -999.000,9, -999.000,9,-999.0000,9,  -999.00,9,   -999.0,9,   -999.0,9,   -999.0,9,   -999.0,9,   -999.0,9, -999.00,  -999.0,-999.0000,-999.000,  1.5264,-999.000
   31WTTUNES_2,  P16S,   186,  1,     27,     27,2,19910814,1146,-34.4883,-150.5150, 5340,   3195.0,   1.6767,  34.6799,2,  34.6793,2,    159.0,2,    160.8,2,   130.83,2,    35.00,2,     0.00,2,     2.42,2, -999.000,9, -999.000,9, -999.000,9,-999.0000,9,  -999.00,9,   -999.0,9,   -999.0,9,   -999.0,9,   -999.0,9,   -999.0,9, -999.00,  -999.0,-999.0000,-999.000,  1.4369,-999.000
   31WTTUNES_2,  P16S,   186,  1,     28,     28,2,19910814,1146,-34.4883,-150.5150, 5340,   3402.5,   1.6162,  34.6878,2,  34.6866,2,    167.1,2,    167.7,2,   127.66,2,    34.42,2,     0.00,2,     2.38,2, -999.000,9, -999.000,9, -999.000,9,-999.0000,9,  -999.00,9,   -999.0,9,   -999.0,9,   -999.0,9,   -999.0,9,   -999.0,9, -999.00,  -999.0,-999.0000,-999.000,  1.3571,-999.000
   31WTTUNES_2,  P16S,   186,  1,     29,     29,2,19910814,1146,-34.4883,-150.5150, 5340,   3608.3,   1.5302,  34.6967,2,  34.6967,2,    175.9,2,    177.0,2,   123.46,2,    33.59,2,     0.00,2,     2.32,2, -999.000,9, -999.000,9, -999.000,9,-999.0000,9,  -999.00,9,   -999.0,9,   -999.0,9,   -999.0,9,   -999.0,9,   -999.0,9, -999.00,  -999.0,-999.0000,-999.000,  1.2520,-999.000
   31WTTUNES_2,  P16S,   186,  1,     30,     30,2,19910814,1146,-34.4883,-150.5150, 5340,   3867.0,   1.4244,  34.7040,2,  34.7041,2,    185.3,2,    187.0,2,   120.94,2,    32.91,2,     0.00,2,     2.27,2, -999.000,9, -999.000,9, -999.000,9,-999.0000,9,  -999.00,9,   -999.0,9,   -999.0,9,   -999.0,9,   -999.0,9,   -999.0,9, -999.00,  -999.0,-999.0000,-999.000,  1.1219,-999.000
   31WTTUNES_2,  P16S,   186,  1,     31,     31,2,19910814,1146,-34.4883,-150.5150, 5340,   4125.1,   1.3219,  34.7069,2,  34.7075,2,    193.0,2,    193.9,2,   120.29,2,    32.53,2,     0.00,2,     2.24,2, -999.000,9, -999.000,9, -999.000,9,-999.0000,9,  -999.00,9,   -999.0,9,   -999.0,9,   -999.0,9,   -999.0,9,   -999.0,9, -999.00,  -999.0,-999.0000,-999.000,  0.9943,-999.000
   31WTTUNES_2,  P16S,   186,  1,     32,     32,2,19910814,1146,-34.4883,-150.5150, 5340,   4388.0,   1.2288,  34.7096,2,  34.7097,2,    197.3,2,    199.4,2,   120.48,2,    32.19,2,     0.00,2,     2.22,2, -999.000,9, -999.000,9, -999.000,9,-999.0000,9,  -999.00,9,   -999.0,9,   -999.0,9,   -999.0,9,   -999.0,9,   -999.0,9, -999.00,  -999.0,-999.0000,-999.000,  0.8748,-999.000
   31WTTUNES_2,  P16S,   186,  1,     33,     33,2,19910814,1146,-34.4883,-150.5150, 5340,   4639.6,   1.1581,  34.7104,2,  34.7095,2,    201.8,2,    202.8,2,   121.29,2,    32.09,2,     0.00,2,     2.21,2, -999.000,9, -999.000,9, -999.000,9,-999.0000,9,  -999.00,9,   -999.0,9,   -999.0,9,   -999.0,9,   -999.0,9,   -999.0,9, -999.00,  -999.0,-999.0000,-999.000,  0.7777,-999.000
   31WTTUNES_2,  P16S,   186,  1,     34,     34,2,19910814,1146,-34.4883,-150.5150, 5340,   4885.5,   1.1336,  34.7098,2,  34.7095,2,    203.2,2,    204.1,2,   121.69,2,    32.05,2,     0.00,2,     2.21,2,   -0.001,7,    0.000,2, -999.000,9,-999.0000,9,  -999.00,9,   -999.0,9,   -999.0,9,   -999.0,9,   -999.0,9,   -999.0,9, -999.00,  -999.0,-999.0000,-999.000,  0.7253,-999.000
   31WTTUNES_2,  P16S,   186,  1,     35,     35,2,19910814,1146,-34.4883,-150.5150, 5340,   5147.3,   1.1295,  34.7093,2,  34.7085,2,    206.6,2,    205.3,2,   122.50,2,    32.05,2,     0.00,2,     2.21,2,   -0.002,2,    0.003,7, -999.000,9,-999.0000,9,  -999.00,9,   -999.0,9,   -999.0,9,   -999.0,9,   -999.0,9,   -999.0,9, -999.00,  -999.0,-999.0000,-999.000,  0.6900,-999.000
   31WTTUNES_2,  P16S,   186,  1,     38,     38,2,19910814,1146,-34.4883,-150.5150, 5340,   5424.4,   1.1439,  34.7085,2,  34.7081,2,    207.3,2,    205.8,2,   123.31,2,    32.14,2,     0.00,2,     2.21,2,   -0.001,2,    0.005,7, -999.000,9,-999.0000,9,  -999.00,9,   -999.0,9,   -999.0,9,   -999.0,9,   -999.0,9,   -999.0,9, -999.00,  -999.0,-999.0000,-999.000,  0.6697,-999.000