BOTTLE,20131125MIRCJHATS
EXPOCODE,SECT_ID,STNNBR,CASTNO,SAMPNO,BTLNBR,BTLNBR_FLAG_W,DATE,TIME,LATITUDE,LONGITUDE,DEPTH,CTDPRS,CTDTMP,CTDSAL,CTDSAL_FLAG_W,SALNTY,SALNTY_FLAG_W,CTDOXY,CTDOXY_FLAG_W,OXYGEN,OXYGEN_FLAG_W,SILCAT,SILCAT_FLAG_W,NITRAT,NITRAT_FLAG_W,NITRIT,NITRIT_FLAG_W,PHSPHT,PHSPHT_FLAG_W,CFC-11,CFC-11_FLAG_W,CFC-12,CFC-12_FLAG_W,TRITUM,TRITUM_FLAG_W,HELIUM,HELIUM_FLAG_W,DELHE3,DELHE3_FLAG_W,DELC14,DELC14_FLAG_W,DELC13,DELC13_FLAG_W,TCARBN,TCARBN_FLAG_W,PCO2,PCO2_FLAG_W,ALKALI,ALKALI_FLAG_W,PCO2TMP,C14ERR,HELIER,DELHER,THETA,TRITER
,,,,,,,,,,,,DBAR,ITS-90,PSS-78,,PSS-78,,UMOL/KG,,UMOL/KG,,UMOL/KG,,UMOL/KG,,UMOL/KG,,UMOL/KG,,PMOL/KG,,PMOL/KG,,TU,,NMOL/KG,,PERCNT,,/MILLE,,/MILLE,,UMOL/KG,,UATM,,UMOL/KG,,DEG C,/MILLE,NMOL/KG,PERCNT,DEG C,TU
   31WTTUNES_2,  P16S,   210,  2,     61,     61,2,19910822,1206,-22.5033,-150.5133, 4410,      0.8,  23.5510,  35.9190,2,  35.9237,2,    208.0,3,    211.9,2,     1.76,2,     0.10,2,     0.00,2,     0.13,2,    1.862,2,    1.019,8, -999.000,9,-999.0000,9,  -999.00,9,    107.5,2,      1.5,2,   2005.1,2,    259.0,2,   2363.9,2,   20.00,     3.4,-999.0000,-999.000, 23.5509,-999.000
   31WTTUNES_2,  P16S,   210,  2,      2,      2,2,19910822,1206,-22.5033,-150.5133, 4410,     36.0,  23.3840,  35.8818,2,  35.8876,2,    210.4,6,    211.9,2,     1.56,2,     0.10,2,     0.00,2,     0.13,2,    1.863,2,    1.022,2, -999.000,9,-999.0000,9,  -999.00,9,   -999.0,9,   -999.0,9,   2006.6,2,    262.1,2,   -999.0,9,   20.00,  -999.0,-999.0000,-999.000, 23.3765,-999.000
   31WTTUNES_2,  P16S,   210,  2,      3,      3,2,19910822,1206,-22.5033,-150.5133, 4410,     72.6,  23.0550,  35.8842,2,  35.8846,2,    215.0,6,    213.9,2,     1.56,2,     0.10,2,     0.00,2,     0.12,2,    1.876,2,    1.036,2, -999.000,9,-999.0000,9,  -999.00,9,    132.6,2,      1.5,2,   2006.4,2,    264.7,2,   2373.7,2,   20.00,     3.4,-999.0000,-999.000, 23.0401,-999.000
   31WTTUNES_2,  P16S,   210,  2,     64,     64,2,19910822,1206,-22.5033,-150.5133, 4410,    102.8,  22.4479,  35.7891,2,  35.7917,2,    218.1,2,    215.4,2,     1.46,2,     0.10,2,     0.00,2,     0.11,2,    1.930,2,    1.067,2, -999.000,9,-999.0000,9,  -999.00,9,    129.6,2,      1.4,2,   2007.6,2,    265.0,2,   -999.0,9,   20.00,     3.6,-999.0000,-999.000, 22.4272,-999.000
   31WTTUNES_2,  P16S,   210,  2,      5,      5,2,19910822,1206,-22.5033,-150.5133, 4410,    126.1,  21.9788,  35.7072,2,  35.7074,2,    219.9,2,    215.1,2,     1.47,2,     0.10,2,     0.00,2,     0.11,2,    1.948,2,    1.072,2, -999.000,9,-999.0000,9,  -999.00,9,    116.2,2,      1.4,2,   2005.8,2,    279.0,2,   2354.7,2,   20.00,     3.4,-999.0000,-999.000, 21.9538,-999.000
   31WTTUNES_2,  P16S,   210,  2,      6,      6,2,19910822,1206,-22.5033,-150.5133, 4410,    161.6,  20.7367,  35.6258,2,-999.0000,9,    206.8,2,   -999.0,9,  -999.00,9,  -999.00,9,  -999.00,9,  -999.00,9, -999.000,9, -999.000,9, -999.000,9,-999.0000,9,  -999.00,9,   -999.0,9,   -999.0,9,   -999.0,5,   -999.0,5,   -999.0,9, -999.00,  -999.0,-999.0000,-999.000, 20.7060,-999.000
   31WTTUNES_2,  P16S,   210,  2,      7,      7,2,19910822,1206,-22.5033,-150.5133, 4410,    202.5,  19.3157,  35.5841,2,  35.5838,2,    197.9,6,    192.0,2,     1.47,2,     2.15,2,     0.01,2,     0.30,2,    1.832,2,    0.994,2, -999.000,9,-999.0000,9,  -999.00,9,    129.5,2,      1.2,2,   2052.7,2,    357.7,2,   2339.8,2,   20.00,     4.9,-999.0000,-999.000, 19.2790,-999.000
   31WTTUNES_2,  P16S,   210,  2,     68,     68,2,19910822,1206,-22.5033,-150.5133, 4410,    254.9,  17.8668,  35.4778,2,  35.4745,2,    196.2,2,    193.3,2,     1.47,2,     3.32,2,     0.01,2,     0.37,2,    1.770,2,    0.956,2, -999.000,9,-999.0000,9,  -999.00,9,    105.4,2,      0.6,4,   2063.5,2,    387.0,2,   -999.0,9,   20.00,     4.1,-999.0000,-999.000, 17.8230,-999.000
   31WTTUNES_2,  P16S,   210,  2,     69,     69,2,19910822,1206,-22.5033,-150.5133, 4410,    305.6,  15.8730,  35.3013,2,  35.2993,2,    191.6,2,    191.0,2,     2.05,2,     5.96,2,     0.00,2,     0.55,2,    1.605,2,    0.858,2, -999.000,9,-999.0000,9,  -999.00,9,    108.4,2,      1.2,2,   2079.5,2,    437.1,2,   2317.6,2,   20.00,     5.5,-999.0000,-999.000, 15.8246,-999.000
   31WTTUNES_2,  P16S,   210,  2,     70,     70,2,19910822,1206,-22.5033,-150.5133, 4410,    367.3,  13.1855,  35.0019,2,  34.9991,2,    189.1,2,    190.5,2,     3.71,2,    10.85,2,     0.00,2,     0.86,2,    1.266,2,    0.683,2, -999.000,9,-999.0000,9,  -999.00,9,     78.3,2,      1.0,2,   2100.7,2,    527.9,2,   -999.0,9,   20.00,     3.2,-999.0000,-999.000, 13.1342,-999.000
   31WTTUNES_2,  P16S,   210,  2,     11,     11,2,19910822,1206,-22.5033,-150.5133, 4410,    438.7,  10.5733,  34.7128,2,  34.7149,2,    199.4,2,    194.9,2,     5.47,2,    15.83,2,     0.00,2,     1.18,2,    0.955,2,    0.514,2, -999.000,9,-999.0000,9,  -999.00,9,     14.4,2,      0.0,4,   2116.5,2,    621.9,2,   2288.3,2,   20.00,     3.1,-999.0000,-999.000, 10.5201,-999.000
   31WTTUNES_2,  P16S,   210,  2,     12,     12,2,19910822,1206,-22.5033,-150.5133, 4410,    507.3,   8.0603,  34.4706,2,  34.4707,2,    204.9,2,    210.9,2,     7.33,2,    20.82,2,     0.00,2,     1.49,2,    0.745,2,    0.401,2, -999.000,9,-999.0000,9,  -999.00,9,     -4.1,2,      1.0,2,   2135.0,2,    716.2,2,   -999.0,9,   20.00,     8.3,-999.0000,-999.000,  8.0081,-999.000
   31WTTUNES_2,  P16S,   210,  2,     13,     13,2,19910822,1206,-22.5033,-150.5133, 4410,    569.3,   6.9148,  34.3758,2,  34.3755,2,    212.5,2,    218.5,2,     9.78,2,    23.46,2,     0.00,2,     1.66,2,    0.583,2,    0.319,2, -999.000,9,-999.0000,9,  -999.00,9,    -13.8,2,      1.0,2,   2143.6,2,    767.0,2,   2270.3,2,   20.00,     6.8,-999.0000,-999.000,  6.8609,-999.000
   31WTTUNES_2,  P16S,   210,  2,     37,     37,2,19910822,1206,-22.5033,-150.5133, 4410,    644.0,   6.0982,  34.3276,2,  34.3259,2,    223.8,2,    223.8,2,    12.61,2,    25.22,2,     0.00,2,     1.77,2,    0.342,2,    0.198,2, -999.000,9,-999.0000,9,  -999.00,9,    -41.5,2,      1.0,2,   2149.1,2,    792.8,2,   -999.0,9,   20.00,     3.4,-999.0000,-999.000,  6.0410,-999.000
   31WTTUNES_2,  P16S,   210,  2,     15,     15,2,19910822,1206,-22.5033,-150.5133, 4410,    731.7,   5.5265,  34.3140,2,  34.3129,2,    211.0,2,    211.0,2,    18.58,2,    27.67,2,     0.00,2,     1.94,2,    0.164,2,    0.105,2, -999.000,9,-999.0000,9,  -999.00,9,    -67.3,2,      1.0,2,   2166.2,2,    867.3,2,   2306.6,2,   20.00,     3.9,-999.0000,-999.000,  5.4642,-999.000
   31WTTUNES_2,  P16S,   210,  2,     16,     16,2,19910822,1206,-22.5033,-150.5133, 4410,    824.9,   4.9458,  34.3310,2,  34.3296,2,    195.5,2,    191.9,2,    28.16,2,    30.50,2,     0.00,2,     2.13,2,    0.056,2,    0.040,2, -999.000,9,-999.0000,9,  -999.00,9,    -95.1,2,      1.0,2,   2188.3,2,    962.1,2,   -999.0,9,   20.00,     2.6,-999.0000,-999.000,  4.8787,-999.000
   31WTTUNES_2,  P16S,   210,  2,     17,     17,2,19910822,1206,-22.5033,-150.5133, 4410,    913.1,   4.5381,  34.3674,2,  34.3680,2,    178.8,2,    173.0,2,    40.08,2,    32.65,2,     0.00,2,     2.30,2,    0.020,2,    0.016,2, -999.000,9,-999.0000,9,  -999.00,9,   -130.4,2,      0.6,2,   2207.8,2,   1052.6,2,   2269.9,2,   20.00,     4.1,-999.0000,-999.000,  4.4660,-999.000
   31WTTUNES_2,  P16S,   210,  2,     18,     18,2,19910822,1206,-22.5033,-150.5133, 4410,   1016.1,   4.0993,  34.4183,2,  34.4171,2,    161.5,2,    159.8,2,    54.06,2,    34.12,2,     0.00,2,     2.40,2,    0.005,2,    0.008,2, -999.000,9,-999.0000,9,  -999.00,9,   -999.0,9,   -999.0,9,   2231.0,2,   1120.6,2,   -999.0,9,   20.00,  -999.0,-999.0000,-999.000,  4.0217,-999.000
   31WTTUNES_2,  P16S,   210,  2,     19,     19,2,19910822,1206,-22.5033,-150.5133, 4410,   1135.9,   3.6156,  34.4680,2,  34.4663,2,    152.6,2,    152.9,2,    67.55,2,    34.90,2,     0.00,2,     2.45,2,    0.000,2,    0.000,2, -999.000,9,-999.0000,9,  -999.00,9,   -171.2,2,      0.3,2,   2247.6,2,   1172.6,2,   2332.3,2,   20.00,     5.7,-999.0000,-999.000,  3.5319,-999.000
   31WTTUNES_2,  P16S,   210,  2,     20,     20,2,19910822,1206,-22.5033,-150.5133, 4410,   1266.6,   3.1369,  34.5192,2,  34.5170,2,    153.0,2,    152.8,2,    81.82,2,    35.09,2,     0.00,2,     2.46,2,    0.000,7,    0.000,2, -999.000,9,-999.0000,9,  -999.00,9,   -203.9,3,      0.0,3,   2260.8,2,   1168.7,2,   -999.0,9,   20.00,     2.5,-999.0000,-999.000,  3.0469,-999.000
   31WTTUNES_2,  P16S,   210,  2,     21,     21,2,19910822,1206,-22.5033,-150.5133, 4410,   1416.9,   2.8161,  34.5558,2,  34.5537,2,    152.6,2,    152.0,2,    94.04,2,    35.29,2,     0.00,2,     2.49,2,    0.002,2,    0.006,2, -999.000,9,-999.0000,9,  -999.00,9,   -191.2,2,      0.1,2,   2269.6,2,   1170.3,2,   2326.7,2,   20.00,     2.8,-999.0000,-999.000,  2.7172,-999.000
   31WTTUNES_2,  P16S,   210,  2,     22,     22,2,19910822,1206,-22.5033,-150.5133, 4410,   1570.4,   2.4933,  34.5882,2,  34.5869,2,    153.0,2,    151.5,2,   104.20,2,    35.29,2,     0.00,2,     2.49,2, -999.000,9, -999.000,9, -999.000,9,-999.0000,9,  -999.00,9,   -999.0,9,   -999.0,9,   2280.3,2,   1173.7,2,   -999.0,9,   20.00,  -999.0,-999.0000,-999.000,  2.3856,-999.000
   31WTTUNES_2,  P16S,   210,  2,     23,     23,2,19910822,1206,-22.5033,-150.5133, 4410,   1723.3,   2.3464,  34.6057,2,  34.6045,2,    149.6,2,    150.4,2,   109.87,2,    35.38,2,     0.00,2,     2.49,2, -999.000,9, -999.000,9, -999.000,9,-999.0000,9,  -999.00,9,   -216.8,2,      0.0,2,   2290.6,2,   1171.7,2,   2302.4,2,   20.00,     2.6,-999.0000,-999.000,  2.2281,-999.000
   31WTTUNES_2,  P16S,   210,  2,     24,     24,2,19910822,1206,-22.5033,-150.5133, 4410,   1877.1,   2.2115,  34.6217,2,  34.6204,2,    150.8,2,    149.9,2,   114.46,2,    35.38,2,     0.00,2,     2.49,2, -999.000,9, -999.000,9, -999.000,9,-999.0000,9,  -999.00,9,   -999.0,9,   -999.0,9,   2298.3,2,   1187.2,2,   -999.0,9,   20.00,  -999.0,-999.0000,-999.000,  2.0823,-999.000
   31WTTUNES_2,  P16S,   210,  2,     25,     25,2,19910822,1206,-22.5033,-150.5133, 4410,   2029.6,   2.1136,  34.6314,2,  34.6316,2,    151.2,2,    150.0,2,   118.86,2,    35.48,2,     0.00,2,     2.50,2, -999.000,9, -999.000,9, -999.000,9,-999.0000,9,  -999.00,9,   -222.2,2,      0.0,2,   2298.0,2,   1181.5,2,   2383.3,2,   20.00,     2.7,-999.0000,-999.000,  1.9729,-999.000
   31WTTUNES_2,  P16S,   210,  2,     26,     26,2,19910822,1206,-22.5033,-150.5133, 4410,   2235.9,   2.0136,  34.6423,2,  34.6413,2,    149.2,2,    150.6,2,   123.45,2,    35.58,2,     0.00,2,     2.50,2, -999.000,9, -999.000,9, -999.000,9,-999.0000,9,  -999.00,9,   -999.0,9,   -999.0,9,   2303.8,2,   1167.4,2,   -999.0,9,   20.00,  -999.0,-999.0000,-999.000,  1.8568,-999.000
   31WTTUNES_2,  P16S,   210,  2,     27,     27,2,19910822,1206,-22.5033,-150.5133, 4410,   2443.2,   1.8887,  34.6539,2,  34.6520,2,    151.4,2,    152.9,2,   126.58,2,    35.38,2,     0.00,2,     2.48,2, -999.000,9, -999.000,9, -999.000,9,-999.0000,9,  -999.00,9,   -219.3,2,     -0.1,2,   2303.3,2,   1171.9,2,   2394.4,2,   20.00,     2.7,-999.0000,-999.000,  1.7156,-999.000
   31WTTUNES_2,  P16S,   210,  2,     28,     28,2,19910822,1206,-22.5033,-150.5133, 4410,   2647.4,   1.8118,  34.6600,2,  34.6593,2,    156.2,2,    155.9,2,   126.77,2,    35.09,2,     0.00,2,     2.47,2, -999.000,9, -999.000,9, -999.000,9,-999.0000,9,  -999.00,9,   -999.0,9,   -999.0,9,   2304.1,2,   1148.5,2,   -999.0,9,   20.00,  -999.0,-999.0000,-999.000,  1.6216,-999.000
   31WTTUNES_2,  P16S,   210,  2,     29,     29,2,19910822,1206,-22.5033,-150.5133, 4410,   2854.7,   1.7328,  34.6670,2,  34.6660,2,    159.8,2,    159.6,2,   126.68,2,    34.89,2,     0.00,2,     2.44,2, -999.000,9, -999.000,9, -999.000,9,-999.0000,9,  -999.00,9,   -212.5,2,      0.0,2,   2301.7,2,   1149.1,2,   2391.4,2,   20.00,     2.8,-999.0000,-999.000,  1.5249,-999.000
   31WTTUNES_2,  P16S,   210,  2,     30,     30,2,19910822,1206,-22.5033,-150.5133, 4410,   3062.9,   1.6559,  34.6741,2,  34.6728,2,    161.7,2,    163.6,2,   128.63,2,    34.70,2,     0.00,2,     2.43,2, -999.000,9, -999.000,9, -999.000,9,-999.0000,9,  -999.00,9,   -212.9,2,     -0.1,2,   2298.7,2,   1128.6,2,   -999.0,9,   20.00,     2.7,-999.0000,-999.000,  1.4296,-999.000
   31WTTUNES_2,  P16S,   210,  2,     31,     31,2,19910822,1206,-22.5033,-150.5133, 4410,   3271.1,   1.6069,  34.6786,2,  34.6775,2,    166.5,2,    166.9,2,   128.14,2,    34.50,2,     0.00,2,     2.41,2, -999.000,9, -999.000,9, -999.000,9,-999.0000,9,  -999.00,9,   -999.0,9,   -999.0,9,   2297.1,2,   1131.2,2,   2386.8,2,   20.00,  -999.0,-999.0000,-999.000,  1.3613,-999.000
   31WTTUNES_2,  P16S,   210,  2,     32,     32,2,19910822,1206,-22.5033,-150.5133, 4410,   3534.1,   1.5310,  34.6842,2,  34.6830,2,    172.8,2,    172.8,2,   126.38,2,    34.01,2,     0.00,2,     2.38,2, -999.000,9, -999.000,9, -999.000,9,-999.0000,9,  -999.00,9,   -220.3,2,     -0.3,2,   2289.3,2,   1103.7,2,   -999.0,9,   20.00,     2.7,-999.0000,-999.000,  1.2606,-999.000
   31WTTUNES_2,  P16S,   210,  2,     33,     33,2,19910822,1206,-22.5033,-150.5133, 4410,   3793.6,   1.4600,  34.6895,2,  34.6887,2,    178.7,2,    178.9,2,   124.62,2,    33.62,2,     0.00,2,     2.35,2, -999.000,9, -999.000,9, -999.000,9,-999.0000,9,  -999.00,9,   -193.0,2,     -0.1,2,   2286.8,2,   1094.2,2,   2354.8,2,   20.00,     4.3,-999.0000,-999.000,  1.1644,-999.000
   31WTTUNES_2,  P16S,   210,  2,     34,     34,2,19910822,1206,-22.5033,-150.5133, 4410,   4054.2,   1.4111,  34.6954,2,  34.6932,2,    182.3,2,    183.1,2,   124.42,2,    33.43,2,     0.00,2,     2.34,2, -999.000,9, -999.000,9, -999.000,9,-999.0000,9,  -999.00,9,   -216.2,2,      0.0,2,   2278.2,2,   1088.5,2,   -999.0,9,   20.00,     3.0,-999.0000,-999.000,  1.0887,-999.000
   31WTTUNES_2,  P16S,   210,  2,     39,     39,2,19910822,1206,-22.5033,-150.5133, 4410,   4316.3,   1.3701,  34.6980,2,  34.6966,2,    187.9,2,    187.5,2,   124.13,2,    33.13,2,     0.00,2,     2.32,2, -999.000,9, -999.000,9, -999.000,9,-999.0000,9,  -999.00,9,   -203.3,2,      0.2,2,   2274.8,2,   1069.1,2,   2379.9,2,   20.00,     3.9,-999.0000,-999.000,  1.0199,-999.000
   31WTTUNES_2,  P16S,   210,  2,     38,     38,2,19910822,1206,-22.5033,-150.5133, 4410,   4529.2,   1.3691,  34.7000,2,  34.6991,2,    188.9,2,    189.1,2,   123.25,2,    32.94,2,     0.00,2,     2.30,2, -999.000,9, -999.000,9, -999.000,9,-999.0000,9,  -999.00,9,   -189.4,2,      0.2,2,   2276.3,2,   1076.0,2,   -999.0,9,   20.00,     2.7,-999.0000,-999.000,  0.9947,-999.000