BOTTLE,20131125MIRCJHATS
EXPOCODE,SECT_ID,STNNBR,CASTNO,SAMPNO,BTLNBR,BTLNBR_FLAG_W,DATE,TIME,LATITUDE,LONGITUDE,DEPTH,CTDPRS,CTDTMP,CTDSAL,CTDSAL_FLAG_W,SALNTY,SALNTY_FLAG_W,CTDOXY,CTDOXY_FLAG_W,OXYGEN,OXYGEN_FLAG_W,SILCAT,SILCAT_FLAG_W,NITRAT,NITRAT_FLAG_W,NITRIT,NITRIT_FLAG_W,PHSPHT,PHSPHT_FLAG_W,CFC-11,CFC-11_FLAG_W,CFC-12,CFC-12_FLAG_W,TRITUM,TRITUM_FLAG_W,HELIUM,HELIUM_FLAG_W,DELHE3,DELHE3_FLAG_W,DELC14,DELC14_FLAG_W,DELC13,DELC13_FLAG_W,TCARBN,TCARBN_FLAG_W,PCO2,PCO2_FLAG_W,ALKALI,ALKALI_FLAG_W,PCO2TMP,C14ERR,HELIER,DELHER,THETA,TRITER
,,,,,,,,,,,,DBAR,ITS-90,PSS-78,,PSS-78,,UMOL/KG,,UMOL/KG,,UMOL/KG,,UMOL/KG,,UMOL/KG,,UMOL/KG,,PMOL/KG,,PMOL/KG,,TU,,NMOL/KG,,PERCNT,,/MILLE,,/MILLE,,UMOL/KG,,UATM,,UMOL/KG,,DEG C,/MILLE,NMOL/KG,PERCNT,DEG C,TU
   31WTTUNES_2,  P16S,   185,  1,     61,     61,2,19910814,0457,-34.9967,-150.5017, 5439,      4.5,  14.9577,  35.0823,2,  35.0807,2,    241.2,3,    248.8,2,     1.37,2,     0.10,2,     0.01,2,     0.17,2,    2.749,2,    1.432,2, -999.000,9,-999.0000,9,  -999.00,9,   -999.0,9,   -999.0,9,   2044.1,2,    379.1,2,   -999.0,9,   20.00,  -999.0,-999.0000,-999.000, 14.9570,-999.000
   31WTTUNES_2,  P16S,   185,  1,      2,      2,2,19910814,0457,-34.9967,-150.5017, 5439,     33.7,  14.9677,  35.0834,2,  35.0794,2,    246.7,6,    249.0,2,     1.17,2,     0.10,2,     0.01,2,     0.17,2,    2.712,2,    1.438,2,    0.717,2,   1.7610,2,    -1.31,2,   -999.0,9,   -999.0,9,   -999.0,9,   -999.0,9,   -999.0,9, -999.00,  -999.0,  0.0080,   0.150, 14.9626,   0.006
   31WTTUNES_2,  P16S,   185,  1,      3,      3,2,19910814,0457,-34.9967,-150.5017, 5439,     68.4,  14.9567,  35.0809,2,  35.0788,2,    252.5,2,    249.8,2,     1.17,2,     0.10,2,     0.01,2,     0.17,2,    2.796,2,    1.441,8, -999.000,9,-999.0000,9,  -999.00,9,   -999.0,9,   -999.0,9,   -999.0,9,   -999.0,9,   -999.0,9, -999.00,  -999.0,-999.0000,-999.000, 14.9464,-999.000
   31WTTUNES_2,  P16S,   185,  1,     64,     64,2,19910814,0457,-34.9967,-150.5017, 5439,    109.4,  14.9567,  35.0816,2,  35.0759,2,    253.9,6,    248.9,2,     1.17,2,     0.10,2,     0.01,2,     0.17,2,    2.689,2,    1.453,2,    0.751,2,   0.0000,2,     0.00,2,   -999.0,9,   -999.0,9,   -999.0,9,   -999.0,9,   -999.0,9, -999.00,  -999.0,  0.0070,   0.150, 14.9402,   0.006
   31WTTUNES_2,  P16S,   185,  1,      5,      5,2,19910814,0457,-34.9967,-150.5017, 5439,    156.5,  14.7187,  35.0167,2,  35.0167,2,    253.4,2,    248.0,2,     0.98,2,     0.20,2,     0.03,2,     0.20,2,    2.715,2,    1.463,2,    0.733,2,   1.7740,2,    -1.27,2,   -999.0,9,   -999.0,9,   -999.0,9,   -999.0,9,   -999.0,9, -999.00,  -999.0,  0.0080,   0.150, 14.6954,   0.006
   31WTTUNES_2,  P16S,   185,  1,      6,      6,2,19910814,0457,-34.9967,-150.5017, 5439,    186.9,  12.8343,  34.8828,2,  34.8821,2,    221.6,2,    226.9,2,     1.56,2,     5.38,2,     0.01,2,     0.54,2,    2.571,2,    1.351,2,    0.582,2,   1.7610,2,    -0.65,2,   -999.0,9,   -999.0,9,   -999.0,9,   -999.0,9,   -999.0,9, -999.00,  -999.0,  0.0080,   0.150, 12.8089,   0.005
   31WTTUNES_2,  P16S,   185,  1,      7,      7,2,19910814,0457,-34.9967,-150.5017, 5439,    235.8,  11.4028,  34.7806,2,  34.7793,2,    211.3,2,    211.7,2,     2.74,2,    11.04,2,     0.00,2,     0.87,2,    2.142,2,    1.111,2,    0.480,2,   1.7800,2,     0.10,2,   -999.0,9,   -999.0,9,   -999.0,9,   -999.0,9,   -999.0,9, -999.00,  -999.0,  0.0080,   0.150, 11.3731,   0.005
   31WTTUNES_2,  P16S,   185,  1,     68,     68,2,19910814,0457,-34.9967,-150.5017, 5439,    288.8,   9.6115,  34.6114,2,  34.6009,2,    221.5,6,    220.0,2,     3.62,2,    15.15,2,     0.00,2,     1.11,2,    1.945,2,    1.100,2, -999.000,9,-999.0000,9,  -999.00,9,   -999.0,9,   -999.0,9,   -999.0,9,   -999.0,9,   -999.0,9, -999.00,  -999.0,-999.0000,-999.000,  9.5789,-999.000
   31WTTUNES_2,  P16S,   185,  1,     69,     69,2,19910814,0457,-34.9967,-150.5017, 5439,    340.8,   8.6979,  34.5408,2,  34.5422,2,    222.9,2,    224.1,2,     4.79,2,    17.50,2,     0.00,2,     1.24,2,    1.874,2,    0.959,2,    0.346,2,   1.7680,2,     0.28,2,   -999.0,9,   -999.0,9,   -999.0,9,   -999.0,9,   -999.0,9, -999.00,  -999.0,  0.0080,   0.150,  8.6616,   0.004
   31WTTUNES_2,  P16S,   185,  1,     70,     70,2,19910814,0457,-34.9967,-150.5017, 5439,    418.3,   7.7924,  34.4691,2,  34.4670,2,    235.0,2,    234.9,2,     5.77,2,    19.45,2,     0.00,2,     1.36,2,    1.736,2,    0.897,2,    0.310,2,   1.7770,2,     0.28,2,   -999.0,9,   -999.0,9,   -999.0,9,   -999.0,9,   -999.0,9, -999.00,  -999.0,  0.0080,   0.150,  7.7504,   0.004
   31WTTUNES_2,  P16S,   185,  1,     11,     11,2,19910814,0457,-34.9967,-150.5017, 5439,    520.0,   7.2306,  34.4262,2,  34.4256,2,    240.0,2,    241.4,2,     6.94,2,    20.82,2,     0.00,2,     1.45,2,    1.231,2,    0.820,2, -999.000,9,-999.0000,9,  -999.00,9,   -999.0,9,   -999.0,9,   -999.0,9,   -999.0,9,   -999.0,9, -999.00,  -999.0,-999.0000,-999.000,  7.1803,-999.000
   31WTTUNES_2,  P16S,   185,  1,     12,     12,2,19910814,0457,-34.9967,-150.5017, 5439,    621.8,   6.7679,  34.3844,2,  34.3866,2,    239.9,2,    240.8,2,     8.60,2,    22.29,2,     0.00,2,     1.53,2,    1.164,2,    0.597,2,    0.223,2,   1.7790,2,     0.75,2,   -999.0,9,   -999.0,9,   -999.0,9,   -999.0,9,   -999.0,9, -999.00,  -999.0,  0.0080,   0.150,  6.7095,   0.003
   31WTTUNES_2,  P16S,   185,  1,     13,     13,2,19910814,0457,-34.9967,-150.5017, 5439,    722.8,   6.2541,  34.3436,2,  34.3458,2,    239.7,2,    237.5,2,    10.85,2,    23.76,2,     0.00,2,     1.65,2,    0.687,2,    0.368,2, -999.000,9,-999.0000,9,  -999.00,9,   -999.0,9,   -999.0,9,   -999.0,9,   -999.0,9,   -999.0,9, -999.00,  -999.0,-999.0000,-999.000,  6.1886,-999.000
   31WTTUNES_2,  P16S,   185,  1,     37,     37,2,19910814,0457,-34.9967,-150.5017, 5439,    826.2,   5.8004,  34.3269,2,  34.3258,2,    222.6,2,    225.2,2,    15.45,2,    26.01,2,     0.00,2,     1.80,2,    0.539,2,    0.280,2, -999.000,9,-999.0000,9,  -999.00,9,   -999.0,9,   -999.0,9,   -999.0,9,   -999.0,9,   -999.0,9, -999.00,  -999.0,-999.0000,-999.000,  5.7278,-999.000
   31WTTUNES_2,  P16S,   185,  1,     15,     15,2,19910814,0457,-34.9967,-150.5017, 5439,    925.6,   5.2467,  34.3181,2,  34.3235,2,    212.7,2,    212.9,2,    22.49,2,    28.25,2,     0.00,2,     1.95,2,    0.414,2,    0.208,2, -999.000,9,-999.0000,9,  -999.00,9,   -999.0,9,   -999.0,9,   -999.0,9,   -999.0,9,   -999.0,9, -999.00,  -999.0,-999.0000,-999.000,  5.1686,-999.000
   31WTTUNES_2,  P16S,   185,  1,     16,     16,2,19910814,0457,-34.9967,-150.5017, 5439,   1028.1,   4.6050,  34.3267,2,  34.3282,2,    205.7,2,    202.7,2,    30.41,2,    30.21,2,     0.00,2,     2.09,2,    0.161,2,    0.085,2, -999.000,9,   1.7980,2,     2.38,2,   -999.0,9,   -999.0,9,   -999.0,9,   -999.0,9,   -999.0,9, -999.00,  -999.0,-999.0000,-999.000,  4.5225,-999.000
   31WTTUNES_2,  P16S,   185,  1,     17,     17,2,19910814,0457,-34.9967,-150.5017, 5439,   1130.2,   4.0713,  34.3471,2,  34.3486,2,    193.7,2,    193.9,2,    39.50,2,    31.77,2,     0.00,2,     2.21,2,    0.058,2,    0.036,2, -999.000,9,   1.8060,2,     3.54,2,   -999.0,9,   -999.0,9,   -999.0,9,   -999.0,9,   -999.0,9, -999.00,  -999.0,-999.0000,-999.000,  3.9844,-999.000
   31WTTUNES_2,  P16S,   185,  1,     18,     18,2,19910814,0457,-34.9967,-150.5017, 5439,   1284.4,   3.3268,  34.4106,2,  34.4103,2,    183.9,2,    182.1,2,    55.24,2,    33.34,2,     0.00,2,     2.33,2,    0.027,2,    0.021,2, -999.000,9,   1.8220,2,     6.23,2,   -999.0,9,   -999.0,9,   -999.0,9,   -999.0,9,   -999.0,9, -999.00,  -999.0,-999.0000,-999.000,  3.2337,-999.000
   31WTTUNES_2,  P16S,   185,  1,     19,     19,2,19910814,0457,-34.9967,-150.5017, 5439,   1439.1,   2.9040,  34.4905,2,  34.4910,2,    171.1,2,    170.2,2,    71.26,2,    34.31,2,     0.00,2,     2.40,2,    0.001,2,    0.005,2, -999.000,9,   1.8370,2,     9.84,2,   -999.0,9,   -999.0,9,   -999.0,9,   -999.0,9,   -999.0,9, -999.00,  -999.0,-999.0000,-999.000,  2.8025,-999.000
   31WTTUNES_2,  P16S,   185,  1,     20,     20,2,19910814,0457,-34.9967,-150.5017, 5439,   1644.2,   2.5842,  34.5726,2,  34.5713,2,    161.4,2,    159.8,2,    90.22,2,    34.70,2,     0.00,2,     2.42,2,   -0.001,2,    0.000,2, -999.000,9,   1.8610,2,    15.44,2,   -999.0,9,   -999.0,9,   -999.0,9,   -999.0,9,   -999.0,9, -999.00,  -999.0,-999.0000,-999.000,  2.4694,-999.000
   31WTTUNES_2,  P16S,   185,  1,     21,     21,2,19910814,0457,-34.9967,-150.5017, 5439,   1853.6,   2.3673,  34.6101,2,  34.6101,2,    154.9,2,    154.5,2,   104.78,2,    35.09,2,     0.00,2,     2.46,2, -999.000,9, -999.000,9, -999.000,9,   1.8800,2,    19.57,2,   -999.0,9,   -999.0,9,   -999.0,9,   -999.0,9,   -999.0,9, -999.00,  -999.0,-999.0000,-999.000,  2.2379,-999.000
   31WTTUNES_2,  P16S,   185,  1,     22,     22,2,19910814,0457,-34.9967,-150.5017, 5439,   2059.5,   2.1925,  34.6304,2,  34.6317,2,    153.4,2,    152.3,2,   113.87,2,    35.38,2,     0.00,2,     2.48,2, -999.000,9, -999.000,9, -999.000,9,   1.8920,2,    22.42,2,   -999.0,9,   -999.0,9,   -999.0,9,   -999.0,9,   -999.0,9, -999.00,  -999.0,-999.0000,-999.000,  2.0480,-999.000
   31WTTUNES_2,  P16S,   185,  1,     23,     23,2,19910814,0457,-34.9967,-150.5017, 5439,   2319.2,   2.0226,  34.6476,2,  34.6461,2,    150.7,2,    151.0,2,   121.40,2,    35.38,2,     0.00,2,     2.49,2, -999.000,9, -999.000,9, -999.000,9,   1.9020,2,    23.62,2,   -999.0,9,   -999.0,9,   -999.0,9,   -999.0,9,   -999.0,9, -999.00,  -999.0,-999.0000,-999.000,  1.8582,-999.000
   31WTTUNES_2,  P16S,   185,  1,     24,     24,2,19910814,0457,-34.9967,-150.5017, 5439,   2577.1,   1.8827,  34.6579,2,  34.6596,2,    150.8,2,    150.8,2,   127.46,2,    35.48,2,     0.00,2,     2.49,2, -999.000,9, -999.000,9, -999.000,9,   1.9080,2,    24.41,2,   -999.0,9,   -999.0,9,   -999.0,9,   -999.0,9,   -999.0,9, -999.00,  -999.0,-999.0000,-999.000,  1.6975,-999.000
   31WTTUNES_2,  P16S,   185,  1,     25,     25,2,19910814,0457,-34.9967,-150.5017, 5439,   2839.6,   1.7947,  34.6669,2,  34.6683,2,    151.9,2,    152.8,2,   130.39,2,    35.48,2,     0.00,2,     2.49,2, -999.000,9, -999.000,9, -999.000,9,   1.9110,2,    24.02,2,   -999.0,9,   -999.0,9,   -999.0,9,   -999.0,9,   -999.0,9, -999.00,  -999.0,-999.0000,-999.000,  1.5869,-999.000
   31WTTUNES_2,  P16S,   185,  1,     26,     26,2,19910814,0457,-34.9967,-150.5017, 5439,   3099.5,   1.7118,  34.6764,2,  34.6762,2,    157.7,2,    157.7,2,   131.07,2,    35.19,2,     0.00,2,     2.46,2, -999.000,9, -999.000,9, -999.000,9,   1.9040,2,    22.17,2,   -999.0,9,   -999.0,9,   -999.0,9,   -999.0,9,   -999.0,9, -999.00,  -999.0,-999.0000,-999.000,  1.4806,-999.000
   31WTTUNES_2,  P16S,   185,  1,     27,     27,2,19910814,0457,-34.9967,-150.5017, 5439,   3358.9,   1.6258,  34.6867,2,  34.6868,2,    167.3,2,    167.2,2,   127.94,2,    34.41,2,     0.00,2,     2.41,2, -999.000,9, -999.000,9, -999.000,9,   1.8940,2,    19.25,2,   -999.0,9,   -999.0,9,   -999.0,9,   -999.0,9,   -999.0,9, -999.00,  -999.0,-999.0000,-999.000,  1.3709,-999.000
   31WTTUNES_2,  P16S,   185,  1,     28,     28,2,19910814,0457,-34.9967,-150.5017, 5439,   3617.8,   1.5359,  34.6975,2,  34.6973,2,    176.4,2,    177.4,2,   123.45,2,    33.53,2,     0.00,2,     2.34,2, -999.000,9, -999.000,9, -999.000,9,   1.8870,2,    16.03,2,   -999.0,9,   -999.0,9,   -999.0,9,   -999.0,9,   -999.0,9, -999.00,  -999.0,-999.0000,-999.000,  1.2566,-999.000
   31WTTUNES_2,  P16S,   185,  1,     29,     29,2,19910814,0457,-34.9967,-150.5017, 5439,   3878.7,   1.4359,  34.7056,2,  34.7050,2,    185.1,2,    187.2,2,   120.32,2,    32.94,2,     0.00,2,     2.29,2, -999.000,9, -999.000,9, -999.000,9,   1.8820,2,    14.18,2,   -999.0,9,   -999.0,9,   -999.0,9,   -999.0,9,   -999.0,9, -999.00,  -999.0,-999.0000,-999.000,  1.1318,-999.000
   31WTTUNES_2,  P16S,   185,  1,     30,     30,2,19910814,0457,-34.9967,-150.5017, 5439,   4137.3,   1.2910,  34.7079,2,  34.7083,2,    192.4,2,    195.3,2,   119.73,2,    31.96,2,     0.00,2,     2.25,2, -999.000,9, -999.000,9, -999.000,9,   1.8860,2,    11.54,2,   -999.0,9,   -999.0,9,   -999.0,9,   -999.0,9,   -999.0,9, -999.00,  -999.0,-999.0000,-999.000,  0.9630,-999.000
   31WTTUNES_2,  P16S,   185,  1,     31,     31,2,19910814,0457,-34.9967,-150.5017, 5439,   4398.5,   1.2021,  34.7109,2,  34.7105,2,    198.3,2,    200.2,2,   120.71,2,    31.96,2,     0.00,2,     2.23,2, -999.000,9, -999.000,9, -999.000,9,   1.8780,2,    10.57,2,   -999.0,9,   -999.0,9,   -999.0,9,   -999.0,9,   -999.0,9, -999.00,  -999.0,-999.0000,-999.000,  0.8477,-999.000
   31WTTUNES_2,  P16S,   185,  1,     32,     32,2,19910814,0457,-34.9967,-150.5017, 5439,   4658.1,   1.1711,  34.7093,2,  34.7100,2,    201.1,2,    202.1,2,   121.39,2,    31.96,2,     0.00,2,     2.23,2, -999.000,9, -999.000,9, -999.000,9,   1.8800,2,    10.07,2,   -999.0,9,   -999.0,9,   -999.0,9,   -999.0,9,   -999.0,9, -999.00,  -999.0,-999.0000,-999.000,  0.7881,-999.000
   31WTTUNES_2,  P16S,   185,  1,     33,     33,2,19910814,0457,-34.9967,-150.5017, 5439,   4916.2,   1.1381,  34.7090,2,  34.7086,2,    202.9,2,    204.1,2,   122.17,2,    31.96,2,     0.00,2,     2.22,2, -999.000,9, -999.000,9, -999.000,9,   1.8740,2,     9.26,2,   -999.0,9,   -999.0,9,   -999.0,9,   -999.0,9,   -999.0,9, -999.00,  -999.0,-999.0000,-999.000,  0.7260,-999.000
   31WTTUNES_2,  P16S,   185,  1,     34,     34,2,19910814,0457,-34.9967,-150.5017, 5439,   5176.9,   1.1321,  34.7095,2,  34.7081,2,    206.2,2,    205.1,2,   122.18,2,    31.96,2,     0.00,2,     2.23,2, -999.000,9, -999.000,9, -999.000,9,   1.8770,2,     9.24,2,   -999.0,9,   -999.0,9,   -999.0,9,   -999.0,9,   -999.0,9, -999.00,  -999.0,-999.0000,-999.000,  0.6889,-999.000
   31WTTUNES_2,  P16S,   185,  1,     35,     35,2,19910814,0457,-34.9967,-150.5017, 5439,   5389.0,   1.1471,  34.7084,2,  34.7095,2,    205.4,2,    205.6,2,   122.86,2,    32.16,2,     0.00,2,     2.23,2, -999.000,9, -999.000,9, -999.000,9,   1.8720,2,     9.24,2,   -999.0,9,   -999.0,9,   -999.0,9,   -999.0,9,   -999.0,9, -999.00,  -999.0,-999.0000,-999.000,  0.6772,-999.000
   31WTTUNES_2,  P16S,   185,  1,     38,     38,3,19910814,0457,-34.9967,-150.5017, 5439,   5547.1,   1.1651,  34.7085,2,  34.7067,2,    207.7,2,    205.0,4,   123.05,2,    32.25,2,     0.00,2,     2.24,2, -999.000,9, -999.000,9, -999.000,9,   1.8660,2,     9.63,2,   -999.0,9,   -999.0,9,   -999.0,9,   -999.0,9,   -999.0,9, -999.00,  -999.0,-999.0000,-999.000,  0.6747,-999.000