BOTTLE,20131125MIRCJHATS
EXPOCODE,SECT_ID,STNNBR,CASTNO,SAMPNO,BTLNBR,BTLNBR_FLAG_W,DATE,TIME,LATITUDE,LONGITUDE,DEPTH,CTDPRS,CTDTMP,CTDSAL,CTDSAL_FLAG_W,SALNTY,SALNTY_FLAG_W,CTDOXY,CTDOXY_FLAG_W,OXYGEN,OXYGEN_FLAG_W,SILCAT,SILCAT_FLAG_W,NITRAT,NITRAT_FLAG_W,NITRIT,NITRIT_FLAG_W,PHSPHT,PHSPHT_FLAG_W,CFC-11,CFC-11_FLAG_W,CFC-12,CFC-12_FLAG_W,TRITUM,TRITUM_FLAG_W,HELIUM,HELIUM_FLAG_W,DELHE3,DELHE3_FLAG_W,DELC14,DELC14_FLAG_W,DELC13,DELC13_FLAG_W,TCARBN,TCARBN_FLAG_W,PCO2,PCO2_FLAG_W,ALKALI,ALKALI_FLAG_W,PCO2TMP,C14ERR,HELIER,DELHER,THETA,TRITER
,,,,,,,,,,,,DBAR,ITS-90,PSS-78,,PSS-78,,UMOL/KG,,UMOL/KG,,UMOL/KG,,UMOL/KG,,UMOL/KG,,UMOL/KG,,PMOL/KG,,PMOL/KG,,TU,,NMOL/KG,,PERCNT,,/MILLE,,/MILLE,,UMOL/KG,,UATM,,UMOL/KG,,DEG C,/MILLE,NMOL/KG,PERCNT,DEG C,TU
   31WTTUNES_2,  P17S,   137,  1,      1,      1,2,19910726,0246,-12.4533,-134.4967, 4230,      0.6,  26.8636,  36.2603,2,  36.2651,2,    207.2,3,    209.9,2,     1.99,2,     1.22,2,     0.02,2,     0.32,2,    1.652,2,    0.942,2, -999.000,9,-999.0000,9,  -999.00,9,   -999.0,9,   -999.0,9,   2022.6,2,   -999.0,5,   -999.0,9, -999.00,  -999.0,-999.0000,-999.000, 26.8635,-999.000
   31WTTUNES_2,  P17S,   137,  1,      2,      2,2,19910726,0246,-12.4533,-134.4967, 4230,     42.5,  26.9506,  36.3518,2,  36.3584,2,    210.2,2,    211.4,2,     1.98,2,     1.17,2,     0.02,2,     0.32,2,    1.649,2,    0.929,2, -999.000,9,-999.0000,9,  -999.00,9,   -999.0,9,   -999.0,9,   2025.1,2,    260.8,2,   2403.4,2,   20.00,  -999.0,-999.0000,-999.000, 26.9408,-999.000
   31WTTUNES_2,  P17S,   137,  1,      3,      3,2,19910726,0246,-12.4533,-134.4967, 4230,     73.4,  26.9526,  36.3686,2,  36.3784,2,    205.7,2,    207.5,2,     2.16,2,     1.07,2,     0.02,2,     0.32,2,    1.636,2,    0.933,2, -999.000,9,-999.0000,9,  -999.00,9,   -999.0,9,   -999.0,9,   2029.7,2,   -999.0,5,   -999.0,9, -999.00,  -999.0,-999.0000,-999.000, 26.9357,-999.000
   31WTTUNES_2,  P17S,   137,  1,      4,      4,2,19910726,0246,-12.4533,-134.4967, 4230,    104.8,  26.8116,  36.4190,2,  36.4049,2,    209.6,2,    203.7,2,     2.14,2,     0.75,2,     0.03,2,     0.37,2,    1.667,2,    0.956,2, -999.000,9,-999.0000,9,  -999.00,9,   -999.0,9,   -999.0,9,   2039.9,2,    270.6,2,   2408.1,2,   20.00,  -999.0,-999.0000,-999.000, 26.7876,-999.000
   31WTTUNES_2,  P17S,   137,  1,      5,      5,2,19910726,0246,-12.4533,-134.4967, 4230,    130.5,  24.5922,  36.3795,2,  36.3859,2,    196.8,2,    190.7,2,     2.12,2,     0.61,2,     1.14,2,     0.45,2,    1.778,2,    0.994,2, -999.000,9,-999.0000,9,  -999.00,9,   -999.0,9,   -999.0,9,   2067.3,2,    306.2,2,   -999.0,9,   20.00,  -999.0,-999.0000,-999.000, 24.5641,-999.000
   31WTTUNES_2,  P17S,   137,  1,      6,      6,2,19910726,0246,-12.4533,-134.4967, 4230,    156.0,  23.2936,  36.3610,2,  36.3766,2,    184.9,2,    188.0,2,     1.92,2,     1.25,2,     1.68,2,     0.46,2,    1.820,2,    1.021,2, -999.000,9,-999.0000,9,  -999.00,9,   -999.0,9,   -999.0,9,   2081.6,2,   -999.0,5,   2396.2,2, -999.00,  -999.0,-999.0000,-999.000, 23.2613,-999.000
   31WTTUNES_2,  P17S,   137,  1,      7,      7,2,19910726,0246,-12.4533,-134.4967, 4230,    187.0,  21.8222,  36.1497,2,  36.1487,2,    180.9,2,    181.8,2,     1.90,2,     3.79,2,     0.06,2,     0.52,2,    1.889,2,    1.050,2, -999.000,9,-999.0000,9,  -999.00,9,   -999.0,9,   -999.0,9,   2096.3,2,    375.4,2,   -999.0,9,   20.00,  -999.0,-999.0000,-999.000, 21.7852,-999.000
   31WTTUNES_2,  P17S,   137,  1,      8,      8,2,19910726,0246,-12.4533,-134.4967, 4230,    206.6,  21.0065,  35.9806,2,  35.9524,2,    175.4,2,    177.2,2,     1.88,2,     4.80,2,     0.02,2,     0.59,2,    1.910,2,    1.056,2, -999.000,9,-999.0000,9,  -999.00,9,   -999.0,9,   -999.0,9,   2099.6,2,   -999.0,5,   2369.0,2, -999.00,  -999.0,-999.0000,-999.000, 20.9667,-999.000
   31WTTUNES_2,  P17S,   137,  1,      9,      9,2,19910726,0246,-12.4533,-134.4967, 4230,    258.3,  17.8868,  35.4473,2,  35.4324,2,    157.6,2,    160.4,2,     2.83,2,     8.14,2,     0.01,2,     0.83,2,    1.787,2,    0.976,2, -999.000,9,-999.0000,9,  -999.00,9,   -999.0,9,   -999.0,9,   2109.0,2,    488.4,2,   -999.0,9,   20.00,  -999.0,-999.0000,-999.000, 17.8425,-999.000
   31WTTUNES_2,  P17S,   137,  1,     10,     10,2,19910726,0246,-12.4533,-134.4967, 4230,    309.4,  13.1464,  34.8149,2,  34.8093,2,    111.1,2,    111.2,2,    10.34,2,    17.06,2,     0.00,2,     1.56,2,    1.071,2,    0.584,2, -999.000,9,-999.0000,9,  -999.00,9,   -999.0,9,   -999.0,9,   2161.3,2,   -999.0,5,   2294.6,2, -999.00,  -999.0,-999.0000,-999.000, 13.1034,-999.000
   31WTTUNES_2,  P17S,   137,  1,     11,     11,3,19910726,0246,-12.4533,-134.4967, 4230,    360.1,  10.2352,  34.5922,2,  35.6506,4,     52.3,2,    145.9,4,     8.39,4,    11.48,4,     0.15,4,     1.13,4,    1.245,4,    0.698,4, -999.000,9,-999.0000,9,  -999.00,9,   -999.0,9,   -999.0,9,   -999.0,5,   -999.0,5,   -999.0,9, -999.00,  -999.0,-999.0000,-999.000, 10.1927,-999.000
   31WTTUNES_2,  P17S,   137,  1,     12,     12,2,19910726,0246,-12.4533,-134.4967, 4230,    412.3,   9.1929,  34.6035,2,  34.6142,2,     50.3,2,     51.1,2,    26.33,2,    32.55,2,     0.00,2,     2.50,2,    0.081,2,    0.053,2, -999.000,9,-999.0000,9,  -999.00,9,   -999.0,9,   -999.0,9,   2241.2,2,   -999.0,5,   2290.4,2, -999.00,  -999.0,-999.0000,-999.000,  9.1472,-999.000
   31WTTUNES_2,  P17S,   137,  1,     13,     13,2,19910726,0246,-12.4533,-134.4967, 4230,    463.1,   8.3995,  34.6177,2,  34.6171,2,     63.4,2,     70.7,2,    30.95,2,    33.85,2,     0.00,2,     2.44,2,    0.029,2,    0.020,2, -999.000,9,-999.0000,9,  -999.00,9,   -999.0,9,   -999.0,9,   2236.6,2,   1336.0,2,   -999.0,9,   20.00,  -999.0,-999.0000,-999.000,  8.3507,-999.000
   31WTTUNES_2,  P17S,   137,  1,     37,     37,2,19910726,0246,-12.4533,-134.4967, 4230,    514.8,   7.6730,  34.5862,2,  34.5864,2,     73.8,2,     79.3,2,    34.80,2,    34.90,2,     0.00,2,     2.47,2,    0.013,2,    0.011,2, -999.000,9,-999.0000,9,  -999.00,9,   -999.0,9,   -999.0,9,   2236.7,2,   -999.0,5,   2304.8,2, -999.00,  -999.0,-999.0000,-999.000,  7.6214,-999.000
   31WTTUNES_2,  P17S,   137,  1,     15,     15,2,19910726,0246,-12.4533,-134.4967, 4230,    616.4,   6.8067,  34.5529,2,  34.5528,2,     76.0,2,     75.0,2,    42.70,2,    37.53,2,     0.00,2,     2.64,2,    0.004,2,    0.002,2, -999.000,9,-999.0000,9,  -999.00,9,   -999.0,9,   -999.0,9,   2224.6,2,   1445.9,2,   -999.0,9,   20.00,  -999.0,-999.0000,-999.000,  6.7485,-999.000
   31WTTUNES_2,  P17S,   137,  1,     16,     16,2,19910726,0246,-12.4533,-134.4967, 4230,    718.5,   6.1232,  34.5300,2,  34.5340,2,     75.3,2,     73.9,2,    49.65,2,    39.07,2,     0.00,2,     2.76,2,    0.002,2,    0.002,2, -999.000,9,-999.0000,9,  -999.00,9,   -999.0,9,   -999.0,9,   2262.1,2,   -999.0,5,   2311.2,2, -999.00,  -999.0,-999.0000,-999.000,  6.0586,-999.000
   31WTTUNES_2,  P17S,   137,  1,     17,     17,2,19910726,0246,-12.4533,-134.4967, 4230,    821.4,   5.4067,  34.5172,2,  34.5204,2,     81.2,2,     81.1,2,    58.74,2,    39.98,2,     0.00,2,     2.84,2,    0.001,2,    0.002,7, -999.000,9,-999.0000,9,  -999.00,9,   -999.0,9,   -999.0,9,   2275.4,2,   1530.6,2,   -999.0,9,   20.00,  -999.0,-999.0000,-999.000,  5.3368,-999.000
   31WTTUNES_2,  P17S,   137,  1,     18,     18,2,19910726,0246,-12.4533,-134.4967, 4230,    924.3,   4.9401,  34.5177,2,  34.5191,2,     86.4,2,     84.4,2,    66.49,2,    39.98,2,     0.00,2,     2.84,2,    0.002,2,    0.000,2, -999.000,9,-999.0000,9,  -999.00,9,   -999.0,9,   -999.0,9,   2280.2,2,   -999.0,5,   2327.7,2, -999.00,  -999.0,-999.0000,-999.000,  4.8640,-999.000
   31WTTUNES_2,  P17S,   137,  1,     19,     19,2,19910726,0246,-12.4533,-134.4967, 4230,   1026.8,   4.5514,  34.5220,2,  34.5253,2,    101.6,2,     91.6,2,    72.70,2,    39.66,2,     0.00,2,     2.84,2,    0.000,2,    0.000,2, -999.000,9,-999.0000,9,  -999.00,9,   -999.0,9,   -999.0,9,   2282.9,2,   1476.5,2,   -999.0,9,   20.00,  -999.0,-999.0000,-999.000,  4.4692,-999.000
   31WTTUNES_2,  P17S,   137,  1,     20,     20,2,19910726,0246,-12.4533,-134.4967, 4230,   1128.6,   4.2107,  34.5330,2,  34.5363,2,     93.1,2,     95.2,2,    79.91,2,    39.55,2,     0.00,2,     2.84,2,    0.009,3,    0.004,7, -999.000,9,-999.0000,9,  -999.00,9,   -999.0,9,   -999.0,9,   2288.6,2,   1466.3,2,   2328.9,2,   20.00,  -999.0,-999.0000,-999.000,  4.1224,-999.000
   31WTTUNES_2,  P17S,   137,  1,     21,     21,2,19910726,0246,-12.4533,-134.4967, 4230,   1283.4,   3.5822,  34.5479,2,  34.5479,2,    117.8,2,    117.9,2,    88.70,2,    37.86,2,     0.00,2,     2.70,2, -999.000,9, -999.000,9, -999.000,9,-999.0000,9,  -999.00,9,   -999.0,9,   -999.0,9,   2287.0,2,   -999.0,5,   -999.0,9, -999.00,  -999.0,-999.0000,-999.000,  3.4864,-999.000
   31WTTUNES_2,  P17S,   137,  1,     22,     22,2,19910726,0246,-12.4533,-134.4967, 4230,   1438.4,   3.0847,  34.5742,2,  34.5740,2,    122.1,2,    123.0,2,   100.70,2,    37.54,2,     0.00,2,     2.69,2, -999.000,9, -999.000,9, -999.000,9,-999.0000,9,  -999.00,9,   -999.0,9,   -999.0,9,   2297.8,2,   1321.9,2,   -999.0,9,   20.00,  -999.0,-999.0000,-999.000,  2.9810,-999.000
   31WTTUNES_2,  P17S,   137,  1,     23,     23,2,19910726,0246,-12.4533,-134.4967, 4230,   1642.4,   2.7070,  34.5992,2,  34.6001,2,    128.4,2,    127.7,2,   110.41,2,    37.28,2,     0.00,2,     2.66,2, -999.000,9, -999.000,9, -999.000,9,-999.0000,9,  -999.00,9,   -999.0,9,   -999.0,9,   2304.3,2,   -999.0,5,   -999.0,9, -999.00,  -999.0,-999.0000,-999.000,  2.5907,-999.000
   31WTTUNES_2,  P17S,   137,  1,     24,     24,2,19910726,0246,-12.4533,-134.4967, 4230,   1850.2,   2.3593,  34.6211,2,  34.6214,2,    133.3,2,    134.8,2,   116.99,2,    36.80,2,     0.00,2,     2.61,2, -999.000,9, -999.000,9, -999.000,9,-999.0000,9,  -999.00,9,   -999.0,9,   -999.0,9,   2309.2,2,   1272.0,2,   2384.9,2,   20.00,  -999.0,-999.0000,-999.000,  2.2302,-999.000
   31WTTUNES_2,  P17S,   137,  1,     25,     25,2,19910726,0246,-12.4533,-134.4967, 4230,   2055.4,   2.0785,  34.6443,2,  34.6449,2,    137.9,2,    139.9,2,   125.22,2,    36.38,2,     0.00,2,     2.58,2, -999.000,9, -999.000,9, -999.000,9,-999.0000,9,  -999.00,9,   -999.0,9,   -999.0,9,   2313.3,2,   -999.0,5,   -999.0,9, -999.00,  -999.0,-999.0000,-999.000,  1.9362,-999.000
   31WTTUNES_2,  P17S,   137,  1,     26,     26,2,19910726,0246,-12.4533,-134.4967, 4230,   2261.0,   1.9147,  34.6602,2,  34.6601,2,    144.2,2,    143.3,2,   130.68,2,    36.22,2,     0.00,2,     2.56,2, -999.000,9, -999.000,9, -999.000,9,-999.0000,9,  -999.00,9,   -999.0,9,   -999.0,9,   2316.9,2,   -999.0,5,   2402.0,2, -999.00,  -999.0,-999.0000,-999.000,  1.7572,-999.000
   31WTTUNES_2,  P17S,   137,  1,     27,     27,2,19910726,0246,-12.4533,-134.4967, 4230,   2468.0,   1.8417,  34.6681,2,  34.6683,2,    144.0,2,    144.4,2,   135.35,2,    36.23,2,     0.00,2,     2.56,2, -999.000,9, -999.000,9, -999.000,9,-999.0000,9,  -999.00,9,   -999.0,9,   -999.0,9,   2318.0,2,   1200.7,2,   -999.0,9,   20.00,  -999.0,-999.0000,-999.000,  1.6672,-999.000
   31WTTUNES_2,  P17S,   137,  1,     28,     28,2,19910726,0246,-12.4533,-134.4967, 4230,   2675.6,   1.7918,  34.6710,2,  34.6730,2,    147.5,2,    146.5,2,   137.17,2,    36.07,2,     0.00,2,     2.54,2, -999.000,9, -999.000,9, -999.000,9,-999.0000,9,  -999.00,9,   -999.0,9,   -999.0,9,   2321.6,2,   -999.0,5,   2412.5,2, -999.00,  -999.0,-999.0000,-999.000,  1.5993,-999.000
   31WTTUNES_2,  P17S,   137,  1,     29,     29,2,19910726,0246,-12.4533,-134.4967, 4230,   2882.7,   1.7239,  34.6764,2,  34.6756,2,    151.1,2,    151.6,2,   136.95,2,    35.75,2,     0.00,2,     2.51,2, -999.000,9, -999.000,9, -999.000,9,-999.0000,9,  -999.00,9,   -999.0,9,   -999.0,9,   2319.8,2,   1163.6,2,   -999.0,9,   20.00,  -999.0,-999.0000,-999.000,  1.5134,-999.000
   31WTTUNES_2,  P17S,   137,  1,     30,     30,2,19910726,0246,-12.4533,-134.4967, 4230,   3091.8,   1.6679,  34.6794,2,  34.6814,2,    156.7,2,    155.5,2,   136.53,2,    35.49,2,     0.00,2,     2.49,2, -999.000,9, -999.000,9, -999.000,9,-999.0000,9,  -999.00,9,   -999.0,9,   -999.0,9,   2314.1,2,   -999.0,5,   2412.6,2, -999.00,  -999.0,-999.0000,-999.000,  1.4385,-999.000
   31WTTUNES_2,  P17S,   137,  1,     31,     31,2,19910726,0246,-12.4533,-134.4967, 4230,   3297.0,   1.6090,  34.6827,2,  34.6830,2,    158.6,2,    159.7,2,   135.89,2,    35.23,2,     0.00,2,     2.48,2, -999.000,9, -999.000,9, -999.000,9,-999.0000,9,  -999.00,9,   -999.0,9,   -999.0,9,   2312.7,2,   1128.1,2,   -999.0,9,   20.00,  -999.0,-999.0000,-999.000,  1.3607,-999.000
   31WTTUNES_2,  P17S,   137,  1,     32,     32,2,19910726,0246,-12.4533,-134.4967, 4230,   3503.3,   1.5700,  34.6852,2,  34.6846,2,    164.0,2,    162.5,2,   135.88,2,    35.02,2,     0.00,2,     2.47,2, -999.000,9, -999.000,9, -999.000,9,-999.0000,9,  -999.00,9,   -999.0,9,   -999.0,9,   2311.2,2,   -999.0,5,   2410.4,2, -999.00,  -999.0,-999.0000,-999.000,  1.3017,-999.000
   31WTTUNES_2,  P17S,   137,  1,     33,     33,2,19910726,0246,-12.4533,-134.4967, 4230,   3712.1,   1.5440,  34.6866,2,  34.6864,2,    164.6,2,    165.1,2,   135.25,2,    34.82,2,     0.00,2,     2.44,2, -999.000,9, -999.000,9, -999.000,9,-999.0000,9,  -999.00,9,   -999.0,9,   -999.0,9,   2308.4,2,   1111.8,2,   -999.0,9,   20.00,  -999.0,-999.0000,-999.000,  1.2547,-999.000
   31WTTUNES_2,  P17S,   137,  1,     34,     34,2,19910726,0246,-12.4533,-134.4967, 4230,   3919.8,   1.5200,  34.6890,2,  34.6891,2,    168.3,2,    168.1,2,   135.03,2,    34.66,2,     0.00,2,     2.43,3, -999.000,9, -999.000,9, -999.000,9,-999.0000,9,  -999.00,9,   -999.0,9,   -999.0,9,   2310.0,2,   -999.0,5,   2406.3,2, -999.00,  -999.0,-999.0000,-999.000,  1.2092,-999.000
   31WTTUNES_2,  P17S,   137,  1,     35,     35,2,19910726,0246,-12.4533,-134.4967, 4230,   4127.2,   1.5001,  34.6912,2,  34.6903,2,    172.0,2,    171.9,2,   133.17,2,    34.50,2,     0.00,2,     2.42,3, -999.000,9, -999.000,9, -999.000,9,-999.0000,9,  -999.00,9,   -999.0,9,   -999.0,9,   2302.4,2,   -999.0,5,   -999.0,9, -999.00,  -999.0,-999.0000,-999.000,  1.1672,-999.000
   31WTTUNES_2,  P17S,   137,  1,     36,     36,2,19910726,0246,-12.4533,-134.4967, 4230,   4289.0,   1.5080,  34.6926,2,  34.6907,2,    173.0,2,    172.6,2,   133.16,2,    34.45,2,     0.00,2,     2.43,3, -999.000,9, -999.000,9, -999.000,9,-999.0000,9,  -999.00,9,   -999.0,9,   -999.0,9,   2299.3,2,   1099.2,2,   -999.0,9,   20.00,  -999.0,-999.0000,-999.000,  1.1568,-999.000