BOTTLE,20131125MIRCJHATS
EXPOCODE,SECT_ID,STNNBR,CASTNO,SAMPNO,BTLNBR,BTLNBR_FLAG_W,DATE,TIME,LATITUDE,LONGITUDE,DEPTH,CTDPRS,CTDTMP,CTDSAL,CTDSAL_FLAG_W,SALNTY,SALNTY_FLAG_W,CTDOXY,CTDOXY_FLAG_W,OXYGEN,OXYGEN_FLAG_W,SILCAT,SILCAT_FLAG_W,NITRAT,NITRAT_FLAG_W,NITRIT,NITRIT_FLAG_W,PHSPHT,PHSPHT_FLAG_W,CFC-11,CFC-11_FLAG_W,CFC-12,CFC-12_FLAG_W,TRITUM,TRITUM_FLAG_W,HELIUM,HELIUM_FLAG_W,DELHE3,DELHE3_FLAG_W,DELC14,DELC14_FLAG_W,DELC13,DELC13_FLAG_W,TCARBN,TCARBN_FLAG_W,PCO2,PCO2_FLAG_W,ALKALI,ALKALI_FLAG_W,PCO2TMP,C14ERR,HELIER,DELHER,THETA,TRITER
,,,,,,,,,,,,DBAR,ITS-90,PSS-78,,PSS-78,,UMOL/KG,,UMOL/KG,,UMOL/KG,,UMOL/KG,,UMOL/KG,,UMOL/KG,,PMOL/KG,,PMOL/KG,,TU,,NMOL/KG,,PERCNT,,/MILLE,,/MILLE,,UMOL/KG,,UATM,,UMOL/KG,,DEG C,/MILLE,NMOL/KG,PERCNT,DEG C,TU
   31WTTUNES_2,  P17S,   151,  1,      1,      1,2,19910730,0449,-19.3200,-133.0500, 3607,      2.7,  25.4232,  36.4691,2,  36.4745,2,    205.9,3,    204.8,3,     1.62,2,     0.05,2,     0.00,2,     0.19,2, -999.000,9, -999.000,9, -999.000,9,-999.0000,9,  -999.00,9,   -999.0,9,   -999.0,9,   2031.9,2,    261.7,2,   -999.0,9,   20.00,  -999.0,-999.0000,-999.000, 25.4227,-999.000
   31WTTUNES_2,  P17S,   151,  1,      2,      2,2,19910730,0449,-19.3200,-133.0500, 3607,     44.3,  25.4209,  36.4720,2,  36.4774,2,    207.1,2,    204.9,3,     1.41,2,     0.05,2,     0.00,2,     0.18,2,    1.733,2,    0.942,2, -999.000,9,-999.0000,9,  -999.00,9,   -999.0,9,   -999.0,9,   -999.0,9,   -999.0,9,   -999.0,9, -999.00,  -999.0,-999.0000,-999.000, 25.4112,-999.000
   31WTTUNES_2,  P17S,   151,  1,      3,      3,2,19910730,0449,-19.3200,-133.0500, 3607,     86.0,  25.4124,  36.4760,2,  36.4826,2,    212.7,2,    215.3,2,     1.39,2,     0.05,2,     0.00,2,     0.18,2, -999.000,9, -999.000,9, -999.000,9,-999.0000,9,  -999.00,9,   -999.0,9,   -999.0,9,   -999.0,9,   -999.0,9,   -999.0,9, -999.00,  -999.0,-999.0000,-999.000, 25.3935,-999.000
   31WTTUNES_2,  P17S,   151,  1,      4,      4,2,19910730,0449,-19.3200,-133.0500, 3607,    127.5,  25.4044,  36.4822,2,  36.4856,2,    207.0,2,    213.9,2,     1.38,2,     0.05,2,     0.00,2,     0.18,2,    1.717,2,    0.956,2, -999.000,9,-999.0000,9,  -999.00,9,   -999.0,9,   -999.0,9,   -999.0,9,   -999.0,9,   -999.0,9, -999.00,  -999.0,-999.0000,-999.000, 25.3763,-999.000
   31WTTUNES_2,  P17S,   151,  1,      5,      5,2,19910730,0449,-19.3200,-133.0500, 3607,    147.5,  23.6853,  36.1406,2,  36.1381,2,    208.0,2,    209.6,2,     1.17,2,     0.06,2,     0.10,2,     0.21,2, -999.000,9, -999.000,9, -999.000,9,-999.0000,9,  -999.00,9,   -999.0,9,   -999.0,9,   -999.0,9,   -999.0,9,   -999.0,9, -999.00,  -999.0,-999.0000,-999.000, 23.6544,-999.000
   31WTTUNES_2,  P17S,   151,  1,      6,      6,2,19910730,0449,-19.3200,-133.0500, 3607,    167.4,  23.0810,  36.1156,2,  36.1095,2,    203.7,2,    203.4,2,     1.15,2,     0.19,2,     0.33,2,     0.24,2,    1.821,2,    0.993,2, -999.000,9,-999.0000,9,  -999.00,9,   -999.0,9,   -999.0,9,   -999.0,9,   -999.0,9,   -999.0,9, -999.00,  -999.0,-999.0000,-999.000, 23.0466,-999.000
   31WTTUNES_2,  P17S,   151,  1,      7,      7,2,19910730,0449,-19.3200,-133.0500, 3607,    188.1,  22.2483,  36.0739,2,  36.0709,2,    196.9,2,    191.5,2,     1.14,2,     0.92,2,     0.17,2,     0.29,2, -999.000,9, -999.000,9, -999.000,9,-999.0000,9,  -999.00,9,   -999.0,9,   -999.0,9,   -999.0,9,   -999.0,9,   -999.0,9, -999.00,  -999.0,-999.0000,-999.000, 22.2106,-999.000
   31WTTUNES_2,  P17S,   151,  1,      8,      8,2,19910730,0449,-19.3200,-133.0500, 3607,    208.1,  21.4883,  36.0041,2,  36.0045,2,    195.6,2,    191.7,2,     1.12,2,     1.69,2,     0.02,2,     0.33,2,    1.783,2,    0.972,2, -999.000,9,-999.0000,9,  -999.00,9,   -999.0,9,   -999.0,9,   -999.0,9,   -999.0,9,   -999.0,9, -999.00,  -999.0,-999.0000,-999.000, 21.4476,-999.000
   31WTTUNES_2,  P17S,   151,  1,      9,      9,2,19910730,0449,-19.3200,-133.0500, 3607,    260.3,  19.6010,  35.7127,2,  35.7206,2,    190.6,2,    188.1,2,     1.10,2,     2.74,2,     0.01,2,     0.38,2, -999.000,9, -999.000,9, -999.000,9,-999.0000,9,  -999.00,9,   -999.0,9,   -999.0,9,   -999.0,9,   -999.0,9,   -999.0,9, -999.00,  -999.0,-999.0000,-999.000, 19.5533,-999.000
   31WTTUNES_2,  P17S,   151,  1,     10,     10,2,19910730,0449,-19.3200,-133.0500, 3607,    312.5,  17.8221,  35.4399,2,  35.4294,2,    192.9,2,    188.6,2,     2.25,2,     3.94,2,     0.00,2,     0.45,2,    1.730,2,    0.922,2, -999.000,9,-999.0000,9,  -999.00,9,   -999.0,9,   -999.0,9,   -999.0,9,   -999.0,9,   -999.0,9, -999.00,  -999.0,-999.0000,-999.000, 17.7685,-999.000
   31WTTUNES_2,  P17S,   151,  1,     11,     11,2,19910730,0449,-19.3200,-133.0500, 3607,    389.0,  13.1033,  34.8047,2,  34.7717,2,    170.9,2,    163.4,2,     5.34,2,    13.50,2,     0.00,2,     1.14,2,    1.160,2,    0.601,2, -999.000,9,-999.0000,9,  -999.00,9,   -999.0,9,   -999.0,9,   -999.0,9,   -999.0,9,   -999.0,9, -999.00,  -999.0,-999.0000,-999.000, 13.0493,-999.000
   31WTTUNES_2,  P17S,   151,  1,     12,     12,2,19910730,0449,-19.3200,-133.0500, 3607,    475.6,   8.6140,  34.4500,2,  34.4400,2,    142.9,2,    145.2,2,    13.09,2,    25.67,2,     0.00,2,     1.92,2,    0.411,2,    0.235,2, -999.000,9,-999.0000,9,  -999.00,9,   -999.0,9,   -999.0,9,   -999.0,9,   -999.0,9,   -999.0,9, -999.00,  -999.0,-999.0000,-999.000,  8.5632,-999.000
   31WTTUNES_2,  P17S,   151,  1,     13,     13,2,19910730,0449,-19.3200,-133.0500, 3607,    536.7,   7.1215,  34.3759,2,  34.3740,2,    159.5,2,    169.3,2,    15.21,2,    27.65,2,     0.00,2,     1.97,2,    0.294,2,    0.178,2, -999.000,9,-999.0000,9,  -999.00,9,   -999.0,9,   -999.0,9,   -999.0,9,   -999.0,9,   -999.0,9, -999.00,  -999.0,-999.0000,-999.000,  7.0701,-999.000
   31WTTUNES_2,  P17S,   151,  1,     37,     37,2,19910730,0449,-19.3200,-133.0500, 3607,    617.8,   6.0986,  34.3307,2,  34.3317,2,    191.7,2,    196.2,2,    15.96,2,    28.12,2,     0.00,2,     1.96,2,    0.214,2,    0.132,2, -999.000,9,-999.0000,9,  -999.00,9,   -999.0,9,   -999.0,9,   -999.0,9,   -999.0,9,   -999.0,9, -999.00,  -999.0,-999.0000,-999.000,  6.0439,-999.000
   31WTTUNES_2,  P17S,   151,  1,     15,     15,2,19910730,0449,-19.3200,-133.0500, 3607,    669.8,   5.6218,  34.3279,2,  34.3289,2,    191.6,2,    184.8,2,    21.18,2,    30.37,2,     0.00,2,     2.12,2,    0.094,2,    0.062,2, -999.000,9,-999.0000,9,  -999.00,9,   -999.0,9,   -999.0,9,   -999.0,9,   -999.0,9,   -999.0,9, -999.00,  -999.0,-999.0000,-999.000,  5.5646,-999.000
   31WTTUNES_2,  P17S,   151,  1,     16,     16,2,19910730,0449,-19.3200,-133.0500, 3607,    720.5,   5.2539,  34.3538,2,  34.3584,2,    157.1,2,    160.4,2,    29.70,2,    32.99,2,     0.00,2,     2.30,2,    0.028,2,    0.023,2, -999.000,9,-999.0000,9,  -999.00,9,   -999.0,9,   -999.0,9,   -999.0,9,   -999.0,9,   -999.0,9, -999.00,  -999.0,-999.0000,-999.000,  5.1941,-999.000
   31WTTUNES_2,  P17S,   151,  1,     17,     17,2,19910730,0449,-19.3200,-133.0500, 3607,    823.6,   4.9646,  34.4315,2,  34.4355,2,    141.9,2,    136.1,2,    48.12,2,    35.10,2,     0.00,2,     2.47,2,    0.007,2,    0.004,2, -999.000,9,-999.0000,9,  -999.00,9,   -999.0,9,   -999.0,9,   -999.0,9,   -999.0,9,   -999.0,9, -999.00,  -999.0,-999.0000,-999.000,  4.8974,-999.000
   31WTTUNES_2,  P17S,   151,  1,     18,     18,2,19910730,0449,-19.3200,-133.0500, 3607,    925.7,   4.5408,  34.4780,2,  34.4797,2,    130.4,2,    128.9,2,    60.74,2,    36.00,2,     0.00,2,     2.55,2,    0.003,2,    0.000,2, -999.000,9,-999.0000,9,  -999.00,9,   -999.0,9,   -999.0,9,   -999.0,9,   -999.0,9,   -999.0,9, -999.00,  -999.0,-999.0000,-999.000,  4.4674,-999.000
   31WTTUNES_2,  P17S,   151,  1,     19,     19,2,19910730,0449,-19.3200,-133.0500, 3607,   1028.4,   4.2041,  34.5005,2,  34.5013,2,    127.6,2,    126.3,2,    69.69,2,    36.63,2,     0.00,2,     2.60,2,    0.001,2,    0.000,2, -999.000,9,-999.0000,9,  -999.00,9,   -999.0,9,   -999.0,9,   -999.0,9,   -999.0,9,   -999.0,9, -999.00,  -999.0,-999.0000,-999.000,  4.1245,-999.000
   31WTTUNES_2,  P17S,   151,  1,     20,     20,2,19910730,0449,-19.3200,-133.0500, 3607,   1131.6,   3.7956,  34.5125,2,  34.5135,2,    133.6,2,    136.4,2,    76.11,2,    35.99,2,     0.00,2,     2.54,2,    0.001,2,    0.000,2, -999.000,9,-999.0000,9,  -999.00,9,   -999.0,9,   -999.0,9,   -999.0,9,   -999.0,9,   -999.0,9, -999.00,  -999.0,-999.0000,-999.000,  3.7106,-999.000
   31WTTUNES_2,  P17S,   151,  1,     21,     21,2,19910730,0449,-19.3200,-133.0500, 3607,   1285.8,   3.2330,  34.5393,2,  34.5410,2,    140.2,2,    144.0,2,    87.46,2,    35.61,2,     0.00,2,     2.50,2,    0.001,7,    0.000,2, -999.000,9,-999.0000,9,  -999.00,9,   -999.0,9,   -999.0,9,   -999.0,9,   -999.0,9,   -999.0,9, -999.00,  -999.0,-999.0000,-999.000,  3.1405,-999.000
   31WTTUNES_2,  P17S,   151,  1,     22,     22,2,19910730,0449,-19.3200,-133.0500, 3607,   1439.6,   2.7593,  34.5733,2,  34.5732,2,    141.8,2,    145.6,2,    98.48,2,    35.77,2,     0.00,2,     2.52,2, -999.000,9, -999.000,9, -999.000,9,-999.0000,9,  -999.00,9,   -999.0,9,   -999.0,9,   -999.0,9,   -999.0,9,   -999.0,9, -999.00,  -999.0,-999.0000,-999.000,  2.6592,-999.000
   31WTTUNES_2,  P17S,   151,  1,     23,     23,2,19910730,0449,-19.3200,-133.0500, 3607,   1645.8,   2.3600,  34.6047,2,  34.6052,2,    150.6,2,    151.2,2,   108.38,2,    35.45,2,     0.00,2,     2.50,2, -999.000,9, -999.000,9, -999.000,9,-999.0000,9,  -999.00,9,   -999.0,9,   -999.0,9,   -999.0,9,   -999.0,9,   -999.0,9, -999.00,  -999.0,-999.0000,-999.000,  2.2478,-999.000
   31WTTUNES_2,  P17S,   151,  1,     24,     24,2,19910730,0449,-19.3200,-133.0500, 3607,   1852.4,   2.2198,  34.6191,2,  34.6190,2,    152.4,2,    152.9,2,   112.34,2,    35.34,2,     0.00,2,     2.48,2, -999.000,9, -999.000,9, -999.000,9,-999.0000,9,  -999.00,9,   -999.0,9,   -999.0,9,   -999.0,9,   -999.0,9,   -999.0,9, -999.00,  -999.0,-999.0000,-999.000,  2.0925,-999.000
   31WTTUNES_2,  P17S,   151,  1,     25,     25,2,19910730,0449,-19.3200,-133.0500, 3607,   2057.7,   2.0741,  34.6337,2,  34.6339,2,    155.0,2,    154.3,2,   117.11,2,    35.07,2,     0.00,2,     2.46,2, -999.000,9, -999.000,9, -999.000,9,-999.0000,9,  -999.00,9,   -999.0,9,   -999.0,9,   -999.0,9,   -999.0,9,   -999.0,9, -999.00,  -999.0,-999.0000,-999.000,  1.9316,-999.000
   31WTTUNES_2,  P17S,   151,  1,     26,     26,2,19910730,0449,-19.3200,-133.0500, 3607,   2264.7,   1.9208,  34.6505,2,  34.6500,2,    156.4,2,    156.3,2,   121.10,2,    35.01,2,     0.00,2,     2.46,2, -999.000,9, -999.000,9, -999.000,9,-999.0000,9,  -999.00,9,   -999.0,9,   -999.0,9,   -999.0,9,   -999.0,9,   -999.0,9, -999.00,  -999.0,-999.0000,-999.000,  1.7629,-999.000
   31WTTUNES_2,  P17S,   151,  1,     27,     27,2,19910730,0449,-19.3200,-133.0500, 3607,   2470.9,   1.8382,  34.6591,2,  34.6589,2,    159.9,2,    158.5,2,   123.48,2,    34.90,2,     0.00,2,     2.45,2, -999.000,9, -999.000,9, -999.000,9,-999.0000,9,  -999.00,9,   -999.0,9,   -999.0,9,   -999.0,9,   -999.0,9,   -999.0,9, -999.00,  -999.0,-999.0000,-999.000,  1.6636,-999.000
   31WTTUNES_2,  P17S,   151,  1,     28,     28,2,19910730,0449,-19.3200,-133.0500, 3607,   2677.7,   1.7705,  34.6662,2,  34.6646,2,    160.9,2,    160.2,2,   126.07,2,    34.84,2,     0.00,2,     2.44,2, -999.000,9, -999.000,9, -999.000,9,-999.0000,9,  -999.00,9,   -999.0,9,   -999.0,9,   -999.0,9,   -999.0,9,   -999.0,9, -999.00,  -999.0,-999.0000,-999.000,  1.5782,-999.000
   31WTTUNES_2,  P17S,   151,  1,     29,     29,2,19910730,0449,-19.3200,-133.0500, 3607,   2884.6,   1.7053,  34.6715,2,  34.6705,2,    162.5,2,    163.2,2,   126.63,2,    34.57,2,     0.00,2,     2.43,2, -999.000,9, -999.000,9, -999.000,9,-999.0000,9,  -999.00,9,   -999.0,9,   -999.0,9,   -999.0,9,   -999.0,9,   -999.0,9, -999.00,  -999.0,-999.0000,-999.000,  1.4950,-999.000
   31WTTUNES_2,  P17S,   151,  1,     30,     30,2,19910730,0449,-19.3200,-133.0500, 3607,   3091.3,   1.6736,  34.6748,2,  34.6756,2,    164.7,2,    164.1,2,   127.80,2,    34.52,2,     0.00,2,     2.43,2, -999.000,9, -999.000,9, -999.000,9,-999.0000,9,  -999.00,9,   -999.0,9,   -999.0,9,   -999.0,9,   -999.0,9,   -999.0,9, -999.00,  -999.0,-999.0000,-999.000,  1.4441,-999.000
   31WTTUNES_2,  P17S,   151,  1,     31,     31,2,19910730,0449,-19.3200,-133.0500, 3607,   3091.6,   1.6740,  34.6751,2,  34.6758,2,    164.7,2,    163.9,2,   128.17,2,    34.46,2,     0.00,2,     2.42,2, -999.000,9, -999.000,9, -999.000,9,-999.0000,9,  -999.00,9,   -999.0,9,   -999.0,9,   -999.0,9,   -999.0,9,   -999.0,9, -999.00,  -999.0,-999.0000,-999.000,  1.4445,-999.000
   31WTTUNES_2,  P17S,   151,  1,     32,     32,2,19910730,0449,-19.3200,-133.0500, 3607,   3298.1,   1.6474,  34.6780,2,  34.6784,2,    166.4,2,    165.1,2,   128.33,2,    34.46,2,     0.00,2,     2.41,2, -999.000,9, -999.000,9, -999.000,9,-999.0000,9,  -999.00,9,   -999.0,9,   -999.0,9,   -999.0,9,   -999.0,9,   -999.0,9, -999.00,  -999.0,-999.0000,-999.000,  1.3981,-999.000
   31WTTUNES_2,  P17S,   151,  1,     33,     33,2,19910730,0449,-19.3200,-133.0500, 3607,   3298.8,   1.6473,  34.6780,2,  34.6778,2,    166.4,2,    165.1,2,   129.10,2,    34.61,2,     0.00,2,     2.42,2, -999.000,9, -999.000,9, -999.000,9,-999.0000,9,  -999.00,9,   -999.0,9,   -999.0,9,   -999.0,9,   -999.0,9,   -999.0,9, -999.00,  -999.0,-999.0000,-999.000,  1.3979,-999.000
   31WTTUNES_2,  P17S,   151,  1,     35,     35,2,19910730,0449,-19.3200,-133.0500, 3607,   3505.5,   1.6413,  34.6799,2,  34.6796,2,    166.2,2,    165.8,2,   130.03,2,    34.45,2,     0.00,2,     2.41,2,    0.000,2,    0.000,2, -999.000,9,-999.0000,9,  -999.00,9,   -999.0,9,   -999.0,9,   -999.0,9,   -999.0,9,   -999.0,9, -999.00,  -999.0,-999.0000,-999.000,  1.3710,-999.000
   31WTTUNES_2,  P17S,   151,  1,     34,     34,2,19910730,0449,-19.3200,-133.0500, 3607,   3505.9,   1.6415,  34.6802,2,  34.6808,2,    166.5,2,    166.0,2,   130.07,2,    34.56,2,     0.00,2,     2.42,2, -999.000,9, -999.000,9, -999.000,9,-999.0000,9,  -999.00,9,   -999.0,9,   -999.0,9,   -999.0,9,   -999.0,9,   -999.0,9, -999.00,  -999.0,-999.0000,-999.000,  1.3712,-999.000
   31WTTUNES_2,  P17S,   151,  1,     38,     38,2,19910730,0449,-19.3200,-133.0500, 3607,   3645.8,   1.6328,  34.6816,2,  34.6806,2,    166.5,2,    165.5,2,   130.79,2,    34.50,2,     0.00,2,     2.43,2,    0.002,2,    0.000,2, -999.000,9,-999.0000,9,  -999.00,9,   -999.0,9,   -999.0,9,   -999.0,9,   -999.0,9,   -999.0,9, -999.00,  -999.0,-999.0000,-999.000,  1.3482,-999.000