BOTTLE,20131125MIRCJHATS
EXPOCODE,SECT_ID,STNNBR,CASTNO,SAMPNO,BTLNBR,BTLNBR_FLAG_W,DATE,TIME,LATITUDE,LONGITUDE,DEPTH,CTDPRS,CTDTMP,CTDSAL,CTDSAL_FLAG_W,SALNTY,SALNTY_FLAG_W,CTDOXY,CTDOXY_FLAG_W,OXYGEN,OXYGEN_FLAG_W,SILCAT,SILCAT_FLAG_W,NITRAT,NITRAT_FLAG_W,NITRIT,NITRIT_FLAG_W,PHSPHT,PHSPHT_FLAG_W,CFC-11,CFC-11_FLAG_W,CFC-12,CFC-12_FLAG_W,TRITUM,TRITUM_FLAG_W,HELIUM,HELIUM_FLAG_W,DELHE3,DELHE3_FLAG_W,DELC14,DELC14_FLAG_W,DELC13,DELC13_FLAG_W,TCARBN,TCARBN_FLAG_W,PCO2,PCO2_FLAG_W,ALKALI,ALKALI_FLAG_W,PCO2TMP,C14ERR,HELIER,DELHER,THETA,TRITER
,,,,,,,,,,,,DBAR,ITS-90,PSS-78,,PSS-78,,UMOL/KG,,UMOL/KG,,UMOL/KG,,UMOL/KG,,UMOL/KG,,UMOL/KG,,PMOL/KG,,PMOL/KG,,TU,,NMOL/KG,,PERCNT,,/MILLE,,/MILLE,,UMOL/KG,,UATM,,UMOL/KG,,DEG C,/MILLE,NMOL/KG,PERCNT,DEG C,TU
   31WTTUNES_2,  P16S,   206,  1,     61,     61,2,19910821,0557,-24.4950,-150.4850, 4932,      2.8,  21.8878,  35.6660,2,  35.6703,2,    219.7,3,    220.1,2,     1.37,2,     0.20,2,     0.00,2,     0.09,2,    2.031,2,    1.093,2, -999.000,9,-999.0000,9,  -999.00,9,    130.6,2,      1.4,2,   2001.3,2,    272.6,2,   -999.0,9,   20.00,     4.3,-999.0000,-999.000, 21.8873,-999.000
   31WTTUNES_2,  P16S,   206,  1,      2,      2,2,19910821,0557,-24.4950,-150.4850, 4932,     33.7,  20.8027,  35.5994,2,  35.6009,2,    221.6,2,    223.4,2,     1.37,2,     0.10,2,     0.00,2,     0.07,2,    2.103,2,    1.124,2, -999.000,9,-999.0000,9,  -999.00,9,   -999.0,9,   -999.0,9,   2005.3,2,    282.9,2,   -999.0,9,   20.00,  -999.0,-999.0000,-999.000, 20.7963,-999.000
   31WTTUNES_2,  P16S,   206,  1,      3,      3,2,19910821,0557,-24.4950,-150.4850, 4932,     73.3,  20.6447,  35.5980,2,  35.6013,2,    226.0,2,    222.9,2,     1.37,2,     0.10,2,     0.00,2,     0.07,2, -999.000,9, -999.000,9, -999.000,9,-999.0000,9,  -999.00,9,   -999.0,9,   -999.0,9,   2005.6,2,    286.6,2,   -999.0,9,   20.00,  -999.0,-999.0000,-999.000, 20.6309,-999.000
   31WTTUNES_2,  P16S,   206,  1,     64,     64,2,19910821,0557,-24.4950,-150.4850, 4932,    123.9,  20.4907,  35.5859,2,  35.5896,2,    221.8,2,    223.1,2,     1.37,2,     0.10,2,     0.00,2,     0.06,2,    2.140,2,    1.147,2, -999.000,9,-999.0000,9,  -999.00,9,   -999.0,9,   -999.0,9,   2011.6,2,    289.0,2,   -999.0,9,   20.00,  -999.0,-999.0000,-999.000, 20.4674,-999.000
   31WTTUNES_2,  P16S,   206,  1,      5,      5,2,19910821,0557,-24.4950,-150.4850, 4932,    180.0,  20.3647,  35.5751,2,  35.5780,2,    214.7,6,    221.8,2,     1.37,2,     0.20,2,     0.00,2,     0.07,2, -999.000,9, -999.000,9, -999.000,9,-999.0000,9,  -999.00,9,    139.2,2,      1.3,2,   2009.6,2,    297.1,2,   -999.0,9,   20.00,     4.9,-999.0000,-999.000, 20.3309,-999.000
   31WTTUNES_2,  P16S,   206,  1,      6,      6,2,19910821,0557,-24.4950,-150.4850, 4932,    215.5,  19.3797,  35.5676,2,  35.5713,2,    211.8,2,    202.6,2,     1.37,2,     1.27,2,     0.03,2,     0.21,2,    2.002,2,    1.072,2, -999.000,9,-999.0000,9,  -999.00,9,   -999.0,9,   -999.0,9,   2041.8,2,    340.8,2,   -999.0,9,   20.00,  -999.0,-999.0000,-999.000, 19.3406,-999.000
   31WTTUNES_2,  P16S,   206,  1,      7,      7,2,19910821,0557,-24.4950,-150.4850, 4932,    256.3,  18.1228,  35.5306,2,  35.5299,2,    192.4,2,    195.8,2,     1.37,2,     2.74,2,     0.00,2,     0.32,2, -999.000,9, -999.000,9, -999.000,9,-999.0000,9,  -999.00,9,    128.8,2,      1.2,2,   2059.5,2,    376.0,2,   -999.0,9,   20.00,     4.9,-999.0000,-999.000, 18.0783,-999.000
   31WTTUNES_2,  P16S,   206,  1,     68,     68,2,19910821,0557,-24.4950,-150.4850, 4932,    287.6,  17.0528,  35.4603,2,  35.4603,2,    208.4,2,    204.5,2,     1.56,2,     2.83,2,     0.00,2,     0.32,2,    2.068,2,    1.081,2, -999.000,9,-999.0000,9,  -999.00,9,    127.5,2,      1.2,2,   2064.7,2,    391.9,2,   -999.0,9,   20.00,     4.1,-999.0000,-999.000, 17.0050,-999.000
   31WTTUNES_2,  P16S,   206,  1,     69,     69,2,19910821,0557,-24.4950,-150.4850, 4932,    326.2,  15.1971,  35.2994,2,  35.2972,2,    198.5,2,    194.0,2,     2.34,2,     6.64,2,     0.00,2,     0.58,2,    1.743,2,    0.913,2, -999.000,9,-999.0000,9,  -999.00,9,    105.8,2,      1.2,2,   2084.9,2,    450.3,2,   -999.0,9,   20.00,     4.1,-999.0000,-999.000, 15.1469,-999.000
   31WTTUNES_2,  P16S,   206,  1,     70,     70,2,19910821,0557,-24.4950,-150.4850, 4932,    376.5,  13.2055,  35.0570,2,  35.0420,2,    195.0,2,    193.5,2,     3.13,2,    10.46,2,     0.00,2,     0.82,2,    1.484,2,    0.765,2, -999.000,9,-999.0000,9,  -999.00,9,     87.9,2,      1.0,2,   2102.5,2,    524.2,2,   -999.0,9,   20.00,     4.9,-999.0000,-999.000, 13.1528,-999.000
   31WTTUNES_2,  P16S,   206,  1,     11,     11,2,19910821,0557,-24.4950,-150.4850, 4932,    430.8,  11.0681,  34.7662,2,  34.7534,2,    196.2,2,    193.7,2,     4.79,2,    15.15,2,     0.00,2,     1.12,2,    1.015,2,    0.535,2, -999.000,9,-999.0000,9,  -999.00,9,     58.9,2,      1.1,2,   2120.1,2,    613.1,2,   -999.0,9,   20.00,     5.3,-999.0000,-999.000, 11.0143,-999.000
   31WTTUNES_2,  P16S,   206,  1,     12,     12,2,19910821,0557,-24.4950,-150.4850, 4932,    483.1,   9.3247,  34.5828,2,  34.5758,2,    198.5,2,    201.4,2,     6.45,2,    18.57,2,     0.00,2,     1.34,2,    0.859,2,    0.452,2, -999.000,9,-999.0000,9,  -999.00,9,     26.7,2,      1.2,2,   2131.0,2,    680.5,2,   -999.0,9,   20.00,     3.1,-999.0000,-999.000,  9.2705,-999.000
   31WTTUNES_2,  P16S,   206,  1,     13,     13,2,19910821,0557,-24.4950,-150.4850, 4932,    553.6,   7.5665,  34.4309,2,  34.4283,2,    213.3,2,    216.1,2,     8.11,2,    21.90,2,     0.00,2,     1.53,2,    0.650,2,    0.384,2, -999.000,9,-999.0000,9,  -999.00,9,     -8.6,2,      1.1,3,   2135.6,2,    730.1,2,   -999.0,9,   20.00,     3.8,-999.0000,-999.000,  7.5114,-999.000
   31WTTUNES_2,  P16S,   206,  1,     37,     37,2,19910821,0557,-24.4950,-150.4850, 4932,    635.1,   6.5530,  34.3601,2,  34.3600,2,    225.6,2,    229.5,2,     9.97,2,    23.66,2,     0.00,2,     1.64,2,    0.414,2,    0.308,2, -999.000,9,-999.0000,9,  -999.00,9,    -30.9,2,      1.3,2,   2141.2,2,    753.9,2,   -999.0,9,   20.00,     3.6,-999.0000,-999.000,  6.4944,-999.000
   31WTTUNES_2,  P16S,   206,  1,     15,     15,2,19910821,0557,-24.4950,-150.4850, 4932,    715.9,   5.8773,  34.3208,2,  34.3210,2,    226.6,2,    225.7,2,    13.88,2,    25.81,2,     0.00,2,     1.78,2,    0.301,2,    0.177,2, -999.000,9,-999.0000,9,  -999.00,9,    -57.4,2,      1.2,2,   2148.5,2,    797.8,2,   -999.0,9,   20.00,     3.7,-999.0000,-999.000,  5.8146,-999.000
   31WTTUNES_2,  P16S,   206,  1,     16,     16,2,19910821,0557,-24.4950,-150.4850, 4932,    817.4,   5.1407,  34.3152,2,  34.3165,2,    212.4,2,    209.7,2,    22.88,2,    28.55,2,     0.00,2,     1.97,2,    0.125,2,    0.081,2, -999.000,9,-999.0000,9,  -999.00,9,    -95.1,2,      1.2,2,   2170.8,2,    886.6,2,   -999.0,9,   20.00,     2.9,-999.0000,-999.000,  5.0731,-999.000
   31WTTUNES_2,  P16S,   206,  1,     17,     17,2,19910821,0557,-24.4950,-150.4850, 4932,    916.9,   4.5660,  34.3408,2,  34.3420,2,    191.4,2,    191.6,2,    34.02,2,    31.09,2,     0.00,2,     2.16,2,    0.048,2,    0.034,2, -999.000,9,-999.0000,9,  -999.00,9,   -999.0,9,   -999.0,9,   2193.7,2,    976.4,2,   -999.0,9,   20.00,  -999.0,-999.0000,-999.000,  4.4935,-999.000
   31WTTUNES_2,  P16S,   206,  1,     18,     18,2,19910821,0557,-24.4950,-150.4850, 4932,   1018.5,   4.0573,  34.3944,2,  34.3932,2,    172.9,2,    171.9,2,    49.37,2,    33.34,2,     0.00,2,     2.32,2, -999.000,9, -999.000,9, -999.000,9,-999.0000,9,  -999.00,9,   -133.9,2,      0.5,2,   2220.3,2,   1081.7,2,   -999.0,9,   20.00,     2.8,-999.0000,-999.000,  3.9799,-999.000
   31WTTUNES_2,  P16S,   206,  1,     19,     19,2,19910821,0557,-24.4950,-150.4850, 4932,   1122.6,   3.6606,  34.4331,2,  34.4340,2,    168.1,2,    167.9,2,    60.02,2,    33.92,2,     0.00,2,     2.37,2,    0.005,2,    0.005,2, -999.000,9,-999.0000,9,  -999.00,9,   -999.0,9,   -999.0,9,   2234.6,2,   1109.9,2,   -999.0,9,   20.00,  -999.0,-999.0000,-999.000,  3.5777,-999.000
   31WTTUNES_2,  P16S,   206,  1,     20,     20,2,19910821,0557,-24.4950,-150.4850, 4932,   1276.3,   3.0799,  34.5054,2,  34.5049,2,    160.9,2,    158.3,2,    79.18,2,    34.70,2,     0.00,2,     2.42,2, -999.000,9, -999.000,9, -999.000,9,-999.0000,9,  -999.00,9,   -167.9,2,      0.4,2,   2258.2,2,   1150.5,2,   -999.0,9,   20.00,     2.7,-999.0000,-999.000,  2.9898,-999.000
   31WTTUNES_2,  P16S,   206,  1,     21,     21,2,19910821,0557,-24.4950,-150.4850, 4932,   1422.4,   2.7761,  34.5429,2,  34.5426,2,    156.3,2,    156.4,2,    89.54,2,    34.80,2,     0.00,2,     2.44,2, -999.000,9, -999.000,9, -999.000,9,-999.0000,9,  -999.00,9,   -999.0,9,   -999.0,9,   2272.2,2,   1159.7,2,   -999.0,9,   20.00,  -999.0,-999.0000,-999.000,  2.6773,-999.000
   31WTTUNES_2,  P16S,   206,  1,     22,     22,2,19910821,0557,-24.4950,-150.4850, 4932,   1626.8,   2.4104,  34.5903,2,  34.5923,2,    154.4,2,    153.3,2,   105.08,2,    35.19,2,     0.00,2,     2.47,2, -999.000,9, -999.000,9, -999.000,9,-999.0000,9,  -999.00,9,   -197.1,2,      0.4,2,   2282.3,2,   -999.0,5,   -999.0,9, -999.00,     4.1,-999.0000,-999.000,  2.2992,-999.000
   31WTTUNES_2,  P16S,   206,  1,     23,     23,2,19910821,0557,-24.4950,-150.4850, 4932,   1836.7,   2.2305,  34.6173,2,  34.6157,2,    151.1,2,    151.0,2,   114.46,2,    35.48,2,     0.00,2,     2.49,2, -999.000,9, -999.000,9, -999.000,9,-999.0000,9,  -999.00,9,   -999.0,9,   -999.0,9,   2295.2,2,   1170.0,2,   -999.0,9,   20.00,  -999.0,-999.0000,-999.000,  2.1044,-999.000
   31WTTUNES_2,  P16S,   206,  1,     24,     24,2,19910821,0557,-24.4950,-150.4850, 4932,   2032.4,   2.0706,  34.6349,2,  34.6356,2,    149.9,2,    150.2,2,   121.30,2,    35.58,2,     0.00,2,     2.50,2, -999.000,9, -999.000,9, -999.000,9,-999.0000,9,  -999.00,9,   -215.4,2,      0.1,2,   2301.5,2,   1185.9,2,   -999.0,9,   20.00,     2.5,-999.0000,-999.000,  1.9303,-999.000
   31WTTUNES_2,  P16S,   206,  1,     25,     25,2,19910821,0557,-24.4950,-150.4850, 4932,   2230.4,   1.9687,  34.6459,2,  34.6470,2,    151.2,2,    150.9,2,   124.72,2,    35.48,2,     0.00,2,     2.49,2, -999.000,9, -999.000,9, -999.000,9,-999.0000,9,  -999.00,9,   -999.0,9,   -999.0,9,   2304.5,2,   1169.2,2,   -999.0,9,   20.00,  -999.0,-999.0000,-999.000,  1.8130,-999.000
   31WTTUNES_2,  P16S,   206,  1,     26,     26,2,19910821,0557,-24.4950,-150.4850, 4932,   2430.0,   1.8877,  34.6534,2,  34.6458,4,    153.0,2,    152.6,2,   127.07,2,    35.48,2,     0.00,2,     2.49,2, -999.000,9, -999.000,9, -999.000,9,-999.0000,9,  -999.00,9,   -224.6,2,      0.1,2,   2305.3,2,   1172.2,2,   -999.0,9,   20.00,     2.6,-999.0000,-999.000,  1.7158,-999.000
   31WTTUNES_2,  P16S,   206,  1,     27,     27,2,19910821,0557,-24.4950,-150.4850, 4932,   2681.4,   1.7888,  34.6619,2,  34.6619,2,    155.8,2,    156.9,2,   129.02,2,    35.19,2,     0.00,2,     2.46,2, -999.000,9, -999.000,9, -999.000,9,-999.0000,9,  -999.00,9,   -999.0,9,   -999.0,9,   2304.7,2,   1147.7,2,   -999.0,9,   20.00,  -999.0,-999.0000,-999.000,  1.5959,-999.000
   31WTTUNES_2,  P16S,   206,  1,     28,     28,2,19910821,0557,-24.4950,-150.4850, 4932,   2939.6,   1.6819,  34.6706,2,  34.6712,2,    160.6,2,    162.3,2,   128.73,2,    34.80,2,     0.00,2,     2.42,2, -999.000,9, -999.000,9, -999.000,9,-999.0000,9,  -999.00,9,   -999.0,9,   -999.0,9,   2299.7,2,   1136.4,2,   -999.0,9,   20.00,  -999.0,-999.0000,-999.000,  1.4669,-999.000
   31WTTUNES_2,  P16S,   206,  1,     29,     29,2,19910821,0557,-24.4950,-150.4850, 4932,   3195.2,   1.6029,  34.6773,2,-999.0000,9,    165.7,2,   -999.0,9,  -999.00,9,  -999.00,9,  -999.00,9,  -999.00,9, -999.000,9, -999.000,9, -999.000,9,-999.0000,9,  -999.00,9,   -999.0,9,   -999.0,9,   -999.0,5,   -999.0,5,   -999.0,9, -999.00,  -999.0,-999.0000,-999.000,  1.3649,-999.000
   31WTTUNES_2,  P16S,   206,  1,     30,     30,2,19910821,0557,-24.4950,-150.4850, 4932,   3454.4,   1.5480,  34.6825,2,  34.6824,2,    169.6,2,    171.8,2,   126.77,2,    34.01,2,     0.00,2,     2.38,2, -999.000,9, -999.000,9, -999.000,9,-999.0000,9,  -999.00,9,   -216.2,2,      0.1,2,   2294.6,2,   1102.2,2,   -999.0,9,   20.00,     3.5,-999.0000,-999.000,  1.2853,-999.000
   31WTTUNES_2,  P16S,   206,  1,     31,     31,2,19910821,0557,-24.4950,-150.4850, 4932,   3720.7,   1.5080,  34.6868,2,  34.6885,2,    173.7,2,    175.4,2,   127.06,2,    33.92,2,     0.00,2,     2.37,2, -999.000,9, -999.000,9, -999.000,9,-999.0000,9,  -999.00,9,   -214.3,2,     -0.1,3,   2293.4,2,   1103.2,2,   -999.0,9,   20.00,     2.7,-999.0000,-999.000,  1.2188,-999.000
   31WTTUNES_2,  P16S,   206,  1,     32,     32,2,19910821,0557,-24.4950,-150.4850, 4932,   3987.5,   1.4490,  34.6914,2,  34.6928,2,    179.1,2,    180.4,2,   126.97,2,    33.62,2,     0.00,2,     2.35,2, -999.000,9, -999.000,9, -999.000,9,-999.0000,9,  -999.00,9,   -208.1,2,      0.2,3,   2285.2,2,   1085.8,2,   -999.0,9,   20.00,     2.6,-999.0000,-999.000,  1.1329,-999.000
   31WTTUNES_2,  P16S,   206,  1,     33,     33,2,19910821,0557,-24.4950,-150.4850, 4932,   4247.3,   1.3951,  34.6959,2,  34.6969,2,    184.0,2,    185.2,2,   125.30,2,    33.13,2,     0.00,2,     2.32,2, -999.000,9, -999.000,9, -999.000,9,-999.0000,9,  -999.00,9,   -187.7,2,      0.0,2,   2282.9,2,   1072.6,2,   -999.0,9,   20.00,     3.8,-999.0000,-999.000,  1.0519,-999.000
   31WTTUNES_2,  P16S,   206,  1,     34,     34,2,19910821,0557,-24.4950,-150.4850, 4932,   4504.3,   1.3701,  34.6988,2,  34.7001,2,    187.7,2,    188.8,2,   123.74,2,    33.04,2,     0.00,2,     2.30,2, -999.000,9, -999.000,9, -999.000,9,-999.0000,9,  -999.00,9,   -180.5,2,      0.1,2,   2279.1,2,   1072.7,2,   -999.0,9,   20.00,     2.4,-999.0000,-999.000,  0.9986,-999.000
   31WTTUNES_2,  P16S,   206,  1,     39,     39,2,19910821,0557,-24.4950,-150.4850, 4932,   4772.6,   1.3701,  34.7011,2,  34.7011,2,    190.3,2,    191.0,2,   124.23,2,    32.94,2,     0.00,2,     2.29,2, -999.000,9, -999.000,9, -999.000,9,-999.0000,9,  -999.00,9,   -999.0,5,      0.1,2,   2281.8,2,   1064.3,2,   -999.0,9,   20.00,  -999.0,-999.0000,-999.000,  0.9673,-999.000
   31WTTUNES_2,  P16S,   206,  1,     38,     38,2,19910821,0557,-24.4950,-150.4850, 4932,   4983.0,   1.3881,  34.7019,2,  34.7024,2,    193.5,2,    191.5,2,   124.13,2,    32.94,2,     0.00,2,     2.29,2, -999.000,9, -999.000,9, -999.000,9,-999.0000,9,  -999.00,9,   -176.0,2,      0.3,2,   2274.4,2,   1058.8,2,   -999.0,9,   20.00,     3.0,-999.0000,-999.000,  0.9596,-999.000