BOTTLE,20131125MIRCJHATS
EXPOCODE,SECT_ID,STNNBR,CASTNO,SAMPNO,BTLNBR,BTLNBR_FLAG_W,DATE,TIME,LATITUDE,LONGITUDE,DEPTH,CTDPRS,CTDTMP,CTDSAL,CTDSAL_FLAG_W,SALNTY,SALNTY_FLAG_W,CTDOXY,CTDOXY_FLAG_W,OXYGEN,OXYGEN_FLAG_W,SILCAT,SILCAT_FLAG_W,NITRAT,NITRAT_FLAG_W,NITRIT,NITRIT_FLAG_W,PHSPHT,PHSPHT_FLAG_W,CFC-11,CFC-11_FLAG_W,CFC-12,CFC-12_FLAG_W,TRITUM,TRITUM_FLAG_W,HELIUM,HELIUM_FLAG_W,DELHE3,DELHE3_FLAG_W,DELC14,DELC14_FLAG_W,DELC13,DELC13_FLAG_W,TCARBN,TCARBN_FLAG_W,PCO2,PCO2_FLAG_W,ALKALI,ALKALI_FLAG_W,PCO2TMP,C14ERR,HELIER,DELHER,THETA,TRITER
,,,,,,,,,,,,DBAR,ITS-90,PSS-78,,PSS-78,,UMOL/KG,,UMOL/KG,,UMOL/KG,,UMOL/KG,,UMOL/KG,,UMOL/KG,,PMOL/KG,,PMOL/KG,,TU,,NMOL/KG,,PERCNT,,/MILLE,,/MILLE,,UMOL/KG,,UATM,,UMOL/KG,,DEG C,/MILLE,NMOL/KG,PERCNT,DEG C,TU
   31WTTUNES_2,  P17S,   141,  1,      1,      1,2,19910727,0426,-14.4133,-134.0833, 4218,      3.3,  27.1146,  36.4854,2,  36.4861,2,    217.9,3,    216.9,2,     2.54,2,     0.10,2,     0.00,2,     0.23,2,    1.366,2,    0.773,2, -999.000,9,-999.0000,9,  -999.00,9,   -999.0,9,   -999.0,9,   2026.2,2,   -999.0,5,   -999.0,9, -999.00,  -999.0,-999.0000,-999.000, 27.1138,-999.000
   31WTTUNES_2,  P17S,   141,  1,      2,      2,2,19910727,0426,-14.4133,-134.0833, 4218,     43.5,  26.6607,  36.4553,2,  36.4609,2,    214.4,2,    213.3,2,     2.25,2,     0.10,2,     0.00,2,     0.23,2,    1.673,2,    0.927,2, -999.000,9,-999.0000,9,  -999.00,9,   -999.0,9,   -999.0,9,   2023.1,2,    248.3,2,   -999.0,9,   20.00,  -999.0,-999.0000,-999.000, 26.6507,-999.000
   31WTTUNES_2,  P17S,   141,  1,      3,      3,2,19910727,0426,-14.4133,-134.0833, 4218,     85.1,  26.7027,  36.5384,2,  36.5332,2,    210.7,2,    209.1,2,     2.05,2,     0.10,2,     0.00,2,     0.23,2,    1.644,2,    0.901,2, -999.000,9,-999.0000,9,  -999.00,9,   -999.0,9,   -999.0,9,   2036.1,2,    256.6,2,   -999.0,9,   20.00,  -999.0,-999.0000,-999.000, 26.6832,-999.000
   31WTTUNES_2,  P17S,   141,  1,      4,      4,2,19910727,0426,-14.4133,-134.0833, 4218,    115.9,  24.4513,  36.3578,2,  36.3769,2,    198.1,2,    201.9,2,     1.85,2,     1.07,2,     0.01,2,     0.32,2,    1.706,2,    0.955,2, -999.000,9,-999.0000,9,  -999.00,9,   -999.0,9,   -999.0,9,   2059.0,2,   -999.0,5,   -999.0,9, -999.00,  -999.0,-999.0000,-999.000, 24.4264,-999.000
   31WTTUNES_2,  P17S,   141,  1,      5,      5,2,19910727,0426,-14.4133,-134.0833, 4218,    146.6,  23.5496,  36.3413,2,  36.3462,2,    191.4,2,    190.5,2,     1.85,2,     1.27,2,     0.89,2,     0.38,2,    1.788,2,    0.984,2, -999.000,9,-999.0000,9,  -999.00,9,   -999.0,9,   -999.0,9,   2073.1,2,    325.3,2,   -999.0,9,   20.00,  -999.0,-999.0000,-999.000, 23.5189,-999.000
   31WTTUNES_2,  P17S,   141,  1,      6,      6,2,19910727,0426,-14.4133,-134.0833, 4218,    177.9,  22.6239,  36.2693,2,  36.2531,2,    183.1,2,    187.5,2,     1.56,2,     3.03,2,     0.04,2,     0.44,2,    1.811,2,    1.000,2, -999.000,9,-999.0000,9,  -999.00,9,   -999.0,9,   -999.0,9,   2087.2,2,   -999.0,5,   -999.0,9, -999.00,  -999.0,-999.0000,-999.000, 22.5877,-999.000
   31WTTUNES_2,  P17S,   141,  1,      7,      7,2,19910727,0426,-14.4133,-134.0833, 4218,    208.3,  21.0445,  36.0088,2,  36.0014,2,    179.5,2,    182.9,2,     1.56,2,     4.20,2,     0.02,2,     0.52,2,    1.752,2,    0.990,2, -999.000,9,-999.0000,9,  -999.00,9,   -999.0,9,   -999.0,9,   2095.3,2,    387.0,2,   -999.0,9,   20.00,  -999.0,-999.0000,-999.000, 21.0043,-999.000
   31WTTUNES_2,  P17S,   141,  1,      8,      8,2,19910727,0426,-14.4133,-134.0833, 4218,    259.7,  18.5465,  35.6057,2,  35.5529,2,    174.6,2,    175.6,2,     2.74,2,     5.67,2,     0.01,2,     0.62,2,    1.815,2,    0.956,2, -999.000,9,-999.0000,9,  -999.00,9,   -999.0,9,   -999.0,9,   2093.5,2,   -999.0,5,   -999.0,9, -999.00,  -999.0,-999.0000,-999.000, 18.5007,-999.000
   31WTTUNES_2,  P17S,   141,  1,      9,      9,2,19910727,0426,-14.4133,-134.0833, 4218,    311.0,  14.0838,  34.9427,2,  34.9256,2,    150.3,2,    145.8,2,     6.35,2,    12.80,2,     0.00,2,     1.15,2, -999.000,5, -999.000,5, -999.000,9,-999.0000,9,  -999.00,9,   -999.0,9,   -999.0,9,   2126.6,2,    620.2,2,   -999.0,9,   20.00,  -999.0,-999.0000,-999.000, 14.0385,-999.000
   31WTTUNES_2,  P17S,   141,  1,     10,     10,2,19910727,0426,-14.4133,-134.0833, 4218,    372.5,  10.4191,  34.5786,2,  34.5691,2,    111.7,2,    108.9,2,    13.98,2,    23.56,2,     0.00,2,     1.92,2,    0.492,2,    0.269,2, -999.000,9,-999.0000,9,  -999.00,9,   -999.0,9,   -999.0,9,   2182.3,2,   -999.0,5,   -999.0,9, -999.00,  -999.0,-999.0000,-999.000, 10.3746,-999.000
   31WTTUNES_2,  P17S,   141,  1,     11,     11,2,19910727,0426,-14.4133,-134.0833, 4218,    437.9,   8.5814,  34.5477,2,  34.5499,2,     83.1,2,     83.4,2,    25.02,2,    31.48,2,     0.00,2,     2.35,2,    0.075,2,    0.049,2, -999.000,9,-999.0000,9,  -999.00,9,   -999.0,9,   -999.0,9,   2223.0,2,   1287.1,2,   -999.0,9,   20.00,  -999.0,-999.0000,-999.000,  8.5348,-999.000
   31WTTUNES_2,  P17S,   141,  1,     12,     12,2,19910727,0426,-14.4133,-134.0833, 4218,    515.8,   7.2893,  34.5168,2,  34.5194,2,    104.0,2,     99.3,2,    31.18,2,    33.43,2,     0.00,2,     2.39,2,    0.022,2,    0.018,2, -999.000,9,-999.0000,9,  -999.00,9,   -999.0,9,   -999.0,9,   2226.6,2,   1273.3,2,   -999.0,9,   20.00,  -999.0,-999.0000,-999.000,  7.2391,-999.000
   31WTTUNES_2,  P17S,   141,  1,     13,     13,2,19910727,0426,-14.4133,-134.0833, 4218,    566.8,   6.8246,  34.5070,2,  34.5074,2,    110.5,2,    105.2,2,    35.58,2,    34.31,2,     0.00,2,     2.41,2,    0.012,2,    0.007,2, -999.000,9,-999.0000,9,  -999.00,9,   -999.0,9,   -999.0,9,   2230.6,2,   -999.0,5,   -999.0,9, -999.00,  -999.0,-999.0000,-999.000,  6.7713,-999.000
   31WTTUNES_2,  P17S,   141,  1,     37,     37,2,19910727,0426,-14.4133,-134.0833, 4218,    615.8,   6.3930,  34.5029,2,  34.5031,2,    120.9,2,    123.3,2,    38.61,2,    33.24,2,     0.00,2,     2.35,2,    0.011,2,    0.009,2, -999.000,9,-999.0000,9,  -999.00,9,   -999.0,9,   -999.0,9,   2223.3,2,   1170.8,2,   -999.0,9,   20.00,  -999.0,-999.0000,-999.000,  6.3368,-999.000
   31WTTUNES_2,  P17S,   141,  1,     15,     15,2,19910727,0426,-14.4133,-134.0833, 4218,    718.4,   5.8464,  34.4928,2,  34.4950,2,    120.7,2,    121.5,2,    45.26,2,    34.51,2,     0.00,2,     2.44,2,    0.004,2,    0.002,7, -999.000,9,-999.0000,9,  -999.00,9,   -999.0,9,   -999.0,9,   2234.2,2,   -999.0,5,   -999.0,9, -999.00,  -999.0,-999.0000,-999.000,  5.7834,-999.000
   31WTTUNES_2,  P17S,   141,  1,     16,     16,2,19910727,0426,-14.4133,-134.0833, 4218,    821.5,   5.2569,  34.4938,2,  34.4961,2,    121.2,2,    121.3,2,    50.83,2,    35.29,2,     0.00,2,     2.49,2,    0.004,2,    0.001,7, -999.000,9,-999.0000,9,  -999.00,9,   -999.0,9,   -999.0,9,   2240.8,2,   1240.9,2,   -999.0,9,   20.00,  -999.0,-999.0000,-999.000,  5.1879,-999.000
   31WTTUNES_2,  P17S,   141,  1,     17,     17,2,19910727,0426,-14.4133,-134.0833, 4218,    923.6,   4.7862,  34.5002,2,  34.5048,2,    119.7,2,    120.3,2,    61.59,2,    36.36,2,     0.00,2,     2.58,2,    0.002,2,    0.002,7, -999.000,9,-999.0000,9,  -999.00,9,   -999.0,9,   -999.0,9,   2254.8,2,   -999.0,5,   -999.0,9, -999.00,  -999.0,-999.0000,-999.000,  4.7113,-999.000
   31WTTUNES_2,  P17S,   141,  1,     18,     18,2,19910727,0426,-14.4133,-134.0833, 4218,   1026.3,   4.3446,  34.5142,2,  34.5198,2,    113.6,2,    110.5,2,    72.73,2,    37.93,2,     0.00,2,     2.69,2,    0.006,2,    0.003,7, -999.000,9,-999.0000,9,  -999.00,9,   -999.0,9,   -999.0,9,   2273.5,2,   1371.5,2,   -999.0,9,   20.00,  -999.0,-999.0000,-999.000,  4.2640,-999.000
   31WTTUNES_2,  P17S,   141,  1,     19,     19,2,19910727,0426,-14.4133,-134.0833, 4218,   1129.8,   3.9609,  34.5284,2,  34.5308,2,    112.8,2,    111.6,2,    81.04,2,    38.03,2,     0.00,2,     2.72,2, -999.000,9, -999.000,9, -999.000,9,-999.0000,9,  -999.00,9,   -999.0,9,   -999.0,9,   2282.6,2,   -999.0,5,   -999.0,9, -999.00,  -999.0,-999.0000,-999.000,  3.8746,-999.000
   31WTTUNES_2,  P17S,   141,  1,     20,     20,2,19910727,0426,-14.4133,-134.0833, 4218,   1283.5,   3.4833,  34.5520,2,  34.5540,2,    118.8,2,    116.2,2,    91.50,2,    37.93,2,     0.00,2,     2.71,2, -999.000,9, -999.000,9, -999.000,9,-999.0000,9,  -999.00,9,   -999.0,9,   -999.0,9,   2291.7,2,   1359.7,2,   -999.0,9,   20.00,  -999.0,-999.0000,-999.000,  3.3885,-999.000
   31WTTUNES_2,  P17S,   141,  1,     21,     21,2,19910727,0426,-14.4133,-134.0833, 4218,   1437.0,   3.0657,  34.5713,2,  34.5728,2,    121.5,2,    125.7,2,    99.90,2,    37.44,2,     0.00,2,     2.66,2, -999.000,9, -999.000,9, -999.000,9,-999.0000,9,  -999.00,9,   -999.0,9,   -999.0,9,   2296.0,2,   -999.0,5,   -999.0,9, -999.00,  -999.0,-999.0000,-999.000,  2.9624,-999.000
   31WTTUNES_2,  P17S,   141,  1,     22,     22,2,19910727,0426,-14.4133,-134.0833, 4218,   1644.4,   2.6450,  34.5988,2,  34.5991,2,    131.1,2,    130.6,2,   109.97,2,    36.85,2,     0.00,2,     2.63,2, -999.000,9, -999.000,9, -999.000,9,-999.0000,9,  -999.00,9,   -999.0,9,   -999.0,9,   2302.9,2,   1298.0,2,   -999.0,9,   20.00,  -999.0,-999.0000,-999.000,  2.5294,-999.000
   31WTTUNES_2,  P17S,   141,  1,     23,     23,2,19910727,0426,-14.4133,-134.0833, 4218,   1850.2,   2.2594,  34.6253,2,  34.6289,2,    141.4,2,    138.9,2,   117.69,2,    36.36,2,     0.00,2,     2.57,2, -999.000,9, -999.000,9, -999.000,9,-999.0000,9,  -999.00,9,   -999.0,9,   -999.0,9,   2306.5,2,   -999.0,5,   -999.0,9, -999.00,  -999.0,-999.0000,-999.000,  2.1317,-999.000
   31WTTUNES_2,  P17S,   141,  1,     24,     24,2,19910727,0426,-14.4133,-134.0833, 4218,   2055.0,   2.0446,  34.6457,2,  34.6476,2,    142.8,2,    143.9,2,   124.04,2,    35.97,2,     0.00,2,     2.53,2, -999.000,9, -999.000,9, -999.000,9,-999.0000,9,  -999.00,9,   -999.0,9,   -999.0,9,   2310.8,2,   -999.0,5,   -999.0,9, -999.00,  -999.0,-999.0000,-999.000,  1.9028,-999.000
   31WTTUNES_2,  P17S,   141,  1,     25,     25,2,19910727,0426,-14.4133,-134.0833, 4218,   2260.1,   1.9147,  34.6562,2,  34.6566,2,    150.2,2,    148.6,2,   126.58,2,    35.58,2,     0.00,2,     2.51,2, -999.000,9, -999.000,9, -999.000,9,-999.0000,9,  -999.00,9,   -999.0,9,   -999.0,9,   2310.7,2,   -999.0,5,   -999.0,9, -999.00,  -999.0,-999.0000,-999.000,  1.7573,-999.000
   31WTTUNES_2,  P17S,   141,  1,     26,     26,2,19910727,0426,-14.4133,-134.0833, 4218,   2464.8,   1.8338,  34.6651,2,  34.6652,2,    154.0,6,    150.0,2,   130.78,2,    35.58,2,     0.00,2,     2.51,2, -999.000,9, -999.000,9, -999.000,9,-999.0000,9,  -999.00,9,   -999.0,9,   -999.0,9,   2315.3,2,   1185.0,2,   -999.0,9,   20.00,  -999.0,-999.0000,-999.000,  1.6597,-999.000
   31WTTUNES_2,  P17S,   141,  1,     27,     27,2,19910727,0426,-14.4133,-134.0833, 4218,   2669.8,   1.7688,  34.6705,2,  34.6707,2,    156.0,2,    152.6,2,   132.54,2,    35.48,2,     0.00,2,     2.49,2, -999.000,9, -999.000,9, -999.000,9,-999.0000,9,  -999.00,9,   -999.0,9,   -999.0,9,   2313.7,2,   -999.0,5,   -999.0,9, -999.00,  -999.0,-999.0000,-999.000,  1.5773,-999.000
   31WTTUNES_2,  P17S,   141,  1,     28,     28,2,19910727,0426,-14.4133,-134.0833, 4218,   2876.9,   1.6999,  34.6744,2,  34.6756,2,    156.6,2,    156.7,2,   133.52,2,    35.28,2,     0.00,2,     2.46,2, -999.000,9, -999.000,9, -999.000,9,-999.0000,9,  -999.00,9,   -999.0,9,   -999.0,9,   2309.8,2,   1151.6,2,   -999.0,9,   20.00,  -999.0,-999.0000,-999.000,  1.4904,-999.000
   31WTTUNES_2,  P17S,   141,  1,     29,     29,2,19910727,0426,-14.4133,-134.0833, 4218,   3083.8,   1.6389,  34.6787,2,  34.6795,2,    159.8,2,    160.0,2,   133.71,2,    34.99,2,     0.00,2,     2.45,2, -999.000,9, -999.000,9, -999.000,9,-999.0000,9,  -999.00,9,   -999.0,9,   -999.0,9,   2311.7,2,   1134.9,2,   -999.0,9,   20.00,  -999.0,-999.0000,-999.000,  1.4110,-999.000
   31WTTUNES_2,  P17S,   141,  1,     30,     30,2,19910727,0426,-14.4133,-134.0833, 4218,   3292.2,   1.5890,  34.6819,2,  34.6861,3,    162.2,2,    162.0,2,   134.69,2,    34.99,2,     0.00,2,     2.45,2, -999.000,9, -999.000,9, -999.000,9,-999.0000,9,  -999.00,9,   -999.0,9,   -999.0,9,   2311.2,2,   -999.0,5,   -999.0,9, -999.00,  -999.0,-999.0000,-999.000,  1.3416,-999.000
   31WTTUNES_2,  P17S,   141,  1,     31,     31,2,19910727,0426,-14.4133,-134.0833, 4218,   3499.1,   1.5600,  34.6846,2,  34.6849,2,    163.5,2,    164.5,2,   135.27,2,    34.80,2,     0.00,2,     2.44,2, -999.000,9, -999.000,9, -999.000,9,-999.0000,9,  -999.00,9,   -999.0,9,   -999.0,9,   2309.3,2,   1115.2,2,   -999.0,9,   20.00,  -999.0,-999.0000,-999.000,  1.2924,-999.000
   31WTTUNES_2,  P17S,   141,  1,     32,     32,2,19910727,0426,-14.4133,-134.0833, 4218,   3705.7,   1.5420,  34.6858,2,  34.6861,2,    167.4,2,    166.6,2,   134.69,2,    34.80,2,     0.00,2,     2.43,2, -999.000,9, -999.000,9, -999.000,9,-999.0000,9,  -999.00,9,   -999.0,9,   -999.0,9,   2306.5,2,   1113.2,2,   -999.0,9,   20.00,  -999.0,-999.0000,-999.000,  1.2535,-999.000
   31WTTUNES_2,  P17S,   141,  1,     33,     33,2,19910727,0426,-14.4133,-134.0833, 4218,   3914.1,   1.5390,  34.6877,2,  34.6866,2,    166.9,2,    168.5,2,   133.81,2,    34.60,2,     0.00,2,     2.42,2, -999.000,9, -999.000,9, -999.000,9,-999.0000,9,  -999.00,9,   -999.0,9,   -999.0,9,   2306.5,2,   -999.0,5,   -999.0,9, -999.00,  -999.0,-999.0000,-999.000,  1.2283,-999.000
   31WTTUNES_2,  P17S,   141,  1,     35,     35,2,19910727,0426,-14.4133,-134.0833, 4218,   4120.9,   1.5200,  34.6890,2,  34.6893,2,    168.9,2,    171.0,2,   133.32,2,    34.31,2,     0.00,2,     2.40,2, -999.000,9, -999.000,9, -999.000,9,-999.0000,9,  -999.00,9,   -999.0,9,   -999.0,9,   2305.5,2,   -999.0,5,   -999.0,9, -999.00,  -999.0,-999.0000,-999.000,  1.1873,-999.000
   31WTTUNES_2,  P17S,   141,  1,     34,     34,2,19910727,0426,-14.4133,-134.0833, 4218,   4121.6,   1.5200,  34.6899,2,  34.6911,2,    168.9,2,    170.9,2,   132.54,2,    34.31,2,     0.00,2,     2.40,2, -999.000,9, -999.000,9, -999.000,9,-999.0000,9,  -999.00,9,   -999.0,9,   -999.0,9,   2303.3,2,   1098.6,2,   -999.0,9,   20.00,  -999.0,-999.0000,-999.000,  1.1872,-999.000
   31WTTUNES_2,  P17S,   141,  1,     36,     36,2,19910727,0426,-14.4133,-134.0833, 4218,   4276.2,   1.5330,  34.6902,2,  34.6909,2,    170.3,2,    171.4,2,   133.32,2,    34.31,2,     0.00,2,     2.40,2, -999.000,9, -999.000,9, -999.000,9,-999.0000,9,  -999.00,9,   -999.0,9,   -999.0,9,   2303.6,2,   1099.0,2,   -999.0,9,   20.00,  -999.0,-999.0000,-999.000,  1.1825,-999.000