BOTTLE,20131125MIRCJHATS
EXPOCODE,SECT_ID,STNNBR,CASTNO,SAMPNO,BTLNBR,BTLNBR_FLAG_W,DATE,TIME,LATITUDE,LONGITUDE,DEPTH,CTDPRS,CTDTMP,CTDSAL,CTDSAL_FLAG_W,SALNTY,SALNTY_FLAG_W,CTDOXY,CTDOXY_FLAG_W,OXYGEN,OXYGEN_FLAG_W,SILCAT,SILCAT_FLAG_W,NITRAT,NITRAT_FLAG_W,NITRIT,NITRIT_FLAG_W,PHSPHT,PHSPHT_FLAG_W,CFC-11,CFC-11_FLAG_W,CFC-12,CFC-12_FLAG_W,TRITUM,TRITUM_FLAG_W,HELIUM,HELIUM_FLAG_W,DELHE3,DELHE3_FLAG_W,DELC14,DELC14_FLAG_W,DELC13,DELC13_FLAG_W,TCARBN,TCARBN_FLAG_W,PCO2,PCO2_FLAG_W,ALKALI,ALKALI_FLAG_W,PCO2TMP,C14ERR,HELIER,DELHER,THETA,TRITER
,,,,,,,,,,,,DBAR,ITS-90,PSS-78,,PSS-78,,UMOL/KG,,UMOL/KG,,UMOL/KG,,UMOL/KG,,UMOL/KG,,UMOL/KG,,PMOL/KG,,PMOL/KG,,TU,,NMOL/KG,,PERCNT,,/MILLE,,/MILLE,,UMOL/KG,,UATM,,UMOL/KG,,DEG C,/MILLE,NMOL/KG,PERCNT,DEG C,TU
   31WTTUNES_2,  P16S,   218,  1,     61,     61,2,19910824,2027,-18.5083,-150.4967, 4197,      0.8,  25.4637,  36.1307,2,  36.1332,2,   -999.0,9,    204.7,2,     1.31,2,     0.13,2,     0.00,2,     0.17,2,    1.845,2,    0.960,2, -999.000,9,-999.0000,9,  -999.00,9,   -999.0,9,   -999.0,9,   2008.5,2,    250.7,2,   -999.0,9,   20.00,  -999.0,-999.0000,-999.000, 25.4635,-999.000
   31WTTUNES_2,  P16S,   218,  1,     62,     62,2,19910824,2027,-18.5083,-150.4967, 4197,     46.0,  25.4118,  36.1271,2,  36.1290,2,    205.3,2,    204.7,2,     1.09,2,     0.08,2,     0.00,2,     0.17,2,    1.806,2,    0.958,2, -999.000,9,-999.0000,9,  -999.00,9,   -999.0,9,   -999.0,9,   -999.0,9,   -999.0,9,   -999.0,9, -999.00,  -999.0,-999.0000,-999.000, 25.4017,-999.000
   31WTTUNES_2,  P16S,   218,  1,      3,      3,2,19910824,2027,-18.5083,-150.4967, 4197,     96.7,  25.3427,  36.1171,2,  36.1065,2,    203.8,2,    203.0,2,     1.07,2,     0.07,2,     0.01,2,     0.17,2,    1.844,2,    0.951,2, -999.000,9,-999.0000,9,  -999.00,9,   -999.0,9,   -999.0,9,   -999.0,9,   -999.0,9,   -999.0,9, -999.00,  -999.0,-999.0000,-999.000, 25.3214,-999.000
   31WTTUNES_2,  P16S,   218,  1,     64,     64,2,19910824,2027,-18.5083,-150.4967, 4197,    151.7,  23.9594,  36.0049,2,  36.0157,2,    191.8,2,    187.3,2,     1.06,2,     0.73,2,     0.06,2,     0.26,2,    1.821,2,    0.952,2, -999.000,9,-999.0000,9,  -999.00,9,   -999.0,9,   -999.0,9,   -999.0,9,   -999.0,9,   -999.0,9, -999.00,  -999.0,-999.0000,-999.000, 23.9274,-999.000
   31WTTUNES_2,  P16S,   218,  1,      5,      5,2,19910824,2027,-18.5083,-150.4967, 4197,    202.6,  22.0977,  36.0025,2,  35.9920,2,    183.0,2,    177.1,2,     1.04,2,     2.70,2,     0.02,2,     0.39,2,    1.832,2,    0.939,2, -999.000,9,-999.0000,9,  -999.00,9,   -999.0,9,   -999.0,9,   -999.0,9,   -999.0,9,   -999.0,9, -999.00,  -999.0,-999.0000,-999.000, 22.0573,-999.000
   31WTTUNES_2,  P16S,   218,  1,      6,      6,2,19910824,2027,-18.5083,-150.4967, 4197,    254.2,  19.4812,  35.6435,2,  35.6369,2,    182.5,2,    181.5,2,     1.02,2,     3.62,2,     0.01,2,     0.42,2,    1.736,2,    0.915,2, -999.000,9,-999.0000,9,  -999.00,9,   -999.0,9,   -999.0,9,   -999.0,9,   -999.0,9,   -999.0,9, -999.00,  -999.0,-999.0000,-999.000, 19.4348,-999.000
   31WTTUNES_2,  P16S,   218,  1,      7,      7,2,19910824,2027,-18.5083,-150.4967, 4197,    305.5,  17.0840,  35.3759,2,  35.3613,2,    177.5,2,    176.4,2,     2.25,2,     6.71,2,     0.01,2,     0.65,2,    1.546,2,    0.793,2, -999.000,9,-999.0000,9,  -999.00,9,   -999.0,9,   -999.0,9,   -999.0,9,   -999.0,9,   -999.0,9, -999.00,  -999.0,-999.0000,-999.000, 17.0332,-999.000
   31WTTUNES_2,  P16S,   218,  1,     68,     68,2,19910824,2027,-18.5083,-150.4967, 4197,    366.3,  13.1209,  34.8929,2,  34.8890,2,    163.4,2,    161.3,2,     6.17,2,    14.19,2,     0.01,2,     1.16,2,    1.062,2,    0.543,2, -999.000,9,-999.0000,9,  -999.00,9,   -999.0,9,   -999.0,9,   -999.0,9,   -999.0,9,   -999.0,9, -999.00,  -999.0,-999.0000,-999.000, 13.0700,-999.000
   31WTTUNES_2,  P16S,   218,  1,     69,     69,2,19910824,2027,-18.5083,-150.4967, 4197,    427.6,  10.6646,  34.6535,2,  34.6501,2,    157.0,2,    157.6,2,     9.47,2,    19.70,2,     0.00,2,     1.51,2,    0.690,2,    0.371,2, -999.000,9,-999.0000,9,  -999.00,9,   -999.0,9,   -999.0,9,   -999.0,9,   -999.0,9,   -999.0,9, -999.00,  -999.0,-999.0000,-999.000, 10.6126,-999.000
   31WTTUNES_2,  P16S,   218,  1,     70,     70,2,19910824,2027,-18.5083,-150.4967, 4197,    489.1,   8.6514,  34.4953,2,  34.4944,2,    165.8,2,    164.5,2,    12.57,2,    23.92,2,     0.00,2,     1.75,2,    0.456,2,    0.247,2, -999.000,9,-999.0000,9,  -999.00,9,   -999.0,9,   -999.0,9,   -999.0,9,   -999.0,9,   -999.0,9, -999.00,  -999.0,-999.0000,-999.000,  8.5990,-999.000
   31WTTUNES_2,  P16S,   218,  1,     11,     11,2,19910824,2027,-18.5083,-150.4967, 4197,    550.4,   7.3684,  34.4186,2,  34.4137,2,    173.7,2,    176.7,2,    14.63,2,    26.21,2,     0.00,2,     1.88,2,    0.317,2,    0.181,2, -999.000,9,-999.0000,9,  -999.00,9,   -999.0,9,   -999.0,9,   -999.0,9,   -999.0,9,   -999.0,9, -999.00,  -999.0,-999.0000,-999.000,  7.3145,-999.000
   31WTTUNES_2,  P16S,   218,  1,     12,     12,2,19910824,2027,-18.5083,-150.4967, 4197,    611.4,   6.5006,  34.3768,2,  34.3768,2,    181.5,2,    180.4,2,    18.34,2,    28.12,2,     0.00,2,     1.99,2,    0.213,2,    0.124,2, -999.000,9,-999.0000,9,  -999.00,9,   -999.0,9,   -999.0,9,   -999.0,9,   -999.0,9,   -999.0,9, -999.00,  -999.0,-999.0000,-999.000,  6.4445,-999.000
   31WTTUNES_2,  P16S,   218,  1,     13,     13,2,19910824,2027,-18.5083,-150.4967, 4197,    672.7,   5.7987,  34.3599,2,  34.3582,2,    181.6,2,    182.0,2,    23.31,2,    29.74,2,     0.00,2,     2.08,2,    0.110,2,    0.070,2, -999.000,9,-999.0000,9,  -999.00,9,   -999.0,9,   -999.0,9,   -999.0,9,   -999.0,9,   -999.0,9, -999.00,  -999.0,-999.0000,-999.000,  5.7403,-999.000
   31WTTUNES_2,  P16S,   218,  1,     37,     37,2,19910824,2027,-18.5083,-150.4967, 4197,    743.4,   5.3427,  34.4145,2,  34.4130,2,    164.8,2,    158.2,2,    38.24,2,    32.36,2,     0.00,2,     2.27,2,    0.036,2,    0.024,2, -999.000,9,-999.0000,9,  -999.00,9,   -999.0,9,   -999.0,9,   -999.0,9,   -999.0,9,   -999.0,9, -999.00,  -999.0,-999.0000,-999.000,  5.2803,-999.000
   31WTTUNES_2,  P16S,   218,  1,     15,     15,2,19910824,2027,-18.5083,-150.4967, 4197,    814.6,   4.8910,  34.4411,2,  34.4395,2,    156.6,2,    151.9,2,    48.41,2,    33.56,2,     0.00,2,     2.35,2,    0.012,2,    0.008,2, -999.000,9,-999.0000,9,  -999.00,9,   -999.0,9,   -999.0,9,   -999.0,9,   -999.0,9,   -999.0,9, -999.00,  -999.0,-999.0000,-999.000,  4.8249,-999.000
   31WTTUNES_2,  P16S,   218,  1,     16,     16,2,19910824,2027,-18.5083,-150.4967, 4197,    897.1,   4.5195,  34.4563,2,  34.4550,2,    149.3,2,    149.8,2,    55.68,2,    34.26,2,     0.00,2,     2.39,2,    0.008,2,    0.004,2, -999.000,9,-999.0000,9,  -999.00,9,   -999.0,9,   -999.0,9,   -999.0,9,   -999.0,9,   -999.0,9, -999.00,  -999.0,-999.0000,-999.000,  4.4488,-999.000
   31WTTUNES_2,  P16S,   218,  1,     17,     17,2,19910824,2027,-18.5083,-150.4967, 4197,    979.5,   4.2896,  34.4670,2,  34.4652,2,    149.9,2,    149.4,2,    60.45,2,    34.62,2,     0.00,2,     2.43,2,    0.003,2,    0.003,2, -999.000,9,-999.0000,9,  -999.00,9,   -999.0,9,   -999.0,9,   -999.0,9,   -999.0,9,   -999.0,9, -999.00,  -999.0,-999.0000,-999.000,  4.2135,-999.000
   31WTTUNES_2,  P16S,   218,  1,     18,     18,2,19910824,2027,-18.5083,-150.4967, 4197,   1071.3,   3.8820,  34.4845,2,  34.4853,2,    150.4,2,    151.5,2,    69.00,2,    35.08,2,     0.00,2,     2.46,2,    0.002,2,    0.000,2, -999.000,9,-999.0000,9,  -999.00,9,   -999.0,9,   -999.0,9,   -999.0,9,   -999.0,9,   -999.0,9, -999.00,  -999.0,-999.0000,-999.000,  3.8014,-999.000
   31WTTUNES_2,  P16S,   218,  1,     19,     19,2,19910824,2027,-18.5083,-150.4967, 4197,   1173.8,   3.3220,  34.5221,2,  34.5222,2,    151.0,2,    150.0,2,    81.54,2,    35.44,2,     0.00,2,     2.48,2, -999.000,9, -999.000,9, -999.000,9,-999.0000,9,  -999.00,9,   -999.0,9,   -999.0,9,   -999.0,9,   -999.0,9,   -999.0,9, -999.00,  -999.0,-999.0000,-999.000,  3.2377,-999.000
   31WTTUNES_2,  P16S,   218,  1,     20,     20,2,19910824,2027,-18.5083,-150.4967, 4197,   1276.3,   3.0369,  34.5454,2,  34.5450,2,    149.8,2,    149.4,2,    89.51,2,    35.55,2,     0.00,2,     2.49,2, -999.000,9, -999.000,9, -999.000,9,-999.0000,9,  -999.00,9,   -999.0,9,   -999.0,9,   -999.0,9,   -999.0,9,   -999.0,9, -999.00,  -999.0,-999.0000,-999.000,  2.9470,-999.000
   31WTTUNES_2,  P16S,   218,  1,     21,     21,2,19910824,2027,-18.5083,-150.4967, 4197,   1378.1,   2.8634,  34.5643,2,  34.5625,2,    147.2,2,    148.3,2,    95.61,2,    35.66,2,     0.00,2,     2.49,2, -999.000,9, -999.000,9, -999.000,9,-999.0000,9,  -999.00,9,   -999.0,9,   -999.0,9,   -999.0,9,   -999.0,9,   -999.0,9, -999.00,  -999.0,-999.0000,-999.000,  2.7671,-999.000
   31WTTUNES_2,  P16S,   218,  1,     22,     22,2,19910824,2027,-18.5083,-150.4967, 4197,   1481.2,   2.7053,  34.5795,2,  34.5772,2,    149.0,2,    147.9,2,   100.88,2,    35.67,2,     0.00,2,     2.51,2, -999.000,9, -999.000,9, -999.000,9,-999.0000,9,  -999.00,9,   -999.0,9,   -999.0,9,   -999.0,9,   -999.0,9,   -999.0,9, -999.00,  -999.0,-999.0000,-999.000,  2.6024,-999.000
   31WTTUNES_2,  P16S,   218,  1,     23,     23,2,19910824,2027,-18.5083,-150.4967, 4197,   1633.7,   2.5480,  34.5944,2,  34.5928,2,    149.3,2,    148.3,2,   105.75,2,    35.83,2,     0.00,2,     2.51,2, -999.000,9, -999.000,9, -999.000,9,-999.0000,9,  -999.00,9,   -999.0,9,   -999.0,9,   -999.0,9,   -999.0,9,   -999.0,9, -999.00,  -999.0,-999.0000,-999.000,  2.4345,-999.000
   31WTTUNES_2,  P16S,   218,  1,     24,     24,2,19910824,2027,-18.5083,-150.4967, 4197,   1787.5,   2.3755,  34.6106,2,  34.6083,2,    146.2,2,    148.9,2,   111.05,2,    35.89,2,     0.00,2,     2.52,2, -999.000,9, -999.000,9, -999.000,9,-999.0000,9,  -999.00,9,   -999.0,9,   -999.0,9,   -999.0,9,   -999.0,9,   -999.0,9, -999.00,  -999.0,-999.0000,-999.000,  2.2515,-999.000
   31WTTUNES_2,  P16S,   218,  1,     25,     25,2,19910824,2027,-18.5083,-150.4967, 4197,   1943.5,   2.2007,  34.6263,2,  34.6242,2,    150.9,2,    150.5,2,   115.95,2,    35.75,2,     0.00,2,     2.51,2, -999.000,9, -999.000,9, -999.000,9,-999.0000,9,  -999.00,9,   -999.0,9,   -999.0,9,   -999.0,9,   -999.0,9,   -999.0,9, -999.00,  -999.0,-999.0000,-999.000,  2.0660,-999.000
   31WTTUNES_2,  P16S,   218,  1,     26,     26,2,19910824,2027,-18.5083,-150.4967, 4197,   2099.0,   2.0929,  34.6359,2,  34.6341,2,    152.8,2,    152.3,2,   118.51,2,    35.71,2,     0.00,2,     2.50,2, -999.000,9, -999.000,9, -999.000,9,-999.0000,9,  -999.00,9,   -999.0,9,   -999.0,9,   -999.0,9,   -999.0,9,   -999.0,9, -999.00,  -999.0,-999.0000,-999.000,  1.9466,-999.000
   31WTTUNES_2,  P16S,   218,  1,     27,     27,2,19910824,2027,-18.5083,-150.4967, 4197,   2254.7,   1.9952,  34.6443,2,  34.6425,2,    155.4,2,    154.2,2,   120.65,2,    35.57,2,     0.00,2,     2.49,2, -999.000,9, -999.000,9, -999.000,9,-999.0000,9,  -999.00,9,   -999.0,9,   -999.0,9,   -999.0,9,   -999.0,9,   -999.0,9, -999.00,  -999.0,-999.0000,-999.000,  1.8369,-999.000
   31WTTUNES_2,  P16S,   218,  1,     28,     28,2,19910824,2027,-18.5083,-150.4967, 4197,   2457.2,   1.8815,  34.6540,2,  34.6526,2,    153.9,2,    157.0,2,   123.65,2,    35.48,2,     0.00,2,     2.48,2, -999.000,9, -999.000,9, -999.000,9,-999.0000,9,  -999.00,9,   -999.0,9,   -999.0,9,   -999.0,9,   -999.0,9,   -999.0,9, -999.00,  -999.0,-999.0000,-999.000,  1.7073,-999.000
   31WTTUNES_2,  P16S,   218,  1,     29,     29,2,19910824,2027,-18.5083,-150.4967, 4197,   2664.0,   1.7793,  34.6628,2,  34.6607,2,    160.4,2,    160.2,2,   125.79,2,    35.29,2,     0.00,2,     2.46,2, -999.000,9, -999.000,9, -999.000,9,-999.0000,9,  -999.00,9,   -999.0,9,   -999.0,9,   -999.0,9,   -999.0,9,   -999.0,9, -999.00,  -999.0,-999.0000,-999.000,  1.5882,-999.000
   31WTTUNES_2,  P16S,   218,  1,     30,     30,2,19910824,2027,-18.5083,-150.4967, 4197,   2870.0,   1.6904,  34.6703,2,  34.6691,2,    164.7,2,    163.0,2,   128.16,2,    35.15,2,     0.00,2,     2.44,2, -999.000,9, -999.000,9, -999.000,9,-999.0000,9,  -999.00,9,   -999.0,9,   -999.0,9,   -999.0,9,   -999.0,9,   -999.0,9, -999.00,  -999.0,-999.0000,-999.000,  1.4818,-999.000
   31WTTUNES_2,  P16S,   218,  1,     31,     31,2,19910824,2027,-18.5083,-150.4967, 4197,   3077.4,   1.6285,  34.6752,2,  34.6754,2,    165.5,2,    167.1,2,   127.94,2,    34.96,2,     0.00,2,     2.42,2, -999.000,9, -999.000,9, -999.000,9,-999.0000,9,  -999.00,9,   -999.0,9,   -999.0,9,   -999.0,9,   -999.0,9,   -999.0,9, -999.00,  -999.0,-999.0000,-999.000,  1.4014,-999.000
   31WTTUNES_2,  P16S,   218,  1,     32,     32,2,19910824,2027,-18.5083,-150.4967, 4197,   3284.4,   1.5657,  34.6807,2,  34.6796,2,    168.7,2,    171.0,2,   127.72,2,    34.72,2,     0.00,2,     2.41,2, -999.000,9, -999.000,9, -999.000,9,-999.0000,9,  -999.00,9,   -999.0,9,   -999.0,9,   -999.0,9,   -999.0,9,   -999.0,9, -999.00,  -999.0,-999.0000,-999.000,  1.3197,-999.000
   31WTTUNES_2,  P16S,   218,  1,     33,     33,2,19910824,2027,-18.5083,-150.4967, 4197,   3488.5,   1.5196,  34.6847,2,  34.6835,2,    174.4,2,    174.3,2,   127.50,2,    34.63,2,     0.00,2,     2.39,2, -999.000,9, -999.000,9, -999.000,9,-999.0000,9,  -999.00,9,   -999.0,9,   -999.0,9,   -999.0,9,   -999.0,9,   -999.0,9, -999.00,  -999.0,-999.0000,-999.000,  1.2541,-999.000
   31WTTUNES_2,  P16S,   218,  1,     34,     34,2,19910824,2027,-18.5083,-150.4967, 4197,   3745.4,   1.5113,  34.6865,2,  34.6863,2,    176.9,2,    176.2,2,   127.07,2,    34.19,2,     0.00,2,     2.38,2, -999.000,9, -999.000,9, -999.000,9,-999.0000,9,  -999.00,9,   -999.0,9,   -999.0,9,   -999.0,9,   -999.0,9,   -999.0,9, -999.00,  -999.0,-999.0000,-999.000,  1.2194,-999.000
   31WTTUNES_2,  P16S,   218,  1,     39,     39,2,19910824,2027,-18.5083,-150.4967, 4197,   4003.3,   1.5210,  34.6875,2,  34.6873,2,    178.3,2,    177.3,2,   127.06,2,    34.20,2,     0.00,2,     2.38,2, -999.000,9, -999.000,9, -999.000,9,-999.0000,9,  -999.00,9,   -999.0,9,   -999.0,9,   -999.0,9,   -999.0,9,   -999.0,9, -999.00,  -999.0,-999.0000,-999.000,  1.2011,-999.000
   31WTTUNES_2,  P16S,   218,  1,     38,     38,2,19910824,2027,-18.5083,-150.4967, 4197,   4252.8,   1.5347,  34.6881,2,  34.6889,2,    177.2,2,    178.1,2,   126.41,2,    34.16,2,     0.00,2,     2.37,2, -999.000,9, -999.000,9, -999.000,9,-999.0000,9,  -999.00,9,   -999.0,9,   -999.0,9,   -999.0,9,   -999.0,9,   -999.0,9, -999.00,  -999.0,-999.0000,-999.000,  1.1868,-999.000