BOTTLE,20131125MIRCJHATS
EXPOCODE,SECT_ID,STNNBR,CASTNO,SAMPNO,BTLNBR,BTLNBR_FLAG_W,DATE,TIME,LATITUDE,LONGITUDE,DEPTH,CTDPRS,CTDTMP,CTDSAL,CTDSAL_FLAG_W,SALNTY,SALNTY_FLAG_W,CTDOXY,CTDOXY_FLAG_W,OXYGEN,OXYGEN_FLAG_W,SILCAT,SILCAT_FLAG_W,NITRAT,NITRAT_FLAG_W,NITRIT,NITRIT_FLAG_W,PHSPHT,PHSPHT_FLAG_W,CFC-11,CFC-11_FLAG_W,CFC-12,CFC-12_FLAG_W,TRITUM,TRITUM_FLAG_W,HELIUM,HELIUM_FLAG_W,DELHE3,DELHE3_FLAG_W,DELC14,DELC14_FLAG_W,DELC13,DELC13_FLAG_W,TCARBN,TCARBN_FLAG_W,PCO2,PCO2_FLAG_W,ALKALI,ALKALI_FLAG_W,PCO2TMP,C14ERR,HELIER,DELHER,THETA,TRITER
,,,,,,,,,,,,DBAR,ITS-90,PSS-78,,PSS-78,,UMOL/KG,,UMOL/KG,,UMOL/KG,,UMOL/KG,,UMOL/KG,,UMOL/KG,,PMOL/KG,,PMOL/KG,,TU,,NMOL/KG,,PERCNT,,/MILLE,,/MILLE,,UMOL/KG,,UATM,,UMOL/KG,,DEG C,/MILLE,NMOL/KG,PERCNT,DEG C,TU
   31WTTUNES_2,  P16S,   203,  1,     61,     61,2,19910820,1101,-25.9950,-150.4967, 4600,      1.2,  19.7217,  35.5808,2,  35.5847,2,    226.9,3,    226.8,2,     1.54,2,     0.09,2,     0.00,2,     0.07,2,    2.210,2,    1.165,2, -999.000,9,-999.0000,9,  -999.00,9,   -999.0,9,   -999.0,9,   2016.3,2,    295.7,2,   -999.0,9,   20.00,  -999.0,-999.0000,-999.000, 19.7215,-999.000
   31WTTUNES_2,  P16S,   203,  1,      2,      2,2,19910820,1101,-25.9950,-150.4967, 4600,     38.2,  19.7287,  35.5811,2,  35.5841,2,    227.4,2,    227.2,2,     1.52,2,     0.09,2,     0.00,2,     0.07,2,    2.210,2,    1.175,2, -999.000,9,-999.0000,9,  -999.00,9,   -999.0,9,   -999.0,9,   -999.0,9,   -999.0,9,   -999.0,9, -999.00,  -999.0,-999.0000,-999.000, 19.7217,-999.000
   31WTTUNES_2,  P16S,   203,  1,      3,      3,2,19910820,1101,-25.9950,-150.4967, 4600,     73.7,  19.6647,  35.5713,2,  35.5738,2,    230.7,2,    227.0,2,     1.51,2,     0.08,2,     0.00,2,     0.07,2,    2.206,2,    1.179,2, -999.000,9,-999.0000,9,  -999.00,9,   -999.0,9,   -999.0,9,   -999.0,9,   -999.0,9,   -999.0,9, -999.00,  -999.0,-999.0000,-999.000, 19.6512,-999.000
   31WTTUNES_2,  P16S,   203,  1,     64,     64,2,19910820,1101,-25.9950,-150.4967, 4600,    114.1,  19.4387,  35.5560,2,  35.5549,2,    227.9,2,    226.3,2,     1.50,2,     0.08,2,     0.00,2,     0.07,2,    2.232,2,    1.178,2, -999.000,9,-999.0000,9,  -999.00,9,   -999.0,9,   -999.0,9,   -999.0,9,   -999.0,9,   -999.0,9, -999.00,  -999.0,-999.0000,-999.000, 19.4180,-999.000
   31WTTUNES_2,  P16S,   203,  1,      5,      5,2,19910820,1101,-25.9950,-150.4967, 4600,    165.2,  18.4807,  35.5156,2,  35.5168,2,    208.5,2,    213.5,2,     1.49,2,     0.76,2,     0.07,2,     0.18,2,    2.142,2,    1.145,2, -999.000,9,-999.0000,9,  -999.00,9,   -999.0,9,   -999.0,9,   -999.0,9,   -999.0,9,   -999.0,9, -999.00,  -999.0,-999.0000,-999.000, 18.4518,-999.000
   31WTTUNES_2,  P16S,   203,  1,      6,      6,2,19910820,1101,-25.9950,-150.4967, 4600,    226.0,  16.2649,  35.3832,2,  35.3788,2,    198.7,2,    200.7,2,     2.09,2,     4.13,2,     0.01,2,     0.42,2,    1.978,2,    1.030,2, -999.000,9,-999.0000,9,  -999.00,9,   -999.0,9,   -999.0,9,   -999.0,9,   -999.0,9,   -999.0,9, -999.00,  -999.0,-999.0000,-999.000, 16.2286,-999.000
   31WTTUNES_2,  P16S,   203,  1,      7,      7,2,19910820,1101,-25.9950,-150.4967, 4600,    282.9,  14.1953,  35.1712,2,  35.1629,2,    194.2,2,    194.9,2,     2.69,2,     8.33,2,     0.00,2,     0.69,2,    1.657,2,    0.882,2, -999.000,9,-999.0000,9,  -999.00,9,   -999.0,9,   -999.0,9,   -999.0,9,   -999.0,9,   -999.0,9, -999.00,  -999.0,-999.0000,-999.000, 14.1538,-999.000
   31WTTUNES_2,  P16S,   203,  1,     68,     68,2,19910820,1101,-25.9950,-150.4967, 4600,    339.6,  12.2557,  34.9577,2,  34.9304,2,    193.3,2,    194.8,2,     3.91,2,    12.59,2,     0.00,2,     0.95,2,    1.366,2,    0.713,2, -999.000,9,-999.0000,9,  -999.00,9,   -999.0,9,   -999.0,9,   -999.0,9,   -999.0,9,   -999.0,9, -999.00,  -999.0,-999.0000,-999.000, 12.2106,-999.000
   31WTTUNES_2,  P16S,   203,  1,     69,     69,2,19910820,1101,-25.9950,-150.4967, 4600,    400.9,  10.5643,  34.7567,2,  34.7532,2,    200.6,2,    199.2,2,     5.12,2,    15.61,2,     0.00,2,     1.14,2,    1.142,2,    0.608,2, -999.000,9,-999.0000,9,  -999.00,9,   -999.0,9,   -999.0,9,   -999.0,9,   -999.0,9,   -999.0,9, -999.00,  -999.0,-999.0000,-999.000, 10.5158,-999.000
   31WTTUNES_2,  P16S,   203,  1,     70,     70,2,19910820,1101,-25.9950,-150.4967, 4600,    462.7,   9.3107,  34.6190,2,  34.6109,2,    208.2,2,    207.4,2,     6.14,2,    18.03,2,     0.00,2,     1.29,2,    1.015,2,    0.546,2, -999.000,9,-999.0000,9,  -999.00,9,   -999.0,9,   -999.0,9,   -999.0,9,   -999.0,9,   -999.0,9, -999.00,  -999.0,-999.0000,-999.000,  9.2589,-999.000
   31WTTUNES_2,  P16S,   203,  1,     11,     11,2,19910820,1101,-25.9950,-150.4967, 4600,    524.2,   7.8384,  34.4705,2,  34.4670,2,    220.7,6,    223.4,2,     6.95,2,    20.54,2,     0.00,2,     1.44,2,    1.024,2,    0.536,2, -999.000,9,-999.0000,9,  -999.00,9,   -999.0,9,   -999.0,9,   -999.0,9,   -999.0,9,   -999.0,9, -999.00,  -999.0,-999.0000,-999.000,  7.7852,-999.000
   31WTTUNES_2,  P16S,   203,  1,     12,     12,2,19910820,1101,-25.9950,-150.4967, 4600,    590.8,   6.8048,  34.3889,2,  34.3834,2,    233.4,2,    234.2,2,     8.78,2,    22.59,2,     0.00,2,     1.57,2,    0.756,2,    0.411,2, -999.000,9,-999.0000,9,  -999.00,9,   -999.0,9,   -999.0,9,   -999.0,9,   -999.0,9,   -999.0,9, -999.00,  -999.0,-999.0000,-999.000,  6.7494,-999.000
   31WTTUNES_2,  P16S,   203,  1,     13,     13,2,19910820,1101,-25.9950,-150.4967, 4600,    662.0,   6.1942,  34.3425,2,  34.3416,2,    230.5,2,    231.8,2,    12.05,2,    24.45,2,     0.00,2,     1.69,2,    0.459,2,    0.257,2, -999.000,9,-999.0000,9,  -999.00,9,   -999.0,9,   -999.0,9,   -999.0,9,   -999.0,9,   -999.0,9, -999.00,  -999.0,-999.0000,-999.000,  6.1348,-999.000
   31WTTUNES_2,  P16S,   203,  1,     37,     37,2,19910820,1101,-25.9950,-150.4967, 4600,    739.2,   5.7334,  34.3208,2,  34.3212,2,    226.4,2,    225.9,2,    15.52,2,    25.98,2,     0.00,2,     1.79,2,    0.292,2,    0.172,2, -999.000,9,-999.0000,9,  -999.00,9,   -999.0,9,   -999.0,9,   -999.0,9,   -999.0,9,   -999.0,9, -999.00,  -999.0,-999.0000,-999.000,  5.6693,-999.000
   31WTTUNES_2,  P16S,   203,  1,     15,     15,2,19910820,1101,-25.9950,-150.4967, 4600,    820.7,   5.3206,  34.3165,2,  34.3173,2,    218.4,2,    215.6,2,    20.64,2,    27.85,2,     0.00,2,     1.93,2,    0.169,2,    0.105,2, -999.000,9,-999.0000,9,  -999.00,9,   -999.0,9,   -999.0,9,   -999.0,9,   -999.0,9,   -999.0,9, -999.00,  -999.0,-999.0000,-999.000,  5.2515,-999.000
   31WTTUNES_2,  P16S,   203,  1,     16,     16,2,19910820,1101,-25.9950,-150.4967, 4600,    901.5,   4.7849,  34.3273,2,  34.3290,2,    203.2,2,    201.7,2,    29.24,2,    30.02,2,     0.00,2,     2.08,2,    0.074,2,    0.048,2, -999.000,9,-999.0000,9,  -999.00,9,   -999.0,9,   -999.0,9,   -999.0,9,   -999.0,9,   -999.0,9, -999.00,  -999.0,-999.0000,-999.000,  4.7122,-999.000
   31WTTUNES_2,  P16S,   203,  1,     17,     17,2,19910820,1101,-25.9950,-150.4967, 4600,    981.5,   4.4061,  34.3537,2,  34.3547,2,    192.8,2,    189.1,2,    38.67,2,    31.62,2,     0.00,2,     2.18,2,    0.041,2,    0.027,2, -999.000,9,-999.0000,9,  -999.00,9,   -999.0,9,   -999.0,9,   -999.0,9,   -999.0,9,   -999.0,9, -999.00,  -999.0,-999.0000,-999.000,  4.3292,-999.000
   31WTTUNES_2,  P16S,   203,  1,     18,     18,2,19910820,1101,-25.9950,-150.4967, 4600,   1073.3,   4.0144,  34.3869,2,  34.3873,2,    179.2,2,    180.3,2,    48.11,2,    32.84,2,     0.00,2,     2.28,2,    0.018,2,    0.015,2, -999.000,9,-999.0000,9,  -999.00,9,   -999.0,9,   -999.0,9,   -999.0,9,   -999.0,9,   -999.0,9, -999.00,  -999.0,-999.0000,-999.000,  3.9327,-999.000
   31WTTUNES_2,  P16S,   203,  1,     19,     19,2,19910820,1101,-25.9950,-150.4967, 4600,   1175.6,   3.6116,  34.4304,2,  34.4325,2,    172.1,2,    172.5,2,    59.63,2,    33.77,2,     0.00,2,     2.36,2,    0.008,2,    0.009,2, -999.000,9,-999.0000,9,  -999.00,9,   -999.0,9,   -999.0,9,   -999.0,9,   -999.0,9,   -999.0,9, -999.00,  -999.0,-999.0000,-999.000,  3.5248,-999.000
   31WTTUNES_2,  P16S,   203,  1,     20,     20,2,19910820,1101,-25.9950,-150.4967, 4600,   1330.5,   3.0879,  34.4961,2,  34.4959,2,    164.4,2,    162.8,2,    77.17,2,    34.61,2,     0.00,2,     2.41,2, -999.000,9, -999.000,9, -999.000,9,-999.0000,9,  -999.00,9,   -999.0,9,   -999.0,9,   -999.0,9,   -999.0,9,   -999.0,9, -999.00,  -999.0,-999.0000,-999.000,  2.9933,-999.000
   31WTTUNES_2,  P16S,   203,  1,     21,     21,2,19910820,1101,-25.9950,-150.4967, 4600,   1482.8,   2.7432,  34.5413,2,  34.5411,2,    157.8,2,    158.9,2,    88.78,2,    34.81,2,     0.00,2,     2.43,2, -999.000,9, -999.000,9, -999.000,9,-999.0000,9,  -999.00,9,   -999.0,9,   -999.0,9,   -999.0,9,   -999.0,9,   -999.0,9, -999.00,  -999.0,-999.0000,-999.000,  2.6398,-999.000
   31WTTUNES_2,  P16S,   203,  1,     22,     22,2,19910820,1101,-25.9950,-150.4967, 4600,   1637.5,   2.4753,  34.5792,2,  34.5786,2,    156.2,2,    156.3,2,    89.19,4,    34.87,4,     0.00,4,     2.45,4, -999.000,9, -999.000,9, -999.000,9,-999.0000,9,  -999.00,9,   -999.0,9,   -999.0,9,   -999.0,9,   -999.0,9,   -999.0,9, -999.00,  -999.0,-999.0000,-999.000,  2.3625,-999.000
   31WTTUNES_2,  P16S,   203,  1,     23,     23,2,19910820,1101,-25.9950,-150.4967, 4600,   1794.2,   2.3095,  34.6044,2,  34.6031,2,    152.5,2,    153.7,2,   109.04,2,    35.27,2,     0.00,2,     2.47,2, -999.000,9, -999.000,9, -999.000,9,-999.0000,9,  -999.00,9,   -999.0,9,   -999.0,9,   -999.0,9,   -999.0,9,   -999.0,9, -999.00,  -999.0,-999.0000,-999.000,  2.1858,-999.000
   31WTTUNES_2,  P16S,   203,  1,     24,     24,2,19910820,1101,-25.9950,-150.4967, 4600,   1950.1,   2.1366,  34.6271,2,  34.6277,2,    150.3,2,    150.4,2,   117.48,2,    35.33,2,     0.00,2,     2.49,2, -999.000,9, -999.000,9, -999.000,9,-999.0000,9,  -999.00,9,   -999.0,9,   -999.0,9,   -999.0,9,   -999.0,9,   -999.0,9, -999.00,  -999.0,-999.0000,-999.000,  2.0023,-999.000
   31WTTUNES_2,  P16S,   203,  1,     25,     25,2,19910820,1101,-25.9950,-150.4967, 4600,   2157.2,   2.0276,  34.6406,2,  34.6409,2,    149.2,2,    150.5,3,   121.08,3,    35.44,2,     0.00,2,     2.49,2, -999.000,9, -999.000,9, -999.000,9,-999.0000,9,  -999.00,9,   -999.0,9,   -999.0,9,   -999.0,9,   -999.0,9,   -999.0,9, -999.00,  -999.0,-999.0000,-999.000,  1.8774,-999.000
   31WTTUNES_2,  P16S,   203,  1,     26,     26,2,19910820,1101,-25.9950,-150.4967, 4600,   2364.9,   1.9257,  34.6514,2,  34.6511,2,    150.0,2,    148.9,2,   127.46,2,    35.69,2,     0.00,2,     2.51,2, -999.000,9, -999.000,9, -999.000,9,-999.0000,9,  -999.00,9,   -999.0,9,   -999.0,9,   -999.0,9,   -999.0,9,   -999.0,9, -999.00,  -999.0,-999.0000,-999.000,  1.7589,-999.000
   31WTTUNES_2,  P16S,   203,  1,     27,     27,2,19910820,1101,-25.9950,-150.4967, 4600,   2571.2,   1.8418,  34.6586,2,  34.6574,2,    151.4,2,    151.1,2,   130.67,2,    35.70,2,     0.00,2,     2.50,2, -999.000,9, -999.000,9, -999.000,9,-999.0000,9,  -999.00,9,   -999.0,9,   -999.0,9,   -999.0,9,   -999.0,9,   -999.0,9, -999.00,  -999.0,-999.0000,-999.000,  1.6580,-999.000
   31WTTUNES_2,  P16S,   203,  1,     28,     28,2,19910820,1101,-25.9950,-150.4967, 4600,   2780.1,   1.7868,  34.6633,2,  34.6627,2,    154.1,2,    154.5,2,   130.67,2,    35.37,2,     0.00,2,     2.49,2, -999.000,9, -999.000,9, -999.000,9,-999.0000,9,  -999.00,9,   -999.0,9,   -999.0,9,   -999.0,9,   -999.0,9,   -999.0,9, -999.00,  -999.0,-999.0000,-999.000,  1.5847,-999.000
   31WTTUNES_2,  P16S,   203,  1,     29,     29,2,19910820,1101,-25.9950,-150.4967, 4600,   2987.7,   1.7248,  34.6702,2,  34.6678,2,    155.9,2,    157.4,2,   129.39,2,    35.13,2,     0.00,2,     2.46,2, -999.000,9, -999.000,9, -999.000,9,-999.0000,9,  -999.00,9,   -999.0,9,   -999.0,9,   -999.0,9,   -999.0,9,   -999.0,9, -999.00,  -999.0,-999.0000,-999.000,  1.5043,-999.000
   31WTTUNES_2,  P16S,   203,  1,     30,     30,2,19910820,1101,-25.9950,-150.4967, 4600,   3195.9,   1.6529,  34.6754,2,  34.6735,2,    162.4,2,    162.7,2,   129.18,2,    34.84,2,     0.00,2,     2.44,2, -999.000,9, -999.000,9, -999.000,9,-999.0000,9,  -999.00,9,   -999.0,9,   -999.0,9,   -999.0,9,   -999.0,9,   -999.0,9, -999.00,  -999.0,-999.0000,-999.000,  1.4136,-999.000
   31WTTUNES_2,  P16S,   203,  1,     31,     31,2,19910820,1101,-25.9950,-150.4967, 4600,   3455.9,   1.5700,  34.6817,2,  34.6828,2,    169.9,2,    169.4,2,   128.75,2,    34.41,2,     0.00,2,     2.40,2, -999.000,9, -999.000,9, -999.000,9,-999.0000,9,  -999.00,9,   -999.0,9,   -999.0,9,   -999.0,9,   -999.0,9,   -999.0,9, -999.00,  -999.0,-999.0000,-999.000,  1.3066,-999.000
   31WTTUNES_2,  P16S,   203,  1,     32,     32,2,19910820,1101,-25.9950,-150.4967, 4600,   3716.1,   1.4810,  34.6905,2,  34.6900,2,    176.2,2,    176.6,2,   126.40,2,    33.78,2,     0.00,2,     2.36,2, -999.000,9, -999.000,9, -999.000,9,-999.0000,9,  -999.00,9,   -999.0,9,   -999.0,9,   -999.0,9,   -999.0,9,   -999.0,9, -999.00,  -999.0,-999.0000,-999.000,  1.1929,-999.000
   31WTTUNES_2,  P16S,   203,  1,     33,     33,2,19910820,1101,-25.9950,-150.4967, 4600,   3975.4,   1.4021,  34.6961,2,  34.6948,2,    183.4,2,    183.1,2,   124.27,2,    33.30,2,     0.00,2,     2.32,2, -999.000,9, -999.000,9, -999.000,9,-999.0000,9,  -999.00,9,   -999.0,9,   -999.0,9,   -999.0,9,   -999.0,9,   -999.0,9, -999.00,  -999.0,-999.0000,-999.000,  1.0885,-999.000
   31WTTUNES_2,  P16S,   203,  1,     34,     34,2,19910820,1101,-25.9950,-150.4967, 4600,   4235.3,   1.3321,  34.7002,2,  34.7003,2,    189.6,2,    189.6,2,   123.42,2,    32.97,2,     0.00,2,     2.30,2, -999.000,9, -999.000,9, -999.000,9,-999.0000,9,  -999.00,9,   -999.0,9,   -999.0,9,   -999.0,9,   -999.0,9,   -999.0,9, -999.00,  -999.0,-999.0000,-999.000,  0.9921,-999.000
   31WTTUNES_2,  P16S,   203,  1,     39,     39,2,19910820,1101,-25.9950,-150.4967, 4600,   4494.9,   1.2961,  34.7038,2,  34.7024,2,    193.1,2,    193.8,2,   123.21,2,    32.74,2,     0.00,2,     2.27,2, -999.000,9, -999.000,9, -999.000,9,-999.0000,9,  -999.00,9,   -999.0,9,   -999.0,9,   -999.0,9,   -999.0,9,   -999.0,9, -999.00,  -999.0,-999.0000,-999.000,  0.9280,-999.000
   31WTTUNES_2,  P16S,   203,  1,     38,     38,2,19910820,1101,-25.9950,-150.4967, 4600,   4703.7,   1.3161,  34.7037,2,  34.7026,2,    194.9,2,    194.2,2,   122.15,2,    32.60,2,     0.00,2,     2.27,2, -999.000,9, -999.000,9, -999.000,9,-999.0000,9,  -999.00,9,   -999.0,9,   -999.0,9,   -999.0,9,   -999.0,9,   -999.0,9, -999.00,  -999.0,-999.0000,-999.000,  0.9232,-999.000