BOTTLE,20131125MIRCJHATS
EXPOCODE,SECT_ID,STNNBR,CASTNO,SAMPNO,BTLNBR,BTLNBR_FLAG_W,DATE,TIME,LATITUDE,LONGITUDE,DEPTH,CTDPRS,CTDTMP,CTDSAL,CTDSAL_FLAG_W,SALNTY,SALNTY_FLAG_W,CTDOXY,CTDOXY_FLAG_W,OXYGEN,OXYGEN_FLAG_W,SILCAT,SILCAT_FLAG_W,NITRAT,NITRAT_FLAG_W,NITRIT,NITRIT_FLAG_W,PHSPHT,PHSPHT_FLAG_W,CFC-11,CFC-11_FLAG_W,CFC-12,CFC-12_FLAG_W,TRITUM,TRITUM_FLAG_W,HELIUM,HELIUM_FLAG_W,DELHE3,DELHE3_FLAG_W,DELC14,DELC14_FLAG_W,DELC13,DELC13_FLAG_W,TCARBN,TCARBN_FLAG_W,PCO2,PCO2_FLAG_W,ALKALI,ALKALI_FLAG_W,PCO2TMP,C14ERR,HELIER,DELHER,THETA,TRITER
,,,,,,,,,,,,DBAR,ITS-90,PSS-78,,PSS-78,,UMOL/KG,,UMOL/KG,,UMOL/KG,,UMOL/KG,,UMOL/KG,,UMOL/KG,,PMOL/KG,,PMOL/KG,,TU,,NMOL/KG,,PERCNT,,/MILLE,,/MILLE,,UMOL/KG,,UATM,,UMOL/KG,,DEG C,/MILLE,NMOL/KG,PERCNT,DEG C,TU
   31WTTUNES_2,  P17S,   129,  2,      1,      1,2,19910723,0950, -8.5133,-134.9817, 4493,      0.2,  27.6860,  35.3046,2,  35.3070,2,    206.6,3,    208.4,2,     1.88,2,     3.68,2,     0.07,2,     0.45,2,    1.561,2,    0.840,2, -999.000,9,-999.0000,9,  -999.00,9,     77.0,2,      1.5,2,   1988.1,2,    279.9,2,   -999.0,9,   20.00,     4.0,-999.0000,-999.000, 27.6860,-999.000
   31WTTUNES_2,  P17S,   129,  2,      2,      2,2,19910723,0950, -8.5133,-134.9817, 4493,     43.1,  27.6920,  35.3401,2,  35.3794,2,    206.4,2,    208.7,2,     1.68,2,     3.68,2,     0.07,2,     0.45,2, -999.000,5, -999.000,5, -999.000,9,-999.0000,9,  -999.00,9,   -999.0,9,   -999.0,9,   -999.0,9,   -999.0,9,   -999.0,9, -999.00,  -999.0,-999.0000,-999.000, 27.6819,-999.000
   31WTTUNES_2,  P17S,   129,  2,      3,      3,2,19910723,0950, -8.5133,-134.9817, 4493,     67.5,  27.7410,  36.0988,2,  36.1205,2,    203.6,2,    205.7,2,     1.67,2,     1.90,2,     0.03,2,     0.37,2,    1.707,8,    0.911,8, -999.000,9,-999.0000,9,  -999.00,9,     65.8,2,      1.6,2,   -999.0,9,   -999.0,9,   -999.0,9, -999.00,     6.3,-999.0000,-999.000, 27.7252,-999.000
   31WTTUNES_2,  P17S,   129,  2,      4,      4,2,19910723,0950, -8.5133,-134.9817, 4493,     97.9,  26.3246,  36.1520,2,  36.1473,2,    198.8,6,    198.1,2,     1.66,2,     1.98,2,     0.04,2,     0.44,2,    1.812,8,    0.991,8, -999.000,9,-999.0000,9,  -999.00,9,     59.9,2,      1.5,2,   -999.0,9,   -999.0,9,   -999.0,9, -999.00,     9.7,-999.0000,-999.000, 26.3025,-999.000
   31WTTUNES_2,  P17S,   129,  2,      5,      5,2,19910723,0950, -8.5133,-134.9817, 4493,    118.3,  24.4882,  36.0633,2,  36.0612,2,    188.0,2,    188.4,2,     1.65,2,     2.14,2,     0.90,2,     0.61,2,    1.905,2,    1.014,2, -999.000,9,-999.0000,9,  -999.00,9,   -999.0,9,   -999.0,9,   -999.0,9,   -999.0,9,   -999.0,9, -999.00,  -999.0,-999.0000,-999.000, 24.4628,-999.000
   31WTTUNES_2,  P17S,   129,  2,      6,      6,2,19910723,0950, -8.5133,-134.9817, 4493,    144.7,  22.2319,  36.0541,2,  36.0500,2,    179.2,2,    178.2,2,     2.03,2,     3.74,2,     1.37,2,     0.64,2,    2.028,2,    1.073,2, -999.000,9,-999.0000,9,  -999.00,9,    104.2,2,      0.9,3,   -999.0,9,   -999.0,9,   -999.0,9, -999.00,     5.5,-999.0000,-999.000, 22.2029,-999.000
   31WTTUNES_2,  P17S,   129,  2,      7,      7,2,19910723,0950, -8.5133,-134.9817, 4493,    185.3,  19.7417,  35.7407,2,  35.7204,2,    172.4,2,    166.7,2,     2.22,2,     6.91,2,     0.02,2,     0.74,2,    2.001,2,    1.048,2, -999.000,9,-999.0000,9,  -999.00,9,    123.2,2,      1.1,3,   -999.0,9,   -999.0,9,   -999.0,9, -999.00,     3.1,-999.0000,-999.000, 19.7076,-999.000
   31WTTUNES_2,  P17S,   129,  2,      8,      8,2,19910723,0950, -8.5133,-134.9817, 4493,    227.1,  16.2279,  35.2365,2,  35.2187,2,    117.9,2,    117.4,2,     5.91,2,    13.66,2,     0.01,2,     1.27,2,    1.552,8,    0.801,2, -999.000,9,-999.0000,9,  -999.00,9,     82.5,2,      0.8,2,   -999.0,9,   -999.0,9,   -999.0,9, -999.00,     3.7,-999.0000,-999.000, 16.1915,-999.000
   31WTTUNES_2,  P17S,   129,  2,      9,      9,3,19910723,0950, -8.5133,-134.9817, 4493,    267.8,  12.3627,  34.8303,2,  35.4144,4,     31.9,2,    199.6,4,     2.40,4,     4.53,4,     0.12,4,     0.56,4, -999.000,5, -999.000,5, -999.000,9,-999.0000,9,  -999.00,9,   -999.0,9,   -999.0,9,   -999.0,9,   -999.0,9,   -999.0,9, -999.00,  -999.0,-999.0000,-999.000, 12.3270,-999.000
   31WTTUNES_2,  P17S,   129,  2,     10,     10,2,19910723,0950, -8.5133,-134.9817, 4493,    288.4,  11.5609,  34.7922,2,  34.7905,2,     21.8,2,     21.5,2,    23.41,2,    29.93,2,     0.00,2,     2.45,2,    0.181,8,    0.107,2, -999.000,9,-999.0000,9,  -999.00,9,    -43.6,2,      0.0,3,   -999.0,9,   -999.0,9,   -999.0,9, -999.00,     3.6,-999.0000,-999.000, 11.5242,-999.000
   31WTTUNES_2,  P17S,   129,  2,     11,     11,2,19910723,0950, -8.5133,-134.9817, 4493,    349.4,  10.0305,  34.7392,2,  34.7366,2,     51.9,2,     51.9,2,    27.30,2,    32.14,2,     0.00,2,     2.35,2,    0.082,2,    0.051,2, -999.000,9,-999.0000,9,  -999.00,9,    -56.9,2,      0.2,2,   -999.0,9,   -999.0,9,   -999.0,9, -999.00,     3.2,-999.0000,-999.000,  9.9897,-999.000
   31WTTUNES_2,  P17S,   129,  2,     12,     12,2,19910723,0950, -8.5133,-134.9817, 4493,    411.2,   9.1438,  34.6864,2,  34.6853,2,     62.6,2,     62.3,2,    30.40,2,    33.28,2,     0.00,2,     2.38,2,    0.054,2,    0.036,2, -999.000,9,-999.0000,9,  -999.00,9,   -113.3,3,      0.2,2,   -999.0,9,   -999.0,9,   -999.0,9, -999.00,     4.4,-999.0000,-999.000,  9.0983,-999.000
   31WTTUNES_2,  P17S,   129,  2,     13,     13,2,19910723,0950, -8.5133,-134.9817, 4493,    488.7,   8.2782,  34.6363,2,  34.6343,2,     67.0,2,     67.4,2,    35.26,2,    34.78,2,     0.00,2,     2.46,2,    0.026,2,    0.020,8, -999.000,9,-999.0000,9,  -999.00,9,   -118.1,3,      0.2,2,   -999.0,9,   -999.0,9,   -999.0,9, -999.00,     6.3,-999.0000,-999.000,  8.2270,-999.000
   31WTTUNES_2,  P17S,   129,  2,     37,     37,2,19910723,0950, -8.5133,-134.9817, 4493,    563.7,   7.6085,  34.5997,2,  34.5976,2,     68.4,2,     68.7,2,    38.94,2,    36.35,2,     0.00,2,     2.57,2,    0.014,2,    0.011,2, -999.000,9,-999.0000,9,  -999.00,9,   -126.1,2,      0.2,2,   -999.0,9,   -999.0,9,   -999.0,9, -999.00,     4.1,-999.0000,-999.000,  7.5520,-999.000
   31WTTUNES_2,  P17S,   129,  2,     15,     15,2,19910723,0950, -8.5133,-134.9817, 4493,    666.9,   6.5870,  34.5533,2,  34.5516,2,     74.6,2,     74.3,2,    46.72,2,    38.18,2,     0.00,2,     2.71,2,    0.004,2,    0.003,7, -999.000,9,-999.0000,9,  -999.00,9,   -144.9,2,      0.2,2,   -999.0,9,   -999.0,9,   -999.0,9, -999.00,     5.5,-999.0000,-999.000,  6.5249,-999.000
   31WTTUNES_2,  P17S,   129,  2,     16,     16,2,19910723,0950, -8.5133,-134.9817, 4493,    768.5,   5.6574,  34.5312,2,  34.5328,2,     77.7,2,     78.1,2,    58.03,2,    39.50,2,     0.00,2,     2.82,2,    0.002,2,    0.001,2, -999.000,9,-999.0000,9,  -999.00,9,   -161.5,2,      0.1,2,   -999.0,9,   -999.0,9,   -999.0,9, -999.00,     5.4,-999.0000,-999.000,  5.5908,-999.000
   31WTTUNES_2,  P17S,   129,  2,     17,     17,2,19910723,0950, -8.5133,-134.9817, 4493,    871.9,   5.0458,  34.5279,2,  34.5306,2,     86.2,2,     90.8,2,    67.01,2,    39.71,2,     0.00,2,     2.84,2,    0.006,2,    0.009,2, -999.000,9,-999.0000,9,  -999.00,9,   -168.4,2,      0.1,2,   -999.0,9,   -999.0,9,   -999.0,9, -999.00,     5.7,-999.0000,-999.000,  4.9736,-999.000
   31WTTUNES_2,  P17S,   129,  2,     18,     18,2,19910723,0950, -8.5133,-134.9817, 4493,    974.2,   4.4241,  34.5354,2,  34.5373,2,     93.1,2,     95.5,2,    77.97,2,    39.08,2,     0.00,2,     2.81,2,    0.000,7,    0.004,7, -999.000,9,-999.0000,9,  -999.00,9,   -165.4,2,      0.1,2,   -999.0,9,   -999.0,9,   -999.0,9, -999.00,     2.8,-999.0000,-999.000,  4.3474,-999.000
   31WTTUNES_2,  P17S,   129,  2,     19,     19,2,19910723,0950, -8.5133,-134.9817, 4493,   1128.9,   3.8824,  34.5513,2,  34.5546,2,    105.2,2,    105.8,2,    88.79,2,    38.35,2,     0.00,2,     2.76,2, -999.000,9, -999.000,9, -999.000,9,-999.0000,9,  -999.00,9,   -180.5,2,      0.0,2,   -999.0,9,   -999.0,9,   -999.0,9, -999.00,     2.3,-999.0000,-999.000,  3.7969,-999.000
   31WTTUNES_2,  P17S,   129,  2,     20,     20,2,19910723,0950, -8.5133,-134.9817, 4493,   1334.1,   3.3408,  34.5757,2,  34.5774,2,    110.4,2,    111.0,2,   102.06,2,    38.09,2,     0.00,2,     2.75,2, -999.000,9, -999.000,9, -999.000,9,-999.0000,9,  -999.00,9,   -999.0,9,   -999.0,9,   -999.0,9,   -999.0,9,   -999.0,9, -999.00,  -999.0,-999.0000,-999.000,  3.2431,-999.000
   31WTTUNES_2,  P17S,   129,  2,     21,     21,2,19910723,0950, -8.5133,-134.9817, 4493,   1539.0,   2.9300,  34.5968,2,  34.5961,2,    114.4,2,    113.8,2,   113.23,2,    38.09,2,     0.00,2,     2.74,2, -999.000,9, -999.000,9, -999.000,9,-999.0000,9,  -999.00,9,   -999.0,9,   -999.0,9,   -999.0,9,   -999.0,9,   -999.0,9, -999.00,  -999.0,-999.0000,-999.000,  2.8197,-999.000
   31WTTUNES_2,  P17S,   129,  2,     22,     22,2,19910723,0950, -8.5133,-134.9817, 4493,   1745.9,   2.5833,  34.6145,2,  34.6158,2,    121.3,2,    120.2,2,   121.47,2,    37.88,2,     0.00,2,     2.73,2, -999.000,9, -999.000,9, -999.000,9,-999.0000,9,  -999.00,9,   -999.0,9,   -999.0,9,   -999.0,9,   -999.0,9,   -999.0,9, -999.00,  -999.0,-999.0000,-999.000,  2.4599,-999.000
   31WTTUNES_2,  P17S,   129,  2,     23,     23,2,19910723,0950, -8.5133,-134.9817, 4493,   1950.7,   2.3025,  34.6331,2,  34.6340,2,    128.7,2,    128.0,2,   127.13,2,    37.41,2,     0.00,2,     2.67,2, -999.000,9, -999.000,9, -999.000,9,-999.0000,9,  -999.00,9,   -999.0,9,   -999.0,9,   -999.0,9,   -999.0,9,   -999.0,9, -999.00,  -999.0,-999.0000,-999.000,  2.1656,-999.000
   31WTTUNES_2,  P17S,   129,  2,     24,     24,2,19910723,0950, -8.5133,-134.9817, 4493,   2158.8,   2.0826,  34.6494,2,  34.6496,2,    134.0,2,    133.7,2,   131.99,2,    36.99,2,     0.00,2,     2.63,2, -999.000,9, -999.000,9, -999.000,9,-999.0000,9,  -999.00,9,   -999.0,9,   -999.0,9,   -999.0,9,   -999.0,9,   -999.0,9, -999.00,  -999.0,-999.0000,-999.000,  1.9313,-999.000
   31WTTUNES_2,  P17S,   129,  2,     25,     25,2,19910723,0950, -8.5133,-134.9817, 4493,   2362.9,   1.9257,  34.6618,2,  34.6620,2,    137.1,2,    135.8,2,   137.71,2,    36.79,2,     0.00,2,     2.61,2, -999.000,9, -999.000,9, -999.000,9,-999.0000,9,  -999.00,9,   -999.0,9,   -999.0,9,   -999.0,9,   -999.0,9,   -999.0,9, -999.00,  -999.0,-999.0000,-999.000,  1.7591,-999.000
   31WTTUNES_2,  P17S,   129,  2,     26,     26,2,19910723,0950, -8.5133,-134.9817, 4493,   2567.6,   1.8398,  34.6694,2,  34.6697,2,    141.0,2,    139.5,2,   139.94,2,    36.47,2,     0.00,2,     2.58,2, -999.000,9, -999.000,9, -999.000,9,-999.0000,9,  -999.00,9,   -999.0,9,   -999.0,9,   -999.0,9,   -999.0,9,   -999.0,9, -999.00,  -999.0,-999.0000,-999.000,  1.6563,-999.000
   31WTTUNES_2,  P17S,   129,  2,     27,     27,2,19910723,0950, -8.5133,-134.9817, 4493,   2773.8,   1.7878,  34.6734,2,  34.6742,2,    142.8,2,    141.5,2,   141.98,2,    36.32,2,     0.00,2,     2.58,2, -999.000,9, -999.000,9, -999.000,9,-999.0000,9,  -999.00,9,   -999.0,9,   -999.0,9,   -999.0,9,   -999.0,9,   -999.0,9, -999.00,  -999.0,-999.0000,-999.000,  1.5863,-999.000
   31WTTUNES_2,  P17S,   129,  2,     28,     28,2,19910723,0950, -8.5133,-134.9817, 4493,   2979.9,   1.7149,  34.6779,2,  34.6782,2,    150.9,2,    151.1,2,   139.87,2,    35.75,2,     0.00,2,     2.52,2,    0.095,4,    0.000,2, -999.000,9,-999.0000,9,  -999.00,9,   -999.0,9,   -999.0,9,   -999.0,9,   -999.0,9,   -999.0,9, -999.00,  -999.0,-999.0000,-999.000,  1.4953,-999.000
   31WTTUNES_2,  P17S,   129,  2,     29,     29,2,19910723,0950, -8.5133,-134.9817, 4493,   3186.1,   1.6209,  34.6816,2,-999.0000,9,    158.0,2,   -999.0,9,  -999.00,9,  -999.00,9,  -999.00,9,  -999.00,9, -999.000,9, -999.000,9, -999.000,9,-999.0000,9,  -999.00,9,   -999.0,9,   -999.0,9,   -999.0,9,   -999.0,9,   -999.0,9, -999.00,  -999.0,-999.0000,-999.000,  1.3833,-999.000
   31WTTUNES_2,  P17S,   129,  2,     30,     30,2,19910723,0950, -8.5133,-134.9817, 4493,   3393.1,   1.5700,  34.6848,2,  34.6862,2,    158.1,2,    158.5,2,   140.67,2,    35.33,2,     0.00,2,     2.49,2,    0.001,2,    0.000,2, -999.000,9,-999.0000,9,  -999.00,9,   -999.0,9,   -999.0,9,   -999.0,9,   -999.0,9,   -999.0,9, -999.00,  -999.0,-999.0000,-999.000,  1.3129,-999.000
   31WTTUNES_2,  P17S,   129,  2,     31,     31,2,19910723,0950, -8.5133,-134.9817, 4493,   3597.9,   1.5230,  34.6885,2,  34.6890,2,    163.8,2,    164.1,2,   138.77,2,    35.03,2,     0.00,2,     2.47,2, -999.000,9, -999.000,9, -999.000,9,-999.0000,9,  -999.00,9,   -999.0,9,   -999.0,9,   -999.0,9,   -999.0,9,   -999.0,9, -999.00,  -999.0,-999.0000,-999.000,  1.2462,-999.000
   31WTTUNES_2,  P17S,   129,  2,     32,     32,2,19910723,0950, -8.5133,-134.9817, 4493,   3800.1,   1.4900,  34.6886,2,  34.6892,2,    163.3,2,    162.8,2,   142.25,2,    35.18,2,     0.00,2,     2.47,2, -999.000,9, -999.000,9, -999.000,9,-999.0000,9,  -999.00,9,   -999.0,9,   -999.0,9,   -999.0,9,   -999.0,9,   -999.0,9, -999.00,  -999.0,-999.0000,-999.000,  1.1928,-999.000
   31WTTUNES_2,  P17S,   129,  2,     33,     33,2,19910723,0950, -8.5133,-134.9817, 4493,   4004.3,   1.4470,  34.6911,2,  34.6930,2,    166.8,2,    167.0,2,   140.98,2,    34.93,2,     0.00,2,     2.44,2, -999.000,9, -999.000,9, -999.000,9,-999.0000,9,  -999.00,9,   -999.0,9,   -999.0,9,   -999.0,9,   -999.0,9,   -999.0,9, -999.00,  -999.0,-999.0000,-999.000,  1.1291,-999.000
   31WTTUNES_2,  P17S,   129,  2,     34,     34,2,19910723,0950, -8.5133,-134.9817, 4493,   4211.1,   1.4350,  34.6930,2,-999.0000,9,    170.5,2,   -999.0,9,  -999.00,9,  -999.00,9,  -999.00,9,  -999.00,9, -999.000,9, -999.000,9, -999.000,9,-999.0000,9,  -999.00,9,   -999.0,9,   -999.0,9,   -999.0,9,   -999.0,9,   -999.0,9, -999.00,  -999.0,-999.0000,-999.000,  1.0947,-999.000
   31WTTUNES_2,  P17S,   129,  2,     35,     35,2,19910723,0950, -8.5133,-134.9817, 4493,   4422.1,   1.4470,  34.6937,2,  34.6941,2,    171.5,2,    171.4,2,   138.88,2,    34.62,2,     0.00,2,     2.41,2, -999.000,9, -999.000,9, -999.000,9,-999.0000,9,  -999.00,9,   -999.0,9,   -999.0,9,   -999.0,9,   -999.0,9,   -999.0,9, -999.00,  -999.0,-999.0000,-999.000,  1.0826,-999.000
   31WTTUNES_2,  P17S,   129,  2,     36,     36,2,19910723,0950, -8.5133,-134.9817, 4493,   4570.4,   1.4630,  34.6949,2,  34.6957,2,    171.0,2,    171.2,2,   138.43,2,    34.57,2,     0.00,2,     2.41,2, -999.000,9, -999.000,9, -999.000,9,-999.0000,9,  -999.00,9,   -999.0,9,   -999.0,9,   -999.0,9,   -999.0,9,   -999.0,9, -999.00,  -999.0,-999.0000,-999.000,  1.0810,-999.000