BOTTLE,20131125MIRCJHATS
EXPOCODE,SECT_ID,STNNBR,CASTNO,SAMPNO,BTLNBR,BTLNBR_FLAG_W,DATE,TIME,LATITUDE,LONGITUDE,DEPTH,CTDPRS,CTDTMP,CTDSAL,CTDSAL_FLAG_W,SALNTY,SALNTY_FLAG_W,CTDOXY,CTDOXY_FLAG_W,OXYGEN,OXYGEN_FLAG_W,SILCAT,SILCAT_FLAG_W,NITRAT,NITRAT_FLAG_W,NITRIT,NITRIT_FLAG_W,PHSPHT,PHSPHT_FLAG_W,CFC-11,CFC-11_FLAG_W,CFC-12,CFC-12_FLAG_W,TRITUM,TRITUM_FLAG_W,HELIUM,HELIUM_FLAG_W,DELHE3,DELHE3_FLAG_W,DELC14,DELC14_FLAG_W,DELC13,DELC13_FLAG_W,TCARBN,TCARBN_FLAG_W,PCO2,PCO2_FLAG_W,ALKALI,ALKALI_FLAG_W,PCO2TMP,C14ERR,HELIER,DELHER,THETA,TRITER
,,,,,,,,,,,,DBAR,ITS-90,PSS-78,,PSS-78,,UMOL/KG,,UMOL/KG,,UMOL/KG,,UMOL/KG,,UMOL/KG,,UMOL/KG,,PMOL/KG,,PMOL/KG,,TU,,NMOL/KG,,PERCNT,,/MILLE,,/MILLE,,UMOL/KG,,UATM,,UMOL/KG,,DEG C,/MILLE,NMOL/KG,PERCNT,DEG C,TU
   31WTTUNES_2,  P17S,   148,  1,      1,      1,2,19910729,1145,-17.8317,-133.3633, 3964,      2.0,  25.7674,  36.4794,2,  36.4800,2,   -999.0,9,    209.1,2,     1.52,2,     0.05,2,     0.00,2,     0.20,2,    1.693,2,    0.940,2, -999.000,9,-999.0000,9,  -999.00,9,   -999.0,9,   -999.0,9,   2029.0,2,    258.6,2,   2406.8,2,   20.00,  -999.0,-999.0000,-999.000, 25.7669,-999.000
   31WTTUNES_2,  P17S,   148,  1,      2,      2,2,19910729,1145,-17.8317,-133.3633, 3964,     32.7,  25.7654,  36.4731,3,  36.4780,2,    207.1,6,    209.0,2,     1.52,2,     0.05,2,     0.00,2,     0.19,2,    1.699,2,    0.946,2, -999.000,9,-999.0000,9,  -999.00,9,   -999.0,9,   -999.0,9,   2027.9,2,    259.0,2,   -999.0,9,   20.00,  -999.0,-999.0000,-999.000, 25.7581,-999.000
   31WTTUNES_2,  P17S,   148,  1,      3,      3,2,19910729,1145,-17.8317,-133.3633, 3964,     73.1,  25.7773,  36.4754,2,  36.4763,2,    211.6,2,    208.7,2,     1.51,2,     0.05,2,     0.00,2,     0.19,2,    1.715,2,    0.938,2, -999.000,9,-999.0000,9,  -999.00,9,   -999.0,9,   -999.0,9,   2028.9,2,    259.9,2,   2396.7,2,   20.00,  -999.0,-999.0000,-999.000, 25.7610,-999.000
   31WTTUNES_2,  P17S,   148,  1,      4,      4,2,19910729,1145,-17.8317,-133.3633, 3964,    104.4,  25.7494,  36.4952,2,  36.4806,2,    215.3,2,    210.7,2,     1.51,2,     0.05,2,     0.00,2,     0.19,2,    1.714,2,    0.943,2, -999.000,9,-999.0000,9,  -999.00,9,   -999.0,9,   -999.0,9,   2033.8,2,    265.5,2,   -999.0,9,   20.00,  -999.0,-999.0000,-999.000, 25.7261,-999.000
   31WTTUNES_2,  P17S,   148,  1,      5,      5,2,19910729,1145,-17.8317,-133.3633, 3964,    134.9,  24.3913,  36.3033,2,  36.3297,2,    206.4,2,    201.9,2,     1.50,2,     0.00,2,     0.22,2,     0.23,2,    1.791,2,    0.982,2, -999.000,9,-999.0000,9,  -999.00,9,   -999.0,9,   -999.0,9,   2047.2,2,    291.4,2,   2384.4,2,   20.00,  -999.0,-999.0000,-999.000, 24.3624,-999.000
   31WTTUNES_2,  P17S,   148,  1,      6,      6,2,19910729,1145,-17.8317,-133.3633, 3964,    175.9,  22.3734,  36.1968,2,  36.1961,2,    189.4,2,    188.6,2,     1.30,2,     1.55,2,     0.15,2,     0.36,2,    1.764,2,    0.988,2, -999.000,9,-999.0000,9,  -999.00,9,   -999.0,9,   -999.0,9,   2073.3,2,    341.9,2,   -999.0,9,   20.00,  -999.0,-999.0000,-999.000, 22.3380,-999.000
   31WTTUNES_2,  P17S,   148,  1,      7,      7,2,19910729,1145,-17.8317,-133.3633, 3964,    217.1,  21.1663,  36.0166,2,  36.0349,2,    187.2,2,    186.4,2,     1.30,2,     2.50,2,     0.01,2,     0.40,2,    1.829,2,    0.969,2, -999.000,9,-999.0000,9,  -999.00,9,   -999.0,9,   -999.0,9,   2079.6,2,    365.1,2,   2359.8,2,   20.00,  -999.0,-999.0000,-999.000, 21.1242,-999.000
   31WTTUNES_2,  P17S,   148,  1,      8,      8,2,19910729,1145,-17.8317,-133.3633, 3964,    258.6,  19.4685,  35.7412,2,  35.7180,2,    185.4,2,    185.0,2,     1.30,2,     3.23,2,     0.01,2,     0.45,2,    1.797,2,    0.955,2, -999.000,9,-999.0000,9,  -999.00,9,   -999.0,9,   -999.0,9,   2081.2,2,    391.5,2,   -999.0,9,   20.00,  -999.0,-999.0000,-999.000, 19.4213,-999.000
   31WTTUNES_2,  P17S,   148,  1,      9,      9,2,19910729,1145,-17.8317,-133.3633, 3964,    310.0,  16.5466,  35.1865,2,  35.2395,2,    183.6,2,    183.9,2,     2.84,2,     5.69,2,     0.01,2,     0.60,2,    1.670,2,    0.872,2, -999.000,9,-999.0000,9,  -999.00,9,   -999.0,9,   -999.0,9,   2081.9,2,    449.8,2,   2308.0,2,   20.00,  -999.0,-999.0000,-999.000, 16.4961,-999.000
   31WTTUNES_2,  P17S,   148,  1,     10,     10,2,19910729,1145,-17.8317,-133.3633, 3964,    360.8,  13.5231,  34.8534,2,  34.8425,2,    166.6,2,    169.0,2,     4.58,2,    11.70,2,     0.00,2,     1.03,2,    1.249,2,    0.653,2, -999.000,9,-999.0000,9,  -999.00,9,   -999.0,9,   -999.0,9,   2111.7,2,    588.4,2,   -999.0,9,   20.00,  -999.0,-999.0000,-999.000, 13.4719,-999.000
   31WTTUNES_2,  P17S,   148,  1,     11,     11,2,19910729,1145,-17.8317,-133.3633, 3964,    411.8,  10.3130,  34.5775,2,  34.5526,2,    141.8,2,    146.6,2,     9.61,2,    20.28,2,     0.00,2,     1.62,2,    0.689,2,    0.376,2, -999.000,9,-999.0000,9,  -999.00,9,   -999.0,9,   -999.0,9,   2153.9,2,    829.8,2,   2272.6,2,   20.00,  -999.0,-999.0000,-999.000, 10.2640,-999.000
   31WTTUNES_2,  P17S,   148,  1,     12,     12,2,19910729,1145,-17.8317,-133.3633, 3964,    463.1,   8.3819,  34.4431,2,  34.4330,2,    132.3,2,    132.8,2,    15.21,2,    27.79,2,     0.00,2,     2.06,2,    0.289,2,    0.169,2, -999.000,9,-999.0000,9,  -999.00,9,   -999.0,9,   -999.0,9,   2188.8,2,   1078.0,2,   -999.0,9,   20.00,  -999.0,-999.0000,-999.000,  8.3333,-999.000
   31WTTUNES_2,  P17S,   148,  1,     13,     13,2,19910729,1145,-17.8317,-133.3633, 3964,    514.6,   7.2830,  34.3996,2,  34.3910,2,    142.7,2,    144.0,2,    17.14,2,    30.05,2,     0.00,2,     2.15,2,    0.166,2,    0.110,2, -999.000,9,-999.0000,9,  -999.00,9,   -999.0,9,   -999.0,9,   2194.0,2,   1106.0,2,   2261.1,2,   20.00,  -999.0,-999.0000,-999.000,  7.2331,-999.000
   31WTTUNES_2,  P17S,   148,  1,     37,     37,2,19910729,1145,-17.8317,-133.3633, 3964,    565.2,   6.3945,  34.3674,2,  34.3659,2,    157.0,2,    158.9,2,    20.03,2,    30.87,2,     0.00,2,     2.16,2,    0.074,2,    0.066,2, -999.000,9,-999.0000,9,  -999.00,9,   -999.0,9,   -999.0,9,   2191.2,2,   1075.6,2,   -999.0,9,   20.00,  -999.0,-999.0000,-999.000,  6.3432,-999.000
   31WTTUNES_2,  P17S,   148,  1,     15,     15,2,19910729,1145,-17.8317,-133.3633, 3964,    616.6,   5.8267,  34.3569,2,  34.3547,2,    161.5,2,    162.8,2,    23.88,2,    31.78,2,     0.00,2,     2.21,2,    0.048,2,    0.038,2, -999.000,9,-999.0000,9,  -999.00,9,   -999.0,9,   -999.0,9,   2193.2,2,   1087.2,2,   2266.6,2,   20.00,  -999.0,-999.0000,-999.000,  5.7733,-999.000
   31WTTUNES_2,  P17S,   148,  1,     16,     16,2,19910729,1145,-17.8317,-133.3633, 3964,    667.2,   5.4938,  34.3726,2,  34.3730,2,    153.3,2,    150.7,2,    30.44,2,    33.59,2,     0.00,2,     2.34,2,    0.019,2,    0.015,2, -999.000,9,-999.0000,9,  -999.00,9,   -999.0,9,   -999.0,9,   2210.0,2,   1153.5,2,   -999.0,9,   20.00,  -999.0,-999.0000,-999.000,  5.4375,-999.000
   31WTTUNES_2,  P17S,   148,  1,     17,     17,2,19910729,1145,-17.8317,-133.3633, 3964,    719.8,   5.2713,  34.3891,2,  34.3883,2,    140.3,2,    142.7,2,    35.45,2,    34.56,2,     0.00,2,     2.43,2,    0.011,2,    0.010,2, -999.000,9,-999.0000,9,  -999.00,9,   -999.0,9,   -999.0,9,   2220.3,2,   1190.2,2,   2278.5,2,   20.00,  -999.0,-999.0000,-999.000,  5.2115,-999.000
   31WTTUNES_2,  P17S,   148,  1,     18,     18,2,19910729,1145,-17.8317,-133.3633, 3964,    821.7,   4.8925,  34.4437,2,  34.4421,2,    127.1,2,    128.1,2,    50.13,2,    36.12,2,     0.00,2,     2.55,2,    0.003,2,    0.005,7, -999.000,9,-999.0000,9,  -999.00,9,   -999.0,9,   -999.0,9,   2240.5,2,   1264.1,2,   -999.0,9,   20.00,  -999.0,-999.0000,-999.000,  4.8258,-999.000
   31WTTUNES_2,  P17S,   148,  1,     19,     19,2,19910729,1145,-17.8317,-133.3633, 3964,    924.9,   4.5843,  34.4892,2,  34.4857,2,    123.1,2,    123.5,2,    61.92,2,    36.52,2,     0.00,2,     2.58,2, -999.000,9, -999.000,9, -999.000,9,-999.0000,9,  -999.00,9,   -999.0,9,   -999.0,9,   2256.7,2,   1284.1,2,   2305.9,2,   20.00,  -999.0,-999.0000,-999.000,  4.5107,-999.000
   31WTTUNES_2,  P17S,   148,  1,     20,     20,2,19910729,1145,-17.8317,-133.3633, 3964,   1026.5,   4.2620,  34.5052,2,  34.5071,2,    125.1,2,    124.3,2,    69.85,2,    36.55,2,     0.00,2,     2.59,2, -999.000,9, -999.000,9, -999.000,9,-999.0000,9,  -999.00,9,   -999.0,9,   -999.0,9,   2261.8,2,   1288.4,2,   -999.0,9,   20.00,  -999.0,-999.0000,-999.000,  4.1821,-999.000
   31WTTUNES_2,  P17S,   148,  1,     21,     21,2,19910729,1145,-17.8317,-133.3633, 3964,   1128.2,   3.9025,  34.5226,2,  34.5226,2,    125.0,2,    125.0,2,    77.80,2,    36.74,2,     0.00,2,     2.61,2, -999.000,9, -999.000,9, -999.000,9,-999.0000,9,  -999.00,9,   -999.0,9,   -999.0,9,   2276.0,2,   1303.7,2,   2322.8,2,   20.00,  -999.0,-999.0000,-999.000,  3.8169,-999.000
   31WTTUNES_2,  P17S,   148,  1,     22,     22,2,19910729,1145,-17.8317,-133.3633, 3964,   1281.2,   3.4479,  34.5444,2,  34.5436,2,    128.9,2,    129.7,2,    88.32,2,    36.67,2,     0.00,2,     2.61,2, -999.000,9, -999.000,9, -999.000,9,-999.0000,9,  -999.00,9,   -999.0,9,   -999.0,9,   2287.9,2,   1287.0,2,   -999.0,9,   20.00,  -999.0,-999.0000,-999.000,  3.3536,-999.000
   31WTTUNES_2,  P17S,   148,  1,     23,     23,2,19910729,1145,-17.8317,-133.3633, 3964,   1434.8,   3.0438,  34.5596,2,  34.5609,2,    138.3,2,    137.1,2,    94.75,2,    36.39,2,     0.00,2,     2.58,2, -999.000,9, -999.000,9, -999.000,9,-999.0000,9,  -999.00,9,   -999.0,9,   -999.0,9,   2282.5,2,   1258.0,2,   2342.9,2,   20.00,  -999.0,-999.0000,-999.000,  2.9410,-999.000
   31WTTUNES_2,  P17S,   148,  1,     24,     24,2,19910729,1145,-17.8317,-133.3633, 3964,   1639.6,   2.5998,  34.5935,2,  34.5939,2,    139.5,2,    138.6,2,   107.14,2,    36.43,2,     0.00,2,     2.58,2, -999.000,9, -999.000,9, -999.000,9,-999.0000,9,  -999.00,9,   -999.0,9,   -999.0,9,   2296.9,2,   1256.5,2,   -999.0,9,   20.00,  -999.0,-999.0000,-999.000,  2.4851,-999.000
   31WTTUNES_2,  P17S,   148,  1,     25,     25,2,19910729,1145,-17.8317,-133.3633, 3964,   1844.8,   2.2702,  34.6159,2,  34.6179,2,    146.9,2,    147.4,2,   113.65,2,    35.83,2,     0.00,2,     2.52,2, -999.000,9, -999.000,9, -999.000,9,-999.0000,9,  -999.00,9,   -999.0,9,   -999.0,9,   2297.7,2,   1212.3,2,   2359.0,2,   20.00,  -999.0,-999.0000,-999.000,  2.1428,-999.000
   31WTTUNES_2,  P17S,   148,  1,     26,     26,2,19910729,1145,-17.8317,-133.3633, 3964,   2050.5,   2.0647,  34.6390,2,  34.6397,2,    150.2,2,    149.9,2,   119.60,2,    35.60,2,     0.00,2,     2.50,2, -999.000,9, -999.000,9, -999.000,9,-999.0000,9,  -999.00,9,   -999.0,9,   -999.0,9,   2304.3,2,   1205.7,2,   -999.0,9,   20.00,  -999.0,-999.0000,-999.000,  1.9230,-999.000
   31WTTUNES_2,  P17S,   148,  1,     27,     27,2,19910729,1145,-17.8317,-133.3633, 3964,   2257.0,   1.9316,  34.6534,2,  34.6539,2,    151.9,2,    152.5,2,   123.56,2,    35.32,2,     0.00,2,     2.48,2, -999.000,9, -999.000,9, -999.000,9,-999.0000,9,  -999.00,9,   -999.0,9,   -999.0,9,   2305.7,2,   1182.2,2,   2371.1,2,   20.00,  -999.0,-999.0000,-999.000,  1.7742,-999.000
   31WTTUNES_2,  P17S,   148,  1,     28,     28,2,19910729,1145,-17.8317,-133.3633, 3964,   2463.6,   1.8587,  34.6622,2,  34.6617,2,    153.3,2,    153.4,2,   127.13,2,    35.31,2,     0.00,2,     2.47,2, -999.000,9, -999.000,9, -999.000,9,-999.0000,9,  -999.00,9,   -999.0,9,   -999.0,9,   2305.3,2,   1179.7,2,   -999.0,9,   20.00,  -999.0,-999.0000,-999.000,  1.6843,-999.000
   31WTTUNES_2,  P17S,   148,  1,     29,     29,2,19910729,1145,-17.8317,-133.3633, 3964,   2669.8,   1.7865,  34.6683,2,  34.6674,2,    154.1,2,    154.9,2,   129.90,2,    35.24,2,     0.00,2,     2.47,2, -999.000,9, -999.000,9, -999.000,9,-999.0000,9,  -999.00,9,   -999.0,9,   -999.0,9,   2309.1,2,   1171.0,2,   2375.9,2,   20.00,  -999.0,-999.0000,-999.000,  1.5947,-999.000
   31WTTUNES_2,  P17S,   148,  1,     30,     30,2,19910729,1145,-17.8317,-133.3633, 3964,   2876.7,   1.7306,  34.6731,2,  34.6729,2,    155.8,2,    157.3,2,   131.66,2,    35.22,2,     0.00,2,     2.47,2, -999.000,9, -999.000,9, -999.000,9,-999.0000,9,  -999.00,9,   -999.0,9,   -999.0,9,   2309.1,2,   1152.8,2,   -999.0,9,   20.00,  -999.0,-999.0000,-999.000,  1.5206,-999.000
   31WTTUNES_2,  P17S,   148,  1,     31,     31,2,19910729,1145,-17.8317,-133.3633, 3964,   3083.7,   1.6815,  34.6770,2,  34.6780,2,    158.9,2,    159.8,2,   132.62,2,    35.15,2,     0.00,2,     2.46,2, -999.000,9, -999.000,9, -999.000,9,-999.0000,9,  -999.00,9,   -999.0,9,   -999.0,9,   2308.9,2,   1147.3,2,   2388.5,2,   20.00,  -999.0,-999.0000,-999.000,  1.4526,-999.000
   31WTTUNES_2,  P17S,   148,  1,     32,     32,2,19910729,1145,-17.8317,-133.3633, 3964,   3290.7,   1.6335,  34.6808,2,  34.6802,2,    161.4,2,    160.9,2,   134.59,2,    34.98,2,     0.00,2,     2.45,2, -999.000,9, -999.000,9, -999.000,9,-999.0000,9,  -999.00,9,   -999.0,9,   -999.0,9,   2313.9,2,   1139.7,2,   -999.0,9,   20.00,  -999.0,-999.0000,-999.000,  1.3853,-999.000
   31WTTUNES_2,  P17S,   148,  1,     33,     33,2,19910729,1145,-17.8317,-133.3633, 3964,   3499.1,   1.6070,  34.6834,2,  34.6826,2,    161.1,2,    161.9,2,   135.54,2,    34.96,2,     0.00,2,     2.44,2, -999.000,9, -999.000,9, -999.000,9,-999.0000,9,  -999.00,9,   -999.0,9,   -999.0,9,   2310.4,2,   1129.4,2,   2389.3,2,   20.00,  -999.0,-999.0000,-999.000,  1.3383,-999.000
   31WTTUNES_2,  P17S,   148,  1,     34,     34,2,19910729,1145,-17.8317,-133.3633, 3964,   3706.4,   1.5732,  34.6866,2,  34.6859,2,    162.9,2,    164.8,2,   135.08,2,    34.68,2,     0.00,2,     2.43,2, -999.000,9, -999.000,9, -999.000,9,-999.0000,9,  -999.00,9,   -999.0,9,   -999.0,9,   2309.5,2,   1119.0,2,   -999.0,9,   20.00,  -999.0,-999.0000,-999.000,  1.2837,-999.000
   31WTTUNES_2,  P17S,   148,  1,     35,     35,2,19910729,1145,-17.8317,-133.3633, 3964,   3914.9,   1.5327,  34.6891,2,  34.6881,2,    167.6,2,    168.6,2,   134.20,2,    34.41,2,     0.00,2,     2.41,2, -999.000,9, -999.000,9, -999.000,9,-999.0000,9,  -999.00,9,   -999.0,9,   -999.0,9,   2306.7,2,   1115.5,2,   2380.3,2,   20.00,  -999.0,-999.0000,-999.000,  1.2221,-999.000
   31WTTUNES_2,  P17S,   148,  1,     36,     36,3,19910729,1145,-17.8317,-133.3633, 3964,   4012.8,   1.5070,  34.6911,2,  34.6899,2,    170.7,2,    171.0,2,   132.72,2,    34.34,2,     0.00,2,     2.40,2, -999.000,9, -999.000,9, -999.000,9,-999.0000,9,  -999.00,9,   -999.0,9,   -999.0,9,   2305.5,2,   1108.9,2,   -999.0,9,   20.00,  -999.0,-999.0000,-999.000,  1.1865,-999.000