BOTTLE,20131125MIRCJHATS
EXPOCODE,SECT_ID,STNNBR,CASTNO,SAMPNO,BTLNBR,BTLNBR_FLAG_W,DATE,TIME,LATITUDE,LONGITUDE,DEPTH,CTDPRS,CTDTMP,CTDSAL,CTDSAL_FLAG_W,SALNTY,SALNTY_FLAG_W,CTDOXY,CTDOXY_FLAG_W,OXYGEN,OXYGEN_FLAG_W,SILCAT,SILCAT_FLAG_W,NITRAT,NITRAT_FLAG_W,NITRIT,NITRIT_FLAG_W,PHSPHT,PHSPHT_FLAG_W,CFC-11,CFC-11_FLAG_W,CFC-12,CFC-12_FLAG_W,TRITUM,TRITUM_FLAG_W,HELIUM,HELIUM_FLAG_W,DELHE3,DELHE3_FLAG_W,DELC14,DELC14_FLAG_W,DELC13,DELC13_FLAG_W,TCARBN,TCARBN_FLAG_W,PCO2,PCO2_FLAG_W,ALKALI,ALKALI_FLAG_W,PCO2TMP,C14ERR,HELIER,DELHER,THETA,TRITER
,,,,,,,,,,,,DBAR,ITS-90,PSS-78,,PSS-78,,UMOL/KG,,UMOL/KG,,UMOL/KG,,UMOL/KG,,UMOL/KG,,UMOL/KG,,PMOL/KG,,PMOL/KG,,TU,,NMOL/KG,,PERCNT,,/MILLE,,/MILLE,,UMOL/KG,,UATM,,UMOL/KG,,DEG C,/MILLE,NMOL/KG,PERCNT,DEG C,TU
   31WTTUNES_2,  P16S,   184,  1,     61,     61,2,19910813,2217,-35.4850,-150.5083, 5400,      6.7,  14.2979,  34.9175,2,  34.9177,2,      2.6,4,    252.3,2,     1.27,2,     0.29,2,     0.04,2,     0.20,2,    2.868,6,    1.466,6, -999.000,9,-999.0000,9,  -999.00,9,    107.4,2,      1.6,2,   2043.0,2,    393.2,2,   -999.0,9,   20.00,     3.8,-999.0000,-999.000, 14.2969,-999.000
   31WTTUNES_2,  P16S,   184,  1,      2,      2,2,19910813,2217,-35.4850,-150.5083, 5400,     51.9,  14.2859,  34.9162,2,  34.9160,2,      3.0,4,    252.2,2,     1.07,2,     0.29,2,     0.04,2,     0.20,2,    2.858,6,    1.476,6, -999.000,9,-999.0000,9,  -999.00,9,   -999.0,9,   -999.0,9,   -999.0,9,   -999.0,9,   -999.0,9, -999.00,  -999.0,-999.0000,-999.000, 14.2783,-999.000
   31WTTUNES_2,  P16S,   184,  1,      3,      3,2,19910813,2217,-35.4850,-150.5083, 5400,     98.7,  14.2899,  34.9174,2,  34.9154,2,    252.9,2,    252.2,2,     1.07,2,     0.29,2,     0.04,2,     0.20,2,    2.862,2,    1.479,2, -999.000,9,-999.0000,9,  -999.00,9,   -999.0,9,   -999.0,9,   -999.0,9,   -999.0,9,   -999.0,9, -999.00,  -999.0,-999.0000,-999.000, 14.2755,-999.000
   31WTTUNES_2,  P16S,   184,  1,     64,     64,2,19910813,2217,-35.4850,-150.5083, 5400,    144.0,  12.8483,  34.7847,2,  34.7865,2,    229.6,2,    238.5,2,     1.27,2,     3.91,2,     0.19,2,     0.46,2,    2.809,2,    1.440,2, -999.000,9,-999.0000,9,  -999.00,9,   -999.0,9,   -999.0,9,   -999.0,9,   -999.0,9,   -999.0,9, -999.00,  -999.0,-999.0000,-999.000, 12.8287,-999.000
   31WTTUNES_2,  P16S,   184,  1,      5,      5,2,19910813,2217,-35.4850,-150.5083, 5400,    190.0,  11.3429,  34.7265,2,  34.7238,2,    219.0,2,    221.0,2,     2.05,2,    10.07,2,     0.01,2,     0.80,2,    2.503,2,    1.258,2, -999.000,9,-999.0000,9,  -999.00,9,     76.0,2,      1.4,2,   -999.0,9,   -999.0,9,   -999.0,9, -999.00,     3.9,-999.0000,-999.000, 11.3190,-999.000
   31WTTUNES_2,  P16S,   184,  1,      6,      6,2,19910813,2217,-35.4850,-150.5083, 5400,    239.3,   9.8305,  34.6240,2,  34.6426,2,    216.0,2,    218.7,2,     3.23,2,    13.78,2,     0.01,2,     1.02,2,    2.234,8,    1.134,2, -999.000,9,-999.0000,9,  -999.00,9,   -999.0,9,   -999.0,9,   -999.0,9,   -999.0,9,   -999.0,9, -999.00,  -999.0,-999.0000,-999.000,  9.8031,-999.000
   31WTTUNES_2,  P16S,   184,  1,      7,      7,2,19910813,2217,-35.4850,-150.5083, 5400,    288.8,   8.8589,  34.5587,2,  34.5578,2,    223.9,2,    224.1,2,     4.50,2,    16.81,2,     0.00,2,     1.20,2,    2.054,2,    1.022,2, -999.000,9,-999.0000,9,  -999.00,9,   -999.0,9,   -999.0,9,   -999.0,9,   -999.0,9,   -999.0,9, -999.00,  -999.0,-999.0000,-999.000,  8.8278,-999.000
   31WTTUNES_2,  P16S,   184,  1,     68,     68,2,19910813,2217,-35.4850,-150.5083, 5400,    352.2,   8.1072,  34.4982,2,  34.4971,2,    232.1,2,    233.9,2,     5.28,2,    18.48,2,     0.00,2,     1.30,2,    2.064,2,    1.045,2, -999.000,9,-999.0000,9,  -999.00,9,     54.3,2,      1.3,2,   -999.0,9,   -999.0,9,   -999.0,9, -999.00,     4.2,-999.0000,-999.000,  8.0712,-999.000
   31WTTUNES_2,  P16S,   184,  1,     69,     69,2,19910813,2217,-35.4850,-150.5083, 5400,    414.2,   7.6974,  34.4677,2,  34.4670,2,    239.6,2,    238.3,2,     6.06,2,    19.45,2,     0.00,2,     1.36,2,    1.973,2,    0.986,2, -999.000,9,-999.0000,9,  -999.00,9,   -999.0,9,   -999.0,9,   -999.0,9,   -999.0,9,   -999.0,9, -999.00,  -999.0,-999.0000,-999.000,  7.6562,-999.000
   31WTTUNES_2,  P16S,   184,  1,     70,     70,2,19910813,2217,-35.4850,-150.5083, 5400,    485.1,   7.3716,  34.4391,2,  34.4391,2,    242.2,2,    241.1,2,     6.65,2,    20.33,2,     0.00,2,     1.41,2,    1.742,2,    0.894,2, -999.000,9,-999.0000,9,  -999.00,9,     32.6,2,      1.3,2,   -999.0,9,   -999.0,9,   -999.0,9, -999.00,     4.1,-999.0000,-999.000,  7.3242,-999.000
   31WTTUNES_2,  P16S,   184,  1,     11,     11,2,19910813,2217,-35.4850,-150.5083, 5400,    557.9,   7.0657,  34.4114,2,  34.4122,2,    240.4,2,    242.3,2,     7.43,2,    21.21,2,     0.00,2,     1.47,2,    1.470,2,    0.768,2, -999.000,9,-999.0000,9,  -999.00,9,   -999.0,9,   -999.0,9,   -999.0,9,   -999.0,9,   -999.0,9, -999.00,  -999.0,-999.0000,-999.000,  7.0123,-999.000
   31WTTUNES_2,  P16S,   184,  1,     12,     12,2,19910813,2217,-35.4850,-150.5083, 5400,    639.2,   6.7109,  34.3745,2,  34.3814,2,    237.2,2,    240.8,2,     8.99,2,    22.39,2,     0.00,2,     1.54,2,    1.183,2,    0.601,2, -999.000,9,-999.0000,9,  -999.00,9,      2.8,2,      1.3,2,   -999.0,9,   -999.0,9,   -999.0,9, -999.00,     5.4,-999.0000,-999.000,  6.6511,-999.000
   31WTTUNES_2,  P16S,   184,  1,     13,     13,2,19910813,2217,-35.4850,-150.5083, 5400,    720.0,   6.3651,  34.3539,2,  34.3543,2,    236.1,2,    236.6,2,    11.05,2,    23.66,2,     0.00,2,     1.64,2,    0.898,2,    0.454,2, -999.000,9,-999.0000,9,  -999.00,9,    -13.5,2,      1.1,2,   -999.0,9,   -999.0,9,   -999.0,9, -999.00,     4.1,-999.0000,-999.000,  6.2992,-999.000
   31WTTUNES_2,  P16S,   184,  1,     37,     37,2,19910813,2217,-35.4850,-150.5083, 5400,    818.8,   5.7744,  34.3252,2,  34.3261,2,    224.3,2,    225.9,2,    15.45,2,    26.01,2,     0.00,2,     1.80,2,    0.548,2,    0.294,2, -999.000,9,-999.0000,9,  -999.00,9,    -36.3,2,      1.2,2,   -999.0,9,   -999.0,9,   -999.0,9, -999.00,     4.3,-999.0000,-999.000,  5.7026,-999.000
   31WTTUNES_2,  P16S,   184,  1,     15,     15,2,19910813,2217,-35.4850,-150.5083, 5400,    917.3,   5.1667,  34.3202,2,  34.3188,2,    215.5,2,    212.9,2,    22.68,2,    28.25,2,     0.00,2,     1.97,2,    0.296,2,    0.158,2, -999.000,9,-999.0000,9,  -999.00,9,    -74.8,2,      0.9,2,   -999.0,9,   -999.0,9,   -999.0,9, -999.00,     4.3,-999.0000,-999.000,  5.0899,-999.000
   31WTTUNES_2,  P16S,   184,  1,     16,     16,2,19910813,2217,-35.4850,-150.5083, 5400,   1019.1,   4.5510,  34.3263,2,  34.3302,2,    204.9,2,    201.8,2,    31.29,2,    30.41,2,     0.00,2,     2.11,2,    0.159,2,    0.095,2, -999.000,9,-999.0000,9,  -999.00,9,    -80.9,2,      0.5,3,   -999.0,9,   -999.0,9,   -999.0,9, -999.00,     5.7,-999.0000,-999.000,  4.4698,-999.000
   31WTTUNES_2,  P16S,   184,  1,     17,     17,2,19910813,2217,-35.4850,-150.5083, 5400,   1120.9,   4.0124,  34.3505,2,  34.3506,2,    196.9,2,    194.1,2,    39.69,2,    31.68,2,     0.00,2,     2.21,2,    0.093,2,    0.057,2, -999.000,9,-999.0000,9,  -999.00,9,   -999.0,9,   -999.0,9,   -999.0,9,   -999.0,9,   -999.0,9, -999.00,  -999.0,-999.0000,-999.000,  3.9267,-999.000
   31WTTUNES_2,  P16S,   184,  1,     18,     18,2,19910813,2217,-35.4850,-150.5083, 5400,   1269.6,   3.3917,  34.4014,2,  34.4020,2,    186.9,2,    183.6,2,    52.99,2,    33.24,2,     0.00,2,     2.32,2,    0.036,2,    0.027,2, -999.000,9,-999.0000,9,  -999.00,9,   -125.7,2,      0.4,2,   -999.0,9,   -999.0,9,   -999.0,9, -999.00,     4.4,-999.0000,-999.000,  3.2992,-999.000
   31WTTUNES_2,  P16S,   184,  1,     19,     19,2,19910813,2217,-35.4850,-150.5083, 5400,   1418.7,   2.9440,  34.4864,2,  34.4865,2,    171.3,2,    170.5,2,    69.70,2,    34.21,2,     0.00,2,     2.40,2,    0.003,2,    0.000,2, -999.000,9,-999.0000,9,  -999.00,9,   -148.3,2,      0.4,2,   -999.0,9,   -999.0,9,   -999.0,9, -999.00,     3.7,-999.0000,-999.000,  2.8437,-999.000
   31WTTUNES_2,  P16S,   184,  1,     20,     20,2,19910813,2217,-35.4850,-150.5083, 5400,   1609.6,   2.6652,  34.5623,2,  34.5627,2,    161.5,2,    159.8,2,    87.98,2,    34.60,2,     0.00,2,     2.43,2,    0.001,2,    0.000,8, -999.000,9,-999.0000,9,  -999.00,9,   -165.0,2,      0.3,2,   -999.0,9,   -999.0,9,   -999.0,9, -999.00,     3.9,-999.0000,-999.000,  2.5523,-999.000
   31WTTUNES_2,  P16S,   184,  1,     21,     21,2,19910813,2217,-35.4850,-150.5083, 5400,   1798.3,   2.4643,  34.5966,2,  34.5981,2,    156.5,2,    155.3,2,   100.00,2,    34.90,2,     0.00,2,     2.45,2, -999.000,9, -999.000,9, -999.000,9,-999.0000,9,  -999.00,9,   -179.2,2,      0.3,2,   -999.0,9,   -999.0,9,   -999.0,9, -999.00,     3.7,-999.0000,-999.000,  2.3382,-999.000
   31WTTUNES_2,  P16S,   184,  1,     22,     22,2,19910813,2217,-35.4850,-150.5083, 5400,   1992.0,   2.2644,  34.6223,2,  34.6236,2,    153.7,2,    152.9,2,   109.67,2,    35.09,2,     0.00,2,     2.47,2, -999.000,9, -999.000,9, -999.000,9,-999.0000,9,  -999.00,9,   -201.7,2,      0.2,2,   -999.0,9,   -999.0,9,   -999.0,9, -999.00,     3.3,-999.0000,-999.000,  2.1247,-999.000
   31WTTUNES_2,  P16S,   184,  1,     23,     23,2,19910813,2217,-35.4850,-150.5083, 5400,   2186.7,   2.1145,  34.6393,2,  34.6389,2,    151.3,2,    151.4,2,   116.32,2,    35.19,2,     0.00,2,     2.48,2, -999.000,9, -999.000,9, -999.000,9,-999.0000,9,  -999.00,9,   -207.5,2,      0.1,2,   -999.0,9,   -999.0,9,   -999.0,9, -999.00,     3.4,-999.0000,-999.000,  1.9602,-999.000
   31WTTUNES_2,  P16S,   184,  1,     24,     24,2,19910813,2217,-35.4850,-150.5083, 5400,   2376.5,   1.9996,  34.6496,2,  34.6497,2,    148.4,2,    150.5,2,   122.28,2,    35.38,2,     0.00,2,     2.49,2, -999.000,9, -999.000,9, -999.000,9,-999.0000,9,  -999.00,9,   -215.0,2,      0.1,2,   -999.0,9,   -999.0,9,   -999.0,9, -999.00,     4.3,-999.0000,-999.000,  1.8305,-999.000
   31WTTUNES_2,  P16S,   184,  1,     25,     25,2,19910813,2217,-35.4850,-150.5083, 5400,   2573.8,   1.8966,  34.6581,2,  34.6574,2,    151.1,2,    150.9,2,   127.07,2,    35.48,2,     0.00,2,     2.50,2, -999.000,9, -999.000,9, -999.000,9,-999.0000,9,  -999.00,9,   -999.0,9,   -999.0,9,   -999.0,9,   -999.0,9,   -999.0,9, -999.00,  -999.0,-999.0000,-999.000,  1.7115,-999.000
   31WTTUNES_2,  P16S,   184,  1,     26,     26,2,19910813,2217,-35.4850,-150.5083, 5400,   2841.5,   1.8047,  34.6664,2,  34.6662,2,    151.9,2,    152.4,2,   130.68,2,    35.38,2,     0.00,2,     2.50,2, -999.000,9, -999.000,9, -999.000,9,-999.0000,9,  -999.00,9,   -999.0,9,   -999.0,9,   -999.0,9,   -999.0,9,   -999.0,9, -999.00,  -999.0,-999.0000,-999.000,  1.5965,-999.000
   31WTTUNES_2,  P16S,   184,  1,     27,     27,2,19910813,2217,-35.4850,-150.5083, 5400,   3110.8,   1.7128,  34.6764,2,  34.6756,2,    156.4,2,    158.0,2,   130.88,2,    35.09,2,     0.00,2,     2.47,2, -999.000,9, -999.000,9, -999.000,9,-999.0000,9,  -999.00,9,   -999.0,9,   -999.0,9,   -999.0,9,   -999.0,9,   -999.0,9, -999.00,  -999.0,-999.0000,-999.000,  1.4805,-999.000
   31WTTUNES_2,  P16S,   184,  1,     28,     28,2,19910813,2217,-35.4850,-150.5083, 5400,   3374.6,   1.6328,  34.6870,2,  34.6862,2,    168.3,2,    166.9,2,   127.65,2,    34.21,2,     0.00,2,     2.41,2, -999.000,9, -999.000,9, -999.000,9,-999.0000,9,  -999.00,9,   -999.0,9,   -999.0,9,   -999.0,9,   -999.0,9,   -999.0,9, -999.00,  -999.0,-999.0000,-999.000,  1.3761,-999.000
   31WTTUNES_2,  P16S,   184,  1,     29,     29,2,19910813,2217,-35.4850,-150.5083, 5400,   3636.8,   1.5279,  34.6965,2,  34.6947,2,    175.9,2,    177.2,2,   123.06,2,    33.43,2,     0.00,2,     2.35,2, -999.000,9, -999.000,9, -999.000,9,-999.0000,9,  -999.00,9,   -193.3,2,      0.1,2,   -999.0,9,   -999.0,9,   -999.0,9, -999.00,     3.0,-999.0000,-999.000,  1.2468,-999.000
   31WTTUNES_2,  P16S,   184,  1,     30,     30,2,19910813,2217,-35.4850,-150.5083, 5400,   3896.0,   1.4409,  34.7064,2,  34.7061,2,    184.5,2,    188.0,2,   118.27,2,    32.45,2,     0.00,2,     2.27,2, -999.000,9, -999.000,9, -999.000,9,-999.0000,9,  -999.00,9,   -999.0,9,   -999.0,9,   -999.0,9,   -999.0,9,   -999.0,9, -999.00,  -999.0,-999.0000,-999.000,  1.1348,-999.000
   31WTTUNES_2,  P16S,   184,  1,     31,     31,2,19910813,2217,-35.4850,-150.5083, 5400,   4149.9,   1.3120,  34.7099,2,  34.7078,2,    194.9,2,    194.8,2,   118.46,2,    32.25,2,     0.00,2,     2.26,2, -999.000,9, -999.000,9, -999.000,9,-999.0000,9,  -999.00,9,   -187.7,2,     -0.3,3,   -999.0,9,   -999.0,9,   -999.0,9, -999.00,     3.3,-999.0000,-999.000,  0.9820,-999.000
   31WTTUNES_2,  P16S,   184,  1,     32,     32,2,19910813,2217,-35.4850,-150.5083, 5400,   4405.4,   1.2051,  34.7110,2,  34.7102,2,    198.9,2,    200.9,2,   118.85,2,    31.96,2,     0.00,2,     2.22,2, -999.000,9, -999.000,9, -999.000,9,-999.0000,9,  -999.00,9,   -999.0,9,   -999.0,9,   -999.0,9,   -999.0,9,   -999.0,9, -999.00,  -999.0,-999.0000,-999.000,  0.8498,-999.000
   31WTTUNES_2,  P16S,   184,  1,     33,     33,2,19910813,2217,-35.4850,-150.5083, 5400,   4649.0,   1.1551,  34.7103,2,  34.7092,2,    202.5,2,    203.1,2,   120.51,2,    31.96,2,     0.00,2,     2.23,2, -999.000,9, -999.000,9, -999.000,9,-999.0000,9,  -999.00,9,   -167.1,2,      0.3,2,   -999.0,9,   -999.0,9,   -999.0,9, -999.00,     3.0,-999.0000,-999.000,  0.7737,-999.000
   31WTTUNES_2,  P16S,   184,  1,     34,     34,2,19910813,2217,-35.4850,-150.5083, 5400,   4905.3,   1.1321,  34.7098,2,  34.7084,2,    204.9,2,    204.3,2,   121.30,2,    31.86,2,     0.00,2,     2.22,2, -999.000,5, -999.000,5, -999.000,9,-999.0000,9,  -999.00,9,   -999.0,9,   -999.0,9,   -999.0,9,   -999.0,9,   -999.0,9, -999.00,  -999.0,-999.0000,-999.000,  0.7215,-999.000
   31WTTUNES_2,  P16S,   184,  1,     35,     35,2,19910813,2217,-35.4850,-150.5083, 5400,   5163.8,   1.1161,  34.7106,2,  34.7078,2,    205.7,2,    205.6,2,   122.76,2,    31.96,2,     0.00,2,     2.22,2, -999.000,5, -999.000,5, -999.000,9,-999.0000,9,  -999.00,9,   -165.9,2,      0.4,2,   -999.0,9,   -999.0,9,   -999.0,9, -999.00,     4.6,-999.0000,-999.000,  0.6750,-999.000
   31WTTUNES_2,  P16S,   184,  1,     38,     38,2,19910813,2217,-35.4850,-150.5083, 5400,   5439.3,   1.1391,  34.7077,2,  34.7082,2,    206.8,2,    205.8,2,   122.76,2,    31.96,2,     0.00,2,     2.23,2,   -0.001,2,    0.003,2, -999.000,9,-999.0000,9,  -999.00,9,   -164.7,2,      0.4,2,   -999.0,9,   -999.0,9,   -999.0,9, -999.00,     3.8,-999.0000,-999.000,  0.6632,-999.000