BOTTLE,20131125MIRCJHATS
EXPOCODE,SECT_ID,STNNBR,CASTNO,SAMPNO,BTLNBR,BTLNBR_FLAG_W,DATE,TIME,LATITUDE,LONGITUDE,DEPTH,CTDPRS,CTDTMP,CTDSAL,CTDSAL_FLAG_W,SALNTY,SALNTY_FLAG_W,CTDOXY,CTDOXY_FLAG_W,OXYGEN,OXYGEN_FLAG_W,SILCAT,SILCAT_FLAG_W,NITRAT,NITRAT_FLAG_W,NITRIT,NITRIT_FLAG_W,PHSPHT,PHSPHT_FLAG_W,CFC-11,CFC-11_FLAG_W,CFC-12,CFC-12_FLAG_W,TRITUM,TRITUM_FLAG_W,HELIUM,HELIUM_FLAG_W,DELHE3,DELHE3_FLAG_W,DELC14,DELC14_FLAG_W,DELC13,DELC13_FLAG_W,TCARBN,TCARBN_FLAG_W,PCO2,PCO2_FLAG_W,ALKALI,ALKALI_FLAG_W,PCO2TMP,C14ERR,HELIER,DELHER,THETA,TRITER
,,,,,,,,,,,,DBAR,ITS-90,PSS-78,,PSS-78,,UMOL/KG,,UMOL/KG,,UMOL/KG,,UMOL/KG,,UMOL/KG,,UMOL/KG,,PMOL/KG,,PMOL/KG,,TU,,NMOL/KG,,PERCNT,,/MILLE,,/MILLE,,UMOL/KG,,UATM,,UMOL/KG,,DEG C,/MILLE,NMOL/KG,PERCNT,DEG C,TU
   31WTTUNES_2,  P17S,   176,  1,     61,     61,2,19910807,0340,-31.5100,-134.6167, 4272,      2.8,  16.8085,  35.1682,2,  35.1703,2,    238.7,3,    240.5,2,     1.47,2,     0.00,2,     0.00,2,     0.12,2,    2.510,2,    1.354,2, -999.000,9,-999.0000,9,  -999.00,9,    123.2,2,      1.5,2,   2024.1,2,    358.2,2,   -999.0,9,   20.00,     3.1,-999.0000,-999.000, 16.8080,-999.000
   31WTTUNES_2,  P17S,   176,  1,      2,      2,2,19910807,0340,-31.5100,-134.6167, 4272,     36.2,  16.7553,  35.1638,2,  35.1636,2,    239.1,2,    241.1,2,     1.27,2,     0.00,2,     0.00,2,     0.12,2,    2.441,2,    1.359,2, -999.000,9,-999.0000,9,  -999.00,9,   -999.0,9,   -999.0,9,   -999.0,9,   -999.0,9,   -999.0,9, -999.00,  -999.0,-999.0000,-999.000, 16.7494,-999.000
   31WTTUNES_2,  P17S,   176,  1,      3,      3,2,19910807,0340,-31.5100,-134.6167, 4272,     66.4,  16.5658,  35.1594,2,  35.1597,2,    240.1,2,    240.5,2,     1.07,2,     0.00,2,     0.00,2,     0.12,2, -999.000,9, -999.000,9, -999.000,9,-999.0000,9,  -999.00,9,   -999.0,9,   -999.0,9,   -999.0,9,   -999.0,9,   -999.0,9, -999.00,  -999.0,-999.0000,-999.000, 16.5551,-999.000
   31WTTUNES_2,  P17S,   176,  1,      4,      4,2,19910807,0340,-31.5100,-134.6167, 4272,    107.6,  16.5109,  35.1581,2,  35.1593,2,    240.3,2,    239.7,2,     0.78,2,     0.00,2,     0.00,2,     0.12,2,    2.606,2,    1.350,2, -999.000,9,-999.0000,9,  -999.00,9,   -999.0,9,   -999.0,9,   -999.0,9,   -999.0,9,   -999.0,9, -999.00,  -999.0,-999.0000,-999.000, 16.4935,-999.000
   31WTTUNES_2,  P17S,   176,  1,      5,      5,2,19910807,0340,-31.5100,-134.6167, 4272,    133.3,  16.5114,  35.1577,2,  35.1591,2,    238.2,2,    239.3,2,     0.78,2,     0.00,2,     0.00,2,     0.12,2,    2.520,2,    1.348,2, -999.000,9,-999.0000,9,  -999.00,9,   -999.0,9,   -999.0,9,   -999.0,9,   -999.0,9,   -999.0,9, -999.00,  -999.0,-999.0000,-999.000, 16.4898,-999.000
   31WTTUNES_2,  P17S,   176,  1,      6,      6,2,19910807,0340,-31.5100,-134.6167, 4272,    159.7,  16.4210,  35.1407,2,  35.1154,2,    237.9,6,    232.4,2,     0.78,2,     0.68,2,     0.03,2,     0.19,2,    2.521,2,    1.316,2, -999.000,9,-999.0000,9,  -999.00,9,    116.1,2,      1.4,2,   -999.0,9,   -999.0,9,   -999.0,9, -999.00,     3.1,-999.0000,-999.000, 16.3952,-999.000
   31WTTUNES_2,  P17S,   176,  1,      7,      7,2,19910807,0340,-31.5100,-134.6167, 4272,    184.4,  15.1277,  35.0519,2,  35.0570,2,    222.1,2,    216.0,2,     0.98,2,     3.13,2,     0.01,2,     0.37,2,    2.234,2,    1.211,2, -999.000,9,-999.0000,9,  -999.00,9,   -999.0,9,   -999.0,9,   -999.0,9,   -999.0,9,   -999.0,9, -999.00,  -999.0,-999.0000,-999.000, 15.0996,-999.000
   31WTTUNES_2,  P17S,   176,  1,     68,     68,2,19910807,0340,-31.5100,-134.6167, 4272,    211.6,  14.7463,  35.0608,2,  35.0635,2,    214.2,2,    208.3,2,     1.17,2,     4.89,2,     0.01,2,     0.47,2,    2.090,2,    1.136,2, -999.000,9,-999.0000,9,  -999.00,9,    112.1,2,      1.4,2,   -999.0,9,   -999.0,9,   -999.0,9, -999.00,     2.9,-999.0000,-999.000, 14.7146,-999.000
   31WTTUNES_2,  P17S,   176,  1,     69,     69,2,19910807,0340,-31.5100,-134.6167, 4272,    260.8,  13.4404,  34.9359,2,  34.9302,2,    206.6,2,    204.7,2,     2.15,2,     7.92,2,     0.00,2,     0.65,2, -999.000,9, -999.000,9, -999.000,9,-999.0000,9,  -999.00,9,    101.5,2,      1.3,2,   -999.0,9,   -999.0,9,   -999.0,9, -999.00,     3.0,-999.0000,-999.000, 13.4036,-999.000
   31WTTUNES_2,  P17S,   176,  1,     70,     70,2,19910807,0340,-31.5100,-134.6167, 4272,    312.2,  11.2391,  34.7329,2,  34.7340,2,    202.3,2,    203.4,2,     3.32,2,    13.10,2,     0.00,2,     0.97,2,    1.604,2,    0.815,2, -999.000,9,-999.0000,9,  -999.00,9,     63.4,2,      1.3,2,   -999.0,9,   -999.0,9,   -999.0,9, -999.00,     3.6,-999.0000,-999.000, 11.2000,-999.000
   31WTTUNES_2,  P17S,   176,  1,     11,     11,2,19910807,0340,-31.5100,-134.6167, 4272,    363.4,   9.3271,  34.5522,2,  34.5513,2,    210.8,2,    214.9,2,     4.30,2,    16.91,2,     0.00,2,     1.20,2, -999.000,9, -999.000,9, -999.000,9,-999.0000,9,  -999.00,9,   -999.0,9,   -999.0,9,   -999.0,9,   -999.0,9,   -999.0,9, -999.00,  -999.0,-999.0000,-999.000,  9.2866,-999.000
   31WTTUNES_2,  P17S,   176,  1,     12,     12,2,19910807,0340,-31.5100,-134.6167, 4272,    412.6,   8.1856,  34.4631,2,  34.4633,2,    222.8,2,    224.7,2,     5.08,2,    19.16,2,     0.00,2,     1.34,2,    1.566,2,    0.792,2, -999.000,9,-999.0000,9,  -999.00,9,     38.9,2,      1.3,2,   -999.0,9,   -999.0,9,   -999.0,9, -999.00,     3.7,-999.0000,-999.000,  8.1430,-999.000
   31WTTUNES_2,  P17S,   176,  1,     13,     13,2,19910807,0340,-31.5100,-134.6167, 4272,    463.2,   7.5167,  34.4197,2,  34.4217,2,    230.7,2,    234.4,2,     5.96,2,    20.33,2,     0.00,2,     1.41,2,    1.613,2,    0.817,2, -999.000,9,-999.0000,9,  -999.00,9,   -999.0,9,   -999.0,9,   -999.0,9,   -999.0,9,   -999.0,9, -999.00,  -999.0,-999.0000,-999.000,  7.4711,-999.000
   31WTTUNES_2,  P17S,   176,  1,     37,     37,2,19910807,0340,-31.5100,-134.6167, 4272,    516.5,   7.1400,  34.4003,2,  34.4019,2,    239.4,2,    241.3,2,     6.75,2,    20.92,2,     0.00,2,     1.44,2,    1.626,2,    0.808,2, -999.000,9,-999.0000,9,  -999.00,9,     22.4,2,      1.4,2,   -999.0,9,   -999.0,9,   -999.0,9, -999.00,     4.6,-999.0000,-999.000,  7.0905,-999.000
   31WTTUNES_2,  P17S,   176,  1,     15,     15,2,19910807,0340,-31.5100,-134.6167, 4272,    619.6,   6.5485,  34.3559,2,  34.3568,2,    245.5,2,    244.8,2,     8.31,2,    22.39,2,     0.00,2,     1.53,2,    1.142,2,    0.576,2, -999.000,9,-999.0000,9,  -999.00,9,     -2.5,2,      1.4,2,   -999.0,9,   -999.0,9,   -999.0,9, -999.00,     2.9,-999.0000,-999.000,  6.4914,-999.000
   31WTTUNES_2,  P17S,   176,  1,     16,     16,2,19910807,0340,-31.5100,-134.6167, 4272,    722.5,   6.0298,  34.3216,2,  34.3232,2,    244.5,2,    241.5,2,    10.75,2,    24.05,2,     0.00,2,     1.65,2, -999.000,9, -999.000,9, -999.000,9,-999.0000,9,  -999.00,9,    -37.1,2,      1.2,2,   -999.0,9,   -999.0,9,   -999.0,9, -999.00,     2.6,-999.0000,-999.000,  5.9656,-999.000
   31WTTUNES_2,  P17S,   176,  1,     17,     17,2,19910807,0340,-31.5100,-134.6167, 4272,    824.7,   5.5936,  34.3018,2,  34.3026,2,    235.7,2,    234.2,2,    14.08,2,    25.71,2,     0.00,2,     1.77,2, -999.000,9, -999.000,9, -999.000,9,-999.0000,9,  -999.00,9,    -64.4,2,      1.2,2,   -999.0,9,   -999.0,9,   -999.0,9, -999.00,     2.6,-999.0000,-999.000,  5.5225,-999.000
   31WTTUNES_2,  P17S,   176,  1,     18,     18,2,19910807,0340,-31.5100,-134.6167, 4272,    926.3,   4.9963,  34.2989,2,  34.3019,2,    221.5,2,    217.0,2,    22.19,2,    28.45,2,     0.00,2,     1.96,2,    0.206,2,    0.116,2, -999.000,9,-999.0000,9,  -999.00,9,    -78.6,2,      1.0,2,   -999.0,9,   -999.0,9,   -999.0,9, -999.00,     2.5,-999.0000,-999.000,  4.9200,-999.000
   31WTTUNES_2,  P17S,   176,  1,     19,     19,2,19910807,0340,-31.5100,-134.6167, 4272,   1030.3,   4.4061,  34.3245,2,  34.3280,2,    201.0,2,    198.3,2,    32.46,2,    30.80,2,     0.00,2,     2.14,2, -999.000,9, -999.000,9, -999.000,9,-999.0000,9,  -999.00,9,   -105.0,2,      0.9,2,   -999.0,9,   -999.0,9,   -999.0,9, -999.00,     2.5,-999.0000,-999.000,  4.3250,-999.000
   31WTTUNES_2,  P17S,   176,  1,     20,     20,2,19910807,0340,-31.5100,-134.6167, 4272,   1133.0,   3.8665,  34.3628,2,  34.3623,2,    188.2,2,    187.5,2,    43.51,2,    32.56,2,     0.00,2,     2.25,2,    0.034,2,    0.022,2, -999.000,9,-999.0000,9,  -999.00,9,   -131.4,2,   -999.0,9,   -999.0,9,   -999.0,9,   -999.0,9, -999.00,     2.7,-999.0000,-999.000,  3.7811,-999.000
   31WTTUNES_2,  P17S,   176,  1,     21,     21,2,19910807,0340,-31.5100,-134.6167, 4272,   1286.2,   3.2209,  34.4444,2,  34.4452,2,    174.3,2,    172.8,2,    62.76,2,    34.12,2,     0.00,2,     2.38,2,    0.006,2,    0.006,2, -999.000,9,-999.0000,9,  -999.00,9,   -156.9,2,      0.4,2,   -999.0,9,   -999.0,9,   -999.0,9, -999.00,     2.6,-999.0000,-999.000,  3.1287,-999.000
   31WTTUNES_2,  P17S,   176,  1,     22,     22,2,19910807,0340,-31.5100,-134.6167, 4272,   1439.7,   2.8535,  34.5035,2,  34.5021,2,    167.8,2,    166.9,2,    75.47,2,    34.51,2,     0.00,2,     2.41,2, -999.000,9, -999.000,9, -999.000,9,-999.0000,9,  -999.00,9,   -170.8,2,      0.4,2,   -999.0,9,   -999.0,9,   -999.0,9, -999.00,     3.0,-999.0000,-999.000,  2.7525,-999.000
   31WTTUNES_2,  P17S,   176,  1,     23,     23,2,19910807,0340,-31.5100,-134.6167, 4272,   1645.1,   2.5032,  34.5690,2,  34.5689,2,    159.3,2,    160.2,2,    92.67,2,    34.80,2,     0.00,2,     2.43,2, -999.000,9, -999.000,9, -999.000,9,-999.0000,9,  -999.00,9,   -189.5,2,      0.3,2,   -999.0,9,   -999.0,9,   -999.0,9, -999.00,     2.3,-999.0000,-999.000,  2.3893,-999.000
   31WTTUNES_2,  P17S,   176,  1,     24,     24,2,19910807,0340,-31.5100,-134.6167, 4272,   1848.0,   2.2608,  34.6087,2,  34.6086,2,    157.2,2,    156.8,2,   105.66,2,    34.99,2,     0.00,2,     2.46,2, -999.000,9, -999.000,9, -999.000,9,-999.0000,9,  -999.00,9,   -999.0,9,   -999.0,9,   -999.0,9,   -999.0,9,   -999.0,9, -999.00,  -999.0,-999.0000,-999.000,  2.1333,-999.000
   31WTTUNES_2,  P17S,   176,  1,     25,     25,2,19910807,0340,-31.5100,-134.6167, 4272,   2053.6,   2.0583,  34.6341,2,  34.6355,2,    153.7,2,    154.3,2,   116.02,2,    35.29,2,     0.00,2,     2.47,2, -999.000,9, -999.000,9, -999.000,9,-999.0000,9,  -999.00,9,   -999.0,9,   -999.0,9,   -999.0,9,   -999.0,9,   -999.0,9, -999.00,  -999.0,-999.0000,-999.000,  1.9164,-999.000
   31WTTUNES_2,  P17S,   176,  1,     26,     26,2,19910807,0340,-31.5100,-134.6167, 4272,   2256.8,   1.9519,  34.6453,2,  34.6453,2,    155.5,2,    154.3,2,   121.50,2,    35.29,2,     0.00,2,     2.47,2, -999.000,9, -999.000,9, -999.000,9,-999.0000,9,  -999.00,9,   -999.0,9,   -999.0,9,   -999.0,9,   -999.0,9,   -999.0,9, -999.00,  -999.0,-999.0000,-999.000,  1.7942,-999.000
   31WTTUNES_2,  P17S,   176,  1,     27,     27,2,19910807,0340,-31.5100,-134.6167, 4272,   2460.9,   1.8455,  34.6558,2,  34.6560,2,    157.5,2,    156.1,2,   124.82,2,    35.19,2,     0.00,2,     2.47,2, -999.000,9, -999.000,9, -999.000,9,-999.0000,9,  -999.00,9,   -999.0,9,   -999.0,9,   -999.0,9,   -999.0,9,   -999.0,9, -999.00,  -999.0,-999.0000,-999.000,  1.6716,-999.000
   31WTTUNES_2,  P17S,   176,  1,     28,     28,2,19910807,0340,-31.5100,-134.6167, 4272,   2668.2,   1.7772,  34.6625,2,  34.6623,2,    157.8,2,    158.8,2,   125.99,2,    35.09,2,     0.00,2,     2.46,2, -999.000,9, -999.000,9, -999.000,9,-999.0000,9,  -999.00,9,   -999.0,9,   -999.0,9,   -999.0,9,   -999.0,9,   -999.0,9, -999.00,  -999.0,-999.0000,-999.000,  1.5858,-999.000
   31WTTUNES_2,  P17S,   176,  1,     29,     29,2,19910807,0340,-31.5100,-134.6167, 4272,   2869.2,   1.7138,  34.6683,2,  34.6680,2,    161.9,2,    161.7,2,   126.97,2,    34.89,2,     0.00,2,     2.45,2, -999.000,9, -999.000,9, -999.000,9,-999.0000,9,  -999.00,9,   -999.0,9,   -999.0,9,   -999.0,9,   -999.0,9,   -999.0,9, -999.00,  -999.0,-999.0000,-999.000,  1.5048,-999.000
   31WTTUNES_2,  P17S,   176,  1,     30,     30,2,19910807,0340,-31.5100,-134.6167, 4272,   3068.7,   1.6668,  34.6724,2,  34.6725,2,    165.3,2,    164.7,2,   127.16,2,    34.60,2,     0.00,2,     2.42,2, -999.000,9, -999.000,9, -999.000,9,-999.0000,9,  -999.00,9,   -213.3,2,     -0.1,3,   -999.0,9,   -999.0,9,   -999.0,9, -999.00,     2.2,-999.0000,-999.000,  1.4397,-999.000
   31WTTUNES_2,  P17S,   176,  1,     31,     31,2,19910807,0340,-31.5100,-134.6167, 4272,   3271.2,   1.6283,  34.6769,2,  34.6772,2,    165.6,2,    167.5,2,   126.28,2,    34.31,2,     0.00,2,     2.41,2, -999.000,9, -999.000,9, -999.000,9,-999.0000,9,  -999.00,9,   -999.0,9,   -999.0,9,   -999.0,9,   -999.0,9,   -999.0,9, -999.00,  -999.0,-999.0000,-999.000,  1.3821,-999.000
   31WTTUNES_2,  P17S,   176,  1,     32,     32,2,19910807,0340,-31.5100,-134.6167, 4272,   3470.8,   1.5803,  34.6816,2,  34.6818,2,    172.5,2,    171.1,2,   126.09,2,    34.11,2,     0.00,2,     2.39,2, -999.000,9, -999.000,9, -999.000,9,-999.0000,9,  -999.00,9,   -203.2,2,      0.2,2,   -999.0,9,   -999.0,9,   -999.0,9, -999.00,     2.1,-999.0000,-999.000,  1.3151,-999.000
   31WTTUNES_2,  P17S,   176,  1,     33,     33,2,19910807,0340,-31.5100,-134.6167, 4272,   3676.1,   1.5273,  34.6864,2,  34.6865,2,    175.1,2,    175.1,2,   125.70,2,    33.82,2,     0.00,2,     2.37,2, -999.000,9, -999.000,9, -999.000,9,-999.0000,9,  -999.00,9,   -999.0,9,   -999.0,9,   -999.0,9,   -999.0,9,   -999.0,9, -999.00,  -999.0,-999.0000,-999.000,  1.2422,-999.000
   31WTTUNES_2,  P17S,   176,  1,     34,     34,2,19910807,0340,-31.5100,-134.6167, 4272,   3877.7,   1.4395,  34.6937,2,  34.6932,2,    179.5,2,    182.1,2,   124.42,2,    33.43,2,     0.00,2,     2.34,2, -999.000,9, -999.000,9, -999.000,9,-999.0000,9,  -999.00,9,   -193.9,2,      0.2,2,   -999.0,9,   -999.0,9,   -999.0,9, -999.00,     3.4,-999.0000,-999.000,  1.1355,-999.000
   31WTTUNES_2,  P17S,   176,  1,     35,     35,2,19910807,0340,-31.5100,-134.6167, 4272,   4126.9,   1.3544,  34.7009,2,  34.7005,2,    189.4,2,    188.1,2,   122.76,2,    32.94,2,     0.00,2,     2.29,2, -999.000,9, -999.000,9, -999.000,9,-999.0000,9,  -999.00,9,   -200.7,2,      0.1,2,   -999.0,9,   -999.0,9,   -999.0,9, -999.00,     2.0,-999.0000,-999.000,  1.0257,-999.000
   31WTTUNES_2,  P17S,   176,  1,     38,     38,2,19910807,0340,-31.5100,-134.6167, 4272,   4367.1,   1.3625,  34.7019,2,  34.7016,2,    188.4,2,    189.2,2,   121.69,2,    32.84,2,     0.00,2,     2.28,2, -999.000,9, -999.000,9, -999.000,9,-999.0000,9,  -999.00,9,   -999.0,9,   -999.0,9,   -999.0,9,   -999.0,9,   -999.0,9, -999.00,  -999.0,-999.0000,-999.000,  1.0068,-999.000