BOTTLE,20131125MIRCJHATS
EXPOCODE,SECT_ID,STNNBR,CASTNO,SAMPNO,BTLNBR,BTLNBR_FLAG_W,DATE,TIME,LATITUDE,LONGITUDE,DEPTH,CTDPRS,CTDTMP,CTDSAL,CTDSAL_FLAG_W,SALNTY,SALNTY_FLAG_W,CTDOXY,CTDOXY_FLAG_W,OXYGEN,OXYGEN_FLAG_W,SILCAT,SILCAT_FLAG_W,NITRAT,NITRAT_FLAG_W,NITRIT,NITRIT_FLAG_W,PHSPHT,PHSPHT_FLAG_W,CFC-11,CFC-11_FLAG_W,CFC-12,CFC-12_FLAG_W,TRITUM,TRITUM_FLAG_W,HELIUM,HELIUM_FLAG_W,DELHE3,DELHE3_FLAG_W,DELC14,DELC14_FLAG_W,DELC13,DELC13_FLAG_W,TCARBN,TCARBN_FLAG_W,PCO2,PCO2_FLAG_W,ALKALI,ALKALI_FLAG_W,PCO2TMP,C14ERR,HELIER,DELHER,THETA,TRITER
,,,,,,,,,,,,DBAR,ITS-90,PSS-78,,PSS-78,,UMOL/KG,,UMOL/KG,,UMOL/KG,,UMOL/KG,,UMOL/KG,,UMOL/KG,,PMOL/KG,,PMOL/KG,,TU,,NMOL/KG,,PERCNT,,/MILLE,,/MILLE,,UMOL/KG,,UATM,,UMOL/KG,,DEG C,/MILLE,NMOL/KG,PERCNT,DEG C,TU
   31WTTUNES_2,  P17S,   174,  1,     61,     61,2,19910806,1544,-30.5350,-134.3250, 3648,      3.7,  17.7843,  35.3777,2,  35.3792,2,    231.7,3,    234.6,2,     1.07,2,     0.10,2,     0.00,2,     0.11,2,    2.454,2,    1.278,2, -999.000,9,-999.0000,9,  -999.00,9,   -999.0,9,   -999.0,9,   2025.5,2,   -999.0,5,   -999.0,9, -999.00,  -999.0,-999.0000,-999.000, 17.7837,-999.000
   31WTTUNES_2,  P17S,   174,  1,      2,      2,2,19910806,1544,-30.5350,-134.3250, 3648,     36.2,  17.7833,  35.3781,2,  35.3800,2,    233.7,6,    234.3,2,     1.07,2,     0.10,2,     0.00,2,     0.10,2,    2.407,2,    1.279,2, -999.000,9,-999.0000,9,  -999.00,9,   -999.0,9,   -999.0,9,   2026.5,2,    339.6,2,   2310.2,2,   20.00,  -999.0,-999.0000,-999.000, 17.7771,-999.000
   31WTTUNES_2,  P17S,   174,  1,      3,      3,2,19910806,1544,-30.5350,-134.3250, 3648,     71.6,  17.7123,  35.3576,2,  35.3518,2,    236.4,6,    233.7,2,     0.98,2,     0.10,2,     0.00,2,     0.11,2,    2.469,2,    1.274,2, -999.000,9,-999.0000,9,  -999.00,9,   -999.0,9,   -999.0,9,   2023.8,2,    332.4,2,   -999.0,9,   20.00,  -999.0,-999.0000,-999.000, 17.7001,-999.000
   31WTTUNES_2,  P17S,   174,  1,      4,      4,2,19910806,1544,-30.5350,-134.3250, 3648,    106.9,  16.8991,  35.1970,2,  35.1894,2,    240.7,6,    238.4,2,     0.98,2,     0.10,2,     0.00,2,     0.12,2,    2.542,2,    1.336,2, -999.000,9,-999.0000,9,  -999.00,9,   -999.0,9,   -999.0,9,   2031.3,2,    348.9,2,   2290.6,2,   20.00,  -999.0,-999.0000,-999.000, 16.8815,-999.000
   31WTTUNES_2,  P17S,   174,  1,      5,      5,2,19910806,1544,-30.5350,-134.3250, 3648,    138.2,  16.7090,  35.1612,2,  35.1633,2,    243.1,2,    238.9,2,     0.78,2,     0.10,2,     0.00,2,     0.13,2,    2.512,2,    1.341,2, -999.000,9,-999.0000,9,  -999.00,9,   -999.0,9,   -999.0,9,   2031.9,2,    348.2,2,   -999.0,9,   20.00,  -999.0,-999.0000,-999.000, 16.6865,-999.000
   31WTTUNES_2,  P17S,   174,  1,      6,      6,2,19910806,1544,-30.5350,-134.3250, 3648,    173.7,  16.5290,  35.1639,2,  35.1635,2,    235.9,2,    230.8,2,     0.78,2,     0.59,2,     0.04,2,     0.19,2,    2.417,2,    1.294,2, -999.000,9,-999.0000,9,  -999.00,9,   -999.0,9,   -999.0,9,   2034.8,2,    369.7,2,   -999.0,9,   20.00,  -999.0,-999.0000,-999.000, 16.5009,-999.000
   31WTTUNES_2,  P17S,   174,  1,      7,      7,2,19910806,1544,-30.5350,-134.3250, 3648,    209.0,  14.9347,  35.0297,2,  35.0345,2,    215.5,2,    215.9,2,     1.17,2,     3.52,2,     0.01,2,     0.41,2,    2.273,2,    1.195,2, -999.000,9,-999.0000,9,  -999.00,9,   -999.0,9,   -999.0,9,   2066.1,2,    439.3,2,   -999.0,9,   20.00,  -999.0,-999.0000,-999.000, 14.9031,-999.000
   31WTTUNES_2,  P17S,   174,  1,     68,     68,2,19910806,1544,-30.5350,-134.3250, 3648,    249.8,  13.8425,  34.9948,2,  34.9897,2,    205.4,2,    203.5,2,     2.15,2,     7.43,2,     0.00,2,     0.64,2,    1.951,2,    1.004,2, -999.000,9,-999.0000,9,  -999.00,9,   -999.0,9,   -999.0,9,   2085.4,2,    486.6,2,   2280.3,2,   20.00,  -999.0,-999.0000,-999.000, 13.8066,-999.000
   31WTTUNES_2,  P17S,   174,  1,     69,     69,2,19910806,1544,-30.5350,-134.3250, 3648,    289.2,  12.3334,  34.8327,2,  34.8291,2,    205.6,2,    203.1,2,     2.64,2,    10.65,2,     0.00,2,     0.84,2, -999.000,9, -999.000,9, -999.000,9,-999.0000,9,  -999.00,9,   -999.0,9,   -999.0,9,   2096.3,2,    545.7,2,   -999.0,9,   20.00,  -999.0,-999.0000,-999.000, 12.2949,-999.000
   31WTTUNES_2,  P17S,   174,  1,     70,     70,2,19910806,1544,-30.5350,-134.3250, 3648,    339.2,  10.5223,  34.6706,2,  34.6699,2,    205.3,2,    205.7,2,     3.62,2,    14.76,2,     0.00,2,     1.08,2,    1.507,2,    0.782,2, -999.000,9,-999.0000,9,  -999.00,9,   -999.0,9,   -999.0,9,   2113.3,2,    615.9,2,   2282.7,2,   20.00,  -999.0,-999.0000,-999.000, 10.4815,-999.000
   31WTTUNES_2,  P17S,   174,  1,     11,     11,2,19910806,1544,-30.5350,-134.3250, 3648,    390.1,   9.0062,  34.5437,2,  34.5407,2,    207.9,2,    210.6,2,     5.18,2,    18.38,2,     0.00,2,     1.32,2, -999.000,9, -999.000,9, -999.000,9,-999.0000,9,  -999.00,9,   -999.0,9,   -999.0,9,   2125.5,2,    681.7,2,   -999.0,9,   20.00,  -999.0,-999.0000,-999.000,  8.9636,-999.000
   31WTTUNES_2,  P17S,   174,  1,     12,     12,2,19910806,1544,-30.5350,-134.3250, 3648,    452.2,   7.8823,  34.4465,2,  34.4470,2,    220.1,2,    223.4,2,     6.35,2,    20.33,2,     0.00,2,     1.43,2,    1.237,2,    0.625,2, -999.000,9,-999.0000,9,  -999.00,9,   -999.0,9,   -999.0,9,   2129.0,2,    713.1,2,   2273.1,2,   20.00,  -999.0,-999.0000,-999.000,  7.8365,-999.000
   31WTTUNES_2,  P17S,   174,  1,     13,     13,2,19910806,1544,-30.5350,-134.3250, 3648,    514.4,   7.1453,  34.3996,2,  34.3991,2,    230.0,2,    237.9,2,     6.94,2,    21.31,2,     0.00,2,     1.50,2, -999.000,9, -999.000,9, -999.000,9,-999.0000,9,  -999.00,9,   -999.0,9,   -999.0,9,   2131.8,2,    721.0,2,   -999.0,9,   20.00,  -999.0,-999.0000,-999.000,  7.0960,-999.000
   31WTTUNES_2,  P17S,   174,  1,     37,     37,2,19910806,1544,-30.5350,-134.3250, 3648,    573.6,   6.7214,  34.3719,2,  34.3717,2,    244.4,2,    243.4,2,     8.11,2,    22.19,2,     0.00,2,     1.54,2,    1.171,2,    0.604,2, -999.000,9,-999.0000,9,  -999.00,9,   -999.0,9,   -999.0,9,   2134.0,2,    725.3,2,   2275.3,2,   20.00,  -999.0,-999.0000,-999.000,  6.6680,-999.000
   31WTTUNES_2,  P17S,   174,  1,     15,     15,2,19910806,1544,-30.5350,-134.3250, 3648,    635.0,   6.4204,  34.3512,2,  34.3497,2,    239.3,2,    243.2,2,     9.09,2,    23.07,2,     0.00,2,     1.60,2, -999.000,9, -999.000,9, -999.000,9,-999.0000,9,  -999.00,9,   -999.0,9,   -999.0,9,   2137.7,2,    739.0,2,   -999.0,9,   20.00,  -999.0,-999.0000,-999.000,  6.3625,-999.000
   31WTTUNES_2,  P17S,   174,  1,     16,     16,2,19910806,1544,-30.5350,-134.3250, 3648,    706.8,   6.0365,  34.3240,2,  34.3240,2,    233.7,2,    240.3,2,    10.95,2,    24.34,2,     0.00,2,     1.68,2,    0.595,2,    0.322,2, -999.000,9,-999.0000,9,  -999.00,9,   -999.0,9,   -999.0,9,   2146.2,2,    761.3,2,   2270.4,2,   20.00,  -999.0,-999.0000,-999.000,  5.9737,-999.000
   31WTTUNES_2,  P17S,   174,  1,     17,     17,2,19910806,1544,-30.5350,-134.3250, 3648,    782.4,   5.5735,  34.3029,2,  34.3040,2,    230.6,2,    231.7,2,    14.08,2,    26.01,2,     0.00,2,     1.80,2, -999.000,9, -999.000,9, -999.000,9,-999.0000,9,  -999.00,9,   -999.0,9,   -999.0,9,   2150.8,2,    801.1,2,   -999.0,9,   20.00,  -999.0,-999.0000,-999.000,  5.5064,-999.000
   31WTTUNES_2,  P17S,   174,  1,     18,     18,2,19910806,1544,-30.5350,-134.3250, 3648,    858.6,   5.2166,  34.2981,2,  34.2985,2,    225.2,2,    222.4,2,    18.77,2,    27.67,2,     0.00,2,     1.93,2,    0.226,2,    0.138,2, -999.000,9,-999.0000,9,  -999.00,9,   -999.0,9,   -999.0,9,   2157.7,2,    855.2,2,   2272.5,2,   20.00,  -999.0,-999.0000,-999.000,  5.1448,-999.000
   31WTTUNES_2,  P17S,   174,  1,     19,     19,2,19910806,1544,-30.5350,-134.3250, 3648,    940.4,   4.7156,  34.3086,2,  34.3088,2,    208.9,2,    208.4,2,    26.59,2,    29.82,2,     0.00,2,     2.07,2,    0.120,2,    0.078,2, -999.000,9,-999.0000,9,  -999.00,9,   -999.0,9,   -999.0,9,   2179.7,2,    924.1,2,   -999.0,9,   20.00,  -999.0,-999.0000,-999.000,  4.6400,-999.000
   31WTTUNES_2,  P17S,   174,  1,     20,     20,2,19910806,1544,-30.5350,-134.3250, 3648,   1022.2,   4.3067,  34.3308,2,  34.3296,2,    198.0,2,    196.6,2,    34.41,2,    31.29,2,     0.00,2,     2.18,2,    0.062,2,    0.044,2, -999.000,9,-999.0000,9,  -999.00,9,   -999.0,9,   -999.0,9,   2193.7,2,    988.4,2,   2285.7,2,   20.00,  -999.0,-999.0000,-999.000,  4.2271,-999.000
   31WTTUNES_2,  P17S,   174,  1,     21,     21,2,19910806,1544,-30.5350,-134.3250, 3648,   1123.6,   3.8418,  34.3696,2,  34.3700,2,    183.3,2,    184.1,2,    45.36,2,    32.95,2,     0.00,2,     2.31,2,    0.023,2,    0.017,2, -999.000,9,-999.0000,9,  -999.00,9,   -999.0,9,   -999.0,9,   2211.9,2,   1063.2,2,   -999.0,9,   20.00,  -999.0,-999.0000,-999.000,  3.7574,-999.000
   31WTTUNES_2,  P17S,   174,  1,     22,     22,2,19910806,1544,-30.5350,-134.3250, 3648,   1224.2,   3.4529,  34.4189,2,  34.4187,2,    174.9,2,    174.2,2,    56.90,2,    33.92,2,     0.00,2,     2.39,2,    0.006,2,    0.008,2, -999.000,9,-999.0000,9,  -999.00,9,   -999.0,9,   -999.0,9,   2229.7,2,   1117.5,2,   2289.3,2,   20.00,  -999.0,-999.0000,-999.000,  3.3635,-999.000
   31WTTUNES_2,  P17S,   174,  1,     24,     24,2,19910806,1544,-30.5350,-134.3250, 3648,   1377.3,   3.0320,  34.4834,2,  34.4817,2,    165.9,2,    167.0,2,    71.26,2,    34.51,2,     0.00,2,     2.43,2,    0.003,2,    0.000,2, -999.000,9,-999.0000,9,  -999.00,9,   -999.0,9,   -999.0,9,   2248.0,2,   1151.4,2,   2324.0,2,   20.00,  -999.0,-999.0000,-999.000,  2.9341,-999.000
   31WTTUNES_2,  P17S,   174,  1,     25,     25,2,19910806,1544,-30.5350,-134.3250, 3648,   1531.6,   2.6660,  34.5426,2,  34.5430,2,    161.9,2,    169.2,4,    86.12,2,    34.80,2,     0.00,2,     2.46,2, -999.000,9, -999.000,9, -999.000,9,-999.0000,9,  -999.00,9,   -999.0,9,   -999.0,9,   2262.6,2,   1170.6,2,   -999.0,9,   20.00,  -999.0,-999.0000,-999.000,  2.5596,-999.000
   31WTTUNES_2,  P17S,   174,  1,     26,     26,2,19910806,1544,-30.5350,-134.3250, 3648,   1685.5,   2.4131,  34.5857,2,  34.5848,2,    157.9,2,    158.0,2,    99.02,2,    34.99,2,     0.00,2,     2.48,2, -999.000,9, -999.000,9, -999.000,9,-999.0000,9,  -999.00,9,   -999.0,9,   -999.0,9,   2281.4,2,   -999.0,5,   2350.7,2, -999.00,  -999.0,-999.0000,-999.000,  2.2971,-999.000
   31WTTUNES_2,  P17S,   174,  1,     27,     27,2,19910806,1544,-30.5350,-134.3250, 3648,   1840.7,   2.2431,  34.6112,2,  34.6108,2,    155.1,2,    155.1,2,   108.21,2,    35.29,2,     0.00,2,     2.48,2, -999.000,9, -999.000,9, -999.000,9,-999.0000,9,  -999.00,9,   -999.0,9,   -999.0,9,   2290.7,2,   -999.0,5,   -999.0,9, -999.00,  -999.0,-999.0000,-999.000,  2.1165,-999.000
   31WTTUNES_2,  P17S,   174,  1,     28,     28,2,19910806,1544,-30.5350,-134.3250, 3648,   2046.4,   2.0762,  34.6327,2,  34.6322,2,    153.8,2,    153.2,2,   116.71,2,    35.38,2,     0.00,2,     2.50,2, -999.000,9, -999.000,9, -999.000,9,-999.0000,9,  -999.00,9,   -999.0,9,   -999.0,9,   2294.5,2,   1180.6,2,   2371.4,2,   20.00,  -999.0,-999.0000,-999.000,  1.9346,-999.000
   31WTTUNES_2,  P17S,   174,  1,     29,     29,2,19910806,1544,-30.5350,-134.3250, 3648,   2252.8,   1.9422,  34.6481,2,  34.6465,2,    153.7,2,    153.2,2,   122.77,2,    35.48,2,     0.00,2,     2.51,2, -999.000,9, -999.000,9, -999.000,9,-999.0000,9,  -999.00,9,   -999.0,9,   -999.0,9,   2304.8,2,   1183.1,2,   -999.0,9,   20.00,  -999.0,-999.0000,-999.000,  1.7850,-999.000
   31WTTUNES_2,  P17S,   174,  1,     30,     30,2,19910806,1544,-30.5350,-134.3250, 3648,   2459.2,   1.8612,  34.6549,2,  34.6548,2,    155.2,2,    154.7,2,   125.60,2,    35.38,2,     0.00,2,     2.51,2, -999.000,9, -999.000,9, -999.000,9,-999.0000,9,  -999.00,9,   -999.0,9,   -999.0,9,   2304.9,2,   1190.2,2,   2361.5,2,   20.00,  -999.0,-999.0000,-999.000,  1.6872,-999.000
   31WTTUNES_2,  P17S,   174,  1,     31,     31,2,19910806,1544,-30.5350,-134.3250, 3648,   2665.9,   1.7733,  34.6644,2,  34.6625,2,    157.4,2,    157.4,2,   126.97,2,    35.29,2,     0.00,2,     2.49,2, -999.000,9, -999.000,9, -999.000,9,-999.0000,9,  -999.00,9,   -999.0,9,   -999.0,9,   2305.3,2,   1167.0,2,   -999.0,9,   20.00,  -999.0,-999.0000,-999.000,  1.5821,-999.000
   31WTTUNES_2,  P17S,   174,  1,     32,     32,2,19910806,1544,-30.5350,-134.3250, 3648,   2873.4,   1.7033,  34.6693,2,  34.6688,2,    161.5,2,    161.3,2,   127.16,2,    34.80,2,     0.00,2,     2.46,2, -999.000,9, -999.000,9, -999.000,9,-999.0000,9,  -999.00,9,   -999.0,9,   -999.0,9,   2299.7,2,   1169.0,2,   2374.5,2,   20.00,  -999.0,-999.0000,-999.000,  1.4941,-999.000
   31WTTUNES_2,  P17S,   174,  1,     33,     33,2,19910806,1544,-30.5350,-134.3250, 3648,   3081.1,   1.6653,  34.6746,2,  34.6739,2,    164.8,2,    164.2,2,   126.97,2,    34.80,2,     0.00,2,     2.45,2, -999.000,9, -999.000,9, -999.000,9,-999.0000,9,  -999.00,9,   -999.0,9,   -999.0,9,   2300.4,2,   1151.7,2,   -999.0,9,   20.00,  -999.0,-999.0000,-999.000,  1.4370,-999.000
   31WTTUNES_2,  P17S,   174,  1,     34,     34,2,19910806,1544,-30.5350,-134.3250, 3648,   3287.5,   1.6223,  34.6786,2,  34.6767,2,    167.9,2,    167.7,2,   126.97,2,    34.50,2,     0.00,2,     2.44,2, -999.000,9, -999.000,9, -999.000,9,-999.0000,9,  -999.00,9,   -999.0,9,   -999.0,9,   2294.8,2,   1142.0,2,   2377.1,2,   20.00,  -999.0,-999.0000,-999.000,  1.3746,-999.000
   31WTTUNES_2,  P17S,   174,  1,     35,     35,2,19910806,1544,-30.5350,-134.3250, 3648,   3495.3,   1.5763,  34.6830,2,  34.6806,2,    170.9,2,    171.4,2,   126.28,2,    34.31,2,     0.00,2,     2.40,2, -999.000,9, -999.000,9, -999.000,9,-999.0000,9,  -999.00,9,   -999.0,9,   -999.0,9,   2293.3,2,   1127.6,2,   -999.0,9,   20.00,  -999.0,-999.0000,-999.000,  1.3087,-999.000
   31WTTUNES_2,  P17S,   174,  1,     38,     38,2,19910806,1544,-30.5350,-134.3250, 3648,   3709.2,   1.5063,  34.6884,2,  34.6873,2,    175.6,2,    176.6,2,   124.82,2,    33.82,2,     0.00,2,     2.38,2, -999.000,9, -999.000,9, -999.000,9,-999.0000,9,  -999.00,9,   -999.0,9,   -999.0,9,   2288.6,2,   1118.0,2,   2372.2,2,   20.00,  -999.0,-999.0000,-999.000,  1.2183,-999.000