BOTTLE,20131125MIRCJHATS
EXPOCODE,SECT_ID,STNNBR,CASTNO,SAMPNO,BTLNBR,BTLNBR_FLAG_W,DATE,TIME,LATITUDE,LONGITUDE,DEPTH,CTDPRS,CTDTMP,CTDSAL,CTDSAL_FLAG_W,SALNTY,SALNTY_FLAG_W,CTDOXY,CTDOXY_FLAG_W,OXYGEN,OXYGEN_FLAG_W,SILCAT,SILCAT_FLAG_W,NITRAT,NITRAT_FLAG_W,NITRIT,NITRIT_FLAG_W,PHSPHT,PHSPHT_FLAG_W,CFC-11,CFC-11_FLAG_W,CFC-12,CFC-12_FLAG_W,TRITUM,TRITUM_FLAG_W,HELIUM,HELIUM_FLAG_W,DELHE3,DELHE3_FLAG_W,DELC14,DELC14_FLAG_W,DELC13,DELC13_FLAG_W,TCARBN,TCARBN_FLAG_W,PCO2,PCO2_FLAG_W,ALKALI,ALKALI_FLAG_W,PCO2TMP,C14ERR,HELIER,DELHER,THETA,TRITER
,,,,,,,,,,,,DBAR,ITS-90,PSS-78,,PSS-78,,UMOL/KG,,UMOL/KG,,UMOL/KG,,UMOL/KG,,UMOL/KG,,UMOL/KG,,PMOL/KG,,PMOL/KG,,TU,,NMOL/KG,,PERCNT,,/MILLE,,/MILLE,,UMOL/KG,,UATM,,UMOL/KG,,DEG C,/MILLE,NMOL/KG,PERCNT,DEG C,TU
   31WTTUNES_2,  P17S,   165,  2,     13,     13,2,19910803,0932,-26.1050,-133.0767, 4165,      4.6,  20.9953,  35.6129,2,  35.6153,2,    218.3,3,    221.4,2,     1.51,2,     0.07,2,     0.00,2,     0.10,2,    2.024,2,    1.125,2, -999.000,9,-999.0000,9,  -999.00,9,   -999.0,9,   -999.0,9,   1971.2,2,    298.9,2,   -999.0,9,   20.00,  -999.0,-999.0000,-999.000, 20.9944,-999.000
   31WTTUNES_2,  P17S,   165,  2,     37,     37,2,19910803,0932,-26.1050,-133.0767, 4165,     39.6,  20.0550,  35.5334,2,  35.5377,2,    227.5,2,    225.2,2,     1.50,2,     0.07,2,     0.00,2,     0.10,2,    2.157,2,    1.149,2, -999.000,9,-999.0000,9,  -999.00,9,   -999.0,9,   -999.0,9,   -999.0,9,   -999.0,9,   -999.0,9, -999.00,  -999.0,-999.0000,-999.000, 20.0476,-999.000
   31WTTUNES_2,  P17S,   165,  2,     15,     15,2,19910803,0932,-26.1050,-133.0767, 4165,     60.1,  19.9339,  35.5190,2,  35.5214,2,    227.5,2,    225.7,2,     1.49,2,     0.02,2,     0.00,2,     0.09,2,    2.161,2,    1.161,2, -999.000,9,-999.0000,9,  -999.00,9,   -999.0,9,   -999.0,9,   -999.0,9,   -999.0,9,   -999.0,9, -999.00,  -999.0,-999.0000,-999.000, 19.9229,-999.000
   31WTTUNES_2,  P17S,   165,  2,     16,     16,2,19910803,0932,-26.1050,-133.0767, 4165,     95.6,  19.8699,  35.5051,2,  35.5064,2,    225.7,2,    225.5,2,     1.48,2,     0.02,2,     0.00,2,     0.09,2,    2.186,2,    1.161,2, -999.000,9,-999.0000,9,  -999.00,9,   -999.0,9,   -999.0,9,   -999.0,9,   -999.0,9,   -999.0,9, -999.00,  -999.0,-999.0000,-999.000, 19.8523,-999.000
   31WTTUNES_2,  P17S,   165,  2,     17,     17,2,19910803,0932,-26.1050,-133.0767, 4165,    136.1,  19.7129,  35.4775,2,  35.4791,2,    227.5,2,    226.4,2,     1.47,2,     0.02,2,     0.00,2,     0.09,2,    2.183,2,    1.163,2, -999.000,9,-999.0000,9,  -999.00,9,   -999.0,9,   -999.0,9,   -999.0,9,   -999.0,9,   -999.0,9, -999.00,  -999.0,-999.0000,-999.000, 19.6879,-999.000
   31WTTUNES_2,  P17S,   165,  2,     18,     18,2,19910803,0932,-26.1050,-133.0767, 4165,    167.3,  19.4798,  35.4660,2,  35.4640,2,    220.8,2,    220.8,2,     1.46,2,     0.11,2,     0.02,2,     0.11,2,    2.073,2,    1.161,2, -999.000,9,-999.0000,9,  -999.00,9,   -999.0,9,   -999.0,9,   -999.0,9,   -999.0,9,   -999.0,9, -999.00,  -999.0,-999.0000,-999.000, 19.4494,-999.000
   31WTTUNES_2,  P17S,   165,  2,     19,     19,2,19910803,0932,-26.1050,-133.0767, 4165,    198.2,  18.1784,  35.4162,2,  35.4212,2,    214.9,2,    211.7,2,     1.46,2,     0.64,2,     0.05,2,     0.20,2,    2.141,2,    1.121,2, -999.000,9,-999.0000,9,  -999.00,9,   -999.0,9,   -999.0,9,   -999.0,9,   -999.0,9,   -999.0,9, -999.00,  -999.0,-999.0000,-999.000, 18.1440,-999.000
   31WTTUNES_2,  P17S,   165,  2,     20,     20,2,19910803,0932,-26.1050,-133.0767, 4165,    229.7,  17.2192,  35.3589,2,  35.3569,2,    205.7,2,    201.1,2,     1.45,2,     2.52,2,     0.00,2,     0.33,2,    1.998,2,    1.043,2, -999.000,9,-999.0000,9,  -999.00,9,   -999.0,9,   -999.0,9,   -999.0,9,   -999.0,9,   -999.0,9, -999.00,  -999.0,-999.0000,-999.000, 17.1808,-999.000
   31WTTUNES_2,  P17S,   165,  2,     21,     21,2,19910803,0932,-26.1050,-133.0767, 4165,    270.4,  16.2089,  35.2973,2,  35.3037,2,    196.3,6,    196.5,2,     1.64,2,     4.46,2,     0.00,2,     0.44,2,    1.823,2,    0.964,2, -999.000,9,-999.0000,9,  -999.00,9,   -999.0,9,   -999.0,9,   -999.0,9,   -999.0,9,   -999.0,9, -999.00,  -999.0,-999.0000,-999.000, 16.1656,-999.000
   31WTTUNES_2,  P17S,   165,  2,     22,     22,2,19910803,0932,-26.1050,-133.0767, 4165,    311.6,  15.0957,  35.1854,2,  35.1898,2,    193.8,2,    195.3,2,     1.82,2,     6.39,2,     0.00,2,     0.57,2,    1.710,2,    0.900,2, -999.000,9,-999.0000,9,  -999.00,9,   -999.0,9,   -999.0,9,   -999.0,9,   -999.0,9,   -999.0,9, -999.00,  -999.0,-999.0000,-999.000, 15.0481,-999.000
   31WTTUNES_2,  P17S,   165,  2,     23,     23,2,19910803,0932,-26.1050,-133.0767, 4165,    362.3,  12.9444,  34.9314,2,  34.9362,2,    195.3,2,    192.6,2,     3.19,2,    10.56,2,     0.00,2,     0.83,2,    1.413,2,    0.728,2, -999.000,9,-999.0000,9,  -999.00,9,   -999.0,9,   -999.0,9,   -999.0,9,   -999.0,9,   -999.0,9, -999.00,  -999.0,-999.0000,-999.000, 12.8945,-999.000
   31WTTUNES_2,  P17S,   165,  2,     24,     24,2,19910803,0932,-26.1050,-133.0767, 4165,    413.5,  10.4143,  34.6376,2,  34.6484,2,    194.1,2,    193.7,2,     5.34,2,    16.11,2,     0.00,2,     1.19,2,    1.009,2,    0.518,2, -999.000,9,-999.0000,9,  -999.00,9,   -999.0,9,   -999.0,9,   -999.0,9,   -999.0,9,   -999.0,9, -999.00,  -999.0,-999.0000,-999.000, 10.3647,-999.000
   31WTTUNES_2,  P17S,   165,  2,     25,     25,2,19910803,0932,-26.1050,-133.0767, 4165,    515.3,   7.4973,  34.3974,2,  34.3992,2,    212.9,2,    215.4,2,     7.88,2,    22.17,2,     0.00,2,     1.56,2,    0.867,2,    0.449,2, -999.000,9,-999.0000,9,  -999.00,9,   -999.0,9,   -999.0,9,   -999.0,9,   -999.0,9,   -999.0,9, -999.00,  -999.0,-999.0000,-999.000,  7.4465,-999.000
   31WTTUNES_2,  P17S,   165,  2,     26,     26,2,19910803,0932,-26.1050,-133.0767, 4165,    617.5,   6.4544,  34.3399,2,  34.3401,2,    228.7,2,    231.7,2,     9.64,2,    23.90,2,     0.00,2,     1.66,2,    0.669,2,    0.352,2, -999.000,9,-999.0000,9,  -999.00,9,   -999.0,9,   -999.0,9,   -999.0,9,   -999.0,9,   -999.0,9, -999.00,  -999.0,-999.0000,-999.000,  6.3980,-999.000
   31WTTUNES_2,  P17S,   165,  2,     27,     27,2,19910803,0932,-26.1050,-133.0767, 4165,    721.5,   5.8075,  34.3048,2,  34.3056,2,    230.9,2,    231.6,2,    12.76,2,    25.73,2,     0.00,2,     1.77,2,    0.384,2,    0.219,2, -999.000,9,-999.0000,9,  -999.00,9,   -999.0,9,   -999.0,9,   -999.0,9,   -999.0,9,   -999.0,9, -999.00,  -999.0,-999.0000,-999.000,  5.7446,-999.000
   31WTTUNES_2,  P17S,   165,  2,     28,     28,2,19910803,0932,-26.1050,-133.0767, 4165,    824.0,   5.1926,  34.2946,2,  34.2954,2,    213.4,2,    213.7,2,    19.42,2,    28.60,2,     0.00,2,     1.97,2,    0.153,2,    0.099,2, -999.000,9,-999.0000,9,  -999.00,9,   -999.0,9,   -999.0,9,   -999.0,9,   -999.0,9,   -999.0,9, -999.00,  -999.0,-999.0000,-999.000,  5.1240,-999.000
   31WTTUNES_2,  P17S,   165,  2,     29,     29,2,19910803,0932,-26.1050,-133.0767, 4165,    925.6,   4.6996,  34.3112,2,  34.3113,2,    197.5,2,    196.5,2,    28.43,2,    30.96,2,     0.00,2,     2.15,2,    0.065,2,    0.047,2, -999.000,9,-999.0000,9,  -999.00,9,   -999.0,9,   -999.0,9,   -999.0,9,   -999.0,9,   -999.0,9, -999.00,  -999.0,-999.0000,-999.000,  4.6254,-999.000
   31WTTUNES_2,  P17S,   165,  2,     30,     30,2,19910803,0932,-26.1050,-133.0767, 4165,   1029.1,   4.0667,  34.3608,2,  34.3609,2,    177.6,2,    175.5,2,    43.13,2,    33.53,2,     0.00,2,     2.34,2,    0.015,2,    0.014,2, -999.000,9,-999.0000,9,  -999.00,9,   -999.0,9,   -999.0,9,   -999.0,9,   -999.0,9,   -999.0,9, -999.00,  -999.0,-999.0000,-999.000,  3.9884,-999.000
   31WTTUNES_2,  P17S,   165,  2,     31,     31,2,19910803,0932,-26.1050,-133.0767, 4165,   1130.3,   3.6138,  34.4222,2,  34.4228,2,    163.9,2,    161.3,2,    58.45,2,    34.88,2,     0.00,2,     2.43,2,    0.000,8,    0.004,7, -999.000,9,-999.0000,9,  -999.00,9,   -999.0,9,   -999.0,9,   -999.0,9,   -999.0,9,   -999.0,9, -999.00,  -999.0,-999.0000,-999.000,  3.5307,-999.000
   31WTTUNES_2,  P17S,   165,  2,     32,     32,2,19910803,0932,-26.1050,-133.0767, 4165,   1286.5,   3.1639,  34.4846,2,  34.4860,2,    156.5,2,    155.4,2,    73.82,2,    35.29,2,     0.00,2,     2.48,2,   -0.001,2,    0.000,2, -999.000,9,-999.0000,9,  -999.00,9,   -999.0,9,   -999.0,9,   -999.0,9,   -999.0,9,   -999.0,9, -999.00,  -999.0,-999.0000,-999.000,  3.0721,-999.000
   31WTTUNES_2,  P17S,   165,  2,     33,     33,2,19910803,0932,-26.1050,-133.0767, 4165,   1440.4,   2.7850,  34.5431,2,  34.5429,2,    153.1,2,    153.6,2,    89.27,2,    35.39,2,     0.00,2,     2.50,2,    0.000,2,    0.000,2, -999.000,9,-999.0000,9,  -999.00,9,   -999.0,9,   -999.0,9,   -999.0,9,   -999.0,9,   -999.0,9, -999.00,  -999.0,-999.0000,-999.000,  2.6846,-999.000
   31WTTUNES_2,  P17S,   165,  2,     34,     34,2,19910803,0932,-26.1050,-133.0767, 4165,   1644.7,   2.4841,  34.5825,2,  34.5824,2,    154.1,2,    153.5,2,   101.64,2,    35.38,2,     0.00,2,     2.50,2, -999.000,9, -999.000,9, -999.000,9,-999.0000,9,  -999.00,9,   -999.0,9,   -999.0,9,   -999.0,9,   -999.0,9,   -999.0,9, -999.00,  -999.0,-999.0000,-999.000,  2.3705,-999.000
   31WTTUNES_2,  P17S,   165,  2,     35,     35,3,19910803,0932,-26.1050,-133.0767, 4165,   1644.8,   2.4831,  34.5823,2,  34.5893,4,    154.1,2,    154.4,4,    99.22,4,    34.70,4,     0.00,4,     2.44,4, -999.000,9, -999.000,9, -999.000,9,-999.0000,9,  -999.00,9,   -999.0,9,   -999.0,9,   -999.0,9,   -999.0,9,   -999.0,9, -999.00,  -999.0,-999.0000,-999.000,  2.3695,-999.000
   31WTTUNES_2,  P17S,   165,  2,     38,     38,2,19910803,0932,-26.1050,-133.0767, 4165,   1850.8,   2.2221,  34.6133,2,  34.6124,2,    152.4,2,    153.2,2,   111.26,2,    35.27,2,     0.00,2,     2.48,2,    0.000,7,    0.000,2, -999.000,9,-999.0000,9,  -999.00,9,   -999.0,9,   -999.0,9,   -999.0,9,   -999.0,9,   -999.0,9, -999.00,  -999.0,-999.0000,-999.000,  2.0950,-999.000
   31WTTUNES_2,  P17S,   165,  2,     61,     61,2,19910803,0932,-26.1050,-133.0767, 4165,   2057.7,   2.0422,  34.6346,2,  34.6388,2,    154.4,2,    153.0,2,   118.94,2,    35.37,2,     0.00,2,     2.49,2,    0.000,7,    0.000,2, -999.000,9,-999.0000,9,  -999.00,9,   -999.0,9,   -999.0,9,   -999.0,9,   -999.0,9,   -999.0,9, -999.00,  -999.0,-999.0000,-999.000,  1.9002,-999.000
   31WTTUNES_2,  P17S,   165,  2,      2,      2,2,19910803,0932,-26.1050,-133.0767, 4165,   2264.7,   1.9342,  34.6453,2,  34.6468,2,    154.9,2,    154.4,2,   123.00,2,    35.21,2,     0.00,2,     2.48,2,    0.020,4,    0.000,2, -999.000,9,-999.0000,9,  -999.00,9,   -999.0,9,   -999.0,9,   -999.0,9,   -999.0,9,   -999.0,9, -999.00,  -999.0,-999.0000,-999.000,  1.7761,-999.000
   31WTTUNES_2,  P17S,   165,  2,      3,      3,2,19910803,0932,-26.1050,-133.0767, 4165,   2469.1,   1.8432,  34.6553,2,  34.6561,2,    156.6,2,    157.3,2,   124.40,2,    35.05,2,     0.00,2,     2.47,2, -999.000,9, -999.000,9, -999.000,9,-999.0000,9,  -999.00,9,   -999.0,9,   -999.0,9,   -999.0,9,   -999.0,9,   -999.0,9, -999.00,  -999.0,-999.0000,-999.000,  1.6686,-999.000
   31WTTUNES_2,  P17S,   165,  2,      4,      4,2,19910803,0932,-26.1050,-133.0767, 4165,   2674.0,   1.7673,  34.6628,2,  34.6624,2,    161.0,2,    160.1,2,   125.81,2,    34.79,2,     0.00,2,     2.45,2, -999.000,9, -999.000,9, -999.000,9,-999.0000,9,  -999.00,9,   -999.0,9,   -999.0,9,   -999.0,9,   -999.0,9,   -999.0,9, -999.00,  -999.0,-999.0000,-999.000,  1.5754,-999.000
   31WTTUNES_2,  P17S,   165,  2,      5,      5,2,19910803,0932,-26.1050,-133.0767, 4165,   2877.4,   1.7073,  34.6687,2,  34.6684,2,    163.5,2,    163.5,2,   125.99,2,    34.73,2,     0.00,2,     2.43,2, -999.000,9, -999.000,9, -999.000,9,-999.0000,9,  -999.00,9,   -999.0,9,   -999.0,9,   -999.0,9,   -999.0,9,   -999.0,9, -999.00,  -999.0,-999.0000,-999.000,  1.4977,-999.000
   31WTTUNES_2,  P17S,   165,  2,      6,      6,2,19910803,0932,-26.1050,-133.0767, 4165,   3079.7,   1.6513,  34.6736,2,  34.6739,2,    165.3,2,    167.3,2,   126.18,2,    34.47,2,     0.00,2,     2.41,2, -999.000,9, -999.000,9, -999.000,9,-999.0000,9,  -999.00,9,   -999.0,9,   -999.0,9,   -999.0,9,   -999.0,9,   -999.0,9, -999.00,  -999.0,-999.0000,-999.000,  1.4235,-999.000
   31WTTUNES_2,  P17S,   165,  2,      7,      7,2,19910803,0932,-26.1050,-133.0767, 4165,   3280.2,   1.6013,  34.6791,2,  34.6789,2,    170.7,2,    170.4,2,   125.95,2,    34.20,2,     0.00,2,     2.39,2, -999.000,9, -999.000,9, -999.000,9,-999.0000,9,  -999.00,9,   -999.0,9,   -999.0,9,   -999.0,9,   -999.0,9,   -999.0,9, -999.00,  -999.0,-999.0000,-999.000,  1.3549,-999.000
   31WTTUNES_2,  P17S,   165,  2,     68,     68,2,19910803,0932,-26.1050,-133.0767, 4165,   3489.1,   1.5633,  34.6831,2,  34.6826,2,    171.2,2,    172.9,2,   125.93,2,    33.99,2,     0.00,2,     2.38,2,    0.000,7,    0.000,2, -999.000,9,-999.0000,9,  -999.00,9,   -999.0,9,   -999.0,9,   -999.0,9,   -999.0,9,   -999.0,9, -999.00,  -999.0,-999.0000,-999.000,  1.2967,-999.000
   31WTTUNES_2,  P17S,   165,  2,     69,     69,2,19910803,0932,-26.1050,-133.0767, 4165,   3702.0,   1.5493,  34.6858,2,  34.6855,2,    175.1,2,    175.2,2,   125.70,2,    33.99,2,     0.00,2,     2.37,2,    0.000,2,    0.000,2, -999.000,9,-999.0000,9,  -999.00,9,   -999.0,9,   -999.0,9,   -999.0,9,   -999.0,9,   -999.0,9, -999.00,  -999.0,-999.0000,-999.000,  1.2609,-999.000
   31WTTUNES_2,  P17S,   165,  2,     70,     70,2,19910803,0932,-26.1050,-133.0767, 4165,   3910.4,   1.5543,  34.6865,2,  34.6861,2,    175.3,2,    175.6,2,   125.88,2,    33.94,2,     0.00,2,     2.36,2,    0.000,7,    0.000,2, -999.000,9,-999.0000,9,  -999.00,9,   -999.0,9,   -999.0,9,   -999.0,9,   -999.0,9,   -999.0,9, -999.00,  -999.0,-999.0000,-999.000,  1.2436,-999.000
   31WTTUNES_2,  P17S,   165,  2,     11,     11,2,19910803,0932,-26.1050,-133.0767, 4165,   4119.2,   1.5653,  34.6871,2,  34.6873,2,    174.7,2,    176.6,2,   125.45,2,    33.83,2,     0.00,2,     2.36,2,    0.000,2,    0.000,2, -999.000,9,-999.0000,9,  -999.00,9,   -999.0,9,   -999.0,9,   -999.0,9,   -999.0,9,   -999.0,9, -999.00,  -999.0,-999.0000,-999.000,  1.2314,-999.000
   31WTTUNES_2,  P17S,   165,  2,     12,     12,2,19910803,0932,-26.1050,-133.0767, 4165,   4239.2,   1.5753,  34.6877,2,  34.6879,2,    176.6,2,    175.6,2,   125.43,2,    33.72,2,     0.00,2,     2.36,2, -999.000,9, -999.000,9, -999.000,9,-999.0000,9,  -999.00,9,   -999.0,9,   -999.0,9,   -999.0,9,   -999.0,9,   -999.0,9, -999.00,  -999.0,-999.0000,-999.000,  1.2277,-999.000