BOTTLE,20131125MIRCJHATS
EXPOCODE,SECT_ID,STNNBR,CASTNO,SAMPNO,BTLNBR,BTLNBR_FLAG_W,DATE,TIME,LATITUDE,LONGITUDE,DEPTH,CTDPRS,CTDTMP,CTDSAL,CTDSAL_FLAG_W,SALNTY,SALNTY_FLAG_W,CTDOXY,CTDOXY_FLAG_W,OXYGEN,OXYGEN_FLAG_W,SILCAT,SILCAT_FLAG_W,NITRAT,NITRAT_FLAG_W,NITRIT,NITRIT_FLAG_W,PHSPHT,PHSPHT_FLAG_W,CFC-11,CFC-11_FLAG_W,CFC-12,CFC-12_FLAG_W,TRITUM,TRITUM_FLAG_W,HELIUM,HELIUM_FLAG_W,DELHE3,DELHE3_FLAG_W,DELC14,DELC14_FLAG_W,DELC13,DELC13_FLAG_W,TCARBN,TCARBN_FLAG_W,PCO2,PCO2_FLAG_W,ALKALI,ALKALI_FLAG_W,PCO2TMP,C14ERR,HELIER,DELHER,THETA,TRITER
,,,,,,,,,,,,DBAR,ITS-90,PSS-78,,PSS-78,,UMOL/KG,,UMOL/KG,,UMOL/KG,,UMOL/KG,,UMOL/KG,,UMOL/KG,,PMOL/KG,,PMOL/KG,,TU,,NMOL/KG,,PERCNT,,/MILLE,,/MILLE,,UMOL/KG,,UATM,,UMOL/KG,,DEG C,/MILLE,NMOL/KG,PERCNT,DEG C,TU
   31WTTUNES_2,  P16S,   200,  1,     61,     61,2,19910819,1545,-27.5017,-150.4867, 3413,      3.5,  19.3077,  35.5680,2,  35.5709,2,    225.8,3,    228.4,2,     1.17,2,     0.00,2,     0.00,2,     0.08,2,    2.237,2,    1.194,2, -999.000,9,-999.0000,9,  -999.00,9,   -999.0,9,   -999.0,9,   2018.1,2,    304.2,2,   -999.0,9,   20.00,  -999.0,-999.0000,-999.000, 19.3071,-999.000
   31WTTUNES_2,  P16S,   200,  1,      2,      2,2,19910819,1545,-27.5017,-150.4867, 3413,     52.8,  19.2897,  35.5660,2,  35.5711,2,    227.1,2,    228.4,2,     1.17,2,     0.00,2,     0.00,2,     0.07,2,    2.200,2,    1.195,2, -999.000,9,-999.0000,9,  -999.00,9,   -999.0,9,   -999.0,9,   -999.0,9,   -999.0,9,   -999.0,9, -999.00,  -999.0,-999.0000,-999.000, 19.2802,-999.000
   31WTTUNES_2,  P16S,   200,  1,      3,      3,2,19910819,1545,-27.5017,-150.4867, 3413,    102.9,  19.2297,  35.5639,2,  35.5660,2,    224.7,2,    226.5,2,     1.17,2,     0.10,2,     0.00,2,     0.09,2,    2.202,2,    1.176,2, -999.000,9,-999.0000,9,  -999.00,9,   -999.0,9,   -999.0,9,   -999.0,9,   -999.0,9,   -999.0,9, -999.00,  -999.0,-999.0000,-999.000, 19.2112,-999.000
   31WTTUNES_2,  P16S,   200,  1,     64,     64,2,19910819,1545,-27.5017,-150.4867, 3413,    153.7,  17.5718,  35.4849,2,  35.4876,2,    211.2,2,    210.6,2,     1.17,2,     1.66,2,     0.03,2,     0.25,2,    2.115,2,    1.119,2, -999.000,9,-999.0000,9,  -999.00,9,   -999.0,9,   -999.0,9,   -999.0,9,   -999.0,9,   -999.0,9, -999.00,  -999.0,-999.0000,-999.000, 17.5458,-999.000
   31WTTUNES_2,  P16S,   200,  1,      5,      5,2,19910819,1545,-27.5017,-150.4867, 3413,    205.0,  16.2829,  35.4047,2,  35.3993,2,    205.6,2,    200.5,2,     1.37,2,     4.20,2,     0.00,2,     0.43,2,    1.949,2,    1.030,2, -999.000,9,-999.0000,9,  -999.00,9,   -999.0,9,   -999.0,9,   -999.0,9,   -999.0,9,   -999.0,9, -999.00,  -999.0,-999.0000,-999.000, 16.2500,-999.000
   31WTTUNES_2,  P16S,   200,  1,      6,      6,2,19910819,1545,-27.5017,-150.4867, 3413,    250.6,  15.2601,  35.3101,2,  35.3075,2,    201.2,2,    194.5,2,     2.15,2,     6.64,2,     0.00,2,     0.58,2,    1.740,2,    0.922,2, -999.000,9,-999.0000,9,  -999.00,9,   -999.0,9,   -999.0,9,   -999.0,9,   -999.0,9,   -999.0,9, -999.00,  -999.0,-999.0000,-999.000, 15.2215,-999.000
   31WTTUNES_2,  P16S,   200,  1,      7,      7,2,19910819,1545,-27.5017,-150.4867, 3413,    297.0,  14.0673,  35.1716,2,  35.1640,2,    192.1,2,    193.9,2,     2.54,2,     8.79,2,     0.00,2,     0.72,2,    1.617,2,    0.836,2, -999.000,9,-999.0000,9,  -999.00,9,   -999.0,9,   -999.0,9,   -999.0,9,   -999.0,9,   -999.0,9, -999.00,  -999.0,-999.0000,-999.000, 14.0240,-999.000
   31WTTUNES_2,  P16S,   200,  1,     68,     68,2,19910819,1545,-27.5017,-150.4867, 3413,    342.4,  12.6236,  34.9999,2,  35.0004,2,    190.7,2,    194.3,2,     3.22,2,    11.43,2,     0.00,2,     0.89,2,    1.441,2,    0.750,2, -999.000,9,-999.0000,9,  -999.00,9,   -999.0,9,   -999.0,9,   -999.0,9,   -999.0,9,   -999.0,9, -999.00,  -999.0,-999.0000,-999.000, 12.5772,-999.000
   31WTTUNES_2,  P16S,   200,  1,     69,     69,2,19910819,1545,-27.5017,-150.4867, 3413,    389.5,  11.1881,  34.8278,2,  34.8364,2,    194.3,2,    197.3,2,     4.20,2,    14.07,2,     0.00,2,     1.06,2,    1.247,2,    0.660,2, -999.000,9,-999.0000,9,  -999.00,9,   -999.0,9,   -999.0,9,   -999.0,9,   -999.0,9,   -999.0,9, -999.00,  -999.0,-999.0000,-999.000, 11.1392,-999.000
   31WTTUNES_2,  P16S,   200,  1,     70,     70,2,19910819,1545,-27.5017,-150.4867, 3413,    440.3,   9.4217,  34.6307,2,  34.6339,2,    206.4,2,    206.4,2,     5.18,2,    17.59,2,     0.00,2,     1.27,2,    1.080,2,    0.558,2, -999.000,9,-999.0000,9,  -999.00,9,   -999.0,9,   -999.0,9,   -999.0,9,   -999.0,9,   -999.0,9, -999.00,  -999.0,-999.0000,-999.000,  9.3721,-999.000
   31WTTUNES_2,  P16S,   200,  1,     11,     11,2,19910819,1545,-27.5017,-150.4867, 3413,    512.0,   8.1192,  34.4986,2,  34.5006,2,    217.9,2,    218.5,2,     6.26,2,    19.94,2,     0.00,2,     1.42,2,    0.979,2,    0.512,2, -999.000,9,-999.0000,9,  -999.00,9,   -999.0,9,   -999.0,9,   -999.0,9,   -999.0,9,   -999.0,9, -999.00,  -999.0,-999.0000,-999.000,  8.0663,-999.000
   31WTTUNES_2,  P16S,   200,  1,     12,     12,2,19910819,1545,-27.5017,-150.4867, 3413,    595.1,   7.2426,  34.4185,2,  34.4214,2,    228.5,2,    229.2,2,     7.63,2,    21.61,2,     0.00,2,     1.52,2,    0.886,2,    0.462,2, -999.000,9,-999.0000,9,  -999.00,9,   -999.0,9,   -999.0,9,   -999.0,9,   -999.0,9,   -999.0,9, -999.00,  -999.0,-999.0000,-999.000,  7.1847,-999.000
   31WTTUNES_2,  P16S,   200,  1,     13,     13,2,19910819,1545,-27.5017,-150.4867, 3413,    676.9,   6.6289,  34.3701,2,  34.3714,2,    231.5,2,    232.6,2,     9.29,2,    23.17,2,     0.00,2,     1.61,2,    0.641,2,    0.352,2, -999.000,9,-999.0000,9,  -999.00,9,   -999.0,9,   -999.0,9,   -999.0,9,   -999.0,9,   -999.0,9, -999.00,  -999.0,-999.0000,-999.000,  6.5659,-999.000
   31WTTUNES_2,  P16S,   200,  1,     37,     37,2,19910819,1545,-27.5017,-150.4867, 3413,    769.8,   5.9383,  34.3286,2,  34.3298,2,    227.3,2,    228.0,2,    13.30,2,    25.32,2,     0.00,2,     1.77,2,    0.338,2,    0.197,2, -999.000,9,-999.0000,9,  -999.00,9,   -999.0,9,   -999.0,9,   -999.0,9,   -999.0,9,   -999.0,9, -999.00,  -999.0,-999.0000,-999.000,  5.8702,-999.000
   31WTTUNES_2,  P16S,   200,  1,     15,     15,2,19910819,1545,-27.5017,-150.4867, 3413,    861.3,   5.3396,  34.3183,2,  34.3188,2,    216.1,2,    214.9,2,    20.63,2,    27.77,2,     0.00,2,     1.94,2,    0.161,2,    0.096,2, -999.000,9,-999.0000,9,  -999.00,9,   -999.0,9,   -999.0,9,   -999.0,9,   -999.0,9,   -999.0,9, -999.00,  -999.0,-999.0000,-999.000,  5.2667,-999.000
   31WTTUNES_2,  P16S,   200,  1,     16,     16,2,19910819,1545,-27.5017,-150.4867, 3413,    953.1,   4.7609,  34.3322,2,  34.3324,2,    201.6,2,    199.5,2,    29.92,2,    29.92,2,     0.00,2,     2.10,2,    0.073,2,    0.047,2, -999.000,9,-999.0000,9,  -999.00,9,   -999.0,9,   -999.0,9,   -999.0,9,   -999.0,9,   -999.0,9, -999.00,  -999.0,-999.0000,-999.000,  4.6839,-999.000
   31WTTUNES_2,  P16S,   200,  1,     17,     17,2,19910819,1545,-27.5017,-150.4867, 3413,   1046.2,   4.3072,  34.3619,2,  34.3606,2,    187.5,2,    187.1,2,    39.50,2,    31.58,2,     0.00,2,     2.22,2,    0.033,2,    0.021,2, -999.000,9,-999.0000,9,  -999.00,9,   -999.0,9,   -999.0,9,   -999.0,9,   -999.0,9,   -999.0,9, -999.00,  -999.0,-999.0000,-999.000,  4.2255,-999.000
   31WTTUNES_2,  P16S,   200,  1,     18,     18,2,19910819,1545,-27.5017,-150.4867, 3413,   1137.0,   3.9044,  34.3975,2,  34.3973,2,    178.2,2,    177.5,2,    50.45,2,    32.85,2,     0.00,2,     2.32,2,    0.015,2,    0.011,2, -999.000,9,-999.0000,9,  -999.00,9,   -999.0,9,   -999.0,9,   -999.0,9,   -999.0,9,   -999.0,9, -999.00,  -999.0,-999.0000,-999.000,  3.8183,-999.000
   31WTTUNES_2,  P16S,   200,  1,     19,     19,2,19910819,1545,-27.5017,-150.4867, 3413,   1226.1,   3.5806,  34.4351,2,  34.4362,2,    171.8,2,    170.4,2,    60.61,2,    33.73,2,     0.00,2,     2.36,2,    0.007,2,    0.007,2, -999.000,9,-999.0000,9,  -999.00,9,   -999.0,9,   -999.0,9,   -999.0,9,   -999.0,9,   -999.0,9, -999.00,  -999.0,-999.0000,-999.000,  3.4899,-999.000
   31WTTUNES_2,  P16S,   200,  1,     20,     20,2,19910819,1545,-27.5017,-150.4867, 3413,   1327.2,   3.1929,  34.4808,2,  34.4810,2,    165.1,2,    164.9,2,    72.63,2,    34.31,2,     0.00,2,     2.41,2, -999.000,9, -999.000,9, -999.000,9,-999.0000,9,  -999.00,9,   -999.0,9,   -999.0,9,   -999.0,9,   -999.0,9,   -999.0,9, -999.00,  -999.0,-999.0000,-999.000,  3.0975,-999.000
   31WTTUNES_2,  P16S,   200,  1,     21,     21,2,19910819,1545,-27.5017,-150.4867, 3413,   1431.9,   2.9630,  34.5107,2,  34.5108,2,    160.3,2,    162.2,2,    80.75,2,    34.61,2,     0.00,2,     2.42,2, -999.000,9, -999.000,9, -999.000,9,-999.0000,9,  -999.00,9,   -999.0,9,   -999.0,9,   -999.0,9,   -999.0,9,   -999.0,9, -999.00,  -999.0,-999.0000,-999.000,  2.8614,-999.000
   31WTTUNES_2,  P16S,   200,  1,     22,     22,2,19910819,1545,-27.5017,-150.4867, 3413,   1535.1,   2.7612,  34.5384,2,  34.5393,2,    159.0,2,    159.8,2,    88.95,2,    34.70,2,     0.00,2,     2.44,2, -999.000,9, -999.000,9, -999.000,9,-999.0000,9,  -999.00,9,   -999.0,9,   -999.0,9,   -999.0,9,   -999.0,9,   -999.0,9, -999.00,  -999.0,-999.0000,-999.000,  2.6533,-999.000
   31WTTUNES_2,  P16S,   200,  1,     24,     24,2,19910819,1545,-27.5017,-150.4867, 3413,   1660.2,   2.5283,  34.5736,2,  34.5739,2,    155.5,2,    156.8,2,    98.43,2,    34.99,2,     0.00,2,     2.46,2, -999.000,9, -999.000,9, -999.000,9,-999.0000,9,  -999.00,9,   -999.0,9,   -999.0,9,   -999.0,9,   -999.0,9,   -999.0,9, -999.00,  -999.0,-999.0000,-999.000,  2.4129,-999.000
   31WTTUNES_2,  P16S,   200,  1,     25,     25,2,19910819,1545,-27.5017,-150.4867, 3413,   1795.3,   2.3714,  34.5977,2,  34.5978,2,    153.9,2,    154.4,2,   106.45,2,    35.19,2,     0.00,2,     2.47,2, -999.000,9, -999.000,9, -999.000,9,-999.0000,9,  -999.00,9,   -999.0,9,   -999.0,9,   -999.0,9,   -999.0,9,   -999.0,9, -999.00,  -999.0,-999.0000,-999.000,  2.2468,-999.000
   31WTTUNES_2,  P16S,   200,  1,     26,     26,2,19910819,1545,-27.5017,-150.4867, 3413,   1950.3,   2.1865,  34.6251,2,  34.6259,2,    150.0,2,    150.5,2,   115.44,2,    35.38,2,     0.00,2,     2.48,2, -999.000,9, -999.000,9, -999.000,9,-999.0000,9,  -999.00,9,   -999.0,9,   -999.0,9,   -999.0,9,   -999.0,9,   -999.0,9, -999.00,  -999.0,-999.0000,-999.000,  2.0515,-999.000
   31WTTUNES_2,  P16S,   200,  1,     27,     27,2,19910819,1545,-27.5017,-150.4867, 3413,   2105.8,   2.0666,  34.6388,2,  34.6389,2,    147.7,2,    148.6,2,   121.89,2,    35.68,2,     0.00,2,     2.51,2, -999.000,9, -999.000,9, -999.000,9,-999.0000,9,  -999.00,9,   -999.0,9,   -999.0,9,   -999.0,9,   -999.0,9,   -999.0,9, -999.00,  -999.0,-999.0000,-999.000,  1.9201,-999.000
   31WTTUNES_2,  P16S,   200,  1,     28,     28,2,19910819,1545,-27.5017,-150.4867, 3413,   2262.9,   2.0067,  34.6436,2,  34.6452,2,    147.8,2,    148.0,2,   125.89,2,    35.77,2,     0.00,2,     2.52,2, -999.000,9, -999.000,9, -999.000,9,-999.0000,9,  -999.00,9,   -999.0,9,   -999.0,9,   -999.0,9,   -999.0,9,   -999.0,9, -999.00,  -999.0,-999.0000,-999.000,  1.8475,-999.000
   31WTTUNES_2,  P16S,   200,  1,     29,     29,2,19910819,1545,-27.5017,-150.4867, 3413,   2417.7,   1.9147,  34.6538,2,  34.6529,2,    149.6,2,    148.4,2,   128.34,2,    35.68,2,     0.00,2,     2.51,2, -999.000,9, -999.000,9, -999.000,9,-999.0000,9,  -999.00,9,   -999.0,9,   -999.0,9,   -999.0,9,   -999.0,9,   -999.0,9, -999.00,  -999.0,-999.0000,-999.000,  1.7434,-999.000
   31WTTUNES_2,  P16S,   200,  1,     30,     30,2,19910819,1545,-27.5017,-150.4867, 3413,   2571.7,   1.8488,  34.6583,2,  34.6590,2,    150.1,2,    150.0,2,   130.49,2,    35.68,2,     0.00,2,     2.51,2, -999.000,9, -999.000,9, -999.000,9,-999.0000,9,  -999.00,9,   -999.0,9,   -999.0,9,   -999.0,9,   -999.0,9,   -999.0,9, -999.00,  -999.0,-999.0000,-999.000,  1.6648,-999.000
   31WTTUNES_2,  P16S,   200,  1,     31,     31,2,19910819,1545,-27.5017,-150.4867, 3413,   2701.7,   1.8048,  34.6623,2,  34.6625,2,    151.3,2,    151.6,2,   132.54,2,    35.68,2,     0.00,2,     2.50,2, -999.000,9, -999.000,9, -999.000,9,-999.0000,9,  -999.00,9,   -999.0,9,   -999.0,9,   -999.0,9,   -999.0,9,   -999.0,9, -999.00,  -999.0,-999.0000,-999.000,  1.6097,-999.000
   31WTTUNES_2,  P16S,   200,  1,     32,     32,2,19910819,1545,-27.5017,-150.4867, 3413,   2879.8,   1.7388,  34.6682,2,  34.6684,2,    155.4,2,    154.8,2,   132.54,2,    35.38,2,     0.00,2,     2.48,2, -999.000,9, -999.000,9, -999.000,9,-999.0000,9,  -999.00,9,   -999.0,9,   -999.0,9,   -999.0,9,   -999.0,9,   -999.0,9, -999.00,  -999.0,-999.0000,-999.000,  1.5283,-999.000
   31WTTUNES_2,  P16S,   200,  1,     33,     33,2,19910819,1545,-27.5017,-150.4867, 3413,   3029.1,   1.6969,  34.6724,2,  34.6722,2,    160.4,2,    158.8,2,   131.85,2,    35.19,2,     0.00,2,     2.46,2, -999.000,9, -999.000,9, -999.000,9,-999.0000,9,  -999.00,9,   -999.0,9,   -999.0,9,   -999.0,9,   -999.0,9,   -999.0,9, -999.00,  -999.0,-999.0000,-999.000,  1.4729,-999.000
   31WTTUNES_2,  P16S,   200,  1,     34,     34,2,19910819,1545,-27.5017,-150.4867, 3413,   3183.8,   1.6259,  34.6776,2,  34.6773,2,    165.1,2,    163.5,2,   131.46,2,    34.80,2,     0.00,2,     2.43,2, -999.000,9, -999.000,9, -999.000,9,-999.0000,9,  -999.00,9,   -999.0,9,   -999.0,9,   -999.0,9,   -999.0,9,   -999.0,9, -999.00,  -999.0,-999.0000,-999.000,  1.3885,-999.000
   31WTTUNES_2,  P16S,   200,  1,     39,     39,2,19910819,1545,-27.5017,-150.4867, 3413,   3339.7,   1.5730,  34.6824,2,  34.6820,2,    170.2,2,    167.8,2,   129.51,2,    34.41,2,     0.00,2,     2.40,2, -999.000,9, -999.000,9, -999.000,9,-999.0000,9,  -999.00,9,   -999.0,9,   -999.0,9,   -999.0,9,   -999.0,9,   -999.0,9, -999.00,  -999.0,-999.0000,-999.000,  1.3212,-999.000
   31WTTUNES_2,  P16S,   200,  1,     38,     38,2,19910819,1545,-27.5017,-150.4867, 3413,   3563.6,   1.5020,  34.6869,2,  34.6875,2,    174.9,2,    174.4,2,   127.36,2,    34.01,2,     0.00,2,     2.37,2, -999.000,9, -999.000,9, -999.000,9,-999.0000,9,  -999.00,9,   -999.0,9,   -999.0,9,   -999.0,9,   -999.0,9,   -999.0,9, -999.00,  -999.0,-999.0000,-999.000,  1.2293,-999.000