BOTTLE,20131125MIRCJHATS
EXPOCODE,SECT_ID,STNNBR,CASTNO,SAMPNO,BTLNBR,BTLNBR_FLAG_W,DATE,TIME,LATITUDE,LONGITUDE,DEPTH,CTDPRS,CTDTMP,CTDSAL,CTDSAL_FLAG_W,SALNTY,SALNTY_FLAG_W,CTDOXY,CTDOXY_FLAG_W,OXYGEN,OXYGEN_FLAG_W,SILCAT,SILCAT_FLAG_W,NITRAT,NITRAT_FLAG_W,NITRIT,NITRIT_FLAG_W,PHSPHT,PHSPHT_FLAG_W,CFC-11,CFC-11_FLAG_W,CFC-12,CFC-12_FLAG_W,TRITUM,TRITUM_FLAG_W,HELIUM,HELIUM_FLAG_W,DELHE3,DELHE3_FLAG_W,DELC14,DELC14_FLAG_W,DELC13,DELC13_FLAG_W,TCARBN,TCARBN_FLAG_W,PCO2,PCO2_FLAG_W,ALKALI,ALKALI_FLAG_W,PCO2TMP,C14ERR,HELIER,DELHER,THETA,TRITER
,,,,,,,,,,,,DBAR,ITS-90,PSS-78,,PSS-78,,UMOL/KG,,UMOL/KG,,UMOL/KG,,UMOL/KG,,UMOL/KG,,UMOL/KG,,PMOL/KG,,PMOL/KG,,TU,,NMOL/KG,,PERCNT,,/MILLE,,/MILLE,,UMOL/KG,,UATM,,UMOL/KG,,DEG C,/MILLE,NMOL/KG,PERCNT,DEG C,TU
   31WTTUNES_2,  P16S,   216,  1,     61,     61,2,19910824,0811,-19.5083,-150.5000, 4342,      2.8,  25.6791,  36.0810,2,  36.0853,2,    203.6,3,    204.5,2,     1.36,2,     0.17,2,     0.00,2,     0.18,2,    1.743,2,    0.941,2, -999.000,9,-999.0000,9,  -999.00,9,   -999.0,9,   -999.0,9,   2001.3,2,    249.2,2,   -999.0,9,   20.00,  -999.0,-999.0000,-999.000, 25.6785,-999.000
   31WTTUNES_2,  P16S,   216,  1,     62,     62,2,19910824,0811,-19.5083,-150.5000, 4342,     32.6,  25.6953,  36.0810,2,  36.0857,2,    206.3,2,    204.6,2,     1.35,2,     0.17,2,     0.00,2,     0.18,2,    1.642,2,    0.918,2, -999.000,9,-999.0000,9,  -999.00,9,   -999.0,9,   -999.0,9,   2002.4,2,    252.0,2,   -999.0,9,   20.00,  -999.0,-999.0000,-999.000, 25.6881,-999.000
   31WTTUNES_2,  P16S,   216,  1,      3,      3,2,19910824,0811,-19.5083,-150.5000, 4342,     62.0,  25.5810,  36.0814,2,  36.0857,2,    208.9,2,    204.3,2,     1.12,2,     0.17,2,     0.00,2,     0.18,2,    1.744,2,    0.953,2, -999.000,9,-999.0000,9,  -999.00,9,   -999.0,9,   -999.0,9,   2005.1,2,    248.2,2,   -999.0,9,   20.00,  -999.0,-999.0000,-999.000, 25.5673,-999.000
   31WTTUNES_2,  P16S,   216,  1,     64,     64,2,19910824,0811,-19.5083,-150.5000, 4342,    102.8,  25.5602,  36.1042,2,  36.1074,2,    208.0,2,    202.7,2,     1.11,2,     0.17,2,     0.00,2,     0.18,2,    1.767,2,    0.945,2, -999.000,9,-999.0000,9,  -999.00,9,   -999.0,9,   -999.0,9,   2008.3,2,    255.1,2,   -999.0,9,   20.00,  -999.0,-999.0000,-999.000, 25.5375,-999.000
   31WTTUNES_2,  P16S,   216,  1,      5,      5,2,19910824,0811,-19.5083,-150.5000, 4342,    137.0,  23.9101,  36.1377,2,  36.1391,2,    185.3,2,    180.6,2,     1.10,2,     1.31,2,     0.05,2,     0.33,2,    1.664,2,    0.928,2, -999.000,9,-999.0000,9,  -999.00,9,   -999.0,9,   -999.0,9,   2058.3,2,    311.3,2,   -999.0,9,   20.00,  -999.0,-999.0000,-999.000, 23.8812,-999.000
   31WTTUNES_2,  P16S,   216,  1,      6,      6,2,19910824,0811,-19.5083,-150.5000, 4342,    151.1,  23.4590,  36.1349,2,  36.1365,2,    183.4,2,    177.6,2,     1.08,2,     1.80,2,     0.04,2,     0.36,2,    1.756,2,    0.928,2, -999.000,9,-999.0000,9,  -999.00,9,   -999.0,9,   -999.0,9,   2062.8,2,    323.1,2,   -999.0,9,   20.00,  -999.0,-999.0000,-999.000, 23.4276,-999.000
   31WTTUNES_2,  P16S,   216,  1,      7,      7,2,19910824,0811,-19.5083,-150.5000, 4342,    190.8,  22.0775,  36.0499,2,  36.0515,2,    178.3,2,    175.8,2,     0.86,2,     2.96,2,     0.02,2,     0.42,2,    1.749,2,    0.920,2, -999.000,9,-999.0000,9,  -999.00,9,   -999.0,9,   -999.0,9,   2073.0,2,    344.7,2,   -999.0,9,   20.00,  -999.0,-999.0000,-999.000, 22.0395,-999.000
   31WTTUNES_2,  P16S,   216,  1,     68,     68,2,19910824,0811,-19.5083,-150.5000, 4342,    243.7,  20.4469,  35.8456,2,  35.8463,2,    179.9,2,    177.6,2,     0.85,2,     3.68,2,     0.01,2,     0.46,2,    1.697,2,    0.901,2, -999.000,9,-999.0000,9,  -999.00,9,   -999.0,9,   -999.0,9,   2079.1,2,    374.2,2,   -999.0,9,   20.00,  -999.0,-999.0000,-999.000, 20.4009,-999.000
   31WTTUNES_2,  P16S,   216,  1,     69,     69,2,19910824,0811,-19.5083,-150.5000, 4342,    306.0,  17.8389,  35.4689,2,  35.4533,2,    178.9,2,    176.9,2,     1.46,2,     6.02,2,     0.01,2,     0.60,2,    1.558,2,    0.821,2, -999.000,9,-999.0000,9,  -999.00,9,   -999.0,9,   -999.0,9,   2086.5,2,    425.6,2,   -999.0,9,   20.00,  -999.0,-999.0000,-999.000, 17.7864,-999.000
   31WTTUNES_2,  P16S,   216,  1,     70,     70,2,19910824,0811,-19.5083,-150.5000, 4342,    364.1,  14.6521,  35.0785,2,  35.0746,2,    172.8,2,    171.8,2,     3.95,2,    10.66,2,     0.01,2,     0.91,2,    1.225,2,    0.651,2, -999.000,9,-999.0000,9,  -999.00,9,   -999.0,9,   -999.0,9,   2105.1,2,    522.6,2,   -999.0,9,   20.00,  -999.0,-999.0000,-999.000, 14.5975,-999.000
   31WTTUNES_2,  P16S,   216,  1,     11,     11,2,19910824,0811,-19.5083,-150.5000, 4342,    435.8,  10.7144,  34.6860,2,  34.6838,2,    173.8,2,    173.2,2,     7.06,2,    17.79,2,     0.01,2,     1.37,2,    0.747,2,    0.421,2, -999.000,9,-999.0000,9,  -999.00,9,   -999.0,9,   -999.0,9,   2135.5,2,    689.4,2,   -999.0,9,   20.00,  -999.0,-999.0000,-999.000, 10.6612,-999.000
   31WTTUNES_2,  P16S,   216,  1,     12,     12,2,19910824,0811,-19.5083,-150.5000, 4342,    510.7,   8.1060,  34.4691,2,  34.4612,2,    172.6,2,    183.6,2,    11.01,2,    23.65,2,     0.01,2,     1.72,2,    0.470,2,    0.260,2, -999.000,9,-999.0000,9,  -999.00,9,   -999.0,9,   -999.0,9,   2154.6,2,    814.5,2,   -999.0,9,   20.00,  -999.0,-999.0000,-999.000,  8.0533,-999.000
   31WTTUNES_2,  P16S,   216,  1,     13,     13,2,19910824,0811,-19.5083,-150.5000, 4342,    572.4,   6.9815,  34.3887,2,  34.3870,2,    191.4,2,    195.6,2,    12.66,2,    25.58,2,     0.01,2,     1.82,2,    0.350,2,    0.206,2, -999.000,9,-999.0000,9,  -999.00,9,   -999.0,9,   -999.0,9,   -999.0,5,   -999.0,5,   -999.0,9, -999.00,  -999.0,-999.0000,-999.000,  6.9270,-999.000
   31WTTUNES_2,  P16S,   216,  1,     37,     37,2,19910824,0811,-19.5083,-150.5000, 4342,    634.1,   6.2047,  34.3385,2,  34.3378,2,    208.6,2,    211.6,2,    13.27,2,    26.21,2,     0.01,2,     1.84,2,    0.288,2,    0.172,2, -999.000,9,-999.0000,9,  -999.00,9,   -999.0,9,   -999.0,9,   2156.7,2,    840.7,2,   -999.0,9,   20.00,  -999.0,-999.0000,-999.000,  6.1479,-999.000
   31WTTUNES_2,  P16S,   216,  1,     15,     15,2,19910824,0811,-19.5083,-150.5000, 4342,    718.0,   5.6226,  34.3365,2,  34.3364,2,    199.4,2,    196.9,2,    20.75,2,    28.78,2,     0.01,2,     2.02,2,    0.124,2,    0.079,2, -999.000,9,-999.0000,9,  -999.00,9,   -999.0,9,   -999.0,9,   -999.0,5,   -999.0,5,   -999.0,9, -999.00,  -999.0,-999.0000,-999.000,  5.5610,-999.000
   31WTTUNES_2,  P16S,   216,  1,     16,     16,2,19910824,0811,-19.5083,-150.5000, 4342,    819.9,   5.0804,  34.3571,2,  34.3494,2,    181.6,2,    186.6,2,    27.19,2,    30.44,2,     0.00,2,     2.14,2,    0.071,2,    0.048,2, -999.000,9,-999.0000,9,  -999.00,9,   -999.0,9,   -999.0,9,   2189.2,2,    957.9,2,   -999.0,9,   20.00,  -999.0,-999.0000,-999.000,  5.0128,-999.000
   31WTTUNES_2,  P16S,   216,  1,     17,     17,2,19910824,0811,-19.5083,-150.5000, 4342,    922.5,   4.6615,  34.4179,2,  34.4196,2,    156.8,2,    157.1,2,    47.37,2,    33.62,2,     0.00,2,     2.38,2,    0.009,2,    0.007,2, -999.000,9,-999.0000,9,  -999.00,9,   -999.0,9,   -999.0,9,   -999.0,5,   -999.0,5,   -999.0,9, -999.00,  -999.0,-999.0000,-999.000,  4.5877,-999.000
   31WTTUNES_2,  P16S,   216,  1,     18,     18,2,19910824,0811,-19.5083,-150.5000, 4342,   1025.2,   4.1678,  34.4658,2,  34.4648,2,    151.6,2,    149.5,2,    60.91,2,    34.57,2,     0.00,2,     2.44,2,    0.003,2,    0.000,2, -999.000,9,-999.0000,9,  -999.00,9,   -999.0,9,   -999.0,9,   2244.5,2,   1134.8,2,   -999.0,9,   20.00,  -999.0,-999.0000,-999.000,  4.0888,-999.000
   31WTTUNES_2,  P16S,   216,  1,     19,     19,2,19910824,0811,-19.5083,-150.5000, 4342,   1179.1,   3.4263,  34.5117,2,  34.5105,2,    148.4,2,    149.9,2,    77.21,2,    35.02,2,     0.00,2,     2.48,2, -999.000,9, -999.000,9, -999.000,9,-999.0000,9,  -999.00,9,   -999.0,9,   -999.0,9,   -999.0,5,   -999.0,5,   -999.0,9, -999.00,  -999.0,-999.0000,-999.000,  3.3407,-999.000
   31WTTUNES_2,  P16S,   216,  1,     20,     20,2,19910824,0811,-19.5083,-150.5000, 4342,   1333.8,   2.9414,  34.5492,2,  34.5494,2,    151.8,2,    150.6,2,    89.79,2,    35.12,2,     0.00,2,     2.49,2, -999.000,9, -999.000,9, -999.000,9,-999.0000,9,  -999.00,9,   -999.0,9,   -999.0,9,   2275.0,2,   1172.7,2,   -999.0,9,   20.00,  -999.0,-999.0000,-999.000,  2.8479,-999.000
   31WTTUNES_2,  P16S,   216,  1,     21,     21,2,19910824,0811,-19.5083,-150.5000, 4342,   1538.6,   2.5838,  34.5862,2,  34.5861,2,    150.5,2,    149.5,2,   101.58,2,    35.38,2,     0.00,2,     2.51,2, -999.000,9, -999.000,9, -999.000,9,-999.0000,9,  -999.00,9,   -999.0,9,   -999.0,9,   -999.0,5,   -999.0,5,   -999.0,9, -999.00,  -999.0,-999.0000,-999.000,  2.4776,-999.000
   31WTTUNES_2,  P16S,   216,  1,     22,     22,2,19910824,0811,-19.5083,-150.5000, 4342,   1743.7,   2.3379,  34.6125,2,  34.6111,2,    148.5,2,    148.9,2,   111.95,2,    35.58,2,     0.00,2,     2.54,2, -999.000,9, -999.000,9, -999.000,9,-999.0000,9,  -999.00,9,   -999.0,9,   -999.0,9,   2297.4,2,   1186.0,2,   -999.0,9,   20.00,  -999.0,-999.0000,-999.000,  2.2180,-999.000
   31WTTUNES_2,  P16S,   216,  1,     23,     23,2,19910824,0811,-19.5083,-150.5000, 4342,   1949.7,   2.1832,  34.6282,2,  34.6291,2,    150.5,2,    149.1,2,   117.25,2,    35.59,2,     0.00,2,     2.53,2, -999.000,9, -999.000,9, -999.000,9,-999.0000,9,  -999.00,9,   -999.0,9,   -999.0,9,   -999.0,5,   -999.0,5,   -999.0,9, -999.00,  -999.0,-999.0000,-999.000,  2.0483,-999.000
   31WTTUNES_2,  P16S,   216,  1,     24,     24,2,19910824,0811,-19.5083,-150.5000, 4342,   2155.6,   2.0347,  34.6418,2,  34.6411,2,    150.2,2,    151.3,2,   121.28,2,    35.40,2,     0.00,2,     2.52,2, -999.000,9, -999.000,9, -999.000,9,-999.0000,9,  -999.00,9,   -999.0,9,   -999.0,9,   2303.5,2,   1167.9,2,   -999.0,9,   20.00,  -999.0,-999.0000,-999.000,  1.8845,-999.000
   31WTTUNES_2,  P16S,   216,  1,     25,     25,2,19910824,0811,-19.5083,-150.5000, 4342,   2362.5,   1.9218,  34.6506,2,  34.6506,2,    154.3,2,    155.2,2,   122.52,2,    35.16,2,     0.00,2,     2.49,2, -999.000,9, -999.000,9, -999.000,9,-999.0000,9,  -999.00,9,   -999.0,9,   -999.0,9,   -999.0,5,   -999.0,5,   -999.0,9, -999.00,  -999.0,-999.0000,-999.000,  1.7553,-999.000
   31WTTUNES_2,  P16S,   216,  1,     26,     26,2,19910824,0811,-19.5083,-150.5000, 4342,   2569.0,   1.8417,  34.6574,2,  34.6570,2,    157.7,2,    157.7,2,   124.84,2,    35.16,2,     0.00,2,     2.49,2, -999.000,9, -999.000,9, -999.000,9,-999.0000,9,  -999.00,9,   -999.0,9,   -999.0,9,   2302.5,2,   1155.8,2,   -999.0,9,   20.00,  -999.0,-999.0000,-999.000,  1.6581,-999.000
   31WTTUNES_2,  P16S,   216,  1,     27,     27,2,19910824,0811,-19.5083,-150.5000, 4342,   2774.3,   1.7605,  34.6652,2,  34.6645,2,    160.3,2,    160.3,2,   125.66,2,    35.02,2,     0.00,2,     2.47,2, -999.000,9, -999.000,9, -999.000,9,-999.0000,9,  -999.00,9,   -999.0,9,   -999.0,9,   -999.0,5,   -999.0,5,   -999.0,9, -999.00,  -999.0,-999.0000,-999.000,  1.5595,-999.000
   31WTTUNES_2,  P16S,   216,  1,     28,     28,2,19910824,0811,-19.5083,-150.5000, 4342,   2977.8,   1.6997,  34.6704,2,  34.6696,2,    163.6,2,    163.4,2,   125.62,2,    34.63,2,     0.00,2,     2.46,2, -999.000,9, -999.000,9, -999.000,9,-999.0000,9,  -999.00,9,   -999.0,9,   -999.0,9,   2302.3,2,   1144.5,2,   -999.0,9,   20.00,  -999.0,-999.0000,-999.000,  1.4806,-999.000
   31WTTUNES_2,  P16S,   216,  1,     29,     29,2,19910824,0811,-19.5083,-150.5000, 4342,   3181.8,   1.6343,  34.6758,2,  34.6749,2,    166.6,2,    167.3,2,   125.79,2,    34.44,2,     0.00,2,     2.44,2, -999.000,9, -999.000,9, -999.000,9,-999.0000,9,  -999.00,9,   -999.0,9,   -999.0,9,   -999.0,5,   -999.0,5,   -999.0,9, -999.00,  -999.0,-999.0000,-999.000,  1.3969,-999.000
   31WTTUNES_2,  P16S,   216,  1,     30,     30,2,19910824,0811,-19.5083,-150.5000, 4342,   3391.8,   1.5913,  34.6797,2,  34.6794,2,    171.3,2,    170.2,2,   126.61,2,    34.35,2,     0.00,2,     2.42,2, -999.000,9, -999.000,9, -999.000,9,-999.0000,9,  -999.00,9,   -999.0,9,   -999.0,9,   2296.7,2,   1114.2,2,   -999.0,9,   20.00,  -999.0,-999.0000,-999.000,  1.3339,-999.000
   31WTTUNES_2,  P16S,   216,  1,     31,     31,2,19910824,0811,-19.5083,-150.5000, 4342,   3598.7,   1.5481,  34.6838,2,  34.6832,2,    173.2,2,    173.4,2,   125.71,2,    34.06,2,     0.00,2,     2.40,2, -999.000,9, -999.000,9, -999.000,9,-999.0000,9,  -999.00,9,   -999.0,9,   -999.0,9,   -999.0,5,   -999.0,5,   -999.0,9, -999.00,  -999.0,-999.0000,-999.000,  1.2705,-999.000
   31WTTUNES_2,  P16S,   216,  1,     32,     32,2,19910824,0811,-19.5083,-150.5000, 4342,   3805.6,   1.5248,  34.6864,2,  34.6859,2,    176.6,2,    175.6,2,   125.24,2,    33.92,2,     0.00,2,     2.38,2, -999.000,9, -999.000,9, -999.000,9,-999.0000,9,  -999.00,9,   -999.0,9,   -999.0,9,   2292.1,2,   1109.0,2,   -999.0,9,   20.00,  -999.0,-999.0000,-999.000,  1.2261,-999.000
   31WTTUNES_2,  P16S,   216,  1,     33,     33,2,19910824,0811,-19.5083,-150.5000, 4342,   3805.7,   1.5246,  34.6866,2,  34.6853,2,    176.6,2,    175.6,2,   125.20,2,    33.87,2,     0.00,2,     2.38,2, -999.000,9, -999.000,9, -999.000,9,-999.0000,9,  -999.00,9,   -999.0,9,   -999.0,9,   -999.0,5,   -999.0,5,   -999.0,9, -999.00,  -999.0,-999.0000,-999.000,  1.2259,-999.000
   31WTTUNES_2,  P16S,   216,  1,     34,     34,2,19910824,0811,-19.5083,-150.5000, 4342,   4012.6,   1.4829,  34.6902,2,  34.6901,2,    179.6,2,    179.0,2,   125.37,2,    33.68,2,     0.00,2,     2.37,2, -999.000,9, -999.000,9, -999.000,9,-999.0000,9,  -999.00,9,   -999.0,9,   -999.0,9,   2290.7,2,   1109.3,2,   -999.0,9,   20.00,  -999.0,-999.0000,-999.000,  1.1631,-999.000
   31WTTUNES_2,  P16S,   216,  1,     39,     39,2,19910824,0811,-19.5083,-150.5000, 4342,   4171.8,   1.4672,  34.6919,2,  34.6912,2,    183.0,2,    180.8,2,   124.47,2,    33.54,2,     0.00,2,     2.36,2, -999.000,9, -999.000,9, -999.000,9,-999.0000,9,  -999.00,9,   -999.0,9,   -999.0,9,   -999.0,5,   -999.0,5,   -999.0,9, -999.00,  -999.0,-999.0000,-999.000,  1.1303,-999.000
   31WTTUNES_2,  P16S,   216,  1,     38,     38,2,19910824,0811,-19.5083,-150.5000, 4342,   4346.2,   1.4696,  34.6937,2,  34.6924,2,   -999.0,9,    181.8,2,   124.00,2,    33.40,2,     0.00,2,     2.35,2, -999.000,9, -999.000,9, -999.000,9,-999.0000,9,  -999.00,9,   -999.0,9,   -999.0,9,   2289.7,2,   1068.9,2,   -999.0,9,   20.00,  -999.0,-999.0000,-999.000,  1.1131,-999.000