BOTTLE,20131125MIRCJHATS
EXPOCODE,SECT_ID,STNNBR,CASTNO,SAMPNO,BTLNBR,BTLNBR_FLAG_W,DATE,TIME,LATITUDE,LONGITUDE,DEPTH,CTDPRS,CTDTMP,CTDSAL,CTDSAL_FLAG_W,SALNTY,SALNTY_FLAG_W,CTDOXY,CTDOXY_FLAG_W,OXYGEN,OXYGEN_FLAG_W,SILCAT,SILCAT_FLAG_W,NITRAT,NITRAT_FLAG_W,NITRIT,NITRIT_FLAG_W,PHSPHT,PHSPHT_FLAG_W,CFC-11,CFC-11_FLAG_W,CFC-12,CFC-12_FLAG_W,TRITUM,TRITUM_FLAG_W,HELIUM,HELIUM_FLAG_W,DELHE3,DELHE3_FLAG_W,DELC14,DELC14_FLAG_W,DELC13,DELC13_FLAG_W,TCARBN,TCARBN_FLAG_W,PCO2,PCO2_FLAG_W,ALKALI,ALKALI_FLAG_W,PCO2TMP,C14ERR,HELIER,DELHER,THETA,TRITER
,,,,,,,,,,,,DBAR,ITS-90,PSS-78,,PSS-78,,UMOL/KG,,UMOL/KG,,UMOL/KG,,UMOL/KG,,UMOL/KG,,UMOL/KG,,PMOL/KG,,PMOL/KG,,TU,,NMOL/KG,,PERCNT,,/MILLE,,/MILLE,,UMOL/KG,,UATM,,UMOL/KG,,DEG C,/MILLE,NMOL/KG,PERCNT,DEG C,TU
   31WTTUNES_2,  P17S,   160,  1,      1,      1,2,19910801,2244,-23.7400,-132.5550, 3654,      4.0,  23.3963,  35.9996,2,  36.0042,2,    205.1,3,    212.5,2,     1.17,2,     0.10,2,     0.00,2,     0.15,2, -999.000,9, -999.000,9, -999.000,9,-999.0000,9,  -999.00,9,   -999.0,9,   -999.0,9,   2012.4,2,    271.3,2,   -999.0,9,   20.00,  -999.0,-999.0000,-999.000, 23.3955,-999.000
   31WTTUNES_2,  P17S,   160,  1,      2,      2,2,19910801,2244,-23.7400,-132.5550, 3654,     35.6,  23.4223,  36.0038,2,  36.0086,2,    209.5,6,    211.6,2,     1.17,2,     0.10,2,     0.00,2,     0.15,2, -999.000,9, -999.000,9, -999.000,9,-999.0000,9,  -999.00,9,   -999.0,9,   -999.0,9,   2014.8,2,    270.8,2,   -999.0,9,   20.00,  -999.0,-999.0000,-999.000, 23.4149,-999.000
   31WTTUNES_2,  P17S,   160,  1,      3,      3,2,19910801,2244,-23.7400,-132.5550, 3654,     60.5,  23.1722,  35.9322,2,  35.8746,2,    213.7,2,    213.6,2,     1.17,2,     0.10,2,     0.00,2,     0.14,2, -999.000,9, -999.000,9, -999.000,9,-999.0000,9,  -999.00,9,   -999.0,9,   -999.0,9,   2010.2,2,    273.5,2,   -999.0,9,   20.00,  -999.0,-999.0000,-999.000, 23.1597,-999.000
   31WTTUNES_2,  P17S,   160,  1,      4,      4,2,19910801,2244,-23.7400,-132.5550, 3654,     80.6,  22.4949,  35.7370,2,  35.7393,2,    218.2,6,    215.8,2,     0.98,2,     0.10,2,     0.00,2,     0.11,2, -999.000,9, -999.000,9, -999.000,9,-999.0000,9,  -999.00,9,   -999.0,9,   -999.0,9,   2003.3,2,    276.9,2,   -999.0,9,   20.00,  -999.0,-999.0000,-999.000, 22.4787,-999.000
   31WTTUNES_2,  P17S,   160,  1,      5,      5,2,19910801,2244,-23.7400,-132.5550, 3654,    115.8,  22.3468,  35.7039,2,  35.7065,2,    223.6,2,    216.5,2,     0.78,2,     0.10,2,     0.00,2,     0.10,2, -999.000,9, -999.000,9, -999.000,9,-999.0000,9,  -999.00,9,   -999.0,9,   -999.0,9,   2004.8,2,    279.3,2,   -999.0,9,   20.00,  -999.0,-999.0000,-999.000, 22.3236,-999.000
   31WTTUNES_2,  P17S,   160,  1,      6,      6,2,19910801,2244,-23.7400,-132.5550, 3654,    145.0,  21.2624,  35.6018,2,  35.6163,2,    218.7,2,    214.9,2,     0.78,2,     0.10,2,     0.00,2,     0.11,2, -999.000,9, -999.000,9, -999.000,9,-999.0000,9,  -999.00,9,   -999.0,9,   -999.0,9,   2015.2,2,    300.8,2,   -999.0,9,   20.00,  -999.0,-999.0000,-999.000, 21.2343,-999.000
   31WTTUNES_2,  P17S,   160,  1,      7,      7,2,19910801,2244,-23.7400,-132.5550, 3654,    196.6,  19.3398,  35.5553,2,  35.5534,2,    195.6,2,    200.0,2,     0.78,2,     1.17,2,     0.02,2,     0.22,2, -999.000,9, -999.000,9, -999.000,9,-999.0000,9,  -999.00,9,   -999.0,9,   -999.0,9,   2045.2,2,    353.4,2,   -999.0,9,   20.00,  -999.0,-999.0000,-999.000, 19.3041,-999.000
   31WTTUNES_2,  P17S,   160,  1,      8,      8,2,19910801,2244,-23.7400,-132.5550, 3654,    246.3,  17.9313,  35.4556,2,  35.4591,2,    193.8,2,    195.8,2,     0.78,2,     2.74,2,     0.01,2,     0.33,2, -999.000,9, -999.000,9, -999.000,9,-999.0000,9,  -999.00,9,   -999.0,9,   -999.0,9,   2059.5,2,    391.0,2,   -999.0,9,   20.00,  -999.0,-999.0000,-999.000, 17.8890,-999.000
   31WTTUNES_2,  P17S,   160,  1,      9,      9,2,19910801,2244,-23.7400,-132.5550, 3654,    297.8,  15.8479,  35.2638,2,  35.2775,2,    195.3,2,    193.7,2,     1.76,2,     5.37,2,     0.00,2,     0.51,2, -999.000,9, -999.000,9, -999.000,9,-999.0000,9,  -999.00,9,   -999.0,9,   -999.0,9,   2075.5,2,    443.4,2,   -999.0,9,   20.00,  -999.0,-999.0000,-999.000, 15.8008,-999.000
   31WTTUNES_2,  P17S,   160,  1,     10,     10,2,19910801,2244,-23.7400,-132.5550, 3654,    350.2,  13.6815,  35.0031,2,  34.9959,2,    191.0,2,    189.2,2,     2.74,2,     9.67,2,     0.00,2,     0.78,2, -999.000,9, -999.000,9, -999.000,9,-999.0000,9,  -999.00,9,   -999.0,9,   -999.0,9,   2093.4,2,    519.7,2,   -999.0,9,   20.00,  -999.0,-999.0000,-999.000, 13.6314,-999.000
   31WTTUNES_2,  P17S,   160,  1,     11,     11,2,19910801,2244,-23.7400,-132.5550, 3654,    413.1,  11.1383,  34.7343,2,  34.7304,2,    196.2,2,    194.3,2,     4.11,2,    14.47,2,     0.00,2,     1.09,2, -999.000,9, -999.000,9, -999.000,9,-999.0000,9,  -999.00,9,   -999.0,9,   -999.0,9,   2113.1,2,    620.3,2,   -999.0,9,   20.00,  -999.0,-999.0000,-999.000, 11.0866,-999.000
   31WTTUNES_2,  P17S,   160,  1,     12,     12,2,19910801,2244,-23.7400,-132.5550, 3654,    473.5,   8.8723,  34.5049,2,  34.5019,2,    198.5,2,    202.6,2,     5.87,2,    19.55,2,     0.00,2,     1.41,2, -999.000,9, -999.000,9, -999.000,9,-999.0000,9,  -999.00,9,   -999.0,9,   -999.0,9,   2130.8,2,    715.0,2,   -999.0,9,   20.00,  -999.0,-999.0000,-999.000,  8.8208,-999.000
   31WTTUNES_2,  P17S,   160,  1,     13,     13,2,19910801,2244,-23.7400,-132.5550, 3654,    529.1,   7.5873,  34.4016,2,  34.4059,2,    212.2,2,    212.7,2,     7.63,2,    22.09,2,     0.00,2,     1.56,2, -999.000,9, -999.000,9, -999.000,9,-999.0000,9,  -999.00,9,   -999.0,9,   -999.0,9,   2138.1,2,    770.3,2,   -999.0,9,   20.00,  -999.0,-999.0000,-999.000,  7.5347,-999.000
   31WTTUNES_2,  P17S,   160,  1,     37,     37,2,19910801,2244,-23.7400,-132.5550, 3654,    586.2,   6.6504,  34.3473,2,  34.3473,2,    222.7,2,    223.1,2,     9.58,2,    24.05,2,     0.00,2,     1.67,2, -999.000,9, -999.000,9, -999.000,9,-999.0000,9,  -999.00,9,   -999.0,9,   -999.0,9,   2143.8,2,    788.9,2,   -999.0,9,   20.00,  -999.0,-999.0000,-999.000,  6.5961,-999.000
   31WTTUNES_2,  P17S,   160,  1,     15,     15,2,19910801,2244,-23.7400,-132.5550, 3654,    646.3,   6.0625,  34.3158,2,  34.3167,2,    222.9,2,    226.7,2,    11.34,2,    25.42,2,     0.00,2,     1.77,2, -999.000,9, -999.000,9, -999.000,9,-999.0000,9,  -999.00,9,   -999.0,9,   -999.0,9,   2147.6,2,    818.5,2,   -999.0,9,   20.00,  -999.0,-999.0000,-999.000,  6.0052,-999.000
   31WTTUNES_2,  P17S,   160,  1,     16,     16,2,19910801,2244,-23.7400,-132.5550, 3654,    704.8,   5.7015,  34.3015,2,  34.3022,2,    220.9,2,    222.5,2,    13.88,2,    26.79,2,     0.00,2,     1.86,2, -999.000,9, -999.000,9, -999.000,9,-999.0000,9,  -999.00,9,   -999.0,9,   -999.0,9,   2154.6,2,    839.9,2,   -999.0,9,   20.00,  -999.0,-999.0000,-999.000,  5.6407,-999.000
   31WTTUNES_2,  P17S,   160,  1,     17,     17,2,19910801,2244,-23.7400,-132.5550, 3654,    756.7,   5.3205,  34.2968,2,  34.2977,2,    208.8,2,    211.3,2,    18.58,2,    28.55,2,     0.00,2,     1.97,2, -999.000,9, -999.000,9, -999.000,9,-999.0000,9,  -999.00,9,   -999.0,9,   -999.0,9,   2168.1,2,    894.5,2,   -999.0,9,   20.00,  -999.0,-999.0000,-999.000,  5.2572,-999.000
   31WTTUNES_2,  P17S,   160,  1,     18,     18,2,19910801,2244,-23.7400,-132.5550, 3654,    809.7,   5.0606,  34.3045,2,  34.3053,2,    197.0,2,    199.2,2,    23.27,2,    30.11,2,     0.00,2,     2.09,2, -999.000,9, -999.000,9, -999.000,9,-999.0000,9,  -999.00,9,   -999.0,9,   -999.0,9,   2179.7,2,    954.3,2,   -999.0,9,   20.00,  -999.0,-999.0000,-999.000,  4.9941,-999.000
   31WTTUNES_2,  P17S,   160,  1,     19,     19,2,19910801,2244,-23.7400,-132.5550, 3654,    909.1,   4.4737,  34.3428,2,  34.3444,2,    176.1,2,    175.1,2,    36.76,2,    33.04,2,     0.00,2,     2.31,2,    0.029,2,    0.024,2, -999.000,9,-999.0000,9,  -999.00,9,   -999.0,9,   -999.0,9,   2207.5,2,   1083.8,2,   -999.0,9,   20.00,  -999.0,-999.0000,-999.000,  4.4024,-999.000
   31WTTUNES_2,  P17S,   160,  1,     20,     20,2,19910801,2244,-23.7400,-132.5550, 3654,   1008.8,   3.9628,  34.4094,2,  34.4099,2,    156.3,2,    155.0,2,    53.96,2,    35.10,2,     0.00,2,     2.45,2,    0.006,2,    0.007,2, -999.000,9,-999.0000,9,  -999.00,9,   -999.0,9,   -999.0,9,   2234.6,2,   1185.1,2,   -999.0,9,   20.00,  -999.0,-999.0000,-999.000,  3.8868,-999.000
   31WTTUNES_2,  P17S,   160,  1,     21,     21,2,19910801,2244,-23.7400,-132.5550, 3654,   1109.9,   3.6648,  34.4634,2,  34.4635,2,    147.7,2,    146.9,2,    66.38,2,    35.58,2,     0.00,2,     2.51,2,    0.002,2,    0.000,2, -999.000,9,-999.0000,9,  -999.00,9,   -999.0,9,   -999.0,9,   -999.0,5,   -999.0,5,   -999.0,9, -999.00,  -999.0,-999.0000,-999.000,  3.5829,-999.000
   31WTTUNES_2,  P17S,   160,  1,     22,     22,2,19910801,2244,-23.7400,-132.5550, 3654,   1263.1,   3.0569,  34.5285,2,  34.5287,2,    149.3,2,    147.6,2,    84.56,2,    35.78,2,     0.00,2,     2.51,2,    0.000,2,    0.000,2, -999.000,9,-999.0000,9,  -999.00,9,   -999.0,9,   -999.0,9,   2271.6,2,   1220.9,2,   -999.0,9,   20.00,  -999.0,-999.0000,-999.000,  2.9680,-999.000
   31WTTUNES_2,  P17S,   160,  1,     23,     23,2,19910801,2244,-23.7400,-132.5550, 3654,   1420.4,   2.7050,  34.5627,2,  34.5637,2,    150.2,2,    149.5,2,    94.82,2,    35.68,2,     0.00,2,     2.50,2,    0.000,2,    0.000,2, -999.000,9,-999.0000,9,  -999.00,9,   -999.0,9,   -999.0,9,   2278.9,2,   1213.3,2,   -999.0,9,   20.00,  -999.0,-999.0000,-999.000,  2.6070,-999.000
   31WTTUNES_2,  P17S,   160,  1,     24,     24,2,19910801,2244,-23.7400,-132.5550, 3654,   1602.8,   2.4241,  34.5928,2,  34.5929,2,    152.0,2,    151.4,2,   104.00,2,    35.58,2,     0.00,2,     2.49,2,    0.000,2,    0.000,2, -999.000,9,-999.0000,9,  -999.00,9,   -999.0,9,   -999.0,9,   -999.0,5,   -999.0,5,   -999.0,9, -999.00,  -999.0,-999.0000,-999.000,  2.3146,-999.000
   31WTTUNES_2,  P17S,   160,  1,     25,     25,2,19910801,2244,-23.7400,-132.5550, 3654,   1809.8,   2.1951,  34.6182,2,  34.6200,2,    153.7,2,    152.7,2,   111.92,2,    35.48,2,     0.00,2,     2.49,2, -999.000,9, -999.000,9, -999.000,9,-999.0000,9,  -999.00,9,   -999.0,9,   -999.0,9,   2295.5,2,   1194.4,2,   -999.0,9,   20.00,  -999.0,-999.0000,-999.000,  2.0717,-999.000
   31WTTUNES_2,  P17S,   160,  1,     26,     26,2,19910801,2244,-23.7400,-132.5550, 3654,   2012.4,   2.0672,  34.6337,2,  34.6336,2,    155.1,2,    154.0,2,   116.12,2,    35.48,2,     0.00,2,     2.48,2,    0.000,7,    0.000,2, -999.000,9,-999.0000,9,  -999.00,9,   -999.0,9,   -999.0,9,   -999.0,5,   -999.0,5,   -999.0,9, -999.00,  -999.0,-999.0000,-999.000,  1.9287,-999.000
   31WTTUNES_2,  P17S,   160,  1,     27,     27,2,19910801,2244,-23.7400,-132.5550, 3654,   2207.5,   1.9382,  34.6465,2,  34.6468,2,    156.1,2,    156.3,2,   120.32,2,    35.09,2,     0.00,2,     2.47,2, -999.000,9, -999.000,9, -999.000,9,-999.0000,9,  -999.00,9,   -999.0,9,   -999.0,9,   2300.9,2,   1177.2,2,   -999.0,9,   20.00,  -999.0,-999.0000,-999.000,  1.7850,-999.000
   31WTTUNES_2,  P17S,   160,  1,     28,     28,2,19910801,2244,-23.7400,-132.5550, 3654,   2417.0,   1.8442,  34.6556,2,  34.6554,2,    159.1,2,    159.2,2,   122.57,2,    34.99,2,     0.00,2,     2.45,2,    0.000,7,    0.000,2, -999.000,9,-999.0000,9,  -999.00,9,   -999.0,9,   -999.0,9,   2302.4,2,   1163.3,2,   -999.0,9,   20.00,  -999.0,-999.0000,-999.000,  1.6743,-999.000
   31WTTUNES_2,  P17S,   160,  1,     29,     29,2,19910801,2244,-23.7400,-132.5550, 3654,   2617.1,   1.7752,  34.6624,2,  34.6631,2,    162.1,2,    161.7,2,   123.35,2,    34.89,2,     0.00,2,     2.44,2, -999.000,9, -999.000,9, -999.000,9,-999.0000,9,  -999.00,9,   -999.0,9,   -999.0,9,   2302.0,2,   1156.4,2,   -999.0,9,   20.00,  -999.0,-999.0000,-999.000,  1.5885,-999.000
   31WTTUNES_2,  P17S,   160,  1,     30,     30,2,19910801,2244,-23.7400,-132.5550, 3654,   2816.1,   1.7343,  34.6670,2,  34.6674,2,    164.8,2,    163.6,2,   124.13,2,    34.80,2,     0.00,2,     2.43,2,    0.000,7,    0.000,2, -999.000,9,-999.0000,9,  -999.00,9,   -999.0,9,   -999.0,9,   -999.0,5,   -999.0,5,   -999.0,9, -999.00,  -999.0,-999.0000,-999.000,  1.5299,-999.000
   31WTTUNES_2,  P17S,   160,  1,     31,     31,2,19910801,2244,-23.7400,-132.5550, 3654,   3020.5,   1.6603,  34.6736,2,  34.6749,2,    166.6,2,    166.9,2,   124.82,2,    34.60,2,     0.00,2,     2.41,2, -999.000,9, -999.000,9, -999.000,9,-999.0000,9,  -999.00,9,   -999.0,9,   -999.0,9,   2299.4,2,   1143.6,2,   -999.0,9,   20.00,  -999.0,-999.0000,-999.000,  1.4380,-999.000
   31WTTUNES_2,  P17S,   160,  1,     32,     32,2,19910801,2244,-23.7400,-132.5550, 3654,   3223.9,   1.6323,  34.6774,2,  34.6775,2,    168.9,2,    169.2,2,   125.01,2,    34.50,2,     0.00,2,     2.40,2,    0.001,2,    0.000,2, -999.000,9,-999.0000,9,  -999.00,9,   -999.0,9,   -999.0,9,   2298.0,2,   1131.1,2,   -999.0,9,   20.00,  -999.0,-999.0000,-999.000,  1.3907,-999.000
   31WTTUNES_2,  P17S,   160,  1,     34,     34,2,19910801,2244,-23.7400,-132.5550, 3654,   3421.5,   1.6163,  34.6810,2,  34.6802,2,    170.1,2,    170.9,2,   124.91,2,    34.50,2,     0.00,2,     2.40,2, -999.000,9, -999.000,9, -999.000,9,-999.0000,9,  -999.00,9,   -999.0,9,   -999.0,9,   2294.8,2,   1127.2,2,   -999.0,9,   20.00,  -999.0,-999.0000,-999.000,  1.3553,-999.000
   31WTTUNES_2,  P17S,   160,  1,     33,     33,2,19910801,2244,-23.7400,-132.5550, 3654,   3422.2,   1.6173,  34.6797,2,  34.6788,2,    170.2,2,    171.0,2,   124.52,2,    34.41,2,     0.00,2,     2.39,2, -999.000,9, -999.000,9, -999.000,9,-999.0000,9,  -999.00,9,   -999.0,9,   -999.0,9,   -999.0,5,   -999.0,5,   -999.0,9, -999.00,  -999.0,-999.0000,-999.000,  1.3562,-999.000
   31WTTUNES_2,  P17S,   160,  1,     35,     35,2,19910801,2244,-23.7400,-132.5550, 3654,   3571.6,   1.6063,  34.6819,2,  34.6814,2,    171.1,2,    172.1,2,   125.50,2,    34.31,2,     0.00,2,     2.39,2, -999.000,9, -999.000,9, -999.000,9,-999.0000,9,  -999.00,9,   -999.0,9,   -999.0,9,   -999.0,5,   -999.0,5,   -999.0,9, -999.00,  -999.0,-999.0000,-999.000,  1.3301,-999.000
   31WTTUNES_2,  P17S,   160,  1,     38,     38,2,19910801,2244,-23.7400,-132.5550, 3654,   3697.4,   1.6103,  34.6830,2,  34.6814,2,    172.0,2,    172.4,2,   124.91,2,    34.21,2,     0.00,2,     2.38,2, -999.000,9, -999.000,9, -999.000,9,-999.0000,9,  -999.00,9,   -999.0,9,   -999.0,9,   2294.3,2,   1116.3,2,   -999.0,9,   20.00,  -999.0,-999.0000,-999.000,  1.3208,-999.000