BOTTLE,20131125MIRCJHATS
EXPOCODE,SECT_ID,STNNBR,CASTNO,SAMPNO,BTLNBR,BTLNBR_FLAG_W,DATE,TIME,LATITUDE,LONGITUDE,DEPTH,CTDPRS,CTDTMP,CTDSAL,CTDSAL_FLAG_W,SALNTY,SALNTY_FLAG_W,CTDOXY,CTDOXY_FLAG_W,OXYGEN,OXYGEN_FLAG_W,SILCAT,SILCAT_FLAG_W,NITRAT,NITRAT_FLAG_W,NITRIT,NITRIT_FLAG_W,PHSPHT,PHSPHT_FLAG_W,CFC-11,CFC-11_FLAG_W,CFC-12,CFC-12_FLAG_W,TRITUM,TRITUM_FLAG_W,HELIUM,HELIUM_FLAG_W,DELHE3,DELHE3_FLAG_W,DELC14,DELC14_FLAG_W,DELC13,DELC13_FLAG_W,TCARBN,TCARBN_FLAG_W,PCO2,PCO2_FLAG_W,ALKALI,ALKALI_FLAG_W,PCO2TMP,C14ERR,HELIER,DELHER,THETA,TRITER
,,,,,,,,,,,,DBAR,ITS-90,PSS-78,,PSS-78,,UMOL/KG,,UMOL/KG,,UMOL/KG,,UMOL/KG,,UMOL/KG,,UMOL/KG,,PMOL/KG,,PMOL/KG,,TU,,NMOL/KG,,PERCNT,,/MILLE,,/MILLE,,UMOL/KG,,UATM,,UMOL/KG,,DEG C,/MILLE,NMOL/KG,PERCNT,DEG C,TU
   31WTTUNES_2,  P17S,   163,  1,      1,      1,2,19910802,1708,-25.2050,-132.9250, 4158,      2.2,  21.8046,  35.6973,2,-999.0000,9,    216.0,3,   -999.0,9,     1.50,2,     0.04,2,     0.01,2,     0.12,2, -999.000,9, -999.000,9, -999.000,9,-999.0000,9,  -999.00,9,   -999.0,9,   -999.0,9,   -999.0,9,   -999.0,9,   -999.0,9, -999.00,  -999.0,-999.0000,-999.000, 21.8042,-999.000
   31WTTUNES_2,  P17S,   163,  1,      2,      2,2,19910802,1708,-25.2050,-132.9250, 4158,     47.8,  21.8126,  35.6986,2,  35.6999,2,    216.3,2,    217.7,2,     1.49,2,     0.05,2,     0.00,2,     0.11,2,    2.024,2,    1.089,2,    1.011,2,   1.7650,2,    -1.09,2,   -999.0,9,   -999.0,9,   -999.0,9,   -999.0,9,   -999.0,9, -999.00,  -999.0,  0.0080,   0.150, 21.8032,   0.007
   31WTTUNES_2,  P17S,   163,  1,      3,      3,2,19910802,1708,-25.2050,-132.9250, 4158,     88.3,  21.7976,  35.6929,2,  35.6944,2,    219.9,2,    217.6,2,     1.09,2,     0.05,2,     0.00,2,     0.10,2,    2.040,2,    1.089,2,    0.984,2,   1.7610,2,    -1.03,2,   -999.0,9,   -999.0,9,   -999.0,9,   -999.0,9,   -999.0,9, -999.00,  -999.0,  0.0080,   0.150, 21.7802,   0.007
   31WTTUNES_2,  P17S,   163,  1,      4,      4,2,19910802,1708,-25.2050,-132.9250, 4158,    128.8,  21.7366,  35.6770,2,  35.6774,2,    219.9,2,    217.8,2,     1.28,2,     0.05,2,     0.00,2,     0.10,2, -999.000,9, -999.000,9,    1.014,2,   1.7720,2,    -0.79,2,   -999.0,9,   -999.0,9,   -999.0,9,   -999.0,9,   -999.0,9, -999.00,  -999.0,  0.0080,   0.150, 21.7113,   0.009
   31WTTUNES_2,  P17S,   163,  1,      5,      5,2,19910802,1708,-25.2050,-132.9250, 4158,    165.8,  19.7339,  35.5601,2,  35.5600,2,    205.5,6,    206.8,2,     1.27,2,     0.12,2,     0.18,2,     0.18,2,    2.056,2,    1.094,2,    0.904,2,   1.7880,2,    -0.34,2,   -999.0,9,   -999.0,9,   -999.0,9,   -999.0,9,   -999.0,9, -999.00,  -999.0,  0.0080,   0.150, 19.7034,   0.007
   31WTTUNES_2,  P17S,   163,  1,      6,      6,2,19910802,1708,-25.2050,-132.9250, 4158,    221.3,  18.0144,  35.4323,2,  35.4333,2,    195.1,6,    198.8,2,     1.27,2,     1.92,2,     0.00,2,     0.29,2,    1.986,2,    1.045,2, -999.000,9,-999.0000,9,  -999.00,9,   -999.0,9,   -999.0,9,   -999.0,9,   -999.0,9,   -999.0,9, -999.00,  -999.0,-999.0000,-999.000, 17.9762,-999.000
   31WTTUNES_2,  P17S,   163,  1,      7,      7,2,19910802,1708,-25.2050,-132.9250, 4158,    294.1,  15.9979,  35.2436,2,  35.2431,2,    196.1,2,    194.9,2,     1.45,2,     4.82,2,     0.00,2,     0.47,2,    1.787,2,    0.934,2,    0.696,2,   1.7880,2,     1.30,2,   -999.0,9,   -999.0,9,   -999.0,9,   -999.0,9,   -999.0,9, -999.00,  -999.0,  0.0080,   0.150, 15.9511,   0.006
   31WTTUNES_2,  P17S,   163,  1,      8,      8,2,19910802,1708,-25.2050,-132.9250, 4158,    370.2,  13.0084,  34.9164,2,  34.9174,2,    196.7,2,    196.2,2,     3.01,2,    10.56,2,     0.00,2,     0.82,2, -999.000,9, -999.000,9,    0.501,2,   1.7700,2,     0.79,2,   -999.0,9,   -999.0,9,   -999.0,9,   -999.0,9,   -999.0,9, -999.00,  -999.0,  0.0080,   0.150, 12.9572,   0.006
   31WTTUNES_2,  P17S,   163,  1,      9,      9,2,19910802,1708,-25.2050,-132.9250, 4158,    434.1,  10.4473,  34.6401,2,-999.0000,9,    201.6,2,   -999.0,9,     4.77,2,    15.84,2,     0.00,2,     1.16,2, -999.000,9, -999.000,9, -999.000,9,-999.0000,9,  -999.00,9,   -999.0,9,   -999.0,9,   -999.0,9,   -999.0,9,   -999.0,9, -999.00,  -999.0,-999.0000,-999.000, 10.3951,-999.000
   31WTTUNES_2,  P17S,   163,  1,     10,     10,2,19910802,1708,-25.2050,-132.9250, 4158,    500.8,   8.4773,  34.4608,2,  34.4601,2,    208.0,2,   -999.0,9,     6.33,2,    20.31,2,     0.00,2,     1.44,2, -999.000,9, -999.000,9, -999.000,9,   1.8010,2,     0.75,2,   -999.0,9,   -999.0,9,   -999.0,9,   -999.0,9,   -999.0,9, -999.00,  -999.0,  0.0080,   0.150,  8.4242,-999.000
   31WTTUNES_2,  P17S,   163,  1,     11,     11,2,19910802,1708,-25.2050,-132.9250, 4158,    577.3,   6.8764,  34.3580,2,  34.3590,2,    220.4,2,    222.6,2,     9.06,2,    23.42,2,     0.00,2,     1.61,2,    0.795,2,    0.410,2,    0.184,2,   0.0000,2,     0.00,2,   -999.0,9,   -999.0,9,   -999.0,9,   -999.0,9,   -999.0,9, -999.00,  -999.0,-999.0000,   0.150,  6.8219,   0.003
   31WTTUNES_2,  P17S,   163,  1,     12,     12,2,19910802,1708,-25.2050,-132.9250, 4158,    636.4,   6.2754,  34.3283,2,  34.3274,2,    231.8,2,    230.8,2,    10.23,2,    24.44,2,     0.00,2,     1.68,2, -999.000,9, -999.000,9, -999.000,9,-999.0000,9,  -999.00,9,   -999.0,9,   -999.0,9,   -999.0,9,   -999.0,9,   -999.0,9, -999.00,  -999.0,-999.0000,-999.000,  6.2181,-999.000
   31WTTUNES_2,  P17S,   163,  1,     13,     13,2,19910802,1708,-25.2050,-132.9250, 4158,    671.4,   5.9535,  34.3106,2,  34.3111,2,    230.0,2,    230.7,2,    11.40,2,    25.31,2,     0.00,2,     1.73,2,    0.470,2,    0.259,2, -999.000,9,-999.0000,9,  -999.00,9,   -999.0,9,   -999.0,9,   -999.0,9,   -999.0,9,   -999.0,9, -999.00,  -999.0,-999.0000,-999.000,  5.8944,-999.000
   31WTTUNES_2,  P17S,   163,  1,     37,     37,2,19910802,1708,-25.2050,-132.9250, 4158,    708.5,   5.8015,  34.3030,2,  34.3025,2,    227.7,2,    229.7,2,    12.76,2,    25.82,2,     0.00,2,     1.77,2,    0.401,2,    0.225,2, -999.000,9,-999.0000,9,  -999.00,9,   -999.0,9,   -999.0,9,   -999.0,9,   -999.0,9,   -999.0,9, -999.00,  -999.0,-999.0000,-999.000,  5.7398,-999.000
   31WTTUNES_2,  P17S,   163,  1,     15,     15,2,19910802,1708,-25.2050,-132.9250, 4158,    767.0,   5.3635,  34.2919,2,  34.2905,2,    220.3,2,    219.9,2,    16.87,2,    27.66,2,     0.00,2,     1.90,2,    0.221,2,    0.133,2, -999.000,9,-999.0000,9,  -999.00,9,   -999.0,9,   -999.0,9,   -999.0,9,   -999.0,9,   -999.0,9, -999.00,  -999.0,-999.0000,-999.000,  5.2991,-999.000
   31WTTUNES_2,  P17S,   163,  1,     16,     16,2,19910802,1708,-25.2050,-132.9250, 4158,    823.1,   5.0066,  34.2983,2,  34.2985,2,    210.9,2,    207.9,2,    22.35,2,    29.51,2,     0.00,2,     2.02,2,    0.109,2,    0.072,2, -999.000,9,-999.0000,9,  -999.00,9,   -999.0,9,   -999.0,9,   -999.0,9,   -999.0,9,   -999.0,9, -999.00,  -999.0,-999.0000,-999.000,  4.9393,-999.000
   31WTTUNES_2,  P17S,   163,  1,     17,     17,2,19910802,1708,-25.2050,-132.9250, 4158,    917.6,   4.5147,  34.3282,2,  34.3283,2,    186.9,2,    186.8,2,    33.51,2,    32.08,2,     0.00,2,     2.20,2,    0.036,2,    0.028,2, -999.000,9,   1.8010,2,     3.36,2,   -999.0,9,   -999.0,9,   -999.0,9,   -999.0,9,   -999.0,9, -999.00,  -999.0,-999.0000,-999.000,  4.4424,-999.000
   31WTTUNES_2,  P17S,   163,  1,     18,     18,2,19910802,1708,-25.2050,-132.9250, 4158,   1011.2,   4.0747,  34.3889,2,  34.3870,2,    164.2,2,    163.1,2,    48.81,2,    34.41,2,     0.00,2,     2.38,2,    0.007,2,    0.008,2, -999.000,9,   1.8260,2,     7.62,2,   -999.0,9,   -999.0,9,   -999.0,9,   -999.0,9,   -999.0,9, -999.00,  -999.0,-999.0000,-999.000,  3.9978,-999.000
   31WTTUNES_2,  P17S,   163,  1,     19,     19,2,19910802,1708,-25.2050,-132.9250, 4158,   1101.2,   3.7838,  34.4400,2,  34.4390,2,    151.3,2,    150.8,2,    61.00,2,    35.55,2,     0.00,2,     2.47,2,    0.000,2,    0.003,2, -999.000,9,   1.8300,2,    11.28,2,   -999.0,9,   -999.0,9,   -999.0,9,   -999.0,9,   -999.0,9, -999.00,  -999.0,-999.0000,-999.000,  3.7016,-999.000
   31WTTUNES_2,  P17S,   163,  1,     20,     20,2,19910802,1708,-25.2050,-132.9250, 4158,   1189.4,   3.4989,  34.4739,2,  34.4741,2,    148.7,2,    148.7,2,    70.45,2,    35.71,2,     0.00,2,     2.50,2,    0.002,8,    0.003,7, -999.000,9,   1.8500,2,    13.60,2,   -999.0,9,   -999.0,9,   -999.0,9,   -999.0,9,   -999.0,9, -999.00,  -999.0,-999.0000,-999.000,  3.4118,-999.000
   31WTTUNES_2,  P17S,   163,  1,     21,     21,2,19910802,1708,-25.2050,-132.9250, 4158,   1282.9,   3.1939,  34.5104,2,  34.5098,2,    148.2,2,    148.0,2,    80.14,2,    35.81,2,     0.00,2,     2.50,2,    0.002,2,    0.003,2, -999.000,9,   1.8640,2,    16.60,2,   -999.0,9,   -999.0,9,   -999.0,9,   -999.0,9,   -999.0,9, -999.00,  -999.0,-999.0000,-999.000,  3.1021,-999.000
   31WTTUNES_2,  P17S,   163,  1,     22,     22,2,19910802,1708,-25.2050,-132.9250, 4158,   1370.5,   2.9710,  34.5343,2,  34.5320,2,    148.4,2,    148.6,2,    86.28,2,    35.71,2,     0.00,2,     2.48,2, -999.000,9, -999.000,9, -999.000,9,   1.8680,2,    18.77,2,   -999.0,9,   -999.0,9,   -999.0,9,   -999.0,9,   -999.0,9, -999.00,  -999.0,-999.0000,-999.000,  2.8742,-999.000
   31WTTUNES_2,  P17S,   163,  1,     23,     23,2,19910802,1708,-25.2050,-132.9250, 4158,   1549.7,   2.6300,  34.5691,2,  34.5677,2,    151.5,2,    151.0,2,    96.64,2,    35.61,2,     0.00,2,     2.47,2, -999.000,9, -999.000,9, -999.000,9,   1.8820,2,    21.30,2,   -999.0,9,   -999.0,9,   -999.0,9,   -999.0,9,   -999.0,9, -999.00,  -999.0,-999.0000,-999.000,  2.5225,-999.000
   31WTTUNES_2,  P17S,   163,  1,     24,     24,2,19910802,1708,-25.2050,-132.9250, 4158,   1733.9,   2.3411,  34.6002,2,  34.5993,2,    151.6,2,    152.9,2,   107.27,2,    35.45,2,     0.00,2,     2.47,2, -999.000,9, -999.000,9, -999.000,9,   1.8880,2,    22.97,2,   -999.0,9,   -999.0,9,   -999.0,9,   -999.0,9,   -999.0,9, -999.00,  -999.0,-999.0000,-999.000,  2.2220,-999.000
   31WTTUNES_2,  P17S,   163,  1,     25,     25,2,19910802,1708,-25.2050,-132.9250, 4158,   1931.5,   2.1292,  34.6252,2,  34.6250,2,    152.9,2,    152.8,2,   115.75,2,    35.40,2,     0.00,2,     2.46,2, -999.000,9, -999.000,9, -999.000,9,   1.8960,2,    24.49,2,   -999.0,9,   -999.0,9,   -999.0,9,   -999.0,9,   -999.0,9, -999.00,  -999.0,-999.0000,-999.000,  1.9966,-999.000
   31WTTUNES_2,  P17S,   163,  1,     26,     26,2,19910802,1708,-25.2050,-132.9250, 4158,   2132.8,   1.9982,  34.6403,2,  34.6397,2,    153.2,2,    153.4,2,   120.62,2,    35.35,2,     0.00,2,     2.46,2, -999.000,9, -999.000,9, -999.000,9,   1.9030,2,    24.74,2,   -999.0,9,   -999.0,9,   -999.0,9,   -999.0,9,   -999.0,9, -999.00,  -999.0,-999.0000,-999.000,  1.8505,-999.000
   31WTTUNES_2,  P17S,   163,  1,     27,     27,2,19910802,1708,-25.2050,-132.9250, 4158,   2348.8,   1.9012,  34.6503,2,  34.6503,2,    156.6,2,    155.8,2,   123.26,2,    35.30,2,     0.00,2,     2.46,2, -999.000,9, -999.000,9, -999.000,9,   1.9120,2,    24.55,2,   -999.0,9,   -999.0,9,   -999.0,9,   -999.0,9,   -999.0,9, -999.00,  -999.0,-999.0000,-999.000,  1.7363,-999.000
   31WTTUNES_2,  P17S,   163,  1,     28,     28,2,19910802,1708,-25.2050,-132.9250, 4158,   2545.2,   1.8192,  34.6599,2,  34.6580,2,    157.5,2,    158.9,2,   124.89,2,    35.15,2,     0.00,2,     2.43,2, -999.000,9, -999.000,9, -999.000,9,   1.9140,2,    24.47,2,   -999.0,9,   -999.0,9,   -999.0,9,   -999.0,9,   -999.0,9, -999.00,  -999.0,-999.0000,-999.000,  1.6382,-999.000
   31WTTUNES_2,  P17S,   163,  1,     29,     29,2,19910802,1708,-25.2050,-132.9250, 4158,   2739.9,   1.7473,  34.6647,2,  34.6654,2,    161.5,2,    162.0,2,   125.70,2,    34.84,2,     0.00,2,     2.42,2, -999.000,9, -999.000,9, -999.000,9,   1.9070,2,    23.48,2,   -999.0,9,   -999.0,9,   -999.0,9,   -999.0,9,   -999.0,9, -999.00,  -999.0,-999.0000,-999.000,  1.5497,-999.000
   31WTTUNES_2,  P17S,   163,  1,     30,     30,3,19910802,1708,-25.2050,-132.9250, 4158,   2964.9,   1.6803,  34.6723,2,  34.6711,2,    165.1,2,    167.5,2,   125.89,2,    34.63,2,     0.00,2,     2.41,2, -999.000,9, -999.000,9, -999.000,9,   1.8970,2,    22.41,2,   -999.0,9,   -999.0,9,   -999.0,9,   -999.0,9,   -999.0,9, -999.00,  -999.0,-999.0000,-999.000,  1.4629,-999.000
   31WTTUNES_2,  P17S,   163,  1,     31,     31,3,19910802,1708,-25.2050,-132.9250, 4158,   3168.3,   1.6263,  34.6776,2,  34.6762,2,    168.5,2,    172.0,4,   126.29,2,    34.37,2,     0.00,2,     2.38,2, -999.000,9, -999.000,9, -999.000,9,   1.9040,2,    21.15,2,   -999.0,9,   -999.0,9,   -999.0,9,   -999.0,9,   -999.0,9, -999.00,  -999.0,-999.0000,-999.000,  1.3904,-999.000
   31WTTUNES_2,  P17S,   163,  1,     32,     32,2,19910802,1708,-25.2050,-132.9250, 4158,   3347.5,   1.6113,  34.6806,2,  34.6787,2,    170.0,2,    170.3,2,   126.08,2,    34.32,2,     0.00,2,     2.37,2, -999.000,9, -999.000,9, -999.000,9,   1.8950,2,    20.93,2,   -999.0,9,   -999.0,9,   -999.0,9,   -999.0,9,   -999.0,9, -999.00,  -999.0,-999.0000,-999.000,  1.3579,-999.000
   31WTTUNES_2,  P17S,   163,  1,     33,     33,2,19910802,1708,-25.2050,-132.9250, 4158,   3573.7,   1.5773,  34.6842,2,  34.6827,2,    171.3,2,    173.0,2,   125.87,2,    34.22,2,     0.00,2,     2.37,2, -999.000,9, -999.000,9, -999.000,9,   1.9010,2,    19.26,2,   -999.0,9,   -999.0,9,   -999.0,9,   -999.0,9,   -999.0,9, -999.00,  -999.0,-999.0000,-999.000,  1.3016,-999.000
   31WTTUNES_2,  P17S,   163,  1,     34,     34,2,19910802,1708,-25.2050,-132.9250, 4158,   3814.9,   1.5783,  34.6852,2,  34.6846,2,    173.8,2,    173.9,2,   126.06,2,    34.12,2,     0.00,2,     2.35,2, -999.000,9, -999.000,9, -999.000,9,   1.9030,2,    18.61,2,   -999.0,9,   -999.0,9,   -999.0,9,   -999.0,9,   -999.0,9, -999.00,  -999.0,-999.0000,-999.000,  1.2772,-999.000
   31WTTUNES_2,  P17S,   163,  1,     35,     35,3,19910802,1708,-25.2050,-132.9250, 4158,   4001.2,   1.5833,  34.6875,2,  34.6862,2,    176.9,2,    177.3,4,   125.85,2,    33.96,2,     0.00,2,     2.34,2, -999.000,9, -999.000,9, -999.000,9,   1.8910,2,    18.69,2,   -999.0,9,   -999.0,9,   -999.0,9,   -999.0,9,   -999.0,9, -999.00,  -999.0,-999.0000,-999.000,  1.2619,-999.000
   31WTTUNES_2,  P17S,   163,  1,     38,     38,2,19910802,1708,-25.2050,-132.9250, 4158,   4218.2,   1.5873,  34.6890,2,  34.6863,2,    177.2,2,    176.0,2,   125.64,2,    33.91,2,     0.00,2,     2.33,2, -999.000,9, -999.000,9, -999.000,9,   1.8910,2,    17.83,2,   -999.0,9,   -999.0,9,   -999.0,9,   -999.0,9,   -999.0,9, -999.00,  -999.0,-999.0000,-999.000,  1.2417,-999.000