BOTTLE,20131125MIRCJHATS
EXPOCODE,SECT_ID,STNNBR,CASTNO,SAMPNO,BTLNBR,BTLNBR_FLAG_W,DATE,TIME,LATITUDE,LONGITUDE,DEPTH,CTDPRS,CTDTMP,CTDSAL,CTDSAL_FLAG_W,SALNTY,SALNTY_FLAG_W,CTDOXY,CTDOXY_FLAG_W,OXYGEN,OXYGEN_FLAG_W,SILCAT,SILCAT_FLAG_W,NITRAT,NITRAT_FLAG_W,NITRIT,NITRIT_FLAG_W,PHSPHT,PHSPHT_FLAG_W,CFC-11,CFC-11_FLAG_W,CFC-12,CFC-12_FLAG_W,TRITUM,TRITUM_FLAG_W,HELIUM,HELIUM_FLAG_W,DELHE3,DELHE3_FLAG_W,DELC14,DELC14_FLAG_W,DELC13,DELC13_FLAG_W,TCARBN,TCARBN_FLAG_W,PCO2,PCO2_FLAG_W,ALKALI,ALKALI_FLAG_W,PCO2TMP,C14ERR,HELIER,DELHER,THETA,TRITER
,,,,,,,,,,,,DBAR,ITS-90,PSS-78,,PSS-78,,UMOL/KG,,UMOL/KG,,UMOL/KG,,UMOL/KG,,UMOL/KG,,UMOL/KG,,PMOL/KG,,PMOL/KG,,TU,,NMOL/KG,,PERCNT,,/MILLE,,/MILLE,,UMOL/KG,,UATM,,UMOL/KG,,DEG C,/MILLE,NMOL/KG,PERCNT,DEG C,TU
   31WTTUNES_2,  P17S,   133,  1,      1,      1,2,19910725,0122,-10.4933,-134.8933, 4358,      0.2,  27.3739,  35.9409,2,  35.9418,2,    213.6,3,    214.5,2,     1.99,2,     2.91,2,     0.05,2,     0.42,2,    1.620,2,    0.890,2, -999.000,9,-999.0000,9,  -999.00,9,   -999.0,9,   -999.0,9,   2006.9,2,   -999.0,5,   -999.0,9, -999.00,  -999.0,-999.0000,-999.000, 27.3739,-999.000
   31WTTUNES_2,  P17S,   133,  1,      2,      2,2,19910725,0122,-10.4933,-134.8933, 4358,     42.6,  27.3629,  36.0304,2,  36.0384,2,    218.7,6,    215.4,2,     1.97,2,     2.57,2,     0.04,2,     0.39,2,    1.619,6,    0.894,6, -999.000,9,-999.0000,9,  -999.00,9,   -999.0,9,   -999.0,9,   2010.5,2,    262.5,2,   -999.0,9,   20.00,  -999.0,-999.0000,-999.000, 27.3530,-999.000
   31WTTUNES_2,  P17S,   133,  1,      3,      3,2,19910725,0122,-10.4933,-134.8933, 4358,     68.1,  27.3919,  36.0793,2,  36.0879,2,    205.1,6,    210.9,2,     1.96,2,     2.37,2,     0.04,2,     0.39,2,    1.621,8,    0.912,2, -999.000,9,-999.0000,9,  -999.00,9,   -999.0,9,   -999.0,9,   2013.2,2,   -999.0,5,   -999.0,9, -999.00,  -999.0,-999.0000,-999.000, 27.3761,-999.000
   31WTTUNES_2,  P17S,   133,  1,      4,      4,2,19910725,0122,-10.4933,-134.8933, 4358,     92.9,  26.7887,  36.1741,2,  36.1922,2,    193.2,2,    205.5,2,     1.94,2,     1.80,2,     0.05,2,     0.46,2,    1.687,8,    0.936,2, -999.000,9,-999.0000,9,  -999.00,9,   -999.0,9,   -999.0,9,   2041.7,2,    281.8,2,   -999.0,9,   20.00,  -999.0,-999.0000,-999.000, 26.7675,-999.000
   31WTTUNES_2,  P17S,   133,  1,      5,      5,2,19910725,0122,-10.4933,-134.8933, 4358,    124.2,  24.2441,  36.2984,2,  36.2995,2,    178.4,2,    187.9,2,     1.92,2,     1.02,2,     2.56,2,     0.52,2,    1.797,6,    1.017,6, -999.000,9,-999.0000,9,  -999.00,9,   -999.0,9,   -999.0,9,   2076.5,2,   -999.0,5,   -999.0,9, -999.00,  -999.0,-999.0000,-999.000, 24.2177,-999.000
   31WTTUNES_2,  P17S,   133,  1,      6,      6,3,19910725,0122,-10.4933,-134.8933, 4358,    153.5,  22.2159,  36.1570,2,  35.2541,4,    171.4,2,    131.7,4,    42.87,4,    20.89,4,     0.07,4,     1.63,4,    0.824,4,    0.432,4, -999.000,9,-999.0000,9,  -999.00,9,   -999.0,9,   -999.0,9,   2197.5,2,   -999.0,5,   -999.0,9, -999.00,  -999.0,-999.0000,-999.000, 22.1851,-999.000
   31WTTUNES_2,  P17S,   133,  1,      7,      7,2,19910725,0122,-10.4933,-134.8933, 4358,    184.7,  20.8057,  35.9363,2,  35.9227,2,    165.1,2,    176.4,2,     2.47,2,     5.41,2,     0.02,2,     0.64,2,    1.927,2,    1.034,2, -999.000,9,-999.0000,9,  -999.00,9,   -999.0,9,   -999.0,9,   2105.2,2,    410.1,2,   -999.0,9,   20.00,  -999.0,-999.0000,-999.000, 20.7705,-999.000
   31WTTUNES_2,  P17S,   133,  1,      8,      8,2,19910725,0122,-10.4933,-134.8933, 4358,    226.4,  17.6288,  35.4155,2,  35.3797,2,    145.9,2,    148.1,2,     4.18,2,     9.83,2,     0.01,2,     0.96,2,    1.717,2,    0.907,2, -999.000,9,-999.0000,9,  -999.00,9,   -999.0,9,   -999.0,9,   2118.0,2,   -999.0,5,   -999.0,9, -999.00,  -999.0,-999.0000,-999.000, 17.5903,-999.000
   31WTTUNES_2,  P17S,   133,  1,      9,      9,2,19910725,0122,-10.4933,-134.8933, 4358,    268.7,  13.3055,  34.8738,2,  34.8762,2,     92.3,2,     92.9,2,    10.90,2,    18.42,2,     0.00,2,     1.67,2,    0.967,2,    0.512,2, -999.000,9,-999.0000,9,  -999.00,9,   -999.0,9,   -999.0,9,   2172.9,2,    845.6,2,   -999.0,9,   20.00,  -999.0,-999.0000,-999.000, 13.2679,-999.000
   31WTTUNES_2,  P17S,   133,  1,     10,     10,2,19910725,0122,-10.4933,-134.8933, 4358,    308.7,  11.5060,  34.7204,2,  34.7191,2,     63.2,2,     60.6,2,    17.80,2,    25.21,2,     0.00,2,     2.15,2,    0.438,2,    0.243,2, -999.000,9,-999.0000,9,  -999.00,9,   -999.0,9,   -999.0,9,   2213.9,2,   -999.0,5,   -999.0,9, -999.00,  -999.0,-999.0000,-999.000, 11.4667,-999.000
   31WTTUNES_2,  P17S,   133,  1,     11,     11,2,19910725,0122,-10.4933,-134.8933, 4358,    370.5,   9.7256,  34.6650,2,  34.6629,2,     54.0,2,     54.9,2,    25.67,2,    31.38,2,     0.00,2,     2.40,2,    0.086,2,    0.056,2, -999.000,9,-999.0000,9,  -999.00,9,   -999.0,9,   -999.0,9,   2234.9,2,   1352.9,2,   -999.0,9,   20.00,  -999.0,-999.0000,-999.000,  9.6831,-999.000
   31WTTUNES_2,  P17S,   133,  1,     12,     12,2,19910725,0122,-10.4933,-134.8933, 4358,    431.3,   8.3271,  34.6221,2,  34.6205,2,     93.7,2,     86.8,2,    30.84,2,    32.58,2,     0.00,2,     2.33,2,    0.046,2,    0.033,2, -999.000,9,-999.0000,9,  -999.00,9,   -999.0,9,   -999.0,9,   2227.0,2,   -999.0,5,   -999.0,9, -999.00,  -999.0,-999.0000,-999.000,  8.2820,-999.000
   31WTTUNES_2,  P17S,   133,  1,     13,     13,2,19910725,0122,-10.4933,-134.8933, 4358,    512.7,   7.3586,  34.5781,2,  34.5769,2,     92.4,2,     90.0,2,    37.17,2,    34.63,2,     0.00,2,     2.45,2,    0.022,2,    0.017,2, -999.000,9,-999.0000,9,  -999.00,9,   -999.0,9,   -999.0,9,   2235.3,2,   1284.0,2,   -999.0,9,   20.00,  -999.0,-999.0000,-999.000,  7.3084,-999.000
   31WTTUNES_2,  P17S,   133,  1,     37,     37,2,19910725,0122,-10.4933,-134.8933, 4358,    613.7,   6.5210,  34.5498,2,  34.5492,2,     80.4,2,     79.0,2,    46.20,2,    37.64,2,     0.00,2,     2.66,2,    0.006,2,    0.003,7, -999.000,9,-999.0000,9,  -999.00,9,   -999.0,9,   -999.0,9,   2254.5,2,   1423.3,2,   -999.0,9,   20.00,  -999.0,-999.0000,-999.000,  6.4644,-999.000
   31WTTUNES_2,  P17S,   133,  1,     15,     15,2,19910725,0122,-10.4933,-134.8933, 4358,    716.5,   5.7654,  34.5358,2,  34.5339,2,     74.0,2,     74.3,2,    56.02,2,    39.67,2,     0.00,2,     2.81,2,    0.001,8,   -0.002,2, -999.000,9,-999.0000,9,  -999.00,9,   -999.0,9,   -999.0,9,   2273.2,2,   -999.0,5,   -999.0,9, -999.00,  -999.0,-999.0000,-999.000,  5.7029,-999.000
   31WTTUNES_2,  P17S,   133,  1,     16,     16,2,19910725,0122,-10.4933,-134.8933, 4358,    819.6,   5.2926,  34.5293,2,  34.5294,2,     79.2,2,     80.1,2,    63.14,2,    39.79,2,     0.00,2,     2.84,2,    0.003,2,    0.001,2, -999.000,9,-999.0000,9,  -999.00,9,   -999.0,9,   -999.0,9,   2277.5,2,   1513.3,2,   -999.0,9,   20.00,  -999.0,-999.0000,-999.000,  5.2236,-999.000
   31WTTUNES_2,  P17S,   133,  1,     18,     18,2,19910725,0122,-10.4933,-134.8933, 4358,    921.3,   4.6470,  34.5331,2,  34.5324,2,     90.1,2,     91.3,2,    73.94,2,    39.75,2,     0.00,2,     2.84,2,    0.008,2,    0.005,7, -999.000,9,-999.0000,9,  -999.00,9,   -999.0,9,   -999.0,9,   2285.3,2,   1472.0,2,   -999.0,9,   20.00,  -999.0,-999.0000,-999.000,  4.5732,-999.000
   31WTTUNES_2,  P17S,   133,  1,     17,     17,2,19910725,0122,-10.4933,-134.8933, 4358,    921.7,   4.6600,  34.5311,2,  34.5336,2,     90.1,2,     90.8,2,    73.77,2,    39.64,2,     0.00,2,     2.85,2,    0.002,7,    0.006,7, -999.000,9,-999.0000,9,  -999.00,9,   -999.0,9,   -999.0,9,   2286.5,2,   -999.0,5,   -999.0,9, -999.00,  -999.0,-999.0000,-999.000,  4.5861,-999.000
   31WTTUNES_2,  P17S,   133,  1,     19,     19,2,19910725,0122,-10.4933,-134.8933, 4358,   1024.6,   4.2992,  34.5391,2,  34.5399,2,     93.7,2,     92.7,2,    81.11,2,    39.55,2,     0.00,2,     2.84,2, -999.000,9, -999.000,9, -999.000,9,-999.0000,9,  -999.00,9,   -999.0,9,   -999.0,9,   2292.4,2,   1468.7,2,   -999.0,9,   20.00,  -999.0,-999.0000,-999.000,  4.2191,-999.000
   31WTTUNES_2,  P17S,   133,  1,     20,     20,2,19910725,0122,-10.4933,-134.8933, 4358,   1178.1,   3.7895,  34.5573,2,  34.5564,2,     97.5,2,     99.1,2,    91.82,2,    39.23,2,     0.00,2,     2.82,2, -999.000,9, -999.000,9, -999.000,9,-999.0000,9,  -999.00,9,   -999.0,9,   -999.0,9,   2299.2,2,   1446.1,2,   -999.0,9,   20.00,  -999.0,-999.0000,-999.000,  3.7006,-999.000
   31WTTUNES_2,  P17S,   133,  1,     21,     21,2,19910725,0122,-10.4933,-134.8933, 4358,   1331.0,   3.3618,  34.5739,2,  34.5733,2,    108.3,2,    106.5,2,   101.62,2,    38.76,2,     0.00,2,     2.79,2, -999.000,9, -999.000,9, -999.000,9,-999.0000,9,  -999.00,9,   -999.0,9,   -999.0,9,   2306.1,2,   -999.0,5,   -999.0,9, -999.00,  -999.0,-999.0000,-999.000,  3.2641,-999.000
   31WTTUNES_2,  P17S,   133,  1,     22,     22,2,19910725,0122,-10.4933,-134.8933, 4358,   1525.1,   2.9520,  34.5934,2,  34.5930,2,    112.9,2,    112.7,2,   111.48,2,    38.29,2,     0.00,2,     2.76,2, -999.000,9, -999.000,9, -999.000,9,-999.0000,9,  -999.00,9,   -999.0,9,   -999.0,9,   2314.9,2,   1380.8,2,   -999.0,9,   20.00,  -999.0,-999.0000,-999.000,  2.8426,-999.000
   31WTTUNES_2,  P17S,   133,  1,     23,     23,2,19910725,0122,-10.4933,-134.8933, 4358,   1721.3,   2.5563,  34.6162,2,  34.6162,2,    122.7,2,    122.7,2,   120.83,2,    37.61,2,     0.00,2,     2.68,2, -999.000,9, -999.000,9, -999.000,9,-999.0000,9,  -999.00,9,   -999.0,9,   -999.0,9,   2314.5,2,   1321.2,2,   -999.0,9,   20.00,  -999.0,-999.0000,-999.000,  2.4353,-999.000
   31WTTUNES_2,  P17S,   133,  1,     24,     24,2,19910725,0122,-10.4933,-134.8933, 4358,   1928.4,   2.2895,  34.6331,2,  34.6329,2,    128.7,2,    128.4,2,   126.42,2,    37.30,2,     0.00,2,     2.65,2, -999.000,9, -999.000,9, -999.000,9,-999.0000,9,  -999.00,9,   -999.0,9,   -999.0,9,   2321.3,2,   -999.0,5,   -999.0,9, -999.00,  -999.0,-999.0000,-999.000,  2.1547,-999.000
   31WTTUNES_2,  P17S,   133,  1,     25,     25,2,19910725,0122,-10.4933,-134.8933, 4358,   2130.8,   2.0566,  34.6512,2,  34.6506,2,    137.5,2,    137.2,2,   129.42,2,    36.72,2,     0.00,2,     2.61,2, -999.000,9, -999.000,9, -999.000,9,-999.0000,9,  -999.00,9,   -999.0,9,   -999.0,9,   2319.0,2,   -999.0,5,   -999.0,9, -999.00,  -999.0,-999.0000,-999.000,  1.9081,-999.000
   31WTTUNES_2,  P17S,   133,  1,     26,     26,2,19910725,0122,-10.4933,-134.8933, 4358,   2334.1,   1.9167,  34.6628,2,  34.6626,2,    142.3,2,    141.9,2,   132.83,2,    36.31,2,     0.00,2,     2.56,2, -999.000,9, -999.000,9, -999.000,9,-999.0000,9,  -999.00,9,   -999.0,9,   -999.0,9,   2324.8,2,   1225.5,2,   -999.0,9,   20.00,  -999.0,-999.0000,-999.000,  1.7528,-999.000
   31WTTUNES_2,  P17S,   133,  1,     27,     27,2,19910725,0122,-10.4933,-134.8933, 4358,   2546.3,   1.8418,  34.6709,2,  34.6704,2,    145.1,2,    144.3,2,   135.85,2,    36.16,2,     0.00,2,     2.54,2, -999.000,9, -999.000,9, -999.000,9,-999.0000,9,  -999.00,9,   -999.0,9,   -999.0,9,   2321.2,2,   1202.8,2,   -999.0,9,   20.00,  -999.0,-999.0000,-999.000,  1.6602,-999.000
   31WTTUNES_2,  P17S,   133,  1,     28,     28,2,19910725,0122,-10.4933,-134.8933, 4358,   2752.5,   1.7718,  34.6755,2,  34.6752,2,    147.6,2,    148.8,2,   136.84,2,    35.95,2,     0.00,2,     2.52,2, -999.000,9, -999.000,9, -999.000,9,-999.0000,9,  -999.00,9,   -999.0,9,   -999.0,9,   2322.0,2,   -999.0,5,   -999.0,9, -999.00,  -999.0,-999.0000,-999.000,  1.5726,-999.000
   31WTTUNES_2,  P17S,   133,  1,     29,     29,2,19910725,0122,-10.4933,-134.8933, 4358,   2957.8,   1.7099,  34.6783,2,  34.6776,2,    152.7,2,    153.4,2,   136.60,2,    35.65,2,     0.00,2,     2.50,2, -999.000,9, -999.000,9, -999.000,9,-999.0000,9,  -999.00,9,   -999.0,9,   -999.0,9,   2320.5,2,   1154.4,2,   -999.0,9,   20.00,  -999.0,-999.0000,-999.000,  1.4925,-999.000
   31WTTUNES_2,  P17S,   133,  1,     30,     30,2,19910725,0122,-10.4933,-134.8933, 4358,   3162.7,   1.6439,  34.6821,2,  34.6815,2,    155.6,2,    157.6,2,   136.57,2,    35.28,2,     0.00,2,     2.48,2, -999.000,9, -999.000,9, -999.000,9,-999.0000,9,  -999.00,9,   -999.0,9,   -999.0,9,   2314.7,2,   -999.0,5,   -999.0,9, -999.00,  -999.0,-999.0000,-999.000,  1.4081,-999.000
   31WTTUNES_2,  P17S,   133,  1,     31,     31,2,19910725,0122,-10.4933,-134.8933, 4358,   3368.8,   1.5749,  34.6862,2,  34.6852,2,    159.8,2,    161.8,2,   136.54,2,    35.13,2,     0.00,2,     2.46,2, -999.000,9, -999.000,9, -999.000,9,-999.0000,9,  -999.00,9,   -999.0,9,   -999.0,9,   2313.3,2,   1121.0,2,   -999.0,9,   20.00,  -999.0,-999.0000,-999.000,  1.3202,-999.000
   31WTTUNES_2,  P17S,   133,  1,     32,     32,2,19910725,0122,-10.4933,-134.8933, 4358,   3575.6,   1.5470,  34.6872,2,  34.6866,2,    162.9,2,    164.0,2,   136.51,2,    35.04,2,     0.00,2,     2.45,2, -999.000,9, -999.000,9, -999.000,9,-999.0000,9,  -999.00,9,   -999.0,9,   -999.0,9,   2313.4,2,   1112.9,2,   -999.0,9,   20.00,  -999.0,-999.0000,-999.000,  1.2718,-999.000
   31WTTUNES_2,  P17S,   133,  1,     33,     33,2,19910725,0122,-10.4933,-134.8933, 4358,   3783.1,   1.5270,  34.6894,2,  34.6878,2,    163.4,2,    165.2,2,   137.09,2,    34.99,2,     0.00,2,     2.44,2, -999.000,9, -999.000,9, -999.000,9,-999.0000,9,  -999.00,9,   -999.0,9,   -999.0,9,   2310.9,2,   -999.0,5,   -999.0,9, -999.00,  -999.0,-999.0000,-999.000,  1.2306,-999.000
   31WTTUNES_2,  P17S,   133,  1,     34,     34,2,19910725,0122,-10.4933,-134.8933, 4358,   3989.7,   1.4480,  34.6934,2,  34.6932,2,    166.9,2,    167.9,2,   139.11,2,    34.74,2,     0.00,2,     2.44,2, -999.000,9, -999.000,9, -999.000,9,-999.0000,9,  -999.00,9,   -999.0,9,   -999.0,9,   2312.0,2,   1093.9,2,   -999.0,9,   20.00,  -999.0,-999.0000,-999.000,  1.1317,-999.000
   31WTTUNES_2,  P17S,   133,  1,     35,     35,2,19910725,0122,-10.4933,-134.8933, 4358,   4201.2,   1.4450,  34.6935,2,  34.6928,2,    167.1,2,    168.9,2,   139.08,2,    34.74,2,     0.00,2,     2.43,2, -999.000,9, -999.000,9, -999.000,9,-999.0000,9,  -999.00,9,   -999.0,9,   -999.0,9,   2315.0,2,   1090.8,2,   -999.0,9,   20.00,  -999.0,-999.0000,-999.000,  1.1055,-999.000
   31WTTUNES_2,  P17S,   133,  1,     36,     36,2,19910725,0122,-10.4933,-134.8933, 4358,   4379.4,   1.4640,  34.6953,2,  34.6932,2,    167.5,2,    169.2,2,   138.84,2,    34.75,2,     0.00,2,     2.43,2, -999.000,9, -999.000,9, -999.000,9,-999.0000,9,  -999.00,9,   -999.0,9,   -999.0,9,   2304.9,2,   -999.0,5,   -999.0,9, -999.00,  -999.0,-999.0000,-999.000,  1.1039,-999.000