BOTTLE,20131125MIRCJHATS
EXPOCODE,SECT_ID,STNNBR,CASTNO,SAMPNO,BTLNBR,BTLNBR_FLAG_W,DATE,TIME,LATITUDE,LONGITUDE,DEPTH,CTDPRS,CTDTMP,CTDSAL,CTDSAL_FLAG_W,SALNTY,SALNTY_FLAG_W,CTDOXY,CTDOXY_FLAG_W,OXYGEN,OXYGEN_FLAG_W,SILCAT,SILCAT_FLAG_W,NITRAT,NITRAT_FLAG_W,NITRIT,NITRIT_FLAG_W,PHSPHT,PHSPHT_FLAG_W,CFC-11,CFC-11_FLAG_W,CFC-12,CFC-12_FLAG_W,TRITUM,TRITUM_FLAG_W,HELIUM,HELIUM_FLAG_W,DELHE3,DELHE3_FLAG_W,DELC14,DELC14_FLAG_W,DELC13,DELC13_FLAG_W,TCARBN,TCARBN_FLAG_W,PCO2,PCO2_FLAG_W,ALKALI,ALKALI_FLAG_W,PCO2TMP,C14ERR,HELIER,DELHER,THETA,TRITER
,,,,,,,,,,,,DBAR,ITS-90,PSS-78,,PSS-78,,UMOL/KG,,UMOL/KG,,UMOL/KG,,UMOL/KG,,UMOL/KG,,UMOL/KG,,PMOL/KG,,PMOL/KG,,TU,,NMOL/KG,,PERCNT,,/MILLE,,/MILLE,,UMOL/KG,,UATM,,UMOL/KG,,DEG C,/MILLE,NMOL/KG,PERCNT,DEG C,TU
   31WTTUNES_2,  P17S,   166,  2,     61,     61,2,19910803,2217,-26.6433,-133.2950, 4035,      7.6,  20.6262,  35.5770,2,  35.5805,2,    222.8,3,    223.2,2,     1.17,2,     0.00,2,     0.00,2,     0.11,2,    2.066,2,    1.134,2, -999.000,9,-999.0000,9,  -999.00,9,    144.0,2,      1.2,2,   2005.3,2,    289.8,2,   -999.0,9,   20.00,     4.2,-999.0000,-999.000, 20.6247,-999.000
   31WTTUNES_2,  P17S,   166,  2,      2,      2,2,19910803,2217,-26.6433,-133.2950, 4035,     52.8,  20.4581,  35.5678,2,  35.5604,2,    221.3,6,    222.4,2,     0.98,2,     0.00,2,     0.00,2,     0.11,2,    2.074,2,    1.142,2, -999.000,9,-999.0000,9,  -999.00,9,   -999.0,9,   -999.0,9,   -999.0,9,   -999.0,9,   -999.0,9, -999.00,  -999.0,-999.0000,-999.000, 20.4482,-999.000
   31WTTUNES_2,  P17S,   166,  2,      3,      3,2,19910803,2217,-26.6433,-133.2950, 4035,     78.6,  19.9239,  35.5097,2,  35.5114,2,    220.3,6,    225.6,2,     0.98,2,     0.00,2,     0.00,2,     0.10,2,    2.118,2,    1.162,2, -999.000,9,-999.0000,9,  -999.00,9,   -999.0,9,   -999.0,9,   -999.0,9,   -999.0,9,   -999.0,9, -999.00,  -999.0,-999.0000,-999.000, 19.9094,-999.000
   31WTTUNES_2,  P17S,   166,  2,      4,      4,2,19910803,2217,-26.6433,-133.2950, 4035,    118.8,  19.8089,  35.4978,2,  35.4995,2,    222.2,6,    225.7,2,     0.98,2,     0.00,2,     0.00,2,     0.10,2,    2.076,2,    1.167,2, -999.000,9,-999.0000,9,  -999.00,9,   -999.0,9,   -999.0,9,   -999.0,9,   -999.0,9,   -999.0,9, -999.00,  -999.0,-999.0000,-999.000, 19.7871,-999.000
   31WTTUNES_2,  P17S,   166,  2,      5,      5,2,19910803,2217,-26.6433,-133.2950, 4035,    170.6,  19.1527,  35.4600,2,  35.4601,2,    222.9,2,    217.7,2,     0.98,2,     0.00,2,     0.06,2,     0.15,2,    2.114,2,    1.148,2, -999.000,9,-999.0000,9,  -999.00,9,    148.2,2,      1.2,2,   -999.0,9,   -999.0,9,   -999.0,9, -999.00,     4.1,-999.0000,-999.000, 19.1220,-999.000
   31WTTUNES_2,  P17S,   166,  2,      6,      6,2,19910803,2217,-26.6433,-133.2950, 4035,    221.6,  17.2992,  35.3717,2,  35.3668,2,    200.8,2,    202.4,2,     0.88,2,     2.34,2,     0.00,2,     0.32,2,    1.991,2,    1.099,2, -999.000,9,-999.0000,9,  -999.00,9,   -999.0,9,   -999.0,9,   -999.0,9,   -999.0,9,   -999.0,9, -999.00,  -999.0,-999.0000,-999.000, 17.2620,-999.000
   31WTTUNES_2,  P17S,   166,  2,      7,      7,2,19910803,2217,-26.6433,-133.2950, 4035,    282.1,  15.4288,  35.2109,2,  35.2134,2,    195.9,6,    196.2,2,     1.27,2,     5.47,2,     0.00,2,     0.52,2,    1.742,2,    0.927,2, -999.000,9,-999.0000,9,  -999.00,9,    115.4,2,      1.2,2,   -999.0,9,   -999.0,9,   -999.0,9, -999.00,     4.1,-999.0000,-999.000, 15.3850,-999.000
   31WTTUNES_2,  P17S,   166,  2,     68,     68,2,19910803,2217,-26.6433,-133.2950, 4035,    340.3,  13.7205,  35.0308,2,  35.0299,2,    194.3,2,    194.8,2,     2.05,2,     8.79,2,     0.00,2,     0.73,2,    1.570,2,    0.832,2, -999.000,9,-999.0000,9,  -999.00,9,     89.3,2,      1.2,2,   -999.0,9,   -999.0,9,   -999.0,9, -999.00,     3.9,-999.0000,-999.000, 13.6717,-999.000
   31WTTUNES_2,  P17S,   166,  2,     69,     69,2,19910803,2217,-26.6433,-133.2950, 4035,    400.1,  11.3083,  34.7687,2,  34.7692,2,    193.7,2,    195.7,2,     3.62,2,    13.88,2,     0.00,2,     1.04,2, -999.000,5, -999.000,5, -999.000,9,-999.0000,9,  -999.00,9,     59.2,2,      1.2,2,   -999.0,9,   -999.0,9,   -999.0,9, -999.00,     3.8,-999.0000,-999.000, 11.2577,-999.000
   31WTTUNES_2,  P17S,   166,  2,     70,     70,2,19910803,2217,-26.6433,-133.2950, 4035,    464.4,   8.8453,  34.5212,2,  34.5193,2,    202.6,2,    208.5,2,     5.38,2,    18.77,2,     0.00,2,     1.34,2,    1.058,2,    0.550,2, -999.000,9,-999.0000,9,  -999.00,9,     24.0,2,      1.2,2,   -999.0,9,   -999.0,9,   -999.0,9, -999.00,     3.7,-999.0000,-999.000,  8.7949,-999.000
   31WTTUNES_2,  P17S,   166,  2,     11,     11,2,19910803,2217,-26.6433,-133.2950, 4035,    526.7,   7.4003,  34.4139,2,  34.4144,2,    227.1,2,    231.5,2,     6.45,2,    21.02,2,     0.00,2,     1.47,2,    1.254,2,    0.640,2, -999.000,9,-999.0000,9,  -999.00,9,     16.7,2,      1.2,2,   -999.0,9,   -999.0,9,   -999.0,9, -999.00,     3.9,-999.0000,-999.000,  7.3487,-999.000
   31WTTUNES_2,  P17S,   166,  2,     12,     12,2,19910803,2217,-26.6433,-133.2950, 4035,    594.3,   6.7354,  34.3708,2,  34.3722,2,    235.5,2,    240.4,2,     7.63,2,    22.29,2,     0.00,2,     1.53,2,    1.074,2,    0.549,2, -999.000,9,-999.0000,9,  -999.00,9,     -2.5,2,      1.2,2,   -999.0,9,   -999.0,9,   -999.0,9, -999.00,     3.7,-999.0000,-999.000,  6.6799,-999.000
   31WTTUNES_2,  P17S,   166,  2,     13,     13,2,19910803,2217,-26.6433,-133.2950, 4035,    671.9,   6.1984,  34.3330,2,  34.3333,2,    238.5,2,    239.6,2,     9.58,2,    23.76,2,     0.00,2,     1.64,2,    0.679,2,    0.359,2, -999.000,9,-999.0000,9,  -999.00,9,    -27.5,2,      1.2,2,   -999.0,9,   -999.0,9,   -999.0,9, -999.00,     4.6,-999.0000,-999.000,  6.1381,-999.000
   31WTTUNES_2,  P17S,   166,  2,     37,     37,2,19910803,2217,-26.6433,-133.2950, 4035,    723.7,   5.9555,  34.3184,2,  34.3190,2,    239.5,2,    238.0,2,    11.15,2,    24.64,2,     0.00,2,     1.70,2,    0.532,2,    0.287,2, -999.000,9,-999.0000,9,  -999.00,9,    -34.9,2,      1.3,2,   -999.0,9,   -999.0,9,   -999.0,9, -999.00,     3.8,-999.0000,-999.000,  5.8916,-999.000
   31WTTUNES_2,  P17S,   166,  2,     15,     15,2,19910803,2217,-26.6433,-133.2950, 4035,    774.3,   5.5955,  34.3022,2,  34.3040,2,    233.1,2,    232.0,2,    13.69,2,    25.91,2,     0.00,2,     1.78,2,    0.366,2,    0.206,2, -999.000,9,-999.0000,9,  -999.00,9,    -51.4,2,      1.2,2,   -999.0,9,   -999.0,9,   -999.0,9, -999.00,     3.6,-999.0000,-999.000,  5.5290,-999.000
   31WTTUNES_2,  P17S,   166,  2,     16,     16,2,19910803,2217,-26.6433,-133.2950, 4035,    825.8,   5.2626,  34.2977,2,  34.2966,2,    224.6,2,    222.9,2,    17.01,2,    27.38,2,     0.00,2,     1.89,2,    0.223,2,    0.130,2, -999.000,9,-999.0000,9,  -999.00,9,    -77.7,2,      1.1,2,   -999.0,9,   -999.0,9,   -999.0,9, -999.00,     3.6,-999.0000,-999.000,  5.1934,-999.000
   31WTTUNES_2,  P17S,   166,  2,     17,     17,2,19910803,2217,-26.6433,-133.2950, 4035,    928.7,   4.6506,  34.3134,2,  34.3136,2,    200.9,2,    196.7,2,    28.84,2,    30.89,2,     0.00,2,     2.14,2,    0.058,2,    0.038,2, -999.000,9,-999.0000,9,  -999.00,9,   -107.3,2,      0.8,2,   -999.0,9,   -999.0,9,   -999.0,9, -999.00,     3.5,-999.0000,-999.000,  4.5765,-999.000
   31WTTUNES_2,  P17S,   166,  2,     18,     18,2,19910803,2217,-26.6433,-133.2950, 4035,   1031.3,   4.1787,  34.3515,2,  34.3522,2,    179.6,2,    178.5,2,    40.57,2,    33.14,2,     0.00,2,     2.30,2,    0.019,2,    0.014,2, -999.000,9,-999.0000,9,  -999.00,9,   -132.9,2,      0.7,2,   -999.0,9,   -999.0,9,   -999.0,9, -999.00,     3.4,-999.0000,-999.000,  4.0993,-999.000
   31WTTUNES_2,  P17S,   166,  2,     19,     19,2,19910803,2217,-26.6433,-133.2950, 4035,   1131.9,   3.7158,  34.4097,2,  34.4083,2,    164.1,2,    163.6,2,    54.36,2,    34.71,2,     0.00,2,     2.41,2,    0.007,2,    0.005,2, -999.000,9,-999.0000,9,  -999.00,9,   -145.0,2,      0.5,2,   -999.0,9,   -999.0,9,   -999.0,9, -999.00,     4.0,-999.0000,-999.000,  3.6317,-999.000
   31WTTUNES_2,  P17S,   166,  2,     20,     20,2,19910803,2217,-26.6433,-133.2950, 4035,   1230.2,   3.3289,  34.4627,2,  34.4629,2,    156.9,2,    156.5,2,    67.84,2,    35.29,2,     0.00,2,     2.46,2,    0.002,2,    0.000,2, -999.000,9,-999.0000,9,  -999.00,9,   -999.0,9,   -999.0,9,   -999.0,9,   -999.0,9,   -999.0,9, -999.00,  -999.0,-999.0000,-999.000,  3.2401,-999.000
   31WTTUNES_2,  P17S,   166,  2,     21,     21,2,19910803,2217,-26.6433,-133.2950, 4035,   1375.8,   2.9870,  34.5129,2,  34.5121,2,    153.6,2,    154.8,2,    80.26,2,    35.48,2,     0.00,2,     2.47,2,    0.011,3,    0.000,2, -999.000,9,-999.0000,9,  -999.00,9,   -175.4,2,      0.2,2,   -999.0,9,   -999.0,9,   -999.0,9, -999.00,     3.4,-999.0000,-999.000,  2.8897,-999.000
   31WTTUNES_2,  P17S,   166,  2,     22,     22,2,19910803,2217,-26.6433,-133.2950, 4035,   1519.4,   2.6770,  34.5533,2,  34.5522,2,    155.9,2,    155.3,2,    91.01,2,    35.39,2,     0.00,2,     2.47,2, -999.000,9, -999.000,9, -999.000,9,-999.0000,9,  -999.00,9,   -999.0,9,   -999.0,9,   -999.0,9,   -999.0,9,   -999.0,9, -999.00,  -999.0,-999.0000,-999.000,  2.5714,-999.000
   31WTTUNES_2,  P17S,   166,  2,     23,     23,2,19910803,2217,-26.6433,-133.2950, 4035,   1715.7,   2.3681,  34.5933,2,  34.5926,2,    155.0,2,    154.5,2,   103.52,2,    35.29,2,     0.00,2,     2.47,2, -999.000,9, -999.000,9, -999.000,9,-999.0000,9,  -999.00,9,   -999.0,9,   -999.0,9,   -999.0,9,   -999.0,9,   -999.0,9, -999.00,  -999.0,-999.0000,-999.000,  2.2502,-999.000
   31WTTUNES_2,  P17S,   166,  2,     24,     24,2,19910803,2217,-26.6433,-133.2950, 4035,   1915.5,   2.1522,  34.6226,2,  34.6214,2,    153.7,2,    153.9,2,   113.39,2,    35.38,2,     0.00,2,     2.47,2, -999.000,9, -999.000,9, -999.000,9,-999.0000,9,  -999.00,9,   -999.0,9,   -999.0,9,   -999.0,9,   -999.0,9,   -999.0,9, -999.00,  -999.0,-999.0000,-999.000,  2.0206,-999.000
   31WTTUNES_2,  P17S,   166,  2,     25,     25,2,19910803,2217,-26.6433,-133.2950, 4035,   2120.1,   2.0182,  34.6368,2,  34.6379,2,    153.4,2,    153.2,2,   119.44,2,    35.38,2,     0.00,2,     2.48,2, -999.000,9, -999.000,9, -999.000,9,-999.0000,9,  -999.00,9,   -999.0,9,   -999.0,9,   -999.0,9,   -999.0,9,   -999.0,9, -999.00,  -999.0,-999.0000,-999.000,  1.8713,-999.000
   31WTTUNES_2,  P17S,   166,  2,     26,     26,2,19910803,2217,-26.6433,-133.2950, 4035,   2324.7,   1.8982,  34.6509,2,  34.6505,2,    154.6,2,    154.8,2,   123.55,2,    35.29,2,     0.00,2,     2.48,2, -999.000,9, -999.000,9, -999.000,9,-999.0000,9,  -999.00,9,   -999.0,9,   -999.0,9,   -999.0,9,   -999.0,9,   -999.0,9, -999.00,  -999.0,-999.0000,-999.000,  1.7355,-999.000
   31WTTUNES_2,  P17S,   166,  2,     27,     27,2,19910803,2217,-26.6433,-133.2950, 4035,   2535.2,   1.8172,  34.6588,2,  34.6575,2,    156.4,2,    157.3,2,   124.72,2,    35.09,2,     0.00,2,     2.45,2, -999.000,9, -999.000,9, -999.000,9,-999.0000,9,  -999.00,9,   -999.0,9,   -999.0,9,   -999.0,9,   -999.0,9,   -999.0,9, -999.00,  -999.0,-999.0000,-999.000,  1.6372,-999.000
   31WTTUNES_2,  P17S,   166,  2,     28,     28,2,19910803,2217,-26.6433,-133.2950, 4035,   2748.2,   1.7453,  34.6660,2,  34.6649,2,    159.2,2,    160.8,2,   125.50,2,    34.99,2,     0.00,2,     2.44,2, -999.000,9, -999.000,9, -999.000,9,-999.0000,9,  -999.00,9,   -999.0,9,   -999.0,9,   -999.0,9,   -999.0,9,   -999.0,9, -999.00,  -999.0,-999.0000,-999.000,  1.5470,-999.000
   31WTTUNES_2,  P17S,   166,  2,     29,     29,2,19910803,2217,-26.6433,-133.2950, 4035,   2958.1,   1.6803,  34.6711,2,  34.6708,2,    165.2,2,    164.8,2,   125.89,2,    34.60,2,     0.00,2,     2.42,2, -999.000,9, -999.000,9, -999.000,9,-999.0000,9,  -999.00,9,   -999.0,9,   -999.0,9,   -999.0,9,   -999.0,9,   -999.0,9, -999.00,  -999.0,-999.0000,-999.000,  1.4636,-999.000
   31WTTUNES_2,  P17S,   166,  2,     30,     30,2,19910803,2217,-26.6433,-133.2950, 4035,   3169.7,   1.6193,  34.6776,2,  34.6767,2,    168.8,2,    169.5,2,   125.40,2,    34.31,2,     0.00,2,     2.39,2, -999.000,9, -999.000,9, -999.000,9,-999.0000,9,  -999.00,9,   -999.0,9,   -999.0,9,   -999.0,9,   -999.0,9,   -999.0,9, -999.00,  -999.0,-999.0000,-999.000,  1.3834,-999.000
   31WTTUNES_2,  P17S,   166,  2,     31,     31,2,19910803,2217,-26.6433,-133.2950, 4035,   3380.6,   1.5723,  34.6821,2,  34.6806,2,    172.8,2,    172.1,2,   125.21,2,    34.21,2,     0.00,2,     2.38,2, -999.000,9, -999.000,9, -999.000,9,-999.0000,9,  -999.00,9,   -210.3,2,      0.1,2,   -999.0,9,   -999.0,9,   -999.0,9, -999.00,     2.1,-999.0000,-999.000,  1.3165,-999.000
   31WTTUNES_2,  P17S,   166,  2,     32,     32,2,19910803,2217,-26.6433,-133.2950, 4035,   3588.2,   1.5373,  34.6853,2,  34.6841,2,    174.1,2,    175.0,2,   125.40,2,    34.01,2,     0.00,2,     2.38,2, -999.000,9, -999.000,9, -999.000,9,-999.0000,9,  -999.00,9,   -196.3,2,      0.1,2,   -999.0,9,   -999.0,9,   -999.0,9, -999.00,     2.2,-999.0000,-999.000,  1.2611,-999.000
   31WTTUNES_2,  P17S,   166,  2,     33,     33,2,19910803,2217,-26.6433,-133.2950, 4035,   3796.3,   1.5313,  34.6872,2,  34.6864,2,    175.4,2,    176.3,2,   125.11,2,    33.92,2,     0.00,2,     2.36,2, -999.000,9, -999.000,9, -999.000,9,-999.0000,9,  -999.00,9,   -190.0,2,      0.2,2,   -999.0,9,   -999.0,9,   -999.0,9, -999.00,     3.1,-999.0000,-999.000,  1.2334,-999.000
   31WTTUNES_2,  P17S,   166,  2,     35,     35,2,19910803,2217,-26.6433,-133.2950, 4035,   3953.7,   1.5343,  34.6891,2,  34.6876,2,    178.4,2,    176.8,2,   125.30,2,    33.82,2,     0.00,2,     2.36,2, -999.000,9, -999.000,9, -999.000,9,-999.0000,9,  -999.00,9,   -999.0,9,   -999.0,9,   -999.0,9,   -999.0,9,   -999.0,9, -999.00,  -999.0,-999.0000,-999.000,  1.2195,-999.000
   31WTTUNES_2,  P17S,   166,  2,     34,     34,2,19910803,2217,-26.6433,-133.2950, 4035,   3953.7,   1.5343,  34.6891,2,  34.6880,2,    178.4,2,    177.2,2,   124.72,3,    33.92,2,     0.00,2,     2.36,2, -999.000,9, -999.000,9, -999.000,9,-999.0000,9,  -999.00,9,   -999.0,9,   -999.0,9,   -999.0,9,   -999.0,9,   -999.0,9, -999.00,  -999.0,-999.0000,-999.000,  1.2195,-999.000
   31WTTUNES_2,  P17S,   166,  2,     38,     38,2,19910803,2217,-26.6433,-133.2950, 4035,   4099.8,   1.5443,  34.6891,2,  34.6881,2,    177.8,2,    177.3,2,   125.11,2,    33.82,2,     0.00,2,     2.36,2, -999.000,9, -999.000,9, -999.000,9,-999.0000,9,  -999.00,9,   -176.0,2,      0.3,2,   -999.0,9,   -999.0,9,   -999.0,9, -999.00,     3.0,-999.0000,-999.000,  1.2132,-999.000