BOTTLE,20131125MIRCJHATS
EXPOCODE,SECT_ID,STNNBR,CASTNO,SAMPNO,BTLNBR,BTLNBR_FLAG_W,DATE,TIME,LATITUDE,LONGITUDE,DEPTH,CTDPRS,CTDTMP,CTDSAL,CTDSAL_FLAG_W,SALNTY,SALNTY_FLAG_W,CTDOXY,CTDOXY_FLAG_W,OXYGEN,OXYGEN_FLAG_W,SILCAT,SILCAT_FLAG_W,NITRAT,NITRAT_FLAG_W,NITRIT,NITRIT_FLAG_W,PHSPHT,PHSPHT_FLAG_W,CFC-11,CFC-11_FLAG_W,CFC-12,CFC-12_FLAG_W,TRITUM,TRITUM_FLAG_W,HELIUM,HELIUM_FLAG_W,DELHE3,DELHE3_FLAG_W,DELC14,DELC14_FLAG_W,DELC13,DELC13_FLAG_W,TCARBN,TCARBN_FLAG_W,PCO2,PCO2_FLAG_W,ALKALI,ALKALI_FLAG_W,PCO2TMP,C14ERR,HELIER,DELHER,THETA,TRITER
,,,,,,,,,,,,DBAR,ITS-90,PSS-78,,PSS-78,,UMOL/KG,,UMOL/KG,,UMOL/KG,,UMOL/KG,,UMOL/KG,,UMOL/KG,,PMOL/KG,,PMOL/KG,,TU,,NMOL/KG,,PERCNT,,/MILLE,,/MILLE,,UMOL/KG,,UATM,,UMOL/KG,,DEG C,/MILLE,NMOL/KG,PERCNT,DEG C,TU
   31WTTUNES_2,  P16S,   194,  3,     61,     61,2,19910817,1555,-30.5000,-150.5150, 5035,      2.0,  17.3714,  35.4606,2,  35.4677,2,    238.4,3,    236.0,2,     1.74,2,     0.12,2,     0.00,2,     0.10,2,    2.406,2,    1.313,2, -999.000,9,-999.0000,9,  -999.00,9,   -999.0,9,   -999.0,9,   2031.2,2,    335.3,2,   -999.0,9,   20.00,  -999.0,-999.0000,-999.000, 17.3711,-999.000
   31WTTUNES_2,  P16S,   194,  3,      2,      2,2,19910817,1555,-30.5000,-150.5150, 5035,     46.3,  17.3852,  35.4629,2,  35.4681,2,    233.4,2,    236.4,2,     1.73,2,     0.11,2,     0.00,2,     0.10,2,    2.384,2,    1.291,2, -999.000,9,-999.0000,9,  -999.00,9,   -999.0,9,   -999.0,9,   2035.2,2,    334.1,2,   -999.0,9,   20.00,  -999.0,-999.0000,-999.000, 17.3774,-999.000
   31WTTUNES_2,  P16S,   194,  3,      3,      3,2,19910817,1555,-30.5000,-150.5150, 5035,     92.7,  17.3614,  35.4580,2,  35.4541,2,    231.5,2,    235.8,2,     1.32,2,     0.11,2,     0.00,2,     0.10,2,    2.404,2,    1.295,2, -999.000,9,-999.0000,9,  -999.00,9,   -999.0,9,   -999.0,9,   2032.9,2,    333.5,2,   -999.0,9,   20.00,  -999.0,-999.0000,-999.000, 17.3459,-999.000
   31WTTUNES_2,  P16S,   194,  3,     64,     64,2,19910817,1555,-30.5000,-150.5150, 5035,    132.9,  16.9279,  35.4034,2,  35.3995,2,    212.5,2,    217.8,2,     1.51,2,     1.75,2,     0.04,2,     0.26,2,    2.219,2,    1.197,2, -999.000,9,-999.0000,9,  -999.00,9,   -999.0,9,   -999.0,9,   2053.0,2,    376.2,2,   -999.0,9,   20.00,  -999.0,-999.0000,-999.000, 16.9060,-999.000
   31WTTUNES_2,  P16S,   194,  3,      5,      5,2,19910817,1555,-30.5000,-150.5150, 5035,    172.9,  15.6511,  35.3083,2,  35.3051,2,    206.7,2,    204.8,2,     2.10,2,     4.45,2,     0.01,2,     0.45,2,    2.032,2,    1.084,2, -999.000,9,-999.0000,9,  -999.00,9,   -999.0,9,   -999.0,9,   2076.8,2,    467.7,2,   -999.0,9,   20.00,  -999.0,-999.0000,-999.000, 15.6241,-999.000
   31WTTUNES_2,  P16S,   194,  3,      6,      6,2,19910817,1555,-30.5000,-150.5150, 5035,    219.0,  14.3002,  35.1583,2,  35.1548,2,    207.1,2,    204.9,2,     2.50,2,     6.32,2,     0.01,2,     0.56,2,    2.042,2,    1.085,2, -999.000,9,-999.0000,9,  -999.00,9,   -999.0,9,   -999.0,9,   2084.8,2,    466.9,2,   -999.0,9,   20.00,  -999.0,-999.0000,-999.000, 14.2681,-999.000
   31WTTUNES_2,  P16S,   194,  3,      7,      7,2,19910817,1555,-30.5000,-150.5150, 5035,    270.2,  12.6776,  34.9490,2,  34.9589,2,    202.7,2,    205.3,2,     2.89,2,     9.37,2,     0.00,2,     0.75,2,    1.996,2,    1.046,2, -999.000,9,-999.0000,9,  -999.00,9,   -999.0,9,   -999.0,9,   2095.9,2,    517.4,2,   -999.0,9,   20.00,  -999.0,-999.0000,-999.000, 12.6410,-999.000
   31WTTUNES_2,  P16S,   194,  3,     68,     68,2,19910817,1555,-30.5000,-150.5150, 5035,    322.0,  10.9660,  34.7869,2,  34.7882,2,    205.7,2,    205.4,2,     4.08,2,    13.45,2,     0.00,2,     1.00,2,    1.767,2,    0.919,2, -999.000,9,-999.0000,9,  -999.00,9,   -999.0,9,   -999.0,9,   2115.1,2,    589.6,2,   -999.0,9,   20.00,  -999.0,-999.0000,-999.000, 10.9263,-999.000
   31WTTUNES_2,  P16S,   194,  3,     69,     69,2,19910817,1555,-30.5000,-150.5150, 5035,    382.7,   9.1803,  34.5977,2,  34.5982,2,    215.3,2,    215.4,2,     4.88,2,    17.16,2,     0.00,2,     1.23,2,    1.583,2,    0.817,2, -999.000,9,-999.0000,9,  -999.00,9,   -999.0,9,   -999.0,9,   2122.9,2,    656.7,2,   -999.0,9,   20.00,  -999.0,-999.0000,-999.000,  9.1380,-999.000
   31WTTUNES_2,  P16S,   194,  3,     70,     70,2,19910817,1555,-30.5000,-150.5150, 5035,    454.9,   8.0440,  34.4797,2,  34.4882,2,    227.2,2,    228.4,2,     5.87,2,    19.32,2,     0.00,2,     1.35,2,    1.557,2,    0.789,2, -999.000,9,-999.0000,9,  -999.00,9,   -999.0,9,   -999.0,9,   2126.8,2,    679.0,2,   -999.0,9,   20.00,  -999.0,-999.0000,-999.000,  7.9974,-999.000
   31WTTUNES_2,  P16S,   194,  3,     11,     11,2,19910817,1555,-30.5000,-150.5150, 5035,    527.4,   7.4460,  34.4353,2,  34.4405,2,    239.4,2,    236.9,2,     6.67,2,    20.45,2,     0.00,2,     1.43,2,    1.419,2,    0.751,2, -999.000,9,-999.0000,9,  -999.00,9,   -999.0,9,   -999.0,9,   2129.3,2,    689.3,2,   -999.0,9,   20.00,  -999.0,-999.0000,-999.000,  7.3942,-999.000
   31WTTUNES_2,  P16S,   194,  3,     12,     12,2,19910817,1555,-30.5000,-150.5150, 5035,    597.6,   6.9583,  34.3478,3,  34.4001,2,    242.2,2,    242.0,2,     7.66,2,    21.53,2,     0.00,2,     1.50,2,    1.225,2,    0.632,2, -999.000,9,-999.0000,9,  -999.00,9,   -999.0,9,   -999.0,9,   2129.4,2,    701.7,2,   -999.0,9,   20.00,  -999.0,-999.0000,-999.000,  6.9015,-999.000
   31WTTUNES_2,  P16S,   194,  3,     13,     13,2,19910817,1555,-30.5000,-150.5150, 5035,    668.3,   6.5271,  34.3642,2,  34.3652,2,    241.0,2,    240.7,2,     9.26,2,    22.85,2,     0.00,2,     1.58,2, -999.000,9, -999.000,9, -999.000,9,-999.0000,9,  -999.00,9,   -999.0,9,   -999.0,9,   2137.7,2,    723.5,2,   -999.0,9,   20.00,  -999.0,-999.0000,-999.000,  6.4654,-999.000
   31WTTUNES_2,  P16S,   194,  3,     37,     37,2,19910817,1555,-30.5000,-150.5150, 5035,    749.8,   6.0594,  34.2438,3,  34.3320,2,    238.5,2,    236.4,2,    12.05,2,    24.55,2,     0.00,2,     1.70,2,    0.525,2,    0.290,2, -999.000,9,-999.0000,9,  -999.00,9,   -999.0,9,   -999.0,9,   2142.7,2,    758.4,2,   -999.0,9,   20.00,  -999.0,-999.0000,-999.000,  5.9926,-999.000
   31WTTUNES_2,  P16S,   194,  3,     15,     15,2,19910817,1555,-30.5000,-150.5150, 5035,    832.3,   5.7098,  34.3158,2,  34.3168,2,    228.4,2,    229.8,2,    15.05,2,    25.98,2,     0.00,2,     1.79,2,    0.371,2,    0.207,2, -999.000,9,-999.0000,9,  -999.00,9,   -999.0,9,   -999.0,9,   2148.6,2,    788.3,2,   -999.0,9,   20.00,  -999.0,-999.0000,-999.000,  5.6372,-999.000
   31WTTUNES_2,  P16S,   194,  3,     16,     16,2,19910817,1555,-30.5000,-150.5150, 5035,    925.8,   5.2224,  34.3003,2,  34.3099,2,    216.3,2,    218.2,2,    20.86,2,    27.92,2,     0.00,2,     1.93,2,    0.222,2,    0.123,8, -999.000,9,-999.0000,9,  -999.00,9,   -999.0,9,   -999.0,9,   2169.4,2,    852.0,2,   -999.0,9,   20.00,  -999.0,-999.0000,-999.000,  5.1445,-999.000
   31WTTUNES_2,  P16S,   194,  3,     17,     17,2,19910817,1555,-30.5000,-150.5150, 5035,   1028.2,   4.5678,  34.3227,2,  34.3238,2,    203.2,2,    203.5,2,    30.67,2,    30.31,2,     0.00,2,     2.09,2,    0.096,2,    0.058,2, -999.000,9,-999.0000,9,  -999.00,9,   -999.0,9,   -999.0,9,   2186.0,2,    930.7,2,   -999.0,9,   20.00,  -999.0,-999.0000,-999.000,  4.4857,-999.000
   31WTTUNES_2,  P16S,   194,  3,     18,     18,2,19910817,1555,-30.5000,-150.5150, 5035,   1130.8,   3.9541,  34.3558,2,  34.3566,2,    190.9,2,    191.4,2,    41.70,2,    32.13,2,     0.00,2,     2.23,2,    0.038,2,    0.028,2, -999.000,9,-999.0000,9,  -999.00,9,   -999.0,9,   -999.0,9,   2208.2,2,   1020.5,2,   -999.0,9,   20.00,  -999.0,-999.0000,-999.000,  3.8681,-999.000
   31WTTUNES_2,  P16S,   194,  3,     19,     19,2,19910817,1555,-30.5000,-150.5150, 5035,   1281.9,   3.2429,  34.4322,2,  34.4328,2,    178.3,2,    177.3,2,    59.98,2,    33.83,2,     0.00,2,     2.36,2,    0.007,2,    0.009,2, -999.000,9,-999.0000,9,  -999.00,9,   -999.0,9,   -999.0,9,   2237.9,2,   1095.7,2,   -999.0,9,   20.00,  -999.0,-999.0000,-999.000,  3.1508,-999.000
   31WTTUNES_2,  P16S,   194,  3,     20,     20,2,19910817,1555,-30.5000,-150.5150, 5035,   1433.8,   2.7954,  34.5168,2,  34.5168,2,    168.8,2,    166.3,2,    77.52,2,    34.56,2,     0.00,2,     2.40,2, -999.000,5, -999.000,5, -999.000,9,-999.0000,9,  -999.00,9,   -999.0,9,   -999.0,9,   2257.1,2,   1144.5,2,   -999.0,9,   20.00,  -999.0,-999.0000,-999.000,  2.6955,-999.000
   31WTTUNES_2,  P16S,   194,  3,     21,     21,2,19910817,1555,-30.5000,-150.5150, 5035,   1636.6,   2.4819,  34.5812,2,  34.5810,2,    158.7,2,    159.2,2,    95.39,2,    34.85,2,     0.00,2,     2.44,2, -999.000,9, -999.000,9, -999.000,9,-999.0000,9,  -999.00,9,   -999.0,9,   -999.0,9,   2277.5,2,   1156.3,2,   -999.0,9,   20.00,  -999.0,-999.0000,-999.000,  2.3690,-999.000
   31WTTUNES_2,  P16S,   194,  3,     22,     22,2,19910817,1555,-30.5000,-150.5150, 5035,   1843.7,   2.2790,  34.6139,2,  34.6144,2,    155.8,2,    154.5,2,   107.67,2,    35.15,2,     0.00,2,     2.48,2, -999.000,9, -999.000,9, -999.000,9,-999.0000,9,  -999.00,9,   -999.0,9,   -999.0,9,   2292.2,2,   1164.5,2,   -999.0,9,   20.00,  -999.0,-999.0000,-999.000,  2.1516,-999.000
   31WTTUNES_2,  P16S,   194,  3,     23,     23,2,19910817,1555,-30.5000,-150.5150, 5035,   2049.6,   2.1218,  34.6255,2,  34.6335,2,    153.1,2,    152.4,2,   115.71,2,    35.34,2,     0.00,2,     2.48,2, -999.000,9, -999.000,9, -999.000,9,-999.0000,9,  -999.00,9,   -999.0,9,   -999.0,9,   2298.8,2,   1175.1,2,   -999.0,9,   20.00,  -999.0,-999.0000,-999.000,  1.9793,-999.000
   31WTTUNES_2,  P16S,   194,  3,     24,     24,2,19910817,1555,-30.5000,-150.5150, 5035,   2254.1,   1.9669,  34.6487,2,  34.6485,2,    150.9,2,    151.4,2,   123.38,2,    35.54,2,     0.00,2,     2.50,2, -999.000,9, -999.000,9, -999.000,9,-999.0000,9,  -999.00,9,   -999.0,9,   -999.0,9,   2308.8,2,   1178.7,2,   -999.0,9,   20.00,  -999.0,-999.0000,-999.000,  1.8092,-999.000
   31WTTUNES_2,  P16S,   194,  3,     25,     25,2,19910817,1555,-30.5000,-150.5150, 5035,   2457.5,   1.8634,  34.6530,2,  34.6575,2,    151.8,2,    151.4,2,   128.38,2,    35.60,2,     0.00,2,     2.50,2, -999.000,9, -999.000,9, -999.000,9,-999.0000,9,  -999.00,9,   -999.0,9,   -999.0,9,   2309.1,2,   1175.3,2,   -999.0,9,   20.00,  -999.0,-999.0000,-999.000,  1.6894,-999.000
   31WTTUNES_2,  P16S,   194,  3,     26,     26,2,19910817,1555,-30.5000,-150.5150, 5035,   2661.3,   1.7848,  34.6658,2,  34.6642,2,    153.2,2,    153.5,2,   130.25,2,    35.40,2,     0.00,2,     2.49,2, -999.000,9, -999.000,9, -999.000,9,-999.0000,9,  -999.00,9,   -999.0,9,   -999.0,9,   2309.4,2,   1163.5,2,   -999.0,9,   20.00,  -999.0,-999.0000,-999.000,  1.5938,-999.000
   31WTTUNES_2,  P16S,   194,  3,     27,     27,2,19910817,1555,-30.5000,-150.5150, 5035,   2866.7,   1.7042,  34.6717,2,  34.6725,2,    156.3,2,    157.1,2,   131.08,2,    35.21,2,     0.00,2,     2.48,2, -999.000,9, -999.000,9, -999.000,9,-999.0000,9,  -999.00,9,   -999.0,9,   -999.0,9,   2311.2,2,   1165.3,2,   -999.0,9,   20.00,  -999.0,-999.0000,-999.000,  1.4956,-999.000
   31WTTUNES_2,  P16S,   194,  3,     28,     28,2,19910817,1555,-30.5000,-150.5150, 5035,   3125.0,   1.6188,  34.6817,2,  34.6794,2,    162.7,2,    163.7,2,   130.02,2,    34.68,2,     0.00,2,     2.43,2, -999.000,9, -999.000,9, -999.000,9,-999.0000,9,  -999.00,9,   -999.0,9,   -999.0,9,   2303.3,2,   1133.2,2,   -999.0,9,   20.00,  -999.0,-999.0000,-999.000,  1.3873,-999.000
   31WTTUNES_2,  P16S,   194,  3,     29,     29,2,19910817,1555,-30.5000,-150.5150, 5035,   3387.9,   1.5134,  34.6890,2,  34.6886,2,    170.3,2,    172.4,2,   127.08,2,    34.15,2,     0.00,2,     2.38,2, -999.000,9, -999.000,9, -999.000,9,-999.0000,9,  -999.00,9,   -999.0,9,   -999.0,9,   2294.8,2,   1122.1,2,   -999.0,9,   20.00,  -999.0,-999.0000,-999.000,  1.2582,-999.000
   31WTTUNES_2,  P16S,   194,  3,     30,     30,2,19910817,1555,-30.5000,-150.5150, 5035,   3649.7,   1.4025,  34.6953,2,  34.6947,2,    178.2,2,    181.4,2,   126.03,2,    33.47,2,     0.00,2,     2.34,2, -999.000,9, -999.000,9, -999.000,9,-999.0000,9,  -999.00,9,   -999.0,9,   -999.0,9,   2287.9,2,   1097.7,2,   -999.0,9,   20.00,  -999.0,-999.0000,-999.000,  1.1234,-999.000
   31WTTUNES_2,  P16S,   194,  3,     31,     31,2,19910817,1555,-30.5000,-150.5150, 5035,   3910.0,   1.3224,  34.6993,2,  34.6990,2,    185.4,2,    187.7,2,   124.14,2,    33.14,2,     0.00,2,     2.30,2, -999.000,9, -999.000,9, -999.000,9,-999.0000,9,  -999.00,9,   -999.0,9,   -999.0,9,   2280.4,2,   1070.6,2,   -999.0,9,   20.00,  -999.0,-999.0000,-999.000,  1.0181,-999.000
   31WTTUNES_2,  P16S,   194,  3,     32,     32,2,19910817,1555,-30.5000,-150.5150, 5035,   4166.5,   1.2895,  34.6949,3,  34.7012,2,    188.0,2,    191.2,2,   123.93,2,    32.95,2,     0.00,2,     2.29,2, -999.000,9, -999.000,9, -999.000,9,-999.0000,9,  -999.00,9,   -999.0,9,   -999.0,9,   2278.7,2,   1068.9,2,   -999.0,9,   20.00,  -999.0,-999.0000,-999.000,  0.9584,-999.000
   31WTTUNES_2,  P16S,   194,  3,     33,     33,2,19910817,1555,-30.5000,-150.5150, 5035,   4429.8,   1.2654,  34.6969,3,  34.7032,2,    191.2,2,    194.2,2,   123.29,2,    32.71,2,     0.00,2,     2.28,2, -999.000,9, -999.000,9, -999.000,9,-999.0000,9,  -999.00,9,   -999.0,9,   -999.0,9,   2282.6,2,   1065.2,2,   -999.0,9,   20.00,  -999.0,-999.0000,-999.000,  0.9056,-999.000
   31WTTUNES_2,  P16S,   194,  3,     34,     34,2,19910817,1555,-30.5000,-150.5150, 5035,   4691.3,   1.2445,  34.6996,3,  34.7052,2,    194.8,2,    197.4,2,   122.25,2,    32.52,2,     0.00,2,     2.25,2, -999.000,9, -999.000,9, -999.000,9,-999.0000,9,  -999.00,9,   -999.0,9,   -999.0,9,   2279.1,2,   1047.7,2,   -999.0,9,   20.00,  -999.0,-999.0000,-999.000,  0.8553,-999.000
   31WTTUNES_2,  P16S,   194,  3,     39,     39,2,19910817,1555,-30.5000,-150.5150, 5035,   4953.8,   1.2533,  34.7028,2,  34.7052,2,    198.1,2,    198.7,2,   122.65,2,    32.48,2,     0.00,2,     2.25,2, -999.000,9, -999.000,9, -999.000,9,-999.0000,9,  -999.00,9,   -999.0,9,   -999.0,9,   2276.4,2,   1046.9,2,   -999.0,9,   20.00,  -999.0,-999.0000,-999.000,  0.8328,-999.000
   31WTTUNES_2,  P16S,   194,  3,     38,     38,2,19910817,1555,-30.5000,-150.5150, 5035,   5171.2,   1.2628,  34.6881,3,  34.7066,2,    200.0,2,    199.6,2,   122.23,2,    32.38,2,     0.00,2,     2.24,2, -999.000,9, -999.000,9, -999.000,9,-999.0000,9,  -999.00,9,   -999.0,9,   -999.0,9,   2272.6,2,   1057.8,2,   -999.0,9,   20.00,  -999.0,-999.0000,-999.000,  0.8158,-999.000