BOTTLE,20131125MIRCJHATS
EXPOCODE,SECT_ID,STNNBR,CASTNO,SAMPNO,BTLNBR,BTLNBR_FLAG_W,DATE,TIME,LATITUDE,LONGITUDE,DEPTH,CTDPRS,CTDTMP,CTDSAL,CTDSAL_FLAG_W,SALNTY,SALNTY_FLAG_W,CTDOXY,CTDOXY_FLAG_W,OXYGEN,OXYGEN_FLAG_W,SILCAT,SILCAT_FLAG_W,NITRAT,NITRAT_FLAG_W,NITRIT,NITRIT_FLAG_W,PHSPHT,PHSPHT_FLAG_W,CFC-11,CFC-11_FLAG_W,CFC-12,CFC-12_FLAG_W,TRITUM,TRITUM_FLAG_W,HELIUM,HELIUM_FLAG_W,DELHE3,DELHE3_FLAG_W,DELC14,DELC14_FLAG_W,DELC13,DELC13_FLAG_W,TCARBN,TCARBN_FLAG_W,PCO2,PCO2_FLAG_W,ALKALI,ALKALI_FLAG_W,PCO2TMP,C14ERR,HELIER,DELHER,THETA,TRITER
,,,,,,,,,,,,DBAR,ITS-90,PSS-78,,PSS-78,,UMOL/KG,,UMOL/KG,,UMOL/KG,,UMOL/KG,,UMOL/KG,,UMOL/KG,,PMOL/KG,,PMOL/KG,,TU,,NMOL/KG,,PERCNT,,/MILLE,,/MILLE,,UMOL/KG,,UATM,,UMOL/KG,,DEG C,/MILLE,NMOL/KG,PERCNT,DEG C,TU
   31WTTUNES_2,  P17S,   162,  1,      1,      1,2,19910802,1106,-24.7133,-132.8083, 3972,      2.2,  22.4519,  35.7955,2,  35.7985,2,    198.7,3,    215.0,2,     1.67,2,     0.05,2,     0.00,2,     0.12,2,    1.934,2,    1.066,2, -999.000,9,-999.0000,9,  -999.00,9,   -999.0,9,   -999.0,9,   2006.4,2,    279.8,2,   -999.0,9,   20.00,  -999.0,-999.0000,-999.000, 22.4514,-999.000
   31WTTUNES_2,  P17S,   162,  1,      2,      2,2,19910802,1106,-24.7133,-132.8083, 3972,     47.1,  22.4799,  35.7977,2,  35.7991,2,    215.7,2,    215.2,2,     1.46,2,     0.05,2,     0.00,2,     0.12,2, -999.000,9, -999.000,9, -999.000,9,-999.0000,9,  -999.00,9,   -999.0,9,   -999.0,9,   -999.0,9,   -999.0,9,   -999.0,9, -999.00,  -999.0,-999.0000,-999.000, 22.4704,-999.000
   31WTTUNES_2,  P17S,   162,  1,      3,      3,2,19910802,1106,-24.7133,-132.8083, 3972,     89.3,  22.4829,  35.7956,2,  35.7977,2,    215.8,2,    215.3,2,     1.25,2,     0.05,2,     0.00,2,     0.12,2,    1.943,2,    1.049,2, -999.000,9,-999.0000,9,  -999.00,9,   -999.0,9,   -999.0,9,   -999.0,9,   -999.0,9,   -999.0,9, -999.00,  -999.0,-999.0000,-999.000, 22.4649,-999.000
   31WTTUNES_2,  P17S,   162,  1,      4,      4,2,19910802,1106,-24.7133,-132.8083, 3972,    129.8,  22.4079,  35.7972,2,  35.7740,2,    213.3,2,    211.8,2,     1.43,2,     0.03,2,     0.02,2,     0.13,2, -999.000,9, -999.000,9, -999.000,9,-999.0000,9,  -999.00,9,   -999.0,9,   -999.0,9,   -999.0,9,   -999.0,9,   -999.0,9, -999.00,  -999.0,-999.0000,-999.000, 22.3818,-999.000
   31WTTUNES_2,  P17S,   162,  1,      5,      5,2,19910802,1106,-24.7133,-132.8083, 3972,    149.8,  21.0313,  35.7424,2,  35.7377,2,    202.0,2,    198.7,2,     1.42,2,     0.43,2,     0.13,2,     0.21,2, -999.000,9, -999.000,9, -999.000,9,-999.0000,9,  -999.00,9,   -999.0,9,   -999.0,9,   -999.0,9,   -999.0,9,   -999.0,9, -999.00,  -999.0,-999.0000,-999.000, 21.0025,-999.000
   31WTTUNES_2,  P17S,   162,  1,      6,      6,2,19910802,1106,-24.7133,-132.8083, 3972,    180.9,  19.9339,  35.6045,2,  35.5975,2,    195.0,2,    198.7,2,     1.41,2,     0.97,2,     0.04,2,     0.22,2,    1.908,2,    1.036,2, -999.000,9,-999.0000,9,  -999.00,9,   -999.0,9,   -999.0,9,   -999.0,9,   -999.0,9,   -999.0,9, -999.00,  -999.0,-999.0000,-999.000, 19.9005,-999.000
   31WTTUNES_2,  P17S,   162,  1,      7,      7,2,19910802,1106,-24.7133,-132.8083, 3972,    221.9,  18.5565,  35.5267,2,  35.5244,2,    196.4,2,    192.8,2,     1.40,2,     2.57,2,     0.01,2,     0.33,2, -999.000,9, -999.000,9, -999.000,9,-999.0000,9,  -999.00,9,   -999.0,9,   -999.0,9,   -999.0,9,   -999.0,9,   -999.0,9, -999.00,  -999.0,-999.0000,-999.000, 18.5174,-999.000
   31WTTUNES_2,  P17S,   162,  1,      8,      8,2,19910802,1106,-24.7133,-132.8083, 3972,    262.7,  17.4752,  35.3741,2,  35.3713,2,    199.0,2,    201.8,2,     1.58,2,     2.27,2,     0.01,2,     0.31,2,    2.003,2,    1.051,2, -999.000,9,-999.0000,9,  -999.00,9,   -999.0,9,   -999.0,9,   -999.0,9,   -999.0,9,   -999.0,9, -999.00,  -999.0,-999.0000,-999.000, 17.4308,-999.000
   31WTTUNES_2,  P17S,   162,  1,      9,      9,2,19910802,1106,-24.7133,-132.8083, 3972,    323.4,  15.6948,  35.2273,2,  35.2253,2,    197.2,2,    194.8,2,     1.77,2,     5.40,2,     0.00,2,     0.49,2,    1.689,2,    0.910,2, -999.000,9,-999.0000,9,  -999.00,9,   -999.0,9,   -999.0,9,   -999.0,9,   -999.0,9,   -999.0,9, -999.00,  -999.0,-999.0000,-999.000, 15.6440,-999.000
   31WTTUNES_2,  P17S,   162,  1,     10,     10,2,19910802,1106,-24.7133,-132.8083, 3972,    385.3,  13.2935,  34.9551,2,  34.9507,2,    192.6,2,    191.7,2,     3.32,2,    10.25,2,     0.00,2,     0.80,2,    1.309,2,    0.712,2, -999.000,9,-999.0000,9,  -999.00,9,   -999.0,9,   -999.0,9,   -999.0,9,   -999.0,9,   -999.0,9, -999.00,  -999.0,-999.0000,-999.000, 13.2393,-999.000
   31WTTUNES_2,  P17S,   162,  1,     11,     11,2,19910802,1106,-24.7133,-132.8083, 3972,    439.8,  10.2482,  34.6156,2,  34.6196,2,    191.5,2,    194.7,2,     5.46,2,    16.53,2,     0.00,2,     1.20,2,    0.960,2,    0.528,2, -999.000,9,-999.0000,9,  -999.00,9,   -999.0,9,   -999.0,9,   -999.0,9,   -999.0,9,   -999.0,9, -999.00,  -999.0,-999.0000,-999.000, 10.1960,-999.000
   31WTTUNES_2,  P17S,   162,  1,     12,     12,2,19910802,1106,-24.7133,-132.8083, 3972,    494.2,   8.4153,  34.4547,2,  34.4564,2,    195.7,2,    198.3,2,     7.61,2,    20.98,2,     0.00,2,     1.49,2,    0.770,2,    0.414,2, -999.000,9,-999.0000,9,  -999.00,9,   -999.0,9,   -999.0,9,   -999.0,9,   -999.0,9,   -999.0,9, -999.00,  -999.0,-999.0000,-999.000,  8.3632,-999.000
   31WTTUNES_2,  P17S,   162,  1,     13,     13,2,19910802,1106,-24.7133,-132.8083, 3972,    561.2,   7.2693,  34.3771,2,  34.3763,2,    208.8,2,    208.6,2,     9.56,2,    23.57,2,     0.00,2,     1.65,2,    0.667,2,    0.354,2, -999.000,9,-999.0000,9,  -999.00,9,   -999.0,9,   -999.0,9,   -999.0,9,   -999.0,9,   -999.0,9, -999.00,  -999.0,-999.0000,-999.000,  7.2148,-999.000
   31WTTUNES_2,  P17S,   162,  1,     37,     37,2,19910802,1106,-24.7133,-132.8083, 3972,    621.7,   6.4494,  34.3347,2,  34.5532,4,    218.4,2,    215.8,2,    11.50,2,    25.29,2,     0.00,2,     1.74,2,    0.492,2,    0.270,2, -999.000,9,-999.0000,9,  -999.00,9,   -999.0,9,   -999.0,9,   -999.0,9,   -999.0,9,   -999.0,9, -999.00,  -999.0,-999.0000,-999.000,  6.3926,-999.000
   31WTTUNES_2,  P17S,   162,  1,     15,     15,2,19910802,1106,-24.7133,-132.8083, 3972,    639.0,   6.2524,  34.3258,2,  34.3259,2,    220.5,2,    220.0,2,    11.69,2,    25.45,2,     0.00,2,     1.76,2,    0.458,2,    0.249,2, -999.000,9,-999.0000,9,  -999.00,9,   -999.0,9,   -999.0,9,   -999.0,9,   -999.0,9,   -999.0,9, -999.00,  -999.0,-999.0000,-999.000,  6.1949,-999.000
   31WTTUNES_2,  P17S,   162,  1,     16,     16,2,19910802,1106,-24.7133,-132.8083, 3972,    654.7,   6.1314,  34.3202,2,-999.0000,9,    221.1,2,   -999.0,9,  -999.00,9,  -999.00,9,  -999.00,9,  -999.00,9, -999.000,9, -999.000,9, -999.000,9,-999.0000,9,  -999.00,9,   -999.0,9,   -999.0,9,   -999.0,9,   -999.0,9,   -999.0,9, -999.00,  -999.0,-999.0000,-999.000,  6.0731,-999.000
   31WTTUNES_2,  P17S,   162,  1,     17,     17,2,19910802,1106,-24.7133,-132.8083, 3972,    697.3,   5.8255,  34.3069,2,  34.3067,2,    221.1,2,    223.1,2,    13.23,2,    26.32,2,     0.00,2,     1.80,2,    0.335,2,    0.196,2, -999.000,9,-999.0000,9,  -999.00,9,   -999.0,9,   -999.0,9,   -999.0,9,   -999.0,9,   -999.0,9, -999.00,  -999.0,-999.0000,-999.000,  5.7647,-999.000
   31WTTUNES_2,  P17S,   162,  1,     18,     18,2,19910802,1106,-24.7133,-132.8083, 3972,    758.4,   5.4415,  34.2968,2,  34.2961,2,    220.3,2,    215.8,2,    16.94,2,    27.85,2,     0.00,2,     1.90,2,    0.197,2,    0.125,2, -999.000,9,-999.0000,9,  -999.00,9,   -999.0,9,   -999.0,9,   -999.0,9,   -999.0,9,   -999.0,9, -999.00,  -999.0,-999.0000,-999.000,  5.3774,-999.000
   31WTTUNES_2,  P17S,   162,  1,     19,     19,2,19910802,1106,-24.7133,-132.8083, 3972,    841.5,   4.9616,  34.3032,2,  34.3041,2,    205.0,2,    202.7,2,    23.59,2,    29.94,2,     0.00,2,     2.05,2,    0.092,2,    0.064,2, -999.000,9,-999.0000,9,  -999.00,9,   -999.0,9,   -999.0,9,   -999.0,9,   -999.0,9,   -999.0,9, -999.00,  -999.0,-999.0000,-999.000,  4.8930,-999.000
   31WTTUNES_2,  P17S,   162,  1,     20,     20,2,19910802,1106,-24.7133,-132.8083, 3972,    920.9,   4.5397,  34.3301,2,  34.3314,2,    182.8,2,    184.3,2,    33.38,2,    32.20,2,     0.00,2,     2.22,2,    0.029,8,    0.025,2, -999.000,9,-999.0000,9,  -999.00,9,   -999.0,9,   -999.0,9,   -999.0,9,   -999.0,9,   -999.0,9, -999.00,  -999.0,-999.0000,-999.000,  4.4670,-999.000
   31WTTUNES_2,  P17S,   162,  1,     21,     21,2,19910802,1106,-24.7133,-132.8083, 3972,   1011.9,   4.1227,  34.3872,2,  34.3842,2,    162.6,2,    163.8,2,    47.89,2,    34.31,2,     0.00,2,     2.37,2,    0.008,2,    0.010,2, -999.000,9,-999.0000,9,  -999.00,9,   -999.0,9,   -999.0,9,   -999.0,9,   -999.0,9,   -999.0,9, -999.00,  -999.0,-999.0000,-999.000,  4.0453,-999.000
   31WTTUNES_2,  P17S,   162,  1,     22,     22,2,19910802,1106,-24.7133,-132.8083, 3972,   1108.4,   3.7668,  34.4366,2,  34.4352,2,    152.5,2,    152.2,2,    60.46,2,    35.35,2,     0.00,2,     2.46,2, -999.000,9, -999.000,9, -999.000,9,-999.0000,9,  -999.00,9,   -999.0,9,   -999.0,9,   -999.0,9,   -999.0,9,   -999.0,9, -999.00,  -999.0,-999.0000,-999.000,  3.6842,-999.000
   31WTTUNES_2,  P17S,   162,  1,     23,     23,2,19910802,1106,-24.7133,-132.8083, 3972,   1294.6,   3.1699,  34.5132,2,  34.5124,2,    148.1,2,    147.5,2,    80.40,2,    35.82,2,     0.00,2,     2.50,2, -999.000,9, -999.000,9, -999.000,9,-999.0000,9,  -999.00,9,   -999.0,9,   -999.0,9,   -999.0,9,   -999.0,9,   -999.0,9, -999.00,  -999.0,-999.0000,-999.000,  3.0773,-999.000
   31WTTUNES_2,  P17S,   162,  1,     24,     24,2,19910802,1106,-24.7133,-132.8083, 3972,   1488.2,   2.7330,  34.5602,2,  34.5601,2,    150.9,2,    149.5,2,    94.71,2,    35.66,2,     0.00,2,     2.48,2, -999.000,9, -999.000,9, -999.000,9,-999.0000,9,  -999.00,9,   -999.0,9,   -999.0,9,   -999.0,9,   -999.0,9,   -999.0,9, -999.00,  -999.0,-999.0000,-999.000,  2.6293,-999.000
   31WTTUNES_2,  P17S,   162,  1,     25,     25,2,19910802,1106,-24.7133,-132.8083, 3972,   1689.1,   2.3791,  34.5957,2,  34.5975,2,    152.8,2,    152.5,2,   105.92,2,    35.30,2,     0.00,2,     2.46,2, -999.000,9, -999.000,9, -999.000,9,-999.0000,9,  -999.00,9,   -999.0,9,   -999.0,9,   -999.0,9,   -999.0,9,   -999.0,9, -999.00,  -999.0,-999.0000,-999.000,  2.2632,-999.000
   31WTTUNES_2,  P17S,   162,  1,     26,     26,2,19910802,1106,-24.7133,-132.8083, 3972,   1878.7,   2.1662,  34.6219,2,  34.6216,2,    153.2,2,    153.2,2,   114.19,2,    35.46,2,     0.00,2,     2.47,2, -999.000,9, -999.000,9, -999.000,9,-999.0000,9,  -999.00,9,   -999.0,9,   -999.0,9,   -999.0,9,   -999.0,9,   -999.0,9, -999.00,  -999.0,-999.0000,-999.000,  2.0374,-999.000
   31WTTUNES_2,  P17S,   162,  1,     27,     27,2,19910802,1106,-24.7133,-132.8083, 3972,   2065.6,   2.0382,  34.6356,2,  34.6366,2,    154.0,2,    153.4,2,   119.25,2,    35.51,2,     0.00,2,     2.47,2, -999.000,9, -999.000,9, -999.000,9,-999.0000,9,  -999.00,9,   -999.0,9,   -999.0,9,   -999.0,9,   -999.0,9,   -999.0,9, -999.00,  -999.0,-999.0000,-999.000,  1.8956,-999.000
   31WTTUNES_2,  P17S,   162,  1,     28,     28,2,19910802,1106,-24.7133,-132.8083, 3972,   2271.2,   1.9272,  34.6479,2,  34.6476,2,    155.8,2,    155.0,2,   123.72,2,    35.30,2,     0.00,2,     2.46,2, -999.000,9, -999.000,9, -999.000,9,-999.0000,9,  -999.00,9,   -999.0,9,   -999.0,9,   -999.0,9,   -999.0,9,   -999.0,9, -999.00,  -999.0,-999.0000,-999.000,  1.7687,-999.000
   31WTTUNES_2,  P17S,   162,  1,     29,     29,2,19910802,1106,-24.7133,-132.8083, 3972,   2493.6,   1.8352,  34.6577,2,  34.6568,2,    159.0,2,    158.4,2,   124.73,2,    35.10,2,     0.00,2,     2.45,2, -999.000,9, -999.000,9, -999.000,9,-999.0000,9,  -999.00,9,   -999.0,9,   -999.0,9,   -999.0,9,   -999.0,9,   -999.0,9, -999.00,  -999.0,-999.0000,-999.000,  1.6586,-999.000
   31WTTUNES_2,  P17S,   162,  1,     30,     30,2,19910802,1106,-24.7133,-132.8083, 3972,   2697.4,   1.7573,  34.6655,2,  34.6641,2,    162.4,2,    161.9,2,   125.74,2,    34.84,2,     0.00,2,     2.43,2, -999.000,9, -999.000,9, -999.000,9,-999.0000,9,  -999.00,9,   -999.0,9,   -999.0,9,   -999.0,9,   -999.0,9,   -999.0,9, -999.00,  -999.0,-999.0000,-999.000,  1.5635,-999.000
   31WTTUNES_2,  P17S,   162,  1,     31,     31,2,19910802,1106,-24.7133,-132.8083, 3972,   2923.0,   1.6873,  34.6721,2,  34.6727,2,    164.9,2,    165.5,2,   126.54,2,    34.63,2,     0.00,2,     2.41,2, -999.000,9, -999.000,9, -999.000,9,-999.0000,9,  -999.00,9,   -999.0,9,   -999.0,9,   -999.0,9,   -999.0,9,   -999.0,9, -999.00,  -999.0,-999.0000,-999.000,  1.4737,-999.000
   31WTTUNES_2,  P17S,   162,  1,     32,     32,2,19910802,1106,-24.7133,-132.8083, 3972,   3139.1,   1.6233,  34.6782,2,  34.6784,2,    166.7,2,    169.3,2,   126.33,2,    34.33,2,     0.00,2,     2.39,2, -999.000,9, -999.000,9, -999.000,9,-999.0000,9,  -999.00,9,   -999.0,9,   -999.0,9,   -999.0,9,   -999.0,9,   -999.0,9, -999.00,  -999.0,-999.0000,-999.000,  1.3903,-999.000
   31WTTUNES_2,  P17S,   162,  1,     33,     33,2,19910802,1106,-24.7133,-132.8083, 3972,   3351.6,   1.5973,  34.6815,2,  34.6800,2,    172.1,2,    171.4,2,   126.31,2,    34.22,2,     0.00,2,     2.38,2, -999.000,9, -999.000,9, -999.000,9,-999.0000,9,  -999.00,9,   -999.0,9,   -999.0,9,   -999.0,9,   -999.0,9,   -999.0,9, -999.00,  -999.0,-999.0000,-999.000,  1.3438,-999.000
   31WTTUNES_2,  P17S,   162,  1,     34,     34,2,19910802,1106,-24.7133,-132.8083, 3972,   3586.8,   1.5763,  34.6846,2,  34.6842,2,    172.8,2,    173.4,2,   126.30,2,    34.07,2,     0.00,2,     2.37,2, -999.000,9, -999.000,9, -999.000,9,-999.0000,9,  -999.00,9,   -999.0,9,   -999.0,9,   -999.0,9,   -999.0,9,   -999.0,9, -999.00,  -999.0,-999.0000,-999.000,  1.2993,-999.000
   31WTTUNES_2,  P17S,   162,  1,     35,     35,2,19910802,1106,-24.7133,-132.8083, 3972,   3808.8,   1.5743,  34.6874,2,  34.6851,2,    174.5,2,    174.5,2,   126.29,2,    34.07,2,     0.00,2,     2.36,2, -999.000,9, -999.000,9, -999.000,9,-999.0000,9,  -999.00,9,   -999.0,9,   -999.0,9,   -999.0,9,   -999.0,9,   -999.0,9, -999.00,  -999.0,-999.0000,-999.000,  1.2739,-999.000
   31WTTUNES_2,  P17S,   162,  1,     38,     38,2,19910802,1106,-24.7133,-132.8083, 3972,   4044.6,   1.5843,  34.6879,2,  34.6863,2,    175.7,2,    175.2,2,   125.87,2,    34.02,2,     0.00,2,     2.36,2, -999.000,9, -999.000,9, -999.000,9,-999.0000,9,  -999.00,9,   -999.0,9,   -999.0,9,   -999.0,9,   -999.0,9,   -999.0,9, -999.00,  -999.0,-999.0000,-999.000,  1.2581,-999.000