BOTTLE,20131125MIRCJHATS
EXPOCODE,SECT_ID,STNNBR,CASTNO,SAMPNO,BTLNBR,BTLNBR_FLAG_W,DATE,TIME,LATITUDE,LONGITUDE,DEPTH,CTDPRS,CTDTMP,CTDSAL,CTDSAL_FLAG_W,SALNTY,SALNTY_FLAG_W,CTDOXY,CTDOXY_FLAG_W,OXYGEN,OXYGEN_FLAG_W,SILCAT,SILCAT_FLAG_W,NITRAT,NITRAT_FLAG_W,NITRIT,NITRIT_FLAG_W,PHSPHT,PHSPHT_FLAG_W,CFC-11,CFC-11_FLAG_W,CFC-12,CFC-12_FLAG_W,TRITUM,TRITUM_FLAG_W,HELIUM,HELIUM_FLAG_W,DELHE3,DELHE3_FLAG_W,DELC14,DELC14_FLAG_W,DELC13,DELC13_FLAG_W,TCARBN,TCARBN_FLAG_W,PCO2,PCO2_FLAG_W,ALKALI,ALKALI_FLAG_W,PCO2TMP,C14ERR,HELIER,DELHER,THETA,TRITER
,,,,,,,,,,,,DBAR,ITS-90,PSS-78,,PSS-78,,UMOL/KG,,UMOL/KG,,UMOL/KG,,UMOL/KG,,UMOL/KG,,UMOL/KG,,PMOL/KG,,PMOL/KG,,TU,,NMOL/KG,,PERCNT,,/MILLE,,/MILLE,,UMOL/KG,,UATM,,UMOL/KG,,DEG C,/MILLE,NMOL/KG,PERCNT,DEG C,TU
   31WTTUNES_2,  P17S,   152,  1,      1,      1,2,19910730,1011,-19.8100,-132.9533, 3441,      1.8,  25.3582,  36.4368,2,  36.4400,2,    204.6,3,    217.0,2,     1.85,2,     0.10,2,     0.00,2,     0.19,2,    1.764,2,    0.953,2, -999.000,9,-999.0000,9,  -999.00,9,   -999.0,9,   -999.0,9,   2031.4,2,    262.8,2,   -999.0,9,   20.00,  -999.0,-999.0000,-999.000, 25.3578,-999.000
   31WTTUNES_2,  P17S,   152,  1,      2,      2,2,19910730,1011,-19.8100,-132.9533, 3441,     44.7,  25.3502,  36.4336,2,  36.4376,2,    214.0,2,    214.8,2,     1.85,2,     0.10,2,     0.00,2,     0.19,2,    1.770,2,    0.945,2, -999.000,9,-999.0000,9,  -999.00,9,   -999.0,9,   -999.0,9,   2028.0,2,    261.7,2,   -999.0,9,   20.00,  -999.0,-999.0000,-999.000, 25.3404,-999.000
   31WTTUNES_2,  P17S,   152,  1,      3,      3,2,19910730,1011,-19.8100,-132.9533, 3441,     75.1,  25.3342,  36.4262,2,  36.4293,2,    217.8,2,    213.0,2,     1.85,2,     0.10,2,     0.00,2,     0.19,2,    1.758,2,    0.944,2, -999.000,9,-999.0000,9,  -999.00,9,   -999.0,9,   -999.0,9,   2026.4,2,    263.0,2,   -999.0,9,   20.00,  -999.0,-999.0000,-999.000, 25.3177,-999.000
   31WTTUNES_2,  P17S,   152,  1,      4,      4,2,19910730,1011,-19.8100,-132.9533, 3441,    106.1,  25.3172,  36.4194,2,  36.4243,2,    219.7,2,    216.6,2,     1.66,2,     0.10,2,     0.00,2,     0.19,2,    1.750,2,    0.947,2, -999.000,9,-999.0000,9,  -999.00,9,   -999.0,9,   -999.0,9,   2029.5,2,    262.7,2,   -999.0,9,   20.00,  -999.0,-999.0000,-999.000, 25.2939,-999.000
   31WTTUNES_2,  P17S,   152,  1,      5,      5,2,19910730,1011,-19.8100,-132.9533, 3441,    127.2,  25.2822,  36.4095,2,  36.4061,2,    220.2,2,    212.8,2,     1.66,2,     0.10,2,     0.00,2,     0.19,2,    1.727,2,    0.953,2, -999.000,9,-999.0000,9,  -999.00,9,   -999.0,9,   -999.0,9,   2031.6,2,    265.9,2,   -999.0,9,   20.00,  -999.0,-999.0000,-999.000, 25.2542,-999.000
   31WTTUNES_2,  P17S,   152,  1,      6,      6,2,19910730,1011,-19.8100,-132.9533, 3441,    147.3,  23.9465,  36.1772,2,  36.1937,2,    200.1,2,    210.8,2,     1.56,2,     0.10,2,     0.03,2,     0.20,2,    1.842,2,    0.981,2, -999.000,9,-999.0000,9,  -999.00,9,   -999.0,9,   -999.0,9,   2036.3,2,    289.5,2,   -999.0,9,   20.00,  -999.0,-999.0000,-999.000, 23.9154,-999.000
   31WTTUNES_2,  P17S,   152,  1,      7,      7,2,19910730,1011,-19.8100,-132.9533, 3441,    168.3,  23.3483,  36.1341,2,  36.1112,2,    200.8,2,    202.9,2,     1.56,2,     0.10,2,     0.24,2,     0.23,2,    1.833,2,    0.987,2, -999.000,9,-999.0000,9,  -999.00,9,   -999.0,9,   -999.0,9,   2047.9,2,    308.9,2,   -999.0,9,   20.00,  -999.0,-999.0000,-999.000, 23.3133,-999.000
   31WTTUNES_2,  P17S,   152,  1,      8,      8,2,19910730,1011,-19.8100,-132.9533, 3441,    188.5,  22.4229,  36.0840,2,  36.0805,2,    198.9,2,    195.9,2,     1.37,2,     0.59,2,     0.29,2,     0.28,2,    1.760,2,    0.972,2, -999.000,9,-999.0000,9,  -999.00,9,   -999.0,9,   -999.0,9,   2059.6,2,    327.4,2,   -999.0,9,   20.00,  -999.0,-999.0000,-999.000, 22.3849,-999.000
   31WTTUNES_2,  P17S,   152,  1,      9,      9,2,19910730,1011,-19.8100,-132.9533, 3441,    209.1,  21.5835,  36.0164,2,  36.0140,2,    190.4,2,    192.0,2,     1.95,2,     1.56,2,     0.03,2,     0.32,2,    1.833,2,    0.964,2, -999.000,9,-999.0000,9,  -999.00,9,   -999.0,9,   -999.0,9,   2067.2,2,    346.5,2,   -999.0,9,   20.00,  -999.0,-999.0000,-999.000, 21.5425,-999.000
   31WTTUNES_2,  P17S,   152,  1,     10,     10,2,19910730,1011,-19.8100,-132.9533, 3441,    260.3,  19.1267,  35.6579,2,  35.6486,2,    189.4,2,    192.3,2,     1.95,2,     3.22,2,     0.01,2,     0.42,2,    1.783,2,    0.961,2, -999.000,9,-999.0000,9,  -999.00,9,   -999.0,9,   -999.0,9,   2076.2,2,    390.6,2,   -999.0,9,   20.00,  -999.0,-999.0000,-999.000, 19.0798,-999.000
   31WTTUNES_2,  P17S,   152,  1,     11,     11,2,19910730,1011,-19.8100,-132.9533, 3441,    312.4,  16.9611,  35.3285,2,  35.3204,2,    193.9,2,    187.7,2,     1.95,2,     4.88,2,     0.01,2,     0.52,2, -999.000,5, -999.000,5, -999.000,9,-999.0000,9,  -999.00,9,   -999.0,9,   -999.0,9,   2073.8,2,    429.9,2,   -999.0,9,   20.00,  -999.0,-999.0000,-999.000, 16.9094,-999.000
   31WTTUNES_2,  P17S,   152,  1,     12,     12,2,19910730,1011,-19.8100,-132.9533, 3441,    388.7,  12.7004,  34.8023,2,  34.7906,2,    181.9,2,    174.7,2,     4.69,2,    13.00,2,     0.01,2,     1.07,2,    1.127,2,    0.580,2, -999.000,9,-999.0000,9,  -999.00,9,   -999.0,9,   -999.0,9,   2111.4,2,    601.9,2,   -999.0,9,   20.00,  -999.0,-999.0000,-999.000, 12.6475,-999.000
   31WTTUNES_2,  P17S,   152,  1,     13,     13,2,19910730,1011,-19.8100,-132.9533, 3441,    464.5,   9.3432,  34.4827,2,  34.4790,2,    140.9,2,    139.9,2,    12.02,2,    23.95,2,     0.00,2,     1.85,2,    0.508,2,    0.277,2, -999.000,9,-999.0000,9,  -999.00,9,   -999.0,9,   -999.0,9,   2172.6,2,    957.1,2,   -999.0,9,   20.00,  -999.0,-999.0000,-999.000,  9.2912,-999.000
   31WTTUNES_2,  P17S,   152,  1,     37,     37,2,19910730,1011,-19.8100,-132.9533, 3441,    541.4,   7.0953,  34.3754,2,  34.3771,2,    154.3,2,    157.5,2,    16.72,2,    28.74,2,     0.00,2,     2.07,2,    0.218,2,    0.133,2, -999.000,9,-999.0000,9,  -999.00,9,   -999.0,9,   -999.0,9,   2184.2,2,   1043.4,2,   -999.0,9,   20.00,  -999.0,-999.0000,-999.000,  7.0435,-999.000
   31WTTUNES_2,  P17S,   152,  1,     15,     15,2,19910730,1011,-19.8100,-132.9533, 3441,    617.7,   6.1094,  34.3453,2,  34.3471,2,    171.4,2,    174.2,2,    19.06,2,    30.01,2,     0.00,2,     2.12,2,    0.108,2,    0.075,2, -999.000,9,-999.0000,9,  -999.00,9,   -999.0,9,   -999.0,9,   2183.0,2,   1020.0,2,   -999.0,9,   20.00,  -999.0,-999.0000,-999.000,  6.0546,-999.000
   31WTTUNES_2,  P17S,   152,  1,     16,     16,2,19910730,1011,-19.8100,-132.9533, 3441,    720.3,   5.5095,  34.3594,2,  34.3505,2,    158.7,2,    167.1,2,    24.64,2,    31.58,2,     0.00,2,     2.22,2,    0.059,2,    0.040,2, -999.000,9,-999.0000,9,  -999.00,9,   -999.0,9,   -999.0,9,   2196.9,2,   1070.8,2,   -999.0,9,   20.00,  -999.0,-999.0000,-999.000,  5.4483,-999.000
   31WTTUNES_2,  P17S,   152,  1,     17,     17,2,19910730,1011,-19.8100,-132.9533, 3441,    822.4,   4.9076,  34.3891,2,  34.3915,2,    151.5,2,    149.1,2,    40.67,2,    34.41,2,     0.00,2,     2.40,2,    0.010,8,    0.009,2, -999.000,9,-999.0000,9,  -999.00,9,   -999.0,9,   -999.0,9,   2222.7,2,   1178.0,2,   -999.0,9,   20.00,  -999.0,-999.0000,-999.000,  4.8409,-999.000
   31WTTUNES_2,  P17S,   152,  1,     18,     18,2,19910730,1011,-19.8100,-132.9533, 3441,    924.8,   4.5287,  34.4317,2,  34.4376,2,    139.6,2,    140.6,2,    54.55,2,    35.19,2,     0.00,2,     2.49,2,    0.003,2,    0.006,2, -999.000,9,-999.0000,9,  -999.00,9,   -999.0,9,   -999.0,9,   2243.0,2,   1219.5,2,   -999.0,9,   20.00,  -999.0,-999.0000,-999.000,  4.4556,-999.000
   31WTTUNES_2,  P17S,   152,  1,     19,     19,2,19910730,1011,-19.8100,-132.9533, 3441,   1027.6,   4.1897,  34.4803,2,  34.4823,2,    135.5,2,    135.6,2,    66.47,2,    35.68,2,     0.00,2,     2.53,2,   -0.001,2,    0.000,2, -999.000,9,-999.0000,9,  -999.00,9,   -999.0,9,   -999.0,9,   2251.9,2,   1240.1,2,   -999.0,9,   20.00,  -999.0,-999.0000,-999.000,  4.1103,-999.000
   31WTTUNES_2,  P17S,   152,  1,     20,     20,2,19910730,1011,-19.8100,-132.9533, 3441,   1129.4,   3.8698,  34.5070,2,  34.5082,2,    137.2,2,    136.0,2,    74.29,2,    35.97,2,     0.00,2,     2.54,2,   -0.001,2,    0.000,2, -999.000,9,-999.0000,9,  -999.00,9,   -999.0,9,   -999.0,9,   2265.1,2,   1243.8,2,   -999.0,9,   20.00,  -999.0,-999.0000,-999.000,  3.7844,-999.000
   31WTTUNES_2,  P17S,   152,  1,     21,     21,2,19910730,1011,-19.8100,-132.9533, 3441,   1284.5,   3.3089,  34.5365,2,  34.5365,2,    140.1,2,    140.9,2,    86.32,2,    35.97,2,     0.00,2,     2.54,2,   -0.002,7,    0.000,2, -999.000,9,-999.0000,9,  -999.00,9,   -999.0,9,   -999.0,9,   2272.6,2,   1231.2,2,   -999.0,9,   20.00,  -999.0,-999.0000,-999.000,  3.2157,-999.000
   31WTTUNES_2,  P17S,   152,  1,     22,     22,2,19910730,1011,-19.8100,-132.9533, 3441,   1438.6,   2.9440,  34.5580,2,  34.5591,2,    145.6,2,    145.4,2,    94.82,2,    35.58,2,     0.00,2,     2.52,2, -999.000,9, -999.000,9, -999.000,9,-999.0000,9,  -999.00,9,   -999.0,9,   -999.0,9,   2283.3,2,   1214.7,2,   -999.0,9,   20.00,  -999.0,-999.0000,-999.000,  2.8419,-999.000
   31WTTUNES_2,  P17S,   152,  1,     23,     23,2,19910730,1011,-19.8100,-132.9533, 3441,   1644.5,   2.4751,  34.5955,2,  34.5952,2,    149.5,2,    148.5,2,   105.96,2,    35.48,2,     0.00,2,     2.49,2,    0.001,2,    0.000,2, -999.000,9,-999.0000,9,  -999.00,9,   -999.0,9,   -999.0,9,   2290.0,2,   1206.5,2,   -999.0,9,   20.00,  -999.0,-999.0000,-999.000,  2.3616,-999.000
   31WTTUNES_2,  P17S,   152,  1,     24,     24,2,19910730,1011,-19.8100,-132.9533, 3441,   1851.6,   2.1911,  34.6224,2,  34.6227,2,    152.0,2,    152.1,2,   113.87,2,    35.29,2,     0.00,2,     2.49,2, -999.000,9, -999.000,9, -999.000,9,-999.0000,9,  -999.00,9,   -999.0,9,   -999.0,9,   -999.0,5,   -999.0,5,   -999.0,9, -999.00,  -999.0,-999.0000,-999.000,  2.0643,-999.000
   31WTTUNES_2,  P17S,   152,  1,     25,     25,2,19910730,1011,-19.8100,-132.9533, 3441,   2057.0,   2.0462,  34.6365,2,  34.6381,2,    156.5,2,    154.1,2,   119.35,2,    35.29,2,     0.00,2,     2.48,2,   -0.002,2,    0.000,2, -999.000,9,-999.0000,9,  -999.00,9,   -999.0,9,   -999.0,9,   2299.5,2,   1181.5,2,   -999.0,9,   20.00,  -999.0,-999.0000,-999.000,  1.9042,-999.000
   31WTTUNES_2,  P17S,   152,  1,     26,     26,2,19910730,1011,-19.8100,-132.9533, 3441,   2263.8,   1.9112,  34.6516,2,  34.6526,2,    156.3,2,    156.0,2,   122.96,2,    35.19,2,     0.00,2,     2.46,2, -999.000,9, -999.000,9, -999.000,9,-999.0000,9,  -999.00,9,   -999.0,9,   -999.0,9,   2301.1,2,   1171.9,2,   -999.0,9,   20.00,  -999.0,-999.0000,-999.000,  1.7536,-999.000
   31WTTUNES_2,  P17S,   152,  1,     27,     27,2,19910730,1011,-19.8100,-132.9533, 3441,   2420.2,   1.8612,  34.6579,2,  34.6577,2,    156.8,2,    157.2,2,   124.33,2,    35.09,2,     0.00,2,     2.46,2, -999.000,9, -999.000,9, -999.000,9,-999.0000,9,  -999.00,9,   -999.0,9,   -999.0,9,   -999.0,5,   -999.0,5,   -999.0,9, -999.00,  -999.0,-999.0000,-999.000,  1.6907,-999.000
   31WTTUNES_2,  P17S,   152,  1,     28,     28,2,19910730,1011,-19.8100,-132.9533, 3441,   2574.8,   1.8042,  34.6636,2,  34.6663,2,    158.1,2,    158.0,2,   126.58,2,    35.09,2,     0.00,2,     2.45,2,   -0.002,7,    0.000,2, -999.000,9,-999.0000,9,  -999.00,9,   -999.0,9,   -999.0,9,   2304.7,2,   1161.5,2,   -999.0,9,   20.00,  -999.0,-999.0000,-999.000,  1.6208,-999.000
   31WTTUNES_2,  P17S,   152,  1,     29,     29,2,19910730,1011,-19.8100,-132.9533, 3441,   2728.4,   1.7583,  34.6686,2,  34.6706,2,    160.8,2,    159.7,2,   127.95,2,    34.89,2,     0.00,2,     2.44,2, -999.000,9, -999.000,9, -999.000,9,-999.0000,9,  -999.00,9,   -999.0,9,   -999.0,9,   -999.0,5,   -999.0,5,   -999.0,9, -999.00,  -999.0,-999.0000,-999.000,  1.5616,-999.000
   31WTTUNES_2,  P17S,   152,  1,     30,     30,2,19910730,1011,-19.8100,-132.9533, 3441,   2883.7,   1.7093,  34.6720,2,  34.6730,2,    162.6,2,    162.8,2,   127.75,2,    34.70,2,     0.00,2,     2.44,2, -999.000,9, -999.000,9, -999.000,9,-999.0000,9,  -999.00,9,   -999.0,9,   -999.0,9,   2303.1,2,   -999.0,5,   -999.0,9, -999.00,  -999.0,-999.0000,-999.000,  1.4990,-999.000
   31WTTUNES_2,  P17S,   152,  1,     31,     31,2,19910730,1011,-19.8100,-132.9533, 3441,   2883.9,   1.7093,  34.6719,2,  34.6728,2,    163.0,2,    162.7,2,   127.85,2,    34.70,2,     0.00,2,     2.44,2, -999.000,9, -999.000,9, -999.000,9,-999.0000,9,  -999.00,9,   -999.0,9,   -999.0,9,   -999.0,5,   -999.0,5,   -999.0,9, -999.00,  -999.0,-999.0000,-999.000,  1.4990,-999.000
   31WTTUNES_2,  P17S,   152,  1,     33,     33,2,19910730,1011,-19.8100,-132.9533, 3441,   3090.5,   1.6683,  34.6748,2,  34.6751,2,    163.2,2,    164.3,2,   129.02,2,    34.60,2,     0.00,2,     2.43,2, -999.000,9, -999.000,9, -999.000,9,-999.0000,9,  -999.00,9,   -999.0,9,   -999.0,9,   -999.0,5,   -999.0,5,   -999.0,9, -999.00,  -999.0,-999.0000,-999.000,  1.4390,-999.000
   31WTTUNES_2,  P17S,   152,  1,     32,     32,2,19910730,1011,-19.8100,-132.9533, 3441,   3090.7,   1.6683,  34.6759,2,  34.6757,2,    163.2,2,    164.1,2,   128.82,2,    34.60,2,     0.00,2,     2.43,2,   -0.003,2,    0.005,7, -999.000,9,-999.0000,9,  -999.00,9,   -999.0,9,   -999.0,9,   2305.1,2,   1154.8,2,   -999.0,9,   20.00,  -999.0,-999.0000,-999.000,  1.4390,-999.000
   31WTTUNES_2,  P17S,   152,  1,     34,     34,2,19910730,1011,-19.8100,-132.9533, 3441,   3297.5,   1.6523,  34.6782,2,  34.6783,2,    166.2,2,    165.4,2,   129.61,2,    34.50,2,     0.00,2,     2.43,2, -999.000,9, -999.000,9, -999.000,9,-999.0000,9,  -999.00,9,   -999.0,9,   -999.0,9,   2303.7,2,   1134.7,2,   -999.0,9,   20.00,  -999.0,-999.0000,-999.000,  1.4029,-999.000
   31WTTUNES_2,  P17S,   152,  1,     35,     35,2,19910730,1011,-19.8100,-132.9533, 3441,   3443.3,   1.6663,  34.6782,2,  34.6795,2,    165.3,2,    164.8,2,   130.00,2,    34.50,2,     0.00,2,     2.43,2,   -0.002,2,    0.000,2, -999.000,9,-999.0000,9,  -999.00,9,   -999.0,9,   -999.0,9,   -999.0,5,   -999.0,5,   -999.0,9, -999.00,  -999.0,-999.0000,-999.000,  1.4018,-999.000
   31WTTUNES_2,  P17S,   152,  1,     38,     38,2,19910730,1011,-19.8100,-132.9533, 3441,   3545.0,   1.6643,  34.6797,2,  34.6789,2,    164.5,2,    165.2,2,   130.97,2,    34.60,2,     0.00,2,     2.42,2,   -0.002,2,    0.000,2, -999.000,9,-999.0000,9,  -999.00,9,   -999.0,9,   -999.0,9,   2305.3,2,   1143.6,2,   -999.0,9,   20.00,  -999.0,-999.0000,-999.000,  1.3894,-999.000