BOTTLE,20131125MIRCJHATS
EXPOCODE,SECT_ID,STNNBR,CASTNO,SAMPNO,BTLNBR,BTLNBR_FLAG_W,DATE,TIME,LATITUDE,LONGITUDE,DEPTH,CTDPRS,CTDTMP,CTDSAL,CTDSAL_FLAG_W,SALNTY,SALNTY_FLAG_W,CTDOXY,CTDOXY_FLAG_W,OXYGEN,OXYGEN_FLAG_W,SILCAT,SILCAT_FLAG_W,NITRAT,NITRAT_FLAG_W,NITRIT,NITRIT_FLAG_W,PHSPHT,PHSPHT_FLAG_W,CFC-11,CFC-11_FLAG_W,CFC-12,CFC-12_FLAG_W,TRITUM,TRITUM_FLAG_W,HELIUM,HELIUM_FLAG_W,DELHE3,DELHE3_FLAG_W,DELC14,DELC14_FLAG_W,DELC13,DELC13_FLAG_W,TCARBN,TCARBN_FLAG_W,PCO2,PCO2_FLAG_W,ALKALI,ALKALI_FLAG_W,PCO2TMP,C14ERR,HELIER,DELHER,THETA,TRITER
,,,,,,,,,,,,DBAR,ITS-90,PSS-78,,PSS-78,,UMOL/KG,,UMOL/KG,,UMOL/KG,,UMOL/KG,,UMOL/KG,,UMOL/KG,,PMOL/KG,,PMOL/KG,,TU,,NMOL/KG,,PERCNT,,/MILLE,,/MILLE,,UMOL/KG,,UATM,,UMOL/KG,,DEG C,/MILLE,NMOL/KG,PERCNT,DEG C,TU
   31WTTUNES_2,  P16S,   208,  1,     61,     61,2,19910821,1842,-23.5033,-150.4950, 4428,      2.2,  22.1996,  35.7092,2,  35.7134,2,    218.4,3,    217.2,2,     1.50,2,     0.11,2,     0.00,2,     0.09,2, -999.000,5, -999.000,5, -999.000,9,-999.0000,9,  -999.00,9,   -999.0,9,   -999.0,9,   2002.9,2,    269.1,2,   -999.0,9,   20.00,  -999.0,-999.0000,-999.000, 22.1991,-999.000
   31WTTUNES_2,  P16S,   208,  1,      2,      2,2,19910821,1842,-23.5033,-150.4950, 4428,     42.2,  21.9859,  35.6846,2,  35.6860,2,    215.0,2,    217.7,2,     1.48,2,     0.11,2,     0.00,2,     0.08,2,    1.992,2,    1.074,2, -999.000,9,-999.0000,9,  -999.00,9,   -999.0,9,   -999.0,9,   -999.0,9,   -999.0,9,   -999.0,9, -999.00,  -999.0,-999.0000,-999.000, 21.9776,-999.000
   31WTTUNES_2,  P16S,   208,  1,      3,      3,2,19910821,1842,-23.5033,-150.4950, 4428,     82.7,  21.8596,  35.6641,2,  35.6700,2,    217.4,2,    216.2,2,     1.45,2,     0.10,2,     0.00,2,     0.09,2, -999.000,9, -999.000,9, -999.000,9,-999.0000,9,  -999.00,9,   -999.0,9,   -999.0,9,   -999.0,9,   -999.0,9,   -999.0,9, -999.00,  -999.0,-999.0000,-999.000, 21.8433,-999.000
   31WTTUNES_2,  P16S,   208,  1,     64,     64,2,19910821,1842,-23.5033,-150.4950, 4428,    122.9,  21.6976,  35.6524,2,  35.6542,2,    220.0,2,    217.8,2,     1.43,2,     0.10,2,     0.00,2,     0.08,2,    2.018,2,    1.098,2, -999.000,9,-999.0000,9,  -999.00,9,   -999.0,9,   -999.0,9,   -999.0,9,   -999.0,9,   -999.0,9, -999.00,  -999.0,-999.0000,-999.000, 21.6735,-999.000
   31WTTUNES_2,  P16S,   208,  1,      5,      5,2,19910821,1842,-23.5033,-150.4950, 4428,    163.7,  20.5738,  35.6231,2,  35.6214,2,    198.2,2,    195.8,2,     1.41,2,     1.05,2,     0.05,2,     0.21,2,    1.926,2,    1.028,2, -999.000,9,-999.0000,9,  -999.00,9,   -999.0,9,   -999.0,9,   -999.0,9,   -999.0,9,   -999.0,9, -999.00,  -999.0,-999.0000,-999.000, 20.5429,-999.000
   31WTTUNES_2,  P16S,   208,  1,      6,      6,2,19910821,1842,-23.5033,-150.4950, 4428,    214.6,  19.4378,  35.6010,2,  35.5932,2,    194.7,2,    192.6,2,     1.39,2,     2.08,2,     0.01,2,     0.27,2,    1.882,2,    1.008,2, -999.000,9,-999.0000,9,  -999.00,9,   -999.0,9,   -999.0,9,   -999.0,9,   -999.0,9,   -999.0,9, -999.00,  -999.0,-999.0000,-999.000, 19.3988,-999.000
   31WTTUNES_2,  P16S,   208,  1,      7,      7,2,19910821,1842,-23.5033,-150.4950, 4428,    265.3,  18.0389,  35.5255,2,  35.5218,2,    191.2,2,    190.8,2,     1.58,2,     3.52,2,     0.00,2,     0.38,2,    1.812,2,    0.960,2, -999.000,9,-999.0000,9,  -999.00,9,   -999.0,9,   -999.0,9,   -999.0,9,   -999.0,9,   -999.0,9, -999.00,  -999.0,-999.0000,-999.000, 17.9930,-999.000
   31WTTUNES_2,  P16S,   208,  1,     68,     68,2,19910821,1842,-23.5033,-150.4950, 4428,    316.2,  16.3357,  35.3785,2,  35.3790,2,    189.0,2,    191.3,2,     1.76,2,     5.43,2,     0.00,2,     0.50,2,    1.709,2,    0.896,2, -999.000,9,-999.0000,9,  -999.00,9,   -999.0,9,   -999.0,9,   -999.0,9,   -999.0,9,   -999.0,9, -999.00,  -999.0,-999.0000,-999.000, 16.2846,-999.000
   31WTTUNES_2,  P16S,   208,  1,     69,     69,2,19910821,1842,-23.5033,-150.4950, 4428,    367.1,  14.4595,  35.1803,2,  35.1729,2,    191.4,2,    192.0,2,     2.79,2,     8.34,2,     0.00,2,     0.69,2,    1.545,2,    0.800,2, -999.000,9,-999.0000,9,  -999.00,9,   -999.0,9,   -999.0,9,   -999.0,9,   -999.0,9,   -999.0,9, -999.00,  -999.0,-999.0000,-999.000, 14.4049,-999.000
   31WTTUNES_2,  P16S,   208,  1,     70,     70,2,19910821,1842,-23.5033,-150.4950, 4428,    427.7,  12.2800,  34.9254,2,  34.9213,2,    195.2,2,    192.7,2,     3.81,2,    12.50,2,     0.00,2,     0.95,2,    1.240,2,    0.653,2, -999.000,9,-999.0000,9,  -999.00,9,   -999.0,9,   -999.0,9,   -999.0,9,   -999.0,9,   -999.0,9, -999.00,  -999.0,-999.0000,-999.000, 12.2229,-999.000
   31WTTUNES_2,  P16S,   208,  1,     11,     11,2,19910821,1842,-23.5033,-150.4950, 4428,    489.7,   9.7093,  34.6363,2,  34.6390,2,    203.5,2,    201.4,2,     5.45,2,    17.38,2,     0.00,2,     1.26,2,    0.950,2,    0.498,2, -999.000,9,-999.0000,9,  -999.00,9,   -999.0,9,   -999.0,9,   -999.0,9,   -999.0,9,   -999.0,9, -999.00,  -999.0,-999.0000,-999.000,  9.6529,-999.000
   31WTTUNES_2,  P16S,   208,  1,     12,     12,2,19910821,1842,-23.5033,-150.4950, 4428,    561.3,   8.1277,  34.4857,2,  34.4852,2,    218.0,2,    214.0,2,     7.10,2,    20.36,2,     0.00,2,     1.44,2, -999.000,9, -999.000,9, -999.000,9,-999.0000,9,  -999.00,9,   -999.0,9,   -999.0,9,   -999.0,9,   -999.0,9,   -999.0,9, -999.00,  -999.0,-999.0000,-999.000,  8.0695,-999.000
   31WTTUNES_2,  P16S,   208,  1,     13,     13,2,19910821,1842,-23.5033,-150.4950, 4428,    632.8,   7.0095,  34.3885,2,  34.3891,2,    222.9,2,    223.4,2,     8.96,2,    22.71,2,     0.00,2,     1.59,2,    0.655,2,    0.351,2, -999.000,9,-999.0000,9,  -999.00,9,   -999.0,9,   -999.0,9,   -999.0,9,   -999.0,9,   -999.0,9, -999.00,  -999.0,-999.0000,-999.000,  6.9490,-999.000
   31WTTUNES_2,  P16S,   208,  1,     37,     37,2,19910821,1842,-23.5033,-150.4950, 4428,    703.1,   6.2598,  34.3404,2,  34.3406,2,    226.5,2,    226.1,2,    11.65,2,    24.60,2,     0.00,2,     1.71,2, -999.000,9, -999.000,9, -999.000,9,-999.0000,9,  -999.00,9,   -999.0,9,   -999.0,9,   -999.0,9,   -999.0,9,   -999.0,9, -999.00,  -999.0,-999.0000,-999.000,  6.1962,-999.000
   31WTTUNES_2,  P16S,   208,  1,     15,     15,2,19910821,1842,-23.5033,-150.4950, 4428,    773.4,   5.6323,  34.3162,2,  34.3165,2,    218.2,2,    219.1,2,    16.42,2,    26.68,2,     0.00,2,     1.85,2,    0.230,2,    0.135,2, -999.000,9,-999.0000,9,  -999.00,9,   -999.0,9,   -999.0,9,   -999.0,9,   -999.0,9,   -999.0,9, -999.00,  -999.0,-999.0000,-999.000,  5.5657,-999.000
   31WTTUNES_2,  P16S,   208,  1,     16,     16,2,19910821,1842,-23.5033,-150.4950, 4428,    854.8,   5.2030,  34.3268,2,  34.3281,2,    194.3,2,    195.9,2,    25.37,2,    29.64,2,     0.00,2,     2.07,2,    0.083,2,    0.053,2, -999.000,9,-999.0000,9,  -999.00,9,   -999.0,9,   -999.0,9,   -999.0,9,   -999.0,9,   -999.0,9, -999.00,  -999.0,-999.0000,-999.000,  5.1316,-999.000
   31WTTUNES_2,  P16S,   208,  1,     17,     17,2,19910821,1842,-23.5033,-150.4950, 4428,    936.8,   4.5922,  34.3576,2,  34.3571,2,    182.2,2,    180.0,2,    37.45,2,    31.94,2,     0.00,2,     2.24,2,    0.030,2,    0.020,2, -999.000,9,-999.0000,9,  -999.00,9,   -999.0,9,   -999.0,9,   -999.0,9,   -999.0,9,   -999.0,9, -999.00,  -999.0,-999.0000,-999.000,  4.5178,-999.000
   31WTTUNES_2,  P16S,   208,  1,     18,     18,2,19910821,1842,-23.5033,-150.4950, 4428,   1018.9,   4.1243,  34.3961,2,  34.3962,2,    172.4,2,    169.1,2,    49.54,2,    33.47,2,     0.00,2,     2.35,2,    0.010,2,    0.009,2, -999.000,9,-999.0000,9,  -999.00,9,   -999.0,9,   -999.0,9,   -999.0,9,   -999.0,9,   -999.0,9, -999.00,  -999.0,-999.0000,-999.000,  4.0463,-999.000
   31WTTUNES_2,  P16S,   208,  1,     19,     19,2,19910821,1842,-23.5033,-150.4950, 4428,   1123.2,   3.5438,  34.4534,2,  34.4537,2,    163.5,2,    161.1,2,    65.42,2,    34.41,2,     0.00,2,     2.41,2,    0.001,2,    0.000,2, -999.000,9,-999.0000,9,  -999.00,9,   -999.0,9,   -999.0,9,   -999.0,9,   -999.0,9,   -999.0,9, -999.00,  -999.0,-999.0000,-999.000,  3.4618,-999.000
   31WTTUNES_2,  P16S,   208,  1,     20,     20,2,19910821,1842,-23.5033,-150.4950, 4428,   1329.9,   3.0361,  34.5146,2,  34.5159,2,    156.9,2,    156.7,2,    82.20,2,    34.82,2,     0.00,2,     2.45,2, -999.000,9, -999.000,9, -999.000,9,-999.0000,9,  -999.00,9,   -999.0,9,   -999.0,9,   -999.0,9,   -999.0,9,   -999.0,9, -999.00,  -999.0,-999.0000,-999.000,  2.9420,-999.000
   31WTTUNES_2,  P16S,   208,  1,     21,     21,2,19910821,1842,-23.5033,-150.4950, 4428,   1535.9,   2.5850,  34.5688,2,  34.5674,2,    155.3,2,    155.1,2,    97.39,2,    34.93,2,     0.00,2,     2.46,2, -999.000,9, -999.000,9, -999.000,9,-999.0000,9,  -999.00,9,   -999.0,9,   -999.0,9,   -999.0,9,   -999.0,9,   -999.0,9, -999.00,  -999.0,-999.0000,-999.000,  2.4790,-999.000
   31WTTUNES_2,  P16S,   208,  1,     22,     22,2,19910821,1842,-23.5033,-150.4950, 4428,   1536.2,   2.5838,  34.5688,2,  34.5686,2,    155.5,2,    154.9,2,    97.37,2,    34.94,2,     0.00,2,     2.46,2, -999.000,9, -999.000,9, -999.000,9,-999.0000,9,  -999.00,9,   -999.0,9,   -999.0,9,   -999.0,9,   -999.0,9,   -999.0,9, -999.00,  -999.0,-999.0000,-999.000,  2.4778,-999.000
   31WTTUNES_2,  P16S,   208,  1,     23,     23,2,19910821,1842,-23.5033,-150.4950, 4428,   1740.2,   2.3064,  34.6064,2,  34.6057,2,    149.5,2,    151.5,2,   108.83,2,    35.10,2,     0.00,2,     2.46,2, -999.000,9, -999.000,9, -999.000,9,-999.0000,9,  -999.00,9,   -999.0,9,   -999.0,9,   -999.0,9,   -999.0,9,   -999.0,9, -999.00,  -999.0,-999.0000,-999.000,  2.1872,-999.000
   31WTTUNES_2,  P16S,   208,  1,     24,     24,2,19910821,1842,-23.5033,-150.4950, 4428,   1944.7,   2.1386,  34.6268,2,  34.6269,2,    150.2,2,    150.4,2,   116.29,2,    35.25,2,     0.00,2,     2.49,2, -999.000,9, -999.000,9, -999.000,9,-999.0000,9,  -999.00,9,   -999.0,9,   -999.0,9,   -999.0,9,   -999.0,9,   -999.0,9, -999.00,  -999.0,-999.0000,-999.000,  2.0047,-999.000
   31WTTUNES_2,  P16S,   208,  1,     25,     25,2,19910821,1842,-23.5033,-150.4950, 4428,   2149.7,   2.0007,  34.6410,2,  34.6413,2,    149.6,2,    151.0,2,   120.99,2,    35.16,2,     0.00,2,     2.49,2, -999.000,9, -999.000,9, -999.000,9,-999.0000,9,  -999.00,9,   -999.0,9,   -999.0,9,   -999.0,9,   -999.0,9,   -999.0,9, -999.00,  -999.0,-999.0000,-999.000,  1.8515,-999.000
   31WTTUNES_2,  P16S,   208,  1,     26,     26,2,19910821,1842,-23.5033,-150.4950, 4428,   2356.0,   1.8834,  34.6528,2,  34.6521,2,    151.7,2,    152.5,2,   124.84,2,    35.17,2,     0.00,2,     2.49,2, -999.000,9, -999.000,9, -999.000,9,-999.0000,9,  -999.00,9,   -999.0,9,   -999.0,9,   -999.0,9,   -999.0,9,   -999.0,9, -999.00,  -999.0,-999.0000,-999.000,  1.7182,-999.000
   31WTTUNES_2,  P16S,   208,  1,     27,     27,2,19910821,1842,-23.5033,-150.4950, 4428,   2565.5,   1.8124,  34.6595,2,  34.6590,2,    153.4,2,    154.6,2,   127.20,2,    35.14,2,     0.00,2,     2.47,2, -999.000,9, -999.000,9, -999.000,9,-999.0000,9,  -999.00,9,   -999.0,9,   -999.0,9,   -999.0,9,   -999.0,9,   -999.0,9, -999.00,  -999.0,-999.0000,-999.000,  1.6297,-999.000
   31WTTUNES_2,  P16S,   208,  1,     28,     28,2,19910821,1842,-23.5033,-150.4950, 4428,   2774.5,   1.7483,  34.6656,2,  34.6654,2,    153.9,2,    155.5,2,   131.29,2,    35.24,2,     0.00,2,     2.49,2, -999.000,9, -999.000,9, -999.000,9,-999.0000,9,  -999.00,9,   -999.0,9,   -999.0,9,   -999.0,9,   -999.0,9,   -999.0,9, -999.00,  -999.0,-999.0000,-999.000,  1.5476,-999.000
   31WTTUNES_2,  P16S,   208,  1,     29,     29,2,19910821,1842,-23.5033,-150.4950, 4428,   2983.3,   1.6851,  34.6710,2,  34.6710,2,    160.8,2,    159.7,2,   132.57,2,    35.06,2,     0.00,2,     2.48,2, -999.000,9, -999.000,9, -999.000,9,-999.0000,9,  -999.00,9,   -999.0,9,   -999.0,9,   -999.0,9,   -999.0,9,   -999.0,9, -999.00,  -999.0,-999.0000,-999.000,  1.4658,-999.000
   31WTTUNES_2,  P16S,   208,  1,     30,     30,2,19910821,1842,-23.5033,-150.4950, 4428,   3192.1,   1.6261,  34.6766,2,  34.6765,2,    162.8,2,    163.4,2,   132.11,2,    34.87,2,     0.00,2,     2.44,2, -999.000,9, -999.000,9, -999.000,9,-999.0000,9,  -999.00,9,   -999.0,9,   -999.0,9,   -999.0,9,   -999.0,9,   -999.0,9, -999.00,  -999.0,-999.0000,-999.000,  1.3879,-999.000
   31WTTUNES_2,  P16S,   208,  1,     31,     31,2,19910821,1842,-23.5033,-150.4950, 4428,   3400.7,   1.5554,  34.6820,2,  34.6818,2,    171.3,2,    169.9,2,   129.49,2,    34.33,2,     0.00,2,     2.40,2, -999.000,9, -999.000,9, -999.000,9,-999.0000,9,  -999.00,9,   -999.0,9,   -999.0,9,   -999.0,9,   -999.0,9,   -999.0,9, -999.00,  -999.0,-999.0000,-999.000,  1.2979,-999.000
   31WTTUNES_2,  P16S,   208,  1,     32,     32,2,19910821,1842,-23.5033,-150.4950, 4428,   3608.3,   1.5060,  34.6857,2,  34.6861,2,    173.2,2,    174.0,2,   128.16,2,    33.99,2,     0.00,2,     2.39,2, -999.000,9, -999.000,9, -999.000,9,-999.0000,9,  -999.00,9,   -999.0,9,   -999.0,9,   -999.0,9,   -999.0,9,   -999.0,9, -999.00,  -999.0,-999.0000,-999.000,  1.2285,-999.000
   31WTTUNES_2,  P16S,   208,  1,     33,     33,2,19910821,1842,-23.5033,-150.4950, 4428,   3817.0,   1.4450,  34.6904,2,  34.6902,2,    178.3,2,    179.6,2,   126.41,2,    33.56,2,     0.00,2,     2.35,2, -999.000,9, -999.000,9, -999.000,9,-999.0000,9,  -999.00,9,   -999.0,9,   -999.0,9,   -999.0,9,   -999.0,9,   -999.0,9, -999.00,  -999.0,-999.0000,-999.000,  1.1473,-999.000
   31WTTUNES_2,  P16S,   208,  1,     34,     34,2,19910821,1842,-23.5033,-150.4950, 4428,   4050.6,   1.4201,  34.6930,2,  34.6934,2,    184.6,2,    182.6,2,   125.31,2,    33.37,2,     0.00,2,     2.33,2, -999.000,9, -999.000,9, -999.000,9,-999.0000,9,  -999.00,9,   -999.0,9,   -999.0,9,   -999.0,9,   -999.0,9,   -999.0,9, -999.00,  -999.0,-999.0000,-999.000,  1.0979,-999.000
   31WTTUNES_2,  P16S,   208,  1,     39,     39,2,19910821,1842,-23.5033,-150.4950, 4428,   4285.0,   1.3784,  34.6966,2,  34.6969,2,    187.2,2,    186.8,2,   124.43,2,    33.03,2,     0.00,2,     2.31,2, -999.000,9, -999.000,9, -999.000,9,-999.0000,9,  -999.00,9,   -999.0,9,   -999.0,9,   -999.0,9,   -999.0,9,   -999.0,9, -999.00,  -999.0,-999.0000,-999.000,  1.0315,-999.000
   31WTTUNES_2,  P16S,   208,  1,     38,     38,2,19910821,1842,-23.5033,-150.4950, 4428,   4487.6,   1.3602,  34.6988,2,  34.6993,2,    190.5,2,    189.7,2,   123.33,2,    32.84,2,     0.00,2,     2.30,2, -999.000,9, -999.000,9, -999.000,9,-999.0000,9,  -999.00,9,   -999.0,9,   -999.0,9,   -999.0,9,   -999.0,9,   -999.0,9, -999.00,  -999.0,-999.0000,-999.000,  0.9909,-999.000