BOTTLE,20131125MIRCJHATS
EXPOCODE,SECT_ID,STNNBR,CASTNO,SAMPNO,BTLNBR,BTLNBR_FLAG_W,DATE,TIME,LATITUDE,LONGITUDE,DEPTH,CTDPRS,CTDTMP,CTDSAL,CTDSAL_FLAG_W,SALNTY,SALNTY_FLAG_W,CTDOXY,CTDOXY_FLAG_W,OXYGEN,OXYGEN_FLAG_W,SILCAT,SILCAT_FLAG_W,NITRAT,NITRAT_FLAG_W,NITRIT,NITRIT_FLAG_W,PHSPHT,PHSPHT_FLAG_W,CFC-11,CFC-11_FLAG_W,CFC-12,CFC-12_FLAG_W,TRITUM,TRITUM_FLAG_W,HELIUM,HELIUM_FLAG_W,DELHE3,DELHE3_FLAG_W,DELC14,DELC14_FLAG_W,DELC13,DELC13_FLAG_W,TCARBN,TCARBN_FLAG_W,PCO2,PCO2_FLAG_W,ALKALI,ALKALI_FLAG_W,PCO2TMP,C14ERR,HELIER,DELHER,THETA,TRITER
,,,,,,,,,,,,DBAR,ITS-90,PSS-78,,PSS-78,,UMOL/KG,,UMOL/KG,,UMOL/KG,,UMOL/KG,,UMOL/KG,,UMOL/KG,,PMOL/KG,,PMOL/KG,,TU,,NMOL/KG,,PERCNT,,/MILLE,,/MILLE,,UMOL/KG,,UATM,,UMOL/KG,,DEG C,/MILLE,NMOL/KG,PERCNT,DEG C,TU
   31WTTUNES_2,  P17S,   144,  1,      1,      1,2,19910728,1141,-15.8900,-133.7933, 4224,      2.7,  26.5154,  36.5367,2,  36.5404,2,   -999.0,9,    209.7,2,     1.46,2,     0.10,2,     0.00,2,     0.23,2,    1.602,2,    0.921,2, -999.000,9,-999.0000,9,  -999.00,9,   -999.0,9,   -999.0,9,   2029.0,2,    258.1,2,   -999.0,9,   20.00,  -999.0,-999.0000,-999.000, 26.5148,-999.000
   31WTTUNES_2,  P17S,   144,  1,      2,      2,2,19910728,1141,-15.8900,-133.7933, 4224,     34.0,  26.5117,  36.5543,2,  36.5674,2,    210.1,2,    208.6,2,     1.46,2,     0.10,2,     0.00,2,     0.23,2,    1.588,2,    0.915,2, -999.000,9,-999.0000,9,  -999.00,9,   -999.0,9,   -999.0,9,   2028.3,2,    254.5,2,   -999.0,9,   20.00,  -999.0,-999.0000,-999.000, 26.5040,-999.000
   31WTTUNES_2,  P17S,   144,  1,      3,      3,2,19910728,1141,-15.8900,-133.7933, 4224,     74.2,  26.4369,  36.5912,2,  36.5945,2,    211.0,2,    207.6,2,     1.46,2,     0.10,2,     0.00,2,     0.23,2,    1.603,8,    0.912,2, -999.000,9,-999.0000,9,  -999.00,9,   -999.0,9,   -999.0,9,   2032.5,2,    251.3,2,   -999.0,9,   20.00,  -999.0,-999.0000,-999.000, 26.4201,-999.000
   31WTTUNES_2,  P17S,   144,  1,      4,      4,2,19910728,1141,-15.8900,-133.7933, 4224,    115.9,  25.5320,  36.4823,2,  36.4632,2,    213.9,2,    206.8,2,     1.46,2,     0.10,2,     0.05,2,     0.25,2,    1.648,8,    0.944,8, -999.000,9,-999.0000,9,  -999.00,9,   -999.0,9,   -999.0,9,   2046.0,2,    280.6,2,   -999.0,9,   20.00,  -999.0,-999.0000,-999.000, 25.5064,-999.000
   31WTTUNES_2,  P17S,   144,  1,      5,      5,2,19910728,1141,-15.8900,-133.7933, 4224,    136.1,  23.9459,  36.3071,2,  36.3085,2,    202.5,2,    198.5,2,     1.37,2,     0.10,2,     0.59,2,     0.28,2,    1.755,8,    0.971,2, -999.000,9,-999.0000,9,  -999.00,9,   -999.0,9,   -999.0,9,   2055.6,2,    299.4,2,   -999.0,9,   20.00,  -999.0,-999.0000,-999.000, 23.9172,-999.000
   31WTTUNES_2,  P17S,   144,  1,      6,      6,2,19910728,1141,-15.8900,-133.7933, 4224,    156.9,  23.1540,  36.3273,2,  36.3251,2,    192.4,2,    189.2,2,     1.37,2,     1.46,2,     0.58,2,     0.38,2,    1.755,2,    0.979,2, -999.000,9,-999.0000,9,  -999.00,9,   -999.0,9,   -999.0,9,   2079.2,2,    333.0,2,   -999.0,9,   20.00,  -999.0,-999.0000,-999.000, 23.1216,-999.000
   31WTTUNES_2,  P17S,   144,  1,      7,      7,2,19910728,1141,-15.8900,-133.7933, 4224,    207.5,  21.6478,  36.1480,2,  36.1363,2,    185.0,2,    185.6,2,     1.37,2,     3.03,2,     0.02,2,     0.44,2,    1.819,2,    0.997,2, -999.000,9,-999.0000,9,  -999.00,9,   -999.0,9,   -999.0,9,   2082.7,2,    367.2,2,   -999.0,9,   20.00,  -999.0,-999.0000,-999.000, 21.6069,-999.000
   31WTTUNES_2,  P17S,   144,  1,      8,      8,2,19910728,1141,-15.8900,-133.7933, 4224,    259.7,  18.8145,  35.6232,2,  35.6135,2,    185.8,2,    184.2,2,     1.37,2,     4.10,2,     0.01,2,     0.51,2,    1.766,2,    0.975,2, -999.000,9,-999.0000,9,  -999.00,9,   -999.0,9,   -999.0,9,   2082.4,2,    406.4,2,   -999.0,9,   20.00,  -999.0,-999.0000,-999.000, 18.7683,-999.000
   31WTTUNES_2,  P17S,   144,  1,      9,      9,2,19910728,1141,-15.8900,-133.7933, 4224,    321.0,  14.9793,  35.0406,2,  35.0266,2,    168.1,2,    165.6,2,     3.52,2,     9.67,2,     0.00,2,     0.90,2,    1.420,2,    0.770,2, -999.000,9,-999.0000,9,  -999.00,9,   -999.0,9,   -999.0,9,   2106.2,2,    536.7,2,   -999.0,9,   20.00,  -999.0,-999.0000,-999.000, 14.9306,-999.000
   31WTTUNES_2,  P17S,   144,  1,     10,     10,2,19910728,1141,-15.8900,-133.7933, 4224,    382.9,  10.3773,  34.5606,2,  34.5527,2,    118.1,2,    111.3,2,    13.20,2,    22.97,2,     0.00,2,     1.88,2,    0.525,2,    0.289,2, -999.000,9,-999.0000,9,  -999.00,9,   -999.0,9,   -999.0,9,   2179.9,2,    998.8,2,   -999.0,9,   20.00,  -999.0,-999.0000,-999.000, 10.3317,-999.000
   31WTTUNES_2,  P17S,   144,  1,     11,     11,2,19910728,1141,-15.8900,-133.7933, 4224,    453.8,   7.9588,  34.4779,2,  34.4789,2,     86.7,2,     89.8,2,    23.66,2,    32.16,2,     0.00,2,     2.39,2,    0.067,2,    0.052,2, -999.000,9,-999.0000,9,  -999.00,9,   -999.0,9,   -999.0,9,   2224.7,2,   1366.8,2,   -999.0,9,   20.00,  -999.0,-999.0000,-999.000,  7.9126,-999.000
   31WTTUNES_2,  P17S,   144,  1,     12,     12,2,19910728,1141,-15.8900,-133.7933, 4224,    484.4,   7.4256,  34.4790,2,  34.4787,2,     88.5,2,     93.1,2,    26.69,2,    33.63,2,     0.00,2,     2.43,2,    0.033,2,    0.027,2, -999.000,9,-999.0000,9,  -999.00,9,   -999.0,9,   -999.0,9,   2230.0,2,   1349.1,2,   -999.0,9,   20.00,  -999.0,-999.0000,-999.000,  7.3782,-999.000
   31WTTUNES_2,  P17S,   144,  1,     13,     13,2,19910728,1141,-15.8900,-133.7933, 4224,    534.9,   6.8423,  34.4733,2,  34.4736,2,     93.5,2,     98.3,2,    30.01,2,    34.80,2,     0.00,2,     2.48,2,    0.015,2,    0.012,2, -999.000,9,-999.0000,9,  -999.00,9,   -999.0,9,   -999.0,9,   2231.1,2,   1350.3,2,   -999.0,9,   20.00,  -999.0,-999.0000,-999.000,  6.7921,-999.000
   31WTTUNES_2,  P17S,   144,  1,     37,     37,2,19910728,1141,-15.8900,-133.7933, 4224,    615.6,   6.2781,  34.4721,2,  34.4734,2,     97.4,2,     98.2,2,    36.56,2,    36.27,2,     0.00,2,     2.56,2,    0.004,2,    0.002,7, -999.000,9,-999.0000,9,  -999.00,9,   -999.0,9,   -999.0,9,   2240.3,2,   1378.8,2,   -999.0,9,   20.00,  -999.0,-999.0000,-999.000,  6.2226,-999.000
   31WTTUNES_2,  P17S,   144,  1,     15,     15,2,19910728,1141,-15.8900,-133.7933, 4224,    717.1,   5.7249,  34.4849,2,  34.4844,2,     94.5,2,     93.4,2,    46.24,2,    37.54,2,     0.00,2,     2.67,2,    0.001,2,   -0.002,2, -999.000,9,-999.0000,9,  -999.00,9,   -999.0,9,   -999.0,9,   2244.6,2,   1432.6,2,   -999.0,9,   20.00,  -999.0,-999.0000,-999.000,  5.6627,-999.000
   31WTTUNES_2,  P17S,   144,  1,     16,     16,2,19910728,1141,-15.8900,-133.7933, 4224,    819.9,   5.1810,  34.4917,2,  34.4921,2,     90.6,2,     90.8,2,    56.89,2,    38.91,2,     0.00,2,     2.77,2,    0.002,2,   -0.003,2, -999.000,9,-999.0000,9,  -999.00,9,   -999.0,9,   -999.0,9,   2264.3,2,   1477.3,2,   -999.0,9,   20.00,  -999.0,-999.0000,-999.000,  5.1126,-999.000
   31WTTUNES_2,  P17S,   144,  1,     17,     17,2,19910728,1141,-15.8900,-133.7933, 4224,    920.3,   4.8152,  34.5020,2,  34.5044,2,     89.7,2,     90.3,2,    64.91,2,    39.40,2,     0.00,2,     2.81,2,    0.001,2,   -0.002,2, -999.000,9,-999.0000,9,  -999.00,9,   -999.0,9,   -999.0,9,   2251.4,2,   1499.5,2,   -999.0,9,   20.00,  -999.0,-999.0000,-999.000,  4.7404,-999.000
   31WTTUNES_2,  P17S,   144,  1,     18,     18,2,19910728,1141,-15.8900,-133.7933, 4224,   1021.2,   4.3995,  34.5168,2,  34.5176,2,     90.5,2,     89.3,2,    74.20,2,    39.88,2,     0.00,2,     2.87,2,    0.002,8,    0.000,2, -999.000,9,-999.0000,9,  -999.00,9,   -999.0,9,   -999.0,9,   2286.5,2,   1525.0,2,   -999.0,9,   20.00,  -999.0,-999.0000,-999.000,  4.3190,-999.000
   31WTTUNES_2,  P17S,   144,  1,     19,     19,2,19910728,1141,-15.8900,-133.7933, 4224,   1122.0,   3.9864,  34.5333,2,  34.5339,2,     95.0,2,     95.1,2,    83.58,2,    39.59,2,     0.00,2,     2.85,2, -999.000,9, -999.000,9, -999.000,9,-999.0000,9,  -999.00,9,   -999.0,9,   -999.0,9,   2294.0,2,   1493.9,2,   -999.0,9,   20.00,  -999.0,-999.0000,-999.000,  3.9006,-999.000
   31WTTUNES_2,  P17S,   144,  1,     20,     20,2,19910728,1141,-15.8900,-133.7933, 4224,   1220.6,   3.6974,  34.5465,2,  34.5472,2,     99.0,2,     99.2,2,    90.13,2,    39.30,2,     0.00,2,     2.83,2, -999.000,9, -999.000,9, -999.000,9,-999.0000,9,  -999.00,9,   -999.0,9,   -999.0,9,   2299.3,2,   1475.4,2,   -999.0,9,   20.00,  -999.0,-999.0000,-999.000,  3.6058,-999.000
   31WTTUNES_2,  P17S,   144,  1,     21,     21,2,19910728,1141,-15.8900,-133.7933, 4224,   1318.9,   3.4029,  34.5609,2,  34.5590,2,    102.8,2,    104.9,2,    96.58,2,    38.90,2,     0.00,2,     2.81,2, -999.000,9, -999.000,9, -999.000,9,-999.0000,9,  -999.00,9,   -999.0,9,   -999.0,9,   2301.2,2,   1449.9,2,   -999.0,9,   20.00,  -999.0,-999.0000,-999.000,  3.3058,-999.000
   31WTTUNES_2,  P17S,   144,  1,     22,     22,2,19910728,1141,-15.8900,-133.7933, 4224,   1517.0,   2.9990,  34.5813,2,  34.5802,2,    115.6,2,    113.6,2,   105.08,2,    38.22,2,     0.00,2,     2.76,2, -999.000,9, -999.000,9, -999.000,9,-999.0000,9,  -999.00,9,   -999.0,9,   -999.0,9,   2305.7,2,   1399.9,2,   -999.0,9,   20.00,  -999.0,-999.0000,-999.000,  2.8898,-999.000
   31WTTUNES_2,  P17S,   144,  1,     23,     23,2,19910728,1141,-15.8900,-133.7933, 4224,   1716.3,   2.5973,  34.6025,2,  34.6032,2,    130.2,2,    129.4,2,   112.02,2,    36.85,2,     0.00,2,     2.64,2, -999.000,9, -999.000,9, -999.000,9,-999.0000,9,  -999.00,9,   -999.0,9,   -999.0,9,   2303.6,2,   1312.7,2,   -999.0,9,   20.00,  -999.0,-999.0000,-999.000,  2.4762,-999.000
   31WTTUNES_2,  P17S,   144,  1,     24,     24,2,19910728,1141,-15.8900,-133.7933, 4224,   1919.8,   2.2021,  34.6301,2,  34.6299,2,    142.5,2,    141.7,2,   118.37,2,    35.97,2,     0.00,2,     2.56,2, -999.000,9, -999.000,9, -999.000,9,-999.0000,9,  -999.00,9,   -999.0,9,   -999.0,9,   -999.0,5,   -999.0,5,   -999.0,9, -999.00,  -999.0,-999.0000,-999.000,  2.0694,-999.000
   31WTTUNES_2,  P17S,   144,  1,     25,     25,2,19910728,1141,-15.8900,-133.7933, 4224,   2122.3,   1.9920,  34.6493,2,  34.6496,2,    148.4,2,    148.0,2,   124.04,2,    35.68,2,     0.00,2,     2.52,2, -999.000,9, -999.000,9, -999.000,9,-999.0000,9,  -999.00,9,   -999.0,9,   -999.0,9,   2307.6,2,   1208.2,2,   -999.0,9,   20.00,  -999.0,-999.0000,-999.000,  1.8452,-999.000
   31WTTUNES_2,  P17S,   144,  1,     26,     26,2,19910728,1141,-15.8900,-133.7933, 4224,   2326.0,   1.8927,  34.6571,2,  34.6568,2,    152.2,2,    152.7,2,   125.99,2,    35.29,2,     0.00,2,     2.49,2, -999.000,9, -999.000,9, -999.000,9,-999.0000,9,  -999.00,9,   -999.0,9,   -999.0,9,   -999.0,5,   -999.0,5,   -999.0,9, -999.00,  -999.0,-999.0000,-999.000,  1.7299,-999.000
   31WTTUNES_2,  P17S,   144,  1,     27,     27,2,19910728,1141,-15.8900,-133.7933, 4224,   2528.7,   1.8169,  34.6642,2,  34.6635,2,    155.4,2,    154.3,2,   128.63,2,    35.09,2,     0.00,2,     2.48,2, -999.000,9, -999.000,9, -999.000,9,-999.0000,9,  -999.00,9,   -999.0,9,   -999.0,9,   2306.1,2,   1174.0,2,   -999.0,9,   20.00,  -999.0,-999.0000,-999.000,  1.6374,-999.000
   31WTTUNES_2,  P17S,   144,  1,     28,     28,2,19910728,1141,-15.8900,-133.7933, 4224,   2734.4,   1.7286,  34.6721,2,  34.6716,2,    154.9,2,    155.8,2,   132.25,2,    35.09,2,     0.00,2,     2.47,2, -999.000,9, -999.000,9, -999.000,9,-999.0000,9,  -999.00,9,   -999.0,9,   -999.0,9,   2320.8,2,   1162.9,2,   -999.0,9,   20.00,  -999.0,-999.0000,-999.000,  1.5319,-999.000
   31WTTUNES_2,  P17S,   144,  1,     29,     29,2,19910728,1141,-15.8900,-133.7933, 4224,   2939.8,   1.6785,  34.6762,2,  34.6759,2,    156.6,2,    157.9,2,   133.22,2,    34.89,2,     0.00,2,     2.45,2, -999.000,9, -999.000,9, -999.000,9,-999.0000,9,  -999.00,9,   -999.0,9,   -999.0,9,   -999.0,5,   -999.0,5,   -999.0,9, -999.00,  -999.0,-999.0000,-999.000,  1.4636,-999.000
   31WTTUNES_2,  P17S,   144,  1,     30,     30,2,19910728,1141,-15.8900,-133.7933, 4224,   3145.7,   1.6408,  34.6793,2,  34.6804,2,    159.5,2,    160.0,2,   134.00,2,    34.80,2,     0.00,2,     2.45,2, -999.000,9, -999.000,9, -999.000,9,-999.0000,9,  -999.00,9,   -999.0,9,   -999.0,9,   2311.3,2,   1141.9,2,   -999.0,9,   20.00,  -999.0,-999.0000,-999.000,  1.4067,-999.000
   31WTTUNES_2,  P17S,   144,  1,     31,     31,2,19910728,1141,-15.8900,-133.7933, 4224,   3353.1,   1.6076,  34.6825,2,  34.6824,2,    161.8,2,    161.4,2,   134.20,2,    34.70,2,     0.00,2,     2.44,2, -999.000,9, -999.000,9, -999.000,9,-999.0000,9,  -999.00,9,   -999.0,9,   -999.0,9,   2309.9,2,   1132.6,2,   -999.0,9,   20.00,  -999.0,-999.0000,-999.000,  1.3537,-999.000
   31WTTUNES_2,  P17S,   144,  1,     32,     32,2,19910728,1141,-15.8900,-133.7933, 4224,   3561.2,   1.5628,  34.6849,2,  34.6838,2,    163.7,2,    164.6,2,   134.10,2,    34.50,2,     0.00,2,     2.42,2, -999.000,9, -999.000,9, -999.000,9,-999.0000,9,  -999.00,9,   -999.0,9,   -999.0,9,   -999.0,5,   -999.0,5,   -999.0,9, -999.00,  -999.0,-999.0000,-999.000,  1.2887,-999.000
   31WTTUNES_2,  P17S,   144,  1,     33,     33,2,19910728,1141,-15.8900,-133.7933, 4224,   3767.3,   1.5564,  34.6868,2,  34.6855,2,    165.0,2,    166.5,2,   134.10,2,    34.31,2,     0.00,2,     2.42,2, -999.000,9, -999.000,9, -999.000,9,-999.0000,9,  -999.00,9,   -999.0,9,   -999.0,9,   2306.2,2,   1119.1,2,   -999.0,9,   20.00,  -999.0,-999.0000,-999.000,  1.2609,-999.000
   31WTTUNES_2,  P17S,   144,  1,     34,     34,2,19910728,1141,-15.8900,-133.7933, 4224,   3977.9,   1.5580,  34.6873,2,  34.6879,2,    167.8,2,    167.8,2,   134.10,2,    34.21,2,     0.00,2,     2.41,2, -999.000,9, -999.000,9, -999.000,9,-999.0000,9,  -999.00,9,   -999.0,9,   -999.0,9,   2305.2,2,   1114.7,2,   -999.0,9,   20.00,  -999.0,-999.0000,-999.000,  1.2398,-999.000
   31WTTUNES_2,  P17S,   144,  1,     35,     35,2,19910728,1141,-15.8900,-133.7933, 4224,   4186.7,   1.5715,  34.6881,2,  34.6873,2,    169.2,2,    168.3,2,   134.00,2,    34.41,2,     0.00,2,     2.41,2, -999.000,9, -999.000,9, -999.000,9,-999.0000,9,  -999.00,9,   -999.0,9,   -999.0,9,   -999.0,5,   -999.0,5,   -999.0,9, -999.00,  -999.0,-999.0000,-999.000,  1.2299,-999.000
   31WTTUNES_2,  P17S,   144,  1,     36,     36,2,19910728,1141,-15.8900,-133.7933, 4224,   4336.4,   1.5850,  34.6884,2,  34.6887,2,    168.6,2,    168.5,2,   134.59,2,    34.40,2,     0.00,2,     2.43,2, -999.000,9, -999.000,9, -999.000,9,-999.0000,9,  -999.00,9,   -999.0,9,   -999.0,9,   2308.1,2,   1117.8,2,   -999.0,9,   20.00,  -999.0,-999.0000,-999.000,  1.2261,-999.000