BOTTLE,20131125MIRCJHATS
EXPOCODE,SECT_ID,STNNBR,CASTNO,SAMPNO,BTLNBR,BTLNBR_FLAG_W,DATE,TIME,LATITUDE,LONGITUDE,DEPTH,CTDPRS,CTDTMP,CTDSAL,CTDSAL_FLAG_W,SALNTY,SALNTY_FLAG_W,CTDOXY,CTDOXY_FLAG_W,OXYGEN,OXYGEN_FLAG_W,SILCAT,SILCAT_FLAG_W,NITRAT,NITRAT_FLAG_W,NITRIT,NITRIT_FLAG_W,PHSPHT,PHSPHT_FLAG_W,CFC-11,CFC-11_FLAG_W,CFC-12,CFC-12_FLAG_W,TRITUM,TRITUM_FLAG_W,HELIUM,HELIUM_FLAG_W,DELHE3,DELHE3_FLAG_W,DELC14,DELC14_FLAG_W,DELC13,DELC13_FLAG_W,TCARBN,TCARBN_FLAG_W,PCO2,PCO2_FLAG_W,ALKALI,ALKALI_FLAG_W,PCO2TMP,C14ERR,HELIER,DELHER,THETA,TRITER
,,,,,,,,,,,,DBAR,ITS-90,PSS-78,,PSS-78,,UMOL/KG,,UMOL/KG,,UMOL/KG,,UMOL/KG,,UMOL/KG,,UMOL/KG,,PMOL/KG,,PMOL/KG,,TU,,NMOL/KG,,PERCNT,,/MILLE,,/MILLE,,UMOL/KG,,UATM,,UMOL/KG,,DEG C,/MILLE,NMOL/KG,PERCNT,DEG C,TU
   31WTTUNES_2,  P16S,   198,  2,     61,     61,2,19910818,2321,-28.4967,-150.4967, 4758,      0.8,  19.4267,  35.5855,2,  35.5837,2,   -999.0,9,    228.0,2,     1.22,2,     0.15,2,     0.00,2,     0.07,2,    2.182,2,    1.189,2, -999.000,9,-999.0000,9,  -999.00,9,    117.4,2,      1.4,2,   2017.2,2,    306.5,2,   2303.9,2,   20.00,     4.2,-999.0000,-999.000, 19.4266,-999.000
   31WTTUNES_2,  P16S,   198,  2,      2,      2,2,19910818,2321,-28.4967,-150.4967, 4758,     44.5,  19.1957,  35.5870,2,  35.5896,2,    224.5,2,    228.2,2,     1.22,2,     0.16,2,     0.00,2,     0.08,2,    2.172,6,    1.196,6, -999.000,9,-999.0000,9,  -999.00,9,   -999.0,9,   -999.0,9,   2019.2,2,    306.0,2,   -999.0,9,   20.00,  -999.0,-999.0000,-999.000, 19.1877,-999.000
   31WTTUNES_2,  P16S,   198,  2,      3,      3,2,19910818,2321,-28.4967,-150.4967, 4758,     74.1,  18.8847,  35.5540,2,  35.5569,2,    230.7,2,    228.3,2,     1.22,2,     0.17,2,     0.00,2,     0.08,2,    2.195,2,    1.215,2, -999.000,9,-999.0000,9,  -999.00,9,   -999.0,9,   -999.0,9,   2025.8,2,    311.8,2,   2333.2,2,   20.00,  -999.0,-999.0000,-999.000, 18.8716,-999.000
   31WTTUNES_2,  P16S,   198,  2,     64,     64,2,19910818,2321,-28.4967,-150.4967, 4758,    114.4,  18.1997,  35.5265,2,  35.5287,2,    232.6,2,    231.7,2,     1.01,2,     0.19,2,     0.00,2,     0.10,2,    2.278,6,    1.242,6, -999.000,9,-999.0000,9,  -999.00,9,   -999.0,9,   -999.0,9,   2027.6,2,    321.9,2,   -999.0,9,   20.00,  -999.0,-999.0000,-999.000, 18.1799,-999.000
   31WTTUNES_2,  P16S,   198,  2,      5,      5,2,19910818,2321,-28.4967,-150.4967, 4758,    154.6,  17.7788,  35.4864,2,  35.4835,2,    228.7,2,    225.6,2,     1.01,2,     0.69,2,     0.02,2,     0.15,2,    2.249,2,    1.227,2, -999.000,9,-999.0000,9,  -999.00,9,    120.5,2,      1.3,2,   2035.1,2,    342.6,2,   -999.0,9,   20.00,     5.8,-999.0000,-999.000, 17.7524,-999.000
   31WTTUNES_2,  P16S,   198,  2,      6,      6,2,19910818,2321,-28.4967,-150.4967, 4758,    185.8,  17.4308,  35.4499,2,  35.4520,2,    218.1,2,    224.8,2,     1.01,2,     0.99,2,     0.02,2,     0.16,2,    2.253,6,    1.227,6, -999.000,9,-999.0000,9,  -999.00,9,    122.9,2,      1.4,2,   2041.0,2,    350.6,2,   -999.0,9,   20.00,     5.8,-999.0000,-999.000, 17.3995,-999.000
   31WTTUNES_2,  P16S,   198,  2,      7,      7,2,19910818,2321,-28.4967,-150.4967, 4758,    227.4,  16.2859,  35.4030,2,  35.4052,2,    202.2,2,    204.5,2,     1.62,2,     3.78,2,     0.01,2,     0.38,2,    2.023,2,    1.093,2, -999.000,9,-999.0000,9,  -999.00,9,    107.5,2,      1.3,2,   2068.6,2,    413.2,2,   2267.7,2,   20.00,     5.2,-999.0000,-999.000, 16.2493,-999.000
   31WTTUNES_2,  P16S,   198,  2,     68,     68,2,19910818,2321,-28.4967,-150.4967, 4758,    268.9,  15.0291,  35.2892,2,  35.2911,2,    196.4,2,    194.2,2,     2.03,2,     7.04,2,     0.00,2,     0.59,2,    1.703,2,    0.921,2, -999.000,9,-999.0000,9,  -999.00,9,    109.3,2,      1.3,2,   2087.8,2,    456.6,2,   -999.0,9,   20.00,     4.9,-999.0000,-999.000, 14.9881,-999.000
   31WTTUNES_2,  P16S,   198,  2,     69,     69,2,19910818,2321,-28.4967,-150.4967, 4758,    309.7,  13.8113,  35.1457,2,  35.1542,2,    193.5,2,    193.8,2,     3.04,2,     9.22,2,     0.00,2,     0.72,2,    1.591,2,    0.850,2, -999.000,9,-999.0000,9,  -999.00,9,   -999.0,9,   -999.0,9,   2096.2,2,    497.5,2,   2307.1,2,   20.00,  -999.0,-999.0000,-999.000, 13.7668,-999.000
   31WTTUNES_2,  P16S,   198,  2,     70,     70,2,19910818,2321,-28.4967,-150.4967, 4758,    359.8,  11.7179,  34.8940,2,  34.8977,2,    195.4,2,    196.0,2,     4.06,2,    13.37,2,     0.00,2,     0.98,2,    1.319,2,    0.705,2, -999.000,9,-999.0000,9,  -999.00,9,     61.8,2,      1.3,2,   2112.0,2,    577.3,2,   -999.0,9,   20.00,     4.2,-999.0000,-999.000, 11.6714,-999.000
   31WTTUNES_2,  P16S,   198,  2,     11,     11,2,19910818,2321,-28.4967,-150.4967, 4758,    412.0,  10.5473,  34.7508,2,  34.7444,2,    198.7,2,    200.8,2,     4.87,2,    15.92,2,     0.00,2,     1.14,2,    1.164,2,    0.619,2, -999.000,9,-999.0000,9,  -999.00,9,     50.0,2,      1.0,4,   2118.8,2,    623.3,2,   2285.0,2,   20.00,     4.2,-999.0000,-999.000, 10.4975,-999.000
   31WTTUNES_2,  P16S,   198,  2,     12,     12,2,19910818,2321,-28.4967,-150.4967, 4758,    488.4,   8.7020,  34.5570,2,  34.5555,2,    211.7,2,    214.9,2,     5.88,2,    18.95,2,     0.00,2,     1.32,2,    1.142,2,    0.613,2, -999.000,9,-999.0000,9,  -999.00,9,     27.4,2,      1.3,2,   2125.2,2,    675.2,2,   -999.0,9,   20.00,     5.9,-999.0000,-999.000,  8.6494,-999.000
   31WTTUNES_2,  P16S,   198,  2,     13,     13,2,19910818,2321,-28.4967,-150.4967, 4758,    565.8,   7.4915,  34.4452,2,  34.4480,2,    225.6,2,    227.5,2,     7.31,2,    21.23,2,     0.00,2,     1.45,2,    0.960,2,    0.516,2, -999.000,9,-999.0000,9,  -999.00,9,   -999.0,9,   -999.0,9,   2130.0,2,    706.4,2,   2279.2,2,   20.00,  -999.0,-999.0000,-999.000,  7.4355,-999.000
   31WTTUNES_2,  P16S,   198,  2,     37,     37,2,19910818,2321,-28.4967,-150.4967, 4758,    643.4,   6.8628,  34.3927,2,  34.3924,2,    236.5,2,    234.0,2,     8.73,2,    22.67,2,     0.00,2,     1.55,2,    0.774,2,    0.422,2, -999.000,9,-999.0000,9,  -999.00,9,     -7.1,2,      1.3,2,   2138.5,2,    723.1,2,   -999.0,9,   20.00,     5.2,-999.0000,-999.000,  6.8019,-999.000
   31WTTUNES_2,  P16S,   198,  2,     15,     15,2,19910818,2321,-28.4967,-150.4967, 4758,    719.6,   6.4270,  34.3602,2,  34.3604,2,    233.9,2,    233.1,2,    10.55,2,    23.91,2,     0.00,2,     1.63,2,    0.551,2,    0.307,2, -999.000,9,-999.0000,9,  -999.00,9,    -31.4,2,      1.3,2,   2136.8,2,    741.5,2,   2276.4,2,   20.00,     4.3,-999.0000,-999.000,  6.3609,-999.000
   31WTTUNES_2,  P16S,   198,  2,     16,     16,2,19910818,2321,-28.4967,-150.4967, 4758,    822.3,   5.6604,  34.3226,2,  34.3243,2,    224.1,2,    223.4,2,    16.24,2,    26.63,2,     0.00,2,     1.82,2,    0.258,2,    0.153,2, -999.000,9,-999.0000,9,  -999.00,9,    -60.6,2,      1.3,2,   2152.8,2,    812.1,2,   -999.0,9,   20.00,     3.3,-999.0000,-999.000,  5.5891,-999.000
   31WTTUNES_2,  P16S,   198,  2,     17,     17,2,19910818,2321,-28.4967,-150.4967, 4758,    925.5,   5.0708,  34.3232,2,  34.3232,2,    210.7,2,    207.8,2,    24.57,2,    29.18,2,     0.00,2,     2.00,2,    0.107,2,    0.068,2, -999.000,9,-999.0000,9,  -999.00,9,   -999.0,9,   -999.0,9,   2172.0,2,    890.2,2,   2279.9,2,   20.00,  -999.0,-999.0000,-999.000,  4.9939,-999.000
   31WTTUNES_2,  P16S,   198,  2,     18,     18,2,19910818,2321,-28.4967,-150.4967, 4758,   1028.0,   4.6130,  34.3372,2,  34.3391,2,    198.6,2,    197.2,2,    32.28,2,    31.02,2,     0.00,2,     2.11,2,    0.053,2,    0.040,2, -999.000,9,-999.0000,9,  -999.00,9,   -112.7,2,      0.9,2,   2196.9,2,    942.3,2,   -999.0,9,   20.00,     3.5,-999.0000,-999.000,  4.5305,-999.000
   31WTTUNES_2,  P16S,   198,  2,     19,     19,2,19910818,2321,-28.4967,-150.4967, 4758,   1130.7,   4.0114,  34.3767,2,  34.3793,2,    185.4,2,    185.2,2,    44.68,2,    32.77,2,     0.00,2,     2.24,2,    0.019,2,    0.013,2, -999.000,9,-999.0000,9,  -999.00,9,   -999.0,9,   -999.0,9,   2203.8,2,   1034.7,2,   2297.8,2,   20.00,  -999.0,-999.0000,-999.000,  3.9249,-999.000
   31WTTUNES_2,  P16S,   198,  2,     20,     20,2,19910818,2321,-28.4967,-150.4967, 4758,   1284.3,   3.3328,  34.4463,2,  34.4182,3,    174.4,2,    177.5,2,    55.88,2,    33.61,2,     0.00,2,     2.31,2,    0.010,2,    0.009,2, -999.000,9,-999.0000,9,  -999.00,9,   -137.2,2,      0.6,2,   2229.4,2,   1066.0,2,   -999.0,9,   20.00,     7.0,-999.0000,-999.000,  3.2396,-999.000
   31WTTUNES_2,  P16S,   198,  2,     21,     21,2,19910818,2321,-28.4967,-150.4967, 4758,   1439.5,   2.8771,  34.5121,2,  34.5087,2,    167.2,2,    166.3,2,    77.74,2,    34.36,2,     0.00,2,     2.40,2, -999.000,9, -999.000,9, -999.000,9,-999.0000,9,  -999.00,9,   -162.0,2,      0.5,2,   2263.9,2,   1134.7,2,   2330.9,2,   20.00,     2.8,-999.0000,-999.000,  2.7758,-999.000
   31WTTUNES_2,  P16S,   198,  2,     22,     22,2,19910818,2321,-28.4967,-150.4967, 4758,   1645.8,   2.5453,  34.5737,2,  34.5727,2,    157.6,2,    158.9,2,    95.23,2,    34.81,2,     0.00,2,     2.44,2, -999.000,9, -999.000,9, -999.000,9,-999.0000,9,  -999.00,9,   -181.2,2,      0.3,2,   2274.2,2,   1156.8,2,   -999.0,9,   20.00,     2.7,-999.0000,-999.000,  2.4309,-999.000
   31WTTUNES_2,  P16S,   198,  2,     24,     24,2,19910818,2321,-28.4967,-150.4967, 4758,   1851.9,   2.2585,  34.6191,2,  34.6187,2,    152.7,2,    152.7,2,   109.96,2,    35.08,2,     0.00,2,     2.47,2, -999.000,9, -999.000,9, -999.000,9,-999.0000,9,  -999.00,9,   -203.3,2,      0.2,2,   2294.0,2,   1171.5,2,   2376.5,2,   20.00,     2.7,-999.0000,-999.000,  2.1307,-999.000
   31WTTUNES_2,  P16S,   198,  2,     25,     25,2,19910818,2321,-28.4967,-150.4967, 4758,   2057.9,   2.0936,  34.6383,2,  34.6383,2,    150.6,2,    149.9,2,   119.80,2,    35.44,2,     0.00,2,     2.50,2, -999.000,9, -999.000,9, -999.000,9,-999.0000,9,  -999.00,9,   -215.5,2,      0.1,2,   2303.8,2,   1180.0,2,   2381.9,2,   20.00,     3.7,-999.0000,-999.000,  1.9508,-999.000
   31WTTUNES_2,  P16S,   198,  2,     26,     26,2,19910818,2321,-28.4967,-150.4967, 4758,   2317.2,   1.9577,  34.6500,2,  34.6503,2,    149.4,2,    149.0,2,   127.39,2,    35.71,2,     0.00,2,     2.52,2, -999.000,9, -999.000,9, -999.000,9,-999.0000,9,  -999.00,9,   -999.0,9,   -999.0,9,   2312.8,2,   1188.7,2,   -999.0,9,   20.00,  -999.0,-999.0000,-999.000,  1.7946,-999.000
   31WTTUNES_2,  P16S,   198,  2,     27,     27,2,19910818,2321,-28.4967,-150.4967, 4758,   2574.8,   1.8268,  34.6606,2,  34.6619,2,    150.6,2,    150.6,2,   131.84,2,    35.63,2,     0.00,2,     2.51,2, -999.000,9, -999.000,9, -999.000,9,-999.0000,9,  -999.00,9,   -219.9,2,      0.1,2,   2311.4,2,   1176.7,2,   2394.1,2,   20.00,     3.6,-999.0000,-999.000,  1.6429,-999.000
   31WTTUNES_2,  P16S,   198,  2,     28,     28,2,19910818,2321,-28.4967,-150.4967, 4758,   2834.9,   1.7428,  34.6687,2,  34.6690,2,    154.0,2,    153.0,2,   133.33,2,    35.50,2,     0.00,2,     2.49,2, -999.000,9, -999.000,9, -999.000,9,-999.0000,9,  -999.00,9,   -999.0,9,   -999.0,9,   2315.5,2,   1162.1,2,   -999.0,9,   20.00,  -999.0,-999.0000,-999.000,  1.5365,-999.000
   31WTTUNES_2,  P16S,   198,  2,     29,     29,2,19910818,2321,-28.4967,-150.4967, 4758,   3092.6,   1.6639,  34.6761,2,  34.6767,2,    159.1,2,    158.9,2,   132.92,2,    35.13,2,     0.00,2,     2.47,2, -999.000,9, -999.000,9, -999.000,9,-999.0000,9,  -999.00,9,   -217.7,2,      0.2,2,   2306.7,2,   1152.1,2,   2389.2,2,   20.00,     3.7,-999.0000,-999.000,  1.4345,-999.000
   31WTTUNES_2,  P16S,   198,  2,     30,     30,2,19910818,2321,-28.4967,-150.4967, 4758,   3352.6,   1.5550,  34.6847,2,  34.6853,2,    168.9,2,    169.6,2,   129.74,2,    34.42,2,     0.00,2,     2.40,2, -999.000,9, -999.000,9, -999.000,9,-999.0000,9,  -999.00,9,   -214.2,2,      0.0,3,   2296.8,2,   1100.1,2,   -999.0,9,   20.00,     3.9,-999.0000,-999.000,  1.3024,-999.000
   31WTTUNES_2,  P16S,   198,  2,     31,     31,2,19910818,2321,-28.4967,-150.4967, 4758,   3613.9,   1.4470,  34.6925,2,  34.6918,2,    177.6,2,    178.3,2,   126.15,2,    33.66,2,     0.00,2,     2.35,2, -999.000,9, -999.000,9, -999.000,9,-999.0000,9,  -999.00,9,   -206.8,2,      0.0,3,   2290.9,2,   1087.3,2,   2312.4,3,   20.00,     3.4,-999.0000,-999.000,  1.1705,-999.000
   31WTTUNES_2,  P16S,   198,  2,     32,     32,2,19910818,2321,-28.4967,-150.4967, 4758,   3872.6,   1.3611,  34.6963,2,  34.6981,2,    184.0,2,    185.0,2,   125.10,2,    33.29,2,     0.00,2,     2.32,2, -999.000,9, -999.000,9, -999.000,9,-999.0000,9,  -999.00,9,   -191.0,2,      0.3,2,   2278.9,2,   1081.9,2,   -999.0,9,   20.00,     3.4,-999.0000,-999.000,  1.0597,-999.000
   31WTTUNES_2,  P16S,   198,  2,     33,     33,2,19910818,2321,-28.4967,-150.4967, 4758,   4185.8,   1.3161,  34.7010,2,  34.7016,2,    190.0,2,    190.2,2,   124.69,2,    32.92,2,     0.00,2,     2.30,2, -999.000,9, -999.000,9, -999.000,9,-999.0000,9,  -999.00,9,   -181.7,2,      0.2,2,   2277.9,2,   1059.5,2,   2372.6,2,   20.00,     3.4,-999.0000,-999.000,  0.9821,-999.000
   31WTTUNES_2,  P16S,   198,  2,     34,     34,2,19910818,2321,-28.4967,-150.4967, 4758,   4497.3,   1.3151,  34.7023,2,  34.7024,2,    192.8,2,    192.3,2,   124.06,2,    32.80,2,     0.00,2,     2.28,2, -999.000,9, -999.000,9, -999.000,9,-999.0000,9,  -999.00,9,   -185.6,2,      0.3,2,   2275.3,2,   1069.3,2,   -999.0,9,   20.00,     3.8,-999.0000,-999.000,  0.9461,-999.000
   31WTTUNES_2,  P16S,   198,  2,     39,     39,2,19910818,2321,-28.4967,-150.4967, 4758,   4759.6,   1.3361,  34.7031,2,  34.7036,2,    193.7,2,    193.1,2,   123.65,2,    32.77,2,     0.00,2,     2.28,2, -999.000,9, -999.000,9, -999.000,9,-999.0000,9,  -999.00,9,   -187.7,2,      0.3,2,   2273.2,2,   1056.5,2,   2374.6,2,   20.00,     3.8,-999.0000,-999.000,  0.9360,-999.000
   31WTTUNES_2,  P16S,   198,  2,     38,     38,2,19910818,2321,-28.4967,-150.4967, 4758,   5030.2,   1.3681,  34.7035,2,  34.7036,2,   -999.0,9,    193.3,2,   124.08,2,    32.89,2,     0.00,2,     2.28,2, -999.000,9, -999.000,9, -999.000,9,-999.0000,9,  -999.00,9,   -179.9,2,      0.3,2,   2275.0,2,   1057.3,2,   -999.0,9,   20.00,     3.3,-999.0000,-999.000,  0.9346,-999.000