BOTTLE,20131125MIRCJHATS
EXPOCODE,SECT_ID,STNNBR,CASTNO,SAMPNO,BTLNBR,BTLNBR_FLAG_W,DATE,TIME,LATITUDE,LONGITUDE,DEPTH,CTDPRS,CTDTMP,CTDSAL,CTDSAL_FLAG_W,SALNTY,SALNTY_FLAG_W,CTDOXY,CTDOXY_FLAG_W,OXYGEN,OXYGEN_FLAG_W,SILCAT,SILCAT_FLAG_W,NITRAT,NITRAT_FLAG_W,NITRIT,NITRIT_FLAG_W,PHSPHT,PHSPHT_FLAG_W,CFC-11,CFC-11_FLAG_W,CFC-12,CFC-12_FLAG_W,TRITUM,TRITUM_FLAG_W,HELIUM,HELIUM_FLAG_W,DELHE3,DELHE3_FLAG_W,DELC14,DELC14_FLAG_W,DELC13,DELC13_FLAG_W,TCARBN,TCARBN_FLAG_W,PCO2,PCO2_FLAG_W,ALKALI,ALKALI_FLAG_W,PCO2TMP,C14ERR,HELIER,DELHER,THETA,TRITER
,,,,,,,,,,,,DBAR,ITS-90,PSS-78,,PSS-78,,UMOL/KG,,UMOL/KG,,UMOL/KG,,UMOL/KG,,UMOL/KG,,UMOL/KG,,PMOL/KG,,PMOL/KG,,TU,,NMOL/KG,,PERCNT,,/MILLE,,/MILLE,,UMOL/KG,,UATM,,UMOL/KG,,DEG C,/MILLE,NMOL/KG,PERCNT,DEG C,TU
   31WTTUNES_2,  P16S,   180,  2,     61,     61,2,19910812,0333,-37.5133,-150.5167, 5558,      4.2,  13.3845,  34.7426,2,  34.7463,2,    259.9,3,    257.5,2,     1.47,2,     0.88,2,     0.09,2,     0.25,2,    2.888,2,    1.540,2, -999.000,9,-999.0000,9,  -999.00,9,    108.3,2,      1.5,2,   2042.9,2,    416.6,2,   -999.0,9,   20.00,     4.2,-999.0000,-999.000, 13.3839,-999.000
   31WTTUNES_2,  P16S,   180,  2,      2,      2,2,19910812,0333,-37.5133,-150.5167, 5558,     49.3,  13.3665,  34.7438,2,  34.7453,2,    253.5,2,    257.4,2,     1.47,2,     0.88,2,     0.09,2,     0.25,2,    2.883,2,    1.547,2, -999.000,9,-999.0000,9,  -999.00,9,   -999.0,9,   -999.0,9,   2046.7,2,    413.6,2,   -999.0,9,   20.00,  -999.0,-999.0000,-999.000, 13.3596,-999.000
   31WTTUNES_2,  P16S,   180,  2,      3,      3,2,19910812,0333,-37.5133,-150.5167, 5558,     96.0,  13.3175,  34.7424,2,  34.7441,2,    256.6,2,    257.9,2,     1.27,2,     0.88,2,     0.09,2,     0.25,2,    2.957,2,    1.541,2, -999.000,9,-999.0000,9,  -999.00,9,   -999.0,9,   -999.0,9,   2046.1,2,    416.6,2,   -999.0,9,   20.00,  -999.0,-999.0000,-999.000, 13.3041,-999.000
   31WTTUNES_2,  P16S,   180,  2,      4,      4,2,19910812,0333,-37.5133,-150.5167, 5558,    132.1,  12.9634,  34.7007,2,  34.7021,2,    257.4,2,    252.3,2,     1.17,2,     2.15,2,     0.20,2,     0.34,2,    2.892,2,    1.546,2, -999.000,9,-999.0000,9,  -999.00,9,     90.8,2,      1.6,2,   2055.1,2,    434.0,2,   -999.0,9,   20.00,     4.7,-999.0000,-999.000, 12.9454,-999.000
   31WTTUNES_2,  P16S,   180,  2,      5,      5,2,19910812,0333,-37.5133,-150.5167, 5558,    172.7,  11.1843,  34.6155,2,  34.6195,2,    241.4,2,    237.5,2,     1.76,2,     8.31,2,     0.04,2,     0.70,2,    2.910,2,    1.490,2, -999.000,9,-999.0000,9,  -999.00,9,     69.8,2,      1.5,2,   2088.6,2,    531.2,2,   -999.0,9,   20.00,     3.8,-999.0000,-999.000, 11.1629,-999.000
   31WTTUNES_2,  P16S,   180,  2,      6,      6,2,19910812,0333,-37.5133,-150.5167, 5558,    202.5,   9.9592,  34.5516,2,  34.5561,2,    227.6,2,    231.7,2,     2.54,2,    12.71,2,     0.01,2,     0.95,2,    2.784,2,    1.439,2, -999.000,9,-999.0000,9,  -999.00,9,   -999.0,9,   -999.0,9,   2105.6,2,    599.4,2,   -999.0,9,   20.00,  -999.0,-999.0000,-999.000,  9.9359,-999.000
   31WTTUNES_2,  P16S,   180,  2,      7,      7,2,19910812,0333,-37.5133,-150.5167, 5558,    233.1,   9.2802,  34.5650,2,  34.5659,2,    224.5,2,    225.2,2,     3.52,2,    15.35,2,     0.00,2,     1.11,2,    2.282,2,    1.195,2, -999.000,9,-999.0000,9,  -999.00,9,     60.3,2,      1.4,2,   2122.4,2,    645.7,2,   -999.0,9,   20.00,     3.8,-999.0000,-999.000,  9.2545,-999.000
   31WTTUNES_2,  P16S,   180,  2,     68,     68,2,19910812,0333,-37.5133,-150.5167, 5558,    263.3,   8.7333,  34.5318,2,  34.5312,2,    227.6,2,    229.3,2,     4.11,2,    16.72,2,     0.00,2,     1.19,2,    2.067,2,    1.142,2, -999.000,9,-999.0000,9,  -999.00,9,   -999.0,9,   -999.0,9,   2124.1,2,    663.2,2,   -999.0,9,   20.00,  -999.0,-999.0000,-999.000,  8.7052,-999.000
   31WTTUNES_2,  P16S,   180,  2,     69,     69,2,19910812,0333,-37.5133,-150.5167, 5558,    314.9,   8.1193,  34.4922,2,  34.4931,2,    241.0,2,    240.2,2,     4.89,2,    17.69,2,     0.00,2,     1.25,2,    2.550,2,    1.303,2, -999.000,9,-999.0000,9,  -999.00,9,     43.0,2,      1.4,3,   2126.8,2,    674.8,2,   -999.0,9,   20.00,     5.2,-999.0000,-999.000,  8.0871,-999.000
   31WTTUNES_2,  P16S,   180,  2,     70,     70,2,19910812,0333,-37.5133,-150.5167, 5558,    392.6,   7.7403,  34.4691,2,  34.4682,2,    242.8,2,    242.1,2,     5.67,2,    19.16,2,     0.00,2,     1.34,2,    2.309,2,    1.178,2, -999.000,9,-999.0000,9,  -999.00,9,     76.7,4,      1.2,3,   2126.5,2,    707.2,2,   -999.0,9,   20.00,     4.5,-999.0000,-999.000,  7.7011,-999.000
   31WTTUNES_2,  P16S,   180,  2,     11,     11,2,19910812,0333,-37.5133,-150.5167, 5558,    469.4,   7.4113,  34.4421,2,  34.4415,2,    243.9,2,    244.2,2,     6.84,2,    20.04,2,     0.00,2,     1.39,2,    2.005,2,    1.050,2, -999.000,9,-999.0000,9,  -999.00,9,     37.2,2,      1.3,2,   2127.5,2,    702.5,2,   -999.0,9,   20.00,     3.8,-999.0000,-999.000,  7.3654,-999.000
   31WTTUNES_2,  P16S,   180,  2,     12,     12,2,19910812,0333,-37.5133,-150.5167, 5558,    546.0,   7.1153,  34.4150,2,  34.4140,2,    243.9,2,    244.0,2,     7.63,2,    21.12,2,     0.00,2,     1.45,2,    1.747,2,    0.904,2, -999.000,9,-999.0000,9,  -999.00,9,     23.8,2,      1.3,2,   2129.7,2,    714.3,2,   -999.0,9,   20.00,     3.6,-999.0000,-999.000,  7.0629,-999.000
   31WTTUNES_2,  P16S,   180,  2,     13,     13,2,19910812,0333,-37.5133,-150.5167, 5558,    621.7,   6.7604,  34.3846,2,  34.3851,2,    243.2,2,    242.4,2,     8.80,2,    22.29,2,     0.00,2,     1.53,2,    1.366,2,    0.712,2, -999.000,9,-999.0000,9,  -999.00,9,     11.4,2,      1.3,2,   2133.8,2,    728.8,2,   -999.0,9,   20.00,     6.2,-999.0000,-999.000,  6.7021,-999.000
   31WTTUNES_2,  P16S,   180,  2,     37,     37,2,19910812,0333,-37.5133,-150.5167, 5558,    724.9,   6.3254,  34.3528,2,  34.3522,2,    237.6,2,    235.8,2,    11.24,2,    23.85,2,     0.00,2,     1.63,2,    0.936,2,    0.487,2, -999.000,9,-999.0000,9,  -999.00,9,    -27.6,2,      1.2,2,   2137.8,2,    762.1,2,   -999.0,9,   20.00,     4.4,-999.0000,-999.000,  6.2593,-999.000
   31WTTUNES_2,  P16S,   180,  2,     15,     15,2,19910812,0333,-37.5133,-150.5167, 5558,    827.8,   5.8435,  34.3305,2,  34.3277,2,    228.5,2,    227.5,2,    14.96,2,    25.71,2,     0.00,2,     1.76,2,    0.596,2,    0.320,2, -999.000,9,-999.0000,9,  -999.00,9,    -50.4,2,      1.2,2,   2151.9,2,    805.3,2,   -999.0,9,   20.00,     5.0,-999.0000,-999.000,  5.7705,-999.000
   31WTTUNES_2,  P16S,   180,  2,     16,     16,2,19910812,0333,-37.5133,-150.5167, 5558,    931.5,   5.2656,  34.3242,2,  34.3265,2,    212.5,2,    213.9,2,    21.80,2,    28.06,2,     0.00,2,     1.94,2,    0.355,2,    0.214,2, -999.000,9,-999.0000,9,  -999.00,9,    -77.6,2,      1.1,2,   2168.6,2,    880.0,2,   -999.0,9,   20.00,     3.8,-999.0000,-999.000,  5.1868,-999.000
   31WTTUNES_2,  P16S,   180,  2,     17,     17,2,19910812,0333,-37.5133,-150.5167, 5558,   1033.6,   4.6177,  34.3295,2,  34.3287,2,    204.3,2,    203.3,2,    30.11,2,    30.11,2,     0.00,2,     2.07,2,    0.152,2,    0.099,2, -999.000,9,-999.0000,9,  -999.00,9,   -110.8,2,      0.8,2,   2183.4,2,    954.5,2,   -999.0,9,   20.00,     5.4,-999.0000,-999.000,  4.5346,-999.000
   31WTTUNES_2,  P16S,   180,  2,     18,     18,2,19910812,0333,-37.5133,-150.5167, 5558,   1187.8,   3.8568,  34.3633,2,  34.3632,2,    190.9,2,    191.9,2,    43.11,2,    32.16,2,     0.00,2,     2.22,2,    0.092,2,    0.057,2, -999.000,9,-999.0000,9,  -999.00,9,   -121.5,2,      0.7,2,   2204.3,2,   1044.5,2,   -999.0,9,   20.00,     3.5,-999.0000,-999.000,  3.7668,-999.000
   31WTTUNES_2,  P16S,   180,  2,     19,     19,2,19910812,0333,-37.5133,-150.5167, 5558,   1341.4,   3.2549,  34.4242,2,  34.4260,2,    179.6,2,    180.1,2,    57.48,2,    33.53,2,     0.00,2,     2.33,2,    0.025,2,    0.017,2, -999.000,9,-999.0000,9,  -999.00,9,   -142.9,2,      0.5,2,   2230.0,2,   1115.6,2,   -999.0,9,   20.00,     3.3,-999.0000,-999.000,  3.1578,-999.000
   31WTTUNES_2,  P16S,   180,  2,     20,     20,2,19910812,0333,-37.5133,-150.5167, 5558,   1543.5,   2.8230,  34.5266,2,  34.5267,2,    164.1,2,    165.3,2,    78.01,2,    34.31,2,     0.00,2,     2.39,2,    0.004,2,    0.005,2, -999.000,9,-999.0000,9,  -999.00,9,   -175.3,2,      0.3,2,   2255.3,2,   1186.8,2,   -999.0,9,   20.00,     3.7,-999.0000,-999.000,  2.7137,-999.000
   31WTTUNES_2,  P16S,   180,  2,     21,     21,2,19910812,0333,-37.5133,-150.5167, 5558,   1799.4,   2.5131,  34.5957,2,  34.5965,2,    155.5,2,    156.2,2,    98.24,2,    34.80,2,     0.00,2,     2.43,2,    0.001,7,    0.000,2, -999.000,9,-999.0000,9,  -999.00,9,   -193.8,2,      0.2,2,   2279.1,2,   1184.0,2,   -999.0,9,   20.00,     3.7,-999.0000,-999.000,  2.3862,-999.000
   31WTTUNES_2,  P16S,   180,  2,     22,     22,2,19910812,0333,-37.5133,-150.5167, 5558,   2052.0,   2.3111,  34.6230,2,  34.6228,2,    151.4,2,    151.7,2,   109.48,2,    35.09,2,     0.00,2,     2.45,2,    0.002,2,    0.003,2, -999.000,9,-999.0000,9,  -999.00,9,   -200.2,2,      0.1,2,   2291.8,2,   1195.7,2,   -999.0,9,   20.00,     3.2,-999.0000,-999.000,  2.1655,-999.000
   31WTTUNES_2,  P16S,   180,  2,     23,     23,2,19910812,0333,-37.5133,-150.5167, 5558,   2297.6,   2.1352,  34.6413,2,  34.6407,2,    150.3,2,    150.4,2,   117.00,2,    35.29,2,     0.00,2,     2.47,2,    0.002,2,    0.000,2, -999.000,9,-999.0000,9,  -999.00,9,   -208.4,2,      0.1,2,   2299.6,2,   1191.8,2,   -999.0,9,   20.00,     3.1,-999.0000,-999.000,  1.9708,-999.000
   31WTTUNES_2,  P16S,   180,  2,     24,     24,2,19910812,0333,-37.5133,-150.5167, 5558,   2555.0,   2.0082,  34.6527,2,  34.6525,2,    150.3,2,    150.1,2,   122.86,2,    35.48,2,     0.00,2,     2.48,2,    0.001,8,    0.000,2, -999.000,9,-999.0000,9,  -999.00,9,   -218.1,2,      0.0,2,   2304.7,2,   1203.1,2,   -999.0,9,   20.00,     4.1,-999.0000,-999.000,  1.8227,-999.000
   31WTTUNES_2,  P16S,   180,  2,     25,     25,2,19910812,0333,-37.5133,-150.5167, 5558,   2809.1,   1.8992,  34.6621,2,  34.6621,2,    151.5,2,    151.1,2,   127.85,2,    35.38,2,     0.00,2,     2.48,2,    0.002,2,    0.000,2, -999.000,9,-999.0000,9,  -999.00,9,   -208.4,2,      0.0,2,   2304.8,2,   1196.6,2,   -999.0,9,   20.00,     3.6,-999.0000,-999.000,  1.6921,-999.000
   31WTTUNES_2,  P16S,   180,  2,     26,     26,2,19910812,0333,-37.5133,-150.5167, 5558,   3050.8,   1.8142,  34.6721,2,  34.6709,2,    154.4,2,    154.1,2,   128.24,2,    35.09,2,     0.00,2,     2.45,2,    0.001,2,    0.000,2, -999.000,9,-999.0000,9,  -999.00,9,   -212.2,2,     -0.1,2,   2305.2,2,   1186.1,2,   -999.0,9,   20.00,     5.0,-999.0000,-999.000,  1.5856,-999.000
   31WTTUNES_2,  P16S,   180,  2,     27,     27,2,19910812,0333,-37.5133,-150.5167, 5558,   3291.1,   1.7403,  34.6852,2,  34.6853,2,    162.8,2,    163.0,2,   125.11,2,    34.41,2,     0.00,2,     2.39,2,    0.004,2,    0.000,2, -999.000,9,-999.0000,9,  -999.00,9,   -165.5,4,      0.1,2,   2296.9,2,   1154.8,2,   -999.0,9,   20.00,     4.3,-999.0000,-999.000,  1.4894,-999.000
   31WTTUNES_2,  P16S,   180,  2,     28,     28,2,19910812,0333,-37.5133,-150.5167, 5558,   3528.9,   1.6833,  34.7016,2,  34.7008,2,    175.0,2,    176.2,2,   117.58,2,    33.23,2,     0.00,2,     2.32,2,    0.003,8,    0.000,2, -999.000,9,-999.0000,9,  -999.00,9,   -188.1,2,      0.1,2,   2280.4,2,   1113.2,2,   -999.0,9,   20.00,     3.8,-999.0000,-999.000,  1.4094,-999.000
   31WTTUNES_2,  P16S,   180,  2,     29,     29,2,19910812,0333,-37.5133,-150.5167, 5558,   3778.7,   1.5473,  34.7116,2,  34.7126,2,    187.8,2,    187.7,2,   114.16,2,    32.45,2,     0.00,2,     2.25,2,    0.002,2,    0.000,2, -999.000,9,-999.0000,9,  -999.00,9,   -190.6,2,      0.2,2,   2269.9,2,   1089.2,2,   -999.0,9,   20.00,     3.4,-999.0000,-999.000,  1.2507,-999.000
   31WTTUNES_2,  P16S,   180,  2,     30,     30,2,19910812,0333,-37.5133,-150.5167, 5558,   4023.2,   1.4073,  34.7140,2,  34.7142,2,    194.8,2,    194.6,2,   114.75,2,    32.06,2,     0.00,2,     2.22,2,    0.002,2,    0.000,2, -999.000,9,-999.0000,9,  -999.00,9,   -189.3,2,      0.3,3,   2265.2,2,   1073.4,2,   -999.0,9,   20.00,     3.2,-999.0000,-999.000,  1.0884,-999.000
   31WTTUNES_2,  P16S,   180,  2,     31,     31,2,19910812,0333,-37.5133,-150.5167, 5558,   4278.0,   1.2654,  34.7136,2,  34.7138,2,    199.1,2,    199.5,2,   117.39,2,    31.96,2,     0.00,2,     2.21,2,    0.002,2,    0.000,2, -999.000,9,-999.0000,9,  -999.00,9,   -193.3,3,      0.1,3,   2267.2,2,   1058.3,2,   -999.0,9,   20.00,     3.2,-999.0000,-999.000,  0.9225,-999.000
   31WTTUNES_2,  P16S,   180,  2,     32,     32,2,19910812,0333,-37.5133,-150.5167, 5558,   4546.9,   1.1804,  34.7129,2,  34.7117,2,    201.8,2,    202.1,2,   119.24,2,    31.96,2,     0.00,2,     2.21,2,    0.003,2,    0.004,7, -999.000,9,-999.0000,9,  -999.00,9,   -190.7,3,      0.2,2,   2266.7,2,   1056.3,2,   -999.0,9,   20.00,     3.2,-999.0000,-999.000,  0.8099,-999.000
   31WTTUNES_2,  P16S,   180,  2,     33,     33,2,19910812,0333,-37.5133,-150.5167, 5558,   4810.4,   1.1414,  34.7109,2,  34.7099,2,    203.9,2,    204.1,2,   120.32,2,    31.96,2,     0.00,2,     2.21,2,    0.002,2,    0.000,2, -999.000,9,-999.0000,9,  -999.00,9,   -176.4,2,      0.2,2,   2266.7,2,   1045.9,2,   -999.0,9,   20.00,     3.3,-999.0000,-999.000,  0.7416,-999.000
   31WTTUNES_2,  P16S,   180,  2,     34,     34,2,19910812,0333,-37.5133,-150.5167, 5558,   5111.7,   1.1164,  34.7099,2,  34.7089,2,    205.3,2,    205.6,2,   121.98,2,    31.96,2,     0.00,2,     2.21,2,    0.003,2,    0.000,2, -999.000,9,-999.0000,9,  -999.00,9,   -182.8,3,      0.2,2,   2267.4,2,   1053.9,2,   -999.0,9,   20.00,     3.5,-999.0000,-999.000,  0.6816,-999.000
   31WTTUNES_2,  P16S,   180,  2,     35,     35,2,19910812,0333,-37.5133,-150.5167, 5558,   5381.0,   1.1254,  34.7077,2,  34.7083,2,    206.6,2,    205.9,2,   122.76,2,    31.96,2,     0.00,2,     2.21,2,    0.005,2,    0.000,2, -999.000,9,-999.0000,9,  -999.00,9,   -167.2,2,      0.3,2,   2263.5,2,   1052.4,2,   -999.0,9,   20.00,     3.8,-999.0000,-999.000,  0.6573,-999.000
   31WTTUNES_2,  P16S,   180,  2,     38,     38,2,19910812,0333,-37.5133,-150.5167, 5558,   5641.6,   1.1534,  34.7081,2,  34.7089,2,    205.6,2,    206.0,2,   122.96,2,    31.96,2,     0.00,2,     2.21,2,    0.023,2,    0.078,2, -999.000,9,-999.0000,9,  -999.00,9,   -167.7,2,      0.2,2,   2264.0,2,   1048.5,2,   -999.0,9,   20.00,     4.5,-999.0000,-999.000,  0.6514,-999.000