BOTTLE,20131125MIRCJHATS
EXPOCODE,SECT_ID,STNNBR,CASTNO,SAMPNO,BTLNBR,BTLNBR_FLAG_W,DATE,TIME,LATITUDE,LONGITUDE,DEPTH,CTDPRS,CTDTMP,CTDSAL,CTDSAL_FLAG_W,SALNTY,SALNTY_FLAG_W,CTDOXY,CTDOXY_FLAG_W,OXYGEN,OXYGEN_FLAG_W,SILCAT,SILCAT_FLAG_W,NITRAT,NITRAT_FLAG_W,NITRIT,NITRIT_FLAG_W,PHSPHT,PHSPHT_FLAG_W,CFC-11,CFC-11_FLAG_W,CFC-12,CFC-12_FLAG_W,TRITUM,TRITUM_FLAG_W,HELIUM,HELIUM_FLAG_W,DELHE3,DELHE3_FLAG_W,DELC14,DELC14_FLAG_W,DELC13,DELC13_FLAG_W,TCARBN,TCARBN_FLAG_W,PCO2,PCO2_FLAG_W,ALKALI,ALKALI_FLAG_W,PCO2TMP,C14ERR,HELIER,DELHER,THETA,TRITER
,,,,,,,,,,,,DBAR,ITS-90,PSS-78,,PSS-78,,UMOL/KG,,UMOL/KG,,UMOL/KG,,UMOL/KG,,UMOL/KG,,UMOL/KG,,PMOL/KG,,PMOL/KG,,TU,,NMOL/KG,,PERCNT,,/MILLE,,/MILLE,,UMOL/KG,,UATM,,UMOL/KG,,DEG C,/MILLE,NMOL/KG,PERCNT,DEG C,TU
   31WTTUNES_2,  P17S,   147,  1,      1,      1,2,19910729,0553,-17.3483,-133.4700, 4392,      3.1,  26.0351,  36.5724,2,  36.5757,2,    212.4,3,    210.8,2,     1.57,2,     0.05,2,     0.00,2,     0.21,2,    1.704,2,    0.935,2, -999.000,9,-999.0000,9,  -999.00,9,     87.9,2,      1.6,2,   2035.7,2,    258.5,2,   -999.0,9,   20.00,     3.7,-999.0000,-999.000, 26.0344,-999.000
   31WTTUNES_2,  P17S,   147,  1,      2,      2,2,19910729,0553,-17.3483,-133.4700, 4392,     55.2,  25.9917,  36.5603,2,  36.5634,2,    211.6,6,    210.9,2,     1.58,2,     0.05,2,     0.00,2,     0.20,2,    1.708,2,    0.931,2, -999.000,9,-999.0000,9,  -999.00,9,   -999.0,9,   -999.0,9,   -999.0,9,   -999.0,9,   -999.0,9, -999.00,  -999.0,-999.0000,-999.000, 25.9793,-999.000
   31WTTUNES_2,  P17S,   147,  1,      3,      3,2,19910729,0553,-17.3483,-133.4700, 4392,    106.7,  25.9703,  36.5584,2,  36.5610,2,    213.5,6,    209.7,2,     1.00,2,     0.05,2,     0.00,2,     0.20,2,    1.722,2,    0.930,2, -999.000,9,-999.0000,9,  -999.00,9,    102.2,2,      1.8,2,   -999.0,9,   -999.0,9,   -999.0,9, -999.00,     5.2,-999.0000,-999.000, 25.9464,-999.000
   31WTTUNES_2,  P17S,   147,  1,      4,      4,2,19910729,0553,-17.3483,-133.4700, 4392,    132.1,  25.7941,  36.5226,2,  36.4935,2,    207.7,6,    208.8,2,     1.01,2,     0.02,2,     0.04,2,     0.21,2,    1.697,2,    0.933,2, -999.000,9,-999.0000,9,  -999.00,9,   -999.0,9,   -999.0,9,   -999.0,9,   -999.0,9,   -999.0,9, -999.00,  -999.0,-999.0000,-999.000, 25.7646,-999.000
   31WTTUNES_2,  P17S,   147,  1,      5,      5,2,19910729,0553,-17.3483,-133.4700, 4392,    157.4,  23.6947,  36.2840,2,  36.2808,2,    202.0,2,    198.2,2,     1.20,2,     0.15,2,     0.67,2,     0.27,2,    1.822,2,    0.979,2, -999.000,9,-999.0000,9,  -999.00,9,     51.7,4,     -1.1,4,   -999.0,9,   -999.0,9,   -999.0,9, -999.00,     3.5,-999.0000,-999.000, 23.6616,-999.000
   31WTTUNES_2,  P17S,   147,  1,      6,      6,2,19910729,0553,-17.3483,-133.4700, 4392,    182.5,  23.0832,  36.2898,2,  36.2875,2,    194.5,2,    190.9,2,     1.01,2,     1.30,2,     0.34,2,     0.34,2,    1.817,2,    0.979,2, -999.000,9,-999.0000,9,  -999.00,9,    126.3,2,      1.3,2,   -999.0,9,   -999.0,9,   -999.0,9, -999.00,     3.8,-999.0000,-999.000, 23.0456,-999.000
   31WTTUNES_2,  P17S,   147,  1,      7,      7,2,19910729,0553,-17.3483,-133.4700, 4392,    209.0,  22.4865,  36.2597,2,  36.2392,2,    192.4,2,    186.0,2,     1.02,2,     2.13,2,     0.03,2,     0.38,2,    1.831,2,    0.972,2, -999.000,9,-999.0000,9,  -999.00,9,    136.4,2,      1.3,2,   -999.0,9,   -999.0,9,   -999.0,9, -999.00,     3.9,-999.0000,-999.000, 22.4442,-999.000
   31WTTUNES_2,  P17S,   147,  1,      8,      8,2,19910729,0553,-17.3483,-133.4700, 4392,    235.6,  21.2727,  36.0462,2,  36.0496,2,    190.4,2,    186.5,2,     1.02,2,     2.56,2,     0.01,2,     0.39,2,    1.803,2,    0.965,2, -999.000,9,-999.0000,9,  -999.00,9,   -999.0,9,   -999.0,9,   -999.0,9,   -999.0,9,   -999.0,9, -999.00,  -999.0,-999.0000,-999.000, 21.2269,-999.000
   31WTTUNES_2,  P17S,   147,  1,      9,      9,2,19910729,0553,-17.3483,-133.4700, 4392,    285.1,  18.7061,  35.5864,2,  35.5737,2,    193.0,2,    186.7,2,     1.41,2,     3.65,2,     0.01,2,     0.44,2,    1.801,2,    0.953,2, -999.000,9,-999.0000,9,  -999.00,9,    131.7,2,      0.6,3,   -999.0,9,   -999.0,9,   -999.0,9, -999.00,     4.0,-999.0000,-999.000, 18.6555,-999.000
   31WTTUNES_2,  P17S,   147,  1,     10,     10,2,19910729,0553,-17.3483,-133.4700, 4392,    337.5,  15.5471,  35.1111,2,  35.0959,2,    179.1,2,    178.5,2,     2.38,2,     7.72,2,     0.00,2,     0.72,2,    1.517,2,    0.799,2, -999.000,9,-999.0000,9,  -999.00,9,    126.4,2,      1.0,2,   -999.0,9,   -999.0,9,   -999.0,9, -999.00,     4.8,-999.0000,-999.000, 15.4945,-999.000
   31WTTUNES_2,  P17S,   147,  1,     11,     11,2,19910729,0553,-17.3483,-133.4700, 4392,    389.0,  11.3895,  34.6484,2,  34.6317,2,    153.5,2,    153.3,2,     7.78,2,    17.46,2,     0.00,2,     1.41,2,    0.780,2,    0.451,2, -999.000,9,-999.0000,9,  -999.00,9,     57.8,2,      0.8,2,   -999.0,9,   -999.0,9,   -999.0,9, -999.00,     3.6,-999.0000,-999.000, 11.3402,-999.000
   31WTTUNES_2,  P17S,   147,  1,     12,     12,2,19910729,0553,-17.3483,-133.4700, 4392,    439.2,   9.1056,  34.4720,2,  34.4622,2,    143.7,2,    141.9,2,    13.37,2,    24.63,2,     0.00,2,     1.87,2,    0.440,2,    0.249,2, -999.000,9,-999.0000,9,  -999.00,9,     -9.1,2,      0.8,2,   -999.0,9,   -999.0,9,   -999.0,9, -999.00,     3.4,-999.0000,-999.000,  9.0572,-999.000
   31WTTUNES_2,  P17S,   147,  1,     13,     13,2,19910729,0553,-17.3483,-133.4700, 4392,    495.7,   7.4405,  34.4179,2,  34.4151,2,    124.1,2,    129.0,2,    19.15,2,    30.39,2,     0.00,2,     2.20,2,    0.116,2,    0.078,2, -999.000,9,-999.0000,9,  -999.00,9,    -57.2,2,      0.5,3,   -999.0,9,   -999.0,9,   -999.0,9, -999.00,     3.2,-999.0000,-999.000,  7.3918,-999.000
   31WTTUNES_2,  P17S,   147,  1,     37,     37,2,19910729,0553,-17.3483,-133.4700, 4392,    556.8,   6.4875,  34.3755,2,  34.3754,2,    152.8,2,    154.2,2,    20.12,2,    30.80,2,     0.00,2,     2.17,2,    0.082,2,    0.058,2, -999.000,9,-999.0000,9,  -999.00,9,    -48.8,3,      0.8,2,   -999.0,9,   -999.0,9,   -999.0,9, -999.00,     5.1,-999.0000,-999.000,  6.4367,-999.000
   31WTTUNES_2,  P17S,   147,  1,     15,     15,2,19910729,0553,-17.3483,-133.4700, 4392,    618.0,   5.9046,  34.3843,2,  34.3903,2,    147.7,2,    149.4,2,    27.44,2,    32.47,2,     0.00,2,     2.26,2,    0.036,2,    0.028,2, -999.000,9,-999.0000,9,  -999.00,9,    -83.1,2,      0.7,2,   -999.0,9,   -999.0,9,   -999.0,9, -999.00,     3.8,-999.0000,-999.000,  5.8506,-999.000
   31WTTUNES_2,  P17S,   147,  1,     16,     16,2,19910729,0553,-17.3483,-133.4700, 4392,    720.5,   5.4735,  34.4520,2,  34.4544,2,    127.6,2,    126.9,2,    43.83,2,    34.72,2,     0.00,2,     2.43,2,    0.009,2,    0.005,2, -999.000,9,-999.0000,9,  -999.00,9,   -999.0,9,      0.5,2,   -999.0,9,   -999.0,9,   -999.0,9, -999.00,  -999.0,-999.0000,-999.000,  5.4124,-999.000
   31WTTUNES_2,  P17S,   147,  1,     17,     17,2,19910729,0553,-17.3483,-133.4700, 4392,    823.6,   5.0805,  34.4794,2,  34.4815,2,    124.4,2,    122.7,2,    54.26,2,    35.56,2,     0.00,2,     2.50,2,    0.004,2,   -0.002,2, -999.000,9,-999.0000,9,  -999.00,9,   -999.0,9,      0.3,2,   -999.0,9,   -999.0,9,   -999.0,9, -999.00,  -999.0,-999.0000,-999.000,  5.0125,-999.000
   31WTTUNES_2,  P17S,   147,  1,     18,     18,2,19910729,0553,-17.3483,-133.4700, 4392,    926.0,   4.6782,  34.4959,2,  34.4962,2,    118.8,2,    118.8,2,    62.58,2,    36.51,2,     0.00,2,     2.58,2,    0.003,2,    0.000,2, -999.000,9,-999.0000,9,  -999.00,9,   -999.0,9,      0.3,2,   -999.0,9,   -999.0,9,   -999.0,9, -999.00,  -999.0,-999.0000,-999.000,  4.6038,-999.000
   31WTTUNES_2,  P17S,   147,  1,     19,     19,2,19910729,0553,-17.3483,-133.4700, 4392,   1079.5,   4.1353,  34.5172,2,  34.5172,2,    122.7,2,    118.3,2,    74.22,2,    37.03,2,     0.00,2,     2.62,2, -999.000,9, -999.000,9, -999.000,9,-999.0000,9,  -999.00,9,   -999.0,9,      0.3,2,   -999.0,9,   -999.0,9,   -999.0,9, -999.00,  -999.0,-999.0000,-999.000,  4.0518,-999.000
   31WTTUNES_2,  P17S,   147,  1,     20,     20,2,19910729,0553,-17.3483,-133.4700, 4392,   1233.0,   3.6589,  34.5370,2,  34.5374,2,    121.2,2,    121.9,2,    83.76,2,    36.98,2,     0.00,2,     2.62,2, -999.000,9, -999.000,9, -999.000,9,-999.0000,9,  -999.00,9,   -999.0,9,   -999.0,9,   -999.0,9,   -999.0,9,   -999.0,9, -999.00,  -999.0,-999.0000,-999.000,  3.5667,-999.000
   31WTTUNES_2,  P17S,   147,  1,     21,     21,2,19910729,0553,-17.3483,-133.4700, 4392,   1439.4,   3.0486,  34.5616,2,  34.5607,2,    136.8,2,    136.2,2,    94.92,2,    36.08,2,     0.00,2,     2.55,2, -999.000,9, -999.000,9, -999.000,9,-999.0000,9,  -999.00,9,   -999.0,9,   -999.0,9,   -999.0,9,   -999.0,9,   -999.0,9, -999.00,  -999.0,-999.0000,-999.000,  2.9453,-999.000
   31WTTUNES_2,  P17S,   147,  1,     22,     22,2,19910729,0553,-17.3483,-133.4700, 4392,   1646.0,   2.6305,  34.5942,2,  34.5933,2,    140.9,2,    135.4,2,   106.75,2,    36.28,2,     0.00,2,     2.57,2, -999.000,9, -999.000,9, -999.000,9,-999.0000,9,  -999.00,9,   -999.0,9,   -999.0,9,   -999.0,9,   -999.0,9,   -999.0,9, -999.00,  -999.0,-999.0000,-999.000,  2.5149,-999.000
   31WTTUNES_2,  P17S,   147,  1,     23,     23,2,19910729,0553,-17.3483,-133.4700, 4392,   1851.6,   2.2866,  34.6225,2,  34.6219,2,    138.9,2,    140.5,2,   115.30,2,    36.12,2,     0.00,2,     2.55,2, -999.000,9, -999.000,9, -999.000,9,-999.0000,9,  -999.00,9,   -999.0,9,   -999.0,9,   -999.0,9,   -999.0,9,   -999.0,9, -999.00,  -999.0,-999.0000,-999.000,  2.1584,-999.000
   31WTTUNES_2,  P17S,   147,  1,     24,     24,2,19910729,0553,-17.3483,-133.4700, 4392,   2056.6,   2.0683,  34.6415,2,  34.6419,2,    145.7,2,    147.1,2,   120.49,2,    35.70,2,     0.00,2,     2.50,2, -999.000,9, -999.000,9, -999.000,9,-999.0000,9,  -999.00,9,   -999.0,9,   -999.0,9,   -999.0,9,   -999.0,9,   -999.0,9, -999.00,  -999.0,-999.0000,-999.000,  1.9259,-999.000
   31WTTUNES_2,  P17S,   147,  1,     25,     25,2,19910729,0553,-17.3483,-133.4700, 4392,   2262.6,   1.9464,  34.6540,2,  34.6539,2,    149.1,2,    149.1,2,   125.11,2,    35.54,2,     0.00,2,     2.49,2, -999.000,9, -999.000,9, -999.000,9,-999.0000,9,  -999.00,9,   -999.0,9,   -999.0,9,   -999.0,9,   -999.0,9,   -999.0,9, -999.00,  -999.0,-999.0000,-999.000,  1.7883,-999.000
   31WTTUNES_2,  P17S,   147,  1,     26,     26,2,19910729,0553,-17.3483,-133.4700, 4392,   2468.8,   1.8600,  34.6615,2,  34.6613,2,    151.9,2,    152.4,2,   127.32,2,    35.17,2,     0.00,2,     2.46,2, -999.000,9, -999.000,9, -999.000,9,-999.0000,9,  -999.00,9,   -999.0,9,   -999.0,9,   -999.0,9,   -999.0,9,   -999.0,9, -999.00,  -999.0,-999.0000,-999.000,  1.6851,-999.000
   31WTTUNES_2,  P17S,   147,  1,     27,     27,2,19910729,0553,-17.3483,-133.4700, 4392,   2676.3,   1.7878,  34.6671,2,  34.6658,2,    155.0,2,    155.8,2,   128.11,2,    35.11,2,     0.00,2,     2.46,2, -999.000,9, -999.000,9, -999.000,9,-999.0000,9,  -999.00,9,   -999.0,9,   -999.0,9,   -999.0,9,   -999.0,9,   -999.0,9, -999.00,  -999.0,-999.0000,-999.000,  1.5954,-999.000
   31WTTUNES_2,  P17S,   147,  1,     28,     28,2,19910729,0553,-17.3483,-133.4700, 4392,   2883.1,   1.7184,  34.6725,2,  34.6709,2,    157.2,2,    158.0,2,   130.74,2,    35.06,2,     0.00,2,     2.45,2, -999.000,9, -999.000,9, -999.000,9,-999.0000,9,  -999.00,9,   -999.0,9,   -999.0,9,   -999.0,9,   -999.0,9,   -999.0,9, -999.00,  -999.0,-999.0000,-999.000,  1.5080,-999.000
   31WTTUNES_2,  P17S,   147,  1,     29,     29,2,19910729,0553,-17.3483,-133.4700, 4392,   3090.8,   1.6849,  34.6760,2,  34.6748,2,    158.4,2,    159.2,2,   131.74,2,    35.00,2,     0.00,2,     2.44,2, -999.000,9, -999.000,9, -999.000,9,-999.0000,9,  -999.00,9,   -999.0,9,   -999.0,9,   -999.0,9,   -999.0,9,   -999.0,9, -999.00,  -999.0,-999.0000,-999.000,  1.4553,-999.000
   31WTTUNES_2,  P17S,   147,  1,     30,     30,2,19910729,0553,-17.3483,-133.4700, 4392,   3298.3,   1.6478,  34.6798,2,  34.6793,2,    159.3,2,    159.4,2,   134.78,2,    34.84,2,     0.00,2,     2.43,2, -999.000,9, -999.000,9, -999.000,9,-999.0000,9,  -999.00,9,   -999.0,9,   -999.0,9,   -999.0,9,   -999.0,9,   -999.0,9, -999.00,  -999.0,-999.0000,-999.000,  1.3984,-999.000
   31WTTUNES_2,  P17S,   147,  1,     31,     31,2,19910729,0553,-17.3483,-133.4700, 4392,   3504.9,   1.6063,  34.6826,2,  34.6826,2,    162.2,2,    162.0,2,   134.77,2,    34.68,2,     0.00,2,     2.42,2, -999.000,9, -999.000,9, -999.000,9,-999.0000,9,  -999.00,9,   -999.0,9,   -999.0,9,   -999.0,9,   -999.0,9,   -999.0,9, -999.00,  -999.0,-999.0000,-999.000,  1.3370,-999.000
   31WTTUNES_2,  P17S,   147,  1,     32,     32,2,19910729,0553,-17.3483,-133.4700, 4392,   3712.5,   1.5629,  34.6851,2,  34.6843,2,    165.4,2,    165.9,2,   134.76,2,    34.58,2,     0.00,2,     2.42,2, -999.000,9, -999.000,9, -999.000,9,-999.0000,9,  -999.00,9,   -999.0,9,   -999.0,9,   -999.0,9,   -999.0,9,   -999.0,9, -999.00,  -999.0,-999.0000,-999.000,  1.2730,-999.000
   31WTTUNES_2,  P17S,   147,  1,     33,     33,2,19910729,0553,-17.3483,-133.4700, 4392,   3919.2,   1.5340,  34.6874,2,  34.6865,2,    168.3,2,    168.5,2,   134.54,2,    34.47,2,     0.00,2,     2.41,2, -999.000,9, -999.000,9, -999.000,9,-999.0000,9,  -999.00,9,   -999.0,9,   -999.0,9,   -999.0,9,   -999.0,9,   -999.0,9, -999.00,  -999.0,-999.0000,-999.000,  1.2229,-999.000
   31WTTUNES_2,  P17S,   147,  1,     34,     34,2,19910729,0553,-17.3483,-133.4700, 4392,   4126.8,   1.5192,  34.6896,2,  34.6896,2,    172.0,2,    171.3,2,   132.70,2,    34.15,2,     0.00,2,     2.38,2, -999.000,9, -999.000,9, -999.000,9,-999.0000,9,  -999.00,9,   -999.0,9,   -999.0,9,   -999.0,9,   -999.0,9,   -999.0,9, -999.00,  -999.0,-999.0000,-999.000,  1.1858,-999.000
   31WTTUNES_2,  P17S,   147,  1,     35,     35,2,19910729,0553,-17.3483,-133.4700, 4392,   4283.5,   1.5315,  34.6897,2,  34.6878,2,    172.5,2,    171.9,2,   132.49,2,    34.10,2,     0.00,2,     2.38,2, -999.000,9, -999.000,9, -999.000,9,-999.0000,9,  -999.00,9,   -999.0,9,   -999.0,9,   -999.0,9,   -999.0,9,   -999.0,9, -999.00,  -999.0,-999.0000,-999.000,  1.1803,-999.000
   31WTTUNES_2,  P17S,   147,  1,     36,     36,2,19910729,0553,-17.3483,-133.4700, 4392,   4439.2,   1.5490,  34.6897,2,  34.6897,2,    170.5,2,    171.8,2,   132.27,2,    34.05,2,     0.00,2,     2.36,2, -999.000,9, -999.000,9, -999.000,9,-999.0000,9,  -999.00,9,   -999.0,9,   -999.0,9,   -999.0,9,   -999.0,9,   -999.0,9, -999.00,  -999.0,-999.0000,-999.000,  1.1795,-999.000