BOTTLE,20131125MIRCJHATS
EXPOCODE,SECT_ID,STNNBR,CASTNO,SAMPNO,BTLNBR,BTLNBR_FLAG_W,DATE,TIME,LATITUDE,LONGITUDE,DEPTH,CTDPRS,CTDTMP,CTDSAL,CTDSAL_FLAG_W,SALNTY,SALNTY_FLAG_W,CTDOXY,CTDOXY_FLAG_W,OXYGEN,OXYGEN_FLAG_W,SILCAT,SILCAT_FLAG_W,NITRAT,NITRAT_FLAG_W,NITRIT,NITRIT_FLAG_W,PHSPHT,PHSPHT_FLAG_W,CFC-11,CFC-11_FLAG_W,CFC-12,CFC-12_FLAG_W,TRITUM,TRITUM_FLAG_W,HELIUM,HELIUM_FLAG_W,DELHE3,DELHE3_FLAG_W,DELC14,DELC14_FLAG_W,DELC13,DELC13_FLAG_W,TCARBN,TCARBN_FLAG_W,PCO2,PCO2_FLAG_W,ALKALI,ALKALI_FLAG_W,PCO2TMP,C14ERR,HELIER,DELHER,THETA,TRITER
,,,,,,,,,,,,DBAR,ITS-90,PSS-78,,PSS-78,,UMOL/KG,,UMOL/KG,,UMOL/KG,,UMOL/KG,,UMOL/KG,,UMOL/KG,,PMOL/KG,,PMOL/KG,,TU,,NMOL/KG,,PERCNT,,/MILLE,,/MILLE,,UMOL/KG,,UATM,,UMOL/KG,,DEG C,/MILLE,NMOL/KG,PERCNT,DEG C,TU
   31WTTUNES_2,  P17S,   127,  1,      1,      1,2,19910722,1929, -7.5217,-135.0033, 4394,     10.3,  27.6480,  35.1550,2,  35.1620,2,    212.5,3,    213.1,2,     2.34,2,     4.20,2,     0.07,2,     0.48,2,    1.846,2,    0.910,8, -999.000,9,-999.0000,9,  -999.00,9,     81.9,2,      1.5,2,   1987.6,2,    292.8,2,   2301.4,2,   20.00,     5.2,-999.0000,-999.000, 27.6456,-999.000
   31WTTUNES_2,  P17S,   127,  1,      2,      2,2,19910722,1929, -7.5217,-135.0033, 4394,     37.9,  27.5880,  35.1543,2,  35.1579,2,    212.4,2,    213.6,2,     2.34,2,     4.20,2,     0.07,2,     0.48,2,    1.612,2,    0.925,2, -999.000,9,-999.0000,9,  -999.00,9,   -999.0,9,   -999.0,9,   1993.1,2,    288.0,2,   -999.0,9,   20.00,  -999.0,-999.0000,-999.000, 27.5791,-999.000
   31WTTUNES_2,  P17S,   127,  1,      3,      3,2,19910722,1929, -7.5217,-135.0033, 4394,     78.5,  28.0881,  35.8491,2,  35.8471,2,    212.1,6,    205.9,2,     1.95,2,     3.42,2,     0.06,2,     0.51,2,    1.585,2,    0.936,8, -999.000,9,-999.0000,9,  -999.00,9,   -999.0,9,   -999.0,9,   2015.0,2,    281.9,2,   2354.4,2,   20.00,  -999.0,-999.0000,-999.000, 28.0695,-999.000
   31WTTUNES_2,  P17S,   127,  1,      4,      4,2,19910722,1929, -7.5217,-135.0033, 4394,     93.3,  26.7327,  35.9325,2,  35.9376,2,    205.1,2,    197.1,2,     2.15,2,     3.61,2,     0.07,2,     0.61,2,    1.679,2,    0.975,2, -999.000,9,-999.0000,9,  -999.00,9,     83.3,2,      1.4,2,   2021.0,2,    304.2,2,   -999.0,9,   20.00,     6.9,-999.0000,-999.000, 26.7114,-999.000
   31WTTUNES_2,  P17S,   127,  1,      5,      5,2,19910722,1929, -7.5217,-135.0033, 4394,    107.2,  25.4114,  36.0463,2,  36.0527,2,    197.0,2,    190.1,2,     1.95,2,     2.73,2,     0.59,2,     0.62,2,    1.748,2,    1.006,8, -999.000,9,-999.0000,9,  -999.00,9,   -999.0,9,   -999.0,9,   2058.8,2,    312.4,2,   2372.5,2,   20.00,  -999.0,-999.0000,-999.000, 25.3878,-999.000
   31WTTUNES_2,  P17S,   127,  1,      6,      6,2,19910722,1929, -7.5217,-135.0033, 4394,    126.7,  24.4482,  36.1132,2,  36.1138,2,    183.4,2,    186.5,2,     1.76,2,     2.34,2,     3.29,2,     0.65,2,    1.782,2,    0.997,2, -999.000,9,-999.0000,9,  -999.00,9,     94.9,2,      1.3,2,   2074.9,2,    340.5,2,   -999.0,9,   20.00,     8.9,-999.0000,-999.000, 24.4210,-999.000
   31WTTUNES_2,  P17S,   127,  1,      7,      7,2,19910722,1929, -7.5217,-135.0033, 4394,    154.5,  22.2999,  36.0353,2,  36.0264,2,    170.1,2,    172.1,2,     1.76,2,     5.27,2,     1.07,2,     0.70,2,    1.904,2,    1.051,8, -999.000,9,-999.0000,9,  -999.00,9,    118.0,2,      1.2,2,   2109.0,2,    395.9,2,   2364.6,2,   20.00,     3.8,-999.0000,-999.000, 22.2689,-999.000
   31WTTUNES_2,  P17S,   127,  1,      8,      8,2,19910722,1929, -7.5217,-135.0033, 4394,    185.8,  18.7857,  35.5867,2,  35.5369,2,    137.1,2,    138.7,2,     3.52,2,    10.45,2,     0.02,2,     0.98,2,    1.655,2,    0.917,2, -999.000,9,-999.0000,9,  -999.00,9,    119.0,2,      0.9,2,   2132.8,2,    524.8,2,   -999.0,9,   20.00,     3.6,-999.0000,-999.000, 18.7527,-999.000
   31WTTUNES_2,  P17S,   127,  1,      9,      9,2,19910722,1929, -7.5217,-135.0033, 4394,    227.1,  14.3872,  35.0442,2,  35.0419,2,     76.5,2,     80.6,2,     9.87,2,    19.15,2,     0.00,2,     1.65,2,    1.039,2,    0.582,2, -999.000,9,-999.0000,9,  -999.00,9,     51.4,2,      0.5,2,   2180.6,2,    830.7,2,   2300.3,2,   20.00,    10.1,-999.0000,-999.000, 14.3537,-999.000
   31WTTUNES_2,  P17S,   127,  1,     10,     10,2,19910722,1929, -7.5217,-135.0033, 4394,    277.3,  11.7989,  34.8343,2,  34.8348,2,     58.7,2,     54.6,2,    19.45,2,    27.17,2,     0.00,2,     2.13,2,    0.345,2,    0.210,2, -999.000,9,-999.0000,9,  -999.00,9,    -26.8,2,      0.2,2,   2227.2,2,   1141.5,2,   -999.0,9,   20.00,     7.6,-999.0000,-999.000, 11.7630,-999.000
   31WTTUNES_2,  P17S,   127,  1,     11,     11,2,19910722,1929, -7.5217,-135.0033, 4394,    327.8,  10.2754,  34.7626,2,  34.7636,2,     64.0,2,     67.5,2,    25.41,2,    30.40,2,     0.00,2,     2.19,2,    0.127,2,    0.079,2, -999.000,9,-999.0000,9,  -999.00,9,    -58.9,2,      0.3,2,   2223.4,2,   1166.0,2,   2280.9,2,   20.00,     2.9,-999.0000,-999.000, 10.2365,-999.000
   31WTTUNES_2,  P17S,   127,  1,     12,     12,2,19910722,1929, -7.5217,-135.0033, 4394,    373.3,   9.6246,  34.7181,2,  34.7203,2,     55.4,2,     57.2,2,    29.32,2,    32.74,2,     0.00,2,     2.35,2,    0.071,2,    0.047,2, -999.000,9,-999.0000,9,  -999.00,9,    -74.6,2,      0.1,2,   2239.3,2,   1301.1,2,   -999.0,9,   20.00,     3.1,-999.0000,-999.000,  9.5821,-999.000
   31WTTUNES_2,  P17S,   127,  1,     13,     13,2,19910722,1929, -7.5217,-135.0033, 4394,    418.7,   9.0488,  34.6847,2,  34.6857,2,     59.0,2,     54.0,2,    32.35,2,    34.41,2,     0.00,2,     2.44,2,    0.039,2,    0.027,2, -999.000,9,-999.0000,9,  -999.00,9,    -91.9,2,      0.1,2,   2252.6,2,   1344.8,2,   2292.9,2,   20.00,     2.8,-999.0000,-999.000,  9.0028,-999.000
   31WTTUNES_2,  P17S,   127,  1,     14,     14,2,19910722,1929, -7.5217,-135.0033, 4394,    465.2,   8.6350,  34.6565,2,  34.6563,2,     58.4,2,     63.8,2,    33.53,2,    34.60,2,     0.00,2,     2.44,2,    0.032,2,    0.026,2, -999.000,9,-999.0000,9,  -999.00,9,    -95.8,2,      0.2,2,   2244.3,2,   1357.1,2,   -999.0,9,   20.00,     2.7,-999.0000,-999.000,  8.5852,-999.000
   31WTTUNES_2,  P17S,   127,  1,     15,     15,2,19910722,1929, -7.5217,-135.0033, 4394,    511.8,   8.0832,  34.6245,2,  34.6236,2,     70.0,2,     72.6,2,    35.29,2,    34.90,2,     0.00,2,     2.45,2,    0.025,2,    0.017,2, -999.000,9,-999.0000,9,  -999.00,9,    -96.7,2,      0.3,2,   2247.3,2,   1329.2,2,   2299.2,2,   20.00,     2.6,-999.0000,-999.000,  8.0304,-999.000
   31WTTUNES_2,  P17S,   127,  1,     16,     16,2,19910722,1929, -7.5217,-135.0033, 4394,    588.7,   7.3796,  34.5878,2,  34.5902,2,     73.2,2,     74.4,2,    40.08,2,    36.36,2,     0.00,2,     2.55,2,    0.014,2,    0.008,8, -999.000,9,-999.0000,9,  -999.00,9,   -108.7,2,      0.2,2,   2254.0,2,   1387.8,2,   -999.0,9,   20.00,     3.2,-999.0000,-999.000,  7.3216,-999.000
   31WTTUNES_2,  P17S,   127,  1,     17,     17,2,19910722,1929, -7.5217,-135.0033, 4394,    714.3,   6.2191,  34.5455,2,  34.5484,2,     77.5,2,     76.7,2,    51.22,2,    38.51,2,     0.00,2,     2.72,2,    0.016,3,    0.003,2, -999.000,9,-999.0000,9,  -999.00,9,   -131.4,2,      0.1,2,   2262.7,2,   1452.2,2,   2310.6,2,   20.00,     2.8,-999.0000,-999.000,  6.1544,-999.000
   31WTTUNES_2,  P17S,   127,  1,     18,     18,2,19910722,1929, -7.5217,-135.0033, 4394,    863.9,   5.1907,  34.5323,2,  34.5337,2,     77.3,2,     75.0,2,    66.37,2,    40.47,2,     0.00,2,     2.87,2,    0.002,2,    0.009,2, -999.000,9,-999.0000,9,  -999.00,9,   -154.8,2,      0.0,2,   2286.1,2,   1558.0,2,   -999.0,9,   20.00,     2.9,-999.0000,-999.000,  5.1183,-999.000
   31WTTUNES_2,  P17S,   127,  1,     19,     19,2,19910722,1929, -7.5217,-135.0033, 4394,   1114.1,   4.0553,  34.5505,2,  34.5506,2,     98.0,2,     96.7,2,    87.10,2,    39.00,2,     0.00,2,     2.82,2, -999.000,9, -999.000,9, -999.000,9,-999.0000,9,  -999.00,9,   -174.2,2,      0.0,2,   2296.6,2,   1450.6,2,   2346.2,2,   20.00,     2.7,-999.0000,-999.000,  3.9695,-999.000
   31WTTUNES_2,  P17S,   127,  1,     20,     20,2,19910722,1929, -7.5217,-135.0033, 4394,   1309.4,   3.4267,  34.5730,2,  34.5749,2,    106.6,2,    106.6,2,   101.46,2,    38.51,2,     0.00,2,     2.78,2, -999.000,9, -999.000,9, -999.000,9,-999.0000,9,  -999.00,9,   -999.0,9,   -999.0,9,   2308.2,2,   1384.4,2,   -999.0,9,   20.00,  -999.0,-999.0000,-999.000,  3.3302,-999.000
   31WTTUNES_2,  P17S,   127,  1,     21,     21,2,19910722,1929, -7.5217,-135.0033, 4394,   1507.7,   2.9710,  34.5958,2,  34.5961,2,    108.2,2,    108.8,2,   114.37,2,    38.61,2,     0.00,2,     2.78,2, -999.000,9, -999.000,9, -999.000,9,-999.0000,9,  -999.00,9,   -999.0,9,   -999.0,9,   2317.2,2,   1397.3,2,   2374.6,2,   20.00,  -999.0,-999.0000,-999.000,  2.8628,-999.000
   31WTTUNES_2,  P17S,   127,  1,     22,     22,2,19910722,1929, -7.5217,-135.0033, 4394,   1707.0,   2.6073,  34.6158,2,  34.6152,2,    116.4,2,    115.6,2,   122.77,2,    38.12,2,     0.00,2,     2.74,2, -999.000,9, -999.000,9, -999.000,9,-999.0000,9,  -999.00,9,   -999.0,9,   -999.0,9,   2320.7,2,   1349.9,2,   -999.0,9,   20.00,  -999.0,-999.0000,-999.000,  2.4868,-999.000
   31WTTUNES_2,  P17S,   127,  1,     23,     23,2,19910722,1929, -7.5217,-135.0033, 4394,   1900.5,   2.3664,  34.6313,2,  34.6321,2,    119.8,2,    119.4,2,   129.02,2,    37.83,2,     0.00,2,     2.69,2, -999.000,9, -999.000,9, -999.000,9,-999.0000,9,  -999.00,9,   -999.0,9,   -999.0,9,   2327.7,2,   1321.6,2,   2391.9,2,   20.00,  -999.0,-999.0000,-999.000,  2.2329,-999.000
   31WTTUNES_2,  P17S,   127,  1,     24,     24,2,19910722,1929, -7.5217,-135.0033, 4394,   2088.9,   2.1875,  34.6440,2,  34.6427,2,    123.4,2,    122.0,2,   135.28,2,    37.73,2,     0.00,2,     2.69,2, -999.000,9, -999.000,9, -999.000,9,-999.0000,9,  -999.00,9,   -999.0,9,   -999.0,9,   2331.3,2,   1305.2,2,   -999.0,9,   20.00,  -999.0,-999.0000,-999.000,  2.0406,-999.000
   31WTTUNES_2,  P17S,   127,  1,     25,     25,2,19910722,1929, -7.5217,-135.0033, 4394,   2279.9,   2.0196,  34.6544,2,  34.6545,2,    132.5,2,    134.1,2,   134.20,2,    36.85,2,     0.00,2,     2.61,2, -999.000,9, -999.000,9, -999.000,9,-999.0000,9,  -999.00,9,   -999.0,9,   -999.0,9,   2322.9,2,   1249.5,2,   2400.1,2,   20.00,  -999.0,-999.0000,-999.000,  1.8587,-999.000
   31WTTUNES_2,  P17S,   127,  1,     26,     26,2,19910722,1929, -7.5217,-135.0033, 4394,   2476.5,   1.8687,  34.6647,2,  34.6667,2,    135.7,2,    135.5,2,   140.55,2,    36.85,2,     0.00,2,     2.60,2, -999.000,9, -999.000,9, -999.000,9,-999.0000,9,  -999.00,9,   -999.0,9,   -999.0,9,   2328.5,2,   1226.7,2,   -999.0,9,   20.00,  -999.0,-999.0000,-999.000,  1.6930,-999.000
   31WTTUNES_2,  P17S,   127,  1,     27,     27,2,19910722,1929, -7.5217,-135.0033, 4394,   2681.3,   1.8008,  34.6711,2,  34.6726,2,    137.5,2,    136.5,2,   144.76,2,    36.85,2,     0.00,2,     2.59,2, -999.000,9, -999.000,9, -999.000,9,-999.0000,9,  -999.00,9,   -999.0,9,   -999.0,9,   2335.3,2,   1220.0,2,   2413.5,2,   20.00,  -999.0,-999.0000,-999.000,  1.6076,-999.000
   31WTTUNES_2,  P17S,   127,  1,     28,     28,2,19910722,1929, -7.5217,-135.0033, 4394,   2878.8,   1.7468,  34.6759,2,  34.6751,2,    141.2,2,    140.5,2,   145.64,2,    36.56,2,     0.00,2,     2.57,2, -999.000,9, -999.000,9, -999.000,9,-999.0000,9,  -999.00,9,   -999.0,9,   -999.0,9,   -999.0,5,   -999.0,5,   -999.0,9, -999.00,  -999.0,-999.0000,-999.000,  1.5362,-999.000
   31WTTUNES_2,  P17S,   127,  1,     29,     29,2,19910722,1929, -7.5217,-135.0033, 4394,   3075.7,   1.6679,  34.6794,2,  34.6802,2,    147.2,2,    146.5,2,   144.95,2,    36.16,2,     0.00,2,     2.55,2,   -0.001,7,    0.000,2, -999.000,9,-999.0000,9,  -999.00,9,   -999.0,9,   -999.0,9,   2329.2,2,   1172.5,2,   2410.2,2,   20.00,  -999.0,-999.0000,-999.000,  1.4401,-999.000
   31WTTUNES_2,  P17S,   127,  1,     30,     30,2,19910722,1929, -7.5217,-135.0033, 4394,   3284.6,   1.5869,  34.6846,2,  34.6842,2,    154.1,2,    155.6,2,   140.94,2,    35.58,2,     0.00,2,     2.50,2,    0.000,2,    0.004,2, -999.000,9,-999.0000,9,  -999.00,9,   -999.0,9,   -999.0,9,   -999.0,5,   -999.0,5,   -999.0,9, -999.00,  -999.0,-999.0000,-999.000,  1.3404,-999.000
   31WTTUNES_2,  P17S,   127,  1,     31,     31,2,19910722,1929, -7.5217,-135.0033, 4394,   3481.8,   1.5300,  34.6857,2,  34.6869,2,    156.8,2,    158.1,2,   141.63,2,    35.48,2,     0.00,2,     2.48,2, -999.000,9, -999.000,9, -999.000,9,-999.0000,9,  -999.00,9,   -999.0,9,   -999.0,9,   2317.7,2,   1133.5,2,   2397.2,2,   20.00,  -999.0,-999.0000,-999.000,  1.2649,-999.000
   31WTTUNES_2,  P17S,   127,  1,     32,     32,2,19910722,1929, -7.5217,-135.0033, 4394,   3679.8,   1.4950,  34.6876,2,  34.6885,2,    159.8,2,    160.4,2,   142.02,2,    35.38,2,     0.00,2,     2.47,2, -999.000,9, -999.000,9, -999.000,9,-999.0000,9,  -999.00,9,   -999.0,9,   -999.0,9,   -999.0,5,   -999.0,5,   -999.0,9, -999.00,  -999.0,-999.0000,-999.000,  1.2104,-999.000
   31WTTUNES_2,  P17S,   127,  1,     33,     33,2,19910722,1929, -7.5217,-135.0033, 4394,   3891.9,   1.4530,  34.6923,2,  34.6912,2,    164.3,2,    164.9,2,   140.75,2,    34.99,2,     0.00,2,     2.44,2, -999.000,9, -999.000,9, -999.000,9,-999.0000,9,  -999.00,9,   -999.0,9,   -999.0,9,   2315.9,2,   1095.3,2,   2397.3,2,   20.00,  -999.0,-999.0000,-999.000,  1.1471,-999.000
   31WTTUNES_2,  P17S,   127,  1,     34,     34,2,19910722,1929, -7.5217,-135.0033, 4394,   4091.5,   1.4340,  34.6940,2,  34.6940,2,    168.0,2,    168.8,2,   139.28,2,    34.70,2,     0.00,2,     2.42,2, -999.000,9, -999.000,9, -999.000,9,-999.0000,9,  -999.00,9,   -999.0,9,   -999.0,9,   2311.8,2,   1093.3,2,   -999.0,9,   20.00,  -999.0,-999.0000,-999.000,  1.1070,-999.000
   31WTTUNES_2,  P17S,   127,  1,     35,     35,2,19910722,1929, -7.5217,-135.0033, 4394,   4313.9,   1.4291,  34.6949,2,  34.6952,2,    171.3,2,    171.6,2,   137.42,2,    34.50,2,     0.00,2,     2.39,2, -999.000,9, -999.000,9, -999.000,9,-999.0000,9,  -999.00,9,   -999.0,9,   -999.0,9,   2304.3,2,   1090.4,2,   2405.4,2,   20.00,  -999.0,-999.0000,-999.000,  1.0774,-999.000
   31WTTUNES_2,  P17S,   127,  1,     36,     36,2,19910722,1929, -7.5217,-135.0033, 4394,   4422.1,   1.4320,  34.6963,2,  34.6969,2,    172.8,2,    172.1,2,   136.93,2,    34.40,2,     0.00,2,     2.40,2, -999.000,9, -999.000,9, -999.000,9,-999.0000,9,  -999.00,9,   -999.0,9,   -999.0,9,   -999.0,5,   -999.0,5,   -999.0,9, -999.00,  -999.0,-999.0000,-999.000,  1.0680,-999.000