BOTTLE,20131125MIRCJHATS
EXPOCODE,SECT_ID,STNNBR,CASTNO,SAMPNO,BTLNBR,BTLNBR_FLAG_W,DATE,TIME,LATITUDE,LONGITUDE,DEPTH,CTDPRS,CTDTMP,CTDSAL,CTDSAL_FLAG_W,SALNTY,SALNTY_FLAG_W,CTDOXY,CTDOXY_FLAG_W,OXYGEN,OXYGEN_FLAG_W,SILCAT,SILCAT_FLAG_W,NITRAT,NITRAT_FLAG_W,NITRIT,NITRIT_FLAG_W,PHSPHT,PHSPHT_FLAG_W,CFC-11,CFC-11_FLAG_W,CFC-12,CFC-12_FLAG_W,TRITUM,TRITUM_FLAG_W,HELIUM,HELIUM_FLAG_W,DELHE3,DELHE3_FLAG_W,DELC14,DELC14_FLAG_W,DELC13,DELC13_FLAG_W,TCARBN,TCARBN_FLAG_W,PCO2,PCO2_FLAG_W,ALKALI,ALKALI_FLAG_W,PCO2TMP,C14ERR,HELIER,DELHER,THETA,TRITER
,,,,,,,,,,,,DBAR,ITS-90,PSS-78,,PSS-78,,UMOL/KG,,UMOL/KG,,UMOL/KG,,UMOL/KG,,UMOL/KG,,UMOL/KG,,PMOL/KG,,PMOL/KG,,TU,,NMOL/KG,,PERCNT,,/MILLE,,/MILLE,,UMOL/KG,,UATM,,UMOL/KG,,DEG C,/MILLE,NMOL/KG,PERCNT,DEG C,TU
   31WTTUNES_2,  P17S,   171,  1,     61,     61,2,19910805,1201,-29.0767,-133.9250, 4224,      2.9,  18.6617,  35.4110,2,  35.4123,2,    229.3,3,    231.0,2,     1.74,2,     0.11,2,     0.00,2,     0.09,2,    2.352,2,    1.225,2, -999.000,9,-999.0000,9,  -999.00,9,   -999.0,9,   -999.0,9,   2016.1,2,    314.8,2,   -999.0,9,   20.00,  -999.0,-999.0000,-999.000, 18.6612,-999.000
   31WTTUNES_2,  P17S,   171,  1,      2,      2,2,19910805,1201,-29.0767,-133.9250, 4224,     56.0,  18.6649,  35.4108,2,  35.4123,2,    232.8,6,    231.1,2,     1.34,2,     0.06,2,     0.00,2,     0.09,2,    2.341,2,    1.232,2, -999.000,9,-999.0000,9,  -999.00,9,   -999.0,9,   -999.0,9,   2016.8,2,    319.6,2,   -999.0,9,   20.00,  -999.0,-999.0000,-999.000, 18.6551,-999.000
   31WTTUNES_2,  P17S,   171,  1,      3,      3,2,19910805,1201,-29.0767,-133.9250, 4224,    108.2,  18.5012,  35.3851,2,  35.3873,2,    233.4,2,    230.4,2,     1.34,2,     0.06,2,     0.00,2,     0.10,2,    2.349,2,    1.237,2,    0.912,2,   1.7550,2,    -1.11,2,   -999.0,9,   -999.0,9,   2017.8,2,    327.3,2,   -999.0,9,   20.00,  -999.0,  0.0080,   0.150, 18.4822,   0.007
   31WTTUNES_2,  P17S,   171,  1,      4,      4,2,19910805,1201,-29.0767,-133.9250, 4224,    157.8,  16.7745,  35.3291,2,  35.3169,2,    206.8,2,    203.1,2,     1.73,2,     2.90,2,     0.01,2,     0.35,2,    2.057,2,    1.069,2,    0.750,2,   1.7630,2,     0.88,2,   -999.0,9,   -999.0,9,   2059.5,2,    410.9,2,   -999.0,9,   20.00,  -999.0,  0.0080,   0.150, 16.7486,   0.006
   31WTTUNES_2,  P17S,   171,  1,      5,      5,2,19910805,1201,-29.0767,-133.9250, 4224,    208.6,  15.7915,  35.2514,2,  35.2464,2,    199.5,2,    199.5,2,     1.72,2,     4.62,2,     0.01,2,     0.47,2,    1.958,2,    0.996,2,    0.683,2,   1.7620,2,     1.10,2,   -999.0,9,   -999.0,9,   2072.0,2,    440.2,2,   -999.0,9,   20.00,  -999.0,  0.0080,   0.150, 15.7587,   0.006
   31WTTUNES_2,  P17S,   171,  1,      6,      6,2,19910805,1201,-29.0767,-133.9250, 4224,    248.3,  14.8907,  35.1519,2,  35.1481,2,    195.2,2,    199.0,2,     1.92,2,     6.10,2,     0.00,2,     0.57,2,    1.890,2,    0.973,2,    0.617,2,   1.7480,2,     0.92,2,   -999.0,9,   -999.0,9,   2077.2,2,    469.7,2,   -999.0,9,   20.00,  -999.0,  0.0080,   0.150, 14.8532,   0.005
   31WTTUNES_2,  P17S,   171,  1,      7,      7,2,19910805,1201,-29.0767,-133.9250, 4224,    278.5,  13.9003,  35.0553,2,  35.0540,2,    192.8,6,    193.5,2,     2.70,2,     8.84,2,     0.00,2,     0.73,2,    1.565,2,    0.802,2, -999.000,9,-999.0000,9,  -999.00,9,   -999.0,9,   -999.0,9,   2090.4,2,    503.9,2,   -999.0,9,   20.00,  -999.0,-999.0000,-999.000, 13.8601,-999.000
   31WTTUNES_2,  P17S,   171,  1,     68,     68,2,19910805,1201,-29.0767,-133.9250, 4224,    309.2,  12.8573,  34.9284,2,  34.9336,2,    194.5,2,    192.5,2,     3.48,2,    10.97,2,     0.00,2,     0.87,2,    1.375,2,    0.702,2,    0.470,2,   1.7690,2,     1.24,2,   -999.0,9,   -999.0,9,   2097.1,2,    539.5,2,   -999.0,9,   20.00,  -999.0,  0.0080,   0.150, 12.8149,   0.005
   31WTTUNES_2,  P17S,   171,  1,     69,     69,2,19910805,1201,-29.0767,-133.9250, 4224,    361.3,  10.3675,  34.6518,2,  34.6485,2,    199.3,2,    201.3,2,     4.46,2,    15.69,2,     0.00,2,     1.17,2,    1.264,2,    0.635,2, -999.000,9,-999.0000,9,  -999.00,9,   -999.0,9,   -999.0,9,   2114.4,2,    639.4,2,   -999.0,9,   20.00,  -999.0,-999.0000,-999.000, 10.3245,-999.000
   31WTTUNES_2,  P17S,   171,  1,     70,     70,2,19910805,1201,-29.0767,-133.9250, 4224,    412.8,   8.7416,  34.5066,2,  34.5053,2,    210.0,2,    211.1,2,     5.63,2,    19.03,2,     0.00,2,     1.37,2,    1.144,2,    0.584,2,    0.286,2,   1.7610,2,     0.89,2,   -999.0,9,   -999.0,9,   2127.2,2,    698.2,2,   -999.0,9,   20.00,  -999.0,  0.0080,   0.150,  8.6972,   0.004
   31WTTUNES_2,  P17S,   171,  1,     11,     11,2,19910805,1201,-29.0767,-133.9250, 4224,    474.0,   7.6303,  34.4271,2,  34.4252,2,    219.5,2,    226.3,2,     7.01,2,    20.86,2,     0.00,2,     1.48,2,    1.219,2,    0.606,2, -999.000,9,-999.0000,9,  -999.00,9,   -999.0,9,   -999.0,9,   2128.1,2,    725.3,2,   -999.0,9,   20.00,  -999.0,-999.0000,-999.000,  7.5832,-999.000
   31WTTUNES_2,  P17S,   171,  1,     12,     12,2,19910805,1201,-29.0767,-133.9250, 4224,    533.5,   7.0784,  34.3923,2,  34.3929,2,    233.2,2,    236.4,2,     7.59,2,    21.67,2,     0.00,2,     1.51,2,    1.228,2,    0.621,2,    0.225,2,   1.8140,2,     0.37,2,   -999.0,9,   -999.0,9,   2130.3,2,    719.0,2,   -999.0,9,   20.00,  -999.0,  0.0090,   0.150,  7.0274,   0.003
   31WTTUNES_2,  P17S,   171,  1,     13,     13,2,19910805,1201,-29.0767,-133.9250, 4224,    594.7,   6.5900,  34.3592,2,  34.3597,2,    240.9,2,    240.0,2,     8.76,2,    22.79,2,     0.00,2,     1.59,2,    0.957,2,    0.491,2, -999.000,9,-999.0000,9,  -999.00,9,   -999.0,9,   -999.0,9,   2132.6,2,    738.7,2,   -999.0,9,   20.00,  -999.0,-999.0000,-999.000,  6.5351,-999.000
   31WTTUNES_2,  P17S,   171,  1,     37,     37,2,19910805,1201,-29.0767,-133.9250, 4224,    634.6,   6.3858,  34.3460,2,-999.0000,9,    241.8,2,    242.2,2,     9.35,2,    23.24,2,     0.00,2,     1.61,2,    0.827,2,    0.422,2,    0.167,2,   1.7880,2,     0.37,2,   -999.0,9,   -999.0,9,   2135.3,2,    741.6,2,   -999.0,9,   20.00,  -999.0,  0.0080,   0.150,  6.3281,   0.003
   31WTTUNES_2,  P17S,   171,  1,     15,     15,2,19910805,1201,-29.0767,-133.9250, 4224,    673.9,   6.1339,  34.3280,2,  34.3279,2,    238.6,2,    239.9,2,    10.52,2,    24.15,2,     0.00,2,     1.67,2,    0.631,2,    0.331,2, -999.000,9,-999.0000,9,  -999.00,9,   -999.0,9,   -999.0,9,   2140.8,2,    762.9,2,   -999.0,9,   20.00,  -999.0,-999.0000,-999.000,  6.0737,-999.000
   31WTTUNES_2,  P17S,   171,  1,     16,     16,2,19910805,1201,-29.0767,-133.9250, 4224,    733.6,   5.7164,  34.3069,2,  34.3071,2,    233.4,2,    233.8,2,    13.46,2,    25.62,2,     0.00,2,     1.77,2,    0.330,2,    0.225,2, -999.000,9,-999.0000,9,  -999.00,9,   -999.0,9,   -999.0,9,   2148.2,2,    793.7,2,   -999.0,9,   20.00,  -999.0,-999.0000,-999.000,  5.6529,-999.000
   31WTTUNES_2,  P17S,   171,  1,     17,     17,2,19910805,1201,-29.0767,-133.9250, 4224,    791.4,   5.4499,  34.2991,2,  34.3003,2,    226.4,2,    227.4,2,    15.80,2,    26.74,2,     0.00,2,     1.86,2,    0.282,2,    0.164,2, -999.000,9,-999.0000,9,  -999.00,9,   -999.0,9,   -999.0,9,   2151.8,2,    820.1,2,   -999.0,9,   20.00,  -999.0,-999.0000,-999.000,  5.3827,-999.000
   31WTTUNES_2,  P17S,   171,  1,     18,     18,2,19910805,1201,-29.0767,-133.9250, 4224,    830.6,   5.2023,  34.2931,2,  34.2944,2,    218.9,2,    218.0,2,    18.94,2,    28.16,2,     0.00,2,     1.96,2,    0.174,2,    0.110,2, -999.000,9,-999.0000,9,  -999.00,9,   -999.0,9,   -999.0,9,   2165.1,2,    876.7,2,   -999.0,9,   20.00,  -999.0,-999.0000,-999.000,  5.1331,-999.000
   31WTTUNES_2,  P17S,   171,  1,     19,     19,2,19910805,1201,-29.0767,-133.9250, 4224,    870.3,   4.9599,  34.2997,2,  34.3009,2,    210.8,2,    210.5,2,    23.25,2,    29.23,2,     0.00,2,     2.03,2,    0.119,2,    0.081,2, -999.000,9,-999.0000,9,  -999.00,9,   -999.0,9,   -999.0,9,   2173.7,2,    907.2,2,   -999.0,9,   20.00,  -999.0,-999.0000,-999.000,  4.8888,-999.000
   31WTTUNES_2,  P17S,   171,  1,     20,     20,2,19910805,1201,-29.0767,-133.9250, 4224,    942.7,   4.5818,  34.3167,2,  34.3174,2,    198.1,2,    200.7,2,    29.91,2,    30.55,2,     0.00,2,     2.14,2,    0.074,2,    0.050,2, -999.000,9,-999.0000,9,  -999.00,9,   -999.0,9,   -999.0,9,   2184.2,2,    966.9,2,   -999.0,9,   20.00,  -999.0,-999.0000,-999.000,  4.5069,-999.000
   31WTTUNES_2,  P17S,   171,  1,     21,     21,2,19910805,1201,-29.0767,-133.9250, 4224,   1013.3,   4.2049,  34.3441,2,  34.3439,2,    187.0,2,    189.1,2,    38.33,2,    32.14,2,     0.00,2,     2.24,2,    0.034,2,    0.025,2, -999.000,9,   1.8080,2,     4.05,2,   -999.0,9,   -999.0,9,   2202.6,2,   1028.2,2,   -999.0,9,   20.00,  -999.0,-999.0000,-999.000,  4.1268,-999.000
   31WTTUNES_2,  P17S,   171,  1,     22,     22,2,19910805,1201,-29.0767,-133.9250, 4224,   1119.6,   3.7323,  34.3899,2,  34.3894,2,    177.0,2,    177.8,2,    50.50,2,    33.47,2,     0.00,2,     2.36,2,    0.011,2,    0.010,2, -999.000,9,   1.8200,2,     6.38,2,   -999.0,9,   -999.0,9,   2221.6,2,   1096.3,2,   -999.0,9,   20.00,  -999.0,-999.0000,-999.000,  3.6491,-999.000
   31WTTUNES_2,  P17S,   171,  1,     23,     23,2,19910805,1201,-29.0767,-133.9250, 4224,   1278.3,   3.2045,  34.4585,2,  34.4589,2,    168.7,2,    168.3,2,    66.43,2,    34.39,2,     0.00,2,     2.42,2,    0.002,2,    0.000,2, -999.000,9,   1.8420,2,    10.65,2,   -999.0,9,   -999.0,9,   2243.0,2,   1141.2,2,   -999.0,9,   20.00,  -999.0,-999.0000,-999.000,  3.1130,-999.000
   31WTTUNES_2,  P17S,   171,  1,     24,     24,2,19910805,1201,-29.0767,-133.9250, 4224,   1431.4,   2.8125,  34.5233,2,  34.5231,2,    161.5,2,    161.6,2,    82.42,2,    34.80,2,     0.00,2,     2.46,2,    0.001,7,    0.000,2, -999.000,9,   1.9120,2,    14.61,2,   -999.0,9,   -999.0,9,   2263.0,2,   1171.0,2,   -999.0,9,   20.00,  -999.0,-999.0000,-999.000,  2.7125,-999.000
   31WTTUNES_2,  P17S,   171,  1,     25,     25,2,19910805,1201,-29.0767,-133.9250, 4224,   1632.0,   2.4726,  34.5781,2,  34.5793,2,    155.6,2,    157.2,2,    98.33,2,    35.00,2,     0.00,2,     2.49,2,    0.001,7,    0.000,2, -999.000,9,   1.8820,2,    18.86,2,   -999.0,9,   -999.0,9,   2278.0,2,   1168.2,2,   -999.0,9,   20.00,  -999.0,-999.0000,-999.000,  2.3602,-999.000
   31WTTUNES_2,  P17S,   171,  1,     26,     26,2,19910805,1201,-29.0767,-133.9250, 4224,   1836.6,   2.2515,  34.6101,2,  34.6108,2,    156.2,2,    154.2,2,   110.16,2,    35.30,2,     0.00,2,     2.51,2,    0.004,2,    0.005,7, -999.000,9,   1.8880,2,    21.57,2,   -999.0,9,   -999.0,9,   2291.9,2,   1186.3,2,   -999.0,9,   20.00,  -999.0,-999.0000,-999.000,  2.1251,-999.000
   31WTTUNES_2,  P17S,   171,  1,     27,     27,2,19910805,1201,-29.0767,-133.9250, 4224,   2042.7,   2.0956,  34.6306,2,  34.6312,2,    153.2,2,    153.1,2,   117.00,2,    35.35,2,     0.00,2,     2.51,2,    0.000,2,    0.000,2, -999.000,9,   1.8780,2,    23.49,2,   -999.0,9,   -999.0,9,   2299.6,2,   1186.6,2,   -999.0,9,   20.00,  -999.0,-999.0000,-999.000,  1.9541,-999.000
   31WTTUNES_2,  P17S,   171,  1,     28,     28,2,19910805,1201,-29.0767,-133.9250, 4224,   2300.9,   1.9410,  34.6470,2,  34.6473,2,    154.0,2,    153.6,2,   123.07,2,    35.39,2,     0.00,2,     2.52,2,    0.000,7,    0.000,2, -999.000,9,-999.0000,5,    24.39,2,   -999.0,9,   -999.0,9,   2305.0,2,   1181.4,2,   -999.0,9,   20.00,  -999.0,-999.0000,-999.000,  1.7796,-999.000
   31WTTUNES_2,  P17S,   171,  1,     29,     29,2,19910805,1201,-29.0767,-133.9250, 4224,   2558.8,   1.8369,  34.6579,2,  34.6589,2,    154.7,2,    155.4,2,   126.71,2,    35.38,2,     0.00,2,     2.51,2,    0.002,2,    0.006,7, -999.000,9,   1.9230,2,    23.59,2,   -999.0,9,   -999.0,9,   2306.4,2,   1178.7,2,   -999.0,9,   20.00,  -999.0,-999.0000,-999.000,  1.6543,-999.000
   31WTTUNES_2,  P17S,   171,  1,     30,     30,2,19910805,1201,-29.0767,-133.9250, 4224,   2815.6,   1.7430,  34.6666,2,  34.6668,2,    160.1,2,    159.1,2,   128.10,2,    35.07,2,     0.00,2,     2.48,2,    0.001,2,    0.000,2, -999.000,9,   1.9000,2,    22.92,2,   -999.0,9,   -999.0,9,   2306.2,2,   1172.0,2,   -999.0,9,   20.00,  -999.0,-999.0000,-999.000,  1.5384,-999.000
   31WTTUNES_2,  P17S,   171,  1,     31,     31,2,19910805,1201,-29.0767,-133.9250, 4224,   3075.8,   1.6653,  34.6736,2,  34.6758,2,    163.4,2,    164.1,2,   127.86,2,    34.60,2,     0.00,2,     2.46,2,    0.000,2,    0.000,2, -999.000,9,   1.8940,2,    21.99,2,   -999.0,9,   -999.0,9,   2302.8,2,   1151.2,2,   -999.0,9,   20.00,  -999.0,-999.0000,-999.000,  1.4375,-999.000
   31WTTUNES_2,  P17S,   171,  1,     32,     32,2,19910805,1201,-29.0767,-133.9250, 4224,   3335.2,   1.5977,  34.6794,2,  34.6802,2,    171.3,2,    169.2,2,   127.00,2,    34.33,2,     0.00,2,     2.43,2,    0.000,2,    0.000,2, -999.000,9,   1.8740,2,    20.62,2,   -999.0,9,   -999.0,9,   2299.5,2,   1136.4,2,   -999.0,9,   20.00,  -999.0,-999.0000,-999.000,  1.3459,-999.000
   31WTTUNES_2,  P17S,   171,  1,     33,     33,2,19910805,1201,-29.0767,-133.9250, 4224,   3593.5,   1.5349,  34.6858,2,  34.6861,2,    174.5,2,    174.3,2,   126.55,2,    33.96,2,     0.00,2,     2.40,2,    0.000,7,    0.000,2, -999.000,9,   1.8730,2,    18.80,2,   -999.0,9,   -999.0,9,   2294.5,2,   1124.9,2,   -999.0,9,   20.00,  -999.0,-999.0000,-999.000,  1.2582,-999.000
   31WTTUNES_2,  P17S,   171,  1,     34,     34,2,19910805,1201,-29.0767,-133.9250, 4224,   3853.8,   1.5053,  34.6897,2,  34.6900,2,    176.7,2,    177.4,2,   125.70,2,    33.75,2,     0.00,2,     2.37,2,    0.001,7,    0.000,2, -999.000,9,   1.8920,2,    17.25,2,   -999.0,9,   -999.0,9,   2292.3,2,   1118.2,2,   -999.0,9,   20.00,  -999.0,-999.0000,-999.000,  1.2020,-999.000
   31WTTUNES_2,  P17S,   171,  1,     35,     35,2,19910805,1201,-29.0767,-133.9250, 4224,   4115.5,   1.5063,  34.6925,2,  34.6924,2,    180.4,2,    179.5,2,   124.84,2,    33.69,2,     0.00,2,     2.37,2,    0.001,7,    0.000,2, -999.000,9,   1.9000,2,    16.59,2,   -999.0,9,   -999.0,9,   2290.0,2,   1090.7,2,   -999.0,9,   20.00,  -999.0,-999.0000,-999.000,  1.1745,-999.000
   31WTTUNES_2,  P17S,   171,  1,     38,     38,2,19910805,1201,-29.0767,-133.9250, 4224,   4298.6,   1.5240,  34.6923,2,  34.6928,2,    179.6,2,    179.2,2,   125.01,2,    33.69,2,     0.00,2,     2.37,2,    0.001,7,    0.000,2, -999.000,9,-999.0000,5,    16.28,2,   -999.0,9,   -999.0,9,   2288.4,2,   1124.0,2,   -999.0,9,   20.00,  -999.0,-999.0000,-999.000,  1.1713,-999.000