BOTTLE,20131125MIRCJHATS
EXPOCODE,SECT_ID,STNNBR,CASTNO,SAMPNO,BTLNBR,BTLNBR_FLAG_W,DATE,TIME,LATITUDE,LONGITUDE,DEPTH,CTDPRS,CTDTMP,CTDSAL,CTDSAL_FLAG_W,SALNTY,SALNTY_FLAG_W,CTDOXY,CTDOXY_FLAG_W,OXYGEN,OXYGEN_FLAG_W,SILCAT,SILCAT_FLAG_W,NITRAT,NITRAT_FLAG_W,NITRIT,NITRIT_FLAG_W,PHSPHT,PHSPHT_FLAG_W,CFC-11,CFC-11_FLAG_W,CFC-12,CFC-12_FLAG_W,TRITUM,TRITUM_FLAG_W,HELIUM,HELIUM_FLAG_W,DELHE3,DELHE3_FLAG_W,DELC14,DELC14_FLAG_W,DELC13,DELC13_FLAG_W,TCARBN,TCARBN_FLAG_W,PCO2,PCO2_FLAG_W,ALKALI,ALKALI_FLAG_W,PCO2TMP,C14ERR,HELIER,DELHER,THETA,TRITER
,,,,,,,,,,,,DBAR,ITS-90,PSS-78,,PSS-78,,UMOL/KG,,UMOL/KG,,UMOL/KG,,UMOL/KG,,UMOL/KG,,UMOL/KG,,PMOL/KG,,PMOL/KG,,TU,,NMOL/KG,,PERCNT,,/MILLE,,/MILLE,,UMOL/KG,,UATM,,UMOL/KG,,DEG C,/MILLE,NMOL/KG,PERCNT,DEG C,TU
   31WTTUNES_2,  P17S,   167,  1,     61,     61,2,19910804,1203,-27.1317,-133.4317, 3897,      4.1,  19.5498,  35.5037,2,  35.5066,2,    223.7,3,    226.2,2,     1.66,2,     0.00,2,     0.01,2,     0.09,2,    2.202,2,    1.168,2,    0.992,2,   0.0000,2,     0.00,2,   -999.0,9,   -999.0,9,   2011.2,2,    305.5,2,   -999.0,9,   20.00,  -999.0,-999.0000,   0.150, 19.5491,   0.007
   31WTTUNES_2,  P17S,   167,  1,      2,      2,2,19910804,1203,-27.1317,-133.4317, 3897,     51.4,  19.5488,  35.5046,2,  35.5064,2,    226.7,2,    226.4,2,     1.07,2,     0.00,2,     0.00,2,     0.09,2, -999.000,9, -999.000,9, -999.000,9,-999.0000,9,  -999.00,9,   -999.0,9,   -999.0,9,   2011.1,2,    305.2,2,   -999.0,9,   20.00,  -999.0,-999.0000,-999.000, 19.5395,-999.000
   31WTTUNES_2,  P17S,   167,  1,      3,      3,2,19910804,1203,-27.1317,-133.4317, 3897,     98.0,  19.4988,  35.4952,2,  35.4969,2,    226.3,2,    226.2,2,     1.07,2,     0.00,2,     0.00,2,     0.09,2,    2.265,2,    1.166,2,    0.964,2,   1.7580,2,    -1.23,2,   -999.0,9,   -999.0,9,   2013.3,2,    305.5,2,   -999.0,9,   20.00,  -999.0,  0.0080,   0.150, 19.4810,   0.007
   31WTTUNES_2,  P17S,   167,  1,      4,      4,2,19910804,1203,-27.1317,-133.4317, 3897,    149.2,  19.2257,  35.4720,2,  35.4596,2,    225.0,2,    224.6,2,     1.07,2,     0.00,2,     0.02,2,     0.11,2, -999.000,9, -999.000,9,    0.945,2,   1.7460,2,    -0.87,2,   -999.0,9,   -999.0,9,   2019.1,2,    321.2,2,   -999.0,9,   20.00,  -999.0,  0.0080,   0.150, 19.1988,   0.007
   31WTTUNES_2,  P17S,   167,  1,      5,      5,2,19910804,1203,-27.1317,-133.4317, 3897,    198.9,  17.5332,  35.3359,2,  35.3313,2,    216.8,2,    215.6,2,     1.07,2,     0.88,2,     0.06,2,     0.22,2,    2.254,2,    1.157,2,    0.811,2,   0.0000,2,     0.00,2,   -999.0,9,   -999.0,9,   2047.6,2,    373.6,2,   -999.0,9,   20.00,  -999.0,  0.0070,   0.150, 17.4996,   0.006
   31WTTUNES_2,  P17S,   167,  1,      6,      6,2,19910804,1203,-27.1317,-133.4317, 3897,    260.7,  16.2269,  35.3014,2,  35.1167,4,    195.6,2,    196.6,2,     1.47,2,     4.30,2,     0.01,2,     0.44,2, -999.000,5, -999.000,5,    0.718,2,   1.7680,2,     1.36,2,   -999.0,9,   -999.0,9,   2069.0,2,    428.5,2,   -999.0,9,   20.00,  -999.0,  0.0080,   0.150, 16.1851,   0.006
   31WTTUNES_2,  P17S,   167,  1,      7,      7,2,19910804,1203,-27.1317,-133.4317, 3897,    322.3,  14.5066,  35.1370,2,  35.1169,2,    195.0,2,    193.8,2,     2.25,2,     7.72,2,     0.01,2,     0.65,2,    1.605,2,    0.826,2,    0.574,2,   1.7570,2,     1.20,2,   -999.0,9,   -999.0,9,   2087.1,2,    488.0,2,   -999.0,9,   20.00,  -999.0,  0.0080,   0.150, 14.4587,   0.006
   31WTTUNES_2,  P17S,   167,  1,     68,     68,2,19910804,1203,-27.1317,-133.4317, 3897,    354.1,  13.4135,  34.9973,2,  35.0018,2,    190.4,2,    193.2,2,     2.64,2,     9.77,2,     0.01,2,     0.78,2,    1.467,2,    0.752,2,    0.518,2,   1.7770,2,     1.12,2,   -999.0,9,   -999.0,9,   2095.2,2,    525.6,2,   -999.0,9,   20.00,  -999.0,  0.0080,   0.150, 13.3635,   0.005
   31WTTUNES_2,  P17S,   167,  1,     69,     69,2,19910804,1203,-27.1317,-133.4317, 3897,    384.0,  11.8213,  34.8265,2,  34.8251,2,    195.1,2,    194.9,2,     3.81,2,    13.00,2,     0.01,2,     0.99,2,    1.199,2,    0.648,2,    0.391,2,   1.7840,2,     0.87,2,   -999.0,9,   -999.0,9,   2107.0,2,    584.0,2,   -999.0,9,   20.00,  -999.0,  0.0080,   0.150, 11.7714,   0.004
   31WTTUNES_2,  P17S,   167,  1,     70,     70,2,19910804,1203,-27.1317,-133.4317, 3897,    445.2,   9.7692,  34.6128,2,  34.6142,2,    203.5,2,    203.4,2,     4.59,2,    17.01,2,     0.01,2,     1.23,2,    1.124,2,    0.571,2,    0.322,2,   1.7740,2,     0.98,2,   -999.0,9,   -999.0,9,   2119.8,2,    661.0,2,   -999.0,9,   20.00,  -999.0,  0.0080,   0.150,  9.7179,   0.004
   31WTTUNES_2,  P17S,   167,  1,     11,     11,2,19910804,1203,-27.1317,-133.4317, 3897,    516.8,   7.7983,  34.4424,2,  34.4404,2,    222.4,2,    224.9,2,     6.16,2,    20.33,2,     0.00,2,     1.43,2,    1.248,2,    0.625,2,    0.259,2,   1.8430,2,     0.41,2,   -999.0,9,   -999.0,9,   2131.3,2,    715.3,2,   -999.0,9,   20.00,  -999.0,  0.0090,   0.150,  7.7461,   0.004
   31WTTUNES_2,  P17S,   167,  1,     12,     12,2,19910804,1203,-27.1317,-133.4317, 3897,    587.5,   7.0244,  34.3914,2,  34.3904,2,    236.2,2,    238.6,2,     7.53,2,    21.51,2,     0.00,2,     1.51,2, -999.000,9, -999.000,9, -999.000,9,-999.0000,9,  -999.00,9,   -999.0,9,   -999.0,9,   2131.3,2,    724.4,2,   -999.0,9,   20.00,  -999.0,-999.0000,-999.000,  6.9682,-999.000
   31WTTUNES_2,  P17S,   167,  1,     13,     13,2,19910804,1203,-27.1317,-133.4317, 3897,    658.6,   6.4474,  34.3477,2,  34.3482,2,    237.7,2,    239.6,2,     9.29,2,    23.27,2,     0.00,2,     1.61,2,    0.775,2,    0.392,2,    0.180,2,   1.8020,2,     0.56,2,   -999.0,9,   -999.0,9,   2134.2,2,    743.2,2,   -999.0,9,   20.00,  -999.0,  0.0080,   0.150,  6.3871,   0.003
   31WTTUNES_2,  P17S,   167,  1,     37,     37,2,19910804,1203,-27.1317,-133.4317, 3897,    698.9,   6.2754,  34.3372,2,  34.3366,2,    237.3,2,    238.8,2,     9.68,2,    23.76,2,     0.00,2,     1.65,2, -999.000,9, -999.000,9, -999.000,9,-999.0000,9,  -999.00,9,   -999.0,9,   -999.0,9,   2139.4,2,    758.6,2,   -999.0,9,   20.00,  -999.0,-999.0000,-999.000,  6.2121,-999.000
   31WTTUNES_2,  P17S,   167,  1,     15,     15,2,19910804,1203,-27.1317,-133.4317, 3897,    738.9,   6.0025,  34.3196,2,  34.3195,2,    234.4,2,    236.1,2,    11.44,2,    24.54,2,     0.00,2,     1.70,2,    0.255,8,    0.304,2,    0.127,2,   1.8190,2,     0.74,2,   -999.0,9,   -999.0,9,   2140.2,2,    776.0,2,   -999.0,9,   20.00,  -999.0,  0.0090,   0.150,  5.9369,   0.003
   31WTTUNES_2,  P17S,   167,  1,     16,     16,2,19910804,1203,-27.1317,-133.4317, 3897,    810.5,   5.4765,  34.2983,2,  34.2970,2,    229.3,2,    227.7,2,    15.55,2,    26.59,2,     0.00,2,     1.85,2, -999.000,9, -999.000,9,    0.080,2,   1.8060,2,     0.86,2,   -999.0,9,   -999.0,9,   2152.2,2,    827.1,2,   -999.0,9,   20.00,  -999.0,  0.0080,   0.150,  5.4074,   0.002
   31WTTUNES_2,  P17S,   167,  1,     17,     17,2,19910804,1203,-27.1317,-133.4317, 3897,    872.5,   5.0996,  34.2987,2,  34.2997,2,    217.8,2,    217.2,2,    20.43,2,    28.35,2,     0.00,2,     1.96,2,    0.179,2,    0.119,2, -999.000,9,-999.0000,9,  -999.00,9,   -999.0,9,   -999.0,9,   2167.2,2,    882.0,2,   -999.0,9,   20.00,  -999.0,-999.0000,-999.000,  5.0273,-999.000
   31WTTUNES_2,  P17S,   167,  1,     18,     18,2,19910804,1203,-27.1317,-133.4317, 3897,    934.6,   4.7056,  34.3094,2,  34.3107,2,    204.6,2,    204.1,2,    27.28,2,    30.21,2,     0.00,2,     2.10,2,    0.094,2,    0.072,2,    0.019,2,   1.8380,2,     2.25,2,   -999.0,9,   -999.0,9,   2177.7,2,    948.6,2,   -999.0,9,   20.00,  -999.0,  0.0090,   0.150,  4.6306,   0.001
   31WTTUNES_2,  P17S,   167,  1,     19,     19,2,19910804,1203,-27.1317,-133.4317, 3897,   1028.0,   4.2547,  34.3411,2,-999.0000,9,    182.1,2,   -999.0,9,  -999.00,9,  -999.00,9,  -999.00,9,  -999.00,9, -999.000,9, -999.000,9, -999.000,9,-999.0000,9,  -999.00,9,   -999.0,9,   -999.0,9,   -999.0,5,   -999.0,5,   -999.0,9, -999.00,  -999.0,-999.0000,-999.000,  4.1750,-999.000
   31WTTUNES_2,  P17S,   167,  1,     20,     20,2,19910804,1203,-27.1317,-133.4317, 3897,   1130.8,   3.7368,  34.4000,2,  34.4008,2,    168.1,2,    168.3,2,    52.79,2,    34.22,2,     0.00,2,     2.40,2,    0.007,2,    0.007,2,    0.001,2,   0.0000,2,     0.00,2,   -999.0,9,   -999.0,9,   2229.0,2,   1139.0,2,   -999.0,9,   20.00,  -999.0,-999.0000,   0.150,  3.6526,   0.001
   31WTTUNES_2,  P17S,   167,  1,     21,     21,2,19910804,1203,-27.1317,-133.4317, 3897,   1233.7,   3.3829,  34.4483,2,  34.4493,2,    162.9,2,    161.8,2,    64.62,2,    34.80,2,     0.00,2,     2.44,2,    0.004,2,    0.005,7,    0.003,2,   1.8570,2,    10.75,2,   -999.0,9,   -999.0,9,   2243.8,2,   1174.0,2,   -999.0,9,   20.00,  -999.0,  0.0090,   0.150,  3.2933,   0.001
   31WTTUNES_2,  P17S,   167,  1,     22,     22,2,19910804,1203,-27.1317,-133.4317, 3897,   1335.3,   3.0250,  34.4990,2,  34.4987,2,    157.8,2,    158.1,2,    76.84,2,    35.19,2,     0.00,2,     2.47,2, -999.000,9, -999.000,9, -999.000,9,-999.0000,9,  -999.00,9,   -999.0,9,   -999.0,9,   2255.6,2,   1189.4,2,   -999.0,9,   20.00,  -999.0,-999.0000,-999.000,  2.9306,-999.000
   31WTTUNES_2,  P17S,   167,  1,     23,     23,2,19910804,1203,-27.1317,-133.4317, 3897,   1436.5,   2.8360,  34.5281,2,  34.5278,2,    157.0,2,    157.4,2,    84.56,2,    35.29,2,     0.00,2,     2.49,2, -999.000,9, -999.000,9, -999.000,9,-999.0000,9,  -999.00,9,   -999.0,9,   -999.0,9,   2263.9,2,   1192.7,2,   -999.0,9,   20.00,  -999.0,-999.0000,-999.000,  2.7354,-999.000
   31WTTUNES_2,  P17S,   167,  1,     24,     24,2,19910804,1203,-27.1317,-133.4317, 3897,   1538.6,   2.6210,  34.5591,2,  34.5588,2,    153.5,2,    157.9,2,    93.25,2,    35.19,2,     0.00,2,     2.48,2, -999.000,9, -999.000,9, -999.000,9,-999.0000,9,  -999.00,9,   -999.0,9,   -999.0,9,   2275.2,2,   1191.6,2,   -999.0,9,   20.00,  -999.0,-999.0000,-999.000,  2.5145,-999.000
   31WTTUNES_2,  P17S,   167,  1,     25,     25,2,19910804,1203,-27.1317,-133.4317, 3897,   1734.4,   2.3501,  34.5968,2,  34.5963,2,    155.2,2,    154.6,2,   105.08,2,    35.19,2,     0.00,2,     2.49,2, -999.000,9, -999.000,9, -999.000,9,-999.0000,9,  -999.00,9,   -999.0,9,   -999.0,9,   2283.6,2,   1192.2,2,   -999.0,9,   20.00,  -999.0,-999.0000,-999.000,  2.2308,-999.000
   31WTTUNES_2,  P17S,   167,  1,     26,     26,2,19910804,1203,-27.1317,-133.4317, 3897,   1923.6,   2.1692,  34.6199,2,  34.6195,2,    154.2,2,    153.7,2,   113.09,2,    35.38,2,     0.00,2,     2.49,2, -999.000,9, -999.000,9, -999.000,9,-999.0000,9,  -999.00,9,   -999.0,9,   -999.0,9,   2291.4,2,   1192.6,2,   -999.0,9,   20.00,  -999.0,-999.0000,-999.000,  2.0366,-999.000
   31WTTUNES_2,  P17S,   167,  1,     27,     27,2,19910804,1203,-27.1317,-133.4317, 3897,   2145.6,   2.0022,  34.6400,2,  34.6413,2,    153.0,2,    153.5,2,   120.81,2,    35.48,2,     0.00,2,     2.50,2, -999.000,9, -999.000,9, -999.000,9,-999.0000,9,  -999.00,9,   -999.0,9,   -999.0,9,   2300.0,2,   1190.0,2,   -999.0,9,   20.00,  -999.0,-999.0000,-999.000,  1.8533,-999.000
   31WTTUNES_2,  P17S,   167,  1,     28,     28,2,19910804,1203,-27.1317,-133.4317, 3897,   2356.2,   1.8902,  34.6515,2,  34.6529,2,    155.2,2,    154.9,2,   124.43,2,    35.19,2,     0.00,2,     2.48,2, -999.000,9, -999.000,9, -999.000,9,-999.0000,9,  -999.00,9,   -999.0,9,   -999.0,9,   2299.1,2,   1185.0,2,   -999.0,9,   20.00,  -999.0,-999.0000,-999.000,  1.7248,-999.000
   31WTTUNES_2,  P17S,   167,  1,     29,     29,2,19910804,1203,-27.1317,-133.4317, 3897,   2558.1,   1.8132,  34.6594,2,  34.6602,2,    156.0,2,    157.1,2,   125.89,2,    35.09,2,     0.00,2,     2.47,2, -999.000,9, -999.000,9, -999.000,9,-999.0000,9,  -999.00,9,   -999.0,9,   -999.0,9,   2302.4,2,   1179.4,2,   -999.0,9,   20.00,  -999.0,-999.0000,-999.000,  1.6312,-999.000
   31WTTUNES_2,  P17S,   167,  1,     30,     30,2,19910804,1203,-27.1317,-133.4317, 3897,   2758.2,   1.7473,  34.6663,2,  34.6655,2,    158.8,2,    160.2,2,   126.68,2,    34.99,2,     0.00,2,     2.46,2, -999.000,9, -999.000,9, -999.000,9,-999.0000,9,  -999.00,9,   -999.0,9,   -999.0,9,   2300.3,2,   1167.8,2,   -999.0,9,   20.00,  -999.0,-999.0000,-999.000,  1.5480,-999.000
   31WTTUNES_2,  P17S,   167,  1,     31,     31,2,19910804,1203,-27.1317,-133.4317, 3897,   2965.8,   1.6903,  34.6702,2,  34.6726,2,    164.7,2,    163.0,2,   127.46,2,    34.80,2,     0.00,2,     2.45,2, -999.000,9, -999.000,9, -999.000,9,-999.0000,9,  -999.00,9,   -999.0,9,   -999.0,9,   2301.5,2,   1153.8,2,   -999.0,9,   20.00,  -999.0,-999.0000,-999.000,  1.4726,-999.000
   31WTTUNES_2,  P17S,   167,  1,     32,     32,2,19910804,1203,-27.1317,-133.4317, 3897,   3168.4,   1.6293,  34.6759,2,  34.6765,2,    168.4,2,    167.6,2,   126.77,2,    34.31,2,     0.00,2,     2.42,2, -999.000,9, -999.000,9, -999.000,9,-999.0000,9,  -999.00,9,   -999.0,9,   -999.0,9,   2297.5,2,   1145.3,2,   -999.0,9,   20.00,  -999.0,-999.0000,-999.000,  1.3933,-999.000
   31WTTUNES_2,  P17S,   167,  1,     33,     33,2,19910804,1203,-27.1317,-133.4317, 3897,   3368.9,   1.5833,  34.6815,2,  34.6802,2,    171.2,2,    170.9,2,   125.99,2,    34.11,2,     0.00,2,     2.39,2, -999.000,9, -999.000,9, -999.000,9,-999.0000,9,  -999.00,9,   -999.0,9,   -999.0,9,   2294.2,2,   1136.9,2,   -999.0,9,   20.00,  -999.0,-999.0000,-999.000,  1.3284,-999.000
   31WTTUNES_2,  P17S,   167,  1,     34,     34,2,19910804,1203,-27.1317,-133.4317, 3897,   3569.6,   1.5343,  34.6854,2,  34.6855,2,    174.8,2,    174.8,2,   125.30,2,    33.82,2,     0.00,2,     2.38,2, -999.000,9, -999.000,9, -999.000,9,-999.0000,9,  -999.00,9,   -999.0,9,   -999.0,9,   2294.2,2,   1117.6,2,   -999.0,9,   20.00,  -999.0,-999.0000,-999.000,  1.2601,-999.000
   31WTTUNES_2,  P17S,   167,  1,     35,     35,2,19910804,1203,-27.1317,-133.4317, 3897,   3777.6,   1.5283,  34.6872,2,  34.6881,2,    177.0,2,    176.7,2,   125.30,2,    33.82,2,     0.00,2,     2.38,2, -999.000,9, -999.000,9, -999.000,9,-999.0000,9,  -999.00,9,   -999.0,9,   -999.0,9,   2289.7,2,   1111.7,2,   -999.0,9,   20.00,  -999.0,-999.0000,-999.000,  1.2325,-999.000
   31WTTUNES_2,  P17S,   167,  1,     38,     38,2,19910804,1203,-27.1317,-133.4317, 3897,   3957.0,   1.5363,  34.6878,2,  34.6879,2,    176.9,2,    177.0,2,   125.40,2,    33.43,2,     0.00,2,     2.36,2, -999.000,9, -999.000,9, -999.000,9,-999.0000,9,  -999.00,9,   -999.0,9,   -999.0,9,   2288.8,2,   1120.2,2,   -999.0,9,   20.00,  -999.0,-999.0000,-999.000,  1.2210,-999.000