BOTTLE,20131125MIRCJHATS
EXPOCODE,SECT_ID,STNNBR,CASTNO,SAMPNO,BTLNBR,BTLNBR_FLAG_W,DATE,TIME,LATITUDE,LONGITUDE,DEPTH,CTDPRS,CTDTMP,CTDSAL,CTDSAL_FLAG_W,SALNTY,SALNTY_FLAG_W,CTDOXY,CTDOXY_FLAG_W,OXYGEN,OXYGEN_FLAG_W,SILCAT,SILCAT_FLAG_W,NITRAT,NITRAT_FLAG_W,NITRIT,NITRIT_FLAG_W,PHSPHT,PHSPHT_FLAG_W,CFC-11,CFC-11_FLAG_W,CFC-12,CFC-12_FLAG_W,TRITUM,TRITUM_FLAG_W,HELIUM,HELIUM_FLAG_W,DELHE3,DELHE3_FLAG_W,DELC14,DELC14_FLAG_W,DELC13,DELC13_FLAG_W,TCARBN,TCARBN_FLAG_W,PCO2,PCO2_FLAG_W,ALKALI,ALKALI_FLAG_W,PCO2TMP,C14ERR,HELIER,DELHER,THETA,TRITER
,,,,,,,,,,,,DBAR,ITS-90,PSS-78,,PSS-78,,UMOL/KG,,UMOL/KG,,UMOL/KG,,UMOL/KG,,UMOL/KG,,UMOL/KG,,PMOL/KG,,PMOL/KG,,TU,,NMOL/KG,,PERCNT,,/MILLE,,/MILLE,,UMOL/KG,,UATM,,UMOL/KG,,DEG C,/MILLE,NMOL/KG,PERCNT,DEG C,TU
   31WTTUNES_2,  P17S,   146,  1,      1,      1,2,19910729,0004,-16.8683,-133.5650, 4251,      2.7,  26.2448,  36.5945,2,  36.5975,2,    208.6,3,    210.3,2,     1.37,2,     0.10,2,     0.01,2,     0.23,2,    1.724,2,    0.923,2, -999.000,9,-999.0000,9,  -999.00,9,   -999.0,9,   -999.0,9,   2034.0,2,    264.5,2,   -999.0,9,   20.00,  -999.0,-999.0000,-999.000, 26.2442,-999.000
   31WTTUNES_2,  P17S,   146,  1,      2,      2,2,19910729,0004,-16.8683,-133.5650, 4251,     44.3,  26.1559,  36.5914,2,  36.5938,2,    210.9,6,    211.7,2,     1.37,2,     0.10,2,     0.01,2,     0.23,2,    1.732,2,    0.925,2,    0.927,2,   1.6980,2,    -0.95,2,   -999.0,9,   -999.0,9,   -999.0,9,   -999.0,9,   -999.0,9, -999.00,  -999.0,  0.0080,   0.150, 26.1459,   0.011
   31WTTUNES_2,  P17S,   146,  1,      3,      3,2,19910729,0004,-16.8683,-133.5650, 4251,     86.1,  26.1489,  36.5880,2,  36.5903,2,    211.0,2,    212.0,2,     1.37,2,     0.10,2,     0.02,2,     0.22,2,    1.721,2,    0.921,2, -999.000,9,-999.0000,9,  -999.00,9,   -999.0,9,   -999.0,9,   -999.0,9,   -999.0,9,   -999.0,9, -999.00,  -999.0,-999.0000,-999.000, 26.1295,-999.000
   31WTTUNES_2,  P17S,   146,  1,      4,      4,2,19910729,0004,-16.8683,-133.5650, 4251,    126.7,  26.1269,  36.5881,2,  36.5824,2,    207.8,2,    209.2,2,     1.27,2,     0.00,2,     0.03,2,     0.22,2,    1.755,2,    0.932,2,    0.950,2,   1.7160,2,    -1.05,2,   -999.0,9,   -999.0,9,   -999.0,9,   -999.0,9,   -999.0,9, -999.00,  -999.0,  0.0080,   0.150, 26.0984,   0.011
   31WTTUNES_2,  P17S,   146,  1,      5,      5,2,19910729,0004,-16.8683,-133.5650, 4251,    157.8,  24.2170,  36.4257,2,  36.4229,2,    201.9,2,    196.5,2,     1.27,2,     0.20,2,     1.54,2,     0.36,2,    1.859,2,    0.984,2, -999.000,9,-999.0000,9,  -999.00,9,   -999.0,9,   -999.0,9,   -999.0,9,   -999.0,9,   -999.0,9, -999.00,  -999.0,-999.0000,-999.000, 24.1833,-999.000
   31WTTUNES_2,  P17S,   146,  1,      6,      6,2,19910729,0004,-16.8683,-133.5650, 4251,    188.7,  22.8058,  36.2630,2,  36.2598,2,    191.1,2,    193.0,2,     1.27,2,     1.95,2,     0.10,2,     0.37,2,    1.892,8,    0.991,2,    0.849,2,   1.7510,2,    -0.48,2,   -999.0,9,   -999.0,9,   -999.0,9,   -999.0,9,   -999.0,9, -999.00,  -999.0,  0.0080,   0.150, 22.7673,   0.010
   31WTTUNES_2,  P17S,   146,  1,      7,      7,2,19910729,0004,-16.8683,-133.5650, 4251,    240.2,  20.7172,  35.9439,2,  35.9562,2,    191.6,2,    188.9,2,     1.27,2,     2.73,2,     0.02,2,     0.41,2,    1.913,2,    1.007,2,    0.754,2,   1.7030,2,    -0.07,2,   -999.0,9,   -999.0,9,   -999.0,9,   -999.0,9,   -999.0,9, -999.00,  -999.0,  0.0080,   0.150, 20.6714,   0.010
   31WTTUNES_2,  P17S,   146,  1,      8,      8,2,19910729,0004,-16.8683,-133.5650, 4251,    291.0,  18.0351,  35.4833,2,  35.4729,2,    189.0,2,    182.0,2,     1.76,2,     5.08,2,     0.01,2,     0.57,2,    1.793,2,    0.945,2, -999.000,9,-999.0000,9,  -999.00,9,   -999.0,9,   -999.0,9,   -999.0,9,   -999.0,9,   -999.0,9, -999.00,  -999.0,-999.0000,-999.000, 17.9848,-999.000
   31WTTUNES_2,  P17S,   146,  1,      9,      9,2,19910729,0004,-16.8683,-133.5650, 4251,    352.3,  13.9514,  34.9014,2,  34.8792,2,    163.9,2,    151.8,2,     5.28,2,    12.61,2,     0.00,2,     1.14,2,    1.314,2,    0.672,2,    0.488,2,   1.7810,2,     1.43,2,   -999.0,9,   -999.0,9,   -999.0,9,   -999.0,9,   -999.0,9, -999.00,  -999.0,  0.0080,   0.150, 13.9004,   0.008
   31WTTUNES_2,  P17S,   146,  1,     10,     10,2,19910729,0004,-16.8683,-133.5650, 4251,    413.5,   9.9400,  34.5259,2,  34.5192,2,    109.0,2,    112.0,2,    13.98,2,    24.15,2,     0.00,2,     1.96,2,    0.456,2,    0.257,2, -999.000,9,-999.0000,9,  -999.00,9,   -999.0,9,   -999.0,9,   -999.0,9,   -999.0,9,   -999.0,9, -999.00,  -999.0,-999.0000,-999.000,  9.8920,-999.000
   31WTTUNES_2,  P17S,   146,  1,     11,     11,2,19910729,0004,-16.8683,-133.5650, 4251,    464.9,   8.2697,  34.4514,2,  34.4539,2,    103.6,2,    106.0,2,    18.57,2,    29.62,2,     0.00,2,     2.26,2,    0.160,2,    0.104,2,    0.075,2,   1.7940,2,     2.09,2,   -999.0,9,   -999.0,9,   -999.0,9,   -999.0,9,   -999.0,9, -999.00,  -999.0,  0.0080,   0.150,  8.2213,   0.003
   31WTTUNES_2,  P17S,   146,  1,     12,     12,2,19910729,0004,-16.8683,-133.5650, 4251,    515.4,   7.1039,  34.4042,2,  34.4027,2,    125.0,2,    134.1,2,    19.94,2,    30.60,2,     0.00,2,     2.22,2,    0.095,2,    0.069,2,    0.042,2,   1.8200,2,     1.72,2,   -999.0,9,   -999.0,9,   -999.0,9,   -999.0,9,   -999.0,9, -999.00,  -999.0,  0.0090,   0.150,  7.0545,   0.003
   31WTTUNES_2,  P17S,   146,  1,     13,     13,2,19910729,0004,-16.8683,-133.5650, 4251,    566.1,   6.4376,  34.3963,2,  34.3970,2,    141.0,2,    139.7,2,    23.56,2,    32.07,2,     0.00,2,     2.29,2,    0.046,2,    0.034,2,    0.024,2,   1.8220,2,     2.65,2,   -999.0,9,   -999.0,9,   -999.0,9,   -999.0,9,   -999.0,9, -999.00,  -999.0,  0.0090,   0.150,  6.3860,   0.002
   31WTTUNES_2,  P17S,   146,  1,     37,     37,2,19910729,0004,-16.8683,-133.5650, 4251,    618.3,   6.0939,  34.4245,2,  34.4235,2,    121.9,2,    125.7,2,    30.70,2,    34.12,2,     0.00,2,     2.41,2,    0.020,2,    0.018,2, -999.000,9,-999.0000,9,  -999.00,9,   -999.0,9,   -999.0,9,   -999.0,9,   -999.0,9,   -999.0,9, -999.00,  -999.0,-999.0000,-999.000,  6.0390,-999.000
   31WTTUNES_2,  P17S,   146,  1,     15,     15,2,19910729,0004,-16.8683,-133.5650, 4251,    720.6,   5.5315,  34.4677,2,  34.4695,2,    109.6,2,    109.0,2,    45.75,2,    36.46,2,     0.00,2,     2.58,2,    0.003,2,   -0.002,2, -999.000,9,-999.0000,9,  -999.00,9,   -999.0,9,   -999.0,9,   -999.0,9,   -999.0,9,   -999.0,9, -999.00,  -999.0,-999.0000,-999.000,  5.4701,-999.000
   31WTTUNES_2,  P17S,   146,  1,     16,     16,2,19910729,0004,-16.8683,-133.5650, 4251,    822.5,   5.1379,  34.4878,2,  34.4899,2,     95.9,2,     95.3,2,    55.43,2,    38.12,2,     0.00,2,     2.73,2,    0.003,2,   -0.003,2, -999.000,9,-999.0000,9,  -999.00,9,   -999.0,9,   -999.0,9,   -999.0,9,   -999.0,9,   -999.0,9, -999.00,  -999.0,-999.0000,-999.000,  5.0696,-999.000
   31WTTUNES_2,  P17S,   146,  1,     17,     17,2,19910729,0004,-16.8683,-133.5650, 4251,    925.2,   4.7474,  34.5011,2,-999.0000,9,     91.9,2,     97.3,2,    65.20,2,    38.81,2,     0.00,2,     2.79,2,    0.026,4,    0.016,4, -999.000,9,-999.0000,9,  -999.00,9,   -999.0,9,   -999.0,9,   -999.0,9,   -999.0,9,   -999.0,9, -999.00,  -999.0,-999.0000,-999.000,  4.6726,-999.000
   31WTTUNES_2,  P17S,   146,  1,     18,     18,2,19910729,0004,-16.8683,-133.5650, 4251,   1027.5,   4.3648,  34.5158,2,  34.5179,2,     87.9,2,     88.6,2,    73.90,2,    39.79,2,     0.00,2,     2.86,2,    0.002,8,    0.000,2, -999.000,9,   1.8490,2,    16.11,2,   -999.0,9,   -999.0,9,   -999.0,9,   -999.0,9,   -999.0,9, -999.00,  -999.0,-999.0000,-999.000,  4.2839,-999.000
   31WTTUNES_2,  P17S,   146,  1,     19,     19,2,19910729,0004,-16.8683,-133.5650, 4251,   1128.3,   4.0292,  34.5320,2,  34.5322,2,     91.4,2,     90.4,2,    82.31,2,    39.79,2,     0.00,2,     2.90,2, -999.000,9, -999.000,9, -999.000,9,   1.8570,2,    17.86,2,   -999.0,9,   -999.0,9,   -999.0,9,   -999.0,9,   -999.0,9, -999.00,  -999.0,-999.0000,-999.000,  3.9424,-999.000
   31WTTUNES_2,  P17S,   146,  1,     20,     20,2,19910729,0004,-16.8683,-133.5650, 4251,   1230.2,   3.7005,  34.5457,2,  34.5470,2,     95.6,2,     95.9,2,    89.54,2,    39.39,2,     0.00,2,     2.86,2, -999.000,9, -999.000,9, -999.000,9,   1.8820,2,    19.55,2,   -999.0,9,   -999.0,9,   -999.0,9,   -999.0,9,   -999.0,9, -999.00,  -999.0,-999.0000,-999.000,  3.6081,-999.000
   31WTTUNES_2,  P17S,   146,  1,     21,     21,2,19910729,0004,-16.8683,-133.5650, 4251,   1432.9,   3.1721,  34.5714,2,  34.5710,2,    108.2,2,    108.3,2,   100.98,2,    38.32,2,     0.00,2,     2.79,2, -999.000,9, -999.000,9, -999.000,9,   1.8790,2,    22.13,2,   -999.0,9,   -999.0,9,   -999.0,9,   -999.0,9,   -999.0,9, -999.00,  -999.0,-999.0000,-999.000,  3.0680,-999.000
   31WTTUNES_2,  P17S,   146,  1,     22,     22,2,19910729,0004,-16.8683,-133.5650, 4251,   1638.1,   2.7496,  34.5940,2,  34.5928,2,    123.0,2,    122.8,2,   108.89,2,    36.95,2,     0.00,2,     2.69,2, -999.000,9, -999.000,9, -999.000,9,-999.0000,9,  -999.00,9,   -999.0,9,   -999.0,9,   -999.0,9,   -999.0,9,   -999.0,9, -999.00,  -999.0,-999.0000,-999.000,  2.6332,-999.000
   31WTTUNES_2,  P17S,   146,  1,     23,     23,2,19910729,0004,-16.8683,-133.5650, 4251,   1847.6,   2.3541,  34.6161,2,  34.6152,2,    138.6,2,    139.7,2,   113.19,2,    35.78,2,     0.00,2,     2.58,2, -999.000,9, -999.000,9, -999.000,9,   1.9090,2,    27.42,2,   -999.0,9,   -999.0,9,   -999.0,9,   -999.0,9,   -999.0,9, -999.00,  -999.0,-999.0000,-999.000,  2.2253,-999.000
   31WTTUNES_2,  P17S,   146,  1,     24,     24,2,19910729,0004,-16.8683,-133.5650, 4251,   2055.5,   2.0974,  34.6393,2,  34.6396,2,    145.7,2,    145.5,2,   120.03,2,    35.38,2,     0.00,2,     2.57,3, -999.000,9, -999.000,9, -999.000,9,   1.9220,2,    31.33,2,   -999.0,9,   -999.0,9,   -999.0,9,   -999.0,9,   -999.0,9, -999.00,  -999.0,-999.0000,-999.000,  1.9547,-999.000
   31WTTUNES_2,  P17S,   146,  1,     25,     25,2,19910729,0004,-16.8683,-133.5650, 4251,   2262.0,   1.9505,  34.6538,2,  34.6540,2,    149.1,2,    148.9,2,   124.43,2,    35.29,2,     0.00,2,     2.51,3, -999.000,9, -999.000,9, -999.000,9,   1.9300,2,    33.96,2,   -999.0,9,   -999.0,9,   -999.0,9,   -999.0,9,   -999.0,9, -999.00,  -999.0,-999.0000,-999.000,  1.7924,-999.000
   31WTTUNES_2,  P17S,   146,  1,     26,     26,2,19910729,0004,-16.8683,-133.5650, 4251,   2416.7,   1.8776,  34.6596,2,  34.6599,2,    152.1,2,    152.0,2,   126.58,2,    34.89,2,     0.00,2,     2.49,3, -999.000,9, -999.000,9, -999.000,9,   1.9330,2,    32.72,2,   -999.0,9,   -999.0,9,   -999.0,9,   -999.0,9,   -999.0,9, -999.00,  -999.0,-999.0000,-999.000,  1.7071,-999.000
   31WTTUNES_2,  P17S,   146,  1,     27,     27,2,19910729,0004,-16.8683,-133.5650, 4251,   2573.3,   1.8087,  34.6648,2,  34.6664,2,    154.1,2,    154.5,2,   127.36,2,    34.80,2,     0.00,2,     2.48,3, -999.000,9, -999.000,9, -999.000,9,   1.9210,2,    31.25,2,   -999.0,9,   -999.0,9,   -999.0,9,   -999.0,9,   -999.0,9, -999.00,  -999.0,-999.0000,-999.000,  1.6253,-999.000
   31WTTUNES_2,  P17S,   146,  1,     28,     28,2,19910729,0004,-16.8683,-133.5650, 4251,   2728.2,   1.7568,  34.6694,2,  34.6700,2,    156.2,2,    156.5,2,   129.22,2,    34.80,2,     0.00,2,     2.48,3, -999.000,9, -999.000,9, -999.000,9,   1.9180,2,    29.92,2,   -999.0,9,   -999.0,9,   -999.0,9,   -999.0,9,   -999.0,9, -999.00,  -999.0,-999.0000,-999.000,  1.5601,-999.000
   31WTTUNES_2,  P17S,   146,  1,     29,     29,2,19910729,0004,-16.8683,-133.5650, 4251,   2882.7,   1.7158,  34.6731,2,  34.6726,2,    156.4,2,    157.1,2,   131.17,2,    34.80,2,     0.00,2,     2.48,3, -999.000,9, -999.000,9, -999.000,9,   1.9200,2,    28.51,2,   -999.0,9,   -999.0,9,   -999.0,9,   -999.0,9,   -999.0,9, -999.00,  -999.0,-999.0000,-999.000,  1.5055,-999.000
   31WTTUNES_2,  P17S,   146,  1,     30,     30,2,19910729,0004,-16.8683,-133.5650, 4251,   3091.3,   1.6709,  34.6769,2,  34.6771,2,    158.4,2,    159.5,2,   131.95,2,    34.70,2,     0.00,2,     2.47,3, -999.000,9, -999.000,9, -999.000,9,   1.9170,2,    26.35,2,   -999.0,9,   -999.0,9,   -999.0,9,   -999.0,9,   -999.0,9, -999.00,  -999.0,-999.0000,-999.000,  1.4414,-999.000
   31WTTUNES_2,  P17S,   146,  1,     31,     31,2,19910729,0004,-16.8683,-133.5650, 4251,   3298.1,   1.6319,  34.6802,2,  34.6807,2,    160.3,2,    160.2,2,   134.40,2,    34.60,2,     0.00,2,     2.45,3, -999.000,9, -999.000,9, -999.000,9,   1.9130,2,    25.89,2,   -999.0,9,   -999.0,9,   -999.0,9,   -999.0,9,   -999.0,9, -999.00,  -999.0,-999.0000,-999.000,  1.3829,-999.000
   31WTTUNES_2,  P17S,   146,  1,     32,     32,2,19910729,0004,-16.8683,-133.5650, 4251,   3506.6,   1.6009,  34.6831,2,  34.6823,2,    161.7,2,    162.3,2,   134.98,2,    34.50,2,     0.00,2,     2.45,3, -999.000,9, -999.000,9, -999.000,9,   1.9130,2,    24.20,2,   -999.0,9,   -999.0,9,   -999.0,9,   -999.0,9,   -999.0,9, -999.00,  -999.0,-999.0000,-999.000,  1.3316,-999.000
   31WTTUNES_2,  P17S,   146,  1,     33,     33,2,19910729,0004,-16.8683,-133.5650, 4251,   3712.9,   1.5570,  34.6851,2,  34.6854,2,    164.6,2,    165.9,2,   134.88,2,    34.50,2,     0.00,2,     2.44,3, -999.000,9, -999.000,9, -999.000,9,   1.8870,2,    22.36,2,   -999.0,9,   -999.0,9,   -999.0,9,   -999.0,9,   -999.0,9, -999.00,  -999.0,-999.0000,-999.000,  1.2673,-999.000
   31WTTUNES_2,  P17S,   146,  1,     34,     34,2,19910729,0004,-16.8683,-133.5650, 4251,   3920.8,   1.5140,  34.6892,2,  34.6886,2,    168.5,2,    169.9,2,   133.91,2,    34.21,2,     0.00,2,     2.43,3, -999.000,9, -999.000,9, -999.000,9,   1.9020,2,    20.09,2,   -999.0,9,   -999.0,9,   -999.0,9,   -999.0,9,   -999.0,9, -999.00,  -999.0,-999.0000,-999.000,  1.2033,-999.000
   31WTTUNES_2,  P17S,   146,  1,     35,     35,2,19910729,0004,-16.8683,-133.5650, 4251,   4127.1,   1.5200,  34.6900,2,  34.6882,2,    172.3,2,    171.1,2,   132.64,2,    34.11,2,     0.00,2,     2.38,2, -999.000,9, -999.000,9, -999.000,9,   1.8990,2,    20.14,2,   -999.0,9,   -999.0,9,   -999.0,9,   -999.0,9,   -999.0,9, -999.00,  -999.0,-999.0000,-999.000,  1.1866,-999.000
   31WTTUNES_2,  P17S,   146,  1,     36,     36,2,19910729,0004,-16.8683,-133.5650, 4251,   4325.5,   1.5340,  34.6895,2,  34.6904,2,    171.9,2,    171.7,2,   131.76,2,    34.11,2,     0.00,2,     2.38,2, -999.000,9, -999.000,9, -999.000,9,   1.9020,2,    20.18,2,   -999.0,9,   -999.0,9,   -999.0,9,   -999.0,9,   -999.0,9, -999.00,  -999.0,-999.0000,-999.000,  1.1779,-999.000