BOTTLE,20131125MIRCJHATS
EXPOCODE,SECT_ID,STNNBR,CASTNO,SAMPNO,BTLNBR,BTLNBR_FLAG_W,DATE,TIME,LATITUDE,LONGITUDE,DEPTH,CTDPRS,CTDTMP,CTDSAL,CTDSAL_FLAG_W,SALNTY,SALNTY_FLAG_W,CTDOXY,CTDOXY_FLAG_W,OXYGEN,OXYGEN_FLAG_W,SILCAT,SILCAT_FLAG_W,NITRAT,NITRAT_FLAG_W,NITRIT,NITRIT_FLAG_W,PHSPHT,PHSPHT_FLAG_W,CFC-11,CFC-11_FLAG_W,CFC-12,CFC-12_FLAG_W,TRITUM,TRITUM_FLAG_W,HELIUM,HELIUM_FLAG_W,DELHE3,DELHE3_FLAG_W,DELC14,DELC14_FLAG_W,DELC13,DELC13_FLAG_W,TCARBN,TCARBN_FLAG_W,PCO2,PCO2_FLAG_W,ALKALI,ALKALI_FLAG_W,PCO2TMP,C14ERR,HELIER,DELHER,THETA,TRITER
,,,,,,,,,,,,DBAR,ITS-90,PSS-78,,PSS-78,,UMOL/KG,,UMOL/KG,,UMOL/KG,,UMOL/KG,,UMOL/KG,,UMOL/KG,,PMOL/KG,,PMOL/KG,,TU,,NMOL/KG,,PERCNT,,/MILLE,,/MILLE,,UMOL/KG,,UATM,,UMOL/KG,,DEG C,/MILLE,NMOL/KG,PERCNT,DEG C,TU
   31WTTUNES_2,  P17S,   157,  1,      1,      1,2,19910801,0433,-22.2550,-132.4283, 3497,      6.9,  23.2360,  35.8845,2,  35.8870,2,    210.0,3,    212.8,2,     1.66,2,     0.00,2,     0.00,2,     0.13,2,    1.916,2,    1.043,2, -999.000,9,-999.0000,9,  -999.00,9,   -999.0,9,   -999.0,9,   -999.0,9,   -999.0,9,   -999.0,9, -999.00,  -999.0,-999.0000,-999.000, 23.2346,-999.000
   31WTTUNES_2,  P17S,   157,  1,      2,      2,2,19910801,0433,-22.2550,-132.4283, 3497,     43.6,  23.2624,  35.8886,2,  35.8945,2,    214.7,2,    212.7,2,     1.27,2,     0.00,2,     0.00,2,     0.13,2, -999.000,9, -999.000,9, -999.000,9,-999.0000,9,  -999.00,9,   -999.0,9,   -999.0,9,   -999.0,9,   -999.0,9,   -999.0,9, -999.00,  -999.0,-999.0000,-999.000, 23.2534,-999.000
   31WTTUNES_2,  P17S,   157,  1,      3,      3,2,19910801,0433,-22.2550,-132.4283, 3497,     83.7,  23.2732,  35.8908,2,  35.8923,2,    210.5,2,    212.9,2,     1.27,2,     0.00,2,     0.00,2,     0.13,2,    1.909,2,    1.042,2, -999.000,9,-999.0000,9,  -999.00,9,   -999.0,9,   -999.0,9,   -999.0,9,   -999.0,9,   -999.0,9, -999.00,  -999.0,-999.0000,-999.000, 23.2559,-999.000
   31WTTUNES_2,  P17S,   157,  1,      4,      4,2,19910801,0433,-22.2550,-132.4283, 3497,    106.5,  22.9673,  35.7812,2,  35.7868,2,    211.6,2,    213.8,2,     1.27,2,     0.00,2,     0.00,2,     0.12,2, -999.000,9, -999.000,9, -999.000,9,-999.0000,9,  -999.00,9,   -999.0,9,   -999.0,9,   -999.0,9,   -999.0,9,   -999.0,9, -999.00,  -999.0,-999.0000,-999.000, 22.9455,-999.000
   31WTTUNES_2,  P17S,   157,  1,      5,      5,2,19910801,0433,-22.2550,-132.4283, 3497,    124.9,  22.7995,  35.7387,2,  35.7412,2,    213.7,2,    213.8,2,     1.27,2,     0.00,2,     0.00,2,     0.11,2,    1.938,2,    1.074,2, -999.000,9,-999.0000,9,  -999.00,9,   -999.0,9,   -999.0,9,   -999.0,9,   -999.0,9,   -999.0,9, -999.00,  -999.0,-999.0000,-999.000, 22.7741,-999.000
   31WTTUNES_2,  P17S,   157,  1,      6,      6,2,19910801,0433,-22.2550,-132.4283, 3497,    154.2,  22.3592,  35.6447,2,  35.6480,2,    219.8,2,    213.9,2,     1.27,2,     0.00,2,     0.00,2,     0.10,2, -999.000,9, -999.000,9, -999.000,9,-999.0000,9,  -999.00,9,   -999.0,9,   -999.0,9,   -999.0,9,   -999.0,9,   -999.0,9, -999.00,  -999.0,-999.0000,-999.000, 22.3283,-999.000
   31WTTUNES_2,  P17S,   157,  1,      7,      7,2,19910801,0433,-22.2550,-132.4283, 3497,    185.0,  21.5459,  35.6973,2,  35.6969,2,    210.7,2,    204.5,2,     1.27,2,     0.10,2,     0.14,2,     0.17,2,    1.872,2,    1.062,2, -999.000,9,-999.0000,9,  -999.00,9,   -999.0,9,   -999.0,9,   -999.0,9,   -999.0,9,   -999.0,9, -999.00,  -999.0,-999.0000,-999.000, 21.5097,-999.000
   31WTTUNES_2,  P17S,   157,  1,      8,      8,2,19910801,0433,-22.2550,-132.4283, 3497,    216.2,  20.3731,  35.6135,2,  35.6150,2,    203.8,2,    200.6,2,     1.27,2,     0.49,2,     0.11,2,     0.20,2, -999.000,9, -999.000,9, -999.000,9,-999.0000,9,  -999.00,9,   -999.0,9,   -999.0,9,   -999.0,9,   -999.0,9,   -999.0,9, -999.00,  -999.0,-999.0000,-999.000, 20.3324,-999.000
   31WTTUNES_2,  P17S,   157,  1,      9,      9,2,19910801,0433,-22.2550,-132.4283, 3497,    247.3,  19.4611,  35.6362,2,  35.6402,2,    189.5,2,    191.4,2,     1.27,2,     2.05,2,     0.01,2,     0.31,2,    1.884,2,    1.005,2, -999.000,9,-999.0000,9,  -999.00,9,   -999.0,9,   -999.0,9,   -999.0,9,   -999.0,9,   -999.0,9, -999.00,  -999.0,-999.0000,-999.000, 19.4160,-999.000
   31WTTUNES_2,  P17S,   157,  1,     10,     10,2,19910801,0433,-22.2550,-132.4283, 3497,    308.1,  17.2354,  35.3600,2,  35.3635,2,    189.7,2,    187.8,2,     1.86,2,     4.49,2,     0.01,2,     0.48,2, -999.000,9, -999.000,9, -999.000,9,-999.0000,9,  -999.00,9,   -999.0,9,   -999.0,9,   -999.0,9,   -999.0,9,   -999.0,9, -999.00,  -999.0,-999.0000,-999.000, 17.1838,-999.000
   31WTTUNES_2,  P17S,   157,  1,     11,     11,2,19910801,0433,-22.2550,-132.4283, 3497,    384.0,  13.5822,  34.9139,2,  34.9139,2,    182.6,2,    182.5,2,     3.52,2,    10.36,2,     0.00,2,     0.86,2,    1.309,2,    0.692,2, -999.000,9,-999.0000,9,  -999.00,9,   -999.0,9,   -999.0,9,   -999.0,9,   -999.0,9,   -999.0,9, -999.00,  -999.0,-999.0000,-999.000, 13.5275,-999.000
   31WTTUNES_2,  P17S,   157,  1,     12,     12,2,19910801,0433,-22.2550,-132.4283, 3497,    459.5,   9.6385,  34.5300,2,  34.5247,2,    179.6,2,    180.9,2,     7.62,2,    19.45,2,     0.00,2,     1.45,2,    0.882,2,    0.455,2, -999.000,9,-999.0000,9,  -999.00,9,   -999.0,9,   -999.0,9,   -999.0,9,   -999.0,9,   -999.0,9, -999.00,  -999.0,-999.0000,-999.000,  9.5860,-999.000
   31WTTUNES_2,  P17S,   157,  1,     13,     13,2,19910801,0433,-22.2550,-132.4283, 3497,    509.9,   7.8154,  34.4026,2,  34.4032,2,    181.1,2,    183.2,2,    10.36,2,    24.15,2,     0.00,2,     1.73,2,    0.543,2,    0.297,2, -999.000,9,-999.0000,9,  -999.00,9,   -999.0,9,   -999.0,9,   -999.0,9,   -999.0,9,   -999.0,9, -999.00,  -999.0,-999.0000,-999.000,  7.7639,-999.000
   31WTTUNES_2,  P17S,   157,  1,     37,     37,2,19910801,0433,-22.2550,-132.4283, 3497,    589.0,   6.7130,  34.3514,2,  34.3510,2,    192.6,2,    191.6,2,    13.10,2,    26.69,2,     0.00,2,     1.89,2,    0.366,2,    0.205,2, -999.000,9,-999.0000,9,  -999.00,9,   -999.0,9,   -999.0,9,   -999.0,9,   -999.0,9,   -999.0,9, -999.00,  -999.0,-999.0000,-999.000,  6.6581,-999.000
   31WTTUNES_2,  P17S,   157,  1,     15,     15,2,19910801,0433,-22.2550,-132.4283, 3497,    665.2,   5.8162,  34.3173,2,  34.3174,2,    201.2,2,    201.7,2,    16.43,2,    28.35,2,     0.00,2,     1.97,2,    0.179,2,    0.112,2, -999.000,9,-999.0000,9,  -999.00,9,   -999.0,9,   -999.0,9,   -999.0,9,   -999.0,9,   -999.0,9, -999.00,  -999.0,-999.0000,-999.000,  5.7584,-999.000
   31WTTUNES_2,  P17S,   157,  1,     16,     16,2,19910801,0433,-22.2550,-132.4283, 3497,    737.6,   5.4858,  34.3224,2,  34.3241,2,    180.0,2,    187.5,2,    21.51,2,    30.21,2,     0.00,2,     2.10,2,    0.086,2,    0.064,2, -999.000,9,-999.0000,9,  -999.00,9,   -999.0,9,   -999.0,9,   -999.0,9,   -999.0,9,   -999.0,9, -999.00,  -999.0,-999.0000,-999.000,  5.4232,-999.000
   31WTTUNES_2,  P17S,   157,  1,     17,     17,2,19910801,0433,-22.2550,-132.4283, 3497,    807.2,   5.1771,  34.3482,2,  34.3484,2,    166.9,2,    165.6,2,    29.43,2,    32.65,2,     0.00,2,     2.27,2,    0.031,2,    0.020,2, -999.000,9,-999.0000,9,  -999.00,9,   -999.0,9,   -999.0,9,   -999.0,9,   -999.0,9,   -999.0,9, -999.00,  -999.0,-999.0000,-999.000,  5.1101,-999.000
   31WTTUNES_2,  P17S,   157,  1,     18,     18,2,19910801,0433,-22.2550,-132.4283, 3497,    907.3,   4.6864,  34.4133,2,  34.4147,2,    146.1,2,    145.8,2,    47.02,2,    34.80,2,     0.00,2,     2.44,2,    0.007,2,    0.006,2, -999.000,9,-999.0000,9,  -999.00,9,   -999.0,9,   -999.0,9,   -999.0,9,   -999.0,9,   -999.0,9, -999.00,  -999.0,-999.0000,-999.000,  4.6138,-999.000
   31WTTUNES_2,  P17S,   157,  1,     19,     19,2,19910801,0433,-22.2550,-132.4283, 3497,   1009.7,   4.3787,  34.4633,2,  34.4650,2,    136.6,2,    136.2,2,    58.95,2,    35.68,2,     0.00,2,     2.51,2,    0.004,2,    0.000,2, -999.000,9,-999.0000,9,  -999.00,9,   -999.0,9,   -999.0,9,   -999.0,9,   -999.0,9,   -999.0,9, -999.00,  -999.0,-999.0000,-999.000,  4.2994,-999.000
   31WTTUNES_2,  P17S,   157,  1,     20,     20,2,19910801,0433,-22.2550,-132.4283, 3497,   1102.6,   4.0365,  34.4890,2,  34.4883,2,    138.2,2,    136.9,2,    67.94,2,    35.88,2,     0.00,2,     2.53,2,    0.002,8,    0.000,2, -999.000,9,-999.0000,9,  -999.00,9,   -999.0,9,   -999.0,9,   -999.0,9,   -999.0,9,   -999.0,9, -999.00,  -999.0,-999.0000,-999.000,  3.9519,-999.000
   31WTTUNES_2,  P17S,   157,  1,     21,     21,2,19910801,0433,-22.2550,-132.4283, 3497,   1201.8,   3.6141,  34.5139,2,  34.5128,2,    142.1,2,    139.3,2,    76.83,2,    35.78,2,     0.00,2,     2.52,2, -999.000,9, -999.000,9, -999.000,9,-999.0000,9,  -999.00,9,   -999.0,9,   -999.0,9,   -999.0,9,   -999.0,9,   -999.0,9, -999.00,  -999.0,-999.0000,-999.000,  3.5249,-999.000
   31WTTUNES_2,  P17S,   157,  1,     22,     22,2,19910801,0433,-22.2550,-132.4283, 3497,   1348.6,   3.2339,  34.5352,2,  34.5350,2,    143.3,2,    143.8,2,    84.85,2,    35.68,2,     0.00,2,     2.52,2, -999.000,9, -999.000,9, -999.000,9,-999.0000,9,  -999.00,9,   -999.0,9,   -999.0,9,   -999.0,9,   -999.0,9,   -999.0,9, -999.00,  -999.0,-999.0000,-999.000,  3.1362,-999.000
   31WTTUNES_2,  P17S,   157,  1,     23,     23,2,19910801,0433,-22.2550,-132.4283, 3497,   1498.4,   2.7610,  34.5646,2,  34.5643,2,    148.7,2,    149.6,2,    95.01,2,    35.39,2,     0.00,2,     2.51,2, -999.000,9, -999.000,9, -999.000,9,-999.0000,9,  -999.00,9,   -999.0,9,   -999.0,9,   -999.0,9,   -999.0,9,   -999.0,9, -999.00,  -999.0,-999.0000,-999.000,  2.6561,-999.000
   31WTTUNES_2,  P17S,   157,  1,     24,     24,2,19910801,0433,-22.2550,-132.4283, 3497,   1708.2,   2.4053,  34.5979,2,  34.5973,2,    151.5,2,    151.2,2,   105.57,2,    35.38,2,     0.00,2,     2.49,2, -999.000,9, -999.000,9, -999.000,9,-999.0000,9,  -999.00,9,   -999.0,9,   -999.0,9,   -999.0,9,   -999.0,9,   -999.0,9, -999.00,  -999.0,-999.0000,-999.000,  2.2875,-999.000
   31WTTUNES_2,  P17S,   157,  1,     25,     25,2,19910801,0433,-22.2550,-132.4283, 3497,   1913.0,   2.1447,  34.6244,2,  34.6248,2,    149.8,2,    152.9,2,   113.58,2,    35.29,2,     0.00,2,     2.48,2, -999.000,9, -999.000,9, -999.000,9,-999.0000,9,  -999.00,9,   -999.0,9,   -999.0,9,   -999.0,9,   -999.0,9,   -999.0,9, -999.00,  -999.0,-999.0000,-999.000,  2.0134,-999.000
   31WTTUNES_2,  P17S,   157,  1,     26,     26,2,19910801,0433,-22.2550,-132.4283, 3497,   2122.8,   1.9789,  34.6429,2,  34.6416,2,    155.9,2,    155.1,2,   118.17,2,    35.09,2,     0.00,2,     2.47,2, -999.000,9, -999.000,9, -999.000,9,-999.0000,9,  -999.00,9,   -999.0,9,   -999.0,9,   -999.0,9,   -999.0,9,   -999.0,9, -999.00,  -999.0,-999.0000,-999.000,  1.8324,-999.000
   31WTTUNES_2,  P17S,   157,  1,     27,     27,2,19910801,0433,-22.2550,-132.4283, 3497,   2331.8,   1.8909,  34.6536,2,  34.6528,2,    156.2,2,    156.7,2,   121.20,2,    34.99,2,     0.00,2,     2.47,2, -999.000,9, -999.000,9, -999.000,9,-999.0000,9,  -999.00,9,   -999.0,9,   -999.0,9,   -999.0,9,   -999.0,9,   -999.0,9, -999.00,  -999.0,-999.0000,-999.000,  1.7277,-999.000
   31WTTUNES_2,  P17S,   157,  1,     28,     28,2,19910801,0433,-22.2550,-132.4283, 3497,   2533.8,   1.8390,  34.6596,2,  34.6585,2,    158.5,2,    158.1,2,   122.77,2,    34.89,2,     0.00,2,     2.46,2, -999.000,9, -999.000,9, -999.000,9,-999.0000,9,  -999.00,9,   -999.0,9,   -999.0,9,   -999.0,9,   -999.0,9,   -999.0,9, -999.00,  -999.0,-999.0000,-999.000,  1.6587,-999.000
   31WTTUNES_2,  P17S,   157,  1,     29,     29,2,19910801,0433,-22.2550,-132.4283, 3497,   2740.5,   1.7684,  34.6660,2,  34.6650,2,    161.8,2,    161.3,2,   124.23,2,    34.80,2,     0.00,2,     2.43,2, -999.000,9, -999.000,9, -999.000,9,-999.0000,9,  -999.00,9,   -999.0,9,   -999.0,9,   -999.0,9,   -999.0,9,   -999.0,9, -999.00,  -999.0,-999.0000,-999.000,  1.5704,-999.000
   31WTTUNES_2,  P17S,   157,  1,     31,     31,2,19910801,0433,-22.2550,-132.4283, 3497,   2955.6,   1.7352,  34.6695,2,  34.6699,2,    164.9,2,    163.2,2,   123.94,2,    34.60,2,     0.00,2,     2.42,2, -999.000,9, -999.000,9, -999.000,9,-999.0000,9,  -999.00,9,   -999.0,9,   -999.0,9,   -999.0,9,   -999.0,9,   -999.0,9, -999.00,  -999.0,-999.0000,-999.000,  1.5175,-999.000
   31WTTUNES_2,  P17S,   157,  1,     30,     30,2,19910801,0433,-22.2550,-132.4283, 3497,   2956.3,   1.7369,  34.6693,2,  34.6693,2,    164.9,2,    163.8,2,   124.04,2,    34.60,2,     0.00,2,     2.42,2, -999.000,9, -999.000,9, -999.000,9,-999.0000,9,  -999.00,9,   -999.0,9,   -999.0,9,   -999.0,9,   -999.0,9,   -999.0,9, -999.00,  -999.0,-999.0000,-999.000,  1.5191,-999.000
   31WTTUNES_2,  P17S,   157,  1,     32,     32,2,19910801,0433,-22.2550,-132.4283, 3497,   3164.5,   1.6935,  34.6734,2,  34.6730,2,    165.4,2,    166.6,2,   124.33,2,    34.60,2,     0.00,2,     2.42,2,    0.000,2,    0.000,2, -999.000,9,-999.0000,9,  -999.00,9,   -999.0,9,   -999.0,9,   -999.0,9,   -999.0,9,   -999.0,9, -999.00,  -999.0,-999.0000,-999.000,  1.4564,-999.000
   31WTTUNES_2,  P17S,   157,  1,     33,     33,2,19910801,0433,-22.2550,-132.4283, 3497,   3164.9,   1.6929,  34.6735,2,  34.6728,2,    165.4,2,    166.0,2,   124.72,2,    34.41,2,     0.00,2,     2.42,2, -999.000,9, -999.000,9, -999.000,9,-999.0000,9,  -999.00,9,   -999.0,9,   -999.0,9,   -999.0,9,   -999.0,9,   -999.0,9, -999.00,  -999.0,-999.0000,-999.000,  1.4558,-999.000
   31WTTUNES_2,  P17S,   157,  1,     35,     35,2,19910801,0433,-22.2550,-132.4283, 3497,   3375.0,   1.6637,  34.6769,2,  34.6753,2,    167.7,2,    168.4,2,   124.72,2,    34.21,2,     0.00,2,     2.41,2, -999.000,9, -999.000,9, -999.000,9,-999.0000,9,  -999.00,9,   -999.0,9,   -999.0,9,   -999.0,9,   -999.0,9,   -999.0,9, -999.00,  -999.0,-999.0000,-999.000,  1.4062,-999.000
   31WTTUNES_2,  P17S,   157,  1,     34,     34,2,19910801,0433,-22.2550,-132.4283, 3497,   3376.8,   1.6642,  34.6771,2,  34.6765,2,    167.7,2,    168.3,2,   124.33,2,    34.11,2,     0.00,2,     2.39,2,    0.000,8,    0.000,2, -999.000,9,-999.0000,9,  -999.00,9,   -999.0,9,   -999.0,9,   -999.0,9,   -999.0,9,   -999.0,9, -999.00,  -999.0,-999.0000,-999.000,  1.4065,-999.000
   31WTTUNES_2,  P17S,   157,  1,     38,     38,2,19910801,0433,-22.2550,-132.4283, 3497,   3534.0,   1.6688,  34.6782,2,  34.6765,2,    168.9,2,    168.4,2,   125.50,2,    34.31,2,     0.00,2,     2.41,2,    0.005,2,    0.000,2, -999.000,9,-999.0000,9,  -999.00,9,   -999.0,9,   -999.0,9,   -999.0,9,   -999.0,9,   -999.0,9, -999.00,  -999.0,-999.0000,-999.000,  1.3949,-999.000