BOTTLE,20131125MIRCJHATS
EXPOCODE,SECT_ID,STNNBR,CASTNO,SAMPNO,BTLNBR,BTLNBR_FLAG_W,DATE,TIME,LATITUDE,LONGITUDE,DEPTH,CTDPRS,CTDTMP,CTDSAL,CTDSAL_FLAG_W,SALNTY,SALNTY_FLAG_W,CTDOXY,CTDOXY_FLAG_W,OXYGEN,OXYGEN_FLAG_W,SILCAT,SILCAT_FLAG_W,NITRAT,NITRAT_FLAG_W,NITRIT,NITRIT_FLAG_W,PHSPHT,PHSPHT_FLAG_W,CFC-11,CFC-11_FLAG_W,CFC-12,CFC-12_FLAG_W,TRITUM,TRITUM_FLAG_W,HELIUM,HELIUM_FLAG_W,DELHE3,DELHE3_FLAG_W,DELC14,DELC14_FLAG_W,DELC13,DELC13_FLAG_W,TCARBN,TCARBN_FLAG_W,PCO2,PCO2_FLAG_W,ALKALI,ALKALI_FLAG_W,PCO2TMP,C14ERR,HELIER,DELHER,THETA,TRITER
,,,,,,,,,,,,DBAR,ITS-90,PSS-78,,PSS-78,,UMOL/KG,,UMOL/KG,,UMOL/KG,,UMOL/KG,,UMOL/KG,,UMOL/KG,,PMOL/KG,,PMOL/KG,,TU,,NMOL/KG,,PERCNT,,/MILLE,,/MILLE,,UMOL/KG,,UATM,,UMOL/KG,,DEG C,/MILLE,NMOL/KG,PERCNT,DEG C,TU
   31WTTUNES_2,  P16S,   204,  1,     61,     61,2,19910820,1753,-25.5000,-150.4933, 2789,      4.8,  20.2527,  35.5986,2,  35.6027,2,    223.9,3,    224.5,2,     1.47,2,     0.10,2,     0.00,2,     0.08,2,    2.190,2,    1.161,2, -999.000,9,-999.0000,9,  -999.00,9,   -999.0,9,   -999.0,9,   2012.5,2,    289.6,2,   -999.0,9,   20.00,  -999.0,-999.0000,-999.000, 20.2518,-999.000
   31WTTUNES_2,  P16S,   204,  1,      2,      2,2,19910820,1753,-25.5000,-150.4933, 2789,     46.5,  19.7767,  35.5777,2,  35.5802,2,    224.3,2,    226.0,2,     1.47,2,     0.10,2,     0.00,2,     0.07,2,    2.198,2,    1.179,2, -999.000,9,-999.0000,9,  -999.00,9,   -999.0,9,   -999.0,9,   -999.0,9,   -999.0,9,   -999.0,9, -999.00,  -999.0,-999.0000,-999.000, 19.7682,-999.000
   31WTTUNES_2,  P16S,   204,  1,      3,      3,2,19910820,1753,-25.5000,-150.4933, 2789,     77.4,  19.6717,  35.5789,2,  35.5796,2,    224.5,2,    224.6,2,     1.47,2,     0.10,2,     0.00,2,     0.08,2,    2.221,2,    1.176,2, -999.000,9,-999.0000,9,  -999.00,9,   -999.0,9,   -999.0,9,   -999.0,9,   -999.0,9,   -999.0,9, -999.00,  -999.0,-999.0000,-999.000, 19.6576,-999.000
   31WTTUNES_2,  P16S,   204,  1,     64,     64,2,19910820,1753,-25.5000,-150.4933, 2789,     87.3,  19.5627,  35.5646,2,  35.5666,2,    224.6,6,    225.4,2,     1.37,2,     0.10,2,     0.00,2,     0.08,2,    2.204,2,    1.179,2, -999.000,9,-999.0000,9,  -999.00,9,   -999.0,9,   -999.0,9,   -999.0,9,   -999.0,9,   -999.0,9, -999.00,  -999.0,-999.0000,-999.000, 19.5468,-999.000
   31WTTUNES_2,  P16S,   204,  1,      5,      5,2,19910820,1753,-25.5000,-150.4933, 2789,     97.6,  19.4797,  35.5619,2,  35.5670,2,    222.7,2,    223.9,2,     1.37,2,     0.10,2,     0.00,2,     0.09,2,    2.213,2,    1.169,2, -999.000,9,-999.0000,9,  -999.00,9,   -999.0,9,   -999.0,9,   -999.0,9,   -999.0,9,   -999.0,9, -999.00,  -999.0,-999.0000,-999.000, 19.4620,-999.000
   31WTTUNES_2,  P16S,   204,  1,      7,      7,2,19910820,1753,-25.5000,-150.4933, 2789,    107.6,  19.2497,  35.5525,2,  35.5522,2,    223.0,2,    220.5,2,     1.37,2,     0.20,2,     0.02,2,     0.12,2,    2.190,2,    1.165,2, -999.000,9,-999.0000,9,  -999.00,9,   -999.0,9,   -999.0,9,   -999.0,9,   -999.0,9,   -999.0,9, -999.00,  -999.0,-999.0000,-999.000, 19.2303,-999.000
   31WTTUNES_2,  P16S,   204,  1,      6,      6,2,19910820,1753,-25.5000,-150.4933, 2789,    107.6,  19.2497,  35.5525,2,  35.5573,2,    223.0,2,    221.4,2,     1.37,2,     0.20,2,     0.02,2,     0.11,2,    2.183,2,    1.162,2, -999.000,9,-999.0000,9,  -999.00,9,   -999.0,9,   -999.0,9,   -999.0,9,   -999.0,9,   -999.0,9, -999.00,  -999.0,-999.0000,-999.000, 19.2303,-999.000
   31WTTUNES_2,  P16S,   204,  1,     68,     68,2,19910820,1753,-25.5000,-150.4933, 2789,    118.1,  19.0237,  35.5375,2,  35.5313,2,    217.4,2,    217.1,2,     1.07,2,     0.39,2,     0.06,2,     0.15,2,    2.168,2,    1.146,2, -999.000,9,-999.0000,9,  -999.00,9,   -999.0,9,   -999.0,9,   -999.0,9,   -999.0,9,   -999.0,9, -999.00,  -999.0,-999.0000,-999.000, 19.0026,-999.000
   31WTTUNES_2,  P16S,   204,  1,     69,     69,2,19910820,1753,-25.5000,-150.4933, 2789,    128.3,  18.6187,  35.5203,2,  35.5222,2,    215.8,2,    214.3,2,     1.27,2,     0.59,2,     0.08,2,     0.16,2,    2.176,2,    1.142,2, -999.000,9,-999.0000,9,  -999.00,9,   -999.0,9,   -999.0,9,   -999.0,9,   -999.0,9,   -999.0,9, -999.00,  -999.0,-999.0000,-999.000, 18.5961,-999.000
   31WTTUNES_2,  P16S,   204,  1,     70,     70,2,19910820,1753,-25.5000,-150.4933, 2789,    138.1,  18.5437,  35.5179,2,  35.5126,2,    216.8,2,    212.1,2,     1.27,2,     0.78,2,     0.07,2,     0.19,2,    2.155,2,    1.137,2, -999.000,9,-999.0000,9,  -999.00,9,   -999.0,9,   -999.0,9,   -999.0,9,   -999.0,9,   -999.0,9, -999.00,  -999.0,-999.0000,-999.000, 18.5195,-999.000
   31WTTUNES_2,  P16S,   204,  1,     11,     11,2,19910820,1753,-25.5000,-150.4933, 2789,    158.8,  18.1588,  35.5036,2,  35.5021,2,    209.4,2,    209.9,2,     1.27,2,     1.37,2,     0.03,2,     0.21,2,    2.142,2,    1.132,2, -999.000,9,-999.0000,9,  -999.00,9,   -999.0,9,   -999.0,9,   -999.0,9,   -999.0,9,   -999.0,9, -999.00,  -999.0,-999.0000,-999.000, 18.1312,-999.000
   31WTTUNES_2,  P16S,   204,  1,     12,     12,2,19910820,1753,-25.5000,-150.4933, 2789,    198.7,  17.0328,  35.4397,2,  35.4390,2,    200.1,2,    204.0,2,     1.27,2,     2.83,2,     0.01,2,     0.33,2,    2.066,2,    1.080,2, -999.000,9,-999.0000,9,  -999.00,9,   -999.0,9,   -999.0,9,   -999.0,9,   -999.0,9,   -999.0,9, -999.00,  -999.0,-999.0000,-999.000, 16.9999,-999.000
   31WTTUNES_2,  P16S,   204,  1,     13,     13,2,19910820,1753,-25.5000,-150.4933, 2789,    413.8,  10.5713,  34.7554,2,  34.7592,2,    198.7,2,    199.0,2,     4.89,2,    15.54,2,     0.00,2,     1.12,2,    1.175,2,    0.610,2, -999.000,9,-999.0000,9,  -999.00,9,   -999.0,9,   -999.0,9,   -999.0,9,   -999.0,9,   -999.0,9, -999.00,  -999.0,-999.0000,-999.000, 10.5212,-999.000
   31WTTUNES_2,  P16S,   204,  1,     37,     37,2,19910820,1753,-25.5000,-150.4933, 2789,    490.4,   8.7090,  34.5556,2,  34.5578,2,    209.4,2,    213.5,2,     5.77,2,    18.87,2,     0.00,2,     1.34,2,    1.105,2,    0.568,2, -999.000,9,-999.0000,9,  -999.00,9,   -999.0,9,   -999.0,9,   -999.0,9,   -999.0,9,   -999.0,9, -999.00,  -999.0,-999.0000,-999.000,  8.6562,-999.000
   31WTTUNES_2,  P16S,   204,  1,     15,     15,2,19910820,1753,-25.5000,-150.4933, 2789,    568.6,   7.1747,  34.4125,2,  34.4129,2,    233.7,2,    232.9,2,     7.53,2,    21.61,2,     0.00,2,     1.51,2,    1.019,2,    0.525,2, -999.000,9,-999.0000,9,  -999.00,9,   -999.0,9,   -999.0,9,   -999.0,9,   -999.0,9,   -999.0,9, -999.00,  -999.0,-999.0000,-999.000,  7.1197,-999.000
   31WTTUNES_2,  P16S,   204,  1,     16,     16,2,19910820,1753,-25.5000,-150.4933, 2789,    645.2,   6.5500,  34.3626,2,  34.3648,2,    238.4,2,    236.4,2,     9.19,2,    23.17,2,     0.00,2,     1.60,2,    0.709,2,    0.378,2, -999.000,9,-999.0000,9,  -999.00,9,   -999.0,9,   -999.0,9,   -999.0,9,   -999.0,9,   -999.0,9, -999.00,  -999.0,-999.0000,-999.000,  6.4904,-999.000
   31WTTUNES_2,  P16S,   204,  1,     17,     17,2,19910820,1753,-25.5000,-150.4933, 2789,    721.4,   6.0652,  34.3328,2,  34.3327,2,    230.7,2,    233.0,2,    11.83,2,    24.74,2,     0.00,2,     1.70,2,    0.447,2,    0.247,2, -999.000,9,-999.0000,9,  -999.00,9,   -999.0,9,   -999.0,9,   -999.0,9,   -999.0,9,   -999.0,9, -999.00,  -999.0,-999.0000,-999.000,  6.0009,-999.000
   31WTTUNES_2,  P16S,   204,  1,     18,     18,2,19910820,1753,-25.5000,-150.4933, 2789,    822.3,   5.5055,  34.3165,2,  34.3182,2,    224.3,2,    221.2,2,    17.60,2,    26.98,2,     0.00,2,     1.87,2,    0.210,2,    0.127,2, -999.000,9,-999.0000,9,  -999.00,9,   -999.0,9,   -999.0,9,   -999.0,9,   -999.0,9,   -999.0,9, -999.00,  -999.0,-999.0000,-999.000,  5.4351,-999.000
   31WTTUNES_2,  P16S,   204,  1,     19,     19,2,19910820,1753,-25.5000,-150.4933, 2789,    923.3,   4.8459,  34.3255,2,  34.3262,2,    203.3,2,    204.1,2,    27.28,2,    29.62,2,     0.00,2,     2.06,2,    0.089,2,    0.062,2, -999.000,9,-999.0000,9,  -999.00,9,   -999.0,9,   -999.0,9,   -999.0,9,   -999.0,9,   -999.0,9, -999.00,  -999.0,-999.0000,-999.000,  4.7708,-999.000
   31WTTUNES_2,  P16S,   204,  1,     20,     20,2,19910820,1753,-25.5000,-150.4933, 2789,   1026.0,   4.2932,  34.3607,2,  34.3598,2,    187.0,2,    187.7,2,    39.79,2,    31.87,2,     0.00,2,     2.21,2,    0.034,2,    0.026,2, -999.000,9,-999.0000,9,  -999.00,9,   -999.0,9,   -999.0,9,   -999.0,9,   -999.0,9,   -999.0,9, -999.00,  -999.0,-999.0000,-999.000,  4.2133,-999.000
   31WTTUNES_2,  P16S,   204,  1,     21,     21,2,19910820,1753,-25.5000,-150.4933, 2789,   1131.0,   3.7715,  34.4185,2,  34.4171,2,    167.8,2,    167.6,2,    55.43,2,    34.02,2,     0.00,2,     2.38,2,    0.005,2,    0.008,2, -999.000,9,-999.0000,9,  -999.00,9,   -999.0,9,   -999.0,9,   -999.0,9,   -999.0,9,   -999.0,9, -999.00,  -999.0,-999.0000,-999.000,  3.6870,-999.000
   31WTTUNES_2,  P16S,   204,  1,     22,     22,2,19910820,1753,-25.5000,-150.4933, 2789,   1232.5,   3.3398,  34.4650,2,  34.4636,2,    166.0,2,    163.5,2,    67.65,2,    34.41,2,     0.00,2,     2.40,2, -999.000,9, -999.000,9, -999.000,9,-999.0000,9,  -999.00,9,   -999.0,9,   -999.0,9,   -999.0,9,   -999.0,9,   -999.0,9, -999.00,  -999.0,-999.0000,-999.000,  3.2507,-999.000
   31WTTUNES_2,  P16S,   204,  1,     23,     23,2,19910820,1753,-25.5000,-150.4933, 2789,   1334.5,   2.9630,  34.5116,2,  34.5113,2,    163.4,2,    160.7,2,    79.67,2,    34.60,2,     0.00,2,     2.42,2, -999.000,9, -999.000,9, -999.000,9,-999.0000,9,  -999.00,9,   -999.0,9,   -999.0,9,   -999.0,9,   -999.0,9,   -999.0,9, -999.00,  -999.0,-999.0000,-999.000,  2.8693,-999.000
   31WTTUNES_2,  P16S,   204,  1,     24,     24,2,19910820,1753,-25.5000,-150.4933, 2789,   1437.6,   2.7522,  34.5388,2,  34.5392,2,    160.8,2,    159.0,2,    88.27,2,    34.90,2,     0.00,2,     2.45,2, -999.000,9, -999.000,9, -999.000,9,-999.0000,9,  -999.00,9,   -999.0,9,   -999.0,9,   -999.0,9,   -999.0,9,   -999.0,9, -999.00,  -999.0,-999.0000,-999.000,  2.6523,-999.000
   31WTTUNES_2,  P16S,   204,  1,     25,     25,2,19910820,1753,-25.5000,-150.4933, 2789,   1564.7,   2.6192,  34.5588,2,  34.5581,2,    158.5,2,    157.6,2,    94.23,2,    34.99,2,     0.00,2,     2.45,2, -999.000,9, -999.000,9, -999.000,9,-999.0000,9,  -999.00,9,   -999.0,9,   -999.0,9,   -999.0,9,   -999.0,9,   -999.0,9, -999.00,  -999.0,-999.0000,-999.000,  2.5106,-999.000
   31WTTUNES_2,  P16S,   204,  1,     26,     26,2,19910820,1753,-25.5000,-150.4933, 2789,   1691.8,   2.4454,  34.5827,2,  34.5815,2,    155.5,2,    155.7,2,   101.17,2,    34.99,2,     0.00,2,     2.46,2, -999.000,9, -999.000,9, -999.000,9,-999.0000,9,  -999.00,9,   -999.0,9,   -999.0,9,   -999.0,9,   -999.0,9,   -999.0,9, -999.00,  -999.0,-999.0000,-999.000,  2.3284,-999.000
   31WTTUNES_2,  P16S,   204,  1,     27,     27,2,19910820,1753,-25.5000,-150.4933, 2789,   1821.1,   2.3244,  34.5995,2,  34.5998,2,    155.5,2,    154.2,2,   106.64,2,    35.09,2,     0.00,2,     2.46,2, -999.000,9, -999.000,9, -999.000,9,-999.0000,9,  -999.00,9,   -999.0,9,   -999.0,9,   -999.0,9,   -999.0,9,   -999.0,9, -999.00,  -999.0,-999.0000,-999.000,  2.1983,-999.000
   31WTTUNES_2,  P16S,   204,  1,     28,     28,2,19910820,1753,-25.5000,-150.4933, 2789,   1949.6,   2.1895,  34.6186,2,  34.6182,2,    152.2,2,    152.4,2,   111.72,2,    35.29,2,     0.00,2,     2.47,2, -999.000,9, -999.000,9, -999.000,9,-999.0000,9,  -999.00,9,   -999.0,9,   -999.0,9,   -999.0,9,   -999.0,9,   -999.0,9, -999.00,  -999.0,-999.0000,-999.000,  2.0545,-999.000
   31WTTUNES_2,  P16S,   204,  1,     30,     30,2,19910820,1753,-25.5000,-150.4933, 2789,   2079.3,   2.1216,  34.6262,2,  34.6269,2,    152.3,2,    151.8,2,   115.34,2,    35.29,2,     0.00,2,     2.48,2, -999.000,9, -999.000,9, -999.000,9,-999.0000,9,  -999.00,9,   -999.0,9,   -999.0,9,   -999.0,9,   -999.0,9,   -999.0,9, -999.00,  -999.0,-999.0000,-999.000,  1.9765,-999.000
   31WTTUNES_2,  P16S,   204,  1,     31,     31,2,19910820,1753,-25.5000,-150.4933, 2789,   2210.3,   2.0376,  34.6372,2,  34.6375,2,    151.1,2,    151.2,2,   119.54,2,    35.48,2,     0.00,2,     2.49,2, -999.000,9, -999.000,9, -999.000,9,-999.0000,9,  -999.00,9,   -999.0,9,   -999.0,9,   -999.0,9,   -999.0,9,   -999.0,9, -999.00,  -999.0,-999.0000,-999.000,  1.8826,-999.000
   31WTTUNES_2,  P16S,   204,  1,     32,     32,2,19910820,1753,-25.5000,-150.4933, 2789,   2341.1,   1.9847,  34.6441,2,  34.6438,2,    151.2,2,    151.3,2,   123.84,2,    35.48,2,     0.00,2,     2.50,2, -999.000,9, -999.000,9, -999.000,9,-999.0000,9,  -999.00,9,   -999.0,9,   -999.0,9,   -999.0,9,   -999.0,9,   -999.0,9, -999.00,  -999.0,-999.0000,-999.000,  1.8190,-999.000
   31WTTUNES_2,  P16S,   204,  1,     33,     33,2,19910820,1753,-25.5000,-150.4933, 2789,   2468.9,   1.9157,  34.6504,2,  34.6497,2,    153.6,2,    152.6,2,   125.31,2,    35.48,2,     0.00,2,     2.49,2, -999.000,9, -999.000,9, -999.000,9,-999.0000,9,  -999.00,9,   -999.0,9,   -999.0,9,   -999.0,9,   -999.0,9,   -999.0,9, -999.00,  -999.0,-999.0000,-999.000,  1.7398,-999.000
   31WTTUNES_2,  P16S,   204,  1,     34,     34,2,19910820,1753,-25.5000,-150.4933, 2789,   2597.9,   1.8448,  34.6563,2,  34.6568,2,    154.0,2,    154.4,2,   125.99,2,    35.38,2,     0.00,2,     2.48,2, -999.000,9, -999.000,9, -999.000,9,-999.0000,9,  -999.00,9,   -999.0,9,   -999.0,9,   -999.0,9,   -999.0,9,   -999.0,9, -999.00,  -999.0,-999.0000,-999.000,  1.6585,-999.000
   31WTTUNES_2,  P16S,   204,  1,     39,     39,2,19910820,1753,-25.5000,-150.4933, 2789,   2725.6,   1.8078,  34.6602,2,  34.6602,2,    157.7,2,    155.7,2,   125.50,2,    35.19,2,     0.00,2,     2.47,2, -999.000,9, -999.000,9, -999.000,9,-999.0000,9,  -999.00,9,   -999.0,9,   -999.0,9,   -999.0,9,   -999.0,9,   -999.0,9, -999.00,  -999.0,-999.0000,-999.000,  1.6104,-999.000
   31WTTUNES_2,  P16S,   204,  1,     38,     38,2,19910820,1753,-25.5000,-150.4933, 2789,   2859.4,   1.7488,  34.6657,2,  34.6653,2,    159.2,2,    158.5,2,   125.99,2,    34.99,2,     0.00,2,     2.46,2, -999.000,9, -999.000,9, -999.000,9,-999.0000,9,  -999.00,9,   -999.0,9,   -999.0,9,   -999.0,9,   -999.0,9,   -999.0,9, -999.00,  -999.0,-999.0000,-999.000,  1.5401,-999.000