BOTTLE,20131125MIRCJHATS
EXPOCODE,SECT_ID,STNNBR,CASTNO,SAMPNO,BTLNBR,BTLNBR_FLAG_W,DATE,TIME,LATITUDE,LONGITUDE,DEPTH,CTDPRS,CTDTMP,CTDSAL,CTDSAL_FLAG_W,SALNTY,SALNTY_FLAG_W,CTDOXY,CTDOXY_FLAG_W,OXYGEN,OXYGEN_FLAG_W,SILCAT,SILCAT_FLAG_W,NITRAT,NITRAT_FLAG_W,NITRIT,NITRIT_FLAG_W,PHSPHT,PHSPHT_FLAG_W,CFC-11,CFC-11_FLAG_W,CFC-12,CFC-12_FLAG_W,TRITUM,TRITUM_FLAG_W,HELIUM,HELIUM_FLAG_W,DELHE3,DELHE3_FLAG_W,DELC14,DELC14_FLAG_W,DELC13,DELC13_FLAG_W,TCARBN,TCARBN_FLAG_W,PCO2,PCO2_FLAG_W,ALKALI,ALKALI_FLAG_W,PCO2TMP,C14ERR,HELIER,DELHER,THETA,TRITER
,,,,,,,,,,,,DBAR,ITS-90,PSS-78,,PSS-78,,UMOL/KG,,UMOL/KG,,UMOL/KG,,UMOL/KG,,UMOL/KG,,UMOL/KG,,PMOL/KG,,PMOL/KG,,TU,,NMOL/KG,,PERCNT,,/MILLE,,/MILLE,,UMOL/KG,,UATM,,UMOL/KG,,DEG C,/MILLE,NMOL/KG,PERCNT,DEG C,TU
   31WTTUNES_2,  P16S,   195,  1,     61,     61,2,19910817,2225,-30.0133,-150.4867, 4416,      1.3,  18.0035,  35.5277,2,  35.5322,2,    234.0,3,    234.2,2,     1.61,2,     0.12,2,     0.00,2,     0.07,2,    2.245,2,    1.238,2, -999.000,9,-999.0000,9,  -999.00,9,    123.5,2,      1.4,2,   2031.5,2,    320.5,2,   -999.0,9,   20.00,     2.7,-999.0000,-999.000, 18.0032,-999.000
   31WTTUNES_2,  P16S,   195,  1,      2,      2,2,19910817,2225,-30.0133,-150.4867, 4416,     34.5,  17.8843,  35.5165,2,  35.5157,2,    233.5,6,    234.3,2,     1.59,2,     0.07,2,     0.00,2,     0.08,2,    2.320,2,    1.259,2, -999.000,9,-999.0000,9,  -999.00,9,   -999.0,9,   -999.0,9,   -999.0,9,   -999.0,9,   -999.0,9, -999.00,  -999.0,-999.0000,-999.000, 17.8784,-999.000
   31WTTUNES_2,  P16S,   195,  1,      3,      3,2,19910817,2225,-30.0133,-150.4867, 4416,     64.7,  17.3387,  35.4130,2,  35.4147,2,    238.7,6,    235.5,2,     1.36,2,     0.06,2,     0.00,2,     0.10,2,    2.378,2,    1.286,2, -999.000,9,-999.0000,9,  -999.00,9,   -999.0,9,   -999.0,9,   -999.0,9,   -999.0,9,   -999.0,9, -999.00,  -999.0,-999.0000,-999.000, 17.3279,-999.000
   31WTTUNES_2,  P16S,   195,  1,     64,     64,2,19910817,2225,-30.0133,-150.4867, 4416,    114.8,  17.1944,  35.3964,2,  35.4051,2,    231.8,6,    235.4,2,     1.34,2,     0.10,2,     0.01,2,     0.11,2,    2.392,2,    1.302,2, -999.000,9,-999.0000,9,  -999.00,9,   -999.0,9,   -999.0,9,   -999.0,9,   -999.0,9,   -999.0,9, -999.00,  -999.0,-999.0000,-999.000, 17.1753,-999.000
   31WTTUNES_2,  P16S,   195,  1,      5,      5,2,19910817,2225,-30.0133,-150.4867, 4416,    143.6,  17.1120,  35.3966,2,  35.3919,2,    226.2,2,    232.7,2,     1.31,2,     0.25,2,     0.04,2,     0.13,2,    2.358,2,    1.273,2, -999.000,9,-999.0000,9,  -999.00,9,    110.3,2,      1.3,2,   -999.0,9,   -999.0,9,   -999.0,9, -999.00,     3.0,-999.0000,-999.000, 17.0882,-999.000
   31WTTUNES_2,  P16S,   195,  1,      6,      6,2,19910817,2225,-30.0133,-150.4867, 4416,    194.0,  15.6601,  35.2829,2,  35.2853,2,    217.5,2,    215.2,2,     1.69,2,     2.86,2,     0.02,2,     0.34,2,    2.252,2,    1.201,2, -999.000,9,-999.0000,9,  -999.00,9,   -999.0,9,   -999.0,9,   -999.0,9,   -999.0,9,   -999.0,9, -999.00,  -999.0,-999.0000,-999.000, 15.6298,-999.000
   31WTTUNES_2,  P16S,   195,  1,      7,      7,2,19910817,2225,-30.0133,-150.4867, 4416,    241.9,  14.6174,  35.2011,2,  35.2057,2,    206.0,2,    206.3,2,     2.47,2,     5.41,2,     0.01,2,     0.50,2,    2.049,2,    1.125,2, -999.000,9,-999.0000,9,  -999.00,9,     93.3,2,      1.2,2,   -999.0,9,   -999.0,9,   -999.0,9, -999.00,     2.8,-999.0000,-999.000, 14.5813,-999.000
   31WTTUNES_2,  P16S,   195,  1,     68,     68,2,19910817,2225,-30.0133,-150.4867, 4416,    299.7,  12.6924,  34.9944,2,  34.9972,2,    200.0,2,    199.3,2,     3.05,2,    10.22,2,     0.00,2,     0.79,2,    1.762,2,    0.931,2, -999.000,9,-999.0000,9,  -999.00,9,     79.4,2,      1.3,2,   -999.0,9,   -999.0,9,   -999.0,9, -999.00,     2.7,-999.0000,-999.000, 12.6517,-999.000
   31WTTUNES_2,  P16S,   195,  1,     69,     69,2,19910817,2225,-30.0133,-150.4867, 4416,    355.9,  10.6980,  34.7694,2,  34.7691,2,    201.5,2,    201.6,2,     4.63,2,    14.79,2,     0.00,2,     1.06,2,    1.414,2,    0.751,2, -999.000,9,-999.0000,9,  -999.00,9,     63.5,2,      1.1,2,   -999.0,9,   -999.0,9,   -999.0,9, -999.00,     4.0,-999.0000,-999.000, 10.6547,-999.000
   31WTTUNES_2,  P16S,   195,  1,     70,     70,2,19910817,2225,-30.0133,-150.4867, 4416,    405.8,   9.1375,  34.6015,2,  34.6028,2,    210.8,2,    209.3,2,     5.81,2,    18.09,2,     0.00,2,     1.27,2,    1.107,2,    0.585,2, -999.000,9,-999.0000,9,  -999.00,9,   -999.0,9,   -999.0,9,   -999.0,9,   -999.0,9,   -999.0,9, -999.00,  -999.0,-999.0000,-999.000,  9.0927,-999.000
   31WTTUNES_2,  P16S,   195,  1,     11,     11,2,19910817,2225,-30.0133,-150.4867, 4416,    471.7,   8.0897,  34.4958,2,  34.5003,2,    227.1,2,    221.8,2,     6.39,2,    19.75,2,     0.00,2,     1.37,2,    1.160,2,    0.609,2, -999.000,9,-999.0000,9,  -999.00,9,     21.2,2,      1.2,2,   -999.0,9,   -999.0,9,   -999.0,9, -999.00,     2.7,-999.0000,-999.000,  8.0412,-999.000
   31WTTUNES_2,  P16S,   195,  1,     12,     12,2,19910817,2225,-30.0133,-150.4867, 4416,    536.4,   7.3648,  34.4374,2,  34.4385,2,    240.5,2,    239.2,2,     6.97,2,    20.50,2,     0.00,2,     1.41,2,    1.532,2,    0.790,2, -999.000,9,-999.0000,9,  -999.00,9,     25.2,2,      1.4,3,   -999.0,9,   -999.0,9,   -999.0,9, -999.00,     2.9,-999.0000,-999.000,  7.3123,-999.000
   31WTTUNES_2,  P16S,   195,  1,     13,     13,2,19910817,2225,-30.0133,-150.4867, 4416,    614.4,   6.8794,  34.3936,2,  34.3946,2,    241.8,2,    242.3,2,     8.15,2,    21.78,2,     0.00,2,     1.49,2,    1.212,2,    0.630,2, -999.000,9,-999.0000,9,  -999.00,9,     -8.5,2,      1.2,3,   -999.0,9,   -999.0,9,   -999.0,9, -999.00,     2.6,-999.0000,-999.000,  6.8213,-999.000
   31WTTUNES_2,  P16S,   195,  1,     37,     37,2,19910817,2225,-30.0133,-150.4867, 4416,    691.4,   6.5064,  34.3617,2,  34.3626,2,    238.0,2,    241.1,2,     9.33,2,    22.91,2,     0.00,2,     1.56,2,    0.879,2,    0.454,2, -999.000,9,-999.0000,9,  -999.00,9,    -18.3,2,      1.4,3,   -999.0,9,   -999.0,9,   -999.0,9, -999.00,     2.5,-999.0000,-999.000,  6.4426,-999.000
   31WTTUNES_2,  P16S,   195,  1,     15,     15,2,19910817,2225,-30.0133,-150.4867, 4416,    769.7,   6.1047,  34.3346,2,  34.3346,2,    236.4,2,    237.0,2,    11.72,2,    24.29,2,     0.00,2,     1.66,2,    0.587,2,    0.315,2, -999.000,9,-999.0000,9,  -999.00,9,   -999.0,9,   -999.0,9,   -999.0,9,   -999.0,9,   -999.0,9, -999.00,  -999.0,-999.0000,-999.000,  6.0356,-999.000
   31WTTUNES_2,  P16S,   195,  1,     16,     16,2,19910817,2225,-30.0133,-150.4867, 4416,    868.8,   5.5224,  34.3151,2,  34.3230,2,    222.1,2,    228.1,2,    15.32,2,    25.95,2,     0.00,2,     1.77,2,    0.376,2,    0.209,2, -999.000,9,-999.0000,9,  -999.00,9,    -56.3,2,      1.3,2,   -999.0,9,   -999.0,9,   -999.0,9, -999.00,     2.5,-999.0000,-999.000,  5.4477,-999.000
   31WTTUNES_2,  P16S,   195,  1,     17,     17,2,19910817,2225,-30.0133,-150.4867, 4416,   1019.2,   4.5888,  34.3271,2,  34.3270,2,    202.7,2,    202.6,2,    30.38,2,    30.25,2,     0.00,2,     2.07,2,    0.089,2,    0.054,2, -999.000,9,-999.0000,9,  -999.00,9,    -99.2,2,      0.9,2,   -999.0,9,   -999.0,9,   -999.0,9, -999.00,     3.0,-999.0000,-999.000,  4.5073,-999.000
   31WTTUNES_2,  P16S,   195,  1,     18,     18,2,19910817,2225,-30.0133,-150.4867, 4416,   1168.5,   3.8067,  34.3860,2,  34.3851,2,    184.2,2,    183.3,2,    48.28,2,    32.80,2,     0.00,2,     2.26,2,    0.010,2,    0.008,2, -999.000,9,-999.0000,9,  -999.00,9,   -124.7,2,      0.6,2,   -999.0,9,   -999.0,9,   -999.0,9, -999.00,     2.5,-999.0000,-999.000,  3.7188,-999.000
   31WTTUNES_2,  P16S,   195,  1,     19,     19,2,19910817,2225,-30.0133,-150.4867, 4416,   1367.7,   3.1358,  34.4672,2,  34.4701,2,    170.9,2,    170.6,2,    67.64,2,    34.16,2,     0.00,2,     2.37,2,    0.000,2,    0.000,2, -999.000,9,-999.0000,9,  -999.00,9,   -159.6,2,      0.4,2,   -999.0,9,   -999.0,9,   -999.0,9, -999.00,     3.4,-999.0000,-999.000,  3.0377,-999.000
   31WTTUNES_2,  P16S,   195,  1,     20,     20,2,19910817,2225,-30.0133,-150.4867, 4416,   1570.0,   2.6568,  34.5510,2,  34.5508,2,    162.5,2,    161.8,2,    87.31,2,    34.69,2,     0.00,2,     2.42,2, -999.000,9, -999.000,9, -999.000,9,-999.0000,9,  -999.00,9,   -195.0,3,      0.3,2,   -999.0,9,   -999.0,9,   -999.0,9, -999.00,     3.8,-999.0000,-999.000,  2.5473,-999.000
   31WTTUNES_2,  P16S,   195,  1,     21,     21,2,19910817,2225,-30.0133,-150.4867, 4416,   1771.9,   2.3847,  34.5996,2,  34.5991,2,    155.2,2,    155.8,2,   103.06,2,    34.94,2,     0.00,2,     2.44,2,   -0.001,2,    0.000,2, -999.000,9,-999.0000,9,  -999.00,9,   -191.2,2,      0.1,2,   -999.0,9,   -999.0,9,   -999.0,9, -999.00,     2.2,-999.0000,-999.000,  2.2619,-999.000
   31WTTUNES_2,  P16S,   195,  1,     22,     22,2,19910817,2225,-30.0133,-150.4867, 4416,   1981.0,   2.1986,  34.6277,2,  34.6265,2,    153.1,2,    152.7,2,   113.56,2,    35.23,2,     0.00,2,     2.47,2, -999.000,9, -999.000,9, -999.000,9,-999.0000,9,  -999.00,9,   -202.7,2,      0.1,2,   -999.0,9,   -999.0,9,   -999.0,9, -999.00,     2.2,-999.0000,-999.000,  2.0608,-999.000
   31WTTUNES_2,  P16S,   195,  1,     24,     24,2,19910817,2225,-30.0133,-150.4867, 4416,   2186.3,   2.0275,  34.6449,2,  34.6432,2,    152.2,2,    150.9,2,   121.00,2,    35.52,2,     0.00,2,     2.48,2, -999.000,9, -999.000,9, -999.000,9,-999.0000,9,  -999.00,9,   -999.0,9,   -999.0,9,   -999.0,9,   -999.0,9,   -999.0,9, -999.00,  -999.0,-999.0000,-999.000,  1.8747,-999.000
   31WTTUNES_2,  P16S,   195,  1,     23,     23,2,19910817,2225,-30.0133,-150.4867, 4416,   2188.7,   2.0241,  34.6449,2,  34.6430,2,    152.2,2,    150.7,2,   121.02,2,    35.52,2,     0.00,2,     2.48,2, -999.000,9, -999.000,9, -999.000,9,-999.0000,9,  -999.00,9,   -999.0,9,   -999.0,9,   -999.0,9,   -999.0,9,   -999.0,9, -999.00,  -999.0,-999.0000,-999.000,  1.8712,-999.000
   31WTTUNES_2,  P16S,   195,  1,     25,     25,2,19910817,2225,-30.0133,-150.4867, 4416,   2385.8,   1.9102,  34.6562,2,  34.6592,2,    149.8,2,    149.5,2,   128.30,2,    35.67,2,     0.00,2,     2.50,2, -999.000,9, -999.000,9, -999.000,9,-999.0000,9,  -999.00,9,   -999.0,9,   -999.0,9,   -999.0,9,   -999.0,9,   -999.0,9, -999.00,  -999.0,-999.0000,-999.000,  1.7418,-999.000
   31WTTUNES_2,  P16S,   195,  1,     26,     26,2,19910817,2225,-30.0133,-150.4867, 4416,   2590.4,   1.8259,  34.6637,2,  34.6621,2,    148.6,2,    150.2,2,   130.80,2,    35.62,2,     0.00,2,     2.49,2, -999.000,9, -999.000,9, -999.000,9,-999.0000,9,  -999.00,9,   -999.0,9,   -999.0,9,   -999.0,9,   -999.0,9,   -999.0,9, -999.00,  -999.0,-999.0000,-999.000,  1.6406,-999.000
   31WTTUNES_2,  P16S,   195,  1,     27,     27,2,19910817,2225,-30.0133,-150.4867, 4416,   2804.0,   1.7533,  34.6700,2,  34.6682,2,    152.0,2,    152.9,2,   132.25,2,    35.48,2,     0.00,2,     2.48,2, -999.000,9, -999.000,9, -999.000,9,-999.0000,9,  -999.00,9,   -999.0,9,   -999.0,9,   -999.0,9,   -999.0,9,   -999.0,9, -999.00,  -999.0,-999.0000,-999.000,  1.5497,-999.000
   31WTTUNES_2,  P16S,   195,  1,     28,     28,2,19910817,2225,-30.0133,-150.4867, 4416,   3015.2,   1.6700,  34.6774,2,  34.6751,2,    157.0,2,    158.7,2,   132.66,3,    35.08,2,     0.00,2,     2.45,2, -999.000,9, -999.000,9, -999.000,9,-999.0000,9,  -999.00,9,   -213.8,2,      0.3,2,   -999.0,9,   -999.0,9,   -999.0,9, -999.00,     3.8,-999.0000,-999.000,  1.4480,-999.000
   31WTTUNES_2,  P16S,   195,  1,     29,     29,2,19910817,2225,-30.0133,-150.4867, 4416,   3228.4,   1.5825,  34.6837,2,  34.6814,2,    165.2,2,    166.2,2,   129.48,2,    34.45,2,     0.00,2,     2.40,2, -999.000,9, -999.000,9, -999.000,9,-999.0000,9,  -999.00,9,   -203.5,2,      0.2,2,   -999.0,9,   -999.0,9,   -999.0,9, -999.00,     3.5,-999.0000,-999.000,  1.3417,-999.000
   31WTTUNES_2,  P16S,   195,  1,     30,     30,2,19910817,2225,-30.0133,-150.4867, 4416,   3440.0,   1.5172,  34.6895,2,  34.6876,2,    167.3,2,    172.4,2,   127.78,2,    34.01,2,     0.00,2,     2.37,2, -999.000,9, -999.000,9, -999.000,9,-999.0000,9,  -999.00,9,   -999.0,9,   -999.0,9,   -999.0,9,   -999.0,9,   -999.0,9, -999.00,  -999.0,-999.0000,-999.000,  1.2567,-999.000
   31WTTUNES_2,  P16S,   195,  1,     31,     31,2,19910817,2225,-30.0133,-150.4867, 4416,   3648.4,   1.4255,  34.6952,2,  34.6980,2,    177.5,2,    179.8,2,   125.87,2,    33.38,2,     0.00,2,     2.33,2, -999.000,9, -999.000,9, -999.000,9,-999.0000,9,  -999.00,9,   -196.1,2,      0.1,2,   -999.0,9,   -999.0,9,   -999.0,9, -999.00,     2.5,-999.0000,-999.000,  1.1459,-999.000
   31WTTUNES_2,  P16S,   195,  1,     32,     32,2,19910817,2225,-30.0133,-150.4867, 4416,   3863.3,   1.3557,  34.6948,2,  34.6990,2,    183.1,2,    185.4,2,   125.02,2,    33.19,2,     0.00,2,     2.29,2, -999.000,9, -999.000,9, -999.000,9,-999.0000,9,  -999.00,9,   -999.0,9,   -999.0,9,   -999.0,9,   -999.0,9,   -999.0,9, -999.00,  -999.0,-999.0000,-999.000,  1.0554,-999.000
   31WTTUNES_2,  P16S,   195,  1,     33,     33,2,19910817,2225,-30.0133,-150.4867, 4416,   3863.7,   1.3555,  34.6946,2,  34.6982,2,    183.1,2,    185.6,2,   124.37,2,    33.14,2,     0.00,2,     2.29,2, -999.000,9, -999.000,9, -999.000,9,-999.0000,9,  -999.00,9,   -185.1,2,      0.1,2,   -999.0,9,   -999.0,9,   -999.0,9, -999.00,     2.5,-999.0000,-999.000,  1.0552,-999.000
   31WTTUNES_2,  P16S,   195,  1,     34,     34,2,19910817,2225,-30.0133,-150.4867, 4416,   4070.8,   1.3217,  34.6996,2,  34.6998,2,    187.5,2,    188.9,2,   123.72,2,    32.90,2,     0.00,2,     2.28,2, -999.000,9, -999.000,9, -999.000,9,-999.0000,9,  -999.00,9,   -999.0,9,   -999.0,9,   -999.0,9,   -999.0,9,   -999.0,9, -999.00,  -999.0,-999.0000,-999.000,  1.0001,-999.000
   31WTTUNES_2,  P16S,   195,  1,     39,     39,2,19910817,2225,-30.0133,-150.4867, 4416,   4278.4,   1.2994,  34.6995,2,  34.7008,2,    191.1,2,    191.7,2,   123.70,2,    32.80,2,     0.00,2,     2.27,2, -999.000,9, -999.000,9, -999.000,9,-999.0000,9,  -999.00,9,   -176.5,2,      0.3,2,   -999.0,9,   -999.0,9,   -999.0,9, -999.00,     3.4,-999.0000,-999.000,  0.9556,-999.000
   31WTTUNES_2,  P16S,   195,  1,     38,     38,2,19910817,2225,-30.0133,-150.4867, 4416,   4442.3,   1.2840,  34.6980,2,  34.7022,2,    194.3,2,    193.3,2,   123.47,2,    32.70,2,     0.00,2,     2.26,2, -999.000,9, -999.000,9, -999.000,9,-999.0000,9,  -999.00,9,   -176.4,2,      0.2,2,   -999.0,9,   -999.0,9,   -999.0,9, -999.00,     3.1,-999.0000,-999.000,  0.9222,-999.000