BOTTLE,20131125MIRCJHATS
EXPOCODE,SECT_ID,STNNBR,CASTNO,SAMPNO,BTLNBR,BTLNBR_FLAG_W,DATE,TIME,LATITUDE,LONGITUDE,DEPTH,CTDPRS,CTDTMP,CTDSAL,CTDSAL_FLAG_W,SALNTY,SALNTY_FLAG_W,CTDOXY,CTDOXY_FLAG_W,OXYGEN,OXYGEN_FLAG_W,SILCAT,SILCAT_FLAG_W,NITRAT,NITRAT_FLAG_W,NITRIT,NITRIT_FLAG_W,PHSPHT,PHSPHT_FLAG_W,CFC-11,CFC-11_FLAG_W,CFC-12,CFC-12_FLAG_W,TRITUM,TRITUM_FLAG_W,HELIUM,HELIUM_FLAG_W,DELHE3,DELHE3_FLAG_W,DELC14,DELC14_FLAG_W,DELC13,DELC13_FLAG_W,TCARBN,TCARBN_FLAG_W,PCO2,PCO2_FLAG_W,ALKALI,ALKALI_FLAG_W,PCO2TMP,C14ERR,HELIER,DELHER,THETA,TRITER
,,,,,,,,,,,,DBAR,ITS-90,PSS-78,,PSS-78,,UMOL/KG,,UMOL/KG,,UMOL/KG,,UMOL/KG,,UMOL/KG,,UMOL/KG,,PMOL/KG,,PMOL/KG,,TU,,NMOL/KG,,PERCNT,,/MILLE,,/MILLE,,UMOL/KG,,UATM,,UMOL/KG,,DEG C,/MILLE,NMOL/KG,PERCNT,DEG C,TU
   31WTTUNES_2,  P17S,   150,  1,      1,      1,2,19910729,2313,-18.8167,-133.1500, 3861,      1.4,  25.8553,  36.4806,2,  36.4790,2,    209.0,3,    212.0,2,     1.46,2,     0.05,2,     0.00,2,     0.19,2,    1.731,2,    0.938,2, -999.000,9,-999.0000,9,  -999.00,9,   -999.0,9,   -999.0,9,   2031.6,2,    269.5,2,   -999.0,9,   20.00,  -999.0,-999.0000,-999.000, 25.8550,-999.000
   31WTTUNES_2,  P17S,   150,  1,      2,      2,2,19910729,2313,-18.8167,-133.1500, 3861,     44.1,  25.4073,  36.4719,2,  36.4729,2,    209.4,6,    213.5,2,     1.45,2,     0.05,2,     0.00,2,     0.19,2, -999.000,9, -999.000,9,    0.923,2,   1.7080,2,    -0.86,2,   -999.0,9,   -999.0,9,   -999.0,9,   -999.0,9,   -999.0,9, -999.00,  -999.0,  0.0080,   0.150, 25.3976,   0.007
   31WTTUNES_2,  P17S,   150,  1,      3,      3,2,19910729,2313,-18.8167,-133.1500, 3861,     84.6,  25.4269,  36.4832,2,  36.4834,2,    214.2,6,    213.5,2,     1.43,2,     0.05,2,     0.00,2,     0.19,2,    1.729,2,    0.935,2,    0.912,2,   1.7260,2,    -1.05,2,   -999.0,9,   -999.0,9,   -999.0,9,   -999.0,9,   -999.0,9, -999.00,  -999.0,  0.0080,   0.150, 25.4082,   0.007
   31WTTUNES_2,  P17S,   150,  1,      4,      4,2,19910729,2313,-18.8167,-133.1500, 3861,    125.7,  25.3619,  36.4577,2,  36.4540,2,    215.4,6,    210.6,2,     0.84,2,     0.04,2,     0.01,2,     0.19,2, -999.000,9, -999.000,9,    0.813,2,   1.6900,2,    -0.76,2,   -999.0,9,   -999.0,9,   -999.0,9,   -999.0,9,   -999.0,9, -999.00,  -999.0,  0.0080,   0.150, 25.3342,   0.006
   31WTTUNES_2,  P17S,   150,  1,      5,      5,2,19910729,2313,-18.8167,-133.1500, 3861,    166.8,  23.4296,  36.2382,2,  36.2831,2,    205.4,2,    204.2,2,     1.41,2,     0.05,2,     0.31,2,     0.23,2,    1.843,2,    0.976,2,    0.865,2,   1.7120,2,    -0.70,2,   -999.0,9,   -999.0,9,   -999.0,9,   -999.0,9,   -999.0,9, -999.00,  -999.0,  0.0080,   0.150, 23.3949,   0.007
   31WTTUNES_2,  P17S,   150,  1,      6,      6,2,19910729,2313,-18.8167,-133.1500, 3861,    208.7,  21.6333,  36.1164,2,  36.1207,2,    190.1,2,    191.6,2,     1.59,2,     2.46,2,     0.02,2,     0.40,2, -999.000,9, -999.000,9,    0.766,2,   1.7380,2,    -0.59,2,   -999.0,9,   -999.0,9,   -999.0,9,   -999.0,9,   -999.0,9, -999.00,  -999.0,  0.0080,   0.150, 21.5923,   0.006
   31WTTUNES_2,  P17S,   150,  1,      7,      7,2,19910729,2313,-18.8167,-133.1500, 3861,    260.2,  19.2931,  35.7161,2,  35.6869,2,    189.2,2,    189.5,2,     1.77,2,     3.15,2,     0.01,2,     0.42,2,    1.826,2,    0.967,2,    0.567,2,   1.7180,2,     0.09,2,   -999.0,9,   -999.0,9,   -999.0,9,   -999.0,9,   -999.0,9, -999.00,  -999.0,  0.0080,   0.150, 19.2460,   0.007
   31WTTUNES_2,  P17S,   150,  1,      8,      8,2,19910729,2313,-18.8167,-133.1500, 3861,    311.2,  16.6296,  35.2705,2,  35.2887,2,    185.0,2,    184.3,2,     1.96,2,     5.43,2,     0.00,2,     0.58,2, -999.000,9, -999.000,9,    0.666,2,   1.7450,2,     0.35,2,   -999.0,9,   -999.0,9,   -999.0,9,   -999.0,9,   -999.0,9, -999.00,  -999.0,  0.0080,   0.150, 16.5788,   0.009
   31WTTUNES_2,  P17S,   150,  1,      9,      9,2,19910729,2313,-18.8167,-133.1500, 3861,    362.0,  13.4864,  34.9076,2,  34.8502,2,    174.6,2,    170.2,2,     4.27,2,    11.58,2,     0.00,2,     1.00,2,    1.249,2,    0.646,2, -999.000,9,-999.0000,9,  -999.00,9,   -999.0,9,   -999.0,9,   -999.0,9,   -999.0,9,   -999.0,9, -999.00,  -999.0,-999.0000,-999.000, 13.4351,-999.000
   31WTTUNES_2,  P17S,   150,  1,     10,     10,2,19910729,2313,-18.8167,-133.1500, 3861,    413.4,  10.4131,  34.5779,2,  34.5653,2,    160.5,2,    161.7,2,     9.12,2,    19.14,2,     0.00,2,     1.48,2,    0.747,2,    0.396,2,    0.291,2,   1.8050,2,     1.43,2,   -999.0,9,   -999.0,9,   -999.0,9,   -999.0,9,   -999.0,9, -999.00,  -999.0,  0.0080,   0.150, 10.3636,   0.004
   31WTTUNES_2,  P17S,   150,  1,     11,     11,2,19910729,2313,-18.8167,-133.1500, 3861,    464.6,   8.1339,  34.4389,2,  34.4209,2,    153.3,2,    155.3,2,    12.99,2,    25.63,2,     0.00,2,     1.89,2,    0.420,2,    0.238,2, -999.000,9,-999.0000,9,  -999.00,9,   -999.0,9,   -999.0,9,   -999.0,9,   -999.0,9,   -999.0,9, -999.00,  -999.0,-999.0000,-999.000,  8.0860,-999.000
   31WTTUNES_2,  P17S,   150,  1,     12,     12,2,19910729,2313,-18.8167,-133.1500, 3861,    515.0,   6.9146,  34.3411,2,  34.3687,2,    161.7,2,    171.5,2,    14.33,2,    27.81,2,     0.00,2,     1.98,2,    0.287,2,    0.176,2,    0.090,2,   1.8080,2,     1.07,2,   -999.0,9,   -999.0,9,   -999.0,9,   -999.0,9,   -999.0,9, -999.00,  -999.0,  0.0080,   0.150,  6.8661,   0.002
   31WTTUNES_2,  P17S,   150,  1,     13,     13,2,19910729,2313,-18.8167,-133.1500, 3861,    567.5,   6.1817,  34.3254,2,  34.3314,2,    191.7,2,    202.8,2,    13.93,2,    27.03,2,     0.00,2,     1.88,2,    0.294,2,    0.182,2,    0.082,2,   1.8110,2,     0.85,2,   -999.0,9,   -999.0,9,   -999.0,9,   -999.0,9,   -999.0,9, -999.00,  -999.0,  0.0090,   0.150,  6.1312,   0.002
   31WTTUNES_2,  P17S,   150,  1,     37,     37,2,19910729,2313,-18.8167,-133.1500, 3861,    617.4,   5.7246,  34.3188,2,  34.3183,2,    194.0,2,    196.8,2,    18.57,2,    28.85,2,     0.00,2,     1.99,2,    0.143,2,    0.096,2,    0.043,2,   1.8190,2,     1.12,2,   -999.0,9,   -999.0,9,   -999.0,9,   -999.0,9,   -999.0,9, -999.00,  -999.0,  0.0090,   0.150,  5.6716,   0.002
   31WTTUNES_2,  P17S,   150,  1,     15,     15,2,19910729,2313,-18.8167,-133.1500, 3861,    669.2,   5.4903,  34.3388,2,  34.3432,2,    170.3,2,    168.2,2,    25.54,2,    31.67,2,     0.00,2,     2.20,2,    0.045,2,    0.036,2, -999.000,9,-999.0000,9,  -999.00,9,   -999.0,9,   -999.0,9,   -999.0,9,   -999.0,9,   -999.0,9, -999.00,  -999.0,-999.0000,-999.000,  5.4338,-999.000
   31WTTUNES_2,  P17S,   150,  1,     16,     16,2,19910729,2313,-18.8167,-133.1500, 3861,    771.7,   5.0496,  34.4154,2,  34.4172,2,    136.9,2,    132.7,2,    43.18,2,    35.30,2,     0.00,2,     2.48,2,    0.008,2,    0.004,2,    0.004,2,   1.8260,2,     7.76,2,   -999.0,9,   -999.0,9,   -999.0,9,   -999.0,9,   -999.0,9, -999.00,  -999.0,  0.0090,   0.150,  4.9864,   0.001
   31WTTUNES_2,  P17S,   150,  1,     17,     17,2,19910729,2313,-18.8167,-133.1500, 3861,    874.3,   4.6067,  34.4741,2,  34.4770,2,    121.8,2,    123.3,2,    59.31,2,    36.36,2,     0.00,2,     2.57,2,    0.003,2,   -0.002,2,    0.001,2,   0.0000,2,     0.00,2,   -999.0,9,   -999.0,9,   -999.0,9,   -999.0,9,   -999.0,9, -999.00,  -999.0,-999.0000,   0.150,  4.5373,   0.001
   31WTTUNES_2,  P17S,   150,  1,     18,     18,2,19910729,2313,-18.8167,-133.1500, 3861,    977.7,   4.2918,  34.4996,2,  34.4980,2,    124.4,2,    123.1,2,    68.45,2,    36.51,2,     0.00,2,     2.58,2,    0.001,2,    0.000,2,    0.003,2,   1.8240,2,    15.46,2,   -999.0,9,   -999.0,9,   -999.0,9,   -999.0,9,   -999.0,9, -999.00,  -999.0,  0.0090,   0.150,  4.2158,   0.001
   31WTTUNES_2,  P17S,   150,  1,     19,     19,2,19910729,2313,-18.8167,-133.1500, 3861,   1080.4,   3.9611,  34.5245,2,  34.5175,2,    122.6,2,    123.3,2,    76.05,2,    36.72,2,     0.00,2,     2.59,2,    0.001,7,    0.000,2,    0.001,2,   1.8500,2,    17.20,2,   -999.0,9,   -999.0,9,   -999.0,9,   -999.0,9,   -999.0,9, -999.00,  -999.0,  0.0090,   0.150,  3.8790,   0.001
   31WTTUNES_2,  P17S,   150,  1,     20,     20,2,19910729,2313,-18.8167,-133.1500, 3861,   1233.9,   3.5583,  34.5342,2,  34.5353,2,    127.4,2,    128.1,2,    84.06,2,    36.77,2,     0.00,2,     2.60,2,    0.003,2,    0.004,7,    0.002,2,   1.8620,2,    19.13,2,   -999.0,9,   -999.0,9,   -999.0,9,   -999.0,9,   -999.0,9, -999.00,  -999.0,  0.0090,   0.150,  3.4669,   0.001
   31WTTUNES_2,  P17S,   150,  1,     21,     21,2,19910729,2313,-18.8167,-133.1500, 3861,   1439.0,   3.0312,  34.5577,2,  34.5609,2,    135.4,2,    137.3,2,    90.33,2,    36.03,2,     0.00,2,     2.55,2, -999.000,9, -999.000,9, -999.000,9,   1.8830,2,    21.32,2,   -999.0,9,   -999.0,9,   -999.0,9,   -999.0,9,   -999.0,9, -999.00,  -999.0,-999.0000,-999.000,  2.9282,-999.000
   31WTTUNES_2,  P17S,   150,  1,     22,     22,2,19910729,2313,-18.8167,-133.1500, 3861,   1645.7,   2.6151,  34.5868,2,  34.5870,2,    144.0,2,    143.5,2,   103.56,2,    35.71,2,     0.00,2,     2.51,2, -999.000,9, -999.000,9, -999.000,9,   1.8860,2,    23.32,2,   -999.0,9,   -999.0,9,   -999.0,9,   -999.0,9,   -999.0,9, -999.00,  -999.0,-999.0000,-999.000,  2.4998,-999.000
   31WTTUNES_2,  P17S,   150,  1,     23,     23,2,19910729,2313,-18.8167,-133.1500, 3861,   1851.4,   2.2880,  34.6124,2,  34.6133,2,    152.3,2,    151.6,2,   110.10,2,    35.33,2,     0.00,2,     2.48,2, -999.000,9, -999.000,9, -999.000,9,   1.8950,2,    25.42,2,   -999.0,9,   -999.0,9,   -999.0,9,   -999.0,9,   -999.0,9, -999.00,  -999.0,-999.0000,-999.000,  2.1598,-999.000
   31WTTUNES_2,  P17S,   150,  1,     24,     24,2,19910729,2313,-18.8167,-133.1500, 3861,   2057.5,   2.1024,  34.6332,2,  34.6333,2,    153.2,2,    151.2,2,   117.28,2,    35.44,2,     0.00,2,     2.49,2, -999.000,9, -999.000,9, -999.000,9,   1.9190,2,    29.24,2,   -999.0,9,   -999.0,9,   -999.0,9,   -999.0,9,   -999.0,9, -999.00,  -999.0,-999.0000,-999.000,  1.9595,-999.000
   31WTTUNES_2,  P17S,   150,  1,     25,     25,2,19910729,2313,-18.8167,-133.1500, 3861,   2262.6,   1.9476,  34.6477,2,  34.6479,2,    157.5,2,    155.3,2,   121.47,2,    35.22,2,     0.00,2,     2.46,2, -999.000,9, -999.000,9, -999.000,9,   1.9120,2,    29.63,2,   -999.0,9,   -999.0,9,   -999.0,9,   -999.0,9,   -999.0,9, -999.00,  -999.0,-999.0000,-999.000,  1.7895,-999.000
   31WTTUNES_2,  P17S,   150,  1,     26,     26,2,19910729,2313,-18.8167,-133.1500, 3861,   2418.8,   1.8846,  34.6570,2,  34.6573,2,    156.4,2,    154.9,2,   125.07,2,    35.12,2,     0.00,2,     2.46,2, -999.000,9, -999.000,9, -999.000,9,   1.9200,2,    31.22,2,   -999.0,9,   -999.0,9,   -999.0,9,   -999.0,9,   -999.0,9, -999.00,  -999.0,-999.0000,-999.000,  1.7137,-999.000
   31WTTUNES_2,  P17S,   150,  1,     27,     27,2,19910729,2313,-18.8167,-133.1500, 3861,   2572.6,   1.8340,  34.6624,2,  34.6634,2,    154.3,2,    155.0,2,   126.86,2,    35.22,2,     0.00,2,     2.47,2, -999.000,9, -999.000,9, -999.000,9,   1.9240,2,    31.12,2,   -999.0,9,   -999.0,9,   -999.0,9,   -999.0,9,   -999.0,9, -999.00,  -999.0,-999.0000,-999.000,  1.6502,-999.000
   31WTTUNES_2,  P17S,   150,  1,     28,     28,2,19910729,2313,-18.8167,-133.1500, 3861,   2727.2,   1.7855,  34.6676,2,  34.6683,2,    154.9,2,    155.4,2,   129.46,2,    35.27,2,     0.00,2,     2.47,2, -999.000,9, -999.000,9, -999.000,9,   1.9200,2,    30.45,2,   -999.0,9,   -999.0,9,   -999.0,9,   -999.0,9,   -999.0,9, -999.00,  -999.0,-999.0000,-999.000,  1.5884,-999.000
   31WTTUNES_2,  P17S,   150,  1,     29,     29,2,19910729,2313,-18.8167,-133.1500, 3861,   2882.1,   1.7470,  34.6715,2,  34.6712,2,    155.2,2,    156.9,2,   131.46,2,    35.22,2,     0.00,2,     2.46,2, -999.000,9, -999.000,9, -999.000,9,   1.9220,2,    29.37,2,   -999.0,9,   -999.0,9,   -999.0,9,   -999.0,9,   -999.0,9, -999.00,  -999.0,-999.0000,-999.000,  1.5361,-999.000
   31WTTUNES_2,  P17S,   150,  1,     30,     30,2,19910729,2313,-18.8167,-133.1500, 3861,   3089.7,   1.6995,  34.6750,2,  34.6756,2,    162.6,2,    160.5,2,   129.99,2,    34.84,2,     0.00,2,     2.44,2, -999.000,9, -999.000,9, -999.000,9,   1.9190,2,    26.40,2,   -999.0,9,   -999.0,9,   -999.0,9,   -999.0,9,   -999.0,9, -999.00,  -999.0,-999.0000,-999.000,  1.4696,-999.000
   31WTTUNES_2,  P17S,   150,  1,     31,     31,2,19910729,2313,-18.8167,-133.1500, 3861,   3296.9,   1.6625,  34.6779,2,  34.6781,2,    164.0,2,    163.4,2,   130.56,2,    34.79,2,     0.00,2,     2.43,2, -999.000,9, -999.000,9, -999.000,9,   1.9190,2,    24.68,2,   -999.0,9,   -999.0,9,   -999.0,9,   -999.0,9,   -999.0,9, -999.00,  -999.0,-999.0000,-999.000,  1.4129,-999.000
   31WTTUNES_2,  P17S,   150,  1,     33,     33,2,19910729,2313,-18.8167,-133.1500, 3861,   3503.9,   1.6389,  34.6806,2,  34.6822,2,    162.9,2,    162.8,2,   132.93,2,    34.79,2,     0.00,2,     2.42,2, -999.000,9, -999.000,9, -999.000,9,-999.0000,9,  -999.00,9,   -999.0,9,   -999.0,9,   -999.0,9,   -999.0,9,   -999.0,9, -999.00,  -999.0,-999.0000,-999.000,  1.3689,-999.000
   31WTTUNES_2,  P17S,   150,  1,     32,     32,2,19910729,2313,-18.8167,-133.1500, 3861,   3504.0,   1.6394,  34.6812,2,  34.6806,2,    162.9,2,    163.1,2,   132.56,2,    34.79,2,     0.00,2,     2.42,2, -999.000,9, -999.000,9, -999.000,9,   1.9140,2,    24.69,2,   -999.0,9,   -999.0,9,   -999.0,9,   -999.0,9,   -999.0,9, -999.00,  -999.0,-999.0000,-999.000,  1.3694,-999.000
   31WTTUNES_2,  P17S,   150,  1,     35,     35,2,19910729,2313,-18.8167,-133.1500, 3861,   3711.8,   1.5841,  34.6850,2,  34.6869,2,    163.2,2,    165.3,2,   133.66,2,    34.73,2,     0.00,2,     2.42,2,    0.001,7,    0.000,2, -999.000,9,   1.9160,2,    23.04,2,   -999.0,9,   -999.0,9,   -999.0,9,   -999.0,9,   -999.0,9, -999.00,  -999.0,-999.0000,-999.000,  1.2938,-999.000
   31WTTUNES_2,  P17S,   150,  1,     34,     34,2,19910729,2313,-18.8167,-133.1500, 3861,   3712.1,   1.5847,  34.6846,2,-999.0000,9,    163.5,2,   -999.0,9,  -999.00,9,  -999.00,9,  -999.00,9,  -999.00,9, -999.000,9, -999.000,9, -999.000,9,-999.0000,9,  -999.00,9,   -999.0,9,   -999.0,9,   -999.0,9,   -999.0,9,   -999.0,9, -999.00,  -999.0,-999.0000,-999.000,  1.2944,-999.000
   31WTTUNES_2,  P17S,   150,  1,     38,     38,2,19910729,2313,-18.8167,-133.1500, 3861,   3898.6,   1.5310,  34.6881,2,  34.6891,2,    168.5,2,    168.5,2,   133.42,2,    34.46,2,     0.00,2,     2.42,2,    0.005,2,    0.003,2, -999.000,9,   1.9010,2,    21.22,2,   -999.0,9,   -999.0,9,   -999.0,9,   -999.0,9,   -999.0,9, -999.00,  -999.0,-999.0000,-999.000,  1.2222,-999.000