BOTTLE,20131125MIRCJHATS
EXPOCODE,SECT_ID,STNNBR,CASTNO,SAMPNO,BTLNBR,BTLNBR_FLAG_W,DATE,TIME,LATITUDE,LONGITUDE,DEPTH,CTDPRS,CTDTMP,CTDSAL,CTDSAL_FLAG_W,SALNTY,SALNTY_FLAG_W,CTDOXY,CTDOXY_FLAG_W,OXYGEN,OXYGEN_FLAG_W,SILCAT,SILCAT_FLAG_W,NITRAT,NITRAT_FLAG_W,NITRIT,NITRIT_FLAG_W,PHSPHT,PHSPHT_FLAG_W,CFC-11,CFC-11_FLAG_W,CFC-12,CFC-12_FLAG_W,TRITUM,TRITUM_FLAG_W,HELIUM,HELIUM_FLAG_W,DELHE3,DELHE3_FLAG_W,DELC14,DELC14_FLAG_W,DELC13,DELC13_FLAG_W,TCARBN,TCARBN_FLAG_W,PCO2,PCO2_FLAG_W,ALKALI,ALKALI_FLAG_W,PCO2TMP,C14ERR,HELIER,DELHER,THETA,TRITER
,,,,,,,,,,,,DBAR,ITS-90,PSS-78,,PSS-78,,UMOL/KG,,UMOL/KG,,UMOL/KG,,UMOL/KG,,UMOL/KG,,UMOL/KG,,PMOL/KG,,PMOL/KG,,TU,,NMOL/KG,,PERCNT,,/MILLE,,/MILLE,,UMOL/KG,,UATM,,UMOL/KG,,DEG C,/MILLE,NMOL/KG,PERCNT,DEG C,TU
   31WTTUNES_2,  P17S,   154,  1,      1,      1,2,19910731,0954,-20.7900,-132.7333, 4288,      1.9,  24.9290,  36.3499,2,  36.3576,2,    201.3,3,    206.3,2,     1.86,2,     0.10,2,     0.00,2,     0.19,2,    1.368,2,    0.980,2,    0.942,2,   1.7290,2,    -1.33,2,   -999.0,9,   -999.0,9,   2027.5,2,    276.8,2,   -999.0,9,   20.00,  -999.0,  0.0080,   0.150, 24.9286,   0.007
   31WTTUNES_2,  P17S,   154,  1,      2,      2,2,19910731,0954,-20.7900,-132.7333, 4288,     45.2,  24.9380,  36.3531,2,  36.3584,2,    207.8,2,    206.1,2,     1.88,2,     0.10,2,     0.00,2,     0.19,2,    1.679,2,    0.982,2,    0.931,2,   1.7260,2,    -1.09,2,   -999.0,9,   -999.0,9,   -999.0,9,   -999.0,9,   -999.0,9, -999.00,  -999.0,  0.0080,   0.150, 24.9282,   0.007
   31WTTUNES_2,  P17S,   154,  1,      3,      3,2,19910731,0954,-20.7900,-132.7333, 4288,     86.2,  24.9440,  36.3527,2,  36.3580,2,    205.1,2,    205.9,2,     1.89,2,     0.10,2,     0.00,2,     0.19,2, -999.000,9, -999.000,9,    0.943,2,   1.7750,2,    -0.87,2,   -999.0,9,   -999.0,9,   -999.0,9,   -999.0,9,   -999.0,9, -999.00,  -999.0,  0.0080,   0.150, 24.9253,   0.007
   31WTTUNES_2,  P17S,   154,  1,      4,      4,2,19910731,0954,-20.7900,-132.7333, 4288,    131.7,  24.9410,  36.3507,2,  36.3546,2,    205.0,2,    205.7,2,     1.70,2,     0.05,2,     0.00,2,     0.19,2,    1.706,2,    0.973,2,    0.941,2,   1.7280,2,    -1.12,2,   -999.0,9,   -999.0,9,   -999.0,9,   -999.0,9,   -999.0,9, -999.00,  -999.0,  0.0080,   0.150, 24.9123,   0.007
   31WTTUNES_2,  P17S,   154,  1,      5,      5,2,19910731,0954,-20.7900,-132.7333, 4288,    148.6,  24.2517,  36.2149,2,  36.1595,2,    205.7,6,    204.3,2,     1.72,2,     0.07,2,     0.04,2,     0.19,2, -999.000,9, -999.000,9, -999.000,9,-999.0000,9,  -999.00,9,   -999.0,9,   -999.0,9,   -999.0,9,   -999.0,9,   -999.0,9, -999.00,  -999.0,-999.0000,-999.000, 24.2200,-999.000
   31WTTUNES_2,  P17S,   154,  1,      6,      6,2,19910731,0954,-20.7900,-132.7333, 4288,    168.6,  22.8540,  35.9846,2,  35.9781,2,    201.3,2,    202.0,2,     1.73,2,     0.12,2,     0.13,2,     0.20,2, -999.000,9, -999.000,9, -999.000,9,-999.0000,9,  -999.00,9,   -999.0,9,   -999.0,9,   -999.0,9,   -999.0,9,   -999.0,9, -999.00,  -999.0,-999.0000,-999.000, 22.8196,-999.000
   31WTTUNES_2,  P17S,   154,  1,      7,      7,2,19910731,0954,-20.7900,-132.7333, 4288,    188.7,  21.9897,  35.9133,2,  35.9082,2,    199.6,2,    197.6,2,     1.35,2,     0.23,2,     0.28,2,     0.23,2,    1.811,2,    1.012,2, -999.000,9,-999.0000,9,  -999.00,9,   -999.0,9,   -999.0,9,   -999.0,9,   -999.0,9,   -999.0,9, -999.00,  -999.0,-999.0000,-999.000, 21.9522,-999.000
   31WTTUNES_2,  P17S,   154,  1,      8,      8,2,19910731,0954,-20.7900,-132.7333, 4288,    208.3,  21.3514,  35.8961,2,  35.9025,2,    191.0,2,    191.7,2,     1.36,2,     1.00,2,     0.06,2,     0.28,2, -999.000,9, -999.000,9,    0.829,2,   1.7300,2,    -0.35,2,   -999.0,9,   -999.0,9,   -999.0,9,   -999.0,9,   -999.0,9, -999.00,  -999.0,  0.0080,   0.150, 21.3109,   0.006
   31WTTUNES_2,  P17S,   154,  1,      9,      9,2,19910731,0954,-20.7900,-132.7333, 4288,    229.8,  20.7642,  35.8959,2,  35.8892,2,    182.8,2,    187.7,2,     1.37,2,     2.01,2,     0.01,2,     0.35,2,    1.767,2,    0.995,8, -999.000,9,-999.0000,9,  -999.00,9,   -999.0,9,   -999.0,9,   -999.0,9,   -999.0,9,   -999.0,9, -999.00,  -999.0,-999.0000,-999.000, 20.7204,-999.000
   31WTTUNES_2,  P17S,   154,  1,     10,     10,2,19910731,0954,-20.7900,-132.7333, 4288,    250.2,  20.1090,  35.7949,2,  35.7920,2,    190.0,2,    188.0,2,     1.38,2,     2.27,2,     0.01,2,     0.35,2,    1.772,2,    0.979,2, -999.000,9,-999.0000,9,  -999.00,9,   -999.0,9,   -999.0,9,   -999.0,9,   -999.0,9,   -999.0,9, -999.00,  -999.0,-999.0000,-999.000, 20.0623,-999.000
   31WTTUNES_2,  P17S,   154,  1,     11,     11,2,19910731,0954,-20.7900,-132.7333, 4288,    312.6,  17.4012,  35.3850,2,  35.3731,2,    192.5,2,    191.2,2,     1.99,2,     3.99,2,     0.00,2,     0.45,2,    1.710,2,    0.939,2,    0.722,2,   1.7680,2,     0.67,2,   -999.0,9,   -999.0,9,   -999.0,9,   -999.0,9,   -999.0,9, -999.00,  -999.0,  0.0080,   0.150, 17.3485,   0.006
   31WTTUNES_2,  P17S,   154,  1,     12,     12,2,19910731,0954,-20.7900,-132.7333, 4288,    390.0,  13.1864,  34.8802,2,  34.8797,2,    184.2,2,    186.1,2,     3.57,2,    10.83,2,     0.00,2,     0.89,2,    1.247,2,    0.657,2, -999.000,9,-999.0000,9,  -999.00,9,   -999.0,9,   -999.0,9,   -999.0,9,   -999.0,9,   -999.0,9, -999.00,  -999.0,-999.0000,-999.000, 13.1320,-999.000
   31WTTUNES_2,  P17S,   154,  1,     13,     13,2,19910731,0954,-20.7900,-132.7333, 4288,    465.8,   9.2932,  34.4909,2,  34.4933,2,    172.1,2,    173.5,2,     8.89,2,    20.76,2,     0.00,2,     1.55,2,    0.708,2,    0.393,2,    0.258,2,   1.7620,2,     1.39,2,   -999.0,9,   -999.0,9,   -999.0,9,   -999.0,9,   -999.0,9, -999.00,  -999.0,  0.0080,   0.150,  9.2412,   0.004
   31WTTUNES_2,  P17S,   154,  1,     37,     37,2,19910731,0954,-20.7900,-132.7333, 4288,    541.9,   7.4113,  34.3770,2,  34.3730,2,    173.7,2,    177.8,2,    12.84,2,    26.35,2,     0.00,2,     1.89,2,    0.406,2,    0.228,2, -999.000,9,-999.0000,9,  -999.00,9,   -999.0,9,   -999.0,9,   -999.0,9,   -999.0,9,   -999.0,9, -999.00,  -999.0,-999.0000,-999.000,  7.3581,-999.000
   31WTTUNES_2,  P17S,   154,  1,     15,     15,2,19910731,0954,-20.7900,-132.7333, 4288,    644.1,   5.9255,  34.3205,2,  34.3208,2,    195.5,2,    198.1,2,    16.19,2,    28.44,2,     0.00,2,     1.98,2,    0.171,2,    0.116,2,    0.046,2,   1.8350,2,     0.83,2,   -999.0,9,   -999.0,9,   -999.0,9,   -999.0,9,   -999.0,9, -999.00,  -999.0,  0.0090,   0.150,  5.8691,   0.002
   31WTTUNES_2,  P17S,   154,  1,     16,     16,2,19910731,0954,-20.7900,-132.7333, 4288,    721.8,   5.2836,  34.3165,2,  34.3614,4,    184.2,2,    186.2,2,    23.68,2,    30.95,2,     0.00,2,     2.15,2,    0.061,2,    0.046,2, -999.000,9,-999.0000,9,  -999.00,9,   -999.0,9,   -999.0,9,   -999.0,9,   -999.0,9,   -999.0,9, -999.00,  -999.0,-999.0000,-999.000,  5.2235,-999.000
   31WTTUNES_2,  P17S,   154,  1,     17,     17,2,19910731,0954,-20.7900,-132.7333, 4288,    823.4,   4.7286,  34.3589,2,  34.3626,2,    161.3,2,    157.9,2,    38.25,2,    34.19,2,     0.00,2,     2.38,2,    0.012,2,    0.009,2, -999.000,9,-999.0000,9,  -999.00,9,   -999.0,9,   -999.0,9,   -999.0,9,   -999.0,9,   -999.0,9, -999.00,  -999.0,-999.0000,-999.000,  4.6630,-999.000
   31WTTUNES_2,  P17S,   154,  1,     18,     18,2,19910731,0954,-20.7900,-132.7333, 4288,    925.1,   4.4517,  34.4263,2,  34.4293,2,    141.0,2,    138.5,2,    53.43,2,    35.74,2,     0.00,2,     2.51,2,    0.005,2,    0.000,2, -999.000,9,-999.0000,9,  -999.00,9,   -999.0,9,   -999.0,9,   -999.0,9,   -999.0,9,   -999.0,9, -999.00,  -999.0,-999.0000,-999.000,  4.3791,-999.000
   31WTTUNES_2,  P17S,   154,  1,     19,     19,2,19910731,0954,-20.7900,-132.7333, 4288,   1028.4,   4.1337,  34.4912,2,  34.4920,2,    130.2,2,    130.6,2,    68.26,2,    36.31,2,     0.00,2,     2.56,2,    0.006,2,    0.005,2, -999.000,9,-999.0000,9,  -999.00,9,   -999.0,9,   -999.0,9,   -999.0,9,   -999.0,9,   -999.0,9, -999.00,  -999.0,-999.0000,-999.000,  4.0547,-999.000
   31WTTUNES_2,  P17S,   154,  1,     20,     20,2,19910731,0954,-20.7900,-132.7333, 4288,   1131.5,   3.7468,  34.5139,2,  34.5145,2,    135.7,2,    135.3,2,    77.19,2,    36.21,2,     0.00,2,     2.55,2, -999.000,9, -999.000,9, -999.000,9,-999.0000,9,  -999.00,9,   -999.0,9,   -999.0,9,   -999.0,9,   -999.0,9,   -999.0,9, -999.00,  -999.0,-999.0000,-999.000,  3.6623,-999.000
   31WTTUNES_2,  P17S,   154,  1,     21,     21,2,19910731,0954,-20.7900,-132.7333, 4288,   1285.4,   3.2939,  34.5365,2,  34.5364,2,    140.7,2,    140.6,2,    86.75,2,    36.00,2,     0.00,2,     2.54,2, -999.000,9, -999.000,9, -999.000,9,-999.0000,9,  -999.00,9,   -999.0,9,   -999.0,9,   -999.0,9,   -999.0,9,   -999.0,9, -999.00,  -999.0,-999.0000,-999.000,  3.2008,-999.000
   31WTTUNES_2,  P17S,   154,  1,     22,     22,2,19910731,0954,-20.7900,-132.7333, 4288,   1438.5,   2.8460,  34.5616,2,  34.5617,2,    144.0,2,    146.6,2,    95.56,2,    35.69,2,     0.00,2,     2.50,2, -999.000,9, -999.000,9, -999.000,9,-999.0000,9,  -999.00,9,   -999.0,9,   -999.0,9,   -999.0,9,   -999.0,9,   -999.0,9, -999.00,  -999.0,-999.0000,-999.000,  2.7450,-999.000
   31WTTUNES_2,  P17S,   154,  1,     23,     23,2,19910731,0954,-20.7900,-132.7333, 4288,   1644.9,   2.4831,  34.5918,2,  34.5927,2,    147.0,2,    149.4,2,   105.01,2,    35.58,2,     0.00,2,     2.49,2, -999.000,9, -999.000,9, -999.000,9,-999.0000,9,  -999.00,9,   -999.0,9,   -999.0,9,   -999.0,9,   -999.0,9,   -999.0,9, -999.00,  -999.0,-999.0000,-999.000,  2.3695,-999.000
   31WTTUNES_2,  P17S,   154,  1,     24,     24,2,19910731,0954,-20.7900,-132.7333, 4288,   1850.1,   2.2381,  34.6161,2,  34.6169,2,    151.2,2,    151.3,2,   112.91,2,    35.58,2,     0.00,2,     2.49,2, -999.000,9, -999.000,9, -999.000,9,-999.0000,9,  -999.00,9,   -999.0,9,   -999.0,9,   -999.0,9,   -999.0,9,   -999.0,9, -999.00,  -999.0,-999.0000,-999.000,  2.1108,-999.000
   31WTTUNES_2,  P17S,   154,  1,     25,     25,2,19910731,0954,-20.7900,-132.7333, 4288,   2056.8,   2.0402,  34.6383,2,  34.6391,2,    154.4,2,    153.1,2,   119.43,2,    35.53,2,     0.00,2,     2.49,2, -999.000,9, -999.000,9, -999.000,9,-999.0000,9,  -999.00,9,   -999.0,9,   -999.0,9,   -999.0,9,   -999.0,9,   -999.0,9, -999.00,  -999.0,-999.0000,-999.000,  1.8983,-999.000
   31WTTUNES_2,  P17S,   154,  1,     26,     26,2,19910731,0954,-20.7900,-132.7333, 4288,   2263.1,   1.9402,  34.6494,2,  34.6513,2,    154.0,2,    154.5,2,   123.11,2,    35.27,2,     0.00,2,     2.47,2, -999.000,9, -999.000,9, -999.000,9,-999.0000,9,  -999.00,9,   -999.0,9,   -999.0,9,   -999.0,9,   -999.0,9,   -999.0,9, -999.00,  -999.0,-999.0000,-999.000,  1.7822,-999.000
   31WTTUNES_2,  P17S,   154,  1,     27,     27,2,19910731,0954,-20.7900,-132.7333, 4288,   2469.6,   1.8672,  34.6588,2,  34.6580,2,    156.5,2,    156.2,2,   125.17,2,    35.17,2,     0.00,2,     2.46,2, -999.000,9, -999.000,9, -999.000,9,-999.0000,9,  -999.00,9,   -999.0,9,   -999.0,9,   -999.0,9,   -999.0,9,   -999.0,9, -999.00,  -999.0,-999.0000,-999.000,  1.6921,-999.000
   31WTTUNES_2,  P17S,   154,  1,     28,     28,2,19910731,0954,-20.7900,-132.7333, 4288,   2675.5,   1.8202,  34.6632,2,  34.6641,2,    157.1,2,    158.1,2,   126.61,2,    35.17,2,     0.00,2,     2.46,2, -999.000,9, -999.000,9, -999.000,9,-999.0000,9,  -999.00,9,   -999.0,9,   -999.0,9,   -999.0,9,   -999.0,9,   -999.0,9, -999.00,  -999.0,-999.0000,-999.000,  1.6272,-999.000
   31WTTUNES_2,  P17S,   154,  1,     29,     29,2,19910731,0954,-20.7900,-132.7333, 4288,   2883.9,   1.7563,  34.6687,2,  34.6690,2,    159.4,2,    160.8,2,   128.06,2,    35.06,2,     0.00,2,     2.45,2, -999.000,9, -999.000,9, -999.000,9,-999.0000,9,  -999.00,9,   -999.0,9,   -999.0,9,   -999.0,9,   -999.0,9,   -999.0,9, -999.00,  -999.0,-999.0000,-999.000,  1.5450,-999.000
   31WTTUNES_2,  P17S,   154,  1,     30,     30,2,19910731,0954,-20.7900,-132.7333, 4288,   3090.5,   1.6953,  34.6733,2,  34.6741,2,    163.6,2,    163.6,2,   128.68,2,    34.80,2,     0.00,2,     2.42,2, -999.000,9, -999.000,9, -999.000,9,-999.0000,9,  -999.00,9,   -999.0,9,   -999.0,9,   -999.0,9,   -999.0,9,   -999.0,9, -999.00,  -999.0,-999.0000,-999.000,  1.4654,-999.000
   31WTTUNES_2,  P17S,   154,  1,     31,     31,2,19910731,0954,-20.7900,-132.7333, 4288,   3299.3,   1.6403,  34.6781,2,  34.6792,2,    165.6,2,    165.8,2,   129.92,2,    34.80,2,     0.00,2,     2.42,2, -999.000,9, -999.000,9, -999.000,9,-999.0000,9,  -999.00,9,   -999.0,9,   -999.0,9,   -999.0,9,   -999.0,9,   -999.0,9, -999.00,  -999.0,-999.0000,-999.000,  1.3910,-999.000
   31WTTUNES_2,  P17S,   154,  1,     32,     32,2,19910731,0954,-20.7900,-132.7333, 4288,   3507.9,   1.6283,  34.6805,2,  34.6818,2,    165.6,2,    166.5,2,   131.37,2,    34.80,2,     0.00,2,     2.43,2, -999.000,9, -999.000,9, -999.000,9,-999.0000,9,  -999.00,9,   -999.0,9,   -999.0,9,   -999.0,9,   -999.0,9,   -999.0,9, -999.00,  -999.0,-999.0000,-999.000,  1.3581,-999.000
   31WTTUNES_2,  P17S,   154,  1,     33,     33,2,19910731,0954,-20.7900,-132.7333, 4288,   3715.0,   1.6253,  34.6828,2,  34.6822,2,    165.9,2,    166.6,2,   132.20,2,    34.75,2,     0.00,2,     2.41,2, -999.000,9, -999.000,9, -999.000,9,-999.0000,9,  -999.00,9,   -999.0,9,   -999.0,9,   -999.0,9,   -999.0,9,   -999.0,9, -999.00,  -999.0,-999.0000,-999.000,  1.3336,-999.000
   31WTTUNES_2,  P17S,   154,  1,     34,     34,2,19910731,0954,-20.7900,-132.7333, 4288,   3923.5,   1.6403,  34.6816,2,  34.6838,2,    166.7,2,    166.7,2,   132.21,2,    34.60,2,     0.00,2,     2.40,2, -999.000,9, -999.000,9, -999.000,9,-999.0000,9,  -999.00,9,   -999.0,9,   -999.0,9,   -999.0,9,   -999.0,9,   -999.0,9, -999.00,  -999.0,-999.0000,-999.000,  1.3258,-999.000
   31WTTUNES_2,  P17S,   154,  1,     35,     35,2,19910731,0954,-20.7900,-132.7333, 4288,   4132.0,   1.6533,  34.6839,2,  34.6834,2,    167.6,2,    166.7,2,   132.42,2,    34.65,2,     0.00,2,     2.40,2, -999.000,9, -999.000,9, -999.000,9,-999.0000,9,  -999.00,9,   -999.0,9,   -999.0,9,   -999.0,9,   -999.0,9,   -999.0,9, -999.00,  -999.0,-999.0000,-999.000,  1.3155,-999.000
   31WTTUNES_2,  P17S,   154,  1,     38,     38,3,19910731,0954,-20.7900,-132.7333, 4288,   4340.3,   1.6763,  34.6833,2,  34.7488,4,   -999.0,9,    166.9,4,   122.35,4,    32.94,4,     0.00,4,     2.30,4, -999.000,9, -999.000,9, -999.000,9,-999.0000,9,  -999.00,9,   -999.0,9,   -999.0,9,   -999.0,9,   -999.0,9,   -999.0,9, -999.00,  -999.0,-999.0000,-999.000,  1.3143,-999.000