BOTTLE,20131125MIRCJHATS
EXPOCODE,SECT_ID,STNNBR,CASTNO,SAMPNO,BTLNBR,BTLNBR_FLAG_W,DATE,TIME,LATITUDE,LONGITUDE,DEPTH,CTDPRS,CTDTMP,CTDSAL,CTDSAL_FLAG_W,SALNTY,SALNTY_FLAG_W,CTDOXY,CTDOXY_FLAG_W,OXYGEN,OXYGEN_FLAG_W,SILCAT,SILCAT_FLAG_W,NITRAT,NITRAT_FLAG_W,NITRIT,NITRIT_FLAG_W,PHSPHT,PHSPHT_FLAG_W,CFC-11,CFC-11_FLAG_W,CFC-12,CFC-12_FLAG_W,TRITUM,TRITUM_FLAG_W,HELIUM,HELIUM_FLAG_W,DELHE3,DELHE3_FLAG_W,DELC14,DELC14_FLAG_W,DELC13,DELC13_FLAG_W,TCARBN,TCARBN_FLAG_W,PCO2,PCO2_FLAG_W,ALKALI,ALKALI_FLAG_W,PCO2TMP,C14ERR,HELIER,DELHER,THETA,TRITER
,,,,,,,,,,,,DBAR,ITS-90,PSS-78,,PSS-78,,UMOL/KG,,UMOL/KG,,UMOL/KG,,UMOL/KG,,UMOL/KG,,UMOL/KG,,PMOL/KG,,PMOL/KG,,TU,,NMOL/KG,,PERCNT,,/MILLE,,/MILLE,,UMOL/KG,,UATM,,UMOL/KG,,DEG C,/MILLE,NMOL/KG,PERCNT,DEG C,TU
   31WTTUNES_2,  P16S,   187,  2,     61,     61,2,19910815,0028,-34.0083,-150.5217, 5230,      3.0,  15.0536,  35.0907,2,  35.0907,2,    243.7,3,    247.0,2,     1.27,2,     0.29,2,     0.02,2,     0.20,2,    2.740,2,    1.419,2, -999.000,9,-999.0000,9,  -999.00,9,    117.6,2,      1.5,2,   2045.5,2,    375.7,2,   -999.0,9,   20.00,     3.5,-999.0000,-999.000, 15.0532,-999.000
   31WTTUNES_2,  P16S,   187,  2,      2,      2,2,19910815,0028,-34.0083,-150.5217, 5230,     41.4,  15.0287,  35.0902,2,  35.0880,2,    253.2,2,    247.2,2,     1.27,2,     0.20,2,     0.02,2,     0.19,2,    2.704,2,    1.418,2, -999.000,9,-999.0000,9,  -999.00,9,   -999.0,9,   -999.0,9,   2045.8,2,    379.6,2,   2309.4,2,   20.00,  -999.0,-999.0000,-999.000, 15.0224,-999.000
   31WTTUNES_2,  P16S,   187,  2,      3,      3,2,19910815,0028,-34.0083,-150.5217, 5230,     88.0,  15.0307,  35.0905,2,  35.0892,2,    250.7,2,    247.0,2,     1.17,2,     0.20,2,     0.02,2,     0.19,2,    2.738,2,    1.415,2, -999.000,9,-999.0000,9,  -999.00,9,   -999.0,9,   -999.0,9,   2045.6,2,    377.9,2,   -999.0,9,   20.00,  -999.0,-999.0000,-999.000, 15.0173,-999.000
   31WTTUNES_2,  P16S,   187,  2,     64,     64,2,19910815,0028,-34.0083,-150.5217, 5230,    134.2,  15.0336,  35.0910,2,  35.0894,2,    248.5,2,    247.0,2,     0.98,2,     0.29,2,     0.02,2,     0.19,2,    2.718,2,    1.420,2, -999.000,9,-999.0000,9,  -999.00,9,   -999.0,9,   -999.0,9,   2043.4,2,    378.6,2,   2308.9,2,   20.00,  -999.0,-999.0000,-999.000, 15.0133,-999.000
   31WTTUNES_2,  P16S,   187,  2,      5,      5,2,19910815,0028,-34.0083,-150.5217, 5230,    170.5,  14.6608,  35.0228,2,  35.0579,2,    245.0,3,    239.9,2,     0.98,2,     1.07,2,     0.05,2,     0.24,2,    2.676,2,    1.385,2, -999.000,9,-999.0000,9,  -999.00,9,   -999.0,9,   -999.0,9,   2054.9,2,    392.1,2,   -999.0,9,   20.00,  -999.0,-999.0000,-999.000, 14.6353,-999.000
   31WTTUNES_2,  P16S,   187,  2,      6,      6,2,19910815,0028,-34.0083,-150.5217, 5230,    190.4,  13.8610,  34.9747,2,  34.9862,2,    233.0,3,    225.1,2,     1.17,2,     3.81,2,     0.02,2,     0.43,2,    2.547,2,    1.307,2, -999.000,9,-999.0000,9,  -999.00,9,     93.7,2,      1.2,2,   2074.2,2,    444.8,2,   2299.4,2,   20.00,     4.2,-999.0000,-999.000, 13.8337,-999.000
   31WTTUNES_2,  P16S,   187,  2,      7,      7,2,19910815,0028,-34.0083,-150.5217, 5230,    221.1,  13.1772,  34.9451,2,  34.9461,2,    222.8,3,    215.8,2,     1.56,2,     6.55,2,     0.01,2,     0.60,2,    2.343,2,    1.204,2, -999.000,9,-999.0000,9,  -999.00,9,   -999.0,9,   -999.0,9,   2082.3,2,    481.7,2,   -999.0,9,   20.00,  -999.0,-999.0000,-999.000, 13.1465,-999.000
   31WTTUNES_2,  P16S,   187,  2,     68,     68,2,19910815,0028,-34.0083,-150.5217, 5230,    250.2,  12.3045,  34.8508,2,  34.8806,2,    210.2,2,    208.9,2,     2.35,2,     9.48,2,     0.01,2,     0.76,2,    2.102,2,    1.073,2, -999.000,9,-999.0000,9,  -999.00,9,     83.0,2,      1.3,2,   2099.2,2,    530.1,2,   2312.9,2,   20.00,     3.2,-999.0000,-999.000, 12.2713,-999.000
   31WTTUNES_2,  P16S,   187,  2,     69,     69,2,19910815,0028,-34.0083,-150.5217, 5230,    302.5,  10.2883,  34.6937,2,  34.6906,2,    214.5,2,    211.9,2,     3.52,2,    14.27,2,     0.00,2,     1.05,2,    1.934,2,    0.993,2, -999.000,9,-999.0000,9,  -999.00,9,   -999.0,9,   -999.0,9,   2119.0,2,    605.9,2,   -999.0,9,   20.00,  -999.0,-999.0000,-999.000, 10.2525,-999.000
   31WTTUNES_2,  P16S,   187,  2,     70,     70,2,19910815,0028,-34.0083,-150.5217, 5230,    373.1,   8.7139,  34.5471,2,  34.5476,2,    227.8,2,    225.9,2,     4.69,2,    17.20,2,     0.00,2,     1.22,2,    2.049,2,    1.034,2, -999.000,9,-999.0000,9,  -999.00,9,     41.1,2,      1.3,2,   2122.6,2,    660.0,2,   2286.1,2,   20.00,     4.3,-999.0000,-999.000,  8.6740,-999.000
   31WTTUNES_2,  P16S,   187,  2,     11,     11,2,19910815,0028,-34.0083,-150.5217, 5230,    445.7,   8.0183,  34.4913,2,  34.4921,2,    229.5,2,    235.2,2,     5.28,2,    18.67,2,     0.00,2,     1.31,2,    2.100,2,    1.066,2, -999.000,9,-999.0000,9,  -999.00,9,     33.7,2,      1.1,3,   2131.9,2,    673.0,2,   -999.0,9,   20.00,     3.1,-999.0000,-999.000,  7.9727,-999.000
   31WTTUNES_2,  P16S,   187,  2,     12,     12,2,19910815,0028,-34.0083,-150.5217, 5230,    513.2,   7.6124,  34.4583,2,  34.4602,2,    241.1,2,    240.3,2,     5.87,2,    19.65,2,     0.00,2,     1.37,2,    2.108,2,    1.052,2, -999.000,9,-999.0000,9,  -999.00,9,     42.6,2,      1.4,3,   2129.1,2,    686.6,2,   2287.9,2,   20.00,     3.6,-999.0000,-999.000,  7.5613,-999.000
   31WTTUNES_2,  P16S,   187,  2,     13,     13,2,19910815,0028,-34.0083,-150.5217, 5230,    615.1,   7.0947,  34.4133,2,  34.4145,2,    242.6,2,    242.5,2,     7.23,2,    21.21,2,     0.00,2,     1.47,2,    1.564,2,    0.796,2, -999.000,9,-999.0000,9,  -999.00,9,     23.0,2,      1.2,3,   2132.7,2,    696.5,2,   -999.0,9,   20.00,     3.2,-999.0000,-999.000,  7.0355,-999.000
   31WTTUNES_2,  P16S,   187,  2,     37,     37,2,19910815,0028,-34.0083,-150.5217, 5230,    719.3,   6.5410,  34.3645,2,  34.3662,2,    239.3,2,    240.3,2,     9.29,2,    22.97,2,     0.00,2,     1.57,2,    0.976,2,    0.515,2, -999.000,9,-999.0000,9,  -999.00,9,      0.4,2,      1.4,3,   2139.4,2,    725.1,2,   2276.5,2,   20.00,     4.6,-999.0000,-999.000,  6.4742,-999.000
   31WTTUNES_2,  P16S,   187,  2,     15,     15,2,19910815,0028,-34.0083,-150.5217, 5230,    822.7,   5.9053,  34.3240,2,  34.3270,2,    231.3,3,    231.8,2,    13.30,2,    25.22,2,     0.00,2,     1.74,2,    0.548,2,    0.302,2, -999.000,9,-999.0000,9,  -999.00,9,    -47.4,2,      1.3,2,   2148.0,2,    774.9,2,   -999.0,9,   20.00,     4.3,-999.0000,-999.000,  5.8324,-999.000
   31WTTUNES_2,  P16S,   187,  2,     16,     16,2,19910815,0028,-34.0083,-150.5217, 5230,    924.9,   5.3066,  34.3100,2,  34.3125,2,    218.5,3,    219.4,2,    19.46,2,    27.57,2,     0.00,2,     1.90,2,    0.273,2,    0.158,2, -999.000,9,-999.0000,9,  -999.00,9,   -999.0,9,   -999.0,9,   2168.0,2,    842.3,2,   2287.0,2,   20.00,  -999.0,-999.0000,-999.000,  5.2282,-999.000
   31WTTUNES_2,  P16S,   187,  2,     17,     17,2,19910815,0028,-34.0083,-150.5217, 5230,   1023.3,   4.7200,  34.3200,2,  34.3211,2,    201.8,2,    206.4,2,    28.35,2,    29.92,2,     0.00,2,     2.06,2,    0.156,2,    0.090,2, -999.000,9,-999.0000,9,  -999.00,9,    -87.4,2,      1.0,2,   2184.2,2,   -999.0,5,   -999.0,9, -999.00,     4.1,-999.0000,-999.000,  4.6370,-999.000
   31WTTUNES_2,  P16S,   187,  2,     18,     18,2,19910815,0028,-34.0083,-150.5217, 5230,   1122.7,   4.1193,  34.3445,2,  34.3456,2,    197.0,3,    194.7,2,    38.42,2,    31.77,2,     0.00,2,     2.19,2,    0.060,2,    0.043,2, -999.000,9,-999.0000,9,  -999.00,9,   -110.0,2,      0.9,2,   2202.2,2,    993.9,2,   2291.3,2,   20.00,     4.0,-999.0000,-999.000,  4.0326,-999.000
   31WTTUNES_2,  P16S,   187,  2,     19,     19,2,19910815,0028,-34.0083,-150.5217, 5230,   1270.8,   3.4927,  34.3953,2,  34.3970,2,    181.0,3,    183.3,2,    51.72,2,    33.34,2,     0.00,2,     2.30,2, -999.000,5, -999.000,5, -999.000,9,-999.0000,9,  -999.00,9,   -136.3,2,      0.6,2,   2231.3,2,   1070.5,2,   -999.0,9,   20.00,     3.9,-999.0000,-999.000,  3.3991,-999.000
   31WTTUNES_2,  P16S,   187,  2,     20,     20,2,19910815,0028,-34.0083,-150.5217, 5230,   1422.2,   3.0359,  34.4623,2,  34.4663,2,    177.8,3,    173.1,2,    66.48,2,    34.22,2,     0.00,2,     2.38,2,    0.005,2,    0.007,2, -999.000,9,-999.0000,9,  -999.00,9,   -148.3,2,      0.5,2,   2244.9,2,   1125.0,2,   2329.1,2,   20.00,     4.0,-999.0000,-999.000,  2.9344,-999.000
   31WTTUNES_2,  P16S,   187,  2,     21,     21,2,19910815,0028,-34.0083,-150.5217, 5230,   1630.8,   2.6282,  34.5556,2,  34.5586,2,    155.9,3,    162.2,2,    87.19,2,    34.80,2,     0.00,2,     2.42,2,    0.002,2,    0.003,7, -999.000,9,-999.0000,9,  -999.00,9,   -169.6,2,      0.3,2,   2267.8,2,   1145.0,2,   -999.0,9,   20.00,     4.4,-999.0000,-999.000,  2.5140,-999.000
   31WTTUNES_2,  P16S,   187,  2,     22,     22,2,19910815,0028,-34.0083,-150.5217, 5230,   1828.2,   2.3823,  34.6067,2,  34.6091,2,    154.5,2,    155.3,2,   104.20,2,    35.09,2,     0.00,2,     2.45,2, -999.000,9, -999.000,9, -999.000,9,-999.0000,9,  -999.00,9,   -187.0,2,      0.2,2,   2291.1,2,   1159.1,2,   2371.1,2,   20.00,     8.6,-999.0000,-999.000,  2.2548,-999.000
   31WTTUNES_2,  P16S,   187,  2,     23,     23,2,19910815,0028,-34.0083,-150.5217, 5230,   2009.4,   2.2144,  34.6278,2,  34.6297,2,    153.6,2,    152.7,2,   112.02,2,    35.19,2,     0.00,2,     2.46,2, -999.000,9, -999.000,9, -999.000,9,-999.0000,9,  -999.00,9,   -209.2,2,      0.2,2,   2295.6,2,   1170.2,2,   -999.0,9,   20.00,     3.4,-999.0000,-999.000,  2.0740,-999.000
   31WTTUNES_2,  P16S,   187,  2,     24,     24,2,19910815,0028,-34.0083,-150.5217, 5230,   2255.9,   2.0455,  34.6438,2,  34.6458,2,    151.0,2,    151.3,2,   120.32,2,    35.38,2,     0.00,2,     2.48,2, -999.000,9, -999.000,9, -999.000,9,-999.0000,9,  -999.00,9,   -999.0,9,   -999.0,9,   2306.1,2,   1161.8,2,   2388.7,2,   20.00,  -999.0,-999.0000,-999.000,  1.8864,-999.000
   31WTTUNES_2,  P16S,   187,  2,     25,     25,2,19910815,0028,-34.0083,-150.5217, 5230,   2515.5,   1.8986,  34.6565,2,  34.6578,2,    151.9,2,    151.0,2,   127.36,2,    35.68,2,     0.00,2,     2.49,2, -999.000,9, -999.000,9, -999.000,9,-999.0000,9,  -999.00,9,   -999.0,9,   -999.0,9,   2311.6,2,   1178.5,2,   -999.0,9,   20.00,  -999.0,-999.0000,-999.000,  1.7188,-999.000
   31WTTUNES_2,  P16S,   187,  2,     26,     26,2,19910815,0028,-34.0083,-150.5217, 5230,   2747.1,   1.8197,  34.6636,2,  34.6645,2,    153.1,2,    152.1,2,   131.07,2,    35.68,2,     0.00,2,     2.49,2, -999.000,9, -999.000,9, -999.000,9,-999.0000,9,  -999.00,9,   -999.0,9,   -999.0,9,   2311.0,2,   1159.9,2,   2389.5,2,   20.00,  -999.0,-999.0000,-999.000,  1.6200,-999.000
   31WTTUNES_2,  P16S,   187,  2,     27,     27,2,19910815,0028,-34.0083,-150.5217, 5230,   2983.6,   1.7377,  34.6722,2,  34.6722,2,    156.7,2,    155.1,2,   132.73,2,    35.48,2,     0.00,2,     2.47,2, -999.000,9, -999.000,9, -999.000,9,-999.0000,9,  -999.00,9,   -999.0,9,   -999.0,9,   2311.4,2,   1160.1,2,   -999.0,9,   20.00,  -999.0,-999.0000,-999.000,  1.5173,-999.000
   31WTTUNES_2,  P16S,   187,  2,     28,     28,2,19910815,0028,-34.0083,-150.5217, 5230,   3228.1,   1.6598,  34.6797,2,  34.6798,2,    162.5,2,    162.2,2,   130.68,2,    34.89,2,     0.00,2,     2.43,2, -999.000,9, -999.000,9, -999.000,9,-999.0000,9,  -999.00,9,   -999.0,9,   -999.0,9,   2307.9,2,   1133.8,2,   2378.1,2,   20.00,  -999.0,-999.0000,-999.000,  1.4172,-999.000
   31WTTUNES_2,  P16S,   187,  2,     29,     29,2,19910815,0028,-34.0083,-150.5217, 5230,   3478.7,   1.5798,  34.6885,2,  34.6899,2,    170.6,2,    171.0,2,   127.06,2,    34.21,2,     0.00,2,     2.38,2, -999.000,9, -999.000,9, -999.000,9,-999.0000,9,  -999.00,9,   -201.0,2,      0.0,2,   2293.9,2,   1122.1,2,   -999.0,9,   20.00,     3.1,-999.0000,-999.000,  1.3138,-999.000
   31WTTUNES_2,  P16S,   187,  2,     30,     30,2,19910815,0028,-34.0083,-150.5217, 5230,   3731.7,   1.4749,  34.7004,2,  34.6997,2,    182.0,2,    181.8,2,   122.86,2,    33.33,2,     0.00,2,     2.32,2, -999.000,9, -999.000,9, -999.000,9,-999.0000,9,  -999.00,9,   -999.0,9,   -999.0,9,   2283.0,2,   1094.4,2,   2261.5,3,   20.00,  -999.0,-999.0000,-999.000,  1.1853,-999.000
   31WTTUNES_2,  P16S,   187,  2,     31,     31,2,19910815,0028,-34.0083,-150.5217, 5230,   3988.9,   1.3620,  34.7039,2,  34.7058,2,    189.1,2,    190.2,2,   121.30,2,    32.74,2,     0.00,2,     2.28,2, -999.000,9, -999.000,9, -999.000,9,-999.0000,9,  -999.00,9,   -191.6,2,     -0.2,3,   2273.9,2,   1065.0,2,   -999.0,9,   20.00,     3.1,-999.0000,-999.000,  1.0481,-999.000
   31WTTUNES_2,  P16S,   187,  2,     32,     32,2,19910815,0028,-34.0083,-150.5217, 5230,   4250.1,   1.2571,  34.7078,2,  34.7085,2,    195.7,2,    197.2,2,   119.83,2,    32.25,2,     0.00,2,     2.24,2, -999.000,9, -999.000,9, -999.000,9,-999.0000,9,  -999.00,9,   -999.0,9,   -999.0,9,   2268.7,2,   1043.8,2,   2346.8,2,   20.00,  -999.0,-999.0000,-999.000,  0.9176,-999.000
   31WTTUNES_2,  P16S,   187,  2,     33,     33,2,19910815,0028,-34.0083,-150.5217, 5230,   4507.8,   1.1941,  34.7090,2,  34.7101,2,    200.5,2,    201.3,2,   120.22,2,    32.16,2,     0.00,2,     2.22,2, -999.000,9, -999.000,9, -999.000,9,-999.0000,9,  -999.00,9,   -165.4,2,      0.2,2,   2265.1,2,   1044.6,2,   -999.0,9,   20.00,     3.2,-999.0000,-999.000,  0.8276,-999.000
   31WTTUNES_2,  P16S,   187,  2,     34,     34,2,19910815,0028,-34.0083,-150.5217, 5230,   4829.2,   1.1371,  34.7088,2,  34.7093,2,    203.6,2,    203.9,2,   121.88,2,    32.25,2,     0.00,2,     2.22,2, -999.000,9, -999.000,9, -999.000,9,-999.0000,9,  -999.00,9,   -999.0,9,   -999.0,9,   2263.7,2,   1043.0,2,   -999.0,9,   20.00,  -999.0,-999.0000,-999.000,  0.7353,-999.000
   31WTTUNES_2,  P16S,   187,  2,     35,     35,2,19910815,0028,-34.0083,-150.5217, 5230,   5124.9,   1.1351,  34.7092,2,  34.7095,2,    204.8,2,    205.6,2,   122.66,2,    32.25,2,     0.00,2,     2.23,2, -999.000,9, -999.000,9, -999.000,9,-999.0000,9,  -999.00,9,   -164.1,2,      0.2,2,   2261.3,2,   1034.0,2,   2346.9,2,   20.00,     3.2,-999.0000,-999.000,  0.6981,-999.000
   31WTTUNES_2,  P16S,   187,  2,     38,     38,2,19910815,0028,-34.0083,-150.5217, 5230,   5398.3,   1.1521,  34.7082,2,  34.7089,2,   -999.0,9,    205.4,2,   122.27,2,    32.06,2,     0.00,2,     2.22,2, -999.000,9, -999.000,9, -999.000,9,-999.0000,9,  -999.00,9,   -169.0,2,      0.4,2,   2265.4,2,   1037.9,2,   2352.2,2,   20.00,     3.2,-999.0000,-999.000,  0.6809,-999.000