BOTTLE,20131125MIRCJHATS
EXPOCODE,SECT_ID,STNNBR,CASTNO,SAMPNO,BTLNBR,BTLNBR_FLAG_W,DATE,TIME,LATITUDE,LONGITUDE,DEPTH,CTDPRS,CTDTMP,CTDSAL,CTDSAL_FLAG_W,SALNTY,SALNTY_FLAG_W,CTDOXY,CTDOXY_FLAG_W,OXYGEN,OXYGEN_FLAG_W,SILCAT,SILCAT_FLAG_W,NITRAT,NITRAT_FLAG_W,NITRIT,NITRIT_FLAG_W,PHSPHT,PHSPHT_FLAG_W,CFC-11,CFC-11_FLAG_W,CFC-12,CFC-12_FLAG_W,TRITUM,TRITUM_FLAG_W,HELIUM,HELIUM_FLAG_W,DELHE3,DELHE3_FLAG_W,DELC14,DELC14_FLAG_W,DELC13,DELC13_FLAG_W,TCARBN,TCARBN_FLAG_W,PCO2,PCO2_FLAG_W,ALKALI,ALKALI_FLAG_W,PCO2TMP,C14ERR,HELIER,DELHER,THETA,TRITER
,,,,,,,,,,,,DBAR,ITS-90,PSS-78,,PSS-78,,UMOL/KG,,UMOL/KG,,UMOL/KG,,UMOL/KG,,UMOL/KG,,UMOL/KG,,PMOL/KG,,PMOL/KG,,TU,,NMOL/KG,,PERCNT,,/MILLE,,/MILLE,,UMOL/KG,,UATM,,UMOL/KG,,DEG C,/MILLE,NMOL/KG,PERCNT,DEG C,TU
   31WTTUNES_2,  P16S,   214,  1,     61,     61,2,19910823,1948,-20.5083,-150.4917, 4616,      3.6,  25.0653,  36.0157,2,  36.0199,2,    205.0,3,    207.0,2,     0.98,2,     0.10,2,     0.00,2,     0.16,2,    1.923,2,    0.992,2, -999.000,9,-999.0000,9,  -999.00,9,   -999.0,9,   -999.0,9,   2002.2,2,    255.8,2,   -999.0,9,   20.00,  -999.0,-999.0000,-999.000, 25.0645,-999.000
   31WTTUNES_2,  P16S,   214,  1,     62,     62,2,19910823,1948,-20.5083,-150.4917, 4616,     49.4,  24.7643,  35.9623,2,  35.9663,2,    212.3,2,    208.1,2,     0.88,2,     0.10,2,     0.00,2,     0.15,2,    1.930,2,    1.007,2, -999.000,9,-999.0000,9,  -999.00,9,   -999.0,9,   -999.0,9,   -999.0,9,   -999.0,9,   -999.0,9, -999.00,  -999.0,-999.0000,-999.000, 24.7537,-999.000
   31WTTUNES_2,  P16S,   214,  1,      3,      3,2,19910823,1948,-20.5083,-150.4917, 4616,     95.3,  24.4215,  35.9262,2,  35.9270,2,    209.6,2,    208.9,2,     0.88,2,     0.10,2,     0.00,2,     0.14,2,    1.838,2,    1.013,2, -999.000,9,-999.0000,9,  -999.00,9,   -999.0,9,   -999.0,9,   -999.0,9,   -999.0,9,   -999.0,9, -999.00,  -999.0,-999.0000,-999.000, 24.4011,-999.000
   31WTTUNES_2,  P16S,   214,  1,     64,     64,2,19910823,1948,-20.5083,-150.4917, 4616,    140.9,  23.0879,  35.7638,2,  35.7743,2,    208.1,2,    204.3,2,     0.88,2,     0.20,2,     0.01,2,     0.14,2,    2.054,2,    1.036,2, -999.000,9,-999.0000,9,  -999.00,9,   -999.0,9,   -999.0,9,   -999.0,9,   -999.0,9,   -999.0,9, -999.00,  -999.0,-999.0000,-999.000, 23.0589,-999.000
   31WTTUNES_2,  P16S,   214,  1,      5,      5,2,19910823,1948,-20.5083,-150.4917, 4616,    161.0,  22.7060,  35.8164,2,  35.8322,2,    189.1,2,    188.4,2,     0.88,2,     0.88,2,     0.06,2,     0.24,2,    1.977,2,    0.995,2, -999.000,9,-999.0000,9,  -999.00,9,   -999.0,9,   -999.0,9,   -999.0,9,   -999.0,9,   -999.0,9, -999.00,  -999.0,-999.0000,-999.000, 22.6733,-999.000
   31WTTUNES_2,  P16S,   214,  1,      6,      6,2,19910823,1948,-20.5083,-150.4917, 4616,    191.1,  22.1922,  35.9190,2,  35.9152,2,    180.4,2,    178.3,2,     0.88,2,     2.05,2,     0.02,2,     0.35,2,    1.954,2,    0.970,2, -999.000,9,-999.0000,9,  -999.00,9,   -999.0,9,   -999.0,9,   -999.0,9,   -999.0,9,   -999.0,9, -999.00,  -999.0,-999.0000,-999.000, 22.1539,-999.000
   31WTTUNES_2,  P16S,   214,  1,      7,      7,2,19910823,1948,-20.5083,-150.4917, 4616,    232.3,  20.3068,  35.7417,2,  35.7325,2,    177.3,2,    181.6,2,     0.88,2,     2.93,2,     0.01,2,     0.37,2,    1.913,2,    0.954,2, -999.000,9,-999.0000,9,  -999.00,9,   -999.0,9,   -999.0,9,   -999.0,9,   -999.0,9,   -999.0,9, -999.00,  -999.0,-999.0000,-999.000, 20.2632,-999.000
   31WTTUNES_2,  P16S,   214,  1,     68,     68,2,19910823,1948,-20.5083,-150.4917, 4616,    278.7,  18.1624,  35.5066,2,  35.5052,2,    188.7,2,    188.3,2,     1.07,2,     3.71,2,     0.01,2,     0.41,2,    1.942,2,    0.950,2, -999.000,9,-999.0000,9,  -999.00,9,   -999.0,9,   -999.0,9,   -999.0,9,   -999.0,9,   -999.0,9, -999.00,  -999.0,-999.0000,-999.000, 18.1139,-999.000
   31WTTUNES_2,  P16S,   214,  1,     69,     69,2,19910823,1948,-20.5083,-150.4917, 4616,    328.7,  16.3003,  35.3414,2,  35.3339,2,    188.7,2,    189.6,2,     1.47,2,     5.86,2,     0.01,2,     0.55,2,    1.804,2,    0.876,2, -999.000,9,-999.0000,9,  -999.00,9,   -999.0,9,   -999.0,9,   -999.0,9,   -999.0,9,   -999.0,9, -999.00,  -999.0,-999.0000,-999.000, 16.2473,-999.000
   31WTTUNES_2,  P16S,   214,  1,     70,     70,2,19910823,1948,-20.5083,-150.4917, 4616,    388.9,  13.8918,  35.0498,2,  35.0349,2,    184.7,2,    185.3,2,     2.93,2,    10.26,2,     0.00,2,     0.85,2,    1.425,2,    0.689,2, -999.000,9,-999.0000,9,  -999.00,9,   -999.0,9,   -999.0,9,   -999.0,9,   -999.0,9,   -999.0,9, -999.00,  -999.0,-999.0000,-999.000, 13.8355,-999.000
   31WTTUNES_2,  P16S,   214,  1,     11,     11,2,19910823,1948,-20.5083,-150.4917, 4616,    449.1,  11.2228,  34.7356,2,  34.7289,2,    176.9,2,    178.1,2,     6.26,2,    16.42,2,     0.00,2,     1.26,2,    0.923,2,    0.470,2, -999.000,9,-999.0000,9,  -999.00,9,   -999.0,9,   -999.0,9,   -999.0,9,   -999.0,9,   -999.0,9, -999.00,  -999.0,-999.0000,-999.000, 11.1663,-999.000
   31WTTUNES_2,  P16S,   214,  1,     12,     12,2,19910823,1948,-20.5083,-150.4917, 4616,    511.7,   9.0068,  34.5332,2,  34.5273,2,    172.2,2,    176.1,2,    10.17,2,    21.99,2,     0.00,2,     1.61,2,    0.602,2,    0.312,2, -999.000,9,-999.0000,9,  -999.00,9,   -999.0,9,   -999.0,9,   -999.0,9,   -999.0,9,   -999.0,9, -999.00,  -999.0,-999.0000,-999.000,  8.9505,-999.000
   31WTTUNES_2,  P16S,   214,  1,     13,     13,2,19910823,1948,-20.5083,-150.4917, 4616,    574.9,   7.3210,  34.4160,2,  34.4147,2,    175.7,2,    181.3,2,    14.08,2,    25.91,2,     0.00,2,     1.85,2,    0.362,2,    0.197,2, -999.000,9,-999.0000,9,  -999.00,9,   -999.0,9,   -999.0,9,   -999.0,9,   -999.0,9,   -999.0,9, -999.00,  -999.0,-999.0000,-999.000,  7.2648,-999.000
   31WTTUNES_2,  P16S,   214,  1,     37,     37,2,19910823,1948,-20.5083,-150.4917, 4616,    646.7,   6.1998,  34.3824,2,  34.3827,2,    176.0,2,    178.3,2,    21.90,2,    28.94,2,     0.00,2,     2.03,2,    0.157,2,    0.094,2, -999.000,9,-999.0000,9,  -999.00,9,   -999.0,9,   -999.0,9,   -999.0,9,   -999.0,9,   -999.0,9, -999.00,  -999.0,-999.0000,-999.000,  6.1417,-999.000
   31WTTUNES_2,  P16S,   214,  1,     15,     15,2,19910823,1948,-20.5083,-150.4917, 4616,    728.5,   5.6629,  34.4154,2,  34.4149,2,    160.6,2,    158.6,2,    33.92,2,    31.67,2,     0.00,2,     2.22,2,    0.042,2,    0.029,2, -999.000,9,-999.0000,9,  -999.00,9,   -999.0,9,   -999.0,9,   -999.0,9,   -999.0,9,   -999.0,9, -999.00,  -999.0,-999.0000,-999.000,  5.6001,-999.000
   31WTTUNES_2,  P16S,   214,  1,     16,     16,2,19910823,1948,-20.5083,-150.4917, 4616,    820.2,   5.1527,  34.4190,2,  34.4187,2,    156.3,2,    157.5,2,    38.52,2,    32.36,2,     0.00,2,     2.27,2,    0.025,2,    0.020,2, -999.000,9,-999.0000,9,  -999.00,9,   -999.0,9,   -999.0,9,   -999.0,9,   -999.0,9,   -999.0,9, -999.00,  -999.0,-999.0000,-999.000,  5.0846,-999.000
   31WTTUNES_2,  P16S,   214,  1,     17,     17,2,19910823,1948,-20.5083,-150.4917, 4616,    920.9,   4.4729,  34.4462,2,  34.4468,2,    152.9,2,    151.1,2,    53.47,2,    34.12,2,     0.00,2,     2.39,2,    0.002,2,    0.004,2, -999.000,9,-999.0000,9,  -999.00,9,   -999.0,9,   -999.0,9,   -999.0,9,   -999.0,9,   -999.0,9, -999.00,  -999.0,-999.0000,-999.000,  4.4005,-999.000
   31WTTUNES_2,  P16S,   214,  1,     18,     18,2,19910823,1948,-20.5083,-150.4917, 4616,   1022.9,   4.0849,  34.4687,2,  34.4678,2,    148.3,2,    149.8,2,    61.49,2,    34.51,2,     0.00,2,     2.41,2,   -0.001,2,    0.000,2, -999.000,9,-999.0000,9,  -999.00,9,   -999.0,9,   -999.0,9,   -999.0,9,   -999.0,9,   -999.0,9, -999.00,  -999.0,-999.0000,-999.000,  4.0068,-999.000
   31WTTUNES_2,  P16S,   214,  1,     19,     19,2,19910823,1948,-20.5083,-150.4917, 4616,   1151.8,   3.5598,  34.5052,2,  34.5049,2,    149.8,2,    149.7,2,    74.20,2,    34.80,2,     0.00,2,     2.44,2, -999.000,9, -999.000,9, -999.000,9,-999.0000,9,  -999.00,9,   -999.0,9,   -999.0,9,   -999.0,9,   -999.0,9,   -999.0,9, -999.00,  -999.0,-999.0000,-999.000,  3.4753,-999.000
   31WTTUNES_2,  P16S,   214,  1,     20,     20,2,19910823,1948,-20.5083,-150.4917, 4616,   1280.3,   3.0874,  34.5378,2,  34.5374,2,    150.0,2,    150.4,2,    85.44,2,    35.09,2,     0.00,2,     2.45,2, -999.000,9, -999.000,9, -999.000,9,-999.0000,9,  -999.00,9,   -999.0,9,   -999.0,9,   -999.0,9,   -999.0,9,   -999.0,9, -999.00,  -999.0,-999.0000,-999.000,  2.9968,-999.000
   31WTTUNES_2,  P16S,   214,  1,     21,     21,2,19910823,1948,-20.5083,-150.4917, 4616,   1432.9,   2.7954,  34.5667,2,  34.5655,2,    149.3,2,    149.3,2,    95.50,2,    35.29,2,     0.00,2,     2.49,2, -999.000,9, -999.000,9, -999.000,9,-999.0000,9,  -999.00,9,   -999.0,9,   -999.0,9,   -999.0,9,   -999.0,9,   -999.0,9, -999.00,  -999.0,-999.0000,-999.000,  2.6954,-999.000
   31WTTUNES_2,  P16S,   214,  1,     22,     22,2,19910823,1948,-20.5083,-150.4917, 4616,   1585.0,   2.5780,  34.5895,2,  34.5883,2,    147.2,2,    148.8,2,   104.59,2,    35.58,2,     0.00,2,     2.50,2, -999.000,9, -999.000,9, -999.000,9,-999.0000,9,  -999.00,9,   -999.0,9,   -999.0,9,   -999.0,9,   -999.0,9,   -999.0,9, -999.00,  -999.0,-999.0000,-999.000,  2.4681,-999.000
   31WTTUNES_2,  P16S,   214,  1,     23,     23,2,19910823,1948,-20.5083,-150.4917, 4616,   1737.5,   2.4068,  34.6076,2,  34.6064,2,    148.7,2,    148.8,2,   110.45,2,    35.68,2,     0.00,2,     2.49,2, -999.000,9, -999.000,9, -999.000,9,-999.0000,9,  -999.00,9,   -999.0,9,   -999.0,9,   -999.0,9,   -999.0,9,   -999.0,9, -999.00,  -999.0,-999.0000,-999.000,  2.2865,-999.000
   31WTTUNES_2,  P16S,   214,  1,     24,     24,2,19910823,1948,-20.5083,-150.4917, 4616,   1945.0,   2.1985,  34.6270,2,  34.6257,2,    150.5,2,    150.1,2,   115.73,2,    35.48,2,     0.00,2,     2.50,2, -999.000,9, -999.000,9, -999.000,9,-999.0000,9,  -999.00,9,   -999.0,9,   -999.0,9,   -999.0,9,   -999.0,9,   -999.0,9, -999.00,  -999.0,-999.0000,-999.000,  2.0637,-999.000
   31WTTUNES_2,  P16S,   214,  1,     25,     25,2,19910823,1948,-20.5083,-150.4917, 4616,   2148.3,   2.0534,  34.6394,2,  34.6385,2,    151.2,2,    152.2,2,   118.86,2,    35.38,2,     0.00,2,     2.48,2, -999.000,9, -999.000,9, -999.000,9,-999.0000,9,  -999.00,9,   -999.0,9,   -999.0,9,   -999.0,9,   -999.0,9,   -999.0,9, -999.00,  -999.0,-999.0000,-999.000,  1.9035,-999.000
   31WTTUNES_2,  P16S,   214,  1,     26,     26,2,19910823,1948,-20.5083,-150.4917, 4616,   2353.1,   1.9397,  34.6495,2,  34.6493,2,    153.9,2,    153.8,2,   121.98,2,    35.29,2,     0.00,2,     2.47,2, -999.000,9, -999.000,9, -999.000,9,-999.0000,9,  -999.00,9,   -999.0,9,   -999.0,9,   -999.0,9,   -999.0,9,   -999.0,9, -999.00,  -999.0,-999.0000,-999.000,  1.7737,-999.000
   31WTTUNES_2,  P16S,   214,  1,     27,     27,2,19910823,1948,-20.5083,-150.4917, 4616,   2558.6,   1.8478,  34.6580,2,  34.6568,2,    156.8,2,    155.6,2,   123.84,2,    35.19,2,     0.00,2,     2.46,2, -999.000,9, -999.000,9, -999.000,9,-999.0000,9,  -999.00,9,   -999.0,9,   -999.0,9,   -999.0,9,   -999.0,9,   -999.0,9, -999.00,  -999.0,-999.0000,-999.000,  1.6650,-999.000
   31WTTUNES_2,  P16S,   214,  1,     28,     28,2,19910823,1948,-20.5083,-150.4917, 4616,   2753.8,   1.7401,  34.6666,2,  34.6655,2,    158.0,2,    158.4,2,   125.99,2,    34.89,2,     0.00,2,     2.44,2, -999.000,9, -999.000,9, -999.000,9,-999.0000,9,  -999.00,9,   -999.0,9,   -999.0,9,   -999.0,9,   -999.0,9,   -999.0,9, -999.00,  -999.0,-999.0000,-999.000,  1.5415,-999.000
   31WTTUNES_2,  P16S,   214,  1,     29,     29,2,19910823,1948,-20.5083,-150.4917, 4616,   2964.7,   1.6833,  34.6719,2,  34.6706,2,    161.5,2,    161.7,2,   125.89,2,    34.80,2,     0.00,2,     2.43,2, -999.000,9, -999.000,9, -999.000,9,-999.0000,9,  -999.00,9,   -999.0,9,   -999.0,9,   -999.0,9,   -999.0,9,   -999.0,9, -999.00,  -999.0,-999.0000,-999.000,  1.4659,-999.000
   31WTTUNES_2,  P16S,   214,  1,     30,     30,2,19910823,1948,-20.5083,-150.4917, 4616,   3169.0,   1.6281,  34.6762,2,  34.6755,2,    166.0,2,    167.1,2,   125.21,2,    34.50,2,     0.00,2,     2.40,2, -999.000,9, -999.000,9, -999.000,9,-999.0000,9,  -999.00,9,   -999.0,9,   -999.0,9,   -999.0,9,   -999.0,9,   -999.0,9, -999.00,  -999.0,-999.0000,-999.000,  1.3921,-999.000
   31WTTUNES_2,  P16S,   214,  1,     31,     31,2,19910823,1948,-20.5083,-150.4917, 4616,   3425.0,   1.5526,  34.6821,2,  34.6820,2,    170.2,2,    172.7,2,   125.60,2,    34.11,2,     0.00,2,     2.38,2, -999.000,9, -999.000,9, -999.000,9,-999.0000,9,  -999.00,9,   -999.0,9,   -999.0,9,   -999.0,9,   -999.0,9,   -999.0,9, -999.00,  -999.0,-999.0000,-999.000,  1.2927,-999.000
   31WTTUNES_2,  P16S,   214,  1,     32,     32,2,19910823,1948,-20.5083,-150.4917, 4616,   3681.6,   1.5016,  34.6873,2,  34.6864,2,    174.5,2,    176.1,2,   126.87,2,    33.92,2,     0.00,2,     2.38,2, -999.000,9, -999.000,9, -999.000,9,-999.0000,9,  -999.00,9,   -999.0,9,   -999.0,9,   -999.0,9,   -999.0,9,   -999.0,9, -999.00,  -999.0,-999.0000,-999.000,  1.2166,-999.000
   31WTTUNES_2,  P16S,   214,  1,     33,     33,2,19910823,1948,-20.5083,-150.4917, 4616,   3931.0,   1.4988,  34.6885,2,  34.6882,2,    178.0,2,    177.5,2,   125.50,2,    33.82,2,     0.00,2,     2.36,2, -999.000,9, -999.000,9, -999.000,9,-999.0000,9,  -999.00,9,   -999.0,9,   -999.0,9,   -999.0,9,   -999.0,9,   -999.0,9, -999.00,  -999.0,-999.0000,-999.000,  1.1874,-999.000
   31WTTUNES_2,  P16S,   214,  1,     34,     34,2,19910823,1948,-20.5083,-150.4917, 4616,   4201.5,   1.4695,  34.6916,2,  34.6925,2,    180.7,2,    181.0,2,   123.94,2,    33.53,2,     0.00,2,     2.34,2, -999.000,9, -999.000,9, -999.000,9,-999.0000,9,  -999.00,9,   -999.0,9,   -999.0,9,   -999.0,9,   -999.0,9,   -999.0,9, -999.00,  -999.0,-999.0000,-999.000,  1.1293,-999.000
   31WTTUNES_2,  P16S,   214,  1,     39,     39,2,19910823,1948,-20.5083,-150.4917, 4616,   4465.1,   1.4498,  34.6947,2,  34.6947,2,    185.0,2,    184.1,2,   122.86,2,    33.33,2,     0.00,2,     2.31,2, -999.000,9, -999.000,9, -999.000,9,-999.0000,9,  -999.00,9,   -999.0,9,   -999.0,9,   -999.0,9,   -999.0,9,   -999.0,9, -999.00,  -999.0,-999.0000,-999.000,  1.0804,-999.000
   31WTTUNES_2,  P16S,   214,  1,     38,     38,2,19910823,1948,-20.5083,-150.4917, 4616,   4693.5,   1.4460,  34.6970,2,  34.6971,2,    185.9,2,    185.8,2,   122.18,2,    33.23,2,     0.00,2,     2.31,2, -999.000,9, -999.000,9, -999.000,9,-999.0000,9,  -999.00,9,   -999.0,9,   -999.0,9,   -999.0,9,   -999.0,9,   -999.0,9, -999.00,  -999.0,-999.0000,-999.000,  1.0502,-999.000