BOTTLE,20131125MIRCJHATS
EXPOCODE,SECT_ID,STNNBR,CASTNO,SAMPNO,BTLNBR,BTLNBR_FLAG_W,DATE,TIME,LATITUDE,LONGITUDE,DEPTH,CTDPRS,CTDTMP,CTDSAL,CTDSAL_FLAG_W,SALNTY,SALNTY_FLAG_W,CTDOXY,CTDOXY_FLAG_W,OXYGEN,OXYGEN_FLAG_W,SILCAT,SILCAT_FLAG_W,NITRAT,NITRAT_FLAG_W,NITRIT,NITRIT_FLAG_W,PHSPHT,PHSPHT_FLAG_W,CFC-11,CFC-11_FLAG_W,CFC-12,CFC-12_FLAG_W,TRITUM,TRITUM_FLAG_W,HELIUM,HELIUM_FLAG_W,DELHE3,DELHE3_FLAG_W,DELC14,DELC14_FLAG_W,DELC13,DELC13_FLAG_W,TCARBN,TCARBN_FLAG_W,PCO2,PCO2_FLAG_W,ALKALI,ALKALI_FLAG_W,PCO2TMP,C14ERR,HELIER,DELHER,THETA,TRITER
,,,,,,,,,,,,DBAR,ITS-90,PSS-78,,PSS-78,,UMOL/KG,,UMOL/KG,,UMOL/KG,,UMOL/KG,,UMOL/KG,,UMOL/KG,,PMOL/KG,,PMOL/KG,,TU,,NMOL/KG,,PERCNT,,/MILLE,,/MILLE,,UMOL/KG,,UATM,,UMOL/KG,,DEG C,/MILLE,NMOL/KG,PERCNT,DEG C,TU
   31WTTUNES_2,  P16S,   213,  1,     61,     61,2,19910823,1315,-21.0117,-150.5000, 4769,      0.8,  25.1315,  36.0443,2,  36.0513,2,    204.8,3,    206.3,2,     1.27,2,     0.10,2,     0.00,2,     0.16,2,    1.935,2,    0.962,2, -999.000,9,-999.0000,9,  -999.00,9,   -999.0,9,   -999.0,9,   1990.9,2,    249.9,2,   -999.0,9,   20.00,  -999.0,-999.0000,-999.000, 25.1313,-999.000
   31WTTUNES_2,  P16S,   213,  1,     62,     62,2,19910823,1315,-21.0117,-150.5000, 4769,     32.2,  25.1364,  36.0447,2,  36.0461,2,    206.4,2,    206.5,2,     1.27,2,     0.10,2,     0.00,2,     0.16,2,    1.960,2,    0.966,2,    0.672,2,   1.7000,2,    -1.11,2,   -999.0,9,   -999.0,9,   2019.5,2,    251.5,2,   -999.0,9,   20.00,  -999.0,  0.0080,   0.150, 25.1294,   0.006
   31WTTUNES_2,  P16S,   213,  1,      3,      3,2,19910823,1315,-21.0117,-150.5000, 4769,     62.1,  24.8160,  35.9735,2,  35.9716,2,    205.7,2,    207.5,2,     1.27,2,     0.10,2,     0.00,2,     0.15,2, -999.000,9, -999.000,9,    0.976,2,   1.7130,2,    -0.74,2,   -999.0,9,   -999.0,9,   1994.2,2,    250.5,2,   -999.0,9,   20.00,  -999.0,  0.0080,   0.150, 24.8025,   0.004
   31WTTUNES_2,  P16S,   213,  1,     64,     64,2,19910823,1315,-21.0117,-150.5000, 4769,     97.0,  24.4152,  35.9184,2,  35.9056,2,    210.3,2,    208.5,2,     2.05,2,     0.39,2,     0.00,2,     0.18,2,    1.967,2,    0.981,2,    1.018,2,   1.7220,2,    -1.02,2,   -999.0,9,   -999.0,9,   2001.1,2,    256.2,2,   -999.0,9,   20.00,  -999.0,  0.0080,   0.150, 24.3944,   0.005
   31WTTUNES_2,  P16S,   213,  1,      5,      5,2,19910823,1315,-21.0117,-150.5000, 4769,    137.3,  22.7045,  35.8261,2,  35.8196,2,    189.4,2,    189.0,2,     1.27,2,     0.78,2,     0.06,2,     0.24,2, -999.000,9, -999.000,9, -999.000,9,-999.0000,9,  -999.00,9,   -999.0,9,   -999.0,9,   2036.8,2,    308.3,2,   -999.0,9,   20.00,  -999.0,-999.0000,-999.000, 22.6766,-999.000
   31WTTUNES_2,  P16S,   213,  1,      6,      6,2,19910823,1315,-21.0117,-150.5000, 4769,    176.8,  21.1960,  35.6376,2,  35.6386,2,    198.3,2,    200.3,2,     0.98,2,     0.68,2,     0.09,2,     0.23,2,    2.156,2,    1.035,2,    0.949,2,   1.7010,2,    -0.52,2,   -999.0,9,   -999.0,9,   2028.9,2,    316.4,2,   -999.0,9,   20.00,  -999.0,  0.0080,   0.150, 21.1618,   0.005
   31WTTUNES_2,  P16S,   213,  1,      7,      7,2,19910823,1315,-21.0117,-150.5000, 4769,    218.8,  19.8532,  35.5247,2,  35.5259,2,    214.3,2,    215.2,2,     0.78,2,     0.20,2,     0.22,2,     0.14,2,    2.306,8,    1.134,2,    0.828,2,   1.7460,2,    -1.31,2,   -999.0,9,   -999.0,9,   2024.0,2,    312.3,2,   -999.0,9,   20.00,  -999.0,  0.0080,   0.150, 19.8128,   0.004
   31WTTUNES_2,  P16S,   213,  1,     68,     68,2,19910823,1315,-21.0117,-150.5000, 4769,    260.3,  19.2139,  35.5484,2,  35.5494,2,    197.2,2,    200.6,2,     0.78,2,     1.47,2,     0.02,2,     0.24,2,    2.130,2,    1.049,2,    0.899,2,   1.7220,2,    -0.48,2,   -999.0,9,   -999.0,9,   2046.0,2,    344.2,2,   -999.0,9,   20.00,  -999.0,  0.0080,   0.150, 19.1669,   0.005
   31WTTUNES_2,  P16S,   213,  1,     69,     69,2,19910823,1315,-21.0117,-150.5000, 4769,    307.2,  16.7010,  35.3705,2,  35.3669,2,    193.2,2,    190.5,2,     1.37,2,     5.08,2,     0.01,2,     0.50,2,    1.867,2,    0.901,2,    0.711,2,   1.7620,2,     0.84,2,   -999.0,9,   -999.0,9,   2073.7,2,    414.8,2,   -999.0,9,   20.00,  -999.0,  0.0080,   0.150, 16.6506,   0.004
   31WTTUNES_2,  P16S,   213,  1,     70,     70,2,19910823,1315,-21.0117,-150.5000, 4769,    358.4,  13.5769,  35.0177,2,  34.9984,2,    186.8,2,    186.3,2,     3.42,2,    10.75,2,     0.01,2,     0.87,2,    1.224,2,    0.657,2,    0.503,2,   1.7720,2,     1.13,2,   -999.0,9,   -999.0,9,   2100.7,2,    522.2,2,   -999.0,9,   20.00,  -999.0,  0.0080,   0.150, 13.5259,   0.004
   31WTTUNES_2,  P16S,   213,  1,     11,     11,2,19910823,1315,-21.0117,-150.5000, 4769,    409.7,  11.3888,  34.7676,2,  34.7394,2,    183.3,2,    181.0,2,     6.06,2,    15.83,2,     0.00,2,     1.21,2, -999.000,9, -999.000,9,    0.362,2,   1.7820,2,     1.19,2,   -999.0,9,   -999.0,9,   2122.0,2,    631.0,2,   -999.0,9,   20.00,  -999.0,  0.0080,   0.150, 11.3368,   0.003
   31WTTUNES_2,  P16S,   213,  1,     12,     12,2,19910823,1315,-21.0117,-150.5000, 4769,    468.1,   9.2726,  34.5527,2,  34.5476,2,    177.8,2,    177.2,2,     9.38,2,    21.02,2,     0.00,2,     1.55,2,    0.613,2,    0.318,2,    0.237,2,   0.0000,2,     0.00,2,   -999.0,9,   -999.0,9,   2145.0,2,    768.6,2,   -999.0,9,   20.00,  -999.0,  0.0080,   0.150,  9.2204,   0.002
   31WTTUNES_2,  P16S,   213,  1,     13,     13,2,19910823,1315,-21.0117,-150.5000, 4769,    530.7,   7.7268,  34.4407,2,  34.4406,2,    175.2,2,    177.6,2,    13.49,2,    25.03,2,     0.00,2,     1.81,2,    0.383,2,    0.212,2,    0.139,2,   1.7440,2,     1.95,2,   -999.0,9,   -999.0,9,   2167.2,2,    862.5,2,   -999.0,9,   20.00,  -999.0,  0.0080,   0.150,  7.6735,   0.002
   31WTTUNES_2,  P16S,   213,  1,     37,     37,2,19910823,1315,-21.0117,-150.5000, 4769,    593.0,   6.9310,  34.3979,2,  34.3943,2,    180.3,2,    181.7,2,    16.33,2,    26.98,2,     0.00,2,     1.91,2,    0.273,2,    0.153,2,    0.092,2,   1.8180,2,     2.21,2,   -999.0,9,   -999.0,9,   2168.3,2,    897.1,2,   -999.0,9,   20.00,  -999.0,  0.0090,   0.150,  6.8747,   0.002
   31WTTUNES_2,  P16S,   213,  1,     15,     15,2,19910823,1315,-21.0117,-150.5000, 4769,    652.7,   6.2759,  34.3971,2,  34.3967,2,    175.8,2,    170.0,2,    24.15,2,    29.43,2,     0.00,2,     2.08,2,    0.123,2,    0.079,2,    0.042,2,   0.0000,2,     0.00,2,   -999.0,9,   -999.0,9,   2193.7,2,    978.2,2,   -999.0,9,   20.00,  -999.0,-999.0000,   0.150,  6.2169,   0.001
   31WTTUNES_2,  P16S,   213,  1,     16,     16,2,19910823,1315,-21.0117,-150.5000, 4769,    731.2,   5.7675,  34.4033,2,  34.4033,2,    158.6,2,    163.6,2,    30.70,2,    30.89,2,     0.00,2,     2.18,2,    0.056,2,    0.038,2,    0.022,2,   1.8200,2,     5.51,2,   -999.0,9,   -999.0,9,   2202.0,2,   1021.1,2,   -999.0,9,   20.00,  -999.0,  0.0090,   0.150,  5.7038,   0.001
   31WTTUNES_2,  P16S,   213,  1,     17,     17,2,19910823,1315,-21.0117,-150.5000, 4769,    812.6,   5.2154,  34.4085,2,  34.4082,2,    158.5,2,    160.6,2,    38.52,2,    32.16,2,     0.00,2,     2.26,2,    0.024,2,    0.018,2, -999.000,9,-999.0000,9,  -999.00,9,   -999.0,9,   -999.0,9,   2212.5,2,   1077.1,2,   -999.0,9,   20.00,  -999.0,-999.0000,-999.000,  5.1476,-999.000
   31WTTUNES_2,  P16S,   213,  1,     18,     18,2,19910823,1315,-21.0117,-150.5000, 4769,    916.3,   4.5997,  34.4124,2,  34.4129,2,    154.8,2,    159.7,2,    46.73,2,    33.34,2,     0.00,2,     2.33,2,    0.009,2,    0.010,2,    0.001,2,   1.8140,2,     8.50,2,   -999.0,9,   -999.0,9,   2224.1,2,   1096.7,2,   -999.0,9,   20.00,  -999.0,  0.0090,   0.150,  4.5269,   0.001
   31WTTUNES_2,  P16S,   213,  1,     19,     19,2,19910823,1315,-21.0117,-150.5000, 4769,   1020.2,   4.0616,  34.4611,2,  34.4610,2,    153.1,2,    151.1,2,    61.20,2,    34.41,2,     0.00,2,     2.41,2,    0.001,2,    0.007,8, -999.000,9,   1.8290,2,    12.68,2,   -999.0,9,   -999.0,9,   2243.0,2,   1156.6,2,   -999.0,9,   20.00,  -999.0,-999.0000,-999.000,  3.9839,-999.000
   31WTTUNES_2,  P16S,   213,  1,     20,     20,2,19910823,1315,-21.0117,-150.5000, 4769,   1175.2,   3.4614,  34.4981,2,  34.4977,2,    152.5,2,    152.2,2,    74.39,2,    34.90,2,     0.00,2,     2.44,2,   -0.001,2,    0.000,2,   -0.003,2,   1.8550,2,    15.61,2,   -999.0,9,   -999.0,9,   2258.3,2,   1169.8,2,   -999.0,9,   20.00,  -999.0,  0.0090,   0.150,  3.3758,   0.001
   31WTTUNES_2,  P16S,   213,  1,     21,     21,2,19910823,1315,-21.0117,-150.5000, 4769,   1331.4,   3.0148,  34.5380,2,  34.5380,2,    150.3,2,    151.7,2,    87.68,2,    35.09,2,     0.00,2,     2.47,2, -999.000,9, -999.000,9, -999.000,9,   1.8740,2,    19.67,2,   -999.0,9,   -999.0,9,   2272.5,2,   1168.5,2,   -999.0,9,   20.00,  -999.0,-999.0000,-999.000,  2.9207,-999.000
   31WTTUNES_2,  P16S,   213,  1,     22,     22,2,19910823,1315,-21.0117,-150.5000, 4769,   1536.9,   2.5849,  34.5826,2,  34.5818,2,    151.6,2,    150.5,2,   102.73,2,    35.39,2,     0.00,2,     2.49,2, -999.000,9, -999.000,9, -999.000,9,   1.8940,2,    23.15,2,   -999.0,9,   -999.0,9,   2286.3,2,   1169.5,2,   -999.0,9,   20.00,  -999.0,-999.0000,-999.000,  2.4788,-999.000
   31WTTUNES_2,  P16S,   213,  1,     23,     23,2,19910823,1315,-21.0117,-150.5000, 4769,   1740.0,   2.3570,  34.6090,2,  34.6068,2,    149.7,2,    149.5,2,   111.14,2,    35.48,2,     0.00,2,     2.49,2, -999.000,9, -999.000,9, -999.000,9,   1.9040,2,    25.69,2,   -999.0,9,   -999.0,9,   2295.5,2,   1179.7,2,   -999.0,9,   20.00,  -999.0,-999.0000,-999.000,  2.2372,-999.000
   31WTTUNES_2,  P16S,   213,  1,     24,     24,2,19910823,1315,-21.0117,-150.5000, 4769,   1940.9,   2.2157,  34.6238,2,  34.6234,2,    150.1,2,    149.6,2,   115.73,2,    35.48,2,     0.00,2,     2.49,2, -999.000,9, -999.000,9, -999.000,9,   1.9030,2,    25.91,2,   -999.0,9,   -999.0,9,   2301.7,2,   1171.3,2,   -999.0,9,   20.00,  -999.0,-999.0000,-999.000,  2.0810,-999.000
   31WTTUNES_2,  P16S,   213,  1,     25,     25,2,19910823,1315,-21.0117,-150.5000, 4769,   2142.4,   2.0628,  34.6382,2,  34.6382,2,    151.6,2,    150.3,2,   120.62,2,    35.38,2,     0.00,2,     2.49,2, -999.000,9, -999.000,9, -999.000,9,   1.9050,2,    26.68,2,   -999.0,9,   -999.0,9,   2304.5,2,   1180.3,2,   -999.0,9,   20.00,  -999.0,-999.0000,-999.000,  1.9132,-999.000
   31WTTUNES_2,  P16S,   213,  1,     26,     26,2,19910823,1315,-21.0117,-150.5000, 4769,   2346.3,   1.9501,  34.6494,2,  34.6484,2,    151.7,2,    151.0,2,   124.23,2,    35.38,2,     0.00,2,     2.49,2, -999.000,9, -999.000,9, -999.000,9,   1.9010,2,    26.78,2,   -999.0,9,   -999.0,9,   2308.3,2,   1166.4,2,   -999.0,9,   20.00,  -999.0,-999.0000,-999.000,  1.7845,-999.000
   31WTTUNES_2,  P16S,   213,  1,     27,     27,2,19910823,1315,-21.0117,-150.5000, 4769,   2556.7,   1.8566,  34.6579,2,  34.6574,2,    154.0,2,    152.1,2,   127.36,2,    35.29,2,     0.00,2,     2.48,2, -999.000,9, -999.000,9, -999.000,9,   1.9050,2,    26.12,2,   -999.0,9,   -999.0,9,   2311.2,2,   1164.6,2,   -999.0,9,   20.00,  -999.0,-999.0000,-999.000,  1.6738,-999.000
   31WTTUNES_2,  P16S,   213,  1,     28,     28,2,19910823,1315,-21.0117,-150.5000, 4769,   2757.7,   1.7893,  34.6638,2,  34.6635,2,    155.5,2,    154.5,2,   128.63,2,    35.19,2,     0.00,2,     2.47,2, -999.000,9, -999.000,9, -999.000,9,   1.9060,2,    24.90,2,   -999.0,9,   -999.0,9,   2309.2,2,   1163.6,2,   -999.0,9,   20.00,  -999.0,-999.0000,-999.000,  1.5893,-999.000
   31WTTUNES_2,  P16S,   213,  1,     29,     29,2,19910823,1315,-21.0117,-150.5000, 4769,   3011.1,   1.6960,  34.6711,2,  34.6716,2,    161.2,2,    160.5,2,   127.95,2,    34.80,2,     0.00,2,     2.43,2, -999.000,9, -999.000,9, -999.000,9,   1.9000,2,    23.69,2,   -999.0,9,   -999.0,9,   2305.9,2,   1140.4,2,   -999.0,9,   20.00,  -999.0,-999.0000,-999.000,  1.4738,-999.000
   31WTTUNES_2,  P16S,   213,  1,     30,     30,2,19910823,1315,-21.0117,-150.5000, 4769,   3266.0,   1.5959,  34.6793,2,  34.6793,2,    166.6,2,    167.7,2,   126.87,2,    34.31,2,     0.00,2,     2.40,2, -999.000,9, -999.000,9, -999.000,9,   1.8950,2,    21.45,2,   -999.0,9,   -999.0,9,   2298.8,2,   1124.9,2,   -999.0,9,   20.00,  -999.0,-999.0000,-999.000,  1.3510,-999.000
   31WTTUNES_2,  P16S,   213,  1,     31,     31,2,19910823,1315,-21.0117,-150.5000, 4769,   3536.7,   1.5389,  34.6835,2,  34.6844,2,    170.3,2,    172.6,2,   125.79,2,    33.92,2,     0.00,2,     2.38,2, -999.000,9, -999.000,9, -999.000,9,-999.0000,5,    19.52,2,   -999.0,9,   -999.0,9,   2297.9,2,   1109.0,2,   -999.0,9,   20.00,  -999.0,-999.0000,-999.000,  1.2680,-999.000
   31WTTUNES_2,  P16S,   213,  1,     32,     32,2,19910823,1315,-21.0117,-150.5000, 4769,   3792.1,   1.4883,  34.6881,2,  34.6887,2,    176.6,2,    176.6,2,   125.50,2,    33.62,2,     0.00,2,     2.36,2, -999.000,9, -999.000,9, -999.000,9,   1.8920,2,    19.02,2,   -999.0,9,   -999.0,9,   2292.0,2,   1097.1,2,   -999.0,9,   20.00,  -999.0,-999.0000,-999.000,  1.1920,-999.000
   31WTTUNES_2,  P16S,   213,  1,     33,     33,2,19910823,1315,-21.0117,-150.5000, 4769,   4051.1,   1.4361,  34.6937,2,  34.6934,2,    178.9,2,    181.4,2,   124.42,2,    33.33,2,     0.00,2,     2.33,2, -999.000,9, -999.000,9, -999.000,9,   1.8780,2,    16.33,2,   -999.0,9,   -999.0,9,   2289.6,2,   1092.8,2,   -999.0,9,   20.00,  -999.0,-999.0000,-999.000,  1.1134,-999.000
   31WTTUNES_2,  P16S,   213,  1,     34,     34,2,19910823,1315,-21.0117,-150.5000, 4769,   4321.1,   1.4173,  34.6956,2,  34.6964,2,    183.5,2,    184.5,2,   123.15,2,    33.04,2,     0.00,2,     2.31,2, -999.000,9, -999.000,9, -999.000,9,   1.8840,2,    15.95,2,   -999.0,9,   -999.0,9,   2285.2,2,   1072.2,2,   -999.0,9,   20.00,  -999.0,-999.0000,-999.000,  1.0651,-999.000
   31WTTUNES_2,  P16S,   213,  1,     39,     39,2,19910823,1315,-21.0117,-150.5000, 4769,   4576.9,   1.4121,  34.6984,2,  34.6977,2,    185.4,2,    187.1,2,   122.27,2,    32.94,2,     0.00,2,     2.30,2, -999.000,9, -999.000,9, -999.000,9,   1.8830,2,    15.19,2,   -999.0,9,   -999.0,9,   2280.7,2,   1083.5,2,   -999.0,9,   20.00,  -999.0,-999.0000,-999.000,  1.0309,-999.000
   31WTTUNES_2,  P16S,   213,  1,     38,     38,2,19910823,1315,-21.0117,-150.5000, 4769,   4823.8,   1.4387,  34.6983,2,  34.6985,2,    189.3,2,    187.3,2,   122.27,2,    32.94,2,     0.00,2,     2.30,2, -999.000,9, -999.000,9, -999.000,9,   1.8940,2,    14.66,2,   -999.0,9,   -999.0,9,   2279.5,2,   1065.6,2,   -999.0,9,   20.00,  -999.0,-999.0000,-999.000,  1.0277,-999.000