BOTTLE,20131125MIRCJHATS
EXPOCODE,SECT_ID,STNNBR,CASTNO,SAMPNO,BTLNBR,BTLNBR_FLAG_W,DATE,TIME,LATITUDE,LONGITUDE,DEPTH,CTDPRS,CTDTMP,CTDSAL,CTDSAL_FLAG_W,SALNTY,SALNTY_FLAG_W,CTDOXY,CTDOXY_FLAG_W,OXYGEN,OXYGEN_FLAG_W,SILCAT,SILCAT_FLAG_W,NITRAT,NITRAT_FLAG_W,NITRIT,NITRIT_FLAG_W,PHSPHT,PHSPHT_FLAG_W,CFC-11,CFC-11_FLAG_W,CFC-12,CFC-12_FLAG_W,TRITUM,TRITUM_FLAG_W,HELIUM,HELIUM_FLAG_W,DELHE3,DELHE3_FLAG_W,DELC14,DELC14_FLAG_W,DELC13,DELC13_FLAG_W,TCARBN,TCARBN_FLAG_W,PCO2,PCO2_FLAG_W,ALKALI,ALKALI_FLAG_W,PCO2TMP,C14ERR,HELIER,DELHER,THETA,TRITER
,,,,,,,,,,,,DBAR,ITS-90,PSS-78,,PSS-78,,UMOL/KG,,UMOL/KG,,UMOL/KG,,UMOL/KG,,UMOL/KG,,UMOL/KG,,PMOL/KG,,PMOL/KG,,TU,,NMOL/KG,,PERCNT,,/MILLE,,/MILLE,,UMOL/KG,,UATM,,UMOL/KG,,DEG C,/MILLE,NMOL/KG,PERCNT,DEG C,TU
   31WTTUNES_2,  P17S,   161,  1,      1,      1,2,19910802,0500,-24.2117,-132.6750, 3790,      4.1,  22.0822,  35.6907,2,  35.7044,3,    217.6,3,    218.2,2,     1.27,2,     0.00,2,     0.00,2,     0.10,2,    2.001,2,    1.080,2, -999.000,9,-999.0000,9,  -999.00,9,    134.4,2,      1.3,2,   2006.0,2,    280.8,2,   -999.0,9,   20.00,     3.1,-999.0000,-999.000, 22.0814,-999.000
   31WTTUNES_2,  P17S,   161,  1,      2,      2,2,19910802,0500,-24.2117,-132.6750, 3790,     45.2,  22.0926,  35.6910,2,  35.6982,2,    215.6,6,    217.5,2,     1.26,2,     0.00,2,     0.00,2,     0.10,2, -999.000,9, -999.000,9, -999.000,9,-999.0000,9,  -999.00,9,   -999.0,9,   -999.0,9,   -999.0,9,   -999.0,9,   -999.0,9, -999.00,  -999.0,-999.0000,-999.000, 22.0837,-999.000
   31WTTUNES_2,  P17S,   161,  1,      3,      3,2,19910802,0500,-24.2117,-132.6750, 3790,     87.0,  22.0992,  35.6913,2,  35.6951,2,    220.2,2,    217.7,2,     1.25,2,     0.00,2,     0.00,2,     0.10,2,    1.966,2,    1.063,2, -999.000,9,-999.0000,9,  -999.00,9,    124.6,2,      1.5,2,   -999.0,9,   -999.0,9,   -999.0,9, -999.00,     3.1,-999.0000,-999.000, 22.0819,-999.000
   31WTTUNES_2,  P17S,   161,  1,      4,      4,2,19910802,0500,-24.2117,-132.6750, 3790,    107.4,  22.0966,  35.6904,2,  35.6950,2,    214.2,6,    217.1,2,     1.04,2,     0.00,2,     0.00,2,     0.10,2, -999.000,9, -999.000,9, -999.000,9,-999.0000,9,  -999.00,9,   -999.0,9,   -999.0,9,   -999.0,9,   -999.0,9,   -999.0,9, -999.00,  -999.0,-999.0000,-999.000, 22.0753,-999.000
   31WTTUNES_2,  P17S,   161,  1,      5,      5,2,19910802,0500,-24.2117,-132.6750, 3790,    116.8,  22.0473,  35.6864,2,  35.6899,2,    215.5,6,    217.8,2,     1.03,2,     0.00,2,     0.00,2,     0.10,2, -999.000,9, -999.000,9, -999.000,9,-999.0000,9,  -999.00,9,   -999.0,9,      1.4,2,   -999.0,9,   -999.0,9,   -999.0,9, -999.00,  -999.0,-999.0000,-999.000, 22.0241,-999.000
   31WTTUNES_2,  P17S,   161,  1,      6,      6,2,19910802,0500,-24.2117,-132.6750, 3790,    129.1,  21.4617,  35.6334,2,  35.6539,2,    218.0,2,    213.0,2,     1.02,2,     0.00,2,     0.02,2,     0.12,2, -999.000,9, -999.000,9, -999.000,9,-999.0000,9,  -999.00,9,   -999.0,9,   -999.0,9,   -999.0,9,   -999.0,9,   -999.0,9, -999.00,  -999.0,-999.0000,-999.000, 21.4365,-999.000
   31WTTUNES_2,  P17S,   161,  1,      7,      7,2,19910802,0500,-24.2117,-132.6750, 3790,    139.3,  20.6452,  35.5987,2,  35.6054,2,    207.0,2,    208.2,2,     1.01,2,     0.00,2,     0.06,2,     0.15,2,    1.993,2,    1.061,2, -999.000,9,-999.0000,9,  -999.00,9,    129.0,2,      1.2,2,   -999.0,9,   -999.0,9,   -999.0,9, -999.00,     2.9,-999.0000,-999.000, 20.6188,-999.000
   31WTTUNES_2,  P17S,   161,  1,      8,      8,2,19910802,0500,-24.2117,-132.6750, 3790,    149.0,  20.4317,  35.6226,2,  35.6239,2,    210.2,2,    201.5,2,     0.99,2,     0.25,2,     0.11,2,     0.20,2, -999.000,9, -999.000,9, -999.000,9,-999.0000,9,  -999.00,9,   -999.0,9,   -999.0,9,   -999.0,9,   -999.0,9,   -999.0,9, -999.00,  -999.0,-999.0000,-999.000, 20.4037,-999.000
   31WTTUNES_2,  P17S,   161,  1,      9,      9,2,19910802,0500,-24.2117,-132.6750, 3790,    169.0,  19.5679,  35.5679,2,  35.5691,2,    198.4,2,    200.4,2,     0.98,2,     0.85,2,     0.03,2,     0.22,2,    1.969,2,    1.043,2, -999.000,9,-999.0000,9,  -999.00,9,    130.3,2,      1.3,2,   -999.0,9,   -999.0,9,   -999.0,9, -999.00,     3.8,-999.0000,-999.000, 19.5371,-999.000
   31WTTUNES_2,  P17S,   161,  1,     10,     10,2,19910802,0500,-24.2117,-132.6750, 3790,    207.6,  18.4098,  35.4653,2,  35.4659,2,    197.3,2,    201.2,2,     0.97,2,     1.39,2,     0.01,2,     0.26,2,    1.958,2,    1.063,2, -999.000,9,-999.0000,9,  -999.00,9,    126.9,2,      1.2,2,   -999.0,9,   -999.0,9,   -999.0,9, -999.00,     3.2,-999.0000,-999.000, 18.3734,-999.000
   31WTTUNES_2,  P17S,   161,  1,     11,     11,2,19910802,0500,-24.2117,-132.6750, 3790,    255.4,  17.0541,  35.3578,2,  35.3586,2,    193.2,6,    194.5,2,     1.35,2,     3.54,2,     0.00,2,     0.41,2,    1.788,2,    0.956,2, -999.000,9,-999.0000,9,  -999.00,9,    121.0,2,      1.1,2,   -999.0,9,   -999.0,9,   -999.0,9, -999.00,     2.9,-999.0000,-999.000, 17.0117,-999.000
   31WTTUNES_2,  P17S,   161,  1,     12,     12,2,19910802,0500,-24.2117,-132.6750, 3790,    301.5,  15.7518,  35.2255,2,  35.2250,2,    195.5,2,    194.9,2,     1.73,2,     5.13,2,     0.00,2,     0.51,2,    1.735,2,    0.933,2, -999.000,9,-999.0000,9,  -999.00,9,    116.6,2,      1.3,2,   -999.0,9,   -999.0,9,   -999.0,9, -999.00,     2.9,-999.0000,-999.000, 15.7044,-999.000
   31WTTUNES_2,  P17S,   161,  1,     13,     13,2,19910802,0500,-24.2117,-132.6750, 3790,    350.1,  13.8326,  35.0250,2,  35.0245,2,    191.4,2,    192.7,2,     2.50,2,     8.97,2,     0.00,2,     0.73,2,    1.476,2,    0.772,2, -999.000,9,-999.0000,9,  -999.00,9,     84.0,2,      1.2,2,   -999.0,9,   -999.0,9,   -999.0,9, -999.00,     2.9,-999.0000,-999.000, 13.7822,-999.000
   31WTTUNES_2,  P17S,   161,  1,     37,     37,2,19910802,0500,-24.2117,-132.6750, 3790,    403.2,  11.2415,  34.7282,2,  34.7204,2,    192.1,2,    192.9,2,     4.25,2,    14.59,2,     0.00,2,     1.10,2,    1.092,2,    0.562,2, -999.000,9,-999.0000,9,  -999.00,9,     54.6,2,      1.2,2,   -999.0,9,   -999.0,9,   -999.0,9, -999.00,     3.0,-999.0000,-999.000, 11.1908,-999.000
   31WTTUNES_2,  P17S,   161,  1,     15,     15,2,19910802,0500,-24.2117,-132.6750, 3790,    506.1,   8.0924,  34.4306,2,  34.4354,2,    200.4,2,    201.8,2,     7.57,2,    21.55,2,     0.00,2,     1.54,2,    0.771,2,    0.406,2, -999.000,9,-999.0000,9,  -999.00,9,      5.3,2,      1.3,2,   -999.0,9,   -999.0,9,   -999.0,9, -999.00,     3.1,-999.0000,-999.000,  8.0402,-999.000
   31WTTUNES_2,  P17S,   161,  1,     16,     16,2,19910802,0500,-24.2117,-132.6750, 3790,    607.3,   6.4111,  34.3365,2,  34.3683,2,    226.6,2,    219.9,2,     9.13,2,    23.40,2,     0.00,2,     1.64,2,    0.686,2,    0.380,2, -999.000,9,-999.0000,9,  -999.00,9,    -12.2,2,      1.2,2,   -999.0,9,   -999.0,9,   -999.0,9, -999.00,     4.2,-999.0000,-999.000,  6.3559,-999.000
   31WTTUNES_2,  P17S,   161,  1,     17,     17,2,19910802,0500,-24.2117,-132.6750, 3790,    713.7,   5.6613,  34.2987,2,  34.2994,2,    224.4,2,    226.3,2,    13.82,2,    26.43,2,     0.00,2,     1.82,2,    0.313,2,    0.183,2, -999.000,9,-999.0000,9,  -999.00,9,    -51.9,2,      1.1,2,   -999.0,9,   -999.0,9,   -999.0,9, -999.00,     2.7,-999.0000,-999.000,  5.5999,-999.000
   31WTTUNES_2,  P17S,   161,  1,     18,     18,2,19910802,0500,-24.2117,-132.6750, 3790,    818.2,   5.0569,  34.2980,2,  34.2986,2,    207.1,2,    208.1,2,    21.65,2,    29.37,2,     0.00,2,     2.05,2,    0.120,2,    0.080,2, -999.000,9,-999.0000,9,  -999.00,9,    -87.1,2,      1.0,2,   -999.0,9,   -999.0,9,   -999.0,9, -999.00,     4.5,-999.0000,-999.000,  4.9897,-999.000
   31WTTUNES_2,  P17S,   161,  1,     19,     19,2,19910802,0500,-24.2117,-132.6750, 3790,    918.2,   4.4695,  34.3397,2,  34.3408,2,    184.5,2,    178.1,2,    36.34,2,    32.79,2,     0.00,2,     2.32,2,    0.029,2,    0.022,2, -999.000,9,-999.0000,9,  -999.00,9,   -117.1,2,      0.8,2,   -999.0,9,   -999.0,9,   -999.0,9, -999.00,     3.5,-999.0000,-999.000,  4.3975,-999.000
   31WTTUNES_2,  P17S,   161,  1,     20,     20,2,19910802,0500,-24.2117,-132.6750, 3790,   1012.6,   4.0321,  34.3970,2,  34.3988,2,    161.7,2,    158.1,2,    51.64,2,    34.93,2,     0.00,2,     2.44,2,    0.005,2,    0.006,2, -999.000,9,-999.0000,9,  -999.00,9,   -133.3,2,      0.5,2,   -999.0,9,   -999.0,9,   -999.0,9, -999.00,     3.2,-999.0000,-999.000,  3.9553,-999.000
   31WTTUNES_2,  P17S,   161,  1,     21,     21,2,19910802,0500,-24.2117,-132.6750, 3790,   1108.7,   3.7141,  34.4449,2,  34.4444,2,    148.4,2,    152.4,2,    63.04,2,    35.77,2,     0.00,2,     2.52,2,    0.002,2,    0.000,2, -999.000,9,-999.0000,9,  -999.00,9,   -999.0,9,   -999.0,9,   -999.0,9,   -999.0,9,   -999.0,9, -999.00,  -999.0,-999.0000,-999.000,  3.6319,-999.000
   31WTTUNES_2,  P17S,   161,  1,     22,     22,2,19910802,0500,-24.2117,-132.6750, 3790,   1246.7,   3.3025,  34.4996,2,  34.4997,2,    148.3,2,    149.4,2,    77.04,2,    35.98,2,     0.00,2,     2.54,2,    0.003,2,    0.000,2, -999.000,9,-999.0000,9,  -999.00,9,   -999.0,9,   -999.0,9,   -999.0,9,   -999.0,9,   -999.0,9, -999.00,  -999.0,-999.0000,-999.000,  3.2126,-999.000
   31WTTUNES_2,  P17S,   161,  1,     23,     23,2,19910802,0500,-24.2117,-132.6750, 3790,   1389.1,   2.9128,  34.5417,2,  34.5427,2,    148.9,2,    148.2,2,    89.54,2,    35.88,2,     0.00,2,     2.53,2, -999.000,9, -999.000,9, -999.000,9,-999.0000,9,  -999.00,9,   -999.0,9,   -999.0,9,   -999.0,9,   -999.0,9,   -999.0,9, -999.00,  -999.0,-999.0000,-999.000,  2.8151,-999.000
   31WTTUNES_2,  P17S,   161,  1,     24,     24,2,19910802,0500,-24.2117,-132.6750, 3790,   1596.9,   2.5134,  34.5831,2,  34.5830,2,    152.5,2,    151.2,2,   101.71,2,    35.78,2,     0.00,2,     2.52,2, -999.000,9, -999.000,9, -999.000,9,-999.0000,9,  -999.00,9,   -999.0,9,   -999.0,9,   -999.0,9,   -999.0,9,   -999.0,9, -999.00,  -999.0,-999.0000,-999.000,  2.4033,-999.000
   31WTTUNES_2,  P17S,   161,  1,     25,     25,2,19910802,0500,-24.2117,-132.6750, 3790,   1811.3,   2.2489,  34.6123,2,  34.6124,2,    152.7,2,    152.5,2,   110.76,2,    35.62,2,     0.00,2,     2.52,2, -999.000,9, -999.000,9, -999.000,9,-999.0000,9,  -999.00,9,   -999.0,9,   -999.0,9,   -999.0,9,   -999.0,9,   -999.0,9, -999.00,  -999.0,-999.0000,-999.000,  2.1247,-999.000
   31WTTUNES_2,  P17S,   161,  1,     26,     26,2,19910802,0500,-24.2117,-132.6750, 3790,   2009.2,   2.0549,  34.6337,2,  34.6332,2,    152.9,2,    154.1,2,   118.65,2,    35.52,2,     0.00,2,     2.51,2, -999.000,9, -999.000,9, -999.000,9,-999.0000,9,  -999.00,9,   -999.0,9,   -999.0,9,   -999.0,9,   -999.0,9,   -999.0,9, -999.00,  -999.0,-999.0000,-999.000,  1.9168,-999.000
   31WTTUNES_2,  P17S,   161,  1,     27,     27,2,19910802,0500,-24.2117,-132.6750, 3790,   2205.1,   1.9324,  34.6467,2,  34.6466,2,    156.9,2,    156.8,2,   122.30,2,    35.42,2,     0.00,2,     2.49,2, -999.000,9, -999.000,9, -999.000,9,-999.0000,9,  -999.00,9,   -999.0,9,   -999.0,9,   -999.0,9,   -999.0,9,   -999.0,9, -999.00,  -999.0,-999.0000,-999.000,  1.7795,-999.000
   31WTTUNES_2,  P17S,   161,  1,     28,     28,2,19910802,0500,-24.2117,-132.6750, 3790,   2403.9,   1.8605,  34.6544,2,  34.6544,2,    158.4,2,    157.8,2,   123.31,2,    35.27,2,     0.00,2,     2.48,2, -999.000,9, -999.000,9, -999.000,9,-999.0000,9,  -999.00,9,   -999.0,9,   -999.0,9,   -999.0,9,   -999.0,9,   -999.0,9, -999.00,  -999.0,-999.0000,-999.000,  1.6914,-999.000
   31WTTUNES_2,  P17S,   161,  1,     29,     29,2,19910802,0500,-24.2117,-132.6750, 3790,   2624.8,   1.7709,  34.6630,2,  34.6629,2,    161.9,2,    162.0,2,   124.73,2,    35.01,2,     0.00,2,     2.46,2, -999.000,9, -999.000,9, -999.000,9,-999.0000,9,  -999.00,9,   -999.0,9,   -999.0,9,   -999.0,9,   -999.0,9,   -999.0,9, -999.00,  -999.0,-999.0000,-999.000,  1.5835,-999.000
   31WTTUNES_2,  P17S,   161,  1,     30,     30,2,19910802,0500,-24.2117,-132.6750, 3790,   2830.5,   1.6977,  34.6700,2,  34.6709,2,    164.7,2,    165.1,2,   126.15,2,    34.81,2,     0.00,2,     2.44,2, -999.000,9, -999.000,9, -999.000,9,-999.0000,9,  -999.00,9,   -999.0,9,   -999.0,9,   -999.0,9,   -999.0,9,   -999.0,9, -999.00,  -999.0,-999.0000,-999.000,  1.4927,-999.000
   31WTTUNES_2,  P17S,   161,  1,     31,     31,2,19910802,0500,-24.2117,-132.6750, 3790,   3043.9,   1.6387,  34.6757,2,  34.6752,2,    169.5,2,    168.6,2,   126.14,2,    34.60,2,     0.00,2,     2.43,2, -999.000,9, -999.000,9, -999.000,9,-999.0000,9,  -999.00,9,   -999.0,9,   -999.0,9,   -999.0,9,   -999.0,9,   -999.0,9, -999.00,  -999.0,-999.0000,-999.000,  1.4146,-999.000
   31WTTUNES_2,  P17S,   161,  1,     32,     32,2,19910802,0500,-24.2117,-132.6750, 3790,   3255.7,   1.6134,  34.6793,2,  34.6782,2,    169.7,2,    170.5,2,   126.12,2,    34.40,2,     0.00,2,     2.42,2, -999.000,9, -999.000,9, -999.000,9,-999.0000,9,  -999.00,9,   -999.0,9,   -999.0,9,   -999.0,9,   -999.0,9,   -999.0,9, -999.00,  -999.0,-999.0000,-999.000,  1.3691,-999.000
   31WTTUNES_2,  P17S,   161,  1,     33,     33,2,19910802,0500,-24.2117,-132.6750, 3790,   3462.1,   1.5842,  34.6826,2,  34.6848,3,    171.5,2,    172.8,2,   126.31,2,    34.30,2,     0.00,2,     2.41,2, -999.000,9, -999.000,9, -999.000,9,-999.0000,9,  -999.00,9,   -999.0,9,   -999.0,9,   -999.0,9,   -999.0,9,   -999.0,9, -999.00,  -999.0,-999.0000,-999.000,  1.3198,-999.000
   31WTTUNES_2,  P17S,   161,  1,     34,     34,2,19910802,0500,-24.2117,-132.6750, 3790,   3665.3,   1.5947,  34.6831,2,  34.6829,2,    171.6,2,    173.2,2,   125.89,2,    34.30,2,     0.00,2,     2.40,2, -999.000,9, -999.000,9, -999.000,9,-999.0000,9,  -999.00,9,   -999.0,9,   -999.0,9,   -999.0,9,   -999.0,9,   -999.0,9, -999.00,  -999.0,-999.0000,-999.000,  1.3090,-999.000
   31WTTUNES_2,  P17S,   161,  1,     35,     35,2,19910802,0500,-24.2117,-132.6750, 3790,   3665.4,   1.5946,  34.6829,2,  34.6821,2,    171.6,2,    173.3,2,   125.88,2,    34.31,2,     0.00,2,     2.41,2, -999.000,9, -999.000,9, -999.000,9,-999.0000,9,  -999.00,9,   -999.0,9,   -999.0,9,   -999.0,9,   -999.0,9,   -999.0,9, -999.00,  -999.0,-999.0000,-999.000,  1.3089,-999.000
   31WTTUNES_2,  P17S,   161,  1,     38,     38,2,19910802,0500,-24.2117,-132.6750, 3790,   3859.2,   1.6128,  34.6840,2,  34.6829,2,    174.6,2,    173.2,2,   126.07,2,    34.31,2,     0.00,2,     2.41,2, -999.000,9, -999.000,9, -999.000,9,-999.0000,9,  -999.00,9,   -999.0,9,   -999.0,9,   -999.0,9,   -999.0,9,   -999.0,9, -999.00,  -999.0,-999.0000,-999.000,  1.3060,-999.000