BOTTLE,20131125MIRCJHATS
EXPOCODE,SECT_ID,STNNBR,CASTNO,SAMPNO,BTLNBR,BTLNBR_FLAG_W,DATE,TIME,LATITUDE,LONGITUDE,DEPTH,CTDPRS,CTDTMP,CTDSAL,CTDSAL_FLAG_W,SALNTY,SALNTY_FLAG_W,CTDOXY,CTDOXY_FLAG_W,OXYGEN,OXYGEN_FLAG_W,SILCAT,SILCAT_FLAG_W,NITRAT,NITRAT_FLAG_W,NITRIT,NITRIT_FLAG_W,PHSPHT,PHSPHT_FLAG_W,CFC-11,CFC-11_FLAG_W,CFC-12,CFC-12_FLAG_W,TRITUM,TRITUM_FLAG_W,HELIUM,HELIUM_FLAG_W,DELHE3,DELHE3_FLAG_W,DELC14,DELC14_FLAG_W,DELC13,DELC13_FLAG_W,TCARBN,TCARBN_FLAG_W,PCO2,PCO2_FLAG_W,ALKALI,ALKALI_FLAG_W,PCO2TMP,C14ERR,HELIER,DELHER,THETA,TRITER
,,,,,,,,,,,,DBAR,ITS-90,PSS-78,,PSS-78,,UMOL/KG,,UMOL/KG,,UMOL/KG,,UMOL/KG,,UMOL/KG,,UMOL/KG,,PMOL/KG,,PMOL/KG,,TU,,NMOL/KG,,PERCNT,,/MILLE,,/MILLE,,UMOL/KG,,UATM,,UMOL/KG,,DEG C,/MILLE,NMOL/KG,PERCNT,DEG C,TU
   31WTTUNES_2,  P17S,   125,  1,      1,      1,2,19910722,0550, -6.5117,-135.0117, 4451,      0.4,  27.4609,  35.2375,2,  35.2410,2,   -999.0,9,    214.1,2,     2.54,2,     4.98,2,     0.09,2,     0.55,2,    1.643,2,    0.950,8, -999.000,9,-999.0000,9,  -999.00,9,     79.5,2,   -999.0,9,   2002.6,2,    302.2,2,   -999.0,9,   20.00,     4.0,-999.0000,-999.000, 27.4608,-999.000
   31WTTUNES_2,  P17S,   125,  1,      2,      2,2,19910722,0550, -6.5117,-135.0117, 4451,     51.8,  27.4709,  35.2379,2,  35.2422,2,    208.8,6,    213.3,2,     2.44,2,     4.98,2,     0.09,2,     0.54,2,    1.632,2,    0.948,8, -999.000,9,-999.0000,9,  -999.00,9,   -999.0,9,   -999.0,9,   -999.0,9,   -999.0,9,   -999.0,9, -999.00,  -999.0,-999.0000,-999.000, 27.4589,-999.000
   31WTTUNES_2,  P17S,   125,  1,      3,      3,2,19910722,0550, -6.5117,-135.0117, 4451,     77.8,  27.4639,  35.2396,2,  35.2432,2,    212.1,6,    211.5,2,     2.44,2,     4.98,2,     0.09,2,     0.55,2,    1.625,2,    0.968,2, -999.000,9,-999.0000,9,  -999.00,9,   -999.0,9,   -999.0,9,   -999.0,9,   -999.0,9,   -999.0,9, -999.00,  -999.0,-999.0000,-999.000, 27.4458,-999.000
   31WTTUNES_2,  P17S,   125,  1,      4,      4,2,19910722,0550, -6.5117,-135.0117, 4451,     97.8,  27.3999,  35.2726,2,  35.2769,2,    200.1,6,    216.3,2,     2.44,2,     4.98,2,     0.09,2,     0.55,2,    1.661,2,    0.956,2, -999.000,9,-999.0000,9,  -999.00,9,     78.3,2,      1.3,2,   -999.0,9,   -999.0,9,   -999.0,9, -999.00,     4.0,-999.0000,-999.000, 27.3772,-999.000
   31WTTUNES_2,  P17S,   125,  1,      5,      5,2,19910722,0550, -6.5117,-135.0117, 4451,    114.0,  26.0655,  35.9838,2,  35.9760,2,    191.2,2,    195.1,2,     1.95,2,     3.32,2,     0.21,2,     0.62,2,    1.741,2,    1.008,2, -999.000,9,-999.0000,9,  -999.00,9,   -999.0,9,   -999.0,9,   -999.0,9,   -999.0,9,   -999.0,9, -999.00,  -999.0,-999.0000,-999.000, 26.0400,-999.000
   31WTTUNES_2,  P17S,   125,  1,      6,      6,2,19910722,0550, -6.5117,-135.0117, 4451,    128.4,  24.4242,  36.1113,2,  36.0956,2,    187.7,2,    181.6,2,     1.95,2,     2.54,2,     2.66,2,     0.64,2,    1.805,2,    1.062,8, -999.000,9,-999.0000,9,  -999.00,9,     77.5,2,      1.4,2,   -999.0,9,   -999.0,9,   -999.0,9, -999.00,     4.1,-999.0000,-999.000, 24.3967,-999.000
   31WTTUNES_2,  P17S,   125,  1,      7,      7,2,19910722,0550, -6.5117,-135.0117, 4451,    155.1,  20.3657,  35.8040,2,  35.8307,2,    161.6,2,    161.1,2,     1.95,2,     7.23,2,     0.22,2,     0.76,2,    1.902,2,    1.049,8, -999.000,9,-999.0000,9,  -999.00,9,   -999.0,9,   -999.0,9,   -999.0,9,   -999.0,9,   -999.0,9, -999.00,  -999.0,-999.0000,-999.000, 20.3366,-999.000
   31WTTUNES_2,  P17S,   125,  1,      8,      8,2,19910722,0550, -6.5117,-135.0117, 4451,    180.2,  16.2219,  35.2813,2,  35.2318,2,    101.1,2,     76.7,2,     8.89,2,    18.66,2,     0.04,2,     1.60,2,    1.195,2,    0.728,2, -999.000,9,-999.0000,9,  -999.00,9,   -999.0,9,   -999.0,9,   -999.0,9,   -999.0,9,   -999.0,9, -999.00,  -999.0,-999.0000,-999.000, 16.1931,-999.000
   31WTTUNES_2,  P17S,   125,  1,      9,      9,2,19910722,0550, -6.5117,-135.0117, 4451,    206.9,  13.6244,  34.9699,2,  34.9701,2,      2.6,2,      2.4,2,    22.08,2,    25.21,2,     0.04,2,     2.41,2,    0.485,2,    0.283,2, -999.000,9,-999.0000,9,  -999.00,9,     -2.1,2,     -0.1,2,   -999.0,9,   -999.0,9,   -999.0,9, -999.00,     4.8,-999.0000,-999.000, 13.5950,-999.000
   31WTTUNES_2,  P17S,   125,  1,     10,     10,2,19910722,0550, -6.5117,-135.0117, 4451,    267.7,  11.7419,  34.8611,2,  34.8580,2,     24.5,2,     24.6,2,    25.02,2,    31.66,2,     0.00,2,     2.32,2,    0.152,2,    0.102,2, -999.000,9,-999.0000,9,  -999.00,9,    -35.7,2,      0.2,2,   -999.0,9,   -999.0,9,   -999.0,9, -999.00,     4.8,-999.0000,-999.000, 11.7074,-999.000
   31WTTUNES_2,  P17S,   125,  1,     11,     11,2,19910722,0550, -6.5117,-135.0117, 4451,    307.9,  11.1131,  34.8193,2,  34.8195,2,     25.4,2,     24.6,2,    27.66,2,    32.74,2,     0.01,2,     2.37,2,    0.102,2,    0.070,2, -999.000,9,-999.0000,9,  -999.00,9,    -51.2,2,      0.1,2,   -999.0,9,   -999.0,9,   -999.0,9, -999.00,     7.3,-999.0000,-999.000, 11.0748,-999.000
   31WTTUNES_2,  P17S,   125,  1,     12,     12,2,19910722,0550, -6.5117,-135.0117, 4451,    368.5,  10.1704,  34.7582,2,  34.7583,2,     18.2,2,     18.3,2,    32.35,2,    35.09,2,     0.05,2,     2.56,2,    0.042,2,    0.037,2, -999.000,9,-999.0000,9,  -999.00,9,    -69.2,2,      0.1,2,   -999.0,9,   -999.0,9,   -999.0,9, -999.00,     3.7,-999.0000,-999.000, 10.1269,-999.000
   31WTTUNES_2,  P17S,   125,  1,     13,     13,2,19910722,0550, -6.5117,-135.0117, 4451,    430.7,   9.3107,  34.7046,2,  34.7031,2,     20.6,2,     32.1,2,    34.11,2,    35.97,2,     0.00,2,     2.56,2,    0.027,2,    0.025,2, -999.000,9,-999.0000,9,  -999.00,9,    -84.3,2,      0.1,2,   -999.0,9,   -999.0,9,   -999.0,9, -999.00,     4.6,-999.0000,-999.000,  9.2625,-999.000
   31WTTUNES_2,  P17S,   125,  1,     14,     14,2,19910722,0550, -6.5117,-135.0117, 4451,    492.1,   8.4551,  34.6518,2,  34.6506,2,     43.7,2,     41.3,2,    37.53,2,    37.14,2,     0.03,2,     2.63,2,    0.016,2,    0.010,2, -999.000,9,-999.0000,9,  -999.00,9,   -105.8,2,   -999.0,9,   -999.0,9,   -999.0,9,   -999.0,9, -999.00,     5.3,-999.0000,-999.000,  8.4029,-999.000
   31WTTUNES_2,  P17S,   125,  1,     15,     15,2,19910722,0550, -6.5117,-135.0117, 4451,    552.5,   7.6864,  34.6073,2,  34.6057,2,     67.1,2,     63.3,2,    39.29,2,    36.75,2,     0.01,2,     2.58,2,    0.013,2,    0.017,3, -999.000,9,-999.0000,9,  -999.00,9,    -80.9,4,      0.3,2,   -999.0,9,   -999.0,9,   -999.0,9, -999.00,     3.8,-999.0000,-999.000,  7.6308,-999.000
   31WTTUNES_2,  P17S,   125,  1,     16,     16,2,19910722,0550, -6.5117,-135.0117, 4451,    613.9,   7.1327,  34.5773,2,  34.5776,2,     74.0,2,     73.4,2,    42.03,2,    37.05,2,     0.00,2,     2.59,2,    0.011,2,    0.007,2, -999.000,9,-999.0000,9,  -999.00,9,   -114.4,2,      0.4,2,   -999.0,9,   -999.0,9,   -999.0,9, -999.00,     5.2,-999.0000,-999.000,  7.0732,-999.000
   31WTTUNES_2,  P17S,   125,  1,     17,     17,2,19910722,0550, -6.5117,-135.0117, 4451,    734.6,   6.1372,  34.5466,2,  34.5491,2,     63.3,2,     70.4,2,    54.06,2,    39.39,2,     0.02,2,     2.78,2,    0.003,2,    0.004,2, -999.000,9,-999.0000,9,  -999.00,9,   -143.3,2,   -999.0,9,   -999.0,9,   -999.0,9,   -999.0,9, -999.00,     4.0,-999.0000,-999.000,  6.0710,-999.000
   31WTTUNES_2,  P17S,   125,  1,     18,     18,2,19910722,0550, -6.5117,-135.0117, 4451,    918.5,   4.8959,  34.5345,2,  34.5361,2,     89.1,2,     89.2,2,    71.85,2,    39.00,2,     0.01,2,     2.78,2, -999.000,5, -999.000,5, -999.000,9,-999.0000,9,  -999.00,9,   -171.0,2,      0.1,2,   -999.0,9,   -999.0,9,   -999.0,9, -999.00,     9.0,-999.0000,-999.000,  4.8206,-999.000
   31WTTUNES_2,  P17S,   125,  1,     19,     19,2,19910722,0550, -6.5117,-135.0117, 4451,   1121.3,   4.0943,  34.5564,2,  34.5558,2,     95.5,2,     93.2,2,    90.42,2,    39.20,2,     0.00,2,     2.82,2, -999.000,9, -999.000,9, -999.000,9,-999.0000,9,  -999.00,9,   -204.7,3,      0.1,2,   -999.0,9,   -999.0,9,   -999.0,9, -999.00,    10.2,-999.0000,-999.000,  4.0076,-999.000
   31WTTUNES_2,  P17S,   125,  1,     20,     20,2,19910722,0550, -6.5117,-135.0117, 4451,   1326.3,   3.5087,  34.5722,2,  34.5754,2,    104.6,2,    104.0,2,   101.95,2,    38.51,2,     0.00,2,     2.76,2, -999.000,9, -999.000,9, -999.000,9,-999.0000,9,  -999.00,9,   -999.0,9,   -999.0,9,   -999.0,9,   -999.0,9,   -999.0,9, -999.00,  -999.0,-999.0000,-999.000,  3.4099,-999.000
   31WTTUNES_2,  P17S,   125,  1,     21,     21,2,19910722,0550, -6.5117,-135.0117, 4451,   1529.7,   3.0919,  34.5914,2,  34.5913,2,    107.9,2,    107.1,2,   112.12,2,    38.51,2,     0.00,2,     2.76,2, -999.000,9, -999.000,9, -999.000,9,-999.0000,9,  -999.00,9,   -999.0,9,   -999.0,9,   -999.0,9,   -999.0,9,   -999.0,9, -999.00,  -999.0,-999.0000,-999.000,  2.9805,-999.000
   31WTTUNES_2,  P17S,   125,  1,     22,     22,2,19910722,0550, -6.5117,-135.0117, 4451,   1736.5,   2.6462,  34.6164,2,  34.6173,2,    107.2,2,    106.1,2,   126.88,2,    38.81,2,     0.00,2,     2.79,2, -999.000,9, -999.000,9, -999.000,9,-999.0000,9,  -999.00,9,   -999.0,9,   -999.0,9,   -999.0,9,   -999.0,9,   -999.0,9, -999.00,  -999.0,-999.0000,-999.000,  2.5228,-999.000
   31WTTUNES_2,  P17S,   125,  1,     23,     23,2,19910722,0550, -6.5117,-135.0117, 4451,   1941.4,   2.3504,  34.6327,2,  34.6348,2,    113.7,2,    115.0,2,   133.42,2,    37.63,2,     0.01,2,     2.72,2, -999.000,9, -999.000,9, -999.000,9,-999.0000,9,  -999.00,9,   -999.0,9,   -999.0,9,   -999.0,9,   -999.0,9,   -999.0,9, -999.00,  -999.0,-999.0000,-999.000,  2.2137,-999.000
   31WTTUNES_2,  P17S,   125,  1,     24,     24,2,19910722,0550, -6.5117,-135.0117, 4451,   2147.9,   2.1276,  34.6457,2,  34.6470,2,    122.6,2,    123.1,2,   136.94,2,    37.53,2,     0.01,2,     2.67,2, -999.000,9, -999.000,9, -999.000,9,-999.0000,9,  -999.00,9,   -999.0,9,   -999.0,9,   -999.0,9,   -999.0,9,   -999.0,9, -999.00,  -999.0,-999.0000,-999.000,  1.9765,-999.000
   31WTTUNES_2,  P17S,   125,  1,     25,     25,2,19910722,0550, -6.5117,-135.0117, 4451,   2354.7,   1.9867,  34.6569,2,  34.6582,2,    126.1,2,    126.3,2,   141.44,2,    37.44,2,     0.00,2,     2.64,2, -999.000,9, -999.000,9, -999.000,9,-999.0000,9,  -999.00,9,   -999.0,9,   -999.0,9,   -999.0,9,   -999.0,9,   -999.0,9, -999.00,  -999.0,-999.0000,-999.000,  1.8197,-999.000
   31WTTUNES_2,  P17S,   125,  1,     26,     26,2,19910722,0550, -6.5117,-135.0117, 4451,   2562.1,   1.8628,  34.6669,2,  34.6662,2,    133.1,2,    134.5,2,   142.02,2,    36.75,2,     0.01,2,     2.58,2, -999.000,9, -999.000,9, -999.000,9,-999.0000,9,  -999.00,9,   -999.0,9,   -999.0,9,   -999.0,9,   -999.0,9,   -999.0,9, -999.00,  -999.0,-999.0000,-999.000,  1.6793,-999.000
   31WTTUNES_2,  P17S,   125,  1,     27,     27,2,19910722,0550, -6.5117,-135.0117, 4451,   2769.7,   1.7818,  34.6729,2,  34.6731,2,    138.0,2,    138.2,2,   144.56,2,    36.65,2,     0.01,2,     2.56,2, -999.000,9, -999.000,9, -999.000,9,-999.0000,9,  -999.00,9,   -999.0,9,   -999.0,9,   -999.0,9,   -999.0,9,   -999.0,9, -999.00,  -999.0,-999.0000,-999.000,  1.5808,-999.000
   31WTTUNES_2,  P17S,   125,  1,     28,     28,2,19910722,0550, -6.5117,-135.0117, 4451,   2975.9,   1.6989,  34.6769,2,-999.0000,9,    145.3,2,    146.5,2,   143.29,2,    36.07,2,     0.00,2,     2.54,2, -999.000,9, -999.000,9, -999.000,9,-999.0000,9,  -999.00,9,   -999.0,9,   -999.0,9,   -999.0,9,   -999.0,9,   -999.0,9, -999.00,  -999.0,-999.0000,-999.000,  1.4800,-999.000
   31WTTUNES_2,  P17S,   125,  1,     29,     29,2,19910722,0550, -6.5117,-135.0117, 4451,   3179.7,   1.6019,  34.6811,2,  34.6833,2,    149.2,2,    149.4,2,   146.12,2,    35.87,2,     0.01,2,     2.52,2, -999.000,9, -999.000,9, -999.000,9,-999.0000,9,  -999.00,9,   -999.0,9,   -999.0,9,   -999.0,9,   -999.0,9,   -999.0,9, -999.00,  -999.0,-999.0000,-999.000,  1.3654,-999.000
   31WTTUNES_2,  P17S,   125,  1,     30,     30,2,19910722,0550, -6.5117,-135.0117, 4451,   3380.1,   1.5380,  34.6850,2,  34.6853,2,    154.7,2,    154.7,2,   144.85,2,    35.58,2,     0.00,2,     2.49,2, -999.000,9, -999.000,9, -999.000,9,-999.0000,9,  -999.00,9,   -999.0,9,   -999.0,9,   -999.0,9,   -999.0,9,   -999.0,9, -999.00,  -999.0,-999.0000,-999.000,  1.2830,-999.000
   31WTTUNES_2,  P17S,   125,  1,     31,     31,2,19910722,0550, -6.5117,-135.0117, 4451,   3579.5,   1.4910,  34.6873,2,  34.6883,2,    158.0,2,    157.7,2,   144.85,2,    35.28,2,     0.00,2,     2.45,2, -999.000,9, -999.000,9, -999.000,9,-999.0000,9,  -999.00,9,   -999.0,9,   -999.0,9,   -999.0,9,   -999.0,9,   -999.0,9, -999.00,  -999.0,-999.0000,-999.000,  1.2169,-999.000
   31WTTUNES_2,  P17S,   125,  1,     32,     32,2,19910722,0550, -6.5117,-135.0117, 4451,   3779.8,   1.4570,  34.6903,2,  34.6890,2,    161.6,2,    163.1,2,   142.41,2,    35.09,2,     0.00,2,     2.44,2, -999.000,9, -999.000,9, -999.000,9,-999.0000,9,  -999.00,9,   -999.0,9,   -999.0,9,   -999.0,9,   -999.0,9,   -999.0,9, -999.00,  -999.0,-999.0000,-999.000,  1.1629,-999.000
   31WTTUNES_2,  P17S,   125,  1,     33,     33,2,19910722,0550, -6.5117,-135.0117, 4451,   3979.4,   1.4261,  34.6930,2,  34.6926,2,    168.6,2,    168.3,2,   139.87,2,    34.70,2,     0.00,2,     2.41,2,    0.002,2,    0.000,2, -999.000,9,-999.0000,9,  -999.00,9,   -999.0,9,   -999.0,9,   -999.0,9,   -999.0,9,   -999.0,9, -999.00,  -999.0,-999.0000,-999.000,  1.1114,-999.000
   31WTTUNES_2,  P17S,   125,  1,     34,     34,2,19910722,0550, -6.5117,-135.0117, 4451,   4181.1,   1.4161,  34.6947,2,  34.6952,2,    170.8,2,    171.6,2,   138.21,2,    34.40,2,     0.00,2,     2.39,2,    0.003,2,    0.012,3, -999.000,9,-999.0000,9,  -999.00,9,   -999.0,9,   -999.0,9,   -999.0,9,   -999.0,9,   -999.0,9, -999.00,  -999.0,-999.0000,-999.000,  1.0796,-999.000
   31WTTUNES_2,  P17S,   125,  1,     35,     35,2,19910722,0550, -6.5117,-135.0117, 4451,   4381.2,   1.4291,  34.6962,2,  34.6944,2,    173.5,2,    172.0,2,   137.72,2,    34.31,2,     0.00,2,     2.38,2, -999.000,9, -999.000,9, -999.000,9,-999.0000,9,  -999.00,9,   -999.0,9,   -999.0,9,   -999.0,9,   -999.0,9,   -999.0,9, -999.00,  -999.0,-999.0000,-999.000,  1.0698,-999.000
   31WTTUNES_2,  P17S,   125,  1,     36,     36,2,19910722,0550, -6.5117,-135.0117, 4451,   4536.4,   1.4410,  34.6961,2,  34.6944,2,   -999.0,9,    172.3,2,   137.72,2,    34.11,2,     0.01,2,     2.38,2, -999.000,9, -999.000,9, -999.000,9,-999.0000,9,  -999.00,9,   -999.0,9,   -999.0,9,   -999.0,9,   -999.0,9,   -999.0,9, -999.00,  -999.0,-999.0000,-999.000,  1.0636,-999.000