BOTTLE,20131125MIRCJHATS
EXPOCODE,SECT_ID,STNNBR,CASTNO,SAMPNO,BTLNBR,BTLNBR_FLAG_W,DATE,TIME,LATITUDE,LONGITUDE,DEPTH,CTDPRS,CTDTMP,CTDSAL,CTDSAL_FLAG_W,SALNTY,SALNTY_FLAG_W,CTDOXY,CTDOXY_FLAG_W,OXYGEN,OXYGEN_FLAG_W,SILCAT,SILCAT_FLAG_W,NITRAT,NITRAT_FLAG_W,NITRIT,NITRIT_FLAG_W,PHSPHT,PHSPHT_FLAG_W,CFC-11,CFC-11_FLAG_W,CFC-12,CFC-12_FLAG_W,TRITUM,TRITUM_FLAG_W,HELIUM,HELIUM_FLAG_W,DELHE3,DELHE3_FLAG_W,DELC14,DELC14_FLAG_W,DELC13,DELC13_FLAG_W,TCARBN,TCARBN_FLAG_W,PCO2,PCO2_FLAG_W,ALKALI,ALKALI_FLAG_W,PCO2TMP,C14ERR,HELIER,DELHER,THETA,TRITER
,,,,,,,,,,,,DBAR,ITS-90,PSS-78,,PSS-78,,UMOL/KG,,UMOL/KG,,UMOL/KG,,UMOL/KG,,UMOL/KG,,UMOL/KG,,PMOL/KG,,PMOL/KG,,TU,,NMOL/KG,,PERCNT,,/MILLE,,/MILLE,,UMOL/KG,,UATM,,UMOL/KG,,DEG C,/MILLE,NMOL/KG,PERCNT,DEG C,TU
   31WTTUNES_2,  P17S,   173,  1,     61,     61,2,19910806,0935,-30.0450,-134.2000, 4191,      2.9,  17.6833,  35.3517,2,  35.3545,2,    233.8,3,    236.0,2,     1.27,2,     0.10,2,     0.00,2,     0.11,2,    2.418,6,    1.292,6, -999.000,9,-999.0000,9,  -999.00,9,   -999.0,9,   -999.0,9,   2023.9,2,    331.1,2,   -999.0,9,   20.00,  -999.0,-999.0000,-999.000, 17.6828,-999.000
   31WTTUNES_2,  P17S,   173,  1,      2,      2,2,19910806,0935,-30.0450,-134.2000, 4191,     29.6,  17.6533,  35.3512,2,  35.3515,2,    235.6,2,    235.4,2,     1.07,2,     0.10,2,     0.00,2,     0.11,2, -999.000,9, -999.000,9, -999.000,9,-999.0000,9,  -999.00,9,   -999.0,9,   -999.0,9,   -999.0,9,   -999.0,9,   -999.0,9, -999.00,  -999.0,-999.0000,-999.000, 17.6483,-999.000
   31WTTUNES_2,  P17S,   173,  1,      3,      3,2,19910806,0935,-30.0450,-134.2000, 4191,     54.9,  17.6213,  35.3478,2,  35.3407,2,    233.3,6,    235.5,2,     1.07,2,     0.10,2,     0.00,2,     0.11,2,    2.413,2,    1.309,2, -999.000,9,-999.0000,9,  -999.00,9,   -999.0,9,   -999.0,9,   -999.0,9,   -999.0,9,   -999.0,9, -999.00,  -999.0,-999.0000,-999.000, 17.6120,-999.000
   31WTTUNES_2,  P17S,   173,  1,      4,      4,2,19910806,0935,-30.0450,-134.2000, 4191,     80.7,  17.4132,  35.3057,2,  35.3040,2,    237.6,2,    236.2,2,     1.07,2,     0.10,2,     0.00,2,     0.11,2, -999.000,9, -999.000,9, -999.000,9,-999.0000,9,  -999.00,9,   -999.0,9,   -999.0,9,   -999.0,9,   -999.0,9,   -999.0,9, -999.00,  -999.0,-999.0000,-999.000, 17.3997,-999.000
   31WTTUNES_2,  P17S,   173,  1,      5,      5,2,19910806,0935,-30.0450,-134.2000, 4191,    106.4,  17.1231,  35.2442,2,  35.2396,2,    236.2,6,    234.1,2,     1.07,2,     0.20,2,     0.00,2,     0.14,2,    2.453,2,    1.304,2, -999.000,9,-999.0000,9,  -999.00,9,   -999.0,9,   -999.0,9,   -999.0,9,   -999.0,9,   -999.0,9, -999.00,  -999.0,-999.0000,-999.000, 17.1055,-999.000
   31WTTUNES_2,  P17S,   173,  1,      6,      6,2,19910806,0935,-30.0450,-134.2000, 4191,    132.2,  16.6230,  35.2051,2,  35.2051,2,    225.1,2,    224.9,2,     1.07,2,     0.88,2,     0.04,2,     0.22,2, -999.000,9, -999.000,9, -999.000,9,-999.0000,9,  -999.00,9,   -999.0,9,   -999.0,9,   -999.0,9,   -999.0,9,   -999.0,9, -999.00,  -999.0,-999.0000,-999.000, 16.6015,-999.000
   31WTTUNES_2,  P17S,   173,  1,      7,      7,2,19910806,0935,-30.0450,-134.2000, 4191,    158.3,  16.2269,  35.2528,2,  35.2508,2,    214.7,2,    214.3,2,     1.27,2,     2.15,2,     0.02,2,     0.32,2,    2.016,2,    1.211,2, -999.000,9,-999.0000,9,  -999.00,9,   -999.0,9,   -999.0,9,   -999.0,9,   -999.0,9,   -999.0,9, -999.00,  -999.0,-999.0000,-999.000, 16.2016,-999.000
   31WTTUNES_2,  P17S,   173,  1,     68,     68,2,19910806,0935,-30.0450,-134.2000, 4191,    183.4,  15.4698,  35.1979,2,  35.1930,2,    214.0,2,    210.7,2,     1.47,2,     3.52,2,     0.01,2,     0.40,2, -999.000,9, -999.000,9, -999.000,9,-999.0000,9,  -999.00,9,   -999.0,9,   -999.0,9,   -999.0,9,   -999.0,9,   -999.0,9, -999.00,  -999.0,-999.0000,-999.000, 15.4414,-999.000
   31WTTUNES_2,  P17S,   173,  1,     69,     69,2,19910806,0935,-30.0450,-134.2000, 4191,    209.0,  14.9417,  35.1670,2,  35.1670,2,    209.0,2,    206.7,2,     1.66,2,     4.89,2,     0.00,2,     0.47,2,    2.096,2,    1.107,2, -999.000,9,-999.0000,9,  -999.00,9,   -999.0,9,   -999.0,9,   -999.0,9,   -999.0,9,   -999.0,9, -999.00,  -999.0,-999.0000,-999.000, 14.9101,-999.000
   31WTTUNES_2,  P17S,   173,  1,     70,     70,2,19910806,0935,-30.0450,-134.2000, 4191,    260.9,  13.7895,  35.0744,2,  35.0675,2,    199.7,2,    198.4,2,     2.44,2,     8.31,2,     0.00,2,     0.67,2,    1.780,2,    0.943,2, -999.000,9,-999.0000,9,  -999.00,9,   -999.0,9,   -999.0,9,   -999.0,9,   -999.0,9,   -999.0,9, -999.00,  -999.0,-999.0000,-999.000, 13.7521,-999.000
   31WTTUNES_2,  P17S,   173,  1,     11,     11,2,19910806,0935,-30.0450,-134.2000, 4191,    311.8,  11.8273,  34.8269,2,  34.8281,2,    203.5,2,    199.8,2,     3.23,2,    12.12,2,     0.00,2,     0.91,2,    1.597,2,    0.838,2, -999.000,9,-999.0000,9,  -999.00,9,   -999.0,9,   -999.0,9,   -999.0,9,   -999.0,9,   -999.0,9, -999.00,  -999.0,-999.0000,-999.000, 11.7869,-999.000
   31WTTUNES_2,  P17S,   173,  1,     12,     12,2,19910806,0935,-30.0450,-134.2000, 4191,    363.0,  10.2872,  34.6575,2,  34.6500,2,    208.2,2,    204.4,2,     4.59,2,    15.54,2,     0.00,2,     1.14,2,    1.362,2,    0.728,2, -999.000,9,-999.0000,9,  -999.00,9,   -999.0,9,   -999.0,9,   -999.0,9,   -999.0,9,   -999.0,9, -999.00,  -999.0,-999.0000,-999.000, 10.2442,-999.000
   31WTTUNES_2,  P17S,   173,  1,     13,     13,2,19910806,0935,-30.0450,-134.2000, 4191,    439.0,   8.3903,  34.4798,2,  34.4761,2,    214.3,2,    215.8,2,     6.35,2,    19.65,2,     0.00,2,     1.39,2,    1.171,2,    0.610,2, -999.000,9,-999.0000,9,  -999.00,9,   -999.0,9,   -999.0,9,   -999.0,9,   -999.0,9,   -999.0,9, -999.00,  -999.0,-999.0000,-999.000,  8.3442,-999.000
   31WTTUNES_2,  P17S,   173,  1,     37,     37,2,19910806,0935,-30.0450,-134.2000, 4191,    515.6,   7.2473,  34.3962,2,  34.3951,2,    228.4,2,    230.9,2,     7.33,2,    21.61,2,     0.00,2,     1.52,2,    1.009,2,    0.604,2, -999.000,9,-999.0000,9,  -999.00,9,   -999.0,9,   -999.0,9,   -999.0,9,   -999.0,9,   -999.0,9, -999.00,  -999.0,-999.0000,-999.000,  7.1974,-999.000
   31WTTUNES_2,  P17S,   173,  1,     15,     15,2,19910806,0935,-30.0450,-134.2000, 4191,    591.9,   6.6254,  34.3533,2,  34.3525,2,    235.0,2,    235.1,2,     8.90,2,    23.07,2,     0.00,2,     1.60,2,    0.851,2,    0.453,2, -999.000,9,-999.0000,9,  -999.00,9,   -999.0,9,   -999.0,9,   -999.0,9,   -999.0,9,   -999.0,9, -999.00,  -999.0,-999.0000,-999.000,  6.5706,-999.000
   31WTTUNES_2,  P17S,   173,  1,     16,     16,2,19910806,0935,-30.0450,-134.2000, 4191,    668.6,   6.1614,  34.3255,2,  34.3246,2,    237.2,2,    237.6,2,    10.46,2,    24.15,2,     0.00,2,     1.67,2,    0.605,2,    0.334,2, -999.000,9,-999.0000,9,  -999.00,9,   -999.0,9,   -999.0,9,   -999.0,9,   -999.0,9,   -999.0,9, -999.00,  -999.0,-999.0000,-999.000,  6.1016,-999.000
   31WTTUNES_2,  P17S,   173,  1,     17,     17,2,19910806,0935,-30.0450,-134.2000, 4191,    770.8,   5.6315,  34.3010,2,  34.3010,2,    232.9,2,    231.7,2,    14.18,2,    25.91,2,     0.00,2,     1.79,2, -999.000,9, -999.000,9, -999.000,9,-999.0000,9,  -999.00,9,   -999.0,9,   -999.0,9,   -999.0,9,   -999.0,9,   -999.0,9, -999.00,  -999.0,-999.0000,-999.000,  5.5651,-999.000
   31WTTUNES_2,  P17S,   173,  1,     18,     18,2,19910806,0935,-30.0450,-134.2000, 4191,    873.7,   5.1606,  34.2965,2,  34.2977,2,    218.4,2,    219.6,2,    19.85,2,    27.96,2,     0.00,2,     1.94,2,    0.211,2,    0.125,2, -999.000,9,-999.0000,9,  -999.00,9,   -999.0,9,   -999.0,9,   -999.0,9,   -999.0,9,   -999.0,9, -999.00,  -999.0,-999.0000,-999.000,  5.0878,-999.000
   31WTTUNES_2,  P17S,   173,  1,     19,     19,2,19910806,0935,-30.0450,-134.2000, 4191,    976.2,   4.5897,  34.3127,2,  34.3169,2,    202.1,2,    200.2,2,    30.31,2,    30.60,2,     0.00,2,     2.12,2,    0.073,2,    0.049,2, -999.000,9,-999.0000,9,  -999.00,9,   -999.0,9,   -999.0,9,   -999.0,9,   -999.0,9,   -999.0,9, -999.00,  -999.0,-999.0000,-999.000,  4.5119,-999.000
   31WTTUNES_2,  P17S,   173,  1,     20,     20,2,19910806,0935,-30.0450,-134.2000, 4191,   1079.6,   4.0338,  34.3540,2,  34.3534,2,    187.6,2,    186.9,2,    41.45,2,    32.36,2,     0.00,2,     2.25,2,    0.032,2,    0.053,2, -999.000,9,-999.0000,9,  -999.00,9,   -999.0,9,   -999.0,9,   -999.0,9,   -999.0,9,   -999.0,9, -999.00,  -999.0,-999.0000,-999.000,  3.9514,-999.000
   31WTTUNES_2,  P17S,   173,  1,     21,     21,2,19910806,0935,-30.0450,-134.2000, 4191,   1232.8,   3.4209,  34.4268,2,  34.4267,2,    170.5,2,    171.9,2,    59.05,2,    33.92,2,     0.00,2,     2.39,2,    0.004,2,    0.023,2, -999.000,9,-999.0000,9,  -999.00,9,   -999.0,9,   -999.0,9,   -999.0,9,   -999.0,9,   -999.0,9, -999.00,  -999.0,-999.0000,-999.000,  3.3311,-999.000
   31WTTUNES_2,  P17S,   173,  1,     22,     22,2,19910806,0935,-30.0450,-134.2000, 4191,   1439.1,   2.8370,  34.5173,2,  34.5157,2,    165.4,2,    163.3,2,    80.16,2,    34.60,2,     0.00,2,     2.44,2, -999.000,9, -999.000,9, -999.000,9,-999.0000,9,  -999.00,9,   -999.0,9,   -999.0,9,   -999.0,9,   -999.0,9,   -999.0,9, -999.00,  -999.0,-999.0000,-999.000,  2.7362,-999.000
   31WTTUNES_2,  P17S,   173,  1,     23,     23,2,19910806,0935,-30.0450,-134.2000, 4191,   1645.8,   2.4711,  34.5758,2,  34.5759,2,    157.5,2,    157.7,2,    97.36,2,    34.90,2,     0.00,2,     2.46,2, -999.000,9, -999.000,9, -999.000,9,-999.0000,9,  -999.00,9,   -999.0,9,   -999.0,9,   -999.0,9,   -999.0,9,   -999.0,9, -999.00,  -999.0,-999.0000,-999.000,  2.3576,-999.000
   31WTTUNES_2,  P17S,   173,  1,     24,     24,2,19910806,0935,-30.0450,-134.2000, 4191,   1852.8,   2.2291,  34.6130,2,  34.6125,2,    155.7,2,    153.9,2,   109.87,2,    34.99,2,     0.00,2,     2.48,2, -999.000,9, -999.000,9, -999.000,9,-999.0000,9,  -999.00,9,   -999.0,9,   -999.0,9,   -999.0,9,   -999.0,9,   -999.0,9, -999.00,  -999.0,-999.0000,-999.000,  2.1017,-999.000
   31WTTUNES_2,  P17S,   173,  1,     25,     25,2,19910806,0935,-30.0450,-134.2000, 4191,   2058.9,   2.0682,  34.6340,2,  34.6327,2,    151.7,2,    152.7,2,   117.49,2,    35.19,2,     0.00,2,     2.50,2, -999.000,9, -999.000,9, -999.000,9,-999.0000,9,  -999.00,9,   -999.0,9,   -999.0,9,   -999.0,9,   -999.0,9,   -999.0,9, -999.00,  -999.0,-999.0000,-999.000,  1.9257,-999.000
   31WTTUNES_2,  P17S,   173,  1,     26,     26,2,19910806,0935,-30.0450,-134.2000, 4191,   2265.8,   1.9522,  34.6460,2,  34.6448,2,    151.7,2,    152.6,2,   122.38,2,    35.29,2,     0.00,2,     2.50,2, -999.000,9, -999.000,9, -999.000,9,-999.0000,9,  -999.00,9,   -999.0,9,   -999.0,9,   -999.0,9,   -999.0,9,   -999.0,9, -999.00,  -999.0,-999.0000,-999.000,  1.7937,-999.000
   31WTTUNES_2,  P17S,   173,  1,     27,     27,2,19910806,0935,-30.0450,-134.2000, 4191,   2472.1,   1.8602,  34.6550,2,  34.6543,2,    153.4,2,    155.1,2,   125.70,2,    35.19,2,     0.00,2,     2.50,2, -999.000,9, -999.000,9, -999.000,9,-999.0000,9,  -999.00,9,   -999.0,9,   -999.0,9,   -999.0,9,   -999.0,9,   -999.0,9, -999.00,  -999.0,-999.0000,-999.000,  1.6851,-999.000
   31WTTUNES_2,  P17S,   173,  1,     28,     28,2,19910806,0935,-30.0450,-134.2000, 4191,   2679.9,   1.7723,  34.6628,2,  34.6625,2,    157.2,2,    157.5,2,   127.07,2,    34.89,2,     0.00,2,     2.47,2, -999.000,9, -999.000,9, -999.000,9,-999.0000,9,  -999.00,9,   -999.0,9,   -999.0,9,   -999.0,9,   -999.0,9,   -999.0,9, -999.00,  -999.0,-999.0000,-999.000,  1.5798,-999.000
   31WTTUNES_2,  P17S,   173,  1,     29,     29,2,19910806,0935,-30.0450,-134.2000, 4191,   2886.8,   1.7103,  34.6693,2,  34.6682,2,    160.3,2,    160.6,2,   127.75,2,    34.70,2,     0.00,2,     2.46,2, -999.000,9, -999.000,9, -999.000,9,-999.0000,9,  -999.00,9,   -999.0,9,   -999.0,9,   -999.0,9,   -999.0,9,   -999.0,9, -999.00,  -999.0,-999.0000,-999.000,  1.4997,-999.000
   31WTTUNES_2,  P17S,   173,  1,     30,     30,2,19910806,0935,-30.0450,-134.2000, 4191,   3094.2,   1.6513,  34.6739,2,  34.6729,2,    163.9,2,    164.2,2,   127.46,2,    34.50,2,     0.00,2,     2.44,2, -999.000,9, -999.000,9, -999.000,9,-999.0000,9,  -999.00,9,   -999.0,9,   -999.0,9,   -999.0,9,   -999.0,9,   -999.0,9, -999.00,  -999.0,-999.0000,-999.000,  1.4221,-999.000
   31WTTUNES_2,  P17S,   173,  1,     31,     31,2,19910806,0935,-30.0450,-134.2000, 4191,   3301.2,   1.6023,  34.6792,2,  34.6790,2,    167.4,2,    168.5,2,   127.26,2,    34.31,2,     0.00,2,     2.42,2, -999.000,9, -999.000,9, -999.000,9,-999.0000,9,  -999.00,9,   -999.0,9,   -999.0,9,   -999.0,9,   -999.0,9,   -999.0,9, -999.00,  -999.0,-999.0000,-999.000,  1.3537,-999.000
   31WTTUNES_2,  P17S,   173,  1,     32,     32,2,19910806,0935,-30.0450,-134.2000, 4191,   3509.6,   1.5613,  34.6830,2,  34.6823,2,    171.3,2,    172.2,2,   125.99,2,    33.92,2,     0.00,2,     2.39,2, -999.000,9, -999.000,9, -999.000,9,-999.0000,9,  -999.00,9,   -999.0,9,   -999.0,9,   -999.0,9,   -999.0,9,   -999.0,9, -999.00,  -999.0,-999.0000,-999.000,  1.2926,-999.000
   31WTTUNES_2,  P17S,   173,  1,     33,     33,2,19910806,0935,-30.0450,-134.2000, 4191,   3717.2,   1.5083,  34.6879,2,  34.6868,2,    176.2,2,    176.3,2,   125.60,2,    33.72,2,     0.00,2,     2.38,2, -999.000,9, -999.000,9, -999.000,9,-999.0000,9,  -999.00,9,   -999.0,9,   -999.0,9,   -999.0,9,   -999.0,9,   -999.0,9, -999.00,  -999.0,-999.0000,-999.000,  1.2194,-999.000
   31WTTUNES_2,  P17S,   173,  1,     34,     34,2,19910806,0935,-30.0450,-134.2000, 4191,   3925.2,   1.4653,  34.6920,2,  34.6919,2,    180.8,2,    180.4,2,   124.52,2,    33.53,2,     0.00,2,     2.37,2, -999.000,9, -999.000,9, -999.000,9,-999.0000,9,  -999.00,9,   -999.0,9,   -999.0,9,   -999.0,9,   -999.0,9,   -999.0,9, -999.00,  -999.0,-999.0000,-999.000,  1.1555,-999.000
   31WTTUNES_2,  P17S,   173,  1,     35,     35,2,19910806,0935,-30.0450,-134.2000, 4191,   4133.7,   1.4233,  34.6962,2,  34.6958,2,    184.2,2,    183.9,2,   124.33,2,    33.23,2,     0.00,2,     2.34,2, -999.000,9, -999.000,9, -999.000,9,-999.0000,9,  -999.00,9,   -999.0,9,   -999.0,9,   -999.0,9,   -999.0,9,   -999.0,9, -999.00,  -999.0,-999.0000,-999.000,  1.0919,-999.000
   31WTTUNES_2,  P17S,   173,  1,     38,     38,2,19910806,0935,-30.0450,-134.2000, 4191,   4247.9,   1.4253,  34.6967,2,  34.6966,2,    185.1,2,    184.7,2,   123.74,2,    33.13,2,     0.00,2,     2.32,2, -999.000,9, -999.000,9, -999.000,9,-999.0000,9,  -999.00,9,   -999.0,9,   -999.0,9,   -999.0,9,   -999.0,9,   -999.0,9, -999.00,  -999.0,-999.0000,-999.000,  1.0812,-999.000