BOTTLE,20131125MIRCJHATS
EXPOCODE,SECT_ID,STNNBR,CASTNO,SAMPNO,BTLNBR,BTLNBR_FLAG_W,DATE,TIME,LATITUDE,LONGITUDE,DEPTH,CTDPRS,CTDTMP,CTDSAL,CTDSAL_FLAG_W,SALNTY,SALNTY_FLAG_W,CTDOXY,CTDOXY_FLAG_W,OXYGEN,OXYGEN_FLAG_W,SILCAT,SILCAT_FLAG_W,NITRAT,NITRAT_FLAG_W,NITRIT,NITRIT_FLAG_W,PHSPHT,PHSPHT_FLAG_W,CFC-11,CFC-11_FLAG_W,CFC-12,CFC-12_FLAG_W,TRITUM,TRITUM_FLAG_W,HELIUM,HELIUM_FLAG_W,DELHE3,DELHE3_FLAG_W,DELC14,DELC14_FLAG_W,DELC13,DELC13_FLAG_W,TCARBN,TCARBN_FLAG_W,PCO2,PCO2_FLAG_W,ALKALI,ALKALI_FLAG_W,PCO2TMP,C14ERR,HELIER,DELHER,THETA,TRITER
,,,,,,,,,,,,DBAR,ITS-90,PSS-78,,PSS-78,,UMOL/KG,,UMOL/KG,,UMOL/KG,,UMOL/KG,,UMOL/KG,,UMOL/KG,,PMOL/KG,,PMOL/KG,,TU,,NMOL/KG,,PERCNT,,/MILLE,,/MILLE,,UMOL/KG,,UATM,,UMOL/KG,,DEG C,/MILLE,NMOL/KG,PERCNT,DEG C,TU
   31WTTUNES_2,  P16S,   202,  1,     61,     61,2,19910820,0418,-26.5100,-150.4967, 4750,      2.0,  19.8977,  35.5975,2,  35.6025,2,    223.0,3,    226.0,2,     1.37,2,     0.29,2,     0.00,2,     0.07,2,    2.167,2,    1.159,2, -999.000,9,-999.0000,9,  -999.00,9,    144.5,2,      1.3,2,   2010.6,2,    292.3,2,   -999.0,9,   20.00,     4.4,-999.0000,-999.000, 19.8974,-999.000
   31WTTUNES_2,  P16S,   202,  1,      2,      2,2,19910820,0418,-26.5100,-150.4967, 4750,     32.8,  19.5627,  35.5656,2,  35.5650,2,    228.4,2,    226.9,2,     1.37,2,     0.29,2,     0.00,2,     0.07,2,    2.208,2,    1.172,2, -999.000,9,-999.0000,9,  -999.00,9,   -999.0,9,   -999.0,9,   2015.4,2,    302.0,2,   -999.0,9,   20.00,  -999.0,-999.0000,-999.000, 19.5567,-999.000
   31WTTUNES_2,  P16S,   202,  1,      3,      3,2,19910820,0418,-26.5100,-150.4967, 4750,     77.8,  19.4867,  35.5583,2,  35.5614,2,    223.9,2,    226.9,2,     1.37,2,     0.29,2,     0.00,2,     0.07,2,    2.213,2,    1.169,2, -999.000,9,-999.0000,9,  -999.00,9,   -999.0,9,   -999.0,9,   2014.3,2,    305.4,2,   -999.0,9,   20.00,  -999.0,-999.0000,-999.000, 19.4726,-999.000
   31WTTUNES_2,  P16S,   202,  1,     64,     64,2,19910820,0418,-26.5100,-150.4967, 4750,    122.2,  19.4897,  35.5585,2,  35.5610,2,    224.1,2,    226.6,2,     1.27,2,     0.29,2,     0.00,2,     0.07,2,    2.247,2,    1.165,2, -999.000,9,-999.0000,9,  -999.00,9,   -999.0,9,   -999.0,9,   2015.9,2,    302.4,2,   -999.0,9,   20.00,  -999.0,-999.0000,-999.000, 19.4675,-999.000
   31WTTUNES_2,  P16S,   202,  1,      5,      5,2,19910820,0418,-26.5100,-150.4967, 4750,    164.0,  19.3307,  35.5509,2,  35.5443,2,    227.8,2,    223.3,2,     1.27,2,     0.29,2,     0.02,2,     0.10,2,    2.210,2,    1.165,2, -999.000,9,-999.0000,9,  -999.00,9,    133.2,2,      1.2,2,   2023.2,2,    310.5,2,   -999.0,9,   20.00,     2.9,-999.0000,-999.000, 19.3010,-999.000
   31WTTUNES_2,  P16S,   202,  1,      6,      6,2,19910820,0418,-26.5100,-150.4967, 4750,    204.6,  17.7688,  35.5011,2,  35.4985,2,    204.7,2,    204.6,2,     1.47,2,     2.25,2,     0.02,2,     0.27,2,    2.080,2,    1.073,2, -999.000,9,-999.0000,9,  -999.00,9,    127.1,2,      1.1,2,   2054.7,2,    372.8,2,   -999.0,9,   20.00,     3.7,-999.0000,-999.000, 17.7338,-999.000
   31WTTUNES_2,  P16S,   202,  1,      7,      7,2,19910820,0418,-26.5100,-150.4967, 4750,    255.9,  16.1599,  35.3805,2,  35.3776,2,    202.7,2,    199.9,2,     1.86,2,     4.49,2,     0.01,2,     0.44,2,    1.928,2,    1.017,2, -999.000,9,-999.0000,9,  -999.00,9,   -999.0,9,   -999.0,9,   2072.8,2,    420.4,2,   -999.0,9,   20.00,  -999.0,-999.0000,-999.000, 16.1190,-999.000
   31WTTUNES_2,  P16S,   202,  1,     68,     68,2,19910820,0418,-26.5100,-150.4967, 4750,    306.5,  14.4712,  35.2157,2,  35.2028,2,    194.4,2,    195.4,2,     2.25,2,     7.91,2,     0.00,2,     0.67,2,    1.745,2,    0.895,2, -999.000,9,-999.0000,9,  -999.00,9,     87.0,2,      0.9,3,   2090.7,2,    481.7,2,   -999.0,9,   20.00,     3.2,-999.0000,-999.000, 14.4257,-999.000
   31WTTUNES_2,  P16S,   202,  1,     69,     69,2,19910820,0418,-26.5100,-150.4967, 4750,    357.5,  13.2125,  35.0811,2,  35.0597,2,    193.5,2,    194.4,2,     3.22,2,    10.36,2,     0.00,2,     0.81,2,    1.580,2,    0.802,2, -999.000,9,-999.0000,9,  -999.00,9,   -999.0,9,   -999.0,9,   2102.1,2,    524.5,2,   -999.0,9,   20.00,  -999.0,-999.0000,-999.000, 13.1625,-999.000
   31WTTUNES_2,  P16S,   202,  1,     70,     70,2,19910820,0418,-26.5100,-150.4967, 4750,    408.9,  11.0231,  34.8152,2,  34.8031,2,    193.5,2,    198.0,2,     4.59,2,    14.76,2,     0.00,2,     1.08,2,    1.254,2,    0.648,2, -999.000,9,-999.0000,9,  -999.00,9,     60.7,2,      1.2,2,   2119.1,2,    603.0,2,   -999.0,9,   20.00,     4.0,-999.0000,-999.000, 10.9722,-999.000
   31WTTUNES_2,  P16S,   202,  1,     11,     11,2,19910820,0418,-26.5100,-150.4967, 4750,    480.5,   8.7040,  34.5535,2,  34.5656,2,    204.1,2,    215.0,2,     5.77,2,    18.57,2,     0.00,2,     1.32,2,    1.116,2,    0.576,2, -999.000,9,-999.0000,9,  -999.00,9,   -999.0,9,   -999.0,9,   2126.6,2,    665.5,2,   -999.0,9,   20.00,  -999.0,-999.0000,-999.000,  8.6523,-999.000
   31WTTUNES_2,  P16S,   202,  1,     12,     12,2,19910820,0418,-26.5100,-150.4967, 4750,    553.6,   7.7474,  34.4626,2,  34.4621,2,    227.6,2,    226.3,2,     6.65,2,    20.53,2,     0.00,2,     1.44,2,    1.136,2,    0.580,2, -999.000,9,-999.0000,9,  -999.00,9,     21.2,2,      1.3,2,   2130.8,2,    699.0,2,   -999.0,9,   20.00,     3.8,-999.0000,-999.000,  7.6916,-999.000
   31WTTUNES_2,  P16S,   202,  1,     13,     13,3,19910820,0418,-26.5100,-150.4967, 4750,    675.0,   6.9138,  34.3752,3,  34.3700,4,    239.5,2,    235.2,4,     9.19,4,    23.17,4,     0.00,4,     1.59,4,    0.717,2,    0.383,2, -999.000,9,-999.0000,9,  -999.00,9,    -20.5,2,      1.2,2,   2137.4,2,    728.1,2,   -999.0,9,   20.00,     6.4,-999.0000,-999.000,  6.8495,-999.000
   31WTTUNES_2,  P16S,   202,  1,     37,     37,3,19910820,0418,-26.5100,-150.4967, 4750,    675.0,   6.3081,  34.3632,3,  34.3647,4,    236.1,2,    235.3,4,     9.78,4,    23.17,4,     0.00,4,     1.60,4,    0.687,2,    0.369,2, -999.000,9,-999.0000,9,  -999.00,9,    -16.2,2,      1.3,2,   2138.1,2,    734.0,2,   -999.0,9,   20.00,     3.3,-999.0000,-999.000,  6.2469,-999.000
   31WTTUNES_2,  P16S,   202,  1,     15,     15,2,19910820,0418,-26.5100,-150.4967, 4750,    777.7,   5.8953,  34.3277,2,  34.3251,2,    228.8,2,    229.4,2,    13.88,2,    25.52,2,     0.00,2,     1.76,2,    0.355,2,    0.205,2, -999.000,9,-999.0000,9,  -999.00,9,    -45.8,2,      1.3,2,   2148.8,2,    776.2,2,   -999.0,9,   20.00,     2.8,-999.0000,-999.000,  5.8267,-999.000
   31WTTUNES_2,  P16S,   202,  1,     16,     16,2,19910820,0418,-26.5100,-150.4967, 4750,    870.6,   5.3226,  34.3162,2,  34.3153,2,    217.4,2,    216.9,2,    19.94,2,    27.86,2,     0.00,2,     1.92,2,    0.172,2,    0.104,2, -999.000,9,-999.0000,9,  -999.00,9,    -76.1,2,      1.0,2,   2165.5,2,    839.8,2,   -999.0,9,   20.00,     2.8,-999.0000,-999.000,  5.2490,-999.000
   31WTTUNES_2,  P16S,   202,  1,     17,     17,2,19910820,0418,-26.5100,-150.4967, 4750,    972.9,   4.7759,  34.3290,2,  34.3298,2,    201.7,2,    201.2,2,    29.33,2,    30.31,2,     0.00,2,     2.09,2,    0.073,2,    0.052,2, -999.000,9,-999.0000,9,  -999.00,9,   -999.0,9,   -999.0,9,   2185.0,2,    930.9,2,   -999.0,9,   20.00,  -999.0,-999.0000,-999.000,  4.6970,-999.000
   31WTTUNES_2,  P16S,   202,  1,     18,     18,2,19910820,0418,-26.5100,-150.4967, 4750,   1072.1,   4.2802,  34.3618,2,  34.3608,2,    192.5,2,    187.2,2,    40.57,2,    32.07,2,     0.00,2,     2.22,2,    0.030,2,    0.023,2, -999.000,9,-999.0000,9,  -999.00,9,   -104.8,2,      0.8,2,   2205.2,2,    999.4,2,   -999.0,9,   20.00,     2.5,-999.0000,-999.000,  4.1965,-999.000
   31WTTUNES_2,  P16S,   202,  1,     19,     19,2,19910820,0418,-26.5100,-150.4967, 4750,   1225.9,   3.5796,  34.4338,2,  34.4348,2,    170.2,2,    170.2,2,    60.12,2,    33.92,2,     0.00,2,     2.36,2,    0.006,2,    0.008,2, -999.000,9,-999.0000,9,  -999.00,9,   -137.6,2,      0.5,2,   2234.2,2,   1089.6,2,   -999.0,9,   20.00,     2.4,-999.0000,-999.000,  3.4889,-999.000
   31WTTUNES_2,  P16S,   202,  1,     20,     20,2,19910820,0418,-26.5100,-150.4967, 4750,   1429.2,   2.8811,  34.5215,2,  34.5206,2,    161.1,2,    161.8,2,    83.29,2,    34.90,2,     0.00,2,     2.44,2,    0.000,2,    0.000,2, -999.000,9,-999.0000,9,  -999.00,9,   -999.0,9,   -999.0,9,   2262.8,2,   1125.7,2,   -999.0,9,   20.00,  -999.0,-999.0000,-999.000,  2.7805,-999.000
   31WTTUNES_2,  P16S,   202,  1,     21,     21,2,19910820,0418,-26.5100,-150.4967, 4750,   1632.9,   2.5073,  34.5767,2,  34.5754,2,    154.7,2,    156.2,2,    99.41,2,    35.29,2,     0.00,2,     2.46,2, -999.000,9, -999.000,9, -999.000,9,-999.0000,9,  -999.00,9,   -182.0,2,      0.3,2,   2278.9,2,   1142.7,2,   -999.0,9,   20.00,     2.3,-999.0000,-999.000,  2.3944,-999.000
   31WTTUNES_2,  P16S,   202,  1,     22,     22,2,19910820,0418,-26.5100,-150.4967, 4750,   1835.7,   2.2715,  34.6108,2,  34.6104,2,    153.4,2,    152.8,2,   110.06,2,    35.58,2,     0.00,2,     2.47,2, -999.000,9, -999.000,9, -999.000,9,-999.0000,9,  -999.00,9,   -999.0,9,   -999.0,9,   2297.3,2,   1158.8,2,   -999.0,9,   20.00,  -999.0,-999.0000,-999.000,  2.1449,-999.000
   31WTTUNES_2,  P16S,   202,  1,     23,     23,2,19910820,0418,-26.5100,-150.4967, 4750,   2048.3,   2.0816,  34.6350,2,  34.6346,2,    150.0,2,    149.6,2,   119.84,2,    35.77,2,     0.00,2,     2.49,2, -999.000,9, -999.000,9, -999.000,9,-999.0000,9,  -999.00,9,   -211.7,2,      0.1,2,   2302.9,2,   1168.8,2,   -999.0,9,   20.00,     2.4,-999.0000,-999.000,  1.9398,-999.000
   31WTTUNES_2,  P16S,   202,  1,     24,     24,2,19910820,0418,-26.5100,-150.4967, 4750,   2257.1,   1.9657,  34.6472,2,  34.6471,2,    150.2,2,    148.2,2,   126.77,2,    35.97,2,     0.00,2,     2.52,2, -999.000,9, -999.000,9, -999.000,9,-999.0000,9,  -999.00,9,   -999.0,9,   -999.0,9,   2311.8,2,   1171.9,2,   -999.0,9,   20.00,  -999.0,-999.0000,-999.000,  1.8077,-999.000
   31WTTUNES_2,  P16S,   202,  1,     25,     25,2,19910820,0418,-26.5100,-150.4967, 4750,   2466.3,   1.8707,  34.6554,2,  34.6574,2,    149.5,2,    149.6,2,   129.22,2,    35.87,2,     0.00,2,     2.51,2, -999.000,9, -999.000,9, -999.000,9,-999.0000,9,  -999.00,9,   -218.0,2,      0.0,2,   2311.8,2,   1175.2,2,   -999.0,9,   20.00,     2.3,-999.0000,-999.000,  1.6959,-999.000
   31WTTUNES_2,  P16S,   202,  1,     26,     26,2,19910820,0418,-26.5100,-150.4967, 4750,   2664.5,   1.8038,  34.6612,2,  34.6617,2,    152.1,2,    151.9,2,   130.29,2,    35.77,2,     0.00,2,     2.49,2, -999.000,9, -999.000,9, -999.000,9,-999.0000,9,  -999.00,9,   -999.0,9,   -999.0,9,   2313.5,2,   1166.6,2,   -999.0,9,   20.00,  -999.0,-999.0000,-999.000,  1.6121,-999.000
   31WTTUNES_2,  P16S,   202,  1,     27,     27,2,19910820,0418,-26.5100,-150.4967, 4750,   2865.7,   1.7618,  34.6674,2,  34.6652,2,    155.0,2,    154.6,2,   131.07,2,    35.68,2,     0.00,2,     2.48,2, -999.000,9, -999.000,9, -999.000,9,-999.0000,9,  -999.00,9,   -216.5,2,     -0.1,2,   2329.2,2,   1157.5,2,   -999.0,9,   20.00,     2.4,-999.0000,-999.000,  1.5522,-999.000
   31WTTUNES_2,  P16S,   202,  1,     28,     28,2,19910820,0418,-26.5100,-150.4967, 4750,   3073.4,   1.6779,  34.6724,2,  34.6719,2,    160.0,2,    160.6,2,   130.10,2,    35.09,2,     0.00,2,     2.44,2, -999.000,9, -999.000,9, -999.000,9,-999.0000,9,  -999.00,9,   -209.6,2,      0.2,3,   2303.3,2,   1140.4,2,   -999.0,9,   20.00,     2.4,-999.0000,-999.000,  1.4501,-999.000
   31WTTUNES_2,  P16S,   202,  1,     29,     29,2,19910820,0418,-26.5100,-150.4967, 4750,   3334.0,   1.5859,  34.6797,2,  34.6800,2,    166.1,2,    167.6,2,   128.14,2,    34.60,2,     0.00,2,     2.40,2, -999.000,9, -999.000,9, -999.000,9,-999.0000,9,  -999.00,9,   -999.0,9,   -999.0,9,   2300.1,2,   1126.6,2,   -999.0,9,   20.00,  -999.0,-999.0000,-999.000,  1.3345,-999.000
   31WTTUNES_2,  P16S,   202,  1,     30,     30,2,19910820,0418,-26.5100,-150.4967, 4750,   3592.9,   1.5430,  34.6845,2,  34.6847,2,    171.0,2,    171.9,2,   127.46,2,    34.31,2,     0.00,2,     2.39,2, -999.000,9, -999.000,9, -999.000,9,-999.0000,9,  -999.00,9,   -199.6,2,      0.1,2,   2294.8,2,   1118.2,2,   -999.0,9,   20.00,     3.2,-999.0000,-999.000,  1.2662,-999.000
   31WTTUNES_2,  P16S,   202,  1,     31,     31,2,19910820,0418,-26.5100,-150.4967, 4750,   3804.4,   1.4690,  34.6908,2,  34.6908,2,    176.7,2,    177.7,2,   127.16,2,    34.01,2,     0.00,2,     2.37,2, -999.000,9, -999.000,9, -999.000,9,-999.0000,9,  -999.00,9,   -999.0,9,   -999.0,9,   2289.6,2,   1091.6,2,   -999.0,9,   20.00,  -999.0,-999.0000,-999.000,  1.1720,-999.000
   31WTTUNES_2,  P16S,   202,  1,     32,     32,2,19910820,0418,-26.5100,-150.4967, 4750,   4013.0,   1.3921,  34.6969,2,  34.6965,2,    182.8,2,    184.2,2,   125.40,2,    33.53,2,     0.00,2,     2.31,2, -999.000,9, -999.000,9, -999.000,9,-999.0000,9,  -999.00,9,   -185.7,2,      0.1,2,   2286.2,2,   1082.3,2,   -999.0,9,   20.00,     2.3,-999.0000,-999.000,  1.0747,-999.000
   31WTTUNES_2,  P16S,   202,  1,     33,     33,2,19910820,0418,-26.5100,-150.4967, 4750,   4226.4,   1.3301,  34.7011,2,  34.7004,2,    188.4,2,    189.6,2,   124.72,2,    33.13,2,     0.00,2,     2.30,2, -999.000,9, -999.000,9, -999.000,9,-999.0000,9,  -999.00,9,   -178.1,2,      0.2,2,   2276.9,2,   1053.2,2,   -999.0,9,   20.00,     2.3,-999.0000,-999.000,  0.9912,-999.000
   31WTTUNES_2,  P16S,   202,  1,     34,     34,2,19910820,0418,-26.5100,-150.4967, 4750,   4434.1,   1.3091,  34.7026,2,  34.7024,2,    193.2,2,    192.3,2,   123.45,2,    32.94,2,     0.00,2,     2.27,2, -999.000,9, -999.000,9, -999.000,9,-999.0000,9,  -999.00,9,   -999.0,9,   -999.0,9,   2274.3,2,   1066.1,2,   -999.0,9,   20.00,  -999.0,-999.0000,-999.000,  0.9475,-999.000
   31WTTUNES_2,  P16S,   202,  1,     39,     39,2,19910820,0418,-26.5100,-150.4967, 4750,   4641.2,   1.3151,  34.7041,2,  34.7034,2,    194.2,2,    193.6,2,   123.35,2,    32.94,2,     0.00,2,     2.27,2, -999.000,9, -999.000,9, -999.000,9,-999.0000,9,  -999.00,9,   -174.8,2,      0.2,2,   2276.7,2,   1056.1,2,   -999.0,9,   20.00,     2.5,-999.0000,-999.000,  0.9295,-999.000
   31WTTUNES_2,  P16S,   202,  1,     38,     38,2,19910820,0418,-26.5100,-150.4967, 4750,   4824.0,   1.3341,  34.7041,2,  34.7040,2,   -999.0,9,    193.7,2,   123.74,2,    32.94,2,     0.00,2,     2.27,2, -999.000,9, -999.000,9, -999.000,9,-999.0000,9,  -999.00,9,   -176.4,2,      0.3,2,   2274.7,2,   1067.4,2,   -999.0,9,   20.00,     2.7,-999.0000,-999.000,  0.9264,-999.000