BOTTLE,20131125MIRCJHATS
EXPOCODE,SECT_ID,STNNBR,CASTNO,SAMPNO,BTLNBR,BTLNBR_FLAG_W,DATE,TIME,LATITUDE,LONGITUDE,DEPTH,CTDPRS,CTDTMP,CTDSAL,CTDSAL_FLAG_W,SALNTY,SALNTY_FLAG_W,CTDOXY,CTDOXY_FLAG_W,OXYGEN,OXYGEN_FLAG_W,SILCAT,SILCAT_FLAG_W,NITRAT,NITRAT_FLAG_W,NITRIT,NITRIT_FLAG_W,PHSPHT,PHSPHT_FLAG_W,CFC-11,CFC-11_FLAG_W,CFC-12,CFC-12_FLAG_W,TRITUM,TRITUM_FLAG_W,HELIUM,HELIUM_FLAG_W,DELHE3,DELHE3_FLAG_W,DELC14,DELC14_FLAG_W,DELC13,DELC13_FLAG_W,TCARBN,TCARBN_FLAG_W,PCO2,PCO2_FLAG_W,ALKALI,ALKALI_FLAG_W,PCO2TMP,C14ERR,HELIER,DELHER,THETA,TRITER
,,,,,,,,,,,,DBAR,ITS-90,PSS-78,,PSS-78,,UMOL/KG,,UMOL/KG,,UMOL/KG,,UMOL/KG,,UMOL/KG,,UMOL/KG,,PMOL/KG,,PMOL/KG,,TU,,NMOL/KG,,PERCNT,,/MILLE,,/MILLE,,UMOL/KG,,UATM,,UMOL/KG,,DEG C,/MILLE,NMOL/KG,PERCNT,DEG C,TU
   31WTTUNES_2,  P16S,   209,  1,     61,     61,2,19910822,0102,-22.9967,-150.5150, 4892,      2.0,  23.1115,  35.8806,2,  35.8850,2,    212.0,3,    212.7,2,     1.49,2,     0.11,2,     0.00,2,     0.12,2,    1.878,2,    1.022,2, -999.000,9,-999.0000,9,  -999.00,9,   -999.0,9,   -999.0,9,   2010.2,2,    265.4,2,   -999.0,9,   20.00,  -999.0,-999.0000,-999.000, 23.1111,-999.000
   31WTTUNES_2,  P16S,   209,  1,      2,      2,2,19910822,0102,-22.9967,-150.5150, 4892,     33.5,  22.3499,  35.8111,2,  35.8022,2,    216.8,6,    216.2,2,     1.26,2,     0.11,2,     0.00,2,     0.12,2,    1.936,2,    1.054,2,    1.002,2,   1.7270,2,    -1.27,2,   -999.0,9,   -999.0,9,   -999.0,9,   -999.0,9,   -999.0,9, -999.00,  -999.0,  0.0080,   0.150, 22.3432,   0.005
   31WTTUNES_2,  P16S,   209,  1,      3,      3,2,19910822,0102,-22.9967,-150.5150, 4892,     73.8,  22.1368,  35.7791,2,  35.7811,2,    219.5,2,    216.1,2,     1.24,2,     0.10,2,     0.00,2,     0.11,2,    1.944,2,    1.057,2, -999.000,9,-999.0000,9,  -999.00,9,   -999.0,9,   -999.0,9,   -999.0,9,   -999.0,9,   -999.0,9, -999.00,  -999.0,-999.0000,-999.000, 22.1221,-999.000
   31WTTUNES_2,  P16S,   209,  1,     64,     64,2,19910822,0102,-22.9967,-150.5150, 4892,    103.9,  21.5633,  35.6832,2,  35.6881,2,    214.4,6,    212.6,2,     1.22,2,     0.08,2,     0.02,2,     0.12,2,    1.954,2,    1.065,2,    1.001,2,   1.7310,2,    -1.10,2,   -999.0,9,   -999.0,9,   -999.0,9,   -999.0,9,   -999.0,9, -999.00,  -999.0,  0.0080,   0.150, 21.5430,   0.005
   31WTTUNES_2,  P16S,   209,  1,      5,      5,2,19910822,0102,-22.9967,-150.5150, 4892,    143.8,  20.8284,  35.6106,2,  35.6141,2,    203.1,6,    204.9,2,     1.20,2,     0.21,2,     0.08,2,     0.16,2,    1.934,2,    1.058,2, -999.000,9,-999.0000,9,  -999.00,9,   -999.0,9,   -999.0,9,   -999.0,9,   -999.0,9,   -999.0,9, -999.00,  -999.0,-999.0000,-999.000, 20.8010,-999.000
   31WTTUNES_2,  P16S,   209,  1,      6,      6,2,19910822,0102,-22.9967,-150.5150, 4892,    185.6,  20.1196,  35.6049,2,  35.5971,2,    194.4,2,    196.0,2,     1.18,2,     1.21,2,     0.03,2,     0.23,2,    1.884,2,    1.018,2,    0.907,2,   1.7110,2,    -0.27,2,   -999.0,9,   -999.0,9,   -999.0,9,   -999.0,9,   -999.0,9, -999.00,  -999.0,  0.0080,   0.150, 20.0850,   0.004
   31WTTUNES_2,  P16S,   209,  1,      7,      7,2,19910822,0102,-22.9967,-150.5150, 4892,    225.0,  18.7602,  35.5479,2,  35.5476,2,    191.2,2,    192.4,2,     1.16,2,     2.58,2,     0.01,2,     0.33,2,    1.829,2,    0.983,2, -999.000,9,-999.0000,9,  -999.00,9,   -999.0,9,   -999.0,9,   -999.0,9,   -999.0,9,   -999.0,9, -999.00,  -999.0,-999.0000,-999.000, 18.7203,-999.000
   31WTTUNES_2,  P16S,   209,  1,     68,     68,2,19910822,0102,-22.9967,-150.5150, 4892,    266.1,  17.2497,  35.4420,2,  35.4389,2,    190.2,2,    191.3,2,     1.35,2,     4.31,2,     0.01,2,     0.44,2,    1.723,2,    0.931,2,    0.754,2,   1.7610,2,     0.73,2,   -999.0,9,   -999.0,9,   -999.0,9,   -999.0,9,   -999.0,9, -999.00,  -999.0,  0.0080,   0.150, 17.2051,   0.004
   31WTTUNES_2,  P16S,   209,  1,     69,     69,2,19910822,0102,-22.9967,-150.5150, 4892,    308.3,  15.9707,  35.3207,2,  35.3170,2,    191.7,2,    191.5,2,     1.74,2,     5.99,2,     0.01,2,     0.54,2,    1.630,2,    0.858,2, -999.000,9,-999.0000,9,  -999.00,9,   -999.0,9,   -999.0,9,   -999.0,9,   -999.0,9,   -999.0,9, -999.00,  -999.0,-999.0000,-999.000, 15.9217,-999.000
   31WTTUNES_2,  P16S,   209,  1,     70,     70,2,19910822,0102,-22.9967,-150.5150, 4892,    359.6,  14.2772,  35.1329,2,  35.1267,2,    190.6,2,    190.9,2,     2.55,2,     8.93,2,     0.00,2,     0.73,2,    1.429,2,    0.760,2,    0.528,2,   1.7780,2,     1.04,2,   -999.0,9,   -999.0,9,   -999.0,9,   -999.0,9,   -999.0,9, -999.00,  -999.0,  0.0080,   0.150, 14.2242,   0.007
   31WTTUNES_2,  P16S,   209,  1,     11,     11,2,19910822,0102,-22.9967,-150.5150, 4892,    404.6,  12.5354,  34.9362,2,  34.9462,2,    190.1,2,    191.4,2,     3.78,2,    11.86,2,     0.00,2,     0.92,2,    1.215,2,    0.637,2,    0.461,2,   1.7760,2,     1.34,2,   -999.0,9,   -999.0,9,   -999.0,9,   -999.0,9,   -999.0,9, -999.00,  -999.0,  0.0080,   0.150, 12.4806,   0.003
   31WTTUNES_2,  P16S,   209,  1,     12,     12,2,19910822,0102,-22.9967,-150.5150, 4892,    478.2,   9.4523,  34.6020,2,  34.5866,2,    198.6,2,    200.8,2,     6.47,2,    18.47,2,     0.00,2,     1.34,2,    0.842,2,    0.445,2,    0.273,2,   1.8110,2,     1.12,2,   -999.0,9,   -999.0,9,   -999.0,9,   -999.0,9,   -999.0,9, -999.00,  -999.0,  0.0090,   0.150,  9.3982,   0.004
   31WTTUNES_2,  P16S,   209,  1,     13,     13,2,19910822,0102,-22.9967,-150.5150, 4892,    553.1,   7.6000,  34.4340,2,  34.4343,2,    214.7,2,    213.6,2,     8.53,2,    22.18,2,     0.00,2,     1.56,2,    0.662,2,    0.354,2,    0.190,2,   1.8630,2,     0.59,2,   -999.0,9,   -999.0,9,   -999.0,9,   -999.0,9,   -999.0,9, -999.00,  -999.0,  0.0090,   0.150,  7.5448,   0.003
   31WTTUNES_2,  P16S,   209,  1,     37,     37,2,19910822,0102,-22.9967,-150.5150, 4892,    652.9,   6.3484,  34.3506,2,  34.3516,2,    221.8,2,    219.3,2,    12.67,2,    25.19,2,     0.00,2,     1.75,2,    0.397,2,    0.223,2, -999.000,9,-999.0000,9,  -999.00,9,   -999.0,9,   -999.0,9,   -999.0,9,   -999.0,9,   -999.0,9, -999.00,  -999.0,-999.0000,-999.000,  6.2891,-999.000
   31WTTUNES_2,  P16S,   209,  1,     15,     15,2,19910822,0102,-22.9967,-150.5150, 4892,    751.9,   5.6019,  34.3234,2,  34.3244,2,    212.5,2,    210.5,2,    18.69,2,    27.71,2,     0.00,2,     1.92,2,    0.190,2,    0.115,2, -999.000,9,-999.0000,9,  -999.00,9,   -999.0,9,   -999.0,9,   -999.0,9,   -999.0,9,   -999.0,9, -999.00,  -999.0,-999.0000,-999.000,  5.5373,-999.000
   31WTTUNES_2,  P16S,   209,  1,     16,     16,2,19910822,0102,-22.9967,-150.5150, 4892,    851.0,   5.0280,  34.3341,2,  34.3316,2,    189.0,2,    197.8,2,    25.13,2,    29.52,2,     0.00,2,     2.05,2,    0.108,2,    0.068,2, -999.000,9,-999.0000,9,  -999.00,9,   -999.0,9,   -999.0,9,   -999.0,9,   -999.0,9,   -999.0,9, -999.00,  -999.0,-999.0000,-999.000,  4.9581,-999.000
   31WTTUNES_2,  P16S,   209,  1,     17,     17,2,19910822,0102,-22.9967,-150.5150, 4892,    949.9,   4.4616,  34.3651,2,  34.3669,2,    175.3,2,    177.0,2,    40.32,2,    32.51,2,     0.00,2,     2.26,2,    0.024,2,    0.018,2, -999.000,9,-999.0000,9,  -999.00,9,   -999.0,9,   -999.0,9,   -999.0,9,   -999.0,9,   -999.0,9, -999.00,  -999.0,-999.0000,-999.000,  4.3869,-999.000
   31WTTUNES_2,  P16S,   209,  1,     18,     18,2,19910822,0102,-22.9967,-150.5150, 4892,   1048.5,   3.9144,  34.4248,2,  34.4250,2,    161.8,2,    161.5,2,    57.00,2,    34.39,2,     0.00,2,     2.40,2,    0.004,2,    0.004,2, -999.000,9,   1.8300,2,     9.35,2,   -999.0,9,   -999.0,9,   -999.0,9,   -999.0,9,   -999.0,9, -999.00,  -999.0,-999.0000,-999.000,  3.8355,-999.000
   31WTTUNES_2,  P16S,   209,  1,     19,     19,2,19910822,0102,-22.9967,-150.5150, 4892,   1147.1,   3.5689,  34.4670,2,  34.4672,2,    157.7,2,    156.1,2,    68.70,2,    35.04,2,     0.00,2,     2.45,2,    0.003,2,    0.004,7, -999.000,9,   1.8370,2,    13.13,2,   -999.0,9,   -999.0,9,   -999.0,9,   -999.0,9,   -999.0,9, -999.00,  -999.0,-999.0000,-999.000,  3.4848,-999.000
   31WTTUNES_2,  P16S,   209,  1,     20,     20,2,19910822,0102,-22.9967,-150.5150, 4892,   1292.5,   3.0247,  34.5216,2,  34.5214,2,    156.2,2,    154.9,2,    84.01,2,    35.09,2,     0.00,2,     2.46,2, -999.000,9, -999.000,9, -999.000,9,   1.8670,2,    16.64,2,   -999.0,9,   -999.0,9,   -999.0,9,   -999.0,9,   -999.0,9, -999.00,  -999.0,-999.0000,-999.000,  2.9337,-999.000
   31WTTUNES_2,  P16S,   209,  1,     21,     21,2,19910822,0102,-22.9967,-150.5150, 4892,   1493.5,   2.6192,  34.5692,2,  34.5685,2,    153.1,2,    153.4,2,    97.92,2,    35.19,2,     0.00,2,     2.48,2, -999.000,9, -999.000,9, -999.000,9,   1.8850,2,    20.74,2,   -999.0,9,   -999.0,9,   -999.0,9,   -999.0,9,   -999.0,9, -999.00,  -999.0,-999.0000,-999.000,  2.5163,-999.000
   31WTTUNES_2,  P16S,   209,  1,     22,     22,2,19910822,0102,-22.9967,-150.5150, 4892,   1696.1,   2.3745,  34.6028,2,  34.6015,2,    150.0,2,    150.6,2,   109.60,2,    35.48,2,     0.00,2,     2.51,2, -999.000,9, -999.000,9, -999.000,9,   1.8910,2,    23.89,2,   -999.0,9,   -999.0,9,   -999.0,9,   -999.0,9,   -999.0,9, -999.00,  -999.0,-999.0000,-999.000,  2.2581,-999.000
   31WTTUNES_2,  P16S,   209,  1,     23,     23,2,19910822,0102,-22.9967,-150.5150, 4892,   1898.4,   2.1689,  34.6250,2,  34.6247,2,    150.2,2,    150.1,2,   118.56,2,    35.59,2,     0.00,2,     2.51,2, -999.000,9, -999.000,9, -999.000,9,   1.8980,2,    25.30,2,   -999.0,9,   -999.0,9,   -999.0,9,   -999.0,9,   -999.0,9, -999.00,  -999.0,-999.0000,-999.000,  2.0385,-999.000
   31WTTUNES_2,  P16S,   209,  1,     24,     24,2,19910822,0102,-22.9967,-150.5150, 4892,   2102.9,   2.0294,  34.6394,2,  34.6400,2,    150.4,2,    150.0,2,   123.70,2,    35.59,2,     0.00,2,     2.50,2, -999.000,9, -999.000,9, -999.000,9,   1.9040,2,    26.61,2,   -999.0,9,   -999.0,9,   -999.0,9,   -999.0,9,   -999.0,9, -999.00,  -999.0,-999.0000,-999.000,  1.8838,-999.000
   31WTTUNES_2,  P16S,   209,  1,     25,     25,2,19910822,0102,-22.9967,-150.5150, 4892,   2307.8,   1.9068,  34.6509,2,  34.6522,2,    151.5,2,    152.7,2,   125.84,2,    35.39,2,     0.00,2,     2.48,2, -999.000,9, -999.000,9, -999.000,9,   1.8910,2,    26.08,2,   -999.0,9,   -999.0,9,   -999.0,9,   -999.0,9,   -999.0,9, -999.00,  -999.0,-999.0000,-999.000,  1.7454,-999.000
   31WTTUNES_2,  P16S,   209,  1,     26,     26,2,19910822,0102,-22.9967,-150.5150, 4892,   2515.7,   1.8248,  34.6578,2,  34.6583,2,    154.3,2,    155.5,2,   126.69,2,    35.19,2,     0.00,2,     2.47,2, -999.000,9, -999.000,9, -999.000,9,   1.9030,2,    24.56,2,   -999.0,9,   -999.0,9,   -999.0,9,   -999.0,9,   -999.0,9, -999.00,  -999.0,-999.0000,-999.000,  1.6463,-999.000
   31WTTUNES_2,  P16S,   209,  1,     27,     27,2,19910822,0102,-22.9967,-150.5150, 4892,   2774.4,   1.7193,  34.6668,2,  34.6667,2,    160.1,2,    160.8,2,   128.19,2,    34.94,2,     0.00,2,     2.45,2, -999.000,9, -999.000,9, -999.000,9,   1.9070,2,    23.48,2,   -999.0,9,   -999.0,9,   -999.0,9,   -999.0,9,   -999.0,9, -999.00,  -999.0,-999.0000,-999.000,  1.5192,-999.000
   31WTTUNES_2,  P16S,   209,  1,     28,     28,2,19910822,0102,-22.9967,-150.5150, 4892,   3036.8,   1.6449,  34.6736,2,  34.6720,2,    165.0,2,    165.3,2,   129.26,2,    34.55,2,     0.00,2,     2.43,2, -999.000,9, -999.000,9, -999.000,9,   1.9050,2,    21.88,2,   -999.0,9,   -999.0,9,   -999.0,9,   -999.0,9,   -999.0,9, -999.00,  -999.0,-999.0000,-999.000,  1.4214,-999.000
   31WTTUNES_2,  P16S,   209,  1,     29,     29,2,19910822,0102,-22.9967,-150.5150, 4892,   3297.3,   1.5777,  34.6795,2,  34.6785,2,    170.0,2,    170.0,2,   127.73,2,    34.15,2,     0.00,2,     2.40,2, -999.000,9, -999.000,9, -999.000,9,   1.9060,2,    20.51,2,   -999.0,9,   -999.0,9,   -999.0,9,   -999.0,9,   -999.0,9, -999.00,  -999.0,-999.0000,-999.000,  1.3302,-999.000
   31WTTUNES_2,  P16S,   209,  1,     30,     30,2,19910822,0102,-22.9967,-150.5150, 4892,   3560.7,   1.5101,  34.6853,2,  34.6848,2,    173.8,2,    175.0,2,   126.20,2,    33.65,2,     0.00,2,     2.36,2, -999.000,9, -999.000,9, -999.000,9,   1.9030,2,    18.60,2,   -999.0,9,   -999.0,9,   -999.0,9,   -999.0,9,   -999.0,9, -999.00,  -999.0,-999.0000,-999.000,  1.2375,-999.000
   31WTTUNES_2,  P16S,   209,  1,     31,     31,2,19910822,0102,-22.9967,-150.5150, 4892,   3824.3,   1.4520,  34.6905,2,  34.6928,2,    178.0,2,    179.9,2,   124.89,2,    33.36,2,     0.00,2,     2.34,2, -999.000,9, -999.000,9, -999.000,9,   1.8920,2,    16.73,2,   -999.0,9,   -999.0,9,   -999.0,9,   -999.0,9,   -999.0,9, -999.00,  -999.0,-999.0000,-999.000,  1.1533,-999.000
   31WTTUNES_2,  P16S,   209,  1,     32,     32,2,19910822,0102,-22.9967,-150.5150, 4892,   4087.8,   1.4370,  34.6930,2,  34.6928,2,    180.3,2,    182.3,2,   124.23,2,    33.31,2,     0.00,2,     2.33,2, -999.000,9, -999.000,9, -999.000,9,   1.8850,2,    16.55,2,   -999.0,9,   -999.0,9,   -999.0,9,   -999.0,9,   -999.0,9, -999.00,  -999.0,-999.0000,-999.000,  1.1103,-999.000
   31WTTUNES_2,  P16S,   209,  1,     33,     33,2,19910822,0102,-22.9967,-150.5150, 4892,   4303.2,   1.3818,  34.6974,2,  34.6968,2,    185.1,2,    186.7,2,   124.43,2,    33.11,2,     0.00,2,     2.32,2, -999.000,9, -999.000,9, -999.000,9,   1.8860,2,    15.34,2,   -999.0,9,   -999.0,9,   -999.0,9,   -999.0,9,   -999.0,9, -999.00,  -999.0,-999.0000,-999.000,  1.0327,-999.000
   31WTTUNES_2,  P16S,   209,  1,     34,     34,2,19910822,0102,-22.9967,-150.5150, 4892,   4513.1,   1.3837,  34.6981,2,  34.6979,2,    188.9,2,    188.1,2,   124.84,2,    33.11,2,     0.00,2,     2.33,2, -999.000,9, -999.000,9, -999.000,9,   1.8900,2,    14.44,2,   -999.0,9,   -999.0,9,   -999.0,9,   -999.0,9,   -999.0,9, -999.00,  -999.0,-999.0000,-999.000,  1.0107,-999.000
   31WTTUNES_2,  P16S,   209,  1,     39,     39,2,19910822,0102,-22.9967,-150.5150, 4892,   4722.7,   1.3867,  34.6989,2,  34.6997,2,    190.5,2,    189.7,2,   124.40,2,    33.07,2,     0.00,2,     2.30,2, -999.000,9, -999.000,9, -999.000,9,   1.8850,2,    14.63,2,   -999.0,9,   -999.0,9,   -999.0,9,   -999.0,9,   -999.0,9, -999.00,  -999.0,-999.0000,-999.000,  0.9893,-999.000
   31WTTUNES_2,  P16S,   209,  1,     38,     38,2,19910822,0102,-22.9967,-150.5150, 4892,   4963.2,   1.4077,  34.6999,2,  34.6999,2,    190.9,2,    190.4,2,   124.17,2,    32.97,2,     0.00,2,     2.31,2, -999.000,9, -999.000,9, -999.000,9,   1.8820,2,    14.21,2,   -999.0,9,   -999.0,9,   -999.0,9,   -999.0,9,   -999.0,9, -999.00,  -999.0,-999.0000,-999.000,  0.9809,-999.000