BOTTLE,20131125MIRCJHATS
EXPOCODE,SECT_ID,STNNBR,CASTNO,SAMPNO,BTLNBR,BTLNBR_FLAG_W,DATE,TIME,LATITUDE,LONGITUDE,DEPTH,CTDPRS,CTDTMP,CTDSAL,CTDSAL_FLAG_W,SALNTY,SALNTY_FLAG_W,CTDOXY,CTDOXY_FLAG_W,OXYGEN,OXYGEN_FLAG_W,SILCAT,SILCAT_FLAG_W,NITRAT,NITRAT_FLAG_W,NITRIT,NITRIT_FLAG_W,PHSPHT,PHSPHT_FLAG_W,CFC-11,CFC-11_FLAG_W,CFC-12,CFC-12_FLAG_W,TRITUM,TRITUM_FLAG_W,HELIUM,HELIUM_FLAG_W,DELHE3,DELHE3_FLAG_W,DELC14,DELC14_FLAG_W,DELC13,DELC13_FLAG_W,TCARBN,TCARBN_FLAG_W,PCO2,PCO2_FLAG_W,ALKALI,ALKALI_FLAG_W,PCO2TMP,C14ERR,HELIER,DELHER,THETA,TRITER
,,,,,,,,,,,,DBAR,ITS-90,PSS-78,,PSS-78,,UMOL/KG,,UMOL/KG,,UMOL/KG,,UMOL/KG,,UMOL/KG,,UMOL/KG,,PMOL/KG,,PMOL/KG,,TU,,NMOL/KG,,PERCNT,,/MILLE,,/MILLE,,UMOL/KG,,UATM,,UMOL/KG,,DEG C,/MILLE,NMOL/KG,PERCNT,DEG C,TU
   31WTTUNES_2,  P17S,   142,  1,     13,     13,2,19910727,1105,-14.8967,-133.9750, 4237,      0.8,  26.5177,  36.4753,2,  36.4777,2,    212.2,3,    215.2,2,     1.56,2,     0.10,2,     0.00,2,     0.23,2,    1.669,2,    0.909,2, -999.000,9,-999.0000,9,  -999.00,9,   -999.0,9,   -999.0,9,   2024.3,2,   -999.0,5,   -999.0,9, -999.00,  -999.0,-999.0000,-999.000, 26.5175,-999.000
   31WTTUNES_2,  P17S,   142,  1,     37,     37,2,19910727,1105,-14.8967,-133.9750, 4237,     43.2,  26.5967,  36.5885,2,  36.5855,2,    215.1,6,    211.4,2,     1.56,2,     0.10,2,     0.00,2,     0.23,2,    1.662,2,    0.908,2,    0.907,2,   1.6960,2,    -0.91,2,   -999.0,9,   -999.0,9,   -999.0,9,   -999.0,9,   -999.0,9, -999.00,  -999.0,  0.0080,   0.150, 26.5868,   0.010
   31WTTUNES_2,  P17S,   142,  1,     15,     15,2,19910727,1105,-14.8967,-133.9750, 4237,     73.1,  26.5847,  36.6168,2,  36.6186,2,    213.2,6,    211.9,2,     1.56,2,     0.10,2,     0.00,2,     0.23,2,    1.653,2,    0.905,2, -999.000,9,-999.0000,9,  -999.00,9,   -999.0,9,   -999.0,9,   -999.0,9,   -999.0,9,   -999.0,9, -999.00,  -999.0,-999.0000,-999.000, 26.5680,-999.000
   31WTTUNES_2,  P17S,   142,  1,     16,     16,2,19910727,1105,-14.8967,-133.9750, 4237,    104.9,  26.5207,  36.6096,2,  36.5966,2,    217.5,6,    207.2,2,     1.56,2,     0.00,2,     0.02,2,     0.25,2,    1.677,2,    0.909,2,    0.883,2,   1.7270,2,    -0.67,2,   -999.0,9,   -999.0,9,   -999.0,9,   -999.0,9,   -999.0,9, -999.00,  -999.0,  0.0080,   0.150, 26.4968,   0.010
   31WTTUNES_2,  P17S,   142,  1,     17,     17,2,19910727,1105,-14.8967,-133.9750, 4237,    135.1,  24.1657,  36.3378,2,  36.3401,2,    213.2,2,    201.4,2,     1.56,2,     0.10,2,     0.62,2,     0.27,2,    1.801,2,    0.975,2, -999.000,9,-999.0000,9,  -999.00,9,   -999.0,9,   -999.0,9,   -999.0,9,   -999.0,9,   -999.0,9, -999.00,  -999.0,-999.0000,-999.000, 24.1370,-999.000
   31WTTUNES_2,  P17S,   142,  1,     18,     18,2,19910727,1105,-14.8967,-133.9750, 4237,    165.6,  23.3221,  36.3783,2,  36.3630,2,    199.2,2,    192.2,2,     1.37,2,     1.56,2,     0.67,2,     0.40,2,    1.841,2,    0.994,2,    0.798,2,   1.7310,2,    -0.72,2,   -999.0,9,   -999.0,9,   -999.0,9,   -999.0,9,   -999.0,9, -999.00,  -999.0,  0.0080,   0.150, 23.2878,   0.010
   31WTTUNES_2,  P17S,   142,  1,     19,     19,2,19910727,1105,-14.8967,-133.9750, 4237,    207.3,  21.6060,  36.1238,2,  36.1220,2,    188.2,2,    186.2,2,     1.37,2,     3.12,2,     0.02,2,     0.45,2,    1.849,2,    0.990,2,    0.763,2,   1.7390,2,    -0.36,2,   -999.0,9,   -999.0,9,   -999.0,9,   -999.0,9,   -999.0,9, -999.00,  -999.0,  0.0080,   0.150, 21.5653,   0.010
   31WTTUNES_2,  P17S,   142,  1,     20,     20,2,19910727,1105,-14.8967,-133.9750, 4237,    257.5,  18.2110,  35.4997,2,  35.4710,2,    178.0,2,    171.2,2,     1.95,2,     6.45,2,     0.01,2,     0.68,2,    1.780,2,    0.931,2,    0.612,2,   1.7340,2,     0.44,2,   -999.0,9,   -999.0,9,   -999.0,9,   -999.0,9,   -999.0,9, -999.00,  -999.0,  0.0080,   0.150, 18.1662,   0.009
   31WTTUNES_2,  P17S,   142,  1,     21,     21,2,19910727,1105,-14.8967,-133.9750, 4237,    308.4,  14.6804,  34.9982,2,  35.0023,2,    130.1,2,    133.4,2,     7.04,2,    13.09,2,     0.00,2,     1.22,2,    1.402,2,    0.730,2,    0.507,2,   1.7810,2,     1.20,2,   -999.0,9,   -999.0,9,   -999.0,9,   -999.0,9,   -999.0,9, -999.00,  -999.0,  0.0080,   0.150, 14.6342,   0.005
   31WTTUNES_2,  P17S,   142,  1,     22,     22,2,19910727,1105,-14.8967,-133.9750, 4237,    360.8,  11.7276,  34.6792,2,  34.6819,2,    102.9,2,    105.6,2,    11.73,2,    20.23,2,     0.00,2,     1.77,2,    0.775,2,    0.407,2,    0.315,2,   1.7720,2,     2.03,2,   -999.0,9,   -999.0,9,   -999.0,9,   -999.0,9,   -999.0,9, -999.00,  -999.0,  0.0080,   0.150, 11.6811,   0.004
   31WTTUNES_2,  P17S,   142,  1,     23,     23,2,19910727,1105,-14.8967,-133.9750, 4237,    411.5,   9.6623,  34.5551,2,  34.5544,2,     76.5,2,     79.5,2,    19.26,2,    28.15,2,     0.00,2,     2.28,2,    0.258,2,    0.144,2,    0.113,2,   1.7810,2,     2.59,2,   -999.0,9,   -999.0,9,   -999.0,9,   -999.0,9,   -999.0,9, -999.00,  -999.0,  0.0080,   0.150,  9.6153,   0.002
   31WTTUNES_2,  P17S,   142,  1,     24,     24,2,19910727,1105,-14.8967,-133.9750, 4237,    441.3,   9.0418,  34.5607,2,  34.5595,2,     70.5,2,     69.7,2,    23.75,2,    31.28,2,     0.00,2,     2.41,2,    0.110,2,    0.066,2,    0.072,2,   1.7340,2,     3.42,2,   -999.0,9,   -999.0,9,   -999.0,9,   -999.0,9,   -999.0,9, -999.00,  -999.0,  0.0080,   0.150,  8.9933,   0.002
   31WTTUNES_2,  P17S,   142,  1,     25,     25,2,19910727,1105,-14.8967,-133.9750, 4237,    483.0,   8.2235,  34.5424,2,  34.5438,2,     87.1,2,     86.5,2,    26.88,2,    32.36,2,     0.00,2,     2.39,2,    0.053,2,    0.035,2,    0.038,2,   1.7840,2,     4.20,2,   -999.0,9,   -999.0,9,   -999.0,9,   -999.0,9,   -999.0,9, -999.00,  -999.0,  0.0080,   0.150,  8.1733,   0.002
   31WTTUNES_2,  P17S,   142,  1,     26,     26,2,19910727,1105,-14.8967,-133.9750, 4237,    534.8,   7.4462,  34.5284,2,  34.5287,2,    104.0,2,    107.4,2,    30.60,2,    32.55,2,     0.00,2,     2.34,2,    0.035,2,    0.032,3,    0.026,2,   1.7950,2,     5.25,2,   -999.0,9,   -999.0,9,   -999.0,9,   -999.0,9,   -999.0,9, -999.00,  -999.0,  0.0080,   0.150,  7.3935,   0.002
   31WTTUNES_2,  P17S,   142,  1,     27,     27,2,19910727,1105,-14.8967,-133.9750, 4237,    615.2,   6.5620,  34.5035,2,  34.5028,2,    104.6,2,    103.8,2,    36.66,2,    34.90,2,     0.00,2,     2.47,2,    0.010,2,    0.012,2,    0.010,2,   1.7310,2,     7.43,2,   -999.0,9,   -999.0,9,   -999.0,9,   -999.0,9,   -999.0,9, -999.00,  -999.0,  0.0080,   0.150,  6.5052,   0.002
   31WTTUNES_2,  P17S,   142,  1,     28,     28,2,19910727,1105,-14.8967,-133.9750, 4237,    717.2,   5.7648,  34.4957,2,  34.4953,2,    101.9,2,    102.5,2,    46.34,2,    36.76,2,     0.00,2,     2.61,2,    0.004,2,    0.000,2,    0.006,2,   1.7840,2,     9.90,2,   -999.0,9,   -999.0,9,   -999.0,9,   -999.0,9,   -999.0,9, -999.00,  -999.0,  0.0080,   0.150,  5.7023,   0.002
   31WTTUNES_2,  P17S,   142,  1,     29,     29,2,19910727,1105,-14.8967,-133.9750, 4237,    819.4,   5.1913,  34.4951,2,  34.4965,2,    105.8,2,    104.4,2,    56.11,2,    37.44,2,     0.00,2,     2.67,2,    0.003,2,    0.000,2,    0.003,2,   1.7860,2,    12.83,2,   -999.0,9,   -999.0,9,   -999.0,9,   -999.0,9,   -999.0,9, -999.00,  -999.0,  0.0080,   0.150,  5.1229,   0.001
   31WTTUNES_2,  P17S,   142,  1,     30,     30,2,19910727,1105,-14.8967,-133.9750, 4237,    922.2,   4.6928,  34.5054,2,  34.5075,2,    103.9,2,    102.4,2,    66.28,2,    38.32,2,     0.00,2,     2.75,2,    0.002,2,    0.004,7,   -0.001,2,   1.8360,2,    14.59,2,   -999.0,9,   -999.0,9,   -999.0,9,   -999.0,9,   -999.0,9, -999.00,  -999.0,  0.0090,   0.150,  4.6187,   0.001
   31WTTUNES_2,  P17S,   142,  1,     31,     31,2,19910727,1105,-14.8967,-133.9750, 4237,   1025.1,   4.2952,  34.5188,2,  34.5209,2,    103.4,2,    101.1,2,    74.78,2,    39.00,2,     0.00,2,     2.81,2,    0.003,2,    0.006,2, -999.000,9,   1.8540,2,    16.39,2,   -999.0,9,   -999.0,9,   -999.0,9,   -999.0,9,   -999.0,9, -999.00,  -999.0,-999.0000,-999.000,  4.2151,-999.000
   31WTTUNES_2,  P17S,   142,  1,     32,     32,2,19910727,1105,-14.8967,-133.9750, 4237,   1127.1,   3.9465,  34.5337,2,  34.5335,2,    104.2,2,    102.9,2,    83.19,2,    39.20,2,     0.00,2,     2.83,2, -999.000,5, -999.000,5,    0.002,2,   1.8590,2,    18.44,2,   -999.0,9,   -999.0,9,   -999.0,9,   -999.0,9,   -999.0,9, -999.00,  -999.0,  0.0090,   0.150,  3.8606,   0.001
   31WTTUNES_2,  P17S,   142,  1,     33,     33,2,19910727,1105,-14.8967,-133.9750, 4237,   1332.2,   3.3202,  34.5625,2,  34.5631,2,    114.9,2,    113.1,2,    97.07,2,    38.51,2,     0.00,2,     2.77,2,   -0.001,7,    0.000,2, -999.000,9,   1.8800,2,    21.86,2,   -999.0,9,   -999.0,9,   -999.0,9,   -999.0,9,   -999.0,9, -999.00,  -999.0,-999.0000,-999.000,  3.2229,-999.000
   31WTTUNES_2,  P17S,   142,  1,     34,     34,2,19910727,1105,-14.8967,-133.9750, 4237,   1536.5,   2.8427,  34.5868,2,  34.5889,2,    125.3,2,    125.1,2,   106.64,2,    37.63,2,     0.00,2,     2.70,2,    0.002,2,    0.003,7, -999.000,9,   1.8910,2,    24.27,2,   -999.0,9,   -999.0,9,   -999.0,9,   -999.0,9,   -999.0,9, -999.00,  -999.0,-999.0000,-999.000,  2.7336,-999.000
   31WTTUNES_2,  P17S,   142,  1,     35,     35,2,19910727,1105,-14.8967,-133.9750, 4237,   1743.6,   2.4521,  34.6105,2,  34.6122,2,    133.8,2,    135.1,2,   114.27,2,    36.95,2,     0.00,2,     2.63,2,    0.001,7,    0.000,2, -999.000,9,   1.9010,2,    26.50,2,   -999.0,9,   -999.0,9,   -999.0,9,   -999.0,9,   -999.0,9, -999.00,  -999.0,-999.0000,-999.000,  2.3306,-999.000
   31WTTUNES_2,  P17S,   142,  1,     36,     36,3,19910727,1105,-14.8967,-133.9750, 4237,   1950.4,   2.1474,  34.6347,2,  34.6358,2,    142.4,2,    146.1,4,   120.52,2,    36.26,2,     0.00,2,     2.57,2,    0.001,2,    0.000,2, -999.000,9,-999.0000,5,    29.12,2,   -999.0,9,   -999.0,9,   -999.0,9,   -999.0,9,   -999.0,9, -999.00,  -999.0,-999.0000,-999.000,  2.0129,-999.000
   31WTTUNES_2,  P17S,   142,  1,      1,      1,2,19910727,1105,-14.8967,-133.9750, 4237,   2157.5,   1.9726,  34.6523,2,  34.6535,2,    145.8,2,    147.6,2,   125.50,2,    35.87,2,     0.00,2,     2.54,2,    0.001,7,    0.000,2, -999.000,9,   1.9220,2,    32.83,2,   -999.0,9,   -999.0,9,   -999.0,9,   -999.0,9,   -999.0,9, -999.00,  -999.0,-999.0000,-999.000,  1.8231,-999.000
   31WTTUNES_2,  P17S,   142,  1,      2,      2,2,19910727,1105,-14.8967,-133.9750, 4237,   2363.5,   1.8627,  34.6626,2,  34.6631,2,    149.7,2,    150.1,2,   128.63,2,    35.68,2,     0.00,2,     2.52,2,    0.002,2,    0.000,2, -999.000,9,   1.9280,2,    34.16,2,   -999.0,9,   -999.0,9,   -999.0,9,   -999.0,9,   -999.0,9, -999.00,  -999.0,-999.0000,-999.000,  1.6971,-999.000
   31WTTUNES_2,  P17S,   142,  1,      3,      3,2,19910727,1105,-14.8967,-133.9750, 4237,   2570.1,   1.7718,  34.6684,2,  34.6698,2,    152.8,2,    154.3,2,   130.19,2,    35.38,2,     0.00,2,     2.50,2,    0.000,2,    0.000,2, -999.000,9,   1.9250,2,    31.01,2,   -999.0,9,   -999.0,9,   -999.0,9,   -999.0,9,   -999.0,9, -999.00,  -999.0,-999.0000,-999.000,  1.5894,-999.000
   31WTTUNES_2,  P17S,   142,  1,      4,      4,2,19910727,1105,-14.8967,-133.9750, 4237,   2778.1,   1.7128,  34.6740,2,  34.6744,2,    154.7,2,    156.3,2,   132.05,2,    35.29,2,     0.00,2,     2.48,2,    0.000,2,    0.000,2, -999.000,9,   1.9350,2,    29.69,2,   -999.0,9,   -999.0,9,   -999.0,9,   -999.0,9,   -999.0,9, -999.00,  -999.0,-999.0000,-999.000,  1.5124,-999.000
   31WTTUNES_2,  P17S,   142,  1,      5,      5,2,19910727,1105,-14.8967,-133.9750, 4237,   2985.4,   1.6569,  34.6783,2,  34.6795,2,    157.8,2,    158.6,2,   134.69,2,    35.09,2,     0.00,2,     2.47,2,    0.000,2,    0.003,7, -999.000,9,   1.9210,2,    27.24,2,   -999.0,9,   -999.0,9,   -999.0,9,   -999.0,9,   -999.0,9, -999.00,  -999.0,-999.0000,-999.000,  1.4380,-999.000
   31WTTUNES_2,  P17S,   142,  1,      6,      6,2,19910727,1105,-14.8967,-133.9750, 4237,   3192.8,   1.6119,  34.6821,2,  34.6828,2,    160.1,2,    160.4,2,   135.27,2,    35.09,2,     0.00,2,     2.47,2,   -0.002,2,    0.000,2, -999.000,9,   1.9130,2,    25.21,2,   -999.0,9,   -999.0,9,   -999.0,9,   -999.0,9,   -999.0,9, -999.00,  -999.0,-999.0000,-999.000,  1.3739,-999.000
   31WTTUNES_2,  P17S,   142,  1,      7,      7,2,19910727,1105,-14.8967,-133.9750, 4237,   3395.1,   1.5700,  34.6839,2,  34.6862,2,    162.6,2,    163.3,2,   136.06,2,    35.09,2,     0.00,2,     2.47,2,    0.000,2,    0.000,2, -999.000,9,   1.9180,2,    23.58,2,   -999.0,9,   -999.0,9,   -999.0,9,   -999.0,9,   -999.0,9, -999.00,  -999.0,-999.0000,-999.000,  1.3127,-999.000
   31WTTUNES_2,  P17S,   142,  1,      8,      8,2,19910727,1105,-14.8967,-133.9750, 4237,   3594.8,   1.5520,  34.6862,2,  34.6870,2,    163.6,2,    165.2,2,   136.06,2,    34.99,2,     0.00,2,     2.46,2,    0.000,2,    0.000,2, -999.000,9,   1.9060,2,    22.58,2,   -999.0,9,   -999.0,9,   -999.0,9,   -999.0,9,   -999.0,9, -999.00,  -999.0,-999.0000,-999.000,  1.2748,-999.000
   31WTTUNES_2,  P17S,   142,  1,      9,      9,2,19910727,1105,-14.8967,-133.9750, 4237,   3800.1,   1.5410,  34.6873,2,  34.6874,2,    169.3,2,    167.0,2,   135.86,2,    34.89,2,     0.00,2,     2.45,2,   -0.002,2,    0.000,2, -999.000,9,   1.9020,2,    21.50,2,   -999.0,9,   -999.0,9,   -999.0,9,   -999.0,9,   -999.0,9, -999.00,  -999.0,-999.0000,-999.000,  1.2425,-999.000
   31WTTUNES_2,  P17S,   142,  1,     10,     10,2,19910727,1105,-14.8967,-133.9750, 4237,   4009.3,   1.5380,  34.6882,2,  34.6883,2,    169.0,2,    168.5,2,   135.27,2,    34.70,2,     0.00,2,     2.43,2,    0.001,2,    0.000,2, -999.000,9,   1.9050,2,    20.83,2,   -999.0,9,   -999.0,9,   -999.0,9,   -999.0,9,   -999.0,9, -999.00,  -999.0,-999.0000,-999.000,  1.2170,-999.000
   31WTTUNES_2,  P17S,   142,  1,     11,     11,2,19910727,1105,-14.8967,-133.9750, 4237,   4163.9,   1.5290,  34.6904,2,  34.6893,2,    170.6,2,    170.3,2,   134.39,2,    34.60,2,     0.00,2,     2.42,2,    0.001,2,    0.003,2, -999.000,9,   1.9030,2,    20.40,2,   -999.0,9,   -999.0,9,   -999.0,9,   -999.0,9,   -999.0,9, -999.00,  -999.0,-999.0000,-999.000,  1.1912,-999.000
   31WTTUNES_2,  P17S,   142,  1,     12,     12,2,19910727,1105,-14.8967,-133.9750, 4237,   4297.7,   1.5390,  34.6904,2,  34.6911,2,    170.5,2,    170.5,2,   134.00,2,    34.70,2,     0.00,2,     2.43,2,   -0.002,2,    0.000,2, -999.000,9,   1.8990,2,    20.03,2,   -999.0,9,   -999.0,9,   -999.0,9,   -999.0,9,   -999.0,9, -999.00,  -999.0,-999.0000,-999.000,  1.1859,-999.000