BOTTLE,20131125MIRCJHATS
EXPOCODE,SECT_ID,STNNBR,CASTNO,SAMPNO,BTLNBR,BTLNBR_FLAG_W,DATE,TIME,LATITUDE,LONGITUDE,DEPTH,CTDPRS,CTDTMP,CTDSAL,CTDSAL_FLAG_W,SALNTY,SALNTY_FLAG_W,CTDOXY,CTDOXY_FLAG_W,OXYGEN,OXYGEN_FLAG_W,SILCAT,SILCAT_FLAG_W,NITRAT,NITRAT_FLAG_W,NITRIT,NITRIT_FLAG_W,PHSPHT,PHSPHT_FLAG_W,CFC-11,CFC-11_FLAG_W,CFC-12,CFC-12_FLAG_W,TRITUM,TRITUM_FLAG_W,HELIUM,HELIUM_FLAG_W,DELHE3,DELHE3_FLAG_W,DELC14,DELC14_FLAG_W,DELC13,DELC13_FLAG_W,TCARBN,TCARBN_FLAG_W,PCO2,PCO2_FLAG_W,ALKALI,ALKALI_FLAG_W,PCO2TMP,C14ERR,HELIER,DELHER,THETA,TRITER
,,,,,,,,,,,,DBAR,ITS-90,PSS-78,,PSS-78,,UMOL/KG,,UMOL/KG,,UMOL/KG,,UMOL/KG,,UMOL/KG,,UMOL/KG,,PMOL/KG,,PMOL/KG,,TU,,NMOL/KG,,PERCNT,,/MILLE,,/MILLE,,UMOL/KG,,UATM,,UMOL/KG,,DEG C,/MILLE,NMOL/KG,PERCNT,DEG C,TU
   31WTTUNES_2,  P17S,   143,  3,      1,      1,2,19910728,0203,-15.3767,-133.8933, 4206,      2.9,  26.5647,  36.6028,2,  36.6058,2,    211.2,3,    208.8,2,     1.44,2,     0.09,2,     0.00,2,     0.23,2,    1.664,2,    0.899,2, -999.000,9,-999.0000,9,  -999.00,9,    101.8,2,      1.7,2,   -999.0,5,    248.4,2,   -999.0,9,   20.00,     3.9,-999.0000,-999.000, 26.5640,-999.000
   31WTTUNES_2,  P17S,   143,  3,      2,      2,2,19910728,0203,-15.3767,-133.8933, 4206,     47.1,  26.5227,  36.6024,2,  36.6050,2,    207.8,2,    211.0,2,     1.43,2,     0.04,2,     0.00,2,     0.23,2,    1.652,2,    0.884,2, -999.000,9,-999.0000,9,  -999.00,9,   -999.0,9,   -999.0,9,   -999.0,9,   -999.0,9,   -999.0,9, -999.00,  -999.0,-999.0000,-999.000, 26.5120,-999.000
   31WTTUNES_2,  P17S,   143,  3,      3,      3,2,19910728,0203,-15.3767,-133.8933, 4206,     87.1,  26.5067,  36.6387,2,  36.6433,2,    204.8,6,    209.2,2,     1.41,2,     0.00,2,     0.00,2,     0.23,2,    1.674,2,    0.898,2, -999.000,9,-999.0000,9,  -999.00,9,   -999.0,9,   -999.0,9,   -999.0,9,   -999.0,9,   -999.0,9, -999.00,  -999.0,-999.0000,-999.000, 26.4869,-999.000
   31WTTUNES_2,  P17S,   143,  3,      4,      4,2,19910728,0203,-15.3767,-133.8933, 4206,    121.4,  25.7611,  36.5169,2,  36.4726,2,    203.6,2,    199.5,2,     1.40,2,     0.17,2,     0.18,2,     0.30,2,    1.733,2,    0.933,2, -999.000,9,-999.0000,9,  -999.00,9,    103.6,2,      1.5,2,   -999.0,9,   -999.0,9,   -999.0,9, -999.00,     3.8,-999.0000,-999.000, 25.7340,-999.000
   31WTTUNES_2,  P17S,   143,  3,      5,      5,2,19910728,0203,-15.3767,-133.8933, 4206,    144.3,  23.8542,  36.3533,2,  36.3367,2,    192.9,2,    198.1,2,     1.39,2,     0.28,2,     1.05,2,     0.31,2,    1.823,2,    0.955,2, -999.000,9,-999.0000,9,  -999.00,9,    124.3,2,      1.4,2,   -999.0,9,   -999.0,9,   -999.0,9, -999.00,     3.9,-999.0000,-999.000, 23.8238,-999.000
   31WTTUNES_2,  P17S,   143,  3,      6,      6,3,19910728,0203,-15.3767,-133.8933, 4206,    172.8,  22.5010,  36.2622,2,  36.5055,4,    186.6,2,    207.4,4,     1.38,4,     0.69,4,     0.07,4,     0.29,4,    1.714,2,    0.921,2, -999.000,9,-999.0000,9,  -999.00,9,    100.5,4,      1.5,2,   -999.0,9,   -999.0,9,   -999.0,9, -999.00,     3.8,-999.0000,-999.000, 22.4661,-999.000
   31WTTUNES_2,  P17S,   143,  3,      7,      7,2,19910728,0203,-15.3767,-133.8933, 4206,    200.0,  21.6566,  36.1493,2,  36.1438,2,    189.5,2,    187.7,2,     1.37,2,     2.86,2,     0.02,2,     0.43,2,    1.889,2,    0.983,2, -999.000,9,-999.0000,9,  -999.00,9,    125.1,2,      1.3,2,   -999.0,9,   -999.0,9,   -999.0,9, -999.00,     4.2,-999.0000,-999.000, 21.6172,-999.000
   31WTTUNES_2,  P17S,   143,  3,      8,      8,2,19910728,0203,-15.3767,-133.8933, 4206,    246.6,  19.6340,  35.7690,2,  35.7567,2,    187.3,2,    184.4,2,     1.36,2,     3.91,2,     0.01,2,     0.48,2,    1.858,2,    0.972,2, -999.000,9,-999.0000,9,  -999.00,9,    129.4,2,      1.2,2,   -999.0,9,   -999.0,9,   -999.0,9, -999.00,     3.9,-999.0000,-999.000, 19.5887,-999.000
   31WTTUNES_2,  P17S,   143,  3,      9,      9,2,19910728,0203,-15.3767,-133.8933, 4206,    294.9,  16.1286,  35.1908,2,  35.1860,2,    176.3,2,    171.2,2,     2.68,2,     7.81,2,     0.01,2,     0.76,2,    1.626,2,    0.838,8, -999.000,9,-999.0000,9,  -999.00,9,    104.9,2,      0.9,2,   -999.0,9,   -999.0,9,   -999.0,9, -999.00,     6.4,-999.0000,-999.000, 16.0815,-999.000
   31WTTUNES_2,  P17S,   143,  3,     10,     10,2,19910728,0203,-15.3767,-133.8933, 4206,    345.3,  12.3408,  34.7132,2,  34.7145,2,    140.2,2,    135.0,2,     8.04,2,    16.42,2,     0.00,2,     1.41,2,    1.017,2,    0.515,2, -999.000,9,-999.0000,9,  -999.00,9,     53.7,2,      0.8,2,   -999.0,9,   -999.0,9,   -999.0,9, -999.00,     3.2,-999.0000,-999.000, 12.2948,-999.000
   31WTTUNES_2,  P17S,   143,  3,     11,     11,2,19910728,0203,-15.3767,-133.8933, 4206,    397.1,  10.1638,  34.5458,2,  34.5453,2,     97.7,2,     95.4,2,    16.26,2,    24.85,2,     0.00,2,     2.03,2,    0.434,2,    0.228,2, -999.000,9,-999.0000,9,  -999.00,9,    -21.6,2,      0.5,2,   -999.0,9,   -999.0,9,   -999.0,9, -999.00,     3.0,-999.0000,-999.000, 10.1171,-999.000
   31WTTUNES_2,  P17S,   143,  3,     12,     12,2,19910728,0203,-15.3767,-133.8933, 4206,    448.4,   8.4455,  34.5063,2,  34.5141,2,     83.5,2,     79.8,2,    24.11,2,    31.86,2,     0.00,2,     2.39,2,    0.080,2,    0.052,2, -999.000,9,-999.0000,9,  -999.00,9,    -86.3,2,      0.3,2,   -999.0,9,   -999.0,9,   -999.0,9, -999.00,     3.6,-999.0000,-999.000,  8.3982,-999.000
   31WTTUNES_2,  P17S,   143,  3,     13,     13,2,19910728,0203,-15.3767,-133.8933, 4206,    498.1,   7.7222,  34.5099,2,  34.5096,2,     81.2,2,     86.4,2,    26.78,2,    33.34,2,     0.00,2,     2.43,2,    0.033,2,    0.022,2, -999.000,9,-999.0000,9,  -999.00,9,    -91.6,2,      0.3,2,   -999.0,9,   -999.0,9,   -999.0,9, -999.00,     3.7,-999.0000,-999.000,  7.6722,-999.000
   31WTTUNES_2,  P17S,   143,  3,     37,     37,2,19910728,0203,-15.3767,-133.8933, 4206,    602.7,   6.6254,  34.5052,2,  34.5058,2,    101.2,2,    103.3,2,    36.16,2,    34.72,2,     0.00,2,     2.46,2,    0.008,2,    0.004,7, -999.000,9,-999.0000,9,  -999.00,9,   -111.5,2,      0.4,2,   -999.0,9,   -999.0,9,   -999.0,9, -999.00,     3.2,-999.0000,-999.000,  6.5694,-999.000
   31WTTUNES_2,  P17S,   143,  3,     15,     15,2,19910728,0203,-15.3767,-133.8933, 4206,    710.2,   5.8162,  34.4948,2,  34.4976,2,     99.5,2,    101.0,2,    46.89,2,    36.58,2,     0.00,2,     2.58,2,    0.003,2,   -0.002,2, -999.000,9,-999.0000,9,  -999.00,9,   -128.8,2,      0.4,2,   -999.0,9,   -999.0,9,   -999.0,9, -999.00,     4.9,-999.0000,-999.000,  5.7541,-999.000
   31WTTUNES_2,  P17S,   143,  3,     16,     16,2,19910728,0203,-15.3767,-133.8933, 4206,    812.7,   5.2698,  34.4941,2,  34.4958,2,    103.5,2,    103.4,2,    54.76,2,    37.17,2,     0.00,2,     2.64,2,    0.002,2,   -0.003,2, -999.000,9,-999.0000,9,  -999.00,9,   -136.3,2,      0.3,2,   -999.0,9,   -999.0,9,   -999.0,9, -999.00,     3.8,-999.0000,-999.000,  5.2015,-999.000
   31WTTUNES_2,  P17S,   143,  3,     17,     17,2,19910728,0203,-15.3767,-133.8933, 4206,    918.3,   4.7683,  34.5029,2,  34.5056,2,     96.8,2,     97.5,2,    64.56,2,    38.51,2,     0.00,2,     2.74,2,    0.003,2,   -0.002,2, -999.000,9,-999.0000,9,  -999.00,9,   -167.0,2,      0.1,2,   -999.0,9,   -999.0,9,   -999.0,9, -999.00,     3.5,-999.0000,-999.000,  4.6940,-999.000
   31WTTUNES_2,  P17S,   143,  3,     18,     18,2,19910728,0203,-15.3767,-133.8933, 4206,   1023.6,   4.3498,  34.5173,2,  34.5194,2,     94.0,2,     93.6,2,    73.82,2,    39.43,2,     0.00,2,     2.83,2,    0.005,2,    0.004,2, -999.000,9,-999.0000,9,  -999.00,9,   -175.4,2,      0.1,2,   -999.0,9,   -999.0,9,   -999.0,9, -999.00,     3.5,-999.0000,-999.000,  4.2694,-999.000
   31WTTUNES_2,  P17S,   143,  3,     19,     19,2,19910728,0203,-15.3767,-133.8933, 4206,   1126.8,   3.9592,  34.5330,2,  34.5351,2,     96.7,2,     96.0,2,    83.30,2,    39.49,2,     0.00,2,     2.84,2, -999.000,9, -999.000,9, -999.000,9,-999.0000,9,  -999.00,9,   -999.0,9,   -999.0,9,   -999.0,9,   -999.0,9,   -999.0,9, -999.00,  -999.0,-999.0000,-999.000,  3.8732,-999.000
   31WTTUNES_2,  P17S,   143,  3,     20,     20,2,19910728,0203,-15.3767,-133.8933, 4206,   1230.1,   3.6396,  34.5482,2,  34.5492,2,    102.9,2,    100.4,2,    90.10,2,    39.07,2,     0.00,2,     2.80,2, -999.000,9, -999.000,9, -999.000,9,-999.0000,9,  -999.00,9,   -999.0,9,   -999.0,9,   -999.0,9,   -999.0,9,   -999.0,9, -999.00,  -999.0,-999.0000,-999.000,  3.5477,-999.000
   31WTTUNES_2,  P17S,   143,  3,     21,     21,2,19910728,0203,-15.3767,-133.8933, 4206,   1438.1,   3.1172,  34.5730,2,  34.5741,2,    114.5,2,    113.9,2,   101.04,2,    37.95,2,     0.00,2,     2.73,2, -999.000,9, -999.000,9, -999.000,9,-999.0000,9,  -999.00,9,   -999.0,9,   -999.0,9,   -999.0,9,   -999.0,9,   -999.0,9, -999.00,  -999.0,-999.0000,-999.000,  3.0132,-999.000
   31WTTUNES_2,  P17S,   143,  3,     22,     22,2,19910728,0203,-15.3767,-133.8933, 4206,   1645.5,   2.6647,  34.5982,2,  34.5983,2,    125.2,2,    125.2,2,   109.89,2,    37.31,2,     0.00,2,     2.67,2, -999.000,9, -999.000,9, -999.000,9,-999.0000,9,  -999.00,9,   -999.0,9,   -999.0,9,   -999.0,9,   -999.0,9,   -999.0,9, -999.00,  -999.0,-999.0000,-999.000,  2.5487,-999.000
   31WTTUNES_2,  P17S,   143,  3,     23,     23,2,19910728,0203,-15.3767,-133.8933, 4206,   1852.5,   2.2462,  34.6275,2,  34.6289,2,    137.3,2,    138.9,2,   116.82,2,    36.25,2,     0.00,2,     2.57,2, -999.000,9, -999.000,9, -999.000,9,-999.0000,9,  -999.00,9,   -999.0,9,   -999.0,9,   -999.0,9,   -999.0,9,   -999.0,9, -999.00,  -999.0,-999.0000,-999.000,  2.1185,-999.000
   31WTTUNES_2,  P17S,   143,  3,     24,     24,2,19910728,0203,-15.3767,-133.8933, 4206,   2055.9,   2.0744,  34.6406,2,  34.6421,2,    146.1,2,    145.0,2,   119.99,2,    35.77,2,     0.00,2,     2.51,2, -999.000,9, -999.000,9, -999.000,9,-999.0000,9,  -999.00,9,   -999.0,9,   -999.0,9,   -999.0,9,   -999.0,9,   -999.0,9, -999.00,  -999.0,-999.0000,-999.000,  1.9320,-999.000
   31WTTUNES_2,  P17S,   143,  3,     25,     25,2,19910728,0203,-15.3767,-133.8933, 4206,   2255.8,   1.9435,  34.6522,2,  34.6536,2,    149.0,2,    150.1,2,   123.17,2,    35.30,2,     0.00,2,     2.48,2, -999.000,9, -999.000,9, -999.000,9,-999.0000,9,  -999.00,9,   -999.0,9,   -999.0,9,   -999.0,9,   -999.0,9,   -999.0,9, -999.00,  -999.0,-999.0000,-999.000,  1.7860,-999.000
   31WTTUNES_2,  P17S,   143,  3,     26,     26,2,19910728,0203,-15.3767,-133.8933, 4206,   2459.1,   1.8417,  34.6620,2,  34.6627,2,    152.0,2,    152.2,2,   126.97,2,    35.20,2,     0.00,2,     2.47,2, -999.000,9, -999.000,9, -999.000,9,-999.0000,9,  -999.00,9,   -999.0,9,   -999.0,9,   -999.0,9,   -999.0,9,   -999.0,9, -999.00,  -999.0,-999.0000,-999.000,  1.6680,-999.000
   31WTTUNES_2,  P17S,   143,  3,     27,     27,2,19910728,0203,-15.3767,-133.8933, 4206,   2665.5,   1.7657,  34.6686,2,  34.6693,2,    152.7,2,    154.5,2,   129.77,2,    35.20,2,     0.00,2,     2.47,2, -999.000,9, -999.000,9, -999.000,9,-999.0000,9,  -999.00,9,   -999.0,9,   -999.0,9,   -999.0,9,   -999.0,9,   -999.0,9, -999.00,  -999.0,-999.0000,-999.000,  1.5747,-999.000
   31WTTUNES_2,  P17S,   143,  3,     28,     28,2,19910728,0203,-15.3767,-133.8933, 4206,   2869.1,   1.7048,  34.6730,2,  34.6746,2,    156.5,2,    157.2,2,   130.76,2,    35.10,2,     0.00,2,     2.46,2, -999.000,9, -999.000,9, -999.000,9,-999.0000,9,  -999.00,9,   -999.0,9,   -999.0,9,   -999.0,9,   -999.0,9,   -999.0,9, -999.00,  -999.0,-999.0000,-999.000,  1.4960,-999.000
   31WTTUNES_2,  P17S,   143,  3,     29,     29,2,19910728,0203,-15.3767,-133.8933, 4206,   3072.9,   1.6529,  34.6777,2,  34.6766,2,    157.9,2,    159.2,2,   132.15,2,    34.94,2,     0.00,2,     2.44,2, -999.000,9, -999.000,9, -999.000,9,-999.0000,9,  -999.00,9,   -999.0,9,   -999.0,9,   -999.0,9,   -999.0,9,   -999.0,9, -999.00,  -999.0,-999.0000,-999.000,  1.4257,-999.000
   31WTTUNES_2,  P17S,   143,  3,     30,     30,2,19910728,0203,-15.3767,-133.8933, 4206,   3278.1,   1.6029,  34.6810,2,  34.6815,2,    160.3,2,    161.6,2,   133.35,2,    34.68,2,     0.00,2,     2.43,2, -999.000,9, -999.000,9, -999.000,9,-999.0000,9,  -999.00,9,   -999.0,9,   -999.0,9,   -999.0,9,   -999.0,9,   -999.0,9, -999.00,  -999.0,-999.0000,-999.000,  1.3567,-999.000
   31WTTUNES_2,  P17S,   143,  3,     31,     31,2,19910728,0203,-15.3767,-133.8933, 4206,   3483.0,   1.5730,  34.6843,2,  34.6844,2,    162.9,2,    163.7,2,   133.13,2,    34.58,2,     0.00,2,     2.42,2, -999.000,9, -999.000,9, -999.000,9,-999.0000,9,  -999.00,9,   -999.0,9,   -999.0,9,   -999.0,9,   -999.0,9,   -999.0,9, -999.00,  -999.0,-999.0000,-999.000,  1.3067,-999.000
   31WTTUNES_2,  P17S,   143,  3,     32,     32,2,19910728,0203,-15.3767,-133.8933, 4206,   3685.4,   1.5540,  34.6845,2,  34.6854,2,    164.4,2,    165.9,2,   132.91,2,    34.59,2,     0.00,2,     2.42,2, -999.000,9, -999.000,9, -999.000,9,-999.0000,9,  -999.00,9,   -999.0,9,   -999.0,9,   -999.0,9,   -999.0,9,   -999.0,9, -999.00,  -999.0,-999.0000,-999.000,  1.2672,-999.000
   31WTTUNES_2,  P17S,   143,  3,     33,     33,2,19910728,0203,-15.3767,-133.8933, 4206,   3891.2,   1.5490,  34.6871,2,  34.6870,2,    165.6,2,    167.2,2,   132.89,2,    34.59,2,     0.00,2,     2.42,2, -999.000,9, -999.000,9, -999.000,9,-999.0000,9,  -999.00,9,   -999.0,9,   -999.0,9,   -999.0,9,   -999.0,9,   -999.0,9, -999.00,  -999.0,-999.0000,-999.000,  1.2405,-999.000
   31WTTUNES_2,  P17S,   143,  3,     35,     35,2,19910728,0203,-15.3767,-133.8933, 4206,   4099.3,   1.5420,  34.6885,2,  34.6873,2,    171.0,2,    169.5,2,   132.24,2,    34.34,2,     0.00,2,     2.41,2, -999.000,9, -999.000,9, -999.000,9,-999.0000,9,  -999.00,9,   -999.0,9,   -999.0,9,   -999.0,9,   -999.0,9,   -999.0,9, -999.00,  -999.0,-999.0000,-999.000,  1.2110,-999.000
   31WTTUNES_2,  P17S,   143,  3,     34,     34,2,19910728,0203,-15.3767,-133.8933, 4206,   4099.6,   1.5420,  34.6883,2,  34.6877,2,    171.0,2,    169.9,2,   132.46,2,    34.44,2,     0.00,2,     2.41,2, -999.000,9, -999.000,9, -999.000,9,-999.0000,9,  -999.00,9,   -999.0,9,   -999.0,9,   -999.0,9,   -999.0,9,   -999.0,9, -999.00,  -999.0,-999.0000,-999.000,  1.2110,-999.000
   31WTTUNES_2,  P17S,   143,  3,     36,     36,2,19910728,0203,-15.3767,-133.8933, 4206,   4278.7,   1.5390,  34.6891,2,  34.6885,2,    172.3,2,    170.8,2,   131.01,2,    34.23,2,     0.00,2,     2.39,2, -999.000,9, -999.000,9, -999.000,9,-999.0000,9,  -999.00,9,   -999.0,9,   -999.0,9,   -999.0,9,   -999.0,9,   -999.0,9, -999.00,  -999.0,-999.0000,-999.000,  1.1881,-999.000