BOTTLE,20131125MIRCJHATS
EXPOCODE,SECT_ID,STNNBR,CASTNO,SAMPNO,BTLNBR,BTLNBR_FLAG_W,DATE,TIME,LATITUDE,LONGITUDE,DEPTH,CTDPRS,CTDTMP,CTDSAL,CTDSAL_FLAG_W,SALNTY,SALNTY_FLAG_W,CTDOXY,CTDOXY_FLAG_W,OXYGEN,OXYGEN_FLAG_W,SILCAT,SILCAT_FLAG_W,NITRAT,NITRAT_FLAG_W,NITRIT,NITRIT_FLAG_W,PHSPHT,PHSPHT_FLAG_W,CFC-11,CFC-11_FLAG_W,CFC-12,CFC-12_FLAG_W,TRITUM,TRITUM_FLAG_W,HELIUM,HELIUM_FLAG_W,DELHE3,DELHE3_FLAG_W,DELC14,DELC14_FLAG_W,DELC13,DELC13_FLAG_W,TCARBN,TCARBN_FLAG_W,PCO2,PCO2_FLAG_W,ALKALI,ALKALI_FLAG_W,PCO2TMP,C14ERR,HELIER,DELHER,THETA,TRITER
,,,,,,,,,,,,DBAR,ITS-90,PSS-78,,PSS-78,,UMOL/KG,,UMOL/KG,,UMOL/KG,,UMOL/KG,,UMOL/KG,,UMOL/KG,,PMOL/KG,,PMOL/KG,,TU,,NMOL/KG,,PERCNT,,/MILLE,,/MILLE,,UMOL/KG,,UATM,,UMOL/KG,,DEG C,/MILLE,NMOL/KG,PERCNT,DEG C,TU
   31WTTUNES_2,  P17S,   128,  1,      1,      1,2,19910723,0208, -8.0083,-134.9933, 4511,      0.2,  27.8220,  35.2387,2,  35.2426,2,    215.4,3,    213.8,2,     2.05,2,     3.91,2,     0.06,2,     0.47,2, -999.000,9, -999.000,9, -999.000,9,-999.0000,9,  -999.00,9,   -999.0,9,   -999.0,9,   1989.8,2,    282.0,2,   -999.0,9,   20.00,  -999.0,-999.0000,-999.000, 27.8220,-999.000
   31WTTUNES_2,  P17S,   128,  1,      2,      2,2,19910723,0208, -8.0083,-134.9933, 4511,     52.5,  27.7760,  35.2399,2,  35.2613,2,    216.4,6,    210.8,2,     1.86,2,     3.91,2,     0.06,2,     0.46,2,    1.633,2,    0.926,8, -999.000,9,-999.0000,9,  -999.00,9,   -999.0,9,   -999.0,9,   -999.0,9,   -999.0,9,   -999.0,9, -999.00,  -999.0,-999.0000,-999.000, 27.7637,-999.000
   31WTTUNES_2,  P17S,   128,  1,      3,      3,2,19910723,0208, -8.0083,-134.9933, 4511,     75.9,  28.0971,  35.9305,2,  35.9466,2,    214.4,6,    206.5,2,     1.86,2,     3.32,2,     0.05,2,     0.48,2,    1.607,2,    0.904,8, -999.000,9,-999.0000,9,  -999.00,9,   -999.0,9,   -999.0,9,   -999.0,9,   -999.0,9,   -999.0,9, -999.00,  -999.0,-999.0000,-999.000, 28.0792,-999.000
   31WTTUNES_2,  P17S,   128,  1,      4,      4,2,19910723,0208, -8.0083,-134.9933, 4511,    102.3,  26.9528,  36.0469,2,  36.0453,2,    211.7,2,    202.4,2,     2.25,2,     2.73,2,     0.06,2,     0.53,2, -999.000,9, -999.000,9, -999.000,9,-999.0000,9,  -999.00,9,   -999.0,9,   -999.0,9,   -999.0,9,   -999.0,9,   -999.0,9, -999.00,  -999.0,-999.0000,-999.000, 26.9293,-999.000
   31WTTUNES_2,  P17S,   128,  1,      5,      5,2,19910723,0208, -8.0083,-134.9933, 4511,    143.8,  22.8349,  36.1593,2,  36.1473,2,    180.6,2,    176.8,2,     1.86,2,     3.03,2,     1.86,2,     0.61,2,    1.916,2,    1.085,2, -999.000,9,-999.0000,9,  -999.00,9,   -999.0,9,   -999.0,9,   -999.0,9,   -999.0,9,   -999.0,9, -999.00,  -999.0,-999.0000,-999.000, 22.8056,-999.000
   31WTTUNES_2,  P17S,   128,  1,      6,      6,2,19910723,0208, -8.0083,-134.9933, 4511,    185.6,  19.0267,  35.6176,2,  35.6230,2,    153.2,2,    159.1,2,     2.64,2,     8.01,2,     0.01,2,     0.81,2,    1.883,2,    1.189,2, -999.000,9,-999.0000,9,  -999.00,9,   -999.0,9,   -999.0,9,   -999.0,9,   -999.0,9,   -999.0,9, -999.00,  -999.0,-999.0000,-999.000, 18.9935,-999.000
   31WTTUNES_2,  P17S,   128,  1,      7,      7,2,19910723,0208, -8.0083,-134.9933, 4511,    231.8,  13.9943,  34.9862,2,  34.9780,2,     74.8,2,     69.2,2,    12.02,2,    20.42,2,     0.00,2,     1.83,2,    1.001,2,    0.560,2, -999.000,9,-999.0000,9,  -999.00,9,   -999.0,9,   -999.0,9,   -999.0,9,   -999.0,9,   -999.0,9, -999.00,  -999.0,-999.0000,-999.000, 13.9608,-999.000
   31WTTUNES_2,  P17S,   128,  1,      8,      8,2,19910723,0208, -8.0083,-134.9933, 4511,    283.5,  11.4340,  34.7988,2,  34.7941,2,     32.6,2,     30.1,2,    23.07,2,    29.61,2,     0.00,2,     2.39,2,    0.203,2,    0.120,2, -999.000,9,-999.0000,9,  -999.00,9,   -999.0,9,   -999.0,9,   -999.0,9,   -999.0,9,   -999.0,9, -999.00,  -999.0,-999.0000,-999.000, 11.3981,-999.000
   31WTTUNES_2,  P17S,   128,  1,      9,      9,2,19910723,0208, -8.0083,-134.9933, 4511,    334.3,  10.0804,  34.7404,2,  34.7411,2,     46.4,2,     45.8,2,    28.44,2,    32.55,2,     0.00,2,     2.38,2,    0.070,2,    0.051,2, -999.000,9,-999.0000,9,  -999.00,9,   -999.0,9,   -999.0,9,   -999.0,9,   -999.0,9,   -999.0,9, -999.00,  -999.0,-999.0000,-999.000, 10.0413,-999.000
   31WTTUNES_2,  P17S,   128,  1,     10,     10,2,19910723,0208, -8.0083,-134.9933, 4511,    384.7,   9.3437,  34.6976,2,  34.6989,2,     55.4,2,     56.1,2,    30.89,2,    33.53,2,     0.00,2,     2.40,2,    0.046,2,    0.036,2, -999.000,9,-999.0000,9,  -999.00,9,   -999.0,9,   -999.0,9,   -999.0,9,   -999.0,9,   -999.0,9, -999.00,  -999.0,-999.0000,-999.000,  9.3007,-999.000
   31WTTUNES_2,  P17S,   128,  1,     11,     11,2,19910723,0208, -8.0083,-134.9933, 4511,    462.1,   8.4481,  34.6438,2,  34.6468,2,     64.2,2,     67.0,2,    33.92,2,    34.41,2,     0.00,2,     2.44,2,    0.030,2,    0.028,2, -999.000,9,-999.0000,9,  -999.00,9,   -999.0,9,   -999.0,9,   -999.0,9,   -999.0,9,   -999.0,9, -999.00,  -999.0,-999.0000,-999.000,  8.3992,-999.000
   31WTTUNES_2,  P17S,   128,  1,     12,     12,2,19910723,0208, -8.0083,-134.9933, 4511,    536.9,   7.6654,  34.6029,2,  34.6061,2,     66.6,2,     60.3,2,    39.29,2,    36.95,2,     0.00,2,     2.62,2,    0.019,2,    0.013,2, -999.000,9,-999.0000,9,  -999.00,9,   -999.0,9,   -999.0,9,   -999.0,9,   -999.0,9,   -999.0,9, -999.00,  -999.0,-999.0000,-999.000,  7.6116,-999.000
   31WTTUNES_2,  P17S,   128,  1,     13,     13,2,19910723,0208, -8.0083,-134.9933, 4511,    588.5,   7.2037,  34.5817,2,  34.5843,2,     63.7,2,     62.5,2,    42.72,2,    38.02,2,     0.00,2,     2.70,2,    0.007,2,    0.006,2, -999.000,9,-999.0000,9,  -999.00,9,   -999.0,9,   -999.0,9,   -999.0,9,   -999.0,9,   -999.0,9, -999.00,  -999.0,-999.0000,-999.000,  7.1464,-999.000
   31WTTUNES_2,  P17S,   128,  1,     14,     14,2,19910723,0208, -8.0083,-134.9933, 4511,    665.7,   6.5570,  34.5570,2,  34.5556,2,     66.6,2,     74.7,2,    48.29,2,    38.81,2,     0.00,2,     2.74,2,    0.003,2,    0.006,2, -999.000,9,-999.0000,9,  -999.00,9,   -999.0,9,   -999.0,9,   -999.0,9,   -999.0,9,   -999.0,9, -999.00,  -999.0,-999.0000,-999.000,  6.4952,-999.000
   31WTTUNES_2,  P17S,   128,  1,     15,     15,2,19910723,0208, -8.0083,-134.9933, 4511,    769.5,   5.8373,  34.5392,2,  34.5385,2,     69.1,2,     69.8,2,    57.38,2,    40.47,2,     0.00,2,     2.86,2,    0.000,2,    0.006,2, -999.000,9,-999.0000,9,  -999.00,9,   -999.0,9,   -999.0,9,   -999.0,9,   -999.0,9,   -999.0,9, -999.00,  -999.0,-999.0000,-999.000,  5.7696,-999.000
   31WTTUNES_2,  P17S,   128,  1,     16,     16,2,19910723,0208, -8.0083,-134.9933, 4511,    872.6,   5.0028,  34.5322,2,  34.5337,2,     78.9,2,     81.5,2,    68.72,2,    40.18,2,     0.00,2,     2.87,2,    0.001,2,    0.001,2, -999.000,9,-999.0000,9,  -999.00,9,   -999.0,9,   -999.0,9,   -999.0,9,   -999.0,9,   -999.0,9, -999.00,  -999.0,-999.0000,-999.000,  4.9308,-999.000
   31WTTUNES_2,  P17S,   128,  1,     17,     17,2,19910723,0208, -8.0083,-134.9933, 4511,    974.3,   4.5561,  34.5344,2,  34.5361,2,     88.3,2,     87.3,2,    76.64,2,    39.69,2,     0.00,2,     2.85,2, -999.000,9, -999.000,9, -999.000,9,-999.0000,9,  -999.00,9,   -999.0,9,   -999.0,9,   -999.0,9,   -999.0,9,   -999.0,9, -999.00,  -999.0,-999.0000,-999.000,  4.4783,-999.000
   31WTTUNES_2,  P17S,   128,  1,     18,     18,2,19910723,0208, -8.0083,-134.9933, 4511,   1077.7,   4.1083,  34.5481,2,  34.5476,2,     96.8,2,     97.4,2,    86.71,2,    38.91,2,     0.00,2,     2.81,2, -999.000,9, -999.000,9, -999.000,9,-999.0000,9,  -999.00,9,   -999.0,9,   -999.0,9,   -999.0,9,   -999.0,9,   -999.0,9, -999.00,  -999.0,-999.0000,-999.000,  4.0252,-999.000
   31WTTUNES_2,  P17S,   128,  1,     19,     19,2,19910723,0208, -8.0083,-134.9933, 4511,   1180.5,   3.7905,  34.5572,2,  34.5602,2,    101.6,2,    100.8,2,    93.06,2,    38.71,2,     0.00,2,     2.81,2, -999.000,9, -999.000,9, -999.000,9,-999.0000,9,  -999.00,9,   -999.0,9,   -999.0,9,   -999.0,9,   -999.0,9,   -999.0,9, -999.00,  -999.0,-999.0000,-999.000,  3.7014,-999.000
   31WTTUNES_2,  P17S,   128,  1,     20,     20,2,19910723,0208, -8.0083,-134.9933, 4511,   1334.4,   3.3608,  34.5743,2,  34.5759,2,    107.7,2,    106.6,2,   103.32,2,    38.51,2,     0.00,2,     2.81,2, -999.000,9, -999.000,9, -999.000,9,-999.0000,9,  -999.00,9,   -999.0,9,   -999.0,9,   -999.0,9,   -999.0,9,   -999.0,9, -999.00,  -999.0,-999.0000,-999.000,  3.2628,-999.000
   31WTTUNES_2,  P17S,   128,  1,     21,     21,2,19910723,0208, -8.0083,-134.9933, 4511,   1537.6,   2.8881,  34.5968,2,  34.5971,2,    115.1,2,    114.7,2,   114.46,2,    38.02,2,     0.00,2,     2.76,2, -999.000,9, -999.000,9, -999.000,9,-999.0000,9,  -999.00,9,   -999.0,9,   -999.0,9,   -999.0,9,   -999.0,9,   -999.0,9, -999.00,  -999.0,-999.0000,-999.000,  2.7784,-999.000
   31WTTUNES_2,  P17S,   128,  1,     22,     22,2,19910723,0208, -8.0083,-134.9933, 4511,   1740.9,   2.5603,  34.6142,2,  34.6145,2,    122.4,2,    122.2,2,   120.91,2,    37.53,2,     0.00,2,     2.71,2, -999.000,9, -999.000,9, -999.000,9,-999.0000,9,  -999.00,9,   -999.0,9,   -999.0,9,   -999.0,9,   -999.0,9,   -999.0,9, -999.00,  -999.0,-999.0000,-999.000,  2.4376,-999.000
   31WTTUNES_2,  P17S,   128,  1,     23,     23,2,19910723,0208, -8.0083,-134.9933, 4511,   1947.2,   2.3594,  34.6285,2,  34.6310,2,    124.9,2,    123.9,2,   127.17,2,    37.44,2,     0.00,2,     2.69,2, -999.000,9, -999.000,9, -999.000,9,-999.0000,9,  -999.00,9,   -999.0,9,   -999.0,9,   -999.0,9,   -999.0,9,   -999.0,9, -999.00,  -999.0,-999.0000,-999.000,  2.2221,-999.000
   31WTTUNES_2,  P17S,   128,  1,     24,     24,2,19910723,0208, -8.0083,-134.9933, 4511,   2154.5,   2.1146,  34.6438,2,  34.6457,2,    134.0,2,    133.7,2,   130.29,2,    36.85,2,     0.00,2,     2.62,2, -999.000,9, -999.000,9, -999.000,9,-999.0000,9,  -999.00,9,   -999.0,9,   -999.0,9,   -999.0,9,   -999.0,9,   -999.0,9, -999.00,  -999.0,-999.0000,-999.000,  1.9631,-999.000
   31WTTUNES_2,  P17S,   128,  1,     25,     25,2,19910723,0208, -8.0083,-134.9933, 4511,   2363.5,   1.9297,  34.6604,2,  34.6604,2,    137.0,2,   -999.0,9,   135.57,2,    36.46,2,     0.00,2,     2.58,2, -999.000,9, -999.000,9, -999.000,9,-999.0000,9,  -999.00,9,   -999.0,9,   -999.0,9,   -999.0,9,   -999.0,9,   -999.0,9, -999.00,  -999.0,-999.0000,-999.000,  1.7630,-999.000
   31WTTUNES_2,  P17S,   128,  1,     26,     26,2,19910723,0208, -8.0083,-134.9933, 4511,   2569.2,   1.8348,  34.6673,2,  34.6681,2,    137.9,2,    137.4,2,   141.04,2,    36.56,2,     0.00,2,     2.58,2, -999.000,9, -999.000,9, -999.000,9,-999.0000,9,  -999.00,9,   -999.0,9,   -999.0,9,   -999.0,9,   -999.0,9,   -999.0,9, -999.00,  -999.0,-999.0000,-999.000,  1.6512,-999.000
   31WTTUNES_2,  P17S,   128,  1,     27,     27,2,19910723,0208, -8.0083,-134.9933, 4511,   2773.1,   1.7838,  34.6726,2,  34.6722,2,    139.9,2,    138.8,2,   144.17,2,    36.56,2,     0.00,2,     2.58,2, -999.000,9, -999.000,9, -999.000,9,-999.0000,9,  -999.00,9,   -999.0,9,   -999.0,9,   -999.0,9,   -999.0,9,   -999.0,9, -999.00,  -999.0,-999.0000,-999.000,  1.5824,-999.000
   31WTTUNES_2,  P17S,   128,  1,     28,     28,2,19910723,0208, -8.0083,-134.9933, 4511,   2978.8,   1.7129,  34.6751,2,  34.6757,2,    144.6,2,    143.3,2,   144.85,2,    36.36,2,     0.00,2,     2.56,2, -999.000,9, -999.000,9, -999.000,9,-999.0000,9,  -999.00,9,   -999.0,9,   -999.0,9,   -999.0,9,   -999.0,9,   -999.0,9, -999.00,  -999.0,-999.0000,-999.000,  1.4934,-999.000
   31WTTUNES_2,  P17S,   128,  1,     29,     29,2,19910723,0208, -8.0083,-134.9933, 4511,   3186.3,   1.6349,  34.6796,2,  34.6796,2,    151.4,2,    151.1,2,   142.90,2,    35.87,2,     0.00,2,     2.52,2, -999.000,9, -999.000,9, -999.000,9,-999.0000,9,  -999.00,9,   -999.0,9,   -999.0,9,   -999.0,9,   -999.0,9,   -999.0,9, -999.00,  -999.0,-999.0000,-999.000,  1.3970,-999.000
   31WTTUNES_2,  P17S,   128,  1,     30,     30,2,19910723,0208, -8.0083,-134.9933, 4511,   3396.1,   1.5710,  34.6831,2,  34.6847,2,    155.2,2,    156.3,2,   141.63,2,    35.38,2,     0.00,2,     2.49,2, -999.000,9, -999.000,9, -999.000,9,-999.0000,9,  -999.00,9,   -999.0,9,   -999.0,9,   -999.0,9,   -999.0,9,   -999.0,9, -999.00,  -999.0,-999.0000,-999.000,  1.3136,-999.000
   31WTTUNES_2,  P17S,   128,  1,     31,     31,2,19910723,0208, -8.0083,-134.9933, 4511,   3604.9,   1.5280,  34.6858,2,  34.6861,2,    159.0,2,    159.0,2,   141.63,2,    35.19,2,     0.00,2,     2.47,2, -999.000,9, -999.000,9, -999.000,9,-999.0000,9,  -999.00,9,   -999.0,9,   -999.0,9,   -999.0,9,   -999.0,9,   -999.0,9, -999.00,  -999.0,-999.0000,-999.000,  1.2503,-999.000
   31WTTUNES_2,  P17S,   128,  1,     32,     32,2,19910723,0208, -8.0083,-134.9933, 4511,   3812.1,   1.4820,  34.6877,2,  34.6882,2,    161.5,2,    162.3,2,   141.63,2,    35.09,2,     0.00,2,     2.46,2, -999.000,9, -999.000,9, -999.000,9,-999.0000,9,  -999.00,9,   -999.0,9,   -999.0,9,   -999.0,9,   -999.0,9,   -999.0,9, -999.00,  -999.0,-999.0000,-999.000,  1.1838,-999.000
   31WTTUNES_2,  P17S,   128,  1,     33,     33,2,19910723,0208, -8.0083,-134.9933, 4511,   4017.9,   1.4380,  34.6919,2,  34.6909,2,    166.4,2,    167.4,2,   140.36,2,    34.80,2,     0.00,2,     2.41,2, -999.000,9, -999.000,9, -999.000,9,-999.0000,9,  -999.00,9,   -999.0,9,   -999.0,9,   -999.0,9,   -999.0,9,   -999.0,9, -999.00,  -999.0,-999.0000,-999.000,  1.1189,-999.000
   31WTTUNES_2,  P17S,   128,  1,     34,     34,2,19910723,0208, -8.0083,-134.9933, 4511,   4227.3,   1.4301,  34.6923,2,  34.6943,2,    169.4,2,    170.4,2,   138.40,2,    34.50,2,     0.00,2,     2.41,2, -999.000,9, -999.000,9, -999.000,9,-999.0000,9,  -999.00,9,   -999.0,9,   -999.0,9,   -999.0,9,   -999.0,9,   -999.0,9, -999.00,  -999.0,-999.0000,-999.000,  1.0881,-999.000
   31WTTUNES_2,  P17S,   128,  1,     35,     35,2,19910723,0208, -8.0083,-134.9933, 4511,   4436.1,   1.4440,  34.6943,2,  34.6936,2,    172.0,2,    171.5,2,   137.33,2,    34.40,2,     0.00,2,     2.40,2, -999.000,9, -999.000,9, -999.000,9,-999.0000,9,  -999.00,9,   -999.0,9,   -999.0,9,   -999.0,9,   -999.0,9,   -999.0,9, -999.00,  -999.0,-999.0000,-999.000,  1.0781,-999.000
   31WTTUNES_2,  P17S,   128,  1,     36,     36,2,19910723,0208, -8.0083,-134.9933, 4511,   4579.9,   1.4590,  34.6947,2,  34.6936,2,    171.6,2,    171.5,2,   137.33,2,    34.40,2,     0.00,2,     2.39,2, -999.000,9, -999.000,9, -999.000,9,-999.0000,9,  -999.00,9,   -999.0,9,   -999.0,9,   -999.0,9,   -999.0,9,   -999.0,9, -999.00,  -999.0,-999.0000,-999.000,  1.0760,-999.000