BOTTLE,20131125MIRCJHATS
EXPOCODE,SECT_ID,STNNBR,CASTNO,SAMPNO,BTLNBR,BTLNBR_FLAG_W,DATE,TIME,LATITUDE,LONGITUDE,DEPTH,CTDPRS,CTDTMP,CTDSAL,CTDSAL_FLAG_W,SALNTY,SALNTY_FLAG_W,CTDOXY,CTDOXY_FLAG_W,OXYGEN,OXYGEN_FLAG_W,SILCAT,SILCAT_FLAG_W,NITRAT,NITRAT_FLAG_W,NITRIT,NITRIT_FLAG_W,PHSPHT,PHSPHT_FLAG_W,CFC-11,CFC-11_FLAG_W,CFC-12,CFC-12_FLAG_W,TRITUM,TRITUM_FLAG_W,HELIUM,HELIUM_FLAG_W,DELHE3,DELHE3_FLAG_W,DELC14,DELC14_FLAG_W,DELC13,DELC13_FLAG_W,TCARBN,TCARBN_FLAG_W,PCO2,PCO2_FLAG_W,ALKALI,ALKALI_FLAG_W,PCO2TMP,C14ERR,HELIER,DELHER,THETA,TRITER
,,,,,,,,,,,,DBAR,ITS-90,PSS-78,,PSS-78,,UMOL/KG,,UMOL/KG,,UMOL/KG,,UMOL/KG,,UMOL/KG,,UMOL/KG,,PMOL/KG,,PMOL/KG,,TU,,NMOL/KG,,PERCNT,,/MILLE,,/MILLE,,UMOL/KG,,UATM,,UMOL/KG,,DEG C,/MILLE,NMOL/KG,PERCNT,DEG C,TU
   31WTTUNES_2,  P17S,   158,  1,      1,      1,2,19910801,1103,-22.7533,-132.3017, 3389,      1.8,  23.4223,  35.9506,2,  35.9546,2,    207.4,3,    216.2,2,     1.37,2,     0.10,2,     0.00,2,     0.14,2,    1.895,2,    1.004,2, -999.000,9,-999.0000,9,  -999.00,9,   -999.0,9,   -999.0,9,   2012.5,2,    274.8,2,   -999.0,9,   20.00,  -999.0,-999.0000,-999.000, 23.4219,-999.000
   31WTTUNES_2,  P17S,   158,  1,      2,      2,2,19910801,1103,-22.7533,-132.3017, 3389,     39.2,  23.4393,  35.9494,2,  35.9479,2,    208.5,6,    211.9,2,     1.56,2,     0.10,2,     0.00,2,     0.13,2,    1.898,2,    1.012,2, -999.000,9,-999.0000,9,  -999.00,9,   -999.0,9,   -999.0,9,   -999.0,9,   -999.0,9,   -999.0,9, -999.00,  -999.0,-999.0000,-999.000, 23.4312,-999.000
   31WTTUNES_2,  P17S,   158,  1,      3,      3,2,19910801,1103,-22.7533,-132.3017, 3389,     80.6,  23.4383,  35.9494,2,  35.9479,2,    219.1,6,    211.9,2,     1.56,2,     0.10,2,     0.00,2,     0.13,2,    1.888,2,    0.996,2, -999.000,9,-999.0000,9,  -999.00,9,   -999.0,9,   -999.0,9,   -999.0,9,   -999.0,9,   -999.0,9, -999.00,  -999.0,-999.0000,-999.000, 23.4216,-999.000
   31WTTUNES_2,  P17S,   158,  1,      4,      4,2,19910801,1103,-22.7533,-132.3017, 3389,    115.3,  23.3733,  35.9253,2,  35.9253,2,    216.1,2,    212.6,2,     1.37,2,     0.00,2,     0.00,2,     0.13,2,    1.923,2,    1.003,2, -999.000,9,-999.0000,9,  -999.00,9,   -999.0,9,   -999.0,9,   -999.0,9,   -999.0,9,   -999.0,9, -999.00,  -999.0,-999.0000,-999.000, 23.3494,-999.000
   31WTTUNES_2,  P17S,   158,  1,      5,      5,2,19910801,1103,-22.7533,-132.3017, 3389,    156.8,  23.2452,  35.8886,2,  35.8832,2,    217.6,6,    212.7,2,     1.37,2,     0.00,2,     0.00,2,     0.12,2,    1.932,2,    1.018,2, -999.000,9,-999.0000,9,  -999.00,9,   -999.0,9,   -999.0,9,   -999.0,9,   -999.0,9,   -999.0,9, -999.00,  -999.0,-999.0000,-999.000, 23.2128,-999.000
   31WTTUNES_2,  P17S,   158,  1,      6,      6,2,19910801,1103,-22.7533,-132.3017, 3389,    177.7,  22.5819,  35.7230,2,  35.7209,2,    211.8,6,    212.5,2,     1.37,2,     0.00,2,     0.01,2,     0.11,2,    1.957,2,    1.031,2, -999.000,9,-999.0000,9,  -999.00,9,   -999.0,9,   -999.0,9,   -999.0,9,   -999.0,9,   -999.0,9, -999.00,  -999.0,-999.0000,-999.000, 22.5460,-999.000
   31WTTUNES_2,  P17S,   158,  1,      7,      7,2,19910801,1103,-22.7533,-132.3017, 3389,    197.6,  22.1408,  35.8934,2,  35.8810,2,    203.3,6,    199.6,2,     1.17,2,     0.10,2,     0.18,2,     0.21,2,    1.896,2,    0.990,2, -999.000,9,-999.0000,9,  -999.00,9,   -999.0,9,   -999.0,9,   -999.0,9,   -999.0,9,   -999.0,9, -999.00,  -999.0,-999.0000,-999.000, 22.1013,-999.000
   31WTTUNES_2,  P17S,   158,  1,      8,      8,2,19910801,1103,-22.7533,-132.3017, 3389,    217.0,  20.5732,  35.7921,2,  35.7923,2,    192.9,2,    191.1,2,     1.17,2,     1.37,2,     0.02,2,     0.30,2,    1.847,2,    0.979,8, -999.000,9,-999.0000,9,  -999.00,9,   -999.0,9,   -999.0,9,   -999.0,9,   -999.0,9,   -999.0,9, -999.00,  -999.0,-999.0000,-999.000, 20.5320,-999.000
   31WTTUNES_2,  P17S,   158,  1,      9,      9,2,19910801,1103,-22.7533,-132.3017, 3389,    258.1,  19.0147,  35.5953,2,  35.5951,2,    190.8,2,    190.2,2,     1.17,2,     2.44,2,     0.01,2,     0.36,2,    1.812,2,    0.946,8, -999.000,9,-999.0000,9,  -999.00,9,   -999.0,9,   -999.0,9,   -999.0,9,   -999.0,9,   -999.0,9, -999.00,  -999.0,-999.0000,-999.000, 18.9684,-999.000
   31WTTUNES_2,  P17S,   158,  1,     10,     10,2,19910801,1103,-22.7533,-132.3017, 3389,    306.8,  16.8721,  35.3261,2,  35.3287,2,    190.8,2,    191.2,2,     1.56,2,     4.40,2,     0.00,2,     0.48,2,    1.733,2,    0.883,2, -999.000,9,-999.0000,9,  -999.00,9,   -999.0,9,   -999.0,9,   -999.0,9,   -999.0,9,   -999.0,9, -999.00,  -999.0,-999.0000,-999.000, 16.8214,-999.000
   31WTTUNES_2,  P17S,   158,  1,     11,     11,2,19910801,1103,-22.7533,-132.3017, 3389,    355.1,  14.4236,  35.0668,2,  35.0730,2,    187.0,2,    190.2,2,     2.15,2,     8.11,2,     0.00,2,     0.70,2,    1.448,2,    0.755,2, -999.000,9,-999.0000,9,  -999.00,9,   -999.0,9,   -999.0,9,   -999.0,9,   -999.0,9,   -999.0,9, -999.00,  -999.0,-999.0000,-999.000, 14.3709,-999.000
   31WTTUNES_2,  P17S,   158,  1,     12,     12,2,19910801,1103,-22.7533,-132.3017, 3389,    404.2,  12.2363,  34.8075,2,  34.8050,2,    184.8,2,    185.5,2,     4.10,2,    12.90,2,     0.00,2,     1.03,2,    1.150,2,    0.588,2, -999.000,9,-999.0000,9,  -999.00,9,   -999.0,9,   -999.0,9,   -999.0,9,   -999.0,9,   -999.0,9, -999.00,  -999.0,-999.0000,-999.000, 12.1826,-999.000
   31WTTUNES_2,  P17S,   158,  1,     13,     13,2,19910801,1103,-22.7533,-132.3017, 3389,    447.7,  10.2072,  34.5903,2,  34.6035,2,    175.1,2,    182.5,2,     6.06,2,    17.50,2,     0.00,2,     1.34,2,    0.864,2,    0.454,2, -999.000,9,-999.0000,9,  -999.00,9,   -999.0,9,   -999.0,9,   -999.0,9,   -999.0,9,   -999.0,9, -999.00,  -999.0,-999.0000,-999.000, 10.1542,-999.000
   31WTTUNES_2,  P17S,   158,  1,     37,     37,2,19910801,1103,-22.7533,-132.3017, 3389,    499.8,   8.4153,  34.4394,2,  34.4435,2,    179.6,2,    177.7,2,     9.48,2,    22.78,2,     0.00,2,     1.69,2,    0.600,2,    0.316,2, -999.000,9,-999.0000,9,  -999.00,9,   -999.0,9,   -999.0,9,   -999.0,9,   -999.0,9,   -999.0,9, -999.00,  -999.0,-999.0000,-999.000,  8.3626,-999.000
   31WTTUNES_2,  P17S,   158,  1,     15,     15,2,19910801,1103,-22.7533,-132.3017, 3389,    560.8,   6.9834,  34.3660,2,  34.3624,2,    216.1,2,    213.0,2,     9.87,2,    24.05,2,     0.00,2,     1.70,2,    0.624,2,    0.321,2, -999.000,9,-999.0000,9,  -999.00,9,   -999.0,9,   -999.0,9,   -999.0,9,   -999.0,9,   -999.0,9, -999.00,  -999.0,-999.0000,-999.000,  6.9301,-999.000
   31WTTUNES_2,  P17S,   158,  1,     16,     16,2,19910801,1103,-22.7533,-132.3017, 3389,    623.9,   6.2814,  34.3361,2,  34.3349,2,    197.4,2,    197.2,2,    14.37,2,    27.47,2,     0.00,2,     1.94,2,    0.263,2,    0.158,2, -999.000,9,-999.0000,9,  -999.00,9,   -999.0,9,   -999.0,9,   -999.0,9,   -999.0,9,   -999.0,9, -999.00,  -999.0,-999.0000,-999.000,  6.2252,-999.000
   31WTTUNES_2,  P17S,   158,  1,     17,     17,2,19910801,1103,-22.7533,-132.3017, 3389,    677.4,   5.8995,  34.3295,2,  34.3296,2,    192.5,2,    191.2,2,    17.70,2,    29.04,2,     0.00,2,     2.04,2,    0.144,2,    0.099,2, -999.000,9,-999.0000,9,  -999.00,9,   -999.0,9,   -999.0,9,   -999.0,9,   -999.0,9,   -999.0,9, -999.00,  -999.0,-999.0000,-999.000,  5.8401,-999.000
   31WTTUNES_2,  P17S,   158,  1,     18,     18,2,19910801,1103,-22.7533,-132.3017, 3389,    746.8,   5.4995,  34.3240,2,  34.3232,2,    188.8,2,    189.3,2,    21.22,2,    30.11,2,     0.00,2,     2.12,2,    0.083,2,    0.065,2, -999.000,9,-999.0000,9,  -999.00,9,   -999.0,9,   -999.0,9,   -999.0,9,   -999.0,9,   -999.0,9, -999.00,  -999.0,-999.0000,-999.000,  5.4360,-999.000
   31WTTUNES_2,  P17S,   158,  1,     19,     19,2,19910801,1103,-22.7533,-132.3017, 3389,    798.7,   5.1816,  34.3438,2,  34.3422,2,    172.8,2,    171.3,2,    28.94,2,    32.36,2,     0.00,2,     2.27,2,    0.030,2,    0.034,2, -999.000,9,-999.0000,9,  -999.00,9,   -999.0,9,   -999.0,9,   -999.0,9,   -999.0,9,   -999.0,9, -999.00,  -999.0,-999.0000,-999.000,  5.1153,-999.000
   31WTTUNES_2,  P17S,   158,  1,     20,     20,2,19910801,1103,-22.7533,-132.3017, 3389,    865.0,   4.8836,  34.3654,2,  34.3648,2,    159.0,2,    159.8,2,    36.47,2,    33.73,2,     0.00,2,     2.38,2,    0.015,2,    0.016,2, -999.000,9,-999.0000,9,  -999.00,9,   -999.0,9,   -999.0,9,   -999.0,9,   -999.0,9,   -999.0,9, -999.00,  -999.0,-999.0000,-999.000,  4.8134,-999.000
   31WTTUNES_2,  P17S,   158,  1,     21,     21,2,19910801,1103,-22.7533,-132.3017, 3389,    966.1,   4.5337,  34.4297,2,  34.4287,2,    145.5,2,    146.6,2,    51.81,2,    34.90,2,     0.00,2,     2.47,2,    0.013,2,    0.015,3, -999.000,9,-999.0000,9,  -999.00,9,   -999.0,9,   -999.0,9,   -999.0,9,   -999.0,9,   -999.0,9, -999.00,  -999.0,-999.0000,-999.000,  4.4570,-999.000
   31WTTUNES_2,  P17S,   158,  1,     22,     22,2,19910801,1103,-22.7533,-132.3017, 3389,   1058.1,   4.2187,  34.4658,2,  34.4631,2,    139.0,2,    139.7,2,    62.47,2,    35.68,2,     0.00,2,     2.53,2, -999.000,9, -999.000,9, -999.000,9,-999.0000,9,  -999.00,9,   -999.0,9,   -999.0,9,   -999.0,9,   -999.0,9,   -999.0,9, -999.00,  -999.0,-999.0000,-999.000,  4.1365,-999.000
   31WTTUNES_2,  P17S,   158,  1,     23,     23,2,19910801,1103,-22.7533,-132.3017, 3389,   1118.3,   4.0048,  34.4879,2,  34.4872,2,    142.8,2,    137.9,2,    69.02,2,    35.88,2,     0.00,2,     2.54,2, -999.000,9, -999.000,9, -999.000,9,-999.0000,9,  -999.00,9,   -999.0,9,   -999.0,9,   -999.0,9,   -999.0,9,   -999.0,9, -999.00,  -999.0,-999.0000,-999.000,  3.9191,-999.000
   31WTTUNES_2,  P17S,   158,  1,     24,     24,2,19910801,1103,-22.7533,-132.3017, 3389,   1167.4,   3.6518,  34.4841,2,  34.4835,2,    145.6,2,    146.3,2,    71.17,2,    35.58,2,     0.00,2,     2.53,2, -999.000,9, -999.000,9, -999.000,9,-999.0000,9,  -999.00,9,   -999.0,9,   -999.0,9,   -999.0,9,   -999.0,9,   -999.0,9, -999.00,  -999.0,-999.0000,-999.000,  3.5652,-999.000
   31WTTUNES_2,  P17S,   158,  1,     25,     25,2,19910801,1103,-22.7533,-132.3017, 3389,   1266.0,   3.3659,  34.5116,2,  34.5108,2,    147.0,2,    146.5,2,    79.87,2,    35.68,2,     0.00,2,     2.53,2, -999.000,9, -999.000,9, -999.000,9,-999.0000,9,  -999.00,9,   -999.0,9,   -999.0,9,   -999.0,9,   -999.0,9,   -999.0,9, -999.00,  -999.0,-999.0000,-999.000,  3.2737,-999.000
   31WTTUNES_2,  P17S,   158,  1,     26,     26,2,19910801,1103,-22.7533,-132.3017, 3389,   1363.5,   3.1079,  34.5339,2,  34.5316,2,    147.9,2,    147.4,2,    86.71,2,    35.68,2,     0.00,2,     2.53,2, -999.000,9, -999.000,9, -999.000,9,-999.0000,9,  -999.00,9,   -999.0,9,   -999.0,9,   -999.0,9,   -999.0,9,   -999.0,9, -999.00,  -999.0,-999.0000,-999.000,  3.0103,-999.000
   31WTTUNES_2,  P17S,   158,  1,     27,     27,2,19910801,1103,-22.7533,-132.3017, 3389,   1568.4,   2.6580,  34.5724,2,  34.5732,2,    149.6,2,    150.3,2,    98.82,2,    35.58,2,     0.00,2,     2.52,2, -999.000,9, -999.000,9, -999.000,9,-999.0000,9,  -999.00,9,   -999.0,9,   -999.0,9,   -999.0,9,   -999.0,9,   -999.0,9, -999.00,  -999.0,-999.0000,-999.000,  2.5486,-999.000
   31WTTUNES_2,  P17S,   158,  1,     28,     28,2,19910801,1103,-22.7533,-132.3017, 3389,   1778.1,   2.3121,  34.6076,2,  34.6070,2,    149.2,2,    151.9,2,   109.57,2,    35.48,2,     0.00,2,     2.52,2, -999.000,9, -999.000,9, -999.000,9,-999.0000,9,  -999.00,9,   -999.0,9,   -999.0,9,   -999.0,9,   -999.0,9,   -999.0,9, -999.00,  -999.0,-999.0000,-999.000,  2.1897,-999.000
   31WTTUNES_2,  P17S,   158,  1,     29,     29,2,19910801,1103,-22.7533,-132.3017, 3389,   1987.9,   2.0912,  34.6316,2,  34.6304,2,    151.5,2,    153.6,2,   117.00,2,    35.38,2,     0.00,2,     2.50,2, -999.000,9, -999.000,9, -999.000,9,-999.0000,9,  -999.00,9,   -999.0,9,   -999.0,9,   -999.0,9,   -999.0,9,   -999.0,9, -999.00,  -999.0,-999.0000,-999.000,  1.9544,-999.000
   31WTTUNES_2,  P17S,   158,  1,     30,     30,2,19910801,1103,-22.7533,-132.3017, 3389,   2196.0,   1.9432,  34.6472,2,  34.6461,2,    156.7,2,    156.4,2,   121.11,2,    35.29,2,     0.00,2,     2.49,2, -999.000,9, -999.000,9, -999.000,9,-999.0000,9,  -999.00,9,   -999.0,9,   -999.0,9,   -999.0,9,   -999.0,9,   -999.0,9, -999.00,  -999.0,-999.0000,-999.000,  1.7909,-999.000
   31WTTUNES_2,  P17S,   158,  1,     31,     31,2,19910801,1103,-22.7533,-132.3017, 3389,   2410.0,   1.8572,  34.6578,2,  34.6571,2,    157.1,2,    158.0,2,   123.94,2,    35.19,2,     0.00,2,     2.48,2, -999.000,9, -999.000,9, -999.000,9,-999.0000,9,  -999.00,9,   -999.0,9,   -999.0,9,   -999.0,9,   -999.0,9,   -999.0,9, -999.00,  -999.0,-999.0000,-999.000,  1.6876,-999.000
   31WTTUNES_2,  P17S,   158,  1,     32,     32,2,19910801,1103,-22.7533,-132.3017, 3389,   2619.2,   1.7832,  34.6644,2,  34.6638,2,    159.8,2,    161.1,2,   125.40,2,    34.89,2,     0.00,2,     2.46,2, -999.000,9, -999.000,9, -999.000,9,-999.0000,9,  -999.00,9,   -999.0,9,   -999.0,9,   -999.0,9,   -999.0,9,   -999.0,9, -999.00,  -999.0,-999.0000,-999.000,  1.5962,-999.000
   31WTTUNES_2,  P17S,   158,  1,     33,     33,2,19910801,1103,-22.7533,-132.3017, 3389,   2827.7,   1.7293,  34.6698,2,  34.6683,2,    163.4,2,    163.4,2,   125.80,2,    34.80,2,     0.00,2,     2.44,2, -999.000,9, -999.000,9, -999.000,9,-999.0000,9,  -999.00,9,   -999.0,9,   -999.0,9,   -999.0,9,   -999.0,9,   -999.0,9, -999.00,  -999.0,-999.0000,-999.000,  1.5239,-999.000
   31WTTUNES_2,  P17S,   158,  1,     34,     34,2,19910801,1103,-22.7533,-132.3017, 3389,   3041.0,   1.6933,  34.6726,2,  34.6728,2,    165.9,2,    165.6,2,   126.19,2,    34.60,2,     0.00,2,     2.43,2, -999.000,9, -999.000,9, -999.000,9,-999.0000,9,  -999.00,9,   -999.0,9,   -999.0,9,   -999.0,9,   -999.0,9,   -999.0,9, -999.00,  -999.0,-999.0000,-999.000,  1.4683,-999.000
   31WTTUNES_2,  P17S,   158,  1,     35,     35,2,19910801,1103,-22.7533,-132.3017, 3389,   3238.0,   1.6683,  34.6762,2,  34.6749,2,    167.8,2,    167.9,2,   126.77,2,    34.50,2,     0.00,2,     2.42,2, -999.000,9, -999.000,9, -999.000,9,-999.0000,9,  -999.00,9,   -999.0,9,   -999.0,9,   -999.0,9,   -999.0,9,   -999.0,9, -999.00,  -999.0,-999.0000,-999.000,  1.4245,-999.000
   31WTTUNES_2,  P17S,   158,  1,     38,     38,2,19910801,1103,-22.7533,-132.3017, 3389,   3423.1,   1.6483,  34.6786,2,  34.6777,2,    170.2,2,    169.7,2,   126.38,2,    34.31,2,     0.00,2,     2.41,2, -999.000,9, -999.000,9, -999.000,9,-999.0000,9,  -999.00,9,   -999.0,9,   -999.0,9,   -999.0,9,   -999.0,9,   -999.0,9, -999.00,  -999.0,-999.0000,-999.000,  1.3863,-999.000