BOTTLE,20131125MIRCJHATS
EXPOCODE,SECT_ID,STNNBR,CASTNO,SAMPNO,BTLNBR,BTLNBR_FLAG_W,DATE,TIME,LATITUDE,LONGITUDE,DEPTH,CTDPRS,CTDTMP,CTDSAL,CTDSAL_FLAG_W,SALNTY,SALNTY_FLAG_W,CTDOXY,CTDOXY_FLAG_W,OXYGEN,OXYGEN_FLAG_W,SILCAT,SILCAT_FLAG_W,NITRAT,NITRAT_FLAG_W,NITRIT,NITRIT_FLAG_W,PHSPHT,PHSPHT_FLAG_W,CFC-11,CFC-11_FLAG_W,CFC-12,CFC-12_FLAG_W,TRITUM,TRITUM_FLAG_W,HELIUM,HELIUM_FLAG_W,DELHE3,DELHE3_FLAG_W,DELC14,DELC14_FLAG_W,DELC13,DELC13_FLAG_W,TCARBN,TCARBN_FLAG_W,PCO2,PCO2_FLAG_W,ALKALI,ALKALI_FLAG_W,PCO2TMP,C14ERR,HELIER,DELHER,THETA,TRITER
,,,,,,,,,,,,DBAR,ITS-90,PSS-78,,PSS-78,,UMOL/KG,,UMOL/KG,,UMOL/KG,,UMOL/KG,,UMOL/KG,,UMOL/KG,,PMOL/KG,,PMOL/KG,,TU,,NMOL/KG,,PERCNT,,/MILLE,,/MILLE,,UMOL/KG,,UATM,,UMOL/KG,,DEG C,/MILLE,NMOL/KG,PERCNT,DEG C,TU
   31WTTUNES_2,  P16S,   197,  1,     61,     61,2,19910818,1111,-29.0050,-150.5083, 4668,      6.3,  19.1547,  35.5570,2,  35.5642,2,    223.2,3,    228.1,2,     1.66,2,     0.10,2,     0.00,2,     0.07,2,    2.158,2,    1.196,2, -999.000,9,-999.0000,9,  -999.00,9,   -999.0,9,   -999.0,9,   2017.7,2,    303.9,2,   -999.0,9,   20.00,  -999.0,-999.0000,-999.000, 19.1536,-999.000
   31WTTUNES_2,  P16S,   197,  1,      2,      2,2,19910818,1111,-29.0050,-150.5083, 4668,     64.3,  18.8277,  35.5428,2,  35.5434,3,    226.6,2,    217.3,3,     1.47,3,     0.59,3,     0.04,3,     0.16,3,    2.071,2,    1.138,2, -999.000,9,   1.7300,2,    -0.62,2,   -999.0,9,   -999.0,9,   -999.0,9,   -999.0,9,   -999.0,9, -999.00,  -999.0,  0.0080,   0.150, 18.8163,-999.000
   31WTTUNES_2,  P16S,   197,  1,      3,      3,2,19910818,1111,-29.0050,-150.5083, 4668,     84.6,  18.3597,  35.5488,2,  35.5539,2,    231.3,2,    232.0,2,     1.37,2,     0.10,2,     0.00,2,     0.08,2,    2.232,2,    1.216,2,    0.937,2,   1.7550,2,    -1.17,2,   -999.0,9,   -999.0,9,   -999.0,9,   -999.0,9,   -999.0,9, -999.00,  -999.0,  0.0080,   0.150, 18.3450,   0.007
   31WTTUNES_2,  P16S,   197,  1,     64,     64,2,19910818,1111,-29.0050,-150.5083, 4668,    109.9,  17.9378,  35.5039,2,  35.4855,2,    229.3,2,    233.8,2,     1.37,2,     0.10,2,     0.00,2,     0.10,2,    2.303,2,    1.258,2,    0.902,2,   1.7640,2,    -0.63,2,   -999.0,9,   -999.0,9,   -999.0,9,   -999.0,9,   -999.0,9, -999.00,  -999.0,  0.0080,   0.150, 17.9189,   0.007
   31WTTUNES_2,  P16S,   197,  1,      5,      5,2,19910818,1111,-29.0050,-150.5083, 4668,    129.8,  17.5678,  35.4854,2,  35.4870,2,    229.4,2,    235.0,2,     1.37,2,     0.10,2,     0.01,2,     0.10,2,    2.296,2,    1.262,2,    0.893,2,   1.7090,2,    -0.91,2,   -999.0,9,   -999.0,9,   -999.0,9,   -999.0,9,   -999.0,9, -999.00,  -999.0,  0.0080,   0.150, 17.5458,   0.007
   31WTTUNES_2,  P16S,   197,  1,      6,      6,2,19910818,1111,-29.0050,-150.5083, 4668,    185.1,  17.2218,  35.4017,2,  35.4040,2,    238.5,6,    234.2,2,     1.37,2,     0.20,2,     0.03,2,     0.12,2,    2.345,6,    1.286,6,    0.878,2,   1.7140,2,    -0.90,2,   -999.0,9,   -999.0,9,   -999.0,9,   -999.0,9,   -999.0,9, -999.00,  -999.0,  0.0080,   0.150, 17.1909,   0.007
   31WTTUNES_2,  P16S,   197,  1,      7,      7,2,19910818,1111,-29.0050,-150.5083, 4668,    241.2,  15.8620,  35.3558,2,  35.3555,2,    205.4,2,    203.4,2,     1.76,2,     4.20,2,     0.01,2,     0.43,2,    1.985,2,    1.075,2,    0.915,2,   1.6960,2,     0.19,2,   -999.0,9,   -999.0,9,   -999.0,9,   -999.0,9,   -999.0,9, -999.00,  -999.0,  0.0080,   0.150, 15.8239,   0.008
   31WTTUNES_2,  P16S,   197,  1,     68,     68,2,19910818,1111,-29.0050,-150.5083, 4668,    313.4,  14.0193,  35.1854,2,  35.1811,2,    194.1,6,    193.8,2,     3.13,2,     8.79,2,     0.00,2,     0.70,2,    1.619,2,    0.869,2,    0.565,2,   1.7320,2,     0.55,2,   -999.0,9,   -999.0,9,   -999.0,9,   -999.0,9,   -999.0,9, -999.00,  -999.0,  0.0080,   0.150, 13.9737,   0.005
   31WTTUNES_2,  P16S,   197,  1,     69,     69,2,19910818,1111,-29.0050,-150.5083, 4668,    380.9,  11.4780,  34.8686,2,  34.8652,2,    196.7,2,    196.1,2,     4.10,2,    13.88,2,     0.00,2,     1.02,2,    1.251,6,    0.668,6, -999.000,9,-999.0000,9,  -999.00,9,   -999.0,9,   -999.0,9,   -999.0,9,   -999.0,9,   -999.0,9, -999.00,  -999.0,-999.0000,-999.000, 11.4294,-999.000
   31WTTUNES_2,  P16S,   197,  1,     70,     70,2,19910818,1111,-29.0050,-150.5083, 4668,    451.9,   9.2108,  34.6116,2,  34.6111,2,    207.2,2,    208.5,2,     5.77,2,    17.99,2,     0.00,2,     1.28,2,    1.050,6,    0.573,6,    0.299,2,   1.7580,2,     0.87,2,   -999.0,9,   -999.0,9,   -999.0,9,   -999.0,9,   -999.0,9, -999.00,  -999.0,  0.0080,   0.150,  9.1605,   0.004
   31WTTUNES_2,  P16S,   197,  1,     11,     11,2,19910818,1111,-29.0050,-150.5083, 4668,    534.0,   7.6614,  34.4586,2,  34.4548,2,    222.5,2,    226.3,2,     7.33,2,    20.82,2,     0.00,2,     1.46,2,    0.974,2,    0.518,2,    0.230,2,   1.7720,2,     0.75,2,   -999.0,9,   -999.0,9,   -999.0,9,   -999.0,9,   -999.0,9, -999.00,  -999.0,  0.0080,   0.150,  7.6080,   0.003
   31WTTUNES_2,  P16S,   197,  1,     12,     12,2,19910818,1111,-29.0050,-150.5083, 4668,    615.9,   7.1657,  34.4153,2,  34.4159,2,    229.1,2,    231.2,2,     8.11,2,    21.70,2,     0.00,2,     1.51,2,    0.892,2,    0.469,2,    0.206,2,   1.8020,2,     0.45,2,   -999.0,9,   -999.0,9,   -999.0,9,   -999.0,9,   -999.0,9, -999.00,  -999.0,  0.0080,   0.150,  7.1060,   0.004
   31WTTUNES_2,  P16S,   197,  1,     13,     13,2,19910818,1111,-29.0050,-150.5083, 4668,    708.5,   6.5410,  34.3656,2,  34.3649,2,    232.5,2,    233.1,2,     9.97,2,    23.27,2,     0.00,2,     1.62,2,    0.600,2,    0.325,2,    0.157,2,   1.8190,2,     0.78,2,   -999.0,9,   -999.0,9,   -999.0,9,   -999.0,9,   -999.0,9, -999.00,  -999.0,  0.0090,   0.150,  6.4753,   0.003
   31WTTUNES_2,  P16S,   197,  1,     37,     37,2,19910818,1111,-29.0050,-150.5083, 4668,    789.0,   5.8533,  34.3263,2,  34.3276,2,    222.9,2,    227.5,2,    14.18,2,    25.52,2,     0.00,2,     1.76,2,    0.331,2,    0.191,2,    0.093,2,   1.7210,2,     1.34,2,   -999.0,9,   -999.0,9,   -999.0,9,   -999.0,9,   -999.0,9, -999.00,  -999.0,  0.0080,   0.150,  5.7839,   0.002
   31WTTUNES_2,  P16S,   197,  1,     15,     15,2,19910818,1111,-29.0050,-150.5083, 4668,    871.4,   5.4026,  34.3176,2,  34.3176,2,    219.4,2,    217.5,2,    19.46,2,    27.47,2,     0.00,2,     1.91,2,    0.185,2,    0.112,2,    0.054,2,   1.8090,2,     1.49,2,   -999.0,9,   -999.0,9,   -999.0,9,   -999.0,9,   -999.0,9, -999.00,  -999.0,  0.0080,   0.150,  5.3284,   0.002
   31WTTUNES_2,  P16S,   197,  1,     16,     16,2,19910818,1111,-29.0050,-150.5083, 4668,    974.2,   4.9328,  34.3254,2,  34.3235,2,    205.0,2,    208.3,2,    24.54,2,    28.94,2,     0.00,2,     2.01,2,    0.121,2,    0.077,2,    0.040,2,   1.7850,2,     2.57,2,   -999.0,9,   -999.0,9,   -999.0,9,   -999.0,9,   -999.0,9, -999.00,  -999.0,  0.0080,   0.150,  4.8526,   0.002
   31WTTUNES_2,  P16S,   197,  1,     17,     17,2,19910818,1111,-29.0050,-150.5083, 4668,   1075.4,   4.3971,  34.3537,2,  34.3554,2,    190.4,2,    189.6,2,    37.84,2,    31.38,2,     0.00,2,     2.19,2,    0.038,2,    0.024,2,    0.014,2,   1.8170,2,     4.46,2,   -999.0,9,   -999.0,9,   -999.0,9,   -999.0,9,   -999.0,9, -999.00,  -999.0,  0.0090,   0.150,  4.3122,   0.001
   31WTTUNES_2,  P16S,   197,  1,     18,     18,2,19910818,1111,-29.0050,-150.5083, 4668,   1178.7,   3.8675,  34.3999,2,  34.3188,4,    178.4,2,    178.0,2,    50.45,2,    32.95,2,     0.00,2,     2.30,2,    0.013,2,    0.012,2,    0.003,2,   1.8260,2,     7.17,2,   -999.0,9,   -999.0,9,   -999.0,9,   -999.0,9,   -999.0,9, -999.00,  -999.0,  0.0090,   0.150,  3.7781,   0.003
   31WTTUNES_2,  P16S,   197,  1,     19,     19,2,19910818,1111,-29.0050,-150.5083, 4668,   1282.6,   3.5417,  34.4286,2,  34.4283,2,    171.6,2,    173.8,2,    58.56,2,    33.53,2,     0.00,2,     2.35,2,    0.008,2,    0.008,7, -999.000,9,   1.8310,2,     8.53,2,   -999.0,9,   -999.0,9,   -999.0,9,   -999.0,9,   -999.0,9, -999.00,  -999.0,-999.0000,-999.000,  3.4466,-999.000
   31WTTUNES_2,  P16S,   197,  1,     20,     20,2,19910818,1111,-29.0050,-150.5083, 4668,   1385.0,   3.1799,  34.4739,2,  34.4756,2,    168.9,2,    167.9,2,    70.38,2,    34.21,2,     0.00,2,     2.40,2, -999.000,9, -999.000,9, -999.000,9,-999.0000,5,    11.47,2,   -999.0,9,   -999.0,9,   -999.0,9,   -999.0,9,   -999.0,9, -999.00,  -999.0,-999.0000,-999.000,  3.0799,-999.000
   31WTTUNES_2,  P16S,   197,  1,     21,     21,2,19910818,1111,-29.0050,-150.5083, 4668,   1539.5,   2.8091,  34.5265,2,  34.5254,2,    161.5,2,    163.4,2,    82.31,2,    34.51,2,     0.00,2,     2.41,2, -999.000,9, -999.000,9, -999.000,9,   1.8680,2,    14.13,2,   -999.0,9,   -999.0,9,   -999.0,9,   -999.0,9,   -999.0,9, -999.00,  -999.0,-999.0000,-999.000,  2.7004,-999.000
   31WTTUNES_2,  P16S,   197,  1,     22,     22,2,19910818,1111,-29.0050,-150.5083, 4668,   1745.5,   2.4803,  34.5845,2,  34.5844,2,    156.6,2,    156.9,2,    98.53,2,    34.90,2,     0.00,2,     2.45,2, -999.000,9, -999.000,9, -999.000,9,   1.8780,2,    18.00,2,   -999.0,9,   -999.0,9,   -999.0,9,   -999.0,9,   -999.0,9, -999.00,  -999.0,-999.0000,-999.000,  2.3585,-999.000
   31WTTUNES_2,  P16S,   197,  1,     23,     23,2,19910818,1111,-29.0050,-150.5083, 4668,   1951.7,   2.2525,  34.6177,2,  34.6168,2,    153.6,2,    152.8,2,   111.24,2,    35.29,2,     0.00,2,     2.48,2, -999.000,9, -999.000,9, -999.000,9,   1.8990,2,    21.97,2,   -999.0,9,   -999.0,9,   -999.0,9,   -999.0,9,   -999.0,9, -999.00,  -999.0,-999.0000,-999.000,  2.1164,-999.000
   31WTTUNES_2,  P16S,   197,  1,     24,     24,2,19910818,1111,-29.0050,-150.5083, 4668,   2158.1,   2.1036,  34.6375,2,  34.6376,2,    151.7,2,    150.1,2,   119.74,2,    35.38,2,     0.00,2,     2.50,2, -999.000,9, -999.000,9, -999.000,9,   1.9080,2,    24.63,2,   -999.0,9,   -999.0,9,   -999.0,9,   -999.0,9,   -999.0,9, -999.00,  -999.0,-999.0000,-999.000,  1.9520,-999.000
   31WTTUNES_2,  P16S,   197,  1,     25,     25,2,19910818,1111,-29.0050,-150.5083, 4668,   2365.2,   1.9717,  34.6488,2,  34.6492,2,    150.2,2,    149.1,2,   125.41,2,    35.58,2,     0.00,2,     2.52,2, -999.000,9, -999.000,9, -999.000,9,   1.9060,2,    25.51,2,   -999.0,9,   -999.0,9,   -999.0,9,   -999.0,9,   -999.0,9, -999.00,  -999.0,-999.0000,-999.000,  1.8041,-999.000
   31WTTUNES_2,  P16S,   197,  1,     26,     26,2,19910818,1111,-29.0050,-150.5083, 4668,   2572.0,   1.8707,  34.6580,2,  34.6580,2,    151.4,2,    149.8,2,   129.80,2,    35.68,2,     0.00,2,     2.52,2, -999.000,9, -999.000,9, -999.000,9,   1.9110,2,    25.32,2,   -999.0,9,   -999.0,9,   -999.0,9,   -999.0,9,   -999.0,9, -999.00,  -999.0,-999.0000,-999.000,  1.6863,-999.000
   31WTTUNES_2,  P16S,   197,  1,     27,     27,2,19910818,1111,-29.0050,-150.5083, 4668,   2778.5,   1.7998,  34.6649,2,  34.6647,2,    152.8,2,    152.2,2,   131.95,2,    35.48,2,     0.00,2,     2.50,2, -999.000,9, -999.000,9, -999.000,9,   1.8990,2,    24.33,2,   -999.0,9,   -999.0,9,   -999.0,9,   -999.0,9,   -999.0,9, -999.00,  -999.0,-999.0000,-999.000,  1.5976,-999.000
   31WTTUNES_2,  P16S,   197,  1,     28,     28,2,19910818,1111,-29.0050,-150.5083, 4668,   2983.8,   1.7169,  34.6719,2,  34.6718,2,    157.8,2,    156.4,2,   131.76,2,    35.19,2,     0.00,2,     2.47,2, -999.000,9, -999.000,9, -999.000,9,   1.9020,2,    22.79,2,   -999.0,9,   -999.0,9,   -999.0,9,   -999.0,9,   -999.0,9, -999.00,  -999.0,-999.0000,-999.000,  1.4969,-999.000
   31WTTUNES_2,  P16S,   197,  1,     29,     29,2,19910818,1111,-29.0050,-150.5083, 4668,   3191.2,   1.6459,  34.6788,2,  34.6785,2,    162.1,2,    161.8,2,   130.68,2,    34.80,2,     0.00,2,     2.43,2, -999.000,9, -999.000,9, -999.000,9,   1.9050,2,    21.55,2,   -999.0,9,   -999.0,9,   -999.0,9,   -999.0,9,   -999.0,9, -999.00,  -999.0,-999.0000,-999.000,  1.4073,-999.000
   31WTTUNES_2,  P16S,   197,  1,     30,     30,2,19910818,1111,-29.0050,-150.5083, 4668,   3399.0,   1.5270,  34.6876,2,  34.6867,2,    171.0,2,    171.7,2,   128.53,2,    34.11,2,     0.00,2,     2.39,2, -999.000,9, -999.000,9, -999.000,9,   1.8670,2,    17.95,2,   -999.0,9,   -999.0,9,   -999.0,9,   -999.0,9,   -999.0,9, -999.00,  -999.0,-999.0000,-999.000,  1.2704,-999.000
   31WTTUNES_2,  P16S,   197,  1,     31,     31,2,19910818,1111,-29.0050,-150.5083, 4668,   3609.1,   1.4600,  34.6919,2,  34.6916,2,    176.4,2,    177.3,2,   126.38,2,    33.72,2,     0.00,2,     2.36,2, -999.000,9, -999.000,9, -999.000,9,   1.8920,2,    16.96,2,   -999.0,9,   -999.0,9,   -999.0,9,   -999.0,9,   -999.0,9, -999.00,  -999.0,-999.0000,-999.000,  1.1836,-999.000
   31WTTUNES_2,  P16S,   197,  1,     32,     32,2,19910818,1111,-29.0050,-150.5083, 4668,   3817.0,   1.3631,  34.6972,2,  34.6965,2,    182.4,2,    185.1,2,   124.23,2,    33.13,2,     0.00,2,     2.32,2, -999.000,9, -999.000,9, -999.000,9,   1.8850,2,    14.99,2,   -999.0,9,   -999.0,9,   -999.0,9,   -999.0,9,   -999.0,9, -999.00,  -999.0,-999.0000,-999.000,  1.0675,-999.000
   31WTTUNES_2,  P16S,   197,  1,     33,     33,2,19910818,1111,-29.0050,-150.5083, 4668,   4078.1,   1.3121,  34.7002,2,  34.7003,2,    188.6,2,    189.5,2,   123.84,2,    32.84,2,     0.00,2,     2.30,2, -999.000,9, -999.000,9, -999.000,9,   1.8870,2,    13.43,2,   -999.0,9,   -999.0,9,   -999.0,9,   -999.0,9,   -999.0,9, -999.00,  -999.0,-999.0000,-999.000,  0.9900,-999.000
   31WTTUNES_2,  P16S,   197,  1,     34,     34,2,19910818,1111,-29.0050,-150.5083, 4668,   4339.7,   1.3061,  34.7016,2,  34.7017,2,    192.1,2,    191.9,2,   123.84,2,    32.65,2,     0.00,2,     2.29,2, -999.000,9, -999.000,9, -999.000,9,   1.8840,2,    12.97,2,   -999.0,9,   -999.0,9,   -999.0,9,   -999.0,9,   -999.0,9, -999.00,  -999.0,-999.0000,-999.000,  0.9552,-999.000
   31WTTUNES_2,  P16S,   197,  1,     39,     39,2,19910818,1111,-29.0050,-150.5083, 4668,   4600.3,   1.3161,  34.7024,2,  34.7022,2,    194.3,2,    193.2,2,   122.37,2,    32.65,2,     0.00,2,     2.27,2, -999.000,9, -999.000,9, -999.000,9,   1.8830,2,    12.58,2,   -999.0,9,   -999.0,9,   -999.0,9,   -999.0,9,   -999.0,9, -999.00,  -999.0,-999.0000,-999.000,  0.9352,-999.000
   31WTTUNES_2,  P16S,   197,  1,     38,     38,2,19910818,1111,-29.0050,-150.5083, 4668,   4848.5,   1.3011,  34.7036,2,  34.7038,2,    196.1,2,    195.4,2,   122.57,2,    32.45,2,     0.00,2,     2.27,2, -999.000,9, -999.000,9, -999.000,9,   1.8830,2,    11.71,2,   -999.0,9,   -999.0,9,   -999.0,9,   -999.0,9,   -999.0,9, -999.00,  -999.0,-999.0000,-999.000,  0.8917,-999.000