BOTTLE,20131125MIRCJHATS
EXPOCODE,SECT_ID,STNNBR,CASTNO,SAMPNO,BTLNBR,BTLNBR_FLAG_W,DATE,TIME,LATITUDE,LONGITUDE,DEPTH,CTDPRS,CTDTMP,CTDSAL,CTDSAL_FLAG_W,SALNTY,SALNTY_FLAG_W,CTDOXY,CTDOXY_FLAG_W,OXYGEN,OXYGEN_FLAG_W,SILCAT,SILCAT_FLAG_W,NITRAT,NITRAT_FLAG_W,NITRIT,NITRIT_FLAG_W,PHSPHT,PHSPHT_FLAG_W,CFC-11,CFC-11_FLAG_W,CFC-12,CFC-12_FLAG_W,TRITUM,TRITUM_FLAG_W,HELIUM,HELIUM_FLAG_W,DELHE3,DELHE3_FLAG_W,DELC14,DELC14_FLAG_W,DELC13,DELC13_FLAG_W,TCARBN,TCARBN_FLAG_W,PCO2,PCO2_FLAG_W,ALKALI,ALKALI_FLAG_W,PCO2TMP,C14ERR,HELIER,DELHER,THETA,TRITER
,,,,,,,,,,,,DBAR,ITS-90,PSS-78,,PSS-78,,UMOL/KG,,UMOL/KG,,UMOL/KG,,UMOL/KG,,UMOL/KG,,UMOL/KG,,PMOL/KG,,PMOL/KG,,TU,,NMOL/KG,,PERCNT,,/MILLE,,/MILLE,,UMOL/KG,,UATM,,UMOL/KG,,DEG C,/MILLE,NMOL/KG,PERCNT,DEG C,TU
   31WTTUNES_2,  P16S,   190,  1,     61,     61,2,19910816,1025,-32.4983,-150.5017, 5154,      2.0,  16.3984,  35.3419,2,  35.3463,2,   -999.0,9,    240.7,2,     1.45,2,     0.13,2,     0.01,2,     0.13,2,    2.624,2,    1.348,2, -999.000,9,-999.0000,9,  -999.00,9,   -999.0,9,   -999.0,9,   2040.6,2,    352.4,2,   -999.0,9,   20.00,  -999.0,-999.0000,-999.000, 16.3981,-999.000
   31WTTUNES_2,  P16S,   190,  1,      2,      2,2,19910816,1025,-32.4983,-150.5017, 5154,     72.6,  16.3286,  35.3265,2,  35.3287,2,   -999.0,9,    241.1,2,     1.43,2,     0.13,2,     0.01,2,     0.14,2, -999.000,9, -999.000,9, -999.000,9,-999.0000,9,  -999.00,9,   -999.0,9,   -999.0,9,   2035.9,2,    350.7,2,   -999.0,9,   20.00,  -999.0,-999.0000,-999.000, 16.3170,-999.000
   31WTTUNES_2,  P16S,   190,  1,      3,      3,2,19910816,1025,-32.4983,-150.5017, 5154,    117.7,  16.1347,  35.2722,2,  35.2678,2,   -999.0,9,    242.1,2,     1.41,2,     0.13,2,     0.01,2,     0.14,2,    2.700,2,    1.374,2, -999.000,9,-999.0000,9,  -999.00,9,   -999.0,9,   -999.0,9,   2038.1,2,    359.7,2,   -999.0,9,   20.00,  -999.0,-999.0000,-999.000, 16.1160,-999.000
   31WTTUNES_2,  P16S,   190,  1,     64,     64,2,19910816,1025,-32.4983,-150.5017, 5154,    143.2,  15.9077,  35.2423,2,  35.2395,2,   -999.0,9,    238.3,2,     1.39,2,     0.54,2,     0.02,2,     0.18,2,    2.616,2,    1.364,2, -999.000,9,-999.0000,9,  -999.00,9,   -999.0,9,   -999.0,9,   2046.4,2,    370.1,2,   -999.0,9,   20.00,  -999.0,-999.0000,-999.000, 15.8851,-999.000
   31WTTUNES_2,  P16S,   190,  1,      5,      5,2,19910816,1025,-32.4983,-150.5017, 5154,    193.4,  14.6420,  35.1504,2,  35.1509,2,   -999.0,9,    215.1,2,     1.77,2,     4.08,2,     0.01,2,     0.45,2,    2.367,2,    1.218,2, -999.000,9,-999.0000,9,  -999.00,9,   -999.0,9,   -999.0,9,   2074.2,2,    439.7,2,   -999.0,9,   20.00,  -999.0,-999.0000,-999.000, 14.6131,-999.000
   31WTTUNES_2,  P16S,   190,  1,      6,      6,2,19910816,1025,-32.4983,-150.5017, 5154,    250.3,  12.9288,  35.0136,2,  35.0070,2,   -999.0,9,    202.1,2,     2.96,2,     9.27,2,     0.00,2,     0.74,2,    2.001,2,    1.027,2, -999.000,9,-999.0000,9,  -999.00,9,   -999.0,9,   -999.0,9,   2097.7,2,    520.5,2,   -999.0,9,   20.00,  -999.0,-999.0000,-999.000, 12.8944,-999.000
   31WTTUNES_2,  P16S,   190,  1,      7,      7,2,19910816,1025,-32.4983,-150.5017, 5154,    311.4,  11.2974,  34.8290,2,  34.8313,2,   -999.0,9,    201.8,2,     3.74,2,    13.18,2,     0.00,2,     0.98,2,    1.677,2,    0.866,2, -999.000,9,-999.0000,9,  -999.00,9,   -999.0,9,   -999.0,9,   2111.6,2,    583.7,2,   -999.0,9,   20.00,  -999.0,-999.0000,-999.000, 11.2582,-999.000
   31WTTUNES_2,  P16S,   190,  1,     68,     68,2,19910816,1025,-32.4983,-150.5017, 5154,    372.1,   9.4203,  34.6137,2,  34.6106,2,   -999.0,9,    216.1,2,     4.53,2,    16.29,2,     0.00,2,     1.17,2,    1.882,6,    0.946,6, -999.000,9,-999.0000,9,  -999.00,9,   -999.0,9,   -999.0,9,   2119.4,2,    644.7,2,   -999.0,9,   20.00,  -999.0,-999.0000,-999.000,  9.3785,-999.000
   31WTTUNES_2,  P16S,   190,  1,     69,     69,2,19910816,1025,-32.4983,-150.5017, 5154,    429.2,   8.4030,  34.5281,2,  34.5285,2,   -999.0,9,    219.5,2,     6.12,2,    19.07,2,     0.00,2,     1.34,2,    1.344,2,    0.682,2, -999.000,9,-999.0000,9,  -999.00,9,   -999.0,9,   -999.0,9,   2128.8,2,    688.7,2,   -999.0,9,   20.00,  -999.0,-999.0000,-999.000,  8.3579,-999.000
   31WTTUNES_2,  P16S,   190,  1,     70,     70,2,19910816,1025,-32.4983,-150.5017, 5154,    489.0,   7.6283,  34.4557,2,  34.4572,2,   -999.0,9,    223.1,2,     7.50,2,    21.01,2,     0.00,2,     1.47,2,    0.906,2,    0.483,2, -999.000,9,-999.0000,9,  -999.00,9,   -999.0,9,   -999.0,9,   2132.2,2,    712.7,2,   -999.0,9,   20.00,  -999.0,-999.0000,-999.000,  7.5796,-999.000
   31WTTUNES_2,  P16S,   190,  1,     11,     11,2,19910816,1025,-32.4983,-150.5017, 5154,    549.1,   7.0291,  34.4029,2,  34.4040,2,   -999.0,9,    234.6,2,     8.09,2,    21.86,2,     0.00,2,     1.52,2,    0.937,2,    0.492,2, -999.000,9,-999.0000,9,  -999.00,9,   -999.0,9,   -999.0,9,   2134.6,2,    717.4,2,   -999.0,9,   20.00,  -999.0,-999.0000,-999.000,  6.9768,-999.000
   31WTTUNES_2,  P16S,   190,  1,     12,     12,2,19910816,1025,-32.4983,-150.5017, 5154,    608.9,   6.6702,  34.3725,2,  34.3758,2,   -999.0,9,    236.5,2,     9.07,2,    22.81,2,     0.00,2,     1.58,2,    0.734,2,    0.400,2, -999.000,9,-999.0000,9,  -999.00,9,   -999.0,9,   -999.0,9,   2134.3,2,    728.6,2,   -999.0,9,   20.00,  -999.0,-999.0000,-999.000,  6.6136,-999.000
   31WTTUNES_2,  P16S,   190,  1,     13,     13,2,19910816,1025,-32.4983,-150.5017, 5154,    709.4,   6.1718,  34.3416,2,  34.3418,2,   -999.0,9,    234.5,2,    11.67,2,    24.23,2,     0.00,2,     1.70,2, -999.000,9, -999.000,9, -999.000,9,-999.0000,9,  -999.00,9,   -999.0,9,   -999.0,9,   2141.2,2,    744.7,2,   -999.0,9,   20.00,  -999.0,-999.0000,-999.000,  6.1080,-999.000
   31WTTUNES_2,  P16S,   190,  1,     37,     37,2,19910816,1025,-32.4983,-150.5017, 5154,    811.5,   5.6914,  34.3222,2,  34.3215,2,   -999.0,9,    225.4,2,    15.67,2,    26.23,2,     0.00,2,     1.81,2,    0.268,2,    0.161,2, -999.000,9,-999.0000,9,  -999.00,9,   -999.0,9,   -999.0,9,   2155.8,2,    798.4,2,   -999.0,9,   20.00,  -999.0,-999.0000,-999.000,  5.6209,-999.000
   31WTTUNES_2,  P16S,   190,  1,     15,     15,2,19910816,1025,-32.4983,-150.5017, 5154,    912.5,   5.1566,  34.3190,2,  34.3189,2,   -999.0,9,    212.4,2,    22.89,2,    28.52,2,     0.00,2,     1.97,2,    0.140,2,    0.086,2, -999.000,9,-999.0000,9,  -999.00,9,   -999.0,9,   -999.0,9,   2170.1,2,    865.7,2,   -999.0,9,   20.00,  -999.0,-999.0000,-999.000,  5.0803,-999.000
   31WTTUNES_2,  P16S,   190,  1,     16,     16,2,19910816,1025,-32.4983,-150.5017, 5154,   1015.8,   4.4875,  34.3309,2,  34.3307,2,   -999.0,9,    201.3,2,    32.13,2,    30.62,2,     0.00,2,     2.12,2,    0.106,2,    0.062,2, -999.000,9,-999.0000,9,  -999.00,9,   -999.0,9,   -999.0,9,   2188.5,2,    949.9,2,   -999.0,9,   20.00,  -999.0,-999.0000,-999.000,  4.4070,-999.000
   31WTTUNES_2,  P16S,   190,  1,     17,     17,2,19910816,1025,-32.4983,-150.5017, 5154,   1116.0,   3.9295,  34.3616,2,  34.3609,2,   -999.0,9,    190.2,2,    43.38,2,    32.36,2,     0.00,2,     2.24,2,    0.029,2,    0.021,2, -999.000,9,-999.0000,9,  -999.00,9,   -999.0,9,   -999.0,9,   2208.8,2,   1010.6,2,   -999.0,9,   20.00,  -999.0,-999.0000,-999.000,  3.8450,-999.000
   31WTTUNES_2,  P16S,   190,  1,     18,     18,2,19910816,1025,-32.4983,-150.5017, 5154,   1270.8,   3.3819,  34.4204,2,  34.4210,2,   -999.0,9,    178.7,2,    57.46,2,    33.62,2,     0.00,2,     2.34,2,    0.007,2,    0.007,2, -999.000,9,-999.0000,9,  -999.00,9,   -999.0,9,   -999.0,9,   2227.9,2,   1091.4,2,   -999.0,9,   20.00,  -999.0,-999.0000,-999.000,  3.2893,-999.000
   31WTTUNES_2,  P16S,   190,  1,     19,     19,2,19910816,1025,-32.4983,-150.5017, 5154,   1426.2,   2.9257,  34.4918,2,  34.4932,2,   -999.0,9,    169.2,2,    73.01,2,    34.39,2,     0.00,2,     2.40,2,    0.002,2,    0.000,2, -999.000,9,-999.0000,9,  -999.00,9,   -999.0,9,   -999.0,9,   2250.4,2,   1125.4,2,   -999.0,9,   20.00,  -999.0,-999.0000,-999.000,  2.8250,-999.000
   31WTTUNES_2,  P16S,   190,  1,     20,     20,2,19910816,1025,-32.4983,-150.5017, 5154,   1583.9,   2.6699,  34.5465,2,  34.5449,2,   -999.0,9,    163.1,2,    85.57,2,    34.73,2,     0.00,2,     2.44,2, -999.000,9, -999.000,9, -999.000,9,-999.0000,9,  -999.00,9,   -999.0,9,   -999.0,9,   2264.4,2,   1148.5,2,   -999.0,9,   20.00,  -999.0,-999.0000,-999.000,  2.5591,-999.000
   31WTTUNES_2,  P16S,   190,  1,     21,     21,2,19910816,1025,-32.4983,-150.5017, 5154,   1737.1,   2.4291,  34.5939,2,  34.5936,2,   -999.0,9,    157.3,2,    99.63,2,    34.88,2,     0.00,2,     2.45,2, -999.000,9, -999.000,9, -999.000,9,-999.0000,9,  -999.00,9,   -999.0,9,   -999.0,9,   2278.5,2,   1164.4,2,   -999.0,9,   20.00,  -999.0,-999.0000,-999.000,  2.3085,-999.000
   31WTTUNES_2,  P16S,   190,  1,     22,     22,2,19910816,1025,-32.4983,-150.5017, 5154,   1948.1,   2.2271,  34.6231,2,  34.6221,2,   -999.0,9,    153.8,2,   110.70,2,    35.27,2,     0.00,2,     2.48,2, -999.000,9, -999.000,9, -999.000,9,-999.0000,9,  -999.00,9,   -999.0,9,   -999.0,9,   2296.9,2,   1161.9,2,   -999.0,9,   20.00,  -999.0,-999.0000,-999.000,  2.0917,-999.000
   31WTTUNES_2,  P16S,   190,  1,     23,     23,2,19910816,1025,-32.4983,-150.5017, 5154,   2158.3,   2.0680,  34.6411,2,  34.6406,2,   -999.0,9,    152.1,2,   119.16,2,    35.47,2,     0.00,2,     2.49,2, -999.000,9, -999.000,9, -999.000,9,-999.0000,9,  -999.00,9,   -999.0,9,   -999.0,9,   2299.7,2,   1171.9,2,   -999.0,9,   20.00,  -999.0,-999.0000,-999.000,  1.9170,-999.000
   31WTTUNES_2,  P16S,   190,  1,     24,     24,2,19910816,1025,-32.4983,-150.5017, 5154,   2366.3,   1.9443,  34.6539,2,  34.6520,2,   -999.0,9,    150.4,2,   126.42,2,    35.72,2,     0.00,2,     2.51,2, -999.000,9, -999.000,9, -999.000,9,-999.0000,9,  -999.00,9,   -999.0,9,   -999.0,9,   2307.6,2,   1174.0,2,   -999.0,9,   20.00,  -999.0,-999.0000,-999.000,  1.7771,-999.000
   31WTTUNES_2,  P16S,   190,  1,     25,     25,2,19910816,1025,-32.4983,-150.5017, 5154,   2570.6,   1.8487,  34.6613,2,  34.6607,2,   -999.0,9,    150.9,2,   129.73,2,    35.72,2,     0.00,2,     2.51,2, -999.000,9, -999.000,9, -999.000,9,-999.0000,9,  -999.00,9,   -999.0,9,   -999.0,9,   2312.0,2,   1168.3,2,   -999.0,9,   20.00,  -999.0,-999.0000,-999.000,  1.6648,-999.000
   31WTTUNES_2,  P16S,   190,  1,     26,     26,2,19910816,1025,-32.4983,-150.5017, 5154,   2775.1,   1.7672,  34.6684,2,  34.6681,2,   -999.0,9,    153.5,2,   131.37,2,    35.48,2,     0.00,2,     2.49,2, -999.000,9, -999.000,9, -999.000,9,-999.0000,9,  -999.00,9,   -999.0,9,   -999.0,9,   2309.3,2,   1167.4,2,   -999.0,9,   20.00,  -999.0,-999.0000,-999.000,  1.5660,-999.000
   31WTTUNES_2,  P16S,   190,  1,     27,     27,2,19910816,1025,-32.4983,-150.5017, 5154,   2977.1,   1.7068,  34.6768,2,  34.6744,2,   -999.0,9,    157.9,2,   131.53,2,    35.28,2,     0.00,2,     2.48,2, -999.000,9, -999.000,9, -999.000,9,-999.0000,9,  -999.00,9,   -999.0,9,   -999.0,9,   2310.4,2,   1153.8,2,   -999.0,9,   20.00,  -999.0,-999.0000,-999.000,  1.4876,-999.000
   31WTTUNES_2,  P16S,   190,  1,     28,     28,2,19910816,1025,-32.4983,-150.5017, 5154,   3174.3,   1.6334,  34.6819,2,  34.6833,2,   -999.0,9,    162.9,2,   130.86,2,    34.79,2,     0.00,2,     2.44,2, -999.000,9, -999.000,9, -999.000,9,-999.0000,9,  -999.00,9,   -999.0,9,   -999.0,9,   2300.9,2,   1136.2,2,   -999.0,9,   20.00,  -999.0,-999.0000,-999.000,  1.3967,-999.000
   31WTTUNES_2,  P16S,   190,  1,     29,     29,2,19910816,1025,-32.4983,-150.5017, 5154,   3436.2,   1.5384,  34.6912,2,  34.6906,2,   -999.0,9,    172.9,2,   126.83,2,    34.02,2,     0.00,2,     2.38,2, -999.000,9, -999.000,9, -999.000,9,-999.0000,9,  -999.00,9,   -999.0,9,   -999.0,9,   2294.3,2,   1110.8,2,   -999.0,9,   20.00,  -999.0,-999.0000,-999.000,  1.2777,-999.000
   31WTTUNES_2,  P16S,   190,  1,     30,     30,2,19910816,1025,-32.4983,-150.5017, 5154,   3699.0,   1.4461,  34.6967,2,  34.6963,2,   -999.0,9,    180.7,2,   124.91,2,    33.48,2,     0.00,2,     2.34,2, -999.000,9, -999.000,9, -999.000,9,-999.0000,9,  -999.00,9,   -999.0,9,   -999.0,9,   2284.7,2,   1090.7,2,   -999.0,9,   20.00,  -999.0,-999.0000,-999.000,  1.1607,-999.000
   31WTTUNES_2,  P16S,   190,  1,     31,     31,2,19910816,1025,-32.4983,-150.5017, 5154,   3960.9,   1.3579,  34.7026,2,  34.7030,2,   -999.0,9,    188.1,2,   123.20,2,    33.00,2,     0.00,2,     2.29,2, -999.000,9, -999.000,9, -999.000,9,-999.0000,9,  -999.00,9,   -999.0,9,   -999.0,9,   2278.7,2,   1067.6,2,   -999.0,9,   20.00,  -999.0,-999.0000,-999.000,  1.0471,-999.000
   31WTTUNES_2,  P16S,   190,  1,     32,     32,2,19910816,1025,-32.4983,-150.5017, 5154,   4222.1,   1.2922,  34.7063,2,  34.7069,2,   -999.0,9,    194.1,2,   122.53,2,    32.61,2,     0.00,2,     2.27,2, -999.000,9, -999.000,9, -999.000,9,-999.0000,9,  -999.00,9,   -999.0,9,   -999.0,9,   2275.6,2,   1057.2,2,   -999.0,9,   20.00,  -999.0,-999.0000,-999.000,  0.9548,-999.000
   31WTTUNES_2,  P16S,   190,  1,     33,     33,2,19910816,1025,-32.4983,-150.5017, 5154,   4489.8,   1.2263,  34.7088,2,  34.7087,2,   -999.0,9,    198.4,2,   121.66,2,    32.37,2,     0.00,2,     2.24,2, -999.000,9, -999.000,9, -999.000,9,-999.0000,9,  -999.00,9,   -999.0,9,   -999.0,9,   2269.6,2,   1051.9,2,   -999.0,9,   20.00,  -999.0,-999.0000,-999.000,  0.8608,-999.000
   31WTTUNES_2,  P16S,   190,  1,     34,     34,2,19910816,1025,-32.4983,-150.5017, 5154,   4755.3,   1.1742,  34.7090,2,  34.7103,2,   -999.0,9,    202.0,2,   121.82,2,    32.28,2,     0.00,2,     2.23,2, -999.000,9, -999.000,9, -999.000,9,-999.0000,9,  -999.00,9,   -999.0,9,   -999.0,9,   2265.2,2,   1047.4,2,   -999.0,9,   20.00,  -999.0,-999.0000,-999.000,  0.7798,-999.000
   31WTTUNES_2,  P16S,   190,  1,     39,     39,2,19910816,1025,-32.4983,-150.5017, 5154,   5017.0,   1.1508,  34.7089,2,  34.7103,2,   -999.0,9,    204.4,2,   122.20,2,    32.14,2,     0.00,2,     2.23,2, -999.000,9, -999.000,9, -999.000,9,-999.0000,9,  -999.00,9,   -999.0,9,   -999.0,9,   2268.0,2,   1038.9,2,   -999.0,9,   20.00,  -999.0,-999.0000,-999.000,  0.7263,-999.000
   31WTTUNES_2,  P16S,   190,  1,     38,     38,2,19910816,1025,-32.4983,-150.5017, 5154,   5268.2,   1.1473,  34.7090,2,  34.7097,2,   -999.0,9,    205.3,2,   123.41,2,    32.14,2,     0.00,2,     2.22,2, -999.000,9, -999.000,9, -999.000,9,-999.0000,9,  -999.00,9,   -999.0,9,   -999.0,9,   2263.1,2,   1035.9,2,   -999.0,9,   20.00,  -999.0,-999.0000,-999.000,  0.6923,-999.000