BOTTLE,20131125MIRCJHATS
EXPOCODE,SECT_ID,STNNBR,CASTNO,SAMPNO,BTLNBR,BTLNBR_FLAG_W,DATE,TIME,LATITUDE,LONGITUDE,DEPTH,CTDPRS,CTDTMP,CTDSAL,CTDSAL_FLAG_W,SALNTY,SALNTY_FLAG_W,CTDOXY,CTDOXY_FLAG_W,OXYGEN,OXYGEN_FLAG_W,SILCAT,SILCAT_FLAG_W,NITRAT,NITRAT_FLAG_W,NITRIT,NITRIT_FLAG_W,PHSPHT,PHSPHT_FLAG_W,CFC-11,CFC-11_FLAG_W,CFC-12,CFC-12_FLAG_W,TRITUM,TRITUM_FLAG_W,HELIUM,HELIUM_FLAG_W,DELHE3,DELHE3_FLAG_W,DELC14,DELC14_FLAG_W,DELC13,DELC13_FLAG_W,TCARBN,TCARBN_FLAG_W,PCO2,PCO2_FLAG_W,ALKALI,ALKALI_FLAG_W,PCO2TMP,C14ERR,HELIER,DELHER,THETA,TRITER
,,,,,,,,,,,,DBAR,ITS-90,PSS-78,,PSS-78,,UMOL/KG,,UMOL/KG,,UMOL/KG,,UMOL/KG,,UMOL/KG,,UMOL/KG,,PMOL/KG,,PMOL/KG,,TU,,NMOL/KG,,PERCNT,,/MILLE,,/MILLE,,UMOL/KG,,UATM,,UMOL/KG,,DEG C,/MILLE,NMOL/KG,PERCNT,DEG C,TU
   31WTTUNES_2,  P16S,   219,  1,     61,     61,2,19910825,0215,-18.0183,-150.5017, 3363,      0.2,  26.2113,  36.0989,2,  36.1019,2,    200.2,3,    203.3,2,     1.24,2,     0.13,2,     0.01,2,     0.19,2,    1.745,2,    0.939,2, -999.000,9,-999.0000,9,  -999.00,9,   -999.0,9,   -999.0,9,   2000.7,2,    247.0,2,   -999.0,9,   20.00,  -999.0,-999.0000,-999.000, 26.2112,-999.000
   31WTTUNES_2,  P16S,   219,  1,     62,     62,2,19910825,0215,-18.0183,-150.5017, 3363,     32.3,  26.0110,  36.0913,2,  36.0903,2,    203.4,2,    204.1,2,     1.02,2,     0.13,2,     0.00,2,     0.19,2, -999.000,9, -999.000,9, -999.000,9,-999.0000,9,  -999.00,9,   -999.0,9,   -999.0,9,   -999.0,9,   -999.0,9,   -999.0,9, -999.00,  -999.0,-999.0000,-999.000, 26.0038,-999.000
   31WTTUNES_2,  P16S,   219,  1,      3,      3,2,19910825,0215,-18.0183,-150.5017, 3363,     67.6,  25.1112,  35.9778,2,  35.9803,2,    207.2,2,    206.2,2,     0.80,2,     0.13,2,     0.00,2,     0.15,2,    1.826,2,    0.961,2, -999.000,9,-999.0000,9,  -999.00,9,   -999.0,9,   -999.0,9,   -999.0,9,   -999.0,9,   -999.0,9, -999.00,  -999.0,-999.0000,-999.000, 25.0965,-999.000
   31WTTUNES_2,  P16S,   219,  1,     64,     64,2,19910825,0215,-18.0183,-150.5017, 3363,    102.8,  24.8326,  35.9561,2,  35.9588,2,    204.1,6,    206.2,2,     0.59,2,     0.13,2,     0.00,2,     0.15,2, -999.000,9, -999.000,9, -999.000,9,-999.0000,9,  -999.00,9,   -999.0,9,   -999.0,9,   -999.0,9,   -999.0,9,   -999.0,9, -999.00,  -999.0,-999.0000,-999.000, 24.8103,-999.000
   31WTTUNES_2,  P16S,   219,  1,      5,      5,2,19910825,0215,-18.0183,-150.5017, 3363,    132.9,  24.0265,  35.8746,3,  35.9720,2,    204.2,2,    190.9,2,     0.58,2,     0.35,2,     0.08,2,     0.23,2,    1.798,2,    0.957,2, -999.000,9,-999.0000,9,  -999.00,9,   -999.0,9,   -999.0,9,   -999.0,9,   -999.0,9,   -999.0,9, -999.00,  -999.0,-999.0000,-999.000, 23.9984,-999.000
   31WTTUNES_2,  P16S,   219,  1,      6,      6,2,19910825,0215,-18.0183,-150.5017, 3363,    163.4,  22.9943,  35.9226,2,  35.9246,2,    185.5,2,    182.1,2,     0.58,2,     1.30,2,     0.05,2,     0.29,2,    1.813,2,    0.960,2, -999.000,9,-999.0000,9,  -999.00,9,   -999.0,9,   -999.0,9,   -999.0,9,   -999.0,9,   -999.0,9, -999.00,  -999.0,-999.0000,-999.000, 22.9608,-999.000
   31WTTUNES_2,  P16S,   219,  1,      7,      7,2,19910825,0215,-18.0183,-150.5017, 3363,    193.4,  21.8323,  35.9401,2,  35.9410,2,    177.0,2,    174.7,2,     0.57,2,     2.93,2,     0.02,2,     0.41,2,    1.746,2,    0.911,2, -999.000,9,-999.0000,9,  -999.00,9,   -999.0,9,   -999.0,9,   -999.0,9,   -999.0,9,   -999.0,9, -999.00,  -999.0,-999.0000,-999.000, 21.7941,-999.000
   31WTTUNES_2,  P16S,   219,  1,     68,     68,2,19910825,0215,-18.0183,-150.5017, 3363,    233.7,  20.4103,  35.8086,2,  35.8069,2,    176.1,2,    174.3,2,     1.21,2,     4.11,2,     0.01,2,     0.48,2,    1.723,2,    0.879,2, -999.000,9,-999.0000,9,  -999.00,9,   -999.0,9,   -999.0,9,   -999.0,9,   -999.0,9,   -999.0,9, -999.00,  -999.0,-999.0000,-999.000, 20.3663,-999.000
   31WTTUNES_2,  P16S,   219,  1,     69,     69,2,19910825,0215,-18.0183,-150.5017, 3363,    280.4,  17.9324,  35.4868,2,  35.4790,2,    172.7,2,    172.6,2,     1.84,2,     6.55,2,     0.01,2,     0.65,2,    1.576,2,    0.797,2, -999.000,9,-999.0000,9,  -999.00,9,   -999.0,9,   -999.0,9,   -999.0,9,   -999.0,9,   -999.0,9, -999.00,  -999.0,-999.0000,-999.000, 17.8841,-999.000
   31WTTUNES_2,  P16S,   219,  1,     70,     70,2,19910825,0215,-18.0183,-150.5017, 3363,    330.8,  15.9048,  35.2240,2,  35.2120,2,    167.7,2,    168.1,2,     3.32,2,     9.53,2,     0.01,2,     0.85,2,    1.355,2,    0.697,2, -999.000,9,-999.0000,9,  -999.00,9,   -999.0,9,   -999.0,9,   -999.0,9,   -999.0,9,   -999.0,9, -999.00,  -999.0,-999.0000,-999.000, 15.8523,-999.000
   31WTTUNES_2,  P16S,   219,  1,     11,     11,2,19910825,0215,-18.0183,-150.5017, 3363,    380.4,  13.4695,  34.9413,2,  34.9269,2,    161.4,2,    160.5,2,     5.65,2,    14.11,2,     0.01,2,     1.16,2,    1.053,2,    0.538,2, -999.000,9,-999.0000,9,  -999.00,9,   -999.0,9,   -999.0,9,   -999.0,9,   -999.0,9,   -999.0,9, -999.00,  -999.0,-999.0000,-999.000, 13.4156,-999.000
   31WTTUNES_2,  P16S,   219,  1,     12,     12,2,19910825,0215,-18.0183,-150.5017, 3363,    431.2,  11.2359,  34.7256,2,  34.7238,2,    163.2,2,    161.9,2,     8.19,2,    18.32,2,     0.01,2,     1.41,2,    0.782,2,    0.406,2, -999.000,9,-999.0000,9,  -999.00,9,   -999.0,9,   -999.0,9,   -999.0,9,   -999.0,9,   -999.0,9, -999.00,  -999.0,-999.0000,-999.000, 11.1816,-999.000
   31WTTUNES_2,  P16S,   219,  1,     13,     13,2,19910825,0215,-18.0183,-150.5017, 3363,    492.7,   9.5168,  34.5741,2,  34.5694,2,    160.3,2,    160.6,2,    11.57,2,    22.38,2,     0.01,2,     1.67,2,    0.544,2,    0.287,2, -999.000,9,-999.0000,9,  -999.00,9,   -999.0,9,   -999.0,9,   -999.0,9,   -999.0,9,   -999.0,9, -999.00,  -999.0,-999.0000,-999.000,  9.4608,-999.000
   31WTTUNES_2,  P16S,   219,  1,     37,     37,2,19910825,0215,-18.0183,-150.5017, 3363,    546.3,   7.8943,  34.4563,2,  34.4492,2,    171.8,2,    171.2,2,    14.12,2,    25.67,2,     0.00,2,     1.84,2,    0.363,2,    0.198,2, -999.000,9,-999.0000,9,  -999.00,9,   -999.0,9,   -999.0,9,   -999.0,9,   -999.0,9,   -999.0,9, -999.00,  -999.0,-999.0000,-999.000,  7.8387,-999.000
   31WTTUNES_2,  P16S,   219,  1,     15,     15,2,19910825,0215,-18.0183,-150.5017, 3363,    605.8,   7.0609,  34.4238,2,  34.4231,2,    164.2,2,    165.3,2,    18.99,2,    28.18,2,     0.00,2,     2.01,2,    0.221,2,    0.122,2, -999.000,9,-999.0000,9,  -999.00,9,   -999.0,9,   -999.0,9,   -999.0,9,   -999.0,9,   -999.0,9, -999.00,  -999.0,-999.0000,-999.000,  7.0028,-999.000
   31WTTUNES_2,  P16S,   219,  1,     16,     16,2,19910825,0215,-18.0183,-150.5017, 3363,    686.0,   5.9141,  34.3996,2,  34.4068,2,    165.5,2,    166.4,2,    25.35,2,    30.06,2,     0.00,2,     2.12,2,    0.118,2,    0.068,2, -999.000,9,-999.0000,9,  -999.00,9,   -999.0,9,   -999.0,9,   -999.0,9,   -999.0,9,   -999.0,9, -999.00,  -999.0,-999.0000,-999.000,  5.8538,-999.000
   31WTTUNES_2,  P16S,   219,  1,     17,     17,2,19910825,0215,-18.0183,-150.5017, 3363,    763.2,   5.3793,  34.4161,2,  34.4169,2,    158.6,2,    158.0,2,    37.44,2,    32.55,2,     0.00,2,     2.28,2,    0.032,2,    0.022,2, -999.000,9,-999.0000,9,  -999.00,9,   -999.0,9,   -999.0,9,   -999.0,9,   -999.0,9,   -999.0,9, -999.00,  -999.0,-999.0000,-999.000,  5.3149,-999.000
   31WTTUNES_2,  P16S,   219,  1,     18,     18,2,19910825,0215,-18.0183,-150.5017, 3363,    851.4,   4.7155,  34.4270,2,  34.4265,2,    153.7,2,    155.5,2,    47.41,2,    33.70,2,     0.00,2,     2.36,2,    0.012,2,    0.010,2, -999.000,9,-999.0000,9,  -999.00,9,   -999.0,9,   -999.0,9,   -999.0,9,   -999.0,9,   -999.0,9, -999.00,  -999.0,-999.0000,-999.000,  4.6474,-999.000
   31WTTUNES_2,  P16S,   219,  1,     19,     19,2,19910825,0215,-18.0183,-150.5017, 3363,    955.8,   4.2080,  34.4635,2,  34.4618,2,    149.1,2,    149.6,2,    79.79,4,    35.31,4,     0.00,4,     2.48,4, -999.000,9, -999.000,9, -999.000,9,-999.0000,9,  -999.00,9,   -999.0,9,   -999.0,9,   -999.0,9,   -999.0,9,   -999.0,9, -999.00,  -999.0,-999.0000,-999.000,  4.1345,-999.000
   31WTTUNES_2,  P16S,   219,  1,     20,     20,2,19910825,0215,-18.0183,-150.5017, 3363,   1057.1,   3.7304,  34.4944,2,  34.4934,2,    149.3,2,    149.9,2,    70.81,2,    35.11,2,     0.00,2,     2.45,2, -999.000,9, -999.000,9, -999.000,9,-999.0000,9,  -999.00,9,   -999.0,9,   -999.0,9,   -999.0,9,   -999.0,9,   -999.0,9, -999.00,  -999.0,-999.0000,-999.000,  3.6522,-999.000
   31WTTUNES_2,  P16S,   219,  1,     21,     21,2,19910825,0215,-18.0183,-150.5017, 3363,   1158.2,   3.3548,  34.5192,2,  34.5182,2,    149.6,2,    149.8,2,    80.42,2,    35.52,2,     0.01,2,     2.49,2, -999.000,9, -999.000,9, -999.000,9,-999.0000,9,  -999.00,9,   -999.0,9,   -999.0,9,   -999.0,9,   -999.0,9,   -999.0,9, -999.00,  -999.0,-999.0000,-999.000,  3.2715,-999.000
   31WTTUNES_2,  P16S,   219,  1,     22,     22,2,19910825,0215,-18.0183,-150.5017, 3363,   1313.2,   2.9963,  34.5498,2,  34.5488,2,    147.6,2,    149.2,2,    91.34,2,    35.88,2,     0.01,2,     2.52,2, -999.000,9, -999.000,9, -999.000,9,-999.0000,9,  -999.00,9,   -999.0,9,   -999.0,9,   -999.0,9,   -999.0,9,   -999.0,9, -999.00,  -999.0,-999.0000,-999.000,  2.9039,-999.000
   31WTTUNES_2,  P16S,   219,  1,     23,     23,2,19910825,0215,-18.0183,-150.5017, 3363,   1514.1,   2.5802,  34.5886,2,  34.5883,2,    149.4,2,    148.8,2,   104.47,2,    35.98,2,     0.01,2,     2.52,2, -999.000,9, -999.000,9, -999.000,9,-999.0000,9,  -999.00,9,   -999.0,9,   -999.0,9,   -999.0,9,   -999.0,9,   -999.0,9, -999.00,  -999.0,-999.0000,-999.000,  2.4760,-999.000
   31WTTUNES_2,  P16S,   219,  1,     24,     24,2,19910825,0215,-18.0183,-150.5017, 3363,   1712.5,   2.3823,  34.6090,2,  34.6080,2,    150.0,2,    148.7,2,   111.40,2,    35.99,2,     0.00,2,     2.52,2, -999.000,9, -999.000,9, -999.000,9,-999.0000,9,  -999.00,9,   -999.0,9,   -999.0,9,   -999.0,9,   -999.0,9,   -999.0,9, -999.00,  -999.0,-999.0000,-999.000,  2.2644,-999.000
   31WTTUNES_2,  P16S,   219,  1,     25,     25,2,19910825,0215,-18.0183,-150.5017, 3363,   1915.4,   2.2076,  34.6257,2,  34.6249,2,    149.7,2,    149.9,2,   116.39,2,    35.89,2,     0.00,2,     2.51,2, -999.000,9, -999.000,9, -999.000,9,-999.0000,9,  -999.00,9,   -999.0,9,   -999.0,9,   -999.0,9,   -999.0,9,   -999.0,9, -999.00,  -999.0,-999.0000,-999.000,  2.0752,-999.000
   31WTTUNES_2,  P16S,   219,  1,     26,     26,2,19910825,0215,-18.0183,-150.5017, 3363,   2118.8,   2.0701,  34.6372,2,  34.6363,2,    154.2,2,    152.4,2,   119.21,2,    35.79,2,     0.00,2,     2.50,2, -999.000,9, -999.000,9, -999.000,9,-999.0000,9,  -999.00,9,   -999.0,9,   -999.0,9,   -999.0,9,   -999.0,9,   -999.0,9, -999.00,  -999.0,-999.0000,-999.000,  1.9225,-999.000
   31WTTUNES_2,  P16S,   219,  1,     27,     27,2,19910825,0215,-18.0183,-150.5017, 3363,   2320.0,   1.8836,  34.6524,2,  34.6516,2,    157.9,2,    156.7,2,   122.70,2,    35.49,2,     0.00,2,     2.48,2, -999.000,9, -999.000,9, -999.000,9,-999.0000,9,  -999.00,9,   -999.0,9,   -999.0,9,   -999.0,9,   -999.0,9,   -999.0,9, -999.00,  -999.0,-999.0000,-999.000,  1.7216,-999.000
   31WTTUNES_2,  P16S,   219,  1,     28,     28,2,19910825,0215,-18.0183,-150.5017, 3363,   2320.1,   1.8840,  34.6523,2,  34.6520,2,    157.5,2,    156.7,2,   122.70,2,    35.50,2,     0.00,2,     2.48,2, -999.000,9, -999.000,9, -999.000,9,-999.0000,9,  -999.00,9,   -999.0,9,   -999.0,9,   -999.0,9,   -999.0,9,   -999.0,9, -999.00,  -999.0,-999.0000,-999.000,  1.7219,-999.000
   31WTTUNES_2,  P16S,   219,  1,     29,     29,2,19910825,0215,-18.0183,-150.5017, 3363,   2507.0,   1.8229,  34.6584,2,  34.6577,2,    157.9,2,    158.7,2,   123.13,2,    35.30,2,     0.00,2,     2.47,2, -999.000,9, -999.000,9, -999.000,9,-999.0000,9,  -999.00,9,   -999.0,9,   -999.0,9,   -999.0,9,   -999.0,9,   -999.0,9, -999.00,  -999.0,-999.0000,-999.000,  1.6452,-999.000
   31WTTUNES_2,  P16S,   219,  1,     30,     30,2,19910825,0215,-18.0183,-150.5017, 3363,   2710.0,   1.7668,  34.6633,2,  34.6625,2,    162.3,2,    161.2,2,   124.22,2,    35.10,2,     0.00,2,     2.45,2, -999.000,9, -999.000,9, -999.000,9,-999.0000,9,  -999.00,9,   -999.0,9,   -999.0,9,   -999.0,9,   -999.0,9,   -999.0,9, -999.00,  -999.0,-999.0000,-999.000,  1.5717,-999.000
   31WTTUNES_2,  P16S,   219,  1,     31,     31,2,19910825,0215,-18.0183,-150.5017, 3363,   2916.1,   1.6975,  34.6696,2,  34.6698,2,    165.8,2,    164.6,2,   125.09,2,    34.96,2,     0.00,2,     2.43,2, -999.000,9, -999.000,9, -999.000,9,-999.0000,9,  -999.00,9,   -999.0,9,   -999.0,9,   -999.0,9,   -999.0,9,   -999.0,9, -999.00,  -999.0,-999.0000,-999.000,  1.4844,-999.000
   31WTTUNES_2,  P16S,   219,  1,     32,     32,2,19910825,0215,-18.0183,-150.5017, 3363,   3129.6,   1.6068,  34.6766,2,  34.6759,2,    168.3,2,    168.8,2,   127.49,2,    34.81,2,     0.00,2,     2.43,2, -999.000,9, -999.000,9, -999.000,9,-999.0000,9,  -999.00,9,   -999.0,9,   -999.0,9,   -999.0,9,   -999.0,9,   -999.0,9, -999.00,  -999.0,-999.0000,-999.000,  1.3751,-999.000
   31WTTUNES_2,  P16S,   219,  1,     33,     33,2,19910825,0215,-18.0183,-150.5017, 3363,   3129.8,   1.6069,  34.6765,2,  34.6763,2,    168.3,2,    169.0,2,   127.71,2,    34.87,2,     0.00,2,     2.42,2, -999.000,9, -999.000,9, -999.000,9,-999.0000,9,  -999.00,9,   -999.0,9,   -999.0,9,   -999.0,9,   -999.0,9,   -999.0,9, -999.00,  -999.0,-999.0000,-999.000,  1.3752,-999.000
   31WTTUNES_2,  P16S,   219,  1,     39,     39,2,19910825,0215,-18.0183,-150.5017, 3363,   3280.4,   1.5783,  34.6787,2,  34.6782,2,    169.2,2,    170.8,2,   126.60,2,    34.72,2,     0.00,2,     2.41,2, -999.000,9, -999.000,9, -999.000,9,-999.0000,9,  -999.00,9,   -999.0,9,   -999.0,9,   -999.0,9,   -999.0,9,   -999.0,9, -999.00,  -999.0,-999.0000,-999.000,  1.3324,-999.000
   31WTTUNES_2,  P16S,   219,  1,     34,     34,2,19910825,0215,-18.0183,-150.5017, 3363,   3280.7,   1.5769,  34.6797,2,  34.6786,2,    169.2,2,    170.8,2,   127.27,2,    34.72,2,     0.00,2,     2.41,2, -999.000,9, -999.000,9, -999.000,9,-999.0000,9,  -999.00,9,   -999.0,9,   -999.0,9,   -999.0,9,   -999.0,9,   -999.0,9, -999.00,  -999.0,-999.0000,-999.000,  1.3310,-999.000
   31WTTUNES_2,  P16S,   219,  1,     38,     38,2,19910825,0215,-18.0183,-150.5017, 3363,   3434.4,   1.5396,  34.6829,2,  34.6820,2,    173.0,2,    173.3,2,   126.16,2,    34.43,2,     0.00,2,     2.39,2, -999.000,9, -999.000,9, -999.000,9,-999.0000,9,  -999.00,9,   -999.0,9,   -999.0,9,   -999.0,9,   -999.0,9,   -999.0,9, -999.00,  -999.0,-999.0000,-999.000,  1.2791,-999.000