BOTTLE,20131125MIRCJHATS
EXPOCODE,SECT_ID,STNNBR,CASTNO,SAMPNO,BTLNBR,BTLNBR_FLAG_W,DATE,TIME,LATITUDE,LONGITUDE,DEPTH,CTDPRS,CTDTMP,CTDSAL,CTDSAL_FLAG_W,SALNTY,SALNTY_FLAG_W,CTDOXY,CTDOXY_FLAG_W,OXYGEN,OXYGEN_FLAG_W,SILCAT,SILCAT_FLAG_W,NITRAT,NITRAT_FLAG_W,NITRIT,NITRIT_FLAG_W,PHSPHT,PHSPHT_FLAG_W,CFC-11,CFC-11_FLAG_W,CFC-12,CFC-12_FLAG_W,TRITUM,TRITUM_FLAG_W,HELIUM,HELIUM_FLAG_W,DELHE3,DELHE3_FLAG_W,DELC14,DELC14_FLAG_W,DELC13,DELC13_FLAG_W,TCARBN,TCARBN_FLAG_W,PCO2,PCO2_FLAG_W,ALKALI,ALKALI_FLAG_W,PCO2TMP,C14ERR,HELIER,DELHER,THETA,TRITER
,,,,,,,,,,,,DBAR,ITS-90,PSS-78,,PSS-78,,UMOL/KG,,UMOL/KG,,UMOL/KG,,UMOL/KG,,UMOL/KG,,UMOL/KG,,PMOL/KG,,PMOL/KG,,TU,,NMOL/KG,,PERCNT,,/MILLE,,/MILLE,,UMOL/KG,,UATM,,UMOL/KG,,DEG C,/MILLE,NMOL/KG,PERCNT,DEG C,TU
   31WTTUNES_2,  P16S,   183,  1,     61,     61,2,19910813,1534,-36.0033,-150.4967, 5287,      2.5,  14.1166,  34.9007,2,  34.9006,2,   -999.0,9,    253.1,2,     1.56,2,     0.49,2,     0.04,2,     0.21,2, -999.000,9, -999.000,9, -999.000,9,-999.0000,9,  -999.00,9,   -999.0,9,   -999.0,9,   2045.0,2,    396.8,2,   -999.0,9,   20.00,  -999.0,-999.0000,-999.000, 14.1163,-999.000
   31WTTUNES_2,  P16S,   183,  1,      2,      2,2,19910813,1534,-36.0033,-150.4967, 5287,     59.1,  14.1171,  34.8951,2,  34.8961,2,      3.2,4,    253.0,2,     1.56,2,     0.49,2,     0.04,2,     0.21,2,    2.810,2,    1.488,2, -999.000,9,-999.0000,9,  -999.00,9,   -999.0,9,   -999.0,9,   2046.4,2,    392.5,2,   -999.0,9,   20.00,  -999.0,-999.0000,-999.000, 14.1086,-999.000
   31WTTUNES_2,  P16S,   183,  1,      3,      3,2,19910813,1534,-36.0033,-150.4967, 5287,    108.7,  13.9407,  34.8534,2,  34.8558,2,      3.2,4,    253.4,2,     1.37,2,     0.59,2,     0.06,2,     0.23,2, -999.000,9, -999.000,9, -999.000,9,-999.0000,9,  -999.00,9,   -999.0,9,   -999.0,9,   2044.3,2,    395.1,2,   -999.0,9,   20.00,  -999.0,-999.0000,-999.000, 13.9251,-999.000
   31WTTUNES_2,  P16S,   183,  1,     64,     64,2,19910813,1534,-36.0033,-150.4967, 5287,    157.2,  13.2947,  34.9183,2,  34.8975,2,    239.5,2,    229.3,2,     1.56,2,     4.30,2,     0.04,2,     0.47,2,    2.632,2,    1.379,2, -999.000,9,-999.0000,9,  -999.00,9,   -999.0,9,   -999.0,9,   2071.9,2,    451.6,2,   -999.0,9,   20.00,  -999.0,-999.0000,-999.000, 13.2728,-999.000
   31WTTUNES_2,  P16S,   183,  1,      5,      5,2,19910813,1534,-36.0033,-150.4967, 5287,    213.0,  11.4105,  34.7646,2,  34.7726,2,    211.3,2,    213.0,2,     2.93,2,    11.04,2,     0.01,2,     0.86,2,    2.170,2,    1.137,2, -999.000,9,-999.0000,9,  -999.00,9,   -999.0,9,   -999.0,9,   2104.3,2,    563.0,2,   -999.0,9,   20.00,  -999.0,-999.0000,-999.000, 11.3837,-999.000
   31WTTUNES_2,  P16S,   183,  1,      6,      6,2,19910813,1534,-36.0033,-150.4967, 5287,    283.2,   8.9358,  34.5587,2,-999.0000,9,    222.6,2,   -999.0,9,  -999.00,9,  -999.00,9,  -999.00,9,  -999.00,9, -999.000,9, -999.000,9, -999.000,9,-999.0000,9,  -999.00,9,   -999.0,9,   -999.0,9,   -999.0,5,   -999.0,5,   -999.0,9, -999.00,  -999.0,-999.0000,-999.000,  8.9052,-999.000
   31WTTUNES_2,  P16S,   183,  1,      7,      7,2,19910813,1534,-36.0033,-150.4967, 5287,    351.9,   8.0050,  34.4900,2,  34.4895,2,    232.9,2,    234.5,2,     5.28,2,    18.77,2,     0.00,2,     1.33,2,    2.029,2,    1.034,2, -999.000,9,-999.0000,9,  -999.00,9,   -999.0,9,   -999.0,9,   2125.5,2,    677.7,2,   -999.0,9,   20.00,  -999.0,-999.0000,-999.000,  7.9692,-999.000
   31WTTUNES_2,  P16S,   183,  1,     68,     68,2,19910813,1534,-36.0033,-150.4967, 5287,    433.9,   7.4558,  34.4440,2,  34.4449,2,    242.0,2,    240.9,2,     6.65,2,    20.14,2,     0.00,2,     1.41,2, -999.000,9, -999.000,9, -999.000,9,-999.0000,9,  -999.00,9,   -999.0,9,   -999.0,9,   2127.4,2,    698.8,2,   -999.0,9,   20.00,  -999.0,-999.0000,-999.000,  7.4134,-999.000
   31WTTUNES_2,  P16S,   183,  1,     69,     69,2,19910813,1534,-36.0033,-150.4967, 5287,    501.6,   7.1439,  34.4192,2,  34.4202,2,    239.6,2,    242.5,2,     7.43,2,    21.02,2,     0.00,2,     1.46,2,    1.619,2,    0.842,2, -999.000,9,-999.0000,9,  -999.00,9,   -999.0,9,   -999.0,9,   2130.0,2,    705.7,2,   -999.0,9,   20.00,  -999.0,-999.0000,-999.000,  7.0958,-999.000
   31WTTUNES_2,  P16S,   183,  1,     70,     70,2,19910813,1534,-36.0033,-150.4967, 5287,    569.3,   6.8992,  34.3972,2,  34.3976,2,    239.3,2,    241.8,2,     8.41,2,    21.80,2,     0.00,2,     1.52,2, -999.000,9, -999.000,9, -999.000,9,-999.0000,9,  -999.00,9,   -999.0,9,   -999.0,9,   2131.1,2,    716.9,2,   -999.0,9,   20.00,  -999.0,-999.0000,-999.000,  6.8454,-999.000
   31WTTUNES_2,  P16S,   183,  1,     11,     11,2,19910813,1534,-36.0033,-150.4967, 5287,    636.0,   6.6081,  34.3718,2,  34.3735,2,    237.3,2,    240.3,2,     9.58,2,    22.78,2,     0.00,2,     1.58,2,    1.211,2,    0.614,2, -999.000,9,-999.0000,9,  -999.00,9,   -999.0,9,   -999.0,9,   2135.3,2,    724.4,2,   -999.0,9,   20.00,  -999.0,-999.0000,-999.000,  6.5492,-999.000
   31WTTUNES_2,  P16S,   183,  1,     12,     12,2,19910813,1534,-36.0033,-150.4967, 5287,    714.0,   6.2146,  34.3417,2,  34.3462,2,    235.4,2,    236.1,2,    11.63,2,    24.05,2,     0.00,2,     1.67,2,    0.735,2,    0.392,2, -999.000,9,-999.0000,9,  -999.00,9,   -999.0,9,   -999.0,9,   2140.7,2,    754.2,2,   -999.0,9,   20.00,  -999.0,-999.0000,-999.000,  6.1502,-999.000
   31WTTUNES_2,  P16S,   183,  1,     13,     13,2,19910813,1534,-36.0033,-150.4967, 5287,    789.7,   5.8030,  34.3227,2,  34.3254,2,    230.4,2,    228.7,2,    14.96,2,    25.71,2,     0.00,2,     1.78,2,    0.523,2,    0.280,2, -999.000,9,-999.0000,9,  -999.00,9,   -999.0,9,   -999.0,9,   2151.3,2,    796.9,2,   -999.0,9,   20.00,  -999.0,-999.0000,-999.000,  5.7338,-999.000
   31WTTUNES_2,  P16S,   183,  1,     37,     37,2,19910813,1534,-36.0033,-150.4967, 5287,    891.3,   5.3139,  34.3151,2,  34.3174,2,    218.7,2,    217.2,2,    20.63,2,    27.77,2,     0.00,2,     1.93,2,    0.325,2,    0.178,2, -999.000,9,-999.0000,9,  -999.00,9,   -999.0,9,   -999.0,9,   2165.7,2,    855.4,2,   -999.0,9,   20.00,  -999.0,-999.0000,-999.000,  5.2385,-999.000
   31WTTUNES_2,  P16S,   183,  1,     15,     15,2,19910813,1534,-36.0033,-150.4967, 5287,    987.9,   4.6895,  34.3194,2,  34.3211,2,    204.5,2,    205.7,2,    28.84,2,    29.92,2,     0.00,2,     2.09,2,    0.132,2,    0.081,2, -999.000,9,-999.0000,9,  -999.00,9,   -999.0,9,   -999.0,9,   2183.1,2,    931.9,2,   -999.0,9,   20.00,  -999.0,-999.0000,-999.000,  4.6099,-999.000
   31WTTUNES_2,  P16S,   183,  1,     16,     16,2,19910813,1534,-36.0033,-150.4967, 5287,   1084.2,   4.1748,  34.3407,2,  34.3423,2,    199.1,2,    196.6,2,    37.25,2,    31.38,2,     0.00,2,     2.19,2,    0.101,2,    0.062,2, -999.000,9,-999.0000,9,  -999.00,9,   -999.0,9,   -999.0,9,   2198.3,2,    968.7,2,   -999.0,9,   20.00,  -999.0,-999.0000,-999.000,  4.0909,-999.000
   31WTTUNES_2,  P16S,   183,  1,     17,     17,2,19910813,1534,-36.0033,-150.4967, 5287,   1178.9,   3.7248,  34.3673,2,  34.3680,2,    188.8,2,    190.2,2,    45.66,2,    32.46,2,     0.00,2,     2.28,2,    0.068,2,    0.045,2, -999.000,9,-999.0000,9,  -999.00,9,   -999.0,9,   -999.0,9,   2212.2,2,   1052.6,2,   -999.0,9,   20.00,  -999.0,-999.0000,-999.000,  3.6368,-999.000
   31WTTUNES_2,  P16S,   183,  1,     18,     18,2,19910813,1534,-36.0033,-150.4967, 5287,   1331.0,   3.1801,  34.4336,2,  34.4361,2,    179.4,2,    177.6,2,    60.81,2,    33.82,2,     0.00,2,     2.38,2,    0.010,2,    0.013,2, -999.000,9,-999.0000,9,  -999.00,9,   -999.0,9,   -999.0,9,   2233.6,2,   1116.5,2,   -999.0,9,   20.00,  -999.0,-999.0000,-999.000,  3.0847,-999.000
   31WTTUNES_2,  P16S,   183,  1,     19,     19,2,19910813,1534,-36.0033,-150.4967, 5287,   1474.1,   2.8693,  34.5009,2,  34.5017,2,    170.1,2,    168.9,2,    73.51,2,    34.41,2,     0.00,2,     2.41,2,    0.002,2,    0.007,2, -999.000,9,-999.0000,9,  -999.00,9,   -999.0,9,   -999.0,9,   2253.3,2,   1149.8,2,   -999.0,9,   20.00,  -999.0,-999.0000,-999.000,  2.7653,-999.000
   31WTTUNES_2,  P16S,   183,  1,     20,     20,2,19910813,1534,-36.0033,-150.4967, 5287,   1614.5,   2.6825,  34.5541,2,  34.5555,2,    163.2,2,    161.5,2,    86.31,2,    34.60,2,     0.00,2,     2.43,2,   -0.001,2,    0.000,2, -999.000,9,-999.0000,9,  -999.00,9,   -999.0,9,   -999.0,9,   2265.8,2,   1157.4,2,   -999.0,9,   20.00,  -999.0,-999.0000,-999.000,  2.5690,-999.000
   31WTTUNES_2,  P16S,   183,  1,     21,     21,2,19910813,1534,-36.0033,-150.4967, 5287,   1762.6,   2.4984,  34.5900,2,  34.5908,2,    158.7,2,    156.7,2,    97.26,2,    34.90,2,     0.00,2,     2.46,2, -999.000,9, -999.000,9, -999.000,9,-999.0000,9,  -999.00,9,   -999.0,9,   -999.0,9,   2281.2,2,   1168.5,2,   -999.0,9,   20.00,  -999.0,-999.0000,-999.000,  2.3748,-999.000
   31WTTUNES_2,  P16S,   183,  1,     22,     22,2,19910813,1534,-36.0033,-150.4967, 5287,   1967.4,   2.2996,  34.6223,2,  34.6225,2,    153.5,2,    152.3,2,   110.26,2,    35.19,2,     0.00,2,     2.50,2, -999.000,9, -999.000,9, -999.000,9,-999.0000,9,  -999.00,9,   -999.0,9,   -999.0,9,   2292.6,2,   1181.2,2,   -999.0,9,   20.00,  -999.0,-999.0000,-999.000,  2.1614,-999.000
   31WTTUNES_2,  P16S,   183,  1,     23,     23,2,19910813,1534,-36.0033,-150.4967, 5287,   2175.7,   2.1501,  34.6370,2,  34.6380,2,    151.1,2,    150.9,2,   117.10,2,    35.38,2,     0.00,2,     2.50,2, -999.000,9, -999.000,9, -999.000,9,-999.0000,9,  -999.00,9,   -999.0,9,   -999.0,9,   2300.1,2,   1183.3,2,   -999.0,9,   20.00,  -999.0,-999.0000,-999.000,  1.9962,-999.000
   31WTTUNES_2,  P16S,   183,  1,     24,     24,2,19910813,1534,-36.0033,-150.4967, 5287,   2383.2,   2.0145,  34.6483,2,  34.6498,2,    150.2,2,    150.5,2,   123.26,2,    35.58,2,     0.00,2,     2.51,2, -999.000,9, -999.000,9, -999.000,9,-999.0000,9,  -999.00,9,   -999.0,9,   -999.0,9,   2309.2,2,   1183.7,2,   -999.0,9,   20.00,  -999.0,-999.0000,-999.000,  1.8445,-999.000
   31WTTUNES_2,  P16S,   183,  1,     25,     25,2,19910813,1534,-36.0033,-150.4967, 5287,   2598.8,   1.9076,  34.6584,2,  34.6578,2,    151.0,2,    150.4,2,   128.53,2,    35.58,2,     0.00,2,     2.51,2, -999.000,9, -999.000,9, -999.000,9,-999.0000,9,  -999.00,9,   -999.0,9,   -999.0,9,   2308.7,2,   1188.5,2,   -999.0,9,   20.00,  -999.0,-999.0000,-999.000,  1.7200,-999.000
   31WTTUNES_2,  P16S,   183,  1,     26,     26,2,19910813,1534,-36.0033,-150.4967, 5287,   2808.7,   1.8307,  34.6648,2,  34.6651,2,    151.5,2,    151.8,2,   129.51,2,    35.48,2,     0.00,2,     2.51,2, -999.000,9, -999.000,9, -999.000,9,-999.0000,9,  -999.00,9,   -999.0,9,   -999.0,9,   2310.1,2,   1188.9,2,   -999.0,9,   20.00,  -999.0,-999.0000,-999.000,  1.6250,-999.000
   31WTTUNES_2,  P16S,   183,  1,     27,     27,2,19910813,1534,-36.0033,-150.4967, 5287,   3022.9,   1.7540,  34.6734,2,  34.6728,2,    154.8,2,    156.0,2,   130.58,2,    35.19,2,     0.00,2,     2.48,2, -999.000,9, -999.000,9, -999.000,9,-999.0000,9,  -999.00,9,   -999.0,9,   -999.0,9,   2308.6,2,   1168.3,2,   -999.0,9,   20.00,  -999.0,-999.0000,-999.000,  1.5294,-999.000
   31WTTUNES_2,  P16S,   183,  1,     28,     28,2,19910813,1534,-36.0033,-150.4967, 5287,   3283.0,   1.6713,  34.6824,2,  34.6810,2,    161.1,2,    162.6,2,   129.51,2,    34.70,2,     0.00,2,     2.45,2, -999.000,9, -999.000,9, -999.000,9,-999.0000,9,  -999.00,9,   -999.0,9,   -999.0,9,   2300.0,2,   1148.0,2,   -999.0,9,   20.00,  -999.0,-999.0000,-999.000,  1.4229,-999.000
   31WTTUNES_2,  P16S,   183,  1,     29,     29,2,19910813,1534,-36.0033,-150.4967, 5287,   3544.3,   1.5741,  34.6955,2,  34.6958,2,    171.6,2,    174.7,2,   124.23,2,    33.72,2,     0.00,2,     2.37,2, -999.000,9, -999.000,9, -999.000,9,-999.0000,9,  -999.00,9,   -999.0,9,   -999.0,9,   2291.2,2,   1115.8,2,   -999.0,9,   20.00,  -999.0,-999.0000,-999.000,  1.3015,-999.000
   31WTTUNES_2,  P16S,   183,  1,     30,     30,2,19910813,1534,-36.0033,-150.4967, 5287,   3809.6,   1.4779,  34.7051,2,  34.7050,2,    181.4,2,    185.3,2,   120.42,2,    32.84,2,     0.00,2,     2.31,2, -999.000,9, -999.000,9, -999.000,9,-999.0000,9,  -999.00,9,   -999.0,9,   -999.0,9,   2277.3,2,   1092.0,2,   -999.0,9,   20.00,  -999.0,-999.0000,-999.000,  1.1800,-999.000
   31WTTUNES_2,  P16S,   183,  1,     31,     31,2,19910813,1534,-36.0033,-150.4967, 5287,   4074.5,   1.3523,  34.7119,2,  34.7113,2,    192.1,2,    195.0,2,   117.48,2,    32.16,2,     0.00,2,     2.26,2, -999.000,9, -999.000,9, -999.000,9,-999.0000,9,  -999.00,9,   -999.0,9,   -999.0,9,   2269.2,2,   1068.5,2,   -999.0,9,   20.00,  -999.0,-999.0000,-999.000,  1.0293,-999.000
   31WTTUNES_2,  P16S,   183,  1,     32,     32,2,19910813,1534,-36.0033,-150.4967, 5287,   4347.3,   1.2297,  34.7121,2,  34.7111,2,    198.7,2,    199.9,2,   118.56,2,    32.06,2,     0.00,2,     2.24,2, -999.000,9, -999.000,9, -999.000,9,-999.0000,9,  -999.00,9,   -999.0,9,   -999.0,9,   2264.7,2,   1050.1,2,   -999.0,9,   20.00,  -999.0,-999.0000,-999.000,  0.8802,-999.000
   31WTTUNES_2,  P16S,   183,  1,     33,     33,2,19910813,1534,-36.0033,-150.4967, 5287,   4625.3,   1.1480,  34.7111,2,  34.7093,2,    203.4,2,    203.2,2,   120.81,2,    31.96,2,     0.00,2,     2.23,2, -999.000,9, -999.000,9, -999.000,9,-999.0000,9,  -999.00,9,   -999.0,9,   -999.0,9,   2265.2,2,   -999.0,5,   -999.0,9, -999.00,  -999.0,-999.0000,-999.000,  0.7695,-999.000
   31WTTUNES_2,  P16S,   183,  1,     34,     34,2,19910813,1534,-36.0033,-150.4967, 5287,   4896.6,   1.1126,  34.7093,2,  34.7087,2,    205.1,2,    204.6,2,   122.66,2,    32.06,2,     0.00,2,     2.23,2,   -0.001,2,    0.000,2, -999.000,9,-999.0000,9,  -999.00,9,   -999.0,9,   -999.0,9,   2266.1,2,   1055.7,2,   -999.0,9,   20.00,  -999.0,-999.0000,-999.000,  0.7036,-999.000
   31WTTUNES_2,  P16S,   183,  1,     35,     35,2,19910813,1534,-36.0033,-150.4967, 5287,   5164.3,   1.1127,  34.7083,2,  34.7085,2,    206.1,2,    205.7,2,   123.45,2,    32.16,2,     0.00,2,     2.23,2,    0.000,7,    0.004,7, -999.000,9,-999.0000,9,  -999.00,9,   -999.0,9,   -999.0,9,   2264.7,2,   1033.5,2,   -999.0,9,   20.00,  -999.0,-999.0000,-999.000,  0.6716,-999.000
   31WTTUNES_2,  P16S,   183,  1,     38,     38,2,19910813,1534,-36.0033,-150.4967, 5287,   5403.7,   1.1291,  34.7084,2,  34.7081,2,    206.1,2,    205.8,2,   123.93,2,    32.16,2,     0.00,2,     2.24,2,    0.002,2,    0.004,7, -999.000,9,-999.0000,9,  -999.00,9,   -999.0,9,   -999.0,9,   2266.8,2,   1012.6,2,   -999.0,9,   20.00,  -999.0,-999.0000,-999.000,  0.6580,-999.000