BOTTLE,20131125MIRCJHATS
EXPOCODE,SECT_ID,STNNBR,CASTNO,SAMPNO,BTLNBR,BTLNBR_FLAG_W,DATE,TIME,LATITUDE,LONGITUDE,DEPTH,CTDPRS,CTDTMP,CTDSAL,CTDSAL_FLAG_W,SALNTY,SALNTY_FLAG_W,CTDOXY,CTDOXY_FLAG_W,OXYGEN,OXYGEN_FLAG_W,SILCAT,SILCAT_FLAG_W,NITRAT,NITRAT_FLAG_W,NITRIT,NITRIT_FLAG_W,PHSPHT,PHSPHT_FLAG_W,CFC-11,CFC-11_FLAG_W,CFC-12,CFC-12_FLAG_W,TRITUM,TRITUM_FLAG_W,HELIUM,HELIUM_FLAG_W,DELHE3,DELHE3_FLAG_W,DELC14,DELC14_FLAG_W,DELC13,DELC13_FLAG_W,TCARBN,TCARBN_FLAG_W,PCO2,PCO2_FLAG_W,ALKALI,ALKALI_FLAG_W,PCO2TMP,C14ERR,HELIER,DELHER,THETA,TRITER
,,,,,,,,,,,,DBAR,ITS-90,PSS-78,,PSS-78,,UMOL/KG,,UMOL/KG,,UMOL/KG,,UMOL/KG,,UMOL/KG,,UMOL/KG,,PMOL/KG,,PMOL/KG,,TU,,NMOL/KG,,PERCNT,,/MILLE,,/MILLE,,UMOL/KG,,UATM,,UMOL/KG,,DEG C,/MILLE,NMOL/KG,PERCNT,DEG C,TU
   31WTTUNES_2,  P16S,   192,  1,     61,     61,2,19910816,2325,-31.5050,-150.5167, 4935,      2.8,  16.9938,  35.3975,2,  35.3995,2,   -999.0,9,    237.9,2,     1.56,2,     0.20,2,     0.01,2,     0.14,2,    2.509,2,    1.309,2, -999.000,9,-999.0000,9,  -999.00,9,   -999.0,9,   -999.0,9,   2033.3,2,    344.2,2,   -999.0,9,   20.00,  -999.0,-999.0000,-999.000, 16.9934,-999.000
   31WTTUNES_2,  P16S,   192,  1,      2,      2,2,19910816,2325,-31.5050,-150.5167, 4935,     45.1,  16.9238,  35.3949,2,  35.3942,2,   -999.0,9,    237.8,2,     1.56,2,     0.20,2,     0.01,2,     0.13,2,    2.493,2,    1.296,2, -999.000,9,-999.0000,9,  -999.00,9,   -999.0,9,   -999.0,9,   -999.0,9,   -999.0,9,   -999.0,9, -999.00,  -999.0,-999.0000,-999.000, 16.9164,-999.000
   31WTTUNES_2,  P16S,   192,  1,      3,      3,2,19910816,2325,-31.5050,-150.5167, 4935,     85.0,  16.9278,  35.3952,2,  35.3944,2,   -999.0,9,    237.5,2,     1.47,2,     0.20,2,     0.01,2,     0.13,2,    2.507,2,    1.307,2, -999.000,9,-999.0000,9,  -999.00,9,   -999.0,9,   -999.0,9,   -999.0,9,   -999.0,9,   -999.0,9, -999.00,  -999.0,-999.0000,-999.000, 16.9139,-999.000
   31WTTUNES_2,  P16S,   192,  1,     64,     64,2,19910816,2325,-31.5050,-150.5167, 4935,    125.2,  16.9288,  35.3943,2,  35.3948,2,   -999.0,9,    237.4,2,     1.27,2,     0.20,2,     0.01,2,     0.13,2,    2.507,2,    1.297,2, -999.000,9,-999.0000,9,  -999.00,9,   -999.0,9,   -999.0,9,   -999.0,9,   -999.0,9,   -999.0,9, -999.00,  -999.0,-999.0000,-999.000, 16.9082,-999.000
   31WTTUNES_2,  P16S,   192,  1,      5,      5,2,19910816,2325,-31.5050,-150.5167, 4935,    156.5,  16.4319,  35.3298,2,  35.3291,2,   -999.0,9,    225.4,2,     1.47,2,     1.37,2,     0.06,2,     0.23,2,    2.414,2,    1.254,2, -999.000,9,-999.0000,9,  -999.00,9,   -999.0,9,   -999.0,9,   -999.0,9,   -999.0,9,   -999.0,9, -999.00,  -999.0,-999.0000,-999.000, 16.4066,-999.000
   31WTTUNES_2,  P16S,   192,  1,      6,      6,3,19910816,2325,-31.5050,-150.5167, 4935,    185.7,  15.4560,  35.2566,2,  35.3477,4,   -999.0,9,    229.4,4,     1.37,4,     1.17,4,     0.02,4,     0.21,4,    2.417,2,    1.239,2, -999.000,9,-999.0000,9,  -999.00,9,   -999.0,9,   -999.0,9,   -999.0,9,   -999.0,9,   -999.0,9, -999.00,  -999.0,-999.0000,-999.000, 15.4273,-999.000
   31WTTUNES_2,  P16S,   192,  1,      7,      7,2,19910816,2325,-31.5050,-150.5167, 4935,    220.0,  14.5192,  35.2072,2,  35.2036,2,   -999.0,9,    202.8,2,     2.34,2,     6.25,2,     0.01,2,     0.56,2,    2.010,2,    1.044,2, -999.000,9,-999.0000,9,  -999.00,9,   -999.0,9,   -999.0,9,   -999.0,9,   -999.0,9,   -999.0,9, -999.00,  -999.0,-999.0000,-999.000, 14.4865,-999.000
   31WTTUNES_2,  P16S,   192,  1,     68,     68,2,19910816,2325,-31.5050,-150.5167, 4935,    258.0,  13.5344,  35.1105,2,  35.1117,2,   -999.0,9,    197.5,2,     2.74,2,     8.79,2,     0.00,2,     0.71,2,    1.835,2,    0.952,2, -999.000,9,-999.0000,9,  -999.00,9,   -999.0,9,   -999.0,9,   -999.0,9,   -999.0,9,   -999.0,9, -999.00,  -999.0,-999.0000,-999.000, 13.4978,-999.000
   31WTTUNES_2,  P16S,   192,  1,     69,     69,2,19910816,2325,-31.5050,-150.5167, 4935,    301.5,  12.0848,  34.9351,2,  34.9329,2,   -999.0,9,    198.2,2,     3.52,2,    11.82,2,     0.00,2,     0.89,2,    1.638,2,    0.846,2, -999.000,9,-999.0000,9,  -999.00,9,   -999.0,9,   -999.0,9,   -999.0,9,   -999.0,9,   -999.0,9, -999.00,  -999.0,-999.0000,-999.000, 12.0451,-999.000
   31WTTUNES_2,  P16S,   192,  1,     70,     70,2,19910816,2325,-31.5050,-150.5167, 4935,    356.7,  10.5153,  34.7554,2,  34.7548,2,   -999.0,9,    200.8,2,     4.89,2,    15.34,2,     0.00,2,     1.10,2,    1.295,2,    0.664,2, -999.000,9,-999.0000,9,  -999.00,9,   -999.0,9,   -999.0,9,   -999.0,9,   -999.0,9,   -999.0,9, -999.00,  -999.0,-999.0000,-999.000, 10.4724,-999.000
   31WTTUNES_2,  P16S,   192,  1,     11,     11,2,19910816,2325,-31.5050,-150.5167, 4935,    411.6,   9.3327,  34.6157,2,  34.6147,2,   -999.0,9,    212.7,2,     4.89,2,    17.01,2,     0.00,2,     1.21,2,    1.526,2,    0.771,2, -999.000,9,-999.0000,9,  -999.00,9,   -999.0,9,   -999.0,9,   -999.0,9,   -999.0,9,   -999.0,9, -999.00,  -999.0,-999.0000,-999.000,  9.2867,-999.000
   31WTTUNES_2,  P16S,   192,  1,     12,     12,2,19910816,2325,-31.5050,-150.5167, 4935,    462.2,   8.1072,  34.5037,2,  34.5017,2,   -999.0,9,    227.1,2,     5.67,2,    19.36,2,     0.00,2,     1.36,2,    1.581,2,    0.795,2, -999.000,9,-999.0000,9,  -999.00,9,   -999.0,9,   -999.0,9,   -999.0,9,   -999.0,9,   -999.0,9, -999.00,  -999.0,-999.0000,-999.000,  8.0596,-999.000
   31WTTUNES_2,  P16S,   192,  1,     13,     13,2,19910816,2325,-31.5050,-150.5167, 4935,    513.4,   7.5255,  34.4519,2,  34.4487,2,   -999.0,9,    236.6,2,     6.65,2,    20.43,2,     0.00,2,     1.42,2,    1.514,2,    0.762,2, -999.000,9,-999.0000,9,  -999.00,9,   -999.0,9,   -999.0,9,   -999.0,9,   -999.0,9,   -999.0,9, -999.00,  -999.0,-999.0000,-999.000,  7.4747,-999.000
   31WTTUNES_2,  P16S,   192,  1,     37,     37,2,19910816,2325,-31.5050,-150.5167, 4935,    614.4,   6.9968,  34.4065,2,  34.4075,2,   -999.0,9,    240.7,2,     7.82,2,    21.61,2,     0.00,2,     1.49,2,    1.221,2,    0.621,2, -999.000,9,-999.0000,9,  -999.00,9,   -999.0,9,   -999.0,9,   -999.0,9,   -999.0,9,   -999.0,9, -999.00,  -999.0,-999.0000,-999.000,  6.9380,-999.000
   31WTTUNES_2,  P16S,   192,  1,     15,     15,2,19910816,2325,-31.5050,-150.5167, 4935,    716.7,   6.4740,  34.3579,2,  34.3616,2,   -999.0,9,    240.5,2,     9.39,2,    23.07,2,     0.00,2,     1.59,2,    0.791,2,    0.415,2, -999.000,9,-999.0000,9,  -999.00,9,   -999.0,9,   -999.0,9,   -999.0,9,   -999.0,9,   -999.0,9, -999.00,  -999.0,-999.0000,-999.000,  6.4079,-999.000
   31WTTUNES_2,  P16S,   192,  1,     16,     16,2,19910816,2325,-31.5050,-150.5167, 4935,    816.2,   5.9893,  34.3266,2,  34.3263,2,   -999.0,9,    236.1,2,    12.32,2,    24.74,2,     0.00,2,     1.70,2,    0.507,2,    0.271,2, -999.000,9,-999.0000,9,  -999.00,9,   -999.0,9,   -999.0,9,   -999.0,9,   -999.0,9,   -999.0,9, -999.00,  -999.0,-999.0000,-999.000,  5.9164,-999.000
   31WTTUNES_2,  P16S,   192,  1,     17,     17,2,19910816,2325,-31.5050,-150.5167, 4935,    919.0,   5.3796,  34.3081,2,  34.3086,2,   -999.0,9,    222.6,2,    18.58,2,    27.18,2,     0.00,2,     1.88,2,    0.268,2,    0.152,2, -999.000,9,-999.0000,9,  -999.00,9,   -999.0,9,   -999.0,9,   -999.0,9,   -999.0,9,   -999.0,9, -999.00,  -999.0,-999.0000,-999.000,  5.3012,-999.000
   31WTTUNES_2,  P16S,   192,  1,     18,     18,2,19910816,2325,-31.5050,-150.5167, 4935,   1020.2,   4.7629,  34.3165,2,  34.3171,2,   -999.0,9,    207.7,2,    27.28,2,    29.53,2,     0.00,2,     2.04,2,    0.128,2,    0.079,2, -999.000,9,-999.0000,9,  -999.00,9,   -999.0,9,   -999.0,9,   -999.0,9,   -999.0,9,   -999.0,9, -999.00,  -999.0,-999.0000,-999.000,  4.6799,-999.000
   31WTTUNES_2,  P16S,   192,  1,     19,     19,2,19910816,2325,-31.5050,-150.5167, 4935,   1119.4,   4.1643,  34.3432,2,  34.3438,2,   -999.0,9,    194.5,2,    37.74,2,    31.68,2,     0.00,2,     2.19,2,    0.052,2,    0.036,2, -999.000,9,-999.0000,9,  -999.00,9,   -999.0,9,   -999.0,9,   -999.0,9,   -999.0,9,   -999.0,9, -999.00,  -999.0,-999.0000,-999.000,  4.0775,-999.000
   31WTTUNES_2,  P16S,   192,  1,     20,     20,2,19910816,2325,-31.5050,-150.5167, 4935,   1271.5,   3.3768,  34.4121,2,  34.4105,2,   -999.0,9,    180.7,2,    55.43,2,    33.43,2,     0.00,2,     2.33,2,    0.016,2,    0.015,2, -999.000,9,-999.0000,9,  -999.00,9,   -999.0,9,   -999.0,9,   -999.0,9,   -999.0,9,   -999.0,9, -999.00,  -999.0,-999.0000,-999.000,  3.2842,-999.000
   31WTTUNES_2,  P16S,   192,  1,     21,     21,2,19910816,2325,-31.5050,-150.5167, 4935,   1423.3,   2.9300,  34.4909,2,  34.4904,2,   -999.0,9,    168.9,2,    72.05,2,    34.31,2,     0.00,2,     2.40,2,    0.003,2,    0.000,2, -999.000,9,-999.0000,9,  -999.00,9,   -999.0,9,   -999.0,9,   -999.0,9,   -999.0,9,   -999.0,9, -999.00,  -999.0,-999.0000,-999.000,  2.8295,-999.000
   31WTTUNES_2,  P16S,   192,  1,     22,     22,2,19910816,2325,-31.5050,-150.5167, 4935,   1633.9,   2.5503,  34.5689,2,  34.5668,2,   -999.0,9,    160.2,2,    91.40,2,    34.80,2,     0.00,2,     2.43,2, -999.000,9, -999.000,9, -999.000,9,-999.0000,9,  -999.00,9,   -999.0,9,   -999.0,9,   -999.0,9,   -999.0,9,   -999.0,9, -999.00,  -999.0,-999.0000,-999.000,  2.4368,-999.000
   31WTTUNES_2,  P16S,   192,  1,     23,     23,2,19910816,2325,-31.5050,-150.5167, 4935,   1846.1,   2.3015,  34.6116,2,  34.6110,2,   -999.0,9,    154.9,2,   106.35,2,    35.19,2,     0.00,2,     2.46,2, -999.000,9, -999.000,9, -999.000,9,-999.0000,9,  -999.00,9,   -999.0,9,   -999.0,9,   -999.0,9,   -999.0,9,   -999.0,9, -999.00,  -999.0,-999.0000,-999.000,  2.1736,-999.000
   31WTTUNES_2,  P16S,   192,  1,     24,     24,2,19910816,2325,-31.5050,-150.5167, 4935,   2054.5,   2.1456,  34.6340,2,  34.6336,2,   -999.0,9,    151.9,2,   115.05,2,    35.29,2,     0.00,2,     2.47,2, -999.000,9, -999.000,9, -999.000,9,-999.0000,9,  -999.00,9,   -999.0,9,   -999.0,9,   -999.0,9,   -999.0,9,   -999.0,9, -999.00,  -999.0,-999.0000,-999.000,  2.0023,-999.000
   31WTTUNES_2,  P16S,   192,  1,     25,     25,2,19910816,2325,-31.5050,-150.5167, 4935,   2253.4,   2.0126,  34.6456,2,  34.6458,2,   -999.0,9,    150.0,2,   122.38,2,    35.38,2,     0.00,2,     2.49,2, -999.000,9, -999.000,9, -999.000,9,-999.0000,9,  -999.00,9,   -999.0,9,   -999.0,9,   -999.0,9,   -999.0,9,   -999.0,9, -999.00,  -999.0,-999.0000,-999.000,  1.8542,-999.000
   31WTTUNES_2,  P16S,   192,  1,     26,     26,2,19910816,2325,-31.5050,-150.5167, 4935,   2455.6,   1.9157,  34.6545,2,  34.6542,2,   -999.0,9,    149.8,2,   127.16,2,    35.68,2,     0.00,2,     2.51,2, -999.000,9, -999.000,9, -999.000,9,-999.0000,9,  -999.00,9,   -999.0,9,   -999.0,9,   -999.0,9,   -999.0,9,   -999.0,9, -999.00,  -999.0,-999.0000,-999.000,  1.7410,-999.000
   31WTTUNES_2,  P16S,   192,  1,     27,     27,2,19910816,2325,-31.5050,-150.5167, 4935,   2716.5,   1.7928,  34.6636,2,  34.6637,2,   -999.0,9,    153.0,2,   130.49,2,    35.38,2,     0.00,2,     2.48,2, -999.000,9, -999.000,9, -999.000,9,-999.0000,9,  -999.00,9,   -999.0,9,   -999.0,9,   -999.0,9,   -999.0,9,   -999.0,9, -999.00,  -999.0,-999.0000,-999.000,  1.5965,-999.000
   31WTTUNES_2,  P16S,   192,  1,     28,     28,2,19910816,2325,-31.5050,-150.5167, 4935,   2980.0,   1.6959,  34.6744,2,  34.6731,2,   -999.0,9,    157.5,2,   130.88,2,    35.19,2,     0.00,2,     2.46,2, -999.000,9, -999.000,9, -999.000,9,-999.0000,9,  -999.00,9,   -999.0,9,   -999.0,9,   -999.0,9,   -999.0,9,   -999.0,9, -999.00,  -999.0,-999.0000,-999.000,  1.4767,-999.000
   31WTTUNES_2,  P16S,   192,  1,     29,     29,2,19910816,2325,-31.5050,-150.5167, 4935,   3238.7,   1.6099,  34.6831,2,  34.6828,2,   -999.0,9,    165.0,2,   129.12,2,    34.50,2,     0.00,2,     2.42,2, -999.000,9, -999.000,9, -999.000,9,-999.0000,9,  -999.00,9,   -999.0,9,   -999.0,9,   -999.0,9,   -999.0,9,   -999.0,9, -999.00,  -999.0,-999.0000,-999.000,  1.3674,-999.000
   31WTTUNES_2,  P16S,   192,  1,     30,     30,2,19910816,2325,-31.5050,-150.5167, 4935,   3499.6,   1.5080,  34.6920,2,  34.6908,2,   -999.0,9,    174.5,2,   126.38,2,    33.92,2,     0.00,2,     2.37,2, -999.000,9, -999.000,9, -999.000,9,-999.0000,9,  -999.00,9,   -999.0,9,   -999.0,9,   -999.0,9,   -999.0,9,   -999.0,9, -999.00,  -999.0,-999.0000,-999.000,  1.2416,-999.000
   31WTTUNES_2,  P16S,   192,  1,     31,     31,2,19910816,2325,-31.5050,-150.5167, 4935,   3760.6,   1.3991,  34.6963,2,  34.6961,2,   -999.0,9,    182.9,2,   124.42,2,    33.33,2,     0.00,2,     2.33,2, -999.000,9, -999.000,9, -999.000,9,-999.0000,9,  -999.00,9,   -999.0,9,   -999.0,9,   -999.0,9,   -999.0,9,   -999.0,9, -999.00,  -999.0,-999.0000,-999.000,  1.1085,-999.000
   31WTTUNES_2,  P16S,   192,  1,     32,     32,2,19910816,2325,-31.5050,-150.5167, 4935,   4023.5,   1.3431,  34.6972,2,  34.6993,2,   -999.0,9,    187.7,2,   122.96,2,    33.13,2,     0.00,2,     2.30,2, -999.000,9, -999.000,9, -999.000,9,-999.0000,9,  -999.00,9,   -999.0,9,   -999.0,9,   -999.0,9,   -999.0,9,   -999.0,9, -999.00,  -999.0,-999.0000,-999.000,  1.0260,-999.000
   31WTTUNES_2,  P16S,   192,  1,     33,     33,2,19910816,2325,-31.5050,-150.5167, 4935,   4286.6,   1.2911,  34.7013,2,  34.7014,2,   -999.0,9,    192.3,2,   122.47,2,    32.84,2,     0.00,2,     2.28,2, -999.000,9, -999.000,9, -999.000,9,-999.0000,9,  -999.00,9,   -999.0,9,   -999.0,9,   -999.0,9,   -999.0,9,   -999.0,9, -999.00,  -999.0,-999.0000,-999.000,  0.9466,-999.000
   31WTTUNES_2,  P16S,   192,  1,     34,     34,2,19910816,2325,-31.5050,-150.5167, 4935,   4545.3,   1.2522,  34.7034,2,  34.7085,4,   -999.0,9,    195.9,2,   122.27,2,    32.65,2,     0.00,2,     2.26,2, -999.000,9, -999.000,9, -999.000,9,-999.0000,9,  -999.00,9,   -999.0,9,   -999.0,9,   -999.0,9,   -999.0,9,   -999.0,9, -999.00,  -999.0,-999.0000,-999.000,  0.8796,-999.000
   31WTTUNES_2,  P16S,   192,  1,     39,     39,2,19910816,2325,-31.5050,-150.5167, 4935,   4802.7,   1.2042,  34.7075,2,  34.7077,2,   -999.0,9,    200.7,2,   121.78,2,    32.35,2,     0.00,2,     2.24,2, -999.000,9, -999.000,9, -999.000,9,-999.0000,9,  -999.00,9,   -999.0,9,   -999.0,9,   -999.0,9,   -999.0,9,   -999.0,9, -999.00,  -999.0,-999.0000,-999.000,  0.8033,-999.000
   31WTTUNES_2,  P16S,   192,  1,     38,     38,2,19910816,2325,-31.5050,-150.5167, 4935,   4993.9,   1.1752,  34.7065,2,  34.7087,2,   -999.0,9,    202.9,2,   121.10,2,    32.25,2,     0.00,2,     2.23,2, -999.000,9, -999.000,9, -999.000,9,-999.0000,9,  -999.00,9,   -999.0,9,   -999.0,9,   -999.0,9,   -999.0,9,   -999.0,9, -999.00,  -999.0,-999.0000,-999.000,  0.7526,-999.000