BOTTLE,20131125MIRCJHATS
EXPOCODE,SECT_ID,STNNBR,CASTNO,SAMPNO,BTLNBR,BTLNBR_FLAG_W,DATE,TIME,LATITUDE,LONGITUDE,DEPTH,CTDPRS,CTDTMP,CTDSAL,CTDSAL_FLAG_W,SALNTY,SALNTY_FLAG_W,CTDOXY,CTDOXY_FLAG_W,OXYGEN,OXYGEN_FLAG_W,SILCAT,SILCAT_FLAG_W,NITRAT,NITRAT_FLAG_W,NITRIT,NITRIT_FLAG_W,PHSPHT,PHSPHT_FLAG_W,CFC-11,CFC-11_FLAG_W,CFC-12,CFC-12_FLAG_W,TRITUM,TRITUM_FLAG_W,HELIUM,HELIUM_FLAG_W,DELHE3,DELHE3_FLAG_W,DELC14,DELC14_FLAG_W,DELC13,DELC13_FLAG_W,TCARBN,TCARBN_FLAG_W,PCO2,PCO2_FLAG_W,ALKALI,ALKALI_FLAG_W,PCO2TMP,C14ERR,HELIER,DELHER,THETA,TRITER
,,,,,,,,,,,,DBAR,ITS-90,PSS-78,,PSS-78,,UMOL/KG,,UMOL/KG,,UMOL/KG,,UMOL/KG,,UMOL/KG,,UMOL/KG,,PMOL/KG,,PMOL/KG,,TU,,NMOL/KG,,PERCNT,,/MILLE,,/MILLE,,UMOL/KG,,UATM,,UMOL/KG,,DEG C,/MILLE,NMOL/KG,PERCNT,DEG C,TU
   31WTTUNES_2,  P16S,   199,  1,     61,     61,2,19910819,0917,-28.0000,-150.4900, 3421,      1.4,  18.9901,  35.5675,2,  35.5713,2,    226.6,3,    230.0,2,     1.76,2,     0.12,2,     0.00,2,     0.07,2,    2.210,2,    1.199,2, -999.000,9,-999.0000,9,  -999.00,9,   -999.0,9,   -999.0,9,   2020.4,2,    307.6,2,   -999.0,9,   20.00,  -999.0,-999.0000,-999.000, 18.9899,-999.000
   31WTTUNES_2,  P16S,   199,  1,      2,      2,2,19910819,0917,-28.0000,-150.4900, 3421,     27.0,  18.9508,  35.5618,2,  35.5649,2,    232.1,6,    229.8,2,     1.75,2,     0.08,2,     0.00,2,     0.07,2,    2.238,2,    1.200,2, -999.000,9,-999.0000,9,  -999.00,9,   -999.0,9,   -999.0,9,   -999.0,9,   -999.0,9,   -999.0,9, -999.00,  -999.0,-999.0000,-999.000, 18.9460,-999.000
   31WTTUNES_2,  P16S,   199,  1,      3,      3,2,19910819,0917,-28.0000,-150.4900, 3421,     52.7,  18.8920,  35.5590,2,  35.5616,2,    228.4,2,    230.1,2,     1.34,2,     0.07,2,     0.00,2,     0.07,2,    2.221,2,    1.204,2, -999.000,9,-999.0000,9,  -999.00,9,   -999.0,9,   -999.0,9,   -999.0,9,   -999.0,9,   -999.0,9, -999.00,  -999.0,-999.0000,-999.000, 18.8827,-999.000
   31WTTUNES_2,  P16S,   199,  1,     64,     64,2,19910819,0917,-28.0000,-150.4900, 3421,     82.4,  18.8519,  35.5588,2,  35.5600,2,    232.6,6,    230.1,2,     1.33,2,     0.07,2,     0.00,2,     0.07,2,    2.244,2,    1.197,2, -999.000,9,-999.0000,9,  -999.00,9,   -999.0,9,   -999.0,9,   -999.0,9,   -999.0,9,   -999.0,9, -999.00,  -999.0,-999.0000,-999.000, 18.8373,-999.000
   31WTTUNES_2,  P16S,   199,  1,      5,      5,2,19910819,0917,-28.0000,-150.4900, 3421,    113.9,  18.4673,  35.5477,2,  35.5440,2,    230.6,6,    230.6,2,     1.32,2,     0.11,2,     0.00,2,     0.09,2,    2.268,2,    1.217,2, -999.000,9,-999.0000,9,  -999.00,9,   -999.0,9,   -999.0,9,   -999.0,9,   -999.0,9,   -999.0,9, -999.00,  -999.0,-999.0000,-999.000, 18.4474,-999.000
   31WTTUNES_2,  P16S,   199,  1,      6,      6,2,19910819,0917,-28.0000,-150.4900, 3421,    143.2,  18.0093,  35.4925,2,  35.4931,2,    229.5,2,    224.7,2,     1.31,2,     0.38,2,     0.06,2,     0.13,2,    2.245,6,    1.209,6, -999.000,9,-999.0000,9,  -999.00,9,   -999.0,9,   -999.0,9,   -999.0,9,   -999.0,9,   -999.0,9, -999.00,  -999.0,-999.0000,-999.000, 17.9846,-999.000
   31WTTUNES_2,  P16S,   199,  1,      7,      7,2,19910819,0917,-28.0000,-150.4900, 3421,    174.4,  17.6663,  35.4825,2,  35.4838,2,    217.4,2,    215.0,2,     1.30,2,     1.43,2,     0.04,2,     0.22,2,    2.156,2,    1.157,2, -999.000,9,-999.0000,9,  -999.00,9,   -999.0,9,   -999.0,9,   -999.0,9,   -999.0,9,   -999.0,9, -999.00,  -999.0,-999.0000,-999.000, 17.6366,-999.000
   31WTTUNES_2,  P16S,   199,  1,     68,     68,2,19910819,0917,-28.0000,-150.4900, 3421,    205.4,  16.7630,  35.4531,2,  35.4501,2,    201.3,2,    201.0,2,     1.70,2,     3.70,2,     0.01,2,     0.38,2,    1.969,2,    1.047,2, -999.000,9,-999.0000,9,  -999.00,9,   -999.0,9,   -999.0,9,   -999.0,9,   -999.0,9,   -999.0,9, -999.00,  -999.0,-999.0000,-999.000, 16.7293,-999.000
   31WTTUNES_2,  P16S,   199,  1,     69,     69,2,19910819,0917,-28.0000,-150.4900, 3421,    246.3,  15.7337,  35.3618,2,  35.3605,2,    201.2,2,    197.7,2,     2.10,2,     5.39,2,     0.00,2,     0.50,2,    1.869,2,    0.996,2, -999.000,9,-999.0000,9,  -999.00,9,   -999.0,9,   -999.0,9,   -999.0,9,   -999.0,9,   -999.0,9, -999.00,  -999.0,-999.0000,-999.000, 15.6950,-999.000
   31WTTUNES_2,  P16S,   199,  1,     70,     70,2,19910819,0917,-28.0000,-150.4900, 3421,    286.9,  14.5464,  35.2345,2,  35.2324,2,    195.6,2,    195.4,2,     2.70,2,     7.59,2,     0.00,2,     0.64,2,    1.704,2,    0.908,2, -999.000,9,-999.0000,9,  -999.00,9,   -999.0,9,   -999.0,9,   -999.0,9,   -999.0,9,   -999.0,9, -999.00,  -999.0,-999.0000,-999.000, 14.5036,-999.000
   31WTTUNES_2,  P16S,   199,  1,     11,     11,2,19910819,0917,-28.0000,-150.4900, 3421,    327.7,  13.1126,  35.0616,2,  35.0802,2,    195.0,2,    194.6,2,     3.30,2,    10.16,2,     0.00,2,     0.80,2,    1.530,6,    0.809,6, -999.000,9,-999.0000,9,  -999.00,9,   -999.0,9,   -999.0,9,   -999.0,9,   -999.0,9,   -999.0,9, -999.00,  -999.0,-999.0000,-999.000, 13.0670,-999.000
   31WTTUNES_2,  P16S,   199,  1,     12,     12,2,19910819,0917,-28.0000,-150.4900, 3421,    388.9,  11.4018,  34.8604,2,  34.8682,2,    196.2,2,    195.9,2,     4.11,2,    13.67,2,     0.00,2,     1.02,2,    1.265,2,    0.676,2, -999.000,9,-999.0000,9,  -999.00,9,   -999.0,9,   -999.0,9,   -999.0,9,   -999.0,9,   -999.0,9, -999.00,  -999.0,-999.0000,-999.000, 11.3524,-999.000
   31WTTUNES_2,  P16S,   199,  1,     13,     13,2,19910819,0917,-28.0000,-150.4900, 3421,    450.9,   9.9682,  34.6918,2,  34.6972,2,    200.5,2,    202.3,2,     5.32,2,    16.63,2,     0.00,2,     1.20,2,    1.103,2,    0.581,2, -999.000,9,-999.0000,9,  -999.00,9,   -999.0,9,   -999.0,9,   -999.0,9,   -999.0,9,   -999.0,9, -999.00,  -999.0,-999.0000,-999.000,  9.9155,-999.000
   31WTTUNES_2,  P16S,   199,  1,     37,     37,2,19910819,0917,-28.0000,-150.4900, 3421,    512.5,   8.1382,  34.5040,2,  34.5029,2,    218.9,2,    219.6,2,     6.73,2,    19.91,2,     0.00,2,     1.41,2,    1.015,2,    0.536,2, -999.000,9,-999.0000,9,  -999.00,9,   -999.0,9,   -999.0,9,   -999.0,9,   -999.0,9,   -999.0,9, -999.00,  -999.0,-999.0000,-999.000,  8.0852,-999.000
   31WTTUNES_2,  P16S,   199,  1,     15,     15,2,19910819,0917,-28.0000,-150.4900, 3421,    588.9,   7.2167,  34.4201,2,  34.4208,2,    228.5,2,    231.0,2,     7.74,2,    21.61,2,     0.00,2,     1.51,2,    0.898,2,    0.480,2, -999.000,9,-999.0000,9,  -999.00,9,   -999.0,9,   -999.0,9,   -999.0,9,   -999.0,9,   -999.0,9, -999.00,  -999.0,-999.0000,-999.000,  7.1596,-999.000
   31WTTUNES_2,  P16S,   199,  1,     16,     16,2,19910819,0917,-28.0000,-150.4900, 3421,    665.3,   6.7040,  34.3788,2,  34.3774,2,    231.3,2,    232.9,2,     9.35,2,    22.93,2,     0.00,2,     1.60,2, -999.000,9, -999.000,9, -999.000,9,-999.0000,9,  -999.00,9,   -999.0,9,   -999.0,9,   -999.0,9,   -999.0,9,   -999.0,9, -999.00,  -999.0,-999.0000,-999.000,  6.6417,-999.000
   31WTTUNES_2,  P16S,   199,  1,     17,     17,2,19910819,0917,-28.0000,-150.4900, 3421,    742.2,   6.0688,  34.3368,2,  34.3376,2,    230.5,2,    229.4,2,    12.80,2,    24.82,2,     0.00,2,     1.72,2,    0.381,2,    0.219,2, -999.000,9,-999.0000,9,  -999.00,9,   -999.0,9,   -999.0,9,   -999.0,9,   -999.0,9,   -999.0,9, -999.00,  -999.0,-999.0000,-999.000,  6.0025,-999.000
   31WTTUNES_2,  P16S,   199,  1,     18,     18,2,19910819,0917,-28.0000,-150.4900, 3421,    819.4,   5.6268,  34.3207,2,  34.3209,2,    225.3,2,    221.6,2,    16.85,2,    26.52,2,     0.00,2,     1.85,2, -999.000,9, -999.000,9, -999.000,9,-999.0000,9,  -999.00,9,   -999.0,9,   -999.0,9,   -999.0,9,   -999.0,9,   -999.0,9, -999.00,  -999.0,-999.0000,-999.000,  5.5559,-999.000
   31WTTUNES_2,  P16S,   199,  1,     19,     19,2,19910819,0917,-28.0000,-150.4900, 3421,    921.3,   5.1170,  34.3201,2,  34.3205,2,    208.4,2,    209.2,2,    23.94,2,    28.71,2,     0.00,2,     1.99,2,    0.122,2,    0.082,2, -999.000,9,-999.0000,9,  -999.00,9,   -999.0,9,   -999.0,9,   -999.0,9,   -999.0,9,   -999.0,9, -999.00,  -999.0,-999.0000,-999.000,  5.0403,-999.000
   31WTTUNES_2,  P16S,   199,  1,     20,     20,2,19910819,0917,-28.0000,-150.4900, 3421,   1023.7,   4.5520,  34.3410,2,  34.3421,2,    194.9,2,    194.3,2,    34.09,2,    30.90,2,     0.00,2,     2.15,2,    0.052,2,    0.048,2, -999.000,9,-999.0000,9,  -999.00,9,   -999.0,9,   -999.0,9,   -999.0,9,   -999.0,9,   -999.0,9, -999.00,  -999.0,-999.0000,-999.000,  4.4703,-999.000
   31WTTUNES_2,  P16S,   199,  1,     21,     21,2,19910819,0917,-28.0000,-150.4900, 3421,   1126.3,   4.1627,  34.3717,2,  34.3697,2,    185.0,2,    183.9,2,    43.22,2,    32.15,2,     0.00,2,     2.24,2,    0.025,2,    0.022,2, -999.000,9,-999.0000,9,  -999.00,9,   -999.0,9,   -999.0,9,   -999.0,9,   -999.0,9,   -999.0,9, -999.00,  -999.0,-999.0000,-999.000,  4.0752,-999.000
   31WTTUNES_2,  P16S,   199,  1,     22,     22,2,19910819,0917,-28.0000,-150.4900, 3421,   1280.2,   3.3946,  34.4537,2,  34.4533,2,    168.9,2,    168.7,2,    65.20,2,    33.99,2,     0.00,2,     2.37,2, -999.000,9, -999.000,9, -999.000,9,-999.0000,9,  -999.00,9,   -999.0,9,   -999.0,9,   -999.0,9,   -999.0,9,   -999.0,9, -999.00,  -999.0,-999.0000,-999.000,  3.3012,-999.000
   31WTTUNES_2,  P16S,   199,  1,     23,     23,2,19910819,0917,-28.0000,-150.4900, 3421,   1434.9,   2.8890,  34.5195,2,  34.5185,2,    163.4,2,    161.9,2,    82.37,2,    34.62,2,     0.00,2,     2.42,2, -999.000,9, -999.000,9, -999.000,9,-999.0000,9,  -999.00,9,   -999.0,9,   -999.0,9,   -999.0,9,   -999.0,9,   -999.0,9, -999.00,  -999.0,-999.0000,-999.000,  2.7879,-999.000
   31WTTUNES_2,  P16S,   199,  1,     24,     24,2,19910819,0917,-28.0000,-150.4900, 3421,   1641.3,   2.5021,  34.5791,2,  34.5782,2,    157.7,2,    157.0,2,    97.18,2,    34.92,2,     0.00,2,     2.45,2, -999.000,9, -999.000,9, -999.000,9,-999.0000,9,  -999.00,9,   -999.0,9,   -999.0,9,   -999.0,9,   -999.0,9,   -999.0,9, -999.00,  -999.0,-999.0000,-999.000,  2.3886,-999.000
   31WTTUNES_2,  P16S,   199,  1,     25,     25,2,19910819,0917,-28.0000,-150.4900, 3421,   1848.6,   2.2640,  34.6162,2,  34.6153,2,    151.3,2,    152.5,2,   110.45,2,    35.26,2,     0.00,2,     2.48,2, -999.000,9, -999.000,9, -999.000,9,-999.0000,9,  -999.00,9,   -999.0,9,   -999.0,9,   -999.0,9,   -999.0,9,   -999.0,9, -999.00,  -999.0,-999.0000,-999.000,  2.1364,-999.000
   31WTTUNES_2,  P16S,   199,  1,     26,     26,2,19910819,0917,-28.0000,-150.4900, 3421,   2054.3,   2.0939,  34.6365,2,  34.6357,2,    150.1,2,    149.3,2,   119.63,2,    35.37,2,     0.00,2,     2.50,2, -999.000,9, -999.000,9, -999.000,9,-999.0000,9,  -999.00,9,   -999.0,9,   -999.0,9,   -999.0,9,   -999.0,9,   -999.0,9, -999.00,  -999.0,-999.0000,-999.000,  1.9514,-999.000
   31WTTUNES_2,  P16S,   199,  1,     27,     27,2,19910819,0917,-28.0000,-150.4900, 3421,   2259.4,   1.9964,  34.6460,2,  34.6460,2,    148.8,2,    148.3,2,   124.87,2,    35.66,2,     0.00,2,     2.52,2, -999.000,9, -999.000,9, -999.000,9,-999.0000,9,  -999.00,9,   -999.0,9,   -999.0,9,   -999.0,9,   -999.0,9,   -999.0,9, -999.00,  -999.0,-999.0000,-999.000,  1.8377,-999.000
   31WTTUNES_2,  P16S,   199,  1,     28,     28,2,19910819,0917,-28.0000,-150.4900, 3421,   2455.2,   1.9145,  34.6534,2,  34.6524,2,    147.9,2,    148.5,2,   129.29,2,    35.72,2,     0.00,2,     2.51,2, -999.000,9, -999.000,9, -999.000,9,-999.0000,9,  -999.00,9,   -999.0,9,   -999.0,9,   -999.0,9,   -999.0,9,   -999.0,9, -999.00,  -999.0,-999.0000,-999.000,  1.7399,-999.000
   31WTTUNES_2,  P16S,   199,  1,     29,     29,2,19910819,0917,-28.0000,-150.4900, 3421,   2658.4,   1.8294,  34.6609,2,  34.6601,2,    150.4,2,    150.0,2,   131.39,2,    35.53,2,     0.00,2,     2.50,2, -999.000,9, -999.000,9, -999.000,9,-999.0000,9,  -999.00,9,   -999.0,9,   -999.0,9,   -999.0,9,   -999.0,9,   -999.0,9, -999.00,  -999.0,-999.0000,-999.000,  1.6378,-999.000
   31WTTUNES_2,  P16S,   199,  1,     31,     31,2,19910819,0917,-28.0000,-150.4900, 3421,   2864.0,   1.7303,  34.6692,2,  34.6691,2,    154.2,2,    154.5,2,   132.62,2,    35.34,2,     0.00,2,     2.48,2, -999.000,9, -999.000,9, -999.000,9,-999.0000,9,  -999.00,9,   -999.0,9,   -999.0,9,   -999.0,9,   -999.0,9,   -999.0,9, -999.00,  -999.0,-999.0000,-999.000,  1.5215,-999.000
   31WTTUNES_2,  P16S,   199,  1,     30,     30,2,19910819,0917,-28.0000,-150.4900, 3421,   2865.0,   1.7288,  34.6697,2,  34.6689,2,    154.7,2,    154.7,2,   131.58,2,    35.29,2,     0.00,2,     2.48,2, -999.000,9, -999.000,9, -999.000,9,-999.0000,9,  -999.00,9,   -999.0,9,   -999.0,9,   -999.0,9,   -999.0,9,   -999.0,9, -999.00,  -999.0,-999.0000,-999.000,  1.5200,-999.000
   31WTTUNES_2,  P16S,   199,  1,     33,     33,2,19910819,0917,-28.0000,-150.4900, 3421,   3066.8,   1.6433,  34.6762,2,  34.6761,2,    163.0,2,    160.8,2,   130.68,2,    34.91,2,     0.00,2,     2.44,2, -999.000,9, -999.000,9, -999.000,9,-999.0000,9,  -999.00,9,   -999.0,9,   -999.0,9,   -999.0,9,   -999.0,9,   -999.0,9, -999.00,  -999.0,-999.0000,-999.000,  1.4169,-999.000
   31WTTUNES_2,  P16S,   199,  1,     32,     32,2,19910819,0917,-28.0000,-150.4900, 3421,   3067.2,   1.6444,  34.6753,2,  34.6756,2,    163.0,2,    160.8,2,   131.34,2,    34.86,2,     0.00,2,     2.44,2, -999.000,9, -999.000,9, -999.000,9,-999.0000,9,  -999.00,9,   -999.0,9,   -999.0,9,   -999.0,9,   -999.0,9,   -999.0,9, -999.00,  -999.0,-999.0000,-999.000,  1.4179,-999.000
   31WTTUNES_2,  P16S,   199,  1,     34,     34,2,19910819,0917,-28.0000,-150.4900, 3421,   3270.0,   1.5745,  34.6813,2,  34.6805,2,    167.3,2,    166.9,2,   130.24,2,    34.53,2,     0.00,2,     2.42,2, -999.000,9, -999.000,9, -999.000,9,-999.0000,9,  -999.00,9,   -999.0,9,   -999.0,9,   -999.0,9,   -999.0,9,   -999.0,9, -999.00,  -999.0,-999.0000,-999.000,  1.3297,-999.000
   31WTTUNES_2,  P16S,   199,  1,     39,     39,2,19910819,0917,-28.0000,-150.4900, 3421,   3482.0,   1.5209,  34.6847,2,  34.6852,2,    170.8,2,    172.1,2,   128.11,2,    34.05,2,     0.00,2,     2.38,2, -999.000,9, -999.000,9, -999.000,9,-999.0000,9,  -999.00,9,   -999.0,9,   -999.0,9,   -999.0,9,   -999.0,9,   -999.0,9, -999.00,  -999.0,-999.0000,-999.000,  1.2560,-999.000
   31WTTUNES_2,  P16S,   199,  1,     38,     38,2,19910819,0917,-28.0000,-150.4900, 3421,   3622.0,   1.4757,  34.6881,2,  34.6879,2,    175.6,2,    175.5,2,   126.83,2,    33.81,2,     0.00,2,     2.37,2, -999.000,9, -999.000,9, -999.000,9,-999.0000,9,  -999.00,9,   -999.0,9,   -999.0,9,   -999.0,9,   -999.0,9,   -999.0,9, -999.00,  -999.0,-999.0000,-999.000,  1.1976,-999.000