BOTTLE,20131125MIRCJHATS
EXPOCODE,SECT_ID,STNNBR,CASTNO,SAMPNO,BTLNBR,BTLNBR_FLAG_W,DATE,TIME,LATITUDE,LONGITUDE,DEPTH,CTDPRS,CTDTMP,CTDSAL,CTDSAL_FLAG_W,SALNTY,SALNTY_FLAG_W,CTDOXY,CTDOXY_FLAG_W,OXYGEN,OXYGEN_FLAG_W,SILCAT,SILCAT_FLAG_W,NITRAT,NITRAT_FLAG_W,NITRIT,NITRIT_FLAG_W,PHSPHT,PHSPHT_FLAG_W,CFC-11,CFC-11_FLAG_W,CFC-12,CFC-12_FLAG_W,TRITUM,TRITUM_FLAG_W,HELIUM,HELIUM_FLAG_W,DELHE3,DELHE3_FLAG_W,DELC14,DELC14_FLAG_W,DELC13,DELC13_FLAG_W,TCARBN,TCARBN_FLAG_W,PCO2,PCO2_FLAG_W,ALKALI,ALKALI_FLAG_W,PCO2TMP,C14ERR,HELIER,DELHER,THETA,TRITER
,,,,,,,,,,,,DBAR,ITS-90,PSS-78,,PSS-78,,UMOL/KG,,UMOL/KG,,UMOL/KG,,UMOL/KG,,UMOL/KG,,UMOL/KG,,PMOL/KG,,PMOL/KG,,TU,,NMOL/KG,,PERCNT,,/MILLE,,/MILLE,,UMOL/KG,,UATM,,UMOL/KG,,DEG C,/MILLE,NMOL/KG,PERCNT,DEG C,TU
   31WTTUNES_2,  P17S,   138,  1,      1,      1,2,19910726,0858,-12.9333,-134.3833, 4406,      1.9,  26.8246,  36.2561,2,  36.2602,2,   -999.0,9,    209.8,2,     1.90,2,     1.22,2,     0.02,2,     0.33,2,    1.643,2,    0.902,2, -999.000,9,-999.0000,9,  -999.00,9,     79.9,2,      1.8,2,   2019.1,2,    256.8,2,   -999.0,9,   20.00,     2.8,-999.0000,-999.000, 26.8242,-999.000
   31WTTUNES_2,  P17S,   138,  1,      2,      2,2,19910726,0858,-12.9333,-134.3833, 4406,     45.0,  26.9376,  36.3291,2,  36.3323,2,    210.7,2,    213.4,2,     1.70,2,     1.22,2,     0.02,2,     0.33,2,    1.618,2,    0.888,2,    0.919,2,   1.6890,2,    -1.08,2,   -999.0,9,   -999.0,9,   -999.0,9,   -999.0,9,   -999.0,9, -999.00,  -999.0,  0.0080,   0.150, 26.9273,   0.007
   31WTTUNES_2,  P17S,   138,  1,      3,      3,2,19910726,0858,-12.9333,-134.3833, 4406,     85.6,  26.8526,  36.4112,2,  36.3891,2,    207.5,2,    203.9,2,     1.69,2,     0.81,2,     0.03,2,     0.37,2,    1.698,2,    0.929,2, -999.000,9,-999.0000,9,  -999.00,9,     86.9,2,      1.7,2,   -999.0,9,   -999.0,9,   -999.0,9, -999.00,     3.2,-999.0000,-999.000, 26.8330,-999.000
   31WTTUNES_2,  P17S,   138,  1,      4,      4,2,19910726,0858,-12.9333,-134.3833, 4406,    106.4,  25.1191,  36.3264,2,  36.3485,2,    194.4,2,    195.8,2,     1.69,2,     0.76,2,     0.13,2,     0.45,2,    1.781,2,    0.960,2, -999.000,9,-999.0000,9,  -999.00,9,     97.6,2,      1.6,2,   -999.0,9,   -999.0,9,   -999.0,9, -999.00,     3.4,-999.0000,-999.000, 25.0958,-999.000
   31WTTUNES_2,  P17S,   138,  1,      5,      5,2,19910726,0858,-12.9333,-134.3833, 4406,    127.1,  24.5293,  36.3990,2,  36.4085,2,    194.8,2,    190.8,2,     1.69,2,     0.42,2,     2.05,2,     0.43,2,    1.792,2,    0.964,2,    0.819,2,   1.7070,2,    -1.31,2,    113.3,2,      1.4,2,   -999.0,9,   -999.0,9,   -999.0,9, -999.00,     3.8,  0.0080,   0.150, 24.5019,   0.006
   31WTTUNES_2,  P17S,   138,  1,      6,      6,2,19910726,0858,-12.9333,-134.3833, 4406,    168.0,  22.9228,  36.3039,2,  36.2826,2,    187.2,2,    185.9,2,     1.68,2,     2.54,2,     0.91,2,     0.51,2,    1.867,2,    1.004,2,    0.718,2,   1.7430,2,    -0.91,2,    118.8,2,      1.3,2,   -999.0,9,   -999.0,9,   -999.0,9, -999.00,     3.2,  0.0080,   0.150, 22.8883,   0.009
   31WTTUNES_2,  P17S,   138,  1,      7,      7,2,19910726,0858,-12.9333,-134.3833, 4406,    208.6,  20.8955,  35.9667,2,  35.9627,2,    185.2,2,    178.8,2,     1.68,2,     4.69,2,     0.03,2,     0.59,2,    1.982,2,    1.050,2,    0.645,2,   1.7150,2,    -0.60,2,    129.3,2,      1.3,2,   -999.0,9,   -999.0,9,   -999.0,9, -999.00,     3.1,  0.0080,   0.150, 20.8555,   0.007
   31WTTUNES_2,  P17S,   138,  1,      8,      8,2,19910726,0858,-12.9333,-134.3833, 4406,    259.8,  17.8199,  35.4335,2,  35.4240,2,    171.3,2,    168.2,2,     2.06,2,     7.17,2,     0.01,2,     0.74,2,    1.710,2,    0.935,2, -999.000,9,-999.0000,9,  -999.00,9,    131.8,2,      1.2,2,   -999.0,9,   -999.0,9,   -999.0,9, -999.00,     3.0,-999.0000,-999.000, 17.7754,-999.000
   31WTTUNES_2,  P17S,   138,  1,      9,      9,2,19910726,0858,-12.9333,-134.3833, 4406,    336.1,  11.8192,  34.6964,2,  34.6972,2,     80.7,2,     68.0,2,    16.32,2,    23.06,2,     0.00,2,     2.06,2,    0.603,2,    0.322,2,    0.273,2,   1.7900,2,     2.07,2,     24.9,2,      0.4,2,   -999.0,9,   -999.0,9,   -999.0,9, -999.00,     3.2,  0.0080,   0.150, 11.7757,   0.006
   31WTTUNES_2,  P17S,   138,  1,     10,     10,2,19910726,0858,-12.9333,-134.3833, 4406,    413.3,   9.4587,  34.6271,2,  34.6227,2,     48.5,2,     47.1,2,    26.34,2,    32.48,2,     0.00,2,     2.49,2,    0.063,2,    0.046,2,    0.041,2,   1.7820,2,     3.60,2,    -69.9,2,      0.2,2,   -999.0,9,   -999.0,9,   -999.0,9, -999.00,     2.6,  0.0080,   0.150,  9.4121,   0.003
   31WTTUNES_2,  P17S,   138,  1,     11,     11,3,19910726,0858,-12.9333,-134.3833, 4406,    463.8,   8.5134,  34.5979,2,  35.6179,4,     67.5,2,    146.2,4,    11.29,4,    13.48,4,     0.17,4,     1.17,4,    1.110,4,    0.624,4, -999.000,9,-999.0000,9,  -999.00,9,   -999.0,9,   -999.0,9,   -999.0,9,   -999.0,9,   -999.0,9, -999.00,  -999.0,-999.0000,-999.000,  8.4642,-999.000
   31WTTUNES_2,  P17S,   138,  1,     12,     12,2,19910726,0858,-12.9333,-134.3833, 4406,    535.6,   7.5901,  34.5624,2,  34.5628,2,     98.7,2,     96.6,2,    32.49,2,    33.15,2,     0.00,2,     2.35,2,    0.026,2,    0.026,2, -999.000,9,   1.8380,2,     5.88,2,   -100.4,2,      0.4,2,   -999.0,9,   -999.0,9,   -999.0,9, -999.00,     3.2,  0.0090,   0.150,  7.5367,-999.000
   31WTTUNES_2,  P17S,   138,  1,     13,     13,2,19910726,0858,-12.9333,-134.3833, 4406,    617.7,   6.5958,  34.5187,2,  34.5218,2,    115.8,2,    116.3,2,    38.46,2,    33.62,2,     0.00,2,     2.36,2,    0.012,2,    0.011,2,    0.006,2,   1.8410,2,     7.83,2,   -111.0,2,      0.5,2,   -999.0,9,   -999.0,9,   -999.0,9, -999.00,     2.6,  0.0090,   0.150,  6.5385,   0.003
   31WTTUNES_2,  P17S,   138,  1,     37,     37,2,19910726,0858,-12.9333,-134.3833, 4406,    719.9,   5.8904,  34.5093,2,  34.5104,2,    109.5,2,    107.4,2,    47.91,2,    35.92,2,     0.00,2,     2.53,2,    0.002,2,    0.003,2, -999.000,9,-999.0000,9,  -999.00,9,   -999.0,9,      0.4,2,   -999.0,9,   -999.0,9,   -999.0,9, -999.00,  -999.0,-999.0000,-999.000,  5.8270,-999.000
   31WTTUNES_2,  P17S,   138,  1,     15,     15,2,19910726,0858,-12.9333,-134.3833, 4406,    822.8,   5.2799,  34.5003,2,  34.5021,2,    106.2,2,    115.1,2,    55.64,2,    36.18,2,     0.00,2,     2.56,2,    0.002,2,    0.002,7, -999.000,9,-999.0000,9,  -999.00,9,   -141.4,2,      0.5,2,   -999.0,9,   -999.0,9,   -999.0,9, -999.00,     2.5,-999.0000,-999.000,  5.2106,-999.000
   31WTTUNES_2,  P17S,   138,  1,     16,     16,2,19910726,0858,-12.9333,-134.3833, 4406,    924.7,   4.7493,  34.5041,2,  34.5061,2,    117.3,2,    119.1,2,    63.56,2,    36.44,2,     0.00,2,     2.58,2,   -0.001,2,    0.001,7, -999.000,9,-999.0000,9,  -999.00,9,   -147.7,2,      0.4,2,   -999.0,9,   -999.0,9,   -999.0,9, -999.00,     2.5,-999.0000,-999.000,  4.6745,-999.000
   31WTTUNES_2,  P17S,   138,  1,     17,     17,2,19910726,0858,-12.9333,-134.3833, 4406,   1026.8,   4.2966,  34.5156,2,  34.5206,2,    118.9,2,    117.1,2,    72.87,2,    37.29,2,     0.00,2,     2.65,2,    0.000,2,    0.002,7, -999.000,9,   1.8530,2,    16.58,2,   -166.6,2,      0.3,2,   -999.0,9,   -999.0,9,   -999.0,9, -999.00,     2.4,-999.0000,-999.000,  4.2164,-999.000
   31WTTUNES_2,  P17S,   138,  1,     18,     18,2,19910726,0858,-12.9333,-134.3833, 4406,   1130.4,   3.8880,  34.5333,2,  34.5355,2,    116.2,2,    115.4,2,    82.40,2,    37.81,2,     0.00,2,     2.68,2,   -0.001,7,    0.000,2, -999.000,9,   1.8560,2,    18.92,2,   -178.3,2,      0.3,2,   -999.0,9,   -999.0,9,   -999.0,9, -999.00,     2.5,-999.0000,-999.000,  3.8023,-999.000
   31WTTUNES_2,  P17S,   138,  1,     19,     19,2,19910726,0858,-12.9333,-134.3833, 4406,   1283.3,   3.5173,  34.5531,2,  34.5540,2,    115.5,2,    116.3,2,    91.39,2,    37.86,2,     0.00,2,     2.70,2, -999.000,9, -999.000,9, -999.000,9,   1.8630,2,    20.64,2,   -999.0,9,   -999.0,9,   -999.0,9,   -999.0,9,   -999.0,9, -999.00,  -999.0,-999.0000,-999.000,  3.4221,-999.000
   31WTTUNES_2,  P17S,   138,  1,     20,     20,2,19910726,0858,-12.9333,-134.3833, 4406,   1436.4,   3.1636,  34.5725,2,  34.5758,2,    120.4,2,    118.4,2,   100.42,2,    37.81,2,     0.00,2,     2.69,2, -999.000,9, -999.000,9, -999.000,9,   1.8800,2,    22.04,2,   -999.0,9,   -999.0,9,   -999.0,9,   -999.0,9,   -999.0,9, -999.00,  -999.0,-999.0000,-999.000,  3.0592,-999.000
   31WTTUNES_2,  P17S,   138,  1,     21,     21,2,19910726,0858,-12.9333,-134.3833, 4406,   1641.7,   2.8029,  34.5924,2,-999.0000,9,    126.1,2,    125.5,2,   108.32,2,    37.28,2,     0.00,2,     2.64,2, -999.000,9, -999.000,9, -999.000,9,   1.8940,2,    24.18,2,   -999.0,9,   -999.0,9,   -999.0,9,   -999.0,9,   -999.0,9, -999.00,  -999.0,-999.0000,-999.000,  2.6855,-999.000
   31WTTUNES_2,  P17S,   138,  1,     22,     22,2,19910726,0858,-12.9333,-134.3833, 4406,   1847.2,   2.3633,  34.6208,2,  34.6218,2,    136.1,2,    134.3,2,   118.27,2,    36.76,2,     0.00,2,     2.59,2, -999.000,9, -999.000,9, -999.000,9,   1.9060,2,    28.44,2,   -999.0,9,   -999.0,9,   -999.0,9,   -999.0,9,   -999.0,9, -999.00,  -999.0,-999.0000,-999.000,  2.2344,-999.000
   31WTTUNES_2,  P17S,   138,  1,     23,     23,2,19910726,0858,-12.9333,-134.3833, 4406,   2053.7,   2.0765,  34.6450,2,  34.6468,2,    139.6,2,    140.4,2,   124.68,2,    36.23,2,     0.00,2,     2.54,2, -999.000,9, -999.000,9, -999.000,9,   1.9510,2,    32.18,2,   -999.0,9,   -999.0,9,   -999.0,9,   -999.0,9,   -999.0,9, -999.00,  -999.0,-999.0000,-999.000,  1.9343,-999.000
   31WTTUNES_2,  P17S,   138,  1,     24,     24,2,19910726,0858,-12.9333,-134.3833, 4406,   2258.6,   1.9287,  34.6576,2,  34.6593,2,    142.6,2,    144.1,2,   130.32,2,    35.97,2,     0.00,2,     2.54,2, -999.000,9, -999.000,9, -999.000,9,   1.9450,2,    35.00,2,   -999.0,9,   -999.0,9,   -999.0,9,   -999.0,9,   -999.0,9, -999.00,  -999.0,-999.0000,-999.000,  1.7712,-999.000
   31WTTUNES_2,  P17S,   138,  1,     25,     25,2,19910726,0858,-12.9333,-134.3833, 4406,   2414.9,   1.8657,  34.6643,2,  34.6668,2,    146.0,2,    144.9,2,   133.75,2,    36.02,2,     0.00,2,     2.52,2, -999.000,9, -999.000,9, -999.000,9,   1.9510,2,    36.62,2,   -999.0,9,   -999.0,9,   -999.0,9,   -999.0,9,   -999.0,9, -999.00,  -999.0,-999.0000,-999.000,  1.6955,-999.000
   31WTTUNES_2,  P17S,   138,  1,     26,     26,2,19910726,0858,-12.9333,-134.3833, 4406,   2569.2,   1.8158,  34.6687,2,  34.6706,2,    145.4,2,    145.7,2,   136.18,2,    35.92,2,     0.00,2,     2.51,2,   -0.001,7,    0.000,2, -999.000,9,   1.9530,2,    36.59,2,   -999.0,9,   -999.0,9,   -999.0,9,   -999.0,9,   -999.0,9, -999.00,  -999.0,-999.0000,-999.000,  1.6326,-999.000
   31WTTUNES_2,  P17S,   138,  1,     27,     27,2,19910726,0858,-12.9333,-134.3833, 4406,   2723.8,   1.7718,  34.6735,2,  34.6743,2,    147.2,2,    148.1,2,   136.57,2,    35.81,2,     0.00,2,     2.50,2, -999.000,9, -999.000,9, -999.000,9,   1.9320,2,    33.76,2,   -999.0,9,   -999.0,9,   -999.0,9,   -999.0,9,   -999.0,9, -999.00,  -999.0,-999.0000,-999.000,  1.5753,-999.000
   31WTTUNES_2,  P17S,   138,  1,     28,     28,2,19910726,0858,-12.9333,-134.3833, 4406,   2878.1,   1.7159,  34.6761,2,  34.6784,2,    153.4,2,    152.1,2,   136.34,2,    35.55,2,     0.00,2,     2.49,2, -999.000,9, -999.000,9, -999.000,9,   1.9220,2,    31.09,2,   -999.0,9,   -999.0,9,   -999.0,9,   -999.0,9,   -999.0,9, -999.00,  -999.0,-999.0000,-999.000,  1.5060,-999.000
   31WTTUNES_2,  P17S,   138,  1,     29,     29,2,19910726,0858,-12.9333,-134.3833, 4406,   3083.7,   1.6549,  34.6786,2,  34.6800,2,    154.8,2,    156.5,2,   136.73,2,    35.19,2,     0.00,2,     2.47,2,    0.000,2,    0.000,2, -999.000,9,   1.9140,2,    27.96,2,   -999.0,9,   -999.0,9,   -999.0,9,   -999.0,9,   -999.0,9, -999.00,  -999.0,-999.0000,-999.000,  1.4266,-999.000
   31WTTUNES_2,  P17S,   138,  1,     30,     30,2,19910726,0858,-12.9333,-134.3833, 4406,   3292.2,   1.6150,  34.6822,2,  34.6831,2,    157.9,2,    159.2,2,   136.30,2,    35.13,2,     0.00,2,     2.46,2, -999.000,9, -999.000,9, -999.000,9,   1.9110,2,    25.28,2,   -999.0,9,   -999.0,9,   -999.0,9,   -999.0,9,   -999.0,9, -999.00,  -999.0,-999.0000,-999.000,  1.3670,-999.000
   31WTTUNES_2,  P17S,   138,  1,     31,     31,2,19910726,0858,-12.9333,-134.3833, 4406,   3498.5,   1.5810,  34.6843,2,  34.6883,3,    163.7,2,    162.5,2,   136.29,2,    35.13,2,     0.00,2,     2.45,2, -999.000,9, -999.000,9, -999.000,9,   1.9060,2,    23.47,2,   -999.0,9,   -999.0,9,   -999.0,9,   -999.0,9,   -999.0,9, -999.00,  -999.0,-999.0000,-999.000,  1.3129,-999.000
   31WTTUNES_2,  P17S,   138,  1,     32,     32,2,19910726,0858,-12.9333,-134.3833, 4406,   3706.4,   1.5570,  34.6864,2,  34.6869,2,    164.0,2,    164.4,2,   136.27,2,    34.93,2,     0.00,2,     2.44,2, -999.000,9, -999.000,9, -999.000,9,   1.9020,2,    22.12,2,   -999.0,9,   -999.0,9,   -999.0,9,   -999.0,9,   -999.0,9, -999.00,  -999.0,-999.0000,-999.000,  1.2680,-999.000
   31WTTUNES_2,  P17S,   138,  1,     33,     33,2,19910726,0858,-12.9333,-134.3833, 4406,   3912.9,   1.5330,  34.6881,2,  34.6889,2,    166.4,2,    167.6,2,   135.02,2,    34.72,2,     0.00,2,     2.41,2, -999.000,9, -999.000,9, -999.000,9,   1.9090,2,    21.08,2,   -999.0,9,   -999.0,9,   -999.0,9,   -999.0,9,   -999.0,9, -999.00,  -999.0,-999.0000,-999.000,  1.2226,-999.000
   31WTTUNES_2,  P17S,   138,  1,     34,     34,2,19910726,0858,-12.9333,-134.3833, 4406,   4120.5,   1.5120,  34.6900,2,  34.6904,2,    173.0,2,    171.2,2,   133.58,2,    34.41,2,     0.00,2,     2.39,2, -999.000,9, -999.000,9, -999.000,9,   1.8950,2,    20.20,2,   -999.0,9,   -999.0,9,   -999.0,9,   -999.0,9,   -999.0,9, -999.00,  -999.0,-999.0000,-999.000,  1.1795,-999.000
   31WTTUNES_2,  P17S,   138,  1,     35,     35,2,19910726,0858,-12.9333,-134.3833, 4406,   4328.1,   1.5110,  34.6917,2,  34.6906,2,    173.2,2,    172.9,2,   132.14,2,    34.25,2,     0.00,2,     2.38,2, -999.000,9, -999.000,9, -999.000,9,   1.9120,2,    19.48,2,   -999.0,9,   -999.0,9,   -999.0,9,   -999.0,9,   -999.0,9, -999.00,  -999.0,-999.0000,-999.000,  1.1553,-999.000
   31WTTUNES_2,  P17S,   138,  1,     36,     36,2,19910726,0858,-12.9333,-134.3833, 4406,   4458.0,   1.5240,  34.6921,2,  34.6918,2,    173.3,2,    173.1,2,   131.71,2,    34.20,2,     0.00,2,     2.38,2, -999.000,9, -999.000,9, -999.000,9,   1.8990,2,    19.47,2,   -999.0,9,   -999.0,9,   -999.0,9,   -999.0,9,   -999.0,9, -999.00,  -999.0,-999.0000,-999.000,  1.1531,-999.000