BOTTLE,20131125MIRCJHATS
EXPOCODE,SECT_ID,STNNBR,CASTNO,SAMPNO,BTLNBR,BTLNBR_FLAG_W,DATE,TIME,LATITUDE,LONGITUDE,DEPTH,CTDPRS,CTDTMP,CTDSAL,CTDSAL_FLAG_W,SALNTY,SALNTY_FLAG_W,CTDOXY,CTDOXY_FLAG_W,OXYGEN,OXYGEN_FLAG_W,SILCAT,SILCAT_FLAG_W,NITRAT,NITRAT_FLAG_W,NITRIT,NITRIT_FLAG_W,PHSPHT,PHSPHT_FLAG_W,CFC-11,CFC-11_FLAG_W,CFC-12,CFC-12_FLAG_W,TRITUM,TRITUM_FLAG_W,HELIUM,HELIUM_FLAG_W,DELHE3,DELHE3_FLAG_W,DELC14,DELC14_FLAG_W,DELC13,DELC13_FLAG_W,TCARBN,TCARBN_FLAG_W,PCO2,PCO2_FLAG_W,ALKALI,ALKALI_FLAG_W,PCO2TMP,C14ERR,HELIER,DELHER,THETA,TRITER
,,,,,,,,,,,,DBAR,ITS-90,PSS-78,,PSS-78,,UMOL/KG,,UMOL/KG,,UMOL/KG,,UMOL/KG,,UMOL/KG,,UMOL/KG,,PMOL/KG,,PMOL/KG,,TU,,NMOL/KG,,PERCNT,,/MILLE,,/MILLE,,UMOL/KG,,UATM,,UMOL/KG,,DEG C,/MILLE,NMOL/KG,PERCNT,DEG C,TU
   31WTTUNES_2,  P16S,   181,  1,     61,     61,2,19910812,1528,-37.0150,-150.5033, 5674,      2.6,  13.4117,  34.7703,2,  34.7718,2,   -999.0,9,    257.1,2,     1.46,2,     0.75,2,     0.08,2,     0.26,2,    2.955,2,    1.559,2, -999.000,9,-999.0000,9,  -999.00,9,   -999.0,9,   -999.0,9,   2045.4,2,    408.1,2,   -999.0,9,   20.00,  -999.0,-999.0000,-999.000, 13.4113,-999.000
   31WTTUNES_2,  P16S,   181,  1,      2,      2,2,19910812,1528,-37.0150,-150.5033, 5674,     48.4,  13.4112,  34.7695,2,  34.7695,2,    258.4,2,    256.7,2,     1.25,2,     0.75,2,     0.08,2,     0.26,2,    2.918,2,    1.570,2,    0.644,2,   1.7040,2,    -1.06,2,   -999.0,9,   -999.0,9,   -999.0,9,   -999.0,9,   -999.0,9, -999.00,  -999.0,  0.0080,   0.150, 13.4044,   0.006
   31WTTUNES_2,  P16S,   181,  1,      3,      3,2,19910812,1528,-37.0150,-150.5033, 5674,     89.5,  13.3763,  34.7637,2,  34.7577,2,    258.1,2,    256.3,2,     1.23,2,     0.79,2,     0.09,2,     0.27,2, -999.000,9, -999.000,9,    0.640,2,   1.8020,2,    -1.01,2,   -999.0,9,   -999.0,9,   -999.0,9,   -999.0,9,   -999.0,9, -999.00,  -999.0,  0.0080,   0.150, 13.3638,   0.006
   31WTTUNES_2,  P16S,   181,  1,      4,      4,2,19910812,1528,-37.0150,-150.5033, 5674,    137.0,  12.7986,  34.7303,2,  34.7300,2,    258.8,6,    247.8,2,     1.22,2,     2.84,2,     0.15,2,     0.40,2,    2.918,2,    1.526,2,    0.600,2,   1.7590,2,    -1.13,2,   -999.0,9,   -999.0,9,   -999.0,9,   -999.0,9,   -999.0,9, -999.00,  -999.0,  0.0080,   0.150, 12.7800,   0.005
   31WTTUNES_2,  P16S,   181,  1,      5,      5,2,19910812,1528,-37.0150,-150.5033, 5674,    177.4,  10.7513,  34.5909,2,  34.5911,2,    232.1,2,    229.0,2,     2.39,2,    10.87,2,     0.01,2,     0.87,2,    2.671,2,    1.398,2,    0.477,2,   1.7790,2,    -0.60,2,   -999.0,9,   -999.0,9,   -999.0,9,   -999.0,9,   -999.0,9, -999.00,  -999.0,  0.0080,   0.150, 10.7298,   0.005
   31WTTUNES_2,  P16S,   181,  1,      6,      6,2,19910812,1528,-37.0150,-150.5033, 5674,    216.4,   9.5600,  34.5584,2,  34.5548,2,    222.6,2,    225.8,2,     3.17,2,    14.56,2,     0.01,2,     1.08,2,    2.443,2,    1.279,2,    0.416,2,   1.7680,2,    -0.30,2,   -999.0,9,   -999.0,9,   -999.0,9,   -999.0,9,   -999.0,9, -999.00,  -999.0,  0.0080,   0.150,  9.5357,   0.005
   31WTTUNES_2,  P16S,   181,  1,      7,      7,2,19910812,1528,-37.0150,-150.5033, 5674,    273.2,   8.6109,  34.5158,2,  34.5169,2,    231.2,2,    229.3,2,     4.55,2,    17.15,2,     0.01,2,     1.23,2,    2.211,2,    1.169,2,    0.372,2,   1.7810,2,    -0.20,2,   -999.0,9,   -999.0,9,   -999.0,9,   -999.0,9,   -999.0,9, -999.00,  -999.0,  0.0080,   0.150,  8.5820,   0.004
   31WTTUNES_2,  P16S,   181,  1,     68,     68,2,19910812,1528,-37.0150,-150.5033, 5674,    340.0,   7.8713,  34.4706,2,  34.4696,2,    239.5,2,    241.9,2,     5.33,2,    18.59,2,     0.01,2,     1.31,2,    2.437,2,    1.270,2,    0.354,2,   1.7710,2,    -0.35,2,   -999.0,9,   -999.0,9,   -999.0,9,   -999.0,9,   -999.0,9, -999.00,  -999.0,  0.0080,   0.150,  7.8372,   0.005
   31WTTUNES_2,  P16S,   181,  1,     69,     69,2,19910812,1528,-37.0150,-150.5033, 5674,    415.8,   7.5487,  34.4505,2,  34.4495,2,    242.7,2,    245.3,2,     6.30,2,    19.50,2,     0.01,2,     1.37,2,    2.037,2,    1.083,2,    0.344,2,   1.7970,2,    -0.06,2,   -999.0,9,   -999.0,9,   -999.0,9,   -999.0,9,   -999.0,9, -999.00,  -999.0,  0.0080,   0.150,  7.5078,   0.004
   31WTTUNES_2,  P16S,   181,  1,     70,     70,2,19910812,1528,-37.0150,-150.5033, 5674,    518.5,   7.1615,  34.4187,2,  34.4193,2,    242.5,2,    244.2,2,     7.08,2,    20.85,2,     0.01,2,     1.45,2, -999.000,9, -999.000,9,    0.300,2,   1.7810,2,     0.38,2,   -999.0,9,   -999.0,9,   -999.0,9,   -999.0,9,   -999.0,9, -999.00,  -999.0,  0.0080,   0.150,  7.1117,   0.004
   31WTTUNES_2,  P16S,   181,  1,     11,     11,2,19910812,1528,-37.0150,-150.5033, 5674,    619.3,   6.7736,  34.3850,2,  34.3848,2,    239.7,2,    243.0,2,     8.65,2,    22.10,2,     0.01,2,     1.54,2,    1.364,2,    0.730,2,    0.245,2,   1.7750,2,     0.49,2,   -999.0,9,   -999.0,9,   -999.0,9,   -999.0,9,   -999.0,9, -999.00,  -999.0,  0.0080,   0.150,  6.7154,   0.004
   31WTTUNES_2,  P16S,   181,  1,     12,     12,2,19910812,1528,-37.0150,-150.5033, 5674,    723.2,   6.3451,  34.3515,2,  34.3524,2,    237.1,2,    237.6,2,    10.82,2,    23.64,2,     0.01,2,     1.65,2, -999.000,9, -999.000,9,    0.198,2,   1.7540,2,     1.07,2,   -999.0,9,   -999.0,9,   -999.0,9,   -999.0,9,   -999.0,9, -999.00,  -999.0,  0.0080,   0.150,  6.2791,   0.003
   31WTTUNES_2,  P16S,   181,  1,     13,     13,2,19910812,1528,-37.0150,-150.5033, 5674,    822.5,   5.8092,  34.3256,2,  34.3273,2,    227.4,2,    227.1,2,    14.98,2,    25.86,2,     0.01,2,     1.79,2,    0.760,2,    0.401,2,    0.126,2,   1.7580,2,     1.57,2,   -999.0,9,   -999.0,9,   -999.0,9,   -999.0,9,   -999.0,9, -999.00,  -999.0,  0.0080,   0.150,  5.7369,   0.003
   31WTTUNES_2,  P16S,   181,  1,     37,     37,2,19910812,1528,-37.0150,-150.5033, 5674,    922.2,   5.2598,  34.3218,2,  34.3226,2,    213.4,2,    213.6,2,    21.91,2,    28.13,2,     0.01,2,     1.95,2,    0.492,2,    0.252,2,    0.096,2,   1.7980,2,     1.98,2,   -999.0,9,   -999.0,9,   -999.0,9,   -999.0,9,   -999.0,9, -999.00,  -999.0,  0.0080,   0.150,  5.1819,   0.002
   31WTTUNES_2,  P16S,   181,  1,     15,     15,2,19910812,1528,-37.0150,-150.5033, 5674,   1028.6,   4.6467,  34.3299,2,  34.3309,2,    203.7,2,    202.9,2,    30.04,2,    30.22,2,     0.01,2,     2.09,2,    0.223,2,    0.124,2,    0.048,2,   1.7960,2,     2.73,2,   -999.0,9,   -999.0,9,   -999.0,9,   -999.0,9,   -999.0,9, -999.00,  -999.0,  0.0080,   0.150,  4.5639,   0.002
   31WTTUNES_2,  P16S,   181,  1,     16,     16,2,19910812,1528,-37.0150,-150.5033, 5674,   1128.7,   4.0530,  34.3493,2,  34.3507,2,    195.2,2,    194.5,2,    39.35,2,    31.73,2,     0.01,2,     2.21,2,    0.109,2,    0.060,2,    0.026,2,   1.7990,2,     4.07,2,   -999.0,9,   -999.0,9,   -999.0,9,   -999.0,9,   -999.0,9, -999.00,  -999.0,  0.0090,   0.150,  3.9663,   0.002
   31WTTUNES_2,  P16S,   181,  1,     17,     17,2,19910812,1528,-37.0150,-150.5033, 5674,   1279.7,   3.3513,  34.4082,2,  34.4096,2,    183.6,2,    182.2,2,    54.44,2,    33.40,2,     0.01,2,     2.34,2,    0.031,2,    0.023,2, -999.000,9,   1.8190,2,     6.37,2,   -999.0,9,   -999.0,9,   -999.0,9,   -999.0,9,   -999.0,9, -999.00,  -999.0,-999.0000,-999.000,  3.2584,-999.000
   31WTTUNES_2,  P16S,   181,  1,     18,     18,2,19910812,1528,-37.0150,-150.5033, 5674,   1435.2,   2.9580,  34.4873,2,  34.4885,2,    173.3,2,    170.0,2,    69.57,2,    34.24,2,     0.01,2,     2.40,2,    0.009,2,    0.009,2, -999.000,9,   1.8450,2,     9.45,2,   -999.0,9,   -999.0,9,   -999.0,9,   -999.0,9,   -999.0,9, -999.00,  -999.0,-999.0000,-999.000,  2.8562,-999.000
   31WTTUNES_2,  P16S,   181,  1,     19,     19,2,19910812,1528,-37.0150,-150.5033, 5674,   1643.7,   2.6768,  34.5614,2,  34.5628,2,    160.4,2,    160.6,2,    87.58,2,    34.68,2,     0.01,2,     2.44,2, -999.000,9, -999.000,9, -999.000,9,   1.8590,2,    14.54,2,   -999.0,9,   -999.0,9,   -999.0,9,   -999.0,9,   -999.0,9, -999.00,  -999.0,-999.0000,-999.000,  2.5610,-999.000
   31WTTUNES_2,  P16S,   181,  1,     20,     20,2,19910812,1528,-37.0150,-150.5033, 5674,   1847.5,   2.4557,  34.6032,2,  34.6032,2,    155.7,2,    154.6,2,   101.88,2,    34.93,2,     0.01,2,     2.47,2, -999.000,9, -999.000,9, -999.000,9,   1.8770,2,    19.46,2,   -999.0,9,   -999.0,9,   -999.0,9,   -999.0,9,   -999.0,9, -999.00,  -999.0,-999.0000,-999.000,  2.3255,-999.000
   31WTTUNES_2,  P16S,   181,  1,     21,     21,2,19910812,1528,-37.0150,-150.5033, 5674,   2051.8,   2.2790,  34.6253,2,  34.6268,2,    152.3,2,    152.0,2,   110.58,2,    35.28,2,     0.01,2,     2.50,2, -999.000,9, -999.000,9, -999.000,9,   1.8920,2,    21.86,2,   -999.0,9,   -999.0,9,   -999.0,9,   -999.0,9,   -999.0,9, -999.00,  -999.0,-999.0000,-999.000,  2.1339,-999.000
   31WTTUNES_2,  P16S,   181,  1,     22,     22,2,19910812,1528,-37.0150,-150.5033, 5674,   2302.3,   2.1085,  34.6420,2,  34.6431,2,    152.2,2,    152.0,2,   118.11,2,    35.53,2,     0.01,2,     2.50,2, -999.000,9, -999.000,9, -999.000,9,   1.8890,2,    23.39,2,   -999.0,9,   -999.0,9,   -999.0,9,   -999.0,9,   -999.0,9, -999.00,  -999.0,-999.0000,-999.000,  1.9441,-999.000
   31WTTUNES_2,  P16S,   181,  1,     23,     23,2,19910812,1528,-37.0150,-150.5033, 5674,   2554.9,   1.9790,  34.6522,2,  34.6526,2,    150.3,2,    150.8,2,   124.85,2,    35.68,2,     0.00,2,     2.52,2, -999.000,9, -999.000,9, -999.000,9,   1.9020,2,    24.61,2,   -999.0,9,   -999.0,9,   -999.0,9,   -999.0,9,   -999.0,9, -999.00,  -999.0,-999.0000,-999.000,  1.7941,-999.000
   31WTTUNES_2,  P16S,   181,  1,     24,     24,2,19910812,1528,-37.0150,-150.5033, 5674,   2808.1,   1.8602,  34.6612,2,  34.6624,2,    152.6,2,    152.5,2,   129.35,2,    35.68,2,     0.00,2,     2.52,2, -999.000,9, -999.000,9, -999.000,9,   1.8960,2,    24.71,2,   -999.0,9,   -999.0,9,   -999.0,9,   -999.0,9,   -999.0,9, -999.00,  -999.0,-999.0000,-999.000,  1.6540,-999.000
   31WTTUNES_2,  P16S,   181,  1,     25,     25,2,19910812,1528,-37.0150,-150.5033, 5674,   3051.4,   1.7795,  34.6696,2,  34.6709,2,    155.0,2,    154.4,2,   130.75,2,    35.44,2,     0.00,2,     2.49,2, -999.000,9, -999.000,9, -999.000,9,   1.9040,2,    23.32,2,   -999.0,9,   -999.0,9,   -999.0,9,   -999.0,9,   -999.0,9, -999.00,  -999.0,-999.0000,-999.000,  1.5516,-999.000
   31WTTUNES_2,  P16S,   181,  1,     26,     26,2,19910812,1528,-37.0150,-150.5033, 5674,   3308.9,   1.6990,  34.6792,2,  34.6801,2,    161.8,2,    161.2,2,   129.25,2,    34.89,2,     0.00,2,     2.45,2, -999.000,9, -999.000,9, -999.000,9,   1.8940,2,    21.05,2,   -999.0,9,   -999.0,9,   -999.0,9,   -999.0,9,   -999.0,9, -999.00,  -999.0,-999.0000,-999.000,  1.4473,-999.000
   31WTTUNES_2,  P16S,   181,  1,     27,     27,2,19910812,1528,-37.0150,-150.5033, 5674,   3574.0,   1.6216,  34.6905,2,  34.6921,2,    168.8,2,    171.5,2,   124.85,2,    33.96,2,     0.00,2,     2.39,2, -999.000,9, -999.000,9, -999.000,9,   1.8890,2,    17.91,2,   -999.0,9,   -999.0,9,   -999.0,9,   -999.0,9,   -999.0,9, -999.00,  -999.0,-999.0000,-999.000,  1.3447,-999.000
   31WTTUNES_2,  P16S,   181,  1,     28,     28,2,19910812,1528,-37.0150,-150.5033, 5674,   3817.6,   1.5496,  34.7019,2,  34.7037,2,    178.7,2,    181.9,2,   118.83,2,    33.12,2,     0.00,2,     2.32,2, -999.000,9, -999.000,9, -999.000,9,   1.8770,2,    14.80,2,   -999.0,9,   -999.0,9,   -999.0,9,   -999.0,9,   -999.0,9, -999.00,  -999.0,-999.0000,-999.000,  1.2489,-999.000
   31WTTUNES_2,  P16S,   181,  1,     29,     29,2,19910812,1528,-37.0150,-150.5033, 5674,   4057.5,   1.4485,  34.7127,2,  34.7145,2,    190.8,2,    193.1,2,   114.08,2,    32.25,2,     0.00,2,     2.25,2, -999.000,9, -999.000,9, -999.000,9,   1.8720,2,    11.63,2,   -999.0,9,   -999.0,9,   -999.0,9,   -999.0,9,   -999.0,9, -999.00,  -999.0,-999.0000,-999.000,  1.1246,-999.000
   31WTTUNES_2,  P16S,   181,  1,     30,     30,2,19910812,1528,-37.0150,-150.5033, 5674,   4298.2,   1.3060,  34.7117,2,  34.7140,2,    198.4,2,    198.4,2,   116.48,2,    32.15,2,     0.00,2,     2.24,2, -999.000,9, -999.000,9, -999.000,9,   1.8710,2,    10.50,2,   -999.0,9,   -999.0,9,   -999.0,9,   -999.0,9,   -999.0,9, -999.00,  -999.0,-999.0000,-999.000,  0.9597,-999.000
   31WTTUNES_2,  P16S,   181,  1,     31,     31,2,19910812,1528,-37.0150,-150.5033, 5674,   4564.5,   1.2133,  34.7097,2,  34.7122,2,    200.1,2,    201.4,2,   118.48,2,    32.15,2,     0.00,2,     2.23,2, -999.000,9, -999.000,9, -999.000,9,   1.8700,2,    10.28,2,   -999.0,9,   -999.0,9,   -999.0,9,   -999.0,9,   -999.0,9, -999.00,  -999.0,-999.0000,-999.000,  0.8397,-999.000
   31WTTUNES_2,  P16S,   181,  1,     32,     32,2,19910812,1528,-37.0150,-150.5033, 5674,   4818.4,   1.1636,  34.7090,2,  34.7106,2,    202.7,2,    202.9,2,   120.28,2,    32.20,2,     0.00,2,     2.23,2, -999.000,9, -999.000,9, -999.000,9,   1.8730,2,     9.74,2,   -999.0,9,   -999.0,9,   -999.0,9,   -999.0,9,   -999.0,9, -999.00,  -999.0,-999.0000,-999.000,  0.7622,-999.000
   31WTTUNES_2,  P16S,   181,  1,     33,     33,2,19910812,1528,-37.0150,-150.5033, 5674,   5081.5,   1.1400,  34.7068,2,  34.7095,2,    204.0,2,    204.6,2,   121.66,2,    32.20,2,     0.00,2,     2.23,2, -999.000,9, -999.000,9, -999.000,9,   1.8740,2,     9.25,2,   -999.0,9,   -999.0,9,   -999.0,9,   -999.0,9,   -999.0,9, -999.00,  -999.0,-999.0000,-999.000,  0.7081,-999.000
   31WTTUNES_2,  P16S,   181,  1,     34,     34,2,19910812,1528,-37.0150,-150.5033, 5674,   5332.7,   1.1335,  34.7057,2,  34.7083,2,    205.4,2,    205.3,2,   122.02,2,    32.21,2,     0.00,2,     2.23,2, -999.000,9, -999.000,9, -999.000,9,   1.8730,2,     9.21,2,   -999.0,9,   -999.0,9,   -999.0,9,   -999.0,9,   -999.0,9, -999.00,  -999.0,-999.0000,-999.000,  0.6711,-999.000
   31WTTUNES_2,  P16S,   181,  1,     35,     35,2,19910812,1528,-37.0150,-150.5033, 5674,   5598.5,   1.1500,  34.7081,2,  34.7085,2,    206.5,2,    206.5,2,   122.18,2,    32.16,2,     0.00,2,     2.22,2,    0.000,2,    0.007,2, -999.000,9,   1.8720,2,     9.03,2,   -999.0,9,   -999.0,9,   -999.0,9,   -999.0,9,   -999.0,9, -999.00,  -999.0,-999.0000,-999.000,  0.6536,-999.000
   31WTTUNES_2,  P16S,   181,  1,     38,     38,2,19910812,1528,-37.0150,-150.5033, 5674,   5802.9,   1.1749,  34.7083,2,  34.7075,2,    206.3,2,    206.2,2,   122.75,2,    32.11,2,     0.00,2,     2.23,2,    0.004,2,    0.040,2, -999.000,9,   1.8830,2,     8.64,2,   -999.0,9,   -999.0,9,   -999.0,9,   -999.0,9,   -999.0,9, -999.00,  -999.0,-999.0000,-999.000,  0.6514,-999.000