BOTTLE,20131125MIRCJHATS
EXPOCODE,SECT_ID,STNNBR,CASTNO,SAMPNO,BTLNBR,BTLNBR_FLAG_W,DATE,TIME,LATITUDE,LONGITUDE,DEPTH,CTDPRS,CTDTMP,CTDSAL,CTDSAL_FLAG_W,SALNTY,SALNTY_FLAG_W,CTDOXY,CTDOXY_FLAG_W,OXYGEN,OXYGEN_FLAG_W,SILCAT,SILCAT_FLAG_W,NITRAT,NITRAT_FLAG_W,NITRIT,NITRIT_FLAG_W,PHSPHT,PHSPHT_FLAG_W,CFC-11,CFC-11_FLAG_W,CFC-12,CFC-12_FLAG_W,TRITUM,TRITUM_FLAG_W,HELIUM,HELIUM_FLAG_W,DELHE3,DELHE3_FLAG_W,DELC14,DELC14_FLAG_W,DELC13,DELC13_FLAG_W,TCARBN,TCARBN_FLAG_W,PCO2,PCO2_FLAG_W,ALKALI,ALKALI_FLAG_W,PCO2TMP,C14ERR,HELIER,DELHER,THETA,TRITER
,,,,,,,,,,,,DBAR,ITS-90,PSS-78,,PSS-78,,UMOL/KG,,UMOL/KG,,UMOL/KG,,UMOL/KG,,UMOL/KG,,UMOL/KG,,PMOL/KG,,PMOL/KG,,TU,,NMOL/KG,,PERCNT,,/MILLE,,/MILLE,,UMOL/KG,,UATM,,UMOL/KG,,DEG C,/MILLE,NMOL/KG,PERCNT,DEG C,TU
   31WTTUNES_2,  P17S,   169,  1,     61,     61,2,19910805,0031,-28.1017,-133.6800, 4193,      2.8,  19.5907,  35.5422,2,  35.5437,2,    225.0,3,    227.0,2,     1.53,2,     0.05,2,     0.00,2,     0.08,2,    2.278,2,    1.192,2, -999.000,9,-999.0000,9,  -999.00,9,    126.2,2,      1.4,2,   2012.6,2,    304.5,2,   -999.0,9,   20.00,     3.0,-999.0000,-999.000, 19.5902,-999.000
   31WTTUNES_2,  P17S,   169,  1,      2,      2,2,19910805,0031,-28.1017,-133.6800, 4193,     24.8,  19.4037,  35.5178,2,  35.5247,2,    228.6,3,    227.7,2,     1.52,2,     0.05,2,     0.00,2,     0.08,2, -999.000,9, -999.000,9, -999.000,9,-999.0000,9,  -999.00,9,   -999.0,9,   -999.0,9,   -999.0,9,   -999.0,9,   -999.0,9, -999.00,  -999.0,-999.0000,-999.000, 19.3992,-999.000
   31WTTUNES_2,  P17S,   169,  1,      3,      3,2,19910805,0031,-28.1017,-133.6800, 4193,     54.6,  18.8530,  35.4130,2,  35.4131,2,    232.2,2,    230.1,2,     1.52,2,     0.05,2,     0.00,2,     0.09,2, -999.000,9, -999.000,9, -999.000,9,-999.0000,9,  -999.00,9,   -999.0,9,   -999.0,9,   -999.0,9,   -999.0,9,   -999.0,9, -999.00,  -999.0,-999.0000,-999.000, 18.8433,-999.000
   31WTTUNES_2,  P17S,   169,  1,      4,      4,2,19910805,0031,-28.1017,-133.6800, 4193,     80.6,  18.9256,  35.4647,2,  35.4668,2,    230.9,2,    229.6,2,     1.52,2,     0.05,2,     0.00,2,     0.08,2,    2.356,2,    1.212,2, -999.000,9,-999.0000,9,  -999.00,9,   -999.0,9,   -999.0,9,   -999.0,9,   -999.0,9,   -999.0,9, -999.00,  -999.0,-999.0000,-999.000, 18.9113,-999.000
   31WTTUNES_2,  P17S,   169,  1,      5,      5,2,19910805,0031,-28.1017,-133.6800, 4193,    106.6,  18.8588,  35.4620,2,  35.4449,2,    234.2,2,    226.5,2,     1.12,2,     0.05,2,     0.00,2,     0.10,2, -999.000,9, -999.000,9, -999.000,9,-999.0000,9,  -999.00,9,    130.6,2,      1.2,2,   -999.0,9,   -999.0,9,   -999.0,9, -999.00,     3.0,-999.0000,-999.000, 18.8399,-999.000
   31WTTUNES_2,  P17S,   169,  1,      6,      6,2,19910805,0031,-28.1017,-133.6800, 4193,    142.8,  17.7804,  35.3938,2,  35.3806,2,    214.0,2,    214.6,2,     1.12,2,     0.77,2,     0.03,2,     0.20,2, -999.000,9, -999.000,9, -999.000,9,-999.0000,9,  -999.00,9,    121.6,2,      1.1,2,   -999.0,9,   -999.0,9,   -999.0,9, -999.00,     2.9,-999.0000,-999.000, 17.7561,-999.000
   31WTTUNES_2,  P17S,   169,  1,      7,      7,2,19910805,0031,-28.1017,-133.6800, 4193,    177.8,  16.9433,  35.3635,2,  35.3609,2,    199.7,2,    202.4,2,     1.50,2,     2.78,2,     0.01,2,     0.33,2, -999.000,9, -999.000,9, -999.000,9,-999.0000,9,  -999.00,9,    125.6,2,      1.3,2,   -999.0,9,   -999.0,9,   -999.0,9, -999.00,     3.1,-999.0000,-999.000, 16.9140,-999.000
   31WTTUNES_2,  P17S,   169,  1,     68,     68,2,19910805,0031,-28.1017,-133.6800, 4193,    220.0,  15.9553,  35.2868,2,  35.2813,2,    198.5,2,    196.4,2,     1.50,2,     4.75,2,     0.00,2,     0.47,2,    1.875,2,    0.959,2, -999.000,9,-999.0000,9,  -999.00,9,    112.4,2,      1.2,2,   -999.0,9,   -999.0,9,   -999.0,9, -999.00,     3.7,-999.0000,-999.000, 15.9204,-999.000
   31WTTUNES_2,  P17S,   169,  1,     69,     69,2,19910805,0031,-28.1017,-133.6800, 4193,    260.8,  14.8508,  35.1773,2,  35.1661,2,    195.5,2,    194.2,2,     1.69,2,     6.99,2,     0.00,2,     0.60,2,    1.742,2,    0.884,2, -999.000,9,-999.0000,9,  -999.00,9,    107.2,2,      1.2,2,   -999.0,9,   -999.0,9,   -999.0,9, -999.00,     4.2,-999.0000,-999.000, 14.8114,-999.000
   31WTTUNES_2,  P17S,   169,  1,     70,     70,2,19910805,0031,-28.1017,-133.6800, 4193,    337.2,  12.0855,  34.8470,2,  34.8443,2,    197.7,2,    196.1,2,     3.25,2,    12.05,2,     0.00,2,     0.91,2,    1.435,2,    0.730,2, -999.000,9,-999.0000,9,  -999.00,9,     71.8,2,      1.3,2,   -999.0,9,   -999.0,9,   -999.0,9, -999.00,     2.9,-999.0000,-999.000, 12.0412,-999.000
   31WTTUNES_2,  P17S,   169,  1,     11,     11,2,19910805,0031,-28.1017,-133.6800, 4193,    413.5,   9.2863,  34.5689,2,  34.5644,2,    207.1,2,    206.3,2,     5.39,2,    17.73,2,     0.00,2,     1.27,2,    1.159,2,    0.583,2, -999.000,9,-999.0000,9,  -999.00,9,     39.2,2,      1.2,2,   -999.0,9,   -999.0,9,   -999.0,9, -999.00,     3.7,-999.0000,-999.000,  9.2402,-999.000
   31WTTUNES_2,  P17S,   169,  1,     12,     12,2,19910805,0031,-28.1017,-133.6800, 4193,    489.6,   7.7832,  34.4322,2,  34.4323,2,    219.3,2,    222.5,2,     6.75,2,    20.78,2,     0.00,2,     1.46,2,    1.146,2,    0.584,2, -999.000,9,-999.0000,9,  -999.00,9,     21.1,2,      1.3,2,   -999.0,9,   -999.0,9,   -999.0,9, -999.00,     3.8,-999.0000,-999.000,  7.7339,-999.000
   31WTTUNES_2,  P17S,   169,  1,     13,     13,2,19910805,0031,-28.1017,-133.6800, 4193,    566.0,   6.8352,  34.3735,2,  34.3691,2,    233.1,2,    235.4,2,     7.92,2,    22.35,2,     0.00,2,     1.56,2,    1.024,2,    0.515,2, -999.000,9,-999.0000,9,  -999.00,9,      0.6,2,      1.3,2,   -999.0,9,   -999.0,9,   -999.0,9, -999.00,     2.9,-999.0000,-999.000,  6.7820,-999.000
   31WTTUNES_2,  P17S,   169,  1,     37,     37,2,19910805,0031,-28.1017,-133.6800, 4193,    668.9,   6.0871,  34.3222,2,  34.3220,2,    235.6,2,    236.4,2,    10.65,2,    24.24,2,     0.00,2,     1.68,2,    0.546,2,    0.303,2, -999.000,9,-999.0000,9,  -999.00,9,    -28.2,2,      1.3,2,   -999.0,9,   -999.0,9,   -999.0,9, -999.00,     2.7,-999.0000,-999.000,  6.0277,-999.000
   31WTTUNES_2,  P17S,   169,  1,     15,     15,2,19910805,0031,-28.1017,-133.6800, 4193,    771.7,   5.5167,  34.2967,2,  34.2958,2,    225.5,2,    226.9,2,    15.13,2,    26.48,2,     0.00,2,     1.83,2,    0.277,2,    0.161,2, -999.000,9,-999.0000,9,  -999.00,9,    -57.2,2,      1.3,2,   -999.0,9,   -999.0,9,   -999.0,9, -999.00,     3.4,-999.0000,-999.000,  5.4509,-999.000
   31WTTUNES_2,  P17S,   169,  1,     16,     16,2,19910805,0031,-28.1017,-133.6800, 4193,    873.3,   4.9442,  34.2999,2,  34.3001,2,    212.5,2,    209.7,2,    23.13,2,    29.14,2,     0.00,2,     2.03,2,    0.113,2,    0.076,2, -999.000,9,-999.0000,9,  -999.00,9,    -80.4,2,      1.0,2,   -999.0,9,   -999.0,9,   -999.0,9, -999.00,     2.6,-999.0000,-999.000,  4.8729,-999.000
   31WTTUNES_2,  P17S,   169,  1,     17,     17,2,19910805,0031,-28.1017,-133.6800, 4193,    976.0,   4.4272,  34.3270,2,  34.3282,2,    194.3,2,    196.3,2,    33.09,2,    31.39,2,     0.00,2,     2.18,2,    0.047,2,    0.033,2, -999.000,9,-999.0000,9,  -999.00,9,   -104.7,2,      0.8,2,   -999.0,9,   -999.0,9,   -999.0,9, -999.00,     2.9,-999.0000,-999.000,  4.3506,-999.000
   31WTTUNES_2,  P17S,   169,  1,     18,     18,2,19910805,0031,-28.1017,-133.6800, 4193,   1027.2,   4.2292,  34.3428,2,  34.3439,2,    187.3,2,    187.6,2,    37.77,2,    32.06,2,     0.00,2,     2.23,2,    0.032,2,    0.026,2, -999.000,9,-999.0000,9,  -999.00,9,   -101.3,3,      0.8,2,   -999.0,9,   -999.0,9,   -999.0,9, -999.00,     2.7,-999.0000,-999.000,  4.1498,-999.000
   31WTTUNES_2,  P17S,   169,  1,     19,     19,2,19910805,0031,-28.1017,-133.6800, 4193,   1079.0,   3.9503,  34.3703,2,  34.3706,2,    179.9,2,    179.4,2,    45.00,2,    33.04,2,     0.00,2,     2.30,2,    0.016,2,    0.015,2, -999.000,9,-999.0000,9,  -999.00,9,   -131.2,2,      0.7,2,   -999.0,9,   -999.0,9,   -999.0,9, -999.00,     2.6,-999.0000,-999.000,  3.8686,-999.000
   31WTTUNES_2,  P17S,   169,  1,     20,     20,2,19910805,0031,-28.1017,-133.6800, 4193,   1131.0,   3.6339,  34.4037,2,  34.4026,2,    175.7,2,    173.6,2,    52.62,2,    33.71,2,     0.00,2,     2.36,2,    0.009,2,    0.010,2, -999.000,9,-999.0000,9,  -999.00,9,   -999.0,9,   -999.0,9,   -999.0,9,   -999.0,9,   -999.0,9, -999.00,  -999.0,-999.0000,-999.000,  3.5506,-999.000
   31WTTUNES_2,  P17S,   169,  1,     21,     21,2,19910805,0031,-28.1017,-133.6800, 4193,   1183.1,   3.3922,  34.4339,2,  34.4340,2,    169.4,2,    170.3,2,    60.26,2,    34.13,2,     0.00,2,     2.39,2,    0.005,2,    0.007,7, -999.000,9,-999.0000,9,  -999.00,9,   -999.0,9,   -999.0,9,   -999.0,9,   -999.0,9,   -999.0,9, -999.00,  -999.0,-999.0000,-999.000,  3.3067,-999.000
   31WTTUNES_2,  P17S,   169,  1,     22,     22,2,19910805,0031,-28.1017,-133.6800, 4193,   1337.0,   2.9406,  34.5010,2,  34.5005,2,    159.6,2,    163.6,2,    76.18,2,    34.49,2,     0.00,2,     2.42,2,    0.001,8,    0.000,2, -999.000,9,-999.0000,9,  -999.00,9,   -999.0,9,   -999.0,9,   -999.0,9,   -999.0,9,   -999.0,9, -999.00,  -999.0,-999.0000,-999.000,  2.8469,-999.000
   31WTTUNES_2,  P17S,   169,  1,     23,     23,2,19910805,0031,-28.1017,-133.6800, 4193,   1543.3,   2.5792,  34.5612,2,  34.5610,2,    157.1,2,    158.2,2,    92.40,2,    34.75,2,     0.00,2,     2.45,2, -999.000,9, -999.000,9, -999.000,9,-999.0000,9,  -999.00,9,   -999.0,9,   -999.0,9,   -999.0,9,   -999.0,9,   -999.0,9, -999.00,  -999.0,-999.0000,-999.000,  2.4727,-999.000
   31WTTUNES_2,  P17S,   169,  1,     24,     24,2,19910805,0031,-28.1017,-133.6800, 4193,   1749.2,   2.3053,  34.6024,2,  34.6039,2,    155.4,2,    154.6,2,   106.37,2,    35.12,2,     0.00,2,     2.48,2, -999.000,9, -999.000,9, -999.000,9,-999.0000,9,  -999.00,9,   -999.0,9,   -999.0,9,   -999.0,9,   -999.0,9,   -999.0,9, -999.00,  -999.0,-999.0000,-999.000,  2.1854,-999.000
   31WTTUNES_2,  P17S,   169,  1,     25,     25,2,19910805,0031,-28.1017,-133.6800, 4193,   1952.9,   2.1236,  34.6263,2,  34.6257,2,    153.8,2,    152.7,2,   115.22,2,    35.27,2,     0.00,2,     2.50,2, -999.000,9, -999.000,9, -999.000,9,-999.0000,9,  -999.00,9,   -999.0,9,   -999.0,9,   -999.0,9,   -999.0,9,   -999.0,9, -999.00,  -999.0,-999.0000,-999.000,  1.9892,-999.000
   31WTTUNES_2,  P17S,   169,  1,     26,     26,2,19910805,0031,-28.1017,-133.6800, 4193,   2154.9,   1.9977,  34.6409,2,  34.6404,2,    152.4,2,    152.6,2,   120.89,2,    35.27,2,     0.00,2,     2.50,2, -999.000,9, -999.000,9, -999.000,9,-999.0000,9,  -999.00,9,   -999.0,9,   -999.0,9,   -999.0,9,   -999.0,9,   -999.0,9, -999.00,  -999.0,-999.0000,-999.000,  1.8481,-999.000
   31WTTUNES_2,  P17S,   169,  1,     27,     27,2,19910805,0031,-28.1017,-133.6800, 4193,   2420.7,   1.8808,  34.6529,2,  34.6524,2,    152.1,2,    154.5,2,   124.54,2,    35.07,2,     0.00,2,     2.49,2, -999.000,9, -999.000,9, -999.000,9,-999.0000,9,  -999.00,9,   -999.0,9,   -999.0,9,   -999.0,9,   -999.0,9,   -999.0,9, -999.00,  -999.0,-999.0000,-999.000,  1.7099,-999.000
   31WTTUNES_2,  P17S,   169,  1,     28,     28,2,19910805,0031,-28.1017,-133.6800, 4193,   2677.5,   1.7816,  34.6629,2,  34.6613,2,    157.5,2,    157.2,2,   126.58,2,    35.12,2,     0.00,2,     2.48,2, -999.000,9, -999.000,9, -999.000,9,-999.0000,9,  -999.00,9,   -999.0,9,   -999.0,9,   -999.0,9,   -999.0,9,   -999.0,9, -999.00,  -999.0,-999.0000,-999.000,  1.5892,-999.000
   31WTTUNES_2,  P17S,   169,  1,     29,     29,2,19910805,0031,-28.1017,-133.6800, 4193,   2880.2,   1.7158,  34.6690,2,  34.6684,2,    160.5,2,    160.5,2,   127.60,2,    34.81,2,     0.00,2,     2.46,2, -999.000,9, -999.000,9, -999.000,9,-999.0000,9,  -999.00,9,   -999.0,9,   -999.0,9,   -999.0,9,   -999.0,9,   -999.0,9, -999.00,  -999.0,-999.0000,-999.000,  1.5057,-999.000
   31WTTUNES_2,  P17S,   169,  1,     30,     30,2,19910805,0031,-28.1017,-133.6800, 4193,   3083.4,   1.6512,  34.6747,2,  34.6745,2,    163.2,2,    165.1,2,   126.98,2,    34.45,2,     0.00,2,     2.42,2, -999.000,9, -999.000,9, -999.000,9,-999.0000,9,  -999.00,9,   -219.7,2,      0.2,2,   -999.0,9,   -999.0,9,   -999.0,9, -999.00,     3.4,-999.0000,-999.000,  1.4230,-999.000
   31WTTUNES_2,  P17S,   169,  1,     31,     31,2,19910805,0031,-28.1017,-133.6800, 4193,   3292.9,   1.5958,  34.6797,2,  34.6784,2,    169.3,2,    168.7,2,   126.16,2,    34.25,2,     0.00,2,     2.41,2, -999.000,9, -999.000,9, -999.000,9,-999.0000,9,  -999.00,9,   -999.0,9,   -999.0,9,   -999.0,9,   -999.0,9,   -999.0,9, -999.00,  -999.0,-999.0000,-999.000,  1.3482,-999.000
   31WTTUNES_2,  P17S,   169,  1,     32,     32,2,19910805,0031,-28.1017,-133.6800, 4193,   3504.1,   1.5527,  34.6840,2,  34.6827,2,    172.1,2,    172.5,2,   125.95,2,    34.04,2,     0.00,2,     2.39,2, -999.000,9, -999.000,9, -999.000,9,-999.0000,9,  -999.00,9,   -209.2,2,      0.2,2,   -999.0,9,   -999.0,9,   -999.0,9, -999.00,     2.1,-999.0000,-999.000,  1.2848,-999.000
   31WTTUNES_2,  P17S,   169,  1,     33,     33,2,19910805,0031,-28.1017,-133.6800, 4193,   3715.5,   1.5154,  34.6886,2,  34.6869,2,    176.3,2,    175.9,2,   125.54,2,    33.78,2,     0.00,2,     2.36,2, -999.000,9, -999.000,9, -999.000,9,-999.0000,9,  -999.00,9,   -999.0,9,   -999.0,9,   -999.0,9,   -999.0,9,   -999.0,9, -999.00,  -999.0,-999.0000,-999.000,  1.2265,-999.000
   31WTTUNES_2,  P17S,   169,  1,     34,     34,2,19910805,0031,-28.1017,-133.6800, 4193,   3925.0,   1.5079,  34.6909,2,  34.6900,2,    178.0,2,    178.0,2,   124.72,2,    33.63,2,     0.00,2,     2.35,2, -999.000,9, -999.000,9, -999.000,9,-999.0000,9,  -999.00,9,   -201.4,2,      0.2,2,   -999.0,9,   -999.0,9,   -999.0,9, -999.00,     2.2,-999.0000,-999.000,  1.1969,-999.000
   31WTTUNES_2,  P17S,   169,  1,     35,     35,2,19910805,0031,-28.1017,-133.6800, 4193,   4133.1,   1.5168,  34.6915,2,  34.6908,2,    178.7,2,    178.9,2,   124.51,2,    33.58,2,     0.00,2,     2.35,2, -999.000,9, -999.000,9, -999.000,9,-999.0000,9,  -999.00,9,   -999.0,9,   -999.0,9,   -999.0,9,   -999.0,9,   -999.0,9, -999.00,  -999.0,-999.0000,-999.000,  1.1828,-999.000
   31WTTUNES_2,  P17S,   169,  1,     38,     38,2,19910805,0031,-28.1017,-133.6800, 4193,   4252.5,   1.5180,  34.6924,2,  34.6922,2,    180.4,2,    179.7,2,   124.50,2,    33.63,2,     0.00,2,     2.35,2,    0.003,2,    0.000,2, -999.000,9,-999.0000,9,  -999.00,9,   -197.8,2,      0.3,2,   -999.0,9,   -999.0,9,   -999.0,9, -999.00,     2.1,-999.0000,-999.000,  1.1706,-999.000