BOTTLE,20131125MIRCJHATS
EXPOCODE,SECT_ID,STNNBR,CASTNO,SAMPNO,BTLNBR,BTLNBR_FLAG_W,DATE,TIME,LATITUDE,LONGITUDE,DEPTH,CTDPRS,CTDTMP,CTDSAL,CTDSAL_FLAG_W,SALNTY,SALNTY_FLAG_W,CTDOXY,CTDOXY_FLAG_W,OXYGEN,OXYGEN_FLAG_W,SILCAT,SILCAT_FLAG_W,NITRAT,NITRAT_FLAG_W,NITRIT,NITRIT_FLAG_W,PHSPHT,PHSPHT_FLAG_W,CFC-11,CFC-11_FLAG_W,CFC-12,CFC-12_FLAG_W,TRITUM,TRITUM_FLAG_W,HELIUM,HELIUM_FLAG_W,DELHE3,DELHE3_FLAG_W,DELC14,DELC14_FLAG_W,DELC13,DELC13_FLAG_W,TCARBN,TCARBN_FLAG_W,PCO2,PCO2_FLAG_W,ALKALI,ALKALI_FLAG_W,PCO2TMP,C14ERR,HELIER,DELHER,THETA,TRITER
,,,,,,,,,,,,DBAR,ITS-90,PSS-78,,PSS-78,,UMOL/KG,,UMOL/KG,,UMOL/KG,,UMOL/KG,,UMOL/KG,,UMOL/KG,,PMOL/KG,,PMOL/KG,,TU,,NMOL/KG,,PERCNT,,/MILLE,,/MILLE,,UMOL/KG,,UATM,,UMOL/KG,,DEG C,/MILLE,NMOL/KG,PERCNT,DEG C,TU
   31WTTUNES_2,  P16S,   220,  1,     61,     61,2,19910825,0804,-17.5133,-150.5033, 3573,      1.3,  26.4626,  36.1145,2,  36.1157,2,    199.5,3,    202.4,2,     1.17,2,     0.20,2,     0.00,2,     0.19,2, -999.000,9, -999.000,9, -999.000,9,-999.0000,9,  -999.00,9,   -999.0,9,   -999.0,9,   2001.0,2,    245.0,2,   -999.0,9,   20.00,  -999.0,-999.0000,-999.000, 26.4623,-999.000
   31WTTUNES_2,  P16S,   220,  1,     62,     62,2,19910825,0804,-17.5133,-150.5033, 3573,     31.7,  26.3966,  36.1059,2,  36.1098,2,    200.9,6,    202.3,2,     1.17,2,     0.10,2,     0.00,2,     0.19,2,    1.634,2,    0.931,2, -999.000,9,-999.0000,9,  -999.00,9,   -999.0,9,   -999.0,9,   -999.0,5,   -999.0,5,   -999.0,9, -999.00,  -999.0,-999.0000,-999.000, 26.3895,-999.000
   31WTTUNES_2,  P16S,   220,  1,      3,      3,2,19910825,0804,-17.5133,-150.5033, 3573,     66.6,  26.3506,  36.1019,2,  36.1019,2,    200.9,2,    201.9,2,     0.98,2,     0.10,2,     0.00,2,     0.19,2, -999.000,9, -999.000,9, -999.000,9,-999.0000,9,  -999.00,9,   -999.0,9,   -999.0,9,   -999.0,5,   -999.0,5,   -999.0,9, -999.00,  -999.0,-999.0000,-999.000, 26.3356,-999.000
   31WTTUNES_2,  P16S,   220,  1,     64,     64,2,19910825,0804,-17.5133,-150.5033, 3573,    102.9,  25.4334,  36.0202,2,  36.0230,2,    206.1,2,    204.0,2,     0.98,2,     0.10,2,     0.00,2,     0.16,2,    1.753,2,    0.953,2, -999.000,9,-999.0000,9,  -999.00,9,   -999.0,9,   -999.0,9,   2001.5,2,    245.7,2,   -999.0,9,   20.00,  -999.0,-999.0000,-999.000, 25.4107,-999.000
   31WTTUNES_2,  P16S,   220,  1,      5,      5,2,19910825,0804,-17.5133,-150.5033, 3573,    123.2,  24.9843,  36.0856,2,  36.0953,2,    202.4,2,    190.2,2,     0.98,2,     0.49,2,     0.05,2,     0.24,2, -999.000,9, -999.000,9, -999.000,9,-999.0000,9,  -999.00,9,   -999.0,9,   -999.0,9,   -999.0,5,   -999.0,5,   -999.0,9, -999.00,  -999.0,-999.0000,-999.000, 24.9575,-999.000
   31WTTUNES_2,  P16S,   220,  1,      6,      6,2,19910825,0804,-17.5133,-150.5033, 3573,    142.9,  23.3730,  36.0617,2,  36.0767,2,    186.4,2,    176.0,2,     0.98,2,     1.86,2,     0.04,2,     0.36,2,    1.665,2,    0.917,2, -999.000,9,-999.0000,9,  -999.00,9,   -999.0,9,   -999.0,9,   2058.5,2,    330.2,2,   -999.0,9,   20.00,  -999.0,-999.0000,-999.000, 23.3433,-999.000
   31WTTUNES_2,  P16S,   220,  1,      7,      7,2,19910825,0804,-17.5133,-150.5033, 3573,    183.3,  21.7808,  35.9649,2,  35.9629,2,    176.2,2,    174.2,2,     0.98,2,     3.12,2,     0.02,2,     0.42,2,    1.715,2,    0.925,2, -999.000,9,-999.0000,9,  -999.00,9,   -999.0,9,   -999.0,9,   -999.0,5,   -999.0,5,   -999.0,9, -999.00,  -999.0,-999.0000,-999.000, 21.7446,-999.000
   31WTTUNES_2,  P16S,   220,  1,     68,     68,2,19910825,0804,-17.5133,-150.5033, 3573,    212.6,  21.0098,  35.9070,2,  35.9067,2,    179.1,2,    173.4,2,     0.88,2,     3.81,2,     0.01,2,     0.46,2,    1.667,2,    0.904,2, -999.000,9,-999.0000,9,  -999.00,9,   -999.0,9,   -999.0,9,   2076.6,2,    362.3,2,   -999.0,9,   20.00,  -999.0,-999.0000,-999.000, 20.9688,-999.000
   31WTTUNES_2,  P16S,   220,  1,     69,     69,2,19910825,0804,-17.5133,-150.5033, 3573,    242.0,  19.2427,  35.6732,2,  35.6711,2,    176.0,2,    173.2,2,     1.17,2,     5.18,2,     0.01,2,     0.56,2,    1.628,2,    0.855,2, -999.000,9,-999.0000,9,  -999.00,9,   -999.0,9,   -999.0,9,   -999.0,5,   -999.0,5,   -999.0,9, -999.00,  -999.0,-999.0000,-999.000, 19.1989,-999.000
   31WTTUNES_2,  P16S,   220,  1,     70,     70,2,19910825,0804,-17.5133,-150.5033, 3573,    303.5,  16.7139,  35.3238,2,  35.3190,2,    173.2,2,    171.3,2,     2.15,2,     7.91,2,     0.01,2,     0.74,2,    1.400,2,    0.755,2, -999.000,9,-999.0000,9,  -999.00,9,   -999.0,9,   -999.0,9,   2094.6,2,    465.0,2,   -999.0,9,   20.00,  -999.0,-999.0000,-999.000, 16.6641,-999.000
   31WTTUNES_2,  P16S,   220,  1,     11,     11,2,19910825,0804,-17.5133,-150.5033, 3573,    364.0,  13.7344,  34.9644,2,  34.9590,2,    160.1,2,    163.8,2,     5.08,2,    13.09,2,     0.01,2,     1.09,2,    1.086,2,    0.579,2, -999.000,9,-999.0000,9,  -999.00,9,   -999.0,9,   -999.0,9,   -999.0,5,   -999.0,5,   -999.0,9, -999.00,  -999.0,-999.0000,-999.000, 13.6821,-999.000
   31WTTUNES_2,  P16S,   220,  1,     12,     12,2,19910825,0804,-17.5133,-150.5033, 3573,    424.8,  10.7212,  34.6714,2,  34.6574,2,    142.0,2,    148.0,2,    10.56,2,    20.62,2,     0.00,2,     1.59,2,    0.622,2,    0.336,2, -999.000,9,-999.0000,9,  -999.00,9,   -999.0,9,   -999.0,9,   2154.1,2,    777.9,2,   -999.0,9,   20.00,  -999.0,-999.0000,-999.000, 10.6693,-999.000
   31WTTUNES_2,  P16S,   220,  1,     37,     37,2,19910825,0804,-17.5133,-150.5033, 3573,    473.9,   8.5341,  34.5081,2,  34.5028,2,    144.5,2,    143.0,2,    16.62,2,    26.30,2,     0.00,2,     1.94,2,    0.309,2,    0.169,2, -999.000,9,-999.0000,9,  -999.00,9,   -999.0,9,   -999.0,9,   -999.0,5,   -999.0,5,   -999.0,9, -999.00,  -999.0,-999.0000,-999.000,  8.4837,-999.000
   31WTTUNES_2,  P16S,   220,  1,     15,     15,2,19910825,0804,-17.5133,-150.5033, 3573,    553.9,   7.1227,  34.4447,2,  34.4431,2,    147.1,2,    150.6,2,    22.97,2,    29.23,2,     0.00,2,     2.10,2,    0.157,2,    0.090,2, -999.000,9,-999.0000,9,  -999.00,9,   -999.0,9,   -999.0,9,   2189.8,2,   1016.0,2,   -999.0,9,   20.00,  -999.0,-999.0000,-999.000,  7.0694,-999.000
   31WTTUNES_2,  P16S,   220,  1,     16,     16,2,19910825,0804,-17.5133,-150.5033, 3573,    622.9,   6.5420,  34.4475,2,  34.4470,2,    147.3,2,    148.4,2,    29.03,2,    30.70,2,     0.00,2,     2.19,2,    0.082,2,    0.050,2, -999.000,9,-999.0000,9,  -999.00,9,   -999.0,9,   -999.0,9,   -999.0,5,   -999.0,5,   -999.0,9, -999.00,  -999.0,-999.0000,-999.000,  6.4845,-999.000
   31WTTUNES_2,  P16S,   220,  1,     17,     17,2,19910825,0804,-17.5133,-150.5033, 3573,    701.5,   5.8233,  34.4361,2,  34.4364,2,    150.4,2,    151.9,2,    35.98,2,    31.97,2,     0.00,2,     2.26,2,    0.044,2,    0.030,2, -999.000,9,-999.0000,9,  -999.00,9,   -999.0,9,   -999.0,9,   2211.0,2,   1054.4,2,   -999.0,9,   20.00,  -999.0,-999.0000,-999.000,  5.7621,-999.000
   31WTTUNES_2,  P16S,   220,  1,     18,     18,2,19910825,0804,-17.5133,-150.5033, 3573,    800.7,   5.2597,  34.4463,2,  34.4462,2,    149.4,2,    149.7,2,    45.16,2,    33.14,2,     0.00,2,     2.34,2,    0.018,2,    0.014,2, -999.000,9,-999.0000,9,  -999.00,9,   -999.0,9,   -999.0,9,   -999.0,5,   -999.0,5,   -999.0,9, -999.00,  -999.0,-999.0000,-999.000,  5.1926,-999.000
   31WTTUNES_2,  P16S,   220,  1,     19,     19,2,19910825,0804,-17.5133,-150.5033, 3573,    904.2,   4.4881,  34.4726,2,  34.4731,2,    146.9,2,    148.1,2,    59.05,2,    34.31,2,     0.00,2,     2.41,2,    0.006,2,    0.008,7, -999.000,9,-999.0000,9,  -999.00,9,   -999.0,9,   -999.0,9,   2241.6,2,   1142.4,2,   -999.0,9,   20.00,  -999.0,-999.0000,-999.000,  4.4170,-999.000
   31WTTUNES_2,  P16S,   220,  1,     20,     20,2,19910825,0804,-17.5133,-150.5033, 3573,   1210.5,   3.4407,  34.5262,2,  34.5263,2,    146.9,2,    145.8,2,    81.43,2,    35.39,2,     0.00,2,     2.48,2, -999.000,9, -999.000,9, -999.000,9,-999.0000,9,  -999.00,9,   -999.0,9,   -999.0,9,   -999.0,5,   -999.0,5,   -999.0,9, -999.00,  -999.0,-999.0000,-999.000,  3.3524,-999.000
   31WTTUNES_2,  P16S,   220,  1,     21,     21,2,19910825,0804,-17.5133,-150.5033, 3573,   1408.1,   2.8771,  34.5674,2,  34.5660,2,    147.3,2,    146.8,2,    95.80,2,    35.58,2,     0.00,2,     2.51,2, -999.000,9, -999.000,9, -999.000,9,   1.8840,6,    23.28,6,   -999.0,9,   -999.0,9,   2280.6,2,   1179.8,2,   -999.0,9,   20.00,  -999.0,-999.0000,-999.000,  2.7782,-999.000
   31WTTUNES_2,  P16S,   220,  1,     22,     22,2,19910825,0804,-17.5133,-150.5033, 3573,   1608.2,   2.5873,  34.5938,2,  34.5921,2,    150.1,2,    147.8,2,   104.30,2,    35.58,2,     0.00,2,     2.51,2, -999.000,9, -999.000,9, -999.000,9,-999.0000,9,  -999.00,9,   -999.0,9,   -999.0,9,   -999.0,5,   -999.0,5,   -999.0,9, -999.00,  -999.0,-999.0000,-999.000,  2.4753,-999.000
   31WTTUNES_2,  P16S,   220,  1,     23,     23,2,19910825,0804,-17.5133,-150.5033, 3573,   1808.7,   2.3874,  34.6103,2,  34.6096,2,    149.3,2,    149.5,2,   111.14,2,    35.58,2,     0.00,2,     2.51,2, -999.000,9, -999.000,9, -999.000,9,   1.9030,6,    26.45,6,   -999.0,9,   -999.0,9,   -999.0,5,   -999.0,5,   -999.0,9, -999.00,  -999.0,-999.0000,-999.000,  2.2614,-999.000
   31WTTUNES_2,  P16S,   220,  1,     24,     24,2,19910825,0804,-17.5133,-150.5033, 3573,   2019.4,   2.1596,  34.6294,2,  34.6294,2,    153.3,2,    152.1,2,   117.69,2,    35.58,2,     0.00,2,     2.50,2, -999.000,9, -999.000,9, -999.000,9,   1.8860,2,    26.53,2,   -999.0,9,   -999.0,9,   2296.7,2,   1165.0,2,   -999.0,9,   20.00,  -999.0,-999.0000,-999.000,  2.0190,-999.000
   31WTTUNES_2,  P16S,   220,  1,     25,     25,2,19910825,0804,-17.5133,-150.5033, 3573,   2226.3,   1.9917,  34.6440,2,  34.6435,2,    154.8,2,    154.2,2,   121.79,2,    35.38,2,     0.00,2,     2.48,2, -999.000,9, -999.000,9, -999.000,9,   1.9060,6,    25.98,6,   -999.0,9,   -999.0,9,   -999.0,5,   -999.0,5,   -999.0,9, -999.00,  -999.0,-999.0000,-999.000,  1.8360,-999.000
   31WTTUNES_2,  P16S,   220,  1,     26,     26,2,19910825,0804,-17.5133,-150.5033, 3573,   2430.9,   1.8827,  34.6544,2,  34.6530,2,    156.2,2,    156.8,2,   123.84,2,    35.19,2,     0.00,2,     2.46,2, -999.000,9, -999.000,9, -999.000,9,   1.9100,6,    25.71,6,   -999.0,9,   -999.0,9,   -999.0,5,   -999.0,5,   -999.0,9, -999.00,  -999.0,-999.0000,-999.000,  1.7108,-999.000
   31WTTUNES_2,  P16S,   220,  1,     27,     27,2,19910825,0804,-17.5133,-150.5033, 3573,   2637.2,   1.7928,  34.6622,2,  34.6598,2,    160.9,2,    159.3,2,   125.60,2,    35.09,2,     0.00,2,     2.45,2, -999.000,9, -999.000,9, -999.000,9,-999.0000,9,  -999.00,9,   -999.0,9,   -999.0,9,   2301.5,2,   1133.7,2,   -999.0,9,   20.00,  -999.0,-999.0000,-999.000,  1.6039,-999.000
   31WTTUNES_2,  P16S,   220,  1,     28,     28,2,19910825,0804,-17.5133,-150.5033, 3573,   2637.3,   1.7938,  34.6611,2,  34.6612,2,    161.0,2,    159.2,2,   124.62,2,    35.09,2,     0.00,2,     2.45,2, -999.000,9, -999.000,9, -999.000,9,   1.9050,6,    25.23,6,   -999.0,9,   -999.0,9,   -999.0,5,   -999.0,5,   -999.0,9, -999.00,  -999.0,-999.0000,-999.000,  1.6049,-999.000
   31WTTUNES_2,  P16S,   220,  1,     29,     29,2,19910825,0804,-17.5133,-150.5033, 3573,   2835.4,   1.7179,  34.6666,2,  34.6665,2,    161.1,2,    162.5,2,   124.82,2,    34.70,2,     0.00,2,     2.42,2, -999.000,9, -999.000,9, -999.000,9,   1.9110,6,    23.88,6,   -999.0,9,   -999.0,9,   -999.0,5,   -999.0,5,   -999.0,9, -999.00,  -999.0,-999.0000,-999.000,  1.5120,-999.000
   31WTTUNES_2,  P16S,   220,  1,     30,     30,2,19910825,0804,-17.5133,-150.5033, 3573,   3038.2,   1.6449,  34.6718,2,  34.6738,2,    167.2,2,    166.7,2,   125.79,2,    34.50,2,     0.00,2,     2.41,2, -999.000,9, -999.000,9, -999.000,9,   1.9020,6,    22.46,6,   -999.0,9,   -999.0,9,   -999.0,5,   -999.0,5,   -999.0,9, -999.00,  -999.0,-999.0000,-999.000,  1.4213,-999.000
   31WTTUNES_2,  P16S,   220,  1,     31,     31,2,19910825,0804,-17.5133,-150.5033, 3573,   3243.1,   1.5769,  34.6782,2,  34.6785,2,    170.1,2,    170.4,2,   127.26,2,    34.31,2,     0.00,2,     2.40,2, -999.000,9, -999.000,9, -999.000,9,   1.9020,6,    21.40,6,   -999.0,9,   -999.0,9,   2295.1,2,   1104.5,2,   -999.0,9,   20.00,  -999.0,-999.0000,-999.000,  1.3348,-999.000
   31WTTUNES_2,  P16S,   220,  1,     33,     33,2,19910825,0804,-17.5133,-150.5033, 3573,   3450.9,   1.5390,  34.6823,2,  34.6828,2,    170.9,2,    173.1,2,   126.77,2,    34.11,2,     0.00,2,     2.38,2, -999.000,9, -999.000,9, -999.000,9,-999.0000,9,  -999.00,9,   -999.0,9,   -999.0,9,   2295.0,2,   1111.8,2,   -999.0,9,   20.00,  -999.0,-999.0000,-999.000,  1.2769,-999.000
   31WTTUNES_2,  P16S,   220,  1,     32,     32,2,19910825,0804,-17.5133,-150.5033, 3573,   3451.1,   1.5400,  34.6824,2,  34.6822,2,    170.9,2,    173.2,2,   127.46,2,    34.11,2,     0.00,2,     2.38,2, -999.000,9, -999.000,9, -999.000,9,   1.8960,6,    20.89,6,   -999.0,9,   -999.0,9,   -999.0,5,   -999.0,5,   -999.0,9, -999.00,  -999.0,-999.0000,-999.000,  1.2778,-999.000
   31WTTUNES_2,  P16S,   220,  1,     38,     38,2,19910825,0804,-17.5133,-150.5033, 3573,   3636.3,   1.5220,  34.6839,2,  34.6848,2,   -999.0,9,    175.1,2,   125.50,2,    34.01,2,     0.00,2,     2.37,2, -999.000,9, -999.000,9, -999.000,9,   1.8990,6,    19.67,6,   -999.0,9,   -999.0,9,   -999.0,5,   -999.0,5,   -999.0,9, -999.00,  -999.0,-999.0000,-999.000,  1.2412,-999.000