BOTTLE,20131125MIRCJHATS
EXPOCODE,SECT_ID,STNNBR,CASTNO,SAMPNO,BTLNBR,BTLNBR_FLAG_W,DATE,TIME,LATITUDE,LONGITUDE,DEPTH,CTDPRS,CTDTMP,CTDSAL,CTDSAL_FLAG_W,SALNTY,SALNTY_FLAG_W,CTDOXY,CTDOXY_FLAG_W,OXYGEN,OXYGEN_FLAG_W,SILCAT,SILCAT_FLAG_W,NITRAT,NITRAT_FLAG_W,NITRIT,NITRIT_FLAG_W,PHSPHT,PHSPHT_FLAG_W,CFC-11,CFC-11_FLAG_W,CFC-12,CFC-12_FLAG_W,TRITUM,TRITUM_FLAG_W,HELIUM,HELIUM_FLAG_W,DELHE3,DELHE3_FLAG_W,DELC14,DELC14_FLAG_W,DELC13,DELC13_FLAG_W,TCARBN,TCARBN_FLAG_W,PCO2,PCO2_FLAG_W,ALKALI,ALKALI_FLAG_W,PCO2TMP,C14ERR,HELIER,DELHER,THETA,TRITER
,,,,,,,,,,,,DBAR,ITS-90,PSS-78,,PSS-78,,UMOL/KG,,UMOL/KG,,UMOL/KG,,UMOL/KG,,UMOL/KG,,UMOL/KG,,PMOL/KG,,PMOL/KG,,TU,,NMOL/KG,,PERCNT,,/MILLE,,/MILLE,,UMOL/KG,,UATM,,UMOL/KG,,DEG C,/MILLE,NMOL/KG,PERCNT,DEG C,TU
   31WTTUNES_2,  P17S,   149,  1,      1,      1,2,19910729,1735,-18.3350,-133.2450, 4098,      0.9,  25.6108,  36.5008,2,  36.5026,2,   -999.0,9,    211.9,2,     1.37,2,     0.00,2,     0.00,2,     0.19,2,    1.726,2,    0.948,2, -999.000,9,-999.0000,9,  -999.00,9,   -999.0,9,   -999.0,9,   2031.1,2,    262.9,2,   -999.0,9,   20.00,  -999.0,-999.0000,-999.000, 25.6106,-999.000
   31WTTUNES_2,  P17S,   149,  1,      2,      2,2,19910729,1735,-18.3350,-133.2450, 4098,     44.7,  25.5818,  36.5018,2,  36.5026,2,    213.2,6,    212.0,2,     1.37,2,     0.00,2,     0.00,2,     0.19,2, -999.000,9, -999.000,9, -999.000,9,-999.0000,9,  -999.00,9,   -999.0,9,   -999.0,9,   -999.0,9,   -999.0,9,   -999.0,9, -999.00,  -999.0,-999.0000,-999.000, 25.5719,-999.000
   31WTTUNES_2,  P17S,   149,  1,      3,      3,2,19910729,1735,-18.3350,-133.2450, 4098,     85.7,  25.5849,  36.5052,2,  36.5052,2,    215.9,2,    211.2,2,     1.37,2,     0.00,2,     0.00,2,     0.19,2, -999.000,9, -999.000,9, -999.000,9,-999.0000,9,  -999.00,9,   -999.0,9,   -999.0,9,   -999.0,9,   -999.0,9,   -999.0,9, -999.00,  -999.0,-999.0000,-999.000, 25.5659,-999.000
   31WTTUNES_2,  P17S,   149,  1,      4,      4,2,19910729,1735,-18.3350,-133.2450, 4098,    116.9,  25.5583,  36.5057,2,  36.5030,2,    214.6,6,    211.3,2,     1.37,2,     0.00,2,     0.00,2,     0.19,2,    1.739,2,    0.943,2, -999.000,9,-999.0000,9,  -999.00,9,   -999.0,9,   -999.0,9,   -999.0,9,   -999.0,9,   -999.0,9, -999.00,  -999.0,-999.0000,-999.000, 25.5324,-999.000
   31WTTUNES_2,  P17S,   149,  1,      5,      5,2,19910729,1735,-18.3350,-133.2450, 4098,    137.3,  24.5750,  36.3244,2,  36.3006,2,    214.5,2,    205.1,2,     1.37,2,     0.00,2,     0.11,2,     0.22,2, -999.000,9, -999.000,9, -999.000,9,-999.0000,9,  -999.00,9,   -999.0,9,   -999.0,9,   -999.0,9,   -999.0,9,   -999.0,9, -999.00,  -999.0,-999.0000,-999.000, 24.5454,-999.000
   31WTTUNES_2,  P17S,   149,  1,      6,      6,2,19910729,1735,-18.3350,-133.2450, 4098,    173.2,  22.8880,  36.2329,2,  36.2302,2,    199.4,2,    198.3,2,     1.37,2,     0.29,2,     0.50,2,     0.27,2, -999.000,9, -999.000,9, -999.000,9,-999.0000,9,  -999.00,9,   -999.0,9,   -999.0,9,   -999.0,9,   -999.0,9,   -999.0,9, -999.00,  -999.0,-999.0000,-999.000, 22.8526,-999.000
   31WTTUNES_2,  P17S,   149,  1,      7,      7,2,19910729,1735,-18.3350,-133.2450, 4098,    208.4,  21.5707,  36.1044,2,  36.0929,2,    192.0,2,    188.6,2,     1.37,2,     2.44,2,     0.02,2,     0.39,2, -999.000,9, -999.000,9, -999.000,9,-999.0000,9,  -999.00,9,   -999.0,9,   -999.0,9,   -999.0,9,   -999.0,9,   -999.0,9, -999.00,  -999.0,-999.0000,-999.000, 21.5298,-999.000
   31WTTUNES_2,  P17S,   149,  1,      8,      8,2,19910729,1735,-18.3350,-133.2450, 4098,    259.2,  18.8498,  35.6131,2,  35.6043,2,    190.4,2,    189.2,2,     1.27,2,     3.22,2,     0.01,2,     0.42,2,    1.819,2,    0.958,2, -999.000,9,-999.0000,9,  -999.00,9,   -999.0,9,   -999.0,9,   -999.0,9,   -999.0,9,   -999.0,9, -999.00,  -999.0,-999.0000,-999.000, 18.8036,-999.000
   31WTTUNES_2,  P17S,   149,  1,      9,      9,2,19910729,1735,-18.3350,-133.2450, 4098,    310.6,  16.3810,  35.2350,2,  35.2382,2,    185.8,2,    184.8,2,     1.86,2,     5.76,2,     0.00,2,     0.59,2,    1.672,2,    0.872,2, -999.000,9,-999.0000,9,  -999.00,9,   -999.0,9,   -999.0,9,   -999.0,9,   -999.0,9,   -999.0,9, -999.00,  -999.0,-999.0000,-999.000, 16.3308,-999.000
   31WTTUNES_2,  P17S,   149,  1,     10,     10,2,19910729,1735,-18.3350,-133.2450, 4098,    362.1,  13.0290,  34.8154,2,  34.8233,2,    176.7,2,    174.2,2,     4.59,2,    12.12,2,     0.00,2,     1.02,2,    1.184,2,    0.624,2, -999.000,9,-999.0000,9,  -999.00,9,   -999.0,9,   -999.0,9,   -999.0,9,   -999.0,9,   -999.0,9, -999.00,  -999.0,-999.0000,-999.000, 12.9789,-999.000
   31WTTUNES_2,  P17S,   149,  1,     11,     11,2,19910729,1735,-18.3350,-133.2450, 4098,    412.5,  10.1811,  34.5432,2,  34.5540,2,    154.4,2,    158.2,2,     8.99,2,    19.65,2,     0.00,2,     1.87,2,    0.726,2,    0.392,2, -999.000,9,-999.0000,9,  -999.00,9,   -999.0,9,   -999.0,9,   -999.0,9,   -999.0,9,   -999.0,9, -999.00,  -999.0,-999.0000,-999.000, 10.1324,-999.000
   31WTTUNES_2,  P17S,   149,  1,     12,     12,2,19910729,1735,-18.3350,-133.2450, 4098,    463.4,   8.2687,  34.4248,2,  34.4241,2,    154.7,2,    157.5,2,    12.22,2,    25.22,2,     0.00,2,     1.99,2,    0.320,2,    0.249,2, -999.000,9,-999.0000,9,  -999.00,9,   -999.0,9,   -999.0,9,   -999.0,9,   -999.0,9,   -999.0,9, -999.00,  -999.0,-999.0000,-999.000,  8.2205,-999.000
   31WTTUNES_2,  P17S,   149,  1,     13,     13,2,19910729,1735,-18.3350,-133.2450, 4098,    514.5,   6.7753,  34.3569,2,  34.3642,2,    159.8,2,    172.7,2,    14.76,2,    28.06,2,     0.00,2,     1.99,2,    0.259,2,    0.158,2, -999.000,9,-999.0000,9,  -999.00,9,   -999.0,9,   -999.0,9,   -999.0,9,   -999.0,9,   -999.0,9, -999.00,  -999.0,-999.0000,-999.000,  6.7273,-999.000
   31WTTUNES_2,  P17S,   149,  1,     37,     37,2,19910729,1735,-18.3350,-133.2450, 4098,    564.6,   6.2600,  34.3392,2,  34.3381,2,    187.7,2,    190.3,2,    15.06,2,    28.06,2,     0.00,2,     1.98,2,    0.214,2,    0.139,2, -999.000,9,-999.0000,9,  -999.00,9,   -999.0,9,   -999.0,9,   -999.0,9,   -999.0,9,   -999.0,9, -999.00,  -999.0,-999.0000,-999.000,  6.2095,-999.000
   31WTTUNES_2,  P17S,   149,  1,     15,     15,2,19910729,1735,-18.3350,-133.2450, 4098,    615.5,   5.7365,  34.3278,2,  34.3299,2,    184.8,2,    184.6,2,    19.55,2,    29.82,2,     0.00,2,     2.07,2,    0.100,2,    0.072,2, -999.000,9,-999.0000,9,  -999.00,9,   -999.0,9,   -999.0,9,   -999.0,9,   -999.0,9,   -999.0,9, -999.00,  -999.0,-999.0000,-999.000,  5.6836,-999.000
   31WTTUNES_2,  P17S,   149,  1,     16,     16,2,19910729,1735,-18.3350,-133.2450, 4098,    666.9,   5.4446,  34.3465,2,  34.3474,2,    167.1,2,    165.8,2,    26.30,2,    32.17,2,     0.00,2,     2.26,2, -999.000,9, -999.000,9, -999.000,9,-999.0000,9,  -999.00,9,   -999.0,9,   -999.0,9,   -999.0,9,   -999.0,9,   -999.0,9, -999.00,  -999.0,-999.0000,-999.000,  5.3885,-999.000
   31WTTUNES_2,  P17S,   149,  1,     17,     17,2,19910729,1735,-18.3350,-133.2450, 4098,    717.0,   5.2481,  34.3760,2,  34.3794,2,    150.4,2,    144.7,2,    33.92,2,    34.32,2,     0.00,2,     2.41,2,    0.012,2,    0.010,2, -999.000,9,-999.0000,9,  -999.00,9,   -999.0,9,   -999.0,9,   -999.0,9,   -999.0,9,   -999.0,9, -999.00,  -999.0,-999.0000,-999.000,  5.1886,-999.000
   31WTTUNES_2,  P17S,   149,  1,     18,     18,2,19910729,1735,-18.3350,-133.2450, 4098,    818.8,   4.8480,  34.4408,2,  34.4422,2,    126.1,2,    123.9,2,    50.74,2,    36.46,2,     0.00,2,     2.59,2,    0.003,2,    0.000,2, -999.000,9,-999.0000,9,  -999.00,9,   -999.0,9,   -999.0,9,   -999.0,9,   -999.0,9,   -999.0,9, -999.00,  -999.0,-999.0000,-999.000,  4.7819,-999.000
   31WTTUNES_2,  P17S,   149,  1,     19,     19,2,19910729,1735,-18.3350,-133.2450, 4098,    921.1,   4.4862,  34.4846,2,  34.4860,2,    121.9,2,    120.1,2,    63.74,2,    36.85,2,     0.00,2,     2.63,2, -999.000,9, -999.000,9, -999.000,9,-999.0000,9,  -999.00,9,   -999.0,9,   -999.0,9,   -999.0,9,   -999.0,9,   -999.0,9, -999.00,  -999.0,-999.0000,-999.000,  4.4136,-999.000
   31WTTUNES_2,  P17S,   149,  1,     20,     20,2,19910729,1735,-18.3350,-133.2450, 4098,   1022.9,   4.1731,  34.5055,2,  34.5097,2,    119.8,2,    119.6,2,    71.95,2,    37.15,2,     0.00,2,     2.67,2, -999.000,9, -999.000,9, -999.000,9,-999.0000,9,  -999.00,9,   -999.0,9,   -999.0,9,   -999.0,9,   -999.0,9,   -999.0,9, -999.00,  -999.0,-999.0000,-999.000,  4.0941,-999.000
   31WTTUNES_2,  P17S,   149,  1,     21,     21,2,19910729,1735,-18.3350,-133.2450, 4098,   1227.4,   3.5841,  34.5380,2,  34.5367,2,    128.5,2,    126.8,2,    85.92,2,    37.05,2,     0.00,2,     2.65,2, -999.000,9, -999.000,9, -999.000,9,-999.0000,9,  -999.00,9,   -999.0,9,   -999.0,9,   -999.0,9,   -999.0,9,   -999.0,9, -999.00,  -999.0,-999.0000,-999.000,  3.4930,-999.000
   31WTTUNES_2,  P17S,   149,  1,     22,     22,2,19910729,1735,-18.3350,-133.2450, 4098,   1431.9,   3.0144,  34.5603,2,  34.5610,2,    137.9,2,    137.6,2,    95.80,2,    36.36,2,     0.00,2,     2.59,2, -999.000,9, -999.000,9, -999.000,9,-999.0000,9,  -999.00,9,   -999.0,9,   -999.0,9,   -999.0,9,   -999.0,9,   -999.0,9, -999.00,  -999.0,-999.0000,-999.000,  2.9121,-999.000
   31WTTUNES_2,  P17S,   149,  1,     23,     23,2,19910729,1735,-18.3350,-133.2450, 4098,   1636.3,   2.6033,  34.5876,2,  34.5893,2,    144.3,2,    144.7,2,   104.10,2,    35.87,2,     0.00,2,     2.54,2, -999.000,9, -999.000,9, -999.000,9,-999.0000,9,  -999.00,9,   -999.0,9,   -999.0,9,   -999.0,9,   -999.0,9,   -999.0,9, -999.00,  -999.0,-999.0000,-999.000,  2.4889,-999.000
   31WTTUNES_2,  P17S,   149,  1,     24,     24,2,19910729,1735,-18.3350,-133.2450, 4098,   1842.4,   2.2857,  34.6144,2,  34.6149,2,    147.7,2,    149.1,2,   112.02,2,    35.68,2,     0.00,2,     2.53,2, -999.000,9, -999.000,9, -999.000,9,-999.0000,9,  -999.00,9,   -999.0,9,   -999.0,9,   -999.0,9,   -999.0,9,   -999.0,9, -999.00,  -999.0,-999.0000,-999.000,  2.1583,-999.000
   31WTTUNES_2,  P17S,   149,  1,     25,     25,2,19910729,1735,-18.3350,-133.2450, 4098,   2048.4,   2.0822,  34.6351,2,  34.6355,2,    150.2,2,    151.3,2,   118.08,2,    35.48,2,     0.00,2,     2.50,2, -999.000,9, -999.000,9, -999.000,9,-999.0000,9,  -999.00,9,   -999.0,9,   -999.0,9,   -999.0,9,   -999.0,9,   -999.0,9, -999.00,  -999.0,-999.0000,-999.000,  1.9404,-999.000
   31WTTUNES_2,  P17S,   149,  1,     26,     26,2,19910729,1735,-18.3350,-133.2450, 4098,   2253.0,   1.9560,  34.6509,2,  34.6514,2,    153.8,2,    152.2,2,   122.47,2,    35.38,2,     0.00,2,     2.49,2, -999.000,9, -999.000,9, -999.000,9,-999.0000,9,  -999.00,9,   -999.0,9,   -999.0,9,   -999.0,9,   -999.0,9,   -999.0,9, -999.00,  -999.0,-999.0000,-999.000,  1.7986,-999.000
   31WTTUNES_2,  P17S,   149,  1,     27,     27,2,19910729,1735,-18.3350,-133.2450, 4098,   2459.9,   1.8734,  34.6603,2,  34.6613,2,    153.0,2,    153.8,2,   125.70,2,    35.19,2,     0.00,2,     2.49,2, -999.000,9, -999.000,9, -999.000,9,-999.0000,9,  -999.00,9,   -999.0,9,   -999.0,9,   -999.0,9,   -999.0,9,   -999.0,9, -999.00,  -999.0,-999.0000,-999.000,  1.6990,-999.000
   31WTTUNES_2,  P17S,   149,  1,     28,     28,2,19910729,1735,-18.3350,-133.2450, 4098,   2666.8,   1.8022,  34.6669,2,  34.6662,2,    153.6,2,    155.0,2,   128.53,2,    35.19,2,     0.00,2,     2.49,2, -999.000,9, -999.000,9, -999.000,9,-999.0000,9,  -999.00,9,   -999.0,9,   -999.0,9,   -999.0,9,   -999.0,9,   -999.0,9, -999.00,  -999.0,-999.0000,-999.000,  1.6104,-999.000
   31WTTUNES_2,  P17S,   149,  1,     29,     29,2,19910729,1735,-18.3350,-133.2450, 4098,   2875.1,   1.7336,  34.6722,2,  34.6717,2,    157.4,2,    157.5,2,   130.10,2,    34.99,2,     0.00,2,     2.48,2, -999.000,9, -999.000,9, -999.000,9,-999.0000,9,  -999.00,9,   -999.0,9,   -999.0,9,   -999.0,9,   -999.0,9,   -999.0,9, -999.00,  -999.0,-999.0000,-999.000,  1.5237,-999.000
   31WTTUNES_2,  P17S,   149,  1,     30,     30,2,19910729,1735,-18.3350,-133.2450, 4098,   3083.8,   1.6888,  34.6764,2,  34.6766,2,    158.9,2,    159.4,2,   131.95,2,    34.89,2,     0.00,2,     2.46,2, -999.000,9, -999.000,9, -999.000,9,-999.0000,9,  -999.00,9,   -999.0,9,   -999.0,9,   -999.0,9,   -999.0,9,   -999.0,9, -999.00,  -999.0,-999.0000,-999.000,  1.4597,-999.000
   31WTTUNES_2,  P17S,   149,  1,     31,     31,2,19910729,1735,-18.3350,-133.2450, 4098,   3292.1,   1.6521,  34.6795,2,  34.6796,2,    161.8,2,    160.4,2,   134.00,2,    35.09,2,     0.00,2,     2.47,2, -999.000,9, -999.000,9, -999.000,9,-999.0000,9,  -999.00,9,   -999.0,9,   -999.0,9,   -999.0,9,   -999.0,9,   -999.0,9, -999.00,  -999.0,-999.0000,-999.000,  1.4033,-999.000
   31WTTUNES_2,  P17S,   149,  1,     32,     32,2,19910729,1735,-18.3350,-133.2450, 4098,   3501.7,   1.6157,  34.6826,2,  34.6814,2,    161.5,2,    161.8,2,   136.25,2,    35.19,2,     0.00,2,     2.47,2, -999.000,9, -999.000,9, -999.000,9,-999.0000,9,  -999.00,9,   -999.0,9,   -999.0,9,   -999.0,9,   -999.0,9,   -999.0,9, -999.00,  -999.0,-999.0000,-999.000,  1.3465,-999.000
   31WTTUNES_2,  P17S,   149,  1,     33,     33,2,19910729,1735,-18.3350,-133.2450, 4098,   3710.0,   1.5823,  34.6855,2,  34.6841,2,    166.7,2,    164.6,2,   135.47,2,    34.70,2,     0.00,2,     2.44,2, -999.000,9, -999.000,9, -999.000,9,-999.0000,9,  -999.00,9,   -999.0,9,   -999.0,9,   -999.0,9,   -999.0,9,   -999.0,9, -999.00,  -999.0,-999.0000,-999.000,  1.2923,-999.000
   31WTTUNES_2,  P17S,   149,  1,     34,     34,2,19910729,1735,-18.3350,-133.2450, 4098,   3866.3,   1.5439,  34.6881,2,  34.6883,2,    167.2,2,    167.7,2,   134.39,2,    34.60,2,     0.00,2,     2.42,2, -999.000,9, -999.000,9, -999.000,9,-999.0000,9,  -999.00,9,   -999.0,9,   -999.0,9,   -999.0,9,   -999.0,9,   -999.0,9, -999.00,  -999.0,-999.0000,-999.000,  1.2382,-999.000
   31WTTUNES_2,  P17S,   149,  1,     35,     35,2,19910729,1735,-18.3350,-133.2450, 4098,   4023.0,   1.5303,  34.6899,2,  34.6892,2,    169.1,2,    169.7,2,   134.20,2,    34.40,2,     0.00,2,     2.42,2, -999.000,9, -999.000,9, -999.000,9,-999.0000,9,  -999.00,9,   -999.0,9,   -999.0,9,   -999.0,9,   -999.0,9,   -999.0,9, -999.00,  -999.0,-999.0000,-999.000,  1.2080,-999.000
   31WTTUNES_2,  P17S,   149,  1,     38,     38,2,19910729,1735,-18.3350,-133.2450, 4098,   4147.9,   1.5330,  34.6903,2,  34.6900,2,    171.0,2,    170.6,2,   133.42,2,    34.31,2,     0.00,2,     2.41,2, -999.000,9, -999.000,9, -999.000,9,-999.0000,9,  -999.00,9,   -999.0,9,   -999.0,9,   -999.0,9,   -999.0,9,   -999.0,9, -999.00,  -999.0,-999.0000,-999.000,  1.1968,-999.000