BOTTLE,20131125MIRCJHATS
EXPOCODE,SECT_ID,STNNBR,CASTNO,SAMPNO,BTLNBR,BTLNBR_FLAG_W,DATE,TIME,LATITUDE,LONGITUDE,DEPTH,CTDPRS,CTDTMP,CTDSAL,CTDSAL_FLAG_W,SALNTY,SALNTY_FLAG_W,CTDOXY,CTDOXY_FLAG_W,OXYGEN,OXYGEN_FLAG_W,SILCAT,SILCAT_FLAG_W,NITRAT,NITRAT_FLAG_W,NITRIT,NITRIT_FLAG_W,PHSPHT,PHSPHT_FLAG_W,CFC-11,CFC-11_FLAG_W,CFC-12,CFC-12_FLAG_W,TRITUM,TRITUM_FLAG_W,HELIUM,HELIUM_FLAG_W,DELHE3,DELHE3_FLAG_W,DELC14,DELC14_FLAG_W,DELC13,DELC13_FLAG_W,TCARBN,TCARBN_FLAG_W,PCO2,PCO2_FLAG_W,ALKALI,ALKALI_FLAG_W,PCO2TMP,C14ERR,HELIER,DELHER,THETA,TRITER
,,,,,,,,,,,,DBAR,ITS-90,PSS-78,,PSS-78,,UMOL/KG,,UMOL/KG,,UMOL/KG,,UMOL/KG,,UMOL/KG,,UMOL/KG,,PMOL/KG,,PMOL/KG,,TU,,NMOL/KG,,PERCNT,,/MILLE,,/MILLE,,UMOL/KG,,UATM,,UMOL/KG,,DEG C,/MILLE,NMOL/KG,PERCNT,DEG C,TU
   31WTTUNES_2,  P17S,   179,  2,     61,     61,2,19910808,0430,-33.0150,-135.0283, 4470,      8.1,  16.4800,  35.1958,2,  35.1987,2,    235.9,3,    240.6,2,     1.05,2,     0.09,2,     0.00,2,     0.13,2,    2.525,2,    1.323,2, -999.000,9,-999.0000,9,  -999.00,9,    141.0,2,      1.5,2,   2033.2,2,    354.6,2,   -999.0,9,   20.00,     5.3,-999.0000,-999.000, 16.4787,-999.000
   31WTTUNES_2,  P17S,   179,  2,      2,      2,2,19910808,0430,-33.0150,-135.0283, 4470,     40.1,  16.4750,  35.1920,2,  35.1939,2,    239.4,6,    240.9,2,     1.04,2,     0.09,2,     0.00,2,     0.13,2,    2.445,2,    1.333,2,    0.856,2,   1.7630,2,    -1.39,2,   -999.0,9,   -999.0,9,   2028.7,2,    358.3,2,   -999.0,9,   20.00,  -999.0,  0.0080,   0.150, 16.4685,   0.006
   31WTTUNES_2,  P17S,   179,  2,      3,      3,2,19910808,0430,-33.0150,-135.0283, 4470,     79.3,  16.0819,  35.1478,2,  35.1494,2,    242.6,6,    241.1,2,     1.02,2,     0.14,2,     0.00,2,     0.14,2,    2.409,2,    1.357,2, -999.000,9,-999.0000,9,  -999.00,9,   -999.0,9,   -999.0,9,   2035.1,2,    362.5,2,   -999.0,9,   20.00,  -999.0,-999.0000,-999.000, 16.0693,-999.000
   31WTTUNES_2,  P17S,   179,  2,      4,      4,2,19910808,0430,-33.0150,-135.0283, 4470,    121.4,  16.0619,  35.1462,2,  35.1475,2,    243.3,6,    240.4,2,     1.01,2,     0.19,2,     0.00,2,     0.15,2,    2.510,2,    1.341,2,    0.828,2,   1.7660,2,    -1.39,2,   -999.0,9,   -999.0,9,   2035.9,2,    368.7,2,   -999.0,9,   20.00,  -999.0,  0.0080,   0.150, 16.0427,   0.006
   31WTTUNES_2,  P17S,   179,  2,      5,      5,2,19910808,0430,-33.0150,-135.0283, 4470,    161.9,  15.3518,  35.0740,2,  35.0752,2,    222.5,6,    219.0,2,     0.99,2,     2.60,2,     0.00,2,     0.34,2,    2.290,2,    1.229,2,    0.712,2,   1.7750,2,    -0.21,2,    134.8,2,      1.3,2,   2063.1,2,    421.9,2,   -999.0,9,   20.00,     5.7,  0.0080,   0.150, 15.3269,   0.006
   31WTTUNES_2,  P17S,   179,  2,      6,      6,3,19910808,0430,-33.0150,-135.0283, 4470,    191.0,  14.5816,  35.0579,2,  35.1534,4,    209.2,2,    231.8,4,     0.97,4,     1.50,4,     0.00,4,     0.24,4,    2.434,2,    1.281,8, -999.000,9,-999.0000,9,  -999.00,9,   -999.0,9,   -999.0,9,   2045.5,2,    380.9,2,   -999.0,9,   20.00,  -999.0,-999.0000,-999.000, 14.5532,-999.000
   31WTTUNES_2,  P17S,   179,  2,      7,      7,2,19910808,0430,-33.0150,-135.0283, 4470,    229.3,  13.2444,  34.9425,2,  34.9449,2,    206.2,6,    203.2,2,     2.14,2,     8.54,2,     0.00,2,     0.70,2,    1.887,2,    0.989,2,    0.514,2,   1.7800,2,    -0.20,2,    104.3,2,      1.3,2,   2089.9,2,    512.8,2,   -999.0,9,   20.00,     5.8,  0.0080,   0.150, 13.2125,   0.005
   31WTTUNES_2,  P17S,   179,  2,     68,     68,2,19910808,0430,-33.0150,-135.0283, 4470,    269.4,  12.1583,  34.8247,2,  34.8243,2,    203.3,2,    202.6,2,     2.52,2,    11.06,2,     0.00,2,     0.85,2,    1.739,2,    0.875,2, -999.000,9,-999.0000,9,  -999.00,9,   -999.0,9,   -999.0,9,   2097.4,2,    553.3,2,   -999.0,9,   20.00,  -999.0,-999.0000,-999.000, 12.1229,-999.000
   31WTTUNES_2,  P17S,   179,  2,     69,     69,2,19910808,0430,-33.0150,-135.0283, 4470,    311.4,  10.4983,  34.6697,2,  34.6637,2,    207.7,2,    210.0,2,     3.29,2,    14.28,2,     0.00,2,     1.05,2,    1.671,2,    0.873,2,    0.398,2,   1.7790,2,     1.08,2,     58.8,2,      1.3,2,   2126.0,2,    615.2,2,   -999.0,9,   20.00,     4.1,  0.0080,   0.150, 10.4609,   0.004
   31WTTUNES_2,  P17S,   179,  2,     70,     70,2,19910808,0430,-33.0150,-135.0283, 4470,    362.8,   8.8563,  34.5159,2,  34.5154,2,    221.2,2,    220.0,2,     4.45,2,    17.61,2,     0.00,2,     1.25,2,    1.711,2,    0.888,2, -999.000,9,-999.0000,9,  -999.00,9,   -999.0,9,   -999.0,9,   2119.7,2,    673.9,2,   -999.0,9,   20.00,  -999.0,-999.0000,-999.000,  8.8171,-999.000
   31WTTUNES_2,  P17S,   179,  2,     11,     11,2,19910808,0430,-33.0150,-135.0283, 4470,    412.2,   7.9893,  34.4517,2,  34.4514,2,    225.3,2,    227.4,2,     5.23,2,    19.58,2,     0.00,2,     1.38,2,    1.528,2,    0.797,2,    0.277,2,   1.7760,2,     1.05,2,     29.7,2,      1.2,2,   2124.8,2,    699.6,2,   -999.0,9,   20.00,     4.2,  0.0080,   0.150,  7.9474,   0.006
   31WTTUNES_2,  P17S,   179,  2,     12,     12,2,19910808,0430,-33.0150,-135.0283, 4470,    461.4,   7.3403,  34.4030,2,  34.4023,2,    229.8,2,    232.5,2,     6.79,2,    21.19,2,     0.00,2,     1.48,2,    1.292,2,    0.651,2, -999.000,9,-999.0000,9,  -999.00,9,   -999.0,9,   -999.0,9,   2134.6,2,    727.8,2,   -999.0,9,   20.00,  -999.0,-999.0000,-999.000,  7.2955,-999.000
   31WTTUNES_2,  P17S,   179,  2,     13,     13,2,19910808,0430,-33.0150,-135.0283, 4470,    514.4,   6.9024,  34.3789,2,  34.3810,2,    236.8,2,    241.2,2,     7.16,2,    21.75,2,     0.00,2,     1.51,2,    1.261,2,    0.648,2,    0.241,2,   1.7860,2,     0.80,2,     -4.7,2,      1.4,3,   2131.8,2,    709.1,2,   -999.0,9,   20.00,     3.8,  0.0080,   0.150,  6.8539,   0.004
   31WTTUNES_2,  P17S,   179,  2,     37,     37,2,19910808,0430,-33.0150,-135.0283, 4470,    618.2,   6.4034,  34.3458,2,  34.3472,2,    243.1,2,    244.2,2,     8.72,2,    22.91,2,     0.00,2,     1.59,2,    0.961,2,    0.501,2,    0.188,2,   1.8200,2,     0.52,2,     -9.9,2,      1.3,2,   2129.6,2,    738.0,2,   -999.0,9,   20.00,     4.6,  0.0090,   0.150,  6.3472,   0.003
   31WTTUNES_2,  P17S,   179,  2,     15,     15,2,19910808,0430,-33.0150,-135.0283, 4470,    717.2,   6.0095,  34.3198,2,  34.3215,2,    240.5,2,    241.9,2,    10.67,2,    24.18,2,     0.00,2,     1.67,2,    0.679,2,    0.353,2, -999.000,9,-999.0000,9,  -999.00,9,    -20.7,2,      1.3,2,   2136.4,2,    761.0,2,   -999.0,9,   20.00,     3.6,-999.0000,-999.000,  5.9459,-999.000
   31WTTUNES_2,  P17S,   179,  2,     16,     16,2,19910808,0430,-33.0150,-135.0283, 4470,    823.1,   5.4805,  34.2996,2,  34.3007,2,    233.9,2,    231.8,2,    14.99,2,    26.21,2,     0.00,2,     1.81,2,    0.424,2,    0.228,2, -999.000,9,-999.0000,9,  -999.00,9,    -52.6,2,      1.0,2,   2139.8,2,    810.3,2,   -999.0,9,   20.00,     3.9,-999.0000,-999.000,  5.4103,-999.000
   31WTTUNES_2,  P17S,   179,  2,     17,     17,2,19910808,0430,-33.0150,-135.0283, 4470,    927.2,   4.8886,  34.3071,2,  34.3078,2,    214.6,2,    214.3,2,    24.03,2,    28.90,2,     0.00,2,     2.01,2,    0.265,2,    0.140,2, -999.000,9,-999.0000,9,  -999.00,9,    -80.2,2,      1.0,2,   2174.3,2,    912.1,2,   -999.0,9,   20.00,     4.1,-999.0000,-999.000,  4.8129,-999.000
   31WTTUNES_2,  P17S,   179,  2,     18,     18,2,19910808,0430,-33.0150,-135.0283, 4470,   1025.0,   4.3107,  34.3272,2,  34.3276,2,    204.0,2,    201.6,2,    33.47,2,    30.89,2,     0.00,2,     2.15,2,    0.146,2,    0.082,2, -999.000,9,   1.7980,2,     2.88,2,   -113.6,2,      0.8,2,   2190.9,2,    973.9,2,   -999.0,9,   20.00,     3.4,-999.0000,-999.000,  4.2308,-999.000
   31WTTUNES_2,  P17S,   179,  2,     19,     19,2,19910808,0430,-33.0150,-135.0283, 4470,   1127.8,   3.7628,  34.3665,2,  34.3682,2,    190.4,2,    188.6,2,    44.68,2,    32.53,2,     0.00,2,     2.28,2,    0.050,2,    0.036,2, -999.000,9,   1.8300,2,     4.98,2,   -127.2,2,      0.7,2,   2203.2,2,   1058.8,2,   -999.0,9,   20.00,     3.6,-999.0000,-999.000,  3.6787,-999.000
   31WTTUNES_2,  P17S,   179,  2,     20,     20,2,19910808,0430,-33.0150,-135.0283, 4470,   1287.1,   3.2079,  34.4321,2,  34.4339,2,    178.2,2,    178.1,2,    59.07,2,    33.81,2,     0.00,2,     2.37,2,    0.018,2,    0.015,2, -999.000,9,   1.8260,2,     7.85,2,   -145.5,2,      0.5,2,   2228.9,2,   1130.2,2,   -999.0,9,   20.00,     3.7,-999.0000,-999.000,  3.1157,-999.000
   31WTTUNES_2,  P17S,   179,  2,     21,     21,2,19910808,0430,-33.0150,-135.0283, 4470,   1445.3,   2.8270,  34.5011,2,  34.5021,2,    170.1,2,    169.4,2,    73.31,2,    34.38,2,     0.00,2,     2.42,2,    0.008,2,    0.008,2, -999.000,9,   1.8690,2,    11.18,2,   -168.3,2,      0.3,2,   2259.1,2,   1182.2,2,   -999.0,9,   20.00,     3.2,-999.0000,-999.000,  2.7258,-999.000
   31WTTUNES_2,  P17S,   179,  2,     22,     22,2,19910808,0430,-33.0150,-135.0283, 4470,   1642.5,   2.5211,  34.5675,2,  34.5671,2,    162.4,2,    162.0,2,    89.42,2,    34.64,2,     0.00,2,     2.44,2, -999.000,9, -999.000,9, -999.000,9,   1.8490,2,    15.32,2,   -187.9,2,      0.2,2,   2265.3,2,   1181.6,2,   -999.0,9,   20.00,     3.1,-999.0000,-999.000,  2.4072,-999.000
   31WTTUNES_2,  P17S,   179,  2,     23,     23,2,19910808,0430,-33.0150,-135.0283, 4470,   1846.0,   2.2961,  34.6079,2,  34.6073,2,    158.5,2,    158.5,2,   102.03,2,    34.80,2,     0.00,2,     2.46,2, -999.000,9, -999.000,9, -999.000,9,   1.8640,2,    18.42,2,   -198.0,2,      0.2,2,   2275.8,2,   1179.3,2,   -999.0,9,   20.00,     3.1,-999.0000,-999.000,  2.1683,-999.000
   31WTTUNES_2,  P17S,   179,  2,     24,     24,2,19910808,0430,-33.0150,-135.0283, 4470,   2053.7,   2.1062,  34.6334,2,  34.6333,2,    156.3,2,    155.4,2,   112.31,2,    35.00,2,     0.00,2,     2.48,2, -999.000,9, -999.000,9, -999.000,9,   1.8700,2,    21.26,2,   -999.0,9,   -999.0,9,   2293.2,2,   1190.0,2,   -999.0,9,   20.00,  -999.0,-999.0000,-999.000,  1.9635,-999.000
   31WTTUNES_2,  P17S,   179,  2,     25,     25,2,19910808,0430,-33.0150,-135.0283, 4470,   2259.3,   1.9522,  34.6473,2,  34.6476,2,    154.9,2,    155.1,2,   119.82,2,    35.11,2,     0.00,2,     2.49,2, -999.000,9, -999.000,9, -999.000,9,   1.9070,2,    23.04,2,   -999.0,9,   -999.0,9,   2299.1,2,   1185.4,2,   -999.0,9,   20.00,  -999.0,-999.0000,-999.000,  1.7943,-999.000
   31WTTUNES_2,  P17S,   179,  2,     26,     26,2,19910808,0430,-33.0150,-135.0283, 4470,   2473.0,   1.8382,  34.6577,2,  34.6586,2,    157.1,2,    156.5,2,   123.88,2,    35.11,2,     0.00,2,     2.49,2, -999.000,9, -999.000,9, -999.000,9,   1.8970,2,    22.86,2,   -999.0,9,   -999.0,9,   2307.7,2,   1185.5,2,   -999.0,9,   20.00,  -999.0,-999.0000,-999.000,  1.6634,-999.000
   31WTTUNES_2,  P17S,   179,  2,     27,     27,2,19910808,0430,-33.0150,-135.0283, 4470,   2682.1,   1.7663,  34.6651,2,  34.6637,2,    159.0,2,    159.0,2,   125.90,2,    35.01,2,     0.00,2,     2.48,2, -999.000,9, -999.000,9, -999.000,9,   1.8990,2,    22.27,2,   -999.0,9,   -999.0,9,   2301.7,2,   1173.8,2,   -999.0,9,   20.00,  -999.0,-999.0000,-999.000,  1.5737,-999.000
   31WTTUNES_2,  P17S,   179,  2,     28,     28,2,19910808,0430,-33.0150,-135.0283, 4470,   2883.6,   1.7093,  34.6700,2,  34.6696,2,    162.0,2,    162.3,2,   126.08,2,    34.86,2,     0.00,2,     2.46,2, -999.000,9, -999.000,9, -999.000,9,   1.9040,2,    21.61,2,   -206.5,2,      0.2,2,   2302.6,2,   1162.1,2,   -999.0,9,   20.00,     3.3,-999.0000,-999.000,  1.4990,-999.000
   31WTTUNES_2,  P17S,   179,  2,     29,     29,2,19910808,0430,-33.0150,-135.0283, 4470,   3089.6,   1.6553,  34.6748,2,  34.6734,2,    165.4,2,    166.2,2,   126.25,2,    34.60,2,     0.00,2,     2.43,2, -999.000,9, -999.000,9, -999.000,9,   1.9060,2,    20.25,2,   -212.0,2,      0.0,2,   2292.3,2,   1155.0,2,   -999.0,9,   20.00,     3.0,-999.0000,-999.000,  1.4264,-999.000
   31WTTUNES_2,  P17S,   179,  2,     30,     30,2,19910808,0430,-33.0150,-135.0283, 4470,   3292.9,   1.6153,  34.6783,2,  34.6798,2,    168.3,2,    169.3,2,   125.81,2,    34.40,2,     0.00,2,     2.42,2, -999.000,9, -999.000,9, -999.000,9,   1.8980,2,    19.88,2,   -211.4,2,      0.1,2,   2299.0,2,   1137.1,2,   -999.0,9,   20.00,     3.3,-999.0000,-999.000,  1.3673,-999.000
   31WTTUNES_2,  P17S,   179,  2,     31,     31,2,19910808,0430,-33.0150,-135.0283, 4470,   3502.9,   1.5663,  34.6837,2,  34.6855,2,    171.9,2,    172.0,2,   125.37,2,    34.09,2,     0.00,2,     2.40,2, -999.000,9, -999.000,9, -999.000,9,   1.9300,2,    18.55,2,   -999.0,9,   -999.0,9,   2295.3,2,   1131.7,2,   -999.0,9,   20.00,  -999.0,-999.0000,-999.000,  1.2982,-999.000
   31WTTUNES_2,  P17S,   179,  2,     32,     32,2,19910808,0430,-33.0150,-135.0283, 4470,   3716.0,   1.4873,  34.6916,2,  34.6924,2,    177.9,2,    178.0,2,   124.72,2,    33.79,2,     0.00,2,     2.38,2, -999.000,9, -999.000,9, -999.000,9,   1.8890,2,    16.82,2,   -197.2,2,      0.2,2,   2284.4,2,   1118.3,2,   -999.0,9,   20.00,     4.2,-999.0000,-999.000,  1.1991,-999.000
   31WTTUNES_2,  P17S,   179,  2,     33,     33,2,19910808,0430,-33.0150,-135.0283, 4470,   3920.3,   1.4013,  34.6987,2,  34.6981,2,    184.0,2,    184.8,2,   123.46,2,    33.32,2,     0.00,2,     2.34,2, -999.000,9, -999.000,9, -999.000,9,   1.8950,2,    14.97,2,   -197.6,2,      0.3,2,   2283.2,2,   1098.5,2,   -999.0,9,   20.00,     3.3,-999.0000,-999.000,  1.0937,-999.000
   31WTTUNES_2,  P17S,   179,  2,     34,     34,2,19910808,0430,-33.0150,-135.0283, 4470,   4127.5,   1.3334,  34.7027,2,  34.7028,2,    190.4,2,    189.8,2,   122.00,2,    32.97,2,     0.00,2,     2.32,2, -999.000,9, -999.000,9, -999.000,9,-999.0000,5,    13.45,2,   -999.0,9,   -999.0,9,   2278.0,2,   1088.7,2,   -999.0,9,   20.00,  -999.0,-999.0000,-999.000,  1.0052,-999.000
   31WTTUNES_2,  P17S,   179,  2,     35,     35,2,19910808,0430,-33.0150,-135.0283, 4470,   4333.1,   1.3074,  34.7060,2,  34.7054,2,    192.9,2,    193.2,2,   121.76,2,    32.87,2,     0.00,2,     2.30,2, -999.000,9, -999.000,9, -999.000,9,   1.8850,2,    11.87,2,   -169.9,2,      0.2,2,   2274.2,2,   1079.2,2,   -999.0,9,   20.00,     3.6,-999.0000,-999.000,  0.9572,-999.000
   31WTTUNES_2,  P17S,   179,  2,     38,     38,2,19910808,0430,-33.0150,-135.0283, 4470,   4539.1,   1.3194,  34.7059,2,  34.7052,2,    192.4,2,    193.4,2,   121.33,2,    32.77,2,     0.00,2,     2.29,2, -999.000,9, -999.000,9, -999.000,9,   1.8820,2,    12.02,2,   -999.0,9,   -999.0,9,   2275.2,2,   1070.8,2,   -999.0,9,   20.00,  -999.0,-999.0000,-999.000,  0.9454,-999.000