BOTTLE,20131125MIRCJHATS
EXPOCODE,SECT_ID,STNNBR,CASTNO,SAMPNO,BTLNBR,BTLNBR_FLAG_W,DATE,TIME,LATITUDE,LONGITUDE,DEPTH,CTDPRS,CTDTMP,CTDSAL,CTDSAL_FLAG_W,SALNTY,SALNTY_FLAG_W,CTDOXY,CTDOXY_FLAG_W,OXYGEN,OXYGEN_FLAG_W,SILCAT,SILCAT_FLAG_W,NITRAT,NITRAT_FLAG_W,NITRIT,NITRIT_FLAG_W,PHSPHT,PHSPHT_FLAG_W,CFC-11,CFC-11_FLAG_W,CFC-12,CFC-12_FLAG_W,TRITUM,TRITUM_FLAG_W,HELIUM,HELIUM_FLAG_W,DELHE3,DELHE3_FLAG_W,DELC14,DELC14_FLAG_W,DELC13,DELC13_FLAG_W,TCARBN,TCARBN_FLAG_W,PCO2,PCO2_FLAG_W,ALKALI,ALKALI_FLAG_W,PCO2TMP,C14ERR,HELIER,DELHER,THETA,TRITER
,,,,,,,,,,,,DBAR,ITS-90,PSS-78,,PSS-78,,UMOL/KG,,UMOL/KG,,UMOL/KG,,UMOL/KG,,UMOL/KG,,UMOL/KG,,PMOL/KG,,PMOL/KG,,TU,,NMOL/KG,,PERCNT,,/MILLE,,/MILLE,,UMOL/KG,,UATM,,UMOL/KG,,DEG C,/MILLE,NMOL/KG,PERCNT,DEG C,TU
   31WTTUNES_2,  P17S,   132,  2,      1,      1,2,19910724,1133,-10.0550,-134.9567, 4452,      0.2,  27.4019,  35.7881,2,  35.7902,2,    214.3,3,    218.9,2,     1.46,2,     3.32,2,     0.06,2,     0.43,2,    1.649,8,    0.921,2, -999.000,9,-999.0000,9,  -999.00,9,     91.7,2,      1.6,2,   2003.3,2,    270.4,2,   -999.0,9,   20.00,     4.0,-999.0000,-999.000, 27.4019,-999.000
   31WTTUNES_2,  P17S,   132,  2,      2,      2,2,19910724,1133,-10.0550,-134.9567, 4452,     26.1,  27.4199,  35.7898,2,  35.7975,2,    216.4,6,    215.8,2,     1.46,2,     3.32,2,     0.06,2,     0.43,2,    1.643,6,    0.909,6, -999.000,9,-999.0000,9,  -999.00,9,   -999.0,9,   -999.0,9,   -999.0,9,   -999.0,9,   -999.0,9, -999.00,  -999.0,-999.0000,-999.000, 27.4139,-999.000
   31WTTUNES_2,  P17S,   132,  2,      3,      3,2,19910724,1133,-10.0550,-134.9567, 4452,     50.5,  27.4399,  35.8929,2,  35.8943,2,    213.4,6,    213.3,2,     1.46,2,     3.22,2,     0.06,2,     0.42,2,    1.633,2,    0.931,2, -999.000,9,-999.0000,9,  -999.00,9,   -999.0,9,   -999.0,9,   -999.0,9,   -999.0,9,   -999.0,9, -999.00,  -999.0,-999.0000,-999.000, 27.4282,-999.000
   31WTTUNES_2,  P17S,   132,  2,      4,      4,2,19910724,1133,-10.0550,-134.9567, 4452,     85.4,  27.5209,  36.0580,2,  36.1251,2,    211.4,2,    217.8,2,     1.46,2,     2.25,2,     0.04,2,     0.42,2,    1.648,6,    0.939,6, -999.000,9,-999.0000,9,  -999.00,9,     77.6,2,      1.6,2,   -999.0,9,   -999.0,9,   -999.0,9, -999.00,     4.0,-999.0000,-999.000, 27.5010,-999.000
   31WTTUNES_2,  P17S,   132,  2,      5,      5,2,19910724,1133,-10.0550,-134.9567, 4452,    106.0,  26.2656,  36.2259,2,  36.2293,2,    205.5,2,    200.6,2,     2.44,2,     1.56,2,     0.18,2,     0.49,2,    1.724,2,    0.977,2, -999.000,9,-999.0000,9,  -999.00,9,   -999.0,9,   -999.0,9,   -999.0,9,   -999.0,9,   -999.0,9, -999.00,  -999.0,-999.0000,-999.000, 26.2417,-999.000
   31WTTUNES_2,  P17S,   132,  2,      6,      6,2,19910724,1133,-10.0550,-134.9567, 4452,    125.6,  24.6102,  36.2365,2,  36.2402,2,    196.7,2,    193.0,2,     1.85,2,     1.46,2,     1.43,2,     0.55,2,    1.798,6,    0.997,6, -999.000,9,-999.0000,9,  -999.00,9,     88.9,2,      1.5,2,   -999.0,9,   -999.0,9,   -999.0,9, -999.00,     4.0,-999.0000,-999.000, 24.5832,-999.000
   31WTTUNES_2,  P17S,   132,  2,      7,      7,2,19910724,1133,-10.0550,-134.9567, 4452,    150.6,  22.5119,  36.1526,2,  36.1524,2,    185.9,2,    183.1,2,     1.46,2,     3.81,2,     0.90,2,     0.60,2,    1.908,8,    1.025,2, -999.000,9,-999.0000,9,  -999.00,9,    111.5,2,      1.6,2,   -999.0,9,   -999.0,9,   -999.0,9, -999.00,     4.1,-999.0000,-999.000, 22.4814,-999.000
   31WTTUNES_2,  P17S,   132,  2,      8,      8,2,19910724,1133,-10.0550,-134.9567, 4452,    192.7,  19.7217,  35.7479,2,  35.7304,2,    176.2,2,    177.4,2,     1.86,2,     6.45,2,     0.01,2,     0.69,2,    1.922,6,    1.024,6, -999.000,9,-999.0000,9,  -999.00,9,    124.3,2,      1.4,2,   -999.0,9,   -999.0,9,   -999.0,9, -999.00,     6.6,-999.0000,-999.000, 19.6863,-999.000
   31WTTUNES_2,  P17S,   132,  2,      9,      9,2,19910724,1133,-10.0550,-134.9567, 4452,    244.9,  15.1421,  35.1339,2,  35.1144,2,    119.0,2,    127.7,2,     6.06,2,    13.68,2,     0.00,2,     1.24,2,    1.384,2,    0.739,2, -999.000,9,-999.0000,9,  -999.00,9,     93.7,2,      0.8,2,   -999.0,9,   -999.0,9,   -999.0,9, -999.00,     6.2,-999.0000,-999.000, 15.1047,-999.000
   31WTTUNES_2,  P17S,   132,  2,     10,     10,2,19910724,1133,-10.0550,-134.9567, 4452,    292.0,  11.6339,  34.7314,2,  34.6997,2,     65.5,2,     62.2,2,    16.81,2,    24.63,2,     0.00,2,     2.09,2,    0.426,2,    0.274,2, -999.000,9,-999.0000,9,  -999.00,9,      4.0,2,      0.4,2,   -999.0,9,   -999.0,9,   -999.0,9, -999.00,     4.1,-999.0000,-999.000, 11.5965,-999.000
   31WTTUNES_2,  P17S,   132,  2,     11,     11,2,19910724,1133,-10.0550,-134.9567, 4452,    336.8,   9.9625,  34.6746,2,  34.6685,2,     51.8,2,     53.3,2,    24.73,2,    30.79,2,     0.00,2,     2.37,2,    0.086,8,    0.077,2, -999.000,9,-999.0000,9,  -999.00,9,    -59.5,2,      0.3,2,   -999.0,9,   -999.0,9,   -999.0,9, -999.00,     4.0,-999.0000,-999.000,  9.9234,-999.000
   31WTTUNES_2,  P17S,   132,  2,     12,     12,2,19910724,1133,-10.0550,-134.9567, 4452,    407.4,   8.6070,  34.6328,2,  34.6280,2,     77.7,2,     78.9,2,    29.91,2,    32.65,2,     0.00,2,     2.34,2,    0.038,2,    0.031,2, -999.000,9,-999.0000,9,  -999.00,9,    -73.6,2,      0.5,2,   -999.0,9,   -999.0,9,   -999.0,9, -999.00,     3.7,-999.0000,-999.000,  8.5636,-999.000
   31WTTUNES_2,  P17S,   132,  2,     13,     13,2,19910724,1133,-10.0550,-134.9567, 4452,    485.8,   7.6365,  34.5919,2,  34.5899,2,     82.3,2,     84.1,2,    35.68,2,    34.80,2,     0.00,2,     2.41,2,    0.019,2,    0.013,2, -999.000,9,-999.0000,9,  -999.00,9,    -83.0,2,      0.4,2,   -999.0,9,   -999.0,9,   -999.0,9, -999.00,     2.7,-999.0000,-999.000,  7.5880,-999.000
   31WTTUNES_2,  P17S,   132,  2,     37,     37,2,19910724,1133,-10.0550,-134.9567, 4452,    587.0,   6.7679,  34.5563,2,  34.5530,2,     89.2,2,     86.9,2,    42.62,2,    36.36,2,     0.00,2,     2.53,2,    0.008,2,    0.008,2, -999.000,9,-999.0000,9,  -999.00,9,   -108.4,2,   -999.0,9,   -999.0,9,   -999.0,9,   -999.0,9, -999.00,     4.5,-999.0000,-999.000,  6.7128,-999.000
   31WTTUNES_2,  P17S,   132,  2,     15,     15,2,19910724,1133,-10.0550,-134.9567, 4452,    710.3,   5.9483,  34.5351,2,  34.5322,2,     86.9,2,     85.0,2,    52.40,2,    38.22,2,     0.00,2,     2.67,2, -999.000,5, -999.000,5, -999.000,9,-999.0000,9,  -999.00,9,   -135.8,2,      0.2,2,   -999.0,9,   -999.0,9,   -999.0,9, -999.00,     3.7,-999.0000,-999.000,  5.8854,-999.000
   31WTTUNES_2,  P17S,   132,  2,     16,     16,2,19910724,1133,-10.0550,-134.9567, 4452,    813.3,   5.2766,  34.5288,2,  34.5277,2,     86.9,2,     86.8,2,    62.66,2,    39.10,2,     0.00,2,     2.74,2,    0.001,2,    0.000,2, -999.000,9,-999.0000,9,  -999.00,9,   -150.7,2,      0.4,3,   -999.0,9,   -999.0,9,   -999.0,9, -999.00,     7.1,-999.0000,-999.000,  5.2082,-999.000
   31WTTUNES_2,  P17S,   132,  2,     17,     17,2,19910724,1133,-10.0550,-134.9567, 4452,    914.6,   4.8439,  34.5294,2,  34.5285,2,     95.9,2,     93.3,2,    69.80,2,    38.91,2,     0.00,2,     2.74,2,   -0.001,8,   -0.002,2, -999.000,9,-999.0000,9,  -999.00,9,   -193.7,3,      0.2,2,   -999.0,9,   -999.0,9,   -999.0,9, -999.00,     8.3,-999.0000,-999.000,  4.7693,-999.000
   31WTTUNES_2,  P17S,   132,  2,     18,     18,2,19910724,1133,-10.0550,-134.9567, 4452,   1017.3,   4.3991,  34.5378,2,  34.5363,2,     98.9,2,     97.8,2,    78.50,2,    38.91,2,     0.00,2,     2.75,2,   -0.001,2,    0.000,2, -999.000,9,-999.0000,9,  -999.00,9,   -171.2,2,      0.2,2,   -999.0,9,   -999.0,9,   -999.0,9, -999.00,     3.6,-999.0000,-999.000,  4.3189,-999.000
   31WTTUNES_2,  P17S,   132,  2,     19,     19,2,19910724,1133,-10.0550,-134.9567, 4452,   1119.5,   4.0444,  34.5488,2,  34.5462,2,    105.9,2,    105.4,2,    85.73,2,    38.51,2,     0.00,2,     2.74,2, -999.000,9, -999.000,9, -999.000,9,-999.0000,9,  -999.00,9,   -170.3,2,   -999.0,9,   -999.0,9,   -999.0,9,   -999.0,9, -999.00,     7.9,-999.0000,-999.000,  3.9582,-999.000
   31WTTUNES_2,  P17S,   132,  2,     20,     20,2,19910724,1133,-10.0550,-134.9567, 4452,   1326.0,   3.4807,  34.5678,2,  34.5670,2,    112.2,2,    110.6,2,    98.04,2,    38.22,2,     0.00,2,     2.72,2,    0.000,8,    0.010,3, -999.000,9,-999.0000,9,  -999.00,9,   -999.0,9,   -999.0,9,   -999.0,9,   -999.0,9,   -999.0,9, -999.00,  -999.0,-999.0000,-999.000,  3.3823,-999.000
   31WTTUNES_2,  P17S,   132,  2,     21,     21,2,19910724,1133,-10.0550,-134.9567, 4452,   1531.3,   2.8911,  34.5976,2,  34.5955,2,    117.6,2,    118.5,2,   111.92,2,    37.83,2,     0.00,2,     2.68,2, -999.000,9, -999.000,9, -999.000,9,-999.0000,9,  -999.00,9,   -999.0,9,   -999.0,9,   -999.0,9,   -999.0,9,   -999.0,9, -999.00,  -999.0,-999.0000,-999.000,  2.7818,-999.000
   31WTTUNES_2,  P17S,   132,  2,     22,     22,2,19910724,1133,-10.0550,-134.9567, 4452,   1734.9,   2.5563,  34.6162,2,  34.6151,2,    123.7,2,    122.1,2,   120.42,2,    37.63,2,     0.00,2,     2.66,2, -999.000,9, -999.000,9, -999.000,9,-999.0000,9,  -999.00,9,   -999.0,9,   -999.0,9,   -999.0,9,   -999.0,9,   -999.0,9, -999.00,  -999.0,-999.0000,-999.000,  2.4342,-999.000
   31WTTUNES_2,  P17S,   132,  2,     23,     23,2,19910724,1133,-10.0550,-134.9567, 4452,   1939.5,   2.2945,  34.6340,2,  34.6305,2,    129.4,2,    128.5,2,   126.09,2,    37.24,2,     0.00,2,     2.61,2, -999.000,9, -999.000,9, -999.000,9,-999.0000,9,  -999.00,9,   -999.0,9,   -999.0,9,   -999.0,9,   -999.0,9,   -999.0,9, -999.00,  -999.0,-999.0000,-999.000,  2.1587,-999.000
   31WTTUNES_2,  P17S,   132,  2,     24,     24,2,19910724,1133,-10.0550,-134.9567, 4452,   2144.5,   2.0786,  34.6487,2,  34.6481,2,    134.0,2,    134.3,2,   130.68,2,    36.85,2,     0.00,2,     2.57,2, -999.000,9, -999.000,9, -999.000,9,-999.0000,9,  -999.00,9,   -999.0,9,   -999.0,9,   -999.0,9,   -999.0,9,   -999.0,9, -999.00,  -999.0,-999.0000,-999.000,  1.9286,-999.000
   31WTTUNES_2,  P17S,   132,  2,     25,     25,2,19910724,1133,-10.0550,-134.9567, 4452,   2347.9,   1.9387,  34.6616,2,  34.6601,2,    138.6,2,    138.4,2,   133.91,2,    36.46,2,     0.00,2,     2.54,2, -999.000,9, -999.000,9, -999.000,9,-999.0000,9,  -999.00,9,   -999.0,9,   -999.0,9,   -999.0,9,   -999.0,9,   -999.0,9, -999.00,  -999.0,-999.0000,-999.000,  1.7732,-999.000
   31WTTUNES_2,  P17S,   132,  2,     26,     26,2,19910724,1133,-10.0550,-134.9567, 4452,   2559.0,   1.8298,  34.6710,2,  34.6706,2,    143.4,2,    144.4,2,   136.64,2,    35.97,2,     0.00,2,     2.49,2, -999.000,9, -999.000,9, -999.000,9,-999.0000,9,  -999.00,9,   -999.0,9,   -999.0,9,   -999.0,9,   -999.0,9,   -999.0,9, -999.00,  -999.0,-999.0000,-999.000,  1.6472,-999.000
   31WTTUNES_2,  P17S,   132,  2,     27,     27,2,19910724,1133,-10.0550,-134.9567, 4452,   2761.7,   1.7558,  34.6766,2,  34.6753,2,    147.5,2,    149.4,2,   137.62,2,    35.77,2,     0.00,2,     2.47,2, -999.000,9, -999.000,9, -999.000,9,-999.0000,9,  -999.00,9,   -999.0,9,   -999.0,9,   -999.0,9,   -999.0,9,   -999.0,9, -999.00,  -999.0,-999.0000,-999.000,  1.5561,-999.000
   31WTTUNES_2,  P17S,   132,  2,     28,     28,2,19910724,1133,-10.0550,-134.9567, 4452,   2964.2,   1.6759,  34.6791,2,  34.6782,2,    153.2,2,    155.2,2,   136.84,2,    35.38,2,     0.00,2,     2.45,2, -999.000,9, -999.000,9, -999.000,9,-999.0000,9,  -999.00,9,   -999.0,9,   -999.0,9,   -999.0,9,   -999.0,9,   -999.0,9, -999.00,  -999.0,-999.0000,-999.000,  1.4586,-999.000
   31WTTUNES_2,  P17S,   132,  2,     29,     29,2,19910724,1133,-10.0550,-134.9567, 4452,   3168.1,   1.5899,  34.6850,2,  34.6824,2,    157.3,2,    159.6,2,   137.03,2,    35.09,2,     0.00,2,     2.44,2, -999.000,9, -999.000,9, -999.000,9,-999.0000,9,  -999.00,9,   -999.0,9,   -999.0,9,   -999.0,9,   -999.0,9,   -999.0,9, -999.00,  -999.0,-999.0000,-999.000,  1.3548,-999.000
   31WTTUNES_2,  P17S,   132,  2,     30,     30,2,19910724,1133,-10.0550,-134.9567, 4452,   3374.6,   1.5530,  34.6868,2,  34.6857,2,    161.4,2,    162.8,2,   136.74,2,    34.89,2,     0.00,2,     2.41,2, -999.000,9, -999.000,9, -999.000,9,-999.0000,9,  -999.00,9,   -999.0,9,   -999.0,9,   -999.0,9,   -999.0,9,   -999.0,9, -999.00,  -999.0,-999.0000,-999.000,  1.2982,-999.000
   31WTTUNES_2,  P17S,   132,  2,     31,     31,2,19910724,1133,-10.0550,-134.9567, 4452,   3580.5,   1.5470,  34.6882,2,  34.6892,2,    163.5,2,    163.6,2,   137.62,2,    34.89,2,     0.00,2,     2.40,2, -999.000,9, -999.000,9, -999.000,9,-999.0000,9,  -999.00,9,   -999.0,9,   -999.0,9,   -999.0,9,   -999.0,9,   -999.0,9, -999.00,  -999.0,-999.0000,-999.000,  1.2713,-999.000
   31WTTUNES_2,  P17S,   132,  2,     32,     32,2,19910724,1133,-10.0550,-134.9567, 4452,   3784.5,   1.5250,  34.6904,2,  34.6881,2,    164.2,2,    164.4,2,   138.79,2,    34.89,2,     0.00,2,     2.40,2, -999.000,9, -999.000,9, -999.000,9,-999.0000,9,  -999.00,9,   -999.0,9,   -999.0,9,   -999.0,9,   -999.0,9,   -999.0,9, -999.00,  -999.0,-999.0000,-999.000,  1.2285,-999.000
   31WTTUNES_2,  P17S,   132,  2,     33,     33,2,19910724,1133,-10.0550,-134.9567, 4452,   3990.2,   1.4830,  34.6924,2,  34.6895,2,    165.5,2,    166.6,2,   139.67,2,    34.89,2,     0.00,2,     2.39,2, -999.000,9, -999.000,9, -999.000,9,-999.0000,9,  -999.00,9,   -999.0,9,   -999.0,9,   -999.0,9,   -999.0,9,   -999.0,9, -999.00,  -999.0,-999.0000,-999.000,  1.1656,-999.000
   31WTTUNES_2,  P17S,   132,  2,     34,     34,2,19910724,1133,-10.0550,-134.9567, 4452,   4198.7,   1.4640,  34.6935,2,  34.6918,2,    168.8,2,    168.3,2,   139.67,2,    34.80,2,     0.00,2,     2.39,2, -999.000,9, -999.000,9, -999.000,9,-999.0000,9,  -999.00,9,   -999.0,9,   -999.0,9,   -999.0,9,   -999.0,9,   -999.0,9, -999.00,  -999.0,-999.0000,-999.000,  1.1242,-999.000
   31WTTUNES_2,  P17S,   132,  2,     35,     35,2,19910724,1133,-10.0550,-134.9567, 4452,   4409.2,   1.4670,  34.6953,2,  34.6928,2,    169.8,2,    169.3,2,   139.57,2,    34.70,2,     0.00,2,     2.38,2,    0.000,2,    0.000,2, -999.000,9,-999.0000,9,  -999.00,9,   -999.0,9,   -999.0,9,   -999.0,9,   -999.0,9,   -999.0,9, -999.00,  -999.0,-999.0000,-999.000,  1.1034,-999.000
   31WTTUNES_2,  P17S,   132,  2,     36,     36,2,19910724,1133,-10.0550,-134.9567, 4452,   4514.9,   1.4740,  34.6950,2,  34.6954,2,    170.7,2,    169.6,2,   138.99,2,    34.60,2,     0.00,2,     2.38,2,    0.002,2,    0.000,2, -999.000,9,-999.0000,9,  -999.00,9,   -999.0,9,   -999.0,9,   -999.0,9,   -999.0,9,   -999.0,9, -999.00,  -999.0,-999.0000,-999.000,  1.0981,-999.000