BOTTLE,20131125MIRCJHATS
EXPOCODE,SECT_ID,STNNBR,CASTNO,SAMPNO,BTLNBR,BTLNBR_FLAG_W,DATE,TIME,LATITUDE,LONGITUDE,DEPTH,CTDPRS,CTDTMP,CTDSAL,CTDSAL_FLAG_W,SALNTY,SALNTY_FLAG_W,CTDOXY,CTDOXY_FLAG_W,OXYGEN,OXYGEN_FLAG_W,SILCAT,SILCAT_FLAG_W,NITRAT,NITRAT_FLAG_W,NITRIT,NITRIT_FLAG_W,PHSPHT,PHSPHT_FLAG_W,CFC-11,CFC-11_FLAG_W,CFC-12,CFC-12_FLAG_W,TRITUM,TRITUM_FLAG_W,HELIUM,HELIUM_FLAG_W,DELHE3,DELHE3_FLAG_W,DELC14,DELC14_FLAG_W,DELC13,DELC13_FLAG_W,TCARBN,TCARBN_FLAG_W,PCO2,PCO2_FLAG_W,ALKALI,ALKALI_FLAG_W,PCO2TMP,C14ERR,HELIER,DELHER,THETA,TRITER
,,,,,,,,,,,,DBAR,ITS-90,PSS-78,,PSS-78,,UMOL/KG,,UMOL/KG,,UMOL/KG,,UMOL/KG,,UMOL/KG,,UMOL/KG,,PMOL/KG,,PMOL/KG,,TU,,NMOL/KG,,PERCNT,,/MILLE,,/MILLE,,UMOL/KG,,UATM,,UMOL/KG,,DEG C,/MILLE,NMOL/KG,PERCNT,DEG C,TU
   31WTTUNES_2,  P17S,   135,  1,      1,      1,3,19910725,1402,-11.4867,-134.7000, 4282,      0.2,  27.1878,  36.0458,2,  35.8459,4,   -999.0,9,    212.0,4,     1.86,4,     2.15,4,     0.03,4,     0.61,4,    1.618,2,    0.927,2, -999.000,9,-999.0000,9,  -999.00,9,     86.4,2,      1.6,2,   2001.9,2,    261.4,2,   -999.0,9,   20.00,     3.1,-999.0000,-999.000, 27.1878,-999.000
   31WTTUNES_2,  P17S,   135,  1,      2,      2,2,19910725,1402,-11.4867,-134.7000, 4282,     30.8,  27.2179,  36.1485,2,  36.1551,2,    207.0,2,    210.5,2,     2.05,2,     2.15,2,     0.03,2,     0.38,2, -999.000,5, -999.000,5, -999.000,9,-999.0000,9,  -999.00,9,   -999.0,9,   -999.0,9,   -999.0,9,   -999.0,9,   -999.0,9, -999.00,  -999.0,-999.0000,-999.000, 27.2107,-999.000
   31WTTUNES_2,  P17S,   135,  1,      3,      3,2,19910725,1402,-11.4867,-134.7000, 4282,     66.0,  27.2329,  36.2023,2,  36.2299,2,    198.6,2,    213.1,2,     1.85,2,     1.76,2,     0.03,2,     0.37,2,    1.614,2,    0.903,2, -999.000,9,-999.0000,9,  -999.00,9,   -999.0,9,   -999.0,9,   -999.0,9,   -999.0,9,   -999.0,9, -999.00,  -999.0,-999.0000,-999.000, 27.2176,-999.000
   31WTTUNES_2,  P17S,   135,  1,      4,      4,2,19910725,1402,-11.4867,-134.7000, 4282,    101.6,  24.9923,  36.3163,2,  36.3202,2,    179.3,2,    195.2,2,     1.76,2,     0.88,2,     0.45,2,     0.47,2,    1.776,2,    1.000,8, -999.000,9,-999.0000,9,  -999.00,9,     94.7,2,      1.4,2,   -999.0,9,   -999.0,9,   -999.0,9, -999.00,     2.8,-999.0000,-999.000, 24.9702,-999.000
   31WTTUNES_2,  P17S,   135,  1,      5,      5,2,19910725,1402,-11.4867,-134.7000, 4282,    122.5,  23.7751,  36.2639,2,  36.2772,2,    179.8,2,    193.1,2,     2.44,2,     1.07,2,     2.54,2,     0.51,2,    1.818,2,    1.024,2, -999.000,9,-999.0000,9,  -999.00,9,     98.8,2,      1.4,2,   -999.0,9,   -999.0,9,   -999.0,9, -999.00,     2.7,-999.0000,-999.000, 23.7493,-999.000
   31WTTUNES_2,  P17S,   135,  1,      6,      6,2,19910725,1402,-11.4867,-134.7000, 4282,    153.6,  21.9998,  36.1061,2,  36.0950,2,    172.4,2,    180.9,2,     1.86,2,     4.20,2,     0.34,2,     0.59,2,    1.899,2,    1.048,2, -999.000,9,-999.0000,9,  -999.00,9,    109.3,2,      1.3,2,   -999.0,9,   -999.0,9,   -999.0,9, -999.00,     3.1,-999.0000,-999.000, 21.9693,-999.000
   31WTTUNES_2,  P17S,   135,  1,      7,      7,2,19910725,1402,-11.4867,-134.7000, 4282,    183.6,  20.2927,  35.8410,2,  35.8242,2,    168.2,2,    173.1,2,     1.86,2,     5.66,2,     0.02,2,     0.66,2,    1.919,2,    1.051,2, -999.000,9,-999.0000,9,  -999.00,9,    115.1,2,      1.5,3,   -999.0,9,   -999.0,9,   -999.0,9, -999.00,     2.9,-999.0000,-999.000, 20.2583,-999.000
   31WTTUNES_2,  P17S,   135,  1,      8,      8,2,19910725,1402,-11.4867,-134.7000, 4282,    214.3,  17.8278,  35.4270,2,  35.4151,2,    158.2,2,    154.0,2,     3.03,2,     9.09,2,     0.01,2,     0.89,2,    1.785,2,    0.960,2, -999.000,9,-999.0000,9,  -999.00,9,    108.1,2,      1.0,2,   -999.0,9,   -999.0,9,   -999.0,9, -999.00,     2.8,-999.0000,-999.000, 17.7911,-999.000
   31WTTUNES_2,  P17S,   135,  1,      9,      9,2,19910725,1402,-11.4867,-134.7000, 4282,    267.2,  13.3255,  34.8478,2,  34.8330,2,     90.5,2,     80.9,2,    11.83,2,    19.25,2,     0.00,2,     1.80,2,    0.947,2,    0.519,2, -999.000,9,-999.0000,9,  -999.00,9,     44.1,2,      0.5,2,   -999.0,9,   -999.0,9,   -999.0,9, -999.00,     3.2,-999.0000,-999.000, 13.2881,-999.000
   31WTTUNES_2,  P17S,   135,  1,     10,     10,2,19910725,1402,-11.4867,-134.7000, 4282,    317.3,  11.3670,  34.7155,2,  34.7137,2,     32.8,2,     33.4,2,    21.50,2,    27.07,2,     0.00,2,     2.39,2, -999.000,9, -999.000,9, -999.000,9,-999.0000,9,  -999.00,9,    -25.2,2,      0.2,2,   -999.0,9,   -999.0,9,   -999.0,9, -999.00,     5.0,-999.0000,-999.000, 11.3270,-999.000
   31WTTUNES_2,  P17S,   135,  1,     11,     11,2,19910725,1402,-11.4867,-134.7000, 4282,    317.4,  11.3570,  34.7172,2,  34.7119,2,     32.8,2,     33.6,2,    21.11,2,    27.17,2,     0.00,2,     2.40,2,    0.293,6,    0.171,6, -999.000,9,-999.0000,9,  -999.00,9,   -999.0,9,   -999.0,9,   -999.0,9,   -999.0,9,   -999.0,9, -999.00,  -999.0,-999.0000,-999.000, 11.3170,-999.000
   31WTTUNES_2,  P17S,   135,  1,     12,     12,2,19910725,1402,-11.4867,-134.7000, 4282,    370.0,   9.9575,  34.6658,2,  34.6620,2,     39.7,2,     40.8,2,    25.61,2,    31.86,2,     0.00,2,     2.48,2,    0.090,2,    0.056,2, -999.000,9,-999.0000,9,  -999.00,9,    -57.0,2,      0.2,2,   -999.0,9,   -999.0,9,   -999.0,9, -999.00,     3.2,-999.0000,-999.000,  9.9145,-999.000
   31WTTUNES_2,  P17S,   135,  1,     13,     13,2,19910725,1402,-11.4867,-134.7000, 4282,    429.8,   8.7180,  34.6348,2,  34.6314,2,     64.9,2,     63.4,2,    30.01,2,    33.72,2,     0.00,2,     2.44,2,    0.029,2,    0.022,2, -999.000,9,-999.0000,9,  -999.00,9,    -81.2,2,      0.3,2,   -999.0,9,   -999.0,9,   -999.0,9, -999.00,     2.5,-999.0000,-999.000,  8.6718,-999.000
   31WTTUNES_2,  P17S,   135,  1,     37,     37,2,19910725,1402,-11.4867,-134.7000, 4282,    512.4,   7.6954,  34.5956,2,  34.5935,2,     78.7,2,     74.4,2,    36.66,2,    35.29,2,     0.00,2,     2.48,2,    0.014,2,    0.011,2, -999.000,9,-999.0000,9,  -999.00,9,   -114.4,2,      0.2,2,   -999.0,9,   -999.0,9,   -999.0,9, -999.00,     2.4,-999.0000,-999.000,  7.6440,-999.000
   31WTTUNES_2,  P17S,   135,  1,     15,     15,2,19910725,1402,-11.4867,-134.7000, 4282,    615.2,   6.6119,  34.5488,2,  34.5503,2,     70.0,2,     68.2,2,    45.75,2,    38.61,2,     0.00,2,     2.72,2,    0.003,7,    0.007,2, -999.000,9,-999.0000,9,  -999.00,9,   -118.4,2,      0.2,2,   -999.0,9,   -999.0,9,   -999.0,9, -999.00,     4.1,-999.0000,-999.000,  6.5548,-999.000
   31WTTUNES_2,  P17S,   135,  1,     16,     16,2,19910725,1402,-11.4867,-134.7000, 4282,    716.6,   5.9023,  34.5306,2,  34.5312,2,     65.5,2,     64.5,2,    53.37,2,    40.37,2,     0.00,2,     2.86,2,    0.002,2,    0.004,2, -999.000,9,-999.0000,9,  -999.00,9,   -136.0,2,      0.1,2,   -999.0,9,   -999.0,9,   -999.0,9, -999.00,     2.6,-999.0000,-999.000,  5.8391,-999.000
   31WTTUNES_2,  P17S,   135,  1,     17,     17,2,19910725,1402,-11.4867,-134.7000, 4282,    820.2,   5.3316,  34.5209,2,  34.5228,2,     74.4,2,     74.0,2,    59.92,2,    40.37,2,     0.00,2,     2.85,2,    0.001,2,    0.004,7, -999.000,9,-999.0000,9,  -999.00,9,   -142.8,2,      0.1,2,   -999.0,9,   -999.0,9,   -999.0,9, -999.00,     2.3,-999.0000,-999.000,  5.2622,-999.000
   31WTTUNES_2,  P17S,   135,  1,     18,     18,2,19910725,1402,-11.4867,-134.7000, 4282,    922.6,   4.7300,  34.5272,2,  34.5287,2,     76.2,2,     76.9,2,    71.36,2,    40.67,2,     0.00,2,     2.89,2,    0.000,8,    0.005,2, -999.000,9,-999.0000,9,  -999.00,9,   -162.1,2,      0.0,2,   -999.0,9,   -999.0,9,   -999.0,9, -999.00,     3.1,-999.0000,-999.000,  4.6555,-999.000
   31WTTUNES_2,  P17S,   135,  1,     19,     19,2,19910725,1402,-11.4867,-134.7000, 4282,   1025.3,   4.3712,  34.5389,2,  34.5379,2,     86.2,2,     85.0,2,    79.37,2,    40.08,2,     0.00,2,     2.87,2, -999.000,9, -999.000,9, -999.000,9,-999.0000,9,  -999.00,9,   -168.6,2,      0.0,2,   -999.0,9,   -999.0,9,   -999.0,9, -999.00,     2.3,-999.0000,-999.000,  4.2904,-999.000
   31WTTUNES_2,  P17S,   135,  1,     20,     20,2,19910725,1402,-11.4867,-134.7000, 4282,   1230.6,   3.7046,  34.5577,2,  34.5597,2,     96.9,2,     97.3,2,    92.67,2,    39.30,2,     0.00,2,     2.83,2, -999.000,9, -999.000,9, -999.000,9,-999.0000,9,  -999.00,9,   -999.0,9,   -999.0,9,   -999.0,9,   -999.0,9,   -999.0,9, -999.00,  -999.0,-999.0000,-999.000,  3.6120,-999.000
   31WTTUNES_2,  P17S,   135,  1,     21,     21,2,19910725,1402,-11.4867,-134.7000, 4282,   1436.2,   3.0929,  34.5860,2,  34.5858,2,    110.2,2,    109.1,2,   106.94,2,    38.51,2,     0.00,2,     2.77,2, -999.000,9, -999.000,9, -999.000,9,-999.0000,9,  -999.00,9,   -999.0,9,   -999.0,9,   -999.0,9,   -999.0,9,   -999.0,9, -999.00,  -999.0,-999.0000,-999.000,  2.9893,-999.000
   31WTTUNES_2,  P17S,   135,  1,     22,     22,2,19910725,1402,-11.4867,-134.7000, 4282,   1640.1,   2.7202,  34.6060,2,  34.6055,2,    117.4,2,    118.2,2,   115.93,2,    37.83,2,     0.00,2,     2.71,2, -999.000,9, -999.000,9, -999.000,9,-999.0000,9,  -999.00,9,   -999.0,9,   -999.0,9,   -999.0,9,   -999.0,9,   -999.0,9, -999.00,  -999.0,-999.0000,-999.000,  2.6039,-999.000
   31WTTUNES_2,  P17S,   135,  1,     23,     23,2,19910725,1402,-11.4867,-134.7000, 4282,   1846.8,   2.4324,  34.6222,2,  34.6234,2,    124.9,2,    126.8,2,   120.62,2,    37.24,2,     0.00,2,     2.67,2, -999.000,9, -999.000,9, -999.000,9,-999.0000,9,  -999.00,9,   -999.0,9,   -999.0,9,   -999.0,9,   -999.0,9,   -999.0,9, -999.00,  -999.0,-999.0000,-999.000,  2.3025,-999.000
   31WTTUNES_2,  P17S,   135,  1,     24,     24,2,19910725,1402,-11.4867,-134.7000, 4282,   2054.0,   2.1845,  34.6399,2,  34.6395,2,    132.6,2,    133.4,2,   126.19,2,    36.75,2,     0.00,2,     2.62,2, -999.000,9, -999.000,9, -999.000,9,-999.0000,9,  -999.00,9,   -999.0,9,   -999.0,9,   -999.0,9,   -999.0,9,   -999.0,9, -999.00,  -999.0,-999.0000,-999.000,  2.0406,-999.000
   31WTTUNES_2,  P17S,   135,  1,     25,     25,2,19910725,1402,-11.4867,-134.7000, 4282,   2261.0,   2.0007,  34.6552,2,  34.6546,2,    138.0,2,    139.6,2,   128.92,2,    36.36,2,     0.00,2,     2.56,2, -999.000,9, -999.000,9, -999.000,9,-999.0000,9,  -999.00,9,   -999.0,9,   -999.0,9,   -999.0,9,   -999.0,9,   -999.0,9, -999.00,  -999.0,-999.0000,-999.000,  1.8417,-999.000
   31WTTUNES_2,  P17S,   135,  1,     26,     26,2,19910725,1402,-11.4867,-134.7000, 4282,   2467.3,   1.8807,  34.6676,2,  34.6652,2,    140.9,2,    143.4,2,   132.93,2,    35.87,2,     0.00,2,     2.55,2, -999.000,9, -999.000,9, -999.000,9,-999.0000,9,  -999.00,9,   -999.0,9,   -999.0,9,   -999.0,9,   -999.0,9,   -999.0,9, -999.00,  -999.0,-999.0000,-999.000,  1.7056,-999.000
   31WTTUNES_2,  P17S,   135,  1,     27,     27,2,19910725,1402,-11.4867,-134.7000, 4282,   2674.8,   1.8148,  34.6741,2,  34.6727,2,    144.8,6,    146.8,2,   134.98,2,    35.77,2,     0.00,2,     2.51,2, -999.000,9, -999.000,9, -999.000,9,-999.0000,9,  -999.00,9,   -999.0,9,   -999.0,9,   -999.0,9,   -999.0,9,   -999.0,9, -999.00,  -999.0,-999.0000,-999.000,  1.6219,-999.000
   31WTTUNES_2,  P17S,   135,  1,     28,     28,2,19910725,1402,-11.4867,-134.7000, 4282,   2881.0,   1.7618,  34.6770,2,  34.6753,2,    148.8,2,    150.8,2,   135.28,2,    35.58,2,     0.00,2,     2.50,2, -999.000,9, -999.000,9, -999.000,9,-999.0000,9,  -999.00,9,   -999.0,9,   -999.0,9,   -999.0,9,   -999.0,9,   -999.0,9, -999.00,  -999.0,-999.0000,-999.000,  1.5507,-999.000
   31WTTUNES_2,  P17S,   135,  1,     29,     29,2,19910725,1402,-11.4867,-134.7000, 4282,   3088.8,   1.6959,  34.6791,2,  34.6784,2,    152.7,2,    154.7,2,   135.28,2,    35.28,2,     0.00,2,     2.49,2, -999.000,9, -999.000,9, -999.000,9,-999.0000,9,  -999.00,9,   -999.0,9,   -999.0,9,   -999.0,9,   -999.0,9,   -999.0,9, -999.00,  -999.0,-999.0000,-999.000,  1.4661,-999.000
   31WTTUNES_2,  P17S,   135,  1,     30,     30,2,19910725,1402,-11.4867,-134.7000, 4282,   3296.2,   1.6299,  34.6816,2,  34.6818,2,    156.7,2,    159.6,2,   135.27,2,    35.09,2,     0.00,2,     2.47,2, -999.000,9, -999.000,9, -999.000,9,-999.0000,9,  -999.00,9,   -999.0,9,   -999.0,9,   -999.0,9,   -999.0,9,   -999.0,9, -999.00,  -999.0,-999.0000,-999.000,  1.3812,-999.000
   31WTTUNES_2,  P17S,   135,  1,     31,     31,2,19910725,1402,-11.4867,-134.7000, 4282,   3503.3,   1.5710,  34.6853,2,  34.6861,2,    161.0,2,    163.4,2,   135.27,2,    34.80,2,     0.00,2,     2.44,2, -999.000,9, -999.000,9, -999.000,9,-999.0000,9,  -999.00,9,   -999.0,9,   -999.0,9,   -999.0,9,   -999.0,9,   -999.0,9, -999.00,  -999.0,-999.0000,-999.000,  1.3027,-999.000
   31WTTUNES_2,  P17S,   135,  1,     32,     32,2,19910725,1402,-11.4867,-134.7000, 4282,   3710.9,   1.5500,  34.6877,2,  34.6871,2,    163.8,2,    165.4,2,   135.27,2,    34.60,2,     0.00,2,     2.42,2, -999.000,9, -999.000,9, -999.000,9,-999.0000,9,  -999.00,9,   -999.0,9,   -999.0,9,   -999.0,9,   -999.0,9,   -999.0,9, -999.00,  -999.0,-999.0000,-999.000,  1.2606,-999.000
   31WTTUNES_2,  P17S,   135,  1,     33,     33,2,19910725,1402,-11.4867,-134.7000, 4282,   3916.8,   1.5430,  34.6892,2,  34.6891,2,    165.8,2,    167.7,2,   134.00,2,    34.50,2,     0.00,2,     2.42,2, -999.000,9, -999.000,9, -999.000,9,-999.0000,9,  -999.00,9,   -999.0,9,   -999.0,9,   -999.0,9,   -999.0,9,   -999.0,9, -999.00,  -999.0,-999.0000,-999.000,  1.2319,-999.000
   31WTTUNES_2,  P17S,   135,  1,     34,     34,2,19910725,1402,-11.4867,-134.7000, 4282,   4118.1,   1.5380,  34.6907,2,  34.6904,2,    169.2,6,    169.4,2,   133.22,2,    34.40,2,     0.00,2,     2.42,2,    0.000,7,    0.000,2, -999.000,9,-999.0000,9,  -999.00,9,   -999.0,9,   -999.0,9,   -999.0,9,   -999.0,9,   -999.0,9, -999.00,  -999.0,-999.0000,-999.000,  1.2050,-999.000
   31WTTUNES_2,  P17S,   135,  1,     35,     35,2,19910725,1402,-11.4867,-134.7000, 4282,   4258.3,   1.5430,  34.6906,2,  34.6908,2,    170.2,2,    170.3,2,   133.12,2,    34.31,2,     0.00,2,     2.40,2, -999.000,9, -999.000,9, -999.000,9,-999.0000,9,  -999.00,9,   -999.0,9,   -999.0,9,   -999.0,9,   -999.0,9,   -999.0,9, -999.00,  -999.0,-999.0000,-999.000,  1.1942,-999.000
   31WTTUNES_2,  P17S,   135,  1,     36,     36,2,19910725,1402,-11.4867,-134.7000, 4282,   4345.7,   1.5410,  34.6919,2,  34.6897,2,    171.5,2,    171.0,2,   132.54,2,    34.31,2,     0.00,2,     2.41,2,    0.000,2,    0.000,2, -999.000,9,-999.0000,9,  -999.00,9,   -999.0,9,   -999.0,9,   -999.0,9,   -999.0,9,   -999.0,9, -999.00,  -999.0,-999.0000,-999.000,  1.1824,-999.000