BOTTLE,20131125MIRCJHATS
EXPOCODE,SECT_ID,STNNBR,CASTNO,SAMPNO,BTLNBR,BTLNBR_FLAG_W,DATE,TIME,LATITUDE,LONGITUDE,DEPTH,CTDPRS,CTDTMP,CTDSAL,CTDSAL_FLAG_W,SALNTY,SALNTY_FLAG_W,CTDOXY,CTDOXY_FLAG_W,OXYGEN,OXYGEN_FLAG_W,SILCAT,SILCAT_FLAG_W,NITRAT,NITRAT_FLAG_W,NITRIT,NITRIT_FLAG_W,PHSPHT,PHSPHT_FLAG_W,CFC-11,CFC-11_FLAG_W,CFC-12,CFC-12_FLAG_W,TRITUM,TRITUM_FLAG_W,HELIUM,HELIUM_FLAG_W,DELHE3,DELHE3_FLAG_W,DELC14,DELC14_FLAG_W,DELC13,DELC13_FLAG_W,TCARBN,TCARBN_FLAG_W,PCO2,PCO2_FLAG_W,ALKALI,ALKALI_FLAG_W,PCO2TMP,C14ERR,HELIER,DELHER,THETA,TRITER
,,,,,,,,,,,,DBAR,ITS-90,PSS-78,,PSS-78,,UMOL/KG,,UMOL/KG,,UMOL/KG,,UMOL/KG,,UMOL/KG,,UMOL/KG,,PMOL/KG,,PMOL/KG,,TU,,NMOL/KG,,PERCNT,,/MILLE,,/MILLE,,UMOL/KG,,UATM,,UMOL/KG,,DEG C,/MILLE,NMOL/KG,PERCNT,DEG C,TU
   31WTTUNES_2,  P17S,   139,  1,      1,      1,2,19910726,1535,-13.4317,-134.2800, 4260,      2.0,  26.6407,  36.3438,2,  36.3485,2,    212.0,3,    212.3,2,     1.66,2,     0.49,2,     0.01,2,     0.28,2,    1.673,2,    0.919,2, -999.000,9,-999.0000,9,  -999.00,9,   -999.0,9,   -999.0,9,   2023.0,2,   -999.0,5,   -999.0,9, -999.00,  -999.0,-999.0000,-999.000, 26.6402,-999.000
   31WTTUNES_2,  P17S,   139,  1,      2,      2,2,19910726,1535,-13.4317,-134.2800, 4260,     34.5,  26.8086,  36.4615,2,  36.4649,2,    209.7,2,    215.9,2,     1.66,2,     0.59,2,     0.01,2,     0.29,2, -999.000,9, -999.000,9, -999.000,9,-999.0000,9,  -999.00,9,   -999.0,9,   -999.0,9,   -999.0,9,   -999.0,9,   -999.0,9, -999.00,  -999.0,-999.0000,-999.000, 26.8007,-999.000
   31WTTUNES_2,  P17S,   139,  1,      3,      3,2,19910726,1535,-13.4317,-134.2800, 4260,     75.4,  26.7826,  36.4604,2,  36.4643,2,    211.9,2,    210.4,2,     1.66,2,     0.68,2,     0.01,2,     0.30,2,    1.690,2,    0.921,2, -999.000,9,-999.0000,9,  -999.00,9,   -999.0,9,   -999.0,9,   -999.0,9,   -999.0,9,   -999.0,9, -999.00,  -999.0,-999.0000,-999.000, 26.7654,-999.000
   31WTTUNES_2,  P17S,   139,  1,      4,      4,2,19910726,1535,-13.4317,-134.2800, 4260,    116.4,  26.7476,  36.4664,2,  36.4461,2,    209.6,2,    213.9,2,     1.66,2,     0.59,2,     0.09,2,     0.32,2, -999.000,9, -999.000,9, -999.000,9,-999.0000,9,  -999.00,9,   -999.0,9,   -999.0,9,   -999.0,9,   -999.0,9,   -999.0,9, -999.00,  -999.0,-999.0000,-999.000, 26.7210,-999.000
   31WTTUNES_2,  P17S,   139,  1,      5,      5,2,19910726,1535,-13.4317,-134.2800, 4260,    157.1,  23.7605,  36.3432,2,  36.3372,2,    194.4,2,    184.9,2,     1.66,2,     1.76,2,     1.05,2,     0.43,2,    1.807,2,    0.978,2, -999.000,9,-999.0000,9,  -999.00,9,   -999.0,9,   -999.0,9,   -999.0,9,   -999.0,9,   -999.0,9, -999.00,  -999.0,-999.0000,-999.000, 23.7275,-999.000
   31WTTUNES_2,  P17S,   139,  1,      6,      6,2,19910726,1535,-13.4317,-134.2800, 4260,    207.3,  21.3483,  36.0678,2,  36.0550,2,    187.2,2,    182.6,2,     1.66,2,     3.61,2,     0.02,2,     0.49,2, -999.000,9, -999.000,9, -999.000,9,-999.0000,9,  -999.00,9,   -999.0,9,   -999.0,9,   -999.0,9,   -999.0,9,   -999.0,9, -999.00,  -999.0,-999.0000,-999.000, 21.3080,-999.000
   31WTTUNES_2,  P17S,   139,  1,      7,      7,2,19910726,1535,-13.4317,-134.2800, 4260,    258.6,  17.9578,  35.4656,2,  35.4539,2,    182.0,2,    172.5,2,     2.05,2,     6.35,2,     0.00,2,     0.66,2,    1.793,2,    0.929,2, -999.000,9,-999.0000,9,  -999.00,9,   -999.0,9,   -999.0,9,   -999.0,9,   -999.0,9,   -999.0,9, -999.00,  -999.0,-999.0000,-999.000, 17.9133,-999.000
   31WTTUNES_2,  P17S,   139,  1,      8,      8,2,19910726,1535,-13.4317,-134.2800, 4260,    320.4,  13.3273,  34.8273,2,  34.8300,2,    124.1,2,    109.5,2,     9.38,2,    17.20,2,     0.00,2,     1.55,2,    1.053,2,    0.548,2, -999.000,9,-999.0000,9,  -999.00,9,   -999.0,9,   -999.0,9,   -999.0,9,   -999.0,9,   -999.0,9, -999.00,  -999.0,-999.0000,-999.000, 13.2823,-999.000
   31WTTUNES_2,  P17S,   139,  1,      9,      9,2,19910726,1535,-13.4317,-134.2800, 4260,    352.0,  12.0141,  34.7189,2,  34.7081,2,     74.7,2,     71.2,2,    15.05,2,    22.58,2,     0.00,2,     2.03,2,    0.662,2,    0.346,2, -999.000,9,-999.0000,9,  -999.00,9,   -999.0,9,   -999.0,9,   -999.0,9,   -999.0,9,   -999.0,9, -999.00,  -999.0,-999.0000,-999.000, 11.9679,-999.000
   31WTTUNES_2,  P17S,   139,  1,     10,     10,2,19910726,1535,-13.4317,-134.2800, 4260,    382.0,  11.0657,  34.6552,2,  34.6489,2,     59.9,2,     51.4,2,    19.26,2,    26.39,2,     0.00,2,     2.32,2,    0.371,2,    0.201,2, -999.000,9,-999.0000,9,  -999.00,9,   -999.0,9,   -999.0,9,   -999.0,9,   -999.0,9,   -999.0,9, -999.00,  -999.0,-999.0000,-999.000, 11.0182,-999.000
   31WTTUNES_2,  P17S,   139,  1,     11,     11,3,19910726,1535,-13.4317,-134.2800, 4260,    412.4,   9.6946,  34.5748,2,  34.6014,2,     71.6,2,     91.2,4,    21.60,2,    29.13,2,     0.00,2,     2.32,2,    0.372,4,    0.346,4, -999.000,9,-999.0000,9,  -999.00,9,   -999.0,9,   -999.0,9,   -999.0,9,   -999.0,9,   -999.0,9, -999.00,  -999.0,-999.0000,-999.000,  9.6474,-999.000
   31WTTUNES_2,  P17S,   139,  1,     12,     12,2,19910726,1535,-13.4317,-134.2800, 4260,    463.7,   8.3835,  34.5705,2,  34.5705,2,     99.1,2,     94.7,2,    26.98,2,    31.08,2,     0.00,2,     2.29,2,    0.056,2,    0.036,2, -999.000,9,-999.0000,9,  -999.00,9,   -999.0,9,   -999.0,9,   -999.0,9,   -999.0,9,   -999.0,9, -999.00,  -999.0,-999.0000,-999.000,  8.3347,-999.000
   31WTTUNES_2,  P17S,   139,  1,     13,     13,2,19910726,1535,-13.4317,-134.2800, 4260,    515.4,   7.3343,  34.5375,2,  34.5381,2,    118.6,2,    117.6,2,    31.96,2,    31.67,2,     0.00,2,     2.26,2, -999.000,9, -999.000,9, -999.000,9,-999.0000,9,  -999.00,9,   -999.0,9,   -999.0,9,   -999.0,9,   -999.0,9,   -999.0,9, -999.00,  -999.0,-999.0000,-999.000,  7.2839,-999.000
   31WTTUNES_2,  P17S,   139,  1,     37,     37,2,19910726,1535,-13.4317,-134.2800, 4260,    567.2,   6.7607,  34.5191,2,  34.5191,2,    122.5,2,    122.2,2,    36.17,2,    32.65,2,     0.00,2,     2.32,2,    0.014,2,    0.012,2, -999.000,9,-999.0000,9,  -999.00,9,   -999.0,9,   -999.0,9,   -999.0,9,   -999.0,9,   -999.0,9, -999.00,  -999.0,-999.0000,-999.000,  6.7076,-999.000
   31WTTUNES_2,  P17S,   139,  1,     15,     15,2,19910726,1535,-13.4317,-134.2800, 4260,    618.8,   6.4519,  34.5121,2,  34.5130,2,    117.9,2,    120.8,2,    39.59,2,    33.43,2,     0.00,2,     2.36,2, -999.000,9, -999.000,9, -999.000,9,-999.0000,9,  -999.00,9,   -999.0,9,   -999.0,9,   -999.0,9,   -999.0,9,   -999.0,9, -999.00,  -999.0,-999.0000,-999.000,  6.3952,-999.000
   31WTTUNES_2,  P17S,   139,  1,     16,     16,2,19910726,1535,-13.4317,-134.2800, 4260,    721.8,   5.7505,  34.4960,2,  34.4977,2,    122.2,2,    123.8,2,    46.82,2,    34.51,2,     0.00,2,     2.44,2, -999.000,9, -999.000,9, -999.000,9,-999.0000,9,  -999.00,9,   -999.0,9,   -999.0,9,   -999.0,9,   -999.0,9,   -999.0,9, -999.00,  -999.0,-999.0000,-999.000,  5.6877,-999.000
   31WTTUNES_2,  P17S,   139,  1,     17,     17,2,19910726,1535,-13.4317,-134.2800, 4260,    823.4,   5.2599,  34.4965,2,  34.4986,2,    121.0,2,    122.8,2,    54.35,2,    35.39,2,     0.00,2,     2.50,2, -999.000,9, -999.000,9, -999.000,9,-999.0000,9,  -999.00,9,   -999.0,9,   -999.0,9,   -999.0,9,   -999.0,9,   -999.0,9, -999.00,  -999.0,-999.0000,-999.000,  5.1907,-999.000
   31WTTUNES_2,  P17S,   139,  1,     18,     18,2,19910726,1535,-13.4317,-134.2800, 4260,    926.0,   4.8312,  34.5057,2,  34.5057,2,    115.1,2,    117.1,2,    62.95,2,    36.66,2,     0.00,2,     2.60,2, -999.000,9, -999.000,9, -999.000,9,-999.0000,9,  -999.00,9,   -999.0,9,   -999.0,9,   -999.0,9,   -999.0,9,   -999.0,9, -999.00,  -999.0,-999.0000,-999.000,  4.7557,-999.000
   31WTTUNES_2,  P17S,   139,  1,     19,     19,2,19910726,1535,-13.4317,-134.2800, 4260,   1028.9,   4.3696,  34.5149,2,  34.5157,2,    119.8,2,    120.6,2,    70.87,2,    36.76,2,     0.00,2,     2.60,2, -999.000,9, -999.000,9, -999.000,9,-999.0000,9,  -999.00,9,   -999.0,9,   -999.0,9,   -999.0,9,   -999.0,9,   -999.0,9, -999.00,  -999.0,-999.0000,-999.000,  4.2886,-999.000
   31WTTUNES_2,  P17S,   139,  1,     20,     20,2,19910726,1535,-13.4317,-134.2800, 4260,   1234.0,   3.7181,  34.5408,2,  34.5434,2,    119.7,2,    118.7,2,    85.63,2,    37.44,2,     0.00,2,     2.66,2, -999.000,9, -999.000,9, -999.000,9,-999.0000,9,  -999.00,9,   -999.0,9,   -999.0,9,   -999.0,9,   -999.0,9,   -999.0,9, -999.00,  -999.0,-999.0000,-999.000,  3.6252,-999.000
   31WTTUNES_2,  P17S,   139,  1,     21,     21,2,19910726,1535,-13.4317,-134.2800, 4260,   1439.0,   3.1786,  34.5711,2,  34.5699,2,    122.7,2,    120.4,2,    98.83,2,    37.63,2,     0.00,2,     2.68,2, -999.000,9, -999.000,9, -999.000,9,-999.0000,9,  -999.00,9,   -999.0,9,   -999.0,9,   -999.0,9,   -999.0,9,   -999.0,9, -999.00,  -999.0,-999.0000,-999.000,  3.0738,-999.000
   31WTTUNES_2,  P17S,   139,  1,     22,     22,2,19910726,1535,-13.4317,-134.2800, 4260,   1642.8,   2.7230,  34.5943,2,  34.5933,2,    130.7,2,    131.1,2,   107.72,2,    36.95,2,     0.00,2,     2.62,2, -999.000,9, -999.000,9, -999.000,9,-999.0000,9,  -999.00,9,   -999.0,9,   -999.0,9,   -999.0,9,   -999.0,9,   -999.0,9, -999.00,  -999.0,-999.0000,-999.000,  2.6065,-999.000
   31WTTUNES_2,  P17S,   139,  1,     23,     23,2,19910726,1535,-13.4317,-134.2800, 4260,   1849.8,   2.3173,  34.6234,2,  34.6243,2,    135.9,2,    135.8,2,   117.78,2,    36.65,2,     0.00,2,     2.59,2, -999.000,9, -999.000,9, -999.000,9,-999.0000,9,  -999.00,9,   -999.0,9,   -999.0,9,   -999.0,9,   -999.0,9,   -999.0,9, -999.00,  -999.0,-999.0000,-999.000,  2.1889,-999.000
   31WTTUNES_2,  P17S,   139,  1,     24,     24,2,19910726,1535,-13.4317,-134.2800, 4260,   2057.7,   2.0725,  34.6449,2,  34.6447,2,    144.2,2,    142.0,2,   123.74,2,    36.26,2,     0.00,2,     2.55,2, -999.000,9, -999.000,9, -999.000,9,-999.0000,9,  -999.00,9,   -999.0,9,   -999.0,9,   -999.0,9,   -999.0,9,   -999.0,9, -999.00,  -999.0,-999.0000,-999.000,  1.9301,-999.000
   31WTTUNES_2,  P17S,   139,  1,     25,     25,2,19910726,1535,-13.4317,-134.2800, 4260,   2263.4,   1.9267,  34.6587,2,  34.6593,2,    145.2,2,    146.0,2,   128.73,2,    35.87,2,     0.00,2,     2.52,2, -999.000,9, -999.000,9, -999.000,9,-999.0000,9,  -999.00,9,   -999.0,9,   -999.0,9,   -999.0,9,   -999.0,9,   -999.0,9, -999.00,  -999.0,-999.0000,-999.000,  1.7688,-999.000
   31WTTUNES_2,  P17S,   139,  1,     26,     26,2,19910726,1535,-13.4317,-134.2800, 4260,   2470.1,   1.8487,  34.6672,2,  34.6665,2,    149.2,2,    147.7,2,   132.15,2,    35.77,2,     0.00,2,     2.51,2, -999.000,9, -999.000,9, -999.000,9,-999.0000,9,  -999.00,9,   -999.0,9,   -999.0,9,   -999.0,9,   -999.0,9,   -999.0,9, -999.00,  -999.0,-999.0000,-999.000,  1.6739,-999.000
   31WTTUNES_2,  P17S,   139,  1,     27,     27,2,19910726,1535,-13.4317,-134.2800, 4260,   2676.2,   1.7848,  34.6711,2,  34.6720,2,    150.9,2,    150.7,2,   133.71,2,    35.68,2,     0.00,2,     2.49,2, -999.000,9, -999.000,9, -999.000,9,-999.0000,9,  -999.00,9,   -999.0,9,   -999.0,9,   -999.0,9,   -999.0,9,   -999.0,9, -999.00,  -999.0,-999.0000,-999.000,  1.5924,-999.000
   31WTTUNES_2,  P17S,   139,  1,     28,     28,2,19910726,1535,-13.4317,-134.2800, 4260,   2883.6,   1.7049,  34.6756,2,  34.6760,2,    155.2,2,    155.6,2,   134.30,2,    35.28,2,     0.00,2,     2.48,2, -999.000,9, -999.000,9, -999.000,9,-999.0000,9,  -999.00,9,   -999.0,9,   -999.0,9,   -999.0,9,   -999.0,9,   -999.0,9, -999.00,  -999.0,-999.0000,-999.000,  1.4947,-999.000
   31WTTUNES_2,  P17S,   139,  1,     29,     29,2,19910726,1535,-13.4317,-134.2800, 4260,   3090.6,   1.6419,  34.6808,2,  34.6799,2,    160.1,2,    159.0,2,   135.08,2,    35.19,2,     0.00,2,     2.45,2, -999.000,9, -999.000,9, -999.000,9,-999.0000,9,  -999.00,9,   -999.0,9,   -999.0,9,   -999.0,9,   -999.0,9,   -999.0,9, -999.00,  -999.0,-999.0000,-999.000,  1.4132,-999.000
   31WTTUNES_2,  P17S,   139,  1,     30,     30,2,19910726,1535,-13.4317,-134.2800, 4260,   3298.9,   1.5840,  34.6828,2,  34.6834,2,    160.6,2,    161.5,2,   136.25,2,    35.09,2,     0.00,2,     2.45,2, -999.000,9, -999.000,9, -999.000,9,-999.0000,9,  -999.00,9,   -999.0,9,   -999.0,9,   -999.0,9,   -999.0,9,   -999.0,9, -999.00,  -999.0,-999.0000,-999.000,  1.3361,-999.000
   31WTTUNES_2,  P17S,   139,  1,     31,     31,2,19910726,1535,-13.4317,-134.2800, 4260,   3505.7,   1.5540,  34.6866,2,  34.6875,2,    162.6,2,    163.9,2,   136.45,2,    34.89,2,     0.00,2,     2.43,2, -999.000,9, -999.000,9, -999.000,9,-999.0000,9,  -999.00,9,   -999.0,9,   -999.0,9,   -999.0,9,   -999.0,9,   -999.0,9, -999.00,  -999.0,-999.0000,-999.000,  1.2859,-999.000
   31WTTUNES_2,  P17S,   139,  1,     32,     32,2,19910726,1535,-13.4317,-134.2800, 4260,   3713.4,   1.5360,  34.6874,2,  34.6881,2,    165.8,2,    166.4,2,   135.86,2,    34.80,2,     0.00,2,     2.43,2, -999.000,9, -999.000,9, -999.000,9,-999.0000,9,  -999.00,9,   -999.0,9,   -999.0,9,   -999.0,9,   -999.0,9,   -999.0,9, -999.00,  -999.0,-999.0000,-999.000,  1.2468,-999.000
   31WTTUNES_2,  P17S,   139,  1,     33,     33,2,19910726,1535,-13.4317,-134.2800, 4260,   3919.5,   1.5190,  34.6892,2,  34.6891,2,    167.9,2,    169.4,2,   134.59,2,    34.60,2,     0.00,2,     2.40,2, -999.000,9, -999.000,9, -999.000,9,-999.0000,9,  -999.00,9,   -999.0,9,   -999.0,9,   -999.0,9,   -999.0,9,   -999.0,9, -999.00,  -999.0,-999.0000,-999.000,  1.2083,-999.000
   31WTTUNES_2,  P17S,   139,  1,     34,     34,2,19910726,1535,-13.4317,-134.2800, 4260,   4127.3,   1.5150,  34.6902,2,  34.6922,2,    172.6,2,    171.4,2,   133.71,2,    34.31,2,     0.00,2,     2.39,2, -999.000,9, -999.000,9, -999.000,9,-999.0000,9,  -999.00,9,   -999.0,9,   -999.0,9,   -999.0,9,   -999.0,9,   -999.0,9, -999.00,  -999.0,-999.0000,-999.000,  1.1817,-999.000
   31WTTUNES_2,  P17S,   139,  1,     35,     35,2,19910726,1535,-13.4317,-134.2800, 4260,   4230.1,   1.5130,  34.6911,2,  34.6905,2,    171.7,2,    172.5,2,   133.51,2,    34.31,2,     0.00,2,     2.39,2,    0.002,2,    0.000,2, -999.000,9,-999.0000,9,  -999.00,9,   -999.0,9,   -999.0,9,   -999.0,9,   -999.0,9,   -999.0,9, -999.00,  -999.0,-999.0000,-999.000,  1.1683,-999.000
   31WTTUNES_2,  P17S,   139,  1,     36,     36,2,19910726,1535,-13.4317,-134.2800, 4260,   4323.7,   1.5180,  34.6924,2,  34.6930,2,    173.0,2,    172.3,2,   133.32,2,    34.31,2,     0.00,2,     2.39,2,    0.001,2,    0.000,2, -999.000,9,-999.0000,9,  -999.00,9,   -999.0,9,   -999.0,9,   -999.0,9,   -999.0,9,   -999.0,9, -999.00,  -999.0,-999.0000,-999.000,  1.1626,-999.000