BOTTLE,20131125MIRCJHATS
EXPOCODE,SECT_ID,STNNBR,CASTNO,SAMPNO,BTLNBR,BTLNBR_FLAG_W,DATE,TIME,LATITUDE,LONGITUDE,DEPTH,CTDPRS,CTDTMP,CTDSAL,CTDSAL_FLAG_W,SALNTY,SALNTY_FLAG_W,CTDOXY,CTDOXY_FLAG_W,OXYGEN,OXYGEN_FLAG_W,SILCAT,SILCAT_FLAG_W,NITRAT,NITRAT_FLAG_W,NITRIT,NITRIT_FLAG_W,PHSPHT,PHSPHT_FLAG_W,CFC-11,CFC-11_FLAG_W,CFC-12,CFC-12_FLAG_W,TRITUM,TRITUM_FLAG_W,HELIUM,HELIUM_FLAG_W,DELHE3,DELHE3_FLAG_W,DELC14,DELC14_FLAG_W,DELC13,DELC13_FLAG_W,TCARBN,TCARBN_FLAG_W,PCO2,PCO2_FLAG_W,ALKALI,ALKALI_FLAG_W,PCO2TMP,C14ERR,HELIER,DELHER,THETA,TRITER
,,,,,,,,,,,,DBAR,ITS-90,PSS-78,,PSS-78,,UMOL/KG,,UMOL/KG,,UMOL/KG,,UMOL/KG,,UMOL/KG,,UMOL/KG,,PMOL/KG,,PMOL/KG,,TU,,NMOL/KG,,PERCNT,,/MILLE,,/MILLE,,UMOL/KG,,UATM,,UMOL/KG,,DEG C,/MILLE,NMOL/KG,PERCNT,DEG C,TU
   31WTTUNES_2,  P16S,   193,  1,     61,     61,2,19910817,0634,-30.9917,-150.5283, 4841,      3.0,  17.2448,  35.4327,2,  35.4361,2,    239.4,3,    236.6,2,     1.62,2,     0.08,2,     0.00,2,     0.11,2,    2.439,6,    1.277,6, -999.000,9,-999.0000,9,  -999.00,9,   -999.0,9,   -999.0,9,   2033.4,2,    332.0,2,   -999.0,9,   20.00,  -999.0,-999.0000,-999.000, 17.2443,-999.000
   31WTTUNES_2,  P16S,   193,  1,      2,      2,2,19910817,0634,-30.9917,-150.5283, 4841,     33.1,  17.2638,  35.4322,2,  35.4360,2,    236.2,6,    236.7,2,     1.60,2,     0.08,2,     0.00,2,     0.11,2,    2.421,2,    1.290,2,    0.907,2,   1.7580,2,    -1.18,2,   -999.0,9,   -999.0,9,   -999.0,9,   -999.0,9,   -999.0,9, -999.00,  -999.0,  0.0080,   0.150, 17.2583,   0.007
   31WTTUNES_2,  P16S,   193,  1,      3,      3,2,19910817,0634,-30.9917,-150.5283, 4841,     74.5,  17.2668,  35.4213,3,  35.4366,2,    224.9,2,    236.6,2,     1.57,2,     0.08,2,     0.00,2,     0.11,2,    2.462,2,    1.287,2, -999.000,9,-999.0000,9,  -999.00,9,   -999.0,9,   -999.0,9,   -999.0,9,   -999.0,9,   -999.0,9, -999.00,  -999.0,-999.0000,-999.000, 17.2544,-999.000
   31WTTUNES_2,  P16S,   193,  1,     64,     64,2,19910817,0634,-30.9917,-150.5283, 4841,    104.9,  17.1758,  35.4164,2,  35.3890,2,    222.3,6,    231.6,2,     1.34,2,     0.47,2,     0.04,2,     0.16,2,    2.401,2,    1.263,2,    0.868,2,   1.7650,2,    -1.19,2,   -999.0,9,   -999.0,9,   -999.0,9,   -999.0,9,   -999.0,9, -999.00,  -999.0,  0.0080,   0.150, 17.1584,   0.007
   31WTTUNES_2,  P16S,   193,  1,      5,      5,2,19910817,0634,-30.9917,-150.5283, 4841,    130.3,  15.7610,  35.2615,2,  35.2489,2,    214.2,6,    218.1,2,     1.52,2,     2.41,2,     0.02,2,     0.33,2,    2.334,2,    1.209,2, -999.000,9,-999.0000,9,  -999.00,9,   -999.0,9,   -999.0,9,   -999.0,9,   -999.0,9,   -999.0,9, -999.00,  -999.0,-999.0000,-999.000, 15.7406,-999.000
   31WTTUNES_2,  P16S,   193,  1,      6,      6,2,19910817,0634,-30.9917,-150.5283, 4841,    155.8,  14.9201,  35.1358,2,  35.1339,2,    220.4,2,    221.9,2,     1.50,2,     2.70,2,     0.01,2,     0.35,2,    2.378,2,    1.262,2,    0.703,2,   1.7650,2,    -0.43,2,   -999.0,9,   -999.0,9,   -999.0,9,   -999.0,9,   -999.0,9, -999.00,  -999.0,  0.0080,   0.150, 14.8966,   0.006
   31WTTUNES_2,  P16S,   193,  1,      7,      7,2,19910817,0634,-30.9917,-150.5283, 4841,    186.6,  14.6062,  35.1548,2,  35.1561,2,    206.3,2,    212.7,2,     1.88,2,     4.44,2,     0.01,2,     0.46,2,    2.257,2,    1.194,2, -999.000,9,-999.0000,9,  -999.00,9,   -999.0,9,   -999.0,9,   -999.0,9,   -999.0,9,   -999.0,9, -999.00,  -999.0,-999.0000,-999.000, 14.5784,-999.000
   31WTTUNES_2,  P16S,   193,  1,     68,     68,2,19910817,0634,-30.9917,-150.5283, 4841,    217.1,  14.0873,  35.1683,2,  35.1660,2,    190.0,2,    195.9,2,     2.66,2,     8.11,2,     0.00,2,     0.67,2,    1.728,2,    0.910,2,    0.575,2,   1.7790,2,     0.54,2,   -999.0,9,   -999.0,9,   -999.0,9,   -999.0,9,   -999.0,9, -999.00,  -999.0,  0.0080,   0.150, 14.0557,   0.007
   31WTTUNES_2,  P16S,   193,  1,     69,     69,2,19910817,0634,-30.9917,-150.5283, 4841,    258.2,  13.2235,  35.0478,2,  35.0610,2,    193.0,2,    197.4,2,     3.04,2,     9.61,2,     0.00,2,     0.76,2,    1.772,2,    0.922,2,    0.526,2,   1.7830,2,     0.26,2,   -999.0,9,   -999.0,9,   -999.0,9,   -999.0,9,   -999.0,9, -999.00,  -999.0,  0.0080,   0.150, 13.1875,   0.005
   31WTTUNES_2,  P16S,   193,  1,     70,     70,2,19910817,0634,-30.9917,-150.5283, 4841,    309.4,  11.4930,  34.8733,2,  34.8727,2,    194.7,2,    197.5,2,     4.23,2,    13.28,2,     0.00,2,     0.98,2,    1.454,2,    0.762,2, -999.000,9,-999.0000,9,  -999.00,9,   -999.0,9,   -999.0,9,   -999.0,9,   -999.0,9,   -999.0,9, -999.00,  -999.0,-999.0000,-999.000, 11.4536,-999.000
   31WTTUNES_2,  P16S,   193,  1,     11,     11,2,19910817,0634,-30.9917,-150.5283, 4841,    359.4,  10.2324,  34.7234,2,  34.7146,2,    204.1,2,    202.5,2,     5.01,2,    16.10,2,     0.00,2,     1.16,2,    1.292,2,    0.663,2,    0.340,2,   1.7780,2,     0.70,2,   -999.0,9,   -999.0,9,   -999.0,9,   -999.0,9,   -999.0,9, -999.00,  -999.0,  0.0080,   0.150, 10.1899,   0.005
   31WTTUNES_2,  P16S,   193,  1,     12,     12,2,19910817,0634,-30.9917,-150.5283, 4841,    411.3,   9.3767,  34.6267,2,  34.6244,2,    211.3,2,    209.4,2,     5.39,2,    17.47,2,     0.00,2,     1.25,2,    1.301,2,    0.679,2, -999.000,9,-999.0000,9,  -999.00,9,   -999.0,9,   -999.0,9,   -999.0,9,   -999.0,9,   -999.0,9, -999.00,  -999.0,-999.0000,-999.000,  9.3305,-999.000
   31WTTUNES_2,  P16S,   193,  1,     13,     13,3,19910817,0634,-30.9917,-150.5283, 4841,    510.9,   7.6245,  34.4610,2,  34.4190,4,    233.1,2,    233.2,4,     8.60,4,    21.75,4,     0.00,4,     1.51,4,    1.033,2,    0.534,2,    0.217,2,   1.7920,2,     0.51,2,   -999.0,9,   -999.0,9,   -999.0,9,   -999.0,9,   -999.0,9, -999.00,  -999.0,  0.0080,   0.150,  7.5735,   0.003
   31WTTUNES_2,  P16S,   193,  1,     37,     37,2,19910817,0634,-30.9917,-150.5283, 4841,    612.5,   6.9198,  34.3948,2,  34.3982,2,    239.1,2,    238.2,2,     8.17,2,    21.94,2,     0.00,2,     1.52,2,    0.976,2,    0.507,2,    0.217,2,   1.7850,2,     0.44,2,   -999.0,9,   -999.0,9,   -999.0,9,   -999.0,9,   -999.0,9, -999.00,  -999.0,  0.0080,   0.150,  6.8616,   0.003
   31WTTUNES_2,  P16S,   193,  1,     15,     15,2,19910817,0634,-30.9917,-150.5283, 4841,    710.9,   6.3661,  34.3524,2,  34.3535,2,    237.4,2,    239.3,2,    10.17,2,    23.36,2,     0.00,2,     1.62,2,    0.682,2,    0.363,2, -999.000,9,-999.0000,9,  -999.00,9,   -999.0,9,   -999.0,9,   -999.0,9,   -999.0,9,   -999.0,9, -999.00,  -999.0,-999.0000,-999.000,  6.3011,-999.000
   31WTTUNES_2,  P16S,   193,  1,     16,     16,2,19910817,0634,-30.9917,-150.5283, 4841,    811.5,   5.8473,  34.3228,2,  34.3248,2,    229.3,2,    231.9,2,    13.58,2,    25.25,2,     0.00,2,     1.76,2,    0.403,2,    0.219,2, -999.000,9,-999.0000,9,  -999.00,9,   -999.0,9,   -999.0,9,   -999.0,9,   -999.0,9,   -999.0,9, -999.00,  -999.0,-999.0000,-999.000,  5.7758,-999.000
   31WTTUNES_2,  P16S,   193,  1,     17,     17,2,19910817,0634,-30.9917,-150.5283, 4841,    916.4,   5.2766,  34.3099,2,  34.3103,2,    213.8,2,    218.9,2,    20.22,2,    27.67,2,     0.00,2,     1.92,2,    0.226,2,    0.129,2, -999.000,9,-999.0000,9,  -999.00,9,   -999.0,9,   -999.0,9,   -999.0,9,   -999.0,9,   -999.0,9, -999.00,  -999.0,-999.0000,-999.000,  5.1992,-999.000
   31WTTUNES_2,  P16S,   193,  1,     18,     18,2,19910817,0634,-30.9917,-150.5283, 4841,   1021.4,   4.6760,  34.3199,2,  34.3203,2,    203.5,2,    205.3,2,    28.68,2,    29.92,2,     0.00,2,     2.08,2,    0.110,2,    0.076,2, -999.000,9,   1.7950,2,     2.65,2,   -999.0,9,   -999.0,9,   -999.0,9,   -999.0,9,   -999.0,9, -999.00,  -999.0,-999.0000,-999.000,  4.5936,-999.000
   31WTTUNES_2,  P16S,   193,  1,     19,     19,2,19910817,0634,-30.9917,-150.5283, 4841,   1123.5,   4.1383,  34.3450,2,  34.3450,2,    188.6,2,    194.2,2,    38.16,2,    31.69,2,     0.00,2,     2.20,2,    0.047,2,    0.033,2, -999.000,9,   1.8080,2,     3.84,2,   -999.0,9,   -999.0,9,   -999.0,9,   -999.0,9,   -999.0,9, -999.00,  -999.0,-999.0000,-999.000,  4.0514,-999.000
   31WTTUNES_2,  P16S,   193,  1,     21,     21,2,19910817,0634,-30.9917,-150.5283, 4841,   1275.5,   3.4397,  34.4126,2,  34.4088,2,    178.5,2,    180.1,2,    54.73,2,    33.38,2,     0.00,2,     2.33,2,    0.011,2,    0.010,2, -999.000,9,   1.8220,2,     7.05,2,   -999.0,9,   -999.0,9,   -999.0,9,   -999.0,9,   -999.0,9, -999.00,  -999.0,-999.0000,-999.000,  3.3463,-999.000
   31WTTUNES_2,  P16S,   193,  1,     20,     20,2,19910817,0634,-30.9917,-150.5283, 4841,   1427.0,   2.9091,  34.4941,2,  34.4924,2,    170.0,2,    169.0,2,    73.18,2,    34.15,2,     0.00,2,     2.40,2,    0.000,2,    0.000,2, -999.000,9,   1.8440,2,    10.58,2,   -999.0,9,   -999.0,9,   -999.0,9,   -999.0,9,   -999.0,9, -999.00,  -999.0,-999.0000,-999.000,  2.8085,-999.000
   31WTTUNES_2,  P16S,   193,  1,     22,     22,2,19910817,0634,-30.9917,-150.5283, 4841,   1628.8,   2.5573,  34.5621,2,  34.5688,2,    160.7,2,    160.3,2,    91.12,2,    34.73,2,     0.00,2,     2.44,2, -999.000,9, -999.000,9, -999.000,9,   1.8700,2,    15.26,2,   -999.0,9,   -999.0,9,   -999.0,9,   -999.0,9,   -999.0,9, -999.00,  -999.0,-999.0000,-999.000,  2.4441,-999.000
   31WTTUNES_2,  P16S,   193,  1,     23,     23,2,19910817,0634,-30.9917,-150.5283, 4841,   1831.2,   2.3124,  34.6108,2,  34.6097,2,    153.7,2,    154.9,2,   105.50,2,    34.88,2,     0.00,2,     2.47,2, -999.000,9, -999.000,9, -999.000,9,   1.8870,2,    20.03,2,   -999.0,9,   -999.0,9,   -999.0,9,   -999.0,9,   -999.0,9, -999.00,  -999.0,-999.0000,-999.000,  2.1856,-999.000
   31WTTUNES_2,  P16S,   193,  1,     24,     24,2,19910817,0634,-30.9917,-150.5283, 4841,   2033.5,   2.1466,  34.6329,2,  34.6325,2,    152.9,2,    152.3,2,   114.81,2,    35.22,2,     0.00,2,     2.49,2, -999.000,9, -999.000,9, -999.000,9,   1.8970,2,    22.78,2,   -999.0,9,   -999.0,9,   -999.0,9,   -999.0,9,   -999.0,9, -999.00,  -999.0,-999.0000,-999.000,  2.0050,-999.000
   31WTTUNES_2,  P16S,   193,  1,     25,     25,2,19910817,0634,-30.9917,-150.5283, 4841,   2237.3,   1.9947,  34.6454,2,  34.6470,2,    151.6,2,    150.7,2,   123.13,2,    35.52,2,     0.00,2,     2.51,2, -999.000,9, -999.000,9, -999.000,9,   1.9070,2,    24.68,2,   -999.0,9,   -999.0,9,   -999.0,9,   -999.0,9,   -999.0,9, -999.00,  -999.0,-999.0000,-999.000,  1.8380,-999.000
   31WTTUNES_2,  P16S,   193,  1,     26,     26,2,19910817,0634,-30.9917,-150.5283, 4841,   2440.2,   1.8877,  34.6079,3,  34.6555,2,    152.6,2,    151.3,2,   127.08,2,    35.47,2,     0.00,2,     2.51,2, -999.000,9, -999.000,9, -999.000,9,   1.9140,2,    24.48,2,   -999.0,9,   -999.0,9,   -999.0,9,   -999.0,9,   -999.0,9, -999.00,  -999.0,-999.0000,-999.000,  1.7151,-999.000
   31WTTUNES_2,  P16S,   193,  1,     27,     27,2,19910817,0634,-30.9917,-150.5283, 4841,   2640.0,   1.7978,  34.6594,2,  34.6633,2,    153.7,2,    152.3,2,   130.21,2,    35.42,2,     0.00,2,     2.50,2, -999.000,9, -999.000,9, -999.000,9,   1.9100,2,    24.33,2,   -999.0,9,   -999.0,9,   -999.0,9,   -999.0,9,   -999.0,9, -999.00,  -999.0,-999.0000,-999.000,  1.6085,-999.000
   31WTTUNES_2,  P16S,   193,  1,     28,     28,2,19910817,0634,-30.9917,-150.5283, 4841,   2835.8,   1.7558,  34.6691,2,  34.6682,2,    153.9,2,    154.2,2,   131.23,2,    35.32,2,     0.00,2,     2.49,2, -999.000,9, -999.000,9, -999.000,9,   1.9020,2,    23.20,2,   -999.0,9,   -999.0,9,   -999.0,9,   -999.0,9,   -999.0,9, -999.00,  -999.0,-999.0000,-999.000,  1.5491,-999.000
   31WTTUNES_2,  P16S,   193,  1,     29,     29,2,19910817,0634,-30.9917,-150.5283, 4841,   3039.6,   1.6559,  34.6793,2,  34.6767,2,    159.9,2,    160.6,2,   130.98,2,    34.88,2,     0.00,2,     2.46,2, -999.000,9, -999.000,9, -999.000,9,   1.8990,2,    21.34,2,   -999.0,9,   -999.0,9,   -999.0,9,   -999.0,9,   -999.0,9, -999.00,  -999.0,-999.0000,-999.000,  1.4318,-999.000
   31WTTUNES_2,  P16S,   193,  1,     30,     30,2,19910817,0634,-30.9917,-150.5283, 4841,   3296.0,   1.5610,  34.6876,2,  34.6859,2,    166.5,2,    168.9,2,   128.42,2,    34.25,2,     0.00,2,     2.41,2, -999.000,9, -999.000,9, -999.000,9,   1.9050,2,    18.94,2,   -999.0,9,   -999.0,9,   -999.0,9,   -999.0,9,   -999.0,9, -999.00,  -999.0,-999.0000,-999.000,  1.3139,-999.000
   31WTTUNES_2,  P16S,   193,  1,     31,     31,2,19910817,0634,-30.9917,-150.5283, 4841,   3556.8,   1.4510,  34.6924,2,  34.6936,2,    175.3,2,    178.3,2,   125.23,2,    33.52,2,     0.00,2,     2.35,2, -999.000,9, -999.000,9, -999.000,9,   1.8920,2,    17.25,2,   -999.0,9,   -999.0,9,   -999.0,9,   -999.0,9,   -999.0,9, -999.00,  -999.0,-999.0000,-999.000,  1.1803,-999.000
   31WTTUNES_2,  P16S,   193,  1,     32,     32,2,19910817,0634,-30.9917,-150.5283, 4841,   3820.5,   1.3461,  34.6989,2,  34.6977,2,    182.8,2,    185.8,2,   124.36,2,    33.09,2,     0.00,2,     2.32,2, -999.000,9, -999.000,9, -999.000,9,   1.8840,2,    14.72,2,   -999.0,9,   -999.0,9,   -999.0,9,   -999.0,9,   -999.0,9, -999.00,  -999.0,-999.0000,-999.000,  1.0506,-999.000
   31WTTUNES_2,  P16S,   193,  1,     33,     33,2,19910817,0634,-30.9917,-150.5283, 4841,   4078.9,   1.2991,  34.7012,2,  34.7007,2,    187.4,2,    190.2,2,   123.70,2,    32.80,2,     0.00,2,     2.30,2, -999.000,9, -999.000,9, -999.000,9,   1.8840,2,    13.77,2,   -999.0,9,   -999.0,9,   -999.0,9,   -999.0,9,   -999.0,9, -999.00,  -999.0,-999.0000,-999.000,  0.9773,-999.000
   31WTTUNES_2,  P16S,   193,  1,     34,     34,2,19910817,0634,-30.9917,-150.5283, 4841,   4339.8,   1.2742,  34.7011,2,  34.7030,2,    189.7,2,    193.1,2,   123.45,2,    32.70,2,     0.00,2,     2.29,2, -999.000,9, -999.000,9, -999.000,9,   1.8820,2,    12.69,2,   -999.0,9,   -999.0,9,   -999.0,9,   -999.0,9,   -999.0,9, -999.00,  -999.0,-999.0000,-999.000,  0.9242,-999.000
   31WTTUNES_2,  P16S,   193,  1,     39,     39,2,19910817,0634,-30.9917,-150.5283, 4841,   4604.2,   1.2672,  34.7047,2,  34.7044,2,    194.6,2,    195.2,2,   122.17,2,    32.41,2,     0.00,2,     2.27,2, -999.000,9, -999.000,9, -999.000,9,   1.8790,2,    11.98,2,   -999.0,9,   -999.0,9,   -999.0,9,   -999.0,9,   -999.0,9, -999.00,  -999.0,-999.0000,-999.000,  0.8874,-999.000
   31WTTUNES_2,  P16S,   193,  1,     38,     38,2,19910817,0634,-30.9917,-150.5283, 4841,   4859.4,   1.2772,  34.7050,2,  34.7056,2,    196.7,2,    196.6,2,   122.13,2,    32.42,2,     0.00,2,     2.27,2, -999.000,9, -999.000,9, -999.000,9,   1.8870,2,    11.74,2,   -999.0,9,   -999.0,9,   -999.0,9,   -999.0,9,   -999.0,9, -999.00,  -999.0,-999.0000,-999.000,  0.8672,-999.000